BOTTLE,20230512CCHSIOCBG
EXPOCODE,SECT_ID,STNNBR,CASTNO,SAMPNO,BTLNBR,BTLNBR_FLAG_W,DATE,TIME,LATITUDE,LONGITUDE,DEPTH,CTDPRS,CTDTMP,CTDSAL,CTDSAL_FLAG_W,SALNTY,SALNTY_FLAG_W,CTDOXY,CTDOXY_FLAG_W,OXYGEN,OXYGEN_FLAG_W,SILCAT,SILCAT_FLAG_W,NITRAT,NITRAT_FLAG_W,NITRIT,NITRIT_FLAG_W,PHSPHT,PHSPHT_FLAG_W,CFC-11,CFC-11_FLAG_W,CFC-12,CFC-12_FLAG_W,SF6,SF6_FLAG_W,TCARBN,TCARBN_FLAG_W,ALKALI,ALKALI_FLAG_W,FCO2,FCO2_FLAG_W,FCO2TMP,PH_TOT,PH_TOT_FLAG_W,PH_TMP,DELC13,DELC13_FLAG_W,DELC14,DELC14_FLAG_W,C14ERR,POC,POC_FLAG_W,DOC,DOC_FLAG_W,TDN,TDN_FLAG_W,N2O,N2O_FLAG_W,BTL_DATE,BTL_TIME,BTL_LAT,BTL_LON,REFTMP,REFTMP_FLAG_W,CTDFLUOR,CTDFLUOR_FLAG_W,CTDXMISS,CTDXMISS_FLAG_W,D15N_NO2+NO3,D15N_NO2+NO3_FLAG_W,D18O_NO2+NO3,D18O_NO2+NO3_FLAG_W,HPLC,HPLC_FLAG_W,MICROGELS,MICROGELS_FLAG_W
,,,,,,,,,,,METERS,DBAR,ITS-90,PSS-78,,PSS-78,,UMOL/KG,,UMOL/KG,,UMOL/KG,,UMOL/KG,,UMOL/KG,,UMOL/KG,,PMOL/KG,,PMOL/KG,,FMOL/KG,,UMOL/KG,,UMOL/KG,,UATM,,DEG C,,,DEG C,/MILLE,,/MILLE,,/MILLE,UG/KG,,UMOL/KG,,UMOL/KG,,NMOL/KG,,,,,,ITS-90,,VOLTS,,VOLTS,,/MILLE,,/MILLE,,,,1E6 GELS/L,
325020210316,        A20,      31,          1,         36,         36,2,20210329,       0216,    32.3057,   -52.3332,       5583,     5.1,  19.7299,  36.6749,2,  36.6748,2,    229.9,2,   229.2,2,    0.49,2,    0.04,2,    0.02,2,    0.00,2,   1.813,2,   1.241,2,    2.01,2,  2096.7,2, 2398.21,2,    359.1,2,    20.00,   8.02603,2,    24.97, -999.00,9, -999.00,9, -999.00,-999.000,9, -999.00,9, -999.00,9,       7.11,2, 20210329,      442,  32.3057, -52.3332,    19.7302,2,     0.0710,1,     4.5949,1,     -999.0,9,     -999.0,9,     -999.0,9,     -999.0,9
325020210316,        A20,      31,          1,         35,         35,2,20210329,       0216,    32.3057,   -52.3332,       5583,    25.8,  19.5068,  36.6605,2,  36.6612,2,    231.7,2,   230.2,2,    0.59,2,    0.15,2,    0.02,2,    0.00,2,-999.000,9,-999.000,9, -999.00,9,  2098.2,2, -999.00,9,   -999.0,9,  -999.00,   8.02216,2,    25.00, -999.00,9, -999.00,9, -999.00,-999.000,9, -999.00,9, -999.00,9,     -999.0,9, 20210329,      439,  32.3057, -52.3332,    19.5076,2,     0.0961,1,     4.5878,1,     -999.0,9,     -999.0,9,     -999.0,9,     -999.0,9
325020210316,        A20,      31,          1,         34,         34,2,20210329,       0216,    32.3057,   -52.3332,       5583,    51.2,  19.3180,  36.6499,2,  36.6505,2,    230.5,3,   221.8,2,    0.68,2,    0.85,2,    0.12,2,    0.01,2,-999.000,9,-999.000,9, -999.00,9,  -999.0,9, -999.00,9,   -999.0,9,  -999.00,-999.00000,9,  -999.00, -999.00,9, -999.00,9, -999.00,-999.000,9, -999.00,9, -999.00,9,     -999.0,9, 20210329,      437,  32.3057, -52.3332,    19.3197,2,     0.0617,1,     4.6646,1,     -999.0,9,     -999.0,9,     -999.0,9,     -999.0,9
325020210316,        A20,      31,          1,         33,         33,2,20210329,       0216,    32.3057,   -52.3332,       5583,    75.3,  19.2503,  36.6484,2,  36.6473,2,    223.5,2,   222.9,2,    0.68,2,    0.80,2,    0.13,2,    0.00,2,-999.000,9,-999.000,9, -999.00,9,  2100.8,2,  2397.3,2,    486.2,3,    20.00,   8.01272,2,    25.05, -999.00,9, -999.00,9, -999.00,-999.000,9, -999.00,9, -999.00,9,     -999.0,9, 20210329,      436,  32.3056, -52.3333,    19.2475,2,     0.0761,1,     4.6518,1,     -999.0,9,     -999.0,9,     -999.0,9,     -999.0,9
325020210316,        A20,      31,          1,         32,         32,4,20210329,       0216,    32.3057,   -52.3332,       5583,   101.6,  19.1921,  36.6466,3,  36.0835,3,    219.7,3,   219.2,3,    4.98,3,    7.90,3,    0.07,3,    0.46,3,-999.000,9,-999.000,9, -999.00,9,  -999.0,9, -999.00,9,   -999.0,9,  -999.00,-999.00000,9,  -999.00, -999.00,9, -999.00,9, -999.00,-999.000,9, -999.00,9, -999.00,9,     -999.0,9, 20210329,      434,  32.3056, -52.3332,    19.1880,3,     0.0548,1,     4.6696,1,     -999.0,9,     -999.0,9,     -999.0,9,     -999.0,9
325020210316,        A20,      31,          1,         31,         31,2,20210329,       0216,    32.3057,   -52.3332,       5583,   151.8,  19.1769,  36.6460,2,  36.6459,2,    218.8,3,   221.7,2,    0.78,2,    1.04,2,    0.12,2,    0.00,2,   1.731,2,   1.249,2,    2.03,2,  2104.1,2, -999.00,9,   -999.0,9,  -999.00,   8.01042,2,    25.01, -999.00,9, -999.00,9, -999.00,-999.000,9, -999.00,9, -999.00,9,       7.22,2, 20210329,      431,  32.3056, -52.3332,    19.1746,2,     0.0479,1,     4.6794,1,     -999.0,9,     -999.0,9,     -999.0,9,     -999.0,9
325020210316,        A20,      31,          1,         30,         30,2,20210329,       0216,    32.3057,   -52.3332,       5583,   201.0,  19.1561,  36.6445,2,  36.6441,2,    219.2,2,   220.6,2,    0.68,2,    1.13,2,    0.14,2,    0.00,2,-999.000,9,-999.000,9, -999.00,9,  2104.1,2, 2395.47,2,   -999.0,9,  -999.00,   8.00594,2,    25.01, -999.00,9, -999.00,9, -999.00,-999.000,9, -999.00,9, -999.00,9,     -999.0,9, 20210329,      429,  32.3057, -52.3332,    19.1577,2,     0.0468,1,     4.6823,1,     -999.0,9,     -999.0,9,     -999.0,9,     -999.0,9
325020210316,        A20,      31,          1,         29,         29,2,20210329,       0216,    32.3057,   -52.3332,       5583,   251.3,  19.0924,  36.6348,2,  36.6326,2,    214.7,2,   216.6,2,    0.68,2,    1.59,2,    0.09,2,    0.02,2,   1.876,2,   1.258,2,    1.96,2,  2106.8,2, -999.00,9,    385.3,2,    20.00,   8.00102,2,    25.03, -999.00,9, -999.00,9, -999.00,-999.000,9, -999.00,9, -999.00,9,       7.41,2, 20210329,      427,  32.3056, -52.3332,    19.0919,2,     0.0437,1,     4.6856,1,     -999.0,9,     -999.0,9,     -999.0,9,     -999.0,9
325020210316,        A20,      31,          1,         28,         28,2,20210329,       0216,    32.3057,   -52.3332,       5583,   301.7,  18.8142,  36.6066,2,  36.6072,2,    218.5,3,   202.6,2,    0.98,2,    3.16,2,    0.00,2,    0.10,2,-999.000,9,-999.000,9, -999.00,9,  -999.0,9, -999.00,9,   -999.0,9,  -999.00,-999.00000,9,  -999.00, -999.00,9, -999.00,9, -999.00,-999.000,9, -999.00,9, -999.00,9,     -999.0,9, 20210329,      425,  32.3057, -52.3332,    18.8181,2,     0.0395,1,     4.6899,1,     -999.0,9,     -999.0,9,     -999.0,9,     -999.0,9
325020210316,        A20,      31,          1,         27,         27,2,20210329,       0216,    32.3057,   -52.3332,       5583,   352.3,  18.6146,  36.5796,2,  36.5803,2,    202.6,2,   201.1,2,    1.17,2,    3.60,2,    0.01,2,    0.13,2,   2.030,2,   1.300,2,    1.81,2,  2123.2,2, 2389.63,2,   -999.0,9,  -999.00,   7.97064,2,    25.01, -999.00,9, -999.00,9, -999.00,-999.000,9, -999.00,9, -999.00,9,       8.21,2, 20210329,      423,  32.3056, -52.3332,    18.6121,2,     0.0408,1,     4.6911,1,     -999.0,9,     -999.0,9,     -999.0,9,     -999.0,9
325020210316,        A20,      31,          1,         26,         26,2,20210329,       0216,    32.3057,   -52.3332,       5583,   401.4,  18.2620,  36.5286,2,  36.5276,2,    194.2,2,   195.8,2,    1.46,2,    4.65,2,    0.00,2,    0.19,2,-999.000,9,-999.000,9, -999.00,9,  -999.0,9, -999.00,9,   -999.0,9,  -999.00,-999.00000,9,  -999.00, -999.00,9, -999.00,9, -999.00,-999.000,9, -999.00,9, -999.00,9,     -999.0,9, 20210329,      421,  32.3056, -52.3332,    18.2639,2,     0.0391,1,     4.6935,1,     -999.0,9,     -999.0,9,     -999.0,9,     -999.0,9
325020210316,        A20,      31,          1,         25,         25,2,20210329,       0216,    32.3057,   -52.3332,       5583,   503.2,  16.8352,  36.2837,2,  36.2822,2,    183.9,3,   185.9,2,    2.44,2,    7.72,2,    0.00,2,    0.38,2,   1.972,2,   1.363,2,    1.64,2,  2143.6,2, 2373.19,2,   -999.0,9,  -999.00,   7.90448,2,    25.02, -999.00,9, -999.00,9, -999.00,-999.000,9, -999.00,9, -999.00,9,      10.92,2, 20210329,      417,  32.3056, -52.3332,    16.8336,2,     0.0396,1,     4.6952,1,     -999.0,9,     -999.0,9,     -999.0,9,     -999.0,9
325020210316,        A20,      31,          1,         24,         24,2,20210329,       0216,    32.3057,   -52.3332,       5583,   603.4,  14.8616,  35.9614,2,  35.9548,2,    171.7,2,   170.9,2,    4.49,2,   12.31,2,    0.00,2,    0.67,2,-999.000,9,-999.000,9, -999.00,9,  2158.8,6, -999.00,9,    581.0,2,    20.00,   7.83622,2,    25.03, -999.00,9, -999.00,9, -999.00,-999.000,9, -999.00,9, -999.00,9,     -999.0,9, 20210329,      415,  32.3056, -52.3332,    14.8708,2,     0.0408,1,     4.6986,1,     -999.0,9,     -999.0,9,     -999.0,9,     -999.0,9
325020210316,        A20,      31,          1,         23,         23,2,20210329,       0216,    32.3057,   -52.3332,       5583,   706.6,  12.6319,  35.6254,2,  35.6244,2,    163.6,3,   160.8,2,    7.62,2,   17.03,2,    0.00,2,    0.99,2,   1.838,2,   1.215,2,    1.15,2,  2174.9,2, 2338.89,2,    688.0,2,    20.00,   7.76698,6,    25.02, -999.00,9, -999.00,9, -999.00,-999.000,9, -999.00,9, -999.00,9,      16.29,2, 20210329,      412,  32.3057, -52.3332,    12.6601,2,     0.0424,1,     4.7008,1,     -999.0,9,     -999.0,9,     -999.0,9,     -999.0,9
325020210316,        A20,      31,          1,         22,         22,2,20210329,       0216,    32.3057,   -52.3332,       5583,   807.0,  10.2044,  35.3346,2,  35.3325,2,    154.9,2,   155.3,2,   11.33,2,   21.18,2,    0.00,2,    1.29,2,-999.000,9,-999.000,9, -999.00,9,  -999.0,9, -999.00,9,   -999.0,9,  -999.00,-999.00000,9,  -999.00, -999.00,9, -999.00,9, -999.00,-999.000,9, -999.00,9, -999.00,9,     -999.0,9, 20210329,      409,  32.3056, -52.3332,    10.1943,2,     0.0422,1,     4.7023,1,     -999.0,9,     -999.0,9,     -999.0,9,     -999.0,9
325020210316,        A20,      31,          1,         21,         21,2,20210329,       0216,    32.3057,   -52.3332,       5583,   909.2,   8.8496,  35.2710,2,  35.2714,2,    167.8,2,   168.1,2,   12.31,2,   21.16,2,    0.00,2,    1.32,2,   1.504,2,   0.933,2,    0.73,2,  2188.6,2, -999.00,9,    817.0,2,    20.00,   7.69499,2,    25.01, -999.00,9, -999.00,9, -999.00,-999.000,9, -999.00,9, -999.00,9,      18.40,2, 20210329,      406,  32.3056, -52.3332,     8.8524,2,     0.0413,1,     4.7045,1,     -999.0,9,     -999.0,9,     -999.0,9,     -999.0,9
325020210316,        A20,      31,          1,         20,         20,2,20210329,       0216,    32.3057,   -52.3332,       5583,  1008.4,   7.9322,  35.2769,2,  35.2769,2,    184.2,2,   184.9,2,   12.60,2,   20.26,2,    0.00,2,    1.29,2,-999.000,9,-999.000,9, -999.00,9,  -999.0,9, -999.00,9,   -999.0,9,  -999.00,-999.00000,9,  -999.00, -999.00,9, -999.00,9, -999.00,-999.000,9, -999.00,9, -999.00,9,     -999.0,9, 20210329,      403,  32.3057, -52.3332,     7.9456,2,     0.0414,1,     4.7057,1,     -999.0,9,     -999.0,9,     -999.0,9,     -999.0,9
325020210316,        A20,      31,          1,         19,         19,2,20210329,       0216,    32.3057,   -52.3332,       5583,  1111.3,   6.5301,  35.1715,2,  35.1709,2,    209.5,2,   210.0,2,   12.50,2,   19.33,2,    0.00,2,    1.23,2,   2.092,2,   1.153,2,    0.92,2,  2186.0,2, -999.00,9,   -999.0,9,  -999.00,   7.69907,2,    25.03, -999.00,9, -999.00,9, -999.00,-999.000,9, -999.00,9, -999.00,9,      15.85,2, 20210329,      400,  32.3056, -52.3332,     6.5323,2,     0.0420,1,     4.7049,1,     -999.0,9,     -999.0,9,     -999.0,9,     -999.0,9
325020210316,        A20,      31,          1,         18,         18,2,20210329,       0216,    32.3057,   -52.3332,       5583,  1211.1,   5.7320,  35.1180,2,  35.1175,2,    227.0,2,   227.0,2,   12.11,2,   18.75,2,    0.00,2,    1.19,2,-999.000,9,-999.000,9, -999.00,9,  -999.0,9, -999.00,9,   -999.0,9,  -999.00,-999.00000,9,  -999.00, -999.00,9, -999.00,9, -999.00,-999.000,9, -999.00,9, -999.00,9,     -999.0,9, 20210329,      357,  32.3057, -52.3332,     5.7355,2,     0.0406,1,     4.7055,1,     -999.0,9,     -999.0,9,     -999.0,9,     -999.0,9
325020210316,        A20,      31,          1,         17,         17,2,20210329,       0216,    32.3057,   -52.3332,       5583,  1312.9,   5.1194,  35.0682,2,  35.0665,2,    242.0,2,   242.4,2,   11.72,2,   18.17,2,    0.00,2,    1.14,2,-999.000,9,-999.000,9, -999.00,9,  2177.1,2, 2314.43,2,    787.1,6,    20.00,   7.70565,2,    25.04, -999.00,9, -999.00,9, -999.00,-999.000,9, -999.00,9, -999.00,9,     -999.0,9, 20210329,      354,  32.3056, -52.3332,     5.1175,2,     0.0422,1,     4.7055,1,     -999.0,9,     -999.0,9,     -999.0,9,     -999.0,9
325020210316,        A20,      31,          1,         16,         16,2,20210329,       0216,    32.3057,   -52.3332,       5583,  1415.4,   4.8392,  35.0536,2,  35.0537,2,    247.1,2,   248.2,2,   11.82,2,   17.92,2,    0.00,2,    1.13,2,-999.000,9,-999.000,9, -999.00,9,  -999.0,9, -999.00,9,   -999.0,9,  -999.00,-999.00000,9,  -999.00, -999.00,9, -999.00,9, -999.00,-999.000,9, -999.00,9, -999.00,9,     -999.0,9, 20210329,      351,  32.3057, -52.3332,     4.8470,2,     0.0412,1,     4.7057,1,     -999.0,9,     -999.0,9,     -999.0,9,     -999.0,9
325020210316,        A20,      31,          1,         15,         15,2,20210329,       0216,    32.3057,   -52.3332,       5583,  1617.9,   4.3569,  35.0107,2,  35.0118,2,    256.9,2,   257.6,2,   12.01,2,   17.48,2,    0.00,2,    1.12,2,-999.000,9,-999.000,9, -999.00,9,  2170.9,2, 2310.03,2,   -999.0,9,  -999.00,   7.71495,6,    24.99, -999.00,9, -999.00,9, -999.00,-999.000,9, -999.00,9, -999.00,9,     -999.0,9, 20210329,      346,  32.3057, -52.3332,     4.3581,2,     0.0419,1,     4.7055,1,     -999.0,9,     -999.0,9,     -999.0,9,     -999.0,9
325020210316,        A20,      31,          1,         14,         14,2,20210329,       0216,    32.3057,   -52.3332,       5583,  1821.1,   4.2035,  35.0248,2,  35.0254,2,    256.0,2,   255.1,2,   13.97,2,   17.75,2,    0.00,2,    1.14,2,   2.052,2,   1.063,2,    0.64,2,  -999.0,9, -999.00,9,   -999.0,9,  -999.00,-999.00000,9,  -999.00, -999.00,9, -999.00,9, -999.00,-999.000,9, -999.00,9, -999.00,9,      14.12,2, 20210329,      340,  32.3056, -52.3332,     4.2042,2,     0.0430,1,     4.7069,1,     -999.0,9,     -999.0,9,     -999.0,9,     -999.0,9
325020210316,        A20,      31,          1,         13,         13,2,20210329,       0216,    32.3057,   -52.3332,       5583,  2024.2,   3.8707,  35.0013,2,  35.0008,2,    258.1,2,   257.3,2,   15.63,2,   17.76,2,    0.00,2,    1.15,2,-999.000,9,-999.000,9, -999.00,9,  2167.9,2, -999.00,9,    747.0,2,    20.00,   7.72829,2,    25.01, -999.00,9, -999.00,9, -999.00,-999.000,9, -999.00,9, -999.00,9,     -999.0,9, 20210329,      336,  32.3057, -52.3332,     3.8685,2,     0.0416,1,     4.7069,1,     -999.0,9,     -999.0,9,     -999.0,9,     -999.0,9
325020210316,        A20,      31,          1,         12,         12,2,20210329,       0216,    32.3057,   -52.3332,       5583,  2279.4,   3.5493,  34.9801,2,  34.9801,2,    257.2,2,   258.5,2,   18.17,2,   17.99,2,    0.00,2,    1.18,2,-999.000,9,-999.000,9, -999.00,9,  -999.0,9, -999.00,9,   -999.0,9,  -999.00,-999.00000,9,  -999.00, -999.00,9, -999.00,9, -999.00,-999.000,9, -999.00,9, -999.00,9,     -999.0,9, 20210329,      331,  32.3057, -52.3332,     3.5512,2,     0.0422,1,     4.7070,1,     -999.0,9,     -999.0,9,     -999.0,9,     -999.0,9
325020210316,        A20,      31,          1,         11,         11,2,20210329,       0216,    32.3057,   -52.3332,       5583,  2532.2,   3.3056,  34.9670,2,  34.9671,2,    258.3,2,   257.5,2,   21.30,2,   18.34,2,    0.00,2,    1.22,2,-999.000,9,-999.000,9, -999.00,9,  2167.7,2, -999.00,9,   -999.0,9,  -999.00,   7.73563,6,    25.02, -999.00,9, -999.00,9, -999.00,-999.000,9, -999.00,9, -999.00,9,     -999.0,9, 20210329,      326,  32.3056, -52.3332,     3.3055,2,     0.0424,1,     4.7068,1,     -999.0,9,     -999.0,9,     -999.0,9,     -999.0,9
325020210316,        A20,      31,          1,         10,         10,2,20210329,       0216,    32.3057,   -52.3332,       5583,  2789.5,   3.0829,  34.9546,2,  34.9538,2,    255.6,2,   256.7,2,   24.52,2,   18.76,2,    0.00,2,    1.25,2,-999.000,9,-999.000,9, -999.00,9,  -999.0,9, -999.00,9,   -999.0,9,  -999.00,-999.00000,9,  -999.00, -999.00,9, -999.00,9, -999.00,-999.000,9, -999.00,9, -999.00,9,     -999.0,9, 20210329,      320,  32.3056, -52.3332,     3.0834,2,     0.0430,1,     4.7071,1,     -999.0,9,     -999.0,9,     -999.0,9,     -999.0,9
325020210316,        A20,      31,          1,          9,          9,2,20210329,       0216,    32.3057,   -52.3332,       5583,  3042.6,   2.8851,  34.9400,2,  34.9593,3,    256.9,2,   256.7,2,   23.93,2,   18.65,2,    0.00,2,    1.25,2,   0.551,2,   0.290,2,    0.22,2,  2170.9,2, 2321.07,2,    730.7,2,    20.00,   7.73822,2,    25.03, -999.00,9, -999.00,9, -999.00,-999.000,9, -999.00,9, -999.00,9,      13.39,2, 20210329,      314,  32.3056, -52.3332,     2.8862,2,     0.0424,1,     4.7071,1,     -999.0,9,     -999.0,9,     -999.0,9,     -999.0,9
325020210316,        A20,      31,          1,          8,          8,2,20210329,       0216,    32.3057,   -52.3332,       5583,  3349.4,   2.6889,  34.9255,2,  34.9246,2,    259.0,2,   259.9,2,   28.52,2,   18.89,2,    0.00,2,    1.28,2,-999.000,9,-999.000,9, -999.00,9,  -999.0,9, -999.00,9,   -999.0,9,  -999.00,-999.00000,9,  -999.00, -999.00,9, -999.00,9, -999.00,-999.000,9, -999.00,9, -999.00,9,     -999.0,9, 20210329,      308,  32.3056, -52.3332,     2.6883,2,     0.0430,1,     4.7073,1,     -999.0,9,     -999.0,9,     -999.0,9,     -999.0,9
325020210316,        A20,      31,          1,          7,          7,2,20210329,       0216,    32.3057,   -52.3332,       5583,  3658.0,   2.5078,  34.9110,2,  34.9103,2,    263.7,2,   264.3,2,   28.13,2,   18.49,2,    0.00,2,    1.26,2,-999.000,9,-999.000,9, -999.00,9,  2170.7,2, -999.00,9,   -999.0,9,  -999.00,   7.74167,2,    25.00, -999.00,9, -999.00,9, -999.00,-999.000,9, -999.00,9, -999.00,9,     -999.0,9, 20210329,      301,  32.3057, -52.3332,     2.5081,2,     0.0425,1,     4.7078,1,     -999.0,9,     -999.0,9,     -999.0,9,     -999.0,9
325020210316,        A20,      31,          1,          6,          6,2,20210329,       0216,    32.3057,   -52.3332,       5583,  4066.7,   2.3330,  34.8957,2,  34.8941,2,    263.2,2,   264.0,2,   31.94,2,   18.87,2,    0.00,2,    1.28,2,-999.000,9,-999.000,9, -999.00,9,  -999.0,9, -999.00,9,   -999.0,9,  -999.00,-999.00000,9,  -999.00, -999.00,9, -999.00,9, -999.00,-999.000,9, -999.00,9, -999.00,9,     -999.0,9, 20210329,      252,  32.3056, -52.3332,     2.3331,2,     0.0429,1,     4.7070,1,     -999.0,9,     -999.0,9,     -999.0,9,     -999.0,9
325020210316,        A20,      31,          1,          5,          5,2,20210329,       0216,    32.3057,   -52.3332,       5583,  4476.5,   2.2393,  34.8829,2,  34.8820,2,    260.1,2,   260.8,2,   37.61,2,   19.75,2,    0.00,2,    1.33,2,-999.000,9,-999.000,9, -999.00,9,  2180.8,2, 2332.14,6,   -999.0,9,  -999.00,   7.72939,2,    25.04, -999.00,9, -999.00,9, -999.00,-999.000,9, -999.00,9, -999.00,9,     -999.0,9, 20210329,      244,  32.3057, -52.3332,     2.2398,2,     0.0430,1,     4.7057,1,     -999.0,9,     -999.0,9,     -999.0,9,     -999.0,9
325020210316,        A20,      31,          1,          4,          4,2,20210329,       0216,    32.3057,   -52.3332,       5583,  4890.3,   2.1400,  34.8660,2,  34.8652,2,    253.7,2,   254.4,2,   46.89,2,   21.16,2,    0.00,2,    1.44,2,   0.302,2,   0.173,2,    0.27,2,  2192.5,2, -999.00,9,    768.9,2,    20.00,   7.72146,2,    25.02, -999.00,9, -999.00,9, -999.00,-999.000,9, -999.00,9, -999.00,9,      14.04,2, 20210329,      236,  32.3057, -52.3332,     2.1401,2,     0.0429,1,     4.6960,1,     -999.0,9,     -999.0,9,     -999.0,9,     -999.0,9
325020210316,        A20,      31,          1,          3,          3,2,20210329,       0216,    32.3057,   -52.3332,       5583,  5302.2,   2.1541,  34.8613,2,  34.8615,2,    250.8,2,   252.8,2,   49.33,2,   21.52,2,    0.00,2,    1.47,2,-999.000,9,-999.000,9, -999.00,9,  2195.5,2, -999.00,9,   -999.0,9,  -999.00,   7.71969,6,    24.99, -999.00,9, -999.00,9, -999.00,-999.000,9, -999.00,9, -999.00,9,     -999.0,9, 20210329,      227,  32.3057, -52.3332,     2.1541,2,     0.0429,1,     4.6848,1,     -999.0,9,     -999.0,9,     -999.0,9,     -999.0,9