BOTTLE,20230512CCHSIOCBG
EXPOCODE,SECT_ID,STNNBR,CASTNO,SAMPNO,BTLNBR,BTLNBR_FLAG_W,DATE,TIME,LATITUDE,LONGITUDE,DEPTH,CTDPRS,CTDTMP,CTDSAL,CTDSAL_FLAG_W,SALNTY,SALNTY_FLAG_W,CTDOXY,CTDOXY_FLAG_W,OXYGEN,OXYGEN_FLAG_W,SILCAT,SILCAT_FLAG_W,NITRAT,NITRAT_FLAG_W,NITRIT,NITRIT_FLAG_W,PHSPHT,PHSPHT_FLAG_W,CFC-11,CFC-11_FLAG_W,CFC-12,CFC-12_FLAG_W,SF6,SF6_FLAG_W,TCARBN,TCARBN_FLAG_W,ALKALI,ALKALI_FLAG_W,FCO2,FCO2_FLAG_W,FCO2TMP,PH_TOT,PH_TOT_FLAG_W,PH_TMP,DELC13,DELC13_FLAG_W,DELC14,DELC14_FLAG_W,C14ERR,POC,POC_FLAG_W,DOC,DOC_FLAG_W,TDN,TDN_FLAG_W,N2O,N2O_FLAG_W,BTL_DATE,BTL_TIME,BTL_LAT,BTL_LON,REFTMP,REFTMP_FLAG_W,CTDFLUOR,CTDFLUOR_FLAG_W,CTDXMISS,CTDXMISS_FLAG_W,D15N_NO2+NO3,D15N_NO2+NO3_FLAG_W,D18O_NO2+NO3,D18O_NO2+NO3_FLAG_W,HPLC,HPLC_FLAG_W,MICROGELS,MICROGELS_FLAG_W
,,,,,,,,,,,METERS,DBAR,ITS-90,PSS-78,,PSS-78,,UMOL/KG,,UMOL/KG,,UMOL/KG,,UMOL/KG,,UMOL/KG,,UMOL/KG,,PMOL/KG,,PMOL/KG,,FMOL/KG,,UMOL/KG,,UMOL/KG,,UATM,,DEG C,,,DEG C,/MILLE,,/MILLE,,/MILLE,UG/KG,,UMOL/KG,,UMOL/KG,,NMOL/KG,,,,,,ITS-90,,VOLTS,,VOLTS,,/MILLE,,/MILLE,,,,1E6 GELS/L,
325020210316,        A20,      76,          1,         36,         36,2,20210411,       0220,     8.5985,   -52.4769,       4671,     4.4,  27.5255,  36.1965,2,  36.1994,2,    201.3,2,   199.7,2,    0.78,2,    0.00,2,    0.00,2,    0.01,2,   1.473,2,   0.937,2,    1.53,2,  2036.6,2, 2369.94,2,    303.8,2,    20.00,   8.08962,2,    24.97, -999.00,9, -999.00,9, -999.00,-999.000,9, -999.00,9, -999.00,9,       5.85,2, 20210411,      430,   8.5985, -52.4769,    27.5245,2,     0.0505,1,     4.6140,1,     -999.0,9,     -999.0,9,     -999.0,9,     -999.0,9
325020210316,        A20,      76,          1,         35,         35,2,20210411,       0220,     8.5985,   -52.4769,       4671,    20.1,  27.5300,  36.1981,2,  36.1945,2,    201.2,2,   199.8,2,    0.68,2,    0.00,2,    0.00,2,    0.00,2,-999.000,9,-999.000,9, -999.00,9,  2037.8,2, 2369.91,6,    304.8,2,    20.00,   8.08948,6,    24.97, -999.00,9, -999.00,9, -999.00,-999.000,9, -999.00,9, -999.00,9,     -999.0,9, 20210411,      428,   8.5985, -52.4769,    27.5284,2,     0.0500,1,     4.6134,1,     -999.0,9,     -999.0,9,     -999.0,9,     -999.0,9
325020210316,        A20,      76,          1,         34,         34,2,20210411,       0220,     8.5985,   -52.4769,       4671,    40.4,  27.4321,  36.2394,2,  36.2416,2,    201.7,2,   200.3,2,    0.78,2,    0.00,2,    0.00,2,    0.00,2,   1.445,2,   0.933,2,    1.53,2,  2039.6,2, 2371.46,2,    306.8,2,    20.00,   8.08839,2,    24.97, -999.00,9, -999.00,9, -999.00,-999.000,9, -999.00,9, -999.00,9,       5.67,2, 20210411,      425,   8.5985, -52.4769,    27.4313,2,     0.0565,1,     4.6171,1,     -999.0,9,     -999.0,9,     -999.0,9,     -999.0,9
325020210316,        A20,      76,          1,         33,         33,2,20210411,       0220,     8.5985,   -52.4769,       4671,    64.9,  27.4071,  36.2605,2,  36.2628,2,    200.4,2,   199.4,2,    0.78,2,    0.00,2,    0.00,2,    0.00,2,-999.000,9,-999.000,9, -999.00,9,  2042.3,2, 2373.44,2,   -999.0,9,  -999.00,   8.08599,2,    24.97, -999.00,9, -999.00,9, -999.00,-999.000,9, -999.00,9, -999.00,9,     -999.0,9, 20210411,      424,   8.5985, -52.4769,    27.4129,2,     0.0617,1,     4.6277,1,     -999.0,9,     -999.0,9,     -999.0,9,     -999.0,9
325020210316,        A20,      76,          1,         32,         32,2,20210411,       0220,     8.5985,   -52.4769,       4671,    90.9,  27.1335,  36.3860,2,  36.3841,2,    193.4,2,   194.5,2,    0.78,2,    0.00,2,    0.00,2,    0.04,2,   1.500,2,   0.959,2,    1.56,2,  2060.4,2, 2382.58,2,    327.4,2,    20.00,   8.06626,2,    24.96, -999.00,9, -999.00,9, -999.00,-999.000,9, -999.00,9, -999.00,9,       5.96,2, 20210411,      422,   8.5985, -52.4769,    27.0879,2,     0.0951,1,     4.6216,1,     -999.0,9,     -999.0,9,     -999.0,9,     -999.0,9
325020210316,        A20,      76,          1,         31,         31,2,20210411,       0220,     8.5985,   -52.4769,       4671,   135.1,  25.2945,  36.6354,2,  36.6338,2,    178.6,3,   181.8,2,    0.97,2,    1.62,2,    0.05,2,    0.19,2,-999.000,9,-999.000,9, -999.00,9,  2101.8,2, 2399.03,2,   -999.0,9,  -999.00,   8.02211,2,    25.04, -999.00,9, -999.00,9, -999.00,-999.000,9, -999.00,9, -999.00,9,     -999.0,9, 20210411,      420,   8.5985, -52.4769,    25.2796,2,     0.0604,1,     4.6576,1,     -999.0,9,     -999.0,9,     -999.0,9,     -999.0,9
325020210316,        A20,      76,          1,         30,         30,2,20210411,       0220,     8.5985,   -52.4769,       4671,   185.8,  19.3298,  36.4993,2,  36.4646,3,    129.0,3,   134.3,2,    3.21,2,   10.63,2,    0.00,2,    0.59,2,   1.945,2,   1.230,2,    1.46,2,  2177.5,2, 2382.18,2,    572.9,2,    20.00,   7.85075,2,    24.99, -999.00,9, -999.00,9, -999.00,-999.000,9, -999.00,9, -999.00,9,      15.62,2, 20210411,      417,   8.5985, -52.4769,    19.3305,2,     0.0452,1,     4.6688,1,     -999.0,9,     -999.0,9,     -999.0,9,     -999.0,9
325020210316,        A20,      76,          1,         29,         29,2,20210411,       0220,     8.5985,   -52.4769,       4671,   235.9,  12.6369,  35.3899,2,  35.3859,2,    121.6,3,   124.1,2,    8.97,2,   21.62,2,    0.00,2,    1.35,2,   2.204,2,   1.255,2,    0.97,2,  2197.1,6, 2325.57,2,   -999.0,9,  -999.00,   7.68163,2,    24.99, -999.00,9, -999.00,9, -999.00,-999.000,9, -999.00,9, -999.00,9,      24.10,2, 20210411,      415,   8.5985, -52.4769,    12.6313,2,     0.0426,1,     4.6727,1,     -999.0,9,     -999.0,9,     -999.0,9,     -999.0,9
325020210316,        A20,      76,          1,         28,         28,2,20210411,       0220,     8.5985,   -52.4769,       4671,   286.6,  10.6026,  35.0934,2,  35.0896,2,    116.5,2,   117.4,2,   11.99,2,   25.78,2,    0.00,2,    1.62,2,-999.000,9,-999.000,9, -999.00,9,  2207.0,2, 2312.87,2,    987.2,2,    20.00,   7.61781,6,    25.02, -999.00,9, -999.00,9, -999.00,-999.000,9, -999.00,9, -999.00,9,     -999.0,9, 20210411,      413,   8.5985, -52.4769,    10.6027,2,     0.0430,1,     4.6723,1,     -999.0,9,     -999.0,9,     -999.0,9,     -999.0,9
325020210316,        A20,      76,          1,         27,         27,2,20210411,       0220,     8.5985,   -52.4769,       4671,   337.1,   9.4739,  34.9080,2,  34.9079,2,    120.9,2,   121.1,2,   13.85,2,   27.76,2,    0.00,2,    1.77,2,   1.973,2,   1.070,2,    0.61,2,  2208.0,2, 2304.46,2,   -999.0,9,  -999.00,   7.59275,2,    24.98, -999.00,9, -999.00,9, -999.00,-999.000,9, -999.00,9, -999.00,9,      27.29,2, 20210411,      409,   8.5985, -52.4769,     9.4748,2,     0.0425,1,     4.6723,1,     -999.0,9,     -999.0,9,     -999.0,9,     -999.0,9
325020210316,        A20,      76,          1,         26,         26,2,20210411,       0220,     8.5985,   -52.4769,       4671,   387.8,   8.7010,  34.8037,2,  34.8049,2,    120.3,2,   120.8,2,   15.70,2,   29.62,2,    0.00,2,    1.88,2,-999.000,9,-999.000,9, -999.00,9,  2213.9,2, 2300.19,2,   1099.2,2,    20.00,   7.56861,2,    24.98, -999.00,9, -999.00,9, -999.00,-999.000,9, -999.00,9, -999.00,9,     -999.0,9, 20210411,      408,   8.5985, -52.4769,     8.7003,2,     0.0429,1,     4.6726,1,     -999.0,9,     -999.0,9,     -999.0,9,     -999.0,9
325020210316,        A20,      76,          1,         25,         25,2,20210411,       0220,     8.5985,   -52.4769,       4671,   438.1,   8.3433,  34.7892,2,  34.7897,2,    118.4,2,   118.1,2,   16.97,2,   30.56,2,    0.00,2,    1.96,2,   1.240,2,   0.845,2,    0.54,2,  2215.9,2, 2300.36,2,   -999.0,9,  -999.00,    7.5572,2,    25.00, -999.00,9, -999.00,9, -999.00,-999.000,9, -999.00,9, -999.00,9,      27.23,2, 20210411,      406,   8.5985, -52.4769,     8.3429,2,     0.0430,1,     4.6743,1,     -999.0,9,     -999.0,9,     -999.0,9,     -999.0,9
325020210316,        A20,      76,          1,         24,         24,2,20210411,       0220,     8.5985,   -52.4769,       4671,   487.4,   7.8541,  34.7380,2,  34.7384,2,    117.6,2,   117.7,2,   18.24,2,   31.62,2,    0.00,2,    2.03,2,-999.000,9,-999.000,9, -999.00,9,  2220.1,6, 2298.87,2,   1163.3,2,    20.00,   7.54488,2,    24.93, -999.00,9, -999.00,9, -999.00,-999.000,9, -999.00,9, -999.00,9,     -999.0,9, 20210411,      404,   8.5985, -52.4769,     7.8558,2,     0.0430,1,     4.6645,1,     -999.0,9,     -999.0,9,     -999.0,9,     -999.0,9
325020210316,        A20,      76,          1,         23,         23,2,20210411,       0220,     8.5985,   -52.4769,       4671,   569.6,   6.9192,  34.6532,2,  34.6561,2,    121.2,2,   120.4,2,   21.26,2,   33.27,2,    0.00,2,    2.17,2,   1.061,2,   0.549,2,    0.29,2,  2223.8,2, 2297.14,2,   1206.5,2,    20.00,   7.52847,2,    24.98, -999.00,9, -999.00,9, -999.00,-999.000,9, -999.00,9, -999.00,9,      26.91,2, 20210411,      401,   8.5985, -52.4769,     6.9268,2,     0.0430,1,     4.6783,1,     -999.0,9,     -999.0,9,     -999.0,9,     -999.0,9
325020210316,        A20,      76,          1,         22,         22,2,20210411,       0220,     8.5985,   -52.4769,       4671,   669.9,   6.1688,  34.6039,2,  34.6050,2,    125.2,2,   124.4,2,   24.39,2,   34.27,2,    0.00,2,    2.26,2,-999.000,9,-999.000,9, -999.00,9,  2225.6,2, 2299.01,2,   -999.0,9,  -999.00,   7.52047,2,    25.00, -999.00,9, -999.00,9, -999.00,-999.000,9, -999.00,9, -999.00,9,     -999.0,9, 20210411,      358,   8.5985, -52.4769,     6.1655,2,     0.0434,1,     4.6810,1,     -999.0,9,     -999.0,9,     -999.0,9,     -999.0,9
325020210316,        A20,      76,          1,         21,         21,2,20210411,       0220,     8.5985,   -52.4769,       4671,   770.7,   5.7814,  34.6072,2,  34.6087,2,    129.4,2,   129.6,2,   26.14,2,   34.21,2,    0.00,2,    2.27,2,   0.520,2,   0.273,2,    0.16,2,  2225.6,2, 2300.04,2,   1209.2,2,    20.00,   7.52712,2,    24.98, -999.00,9, -999.00,9, -999.00,-999.000,9, -999.00,9, -999.00,9,      24.88,2, 20210411,      356,   8.5985, -52.4769,     5.7802,2,     0.0436,1,     4.6790,1,     -999.0,9,     -999.0,9,     -999.0,9,     -999.0,9
325020210316,        A20,      76,          1,         20,         20,2,20210411,       0220,     8.5985,   -52.4769,       4671,   872.0,   5.3805,  34.6047,2,  34.6044,2,    134.9,2,   135.1,2,   27.90,2,   34.45,2,    0.00,2,    2.28,2,-999.000,9,-999.000,9, -999.00,9,  2225.9,2,  2300.4,2,   1197.6,2,    20.00,    7.5328,2,    25.01, -999.00,9, -999.00,9, -999.00,-999.000,9, -999.00,9, -999.00,9,     -999.0,9, 20210411,      352,   8.5985, -52.4769,     5.3775,2,     0.0437,1,     4.6795,1,     -999.0,9,     -999.0,9,     -999.0,9,     -999.0,9
325020210316,        A20,      76,          1,         19,         19,2,20210411,       0220,     8.5985,   -52.4769,       4671,   973.3,   5.1034,  34.6310,2,  34.6303,2,    141.1,2,   140.9,2,   28.77,2,   33.79,2,    0.00,2,    2.25,2,-999.000,9,-999.000,9, -999.00,9,  2224.7,2, 2301.31,2,   -999.0,9,  -999.00,-999.00000,9,  -999.00, -999.00,9, -999.00,9, -999.00,-999.000,9, -999.00,9, -999.00,9,     -999.0,9, 20210411,      350,   8.5985, -52.4769,     5.1024,2,     0.0430,1,     4.6801,1,     -999.0,9,     -999.0,9,     -999.0,9,     -999.0,9
325020210316,        A20,      76,          1,         18,         18,2,20210411,       0220,     8.5985,   -52.4769,       4671,  1073.9,   5.1092,  34.7422,2,  34.7418,2,    151.5,2,   151.3,2,   26.92,2,   31.34,2,    0.00,2,    2.11,2,   0.169,2,   0.092,2,    0.11,2,  2219.9,2,  2308.0,2,   1086.9,2,    20.00,   7.57423,2,    25.00, -999.00,9, -999.00,9, -999.00,-999.000,9, -999.00,9, -999.00,9,      22.40,2, 20210411,      346,   8.5985, -52.4769,     5.1083,2,     0.0436,1,     4.6816,1,     -999.0,9,     -999.0,9,     -999.0,9,     -999.0,9
325020210316,        A20,      76,          1,         17,         17,2,20210411,       0220,     8.5985,   -52.4769,       4671,  1176.2,   4.9772,  34.8627,2,  34.8635,2,    176.1,2,   176.3,2,   23.31,2,   27.42,2,    0.00,2,    1.84,2,   0.245,2,   0.167,2,    0.23,2,  2207.2,2, 2311.31,2,    962.0,6,    20.00,   7.62655,2,    25.03, -999.00,9, -999.00,9, -999.00,-999.000,9, -999.00,9, -999.00,9,      19.68,2, 20210411,      343,   8.5985, -52.4769,     4.9769,2,     0.0429,1,     4.6838,1,     -999.0,9,     -999.0,9,     -999.0,9,     -999.0,9
325020210316,        A20,      76,          1,         16,         16,2,20210411,       0220,     8.5985,   -52.4769,       4671,  1276.5,   4.8447,  34.9414,2,  34.9378,2,    201.0,2,   200.5,2,   19.89,2,   24.06,2,    0.00,2,    1.61,2,-999.000,9,-999.000,9, -999.00,9,  2194.2,2, 2312.44,2,    874.4,2,    20.00,   7.66707,6,    25.03, -999.00,9, -999.00,9, -999.00,-999.000,9, -999.00,9, -999.00,9,     -999.0,9, 20210411,      340,   8.5985, -52.4769,     4.8445,2,     0.0430,1,     4.6839,1,     -999.0,9,     -999.0,9,     -999.0,9,     -999.0,9
325020210316,        A20,      76,          1,         15,         15,2,20210411,       0220,     8.5985,   -52.4769,       4671,  1377.8,   4.7116,  34.9462,2,  34.9461,2,    208.2,2,   208.2,2,   19.31,2,   23.25,2,    0.00,2,    1.56,2,   0.679,2,   0.345,2,    0.22,2,  2190.9,2,  2314.3,2,   -999.0,9,  -999.00,   7.67629,2,    25.02, -999.00,9, -999.00,9, -999.00,-999.000,9, -999.00,9, -999.00,9,      16.77,2, 20210411,      337,   8.5985, -52.4769,     4.7112,2,     0.0429,1,     4.6852,1,     -999.0,9,     -999.0,9,     -999.0,9,     -999.0,9
325020210316,        A20,      76,          1,         14,         14,2,20210411,       0220,     8.5985,   -52.4769,       4671,  1478.4,   4.6097,  34.9709,2,  34.9724,2,    220.5,2,   220.6,2,   17.75,2,   21.89,2,    0.00,2,    1.45,2,-999.000,9,-999.000,9, -999.00,9,  2185.0,2, 2315.18,2,    818.5,2,    20.00,   7.69249,2,    25.00, -999.00,9, -999.00,9, -999.00,-999.000,9, -999.00,9, -999.00,9,     -999.0,9, 20210411,      334,   8.5985, -52.4769,     4.6097,2,     0.0429,1,     4.6860,1,     -999.0,9,     -999.0,9,     -999.0,9,     -999.0,9
325020210316,        A20,      76,          1,         13,         13,2,20210411,       0220,     8.5985,   -52.4769,       4671,  1580.4,   4.5660,  35.0054,2,  35.0059,2,    239.4,2,   239.7,2,   14.72,2,   19.42,2,    0.00,2,    1.28,2,   1.619,2,   0.830,2,    0.45,2,  2178.0,2, 2312.67,2,    783.9,2,    20.00,   7.71245,2,    25.00, -999.00,9, -999.00,9, -999.00,-999.000,9, -999.00,9, -999.00,9,      14.91,2, 20210411,      331,   8.5985, -52.4769,     4.5656,2,     0.0419,1,     4.6825,1,     -999.0,9,     -999.0,9,     -999.0,9,     -999.0,9
325020210316,        A20,      76,          1,         12,         12,2,20210411,       0220,     8.5985,   -52.4769,       4671,  1752.4,   4.2400,  34.9973,2,  34.9951,2,    250.7,2,   250.3,2,   14.14,2,   18.52,2,    0.00,2,    1.22,2,   1.289,2,   0.877,2,    0.43,2,  2177.0,2, 2312.49,2,    765.9,2,    20.00,   7.72073,2,    25.00, -999.00,9, -999.00,9, -999.00,-999.000,9, -999.00,9, -999.00,9,      13.81,2, 20210411,      327,   8.5985, -52.4769,     4.2396,2,     0.0429,1,     4.6862,1,     -999.0,9,     -999.0,9,     -999.0,9,     -999.0,9
325020210316,        A20,      76,          1,         11,         11,2,20210411,       0220,     8.5985,   -52.4769,       4671,  1954.5,   3.8708,  34.9813,2,  34.9819,2,    258.1,2,   257.8,2,   14.72,2,   18.06,2,    0.00,2,    1.20,2,-999.000,9,-999.000,9, -999.00,9,  2171.9,2, 2312.35,2,   -999.0,9,  -999.00,   7.72798,2,    25.01, -999.00,9, -999.00,9, -999.00,-999.000,9, -999.00,9, -999.00,9,     -999.0,9, 20210411,      322,   8.5985, -52.4769,     3.8705,2,     0.0423,1,     4.6861,1,     -999.0,9,     -999.0,9,     -999.0,9,     -999.0,9
325020210316,        A20,      76,          1,         10,         10,2,20210411,       0220,     8.5985,   -52.4769,       4671,  2189.0,   3.5149,  34.9657,2,  34.9632,3,    257.3,2,   257.5,2,   18.04,2,   18.50,2,    0.00,2,    1.24,2,   0.964,2,   0.479,2,    0.31,2,  2169.6,2, 2312.82,6,    741.8,2,    20.00,   7.73196,2,    25.00, -999.00,9, -999.00,9, -999.00,-999.000,9, -999.00,9, -999.00,9,      13.45,2, 20210411,      316,   8.5985, -52.4769,     3.5147,2,     0.0424,1,     4.6880,1,     -999.0,9,     -999.0,9,     -999.0,9,     -999.0,9
325020210316,        A20,      76,          1,          9,          9,2,20210411,       0220,     8.5985,   -52.4769,       4671,  2442.9,   3.3125,  34.9567,2,  34.9538,3,    261.2,2,   260.8,2,   18.63,2,   18.15,2,    0.00,2,    1.21,2,-999.000,9,-999.000,9, -999.00,9,  2173.5,2, 2312.63,2,   -999.0,9,  -999.00,    7.7351,6,    25.01, -999.00,9, -999.00,9, -999.00,-999.000,9, -999.00,9, -999.00,9,     -999.0,9, 20210411,      311,   8.5985, -52.4769,     3.3121,2,     0.0412,1,     4.6883,1,     -999.0,9,     -999.0,9,     -999.0,9,     -999.0,9
325020210316,        A20,      76,          1,          8,          8,2,20210411,       0220,     8.5985,   -52.4769,       4671,  2697.4,   3.1071,  34.9468,2,  34.9467,2,    261.5,2,   261.5,2,   20.67,2,   18.28,2,    0.00,2,    1.22,2,   0.896,2,   0.453,2,    0.29,2,  2172.2,2, 2318.69,2,    737.4,2,    20.00,   7.73703,2,    25.00, -999.00,9, -999.00,9, -999.00,-999.000,9, -999.00,9, -999.00,9,      13.26,2, 20210411,      305,   8.5985, -52.4769,     3.1068,2,     0.0425,1,     4.6886,1,     -999.0,9,     -999.0,9,     -999.0,9,     -999.0,9
325020210316,        A20,      76,          1,          7,          7,2,20210411,       0220,     8.5985,   -52.4769,       4671,  2952.4,   2.8857,  34.9344,2,  34.9345,2,    261.2,2,   261.2,2,   23.60,2,   18.65,2,    0.00,2,    1.24,2,   0.766,3,   0.382,6,    0.29,2,  2175.1,2, 2319.82,2,   -999.0,9,  -999.00,   7.73717,2,    25.00, -999.00,9, -999.00,9, -999.00,-999.000,9, -999.00,9, -999.00,9,      13.34,6, 20210411,      259,   8.5985, -52.4769,     2.8856,2,     0.0422,1,     4.6878,1,     -999.0,9,     -999.0,9,     -999.0,9,     -999.0,9
325020210316,        A20,      76,          1,          6,          6,2,20210411,       0220,     8.5985,   -52.4769,       4671,  3242.7,   2.6982,  34.9222,2,  34.9219,2,    261.3,2,   261.3,2,   26.43,2,   18.85,2,    0.00,2,    1.26,2,-999.000,9,-999.000,9, -999.00,9,  2176.7,2, 2322.05,2,    739.1,2,    20.00,   7.73486,2,    24.99, -999.00,9, -999.00,9, -999.00,-999.000,9, -999.00,9, -999.00,9,     -999.0,9, 20210411,      252,   8.5985, -52.4769,     2.6980,2,     0.0429,1,     4.6893,1,     -999.0,9,     -999.0,9,     -999.0,9,     -999.0,9
325020210316,        A20,      76,          1,          5,          5,2,20210411,       0220,     8.5985,   -52.4769,       4671,  3550.4,   2.5389,  34.9107,2,  34.9103,2,    263.0,2,   262.6,2,   27.89,2,   18.79,2,    0.00,2,    1.26,2,   0.794,2,   0.403,2,    0.26,2,  2178.9,2,  2322.7,2,   -999.0,9,  -999.00,   7.73532,6,    25.00, -999.00,9, -999.00,9, -999.00,-999.000,9, -999.00,9, -999.00,9,      13.14,2, 20210411,      246,   8.5985, -52.4769,     2.5388,2,     0.0423,1,     4.6886,1,     -999.0,9,     -999.0,9,     -999.0,9,     -999.0,9
325020210316,        A20,      76,          1,          4,          4,2,20210411,       0220,     8.5985,   -52.4769,       4671,  3856.4,   2.3661,  34.8985,2,  34.9000,2,    265.2,2,   264.7,2,   29.35,2,   18.67,2,    0.00,2,    1.26,2,   0.900,2,   0.445,2,    0.23,2,  2181.1,2,  2321.6,2,    743.5,2,    20.00,   7.73414,2,    25.00, -999.00,9, -999.00,9, -999.00,-999.000,9, -999.00,9, -999.00,9,      12.93,2, 20210411,      239,   8.5985, -52.4769,     2.3654,2,     0.0428,1,     4.6909,1,     -999.0,9,     -999.0,9,     -999.0,9,     -999.0,9
325020210316,        A20,      76,          1,          3,          3,2,20210411,       0220,     8.5985,   -52.4769,       4671,  4163.8,   2.2610,  34.8878,2,  34.8890,2,    262.8,2,   263.3,2,   33.74,2,   19.27,2,    0.00,2,    1.30,2,   0.753,2,   0.380,2,    0.20,2,  2185.6,2, 2324.98,2,    749.1,2,    20.00,    7.7313,6,    24.99, -999.00,9, -999.00,9, -999.00,-999.000,9, -999.00,9, -999.00,9,      13.69,2, 20210411,      231,   8.5985, -52.4769,     2.2610,2,     0.0426,1,     4.6834,1,     -999.0,9,     -999.0,9,     -999.0,9,     -999.0,9