BOTTLE,20230512CCHSIOCBG
EXPOCODE,SECT_ID,STNNBR,CASTNO,SAMPNO,BTLNBR,BTLNBR_FLAG_W,DATE,TIME,LATITUDE,LONGITUDE,DEPTH,CTDPRS,CTDTMP,CTDSAL,CTDSAL_FLAG_W,SALNTY,SALNTY_FLAG_W,CTDOXY,CTDOXY_FLAG_W,OXYGEN,OXYGEN_FLAG_W,SILCAT,SILCAT_FLAG_W,NITRAT,NITRAT_FLAG_W,NITRIT,NITRIT_FLAG_W,PHSPHT,PHSPHT_FLAG_W,CFC-11,CFC-11_FLAG_W,CFC-12,CFC-12_FLAG_W,SF6,SF6_FLAG_W,TCARBN,TCARBN_FLAG_W,ALKALI,ALKALI_FLAG_W,FCO2,FCO2_FLAG_W,FCO2TMP,PH_TOT,PH_TOT_FLAG_W,PH_TMP,DELC13,DELC13_FLAG_W,DELC14,DELC14_FLAG_W,C14ERR,POC,POC_FLAG_W,DOC,DOC_FLAG_W,TDN,TDN_FLAG_W,N2O,N2O_FLAG_W,BTL_DATE,BTL_TIME,BTL_LAT,BTL_LON,REFTMP,REFTMP_FLAG_W,CTDFLUOR,CTDFLUOR_FLAG_W,CTDXMISS,CTDXMISS_FLAG_W,D15N_NO2+NO3,D15N_NO2+NO3_FLAG_W,D18O_NO2+NO3,D18O_NO2+NO3_FLAG_W,HPLC,HPLC_FLAG_W,MICROGELS,MICROGELS_FLAG_W
,,,,,,,,,,,METERS,DBAR,ITS-90,PSS-78,,PSS-78,,UMOL/KG,,UMOL/KG,,UMOL/KG,,UMOL/KG,,UMOL/KG,,UMOL/KG,,PMOL/KG,,PMOL/KG,,FMOL/KG,,UMOL/KG,,UMOL/KG,,UATM,,DEG C,,,DEG C,/MILLE,,/MILLE,,/MILLE,UG/KG,,UMOL/KG,,UMOL/KG,,NMOL/KG,,,,,,ITS-90,,VOLTS,,VOLTS,,/MILLE,,/MILLE,,,,1E6 GELS/L,
325020210316,        A20,      50,          1,         36,         36,2,20210403,       2102,    21.2233,   -52.3343,       5018,     5.0,  24.9671,  37.2464,2,  37.2481,2,    207.1,2,   206.7,2,    0.58,2,    0.03,2,    0.00,2,    0.00,2,   1.490,2,   1.008,2,    1.63,2,  2091.2,6, 2437.09,2,    303.7,2,    20.00,   8.08895,2,    24.97, -999.00,9, -999.00,9, -999.00,-999.000,9,   81.23,2,    4.80,2,       6.66,2, 20210403,     2317,  21.2233, -52.3343,    24.9647,2,     0.0412,1,     4.6441,1,     -999.0,9,     -999.0,9,     -999.0,9,     -999.0,9
325020210316,        A20,      50,          1,         35,         35,2,20210403,       2102,    21.2233,   -52.3343,       5018,    20.1,  24.9306,  37.2543,2,  37.2562,2,    207.2,2,   207.0,2,    0.49,2,    0.03,2,    0.00,2,    0.00,2,-999.000,9,-999.000,9, -999.00,9,  2090.1,2, 2436.95,2,    303.8,2,    20.00,   8.09018,2,    25.02, -999.00,9, -999.00,9, -999.00,-999.000,9,   80.12,2,    5.97,2,     -999.0,9, 20210403,     2316,  21.2234, -52.3343,    24.9217,2,     0.0431,1,     4.6404,1,     -999.0,9,     -999.0,9,     -999.0,9,     -999.0,9
325020210316,        A20,      50,          1,         34,         34,2,20210403,       2102,    21.2233,   -52.3343,       5018,    39.7,  24.9035,  37.2753,2,  37.2779,2,    207.0,2,   206.8,2,    0.49,2,    0.02,2,    0.00,2,    0.00,2,   1.393,2,   0.999,2,    1.72,2,  2091.5,2, 2440.06,2,    303.9,2,    20.00,   8.08929,2,    25.02, -999.00,9, -999.00,9, -999.00,-999.000,9,   80.88,2,    5.06,2,       6.52,2, 20210403,     2314,  21.2234, -52.3343,    24.9055,2,     0.0453,1,     4.6412,1,     -999.0,9,     -999.0,9,     -999.0,9,     -999.0,9
325020210316,        A20,      50,          1,         33,         33,2,20210403,       2102,    21.2233,   -52.3343,       5018,    66.0,  24.9385,  37.2922,2,  37.2964,2,    207.0,2,   206.9,2,    0.58,2,    0.03,2,    0.00,2,    0.00,2,-999.000,9,-999.000,9, -999.00,9,  2092.6,2, 2439.21,2,    304.1,2,    20.00,   8.08952,6,    24.98, -999.00,9, -999.00,9, -999.00,-999.000,9,   79.34,2,    4.37,2,     -999.0,9, 20210403,     2312,  21.2234, -52.3342,    24.9347,2,     0.0465,1,     4.6419,1,     -999.0,9,     -999.0,9,     -999.0,9,     -999.0,9
325020210316,        A20,      50,          1,         32,         32,2,20210403,       2102,    21.2233,   -52.3343,       5018,    90.6,  25.0251,  37.4062,2,  37.4078,2,    206.6,2,   206.7,2,    0.58,2,    0.03,2,    0.00,2,    0.00,2,   1.577,2,   1.013,2,    1.74,2,  2097.9,2, 2446.85,2,    306.0,2,    20.00,   8.08979,2,    25.00, -999.00,9, -999.00,9, -999.00,-999.000,9,   79.96,2,    4.33,2,       6.55,2, 20210403,     2310,  21.2233, -52.3343,    25.0253,2,     0.0531,1,     4.6477,1,     -999.0,9,     -999.0,9,     -999.0,9,     -999.0,9
325020210316,        A20,      50,          1,         31,         31,2,20210403,       2102,    21.2233,   -52.3343,       5018,   135.2,  24.7071,  37.4194,2,  37.4209,2,    203.9,2,   205.0,2,    0.49,2,    0.04,2,    0.00,2,    0.00,2,-999.000,9,-999.000,9, -999.00,9,  2107.1,2, 2448.09,2,    317.5,2,    20.00,   8.07673,2,    25.03, -999.00,9, -999.00,9, -999.00,-999.000,9,   75.80,2,    5.01,2,     -999.0,9, 20210403,     2307,  21.2234, -52.3342,    24.7074,2,     0.0623,1,     4.6545,1,     -999.0,9,     -999.0,9,     -999.0,9,     -999.0,9
325020210316,        A20,      50,          1,         30,         30,2,20210403,       2102,    21.2233,   -52.3343,       5018,   186.5,  21.9476,  37.1113,2,  37.1100,2,    188.3,2,   189.4,2,    0.49,2,    0.74,2,    0.04,2,    0.00,2,   1.791,2,   1.161,2,    1.71,2,  2137.7,2, 2435.83,2,    390.7,2,    20.00,   7.99692,2,    24.99, -999.00,9, -999.00,9, -999.00,-999.000,9,   60.81,2,    5.19,2,       8.09,2, 20210403,     2305,  21.2234, -52.3343,    21.9464,2,     0.0673,1,     4.6691,1,     -999.0,9,     -999.0,9,     -999.0,9,     -999.0,9
325020210316,        A20,      50,          1,         29,         29,2,20210403,       2102,    21.2233,   -52.3343,       5018,   235.8,  19.8457,  36.8181,2,  36.7982,2,    168.8,3,   170.7,2,    1.17,2,    4.70,2,    0.00,2,    0.20,2,-999.000,9,-999.000,9, -999.00,9,  2158.2,2, 2405.05,6,    462.2,2,    20.00,    7.9322,2,    25.00, -999.00,9, -999.00,9, -999.00,-999.000,9,   52.10,2,    7.56,2,     -999.0,9, 20210403,     2302,  21.2234, -52.3342,    19.8464,2,     0.0420,1,     4.6862,1,     -999.0,9,     -999.0,9,     -999.0,9,     -999.0,9
325020210316,        A20,      50,          1,         28,         28,2,20210403,       2102,    21.2233,   -52.3343,       5018,   287.3,  17.8994,  36.4956,2,  36.4895,2,    171.3,2,   170.4,2,    1.95,2,    7.52,2,    0.00,2,    0.36,2,   2.030,2,   1.326,2,    1.63,2,  2158.4,2, 2386.93,2,    497.1,2,    20.00,   7.89993,2,    25.03, -999.00,9, -999.00,9, -999.00,-999.000,9,   49.29,2,    9.91,2,      12.29,2, 20210403,     2301,  21.2234, -52.3342,    17.9260,2,     0.0408,1,     4.6893,1,     -999.0,9,     -999.0,9,     -999.0,9,     -999.0,9
325020210316,        A20,      50,          1,         27,         27,2,20210403,       2102,    21.2233,   -52.3343,       5018,   336.0,  16.8513,  36.3183,2,  36.3150,2,    156.5,3,   158.3,2,    2.63,2,   10.38,2,    0.00,2,    0.54,2,-999.000,9,-999.000,9, -999.00,9,  2168.9,2, 2374.78,2,    553.8,2,    20.00,    7.8578,6,    25.03, -999.00,9, -999.00,9, -999.00,-999.000,9,   47.79,2,   13.58,2,     -999.0,9, 20210403,     2259,  21.2234, -52.3343,    16.8521,2,     0.0398,1,     4.6899,1,     -999.0,9,     -999.0,9,     -999.0,9,     -999.0,9
325020210316,        A20,      50,          1,         26,         26,2,20210403,       2102,    21.2233,   -52.3343,       5018,   387.9,  15.8977,  36.1659,2,  36.1670,2,    173.6,2,   172.9,2,    3.02,2,   10.12,2,    0.00,2,    0.53,2,   2.203,2,   1.382,2,    1.51,2,  2166.2,2,  2368.9,2,    544.8,2,    20.00,   7.86302,2,    25.02, -999.00,9, -999.00,9, -999.00,-999.000,9,   46.94,2,   12.93,2,      13.60,2, 20210403,     2257,  21.2234, -52.3342,    15.9015,2,     0.0407,1,     4.6915,1,     -999.0,9,     -999.0,9,     -999.0,9,     -999.0,9
325020210316,        A20,      50,          1,         25,         25,2,20210403,       2102,    21.2233,   -52.3343,       5018,   468.7,  14.1999,  35.9183,2,  35.9168,2,    164.9,2,   164.5,2,    4.59,2,   13.56,2,    0.00,2,    0.74,2,-999.000,9,-999.000,9, -999.00,9,  2175.6,2, 2354.99,2,    617.2,2,    20.00,   7.81222,2,    25.01, -999.00,9, -999.00,9, -999.00,-999.000,9,   47.81,2,   15.98,2,     -999.0,9, 20210403,     2254,  21.2234, -52.3343,    14.2028,2,     0.0403,1,     4.6934,1,     -999.0,9,     -999.0,9,     -999.0,9,     -999.0,9
325020210316,        A20,      50,          1,         24,         24,2,20210403,       2102,    21.2233,   -52.3343,       5018,   568.9,  12.0601,  35.6297,2,  35.6285,2,    152.0,2,   152.0,2,    7.61,2,   18.57,2,    0.00,2,    1.05,2,   1.919,2,   1.127,2,    0.82,2,  2188.9,2, 2339.44,2,    726.8,2,    20.00,   7.74738,2,    25.01, -999.00,9, -999.00,9, -999.00,-999.000,9, -999.00,9, -999.00,9,      17.53,2, 20210403,     2251,  21.2234, -52.3343,    12.0640,2,     0.0406,1,     4.6959,1,     -999.0,9,     -999.0,9,     -999.0,9,     -999.0,9
325020210316,        A20,      50,          1,         23,         23,2,20210403,       2102,    21.2233,   -52.3343,       5018,   670.4,   9.8024,  35.3111,2,  35.3078,2,    136.8,2,   136.1,2,   13.18,2,   24.40,2,    0.00,2,    1.46,2,-999.000,9,-999.000,9, -999.00,9,  2206.1,2, 2324.19,2,    868.5,2,    20.00,   7.67405,2,    25.02, -999.00,9, -999.00,9, -999.00,-999.000,9,   44.46,2,   27.11,2,     -999.0,9, 20210403,     2248,  21.2234, -52.3343,     9.8208,2,     0.0411,1,     4.6984,1,     -999.0,9,     -999.0,9,     -999.0,9,     -999.0,9
325020210316,        A20,      50,          1,         22,         22,2,20210403,       2102,    21.2233,   -52.3343,       5018,   770.7,   7.6815,  34.9843,2,  34.9815,2,    129.2,2,   129.3,2,   19.34,2,   29.45,2,    0.00,2,    1.85,2,   0.720,2,   0.347,2,    0.23,2,  2217.0,6, 2313.76,2,   1018.4,2,    20.00,   7.60643,2,    25.00, -999.00,9, -999.00,9, -999.00,-999.000,9, -999.00,9, -999.00,9,      24.77,2, 20210403,     2244,  21.2234, -52.3343,     7.6801,2,     0.0428,1,     4.6983,1,     -999.0,9,     -999.0,9,     -999.0,9,     -999.0,9
325020210316,        A20,      50,          1,         21,         21,2,20210403,       2102,    21.2233,   -52.3343,       5018,   872.6,   6.7526,  34.8801,2,  34.8800,2,    133.8,2,   133.5,2,   22.07,2,   30.80,2,    0.00,2,    1.95,2,   0.473,2,   0.233,2,    0.11,2,  2222.8,2, 2309.09,2,   1055.8,2,    20.00,   7.58983,6,    25.01, -999.00,9, -999.00,9, -999.00,-999.000,9, -999.00,9, -999.00,9,      26.78,2, 20210403,     2241,  21.2234, -52.3343,     6.7396,2,     0.0435,1,     4.6977,1,     -999.0,9,     -999.0,9,     -999.0,9,     -999.0,9
325020210316,        A20,      50,          1,         20,         20,2,20210403,       2102,    21.2233,   -52.3343,       5018,   972.2,   5.9924,  34.8666,2,  34.8656,2,    148.2,2,   147.7,2,   23.05,2,   29.79,2,    0.00,2,    1.91,2,   0.345,2,   0.172,2,    0.14,2,  2219.2,2, 2310.74,2,   1026.8,2,    20.00,   7.60137,6,    25.02, -999.00,9, -999.00,9, -999.00,-999.000,9,   42.02,2,   33.58,2,      22.72,2, 20210403,     2238,  21.2234, -52.3342,     5.9950,2,     0.0430,1,     4.6982,1,     -999.0,9,     -999.0,9,     -999.0,9,     -999.0,9
325020210316,        A20,      50,          1,         19,         19,2,20210403,       2102,    21.2233,   -52.3343,       5018,  1074.5,   5.7498,  34.9109,2,  34.9113,2,    164.0,2,   163.8,2,   21.88,2,   27.82,2,    0.00,2,    1.79,2,   0.430,2,   0.207,2,    0.13,2,  2213.1,2, 2312.93,2,    965.3,2,    20.00,    7.6266,2,    25.01, -999.00,9, -999.00,9, -999.00,-999.000,9, -999.00,9, -999.00,9,      22.42,2, 20210403,     2235,  21.2234, -52.3342,     5.7490,2,     0.0429,1,     4.6986,1,     -999.0,9,     -999.0,9,     -999.0,9,     -999.0,9
325020210316,        A20,      50,          1,         18,         18,2,20210403,       2102,    21.2233,   -52.3343,       5018,  1175.3,   5.4718,  34.9828,2,  34.9799,2,    189.1,2,   189.2,2,   19.14,2,   24.41,2,    0.00,2,    1.56,2,   0.720,2,   0.353,2,    0.22,2,  2200.6,2, 2317.39,2,    878.5,2,    20.00,   7.66545,2,    25.01, -999.00,9, -999.00,9, -999.00,-999.000,9,   43.48,2,   27.15,2,      20.00,2, 20210403,     2232,  21.2234, -52.3343,     5.4724,2,     0.0425,1,     4.6996,1,     -999.0,9,     -999.0,9,     -999.0,9,     -999.0,9
325020210316,        A20,      50,          1,         17,         17,2,20210403,       2102,    21.2233,   -52.3343,       5018,  1277.0,   5.2004,  35.0112,2,  35.0118,2,    212.1,2,   211.1,2,   16.60,2,   21.93,2,    0.00,2,    1.41,2,   1.049,2,   0.526,2,    0.31,2,  2192.8,2, 2313.98,2,    825.1,2,    20.00,   7.69071,2,    25.03, -999.00,9, -999.00,9, -999.00,-999.000,9, -999.00,9, -999.00,9,      18.56,2, 20210403,     2229,  21.2234, -52.3343,     5.2020,2,     0.0430,1,     4.7001,1,     -999.0,9,     -999.0,9,     -999.0,9,     -999.0,9
325020210316,        A20,      50,          1,         16,         16,2,20210403,       2102,    21.2233,   -52.3343,       5018,  1377.9,   4.9331,  35.0201,2,  35.0209,2,    226.9,2,   225.9,2,   15.23,2,   20.47,2,    0.00,2,    1.32,2,   1.282,2,   0.654,2,    0.42,2,  2185.7,2, 2314.08,2,    794.7,2,    20.00,   7.70568,2,    25.00, -999.00,9, -999.00,9, -999.00,-999.000,9,   42.46,2,   23.41,2,      17.22,2, 20210403,     2225,  21.2234, -52.3342,     4.9329,2,     0.0431,1,     4.7006,1,     -999.0,9,     -999.0,9,     -999.0,9,     -999.0,9
325020210316,        A20,      50,          1,         15,         15,2,20210403,       2102,    21.2233,   -52.3343,       5018,  1548.3,   4.5392,  35.0158,2,  35.0167,2,    241.3,2,   240.6,2,   14.45,2,   19.42,2,    0.00,2,    1.24,2,   1.296,2,   0.638,2,    0.41,2,  2178.6,2,  2311.0,2,    765.0,2,    20.00,   7.72049,2,    25.00, -999.00,9, -999.00,9, -999.00,-999.000,9,   44.01,2,   22.22,2,      15.46,2, 20210403,     2221,  21.2234, -52.3342,     4.5381,2,     0.0415,1,     4.7008,1,     -999.0,9,     -999.0,9,     -999.0,9,     -999.0,9
325020210316,        A20,      50,          1,         14,         14,2,20210403,       2102,    21.2233,   -52.3343,       5018,  1752.4,   4.1116,  35.0066,2,  35.0134,3,    247.4,2,   246.9,2,   16.11,2,   19.10,2,    0.00,2,    1.24,2,-999.000,9,-999.000,9, -999.00,9,  2173.5,2, 2315.49,6,    743.2,2,    20.00,   7.73161,2,    24.99, -999.00,9, -999.00,9, -999.00,-999.000,9, -999.00,9, -999.00,9,     -999.0,9, 20210403,     2216,  21.2234, -52.3342,     4.1139,2,     0.0424,1,     4.7008,1,     -999.0,9,     -999.0,9,     -999.0,9,     -999.0,9
325020210316,        A20,      50,          1,         13,         13,2,20210403,       2102,    21.2233,   -52.3343,       5018,  1955.8,   3.8101,  34.9995,2,  34.9998,2,    246.7,2,   246.6,2,   19.53,2,   19.42,2,    0.00,2,    1.27,2,   0.353,2,   0.167,2,    0.15,2,  2177.5,2, 2317.93,2,    735.3,2,    20.00,   7.73672,2,    25.02, -999.00,9, -999.00,9, -999.00,-999.000,9,   43.14,2,   22.21,2,      15.32,2, 20210403,     2212,  21.2234, -52.3343,     3.8111,2,     0.0424,1,     4.7009,1,     -999.0,9,     -999.0,9,     -999.0,9,     -999.0,9
325020210316,        A20,      50,          1,         12,         12,2,20210403,       2102,    21.2233,   -52.3343,       5018,  2190.0,   3.4334,  34.9803,2,  34.9813,2,    246.2,2,   246.6,2,   24.51,2,   19.98,2,    0.00,2,    1.31,2,   0.146,6,   0.069,6,    0.11,6,  2179.9,2, 2325.16,2,    736.7,2,    20.00,   7.73792,2,    25.02, -999.00,9, -999.00,9, -999.00,-999.000,9, -999.00,9, -999.00,9,      15.09,6, 20210403,     2206,  21.2234, -52.3343,     3.4330,2,     0.0416,1,     4.7006,1,     -999.0,9,     -999.0,9,     -999.0,9,     -999.0,9
325020210316,        A20,      50,          1,         11,         11,2,20210403,       2102,    21.2233,   -52.3343,       5018,  2443.8,   3.1016,  34.9576,2,  34.9589,2,    247.2,2,   248.3,2,   28.81,2,   20.24,2,    0.00,2,    1.34,2,-999.000,9,-999.000,9, -999.00,9,  2184.3,6, 2328.82,2,    737.5,2,    20.00,   7.73798,2,    25.00, -999.00,9, -999.00,9, -999.00,-999.000,9,   43.27,2,   21.84,2,     -999.0,9, 20210403,     2201,  21.2234, -52.3342,     3.1011,2,     0.0429,1,     4.7009,1,     -999.0,9,     -999.0,9,     -999.0,9,     -999.0,9
325020210316,        A20,      50,          1,         10,         10,2,20210403,       2102,    21.2233,   -52.3343,       5018,  2698.8,   2.9464,  34.9456,2,  34.9473,2,    248.3,2,   248.9,2,   31.15,2,   20.32,2,    0.00,2,    1.34,2,   0.114,2,   0.054,2,    0.12,2,  2187.0,2, 2328.08,2,    738.4,2,    20.00,    7.7374,6,    25.02, -999.00,9, -999.00,9, -999.00,-999.000,9, -999.00,9, -999.00,9,      15.05,2, 20210403,     2155,  21.2234, -52.3342,     2.9461,2,     0.0429,1,     4.7001,1,     -999.0,9,     -999.0,9,     -999.0,9,     -999.0,9
325020210316,        A20,      50,          1,          9,          9,2,20210403,       2102,    21.2233,   -52.3343,       5018,  2953.4,   2.7921,  34.9326,2,  34.9333,2,    249.0,2,   249.4,2,   33.69,2,   20.52,2,    0.00,2,    1.35,2,   0.109,2,   0.053,2,    0.07,2,  2188.9,2, 2331.35,2,    741.5,6,    20.00,   7.73667,2,    25.01, -999.00,9, -999.00,9, -999.00,-999.000,9,   42.99,2,   24.00,2,      14.95,2, 20210403,     2149,  21.2234, -52.3342,     2.7918,2,     0.0418,1,     4.7008,1,     -999.0,9,     -999.0,9,     -999.0,9,     -999.0,9
325020210316,        A20,      50,          1,          8,          8,2,20210403,       2102,    21.2233,   -52.3343,       5018,  3245.4,   2.6536,  34.9200,2,  34.9203,2,    249.4,2,   250.0,2,   36.72,2,   20.69,2,    0.00,2,    1.37,2,-999.000,9,-999.000,9, -999.00,9,  2190.4,2, 2333.51,2,    744.4,2,    20.00,   7.73519,2,    24.98, -999.00,9, -999.00,9, -999.00,-999.000,9, -999.00,9, -999.00,9,     -999.0,9, 20210403,     2143,  21.2234, -52.3342,     2.6530,2,     0.0429,1,     4.6998,1,     -999.0,9,     -999.0,9,     -999.0,9,     -999.0,9
325020210316,        A20,      50,          1,          7,          7,2,20210403,       2102,    21.2233,   -52.3343,       5018,  3550.5,   2.4757,  34.9039,2,  34.9044,2,    250.6,2,   251.0,2,   39.65,2,   20.96,2,    0.00,2,    1.39,2,   0.094,2,   0.048,2,    0.05,2,  2193.6,2, 2334.76,2,    748.9,2,    20.00,   7.73174,2,    25.03, -999.00,9, -999.00,9, -999.00,-999.000,9,   43.40,2,   23.21,2,      15.86,2, 20210403,     2136,  21.2234, -52.3341,     2.4754,2,     0.0424,1,     4.7009,1,     -999.0,9,     -999.0,9,     -999.0,9,     -999.0,9
325020210316,        A20,      50,          1,          6,          6,2,20210403,       2102,    21.2233,   -52.3343,       5018,  3859.5,   2.3267,  34.8910,2,  34.8906,2,    253.2,2,   253.4,2,   40.92,2,   20.84,2,    0.00,2,    1.39,2,-999.000,9,-999.000,9, -999.00,9,  2195.4,2, 2333.62,2,   -999.0,9,  -999.00,   7.73029,2,    25.02, -999.00,9, -999.00,9, -999.00,-999.000,9,   44.58,2,   24.56,2,     -999.0,9, 20210403,     2130,  21.2233, -52.3332,     2.3265,2,     0.0418,1,     4.7009,1,     -999.0,9,     -999.0,9,     -999.0,9,     -999.0,9
325020210316,        A20,      50,          1,          5,          5,2,20210403,       2102,    21.2233,   -52.3343,       5018,  4166.2,   2.2091,  34.8775,2,  34.8786,2,    252.4,2,   252.4,2,   45.22,2,   21.38,2,    0.00,2,    1.43,2,   0.167,2,   0.084,2,    0.06,2,  2198.4,2, 2340.43,2,    761.8,2,    20.00,   7.72542,6,    25.01, -999.00,9, -999.00,9, -999.00,-999.000,9, -999.00,9, -999.00,9,      15.70,2, 20210403,     2123,  21.2233, -52.3332,     2.2086,2,     0.0430,1,     4.7002,1,     -999.0,9,     -999.0,9,     -999.0,9,     -999.0,9
325020210316,        A20,      50,          1,          4,          4,2,20210403,       2102,    21.2233,   -52.3343,       5018,  4473.9,   2.1371,  34.8687,2,  34.8690,2,    253.1,2,   252.9,2,   46.88,2,   21.31,2,    0.00,2,    1.44,2,   0.263,2,   0.126,2,    0.04,2,  2201.2,2, 2339.51,2,    768.6,2,    20.00,   7.72061,2,    25.01, -999.00,9, -999.00,9, -999.00,-999.000,9,   43.28,2,   23.08,2,      14.82,2, 20210403,     2116,  21.2233, -52.3332,     2.1378,2,     0.0429,1,     4.6999,1,     -999.0,9,     -999.0,9,     -999.0,9,     -999.0,9
325020210316,        A20,      50,          1,          3,          3,2,20210403,       2102,    21.2233,   -52.3343,       5018,  4781.7,   2.0793,  34.8578,2,  34.8582,2,    250.8,2,   250.6,2,   51.57,2,   21.96,2,    0.00,2,    1.48,2,-999.000,9,-999.000,9, -999.00,9,  2206.7,2, 2343.37,2,    780.3,2,    20.00,   7.71549,2,    25.00, -999.00,9, -999.00,9, -999.00,-999.000,9, -999.00,9, -999.00,9,     -999.0,9, 20210403,     2111,  21.2233, -52.3332,     2.0795,2,     0.0429,1,     4.6984,1,     -999.0,9,     -999.0,9,     -999.0,9,     -999.0,9