BOTTLE,20230512CCHSIOCBG
EXPOCODE,SECT_ID,STNNBR,CASTNO,SAMPNO,BTLNBR,BTLNBR_FLAG_W,DATE,TIME,LATITUDE,LONGITUDE,DEPTH,CTDPRS,CTDTMP,CTDSAL,CTDSAL_FLAG_W,SALNTY,SALNTY_FLAG_W,CTDOXY,CTDOXY_FLAG_W,OXYGEN,OXYGEN_FLAG_W,SILCAT,SILCAT_FLAG_W,NITRAT,NITRAT_FLAG_W,NITRIT,NITRIT_FLAG_W,PHSPHT,PHSPHT_FLAG_W,CFC-11,CFC-11_FLAG_W,CFC-12,CFC-12_FLAG_W,SF6,SF6_FLAG_W,TCARBN,TCARBN_FLAG_W,ALKALI,ALKALI_FLAG_W,FCO2,FCO2_FLAG_W,FCO2TMP,PH_TOT,PH_TOT_FLAG_W,PH_TMP,DELC13,DELC13_FLAG_W,DELC14,DELC14_FLAG_W,C14ERR,POC,POC_FLAG_W,DOC,DOC_FLAG_W,TDN,TDN_FLAG_W,N2O,N2O_FLAG_W,BTL_DATE,BTL_TIME,BTL_LAT,BTL_LON,REFTMP,REFTMP_FLAG_W,CTDFLUOR,CTDFLUOR_FLAG_W,CTDXMISS,CTDXMISS_FLAG_W,D15N_NO2+NO3,D15N_NO2+NO3_FLAG_W,D18O_NO2+NO3,D18O_NO2+NO3_FLAG_W,HPLC,HPLC_FLAG_W,MICROGELS,MICROGELS_FLAG_W
,,,,,,,,,,,METERS,DBAR,ITS-90,PSS-78,,PSS-78,,UMOL/KG,,UMOL/KG,,UMOL/KG,,UMOL/KG,,UMOL/KG,,UMOL/KG,,PMOL/KG,,PMOL/KG,,FMOL/KG,,UMOL/KG,,UMOL/KG,,UATM,,DEG C,,,DEG C,/MILLE,,/MILLE,,/MILLE,UG/KG,,UMOL/KG,,UMOL/KG,,NMOL/KG,,,,,,ITS-90,,VOLTS,,VOLTS,,/MILLE,,/MILLE,,,,1E6 GELS/L,
325020210316,        A20,      70,          1,         36,         36,2,20210409,       1524,     9.8599,   -52.3336,       4887,     5.0,  27.9149,  35.3661,2,  35.3703,2,    199.2,2,   197.6,2,    2.05,2,    0.02,2,    0.00,2,    0.05,2,   1.371,2,   0.925,2,    1.58,2,  2015.8,6,  2321.3,2,    312.2,2,    20.00,   8.07211,2,    25.00, -999.00,9, -999.00,9, -999.00,-999.000,9,   74.84,2,    5.76,2,       5.83,2, 20210409,     1737,   9.8599, -52.3336,    27.9148,2,     0.0500,1,     4.5890,1,     -999.0,9,     -999.0,9,     -999.0,9,     -999.0,9
325020210316,        A20,      70,          1,         35,         35,2,20210409,       1524,     9.8599,   -52.3336,       4887,    20.1,  27.9100,  35.4878,2,  35.4941,2,    198.7,2,   197.4,2,    1.95,2,    0.00,2,    0.00,2,    0.04,2,-999.000,9,-999.000,9, -999.00,9,  2021.3,2, -999.00,9,   -999.0,9,  -999.00,   8.07343,2,    24.98, -999.00,9, -999.00,9, -999.00,-999.000,9,   75.53,2,    6.18,2,     -999.0,9, 20210409,     1735,   9.8599, -52.3336,    27.9094,2,     0.0542,1,     4.5977,1,     -999.0,9,     -999.0,9,     -999.0,9,     -999.0,9
325020210316,        A20,      70,          1,         34,         34,2,20210409,       1524,     9.8599,   -52.3336,       4887,    41.9,  27.9698,  36.0434,2,  35.9819,3,    197.2,2,   197.3,2,    1.07,2,    0.00,2,    0.00,2,    0.02,2,   1.365,2,   0.915,2,    1.49,2,  2043.0,2, -999.00,9,    312.7,2,    20.00,   8.07708,2,    24.99, -999.00,9, -999.00,9, -999.00,-999.000,9,   74.00,2,    6.60,2,       6.02,2, 20210409,     1733,   9.8599, -52.3336,    27.9689,2,     0.0662,1,     4.6116,1,     -999.0,9,     -999.0,9,     -999.0,9,     -999.0,9
325020210316,        A20,      70,          1,         33,         33,2,20210409,       1524,     9.8599,   -52.3336,       4887,    65.4,  27.9336,  36.2823,2,  36.2863,2,    193.4,2,   195.0,2,    0.68,2,    0.00,2,    0.00,2,    0.03,2,-999.000,9,-999.000,9, -999.00,9,  2056.6,2, -999.00,9,    321.3,2,    20.00,   8.07033,2,    25.00, -999.00,9, -999.00,9, -999.00,-999.000,9,   70.73,2,    7.16,2,     -999.0,9, 20210409,     1731,   9.8599, -52.3336,    27.9324,2,     0.0632,1,     4.6463,1,     -999.0,9,     -999.0,9,     -999.0,9,     -999.0,9
325020210316,        A20,      70,          1,         32,         32,2,20210409,       1524,     9.8599,   -52.3336,       4887,    88.4,  26.6712,  36.3500,2,  36.3522,2,    185.5,2,   187.4,2,    0.97,2,    0.98,2,    0.19,2,    0.10,2,   1.463,2,   0.969,2,    1.47,2,  2080.5,2, 2380.61,2,    348.3,2,    20.00,   8.04266,2,    25.00, -999.00,9, -999.00,9, -999.00,-999.000,9,   67.89,2,    5.95,2,       7.33,2, 20210409,     1729,   9.8599, -52.3336,    26.6746,2,     0.0637,1,     4.6511,1,     -999.0,9,     -999.0,9,     -999.0,9,     -999.0,9
325020210316,        A20,      70,          1,         31,         31,2,20210409,       1524,     9.8599,   -52.3336,       4887,   136.0,  22.0616,  36.8825,2,  36.7915,3,    140.0,3,   145.5,2,    2.05,2,    6.12,2,    0.01,2,    0.30,2,-999.000,9,-999.000,9, -999.00,9,  2168.2,2, -999.00,9,   -999.0,9,  -999.00,   7.91629,2,    24.99, -999.00,9, -999.00,9, -999.00,-999.000,9,   57.33,2,   11.52,2,     -999.0,9, 20210409,     1727,   9.8599, -52.3336,    21.9987,3,     0.0478,1,     4.6684,1,     -999.0,9,     -999.0,9,     -999.0,9,     -999.0,9
325020210316,        A20,      70,          1,         30,         30,2,20210409,       1524,     9.8599,   -52.3336,       4887,   187.1,  16.2921,  36.0291,2,  36.0254,2,    122.6,3,   125.7,2,    5.26,2,   15.51,2,    0.00,2,    0.89,2,   2.058,2,   1.261,2,    1.24,2,  2195.6,2, -999.00,9,    682.3,2,    20.00,   7.77756,2,    24.99, -999.00,9, -999.00,9, -999.00,-999.000,9,   51.57,2,   17.03,2,      20.58,2, 20210409,     1725,   9.8599, -52.3336,    16.3080,2,     0.0410,1,     4.6753,1,     -999.0,9,     -999.0,9,     -999.0,9,     -999.0,9
325020210316,        A20,      70,          1,         29,         29,2,20210409,       1524,     9.8599,   -52.3336,       4887,   235.8,  12.5136,  35.3476,2,  35.3405,2,    133.4,2,   132.2,2,    8.78,2,   20.82,2,    0.00,2,    1.30,2,   2.186,2,   1.284,2,    1.00,2,  2197.4,2, -999.00,9,   -999.0,9,  -999.00,    7.6934,2,    24.99, -999.00,9, -999.00,9, -999.00,-999.000,9,   51.26,2,   25.70,2,      23.97,2, 20210409,     1722,   9.8599, -52.3336,    12.5165,2,     0.0414,1,     4.6742,1,     -999.0,9,     -999.0,9,     -999.0,9,     -999.0,9
325020210316,        A20,      70,          1,         28,         28,2,20210409,       1524,     9.8599,   -52.3336,       4887,   286.5,  10.8897,  35.1416,2,  35.1388,2,    121.1,2,   121.5,2,   11.31,2,   24.67,2,    0.00,2,    1.53,2,   1.994,2,   1.152,2,    0.74,2,  2206.0,2, 2316.17,2,    949.3,2,    20.00,   7.63493,2,    24.98, -999.00,9, -999.00,9, -999.00,-999.000,9,   47.03,2,   27.66,2,      27.10,2, 20210409,     1720,   9.8599, -52.3336,    10.8935,2,     0.0424,1,     4.6729,1,     -999.0,9,     -999.0,9,     -999.0,9,     -999.0,9
325020210316,        A20,      70,          1,         27,         27,2,20210409,       1524,     9.8599,   -52.3336,       4887,   337.6,  10.3611,  35.0793,2,  35.0776,2,    115.0,2,   115.3,2,   12.49,2,   26.30,2,    0.00,2,    1.64,2,-999.000,9,-999.000,9, -999.00,9,  2212.1,2, -999.00,9,   -999.0,9,  -999.00,   7.61104,2,    24.99, -999.00,9, -999.00,9, -999.00,-999.000,9,   45.87,2,   29.05,2,     -999.0,9, 20210409,     1717,   9.8599, -52.3336,    10.3640,2,     0.0420,1,     4.6727,1,     -999.0,9,     -999.0,9,     -999.0,9,     -999.0,9
325020210316,        A20,      70,          1,         26,         26,2,20210409,       1524,     9.8599,   -52.3336,       4887,   387.3,   9.0887,  34.8958,2,  34.8930,2,    120.7,2,   120.1,2,   14.93,2,   28.40,2,    0.00,2,    1.80,2,   1.719,2,   0.952,2,    0.58,2,  2218.7,2, -999.00,9,   1066.1,2,    20.00,   7.58368,2,    24.98, -999.00,9, -999.00,9, -999.00,-999.000,9,   46.58,2,   32.53,2,      27.67,2, 20210409,     1715,   9.8599, -52.3336,     9.0928,2,     0.0423,1,     4.6733,1,     -999.0,9,     -999.0,9,     -999.0,9,     -999.0,9
325020210316,        A20,      70,          1,         25,         25,2,20210409,       1524,     9.8599,   -52.3336,       4887,   466.4,   8.0878,  34.7806,2,  34.7817,2,    116.3,2,   116.0,2,   17.46,2,   30.91,2,    0.00,2,    1.97,2,-999.000,9,-999.000,9, -999.00,9,  2221.7,2, 2301.64,2,   1150.9,2,    20.00,   7.54932,2,    24.99, -999.00,9, -999.00,9, -999.00,-999.000,9,   45.24,2,   32.16,2,     -999.0,9, 20210409,     1712,   9.8599, -52.3336,     8.0868,2,     0.0432,1,     4.6756,1,     -999.0,9,     -999.0,9,     -999.0,9,     -999.0,9
325020210316,        A20,      70,          1,         24,         24,2,20210409,       1524,     9.8599,   -52.3336,       4887,   568.2,   7.0907,  34.6780,2,  34.6818,2,    119.5,2,   118.7,2,   20.88,2,   32.88,2,    0.00,2,    2.12,2,   1.020,2,   0.540,2,    0.27,2,  2225.5,6, -999.00,9,   1206.8,2,    20.00,   7.52973,2,    24.99, -999.00,9, -999.00,9, -999.00,-999.000,9, -999.00,9, -999.00,9,      27.75,2, 20210409,     1708,   9.8599, -52.3336,     7.0846,2,     0.0424,1,     4.6795,1,     -999.0,9,     -999.0,9,     -999.0,9,     -999.0,9
325020210316,        A20,      70,          1,         23,         23,2,20210409,       1524,     9.8599,   -52.3336,       4887,   669.1,   6.3999,  34.6325,2,  34.6319,2,    123.9,2,   123.2,2,   23.42,2,   33.79,2,    0.00,2,    2.21,2,-999.000,9,-999.000,9, -999.00,9,  2229.4,2, -999.00,9,   1220.3,6,    20.00,   7.52502,2,    24.99, -999.00,9, -999.00,9, -999.00,-999.000,9,   42.77,2,   37.88,2,     -999.0,9, 20210409,     1705,   9.8599, -52.3336,     6.3973,2,     0.0435,1,     4.6794,1,     -999.0,9,     -999.0,9,     -999.0,9,     -999.0,9
325020210316,        A20,      70,          1,         22,         22,2,20210409,       1524,     9.8599,   -52.3336,       4887,   769.4,   5.8503,  34.6086,2,  34.6052,2,    129.0,2,   128.9,2,   25.66,2,   34.43,2,    0.00,2,    2.25,2,   0.519,2,   0.272,2,    0.16,2,  2230.6,2, -999.00,9,   1214.7,2,    20.00,   7.52543,2,    24.99, -999.00,9, -999.00,9, -999.00,-999.000,9, -999.00,9, -999.00,9,      25.99,2, 20210409,     1702,   9.8599, -52.3336,     5.8477,2,     0.0427,1,     4.6815,1,     -999.0,9,     -999.0,9,     -999.0,9,     -999.0,9
325020210316,        A20,      70,          1,         21,         21,2,20210409,       1524,     9.8599,   -52.3336,       4887,   870.9,   5.4215,  34.6017,2,  34.6028,2,    134.9,2,   134.6,2,   27.32,2,   34.15,2,    0.00,2,    2.25,2,-999.000,9,-999.000,9, -999.00,9,  2227.3,3, -999.00,9,   -999.0,9,  -999.00,   7.53023,2,    25.00, -999.00,9, -999.00,9, -999.00,-999.000,9,   43.15,2,   35.68,2,     -999.0,9, 20210409,     1659,   9.8599, -52.3336,     5.4203,2,     0.0429,1,     4.6813,1,     -999.0,9,     -999.0,9,     -999.0,9,     -999.0,9
325020210316,        A20,      70,          1,         20,         20,2,20210409,       1524,     9.8599,   -52.3336,       4887,   972.7,   5.0801,  34.6248,2,  34.6248,2,    141.6,3,   143.4,2,   28.59,2,   33.51,2,    0.00,2,    2.23,2,   0.223,2,   0.120,2,    0.06,2,  2228.8,2, -999.00,9,   1167.0,2,    20.00,   7.54207,2,    24.99, -999.00,9, -999.00,9, -999.00,-999.000,9, -999.00,9, -999.00,9,      24.57,2, 20210409,     1656,   9.8599, -52.3336,     5.0825,2,     0.0430,1,     4.6798,1,     -999.0,9,     -999.0,9,     -999.0,9,     -999.0,9
325020210316,        A20,      70,          1,         19,         19,2,20210409,       1524,     9.8599,   -52.3336,       4887,  1072.4,   5.1094,  34.6900,2,  34.6891,2,    145.5,2,   145.7,2,   27.91,2,   32.44,2,    0.00,2,    2.17,2,   0.169,2,   0.091,2,    0.08,2,  2226.8,2, -999.00,9,   1129.3,2,    20.00,    7.5567,2,    25.00, -999.00,9, -999.00,9, -999.00,-999.000,9,   42.71,2,   34.91,2,      24.29,2, 20210409,     1653,   9.8599, -52.3336,     5.1084,2,     0.0424,1,     4.6813,1,     -999.0,9,     -999.0,9,     -999.0,9,     -999.0,9
325020210316,        A20,      70,          1,         18,         18,2,20210409,       1524,     9.8599,   -52.3336,       4887,  1173.0,   5.1598,  34.7754,2,  34.7746,2,    155.8,2,   155.3,2,   25.86,2,   30.29,2,    0.00,2,    2.03,2,-999.000,9,-999.000,9, -999.00,9,  2219.0,2, -999.00,9,   -999.0,9,  -999.00,   7.58506,2,    25.00, -999.00,9, -999.00,9, -999.00,-999.000,9, -999.00,9, -999.00,9,     -999.0,9, 20210409,     1649,   9.8599, -52.3336,     5.1586,2,     0.0428,1,     4.6813,1,     -999.0,9,     -999.0,9,     -999.0,9,     -999.0,9
325020210316,        A20,      70,          1,         17,         17,2,20210409,       1524,     9.8599,   -52.3336,       4887,  1275.5,   5.2677,  34.8775,2,  34.8784,2,    171.3,2,   172.2,2,   22.73,2,   27.34,2,    0.00,2,    1.82,2,-999.000,5,-999.000,5, -999.00,5,  2208.4,2, 2311.43,2,    965.8,2,    20.00,   7.62444,2,    24.99, -999.00,9, -999.00,9, -999.00,-999.000,9,   44.97,2,   29.29,2,     -999.0,5, 20210409,     1646,   9.8599, -52.3336,     5.2659,2,     0.0429,1,     4.6821,1,     -999.0,9,     -999.0,9,     -999.0,9,     -999.0,9
325020210316,        A20,      70,          1,         16,         16,2,20210409,       1524,     9.8599,   -52.3336,       4887,  1375.9,   5.2023,  34.9658,2,  34.9652,2,    197.9,2,   198.6,2,   18.93,2,   23.56,2,    0.00,2,    1.56,2,-999.000,9,-999.000,9, -999.00,9,  2194.9,2, -999.00,9,    869.5,2,    20.00,   7.66707,2,    24.99, -999.00,9, -999.00,9, -999.00,-999.000,9, -999.00,9, -999.00,9,     -999.0,9, 20210409,     1644,   9.8599, -52.3336,     5.2051,2,     0.0429,1,     4.6840,1,     -999.0,9,     -999.0,9,     -999.0,9,     -999.0,9
325020210316,        A20,      70,          1,         15,         15,2,20210409,       1524,     9.8599,   -52.3336,       4887,  1477.6,   4.9308,  35.0036,2,  35.0049,2,    221.0,2,   220.6,2,   16.29,2,   20.98,2,    0.00,2,    1.39,2,   1.188,2,   0.620,2,    0.35,2,  2184.8,2, -999.00,9,   -999.0,9,  -999.00,   7.69471,2,    24.99, -999.00,9, -999.00,9, -999.00,-999.000,9, -999.00,9, -999.00,9,      16.16,2, 20210409,     1641,   9.8599, -52.3336,     4.9358,2,     0.0427,1,     4.6875,1,     -999.0,9,     -999.0,9,     -999.0,9,     -999.0,9
325020210316,        A20,      70,          1,         14,         14,2,20210409,       1524,     9.8599,   -52.3336,       4887,  1578.5,   4.5822,  35.0073,2,  35.0100,2,    239.3,2,   238.5,2,   14.54,2,   19.43,2,    0.00,2,    1.28,2,   1.576,2,   0.818,2,    0.49,2,  2177.9,2, -999.00,9,    781.8,2,    20.00,   7.71147,2,    24.98, -999.00,9, -999.00,9, -999.00,-999.000,9,   46.07,2,   19.36,2,      15.32,2, 20210409,     1638,   9.8599, -52.3336,     4.5814,2,     0.0418,1,     4.6869,1,     -999.0,9,     -999.0,9,     -999.0,9,     -999.0,9
325020210316,        A20,      70,          1,         13,         13,2,20210409,       1524,     9.8599,   -52.3336,       4887,  1751.5,   4.2479,  34.9984,2,  34.9990,2,    250.9,2,   250.2,2,   13.85,2,   18.50,2,    0.00,2,    1.22,2,   1.679,2,   0.863,2,    0.37,2,  2174.4,2, -999.00,9,    764.0,2,    20.00,   7.72072,2,    25.00, -999.00,9, -999.00,9, -999.00,-999.000,9, -999.00,9, -999.00,9,      14.93,2, 20210409,     1634,   9.8599, -52.3336,     4.2468,2,     0.0413,1,     4.6885,1,     -999.0,9,     -999.0,9,     -999.0,9,     -999.0,9
325020210316,        A20,      70,          1,         12,         12,2,20210409,       1524,     9.8599,   -52.3336,       4887,  1955.2,   3.7802,  34.9786,2,  34.9797,2,    257.9,2,   257.6,2,   15.12,2,   18.22,2,    0.00,2,    1.21,2,-999.000,9,-999.000,9, -999.00,9,  2170.8,2, -999.00,9,   -999.0,9,  -999.00,   7.73014,2,    24.99, -999.00,9, -999.00,9, -999.00,-999.000,9,   43.78,2,   18.67,2,     -999.0,9, 20210409,     1629,   9.8599, -52.3336,     3.7795,2,     0.0424,1,     4.6901,1,     -999.0,9,     -999.0,9,     -999.0,9,     -999.0,9
325020210316,        A20,      70,          1,         11,         11,2,20210409,       1524,     9.8599,   -52.3336,       4887,  2189.2,   3.3907,  34.9619,2,  34.9620,2,    259.7,2,   260.0,2,   17.95,2,   18.24,2,    0.00,2,    1.22,2,   0.935,2,   0.467,2,    0.20,2,  2172.6,6, 2314.21,2,    737.2,2,    20.00,   7.73521,2,    24.99, -999.00,9, -999.00,9, -999.00,-999.000,9, -999.00,9, -999.00,9,      14.47,2, 20210409,     1624,   9.8599, -52.3336,     3.3900,2,     0.0422,1,     4.6911,1,     -999.0,9,     -999.0,9,     -999.0,9,     -999.0,9
325020210316,        A20,      70,          1,         10,         10,2,20210409,       1524,     9.8599,   -52.3336,       4887,  2441.3,   3.1474,  34.9500,2,  34.9500,2,    260.6,2,   261.1,2,   20.00,2,   18.22,2,    0.00,2,    1.22,2,-999.000,9,-999.000,9, -999.00,9,  2173.1,2, -999.00,9,   -999.0,9,  -999.00,   7.73624,2,    25.00, -999.00,9, -999.00,9, -999.00,-999.000,9,   43.63,2,   19.91,2,     -999.0,9, 20210409,     1617,   9.8599, -52.3336,     3.1469,2,     0.0418,1,     4.6879,1,     -999.0,9,     -999.0,9,     -999.0,9,     -999.0,9
325020210316,        A20,      70,          1,          9,          9,2,20210409,       1524,     9.8599,   -52.3336,       4887,  2696.6,   2.9651,  34.9400,2,  34.9404,2,    261.2,2,   261.1,2,   21.95,2,   18.49,2,    0.00,2,    1.23,2,   0.801,2,   0.412,2,    0.18,2,  2172.8,2, -999.00,9,    736.5,2,    20.00,   7.73675,2,    24.99, -999.00,9, -999.00,9, -999.00,-999.000,9, -999.00,9, -999.00,9,      13.93,2, 20210409,     1613,   9.8599, -52.3336,     2.9656,2,     0.0423,1,     4.6874,1,     -999.0,9,     -999.0,9,     -999.0,9,     -999.0,9
325020210316,        A20,      70,          1,          8,          8,2,20210409,       1524,     9.8599,   -52.3336,       4887,  2951.5,   2.8269,  34.9313,2,  34.9321,2,    261.4,2,   261.7,2,   23.90,2,   18.64,2,    0.00,2,    1.23,2,   0.771,2,   0.397,2,    0.28,2,  2174.9,2, -999.00,9,   -999.0,9,  -999.00,   7.73683,6,    24.99, -999.00,9, -999.00,9, -999.00,-999.000,9,   42.78,2,   20.16,2,      14.97,2, 20210409,     1607,   9.8599, -52.3336,     2.8272,2,     0.0423,1,     4.6894,1,     -999.0,9,     -999.0,9,     -999.0,9,     -999.0,9
325020210316,        A20,      70,          1,          7,          7,2,20210409,       1524,     9.8599,   -52.3336,       4887,  3242.5,   2.6599,  34.9201,2,  34.9203,2,    260.7,2,   260.5,2,   27.32,2,   18.90,2,    0.00,2,    1.26,2,   0.637,2,   0.329,2,    0.22,2,  2179.7,2, -999.00,9,   -999.0,9,  -999.00,   7.73618,2,    24.98, -999.00,9, -999.00,9, -999.00,-999.000,9, -999.00,9, -999.00,9,      14.14,2, 20210409,     1601,   9.8599, -52.3336,     2.6598,2,     0.0428,1,     4.6911,1,     -999.0,9,     -999.0,9,     -999.0,9,     -999.0,9
325020210316,        A20,      70,          1,          6,          6,2,20210409,       1524,     9.8599,   -52.3336,       4887,  3549.4,   2.5177,  34.9096,2,  34.9095,2,    262.8,2,   262.8,2,   28.10,2,   18.75,2,    0.00,2,    1.26,2,-999.000,9,-999.000,9, -999.00,9,  2178.6,2, 2323.35,6,    742.4,2,    20.00,   7.73403,2,    25.00, -999.00,9, -999.00,9, -999.00,-999.000,9,   42.81,2,   19.65,2,     -999.0,9, 20210409,     1555,   9.8599, -52.3336,     2.5176,2,     0.0417,1,     4.6918,1,     -999.0,9,     -999.0,9,     -999.0,9,     -999.0,9
325020210316,        A20,      70,          1,          5,          5,2,20210409,       1524,     9.8599,   -52.3336,       4887,  3855.2,   2.3983,  34.8997,2,  34.8999,2,    262.7,2,   262.6,2,   30.63,2,   19.17,2,    0.00,2,    1.27,2,   0.695,2,   0.354,2,    0.23,2,  2179.6,2, -999.00,9,   -999.0,9,  -999.00,   7.73251,2,    25.00, -999.00,9, -999.00,9, -999.00,-999.000,9,   44.86,2,   21.34,2,      14.45,2, 20210409,     1549,   9.8599, -52.3336,     2.3981,2,     0.0418,1,     4.6923,1,     -999.0,9,     -999.0,9,     -999.0,9,     -999.0,9
325020210316,        A20,      70,          1,          4,          4,2,20210409,       1524,     9.8599,   -52.3336,       4887,  4163.3,   2.2891,  34.8901,2,  34.8916,2,    262.5,2,   262.2,2,   33.17,2,   19.21,2,    0.00,2,    1.29,2,   0.626,2,   0.321,2,    0.16,2,  2184.8,2, -999.00,9,   -999.0,9,  -999.00,   7.73224,2,    24.99, -999.00,9, -999.00,9, -999.00,-999.000,9, -999.00,9, -999.00,9,      14.66,2, 20210409,     1542,   9.8599, -52.3336,     2.2897,2,     0.0429,1,     4.6913,1,     -999.0,9,     -999.0,9,     -999.0,9,     -999.0,9
325020210316,        A20,      70,          1,          3,          3,2,20210409,       1524,     9.8599,   -52.3336,       4887,  4470.7,   2.2114,  34.8790,2,  34.8802,2,    259.0,2,   259.0,2,   38.63,2,   20.02,2,    0.00,2,    1.35,2,   0.525,2,   0.270,2,    0.17,2,  2191.8,2, -999.00,9,    757.7,2,    20.00,   7.72758,2,    24.99, -999.00,9, -999.00,9, -999.00,-999.000,9,   44.51,2,   21.66,2,      15.52,2, 20210409,     1536,   9.8599, -52.3336,     2.2118,2,     0.0429,1,     4.6909,1,     -999.0,9,     -999.0,9,     -999.0,9,     -999.0,9