BOTTLE,20230512CCHSIOCBG
EXPOCODE,SECT_ID,STNNBR,CASTNO,SAMPNO,BTLNBR,BTLNBR_FLAG_W,DATE,TIME,LATITUDE,LONGITUDE,DEPTH,CTDPRS,CTDTMP,CTDSAL,CTDSAL_FLAG_W,SALNTY,SALNTY_FLAG_W,CTDOXY,CTDOXY_FLAG_W,OXYGEN,OXYGEN_FLAG_W,SILCAT,SILCAT_FLAG_W,NITRAT,NITRAT_FLAG_W,NITRIT,NITRIT_FLAG_W,PHSPHT,PHSPHT_FLAG_W,CFC-11,CFC-11_FLAG_W,CFC-12,CFC-12_FLAG_W,SF6,SF6_FLAG_W,TCARBN,TCARBN_FLAG_W,ALKALI,ALKALI_FLAG_W,FCO2,FCO2_FLAG_W,FCO2TMP,PH_TOT,PH_TOT_FLAG_W,PH_TMP,DELC13,DELC13_FLAG_W,DELC14,DELC14_FLAG_W,C14ERR,POC,POC_FLAG_W,DOC,DOC_FLAG_W,TDN,TDN_FLAG_W,N2O,N2O_FLAG_W,BTL_DATE,BTL_TIME,BTL_LAT,BTL_LON,REFTMP,REFTMP_FLAG_W,CTDFLUOR,CTDFLUOR_FLAG_W,CTDXMISS,CTDXMISS_FLAG_W,D15N_NO2+NO3,D15N_NO2+NO3_FLAG_W,D18O_NO2+NO3,D18O_NO2+NO3_FLAG_W,HPLC,HPLC_FLAG_W,MICROGELS,MICROGELS_FLAG_W
,,,,,,,,,,,METERS,DBAR,ITS-90,PSS-78,,PSS-78,,UMOL/KG,,UMOL/KG,,UMOL/KG,,UMOL/KG,,UMOL/KG,,UMOL/KG,,PMOL/KG,,PMOL/KG,,FMOL/KG,,UMOL/KG,,UMOL/KG,,UATM,,DEG C,,,DEG C,/MILLE,,/MILLE,,/MILLE,UG/KG,,UMOL/KG,,UMOL/KG,,NMOL/KG,,,,,,ITS-90,,VOLTS,,VOLTS,,/MILLE,,/MILLE,,,,1E6 GELS/L,
325020210316,        A20,      38,          1,         36,         36,2,20210331,       0518,    28.2218,   -52.3337,       5666,     4.9,  22.3666,  37.1065,2,  37.1046,2,    219.8,2,   218.0,2,    0.78,2,    0.00,2,    0.00,2,    0.00,2,   1.786,2,   1.127,2,    1.87,2,  2106.4,6, 2425.87,2,    337.1,2,    20.00,   8.04767,2,    25.06, -999.00,9, -999.00,9, -999.00,-999.000,9, -999.00,9, -999.00,9,       6.99,2, 20210331,      742,  28.2218, -52.3337,    22.3686,2,     0.0421,1,     4.6572,1,     -999.0,1,     -999.0,1,     -999.0,9,     -999.0,9
325020210316,        A20,      38,          1,         35,         35,2,20210331,       0518,    28.2218,   -52.3337,       5666,    20.2,  22.0632,  37.0781,2,  37.0784,2,    219.5,2,   217.7,2,    0.68,2,    0.00,2,    0.00,2,    0.00,2,-999.000,9,-999.000,9, -999.00,9,  -999.0,9, -999.00,9,   -999.0,9,  -999.00,-999.00000,9,  -999.00, -999.00,9, -999.00,9, -999.00,-999.000,9, -999.00,9, -999.00,9,     -999.0,9, 20210331,      740,  28.2218, -52.3337,    22.0604,2,     0.0422,1,     4.6569,1,     -999.0,1,     -999.0,1,     -999.0,9,     -999.0,9
325020210316,        A20,      38,          1,         34,         34,2,20210331,       0518,    28.2218,   -52.3337,       5666,    39.1,  21.9563,  37.0744,2,  37.0738,2,    219.8,2,   217.6,2,    0.88,2,    0.00,2,    0.00,2,    0.00,2,-999.000,9,-999.000,9, -999.00,9,  2100.6,2, -999.00,9,    337.8,2,    20.00,   8.04872,6,    25.05, -999.00,9, -999.00,9, -999.00,-999.000,9, -999.00,9, -999.00,9,     -999.0,9, 20210331,      738,  28.2218, -52.3337,    21.9572,2,     0.0439,1,     4.6537,1,     -999.0,1,     -999.0,1,     -999.0,9,     -999.0,9
325020210316,        A20,      38,          1,         33,         33,2,20210331,       0518,    28.2218,   -52.3337,       5666,    65.9,  21.8780,  37.0677,2,  37.0660,2,    219.3,2,   217.5,2,    0.78,2,    0.00,2,    0.00,2,    0.00,2,   1.780,2,   1.133,6,    1.83,6,  2101.9,2, 2425.67,2,   -999.0,9,  -999.00,   8.04906,6,    25.02, -999.00,9, -999.00,9, -999.00,-999.000,9, -999.00,9, -999.00,9,       6.98,6, 20210331,      737,  28.2218, -52.3337,    21.8768,2,     0.0490,1,     4.6547,1,     -999.0,1,     -999.0,1,     -999.0,9,     -999.0,9
325020210316,        A20,      38,          1,         32,         32,2,20210331,       0518,    28.2218,   -52.3337,       5666,    91.1,  21.7597,  37.0435,2,  37.0444,2,    219.1,2,   218.0,2,    0.78,2,    0.00,2,    0.00,2,    0.00,2,-999.000,9,-999.000,9, -999.00,9,  2101.6,2, -999.00,9,    339.8,2,    20.00,   8.04723,2,    25.00, -999.00,9, -999.00,9, -999.00,-999.000,9, -999.00,9, -999.00,9,     -999.0,9, 20210331,      735,  28.2218, -52.3337,    21.7554,2,     0.0524,1,     4.6592,1,     -999.0,1,     -999.0,1,     -999.0,9,     -999.0,9
325020210316,        A20,      38,          1,         31,         31,2,20210331,       0518,    28.2218,   -52.3337,       5666,   138.0,  21.0329,  36.8930,2,  36.8979,2,    218.1,2,   217.4,2,    0.78,2,    0.01,2,    0.04,2,    0.00,2,   1.790,2,   1.165,2,    1.82,2,  2102.4,2, -999.00,9,    351.8,6,    20.00,   8.03568,2,    25.00, -999.00,9, -999.00,9, -999.00,-999.000,9, -999.00,9, -999.00,9,       7.21,2, 20210331,      733,  28.2218, -52.3337,    21.0437,2,     0.0597,1,     4.6600,1,     -999.0,1,     -999.0,1,     -999.0,9,     -999.0,9
325020210316,        A20,      38,          1,         30,         30,2,20210331,       0518,    28.2218,   -52.3337,       5666,   187.1,  19.3625,  36.6551,2,  36.6576,2,    198.0,2,   199.3,2,    1.07,2,    1.93,2,    0.00,2,    0.02,2,   2.001,2,   1.262,2,    1.89,2,  2120.2,2,  2398.1,2,   -999.0,9,  -999.00,   7.98264,2,    25.02, -999.00,9, -999.00,9, -999.00,-999.000,9, -999.00,9, -999.00,9,       8.06,2, 20210331,      731,  28.2218, -52.3337,    19.3659,2,     0.0499,1,     4.6833,1,     -999.0,1,     -999.0,1,     -999.0,9,     -999.0,9
325020210316,        A20,      38,          1,         29,         29,2,20210331,       0518,    28.2218,   -52.3337,       5666,   236.8,  18.9233,  36.6241,2,  36.6245,2,    202.6,2,   203.0,2,    1.27,2,    2.83,2,    0.00,2,    0.08,2,-999.000,9,-999.000,9, -999.00,9,  2119.9,2, -999.00,9,    407.5,2,    20.00,   7.97799,2,    24.99, -999.00,9, -999.00,9, -999.00,-999.000,9, -999.00,9, -999.00,9,     -999.0,9, 20210331,      728,  28.2218, -52.3337,    18.9237,2,     0.0390,1,     4.6911,1,     -999.0,1,     -999.0,1,     -999.0,9,     -999.0,9
325020210316,        A20,      38,          1,         28,         28,2,20210331,       0518,    28.2218,   -52.3337,       5666,   286.7,  18.6042,  36.5862,2,  36.5856,2,    203.5,2,   204.1,2,    1.46,2,    3.37,2,    0.00,2,    0.10,2,   2.045,2,   1.295,2,    1.88,2,  2123.4,2, -999.00,9,   -999.0,9,  -999.00,   7.97073,2,    25.01, -999.00,9, -999.00,9, -999.00,-999.000,9, -999.00,9, -999.00,9,       8.30,2, 20210331,      725,  28.2218, -52.3337,    18.6029,2,     0.0392,1,     4.6935,1,     -999.0,1,     -999.0,1,     -999.0,9,     -999.0,9
325020210316,        A20,      38,          1,         27,         27,2,20210331,       0518,    28.2218,   -52.3337,       5666,   337.0,  18.1815,  36.5238,2,  36.5220,2,    195.7,2,   197.2,2,    1.66,2,    4.60,2,    0.00,2,    0.18,2,   2.133,2,   1.322,2,    1.79,2,  2129.3,2, 2391.56,2,    435.7,2,    20.00,   7.95309,2,    24.99, -999.00,9, -999.00,9, -999.00,-999.000,9, -999.00,9, -999.00,9,       8.84,2, 20210331,      724,  28.2218, -52.3337,    18.1833,2,     0.0389,1,     4.6943,1,     -999.0,1,     -999.0,1,     -999.0,9,     -999.0,9
325020210316,        A20,      38,          1,         26,         26,2,20210331,       0518,    28.2218,   -52.3337,       5666,   387.7,  17.6202,  36.4302,2,  36.4253,2,    189.6,2,   191.2,2,    2.05,2,    5.99,2,    0.00,2,    0.26,2,-999.000,9,-999.000,9, -999.00,9,  2135.2,2, -999.00,9,   -999.0,9,  -999.00,   7.93027,2,    25.02, -999.00,9, -999.00,9, -999.00,-999.000,9, -999.00,9, -999.00,9,     -999.0,9, 20210331,      722,  28.2218, -52.3337,    17.6141,2,     0.0404,1,     4.6948,1,     -999.0,1,     -999.0,1,     -999.0,9,     -999.0,9
325020210316,        A20,      38,          1,         25,         25,2,20210331,       0518,    28.2218,   -52.3337,       5666,   468.3,  16.3165,  36.2162,2,  36.2165,2,    187.6,2,   189.2,2,    2.83,2,    8.16,2,    0.00,2,    0.41,2,   2.090,2,   1.392,2,    1.62,2,  2143.7,2, -999.00,9,    501.5,2,    20.00,   7.89694,2,    25.01, -999.00,9, -999.00,9, -999.00,-999.000,9, -999.00,9, -999.00,9,      10.27,2, 20210331,      717,  28.2218, -52.3337,    16.3145,2,     0.0402,1,     4.6962,1,     -999.0,1,     -999.0,1,     -999.0,9,     -999.0,9
325020210316,        A20,      38,          1,         24,         24,2,20210331,       0518,    28.2218,   -52.3337,       5666,   570.2,  14.4244,  35.9126,2,  35.9123,2,    179.9,2,   181.1,2,    4.59,2,   11.82,2,    0.00,2,    0.64,2,   2.196,2,   1.395,2,    1.43,2,  2157.3,2, 2355.01,2,   -999.0,9,  -999.00,   7.83966,2,    25.02, -999.00,9, -999.00,9, -999.00,-999.000,9, -999.00,9, -999.00,9,      12.31,2, 20210331,      715,  28.2218, -52.3337,    14.4233,2,     0.0407,1,     4.6977,1,     -999.0,1,     -999.0,1,     -999.0,9,     -999.0,9
325020210316,        A20,      38,          1,         23,         23,2,20210331,       0518,    28.2218,   -52.3337,       5666,   743.5,  11.3846,  35.5135,2,  35.5147,2,    159.0,2,   160.0,2,    9.08,2,   18.94,2,    0.00,2,    1.10,2,   1.797,2,   1.052,2,    0.82,2,  2181.3,2, -999.00,9,    726.9,2,    20.00,   7.74532,2,    24.98, -999.00,9, -999.00,9, -999.00,-999.000,9, -999.00,9, -999.00,9,      16.39,2, 20210331,      709,  28.2218, -52.3337,    11.5130,3,     0.0406,1,     4.7018,1,     -999.0,1,     -999.0,1,     -999.0,9,     -999.0,9
325020210316,        A20,      38,          1,         22,         22,2,20210331,       0518,    28.2218,   -52.3337,       5666,   770.7,  10.8812,  35.4536,2,  35.4527,2,    156.0,2,   155.6,2,   10.06,2,   20.31,2,    0.00,2,    1.19,2,   1.632,2,   0.940,2,    0.67,2,  2184.8,2, 2334.02,2,    753.3,2,    20.00,   7.72816,2,    25.01, -999.00,9, -999.00,9, -999.00,-999.000,9, -999.00,9, -999.00,9,      17.06,2, 20210331,      707,  28.2218, -52.3337,    10.8774,2,     0.0410,1,     4.7024,1,     -999.0,1,     -999.0,1,     -999.0,9,     -999.0,9
325020210316,        A20,      38,          1,         21,         21,2,20210331,       0518,    28.2218,   -52.3337,       5666,   873.5,   9.6052,  35.3680,2,  35.3697,2,    160.6,2,   159.8,2,   12.01,2,   21.69,2,    0.00,2,    1.29,2,   1.352,2,   0.771,2,    0.46,2,  2189.5,2, -999.00,9,    793.5,2,    20.00,   7.70899,2,    25.02, -999.00,9, -999.00,9, -999.00,-999.000,9, -999.00,9, -999.00,9,      17.41,2, 20210331,      704,  28.2218, -52.3337,     9.6147,2,     0.0406,1,     4.7033,1,     -999.0,1,     -999.0,1,     -999.0,9,     -999.0,9
325020210316,        A20,      38,          1,         20,         20,2,20210331,       0518,    28.2218,   -52.3337,       5666,   974.3,   8.3190,  35.2727,2,  35.2727,2,    165.5,2,   164.7,2,   14.45,2,   23.00,2,    0.00,2,    1.41,2,-999.000,9,-999.000,9, -999.00,9,  2194.2,2, -999.00,9,   -999.0,9,  -999.00,   7.69083,2,    25.01, -999.00,9, -999.00,9, -999.00,-999.000,9, -999.00,9, -999.00,9,     -999.0,9, 20210331,      701,  28.2218, -52.3337,     8.3199,2,     0.0404,1,     4.7023,1,     -999.0,1,     -999.0,1,     -999.0,9,     -999.0,9
325020210316,        A20,      38,          1,         19,         19,2,20210331,       0518,    28.2218,   -52.3337,       5666,  1074.9,   7.3421,  35.2075,2,  35.2077,2,    177.8,2,   177.1,2,   15.43,2,   22.78,2,    0.00,2,    1.42,2,   1.029,2,   0.533,2,    0.33,2,  2192.1,6, 2328.05,6,    828.7,2,    20.00,   7.68881,2,    25.02, -999.00,9, -999.00,9, -999.00,-999.000,9, -999.00,9, -999.00,9,      17.19,2, 20210331,      658,  28.2218, -52.3337,     7.3438,2,     0.0414,1,     4.7034,1,     -999.0,1,     -999.0,1,     -999.0,9,     -999.0,9
325020210316,        A20,      38,          1,         18,         18,2,20210331,       0518,    28.2218,   -52.3337,       5666,  1176.9,   6.9338,  35.2521,2,  35.2493,2,    196.4,2,   196.3,2,   14.26,2,   20.83,2,    0.00,2,    1.30,2,-999.000,9,-999.000,9, -999.00,9,  -999.0,9, -999.00,9,   -999.0,9,  -999.00,-999.00000,9,  -999.00, -999.00,9, -999.00,9, -999.00,-999.000,9, -999.00,9, -999.00,9,     -999.0,9, 20210331,      655,  28.2218, -52.3337,     6.9299,2,     0.0419,1,     4.7045,1,     -999.0,1,     -999.0,1,     -999.0,9,     -999.0,9
325020210316,        A20,      38,          1,         17,         17,2,20210331,       0518,    28.2218,   -52.3337,       5666,  1278.6,   6.3990,  35.2372,2,  35.2394,2,    210.7,2,   209.8,2,   13.87,2,   19.94,2,    0.00,2,    1.26,2,   1.417,2,   0.747,2,    0.46,2,  2185.9,2, 2329.23,2,    776.0,2,    20.00,   7.71902,2,    25.00, -999.00,9, -999.00,9, -999.00,-999.000,9, -999.00,9, -999.00,9,      14.90,2, 20210331,      652,  28.2218, -52.3337,     6.3981,2,     0.0421,1,     4.7046,1,     -999.0,1,     -999.0,1,     -999.0,9,     -999.0,9
325020210316,        A20,      38,          1,         16,         16,2,20210331,       0518,    28.2218,   -52.3337,       5666,  1378.4,   5.6600,  35.1652,2,  35.1673,2,    231.0,2,   230.4,2,   12.70,2,   18.73,2,    0.00,2,    1.18,2,   2.094,2,   1.113,2,    0.73,2,  -999.0,9, -999.00,9,   -999.0,9,  -999.00,-999.00000,9,  -999.00, -999.00,9, -999.00,9, -999.00,-999.000,9, -999.00,9, -999.00,9,      14.26,2, 20210331,      649,  28.2218, -52.3337,     5.6666,2,     0.0430,1,     4.7045,1,     -999.0,1,     -999.0,1,     -999.0,9,     -999.0,9
325020210316,        A20,      38,          1,         15,         15,2,20210331,       0518,    28.2218,   -52.3337,       5666,  1552.2,   5.0836,  35.1365,2,  35.1382,2,    236.3,2,   236.1,2,   14.26,2,   18.93,2,    0.00,2,    1.20,2,-999.000,9,-999.000,9, -999.00,9,  -999.0,9, -999.00,9,   -999.0,9,  -999.00,-999.00000,9,  -999.00, -999.00,9, -999.00,9, -999.00,-999.000,9, -999.00,9, -999.00,9,     -999.0,9, 20210331,      645,  28.2218, -52.3337,     5.0866,2,     0.0417,1,     4.7057,1,     -999.0,1,     -999.0,1,     -999.0,9,     -999.0,9
325020210316,        A20,      38,          1,         14,         14,2,20210331,       0518,    28.2218,   -52.3337,       5666,  1755.3,   4.4706,  35.0843,2,  35.0850,2,    243.5,2,   243.7,2,   16.11,2,   18.92,2,    0.00,2,    1.20,2,   1.227,2,   0.623,2,    0.28,2,  2173.8,2, 2322.06,2,    746.3,2,    20.00,   7.73072,2,    25.03, -999.00,9, -999.00,9, -999.00,-999.000,9, -999.00,9, -999.00,9,      13.24,2, 20210331,      640,  28.2218, -52.3337,     4.4693,2,     0.0429,1,     4.7057,1,     -999.0,1,     -999.0,1,     -999.0,9,     -999.0,9
325020210316,        A20,      38,          1,         13,         13,2,20210331,       0518,    28.2218,   -52.3337,       5666,  1957.5,   3.9604,  35.0342,2,  35.0354,2,    250.0,2,   250.1,2,   18.36,2,   18.92,2,    0.00,2,    1.20,2,   1.083,2,   0.560,2,    0.27,2,  -999.0,9, -999.00,9,   -999.0,9,  -999.00,-999.00000,9,  -999.00, -999.00,9, -999.00,9, -999.00,-999.000,9, -999.00,9, -999.00,9,      13.05,2, 20210331,      636,  28.2218, -52.3337,     3.9605,2,     0.0434,1,     4.7057,1,     -999.0,1,     -999.0,1,     -999.0,9,     -999.0,9
325020210316,        A20,      38,          1,         12,         12,2,20210331,       0518,    28.2218,   -52.3337,       5666,  2190.4,   3.5620,  34.9989,2,  34.9986,2,    252.1,2,   251.9,2,   21.39,2,   19.19,2,    0.00,2,    1.23,2,-999.000,9,-999.000,9, -999.00,9,  -999.0,9, -999.00,9,   -999.0,9,  -999.00,-999.00000,9,  -999.00, -999.00,9, -999.00,9, -999.00,-999.000,9, -999.00,9, -999.00,9,     -999.0,9, 20210331,      631,  28.2218, -52.3337,     3.5625,2,     0.0418,1,     4.7056,1,     -999.0,1,     -999.0,1,     -999.0,9,     -999.0,9
325020210316,        A20,      38,          1,         11,         11,2,20210331,       0518,    28.2218,   -52.3337,       5666,  2445.8,   3.2528,  34.9727,2,  34.9726,2,    252.2,2,   252.1,2,   25.30,2,   19.59,2,    0.00,2,    1.25,2,   0.583,2,   0.284,2,    0.15,2,  2176.2,2, 2326.85,2,    739.7,2,    20.00,   7.73621,2,    25.02, -999.00,9, -999.00,9, -999.00,-999.000,9, -999.00,9, -999.00,9,      12.66,2, 20210331,      624,  28.2218, -52.3337,     3.2528,2,     0.0411,1,     4.7057,1,     -999.0,1,     -999.0,1,     -999.0,9,     -999.0,9
325020210316,        A20,      38,          1,         10,         10,2,20210331,       0518,    28.2218,   -52.3337,       5666,  2699.2,   3.0693,  34.9580,2,  34.9581,2,    251.4,2,   251.6,2,   28.62,2,   19.95,2,    0.00,2,    1.28,2,   0.372,2,   0.180,2,    0.05,2,  -999.0,9, -999.00,9,   -999.0,9,  -999.00,-999.00000,9,  -999.00, -999.00,9, -999.00,9, -999.00,-999.000,9, -999.00,9, -999.00,9,      12.83,2, 20210331,      620,  28.2218, -52.3337,     3.0695,2,     0.0429,1,     4.7047,1,     -999.0,1,     -999.0,1,     -999.0,9,     -999.0,9
325020210316,        A20,      38,          1,          9,          9,2,20210331,       0518,    28.2218,   -52.3337,       5666,  2953.3,   2.9121,  34.9454,2,  34.9656,3,    251.3,2,   252.0,2,   26.67,2,   19.67,2,    0.00,2,    1.27,2,-999.000,9,-999.000,9, -999.00,9,  -999.0,9, -999.00,9,   -999.0,9,  -999.00,-999.00000,9,  -999.00, -999.00,9, -999.00,9, -999.00,-999.000,9, -999.00,9, -999.00,9,     -999.0,9, 20210331,      615,  28.2218, -52.3337,     2.9120,2,     0.0427,1,     4.7057,1,     -999.0,1,     -999.0,1,     -999.0,9,     -999.0,9
325020210316,        A20,      38,          1,          8,          8,2,20210331,       0518,    28.2218,   -52.3337,       5666,  3249.1,   2.7419,  34.9314,3,  34.9345,2,    254.7,2,   255.1,2,   31.84,2,   20.06,2,    0.00,2,    1.32,2,   0.131,2,   0.067,2,   -0.01,2,  2177.4,2, -999.00,9,    731.2,2,    20.00,   7.74107,2,    25.02, -999.00,9, -999.00,9, -999.00,-999.000,9, -999.00,9, -999.00,9,      12.62,2, 20210331,      609,  28.2218, -52.3337,     2.7422,2,     0.0423,1,     4.7053,1,     -999.0,1,     -999.0,1,     -999.0,9,     -999.0,9
325020210316,        A20,      38,          1,          7,          7,2,20210331,       0518,    28.2218,   -52.3337,       5666,  3620.4,   2.5030,  34.9116,2,  34.9107,2,    258.8,2,   258.9,2,   33.11,2,   19.85,2,    0.00,2,    1.31,2,   0.207,2,   0.098,2,    0.04,2,  -999.0,9, -999.00,9,   -999.0,9,  -999.00,-999.00000,9,  -999.00, -999.00,9, -999.00,9, -999.00,-999.000,9, -999.00,9, -999.00,9,      12.60,2, 20210331,      601,  28.2218, -52.3337,     2.5048,2,     0.0430,1,     4.7045,1,     -999.0,1,     -999.0,1,     -999.0,9,     -999.0,9
325020210316,        A20,      38,          1,          6,          6,2,20210331,       0518,    28.2218,   -52.3337,       5666,  4029.5,   2.2688,  34.8893,2,  34.8886,2,    258.7,2,   258.7,2,   38.39,2,   20.39,2,    0.00,2,    1.36,2,-999.000,9,-999.000,9, -999.00,9,  2181.5,2, 2331.95,2,    742.0,2,    20.00,   7.73463,2,    25.01, -999.00,9, -999.00,9, -999.00,-999.000,9, -999.00,9, -999.00,9,     -999.0,9, 20210331,      553,  28.2218, -52.3337,     2.2690,2,     0.0418,1,     4.7051,1,     -999.0,1,     -999.0,1,     -999.0,9,     -999.0,9
325020210316,        A20,      38,          1,          5,          5,2,20210331,       0518,    28.2218,   -52.3337,       5666,  4440.3,   2.1374,  34.8712,2,  34.8705,2,    254.7,2,   254.6,2,   45.91,2,   21.54,2,    0.00,2,    1.43,2,   0.173,2,   0.091,2,    0.08,2,  -999.0,9, -999.00,9,   -999.0,9,  -999.00,-999.00000,9,  -999.00, -999.00,9, -999.00,9, -999.00,-999.000,9, -999.00,9, -999.00,9,      13.51,2, 20210331,      545,  28.2218, -52.3337,     2.1376,2,     0.0429,1,     4.7045,1,     -999.0,1,     -999.0,1,     -999.0,9,     -999.0,9
325020210316,        A20,      38,          1,          4,          4,2,20210331,       0518,    28.2218,   -52.3337,       5666,  4850.7,   2.1107,  34.8626,2,  34.8615,2,    252.5,2,   252.3,2,   49.62,2,   22.15,2,    0.00,2,    1.47,2,   0.132,2,   0.075,2,    0.08,2,  2195.4,2, -999.00,9,   -999.0,9,  -999.00,   7.72269,6,    25.00, -999.00,9, -999.00,9, -999.00,-999.000,9, -999.00,9, -999.00,9,      13.72,2, 20210331,      537,  28.2218, -52.3337,     2.1108,2,     0.0430,1,     4.7033,1,     -999.0,1,     -999.0,1,     -999.0,9,     -999.0,9
325020210316,        A20,      38,          1,          3,          3,2,20210331,       0518,    28.2218,   -52.3337,       5666,  5265.2,   2.1445,  34.8601,2,  34.8591,2,    251.9,2,   251.8,2,   50.50,2,   22.35,2,    0.00,2,    1.47,2,-999.000,9,-999.000,9, -999.00,9,  -999.0,9, -999.00,9,   -999.0,9,  -999.00,-999.00000,9,  -999.00, -999.00,9, -999.00,9, -999.00,-999.000,9, -999.00,9, -999.00,9,     -999.0,9, 20210331,      529,  28.2218, -52.3337,     2.1444,2,     0.0427,1,     4.7009,1,     -999.0,1,     -999.0,1,     -999.0,9,     -999.0,9