BOTTLE,20230512CCHSIOCBG
EXPOCODE,SECT_ID,STNNBR,CASTNO,SAMPNO,BTLNBR,BTLNBR_FLAG_W,DATE,TIME,LATITUDE,LONGITUDE,DEPTH,CTDPRS,CTDTMP,CTDSAL,CTDSAL_FLAG_W,SALNTY,SALNTY_FLAG_W,CTDOXY,CTDOXY_FLAG_W,OXYGEN,OXYGEN_FLAG_W,SILCAT,SILCAT_FLAG_W,NITRAT,NITRAT_FLAG_W,NITRIT,NITRIT_FLAG_W,PHSPHT,PHSPHT_FLAG_W,CFC-11,CFC-11_FLAG_W,CFC-12,CFC-12_FLAG_W,SF6,SF6_FLAG_W,TCARBN,TCARBN_FLAG_W,ALKALI,ALKALI_FLAG_W,FCO2,FCO2_FLAG_W,FCO2TMP,PH_TOT,PH_TOT_FLAG_W,PH_TMP,DELC13,DELC13_FLAG_W,DELC14,DELC14_FLAG_W,C14ERR,POC,POC_FLAG_W,DOC,DOC_FLAG_W,TDN,TDN_FLAG_W,N2O,N2O_FLAG_W,BTL_DATE,BTL_TIME,BTL_LAT,BTL_LON,REFTMP,REFTMP_FLAG_W,CTDFLUOR,CTDFLUOR_FLAG_W,CTDXMISS,CTDXMISS_FLAG_W,D15N_NO2+NO3,D15N_NO2+NO3_FLAG_W,D18O_NO2+NO3,D18O_NO2+NO3_FLAG_W,HPLC,HPLC_FLAG_W,MICROGELS,MICROGELS_FLAG_W
,,,,,,,,,,,METERS,DBAR,ITS-90,PSS-78,,PSS-78,,UMOL/KG,,UMOL/KG,,UMOL/KG,,UMOL/KG,,UMOL/KG,,UMOL/KG,,PMOL/KG,,PMOL/KG,,FMOL/KG,,UMOL/KG,,UMOL/KG,,UATM,,DEG C,,,DEG C,/MILLE,,/MILLE,,/MILLE,UG/KG,,UMOL/KG,,UMOL/KG,,NMOL/KG,,,,,,ITS-90,,VOLTS,,VOLTS,,/MILLE,,/MILLE,,,,1E6 GELS/L,
325020210316,        A20,      68,          1,         36,         36,2,20210409,       0153,    10.7220,   -52.3336,       4900,     4.9,  27.3512,  34.7923,2,  34.7948,2,    201.1,2,   200.4,2,    2.25,2,    0.00,2,    0.00,2,    0.01,2,   1.445,2,   0.950,2,    1.55,2,  1981.9,6, 2292.84,2,    298.4,2,    20.00,   8.08462,2,    25.00,    0.86,2,   19.85,2,    2.20,-999.000,9,   75.18,2,    4.48,2,       5.65,2, 20210409,      407,  10.7220, -52.3336,    27.3509,2,     0.0516,1,     4.6064,1,     -999.0,9,     -999.0,9,     -999.0,9,     -999.0,9
325020210316,        A20,      68,          1,         35,         35,2,20210409,       0153,    10.7220,   -52.3336,       4900,    19.9,  27.3397,  34.7958,2,  34.7982,2,    200.7,2,   200.5,2,    2.15,2,    0.00,2,    0.00,2,    0.00,2,-999.000,9,-999.000,9, -999.00,9,  1979.8,2, 2293.59,2,    299.1,2,    20.00,   8.08499,2,    24.97, -999.00,9, -999.00,9, -999.00,-999.000,9,   71.54,2,    4.82,2,     -999.0,9, 20210409,      405,  10.7220, -52.3336,    27.3331,2,     0.0536,1,     4.6019,1,     -999.0,9,     -999.0,9,     -999.0,9,     -999.0,9
325020210316,        A20,      68,          1,         34,         34,2,20210409,       0153,    10.7220,   -52.3336,       4900,    40.3,  27.2830,  35.3213,2,  35.5770,3,    200.2,2,   200.3,2,    1.76,2,    0.00,2,    0.00,2,    0.00,2,   1.448,2,   0.947,2,    1.56,2,  2019.2,2, 2337.75,2,    306.8,2,    20.00,   8.08257,2,    24.99, -999.00,9, -999.00,9, -999.00,-999.000,9,   74.50,2,    6.04,2,       5.63,2, 20210409,      403,  10.7220, -52.3336,    27.2598,2,     0.0677,1,     4.6091,1,     -999.0,9,     -999.0,9,     -999.0,9,     -999.0,9
325020210316,        A20,      68,          1,         33,         33,2,20210409,       0153,    10.7220,   -52.3336,       4900,    66.4,  26.7525,  36.3359,2,  36.3449,2,    198.1,2,   198.7,2,    0.88,2,    0.00,2,    0.00,2,    0.02,2,-999.000,9,-999.000,9, -999.00,9,  2059.4,2, 2381.23,2,    322.6,2,    20.00,   8.06883,2,    24.96, -999.00,9, -999.00,9, -999.00,-999.000,9,   69.60,2,    5.40,2,     -999.0,9, 20210409,      401,  10.7220, -52.3336,    26.7549,2,     0.0957,1,     4.6202,1,     -999.0,9,     -999.0,9,     -999.0,9,     -999.0,9
325020210316,        A20,      68,          1,         32,         32,2,20210409,       0153,    10.7220,   -52.3336,       4900,    91.2,  24.1345,  36.4939,2,  36.5198,3,    165.6,3,   168.1,2,    2.05,2,    3.87,2,    0.04,2,    0.26,2,   1.671,2,   1.076,2,    1.49,2,  2120.3,2, 2391.95,2,    412.3,2,    20.00,   7.97909,2,    24.99, -999.00,9, -999.00,9, -999.00,-999.000,9,   58.42,2,    7.68,2,       9.02,2, 20210409,      400,  10.7220, -52.3336,    24.0606,2,     0.0779,1,     4.6434,1,     -999.0,9,     -999.0,9,     -999.0,9,     -999.0,9
325020210316,        A20,      68,          1,         31,         31,2,20210409,       0153,    10.7220,   -52.3336,       4900,   136.0,  18.4231,  36.3285,2,  36.2843,3,    120.8,3,   123.6,2,    4.10,2,   13.18,2,    0.01,2,    0.72,2,-999.000,9,-999.000,9, -999.00,9,  2185.7,2, 2372.14,2,    629.2,2,    20.00,   7.81114,2,    24.99, -999.00,9, -999.00,9, -999.00,-999.000,9,   53.21,2,   16.13,2,     -999.0,9, 20210409,      357,  10.7220, -52.3336,    18.4288,2,     0.0483,1,     4.6683,1,     -999.0,9,     -999.0,9,     -999.0,9,     -999.0,9
325020210316,        A20,      68,          1,         30,         30,2,20210409,       0153,    10.7220,   -52.3336,       4900,   186.5,  13.2610,  35.5128,2,  35.5158,2,    120.5,2,   121.5,2,    8.30,2,   20.70,2,    0.00,2,    1.24,2,   2.117,2,   1.251,2,    0.96,2,  2198.4,2,  2332.6,2,    819.8,2,    20.00,   7.69678,2,    24.97,    0.28,2,   17.64,2,    2.07,-999.000,9,   50.66,2,   23.63,2,      24.09,2, 20210409,      355,  10.7220, -52.3336,    13.2383,2,     0.0410,1,     4.6735,1,     -999.0,9,     -999.0,9,     -999.0,9,     -999.0,9
325020210316,        A20,      68,          1,         29,         29,2,20210409,       0153,    10.7220,   -52.3336,       4900,   236.0,  11.8632,  35.3357,2,  35.3372,2,    118.8,2,   119.4,2,   10.06,2,   23.25,2,    0.00,2,    1.42,2,   1.967,6,   1.160,6,    0.81,6,  2202.5,2, 2323.37,2,   -999.0,9,  -999.00,   7.66229,2,    25.01, -999.00,9, -999.00,9, -999.00,-999.000,9,   45.51,2,   25.25,2,      25.41,2, 20210409,      353,  10.7220, -52.3336,    11.8627,2,     0.0420,1,     4.6752,1,     -999.0,9,     -999.0,9,     -999.0,9,     -999.0,9
325020210316,        A20,      68,          1,         28,         28,2,20210409,       0153,    10.7220,   -52.3336,       4900,   286.8,  10.8732,  35.1964,2,  35.1955,2,    115.0,2,   115.2,2,   11.62,2,   25.43,2,    0.00,2,    1.55,2,-999.000,9,-999.000,9, -999.00,9,  2208.6,2, 2317.92,2,    963.8,2,    20.00,   7.62919,2,    25.00,    0.41,2,   12.25,2,    2.50,-999.000,9,   46.96,2,   27.95,2,     -999.0,9, 20210409,      351,  10.7219, -52.3336,    10.8723,2,     0.0418,1,     4.6760,1,     -999.0,9,     -999.0,9,     -999.0,9,     -999.0,9
325020210316,        A20,      68,          1,         27,         27,2,20210409,       0153,    10.7220,   -52.3336,       4900,   337.2,   9.9618,  35.0502,2,  35.0486,2,    115.8,2,   116.1,2,   13.28,2,   27.17,2,    0.00,2,    1.67,2,   1.390,2,   1.010,2,    0.61,2,  2212.0,2, 2311.85,2,   1015.7,2,    20.00,   7.60498,6,    24.98, -999.00,9, -999.00,9, -999.00,-999.000,9, -999.00,9, -999.00,9,      27.02,2, 20210409,      348,  10.7220, -52.3336,     9.9609,2,     0.0423,1,     4.6764,1,     -999.0,9,     -999.0,9,     -999.0,9,     -999.0,9
325020210316,        A20,      68,          1,         26,         26,2,20210409,       0153,    10.7220,   -52.3336,       4900,   387.0,   9.0270,  34.9161,2,  34.9140,2,    117.1,2,   117.8,2,   15.33,2,   28.96,2,    0.00,2,    1.81,2,   1.637,2,   0.903,2,    0.49,2,  2213.7,2,  2305.1,2,   1071.8,2,    20.00,   7.58047,6,    24.99,    0.55,2,  -13.04,2,    2.13,-999.000,9,   42.78,2,   30.29,2,      27.57,2, 20210409,      346,  10.7220, -52.3336,     9.1001,3,     0.0428,1,     4.6769,1,     -999.0,9,     -999.0,9,     -999.0,9,     -999.0,9
325020210316,        A20,      68,          1,         25,         25,2,20210409,       0153,    10.7220,   -52.3336,       4900,   467.2,   8.0066,  34.7789,2,  34.7785,2,    118.7,2,   117.9,2,   17.78,2,   31.09,2,    0.00,2,    1.95,2,-999.000,9,-999.000,9, -999.00,9,  2216.2,2, 2301.05,2,   1140.3,2,    20.00,   7.55276,2,    25.01, -999.00,9, -999.00,9, -999.00,-999.000,9,   43.00,2,   32.20,2,     -999.0,9, 20210409,      343,  10.7220, -52.3336,     8.0060,2,     0.0429,1,     4.6761,1,     -999.0,9,     -999.0,9,     -999.0,9,     -999.0,9
325020210316,        A20,      68,          1,         24,         24,2,20210409,       0153,    10.7220,   -52.3336,       4900,   568.9,   7.2857,  34.7133,2,  34.7156,2,    118.3,2,   117.6,2,   20.22,2,   32.68,2,    0.00,2,    2.08,2,   1.102,2,   0.570,2,    0.28,2,  2223.9,2, 2300.28,2,   1186.0,2,    20.00,   7.53606,6,    24.99,    0.60,2,  -49.00,2,    2.12,-999.000,9,   41.19,2,   34.61,2,      26.37,2, 20210409,      340,  10.7220, -52.3336,     7.2841,2,     0.0429,1,     4.6785,1,     -999.0,9,     -999.0,9,     -999.0,9,     -999.0,9
325020210316,        A20,      68,          1,         23,         23,2,20210409,       0153,    10.7220,   -52.3336,       4900,   669.1,   6.8732,  34.7179,2,  34.7158,2,    118.0,2,   117.4,2,   21.98,2,   33.36,2,    0.00,2,    2.14,2,   0.722,2,   0.385,2,    0.16,2,  2226.0,6, 2301.09,2,   1197.8,2,    20.00,   7.53328,6,    25.00, -999.00,9, -999.00,9, -999.00,-999.000,9, -999.00,9, -999.00,9,      26.39,2, 20210409,      337,  10.7220, -52.3336,     6.8734,2,     0.0426,1,     4.6839,1,     -999.0,9,     -999.0,9,     -999.0,9,     -999.0,9
325020210316,        A20,      68,          1,         22,         22,2,20210409,       0153,    10.7220,   -52.3336,       4900,   770.8,   5.8081,  34.6117,2,  34.6154,2,    128.1,2,   127.5,2,   25.89,2,   34.40,2,    0.00,2,    2.25,2,-999.000,9,-999.000,9, -999.00,9,  2228.9,2, 2300.77,6,   1215.5,2,    20.00,   7.52303,2,    25.00,    0.55,2,  -85.47,2,    1.93,-999.000,9,   43.47,2,   36.38,2,     -999.0,9, 20210409,      334,  10.7220, -52.3336,     5.8032,2,     0.0434,1,     4.6810,1,     -999.0,9,     -999.0,9,     -999.0,9,     -999.0,9
325020210316,        A20,      68,          1,         21,         21,2,20210409,       0153,    10.7220,   -52.3336,       4900,   872.2,   5.5047,  34.6293,2,  34.6288,2,    132.1,2,   131.9,2,   27.26,2,   34.13,2,    0.00,2,    2.24,2,   0.306,2,   0.161,2,    0.08,2,  2226.5,2, 2301.91,2,   1199.1,2,    20.00,   7.53094,2,    25.02, -999.00,9, -999.00,9, -999.00,-999.000,9, -999.00,9, -999.00,9,      24.85,2, 20210409,      331,  10.7220, -52.3336,     5.5073,2,     0.0437,1,     4.6829,1,     -999.0,9,     -999.0,9,     -999.0,9,     -999.0,9
325020210316,        A20,      68,          1,         20,         20,2,20210409,       0153,    10.7220,   -52.3336,       4900,   973.3,   5.1454,  34.6391,2,  34.6376,2,    140.4,2,   140.8,2,   28.53,2,   33.55,2,    0.00,2,    2.22,2,   0.211,2,   0.111,2,    0.08,2,  2224.1,2, 2303.97,2,   1163.8,6,    20.00,   7.54333,2,    24.98,    0.70,6,  -98.86,6,    2.02,-999.000,9,   41.35,2,   37.25,2,      24.59,2, 20210409,      328,  10.7220, -52.3336,     5.1451,2,     0.0438,1,     4.6823,1,     -999.0,9,     -999.0,9,     -999.0,9,     -999.0,9
325020210316,        A20,      68,          1,         19,         19,2,20210409,       0153,    10.7220,   -52.3336,       4900,  1073.5,   5.1018,  34.6995,2,  34.6983,2,    146.9,2,   147.0,2,   27.84,2,   32.39,2,    0.00,2,    2.14,2,   0.168,2,   0.090,2,    0.02,2,  2221.4,2, 2306.82,2,   1119.5,2,    20.00,   7.56034,2,    24.97, -999.00,9, -999.00,9, -999.00,-999.000,9, -999.00,9, -999.00,9,      23.64,2, 20210409,      324,  10.7220, -52.3336,     5.0970,2,     0.0430,1,     4.6828,1,     -999.0,9,     -999.0,9,     -999.0,9,     -999.0,9
325020210316,        A20,      68,          1,         18,         18,2,20210409,       0153,    10.7220,   -52.3336,       4900,  1175.4,   5.1794,  34.7949,2,  34.7938,2,    156.3,2,   156.7,2,   25.59,2,   30.24,2,    0.00,2,    1.98,2,   0.199,2,   0.105,2,    0.08,2,  2215.5,2, 2309.24,2,   1049.0,2,    20.00,   7.58944,2,    24.99,    0.71,2,  -94.79,2,    2.33,-999.000,9,   41.48,2,   31.90,2,      21.91,2, 20210409,      322,  10.7220, -52.3336,     5.1789,2,     0.0425,1,     4.6838,1,     -999.0,9,     -999.0,9,     -999.0,9,     -999.0,9
325020210316,        A20,      68,          1,         17,         17,2,20210409,       0153,    10.7220,   -52.3336,       4900,  1275.9,   5.1919,  34.8906,2,  34.7937,3,    176.8,2,   177.1,2,   22.46,2,   27.05,2,    0.00,2,    1.77,2,   0.427,2,   0.223,2,    0.17,2,  2203.8,2, 2313.79,2,    949.1,2,    20.00,   7.63208,2,    24.98, -999.00,9, -999.00,9, -999.00,-999.000,9, -999.00,9, -999.00,9,      20.19,2, 20210409,      318,  10.7220, -52.3336,     5.1916,2,     0.0429,1,     4.6827,1,     -999.0,9,     -999.0,9,     -999.0,9,     -999.0,9
325020210316,        A20,      68,          1,         16,         16,2,20210409,       0153,    10.7220,   -52.3336,       4900,  1377.5,   5.0787,  34.9470,2,  34.9469,2,    194.2,2,   194.7,2,   20.12,2,   24.50,2,    0.00,2,    1.60,2,-999.000,9,-999.000,9, -999.00,9,  2194.5,2,  2317.4,2,    884.8,2,    20.00,     7.661,2,    24.99,    0.87,2,  -72.43,2,    1.93,-999.000,9,   44.24,2,   26.61,2,     -999.0,9, 20210409,      315,  10.7220, -52.3336,     5.0773,2,     0.0423,1,     4.6855,1,     -999.0,9,     -999.0,9,     -999.0,9,     -999.0,9
325020210316,        A20,      68,          1,         15,         15,2,20210409,       0153,    10.7220,   -52.3336,       4900,  1478.7,   4.8854,  34.9903,2,  34.9902,2,    217.3,2,   217.2,2,   17.19,2,   21.66,2,    0.00,2,    1.42,2,   1.044,2,   0.540,2,    0.27,2,  2184.0,2, 2315.05,2,    823.3,2,    20.00,   7.69016,6,    24.99, -999.00,9, -999.00,9, -999.00,-999.000,9, -999.00,9, -999.00,9,      16.08,2, 20210409,      312,  10.7220, -52.3336,     4.8841,2,     0.0423,1,     4.6765,1,     -999.0,9,     -999.0,9,     -999.0,9,     -999.0,9
325020210316,        A20,      68,          1,         14,         14,2,20210409,       0153,    10.7220,   -52.3336,       4900,  1580.4,   4.6933,  35.0113,2,  35.0106,2,    237.4,2,   235.6,2,   14.75,2,   19.63,2,    0.00,2,    1.27,2,   1.231,2,   0.828,2,    0.47,2,  2176.0,2, 2311.41,2,    785.7,2,    20.00,    7.7088,2,    24.98,    0.99,2,  -40.42,2,    2.16,-999.000,9,   43.89,2,   21.79,2,      15.55,2, 20210409,      309,  10.7220, -52.3336,     4.6919,2,     0.0428,1,     4.6876,1,     -999.0,9,     -999.0,9,     -999.0,9,     -999.0,9
325020210316,        A20,      68,          1,         13,         13,2,20210409,       0153,    10.7220,   -52.3336,       4900,  1752.5,   4.2184,  34.9973,2,  34.9969,2,    251.3,2,   250.5,2,   14.16,2,   18.53,2,    0.00,2,    1.20,2,-999.000,9,-999.000,9, -999.00,9,  2169.4,2, 2312.03,2,   -999.0,9,  -999.00,   7.72218,6,    24.97,    0.95,2,  -39.84,2,    1.90,-999.000,9,   44.16,2,   21.61,2,     -999.0,9, 20210409,      304,  10.7220, -52.3336,     4.2177,2,     0.0414,1,     4.6882,1,     -999.0,9,     -999.0,9,     -999.0,9,     -999.0,9
325020210316,        A20,      68,          1,         12,         12,2,20210409,       0153,    10.7220,   -52.3336,       4900,  1954.9,   3.8202,  34.9801,2,  34.9789,2,    258.0,2,   257.6,2,   15.04,2,   18.16,2,    0.00,2,    1.17,2,   1.408,2,   0.706,2,    0.32,2,  2169.2,6, 2310.36,2,    746.6,2,    20.00,   7.72934,2,    24.99,    0.94,2,  -46.94,2,    1.99,-999.000,9,   43.98,2,   20.77,2,      13.53,2, 20210409,      259,  10.7220, -52.3336,     3.8193,2,     0.0416,1,     4.6918,1,     -999.0,9,     -999.0,9,     -999.0,9,     -999.0,9
325020210316,        A20,      68,          1,         11,         11,2,20210409,       0153,    10.7220,   -52.3336,       4900,  2188.9,   3.4991,  34.9656,2,  34.9654,2,    259.8,2,   259.6,2,   17.19,2,   18.24,2,    0.00,2,    1.18,2,   1.099,2,   0.540,2,    0.24,2,  2169.6,2, 2312.22,6,   -999.0,9,  -999.00,   7.73385,2,    25.00, -999.00,9, -999.00,9, -999.00,-999.000,9, -999.00,9, -999.00,9,      13.32,2, 20210409,      254,  10.7220, -52.3336,     3.4989,2,     0.0421,1,     4.6905,1,     -999.0,9,     -999.0,9,     -999.0,9,     -999.0,9
325020210316,        A20,      68,          1,         10,         10,2,20210409,       0153,    10.7220,   -52.3336,       4900,  2443.2,   3.2012,  34.9529,2,  34.9508,3,    260.3,2,   260.6,2,   19.92,2,   18.39,2,    0.00,2,    1.19,2,-999.000,9,-999.000,9, -999.00,9,  2172.6,2,  2316.0,2,    735.6,2,    20.00,   7.73649,2,    25.00,    1.07,2,  -61.67,2,    1.94,-999.000,9,   44.22,2,   20.26,2,     -999.0,9, 20210409,      249,  10.7220, -52.3336,     3.2010,2,     0.0427,1,     4.6904,1,     -999.0,9,     -999.0,9,     -999.0,9,     -999.0,9
325020210316,        A20,      68,          1,          9,          9,2,20210409,       0153,    10.7220,   -52.3336,       4900,  2697.3,   3.0027,  34.9424,2,  34.9423,2,    259.6,2,   259.8,2,   22.66,2,   18.65,2,    0.00,2,    1.22,2,   0.655,2,   0.329,2,    0.19,2,  2173.0,2, 2316.62,2,   -999.0,9,  -999.00,   7.73749,2,    25.01, -999.00,9, -999.00,9, -999.00,-999.000,9, -999.00,9, -999.00,9,      13.18,2, 20210409,      243,  10.7220, -52.3336,     3.0030,2,     0.0429,1,     4.6905,1,     -999.0,9,     -999.0,9,     -999.0,9,     -999.0,9
325020210316,        A20,      68,          1,          8,          8,2,20210409,       0153,    10.7220,   -52.3336,       4900,  2952.3,   2.8611,  34.9336,2,  34.9327,2,    258.8,2,   259.0,2,   25.49,2,   18.97,2,    0.00,2,    1.24,2,   0.567,2,   0.287,2,    0.16,2,  2175.0,2, 2321.07,2,    736.7,2,    20.00,   7.73691,2,    25.00, -999.00,9, -999.00,9, -999.00,-999.000,9, -999.00,9, -999.00,9,      13.48,2, 20210409,      237,  10.7220, -52.3336,     2.8623,2,     0.0429,1,     4.6910,1,     -999.0,9,     -999.0,9,     -999.0,9,     -999.0,9
325020210316,        A20,      68,          1,          7,          7,2,20210409,       0153,    10.7220,   -52.3336,       4900,  3243.0,   2.6817,  34.9214,2,  34.9211,2,    261.4,2,   261.6,2,   26.47,2,   18.81,2,    0.00,2,    1.24,2,-999.000,9,-999.000,9, -999.00,9,  2173.9,2, 2319.26,2,   -999.0,9,  -999.00,   7.73534,2,    24.99,    1.08,2,  -73.65,2,    2.72,-999.000,9,   44.53,2,   22.48,2,     -999.0,9, 20210409,      231,  10.7220, -52.3336,     2.6824,2,     0.0422,1,     4.6917,1,     -999.0,9,     -999.0,9,     -999.0,9,     -999.0,9
325020210316,        A20,      68,          1,          6,          6,2,20210409,       0153,    10.7220,   -52.3336,       4900,  3549.9,   2.4962,  34.9072,2,  34.9065,2,    258.1,2,   258.3,2,   32.33,2,   19.59,2,    0.00,2,    1.30,2,   0.471,2,   0.238,2,    0.10,2,  2179.9,2,  2326.7,2,    744.9,2,    20.00,   7.73265,2,    24.99, -999.00,9, -999.00,9, -999.00,-999.000,9, -999.00,9, -999.00,9,      14.02,2, 20210409,      224,  10.7220, -52.3336,     2.4959,2,     0.0430,1,     4.6914,1,     -999.0,9,     -999.0,9,     -999.0,9,     -999.0,9
325020210316,        A20,      68,          1,          5,          5,2,20210409,       0153,    10.7220,   -52.3336,       4900,  3855.9,   2.3639,  34.8978,2,  34.8979,2,    263.2,2,   263.2,2,   30.96,2,   19.00,2,    0.00,2,    1.26,2,   0.732,2,   0.366,2,    0.15,2,  2179.0,2, 2324.73,2,   -999.0,9,  -999.00,   7.73492,2,    24.99,    1.05,2,  -76.21,2,    2.15,-999.000,9,   47.35,2,   21.43,2,      13.23,2, 20210409,      218,  10.7220, -52.3336,     2.3639,2,     0.0421,1,     4.6916,1,     -999.0,9,     -999.0,9,     -999.0,9,     -999.0,9
325020210316,        A20,      68,          1,          2,          2,2,20210409,       0153,    10.7220,   -52.3336,       4900,  4165.5,   2.2846,  34.8902,2,  34.8902,2,    264.2,2,   264.1,2,   32.04,2,   18.99,2,    0.00,2,    1.27,2,-999.000,9,-999.000,9, -999.00,9,  2183.4,2, 2326.62,6,    749.1,2,    20.00,   7.73095,2,    25.00, -999.00,9, -999.00,9, -999.00,-999.000,9, -999.00,9, -999.00,9,     -999.0,9, 20210409,      210,  10.7220, -52.3336,     2.2844,2,     0.0428,1,     4.6922,1,     -999.0,9,     -999.0,9,     -999.0,9,     -999.0,9
325020210316,        A20,      68,          1,          3,          3,2,20210409,       0153,    10.7220,   -52.3336,       4900,  4471.9,   2.2061,  34.8789,2,  34.8798,2,    259.7,2,   259.4,2,   38.29,2,   19.95,2,    0.00,2,    1.34,2,   0.571,2,   0.299,2,    0.17,2,  2188.1,2,  2332.8,2,   -999.0,9,  -999.00,   7.72795,6,    24.99, -999.00,9, -999.00,9, -999.00,-999.000,9,   43.01,2,   22.16,2,      13.22,2, 20210409,      205,  10.7220, -52.3336,     2.2064,2,     0.0430,1,     4.6915,1,     -999.0,9,     -999.0,9,     -999.0,9,     -999.0,9