BOTTLE,20230512CCHSIOCBG
EXPOCODE,SECT_ID,STNNBR,CASTNO,SAMPNO,BTLNBR,BTLNBR_FLAG_W,DATE,TIME,LATITUDE,LONGITUDE,DEPTH,CTDPRS,CTDTMP,CTDSAL,CTDSAL_FLAG_W,SALNTY,SALNTY_FLAG_W,CTDOXY,CTDOXY_FLAG_W,OXYGEN,OXYGEN_FLAG_W,SILCAT,SILCAT_FLAG_W,NITRAT,NITRAT_FLAG_W,NITRIT,NITRIT_FLAG_W,PHSPHT,PHSPHT_FLAG_W,CFC-11,CFC-11_FLAG_W,CFC-12,CFC-12_FLAG_W,SF6,SF6_FLAG_W,TCARBN,TCARBN_FLAG_W,ALKALI,ALKALI_FLAG_W,FCO2,FCO2_FLAG_W,FCO2TMP,PH_TOT,PH_TOT_FLAG_W,PH_TMP,DELC13,DELC13_FLAG_W,DELC14,DELC14_FLAG_W,C14ERR,POC,POC_FLAG_W,DOC,DOC_FLAG_W,TDN,TDN_FLAG_W,N2O,N2O_FLAG_W,BTL_DATE,BTL_TIME,BTL_LAT,BTL_LON,REFTMP,REFTMP_FLAG_W,CTDFLUOR,CTDFLUOR_FLAG_W,CTDXMISS,CTDXMISS_FLAG_W,D15N_NO2+NO3,D15N_NO2+NO3_FLAG_W,D18O_NO2+NO3,D18O_NO2+NO3_FLAG_W,HPLC,HPLC_FLAG_W,MICROGELS,MICROGELS_FLAG_W
,,,,,,,,,,,METERS,DBAR,ITS-90,PSS-78,,PSS-78,,UMOL/KG,,UMOL/KG,,UMOL/KG,,UMOL/KG,,UMOL/KG,,UMOL/KG,,PMOL/KG,,PMOL/KG,,FMOL/KG,,UMOL/KG,,UMOL/KG,,UATM,,DEG C,,,DEG C,/MILLE,,/MILLE,,/MILLE,UG/KG,,UMOL/KG,,UMOL/KG,,NMOL/KG,,,,,,ITS-90,,VOLTS,,VOLTS,,/MILLE,,/MILLE,,,,1E6 GELS/L,
325020210316,        A20,      42,          1,         36,         36,2,20210401,       1108,    25.8890,   -52.3329,       5299,     5.3,  24.0636,  37.4081,2,  37.4096,2,    211.3,2,   209.9,2,    0.68,2,    0.00,2,    0.00,2,    0.00,2,   1.558,2,   1.043,2,    1.67,2,  2099.8,6, 2444.99,6,   -999.0,9,  -999.00,   8.07997,2,    24.95, -999.00,9, -999.00,9, -999.00,-999.000,9, -999.00,9, -999.00,9,       6.29,2, 20210401,     1332,  25.8890, -52.3329,    24.0639,2,     0.0412,1,     4.6528,1,     -999.0,9,     -999.0,9,     -999.0,9,     -999.0,9
325020210316,        A20,      42,          1,         35,         35,2,20210401,       1108,    25.8890,   -52.3329,       5299,    25.2,  24.0695,  37.4088,2,  37.4096,2,    211.2,2,   210.1,2,    0.59,2,    0.00,2,    0.00,2,    0.00,2,-999.000,9,-999.000,9, -999.00,9,  -999.0,9, -999.00,9,   -999.0,9,  -999.00,-999.00000,9,  -999.00, -999.00,9, -999.00,9, -999.00,-999.000,9, -999.00,9, -999.00,9,     -999.0,9, 20210401,     1330,  25.8890, -52.3329,    24.0671,2,     0.0403,1,     4.6532,1,     -999.0,9,     -999.0,9,     -999.0,9,     -999.0,9
325020210316,        A20,      42,          1,         34,         34,2,20210401,       1108,    25.8890,   -52.3329,       5299,    51.1,  24.0774,  37.4111,2,  37.4124,2,    210.9,2,   209.9,2,    0.59,2,    0.00,2,    0.00,2,    0.00,2,   1.565,2,   1.040,2,    1.61,2,  2099.3,2, 2444.01,2,   -999.0,9,  -999.00,   8.07837,6,    24.99, -999.00,9, -999.00,9, -999.00,-999.000,9, -999.00,9, -999.00,9,       6.19,2, 20210401,     1328,  25.8890, -52.3329,    24.0727,2,     0.0432,1,     4.6545,1,     -999.0,9,     -999.0,9,     -999.0,9,     -999.0,9
325020210316,        A20,      42,          1,         33,         33,2,20210401,       1108,    25.8890,   -52.3329,       5299,    76.0,  23.6941,  37.3134,2,  37.3173,2,    212.2,2,   211.2,2,    0.49,2,    0.00,2,    0.00,2,    0.00,2,-999.000,9,-999.000,9, -999.00,9,  2096.3,2, -999.00,9,   -999.0,9,  -999.00,   8.07516,2,    25.00, -999.00,9, -999.00,9, -999.00,-999.000,9, -999.00,9, -999.00,9,     -999.0,9, 20210401,     1325,  25.8890, -52.3329,    23.6977,2,     0.0472,1,     4.6539,1,     -999.0,9,     -999.0,9,     -999.0,9,     -999.0,9
325020210316,        A20,      42,          1,         32,         32,2,20210401,       1108,    25.8890,   -52.3329,       5299,   101.0,  22.5513,  37.1013,2,  37.1026,2,    209.5,2,   208.9,2,    0.49,2,    0.00,2,    0.00,2,    0.00,2,-999.000,9,-999.000,9, -999.00,9,  2105.1,2, 2425.34,2,   -999.0,9,  -999.00,   8.04646,2,    25.00, -999.00,9, -999.00,9, -999.00,-999.000,9, -999.00,9, -999.00,9,     -999.0,9, 20210401,     1324,  25.8890, -52.3330,    22.5509,2,     0.0552,1,     4.6610,1,     -999.0,9,     -999.0,9,     -999.0,9,     -999.0,9
325020210316,        A20,      42,          1,         31,         31,2,20210401,       1108,    25.8890,   -52.3329,       5299,   152.0,  20.3772,  36.7935,2,  36.7877,2,    195.3,2,   196.8,2,    0.59,2,    0.63,2,    0.01,2,    0.00,2,   1.838,2,   1.223,2,    1.76,2,  2121.7,2, -999.00,9,   -999.0,9,  -999.00,   7.98859,2,    25.00, -999.00,9, -999.00,9, -999.00,-999.000,9, -999.00,9, -999.00,9,       7.50,2, 20210401,     1322,  25.8890, -52.3329,    20.3951,2,     0.0744,1,     4.6642,1,     -999.0,9,     -999.0,9,     -999.0,9,     -999.0,9
325020210316,        A20,      42,          1,         30,         30,2,20210401,       1108,    25.8890,   -52.3329,       5299,   201.1,  19.2002,  36.6568,2,  36.6562,2,    198.2,2,   198.6,2,    0.98,2,    2.37,2,    0.00,2,    0.04,2,-999.000,9,-999.000,9, -999.00,9,  -999.0,9, -999.00,9,   -999.0,9,  -999.00,-999.00000,9,  -999.00, -999.00,9, -999.00,9, -999.00,-999.000,9, -999.00,9, -999.00,9,     -999.0,9, 20210401,     1319,  25.8890, -52.3329,    19.1991,2,     0.0427,1,     4.6869,1,     -999.0,9,     -999.0,9,     -999.0,9,     -999.0,9
325020210316,        A20,      42,          1,         29,         29,2,20210401,       1108,    25.8890,   -52.3329,       5299,   251.7,  18.7654,  36.6087,2,  36.6074,2,    204.9,2,   204.7,2,    1.27,2,    3.01,2,    0.00,2,    0.09,2,   1.942,2,   1.285,2,    1.77,2,  2119.2,2, 2392.19,2,   -999.0,9,  -999.00,   7.97711,2,    24.99, -999.00,9, -999.00,9, -999.00,-999.000,9, -999.00,9, -999.00,9,       7.91,2, 20210401,     1317,  25.8890, -52.3329,    18.7689,2,     0.0389,1,     4.6911,1,     -999.0,9,     -999.0,9,     -999.0,9,     -999.0,9
325020210316,        A20,      42,          1,         28,         28,2,20210401,       1108,    25.8890,   -52.3329,       5299,   302.4,  18.3726,  36.5536,2,  36.5515,2,    200.6,2,   200.4,2,    1.46,2,    3.98,2,    0.00,2,    0.15,2,   1.982,2,   1.311,2,    1.63,2,  2124.9,2, -999.00,9,   -999.0,9,  -999.00,   7.96161,2,    24.99, -999.00,9, -999.00,9, -999.00,-999.000,9, -999.00,9, -999.00,9,       8.33,2, 20210401,     1315,  25.8890, -52.3330,    18.3815,2,     0.0397,1,     4.6923,1,     -999.0,9,     -999.0,9,     -999.0,9,     -999.0,9
325020210316,        A20,      42,          1,         27,         27,2,20210401,       1108,    25.8890,   -52.3329,       5299,   352.4,  17.8058,  36.4636,2,  36.4580,2,    191.1,2,   190.7,2,    1.76,2,    5.69,2,    0.00,2,    0.24,2,-999.000,9,-999.000,9, -999.00,9,  -999.0,9, -999.00,9,   -999.0,9,  -999.00,-999.00000,9,  -999.00, -999.00,9, -999.00,9, -999.00,-999.000,9, -999.00,9, -999.00,9,     -999.0,9, 20210401,     1313,  25.8890, -52.3329,    17.8106,2,     0.0393,1,     4.6923,1,     -999.0,9,     -999.0,9,     -999.0,9,     -999.0,9
325020210316,        A20,      42,          1,         26,         26,2,20210401,       1108,    25.8890,   -52.3329,       5299,   403.3,  17.0993,  36.3492,2,  36.3386,2,    186.9,2,   188.7,2,    2.25,2,    7.01,2,    0.00,2,    0.32,2,   2.180,2,   1.379,2,    1.62,2,  2139.5,2, 2376.23,2,   -999.0,9,  -999.00,   7.91292,2,    24.96, -999.00,9, -999.00,9, -999.00,-999.000,9, -999.00,9, -999.00,9,      10.06,2, 20210401,     1311,  25.8890, -52.3329,    17.1063,2,     0.0402,1,     4.6935,1,     -999.0,9,     -999.0,9,     -999.0,9,     -999.0,9
325020210316,        A20,      42,          1,         25,         25,2,20210401,       1108,    25.8890,   -52.3329,       5299,   504.0,  15.3595,  36.0721,2,  36.0703,2,    178.7,2,   179.8,2,    3.42,2,   10.41,2,    0.00,2,    0.55,2,   1.897,2,   1.402,2,    1.44,2,  2152.3,2, -999.00,9,   -999.0,9,  -999.00,   7.86066,2,    24.99, -999.00,9, -999.00,9, -999.00,-999.000,9, -999.00,9, -999.00,9,      12.14,2, 20210401,     1307,  25.8890, -52.3329,    15.3758,2,     0.0405,1,     4.6947,1,     -999.0,9,     -999.0,9,     -999.0,9,     -999.0,9
325020210316,        A20,      42,          1,         24,         24,2,20210401,       1108,    25.8890,   -52.3329,       5299,   605.6,  13.5033,  35.8100,2,  35.8062,2,    174.4,2,   175.2,2,    5.08,2,   13.68,2,    0.00,2,    0.75,2,   1.912,2,   1.375,6,    1.18,6,  2163.1,2, -999.00,9,   -999.0,9,  -999.00,   7.81043,2,    24.99, -999.00,9, -999.00,9, -999.00,-999.000,9, -999.00,9, -999.00,9,      13.71,6, 20210401,     1304,  25.8890, -52.3330,    13.4962,2,     0.0406,1,     4.6967,1,     -999.0,9,     -999.0,9,     -999.0,9,     -999.0,9
325020210316,        A20,      42,          1,         23,         23,2,20210401,       1108,    25.8890,   -52.3329,       5299,   705.8,  11.8815,  35.6004,2,  35.5953,2,    162.0,2,   162.5,2,    7.72,2,   17.63,2,    0.00,2,    1.03,2,   1.968,2,   1.137,2,    0.85,2,  2175.4,6, 2337.63,2,   -999.0,9,  -999.00,   7.75891,2,    25.00, -999.00,9, -999.00,9, -999.00,-999.000,9, -999.00,9, -999.00,9,      15.93,2, 20210401,     1300,  25.8890, -52.3329,    11.8772,2,     0.0407,1,     4.6996,1,     -999.0,9,     -999.0,9,     -999.0,9,     -999.0,9
325020210316,        A20,      42,          1,         22,         22,2,20210401,       1108,    25.8890,   -52.3329,       5299,   806.8,   9.7458,  35.3200,2,  35.3173,2,    146.5,2,   146.0,2,   12.80,2,   23.15,2,    0.00,2,    1.41,2,   1.202,2,   0.659,2,    0.40,2,  2194.5,2, -999.00,9,   -999.0,9,  -999.00,    7.6894,2,    24.99, -999.00,9, -999.00,9, -999.00,-999.000,9, -999.00,9, -999.00,9,      19.32,2, 20210401,     1257,  25.8890, -52.3329,     9.7636,2,     0.0421,1,     4.7014,1,     -999.0,9,     -999.0,9,     -999.0,9,     -999.0,9
325020210316,        A20,      42,          1,         21,         21,2,20210401,       1108,    25.8890,   -52.3329,       5299,   908.4,   7.6671,  35.0807,2,  35.0803,2,    148.1,2,   147.7,2,   17.59,2,   26.29,2,    0.00,2,    1.66,2,-999.000,9,-999.000,9, -999.00,9,  2200.8,2, -999.00,9,   -999.0,9,  -999.00,   7.64786,6,    24.97, -999.00,9, -999.00,9, -999.00,-999.000,9, -999.00,9, -999.00,9,     -999.0,9, 20210401,     1254,  25.8890, -52.3329,     7.6690,2,     0.0429,1,     4.7021,1,     -999.0,9,     -999.0,9,     -999.0,9,     -999.0,9
325020210316,        A20,      42,          1,         20,         20,2,20210401,       1108,    25.8890,   -52.3329,       5299,  1009.4,   6.8966,  35.0331,2,  35.0340,2,    159.1,2,   159.6,2,   18.57,2,   26.00,2,    0.00,2,    1.66,2,   0.623,2,   0.318,2,    0.17,2,  2201.2,2, 2316.44,2,   -999.0,9,  -999.00,   7.64952,2,    25.00, -999.00,9, -999.00,9, -999.00,-999.000,9, -999.00,9, -999.00,9,      19.34,2, 20210401,     1251,  25.8890, -52.3329,     6.8996,2,     0.0422,1,     4.7021,1,     -999.0,9,     -999.0,9,     -999.0,9,     -999.0,9
325020210316,        A20,      42,          1,         19,         19,2,20210401,       1108,    25.8890,   -52.3329,       5299,  1109.6,   6.2652,  35.0565,2,  35.0567,2,    183.3,2,   182.9,2,   17.30,2,   23.75,2,    0.00,2,    1.52,2,   0.783,2,   0.392,2,    0.26,2,  2192.9,2, -999.00,9,   -999.0,9,  -999.00,   7.67365,2,    24.97, -999.00,9, -999.00,9, -999.00,-999.000,9, -999.00,9, -999.00,9,      17.64,2, 20210401,     1248,  25.8890, -52.3329,     6.2648,2,     0.0419,1,     4.7023,1,     -999.0,9,     -999.0,9,     -999.0,9,     -999.0,9
325020210316,        A20,      42,          1,         18,         18,2,20210401,       1108,    25.8890,   -52.3329,       5299,  1211.4,   5.8685,  35.0832,2,  35.0837,2,    202.0,2,   200.9,2,   16.03,2,   21.97,2,    0.00,2,    1.41,2,-999.000,9,-999.000,9, -999.00,9,  2186.7,2, -999.00,9,   -999.0,9,  -999.00,   7.69486,2,    24.98, -999.00,9, -999.00,9, -999.00,-999.000,9, -999.00,9, -999.00,9,     -999.0,9, 20210401,     1245,  25.8890, -52.3329,     5.8677,2,     0.0424,1,     4.7033,1,     -999.0,9,     -999.0,9,     -999.0,9,     -999.0,9
325020210316,        A20,      42,          1,         17,         17,2,20210401,       1108,    25.8890,   -52.3329,       5299,  1311.6,   5.6681,  35.1278,2,  35.1282,2,    217.4,2,   216.8,2,   14.56,2,   20.35,2,    0.00,2,    1.29,2,   1.181,2,   0.619,2,    0.32,2,  2181.8,2, 2320.23,2,   -999.0,9,  -999.00,   7.71294,2,    24.99, -999.00,9, -999.00,9, -999.00,-999.000,9, -999.00,9, -999.00,9,      15.00,2, 20210401,     1242,  25.8890, -52.3329,     5.6674,2,     0.0414,1,     4.7033,1,     -999.0,9,     -999.0,9,     -999.0,9,     -999.0,9
325020210316,        A20,      42,          1,         16,         16,2,20210401,       1108,    25.8890,   -52.3329,       5299,  1414.9,   5.2702,  35.1153,2,  35.1175,2,    225.2,2,   225.1,2,   14.95,2,   19.95,2,    0.00,2,    1.27,2,   0.938,2,   0.514,2,    0.22,2,  -999.0,9, -999.00,9,   -999.0,9,  -999.00,-999.00000,9,  -999.00, -999.00,9, -999.00,9, -999.00,-999.000,9, -999.00,9, -999.00,9,      14.39,2, 20210401,     1239,  25.8890, -52.3329,     5.2699,2,     0.0423,1,     4.7035,1,     -999.0,9,     -999.0,9,     -999.0,9,     -999.0,9
325020210316,        A20,      42,          1,         15,         15,2,20210401,       1108,    25.8890,   -52.3329,       5299,  1617.2,   4.7513,  35.1044,2,  35.1053,2,    237.4,2,   237.0,2,   15.93,2,   19.16,2,    0.00,2,    1.22,2,-999.000,9,-999.000,9, -999.00,9,  -999.0,9, -999.00,9,   -999.0,9,  -999.00,-999.00000,9,  -999.00, -999.00,9, -999.00,9, -999.00,-999.000,9, -999.00,9, -999.00,9,     -999.0,9, 20210401,     1234,  25.8890, -52.3329,     4.7477,2,     0.0425,1,     4.7045,1,     -999.0,9,     -999.0,9,     -999.0,9,     -999.0,9
325020210316,        A20,      42,          1,         14,         14,2,20210401,       1108,    25.8890,   -52.3329,       5299,  1819.7,   4.1901,  35.0517,2,  35.0529,2,    244.3,2,   244.0,2,   17.98,2,   19.08,2,    0.00,2,    1.22,2,   0.691,2,   0.379,2,    0.22,2,  -999.0,9, -999.00,9,   -999.0,9,  -999.00,-999.00000,9,  -999.00, -999.00,9, -999.00,9, -999.00,-999.000,9, -999.00,9, -999.00,9,      13.30,2, 20210401,     1229,  25.8890, -52.3329,     4.1903,2,     0.0426,1,     4.7041,1,     -999.0,9,     -999.0,9,     -999.0,9,     -999.0,9
325020210316,        A20,      42,          1,         13,         13,2,20210401,       1108,    25.8890,   -52.3329,       5299,  2022.7,   3.6820,  35.0122,2,  35.0134,2,    248.2,2,   247.9,2,   21.70,2,   19.17,2,    0.00,2,    1.25,2,   0.626,2,   0.302,2,    0.11,2,  2175.7,2, -999.00,9,   -999.0,9,  -999.00,    7.7355,2,    24.98, -999.00,9, -999.00,9, -999.00,-999.000,9, -999.00,9, -999.00,9,      13.00,2, 20210401,     1224,  25.8890, -52.3329,     3.6817,2,     0.0421,1,     4.7045,1,     -999.0,9,     -999.0,9,     -999.0,9,     -999.0,9
325020210316,        A20,      42,          1,         12,         12,2,20210401,       1108,    25.8890,   -52.3329,       5299,  2276.7,   3.3417,  34.9824,2,  34.9829,2,    249.9,2,   249.8,2,   25.12,2,   19.41,2,    0.00,2,    1.27,2,-999.000,9,-999.000,9, -999.00,9,  -999.0,9, -999.00,9,   -999.0,9,  -999.00,-999.00000,9,  -999.00, -999.00,9, -999.00,9, -999.00,-999.000,9, -999.00,9, -999.00,9,     -999.0,9, 20210401,     1219,  25.8890, -52.3329,     3.3408,2,     0.0414,1,     4.7037,1,     -999.0,9,     -999.0,9,     -999.0,9,     -999.0,9
325020210316,        A20,      42,          1,         11,         11,2,20210401,       1108,    25.8890,   -52.3329,       5299,  2532.4,   3.1054,  34.9620,2,  34.9638,2,    250.2,2,   250.5,2,   28.15,2,   19.71,2,    0.00,2,    1.30,2,   0.353,2,   0.169,2,    0.00,2,  2179.5,2, 2327.66,2,   -999.0,9,  -999.00,   7.73717,2,    24.96, -999.00,9, -999.00,9, -999.00,-999.000,9, -999.00,9, -999.00,9,      12.99,2, 20210401,     1213,  25.8890, -52.3329,     3.1051,2,     0.0423,1,     4.7034,1,     -999.0,9,     -999.0,9,     -999.0,9,     -999.0,9
325020210316,        A20,      42,          1,         10,         10,2,20210401,       1108,    25.8890,   -52.3329,       5299,  2786.1,   2.9141,  34.9458,2,  34.9469,2,    250.1,2,   250.2,2,   31.28,2,   20.14,2,    0.00,2,    1.32,2,   0.220,2,   0.106,2,    0.03,2,  -999.0,9, -999.00,9,   -999.0,9,  -999.00,-999.00000,9,  -999.00, -999.00,9, -999.00,9, -999.00,-999.000,9, -999.00,9, -999.00,9,      13.25,2, 20210401,     1208,  25.8890, -52.3329,     2.9138,2,     0.0428,1,     4.7029,1,     -999.0,9,     -999.0,9,     -999.0,9,     -999.0,9
325020210316,        A20,      42,          1,          9,          9,2,20210401,       1108,    25.8890,   -52.3329,       5299,  3042.5,   2.7630,  34.9328,2,  34.9333,2,    250.9,2,   250.8,2,   33.72,2,   20.40,2,    0.00,2,    1.34,2,-999.000,9,-999.000,9, -999.00,9,  -999.0,9, -999.00,9,   -999.0,9,  -999.00,-999.00000,9,  -999.00, -999.00,9, -999.00,9, -999.00,-999.000,9, -999.00,9, -999.00,9,     -999.0,9, 20210401,     1202,  25.8890, -52.3329,     2.7624,2,     0.0417,1,     4.7033,1,     -999.0,9,     -999.0,9,     -999.0,9,     -999.0,9
325020210316,        A20,      42,          1,          8,          8,2,20210401,       1108,    25.8890,   -52.3329,       5299,  3349.3,   2.5664,  34.9163,2,  34.9166,2,    253.3,2,   255.0,2,   35.97,2,   20.42,2,    0.00,2,    1.35,2,   0.096,2,   0.049,2,    0.01,2,  2182.0,2, -999.00,9,   -999.0,9,  -999.00,   7.73741,2,    24.96, -999.00,9, -999.00,9, -999.00,-999.000,9, -999.00,9, -999.00,9,      12.97,2, 20210401,     1155,  25.8890, -52.3329,     2.5660,2,     0.0434,1,     4.7033,1,     -999.0,9,     -999.0,9,     -999.0,9,     -999.0,9
325020210316,        A20,      42,          1,          7,          7,2,20210401,       1108,    25.8890,   -52.3329,       5299,  3656.4,   2.3882,  34.9000,2,  34.9012,2,    255.0,2,   255.0,2,   38.51,2,   20.48,2,    0.00,2,    1.37,2,-999.000,9,-999.000,9, -999.00,9,  2185.4,2, -999.00,9,   -999.0,9,  -999.00,   7.73556,2,    24.99, -999.00,9, -999.00,9, -999.00,-999.000,9, -999.00,9, -999.00,9,     -999.0,9, 20210401,     1149,  25.8890, -52.3329,     2.3879,2,     0.0423,1,     4.7033,1,     -999.0,9,     -999.0,9,     -999.0,9,     -999.0,9
325020210316,        A20,      42,          1,          6,          6,2,20210401,       1108,    25.8890,   -52.3329,       5299,  3962.2,   2.2673,  34.8874,2,  34.8873,2,    254.9,2,   254.9,2,   41.84,2,   20.81,2,    0.00,2,    1.40,2,   0.101,2,   0.056,2,    0.02,2,  -999.0,9, -999.00,9,   -999.0,9,  -999.00,-999.00000,9,  -999.00, -999.00,9, -999.00,9, -999.00,-999.000,9, -999.00,9, -999.00,9,      13.23,2, 20210401,     1142,  25.8890, -52.3329,     2.2670,2,     0.0430,1,     4.7033,1,     -999.0,9,     -999.0,9,     -999.0,9,     -999.0,9
325020210316,        A20,      42,          1,          5,          5,2,20210401,       1108,    25.8890,   -52.3329,       5299,  4269.9,   2.1705,  34.8751,2,  34.8755,2,    253.4,2,   253.3,2,   45.84,2,   21.30,2,    0.00,2,    1.44,2,   0.094,2,   0.054,2,    0.08,2,  2190.1,2,  2338.2,2,   -999.0,9,  -999.00,   7.72778,2,    25.02, -999.00,9, -999.00,9, -999.00,-999.000,9, -999.00,9, -999.00,9,      13.49,2, 20210401,     1136,  25.8890, -52.3329,     2.1707,2,     0.0432,1,     4.7032,1,     -999.0,9,     -999.0,9,     -999.0,9,     -999.0,9
325020210316,        A20,      42,          1,          4,          4,2,20210401,       1108,    25.8890,   -52.3329,       5299,  4578.1,   2.1252,  34.8665,2,  34.8664,2,    252.1,2,   251.8,2,   48.78,2,   21.83,2,    0.00,2,    1.46,2,   0.100,2,   0.059,2,    0.00,2,  2194.4,2, -999.00,9,   -999.0,9,  -999.00,   7.72332,2,    24.99, -999.00,9, -999.00,9, -999.00,-999.000,9, -999.00,9, -999.00,9,      13.36,2, 20210401,     1129,  25.8890, -52.3329,     2.1251,2,     0.0428,1,     4.7028,1,     -999.0,9,     -999.0,9,     -999.0,9,     -999.0,9
325020210316,        A20,      42,          1,          3,          3,2,20210401,       1108,    25.8890,   -52.3329,       5299,  4988.6,   2.0969,  34.8578,2,  34.8580,2,    250.6,2,   250.4,2,   51.91,2,   22.31,2,    0.00,2,    1.49,2,-999.000,9,-999.000,9, -999.00,9,  -999.0,9, -999.00,9,   -999.0,9,  -999.00,-999.00000,9,  -999.00, -999.00,9, -999.00,9, -999.00,-999.000,9, -999.00,9, -999.00,9,     -999.0,9, 20210401,     1121,  25.8890, -52.3329,     2.0970,2,     0.0423,1,     4.7018,1,     -999.0,9,     -999.0,9,     -999.0,9,     -999.0,9