BOTTLE,20230512CCHSIOCBG
EXPOCODE,SECT_ID,STNNBR,CASTNO,SAMPNO,BTLNBR,BTLNBR_FLAG_W,DATE,TIME,LATITUDE,LONGITUDE,DEPTH,CTDPRS,CTDTMP,CTDSAL,CTDSAL_FLAG_W,SALNTY,SALNTY_FLAG_W,CTDOXY,CTDOXY_FLAG_W,OXYGEN,OXYGEN_FLAG_W,SILCAT,SILCAT_FLAG_W,NITRAT,NITRAT_FLAG_W,NITRIT,NITRIT_FLAG_W,PHSPHT,PHSPHT_FLAG_W,CFC-11,CFC-11_FLAG_W,CFC-12,CFC-12_FLAG_W,SF6,SF6_FLAG_W,TCARBN,TCARBN_FLAG_W,ALKALI,ALKALI_FLAG_W,FCO2,FCO2_FLAG_W,FCO2TMP,PH_TOT,PH_TOT_FLAG_W,PH_TMP,DELC13,DELC13_FLAG_W,DELC14,DELC14_FLAG_W,C14ERR,POC,POC_FLAG_W,DOC,DOC_FLAG_W,TDN,TDN_FLAG_W,N2O,N2O_FLAG_W,BTL_DATE,BTL_TIME,BTL_LAT,BTL_LON,REFTMP,REFTMP_FLAG_W,CTDFLUOR,CTDFLUOR_FLAG_W,CTDXMISS,CTDXMISS_FLAG_W,D15N_NO2+NO3,D15N_NO2+NO3_FLAG_W,D18O_NO2+NO3,D18O_NO2+NO3_FLAG_W,HPLC,HPLC_FLAG_W,MICROGELS,MICROGELS_FLAG_W
,,,,,,,,,,,METERS,DBAR,ITS-90,PSS-78,,PSS-78,,UMOL/KG,,UMOL/KG,,UMOL/KG,,UMOL/KG,,UMOL/KG,,UMOL/KG,,PMOL/KG,,PMOL/KG,,FMOL/KG,,UMOL/KG,,UMOL/KG,,UATM,,DEG C,,,DEG C,/MILLE,,/MILLE,,/MILLE,UG/KG,,UMOL/KG,,UMOL/KG,,NMOL/KG,,,,,,ITS-90,,VOLTS,,VOLTS,,/MILLE,,/MILLE,,,,1E6 GELS/L,
325020210316,        A20,      63,          1,         36,         36,2,20210407,       1527,    13.6388,   -52.3337,       5139,     5.3,  26.2466,  36.2849,2,  36.2885,2,    204.5,2,   204.0,2,    1.17,2,    0.00,2,    0.00,2,    0.00,2,-999.000,9,-999.000,9, -999.00,9,  2034.6,2, 2375.91,6,   -999.0,9,  -999.00,   8.10073,2,    25.02, -999.00,9, -999.00,9, -999.00,-999.000,9,   75.14,2,    4.14,2,     -999.0,9, 20210407,     1739,  13.6388, -52.3337,    26.2500,2,     0.0411,1,     4.6383,1,     -999.0,9,     -999.0,9,     -999.0,9,     -999.0,9
325020210316,        A20,      63,          1,         35,         35,2,20210407,       1527,    13.6388,   -52.3337,       5139,    24.9,  26.0062,  36.2902,2,  36.2923,2,    205.7,2,   204.4,2,    1.17,2,    0.00,2,    0.00,2,    0.00,2,-999.000,9,-999.000,9, -999.00,9,  -999.0,9, -999.00,9,   -999.0,9,  -999.00,-999.00000,9,  -999.00, -999.00,9, -999.00,9, -999.00,-999.000,9,   72.76,2,    4.13,2,     -999.0,9, 20210407,     1737,  13.6388, -52.3337,    26.0055,2,     0.0442,1,     4.6314,1,     -999.0,9,     -999.0,9,     -999.0,9,     -999.0,9
325020210316,        A20,      63,          1,         34,         34,2,20210407,       1527,    13.6388,   -52.3337,       5139,    50.1,  25.9419,  36.2811,2,  36.2847,2,    204.5,2,   204.4,2,    1.17,2,    0.00,2,    0.00,2,    0.00,2,-999.000,9,-999.000,9, -999.00,9,  -999.0,9, -999.00,9,   -999.0,9,  -999.00,-999.00000,9,  -999.00, -999.00,9, -999.00,9, -999.00,-999.000,9,   72.70,2,    4.57,2,     -999.0,9, 20210407,     1736,  13.6388, -52.3337,    25.9428,2,     0.0497,1,     4.6274,1,     -999.0,9,     -999.0,9,     -999.0,9,     -999.0,9
325020210316,        A20,      63,          1,         33,         33,2,20210407,       1527,    13.6388,   -52.3337,       5139,    75.2,  25.7580,  36.3877,2,  36.3972,2,    205.1,2,   205.4,2,    1.07,2,    0.00,2,    0.00,2,    0.00,2,-999.000,9,-999.000,9, -999.00,9,  2039.8,2, 2384.66,2,   -999.0,9,  -999.00,   8.10207,2,    25.02, -999.00,9, -999.00,9, -999.00,-999.000,9,   74.74,2,    4.69,2,     -999.0,9, 20210407,     1734,  13.6388, -52.3337,    25.7561,2,     0.0582,1,     4.6331,1,     -999.0,9,     -999.0,9,     -999.0,9,     -999.0,9
325020210316,        A20,      63,          1,         32,         32,2,20210407,       1527,    13.6388,   -52.3337,       5139,   100.3,  25.1798,  37.0775,3,  37.1151,2,    198.1,2,   199.1,2,    0.49,2,    0.00,2,    0.00,2,    0.00,2,-999.000,9,-999.000,9, -999.00,9,  -999.0,9, -999.00,9,   -999.0,9,  -999.00,-999.00000,9,  -999.00, -999.00,9, -999.00,9, -999.00,-999.000,9,   66.23,2,    3.98,2,     -999.0,9, 20210407,     1731,  13.6388, -52.3337,    25.1840,2,     0.0707,1,     4.6424,1,     -999.0,9,     -999.0,9,     -999.0,9,     -999.0,9
325020210316,        A20,      63,          1,         31,         31,2,20210407,       1527,    13.6388,   -52.3337,       5139,   150.3,  21.7320,  37.0938,2,  37.0613,3,    165.8,3,   170.5,2,    0.88,2,    2.44,2,    0.02,2,    0.10,2,-999.000,9,-999.000,9, -999.00,9,  2156.5,2, 2418.44,6,   -999.0,9,  -999.00,   7.95692,2,    25.00, -999.00,9, -999.00,9, -999.00,-999.000,9,   53.47,2,    6.49,2,     -999.0,9, 20210407,     1729,  13.6388, -52.3337,    21.7361,2,     0.0628,1,     4.6716,1,     -999.0,9,     -999.0,9,     -999.0,9,     -999.0,9
325020210316,        A20,      63,          1,         30,         30,2,20210407,       1527,    13.6388,   -52.3337,       5139,   200.3,  17.6368,  36.3603,2,  36.3418,2,    123.7,3,   128.6,2,    3.51,2,   12.63,2,    0.00,2,    0.70,2,-999.000,9,-999.000,9, -999.00,9,  2189.1,2, 2374.29,2,   -999.0,9,  -999.00,   7.81396,2,    24.99, -999.00,9, -999.00,9, -999.00,-999.000,9,   51.69,2,   16.42,2,     -999.0,9, 20210407,     1727,  13.6388, -52.3337,    17.6366,2,     0.0433,1,     4.6830,1,     -999.0,9,     -999.0,9,     -999.0,9,     -999.0,9
325020210316,        A20,      63,          1,         29,         29,2,20210407,       1527,    13.6388,   -52.3337,       5139,   251.4,  15.6478,  36.0855,2,  36.0620,3,    127.4,3,   130.3,2,    4.78,2,   15.22,2,    0.00,2,    0.86,2,   2.057,2,   1.279,2,    1.17,2,  2189.5,2, 2360.95,2,   -999.0,9,  -999.00,    7.7805,2,    25.01, -999.00,9, -999.00,9, -999.00,-999.000,9,   48.03,2,   19.11,2,      20.50,2, 20210407,     1725,  13.6388, -52.3337,    15.6475,2,     0.0406,1,     4.6863,1,     -999.0,9,     -999.0,9,     -999.0,9,     -999.0,9
325020210316,        A20,      63,          1,         28,         28,2,20210407,       1527,    13.6388,   -52.3337,       5139,   301.8,  13.7487,  35.7546,2,  35.7387,2,    122.2,2,   123.1,2,    7.13,2,   19.15,2,    0.00,2,    1.12,2,-999.000,9,-999.000,9, -999.00,9,  -999.0,9, -999.00,9,   -999.0,9,  -999.00,-999.00000,9,  -999.00, -999.00,9, -999.00,9, -999.00,-999.000,9,   44.20,2,   21.58,2,     -999.0,9, 20210407,     1723,  13.6388, -52.3337,    13.7440,2,     0.0411,1,     4.6875,1,     -999.0,9,     -999.0,9,     -999.0,9,     -999.0,9
325020210316,        A20,      63,          1,         27,         27,2,20210407,       1527,    13.6388,   -52.3337,       5139,   352.7,  12.0085,  35.4682,2,  35.4369,3,    113.4,2,   114.4,2,   10.15,2,   23.50,2,    0.00,2,    1.41,2,-999.000,9,-999.000,9, -999.00,9,  2206.3,2, 2327.53,2,   -999.0,9,  -999.00,   7.66354,2,    25.02, -999.00,9, -999.00,9, -999.00,-999.000,9,   43.20,2,   26.70,2,     -999.0,9, 20210407,     1721,  13.6388, -52.3337,    12.0050,2,     0.0410,1,     4.6883,1,     -999.0,9,     -999.0,9,     -999.0,9,     -999.0,9
325020210316,        A20,      63,          1,         26,         26,2,20210407,       1527,    13.6388,   -52.3337,       5139,   402.8,  10.6943,  35.2445,2,  35.2353,2,    114.8,2,   115.6,2,   12.30,2,   25.67,2,    0.00,2,    1.56,2,   1.607,2,   0.940,2,    0.60,2,  2209.3,2, 2318.42,2,   -999.0,9,  -999.00,   7.63212,2,    25.03, -999.00,9, -999.00,9, -999.00,-999.000,9,   42.31,2,   29.04,2,      27.00,2, 20210407,     1719,  13.6388, -52.3337,    10.6936,2,     0.0414,1,     4.6885,1,     -999.0,9,     -999.0,9,     -999.0,9,     -999.0,9
325020210316,        A20,      63,          1,         25,         25,2,20210407,       1527,    13.6388,   -52.3337,       5139,   503.1,   9.1051,  35.0217,2,  35.0199,2,    107.5,2,   107.8,2,   15.72,2,   29.55,2,    0.00,2,    1.83,2,-999.000,9,-999.000,9, -999.00,9,  2218.2,6,  2309.4,2,   -999.0,9,  -999.00,   7.57863,2,    25.02, -999.00,9, -999.00,9, -999.00,-999.000,9,   41.64,2,   32.32,2,     -999.0,9, 20210407,     1716,  13.6388, -52.3337,     9.1051,2,     0.0430,1,     4.6886,1,     -999.0,9,     -999.0,9,     -999.0,9,     -999.0,9
325020210316,        A20,      63,          1,         24,         24,2,20210407,       1527,    13.6388,   -52.3337,       5139,   604.5,   7.5349,  34.8006,2,  34.7990,2,    116.2,2,   116.2,2,   19.93,2,   32.17,2,    0.00,2,    2.03,2,   0.928,2,   0.502,2,    0.24,2,  2221.5,2, 2302.44,2,   -999.0,9,  -999.00,   7.54862,6,    25.02, -999.00,9, -999.00,9, -999.00,-999.000,9,   40.49,2,   34.67,2,      28.12,2, 20210407,     1713,  13.6388, -52.3337,     7.5339,2,     0.0430,1,     4.6886,1,     -999.0,9,     -999.0,9,     -999.0,9,     -999.0,9
325020210316,        A20,      63,          1,         23,         23,2,20210407,       1527,    13.6388,   -52.3337,       5139,   704.9,   6.3351,  34.6723,2,  34.6730,2,    125.2,2,   125.1,2,   24.13,2,   33.67,2,    0.00,2,    2.18,2,-999.000,9,-999.000,9, -999.00,9,  -999.0,9, -999.00,9,   -999.0,9,  -999.00,-999.00000,9,  -999.00, -999.00,9, -999.00,9, -999.00,-999.000,9,   39.63,2,   35.97,2,     -999.0,9, 20210407,     1710,  13.6388, -52.3337,     6.3371,2,     0.0425,1,     4.6883,1,     -999.0,9,     -999.0,9,     -999.0,9,     -999.0,9
325020210316,        A20,      63,          1,         22,         22,2,20210407,       1527,    13.6388,   -52.3337,       5139,   805.5,   5.9750,  34.6937,2,  34.6948,2,    128.8,2,   128.5,2,   25.40,2,   33.56,2,    0.00,2,    2.18,2,   0.376,2,   0.198,2,    0.14,2,  -999.0,9, -999.00,9,   -999.0,9,  -999.00,-999.00000,9,  -999.00, -999.00,9, -999.00,9, -999.00,-999.000,9, -999.00,9, -999.00,9,      26.91,2, 20210407,     1707,  13.6388, -52.3337,     5.9762,2,     0.0428,1,     4.6891,1,     -999.0,9,     -999.0,9,     -999.0,9,     -999.0,9
325020210316,        A20,      63,          1,         21,         21,2,20210407,       1527,    13.6388,   -52.3337,       5139,   906.7,   5.8653,  34.7700,2,  34.7714,2,    130.7,2,   130.3,2,   25.01,2,   32.75,2,    0.00,2,    2.14,2,-999.000,9,-999.000,9, -999.00,9,  -999.0,9, -999.00,9,   -999.0,9,  -999.00,-999.00000,9,  -999.00, -999.00,9, -999.00,9, -999.00,-999.000,9, -999.00,9, -999.00,9,     -999.0,9, 20210407,     1704,  13.6388, -52.3337,     5.8643,2,     0.0438,1,     4.6917,1,     -999.0,9,     -999.0,9,     -999.0,9,     -999.0,9
325020210316,        A20,      63,          1,         20,         20,2,20210407,       1527,    13.6388,   -52.3337,       5139,  1007.7,   5.6335,  34.8349,2,  34.8365,2,    143.5,2,   143.7,2,   24.42,2,   30.93,2,    0.00,2,    2.02,2,   0.130,2,   0.070,2,    0.07,2,  2218.5,2, 2310.28,2,   -999.0,9,  -999.00,   7.58128,2,    25.01, -999.00,9, -999.00,9, -999.00,-999.000,9,   41.93,2,   33.72,2,      24.92,2, 20210407,     1701,  13.6388, -52.3337,     5.6320,2,     0.0427,1,     4.6928,1,     -999.0,9,     -999.0,9,     -999.0,9,     -999.0,9
325020210316,        A20,      63,          1,         19,         19,2,20210407,       1527,    13.6388,   -52.3337,       5139,  1108.9,   5.3767,  34.8902,2,  34.8908,2,    165.4,2,   165.0,2,   22.86,2,   28.09,2,    0.00,2,    1.85,2,-999.000,9,-999.000,9, -999.00,9,  -999.0,9, -999.00,9,   -999.0,9,  -999.00,-999.00000,9,  -999.00, -999.00,9, -999.00,9, -999.00,-999.000,9, -999.00,9, -999.00,9,     -999.0,9, 20210407,     1658,  13.6388, -52.3337,     5.3759,2,     0.0430,1,     4.6932,1,     -999.0,9,     -999.0,9,     -999.0,9,     -999.0,9
325020210316,        A20,      63,          1,         18,         18,2,20210407,       1527,    13.6388,   -52.3337,       5139,  1210.4,   5.2660,  34.9369,2,  34.9372,2,    181.5,2,   181.2,2,   21.10,2,   25.92,2,    0.00,2,    1.70,2,   0.408,2,   0.217,2,    0.12,2,  -999.0,9, -999.00,9,   -999.0,9,  -999.00,-999.00000,9,  -999.00, -999.00,9, -999.00,9, -999.00,-999.000,9, -999.00,9, -999.00,9,      21.02,2, 20210407,     1654,  13.6388, -52.3337,     5.2659,2,     0.0429,1,     4.6934,1,     -999.0,9,     -999.0,9,     -999.0,9,     -999.0,9
325020210316,        A20,      63,          1,         17,         17,2,20210407,       1527,    13.6388,   -52.3337,       5139,  1311.3,   5.0621,  34.9770,2,  34.9780,2,    200.2,2,   200.0,2,   19.05,2,   23.63,2,    0.00,2,    1.55,2,-999.000,9,-999.000,9, -999.00,9,  -999.0,9, -999.00,9,   -999.0,9,  -999.00,-999.00000,9,  -999.00, -999.00,9, -999.00,9, -999.00,-999.000,9,   41.59,2,   27.06,2,     -999.0,9, 20210407,     1652,  13.6388, -52.3337,     5.0613,2,     0.0428,1,     4.6938,1,     -999.0,9,     -999.0,9,     -999.0,9,     -999.0,9
325020210316,        A20,      63,          1,         16,         16,2,20210407,       1527,    13.6388,   -52.3337,       5139,  1412.7,   4.8328,  34.9911,2,  34.9909,2,    213.1,2,   212.7,2,   18.07,2,   22.29,2,    0.00,2,    1.46,2,   0.639,2,   0.330,2,    0.22,2,  -999.0,9, -999.00,9,   -999.0,9,  -999.00,-999.00000,9,  -999.00, -999.00,9, -999.00,9, -999.00,-999.000,9, -999.00,9, -999.00,9,      17.69,2, 20210407,     1649,  13.6388, -52.3337,     4.8331,2,     0.0422,1,     4.6943,1,     -999.0,9,     -999.0,9,     -999.0,9,     -999.0,9
325020210316,        A20,      63,          1,         15,         15,2,20210407,       1527,    13.6388,   -52.3337,       5139,  1615.9,   4.2781,  34.9945,2,  34.9955,2,    237.6,2,   236.9,2,   16.80,2,   20.01,2,    0.00,2,    1.31,2,   0.750,2,   0.385,2,    0.20,2,  2175.4,2, 2314.77,2,   -999.0,9,  -999.00,   7.71641,2,    24.98, -999.00,9, -999.00,9, -999.00,-999.000,9,   40.09,2,   22.19,2,      16.45,2, 20210407,     1645,  13.6388, -52.3337,     4.2775,2,     0.0426,1,     4.6956,1,     -999.0,9,     -999.0,9,     -999.0,9,     -999.0,9
325020210316,        A20,      63,          1,         14,         14,2,20210407,       1527,    13.6388,   -52.3337,       5139,  1818.2,   3.8245,  34.9822,2,  34.9856,2,    250.8,2,   250.0,2,   17.29,2,   18.96,2,    0.00,2,    1.26,2,-999.000,9,-999.000,9, -999.00,9,  -999.0,9, -999.00,9,   -999.0,9,  -999.00,-999.00000,9,  -999.00, -999.00,9, -999.00,9, -999.00,-999.000,9, -999.00,9, -999.00,9,     -999.0,9, 20210407,     1640,  13.6388, -52.3337,     3.8238,2,     0.0435,1,     4.6955,1,     -999.0,9,     -999.0,9,     -999.0,9,     -999.0,9
325020210316,        A20,      63,          1,         13,         13,2,20210407,       1527,    13.6388,   -52.3337,       5139,  2021.0,   3.5158,  34.9710,2,  34.9719,2,    252.7,2,   252.5,2,   20.02,2,   19.07,2,    0.00,2,    1.26,2,-999.000,9,-999.000,9, -999.00,9,  -999.0,9, -999.00,9,   -999.0,9,  -999.00,-999.00000,9,  -999.00, -999.00,9, -999.00,9, -999.00,-999.000,9,   39.17,2,   21.16,2,     -999.0,9, 20210407,     1635,  13.6388, -52.3337,     3.5157,2,     0.0416,1,     4.6959,1,     -999.0,9,     -999.0,9,     -999.0,9,     -999.0,9
325020210316,        A20,      63,          1,         12,         12,2,20210407,       1527,    13.6388,   -52.3337,       5139,  2275.0,   3.1966,  34.9556,2,  34.9561,2,    256.0,2,   256.2,2,   22.27,2,   18.87,2,    0.00,2,    1.25,2,   0.487,2,   0.246,2,    0.12,2,  2171.6,2, 2320.54,2,   -999.0,9,  -999.00,   7.73835,2,    25.02, -999.00,9, -999.00,9, -999.00,-999.000,9,   40.17,2,   20.87,2,      15.21,2, 20210407,     1630,  13.6388, -52.3337,     3.1965,2,     0.0422,1,     4.6955,1,     -999.0,9,     -999.0,9,     -999.0,9,     -999.0,9
325020210316,        A20,      63,          1,         11,         11,2,20210407,       1527,    13.6388,   -52.3337,       5139,  2530.1,   2.9861,  34.9439,2,  34.9451,2,    252.6,2,   253.1,2,   27.64,2,   19.66,2,    0.00,2,    1.31,2,-999.000,9,-999.000,9, -999.00,9,  -999.0,9, -999.00,9,   -999.0,9,  -999.00,-999.00000,9,  -999.00, -999.00,9, -999.00,9, -999.00,-999.000,9,   41.81,2,   20.86,2,     -999.0,9, 20210407,     1625,  13.6388, -52.3337,     2.9867,2,     0.0417,1,     4.6956,1,     -999.0,9,     -999.0,9,     -999.0,9,     -999.0,9
325020210316,        A20,      63,          1,         10,         10,2,20210407,       1527,    13.6388,   -52.3337,       5139,  2783.3,   2.8337,  34.9337,2,  34.9341,2,    251.2,2,   251.6,2,   31.25,2,   20.09,2,    0.00,2,    1.33,2,-999.000,9,-999.000,9, -999.00,9,  -999.0,9, -999.00,9,   -999.0,9,  -999.00,-999.00000,9,  -999.00, -999.00,9, -999.00,9, -999.00,-999.000,9, -999.00,9, -999.00,9,     -999.0,9, 20210407,     1619,  13.6388, -52.3337,     2.8333,2,     0.0434,1,     4.6947,1,     -999.0,9,     -999.0,9,     -999.0,9,     -999.0,9
325020210316,        A20,      63,          1,          9,          9,2,20210407,       1527,    13.6388,   -52.3337,       5139,  3039.0,   2.6987,  34.9237,2,  34.9233,2,    253.3,2,   253.5,2,   32.33,2,   20.06,2,    0.00,2,    1.33,2,   0.257,2,   0.133,2,    0.14,2,  2182.5,2,  2329.0,2,   -999.0,9,  -999.00,   7.73564,6,    25.02, -999.00,9, -999.00,9, -999.00,-999.000,9,   40.92,2,   22.50,2,      15.42,2, 20210407,     1614,  13.6388, -52.3337,     2.6982,2,     0.0424,1,     4.6953,1,     -999.0,9,     -999.0,9,     -999.0,9,     -999.0,9
325020210316,        A20,      63,          1,          8,          8,2,20210407,       1527,    13.6388,   -52.3337,       5139,  3344.1,   2.5543,  34.9128,2,  34.9132,2,    258.5,2,   259.2,2,   30.67,2,   19.36,2,    0.00,2,    1.30,2,-999.000,9,-999.000,9, -999.00,9,  -999.0,9, -999.00,9,   -999.0,9,  -999.00,-999.00000,9,  -999.00, -999.00,9, -999.00,9, -999.00,-999.000,9,   42.45,2,   21.70,2,     -999.0,9, 20210407,     1608,  13.6388, -52.3337,     2.5550,2,     0.0423,1,     4.6946,1,     -999.0,9,     -999.0,9,     -999.0,9,     -999.0,9
325020210316,        A20,      63,          1,          7,          7,2,20210407,       1527,    13.6388,   -52.3337,       5139,  3651.8,   2.4235,  34.9012,3,  34.9036,2,    257.3,2,   257.6,2,   34.97,2,   19.90,2,    0.00,2,    1.33,2,-999.000,9,-999.000,9, -999.00,9,  -999.0,9, -999.00,9,   -999.0,9,  -999.00,-999.00000,9,  -999.00, -999.00,9, -999.00,9, -999.00,-999.000,9, -999.00,9, -999.00,9,     -999.0,9, 20210407,     1601,  13.6388, -52.3337,     2.4231,2,     0.0426,1,     4.6947,1,     -999.0,9,     -999.0,9,     -999.0,9,     -999.0,9
325020210316,        A20,      63,          1,          6,          6,2,20210407,       1527,    13.6388,   -52.3337,       5139,  3959.3,   2.3149,  34.8931,2,  34.8930,2,    261.4,2,   261.1,2,   33.99,2,   19.42,2,    0.00,2,    1.31,2,   0.536,2,   0.276,2,    0.14,2,  -999.0,9, -999.00,9,   -999.0,9,  -999.00,-999.00000,9,  -999.00, -999.00,9, -999.00,9, -999.00,-999.000,9,   41.13,2,   19.93,2,      15.49,2, 20210407,     1555,  13.6388, -52.3337,     2.3151,2,     0.0423,1,     4.6947,1,     -999.0,9,     -999.0,9,     -999.0,9,     -999.0,9
325020210316,        A20,      63,          1,          5,          5,2,20210407,       1527,    13.6388,   -52.3337,       5139,  4266.7,   2.2591,  34.8858,2,  34.8871,2,    260.7,2,   260.4,2,   36.53,2,   19.79,2,    0.00,2,    1.33,2,-999.000,9,-999.000,9, -999.00,9,  -999.0,9, -999.00,9,   -999.0,9,  -999.00,-999.00000,9,  -999.00, -999.00,9, -999.00,9, -999.00,-999.000,9, -999.00,9, -999.00,9,     -999.0,9, 20210407,     1548,  13.6388, -52.3337,     2.2592,2,     0.0429,1,     4.6947,1,     -999.0,9,     -999.0,9,     -999.0,9,     -999.0,9
325020210316,        A20,      63,          1,          4,          4,2,20210407,       1527,    13.6388,   -52.3337,       5139,  4575.1,   2.1780,  34.8732,2,  34.8741,2,    257.2,2,   256.8,2,   42.20,2,   20.61,2,    0.00,2,    1.39,2,   0.476,2,   0.241,2,    0.12,2,  2192.4,2, 2334.08,6,   -999.0,9,  -999.00,   7.72402,2,    25.02, -999.00,9, -999.00,9, -999.00,-999.000,9,   42.18,2,   23.23,2,      15.64,2, 20210407,     1540,  13.6388, -52.3337,     2.1785,2,     0.0425,1,     4.6912,1,     -999.0,9,     -999.0,9,     -999.0,9,     -999.0,9
325020210316,        A20,      63,          1,          3,          3,2,20210407,       1527,    13.6388,   -52.3337,       5139,  4883.4,   1.9447,  34.8413,2,  34.8416,2,    247.5,2,   247.6,2,   57.63,2,   23.04,2,    0.00,2,    1.54,2,-999.000,9,-999.000,9, -999.00,9,  -999.0,9, -999.00,9,   -999.0,9,  -999.00,-999.00000,9,  -999.00, -999.00,9, -999.00,9, -999.00,-999.000,9,   40.99,2,   24.66,2,     -999.0,9, 20210407,     1535,  13.6388, -52.3337,     1.9451,2,     0.0428,1,     4.6862,1,     -999.0,9,     -999.0,9,     -999.0,9,     -999.0,9