BOTTLE,20230512CCHSIOCBG
EXPOCODE,SECT_ID,STNNBR,CASTNO,SAMPNO,BTLNBR,BTLNBR_FLAG_W,DATE,TIME,LATITUDE,LONGITUDE,DEPTH,CTDPRS,CTDTMP,CTDSAL,CTDSAL_FLAG_W,SALNTY,SALNTY_FLAG_W,CTDOXY,CTDOXY_FLAG_W,OXYGEN,OXYGEN_FLAG_W,SILCAT,SILCAT_FLAG_W,NITRAT,NITRAT_FLAG_W,NITRIT,NITRIT_FLAG_W,PHSPHT,PHSPHT_FLAG_W,CFC-11,CFC-11_FLAG_W,CFC-12,CFC-12_FLAG_W,SF6,SF6_FLAG_W,TCARBN,TCARBN_FLAG_W,ALKALI,ALKALI_FLAG_W,FCO2,FCO2_FLAG_W,FCO2TMP,PH_TOT,PH_TOT_FLAG_W,PH_TMP,DELC13,DELC13_FLAG_W,DELC14,DELC14_FLAG_W,C14ERR,POC,POC_FLAG_W,DOC,DOC_FLAG_W,TDN,TDN_FLAG_W,N2O,N2O_FLAG_W,BTL_DATE,BTL_TIME,BTL_LAT,BTL_LON,REFTMP,REFTMP_FLAG_W,CTDFLUOR,CTDFLUOR_FLAG_W,CTDXMISS,CTDXMISS_FLAG_W,D15N_NO2+NO3,D15N_NO2+NO3_FLAG_W,D18O_NO2+NO3,D18O_NO2+NO3_FLAG_W,HPLC,HPLC_FLAG_W,MICROGELS,MICROGELS_FLAG_W
,,,,,,,,,,,METERS,DBAR,ITS-90,PSS-78,,PSS-78,,UMOL/KG,,UMOL/KG,,UMOL/KG,,UMOL/KG,,UMOL/KG,,UMOL/KG,,PMOL/KG,,PMOL/KG,,FMOL/KG,,UMOL/KG,,UMOL/KG,,UATM,,DEG C,,,DEG C,/MILLE,,/MILLE,,/MILLE,UG/KG,,UMOL/KG,,UMOL/KG,,NMOL/KG,,,,,,ITS-90,,VOLTS,,VOLTS,,/MILLE,,/MILLE,,,,1E6 GELS/L,
325020210316,        A20,      44,          1,         36,         36,2,20210402,       0208,    24.7221,   -52.3340,       5341,     5.0,  24.0637,  37.4591,2,  37.4595,2,    211.6,2,   210.0,2,    0.59,2,    0.00,2,    0.00,2,    0.00,2,   1.538,2,   1.048,2,    1.78,2,  2106.9,6, 2447.41,6,    318.5,2,    20.00,   8.07545,2,    24.98, -999.00,9, -999.00,9, -999.00,-999.000,9, -999.00,9, -999.00,9,       6.01,2, 20210402,      425,  24.7221, -52.3340,    24.0621,2,     0.0436,1,     4.6542,1,     -999.0,1,     -999.0,1,     -999.0,9,     -999.0,9
325020210316,        A20,      44,          1,         35,         35,2,20210402,       0208,    24.7221,   -52.3340,       5341,    20.2,  24.0661,  37.4605,2,  37.4605,2,    211.6,2,   210.6,2,    0.68,2,    0.00,2,    0.00,2,    0.00,2,-999.000,9,-999.000,9, -999.00,9,  2107.1,2, -999.00,9,   -999.0,9,  -999.00,   8.07443,6,    25.02, -999.00,9, -999.00,9, -999.00,-999.000,9, -999.00,9, -999.00,9,     -999.0,9, 20210402,      424,  24.7221, -52.3340,    24.0649,2,     0.0440,1,     4.6539,1,     -999.0,1,     -999.0,1,     -999.0,9,     -999.0,9
325020210316,        A20,      44,          1,         34,         34,2,20210402,       0208,    24.7221,   -52.3340,       5341,    40.5,  24.0645,  37.4576,2,  37.4591,2,    211.5,2,   210.3,2,    0.59,2,    0.00,2,    0.00,2,    0.00,2,-999.000,9,-999.000,9, -999.00,9,  -999.0,9, -999.00,9,   -999.0,9,  -999.00,-999.00000,9,  -999.00, -999.00,9, -999.00,9, -999.00,-999.000,9, -999.00,9, -999.00,9,     -999.0,9, 20210402,      422,  24.7221, -52.3340,    24.0633,2,     0.0443,1,     4.6557,1,     -999.0,1,     -999.0,1,     -999.0,9,     -999.0,9
325020210316,        A20,      44,          1,         33,         33,2,20210402,       0208,    24.7221,   -52.3340,       5341,    65.6,  24.0629,  37.4604,2,  37.4595,2,    211.2,2,   210.0,2,    0.68,2,    0.00,2,    0.00,2,    0.00,2,   1.500,2,   1.046,2,    1.84,2,  2105.7,2, 2449.39,2,    320.5,2,    20.00,   8.07478,2,    25.04, -999.00,9, -999.00,9, -999.00,-999.000,9, -999.00,9, -999.00,9,       5.98,2, 20210402,      420,  24.7221, -52.3341,    24.0600,2,     0.0441,1,     4.6546,1,     -999.0,1,     -999.0,1,     -999.0,9,     -999.0,9
325020210316,        A20,      44,          1,         32,         32,2,20210402,       0208,    24.7221,   -52.3340,       5341,    90.2,  24.0561,  37.4594,2,  37.4603,2,    210.8,2,   210.3,2,    0.59,2,    0.00,2,    0.00,2,    0.00,2,-999.000,9,-999.000,9, -999.00,9,  2106.2,2, -999.00,9,   -999.0,9,  -999.00,   8.07528,2,    25.00, -999.00,9, -999.00,9, -999.00,-999.000,9, -999.00,9, -999.00,9,     -999.0,9, 20210402,      419,  24.7221, -52.3341,    24.0516,2,     0.0482,1,     4.6572,1,     -999.0,1,     -999.0,1,     -999.0,9,     -999.0,9
325020210316,        A20,      44,          1,         31,         31,2,20210402,       0208,    24.7221,   -52.3340,       5341,   136.2,  22.1267,  37.0752,2,  37.0774,2,    203.7,2,   203.8,2,    0.59,2,    0.00,2,    0.00,2,    0.00,2,   1.737,2,   1.154,2,    1.77,2,  2119.1,2, 2424.04,2,   -999.0,9,  -999.00,   8.02304,2,    25.00, -999.00,9, -999.00,9, -999.00,-999.000,9, -999.00,9, -999.00,9,       7.00,2, 20210402,      417,  24.7221, -52.3341,    22.1247,2,     0.0755,1,     4.6580,1,     -999.0,1,     -999.0,1,     -999.0,9,     -999.0,9
325020210316,        A20,      44,          1,         30,         30,2,20210402,       0208,    24.7221,   -52.3340,       5341,   185.2,  20.0651,  36.8007,2,  36.7982,2,    188.6,2,   190.3,2,    0.88,2,    1.28,2,    0.02,2,    0.00,2,-999.000,9,-999.000,9, -999.00,9,  2132.9,2, -999.00,9,   -999.0,9,  -999.00,   7.97453,2,    25.02, -999.00,9, -999.00,9, -999.00,-999.000,9, -999.00,9, -999.00,9,     -999.0,9, 20210402,      415,  24.7221, -52.3341,    20.0637,2,     0.0588,1,     4.6740,1,     -999.0,1,     -999.0,1,     -999.0,9,     -999.0,9
325020210316,        A20,      44,          1,         29,         29,2,20210402,       0208,    24.7221,   -52.3340,       5341,   236.5,  19.0448,  36.6511,2,  36.6453,2,    194.6,2,   195.6,2,    1.07,2,    2.80,2,    0.00,2,    0.07,2,   1.916,2,   1.287,2,    1.79,2,  2130.1,2, -999.00,9,   -999.0,9,  -999.00,   7.96667,2,    25.05, -999.00,9, -999.00,9, -999.00,-999.000,9, -999.00,9, -999.00,9,       8.44,2, 20210402,      413,  24.7221, -52.3341,    19.0417,2,     0.0425,1,     4.6874,1,     -999.0,1,     -999.0,1,     -999.0,9,     -999.0,9
325020210316,        A20,      44,          1,         28,         28,2,20210402,       0208,    24.7221,   -52.3340,       5341,   286.1,  18.5292,  36.5808,2,  36.5775,2,    197.2,2,   197.3,2,    1.37,2,    3.74,2,    0.00,2,    0.13,2,-999.000,9,-999.000,9, -999.00,9,  2128.8,2, 2389.18,2,    428.4,2,    20.00,   7.95843,6,    25.01, -999.00,9, -999.00,9, -999.00,-999.000,9, -999.00,9, -999.00,9,     -999.0,9, 20210402,      411,  24.7221, -52.3340,    18.5265,2,     0.0390,1,     4.6911,1,     -999.0,1,     -999.0,1,     -999.0,9,     -999.0,9
325020210316,        A20,      44,          1,         27,         27,2,20210402,       0208,    24.7221,   -52.3340,       5341,   337.1,  17.7158,  36.4541,2,  36.4428,2,    187.8,2,   188.1,2,    1.95,2,    5.81,2,    0.00,2,    0.25,2,   2.014,2,   1.357,2,    1.65,2,  2139.9,2, -999.00,9,   -999.0,9,  -999.00,   7.92783,2,    25.01, -999.00,9, -999.00,9, -999.00,-999.000,9, -999.00,9, -999.00,9,       9.50,2, 20210402,      409,  24.7221, -52.3341,    17.7261,2,     0.0392,1,     4.6923,1,     -999.0,1,     -999.0,1,     -999.0,9,     -999.0,9
325020210316,        A20,      44,          1,         26,         26,2,20210402,       0208,    24.7221,   -52.3340,       5341,   388.3,  16.7032,  36.2854,2,  36.2778,2,    185.2,2,   186.1,2,    2.44,2,    7.50,2,    0.00,2,    0.37,2,-999.000,9,-999.000,9, -999.00,9,  -999.0,9, -999.00,9,   -999.0,9,  -999.00,-999.00000,9,  -999.00, -999.00,9, -999.00,9, -999.00,-999.000,9, -999.00,9, -999.00,9,     -999.0,9, 20210402,      407,  24.7221, -52.3340,    16.7135,2,     0.0402,1,     4.6938,1,     -999.0,1,     -999.0,1,     -999.0,9,     -999.0,9
325020210316,        A20,      44,          1,         25,         25,2,20210402,       0208,    24.7221,   -52.3340,       5341,   468.2,  15.3479,  36.0649,2,  36.0596,2,    180.1,2,   181.0,2,    3.61,2,   10.05,2,    0.00,2,    0.54,2,   2.166,2,   1.398,2,    1.48,2,  2151.9,2, 2363.91,2,    544.5,2,    20.00,   7.86303,2,    25.02, -999.00,9, -999.00,9, -999.00,-999.000,9, -999.00,9, -999.00,9,      12.59,2, 20210402,      404,  24.7221, -52.3341,    15.3471,2,     0.0402,1,     4.6948,1,     -999.0,1,     -999.0,1,     -999.0,9,     -999.0,9
325020210316,        A20,      44,          1,         24,         24,2,20210402,       0208,    24.7221,   -52.3340,       5341,   569.0,  13.4329,  35.7944,2,  35.7932,2,    168.0,2,   168.9,2,    5.57,2,   14.17,2,    0.00,2,    0.80,2,   2.146,2,   1.319,2,    1.15,2,  2167.6,2, -999.00,9,   -999.0,9,  -999.00,   7.80291,2,    25.01, -999.00,9, -999.00,9, -999.00,-999.000,9, -999.00,9, -999.00,9,      14.62,2, 20210402,      401,  24.7221, -52.3340,    13.4332,2,     0.0402,1,     4.6969,1,     -999.0,1,     -999.0,1,     -999.0,9,     -999.0,9
325020210316,        A20,      44,          1,         23,         23,2,20210402,       0208,    24.7221,   -52.3340,       5341,   669.0,  11.7261,  35.5718,2,  35.5727,2,    164.1,2,   164.8,2,    8.01,2,   17.33,2,    0.00,2,    1.02,2,   1.887,2,   1.149,2,    0.96,2,  -999.0,9, -999.00,9,    704.1,6,    20.00,-999.00000,9,  -999.00, -999.00,9, -999.00,9, -999.00,-999.000,9, -999.00,9, -999.00,9,      16.25,2, 20210402,      359,  24.7221, -52.3341,    11.7240,2,     0.0411,1,     4.6993,1,     -999.0,1,     -999.0,1,     -999.0,9,     -999.0,9
325020210316,        A20,      44,          1,         22,         22,2,20210402,       0208,    24.7221,   -52.3340,       5341,   771.7,  10.0296,  35.3571,2,  35.3555,2,    147.2,2,   147.5,2,   12.11,2,   22.20,2,    0.00,2,    1.35,2,   1.321,2,   0.722,2,    0.41,2,  2190.8,2, -999.00,9,   -999.0,9,  -999.00,   7.70102,2,    25.00, -999.00,9, -999.00,9, -999.00,-999.000,9, -999.00,9, -999.00,9,      19.35,2, 20210402,      356,  24.7221, -52.3341,    10.0311,2,     0.0424,1,     4.7009,1,     -999.0,1,     -999.0,1,     -999.0,9,     -999.0,9
325020210316,        A20,      44,          1,         21,         21,2,20210402,       0208,    24.7221,   -52.3340,       5341,   871.8,   8.4552,  35.1708,2,  35.1711,2,    145.2,2,   144.8,2,   15.92,2,   25.21,2,    0.00,2,    1.57,2,   0.757,2,   0.446,2,    0.28,2,  2200.5,6, 2321.77,2,    890.4,2,    20.00,    7.6621,2,    25.01, -999.00,9, -999.00,9, -999.00,-999.000,9, -999.00,9, -999.00,9,      20.30,2, 20210402,      353,  24.7221, -52.3341,     8.4531,2,     0.0430,1,     4.7008,1,     -999.0,1,     -999.0,1,     -999.0,9,     -999.0,9
325020210316,        A20,      44,          1,         20,         20,2,20210402,       0208,    24.7221,   -52.3340,       5341,   974.4,   7.2389,  35.0440,2,  35.0437,2,    150.4,2,   149.9,2,   18.66,2,   26.60,2,    0.00,2,    1.69,2,   0.582,2,   0.300,2,    0.15,2,  2206.4,2, -999.00,9,   -999.0,9,  -999.00,   7.64166,6,    24.99, -999.00,9, -999.00,9, -999.00,-999.000,9, -999.00,9, -999.00,9,      21.15,2, 20210402,      350,  24.7221, -52.3341,     7.2496,2,     0.0419,1,     4.7019,1,     -999.0,1,     -999.0,1,     -999.0,9,     -999.0,9
325020210316,        A20,      44,          1,         19,         19,2,20210402,       0208,    24.7221,   -52.3340,       5341,  1073.5,   6.3352,  35.0161,2,  35.0163,2,    171.6,2,   171.1,2,   18.76,2,   25.19,2,    0.00,2,    1.62,2,   0.618,2,   0.318,2,    0.14,2,  2198.8,2, 2316.91,2,    898.7,2,    20.00,   7.65618,6,    25.01, -999.00,9, -999.00,9, -999.00,-999.000,9, -999.00,9, -999.00,9,      19.36,2, 20210402,      347,  24.7221, -52.3341,     6.3328,2,     0.0430,1,     4.7019,1,     -999.0,1,     -999.0,1,     -999.0,9,     -999.0,9
325020210316,        A20,      44,          1,         18,         18,2,20210402,       0208,    24.7221,   -52.3340,       5341,  1175.8,   5.8799,  35.0350,2,  35.0348,2,    192.0,2,   191.4,2,   17.29,2,   23.11,2,    0.00,2,    1.49,2,-999.000,9,-999.000,9, -999.00,9,  -999.0,9, -999.00,9,   -999.0,9,  -999.00,-999.00000,9,  -999.00, -999.00,9, -999.00,9, -999.00,-999.000,9, -999.00,9, -999.00,9,     -999.0,9, 20210402,      344,  24.7221, -52.3341,     5.8781,2,     0.0417,1,     4.7021,1,     -999.0,1,     -999.0,1,     -999.0,9,     -999.0,9
325020210316,        A20,      44,          1,         17,         17,2,20210402,       0208,    24.7221,   -52.3340,       5341,  1275.8,   5.4555,  35.0508,2,  35.0510,2,    211.6,2,   211.3,2,   15.53,2,   21.16,2,    0.00,2,    1.37,2,   0.952,2,   0.486,2,    0.24,2,  2183.6,2, -999.00,9,   -999.0,9,  -999.00,   7.69926,2,    25.00, -999.00,9, -999.00,9, -999.00,-999.000,9, -999.00,9, -999.00,9,      16.77,2, 20210402,      340,  24.7221, -52.3341,     5.4550,2,     0.0421,1,     4.7023,1,     -999.0,1,     -999.0,1,     -999.0,9,     -999.0,9
325020210316,        A20,      44,          1,         16,         16,2,20210402,       0208,    24.7221,   -52.3340,       5341,  1379.6,   5.3174,  35.0886,2,  35.0868,2,    222.3,2,   221.2,2,   14.85,2,   20.06,2,    0.00,2,    1.30,2,   1.034,2,   0.525,2,    0.26,2,  -999.0,9, -999.00,9,   -999.0,9,  -999.00,-999.00000,9,  -999.00, -999.00,9, -999.00,9, -999.00,-999.000,9, -999.00,9, -999.00,9,      15.28,2, 20210402,      337,  24.7221, -52.3340,     5.3177,2,     0.0416,1,     4.7035,1,     -999.0,1,     -999.0,1,     -999.0,9,     -999.0,9
325020210316,        A20,      44,          1,         15,         15,2,20210402,       0208,    24.7221,   -52.3340,       5341,  1551.6,   4.9475,  35.1062,2,  35.1067,2,    232.5,2,   232.0,2,   15.43,2,   19.21,2,    0.00,2,    1.25,2,   0.920,2,   0.465,2,    0.16,2,  2178.0,2, 2322.41,2,    754.6,2,    20.00,   7.72692,2,    25.01, -999.00,9, -999.00,9, -999.00,-999.000,9, -999.00,9, -999.00,9,      14.62,2, 20210402,      332,  24.7221, -52.3341,     4.9465,2,     0.0414,1,     4.7033,1,     -999.0,1,     -999.0,1,     -999.0,9,     -999.0,9
325020210316,        A20,      44,          1,         14,         14,2,20210402,       0208,    24.7221,   -52.3340,       5341,  1753.2,   4.3620,  35.0684,2,  35.0699,2,    241.6,2,   241.1,2,   17.49,2,   18.87,2,    0.00,2,    1.23,2,-999.000,9,-999.000,9, -999.00,9,  2176.0,2, -999.00,9,   -999.0,9,  -999.00,    7.7335,2,    25.02, -999.00,9, -999.00,9, -999.00,-999.000,9, -999.00,9, -999.00,9,     -999.0,9, 20210402,      328,  24.7221, -52.3340,     4.3644,2,     0.0414,1,     4.7039,1,     -999.0,1,     -999.0,1,     -999.0,9,     -999.0,9
325020210316,        A20,      44,          1,         13,         13,2,20210402,       0208,    24.7221,   -52.3340,       5341,  1957.3,   3.8842,  35.0311,2,  35.0317,2,    245.8,2,   245.8,2,   20.51,2,   18.95,2,    0.00,2,    1.25,2,   0.712,2,   0.336,2,    0.22,2,  2175.6,2, 2322.81,2,    741.5,2,    20.00,     7.736,2,    25.02, -999.00,9, -999.00,9, -999.00,-999.000,9, -999.00,9, -999.00,9,      13.64,2, 20210402,      323,  24.7221, -52.3341,     3.8861,2,     0.0421,1,     4.7033,1,     -999.0,1,     -999.0,1,     -999.0,9,     -999.0,9
325020210316,        A20,      44,          1,         12,         12,2,20210402,       0208,    24.7221,   -52.3340,       5341,  2191.1,   3.4448,  34.9924,2,  34.9923,2,    248.8,2,   248.7,2,   24.03,2,   19.20,2,    0.00,2,    1.27,2,-999.000,9,-999.000,9, -999.00,9,  -999.0,9, -999.00,9,   -999.0,9,  -999.00,-999.00000,9,  -999.00, -999.00,9, -999.00,9, -999.00,-999.000,9, -999.00,9, -999.00,9,     -999.0,9, 20210402,      318,  24.7221, -52.3341,     3.4472,2,     0.0429,1,     4.7034,1,     -999.0,1,     -999.0,1,     -999.0,9,     -999.0,9
325020210316,        A20,      44,          1,         11,         11,2,20210402,       0208,    24.7221,   -52.3340,       5341,  2445.2,   3.1389,  34.9655,2,  34.9652,2,    249.8,2,   250.2,2,   27.84,2,   19.54,2,    0.00,2,    1.30,2,   0.415,2,   0.211,2,    0.13,2,  2179.6,2, -999.00,9,   -999.0,9,  -999.00,   7.73792,2,    25.02, -999.00,9, -999.00,9, -999.00,-999.000,9, -999.00,9, -999.00,9,      13.19,2, 20210402,      313,  24.7221, -52.3341,     3.1382,2,     0.0424,1,     4.7033,1,     -999.0,1,     -999.0,1,     -999.0,9,     -999.0,9
325020210316,        A20,      44,          1,         10,         10,2,20210402,       0208,    24.7221,   -52.3340,       5341,  2700.7,   2.9364,  34.9481,2,  34.9482,2,    249.5,2,   249.9,2,   30.97,2,   19.91,2,    0.00,2,    1.33,2,   0.300,2,   0.146,2,    0.04,2,  -999.0,9, -999.00,9,   -999.0,9,  -999.00,-999.00000,9,  -999.00, -999.00,9, -999.00,9, -999.00,-999.000,9, -999.00,9, -999.00,9,      13.35,2, 20210402,      307,  24.7221, -52.3341,     2.9364,2,     0.0425,1,     4.7026,1,     -999.0,1,     -999.0,1,     -999.0,9,     -999.0,9
325020210316,        A20,      44,          1,          9,          9,2,20210402,       0208,    24.7221,   -52.3340,       5341,  2955.1,   2.7904,  34.9351,2,-999.0000,9,    249.9,2,  -999.0,9, -999.00,9, -999.00,9, -999.00,9, -999.00,9,-999.000,9,-999.000,9, -999.00,9,  -999.0,9, -999.00,9,   -999.0,9,  -999.00,-999.00000,9,  -999.00, -999.00,9, -999.00,9, -999.00,-999.000,9, -999.00,9, -999.00,9,     -999.0,9, 20210402,      301,  24.7221, -52.3340,     2.7898,2,     0.0429,1,     4.7033,1,     -999.0,9,     -999.0,9,     -999.0,9,     -999.0,9
325020210316,        A20,      44,          1,          8,          8,2,20210402,       0208,    24.7221,   -52.3340,       5341,  3246.0,   2.5889,  34.9174,2,  34.9176,2,    251.3,2,   251.5,2,   36.83,2,   20.40,2,    0.00,2,    1.37,2,   0.137,2,   0.069,2,    0.06,2,  2186.3,2, -999.00,9,   -999.0,9,  -999.00,   7.73642,2,    25.02, -999.00,9, -999.00,9, -999.00,-999.000,9, -999.00,9, -999.00,9,      13.74,2, 20210402,      255,  24.7221, -52.3340,     2.5898,2,     0.0430,1,     4.7025,1,     -999.0,1,     -999.0,1,     -999.0,9,     -999.0,9
325020210316,        A20,      44,          1,          7,          7,2,20210402,       0208,    24.7221,   -52.3340,       5341,  3552.0,   2.4350,  34.9037,2,  34.9038,2,    252.9,2,   253.1,2,   39.08,2,   20.57,2,    0.00,2,    1.38,2,   0.105,2,   0.056,2,    0.08,2,  2187.1,2, 2331.76,2,    745.2,2,    20.00,   7.73559,2,    25.02, -999.00,9, -999.00,9, -999.00,-999.000,9, -999.00,9, -999.00,9,      13.78,2, 20210402,      249,  24.7221, -52.3340,     2.4329,2,     0.0436,1,     4.7030,1,     -999.0,1,     -999.0,1,     -999.0,9,     -999.0,9
325020210316,        A20,      44,          1,          6,          6,2,20210402,       0208,    24.7221,   -52.3340,       5341,  3859.1,   2.2922,  34.8892,2,  34.8884,2,    253.1,2,   253.3,2,   42.30,2,   20.86,2,    0.00,2,    1.41,2,-999.000,9,-999.000,9, -999.00,9,  -999.0,9, -999.00,9,   -999.0,9,  -999.00,-999.00000,9,  -999.00, -999.00,9, -999.00,9, -999.00,-999.000,9, -999.00,9, -999.00,9,     -999.0,9, 20210402,      242,  24.7221, -52.3340,     2.2920,2,     0.0424,1,     4.7026,1,     -999.0,1,     -999.0,1,     -999.0,9,     -999.0,9
325020210316,        A20,      44,          1,          5,          5,2,20210402,       0208,    24.7221,   -52.3340,       5341,  4167.0,   2.2027,  34.8779,2,  34.8778,2,    252.7,2,   252.8,2,   45.63,2,   21.20,2,    0.00,2,    1.44,2,   0.094,6,   0.052,6,    0.02,6,  2192.0,2, -999.00,9,   -999.0,9,  -999.00,   7.72894,2,    25.05, -999.00,9, -999.00,9, -999.00,-999.000,9, -999.00,9, -999.00,9,      14.12,6, 20210402,      236,  24.7221, -52.3340,     2.2026,2,     0.0430,1,     4.7023,1,     -999.0,1,     -999.0,1,     -999.0,9,     -999.0,9
325020210316,        A20,      44,          1,          4,          4,2,20210402,       0208,    24.7221,   -52.3340,       5341,  4475.8,   2.1537,  34.8700,2,  34.8700,2,    252.1,2,   252.1,2,   47.97,2,   21.51,2,    0.00,2,    1.46,2,-999.000,9,-999.000,9, -999.00,9,  -999.0,9, -999.00,9,   -999.0,9,  -999.00,-999.00000,9,  -999.00, -999.00,9, -999.00,9, -999.00,-999.000,9, -999.00,9, -999.00,9,     -999.0,9, 20210402,      229,  24.7221, -52.3340,     2.1542,2,     0.0437,1,     4.7022,1,     -999.0,1,     -999.0,1,     -999.0,9,     -999.0,9
325020210316,        A20,      44,          1,          3,          3,2,20210402,       0208,    24.7221,   -52.3340,       5341,  4783.7,   2.0975,  34.8601,2,  34.8611,2,    250.7,2,   250.7,2,   51.39,2,   21.97,2,    0.00,2,    1.49,2,   0.139,2,   0.075,2,    0.10,2,  2199.6,2, -999.00,9,   -999.0,9,  -999.00,   7.72047,6,    25.01, -999.00,9, -999.00,9, -999.00,-999.000,9, -999.00,9, -999.00,9,      14.75,2, 20210402,      223,  24.7221, -52.3340,     2.0977,2,     0.0423,1,     4.7009,1,     -999.0,1,     -999.0,1,     -999.0,9,     -999.0,9