BOTTLE,20230512CCHSIOCBG
EXPOCODE,SECT_ID,STNNBR,CASTNO,SAMPNO,BTLNBR,BTLNBR_FLAG_W,DATE,TIME,LATITUDE,LONGITUDE,DEPTH,CTDPRS,CTDTMP,CTDSAL,CTDSAL_FLAG_W,SALNTY,SALNTY_FLAG_W,CTDOXY,CTDOXY_FLAG_W,OXYGEN,OXYGEN_FLAG_W,SILCAT,SILCAT_FLAG_W,NITRAT,NITRAT_FLAG_W,NITRIT,NITRIT_FLAG_W,PHSPHT,PHSPHT_FLAG_W,CFC-11,CFC-11_FLAG_W,CFC-12,CFC-12_FLAG_W,SF6,SF6_FLAG_W,TCARBN,TCARBN_FLAG_W,ALKALI,ALKALI_FLAG_W,FCO2,FCO2_FLAG_W,FCO2TMP,PH_TOT,PH_TOT_FLAG_W,PH_TMP,DELC13,DELC13_FLAG_W,DELC14,DELC14_FLAG_W,C14ERR,POC,POC_FLAG_W,DOC,DOC_FLAG_W,TDN,TDN_FLAG_W,N2O,N2O_FLAG_W,BTL_DATE,BTL_TIME,BTL_LAT,BTL_LON,REFTMP,REFTMP_FLAG_W,CTDFLUOR,CTDFLUOR_FLAG_W,CTDXMISS,CTDXMISS_FLAG_W,D15N_NO2+NO3,D15N_NO2+NO3_FLAG_W,D18O_NO2+NO3,D18O_NO2+NO3_FLAG_W,HPLC,HPLC_FLAG_W,MICROGELS,MICROGELS_FLAG_W
,,,,,,,,,,,METERS,DBAR,ITS-90,PSS-78,,PSS-78,,UMOL/KG,,UMOL/KG,,UMOL/KG,,UMOL/KG,,UMOL/KG,,UMOL/KG,,PMOL/KG,,PMOL/KG,,FMOL/KG,,UMOL/KG,,UMOL/KG,,UATM,,DEG C,,,DEG C,/MILLE,,/MILLE,,/MILLE,UG/KG,,UMOL/KG,,UMOL/KG,,NMOL/KG,,,,,,ITS-90,,VOLTS,,VOLTS,,/MILLE,,/MILLE,,,,1E6 GELS/L,
325020210316,        A20,      22,          1,         36,         36,2,20210326,       0416,    37.8893,   -52.3334,       5406,     5.1,  18.9834,  36.6516,2,  36.6516,2,    222.4,2,   222.3,2,    0.98,2,    1.29,2,    0.06,2,    0.05,2,   2.024,2,   1.269,2,    2.81,3,  2106.7,6, 2396.27,6,    372.2,2,    20.00,   8.00688,2,    24.97, -999.00,9, -999.00,9, -999.00,-999.000,9, -999.00,9, -999.00,9,       7.80,2, 20210326,      637,  37.8893, -52.3334,    18.9819,2,     0.1061,1,     4.6166,1,     -999.0,1,     -999.0,1,     -999.0,9,     -999.0,9
325020210316,        A20,      22,          1,         35,         35,2,20210326,       0416,    37.8893,   -52.3334,       5406,    25.1,  18.9902,  36.6513,2,  36.6515,2,    223.0,2,   222.6,2,    0.98,2,    1.30,2,    0.05,2,    0.04,2,-999.000,9,-999.000,9, -999.00,9,  2105.9,2, 2396.86,2,    372.1,2,    20.00,   8.00646,6,    25.00, -999.00,9, -999.00,9, -999.00,-999.000,9, -999.00,9, -999.00,9,     -999.0,9, 20210326,      636,  37.8893, -52.3334,    18.9896,2,     0.1061,1,     4.6143,1,     -999.0,1,     -999.0,1,     -999.0,9,     -999.0,9
325020210316,        A20,      22,          1,         34,         34,2,20210326,       0416,    37.8893,   -52.3334,       5406,    50.2,  18.9948,  36.6510,2,  36.6507,2,    223.7,2,   222.4,2,    0.88,2,    1.29,2,    0.06,2,    0.04,2,-999.000,9,-999.000,9, -999.00,9,  2105.1,2, 2396.67,2,   -999.0,9,  -999.00,   8.00661,2,    25.02, -999.00,9, -999.00,9, -999.00,-999.000,9, -999.00,9, -999.00,9,     -999.0,9, 20210326,      632,  37.8893, -52.3334,    18.9933,2,     0.1058,1,     4.6165,1,     -999.0,1,     -999.0,1,     -999.0,9,     -999.0,9
325020210316,        A20,      22,          1,         33,         33,2,20210326,       0416,    37.8893,   -52.3334,       5406,    76.3,  18.9723,  36.6470,2,  36.6473,2,    224.1,2,   222.7,2,    0.88,2,    1.30,2,    0.05,2,    0.04,2,   1.741,2,   1.264,2,    3.06,3,  2104.8,2, 2396.22,2,    371.5,2,    20.00,   8.00613,2,    25.01, -999.00,9, -999.00,9, -999.00,-999.000,9, -999.00,9, -999.00,9,       7.69,2, 20210326,      629,  37.8893, -52.3334,    18.9706,2,     0.1228,1,     4.6134,1,     -999.0,1,     -999.0,1,     -999.0,9,     -999.0,9
325020210316,        A20,      22,          1,         32,         32,2,20210326,       0416,    37.8893,   -52.3334,       5406,    99.8,  18.9505,  36.6498,2,  36.6467,2,    223.4,3,   220.2,2,    0.78,2,    1.44,2,    0.06,2,    0.05,2,-999.000,9,-999.000,9, -999.00,9,  2105.8,2, 2396.52,2,    374.2,2,    20.00,   8.00487,2,    24.99, -999.00,9, -999.00,9, -999.00,-999.000,9, -999.00,9, -999.00,9,     -999.0,9, 20210326,      627,  37.8893, -52.3333,    18.9545,2,     0.0800,1,     4.6475,1,     -999.0,1,     -999.0,1,     -999.0,9,     -999.0,9
325020210316,        A20,      22,          1,         31,         31,2,20210326,       0416,    37.8893,   -52.3334,       5406,   151.4,  18.8967,  36.6384,2,  36.6388,2,    221.1,2,   219.6,2,    0.98,2,    1.55,2,    0.06,2,    0.06,2,   1.991,2,   1.258,2,    2.54,3,  2107.1,2, 2395.93,2,    376.7,2,    20.00,   8.00061,6,    25.00, -999.00,9, -999.00,9, -999.00,-999.000,9, -999.00,9, -999.00,9,       7.67,2, 20210326,      624,  37.8893, -52.3334,    18.8948,2,     0.0710,1,     4.6582,1,     -999.0,1,     -999.0,1,     -999.0,9,     -999.0,9
325020210316,        A20,      22,          1,         30,         30,2,20210326,       0416,    37.8893,   -52.3334,       5406,   201.9,  18.9027,  36.6427,2,  36.6419,2,    220.1,2,   219.4,2,    0.78,2,    1.56,2,    0.06,2,    0.06,2,   1.966,2,   1.243,2,    2.58,3,  2106.7,2, 2396.88,2,   -999.0,9,  -999.00,   8.00277,2,    24.99, -999.00,9, -999.00,9, -999.00,-999.000,9, -999.00,9, -999.00,9,       7.57,2, 20210326,      623,  37.8893, -52.3334,    18.9033,2,     0.0634,1,     4.6652,1,     -999.0,1,     -999.0,1,     -999.0,9,     -999.0,9
325020210316,        A20,      22,          1,         29,         29,2,20210326,       0416,    37.8893,   -52.3334,       5406,   252.4,  18.8975,  36.6404,2,  36.6382,2,    219.8,3,   223.5,2,    0.78,2,    1.61,2,    0.06,2,    0.05,2,-999.000,9,-999.000,9, -999.00,9,  2106.4,2, 2395.77,2,    377.1,2,    20.00,   8.00261,2,    24.98, -999.00,9, -999.00,9, -999.00,-999.000,9, -999.00,9, -999.00,9,     -999.0,9, 20210326,      621,  37.8893, -52.3334,    18.8965,2,     0.0564,1,     4.6686,1,     -999.0,1,     -999.0,1,     -999.0,9,     -999.0,9
325020210316,        A20,      22,          1,         28,         28,2,20210326,       0416,    37.8893,   -52.3334,       5406,   302.5,  18.8999,  36.6401,2,  36.6400,2,    217.5,2,   218.9,2,    0.68,2,    1.61,2,    0.05,2,    0.04,2,   1.990,2,   1.262,2,    2.52,3,  2105.2,2, 2395.11,2,   -999.0,9,  -999.00,   8.00258,2,    24.98, -999.00,9, -999.00,9, -999.00,-999.000,9, -999.00,9, -999.00,9,       7.62,2, 20210326,      619,  37.8893, -52.3334,    18.9012,2,     0.0576,1,     4.6701,1,     -999.0,1,     -999.0,1,     -999.0,9,     -999.0,9
325020210316,        A20,      22,          1,         27,         27,2,20210326,       0416,    37.8893,   -52.3334,       5406,   352.6,  18.9076,  36.6395,2,  36.6400,2,    219.0,2,   218.7,2,    0.78,2,    1.61,2,    0.06,2,    0.04,2,   2.025,2,   1.251,2,    2.22,3,  2106.0,2, 2397.25,2,    378.5,2,    20.00,   8.00211,2,    24.99, -999.00,9, -999.00,9, -999.00,-999.000,9, -999.00,9, -999.00,9,       7.70,2, 20210326,      616,  37.8893, -52.3334,    18.9083,2,     0.0569,1,     4.6703,1,     -999.0,1,     -999.0,1,     -999.0,9,     -999.0,9
325020210316,        A20,      22,          1,         26,         26,2,20210326,       0416,    37.8893,   -52.3334,       5406,   403.8,  18.9216,  36.6457,2,  36.6457,2,    214.4,3,   218.3,2,    0.78,2,    1.65,2,    0.04,2,    0.04,2,-999.000,9,-999.000,9, -999.00,9,  2105.8,2,  2395.1,2,   -999.0,9,  -999.00,   8.00173,2,    24.98, -999.00,9, -999.00,9, -999.00,-999.000,9, -999.00,9, -999.00,9,     -999.0,9, 20210326,      615,  37.8893, -52.3333,    18.9193,2,     0.0517,1,     4.6788,1,     -999.0,1,     -999.0,1,     -999.0,9,     -999.0,9
325020210316,        A20,      22,          1,         25,         25,2,20210326,       0416,    37.8893,   -52.3334,       5406,   504.6,  18.5808,  36.5731,2,  36.5654,2,    203.2,3,   197.8,2,    1.27,2,    4.04,2,    0.00,2,    0.17,2,   2.059,2,   1.302,2,    2.30,3,  2124.7,2, 2388.09,2,    421.2,6,    20.00,   7.96103,2,    24.98, -999.00,9, -999.00,9, -999.00,-999.000,9, -999.00,9, -999.00,9,       8.69,2, 20210326,      611,  37.8893, -52.3334,    18.5967,2,     0.0409,1,     4.6911,1,     -999.0,1,     -999.0,1,     -999.0,9,     -999.0,9
325020210316,        A20,      22,          1,         24,         24,2,20210326,       0416,    37.8893,   -52.3334,       5406,   605.3,  17.4048,  36.3821,2,  36.3804,2,    182.1,2,   183.6,2,    2.15,2,    7.03,2,    0.00,2,    0.34,2,   2.223,2,   1.378,2,    2.31,3,  2139.9,2, 2377.46,2,    475.1,2,    20.00,   7.91461,2,    24.98, -999.00,9, -999.00,9, -999.00,-999.000,9, -999.00,9, -999.00,9,      10.47,2, 20210326,      608,  37.8893, -52.3334,    17.4186,2,     0.0408,1,     4.6990,1,     -999.0,1,     -999.0,1,     -999.0,9,     -999.0,9
325020210316,        A20,      22,          1,         23,         23,2,20210326,       0416,    37.8893,   -52.3334,       5406,   706.7,  16.0926,  36.1637,2,  36.1610,2,    176.8,3,   174.0,2,    3.42,2,   10.01,2,    0.00,2,    0.56,2,   2.214,2,   1.359,2,    1.87,3,  2153.7,6, 2365.63,2,    532.1,2,    20.00,   7.87071,2,    25.00, -999.00,9, -999.00,9, -999.00,-999.000,9, -999.00,9, -999.00,9,      12.25,2, 20210326,      605,  37.8893, -52.3334,    16.0899,2,     0.0394,1,     4.7008,1,     -999.0,1,     -999.0,1,     -999.0,9,     -999.0,9
325020210316,        A20,      22,          1,         22,         22,2,20210326,       0416,    37.8893,   -52.3334,       5406,   808.2,  14.1812,  35.8533,2,  35.8479,2,    161.3,3,   158.4,2,    5.96,2,   14.68,2,    0.00,2,    0.87,2,   2.120,2,   1.270,2,    1.59,3,  2171.0,2, 2350.33,2,    629.2,2,    20.00,   7.80365,2,    25.00, -999.00,9, -999.00,9, -999.00,-999.000,9, -999.00,9, -999.00,9,      15.66,2, 20210326,      601,  37.8893, -52.3334,    14.2089,2,     0.0407,1,     4.7041,1,     -999.0,1,     -999.0,1,     -999.0,9,     -999.0,9
325020210316,        A20,      22,          1,         21,         21,2,20210326,       0416,    37.8893,   -52.3334,       5406,   908.9,  12.1286,  35.5501,2,  35.5506,2,    153.7,2,   153.6,2,    8.79,2,   18.32,2,    0.00,2,    1.13,2,   1.947,2,   1.138,2,    1.28,3,  2183.6,2, 2336.02,2,   -999.0,9,  -999.00,   7.74493,2,    24.99, -999.00,9, -999.00,9, -999.00,-999.000,9, -999.00,9, -999.00,9,      17.99,2, 20210326,      558,  37.8893, -52.3334,    12.1277,2,     0.0407,1,     4.7053,1,     -999.0,1,     -999.0,1,     -999.0,9,     -999.0,9
325020210316,        A20,      22,          1,         20,         20,2,20210326,       0416,    37.8893,   -52.3334,       5406,  1010.0,   9.7358,  35.2629,2,  35.2617,2,    144.7,2,   143.8,2,   13.38,2,   23.18,2,    0.00,2,    1.48,2,-999.000,9,-999.000,9, -999.00,9,  2198.2,2, 2323.82,6,    859.3,2,    20.00,   7.67676,2,    24.99, -999.00,9, -999.00,9, -999.00,-999.000,9, -999.00,9, -999.00,9,     -999.0,9, 20210326,      555,  37.8893, -52.3334,     9.7543,2,     0.0417,1,     4.7042,1,     -999.0,1,     -999.0,1,     -999.0,9,     -999.0,9
325020210316,        A20,      22,          1,         19,         19,2,20210326,       0416,    37.8893,   -52.3334,       5406,  1111.3,   7.7016,  35.1337,2,  35.1335,2,    167.5,3,   170.4,2,   14.17,2,   22.81,2,    0.00,2,    1.48,2,   1.610,6,   0.880,6,    0.99,3,  2196.3,2, 2317.36,2,    874.6,2,    20.00,   7.66742,6,    24.99, -999.00,9, -999.00,9, -999.00,-999.000,9, -999.00,9, -999.00,9,      18.91,6, 20210326,      552,  37.8893, -52.3334,     7.6892,2,     0.0428,1,     4.7030,1,     -999.0,1,     -999.0,1,     -999.0,9,     -999.0,9
325020210316,        A20,      22,          1,         18,         18,2,20210326,       0416,    37.8893,   -52.3334,       5406,  1213.1,   6.2132,  35.0843,2,  35.0856,2,    204.9,2,   205.4,2,   13.19,2,   20.61,2,    0.00,2,    1.34,2,-999.000,9,-999.000,9, -999.00,9,  2185.6,2, 2314.45,2,    838.5,2,    20.00,    7.6843,2,    24.97, -999.00,9, -999.00,9, -999.00,-999.000,9, -999.00,9, -999.00,9,     -999.0,9, 20210326,      549,  37.8893, -52.3333,     6.2292,2,     0.0426,1,     4.7045,1,     -999.0,1,     -999.0,1,     -999.0,9,     -999.0,9
325020210316,        A20,      22,          1,         17,         17,2,20210326,       0416,    37.8893,   -52.3334,       5406,  1313.8,   5.4585,  35.0526,2,  35.0539,2,    227.0,2,   226.9,2,   12.51,2,   19.29,2,    0.00,2,    1.26,2,   2.407,2,   1.297,2,    1.53,3,  2181.4,2, 2311.92,2,   -999.0,9,  -999.00,   7.69518,6,    24.99, -999.00,9, -999.00,9, -999.00,-999.000,9, -999.00,9, -999.00,9,      15.06,2, 20210326,      547,  37.8893, -52.3334,     5.4559,2,     0.0424,1,     4.7045,1,     -999.0,1,     -999.0,1,     -999.0,9,     -999.0,9
325020210316,        A20,      22,          1,         16,         16,2,20210326,       0416,    37.8893,   -52.3334,       5406,  1416.3,   4.9729,  35.0272,2,  35.0274,2,    240.9,2,   242.8,2,   11.92,2,   18.37,2,    0.00,2,    1.20,2,   2.342,2,   1.457,2,    1.66,3,  2176.6,2, 2311.35,2,    800.7,2,    20.00,   7.70232,2,    25.01, -999.00,9, -999.00,9, -999.00,-999.000,9, -999.00,9, -999.00,9,      14.52,2, 20210326,      543,  37.8893, -52.3334,     4.9706,2,     0.0418,1,     4.7057,1,     -999.0,1,     -999.0,1,     -999.0,9,     -999.0,9
325020210316,        A20,      22,          1,         15,         15,2,20210326,       0416,    37.8893,   -52.3334,       5406,  1618.9,   4.4604,  34.9934,2,  34.9937,2,    254.1,2,   255.0,2,   11.73,2,   17.71,2,    0.00,2,    1.16,2,   2.555,2,   1.527,2,    1.47,3,  2173.6,2, 2307.36,2,   -999.0,9,  -999.00,   7.70816,2,    25.01, -999.00,9, -999.00,9, -999.00,-999.000,9, -999.00,9, -999.00,9,      13.93,2, 20210326,      538,  37.8893, -52.3334,     4.4614,2,     0.0419,1,     4.7058,1,     -999.0,1,     -999.0,1,     -999.0,9,     -999.0,9
325020210316,        A20,      22,          1,         14,         14,2,20210326,       0416,    37.8893,   -52.3334,       5406,  1821.6,   4.2043,  34.9784,2,  34.9780,2,    259.8,2,   260.0,2,   12.02,2,   17.51,2,    0.00,2,    1.15,2,   2.816,2,   1.482,2,    1.25,3,  2171.0,2,  2308.7,2,    778.7,2,    20.00,   7.71212,2,    25.00, -999.00,9, -999.00,9, -999.00,-999.000,9, -999.00,9, -999.00,9,      13.68,2, 20210326,      533,  37.8893, -52.3334,     4.2037,2,     0.0430,1,     4.7057,1,     -999.0,1,     -999.0,1,     -999.0,9,     -999.0,9
325020210316,        A20,      22,          1,         13,         13,2,20210326,       0416,    37.8893,   -52.3334,       5406,  2024.2,   4.0195,  34.9709,2,  34.9709,2,    262.3,2,   262.0,2,   12.51,2,   17.38,2,    0.00,2,    1.16,2,   2.579,2,   1.326,2,    1.27,3,  2169.3,2, 2306.47,2,   -999.0,9,  -999.00,   7.71619,2,    25.00, -999.00,9, -999.00,9, -999.00,-999.000,9, -999.00,9, -999.00,9,      13.39,2, 20210326,      529,  37.8893, -52.3334,     4.0190,2,     0.0432,1,     4.7058,1,     -999.0,1,     -999.0,1,     -999.0,9,     -999.0,9
325020210316,        A20,      22,          1,         12,         12,2,20210326,       0416,    37.8893,   -52.3334,       5406,  2279.0,   3.8087,  34.9657,2,  34.9660,2,    262.0,2,   262.7,2,   13.68,2,   17.42,2,    0.00,2,    1.17,2,-999.000,9,-999.000,9, -999.00,9,  2165.8,2, 2309.86,2,    758.6,2,    20.00,   7.72225,2,    25.01, -999.00,9, -999.00,9, -999.00,-999.000,9, -999.00,9, -999.00,9,     -999.0,9, 20210326,      523,  37.8893, -52.3334,     3.8084,2,     0.0425,1,     4.7071,1,     -999.0,1,     -999.0,1,     -999.0,9,     -999.0,9
325020210316,        A20,      22,          1,         11,         11,2,20210326,       0416,    37.8893,   -52.3334,       5406,  2533.2,   3.5900,  34.9580,2,  34.9585,2,    262.5,2,   263.8,2,   15.05,2,   17.49,2,    0.00,2,    1.18,2,   1.905,2,   0.945,2,    0.44,3,  2166.6,6, 2309.67,2,   -999.0,9,  -999.00,   7.72728,2,    25.01, -999.00,9, -999.00,9, -999.00,-999.000,9, -999.00,9, -999.00,9,      13.19,2, 20210326,      518,  37.8893, -52.3334,     3.5895,2,     0.0431,1,     4.7081,1,     -999.0,1,     -999.0,1,     -999.0,9,     -999.0,9
325020210316,        A20,      22,          1,         10,         10,2,20210326,       0416,    37.8893,   -52.3334,       5406,  2787.8,   3.3794,  34.9507,2,  34.9512,2,    263.2,2,   264.2,2,   16.81,2,   17.62,2,    0.00,2,    1.19,2,   1.636,2,   0.811,2,    0.49,3,  2169.5,2, 2309.68,2,    745.6,2,    20.00,   7.73024,2,    25.02, -999.00,9, -999.00,9, -999.00,-999.000,9, -999.00,9, -999.00,9,      13.35,2, 20210326,      513,  37.8893, -52.3334,     3.3794,2,     0.0430,1,     4.7077,1,     -999.0,1,     -999.0,1,     -999.0,9,     -999.0,9
325020210316,        A20,      22,          1,          9,          9,2,20210326,       0416,    37.8893,   -52.3334,       5406,  3043.7,   3.1726,  34.9426,2,  34.9425,2,    264.0,2,   265.0,2,   18.37,2,   17.72,2,    0.00,2,    1.19,2,   1.424,2,   0.733,2,    0.49,3,  2169.4,2, 2312.25,2,   -999.0,9,  -999.00,   7.73194,2,    25.00, -999.00,9, -999.00,9, -999.00,-999.000,9, -999.00,9, -999.00,9,      13.25,2, 20210326,      507,  37.8893, -52.3334,     3.1718,2,     0.0406,1,     4.7083,1,     -999.0,1,     -999.0,1,     -999.0,9,     -999.0,9
325020210316,        A20,      22,          1,          8,          8,2,20210326,       0416,    37.8893,   -52.3334,       5406,  3351.1,   2.9294,  34.9313,2,  34.9311,2,    266.4,2,   266.7,2,   20.23,2,   17.70,2,    0.00,2,    1.20,2,-999.000,9,-999.000,9, -999.00,9,  2171.6,2, 2316.59,2,    740.7,2,    20.00,   7.73317,2,    24.99, -999.00,9, -999.00,9, -999.00,-999.000,9, -999.00,9, -999.00,9,     -999.0,9, 20210326,      501,  37.8893, -52.3334,     2.9292,2,     0.0430,1,     4.7089,1,     -999.0,1,     -999.0,1,     -999.0,9,     -999.0,9
325020210316,        A20,      22,          1,          7,          7,2,20210326,       0416,    37.8893,   -52.3334,       5406,  3657.7,   2.6665,  34.9175,2,  34.9170,2,    268.5,2,   268.6,2,   22.08,2,   17.61,2,    0.00,2,    1.19,2,   1.351,2,   0.705,2,    0.56,3,  2171.2,2, 2316.15,6,   -999.0,9,  -999.00,   7.73197,2,    25.00, -999.00,9, -999.00,9, -999.00,-999.000,9, -999.00,9, -999.00,9,      13.35,2, 20210326,      454,  37.8893, -52.3333,     2.6661,2,     0.0429,1,     4.7091,1,     -999.0,1,     -999.0,1,     -999.0,9,     -999.0,9
325020210316,        A20,      22,          1,          6,          6,2,20210326,       0416,    37.8893,   -52.3334,       5406,  3965.7,   2.4754,  34.9054,2,  34.9054,2,    268.8,2,   268.8,2,   24.82,2,   17.79,2,    0.00,2,    1.21,2,   1.296,2,   0.684,2,    0.69,3,  2175.1,2, 2319.35,2,    745.8,2,    20.00,   7.73095,6,    25.01, -999.00,9, -999.00,9, -999.00,-999.000,9, -999.00,9, -999.00,9,      13.30,2, 20210326,      448,  37.8893, -52.3334,     2.4755,2,     0.0424,1,     4.7092,1,     -999.0,1,     -999.0,1,     -999.0,9,     -999.0,9
325020210316,        A20,      22,          1,          5,          5,2,20210326,       0416,    37.8893,   -52.3334,       5406,  4273.5,   2.3641,  34.8965,2,  34.8959,2,    267.5,2,   267.7,2,   27.85,2,   18.09,2,    0.00,2,    1.23,2,-999.000,9,-999.000,9, -999.00,9,  2177.8,2,  2319.7,2,   -999.0,9,  -999.00,   7.72758,2,    25.00, -999.00,9, -999.00,9, -999.00,-999.000,9, -999.00,9, -999.00,9,     -999.0,9, 20210326,      442,  37.8893, -52.3334,     2.3639,2,     0.0429,1,     4.7069,1,     -999.0,1,     -999.0,1,     -999.0,9,     -999.0,9
325020210316,        A20,      22,          1,          4,          4,2,20210326,       0416,    37.8893,   -52.3334,       5406,  4581.5,   2.3144,  34.8900,2,  34.8900,2,    264.8,2,   266.1,2,   31.07,2,   18.56,2,    0.00,2,    1.27,2,   1.197,2,   0.626,2,    0.79,3,  2179.2,2, 2323.11,2,    755.1,2,    20.00,   7.72779,2,    25.01, -999.00,9, -999.00,9, -999.00,-999.000,9, -999.00,9, -999.00,9,      13.64,2, 20210326,      436,  37.8893, -52.3334,     2.3142,2,     0.0429,1,     4.7032,1,     -999.0,1,     -999.0,1,     -999.0,9,     -999.0,9
325020210316,        A20,      22,          1,          3,          3,2,20210326,       0416,    37.8893,   -52.3334,       5406,  4994.8,   2.3033,  34.8847,2,  34.8849,2,    263.9,2,   264.1,2,   33.91,2,   18.96,2,    0.00,2,    1.31,2,   1.160,2,   0.602,2,    0.63,3,  2183.8,2, 2327.64,2,    757.7,2,    20.00,   7.72548,2,    25.00, -999.00,9, -999.00,9, -999.00,-999.000,9, -999.00,9, -999.00,9,      13.46,2, 20210326,      428,  37.8893, -52.3333,     2.3033,2,     0.0425,1,     4.6788,1,     -999.0,1,     -999.0,1,     -999.0,9,     -999.0,9