BOTTLE,20230512CCHSIOCBG
EXPOCODE,SECT_ID,STNNBR,CASTNO,SAMPNO,BTLNBR,BTLNBR_FLAG_W,DATE,TIME,LATITUDE,LONGITUDE,DEPTH,CTDPRS,CTDTMP,CTDSAL,CTDSAL_FLAG_W,SALNTY,SALNTY_FLAG_W,CTDOXY,CTDOXY_FLAG_W,OXYGEN,OXYGEN_FLAG_W,SILCAT,SILCAT_FLAG_W,NITRAT,NITRAT_FLAG_W,NITRIT,NITRIT_FLAG_W,PHSPHT,PHSPHT_FLAG_W,CFC-11,CFC-11_FLAG_W,CFC-12,CFC-12_FLAG_W,SF6,SF6_FLAG_W,TCARBN,TCARBN_FLAG_W,ALKALI,ALKALI_FLAG_W,FCO2,FCO2_FLAG_W,FCO2TMP,PH_TOT,PH_TOT_FLAG_W,PH_TMP,DELC13,DELC13_FLAG_W,DELC14,DELC14_FLAG_W,C14ERR,POC,POC_FLAG_W,DOC,DOC_FLAG_W,TDN,TDN_FLAG_W,N2O,N2O_FLAG_W,BTL_DATE,BTL_TIME,BTL_LAT,BTL_LON,REFTMP,REFTMP_FLAG_W,CTDFLUOR,CTDFLUOR_FLAG_W,CTDXMISS,CTDXMISS_FLAG_W,D15N_NO2+NO3,D15N_NO2+NO3_FLAG_W,D18O_NO2+NO3,D18O_NO2+NO3_FLAG_W,HPLC,HPLC_FLAG_W,MICROGELS,MICROGELS_FLAG_W
,,,,,,,,,,,METERS,DBAR,ITS-90,PSS-78,,PSS-78,,UMOL/KG,,UMOL/KG,,UMOL/KG,,UMOL/KG,,UMOL/KG,,UMOL/KG,,PMOL/KG,,PMOL/KG,,FMOL/KG,,UMOL/KG,,UMOL/KG,,UATM,,DEG C,,,DEG C,/MILLE,,/MILLE,,/MILLE,UG/KG,,UMOL/KG,,UMOL/KG,,NMOL/KG,,,,,,ITS-90,,VOLTS,,VOLTS,,/MILLE,,/MILLE,,,,1E6 GELS/L,
325020210316,        A20,      39,          1,         35,         35,2,20210331,       1238,    27.6395,   -52.3308,       5527,     4.4,  23.0291,  37.2001,2,-999.0000,9,    216.8,2,  -999.0,9,    0.78,2,    0.00,2,    0.00,2,    0.00,2,-999.000,9,-999.000,9, -999.00,9,  -999.0,9, -999.00,9,   -999.0,9,  -999.00,-999.00000,9,  -999.00, -999.00,9, -999.00,9, -999.00,-999.000,1, -999.00,9, -999.00,9,     -999.0,9, 20210331,     1506,  27.6396, -52.3308,    23.0337,2,     0.0392,1,     4.6583,1,     -999.0,9,     -999.0,9,     -999.0,1,     -999.0,9
325020210316,        A20,      39,          1,         36,         36,2,20210331,       1238,    27.6395,   -52.3308,       5527,     4.8,  23.0358,  37.2002,2,  37.2042,2,    216.9,2,   215.7,2,    0.78,2,    0.00,2,    0.00,2,    0.00,2,   1.603,2,   1.103,2,    1.81,2,  2104.3,6, 2431.57,2,    329.9,2,    20.00,   8.06019,6,    25.01,    0.77,2,   38.28,2,    2.29,-999.000,9,   76.34,2,    5.34,2,       6.81,2, 20210331,     1506,  27.6395, -52.3308,     -999.0,9,     0.0398,1,     4.6583,1,     -999.0,9,     -999.0,9,     -999.0,9,     -999.0,9
325020210316,        A20,      39,          1,         34,         34,2,20210331,       1238,    27.6395,   -52.3308,       5527,    25.3,  22.7043,  37.1738,2,  37.1745,2,    217.4,2,   216.1,2,    0.78,2,    0.00,2,    0.00,2,    0.00,2,-999.000,9,-999.000,9, -999.00,9,  2103.0,2, 2429.37,6,    332.3,2,    20.00,   8.05482,2,    25.01, -999.00,9, -999.00,9, -999.00,-999.000,9,   70.69,2,    3.32,2,     -999.0,9, 20210331,     1504,  27.6395, -52.3307,    22.7245,2,     0.0406,1,     4.6562,1,     -999.0,9,     -999.0,9,     -999.0,9,     -999.0,9
325020210316,        A20,      39,          1,         33,         33,2,20210331,       1238,    27.6395,   -52.3308,       5527,    50.3,  22.3234,  37.1156,2,  37.1169,2,    218.3,2,   216.7,2,    0.78,2,    0.00,2,    0.00,2,    0.00,2,-999.000,9,-999.000,9, -999.00,9,  2103.1,2, 2427.51,2,    334.7,2,    20.00,   8.05375,2,    25.00,    0.76,2,   41.43,2,    2.18,-999.000,9,   72.69,2,    3.34,2,     -999.0,9, 20210331,     1502,  27.6395, -52.3307,    22.3310,2,     0.0426,1,     4.6547,1,     -999.0,9,     -999.0,9,     -999.0,9,     -999.0,9
325020210316,        A20,      39,          1,         32,         32,2,20210331,       1238,    27.6395,   -52.3308,       5527,    76.9,  22.1619,  37.0916,2,  37.0897,2,    219.0,2,   217.0,2,    0.68,2,    0.00,2,    0.00,2,    0.00,2,-999.000,9,-999.000,9, -999.00,9,  2100.9,2, 2425.91,2,    337.4,2,    20.00,   8.05019,2,    25.00, -999.00,1, -999.00,1, -999.00,-999.000,9,   67.69,2,    3.32,2,     -999.0,9, 20210331,     1500,  27.6395, -52.3307,    22.1675,2,     0.0460,1,     4.6535,1,     -999.0,9,     -999.0,9,     -999.0,9,     -999.0,9
325020210316,        A20,      39,          1,         31,         31,2,20210331,       1238,    27.6395,   -52.3308,       5527,   100.2,  21.4721,  36.9332,2,  36.9574,3,    217.8,2,   217.1,2,    0.68,2,    0.00,2,    0.00,2,    0.00,2,-999.000,9,-999.000,9, -999.00,9,  2102.7,2, 2418.24,2,    347.1,2,    20.00,   8.04104,2,    24.99,    0.75,2,   36.83,2,    2.18,-999.000,9,   66.45,2,    3.85,2,     -999.0,9, 20210331,     1459,  27.6395, -52.3307,    21.4845,2,     0.0524,1,     4.6515,1,     -999.0,9,     -999.0,9,     -999.0,9,     -999.0,9
325020210316,        A20,      39,          1,         30,         30,2,20210331,       1238,    27.6395,   -52.3308,       5527,   136.2,  20.7313,  36.8281,2,  36.8216,2,    208.3,2,   208.4,2,    0.78,2,    0.18,2,    0.03,2,    0.00,2,-999.000,9,-999.000,9, -999.00,9,  2112.9,2, 2408.62,2,    372.7,2,    20.00,   8.01376,2,    24.98,    0.59,2,   39.47,2,    2.06,-999.000,9,   59.62,2,    3.84,2,     -999.0,9, 20210331,     1455,  27.6395, -52.3307,     -999.0,9,     0.0871,1,     4.6394,1,     -999.0,9,     -999.0,9,     -999.0,9,     -999.0,9
325020210316,        A20,      39,          1,         29,         29,2,20210331,       1238,    27.6395,   -52.3308,       5527,   136.6,  20.6478,  36.8177,2,-999.0000,9,    208.6,2,  -999.0,9,    0.78,2,    0.20,2,    0.04,2,    0.00,2,-999.000,9,-999.000,9, -999.00,9,  -999.0,9, -999.00,9,   -999.0,9,  -999.00,-999.00000,9,  -999.00, -999.00,9, -999.00,9, -999.00,-999.000,1, -999.00,9, -999.00,9,     -999.0,9, 20210331,     1455,  27.6395, -52.3307,    20.7204,2,     0.0930,1,     4.6369,1,     -999.0,9,     -999.0,9,     -999.0,1,     -999.0,9
325020210316,        A20,      39,          1,         28,         28,2,20210331,       1238,    27.6395,   -52.3308,       5527,   203.1,  18.9514,  36.6219,2,  36.6227,2,    198.3,2,   198.7,2,    1.17,2,    2.77,2,    0.00,2,    0.07,2,-999.000,9,-999.000,9, -999.00,9,  2126.0,2, 2397.41,2,    415.5,2,    20.00,   7.97044,6,    24.99,    0.40,2,   44.55,2,    2.29,-999.000,9,   52.60,2,    5.91,2,     -999.0,9, 20210331,     1454,  27.6395, -52.3307,    18.9511,2,     0.0469,1,     4.6862,1,     -999.0,9,     -999.0,9,     -999.0,9,     -999.0,9
325020210316,        A20,      39,          1,         27,         27,2,20210331,       1238,    27.6395,   -52.3308,       5527,   250.8,  18.5771,  36.5801,2,  36.5791,2,    203.7,2,   203.6,2,    1.27,2,    3.41,2,    0.00,2,    0.10,2,   1.910,2,   1.302,2,    1.91,2,  2124.1,2, 2391.75,2,    414.6,2,    20.00,   7.97171,2,    24.97,    0.48,2,   46.33,2,    2.06,-999.000,9,   52.49,2,    6.02,2,       8.74,2, 20210331,     1451,  27.6395, -52.3307,    18.5763,2,     0.0393,1,     4.6917,1,     -999.0,9,     -999.0,9,     -999.0,9,     -999.0,9
325020210316,        A20,      39,          1,         26,         26,2,20210331,       1238,    27.6395,   -52.3308,       5527,   302.5,  18.2425,  36.5266,2,  36.5258,2,    199.1,2,   199.9,2,    1.56,2,    4.21,2,    0.00,2,    0.15,2,-999.000,9,-999.000,9, -999.00,9,  2126.5,2, 2389.86,2,    429.4,2,    20.00,   7.95946,2,    24.98,    0.47,2,   50.02,2,    2.07,-999.000,9,   50.39,2,    6.26,2,     -999.0,9, 20210331,     1447,  27.6395, -52.3307,    18.2368,2,     0.0391,1,     4.6927,1,     -999.0,9,     -999.0,9,     -999.0,9,     -999.0,9
325020210316,        A20,      39,          1,         25,         25,2,20210331,       1238,    27.6395,   -52.3308,       5527,   353.7,  17.5472,  36.4102,2,  36.4099,2,    193.1,2,   193.5,2,    2.05,2,    5.76,2,    0.00,2,    0.24,2,-999.000,9,-999.000,9, -999.00,9,  2133.5,2, 2382.92,2,    458.4,2,    20.00,   7.93406,2,    25.00,    0.51,2,   55.57,2,    2.19,-999.000,9,   50.19,2,    8.33,2,     -999.0,9, 20210331,     1446,  27.6395, -52.3307,    17.5396,2,     0.0391,1,     4.6939,1,     -999.0,9,     -999.0,9,     -999.0,9,     -999.0,9
325020210316,        A20,      39,          1,         24,         24,2,20210331,       1238,    27.6395,   -52.3308,       5527,   403.4,  16.7338,  36.2788,2,  36.2780,2,    192.4,2,   192.9,2,    2.44,2,    7.07,2,    0.00,2,    0.33,2,   2.071,2,   1.380,2,    1.72,2,  2136.8,2, 2374.66,2,    483.8,2,    20.00,   7.91157,2,    24.99,    0.46,2,   51.07,2,    2.06,-999.000,9,   52.24,2,    9.29,2,      10.52,2, 20210331,     1443,  27.6395, -52.3307,    16.7361,2,     0.0401,1,     4.6947,1,     -999.0,9,     -999.0,9,     -999.0,9,     -999.0,9
325020210316,        A20,      39,          1,         23,         23,2,20210331,       1238,    27.6395,   -52.3308,       5527,   505.3,  15.1366,  36.0269,2,  36.0339,2,    180.9,2,   182.0,2,    3.81,2,   10.40,2,    0.00,2,    0.54,2,-999.000,9,-999.000,9, -999.00,9,  2149.2,2, 2357.83,2,    549.4,2,    20.00,   7.86098,2,    25.00,    0.49,2,   45.70,2,    2.04,-999.000,9,   50.36,2,   12.10,2,     -999.0,9, 20210331,     1439,  27.6395, -52.3307,    15.1481,2,     0.0409,1,     4.6970,1,     -999.0,9,     -999.0,9,     -999.0,9,     -999.0,9
325020210316,        A20,      39,          1,         22,         22,2,20210331,       1238,    27.6395,   -52.3308,       5527,   603.6,  13.2249,  35.7480,2,  35.7497,2,    172.7,2,   173.4,2,    5.95,2,   14.39,2,    0.00,2,    0.80,2,   2.185,2,   1.326,2,    1.20,2,  2162.9,2, 2342.87,2,    633.4,2,    20.00,   7.80211,2,    25.00,    0.52,2,   41.18,2,    2.04,-999.000,9, -999.00,9, -999.00,9,      14.21,2, 20210331,     1437,  27.6395, -52.3307,    13.2529,2,     0.0407,1,     4.6984,1,     -999.0,9,     -999.0,9,     -999.0,9,     -999.0,9
325020210316,        A20,      39,          1,         21,         21,2,20210331,       1238,    27.6395,   -52.3308,       5527,   705.7,  11.4076,  35.5156,2,  35.5158,2,    159.5,2,   159.5,2,    9.18,2,   18.87,2,    0.00,2,    1.13,2,   1.780,2,   1.053,2,    0.88,2,  2176.6,2, 2333.69,2,    727.8,2,    20.00,   7.74562,2,    24.97,    0.59,2,   15.07,2,    2.09,-999.000,9,   47.43,2,   19.40,2,      16.80,2, 20210331,     1431,  27.6395, -52.3307,    11.4059,2,     0.0419,1,     4.7020,1,     -999.0,9,     -999.0,9,     -999.0,9,     -999.0,9
325020210316,        A20,      39,          1,         20,         20,2,20210331,       1238,    27.6395,   -52.3308,       5527,   808.8,   9.5156,  35.3046,2,  35.3049,2,    153.9,2,   153.4,2,   12.79,2,   22.36,2,    0.00,2,    1.39,2,-999.000,9,-999.000,9, -999.00,9,  2189.6,6, 2326.23,2,    816.9,2,    20.00,   7.69629,2,    24.98,    0.70,2,  -15.62,2,    2.41,-999.000,9, -999.00,9, -999.00,9,     -999.0,9, 20210331,     1429,  27.6395, -52.3307,     9.5140,2,     0.0415,1,     4.7031,1,     -999.0,9,     -999.0,9,     -999.0,9,     -999.0,9
325020210316,        A20,      39,          1,         19,         19,2,20210331,       1238,    27.6395,   -52.3308,       5527,   908.8,   8.0818,  35.1830,2,  35.1922,2,    159.8,2,   158.9,2,   15.04,2,   23.83,2,    0.00,2,    1.46,2,   0.994,2,   0.540,2,    0.37,2,  2193.0,2, 2320.32,2,    855.4,2,    20.00,   7.67688,6,    24.98,    0.75,2,  -48.53,2,    1.96,-999.000,9, -999.00,9, -999.00,9,      19.21,2, 20210331,     1426,  27.6395, -52.3307,     8.1134,2,     0.0413,1,     4.7032,1,     -999.0,9,     -999.0,9,     -999.0,9,     -999.0,9
325020210316,        A20,      39,          1,         18,         18,2,20210331,       1238,    27.6395,   -52.3308,       5527,  1009.8,   7.0816,  35.1521,2,  35.1530,2,    177.7,2,   178.3,2,   15.63,2,   23.10,2,    0.00,2,    1.44,2,-999.000,9,-999.000,9, -999.00,9,  2192.8,2, 2324.49,6,    843.1,2,    20.00,   7.68247,2,    25.00,    0.82,2,  -47.68,2,    1.97,-999.000,9,   44.08,2,   24.18,2,     -999.0,9, 20210331,     1423,  27.6395, -52.3307,     7.0945,2,     0.0417,1,     4.7033,1,     -999.0,9,     -999.0,9,     -999.0,9,     -999.0,9
325020210316,        A20,      39,          1,         17,         17,2,20210331,       1238,    27.6395,   -52.3308,       5527,  1112.2,   6.3871,  35.1327,2,  35.1339,2,    195.1,2,   195.1,2,   15.53,2,   22.01,2,    0.00,2,    1.39,2,   1.025,2,   0.568,2,    0.32,2,  2186.8,2, 2321.59,2,    820.5,2,    20.00,   7.69384,6,    25.00,    0.82,6,  -54.97,6,    1.96,-999.000,9, -999.00,9, -999.00,9,      16.34,2, 20210331,     1418,  27.6395, -52.3307,     6.3879,2,     0.0414,1,     4.7043,1,     -999.0,9,     -999.0,9,     -999.0,9,     -999.0,9
325020210316,        A20,      39,          1,         16,         16,2,20210331,       1238,    27.6395,   -52.3308,       5527,  1211.7,   5.9555,  35.1264,2,  35.1276,2,    208.5,2,   207.9,2,   15.04,2,   21.06,2,    0.00,2,    1.33,2,-999.000,9,-999.000,9, -999.00,9,  2182.0,2, 2320.68,2,    799.8,2,    20.00,   7.70301,2,    25.01,    0.89,2,  -52.24,2,    2.78,-999.000,9,   44.82,2,   22.75,2,     -999.0,9, 20210331,     1415,  27.6395, -52.3307,     5.9546,2,     0.0427,1,     4.7045,1,     -999.0,9,     -999.0,9,     -999.0,9,     -999.0,9
325020210316,        A20,      39,          1,         15,         15,2,20210331,       1238,    27.6395,   -52.3308,       5527,  1412.8,   5.2052,  35.1227,2,  35.1244,2,    230.1,2,   229.6,2,   14.75,2,   19.45,2,    0.00,2,    1.23,2,   1.192,2,   0.630,2,    0.40,2,  2176.5,2, 2319.58,2,    762.1,2,    20.00,    7.7227,2,    25.00,    0.93,2,  -49.00,2,    2.28,-999.000,9,   44.66,2,   20.33,2,      14.62,2, 20210331,     1410,  27.6395, -52.3307,     5.2093,2,     0.0419,1,     4.7056,1,     -999.0,9,     -999.0,9,     -999.0,9,     -999.0,9
325020210316,        A20,      39,          1,         14,         14,2,20210331,       1238,    27.6395,   -52.3308,       5527,  1616.4,   4.6052,  35.0787,2,  35.0797,2,    239.1,2,   238.6,2,   16.31,2,   19.30,2,    0.00,2,    1.23,2,   0.869,2,   0.451,2,    0.23,2,  2171.7,2,  2318.9,2,    749.6,2,    20.00,   7.72928,2,    25.03,    1.00,2,  -63.86,2,    1.95,-999.000,9,   44.15,2,   20.53,2,      13.77,2, 20210331,     1405,  27.6395, -52.3307,     4.6040,2,     0.0423,1,     4.7057,1,     -999.0,9,     -999.0,9,     -999.0,9,     -999.0,9
325020210316,        A20,      39,          1,         13,         13,2,20210331,       1238,    27.6395,   -52.3308,       5527,  1819.3,   4.2085,  35.0614,2,  35.0628,2,    244.5,2,   244.3,2,   18.26,2,   19.08,2,    0.00,2,    1.22,2,-999.000,9,-999.000,9, -999.00,9,  2172.3,6, 2318.51,2,    744.5,2,    20.00,   7.73362,2,    25.00,    0.98,2,  -67.03,2,    1.98,-999.000,9, -999.00,9, -999.00,9,     -999.0,9, 20210331,     1401,  27.6395, -52.3307,     4.2081,2,     0.0416,1,     4.7057,1,     -999.0,9,     -999.0,9,     -999.0,9,     -999.0,9
325020210316,        A20,      39,          1,         12,         12,2,20210331,       1238,    27.6395,   -52.3308,       5527,  2023.8,   3.7413,  35.0185,2,  35.0189,2,    248.8,2,   248.7,2,   21.10,2,   19.16,2,    0.00,2,    1.24,2,-999.000,9,-999.000,9, -999.00,9,  2172.2,2, 2324.32,2,    740.7,2,    20.00,   7.73462,2,    24.97,    1.03,2,  -75.91,2,    2.00,-999.000,9,   42.87,2,   20.70,2,     -999.0,9, 20210331,     1356,  27.6395, -52.3307,     3.7410,2,     0.0417,1,     4.7053,1,     -999.0,9,     -999.0,9,     -999.0,9,     -999.0,9
325020210316,        A20,      39,          1,         11,         11,2,20210331,       1238,    27.6395,   -52.3308,       5527,  2278.8,   3.3598,  34.9834,2,  34.9843,2,    251.0,2,   251.0,2,   24.42,2,   19.39,2,    0.00,2,    1.27,2,   0.638,2,   0.320,2,    0.11,2,  2177.1,2, 2325.47,2,    740.2,2,    20.00,   7.73521,6,    24.98,    1.05,2,  -76.20,2,    2.06,-999.000,9, -999.00,9, -999.00,9,      13.57,2, 20210331,     1351,  27.6395, -52.3307,     3.3593,2,     0.0419,1,     4.7049,1,     -999.0,9,     -999.0,9,     -999.0,9,     -999.0,9
325020210316,        A20,      39,          1,         10,         10,2,20210331,       1238,    27.6395,   -52.3308,       5527,  2532.5,   3.1449,  34.9648,2,  34.9654,2,    250.7,2,   250.8,2,   27.45,2,   19.81,2,    0.00,2,    1.30,2,-999.000,9,-999.000,9, -999.00,9,  2179.8,2, 2329.73,2,   -999.0,9,  -999.00,   7.73503,2,    25.00,    1.05,2,  -85.56,2,    1.88,-999.000,9,   43.78,2,   20.14,2,     -999.0,9, 20210331,     1345,  27.6395, -52.3307,     3.1465,2,     0.0423,1,     4.7051,1,     -999.0,9,     -999.0,9,     -999.0,9,     -999.0,9
325020210316,        A20,      39,          1,          9,          9,2,20210331,       1238,    27.6395,   -52.3308,       5527,  2787.2,   2.9734,  34.9504,2,  34.9512,2,    250.2,2,   250.2,2,   30.48,2,   20.26,2,    0.00,2,    1.32,2,   0.305,2,   0.148,2,    0.08,2,  2181.6,2, 2332.21,2,    740.1,2,    20.00,   7.73697,2,    25.02,    1.07,2,  -90.72,2,    1.95,-999.000,9, -999.00,9, -999.00,9,      13.44,2, 20210331,     1339,  27.6395, -52.3307,     2.9717,2,     0.0435,1,     4.7047,1,     -999.0,9,     -999.0,9,     -999.0,9,     -999.0,9
325020210316,        A20,      39,          1,          8,          8,2,20210331,       1238,    27.6395,   -52.3308,       5527,  3043.0,   2.8230,  34.9375,2,  34.9374,2,    250.7,2,   251.0,2,   33.11,2,   20.50,2,    0.00,2,    1.34,2,-999.000,9,-999.000,9, -999.00,9,  2184.2,2, 2333.11,2,   -999.0,9,  -999.00,   7.73609,2,    25.02,    1.03,2, -105.49,2,    2.21,-999.000,9,   44.65,2,   20.61,2,     -999.0,9, 20210331,     1333,  27.6395, -52.3307,     2.8234,2,     0.0429,1,     4.7045,1,     -999.0,9,     -999.0,9,     -999.0,9,     -999.0,9
325020210316,        A20,      39,          1,          7,          7,2,20210331,       1238,    27.6395,   -52.3308,       5527,  3349.3,   2.6490,  34.9229,2,  34.9233,2,    252.9,2,   253.3,2,   34.77,2,   20.50,2,    0.00,2,    1.34,2,   0.117,2,   0.060,2,    0.04,2,  2178.7,2, 2332.62,2,    737.3,2,    20.00,   7.73919,2,    25.00,    1.06,2, -116.06,2,    2.87,-999.000,9,   42.58,2,   22.38,2,      13.71,2, 20210331,     1327,  27.6395, -52.3307,     2.6486,2,     0.0429,1,     4.7045,1,     -999.0,9,     -999.0,9,     -999.0,9,     -999.0,9
325020210316,        A20,      39,          1,          6,          6,2,20210331,       1238,    27.6395,   -52.3308,       5527,  3656.8,   2.4413,  34.9063,2,  34.9059,2,    257.5,2,   257.7,2,   34.97,2,   20.12,2,    0.00,2,    1.33,2,-999.000,9,-999.000,9, -999.00,9,  2178.2,2, 2331.42,2,   -999.0,9,  -999.00,    7.7397,2,    24.99,    1.07,2, -105.00,2,    2.00,-999.000,9, -999.00,9, -999.00,9,     -999.0,9, 20210331,     1320,  27.6395, -52.3307,     2.4411,2,     0.0422,1,     4.7045,1,     -999.0,9,     -999.0,9,     -999.0,9,     -999.0,9
325020210316,        A20,      39,          1,          5,          5,2,20210331,       1238,    27.6395,   -52.3308,       5527,  4065.0,   2.2542,  34.8870,2,  34.8875,2,    256.9,2,   257.0,2,   40.05,2,   20.58,2,    0.00,2,    1.37,2,   0.155,2,   0.080,2,    0.04,2,  2182.8,2, 2332.61,2,    745.0,6,    20.00,   7.73282,2,    25.02,    1.02,2, -103.24,2,    2.05,-999.000,9,   43.06,2,   21.76,2,      13.67,2, 20210331,     1312,  27.6395, -52.3307,     2.2561,2,     0.0430,1,     4.7045,1,     -999.0,9,     -999.0,9,     -999.0,9,     -999.0,9
325020210316,        A20,      39,          1,          4,          4,2,20210331,       1238,    27.6395,   -52.3308,       5527,  4476.4,   2.1452,  34.8711,2,  34.8707,2,    253.7,2,   253.7,2,   46.59,2,   21.49,2,    0.00,2,    1.43,2,-999.000,9,-999.000,9, -999.00,9,  2191.1,2, 2338.73,6,   -999.0,9,  -999.00,   7.72663,2,    25.01,    1.01,2, -110.66,2,    1.99,-999.000,9,   45.39,2,   22.13,2,     -999.0,9, 20210331,     1304,  27.6395, -52.3307,     2.1455,2,     0.0429,1,     4.7038,1,     -999.0,9,     -999.0,9,     -999.0,9,     -999.0,9
325020210316,        A20,      39,          1,          3,          3,2,20210331,       1238,    27.6395,   -52.3308,       5527,  4888.8,   2.1249,  34.8633,2,  34.8633,2,    252.2,2,   252.2,2,   49.72,2,   21.85,2,    0.00,2,    1.46,2,-999.000,9,-999.000,9, -999.00,9,  2195.3,2, 2342.26,2,   -999.0,9,  -999.00,   7.72184,2,    25.03,    1.03,2, -113.21,2,    1.98,-999.000,9,   42.43,2,   22.42,2,     -999.0,9, 20210331,     1256,  27.6395, -52.3307,     2.1248,2,     0.0430,1,     4.7029,1,     -999.0,9,     -999.0,9,     -999.0,9,     -999.0,9