BOTTLE,20230512CCHSIOCBG
EXPOCODE,SECT_ID,STNNBR,CASTNO,SAMPNO,BTLNBR,BTLNBR_FLAG_W,DATE,TIME,LATITUDE,LONGITUDE,DEPTH,CTDPRS,CTDTMP,CTDSAL,CTDSAL_FLAG_W,SALNTY,SALNTY_FLAG_W,CTDOXY,CTDOXY_FLAG_W,OXYGEN,OXYGEN_FLAG_W,SILCAT,SILCAT_FLAG_W,NITRAT,NITRAT_FLAG_W,NITRIT,NITRIT_FLAG_W,PHSPHT,PHSPHT_FLAG_W,CFC-11,CFC-11_FLAG_W,CFC-12,CFC-12_FLAG_W,SF6,SF6_FLAG_W,TCARBN,TCARBN_FLAG_W,ALKALI,ALKALI_FLAG_W,FCO2,FCO2_FLAG_W,FCO2TMP,PH_TOT,PH_TOT_FLAG_W,PH_TMP,DELC13,DELC13_FLAG_W,DELC14,DELC14_FLAG_W,C14ERR,POC,POC_FLAG_W,DOC,DOC_FLAG_W,TDN,TDN_FLAG_W,N2O,N2O_FLAG_W,BTL_DATE,BTL_TIME,BTL_LAT,BTL_LON,REFTMP,REFTMP_FLAG_W,CTDFLUOR,CTDFLUOR_FLAG_W,CTDXMISS,CTDXMISS_FLAG_W,D15N_NO2+NO3,D15N_NO2+NO3_FLAG_W,D18O_NO2+NO3,D18O_NO2+NO3_FLAG_W,HPLC,HPLC_FLAG_W,MICROGELS,MICROGELS_FLAG_W
,,,,,,,,,,,METERS,DBAR,ITS-90,PSS-78,,PSS-78,,UMOL/KG,,UMOL/KG,,UMOL/KG,,UMOL/KG,,UMOL/KG,,UMOL/KG,,PMOL/KG,,PMOL/KG,,FMOL/KG,,UMOL/KG,,UMOL/KG,,UATM,,DEG C,,,DEG C,/MILLE,,/MILLE,,/MILLE,UG/KG,,UMOL/KG,,UMOL/KG,,NMOL/KG,,,,,,ITS-90,,VOLTS,,VOLTS,,/MILLE,,/MILLE,,,,1E6 GELS/L,
325020210316,        A20,      45,          1,         35,         35,2,20210402,       0918,    24.1388,   -52.3348,       5563,     4.5,  23.7532,  37.3352,2,  37.3362,2,    213.4,2,   211.4,2,    0.58,2,    0.00,2,    0.00,2,    0.00,2,   1.558,2,   1.062,2,    1.73,2,  2103.8,6, 2440.78,2,    318.9,2,    20.00,   8.07103,2,    24.98, -999.00,9, -999.00,9, -999.00,-999.000,9,   76.51,2,    4.29,2,       6.61,2, 20210402,     1159,  24.1388, -52.3348,    23.7548,2,     0.0398,1,     4.6536,1,     -999.0,9,     -999.0,9,     -999.0,9,     -999.0,9
325020210316,        A20,      45,          1,         36,         36,2,20210402,       0918,    24.1388,   -52.3348,       5563,     5.6,  23.7543,  37.3354,2,  37.3419,2,    213.4,2,  -999.0,9,    0.58,2,    0.00,2,    0.00,2,    0.00,2,-999.000,9,-999.000,9, -999.00,9,  -999.0,9, -999.00,9,   -999.0,9,  -999.00,-999.00000,9,  -999.00, -999.00,9, -999.00,9, -999.00,-999.000,1, -999.00,9, -999.00,9,     -999.0,9, 20210402,     1159,  24.1388, -52.3348,     -999.0,9,     0.0394,1,     4.6539,1,     -999.0,9,     -999.0,9,     -999.0,1,     -999.0,9
325020210316,        A20,      45,          1,         34,         34,2,20210402,       0918,    24.1388,   -52.3348,       5563,    25.8,  23.7505,  37.3351,2,  37.3352,2,    213.4,2,   211.4,2,    0.58,2,    0.00,2,    0.00,2,    0.00,2,-999.000,9,-999.000,9, -999.00,9,  2101.2,2, 2441.33,2,    319.1,2,    20.00,   8.07136,6,    25.03,    0.88,2,   34.56,2,    1.74,-999.000,9,   77.04,2,    4.70,2,     -999.0,9, 20210402,     1158,  24.1388, -52.3348,    23.7499,2,     0.0421,1,     4.6541,1,     -999.0,9,     -999.0,9,     -999.0,9,     -999.0,9
325020210316,        A20,      45,          1,         33,         33,2,20210402,       0918,    24.1388,   -52.3348,       5563,    51.2,  23.7322,  37.3322,2,  37.3306,2,    213.2,2,   211.6,2,    0.58,2,    0.00,2,    0.00,2,    0.00,2,-999.000,9,-999.000,9, -999.00,9,  2103.1,2, 2442.07,6,    319.7,2,    20.00,   8.07067,2,    24.98, -999.00,9, -999.00,9, -999.00,-999.000,9,   75.46,2,    3.95,2,     -999.0,9, 20210402,     1155,  24.1388, -52.3348,    23.7290,2,     0.0441,1,     4.6528,1,     -999.0,9,     -999.0,9,     -999.0,9,     -999.0,9
325020210316,        A20,      45,          1,         32,         32,2,20210402,       0918,    24.1388,   -52.3348,       5563,    75.8,  23.7213,  37.3302,2,  37.3308,2,    212.7,2,   211.6,2,    0.49,2,    0.00,2,    0.00,2,    0.00,2,-999.000,9,-999.000,9, -999.00,9,  2101.1,2, 2441.15,2,    321.0,2,    20.00,   8.07122,2,    25.02, -999.00,9, -999.00,9, -999.00,-999.000,9,   75.68,2,    4.46,2,     -999.0,9, 20210402,     1154,  24.1388, -52.3348,    23.7202,2,     0.0471,1,     4.6562,1,     -999.0,9,     -999.0,9,     -999.0,9,     -999.0,9
325020210316,        A20,      45,          1,         31,         31,2,20210402,       0918,    24.1388,   -52.3348,       5563,   100.1,  21.9363,  37.0518,2,  37.0412,2,    204.3,2,   203.4,2,    0.49,2,    0.00,2,    0.00,2,    0.00,2,   1.721,2,   1.162,2,    1.72,2,  2117.0,2, 2421.32,2,    368.6,2,    20.00,   8.01727,2,    25.02,    0.45,2,   45.43,2,    2.68,-999.000,9,   62.68,2,    3.58,2,       7.06,2, 20210402,     1151,  24.1388, -52.3348,    21.9552,2,     0.0591,1,     4.6580,1,     -999.0,9,     -999.0,9,     -999.0,9,     -999.0,9
325020210316,        A20,      45,          1,         29,         29,2,20210402,       0918,    24.1388,   -52.3348,       5563,   130.6,  20.6193,  36.8966,2,  36.8986,2,    187.2,3,   189.7,2,    0.68,2,    0.80,2,    0.04,2,    0.00,2,-999.000,9,-999.000,9, -999.00,9,  2131.0,2, 2412.62,2,    405.9,2,    20.00,   7.98121,2,    25.01, -999.00,9, -999.00,9, -999.00,-999.000,9,   57.88,2,    4.24,2,     -999.0,9, 20210402,     1150,  24.1387, -52.3348,    20.6147,2,     0.0797,1,     4.6607,1,     -999.0,9,     -999.0,9,     -999.0,9,     -999.0,9
325020210316,        A20,      45,          1,         30,         30,2,20210402,       0918,    24.1388,   -52.3348,       5563,   130.8,  20.6123,  36.8952,2,  36.8986,2,    187.3,2,  -999.0,9,    0.68,2,    0.79,2,    0.04,2,    0.00,2,-999.000,9,-999.000,9, -999.00,9,  -999.0,9, -999.00,9,   -999.0,9,  -999.00,-999.00000,9,  -999.00, -999.00,9, -999.00,9, -999.00,-999.000,1, -999.00,9, -999.00,9,     -999.0,9, 20210402,     1150,  24.1387, -52.3348,     -999.0,9,     0.0789,1,     4.6614,1,     -999.0,9,     -999.0,9,     -999.0,1,     -999.0,9
325020210316,        A20,      45,          1,         28,         28,2,20210402,       0918,    24.1388,   -52.3348,       5563,   201.1,  19.2099,  36.7067,2,  36.7032,2,    184.3,3,   186.3,2,    1.07,2,    3.43,2,    0.00,2,    0.11,2,   1.927,2,   1.285,2,    1.80,2,  2137.9,2, 2398.41,2,    435.4,2,    20.00,   7.95269,2,    25.02,    0.47,2,   48.40,2,    1.70,-999.000,9,   54.47,2,    7.40,2,       8.83,2, 20210402,     1147,  24.1387, -52.3348,    19.2094,2,     0.0412,1,     4.6871,1,     -999.0,9,     -999.0,9,     -999.0,9,     -999.0,9
325020210316,        A20,      45,          1,         27,         27,2,20210402,       0918,    24.1388,   -52.3348,       5563,   252.2,  18.2794,  36.5429,2,  36.5393,2,    196.4,2,   196.2,2,    1.46,2,    4.35,2,    0.00,2,    0.17,2,-999.000,9,-999.000,9, -999.00,9,  2132.2,2, 2389.38,2,    435.1,2,    20.00,   7.95268,2,    24.99, -999.00,9, -999.00,9, -999.00,-999.000,9,   51.64,2,    6.60,2,     -999.0,9, 20210402,     1145,  24.1388, -52.3348,    18.2765,2,     0.0399,1,     4.6908,1,     -999.0,9,     -999.0,9,     -999.0,9,     -999.0,9
325020210316,        A20,      45,          1,         26,         26,2,20210402,       0918,    24.1388,   -52.3348,       5563,   302.2,  17.5634,  36.4285,2,  36.4253,2,    187.7,2,   188.5,2,    1.95,2,    6.08,2,    0.00,2,    0.27,2,-999.000,9,-999.000,9, -999.00,9,  2140.7,2, 2381.21,2,    466.0,2,    20.00,   7.92592,2,    24.99,    0.47,2,   53.24,2,    1.70,-999.000,9,   50.34,2,    8.35,2,     -999.0,9, 20210402,     1143,  24.1387, -52.3348,    17.5634,2,     0.0399,1,     4.6912,1,     -999.0,9,     -999.0,9,     -999.0,9,     -999.0,9
325020210316,        A20,      45,          1,         25,         25,2,20210402,       0918,    24.1388,   -52.3348,       5563,   352.9,  16.8844,  36.3207,2,  36.3154,2,    181.7,2,   183.1,2,    2.34,2,    7.71,2,    0.00,2,    0.37,2,-999.000,9,-999.000,9, -999.00,9,  2146.2,2, 2377.01,2,    495.8,2,    20.00,   7.90105,2,    24.99, -999.00,9, -999.00,9, -999.00,-999.000,9,   51.10,2,   11.85,2,     -999.0,9, 20210402,     1141,  24.1388, -52.3348,    16.8828,2,     0.0407,1,     4.6923,1,     -999.0,9,     -999.0,9,     -999.0,9,     -999.0,9
325020210316,        A20,      45,          1,         24,         24,2,20210402,       0918,    24.1388,   -52.3348,       5563,   402.6,  15.9793,  36.1718,2,  36.1702,2,    179.6,2,   180.9,2,    3.02,2,    9.31,2,    0.00,2,    0.49,2,   2.173,2,   1.388,2,    1.49,2,  2150.0,2,  2368.9,2,    527.9,2,    20.00,   7.87757,2,    25.01,    0.44,2,   53.22,2,    1.94,-999.000,9,   50.01,2,   11.10,2,      11.67,2, 20210402,     1138,  24.1388, -52.3348,    15.9796,2,     0.0408,1,     4.6935,1,     -999.0,9,     -999.0,9,     -999.0,9,     -999.0,9
325020210316,        A20,      45,          1,         23,         23,2,20210402,       0918,    24.1388,   -52.3348,       5563,   503.8,  14.3149,  35.9209,2,  35.9216,2,    171.9,2,   172.9,2,    4.49,2,   12.51,2,    0.00,2,    0.68,2,-999.000,9,-999.000,9, -999.00,9,  2160.7,2, 2352.52,2,    593.9,2,    20.00,   7.82851,2,    25.01, -999.00,9, -999.00,9, -999.00,-999.000,9,   49.83,2,   13.96,2,     -999.0,9, 20210402,     1135,  24.1387, -52.3348,    14.3136,2,     0.0404,1,     4.6947,1,     -999.0,9,     -999.0,9,     -999.0,9,     -999.0,9
325020210316,        A20,      45,          1,         22,         22,2,20210402,       0918,    24.1388,   -52.3348,       5563,   604.7,  12.5616,  35.6776,2,  35.6719,2,    163.2,2,   163.1,2,    6.73,2,   16.48,2,    0.00,2,    0.94,2,   1.979,2,   1.199,2,    0.87,2,  2171.9,2,  2342.7,2,    676.5,2,    20.00,   7.77598,2,    25.01,    0.57,2,   35.17,2,    1.73,-999.000,9,   47.79,2,   16.58,2,      15.59,2, 20210402,     1131,  24.1388, -52.3348,    12.5866,2,     0.0407,1,     4.6964,1,     -999.0,9,     -999.0,9,     -999.0,9,     -999.0,9
325020210316,        A20,      45,          1,         21,         21,2,20210402,       0918,    24.1388,   -52.3348,       5563,   706.3,  10.7353,  35.4356,2,  35.4269,2,    148.9,2,   149.2,2,   10.45,2,   21.08,2,    0.00,2,    1.25,2,   1.504,2,   0.840,2,    0.53,2,  2186.2,2, 2329.66,2,    780.2,2,    20.00,   7.71748,2,    25.01, -999.00,9, -999.00,9, -999.00,-999.000,9, -999.00,9, -999.00,9,      18.27,2, 20210402,     1127,  24.1388, -52.3348,    10.7379,2,     0.0413,1,     4.6996,1,     -999.0,9,     -999.0,9,     -999.0,9,     -999.0,9
325020210316,        A20,      45,          1,         20,         20,2,20210402,       0918,    24.1388,   -52.3348,       5563,   806.6,   9.0625,  35.2462,2,  35.2442,2,    145.5,2,   145.3,2,   14.16,2,   24.55,2,    0.00,2,    1.49,2,   0.982,2,   0.543,2,    0.26,2,  2196.4,6, 2323.81,2,    861.7,2,    20.00,   7.67621,2,    25.01,    0.70,2,  -30.04,2,    1.78,-999.000,9,   42.77,2,   24.79,2,      19.96,2, 20210402,     1122,  24.1388, -52.3348,     9.0787,2,     0.0418,1,     4.7006,1,     -999.0,9,     -999.0,9,     -999.0,9,     -999.0,9
325020210316,        A20,      45,          1,         19,         19,2,20210402,       0918,    24.1388,   -52.3348,       5563,   908.2,   7.4917,  35.0851,2,  35.0858,2,    151.5,2,   151.4,2,   17.58,2,   26.24,2,    0.00,2,    1.64,2,   0.656,2,   0.340,2,    0.22,2,  2202.9,2, 2319.05,6,    913.9,2,    20.00,    7.6518,2,    25.05, -999.00,9, -999.00,9, -999.00,-999.000,9, -999.00,9, -999.00,9,      20.32,2, 20210402,     1118,  24.1387, -52.3348,     7.5017,2,     0.0417,1,     4.7007,1,     -999.0,9,     -999.0,9,     -999.0,9,     -999.0,9
325020210316,        A20,      45,          1,         18,         18,2,20210402,       0918,    24.1388,   -52.3348,       5563,  1008.7,   6.6798,  35.0443,2,  35.0439,2,    165.9,2,   165.3,2,   18.26,2,   25.48,2,    0.00,2,    1.61,2,   0.621,2,   0.317,2,    0.11,2,  2201.8,2, 2318.53,2,    899.7,2,    20.00,   7.65624,2,    24.98,    0.76,2,  -65.29,2,    1.63,-999.000,9,   44.02,2,   25.66,2,      19.25,2, 20210402,     1114,  24.1387, -52.3348,     6.6842,2,     0.0421,1,     4.7009,1,     -999.0,9,     -999.0,9,     -999.0,9,     -999.0,9
325020210316,        A20,      45,          1,         17,         17,2,20210402,       0918,    24.1388,   -52.3348,       5563,  1110.1,   6.2019,  35.0572,2,  35.0573,2,    184.2,2,   183.6,2,   17.28,2,   23.65,2,    0.00,2,    1.50,2,-999.000,9,-999.000,9, -999.00,9,  2192.9,2, 2320.04,2,    860.6,2,    20.00,   7.67587,2,    25.02, -999.00,9, -999.00,9, -999.00,-999.000,9, -999.00,9, -999.00,9,     -999.0,9, 20210402,     1110,  24.1387, -52.3348,     6.2038,2,     0.0422,1,     4.7016,1,     -999.0,9,     -999.0,9,     -999.0,9,     -999.0,9
325020210316,        A20,      45,          1,         16,         16,2,20210402,       0918,    24.1388,   -52.3348,       5563,  1210.8,   5.8739,  35.0904,2,  35.0886,2,    202.1,2,   201.0,2,   15.92,2,   21.99,2,    0.00,2,    1.39,2,   0.840,2,   0.443,2,    0.24,2,  2185.9,2, 2319.35,2,    816.9,2,    20.00,   7.69573,2,    25.00, -999.00,5,  -54.68,6,    1.95,-999.000,9,   47.38,2,   22.55,2,      16.68,2, 20210402,     1107,  24.1387, -52.3348,     5.8749,2,     0.0418,1,     4.7021,1,     -999.0,9,     -999.0,9,     -999.0,9,     -999.0,9
325020210316,        A20,      45,          1,         15,         15,2,20210402,       0918,    24.1388,   -52.3348,       5563,  1414.7,   5.2492,  35.1190,2,  35.1201,2,    226.3,2,   225.2,2,   14.94,2,   19.72,2,    0.00,2,    1.25,2,-999.000,9,-999.000,9, -999.00,9,  2177.6,2, 2321.76,2,    765.3,2,    20.00,   7.72213,2,    25.01, -999.00,9, -999.00,9, -999.00,-999.000,9, -999.00,9, -999.00,9,     -999.0,9, 20210402,     1101,  24.1387, -52.3348,     5.2492,2,     0.0420,1,     4.7033,1,     -999.0,9,     -999.0,9,     -999.0,9,     -999.0,9
325020210316,        A20,      45,          1,         14,         14,2,20210402,       0918,    24.1388,   -52.3348,       5563,  1615.8,   4.5217,  35.0772,2,  35.0768,2,    238.1,2,   237.7,2,   16.89,2,   19.23,2,    0.00,2,    1.23,2,   0.785,2,   0.393,2,    0.20,2,  2175.5,2, 2318.76,2,    748.2,2,    20.00,   7.73035,2,    25.01,    0.89,2,  -65.15,2,    1.65,-999.000,9,   44.28,2,   21.12,2,      14.13,2, 20210402,     1054,  24.1387, -52.3348,     4.5207,2,     0.0409,1,     4.7033,1,     -999.0,9,     -999.0,9,     -999.0,9,     -999.0,9
325020210316,        A20,      45,          1,         13,         13,2,20210402,       0918,    24.1388,   -52.3348,       5563,  1819.6,   4.0260,  35.0428,2,  35.0441,2,    244.0,2,   244.3,2,   19.43,2,   19.15,2,    0.00,2,    1.23,2,-999.000,9,-999.000,9, -999.00,9,  2174.0,6, 2321.73,2,    742.9,2,    20.00,   7.73426,2,    24.98, -999.00,9, -999.00,9, -999.00,-999.000,9, -999.00,9, -999.00,9,     -999.0,9, 20210402,     1050,  24.1388, -52.3348,     4.0265,2,     0.0421,1,     4.7033,1,     -999.0,9,     -999.0,9,     -999.0,9,     -999.0,9
325020210316,        A20,      45,          1,         12,         12,2,20210402,       0918,    24.1388,   -52.3348,       5563,  2021.5,   3.6580,  35.0108,2,  35.0102,2,    246.4,2,   246.3,2,   22.17,2,   19.31,2,    0.00,2,    1.25,2,-999.000,9,-999.000,9, -999.00,9,  2174.2,2, 2323.28,2,    741.3,2,    20.00,   7.73507,6,    25.02,    1.02,2,  -75.54,2,    1.57,-999.000,9,   44.79,2,   20.32,2,     -999.0,9, 20210402,     1045,  24.1387, -52.3348,     3.6582,2,     0.0425,1,     4.7029,1,     -999.0,9,     -999.0,9,     -999.0,9,     -999.0,9
325020210316,        A20,      45,          1,         11,         11,2,20210402,       0918,    24.1388,   -52.3348,       5563,  2276.9,   3.2745,  34.9778,2,  34.9772,2,    248.7,2,   248.9,2,   25.88,2,   19.73,2,    0.00,2,    1.27,2,   0.487,2,   0.222,2,    0.10,2,  2180.1,2, 2326.21,2,    740.5,2,    20.00,    7.7357,2,    24.98, -999.00,9, -999.00,9, -999.00,-999.000,9, -999.00,9, -999.00,9,      13.56,2, 20210402,     1039,  24.1387, -52.3348,     3.2735,2,     0.0427,1,     4.7026,1,     -999.0,9,     -999.0,9,     -999.0,9,     -999.0,9
325020210316,        A20,      45,          1,         10,         10,2,20210402,       0918,    24.1388,   -52.3348,       5563,  2530.5,   3.0294,  34.9567,2,  34.9561,2,    249.1,2,   249.6,2,   29.40,2,   19.96,2,    0.00,2,    1.29,2,-999.000,9,-999.000,9, -999.00,9,  2181.0,2, 2330.55,2,    740.0,2,    20.00,   7.73604,2,    25.01,    1.07,2,  -92.03,2,    1.60,-999.000,9,   43.00,2,   20.52,2,     -999.0,9, 20210402,     1034,  24.1388, -52.3348,     3.0292,2,     0.0430,1,     4.7029,1,     -999.0,9,     -999.0,9,     -999.0,9,     -999.0,9
325020210316,        A20,      45,          1,          9,          9,2,20210402,       0918,    24.1388,   -52.3348,       5563,  2786.3,   2.8674,  34.9420,2,  34.9418,2,    249.3,2,   249.4,2,   32.23,2,   20.19,2,    0.00,2,    1.32,2,-999.000,9,-999.000,9, -999.00,9,  2181.8,2, 2327.01,2,    740.6,2,    20.00,   7.73636,2,    25.01, -999.00,9, -999.00,9, -999.00,-999.000,9, -999.00,9, -999.00,9,     -999.0,9, 20210402,     1028,  24.1388, -52.3348,     2.8672,2,     0.0417,1,     4.7023,1,     -999.0,9,     -999.0,9,     -999.0,9,     -999.0,9
325020210316,        A20,      45,          1,          8,          8,2,20210402,       0918,    24.1388,   -52.3348,       5563,  3041.4,   2.6869,  34.9264,2,  34.9258,2,    250.3,2,   250.7,2,   34.96,2,   20.41,2,    0.00,2,    1.34,2,   0.131,2,   0.069,2,    0.06,2,  2184.7,2, 2331.69,2,    741.4,2,    20.00,   7.73659,2,    25.00, -999.00,9, -999.00,9, -999.00,-999.000,9,   42.11,2,   21.48,2,      13.48,2, 20210402,     1023,  24.1387, -52.3348,     2.6874,2,     0.0423,1,     4.7021,1,     -999.0,9,     -999.0,9,     -999.0,9,     -999.0,9
325020210316,        A20,      45,          1,          7,          7,2,20210402,       0918,    24.1388,   -52.3348,       5563,  3347.4,   2.5076,  34.9101,2,  34.9095,2,    251.4,2,   251.5,2,   38.19,2,   20.81,2,    0.00,2,    1.36,2,-999.000,9,-999.000,9, -999.00,9,  2186.7,2, 2334.28,2,    744.5,2,    20.00,   7.73515,2,    25.00,    1.04,2, -103.88,2,    1.65,-999.000,9,   43.17,2,   21.37,2,     -999.0,9, 20210402,     1016,  24.1388, -52.3348,     2.5075,2,     0.0422,1,     4.7022,1,     -999.0,9,     -999.0,9,     -999.0,9,     -999.0,9
325020210316,        A20,      45,          1,          6,          6,2,20210402,       0918,    24.1388,   -52.3348,       5563,  3655.0,   2.3420,  34.8945,2,  34.8934,2,    252.3,2,   252.5,2,   41.31,2,   20.95,2,    0.00,2,    1.39,2,-999.000,9,-999.000,9, -999.00,9,  2188.7,2, 2335.04,2,    748.6,2,    20.00,   7.73225,2,    25.01, -999.00,9, -999.00,9, -999.00,-999.000,9, -999.00,9, -999.00,9,     -999.0,9, 20210402,     1009,  24.1387, -52.3348,     2.3428,2,     0.0429,1,     4.7021,1,     -999.0,9,     -999.0,9,     -999.0,9,     -999.0,9
325020210316,        A20,      45,          1,          5,          5,2,20210402,       0918,    24.1388,   -52.3348,       5563,  4062.7,   2.1995,  34.8792,2,  34.8786,2,    253.3,2,   253.4,2,   44.05,2,   21.13,2,    0.00,2,    1.40,2,   0.134,2,   0.070,2,    0.00,2,  2188.5,2, 2335.95,2,    760.2,2,    20.00,   7.72885,2,    24.98,    1.08,2, -106.14,2,    1.88,-999.000,9,   42.99,2,   22.27,2,      13.43,2, 20210402,     1001,  24.1388, -52.3348,     2.1994,2,     0.0428,1,     4.7021,1,     -999.0,9,     -999.0,9,     -999.0,9,     -999.0,9
325020210316,        A20,      45,          1,          4,          4,2,20210402,       0918,    24.1388,   -52.3348,       5563,  4475.3,   2.1108,  34.8653,2,  34.8607,3,    251.3,2,   250.6,2,   50.40,2,   22.07,2,    0.00,2,    1.47,2,-999.000,9,-999.000,9, -999.00,9,  2195.8,2, 2340.71,2,    777.0,6,    20.00,   7.72033,2,    24.95, -999.00,9, -999.00,9, -999.00,-999.000,9,   45.04,2,   22.82,2,     -999.0,9, 20210402,      952,  24.1388, -52.3348,     2.1108,2,     0.0431,1,     4.7015,1,     -999.0,9,     -999.0,9,     -999.0,9,     -999.0,9
325020210316,        A20,      45,          1,          3,          3,2,20210402,       0918,    24.1388,   -52.3348,       5563,  4885.3,   2.0772,  34.8566,2,  34.8554,2,    250.0,2,   250.5,2,   52.06,2,   22.35,2,    0.00,2,    1.47,2,   0.159,2,   0.081,2,    0.00,2,  2198.7,2, 2340.33,2,    780.3,2,    20.00,   7.71737,6,    24.93,    1.02,2, -109.45,2,    1.59,-999.000,9,   43.05,2,   22.93,2,      13.99,2, 20210402,      944,  24.1387, -52.3348,     2.0773,2,     0.0421,1,     4.7008,1,     -999.0,9,     -999.0,9,     -999.0,9,     -999.0,9