BOTTLE,20230512CCHSIOCBG
EXPOCODE,SECT_ID,STNNBR,CASTNO,SAMPNO,BTLNBR,BTLNBR_FLAG_W,DATE,TIME,LATITUDE,LONGITUDE,DEPTH,CTDPRS,CTDTMP,CTDSAL,CTDSAL_FLAG_W,SALNTY,SALNTY_FLAG_W,CTDOXY,CTDOXY_FLAG_W,OXYGEN,OXYGEN_FLAG_W,SILCAT,SILCAT_FLAG_W,NITRAT,NITRAT_FLAG_W,NITRIT,NITRIT_FLAG_W,PHSPHT,PHSPHT_FLAG_W,CFC-11,CFC-11_FLAG_W,CFC-12,CFC-12_FLAG_W,SF6,SF6_FLAG_W,TCARBN,TCARBN_FLAG_W,ALKALI,ALKALI_FLAG_W,FCO2,FCO2_FLAG_W,FCO2TMP,PH_TOT,PH_TOT_FLAG_W,PH_TMP,DELC13,DELC13_FLAG_W,DELC14,DELC14_FLAG_W,C14ERR,POC,POC_FLAG_W,DOC,DOC_FLAG_W,TDN,TDN_FLAG_W,N2O,N2O_FLAG_W,BTL_DATE,BTL_TIME,BTL_LAT,BTL_LON,REFTMP,REFTMP_FLAG_W,CTDFLUOR,CTDFLUOR_FLAG_W,CTDXMISS,CTDXMISS_FLAG_W,D15N_NO2+NO3,D15N_NO2+NO3_FLAG_W,D18O_NO2+NO3,D18O_NO2+NO3_FLAG_W,HPLC,HPLC_FLAG_W,MICROGELS,MICROGELS_FLAG_W
,,,,,,,,,,,METERS,DBAR,ITS-90,PSS-78,,PSS-78,,UMOL/KG,,UMOL/KG,,UMOL/KG,,UMOL/KG,,UMOL/KG,,UMOL/KG,,PMOL/KG,,PMOL/KG,,FMOL/KG,,UMOL/KG,,UMOL/KG,,UATM,,DEG C,,,DEG C,/MILLE,,/MILLE,,/MILLE,UG/KG,,UMOL/KG,,UMOL/KG,,NMOL/KG,,,,,,ITS-90,,VOLTS,,VOLTS,,/MILLE,,/MILLE,,,,1E6 GELS/L,
325020210316,        A20,      53,          1,         36,         36,2,20210404,       1812,    19.4719,   -52.3336,       5114,     5.1,  25.3078,  36.8341,2,  36.8375,2,    206.7,2,   206.2,2,    1.07,2,    0.00,2,    0.00,2,    0.00,2,   1.580,2,   0.998,2,    1.76,2,  2065.1,2, 2412.73,2,   -999.0,9,  -999.00,   8.09668,2,    25.00, -999.00,9, -999.00,9, -999.00,-999.000,9, -999.00,9, -999.00,9,       6.11,2, 20210404,     2028,  19.4719, -52.3336,    25.3168,2,     0.0423,1,     4.6348,1,     -999.0,9,     -999.0,9,     -999.0,9,     -999.0,9
325020210316,        A20,      53,          1,         35,         35,2,20210404,       1812,    19.4719,   -52.3336,       5114,    19.4,  25.2862,  36.8345,2,  36.8393,2,    206.7,2,   206.5,2,    0.98,2,    0.00,2,    0.00,2,    0.00,2,-999.000,9,-999.000,9, -999.00,9,  -999.0,9, -999.00,9,   -999.0,9,  -999.00,-999.00000,9,  -999.00, -999.00,9, -999.00,9, -999.00,-999.000,9, -999.00,9, -999.00,9,     -999.0,9, 20210404,     2026,  19.4719, -52.3336,    25.2865,2,     0.0439,1,     4.6362,1,     -999.0,9,     -999.0,9,     -999.0,9,     -999.0,9
325020210316,        A20,      53,          1,         34,         34,2,20210404,       1812,    19.4719,   -52.3336,       5114,    39.9,  25.2341,  37.0448,2,  37.0496,2,    206.3,2,   206.5,2,    0.88,2,    0.00,2,    0.00,2,    0.00,2,-999.000,9,-999.000,9, -999.00,9,  -999.0,9, -999.00,9,   -999.0,9,  -999.00,-999.00000,9,  -999.00, -999.00,9, -999.00,9, -999.00,-999.000,9, -999.00,9, -999.00,9,     -999.0,9, 20210404,     2024,  19.4719, -52.3336,    25.2285,2,     0.0446,1,     4.6392,1,     -999.0,9,     -999.0,9,     -999.0,9,     -999.0,9
325020210316,        A20,      53,          1,         33,         33,2,20210404,       1812,    19.4719,   -52.3336,       5114,    65.3,  25.1799,  37.2066,2,  37.2501,3,    207.3,2,   207.5,2,    0.68,2,    0.00,2,    0.00,2,    0.00,2,-999.000,9,-999.000,9, -999.00,9,  -999.0,9, -999.00,9,   -999.0,9,  -999.00,-999.00000,9,  -999.00, -999.00,9, -999.00,9, -999.00,-999.000,9, -999.00,9, -999.00,9,     -999.0,9, 20210404,     2023,  19.4719, -52.3336,    25.1771,2,     0.0469,1,     4.6329,1,     -999.0,9,     -999.0,9,     -999.0,9,     -999.0,9
325020210316,        A20,      53,          1,         32,         32,2,20210404,       1812,    19.4719,   -52.3336,       5114,    90.4,  25.1058,  37.3074,2,  37.3093,2,    205.2,2,   206.1,2,    0.58,2,    0.00,2,    0.00,2,    0.00,2,-999.000,9,-999.000,9, -999.00,9,  2093.3,2, 2439.87,2,   -999.0,9,  -999.00,   8.08446,2,    25.00, -999.00,9, -999.00,9, -999.00,-999.000,9, -999.00,9, -999.00,9,     -999.0,9, 20210404,     2021,  19.4719, -52.3336,    25.1040,2,     0.0519,1,     4.6420,1,     -999.0,9,     -999.0,9,     -999.0,9,     -999.0,9
325020210316,        A20,      53,          1,         31,         31,2,20210404,       1812,    19.4719,   -52.3336,       5114,   136.2,  23.3410,  37.3017,2,  37.2843,2,    190.7,2,   189.5,2,    0.49,2,    0.19,2,    0.06,2,    0.00,2,   1.718,2,   1.112,2,    1.72,2,  2137.3,2,  2437.3,2,   -999.0,9,  -999.00,    8.0006,2,    25.01, -999.00,9, -999.00,9, -999.00,-999.000,9, -999.00,9, -999.00,9,       7.19,2, 20210404,     2019,  19.4719, -52.3336,    23.3238,2,     0.1011,1,     4.6457,1,     -999.0,9,     -999.0,9,     -999.0,9,     -999.0,9
325020210316,        A20,      53,          1,         30,         30,2,20210404,       1812,    19.4719,   -52.3336,       5114,   185.5,  20.7028,  36.9659,2,  36.9449,3,    171.8,2,   172.9,2,    0.88,2,    3.25,2,    0.00,2,    0.13,2,-999.000,9,-999.000,9, -999.00,9,  -999.0,9, -999.00,9,   -999.0,9,  -999.00,   8.01329,2,  -999.00, -999.00,9, -999.00,9, -999.00,-999.000,9, -999.00,9, -999.00,9,     -999.0,9, 20210404,     2017,  19.4719, -52.3336,    20.7320,2,     0.0489,1,     4.6810,1,     -999.0,9,     -999.0,9,     -999.0,9,     -999.0,9
325020210316,        A20,      53,          1,         29,         29,2,20210404,       1812,    19.4719,   -52.3336,       5114,   236.9,  18.8883,  36.6584,2,  36.6526,2,    178.9,2,   178.9,2,    1.46,2,    4.95,2,    0.00,2,    0.28,2,-999.000,9,-999.000,9, -999.00,9,  -999.0,9, -999.00,9,   -999.0,9,  -999.00,-999.00000,9,  -999.00, -999.00,9, -999.00,9, -999.00,-999.000,9, -999.00,9, -999.00,9,     -999.0,9, 20210404,     2014,  19.4719, -52.3336,    18.8549,2,     0.0395,1,     4.6871,1,     -999.0,9,     -999.0,9,     -999.0,9,     -999.0,9
325020210316,        A20,      53,          1,         28,         28,2,20210404,       1812,    19.4719,   -52.3336,       5114,   287.0,  17.0138,  36.3531,2,  36.3645,2,    172.8,2,   171.9,2,    2.44,2,    8.28,2,    0.00,2,    0.46,2,   2.143,2,   1.360,2,    1.56,2,  2156.6,2, 2378.41,2,   -999.0,9,  -999.00,   7.88899,2,    24.99, -999.00,9, -999.00,9, -999.00,-999.000,9, -999.00,9, -999.00,9,      12.17,2, 20210404,     2012,  19.4719, -52.3336,    17.0319,2,     0.0398,1,     4.6886,1,     -999.0,9,     -999.0,9,     -999.0,9,     -999.0,9
325020210316,        A20,      53,          1,         27,         27,2,20210404,       1812,    19.4719,   -52.3336,       5114,   336.9,  16.0548,  36.1916,2,  36.1868,2,    155.1,2,   156.1,2,    3.51,2,   11.74,2,    0.00,2,    0.63,2,-999.000,9,-999.000,9, -999.00,9,  -999.0,9, -999.00,9,   -999.0,9,  -999.00,-999.00000,9,  -999.00, -999.00,9, -999.00,9, -999.00,-999.000,9, -999.00,9, -999.00,9,     -999.0,9, 20210404,     2009,  19.4719, -52.3336,    16.0446,2,     0.0408,1,     4.6894,1,     -999.0,9,     -999.0,9,     -999.0,9,     -999.0,9
325020210316,        A20,      53,          1,         26,         26,2,20210404,       1812,    19.4719,   -52.3336,       5114,   387.8,  15.1794,  36.0590,2,  36.0469,2,    159.5,2,   160.0,2,    4.10,2,   12.54,2,    0.00,2,    0.70,2,-999.000,9,-999.000,9, -999.00,9,  -999.0,9, -999.00,9,   -999.0,9,  -999.00,-999.00000,9,  -999.00, -999.00,9, -999.00,9, -999.00,-999.000,9, -999.00,9, -999.00,9,     -999.0,9, 20210404,     2007,  19.4719, -52.3336,    15.1685,2,     0.0402,1,     4.6898,1,     -999.0,9,     -999.0,9,     -999.0,9,     -999.0,9
325020210316,        A20,      53,          1,         25,         25,2,20210404,       1812,    19.4719,   -52.3336,       5114,   468.7,  13.6152,  35.8335,2,  35.8345,2,    157.6,2,   157.6,2,    5.47,2,   15.11,2,    0.00,2,    0.86,2,   2.216,2,   1.301,2,    1.00,2,  2176.5,2, 2348.12,2,   -999.0,9,  -999.00,   7.79056,2,    25.00, -999.00,9, -999.00,9, -999.00,-999.000,9, -999.00,9, -999.00,9,      16.36,2, 20210404,     2004,  19.4719, -52.3336,    13.6044,2,     0.0409,1,     4.6935,1,     -999.0,9,     -999.0,9,     -999.0,9,     -999.0,9
325020210316,        A20,      53,          1,         24,         24,2,20210404,       1812,    19.4719,   -52.3336,       5114,   569.2,  11.5437,  35.5220,2,  35.5188,2,    135.9,2,   135.8,2,    9.47,2,   21.43,2,    0.00,2,    1.26,2,-999.000,9,-999.000,9, -999.00,9,  -999.0,9, -999.00,9,   -999.0,9,  -999.00,-999.00000,9,  -999.00, -999.00,9, -999.00,9, -999.00,-999.000,9, -999.00,9, -999.00,9,     -999.0,9, 20210404,     2001,  19.4719, -52.3336,    11.5432,2,     0.0413,1,     4.6958,1,     -999.0,9,     -999.0,9,     -999.0,9,     -999.0,9
325020210316,        A20,      53,          1,         23,         23,2,20210404,       1812,    19.4719,   -52.3336,       5114,   670.2,   9.1057,  35.1636,2,  35.1670,2,    122.0,2,   121.9,2,   15.62,2,   27.39,2,    0.00,2,    1.69,2,-999.000,9,-999.000,9, -999.00,9,  2212.8,6, 2319.25,2,   -999.0,9,  -999.00,    7.6283,2,    25.00, -999.00,9, -999.00,9, -999.00,-999.000,9, -999.00,9, -999.00,9,     -999.0,9, 20210404,     1958,  19.4719, -52.3336,     9.1146,2,     0.0417,1,     4.6965,1,     -999.0,9,     -999.0,9,     -999.0,9,     -999.0,9
325020210316,        A20,      53,          1,         22,         22,2,20210404,       1812,    19.4719,   -52.3336,       5114,   771.8,   7.5625,  34.9573,2,  34.9579,2,    125.9,2,   126.0,2,   19.83,2,   29.96,2,    0.00,2,    1.90,2,   0.644,2,   0.332,2,    0.23,2,  2218.8,2, 2314.43,2,   -999.0,9,  -999.00,   7.59742,6,    25.00, -999.00,9, -999.00,9, -999.00,-999.000,9, -999.00,9, -999.00,9,      24.22,2, 20210404,     1954,  19.4719, -52.3336,     7.5653,2,     0.0432,1,     4.6972,1,     -999.0,9,     -999.0,9,     -999.0,9,     -999.0,9
325020210316,        A20,      53,          1,         21,         21,2,20210404,       1812,    19.4719,   -52.3336,       5114,   872.9,   6.3314,  34.8363,2,  34.8399,2,    133.8,2,   133.7,2,   23.05,2,   31.48,2,    0.00,2,    2.02,2,-999.000,9,-999.000,9, -999.00,9,  -999.0,9, -999.00,9,   -999.0,9,  -999.00,-999.00000,9,  -999.00, -999.00,9, -999.00,9, -999.00,-999.000,9, -999.00,9, -999.00,9,     -999.0,9, 20210404,     1951,  19.4719, -52.3336,     6.3636,2,     0.0431,1,     4.6965,1,     -999.0,9,     -999.0,9,     -999.0,9,     -999.0,9
325020210316,        A20,      53,          1,         20,         20,2,20210404,       1812,    19.4719,   -52.3336,       5114,   972.9,   5.8317,  34.8282,2,  34.8273,2,    144.4,2,   144.0,2,   24.03,2,   30.55,2,    0.00,2,    1.99,2,   0.273,2,   0.132,2,    0.07,2,  2218.7,2, 2309.93,2,   -999.0,9,  -999.00,   7.59005,2,    25.00, -999.00,9, -999.00,9, -999.00,-999.000,9, -999.00,9, -999.00,9,      22.90,2, 20210404,     1948,  19.4719, -52.3336,     5.8329,2,     0.0431,1,     4.6970,1,     -999.0,9,     -999.0,9,     -999.0,9,     -999.0,9
325020210316,        A20,      53,          1,         19,         19,2,20210404,       1812,    19.4719,   -52.3336,       5114,  1074.9,   5.5910,  34.8965,2,  34.8963,2,    162.4,2,   162.8,2,   22.56,2,   28.11,2,    0.00,2,    1.84,2,   0.333,2,   0.157,2,    0.15,2,  -999.0,9, -999.00,9,   -999.0,9,  -999.00,-999.00000,9,  -999.00, -999.00,9, -999.00,9, -999.00,-999.000,9, -999.00,9, -999.00,9,      21.04,2, 20210404,     1945,  19.4719, -52.3336,     5.5917,2,     0.0430,1,     4.6974,1,     -999.0,9,     -999.0,9,     -999.0,9,     -999.0,9
325020210316,        A20,      53,          1,         18,         18,2,20210404,       1812,    19.4719,   -52.3336,       5114,  1176.0,   5.4145,  34.9567,2,  34.9559,2,    183.2,2,   183.2,2,   20.31,2,   25.30,2,    0.00,2,    1.65,2,   0.524,2,   0.262,2,    0.15,2,  2199.7,2, 2317.05,2,   -999.0,9,  -999.00,   7.65656,6,    25.01, -999.00,9, -999.00,9, -999.00,-999.000,9, -999.00,9, -999.00,9,      18.78,2, 20210404,     1942,  19.4719, -52.3336,     5.4229,2,     0.0436,1,     4.6984,1,     -999.0,9,     -999.0,9,     -999.0,9,     -999.0,9
325020210316,        A20,      53,          1,         17,         17,2,20210404,       1812,    19.4719,   -52.3336,       5114,  1277.1,   5.1703,  34.9968,2,  34.9972,2,    204.1,2,   204.3,2,   17.97,2,   22.71,2,    0.00,2,    1.49,2,-999.000,9,-999.000,9, -999.00,9,  -999.0,9, -999.00,9,   -999.0,9,  -999.00,-999.00000,9,  -999.00, -999.00,9, -999.00,9, -999.00,-999.000,9, -999.00,9, -999.00,9,     -999.0,9, 20210404,     1939,  19.4719, -52.3336,     5.1687,2,     0.0425,1,     4.6990,1,     -999.0,9,     -999.0,9,     -999.0,9,     -999.0,9
325020210316,        A20,      53,          1,         16,         16,2,20210404,       1812,    19.4719,   -52.3336,       5114,  1378.1,   4.8681,  35.0137,2,  35.0144,2,    223.5,2,   223.3,2,   16.11,2,   20.90,2,    0.00,2,    1.36,2,-999.000,9,-999.000,9, -999.00,9,  -999.0,9, -999.00,9,   -999.0,9,  -999.00,-999.00000,9,  -999.00, -999.00,9, -999.00,9, -999.00,-999.000,9, -999.00,9, -999.00,9,     -999.0,9, 20210404,     1936,  19.4719, -52.3336,     4.8692,2,     0.0420,1,     4.6995,1,     -999.0,9,     -999.0,9,     -999.0,9,     -999.0,9
325020210316,        A20,      53,          1,         15,         15,2,20210404,       1812,    19.4719,   -52.3336,       5114,  1550.2,   4.5237,  35.0132,2,  35.0138,2,    238.5,2,   238.6,2,   15.04,2,   19.46,2,    0.00,2,    1.27,2,   1.108,2,   0.549,2,    0.32,2,  2175.0,2, 2314.76,2,   -999.0,9,  -999.00,   7.71969,2,    25.00, -999.00,9, -999.00,9, -999.00,-999.000,9, -999.00,9, -999.00,9,      14.42,2, 20210404,     1932,  19.4719, -52.3336,     4.5231,2,     0.0424,1,     4.6998,1,     -999.0,9,     -999.0,9,     -999.0,9,     -999.0,9
325020210316,        A20,      53,          1,         14,         14,2,20210404,       1812,    19.4719,   -52.3336,       5114,  1753.2,   4.1693,  35.0071,2,  35.0081,2,    246.1,2,   246.1,2,   15.92,2,   19.08,2,    0.00,2,    1.25,2,-999.000,9,-999.000,9, -999.00,9,  -999.0,9, -999.00,9,   -999.0,9,  -999.00,-999.00000,9,  -999.00, -999.00,9, -999.00,9, -999.00,-999.000,9, -999.00,9, -999.00,9,     -999.0,9, 20210404,     1927,  19.4719, -52.3336,     4.1663,2,     0.0417,1,     4.6998,1,     -999.0,9,     -999.0,9,     -999.0,9,     -999.0,9
325020210316,        A20,      53,          1,         13,         13,2,20210404,       1812,    19.4719,   -52.3336,       5114,  1956.5,   3.7909,  34.9973,2,  34.9976,2,    245.4,2,   245.5,2,   20.31,2,   19.64,2,    0.00,2,    1.29,2,   0.289,2,   0.139,2,    0.13,2,  2173.9,2, 2321.25,2,   -999.0,9,  -999.00,   7.73637,2,    25.00, -999.00,9, -999.00,9, -999.00,-999.000,9, -999.00,9, -999.00,9,      14.08,2, 20210404,     1922,  19.4719, -52.3336,     3.7944,2,     0.0419,1,     4.6999,1,     -999.0,9,     -999.0,9,     -999.0,9,     -999.0,9
325020210316,        A20,      53,          1,         12,         12,2,20210404,       1812,    19.4719,   -52.3336,       5114,  2189.5,   3.4152,  34.9785,2,  34.9793,2,    246.2,2,   246.1,2,   24.81,2,   20.06,2,    0.00,2,    1.33,2,-999.000,9,-999.000,9, -999.00,9,  -999.0,9, -999.00,9,   -999.0,9,  -999.00,-999.00000,9,  -999.00, -999.00,9, -999.00,9, -999.00,-999.000,9, -999.00,9, -999.00,9,     -999.0,9, 20210404,     1917,  19.4719, -52.3336,     3.4145,2,     0.0420,1,     4.6997,1,     -999.0,9,     -999.0,9,     -999.0,9,     -999.0,9
325020210316,        A20,      53,          1,         11,         11,2,20210404,       1812,    19.4719,   -52.3336,       5114,  2444.6,   3.0838,  34.9551,2,  34.9559,2,    248.5,2,   248.4,2,   28.62,2,   20.10,2,    0.00,2,    1.34,2,-999.000,9,-999.000,9, -999.00,9,  -999.0,9, -999.00,9,   -999.0,9,  -999.00,-999.00000,9,  -999.00, -999.00,9, -999.00,9, -999.00,-999.000,9, -999.00,9, -999.00,9,     -999.0,9, 20210404,     1911,  19.4719, -52.3336,     3.0839,2,     0.0423,1,     4.6996,1,     -999.0,9,     -999.0,9,     -999.0,9,     -999.0,9
325020210316,        A20,      53,          1,         10,         10,2,20210404,       1812,    19.4719,   -52.3336,       5114,  2699.4,   2.8714,  34.9392,2,  34.9396,2,    249.2,2,   249.3,2,   32.23,2,   20.45,2,    0.00,2,    1.35,2,   0.130,2,   0.062,2,    0.08,2,  -999.0,9, -999.00,9,   -999.0,9,  -999.00,-999.00000,9,  -999.00, -999.00,9, -999.00,9, -999.00,-999.000,9, -999.00,9, -999.00,9,      13.88,2, 20210404,     1906,  19.4719, -52.3336,     2.8703,2,     0.0429,1,     4.6991,1,     -999.0,9,     -999.0,9,     -999.0,9,     -999.0,9
325020210316,        A20,      53,          1,          9,          9,2,20210404,       1812,    19.4719,   -52.3336,       5114,  2953.7,   2.7326,  34.9276,2,  34.9274,2,    250.2,2,   250.1,2,   34.38,2,   20.55,2,    0.00,2,    1.37,2,-999.000,9,-999.000,9, -999.00,9,  -999.0,9, -999.00,9,   -999.0,9,  -999.00,-999.00000,9,  -999.00, -999.00,9, -999.00,9, -999.00,-999.000,9, -999.00,9, -999.00,9,     -999.0,9, 20210404,     1900,  19.4719, -52.3336,     2.7327,2,     0.0427,1,     4.6996,1,     -999.0,9,     -999.0,9,     -999.0,9,     -999.0,9
325020210316,        A20,      53,          1,          8,          8,2,20210404,       1812,    19.4719,   -52.3336,       5114,  3243.8,   2.5903,  34.9150,2,  34.9146,2,    251.2,2,   251.2,2,   36.92,2,   20.86,2,    0.00,2,    1.38,2,   0.133,2,   0.064,2,    0.09,2,  2187.2,2, 2333.84,2,   -999.0,9,  -999.00,   7.73508,2,    24.99, -999.00,9, -999.00,9, -999.00,-999.000,9, -999.00,9, -999.00,9,      14.09,2, 20210404,     1854,  19.4719, -52.3336,     2.5897,2,     0.0429,1,     4.6994,1,     -999.0,9,     -999.0,9,     -999.0,9,     -999.0,9
325020210316,        A20,      53,          1,          7,          7,2,20210404,       1812,    19.4719,   -52.3336,       5114,  3550.4,   2.4147,  34.8986,2,  34.8985,2,    251.3,2,   251.3,2,   41.02,2,   21.17,2,    0.00,2,    1.42,2,-999.000,9,-999.000,9, -999.00,9,  -999.0,9, -999.00,9,   -999.0,9,  -999.00,-999.00000,9,  -999.00, -999.00,9, -999.00,9, -999.00,-999.000,9, -999.00,9, -999.00,9,     -999.0,9, 20210404,     1848,  19.4719, -52.3336,     2.4144,2,     0.0429,1,     4.6996,1,     -999.0,9,     -999.0,9,     -999.0,9,     -999.0,9
325020210316,        A20,      53,          1,          6,          6,2,20210404,       1812,    19.4719,   -52.3336,       5114,  3858.0,   2.2530,  34.8830,2,  34.8825,2,    252.1,2,   252.6,2,   44.34,2,   21.61,2,    0.00,2,    1.45,2,-999.000,9,-999.000,9, -999.00,9,  -999.0,9, -999.00,9,   -999.0,9,  -999.00,-999.00000,9,  -999.00, -999.00,9, -999.00,9, -999.00,-999.000,9, -999.00,9, -999.00,9,     -999.0,9, 20210404,     1840,  19.4719, -52.3336,     2.2526,2,     0.0428,1,     4.6996,1,     -999.0,9,     -999.0,9,     -999.0,9,     -999.0,9
325020210316,        A20,      53,          1,          5,          5,2,20210404,       1812,    19.4719,   -52.3336,       5114,  4165.1,   2.1375,  34.8698,2,  34.8698,2,    251.3,2,   251.1,2,   48.35,2,   21.91,2,    0.00,2,    1.47,2,   0.181,2,   0.089,2,    0.09,2,  2199.1,2, 2340.24,6,   -999.0,9,  -999.00,   7.72211,2,    25.00, -999.00,9, -999.00,9, -999.00,-999.000,9, -999.00,9, -999.00,9,      15.20,2, 20210404,     1835,  19.4719, -52.3336,     2.1374,2,     0.0429,1,     4.6991,1,     -999.0,9,     -999.0,9,     -999.0,9,     -999.0,9
325020210316,        A20,      53,          1,          4,          4,2,20210404,       1812,    19.4719,   -52.3336,       5114,  4473.8,   2.0995,  34.8631,2,  34.8625,2,    250.9,2,   250.8,2,   50.01,2,   22.12,2,    0.00,2,    1.49,2,-999.000,9,-999.000,9, -999.00,9,  -999.0,9, -999.00,9,   -999.0,9,  -999.00,-999.00000,9,  -999.00, -999.00,9, -999.00,9, -999.00,-999.000,9, -999.00,9, -999.00,9,     -999.0,9, 20210404,     1828,  19.4719, -52.3336,     2.0995,2,     0.0429,1,     4.6983,1,     -999.0,9,     -999.0,9,     -999.0,9,     -999.0,9
325020210316,        A20,      53,          1,          3,          3,2,20210404,       1812,    19.4719,   -52.3336,       5114,  4780.5,   2.0666,  34.8557,2,  34.8560,2,    249.8,2,   249.7,2,   52.65,2,   22.70,2,    0.00,2,    1.51,2,-999.000,9,-999.000,9, -999.00,9,  -999.0,9, -999.00,9,   -999.0,9,  -999.00,-999.00000,9,  -999.00, -999.00,9, -999.00,9, -999.00,-999.000,9, -999.00,9, -999.00,9,     -999.0,9, 20210404,     1822,  19.4719, -52.3336,     2.0667,2,     0.0435,1,     4.6972,1,     -999.0,9,     -999.0,9,     -999.0,9,     -999.0,9