BOTTLE,20230512CCHSIOCBG
EXPOCODE,SECT_ID,STNNBR,CASTNO,SAMPNO,BTLNBR,BTLNBR_FLAG_W,DATE,TIME,LATITUDE,LONGITUDE,DEPTH,CTDPRS,CTDTMP,CTDSAL,CTDSAL_FLAG_W,SALNTY,SALNTY_FLAG_W,CTDOXY,CTDOXY_FLAG_W,OXYGEN,OXYGEN_FLAG_W,SILCAT,SILCAT_FLAG_W,NITRAT,NITRAT_FLAG_W,NITRIT,NITRIT_FLAG_W,PHSPHT,PHSPHT_FLAG_W,CFC-11,CFC-11_FLAG_W,CFC-12,CFC-12_FLAG_W,SF6,SF6_FLAG_W,TCARBN,TCARBN_FLAG_W,ALKALI,ALKALI_FLAG_W,FCO2,FCO2_FLAG_W,FCO2TMP,PH_TOT,PH_TOT_FLAG_W,PH_TMP,DELC13,DELC13_FLAG_W,DELC14,DELC14_FLAG_W,C14ERR,POC,POC_FLAG_W,DOC,DOC_FLAG_W,TDN,TDN_FLAG_W,N2O,N2O_FLAG_W,BTL_DATE,BTL_TIME,BTL_LAT,BTL_LON,REFTMP,REFTMP_FLAG_W,CTDFLUOR,CTDFLUOR_FLAG_W,CTDXMISS,CTDXMISS_FLAG_W,D15N_NO2+NO3,D15N_NO2+NO3_FLAG_W,D18O_NO2+NO3,D18O_NO2+NO3_FLAG_W,HPLC,HPLC_FLAG_W,MICROGELS,MICROGELS_FLAG_W
,,,,,,,,,,,METERS,DBAR,ITS-90,PSS-78,,PSS-78,,UMOL/KG,,UMOL/KG,,UMOL/KG,,UMOL/KG,,UMOL/KG,,UMOL/KG,,PMOL/KG,,PMOL/KG,,FMOL/KG,,UMOL/KG,,UMOL/KG,,UATM,,DEG C,,,DEG C,/MILLE,,/MILLE,,/MILLE,UG/KG,,UMOL/KG,,UMOL/KG,,NMOL/KG,,,,,,ITS-90,,VOLTS,,VOLTS,,/MILLE,,/MILLE,,,,1E6 GELS/L,
325020210316,        A20,      33,          1,         36,         36,2,20210329,       1710,    31.1388,   -52.3337,       5623,     5.9,  21.1924,  36.8069,2,  36.8060,2,    223.7,2,   224.5,2,    0.39,2,    0.00,2,    0.00,2,    0.00,2,   1.695,2,   1.196,2,    2.01,2,  2099.9,2, 2406.57,2,    351.3,2,    20.00,   8.03669,2,    25.04, -999.00,9, -999.00,9, -999.00,-999.000,9, -999.00,9, -999.00,9,       6.95,2, 20210329,     1934,  31.1388, -52.3337,    21.1777,2,     0.0471,1,     4.6155,1,     -999.0,1,     -999.0,1,     -999.0,9,     -999.0,9
325020210316,        A20,      33,          1,         35,         35,2,20210329,       1710,    31.1388,   -52.3337,       5623,    20.5,  20.9271,  36.8065,2,  36.8056,2,    225.0,2,   224.7,2,    0.39,2,    0.00,2,    0.00,2,    0.00,2,-999.000,9,-999.000,9, -999.00,9,  -999.0,9, -999.00,9,   -999.0,9,  -999.00,-999.00000,9,  -999.00, -999.00,9, -999.00,9, -999.00,-999.000,9, -999.00,9, -999.00,9,     -999.0,9, 20210329,     1932,  31.1388, -52.3337,    20.9265,2,     0.0498,1,     4.6084,1,     -999.0,1,     -999.0,1,     -999.0,9,     -999.0,9
325020210316,        A20,      33,          1,         34,         34,2,20210329,       1710,    31.1388,   -52.3337,       5623,    40.0,  20.8043,  36.7933,2,  36.7968,2,    225.0,2,   225.0,2,    0.49,2,    0.00,2,    0.00,2,    0.00,2,-999.000,9,-999.000,9, -999.00,9,  -999.0,9, -999.00,9,   -999.0,9,  -999.00,-999.00000,9,  -999.00, -999.00,9, -999.00,9, -999.00,-999.000,9, -999.00,9, -999.00,9,     -999.0,9, 20210329,     1931,  31.1388, -52.3337,    20.7921,2,     0.0536,1,     4.6068,1,     -999.0,1,     -999.0,1,     -999.0,9,     -999.0,9
325020210316,        A20,      33,          1,         33,         33,2,20210329,       1710,    31.1388,   -52.3337,       5623,    66.4,  20.4476,  36.7302,2,  36.7306,2,    224.0,2,   224.8,2,    0.59,2,    0.00,2,    0.00,2,    0.00,2,-999.000,9,-999.000,9, -999.00,9,  2095.1,2, 2401.98,2,    352.3,2,    20.00,   8.03549,2,    24.99, -999.00,9, -999.00,9, -999.00,-999.000,9, -999.00,9, -999.00,9,     -999.0,9, 20210329,     1929,  31.1388, -52.3337,    20.4466,2,     0.0667,1,     4.5915,1,     -999.0,1,     -999.0,1,     -999.0,9,     -999.0,9
325020210316,        A20,      33,          1,         32,         32,2,20210329,       1710,    31.1388,   -52.3337,       5623,    91.4,  20.2720,  36.7031,2,  36.7038,2,    225.0,3,   221.0,2,    0.59,2,    0.08,2,    0.02,2,    0.00,2,-999.000,9,-999.000,9, -999.00,9,  -999.0,9, -999.00,9,   -999.0,9,  -999.00,-999.00000,9,  -999.00, -999.00,9, -999.00,9, -999.00,-999.000,9, -999.00,9, -999.00,9,     -999.0,9, 20210329,     1927,  31.1388, -52.3337,    20.2715,2,     0.1205,1,     4.5715,1,     -999.0,1,     -999.0,1,     -999.0,9,     -999.0,9
325020210316,        A20,      33,          1,         31,         31,2,20210329,       1710,    31.1388,   -52.3337,       5623,   137.0,  19.6725,  36.6614,2,  36.6614,2,    219.1,3,   221.9,2,    0.59,2,    0.29,2,    0.20,2,    0.00,2,   1.715,2,   1.226,2,    2.03,2,  2101.3,2, 2396.89,2,    368.3,2,    20.00,   8.01791,2,    25.01, -999.00,9, -999.00,9, -999.00,-999.000,9, -999.00,9, -999.00,9,       7.15,2, 20210329,     1925,  31.1388, -52.3337,    19.6719,2,     0.0488,1,     4.6779,1,     -999.0,1,     -999.0,1,     -999.0,9,     -999.0,9
325020210316,        A20,      33,          1,         30,         30,2,20210329,       1710,    31.1388,   -52.3337,       5623,   186.2,  19.5312,  36.6544,2,  36.6536,2,    219.6,3,   215.7,2,    0.59,2,    0.87,2,    0.09,2,    0.00,2,-999.000,9,-999.000,9, -999.00,9,  -999.0,9, -999.00,9,   -999.0,9,  -999.00,-999.00000,9,  -999.00, -999.00,9, -999.00,9, -999.00,-999.000,9, -999.00,9, -999.00,9,     -999.0,9, 20210329,     1924,  31.1388, -52.3337,    19.5304,2,     0.0463,1,     4.6836,1,     -999.0,1,     -999.0,1,     -999.0,9,     -999.0,9
325020210316,        A20,      33,          1,         29,         29,2,20210329,       1710,    31.1388,   -52.3337,       5623,   238.1,  19.3058,  36.6375,2,  36.6374,2,    213.7,2,   214.1,2,    0.68,2,    1.46,2,    0.04,2,    0.02,2,-999.000,9,-999.000,9, -999.00,9,  -999.0,9, -999.00,9,   -999.0,9,  -999.00,-999.00000,9,  -999.00, -999.00,9, -999.00,9, -999.00,-999.000,9, -999.00,9, -999.00,9,     -999.0,9, 20210329,     1922,  31.1388, -52.3337,    19.3048,2,     0.0431,1,     4.6862,1,     -999.0,1,     -999.0,1,     -999.0,9,     -999.0,9
325020210316,        A20,      33,          1,         28,         28,2,20210329,       1710,    31.1388,   -52.3337,       5623,   288.3,  19.1450,  36.6371,2,  36.6368,2,    204.7,3,   200.5,2,    0.78,2,    2.69,2,    0.00,2,    0.08,2,-999.000,9,-999.000,9, -999.00,9,  -999.0,9, -999.00,9,   -999.0,9,  -999.00,-999.00000,9,  -999.00, -999.00,9, -999.00,9, -999.00,-999.000,9, -999.00,9, -999.00,9,     -999.0,9, 20210329,     1919,  31.1388, -52.3337,    19.1432,2,     0.0391,1,     4.6898,1,     -999.0,1,     -999.0,1,     -999.0,9,     -999.0,9
325020210316,        A20,      33,          1,         27,         27,2,20210329,       1710,    31.1388,   -52.3337,       5623,   337.6,  18.8448,  36.6090,2,  36.6100,2,    201.3,2,   201.2,2,    0.88,2,    3.13,2,    0.00,2,    0.10,2,   1.845,2,   1.282,2,    1.82,2,  2119.7,2,  2391.3,2,    411.5,2,    20.00,   7.97383,2,    25.03, -999.00,9, -999.00,9, -999.00,-999.000,9, -999.00,9, -999.00,9,       8.15,2, 20210329,     1917,  31.1388, -52.3337,    18.8462,2,     0.0389,1,     4.6923,1,     -999.0,1,     -999.0,1,     -999.0,9,     -999.0,9
325020210316,        A20,      33,          1,         26,         26,2,20210329,       1710,    31.1388,   -52.3337,       5623,   388.9,  18.3334,  36.5358,2,  36.5371,2,    195.4,2,   195.8,2,    1.27,2,    4.41,2,    0.00,2,    0.17,2,-999.000,9,-999.000,9, -999.00,9,  -999.0,9, -999.00,9,   -999.0,9,  -999.00,-999.00000,9,  -999.00, -999.00,9, -999.00,9, -999.00,-999.000,9, -999.00,9, -999.00,9,     -999.0,9, 20210329,     1915,  31.1388, -52.3337,    18.3380,2,     0.0403,1,     4.6934,1,     -999.0,1,     -999.0,1,     -999.0,9,     -999.0,9
325020210316,        A20,      33,          1,         25,         25,2,20210329,       1710,    31.1388,   -52.3337,       5623,   469.4,  17.3975,  36.3763,2,  36.3790,2,    188.9,2,   188.9,2,    2.05,2,    6.41,2,    0.00,2,    0.29,2,-999.000,9,-999.000,9, -999.00,9,  -999.0,9, -999.00,9,   -999.0,9,  -999.00,-999.00000,9,  -999.00, -999.00,9, -999.00,9, -999.00,-999.000,9, -999.00,9, -999.00,9,     -999.0,9, 20210329,     1913,  31.1388, -52.3337,    17.4119,2,     0.0409,1,     4.6931,1,     -999.0,1,     -999.0,1,     -999.0,9,     -999.0,9
325020210316,        A20,      33,          1,         24,         24,2,20210329,       1710,    31.1388,   -52.3337,       5623,   569.9,  15.5893,  36.0765,2,  36.0758,2,    181.3,2,   180.3,2,    3.71,2,   10.11,2,    0.00,2,    0.55,2,   1.767,2,   1.368,2,    1.47,2,  -999.0,9, -999.00,9,   -999.0,9,  -999.00,-999.00000,9,  -999.00, -999.00,9, -999.00,9, -999.00,-999.000,9, -999.00,9, -999.00,9,      12.11,2, 20210329,     1909,  31.1388, -52.3337,    15.5717,2,     0.0407,1,     4.6978,1,     -999.0,1,     -999.0,1,     -999.0,9,     -999.0,9
325020210316,        A20,      33,          1,         23,         23,2,20210329,       1710,    31.1388,   -52.3337,       5623,   671.4,  13.1026,  35.6902,2,  35.6883,2,    171.6,2,   171.6,2,    6.45,2,   14.86,2,    0.00,2,    0.88,2,-999.000,9,-999.000,9, -999.00,9,  2167.0,2, 2342.03,2,    648.4,6,    20.00,   7.79024,2,    25.03, -999.00,9, -999.00,9, -999.00,-999.000,9, -999.00,9, -999.00,9,     -999.0,9, 20210329,     1907,  31.1388, -52.3337,    13.1009,2,     0.0410,1,     4.7001,1,     -999.0,1,     -999.0,1,     -999.0,9,     -999.0,9
325020210316,        A20,      33,          1,         22,         22,2,20210329,       1710,    31.1388,   -52.3337,       5623,   771.8,  10.8681,  35.4060,2,  35.4028,2,    158.5,2,   158.6,2,   10.06,2,   19.75,2,    0.00,2,    1.20,2,-999.000,9,-999.000,9, -999.00,9,  -999.0,9, -999.00,9,   -999.0,9,  -999.00,-999.00000,9,  -999.00, -999.00,9, -999.00,9, -999.00,-999.000,9, -999.00,9, -999.00,9,     -999.0,9, 20210329,     1903,  31.1388, -52.3337,    10.8664,2,     0.0417,1,     4.7021,1,     -999.0,1,     -999.0,1,     -999.0,9,     -999.0,9
325020210316,        A20,      33,          1,         21,         21,2,20210329,       1710,    31.1388,   -52.3337,       5623,   871.9,   9.0935,  35.2503,2,  35.2491,2,    161.3,2,   161.4,2,   12.60,2,   21.99,2,    0.00,2,    1.36,2,   1.494,2,   0.907,2,    0.70,2,  2190.9,2, 2322.56,2,    830.4,2,    20.00,   7.68678,2,    24.99, -999.00,9, -999.00,9, -999.00,-999.000,9, -999.00,9, -999.00,9,      19.11,2, 20210329,     1900,  31.1388, -52.3337,     9.0915,2,     0.0426,1,     4.7042,1,     -999.0,1,     -999.0,1,     -999.0,9,     -999.0,9
325020210316,        A20,      33,          1,         20,         20,2,20210329,       1710,    31.1388,   -52.3337,       5623,   973.1,   7.5937,  35.2334,2,  35.2327,2,    181.8,2,   183.1,2,   13.58,2,   21.46,2,    0.00,2,    1.34,2,-999.000,9,-999.000,9, -999.00,9,  -999.0,9, -999.00,9,   -999.0,9,  -999.00,-999.00000,9,  -999.00, -999.00,9, -999.00,9, -999.00,-999.000,9, -999.00,9, -999.00,9,     -999.0,9, 20210329,     1857,  31.1388, -52.3337,     7.5969,2,     0.0416,1,     4.7057,1,     -999.0,1,     -999.0,1,     -999.0,9,     -999.0,9
325020210316,        A20,      33,          1,         19,         19,2,20210329,       1710,    31.1388,   -52.3337,       5623,  1074.1,   6.7758,  35.2024,2,  35.2022,2,    197.3,2,   198.5,2,   13.78,2,   20.77,2,    0.00,2,    1.30,2,   1.364,2,   0.789,2,    0.47,2,  -999.0,9, -999.00,9,   -999.0,9,  -999.00,-999.00000,9,  -999.00, -999.00,9, -999.00,9, -999.00,-999.000,9, -999.00,9, -999.00,9,      16.05,2, 20210329,     1854,  31.1388, -52.3337,     6.7697,2,     0.0429,1,     4.7068,1,     -999.0,1,     -999.0,1,     -999.0,9,     -999.0,9
325020210316,        A20,      33,          1,         18,         18,2,20210329,       1710,    31.1388,   -52.3337,       5623,  1177.1,   6.0328,  35.1592,2,  35.1591,2,    210.4,2,   211.1,2,   14.27,2,   20.37,2,    0.00,2,    1.28,2,-999.000,9,-999.000,9, -999.00,9,  -999.0,9, -999.00,9,   -999.0,9,  -999.00,-999.00000,9,  -999.00, -999.00,9, -999.00,9, -999.00,-999.000,9, -999.00,9, -999.00,9,     -999.0,9, 20210329,     1851,  31.1388, -52.3337,     6.0344,2,     0.0417,1,     4.7072,1,     -999.0,1,     -999.0,1,     -999.0,9,     -999.0,9
325020210316,        A20,      33,          1,         17,         17,2,20210329,       1710,    31.1388,   -52.3337,       5623,  1279.2,   5.7118,  35.1626,2,  35.1636,2,    227.2,2,   227.0,2,   12.80,2,   18.82,2,    0.00,2,    1.19,2,-999.000,9,-999.000,9, -999.00,9,  -999.0,9, -999.00,9,   -999.0,9,  -999.00,-999.00000,9,  -999.00, -999.00,9, -999.00,9, -999.00,-999.000,9, -999.00,9, -999.00,9,     -999.0,9, 20210329,     1849,  31.1388, -52.3337,     5.7274,2,     0.0416,1,     4.7069,1,     -999.0,1,     -999.0,1,     -999.0,9,     -999.0,9
325020210316,        A20,      33,          1,         16,         16,2,20210329,       1710,    31.1388,   -52.3337,       5623,  1379.1,   5.3182,  35.1357,2,  35.1394,2,    235.2,2,   235.7,2,   12.80,2,   18.38,2,    0.00,2,    1.16,2,-999.000,9,-999.000,9, -999.00,9,  -999.0,9, -999.00,9,   -999.0,9,  -999.00,-999.00000,9,  -999.00, -999.00,9, -999.00,9, -999.00,-999.000,9, -999.00,9, -999.00,9,     -999.0,9, 20210329,     1846,  31.1388, -52.3337,     5.3193,2,     0.0422,1,     4.7070,1,     -999.0,1,     -999.0,1,     -999.0,9,     -999.0,9
325020210316,        A20,      33,          1,         15,         15,2,20210329,       1710,    31.1388,   -52.3337,       5623,  1551.5,   4.7356,  35.0727,2,  35.0720,2,    249.7,2,   249.3,2,   12.51,2,   17.80,2,    0.00,2,    1.13,2,   2.234,2,   1.265,2,    0.78,2,  2173.1,2, 2316.33,2,    766.2,2,    20.00,   7.71864,6,    25.01, -999.00,9, -999.00,9, -999.00,-999.000,9, -999.00,9, -999.00,9,      14.28,2, 20210329,     1840,  31.1388, -52.3337,     4.7388,2,     0.0411,1,     4.7064,1,     -999.0,1,     -999.0,1,     -999.0,9,     -999.0,9
325020210316,        A20,      33,          1,         14,         14,2,20210329,       1710,    31.1388,   -52.3337,       5623,  1755.4,   4.3142,  35.0433,2,  35.0429,2,    254.5,2,   253.6,2,   13.88,2,   17.84,2,    0.00,2,    1.13,2,-999.000,9,-999.000,9, -999.00,9,  -999.0,9, -999.00,9,   -999.0,9,  -999.00,-999.00000,9,  -999.00, -999.00,9, -999.00,9, -999.00,-999.000,9, -999.00,9, -999.00,9,     -999.0,9, 20210329,     1837,  31.1388, -52.3337,     4.3148,2,     0.0424,1,     4.7067,1,     -999.0,1,     -999.0,1,     -999.0,9,     -999.0,9
325020210316,        A20,      33,          1,         13,         13,2,20210329,       1710,    31.1388,   -52.3337,       5623,  1958.7,   4.0552,  35.0317,2,  35.0309,2,    255.0,2,   253.6,2,   16.12,2,   18.06,2,    0.00,2,    1.16,2,-999.000,9,-999.000,9, -999.00,9,  -999.0,9, -999.00,9,   -999.0,9,  -999.00,-999.00000,9,  -999.00, -999.00,9, -999.00,9, -999.00,-999.000,9, -999.00,9, -999.00,9,     -999.0,9, 20210329,     1832,  31.1388, -52.3337,     4.0548,2,     0.0429,1,     4.7069,1,     -999.0,1,     -999.0,1,     -999.0,9,     -999.0,9
325020210316,        A20,      33,          1,         12,         12,2,20210329,       1710,    31.1388,   -52.3337,       5623,  2193.3,   3.6661,  35.0033,2,  35.0087,3,    254.6,2,   253.8,2,   19.84,2,   18.47,2,    0.00,2,    1.20,2,   1.023,2,   0.554,2,    0.19,2,  -999.0,9, -999.00,9,   -999.0,9,  -999.00,-999.00000,9,  -999.00, -999.00,9, -999.00,9, -999.00,-999.000,9, -999.00,9, -999.00,9,      13.73,2, 20210329,     1827,  31.1388, -52.3337,     3.6684,2,     0.0429,1,     4.7070,1,     -999.0,1,     -999.0,1,     -999.0,9,     -999.0,9
325020210316,        A20,      33,          1,         11,         11,2,20210329,       1710,    31.1388,   -52.3337,       5623,  2446.9,   3.3736,  34.9799,2,  34.9799,2,    253.8,2,   253.7,2,   23.36,2,   18.88,2,    0.00,2,    1.24,2,-999.000,9,-999.000,9, -999.00,9,  -999.0,9, -999.00,9,   -999.0,9,  -999.00,-999.00000,9,  -999.00, -999.00,9, -999.00,9, -999.00,-999.000,9, -999.00,9, -999.00,9,     -999.0,9, 20210329,     1821,  31.1388, -52.3337,     3.3751,2,     0.0429,1,     4.7070,1,     -999.0,1,     -999.0,1,     -999.0,9,     -999.0,9
325020210316,        A20,      33,          1,         10,         10,2,20210329,       1710,    31.1388,   -52.3337,       5623,  2699.4,   3.1585,  34.9628,2,  34.9620,2,    253.9,2,   253.7,2,   26.09,2,   19.28,2,    0.00,2,    1.27,2,   0.455,2,   0.252,2,    0.11,2,  -999.0,9, -999.00,9,   -999.0,9,  -999.00,-999.00000,9,  -999.00, -999.00,9, -999.00,9, -999.00,-999.000,9, -999.00,9, -999.00,9,      13.63,2, 20210329,     1816,  31.1388, -52.3337,     3.1571,2,     0.0421,1,     4.7072,1,     -999.0,1,     -999.0,1,     -999.0,9,     -999.0,9
325020210316,        A20,      33,          1,          9,          9,2,20210329,       1710,    31.1388,   -52.3337,       5623,  2956.0,   2.9952,  34.9507,2,  34.9492,2,    254.1,2,   253.4,2,   28.63,2,   19.68,2,    0.00,2,    1.29,2,   0.292,2,   0.145,2,    0.05,2,  2176.1,2, 2337.79,3,    733.6,2,    20.00,   7.73696,2,    25.03, -999.00,9, -999.00,9, -999.00,-999.000,9, -999.00,9, -999.00,9,      13.61,2, 20210329,     1810,  31.1388, -52.3337,     2.9937,2,     0.0427,1,     4.7072,1,     -999.0,1,     -999.0,1,     -999.0,9,     -999.0,9
325020210316,        A20,      33,          1,          8,          8,2,20210329,       1710,    31.1388,   -52.3337,       5623,  3247.4,   2.7876,  34.9339,2,  34.9323,2,    255.7,2,   256.7,2,   29.71,2,   19.70,2,    0.00,2,    1.29,2,-999.000,9,-999.000,9, -999.00,9,  -999.0,9, -999.00,9,   -999.0,9,  -999.00,-999.00000,9,  -999.00, -999.00,9, -999.00,9, -999.00,-999.000,9, -999.00,9, -999.00,9,     -999.0,9, 20210329,     1804,  31.1388, -52.3337,     2.7878,2,     0.0428,1,     4.7069,1,     -999.0,1,     -999.0,1,     -999.0,9,     -999.0,9
325020210316,        A20,      33,          1,          7,          7,2,20210329,       1710,    31.1388,   -52.3337,       5623,  3620.4,   2.5548,  34.9144,2,  34.9136,2,    260.7,2,   261.3,2,   30.20,2,   19.30,2,    0.00,2,    1.28,2,   0.390,2,   0.201,2,    0.11,2,  2173.9,2, 2328.15,2,    730.4,2,    20.00,   7.73793,2,    25.02, -999.00,9, -999.00,9, -999.00,-999.000,9, -999.00,9, -999.00,9,      13.05,2, 20210329,     1755,  31.1388, -52.3337,     2.5552,2,     0.0428,1,     4.7065,1,     -999.0,1,     -999.0,1,     -999.0,9,     -999.0,9
325020210316,        A20,      33,          1,          6,          6,2,20210329,       1710,    31.1388,   -52.3337,       5623,  4031.6,   2.3720,  34.8988,2,  34.8973,2,    264.8,2,   264.3,2,   31.27,2,   19.08,2,    0.00,2,    1.27,2,   0.907,2,   0.306,2,    0.18,2,  -999.0,9, -999.00,9,   -999.0,9,  -999.00,-999.00000,9,  -999.00, -999.00,9, -999.00,9, -999.00,-999.000,9, -999.00,9, -999.00,9,      13.66,2, 20210329,     1747,  31.1388, -52.3337,     2.3715,2,     0.0426,1,     4.7066,1,     -999.0,1,     -999.0,1,     -999.0,9,     -999.0,9
325020210316,        A20,      33,          1,          5,          5,2,20210329,       1710,    31.1388,   -52.3337,       5623,  4440.3,   2.2576,  34.8852,2,  34.8845,2,    261.1,2,   261.6,2,   36.55,2,   19.79,2,    0.00,2,    1.32,2,-999.000,9,-999.000,9, -999.00,9,  2181.7,2, 2326.59,6,    744.6,2,    20.00,   7.73009,2,    25.01, -999.00,9, -999.00,9, -999.00,-999.000,9, -999.00,9, -999.00,9,     -999.0,9, 20210329,     1739,  31.1388, -52.3337,     2.2582,2,     0.0436,1,     4.7057,1,     -999.0,1,     -999.0,1,     -999.0,9,     -999.0,9
325020210316,        A20,      33,          1,          4,          4,2,20210329,       1710,    31.1388,   -52.3337,       5623,  4851.1,   2.1444,  34.8670,2,  34.8658,2,    254.8,2,   255.0,2,   46.81,2,   21.40,2,    0.00,2,    1.44,2,   0.273,2,   0.165,2,    0.16,2,  -999.0,9, -999.00,9,   -999.0,9,  -999.00,-999.00000,9,  -999.00, -999.00,9, -999.00,9, -999.00,-999.000,9, -999.00,9, -999.00,9,      14.46,2, 20210329,     1731,  31.1388, -52.3337,     2.1447,2,     0.0424,1,     4.7017,1,     -999.0,1,     -999.0,1,     -999.0,9,     -999.0,9
325020210316,        A20,      33,          1,          3,          3,2,20210329,       1710,    31.1388,   -52.3337,       5623,  5264.1,   2.1298,  34.8590,2,  34.8574,2,    250.3,2,   251.8,2,   51.11,2,   22.13,2,    0.00,2,    1.49,2,-999.000,9,-999.000,9, -999.00,9,  2197.1,2, 2341.19,2,   -999.0,9,  -999.00,   7.71936,6,    25.03, -999.00,9, -999.00,9, -999.00,-999.000,9, -999.00,9, -999.00,9,     -999.0,9, 20210329,     1723,  31.1388, -52.3337,     2.1300,2,     0.0429,1,     4.6973,1,     -999.0,1,     -999.0,1,     -999.0,9,     -999.0,9