BOTTLE,20230512CCHSIOCBG
EXPOCODE,SECT_ID,STNNBR,CASTNO,SAMPNO,BTLNBR,BTLNBR_FLAG_W,DATE,TIME,LATITUDE,LONGITUDE,DEPTH,CTDPRS,CTDTMP,CTDSAL,CTDSAL_FLAG_W,SALNTY,SALNTY_FLAG_W,CTDOXY,CTDOXY_FLAG_W,OXYGEN,OXYGEN_FLAG_W,SILCAT,SILCAT_FLAG_W,NITRAT,NITRAT_FLAG_W,NITRIT,NITRIT_FLAG_W,PHSPHT,PHSPHT_FLAG_W,CFC-11,CFC-11_FLAG_W,CFC-12,CFC-12_FLAG_W,SF6,SF6_FLAG_W,TCARBN,TCARBN_FLAG_W,ALKALI,ALKALI_FLAG_W,FCO2,FCO2_FLAG_W,FCO2TMP,PH_TOT,PH_TOT_FLAG_W,PH_TMP,DELC13,DELC13_FLAG_W,DELC14,DELC14_FLAG_W,C14ERR,POC,POC_FLAG_W,DOC,DOC_FLAG_W,TDN,TDN_FLAG_W,N2O,N2O_FLAG_W,BTL_DATE,BTL_TIME,BTL_LAT,BTL_LON,REFTMP,REFTMP_FLAG_W,CTDFLUOR,CTDFLUOR_FLAG_W,CTDXMISS,CTDXMISS_FLAG_W,D15N_NO2+NO3,D15N_NO2+NO3_FLAG_W,D18O_NO2+NO3,D18O_NO2+NO3_FLAG_W,HPLC,HPLC_FLAG_W,MICROGELS,MICROGELS_FLAG_W
,,,,,,,,,,,METERS,DBAR,ITS-90,PSS-78,,PSS-78,,UMOL/KG,,UMOL/KG,,UMOL/KG,,UMOL/KG,,UMOL/KG,,UMOL/KG,,PMOL/KG,,PMOL/KG,,FMOL/KG,,UMOL/KG,,UMOL/KG,,UATM,,DEG C,,,DEG C,/MILLE,,/MILLE,,/MILLE,UG/KG,,UMOL/KG,,UMOL/KG,,NMOL/KG,,,,,,ITS-90,,VOLTS,,VOLTS,,/MILLE,,/MILLE,,,,1E6 GELS/L,
325020210316,        A20,      49,          1,         36,         36,2,20210403,       1400,    21.8068,   -52.3339,       5240,     4.7,  25.1110,  37.3173,2,  37.3201,2,    209.6,3,   206.5,2,    0.58,2,    0.00,2,    0.00,2,    0.00,2,   1.497,2,   1.000,2,    1.61,2,  2093.4,2, 2439.11,2,   -999.0,9,  -999.00,   8.08843,2,    25.01, -999.00,9, -999.00,9, -999.00,-999.000,9,   79.04,2,    4.25,2,       6.61,2, 20210403,     1616,  21.8068, -52.3339,    25.1218,2,     0.0404,1,     4.6503,1,     -999.0,1,     -999.0,1,     -999.0,9,     -999.0,9
325020210316,        A20,      49,          1,         35,         35,2,20210403,       1400,    21.8068,   -52.3339,       5240,    35.0,  24.9688,  37.3107,2,  37.3117,2,    208.6,2,   206.7,2,    0.49,2,    0.00,2,    0.00,2,    0.00,2,-999.000,9,-999.000,9, -999.00,9,  -999.0,9, -999.00,9,   -999.0,9,  -999.00,-999.00000,9,  -999.00, -999.00,9, -999.00,9, -999.00,-999.000,9,   76.94,2,    4.58,2,     -999.0,9, 20210403,     1614,  21.8068, -52.3339,    24.9671,2,     0.0429,1,     4.6456,1,     -999.0,1,     -999.0,1,     -999.0,9,     -999.0,9
325020210316,        A20,      49,          1,         34,         34,2,20210403,       1400,    21.8068,   -52.3339,       5240,    60.5,  24.9564,  37.3075,2,  37.3087,2,    208.3,2,   206.6,2,    0.49,2,    0.00,2,    0.00,2,    0.00,2,-999.000,9,-999.000,9, -999.00,9,  2091.7,2, 2439.95,2,   -999.0,9,  -999.00,   8.08737,6,    25.01, -999.00,9, -999.00,9, -999.00,-999.000,9,   79.33,2,    5.06,2,     -999.0,9, 20210403,     1612,  21.8068, -52.3339,    24.9559,2,     0.0450,1,     4.6469,1,     -999.0,1,     -999.0,1,     -999.0,9,     -999.0,9
325020210316,        A20,      49,          1,         33,         33,2,20210403,       1400,    21.8068,   -52.3339,       5240,    85.6,  24.9554,  37.3072,2,  37.3089,2,    207.9,2,   207.0,2,    0.58,2,    0.00,2,    0.00,2,    0.00,2,-999.000,9,-999.000,9, -999.00,9,  -999.0,9, -999.00,9,   -999.0,9,  -999.00,-999.00000,9,  -999.00, -999.00,9, -999.00,9, -999.00,-999.000,9,   75.46,2,    5.53,2,     -999.0,9, 20210403,     1611,  21.8068, -52.3339,    24.9528,2,     0.0473,1,     4.6468,1,     -999.0,1,     -999.0,1,     -999.0,9,     -999.0,9
325020210316,        A20,      49,          1,         32,         32,2,20210403,       1400,    21.8068,   -52.3339,       5240,   116.3,  23.7263,  37.3290,2,  37.3256,2,    196.8,2,   197.1,2,    0.39,2,    0.00,2,    0.00,2,    0.00,2,-999.000,9,-999.000,9, -999.00,9,  2112.7,2, -999.00,9,   -999.0,9,  -999.00,   8.03426,2,    25.01, -999.00,9, -999.00,9, -999.00,-999.000,9,   63.68,2,    4.60,2,     -999.0,9, 20210403,     1609,  21.8068, -52.3339,    23.7334,2,     0.0679,1,     4.6518,1,     -999.0,1,     -999.0,1,     -999.0,9,     -999.0,9
325020210316,        A20,      49,          1,         31,         31,2,20210403,       1400,    21.8068,   -52.3339,       5240,   165.7,  21.3424,  37.0509,2,  37.0301,3,    172.8,3,   175.7,2,    0.68,2,    2.23,2,    0.01,2,    0.09,2,   1.819,2,   1.184,2,    1.68,2,  2146.3,2, 2418.03,2,   -999.0,9,  -999.00,   7.96387,6,    24.98, -999.00,9, -999.00,9, -999.00,-999.000,9,   54.80,2,    5.63,2,       9.15,2, 20210403,     1607,  21.8068, -52.3339,    21.3466,2,     0.0621,1,     4.6741,1,     -999.0,1,     -999.0,1,     -999.0,9,     -999.0,9
325020210316,        A20,      49,          1,         30,         30,2,20210403,       1400,    21.8068,   -52.3339,       5240,   216.3,  19.8298,  36.8188,2,  36.8129,2,    172.4,3,   174.9,2,    1.07,2,    3.95,2,    0.00,2,    0.17,2,-999.000,9,-999.000,9, -999.00,9,  -999.0,9, -999.00,9,   -999.0,9,  -999.00,-999.00000,9,  -999.00, -999.00,9, -999.00,9, -999.00,-999.000,9,   52.32,2,    6.89,2,     -999.0,9, 20210403,     1605,  21.8068, -52.3339,    19.8289,2,     0.0443,1,     4.6862,1,     -999.0,1,     -999.0,1,     -999.0,9,     -999.0,9
325020210316,        A20,      49,          1,         29,         29,2,20210403,       1400,    21.8068,   -52.3339,       5240,   267.3,  18.1365,  36.5348,2,  36.5339,2,    172.2,3,   174.2,2,    1.76,2,    6.73,2,    0.00,2,    0.34,2,   2.053,2,   1.319,2,    1.62,2,  2151.8,2, 2387.72,2,   -999.0,9,  -999.00,   7.91142,2,    25.02, -999.00,9, -999.00,9, -999.00,-999.000,9,   51.46,2,    9.91,2,      11.68,2, 20210403,     1603,  21.8068, -52.3339,    18.1759,2,     0.0394,1,     4.6891,1,     -999.0,1,     -999.0,1,     -999.0,9,     -999.0,9
325020210316,        A20,      49,          1,         28,         28,2,20210403,       1400,    21.8068,   -52.3339,       5240,   317.9,  16.8359,  36.3164,2,  36.2970,2,    159.7,2,   160.8,2,    2.83,2,   10.23,2,    0.00,2,    0.57,2,-999.000,9,-999.000,9, -999.00,9,  -999.0,9, -999.00,9,   -999.0,9,  -999.00,-999.00000,9,  -999.00, -999.00,9, -999.00,9, -999.00,-999.000,9,   50.53,2,   12.93,2,     -999.0,9, 20210403,     1601,  21.8068, -52.3339,    16.8346,2,     0.0402,1,     4.6899,1,     -999.0,1,     -999.0,1,     -999.0,9,     -999.0,9
325020210316,        A20,      49,          1,         27,         27,2,20210403,       1400,    21.8068,   -52.3339,       5240,   368.0,  15.4731,  36.0952,2,  36.0966,2,    149.9,2,   151.0,2,    4.00,2,   13.13,2,    0.00,2,    0.75,2,   2.180,2,   1.355,2,    1.32,2,  2172.9,2, 2360.95,6,   -999.0,9,  -999.00,   7.81601,2,    25.04, -999.00,9, -999.00,9, -999.00,-999.000,9,   48.32,2,   15.59,2,      17.06,2, 20210403,     1559,  21.8068, -52.3339,    15.5204,2,     0.0407,1,     4.6911,1,     -999.0,1,     -999.0,1,     -999.0,9,     -999.0,9
325020210316,        A20,      49,          1,         26,         26,2,20210403,       1400,    21.8068,   -52.3339,       5240,   437.9,  14.1206,  35.8830,2,  35.8809,2,    133.0,3,   134.7,2,    5.66,2,   17.07,2,    0.00,2,    0.99,2,-999.000,9,-999.000,9, -999.00,9,  -999.0,9, -999.00,9,   -999.0,9,  -999.00,-999.00000,9,  -999.00, -999.00,9, -999.00,9, -999.00,-999.000,9,   48.18,2,   18.38,2,     -999.0,9, 20210403,     1556,  21.8068, -52.3339,    14.1204,2,     0.0403,1,     4.6923,1,     -999.0,1,     -999.0,1,     -999.0,9,     -999.0,9
325020210316,        A20,      49,          1,         25,         25,2,20210403,       1400,    21.8068,   -52.3339,       5240,   540.1,  12.8352,  35.7205,2,  35.7193,2,    146.8,2,   147.2,2,    6.64,2,   17.73,2,    0.00,2,    1.04,2,-999.000,9,-999.000,9, -999.00,9,  2182.9,2, 2340.98,2,   -999.0,9,  -999.00,   7.75332,2,    25.01, -999.00,9, -999.00,9, -999.00,-999.000,9,   46.54,2,   20.89,2,     -999.0,9, 20210403,     1553,  21.8068, -52.3339,    12.8368,2,     0.0405,1,     4.6937,1,     -999.0,1,     -999.0,1,     -999.0,9,     -999.0,9
325020210316,        A20,      49,          1,         24,         24,2,20210403,       1400,    21.8068,   -52.3339,       5240,   639.4,  11.1132,  35.4938,2,  35.4937,2,    140.9,2,   141.0,2,    9.86,2,   21.44,2,    0.00,2,    1.30,2,   1.567,2,   0.891,2,    0.57,2,  2193.0,2, -999.00,9,   -999.0,9,  -999.00,   7.71004,2,    25.02, -999.00,9, -999.00,9, -999.00,-999.000,9, -999.00,9, -999.00,9,      20.73,2, 20210403,     1550,  21.8068, -52.3339,    11.1149,2,     0.0423,1,     4.6972,1,     -999.0,1,     -999.0,1,     -999.0,9,     -999.0,9
325020210316,        A20,      49,          1,         23,         23,2,20210403,       1400,    21.8068,   -52.3339,       5240,   741.6,   8.8942,  35.1826,2,  35.1823,2,    134.1,2,   133.4,2,   15.53,2,   26.42,2,    0.00,2,    1.66,2,-999.000,9,-999.000,9, -999.00,9,  2204.4,2, 2320.32,2,   -999.0,9,  -999.00,   7.64858,2,    25.02, -999.00,9, -999.00,9, -999.00,-999.000,9,   43.24,2,   29.16,2,     -999.0,9, 20210403,     1546,  21.8068, -52.3339,     8.8928,2,     0.0417,1,     4.6991,1,     -999.0,1,     -999.0,1,     -999.0,9,     -999.0,9
325020210316,        A20,      49,          1,         22,         22,2,20210403,       1400,    21.8068,   -52.3339,       5240,   841.9,   7.0829,  34.9473,2,  34.9471,2,    136.2,2,   135.2,2,   20.61,2,   29.62,2,    0.00,2,    1.92,2,-999.000,9,-999.000,9, -999.00,9,  2210.2,2, -999.00,9,   -999.0,9,  -999.00,   7.60491,2,    25.00, -999.00,9, -999.00,9, -999.00,-999.000,9, -999.00,9, -999.00,9,     -999.0,9, 20210403,     1543,  21.8068, -52.3338,     7.0822,2,     0.0426,1,     4.6984,1,     -999.0,1,     -999.0,1,     -999.0,9,     -999.0,9
325020210316,        A20,      49,          1,         21,         21,2,20210403,       1400,    21.8068,   -52.3339,       5240,   943.5,   6.4208,  34.9203,2,  34.9191,2,    146.1,2,   145.2,2,   21.68,2,   29.28,2,    0.00,2,    1.91,2,-999.000,9,-999.000,9, -999.00,9,  2208.9,2, 2313.36,2,   -999.0,9,  -999.00,   7.60862,2,    25.02, -999.00,9, -999.00,9, -999.00,-999.000,9, -999.00,9, -999.00,9,     -999.0,9, 20210403,     1540,  21.8068, -52.3339,     6.4204,2,     0.0418,1,     4.6984,1,     -999.0,1,     -999.0,1,     -999.0,9,     -999.0,9
325020210316,        A20,      49,          1,         20,         20,2,20210403,       1400,    21.8068,   -52.3339,       5240,  1044.2,   5.9783,  34.9263,2,  34.9264,2,    161.6,2,   160.9,2,   21.29,2,   27.82,2,    0.00,2,    1.83,2,-999.000,9,-999.000,9, -999.00,9,  2207.7,2, -999.00,9,   -999.0,9,  -999.00,   7.62723,6,    25.00, -999.00,9, -999.00,9, -999.00,-999.000,9,   41.35,2,   30.32,2,     -999.0,9, 20210403,     1537,  21.8068, -52.3339,     5.9782,2,     0.0419,1,     4.6996,1,     -999.0,1,     -999.0,1,     -999.0,9,     -999.0,9
325020210316,        A20,      49,          1,         19,         19,2,20210403,       1400,    21.8068,   -52.3339,       5240,  1145.4,   5.6304,  34.9682,2,  34.9683,2,    178.7,2,   178.4,2,   20.02,2,   25.97,2,    0.00,2,    1.70,2,   0.416,2,   0.212,2,    0.12,2,  2199.7,2, 2315.95,2,   -999.0,9,  -999.00,    7.6529,6,    25.04, -999.00,9, -999.00,9, -999.00,-999.000,9,   42.45,2,   29.02,2,      19.69,2, 20210403,     1535,  21.8068, -52.3339,     5.6314,2,     0.0430,1,     4.7004,1,     -999.0,1,     -999.0,1,     -999.0,9,     -999.0,9
325020210316,        A20,      49,          1,         18,         18,2,20210403,       1400,    21.8068,   -52.3339,       5240,  1247.2,   5.3152,  35.0028,2,  35.0030,2,    201.3,2,   201.1,2,   17.77,2,   23.09,2,    0.00,2,    1.53,2,-999.000,9,-999.000,9, -999.00,9,  -999.0,9, -999.00,9,   -999.0,9,  -999.00,-999.00000,9,  -999.00, -999.00,9, -999.00,9, -999.00,-999.000,9, -999.00,9, -999.00,9,     -999.0,9, 20210403,     1532,  21.8068, -52.3339,     5.3156,2,     0.0419,1,     4.7004,1,     -999.0,1,     -999.0,1,     -999.0,9,     -999.0,9
325020210316,        A20,      49,          1,         17,         17,2,20210403,       1400,    21.8068,   -52.3339,       5240,  1348.8,   5.0561,  35.0213,2,  35.0220,2,    220.6,2,   220.1,2,   15.82,2,   21.04,2,    0.00,2,    1.39,2,   1.083,2,   0.559,2,    0.34,2,  2182.6,2, 2314.66,2,   -999.0,9,  -999.00,    7.7016,6,    25.03, -999.00,9, -999.00,9, -999.00,-999.000,9,   43.57,2,   23.31,2,      16.68,2, 20210403,     1529,  21.8068, -52.3339,     5.0562,2,     0.0422,1,     4.7008,1,     -999.0,1,     -999.0,1,     -999.0,9,     -999.0,9
325020210316,        A20,      49,          1,         16,         16,2,20210403,       1400,    21.8068,   -52.3339,       5240,  1479.7,   4.7181,  35.0256,2,  35.0268,2,    230.2,2,   229.4,2,   15.62,2,   20.35,2,    0.00,2,    1.34,2,   0.802,2,   0.399,2,    0.24,2,  2172.4,2, 2315.34,2,   -999.0,9,  -999.00,    7.7152,2,    25.03, -999.00,9, -999.00,9, -999.00,-999.000,9, -999.00,9, -999.00,9,      15.53,2, 20210403,     1524,  21.8068, -52.3339,     4.7170,2,     0.0418,1,     4.7012,1,     -999.0,1,     -999.0,1,     -999.0,9,     -999.0,9
325020210316,        A20,      49,          1,         15,         15,2,20210403,       1400,    21.8068,   -52.3339,       5240,  1682.6,   4.2488,  35.0174,2,  35.0177,2,    246.1,2,   245.6,2,   15.53,2,   19.12,2,    0.00,2,    1.26,2,-999.000,9,-999.000,9, -999.00,9,  -999.0,9, -999.00,9,   -999.0,9,  -999.00,-999.00000,9,  -999.00, -999.00,9, -999.00,9, -999.00,-999.000,9,   44.77,2,   20.41,2,     -999.0,9, 20210403,     1521,  21.8068, -52.3339,     4.2479,2,     0.0412,1,     4.7016,1,     -999.0,1,     -999.0,1,     -999.0,9,     -999.0,9
325020210316,        A20,      49,          1,         14,         14,2,20210403,       1400,    21.8068,   -52.3339,       5240,  1884.7,   3.9379,  35.0136,2,  35.0140,2,    248.1,2,   247.7,2,   18.07,2,   19.27,2,    0.00,2,    1.27,2,   0.507,2,   0.245,2,    0.17,2,  2175.2,2, -999.00,9,   -999.0,9,  -999.00,   7.73578,2,    25.02, -999.00,9, -999.00,9, -999.00,-999.000,9, -999.00,9, -999.00,9,      14.79,2, 20210403,     1516,  21.8068, -52.3339,     3.9414,2,     0.0416,1,     4.7010,1,     -999.0,1,     -999.0,1,     -999.0,9,     -999.0,9
325020210316,        A20,      49,          1,         13,         13,2,20210403,       1400,    21.8068,   -52.3339,       5240,  2109.0,   3.5118,  34.9899,2,  34.9906,2,    247.8,2,   247.6,2,   23.05,2,   19.68,2,    0.00,2,    1.31,2,   0.211,2,   0.103,2,    0.10,2,  2175.1,2, 2323.89,2,   -999.0,9,  -999.00,   7.73886,2,    25.01, -999.00,9, -999.00,9, -999.00,-999.000,9,   42.01,2,   21.88,2,      14.57,2, 20210403,     1511,  21.8068, -52.3339,     3.5115,2,     0.0418,1,     4.7013,1,     -999.0,1,     -999.0,1,     -999.0,9,     -999.0,9
325020210316,        A20,      49,          1,         12,         12,2,20210403,       1400,    21.8068,   -52.3339,       5240,  2362.3,   3.2006,  34.9665,2,  34.9662,2,    248.0,2,   248.1,2,   27.25,2,   20.08,2,    0.00,2,    1.34,2,-999.000,9,-999.000,9, -999.00,9,  -999.0,9, -999.00,9,   -999.0,9,  -999.00,-999.00000,9,  -999.00, -999.00,9, -999.00,9, -999.00,-999.000,9,   42.40,2,   23.13,2,     -999.0,9, 20210403,     1505,  21.8068, -52.3339,     3.2001,2,     0.0423,1,     4.7009,1,     -999.0,1,     -999.0,1,     -999.0,9,     -999.0,9
325020210316,        A20,      49,          1,         11,         11,2,20210403,       1400,    21.8068,   -52.3339,       5240,  2617.8,   2.9777,  34.9493,2,  34.9496,2,    249.0,2,   249.5,2,   30.08,2,   20.33,2,    0.00,2,    1.36,2,   0.107,2,   0.051,2,    0.08,2,  2180.6,2, 2329.14,2,   -999.0,9,  -999.00,   7.73909,2,    24.99, -999.00,9, -999.00,9, -999.00,-999.000,9, -999.00,9, -999.00,9,      14.44,2, 20210403,     1500,  21.8068, -52.3339,     2.9776,2,     0.0425,1,     4.7014,1,     -999.0,1,     -999.0,1,     -999.0,9,     -999.0,9
325020210316,        A20,      49,          1,         10,         10,2,20210403,       1400,    21.8068,   -52.3339,       5240,  2872.4,   2.8129,  34.9351,2,  34.9351,2,    249.2,2,   249.5,2,   33.21,2,   20.54,2,    0.00,2,    1.39,2,-999.000,9,-999.000,9, -999.00,9,  -999.0,9, -999.00,9,   -999.0,9,  -999.00,-999.00000,9,  -999.00, -999.00,9, -999.00,9, -999.00,-999.000,9,   40.64,2,   22.42,2,     -999.0,9, 20210403,     1454,  21.8068, -52.3339,     2.8136,2,     0.0429,1,     4.7006,1,     -999.0,1,     -999.0,1,     -999.0,9,     -999.0,9
325020210316,        A20,      49,          1,          9,          9,2,20210403,       1400,    21.8068,   -52.3339,       5240,  3143.2,   2.6794,  34.9234,2,  34.9235,2,    250.3,2,   250.7,2,   35.55,2,   20.68,2,    0.00,2,    1.39,2,   0.094,2,   0.048,2,    0.15,2,  2186.6,2, 2333.37,2,   -999.0,9,  -999.00,   7.73595,2,    25.02, -999.00,9, -999.00,9, -999.00,-999.000,9, -999.00,9, -999.00,9,      13.89,2, 20210403,     1449,  21.8068, -52.3339,     2.6791,2,     0.0411,1,     4.7009,1,     -999.0,1,     -999.0,1,     -999.0,9,     -999.0,9
325020210316,        A20,      49,          1,          8,          8,2,20210403,       1400,    21.8068,   -52.3339,       5240,  3450.3,   2.5333,  34.9097,2,  34.9095,2,    250.9,2,   251.4,2,   38.19,2,   20.96,2,    0.00,2,    1.41,2,-999.000,9,-999.000,9, -999.00,9,  -999.0,9, -999.00,9,   -999.0,9,  -999.00,-999.00000,9,  -999.00, -999.00,9, -999.00,9, -999.00,-999.000,9,   42.65,2,   23.21,2,     -999.0,9, 20210403,     1442,  21.8068, -52.3338,     2.5329,2,     0.0418,1,     4.7008,1,     -999.0,1,     -999.0,1,     -999.0,9,     -999.0,9
325020210316,        A20,      49,          1,          7,          7,2,20210403,       1400,    21.8068,   -52.3339,       5240,  3755.8,   2.3870,  34.8956,2,  34.8957,2,    251.5,2,   251.9,2,   41.21,2,   21.18,2,    0.00,2,    1.43,2,   0.101,2,   0.051,2,    0.06,2,  2189.0,2, 2338.39,2,   -999.0,9,  -999.00,   7.73071,2,    25.02, -999.00,9, -999.00,9, -999.00,-999.000,9, -999.00,9, -999.00,9,      14.77,2, 20210403,     1435,  21.8068, -52.3339,     2.3870,2,     0.0425,1,     4.7009,1,     -999.0,1,     -999.0,1,     -999.0,9,     -999.0,9
325020210316,        A20,      49,          1,          6,          6,2,20210403,       1400,    21.8068,   -52.3339,       5240,  4064.1,   2.2735,  34.8838,2,  34.8829,2,    252.1,2,   252.3,2,   43.85,2,   21.39,2,    0.00,2,    1.44,2,-999.000,9,-999.000,9, -999.00,9,  -999.0,9, -999.00,9,   -999.0,9,  -999.00,-999.00000,9,  -999.00, -999.00,9, -999.00,9, -999.00,-999.000,9,   44.67,2,   23.59,2,     -999.0,9, 20210403,     1428,  21.8068, -52.3338,     2.2737,2,     0.0430,1,     4.7004,1,     -999.0,1,     -999.0,1,     -999.0,9,     -999.0,9
325020210316,        A20,      49,          1,          5,          5,2,20210403,       1400,    21.8068,   -52.3339,       5240,  4372.7,   2.1921,  34.8735,2,  34.8729,2,    251.8,2,   252.0,2,   46.78,2,   21.76,2,    0.00,2,    1.46,2,-999.000,9,-999.000,9, -999.00,9,  -999.0,9, -999.00,9,   -999.0,9,  -999.00,-999.00000,9,  -999.00, -999.00,9, -999.00,9, -999.00,-999.000,9,   42.89,2,   24.22,2,     -999.0,9, 20210403,     1422,  21.8068, -52.3339,     2.1919,2,     0.0435,1,     4.7002,1,     -999.0,1,     -999.0,1,     -999.0,9,     -999.0,9
325020210316,        A20,      49,          1,          4,          4,2,20210403,       1400,    21.8068,   -52.3339,       5240,  4678.9,   2.0998,  34.8612,2,  34.8615,2,    250.9,2,   250.6,2,   50.20,2,   22.09,2,    0.00,2,    1.48,2,   0.201,2,   0.106,2,    0.04,2,  2200.3,2,  2342.1,2,   -999.0,9,  -999.00,   7.71754,2,    25.03, -999.00,9, -999.00,9, -999.00,-999.000,9, -999.00,9, -999.00,9,      15.52,2, 20210403,     1416,  21.8068, -52.3339,     2.1004,2,     0.0429,1,     4.6990,1,     -999.0,1,     -999.0,1,     -999.0,9,     -999.0,9
325020210316,        A20,      49,          1,          3,          3,2,20210403,       1400,    21.8068,   -52.3339,       5240,  4989.0,   2.0767,  34.8550,2,  34.8552,2,    250.1,2,   250.1,2,   52.45,2,   22.26,2,    0.00,2,    1.51,2,-999.000,9,-999.000,9, -999.00,9,  -999.0,9, -999.00,9,   -999.0,9,  -999.00,-999.00000,9,  -999.00, -999.00,9, -999.00,9, -999.00,-999.000,9,   43.85,2,   23.14,2,     -999.0,9, 20210403,     1409,  21.8068, -52.3339,     2.0767,2,     0.0427,1,     4.6984,1,     -999.0,1,     -999.0,1,     -999.0,9,     -999.0,9