BOTTLE,20230512CCHSIOCBG
EXPOCODE,SECT_ID,STNNBR,CASTNO,SAMPNO,BTLNBR,BTLNBR_FLAG_W,DATE,TIME,LATITUDE,LONGITUDE,DEPTH,CTDPRS,CTDTMP,CTDSAL,CTDSAL_FLAG_W,SALNTY,SALNTY_FLAG_W,CTDOXY,CTDOXY_FLAG_W,OXYGEN,OXYGEN_FLAG_W,SILCAT,SILCAT_FLAG_W,NITRAT,NITRAT_FLAG_W,NITRIT,NITRIT_FLAG_W,PHSPHT,PHSPHT_FLAG_W,CFC-11,CFC-11_FLAG_W,CFC-12,CFC-12_FLAG_W,SF6,SF6_FLAG_W,TCARBN,TCARBN_FLAG_W,ALKALI,ALKALI_FLAG_W,FCO2,FCO2_FLAG_W,FCO2TMP,PH_TOT,PH_TOT_FLAG_W,PH_TMP,DELC13,DELC13_FLAG_W,DELC14,DELC14_FLAG_W,C14ERR,POC,POC_FLAG_W,DOC,DOC_FLAG_W,TDN,TDN_FLAG_W,N2O,N2O_FLAG_W,BTL_DATE,BTL_TIME,BTL_LAT,BTL_LON,REFTMP,REFTMP_FLAG_W,CTDFLUOR,CTDFLUOR_FLAG_W,CTDXMISS,CTDXMISS_FLAG_W,D15N_NO2+NO3,D15N_NO2+NO3_FLAG_W,D18O_NO2+NO3,D18O_NO2+NO3_FLAG_W,HPLC,HPLC_FLAG_W,MICROGELS,MICROGELS_FLAG_W
,,,,,,,,,,,METERS,DBAR,ITS-90,PSS-78,,PSS-78,,UMOL/KG,,UMOL/KG,,UMOL/KG,,UMOL/KG,,UMOL/KG,,UMOL/KG,,PMOL/KG,,PMOL/KG,,FMOL/KG,,UMOL/KG,,UMOL/KG,,UATM,,DEG C,,,DEG C,/MILLE,,/MILLE,,/MILLE,UG/KG,,UMOL/KG,,UMOL/KG,,NMOL/KG,,,,,,ITS-90,,VOLTS,,VOLTS,,/MILLE,,/MILLE,,,,1E6 GELS/L,
325020210316,        A20,      21,          1,         36,         36,2,20210325,       2025,    38.5500,   -52.3087,       5361,     5.1,  18.9259,  36.6479,2,  36.6443,2,    221.2,2,   222.3,2,    0.98,2,    1.48,2,    0.04,2,    0.04,2,   1.999,2,   1.276,2,    2.58,3,  2103.6,2, 2396.76,2,    373.8,2,    20.00,   8.00398,2,    25.01, -999.00,9, -999.00,9, -999.00,-999.000,9,   58.75,2,    4.13,2,       7.76,2, 20210325,     2251,  38.5500, -52.3087,    18.9236,2,     0.0929,1,     4.6116,1,     -999.0,9,     -999.0,9,     -999.0,9,     -999.0,9
325020210316,        A20,      21,          1,         35,         35,2,20210325,       2025,    38.5500,   -52.3087,       5361,    35.3,  18.8944,  36.6482,2,  36.6481,2,    221.7,2,   219.6,2,    0.98,2,    1.55,2,    0.05,2,    0.04,2,-999.000,9,-999.000,9, -999.00,9,  -999.0,9, -999.00,9,   -999.0,9,  -999.00,-999.00000,9,  -999.00, -999.00,9, -999.00,9, -999.00,-999.000,9,   56.54,2,    4.64,2,     -999.0,9, 20210325,     2249,  38.5501, -52.3090,    18.8946,2,     0.0823,1,     4.6447,1,     -999.0,9,     -999.0,9,     -999.0,9,     -999.0,9
325020210316,        A20,      21,          1,         34,         34,2,20210325,       2025,    38.5500,   -52.3087,       5361,    60.6,  18.8876,  36.6480,2,  36.6483,2,    220.2,2,   218.1,2,    0.78,2,    1.66,2,    0.05,2,    0.04,2,-999.000,9,-999.000,9, -999.00,9,  2105.7,2, 2395.62,2,    377.6,2,    20.00,   8.00141,2,    25.01, -999.00,9, -999.00,9, -999.00,-999.000,9,   57.23,2,    5.34,2,     -999.0,9, 20210325,     2248,  38.5502, -52.3092,    18.8865,2,     0.0554,1,     4.6710,1,     -999.0,9,     -999.0,9,     -999.0,9,     -999.0,9
325020210316,        A20,      21,          1,         33,         33,2,20210325,       2025,    38.5500,   -52.3087,       5361,    85.9,  18.8893,  36.6483,2,  36.6487,2,    218.4,2,   218.4,2,    0.78,2,    1.65,2,    0.05,2,    0.03,2,-999.000,9,-999.000,9, -999.00,9,  2106.1,2, 2396.57,2,   -999.0,9,  -999.00,   8.00119,2,    25.01, -999.00,9, -999.00,9, -999.00,-999.000,9,   57.74,2,    4.43,2,     -999.0,9, 20210325,     2246,  38.5503, -52.3096,    18.8882,2,     0.0569,1,     4.6691,1,     -999.0,9,     -999.0,9,     -999.0,9,     -999.0,9
325020210316,        A20,      21,          1,         32,         32,4,20210325,       2025,    38.5500,   -52.3087,       5361,   116.3,  18.8859,  36.6473,3,  36.5836,4,    217.5,3,   211.9,3,    1.17,3,    2.77,3,    0.04,3,    0.10,3,   2.027,2,   1.268,2,    2.50,3,  2111.8,3, 2392.18,2,    393.9,3,    20.00,    7.9855,3,    25.01, -999.00,9, -999.00,9, -999.00,-999.000,9,   58.11,2,    5.33,2,       8.59,2, 20210325,     2244,  38.5504, -52.3099,    18.8854,3,     0.0559,1,     4.6719,1,     -999.0,9,     -999.0,9,     -999.0,9,     -999.0,9
325020210316,        A20,      21,          1,         31,         31,2,20210325,       2025,    38.5500,   -52.3087,       5361,   166.9,  18.8826,  36.6457,2,  36.6457,2,    217.9,2,   218.6,2,    0.88,2,    1.68,2,    0.05,2,    0.02,2,-999.000,9,-999.000,9, -999.00,9,  2105.1,2, 2396.14,2,   -999.0,9,  -999.00,   8.00144,2,    24.99, -999.00,9, -999.00,9, -999.00,-999.000,9,   56.73,2,    4.99,2,     -999.0,9, 20210325,     2242,  38.5505, -52.3102,    18.8817,2,     0.0532,1,     4.6735,1,     -999.0,9,     -999.0,9,     -999.0,9,     -999.0,9
325020210316,        A20,      21,          1,         30,         30,2,20210325,       2025,    38.5500,   -52.3087,       5361,   217.2,  18.8765,  36.6432,2,  36.6441,2,    215.7,3,   219.6,2,    0.78,2,    1.64,2,    0.05,2,    0.02,2,-999.000,9,-999.000,9, -999.00,9,  -999.0,9, -999.00,9,   -999.0,9,  -999.00,-999.00000,9,  -999.00, -999.00,9, -999.00,9, -999.00,-999.000,9,   57.29,2,    5.12,2,     -999.0,9, 20210325,     2240,  38.5506, -52.3106,    18.8733,2,     0.0597,1,     4.6694,1,     -999.0,9,     -999.0,9,     -999.0,9,     -999.0,9
325020210316,        A20,      21,          1,         29,         29,2,20210325,       2025,    38.5500,   -52.3087,       5361,   267.1,  18.8823,  36.6444,2,  36.6441,2,    215.0,3,   219.2,2,    0.78,2,    1.64,2,    0.06,2,    0.02,2,   1.968,2,   1.262,2,    2.58,3,  2107.3,2, 2396.45,2,    377.9,2,    20.00,   8.00038,2,    25.01, -999.00,9, -999.00,9, -999.00,-999.000,9,   56.12,2,    4.83,2,       7.97,2, 20210325,     2238,  38.5507, -52.3110,    18.8822,2,     0.0618,1,     4.6668,1,     -999.0,9,     -999.0,9,     -999.0,9,     -999.0,9
325020210316,        A20,      21,          1,         28,         28,2,20210325,       2025,    38.5500,   -52.3087,       5361,   318.1,  18.8910,  36.6461,2,  36.6457,2,    215.5,3,   219.1,2,    0.98,2,    1.64,2,    0.05,2,    0.02,2,-999.000,9,-999.000,9, -999.00,9,  -999.0,9, -999.00,9,   -999.0,9,  -999.00,-999.00000,9,  -999.00, -999.00,9, -999.00,9, -999.00,-999.000,9,   55.52,2,    4.00,2,     -999.0,9, 20210325,     2236,  38.5508, -52.3114,    18.8903,2,     0.0579,1,     4.6698,1,     -999.0,9,     -999.0,9,     -999.0,9,     -999.0,9
325020210316,        A20,      21,          1,         27,         27,2,20210325,       2025,    38.5500,   -52.3087,       5361,   368.6,  18.8789,  36.6398,2,  36.6396,2,    217.4,2,   219.5,2,    0.88,2,    1.67,2,    0.06,2,    0.03,2,-999.000,9,-999.000,9, -999.00,9,  2106.4,2, 2396.36,2,    380.3,6,    20.00,   7.99955,2,    25.01, -999.00,9, -999.00,9, -999.00,-999.000,9,   58.88,2,    5.28,2,     -999.0,9, 20210325,     2234,  38.5510, -52.3118,    18.8781,2,     0.0601,1,     4.6702,1,     -999.0,9,     -999.0,9,     -999.0,9,     -999.0,9
325020210316,        A20,      21,          1,         26,         26,2,20210325,       2025,    38.5500,   -52.3087,       5361,   439.5,  18.8630,  36.6366,2,  36.6362,2,    218.5,2,   218.3,2,    0.88,2,    1.80,2,    0.05,2,    0.03,2,   1.992,2,   1.257,2,    2.80,3,  2109.1,2, 2394.61,2,   -999.0,9,  -999.00,   7.99734,2,    24.97, -999.00,9, -999.00,9, -999.00,-999.000,9,   54.73,2,    5.08,2,       7.81,2, 20210325,     2231,  38.5512, -52.3123,    18.8615,2,     0.0506,1,     4.6783,1,     -999.0,9,     -999.0,9,     -999.0,9,     -999.0,9
325020210316,        A20,      21,          1,         25,         25,2,20210325,       2025,    38.5500,   -52.3087,       5361,   538.1,  18.0679,  36.4963,2,  36.4947,2,    189.3,2,   187.8,2,    1.66,2,    5.74,2,    0.00,2,    0.23,2,-999.000,9,-999.000,9, -999.00,9,  2132.1,2, 2384.63,2,    449.3,2,    20.00,   7.93745,2,    25.01, -999.00,9, -999.00,9, -999.00,-999.000,9,   49.28,2,    8.57,2,     -999.0,9, 20210325,     2228,  38.5513, -52.3130,    18.0710,2,     0.0401,1,     4.6990,1,     -999.0,9,     -999.0,9,     -999.0,9,     -999.0,9
325020210316,        A20,      21,          1,         24,         24,2,20210325,       2025,    38.5500,   -52.3087,       5361,   640.7,  16.1613,  36.1723,2,  36.1725,2,    172.6,3,   175.3,2,    3.22,2,    9.96,2,    0.00,2,    0.50,2,   2.229,2,   1.352,2,    1.78,3,  -999.0,9, -999.00,9,   -999.0,9,  -999.00,-999.00000,9,  -999.00, -999.00,9, -999.00,9, -999.00,-999.000,9,   47.00,2,   11.84,2,      12.14,2, 20210325,     2224,  38.5515, -52.3135,    16.1634,2,     0.0399,1,     4.7009,1,     -999.0,9,     -999.0,9,     -999.0,9,     -999.0,9
325020210316,        A20,      21,          1,         23,         23,2,20210325,       2025,    38.5500,   -52.3087,       5361,   741.9,  14.3510,  35.8768,2,  35.8759,2,    158.9,3,   166.1,2,    5.27,2,   13.80,2,    0.00,2,    0.76,2,-999.000,9,-999.000,9, -999.00,9,  2164.0,2, 2352.87,6,    609.6,2,    20.00,   7.81675,2,    24.95, -999.00,9, -999.00,9, -999.00,-999.000,9,   46.84,2,   15.54,2,     -999.0,9, 20210325,     2221,  38.5517, -52.3139,    14.3568,2,     0.0410,1,     4.7035,1,     -999.0,9,     -999.0,9,     -999.0,9,     -999.0,9
325020210316,        A20,      21,          1,         22,         22,2,20210325,       2025,    38.5500,   -52.3087,       5361,   842.6,  12.2155,  35.5629,2,  35.5638,2,    153.7,3,   145.9,2,    9.18,2,   19.54,2,    0.00,2,    1.13,2,-999.000,9,-999.000,9, -999.00,9,  -999.0,9, -999.00,9,   -999.0,9,  -999.00,-999.00000,9,  -999.00, -999.00,9, -999.00,9, -999.00,-999.000,9, -999.00,9, -999.00,9,     -999.0,9, 20210325,     2217,  38.5519, -52.3144,    12.2079,2,     0.0413,1,     4.7057,1,     -999.0,9,     -999.0,9,     -999.0,9,     -999.0,9
325020210316,        A20,      21,          1,         21,         21,2,20210325,       2025,    38.5500,   -52.3087,       5361,   944.1,   9.9363,  35.2748,2,  35.2745,2,    139.8,2,   138.7,2,   13.48,2,   23.97,2,    0.00,2,    1.46,2,   1.420,2,   0.807,2,    0.96,3,  2197.2,6, 2323.38,2,    864.4,2,    20.00,   7.67404,2,    25.01, -999.00,9, -999.00,9, -999.00,-999.000,9,   45.15,2,   25.15,2,      21.39,2, 20210325,     2215,  38.5521, -52.3148,     9.9361,2,     0.0419,1,     4.7033,1,     -999.0,9,     -999.0,9,     -999.0,9,     -999.0,9
325020210316,        A20,      21,          1,         20,         20,2,20210325,       2025,    38.5500,   -52.3087,       5361,  1046.1,   8.1616,  35.1528,2,  35.1524,2,    161.5,2,   161.8,2,   14.16,2,   23.37,2,    0.00,2,    1.45,2,   1.592,2,   0.850,2,    0.68,3,  -999.0,9, -999.00,9,   -999.0,9,  -999.00,-999.00000,9,  -999.00, -999.00,9, -999.00,9, -999.00,-999.000,9, -999.00,9, -999.00,9,      19.82,2, 20210325,     2211,  38.5523, -52.3152,     8.1609,2,     0.0427,1,     4.7056,1,     -999.0,9,     -999.0,9,     -999.0,9,     -999.0,9
325020210316,        A20,      21,          1,         19,         19,2,20210325,       2025,    38.5500,   -52.3087,       5361,  1145.8,   6.4804,  35.0894,2,  35.0896,2,    198.4,2,   200.1,2,   13.28,2,   20.92,2,    0.00,2,    1.32,2,-999.000,9,-999.000,9, -999.00,9,  2186.9,2, 2313.59,2,    843.9,2,    20.00,   7.68149,6,    24.99, -999.00,9, -999.00,9, -999.00,-999.000,9,   44.53,2,   21.92,2,     -999.0,9, 20210325,     2208,  38.5524, -52.3156,     6.4787,2,     0.0424,1,     4.7068,1,     -999.0,9,     -999.0,9,     -999.0,9,     -999.0,9
325020210316,        A20,      21,          1,         18,         18,2,20210325,       2025,    38.5500,   -52.3087,       5361,  1248.3,   5.6647,  35.0644,2,  35.0640,2,    220.9,2,   221.6,2,   12.60,2,   19.68,2,    0.00,2,    1.24,2,   2.256,2,   1.216,2,    1.19,3,  -999.0,9, -999.00,9,   -999.0,9,  -999.00,-999.00000,9,  -999.00, -999.00,9, -999.00,9, -999.00,-999.000,9, -999.00,9, -999.00,9,      15.68,2, 20210325,     2204,  38.5526, -52.3161,     5.6648,2,     0.0432,1,     4.7064,1,     -999.0,9,     -999.0,9,     -999.0,9,     -999.0,9
325020210316,        A20,      21,          1,         17,         17,2,20210325,       2025,    38.5500,   -52.3087,       5361,  1349.3,   5.2352,  35.0454,2,  35.0445,2,    235.6,2,   234.8,2,   12.21,2,   18.95,2,    0.00,2,    1.19,2,-999.000,9,-999.000,9, -999.00,9,  2176.7,2, 2312.72,2,    806.0,2,    20.00,   7.69965,2,    25.01, -999.00,9, -999.00,9, -999.00,-999.000,9,   45.89,2,   19.85,2,     -999.0,9, 20210325,     2201,  38.5528, -52.3165,     5.2351,2,     0.0430,1,     4.7070,1,     -999.0,9,     -999.0,9,     -999.0,9,     -999.0,9
325020210316,        A20,      21,          1,         16,         16,2,20210325,       2025,    38.5500,   -52.3087,       5361,  1481.1,   4.8063,  35.0180,2,  35.0179,2,    247.1,2,   246.7,2,   11.92,2,   18.42,2,    0.00,2,    1.16,2,   2.717,2,   1.476,2,    1.44,3,  2174.1,2, 2309.25,2,    793.4,2,    20.00,   7.70419,2,    25.01, -999.00,9, -999.00,9, -999.00,-999.000,9, -999.00,9, -999.00,9,      14.51,2, 20210325,     2157,  38.5531, -52.3171,     4.8064,2,     0.0420,1,     4.7073,1,     -999.0,9,     -999.0,9,     -999.0,9,     -999.0,9
325020210316,        A20,      21,          1,         15,         15,2,20210325,       2025,    38.5500,   -52.3087,       5361,  1684.3,   4.3959,  34.9900,2,  34.9900,2,    257.0,2,   256.9,2,   11.82,2,   17.89,2,    0.00,2,    1.12,2,-999.000,9,-999.000,9, -999.00,9,  2169.9,2, 2306.71,2,   -999.0,9,  -999.00,   7.70787,2,    25.02, -999.00,9, -999.00,9, -999.00,-999.000,9,   46.70,2,   19.56,2,     -999.0,9, 20210325,     2152,  38.5533, -52.3176,     4.3958,2,     0.0412,1,     4.7070,1,     -999.0,9,     -999.0,9,     -999.0,9,     -999.0,9
325020210316,        A20,      21,          1,         14,         14,2,20210325,       2025,    38.5500,   -52.3087,       5361,  1887.7,   4.0879,  34.9714,2,  34.9728,2,    261.9,2,   262.7,2,   12.11,2,   17.70,2,    0.00,2,    1.11,2,   2.729,2,   1.459,2,    1.13,3,  -999.0,9, -999.00,9,   -999.0,9,  -999.00,-999.00000,9,  -999.00, -999.00,9, -999.00,9, -999.00,-999.000,9, -999.00,9, -999.00,9,      14.00,2, 20210325,     2147,  38.5535, -52.3180,     4.0872,2,     0.0416,1,     4.7069,1,     -999.0,9,     -999.0,9,     -999.0,9,     -999.0,9
325020210316,        A20,      21,          1,         13,         13,2,20210325,       2025,    38.5500,   -52.3087,       5361,  2111.0,   3.8741,  34.9659,2,  34.2472,4,    262.3,2,   263.5,2,   12.99,2,   17.72,2,    0.00,2,    1.12,2,-999.000,9,-999.000,9, -999.00,9,  2165.3,2, 2307.03,2,    762.9,2,    20.00,   7.71852,6,    25.00, -999.00,9, -999.00,9, -999.00,-999.000,9,   46.22,2,   19.66,2,     -999.0,9, 20210325,     2140,  38.5537, -52.3184,     3.8739,2,     0.0429,1,     4.7076,1,     -999.0,9,     -999.0,9,     -999.0,9,     -999.0,9
325020210316,        A20,      21,          1,         12,         12,2,20210325,       2025,    38.5500,   -52.3087,       5361,  2366.4,   3.6490,  34.9585,2,  34.9581,2,    264.4,2,   264.4,2,   14.26,2,   17.70,2,    0.00,2,    1.12,2,-999.000,9,-999.000,9, -999.00,9,  -999.0,9, -999.00,9,   -999.0,9,  -999.00,-999.00000,9,  -999.00, -999.00,9, -999.00,9, -999.00,-999.000,9,   45.46,2,   19.38,2,     -999.0,9, 20210325,     2135,  38.5539, -52.3190,     3.6493,2,     0.0418,1,     4.7090,1,     -999.0,9,     -999.0,9,     -999.0,9,     -999.0,9
325020210316,        A20,      21,          1,         11,         11,2,20210325,       2025,    38.5500,   -52.3087,       5361,  2620.0,   3.4246,  34.9506,2,  34.9504,2,    265.1,2,   265.1,2,   15.92,2,   17.76,2,    0.00,2,    1.13,2,   1.756,2,   0.889,2,    0.46,3,  -999.0,9, -999.00,9,   -999.0,9,  -999.00,-999.00000,9,  -999.00, -999.00,9, -999.00,9, -999.00,-999.000,9, -999.00,9, -999.00,9,      13.61,2, 20210325,     2129,  38.5542, -52.3195,     3.4244,2,     0.0429,1,     4.7096,1,     -999.0,9,     -999.0,9,     -999.0,9,     -999.0,9
325020210316,        A20,      21,          1,         10,         10,2,20210325,       2025,    38.5500,   -52.3087,       5361,  2876.5,   3.2286,  34.9449,2,  34.9451,2,    264.9,2,   265.1,2,   17.78,2,   17.81,2,    0.00,2,    1.15,2,-999.000,9,-999.000,9, -999.00,9,  2164.0,2,  2312.0,2,    743.0,2,    20.00,    7.7321,2,    25.02, -999.00,9, -999.00,9, -999.00,-999.000,9,   46.59,2,   19.22,2,     -999.0,9, 20210325,     2123,  38.5544, -52.3199,     3.2285,2,     0.0419,1,     4.7095,1,     -999.0,9,     -999.0,9,     -999.0,9,     -999.0,9
325020210316,        A20,      21,          1,          9,          9,2,20210325,       2025,    38.5500,   -52.3087,       5361,  3147.7,   3.0195,  34.9362,2,  34.9370,2,    265.9,2,   266.6,2,   19.54,2,   17.82,2,    0.00,2,    1.16,2,   1.402,2,   0.710,2,    0.52,3,  -999.0,9, -999.00,9,   -999.0,9,  -999.00,-999.00000,9,  -999.00, -999.00,9, -999.00,9, -999.00,-999.000,9, -999.00,9, -999.00,9,      13.35,2, 20210325,     2116,  38.5546, -52.3203,     3.0188,2,     0.0425,1,     4.7093,1,     -999.0,9,     -999.0,9,     -999.0,9,     -999.0,9
325020210316,        A20,      21,          1,          8,          8,2,20210325,       2025,    38.5500,   -52.3087,       5361,  3435.7,   2.7635,  34.9229,2,  34.9223,2,    267.2,2,   268.7,2,   21.10,2,   17.77,2,    0.00,2,    1.16,2,-999.000,9,-999.000,9, -999.00,9,  -999.0,9, -999.00,9,   -999.0,9,  -999.00,-999.00000,9,  -999.00, -999.00,9, -999.00,9, -999.00,-999.000,9,   44.92,2,   19.19,2,     -999.0,9, 20210325,     2111,  38.5548, -52.3207,     2.7629,2,     0.0429,1,     4.7094,1,     -999.0,9,     -999.0,9,     -999.0,9,     -999.0,9
325020210316,        A20,      21,          1,          7,          7,2,20210325,       2025,    38.5500,   -52.3087,       5361,  3761.1,   2.5433,  34.9103,2,  34.9107,2,    268.2,2,   268.9,2,   23.64,2,   17.94,2,    0.00,2,    1.17,2,-999.000,9,-999.000,9, -999.00,9,  2167.8,2, 2315.69,2,    743.0,2,    20.00,    7.7327,2,    25.00, -999.00,9, -999.00,9, -999.00,-999.000,9, -999.00,9, -999.00,9,     -999.0,9, 20210325,     2104,  38.5550, -52.3211,     2.5433,2,     0.0423,1,     4.7099,1,     -999.0,9,     -999.0,9,     -999.0,9,     -999.0,9
325020210316,        A20,      21,          1,          6,          6,2,20210325,       2025,    38.5500,   -52.3087,       5361,  4069.0,   2.3847,  34.8991,2,  34.8979,2,    268.0,2,   268.2,2,   27.06,2,   18.33,2,    0.00,2,    1.20,2,   1.267,2,   0.658,2,    0.46,3,  -999.0,9, -999.00,9,   -999.0,9,  -999.00,-999.00000,9,  -999.00, -999.00,9, -999.00,9, -999.00,-999.000,9,   43.83,2,   19.30,2,      13.67,2, 20210325,     2058,  38.5551, -52.3215,     2.3845,2,     0.0429,1,     4.7081,1,     -999.0,9,     -999.0,9,     -999.0,9,     -999.0,9
325020210316,        A20,      21,          1,          5,          5,2,20210325,       2025,    38.5500,   -52.3087,       5361,  4376.8,   2.3155,  34.8926,2,  34.8932,2,    267.0,2,   267.2,2,   29.41,2,   18.56,2,    0.00,2,    1.22,2,-999.000,9,-999.000,9, -999.00,9,  2175.7,2, 2322.71,2,   -999.0,9,  -999.00,   7.72603,2,    25.00, -999.00,9, -999.00,9, -999.00,-999.000,9,   44.54,2,   18.94,2,     -999.0,9, 20210325,     2051,  38.5553, -52.3218,     2.3155,2,     0.0429,1,     4.7046,1,     -999.0,9,     -999.0,9,     -999.0,9,     -999.0,9
325020210316,        A20,      21,          1,          4,          4,2,20210325,       2025,    38.5500,   -52.3087,       5361,  4721.6,   2.2937,  34.8873,2,  34.8867,2,    265.1,2,   265.3,2,   32.14,2,   18.95,2,    0.00,2,    1.25,2,   1.161,2,   0.624,2,    0.56,3,  2179.3,2, 2326.12,6,    757.4,2,    20.00,   7.72587,2,    25.01, -999.00,9, -999.00,9, -999.00,-999.000,9, -999.00,9, -999.00,9,      13.55,2, 20210325,     2044,  38.5556, -52.3224,     2.2937,2,     0.0423,1,     4.6965,1,     -999.0,9,     -999.0,9,     -999.0,9,     -999.0,9
325020210316,        A20,      21,          1,          3,          3,2,20210325,       2025,    38.5500,   -52.3087,       5361,  5134.0,   2.2890,  34.8804,2,  34.8808,2,    261.9,2,   261.8,2,   36.64,2,   19.73,2,    0.00,2,    1.31,2,-999.000,9,-999.000,9, -999.00,9,  -999.0,9, -999.00,9,   -999.0,9,  -999.00,-999.00000,9,  -999.00, -999.00,9, -999.00,9, -999.00,-999.000,9,   43.31,2,   20.34,2,     -999.0,9, 20210325,     2035,  38.5559, -52.3230,     2.2887,2,     0.0423,1,     4.6726,1,     -999.0,9,     -999.0,9,     -999.0,9,     -999.0,9