BOTTLE,20230512CCHSIOCBG
EXPOCODE,SECT_ID,STNNBR,CASTNO,SAMPNO,BTLNBR,BTLNBR_FLAG_W,DATE,TIME,LATITUDE,LONGITUDE,DEPTH,CTDPRS,CTDTMP,CTDSAL,CTDSAL_FLAG_W,SALNTY,SALNTY_FLAG_W,CTDOXY,CTDOXY_FLAG_W,OXYGEN,OXYGEN_FLAG_W,SILCAT,SILCAT_FLAG_W,NITRAT,NITRAT_FLAG_W,NITRIT,NITRIT_FLAG_W,PHSPHT,PHSPHT_FLAG_W,CFC-11,CFC-11_FLAG_W,CFC-12,CFC-12_FLAG_W,SF6,SF6_FLAG_W,TCARBN,TCARBN_FLAG_W,ALKALI,ALKALI_FLAG_W,FCO2,FCO2_FLAG_W,FCO2TMP,PH_TOT,PH_TOT_FLAG_W,PH_TMP,DELC13,DELC13_FLAG_W,DELC14,DELC14_FLAG_W,C14ERR,POC,POC_FLAG_W,DOC,DOC_FLAG_W,TDN,TDN_FLAG_W,N2O,N2O_FLAG_W,BTL_DATE,BTL_TIME,BTL_LAT,BTL_LON,REFTMP,REFTMP_FLAG_W,CTDFLUOR,CTDFLUOR_FLAG_W,CTDXMISS,CTDXMISS_FLAG_W,D15N_NO2+NO3,D15N_NO2+NO3_FLAG_W,D18O_NO2+NO3,D18O_NO2+NO3_FLAG_W,HPLC,HPLC_FLAG_W,MICROGELS,MICROGELS_FLAG_W
,,,,,,,,,,,METERS,DBAR,ITS-90,PSS-78,,PSS-78,,UMOL/KG,,UMOL/KG,,UMOL/KG,,UMOL/KG,,UMOL/KG,,UMOL/KG,,PMOL/KG,,PMOL/KG,,FMOL/KG,,UMOL/KG,,UMOL/KG,,UATM,,DEG C,,,DEG C,/MILLE,,/MILLE,,/MILLE,UG/KG,,UMOL/KG,,UMOL/KG,,NMOL/KG,,,,,,ITS-90,,VOLTS,,VOLTS,,/MILLE,,/MILLE,,,,1E6 GELS/L,
325020210316,        A20,      81,          1,         34,         34,2,20210412,       0113,     7.7815,   -52.8967,       1248,     4.8,  27.9082,  35.2428,2,  35.2499,2,    200.0,2,   199.1,2,    2.05,2,    0.00,2,    0.00,2,    0.01,2,-999.000,9,-999.000,9, -999.00,9,  1995.3,6, 2313.07,2,   -999.0,9,  -999.00,    8.0875,2,    24.99, -999.00,9, -999.00,9, -999.00,-999.000,9,   71.03,2,    4.54,2,     -999.0,9, 20210412,      213,   7.7815, -52.8967,    27.9078,2,     0.0491,1,     4.6140,1,     -999.0,9,     -999.0,9,     -999.0,9,     -999.0,9
325020210316,        A20,      81,          1,         33,         33,2,20210412,       0113,     7.7815,   -52.8967,       1248,    35.5,  27.7535,  36.2160,2,  36.2172,2,    198.3,2,   197.5,2,    0.88,2,    0.00,2,    0.00,2,    0.01,2,-999.000,9,-999.000,9, -999.00,9,  -999.0,9, -999.00,9,   -999.0,9,  -999.00,-999.00000,9,  -999.00, -999.00,9, -999.00,9, -999.00,-999.000,9,   67.80,2,    5.28,2,     -999.0,9, 20210412,      210,   7.7814, -52.8967,    27.7527,2,     0.0571,1,     4.6207,1,     -999.0,9,     -999.0,9,     -999.0,9,     -999.0,9
325020210316,        A20,      81,          1,         32,         32,2,20210412,       0113,     7.7815,   -52.8967,       1248,    60.7,  27.6754,  36.2086,2,  36.2103,2,    198.1,2,   197.4,2,    0.88,2,    0.00,2,    0.00,2,    0.00,2,-999.000,9,-999.000,9, -999.00,9,  2048.6,2, 2370.65,6,   -999.0,9,  -999.00,   8.07928,6,    25.00, -999.00,9, -999.00,9, -999.00,-999.000,9,   70.19,2,    6.72,2,     -999.0,9, 20210412,      209,   7.7814, -52.8967,    27.6741,2,     0.0642,1,     4.6260,1,     -999.0,9,     -999.0,9,     -999.0,9,     -999.0,9
325020210316,        A20,      81,          1,         31,         31,2,20210412,       0113,     7.7815,   -52.8967,       1248,    86.4,  27.6672,  36.2252,2,  36.2269,2,    196.2,2,   196.6,2,    0.88,2,    0.00,2,    0.00,2,    0.00,2,-999.000,9,-999.000,9, -999.00,9,  -999.0,9, -999.00,9,   -999.0,9,  -999.00,-999.00000,9,  -999.00, -999.00,9, -999.00,9, -999.00,-999.000,9,   68.26,2,    4.51,2,     -999.0,9, 20210412,      207,   7.7814, -52.8967,    27.6659,2,     0.0726,1,     4.6331,1,     -999.0,9,     -999.0,9,     -999.0,9,     -999.0,9
325020210316,        A20,      81,          1,         30,         30,2,20210412,       0113,     7.7815,   -52.8967,       1248,   111.6,  27.4125,  36.2020,2,  36.2032,2,    195.5,2,   196.4,2,    0.78,2,    0.00,2,    0.02,2,    0.00,2,-999.000,9,-999.000,9, -999.00,9,  -999.0,9, -999.00,9,   -999.0,9,  -999.00,-999.00000,9,  -999.00, -999.00,9, -999.00,9, -999.00,-999.000,9,   68.49,2,    4.99,2,     -999.0,9, 20210412,      206,   7.7814, -52.8967,    27.4110,2,     0.0708,1,     4.6435,1,     -999.0,9,     -999.0,9,     -999.0,9,     -999.0,9
325020210316,        A20,      81,          1,         29,         29,2,20210412,       0113,     7.7815,   -52.8967,       1248,   136.0,  25.7058,  36.5834,2,  36.5801,2,    179.7,2,   180.6,2,    1.07,2,    1.04,2,    0.16,2,    0.12,2,-999.000,9,-999.000,9, -999.00,9,  -999.0,9, -999.00,9,   -999.0,9,  -999.00,-999.00000,9,  -999.00, -999.00,9, -999.00,9, -999.00,-999.000,9,   63.36,2,    5.36,2,     -999.0,9, 20210412,      205,   7.7814, -52.8967,    25.6984,2,     0.0758,1,     4.6442,1,     -999.0,9,     -999.0,9,     -999.0,9,     -999.0,9
325020210316,        A20,      81,          1,         28,         28,2,20210412,       0113,     7.7815,   -52.8967,       1248,   160.9,  22.8414,  36.5200,2,  36.5177,2,    168.5,2,   168.9,2,    2.05,2,    4.56,2,    0.04,2,    0.31,2,-999.000,9,-999.000,9, -999.00,9,  -999.0,9, -999.00,9,   -999.0,9,  -999.00,-999.00000,9,  -999.00, -999.00,9, -999.00,9, -999.00,-999.000,9, -999.00,9, -999.00,9,     -999.0,9, 20210412,      202,   7.7814, -52.8967,    22.8336,2,     0.0559,1,     4.6612,1,     -999.0,9,     -999.0,9,     -999.0,9,     -999.0,9
325020210316,        A20,      81,          1,         27,         27,2,20210412,       0113,     7.7815,   -52.8967,       1248,   186.2,  18.5665,  36.2783,2,  36.2733,2,    122.7,3,   128.4,2,    4.09,2,   12.28,2,    0.01,2,    0.68,2,-999.000,9,-999.000,9, -999.00,9,  -999.0,9, -999.00,9,   -999.0,9,  -999.00,-999.00000,9,  -999.00, -999.00,9, -999.00,9, -999.00,-999.000,9,   52.26,2,   15.76,2,     -999.0,9, 20210412,      200,   7.7814, -52.8967,    18.5637,2,     0.0438,1,     4.6691,1,     -999.0,9,     -999.0,9,     -999.0,9,     -999.0,9
325020210316,        A20,      81,          1,         26,         26,2,20210412,       0113,     7.7815,   -52.8967,       1248,   211.3,  14.0376,  35.5608,2,  35.5610,2,    137.5,2,   136.4,2,    7.41,2,   17.91,2,    0.00,2,    1.10,2,-999.000,9,-999.000,9, -999.00,9,  -999.0,9, -999.00,9,   -999.0,9,  -999.00,-999.00000,9,  -999.00, -999.00,9, -999.00,9, -999.00,-999.000,9, -999.00,9, -999.00,9,     -999.0,9, 20210412,      158,   7.7814, -52.8967,    14.0579,2,     0.0423,1,     4.6725,1,     -999.0,9,     -999.0,9,     -999.0,9,     -999.0,9
325020210316,        A20,      81,          1,         25,         25,2,20210412,       0113,     7.7815,   -52.8967,       1248,   236.7,  11.4475,  35.1600,2,  35.1593,2,    138.0,2,   136.9,2,   10.14,2,   22.15,2,    0.00,2,    1.39,2,-999.000,9,-999.000,9, -999.00,9,  -999.0,9, -999.00,9,   -999.0,9,  -999.00,-999.00000,9,  -999.00, -999.00,9, -999.00,9, -999.00,-999.000,9,   46.33,2,   25.09,2,     -999.0,9, 20210412,      156,   7.7814, -52.8967,    11.4548,2,     0.0424,1,     4.6715,1,     -999.0,9,     -999.0,9,     -999.0,9,     -999.0,9
325020210316,        A20,      81,          1,         24,         24,2,20210412,       0113,     7.7815,   -52.8967,       1248,   261.6,  10.6643,  35.1045,2,  35.1024,2,    117.7,2,   118.8,2,   12.09,2,   25.62,2,    0.00,2,    1.58,2,-999.000,9,-999.000,9, -999.00,9,  2208.9,2, 2314.57,6,   -999.0,9,  -999.00,   7.62717,2,    24.99, -999.00,9, -999.00,9, -999.00,-999.000,9, -999.00,9, -999.00,9,     -999.0,9, 20210412,      154,   7.7814, -52.8967,    10.6637,2,     0.0423,1,     4.6711,1,     -999.0,9,     -999.0,9,     -999.0,9,     -999.0,9
325020210316,        A20,      81,          1,         23,         23,2,20210412,       0113,     7.7815,   -52.8967,       1248,   286.6,  10.2811,  35.0405,2,  35.0362,2,    118.4,2,   119.5,2,   12.68,2,   26.31,2,    0.00,2,    1.65,2,-999.000,9,-999.000,9, -999.00,9,  -999.0,9, -999.00,9,   -999.0,9,  -999.00,-999.00000,9,  -999.00, -999.00,9, -999.00,9, -999.00,-999.000,9,   44.00,2,   28.81,2,     -999.0,9, 20210412,      153,   7.7815, -52.8967,    10.2784,2,     0.0415,1,     4.6707,1,     -999.0,9,     -999.0,9,     -999.0,9,     -999.0,9
325020210316,        A20,      81,          1,         22,         22,2,20210412,       0113,     7.7815,   -52.8967,       1248,   312.0,   8.9554,  34.8336,2,  34.8361,2,    129.3,2,   129.6,2,   14.83,2,   27.83,2,    0.00,2,    1.78,2,-999.000,9,-999.000,9, -999.00,9,  -999.0,9, -999.00,9,   -999.0,9,  -999.00,-999.00000,9,  -999.00, -999.00,9, -999.00,9, -999.00,-999.000,9, -999.00,9, -999.00,9,     -999.0,9, 20210412,      152,   7.7814, -52.8967,     8.9432,2,     0.0430,1,     4.6696,1,     -999.0,9,     -999.0,9,     -999.0,9,     -999.0,9
325020210316,        A20,      81,          1,         21,         21,2,20210412,       0113,     7.7815,   -52.8967,       1248,   337.9,   8.6375,  34.7971,2,  34.7997,2,    122.1,2,   121.6,2,   15.80,2,   29.50,2,    0.00,2,    1.87,2,-999.000,9,-999.000,9, -999.00,9,  -999.0,9, -999.00,9,   -999.0,9,  -999.00,-999.00000,9,  -999.00, -999.00,9, -999.00,9, -999.00,-999.000,9,   43.25,2,   32.59,2,     -999.0,9, 20210412,      150,   7.7814, -52.8967,     8.6466,2,     0.0429,1,     4.6714,1,     -999.0,9,     -999.0,9,     -999.0,9,     -999.0,9
325020210316,        A20,      81,          1,         20,         20,2,20210412,       0113,     7.7815,   -52.8967,       1248,   362.9,   8.3494,  34.7615,2,  34.7634,2,    125.9,2,   125.7,2,   16.39,2,   29.71,2,    0.00,2,    1.89,2,-999.000,9,-999.000,9, -999.00,9,  -999.0,9, -999.00,9,   -999.0,9,  -999.00,-999.00000,9,  -999.00, -999.00,9, -999.00,9, -999.00,-999.000,9, -999.00,9, -999.00,9,     -999.0,9, 20210412,      149,   7.7814, -52.8967,     8.3501,2,     0.0436,1,     4.6726,1,     -999.0,9,     -999.0,9,     -999.0,9,     -999.0,9
325020210316,        A20,      81,          1,         19,         19,2,20210412,       0113,     7.7815,   -52.8967,       1248,   387.5,   8.0921,  34.7308,2,  34.7300,2,    130.6,2,   130.2,2,   16.97,2,   29.78,2,    0.00,2,    1.92,2,-999.000,9,-999.000,9, -999.00,9,  -999.0,9, -999.00,9,   -999.0,9,  -999.00,-999.00000,9,  -999.00, -999.00,9, -999.00,9, -999.00,-999.000,9,   42.99,2,   32.85,2,     -999.0,9, 20210412,      146,   7.7814, -52.8967,     8.0922,2,     0.0430,1,     4.6739,1,     -999.0,9,     -999.0,9,     -999.0,9,     -999.0,9
325020210316,        A20,      81,          1,         18,         18,2,20210412,       0113,     7.7815,   -52.8967,       1248,   414.0,   7.9228,  34.7252,2,  34.7241,2,    127.1,2,   127.2,2,   17.66,2,   30.56,2,    0.00,2,    1.96,2,-999.000,9,-999.000,9, -999.00,9,  -999.0,9, -999.00,9,   -999.0,9,  -999.00,-999.00000,9,  -999.00, -999.00,9, -999.00,9, -999.00,-999.000,9, -999.00,9, -999.00,9,     -999.0,9, 20210412,      146,   7.7814, -52.8967,     7.9238,2,     0.0429,1,     4.6750,1,     -999.0,9,     -999.0,9,     -999.0,9,     -999.0,9
325020210316,        A20,      81,          1,         17,         17,2,20210412,       0113,     7.7815,   -52.8967,       1248,   438.5,   7.4009,  34.6627,2,  34.6647,2,    132.3,2,   132.0,2,   19.02,2,   31.16,2,    0.00,2,    2.01,2,-999.000,9,-999.000,9, -999.00,9,  -999.0,9, -999.00,9,   -999.0,9,  -999.00,-999.00000,9,  -999.00, -999.00,9, -999.00,9, -999.00,-999.000,9,   42.43,2,   34.31,2,     -999.0,9, 20210412,      145,   7.7814, -52.8967,     7.4055,2,     0.0425,1,     4.6750,1,     -999.0,9,     -999.0,9,     -999.0,9,     -999.0,9
325020210316,        A20,      81,          1,         16,         16,2,20210412,       0113,     7.7815,   -52.8967,       1248,   464.3,   7.2135,  34.6653,2,  34.6653,2,    123.5,3,   125.2,2,   19.90,2,   32.32,2,    0.00,2,    2.08,2,-999.000,9,-999.000,9, -999.00,9,  -999.0,9, -999.00,9,   -999.0,9,  -999.00,-999.00000,9,  -999.00, -999.00,9, -999.00,9, -999.00,-999.000,9, -999.00,9, -999.00,9,     -999.0,9, 20210412,      143,   7.7814, -52.8967,     7.2230,2,     0.0429,1,     4.6737,1,     -999.0,9,     -999.0,9,     -999.0,9,     -999.0,9
325020210316,        A20,      81,          1,         15,         15,2,20210412,       0113,     7.7815,   -52.8967,       1248,   489.2,   6.9691,  34.6491,2,  34.6472,2,    122.7,2,   122.8,2,   21.07,2,   33.21,2,    0.00,2,    2.14,2,-999.000,9,-999.000,9, -999.00,9,  -999.0,9, -999.00,9,   -999.0,9,  -999.00,-999.00000,9,  -999.00, -999.00,9, -999.00,9, -999.00,-999.000,9,   42.86,2,   36.58,2,     -999.0,9, 20210412,      141,   7.7814, -52.8967,     6.9688,2,     0.0423,1,     4.6770,1,     -999.0,9,     -999.0,9,     -999.0,9,     -999.0,9
325020210316,        A20,      81,          1,         14,         14,2,20210412,       0113,     7.7815,   -52.8967,       1248,   514.6,   6.6298,  34.6275,2,  34.6295,2,    116.7,2,   117.1,2,   22.53,2,   34.44,2,    0.00,2,    2.21,2,-999.000,9,-999.000,9, -999.00,9,  2227.8,2, 2296.81,6,   -999.0,9,  -999.00,   7.51771,2,    25.03, -999.00,9, -999.00,9, -999.00,-999.000,9, -999.00,9, -999.00,9,     -999.0,9, 20210412,      140,   7.7814, -52.8967,     6.6298,2,     0.0429,1,     4.6782,1,     -999.0,9,     -999.0,9,     -999.0,9,     -999.0,9
325020210316,        A20,      81,          1,         13,         13,2,20210412,       0113,     7.7815,   -52.8967,       1248,   540.0,   6.3482,  34.6052,2,  34.6042,2,    120.0,2,   119.6,2,   23.41,2,   34.67,2,    0.00,2,    2.24,2,-999.000,9,-999.000,9, -999.00,9,  -999.0,9, -999.00,9,   -999.0,9,  -999.00,-999.00000,9,  -999.00, -999.00,9, -999.00,9, -999.00,-999.000,9,   42.06,2,   38.42,2,     -999.0,9, 20210412,      138,   7.7814, -52.8967,     6.3505,2,     0.0434,1,     4.6796,1,     -999.0,9,     -999.0,9,     -999.0,9,     -999.0,9
325020210316,        A20,      81,          1,         12,         12,2,20210412,       0113,     7.7815,   -52.8967,       1248,   564.9,   6.2062,  34.6122,2,  34.6187,2,    126.4,2,   125.6,2,   24.19,2,   34.13,2,    0.00,2,    2.22,2,-999.000,9,-999.000,9, -999.00,9,  -999.0,9, -999.00,9,   -999.0,9,  -999.00,-999.00000,9,  -999.00, -999.00,9, -999.00,9, -999.00,-999.000,9, -999.00,9, -999.00,9,     -999.0,9, 20210412,      137,   7.7814, -52.8967,     6.2327,2,     0.0428,1,     4.6752,1,     -999.0,9,     -999.0,9,     -999.0,9,     -999.0,9
325020210316,        A20,      81,          1,         11,         11,2,20210412,       0113,     7.7815,   -52.8967,       1248,   589.6,   5.8717,  34.5820,2,  34.5812,2,    131.3,2,   131.1,2,   25.66,2,   34.29,2,    0.00,2,    2.25,2,-999.000,9,-999.000,9, -999.00,9,  -999.0,9, -999.00,9,   -999.0,9,  -999.00,-999.00000,9,  -999.00, -999.00,9, -999.00,9, -999.00,-999.000,9,   40.47,2,   37.57,2,     -999.0,9, 20210412,      135,   7.7814, -52.8967,     5.8636,2,     0.0430,1,     4.6710,1,     -999.0,9,     -999.0,9,     -999.0,9,     -999.0,9
325020210316,        A20,      81,          1,         10,         10,2,20210412,       0113,     7.7815,   -52.8967,       1248,   615.6,   5.4546,  34.5393,2,  34.5396,2,    144.1,2,   143.6,2,   27.12,2,   33.87,2,    0.00,2,    2.23,2,-999.000,9,-999.000,9, -999.00,9,  -999.0,9, -999.00,9,   -999.0,9,  -999.00,-999.00000,9,  -999.00, -999.00,9, -999.00,9, -999.00,-999.000,9,   40.74,2,   37.56,2,     -999.0,9, 20210412,      134,   7.7814, -52.8967,     5.4708,2,     0.0433,1,     4.6782,1,     -999.0,9,     -999.0,9,     -999.0,9,     -999.0,9
325020210316,        A20,      81,          1,          9,          9,2,20210412,       0113,     7.7815,   -52.8967,       1248,   640.3,   5.1606,  34.5007,2,  34.4989,2,    154.7,2,   155.2,2,   28.20,2,   33.31,2,    0.00,2,    2.21,2,-999.000,9,-999.000,9, -999.00,9,  -999.0,9, -999.00,9,   -999.0,9,  -999.00,-999.00000,9,  -999.00, -999.00,9, -999.00,9, -999.00,-999.000,9,   41.14,2,   36.36,2,     -999.0,9, 20210412,      132,   7.7814, -52.8967,     5.1598,2,     0.0424,1,     4.6794,1,     -999.0,9,     -999.0,9,     -999.0,9,     -999.0,9
325020210316,        A20,      81,          1,          8,          8,2,20210412,       0113,     7.7815,   -52.8967,       1248,   676.3,   5.1131,  34.4985,2,  34.4968,2,    155.6,2,   156.0,2,   28.49,2,   33.35,2,    0.00,2,    2.21,2,-999.000,9,-999.000,9, -999.00,9,  -999.0,9, -999.00,9,   -999.0,9,  -999.00,-999.00000,9,  -999.00, -999.00,9, -999.00,9, -999.00,-999.000,9,   41.58,2,   36.07,2,     -999.0,9, 20210412,      131,   7.7814, -52.8967,     5.1124,2,     0.0429,1,     4.6812,1,     -999.0,9,     -999.0,9,     -999.0,9,     -999.0,9
325020210316,        A20,      81,          1,          7,          7,2,20210412,       0113,     7.7815,   -52.8967,       1248,   756.9,   4.9079,  34.4971,2,  34.4954,2,    158.1,2,   158.6,2,   29.76,2,   33.38,2,    0.00,2,    2.23,2,   0.795,2,   0.417,2,    0.16,2,  -999.0,9, -999.00,9,   -999.0,9,  -999.00,-999.00000,9,  -999.00, -999.00,9, -999.00,9, -999.00,-999.000,9,   41.79,2,   35.73,2,      22.74,2, 20210412,      128,   7.7814, -52.8967,     4.9095,2,     0.0428,1,     4.6833,1,     -999.0,9,     -999.0,9,     -999.0,9,     -999.0,9
325020210316,        A20,      81,          1,          6,          6,2,20210412,       0113,     7.7815,   -52.8967,       1248,   856.5,   4.8295,  34.5080,2,  34.5064,2,    157.6,2,   157.9,2,   30.24,2,   33.45,2,    0.00,2,    2.23,2,   0.698,2,   0.359,2,    0.20,2,  2219.0,2, 2303.53,2,   -999.0,9,  -999.00,   7.55712,2,    24.98, -999.00,9, -999.00,9, -999.00,-999.000,9,   40.19,2,   35.92,2,      22.72,2, 20210412,      125,   7.7814, -52.8967,     4.8283,2,     0.0426,1,     4.6831,1,     -999.0,9,     -999.0,9,     -999.0,9,     -999.0,9
325020210316,        A20,      81,          1,          5,          5,2,20210412,       0113,     7.7815,   -52.8967,       1248,   957.9,   4.8195,  34.5529,2,  34.5510,2,    153.2,2,   153.2,2,   30.44,2,   33.57,2,    0.00,2,    2.24,2,   0.422,2,   0.226,2,    0.12,2,  -999.0,9, -999.00,9,   -999.0,9,  -999.00,-999.00000,9,  -999.00, -999.00,9, -999.00,9, -999.00,-999.000,9,   40.66,2,   35.72,2,      22.71,2, 20210412,      122,   7.7814, -52.8967,     4.8189,2,     0.0429,1,     4.6821,1,     -999.0,9,     -999.0,9,     -999.0,9,     -999.0,9
325020210316,        A20,      81,          1,          4,          4,2,20210412,       0113,     7.7815,   -52.8967,       1248,  1058.5,   4.9171,  34.6816,2,  34.6832,2,    149.9,2,   149.4,2,   28.48,2,   32.48,2,    0.00,2,    2.17,2,   0.153,2,   0.085,2,    0.01,2,  -999.0,9, -999.00,9,   -999.0,9,  -999.00,-999.00000,9,  -999.00, -999.00,9, -999.00,9, -999.00,-999.000,9,   42.34,2,   33.02,2,      22.67,2, 20210412,      119,   7.7814, -52.8967,     4.9217,2,     0.0437,1,     4.6826,1,     -999.0,9,     -999.0,9,     -999.0,9,     -999.0,9
325020210316,        A20,      81,          1,          3,          3,2,20210412,       0113,     7.7815,   -52.8967,       1248,  1153.8,   5.0211,  34.8492,2,  34.8521,2,    171.0,2,   170.8,2,   24.09,2,   28.34,2,    0.00,2,    1.88,2,   0.237,2,   0.130,2,    0.02,2,  -999.0,9, -999.00,9,   -999.0,9,  -999.00,-999.00000,9,  -999.00, -999.00,9, -999.00,9, -999.00,-999.000,9,   43.43,2,   28.83,2,      20.12,2, 20210412,      116,   7.7814, -52.8967,     5.0203,2,     0.0429,1,     4.6850,1,     -999.0,9,     -999.0,9,     -999.0,9,     -999.0,9
325020210316,        A20,      81,          1,          1,          1,2,20210412,       0113,     7.7815,   -52.8967,       1248,  1245.6,   4.9145,  34.9846,2,  34.9819,2,    212.0,2,   211.1,2,   18.24,2,   22.50,2,    0.00,2,    1.48,2,   0.898,2,   0.470,2,    0.26,2,  2189.5,2, 2318.34,2,   -999.0,9,  -999.00,    7.6875,2,    24.97, -999.00,9, -999.00,9, -999.00,-999.000,9,   43.75,2,   23.05,2,      16.38,2, 20210412,      113,   7.7814, -52.8967,     4.9131,2,     0.0419,1,     4.6679,1,     -999.0,9,     -999.0,9,     -999.0,9,     -999.0,9
325020210316,        A20,      81,          1,          2,          2,4,20210412,       0113,     7.7815,   -52.8967,       1248,  1246.6,   4.9120,  34.9856,3,  34.8501,3,    212.3,3,   170.6,3,   24.09,3,   28.32,3,    0.00,3,    1.88,3,-999.000,9,-999.000,9, -999.00,9,  -999.0,9, -999.00,9,   -999.0,9,  -999.00,-999.00000,9,  -999.00, -999.00,9, -999.00,9, -999.00,-999.000,9, -999.00,9, -999.00,9,     -999.0,9, 20210412,      113,   7.7814, -52.8967,     -999.0,9,     0.0423,1,     4.6643,1,     -999.0,9,     -999.0,9,     -999.0,9,     -999.0,9