BOTTLE,20230512CCHSIOCBG
EXPOCODE,SECT_ID,STNNBR,CASTNO,SAMPNO,BTLNBR,BTLNBR_FLAG_W,DATE,TIME,LATITUDE,LONGITUDE,DEPTH,CTDPRS,CTDTMP,CTDSAL,CTDSAL_FLAG_W,SALNTY,SALNTY_FLAG_W,CTDOXY,CTDOXY_FLAG_W,OXYGEN,OXYGEN_FLAG_W,SILCAT,SILCAT_FLAG_W,NITRAT,NITRAT_FLAG_W,NITRIT,NITRIT_FLAG_W,PHSPHT,PHSPHT_FLAG_W,CFC-11,CFC-11_FLAG_W,CFC-12,CFC-12_FLAG_W,SF6,SF6_FLAG_W,TCARBN,TCARBN_FLAG_W,ALKALI,ALKALI_FLAG_W,FCO2,FCO2_FLAG_W,FCO2TMP,PH_TOT,PH_TOT_FLAG_W,PH_TMP,DELC13,DELC13_FLAG_W,DELC14,DELC14_FLAG_W,C14ERR,POC,POC_FLAG_W,DOC,DOC_FLAG_W,TDN,TDN_FLAG_W,N2O,N2O_FLAG_W,BTL_DATE,BTL_TIME,BTL_LAT,BTL_LON,REFTMP,REFTMP_FLAG_W,CTDFLUOR,CTDFLUOR_FLAG_W,CTDXMISS,CTDXMISS_FLAG_W,D15N_NO2+NO3,D15N_NO2+NO3_FLAG_W,D18O_NO2+NO3,D18O_NO2+NO3_FLAG_W,HPLC,HPLC_FLAG_W,MICROGELS,MICROGELS_FLAG_W
,,,,,,,,,,,METERS,DBAR,ITS-90,PSS-78,,PSS-78,,UMOL/KG,,UMOL/KG,,UMOL/KG,,UMOL/KG,,UMOL/KG,,UMOL/KG,,PMOL/KG,,PMOL/KG,,FMOL/KG,,UMOL/KG,,UMOL/KG,,UATM,,DEG C,,,DEG C,/MILLE,,/MILLE,,/MILLE,UG/KG,,UMOL/KG,,UMOL/KG,,NMOL/KG,,,,,,ITS-90,,VOLTS,,VOLTS,,/MILLE,,/MILLE,,,,1E6 GELS/L,
325020210316,        A20,      36,          1,         36,         36,2,20210330,       1500,    29.3885,   -52.3332,       5345,     5.1,  22.3848,  37.0945,2,  37.0939,2,    220.3,3,   217.2,2,    0.68,2,    0.00,2,    0.00,2,    0.00,2,   1.739,2,   1.128,2,    1.87,2,  2106.5,6, 2425.94,2,    339.1,2,    20.00,   8.04533,2,    25.01, -999.00,9, -999.00,9, -999.00,-999.000,9,   68.31,2,    3.24,2,       6.95,2, 20210330,     1720,  29.3885, -52.3332,    22.4266,2,     0.0406,1,     4.6555,1,     -999.0,9,     -999.0,9,     -999.0,9,     -999.0,1
325020210316,        A20,      36,          1,         35,         35,2,20210330,       1500,    29.3885,   -52.3332,       5345,    25.7,  22.0418,  37.0842,2,  37.0849,2,    219.0,2,   217.3,2,    0.78,2,    0.00,2,    0.00,2,    0.00,2,-999.000,9,-999.000,9, -999.00,9,  2105.3,2, 2426.87,2,    338.7,2,    20.00,   8.04842,2,    25.02, -999.00,9, -999.00,9, -999.00,-999.000,9,   67.23,2,    4.05,2,     -999.0,9, 20210330,     1718,  29.3885, -52.3332,    22.0394,2,     0.0421,1,     4.6504,1,     -999.0,9,     -999.0,9,     -999.0,9,     -999.0,1
325020210316,        A20,      36,          1,         34,         34,2,20210330,       1500,    29.3885,   -52.3332,       5345,    50.9,  21.9910,  37.0812,2,  37.0807,2,    219.1,2,   217.7,2,    0.68,2,    0.00,2,    0.00,2,    0.00,2,   1.668,2,   1.129,2,    1.86,2,  2105.2,2, 2426.38,2,    339.3,2,    20.00,   8.04678,2,    25.01, -999.00,9, -999.00,9, -999.00,-999.000,9,   65.45,2,    3.40,2,       6.95,2, 20210330,     1716,  29.3885, -52.3332,    21.9880,2,     0.0454,1,     4.6476,1,     -999.0,9,     -999.0,9,     -999.0,9,     -999.0,1
325020210316,        A20,      36,          1,         33,         33,2,20210330,       1500,    29.3885,   -52.3332,       5345,    76.4,  21.9543,  37.0796,2,  37.0798,2,    218.3,2,   217.0,2,    0.68,2,    0.00,2,    0.00,2,    0.00,2,-999.000,9,-999.000,9, -999.00,9,  2105.7,2, 2424.17,2,    340.8,2,    20.00,   8.04719,2,    25.03, -999.00,9, -999.00,9, -999.00,-999.000,9,   68.75,2,    3.12,2,     -999.0,9, 20210330,     1714,  29.3885, -52.3332,    21.9517,2,     0.0536,1,     4.6507,1,     -999.0,9,     -999.0,9,     -999.0,9,     -999.0,1
325020210316,        A20,      36,          1,         32,         32,2,20210330,       1500,    29.3885,   -52.3332,       5345,   100.0,  21.9432,  37.0789,2,  37.0788,2,    217.8,2,   216.5,2,    0.68,2,    0.01,2,    0.00,2,    0.00,2,   1.679,2,   1.132,2,    1.83,2,  2106.3,2,  2425.7,2,    341.0,2,    20.00,   8.04867,2,    25.00, -999.00,9, -999.00,9, -999.00,-999.000,9,   66.42,2,    4.05,2,       7.03,2, 20210330,     1712,  29.3885, -52.3332,    21.9442,2,     0.0567,1,     4.6580,1,     -999.0,9,     -999.0,9,     -999.0,9,     -999.0,1
325020210316,        A20,      36,          1,         31,         31,2,20210330,       1500,    29.3885,   -52.3332,       5345,   151.6,  21.1288,  36.9120,2,  36.8913,3,    208.1,2,   208.3,2,    0.68,2,    0.21,2,    0.04,2,    0.00,2,-999.000,9,-999.000,9, -999.00,9,  2112.4,2, 2412.27,2,   -999.0,9,  -999.00,   8.02214,2,    25.02, -999.00,9, -999.00,9, -999.00,-999.000,9,   59.74,2,    3.46,2,     -999.0,9, 20210330,     1710,  29.3885, -52.3332,    21.0576,3,     0.0793,1,     4.6605,1,     -999.0,9,     -999.0,9,     -999.0,9,     -999.0,1
325020210316,        A20,      36,          1,         30,         30,2,20210330,       1500,    29.3885,   -52.3332,       5345,   203.1,  19.2461,  36.6329,2,  36.6310,2,    197.7,2,   198.5,2,    0.98,2,    2.45,2,    0.00,2,    0.07,2,   1.561,2,   1.270,2,    1.87,2,  2122.4,2, 2396.24,2,    407.4,2,    20.00,   7.97862,2,    24.95, -999.00,9, -999.00,9, -999.00,-999.000,9,   54.91,2,    5.39,2,       8.05,2, 20210330,     1707,  29.3885, -52.3332,    19.2414,2,     0.0473,1,     4.6864,1,     -999.0,9,     -999.0,9,     -999.0,9,     -999.0,1
325020210316,        A20,      36,          1,         29,         29,2,20210330,       1500,    29.3885,   -52.3332,       5345,   250.7,  18.7640,  36.5910,2,  36.5918,2,    201.0,2,   201.4,2,    1.07,2,    3.21,2,    0.00,2,    0.12,2,-999.000,9,-999.000,9, -999.00,9,  2122.7,2, 2393.21,2,    412.3,2,    20.00,   7.97236,2,    24.99, -999.00,9, -999.00,9, -999.00,-999.000,9,   53.06,2,    5.85,2,     -999.0,9, 20210330,     1705,  29.3885, -52.3332,    18.7737,2,     0.0392,1,     4.6924,1,     -999.0,9,     -999.0,9,     -999.0,9,     -999.0,1
325020210316,        A20,      36,          1,         28,         28,2,20210330,       1500,    29.3885,   -52.3332,       5345,   302.9,  18.4909,  36.5652,2,  36.5628,2,    202.5,2,   202.6,2,    1.37,2,    3.65,2,    0.00,2,    0.15,2,   1.972,6,   1.305,6,    1.86,6,  2125.5,2, 2391.15,2,    418.8,2,    20.00,   7.96738,2,    25.00, -999.00,9, -999.00,9, -999.00,-999.000,9,   49.93,2,    6.19,2,       8.39,6, 20210330,     1702,  29.3885, -52.3332,    18.4888,2,     0.0392,1,     4.6935,1,     -999.0,9,     -999.0,9,     -999.0,9,     -999.0,1
325020210316,        A20,      36,          1,         27,         27,2,20210330,       1500,    29.3885,   -52.3332,       5345,   353.2,  18.0037,  36.4896,2,  36.4877,2,    197.5,2,   198.3,2,    1.56,2,    4.70,2,    0.00,2,    0.20,2,-999.000,9,-999.000,9, -999.00,9,  2130.0,2, 2386.96,2,    438.1,2,    20.00,   7.95083,2,    25.00, -999.00,9, -999.00,9, -999.00,-999.000,9,   48.20,2,    6.54,2,     -999.0,9, 20210330,     1701,  29.3885, -52.3332,    18.0028,2,     0.0391,1,     4.6956,1,     -999.0,9,     -999.0,9,     -999.0,9,     -999.0,1
325020210316,        A20,      36,          1,         26,         26,2,20210330,       1500,    29.3885,   -52.3332,       5345,   400.7,  17.3420,  36.3854,2,  36.3837,2,    195.1,2,   195.9,2,    1.95,2,    5.84,2,    0.00,2,    0.28,2,   2.071,2,   1.361,2,    1.72,2,  2138.0,2, 2380.94,2,    460.8,2,    20.00,   7.93009,2,    25.00, -999.00,9, -999.00,9, -999.00,-999.000,9,   49.47,2,    6.57,2,       9.36,2, 20210330,     1659,  29.3885, -52.3332,    17.3359,2,     0.0391,1,     4.6960,1,     -999.0,9,     -999.0,9,     -999.0,9,     -999.0,1
325020210316,        A20,      36,          1,         25,         25,2,20210330,       1500,    29.3885,   -52.3332,       5345,   503.3,  15.9034,  36.1485,2,  36.1456,2,    189.8,2,   190.7,2,    2.93,2,    8.58,2,    0.00,2,    0.45,2,-999.000,9,-999.000,9, -999.00,9,  2145.6,2, 2367.17,2,    512.5,2,    20.00,   7.88777,2,    24.99, -999.00,9, -999.00,9, -999.00,-999.000,9,   48.22,2,   10.06,2,     -999.0,9, 20210330,     1654,  29.3885, -52.3332,    15.9012,2,     0.0407,1,     4.6972,1,     -999.0,9,     -999.0,9,     -999.0,9,     -999.0,1
325020210316,        A20,      36,          1,         24,         24,2,20210330,       1500,    29.3885,   -52.3332,       5345,   603.7,  14.3256,  35.9054,2,  35.8987,2,    184.0,2,   184.1,2,    4.30,2,   11.61,2,    0.00,2,    0.64,2,   2.325,2,   1.414,2,    1.50,2,  2158.0,2, 2353.28,6,    577.9,2,    20.00,   7.83973,6,    24.99, -999.00,9, -999.00,9, -999.00,-999.000,9, -999.00,9, -999.00,9,      12.43,2, 20210330,     1652,  29.3885, -52.3332,    14.3492,2,     0.0408,1,     4.6990,1,     -999.0,9,     -999.0,9,     -999.0,9,     -999.0,1
325020210316,        A20,      36,          1,         23,         23,2,20210330,       1500,    29.3885,   -52.3332,       5345,   706.2,  12.5655,  35.6665,2,  35.6672,2,    175.9,2,   176.3,2,    6.35,2,   15.08,2,    0.00,2,    0.89,2,-999.000,9,-999.000,9, -999.00,9,  2169.4,6, 2341.18,2,    655.5,2,    20.00,   7.78859,2,    24.99, -999.00,9, -999.00,9, -999.00,-999.000,9,   48.50,2,   15.32,2,     -999.0,9, 20210330,     1649,  29.3885, -52.3332,    12.5722,2,     0.0406,1,     4.7009,1,     -999.0,9,     -999.0,9,     -999.0,9,     -999.0,1
325020210316,        A20,      36,          1,         22,         22,2,20210330,       1500,    29.3885,   -52.3332,       5345,   807.8,  10.9418,  35.4866,2,  35.4882,2,    166.0,2,   166.1,2,    9.18,2,   18.61,2,    0.00,2,    1.12,2,   1.846,2,   1.083,2,    0.87,2,  2183.4,2, 2333.32,2,    734.4,2,    20.00,   7.74131,6,    25.01, -999.00,9, -999.00,9, -999.00,-999.000,9,   46.29,2,   17.97,2,      16.11,2, 20210330,     1646,  29.3885, -52.3332,    10.9696,2,     0.0411,1,     4.7033,1,     -999.0,9,     -999.0,9,     -999.0,9,     -999.0,1
325020210316,        A20,      36,          1,         21,         21,2,20210330,       1500,    29.3885,   -52.3332,       5345,   909.5,   9.1573,  35.2744,2,  35.2741,2,    154.3,2,   154.7,2,   13.38,2,   22.77,2,    0.00,2,    1.42,2,   1.197,2,   0.685,2,    0.48,2,  2194.2,2, 2327.79,2,    828.6,2,    20.00,   7.69015,2,    25.01, -999.00,9, -999.00,9, -999.00,-999.000,9, -999.00,9, -999.00,9,      18.32,2, 20210330,     1643,  29.3885, -52.3332,     9.1523,2,     0.0421,1,     4.7041,1,     -999.0,9,     -999.0,9,     -999.0,9,     -999.0,1
325020210316,        A20,      36,          1,         20,         20,2,20210330,       1500,    29.3885,   -52.3332,       5345,  1009.2,   7.8879,  35.2046,2,  35.2067,2,    170.4,2,   169.3,2,   14.46,2,   22.67,2,    0.00,2,    1.44,2,   1.168,2,   0.640,2,    0.41,2,  2194.8,2,  2323.9,2,    837.5,2,    20.00,   7.68561,2,    24.99, -999.00,9, -999.00,9, -999.00,-999.000,9,   44.87,2,   23.01,2,      17.72,2, 20210330,     1640,  29.3885, -52.3332,     7.8986,2,     0.0421,1,     4.7042,1,     -999.0,9,     -999.0,9,     -999.0,9,     -999.0,1
325020210316,        A20,      36,          1,         19,         19,2,20210330,       1500,    29.3885,   -52.3332,       5345,  1109.9,   6.9325,  35.1815,2,  35.1813,2,    187.7,2,   187.3,2,   14.75,2,   21.93,2,    0.00,2,    1.41,2,   1.123,2,   0.611,2,    0.38,2,  2191.4,2, 2324.16,2,    821.4,2,    20.00,   7.69319,2,    24.99, -999.00,9, -999.00,9, -999.00,-999.000,9,   44.57,2,   22.00,2,      16.31,2, 20210330,     1637,  29.3885, -52.3332,     6.9342,2,     0.0422,1,     4.7047,1,     -999.0,9,     -999.0,9,     -999.0,9,     -999.0,1
325020210316,        A20,      36,          1,         18,         18,2,20210330,       1500,    29.3885,   -52.3332,       5345,  1210.4,   6.4425,  35.1988,2,  35.1949,2,    206.5,2,   206.1,2,   13.77,2,   20.35,2,    0.00,2,    1.31,2,-999.000,9,-999.000,9, -999.00,9,  2186.0,2, 2326.29,2,    791.8,2,    20.00,   7.70825,2,    25.01, -999.00,9, -999.00,9, -999.00,-999.000,9, -999.00,9, -999.00,9,     -999.0,9, 20210330,     1634,  29.3885, -52.3332,     6.4447,2,     0.0416,1,     4.7057,1,     -999.0,9,     -999.0,9,     -999.0,9,     -999.0,1
325020210316,        A20,      36,          1,         17,         17,2,20210330,       1500,    29.3885,   -52.3332,       5345,  1311.3,   5.8467,  35.1644,2,  35.1646,2,    221.0,2,   220.6,2,   13.48,2,   19.55,2,    0.00,2,    1.25,2,   1.623,2,   0.866,2,    0.56,2,  2181.8,2, 2322.18,2,    777.7,2,    20.00,   7.71532,2,    24.98, -999.00,9, -999.00,9, -999.00,-999.000,9,   48.04,2,   19.24,2,      14.55,2, 20210330,     1631,  29.3885, -52.3332,     5.8438,2,     0.0427,1,     4.7055,1,     -999.0,9,     -999.0,9,     -999.0,9,     -999.0,1
325020210316,        A20,      36,          1,         16,         16,2,20210330,       1500,    29.3885,   -52.3332,       5345,  1414.2,   5.5055,  35.1482,2,  35.1496,2,    229.7,2,   228.9,2,   13.29,2,   19.08,2,    0.00,2,    1.22,2,   1.642,2,   0.918,2,    0.52,2,  2180.0,2, 2322.04,2,    769.7,2,    20.00,   7.71974,2,    25.00, -999.00,9, -999.00,9, -999.00,-999.000,9, -999.00,9, -999.00,9,      13.97,2, 20210330,     1628,  29.3885, -52.3332,     5.5129,2,     0.0415,1,     4.7057,1,     -999.0,9,     -999.0,9,     -999.0,9,     -999.0,1
325020210316,        A20,      36,          1,         15,         15,2,20210330,       1500,    29.3885,   -52.3332,       5345,  1618.2,   4.8307,  35.1050,2,  35.1063,2,    242.0,2,   241.8,2,   14.07,2,   18.53,2,    0.00,2,    1.19,2,-999.000,9,-999.000,9, -999.00,9,  2175.4,2, 2318.93,2,    755.2,2,    20.00,   7.72606,2,    24.99, -999.00,9, -999.00,9, -999.00,-999.000,9,   46.08,2,   18.17,2,     -999.0,9, 20210330,     1623,  29.3885, -52.3332,     4.8368,2,     0.0418,1,     4.7057,1,     -999.0,9,     -999.0,9,     -999.0,9,     -999.0,1
325020210316,        A20,      36,          1,         14,         14,2,20210330,       1500,    29.3885,   -52.3332,       5345,  1821.3,   4.3520,  35.0716,2,  35.0718,2,    244.8,2,   244.9,2,   16.61,2,   18.81,2,    0.00,2,    1.21,2,   1.178,2,   0.601,2,    0.24,2,  2173.8,2, 2321.64,6,    745.9,2,    20.00,   7.73168,2,    24.99, -999.00,9, -999.00,9, -999.00,-999.000,9, -999.00,9, -999.00,9,      13.27,2, 20210330,     1619,  29.3885, -52.3332,     4.3521,2,     0.0418,1,     4.7063,1,     -999.0,9,     -999.0,9,     -999.0,9,     -999.0,1
325020210316,        A20,      36,          1,         13,         13,2,20210330,       1500,    29.3885,   -52.3332,       5345,  2022.8,   3.9325,  35.0315,2,  35.0313,2,    249.5,2,   249.4,2,   18.76,2,   18.76,2,    0.00,2,    1.22,2,   0.998,2,   0.514,2,    0.24,2,  2174.8,6, 2320.33,2,    742.3,2,    20.00,   7.73255,2,    24.99, -999.00,9, -999.00,9, -999.00,-999.000,9,   45.24,2,   18.62,2,      13.04,2, 20210330,     1614,  29.3885, -52.3332,     3.9296,2,     0.0425,1,     4.7058,1,     -999.0,9,     -999.0,9,     -999.0,9,     -999.0,1
325020210316,        A20,      36,          1,         12,         12,2,20210330,       1500,    29.3885,   -52.3332,       5345,  2278.1,   3.5190,  34.9927,2,  34.9937,2,    252.7,2,   252.8,2,   21.69,2,   18.87,2,    0.00,2,    1.24,2,-999.000,9,-999.000,9, -999.00,9,  2175.3,2, 2325.71,2,    740.4,6,    20.00,   7.73398,6,    24.99, -999.00,9, -999.00,9, -999.00,-999.000,9, -999.00,9, -999.00,9,     -999.0,9, 20210330,     1609,  29.3885, -52.3332,     3.5185,2,     0.0412,1,     4.7057,1,     -999.0,9,     -999.0,9,     -999.0,9,     -999.0,1
325020210316,        A20,      36,          1,         11,         11,2,20210330,       1500,    29.3885,   -52.3332,       5345,  2532.9,   3.2534,  34.9723,2,  34.9732,2,    251.6,2,   252.1,2,   25.60,2,   19.36,2,    0.00,2,    1.29,2,   0.551,2,   0.265,2,    0.08,2,  2176.8,2, 2327.19,2,   -999.0,9,  -999.00,   7.73563,2,    24.98, -999.00,9, -999.00,9, -999.00,-999.000,9,   44.25,2,   20.18,2,      12.91,2, 20210330,     1603,  29.3885, -52.3332,     3.2527,2,     0.0429,1,     4.7058,1,     -999.0,9,     -999.0,9,     -999.0,9,     -999.0,1
325020210316,        A20,      36,          1,         10,         10,2,20210330,       1500,    29.3885,   -52.3332,       5345,  2787.6,   3.0675,  34.9572,2,  34.9581,2,    251.7,2,   252.0,2,   28.04,2,   19.69,2,    0.00,2,    1.31,2,   0.280,2,   0.160,2,    0.05,2,  2181.0,2,  2329.2,2,    737.0,2,    20.00,   7.73738,2,    24.97, -999.00,9, -999.00,9, -999.00,-999.000,9, -999.00,9, -999.00,9,      12.96,2, 20210330,     1557,  29.3885, -52.3332,     3.0669,2,     0.0429,1,     4.7054,1,     -999.0,9,     -999.0,9,     -999.0,9,     -999.0,1
325020210316,        A20,      36,          1,          9,          9,2,20210330,       1500,    29.3885,   -52.3332,       5345,  3041.6,   2.9084,  34.9448,2,  34.9451,2,    252.2,2,   252.5,2,   30.39,2,   20.04,2,    0.00,2,    1.33,2,-999.000,9,-999.000,9, -999.00,9,  2180.2,2, 2330.41,2,   -999.0,9,  -999.00,   7.73877,2,    24.97, -999.00,9, -999.00,9, -999.00,-999.000,9,   42.84,2,   20.17,2,     -999.0,9, 20210330,     1552,  29.3885, -52.3332,     2.9078,2,     0.0411,1,     4.7056,1,     -999.0,9,     -999.0,9,     -999.0,9,     -999.0,1
325020210316,        A20,      36,          1,          8,          8,2,20210330,       1500,    29.3885,   -52.3332,       5345,  3348.2,   2.7124,  34.9284,2,  34.9284,2,    255.0,2,   255.2,2,   31.75,2,   20.05,2,    0.00,2,    1.32,2,   0.148,2,   0.075,2,    0.06,2,  2179.4,2, -999.00,5,    731.8,2,    20.00,   7.73974,2,    25.00, -999.00,9, -999.00,9, -999.00,-999.000,9,   41.86,2,   20.14,2,      12.84,2, 20210330,     1545,  29.3885, -52.3332,     2.7119,2,     0.0411,1,     4.7055,1,     -999.0,9,     -999.0,9,     -999.0,9,     -999.0,1
325020210316,        A20,      36,          1,          7,          7,2,20210330,       1500,    29.3885,   -52.3332,       5345,  3655.2,   2.5242,  34.9126,2,  34.9122,2,    258.6,2,   258.7,2,   32.73,2,   19.86,2,    0.00,2,    1.31,2,-999.000,9,-999.000,9, -999.00,9,  2178.6,2, 2330.19,2,   -999.0,9,  -999.00,   7.73965,2,    24.98, -999.00,9, -999.00,9, -999.00,-999.000,9, -999.00,9, -999.00,9,     -999.0,9, 20210330,     1539,  29.3885, -52.3332,     2.5237,2,     0.0424,1,     4.7057,1,     -999.0,9,     -999.0,9,     -999.0,9,     -999.0,1
325020210316,        A20,      36,          1,          6,          6,2,20210330,       1500,    29.3885,   -52.3332,       5345,  3964.0,   2.3407,  34.8957,2,  34.8949,2,    259.0,2,   258.9,2,   36.35,2,   20.07,2,    0.00,2,    1.34,2,   0.203,2,   0.111,2,    0.11,2,  2184.1,2, 2333.86,2,   -999.0,9,  -999.00,    7.7359,2,    25.00, -999.00,9, -999.00,9, -999.00,-999.000,9,   43.14,2,   18.74,2,      12.99,2, 20210330,     1532,  29.3885, -52.3332,     2.3401,2,     0.0429,1,     4.7053,1,     -999.0,9,     -999.0,9,     -999.0,9,     -999.0,1
325020210316,        A20,      36,          1,          5,          5,2,20210330,       1500,    29.3885,   -52.3332,       5345,  4271.2,   2.2212,  34.8815,2,  34.8812,2,    256.6,2,   256.6,2,   41.92,2,   20.72,2,    0.00,2,    1.39,2,   0.194,2,   0.101,2,    0.09,2,  2189.3,2, 2336.01,2,    749.3,2,    20.00,   7.73056,2,    25.00, -999.00,9, -999.00,9, -999.00,-999.000,9, -999.00,9, -999.00,9,      13.23,2, 20210330,     1526,  29.3885, -52.3332,     2.2200,2,     0.0416,1,     4.7057,1,     -999.0,9,     -999.0,9,     -999.0,9,     -999.0,1
325020210316,        A20,      36,          1,          4,          4,2,20210330,       1500,    29.3885,   -52.3332,       5345,  4580.3,   2.1519,  34.8707,2,  34.8703,2,    254.3,2,   253.8,2,   46.51,2,   21.34,2,    0.00,2,    1.45,2,   0.142,2,   0.079,2,    0.05,2,  2196.8,2, 2340.17,2,   -999.0,9,  -999.00,   7.72697,2,    24.96, -999.00,9, -999.00,9, -999.00,-999.000,9,   42.93,2,   21.30,2,      13.43,2, 20210330,     1519,  29.3885, -52.3331,     2.1519,2,     0.0428,1,     4.7052,1,     -999.0,9,     -999.0,9,     -999.0,9,     -999.0,1
325020210316,        A20,      36,          1,          3,          3,2,20210330,       1500,    29.3885,   -52.3332,       5345,  4991.3,   2.1343,  34.8631,2,  34.8670,3,    253.0,2,   253.0,2,   49.05,2,   21.71,2,    0.00,2,    1.48,2,   0.171,2,   0.089,2,    0.00,2,  2199.5,2,  2343.2,6,    768.1,2,    20.00,   7.72201,2,    25.00, -999.00,9, -999.00,9, -999.00,-999.000,9,   42.35,2,   20.40,2,      13.59,2, 20210330,     1511,  29.3885, -52.3331,     2.1343,2,     0.0430,1,     4.7029,1,     -999.0,9,     -999.0,9,     -999.0,9,     -999.0,1