BOTTLE,20230512CCHSIOCBG
EXPOCODE,SECT_ID,STNNBR,CASTNO,SAMPNO,BTLNBR,BTLNBR_FLAG_W,DATE,TIME,LATITUDE,LONGITUDE,DEPTH,CTDPRS,CTDTMP,CTDSAL,CTDSAL_FLAG_W,SALNTY,SALNTY_FLAG_W,CTDOXY,CTDOXY_FLAG_W,OXYGEN,OXYGEN_FLAG_W,SILCAT,SILCAT_FLAG_W,NITRAT,NITRAT_FLAG_W,NITRIT,NITRIT_FLAG_W,PHSPHT,PHSPHT_FLAG_W,CFC-11,CFC-11_FLAG_W,CFC-12,CFC-12_FLAG_W,SF6,SF6_FLAG_W,TCARBN,TCARBN_FLAG_W,ALKALI,ALKALI_FLAG_W,FCO2,FCO2_FLAG_W,FCO2TMP,PH_TOT,PH_TOT_FLAG_W,PH_TMP,DELC13,DELC13_FLAG_W,DELC14,DELC14_FLAG_W,C14ERR,POC,POC_FLAG_W,DOC,DOC_FLAG_W,TDN,TDN_FLAG_W,N2O,N2O_FLAG_W,BTL_DATE,BTL_TIME,BTL_LAT,BTL_LON,REFTMP,REFTMP_FLAG_W,CTDFLUOR,CTDFLUOR_FLAG_W,CTDXMISS,CTDXMISS_FLAG_W,D15N_NO2+NO3,D15N_NO2+NO3_FLAG_W,D18O_NO2+NO3,D18O_NO2+NO3_FLAG_W,HPLC,HPLC_FLAG_W,MICROGELS,MICROGELS_FLAG_W
,,,,,,,,,,,METERS,DBAR,ITS-90,PSS-78,,PSS-78,,UMOL/KG,,UMOL/KG,,UMOL/KG,,UMOL/KG,,UMOL/KG,,UMOL/KG,,PMOL/KG,,PMOL/KG,,FMOL/KG,,UMOL/KG,,UMOL/KG,,UATM,,DEG C,,,DEG C,/MILLE,,/MILLE,,/MILLE,UG/KG,,UMOL/KG,,UMOL/KG,,NMOL/KG,,,,,,ITS-90,,VOLTS,,VOLTS,,/MILLE,,/MILLE,,,,1E6 GELS/L,
325020210316,        A20,      20,          1,         36,         36,2,20210325,       1224,    39.0826,   -52.2321,       5335,    25.2,  20.2904,  36.6178,2,  36.6172,2,    219.4,2,   220.4,2,    0.78,2,    0.22,2,    0.07,2,    0.00,2,   1.822,2,   1.174,2,    2.29,3,  2090.9,2, 2396.74,2,    345.4,2,    20.00,   8.03382,2,    24.97, -999.00,9, -999.00,9, -999.00,-999.000,9, -999.00,9, -999.00,9,       7.54,2, 20210325,     1500,  39.0826, -52.2321,    20.2674,2,     0.0938,1,     4.5615,1,     -999.0,9,     -999.0,9,     -999.0,9,     -999.0,9
325020210316,        A20,      20,          1,         35,         35,2,20210325,       1224,    39.0826,   -52.2321,       5335,    47.2,  20.1916,  36.6219,2,  36.6221,2,    220.0,2,   221.8,2,    0.59,2,    0.21,2,    0.07,2,    0.00,2,-999.000,9,-999.000,9, -999.00,9,  2089.9,6, 2397.68,6,    347.2,2,    20.00,   8.03214,2,    25.00, -999.00,9, -999.00,9, -999.00,-999.000,9, -999.00,9, -999.00,9,     -999.0,9, 20210325,     1458,  39.0824, -52.2335,    20.2196,2,     0.0991,1,     4.5921,1,     -999.0,9,     -999.0,9,     -999.0,9,     -999.0,9
325020210316,        A20,      20,          1,         34,         34,2,20210325,       1224,    39.0826,   -52.2321,       5335,    50.7,  20.1580,  36.6253,2,  36.6213,2,    219.8,2,   220.5,2,    0.59,2,    0.22,2,    0.08,2,    0.00,2,   1.823,2,   1.176,2,    2.35,3,  2089.5,2, 2397.83,2,    347.4,2,    20.00,   8.03254,6,    25.01, -999.00,9, -999.00,9, -999.00,-999.000,9, -999.00,9, -999.00,9,       7.50,2, 20210325,     1457,  39.0824, -52.2340,    20.1498,2,     0.0965,1,     4.5892,1,     -999.0,9,     -999.0,9,     -999.0,9,     -999.0,9
325020210316,        A20,      20,          1,         33,         33,2,20210325,       1224,    39.0826,   -52.2321,       5335,    75.6,  19.7485,  36.6363,2,  36.6364,2,    215.5,3,   219.5,2,    0.78,2,    0.57,2,    0.14,2,    0.00,2,-999.000,9,-999.000,9, -999.00,9,  2096.7,2, 2398.04,2,    357.0,2,    20.00,   8.01978,6,    25.00, -999.00,9, -999.00,9, -999.00,-999.000,9, -999.00,9, -999.00,9,     -999.0,9, 20210325,     1455,  39.0823, -52.2349,    19.7512,2,     0.0779,1,     4.6272,1,     -999.0,9,     -999.0,9,     -999.0,9,     -999.0,9
325020210316,        A20,      20,          1,         32,         32,2,20210325,       1224,    39.0826,   -52.2321,       5335,   101.5,  19.3259,  36.6727,2,  36.6639,2,    215.3,2,   216.1,2,    1.07,2,    1.42,2,    0.07,2,    0.03,2,   1.924,2,   1.234,2,    2.60,3,  2104.0,2, 2396.86,2,   -999.0,9,  -999.00,   8.00574,2,    25.04, -999.00,9, -999.00,9, -999.00,-999.000,9, -999.00,9, -999.00,9,       7.85,2, 20210325,     1454,  39.0822, -52.2361,    19.3227,2,     0.0453,1,     4.6756,1,     -999.0,9,     -999.0,9,     -999.0,9,     -999.0,9
325020210316,        A20,      20,          1,         31,         31,2,20210325,       1224,    39.0826,   -52.2321,       5335,   151.4,  19.0915,  36.6821,2,  36.6854,2,    215.9,2,   213.8,2,    1.07,2,    1.78,2,    0.01,2,    0.03,2,   1.930,2,   1.240,2,    2.62,3,  2108.1,2, 2398.05,2,    379.9,2,    20.00,   7.99914,2,    25.02, -999.00,9, -999.00,9, -999.00,-999.000,9, -999.00,9, -999.00,9,       7.75,2, 20210325,     1451,  39.0821, -52.2373,    19.0920,2,     0.0391,1,     4.6845,1,     -999.0,9,     -999.0,9,     -999.0,9,     -999.0,9
325020210316,        A20,      20,          1,         30,         30,2,20210325,       1224,    39.0826,   -52.2321,       5335,   202.8,  18.8673,  36.6393,2,  36.6415,2,    216.9,2,   217.9,2,    0.98,2,    1.77,2,    0.04,2,    0.03,2,-999.000,9,-999.000,9, -999.00,9,  2104.7,2, 2395.17,2,    380.4,2,    20.00,   7.99957,2,    25.00, -999.00,9, -999.00,9, -999.00,-999.000,9, -999.00,9, -999.00,9,     -999.0,9, 20210325,     1449,  39.0820, -52.2386,    18.8661,2,     0.0445,1,     4.6836,1,     -999.0,9,     -999.0,9,     -999.0,9,     -999.0,9
325020210316,        A20,      20,          1,         29,         29,2,20210325,       1224,    39.0826,   -52.2321,       5335,   252.8,  18.8057,  36.6342,2,  36.6334,2,    219.7,2,   219.3,2,    0.88,2,    1.70,2,    0.07,2,    0.03,2,   1.955,2,   1.255,2,    2.53,3,  2105.3,2, 2395.66,2,   -999.0,9,  -999.00,   7.99901,2,    25.03, -999.00,9, -999.00,9, -999.00,-999.000,9, -999.00,9, -999.00,9,       7.90,2, 20210325,     1447,  39.0819, -52.2398,    18.8040,2,     0.0436,1,     4.6830,1,     -999.0,9,     -999.0,9,     -999.0,9,     -999.0,9
325020210316,        A20,      20,          1,         28,         28,2,20210325,       1224,    39.0826,   -52.2321,       5335,   302.3,  18.6855,  36.6240,2,  36.6239,2,    218.7,2,   216.6,2,    1.17,2,    2.12,2,    0.05,2,    0.05,2,   1.967,2,   1.264,2,    2.63,3,  2110.0,2, 2393.13,2,    389.7,2,    20.00,    7.9915,2,    25.02, -999.00,9, -999.00,9, -999.00,-999.000,9, -999.00,9, -999.00,9,       8.13,2, 20210325,     1444,  39.0817, -52.2412,    18.6850,2,     0.0443,1,     4.6872,1,     -999.0,9,     -999.0,9,     -999.0,9,     -999.0,9
325020210316,        A20,      20,          1,         27,         27,2,20210325,       1224,    39.0826,   -52.2321,       5335,   352.7,  18.6201,  36.6194,2,  36.6185,2,    216.6,2,   217.5,2,    1.17,2,    2.18,2,    0.04,2,    0.06,2,   1.974,2,   1.274,2,    2.95,3,  2109.3,2, 2392.88,2,    389.7,2,    20.00,   7.99051,2,    25.02, -999.00,9, -999.00,9, -999.00,-999.000,9, -999.00,9, -999.00,9,       8.06,2, 20210325,     1442,  39.0815, -52.2422,    18.6193,2,     0.0461,1,     4.6888,1,     -999.0,9,     -999.0,9,     -999.0,9,     -999.0,9
325020210316,        A20,      20,          1,         26,         26,2,20210325,       1224,    39.0826,   -52.2321,       5335,   404.1,  18.0664,  36.4982,2,  36.4994,2,    193.2,3,   190.9,2,    1.85,2,    5.37,2,    0.00,2,    0.22,2,-999.000,9,-999.000,9, -999.00,9,  2130.7,2, 2386.05,2,   -999.0,9,  -999.00,   7.94115,2,    25.03, -999.00,9, -999.00,9, -999.00,-999.000,9, -999.00,9, -999.00,9,     -999.0,9, 20210325,     1439,  39.0812, -52.2437,    18.0682,2,     0.0402,1,     4.6988,1,     -999.0,9,     -999.0,9,     -999.0,9,     -999.0,9
325020210316,        A20,      20,          1,         25,         25,2,20210325,       1224,    39.0826,   -52.2321,       5335,   504.4,  13.7275,  35.6013,2,  35.5967,2,    161.0,3,   218.8,2,    3.42,2,    8.05,2,    0.18,2,    0.49,2,   2.453,2,   1.503,2,    2.69,3,  2133.6,6, 2343.41,2,    529.8,2,    20.00,   7.87005,2,    25.01, -999.00,9, -999.00,9, -999.00,-999.000,9, -999.00,9, -999.00,9,      11.62,2, 20210325,     1436,  39.0809, -52.2456,    13.7263,2,     0.0446,1,     4.6928,1,     -999.0,9,     -999.0,9,     -999.0,9,     -999.0,9
325020210316,        A20,      20,          1,         24,         24,2,20210325,       1224,    39.0826,   -52.2321,       5335,   604.7,  13.3079,  35.5572,2,  35.5545,2,    158.2,3,   227.6,2,    3.71,2,    8.25,2,    0.22,2,    0.51,2,   2.453,2,   1.521,2,    3.02,3,  2134.1,2, 2341.11,2,    535.3,2,    20.00,   7.86593,2,    25.01, -999.00,9, -999.00,9, -999.00,-999.000,9, -999.00,9, -999.00,9,      11.53,2, 20210325,     1433,  39.0807, -52.2471,    13.3083,2,     0.0466,1,     4.6922,1,     -999.0,9,     -999.0,9,     -999.0,9,     -999.0,9
325020210316,        A20,      20,          1,         23,         23,2,20210325,       1224,    39.0826,   -52.2321,       5335,   706.7,  12.2987,  35.5686,2,  35.5725,2,    144.6,3,   137.0,2,    9.86,2,   20.46,2,    0.00,2,    1.20,2,   1.792,2,   1.042,2,    1.26,3,  2187.7,2, 2335.13,2,    762.0,2,    20.00,   7.72772,2,    25.02, -999.00,9, -999.00,9, -999.00,-999.000,9, -999.00,9, -999.00,9,      19.88,2, 20210325,     1430,  39.0803, -52.2491,    12.3593,2,     0.0416,1,     4.7009,1,     -999.0,9,     -999.0,9,     -999.0,9,     -999.0,9
325020210316,        A20,      20,          1,         22,         22,2,20210325,       1224,    39.0826,   -52.2321,       5335,   807.7,   9.2275,  35.2155,2,  35.2125,2,    139.7,3,   145.6,2,   14.26,2,   24.27,2,    0.00,2,    1.48,2,   1.468,2,   0.817,2,    0.94,3,  2196.8,2,  2320.3,2,    887.4,2,    20.00,   7.66326,2,    25.05, -999.00,9, -999.00,9, -999.00,-999.000,9, -999.00,9, -999.00,9,      20.85,2, 20210325,     1426,  39.0797, -52.2512,     9.2285,2,     0.0418,1,     4.7009,1,     -999.0,9,     -999.0,9,     -999.0,9,     -999.0,9
325020210316,        A20,      20,          1,         21,         21,2,20210325,       1224,    39.0826,   -52.2321,       5335,   910.3,   7.2567,  35.1232,2,  35.1254,2,    176.7,2,   176.9,2,   14.26,2,   22.77,2,    0.00,2,    1.42,2,   1.631,2,   0.895,2,    0.70,3,  2191.9,2, 2316.12,2,    866.5,2,    20.00,   7.67166,2,    25.01, -999.00,9, -999.00,9, -999.00,-999.000,9, -999.00,9, -999.00,9,      18.78,2, 20210325,     1423,  39.0792, -52.2529,     7.2304,2,     0.0418,1,     4.7036,1,     -999.0,9,     -999.0,9,     -999.0,9,     -999.0,9
325020210316,        A20,      20,          1,         20,         20,2,20210325,       1224,    39.0826,   -52.2321,       5335,  1010.1,   6.2495,  35.1116,2,  35.1102,2,    210.6,2,   211.0,2,   12.80,2,   20.14,2,    0.00,2,    1.27,2,   2.150,2,   1.163,2,    1.17,3,  2183.3,2, 2317.05,2,    821.5,2,    20.00,   7.69239,2,    25.01, -999.00,9, -999.00,9, -999.00,-999.000,9, -999.00,9, -999.00,9,      16.26,2, 20210325,     1419,  39.0787, -52.2544,     6.2481,2,     0.0411,1,     4.7088,1,     -999.0,9,     -999.0,9,     -999.0,9,     -999.0,9
325020210316,        A20,      20,          1,         19,         19,2,20210325,       1224,    39.0826,   -52.2321,       5335,  1111.9,   5.3353,  35.0464,2,  35.0463,2,    229.1,2,   230.1,2,   12.60,2,   19.34,2,    0.00,2,    1.23,2,   2.401,2,   1.312,2,    1.17,3,  2179.8,2, 2311.58,2,    812.5,2,    20.00,   7.69529,2,    25.01, -999.00,9, -999.00,9, -999.00,-999.000,9, -999.00,9, -999.00,9,      15.26,2, 20210325,     1415,  39.0784, -52.2557,     5.3325,2,     0.0420,1,     4.7053,1,     -999.0,9,     -999.0,9,     -999.0,9,     -999.0,9
325020210316,        A20,      20,          1,         18,         18,2,20210325,       1224,    39.0826,   -52.2321,       5335,  1212.6,   4.9731,  35.0321,2,  35.0317,2,    241.7,2,   241.7,2,   12.11,2,   18.69,2,    0.00,2,    1.19,2,   2.525,2,   1.392,2,    1.56,3,  2173.5,2, 2309.97,2,    798.2,6,    20.00,   7.70288,2,    25.02, -999.00,9, -999.00,9, -999.00,-999.000,9, -999.00,9, -999.00,9,      14.67,2, 20210325,     1410,  39.0780, -52.2570,     4.9726,2,     0.0421,1,     4.7070,1,     -999.0,9,     -999.0,9,     -999.0,9,     -999.0,9
325020210316,        A20,      20,          1,         17,         17,2,20210325,       1224,    39.0826,   -52.2321,       5335,  1314.2,   4.7107,  35.0120,2,  35.0110,2,    249.0,2,   248.3,2,   12.02,2,   18.37,2,    0.00,2,    1.17,2,-999.000,9,-999.000,9, -999.00,9,  2172.7,2, 2309.12,2,    791.3,2,    20.00,    7.7046,6,    25.02, -999.00,9, -999.00,9, -999.00,-999.000,9, -999.00,9, -999.00,9,     -999.0,9, 20210325,     1408,  39.0776, -52.2582,     4.7099,2,     0.0419,1,     4.7068,1,     -999.0,9,     -999.0,9,     -999.0,9,     -999.0,9
325020210316,        A20,      20,          1,         16,         16,2,20210325,       1224,    39.0826,   -52.2321,       5335,  1415.5,   4.4890,  34.9967,2,  34.9963,2,    253.4,2,   254.0,2,   12.02,2,   18.13,2,    0.00,2,    1.16,2,   2.767,2,   1.522,2,    1.55,3,  2172.3,2, 2310.35,6,   -999.0,9,  -999.00,   7.70716,6,    25.02, -999.00,9, -999.00,9, -999.00,-999.000,9, -999.00,9, -999.00,9,      14.21,2, 20210325,     1404,  39.0772, -52.2596,     4.4873,2,     0.0410,1,     4.7065,1,     -999.0,9,     -999.0,9,     -999.0,9,     -999.0,9
325020210316,        A20,      20,          1,         15,         15,2,20210325,       1224,    39.0826,   -52.2321,       5335,  1618.8,   4.2476,  34.9820,2,  34.9817,2,    259.6,2,   259.1,2,   12.21,2,   17.94,2,    0.00,2,    1.15,2,-999.000,9,-999.000,9, -999.00,9,  2167.3,2, 2308.12,2,    782.0,2,    20.00,    7.7135,2,    25.02, -999.00,9, -999.00,9, -999.00,-999.000,9, -999.00,9, -999.00,9,     -999.0,9, 20210325,     1358,  39.0768, -52.2613,     4.2464,2,     0.0422,1,     4.7072,1,     -999.0,9,     -999.0,9,     -999.0,9,     -999.0,9
325020210316,        A20,      20,          1,         14,         14,2,20210325,       1224,    39.0826,   -52.2321,       5335,  1822.2,   4.0248,  34.9708,2,  34.9709,2,    260.9,2,   262.5,2,   12.60,2,   17.79,2,    0.00,2,    1.14,2,   2.640,6,   1.386,6,    1.22,3,  2168.3,2, 2306.09,2,   -999.0,9,  -999.00,   7.71634,2,    25.01, -999.00,9, -999.00,9, -999.00,-999.000,9, -999.00,9, -999.00,9,      13.85,6, 20210325,     1353,  39.0763, -52.2632,     4.0234,2,     0.0422,1,     4.7077,1,     -999.0,9,     -999.0,9,     -999.0,9,     -999.0,9
325020210316,        A20,      20,          1,         13,         13,2,20210325,       1224,    39.0826,   -52.2321,       5335,  2024.7,   3.8565,  34.9674,2,  34.9660,2,    261.7,2,   263.7,2,   13.58,2,   17.88,2,    0.00,2,    1.15,2,-999.000,9,-999.000,9, -999.00,9,  2166.2,6, 2304.27,2,    763.1,2,    20.00,   7.71718,2,    26.26, -999.00,9, -999.00,9, -999.00,-999.000,9, -999.00,9, -999.00,9,     -999.0,9, 20210325,     1348,  39.0756, -52.2652,     3.8560,2,     0.0416,1,     4.7088,1,     -999.0,9,     -999.0,9,     -999.0,9,     -999.0,9
325020210316,        A20,      20,          1,         12,         12,2,20210325,       1224,    39.0826,   -52.2321,       5335,  2278.7,   3.6215,  34.9581,2,  34.9577,2,    263.2,2,   264.5,2,   14.75,2,   17.83,2,    0.00,2,    1.15,2,   1.995,2,   1.041,2,    0.68,3,  2165.5,2, 2307.92,2,   -999.0,9,  -999.00,   7.72151,2,    24.71, -999.00,9, -999.00,9, -999.00,-999.000,9, -999.00,9, -999.00,9,      13.47,2, 20210325,     1341,  39.0756, -52.2673,     3.6211,2,     0.0429,1,     4.7094,1,     -999.0,9,     -999.0,9,     -999.0,9,     -999.0,9
325020210316,        A20,      20,          1,         11,         11,2,20210325,       1224,    39.0826,   -52.2321,       5335,  2534.4,   3.4083,  34.9497,2,  34.9496,2,    264.7,2,   265.3,2,   16.12,2,   17.80,2,    0.00,2,    1.16,2,-999.000,9,-999.000,9, -999.00,9,  2166.3,2, 2310.91,2,    749.0,2,    20.00,   7.72438,2,    25.02, -999.00,9, -999.00,9, -999.00,-999.000,9, -999.00,9, -999.00,9,     -999.0,9, 20210325,     1335,  39.0755, -52.2690,     3.4076,2,     0.0424,1,     4.7093,1,     -999.0,9,     -999.0,9,     -999.0,9,     -999.0,9
325020210316,        A20,      20,          1,         10,         10,2,20210325,       1224,    39.0826,   -52.2321,       5335,  2790.0,   3.1950,  34.9432,2,  34.9427,2,    264.6,2,   265.6,2,   17.88,2,   17.93,2,    0.00,2,    1.16,2,   1.536,2,   0.788,2,    0.41,3,  2166.2,2, 2311.47,2,   -999.0,9,  -999.00,   7.72683,2,    25.01, -999.00,9, -999.00,9, -999.00,-999.000,9, -999.00,9, -999.00,9,      13.48,2, 20210325,     1329,  39.0749, -52.2711,     3.1946,2,     0.0430,1,     4.7094,1,     -999.0,9,     -999.0,9,     -999.0,9,     -999.0,9
325020210316,        A20,      20,          1,          9,          9,2,20210325,       1224,    39.0826,   -52.2321,       5335,  3045.1,   3.0261,  34.9372,2,  34.9370,2,    266.2,2,   265.4,2,   19.64,2,   18.01,2,    0.00,2,    1.17,2,-999.000,9,-999.000,9, -999.00,9,  2168.7,2, 2315.44,2,    741.7,2,    20.00,   7.72924,2,    25.00, -999.00,9, -999.00,9, -999.00,-999.000,9, -999.00,9, -999.00,9,     -999.0,9, 20210325,     1323,  39.0746, -52.2728,     3.0260,2,     0.0419,1,     4.7103,1,     -999.0,9,     -999.0,9,     -999.0,9,     -999.0,9
325020210316,        A20,      20,          1,          8,          8,2,20210325,       1224,    39.0826,   -52.2321,       5335,  3350.3,   2.7731,  34.9244,2,  34.9242,2,    268.0,2,   267.7,2,   21.30,2,   17.96,2,    0.00,2,    1.17,2,   1.338,2,   0.674,2,    0.67,3,  2166.0,2, 2316.25,2,   -999.0,9,  -999.00,   7.72908,2,    25.00, -999.00,9, -999.00,9, -999.00,-999.000,9, -999.00,9, -999.00,9,      13.48,2, 20210325,     1316,  39.0748, -52.2740,     2.7726,2,     0.0428,1,     4.7096,1,     -999.0,9,     -999.0,9,     -999.0,9,     -999.0,9
325020210316,        A20,      20,          1,          7,          7,2,20210325,       1224,    39.0826,   -52.2321,       5335,  3659.1,   2.5346,  34.9106,2,  34.9097,2,    269.3,2,   268.0,2,   24.33,2,   18.10,2,    0.00,2,    1.19,2,   1.170,2,   0.617,2,    0.64,3,  2174.7,2, 2316.68,2,    742.2,2,    20.00,   7.73097,2,    25.01, -999.00,9, -999.00,9, -999.00,-999.000,9, -999.00,9, -999.00,9,      13.36,2, 20210325,     1308,  39.0741, -52.2763,     2.5345,2,     0.0428,1,     4.7106,1,     -999.0,9,     -999.0,9,     -999.0,9,     -999.0,9
325020210316,        A20,      20,          1,          6,          6,2,20210325,       1224,    39.0826,   -52.2321,       5335,  4069.3,   2.3752,  34.8983,2,  34.8977,2,    268.5,2,   268.2,2,   27.35,2,   18.24,2,    0.00,2,    1.21,2,-999.000,9,-999.000,9, -999.00,9,  2175.0,2, 2319.42,2,   -999.0,9,  -999.00,   7.72769,6,    25.00, -999.00,9, -999.00,9, -999.00,-999.000,9, -999.00,9, -999.00,9,     -999.0,9, 20210325,     1258,  39.0730, -52.2795,     2.3748,2,     0.0428,1,     4.7068,1,     -999.0,9,     -999.0,9,     -999.0,9,     -999.0,9
325020210316,        A20,      20,          1,          5,          5,2,20210325,       1224,    39.0826,   -52.2321,       5335,  4480.1,   2.3065,  34.8901,2,  34.8896,2,    265.2,2,   265.9,2,   31.16,2,   18.71,2,    0.00,2,    1.25,2,   1.164,2,   0.619,2,    0.26,3,  2179.5,2, 2323.67,2,    754.1,2,    20.00,   7.72654,6,    25.02, -999.00,9, -999.00,9, -999.00,-999.000,9, -999.00,9, -999.00,9,      13.75,2, 20210325,     1248,  39.0728, -52.2815,     2.3065,2,     0.0420,1,     4.6985,1,     -999.0,9,     -999.0,9,     -999.0,9,     -999.0,9
325020210316,        A20,      20,          1,          4,          4,2,20210325,       1224,    39.0826,   -52.2321,       5335,  4892.6,   2.3066,  34.8855,2,  34.8851,2,    263.0,2,   264.1,2,   33.70,2,   19.09,2,    0.00,2,    1.28,2,-999.000,9,-999.000,9, -999.00,9,  2181.6,2,  2327.5,2,   -999.0,9,  -999.00,   7.72365,2,    25.02, -999.00,9, -999.00,9, -999.00,-999.000,9, -999.00,9, -999.00,9,     -999.0,9, 20210325,     1240,  39.0729, -52.2823,     2.3066,2,     0.0427,1,     4.6827,1,     -999.0,9,     -999.0,9,     -999.0,9,     -999.0,9
325020210316,        A20,      20,          1,          3,          3,2,20210325,       1224,    39.0826,   -52.2321,       5335,  5304.3,   2.3089,  34.8795,2,  34.8792,2,    261.1,2,   261.9,2,   37.61,2,   19.72,2,    0.00,2,    1.33,2,   0.881,2,   0.460,2,    0.25,3,  2187.5,2, 2332.91,2,   -999.0,9,  -999.00,   7.72405,2,    25.02, -999.00,9, -999.00,9, -999.00,-999.000,9, -999.00,9, -999.00,9,      14.01,2, 20210325,     1230,  39.0730, -52.2838,     2.3084,2,     0.0429,1,     4.5896,1,     -999.0,9,     -999.0,9,     -999.0,9,     -999.0,9