BOTTLE,20230512CCHSIOCBG
EXPOCODE,SECT_ID,STNNBR,CASTNO,SAMPNO,BTLNBR,BTLNBR_FLAG_W,DATE,TIME,LATITUDE,LONGITUDE,DEPTH,CTDPRS,CTDTMP,CTDSAL,CTDSAL_FLAG_W,SALNTY,SALNTY_FLAG_W,CTDOXY,CTDOXY_FLAG_W,OXYGEN,OXYGEN_FLAG_W,SILCAT,SILCAT_FLAG_W,NITRAT,NITRAT_FLAG_W,NITRIT,NITRIT_FLAG_W,PHSPHT,PHSPHT_FLAG_W,CFC-11,CFC-11_FLAG_W,CFC-12,CFC-12_FLAG_W,SF6,SF6_FLAG_W,TCARBN,TCARBN_FLAG_W,ALKALI,ALKALI_FLAG_W,FCO2,FCO2_FLAG_W,FCO2TMP,PH_TOT,PH_TOT_FLAG_W,PH_TMP,DELC13,DELC13_FLAG_W,DELC14,DELC14_FLAG_W,C14ERR,POC,POC_FLAG_W,DOC,DOC_FLAG_W,TDN,TDN_FLAG_W,N2O,N2O_FLAG_W,BTL_DATE,BTL_TIME,BTL_LAT,BTL_LON,REFTMP,REFTMP_FLAG_W,CTDFLUOR,CTDFLUOR_FLAG_W,CTDXMISS,CTDXMISS_FLAG_W,D15N_NO2+NO3,D15N_NO2+NO3_FLAG_W,D18O_NO2+NO3,D18O_NO2+NO3_FLAG_W,HPLC,HPLC_FLAG_W,MICROGELS,MICROGELS_FLAG_W
,,,,,,,,,,,METERS,DBAR,ITS-90,PSS-78,,PSS-78,,UMOL/KG,,UMOL/KG,,UMOL/KG,,UMOL/KG,,UMOL/KG,,UMOL/KG,,PMOL/KG,,PMOL/KG,,FMOL/KG,,UMOL/KG,,UMOL/KG,,UATM,,DEG C,,,DEG C,/MILLE,,/MILLE,,/MILLE,UG/KG,,UMOL/KG,,UMOL/KG,,NMOL/KG,,,,,,ITS-90,,VOLTS,,VOLTS,,/MILLE,,/MILLE,,,,1E6 GELS/L,
325020210316,        A20,      83,          1,         33,         33,2,20210412,       0818,     7.4538,   -53.0508,        769,     3.8,  28.4365,  20.1909,2,  21.7952,3,    236.5,3,   218.8,2,   21.79,2,    0.00,2,    0.00,2,    0.00,2,-999.000,9,-999.000,9, -999.00,9,  1301.5,6, 1538.55,2,   -999.0,9,  -999.00,   8.28953,2,    25.00, -999.00,9, -999.00,9, -999.00,-999.000,9,  129.95,2,    5.68,2,     -999.0,9, 20210412,      910,   7.4538, -53.0508,    28.4491,2,     0.0999,1,     4.4351,1,     -999.0,9,     -999.0,9,     -999.0,9,     -999.0,9
325020210316,        A20,      83,          1,         32,         32,2,20210412,       0818,     7.4538,   -53.0508,        769,    20.4,  27.7934,  36.1948,2,  36.1830,2,    197.3,2,   196.9,2,    0.88,2,    0.00,2,    0.00,2,    0.02,2,-999.000,9,-999.000,9, -999.00,9,  2047.8,2, -999.00,9,   -999.0,9,  -999.00,   8.07615,6,    25.00, -999.00,9, -999.00,9, -999.00,-999.000,9,   71.37,2,    3.88,2,     -999.0,9, 20210412,      909,   7.4538, -53.0508,    27.7963,2,     0.0717,1,     4.6116,1,     -999.0,9,     -999.0,9,     -999.0,9,     -999.0,9
325020210316,        A20,      83,          1,         31,         31,2,20210412,       0818,     7.4538,   -53.0508,        769,    34.8,  27.7233,  36.2287,2,  36.2271,2,    196.5,2,   196.1,2,    0.58,2,    0.00,2,    0.00,2,    0.02,2,-999.000,9,-999.000,9, -999.00,9,  2050.3,2, -999.00,9,   -999.0,9,  -999.00,   8.07663,2,    25.03, -999.00,9, -999.00,9, -999.00,-999.000,9,   69.48,2,    3.95,2,     -999.0,9, 20210412,      907,   7.4538, -53.0509,    27.7224,2,     0.0714,1,     4.6279,1,     -999.0,9,     -999.0,9,     -999.0,9,     -999.0,9
325020210316,        A20,      83,          1,         30,         30,2,20210412,       0818,     7.4538,   -53.0508,        769,    50.3,  27.7240,  36.2431,2,  36.2404,2,    195.7,2,   195.7,2,    0.88,2,    0.00,2,    0.00,2,    0.02,2,-999.000,9,-999.000,9, -999.00,9,  -999.0,9, -999.00,9,   -999.0,9,  -999.00,-999.00000,9,  -999.00, -999.00,9, -999.00,9, -999.00,-999.000,9,   69.31,2,    4.59,2,     -999.0,9, 20210412,      906,   7.4538, -53.0509,    27.7232,2,     0.0673,1,     4.6390,1,     -999.0,9,     -999.0,9,     -999.0,9,     -999.0,9
325020210316,        A20,      83,          1,         29,         29,2,20210412,       0818,     7.4538,   -53.0508,        769,    65.5,  27.7250,  36.2494,2,  36.2489,2,    195.5,2,   195.7,2,    0.88,2,    0.00,2,    0.00,2,    0.02,2,-999.000,9,-999.000,9, -999.00,9,  2054.2,2, -999.00,9,   -999.0,9,  -999.00,   8.07415,2,    25.00, -999.00,9, -999.00,9, -999.00,-999.000,9, -999.00,9, -999.00,9,     -999.0,9, 20210412,      904,   7.4538, -53.0508,    27.7250,2,     0.0665,1,     4.6405,1,     -999.0,9,     -999.0,9,     -999.0,9,     -999.0,9
325020210316,        A20,      83,          1,         28,         28,2,20210412,       0818,     7.4538,   -53.0508,        769,    80.4,  27.6606,  36.2298,2,  36.2283,2,    196.0,2,   195.6,2,    0.97,2,    0.00,2,    0.00,2,    0.02,2,-999.000,9,-999.000,9, -999.00,9,  -999.0,9, -999.00,9,   -999.0,9,  -999.00,-999.00000,9,  -999.00, -999.00,9, -999.00,9, -999.00,-999.000,9,   67.84,2,    4.56,2,     -999.0,9, 20210412,      903,   7.4538, -53.0508,    27.6606,2,     0.0605,1,     4.6513,1,     -999.0,9,     -999.0,9,     -999.0,9,     -999.0,9
325020210316,        A20,      83,          1,         27,         27,2,20210412,       0818,     7.4538,   -53.0508,        769,    95.3,  27.6511,  36.2301,2,  36.2297,2,    194.2,2,   194.7,2,    0.97,2,    0.00,2,    0.00,2,    0.02,2,-999.000,9,-999.000,9, -999.00,9,  2053.1,2, 2371.12,2,   -999.0,9,  -999.00,   8.07382,2,    25.01, -999.00,9, -999.00,9, -999.00,-999.000,9, -999.00,9, -999.00,9,     -999.0,9, 20210412,      901,   7.4538, -53.0508,    27.6543,2,     0.0585,1,     4.6540,1,     -999.0,9,     -999.0,9,     -999.0,9,     -999.0,9
325020210316,        A20,      83,          1,         26,         26,2,20210412,       0818,     7.4538,   -53.0508,        769,   109.9,  27.5374,  36.2771,2,  36.2703,2,    183.3,3,   190.5,2,    1.66,2,    0.18,2,    0.17,2,    0.05,2,-999.000,9,-999.000,9, -999.00,9,  -999.0,9, -999.00,9,   -999.0,9,  -999.00,-999.00000,9,  -999.00, -999.00,9, -999.00,9, -999.00,-999.000,9,   67.30,2,    4.46,2,     -999.0,9, 20210412,      900,   7.4538, -53.0508,    27.5165,2,     0.0546,1,     4.6562,1,     -999.0,9,     -999.0,9,     -999.0,9,     -999.0,9
325020210316,        A20,      83,          1,         25,         25,2,20210412,       0818,     7.4538,   -53.0508,        769,   125.5,  24.8215,  36.4568,2,  36.4638,2,    169.8,2,   170.2,2,    2.53,2,    3.03,2,    0.05,2,    0.24,2,-999.000,9,-999.000,9, -999.00,9,  2109.9,2, -999.00,9,   -999.0,9,  -999.00,   7.99692,2,    25.00, -999.00,9, -999.00,9, -999.00,-999.000,9,   63.12,2,    6.85,2,     -999.0,9, 20210412,      858,   7.4538, -53.0508,    24.8044,2,     0.0579,1,     4.6546,1,     -999.0,9,     -999.0,9,     -999.0,9,     -999.0,9
325020210316,        A20,      83,          1,         24,         24,2,20210412,       0818,     7.4538,   -53.0508,        769,   140.2,  23.3020,  36.7376,2,  36.7141,3,    156.8,2,   157.4,2,    2.34,2,    4.66,2,    0.03,2,    0.27,2,-999.000,9,-999.000,9, -999.00,9,  2140.2,2, -999.00,9,   -999.0,9,  -999.00,   7.95924,2,    25.03, -999.00,9, -999.00,9, -999.00,-999.000,9, -999.00,9, -999.00,9,     -999.0,9, 20210412,      857,   7.4538, -53.0508,    23.2812,2,     0.0517,1,     4.6549,1,     -999.0,9,     -999.0,9,     -999.0,9,     -999.0,9
325020210316,        A20,      83,          1,         23,         23,2,20210412,       0818,     7.4538,   -53.0508,        769,   155.3,  20.1116,  36.4797,2,  36.4176,3,    133.6,3,   138.3,2,    3.41,2,    9.42,2,    0.01,2,    0.54,2,-999.000,9,-999.000,9, -999.00,9,  2170.8,2, -999.00,9,   -999.0,9,  -999.00,   7.86631,2,    25.04, -999.00,9, -999.00,9, -999.00,-999.000,9,   54.52,2,   13.37,2,     -999.0,9, 20210412,      855,   7.4538, -53.0508,    20.0444,2,     0.0454,1,     4.6627,1,     -999.0,9,     -999.0,9,     -999.0,9,     -999.0,9
325020210316,        A20,      83,          1,         22,         22,2,20210412,       0818,     7.4538,   -53.0508,        769,   171.2,  17.2634,  35.9635,2,  35.9659,2,    158.9,3,   151.6,2,    4.68,2,   11.76,2,    0.00,2,    0.77,2,-999.000,9,-999.000,9, -999.00,9,  -999.0,9, -999.00,9,   -999.0,9,  -999.00,-999.00000,9,  -999.00, -999.00,9, -999.00,9, -999.00,-999.000,9, -999.00,9, -999.00,9,     -999.0,9, 20210412,      853,   7.4538, -53.0508,    17.2694,2,     0.0449,1,     4.6643,1,     -999.0,9,     -999.0,9,     -999.0,9,     -999.0,9
325020210316,        A20,      83,          1,         21,         21,2,20210412,       0818,     7.4538,   -53.0508,        769,   185.4,  16.4499,  36.0370,2,  36.0505,2,    133.4,2,   133.6,2,    5.16,2,   14.30,2,    0.00,2,    0.84,2,-999.000,9,-999.000,9, -999.00,9,  2183.4,2,  2360.5,6,   -999.0,9,  -999.00,   7.79782,2,    25.02, -999.00,9, -999.00,9, -999.00,-999.000,9,   48.07,2,   16.15,2,     -999.0,9, 20210412,      852,   7.4538, -53.0508,    16.4575,2,     0.0424,1,     4.6564,1,     -999.0,9,     -999.0,9,     -999.0,9,     -999.0,9
325020210316,        A20,      83,          1,         20,         20,2,20210412,       0818,     7.4538,   -53.0508,        769,   201.1,  14.9865,  35.7682,2,  35.7398,3,    131.4,2,   131.2,2,    6.43,2,   17.30,2,    0.00,2,    1.04,2,-999.000,9,-999.000,9, -999.00,9,  2185.2,2, -999.00,9,   -999.0,9,  -999.00,-999.00000,9,  -999.00, -999.00,9, -999.00,9, -999.00,-999.000,9, -999.00,9, -999.00,9,     -999.0,9, 20210412,      850,   7.4538, -53.0508,    14.9830,2,     0.0423,1,     4.6704,1,     -999.0,9,     -999.0,9,     -999.0,9,     -999.0,9
325020210316,        A20,      83,          1,         19,         19,2,20210412,       0818,     7.4538,   -53.0508,        769,   215.8,  13.1925,  35.4426,2,  35.4563,2,    137.0,2,   136.0,2,    7.70,2,   18.97,2,    0.00,2,    1.18,2,-999.000,9,-999.000,9, -999.00,9,  2187.8,2, -999.00,9,   -999.0,9,  -999.00,-999.00000,9,  -999.00, -999.00,9, -999.00,9, -999.00,-999.000,9,   46.49,2,   21.71,2,     -999.0,9, 20210412,      849,   7.4538, -53.0508,    13.1979,2,     0.0418,1,     4.6740,1,     -999.0,9,     -999.0,9,     -999.0,9,     -999.0,9
325020210316,        A20,      83,          1,         18,         18,2,20210412,       0818,     7.4538,   -53.0508,        769,   241.6,  12.1352,  35.3052,2,  35.3041,2,    129.3,2,   128.8,2,    9.46,2,   21.81,2,    0.00,2,    1.36,2,-999.000,9,-999.000,9, -999.00,9,  2196.5,2, -999.00,9,   -999.0,9,  -999.00,-999.00000,9,  -999.00, -999.00,9, -999.00,9, -999.00,-999.000,9, -999.00,9, -999.00,9,     -999.0,9, 20210412,      847,   7.4538, -53.0508,    12.1362,2,     0.0411,1,     4.6735,1,     -999.0,9,     -999.0,9,     -999.0,9,     -999.0,9
325020210316,        A20,      83,          1,         17,         17,2,20210412,       0818,     7.4538,   -53.0508,        769,   262.4,  11.4088,  35.2121,2,  35.2186,2,    122.6,2,   122.3,2,   10.73,2,   23.80,2,    0.00,2,    1.48,2,-999.000,9,-999.000,9, -999.00,9,  2203.6,2, -999.00,9,   -999.0,9,  -999.00,    7.6507,2,    24.99, -999.00,9, -999.00,9, -999.00,-999.000,9,   47.19,2,   26.40,2,     -999.0,9, 20210412,      845,   7.4538, -53.0508,    11.4332,2,     0.0423,1,     4.6716,1,     -999.0,9,     -999.0,9,     -999.0,9,     -999.0,9
325020210316,        A20,      83,          1,         16,         16,2,20210412,       0818,     7.4538,   -53.0508,        769,   282.0,  10.7130,  35.1127,2,  35.1114,2,    122.2,2,   122.1,2,   11.90,2,   25.09,2,    0.00,2,    1.57,2,-999.000,9,-999.000,9, -999.00,9,  -999.0,9, -999.00,9,   -999.0,9,  -999.00,-999.00000,9,  -999.00, -999.00,9, -999.00,9, -999.00,-999.000,9, -999.00,9, -999.00,9,     -999.0,9, 20210412,      843,   7.4538, -53.0508,    10.7118,2,     0.0418,1,     4.6713,1,     -999.0,9,     -999.0,9,     -999.0,9,     -999.0,9
325020210316,        A20,      83,          1,         15,         15,2,20210412,       0818,     7.4538,   -53.0508,        769,   302.4,  10.1911,  35.0302,2,  35.0307,2,    124.9,2,   124.8,2,   12.58,2,   25.81,2,    0.00,2,    1.62,2,   1.988,2,   1.139,2,    0.69,2,  2205.6,2, -999.00,9,   -999.0,9,  -999.00,-999.00000,9,  -999.00, -999.00,9, -999.00,9, -999.00,-999.000,9,   45.59,2,   28.13,2,      25.83,2, 20210412,      842,   7.4538, -53.0508,    10.1949,2,     0.0420,1,     4.6699,1,     -999.0,9,     -999.0,9,     -999.0,9,     -999.0,9
325020210316,        A20,      83,          1,         14,         14,2,20210412,       0818,     7.4538,   -53.0508,        769,   322.4,   9.8193,  34.9736,2,  34.9738,2,    125.4,2,   125.3,2,   13.36,2,   26.48,2,    0.00,2,    1.67,2,-999.000,9,-999.000,9, -999.00,9,  -999.0,9, -999.00,9,   -999.0,9,  -999.00,-999.00000,9,  -999.00, -999.00,9, -999.00,9, -999.00,-999.000,9, -999.00,9, -999.00,9,     -999.0,9, 20210412,      839,   7.4538, -53.0508,     9.8199,2,     0.0425,1,     4.6687,1,     -999.0,9,     -999.0,9,     -999.0,9,     -999.0,9
325020210316,        A20,      83,          1,         13,         13,2,20210412,       0818,     7.4538,   -53.0508,        769,   347.4,   9.4705,  34.9257,2,  34.9250,2,    121.7,2,   121.3,2,   14.14,2,   27.70,2,    0.00,2,    1.75,2,   1.860,2,   1.039,2,    0.65,2,  2210.3,2, 2307.01,6,   -999.0,9,  -999.00,   7.59415,2,    25.07, -999.00,9, -999.00,9, -999.00,-999.000,9,   44.92,2,   29.66,2,      26.13,2, 20210412,      838,   7.4538, -53.0508,     9.4719,2,     0.0420,1,     4.6662,1,     -999.0,9,     -999.0,9,     -999.0,9,     -999.0,9
325020210316,        A20,      83,          1,         12,         12,2,20210412,       0818,     7.4538,   -53.0508,        769,   372.6,   8.9903,  34.8537,2,  34.8528,2,    127.0,2,   126.7,2,   14.92,2,   28.14,2,    0.00,2,    1.78,2,-999.000,9,-999.000,9, -999.00,9,  -999.0,9, -999.00,9,   -999.0,9,  -999.00,-999.00000,9,  -999.00, -999.00,9, -999.00,9, -999.00,-999.000,9,   45.72,2,   29.67,2,     -999.0,9, 20210412,      836,   7.4538, -53.0508,     8.9900,2,     0.0426,1,     4.6719,1,     -999.0,9,     -999.0,9,     -999.0,9,     -999.0,9
325020210316,        A20,      83,          1,         11,         11,2,20210412,       0818,     7.4538,   -53.0508,        769,   397.8,   8.8041,  34.8456,2,  34.8414,2,    122.9,2,   123.0,2,   15.61,2,   28.94,2,    0.00,2,    1.83,2,   1.729,2,   0.966,2,    0.52,2,  2213.5,2, -999.00,9,   -999.0,9,  -999.00,-999.00000,9,  -999.00, -999.00,9, -999.00,9, -999.00,-999.000,9,   44.61,2,   30.77,2,      26.01,2, 20210412,      835,   7.4538, -53.0508,     8.8058,2,     0.0421,1,     4.6679,1,     -999.0,9,     -999.0,9,     -999.0,9,     -999.0,9
325020210316,        A20,      83,          1,         10,         10,2,20210412,       0818,     7.4538,   -53.0508,        769,   422.7,   8.5461,  34.7992,2,  34.7964,2,    126.3,2,   126.8,2,   16.09,2,   29.07,2,    0.00,2,    1.85,2,-999.000,9,-999.000,9, -999.00,9,  -999.0,9, -999.00,9,   -999.0,9,  -999.00,-999.00000,9,  -999.00, -999.00,9, -999.00,9, -999.00,-999.000,9,   43.42,2,   31.09,2,     -999.0,9, 20210412,      833,   7.4538, -53.0508,     8.5383,2,     0.0420,1,     4.6709,1,     -999.0,9,     -999.0,9,     -999.0,9,     -999.0,9
325020210316,        A20,      83,          1,          9,          9,2,20210412,       0818,     7.4538,   -53.0508,        769,   448.2,   8.1712,  34.7386,2,  34.7414,2,    129.7,2,   130.5,2,   16.78,2,   29.55,2,    0.00,2,    1.88,2,-999.000,5,-999.000,5, -999.00,5,  2212.2,2, -999.00,9,   -999.0,9,  -999.00,   7.57338,2,    25.00, -999.00,9, -999.00,9, -999.00,-999.000,9,   43.98,2,   32.22,2,     -999.0,5, 20210412,      831,   7.4538, -53.0508,     8.1793,2,     0.0430,1,     4.6730,1,     -999.0,9,     -999.0,9,     -999.0,9,     -999.0,9
325020210316,        A20,      83,          1,          8,          8,2,20210412,       0818,     7.4538,   -53.0508,        769,   474.2,   8.0222,  34.7310,2,  34.7321,2,    127.9,2,   128.4,2,   17.36,2,   30.10,2,    0.00,2,    1.92,2,-999.000,9,-999.000,9, -999.00,9,  -999.0,9, -999.00,9,   -999.0,9,  -999.00,-999.00000,9,  -999.00, -999.00,9, -999.00,9, -999.00,-999.000,9,   44.15,2,   32.95,2,     -999.0,9, 20210412,      830,   7.4538, -53.0508,     8.0230,2,     0.0423,1,     4.6737,1,     -999.0,9,     -999.0,9,     -999.0,9,     -999.0,9
325020210316,        A20,      83,          1,          7,          7,2,20210412,       0818,     7.4538,   -53.0508,        769,   507.7,   7.7182,  34.7094,2,  34.7081,2,    116.9,2,   117.5,2,   18.63,2,   32.06,2,    0.00,2,    2.03,2,   1.330,2,   0.728,2,    0.36,2,  2221.2,2, 2297.43,2,   -999.0,9,  -999.00,    7.5367,2,    25.01, -999.00,9, -999.00,9, -999.00,-999.000,9,   43.89,2,   33.94,2,      27.00,2, 20210412,      828,   7.4538, -53.0508,     7.7198,2,     0.0430,1,     4.6749,1,     -999.0,9,     -999.0,9,     -999.0,9,     -999.0,9
325020210316,        A20,      83,          1,          6,          6,2,20210412,       0818,     7.4538,   -53.0508,        769,   544.3,   7.4861,  34.6986,2,  34.6987,2,    113.1,2,   112.2,2,   19.51,2,   33.07,2,    0.00,2,    2.10,2,-999.000,9,-999.000,9, -999.00,9,  -999.0,9, -999.00,9,   -999.0,9,  -999.00,-999.00000,9,  -999.00, -999.00,9, -999.00,9, -999.00,-999.000,9,   43.55,2,   34.84,2,     -999.0,9, 20210412,      826,   7.4538, -53.0509,     7.4897,2,     0.0429,1,     4.6775,1,     -999.0,9,     -999.0,9,     -999.0,9,     -999.0,9
325020210316,        A20,      83,          1,          5,          5,2,20210412,       0818,     7.4538,   -53.0508,        769,   600.7,   6.8665,  34.6648,2,  34.6631,2,    115.0,2,   114.0,2,   21.85,2,   34.13,2,    0.00,2,    2.19,2,   0.828,2,   0.444,2,    0.27,2,  2229.1,2, -999.00,9,   -999.0,9,  -999.00,   7.51449,2,    25.06, -999.00,9, -999.00,9, -999.00,-999.000,9,   43.31,2,   36.21,2,      26.40,2, 20210412,      824,   7.4538, -53.0508,     6.8656,2,     0.0431,1,     4.6801,1,     -999.0,9,     -999.0,9,     -999.0,9,     -999.0,9
325020210316,        A20,      83,          1,          4,          4,2,20210412,       0818,     7.4538,   -53.0508,        769,   649.6,   6.1864,  34.5946,2,  34.5940,2,    125.4,2,   125.7,2,   24.19,2,   34.27,2,    0.00,2,    2.22,2,-999.000,9,-999.000,9, -999.00,9,  -999.0,9, -999.00,9,   -999.0,9,  -999.00,-999.00000,9,  -999.00, -999.00,9, -999.00,9, -999.00,-999.000,9,   41.67,2,   36.29,2,     -999.0,9, 20210412,      822,   7.4538, -53.0508,     6.1864,2,     0.0423,1,     4.6813,1,     -999.0,9,     -999.0,9,     -999.0,9,     -999.0,9
325020210316,        A20,      83,          1,          3,          3,2,20210412,       0818,     7.4538,   -53.0508,        769,   703.5,   5.7909,  34.6004,2,  34.5997,2,    127.7,2,   128.1,2,   26.14,2,   34.54,2,    0.00,2,    2.25,2,   0.489,2,   0.267,2,    0.15,2,  2225.5,2, -999.00,9,   -999.0,9,  -999.00,-999.00000,9,  -999.00, -999.00,9, -999.00,9, -999.00,-999.000,9,   42.60,2,   36.94,2,      25.24,2, 20210412,      820,   7.4538, -53.0508,     -999.0,9,     0.0430,1,     4.6817,1,     -999.0,9,     -999.0,9,     -999.0,9,     -999.0,9
325020210316,        A20,      83,          1,          2,          2,2,20210412,       0818,     7.4538,   -53.0508,        769,   703.8,   5.7909,  34.6005,2,  34.5993,2,    127.6,2,   127.9,2,   26.14,2,   34.59,2,    0.00,2,    2.26,2,-999.000,9,-999.000,9, -999.00,9,  -999.0,9, -999.00,9,   -999.0,9,  -999.00,-999.00000,9,  -999.00, -999.00,9, -999.00,9, -999.00,-999.000,9, -999.00,9, -999.00,9,     -999.0,9, 20210412,      820,   7.4538, -53.0508,     5.7880,2,     0.0424,1,     4.6816,1,     -999.0,9,     -999.0,9,     -999.0,9,     -999.0,9
325020210316,        A20,      83,          1,          1,          1,2,20210412,       0818,     7.4538,   -53.0508,        769,   763.8,   5.4245,  34.6018,2,  34.5961,2,    133.7,2,  -999.0,5,   27.61,2,   34.19,2,    0.00,2,    2.25,2,   0.455,2,   0.251,2,    0.14,2,  2225.7,6, 2299.87,2,   -999.0,9,  -999.00,   7.53107,6,    24.95, -999.00,9, -999.00,9, -999.00,-999.000,9,   42.90,2,   36.70,2,      25.62,2, 20210412,      818,   7.4538, -53.0508,     5.4230,2,     0.0419,1,     4.4811,1,     -999.0,9,     -999.0,9,     -999.0,9,     -999.0,9