BOTTLE,20230512CCHSIOCBG
EXPOCODE,SECT_ID,STNNBR,CASTNO,SAMPNO,BTLNBR,BTLNBR_FLAG_W,DATE,TIME,LATITUDE,LONGITUDE,DEPTH,CTDPRS,CTDTMP,CTDSAL,CTDSAL_FLAG_W,SALNTY,SALNTY_FLAG_W,CTDOXY,CTDOXY_FLAG_W,OXYGEN,OXYGEN_FLAG_W,SILCAT,SILCAT_FLAG_W,NITRAT,NITRAT_FLAG_W,NITRIT,NITRIT_FLAG_W,PHSPHT,PHSPHT_FLAG_W,CFC-11,CFC-11_FLAG_W,CFC-12,CFC-12_FLAG_W,SF6,SF6_FLAG_W,TCARBN,TCARBN_FLAG_W,ALKALI,ALKALI_FLAG_W,FCO2,FCO2_FLAG_W,FCO2TMP,PH_TOT,PH_TOT_FLAG_W,PH_TMP,DELC13,DELC13_FLAG_W,DELC14,DELC14_FLAG_W,C14ERR,POC,POC_FLAG_W,DOC,DOC_FLAG_W,TDN,TDN_FLAG_W,N2O,N2O_FLAG_W,BTL_DATE,BTL_TIME,BTL_LAT,BTL_LON,REFTMP,REFTMP_FLAG_W,CTDFLUOR,CTDFLUOR_FLAG_W,CTDXMISS,CTDXMISS_FLAG_W,D15N_NO2+NO3,D15N_NO2+NO3_FLAG_W,D18O_NO2+NO3,D18O_NO2+NO3_FLAG_W,HPLC,HPLC_FLAG_W,MICROGELS,MICROGELS_FLAG_W
,,,,,,,,,,,METERS,DBAR,ITS-90,PSS-78,,PSS-78,,UMOL/KG,,UMOL/KG,,UMOL/KG,,UMOL/KG,,UMOL/KG,,UMOL/KG,,PMOL/KG,,PMOL/KG,,FMOL/KG,,UMOL/KG,,UMOL/KG,,UATM,,DEG C,,,DEG C,/MILLE,,/MILLE,,/MILLE,UG/KG,,UMOL/KG,,UMOL/KG,,NMOL/KG,,,,,,ITS-90,,VOLTS,,VOLTS,,/MILLE,,/MILLE,,,,1E6 GELS/L,
325020210316,        A20,      13,          1,         36,         36,2,20210323,       1024,    41.6743,   -51.8862,       4344,     4.9,  14.7703,  35.8007,2,  35.8050,2,     58.8,3,   235.8,2,    2.93,2,    5.99,2,    0.16,2,    0.38,2,-999.000,9,-999.000,9, -999.00,9,  2120.8,6, 2353.74,2,   -999.0,9,  -999.00,   7.91013,2,    25.00, -999.00,9, -999.00,9, -999.00,-999.000,9,   60.24,2,    9.45,2,     -999.0,9, 20210323,     1240,  41.6743, -51.8862,    14.7711,2,     0.0774,1,     4.6308,1,     -999.0,9,     -999.0,9,     -999.0,9,     -999.0,1
325020210316,        A20,      13,          1,         35,         35,2,20210323,       1024,    41.6743,   -51.8862,       4344,    19.2,  14.7529,  35.7972,2,  35.8017,2,     58.9,3,   235.6,2,    3.03,2,    6.02,2,    0.16,2,    0.38,2,-999.000,9,-999.000,9, -999.00,9,  2121.7,2, 2353.22,6,   -999.0,9,  -999.00,   7.90437,2,    25.00, -999.00,9, -999.00,9, -999.00,-999.000,9,   57.86,2,    8.77,2,     -999.0,9, 20210323,     1239,  41.6743, -51.8862,    14.7524,2,     0.0846,1,     4.6330,1,     -999.0,9,     -999.0,9,     -999.0,9,     -999.0,1
325020210316,        A20,      13,          1,         34,         34,2,20210323,       1024,    41.6743,   -51.8862,       4344,    40.9,  14.7003,  35.7830,2,  35.7884,2,     59.1,3,   235.0,2,    3.03,2,    6.12,2,    0.16,2,    0.39,2,-999.000,9,-999.000,9, -999.00,9,  2120.7,2, 2352.38,2,   -999.0,9,  -999.00,   7.90853,6,    24.99, -999.00,9, -999.00,9, -999.00,-999.000,9, -999.00,9, -999.00,9,     -999.0,9, 20210323,     1236,  41.6743, -51.8862,    14.7039,2,     0.0769,1,     4.6398,1,     -999.0,9,     -999.0,9,     -999.0,9,     -999.0,1
325020210316,        A20,      13,          1,         33,         33,2,20210323,       1024,    41.6743,   -51.8862,       4344,    65.7,  14.6836,  35.7791,2,  35.7833,2,    261.6,3,   234.6,2,    3.03,2,    6.15,2,    0.16,2,    0.39,2,-999.000,9,-999.000,9, -999.00,9,  2119.9,2, 2353.81,2,   -999.0,9,  -999.00,    7.9075,2,    25.00, -999.00,9, -999.00,9, -999.00,-999.000,9,   58.08,2,    9.06,2,     -999.0,9, 20210323,     1234,  41.6743, -51.8861,    14.6821,2,     0.0783,1,     4.6458,1,     -999.0,9,     -999.0,9,     -999.0,9,     -999.0,1
325020210316,        A20,      13,          1,         32,         32,2,20210323,       1024,    41.6743,   -51.8862,       4344,    90.1,  14.6789,  35.7782,2,  35.7821,2,    224.9,3,   234.4,2,    2.93,2,    6.20,2,    0.16,2,    0.40,2,-999.000,9,-999.000,9, -999.00,9,  2121.2,2, 2352.74,2,   -999.0,9,  -999.00,   7.90781,2,    24.98, -999.00,9, -999.00,9, -999.00,-999.000,9, -999.00,9, -999.00,9,     -999.0,9, 20210323,     1231,  41.6743, -51.8862,    14.6826,2,     0.0760,1,     4.6485,1,     -999.0,9,     -999.0,9,     -999.0,9,     -999.0,1
325020210316,        A20,      13,          1,         31,         31,2,20210323,       1024,    41.6743,   -51.8862,       4344,   136.0,  14.6933,  35.7785,2,  35.7833,2,    238.7,3,   234.5,2,    2.93,2,    6.20,2,    0.16,2,    0.40,2,-999.000,9,-999.000,9, -999.00,9,  2121.1,2, 2352.81,2,   -999.0,9,  -999.00,   7.90806,2,    24.98, -999.00,9, -999.00,9, -999.00,-999.000,9,   58.83,2,   10.09,2,     -999.0,9, 20210323,     1229,  41.6743, -51.8862,    14.6928,2,     0.0753,1,     4.6510,1,     -999.0,9,     -999.0,9,     -999.0,9,     -999.0,1
325020210316,        A20,      13,          1,         30,         30,2,20210323,       1024,    41.6743,   -51.8862,       4344,   186.7,  14.7056,  35.7800,2,  35.7855,2,    223.8,3,   234.6,2,    2.93,2,    6.19,2,    0.17,2,    0.39,2,-999.000,9,-999.000,9, -999.00,9,  2119.0,2, 2351.66,2,   -999.0,9,  -999.00,   7.90779,2,    25.02, -999.00,9, -999.00,9, -999.00,-999.000,9, -999.00,9, -999.00,9,     -999.0,9, 20210323,     1226,  41.6743, -51.8862,    14.7041,2,     0.0753,1,     4.6506,1,     -999.0,9,     -999.0,9,     -999.0,9,     -999.0,1
325020210316,        A20,      13,          1,         29,         29,2,20210323,       1024,    41.6743,   -51.8862,       4344,   237.6,  14.6630,  35.7768,2,  35.7793,2,    223.5,2,   223.6,2,    3.32,2,    7.36,2,    0.13,2,    0.45,2,   2.283,2,   1.438,2,    2.41,3,  2127.6,2, 2350.89,2,   -999.0,9,  -999.00,   7.89294,2,    24.99, -999.00,9, -999.00,9, -999.00,-999.000,9,   57.26,2,    9.85,2,      11.04,2, 20210323,     1224,  41.6743, -51.8862,    14.6595,2,     0.0790,1,     4.6596,1,     -999.0,9,     -999.0,9,     -999.0,9,     -999.0,1
325020210316,        A20,      13,          1,         28,         28,2,20210323,       1024,    41.6743,   -51.8862,       4344,   286.7,  13.5416,  35.7156,2,  35.7173,2,    156.8,3,   154.0,2,    7.13,2,   16.32,2,    0.00,2,    0.97,2,-999.000,9,-999.000,9, -999.00,9,  2171.5,2, 2344.67,2,   -999.0,9,  -999.00,   7.78023,2,    24.99, -999.00,9, -999.00,9, -999.00,-999.000,9, -999.00,9, -999.00,9,     -999.0,9, 20210323,     1221,  41.6743, -51.8862,    13.5399,2,     0.0413,1,     4.6995,1,     -999.0,9,     -999.0,9,     -999.0,9,     -999.0,1
325020210316,        A20,      13,          1,         27,         27,2,20210323,       1024,    41.6743,   -51.8862,       4344,   338.2,  11.9539,  35.5257,2,  35.5287,2,    140.2,2,   140.2,2,    9.96,2,   20.30,2,    0.00,2,    1.23,2,-999.000,9,-999.000,9, -999.00,9,  2186.7,2, 2335.44,2,   -999.0,9,  -999.00,    7.7241,2,    24.99, -999.00,9, -999.00,9, -999.00,-999.000,9,   48.02,2,   21.60,2,     -999.0,9, 20210323,     1219,  41.6743, -51.8862,    11.9560,2,     0.0418,1,     4.7028,1,     -999.0,9,     -999.0,9,     -999.0,9,     -999.0,1
325020210316,        A20,      13,          1,         26,         26,2,20210323,       1024,    41.6743,   -51.8862,       4344,   389.3,  10.6387,  35.3616,2,  35.3636,2,    139.5,2,   138.3,2,   12.11,2,   22.48,2,    0.00,2,    1.40,2,   1.551,2,   0.897,2,    0.52,3,  2193.1,2, 2326.39,2,   -999.0,9,  -999.00,   7.68999,2,    24.99, -999.00,9, -999.00,9, -999.00,-999.000,9, -999.00,9, -999.00,9,      21.14,2, 20210323,     1216,  41.6743, -51.8862,    10.6440,2,     0.0420,1,     4.7045,1,     -999.0,9,     -999.0,9,     -999.0,9,     -999.0,1
325020210316,        A20,      13,          1,         25,         25,2,20210323,       1024,    41.6743,   -51.8862,       4344,   438.1,   9.5315,  35.2442,2,  35.2456,2,    143.3,2,   142.4,2,   13.58,2,   23.51,2,    0.00,2,    1.49,2,-999.000,9,-999.000,9, -999.00,9,  2196.7,2,  2323.8,2,   -999.0,9,  -999.00,   7.67004,2,    25.01, -999.00,9, -999.00,9, -999.00,-999.000,9,   46.48,2,   25.78,2,     -999.0,9, 20210323,     1214,  41.6743, -51.8862,     9.5250,2,     0.0413,1,     4.7062,1,     -999.0,9,     -999.0,9,     -999.0,9,     -999.0,1
325020210316,        A20,      13,          1,         24,         24,2,20210323,       1024,    41.6743,   -51.8862,       4344,   489.8,   8.5917,  35.1700,2,  35.1707,2,    152.2,2,   153.2,2,   14.26,2,   23.53,2,    0.00,2,    1.51,2,-999.000,9,-999.000,9, -999.00,9,  2196.6,2, 2319.72,2,   -999.0,9,  -999.00,   7.66226,6,    25.00, -999.00,9, -999.00,9, -999.00,-999.000,9, -999.00,9, -999.00,9,     -999.0,9, 20210323,     1212,  41.6743, -51.8861,     8.5742,2,     0.0429,1,     4.7080,1,     -999.0,9,     -999.0,9,     -999.0,9,     -999.0,1
325020210316,        A20,      13,          1,         23,         23,2,20210323,       1024,    41.6743,   -51.8862,       4344,   569.8,   7.3821,  35.1145,2,  35.1165,2,    175.7,2,   175.8,2,   13.87,2,   22.40,2,    0.00,2,    1.45,2,-999.000,9,-999.000,9, -999.00,9,  2189.9,2, 2316.12,2,   -999.0,9,  -999.00,    7.6696,2,    24.99, -999.00,9, -999.00,9, -999.00,-999.000,9,   46.59,2,   23.55,2,     -999.0,9, 20210323,     1210,  41.6743, -51.8862,     7.3812,2,     0.0415,1,     4.7097,1,     -999.0,9,     -999.0,9,     -999.0,9,     -999.0,1
325020210316,        A20,      13,          1,         22,         22,2,20210323,       1024,    41.6743,   -51.8862,       4344,   671.5,   6.2461,  35.0940,2,  35.0876,2,    206.2,2,   207.3,2,   12.99,2,   20.29,2,    0.00,2,    1.33,2,-999.000,9,-999.000,9, -999.00,9,  2183.4,2, 2314.83,2,   -999.0,9,  -999.00,   7.68652,2,    24.99, -999.00,9, -999.00,9, -999.00,-999.000,9, -999.00,9, -999.00,9,     -999.0,9, 20210323,     1206,  41.6743, -51.8862,     6.2583,2,     0.0419,1,     4.7114,1,     -999.0,9,     -999.0,9,     -999.0,9,     -999.0,1
325020210316,        A20,      13,          1,         21,         21,2,20210323,       1024,    41.6743,   -51.8862,       4344,   772.3,   5.6056,  35.0735,2,  35.0728,2,    224.7,2,   225.5,2,   12.21,2,   19.15,2,    0.00,2,    1.26,2,-999.000,9,-999.000,9, -999.00,9,  2179.2,2, 2317.04,2,   -999.0,9,  -999.00,   7.69663,2,    25.00, -999.00,9, -999.00,9, -999.00,-999.000,9,   46.65,2,   20.74,2,     -999.0,9, 20210323,     1203,  41.6743, -51.8862,     5.6048,2,     0.0422,1,     4.7118,1,     -999.0,9,     -999.0,9,     -999.0,9,     -999.0,1
325020210316,        A20,      13,          1,         20,         20,2,20210323,       1024,    41.6743,   -51.8862,       4344,   874.3,   5.2272,  35.0578,2,  35.0577,2,    236.8,2,   236.9,2,   12.01,2,   18.48,2,    0.00,2,    1.22,2,   2.561,2,   1.415,2,    0.96,3,  2175.5,2, 2312.92,2,   -999.0,9,  -999.00,   7.70184,2,    25.01, -999.00,9, -999.00,9, -999.00,-999.000,9, -999.00,9, -999.00,9,      15.24,2, 20210323,     1159,  41.6743, -51.8862,     5.2263,2,     0.0422,1,     4.7122,1,     -999.0,9,     -999.0,9,     -999.0,9,     -999.0,1
325020210316,        A20,      13,          1,         19,         19,2,20210323,       1024,    41.6743,   -51.8862,       4344,   974.4,   4.9485,  35.0373,2,  35.0370,2,    244.6,2,   244.0,2,   11.82,2,   18.19,2,    0.00,2,    1.20,2,-999.000,9,-999.000,9, -999.00,9,  2173.8,2, 2312.06,2,   -999.0,9,  -999.00,   7.70483,2,    25.00, -999.00,9, -999.00,9, -999.00,-999.000,9,   47.74,2,   20.02,2,     -999.0,9, 20210323,     1155,  41.6743, -51.8861,     4.9487,2,     0.0415,1,     4.7119,1,     -999.0,9,     -999.0,9,     -999.0,9,     -999.0,1
325020210316,        A20,      13,          1,         18,         18,2,20210323,       1024,    41.6743,   -51.8862,       4344,  1075.7,   4.7585,  35.0287,2,  35.0279,2,    250.1,2,   249.3,2,   11.62,2,   17.89,2,    0.00,2,    1.19,2,-999.000,9,-999.000,9, -999.00,9,  2171.4,2, 2309.65,2,   -999.0,9,  -999.00,   7.70772,6,    25.00, -999.00,9, -999.00,9, -999.00,-999.000,9, -999.00,9, -999.00,9,     -999.0,9, 20210323,     1152,  41.6743, -51.8861,     4.7592,2,     0.0421,1,     4.7131,1,     -999.0,9,     -999.0,9,     -999.0,9,     -999.0,1
325020210316,        A20,      13,          1,         17,         17,2,20210323,       1024,    41.6743,   -51.8862,       4344,  1177.3,   4.5690,  35.0133,2,  35.0138,2,    255.1,2,   253.2,2,   11.62,2,   17.77,2,    0.00,2,    1.18,2,-999.000,9,-999.000,9, -999.00,9,  -999.0,9, -999.00,9,   -999.0,9,  -999.00,-999.00000,9,  -999.00, -999.00,9, -999.00,9, -999.00,-999.000,9,   46.64,2,   20.32,2,     -999.0,9, 20210323,     1147,  41.6743, -51.8862,     4.5693,2,     0.0423,1,     4.7129,1,     -999.0,9,     -999.0,9,     -999.0,9,     -999.0,1
325020210316,        A20,      13,          1,         16,         16,2,20210323,       1024,    41.6743,   -51.8862,       4344,  1279.2,   4.3459,  34.9904,2,  34.9929,2,    260.0,2,   257.9,2,   11.62,2,   17.69,2,    0.00,2,    1.17,2,-999.000,9,-999.000,9, -999.00,9,  -999.0,9, -999.00,9,   -999.0,9,  -999.00,-999.00000,9,  -999.00, -999.00,9, -999.00,9, -999.00,-999.000,9, -999.00,9, -999.00,9,     -999.0,9, 20210323,     1145,  41.6743, -51.8862,     4.3466,2,     0.0417,1,     4.7122,1,     -999.0,9,     -999.0,9,     -999.0,9,     -999.0,1
325020210316,        A20,      13,          1,         15,         15,2,20210323,       1024,    41.6743,   -51.8862,       4344,  1380.4,   4.1232,  34.9677,2,  34.9669,2,    265.2,2,   264.4,2,   11.33,2,   17.46,2,    0.00,2,    1.15,2,   3.049,2,   1.654,2,    1.03,3,  2168.6,2, 2306.82,2,   -999.0,9,  -999.00,   7.70916,2,    25.00, -999.00,9, -999.00,9, -999.00,-999.000,9,   47.17,2,   19.50,2,      14.23,2, 20210323,     1141,  41.6743, -51.8862,     4.1233,2,     0.0420,1,     4.7115,1,     -999.0,9,     -999.0,9,     -999.0,9,     -999.0,1
325020210316,        A20,      13,          1,         14,         14,2,20210323,       1024,    41.6743,   -51.8862,       4344,  1481.8,   4.0561,  34.9692,2,  34.9691,2,    264.6,2,   263.9,2,   11.82,2,   17.53,2,    0.00,2,    1.16,2,-999.000,9,-999.000,9, -999.00,9,  -999.0,9, -999.00,9,   -999.0,9,  -999.00,-999.00000,9,  -999.00, -999.00,9, -999.00,9, -999.00,-999.000,9, -999.00,9, -999.00,9,     -999.0,9, 20210323,     1138,  41.6743, -51.8862,     4.0552,2,     0.0423,1,     4.6962,1,     -999.0,9,     -999.0,9,     -999.0,9,     -999.0,1
325020210316,        A20,      13,          1,         13,         13,2,20210323,       1024,    41.6743,   -51.8862,       4344,  1583.7,   3.9705,  34.9664,2,  34.9658,2,    265.2,2,   264.2,2,   12.21,2,   17.53,2,    0.00,2,    1.16,2,-999.000,9,-999.000,9, -999.00,9,  -999.0,9, -999.00,9,   -999.0,9,  -999.00,-999.00000,9,  -999.00, -999.00,9, -999.00,9, -999.00,-999.000,9,   46.87,2,   19.98,2,     -999.0,9, 20210323,     1134,  41.6743, -51.8862,     3.9707,2,     0.0418,1,     4.7118,1,     -999.0,9,     -999.0,9,     -999.0,9,     -999.0,1
325020210316,        A20,      13,          1,         12,         12,2,20210323,       1024,    41.6743,   -51.8862,       4344,  1756.1,   3.8365,  34.9645,2,-999.0000,9,    265.6,2,  -999.0,9, -999.00,9, -999.00,9, -999.00,9, -999.00,9,-999.000,9,-999.000,9, -999.00,9,  -999.0,9, -999.00,9,   -999.0,9,  -999.00,-999.00000,9,  -999.00, -999.00,9, -999.00,9, -999.00,-999.000,9, -999.00,9, -999.00,9,     -999.0,9, 20210323,     1129,  41.6743, -51.8862,     3.8369,2,     0.0419,1,     4.7127,1,     -999.0,9,     -999.0,9,     -999.0,9,     -999.0,9
325020210316,        A20,      13,          1,         11,         11,2,20210323,       1024,    41.6743,   -51.8862,       4344,  1959.2,   3.6684,  34.9608,2,  34.9610,2,    264.5,2,   264.1,2,   14.16,2,   17.64,2,    0.00,2,    1.18,2,   2.087,2,   1.081,2,    0.51,3,  2165.3,2, 2307.76,2,   -999.0,9,  -999.00,   7.72348,2,    25.00, -999.00,9, -999.00,9, -999.00,-999.000,9,   45.42,2,   20.53,2,      13.77,2, 20210323,     1124,  41.6743, -51.8862,     3.6686,2,     0.0423,1,     4.7131,1,     -999.0,9,     -999.0,9,     -999.0,9,     -999.0,1
325020210316,        A20,      13,          1,         10,         10,2,20210323,       1024,    41.6743,   -51.8862,       4344,  2193.9,   3.4739,  34.9558,2,  34.9555,2,    264.5,2,   264.4,2,   15.63,2,   17.69,2,    0.00,2,    1.19,2,-999.000,9,-999.000,9, -999.00,9,  -999.0,9, -999.00,9,   -999.0,9,  -999.00,-999.00000,9,  -999.00, -999.00,9, -999.00,9, -999.00,-999.000,9,   43.40,2,   18.25,2,     -999.0,9, 20210323,     1118,  41.6743, -51.8862,     3.4741,2,     0.0423,1,     4.7140,1,     -999.0,9,     -999.0,9,     -999.0,9,     -999.0,1
325020210316,        A20,      13,          1,          9,          9,2,20210323,       1024,    41.6743,   -51.8862,       4344,  2447.0,   3.2567,  34.9488,2,  34.9481,2,    263.8,2,   264.4,2,   17.49,2,   17.87,2,    0.00,2,    1.20,2,-999.000,9,-999.000,9, -999.00,9,  2164.7,2, 2311.84,2,   -999.0,9,  -999.00,   7.73151,2,    25.00, -999.00,9, -999.00,9, -999.00,-999.000,9,   44.02,2,   19.79,2,     -999.0,9, 20210323,     1112,  41.6743, -51.8862,     3.2568,2,     0.0420,1,     4.7143,1,     -999.0,9,     -999.0,9,     -999.0,9,     -999.0,1
325020210316,        A20,      13,          1,          8,          8,2,20210323,       1024,    41.6743,   -51.8862,       4344,  2701.8,   3.0662,  34.9411,2,  34.9402,2,    264.5,2,   264.7,2,   19.34,2,   18.01,2,    0.00,2,    1.21,2,-999.000,9,-999.000,9, -999.00,9,  -999.0,9, -999.00,9,   -999.0,9,  -999.00,-999.00000,9,  -999.00, -999.00,9, -999.00,9, -999.00,-999.000,9,   42.94,2,   20.55,2,     -999.0,9, 20210323,     1105,  41.6743, -51.8862,     3.0663,2,     0.0429,1,     4.7143,1,     -999.0,9,     -999.0,9,     -999.0,9,     -999.0,1
325020210316,        A20,      13,          1,          7,          7,2,20210323,       1024,    41.6743,   -51.8862,       4344,  2959.3,   2.8523,  34.9290,2,  34.9288,2,    266.6,2,   267.2,2,   20.22,2,   17.86,2,    0.00,2,    1.21,2,-999.000,9,-999.000,9, -999.00,9,  -999.0,9, -999.00,9,   -999.0,9,  -999.00,-999.00000,9,  -999.00, -999.00,9, -999.00,9, -999.00,-999.000,9,   44.91,2,   20.35,2,     -999.0,9, 20210323,     1059,  41.6743, -51.8862,     2.8512,2,     0.0429,1,     4.7144,1,     -999.0,9,     -999.0,9,     -999.0,9,     -999.0,1
325020210316,        A20,      13,          1,          6,          6,2,20210323,       1024,    41.6743,   -51.8862,       4344,  3249.8,   2.6033,  34.9158,2,  34.9181,3,    268.8,2,   269.0,2,   22.18,2,   17.82,2,    0.00,2,    1.21,2,-999.000,9,-999.000,9, -999.00,9,  2170.4,2, 2317.61,2,   -999.0,9,  -999.00,   7.73113,2,    25.00, -999.00,9, -999.00,9, -999.00,-999.000,9,   46.94,2,   19.60,2,     -999.0,9, 20210323,     1052,  41.6743, -51.8862,     2.6032,2,     0.0422,1,     4.7143,1,     -999.0,9,     -999.0,9,     -999.0,9,     -999.0,1
325020210316,        A20,      13,          1,          5,          5,2,20210323,       1024,    41.6743,   -51.8862,       4344,  3557.6,   2.3984,  34.9036,2,  34.9042,2,    270.8,2,   270.9,2,   23.64,2,   17.72,2,    0.00,2,    1.21,2,-999.000,9,-999.000,9, -999.00,9,  -999.0,9, -999.00,9,   -999.0,9,  -999.00,-999.00000,9,  -999.00, -999.00,9, -999.00,9, -999.00,-999.000,9,   45.64,2,   19.09,2,     -999.0,9, 20210323,     1045,  41.6743, -51.8862,     2.3983,2,     0.0423,1,     4.7132,1,     -999.0,9,     -999.0,9,     -999.0,9,     -999.0,1
325020210316,        A20,      13,          1,          4,          4,2,20210323,       1024,    41.6743,   -51.8862,       4344,  3864.6,   2.3073,  34.8984,2,  34.8999,2,    272.6,2,   273.0,2,   23.74,2,   17.46,2,    0.00,2,    1.19,2,-999.000,9,-999.000,9, -999.00,9,  -999.0,9, -999.00,9,   -999.0,9,  -999.00,-999.00000,9,  -999.00, -999.00,9, -999.00,9, -999.00,-999.000,9,   45.64,2,   19.19,2,     -999.0,9, 20210323,     1038,  41.6743, -51.8862,     2.3073,2,     0.0424,1,     4.7056,1,     -999.0,9,     -999.0,9,     -999.0,9,     -999.0,1
325020210316,        A20,      13,          1,          3,          3,2,20210323,       1024,    41.6743,   -51.8862,       4344,  4172.6,   2.2810,  34.8966,2,  34.9030,3,    274.8,2,   274.5,2,   23.25,2,   17.24,2,    0.00,2,    1.17,2,   2.124,2,   1.140,2,    0.98,3,  2174.6,2, 2315.49,6,   -999.0,9,  -999.00,   7.71829,2,    25.00, -999.00,9, -999.00,9, -999.00,-999.000,9,   46.40,2,   18.21,2,      13.82,2, 20210323,     1031,  41.6743, -51.8862,     2.2809,2,     0.0422,1,     4.6755,1,     -999.0,9,     -999.0,9,     -999.0,9,     -999.0,1