BOTTLE,20230512CCHSIOCBG
EXPOCODE,SECT_ID,STNNBR,CASTNO,SAMPNO,BTLNBR,BTLNBR_FLAG_W,DATE,TIME,LATITUDE,LONGITUDE,DEPTH,CTDPRS,CTDTMP,CTDSAL,CTDSAL_FLAG_W,SALNTY,SALNTY_FLAG_W,CTDOXY,CTDOXY_FLAG_W,OXYGEN,OXYGEN_FLAG_W,SILCAT,SILCAT_FLAG_W,NITRAT,NITRAT_FLAG_W,NITRIT,NITRIT_FLAG_W,PHSPHT,PHSPHT_FLAG_W,CFC-11,CFC-11_FLAG_W,CFC-12,CFC-12_FLAG_W,SF6,SF6_FLAG_W,TCARBN,TCARBN_FLAG_W,ALKALI,ALKALI_FLAG_W,FCO2,FCO2_FLAG_W,FCO2TMP,PH_TOT,PH_TOT_FLAG_W,PH_TMP,DELC13,DELC13_FLAG_W,DELC14,DELC14_FLAG_W,C14ERR,POC,POC_FLAG_W,DOC,DOC_FLAG_W,TDN,TDN_FLAG_W,N2O,N2O_FLAG_W,BTL_DATE,BTL_TIME,BTL_LAT,BTL_LON,REFTMP,REFTMP_FLAG_W,CTDFLUOR,CTDFLUOR_FLAG_W,CTDXMISS,CTDXMISS_FLAG_W,D15N_NO2+NO3,D15N_NO2+NO3_FLAG_W,D18O_NO2+NO3,D18O_NO2+NO3_FLAG_W,HPLC,HPLC_FLAG_W,MICROGELS,MICROGELS_FLAG_W
,,,,,,,,,,,METERS,DBAR,ITS-90,PSS-78,,PSS-78,,UMOL/KG,,UMOL/KG,,UMOL/KG,,UMOL/KG,,UMOL/KG,,UMOL/KG,,PMOL/KG,,PMOL/KG,,FMOL/KG,,UMOL/KG,,UMOL/KG,,UATM,,DEG C,,,DEG C,/MILLE,,/MILLE,,/MILLE,UG/KG,,UMOL/KG,,UMOL/KG,,NMOL/KG,,,,,,ITS-90,,VOLTS,,VOLTS,,/MILLE,,/MILLE,,,,1E6 GELS/L,
325020210316,        A20,      30,          1,         36,         36,2,20210328,       1843,    32.8891,   -52.3327,       5617,     5.2,  20.4938,  36.7824,2,  36.7824,2,    226.6,2,   226.5,2,    0.49,2,    0.00,2,    0.00,2,    0.00,2,   1.735,2,   1.211,2,    1.78,2,  2099.4,6, 2404.52,2,    350.9,2,    20.00,   8.03291,2,    25.02,    0.71,2,   38.32,2,    2.28,-999.000,9,   62.26,2,    3.71,2,       6.89,2, 20210328,     2118,  32.8891, -52.3327,    20.4944,2,     0.0561,1,     4.5951,1,     -999.0,9,     -999.0,9,     -999.0,9,     -999.0,9
325020210316,        A20,      30,          1,         35,         35,2,20210328,       1843,    32.8891,   -52.3327,       5617,    20.2,  20.3791,  36.7712,2,  36.7720,2,    226.2,2,   227.3,2,    0.59,2,    0.00,2,    0.00,2,    0.00,2,-999.000,9,-999.000,9, -999.00,9,  2097.1,2, 2404.17,2,   -999.0,9,  -999.00,   8.03271,2,    25.03, -999.00,9, -999.00,9, -999.00,-999.000,9,   62.33,2,    4.17,2,     -999.0,9, 20210328,     2116,  32.8891, -52.3327,    20.3737,2,     0.0581,1,     4.5884,1,     -999.0,9,     -999.0,9,     -999.0,9,     -999.0,9
325020210316,        A20,      30,          1,         34,         34,2,20210328,       1843,    32.8891,   -52.3327,       5617,    40.9,  20.1263,  36.7348,2,  36.7379,2,    227.1,2,   227.0,2,    0.59,2,    0.03,2,    0.00,2,    0.00,2,   1.635,2,   1.212,2,    1.85,2,  2098.9,2, 2401.67,2,    352.8,2,    20.00,   8.03023,2,    25.05,    0.70,2,   41.38,2,    2.38,-999.000,9,   63.82,2,    3.89,2,       7.12,2, 20210328,     2114,  32.8891, -52.3327,    20.1285,2,     0.0749,1,     4.5818,1,     -999.0,9,     -999.0,9,     -999.0,9,     -999.0,9
325020210316,        A20,      30,          1,         33,         33,2,20210328,       1843,    32.8891,   -52.3327,       5617,    65.5,  19.4937,  36.6573,2,  36.6645,2,    225.8,3,   222.8,2,    0.68,2,    0.55,2,    0.06,2,    0.00,2,-999.000,9,-999.000,9, -999.00,9,  2101.0,2, 2397.19,2,   -999.0,9,  -999.00,    8.0175,2,    25.03, -999.00,9, -999.00,9, -999.00,-999.000,9,   56.82,2,    4.33,2,     -999.0,9, 20210328,     2112,  32.8891, -52.3327,    19.4928,2,     0.1115,1,     4.6015,1,     -999.0,9,     -999.0,9,     -999.0,9,     -999.0,9
325020210316,        A20,      30,          1,         32,         32,2,20210328,       1843,    32.8891,   -52.3327,       5617,    90.1,  19.3432,  36.6538,2,  36.6534,2,    229.7,3,   226.2,2,    0.68,2,    0.33,2,    0.18,2,    0.00,2,   1.874,2,   1.249,2,    1.90,2,  2100.0,2, 2396.95,2,    365.7,2,    20.00,   8.01637,2,    25.00,    0.64,2,   37.02,2,    2.36,-999.000,9,   56.88,2,    4.32,2,       7.27,2, 20210328,     2110,  32.8891, -52.3327,    19.3433,2,     0.0905,1,     4.6330,1,     -999.0,9,     -999.0,9,     -999.0,9,     -999.0,9
325020210316,        A20,      30,          1,         31,         31,2,20210328,       1843,    32.8891,   -52.3327,       5617,   136.8,  19.2894,  36.6533,2,  36.6532,2,    224.7,2,   223.2,2,    0.68,2,    0.69,2,    0.21,2,    0.00,2,-999.000,9,-999.000,9, -999.00,9,  2102.6,2, 2393.33,2,   -999.0,9,  -999.00,   8.01198,2,    24.99, -999.00,9, -999.00,9, -999.00,-999.000,9,   57.30,2,    3.51,2,     -999.0,9, 20210328,     2107,  32.8891, -52.3327,    19.2885,2,     0.0569,1,     4.6694,1,     -999.0,9,     -999.0,9,     -999.0,9,     -999.0,9
325020210316,        A20,      30,          1,         30,         30,2,20210328,       1843,    32.8891,   -52.3327,       5617,   185.7,  19.2642,  36.6497,2,  36.6503,2,    220.9,3,   223.5,2,    0.68,2,    0.69,2,    0.21,2,    0.00,2,   1.767,2,   1.255,2,    1.97,2,  2103.3,2, 2395.41,2,    370.9,2,    20.00,   8.01159,2,    25.00,    0.59,2,   31.26,2,    3.22,-999.000,9,   58.04,2,    4.33,2,       7.42,2, 20210328,     2104,  32.8891, -52.3327,    19.2639,2,     0.0534,1,     4.6718,1,     -999.0,9,     -999.0,9,     -999.0,9,     -999.0,9
325020210316,        A20,      30,          1,         29,         29,2,20210328,       1843,    32.8891,   -52.3327,       5617,   236.8,  19.2498,  36.6490,2,  36.6491,2,    220.3,2,   222.1,2,    0.59,2,    0.89,2,    0.20,2,    0.00,2,-999.000,9,-999.000,9, -999.00,9,  2105.3,2, 2395.44,2,   -999.0,9,  -999.00,    8.0102,2,    25.01, -999.00,9, -999.00,9, -999.00,-999.000,9,   57.15,2,    5.03,2,     -999.0,9, 20210328,     2101,  32.8891, -52.3327,    19.2522,2,     0.0477,1,     4.6811,1,     -999.0,9,     -999.0,9,     -999.0,9,     -999.0,9
325020210316,        A20,      30,          1,         28,         28,2,20210328,       1843,    32.8891,   -52.3327,       5617,   287.5,  19.1694,  36.6398,2,  36.6400,2,    220.2,3,   216.4,2,    0.78,2,    1.54,2,    0.10,2,    0.02,2,   1.938,2,   1.253,2,    1.94,2,  2110.0,2,  2395.8,2,    381.6,2,    20.00,   8.00215,6,    25.01,    0.57,2,   40.06,2,    3.45,-999.000,9,   56.04,2,    4.45,2,       7.53,2, 20210328,     2058,  32.8891, -52.3327,    19.1687,2,     0.0424,1,     4.6875,1,     -999.0,9,     -999.0,9,     -999.0,9,     -999.0,9
325020210316,        A20,      30,          1,         27,         27,2,20210328,       1843,    32.8891,   -52.3327,       5617,   336.7,  18.9321,  36.6148,2,  36.6126,2,    204.0,2,   203.0,2,    1.07,2,    3.05,2,    0.01,2,    0.09,2,-999.000,9,-999.000,9, -999.00,9,  2119.8,2, 2392.48,2,    404.4,2,    20.00,   7.98002,2,    24.99,    0.51,2,   45.95,2,    2.24,-999.000,9,   49.58,2,    5.23,2,     -999.0,9, 20210328,     2055,  32.8891, -52.3327,    18.9308,2,     0.0391,1,     4.6902,1,     -999.0,9,     -999.0,9,     -999.0,9,     -999.0,9
325020210316,        A20,      30,          1,         26,         26,2,20210328,       1843,    32.8891,   -52.3327,       5617,   388.2,  18.5691,  36.5731,2,  36.5729,2,    199.2,2,   200.1,2,    1.27,2,    3.86,2,    0.00,2,    0.13,2,   1.983,2,   1.304,2,    1.77,2,  2125.5,2, 2387.34,2,    418.6,2,    20.00,   7.96676,2,    25.02,    0.51,2,   46.75,2,    2.13,-999.000,9,   48.93,2,    6.22,2,       8.33,2, 20210328,     2053,  32.8891, -52.3327,    18.5613,2,     0.0400,1,     4.6944,1,     -999.0,9,     -999.0,9,     -999.0,9,     -999.0,9
325020210316,        A20,      30,          1,         25,         25,2,20210328,       1843,    32.8891,   -52.3327,       5617,   467.1,  17.5967,  36.4112,2,  36.4033,2,    188.6,2,   188.6,2,    2.05,2,    6.43,2,    0.00,2,    0.28,2,-999.000,9,-999.000,9, -999.00,9,  2138.4,2, 2381.35,2,    462.7,2,    20.00,   7.92741,6,    25.00,    0.43,2,   52.66,2,    2.32,-999.000,9,   46.85,2,    8.66,2,     -999.0,9, 20210328,     2050,  32.8891, -52.3327,    17.5985,2,     0.0400,1,     4.6946,1,     -999.0,9,     -999.0,9,     -999.0,9,     -999.0,9
325020210316,        A20,      30,          1,         24,         24,2,20210328,       1843,    32.8891,   -52.3327,       5617,   570.3,  15.8135,  36.1157,2,  36.1053,3,    187.0,2,   187.8,2,    3.32,2,    9.34,2,    0.00,2,    0.48,2,   2.184,2,   1.378,2,    1.64,2,  2147.4,2, 2364.49,6,    521.4,2,    20.00,   7.87809,2,    25.01,    0.52,2,   44.57,2,    2.21,-999.000,9,   47.71,2,   10.80,2,      11.49,2, 20210328,     2047,  32.8891, -52.3326,    15.7956,2,     0.0408,1,     4.6977,1,     -999.0,9,     -999.0,9,     -999.0,9,     -999.0,9
325020210316,        A20,      30,          1,         23,         23,2,20210328,       1843,    32.8891,   -52.3327,       5617,   669.6,  13.6858,  35.7790,2,  35.7778,2,    168.8,2,   169.5,2,    5.96,2,   14.38,2,    0.00,2,    0.80,2,   2.046,2,   1.307,2,    1.35,2,  2167.2,2, 2347.64,6,    626.6,6,    20.00,   7.80381,2,    25.02,    0.52,2,   34.74,2,    2.13,-999.000,9,   46.79,2,   15.28,2,      12.80,2, 20210328,     2044,  32.8891, -52.3326,    13.6734,2,     0.0408,1,     4.7002,1,     -999.0,9,     -999.0,9,     -999.0,9,     -999.0,9
325020210316,        A20,      30,          1,         22,         22,2,20210328,       1843,    32.8891,   -52.3327,       5617,   770.8,  11.3381,  35.4694,2,  35.4693,2,    164.2,2,   164.1,2,    9.08,2,   18.53,2,    0.00,2,    1.09,2,   1.874,6,   1.176,6,    1.08,6,  2179.8,6, 2388.07,3,    732.3,2,    20.00,   7.73763,2,    24.98,    0.56,2,   19.15,2,    2.16,-999.000,9, -999.00,9, -999.00,9,      17.23,6, 20210328,     2041,  32.8891, -52.3326,    11.3435,2,     0.0410,1,     4.7023,1,     -999.0,9,     -999.0,9,     -999.0,9,     -999.0,9
325020210316,        A20,      30,          1,         21,         21,2,20210328,       1843,    32.8891,   -52.3327,       5617,   874.2,   9.3464,  35.2704,2,  35.2706,2,    160.4,2,   160.4,2,   12.40,2,   21.57,2,    0.00,2,    1.32,2,-999.000,9,-999.000,9, -999.00,9,  2191.2,2, 2321.26,2,    823.1,2,    20.00,   7.69148,2,    25.00,    0.65,2,   -6.89,2,    1.99,-999.000,9, -999.00,9, -999.00,9,     -999.0,9, 20210328,     2038,  32.8891, -52.3326,     9.3452,2,     0.0414,1,     4.7045,1,     -999.0,9,     -999.0,9,     -999.0,9,     -999.0,9
325020210316,        A20,      30,          1,         20,         20,2,20210328,       1843,    32.8891,   -52.3327,       5617,   973.8,   7.9203,  35.2029,2,  35.2054,2,    176.1,2,   176.4,2,   13.09,2,   21.48,2,    0.00,2,    1.33,2,   1.572,2,   0.882,2,    0.62,2,  2191.8,2, 2323.39,2,    830.7,2,    20.00,   7.68763,2,    24.97,    0.74,2,  -21.15,2,    2.28,-999.000,9,   41.94,2,   22.15,2,      17.47,2, 20210328,     2035,  32.8891, -52.3326,     7.9452,2,     0.0430,1,     4.7057,1,     -999.0,9,     -999.0,9,     -999.0,9,     -999.0,9
325020210316,        A20,      30,          1,         19,         19,2,20210328,       1843,    32.8891,   -52.3327,       5617,  1077.6,   6.7695,  35.1569,2,  35.1567,2,    199.2,2,   199.1,2,   13.19,2,   20.45,2,    0.00,2,    1.28,2,   1.778,2,   0.992,2,    0.69,2,  2186.2,2, 2319.35,2,   -999.0,9,  -999.00,   7.69243,2,    25.02,    0.76,6,  -25.09,6,    2.07,-999.000,9, -999.00,9, -999.00,9,      16.43,2, 20210328,     2031,  32.8892, -52.3326,     6.7809,2,     0.0430,1,     4.7061,1,     -999.0,9,     -999.0,9,     -999.0,9,     -999.0,9
325020210316,        A20,      30,          1,         18,         18,2,20210328,       1843,    32.8891,   -52.3327,       5617,  1176.5,   5.9574,  35.1317,2,  35.1323,2,    220.1,2,   220.6,2,   12.70,2,   19.25,2,    0.00,2,    1.21,2,   1.925,2,   1.148,2,    0.81,2,  2181.8,2, 2319.24,2,    797.8,2,    20.00,   7.70416,2,    25.01,    0.86,2,  -23.94,2,    1.96,-999.000,9, -999.00,9, -999.00,9,      15.15,2, 20210328,     2028,  32.8892, -52.3326,     5.9594,2,     0.0422,1,     4.7059,1,     -999.0,9,     -999.0,9,     -999.0,9,     -999.0,9
325020210316,        A20,      30,          1,         17,         17,2,20210328,       1843,    32.8891,   -52.3327,       5617,  1277.7,   5.4733,  35.1050,2,  35.1059,2,    233.0,2,   233.3,2,   12.41,2,   18.57,2,    0.00,2,    1.18,2,-999.000,9,-999.000,9, -999.00,9,  2178.6,2, 2316.91,2,   -999.0,9,  -999.00,   7.70841,2,    25.03,    0.88,2,  -22.62,2,    1.95,-999.000,9,   44.34,2,   18.70,2,     -999.0,9, 20210328,     2025,  32.8892, -52.3326,     5.4754,2,     0.0417,1,     4.7070,1,     -999.0,9,     -999.0,9,     -999.0,9,     -999.0,9
325020210316,        A20,      30,          1,         16,         16,2,20210328,       1843,    32.8891,   -52.3327,       5617,  1380.1,   5.0715,  35.0741,2,  35.0754,2,    243.5,2,   242.8,2,   12.11,2,   18.24,2,    0.00,2,    1.16,2,   2.163,2,   1.339,2,    0.82,2,  2175.7,2, 2315.75,2,    779.8,2,    20.00,   7.71252,2,    25.01,    0.91,2,  -17.95,2,    1.95,-999.000,9, -999.00,9, -999.00,9,      14.30,2, 20210328,     2022,  32.8892, -52.3326,     5.0677,2,     0.0416,1,     4.7070,1,     -999.0,9,     -999.0,9,     -999.0,9,     -999.0,9
325020210316,        A20,      30,          1,         15,         15,2,20210328,       1843,    32.8891,   -52.3327,       5617,  1552.4,   4.5857,  35.0423,2,  35.0429,2,    252.2,2,   251.6,2,   12.41,2,   18.00,2,    0.00,2,    1.15,2,   2.352,2,   1.299,2,    0.78,2,  2171.9,2,  2313.0,2,    767.8,2,    20.00,   7.71612,2,    25.02,    1.00,2,  -18.28,2,    1.90,-999.000,9,   44.56,2,   17.85,2,      13.74,2, 20210328,     2017,  32.8892, -52.3326,     4.5856,2,     0.0423,1,     4.7068,1,     -999.0,9,     -999.0,9,     -999.0,9,     -999.0,9
325020210316,        A20,      30,          1,         14,         14,2,20210328,       1843,    32.8891,   -52.3327,       5617,  1755.1,   4.2038,  35.0152,2,  35.0134,2,    258.6,2,   257.1,2,   13.09,2,   17.93,2,    0.00,2,    1.14,2,-999.000,9,-999.000,9, -999.00,9,  2169.6,2, 2312.69,2,    761.2,2,    20.00,   7.71999,2,    25.01,    0.91,2,  -24.83,2,    1.99,-999.000,9, -999.00,9, -999.00,9,     -999.0,9, 20210328,     2012,  32.8892, -52.3326,     4.1962,2,     0.0416,1,     4.7067,1,     -999.0,9,     -999.0,9,     -999.0,9,     -999.0,9
325020210316,        A20,      30,          1,         13,         13,2,20210328,       1843,    32.8891,   -52.3327,       5617,  1958.3,   4.1262,  35.0393,2,  35.0392,2,    254.0,2,   252.5,2,   15.63,2,   18.34,2,    0.00,2,    1.16,2,   1.457,2,   0.825,2,    0.30,2,  2173.7,2, 2317.39,6,   -999.0,9,  -999.00,   7.72732,2,    25.01,    0.99,2,  -43.49,2,    2.94,-999.000,9,   42.51,2,   18.29,2,      13.92,2, 20210328,     2007,  32.8892, -52.3326,     4.1243,2,     0.0427,1,     4.7080,1,     -999.0,9,     -999.0,9,     -999.0,9,     -999.0,9
325020210316,        A20,      30,          1,         12,         12,2,20210328,       1843,    32.8891,   -52.3327,       5617,  2192.2,   3.7374,  35.0039,2,  35.0043,2,    254.3,2,   255.3,2,   18.17,2,   18.59,2,    0.00,2,    1.18,2,   1.272,2,   0.642,2,    0.31,2,  2170.7,6, 2317.46,2,    742.5,2,    20.00,   7.73225,6,    25.00,    1.05,2,  -51.12,2,    2.14,-999.000,9, -999.00,9, -999.00,9,      13.34,2, 20210328,     2001,  32.8892, -52.3326,     3.7379,2,     0.0418,1,     4.7078,1,     -999.0,9,     -999.0,9,     -999.0,9,     -999.0,9
325020210316,        A20,      30,          1,         11,         11,2,20210328,       1843,    32.8891,   -52.3327,       5617,  2447.2,   3.3883,  34.9719,2,  34.9715,2,    257.6,2,   257.9,2,   20.32,2,   18.69,2,    0.00,2,    1.19,2,   0.976,2,   0.513,2,    0.20,2,  2171.0,2, 2319.49,2,   -999.0,9,  -999.00,   7.73358,6,    25.02,    1.09,2,  -65.22,2,    1.97,-999.000,9,   43.47,2,   19.80,2,      13.26,2, 20210328,     1954,  32.8892, -52.3326,     3.3882,2,     0.0418,1,     4.7077,1,     -999.0,9,     -999.0,9,     -999.0,9,     -999.0,9
325020210316,        A20,      30,          1,         10,         10,2,20210328,       1843,    32.8891,   -52.3327,       5617,  2702.9,   3.1686,  34.9595,2,  34.9591,2,    256.1,2,   257.3,2,   23.45,2,   19.00,2,    0.00,2,    1.22,2,-999.000,9,-999.000,9, -999.00,9,  2169.9,2, 2320.96,2,    733.3,2,    20.00,   7.73772,2,    25.02,    1.12,2,  -76.60,2,    2.51,-999.000,9, -999.00,9, -999.00,9,     -999.0,9, 20210328,     1949,  32.8892, -52.3326,     3.1683,2,     0.0425,1,     4.7074,1,     -999.0,9,     -999.0,9,     -999.0,9,     -999.0,9
325020210316,        A20,      30,          1,          9,          9,2,20210328,       1843,    32.8891,   -52.3327,       5617,  2955.9,   2.9720,  34.9441,2,  34.9437,2,    258.2,2,   259.9,2,   24.52,2,   18.85,2,    0.00,2,    1.23,2,   0.644,2,   0.330,2,    0.17,2,  2171.7,2, 2321.22,2,   -999.0,9,  -999.00,   7.73923,2,    24.98,    1.14,2,  -78.67,2,    1.83,-999.000,9,   43.71,2,   20.41,2,      12.87,2, 20210328,     1943,  32.8892, -52.3326,     2.9721,2,     0.0428,1,     4.7072,1,     -999.0,9,     -999.0,9,     -999.0,9,     -999.0,9
325020210316,        A20,      30,          1,          8,          8,2,20210328,       1843,    32.8891,   -52.3327,       5617,  3244.7,   2.7687,  34.9294,2,  34.9286,2,    259.0,3,   261.8,2,   26.08,2,   18.74,2,    0.00,2,    1.24,2,-999.000,9,-999.000,9, -999.00,9,  2172.4,2, 2322.63,2,    733.0,2,    20.00,   7.73823,2,    25.03,    1.09,2,  -77.88,2,    2.05,-999.000,9, -999.00,9, -999.00,9,     -999.0,9, 20210328,     1937,  32.8892, -52.3326,     2.7690,2,     0.0428,1,     4.7069,1,     -999.0,9,     -999.0,9,     -999.0,9,     -999.0,9
325020210316,        A20,      30,          1,          7,          7,2,20210328,       1843,    32.8891,   -52.3327,       5617,  3620.0,   2.5121,  34.9106,2,  34.9103,2,    263.5,2,   264.8,2,   27.75,2,   18.57,2,    0.00,2,    1.24,2,   0.877,2,   0.382,2,    0.21,2,  2172.1,2, 2323.04,2,   -999.0,9,  -999.00,     7.738,2,    25.00,    1.12,2,  -73.15,2,    1.61,-999.000,9,   42.33,2,   18.50,2,      13.24,2, 20210328,     1929,  32.8892, -52.3326,     2.5120,2,     0.0430,1,     4.7069,1,     -999.0,9,     -999.0,9,     -999.0,9,     -999.0,9
325020210316,        A20,      30,          1,          6,          6,2,20210328,       1843,    32.8891,   -52.3327,       5617,  4030.4,   2.3330,  34.8958,2,  34.8953,2,    262.7,2,   264.2,2,   31.75,2,   19.07,2,    0.00,2,    1.27,2,   0.692,2,   0.346,2,    0.17,2,  2178.8,2, 2326.45,2,    738.6,2,    20.00,   7.73476,2,    24.99,    1.11,2,  -80.13,2,    1.62,-999.000,9,   43.28,2,   18.80,2,      13.33,2, 20210328,     1921,  32.8892, -52.3326,     2.3333,2,     0.0435,1,     4.7071,1,     -999.0,9,     -999.0,9,     -999.0,9,     -999.0,9
325020210316,        A20,      30,          1,          5,          5,2,20210328,       1843,    32.8891,   -52.3327,       5617,  4442.2,   2.2501,  34.8846,2,  34.8841,2,    261.1,2,   261.8,2,   36.15,2,   19.74,2,    0.00,2,    1.32,2,   0.616,2,   0.343,2,    0.21,2,  2183.9,2, 2329.39,2,   -999.0,9,  -999.00,   7.73093,2,    25.02,    1.06,2,  -84.45,2,    1.63,-999.000,9,   44.11,2,   18.64,2,      13.44,2, 20210328,     1913,  32.8892, -52.3326,     2.2502,2,     0.0429,1,     4.7056,1,     -999.0,9,     -999.0,9,     -999.0,9,     -999.0,9
325020210316,        A20,      30,          1,          4,          4,2,20210328,       1843,    32.8891,   -52.3327,       5617,  4855.0,   2.1555,  34.8684,2,  34.8676,2,    254.8,2,   255.3,2,   45.63,2,   21.25,2,    0.00,2,    1.43,2,-999.000,9,-999.000,9, -999.00,9,  2194.8,2,  2338.6,2,   -999.0,9,  -999.00,   7.72347,2,    25.02,    1.03,2, -100.93,2,    1.58,-999.000,9, -999.00,9, -999.00,9,     -999.0,9, 20210328,     1905,  32.8892, -52.3326,     2.1554,2,     0.0429,1,     4.6878,1,     -999.0,9,     -999.0,9,     -999.0,9,     -999.0,9
325020210316,        A20,      30,          1,          3,          3,2,20210328,       1843,    32.8891,   -52.3327,       5617,  5265.8,   2.1565,  34.8622,2,  34.8623,2,    252.0,2,   253.0,2,   48.95,2,   21.74,2,    0.00,2,    1.47,2,   0.246,2,   0.145,2,    0.05,2,  2195.0,2,  2340.3,2,    769.4,2,    20.00,   7.72106,2,    25.02,    1.03,2, -103.42,2,    1.61,-999.000,9,   41.83,2,   21.87,2,      14.08,2, 20210328,     1856,  32.8892, -52.3326,     2.1568,2,     0.0424,1,     4.6796,1,     -999.0,9,     -999.0,9,     -999.0,9,     -999.0,9