BOTTLE,20230512CCHSIOCBG
EXPOCODE,SECT_ID,STNNBR,CASTNO,SAMPNO,BTLNBR,BTLNBR_FLAG_W,DATE,TIME,LATITUDE,LONGITUDE,DEPTH,CTDPRS,CTDTMP,CTDSAL,CTDSAL_FLAG_W,SALNTY,SALNTY_FLAG_W,CTDOXY,CTDOXY_FLAG_W,OXYGEN,OXYGEN_FLAG_W,SILCAT,SILCAT_FLAG_W,NITRAT,NITRAT_FLAG_W,NITRIT,NITRIT_FLAG_W,PHSPHT,PHSPHT_FLAG_W,CFC-11,CFC-11_FLAG_W,CFC-12,CFC-12_FLAG_W,SF6,SF6_FLAG_W,TCARBN,TCARBN_FLAG_W,ALKALI,ALKALI_FLAG_W,FCO2,FCO2_FLAG_W,FCO2TMP,PH_TOT,PH_TOT_FLAG_W,PH_TMP,DELC13,DELC13_FLAG_W,DELC14,DELC14_FLAG_W,C14ERR,POC,POC_FLAG_W,DOC,DOC_FLAG_W,TDN,TDN_FLAG_W,N2O,N2O_FLAG_W,BTL_DATE,BTL_TIME,BTL_LAT,BTL_LON,REFTMP,REFTMP_FLAG_W,CTDFLUOR,CTDFLUOR_FLAG_W,CTDXMISS,CTDXMISS_FLAG_W,D15N_NO2+NO3,D15N_NO2+NO3_FLAG_W,D18O_NO2+NO3,D18O_NO2+NO3_FLAG_W,HPLC,HPLC_FLAG_W,MICROGELS,MICROGELS_FLAG_W
,,,,,,,,,,,METERS,DBAR,ITS-90,PSS-78,,PSS-78,,UMOL/KG,,UMOL/KG,,UMOL/KG,,UMOL/KG,,UMOL/KG,,UMOL/KG,,PMOL/KG,,PMOL/KG,,FMOL/KG,,UMOL/KG,,UMOL/KG,,UATM,,DEG C,,,DEG C,/MILLE,,/MILLE,,/MILLE,UG/KG,,UMOL/KG,,UMOL/KG,,NMOL/KG,,,,,,ITS-90,,VOLTS,,VOLTS,,/MILLE,,/MILLE,,,,1E6 GELS/L,
325020210316,        A20,      84,          1,         25,         25,2,20210412,       1106,     7.2887,   -53.1218,        450,     5.0,  28.1816,  24.7619,2,  21.2941,3,    225.2,3,   235.3,2,   21.23,2,    0.03,2,    0.00,2,    0.01,2,-999.000,9,-999.000,9, -999.00,9,  2062.3,6, 1511.96,2,    106.3,2,    20.00,   8.37852,2,    24.99, -999.00,9, -999.00,9, -999.00,-999.000,9,  140.72,2,    7.16,2,     -999.0,9, 20210412,     1142,   7.2887, -53.1218,    28.1956,2,     0.0968,1,     4.5178,1,     -999.0,9,     -999.0,9,     -999.0,9,     -999.0,9
325020210316,        A20,      84,          1,         24,         24,2,20210412,       1106,     7.2887,   -53.1218,        450,    25.4,  27.9999,  36.0550,2,  36.0297,3,    195.3,2,   194.7,2,    1.17,2,    0.01,2,    0.00,2,    0.03,2,-999.000,9,-999.000,9, -999.00,9,  2046.9,2, 2360.17,2,    314.5,2,    20.00,   8.07556,6,    24.99, -999.00,9, -999.00,9, -999.00,-999.000,9, -999.00,9, -999.00,9,     -999.0,9, 20210412,     1139,   7.2887, -53.1218,    28.0019,2,     0.0631,1,     4.6265,1,     -999.0,9,     -999.0,9,     -999.0,9,     -999.0,9
325020210316,        A20,      84,          1,         23,         23,2,20210412,       1106,     7.2887,   -53.1218,        450,    40.6,  27.8099,  36.1217,2,  36.1211,2,    197.1,2,   196.6,2,    0.88,2,    0.00,2,    0.00,2,    0.01,2,-999.000,9,-999.000,9, -999.00,9,  2045.7,2, 2365.11,6,   -999.0,9,  -999.00,   8.08253,2,    24.99, -999.00,9, -999.00,9, -999.00,-999.000,9,   70.46,2,    6.34,2,     -999.0,9, 20210412,     1139,   7.2887, -53.1218,    27.8097,2,     0.0538,1,     4.6354,1,     -999.0,9,     -999.0,9,     -999.0,9,     -999.0,9
325020210316,        A20,      84,          1,         22,         22,2,20210412,       1106,     7.2887,   -53.1218,        450,    55.9,  27.6117,  36.1506,2,  36.1519,2,    197.6,2,   197.2,2,    1.95,2,    0.00,2,    0.00,2,    0.00,2,-999.000,9,-999.000,9, -999.00,9,  -999.0,9, -999.00,9,   -999.0,9,  -999.00,-999.00000,9,  -999.00, -999.00,9, -999.00,9, -999.00,-999.000,9, -999.00,9, -999.00,9,     -999.0,9, 20210412,     1136,   7.2887, -53.1218,    27.6100,2,     0.0483,1,     4.6476,1,     -999.0,9,     -999.0,9,     -999.0,9,     -999.0,9
325020210316,        A20,      84,          1,         21,         21,2,20210412,       1106,     7.2887,   -53.1218,        450,    71.1,  27.5627,  36.1515,2,  36.1518,2,    197.2,2,   197.0,2,    0.97,2,    0.00,2,    0.00,2,    0.00,2,-999.000,9,-999.000,9, -999.00,9,  2045.8,2,  2367.2,2,    308.6,2,    20.00,   8.08304,2,    24.97, -999.00,9, -999.00,9, -999.00,-999.000,9,   69.99,2,    3.97,2,     -999.0,9, 20210412,     1135,   7.2887, -53.1218,    27.5625,2,     0.0500,1,     4.6501,1,     -999.0,9,     -999.0,9,     -999.0,9,     -999.0,9
325020210316,        A20,      84,          1,         20,         20,2,20210412,       1106,     7.2887,   -53.1218,        450,    86.1,  27.4731,  36.1564,2,  36.1563,2,    196.6,2,   196.7,2,    0.97,2,    0.00,2,    0.00,2,    0.01,2,-999.000,9,-999.000,9, -999.00,9,  -999.0,9, -999.00,9,   -999.0,9,  -999.00,-999.00000,9,  -999.00, -999.00,9, -999.00,9, -999.00,-999.000,9,   66.40,2,    4.49,2,     -999.0,9, 20210412,     1133,   7.2887, -53.1218,    27.4724,2,     0.0526,1,     4.6508,1,     -999.0,9,     -999.0,9,     -999.0,9,     -999.0,9
325020210316,        A20,      84,          1,         19,         19,2,20210412,       1106,     7.2887,   -53.1218,        450,    99.6,  27.4023,  36.1806,2,  36.1816,2,    195.2,2,   195.6,2,    0.97,2,    0.01,2,    0.00,2,    0.02,2,-999.000,9,-999.000,9, -999.00,9,  2049.9,2, 2369.07,2,   -999.0,9,  -999.00,   8.07683,2,    25.00, -999.00,9, -999.00,9, -999.00,-999.000,9,   69.32,2,    4.56,2,     -999.0,9, 20210412,     1131,   7.2887, -53.1218,    27.4026,2,     0.0593,1,     4.6531,1,     -999.0,9,     -999.0,9,     -999.0,9,     -999.0,9
325020210316,        A20,      84,          1,         18,         18,2,20210412,       1106,     7.2887,   -53.1218,        450,   115.6,  26.8027,  36.4826,2,  36.4788,2,    188.4,2,   189.7,2,    1.07,2,    0.15,2,    0.27,2,    0.09,2,-999.000,9,-999.000,9, -999.00,9,  -999.0,9, -999.00,9,    342.2,2,    20.00,-999.00000,9,  -999.00, -999.00,9, -999.00,9, -999.00,-999.000,9,   66.80,2,    4.86,2,     -999.0,9, 20210412,     1130,   7.2887, -53.1218,    26.8116,2,     0.0597,1,     4.6569,1,     -999.0,9,     -999.0,9,     -999.0,9,     -999.0,9
325020210316,        A20,      84,          1,         17,         17,2,20210412,       1106,     7.2887,   -53.1218,        450,   131.6,  19.0475,  36.1097,2,  36.1413,3,    168.2,2,   167.0,2,    3.12,2,    7.83,2,    0.02,2,    0.58,2,-999.000,9,-999.000,9, -999.00,9,  2150.9,2, 2370.57,2,    504.1,6,    20.00,   7.89679,2,    24.98, -999.00,9, -999.00,9, -999.00,-999.000,9,   54.77,2,   10.94,2,     -999.0,9, 20210412,     1129,   7.2887, -53.1218,    19.1057,2,     0.0500,1,     4.6675,1,     -999.0,9,     -999.0,9,     -999.0,9,     -999.0,9
325020210316,        A20,      84,          1,         16,         16,2,20210412,       1106,     7.2887,   -53.1218,        450,   145.7,  17.2304,  35.8420,2,  35.8431,2,    172.3,2,   172.5,2,    3.51,2,    9.21,2,    0.00,2,    0.69,2,-999.000,9,-999.000,9, -999.00,9,  2151.8,2, 2353.62,2,    544.4,2,    20.00,   7.86493,6,    25.01, -999.00,9, -999.00,9, -999.00,-999.000,9,   50.33,2,   11.28,2,     -999.0,9, 20210412,     1127,   7.2887, -53.1218,    17.2326,2,     0.0464,1,     4.6726,1,     -999.0,9,     -999.0,9,     -999.0,9,     -999.0,9
325020210316,        A20,      84,          1,         15,         15,2,20210412,       1106,     7.2887,   -53.1218,        450,   160.5,  16.9513,  35.8042,2,  35.8040,2,    171.9,2,   172.0,2,    3.70,2,    9.63,2,    0.00,2,    0.72,2,-999.000,9,-999.000,9, -999.00,9,  2151.7,2, 2351.62,2,    552.0,2,    20.00,   7.85857,2,    25.00, -999.00,9, -999.00,9, -999.00,-999.000,9,   51.92,2,   11.20,2,     -999.0,9, 20210412,     1126,   7.2887, -53.1218,    16.9529,2,     0.0449,1,     4.6740,1,     -999.0,9,     -999.0,9,     -999.0,9,     -999.0,9
325020210316,        A20,      84,          1,         14,         14,2,20210412,       1106,     7.2887,   -53.1218,        450,   176.3,  16.4997,  35.7446,2,  35.7466,2,    170.6,2,   170.7,2,    3.90,2,   10.20,2,    0.00,2,    0.75,2,   2.245,2,   1.412,2,    1.48,2,  2155.3,2, 2349.03,2,    567.4,2,    20.00,   7.84877,2,    25.00, -999.00,9, -999.00,9, -999.00,-999.000,9,   48.80,2,   12.99,2,      14.32,2, 20210412,     1125,   7.2887, -53.1218,    16.5052,2,     0.0444,1,     4.6751,1,     -999.0,9,     -999.0,9,     -999.0,9,     -999.0,9
325020210316,        A20,      84,          1,         13,         13,2,20210412,       1106,     7.2887,   -53.1218,        450,   191.0,  15.7792,  35.9110,2,  35.9109,2,    131.5,2,   131.2,2,    5.95,2,   15.89,2,    0.00,2,    0.95,2,-999.000,9,-999.000,9, -999.00,9,  2190.8,2, 2352.32,2,    686.4,2,    20.00,   7.77321,2,    25.01, -999.00,9, -999.00,9, -999.00,-999.000,9,   49.84,2,   17.65,2,     -999.0,9, 20210412,     1123,   7.2887, -53.1218,    15.7690,2,     0.0406,1,     4.6449,1,     -999.0,9,     -999.0,9,     -999.0,9,     -999.0,9
325020210316,        A20,      84,          1,         12,         12,2,20210412,       1106,     7.2887,   -53.1218,        450,   206.6,  13.8909,  35.5949,2,  35.5926,2,    132.2,2,   132.3,2,    7.41,2,   18.60,2,    0.00,2,    1.14,2,   1.674,2,   1.306,2,    1.11,2,  2191.5,2, 2337.58,2,    758.5,2,    20.00,   7.73083,2,    24.99, -999.00,9, -999.00,9, -999.00,-999.000,9, -999.00,9, -999.00,9,      20.57,2, 20210412,     1122,   7.2887, -53.1218,    13.8897,2,     0.0406,1,     4.6711,1,     -999.0,9,     -999.0,9,     -999.0,9,     -999.0,9
325020210316,        A20,      84,          1,         11,         11,2,20210412,       1106,     7.2887,   -53.1218,        450,   220.9,  13.0057,  35.4232,2,  35.4040,2,    133.4,2,   134.3,2,    8.48,2,   20.02,2,    0.00,2,    1.26,2,-999.000,9,-999.000,9, -999.00,9,  -999.0,9, -999.00,9,   -999.0,9,  -999.00,-999.00000,9,  -999.00, -999.00,9, -999.00,9, -999.00,-999.000,9,   50.40,2,   22.49,2,     -999.0,9, 20210412,     1120,   7.2887, -53.1218,    13.0186,2,     0.0409,1,     4.6684,1,     -999.0,9,     -999.0,9,     -999.0,9,     -999.0,9
325020210316,        A20,      84,          1,         10,         10,2,20210412,       1106,     7.2887,   -53.1218,        450,   246.8,  11.7310,  35.2279,2,  35.2284,2,    131.3,2,   131.5,2,    9.95,2,   22.18,2,    0.00,2,    1.40,2,-999.000,9,-999.000,9, -999.00,9,  -999.0,9, -999.00,9,   -999.0,9,  -999.00,-999.00000,9,  -999.00, -999.00,9, -999.00,9, -999.00,-999.000,9, -999.00,9, -999.00,9,     -999.0,9, 20210412,     1119,   7.2887, -53.1218,    11.7305,2,     0.0411,1,     4.6698,1,     -999.0,9,     -999.0,9,     -999.0,9,     -999.0,9
325020210316,        A20,      84,          1,          9,          9,2,20210412,       1106,     7.2887,   -53.1218,        450,   266.2,  11.5644,  35.2097,2,  35.2091,2,    129.0,2,   129.4,2,   10.34,2,   22.76,2,    0.00,2,    1.44,2,   2.123,2,   1.255,2,    0.89,2,  2199.3,2,  2317.1,2,    883.7,2,    20.00,   7.66389,2,    25.00, -999.00,9, -999.00,9, -999.00,-999.000,9,   51.13,2,   24.17,2,      24.12,2, 20210412,     1117,   7.2887, -53.1218,    11.5641,2,     0.0411,1,     4.6703,1,     -999.0,9,     -999.0,9,     -999.0,9,     -999.0,9
325020210316,        A20,      84,          1,          8,          8,2,20210412,       1106,     7.2887,   -53.1218,        450,   286.3,  11.3923,  35.2152,2,  35.2138,2,    122.5,2,   122.2,2,   10.82,2,   23.93,2,    0.00,2,    1.49,2,-999.000,9,-999.000,9, -999.00,9,  -999.0,9, -999.00,9,   -999.0,9,  -999.00,-999.00000,9,  -999.00, -999.00,9, -999.00,9, -999.00,-999.000,9, -999.00,9, -999.00,9,     -999.0,9, 20210412,     1116,   7.2887, -53.1218,    11.3926,2,     0.0418,1,     4.6711,1,     -999.0,9,     -999.0,9,     -999.0,9,     -999.0,9
325020210316,        A20,      84,          1,          7,          7,2,20210412,       1106,     7.2887,   -53.1218,        450,   306.4,  10.6278,  35.1090,2,  35.1083,2,    119.2,2,   119.0,2,   11.99,2,   25.52,2,    0.00,2,    1.60,2,-999.000,9,-999.000,9, -999.00,9,  -999.0,9, -999.00,9,   -999.0,9,  -999.00,-999.00000,9,  -999.00, -999.00,9, -999.00,9, -999.00,-999.000,9,   44.04,2,   26.96,2,     -999.0,9, 20210412,     1114,   7.2887, -53.1218,    10.6294,2,     0.0412,1,     4.6693,1,     -999.0,9,     -999.0,9,     -999.0,9,     -999.0,9
325020210316,        A20,      84,          1,          6,          6,2,20210412,       1106,     7.2887,   -53.1218,        450,   331.9,  10.3412,  35.0707,2,  35.0677,2,    117.3,2,   117.1,2,   12.97,2,   26.33,2,    0.00,2,    1.66,2,   1.895,2,   1.084,2,    0.68,2,  -999.0,9, -999.00,9,   -999.0,9,  -999.00,-999.00000,9,  -999.00, -999.00,9, -999.00,9, -999.00,-999.000,9, -999.00,9, -999.00,9,      26.17,2, 20210412,     1113,   7.2887, -53.1218,    10.3424,2,     0.0425,1,     4.6560,1,     -999.0,9,     -999.0,9,     -999.0,9,     -999.0,9
325020210316,        A20,      84,          1,          5,          5,2,20210412,       1106,     7.2887,   -53.1218,        450,   356.7,   9.7738,  34.9883,2,  34.9868,2,    118.0,2,   117.6,2,   14.24,2,   27.44,2,    0.00,2,    1.73,2,-999.000,9,-999.000,9, -999.00,9,  2213.4,2,  2308.9,6,   1029.6,2,    20.00,   7.59811,2,    25.00, -999.00,9, -999.00,9, -999.00,-999.000,9,   45.32,2,   29.11,2,     -999.0,9, 20210412,     1110,   7.2887, -53.1218,     9.7745,2,     0.0414,1,     4.6396,1,     -999.0,9,     -999.0,9,     -999.0,9,     -999.0,9
325020210316,        A20,      84,          1,          4,          4,2,20210412,       1106,     7.2887,   -53.1218,        450,   382.3,   9.6324,  34.9699,2,  34.9679,2,    117.7,2,   118.1,2,   14.82,2,   27.67,2,    0.00,2,    1.77,2,   1.756,2,   0.991,2,    0.53,2,  -999.0,9, -999.00,9,   -999.0,9,  -999.00,-999.00000,9,  -999.00, -999.00,9, -999.00,9, -999.00,-999.000,9, -999.00,9, -999.00,9,      26.40,2, 20210412,     1109,   7.2887, -53.1218,     9.6336,2,     0.0426,1,     4.6287,1,     -999.0,9,     -999.0,9,     -999.0,9,     -999.0,9
325020210316,        A20,      84,          1,          2,          2,2,20210412,       1106,     7.2887,   -53.1218,        450,   407.2,   9.2624,  34.9169,2,  34.9117,2,    117.6,2,   117.7,2,   16.19,2,   28.57,2,    0.00,2,    1.82,2,-999.000,9,-999.000,9, -999.00,9,  -999.0,9, -999.00,9,   -999.0,9,  -999.00,-999.00000,9,  -999.00, -999.00,9, -999.00,9, -999.00,-999.000,9, -999.00,9, -999.00,9,     -999.0,9, 20210412,     1108,   7.2887, -53.1218,     9.2635,2,     0.0409,1,     4.5802,1,     -999.0,9,     -999.0,9,     -999.0,9,     -999.0,9
325020210316,        A20,      84,          1,          3,          3,2,20210412,       1106,     7.2887,   -53.1218,        450,   407.4,   9.2599,  34.9165,2,  34.9158,2,    117.6,2,   117.7,2,   16.09,2,   28.55,2,    0.00,2,    1.81,2,-999.000,9,-999.000,9, -999.00,9,  -999.0,9, -999.00,9,   -999.0,9,  -999.00,-999.00000,9,  -999.00, -999.00,9, -999.00,9, -999.00,-999.000,9,   47.08,2,   30.16,2,     -999.0,9, 20210412,     1108,   7.2887, -53.1218,     -999.0,9,     0.0416,1,     4.5785,1,     -999.0,9,     -999.0,9,     -999.0,9,     -999.0,9
325020210316,        A20,      84,          1,          1,          1,2,20210412,       1106,     7.2887,   -53.1218,        450,   442.2,   8.4053,  34.8147,2,  34.8169,2,    116.8,2,   116.7,2,   18.92,2,   30.05,2,    0.00,2,    1.94,2,   1.525,2,   0.856,2,    0.46,2,  2226.7,2,  2303.7,2,   1116.3,2,    20.00,   7.56011,6,    25.02, -999.00,9, -999.00,9, -999.00,-999.000,9,   51.75,2,   33.97,2,      26.51,2, 20210412,     1106,   7.2887, -53.1217,     8.4057,2,     0.0422,1,     4.4986,1,     -999.0,9,     -999.0,9,     -999.0,9,     -999.0,9