BOTTLE,20230512CCHSIOCBG
EXPOCODE,SECT_ID,STNNBR,CASTNO,SAMPNO,BTLNBR,BTLNBR_FLAG_W,DATE,TIME,LATITUDE,LONGITUDE,DEPTH,CTDPRS,CTDTMP,CTDSAL,CTDSAL_FLAG_W,SALNTY,SALNTY_FLAG_W,CTDOXY,CTDOXY_FLAG_W,OXYGEN,OXYGEN_FLAG_W,SILCAT,SILCAT_FLAG_W,NITRAT,NITRAT_FLAG_W,NITRIT,NITRIT_FLAG_W,PHSPHT,PHSPHT_FLAG_W,CFC-11,CFC-11_FLAG_W,CFC-12,CFC-12_FLAG_W,SF6,SF6_FLAG_W,TCARBN,TCARBN_FLAG_W,ALKALI,ALKALI_FLAG_W,FCO2,FCO2_FLAG_W,FCO2TMP,PH_TOT,PH_TOT_FLAG_W,PH_TMP,DELC13,DELC13_FLAG_W,DELC14,DELC14_FLAG_W,C14ERR,POC,POC_FLAG_W,DOC,DOC_FLAG_W,TDN,TDN_FLAG_W,N2O,N2O_FLAG_W,BTL_DATE,BTL_TIME,BTL_LAT,BTL_LON,REFTMP,REFTMP_FLAG_W,CTDFLUOR,CTDFLUOR_FLAG_W,CTDXMISS,CTDXMISS_FLAG_W,D15N_NO2+NO3,D15N_NO2+NO3_FLAG_W,D18O_NO2+NO3,D18O_NO2+NO3_FLAG_W,HPLC,HPLC_FLAG_W,MICROGELS,MICROGELS_FLAG_W
,,,,,,,,,,,METERS,DBAR,ITS-90,PSS-78,,PSS-78,,UMOL/KG,,UMOL/KG,,UMOL/KG,,UMOL/KG,,UMOL/KG,,UMOL/KG,,PMOL/KG,,PMOL/KG,,FMOL/KG,,UMOL/KG,,UMOL/KG,,UATM,,DEG C,,,DEG C,/MILLE,,/MILLE,,/MILLE,UG/KG,,UMOL/KG,,UMOL/KG,,NMOL/KG,,,,,,ITS-90,,VOLTS,,VOLTS,,/MILLE,,/MILLE,,,,1E6 GELS/L,
325020210316,        A20,       5,          1,         32,         32,2,20210321,       1451,    42.9128,   -50.8912,        753,     5.8,   1.5150,  33.2397,3,  33.2182,2,    340.6,2,   341.3,2,    4.99,2,    6.35,2,    0.10,2,    0.68,2,-999.000,9,-999.000,9, -999.00,9,  2113.6,2, 2229.76,2,    805.3,2,    20.00,   7.69589,2,    25.00, -999.00,9, -999.00,9, -999.00,-999.000,9,   56.99,2,    9.46,2,     -999.0,9, 20210321,     1549,  42.9128, -50.8912,     1.5554,3,     0.0746,1,     4.5376,1,     -999.0,9,     -999.0,9,     -999.0,9,     -999.0,9
325020210316,        A20,       5,          1,         31,         31,2,20210321,       1451,    42.9128,   -50.8912,        753,    21.5,   1.3907,  33.2909,2,  33.2998,2,    340.3,2,   342.4,2,    4.89,2,    6.48,2,    0.09,2,    0.69,2,-999.000,9,-999.000,9, -999.00,9,  -999.0,9, -999.00,9,   -999.0,9,  -999.00,-999.00000,9,  -999.00, -999.00,9, -999.00,9, -999.00,-999.000,9,   59.82,2,   10.74,2,     -999.0,9, 20210321,     1547,  42.9128, -50.8912,     1.3973,2,     0.0976,1,     4.5703,1,     -999.0,9,     -999.0,9,     -999.0,9,     -999.0,9
325020210316,        A20,       5,          1,         30,         30,2,20210321,       1451,    42.9128,   -50.8912,        753,    35.6,   1.2772,  33.3303,2,  33.3305,2,    339.8,2,   342.5,2,    4.79,2,    6.55,2,    0.09,2,    0.69,2,-999.000,9,-999.000,9, -999.00,9,  2095.9,2, 2235.97,2,    802.1,2,    20.00,   7.69508,6,    25.01, -999.00,9, -999.00,9, -999.00,-999.000,9,   60.64,2,   10.42,2,     -999.0,9, 20210321,     1545,  42.9128, -50.8912,     1.2766,2,     0.1364,1,     4.5924,1,     -999.0,9,     -999.0,9,     -999.0,9,     -999.0,9
325020210316,        A20,       5,          1,         29,         29,2,20210321,       1451,    42.9128,   -50.8912,        753,    51.2,   1.2845,  33.3376,2,  33.3371,2,    339.6,2,   341.6,2,    4.79,2,    6.63,2,    0.09,2,    0.70,2,-999.000,9,-999.000,9, -999.00,9,  -999.0,9, -999.00,9,   -999.0,9,  -999.00,-999.00000,9,  -999.00, -999.00,9, -999.00,9, -999.00,-999.000,9, -999.00,9, -999.00,9,     -999.0,9, 20210321,     1543,  42.9128, -50.8912,     1.2837,2,     0.1317,1,     4.5961,1,     -999.0,9,     -999.0,9,     -999.0,9,     -999.0,9
325020210316,        A20,       5,          1,         28,         28,2,20210321,       1451,    42.9128,   -50.8912,        753,    65.7,   1.2833,  33.3396,2,  33.3414,2,    339.4,2,   341.3,2,    4.60,2,    6.69,2,    0.09,2,    0.70,2,-999.000,9,-999.000,9, -999.00,9,  2117.9,2, 2428.52,4,    811.2,2,    20.00,   7.69247,2,    25.00, -999.00,9, -999.00,9, -999.00,-999.000,9,   54.99,2,    9.65,2,     -999.0,9, 20210321,     1540,  42.9128, -50.8912,     1.2837,2,     0.1462,1,     4.5939,1,     -999.0,9,     -999.0,9,     -999.0,9,     -999.0,9
325020210316,        A20,       5,          1,         27,         27,2,20210321,       1451,    42.9128,   -50.8912,        753,    80.9,   1.2812,  33.3584,2,  33.3635,2,    337.2,2,   338.5,2,    5.08,2,    6.92,2,    0.09,2,    0.73,2,-999.000,9,-999.000,9, -999.00,9,  -999.0,9, -999.00,9,   -999.0,9,  -999.00,-999.00000,9,  -999.00, -999.00,9, -999.00,9, -999.00,-999.000,9, -999.00,9, -999.00,9,     -999.0,9, 20210321,     1539,  42.9128, -50.8912,     1.2811,2,     0.1159,1,     4.6044,1,     -999.0,9,     -999.0,9,     -999.0,9,     -999.0,9
325020210316,        A20,       5,          1,         26,         26,2,20210321,       1451,    42.9128,   -50.8912,        753,    95.6,   1.2724,  33.3723,2,  33.3783,2,    335.8,2,  -999.0,5,    5.28,2,    7.05,2,    0.09,2,    0.74,2,-999.000,9,-999.000,9, -999.00,9,  -999.0,9, -999.00,9,   -999.0,9,  -999.00,-999.00000,9,  -999.00, -999.00,9, -999.00,9, -999.00,-999.000,9, -999.00,9, -999.00,9,     -999.0,9, 20210321,     1538,  42.9128, -50.8912,     1.2724,2,     0.1150,1,     4.6020,1,     -999.0,9,     -999.0,9,     -999.0,9,     -999.0,9
325020210316,        A20,       5,          1,         25,         25,2,20210321,       1451,    42.9128,   -50.8912,        753,   111.1,   1.2619,  33.4252,2,  33.4383,2,    330.4,2,   330.9,2,    5.48,2,    7.56,2,    0.09,2,    0.77,2,-999.000,9,-999.000,9, -999.00,9,  2125.9,2, 2237.98,2,    843.6,2,    20.00,   7.68109,2,    25.00, -999.00,9, -999.00,9, -999.00,-999.000,9,   58.03,2,   10.62,2,     -999.0,9, 20210321,     1536,  42.9128, -50.8912,     1.2616,2,     0.0976,1,     4.6218,1,     -999.0,9,     -999.0,9,     -999.0,9,     -999.0,9
325020210316,        A20,       5,          1,         24,         24,2,20210321,       1451,    42.9128,   -50.8912,        753,   125.4,   1.3564,  33.5910,2,  33.5917,2,    322.3,3,   317.1,2,    6.84,2,    8.95,2,    0.10,2,    0.83,2,-999.000,9,-999.000,9, -999.00,9,  -999.0,9, -999.00,9,   -999.0,9,  -999.00,-999.00000,9,  -999.00, -999.00,9, -999.00,9, -999.00,-999.000,9, -999.00,9, -999.00,9,     -999.0,9, 20210321,     1535,  42.9128, -50.8912,     1.3565,2,     0.0669,1,     4.6604,1,     -999.0,9,     -999.0,9,     -999.0,9,     -999.0,9
325020210316,        A20,       5,          1,         23,         23,2,20210321,       1451,    42.9128,   -50.8912,        753,   141.4,   1.4970,  33.7135,2,  33.7265,2,    311.5,3,   307.5,2,    8.31,2,    9.97,2,    0.08,2,    0.87,2,-999.000,9,-999.000,9, -999.00,9,  2140.9,2,  2248.8,2,    890.4,2,    20.00,   7.65969,2,    25.00, -999.00,9, -999.00,9, -999.00,-999.000,9,   56.16,2,   13.43,2,     -999.0,9, 20210321,     1532,  42.9128, -50.8912,     1.4967,2,     0.0577,1,     4.6787,1,     -999.0,9,     -999.0,9,     -999.0,9,     -999.0,9
325020210316,        A20,       5,          1,         22,         22,2,20210321,       1451,    42.9128,   -50.8912,        753,   156.6,   1.5528,  33.7457,2,  33.7560,2,    307.3,2,   306.6,2,    8.41,2,   10.17,2,    0.07,2,    0.87,2,-999.000,9,-999.000,9, -999.00,9,  -999.0,9, -999.00,9,   -999.0,9,  -999.00,-999.00000,9,  -999.00, -999.00,9, -999.00,9, -999.00,-999.000,9, -999.00,9, -999.00,9,     -999.0,9, 20210321,     1532,  42.9128, -50.8912,     1.5533,2,     0.0547,1,     4.6796,1,     -999.0,9,     -999.0,9,     -999.0,9,     -999.0,9
325020210316,        A20,       5,          1,         21,         21,2,20210321,       1451,    42.9128,   -50.8912,        753,   171.6,   1.6534,  33.8072,2,  33.8057,2,    304.6,2,   303.5,2,    8.60,2,   10.48,2,    0.04,2,    0.88,2,-999.000,9,-999.000,9, -999.00,9,  2145.4,2, 2252.08,2,    890.3,2,    20.00,    7.6601,2,    25.01, -999.00,9, -999.00,9, -999.00,-999.000,9,   55.14,2,   13.57,2,     -999.0,9, 20210321,     1530,  42.9128, -50.8912,     1.6543,2,     0.0537,1,     4.6802,1,     -999.0,9,     -999.0,9,     -999.0,9,     -999.0,9
325020210316,        A20,       5,          1,         20,         20,2,20210321,       1451,    42.9128,   -50.8912,        753,   186.0,   1.7236,  33.8485,2,  33.8502,2,    304.4,2,   304.5,2,    8.41,2,   10.54,2,    0.04,2,    0.88,2,-999.000,9,-999.000,9, -999.00,9,  -999.0,9, -999.00,9,   -999.0,9,  -999.00,-999.00000,9,  -999.00, -999.00,9, -999.00,9, -999.00,-999.000,9, -999.00,9, -999.00,9,     -999.0,9, 20210321,     1528,  42.9128, -50.8912,     1.7259,2,     0.0539,1,     4.6781,1,     -999.0,9,     -999.0,9,     -999.0,9,     -999.0,9
325020210316,        A20,       5,          1,         19,         19,2,20210321,       1451,    42.9128,   -50.8912,        753,   201.4,   1.7566,  33.8638,2,  33.8633,2,    304.6,2,   304.4,2,    8.41,2,   10.60,2,    0.04,2,    0.89,2,-999.000,9,-999.000,9, -999.00,9,  -999.0,9, -999.00,9,   -999.0,9,  -999.00,-999.00000,9,  -999.00, -999.00,9, -999.00,9, -999.00,-999.000,9, -999.00,9, -999.00,9,     -999.0,9, 20210321,     1527,  42.9128, -50.8912,     1.7585,2,     0.0527,1,     4.6728,1,     -999.0,9,     -999.0,9,     -999.0,9,     -999.0,9
325020210316,        A20,       5,          1,         18,         18,2,20210321,       1451,    42.9128,   -50.8912,        753,   216.5,   2.1685,  33.9385,2,  33.9438,2,    302.4,2,   302.1,2,    8.11,2,   10.98,2,    0.04,2,    0.89,2,-999.000,9,-999.000,9, -999.00,9,  2146.2,2, 2258.15,2,    872.9,2,    20.00,   7.66826,6,    25.03, -999.00,9, -999.00,9, -999.00,-999.000,9,   57.25,2,   13.99,2,     -999.0,9, 20210321,     1524,  42.9128, -50.8912,     2.1691,2,     0.0530,1,     4.6722,1,     -999.0,9,     -999.0,9,     -999.0,9,     -999.0,9
325020210316,        A20,       5,          1,         17,         17,2,20210321,       1451,    42.9128,   -50.8912,        753,   242.5,   2.1049,  34.0431,2,  34.0392,2,    304.5,2,   305.1,2,    8.21,2,   11.30,2,    0.04,2,    0.89,2,-999.000,9,-999.000,9, -999.00,9,  -999.0,9, -999.00,9,   -999.0,9,  -999.00,-999.00000,9,  -999.00, -999.00,9, -999.00,9, -999.00,-999.000,9,   54.37,2,   15.30,2,     -999.0,9, 20210321,     1524,  42.9128, -50.8912,     2.1061,2,     0.0558,1,     4.6745,1,     -999.0,9,     -999.0,9,     -999.0,9,     -999.0,9
325020210316,        A20,       5,          1,         16,         16,2,20210321,       1451,    42.9128,   -50.8912,        753,   262.2,   2.2785,  34.1178,2,  34.1168,2,    301.9,2,   301.2,2,    8.50,2,   11.77,2,    0.02,2,    0.90,2,-999.000,9,-999.000,9, -999.00,9,  -999.0,9, -999.00,9,   -999.0,9,  -999.00,-999.00000,9,  -999.00, -999.00,9, -999.00,9, -999.00,-999.000,9, -999.00,9, -999.00,9,     -999.0,9, 20210321,     1522,  42.9128, -50.8912,     2.2824,2,     0.0521,1,     4.6749,1,     -999.0,9,     -999.0,9,     -999.0,9,     -999.0,9
325020210316,        A20,       5,          1,         15,         15,2,20210321,       1451,    42.9128,   -50.8912,        753,   281.5,   2.3299,  34.1577,2,  34.1568,2,    300.9,2,   301.5,2,    8.70,2,   11.99,2,    0.00,2,    0.90,2,-999.000,9,-999.000,9, -999.00,9,  2151.4,2, 2264.43,6,    866.3,2,    20.00,   7.66944,2,    25.03, -999.00,9, -999.00,9, -999.00,-999.000,9,   54.65,2,   14.78,2,     -999.0,9, 20210321,     1520,  42.9128, -50.8912,     2.3328,2,     0.0511,1,     4.6746,1,     -999.0,9,     -999.0,9,     -999.0,9,     -999.0,9
325020210316,        A20,       5,          1,         14,         14,2,20210321,       1451,    42.9128,   -50.8912,        753,   302.2,   2.4715,  34.2229,2,  34.2354,2,    300.4,2,   300.3,2,    8.79,2,   12.20,2,    0.00,2,    0.91,2,-999.000,9,-999.000,9, -999.00,9,  -999.0,9, -999.00,9,   -999.0,9,  -999.00,-999.00000,9,  -999.00, -999.00,9, -999.00,9, -999.00,-999.000,9,   54.12,2,   15.19,2,     -999.0,9, 20210321,     1518,  42.9128, -50.8912,     2.4659,2,     0.0506,1,     4.6728,1,     -999.0,9,     -999.0,9,     -999.0,9,     -999.0,9
325020210316,        A20,       5,          1,         13,         13,2,20210321,       1451,    42.9128,   -50.8912,        753,   322.7,   2.4806,  34.2354,2,  34.2436,2,    300.9,2,   300.8,2,    8.60,2,   12.11,2,    0.00,2,    0.93,2,   4.684,2,   2.673,2,    3.15,3,  2154.3,2, 2267.88,2,    859.5,2,    20.00,   7.67567,2,    25.03, -999.00,9, -999.00,9, -999.00,-999.000,9,   53.68,2,   14.66,2,      14.58,2, 20210321,     1516,  42.9128, -50.8912,     2.4801,2,     0.0517,1,     4.6706,1,     -999.0,9,     -999.0,9,     -999.0,9,     -999.0,9
325020210316,        A20,       5,          1,         12,         12,2,20210321,       1451,    42.9128,   -50.8912,        753,   348.4,   2.5998,  34.2804,2,  34.2830,2,    300.1,2,   300.1,2,    8.40,2,   12.29,2,    0.00,2,    0.91,2,-999.000,9,-999.000,9, -999.00,9,  -999.0,9, -999.00,9,   -999.0,9,  -999.00,-999.00000,9,  -999.00, -999.00,9, -999.00,9, -999.00,-999.000,9,   52.76,2,   14.81,2,     -999.0,9, 20210321,     1515,  42.9128, -50.8912,     2.6002,2,     0.0482,1,     4.6740,1,     -999.0,9,     -999.0,9,     -999.0,9,     -999.0,9
325020210316,        A20,       5,          1,         11,         11,2,20210321,       1451,    42.9128,   -50.8912,        753,   378.4,   2.7971,  34.3460,2,  34.3511,2,    297.9,2,   297.0,2,    8.50,2,   12.77,2,    0.00,2,    0.93,2,-999.000,9,-999.000,9, -999.00,9,  -999.0,9, -999.00,9,   -999.0,9,  -999.00,-999.00000,9,  -999.00, -999.00,9, -999.00,9, -999.00,-999.000,9,   53.89,2,   14.56,2,     -999.0,9, 20210321,     1513,  42.9127, -50.8912,     2.8000,2,     0.0492,1,     4.6735,1,     -999.0,9,     -999.0,9,     -999.0,9,     -999.0,9
325020210316,        A20,       5,          1,         10,         10,2,20210321,       1451,    42.9128,   -50.8912,        753,   398.3,   3.1759,  34.4281,2,  34.4271,2,    290.0,2,   288.3,2,    8.99,2,   13.54,2,    0.00,2,    0.96,2,   4.419,2,   2.549,2,    3.29,3,  2160.7,2, 2279.16,2,    853.9,6,    20.00,   7.67709,2,    25.03, -999.00,9, -999.00,9, -999.00,-999.000,9,   52.09,2,   16.29,2,      14.79,2, 20210321,     1511,  42.9127, -50.8912,     3.1852,2,     0.0471,1,     4.6766,1,     -999.0,9,     -999.0,9,     -999.0,9,     -999.0,9
325020210316,        A20,       5,          1,          9,          9,2,20210321,       1451,    42.9128,   -50.8912,        753,   423.9,   4.2190,  34.6283,2,  34.6176,2,    266.1,3,   262.4,2,   10.16,2,   15.73,2,    0.00,2,    1.07,2,-999.000,9,-999.000,9, -999.00,9,  -999.0,9, -999.00,9,   -999.0,9,  -999.00,-999.00000,9,  -999.00, -999.00,9, -999.00,9, -999.00,-999.000,9,   47.98,2,   18.29,2,     -999.0,9, 20210321,     1509,  42.9128, -50.8912,     4.1986,2,     0.0438,1,     4.6847,1,     -999.0,9,     -999.0,9,     -999.0,9,     -999.0,9
325020210316,        A20,       5,          1,          8,          8,2,20210321,       1451,    42.9128,   -50.8912,        753,   449.7,   4.8821,  34.7742,2,  34.7722,2,    237.6,3,   242.3,2,   11.33,2,   17.54,2,    0.00,2,    1.17,2,-999.000,9,-999.000,9, -999.00,9,  -999.0,9, -999.00,9,   -999.0,9,  -999.00,-999.00000,9,  -999.00, -999.00,9, -999.00,9, -999.00,-999.000,9,   48.00,2,   19.74,2,     -999.0,9, 20210321,     1507,  42.9127, -50.8912,     4.8802,2,     0.0435,1,     4.6945,1,     -999.0,9,     -999.0,9,     -999.0,9,     -999.0,9
325020210316,        A20,       5,          1,          7,          7,2,20210321,       1451,    42.9128,   -50.8912,        753,   474.4,   4.1902,  34.7018,2,  34.7113,2,    251.2,3,   261.6,2,   10.55,2,   16.25,2,    0.00,2,    1.09,2,   5.991,2,   2.163,2,    2.70,3,  2171.0,2, 2291.26,2,    862.3,2,    20.00,    7.6743,2,    25.03, -999.00,9, -999.00,9, -999.00,-999.000,9,   49.99,2,   18.94,2,      15.11,2, 20210321,     1505,  42.9127, -50.8912,     4.1819,2,     0.0436,1,     4.6873,1,     -999.0,9,     -999.0,9,     -999.0,9,     -999.0,9
325020210316,        A20,       5,          1,          6,          6,2,20210321,       1451,    42.9128,   -50.8912,        753,   510.3,   3.6673,  34.6658,2,  34.6659,2,    280.1,2,   279.7,2,    9.96,2,   15.19,2,    0.00,2,    1.03,2,-999.000,9,-999.000,9, -999.00,9,  -999.0,9, -999.00,9,   -999.0,9,  -999.00,-999.00000,9,  -999.00, -999.00,9, -999.00,9, -999.00,-999.000,9,   50.10,2,   17.11,2,     -999.0,9, 20210321,     1503,  42.9127, -50.8912,     3.6621,2,     0.0431,1,     4.6806,1,     -999.0,9,     -999.0,9,     -999.0,9,     -999.0,9
325020210316,        A20,       5,          1,          5,          5,2,20210321,       1451,    42.9128,   -50.8912,        753,   546.4,   3.6699,  34.6819,2,  34.6637,3,    282.1,2,   280.8,2,    9.87,2,   15.16,2,    0.00,2,    1.03,2,   4.208,2,   2.446,2,    2.78,3,  2167.5,2, 2290.22,2,    850.0,2,    20.00,   7.67869,2,    25.02, -999.00,9, -999.00,9, -999.00,-999.000,9,   52.67,2,   18.43,2,      14.31,2, 20210321,     1501,  42.9127, -50.8912,     3.6684,2,     0.0430,1,     4.6797,1,     -999.0,9,     -999.0,9,     -999.0,9,     -999.0,9
325020210316,        A20,       5,          1,          4,          4,2,20210321,       1451,    42.9128,   -50.8912,        753,   600.6,   3.7609,  34.7300,2,  34.7284,2,    281.3,2,   280.5,2,    9.87,2,   15.59,2,    0.00,2,    1.04,2,-999.000,9,-999.000,9, -999.00,9,  -999.0,9, -999.00,9,   -999.0,9,  -999.00,-999.00000,9,  -999.00, -999.00,9, -999.00,9, -999.00,-999.000,9,   53.45,2,   19.20,2,     -999.0,9, 20210321,     1459,  42.9127, -50.8912,     3.7605,2,     0.0421,1,     4.6846,1,     -999.0,9,     -999.0,9,     -999.0,9,     -999.0,9
325020210316,        A20,       5,          1,          3,          3,2,20210321,       1451,    42.9128,   -50.8912,        753,   652.3,   3.8047,  34.7703,2,  34.7648,2,    281.5,2,   281.6,2,    9.57,2,   15.72,2,    0.00,2,    1.04,2,   4.145,2,   2.392,2,    2.77,3,  2168.4,2, 2294.46,2,    837.6,2,    20.00,   7.68558,6,    25.02, -999.00,9, -999.00,9, -999.00,-999.000,9,   50.17,2,   16.53,2,      14.16,2, 20210321,     1455,  42.9128, -50.8912,     3.8043,2,     0.0429,1,     4.6901,1,     -999.0,9,     -999.0,9,     -999.0,9,     -999.0,9
325020210316,        A20,       5,          1,          2,          2,2,20210321,       1451,    42.9128,   -50.8912,        753,   706.4,   3.7893,  34.8048,2,  34.7860,3,    282.0,2,   282.9,2,    9.28,2,   15.81,2,    0.00,2,    1.05,2,   3.997,2,   2.387,2,    3.02,3,  2175.8,2, 2297.83,2,    832.0,2,    20.00,   7.68952,6,    25.04, -999.00,9, -999.00,9, -999.00,-999.000,9,   49.38,2,   18.94,2,      13.97,2, 20210321,     1453,  42.9127, -50.8912,     3.7897,2,     0.0420,1,     4.6918,1,     -999.0,9,     -999.0,9,     -999.0,9,     -999.0,9
325020210316,        A20,       5,          1,          1,          1,2,20210321,       1451,    42.9128,   -50.8912,        753,   752.8,   3.7414,  34.8245,2,  34.8298,2,    282.0,2,   283.2,2,    9.38,2,   16.00,2,    0.00,2,    1.05,2,   3.985,2,   2.341,2,    2.84,3,  2174.1,2, 2297.23,6,    832.4,2,    20.00,   7.68969,2,    25.02, -999.00,9, -999.00,9, -999.00,-999.000,9,   51.36,2,   18.42,2,      13.89,2, 20210321,     1451,  42.9127, -50.8912,     3.7419,2,     0.0428,1,     4.6924,1,     -999.0,9,     -999.0,9,     -999.0,9,     -999.0,9