BOTTLE,20230512CCHSIOCBG
EXPOCODE,SECT_ID,STNNBR,CASTNO,SAMPNO,BTLNBR,BTLNBR_FLAG_W,DATE,TIME,LATITUDE,LONGITUDE,DEPTH,CTDPRS,CTDTMP,CTDSAL,CTDSAL_FLAG_W,SALNTY,SALNTY_FLAG_W,CTDOXY,CTDOXY_FLAG_W,OXYGEN,OXYGEN_FLAG_W,SILCAT,SILCAT_FLAG_W,NITRAT,NITRAT_FLAG_W,NITRIT,NITRIT_FLAG_W,PHSPHT,PHSPHT_FLAG_W,CFC-11,CFC-11_FLAG_W,CFC-12,CFC-12_FLAG_W,SF6,SF6_FLAG_W,TCARBN,TCARBN_FLAG_W,ALKALI,ALKALI_FLAG_W,FCO2,FCO2_FLAG_W,FCO2TMP,PH_TOT,PH_TOT_FLAG_W,PH_TMP,DELC13,DELC13_FLAG_W,DELC14,DELC14_FLAG_W,C14ERR,POC,POC_FLAG_W,DOC,DOC_FLAG_W,TDN,TDN_FLAG_W,N2O,N2O_FLAG_W,BTL_DATE,BTL_TIME,BTL_LAT,BTL_LON,REFTMP,REFTMP_FLAG_W,CTDFLUOR,CTDFLUOR_FLAG_W,CTDXMISS,CTDXMISS_FLAG_W,D15N_NO2+NO3,D15N_NO2+NO3_FLAG_W,D18O_NO2+NO3,D18O_NO2+NO3_FLAG_W,HPLC,HPLC_FLAG_W,MICROGELS,MICROGELS_FLAG_W
,,,,,,,,,,,METERS,DBAR,ITS-90,PSS-78,,PSS-78,,UMOL/KG,,UMOL/KG,,UMOL/KG,,UMOL/KG,,UMOL/KG,,UMOL/KG,,PMOL/KG,,PMOL/KG,,FMOL/KG,,UMOL/KG,,UMOL/KG,,UATM,,DEG C,,,DEG C,/MILLE,,/MILLE,,/MILLE,UG/KG,,UMOL/KG,,UMOL/KG,,NMOL/KG,,,,,,ITS-90,,VOLTS,,VOLTS,,/MILLE,,/MILLE,,,,1E6 GELS/L,
325020210316,        A20,      64,          1,         36,         36,2,20210407,       2217,    13.0558,   -52.3338,       5083,     5.5,  26.7391,  35.9223,2,  35.9255,2,    204.5,2,   203.4,2,    1.17,2,    0.00,2,    0.00,2,    0.00,2,   1.410,2,   0.964,2,    1.50,2,  2031.9,6,  2356.5,2,    304.6,2,    20.00,   8.08296,2,    24.99,    1.10,2,   25.90,2,    2.07,-999.000,9,   77.71,2,    6.64,2,       6.02,2, 20210408,       32,  13.0558, -52.3338,    26.7377,2,     0.0505,1,     4.6176,1,     -999.0,1,     -999.0,1,     -999.0,9,     -999.0,9
325020210316,        A20,      64,          1,         35,         35,2,20210407,       2217,    13.0558,   -52.3338,       5083,    35.2,  26.2599,  36.2216,2,  36.2238,2,    205.5,2,   204.2,2,    0.88,2,    0.00,2,    0.00,2,    0.00,2,-999.000,9,-999.000,9, -999.00,9,  2042.7,2, 2370.76,2,    305.3,2,    20.00,   8.08424,6,    24.98, -999.00,9, -999.00,9, -999.00,-999.000,9,   77.79,2,    5.24,2,     -999.0,9, 20210408,       30,  13.0558, -52.3338,    26.2565,2,     0.0578,1,     4.6238,1,     -999.0,1,     -999.0,1,     -999.0,9,     -999.0,9
325020210316,        A20,      64,          1,         34,         34,2,20210407,       2217,    13.0558,   -52.3338,       5083,    65.2,  26.2047,  36.2601,2,  36.2628,2,    202.8,2,   202.3,2,    0.88,2,    0.08,2,    0.00,2,    0.00,2,-999.000,9,-999.000,9, -999.00,9,  2045.8,2, 2374.26,6,    308.0,2,    20.00,   8.08265,2,    24.99, -999.00,9, -999.00,9, -999.00,-999.000,9,   77.53,2,    5.15,2,     -999.0,9, 20210408,       28,  13.0558, -52.3338,    26.2042,2,     0.0986,1,     4.6056,1,     -999.0,1,     -999.0,1,     -999.0,9,     -999.0,9
325020210316,        A20,      64,          1,         33,         33,2,20210407,       2217,    13.0558,   -52.3338,       5083,    85.2,  25.9863,  36.4787,2,  36.4331,3,    199.8,2,   199.7,2,    0.88,2,    0.07,2,    0.03,2,    0.00,2,   1.477,2,   0.981,2,    1.60,2,  2054.1,2, 2385.46,2,    309.1,2,    20.00,   8.08314,2,    25.00, -999.00,9, -999.00,9, -999.00,-999.000,9,   79.20,2,    5.22,2,       6.41,2, 20210408,       26,  13.0558, -52.3338,    26.0365,2,     0.0866,1,     4.6281,1,     -999.0,1,     -999.0,1,     -999.0,9,     -999.0,9
325020210316,        A20,      64,          1,         32,         32,2,20210407,       2217,    13.0558,   -52.3338,       5083,   115.4,  23.4997,  37.1719,2,  37.1557,2,    174.8,3,   176.6,2,    0.88,2,    0.92,2,    0.12,2,    0.02,2,-999.000,9,-999.000,9, -999.00,9,  2144.1,2, 2429.97,2,    400.9,2,    20.00,   7.99159,2,    24.98, -999.00,9, -999.00,9, -999.00,-999.000,9,   64.91,2,    4.46,2,     -999.0,9, 20210408,       24,  13.0558, -52.3338,    23.4900,2,     0.0703,1,     4.6618,1,     -999.0,1,     -999.0,1,     -999.0,9,     -999.0,9
325020210316,        A20,      64,          1,         31,         31,2,20210407,       2217,    13.0558,   -52.3338,       5083,   166.0,  18.8907,  36.5934,2,  36.5575,3,    141.5,3,   143.3,2,    2.44,2,    9.43,2,    0.00,2,    0.48,2,   1.897,2,   1.250,2,    1.39,2,  2177.4,2,  2388.2,2,    550.7,2,    20.00,   7.86365,2,    24.98,    0.40,2,   44.79,2,    2.03,-999.000,9,   58.31,2,   12.66,2,      15.28,2, 20210408,       22,  13.0558, -52.3338,    18.8821,2,     0.0439,1,     4.6801,1,     -999.0,1,     -999.0,1,     -999.0,9,     -999.0,9
325020210316,        A20,      64,          1,         30,         30,2,20210407,       2217,    13.0558,   -52.3338,       5083,   216.5,  15.8366,  36.1039,2,  36.0964,2,    127.8,3,   129.9,2,    4.68,2,   15.13,2,    0.00,2,    0.83,2,   1.982,2,   1.279,2,    1.15,2,  2189.0,2, 2363.95,2,    668.9,2,    20.00,   7.78513,6,    24.99,    0.22,2,   37.34,2,    2.12,-999.000,9,   53.94,2,   17.22,2,      20.44,2, 20210408,       20,  13.0558, -52.3338,    15.8409,2,     0.0401,1,     4.6847,1,     -999.0,1,     -999.0,1,     -999.0,9,     -999.0,9
325020210316,        A20,      64,          1,         29,         29,2,20210407,       2217,    13.0558,   -52.3338,       5083,   266.7,  13.6775,  35.7203,2,  35.7112,2,    117.2,3,   119.0,2,    7.42,2,   19.91,2,    0.00,2,    1.15,2,-999.000,9,-999.000,9, -999.00,9,  2199.1,2, 2343.57,2,    790.6,2,    20.00,   7.71393,2,    24.99,    0.42,2,   35.81,2,    3.21,-999.000,9,   50.73,2,   22.30,2,     -999.0,9, 20210408,       18,  13.0558, -52.3338,    13.6808,2,     0.0412,1,     4.6855,1,     -999.0,1,     -999.0,1,     -999.0,9,     -999.0,9
325020210316,        A20,      64,          1,         28,         28,2,20210407,       2217,    13.0558,   -52.3338,       5083,   316.9,  12.3761,  35.5172,2,  35.5121,2,    111.1,3,   112.3,2,    9.37,2,   22.83,2,    0.00,2,    1.34,2,   1.793,2,   1.068,2,    0.73,2,  2206.4,2, 2331.23,2,    874.1,2,    20.00,   7.67054,2,    25.00,    0.42,2,   17.81,2,    2.06,-999.000,9,   47.31,2,   24.32,2,      25.42,2, 20210408,       16,  13.0558, -52.3338,    12.3716,2,     0.0428,1,     4.6862,1,     -999.0,1,     -999.0,1,     -999.0,9,     -999.0,9
325020210316,        A20,      64,          1,         27,         27,2,20210407,       2217,    13.0558,   -52.3338,       5083,   367.2,  11.3288,  35.3498,2,  35.3457,2,    110.6,2,   109.6,2,   11.03,2,   25.08,2,    0.00,2,    1.50,2,   1.638,2,   0.969,2,    0.63,2,  2209.8,2, 2323.98,2,    940.1,6,    20.00,   7.63969,2,    24.99,    0.44,2,    5.84,2,    2.11,-999.000,9,   47.70,2,   26.67,2,      26.39,2, 20210408,       14,  13.0558, -52.3338,    11.3272,2,     0.0409,1,     4.6866,1,     -999.0,1,     -999.0,1,     -999.0,9,     -999.0,9
325020210316,        A20,      64,          1,         26,         26,2,20210407,       2217,    13.0558,   -52.3338,       5083,   438.0,   9.9780,  35.1520,2,  35.5942,3,     98.0,2,    97.6,2,   13.77,2,   28.81,2,    0.00,2,    1.75,2,   1.310,2,   0.743,2,    0.46,2,  2220.5,6, 2314.18,2,   1069.1,2,    20.00,   7.58331,2,    25.00,    0.50,2,  -10.23,2,    2.20,-999.000,9,   46.61,2,   30.26,2,      29.29,2, 20210408,       12,  13.0558, -52.3338,     9.9772,2,     0.0428,1,     4.6873,1,     -999.0,1,     -999.0,1,     -999.0,9,     -999.0,9
325020210316,        A20,      64,          1,         25,         25,2,20210407,       2217,    13.0558,   -52.3338,       5083,   539.2,   8.5587,  34.9603,2,  34.9599,2,    107.6,2,   106.9,2,   16.99,2,   30.81,2,    0.00,2,    1.90,2,-999.000,9,-999.000,9, -999.00,9,  2222.2,2, 2308.97,2,   1118.0,2,    20.00,    7.5641,6,    25.00,    0.54,2,  -35.93,2,    1.87,-999.000,9,   46.17,2,   32.62,2,     -999.0,9, 20210408,        8,  13.0558, -52.3338,     8.5559,2,     0.0433,1,     4.6884,1,     -999.0,1,     -999.0,1,     -999.0,9,     -999.0,9
325020210316,        A20,      64,          1,         24,         24,2,20210407,       2217,    13.0558,   -52.3338,       5083,   639.7,   7.3042,  34.8058,2,  34.8051,2,    114.0,2,   113.6,2,   20.90,2,   32.81,2,    0.00,2,    2.07,2,   0.696,2,   0.379,2,    0.25,2,  2225.3,2, 2304.53,2,   1167.9,2,    20.00,   7.54217,2,    25.01,    0.55,2,  -60.99,2,    2.47,-999.000,9,   44.00,2,   33.57,2,      27.05,2, 20210408,        5,  13.0558, -52.3338,     7.3038,2,     0.0419,1,     4.6882,1,     -999.0,1,     -999.0,1,     -999.0,9,     -999.0,9
325020210316,        A20,      64,          1,         23,         23,2,20210407,       2217,    13.0558,   -52.3338,       5083,   740.6,   6.4603,  34.7311,2,  34.7290,2,    122.6,2,   122.3,2,   23.74,2,   33.52,2,    0.00,2,    2.15,2,   0.473,2,   0.253,2,    0.07,2,  2225.6,2, 2304.69,6,   1180.5,2,    20.00,   7.53773,2,    25.00,    0.58,2,  -96.29,2,    1.76,-999.000,9,   44.88,2,   34.81,2,      26.29,2, 20210408,        2,  13.0558, -52.3338,     6.4605,2,     0.0429,1,     4.6891,1,     -999.0,1,     -999.0,1,     -999.0,9,     -999.0,9
325020210316,        A20,      64,          1,         22,         22,2,20210407,       2217,    13.0558,   -52.3338,       5083,   841.3,   5.8229,  34.6922,2,  34.6920,2,    127.9,2,   127.9,2,   26.08,2,   33.98,2,    0.00,2,    2.20,2,-999.000,9,-999.000,9, -999.00,9,  2227.1,2, 2303.64,2,   1186.5,2,    20.00,   7.53595,2,    24.99,    0.68,2,  -81.48,2,    1.80,-999.000,9, -999.00,9, -999.00,9,     -999.0,9, 20210407,     2359,  13.0558, -52.3338,     5.8217,2,     0.0433,1,     4.6886,1,     -999.0,1,     -999.0,1,     -999.0,9,     -999.0,9
325020210316,        A20,      64,          1,         21,         21,2,20210407,       2217,    13.0558,   -52.3338,       5083,   942.6,   5.5432,  34.7231,2,  34.7237,2,    136.0,2,   136.0,2,   26.57,2,   33.05,2,    0.00,2,    2.15,2,   0.191,2,   0.102,2,    0.12,2,  2226.3,2, 2306.54,2,   1141.0,2,    20.00,   7.55218,2,    25.00,    0.72,2,  -98.27,2,    1.75,-999.000,9,   42.20,2,   34.68,2,      24.94,2, 20210407,     2355,  13.0558, -52.3338,     5.5424,2,     0.0430,1,     4.6886,1,     -999.0,1,     -999.0,1,     -999.0,9,     -999.0,9
325020210316,        A20,      64,          1,         20,         20,2,20210407,       2217,    13.0558,   -52.3338,       5083,  1043.2,   5.4121,  34.7895,2,  34.7895,2,    143.8,2,   144.1,2,   25.79,2,   31.53,2,    0.00,2,    2.06,2,-999.000,9,-999.000,9, -999.00,9,  2222.4,2, 2310.82,2,   1091.2,2,    20.00,   7.57206,2,    25.00,    0.73,2, -102.32,2,    1.75,-999.000,9, -999.00,9, -999.00,9,     -999.0,9, 20210407,     2353,  13.0558, -52.3338,     5.4123,2,     0.0430,1,     4.6897,1,     -999.0,1,     -999.0,1,     -999.0,9,     -999.0,9
325020210316,        A20,      64,          1,         19,         19,2,20210407,       2217,    13.0558,   -52.3338,       5083,  1144.5,   5.3077,  34.8682,2,  34.8684,2,    164.4,2,   164.4,2,   23.54,2,   28.50,2,    0.00,2,    1.87,2,   0.271,2,   0.143,2,    0.09,2,  2212.6,2, 2311.96,2,    991.0,2,    20.00,   7.61406,2,    25.01,    0.87,2,  -91.60,2,    1.97,-999.000,9,   43.88,2,   30.10,2,      21.53,2, 20210407,     2350,  13.0558, -52.3338,     5.3074,2,     0.0430,1,     4.6895,1,     -999.0,1,     -999.0,1,     -999.0,9,     -999.0,9
325020210316,        A20,      64,          1,         18,         18,2,20210407,       2217,    13.0558,   -52.3338,       5083,  1246.5,   5.2185,  34.9426,2,  34.9435,2,    181.6,2,   181.9,2,   21.10,2,   25.93,2,    0.00,2,    1.69,2,   0.341,2,   0.175,2,    0.11,2,  2200.8,2, 2313.18,2,    914.5,2,    20.00,   7.64768,2,    25.02,    0.90,2,  -86.98,2,    2.16,-999.000,9, -999.00,9, -999.00,9,      20.16,2, 20210407,     2347,  13.0558, -52.3338,     5.2175,2,     0.0416,1,     4.6923,1,     -999.0,1,     -999.0,1,     -999.0,9,     -999.0,9
325020210316,        A20,      64,          1,         17,         17,2,20210407,       2217,    13.0558,   -52.3338,       5083,  1347.7,   5.0379,  34.9908,2,  34.9917,2,    209.9,2,   209.6,2,   17.77,2,   22.47,2,    0.00,2,    1.46,2,-999.000,9,-999.000,9, -999.00,9,  2186.6,2,  2315.9,2,    835.3,2,    20.00,   7.68435,2,    25.01,    0.89,2,  -64.41,2,    1.83,-999.000,9,   44.55,2,   24.02,2,     -999.0,9, 20210407,     2344,  13.0558, -52.3338,     5.0362,2,     0.0429,1,     4.6911,1,     -999.0,1,     -999.0,1,     -999.0,9,     -999.0,9
325020210316,        A20,      64,          1,         16,         16,2,20210407,       2217,    13.0558,   -52.3338,       5083,  1448.3,   4.7508,  35.0068,2,  35.0073,2,    229.2,2,   228.3,2,   15.82,2,   20.47,2,    0.00,2,    1.33,2,   1.191,2,   0.637,2,    0.35,2,  2180.5,2, 2316.33,2,    795.5,2,    20.00,   7.70361,2,    25.02,    0.90,6,  -53.59,6,    2.04,-999.000,9, -999.00,9, -999.00,9,      15.91,2, 20210407,     2341,  13.0558, -52.3338,     4.7517,2,     0.0414,1,     4.6918,1,     -999.0,1,     -999.0,1,     -999.0,9,     -999.0,9
325020210316,        A20,      64,          1,         15,         15,2,20210407,       2217,    13.0558,   -52.3338,       5083,  1549.5,   4.4544,  35.0002,2,  35.0012,2,    234.6,2,   233.8,2,   16.31,2,   20.26,2,    0.00,2,    1.32,2,   0.916,2,   0.480,2,    0.29,2,  2175.7,2, 2317.26,6,    779.0,2,    20.00,   7.71133,2,    25.03,    1.00,2,  -61.03,2,    2.18,-999.000,9,   43.55,2,   21.34,2,      15.93,2, 20210407,     2338,  13.0558, -52.3338,     4.4552,2,     0.0421,1,     4.6944,1,     -999.0,1,     -999.0,1,     -999.0,9,     -999.0,9
325020210316,        A20,      64,          1,         14,         14,2,20210407,       2217,    13.0558,   -52.3338,       5083,  1680.8,   4.0634,  34.9901,2,  34.9923,2,    246.1,2,   245.8,2,   16.41,2,   19.37,2,    0.00,2,    1.26,2,-999.000,9,-999.000,9, -999.00,9,  2171.1,2, 2316.63,2,    755.1,2,    20.00,   7.72347,2,    25.01,    0.99,2,  -66.64,2,    2.19,-999.000,9, -999.00,9, -999.00,9,     -999.0,9, 20210407,     2334,  13.0558, -52.3338,     4.0630,2,     0.0423,1,     4.6945,1,     -999.0,1,     -999.0,1,     -999.0,9,     -999.0,9
325020210316,        A20,      64,          1,         13,         13,2,20210407,       2217,    13.0558,   -52.3338,       5083,  1884.3,   3.7288,  34.9787,2,  34.9799,2,    250.3,2,   250.9,2,   18.46,2,   19.29,2,    0.00,2,    1.25,2,   0.604,2,   0.305,2,    0.15,2,  2170.8,2, 2316.33,2,    744.4,2,    20.00,   7.73077,2,    25.01,    1.06,2,  -74.66,2,    2.52,-999.000,9,   42.48,2,   20.19,2,      14.89,2, 20210407,     2329,  13.0558, -52.3338,     3.7286,2,     0.0419,1,     4.6947,1,     -999.0,1,     -999.0,1,     -999.0,9,     -999.0,9
325020210316,        A20,      64,          1,         12,         12,2,20210407,       2217,    13.0558,   -52.3338,       5083,  2108.4,   3.4045,  34.9628,2,  34.9644,2,    260.3,2,   260.3,2,   18.07,2,   18.32,2,    0.00,2,    1.19,2,   0.931,2,   0.476,2,    0.18,2,  2169.1,6, 2314.71,2,    736.4,2,    20.00,   7.73537,2,    25.00,    1.07,2,  -60.42,2,    2.28,-999.000,9,   44.18,2,   19.47,2,      14.08,2, 20210407,     2324,  13.0558, -52.3338,     3.4039,2,     0.0419,1,     4.6935,1,     -999.0,1,     -999.0,1,     -999.0,9,     -999.0,9
325020210316,        A20,      64,          1,         11,         11,2,20210407,       2217,    13.0558,   -52.3338,       5083,  2361.2,   3.1886,  34.9535,2,  34.9545,2,    259.3,2,   259.3,2,   20.90,2,   18.64,2,    0.00,2,    1.22,2,-999.000,9,-999.000,9, -999.00,9,  2169.7,2, 2319.78,2,    732.8,2,    20.00,   7.73785,6,    25.00,    1.11,2,  -75.04,2,    2.03,-999.000,9,   45.10,2,   20.41,2,     -999.0,9, 20210407,     2318,  13.0558, -52.3338,     3.1885,2,     0.0424,1,     4.6934,1,     -999.0,1,     -999.0,1,     -999.0,9,     -999.0,9
325020210316,        A20,      64,          1,         10,         10,2,20210407,       2217,    13.0558,   -52.3338,       5083,  2616.3,   2.9859,  34.9427,2,  34.9443,2,    257.2,2,   257.4,2,   24.81,2,   19.10,2,    0.00,2,    1.25,2,   0.471,2,   0.231,2,    0.12,2,  2175.1,2, 2320.59,2,    734.9,2,    20.00,   7.73817,2,    25.00,    1.09,2,  -83.70,2,    2.02,-999.000,9, -999.00,9, -999.00,9,      14.64,2, 20210407,     2313,  13.0558, -52.3338,     2.9854,2,     0.0424,1,     4.6930,1,     -999.0,1,     -999.0,1,     -999.0,9,     -999.0,9
325020210316,        A20,      64,          1,          9,          9,2,20210407,       2217,    13.0558,   -52.3338,       5083,  2870.5,   2.8045,  34.9311,2,  34.9327,2,    254.6,2,   254.9,2,   29.30,2,   19.77,2,    0.00,2,    1.30,2,   0.341,6,   0.171,6,    0.13,6,  2180.7,2, 2325.57,2,    738.5,2,    20.00,   7.73608,2,    25.01,    1.12,2,  -95.54,2,    2.63,-999.000,9,   43.36,2,   20.88,2,      14.49,6, 20210407,     2307,  13.0558, -52.3338,     2.8042,2,     0.0429,1,     4.6937,1,     -999.0,1,     -999.0,1,     -999.0,9,     -999.0,9
325020210316,        A20,      64,          1,          8,          8,2,20210407,       2217,    13.0558,   -52.3338,       5083,  3140.8,   2.6823,  34.9217,2,  34.9235,2,    251.7,2,   252.4,2,   33.89,2,   20.45,2,    0.00,2,    1.35,2,-999.000,9,-999.000,9, -999.00,9,  2184.1,2, 2329.26,2,    741.7,2,    20.00,    7.7348,2,    25.00,    1.03,2,  -98.39,2,    1.86,-999.000,9, -999.00,9, -999.00,9,     -999.0,9, 20210407,     2301,  13.0558, -52.3338,     2.6817,2,     0.0424,1,     4.6936,1,     -999.0,1,     -999.0,1,     -999.0,9,     -999.0,9
325020210316,        A20,      64,          1,          7,          7,2,20210407,       2217,    13.0558,   -52.3338,       5083,  3447.9,   2.5370,  34.9099,2,  34.9117,2,    255.1,2,   255.4,2,   34.48,2,   20.22,2,    0.00,2,    1.33,2,   0.305,2,   0.159,2,    0.07,2,  2186.2,2, 2345.74,3,    744.5,2,    20.00,   7.73299,2,    25.02,    1.06,2,  -92.99,2,    1.88,-999.000,9,   44.00,2,   20.50,2,      14.34,2, 20210407,     2254,  13.0558, -52.3338,     2.5366,2,     0.0428,1,     4.6936,1,     -999.0,1,     -999.0,1,     -999.0,9,     -999.0,9
325020210316,        A20,      64,          1,          6,          6,2,20210407,       2217,    13.0558,   -52.3338,       5083,  3754.3,   2.4016,  34.8999,2,  34.9008,2,    260.2,2,   260.1,2,   33.30,2,   19.66,2,    0.00,2,    1.30,2,   0.537,2,   0.255,2,    0.13,2,  2181.8,2, 2328.87,6,    745.9,2,    20.00,   7.73317,2,    25.01,    1.08,2,  -85.77,2,    1.79,-999.000,9, -999.00,9, -999.00,9,      14.77,2, 20210407,     2248,  13.0558, -52.3338,     2.4017,2,     0.0429,1,     4.6935,1,     -999.0,1,     -999.0,1,     -999.0,9,     -999.0,9
325020210316,        A20,      64,          1,          5,          5,2,20210407,       2217,    13.0558,   -52.3338,       5083,  4060.5,   2.3235,  34.8931,2,  34.8945,2,    262.3,2,   261.9,2,   33.40,2,   19.48,2,    0.00,2,    1.29,2,-999.000,9,-999.000,9, -999.00,9,  2181.6,2, 2329.62,2,    745.4,2,    20.00,   7.73217,2,    25.01,    1.05,2,  -80.11,2,    2.00,-999.000,9,   43.72,2,   19.86,2,     -999.0,9, 20210407,     2241,  13.0558, -52.3338,     2.3233,2,     0.0430,1,     4.6934,1,     -999.0,1,     -999.0,1,     -999.0,9,     -999.0,9
325020210316,        A20,      64,          1,          4,          4,2,20210407,       2217,    13.0558,   -52.3338,       5083,  4369.1,   2.2605,  34.8850,2,  34.8865,2,    261.6,2,   260.7,2,   36.33,2,   19.81,2,    0.00,2,    1.31,2,   0.562,2,   0.290,2,    0.20,2,  2184.3,2, 2330.03,2,    751.2,2,    20.00,   7.73011,2,    25.02,    1.00,2,  -86.48,2,    1.89,-999.000,9,   46.52,2,   19.85,2,      14.52,2, 20210407,     2234,  13.0558, -52.3338,     2.2608,2,     0.0423,1,     4.6933,1,     -999.0,1,     -999.0,1,     -999.0,9,     -999.0,9
325020210316,        A20,      64,          1,          3,          3,2,20210407,       2217,    13.0558,   -52.3338,       5083,  4677.4,   2.1405,  34.8673,2,  34.8690,2,    255.3,2,   255.6,2,   45.51,2,   21.24,2,    0.00,2,    1.42,2,   0.464,2,   0.219,2,    0.11,2,  2194.3,2, 2339.01,6,   -999.0,9,  -999.00,   7.71987,6,    25.00,    0.95,2,  -93.45,2,    1.87,-999.000,9, -999.00,9, -999.00,9,      15.61,2, 20210407,     2228,  13.0558, -52.3338,     2.1415,2,     0.0421,1,     4.6886,1,     -999.0,1,     -999.0,1,     -999.0,9,     -999.0,9