BOTTLE,20230512CCHSIOCBG
EXPOCODE,SECT_ID,STNNBR,CASTNO,SAMPNO,BTLNBR,BTLNBR_FLAG_W,DATE,TIME,LATITUDE,LONGITUDE,DEPTH,CTDPRS,CTDTMP,CTDSAL,CTDSAL_FLAG_W,SALNTY,SALNTY_FLAG_W,CTDOXY,CTDOXY_FLAG_W,OXYGEN,OXYGEN_FLAG_W,SILCAT,SILCAT_FLAG_W,NITRAT,NITRAT_FLAG_W,NITRIT,NITRIT_FLAG_W,PHSPHT,PHSPHT_FLAG_W,CFC-11,CFC-11_FLAG_W,CFC-12,CFC-12_FLAG_W,SF6,SF6_FLAG_W,TCARBN,TCARBN_FLAG_W,ALKALI,ALKALI_FLAG_W,FCO2,FCO2_FLAG_W,FCO2TMP,PH_TOT,PH_TOT_FLAG_W,PH_TMP,DELC13,DELC13_FLAG_W,DELC14,DELC14_FLAG_W,C14ERR,POC,POC_FLAG_W,DOC,DOC_FLAG_W,TDN,TDN_FLAG_W,N2O,N2O_FLAG_W,BTL_DATE,BTL_TIME,BTL_LAT,BTL_LON,REFTMP,REFTMP_FLAG_W,CTDFLUOR,CTDFLUOR_FLAG_W,CTDXMISS,CTDXMISS_FLAG_W,D15N_NO2+NO3,D15N_NO2+NO3_FLAG_W,D18O_NO2+NO3,D18O_NO2+NO3_FLAG_W,HPLC,HPLC_FLAG_W,MICROGELS,MICROGELS_FLAG_W
,,,,,,,,,,,METERS,DBAR,ITS-90,PSS-78,,PSS-78,,UMOL/KG,,UMOL/KG,,UMOL/KG,,UMOL/KG,,UMOL/KG,,UMOL/KG,,PMOL/KG,,PMOL/KG,,FMOL/KG,,UMOL/KG,,UMOL/KG,,UATM,,DEG C,,,DEG C,/MILLE,,/MILLE,,/MILLE,UG/KG,,UMOL/KG,,UMOL/KG,,NMOL/KG,,,,,,ITS-90,,VOLTS,,VOLTS,,/MILLE,,/MILLE,,,,1E6 GELS/L,
325020210316,        A20,      62,          1,         36,         36,2,20210407,       0829,    14.2217,   -52.3338,       5164,     5.1,  25.8128,  36.3620,2,  36.3639,2,    205.6,2,   204.6,2,    1.17,2,    0.00,2,    0.00,2,    0.00,2,   1.456,2,   0.986,2,    1.66,2,  2044.7,6, 2374.16,2,    293.3,2,    20.00,   8.10049,2,    25.03, -999.00,9, -999.00,9, -999.00,-999.000,9, -999.00,9, -999.00,9,       6.60,2, 20210407,     1046,  14.2217, -52.3338,    25.8110,2,     0.0443,1,     4.6433,1,     -999.0,1,     -999.0,1,     -999.0,9,     -999.0,9
325020210316,        A20,      62,          1,         35,         35,2,20210407,       0829,    14.2217,   -52.3338,       5164,    20.6,  25.8152,  36.3622,2,  36.3631,2,    205.4,2,   205.1,2,    1.17,2,    0.00,2,    0.00,2,    0.00,2,-999.000,9,-999.000,9, -999.00,9,  2045.8,2, -999.00,9,    293.2,2,    20.00,   8.10125,2,    25.03, -999.00,9, -999.00,9, -999.00,-999.000,9, -999.00,9, -999.00,9,     -999.0,9, 20210407,     1045,  14.2217, -52.3338,    25.8119,2,     0.0443,1,     4.6414,1,     -999.0,1,     -999.0,1,     -999.0,9,     -999.0,9
325020210316,        A20,      62,          1,         34,         34,2,20210407,       0829,    14.2217,   -52.3338,       5164,    40.5,  25.8096,  36.3632,2,  36.3637,2,    205.3,2,   204.7,2,    1.17,2,    0.00,2,    0.00,2,    0.00,2,-999.000,9,-999.000,9, -999.00,9,  2043.6,2, -999.00,9,    294.0,2,    20.00,   8.10099,6,    25.02, -999.00,9, -999.00,9, -999.00,-999.000,9, -999.00,9, -999.00,9,     -999.0,9, 20210407,     1043,  14.2217, -52.3338,    25.8102,2,     0.0449,1,     4.6434,1,     -999.0,1,     -999.0,1,     -999.0,9,     -999.0,9
325020210316,        A20,      62,          1,         33,         33,2,20210407,       0829,    14.2217,   -52.3338,       5164,    65.9,  25.7356,  36.3770,2,  36.3833,2,    205.4,2,   204.8,2,    1.07,2,    0.00,2,    0.00,2,    0.00,2,   1.438,2,   0.989,2,    1.63,2,  2044.5,2, -999.00,9,    296.0,2,    20.00,   8.10103,2,    25.02, -999.00,9, -999.00,9, -999.00,-999.000,9, -999.00,9, -999.00,9,       7.59,2, 20210407,     1042,  14.2217, -52.3338,    25.7329,2,     0.0550,1,     4.6429,1,     -999.0,1,     -999.0,1,     -999.0,9,     -999.0,9
325020210316,        A20,      62,          1,         32,         32,2,20210407,       0829,    14.2217,   -52.3338,       5164,    90.7,  25.6353,  36.7930,2,  36.8085,2,    202.5,2,   202.7,2,    0.68,2,    0.00,2,    0.00,2,    0.00,2,-999.000,9,-999.000,9, -999.00,9,  2075.2,2, -999.00,9,    315.7,2,    20.00,   8.08133,2,    25.01, -999.00,9, -999.00,9, -999.00,-999.000,9, -999.00,9, -999.00,9,     -999.0,9, 20210407,     1040,  14.2217, -52.3338,    25.6435,2,     0.0605,1,     4.6482,1,     -999.0,1,     -999.0,1,     -999.0,9,     -999.0,9
325020210316,        A20,      62,          1,         31,         31,2,20210407,       0829,    14.2217,   -52.3338,       5164,   136.5,  22.6005,  37.1911,2,  37.1833,2,    173.9,3,   177.5,2,    0.78,2,    1.38,2,    0.04,2,    0.05,2,   1.733,2,   1.138,2,    1.60,2,  2154.4,2, 2430.41,6,    416.0,2,    20.00,   7.98152,6,    25.00, -999.00,9, -999.00,9, -999.00,-999.000,9, -999.00,9, -999.00,9,       9.28,3, 20210407,     1038,  14.2217, -52.3338,    22.6144,2,     0.0666,1,     4.6652,1,     -999.0,1,     -999.0,1,     -999.0,9,     -999.0,9
325020210316,        A20,      62,          1,         30,         30,2,20210407,       0829,    14.2217,   -52.3338,       5164,   186.7,  19.9715,  36.8531,2,  36.8304,3,    166.3,3,   168.4,2,    1.27,2,    4.90,2,    0.00,2,    0.21,2,-999.000,9,-999.000,9, -999.00,9,  2163.2,2, -999.00,9,    467.6,2,    20.00,   7.92981,2,    25.01, -999.00,9, -999.00,9, -999.00,-999.000,9, -999.00,9, -999.00,9,     -999.0,9, 20210407,     1037,  14.2217, -52.3338,    19.9790,2,     0.0478,1,     4.6806,1,     -999.0,1,     -999.0,1,     -999.0,9,     -999.0,9
325020210316,        A20,      62,          1,         29,         29,2,20210407,       0829,    14.2217,   -52.3338,       5164,   235.8,  16.9003,  36.2883,2,  36.2711,2,    135.7,2,   136.4,2,    3.81,2,   13.03,2,    0.00,2,    0.72,2,   1.989,2,   1.292,2,    1.35,2,  2187.8,2, -999.00,9,    615.5,2,    20.00,   7.81689,2,    25.02, -999.00,9, -999.00,9, -999.00,-999.000,9, -999.00,9, -999.00,9,      20.70,2, 20210407,     1035,  14.2217, -52.3338,    16.9360,2,     0.0406,1,     4.6856,1,     -999.0,1,     -999.0,1,     -999.0,9,     -999.0,9
325020210316,        A20,      62,          1,         28,         28,2,20210407,       0829,    14.2217,   -52.3338,       5164,   286.2,  15.0379,  35.9619,2,  35.9724,2,    116.8,3,   122.7,2,    5.56,2,   17.17,2,    0.00,2,    0.99,2,-999.000,9,-999.000,9, -999.00,9,  2197.9,2, -999.00,9,    714.9,2,    20.00,   7.75626,2,    25.01, -999.00,9, -999.00,9, -999.00,-999.000,9, -999.00,9, -999.00,9,     -999.0,9, 20210407,     1032,  14.2217, -52.3338,    15.0400,2,     0.0405,1,     4.6866,1,     -999.0,1,     -999.0,1,     -999.0,9,     -999.0,9
325020210316,        A20,      62,          1,         27,         27,2,20210407,       0829,    14.2217,   -52.3338,       5164,   337.2,  13.4388,  35.7016,2,  35.6901,2,    121.7,2,   122.4,2,    7.71,2,   20.13,2,    0.00,2,    1.18,2,   1.922,2,   1.172,2,    0.87,2,  2202.6,2, 2340.87,2,    783.0,2,    20.00,   7.71707,2,    24.98, -999.00,9, -999.00,9, -999.00,-999.000,9, -999.00,9, -999.00,9,      25.99,2, 20210407,     1030,  14.2217, -52.3338,    13.4513,2,     0.0414,1,     4.6874,1,     -999.0,1,     -999.0,1,     -999.0,9,     -999.0,9
325020210316,        A20,      62,          1,         26,         26,2,20210407,       0829,    14.2217,   -52.3338,       5164,   387.0,  12.1223,  35.4984,2,  35.4918,2,    113.0,3,   114.7,2,    9.76,2,   23.16,2,    0.00,2,    1.39,2,   1.735,2,   1.046,2,    0.72,2,  2208.4,2, -999.00,9,    866.9,2,    20.00,   7.67151,2,    24.99, -999.00,9, -999.00,9, -999.00,-999.000,9, -999.00,9, -999.00,9,      29.96,2, 20210407,     1028,  14.2217, -52.3338,    12.1350,2,     0.0416,1,     4.6884,1,     -999.0,1,     -999.0,1,     -999.0,9,     -999.0,9
325020210316,        A20,      62,          1,         25,         25,2,20210407,       0829,    14.2217,   -52.3338,       5164,   467.9,  10.2626,  35.2254,2,  35.2239,2,    111.3,2,   111.7,2,   13.28,2,   26.95,2,    0.00,2,    1.64,2,-999.000,9,-999.000,9, -999.00,9,  2215.0,2, -999.00,9,    968.9,2,    20.00,    7.6229,2,    25.01, -999.00,9, -999.00,9, -999.00,-999.000,9, -999.00,9, -999.00,9,     -999.0,9, 20210407,     1025,  14.2217, -52.3338,    10.2765,2,     0.0429,1,     4.6900,1,     -999.0,1,     -999.0,1,     -999.0,9,     -999.0,9
325020210316,        A20,      62,          1,         24,         24,2,20210407,       0829,    14.2217,   -52.3338,       5164,   569.3,   8.2736,  34.9440,2,  34.9439,2,    115.2,2,   114.9,2,   17.68,2,   30.55,2,    0.00,2,    1.91,2,   0.983,2,   0.556,2,    0.29,2,  2219.5,2, -999.00,9,   1083.4,2,    20.00,   7.57521,2,    25.01, -999.00,9, -999.00,9, -999.00,-999.000,9, -999.00,9, -999.00,9,      28.92,2, 20210407,     1022,  14.2217, -52.3338,     8.2800,2,     0.0424,1,     4.6900,1,     -999.0,1,     -999.0,1,     -999.0,9,     -999.0,9
325020210316,        A20,      62,          1,         23,         23,2,20210407,       0829,    14.2217,   -52.3338,       5164,   670.0,   6.9960,  34.7929,2,  34.7913,2,    120.4,2,   119.4,2,   21.78,2,   32.60,2,    0.00,2,    2.10,2,   0.637,2,   0.333,2,    0.18,2,  2227.0,6, -999.00,9,   1150.7,2,    20.00,   7.55188,2,    25.01, -999.00,9, -999.00,9, -999.00,-999.000,9, -999.00,9, -999.00,9,      24.74,2, 20210407,     1019,  14.2217, -52.3338,     6.9952,2,     0.0431,1,     4.6911,1,     -999.0,1,     -999.0,1,     -999.0,9,     -999.0,9
325020210316,        A20,      62,          1,         22,         22,2,20210407,       0829,    14.2217,   -52.3338,       5164,   769.6,   6.3181,  34.7411,2,  34.7410,2,    127.0,2,   126.1,2,   24.22,2,   33.15,2,    0.00,2,    2.16,2,-999.000,9,-999.000,9, -999.00,9,  2227.6,2, -999.00,9,   1150.4,2,    20.00,   7.54888,2,    24.99, -999.00,9, -999.00,9, -999.00,-999.000,9, -999.00,9, -999.00,9,     -999.0,9, 20210407,     1016,  14.2217, -52.3338,     6.3197,2,     0.0436,1,     4.6911,1,     -999.0,1,     -999.0,1,     -999.0,9,     -999.0,9
325020210316,        A20,      62,          1,         21,         21,2,20210407,       0829,    14.2217,   -52.3338,       5164,   871.9,   5.7837,  34.7395,2,  34.7390,2,    132.3,2,   131.3,2,   25.89,2,   33.23,2,    0.00,2,    2.17,2,   0.171,2,   0.115,2,    0.06,2,  2228.9,2, 2305.11,2,   1152.6,2,    20.00,    7.5507,6,    25.02, -999.00,9, -999.00,9, -999.00,-999.000,9, -999.00,9, -999.00,9,      27.93,2, 20210407,     1013,  14.2217, -52.3338,     5.7883,2,     0.0429,1,     4.6911,1,     -999.0,1,     -999.0,1,     -999.0,9,     -999.0,9
325020210316,        A20,      62,          1,         20,         20,2,20210407,       0829,    14.2217,   -52.3338,       5164,   972.7,   5.4780,  34.7689,2,  34.7693,2,    143.4,2,   142.7,2,   25.98,2,   31.96,2,    0.00,2,    2.10,2,-999.000,9,-999.000,9, -999.00,9,  2223.5,2, -999.00,9,   1101.7,2,    20.00,   7.56978,2,    25.01, -999.00,9, -999.00,9, -999.00,-999.000,9, -999.00,9, -999.00,9,     -999.0,9, 20210407,     1009,  14.2217, -52.3338,     5.4766,2,     0.0436,1,     4.6904,1,     -999.0,1,     -999.0,1,     -999.0,9,     -999.0,9
325020210316,        A20,      62,          1,         19,         19,2,20210407,       0829,    14.2217,   -52.3338,       5164,  1073.9,   5.4651,  34.8632,2,  34.8668,2,    157.9,2,   157.0,2,   23.73,2,   29.32,2,    0.00,2,    1.92,2,   0.198,2,   0.102,2,    0.09,2,  2216.4,2, -999.00,9,   1009.9,2,    20.00,   7.60597,2,    25.00, -999.00,9, -999.00,9, -999.00,-999.000,9, -999.00,9, -999.00,9,      24.06,3, 20210407,     1006,  14.2217, -52.3338,     5.4641,2,     0.0423,1,     4.6932,1,     -999.0,1,     -999.0,1,     -999.0,9,     -999.0,9
325020210316,        A20,      62,          1,         18,         18,2,20210407,       0829,    14.2217,   -52.3338,       5164,  1174.5,   5.2851,  34.9270,2,  34.9254,2,    175.5,2,   173.9,2,   21.88,2,   26.98,2,    0.00,2,    1.79,2,   0.274,2,   0.142,2,    0.14,2,  2207.2,2, -999.00,9,    942.5,2,    20.00,   7.63575,2,    25.02, -999.00,9, -999.00,9, -999.00,-999.000,9, -999.00,9, -999.00,9,      23.44,2, 20210407,     1003,  14.2217, -52.3338,     5.2879,2,     0.0421,1,     4.6935,1,     -999.0,1,     -999.0,1,     -999.0,9,     -999.0,9
325020210316,        A20,      62,          1,         17,         17,2,20210407,       0829,    14.2217,   -52.3338,       5164,  1276.6,   5.1037,  34.9684,2,  34.9693,2,    194.4,2,   193.6,2,   19.83,2,   24.58,2,    0.00,2,    1.61,2,   0.424,2,   0.227,2,    0.16,2,  2198.2,2, -999.00,9,    874.8,2,    20.00,   7.66633,2,    25.01, -999.00,9, -999.00,9, -999.00,-999.000,9, -999.00,9, -999.00,9,      19.26,2, 20210407,     1000,  14.2217, -52.3338,     5.1031,2,     0.0425,1,     4.6947,1,     -999.0,1,     -999.0,1,     -999.0,9,     -999.0,9
325020210316,        A20,      62,          1,         16,         16,2,20210407,       0829,    14.2217,   -52.3338,       5164,  1376.9,   4.8781,  34.9956,2,  34.9933,2,    214.6,3,   211.1,2,   17.87,2,   22.48,2,    0.00,2,    1.48,2,   0.672,2,   0.357,2,    0.22,2,  2191.4,2, -999.00,9,    829.2,2,    20.00,   7.68852,2,    25.00, -999.00,9, -999.00,9, -999.00,-999.000,9, -999.00,9, -999.00,9,      18.46,2, 20210407,      956,  14.2217, -52.3338,     4.8791,2,     0.0417,1,     4.6950,1,     -999.0,1,     -999.0,1,     -999.0,9,     -999.0,9
325020210316,        A20,      62,          1,         15,         15,2,20210407,       0829,    14.2217,   -52.3338,       5164,  1549.5,   4.4436,  35.0028,2,  35.0045,2,    239.7,2,   237.6,2,   15.63,2,   19.95,2,    0.00,2,    1.31,2,   1.098,2,   0.565,2,    0.31,2,  2178.1,2, -999.00,9,    774.3,2,    20.00,   7.71626,2,    25.00, -999.00,9, -999.00,9, -999.00,-999.000,9, -999.00,9, -999.00,9,      16.36,3, 20210407,      952,  14.2217, -52.3338,     4.4417,2,     0.0429,1,     4.6959,1,     -999.0,1,     -999.0,1,     -999.0,9,     -999.0,9
325020210316,        A20,      62,          1,         14,         14,2,20210407,       0829,    14.2217,   -52.3338,       5164,  1753.3,   3.9023,  34.9862,2,  34.9876,2,    253.7,2,   252.0,2,   16.11,2,   19.04,2,    0.00,2,    1.25,2,   0.943,2,   0.494,2,    0.30,2,  2172.4,2, 2173.91,4,    746.9,2,    20.00,   7.73035,2,    25.02, -999.00,9, -999.00,9, -999.00,-999.000,9, -999.00,9, -999.00,9,      17.27,2, 20210407,      947,  14.2217, -52.3338,     3.9068,2,     0.0423,1,     4.6967,1,     -999.0,1,     -999.0,1,     -999.0,9,     -999.0,9
325020210316,        A20,      62,          1,         13,         13,2,20210407,       0829,    14.2217,   -52.3338,       5164,  1955.0,   3.5337,  34.9734,2,  34.9742,2,    256.2,2,   255.8,2,   18.85,2,   18.91,2,    0.00,2,    1.25,2,   0.620,2,   0.320,2,    0.12,2,  2174.2,2, -999.00,9,    737.2,2,    20.00,    7.7367,2,    25.02, -999.00,9, -999.00,9, -999.00,-999.000,9, -999.00,9, -999.00,9,      15.30,2, 20210407,      942,  14.2217, -52.3338,     3.5333,2,     0.0427,1,     4.6962,1,     -999.0,1,     -999.0,1,     -999.0,9,     -999.0,9
325020210316,        A20,      62,          1,         12,         12,2,20210407,       0829,    14.2217,   -52.3338,       5164,  2188.7,   3.2415,  34.9587,2,  34.9595,2,    256.6,2,   255.8,2,   22.17,2,   19.12,2,    0.00,2,    1.27,2,-999.000,9,-999.000,9, -999.00,9,  2169.1,2, -999.00,9,    734.9,2,    20.00,   7.73911,2,    25.00, -999.00,9, -999.00,9, -999.00,-999.000,9, -999.00,9, -999.00,9,     -999.0,9, 20210407,      936,  14.2217, -52.3338,     3.2405,2,     0.0419,1,     4.6963,1,     -999.0,1,     -999.0,1,     -999.0,9,     -999.0,9
325020210316,        A20,      62,          1,         11,         11,2,20210407,       0829,    14.2217,   -52.3338,       5164,  2442.7,   3.0097,  34.9456,2,  34.9471,2,    253.6,2,   252.7,2,   27.44,2,   19.83,2,    0.00,2,    1.32,2,   0.242,2,   0.124,2,    0.15,2,  2178.9,2, -999.00,9,    735.8,2,    20.00,   7.73707,2,    24.98, -999.00,9, -999.00,9, -999.00,-999.000,9, -999.00,9, -999.00,9,      15.59,2, 20210407,      931,  14.2217, -52.3338,     3.0096,2,     0.0427,1,     4.6960,1,     -999.0,1,     -999.0,1,     -999.0,9,     -999.0,9
325020210316,        A20,      62,          1,         10,         10,2,20210407,       0829,    14.2217,   -52.3338,       5164,  2697.3,   2.8312,  34.9339,2,  34.9353,2,    251.2,2,   250.6,2,   31.94,2,   20.38,2,    0.00,2,    1.36,2,-999.000,9,-999.000,9, -999.00,9,  2184.0,2, 2327.45,2,    740.9,2,    20.00,   7.73563,2,    25.00, -999.00,9, -999.00,9, -999.00,-999.000,9, -999.00,9, -999.00,9,     -999.0,9, 20210407,      924,  14.2217, -52.3338,     2.8311,2,     0.0429,1,     4.6956,1,     -999.0,1,     -999.0,1,     -999.0,9,     -999.0,9
325020210316,        A20,      62,          1,          9,          9,2,20210407,       0829,    14.2217,   -52.3338,       5164,  2952.5,   2.7050,  34.9246,2,  34.9246,2,    252.2,2,   251.2,2,   33.79,2,   20.47,2,    0.00,2,    1.36,2,   0.165,2,   0.087,2,    0.12,2,  2189.8,6, -999.00,9,    743.4,2,    20.00,   7.73498,2,    24.99, -999.00,9, -999.00,9, -999.00,-999.000,9, -999.00,9, -999.00,9,      15.26,2, 20210407,      919,  14.2217, -52.3338,     2.7044,2,     0.0423,1,     4.6960,1,     -999.0,1,     -999.0,1,     -999.0,9,     -999.0,9
325020210316,        A20,      62,          1,          8,          8,2,20210407,       0829,    14.2217,   -52.3338,       5164,  3243.9,   2.5889,  34.9147,2,  34.9154,2,    253.8,2,   252.9,2,   35.06,2,   20.46,2,    0.00,2,    1.36,2,   0.208,2,   0.106,2,    0.12,2,  2186.0,2, -999.00,9,    745.0,2,    20.00,   7.73424,2,    25.01, -999.00,9, -999.00,9, -999.00,-999.000,9, -999.00,9, -999.00,9,      15.57,2, 20210407,      913,  14.2217, -52.3338,     2.5887,2,     0.0430,1,     4.6954,1,     -999.0,1,     -999.0,1,     -999.0,9,     -999.0,9
325020210316,        A20,      62,          1,          7,          7,2,20210407,       0829,    14.2217,   -52.3338,       5164,  3550.6,   2.4466,  34.9028,2,  34.9040,2,    256.6,2,   255.4,2,   36.04,2,   20.27,2,    0.00,2,    1.36,2,-999.000,9,-999.000,9, -999.00,9,  2185.2,2, -999.00,9,    747.2,2,    20.00,   7.73266,2,    24.99, -999.00,9, -999.00,9, -999.00,-999.000,9, -999.00,9, -999.00,9,     -999.0,9, 20210407,      906,  14.2217, -52.3338,     2.4464,2,     0.0429,1,     4.6959,1,     -999.0,1,     -999.0,1,     -999.0,9,     -999.0,9
325020210316,        A20,      62,          1,          6,          6,2,20210407,       0829,    14.2217,   -52.3338,       5164,  3856.9,   2.3366,  34.8958,2,  34.8967,2,    263.8,2,   262.5,2,   32.52,2,   19.25,2,    0.00,2,    1.30,2,   0.531,2,   0.311,2,    0.17,2,  2181.8,2, 2326.52,6,    745.1,6,    20.00,   7.73296,6,    25.01, -999.00,9, -999.00,9, -999.00,-999.000,9, -999.00,9, -999.00,9,      16.65,2, 20210407,      859,  14.2217, -52.3338,     2.3370,2,     0.0428,1,     4.6950,1,     -999.0,1,     -999.0,1,     -999.0,9,     -999.0,9
325020210316,        A20,      62,          1,          5,          5,2,20210407,       0829,    14.2217,   -52.3338,       5164,  4266.6,   2.2516,  34.8859,2,  34.8857,2,    263.1,2,   261.2,2,   35.65,2,   19.65,2,    0.00,2,    1.32,2,   0.498,2,   0.304,2,    0.15,2,  2185.7,2, -999.00,9,    751.7,2,    20.00,   7.73172,6,    24.99, -999.00,9, -999.00,9, -999.00,-999.000,9, -999.00,9, -999.00,9,      15.78,2, 20210407,      851,  14.2217, -52.3338,     2.2522,2,     0.0429,1,     4.6951,1,     -999.0,1,     -999.0,1,     -999.0,9,     -999.0,9
325020210316,        A20,      62,          1,          4,          4,2,20210407,       0829,    14.2217,   -52.3338,       5164,  4677.1,   2.1153,  34.8648,2,  34.8662,2,    256.1,2,   254.4,2,   46.49,2,   21.30,2,    0.00,2,    1.44,2,-999.000,9,-999.000,9, -999.00,9,  2199.0,2, -999.00,9,    774.8,2,    20.00,   7.72013,2,    25.00, -999.00,9, -999.00,9, -999.00,-999.000,9, -999.00,9, -999.00,9,     -999.0,9, 20210407,      843,  14.2217, -52.3338,     2.1155,2,     0.0434,1,     4.6922,1,     -999.0,1,     -999.0,1,     -999.0,9,     -999.0,9
325020210316,        A20,      62,          1,          3,          3,2,20210407,       0829,    14.2217,   -52.3338,       5164,  5089.5,   1.8231,  34.8240,2,  34.8253,2,    244.8,2,   244.2,2,   65.05,2,   24.21,2,    0.00,2,    1.64,2,   0.284,2,   0.148,2,    0.19,2,  2216.8,2, -999.00,9,   -999.0,9,  -999.00,   7.69369,2,    25.02, -999.00,9, -999.00,9, -999.00,-999.000,9, -999.00,9, -999.00,9,      17.95,3, 20210407,      835,  14.2217, -52.3338,     1.8223,2,     0.0424,1,     4.6769,1,     -999.0,1,     -999.0,1,     -999.0,9,     -999.0,9