BOTTLE,20230512CCHSIOCBG
EXPOCODE,SECT_ID,STNNBR,CASTNO,SAMPNO,BTLNBR,BTLNBR_FLAG_W,DATE,TIME,LATITUDE,LONGITUDE,DEPTH,CTDPRS,CTDTMP,CTDSAL,CTDSAL_FLAG_W,SALNTY,SALNTY_FLAG_W,CTDOXY,CTDOXY_FLAG_W,OXYGEN,OXYGEN_FLAG_W,SILCAT,SILCAT_FLAG_W,NITRAT,NITRAT_FLAG_W,NITRIT,NITRIT_FLAG_W,PHSPHT,PHSPHT_FLAG_W,CFC-11,CFC-11_FLAG_W,CFC-12,CFC-12_FLAG_W,SF6,SF6_FLAG_W,TCARBN,TCARBN_FLAG_W,ALKALI,ALKALI_FLAG_W,FCO2,FCO2_FLAG_W,FCO2TMP,PH_TOT,PH_TOT_FLAG_W,PH_TMP,DELC13,DELC13_FLAG_W,DELC14,DELC14_FLAG_W,C14ERR,POC,POC_FLAG_W,DOC,DOC_FLAG_W,TDN,TDN_FLAG_W,N2O,N2O_FLAG_W,BTL_DATE,BTL_TIME,BTL_LAT,BTL_LON,REFTMP,REFTMP_FLAG_W,CTDFLUOR,CTDFLUOR_FLAG_W,CTDXMISS,CTDXMISS_FLAG_W,D15N_NO2+NO3,D15N_NO2+NO3_FLAG_W,D18O_NO2+NO3,D18O_NO2+NO3_FLAG_W,HPLC,HPLC_FLAG_W,MICROGELS,MICROGELS_FLAG_W
,,,,,,,,,,,METERS,DBAR,ITS-90,PSS-78,,PSS-78,,UMOL/KG,,UMOL/KG,,UMOL/KG,,UMOL/KG,,UMOL/KG,,UMOL/KG,,PMOL/KG,,PMOL/KG,,FMOL/KG,,UMOL/KG,,UMOL/KG,,UATM,,DEG C,,,DEG C,/MILLE,,/MILLE,,/MILLE,UG/KG,,UMOL/KG,,UMOL/KG,,NMOL/KG,,,,,,ITS-90,,VOLTS,,VOLTS,,/MILLE,,/MILLE,,,,1E6 GELS/L,
325020210316,        A20,      25,          1,         35,         35,2,20210327,       0547,    35.8892,   -52.3333,       4586,     4.6,  19.2592,  36.6533,2,  36.6568,2,    224.7,2,  -999.0,9,    0.98,2,    0.60,2,    0.06,2,    0.01,2,-999.000,9,-999.000,9, -999.00,9,  -999.0,9, -999.00,9,   -999.0,9,  -999.00,-999.00000,9,  -999.00, -999.00,9, -999.00,9, -999.00,-999.000,1, -999.00,9, -999.00,9,     -999.0,9, 20210327,      744,  35.8892, -52.3333,    19.2585,2,     0.1015,1,     4.5973,1,     -999.0,9,     -999.0,9,     -999.0,1,     -999.0,9
325020210316,        A20,      25,          1,         36,         36,2,20210327,       0547,    35.8892,   -52.3333,       4586,     5.0,  19.2597,  36.6533,2,  36.6526,2,    224.7,2,   226.9,2,    0.78,2,    0.61,2,    0.06,2,    0.01,2,   1.932,2,   1.248,2,    2.01,2,  2097.6,6, 2397.99,2,    362.8,2,    20.00,   8.01622,2,    25.01,    0.62,2,   35.53,2,    2.03,-999.000,9,   61.00,2,    4.68,2,       5.54,4, 20210327,      744,  35.8892, -52.3333,     -999.0,9,     0.1012,1,     4.5978,1,     -999.0,9,     -999.0,9,     -999.0,9,     -999.0,9
325020210316,        A20,      25,          1,         34,         34,2,20210327,       0547,    35.8892,   -52.3333,       4586,    24.8,  19.2648,  36.6539,2,  35.9184,4,    225.2,2,   227.1,2,    0.98,2,    0.58,2,    0.06,2,    0.01,2,-999.000,9,-999.000,9, -999.00,9,  2097.5,2, 2397.72,2,   -999.0,9,  -999.00,   8.01539,2,    25.03, -999.00,9, -999.00,9, -999.00,-999.000,9,   61.96,2,    3.37,2,     -999.0,9, 20210327,      742,  35.8892, -52.3333,    19.2648,2,     0.1061,1,     4.5920,1,     -999.0,9,     -999.0,9,     -999.0,9,     -999.0,9
325020210316,        A20,      25,          1,         33,         33,2,20210327,       0547,    35.8892,   -52.3333,       4586,    51.1,  19.2327,  36.6534,2,  36.6526,2,    225.2,2,   225.9,2,    0.98,2,    0.65,2,    0.08,2,    0.00,2,-999.000,9,-999.000,9, -999.00,9,  2098.1,2, 2397.18,2,   -999.0,9,  -999.00,   8.01538,2,    25.02, -999.00,9, -999.00,9, -999.00,-999.000,9,   60.16,2,    4.38,2,     -999.0,9, 20210327,      740,  35.8892, -52.3333,    19.2303,2,     0.1056,1,     4.6034,1,     -999.0,9,     -999.0,9,     -999.0,9,     -999.0,9
325020210316,        A20,      25,          1,         31,         31,2,20210327,       0547,    35.8892,   -52.3333,       4586,    80.9,  19.1876,  36.6533,2,  36.6550,2,    219.0,2,  -999.0,9,    0.88,2,    0.79,2,    0.10,2,    0.00,2,-999.000,9,-999.000,9, -999.00,9,  -999.0,9, -999.00,9,   -999.0,9,  -999.00,-999.00000,9,  -999.00, -999.00,9, -999.00,9, -999.00,-999.000,1, -999.00,9, -999.00,9,     -999.0,9, 20210327,      738,  35.8892, -52.3333,    19.1867,2,     0.1035,1,     4.6184,1,     -999.0,9,     -999.0,9,     -999.0,1,     -999.0,9
325020210316,        A20,      25,          1,         32,         32,2,20210327,       0547,    35.8892,   -52.3333,       4586,    81.4,  19.1880,  36.6535,2,  36.6526,2,    219.0,3,   224.0,2,    0.88,2,    0.78,2,    0.10,2,    0.01,2,-999.000,9,-999.000,9, -999.00,9,  2099.8,2, 2397.79,2,    365.9,2,    20.00,   8.01271,2,    25.02, -999.00,9, -999.00,9, -999.00,-999.000,9,   59.70,2,    4.35,2,     -999.0,9, 20210327,      738,  35.8892, -52.3333,     -999.0,9,     0.0932,1,     4.6189,1,     -999.0,9,     -999.0,9,     -999.0,9,     -999.0,9
325020210316,        A20,      25,          1,         30,         30,2,20210327,       0547,    35.8892,   -52.3333,       4586,   116.1,  19.1633,  36.6517,2,  36.6511,2,    214.0,3,   224.4,2,    0.88,2,    0.89,2,    0.14,2,    0.01,2,   1.926,2,   1.240,2,    2.01,2,  2099.7,2, 2398.41,2,   -999.0,9,  -999.00,   8.01249,2,    25.01, -999.00,9, -999.00,9, -999.00,-999.000,9,   60.88,2,    4.53,2,       5.57,4, 20210327,      736,  35.8892, -52.3333,    19.1623,2,     0.0737,1,     4.6463,1,     -999.0,9,     -999.0,9,     -999.0,9,     -999.0,9
325020210316,        A20,      25,          1,         29,         29,2,20210327,       0547,    35.8892,   -52.3333,       4586,   141.6,  19.1621,  36.6518,2,  36.6513,2,    213.4,3,   221.9,2,    1.07,2,    0.92,2,    0.16,2,    0.02,2,-999.000,9,-999.000,9, -999.00,9,  2100.1,2, 2397.49,2,    367.8,2,    20.00,   8.01166,2,    25.01,    0.63,2,   39.78,2,    2.48,-999.000,9,   59.25,2,    5.39,2,     -999.0,9, 20210327,      735,  35.8892, -52.3333,    19.1610,2,     0.0600,1,     4.6586,1,     -999.0,9,     -999.0,9,     -999.0,9,     -999.0,9
325020210316,        A20,      25,          1,         28,         28,2,20210327,       0547,    35.8892,   -52.3333,       4586,   202.0,  19.1628,  36.6550,2,  36.6544,2,    215.4,3,   217.8,2,    1.07,2,    1.38,2,    0.04,2,    0.05,2,-999.000,9,-999.000,9, -999.00,9,  2103.6,2, 2396.35,2,   -999.0,9,  -999.00,   8.00566,2,    25.01, -999.00,9, -999.00,9, -999.00,-999.000,9,   57.04,2,    6.14,2,     -999.0,9, 20210327,      732,  35.8892, -52.3333,    19.1612,2,     0.0441,1,     4.6777,1,     -999.0,9,     -999.0,9,     -999.0,9,     -999.0,9
325020210316,        A20,      25,          1,         27,         27,2,20210327,       0547,    35.8892,   -52.3333,       4586,   262.7,  19.2071,  36.6817,2,  36.6852,2,    215.7,2,   215.4,2,    0.98,2,    1.59,2,    0.02,2,    0.04,2,-999.000,9,-999.000,9, -999.00,9,  2105.9,6, 2397.28,2,   -999.0,9,  -999.00,   8.00085,2,    25.01,   -0.37,4,   33.53,3,    2.02,-999.000,9,   55.52,2,    5.75,2,     -999.0,9, 20210327,      730,  35.8892, -52.3333,    19.2057,2,     0.0391,1,     4.6841,1,     -999.0,9,     -999.0,9,     -999.0,9,     -999.0,9
325020210316,        A20,      25,          1,         26,         26,2,20210327,       0547,    35.8892,   -52.3333,       4586,   322.8,  19.1900,  36.6894,2,  36.6897,2,    216.5,3,   214.0,2,    0.98,2,    1.73,2,    0.01,2,    0.05,2,-999.000,9,-999.000,9, -999.00,9,  2106.4,2,  2398.2,2,    381.9,2,    20.00,   7.99979,6,    24.95, -999.00,9, -999.00,9, -999.00,-999.000,9,   55.46,2,    6.27,2,     -999.0,9, 20210327,      728,  35.8892, -52.3333,    19.1890,2,     0.0396,1,     4.6869,1,     -999.0,9,     -999.0,9,     -999.0,9,     -999.0,9
325020210316,        A20,      25,          1,         25,         25,2,20210327,       0547,    35.8892,   -52.3333,       4586,   383.6,  19.0854,  36.6785,2,  36.6780,2,    209.8,3,   212.5,2,    1.07,2,    1.97,2,    0.01,2,    0.06,2,   1.947,2,   1.254,2,    1.92,2,  2106.3,2, 2396.34,6,   -999.0,9,  -999.00,   7.99466,2,    25.01,    0.56,6,   39.73,6,    2.54,-999.000,9,   55.91,2,    6.97,2,       5.83,4, 20210327,      725,  35.8892, -52.3333,    19.0844,2,     0.0396,1,     4.6869,1,     -999.0,9,     -999.0,9,     -999.0,9,     -999.0,9
325020210316,        A20,      25,          1,         24,         24,2,20210327,       0547,    35.8892,   -52.3333,       4586,   454.0,  18.6106,  36.5784,2,  36.5769,2,    197.4,2,   197.6,2,    1.46,2,    4.07,2,    0.00,2,    0.15,2,-999.000,9,-999.000,9, -999.00,9,  2122.6,2, 2392.33,6,   -999.0,9,  -999.00,    7.9601,2,    25.04, -999.00,9, -999.00,9, -999.00,-999.000,9,   50.72,2,    7.57,2,     -999.0,9, 20210327,      724,  35.8892, -52.3333,    18.6085,2,     0.0399,1,     4.6929,1,     -999.0,9,     -999.0,9,     -999.0,9,     -999.0,9
325020210316,        A20,      25,          1,         23,         23,2,20210327,       0547,    35.8892,   -52.3333,       4586,   513.6,  18.2087,  36.5178,2,  36.5155,2,    190.5,2,   190.7,2,    1.85,2,    5.28,2,    0.00,2,    0.23,2,   2.050,2,   1.332,2,    1.71,2,  2130.6,2,  2385.3,2,   -999.0,9,  -999.00,   7.94275,2,    24.98,    0.26,3,   40.94,2,    2.10,-999.000,9,   53.09,2,    8.34,2,       6.87,4, 20210327,      722,  35.8892, -52.3333,    18.2011,2,     0.0402,1,     4.6945,1,     -999.0,9,     -999.0,9,     -999.0,9,     -999.0,9
325020210316,        A20,      25,          1,         22,         22,2,20210327,       0547,    35.8892,   -52.3333,       4586,   575.6,  17.4737,  36.3930,2,  36.3895,2,    184.2,2,   183.5,2,    2.54,2,    7.10,2,    0.00,2,    0.35,2,-999.000,9,-999.000,9, -999.00,9,  2139.5,2, 2380.59,2,   -999.0,9,  -999.00,   7.91215,6,    25.01, -999.00,9, -999.00,9, -999.00,-999.000,9, -999.00,9, -999.00,9,     -999.0,9, 20210327,      720,  35.8892, -52.3333,    17.4716,2,     0.0403,1,     4.6958,1,     -999.0,9,     -999.0,9,     -999.0,9,     -999.0,9
325020210316,        A20,      25,          1,         21,         21,2,20210327,       0547,    35.8892,   -52.3333,       4586,   706.3,  15.4676,  36.0592,2,  36.0596,2,    168.2,3,   165.5,2,    4.49,2,   12.04,2,    0.00,2,    0.66,2,-999.000,9,-999.000,9, -999.00,9,  2157.4,2, 2360.83,2,    569.6,2,    20.00,   7.84386,2,    25.00,    0.50,2,   45.50,2,    2.05,-999.000,9,   48.90,2,   14.72,2,     -999.0,9, 20210327,      716,  35.8892, -52.3333,    15.4717,2,     0.0401,1,     4.6992,1,     -999.0,9,     -999.0,9,     -999.0,9,     -999.0,9
325020210316,        A20,      25,          1,         20,         20,2,20210327,       0547,    35.8892,   -52.3333,       4586,   807.4,  13.6843,  35.7746,2,  35.7760,2,    151.9,2,   151.4,2,    7.12,2,   16.48,2,    0.00,2,    0.96,2,-999.000,9,-999.000,9, -999.00,9,  2173.0,2, 2347.62,2,   -999.0,9,  -999.00,   7.78104,2,    25.01, -999.00,9, -999.00,9, -999.00,-999.000,9, -999.00,9, -999.00,9,     -999.0,9, 20210327,      713,  35.8892, -52.3333,    13.6969,2,     0.0421,1,     4.6996,1,     -999.0,9,     -999.0,9,     -999.0,9,     -999.0,9
325020210316,        A20,      25,          1,         19,         19,2,20210327,       0547,    35.8892,   -52.3333,       4586,   908.8,  10.4888,  35.3520,2,  35.3508,2,    149.5,2,   148.7,2,   11.71,2,   21.80,2,    0.00,2,    1.33,2,   1.683,2,   0.974,2,    0.79,2,  2188.7,2, 2329.36,2,    810.3,2,    20.00,   7.69949,2,    25.01,    0.59,6,    1.13,6,    2.33,-999.000,9,   46.41,2,   23.69,2,      14.60,4, 20210327,      709,  35.8892, -52.3333,    10.4965,2,     0.0407,1,     4.7043,1,     -999.0,9,     -999.0,9,     -999.0,9,     -999.0,9
325020210316,        A20,      25,          1,         18,         18,2,20210327,       0547,    35.8892,   -52.3333,       4586,  1008.9,   9.0061,  35.2429,2,  35.2424,2,    166.0,2,   164.9,2,   12.50,2,   21.83,2,    0.00,2,    1.35,2,-999.000,9,-999.000,9, -999.00,9,  2187.5,2, 2325.94,2,   -999.0,9,  -999.00,   7.69009,2,    25.06, -999.00,9, -999.00,9, -999.00,-999.000,9, -999.00,9, -999.00,9,     -999.0,9, 20210327,      707,  35.8892, -52.3333,     9.0073,2,     0.0420,1,     4.7067,1,     -999.0,9,     -999.0,9,     -999.0,9,     -999.0,9
325020210316,        A20,      25,          1,         17,         17,2,20210327,       0547,    35.8892,   -52.3333,       4586,  1110.9,   7.1207,  35.1436,2,  35.1433,2,    188.4,2,   190.2,2,   13.28,2,   21.35,2,    0.00,2,    1.35,2,-999.000,9,-999.000,9, -999.00,9,  2187.3,2, 2319.65,2,   -999.0,9,  -999.00,   7.68672,2,    25.00,    0.78,2,  -19.67,2,    2.65,-999.000,9,   46.10,2,   22.81,2,     -999.0,9, 20210327,      704,  35.8892, -52.3333,     7.1340,2,     0.0419,1,     4.7064,1,     -999.0,9,     -999.0,9,     -999.0,9,     -999.0,9
325020210316,        A20,      25,          1,         16,         16,2,20210327,       0547,    35.8892,   -52.3333,       4586,  1212.7,   6.2437,  35.1360,2,  35.1360,2,    212.0,2,   212.8,2,   12.79,2,   19.94,2,    0.00,2,    1.27,2,   2.065,2,   1.154,2,    0.85,2,  2181.7,2, 2318.14,2,    810.2,6,    20.00,   7.69846,2,    24.99, -999.00,9, -999.00,9, -999.00,-999.000,9, -999.00,9, -999.00,9,      12.11,4, 20210327,      701,  35.8892, -52.3333,     6.2449,2,     0.0417,1,     4.7066,1,     -999.0,9,     -999.0,9,     -999.0,9,     -999.0,9
325020210316,        A20,      25,          1,         15,         15,2,20210327,       0547,    35.8892,   -52.3333,       4586,  1313.6,   5.5664,  35.0870,2,  35.0880,2,    231.8,2,   231.8,2,   12.01,2,   18.82,2,    0.00,2,    1.20,2,-999.000,9,-999.000,9, -999.00,9,  2178.0,2, 2317.27,2,   -999.0,9,  -999.00,   7.70277,2,    25.01,    0.82,2,  -13.83,2,    2.04,-999.000,9,   46.30,2,   20.98,2,     -999.0,9, 20210327,      659,  35.8892, -52.3333,     5.5683,2,     0.0429,1,     4.7057,1,     -999.0,9,     -999.0,9,     -999.0,9,     -999.0,9
325020210316,        A20,      25,          1,         14,         14,2,20210327,       0547,    35.8892,   -52.3333,       4586,  1414.4,   5.1913,  35.0663,2,  35.0673,2,    242.3,2,   241.4,2,   11.72,2,   18.42,2,    0.00,2,    1.18,2,-999.000,9,-999.000,9, -999.00,9,  2174.0,2,  2315.0,2,   -999.0,9,  -999.00,    7.7063,2,    25.01, -999.00,9, -999.00,9, -999.00,-999.000,9, -999.00,9, -999.00,9,     -999.0,9, 20210327,      656,  35.8892, -52.3333,     5.1949,2,     0.0415,1,     4.7067,1,     -999.0,9,     -999.0,9,     -999.0,9,     -999.0,9
325020210316,        A20,      25,          1,         13,         13,2,20210327,       0547,    35.8892,   -52.3333,       4586,  1618.2,   4.5554,  35.0051,2,  35.0033,2,    255.9,2,   257.2,2,   11.42,2,   17.88,2,    0.00,2,    1.14,2,   2.904,2,   1.619,2,    1.26,2,  2170.8,6, 2310.65,2,    789.6,2,    20.00,   7.70738,2,    24.99,    0.86,2,  -10.81,2,    2.72,-999.000,9,   48.50,2,   19.00,2,      11.07,4, 20210327,      651,  35.8892, -52.3333,     4.5541,2,     0.0419,1,     4.7059,1,     -999.0,9,     -999.0,9,     -999.0,9,     -999.0,9
325020210316,        A20,      25,          1,         12,         12,2,20210327,       0547,    35.8892,   -52.3333,       4586,  1821.1,   4.3382,  35.0086,2,  35.0079,2,    258.1,2,   258.3,2,   12.30,2,   17.91,2,    0.00,2,    1.14,2,-999.000,9,-999.000,9, -999.00,9,  2171.6,2, 2310.69,2,   -999.0,9,  -999.00,   7.71529,6,    25.01, -999.00,9, -999.00,9, -999.00,-999.000,9, -999.00,9, -999.00,9,     -999.0,9, 20210327,      646,  35.8892, -52.3333,     4.3386,2,     0.0425,1,     4.7071,1,     -999.0,9,     -999.0,9,     -999.0,9,     -999.0,9
325020210316,        A20,      25,          1,         11,         11,2,20210327,       0547,    35.8892,   -52.3333,       4586,  2024.0,   4.0212,  34.9909,2,  34.9908,2,    261.7,2,   260.8,2,   13.48,2,   17.87,2,    0.00,2,    1.14,2,-999.000,9,-999.000,9, -999.00,9,  2166.0,2, 2309.47,6,   -999.0,9,  -999.00,   7.72075,2,    25.01,    0.99,2,  -24.84,2,    2.93,-999.000,9,   45.77,2,   19.13,2,     -999.0,9, 20210327,      642,  35.8892, -52.3333,     4.0205,2,     0.0425,1,     4.7081,1,     -999.0,9,     -999.0,9,     -999.0,9,     -999.0,9
325020210316,        A20,      25,          1,         10,         10,2,20210327,       0547,    35.8892,   -52.3333,       4586,  2279.2,   3.6817,  34.9683,2,  34.9685,2,    265.2,2,   263.8,2,   14.74,2,   17.82,2,    0.00,2,    1.14,2,   1.986,2,   1.023,2,    0.49,2,  2164.2,2, 2307.97,2,    753.4,2,    20.00,   7.72545,2,    25.01, -999.00,9, -999.00,9, -999.00,-999.000,9, -999.00,9, -999.00,9,      10.40,4, 20210327,      636,  35.8892, -52.3333,     3.6811,2,     0.0424,1,     4.7079,1,     -999.0,9,     -999.0,9,     -999.0,9,     -999.0,9
325020210316,        A20,      25,          1,          9,          9,2,20210327,       0547,    35.8892,   -52.3333,       4586,  2533.2,   3.4748,  34.9651,2,  34.9644,2,    263.1,2,   262.0,2,   17.38,2,   18.09,2,    0.00,2,    1.17,2,-999.000,9,-999.000,9, -999.00,9,  2166.6,2, 2311.16,2,   -999.0,9,  -999.00,   7.73166,2,    25.00,    1.05,2,  -45.24,2,    1.88,-999.000,9,   43.31,2,   18.45,2,     -999.0,9, 20210327,      631,  35.8892, -52.3333,     3.4746,2,     0.0426,1,     4.7082,1,     -999.0,9,     -999.0,9,     -999.0,9,     -999.0,9
325020210316,        A20,      25,          1,          8,          8,2,20210327,       0547,    35.8892,   -52.3333,       4586,  2787.8,   3.2070,  34.9485,2,  34.9475,2,    264.5,2,   264.3,2,   18.94,2,   18.05,2,    0.00,2,    1.17,2,-999.000,9,-999.000,9, -999.00,9,  2166.7,2, 2312.86,2,   -999.0,9,  -999.00,   7.73258,2,    24.99, -999.00,9, -999.00,9, -999.00,-999.000,9, -999.00,9, -999.00,9,     -999.0,9, 20210327,      624,  35.8892, -52.3333,     3.2084,2,     0.0416,1,     4.7083,1,     -999.0,9,     -999.0,9,     -999.0,9,     -999.0,9
325020210316,        A20,      25,          1,          7,          7,2,20210327,       0547,    35.8892,   -52.3333,       4586,  3044.2,   3.0270,  34.9402,2,  34.9398,2,    264.8,2,   264.2,2,   20.99,2,   18.18,2,    0.00,2,    1.20,2,   1.168,2,   0.594,2,    0.23,2,  2167.1,2, 2315.53,2,    738.5,2,    20.00,   7.73474,2,    25.01, -999.00,9, -999.00,9, -999.00,-999.000,9, -999.00,9, -999.00,9,       9.74,4, 20210327,      620,  35.8892, -52.3333,     3.0269,2,     0.0429,1,     4.7082,1,     -999.0,9,     -999.0,9,     -999.0,9,     -999.0,9
325020210316,        A20,      25,          1,          6,          6,2,20210327,       0547,    35.8892,   -52.3333,       4586,  3351.3,   2.7618,  34.9254,2,  34.9244,2,    266.4,2,   266.0,2,   23.44,2,   18.22,2,    0.00,2,    1.21,2,-999.000,9,-999.000,9, -999.00,9,  2166.6,2, 2315.03,2,   -999.0,9,  -999.00,   7.73518,2,    25.01,    1.09,2,  -64.51,2,    2.36,-999.000,9,   43.59,2,   18.76,2,     -999.0,9, 20210327,      614,  35.8892, -52.3334,     2.7613,2,     0.0425,1,     4.7082,1,     -999.0,9,     -999.0,9,     -999.0,9,     -999.0,9
325020210316,        A20,      25,          1,          5,          5,2,20210327,       0547,    35.8892,   -52.3333,       4586,  3657.6,   2.5299,  34.9100,2,  34.9091,2,    267.7,2,   266.6,2,   26.07,2,   18.36,2,    0.00,2,    1.22,2,-999.000,9,-999.000,9, -999.00,9,  2168.7,2, 2320.16,2,   -999.0,9,  -999.00,   7.73355,6,    25.02, -999.00,9, -999.00,9, -999.00,-999.000,9,   45.77,2,   20.18,2,     -999.0,9, 20210327,      608,  35.8892, -52.3334,     2.5297,2,     0.0423,1,     4.7072,1,     -999.0,9,     -999.0,9,     -999.0,9,     -999.0,9
325020210316,        A20,      25,          1,          4,          4,2,20210327,       0547,    35.8892,   -52.3333,       4586,  3965.8,   2.3695,  34.8983,2,  34.8977,2,    265.7,2,   266.0,2,   29.49,2,   18.76,2,    0.00,2,    1.26,2,   0.970,2,   0.495,2,    0.28,2,  2171.6,2, 2322.12,6,   -999.0,9,  -999.00,   7.73242,2,    25.01,    1.10,2,  -72.06,2,    1.93,-999.000,9,   45.03,2,   19.21,2,       9.97,4, 20210327,      601,  35.8892, -52.3334,     2.3691,2,     0.0421,1,     4.7070,1,     -999.0,9,     -999.0,9,     -999.0,9,     -999.0,9
325020210316,        A20,      25,          1,          3,          3,2,20210327,       0547,    35.8892,   -52.3333,       4586,  4310.3,   2.2676,  34.8872,2,  34.8869,2,    263.1,2,   264.6,2,   34.18,2,   19.53,2,    0.00,2,    1.30,2,-999.000,9,-999.000,9, -999.00,9,  2180.2,2, 2328.01,2,   -999.0,9,  -999.00,   7.72866,6,    25.01, -999.00,9, -999.00,9, -999.00,-999.000,9,   45.11,2,   19.74,2,     -999.0,9, 20210327,      554,  35.8892, -52.3334,     2.2673,2,     0.0423,1,     4.7019,1,     -999.0,9,     -999.0,9,     -999.0,9,     -999.0,9