BOTTLE,20230512CCHSIOCBG
EXPOCODE,SECT_ID,STNNBR,CASTNO,SAMPNO,BTLNBR,BTLNBR_FLAG_W,DATE,TIME,LATITUDE,LONGITUDE,DEPTH,CTDPRS,CTDTMP,CTDSAL,CTDSAL_FLAG_W,SALNTY,SALNTY_FLAG_W,CTDOXY,CTDOXY_FLAG_W,OXYGEN,OXYGEN_FLAG_W,SILCAT,SILCAT_FLAG_W,NITRAT,NITRAT_FLAG_W,NITRIT,NITRIT_FLAG_W,PHSPHT,PHSPHT_FLAG_W,CFC-11,CFC-11_FLAG_W,CFC-12,CFC-12_FLAG_W,SF6,SF6_FLAG_W,TCARBN,TCARBN_FLAG_W,ALKALI,ALKALI_FLAG_W,FCO2,FCO2_FLAG_W,FCO2TMP,PH_TOT,PH_TOT_FLAG_W,PH_TMP,DELC13,DELC13_FLAG_W,DELC14,DELC14_FLAG_W,C14ERR,POC,POC_FLAG_W,DOC,DOC_FLAG_W,TDN,TDN_FLAG_W,N2O,N2O_FLAG_W,BTL_DATE,BTL_TIME,BTL_LAT,BTL_LON,REFTMP,REFTMP_FLAG_W,CTDFLUOR,CTDFLUOR_FLAG_W,CTDXMISS,CTDXMISS_FLAG_W,D15N_NO2+NO3,D15N_NO2+NO3_FLAG_W,D18O_NO2+NO3,D18O_NO2+NO3_FLAG_W,HPLC,HPLC_FLAG_W,MICROGELS,MICROGELS_FLAG_W
,,,,,,,,,,,METERS,DBAR,ITS-90,PSS-78,,PSS-78,,UMOL/KG,,UMOL/KG,,UMOL/KG,,UMOL/KG,,UMOL/KG,,UMOL/KG,,PMOL/KG,,PMOL/KG,,FMOL/KG,,UMOL/KG,,UMOL/KG,,UATM,,DEG C,,,DEG C,/MILLE,,/MILLE,,/MILLE,UG/KG,,UMOL/KG,,UMOL/KG,,NMOL/KG,,,,,,ITS-90,,VOLTS,,VOLTS,,/MILLE,,/MILLE,,,,1E6 GELS/L,
325020210316,        A20,      14,          1,         36,         36,2,20210323,       1650,    41.4635,   -52.0517,       4770,     5.2,  15.7899,  35.9886,2,  35.9933,2,     87.2,3,   239.3,2,    2.44,2,    5.47,2,    0.18,2,    0.32,2,   2.282,2,   1.429,2,    2.47,3,  2120.8,2, 2366.56,2,    449.8,2,    20.00,   7.93345,2,    25.02, -999.00,9, -999.00,9, -999.00,-999.000,9, -999.00,9, -999.00,9,       9.69,2, 20210323,     1915,  41.4635, -52.0517,    15.7919,2,     0.1438,1,     4.5328,1,     -999.0,9,     -999.0,9,     -999.0,9,     -999.0,9
325020210316,        A20,      14,          1,         35,         35,2,20210323,       1650,    41.4635,   -52.0517,       4770,    25.6,  15.6486,  35.9964,2,  35.9989,2,    292.8,3,   235.8,2,    2.44,2,    5.36,2,    0.18,2,    0.33,2,-999.000,9,-999.000,9, -999.00,9,  -999.0,9, -999.00,9,   -999.0,9,  -999.00,-999.00000,9,  -999.00, -999.00,9, -999.00,9, -999.00,-999.000,9, -999.00,9, -999.00,9,     -999.0,9, 20210323,     1913,  41.4635, -52.0517,    15.6463,2,     0.1842,1,     4.5444,1,     -999.0,9,     -999.0,9,     -999.0,9,     -999.0,9
325020210316,        A20,      14,          1,         34,         34,2,20210323,       1650,    41.4635,   -52.0517,       4770,    51.1,  15.6190,  35.9902,2,  35.9943,2,    232.5,2,   232.5,2,    2.44,2,    5.66,2,    0.19,2,    0.32,2,-999.000,9,-999.000,9, -999.00,9,  2124.9,2, 2364.78,2,    462.3,2,    20.00,   7.92411,2,    25.03, -999.00,9, -999.00,9, -999.00,-999.000,9, -999.00,9, -999.00,9,     -999.0,9, 20210323,     1909,  41.4635, -52.0517,    15.6164,2,     0.1505,1,     4.5912,1,     -999.0,9,     -999.0,9,     -999.0,9,     -999.0,9
325020210316,        A20,      14,          1,         33,         33,2,20210323,       1650,    41.4635,   -52.0517,       4770,    76.1,  15.3989,  35.9310,2,  35.9248,2,    227.2,3,   229.7,2,    2.73,2,    6.08,2,    0.19,2,    0.35,2,   2.403,2,   1.414,2,    2.14,3,  -999.0,9, -999.00,9,   -999.0,9,  -999.00,-999.00000,9,  -999.00, -999.00,9, -999.00,9, -999.00,-999.000,9, -999.00,9, -999.00,9,       9.94,2, 20210323,     1908,  41.4635, -52.0517,    15.4012,2,     0.0844,1,     4.6427,1,     -999.0,9,     -999.0,9,     -999.0,9,     -999.0,9
325020210316,        A20,      14,          1,         32,         32,2,20210323,       1650,    41.4635,   -52.0517,       4770,   101.4,  14.6457,  35.7455,2,  35.7262,2,    227.9,3,   219.1,2,    3.42,2,    7.60,2,    0.05,2,    0.44,2,-999.000,9,-999.000,9, -999.00,9,  2130.3,2, 2351.66,2,    502.7,2,    20.00,   7.89077,2,    24.97, -999.00,9, -999.00,9, -999.00,-999.000,9, -999.00,9, -999.00,9,     -999.0,9, 20210323,     1906,  41.4635, -52.0517,    14.6468,2,     0.0456,1,     4.6893,1,     -999.0,9,     -999.0,9,     -999.0,9,     -999.0,9
325020210316,        A20,      14,          1,         31,         31,2,20210323,       1650,    41.4635,   -52.0517,       4770,   151.6,  14.4335,  35.7527,2,  35.7533,2,    207.1,3,   211.8,2,    3.81,2,    8.70,2,    0.03,2,    0.50,2,   2.448,2,   1.434,2,    1.70,3,  -999.0,9, -999.00,9,   -999.0,9,  -999.00,-999.00000,9,  -999.00, -999.00,9, -999.00,9, -999.00,-999.000,9, -999.00,9, -999.00,9,      11.54,2, 20210323,     1903,  41.4635, -52.0517,    14.4339,2,     0.0447,1,     4.6934,1,     -999.0,9,     -999.0,9,     -999.0,9,     -999.0,9
325020210316,        A20,      14,          1,         30,         30,2,20210323,       1650,    41.4635,   -52.0517,       4770,   202.8,  13.8615,  35.6563,2,  35.6595,2,    213.0,3,   219.1,2,    3.81,2,    8.73,2,    0.04,2,    0.53,2,-999.000,9,-999.000,9, -999.00,9,  2136.2,2,  2346.2,6,    532.9,2,    20.00,   7.86842,2,    24.97, -999.00,9, -999.00,9, -999.00,-999.000,9, -999.00,9, -999.00,9,     -999.0,9, 20210323,     1901,  41.4635, -52.0517,    13.8611,2,     0.0434,1,     4.6946,1,     -999.0,9,     -999.0,9,     -999.0,9,     -999.0,9
325020210316,        A20,      14,          1,         29,         29,2,20210323,       1650,    41.4635,   -52.0517,       4770,   252.6,  14.2216,  35.8291,2,  35.8271,2,    161.8,2,   161.0,2,    6.15,2,   14.56,2,    0.00,2,    0.84,2,-999.000,9,-999.000,9, -999.00,9,  -999.0,9, -999.00,9,   -999.0,9,  -999.00,-999.00000,9,  -999.00, -999.00,9, -999.00,9, -999.00,-999.000,9, -999.00,9, -999.00,9,     -999.0,9, 20210323,     1858,  41.4635, -52.0517,    14.2339,2,     0.0409,1,     4.6989,1,     -999.0,9,     -999.0,9,     -999.0,9,     -999.0,9
325020210316,        A20,      14,          1,         28,         28,2,20210323,       1650,    41.4635,   -52.0517,       4770,   303.9,  12.8670,  35.6392,2,  35.6425,2,    148.4,3,   145.0,2,    8.59,2,   18.42,2,    0.00,2,    1.09,2,   1.998,2,   1.131,2,    1.02,3,  -999.0,9, -999.00,9,   -999.0,9,  -999.00,-999.00000,9,  -999.00, -999.00,9, -999.00,9, -999.00,-999.000,9, -999.00,9, -999.00,9,      18.61,2, 20210323,     1855,  41.4635, -52.0517,    12.8797,2,     0.0417,1,     4.6984,1,     -999.0,9,     -999.0,9,     -999.0,9,     -999.0,9
325020210316,        A20,      14,          1,         27,         27,2,20210323,       1650,    41.4635,   -52.0517,       4770,   352.7,  11.4506,  35.4553,2,  35.4549,2,    139.1,3,   136.2,2,   11.23,2,   21.97,2,    0.00,2,    1.33,2,   1.797,2,   0.963,2,    0.71,3,  2192.2,6,  2331.3,2,    802.0,2,    20.00,   7.70512,2,    24.97, -999.00,9, -999.00,9, -999.00,-999.000,9, -999.00,9, -999.00,9,      20.67,2, 20210323,     1852,  41.4635, -52.0517,    11.4458,2,     0.0430,1,     4.7010,1,     -999.0,9,     -999.0,9,     -999.0,9,     -999.0,9
325020210316,        A20,      14,          1,         26,         26,2,20210323,       1650,    41.4635,   -52.0517,       4770,   403.1,  10.2239,  35.3096,2,  35.3104,2,    137.9,2,   136.5,2,   13.18,2,   24.00,2,    0.00,2,    1.46,2,   1.459,6,   0.827,6,    0.88,3,  -999.0,9, -999.00,9,    859.4,2,    20.00,-999.00000,9,  -999.00, -999.00,9, -999.00,9, -999.00,-999.000,9, -999.00,9, -999.00,9,      20.60,6, 20210323,     1849,  41.4635, -52.0517,    10.2287,2,     0.0423,1,     4.6991,1,     -999.0,9,     -999.0,9,     -999.0,9,     -999.0,9
325020210316,        A20,      14,          1,         25,         25,2,20210323,       1650,    41.4635,   -52.0517,       4770,   504.1,   8.5025,  35.1714,2,  35.1735,2,    154.8,2,   154.6,2,   14.26,2,   24.14,2,    0.00,2,    1.47,2,   1.578,2,   0.829,2,    0.56,3,  2197.8,2, 2320.93,2,    882.2,2,    20.00,   7.66408,6,    24.96, -999.00,9, -999.00,9, -999.00,-999.000,9, -999.00,9, -999.00,9,      20.25,2, 20210323,     1846,  41.4635, -52.0517,     8.5039,2,     0.0408,1,     4.7069,1,     -999.0,9,     -999.0,9,     -999.0,9,     -999.0,9
325020210316,        A20,      14,          1,         24,         24,2,20210323,       1650,    41.4635,   -52.0517,       4770,   606.7,   7.0650,  35.0988,2,  35.0976,2,    184.5,2,   184.5,2,   13.77,2,   22.33,2,    0.00,2,    1.38,2,   2.023,2,   1.009,2,    0.58,3,  -999.0,9, -999.00,9,   -999.0,9,  -999.00,-999.00000,9,  -999.00, -999.00,9, -999.00,9, -999.00,-999.000,9, -999.00,9, -999.00,9,      18.22,2, 20210323,     1842,  41.4635, -52.0518,     7.0638,2,     0.0419,1,     4.7094,1,     -999.0,9,     -999.0,9,     -999.0,9,     -999.0,9
325020210316,        A20,      14,          1,         23,         23,2,20210323,       1650,    41.4635,   -52.0517,       4770,   706.8,   6.0979,  35.0863,2,  35.0856,2,    209.7,2,   210.0,2,   13.19,2,   20.60,2,    0.00,2,    1.28,2,   2.193,2,   1.152,2,    0.94,3,  -999.0,9, -999.00,9,   -999.0,9,  -999.00,-999.00000,9,  -999.00, -999.00,9, -999.00,9, -999.00,-999.000,9, -999.00,9, -999.00,9,      16.36,2, 20210323,     1839,  41.4635, -52.0518,     6.1052,2,     0.0418,1,     4.7098,1,     -999.0,9,     -999.0,9,     -999.0,9,     -999.0,9
325020210316,        A20,      14,          1,         22,         22,2,20210323,       1650,    41.4635,   -52.0517,       4770,   808.2,   5.5514,  35.0758,2,  35.0748,2,    228.0,2,   228.5,2,   12.31,2,   19.24,2,    0.00,2,    1.21,2,   2.497,2,   1.342,2,    1.14,3,  2181.8,2, -999.00,9,    808.6,2,    20.00,   7.69847,2,    25.00, -999.00,9, -999.00,9, -999.00,-999.000,9, -999.00,9, -999.00,9,      15.11,2, 20210323,     1835,  41.4635, -52.0518,     5.5499,2,     0.0418,1,     4.7108,1,     -999.0,9,     -999.0,9,     -999.0,9,     -999.0,9
325020210316,        A20,      14,          1,         21,         21,2,20210323,       1650,    41.4635,   -52.0517,       4770,   910.2,   5.0862,  35.0381,2,  35.0376,2,    238.6,2,   238.4,2,   12.31,2,   18.78,2,    0.00,2,    1.19,2,-999.000,9,-999.000,9, -999.00,9,  -999.0,9, -999.00,9,    802.0,2,    20.00,-999.00000,9,  -999.00, -999.00,9, -999.00,9, -999.00,-999.000,9, -999.00,9, -999.00,9,     -999.0,9, 20210323,     1832,  41.4635, -52.0518,     5.0862,2,     0.0425,1,     4.7106,1,     -999.0,9,     -999.0,9,     -999.0,9,     -999.0,9
325020210316,        A20,      14,          1,         20,         20,2,20210323,       1650,    41.4635,   -52.0517,       4770,  1011.2,   4.8773,  35.0303,2,  35.0295,2,    246.5,2,   245.3,2,   12.01,2,   18.29,2,    0.00,2,    1.17,2,   2.885,2,   1.476,2,    0.91,3,  -999.0,9, -999.00,9,   -999.0,9,  -999.00,-999.00000,9,  -999.00, -999.00,9, -999.00,9, -999.00,-999.000,9, -999.00,9, -999.00,9,      14.51,2, 20210323,     1828,  41.4635, -52.0518,     4.8774,2,     0.0408,1,     4.7108,1,     -999.0,9,     -999.0,9,     -999.0,9,     -999.0,9
325020210316,        A20,      14,          1,         19,         19,2,20210323,       1650,    41.4635,   -52.0517,       4770,  1112.1,   4.5261,  34.9978,2,  34.9969,2,    252.8,2,   253.0,2,   11.92,2,   18.10,2,    0.00,2,    1.15,2,-999.000,9,-999.000,9, -999.00,9,  2172.8,2, 2308.35,2,    790.4,2,    20.00,   7.70532,2,    25.02, -999.00,9, -999.00,9, -999.00,-999.000,9, -999.00,9, -999.00,9,     -999.0,9, 20210323,     1824,  41.4635, -52.0518,     4.5271,2,     0.0421,1,     4.7099,1,     -999.0,9,     -999.0,9,     -999.0,9,     -999.0,9
325020210316,        A20,      14,          1,         18,         18,2,20210323,       1650,    41.4635,   -52.0517,       4770,  1212.5,   4.4373,  34.9957,2,  34.9970,2,    255.6,2,   254.9,2,   11.92,2,   18.11,2,    0.00,2,    1.15,2,   2.809,2,   1.509,2,    1.12,3,  -999.0,9, -999.00,9,   -999.0,9,  -999.00,-999.00000,9,  -999.00, -999.00,9, -999.00,9, -999.00,-999.000,9, -999.00,9, -999.00,9,      14.07,2, 20210323,     1821,  41.4635, -52.0518,     4.4361,2,     0.0416,1,     4.7100,1,     -999.0,9,     -999.0,9,     -999.0,9,     -999.0,9
325020210316,        A20,      14,          1,         17,         17,2,20210323,       1650,    41.4635,   -52.0517,       4770,  1314.0,   4.2872,  34.9871,2,  34.9872,2,    259.0,2,   259.9,2,   11.82,2,   17.93,2,    0.00,2,    1.13,2,   2.971,2,   1.577,2,    0.80,3,  -999.0,9, -999.00,9,    780.2,2,    20.00,-999.00000,9,  -999.00, -999.00,9, -999.00,9, -999.00,-999.000,9, -999.00,9, -999.00,9,      13.98,2, 20210323,     1818,  41.4635, -52.0518,     4.2871,2,     0.0416,1,     4.7107,1,     -999.0,9,     -999.0,9,     -999.0,9,     -999.0,9
325020210316,        A20,      14,          1,         16,         16,2,20210323,       1650,    41.4635,   -52.0517,       4770,  1417.1,   4.1628,  34.9798,2,  34.9797,2,    262.0,2,   261.6,2,   11.92,2,   17.91,2,    0.00,2,    1.12,2,-999.000,9,-999.000,9, -999.00,9,  2169.6,2, 2308.66,2,    776.7,2,    20.00,   7.71253,6,    25.02, -999.00,9, -999.00,9, -999.00,-999.000,9, -999.00,9, -999.00,9,     -999.0,9, 20210323,     1814,  41.4635, -52.0518,     4.1632,2,     0.0414,1,     4.7110,1,     -999.0,9,     -999.0,9,     -999.0,9,     -999.0,9
325020210316,        A20,      14,          1,         15,         15,2,20210323,       1650,    41.4635,   -52.0517,       4770,  1517.9,   4.0278,  34.9711,2,  34.9699,2,    262.6,2,   263.3,2,   12.21,2,   17.87,2,    0.00,2,    1.12,2,   2.874,2,   1.500,2,    1.06,3,  -999.0,9, -999.00,9,    775.1,2,    20.00,-999.00000,9,  -999.00, -999.00,9, -999.00,9, -999.00,-999.000,9, -999.00,9, -999.00,9,      13.72,2, 20210323,     1810,  41.4635, -52.0518,     4.0278,2,     0.0425,1,     4.7110,1,     -999.0,9,     -999.0,9,     -999.0,9,     -999.0,9
325020210316,        A20,      14,          1,         14,         14,2,20210323,       1650,    41.4635,   -52.0517,       4770,  1619.8,   3.9479,  34.9687,2,  34.9679,2,    262.8,2,   263.2,2,   12.60,2,   17.85,2,    0.00,2,    1.12,2,   2.596,2,   1.382,2,    1.11,3,  -999.0,9, -999.00,9,   -999.0,9,  -999.00,-999.00000,9,  -999.00, -999.00,9, -999.00,9, -999.00,-999.000,9, -999.00,9, -999.00,9,      13.61,2, 20210323,     1806,  41.4635, -52.0518,     3.9480,2,     0.0422,1,     4.7114,1,     -999.0,9,     -999.0,9,     -999.0,9,     -999.0,9
325020210316,        A20,      14,          1,         13,         13,2,20210323,       1650,    41.4635,   -52.0517,       4770,  1821.9,   3.7968,  34.9662,2,  34.9662,2,    263.1,2,   262.5,2,   13.68,2,   17.87,2,    0.00,2,    1.13,2,-999.000,9,-999.000,9, -999.00,9,  2166.2,2, -999.00,9,    760.6,2,    20.00,   7.72091,2,    25.02, -999.00,9, -999.00,9, -999.00,-999.000,9, -999.00,9, -999.00,9,     -999.0,9, 20210323,     1800,  41.4635, -52.0518,     3.7966,2,     0.0427,1,     4.7118,1,     -999.0,9,     -999.0,9,     -999.0,9,     -999.0,9
325020210316,        A20,      14,          1,         12,         12,2,20210323,       1650,    41.4635,   -52.0517,       4770,  2024.5,   3.6233,  34.9595,2,-999.0000,9,    263.7,2,  -999.0,9, -999.00,9, -999.00,9, -999.00,9, -999.00,9,-999.000,9,-999.000,9, -999.00,9,  -999.0,9, -999.00,9,   -999.0,9,  -999.00,-999.00000,9,  -999.00, -999.00,9, -999.00,9, -999.00,-999.000,9, -999.00,9, -999.00,9,     -999.0,9, 20210323,     1755,  41.4635, -52.0517,     3.6238,2,     0.0420,1,     4.7118,1,     -999.0,9,     -999.0,9,     -999.0,9,     -999.0,9
325020210316,        A20,      14,          1,         11,         11,2,20210323,       1650,    41.4635,   -52.0517,       4770,  2280.1,   3.4209,  34.9547,2,  34.9545,2,    264.4,2,   264.3,2,   16.41,2,   17.88,2,    0.00,2,    1.15,2,   1.859,2,   0.810,2,    0.30,3,  -999.0,9, -999.00,9,   -999.0,9,  -999.00,-999.00000,9,  -999.00, -999.00,9, -999.00,9, -999.00,-999.000,9, -999.00,9, -999.00,9,      13.48,2, 20210323,     1750,  41.4635, -52.0517,     3.4211,2,     0.0425,1,     4.7128,1,     -999.0,9,     -999.0,9,     -999.0,9,     -999.0,9
325020210316,        A20,      14,          1,         10,         10,2,20210323,       1650,    41.4635,   -52.0517,       4770,  2534.6,   3.2102,  34.9443,2,  34.9433,2,    264.2,2,   265.4,2,   17.39,2,   17.79,2,    0.00,2,    1.16,2,-999.000,9,-999.000,9, -999.00,9,  -999.0,9, -999.00,9,   -999.0,9,  -999.00,-999.00000,9,  -999.00, -999.00,9, -999.00,9, -999.00,-999.000,9, -999.00,9, -999.00,9,     -999.0,9, 20210323,     1744,  41.4635, -52.0517,     3.2102,2,     0.0419,1,     4.7125,1,     -999.0,9,     -999.0,9,     -999.0,9,     -999.0,9
325020210316,        A20,      14,          1,          9,          9,2,20210323,       1650,    41.4635,   -52.0517,       4770,  2791.1,   3.0518,  34.9393,2,  34.9386,2,    265.7,2,   264.8,2,   19.63,2,   18.03,2,    0.00,2,    1.17,2,   1.393,2,   0.691,2,    0.15,3,  -999.0,9, -999.00,9,   -999.0,9,  -999.00,-999.00000,9,  -999.00, -999.00,9, -999.00,9, -999.00,-999.000,9, -999.00,9, -999.00,9,      13.33,2, 20210323,     1738,  41.4635, -52.0517,     3.0519,2,     0.0429,1,     4.7132,1,     -999.0,9,     -999.0,9,     -999.0,9,     -999.0,9
325020210316,        A20,      14,          1,          8,          8,2,20210323,       1650,    41.4635,   -52.0517,       4770,  3046.6,   2.8455,  34.9278,2,  34.9270,2,    267.1,2,   267.3,2,   20.51,2,   17.72,2,    0.00,2,    1.17,2,-999.000,5,-999.000,5, -999.00,5,  2167.5,2, 2314.79,2,    743.4,2,    20.00,   7.73042,2,    25.00, -999.00,9, -999.00,9, -999.00,-999.000,9, -999.00,9, -999.00,9,     -999.0,5, 20210323,     1731,  41.4635, -52.0517,     2.8457,2,     0.0423,1,     4.7130,1,     -999.0,9,     -999.0,9,     -999.0,9,     -999.0,9
325020210316,        A20,      14,          1,          7,          7,2,20210323,       1650,    41.4635,   -52.0517,       4770,  3352.7,   2.6133,  34.9154,2,  34.9148,2,    268.1,2,   268.9,2,   22.37,2,   17.88,2,    0.00,2,    1.18,2,-999.000,9,-999.000,9, -999.00,9,  -999.0,9, -999.00,9,   -999.0,9,  -999.00,-999.00000,9,  -999.00, -999.00,9, -999.00,9, -999.00,-999.000,9, -999.00,9, -999.00,9,     -999.0,9, 20210323,     1724,  41.4635, -52.0518,     2.6132,2,     0.0426,1,     4.7131,1,     -999.0,9,     -999.0,9,     -999.0,9,     -999.0,9
325020210316,        A20,      14,          1,          6,          6,2,20210323,       1650,    41.4635,   -52.0517,       4770,  3659.8,   2.4364,  34.9046,2,  34.9038,2,    269.0,2,   268.7,2,   25.20,2,   18.27,2,    0.00,2,    1.19,2,   1.508,2,   0.694,2,    0.19,3,  -999.0,9, -999.00,9,   -999.0,9,  -999.00,-999.00000,9,  -999.00, -999.00,9, -999.00,9, -999.00,-999.000,9, -999.00,9, -999.00,9,      13.58,2, 20210323,     1717,  41.4635, -52.0517,     2.4368,2,     0.0425,1,     4.7130,1,     -999.0,9,     -999.0,9,     -999.0,9,     -999.0,9
325020210316,        A20,      14,          1,          5,          5,2,20210323,       1650,    41.4635,   -52.0517,       4770,  3967.4,   2.3284,  34.8976,2,  34.8967,2,    270.3,2,   270.7,2,   25.69,2,   18.10,2,    0.00,2,    1.18,2,   1.782,2,   0.886,2,    0.40,3,  2175.7,2, -999.00,9,    755.9,2,    20.00,   7.72472,2,    24.99, -999.00,9, -999.00,9, -999.00,-999.000,9, -999.00,9, -999.00,9,      13.51,2, 20210323,     1710,  41.4635, -52.0517,     2.3287,2,     0.0429,1,     4.7094,1,     -999.0,9,     -999.0,9,     -999.0,9,     -999.0,9
325020210316,        A20,      14,          1,          4,          4,2,20210323,       1650,    41.4635,   -52.0517,       4770,  4276.1,   2.2969,  34.8936,2,  34.8926,2,    269.4,2,   269.9,2,   27.25,2,   18.33,2,    0.00,2,    1.19,2,-999.000,9,-999.000,9, -999.00,9,  -999.0,9, -999.00,9,   -999.0,9,  -999.00,-999.00000,9,  -999.00, -999.00,9, -999.00,9, -999.00,-999.000,9, -999.00,9, -999.00,9,     -999.0,9, 20210323,     1702,  41.4635, -52.0517,     2.2969,2,     0.0430,1,     4.7012,1,     -999.0,9,     -999.0,9,     -999.0,9,     -999.0,9
325020210316,        A20,      14,          1,          3,          3,2,20210323,       1650,    41.4635,   -52.0517,       4770,  4584.9,   2.2890,  34.8895,2,  34.8892,2,    267.7,2,   268.1,2,   29.70,2,   18.70,2,    0.00,2,    1.22,2,   1.616,2,   0.787,2,    0.66,3,  -999.0,9, -999.00,9,   -999.0,9,  -999.00,-999.00000,9,  -999.00, -999.00,9, -999.00,9, -999.00,-999.000,9, -999.00,9, -999.00,9,      13.76,2, 20210323,     1657,  41.4635, -52.0517,     2.2888,2,     0.0418,1,     4.6829,1,     -999.0,9,     -999.0,9,     -999.0,9,     -999.0,9