BOTTLE,20230512CCHSIOCBG
EXPOCODE,SECT_ID,STNNBR,CASTNO,SAMPNO,BTLNBR,BTLNBR_FLAG_W,DATE,TIME,LATITUDE,LONGITUDE,DEPTH,CTDPRS,CTDTMP,CTDSAL,CTDSAL_FLAG_W,SALNTY,SALNTY_FLAG_W,CTDOXY,CTDOXY_FLAG_W,OXYGEN,OXYGEN_FLAG_W,SILCAT,SILCAT_FLAG_W,NITRAT,NITRAT_FLAG_W,NITRIT,NITRIT_FLAG_W,PHSPHT,PHSPHT_FLAG_W,CFC-11,CFC-11_FLAG_W,CFC-12,CFC-12_FLAG_W,SF6,SF6_FLAG_W,TCARBN,TCARBN_FLAG_W,ALKALI,ALKALI_FLAG_W,FCO2,FCO2_FLAG_W,FCO2TMP,PH_TOT,PH_TOT_FLAG_W,PH_TMP,DELC13,DELC13_FLAG_W,DELC14,DELC14_FLAG_W,C14ERR,POC,POC_FLAG_W,DOC,DOC_FLAG_W,TDN,TDN_FLAG_W,N2O,N2O_FLAG_W,BTL_DATE,BTL_TIME,BTL_LAT,BTL_LON,REFTMP,REFTMP_FLAG_W,CTDFLUOR,CTDFLUOR_FLAG_W,CTDXMISS,CTDXMISS_FLAG_W,D15N_NO2+NO3,D15N_NO2+NO3_FLAG_W,D18O_NO2+NO3,D18O_NO2+NO3_FLAG_W,HPLC,HPLC_FLAG_W,MICROGELS,MICROGELS_FLAG_W
,,,,,,,,,,,METERS,DBAR,ITS-90,PSS-78,,PSS-78,,UMOL/KG,,UMOL/KG,,UMOL/KG,,UMOL/KG,,UMOL/KG,,UMOL/KG,,PMOL/KG,,PMOL/KG,,FMOL/KG,,UMOL/KG,,UMOL/KG,,UATM,,DEG C,,,DEG C,/MILLE,,/MILLE,,/MILLE,UG/KG,,UMOL/KG,,UMOL/KG,,NMOL/KG,,,,,,ITS-90,,VOLTS,,VOLTS,,/MILLE,,/MILLE,,,,1E6 GELS/L,
325020210316,        A20,      35,          1,         36,         36,2,20210330,       0727,    29.9719,   -52.3335,       5658,     4.8,  22.0233,  37.0316,2,  37.0359,2,    218.2,2,   218.3,2,    0.68,2,    0.00,2,    0.00,2,    0.00,2,   1.754,2,   1.139,2,    1.86,2,  2104.5,6, 2423.31,2,   -999.0,9,  -999.00,   8.04694,2,    24.96, -999.00,9, -999.00,9, -999.00,-999.000,9, -999.00,9, -999.00,9,       6.64,2, 20210330,     1004,  29.9719, -52.3335,    22.0219,2,     0.0425,1,     4.6579,1,     -999.0,9,     -999.0,9,     -999.0,9,     -999.0,9
325020210316,        A20,      35,          1,         35,         35,2,20210330,       0727,    29.9719,   -52.3335,       5658,    20.4,  21.9638,  37.0124,2,  37.0102,2,    219.1,2,   218.7,2,    0.68,2,    0.00,2,    0.00,2,    0.00,2,-999.000,9,-999.000,9, -999.00,9,  -999.0,9, -999.00,9,   -999.0,9,  -999.00,-999.00000,9,  -999.00, -999.00,9, -999.00,9, -999.00,-999.000,9, -999.00,9, -999.00,9,     -999.0,9, 20210330,     1003,  29.9719, -52.3335,    21.9720,2,     0.0422,1,     4.6593,1,     -999.0,9,     -999.0,9,     -999.0,9,     -999.0,9
325020210316,        A20,      35,          1,         34,         34,2,20210330,       0727,    29.9719,   -52.3335,       5658,    39.5,  21.6429,  36.9564,2,  36.9556,2,    219.3,2,   220.0,2,    0.49,2,    0.00,2,    0.00,2,    0.00,2,-999.000,9,-999.000,9, -999.00,9,  -999.0,9, -999.00,9,   -999.0,9,  -999.00,-999.00000,9,  -999.00, -999.00,9, -999.00,9, -999.00,-999.000,9, -999.00,9, -999.00,9,     -999.0,9, 20210330,     1001,  29.9719, -52.3335,    21.6417,2,     0.0447,1,     4.6555,1,     -999.0,9,     -999.0,9,     -999.0,9,     -999.0,9
325020210316,        A20,      35,          1,         33,         33,2,20210330,       0727,    29.9719,   -52.3335,       5658,    66.9,  21.4825,  36.9306,2,  36.9310,2,    220.3,2,   220.2,2,    0.68,2,    0.00,2,    0.00,2,    0.00,2,-999.000,9,-999.000,9, -999.00,9,  2102.0,2, 2416.59,2,   -999.0,9,  -999.00,   8.04408,2,    25.04, -999.00,9, -999.00,9, -999.00,-999.000,9, -999.00,9, -999.00,9,     -999.0,9, 20210330,      959,  29.9719, -52.3335,    21.4822,2,     0.0463,1,     4.6548,1,     -999.0,9,     -999.0,9,     -999.0,9,     -999.0,9
325020210316,        A20,      35,          1,         32,         32,2,20210330,       0727,    29.9719,   -52.3335,       5658,    89.9,  20.9881,  36.8303,2,  36.8280,2,    219.1,3,   221.3,2,    0.78,2,    0.00,2,    0.00,2,    0.00,2,-999.000,9,-999.000,9, -999.00,9,  -999.0,9, -999.00,9,   -999.0,9,  -999.00,-999.00000,9,  -999.00, -999.00,9, -999.00,9, -999.00,-999.000,9, -999.00,9, -999.00,9,     -999.0,9, 20210330,      957,  29.9719, -52.3335,    20.9871,2,     0.0596,1,     4.6466,1,     -999.0,9,     -999.0,9,     -999.0,9,     -999.0,9
325020210316,        A20,      35,          1,         31,         31,2,20210330,       0727,    29.9719,   -52.3335,       5658,   137.5,  20.5389,  36.7442,2,  36.7453,2,    220.2,2,   221.5,2,    0.78,2,    0.00,2,    0.04,2,    0.00,2,   1.869,2,   1.189,2,    1.95,2,  -999.0,9, -999.00,9,   -999.0,9,  -999.00,-999.00000,9,  -999.00, -999.00,9, -999.00,9, -999.00,-999.000,9, -999.00,9, -999.00,9,       6.92,2, 20210330,      955,  29.9719, -52.3335,    20.5466,2,     0.0702,1,     4.6518,1,     -999.0,9,     -999.0,9,     -999.0,9,     -999.0,9
325020210316,        A20,      35,          1,         30,         30,2,20210330,       0727,    29.9719,   -52.3335,       5658,   186.9,  19.4230,  36.6669,2,  36.6643,2,    197.6,2,   198.3,2,    1.07,2,    2.20,2,    0.00,2,    0.06,2,-999.000,9,-999.000,9, -999.00,9,  2122.6,2, 2396.88,2,   -999.0,9,  -999.00,   7.97881,2,    25.01, -999.00,9, -999.00,9, -999.00,-999.000,9, -999.00,9, -999.00,9,     -999.0,9, 20210330,      953,  29.9719, -52.3335,    19.4302,2,     0.0477,1,     4.6824,1,     -999.0,9,     -999.0,9,     -999.0,9,     -999.0,9
325020210316,        A20,      35,          1,         29,         29,2,20210330,       0727,    29.9719,   -52.3335,       5658,   235.7,  18.8795,  36.6156,2,  36.6140,2,    201.2,3,   203.3,2,    1.17,2,    2.88,2,    0.00,2,    0.10,2,-999.000,9,-999.000,9, -999.00,9,  2123.2,2, 2395.73,2,   -999.0,9,  -999.00,   7.97452,2,    24.98, -999.00,9, -999.00,9, -999.00,-999.000,9, -999.00,9, -999.00,9,     -999.0,9, 20210330,      951,  29.9719, -52.3335,    18.8890,2,     0.0397,1,     4.6911,1,     -999.0,9,     -999.0,9,     -999.0,9,     -999.0,9
325020210316,        A20,      35,          1,         28,         28,2,20210330,       0727,    29.9719,   -52.3335,       5658,   286.2,  18.5094,  36.5675,2,  36.5662,2,    202.2,2,   203.1,2,    1.27,2,    3.56,2,    0.00,2,    0.14,2,   2.048,2,   1.304,2,    1.81,2,  -999.0,9, -999.00,9,   -999.0,9,  -999.00,-999.00000,9,  -999.00, -999.00,9, -999.00,9, -999.00,-999.000,9, -999.00,9, -999.00,9,       8.15,2, 20210330,      948,  29.9719, -52.3335,    18.5105,2,     0.0390,1,     4.6935,1,     -999.0,9,     -999.0,9,     -999.0,9,     -999.0,9
325020210316,        A20,      35,          1,         27,         27,2,20210330,       0727,    29.9719,   -52.3335,       5658,   339.7,  18.1388,  36.5083,2,  36.5077,2,    200.1,2,   200.1,2,    1.46,2,    4.41,2,    0.00,2,    0.19,2,-999.000,9,-999.000,9, -999.00,9,  2133.2,2, 2387.45,2,   -999.0,9,  -999.00,   7.95292,2,    24.98, -999.00,9, -999.00,9, -999.00,-999.000,9, -999.00,9, -999.00,9,     -999.0,9, 20210330,      945,  29.9719, -52.3335,    18.1414,2,     0.0389,1,     4.6947,1,     -999.0,9,     -999.0,9,     -999.0,9,     -999.0,9
325020210316,        A20,      35,          1,         26,         26,2,20210330,       0727,    29.9719,   -52.3335,       5658,   388.4,  17.6106,  36.4227,2,  36.4188,2,    193.6,2,   193.2,2,    1.85,2,    5.85,2,    0.00,2,    0.27,2,-999.000,9,-999.000,9, -999.00,9,  -999.0,9, -999.00,9,   -999.0,9,  -999.00,-999.00000,9,  -999.00, -999.00,9, -999.00,9, -999.00,-999.000,9, -999.00,9, -999.00,9,     -999.0,9, 20210330,      943,  29.9719, -52.3335,    17.6169,2,     0.0403,1,     4.6956,1,     -999.0,9,     -999.0,9,     -999.0,9,     -999.0,9
325020210316,        A20,      35,          1,         25,         25,2,20210330,       0727,    29.9719,   -52.3335,       5658,   468.4,  16.6200,  36.2670,2,  36.2608,2,    188.8,2,   188.1,2,    2.54,2,    7.83,2,    0.00,2,    0.39,2,   2.176,2,   1.387,2,    1.62,2,  -999.0,9, -999.00,9,   -999.0,9,  -999.00,-999.00000,9,  -999.00, -999.00,9, -999.00,9, -999.00,-999.000,9, -999.00,9, -999.00,9,      10.45,2, 20210330,      940,  29.9719, -52.3335,    16.6291,2,     0.0408,1,     4.6969,1,     -999.0,9,     -999.0,9,     -999.0,9,     -999.0,9
325020210316,        A20,      35,          1,         24,         24,2,20210330,       0727,    29.9719,   -52.3335,       5658,   570.3,  14.8445,  35.9833,2,  35.9819,2,    180.3,2,   179.7,2,    4.00,2,   11.27,2,    0.00,2,    0.61,2,-999.000,9,-999.000,9, -999.00,9,  2159.4,2, -999.00,9,   -999.0,9,  -999.00,   7.84807,2,    24.95, -999.00,9, -999.00,9, -999.00,-999.000,9, -999.00,9, -999.00,9,     -999.0,9, 20210330,      937,  29.9719, -52.3335,    14.8452,2,     0.0407,1,     4.6986,1,     -999.0,9,     -999.0,9,     -999.0,9,     -999.0,9
325020210316,        A20,      35,          1,         23,         23,2,20210330,       0727,    29.9719,   -52.3335,       5658,   671.4,  13.0318,  35.7168,2,  35.7148,2,    172.7,2,   171.6,2,    6.25,2,   14.99,2,    0.00,2,    0.86,2,-999.000,9,-999.000,9, -999.00,9,  -999.0,9, -999.00,9,   -999.0,9,  -999.00,-999.00000,9,  -999.00, -999.00,9, -999.00,9, -999.00,-999.000,9, -999.00,9, -999.00,9,     -999.0,9, 20210330,      934,  29.9719, -52.3335,    13.0467,2,     0.0408,1,     4.7008,1,     -999.0,9,     -999.0,9,     -999.0,9,     -999.0,9
325020210316,        A20,      35,          1,         22,         22,2,20210330,       0727,    29.9719,   -52.3335,       5658,   771.7,  10.9573,  35.4494,2,  35.4478,2,    159.6,3,   161.2,2,    9.67,2,   19.31,2,    0.00,2,    1.16,2,   1.832,2,   1.064,2,    0.86,2,  2186.3,2, 2333.61,2,   -999.0,9,  -999.00,   7.60114,3,    25.02, -999.00,9, -999.00,9, -999.00,-999.000,9, -999.00,9, -999.00,9,      17.23,2, 20210330,      930,  29.9719, -52.3335,    10.9604,2,     0.0415,1,     4.7021,1,     -999.0,9,     -999.0,9,     -999.0,9,     -999.0,9
325020210316,        A20,      35,          1,         21,         21,2,20210330,       0727,    29.9719,   -52.3335,       5658,   871.8,   9.1135,  35.2695,2,  35.2712,2,    156.7,2,   156.6,2,   13.09,2,   22.54,2,    0.00,2,    1.39,2,-999.000,9,-999.000,9, -999.00,9,  -999.0,9, -999.00,9,   -999.0,9,  -999.00,-999.00000,9,  -999.00, -999.00,9, -999.00,9, -999.00,-999.000,9, -999.00,9, -999.00,9,     -999.0,9, 20210330,      927,  29.9719, -52.3335,     9.1206,2,     0.0418,1,     4.7037,1,     -999.0,9,     -999.0,9,     -999.0,9,     -999.0,9
325020210316,        A20,      35,          1,         20,         20,2,20210330,       0727,    29.9719,   -52.3335,       5658,   975.3,   7.6972,  35.1707,2,  35.1695,2,    169.1,2,   169.7,2,   14.85,2,   23.11,2,    0.00,2,    1.45,2,   1.159,2,   0.616,2,    0.40,2,  -999.0,9, -999.00,9,   -999.0,9,  -999.00,-999.00000,9,  -999.00, -999.00,9, -999.00,9, -999.00,-999.000,9, -999.00,9, -999.00,9,      18.24,2, 20210330,      923,  29.9719, -52.3335,     7.6878,2,     0.0420,1,     4.7043,1,     -999.0,9,     -999.0,9,     -999.0,9,     -999.0,9
325020210316,        A20,      35,          1,         19,         19,2,20210330,       0727,    29.9719,   -52.3335,       5658,  1073.0,   6.9759,  35.1649,2,  35.1646,2,    186.8,2,   187.6,2,   14.46,2,   21.80,2,    0.00,2,    1.38,2,   1.301,2,   0.700,2,    0.38,2,  -999.0,9, -999.00,9,   -999.0,9,  -999.00,-999.00000,9,  -999.00, -999.00,9, -999.00,9, -999.00,-999.000,9, -999.00,9, -999.00,9,      16.67,2, 20210330,      919,  29.9719, -52.3335,     6.9820,2,     0.0426,1,     4.7045,1,     -999.0,9,     -999.0,9,     -999.0,9,     -999.0,9
325020210316,        A20,      35,          1,         18,         18,2,20210330,       0727,    29.9719,   -52.3335,       5658,  1175.6,   6.4172,  35.1724,2,  35.1729,2,    203.2,2,   203.3,2,   14.07,2,   20.65,2,    0.00,2,    1.31,2,   1.385,2,   0.750,2,    0.39,2,  2189.5,2, 2322.78,2,   -999.0,9,  -999.00,   7.70253,2,    25.02, -999.00,9, -999.00,9, -999.00,-999.000,9, -999.00,9, -999.00,9,      15.98,2, 20210330,      916,  29.9719, -52.3335,     6.4147,2,     0.0421,1,     4.7054,1,     -999.0,9,     -999.0,9,     -999.0,9,     -999.0,9
325020210316,        A20,      35,          1,         17,         17,2,20210330,       0727,    29.9719,   -52.3335,       5658,  1278.2,   5.9898,  35.1672,2,  35.1673,2,    216.4,2,   216.0,2,   13.67,2,   19.82,2,    0.00,2,    1.25,2,-999.000,9,-999.000,9, -999.00,9,  -999.0,9, -999.00,9,   -999.0,9,  -999.00,-999.00000,9,  -999.00, -999.00,9, -999.00,9, -999.00,-999.000,9, -999.00,9, -999.00,9,     -999.0,9, 20210330,      912,  29.9719, -52.3335,     5.9895,2,     0.0417,1,     4.7057,1,     -999.0,9,     -999.0,9,     -999.0,9,     -999.0,9
325020210316,        A20,      35,          1,         16,         16,2,20210330,       0727,    29.9719,   -52.3335,       5658,  1376.8,   5.5639,  35.1545,2,  35.1547,2,    229.7,2,   229.3,2,   13.19,2,   18.89,2,    0.00,2,    1.19,2,   1.776,2,   0.941,2,    0.47,2,  -999.0,9, -999.00,9,   -999.0,9,  -999.00,-999.00000,9,  -999.00, -999.00,9, -999.00,9, -999.00,-999.000,9, -999.00,9, -999.00,9,      14.38,2, 20210330,      909,  29.9719, -52.3335,     5.5614,2,     0.0411,1,     4.7057,1,     -999.0,9,     -999.0,9,     -999.0,9,     -999.0,9
325020210316,        A20,      35,          1,         15,         15,2,20210330,       0727,    29.9719,   -52.3335,       5658,  1551.8,   4.9693,  35.1070,2,  35.1069,2,    242.4,2,   241.3,2,   12.99,2,   18.30,2,    0.00,2,    1.17,2,-999.000,9,-999.000,9, -999.00,9,  -999.0,9, -999.00,9,   -999.0,9,  -999.00,-999.00000,9,  -999.00, -999.00,9, -999.00,9, -999.00,-999.000,9, -999.00,9, -999.00,9,     -999.0,9, 20210330,      904,  29.9719, -52.3335,     4.9703,2,     0.0416,1,     4.7058,1,     -999.0,9,     -999.0,9,     -999.0,9,     -999.0,9
325020210316,        A20,      35,          1,         14,         14,2,20210330,       0727,    29.9719,   -52.3335,       5658,  1753.8,   4.3858,  35.0585,2,  35.0589,2,    249.2,2,   249.8,2,   14.55,2,   18.17,2,    0.00,2,    1.17,2,-999.000,9,-999.000,9, -999.00,9,  -999.0,9, -999.00,9,   -999.0,9,  -999.00,-999.00000,9,  -999.00, -999.00,9, -999.00,9, -999.00,-999.000,9, -999.00,9, -999.00,9,     -999.0,9, 20210330,      859,  29.9719, -52.3335,     4.3874,2,     0.0421,1,     4.7058,1,     -999.0,9,     -999.0,9,     -999.0,9,     -999.0,9
325020210316,        A20,      35,          1,         13,         13,2,20210330,       0727,    29.9719,   -52.3335,       5658,  1955.2,   3.9395,  35.0217,2,  35.0222,2,    253.8,2,   254.2,2,   17.00,2,   18.30,2,    0.00,2,    1.19,2,   1.371,2,   0.690,2,    0.24,2,  2174.4,2, 2318.92,2,   -999.0,9,  -999.00,   7.73016,2,    25.02, -999.00,9, -999.00,9, -999.00,-999.000,9, -999.00,9, -999.00,9,      13.84,2, 20210330,      854,  29.9719, -52.3335,     3.9350,2,     0.0422,1,     4.7056,1,     -999.0,9,     -999.0,9,     -999.0,9,     -999.0,9
325020210316,        A20,      35,          1,         12,         12,2,20210330,       0727,    29.9719,   -52.3335,       5658,  2189.0,   3.5888,  34.9980,2,  34.9976,2,    253.4,2,   253.4,2,   20.91,2,   18.75,2,    0.00,2,    1.23,2,-999.000,9,-999.000,9, -999.00,9,  -999.0,9, -999.00,9,   -999.0,9,  -999.00,-999.00000,9,  -999.00, -999.00,9, -999.00,9, -999.00,-999.000,9, -999.00,9, -999.00,9,     -999.0,9, 20210330,      847,  29.9719, -52.3335,     3.5866,2,     0.0420,1,     4.7061,1,     -999.0,9,     -999.0,9,     -999.0,9,     -999.0,9
325020210316,        A20,      35,          1,         11,         11,2,20210330,       0727,    29.9719,   -52.3335,       5658,  2445.8,   3.3206,  34.9767,2,  34.9886,3,    253.5,2,   252.9,2,   24.32,2,   19.20,2,    0.00,2,    1.26,2,-999.000,9,-999.000,9, -999.00,9,  -999.0,9, -999.00,9,   -999.0,9,  -999.00,-999.00000,9,  -999.00, -999.00,9, -999.00,9, -999.00,-999.000,9, -999.00,9, -999.00,9,     -999.0,9, 20210330,      842,  29.9719, -52.3335,     3.3197,2,     0.0423,1,     4.7057,1,     -999.0,9,     -999.0,9,     -999.0,9,     -999.0,9
325020210316,        A20,      35,          1,         10,         10,2,20210330,       0727,    29.9719,   -52.3335,       5658,  2698.5,   3.1547,  34.9642,2,  34.9638,2,    252.9,2,   252.1,2,   26.96,2,   19.63,2,    0.00,2,    1.30,2,   0.419,2,   0.203,2,    0.11,2,  -999.0,9, -999.00,9,   -999.0,9,  -999.00,-999.00000,9,  -999.00, -999.00,9, -999.00,9, -999.00,-999.000,9, -999.00,9, -999.00,9,      12.57,2, 20210330,      836,  29.9719, -52.3335,     3.1541,2,     0.0420,1,     4.7057,1,     -999.0,9,     -999.0,9,     -999.0,9,     -999.0,9
325020210316,        A20,      35,          1,          9,          9,2,20210330,       0727,    29.9719,   -52.3335,       5658,  2956.0,   2.9573,  34.9490,2,  34.9486,2,    251.7,2,   252.0,2,   29.60,2,   20.02,2,    0.00,2,    1.32,2,-999.000,9,-999.000,9, -999.00,9,  2181.3,2, 2329.52,2,   -999.0,9,  -999.00,   7.73742,2,    25.00, -999.00,9, -999.00,9, -999.00,-999.000,9, -999.00,9, -999.00,9,     -999.0,9, 20210330,      830,  29.9719, -52.3335,     2.9579,2,     0.0417,1,     4.7058,1,     -999.0,9,     -999.0,9,     -999.0,9,     -999.0,9
325020210316,        A20,      35,          1,          8,          8,2,20210330,       0727,    29.9719,   -52.3335,       5658,  3248.3,   2.7633,  34.9327,2,  34.9323,2,    255.1,2,   255.8,2,   30.77,2,   19.93,2,    0.00,2,    1.31,2,-999.000,9,-999.000,9, -999.00,9,  -999.0,9, -999.00,9,   -999.0,9,  -999.00,-999.00000,9,  -999.00, -999.00,9, -999.00,9, -999.00,-999.000,9, -999.00,9, -999.00,9,     -999.0,9, 20210330,      823,  29.9719, -52.3335,     2.7635,2,     0.0424,1,     4.7057,1,     -999.0,9,     -999.0,9,     -999.0,9,     -999.0,9
325020210316,        A20,      35,          1,          7,          7,2,20210330,       0727,    29.9719,   -52.3335,       5658,  3620.4,   2.5314,  34.9138,2,  34.9136,2,    259.7,2,   259.9,2,   31.65,2,   19.67,2,    0.00,2,    1.29,2,   0.235,2,   0.115,2,    0.00,2,  2175.5,2, -999.00,9,   -999.0,9,  -999.00,   7.73961,2,    25.01, -999.00,9, -999.00,9, -999.00,-999.000,9, -999.00,9, -999.00,9,      13.09,2, 20210330,      815,  29.9719, -52.3335,     2.5313,2,     0.0429,1,     4.7057,1,     -999.0,9,     -999.0,9,     -999.0,9,     -999.0,9
325020210316,        A20,      35,          1,          6,          6,2,20210330,       0727,    29.9719,   -52.3335,       5658,  4031.9,   2.3345,  34.8953,2,  34.8951,2,    260.9,2,   260.2,2,   35.56,2,   19.96,2,    0.00,2,    1.32,2,-999.000,9,-999.000,9, -999.00,9,  -999.0,9, -999.00,9,   -999.0,9,  -999.00,-999.00000,9,  -999.00, -999.00,9, -999.00,9, -999.00,-999.000,9, -999.00,9, -999.00,9,     -999.0,9, 20210330,      807,  29.9719, -52.3335,     2.3358,2,     0.0427,1,     4.7051,1,     -999.0,9,     -999.0,9,     -999.0,9,     -999.0,9
325020210316,        A20,      35,          1,          5,          5,2,20210330,       0727,    29.9719,   -52.3335,       5658,  4439.2,   2.1981,  34.8776,2,  34.8770,2,    256.8,2,   256.1,2,   43.18,2,   20.96,2,    0.00,2,    1.40,2,   0.206,2,   0.107,2,    0.10,2,  2189.3,2, 2336.24,2,   -999.0,9,  -999.00,    7.7274,2,    25.00, -999.00,9, -999.00,9, -999.00,-999.000,9, -999.00,9, -999.00,9,      13.71,2, 20210330,      758,  29.9719, -52.3335,     2.2004,2,     0.0430,1,     4.7049,1,     -999.0,9,     -999.0,9,     -999.0,9,     -999.0,9
325020210316,        A20,      35,          1,          4,          4,2,20210330,       0727,    29.9719,   -52.3335,       5658,  4851.5,   2.1123,  34.8632,2,  34.8619,2,    251.9,2,   253.0,2,   49.14,2,   21.69,2,    0.00,2,    1.47,2,-999.000,9,-999.000,9, -999.00,9,  -999.0,9, -999.00,9,   -999.0,9,  -999.00,-999.00000,9,  -999.00, -999.00,9, -999.00,9, -999.00,-999.000,9, -999.00,9, -999.00,9,     -999.0,9, 20210330,      749,  29.9719, -52.3335,     2.1123,2,     0.0429,1,     4.7023,1,     -999.0,9,     -999.0,9,     -999.0,9,     -999.0,9
325020210316,        A20,      35,          1,          3,          3,2,20210330,       0727,    29.9719,   -52.3335,       5658,  5263.2,   2.1394,  34.8598,2,  34.8595,2,    250.1,3,   252.9,2,   50.71,2,   21.90,2,    0.00,2,    1.49,2,   0.178,2,   0.093,2,    0.09,2,  2207.1,2, -999.00,9,   -999.0,9,  -999.00,   7.72042,2,    25.02, -999.00,9, -999.00,9, -999.00,-999.000,9, -999.00,9, -999.00,9,      13.56,2, 20210330,      739,  29.9719, -52.3335,     2.1394,2,     0.0429,1,     4.6999,1,     -999.0,9,     -999.0,9,     -999.0,9,     -999.0,9