BOTTLE,20230512CCHSIOCBG
EXPOCODE,SECT_ID,STNNBR,CASTNO,SAMPNO,BTLNBR,BTLNBR_FLAG_W,DATE,TIME,LATITUDE,LONGITUDE,DEPTH,CTDPRS,CTDTMP,CTDSAL,CTDSAL_FLAG_W,SALNTY,SALNTY_FLAG_W,CTDOXY,CTDOXY_FLAG_W,OXYGEN,OXYGEN_FLAG_W,SILCAT,SILCAT_FLAG_W,NITRAT,NITRAT_FLAG_W,NITRIT,NITRIT_FLAG_W,PHSPHT,PHSPHT_FLAG_W,CFC-11,CFC-11_FLAG_W,CFC-12,CFC-12_FLAG_W,SF6,SF6_FLAG_W,TCARBN,TCARBN_FLAG_W,ALKALI,ALKALI_FLAG_W,FCO2,FCO2_FLAG_W,FCO2TMP,PH_TOT,PH_TOT_FLAG_W,PH_TMP,DELC13,DELC13_FLAG_W,DELC14,DELC14_FLAG_W,C14ERR,POC,POC_FLAG_W,DOC,DOC_FLAG_W,TDN,TDN_FLAG_W,N2O,N2O_FLAG_W,BTL_DATE,BTL_TIME,BTL_LAT,BTL_LON,REFTMP,REFTMP_FLAG_W,CTDFLUOR,CTDFLUOR_FLAG_W,CTDXMISS,CTDXMISS_FLAG_W,D15N_NO2+NO3,D15N_NO2+NO3_FLAG_W,D18O_NO2+NO3,D18O_NO2+NO3_FLAG_W,HPLC,HPLC_FLAG_W,MICROGELS,MICROGELS_FLAG_W
,,,,,,,,,,,METERS,DBAR,ITS-90,PSS-78,,PSS-78,,UMOL/KG,,UMOL/KG,,UMOL/KG,,UMOL/KG,,UMOL/KG,,UMOL/KG,,PMOL/KG,,PMOL/KG,,FMOL/KG,,UMOL/KG,,UMOL/KG,,UATM,,DEG C,,,DEG C,/MILLE,,/MILLE,,/MILLE,UG/KG,,UMOL/KG,,UMOL/KG,,NMOL/KG,,,,,,ITS-90,,VOLTS,,VOLTS,,/MILLE,,/MILLE,,,,1E6 GELS/L,
325020210316,        A20,       8,          1,          2,          2,2,20210322,       0346,    42.6238,   -51.1252,       2007,  1949.1,   3.6021,  34.9011,2,  34.9018,2,    280.4,2,   280.8,2,   10.84,2,   16.43,2,    0.00,2,    1.08,2,-999.000,9,-999.000,9, -999.00,9,  -999.0,9, -999.00,9,   -999.0,9,  -999.00,-999.00000,9,  -999.00, -999.00,9, -999.00,9, -999.00,-999.000,9, -999.00,9, -999.00,9,     -999.0,9, 20210322,      349,  42.6235, -51.1251,     3.6021,2,     0.0420,1,     4.6890,1,     -999.0,9,     -999.0,9,     -999.0,9,     -999.0,1
325020210316,        A20,       8,          1,          1,          1,2,20210322,       0346,    42.6238,   -51.1252,       2007,  2026.1,   3.6008,  34.9056,2,  34.9085,3,    280.4,2,   279.3,2,   11.23,2,   16.55,2,    0.00,2,    1.09,2,   3.544,2,   1.943,2,    2.32,3,  2170.6,6, 2301.47,2,    798.9,2,    20.00,   7.70253,2,    25.00, -999.00,9, -999.00,9, -999.00,-999.000,9,   48.16,2,   19.55,2,      13.83,2, 20210322,      346,  42.6235, -51.1251,     3.6006,2,     0.0420,1,     4.6821,1,     -999.0,9,     -999.0,9,     -999.0,9,     -999.0,1
325020210316,        A20,       9,          1,         30,         30,2,20210322,       0843,    42.4357,   -51.2775,       2581,   161.7,  10.1215,  35.0284,2,  35.0705,3,    160.0,3,   186.8,2,    7.81,2,   14.77,2,    0.00,2,    0.97,2,-999.000,9,-999.000,9, -999.00,9,  2172.0,2, 2315.94,2,    737.5,2,    20.00,   7.73914,6,    24.97, -999.00,9, -999.00,9, -999.00,-999.000,9,   51.46,2,   14.95,2,     -999.0,9, 20210322,     1024,  42.4357, -51.2775,    10.1324,2,     0.0419,1,     4.6903,1,     -999.0,1,     -999.0,1,     -999.0,9,     -999.0,9
325020210316,        A20,       9,          1,         29,         29,2,20210322,       0843,    42.4357,   -51.2775,       2581,   186.3,  10.5235,  35.2168,2,  35.2079,2,    163.2,3,   157.6,2,   10.25,2,   18.71,2,    0.00,2,    1.19,2,-999.000,9,-999.000,9, -999.00,9,  2182.9,2, 2320.15,6,    805.6,2,    20.00,   7.70487,2,    24.99, -999.00,9, -999.00,9, -999.00,-999.000,9, -999.00,9, -999.00,9,     -999.0,9, 20210322,     1022,  42.4356, -51.2775,    10.5350,2,     0.0426,1,     4.6764,1,     -999.0,1,     -999.0,1,     -999.0,9,     -999.0,9
325020210316,        A20,       9,          1,         28,         28,2,20210322,       0843,    42.4357,   -51.2775,       2581,   210.4,   8.5895,  34.8790,2,  34.8751,2,    189.3,2,   189.1,2,    9.76,2,   16.98,2,    0.00,2,    1.12,2,-999.000,9,-999.000,9, -999.00,9,  2173.3,2, 2304.26,3,    820.0,2,    20.00,   7.69555,2,    24.99,    0.50,2,   12.89,2,    2.06,-999.000,9,   50.84,2,   18.15,2,     -999.0,9, 20210322,     1019,  42.4357, -51.2775,     8.5322,2,     0.0426,1,     4.6886,1,     -999.0,1,     -999.0,1,     -999.0,9,     -999.0,9
325020210316,        A20,       9,          1,         27,         27,2,20210322,       0843,    42.4357,   -51.2775,       2581,   237.6,   9.9213,  35.2801,2,  35.2792,2,    142.4,2,   143.0,2,   12.89,2,   22.97,2,    0.00,2,    1.43,2,   1.617,2,   0.897,2,    1.41,3,  2197.8,2, 2324.16,2,   -999.0,9,  -999.00,   7.67969,2,    25.00, -999.00,9, -999.00,9, -999.00,-999.000,9, -999.00,9, -999.00,9,      21.28,2, 20210322,     1017,  42.4357, -51.2775,     9.9217,2,     0.0416,1,     4.7090,1,     -999.0,1,     -999.0,1,     -999.0,9,     -999.0,9
325020210316,        A20,       9,          1,         26,         26,2,20210322,       0843,    42.4357,   -51.2775,       2581,   271.8,   9.0553,  35.1970,2,  35.1983,2,    150.9,3,   149.2,2,   13.67,2,   23.48,2,    0.00,2,    1.47,2,-999.000,9,-999.000,9, -999.00,9,  2196.4,2, 2318.86,2,    880.7,2,    20.00,   7.66916,2,    24.99, -999.00,9, -999.00,9, -999.00,-999.000,9, -999.00,9, -999.00,9,     -999.0,9, 20210322,     1014,  42.4356, -51.2775,     9.0322,2,     0.0424,1,     4.7101,1,     -999.0,1,     -999.0,1,     -999.0,9,     -999.0,9
325020210316,        A20,       9,          1,         25,         25,2,20210322,       0843,    42.4357,   -51.2775,       2581,   322.2,   8.0767,  35.1441,2,  35.1408,2,    161.9,2,   162.3,2,   14.06,2,   23.40,2,    0.00,2,    1.46,2,-999.000,9,-999.000,9, -999.00,9,  2196.4,2, 2317.12,2,    883.5,6,    20.00,   7.66581,2,    24.99,    0.63,2,  -25.62,2,    1.99,-999.000,9,   46.02,2,   23.49,2,     -999.0,9, 20210322,     1011,  42.4356, -51.2775,     8.0828,2,     0.0428,1,     4.7095,1,     -999.0,1,     -999.0,1,     -999.0,9,     -999.0,9
325020210316,        A20,       9,          1,         24,         24,2,20210322,       0843,    42.4357,   -51.2775,       2581,   374.3,   7.1672,  35.0788,2,  35.0742,2,    194.5,3,   183.0,2,   13.57,2,   21.97,2,    0.00,2,    1.40,2,-999.000,9,-999.000,9, -999.00,9,  2191.5,2, 2314.65,2,    871.7,2,    20.00,   7.66933,2,    25.00, -999.00,9, -999.00,9, -999.00,-999.000,9, -999.00,9, -999.00,9,     -999.0,9, 20210322,     1008,  42.4357, -51.2775,     7.1876,2,     0.0429,1,     4.7094,1,     -999.0,1,     -999.0,1,     -999.0,9,     -999.0,9
325020210316,        A20,       9,          1,         23,         23,2,20210322,       0843,    42.4357,   -51.2775,       2581,   423.2,   3.9745,  34.6003,2,  34.5987,2,    265.4,2,   265.9,2,    9.96,2,   15.40,2,    0.00,2,    1.05,2,   3.957,2,   2.300,2,    4.72,3,  2168.1,2, 2287.82,2,    853.3,2,    20.00,   7.67094,2,    25.00,    0.63,2,    6.40,2,    1.97,-999.000,9,   52.06,2,   16.10,2,      15.37,2, 20210322,     1006,  42.4356, -51.2775,     3.9671,2,     0.0435,1,     4.6873,1,     -999.0,1,     -999.0,1,     -999.0,9,     -999.0,9
325020210316,        A20,       9,          1,         22,         22,2,20210322,       0843,    42.4357,   -51.2775,       2581,   475.1,   5.1419,  34.8745,2,  34.8776,2,    241.7,3,   232.8,2,   11.82,2,   18.43,2,    0.00,2,    1.20,2,-999.000,9,-999.000,9, -999.00,9,  2180.4,2, 2302.27,2,   -999.0,9,  -999.00,   7.67474,2,    25.00, -999.00,9, -999.00,9, -999.00,-999.000,9,   50.16,2,   19.82,2,     -999.0,9, 20210322,     1003,  42.4357, -51.2775,     5.3124,3,     0.0415,1,     4.6969,1,     -999.0,1,     -999.0,1,     -999.0,9,     -999.0,9
325020210316,        A20,       9,          1,         21,         21,2,20210322,       0843,    42.4357,   -51.2775,       2581,   539.5,   3.7288,  34.7007,2,  34.6989,2,    281.6,2,   279.8,2,    9.57,2,   15.28,2,    0.00,2,    1.02,2,-999.000,9,-999.000,9, -999.00,9,  2168.4,6,  2290.7,2,   -999.0,9,  -999.00,   7.67704,2,    25.00,    0.58,2,   10.07,2,    1.98,-999.000,9,   52.04,2,   16.22,2,     -999.0,9, 20210322,     1000,  42.4357, -51.2775,     3.7285,2,     0.0426,1,     4.6792,1,     -999.0,1,     -999.0,1,     -999.0,9,     -999.0,9
325020210316,        A20,       9,          1,         20,         20,2,20210322,       0843,    42.4357,   -51.2775,       2581,   641.8,   3.8564,  34.7675,2,  34.7679,2,    280.8,2,   280.9,2,    9.18,2,   15.75,2,    0.00,2,    1.04,2,-999.000,9,-999.000,9, -999.00,9,  2168.4,2, 2295.37,2,   -999.0,5,    20.00,   7.68353,6,    24.99,    0.62,2,    9.91,2,    3.13,-999.000,9,   53.26,2,   17.60,2,     -999.0,9, 20210322,      957,  42.4357, -51.2775,     3.8555,2,     0.0421,1,     4.6859,1,     -999.0,1,     -999.0,1,     -999.0,9,     -999.0,9
325020210316,        A20,       9,          1,         19,         19,2,20210322,       0843,    42.4357,   -51.2775,       2581,   741.8,   3.8577,  34.8145,2,  34.8133,2,    284.3,2,   283.6,2,    8.98,2,   15.91,2,    0.00,2,    1.04,2,   4.017,4,   2.357,4,    4.87,4,  2169.0,2, 2295.69,2,    825.5,2,    20.00,   7.68751,2,    25.00,    0.51,3,    9.06,2,    2.15,-999.000,9,   50.90,2,   17.06,2,      13.83,4, 20210322,      953,  42.4356, -51.2775,     3.8575,2,     0.0419,1,     4.6947,1,     -999.0,1,     -999.0,1,     -999.0,9,     -999.0,9
325020210316,        A20,       9,          1,         18,         18,2,20210322,       0843,    42.4357,   -51.2775,       2581,   844.0,   3.8157,  34.8235,2,  34.8224,2,    283.8,2,   283.9,2,    9.08,2,   16.02,2,    0.00,2,    1.04,2,-999.000,9,-999.000,9, -999.00,9,  2172.4,2, 2297.76,2,   -999.0,9,  -999.00,   7.68735,2,    25.00,    0.66,2,    6.84,2,    2.51,-999.000,9,   51.19,2,   17.67,2,     -999.0,9, 20210322,      950,  42.4356, -51.2775,     3.8154,2,     0.0420,1,     4.6963,1,     -999.0,1,     -999.0,1,     -999.0,9,     -999.0,9
325020210316,        A20,       9,          1,         17,         17,2,20210322,       0843,    42.4357,   -51.2775,       2581,   945.7,   3.7573,  34.8299,2,  34.8288,2,    285.6,2,   285.2,2,    9.08,2,   16.10,2,    0.00,2,    1.04,2,   4.138,2,   2.388,2,    3.03,3,  2168.3,2, 2299.94,2,    825.9,2,    20.00,   7.68907,2,    25.00,    0.69,2,    6.80,2,    1.96,-999.000,9,   48.76,2,   17.24,2,      14.23,2, 20210322,      946,  42.4356, -51.2775,     3.7574,2,     0.0421,1,     4.6978,1,     -999.0,1,     -999.0,1,     -999.0,9,     -999.0,9
325020210316,        A20,       9,          1,         16,         16,2,20210322,       0843,    42.4357,   -51.2775,       2581,  1045.8,   3.7550,  34.8461,2,  34.8454,2,    284.4,2,   284.0,2,    9.28,2,   16.39,2,    0.00,2,    1.06,2,-999.000,9,-999.000,9, -999.00,9,  2169.9,2, 2298.42,2,   -999.0,9,  -999.00,   7.68882,2,    24.98, -999.00,9, -999.00,9, -999.00,-999.000,9,   50.17,2,   17.87,2,     -999.0,9, 20210322,      943,  42.4356, -51.2775,     3.7546,2,     0.0428,1,     4.7008,1,     -999.0,1,     -999.0,1,     -999.0,9,     -999.0,9
325020210316,        A20,       9,          1,         14,         14,2,20210322,       0843,    42.4357,   -51.2775,       2581,  1247.2,   3.6910,  34.8473,2,  34.8471,2,    285.6,2,   285.5,2,    9.28,2,   16.38,2,    0.00,2,    1.06,2,-999.000,9,-999.000,9, -999.00,9,  2169.4,2,  2297.1,2,    822.9,2,    20.00,     7.689,2,    24.99,    0.70,2,    8.78,2,    2.07,-999.000,9,   51.34,2,   17.33,2,     -999.0,9, 20210322,      935,  42.4356, -51.2775,     3.6904,2,     0.0425,1,     4.6993,1,     -999.0,1,     -999.0,1,     -999.0,9,     -999.0,9
325020210316,        A20,       9,          1,         15,         15,2,20210322,       0843,    42.4357,   -51.2775,       2581,  1248.2,   3.6909,  34.8470,2,  34.8475,2,    285.7,2,   285.4,2, -999.00,9, -999.00,9, -999.00,9, -999.00,9,-999.000,9,-999.000,9, -999.00,9,  -999.0,9, -999.00,9,   -999.0,9,  -999.00,-999.00000,9,  -999.00, -999.00,9, -999.00,9, -999.00,-999.000,9, -999.00,9, -999.00,9,     -999.0,9, 20210322,      936,  42.4356, -51.2775,     3.6907,2,     0.0420,1,     4.6990,1,     -999.0,1,     -999.0,1,     -999.0,9,     -999.0,9
325020210316,        A20,       9,          1,         13,         13,2,20210322,       0843,    42.4357,   -51.2775,       2581,  1348.7,   3.7037,  34.8554,2,  34.8560,2,    284.9,2,   284.7,2,    9.28,2,   16.46,2,    0.00,2,    1.06,2,   3.965,2,   2.351,2,    2.48,3,  2168.6,2, 2301.02,2,   -999.0,9,  -999.00,   7.71119,4,    24.99,    0.65,2,    4.87,2,    2.24,-999.000,9,   50.73,2,   17.75,2,      14.22,2, 20210322,      930,  42.4356, -51.2775,     3.7036,2,     0.0422,1,     4.7031,1,     -999.0,1,     -999.0,1,     -999.0,9,     -999.0,9
325020210316,        A20,       9,          1,         12,         12,2,20210322,       0843,    42.4357,   -51.2775,       2581,  1450.6,   3.6717,  34.8573,2,  34.8607,2,    285.3,2,   285.5,2,    9.37,2,   16.48,2,    0.00,2,    1.06,2,-999.000,9,-999.000,9, -999.00,9,  2169.9,2, 2301.07,2,   -999.0,9,  -999.00,   7.69079,6,    24.99, -999.00,9, -999.00,9, -999.00,-999.000,9,   49.98,2,   17.61,2,     -999.0,9, 20210322,      926,  42.4356, -51.2775,     3.6722,2,     0.0423,1,     4.7009,1,     -999.0,1,     -999.0,1,     -999.0,9,     -999.0,9
325020210316,        A20,       9,          1,         11,         11,2,20210322,       0843,    42.4357,   -51.2775,       2581,  1552.7,   3.7172,  34.8726,2,  34.8725,2,    284.3,2,   284.0,2,    9.47,2,   16.62,2,    0.00,2,    1.08,2,-999.000,9,-999.000,9, -999.00,9,  2170.8,6, 2301.23,6,    819.0,2,    20.00,   7.69201,2,    24.98,    0.69,2,    6.41,2,    2.43,-999.000,9,   50.62,2,   18.16,2,     -999.0,9, 20210322,      923,  42.4356, -51.2775,     3.7168,2,     0.0421,1,     4.7001,1,     -999.0,1,     -999.0,1,     -999.0,9,     -999.0,9
325020210316,        A20,       9,          1,         10,         10,2,20210322,       0843,    42.4357,   -51.2775,       2581,  1656.9,   3.7028,  34.8738,2,  34.8737,2,    283.8,2,   283.8,2,    9.57,2,   16.61,2,    0.00,2,    1.07,2,-999.000,9,-999.000,9, -999.00,9,  2170.4,2, 2301.04,2,   -999.0,9,  -999.00,   7.69201,2,    24.99, -999.00,9, -999.00,9, -999.00,-999.000,9,   50.68,2,   17.72,2,     -999.0,9, 20210322,      919,  42.4356, -51.2775,     3.7035,2,     0.0420,1,     4.6996,1,     -999.0,1,     -999.0,1,     -999.0,9,     -999.0,9
325020210316,        A20,       9,          1,          9,          9,2,20210322,       0843,    42.4357,   -51.2775,       2581,  1756.3,   3.6702,  34.8729,2,  34.8729,2,    283.9,2,   284.3,2,    9.77,2,   16.59,2,    0.00,2,    1.08,2,-999.000,9,-999.000,9, -999.00,9,  2169.0,2, 2300.88,2,   -999.0,9,  -999.00,    7.6928,2,    24.98,    0.71,2,    3.75,2,    1.98,-999.000,9,   48.66,2,   18.07,2,     -999.0,9, 20210322,      916,  42.4356, -51.2775,     3.6703,2,     0.0427,1,     4.6985,1,     -999.0,1,     -999.0,1,     -999.0,9,     -999.0,9
325020210316,        A20,       9,          1,          8,          8,2,20210322,       0843,    42.4357,   -51.2775,       2581,  1859.4,   3.6661,  34.8761,2,  34.8762,2,    285.1,2,   284.1,2,   11.33,2,   16.63,2,    0.00,2,    1.08,2,-999.000,9,-999.000,9, -999.00,9,  2169.2,2,  2299.3,2,    816.1,2,    20.00,   7.69352,2,    24.99, -999.00,9, -999.00,9, -999.00,-999.000,9,   49.93,2,   18.70,2,     -999.0,9, 20210322,      910,  42.4356, -51.2775,     3.6661,2,     0.0416,1,     4.6964,1,     -999.0,1,     -999.0,1,     -999.0,9,     -999.0,9
325020210316,        A20,       9,          1,          7,          7,2,20210322,       0843,    42.4357,   -51.2775,       2581,  1959.8,   3.6397,  34.8866,2,  34.8869,2,    282.4,2,   282.6,2,   11.72,2,   16.74,2,    0.00,2,    1.08,2,-999.000,9,-999.000,9, -999.00,9,  2167.9,2, 2324.01,4,   -999.0,9,  -999.00,   7.69607,2,    24.99,    0.75,2,    4.17,2,    2.45,-999.000,9,   50.41,2,   17.72,2,     -999.0,9, 20210322,      906,  42.4356, -51.2775,     3.6393,2,     0.0415,1,     4.6952,1,     -999.0,1,     -999.0,1,     -999.0,9,     -999.0,9
325020210316,        A20,       9,          1,          6,          6,2,20210322,       0843,    42.4357,   -51.2775,       2581,  2071.0,   3.5831,  34.9036,2,  34.9034,2,    279.1,2,   279.0,2,   12.69,2,   16.90,2,    0.00,2,    1.10,2,   3.469,2,   1.944,2,    2.00,3,  2166.8,2, 2302.04,2,    798.0,2,    20.00,   7.70241,2,    24.99, -999.00,9, -999.00,9, -999.00,-999.000,9,   49.83,2,   18.09,2,      14.00,2, 20210322,      902,  42.4356, -51.2775,     3.5840,2,     0.0419,1,     4.6941,1,     -999.0,1,     -999.0,1,     -999.0,9,     -999.0,9
325020210316,        A20,       9,          1,          5,          5,2,20210322,       0843,    42.4357,   -51.2775,       2581,  2193.3,   3.3434,  34.9307,2,  34.9309,2,    272.0,2,   271.6,2,   13.87,2,   17.23,2,    0.00,2,    1.12,2,   2.607,2,   1.409,2,    1.66,3,  2166.8,2, 2307.82,2,   -999.0,9,  -999.00,   7.71694,2,    24.99,    0.93,2,  -25.23,2,    1.92,-999.000,9,   47.63,2,   18.52,2,      13.64,2, 20210322,      858,  42.4356, -51.2775,     3.3423,2,     0.0423,1,     4.6992,1,     -999.0,1,     -999.0,1,     -999.0,9,     -999.0,9
325020210316,        A20,       9,          1,          4,          4,2,20210322,       0843,    42.4357,   -51.2775,       2581,  2321.1,   3.0298,  34.9277,2,  34.9282,2,    272.6,2,   272.1,2,   15.14,2,   17.07,2,    0.00,2,    1.11,2,   2.446,2,   1.311,2,    1.11,3,  2167.7,2, 2309.05,2,    765.1,2,    20.00,   7.72019,2,    24.99, -999.00,9, -999.00,9, -999.00,-999.000,9,   47.00,2,   17.17,2,      13.79,2, 20210322,      854,  42.4356, -51.2775,     3.0298,2,     0.0411,1,     4.6981,1,     -999.0,1,     -999.0,1,     -999.0,9,     -999.0,9
325020210316,        A20,       9,          1,          3,          3,2,20210322,       0843,    42.4357,   -51.2775,       2581,  2498.1,   2.5891,  34.9157,2,  34.9162,2,    275.6,2,   275.6,2,   16.60,2,   16.72,2,    0.00,2,    1.10,2,   2.496,2,   1.365,2,    1.92,3,  2167.6,2, 2309.28,6,   -999.0,9,  -999.00,   7.71838,6,    24.99,    0.97,2,  -25.88,2,    2.49,-999.000,9,   46.03,2,   17.36,2,      13.91,2, 20210322,      847,  42.4356, -51.2775,     2.5909,2,     0.0427,1,     4.6935,1,     -999.0,1,     -999.0,1,     -999.0,9,     -999.0,9
325020210316,        A20,       9,          1,          2,          2,2,20210322,       0843,    42.4357,   -51.2775,       2581,  2555.4,   2.4786,  34.9121,2,  34.9122,2,    275.8,2,   276.3,2,   17.19,2,   16.68,2,    0.00,2,    1.10,2,   2.509,2,   1.329,2,    2.53,3,  2170.5,2, 2309.41,2,    769.1,2,    20.00,   7.71855,6,    24.99, -999.00,9, -999.00,9, -999.00,-999.000,9, -999.00,9, -999.00,9,      13.94,2, 20210322,      846,  42.4356, -51.2775,     2.4795,2,     0.0427,1,     4.6981,1,     -999.0,1,     -999.0,1,     -999.0,9,     -999.0,9
325020210316,        A20,       9,          1,          1,          1,2,20210322,       0843,    42.4357,   -51.2775,       2581,  2604.8,   2.4584,  34.9112,2,  34.9128,2,    276.1,2,   276.3,2,   17.48,2,   16.69,2,    0.00,2,    1.10,2,   2.514,2,   1.322,2,    1.34,3,  2169.4,6, 2310.61,2,    770.2,2,    20.00,   7.71886,2,    24.99,    0.94,2,  -28.19,2,    1.99,-999.000,9,   49.97,2,   17.20,2,      13.99,2, 20210322,      843,  42.4356, -51.2775,     2.4573,2,     0.0429,1,     4.6958,1,     -999.0,1,     -999.0,1,     -999.0,9,     -999.0,9