BOTTLE,20230512CCHSIOCBG
EXPOCODE,SECT_ID,STNNBR,CASTNO,SAMPNO,BTLNBR,BTLNBR_FLAG_W,DATE,TIME,LATITUDE,LONGITUDE,DEPTH,CTDPRS,CTDTMP,CTDSAL,CTDSAL_FLAG_W,SALNTY,SALNTY_FLAG_W,CTDOXY,CTDOXY_FLAG_W,OXYGEN,OXYGEN_FLAG_W,SILCAT,SILCAT_FLAG_W,NITRAT,NITRAT_FLAG_W,NITRIT,NITRIT_FLAG_W,PHSPHT,PHSPHT_FLAG_W,CFC-11,CFC-11_FLAG_W,CFC-12,CFC-12_FLAG_W,SF6,SF6_FLAG_W,TCARBN,TCARBN_FLAG_W,ALKALI,ALKALI_FLAG_W,FCO2,FCO2_FLAG_W,FCO2TMP,PH_TOT,PH_TOT_FLAG_W,PH_TMP,DELC13,DELC13_FLAG_W,DELC14,DELC14_FLAG_W,C14ERR,POC,POC_FLAG_W,DOC,DOC_FLAG_W,TDN,TDN_FLAG_W,N2O,N2O_FLAG_W,BTL_DATE,BTL_TIME,BTL_LAT,BTL_LON,REFTMP,REFTMP_FLAG_W,CTDFLUOR,CTDFLUOR_FLAG_W,CTDXMISS,CTDXMISS_FLAG_W,D15N_NO2+NO3,D15N_NO2+NO3_FLAG_W,D18O_NO2+NO3,D18O_NO2+NO3_FLAG_W,HPLC,HPLC_FLAG_W,MICROGELS,MICROGELS_FLAG_W
,,,,,,,,,,,METERS,DBAR,ITS-90,PSS-78,,PSS-78,,UMOL/KG,,UMOL/KG,,UMOL/KG,,UMOL/KG,,UMOL/KG,,UMOL/KG,,PMOL/KG,,PMOL/KG,,FMOL/KG,,UMOL/KG,,UMOL/KG,,UATM,,DEG C,,,DEG C,/MILLE,,/MILLE,,/MILLE,UG/KG,,UMOL/KG,,UMOL/KG,,NMOL/KG,,,,,,ITS-90,,VOLTS,,VOLTS,,/MILLE,,/MILLE,,,,1E6 GELS/L,
325020210316,        A20,      79,          1,         36,         36,2,20210411,       1808,     8.1068,   -52.7297,       2220,     5.4,  27.9208,  35.9767,2,  35.9593,2,    200.3,2,   199.4,2,    0.98,2,    0.00,2,    0.00,2,    0.01,2,-999.000,9,-999.000,9, -999.00,9,  2027.4,6, 2353.64,2,   -999.0,9,  -999.00,   8.08903,2,    24.98, -999.00,9, -999.00,9, -999.00,-999.000,9,   70.84,2,    4.01,2,     -999.0,9, 20210411,     1935,   8.1068, -52.7297,    27.9364,2,     0.0454,1,     4.6036,1,     -999.0,9,     -999.0,9,     -999.0,9,     -999.0,9
325020210316,        A20,      79,          1,         35,         35,2,20210411,       1808,     8.1068,   -52.7297,       2220,    19.7,  27.5679,  36.1677,2,  36.1692,2,    200.8,2,   200.3,2,    0.78,2,    0.00,2,    0.00,2,    0.00,2,-999.000,9,-999.000,9, -999.00,9,  -999.0,9, -999.00,9,   -999.0,9,  -999.00,-999.00000,9,  -999.00, -999.00,9, -999.00,9, -999.00,-999.000,9,   68.15,2,    4.08,2,     -999.0,9, 20210411,     1933,   8.1068, -52.7297,    27.5672,2,     0.0467,1,     4.6135,1,     -999.0,9,     -999.0,9,     -999.0,9,     -999.0,9
325020210316,        A20,      79,          1,         34,         34,2,20210411,       1808,     8.1068,   -52.7297,       2220,    40.1,  27.5250,  36.1791,2,  36.1769,2,    200.7,2,   200.3,2,    0.68,2,    0.00,2,    0.00,2,    0.00,2,-999.000,9,-999.000,9, -999.00,9,  -999.0,9, -999.00,9,   -999.0,9,  -999.00,-999.00000,9,  -999.00, -999.00,9, -999.00,9, -999.00,-999.000,9,   70.07,2,    4.01,2,     -999.0,9, 20210411,     1931,   8.1068, -52.7297,    27.5235,2,     0.0508,1,     4.6110,1,     -999.0,9,     -999.0,9,     -999.0,9,     -999.0,9
325020210316,        A20,      79,          1,         33,         33,2,20210411,       1808,     8.1068,   -52.7297,       2220,    64.9,  27.4061,  36.2357,2,  36.2382,2,    199.4,2,   199.2,2,    0.78,2,    0.00,2,    0.00,2,    0.00,2,-999.000,9,-999.000,9, -999.00,9,  -999.0,9, -999.00,9,   -999.0,9,  -999.00,-999.00000,9,  -999.00, -999.00,9, -999.00,9, -999.00,-999.000,9,   70.96,2,    3.94,2,     -999.0,9, 20210411,     1930,   8.1068, -52.7297,    27.4062,2,     0.0679,1,     4.6135,1,     -999.0,9,     -999.0,9,     -999.0,9,     -999.0,9
325020210316,        A20,      79,          1,         32,         32,2,20210411,       1808,     8.1068,   -52.7297,       2220,    90.1,  27.3734,  36.2585,2,  36.2570,2,    196.8,2,   197.8,2,    0.78,2,    0.00,2,    0.00,2,    0.00,2,-999.000,9,-999.000,9, -999.00,9,  -999.0,9, -999.00,9,   -999.0,9,  -999.00,-999.00000,9,  -999.00, -999.00,9, -999.00,9, -999.00,-999.000,9,   70.32,2,    4.92,2,     -999.0,9, 20210411,     1928,   8.1068, -52.7297,    27.3735,2,     0.0860,1,     4.6195,1,     -999.0,9,     -999.0,9,     -999.0,9,     -999.0,9
325020210316,        A20,      79,          1,         31,         31,2,20210411,       1808,     8.1068,   -52.7297,       2220,   115.5,  26.6213,  36.4966,2,  36.4943,2,    186.9,3,   190.0,2,    0.88,2,    0.00,2,    0.06,2,    0.07,2,-999.000,9,-999.000,9, -999.00,9,  -999.0,9, -999.00,9,   -999.0,9,  -999.00,-999.00000,9,  -999.00, -999.00,9, -999.00,9, -999.00,-999.000,9,   67.50,2,    4.54,2,     -999.0,9, 20210411,     1925,   8.1068, -52.7297,    26.6090,2,     0.1154,1,     4.6079,1,     -999.0,9,     -999.0,9,     -999.0,9,     -999.0,9
325020210316,        A20,      79,          1,         30,         30,2,20210411,       1808,     8.1068,   -52.7297,       2220,   140.5,  24.8997,  36.6684,2,  36.6699,2,    178.9,3,   181.7,2,    1.07,2,    1.86,2,    0.04,2,    0.20,2,-999.000,9,-999.000,9, -999.00,9,  -999.0,9, -999.00,9,   -999.0,9,  -999.00,-999.00000,9,  -999.00, -999.00,9, -999.00,9, -999.00,-999.000,9,   63.12,2,    6.17,2,     -999.0,9, 20210411,     1924,   8.1068, -52.7297,    24.9132,2,     0.0662,1,     4.6565,1,     -999.0,9,     -999.0,9,     -999.0,9,     -999.0,9
325020210316,        A20,      79,          1,         29,         29,2,20210411,       1808,     8.1068,   -52.7297,       2220,   166.3,  21.5859,  36.3842,2,  36.3897,2,    170.4,2,   171.8,2,    2.14,2,    5.20,2,    0.03,2,    0.41,2,-999.000,9,-999.000,9, -999.00,9,  -999.0,9, -999.00,9,   -999.0,9,  -999.00,-999.00000,9,  -999.00, -999.00,9, -999.00,9, -999.00,-999.000,9,   56.49,2,    8.57,2,     -999.0,9, 20210411,     1923,   8.1068, -52.7297,    21.6243,2,     0.0530,1,     4.6645,1,     -999.0,9,     -999.0,9,     -999.0,9,     -999.0,9
325020210316,        A20,      79,          1,         28,         28,2,20210411,       1808,     8.1068,   -52.7297,       2220,   192.6,  18.1370,  36.2494,2,  36.2685,2,    119.1,3,   123.4,2,    4.09,2,   13.07,2,    0.00,2,    0.73,2,-999.000,9,-999.000,9, -999.00,9,  -999.0,9, -999.00,9,   -999.0,9,  -999.00,-999.00000,9,  -999.00, -999.00,9, -999.00,9, -999.00,-999.000,9,   54.05,2,   15.09,2,     -999.0,9, 20210411,     1920,   8.1068, -52.7297,    18.1563,2,     0.0473,1,     4.6687,1,     -999.0,9,     -999.0,9,     -999.0,9,     -999.0,9
325020210316,        A20,      79,          1,         27,         27,2,20210411,       1808,     8.1068,   -52.7297,       2220,   216.8,  13.6883,  35.4861,2,  35.5004,2,    139.8,2,   140.4,2,    7.32,2,   17.82,2,    0.00,2,    1.14,2,-999.000,9,-999.000,9, -999.00,9,  -999.0,9, -999.00,9,   -999.0,9,  -999.00,-999.00000,9,  -999.00, -999.00,9, -999.00,9, -999.00,-999.000,9,   49.10,2,   19.19,2,     -999.0,9, 20210411,     1917,   8.1068, -52.7297,    13.7276,3,     0.0426,1,     4.6717,1,     -999.0,9,     -999.0,9,     -999.0,9,     -999.0,9
325020210316,        A20,      79,          1,         26,         26,2,20210411,       1808,     8.1068,   -52.7297,       2220,   241.0,  11.5356,  35.2185,2,  35.2174,2,    120.9,2,   121.9,2,   10.54,2,   23.70,2,    0.00,2,    1.48,2,-999.000,9,-999.000,9, -999.00,9,  -999.0,9, -999.00,9,   -999.0,9,  -999.00,-999.00000,9,  -999.00, -999.00,9, -999.00,9, -999.00,-999.000,9,   46.74,2,   24.75,2,     -999.0,9, 20210411,     1916,   8.1068, -52.7297,    11.5357,2,     0.0427,1,     4.6710,1,     -999.0,9,     -999.0,9,     -999.0,9,     -999.0,9
325020210316,        A20,      79,          1,         25,         25,2,20210411,       1808,     8.1068,   -52.7297,       2220,   286.4,  10.2324,  35.0227,2,  35.0242,2,    124.0,2,   124.2,2,   12.39,2,   25.77,2,    0.00,2,    1.63,2,-999.000,9,-999.000,9, -999.00,9,  -999.0,9, -999.00,9,   -999.0,9,  -999.00,-999.00000,9,  -999.00, -999.00,9, -999.00,9, -999.00,-999.000,9,   46.40,2,   26.66,2,     -999.0,9, 20210411,     1914,   8.1068, -52.7297,    10.2351,2,     0.0425,1,     4.6710,1,     -999.0,9,     -999.0,9,     -999.0,9,     -999.0,9
325020210316,        A20,      79,          1,         24,         24,2,20210411,       1808,     8.1068,   -52.7297,       2220,   337.0,   8.9186,  34.8257,2,  34.8235,2,    127.0,2,   126.9,2,   14.93,2,   28.32,2,    0.00,2,    1.81,2,-999.000,9,-999.000,9, -999.00,9,  -999.0,9, -999.00,9,   -999.0,9,  -999.00,-999.00000,9,  -999.00, -999.00,9, -999.00,9, -999.00,-999.000,9,   45.52,2,   30.01,2,     -999.0,9, 20210411,     1912,   8.1068, -52.7297,     8.9124,2,     0.0427,1,     4.6720,1,     -999.0,9,     -999.0,9,     -999.0,9,     -999.0,9
325020210316,        A20,      79,          1,         23,         23,2,20210411,       1808,     8.1068,   -52.7297,       2220,   386.6,   8.3666,  34.7879,2,  34.7885,2,    117.3,2,   116.9,2,   16.59,2,   30.52,2,    0.00,2,    1.92,2,-999.000,9,-999.000,9, -999.00,9,  -999.0,9, -999.00,9,   -999.0,9,  -999.00,-999.00000,9,  -999.00, -999.00,9, -999.00,9, -999.00,-999.000,9,   43.94,2,   32.32,2,     -999.0,9, 20210411,     1909,   8.1068, -52.7297,     8.3517,2,     0.0437,1,     4.6738,1,     -999.0,9,     -999.0,9,     -999.0,9,     -999.0,9
325020210316,        A20,      79,          1,         22,         22,2,20210411,       1808,     8.1068,   -52.7297,       2220,   438.0,   7.9942,  34.7730,2,  34.7705,2,    108.7,2,   108.3,2,   18.25,2,   32.43,2,    0.00,2,    2.04,2,-999.000,9,-999.000,9, -999.00,9,  -999.0,9, -999.00,9,   -999.0,9,  -999.00,-999.00000,9,  -999.00, -999.00,9, -999.00,9, -999.00,-999.000,9, -999.00,9, -999.00,9,     -999.0,9, 20210411,     1909,   8.1068, -52.7297,     7.9935,2,     0.0436,1,     4.6738,1,     -999.0,9,     -999.0,9,     -999.0,9,     -999.0,9
325020210316,        A20,      79,          1,         21,         21,2,20210411,       1808,     8.1068,   -52.7297,       2220,   487.1,   6.9697,  34.6545,2,  34.6574,2,    115.9,2,   116.3,2,   21.18,2,   33.69,2,    0.00,2,    2.16,2,-999.000,9,-999.000,9, -999.00,9,  -999.0,9, -999.00,9,   -999.0,9,  -999.00,-999.00000,9,  -999.00, -999.00,9, -999.00,9, -999.00,-999.000,9,   42.89,2,   34.70,2,     -999.0,9, 20210411,     1907,   8.1068, -52.7297,     6.9765,2,     0.0435,1,     4.6773,1,     -999.0,9,     -999.0,9,     -999.0,9,     -999.0,9
325020210316,        A20,      79,          1,         20,         20,2,20210411,       1808,     8.1068,   -52.7297,       2220,   538.3,   6.5598,  34.6314,2,  34.6309,2,    124.3,2,   124.0,2,   22.94,2,   33.62,2,    0.00,2,    2.19,2,-999.000,9,-999.000,9, -999.00,9,  -999.0,9, -999.00,9,   -999.0,9,  -999.00,-999.00000,9,  -999.00, -999.00,9, -999.00,9, -999.00,-999.000,9, -999.00,9, -999.00,9,     -999.0,9, 20210411,     1905,   8.1068, -52.7297,     6.5591,2,     0.0429,1,     4.6622,1,     -999.0,9,     -999.0,9,     -999.0,9,     -999.0,9
325020210316,        A20,      79,          1,         19,         19,2,20210411,       1808,     8.1068,   -52.7297,       2220,   589.5,   6.0986,  34.6003,2,  34.5991,2,    127.8,2,   127.8,2,   24.79,2,   34.11,2,    0.00,2,    2.23,2,-999.000,9,-999.000,9, -999.00,9,  -999.0,9, -999.00,9,   -999.0,9,  -999.00,-999.00000,9,  -999.00, -999.00,9, -999.00,9, -999.00,-999.000,9,   42.52,2,   35.73,2,     -999.0,9, 20210411,     1903,   8.1068, -52.7297,     6.0985,2,     0.0435,1,     4.6686,1,     -999.0,9,     -999.0,9,     -999.0,9,     -999.0,9
325020210316,        A20,      79,          1,         18,         18,2,20210411,       1808,     8.1068,   -52.7297,       2220,   639.4,   5.3347,  34.5191,2,  34.5180,2,    148.8,2,   149.2,2,   27.23,2,   33.44,2,    0.00,2,    2.22,2,-999.000,9,-999.000,9, -999.00,9,  -999.0,9, -999.00,9,   -999.0,9,  -999.00,-999.00000,9,  -999.00, -999.00,9, -999.00,9, -999.00,-999.000,9, -999.00,9, -999.00,9,     -999.0,9, 20210411,     1859,   8.1068, -52.7297,     5.3336,2,     0.0431,1,     4.6791,1,     -999.0,9,     -999.0,9,     -999.0,9,     -999.0,9
325020210316,        A20,      79,          1,         17,         17,2,20210411,       1808,     8.1068,   -52.7297,       2220,   714.7,   5.0797,  34.4977,2,  34.4974,2,    156.4,2,   157.1,2,   28.41,2,   33.22,2,    0.00,2,    2.21,2,-999.000,9,-999.000,9, -999.00,9,  -999.0,9, -999.00,9,   -999.0,9,  -999.00,-999.00000,9,  -999.00, -999.00,9, -999.00,9, -999.00,-999.000,9,   39.78,2,   33.62,2,     -999.0,9, 20210411,     1857,   8.1068, -52.7297,     5.0789,2,     0.0429,1,     4.6796,1,     -999.0,9,     -999.0,9,     -999.0,9,     -999.0,9
325020210316,        A20,      79,          1,         16,         16,2,20210411,       1808,     8.1068,   -52.7297,       2220,   791.2,   4.9527,  34.4968,2,  34.4960,2,    157.8,2,   158.6,2,   29.19,2,   33.36,2,    0.00,2,    2.22,2,-999.000,9,-999.000,9, -999.00,9,  -999.0,9, -999.00,9,   -999.0,9,  -999.00,-999.00000,9,  -999.00, -999.00,9, -999.00,9, -999.00,-999.000,9, -999.00,9, -999.00,9,     -999.0,9, 20210411,     1854,   8.1068, -52.7297,     4.9517,2,     0.0429,1,     4.6823,1,     -999.0,9,     -999.0,9,     -999.0,9,     -999.0,9
325020210316,        A20,      79,          1,         15,         15,2,20210411,       1808,     8.1068,   -52.7297,       2220,   866.5,   4.8447,  34.5050,2,  34.5032,2,    157.8,2,   157.9,2,   29.97,2,   33.42,2,    0.00,2,    2.23,2,-999.000,9,-999.000,9, -999.00,9,  -999.0,9, -999.00,9,   -999.0,9,  -999.00,-999.00000,9,  -999.00, -999.00,9, -999.00,9, -999.00,-999.000,9,   57.38,2,   33.83,2,     -999.0,9, 20210411,     1851,   8.1068, -52.7297,     4.8441,2,     0.0424,1,     4.6818,1,     -999.0,9,     -999.0,9,     -999.0,9,     -999.0,9
325020210316,        A20,      79,          1,         14,         14,2,20210411,       1808,     8.1068,   -52.7297,       2220,   942.9,   4.7855,  34.5252,2,  34.5262,2,    156.4,2,   156.3,2,   30.36,2,   33.42,2,    0.00,2,    2.24,2,-999.000,9,-999.000,9, -999.00,9,  -999.0,9, -999.00,9,   -999.0,9,  -999.00,-999.00000,9,  -999.00, -999.00,9, -999.00,9, -999.00,-999.000,9, -999.00,9, -999.00,9,     -999.0,9, 20210411,     1848,   8.1068, -52.7297,     4.7849,2,     0.0423,1,     4.6830,1,     -999.0,9,     -999.0,9,     -999.0,9,     -999.0,9
325020210316,        A20,      79,          1,         13,         13,2,20210411,       1808,     8.1068,   -52.7297,       2220,  1018.3,   4.8931,  34.5836,2,  34.5806,2,    150.5,2,   150.3,2,   29.97,2,   33.48,2,    0.00,2,    2.24,2,-999.000,9,-999.000,9, -999.00,9,  -999.0,9, -999.00,9,   -999.0,9,  -999.00,-999.00000,9,  -999.00, -999.00,9, -999.00,9, -999.00,-999.000,9,   42.62,2,   32.33,2,     -999.0,9, 20210411,     1846,   8.1068, -52.7297,     4.8899,2,     0.0429,1,     4.6816,1,     -999.0,9,     -999.0,9,     -999.0,9,     -999.0,9
325020210316,        A20,      79,          1,         12,         12,2,20210411,       1808,     8.1068,   -52.7297,       2220,  1093.4,   5.0402,  34.7359,2,  34.7359,2,    152.9,2,   152.8,2,   27.13,2,   31.43,2,    0.00,2,    2.09,2,   0.159,2,   0.089,2,    0.03,2,  -999.0,9, -999.00,9,   -999.0,9,  -999.00,-999.00000,9,  -999.00, -999.00,9, -999.00,9, -999.00,-999.000,9, -999.00,9, -999.00,9,      22.21,2, 20210411,     1843,   8.1068, -52.7297,     5.0425,2,     0.0428,1,     4.6814,1,     -999.0,9,     -999.0,9,     -999.0,9,     -999.0,9
325020210316,        A20,      79,          1,         11,         11,2,20210411,       1808,     8.1068,   -52.7297,       2220,  1169.7,   5.0013,  34.7820,2,  34.7775,2,    160.8,2,   161.1,2,   26.16,2,   30.20,2,    0.00,2,    2.01,2,-999.000,9,-999.000,9, -999.00,9,  -999.0,9, -999.00,9,   -999.0,9,  -999.00,-999.00000,9,  -999.00, -999.00,9, -999.00,9, -999.00,-999.000,9,   42.65,2,   30.68,2,     -999.0,9, 20210411,     1840,   8.1068, -52.7297,     4.9969,2,     0.0424,1,     4.6831,1,     -999.0,9,     -999.0,9,     -999.0,9,     -999.0,9
325020210316,        A20,      79,          1,         10,         10,2,20210411,       1808,     8.1068,   -52.7297,       2220,  1245.6,   5.2428,  34.9440,2,  34.9421,2,    190.0,2,   188.8,2,   20.30,2,   24.97,2,    0.00,2,    1.64,2,   0.657,2,   0.358,2,    0.23,2,  -999.0,9, -999.00,9,   -999.0,9,  -999.00,-999.00000,9,  -999.00, -999.00,9, -999.00,9, -999.00,-999.000,9, -999.00,9, -999.00,9,      17.83,2, 20210411,     1837,   8.1068, -52.7297,     5.2413,2,     0.0429,1,     4.6827,1,     -999.0,9,     -999.0,9,     -999.0,9,     -999.0,9
325020210316,        A20,      79,          1,          9,          9,2,20210411,       1808,     8.1068,   -52.7297,       2220,  1347.2,   4.8517,  34.9514,2,  34.9502,2,    205.7,2,   205.5,2,   18.93,2,   23.44,2,    0.00,2,    1.55,2,-999.000,9,-999.000,9, -999.00,9,  -999.0,9, -999.00,9,   -999.0,9,  -999.00,-999.00000,9,  -999.00, -999.00,9, -999.00,9, -999.00,-999.000,9,   43.37,2,   24.69,2,     -999.0,9, 20210411,     1834,   8.1068, -52.7297,     4.8506,2,     0.0423,1,     4.6752,1,     -999.0,9,     -999.0,9,     -999.0,9,     -999.0,9
325020210316,        A20,      79,          1,          8,          8,2,20210411,       1808,     8.1068,   -52.7297,       2220,  1448.9,   4.8053,  35.0006,2,  35.0004,2,    226.2,2,   226.1,2,   16.00,2,   20.71,2,    0.00,2,    1.36,2,   1.324,2,   0.707,2,    0.36,2,  -999.0,9, -999.00,9,   -999.0,9,  -999.00,-999.00000,9,  -999.00, -999.00,9, -999.00,9, -999.00,-999.000,9, -999.00,9, -999.00,9,      15.14,2, 20210411,     1831,   8.1068, -52.7297,     4.8048,2,     0.0422,1,     4.6824,1,     -999.0,9,     -999.0,9,     -999.0,9,     -999.0,9
325020210316,        A20,      79,          1,          7,          7,2,20210411,       1808,     8.1068,   -52.7297,       2220,  1549.5,   4.4572,  35.0040,2,  35.0041,2,    242.6,2,   242.8,2,   14.44,2,   19.16,2,    0.00,2,    1.25,2,-999.000,9,-999.000,9, -999.00,9,  -999.0,9, -999.00,9,   -999.0,9,  -999.00,-999.00000,9,  -999.00, -999.00,9, -999.00,9, -999.00,-999.000,9, -999.00,9, -999.00,9,     -999.0,9, 20210411,     1827,   8.1068, -52.7297,     4.4571,2,     0.0419,1,     4.6840,1,     -999.0,9,     -999.0,9,     -999.0,9,     -999.0,9
325020210316,        A20,      79,          1,          6,          6,2,20210411,       1808,     8.1068,   -52.7297,       2220,  1650.0,   4.3344,  35.0012,2,  35.0014,2,    247.3,2,   247.1,2,   14.25,2,   18.87,2,    0.00,2,    1.23,2,   1.677,2,   0.863,2,    0.40,2,  -999.0,9, -999.00,9,   -999.0,9,  -999.00,-999.00000,9,  -999.00, -999.00,9, -999.00,9, -999.00,-999.000,9,   44.84,2,   20.37,2,      13.79,2, 20210411,     1824,   8.1068, -52.7297,     4.3342,2,     0.0424,1,     4.6868,1,     -999.0,9,     -999.0,9,     -999.0,9,     -999.0,9
325020210316,        A20,      79,          1,          5,          5,2,20210411,       1808,     8.1068,   -52.7297,       2220,  1751.8,   4.0325,  34.9885,2,  34.9884,2,    253.1,2,   253.4,2,   14.73,2,   18.51,2,    0.00,2,    1.21,2,-999.000,9,-999.000,9, -999.00,9,  -999.0,9, -999.00,9,   -999.0,9,  -999.00,-999.00000,9,  -999.00, -999.00,9, -999.00,9, -999.00,-999.000,9, -999.00,9, -999.00,9,     -999.0,9, 20210411,     1821,   8.1068, -52.7297,     4.0326,2,     0.0424,1,     4.6862,1,     -999.0,9,     -999.0,9,     -999.0,9,     -999.0,9
325020210316,        A20,      79,          1,          2,          2,2,20210411,       1808,     8.1068,   -52.7297,       2220,  1853.3,   3.8604,  34.9814,2,  34.9825,2,    256.6,2,   257.4,2,   15.03,2,   18.22,2,    0.00,2,    1.19,2,-999.000,9,-999.000,9, -999.00,9,  -999.0,9, -999.00,9,   -999.0,9,  -999.00,-999.00000,9,  -999.00, -999.00,9, -999.00,9, -999.00,-999.000,9, -999.00,9, -999.00,9,     -999.0,9, 20210411,     1818,   8.1068, -52.7297,     3.8597,2,     0.0418,1,     4.6872,1,     -999.0,9,     -999.0,9,     -999.0,9,     -999.0,9
325020210316,        A20,      79,          1,          3,          3,2,20210411,       1808,     8.1068,   -52.7297,       2220,  1965.0,   3.7421,  34.9761,2,  34.9772,2,    258.7,2,   258.7,2,   15.42,2,   18.15,2,    0.00,2,    1.18,2,   1.446,2,   0.740,2,    0.34,2,  -999.0,9, -999.00,9,   -999.0,9,  -999.00,-999.00000,9,  -999.00, -999.00,9, -999.00,9, -999.00,-999.000,9,   45.08,2,   20.72,2,      13.33,2, 20210411,     1815,   8.1068, -52.7297,     3.7411,2,     0.0417,1,     4.6874,1,     -999.0,9,     -999.0,9,     -999.0,9,     -999.0,9