BOTTLE,20230512CCHSIOCBG
EXPOCODE,SECT_ID,STNNBR,CASTNO,SAMPNO,BTLNBR,BTLNBR_FLAG_W,DATE,TIME,LATITUDE,LONGITUDE,DEPTH,CTDPRS,CTDTMP,CTDSAL,CTDSAL_FLAG_W,SALNTY,SALNTY_FLAG_W,CTDOXY,CTDOXY_FLAG_W,OXYGEN,OXYGEN_FLAG_W,SILCAT,SILCAT_FLAG_W,NITRAT,NITRAT_FLAG_W,NITRIT,NITRIT_FLAG_W,PHSPHT,PHSPHT_FLAG_W,CFC-11,CFC-11_FLAG_W,CFC-12,CFC-12_FLAG_W,SF6,SF6_FLAG_W,TCARBN,TCARBN_FLAG_W,ALKALI,ALKALI_FLAG_W,FCO2,FCO2_FLAG_W,FCO2TMP,PH_TOT,PH_TOT_FLAG_W,PH_TMP,DELC13,DELC13_FLAG_W,DELC14,DELC14_FLAG_W,C14ERR,POC,POC_FLAG_W,DOC,DOC_FLAG_W,TDN,TDN_FLAG_W,N2O,N2O_FLAG_W,BTL_DATE,BTL_TIME,BTL_LAT,BTL_LON,REFTMP,REFTMP_FLAG_W,CTDFLUOR,CTDFLUOR_FLAG_W,CTDXMISS,CTDXMISS_FLAG_W,D15N_NO2+NO3,D15N_NO2+NO3_FLAG_W,D18O_NO2+NO3,D18O_NO2+NO3_FLAG_W,HPLC,HPLC_FLAG_W,MICROGELS,MICROGELS_FLAG_W
,,,,,,,,,,,METERS,DBAR,ITS-90,PSS-78,,PSS-78,,UMOL/KG,,UMOL/KG,,UMOL/KG,,UMOL/KG,,UMOL/KG,,UMOL/KG,,PMOL/KG,,PMOL/KG,,FMOL/KG,,UMOL/KG,,UMOL/KG,,UATM,,DEG C,,,DEG C,/MILLE,,/MILLE,,/MILLE,UG/KG,,UMOL/KG,,UMOL/KG,,NMOL/KG,,,,,,ITS-90,,VOLTS,,VOLTS,,/MILLE,,/MILLE,,,,1E6 GELS/L,
325020210316,        A20,      60,          1,         36,         36,2,20210406,       1831,    15.3889,   -52.3335,       5297,     5.3,  25.6262,  36.5190,2,  36.5188,2,    206.0,2,   205.6,2,    0.98,2,    0.03,2,    0.00,2,    0.00,2,   1.618,2,   0.994,2,    1.55,2,  2049.2,6, 2390.32,2,    295.8,2,    20.00,   8.09669,2,    25.00, -999.00,9, -999.00,9, -999.00,-999.000,9, -999.00,9, -999.00,9,       6.28,2, 20210406,     2055,  15.3889, -52.3335,    25.6198,2,     0.0432,1,     4.6374,1,     -999.0,9,     -999.0,9,     -999.0,9,     -999.0,9
325020210316,        A20,      60,          1,         35,         35,2,20210406,       1831,    15.3889,   -52.3335,       5297,    25.5,  25.5051,  36.5137,2,  36.5149,2,    206.3,2,   206.0,2,    0.88,2,    0.05,2,    0.00,2,    0.00,2,-999.000,9,-999.000,9, -999.00,9,  2046.6,2, 2391.18,2,   -999.0,9,  -999.00,   8.09759,2,    25.01, -999.00,9, -999.00,9, -999.00,-999.000,9, -999.00,9, -999.00,9,     -999.0,9, 20210406,     2053,  15.3889, -52.3335,    25.5044,2,     0.0449,1,     4.6327,1,     -999.0,9,     -999.0,9,     -999.0,9,     -999.0,9
325020210316,        A20,      60,          1,         34,         34,2,20210406,       1831,    15.3889,   -52.3335,       5297,    50.5,  25.4625,  36.5314,2,  36.5359,2,    206.4,2,   206.1,2,    0.88,2,    0.03,2,    0.00,2,    0.00,2,-999.000,9,-999.000,9, -999.00,9,  2045.3,2,  2393.2,2,   -999.0,9,  -999.00,   8.09689,2,    25.00, -999.00,9, -999.00,9, -999.00,-999.000,9, -999.00,9, -999.00,9,     -999.0,9, 20210406,     2051,  15.3889, -52.3335,    25.4618,2,     0.0481,1,     4.6325,1,     -999.0,9,     -999.0,9,     -999.0,9,     -999.0,9
325020210316,        A20,      60,          1,         33,         33,2,20210406,       1831,    15.3889,   -52.3335,       5297,    75.3,  25.4370,  36.5389,2,  36.5563,2,    206.1,2,   205.9,2,    0.68,2,    0.04,2,    0.00,2,    0.00,2,   1.503,2,   0.992,2,    1.57,2,  2047.7,2, 2395.74,2,    297.9,2,    20.00,   8.08333,2,    25.00, -999.00,9, -999.00,9, -999.00,-999.000,9, -999.00,9, -999.00,9,       6.31,2, 20210406,     2049,  15.3889, -52.3335,    25.4360,2,     0.0541,1,     4.6378,1,     -999.0,9,     -999.0,9,     -999.0,9,     -999.0,9
325020210316,        A20,      60,          1,         32,         32,2,20210406,       1831,    15.3889,   -52.3335,       5297,   101.1,  25.2431,  36.9937,2,  37.0386,3,    203.6,2,   204.4,2,    0.49,2,    0.00,2,    0.00,2,    0.00,2,-999.000,9,-999.000,9, -999.00,9,  2077.8,2, 2426.44,2,   -999.0,9,  -999.00,   8.06732,2,    24.99, -999.00,9, -999.00,9, -999.00,-999.000,9, -999.00,9, -999.00,9,     -999.0,9, 20210406,     2047,  15.3889, -52.3335,    25.2564,2,     0.0689,1,     4.6471,1,     -999.0,9,     -999.0,9,     -999.0,9,     -999.0,9
325020210316,        A20,      60,          1,         31,         31,2,20210406,       1831,    15.3889,   -52.3335,       5297,   151.5,  22.8279,  37.1374,2,  37.1070,3,    166.8,3,   175.0,2,    0.68,2,    1.72,2,    0.06,2,    0.06,2,   1.737,2,   1.135,2,    1.61,2,  2147.9,2, 2428.34,2,   -999.0,9,  -999.00,   7.97549,2,    25.00, -999.00,9, -999.00,9, -999.00,-999.000,9, -999.00,9, -999.00,9,       9.08,2, 20210406,     2045,  15.3889, -52.3335,    22.8225,2,     0.0689,1,     4.6643,1,     -999.0,9,     -999.0,9,     -999.0,9,     -999.0,9
325020210316,        A20,      60,          1,         30,         30,2,20210406,       1831,    15.3889,   -52.3335,       5297,   201.1,  18.3622,  36.4626,2,  36.4457,2,    122.1,3,   128.9,2,    3.02,2,   12.01,2,    0.00,2,    0.63,2,   2.425,2,   1.241,2,    1.42,2,  2186.3,2, 2383.05,2,    603.9,2,    20.00,   7.82749,2,    24.99, -999.00,9, -999.00,9, -999.00,-999.000,9, -999.00,9, -999.00,9,      17.40,2, 20210406,     2043,  15.3889, -52.3335,    18.3545,2,     0.0443,1,     4.6817,1,     -999.0,9,     -999.0,9,     -999.0,9,     -999.0,9
325020210316,        A20,      60,          1,         29,         29,2,20210406,       1831,    15.3889,   -52.3335,       5297,   252.1,  16.0089,  36.1184,2,  36.1229,2,    120.9,3,   124.3,2,    4.59,2,   15.62,2,    0.00,2,    0.87,2,   2.040,2,   1.258,2,    1.18,2,  2193.1,2, 2362.22,2,    681.2,2,    20.00,   7.77881,2,    25.00, -999.00,9, -999.00,9, -999.00,-999.000,9, -999.00,9, -999.00,9,      21.00,2, 20210406,     2039,  15.3889, -52.3335,    16.0086,2,     0.0405,1,     4.6851,1,     -999.0,9,     -999.0,9,     -999.0,9,     -999.0,9
325020210316,        A20,      60,          1,         28,         28,2,20210406,       1831,    15.3889,   -52.3335,       5297,   302.3,  14.4118,  35.8781,2,  35.8607,2,    118.5,3,   120.3,2,    6.15,2,   18.55,2,    0.00,2,    1.05,2,-999.000,9,-999.000,9, -999.00,9,  2198.1,2,  2346.5,2,   -999.0,9,  -999.00,   7.73746,2,    25.00, -999.00,9, -999.00,9, -999.00,-999.000,9, -999.00,9, -999.00,9,     -999.0,9, 20210406,     2038,  15.3889, -52.3335,    14.4658,2,     0.0406,1,     4.6869,1,     -999.0,9,     -999.0,9,     -999.0,9,     -999.0,9
325020210316,        A20,      60,          1,         27,         27,2,20210406,       1831,    15.3889,   -52.3335,       5297,   353.1,  13.0767,  35.6718,2,  35.6755,2,    115.7,2,   116.8,2,    7.81,2,   21.07,2,    0.00,2,    1.21,2,   1.835,2,   1.124,2,    0.86,2,  2204.0,2, 2336.56,2,   -999.0,9,  -999.00,   7.70371,2,    24.99, -999.00,9, -999.00,9, -999.00,-999.000,9, -999.00,9, -999.00,9,      23.72,2, 20210406,     2036,  15.3889, -52.3335,    13.0522,2,     0.0416,1,     4.6880,1,     -999.0,9,     -999.0,9,     -999.0,9,     -999.0,9
325020210316,        A20,      60,          1,         26,         26,2,20210406,       1831,    15.3889,   -52.3335,       5297,   402.5,  12.3537,  35.5886,2,  35.5873,2,    113.8,2,   114.2,2,    8.69,2,   22.42,2,    0.00,2,    1.30,2,-999.000,9,-999.000,9, -999.00,9,  2208.6,2, 2335.45,6,   -999.0,9,  -999.00,   7.68118,2,    25.01, -999.00,9, -999.00,9, -999.00,-999.000,9, -999.00,9, -999.00,9,     -999.0,9, 20210406,     2033,  15.3889, -52.3335,    12.3451,2,     0.0411,1,     4.6894,1,     -999.0,9,     -999.0,9,     -999.0,9,     -999.0,9
325020210316,        A20,      60,          1,         25,         25,2,20210406,       1831,    15.3889,   -52.3335,       5297,   503.3,  10.2264,  35.2568,2,  35.2615,2,    104.1,2,   103.7,2,   13.18,2,   27.59,2,    0.00,2,    1.66,2,   1.325,6,   0.720,6,    0.43,6,  2221.0,6, 2316.33,2,   1005.7,2,    20.00,   7.61097,2,    25.00, -999.00,9, -999.00,9, -999.00,-999.000,9, -999.00,9, -999.00,9,      26.05,6, 20210406,     2030,  15.3889, -52.3335,    10.2460,2,     0.0434,1,     4.6915,1,     -999.0,9,     -999.0,9,     -999.0,9,     -999.0,9
325020210316,        A20,      60,          1,         24,         24,2,20210406,       1831,    15.3889,   -52.3335,       5297,   604.2,   8.3219,  34.9915,2,  34.9902,2,    116.3,2,   116.2,2,   17.88,2,   30.13,2,    0.00,2,    1.89,2,-999.000,9,-999.000,9, -999.00,9,  2220.9,2, 2309.57,2,   -999.0,9,  -999.00,   7.58663,6,    25.01, -999.00,9, -999.00,9, -999.00,-999.000,9, -999.00,9, -999.00,9,     -999.0,9, 20210406,     2026,  15.3889, -52.3335,     8.3272,2,     0.0428,1,     4.6923,1,     -999.0,9,     -999.0,9,     -999.0,9,     -999.0,9
325020210316,        A20,      60,          1,         23,         23,2,20210406,       1831,    15.3889,   -52.3335,       5297,   705.2,   6.8790,  34.8056,2,  34.8037,2,    122.5,2,   122.3,2,   21.98,2,   32.33,2,    0.00,2,    2.06,2,   0.558,2,   0.294,2,    0.13,2,  2224.0,2,  2305.4,2,   -999.0,9,  -999.00,   7.55819,2,    25.00, -999.00,9, -999.00,9, -999.00,-999.000,9, -999.00,9, -999.00,9,      25.94,2, 20210406,     2023,  15.3889, -52.3335,     6.8911,2,     0.0428,1,     4.6925,1,     -999.0,9,     -999.0,9,     -999.0,9,     -999.0,9
325020210316,        A20,      60,          1,         22,         22,2,20210406,       1831,    15.3889,   -52.3335,       5297,   806.3,   6.0668,  34.7501,2,  34.7502,2,    130.1,2,   129.9,2,   24.62,2,   32.75,2,    0.00,2,    2.14,2,-999.000,9,-999.000,9, -999.00,9,  2227.4,2, 2302.17,2,   -999.0,9,  -999.00,   7.55538,2,    25.01, -999.00,9, -999.00,9, -999.00,-999.000,9, -999.00,9, -999.00,9,     -999.0,9, 20210406,     2020,  15.3889, -52.3335,     6.0680,2,     0.0429,1,     4.6928,1,     -999.0,9,     -999.0,9,     -999.0,9,     -999.0,9
325020210316,        A20,      60,          1,         21,         21,2,20210406,       1831,    15.3889,   -52.3335,       5297,   907.4,   5.6857,  34.7688,2,  34.7689,2,    138.5,2,   138.6,2,   25.30,2,   32.05,2,    0.00,2,    2.09,2,   0.283,2,   0.104,2,    0.07,2,  2227.0,2, 2308.84,2,   -999.0,9,  -999.00,   7.56712,2,    25.01, -999.00,9, -999.00,9, -999.00,-999.000,9, -999.00,9, -999.00,9,      23.39,2, 20210406,     2016,  15.3889, -52.3335,     5.6867,2,     0.0429,1,     4.6933,1,     -999.0,9,     -999.0,9,     -999.0,9,     -999.0,9
325020210316,        A20,      60,          1,         20,         20,2,20210406,       1831,    15.3889,   -52.3335,       5297,  1008.6,   5.5637,  34.8259,2,  34.8261,2,    148.3,2,   148.5,2,   24.03,2,   30.51,2,    0.00,2,    1.99,2,   0.188,2,   0.099,2,    0.07,2,  2219.1,2, 2308.35,2,   -999.0,9,  -999.00,   7.58906,2,    25.01, -999.00,9, -999.00,9, -999.00,-999.000,9, -999.00,9, -999.00,9,      22.60,2, 20210406,     2013,  15.3889, -52.3335,     5.5635,2,     0.0423,1,     4.6936,1,     -999.0,9,     -999.0,9,     -999.0,9,     -999.0,9
325020210316,        A20,      60,          1,         19,         19,2,20210406,       1831,    15.3889,   -52.3335,       5297,  1110.1,   5.4275,  34.9000,2,  34.8993,2,    165.4,2,   165.2,2,   22.57,2,   28.02,2,    0.00,2,    1.84,2,   0.255,2,   0.130,2,    0.11,2,  2211.8,2, 2313.34,2,    970.4,2,    20.00,   7.62389,2,    25.00, -999.00,9, -999.00,9, -999.00,-999.000,9, -999.00,9, -999.00,9,      21.42,2, 20210406,     2010,  15.3889, -52.3335,     5.4277,2,     0.0431,1,     4.6950,1,     -999.0,9,     -999.0,9,     -999.0,9,     -999.0,9
325020210316,        A20,      60,          1,         18,         18,2,20210406,       1831,    15.3889,   -52.3335,       5297,  1211.1,   5.2567,  34.9527,2,  34.9547,2,    185.1,2,   185.4,2,   20.42,2,   25.43,2,    0.00,2,    1.67,2,   0.472,2,   0.203,2,    0.12,2,  2202.5,2, 2313.71,2,   -999.0,9,  -999.00,   7.65539,2,    25.01, -999.00,9, -999.00,9, -999.00,-999.000,9, -999.00,9, -999.00,9,      18.95,2, 20210406,     2007,  15.3889, -52.3335,     5.2551,2,     0.0428,1,     4.6960,1,     -999.0,9,     -999.0,9,     -999.0,9,     -999.0,9
325020210316,        A20,      60,          1,         17,         17,2,20210406,       1831,    15.3889,   -52.3335,       5297,  1312.3,   5.0135,  34.9865,2,  34.9874,2,    203.9,2,   203.5,2,   18.75,2,   23.30,2,    0.00,2,    1.51,2,   0.541,2,   0.279,2,    0.17,2,  2193.2,2, 2313.77,2,   -999.0,9,  -999.00,   7.68098,2,    25.00, -999.00,9, -999.00,9, -999.00,-999.000,9, -999.00,9, -999.00,9,      17.55,2, 20210406,     2004,  15.3889, -52.3335,     5.0122,2,     0.0417,1,     4.6962,1,     -999.0,9,     -999.0,9,     -999.0,9,     -999.0,9
325020210316,        A20,      60,          1,         16,         16,2,20210406,       1831,    15.3889,   -52.3335,       5297,  1413.3,   4.7657,  35.0031,2,  35.0039,2,    220.8,2,   221.7,2,   16.80,2,   21.29,2,    0.00,2,    1.40,2,   3.283,4,   1.313,4,    0.72,4,  2185.3,2, 2313.21,2,    805.6,2,    20.00,   7.70139,2,    25.01, -999.00,9, -999.00,9, -999.00,-999.000,9, -999.00,9, -999.00,9,      15.42,4, 20210406,     2000,  15.3889, -52.3335,     4.7673,2,     0.0429,1,     4.6967,1,     -999.0,9,     -999.0,9,     -999.0,9,     -999.0,9
325020210316,        A20,      60,          1,         15,         15,2,20210406,       1831,    15.3889,   -52.3335,       5297,  1616.0,   4.2834,  34.9991,2,  34.9994,2,    239.2,2,   238.7,2,   16.21,2,   19.88,2,    0.00,2,    1.31,2,-999.000,9,-999.000,9, -999.00,9,  2177.8,2, 2309.99,2,   -999.0,9,  -999.00,   7.72153,2,    25.01, -999.00,9, -999.00,9, -999.00,-999.000,9, -999.00,9, -999.00,9,     -999.0,9, 20210406,     1956,  15.3889, -52.3335,     4.2835,2,     0.0428,1,     4.6972,1,     -999.0,9,     -999.0,9,     -999.0,9,     -999.0,9
325020210316,        A20,      60,          1,         14,         14,2,20210406,       1831,    15.3889,   -52.3335,       5297,  1818.0,   3.8740,  34.9866,2,  34.9888,2,    250.3,2,   249.7,2,   16.70,2,   19.18,2,    0.00,2,    1.25,2,   0.769,2,   0.363,2,    0.16,2,  2173.9,2, 2312.49,6,   -999.0,9,  -999.00,   7.73244,2,    25.02, -999.00,9, -999.00,9, -999.00,-999.000,9, -999.00,9, -999.00,9,      14.34,2, 20210406,     1951,  15.3889, -52.3335,     3.8755,2,     0.0423,1,     4.6972,1,     -999.0,9,     -999.0,9,     -999.0,9,     -999.0,9
325020210316,        A20,      60,          1,         13,         13,2,20210406,       1831,    15.3889,   -52.3335,       5297,  2021.3,   3.5675,  34.9761,2,  34.9768,2,    254.0,2,   253.7,2,   18.85,2,   18.99,2,    0.00,2,    1.25,2,-999.000,9,-999.000,9, -999.00,9,  2171.5,6, 2314.53,2,    737.0,2,    20.00,   7.73828,2,    25.02, -999.00,9, -999.00,9, -999.00,-999.000,9, -999.00,9, -999.00,9,     -999.0,9, 20210406,     1946,  15.3889, -52.3335,     3.5690,2,     0.0417,1,     4.6972,1,     -999.0,9,     -999.0,9,     -999.0,9,     -999.0,9
325020210316,        A20,      60,          1,         12,         12,2,20210406,       1831,    15.3889,   -52.3335,       5297,  2275.5,   3.2459,  34.9613,2,  34.9624,2,    255.3,2,   255.3,2,   21.88,2,   19.13,2,    0.00,2,    1.26,2,   0.590,2,   0.212,2,    0.10,2,  2174.6,2,  2319.6,2,   -999.0,9,  -999.00,   7.74039,6,    25.02, -999.00,9, -999.00,9, -999.00,-999.000,9, -999.00,9, -999.00,9,      13.31,2, 20210406,     1940,  15.3889, -52.3335,     3.2452,2,     0.0428,1,     4.6972,1,     -999.0,9,     -999.0,9,     -999.0,9,     -999.0,9
325020210316,        A20,      60,          1,         11,         11,2,20210406,       1831,    15.3889,   -52.3335,       5297,  2529.6,   2.9844,  34.9443,2,  34.9443,2,    256.5,2,   256.6,2,   25.01,2,   19.20,2,    0.00,2,    1.27,2,-999.000,9,-999.000,9, -999.00,9,  2176.1,2, 2319.58,2,   -999.0,9,  -999.00,   7.74026,2,    25.01, -999.00,9, -999.00,9, -999.00,-999.000,9, -999.00,9, -999.00,9,     -999.0,9, 20210406,     1934,  15.3889, -52.3335,     2.9846,2,     0.0429,1,     4.6967,1,     -999.0,9,     -999.0,9,     -999.0,9,     -999.0,9
325020210316,        A20,      60,          1,         10,         10,2,20210406,       1831,    15.3889,   -52.3335,       5297,  2783.7,   2.8186,  34.9329,2,  34.9335,2,    252.5,2,   252.7,2,   30.58,2,   20.07,2,    0.00,2,    1.32,2,   0.340,2,   0.117,2,    0.00,2,  2182.8,2, 2326.56,2,   -999.0,9,  -999.00,   7.73699,2,    24.97, -999.00,9, -999.00,9, -999.00,-999.000,9, -999.00,9, -999.00,9,      13.78,2, 20210406,     1929,  15.3889, -52.3335,     2.8187,2,     0.0429,1,     4.6961,1,     -999.0,9,     -999.0,9,     -999.0,9,     -999.0,9
325020210316,        A20,      60,          1,          9,          9,2,20210406,       1831,    15.3889,   -52.3335,       5297,  3038.7,   2.6854,  34.9223,2,  34.9229,2,    251.2,2,   251.5,2,   34.09,2,   20.49,2,    0.00,2,    1.35,2,   0.191,2,   0.095,2,    0.13,2,  2186.1,2, 2330.53,2,    744.8,6,    20.00,   7.73546,2,    25.00, -999.00,9, -999.00,9, -999.00,-999.000,9, -999.00,9, -999.00,9,      14.39,2, 20210406,     1923,  15.3889, -52.3335,     2.6851,2,     0.0429,1,     4.6961,1,     -999.0,9,     -999.0,9,     -999.0,9,     -999.0,9
325020210316,        A20,      60,          1,          8,          8,2,20210406,       1831,    15.3889,   -52.3335,       5297,  3346.1,   2.5315,  34.9093,2,  34.9101,2,    252.6,2,   252.8,2,   36.53,2,   20.65,2,    0.00,2,    1.36,2,   0.309,2,   0.115,2,    0.09,2,  2188.0,2, 2332.09,2,   -999.0,9,  -999.00,   7.73339,2,    25.00, -999.00,9, -999.00,9, -999.00,-999.000,9, -999.00,9, -999.00,9,      13.87,2, 20210406,     1917,  15.3889, -52.3335,     2.5310,2,     0.0421,1,     4.6960,1,     -999.0,9,     -999.0,9,     -999.0,9,     -999.0,9
325020210316,        A20,      60,          1,          7,          7,2,20210406,       1831,    15.3889,   -52.3335,       5297,  3652.7,   2.4009,  34.8982,2,  34.9006,3,    255.7,2,   255.7,2,   36.93,2,   20.37,2,    0.00,2,    1.36,2,-999.000,9,-999.000,9, -999.00,9,  2188.8,2, 2330.98,2,   -999.0,9,  -999.00,   7.73252,2,    25.00, -999.00,9, -999.00,9, -999.00,-999.000,9, -999.00,9, -999.00,9,     -999.0,9, 20210406,     1908,  15.3889, -52.3335,     2.4008,2,     0.0418,1,     4.6964,1,     -999.0,9,     -999.0,9,     -999.0,9,     -999.0,9
325020210316,        A20,      60,          1,          6,          6,2,20210406,       1831,    15.3889,   -52.3335,       5297,  3959.8,   2.2726,  34.8882,2,  34.8880,2,    258.8,2,   258.9,2,   37.12,2,   20.06,2,    0.00,2,    1.34,2,   0.457,2,   0.222,2,    0.11,2,  2185.2,2, 2328.41,2,   -999.0,9,  -999.00,   7.73139,2,    25.01, -999.00,9, -999.00,9, -999.00,-999.000,9, -999.00,9, -999.00,9,      14.30,2, 20210406,     1901,  15.3889, -52.3335,     2.2726,2,     0.0428,1,     4.6964,1,     -999.0,9,     -999.0,9,     -999.0,9,     -999.0,9
325020210316,        A20,      60,          1,          5,          5,2,20210406,       1831,    15.3889,   -52.3335,       5297,  4267.6,   2.1891,  34.8782,2,  34.8780,2,    258.5,2,   258.2,2,   39.95,2,   20.38,2,    0.00,2,    1.36,2,   0.631,2,   0.234,2,    0.03,2,  2188.1,2, 2333.87,2,   -999.0,9,  -999.00,   7.72818,2,    25.00, -999.00,9, -999.00,9, -999.00,-999.000,9, -999.00,9, -999.00,9,      13.98,2, 20210406,     1855,  15.3889, -52.3335,     2.1885,2,     0.0434,1,     4.6959,1,     -999.0,9,     -999.0,9,     -999.0,9,     -999.0,9
325020210316,        A20,      60,          1,          4,          4,2,20210406,       1831,    15.3889,   -52.3335,       5297,  4574.5,   1.9858,  34.8502,2,  34.8501,2,    249.8,2,   250.2,2,   52.95,2,   22.51,2,    0.00,2,    1.50,2,   0.346,2,   0.172,2,    0.13,2,  2203.2,2, 2343.04,2,   -999.0,9,  -999.00,   7.71092,2,    25.00, -999.00,9, -999.00,9, -999.00,-999.000,9, -999.00,9, -999.00,9,      15.41,2, 20210406,     1849,  15.3889, -52.3335,     1.9859,2,     0.0422,1,     4.6901,1,     -999.0,9,     -999.0,9,     -999.0,9,     -999.0,9
325020210316,        A20,      60,          1,          3,          3,2,20210406,       1831,    15.3889,   -52.3335,       5297,  4884.4,   1.8817,  34.8337,2,  34.8342,2,    245.5,2,   245.8,2,   60.76,2,   23.51,2,    0.00,2,    1.57,2,-999.000,9,-999.000,9, -999.00,9,  2211.1,2, 2345.87,6,   -999.0,9,  -999.00,   7.70139,2,    24.99, -999.00,9, -999.00,9, -999.00,-999.000,9, -999.00,9, -999.00,9,     -999.0,9, 20210406,     1842,  15.3889, -52.3335,     1.8817,2,     0.0422,1,     4.6827,1,     -999.0,9,     -999.0,9,     -999.0,9,     -999.0,9