BOTTLE,20230512CCHSIOCBG
EXPOCODE,SECT_ID,STNNBR,CASTNO,SAMPNO,BTLNBR,BTLNBR_FLAG_W,DATE,TIME,LATITUDE,LONGITUDE,DEPTH,CTDPRS,CTDTMP,CTDSAL,CTDSAL_FLAG_W,SALNTY,SALNTY_FLAG_W,CTDOXY,CTDOXY_FLAG_W,OXYGEN,OXYGEN_FLAG_W,SILCAT,SILCAT_FLAG_W,NITRAT,NITRAT_FLAG_W,NITRIT,NITRIT_FLAG_W,PHSPHT,PHSPHT_FLAG_W,CFC-11,CFC-11_FLAG_W,CFC-12,CFC-12_FLAG_W,SF6,SF6_FLAG_W,TCARBN,TCARBN_FLAG_W,ALKALI,ALKALI_FLAG_W,FCO2,FCO2_FLAG_W,FCO2TMP,PH_TOT,PH_TOT_FLAG_W,PH_TMP,DELC13,DELC13_FLAG_W,DELC14,DELC14_FLAG_W,C14ERR,POC,POC_FLAG_W,DOC,DOC_FLAG_W,TDN,TDN_FLAG_W,N2O,N2O_FLAG_W,BTL_DATE,BTL_TIME,BTL_LAT,BTL_LON,REFTMP,REFTMP_FLAG_W,CTDFLUOR,CTDFLUOR_FLAG_W,CTDXMISS,CTDXMISS_FLAG_W,D15N_NO2+NO3,D15N_NO2+NO3_FLAG_W,D18O_NO2+NO3,D18O_NO2+NO3_FLAG_W,HPLC,HPLC_FLAG_W,MICROGELS,MICROGELS_FLAG_W
,,,,,,,,,,,METERS,DBAR,ITS-90,PSS-78,,PSS-78,,UMOL/KG,,UMOL/KG,,UMOL/KG,,UMOL/KG,,UMOL/KG,,UMOL/KG,,PMOL/KG,,PMOL/KG,,FMOL/KG,,UMOL/KG,,UMOL/KG,,UATM,,DEG C,,,DEG C,/MILLE,,/MILLE,,/MILLE,UG/KG,,UMOL/KG,,UMOL/KG,,NMOL/KG,,,,,,ITS-90,,VOLTS,,VOLTS,,/MILLE,,/MILLE,,,,1E6 GELS/L,
325020210316,        A20,      24,          1,         36,         36,2,20210326,       2207,    36.5560,   -52.3330,       5456,     5.4,  19.4428,  36.6353,2,  36.6338,2,    226.2,3,   228.7,2,    0.78,2,    0.38,2,    0.11,2,    0.00,2,   1.763,2,   1.240,2,    2.02,2,  2098.0,6,  2397.3,2,    356.9,2,    20.00,   8.01959,2,    24.98, -999.00,9, -999.00,9, -999.00,-999.000,9, -999.00,9, -999.00,9,       3.70,4, 20210327,       31,  36.5560, -52.3330,    19.4404,2,     0.1253,1,     4.5469,1,     -999.0,1,     -999.0,1,     -999.0,9,     -999.0,9
325020210316,        A20,      24,          1,         35,         35,2,20210326,       2207,    36.5560,   -52.3330,       5456,    20.0,  19.4202,  36.6399,2,  36.6378,2,    228.4,2,   228.2,2,    0.68,2,    0.38,2,    0.12,2,    0.00,2,-999.000,9,-999.000,9, -999.00,9,  2096.8,2, -999.00,9,    357.3,2,    20.00,   8.01974,2,    25.02, -999.00,9, -999.00,9, -999.00,-999.000,9, -999.00,9, -999.00,9,     -999.0,9, 20210327,       29,  36.5560, -52.3330,    19.4024,2,     0.1292,1,     4.5616,1,     -999.0,1,     -999.0,1,     -999.0,9,     -999.0,9
325020210316,        A20,      24,          1,         34,         34,2,20210326,       2207,    36.5560,   -52.3330,       5456,    40.3,  19.3574,  36.6425,2,  36.6411,2,    224.7,3,   222.2,2,    0.68,2,    0.62,2,    0.25,2,    0.00,2,-999.000,9,-999.000,9, -999.00,9,  2099.8,2, 2398.77,2,    361.2,2,    20.00,   8.01463,2,    25.01, -999.00,9, -999.00,9, -999.00,-999.000,9, -999.00,9, -999.00,9,     -999.0,9, 20210327,       28,  36.5560, -52.3330,    19.3556,2,     0.0838,1,     4.6322,1,     -999.0,1,     -999.0,1,     -999.0,9,     -999.0,9
325020210316,        A20,      24,          1,         33,         33,2,20210326,       2207,    36.5560,   -52.3330,       5456,    65.6,  19.3471,  36.6423,2,  36.6409,2,    224.0,3,   221.1,2,    0.68,2,    0.68,2,    0.29,2,    0.00,2,   1.690,4,   1.150,4,    1.90,4,  2099.6,2, -999.00,9,    362.7,2,    20.00,   8.01393,2,    25.01, -999.00,9, -999.00,9, -999.00,-999.000,9, -999.00,9, -999.00,9,       4.68,4, 20210327,       26,  36.5560, -52.3330,    19.3454,2,     0.0675,1,     4.6510,1,     -999.0,1,     -999.0,1,     -999.0,9,     -999.0,9
325020210316,        A20,      24,          1,         32,         32,2,20210326,       2207,    36.5560,   -52.3330,       5456,    90.3,  19.3515,  36.6461,2,  36.6445,2,    223.2,2,   221.9,2,    0.59,2,    0.61,2,    0.29,2,    0.00,2,-999.000,9,-999.000,9, -999.00,9,  2099.4,2, 2399.63,2,    361.7,2,    20.00,   8.01546,2,    25.01, -999.00,9, -999.00,9, -999.00,-999.000,9, -999.00,9, -999.00,9,     -999.0,9, 20210327,       24,  36.5560, -52.3330,    19.3498,2,     0.0699,1,     4.6521,1,     -999.0,1,     -999.0,1,     -999.0,9,     -999.0,9
325020210316,        A20,      24,          1,         31,         31,2,20210326,       2207,    36.5560,   -52.3330,       5456,   136.7,  19.3487,  36.6469,2,  36.6449,2,    221.4,2,   221.1,2,    0.59,2,    0.65,2,    0.28,2,    0.00,2,   2.004,2,   1.421,2,    5.51,4,  2099.4,2, -999.00,9,   -999.0,9,  -999.00,   8.01508,2,    25.01, -999.00,9, -999.00,9, -999.00,-999.000,9, -999.00,9, -999.00,9,       4.43,4, 20210327,       23,  36.5560, -52.3330,    19.3472,2,     0.0576,1,     4.6606,1,     -999.0,1,     -999.0,1,     -999.0,9,     -999.0,9
325020210316,        A20,      24,          1,         30,         30,2,20210326,       2207,    36.5560,   -52.3330,       5456,   187.0,  19.3369,  36.6478,2,  36.6461,2,    219.8,2,   221.3,2,    0.59,2,    0.63,2,    0.27,2,    0.00,2,   1.902,2,   1.233,2,    2.04,2,  2100.0,2, 2399.82,2,    362.2,2,    20.00,   8.01383,2,    25.02, -999.00,9, -999.00,9, -999.00,-999.000,9, -999.00,9, -999.00,9,       4.06,4, 20210327,       21,  36.5560, -52.3330,    19.3364,2,     0.0576,1,     4.6592,1,     -999.0,1,     -999.0,1,     -999.0,9,     -999.0,9
325020210316,        A20,      24,          1,         29,         29,2,20210326,       2207,    36.5560,   -52.3330,       5456,   237.6,  19.3303,  36.6505,2,  36.6501,2,    218.3,2,   219.3,2,    0.49,2,    0.88,2,    0.16,2,    0.00,2,-999.000,9,-999.000,9, -999.00,9,  2100.7,2, -999.00,9,    364.8,2,    20.00,    8.0137,2,    25.03, -999.00,9, -999.00,9, -999.00,-999.000,9, -999.00,9, -999.00,9,     -999.0,9, 20210327,       20,  36.5560, -52.3330,    19.3282,2,     0.0471,1,     4.6696,1,     -999.0,1,     -999.0,1,     -999.0,9,     -999.0,9
325020210316,        A20,      24,          1,         28,         28,2,20210326,       2207,    36.5560,   -52.3330,       5456,   287.7,  19.3301,  36.6644,2,  36.6645,2,    217.2,2,   216.7,2,    0.59,2,    1.11,2,    0.08,2,    0.00,2,   1.521,2,   1.224,2,    1.89,2,  2103.0,2, -999.00,9,    367.4,2,    20.00,   8.00965,2,    24.97, -999.00,9, -999.00,9, -999.00,-999.000,9, -999.00,9, -999.00,9,       3.93,4, 20210327,       18,  36.5560, -52.3330,    19.3274,2,     0.0432,1,     4.6775,1,     -999.0,1,     -999.0,1,     -999.0,9,     -999.0,9
325020210316,        A20,      24,          1,         27,         27,2,20210326,       2207,    36.5560,   -52.3330,       5456,   338.2,  19.3652,  36.6961,2,  36.6951,2,    215.3,2,   214.0,2,    0.68,2,    1.39,2,    0.01,2,    0.01,2,   1.884,2,   1.231,2,    2.06,2,  2105.7,2, 2398.35,2,    373.6,2,    20.00,   8.00388,2,    25.02, -999.00,9, -999.00,9, -999.00,-999.000,9, -999.00,9, -999.00,9,       4.64,4, 20210327,       16,  36.5560, -52.3330,    19.3642,2,     0.0401,1,     4.6833,1,     -999.0,1,     -999.0,1,     -999.0,9,     -999.0,9
325020210316,        A20,      24,          1,         26,         26,2,20210326,       2207,    36.5560,   -52.3330,       5456,   388.6,  19.2174,  36.6691,2,  36.6675,2,    216.0,3,   213.6,2,    0.78,2,    1.69,2,    0.01,2,    0.03,2,-999.000,9,-999.000,9, -999.00,9,  2108.4,2, -999.00,9,    380.8,2,    20.00,   7.99932,2,    25.02, -999.00,9, -999.00,9, -999.00,-999.000,9, -999.00,9, -999.00,9,     -999.0,9, 20210327,       14,  36.5559, -52.3330,    19.2171,2,     0.0393,1,     4.6862,1,     -999.0,1,     -999.0,1,     -999.0,9,     -999.0,9
325020210316,        A20,      24,          1,         25,         25,2,20210326,       2207,    36.5560,   -52.3330,       5456,   469.1,  19.0446,  36.6504,2,  36.6481,2,    212.9,2,   211.5,2,    0.88,2,    2.14,2,    0.01,2,    0.05,2,   1.925,2,   1.255,2,    2.03,2,  2109.0,2, -999.00,9,    388.7,2,    20.00,   7.99064,2,    24.97, -999.00,9, -999.00,9, -999.00,-999.000,9, -999.00,9, -999.00,9,       4.74,4, 20210327,       12,  36.5560, -52.3330,    19.0436,2,     0.0408,1,     4.6891,1,     -999.0,1,     -999.0,1,     -999.0,9,     -999.0,9
325020210316,        A20,      24,          1,         24,         24,2,20210326,       2207,    36.5560,   -52.3330,       5456,   570.2,  18.2062,  36.5186,2,  36.5167,2,    189.2,2,   188.0,2,    1.56,2,    5.44,2,    0.00,2,    0.21,2,   2.048,2,   1.346,2,    1.56,2,  2130.6,2, 2386.46,2,    445.1,2,    20.00,   7.93998,2,    25.03, -999.00,9, -999.00,9, -999.00,-999.000,9, -999.00,9, -999.00,9,       4.92,4, 20210327,        9,  36.5560, -52.3330,    18.2036,2,     0.0399,1,     4.6959,1,     -999.0,1,     -999.0,1,     -999.0,9,     -999.0,9
325020210316,        A20,      24,          1,         23,         23,2,20210326,       2207,    36.5560,   -52.3330,       5456,   670.8,  16.1918,  36.1726,2,  36.1698,2,    175.2,2,   175.3,2,    3.22,2,    9.78,2,    0.00,2,    0.50,2,   2.140,2,   1.357,2,    1.50,2,  2149.9,2, -999.00,9,    527.2,2,    20.00,   7.87433,2,    24.96, -999.00,9, -999.00,9, -999.00,-999.000,9, -999.00,9, -999.00,9,       7.66,4, 20210327,        6,  36.5560, -52.3330,    16.1959,2,     0.0411,1,     4.6989,1,     -999.0,1,     -999.0,1,     -999.0,9,     -999.0,9
325020210316,        A20,      24,          1,         22,         22,2,20210326,       2207,    36.5560,   -52.3330,       5456,   772.6,  14.0659,  35.8310,2,  35.8277,2,    162.7,3,   164.5,2,    5.66,2,   14.20,2,    0.00,2,    0.80,2,-999.000,9,-999.000,9, -999.00,9,  2164.8,2, 2350.35,2,    623.8,2,    20.00,   7.80623,6,    25.01, -999.00,9, -999.00,9, -999.00,-999.000,9, -999.00,9, -999.00,9,     -999.0,9, 20210327,        3,  36.5560, -52.3330,    14.0645,2,     0.0405,1,     4.7013,1,     -999.0,1,     -999.0,1,     -999.0,9,     -999.0,9
325020210316,        A20,      24,          1,         21,         21,2,20210326,       2207,    36.5560,   -52.3330,       5456,   873.2,  11.6595,  35.4930,2,  35.4906,2,    165.7,2,   164.6,2,    8.30,2,   17.79,2,    0.00,2,    1.06,2,   2.014,2,   1.215,2,    1.22,2,  2177.3,2, -999.00,9,    726.8,2,    20.00,   7.74601,6,    25.03, -999.00,9, -999.00,9, -999.00,-999.000,9, -999.00,9, -999.00,9,       8.05,4, 20210327,        0,  36.5560, -52.3330,    11.6686,2,     0.0409,1,     4.7045,1,     -999.0,1,     -999.0,1,     -999.0,9,     -999.0,9
325020210316,        A20,      24,          1,         20,         20,2,20210326,       2207,    36.5560,   -52.3330,       5456,   974.1,   9.2380,  35.2309,2,  35.2306,2,    154.1,2,   154.5,2,   12.89,2,   22.35,2,    0.00,2,    1.40,2,   1.634,2,   0.917,2,    0.76,2,  2193.9,6, 2323.23,2,    852.4,2,    20.00,    7.6801,2,    25.02, -999.00,9, -999.00,9, -999.00,-999.000,9, -999.00,9, -999.00,9,      12.07,4, 20210326,     2357,  36.5560, -52.3330,     9.2624,2,     0.0416,1,     4.7056,1,     -999.0,1,     -999.0,1,     -999.0,9,     -999.0,9
325020210316,        A20,      24,          1,         19,         19,2,20210326,       2207,    36.5560,   -52.3330,       5456,  1076.2,   7.7918,  35.1623,2,  35.1612,2,    175.9,2,   176.5,2,   13.28,2,   21.68,2,    0.00,2,    1.36,2,-999.000,9,-999.000,9, -999.00,9,  2191.6,2, -999.00,9,    848.8,2,    20.00,   7.68009,2,    25.01, -999.00,9, -999.00,9, -999.00,-999.000,9, -999.00,9, -999.00,9,     -999.0,9, 20210326,     2355,  36.5560, -52.3330,     7.7954,2,     0.0422,1,     4.7069,1,     -999.0,1,     -999.0,1,     -999.0,9,     -999.0,9
325020210316,        A20,      24,          1,         18,         18,2,20210326,       2207,    36.5560,   -52.3330,       5456,  1177.7,   6.6984,  35.1194,2,  35.1187,2,    200.5,2,   200.2,2,   12.89,2,   20.39,2,    0.00,2,    1.30,2,   1.725,2,   1.102,2,    0.80,2,  2187.5,2, 2319.66,2,    831.8,2,    20.00,   7.68765,2,    25.00, -999.00,9, -999.00,9, -999.00,-999.000,9, -999.00,9, -999.00,9,       8.51,4, 20210326,     2352,  36.5560, -52.3330,     6.6867,2,     0.0425,1,     4.7069,1,     -999.0,1,     -999.0,1,     -999.0,9,     -999.0,9
325020210316,        A20,      24,          1,         17,         17,2,20210326,       2207,    36.5560,   -52.3330,       5456,  1279.2,   6.0115,  35.1028,2,  35.1010,2,    220.4,2,   219.4,2,   12.21,2,   19.21,2,    0.00,2,    1.22,2,-999.000,9,-999.000,9, -999.00,9,  2183.9,2, -999.00,9,    808.7,2,    20.00,   7.69652,2,    25.00, -999.00,9, -999.00,9, -999.00,-999.000,9, -999.00,9, -999.00,9,     -999.0,9, 20210326,     2349,  36.5560, -52.3330,     6.0109,2,     0.0422,1,     4.7069,1,     -999.0,1,     -999.0,1,     -999.0,9,     -999.0,9
325020210316,        A20,      24,          1,         16,         16,2,20210326,       2207,    36.5560,   -52.3330,       5456,  1380.0,   5.5961,  35.1120,2,  35.1108,2,    232.6,2,   231.8,2,   11.82,2,   18.56,2,    0.00,2,    1.18,2,   2.387,2,   1.348,2,    1.01,2,  2180.1,2, 2317.18,2,   -999.0,9,  -999.00,   7.70677,2,    25.00, -999.00,9, -999.00,9, -999.00,-999.000,9, -999.00,9, -999.00,9,       9.29,4, 20210326,     2346,  36.5560, -52.3330,     5.5953,2,     0.0425,1,     4.7081,1,     -999.0,1,     -999.0,1,     -999.0,9,     -999.0,9
325020210316,        A20,      24,          1,         15,         15,2,20210326,       2207,    36.5560,   -52.3330,       5456,  1552.2,   4.7472,  35.0390,2,  35.0380,2,    251.0,2,   251.3,2,   11.52,2,   17.84,2,    0.00,2,    1.13,2,   2.508,2,   1.506,2,    1.02,2,  2173.6,2, -999.00,9,    781.1,2,    20.00,   7.71024,2,    25.00, -999.00,9, -999.00,9, -999.00,-999.000,9, -999.00,9, -999.00,9,       7.94,4, 20210326,     2342,  36.5560, -52.3330,     4.7468,2,     0.0419,1,     4.7075,1,     -999.0,1,     -999.0,1,     -999.0,9,     -999.0,9
325020210316,        A20,      24,          1,         14,         14,2,20210326,       2207,    36.5560,   -52.3330,       5456,  1755.8,   4.3384,  35.0089,2,  35.0077,2,    258.9,2,   258.2,2,   11.82,2,   17.65,2,    0.00,2,    1.12,2,-999.000,9,-999.000,9, -999.00,9,  2170.2,2,  2311.2,2,   -999.0,9,  -999.00,   7.71389,2,    25.00, -999.00,9, -999.00,9, -999.00,-999.000,9, -999.00,9, -999.00,9,     -999.0,9, 20210326,     2337,  36.5559, -52.3330,     4.3377,2,     0.0416,1,     4.7081,1,     -999.0,1,     -999.0,1,     -999.0,9,     -999.0,9
325020210316,        A20,      24,          1,         13,         13,2,20210326,       2207,    36.5560,   -52.3330,       5456,  1959.5,   4.0218,  34.9856,2,  34.9846,2,    260.9,2,   261.3,2,   12.79,2,   17.57,2,    0.00,2,    1.13,2,   2.450,2,   1.318,2,    0.80,2,  2169.6,2, -999.00,9,    762.7,6,    20.00,   7.71904,2,    25.01, -999.00,9, -999.00,9, -999.00,-999.000,9, -999.00,9, -999.00,9,       7.87,4, 20210326,     2331,  36.5560, -52.3330,     4.0210,2,     0.0417,1,     4.7081,1,     -999.0,1,     -999.0,1,     -999.0,9,     -999.0,9
325020210316,        A20,      24,          1,         12,         12,2,20210326,       2207,    36.5560,   -52.3330,       5456,  2193.2,   3.8007,  34.9794,2,  34.9784,2,    260.4,2,   261.0,2,   14.45,2,   17.68,2,    0.00,2,    1.14,2,   1.917,2,   1.076,2,    0.43,2,  2166.8,2, 2313.05,2,    757.8,2,    20.00,   7.72475,2,    25.01, -999.00,9, -999.00,9, -999.00,-999.000,9, -999.00,9, -999.00,9,       6.96,4, 20210326,     2326,  36.5560, -52.3330,     3.8001,2,     0.0416,1,     4.7083,1,     -999.0,1,     -999.0,1,     -999.0,9,     -999.0,9
325020210316,        A20,      24,          1,         11,         11,2,20210326,       2207,    36.5560,   -52.3330,       5456,  2447.5,   3.5172,  34.9631,2,  34.9614,2,    263.0,2,   262.8,2,   16.21,2,   17.75,2,    0.00,2,    1.16,2,-999.000,9,-999.000,9, -999.00,9,  2166.6,2, -999.00,9,   -999.0,9,  -999.00,   7.72865,6,    25.00, -999.00,9, -999.00,9, -999.00,-999.000,9, -999.00,9, -999.00,9,     -999.0,9, 20210326,     2320,  36.5560, -52.3330,     3.5169,2,     0.0412,1,     4.7084,1,     -999.0,1,     -999.0,1,     -999.0,9,     -999.0,9
325020210316,        A20,      24,          1,         10,         10,2,20210326,       2207,    36.5560,   -52.3330,       5456,  2702.0,   3.2700,  34.9537,2,  34.9536,2,    262.7,2,   262.1,2,   18.85,2,   18.04,2,    0.00,2,    1.18,2,   1.231,6,   0.663,6,    0.28,6,  2167.4,6, 2316.02,2,    743.4,2,    20.00,   7.73374,2,    25.01, -999.00,9, -999.00,9, -999.00,-999.000,9, -999.00,9, -999.00,9,       7.43,4, 20210326,     2314,  36.5560, -52.3330,     3.2693,2,     0.0428,1,     4.7084,1,     -999.0,1,     -999.0,1,     -999.0,9,     -999.0,9
325020210316,        A20,      24,          1,          9,          9,2,20210326,       2207,    36.5560,   -52.3330,       5456,  2957.5,   3.0771,  34.9440,2,  34.9423,2,    264.0,2,   262.7,2,   20.61,2,   18.21,2,    0.00,2,    1.19,2,-999.000,5,-999.000,5, -999.00,5,  2168.5,2, -999.00,9,    738.8,2,    20.00,   7.73493,2,    25.00, -999.00,9, -999.00,9, -999.00,-999.000,9, -999.00,9, -999.00,9,     -999.0,5, 20210326,     2308,  36.5560, -52.3330,     3.0765,2,     0.0420,1,     4.7085,1,     -999.0,1,     -999.0,1,     -999.0,9,     -999.0,9
325020210316,        A20,      24,          1,          8,          8,2,20210326,       2207,    36.5560,   -52.3330,       5456,  3248.7,   2.8333,  34.9304,2,  34.9286,2,    265.4,2,   264.3,2,   22.76,2,   18.30,2,    0.00,2,    1.21,2,-999.000,9,-999.000,9, -999.00,9,  2169.4,2, 2318.06,2,   -999.0,9,  -999.00,   7.73619,2,    25.02, -999.00,9, -999.00,9, -999.00,-999.000,9, -999.00,9, -999.00,9,     -999.0,9, 20210326,     2301,  36.5560, -52.3331,     2.8329,2,     0.0428,1,     4.7088,1,     -999.0,1,     -999.0,1,     -999.0,9,     -999.0,9
325020210316,        A20,      24,          1,          7,          7,2,20210326,       2207,    36.5560,   -52.3330,       5456,  3556.4,   2.6092,  34.9161,2,  34.9148,2,    266.3,2,   265.9,2,   25.10,2,   18.31,2,    0.00,2,    1.22,2,   0.974,2,   0.493,2,    0.33,2,  2170.2,2, -999.00,9,    738.9,2,    20.00,   7.73547,2,    25.01, -999.00,9, -999.00,9, -999.00,-999.000,9, -999.00,9, -999.00,9,       7.78,4, 20210326,     2254,  36.5560, -52.3331,     2.6087,2,     0.0424,1,     4.7088,1,     -999.0,1,     -999.0,1,     -999.0,9,     -999.0,9
325020210316,        A20,      24,          1,          6,          6,2,20210326,       2207,    36.5560,   -52.3330,       5456,  3863.6,   2.4308,  34.9034,2,  34.9024,2,    267.8,2,   266.4,2,   27.45,2,   18.44,2,    0.00,2,    1.24,2,   0.900,2,   0.511,2,    0.24,2,  2171.1,2,  2320.1,2,    742.7,2,    20.00,   7.73422,2,    25.01, -999.00,9, -999.00,9, -999.00,-999.000,9, -999.00,9, -999.00,9,       7.18,4, 20210326,     2246,  36.5560, -52.3331,     2.4305,2,     0.0432,1,     4.7084,1,     -999.0,1,     -999.0,1,     -999.0,9,     -999.0,9
325020210316,        A20,      24,          1,          5,          5,2,20210326,       2207,    36.5560,   -52.3330,       5456,  4273.9,   2.2920,  34.8905,2,  34.8882,3,    263.8,2,   264.6,2,   31.84,2,   19.01,2,    0.00,2,    1.27,2,-999.000,9,-999.000,9, -999.00,9,  2177.1,2, -999.00,9,   -999.0,9,  -999.00,   7.73013,2,    24.99, -999.00,9, -999.00,9, -999.00,-999.000,9, -999.00,9, -999.00,9,     -999.0,9, 20210326,     2239,  36.5560, -52.3330,     2.2923,2,     0.0430,1,     4.7055,1,     -999.0,1,     -999.0,1,     -999.0,9,     -999.0,9
325020210316,        A20,      24,          1,          4,          4,2,20210326,       2207,    36.5560,   -52.3330,       5456,  4684.8,   2.2370,  34.8803,2,  34.8788,2,    260.6,2,   260.3,2,   37.80,2,   19.99,2,    0.00,2,    1.35,2,   0.754,2,   0.391,2,    0.29,2,  2183.5,2, 2330.75,2,    758.0,2,    20.00,   7.72797,2,    25.00, -999.00,9, -999.00,9, -999.00,-999.000,9, -999.00,9, -999.00,9,       8.33,4, 20210326,     2230,  36.5560, -52.3330,     2.2368,2,     0.0418,1,     4.6934,1,     -999.0,1,     -999.0,1,     -999.0,9,     -999.0,9
325020210316,        A20,      24,          1,          3,          3,2,20210326,       2207,    36.5560,   -52.3330,       5456,  5097.5,   2.2137,  34.8716,2,  34.8703,2,    256.2,2,   256.6,2,   42.98,2,   20.85,2,    0.00,2,    1.41,2,   0.525,2,   0.278,2,    0.18,2,  2188.7,2, -999.00,9,   -999.0,9,  -999.00,   7.72457,6,    25.00, -999.00,9, -999.00,9, -999.00,-999.000,9, -999.00,9, -999.00,9,       8.14,4, 20210326,     2222,  36.5560, -52.3331,     2.2138,2,     0.0424,1,     4.6551,1,     -999.0,1,     -999.0,1,     -999.0,9,     -999.0,9