BOTTLE,20230512CCHSIOCBG
EXPOCODE,SECT_ID,STNNBR,CASTNO,SAMPNO,BTLNBR,BTLNBR_FLAG_W,DATE,TIME,LATITUDE,LONGITUDE,DEPTH,CTDPRS,CTDTMP,CTDSAL,CTDSAL_FLAG_W,SALNTY,SALNTY_FLAG_W,CTDOXY,CTDOXY_FLAG_W,OXYGEN,OXYGEN_FLAG_W,SILCAT,SILCAT_FLAG_W,NITRAT,NITRAT_FLAG_W,NITRIT,NITRIT_FLAG_W,PHSPHT,PHSPHT_FLAG_W,CFC-11,CFC-11_FLAG_W,CFC-12,CFC-12_FLAG_W,SF6,SF6_FLAG_W,TCARBN,TCARBN_FLAG_W,ALKALI,ALKALI_FLAG_W,FCO2,FCO2_FLAG_W,FCO2TMP,PH_TOT,PH_TOT_FLAG_W,PH_TMP,DELC13,DELC13_FLAG_W,DELC14,DELC14_FLAG_W,C14ERR,POC,POC_FLAG_W,DOC,DOC_FLAG_W,TDN,TDN_FLAG_W,N2O,N2O_FLAG_W,BTL_DATE,BTL_TIME,BTL_LAT,BTL_LON,REFTMP,REFTMP_FLAG_W,CTDFLUOR,CTDFLUOR_FLAG_W,CTDXMISS,CTDXMISS_FLAG_W,D15N_NO2+NO3,D15N_NO2+NO3_FLAG_W,D18O_NO2+NO3,D18O_NO2+NO3_FLAG_W,HPLC,HPLC_FLAG_W,MICROGELS,MICROGELS_FLAG_W
,,,,,,,,,,,METERS,DBAR,ITS-90,PSS-78,,PSS-78,,UMOL/KG,,UMOL/KG,,UMOL/KG,,UMOL/KG,,UMOL/KG,,UMOL/KG,,PMOL/KG,,PMOL/KG,,FMOL/KG,,UMOL/KG,,UMOL/KG,,UATM,,DEG C,,,DEG C,/MILLE,,/MILLE,,/MILLE,UG/KG,,UMOL/KG,,UMOL/KG,,NMOL/KG,,,,,,ITS-90,,VOLTS,,VOLTS,,/MILLE,,/MILLE,,,,1E6 GELS/L,
325020210316,        A20,      88,          1,         10,         10,2,20210412,       2050,     7.0088,   -53.2503,        128,     5.8,  28.3569,  28.7651,2,  27.4572,3,    258.5,2,   259.6,2,   13.72,2,    0.00,2,    0.00,2,    0.01,2,   1.461,2,   0.975,2,    1.75,2,  1559.4,6, 1866.24,2,    161.0,2,    20.00,   8.26726,2,    24.98, -999.00,9, -999.00,9, -999.00,-999.000,9,  117.17,2,    5.58,2,       5.66,2, 20210412,     2102,   7.0088, -53.2503,    28.3871,2,     0.1371,1,     4.3671,1,     -999.0,1,     -999.0,1,     -999.0,9,     -999.0,9
325020210316,        A20,      88,          1,          9,          9,2,20210412,       2050,     7.0088,   -53.2503,        128,    15.4,  28.1358,  35.3652,2,  35.3547,2,    193.5,2,   192.8,2,    1.56,2,    0.00,2,    0.00,2,    0.04,2,-999.000,9,-999.000,9, -999.00,9,  2014.9,2, 2317.62,2,    310.2,2,    20.00,   8.07391,2,    24.97, -999.00,9, -999.00,9, -999.00,-999.000,9,   72.93,2,    3.39,2,     -999.0,9, 20210412,     2100,   7.0088, -53.2503,    28.1347,2,     0.0820,1,     4.5770,1,     -999.0,1,     -999.0,1,     -999.0,9,     -999.0,9
325020210316,        A20,      88,          1,          8,          8,2,20210412,       2050,     7.0088,   -53.2503,        128,    30.1,  28.1745,  35.7058,2,  35.6960,2,    189.6,2,   190.7,2,    1.36,2,    0.00,2,    0.00,2,    0.05,2,   1.374,2,   0.921,2,    1.56,2,  2033.5,2, 2338.39,2,    317.9,2,    20.00,   8.06822,2,    25.00, -999.00,9, -999.00,9, -999.00,-999.000,9,   71.56,2,    5.11,2,       5.62,2, 20210412,     2059,   7.0088, -53.2503,    28.1742,2,     0.0795,1,     4.6015,1,     -999.0,1,     -999.0,1,     -999.0,9,     -999.0,9
325020210316,        A20,      88,          1,          7,          7,2,20210412,       2050,     7.0088,   -53.2503,        128,    44.9,  28.1039,  35.9163,2,  35.9348,2,    186.8,3,   188.9,2,    1.27,2,    0.00,2,    0.08,2,    0.06,2,-999.000,9,-999.000,9, -999.00,9,  2049.0,2, 2356.19,2,    323.7,6,    20.00,   8.06094,2,    24.99, -999.00,9, -999.00,9, -999.00,-999.000,9,   68.74,2,    4.47,2,     -999.0,9, 20210412,     2057,   7.0088, -53.2503,    28.1059,2,     0.0989,1,     4.5867,1,     -999.0,1,     -999.0,1,     -999.0,9,     -999.0,9
325020210316,        A20,      88,          1,          6,          6,2,20210412,       2050,     7.0088,   -53.2503,        128,    59.7,  27.7810,  36.1776,2,  36.1779,2,    189.1,2,   189.6,2,    1.27,2,    0.14,2,    0.08,2,    0.06,2,   1.434,2,   0.923,2,    1.55,2,  2062.1,2, 2366.61,2,    326.6,2,    20.00,   8.05977,2,    24.99, -999.00,9, -999.00,9, -999.00,-999.000,9,   69.47,2,    3.86,2,       5.84,2, 20210412,     2055,   7.0088, -53.2503,    27.7810,2,     0.0830,1,     4.5742,1,     -999.0,1,     -999.0,1,     -999.0,9,     -999.0,9
325020210316,        A20,      88,          1,          5,          5,2,20210412,       2050,     7.0088,   -53.2503,        128,    75.7,  27.7311,  36.2242,2,  36.2238,2,    191.1,2,   190.7,2,    1.17,2,    0.15,2,    0.08,2,    0.07,2,-999.000,9,-999.000,9, -999.00,9,  2060.8,2, 2370.07,2,    324.1,2,    20.00,   8.06298,2,    25.00, -999.00,9, -999.00,9, -999.00,-999.000,9,   70.90,2,    4.40,2,     -999.0,9, 20210412,     2054,   7.0088, -53.2503,    27.7300,2,     0.0694,1,     4.5907,1,     -999.0,1,     -999.0,1,     -999.0,9,     -999.0,9
325020210316,        A20,      88,          1,          4,          4,2,20210412,       2050,     7.0088,   -53.2503,        128,    90.2,  27.4511,  36.2302,2,  36.2394,2,    195.6,3,   191.6,2,    1.27,2,    0.43,2,    0.06,2,    0.07,2,   1.384,2,   0.941,2,    1.54,2,  2063.7,2, 2372.35,6,    325.6,2,    20.00,   8.06241,2,    25.02, -999.00,9, -999.00,9, -999.00,-999.000,9,   72.39,2,    5.17,2,       6.06,2, 20210412,     2053,   7.0088, -53.2503,    27.4519,2,     0.0516,1,     4.6069,1,     -999.0,1,     -999.0,1,     -999.0,9,     -999.0,9
325020210316,        A20,      88,          1,          3,          3,2,20210412,       2050,     7.0088,   -53.2503,        128,   105.6,  22.5668,  36.4833,2,  36.4725,2,    154.2,2,   153.4,2,    4.38,2,    6.03,2,    0.11,2,    0.41,2,-999.000,9,-999.000,9, -999.00,9,  2143.1,2, 2386.74,2,    452.0,2,    20.00,   8.06233,6,    25.00, -999.00,9, -999.00,9, -999.00,-999.000,9,   64.55,2,   10.05,2,     -999.0,9, 20210412,     2051,   7.0087, -53.2503,     -999.0,9,     0.0585,1,     4.4236,1,     -999.0,1,     -999.0,1,     -999.0,9,     -999.0,9
325020210316,        A20,      88,          1,          2,          2,2,20210412,       2050,     7.0088,   -53.2503,        128,   106.1,  22.5529,  36.4850,2,  36.4832,2,    154.4,2,   153.7,2,    4.38,2,    6.05,2,    0.11,2,    0.40,2,-999.000,9,-999.000,9, -999.00,9,  -999.0,9, -999.00,9,   -999.0,9,  -999.00,-999.00000,9,  -999.00, -999.00,9, -999.00,9, -999.00,-999.000,9, -999.00,9, -999.00,9,     -999.0,9, 20210412,     2051,   7.0087, -53.2503,    22.5640,2,     0.0578,1,     4.4218,1,     -999.0,9,     -999.0,9,     -999.0,9,     -999.0,9
325020210316,        A20,      88,          1,          1,          1,2,20210412,       2050,     7.0088,   -53.2503,        128,   121.0,  21.6143,  36.5161,2,  36.5119,2,    145.5,2,   147.0,2,    5.07,2,    7.04,2,    0.11,2,    0.46,2,   1.735,2,   1.147,2,    1.52,2,  2158.5,2, 2387.68,2,    478.5,2,    20.00,   7.91579,2,    24.97, -999.00,9, -999.00,9, -999.00,-999.000,9,   64.16,2,   10.67,2,      11.34,2, 20210412,     2050,   7.0088, -53.2503,    21.5313,2,     0.0622,1,     4.3404,1,     -999.0,1,     -999.0,1,     -999.0,9,     -999.0,9
325020210316,        A20,      89,          1,          7,          7,2,20210412,       2258,     6.9435,   -53.2863,         86,     4.6,  28.4740,  26.6155,2,  25.5771,3,    249.8,2,   249.8,2,   14.43,2,    0.00,2,    0.00,2,    0.00,2,-999.000,9,-999.000,9, -999.00,9,  1502.6,6,  1774.6,2,    155.2,2,    20.00,   8.28528,2,    25.01, -999.00,9, -999.00,9, -999.00,-999.000,9,  119.36,2,    5.55,2,     -999.0,9, 20210412,     2306,   6.9421, -53.2845,    28.4687,2,     0.1422,1,     4.4758,1,     -999.0,9,     -999.0,9,     -999.0,9,     -999.0,9
325020210316,        A20,      89,          1,          6,          6,2,20210412,       2258,     6.9435,   -53.2863,         86,    19.8,  28.2190,  35.2603,2,  35.2690,2,    191.6,2,   191.5,2,    2.05,2,    0.00,2,    0.00,2,    0.02,2,-999.000,9,-999.000,9, -999.00,9,  2002.6,2, 2328.81,2,    309.5,2,    20.00,   8.06922,6,    24.99, -999.00,9, -999.00,9, -999.00,-999.000,9,   77.32,2,    4.17,2,     -999.0,9, 20210412,     2304,   6.9415, -53.2838,    28.2189,2,     0.0849,1,     4.5837,1,     -999.0,9,     -999.0,9,     -999.0,9,     -999.0,9
325020210316,        A20,      89,          1,          5,          5,2,20210412,       2258,     6.9435,   -53.2863,         86,    35.8,  28.1039,  35.8805,2,  35.8445,3,    189.6,2,   189.8,2,    1.36,2,    0.00,2,    0.06,2,    0.04,2,-999.000,9,-999.000,9, -999.00,9,  2033.3,2, 2350.82,2,    322.4,3,    20.00,   8.06483,2,    24.95, -999.00,9, -999.00,9, -999.00,-999.000,9,   73.65,2,    4.64,2,     -999.0,9, 20210412,     2302,   6.9409, -53.2831,    28.0961,2,     0.0900,1,     4.5798,1,     -999.0,9,     -999.0,9,     -999.0,9,     -999.0,9
325020210316,        A20,      89,          1,          4,          4,2,20210412,       2258,     6.9435,   -53.2863,         86,    50.5,  27.6857,  36.2263,2,  36.2048,3,    189.5,2,   189.1,2,    1.27,2,    0.20,2,    0.10,2,    0.06,2,-999.000,9,-999.000,9, -999.00,9,  2057.6,2,  2364.0,2,   -999.0,9,  -999.00,   8.05879,2,    24.99, -999.00,9, -999.00,9, -999.00,-999.000,9,   69.69,2,    5.22,2,     -999.0,9, 20210412,     2301,   6.9403, -53.2824,    27.6852,2,     0.0717,1,     4.5517,1,     -999.0,9,     -999.0,9,     -999.0,9,     -999.0,9
325020210316,        A20,      89,          1,          2,          2,2,20210412,       2258,     6.9435,   -53.2863,         86,    65.5,  27.6906,  36.2525,2,  36.2525,2,    190.3,2,   190.6,2,    1.27,2,    0.17,2,    0.08,2,    0.07,2,-999.000,9,-999.000,9, -999.00,9,  -999.0,9,  2363.2,2,   -999.0,9,  -999.00,-999.00000,9,  -999.00, -999.00,9, -999.00,9, -999.00,-999.000,9, -999.00,9, -999.00,9,     -999.0,9, 20210412,     2259,   6.9399, -53.2817,    27.6899,2,     0.0630,1,     4.5635,1,     -999.0,9,     -999.0,9,     -999.0,9,     -999.0,9
325020210316,        A20,      89,          1,          3,          3,2,20210412,       2258,     6.9435,   -53.2863,         86,    66.0,  27.6907,  36.2528,2,  36.2527,2,    190.4,2,   190.5,2,    1.27,2,    0.18,2,    0.08,2,    0.06,2,-999.000,9,-999.000,9, -999.00,9,  2055.9,2, 2370.01,2,    322.8,2,    20.00,    8.0584,6,    25.00, -999.00,9, -999.00,9, -999.00,-999.000,9,   70.02,2,    4.23,2,     -999.0,9, 20210412,     2259,   6.9399, -53.2817,     -999.0,9,     0.0629,1,     4.5580,1,     -999.0,9,     -999.0,9,     -999.0,9,     -999.0,9
325020210316,        A20,      89,          1,          1,          1,2,20210412,       2258,     6.9435,   -53.2863,         86,    79.8,  27.4817,  36.2686,2,  36.2311,3,    190.2,2,   190.2,2,    1.46,2,    0.26,2,    0.08,2,    0.06,2,-999.000,9,-999.000,9, -999.00,9,  2059.0,2, 2372.89,2,    323.3,2,    20.00,   8.05931,2,    25.01, -999.00,9, -999.00,9, -999.00,-999.000,9,   70.06,2,    3.92,2,     -999.0,9, 20210412,     2258,   6.9395, -53.2810,    27.4889,2,     0.0745,1,     4.4425,1,     -999.0,9,     -999.0,9,     -999.0,9,     -999.0,9
325020210316,        A20,      90,          1,          6,          6,2,20210413,       0105,     6.8700,   -53.3124,         72,     5.3,  28.3346,  29.9762,2,  23.8993,3,    251.2,2,   251.8,2,   16.35,2,    0.00,2,    0.00,2,    0.00,2,   1.476,2,   0.990,2,    1.66,2,  1386.7,2, 1667.93,6,    137.0,2,    20.00,   8.31487,2,    25.01, -999.00,9, -999.00,9, -999.00,-999.000,9,  120.55,2,    5.96,2,       5.63,2, 20210413,      111,   6.8700, -53.3124,    28.3147,2,     0.1561,1,     4.4429,1,     -999.0,9,     -999.0,9,     -999.0,9,     -999.0,9
325020210316,        A20,      90,          1,          5,          5,2,20210413,       0105,     6.8700,   -53.3124,         72,    15.7,  28.2479,  35.5680,2,  35.6082,3,    195.0,3,   192.4,2,    1.46,2,    0.00,2,    0.00,2,    0.03,2,   1.347,2,   0.917,2,    1.48,2,  2019.0,6, 2334.51,2,    312.0,2,    20.00,   8.07164,2,    25.02, -999.00,9, -999.00,9, -999.00,-999.000,9,   73.20,2,    5.30,2,       5.40,2, 20210413,      109,   6.8698, -53.3121,    28.2462,2,     0.0828,1,     4.5827,1,     -999.0,9,     -999.0,9,     -999.0,9,     -999.0,9
325020210316,        A20,      90,          1,          4,          4,2,20210413,       0105,     6.8700,   -53.3124,         72,    30.4,  27.6416,  36.2228,2,  36.2198,2,    187.4,2,   187.7,2,    1.56,2,    0.22,2,    0.12,2,    0.06,2,   1.396,2,   0.931,2,    1.49,2,  2059.0,2, 2371.93,2,    330.7,2,    20.00,    8.0548,6,    25.02, -999.00,9, -999.00,9, -999.00,-999.000,9,   69.14,2,    5.44,2,       5.48,2, 20210413,      108,   6.8696, -53.3119,    27.6404,2,     0.0878,1,     4.4909,1,     -999.0,9,     -999.0,9,     -999.0,9,     -999.0,9
325020210316,        A20,      90,          1,          3,          3,2,20210413,       0105,     6.8700,   -53.3124,         72,    45.5,  27.6193,  36.2320,2,  36.2303,2,    186.5,2,   187.2,2,    1.56,2,    0.24,2,    0.12,2,    0.06,2,-999.000,9,-999.000,9, -999.00,9,  2061.5,2, 2372.81,2,    329.5,6,    20.00,   8.05305,2,    25.01, -999.00,9, -999.00,9, -999.00,-999.000,9,   72.10,2,    6.49,2,     -999.0,9, 20210413,      107,   6.8693, -53.3116,     -999.0,9,     0.0940,1,     4.4206,1,     -999.0,9,     -999.0,9,     -999.0,9,     -999.0,9
325020210316,        A20,      90,          1,          2,          2,2,20210413,       0105,     6.8700,   -53.3124,         72,    45.6,  27.6202,  36.2319,2,  36.2323,2,    186.6,2,   187.1,2,    1.66,2,    0.23,2,    0.12,2,    0.06,2,   1.450,2,   0.930,2,    1.52,2,  -999.0,9, -999.00,9,   -999.0,9,  -999.00,-999.00000,9,  -999.00, -999.00,9, -999.00,9, -999.00,-999.000,9, -999.00,9, -999.00,9,       6.06,2, 20210413,      107,   6.8693, -53.3116,    27.6192,2,     0.0894,1,     4.4195,1,     -999.0,9,     -999.0,9,     -999.0,9,     -999.0,9
325020210316,        A20,      90,          1,          1,          1,2,20210413,       0105,     6.8700,   -53.3124,         72,    60.5,  27.6230,  36.2319,2,  36.2305,2,    186.3,2,   186.7,2,    1.66,2,    0.24,2,    0.12,2,    0.06,2,   1.423,6,   0.930,6,    1.52,6,  2059.3,2, 2373.38,2,    329.2,2,    20.00,   8.05239,2,    24.99, -999.00,9, -999.00,9, -999.00,-999.000,9,   65.05,2,    5.38,2,       6.05,6, 20210413,      105,   6.8690, -53.3113,    27.6227,2,     0.0919,1,     4.3861,1,     -999.0,9,     -999.0,9,     -999.0,9,     -999.0,9