BOTTLE,20230512CCHSIOCBG
EXPOCODE,SECT_ID,STNNBR,CASTNO,SAMPNO,BTLNBR,BTLNBR_FLAG_W,DATE,TIME,LATITUDE,LONGITUDE,DEPTH,CTDPRS,CTDTMP,CTDSAL,CTDSAL_FLAG_W,SALNTY,SALNTY_FLAG_W,CTDOXY,CTDOXY_FLAG_W,OXYGEN,OXYGEN_FLAG_W,SILCAT,SILCAT_FLAG_W,NITRAT,NITRAT_FLAG_W,NITRIT,NITRIT_FLAG_W,PHSPHT,PHSPHT_FLAG_W,CFC-11,CFC-11_FLAG_W,CFC-12,CFC-12_FLAG_W,SF6,SF6_FLAG_W,TCARBN,TCARBN_FLAG_W,ALKALI,ALKALI_FLAG_W,FCO2,FCO2_FLAG_W,FCO2TMP,PH_TOT,PH_TOT_FLAG_W,PH_TMP,DELC13,DELC13_FLAG_W,DELC14,DELC14_FLAG_W,C14ERR,POC,POC_FLAG_W,DOC,DOC_FLAG_W,TDN,TDN_FLAG_W,N2O,N2O_FLAG_W,BTL_DATE,BTL_TIME,BTL_LAT,BTL_LON,REFTMP,REFTMP_FLAG_W,CTDFLUOR,CTDFLUOR_FLAG_W,CTDXMISS,CTDXMISS_FLAG_W,D15N_NO2+NO3,D15N_NO2+NO3_FLAG_W,D18O_NO2+NO3,D18O_NO2+NO3_FLAG_W,HPLC,HPLC_FLAG_W,MICROGELS,MICROGELS_FLAG_W
,,,,,,,,,,,METERS,DBAR,ITS-90,PSS-78,,PSS-78,,UMOL/KG,,UMOL/KG,,UMOL/KG,,UMOL/KG,,UMOL/KG,,UMOL/KG,,PMOL/KG,,PMOL/KG,,FMOL/KG,,UMOL/KG,,UMOL/KG,,UATM,,DEG C,,,DEG C,/MILLE,,/MILLE,,/MILLE,UG/KG,,UMOL/KG,,UMOL/KG,,NMOL/KG,,,,,,ITS-90,,VOLTS,,VOLTS,,/MILLE,,/MILLE,,,,1E6 GELS/L,
325020210316,        A20,      73,          1,         36,         36,2,20210410,       0858,     9.1987,   -52.3346,       4758,     5.6,  27.5310,  36.1693,2,-999.0000,9,    199.5,2,   199.1,2, -999.00,5, -999.00,5, -999.00,5, -999.00,5,   1.449,2,   0.936,2,    1.53,2,  2041.2,6, 2366.13,2,   -999.0,9,  -999.00,   8.08414,6,    24.98, -999.00,9, -999.00,9, -999.00,-999.000,9,   73.47,2,    2.60,2,       5.41,2, 20210410,     1108,   9.1987, -52.3346,    27.5285,2,     0.0446,1,     4.6328,1,     -999.0,9,     -999.0,9,     -999.0,9,     -999.0,9
325020210316,        A20,      73,          1,         35,         35,2,20210410,       0858,     9.1987,   -52.3346,       4758,    20.2,  27.5338,  36.1693,2,  36.1707,2,    199.3,2,   199.1,2,    0.88,2,    0.08,2,    0.00,2,    0.20,2,-999.000,9,-999.000,9, -999.00,9,  -999.0,9, -999.00,9,   -999.0,9,  -999.00,-999.00000,9,  -999.00, -999.00,9, -999.00,9, -999.00,-999.000,9,   71.02,2,    3.38,2,     -999.0,9, 20210410,     1106,   9.1987, -52.3346,    27.5302,2,     0.0458,1,     4.6356,1,     -999.0,9,     -999.0,9,     -999.0,9,     -999.0,9
325020210316,        A20,      73,          1,         34,         34,2,20210410,       0858,     9.1987,   -52.3346,       4758,    40.0,  27.5019,  36.1968,2,  36.1949,2,    198.8,2,   198.9,2,    0.88,2,    0.07,2,    0.00,2,    0.00,2,-999.000,9,-999.000,9, -999.00,9,  -999.0,9, -999.00,9,   -999.0,9,  -999.00,-999.00000,9,  -999.00, -999.00,9, -999.00,9, -999.00,-999.000,9,   72.17,2,    3.88,2,     -999.0,9, 20210410,     1104,   9.1987, -52.3347,    27.4986,2,     0.0470,1,     4.6400,1,     -999.0,9,     -999.0,9,     -999.0,9,     -999.0,9
325020210316,        A20,      73,          1,         33,         33,2,20210410,       0858,     9.1987,   -52.3346,       4758,    65.9,  27.4477,  36.2337,2,  36.2343,2,    197.9,2,   198.3,2,    0.88,2,    0.06,2,    0.00,2,    0.00,2,-999.000,9,-999.000,9, -999.00,9,  -999.0,9, -999.00,9,   -999.0,9,  -999.00,-999.00000,9,  -999.00, -999.00,9, -999.00,9, -999.00,-999.000,9,   70.74,2,    3.47,2,     -999.0,9, 20210410,     1102,   9.1987, -52.3347,    27.4458,2,     0.0495,1,     4.6438,1,     -999.0,9,     -999.0,9,     -999.0,9,     -999.0,9
325020210316,        A20,      73,          1,         32,         32,2,20210410,       0858,     9.1987,   -52.3346,       4758,    90.3,  27.4021,  36.2506,2,  36.2515,2,    196.4,2,   197.9,2,    0.78,2,    0.06,2,    0.00,2,    0.00,2,   1.450,2,   0.938,2,    1.57,2,  -999.0,9, -999.00,9,   -999.0,9,  -999.00,-999.00000,9,  -999.00, -999.00,9, -999.00,9, -999.00,-999.000,9,   71.00,2,    3.78,2,       5.72,2, 20210410,     1100,   9.1987, -52.3346,    27.4013,2,     0.0628,1,     4.6439,1,     -999.0,9,     -999.0,9,     -999.0,9,     -999.0,9
325020210316,        A20,      73,          1,         31,         31,2,20210410,       0858,     9.1987,   -52.3346,       4758,   134.4,  22.4479,  36.4367,2,  36.4396,2,    170.6,3,   175.2,2,    1.56,2,    4.29,2,    0.04,2,    0.36,2,-999.000,9,-999.000,9, -999.00,9,  -999.0,9, -999.00,9,   -999.0,9,  -999.00,-999.00000,9,  -999.00, -999.00,9, -999.00,9, -999.00,-999.000,9,   59.77,2,    7.50,2,     -999.0,9, 20210410,     1058,   9.1987, -52.3347,    22.3744,3,     0.0643,1,     4.6621,1,     -999.0,9,     -999.0,9,     -999.0,9,     -999.0,9
325020210316,        A20,      73,          1,         30,         30,2,20210410,       0858,     9.1987,   -52.3346,       4758,   185.8,  17.9144,  36.3161,2,  36.3180,2,    126.7,3,   131.5,2,    3.90,2,   12.63,2,    0.00,2,    0.70,2,-999.000,9,-999.000,9, -999.00,9,  2186.4,2, 2373.74,2,   -999.0,9,  -999.00,    7.8221,2,    24.99, -999.00,9, -999.00,9, -999.00,-999.000,9,   53.74,2,   14.79,2,     -999.0,9, 20210410,     1057,   9.1987, -52.3347,    17.9040,2,     0.0443,1,     4.6730,1,     -999.0,9,     -999.0,9,     -999.0,9,     -999.0,9
325020210316,        A20,      73,          1,         29,         29,2,20210410,       0858,     9.1987,   -52.3346,       4758,   237.1,  12.3186,  35.3256,2,  35.3214,2,    127.8,3,   129.1,2,    9.07,2,   21.57,2,    0.00,2,    1.35,2,   2.193,2,   1.275,2,    0.97,2,  -999.0,9, -999.00,9,   -999.0,9,  -999.00,-999.00000,9,  -999.00, -999.00,9, -999.00,9, -999.00,-999.000,9,   47.04,2,   22.82,2,      23.92,2, 20210410,     1054,   9.1987, -52.3346,    12.3204,2,     0.0413,1,     4.6747,1,     -999.0,9,     -999.0,9,     -999.0,9,     -999.0,9
325020210316,        A20,      73,          1,         28,         28,2,20210410,       0858,     9.1987,   -52.3346,       4758,   286.2,  10.6103,  35.0808,2,  35.0797,2,    123.4,2,   123.1,2,   11.70,2,   25.27,2,    0.00,2,    1.59,2,-999.000,9,-999.000,9, -999.00,9,  -999.0,9, -999.00,9,   -999.0,9,  -999.00,-999.00000,9,  -999.00, -999.00,9, -999.00,9, -999.00,-999.000,9,   45.54,2,   26.12,2,     -999.0,9, 20210410,     1053,   9.1987, -52.3346,    10.6255,2,     0.0429,1,     4.6726,1,     -999.0,9,     -999.0,9,     -999.0,9,     -999.0,9
325020210316,        A20,      73,          1,         27,         27,2,20210410,       0858,     9.1987,   -52.3346,       4758,   336.0,   9.7382,  34.9661,2,  34.9638,2,    120.8,2,   121.6,2,   13.66,2,   27.37,2,    0.00,2,    1.73,2,-999.000,9,-999.000,9, -999.00,9,  -999.0,9, -999.00,9,   -999.0,9,  -999.00,-999.00000,9,  -999.00, -999.00,9, -999.00,9, -999.00,-999.000,9,   45.07,2,   28.30,2,     -999.0,9, 20210410,     1051,   9.1987, -52.3347,     9.7840,2,     0.0423,1,     4.6714,1,     -999.0,9,     -999.0,9,     -999.0,9,     -999.0,9
325020210316,        A20,      73,          1,         26,         26,2,20210410,       0858,     9.1987,   -52.3346,       4758,   387.3,   8.9645,  34.8620,2,  34.8609,2,    118.5,2,   118.5,2,   15.22,2,   29.13,2,    0.00,2,    1.84,2,   1.794,2,   0.961,2,    0.60,2,  -999.0,9, -999.00,9,   -999.0,9,  -999.00,-999.00000,9,  -999.00, -999.00,9, -999.00,9, -999.00,-999.000,9,   47.73,2,   29.17,2,      27.21,2, 20210410,     1049,   9.1987, -52.3346,     8.9640,2,     0.0430,1,     4.6715,1,     -999.0,9,     -999.0,9,     -999.0,9,     -999.0,9
325020210316,        A20,      73,          1,         25,         25,2,20210410,       0858,     9.1987,   -52.3346,       4758,   437.4,   8.4390,  34.7941,2,  34.7956,2,    118.3,2,   118.2,2,   16.58,2,   30.41,2,    0.00,2,    1.93,2,-999.000,9,-999.000,9, -999.00,9,  -999.0,9, -999.00,9,   -999.0,9,  -999.00,-999.00000,9,  -999.00, -999.00,9, -999.00,9, -999.00,-999.000,9,   43.01,2,   30.61,2,     -999.0,9, 20210410,     1046,   9.1987, -52.3346,     8.4503,2,     0.0423,1,     4.6737,1,     -999.0,9,     -999.0,9,     -999.0,9,     -999.0,9
325020210316,        A20,      73,          1,         24,         24,2,20210410,       0858,     9.1987,   -52.3346,       4758,   489.4,   7.9169,  34.7447,2,  34.7419,2,    105.1,2,   105.4,2,   18.44,2,   33.00,2,    0.00,2,    2.10,2,   1.228,2,   0.648,2,    0.34,2,  2228.8,2, 2297.48,6,   -999.0,9,  -999.00,   7.52011,2,    24.94, -999.00,9, -999.00,9, -999.00,-999.000,9,   44.43,2,   33.04,2,      27.98,2, 20210410,     1045,   9.1987, -52.3347,     7.9143,2,     0.0432,1,     4.6776,1,     -999.0,9,     -999.0,9,     -999.0,9,     -999.0,9
325020210316,        A20,      73,          1,         23,         23,2,20210410,       0858,     9.1987,   -52.3346,       4758,   569.7,   7.2850,  34.6809,2,  34.6796,2,    116.7,2,   116.5,2,   20.19,2,   33.14,2,    0.00,2,    2.14,2,-999.000,9,-999.000,9, -999.00,9,  -999.0,9, -999.00,9,   -999.0,9,  -999.00,-999.00000,9,  -999.00, -999.00,9, -999.00,9, -999.00,-999.000,9, -999.00,9, -999.00,9,     -999.0,9, 20210410,     1042,   9.1987, -52.3346,     7.2886,2,     0.0422,1,     4.6785,1,     -999.0,9,     -999.0,9,     -999.0,9,     -999.0,9
325020210316,        A20,      73,          1,         22,         22,2,20210410,       0858,     9.1987,   -52.3346,       4758,   670.1,   6.5780,  34.6404,2,  34.6337,2,    123.6,2,   123.6,2,   23.12,2,   34.01,2,    0.00,2,    2.21,2,-999.000,9,-999.000,9, -999.00,9,  -999.0,9, -999.00,9,   -999.0,9,  -999.00,-999.00000,9,  -999.00, -999.00,9, -999.00,9, -999.00,-999.000,9, -999.00,9, -999.00,9,     -999.0,9, 20210410,     1039,   9.1987, -52.3346,     6.5735,2,     0.0433,1,     4.6792,1,     -999.0,9,     -999.0,9,     -999.0,9,     -999.0,9
325020210316,        A20,      73,          1,         21,         21,2,20210410,       0858,     9.1987,   -52.3346,       4758,   770.7,   5.9225,  34.6055,2,  34.6052,2,    127.0,2,   126.3,2,   25.66,2,   34.62,2,    0.00,2,    2.28,2,-999.000,9,-999.000,9, -999.00,9,  -999.0,9, -999.00,9,   -999.0,9,  -999.00,-999.00000,9,  -999.00, -999.00,9, -999.00,9, -999.00,-999.000,9,   43.66,2,   35.20,2,     -999.0,9, 20210410,     1036,   9.1987, -52.3346,     5.9223,2,     0.0433,1,     4.6789,1,     -999.0,9,     -999.0,9,     -999.0,9,     -999.0,9
325020210316,        A20,      73,          1,         20,         20,2,20210410,       0858,     9.1987,   -52.3346,       4758,   872.3,   5.3928,  34.6040,2,  34.6032,2,    135.2,2,   135.2,2,   27.81,2,   34.33,2,    0.00,2,    2.28,2,   0.352,2,   0.180,2,    0.10,2,  -999.0,9, -999.00,9,   -999.0,9,  -999.00,-999.00000,9,  -999.00, -999.00,9, -999.00,9, -999.00,-999.000,9, -999.00,9, -999.00,9,      24.21,2, 20210410,     1033,   9.1987, -52.3346,     5.3934,2,     0.0430,1,     4.6807,1,     -999.0,9,     -999.0,9,     -999.0,9,     -999.0,9
325020210316,        A20,      73,          1,         19,         19,2,20210410,       0858,     9.1987,   -52.3346,       4758,   973.2,   5.1756,  34.6381,2,  34.6368,2,    139.8,2,   139.5,2,   28.49,2,   33.84,2,    0.00,2,    2.25,2,-999.000,9,-999.000,9, -999.00,9,  -999.0,9, -999.00,9,   -999.0,9,  -999.00,-999.00000,9,  -999.00, -999.00,9, -999.00,9, -999.00,-999.000,9,   42.65,2,   34.67,2,     -999.0,9, 20210410,     1030,   9.1987, -52.3346,     5.1748,2,     0.0435,1,     4.6814,1,     -999.0,9,     -999.0,9,     -999.0,9,     -999.0,9
325020210316,        A20,      73,          1,         18,         18,2,20210410,       0858,     9.1987,   -52.3346,       4758,  1073.0,   5.0321,  34.7159,2,  34.7146,2,    151.4,2,   151.3,2,   27.71,2,   31.79,2,    0.00,2,    2.13,2,-999.000,9,-999.000,9, -999.00,9,  -999.0,9, -999.00,9,   -999.0,9,  -999.00,-999.00000,9,  -999.00, -999.00,9, -999.00,9, -999.00,-999.000,9, -999.00,9, -999.00,9,     -999.0,9, 20210410,     1027,   9.1987, -52.3346,     5.0273,2,     0.0434,1,     4.6813,1,     -999.0,9,     -999.0,9,     -999.0,9,     -999.0,9
325020210316,        A20,      73,          1,         17,         17,2,20210410,       0858,     9.1987,   -52.3346,       4758,  1174.1,   4.9602,  34.8033,2,  34.8027,2,    165.8,2,   166.3,2,   25.36,2,   29.30,2,    0.00,2,    1.96,2,   0.217,2,   0.118,2,    0.15,2,  -999.0,9, -999.00,9,   -999.0,9,  -999.00,-999.00000,9,  -999.00, -999.00,9, -999.00,9, -999.00,-999.000,9, -999.00,9, -999.00,9,      20.35,2, 20210410,     1023,   9.1987, -52.3347,     4.9597,2,     0.0428,1,     4.6827,1,     -999.0,9,     -999.0,9,     -999.0,9,     -999.0,9
325020210316,        A20,      73,          1,         16,         16,2,20210410,       0858,     9.1987,   -52.3346,       4758,  1277.6,   5.2258,  34.9406,2,  34.9193,3,    189.1,3,   185.5,2,   21.17,2,   25.82,2,    0.00,2,    1.71,2,-999.000,9,-999.000,9, -999.00,9,  -999.0,9, -999.00,9,   -999.0,9,  -999.00,-999.00000,9,  -999.00, -999.00,9, -999.00,9, -999.00,-999.000,9,   44.54,2,   27.12,2,     -999.0,9, 20210410,     1020,   9.1987, -52.3347,     5.2250,2,     0.0429,1,     4.6841,1,     -999.0,9,     -999.0,9,     -999.0,9,     -999.0,9
325020210316,        A20,      73,          1,         15,         15,2,20210410,       0858,     9.1987,   -52.3346,       4758,  1377.9,   4.8056,  34.9383,2,  34.9368,2,    202.8,2,   203.2,2,   20.00,2,   23.99,2,    0.00,2,    1.60,2,-999.000,9,-999.000,9, -999.00,9,  -999.0,9, -999.00,9,   -999.0,9,  -999.00,-999.00000,9,  -999.00, -999.00,9, -999.00,9, -999.00,-999.000,9, -999.00,9, -999.00,9,     -999.0,9, 20210410,     1017,   9.1987, -52.3346,     4.8052,2,     0.0420,1,     4.6833,1,     -999.0,9,     -999.0,9,     -999.0,9,     -999.0,9
325020210316,        A20,      73,          1,         14,         14,2,20210410,       0858,     9.1987,   -52.3346,       4758,  1479.2,   4.8643,  34.9951,2,  34.9969,2,    221.5,2,   221.7,2,   16.68,2,   21.18,2,    0.00,2,    1.40,2,   1.291,2,   0.647,2,    0.38,2,  -999.0,9, -999.00,9,   -999.0,9,  -999.00,-999.00000,9,  -999.00, -999.00,9, -999.00,9, -999.00,-999.000,9, -999.00,9, -999.00,9,      15.77,2, 20210410,     1014,   9.1987, -52.3347,     4.8640,2,     0.0430,1,     4.6839,1,     -999.0,9,     -999.0,9,     -999.0,9,     -999.0,9
325020210316,        A20,      73,          1,         13,         13,2,20210410,       0858,     9.1987,   -52.3346,       4758,  1580.3,   4.6191,  35.0031,2,  35.0028,2,    235.5,2,   235.2,2,   15.41,2,   19.83,2,    0.00,2,    1.31,2,-999.000,9,-999.000,9, -999.00,9,  -999.0,9, -999.00,9,   -999.0,9,  -999.00,-999.00000,9,  -999.00, -999.00,9, -999.00,9, -999.00,-999.000,9,   45.51,2,   21.29,2,     -999.0,9, 20210410,     1009,   9.1987, -52.3346,     4.6173,2,     0.0429,1,     4.6824,1,     -999.0,9,     -999.0,9,     -999.0,9,     -999.0,9
325020210316,        A20,      73,          1,         12,         12,2,20210410,       0858,     9.1987,   -52.3346,       4758,  1752.8,   4.2510,  34.9995,2,  34.9994,2,    252.7,2,   252.3,2,   13.75,2,   18.43,2,    0.00,2,    1.21,2,-999.000,9,-999.000,9, -999.00,9,  -999.0,9, -999.00,9,   -999.0,9,  -999.00,-999.00000,9,  -999.00, -999.00,9, -999.00,9, -999.00,-999.000,9, -999.00,9, -999.00,9,     -999.0,9, 20210410,     1005,   9.1987, -52.3346,     4.2506,2,     0.0428,1,     4.6906,1,     -999.0,9,     -999.0,9,     -999.0,9,     -999.0,9
325020210316,        A20,      73,          1,         11,         11,2,20210410,       0858,     9.1987,   -52.3346,       4758,  1954.5,   3.8479,  34.9803,2,  34.9797,2,    257.3,2,   257.4,2,   15.12,2,   18.31,2,    0.00,2,    1.21,2,   1.477,2,   0.717,2,    0.32,2,  2171.4,2, 2312.13,2,   -999.0,9,  -999.00,   7.72784,2,    24.97, -999.00,9, -999.00,9, -999.00,-999.000,9,   45.56,2,   19.72,2,      13.30,2, 20210410,     1000,   9.1987, -52.3346,     3.8474,2,     0.0429,1,     4.6883,1,     -999.0,9,     -999.0,9,     -999.0,9,     -999.0,9
325020210316,        A20,      73,          1,         10,         10,2,20210410,       0858,     9.1987,   -52.3346,       4758,  2187.4,   3.5189,  34.9661,2,  34.9652,2,    258.1,2,   258.1,2,   17.85,2,   18.54,2,    0.00,2,    1.23,2,-999.000,9,-999.000,9, -999.00,9,  -999.0,9, -999.00,9,   -999.0,9,  -999.00,-999.00000,9,  -999.00, -999.00,9, -999.00,9, -999.00,-999.000,9, -999.00,9, -999.00,9,     -999.0,9, 20210410,      955,   9.1987, -52.3347,     3.5184,2,     0.0412,1,     4.6875,1,     -999.0,9,     -999.0,9,     -999.0,9,     -999.0,9
325020210316,        A20,      73,          1,          9,          9,2,20210410,       0858,     9.1987,   -52.3346,       4758,  2441.7,   3.2690,  34.9552,2,  34.9540,2,    260.2,2,   260.1,2,   19.51,2,   18.41,2,    0.00,2,    1.23,2,   0.886,2,   0.434,2,    0.19,2,  -999.0,9, -999.00,9,   -999.0,9,  -999.00,-999.00000,9,  -999.00, -999.00,9, -999.00,9, -999.00,-999.000,9,   45.25,2,   19.07,2,      13.19,2, 20210410,      949,   9.1987, -52.3346,     3.2691,2,     0.0426,1,     4.6874,1,     -999.0,9,     -999.0,9,     -999.0,9,     -999.0,9
325020210316,        A20,      73,          1,          8,          8,2,20210410,       0858,     9.1987,   -52.3346,       4758,  2696.3,   3.0650,  34.9452,2,  34.9445,2,    261.4,2,   261.6,2,   21.26,2,   18.45,2,    0.00,2,    1.23,2,-999.000,9,-999.000,9, -999.00,9,  -999.0,9, -999.00,9,   -999.0,9,  -999.00,-999.00000,9,  -999.00, -999.00,9, -999.00,9, -999.00,-999.000,9, -999.00,9, -999.00,9,     -999.0,9, 20210410,      943,   9.1987, -52.3346,     3.0655,2,     0.0428,1,     4.6872,1,     -999.0,9,     -999.0,9,     -999.0,9,     -999.0,9
325020210316,        A20,      73,          1,          7,          7,2,20210410,       0858,     9.1987,   -52.3346,       4758,  2953.5,   2.8753,  34.9336,2,  34.9325,2,    262.3,2,   262.4,2,   23.21,2,   18.51,2,    0.00,2,    1.24,2,   0.818,2,   0.417,2,    0.23,2,  -999.0,9, -999.00,9,   -999.0,9,  -999.00,-999.00000,9,  -999.00, -999.00,9, -999.00,9, -999.00,-999.000,9, -999.00,1, -999.00,1,      13.03,2, 20210410,      938,   9.1987, -52.3347,     2.8754,2,     0.0430,1,     4.6891,1,     -999.0,9,     -999.0,9,     -999.0,9,     -999.0,9
325020210316,        A20,      73,          1,          6,          6,2,20210410,       0858,     9.1987,   -52.3346,       4758,  3242.4,   2.7071,  34.9227,2,  34.9205,3,    252.2,2,   252.4,2,   33.26,2,   20.22,2,    0.00,2,    1.37,2,-999.000,9,-999.000,9, -999.00,9,  -999.0,9, -999.00,9,   -999.0,9,  -999.00,-999.00000,9,  -999.00, -999.00,9, -999.00,9, -999.00,-999.000,9,   45.90,2,   19.85,2,     -999.0,9, 20210410,      931,   9.1987, -52.3347,     2.7071,2,     0.0424,1,     4.6919,1,     -999.0,9,     -999.0,9,     -999.0,9,     -999.0,9
325020210316,        A20,      73,          1,          5,          5,2,20210410,       0858,     9.1987,   -52.3346,       4758,  3548.9,   2.5350,  34.9091,2,  34.9097,2,    255.8,2,   255.7,2,   34.24,2,   20.24,2,    0.00,2,    1.37,2,   0.341,2,   0.175,2,    0.13,2,  -999.0,9, -999.00,9,   -999.0,9,  -999.00,-999.00000,9,  -999.00, -999.00,9, -999.00,9, -999.00,-999.000,9,   43.85,2,   21.67,2,      13.39,2, 20210410,      924,   9.1987, -52.3347,     2.5349,2,     0.0429,1,     4.6904,1,     -999.0,9,     -999.0,9,     -999.0,9,     -999.0,9
325020210316,        A20,      73,          1,          4,          4,2,20210410,       0858,     9.1987,   -52.3346,       4758,  3856.3,   2.3863,  34.8989,2,  34.8991,2,    262.3,2,   262.0,2,   31.70,2,   19.28,2,    0.00,2,    1.31,2,-999.000,9,-999.000,9, -999.00,9,  -999.0,9, -999.00,9,   -999.0,9,  -999.00,-999.00000,9,  -999.00, -999.00,9, -999.00,9, -999.00,-999.000,9,   45.20,2,   20.59,2,     -999.0,9, 20210410,      918,   9.1987, -52.3347,     2.3863,2,     0.0425,1,     4.6904,1,     -999.0,9,     -999.0,9,     -999.0,9,     -999.0,9
325020210316,        A20,      73,          1,          3,          3,2,20210410,       0858,     9.1987,   -52.3346,       4758,  4164.5,   2.2728,  34.8877,2,  34.8898,3,    261.1,2,   261.0,2,   35.31,2,   19.61,2,    0.00,2,    1.33,2,   0.599,2,   0.296,2,    0.16,2,  2187.9,2, 2329.31,2,   -999.0,9,  -999.00,    7.7309,6,    25.01, -999.00,9, -999.00,9, -999.00,-999.000,9,   44.74,2,   20.49,2,      13.88,2, 20210410,      912,   9.1987, -52.3347,     2.2727,2,     0.0432,1,     4.6908,1,     -999.0,9,     -999.0,9,     -999.0,9,     -999.0,9