BOTTLE,20230512CCHSIOCBG
EXPOCODE,SECT_ID,STNNBR,CASTNO,SAMPNO,BTLNBR,BTLNBR_FLAG_W,DATE,TIME,LATITUDE,LONGITUDE,DEPTH,CTDPRS,CTDTMP,CTDSAL,CTDSAL_FLAG_W,SALNTY,SALNTY_FLAG_W,CTDOXY,CTDOXY_FLAG_W,OXYGEN,OXYGEN_FLAG_W,SILCAT,SILCAT_FLAG_W,NITRAT,NITRAT_FLAG_W,NITRIT,NITRIT_FLAG_W,PHSPHT,PHSPHT_FLAG_W,CFC-11,CFC-11_FLAG_W,CFC-12,CFC-12_FLAG_W,SF6,SF6_FLAG_W,TCARBN,TCARBN_FLAG_W,ALKALI,ALKALI_FLAG_W,FCO2,FCO2_FLAG_W,FCO2TMP,PH_TOT,PH_TOT_FLAG_W,PH_TMP,DELC13,DELC13_FLAG_W,DELC14,DELC14_FLAG_W,C14ERR,POC,POC_FLAG_W,DOC,DOC_FLAG_W,TDN,TDN_FLAG_W,N2O,N2O_FLAG_W,BTL_DATE,BTL_TIME,BTL_LAT,BTL_LON,REFTMP,REFTMP_FLAG_W,CTDFLUOR,CTDFLUOR_FLAG_W,CTDXMISS,CTDXMISS_FLAG_W,D15N_NO2+NO3,D15N_NO2+NO3_FLAG_W,D18O_NO2+NO3,D18O_NO2+NO3_FLAG_W,HPLC,HPLC_FLAG_W,MICROGELS,MICROGELS_FLAG_W
,,,,,,,,,,,METERS,DBAR,ITS-90,PSS-78,,PSS-78,,UMOL/KG,,UMOL/KG,,UMOL/KG,,UMOL/KG,,UMOL/KG,,UMOL/KG,,PMOL/KG,,PMOL/KG,,FMOL/KG,,UMOL/KG,,UMOL/KG,,UATM,,DEG C,,,DEG C,/MILLE,,/MILLE,,/MILLE,UG/KG,,UMOL/KG,,UMOL/KG,,NMOL/KG,,,,,,ITS-90,,VOLTS,,VOLTS,,/MILLE,,/MILLE,,,,1E6 GELS/L,
325020210316,        A20,      86,          1,         17,         17,2,20210412,       1615,     7.1498,   -53.1894,        254,     5.1,  28.1763,  29.1736,2,  26.0219,3,    232.7,3,   239.9,2,   14.20,2,    0.02,2,    0.00,2,    0.00,2,   1.471,6,   0.987,6,    1.56,6,  1500.4,6, 1785.91,2,    157.8,2,    20.00,   8.27209,2,    24.99, -999.00,9, -999.00,9, -999.00,-999.000,9,  120.01,2,    5.12,2,       5.85,6, 20210412,     1640,   7.1498, -53.1894,    28.1465,2,     0.1706,1,     4.4071,1,     -999.0,9,     -999.0,9,     -999.0,9,     -999.0,9
325020210316,        A20,      86,          1,         16,         16,2,20210412,       1615,     7.1498,   -53.1894,        254,    20.0,  28.0956,  35.6701,2,  35.6684,2,    196.6,3,   193.6,2,    1.17,2,    0.00,2,    0.00,2,    0.03,2,-999.000,9,-999.000,9, -999.00,9,  2020.4,2, -999.00,9,    313.5,2,    20.00,   8.07176,6,    24.98, -999.00,9, -999.00,9, -999.00,-999.000,9,   70.57,2,    4.05,2,     -999.0,9, 20210412,     1638,   7.1498, -53.1894,    28.0960,2,     0.0807,1,     4.5878,1,     -999.0,9,     -999.0,9,     -999.0,9,     -999.0,9
325020210316,        A20,      86,          1,         15,         15,2,20210412,       1615,     7.1498,   -53.1894,        254,    36.2,  28.1397,  35.7970,2,  35.7912,2,    192.1,2,   190.8,2,    1.07,2,    0.02,2,    0.00,2,    0.04,2,   1.358,2,   0.913,2,    1.48,2,  2028.2,2,  2343.8,6,   -999.0,9,  -999.00,   8.06754,2,    24.99, -999.00,9, -999.00,9, -999.00,-999.000,9,   70.18,2,    4.49,2,       5.50,2, 20210412,     1636,   7.1497, -53.1895,    28.1387,2,     0.0772,1,     4.6171,1,     -999.0,9,     -999.0,9,     -999.0,9,     -999.0,9
325020210316,        A20,      86,          1,         14,         14,2,20210412,       1615,     7.1498,   -53.1894,        254,    51.1,  28.1743,  36.1282,2,  36.0829,3,    194.2,2,   192.8,2,    0.78,2,    0.02,2,    0.00,2,    0.02,2,-999.000,9,-999.000,9, -999.00,9,  2042.6,2, -999.00,9,    316.3,6,    20.00,   8.07149,2,    24.99, -999.00,9, -999.00,9, -999.00,-999.000,9,   72.18,2,    4.71,2,     -999.0,9, 20210412,     1634,   7.1497, -53.1895,    28.1737,2,     0.0604,1,     4.6344,1,     -999.0,9,     -999.0,9,     -999.0,9,     -999.0,9
325020210316,        A20,      86,          1,         13,         13,2,20210412,       1615,     7.1498,   -53.1894,        254,    66.2,  27.8041,  36.1806,2,  36.1856,2,    199.1,3,   194.9,2,    0.68,2,    0.04,2,    0.01,2,    0.02,2,-999.000,9,-999.000,9, -999.00,9,  2043.6,2, -999.00,9,   -999.0,9,  -999.00,   8.07411,2,    25.03, -999.00,9, -999.00,9, -999.00,-999.000,9,   70.57,2,    4.30,2,     -999.0,9, 20210412,     1633,   7.1497, -53.1895,    27.8020,2,     0.0609,1,     4.6370,1,     -999.0,9,     -999.0,9,     -999.0,9,     -999.0,9
325020210316,        A20,      86,          1,         12,         12,2,20210412,       1615,     7.1498,   -53.1894,        254,    81.2,  27.7346,  36.2051,2,  36.1882,2,    197.4,3,   195.2,2,    0.58,2,    0.03,2,    0.00,2,    0.02,2,   1.370,2,   0.923,2,    1.47,2,  2042.9,2, 2369.34,2,   -999.0,9,  -999.00,   8.07641,2,    25.01, -999.00,9, -999.00,9, -999.00,-999.000,9,   70.16,2,    4.13,2,       5.57,2, 20210412,     1631,   7.1497, -53.1895,    27.7344,2,     0.0543,1,     4.6513,1,     -999.0,9,     -999.0,9,     -999.0,9,     -999.0,9
325020210316,        A20,      86,          1,         11,         11,2,20210412,       1615,     7.1498,   -53.1894,        254,    95.5,  27.4616,  36.2615,2,  36.2550,2,    194.6,2,   194.1,2,    0.78,2,    0.11,2,    0.05,2,    0.03,2,-999.000,9,-999.000,9, -999.00,9,  2053.7,2, -999.00,9,    320.2,2,    20.00,   8.06963,2,    25.01, -999.00,9, -999.00,9, -999.00,-999.000,9,   70.77,2,    4.26,2,     -999.0,9, 20210412,     1630,   7.1496, -53.1896,    27.4641,2,     0.0547,1,     4.6541,1,     -999.0,9,     -999.0,9,     -999.0,9,     -999.0,9
325020210316,        A20,      86,          1,         10,         10,2,20210412,       1615,     7.1498,   -53.1894,        254,   109.6,  26.2050,  36.5474,2,  36.5466,2,    188.7,2,   190.3,2,    0.88,2,    0.35,2,    0.29,2,    0.10,2,-999.000,9,-999.000,9, -999.00,9,  2084.9,2, -999.00,9,   -999.0,9,  -999.00,   8.04282,2,    25.02, -999.00,9, -999.00,9, -999.00,-999.000,9,   66.61,2,    4.80,2,     -999.0,9, 20210412,     1628,   7.1496, -53.1896,    26.2022,2,     0.0594,1,     4.6578,1,     -999.0,9,     -999.0,9,     -999.0,9,     -999.0,9
325020210316,        A20,      86,          1,          9,          9,2,20210412,       1615,     7.1498,   -53.1894,        254,   125.7,  20.9704,  36.4233,2,  36.3996,3,    153.3,3,   159.9,2,    2.73,2,    6.74,2,    0.02,2,    0.46,2,   1.879,2,   1.194,2,    1.44,2,  2144.7,2, 2383.48,2,    476.3,2,    20.00,   7.91951,2,    25.02, -999.00,9, -999.00,9, -999.00,-999.000,9,   56.14,2,    9.07,2,      11.40,2, 20210412,     1625,   7.1496, -53.1897,    20.9744,2,     0.0513,1,     4.6607,1,     -999.0,9,     -999.0,9,     -999.0,9,     -999.0,9
325020210316,        A20,      86,          1,          8,          8,2,20210412,       1615,     7.1498,   -53.1894,        254,   140.9,  18.0115,  35.9491,2,  35.9493,2,    174.7,3,   172.8,2,    3.02,2,    8.32,2,    0.01,2,    0.64,2,-999.000,9,-999.000,9, -999.00,9,  2143.9,2, -999.00,9,    521.3,2,    20.00,    7.8808,2,    25.01, -999.00,9, -999.00,9, -999.00,-999.000,9,   54.14,2,   10.31,2,     -999.0,9, 20210412,     1625,   7.1495, -53.1897,    18.0100,2,     0.0474,1,     4.6690,1,     -999.0,9,     -999.0,9,     -999.0,9,     -999.0,9
325020210316,        A20,      86,          1,          7,          7,2,20210412,       1615,     7.1498,   -53.1894,        254,   156.3,  17.4929,  35.8755,2,  35.8759,2,    174.7,3,   172.6,2,    3.22,2,    8.93,2,    0.00,2,    0.67,2,-999.000,9,-999.000,9, -999.00,9,  -999.0,9, -999.00,9,   -999.0,9,  -999.00,-999.00000,9,  -999.00, -999.00,9, -999.00,9, -999.00,-999.000,9,   53.34,2,   11.20,2,     -999.0,9, 20210412,     1623,   7.1495, -53.1897,    17.4807,2,     0.0461,1,     4.6714,1,     -999.0,9,     -999.0,9,     -999.0,9,     -999.0,9
325020210316,        A20,      86,          1,          6,          6,2,20210412,       1615,     7.1498,   -53.1894,        254,   171.8,  17.0542,  35.8231,2,  35.8194,2,    173.7,3,   171.7,2,    3.51,2,    9.57,2,    0.00,2,    0.71,2,   2.160,2,   1.387,2,    1.38,2,  2147.9,2,  2353.0,2,    550.0,2,    20.00,   7.86021,2,    25.01, -999.00,9, -999.00,9, -999.00,-999.000,9,   54.70,2,   11.35,2,      12.65,2, 20210412,     1622,   7.1495, -53.1897,    17.0538,2,     0.0445,1,     4.6709,1,     -999.0,9,     -999.0,9,     -999.0,9,     -999.0,9
325020210316,        A20,      86,          1,          5,          5,2,20210412,       1615,     7.1498,   -53.1894,        254,   184.6,  15.8091,  35.8435,2,  35.8131,3,    142.5,3,   151.8,2,    5.17,2,   13.14,2,    0.00,2,    0.87,2,-999.000,9,-999.000,9, -999.00,9,  2168.5,2, -999.00,9,    621.4,2,    20.00,   7.81071,2,    25.01, -999.00,9, -999.00,9, -999.00,-999.000,9,   51.94,2,   14.33,2,     -999.0,9, 20210412,     1620,   7.1495, -53.1897,    15.7286,2,     0.0415,1,     4.6398,1,     -999.0,9,     -999.0,9,     -999.0,9,     -999.0,9
325020210316,        A20,      86,          1,          4,          4,2,20210412,       1615,     7.1498,   -53.1894,        254,   200.1,  15.2458,  35.8581,2,  35.8578,2,    134.9,3,   131.0,2,    6.73,2,   16.50,2,    0.00,2,    1.00,2,   2.043,2,   1.279,2,    1.17,2,  -999.0,9, -999.00,9,   -999.0,9,  -999.00,-999.00000,9,  -999.00, -999.00,9, -999.00,9, -999.00,-999.000,9,   52.71,2,   19.44,2,      18.51,2, 20210412,     1619,   7.1494, -53.1898,    15.2355,2,     0.0404,1,     4.6108,1,     -999.0,9,     -999.0,9,     -999.0,9,     -999.0,9
325020210316,        A20,      86,          1,          3,          3,2,20210412,       1615,     7.1498,   -53.1894,        254,   215.6,  14.2439,  35.6814,2,  35.7051,3,    133.6,3,   130.0,2,    7.41,2,   17.88,2,    0.00,2,    1.10,2,-999.000,9,-999.000,9, -999.00,9,  2192.8,2, -999.00,9,    734.8,2,    20.00,   7.74257,6,    25.03, -999.00,9, -999.00,9, -999.00,-999.000,9,   54.40,2,   21.15,2,     -999.0,9, 20210412,     1617,   7.1494, -53.1899,     -999.0,9,     0.0396,1,     4.6140,1,     -999.0,9,     -999.0,9,     -999.0,9,     -999.0,9
325020210316,        A20,      86,          1,          2,          2,2,20210412,       1615,     7.1498,   -53.1894,        254,   215.7,  14.3307,  35.6938,2,  35.7021,2,    133.5,3,   130.9,2,    7.41,2,   17.86,2,    0.00,2,    1.10,2,-999.000,9,-999.000,9, -999.00,9,  -999.0,9, -999.00,9,   -999.0,9,  -999.00,-999.00000,9,  -999.00, -999.00,9, -999.00,9, -999.00,-999.000,9, -999.00,9, -999.00,9,     -999.0,9, 20210412,     1617,   7.1494, -53.1899,    14.2675,2,     0.0400,1,     4.6131,1,     -999.0,9,     -999.0,9,     -999.0,9,     -999.0,9
325020210316,        A20,      86,          1,          1,          1,2,20210412,       1615,     7.1498,   -53.1894,        254,   248.2,  11.9645,  35.2991,2,  35.3788,3,    124.6,3,   127.9,2,   10.53,2,   21.06,2,    0.05,2,    1.36,2,   2.043,2,   1.246,2,    0.86,2,  2194.1,2, 2328.44,2,    829.1,2,    20.00,   7.68735,2,    25.05, -999.00,9, -999.00,9, -999.00,-999.000,9,   46.59,2,   21.85,2,      22.22,2, 20210412,     1615,   7.1494, -53.1898,    12.0032,3,     0.0412,1,     4.4673,1,     -999.0,9,     -999.0,9,     -999.0,9,     -999.0,9
325020210316,        A20,      87,          1,         14,         14,2,20210412,       1835,     7.0808,   -53.2200,        201,     5.2,  28.4957,  24.4962,2,  21.9701,3,    287.1,2,   287.0,2,   18.97,2,    0.00,2,    0.00,2,    0.00,2,-999.000,9,-999.000,9, -999.00,9,  1248.4,6, 1556.79,2,     96.2,2,    20.00,    8.4217,2,    24.99, -999.00,9, -999.00,9, -999.00,-999.000,9,  133.09,2,    5.61,2,     -999.0,9, 20210412,     1854,   7.0808, -53.2200,    28.5006,2,     0.3899,1,     4.3117,1,     -999.0,9,     -999.0,9,     -999.0,9,     -999.0,9
325020210316,        A20,      87,          1,         13,         13,2,20210412,       1835,     7.0808,   -53.2200,        201,    25.7,  28.1154,  35.5871,2,  35.5774,2,    192.8,2,   192.0,2,    1.37,2,    0.00,2,    0.00,2,    0.04,2,-999.000,9,-999.000,9, -999.00,9,  2022.5,2, -999.00,9,    314.8,2,    20.00,    8.0705,6,    24.99, -999.00,9, -999.00,9, -999.00,-999.000,9,   66.10,2,    4.38,2,     -999.0,9, 20210412,     1852,   7.0808, -53.2200,    28.1143,2,     0.0812,1,     4.5900,1,     -999.0,9,     -999.0,9,     -999.0,9,     -999.0,9
325020210316,        A20,      87,          1,         12,         12,2,20210412,       1835,     7.0808,   -53.2200,        201,    40.3,  28.1967,  35.8031,2,  35.8034,2,    192.0,2,   191.7,2,    1.46,2,    0.00,2,    0.02,2,    0.05,2,-999.000,9,-999.000,9, -999.00,9,  -999.0,9, -999.00,9,   -999.0,9,  -999.00,-999.00000,9,  -999.00, -999.00,9, -999.00,9, -999.00,-999.000,9,   67.11,2,    4.64,2,     -999.0,9, 20210412,     1851,   7.0808, -53.2200,    28.1961,2,     0.0804,1,     4.6170,1,     -999.0,9,     -999.0,9,     -999.0,9,     -999.0,9
325020210316,        A20,      87,          1,         11,         11,2,20210412,       1835,     7.0808,   -53.2200,        201,    55.5,  27.9618,  36.0597,2,  36.0596,2,    189.0,2,   188.8,2,    1.17,2,    0.04,2,    0.14,2,    0.05,2,-999.000,9,-999.000,9, -999.00,9,  2049.0,2, 2358.75,6,    326.9,2,    20.00,   8.06103,2,    25.03, -999.00,9, -999.00,9, -999.00,-999.000,9,   68.62,2,    4.39,2,     -999.0,9, 20210412,     1849,   7.0807, -53.2200,    27.9599,2,     0.0903,1,     4.5927,1,     -999.0,9,     -999.0,9,     -999.0,9,     -999.0,9
325020210316,        A20,      87,          1,         10,         10,2,20210412,       1835,     7.0808,   -53.2200,        201,    71.7,  27.7026,  36.2087,2,  36.2006,2,    192.6,2,   193.0,2,    0.97,2,    0.06,2,    0.04,2,    0.04,2,-999.000,9,-999.000,9, -999.00,9,  -999.0,9, -999.00,9,   -999.0,9,  -999.00,-999.00000,9,  -999.00, -999.00,9, -999.00,9, -999.00,-999.000,9,   67.11,2,    4.62,2,     -999.0,9, 20210412,     1847,   7.0806, -53.2201,    27.7006,2,     0.0549,1,     4.6272,1,     -999.0,9,     -999.0,9,     -999.0,9,     -999.0,9
325020210316,        A20,      87,          1,          9,          9,2,20210412,       1835,     7.0808,   -53.2200,        201,    85.4,  27.2707,  36.2810,2,  36.2675,2,    192.5,2,   193.4,2,    1.07,2,    0.14,2,    0.09,2,    0.06,2,-999.000,9,-999.000,9, -999.00,9,  -999.0,9, -999.00,9,   -999.0,9,  -999.00,-999.00000,9,  -999.00, -999.00,9, -999.00,9, -999.00,-999.000,9,   68.71,2,    4.55,2,     -999.0,9, 20210412,     1846,   7.0806, -53.2201,    27.2725,2,     0.0513,1,     4.6417,1,     -999.0,9,     -999.0,9,     -999.0,9,     -999.0,9
325020210316,        A20,      87,          1,          8,          8,2,20210412,       1835,     7.0808,   -53.2200,        201,   100.7,  24.7081,  36.5399,2,  36.5339,2,    181.7,2,   182.6,2,    1.46,2,    2.08,2,    0.19,2,    0.22,2,-999.000,9,-999.000,9, -999.00,9,  2105.5,2, 2392.46,2,    377.3,2,    20.00,   8.01138,2,    24.95, -999.00,9, -999.00,9, -999.00,-999.000,9,   60.41,2,    5.78,2,     -999.0,9, 20210412,     1844,   7.0805, -53.2201,    24.7382,2,     0.0517,1,     4.6587,1,     -999.0,9,     -999.0,9,     -999.0,9,     -999.0,9
325020210316,        A20,      87,          1,          7,          7,2,20210412,       1835,     7.0808,   -53.2200,        201,   115.4,  22.4936,  36.4409,2,  36.4370,2,    170.1,2,   169.9,2,    2.24,2,    4.82,2,    0.08,2,    0.39,2,-999.000,9,-999.000,9, -999.00,9,  -999.0,9, -999.00,9,   -999.0,9,  -999.00,-999.00000,9,  -999.00, -999.00,9, -999.00,9, -999.00,-999.000,9,   60.80,2,    9.73,2,     -999.0,9, 20210412,     1842,   7.0804, -53.2202,    22.4936,2,     0.0527,1,     4.6483,1,     -999.0,9,     -999.0,9,     -999.0,9,     -999.0,9
325020210316,        A20,      87,          1,          6,          6,2,20210412,       1835,     7.0808,   -53.2200,        201,   131.2,  20.3438,  36.2176,2,  36.2313,2,    164.4,2,   163.3,2,    3.61,2,    7.32,2,    0.16,2,    0.55,2,-999.000,9,-999.000,9, -999.00,9,  -999.0,9, -999.00,9,   -999.0,9,  -999.00,-999.00000,9,  -999.00, -999.00,9, -999.00,9, -999.00,-999.000,9,   56.57,2,    9.21,2,     -999.0,9, 20210412,     1840,   7.0804, -53.2202,    20.3170,2,     0.0522,1,     4.5728,1,     -999.0,9,     -999.0,9,     -999.0,9,     -999.0,9
325020210316,        A20,      87,          1,          5,          5,2,20210412,       1835,     7.0808,   -53.2200,        201,   145.6,  18.8692,  36.0864,2,  36.0877,2,    162.8,2,   162.4,2,    3.80,2,    8.82,2,    0.11,2,    0.65,2,-999.000,9,-999.000,9, -999.00,9,  2151.2,2, 2365.69,2,    521.2,2,    20.00,   7.88299,6,    25.02, -999.00,9, -999.00,9, -999.00,-999.000,9,   53.07,2,   11.20,2,     -999.0,9, 20210412,     1839,   7.0803, -53.2203,    18.8907,2,     0.0505,1,     4.5779,1,     -999.0,9,     -999.0,9,     -999.0,9,     -999.0,9
325020210316,        A20,      87,          1,          4,          4,2,20210412,       1835,     7.0808,   -53.2200,        201,   161.2,  17.7588,  35.9646,2,  35.9617,2,    161.4,2,   161.6,2,    4.29,2,    9.94,2,    0.10,2,    0.73,2,-999.000,9,-999.000,9, -999.00,9,  -999.0,9, -999.00,9,   -999.0,9,  -999.00,-999.00000,9,  -999.00, -999.00,9, -999.00,9, -999.00,-999.000,9,   53.29,2,   11.55,2,     -999.0,9, 20210412,     1838,   7.0803, -53.2203,    17.7590,2,     0.0455,1,     4.5707,1,     -999.0,9,     -999.0,9,     -999.0,9,     -999.0,9
325020210316,        A20,      87,          1,          2,          2,2,20210412,       1835,     7.0808,   -53.2200,        201,   175.6,  15.9579,  35.8425,2,  35.8406,2,    140.6,2,   141.2,2,    6.73,2,   14.45,2,    0.11,2,    0.97,2,-999.000,9,-999.000,9, -999.00,9,  -999.0,9, -999.00,9,   -999.0,9,  -999.00,-999.00000,9,  -999.00, -999.00,9, -999.00,9, -999.00,-999.000,9, -999.00,9, -999.00,9,     -999.0,9, 20210412,     1836,   7.0802, -53.2203,    15.9302,2,     0.0436,1,     4.4697,1,     -999.0,9,     -999.0,9,     -999.0,9,     -999.0,9
325020210316,        A20,      87,          1,          3,          3,2,20210412,       1835,     7.0808,   -53.2200,        201,   175.8,  15.9533,  35.8424,2,  35.8422,2,    140.3,2,   141.2,2,    6.73,2,   14.35,2,    0.12,2,    0.96,2,-999.000,9,-999.000,9, -999.00,9,  2181.0,2, 2351.27,2,    650.9,2,    20.00,   7.79314,2,    25.00, -999.00,9, -999.00,9, -999.00,-999.000,9,   49.08,2,   15.43,2,     -999.0,9, 20210412,     1836,   7.0802, -53.2203,     -999.0,9,     0.0414,1,     4.4645,1,     -999.0,9,     -999.0,9,     -999.0,9,     -999.0,9
325020210316,        A20,      87,          1,          1,          1,2,20210412,       1835,     7.0808,   -53.2200,        201,   191.4,  14.7925,  35.7386,2,  35.7432,2,    131.1,2,   130.2,2,    8.38,2,   17.15,2,    0.11,2,    1.10,2,-999.000,9,-999.000,9, -999.00,9,  2188.5,2, 2345.51,2,    717.0,2,    20.00,   7.74986,2,    25.01, -999.00,9, -999.00,9, -999.00,-999.000,9,   48.21,2,   18.55,2,     -999.0,9, 20210412,     1835,   7.0801, -53.2204,    14.7979,2,     0.0399,1,     4.3835,1,     -999.0,9,     -999.0,9,     -999.0,9,     -999.0,9