BOTTLE,20230512CCHSIOCBG
EXPOCODE,SECT_ID,STNNBR,CASTNO,SAMPNO,BTLNBR,BTLNBR_FLAG_W,DATE,TIME,LATITUDE,LONGITUDE,DEPTH,CTDPRS,CTDTMP,CTDSAL,CTDSAL_FLAG_W,SALNTY,SALNTY_FLAG_W,CTDOXY,CTDOXY_FLAG_W,OXYGEN,OXYGEN_FLAG_W,SILCAT,SILCAT_FLAG_W,NITRAT,NITRAT_FLAG_W,NITRIT,NITRIT_FLAG_W,PHSPHT,PHSPHT_FLAG_W,CFC-11,CFC-11_FLAG_W,CFC-12,CFC-12_FLAG_W,SF6,SF6_FLAG_W,TCARBN,TCARBN_FLAG_W,ALKALI,ALKALI_FLAG_W,FCO2,FCO2_FLAG_W,FCO2TMP,PH_TOT,PH_TOT_FLAG_W,PH_TMP,DELC13,DELC13_FLAG_W,DELC14,DELC14_FLAG_W,C14ERR,POC,POC_FLAG_W,DOC,DOC_FLAG_W,TDN,TDN_FLAG_W,N2O,N2O_FLAG_W,BTL_DATE,BTL_TIME,BTL_LAT,BTL_LON,REFTMP,REFTMP_FLAG_W,CTDFLUOR,CTDFLUOR_FLAG_W,CTDXMISS,CTDXMISS_FLAG_W,D15N_NO2+NO3,D15N_NO2+NO3_FLAG_W,D18O_NO2+NO3,D18O_NO2+NO3_FLAG_W,HPLC,HPLC_FLAG_W,MICROGELS,MICROGELS_FLAG_W
,,,,,,,,,,,METERS,DBAR,ITS-90,PSS-78,,PSS-78,,UMOL/KG,,UMOL/KG,,UMOL/KG,,UMOL/KG,,UMOL/KG,,UMOL/KG,,PMOL/KG,,PMOL/KG,,FMOL/KG,,UMOL/KG,,UMOL/KG,,UATM,,DEG C,,,DEG C,/MILLE,,/MILLE,,/MILLE,UG/KG,,UMOL/KG,,UMOL/KG,,NMOL/KG,,,,,,ITS-90,,VOLTS,,VOLTS,,/MILLE,,/MILLE,,,,1E6 GELS/L,
325020210316,        A20,      43,          1,         35,         35,4,20210401,       1836,    25.3055,   -52.3355,       5860,    35.0,  23.8554,  37.4229,3,-999.0000,9,    219.7,3,  -999.0,9, -999.00,9, -999.00,9, -999.00,9, -999.00,9,-999.000,9,-999.000,9, -999.00,9,  -999.0,9, -999.00,9,   -999.0,9,  -999.00,-999.00000,9,  -999.00, -999.00,9, -999.00,9, -999.00,-999.000,9, -999.00,9, -999.00,9,     -999.0,9, 20210401,     2123,  25.3055, -52.3355,    23.8539,3,     0.0426,1,     4.6473,1,     -999.0,9,     -999.0,9,     -999.0,9,     -999.0,9
325020210316,        A20,      43,          1,         34,         34,4,20210401,       1836,    25.3055,   -52.3355,       5860,    61.0,  23.8540,  37.4215,3,-999.0000,9,    219.4,3,  -999.0,9, -999.00,9, -999.00,9, -999.00,9, -999.00,9,-999.000,9,-999.000,9, -999.00,9,  -999.0,9, -999.00,9,   -999.0,9,  -999.00,-999.00000,9,  -999.00, -999.00,9, -999.00,9, -999.00,-999.000,9, -999.00,9, -999.00,9,     -999.0,9, 20210401,     2120,  25.3055, -52.3355,    23.8516,3,     0.0468,1,     4.6471,1,     -999.0,9,     -999.0,9,     -999.0,9,     -999.0,9
325020210316,        A20,      43,          1,         33,         33,4,20210401,       1836,    25.3055,   -52.3355,       5860,    86.0,  23.3351,  37.2690,3,-999.0000,9,    221.4,3,  -999.0,9, -999.00,9, -999.00,9, -999.00,9, -999.00,9,-999.000,9,-999.000,9, -999.00,9,  -999.0,9, -999.00,9,   -999.0,9,  -999.00,-999.00000,9,  -999.00, -999.00,9, -999.00,9, -999.00,-999.000,9, -999.00,9, -999.00,9,     -999.0,9, 20210401,     2118,  25.3055, -52.3355,    23.2938,3,     0.0491,1,     4.6493,1,     -999.0,9,     -999.0,9,     -999.0,9,     -999.0,9
325020210316,        A20,      43,          1,         32,         32,4,20210401,       1836,    25.3055,   -52.3355,       5860,   115.9,  22.5841,  37.0864,3,-999.0000,9,    219.1,3,  -999.0,9, -999.00,9, -999.00,9, -999.00,9, -999.00,9,-999.000,9,-999.000,9, -999.00,9,  -999.0,9, -999.00,9,   -999.0,9,  -999.00,-999.00000,9,  -999.00, -999.00,9, -999.00,9, -999.00,-999.000,9, -999.00,9, -999.00,9,     -999.0,9, 20210401,     2116,  25.3055, -52.3355,    22.5877,3,     0.0541,1,     4.6534,1,     -999.0,9,     -999.0,9,     -999.0,9,     -999.0,9
325020210316,        A20,      43,          1,         30,         30,4,20210401,       1836,    25.3055,   -52.3355,       5860,   166.7,  20.2961,  36.7913,1,  36.6667,3,    191.8,1,   192.4,3,    0.88,3,    2.75,3,    0.00,3,    0.10,3,   1.873,2,   1.280,2,    1.69,2,  2129.5,3, -999.00,9,    422.2,3,    20.00,   7.96333,2,    25.03, -999.00,9, -999.00,9, -999.00,-999.000,9,   50.31,2,    5.68,2,       8.37,2, 20210401,     2107,  25.3055, -52.3355,     -999.0,9,     0.0683,1,     4.6726,1,     -999.0,9,     -999.0,9,     -999.0,9,     -999.0,9
325020210316,        A20,      43,          1,         31,         31,4,20210401,       1836,    25.3055,   -52.3355,       5860,   166.8,  20.2958,  36.7909,3,-999.0000,9,    200.8,3,  -999.0,9, -999.00,9, -999.00,9, -999.00,9, -999.00,9,-999.000,9,-999.000,9, -999.00,9,  -999.0,9, -999.00,9,   -999.0,9,  -999.00,-999.00000,9,  -999.00, -999.00,9, -999.00,9, -999.00,-999.000,9, -999.00,9, -999.00,9,     -999.0,9, 20210401,     2114,  25.3055, -52.3355,    20.2991,3,     0.0707,1,     4.6619,1,     -999.0,9,     -999.0,9,     -999.0,9,     -999.0,9
325020210316,        A20,      43,          1,         29,         29,2,20210401,       1836,    25.3055,   -52.3355,       5860,   266.4,  18.5760,  36.5883,2,  36.5850,2,    200.1,3,   197.9,2,    1.07,2,    3.46,2,    0.00,2,    0.14,2,-999.000,9,-999.000,9, -999.00,9,  -999.0,9, -999.00,9,   -999.0,9,  -999.00,-999.00000,9,  -999.00, -999.00,9, -999.00,9, -999.00,-999.000,9,   49.37,2,    6.70,2,     -999.0,9, 20210401,     2101,  25.3055, -52.3355,    18.5791,2,     0.0396,1,     4.6905,1,     -999.0,9,     -999.0,9,     -999.0,9,     -999.0,9
325020210316,        A20,      43,          1,         28,         28,2,20210401,       1836,    25.3055,   -52.3355,       5860,   317.9,  18.2399,  36.5442,2,  36.5404,2,    190.9,2,   189.6,2,    1.27,2,    4.66,2,    0.00,2,    0.21,2,   1.988,2,   1.328,2,    1.68,2,  2134.9,2, 2388.34,2,    448.4,2,    20.00,   7.93988,2,    25.00, -999.00,9, -999.00,9, -999.00,-999.000,9,   49.39,2,    7.49,2,       9.15,2, 20210401,     2058,  25.3055, -52.3355,    18.2339,2,     0.0391,1,     4.6919,1,     -999.0,9,     -999.0,9,     -999.0,9,     -999.0,9
325020210316,        A20,      43,          1,         27,         27,2,20210401,       1836,    25.3055,   -52.3355,       5860,   367.5,  17.4668,  36.4171,2,  36.4018,2,    183.2,2,   182.7,2,    1.76,2,    6.56,2,    0.00,2,    0.32,2,-999.000,9,-999.000,9, -999.00,9,  2142.4,2, 2380.62,2,    482.8,2,    20.00,   7.91203,2,    25.01, -999.00,9, -999.00,9, -999.00,-999.000,9,   45.95,2,    9.43,2,     -999.0,9, 20210401,     2055,  25.3055, -52.3355,    17.4932,2,     0.0408,1,     4.6934,1,     -999.0,9,     -999.0,9,     -999.0,9,     -999.0,9
325020210316,        A20,      43,          1,         26,         26,2,20210401,       1836,    25.3055,   -52.3355,       5860,   438.1,  16.2314,  36.2176,2,  36.2089,2,    175.3,2,   176.0,2,    2.64,2,    9.02,2,    0.00,2,    0.48,2,-999.000,9,-999.000,9, -999.00,9,  -999.0,9, -999.00,9,   -999.0,9,  -999.00,-999.00000,9,  -999.00, -999.00,9, -999.00,9, -999.00,-999.000,9, -999.00,9, -999.00,9,     -999.0,9, 20210401,     2053,  25.3055, -52.3355,    16.2275,2,     0.0409,1,     4.6937,1,     -999.0,9,     -999.0,9,     -999.0,9,     -999.0,9
325020210316,        A20,      43,          1,         25,         25,2,20210401,       1836,    25.3055,   -52.3355,       5860,   539.1,  14.2513,  35.9202,2,  35.9194,2,    169.8,2,   170.7,2,    4.20,2,   12.46,2,    0.00,2,    0.70,2,   2.155,2,   1.379,2,    1.36,2,  2162.0,2, 2353.55,2,    603.2,2,    20.00,   7.82138,2,    25.03, -999.00,9, -999.00,9, -999.00,-999.000,9,   46.22,2,   14.97,2,      13.97,2, 20210401,     2049,  25.3055, -52.3355,    14.2487,2,     0.0409,1,     4.6959,1,     -999.0,9,     -999.0,9,     -999.0,9,     -999.0,9
325020210316,        A20,      43,          1,         24,         24,2,20210401,       1836,    25.3055,   -52.3355,       5860,   640.7,  12.6342,  35.7015,2,  35.6988,2,    162.8,2,   163.3,2,    6.25,2,   15.89,2,    0.00,2,    0.92,2,-999.000,9,-999.000,9, -999.00,9,  -999.0,9, -999.00,9,   -999.0,9,  -999.00,-999.00000,9,  -999.00, -999.00,9, -999.00,9, -999.00,-999.000,9,   45.27,2,   19.30,2,     -999.0,9, 20210401,     2046,  25.3055, -52.3355,    12.6602,2,     0.0401,1,     4.6976,1,     -999.0,9,     -999.0,9,     -999.0,9,     -999.0,9
325020210316,        A20,      43,          1,         23,         23,2,20210401,       1836,    25.3055,   -52.3355,       5860,   742.0,  10.8312,  35.4552,2,  35.4571,2,    148.2,2,   148.9,2,   10.07,2,   20.65,2,    0.00,2,    1.23,2,-999.000,9,-999.000,9, -999.00,9,  -999.0,9, -999.00,9,   -999.0,9,  -999.00,-999.00000,9,  -999.00, -999.00,9, -999.00,9, -999.00,-999.000,9,   45.59,2,   23.63,2,     -999.0,9, 20210401,     2043,  25.3055, -52.3355,    10.8467,2,     0.0419,1,     4.7008,1,     -999.0,9,     -999.0,9,     -999.0,9,     -999.0,9
325020210316,        A20,      43,          1,         22,         22,2,20210401,       1836,    25.3055,   -52.3355,       5860,   841.5,   9.0265,  35.2204,2,  35.2146,2,    141.4,2,   140.8,2,   14.76,2,   24.88,2,    0.00,2,    1.53,2,   0.949,2,   0.507,2,    0.28,2,  2198.2,2, 2322.99,2,    879.1,2,    20.00,   7.66565,2,    25.02, -999.00,9, -999.00,9, -999.00,-999.000,9,   41.65,2,   26.94,2,      20.37,2, 20210401,     2039,  25.3055, -52.3355,     9.0251,2,     0.0414,1,     4.7014,1,     -999.0,9,     -999.0,9,     -999.0,9,     -999.0,9
325020210316,        A20,      43,          1,         21,         21,2,20210401,       1836,    25.3055,   -52.3355,       5860,   943.4,   7.7691,  35.0997,2,  35.0982,2,    147.1,2,   146.9,2,   17.21,2,   26.16,2,    0.00,2,    1.65,2,-999.000,9,-999.000,9, -999.00,9,  -999.0,9, -999.00,9,   -999.0,9,  -999.00,-999.00000,9,  -999.00, -999.00,9, -999.00,9, -999.00,-999.000,9,   41.84,2,   27.93,2,     -999.0,9, 20210401,     2036,  25.3055, -52.3356,     7.7772,2,     0.0422,1,     4.7015,1,     -999.0,9,     -999.0,9,     -999.0,9,     -999.0,9
325020210316,        A20,      43,          1,         20,         20,2,20210401,       1836,    25.3055,   -52.3355,       5860,  1045.2,   6.6800,  35.0321,2,  35.0321,2,    163.5,2,   163.6,2,   18.28,2,   25.63,2,    0.00,2,    1.64,2,   0.607,2,   0.306,2,    0.23,2,  2198.6,2, 2317.17,2,    905.3,2,    20.00,   7.65193,2,    25.00, -999.00,9, -999.00,9, -999.00,-999.000,9,   41.11,2,   27.04,2,      19.70,2, 20210401,     2033,  25.3055, -52.3355,     6.6871,2,     0.0423,1,     4.7021,1,     -999.0,9,     -999.0,9,     -999.0,9,     -999.0,9
325020210316,        A20,      43,          1,         19,         19,2,20210401,       1836,    25.3055,   -52.3355,       5860,  1144.3,   6.1808,  35.0476,2,  35.0459,2,    182.8,2,   182.1,2,   17.30,2,   23.88,2,    0.00,2,    1.53,2,-999.000,9,-999.000,9, -999.00,9,  -999.0,9, -999.00,9,   -999.0,9,  -999.00,-999.00000,9,  -999.00, -999.00,9, -999.00,9, -999.00,-999.000,9,   42.67,2,   26.03,2,     -999.0,9, 20210401,     2030,  25.3055, -52.3355,     6.1829,2,     0.0416,1,     4.7023,1,     -999.0,9,     -999.0,9,     -999.0,9,     -999.0,9
325020210316,        A20,      43,          1,         18,         18,2,20210401,       1836,    25.3055,   -52.3355,       5860,  1245.8,   5.7088,  35.0676,2,  35.0665,2,    204.5,2,   204.0,2,   15.64,2,   21.64,2,    0.00,2,    1.40,2,-999.000,9,-999.000,9, -999.00,9,  -999.0,9, -999.00,9,   -999.0,9,  -999.00,-999.00000,9,  -999.00, -999.00,9, -999.00,9, -999.00,-999.000,9,   40.73,2,   23.01,2,     -999.0,9, 20210401,     2026,  25.3055, -52.3355,     5.7091,2,     0.0410,1,     4.7021,1,     -999.0,9,     -999.0,9,     -999.0,9,     -999.0,9
325020210316,        A20,      43,          1,         17,         17,2,20210401,       1836,    25.3055,   -52.3355,       5860,  1348.2,   5.5006,  35.1049,2,  35.1049,2,    217.7,2,   217.9,2,   14.66,2,   20.16,2,    0.00,2,    1.30,2,-999.000,9,-999.000,9, -999.00,9,  -999.0,9, -999.00,9,   -999.0,9,  -999.00,-999.00000,9,  -999.00, -999.00,9, -999.00,9, -999.00,-999.000,9,   42.92,2,   22.57,2,     -999.0,9, 20210401,     2022,  25.3055, -52.3355,     5.5018,2,     0.0411,1,     4.7035,1,     -999.0,9,     -999.0,9,     -999.0,9,     -999.0,9
325020210316,        A20,      43,          1,         16,         16,2,20210401,       1836,    25.3055,   -52.3355,       5860,  1480.5,   5.0700,  35.0971,2,  35.0968,2,    229.8,2,   229.6,2,   14.66,2,   19.40,2,    0.00,2,    1.25,2,   1.031,2,   0.526,2,    0.33,2,  2175.1,2, 2322.49,2,    762.4,2,    20.00,   7.72293,6,    25.00, -999.00,9, -999.00,9, -999.00,-999.000,9,   42.37,2,   21.44,2,      14.48,2, 20210401,     2018,  25.3055, -52.3355,     5.0702,2,     0.0422,1,     4.7042,1,     -999.0,9,     -999.0,9,     -999.0,9,     -999.0,9
325020210316,        A20,      43,          1,         15,         15,2,20210401,       1836,    25.3055,   -52.3355,       5860,  1683.5,   4.5442,  35.0789,2,  35.0795,2,    240.1,2,   239.4,2,   16.03,2,   18.86,2,    0.00,2,    1.22,2,-999.000,9,-999.000,9, -999.00,9,  -999.0,9, -999.00,9,   -999.0,9,  -999.00,-999.00000,9,  -999.00, -999.00,9, -999.00,9, -999.00,-999.000,9,   41.46,2,   22.02,2,     -999.0,9, 20210401,     2013,  25.3055, -52.3355,     4.5522,2,     0.0410,1,     4.7039,1,     -999.0,9,     -999.0,9,     -999.0,9,     -999.0,9
325020210316,        A20,      43,          1,         14,         14,2,20210401,       1836,    25.3055,   -52.3355,       5860,  1886.1,   4.0126,  35.0396,2,  35.0392,2,    245.3,2,   245.0,2,   19.06,2,   18.97,2,    0.00,2,    1.23,2,-999.000,9,-999.000,9, -999.00,9,  -999.0,9, -999.00,9,   -999.0,9,  -999.00,-999.00000,9,  -999.00, -999.00,9, -999.00,9, -999.00,-999.000,9, -999.00,9, -999.00,9,     -999.0,9, 20210401,     2008,  25.3055, -52.3355,     4.0108,2,     0.0430,1,     4.7037,1,     -999.0,9,     -999.0,9,     -999.0,9,     -999.0,9
325020210316,        A20,      43,          1,         13,         13,2,20210401,       1836,    25.3055,   -52.3355,       5860,  2109.0,   3.5830,  35.0037,2,  35.0045,2,    248.1,2,   248.8,2,   22.49,2,   19.17,2,    0.00,2,    1.25,2,   0.564,2,   0.271,2,    0.13,2,  2176.6,2, 2319.06,2,    738.3,2,    20.00,   7.73768,6,    24.99, -999.00,9, -999.00,9, -999.00,-999.000,9,   43.67,2,   22.08,2,      13.57,2, 20210401,     2002,  25.3055, -52.3355,     3.5843,2,     0.0426,1,     4.7037,1,     -999.0,9,     -999.0,9,     -999.0,9,     -999.0,9
325020210316,        A20,      43,          1,         12,         12,2,20210401,       1836,    25.3055,   -52.3355,       5860,  2362.2,   3.2473,  34.9745,2,  34.9748,2,    249.6,2,   249.6,2,   26.20,2,   19.47,2,    0.00,2,    1.28,2,-999.000,9,-999.000,9, -999.00,9,  -999.0,9, -999.00,9,   -999.0,9,  -999.00,-999.00000,9,  -999.00, -999.00,9, -999.00,9, -999.00,-999.000,9,   43.88,2,   22.36,2,     -999.0,9, 20210401,     1956,  25.3055, -52.3355,     3.2460,2,     0.0434,1,     4.7033,1,     -999.0,9,     -999.0,9,     -999.0,9,     -999.0,9
325020210316,        A20,      43,          1,         11,         11,2,20210401,       1836,    25.3055,   -52.3355,       5860,  2618.4,   2.9910,  34.9527,2,  34.9520,2,    249.7,2,   249.6,2,   29.92,2,   19.82,2,    0.00,2,    1.31,2,-999.000,9,-999.000,9, -999.00,9,  -999.0,9, -999.00,9,   -999.0,9,  -999.00,-999.00000,9,  -999.00, -999.00,9, -999.00,9, -999.00,-999.000,9, -999.00,9, -999.00,9,     -999.0,9, 20210401,     1950,  25.3055, -52.3355,     2.9905,2,     0.0423,1,     4.7033,1,     -999.0,9,     -999.0,9,     -999.0,9,     -999.0,9
325020210316,        A20,      43,          1,         10,         10,2,20210401,       1836,    25.3055,   -52.3355,       5860,  2872.7,   2.8423,  34.9398,2,  34.9408,2,    249.8,2,   249.8,2,   32.46,2,   20.17,2,    0.00,2,    1.34,2,   0.222,2,   0.107,2,    0.03,2,  2183.8,2, 2356.29,4,    739.8,6,    20.00,   7.73634,2,    24.99, -999.00,9, -999.00,9, -999.00,-999.000,9,   40.19,2,   21.13,2,      13.19,2, 20210401,     1945,  25.3055, -52.3355,     2.8423,2,     0.0429,1,     4.7033,1,     -999.0,9,     -999.0,9,     -999.0,9,     -999.0,9
325020210316,        A20,      43,          1,          9,          9,2,20210401,       1836,    25.3055,   -52.3355,       5860,  3143.9,   2.6926,  34.9273,2,  34.9264,2,    251.4,2,   251.3,2,   34.51,2,   20.32,2,    0.00,2,    1.35,2,-999.000,9,-999.000,9, -999.00,9,  2183.8,2, 2333.15,2,    738.1,2,    20.00,   7.73672,2,    24.99, -999.00,9, -999.00,9, -999.00,-999.000,9,   39.62,2,   23.84,2,     -999.0,9, 20210401,     1938,  25.3055, -52.3355,     2.6923,2,     0.0424,1,     4.7033,1,     -999.0,9,     -999.0,9,     -999.0,9,     -999.0,9
325020210316,        A20,      43,          1,          8,          8,2,20210401,       1836,    25.3055,   -52.3355,       5860,  3451.9,   2.4931,  34.9094,2,  34.9091,2,    253.2,2,   253.3,2,   37.25,2,   20.46,2,    0.00,2,    1.38,2,   0.092,2,   0.050,2,    0.11,2,  -999.0,9, -999.00,9,   -999.0,9,  -999.00,-999.00000,9,  -999.00, -999.00,9, -999.00,9, -999.00,-999.000,9,   41.80,2,   22.76,2,      13.38,2, 20210401,     1932,  25.3055, -52.3355,     2.4933,2,     0.0428,1,     4.7030,1,     -999.0,9,     -999.0,9,     -999.0,9,     -999.0,9
325020210316,        A20,      43,          1,          7,          7,2,20210401,       1836,    25.3055,   -52.3355,       5860,  3794.9,   2.3059,  34.8915,2,  34.8906,2,    253.6,2,   253.8,2,   41.07,2,   20.80,2,    0.00,2,    1.40,2,-999.000,9,-999.000,9, -999.00,9,  -999.0,9, -999.00,9,   -999.0,9,  -999.00,-999.00000,9,  -999.00, -999.00,9, -999.00,9, -999.00,-999.000,9, -999.00,9, -999.00,9,     -999.0,9, 20210401,     1924,  25.3055, -52.3355,     2.3062,2,     0.0430,1,     4.7033,1,     -999.0,9,     -999.0,9,     -999.0,9,     -999.0,9
325020210316,        A20,      43,          1,          6,          6,2,20210401,       1836,    25.3055,   -52.3355,       5860,  4202.3,   2.1977,  34.8777,2,  34.8780,2,    252.9,2,   252.9,2,   45.17,2,   21.26,2,    0.00,2,    1.43,2,   0.096,2,   0.053,2,    0.02,2,  2191.2,2, 2338.76,6,    757.5,2,    20.00,    7.7287,2,    24.99, -999.00,9, -999.00,9, -999.00,-999.000,9,   40.76,2,   22.47,2,      13.74,2, 20210401,     1915,  25.3055, -52.3355,     2.1979,2,     0.0429,1,     4.7022,1,     -999.0,9,     -999.0,9,     -999.0,9,     -999.0,9
325020210316,        A20,      43,          1,          5,          5,2,20210401,       1836,    25.3055,   -52.3355,       5860,  4614.6,   2.1382,  34.8672,2,  34.8668,2,    251.8,2,   251.6,2,   48.40,2,   21.76,2,    0.00,2,    1.46,2,   0.106,2,   0.060,2,    0.03,2,  -999.0,9, -999.00,9,   -999.0,9,  -999.00,-999.00000,9,  -999.00, -999.00,9, -999.00,9, -999.00,-999.000,9,   41.49,2,   22.94,2,      13.75,2, 20210401,     1906,  25.3055, -52.3355,     2.1385,2,     0.0428,1,     4.7022,1,     -999.0,9,     -999.0,9,     -999.0,9,     -999.0,9
325020210316,        A20,      43,          1,          4,          4,2,20210401,       1836,    25.3055,   -52.3355,       5860,  5025.4,   2.1188,  34.8597,2,  34.8574,3,    250.7,2,   250.1,2,   51.72,2,   22.19,2,    0.00,2,    1.49,2,-999.000,9,-999.000,9, -999.00,9,  -999.0,9, -999.00,9,   -999.0,9,  -999.00,-999.00000,9,  -999.00, -999.00,9, -999.00,9, -999.00,-999.000,9,   43.69,2,   23.75,2,     -999.0,9, 20210401,     1858,  25.3055, -52.3355,     2.1190,2,     0.0428,1,     4.7014,1,     -999.0,9,     -999.0,9,     -999.0,9,     -999.0,9
325020210316,        A20,      43,          1,          3,          3,2,20210401,       1836,    25.3055,   -52.3355,       5860,  5438.7,   2.1094,  34.8525,2,  34.8526,2,    249.3,2,   249.9,2,   53.78,2,   22.48,2,    0.00,2,    1.51,2,   0.171,2,   0.089,2,    0.13,2,  2201.0,2, 2343.06,2,    783.6,2,    20.00,   7.71502,6,    25.00, -999.00,9, -999.00,9, -999.00,-999.000,9,   41.32,2,   25.13,2,      14.21,2, 20210401,     1849,  25.3055, -52.3355,     2.1093,2,     0.0428,1,     4.7003,1,     -999.0,9,     -999.0,9,     -999.0,9,     -999.0,9
325020210316,        A20,      43,          1,          2,          2,2,20210401,       1836,    25.3055,   -52.3355,       5860,  5711.6,   2.1290,  34.8502,2,  34.8491,2,    248.8,2,   248.9,2,   54.46,2,   22.57,2,    0.00,2,    1.52,2,-999.000,9,-999.000,9, -999.00,9,  -999.0,9, -999.00,9,   -999.0,9,  -999.00,-999.00000,9,  -999.00, -999.00,9, -999.00,9, -999.00,-999.000,9,   42.31,2,   24.83,2,     -999.0,9, 20210401,     1842,  25.3055, -52.3355,     2.1291,2,     0.0427,1,     4.6997,1,     -999.0,9,     -999.0,9,     -999.0,9,     -999.0,9