BOTTLE,20230512CCHSIOCBG
EXPOCODE,SECT_ID,STNNBR,CASTNO,SAMPNO,BTLNBR,BTLNBR_FLAG_W,DATE,TIME,LATITUDE,LONGITUDE,DEPTH,CTDPRS,CTDTMP,CTDSAL,CTDSAL_FLAG_W,SALNTY,SALNTY_FLAG_W,CTDOXY,CTDOXY_FLAG_W,OXYGEN,OXYGEN_FLAG_W,SILCAT,SILCAT_FLAG_W,NITRAT,NITRAT_FLAG_W,NITRIT,NITRIT_FLAG_W,PHSPHT,PHSPHT_FLAG_W,CFC-11,CFC-11_FLAG_W,CFC-12,CFC-12_FLAG_W,SF6,SF6_FLAG_W,TCARBN,TCARBN_FLAG_W,ALKALI,ALKALI_FLAG_W,FCO2,FCO2_FLAG_W,FCO2TMP,PH_TOT,PH_TOT_FLAG_W,PH_TMP,DELC13,DELC13_FLAG_W,DELC14,DELC14_FLAG_W,C14ERR,POC,POC_FLAG_W,DOC,DOC_FLAG_W,TDN,TDN_FLAG_W,N2O,N2O_FLAG_W,BTL_DATE,BTL_TIME,BTL_LAT,BTL_LON,REFTMP,REFTMP_FLAG_W,CTDFLUOR,CTDFLUOR_FLAG_W,CTDXMISS,CTDXMISS_FLAG_W,D15N_NO2+NO3,D15N_NO2+NO3_FLAG_W,D18O_NO2+NO3,D18O_NO2+NO3_FLAG_W,HPLC,HPLC_FLAG_W,MICROGELS,MICROGELS_FLAG_W
,,,,,,,,,,,METERS,DBAR,ITS-90,PSS-78,,PSS-78,,UMOL/KG,,UMOL/KG,,UMOL/KG,,UMOL/KG,,UMOL/KG,,UMOL/KG,,PMOL/KG,,PMOL/KG,,FMOL/KG,,UMOL/KG,,UMOL/KG,,UATM,,DEG C,,,DEG C,/MILLE,,/MILLE,,/MILLE,UG/KG,,UMOL/KG,,UMOL/KG,,NMOL/KG,,,,,,ITS-90,,VOLTS,,VOLTS,,/MILLE,,/MILLE,,,,1E6 GELS/L,
325020210316,        A20,      75,          1,         36,         36,2,20210410,       2028,     8.7602,   -52.3953,       4620,     4.3,  27.5998,  36.2380,2,  36.2390,2,    199.7,2,   199.6,2,    0.78,2,    0.01,2,    0.00,2,    0.00,2,   1.485,2,   0.934,2,    1.55,2,  2040.9,2,  2371.7,2,   -999.0,9,  -999.00,   8.08726,2,    25.00, -999.00,9, -999.00,9, -999.00,-999.000,9,   72.00,2,    5.12,2,       5.47,2, 20210410,     2234,   8.7602, -52.3953,    27.5970,2,     0.0493,1,     4.6062,1,     -999.0,9,     -999.0,9,     -999.0,9,     -999.0,1
325020210316,        A20,      75,          1,         35,         35,2,20210410,       2028,     8.7602,   -52.3953,       4620,    35.2,  27.4890,  36.2509,2,  36.2501,2,    201.0,2,   200.4,2,    0.68,2,    0.05,2,    0.00,2,    0.00,2,-999.000,9,-999.000,9, -999.00,9,  -999.0,9, -999.00,9,   -999.0,9,  -999.00,-999.00000,9,  -999.00, -999.00,9, -999.00,9, -999.00,-999.000,9,   66.78,2,    5.18,2,     -999.0,9, 20210410,     2232,   8.7602, -52.3953,    27.4862,2,     0.0525,1,     4.6078,1,     -999.0,9,     -999.0,9,     -999.0,9,     -999.0,1
325020210316,        A20,      75,          1,         34,         34,2,20210410,       2028,     8.7602,   -52.3953,       4620,    59.8,  27.4103,  36.2691,2,  36.2663,2,    199.3,2,   199.4,2,    0.68,2,    0.05,2,    0.00,2,    0.00,2,-999.000,9,-999.000,9, -999.00,9,  -999.0,9, -999.00,9,   -999.0,9,  -999.00,-999.00000,9,  -999.00, -999.00,9, -999.00,9, -999.00,-999.000,9,   67.59,2,    4.99,2,     -999.0,9, 20210410,     2231,   8.7602, -52.3953,    27.4094,2,     0.0636,1,     4.6195,1,     -999.0,9,     -999.0,9,     -999.0,9,     -999.0,1
325020210316,        A20,      75,          1,         33,         33,2,20210410,       2028,     8.7602,   -52.3953,       4620,    85.3,  27.3810,  36.2742,2,  36.2792,2,    197.6,2,   198.1,2,    0.68,2,    0.00,2,    0.00,2,    0.00,2,-999.000,9,-999.000,9, -999.00,9,  -999.0,9, -999.00,9,   -999.0,9,  -999.00,-999.00000,9,  -999.00, -999.00,9, -999.00,9, -999.00,-999.000,9,   68.03,2,    4.60,2,     -999.0,9, 20210410,     2229,   8.7602, -52.3953,    27.3792,2,     0.0697,1,     4.6326,1,     -999.0,9,     -999.0,9,     -999.0,9,     -999.0,1
325020210316,        A20,      75,          1,         32,         32,2,20210410,       2028,     8.7602,   -52.3953,       4620,   110.2,  26.3879,  36.5699,2,  36.5710,2,    181.6,3,   185.4,2,    0.78,2,    0.51,2,    0.11,2,    0.11,2,   1.589,2,   0.989,2,    1.52,2,  2091.3,2, 2394.42,2,   -999.0,9,  -999.00,   8.03852,2,    25.00, -999.00,9, -999.00,9, -999.00,-999.000,9,   61.47,2,    4.66,2,       6.53,2, 20210410,     2227,   8.7602, -52.3953,    26.3892,2,     0.0984,1,     4.6277,1,     -999.0,9,     -999.0,9,     -999.0,9,     -999.0,1
325020210316,        A20,      75,          1,         31,         31,2,20210410,       2028,     8.7602,   -52.3953,       4620,   134.9,  24.3002,  36.6083,2,  36.6106,2,    175.2,3,   179.5,2,    1.17,2,    2.53,2,    0.04,2,    0.24,2,-999.000,9,-999.000,9, -999.00,9,  -999.0,9, -999.00,9,   -999.0,9,  -999.00,-999.00000,9,  -999.00, -999.00,9, -999.00,9, -999.00,-999.000,9,   60.43,2,    7.11,2,     -999.0,9, 20210410,     2225,   8.7602, -52.3953,    24.1918,2,     0.0569,1,     4.6635,1,     -999.0,9,     -999.0,9,     -999.0,9,     -999.0,1
325020210316,        A20,      75,          1,         30,         30,2,20210410,       2028,     8.7602,   -52.3953,       4620,   165.8,  20.6244,  36.2956,2,  36.2982,2,    165.4,3,   167.6,2,    2.44,2,    6.53,2,    0.02,2,    0.50,2,-999.000,9,-999.000,9, -999.00,9,  -999.0,9, -999.00,9,   -999.0,9,  -999.00,-999.00000,9,  -999.00, -999.00,9, -999.00,9, -999.00,-999.000,9,   57.05,2,   10.38,2,     -999.0,9, 20210410,     2224,   8.7602, -52.3953,    20.6343,2,     0.0533,1,     4.6694,1,     -999.0,9,     -999.0,9,     -999.0,9,     -999.0,1
325020210316,        A20,      75,          1,         29,         29,2,20210410,       2028,     8.7602,   -52.3953,       4620,   216.4,  12.8144,  35.4094,2,  35.4087,2,    128.6,2,   129.5,2,    8.48,2,   20.52,2,    0.00,2,    1.30,2,   2.309,2,   1.293,2,    1.02,2,  2195.8,2, 2326.78,2,   -999.0,9,  -999.00,   7.69742,2,    25.00, -999.00,9, -999.00,9, -999.00,-999.000,9,   47.16,2,   22.17,2,      22.97,2, 20210410,     2222,   8.7602, -52.3953,    12.8320,2,     0.0410,1,     4.6747,1,     -999.0,9,     -999.0,9,     -999.0,9,     -999.0,1
325020210316,        A20,      75,          1,         28,         28,2,20210410,       2028,     8.7602,   -52.3953,       4620,   267.3,  11.4374,  35.1972,2,  35.1987,2,    122.2,2,   122.1,2,   10.34,2,   23.66,2,    0.00,2,    1.50,2,-999.000,9,-999.000,9, -999.00,9,  -999.0,9, -999.00,9,   -999.0,9,  -999.00,-999.00000,9,  -999.00, -999.00,9, -999.00,9, -999.00,-999.000,9,   43.65,2,   26.86,2,     -999.0,9, 20210410,     2221,   8.7602, -52.3953,    11.4373,2,     0.0422,1,     4.6735,1,     -999.0,9,     -999.0,9,     -999.0,9,     -999.0,1
325020210316,        A20,      75,          1,         27,         27,2,20210410,       2028,     8.7602,   -52.3953,       4620,   317.8,  10.4683,  35.0757,2,  35.0746,2,    117.8,2,   118.0,2,   12.00,2,   26.08,2,    0.00,2,    1.64,2,-999.000,9,-999.000,9, -999.00,9,  -999.0,9, -999.00,9,   -999.0,9,  -999.00,-999.00000,9,  -999.00, -999.00,9, -999.00,9, -999.00,-999.000,9,   44.95,2,   27.49,2,     -999.0,9, 20210410,     2219,   8.7602, -52.3953,    10.4697,2,     0.0417,1,     4.6711,1,     -999.0,9,     -999.0,9,     -999.0,9,     -999.0,1
325020210316,        A20,      75,          1,         26,         26,2,20210410,       2028,     8.7602,   -52.3953,       4620,   366.4,   9.0671,  34.8587,2,  34.8554,2,    120.6,2,   121.0,2,   14.73,2,   28.69,2,    0.00,2,    1.82,2,   1.890,2,   1.008,2,    0.58,2,  2212.8,2, 2301.28,6,   -999.0,9,  -999.00,   7.57892,2,    25.01, -999.00,9, -999.00,9, -999.00,-999.000,9,   44.11,2,   30.13,2,      27.00,2, 20210410,     2217,   8.7602, -52.3953,     9.0627,2,     0.0425,1,     4.6724,1,     -999.0,9,     -999.0,9,     -999.0,9,     -999.0,1
325020210316,        A20,      75,          1,         25,         25,2,20210410,       2028,     8.7602,   -52.3953,       4620,   418.3,   8.4627,  34.7853,2,  34.7838,2,    119.7,2,   119.4,2,   16.29,2,   30.15,2,    0.00,2,    1.91,2,-999.000,9,-999.000,9, -999.00,9,  -999.0,9, -999.00,9,   -999.0,9,  -999.00,-999.00000,9,  -999.00, -999.00,9, -999.00,9, -999.00,-999.000,9,   43.82,2,   31.89,2,     -999.0,9, 20210410,     2215,   8.7602, -52.3953,     8.4627,2,     0.0430,1,     4.6728,1,     -999.0,9,     -999.0,9,     -999.0,9,     -999.0,1
325020210316,        A20,      75,          1,         24,         24,2,20210410,       2028,     8.7602,   -52.3953,       4620,   469.1,   8.0552,  34.7578,2,  34.7557,2,    117.0,2,   117.1,2,   17.56,2,   31.25,2,    0.00,2,    1.99,2,-999.000,9,-999.000,9, -999.00,9,  -999.0,9, -999.00,9,   -999.0,9,  -999.00,-999.00000,9,  -999.00, -999.00,9, -999.00,9, -999.00,-999.000,9,   42.82,2,   32.85,2,     -999.0,9, 20210410,     2213,   8.7602, -52.3953,     8.0537,2,     0.0430,1,     4.6744,1,     -999.0,9,     -999.0,9,     -999.0,9,     -999.0,1
325020210316,        A20,      75,          1,         23,         23,2,20210410,       2028,     8.7602,   -52.3953,       4620,   539.2,   7.4958,  34.7058,2,  34.7052,2,    118.2,2,   118.2,2,   19.32,2,   32.42,2,    0.00,2,    2.08,2,   1.305,2,   0.667,2,    0.35,2,  2220.7,6, 2297.11,2,   -999.0,9,  -999.00,   7.53415,2,    24.98, -999.00,9, -999.00,9, -999.00,-999.000,9,   42.54,2,   34.91,2,      27.11,2, 20210410,     2211,   8.7602, -52.3953,     7.4988,2,     0.0430,1,     4.6765,1,     -999.0,9,     -999.0,9,     -999.0,9,     -999.0,1
325020210316,        A20,      75,          1,         22,         22,2,20210410,       2028,     8.7602,   -52.3953,       4620,   639.9,   6.5210,  34.6193,2,  34.6178,2,    123.7,2,   123.1,2,   22.83,2,   33.84,2,    0.00,2,    2.20,2,-999.000,9,-999.000,9, -999.00,9,  2226.9,2, 2296.73,2,   -999.0,9,  -999.00,   7.52267,6,    24.99, -999.00,9, -999.00,9, -999.00,-999.000,9, -999.00,9, -999.00,9,     -999.0,9, 20210410,     2208,   8.7602, -52.3953,     6.5213,2,     0.0429,1,     4.6789,1,     -999.0,9,     -999.0,9,     -999.0,9,     -999.0,1
325020210316,        A20,      75,          1,         21,         21,2,20210410,       2028,     8.7602,   -52.3953,       4620,   740.8,   6.1493,  34.6176,2,  34.6178,2,    125.3,2,   124.9,2,   24.39,2,   34.10,2,    0.00,2,    2.23,2,-999.000,9,-999.000,9, -999.00,9,  -999.0,9, -999.00,9,   -999.0,9,  -999.00,-999.00000,9,  -999.00, -999.00,9, -999.00,9, -999.00,-999.000,9,   40.29,2,   36.09,2,     -999.0,9, 20210410,     2205,   8.7602, -52.3953,     6.1489,2,     0.0425,1,     4.6795,1,     -999.0,9,     -999.0,9,     -999.0,9,     -999.0,1
325020210316,        A20,      75,          1,         20,         20,2,20210410,       2028,     8.7602,   -52.3953,       4620,   842.0,   5.6585,  34.6067,2,  34.6050,2,    129.4,2,   129.5,2,   26.63,2,   34.38,2,    0.00,2,    2.27,2,   0.428,2,   0.216,2,    0.17,2,  -999.0,9, -999.00,9,   -999.0,9,  -999.00,-999.00000,9,  -999.00, -999.00,9, -999.00,9, -999.00,-999.000,9, -999.00,9, -999.00,9,      25.21,2, 20210410,     2201,   8.7602, -52.3953,     5.6579,2,     0.0434,1,     4.6798,1,     -999.0,9,     -999.0,9,     -999.0,9,     -999.0,1
325020210316,        A20,      75,          1,         19,         19,2,20210410,       2028,     8.7602,   -52.3953,       4620,   941.6,   5.2285,  34.6219,2,  34.6197,2,    138.0,2,   138.0,2,   28.20,2,   33.78,2,    0.00,2,    2.24,2,-999.000,9,-999.000,9, -999.00,9,  -999.0,9, -999.00,9,   -999.0,9,  -999.00,-999.00000,9,  -999.00, -999.00,9, -999.00,9, -999.00,-999.000,9, -999.00,9, -999.00,9,     -999.0,9, 20210410,     2158,   8.7602, -52.3953,     5.2277,2,     0.0432,1,     4.6807,1,     -999.0,9,     -999.0,9,     -999.0,9,     -999.0,1
325020210316,        A20,      75,          1,         18,         18,2,20210410,       2028,     8.7602,   -52.3953,       4620,  1043.1,   5.1118,  34.7040,2,  34.7028,2,    146.8,2,   147.2,2,   27.51,2,   32.26,2,    0.00,2,    2.15,2,   0.181,2,   0.092,2,    0.07,2,  2223.4,2, 2307.69,2,   -999.0,9,  -999.00,   7.56146,2,    24.99, -999.00,9, -999.00,9, -999.00,-999.000,9,   39.29,2,   32.73,2,      22.95,2, 20210410,     2155,   8.7602, -52.3953,     5.1115,2,     0.0425,1,     4.6806,1,     -999.0,9,     -999.0,9,     -999.0,9,     -999.0,1
325020210316,        A20,      75,          1,         17,         17,2,20210410,       2028,     8.7602,   -52.3953,       4620,  1144.7,   5.0825,  34.8523,2,  34.8515,2,    171.0,2,   170.9,2,   23.70,2,   27.96,2,    0.00,2,    1.87,2,-999.000,9,-999.000,9, -999.00,9,  -999.0,9, -999.00,9,   -999.0,9,  -999.00,-999.00000,9,  -999.00, -999.00,9, -999.00,9, -999.00,-999.000,9, -999.00,9, -999.00,9,     -999.0,9, 20210410,     2152,   8.7602, -52.3953,     5.0822,2,     0.0423,1,     4.6786,1,     -999.0,9,     -999.0,9,     -999.0,9,     -999.0,1
325020210316,        A20,      75,          1,         16,         16,2,20210410,       2028,     8.7602,   -52.3953,       4620,  1245.1,   4.8990,  34.9107,2,  34.9097,2,    190.9,2,   191.7,2,   21.26,2,   25.38,2,    0.00,2,    1.69,2,-999.000,9,-999.000,9, -999.00,9,  -999.0,9, -999.00,9,   -999.0,9,  -999.00,-999.00000,9,  -999.00, -999.00,9, -999.00,9, -999.00,-999.000,9, -999.00,9, -999.00,9,     -999.0,9, 20210410,     2149,   8.7602, -52.3953,     4.8986,2,     0.0428,1,     4.6841,1,     -999.0,9,     -999.0,9,     -999.0,9,     -999.0,1
325020210316,        A20,      75,          1,         15,         15,2,20210410,       2028,     8.7602,   -52.3953,       4620,  1346.1,   4.7765,  34.9446,2,  34.9439,2,    206.0,2,   205.9,2,   19.41,2,   23.54,2,    0.00,2,    1.56,2,   0.700,2,   0.349,2,    0.23,2,  -999.0,9, -999.00,9,   -999.0,9,  -999.00,-999.00000,9,  -999.00, -999.00,9, -999.00,9, -999.00,-999.000,9,   41.43,2,   26.21,2,      17.07,2, 20210410,     2146,   8.7602, -52.3953,     4.7760,2,     0.0424,1,     4.6845,1,     -999.0,9,     -999.0,9,     -999.0,9,     -999.0,1
325020210316,        A20,      75,          1,         14,         14,2,20210410,       2028,     8.7602,   -52.3953,       4620,  1446.4,   4.6514,  34.9455,2,  34.9473,2,    210.4,2,   210.6,2,   19.22,2,   23.04,2,    0.00,2,    1.53,2,-999.000,9,-999.000,9, -999.00,9,  -999.0,9, -999.00,9,   -999.0,9,  -999.00,-999.00000,9,  -999.00, -999.00,9, -999.00,9, -999.00,-999.000,9, -999.00,9, -999.00,9,     -999.0,9, 20210410,     2143,   8.7602, -52.3953,     4.6502,2,     0.0429,1,     4.6856,1,     -999.0,9,     -999.0,9,     -999.0,9,     -999.0,1
325020210316,        A20,      75,          1,         13,         13,2,20210410,       2028,     8.7602,   -52.3953,       4620,  1548.6,   4.6485,  35.0025,2,  35.0022,2,    234.2,2,   233.4,2,   15.41,2,   19.95,2,    0.00,2,    1.32,2,   1.561,2,   0.750,2,    0.46,2,  -999.0,9, -999.00,9,   -999.0,9,  -999.00,-999.00000,9,  -999.00, -999.00,9, -999.00,9, -999.00,-999.000,9,   45.29,2,   21.17,2,      15.08,2, 20210410,     2140,   8.7602, -52.3953,     4.6485,2,     0.0418,1,     4.6838,1,     -999.0,9,     -999.0,9,     -999.0,9,     -999.0,1
325020210316,        A20,      75,          1,         12,         12,2,20210410,       2028,     8.7602,   -52.3953,       4620,  1681.1,   4.3997,  35.0025,2,  35.0022,2,    246.4,2,   245.8,2,   14.24,2,   18.84,2,    0.00,2,    1.23,2,-999.000,9,-999.000,9, -999.00,9,  -999.0,9, -999.00,9,   -999.0,9,  -999.00,-999.00000,9,  -999.00, -999.00,9, -999.00,9, -999.00,-999.000,9, -999.00,9, -999.00,9,     -999.0,9, 20210410,     2136,   8.7602, -52.3953,     4.3994,2,     0.0418,1,     4.6845,1,     -999.0,9,     -999.0,9,     -999.0,9,     -999.0,1
325020210316,        A20,      75,          1,         11,         11,2,20210410,       2028,     8.7602,   -52.3953,       4620,  1883.8,   3.9993,  34.9872,2,  34.9868,2,    256.4,2,   255.7,2,   14.24,2,   18.16,2,    0.00,2,    1.19,2,   1.791,2,   0.855,2,    0.42,2,  -999.0,9, -999.00,9,   -999.0,9,  -999.00,-999.00000,9,  -999.00, -999.00,9, -999.00,9, -999.00,-999.000,9, -999.00,9, -999.00,9,      14.03,2, 20210410,     2132,   8.7602, -52.3953,     3.9992,2,     0.0429,1,     4.6874,1,     -999.0,9,     -999.0,9,     -999.0,9,     -999.0,1
325020210316,        A20,      75,          1,         10,         10,2,20210410,       2028,     8.7602,   -52.3953,       4620,  2106.9,   3.6156,  34.9701,2,  34.9721,2,    259.6,2,   259.6,2,   16.29,2,   18.22,2,    0.00,2,    1.19,2,-999.000,9,-999.000,9, -999.00,9,  -999.0,9, -999.00,9,   -999.0,9,  -999.00,-999.00000,9,  -999.00, -999.00,9, -999.00,9, -999.00,-999.000,9,   43.02,2,   19.90,2,     -999.0,9, 20210410,     2126,   8.7602, -52.3953,     3.6152,2,     0.0428,1,     4.6849,1,     -999.0,9,     -999.0,9,     -999.0,9,     -999.0,1
325020210316,        A20,      75,          1,          9,          9,2,20210410,       2028,     8.7602,   -52.3953,       4620,  2360.3,   3.3549,  34.9590,2,  34.9585,2,    260.7,2,   260.8,2,   18.24,2,   18.23,2,    0.00,2,    1.20,2,-999.000,9,-999.000,9, -999.00,9,  -999.0,9, -999.00,9,   -999.0,9,  -999.00,-999.00000,9,  -999.00, -999.00,9, -999.00,9, -999.00,-999.000,9,   43.79,2,   20.38,2,     -999.0,9, 20210410,     2120,   8.7602, -52.3953,     3.3548,2,     0.0426,1,     4.6821,1,     -999.0,9,     -999.0,9,     -999.0,9,     -999.0,1
325020210316,        A20,      75,          1,          8,          8,2,20210410,       2028,     8.7602,   -52.3953,       4620,  2615.4,   3.1605,  34.9493,2,  34.9490,2,    261.2,2,   261.4,2,   20.09,2,   18.30,2,    0.00,2,    1.20,2,   0.965,2,   0.464,2,    0.26,2,  2171.5,2, 2316.04,2,   -999.0,9,  -999.00,   7.73654,2,    25.01, -999.00,9, -999.00,9, -999.00,-999.000,9, -999.00,9, -999.00,9,      13.01,2, 20210410,     2114,   8.7602, -52.3953,     3.1605,2,     0.0421,1,     4.6870,1,     -999.0,9,     -999.0,9,     -999.0,9,     -999.0,1
325020210316,        A20,      75,          1,          7,          7,2,20210410,       2028,     8.7602,   -52.3953,       4620,  2871.7,   2.9705,  34.9398,2,  34.9394,2,    259.0,2,   259.3,2,   23.60,2,   18.93,2,    0.00,2,    1.25,2,-999.000,9,-999.000,9, -999.00,9,  -999.0,9, -999.00,9,   -999.0,9,  -999.00,-999.00000,9,  -999.00, -999.00,9, -999.00,9, -999.00,-999.000,9,   44.39,2,   19.73,2,     -999.0,9, 20210410,     2108,   8.7603, -52.3953,     2.9703,2,     0.0423,1,     4.6863,1,     -999.0,9,     -999.0,9,     -999.0,9,     -999.0,1
325020210316,        A20,      75,          1,          6,          6,2,20210410,       2028,     8.7602,   -52.3953,       4620,  3140.0,   2.7785,  34.9274,2,  34.9262,2,    261.0,2,   261.2,2,   25.17,2,   18.79,2,    0.00,2,    1.25,2,   0.769,2,   0.364,2,    0.25,2,  -999.0,9, -999.00,9,   -999.0,9,  -999.00,-999.00000,9,  -999.00, -999.00,9, -999.00,9, -999.00,-999.000,9, -999.00,9, -999.00,9,      13.50,2, 20210410,     2102,   8.7603, -52.3953,     2.7783,2,     0.0429,1,     4.6881,1,     -999.0,9,     -999.0,9,     -999.0,9,     -999.0,1
325020210316,        A20,      75,          1,          5,          5,2,20210410,       2028,     8.7602,   -52.3953,       4620,  3446.4,   2.6129,  34.9157,2,  34.9148,2,    261.4,2,   261.8,2,   27.60,2,   18.92,2,    0.00,2,    1.27,2,-999.000,9,-999.000,9, -999.00,9,  -999.0,9, -999.00,9,   -999.0,9,  -999.00,-999.00000,9,  -999.00, -999.00,9, -999.00,9, -999.00,-999.000,9,   41.71,2,   20.40,2,     -999.0,9, 20210410,     2055,   8.7603, -52.3953,     2.6129,2,     0.0420,1,     4.6886,1,     -999.0,9,     -999.0,9,     -999.0,9,     -999.0,1
325020210316,        A20,      75,          1,          2,          2,2,20210410,       2028,     8.7602,   -52.3953,       4620,  3753.7,   2.4805,  34.9057,2,  34.9061,2,    263.0,2,   263.1,2,   29.07,2,   18.88,2,    0.00,2,    1.26,2,-999.000,9,-999.000,9, -999.00,9,  -999.0,9, -999.00,9,   -999.0,9,  -999.00,-999.00000,9,  -999.00, -999.00,9, -999.00,9, -999.00,-999.000,9, -999.00,9, -999.00,9,     -999.0,9, 20210410,     2047,   8.7603, -52.3953,     2.4811,2,     0.0423,1,     4.6899,1,     -999.0,9,     -999.0,9,     -999.0,9,     -999.0,1
325020210316,        A20,      75,          1,          3,          3,2,20210410,       2028,     8.7602,   -52.3953,       4620,  4060.6,   2.3416,  34.8948,2,  34.8953,2,    264.0,2,   263.9,2,   30.92,2,   18.91,2,    0.00,2,    1.27,2,   0.837,2,   0.408,2,    0.25,2,  -999.0,9, -999.00,9,   -999.0,9,  -999.00,-999.00000,9,  -999.00, -999.00,9, -999.00,9, -999.00,-999.000,9,   44.07,2,   20.94,2,      13.78,2, 20210410,     2042,   8.7603, -52.3953,     2.3416,2,     0.0429,1,     4.6896,1,     -999.0,9,     -999.0,9,     -999.0,9,     -999.0,1