BOTTLE,20230512CCHSIOCBG
EXPOCODE,SECT_ID,STNNBR,CASTNO,SAMPNO,BTLNBR,BTLNBR_FLAG_W,DATE,TIME,LATITUDE,LONGITUDE,DEPTH,CTDPRS,CTDTMP,CTDSAL,CTDSAL_FLAG_W,SALNTY,SALNTY_FLAG_W,CTDOXY,CTDOXY_FLAG_W,OXYGEN,OXYGEN_FLAG_W,SILCAT,SILCAT_FLAG_W,NITRAT,NITRAT_FLAG_W,NITRIT,NITRIT_FLAG_W,PHSPHT,PHSPHT_FLAG_W,CFC-11,CFC-11_FLAG_W,CFC-12,CFC-12_FLAG_W,SF6,SF6_FLAG_W,TCARBN,TCARBN_FLAG_W,ALKALI,ALKALI_FLAG_W,FCO2,FCO2_FLAG_W,FCO2TMP,PH_TOT,PH_TOT_FLAG_W,PH_TMP,DELC13,DELC13_FLAG_W,DELC14,DELC14_FLAG_W,C14ERR,POC,POC_FLAG_W,DOC,DOC_FLAG_W,TDN,TDN_FLAG_W,N2O,N2O_FLAG_W,BTL_DATE,BTL_TIME,BTL_LAT,BTL_LON,REFTMP,REFTMP_FLAG_W,CTDFLUOR,CTDFLUOR_FLAG_W,CTDXMISS,CTDXMISS_FLAG_W,D15N_NO2+NO3,D15N_NO2+NO3_FLAG_W,D18O_NO2+NO3,D18O_NO2+NO3_FLAG_W,HPLC,HPLC_FLAG_W,MICROGELS,MICROGELS_FLAG_W
,,,,,,,,,,,METERS,DBAR,ITS-90,PSS-78,,PSS-78,,UMOL/KG,,UMOL/KG,,UMOL/KG,,UMOL/KG,,UMOL/KG,,UMOL/KG,,PMOL/KG,,PMOL/KG,,FMOL/KG,,UMOL/KG,,UMOL/KG,,UATM,,DEG C,,,DEG C,/MILLE,,/MILLE,,/MILLE,UG/KG,,UMOL/KG,,UMOL/KG,,NMOL/KG,,,,,,ITS-90,,VOLTS,,VOLTS,,/MILLE,,/MILLE,,,,1E6 GELS/L,
325020210316,        A20,      26,          1,         36,         36,2,20210327,       1314,    35.2231,   -52.3323,       5518,     5.4,  19.3120,  36.6535,2,  36.6528,2,    230.6,2,   229.7,2,    0.68,2,    0.28,2,    0.09,2,    0.00,2,   1.758,2,   1.233,2,    1.87,2,  2100.4,6, 2398.83,2,    359.4,2,    20.00,   8.02021,2,    25.00, -999.00,9, -999.00,9, -999.00,-999.000,9, -999.00,9, -999.00,9,       3.70,4, 20210327,     1540,  35.2231, -52.3323,    19.3170,2,     0.0889,1,     4.5514,1,     -999.0,9,     -999.0,9,     -999.0,9,     -999.0,9
325020210316,        A20,      26,          1,         35,         35,2,20210327,       1314,    35.2231,   -52.3323,       5518,    35.4,  19.2698,  36.6500,2,  36.6509,2,    230.8,3,   228.1,2,    0.78,2,    0.35,2,    0.10,2,    0.00,2,-999.000,9,-999.000,9, -999.00,9,  2101.8,2, 2399.74,2,    361.6,2,    20.00,   8.01742,6,    24.99, -999.00,9, -999.00,9, -999.00,-999.000,9, -999.00,9, -999.00,9,     -999.0,9, 20210327,     1538,  35.2231, -52.3323,    19.2696,2,     0.1348,1,     4.5769,1,     -999.0,9,     -999.0,9,     -999.0,9,     -999.0,9
325020210316,        A20,      26,          1,         34,         34,2,20210327,       1314,    35.2231,   -52.3323,       5518,    61.2,  19.1475,  36.6479,2,  36.6479,2,    218.4,3,   222.4,2,    0.78,2,    0.78,2,    0.20,2,    0.01,2,   1.871,2,   1.226,2,    2.00,2,  2103.5,2, 2397.44,6,    366.4,2,    20.00,   8.01307,2,    25.03, -999.00,9, -999.00,9, -999.00,-999.000,9, -999.00,9, -999.00,9,       7.45,2, 20210327,     1536,  35.2232, -52.3323,    19.1459,2,     0.0802,1,     4.6429,1,     -999.0,9,     -999.0,9,     -999.0,9,     -999.0,9
325020210316,        A20,      26,          1,         33,         33,2,20210327,       1314,    35.2231,   -52.3323,       5518,    80.5,  19.1432,  36.6480,2,  36.6473,2,    217.7,3,   221.8,2,    0.88,2,    0.82,2,    0.21,2,    0.01,2,-999.000,9,-999.000,9, -999.00,9,  2103.8,2, 2397.67,2,    367.8,2,    20.00,   8.01338,2,    25.00, -999.00,9, -999.00,9, -999.00,-999.000,9, -999.00,9, -999.00,9,     -999.0,9, 20210327,     1535,  35.2231, -52.3323,    19.1418,2,     0.0696,1,     4.6551,1,     -999.0,9,     -999.0,9,     -999.0,9,     -999.0,9
325020210316,        A20,      26,          1,         32,         32,2,20210327,       1314,    35.2231,   -52.3323,       5518,   115.8,  19.1430,  36.6490,2,  36.6485,2,    217.6,3,   221.4,2,    0.88,2,    0.85,2,    0.18,2,    0.02,2,   1.933,2,   1.240,2,    2.09,2,  2103.7,2, 2397.82,6,    362.2,2,    20.00,   8.01339,2,    25.01, -999.00,9, -999.00,9, -999.00,-999.000,9, -999.00,9, -999.00,9,       7.29,4, 20210327,     1532,  35.2231, -52.3323,    19.1449,2,     0.0560,1,     4.6603,1,     -999.0,9,     -999.0,9,     -999.0,9,     -999.0,9
325020210316,        A20,      26,          1,         31,         31,2,20210327,       1314,    35.2231,   -52.3323,       5518,   166.8,  19.1550,  36.6504,2,  36.6499,2,    218.9,2,   220.6,2,    0.98,2,    0.97,2,    0.15,2,    0.02,2,   1.895,2,   1.228,2,    1.94,2,  2103.9,2, 2398.01,2,    362.4,2,    20.00,   8.01221,2,    25.02, -999.00,9, -999.00,9, -999.00,-999.000,9, -999.00,9, -999.00,9,       7.30,2, 20210327,     1531,  35.2231, -52.3323,    19.1533,2,     0.0536,1,     4.6650,1,     -999.0,9,     -999.0,9,     -999.0,9,     -999.0,9
325020210316,        A20,      26,          1,         30,         30,2,20210327,       1314,    35.2231,   -52.3323,       5518,   217.1,  19.1456,  36.6505,2,  36.6497,2,    218.3,3,   220.7,2,    0.98,2,    0.99,2,    0.13,2,    0.01,2,-999.000,9,-999.000,9, -999.00,9,  2105.2,2, 2396.33,2,    359.7,2,    20.00,   8.01261,2,    25.05, -999.00,9, -999.00,9, -999.00,-999.000,9, -999.00,9, -999.00,9,     -999.0,9, 20210327,     1529,  35.2232, -52.3323,    19.1440,2,     0.0531,1,     4.6657,1,     -999.0,9,     -999.0,9,     -999.0,9,     -999.0,9
325020210316,        A20,      26,          1,         29,         29,2,20210327,       1314,    35.2231,   -52.3323,       5518,   266.9,  19.1378,  36.6503,2,  36.6497,2,    218.2,2,   218.7,2,    0.98,2,    1.27,2,    0.09,2,    0.03,2,   1.716,2,   1.213,2,    1.94,2,  2106.1,2, 2397.75,2,    372.9,2,    20.00,   7.98311,2,    25.02, -999.00,9, -999.00,9, -999.00,-999.000,9, -999.00,9, -999.00,9,       3.81,4, 20210327,     1527,  35.2231, -52.3323,    19.1388,2,     0.0498,1,     4.6716,1,     -999.0,9,     -999.0,9,     -999.0,9,     -999.0,9
325020210316,        A20,      26,          1,         28,         28,2,20210327,       1314,    35.2231,   -52.3323,       5518,   353.4,  18.9542,  36.6299,2,  36.6288,2,    215.3,3,   206.1,2,    1.27,2,    2.74,2,    0.01,2,    0.09,2,-999.000,9,-999.000,9, -999.00,9,  2111.4,2, 2393.47,2,   -999.0,9,  -999.00,   7.98358,2,    25.02, -999.00,9, -999.00,9, -999.00,-999.000,9, -999.00,9, -999.00,9,     -999.0,9, 20210327,     1524,  35.2231, -52.3323,    18.9528,2,     0.0395,1,     4.6887,1,     -999.0,9,     -999.0,9,     -999.0,9,     -999.0,9
325020210316,        A20,      26,          1,         27,         27,2,20210327,       1314,    35.2231,   -52.3323,       5518,   438.3,  18.5553,  36.5729,2,  36.5718,2,    199.3,3,   197.1,2,    1.56,2,    4.17,2,    0.00,2,    0.16,2,   1.812,6,   1.278,6,    1.83,6,  2127.8,2, 2389.85,2,    423.3,2,    20.00,   7.95749,6,    25.02, -999.00,9, -999.00,9, -999.00,-999.000,9, -999.00,9, -999.00,9,       8.43,6, 20210327,     1521,  35.2231, -52.3323,    18.5557,2,     0.0403,1,     4.6920,1,     -999.0,9,     -999.0,9,     -999.0,9,     -999.0,9
325020210316,        A20,      26,          1,         26,         26,2,20210327,       1314,    35.2231,   -52.3323,       5518,   539.5,  17.4845,  36.3983,2,  36.3974,2,    181.7,2,   183.1,2,    2.34,2,    7.14,2,    0.00,2,    0.32,2,   2.196,2,   1.348,2,    1.58,2,  2140.9,2, 2379.04,2,    472.4,2,    20.00,   7.91674,2,    25.02, -999.00,9, -999.00,9, -999.00,-999.000,9, -999.00,9, -999.00,9,      10.15,2, 20210327,     1518,  35.2231, -52.3323,    17.4837,2,     0.0394,1,     4.6957,1,     -999.0,9,     -999.0,9,     -999.0,9,     -999.0,9
325020210316,        A20,      26,          1,         25,         25,2,20210327,       1314,    35.2231,   -52.3323,       5518,   640.8,  15.9421,  36.1413,2,  36.1395,2,    174.2,3,   171.3,2,    3.81,2,   10.77,2,    0.00,2,    0.56,2,   2.154,2,   1.359,2,    1.51,2,  2156.6,2, 2366.04,2,    539.7,2,    20.00,   7.86467,2,    25.01, -999.00,9, -999.00,9, -999.00,-999.000,9, -999.00,9, -999.00,9,      11.82,4, 20210327,     1515,  35.2231, -52.3323,    15.9408,2,     0.0398,1,     4.6982,1,     -999.0,9,     -999.0,9,     -999.0,9,     -999.0,9
325020210316,        A20,      26,          1,         23,         23,2,20210327,       1314,    35.2231,   -52.3323,       5518,   741.8,  13.5645,  35.7603,2,  35.7624,2,    150.9,2,   151.2,2,    7.32,2,   16.68,2,    0.00,2,    0.97,2,   2.081,2,   1.199,2,    1.04,2,  2177.0,3, 2346.12,2,    668.3,2,    20.00,   7.77954,2,    25.02, -999.00,9, -999.00,9, -999.00,-999.000,9, -999.00,9, -999.00,9,       9.63,4, 20210327,     1506,  35.2232, -52.3323,    13.5633,2,     0.0417,1,     4.7016,1,     -999.0,9,     -999.0,9,     -999.0,9,     -999.0,9
325020210316,        A20,      26,          1,         24,         24,2,20210327,       1314,    35.2231,   -52.3323,       5518,   742.2,  13.5221,  35.7544,2,  35.7606,2,    150.5,2,   151.5,2,    7.22,2,   16.77,2,    0.00,2,    0.97,2,-999.000,9,-999.000,9, -999.00,9,  2177.3,2, 2345.35,2,    667.6,2,    20.00,   7.77848,2,    25.03, -999.00,9, -999.00,9, -999.00,-999.000,9, -999.00,9, -999.00,9,     -999.0,9, 20210327,     1507,  35.2232, -52.3323,    13.5319,2,     0.0406,1,     4.7015,1,     -999.0,9,     -999.0,9,     -999.0,9,     -999.0,9
325020210316,        A20,      26,          1,         22,         22,2,20210327,       1314,    35.2231,   -52.3323,       5518,   843.1,  10.8352,  35.3867,2,  35.3835,2,    144.5,2,   143.5,2,   11.81,2,   21.93,2,    0.00,2,    1.34,2,-999.000,9,-999.000,9, -999.00,9,  -999.0,9, -999.00,9,   -999.0,9,  -999.00,-999.00000,9,  -999.00, -999.00,9, -999.00,9, -999.00,-999.000,9, -999.00,9, -999.00,9,     -999.0,9, 20210327,     1503,  35.2231, -52.3323,    10.8428,2,     0.0421,1,     4.7018,1,     -999.0,9,     -999.0,9,     -999.0,9,     -999.0,9
325020210316,        A20,      26,          1,         21,         21,2,20210327,       1314,    35.2231,   -52.3323,       5518,   944.2,   8.3764,  35.1023,2,  35.1028,2,    171.9,2,   173.2,2,   12.31,2,   21.08,2,    0.00,2,    1.32,2,   2.039,2,   1.145,2,    1.03,2,  2190.5,2, 2317.43,2,    843.9,2,    20.00,   7.68138,2,    24.98, -999.00,9, -999.00,9, -999.00,-999.000,9, -999.00,9, -999.00,9,      10.59,4, 20210327,     1500,  35.2232, -52.3323,     8.3764,2,     0.0426,1,     4.7031,1,     -999.0,9,     -999.0,9,     -999.0,9,     -999.0,9
325020210316,        A20,      26,          1,         20,         20,2,20210327,       1314,    35.2231,   -52.3323,       5518,  1045.1,   7.4748,  35.1582,2,  35.1518,3,    184.6,3,   187.8,2,   12.89,2,   21.16,2,    0.00,2,    1.32,2,-999.000,9,-999.000,9, -999.00,9,  -999.0,9, -999.00,9,   -999.0,9,  -999.00,-999.00000,9,  -999.00, -999.00,9, -999.00,9, -999.00,-999.000,9, -999.00,9, -999.00,9,     -999.0,9, 20210327,     1457,  35.2232, -52.3323,     7.4883,2,     0.0426,1,     4.7064,1,     -999.0,9,     -999.0,9,     -999.0,9,     -999.0,9
325020210316,        A20,      26,          1,         19,         19,2,20210327,       1314,    35.2231,   -52.3323,       5518,  1146.9,   6.2351,  35.1137,2,  35.1100,2,    214.6,2,   213.4,2,   12.70,2,   19.92,2,    0.00,2,    1.25,2,   2.307,2,   1.204,2,    0.92,2,  2184.5,6, 2316.78,2,   -999.0,9,  -999.00,   7.69546,2,    25.02, -999.00,9, -999.00,9, -999.00,-999.000,9, -999.00,9, -999.00,9,       8.64,4, 20210327,     1454,  35.2231, -52.3323,     6.2286,2,     0.0417,1,     4.7056,1,     -999.0,9,     -999.0,9,     -999.0,9,     -999.0,9
325020210316,        A20,      26,          1,         18,         18,2,20210327,       1314,    35.2231,   -52.3323,       5518,  1247.8,   5.7104,  35.1192,2,  35.1181,2,    228.3,2,   229.5,2,   12.21,2,   18.82,2,    0.00,2,    1.19,2,   2.355,2,   1.321,2,    1.01,2,  2179.8,2, 2317.17,2,    787.6,2,    20.00,   7.70658,2,    24.96, -999.00,9, -999.00,9, -999.00,-999.000,9, -999.00,9, -999.00,9,      14.82,2, 20210327,     1451,  35.2231, -52.3323,     5.7107,2,     0.0409,1,     4.7063,1,     -999.0,9,     -999.0,9,     -999.0,9,     -999.0,9
325020210316,        A20,      26,          1,         17,         17,2,20210327,       1314,    35.2231,   -52.3323,       5518,  1348.9,   5.2651,  35.0889,2,  35.0888,2,    240.4,2,   240.4,2,   11.82,2,   18.21,2,    0.00,2,    1.16,2,-999.000,9,-999.000,9, -999.00,9,  -999.0,9, -999.00,9,   -999.0,9,  -999.00,-999.00000,9,  -999.00, -999.00,9, -999.00,9, -999.00,-999.000,9, -999.00,9, -999.00,9,     -999.0,9, 20210327,     1447,  35.2231, -52.3323,     5.2643,2,     0.0423,1,     4.7071,1,     -999.0,9,     -999.0,9,     -999.0,9,     -999.0,9
325020210316,        A20,      26,          1,         16,         16,2,20210327,       1314,    35.2231,   -52.3323,       5518,  1480.9,   4.8241,  35.0464,2,  35.0488,2,    249.9,2,   249.3,2,   11.82,2,   17.89,2,    0.00,2,    1.14,2,   2.714,2,   1.494,2,    0.98,2,  2173.7,2, 2311.91,2,    784.5,2,    20.00,   7.71118,2,    24.99, -999.00,9, -999.00,9, -999.00,-999.000,9, -999.00,9, -999.00,9,      14.04,2, 20210327,     1444,  35.2232, -52.3323,     4.8240,2,     0.0423,1,     4.7070,1,     -999.0,9,     -999.0,9,     -999.0,9,     -999.0,9
325020210316,        A20,      26,          1,         15,         15,2,20210327,       1314,    35.2231,   -52.3323,       5518,  1684.0,   4.3623,  35.0081,2,  35.0085,2,    260.2,2,   258.0,2,   12.01,2,   17.70,2,    0.00,2,    1.13,2,   2.740,2,   1.470,2,    0.88,2,  2169.9,2, 2311.31,2,    775.5,2,    20.00,   7.71486,2,    25.05, -999.00,9, -999.00,9, -999.00,-999.000,9, -999.00,9, -999.00,9,       6.88,4, 20210327,     1439,  35.2231, -52.3323,     4.3647,2,     0.0424,1,     4.7070,1,     -999.0,9,     -999.0,9,     -999.0,9,     -999.0,9
325020210316,        A20,      26,          1,         14,         14,2,20210327,       1314,    35.2231,   -52.3323,       5518,  1887.4,   4.0178,  34.9761,2,  34.9762,2,    264.4,2,   263.5,2,   12.40,2,   17.65,2,    0.00,2,    1.12,2,-999.000,9,-999.000,9, -999.00,9,  -999.0,9, -999.00,9,   -999.0,9,  -999.00,-999.00000,9,  -999.00, -999.00,9, -999.00,9, -999.00,-999.000,9, -999.00,9, -999.00,9,     -999.0,9, 20210327,     1435,  35.2232, -52.3323,     4.0181,2,     0.0416,1,     4.7068,1,     -999.0,9,     -999.0,9,     -999.0,9,     -999.0,9
325020210316,        A20,      26,          1,         13,         13,2,20210327,       1314,    35.2231,   -52.3323,       5518,  2111.3,   3.8896,  34.9835,2,  34.9831,2,    263.6,2,   261.2,2,   14.06,2,   17.88,2,    0.00,2,    1.15,2,   2.322,2,   1.125,2,    0.46,2,  2166.6,2, 2309.74,2,   -999.0,9,  -999.00,   7.72361,2,    24.97, -999.00,9, -999.00,9, -999.00,-999.000,9, -999.00,9, -999.00,9,       6.61,4, 20210327,     1430,  35.2232, -52.3323,     3.8898,2,     0.0429,1,     4.7078,1,     -999.0,9,     -999.0,9,     -999.0,9,     -999.0,9
325020210316,        A20,      26,          1,         12,         12,2,20210327,       1314,    35.2231,   -52.3323,       5518,  2365.8,   3.5615,  34.9657,2,  34.9660,2,    262.8,2,   262.8,2,   16.12,2,   17.94,2,    0.00,2,    1.16,2,   1.794,2,   0.908,2,    0.38,2,  2166.1,2, 2310.96,2,    748.2,2,    20.00,   7.72774,2,    25.03, -999.00,9, -999.00,9, -999.00,-999.000,9, -999.00,9, -999.00,9,      13.26,2, 20210327,     1424,  35.2232, -52.3323,     3.5613,2,     0.0426,1,     4.7082,1,     -999.0,9,     -999.0,9,     -999.0,9,     -999.0,9
325020210316,        A20,      26,          1,         11,         11,2,20210327,       1314,    35.2231,   -52.3323,       5518,  2620.2,   3.3108,  34.9520,2,  34.9510,2,    263.4,2,   264.2,2,   17.87,2,   17.91,2,    0.00,2,    1.16,2,-999.000,9,-999.000,9, -999.00,9,  -999.0,9, -999.00,9,   -999.0,9,  -999.00,-999.00000,9,  -999.00, -999.00,9, -999.00,9, -999.00,-999.000,9, -999.00,9, -999.00,9,     -999.0,9, 20210327,     1418,  35.2232, -52.3323,     3.3112,2,     0.0425,1,     4.7076,1,     -999.0,9,     -999.0,9,     -999.0,9,     -999.0,9
325020210316,        A20,      26,          1,         10,         10,2,20210327,       1314,    35.2231,   -52.3323,       5518,  2875.1,   3.1103,  34.9449,2,  34.9441,2,    262.5,2,   263.5,2,   20.22,2,   18.19,2,    0.00,2,    1.18,2,   1.222,2,   0.624,2,    0.30,2,  2167.2,2, 2317.69,2,    741.4,2,    20.00,    7.7328,2,    25.06, -999.00,9, -999.00,9, -999.00,-999.000,9, -999.00,9, -999.00,9,      12.93,4, 20210327,     1413,  35.2232, -52.3323,     3.1099,2,     0.0425,1,     4.7080,1,     -999.0,9,     -999.0,9,     -999.0,9,     -999.0,9
325020210316,        A20,      26,          1,          9,          9,2,20210327,       1314,    35.2231,   -52.3323,       5518,  3146.2,   2.9194,  34.9348,2,  34.9339,2,    264.5,2,   264.4,2,   21.98,2,   18.26,2,    0.00,2,    1.19,2,   1.038,2,   0.564,2,    0.21,2,  2169.1,2, 2317.16,2,    737.9,2,    20.00,   7.73473,2,    25.04, -999.00,9, -999.00,9, -999.00,-999.000,9, -999.00,9, -999.00,9,       7.17,4, 20210327,     1407,  35.2231, -52.3323,     2.9198,2,     0.0427,1,     4.7079,1,     -999.0,9,     -999.0,9,     -999.0,9,     -999.0,9
325020210316,        A20,      26,          1,          8,          8,2,20210327,       1314,    35.2231,   -52.3323,       5518,  3452.9,   2.6747,  34.9208,2,  34.9193,2,    264.1,2,   265.5,2,   24.61,2,   18.39,2,    0.00,2,    1.21,2,-999.000,9,-999.000,9, -999.00,9,  -999.0,9, -999.00,9,   -999.0,9,  -999.00,-999.00000,9,  -999.00, -999.00,9, -999.00,9, -999.00,-999.000,9, -999.00,9, -999.00,9,     -999.0,9, 20210327,     1400,  35.2231, -52.3323,     2.6746,2,     0.0425,1,     4.7075,1,     -999.0,9,     -999.0,9,     -999.0,9,     -999.0,9
325020210316,        A20,      26,          1,          7,          7,2,20210327,       1314,    35.2231,   -52.3323,       5518,  3760.3,   2.4425,  34.9049,2,  34.9038,2,    265.7,2,   266.0,2,   27.94,2,   18.53,2,    0.00,2,    1.22,2,   0.985,2,   0.472,2,    0.21,2,  2173.0,2, 2321.89,2,   -999.0,9,  -999.00,   7.73458,2,    25.01, -999.00,9, -999.00,9, -999.00,-999.000,9, -999.00,9, -999.00,9,       8.02,4, 20210327,     1354,  35.2232, -52.3323,     2.4421,2,     0.0418,1,     4.7079,1,     -999.0,9,     -999.0,9,     -999.0,9,     -999.0,9
325020210316,        A20,      26,          1,          6,          6,2,20210327,       1314,    35.2231,   -52.3323,       5518,  4104.0,   2.3262,  34.8945,2,  34.8936,2,    264.3,2,   265.2,2,   30.87,2,   18.79,2,    0.00,2,    1.25,2,   0.836,2,   0.477,2,    0.23,2,  2177.7,2, 2326.43,2,    748.6,2,    20.00,   7.73106,2,    25.04, -999.00,9, -999.00,9, -999.00,-999.000,9, -999.00,9, -999.00,9,       7.21,4, 20210327,     1346,  35.2232, -52.3323,     2.3260,2,     0.0429,1,     4.7067,1,     -999.0,9,     -999.0,9,     -999.0,9,     -999.0,9
325020210316,        A20,      26,          1,          5,          5,2,20210327,       1314,    35.2231,   -52.3323,       5518,  4514.8,   2.2536,  34.8840,2,  34.8831,2,    260.9,2,   262.3,2,   36.04,2,   19.53,2,    0.00,2,    1.32,2,-999.000,9,-999.000,9, -999.00,9,  -999.0,9, -999.00,9,   -999.0,9,  -999.00,-999.00000,9,  -999.00, -999.00,9, -999.00,9, -999.00,-999.000,9, -999.00,9, -999.00,9,     -999.0,9, 20210327,     1338,  35.2232, -52.3323,     2.2538,2,     0.0431,1,     4.6945,1,     -999.0,9,     -999.0,9,     -999.0,9,     -999.0,9
325020210316,        A20,      26,          1,          4,          4,2,20210327,       1314,    35.2231,   -52.3323,       5518,  4926.4,   2.2135,  34.8743,2,  34.8737,2,    256.3,2,   258.2,2,   41.81,2,   20.45,2,    0.00,2,    1.39,2,   0.619,2,   0.303,2,    0.22,2,  2189.0,2, 2335.07,6,   -999.0,9,  -999.00,   7.72633,2,    24.98, -999.00,9, -999.00,9, -999.00,-999.000,9, -999.00,9, -999.00,9,      13.11,4, 20210327,     1330,  35.2232, -52.3323,     2.2137,2,     0.0419,1,     4.6801,1,     -999.0,9,     -999.0,9,     -999.0,9,     -999.0,9
325020210316,        A20,      26,          1,          3,          3,2,20210327,       1314,    35.2231,   -52.3323,       5518,  5339.1,   2.2087,  34.8672,2,  34.8672,2,    255.1,2,   255.2,2,   45.71,2,   21.06,2,    0.00,2,    1.44,2,   0.449,2,   0.218,2,    0.14,2,  2193.0,2, 2836.02,4,    766.0,2,    20.00,     7.723,6,    25.02, -999.00,9, -999.00,9, -999.00,-999.000,9, -999.00,9, -999.00,9,       8.31,4, 20210327,     1322,  35.2232, -52.3323,     2.2088,2,     0.0425,1,     4.6271,1,     -999.0,9,     -999.0,9,     -999.0,9,     -999.0,9