BOTTLE,20230512CCHSIOCBG
# Merged parameters: PH_TOT, PH_TOT_FLAG_W
# Merged parameters: ALKALI, ALKALI_FLAG_W
# 20230429CCHSIOCBG
# Merged parameters: DELC13, DELC13_FLAG_W, DELC14, DELC14_FLAG_W, C14ERR
# 20220814CCHSIOAMB
#ship: R/V Thomas G Thompson (3250)
#dates: 2021-03-16/04-16
#cruise: [A20]
#chief scientist: [Ryan Woosley]
#co-chief scientist: [Andreas Thurnherr]
#float deployments:
#  - [Sta,   WMO_ID,    Lat,        Lon,       Date,         Name,                     Adopted by]
#  - [18,    5906342,   40.0657,    -52.33,    2021-03-24,   Europa,                   "Fauquier County Public Schools, Warrenton, VA"]
#  - [25,    5906341,   35.8859,    -52.33,    2021-03-27,   Lewisburg Eel Express,    "Lewisburg High School, Lewisburg, PA"]
#  - [32,    5906440,   31.66,      -52.33,    2021-03-29,   Vanadium Iodine Sulfur,   "Visitation School, Mendota Heights, MN"]
#  - [39,    5906435,   27.64,      -52.33,    2021-03-31,   Windston 7,               "Anoka Middle School for the Arts, Anoka, MN"]
#  - [45,    5906340,   24.14,      -52.33,    2021-04-02,   Admiral,                  "Bayside Academy, Daphne, AL"]
#  - [52,    5906339,   20.06,      -52.33,    2021-04-04,   MMHS Nemer,               "Mica Mountain High School, Tucson, AZ"]
#  - [59,    5906343,   15.97,      -52.33,    2021-04-06,   Weddell,                  "Beaulieu Convent School, St. Helier, UK"]
#  - [66,    5906434,   11.89,      -52.33,    2021-04-08,   The Flysch,               "University of British Columbia, Okanagan, Kelowna, BC, Canada"]
#
# DATA CITATION
#| CCHDO Citation Information
#|
#| Please cite data downloaded from CCHDO as: 
#| [Data providers of the parameter(s) used]. [Year of file access]. [CTD/Bottle] data from cruise [expocode], 
#| [format version used]. Accessed from CCHDO [url of cruise data page]. Access date [date of download].
#| [Applicable CCHDO cruise DOI if provided].
#|
#| For example: 
#| Swift, J. and Becker, S. 2019. CTD data from Cruise 33RR20160321, exchange version. Accessed from CCHDO 
#| https://cchdo.ucsd.edu/cruise/33RR20160321. Access date 2019-08-21. CCHDO cruise DOI: 10.7942/C2008W
#|
#| Information on the scientists who provided the different parameters can be found in the cruise report. 
#| Additionally, for US GO-SHIP cruises, this information is usually in the comments section in the text headers 
#| of the Exchange bottle files.
#|
#| Users are also encouraged to acknowledge the funding program that supported the data collection in their publication. 
#| For US GO-SHIP data this is the NSF/NOAA funded U.S Repeat Hydrography Program.
#|
#| For data citation, please use the data providers listed below. 
#
#programs:
#  CTD:
#      who: [J.Swift, Susan Becker]
#      includes: [CTDPRS, CTDTMP, CTDSAL, CTDOXY, REFTMP]
#      status: final
#      notes: >
#        Communication errors on station 9 bottles 31~36, no trip records
#        Communication errors on station 43 bottles 30~36, no trip records
#  Salinity:
#      who: [J.Swift, Susan Becker]
#      includes: [SALNTY]
#      status: final
#      notes: >
#  Nutrients:
#      who: [J.Swift, Susan Becker]
#      includes: [SILCAT, NITRAT, NITRIT, PHSPHT]
#      status: final
#      notes: >
#  O2:
#      who: [J.Swift, Susan Becker]
#      includes: [OXYGEN]
#      status: final
#      notes: >
#  Tracers:
#      who: [Mark Warner]
#      includes: [CFC-11, CFC-12, SF6, N2O]
#      status: final
#      notes: >
#        merged on 2022-08-14 by AMB
#  DIC:
#      who: [Richard Feely, Rik Wanninkhof]
#      includes: [TCARBN]
#      status: final
#      notes: >
#        merged on 2022-08-14 by AMB
#  Talk:
#      who: [Andrew Dickson, Frank Millero]
#      includes: [ALKALI]
#      status: final
#      notes: >
#        merged on 2023-05-12 by CBG
#  pH:
#      who: [Andrew Dickson, Frank Millero]
#      includes: [PH_TOT, PH_TMP]
#      status: final
#      notes: >
#        merged on 2023-05-12 by CBG
#  Discrete pCO2:
#      who: [Rik Wanninkhof]
#      includes: [FCO2, FCO2TMP]
#      status: preliminary
#      notes: >
#  DOC:
#      who: [Dennis Hansell]
#      includes: [DOC, TDN]
#      status: final
#      notes: >
#        merged on 2022-08-14 by AMB
#  Microgels:
#      who: [Dennis Hansell]
#      includes: [MICROGELS]
#      status: collected
#      notes: >
#  Nitrogen isotopes:
#      who: [Dan Sigman, Dario, Marconi]
#      includes: [D15N_NO2+NO3, D18O_NO2+NO3]
#      status: collected
#      notes: >
#  13C/14C:
#      who: [Rolf Sonnerup, Roberta Hansman]
#      includes: [DELC13, DELC14]
#      status: final
#      notes: >
#        merged on 2023-04-29 by CBG
#  HPLC:
#      who: [Lynne Talley]
#      includes: [HPLC]
#      status: collected
#      notes: >
#  POC:
#      who: [Lynne Talley]
#      includes: [POC]
#      status: collected
#      notes: >
#  Transmissometer:
#      who: [Wilf Gardner]
#      includes: [CTDXMISS]
#      status: preliminary
#      notes: >
#  Fluorometer:
#      who: [GO-BGC]
#      includes: [CTDFLUOR]
#      status: preliminary
#      notes: >
#  Lowered ADCP:
#      who: [Andreas Thurnherr]
#      url: https://currents.soest.hawaii.edu/go-ship/flastik_ladcp_goship_beta/2021_A20/index.html
#      status: collected
#      notes: >
#  Shipboard ADCP:
#      who: [Eric Firing, Jules Hummon]
#      url: https://currents.soest.hawaii.edu/go-ship/sadcp/cruises/2021_A20/index.html
#      status: collected
#      notes: >
#  Underway pCO2:
#      who: [Richard Feely]
#      status: collected
#      notes: >
#  Chipod:
#      who: [Jonathan Nash]
#      status: collected
#      notes: >
EXPOCODE,SECT_ID,STNNBR,CASTNO,SAMPNO,BTLNBR,BTLNBR_FLAG_W,DATE,TIME,LATITUDE,LONGITUDE,DEPTH,CTDPRS,CTDTMP,CTDSAL,CTDSAL_FLAG_W,SALNTY,SALNTY_FLAG_W,CTDOXY,CTDOXY_FLAG_W,OXYGEN,OXYGEN_FLAG_W,SILCAT,SILCAT_FLAG_W,NITRAT,NITRAT_FLAG_W,NITRIT,NITRIT_FLAG_W,PHSPHT,PHSPHT_FLAG_W,CFC-11,CFC-11_FLAG_W,CFC-12,CFC-12_FLAG_W,SF6,SF6_FLAG_W,TCARBN,TCARBN_FLAG_W,ALKALI,ALKALI_FLAG_W,FCO2,FCO2_FLAG_W,FCO2TMP,PH_TOT,PH_TOT_FLAG_W,PH_TMP,DELC13,DELC13_FLAG_W,DELC14,DELC14_FLAG_W,C14ERR,POC,POC_FLAG_W,DOC,DOC_FLAG_W,TDN,TDN_FLAG_W,N2O,N2O_FLAG_W,BTL_DATE,BTL_TIME,BTL_LAT,BTL_LON,REFTMP,REFTMP_FLAG_W,CTDFLUOR,CTDFLUOR_FLAG_W,CTDXMISS,CTDXMISS_FLAG_W,D15N_NO2+NO3,D15N_NO2+NO3_FLAG_W,D18O_NO2+NO3,D18O_NO2+NO3_FLAG_W,HPLC,HPLC_FLAG_W,MICROGELS,MICROGELS_FLAG_W
,,,,,,,,,,,METERS,DBAR,ITS-90,PSS-78,,PSS-78,,UMOL/KG,,UMOL/KG,,UMOL/KG,,UMOL/KG,,UMOL/KG,,UMOL/KG,,PMOL/KG,,PMOL/KG,,FMOL/KG,,UMOL/KG,,UMOL/KG,,UATM,,DEG C,,,DEG C,/MILLE,,/MILLE,,/MILLE,UG/KG,,UMOL/KG,,UMOL/KG,,NMOL/KG,,,,,,ITS-90,,VOLTS,,VOLTS,,/MILLE,,/MILLE,,,,1E6 GELS/L,
325020210316,        A20,       1,          1,          7,          7,2,20210321,       0425,    43.1053,   -50.7317,         96,     6.4,   2.7898,  32.5341,2,  32.5406,2,    331.0,2,   330.6,2,    5.97,2,    5.57,2,    0.18,2,    0.67,2,   3.952,4,   2.630,4,    3.37,4,  2093.1,2, 2206.49,6,    824.4,2,    20.00,   7.68141,2,    25.00, -999.00,9, -999.00,9, -999.00,-999.000,9, -999.00,9, -999.00,9,       9.31,4, 20210321,      436,  43.1053, -50.7317,     2.7904,2,     0.1124,1,     4.2869,1,     -999.0,9,     -999.0,9,     -999.0,9,     -999.0,9
325020210316,        A20,       1,          1,          6,          6,2,20210321,       0425,    43.1053,   -50.7317,         96,    14.4,   2.6939,  32.6116,2,  32.5639,3,    331.6,2,   332.3,2,    6.16,2,    5.63,2,    0.17,2,    0.67,2,-999.000,9,-999.000,9, -999.00,9,  2095.4,6, 2205.98,2,    823.0,2,    20.00,   7.68183,2,    25.00, -999.00,9, -999.00,9, -999.00,-999.000,9, -999.00,9, -999.00,9,     -999.0,9, 20210321,      436,  43.1053, -50.7317,     2.7497,3,     0.1248,1,     4.3188,1,     -999.0,9,     -999.0,9,     -999.0,9,     -999.0,9
325020210316,        A20,       1,          1,          5,          5,2,20210321,       0425,    43.1053,   -50.7317,         96,    21.9,   2.5331,  32.7408,2,  32.7212,2,    334.2,2,   334.0,2,    5.87,2,    5.98,2,    0.15,2,    0.67,2,-999.000,9,-999.000,9, -999.00,9,  2101.3,2, 2215.32,2,    823.0,2,    20.00,   7.68154,2,    25.01, -999.00,9, -999.00,9, -999.00,-999.000,9, -999.00,9, -999.00,9,     -999.0,9, 20210321,      434,  43.1053, -50.7317,     2.5388,2,     0.1324,1,     4.3328,1,     -999.0,9,     -999.0,9,     -999.0,9,     -999.0,9
325020210316,        A20,       1,          1,          4,          4,2,20210321,       0425,    43.1053,   -50.7317,         96,    45.4,   2.1217,  32.9846,2,  32.9962,2,    336.0,2,   336.4,2,    5.38,2,    6.33,2,    0.12,2,    0.68,2,   3.808,4,   2.686,4,    4.45,4,  2108.9,2, 2224.42,2,    819.1,2,    20.00,   7.68481,2,    25.00, -999.00,9, -999.00,9, -999.00,-999.000,9, -999.00,9, -999.00,9,       8.74,4, 20210321,      431,  43.1053, -50.7317,     2.1166,2,     0.1030,1,     4.4668,1,     -999.0,9,     -999.0,9,     -999.0,9,     -999.0,9
325020210316,        A20,       1,          1,          3,          3,2,20210321,       0425,    43.1053,   -50.7317,         96,    61.0,   1.6127,  33.3598,2,  33.3549,2,    335.6,2,   336.1,2,    4.99,2,    7.03,2,    0.10,2,    0.71,2,-999.000,9,-999.000,9, -999.00,9,  2119.9,2, 2239.48,2,    819.2,2,    20.00,    7.6858,2,    25.01, -999.00,9, -999.00,9, -999.00,-999.000,9, -999.00,9, -999.00,9,     -999.0,9, 20210321,      430,  43.1053, -50.7317,     1.6132,2,     0.0759,1,     4.6318,1,     -999.0,9,     -999.0,9,     -999.0,9,     -999.0,9
325020210316,        A20,       1,          1,          2,          2,2,20210321,       0425,    43.1053,   -50.7317,         96,    76.1,   1.4286,  33.4784,2,  33.4721,2,    332.3,2,   331.6,2,    5.57,2,    7.77,2,    0.11,2,    0.76,2,   3.976,4,   2.794,4,    4.30,4,  2125.7,2, 2242.68,2,    840.4,6,    20.00,   7.67543,2,    25.00, -999.00,9, -999.00,9, -999.00,-999.000,9, -999.00,9, -999.00,9,       9.10,4, 20210321,      428,  43.1053, -50.7317,     1.4290,2,     0.0635,1,     4.6636,1,     -999.0,9,     -999.0,9,     -999.0,9,     -999.0,9
325020210316,        A20,       1,          1,          1,          1,2,20210321,       0425,    43.1053,   -50.7317,         96,    88.6,   1.6046,  33.5855,2,-999.0000,9,    322.1,2,   322.3,2,    7.04,2,    8.77,2,    0.14,2,    0.82,2,  -0.020,4,  -0.029,4,   -0.62,4,  2136.1,2, 2247.98,2,    860.4,2,    20.00,   7.66541,6,    25.04, -999.00,9, -999.00,9, -999.00,-999.000,9, -999.00,9, -999.00,9,      -0.15,4, 20210321,      425,  43.1053, -50.7317,     1.6025,2,     0.0622,1,     4.4433,1,     -999.0,9,     -999.0,9,     -999.0,9,     -999.0,9
325020210316,        A20,       2,          1,          7,          7,2,20210321,       0623,    43.0573,   -50.7712,        108,     4.4,   2.6809,  32.5857,2,  32.5776,2,    333.9,2,   332.4,2,    6.06,2,    5.64,2,    0.16,2,    0.67,2,-999.000,9,-999.000,9, -999.00,9,  2094.5,6, 2210.14,2,    824.6,2,    20.00,   7.68063,2,    25.01, -999.00,9, -999.00,9, -999.00,-999.000,9, -999.00,9, -999.00,9,     -999.0,9, 20210321,      636,  43.0573, -50.7712,     2.6857,2,     0.1217,1,     4.3212,1,     -999.0,9,     -999.0,9,     -999.0,9,     -999.0,9
325020210316,        A20,       2,          1,          6,          6,2,20210321,       0623,    43.0573,   -50.7712,        108,    21.3,   2.2771,  32.8949,2,  32.8837,2,    335.9,2,   335.6,2,    5.77,2,    6.27,2,    0.13,2,    0.69,2,-999.000,9,-999.000,9, -999.00,9,  2105.4,2, 2221.28,2,    826.6,6,    20.00,    7.6821,2,    25.00, -999.00,9, -999.00,9, -999.00,-999.000,9, -999.00,9, -999.00,9,     -999.0,9, 20210321,      634,  43.0573, -50.7712,     2.2753,2,     0.1376,1,     4.3816,1,     -999.0,9,     -999.0,9,     -999.0,9,     -999.0,9
325020210316,        A20,       2,          1,          5,          5,2,20210321,       0623,    43.0573,   -50.7712,        108,    34.4,   1.9720,  33.0686,2,  33.0685,2,    339.3,2,   337.8,2,    5.18,2,    6.27,2,    0.11,2,    0.68,2,-999.000,9,-999.000,9, -999.00,9,  2108.3,2, 2228.74,2,    815.0,2,    20.00,   7.68788,6,    25.00, -999.00,9, -999.00,9, -999.00,-999.000,9, -999.00,9, -999.00,9,     -999.0,9, 20210321,      632,  43.0573, -50.7712,     1.9702,2,     0.0944,1,     4.5217,1,     -999.0,9,     -999.0,9,     -999.0,9,     -999.0,9
325020210316,        A20,       2,          1,          4,          4,2,20210321,       0623,    43.0573,   -50.7712,        108,    49.8,   1.6389,  33.2674,2,  33.2885,3,    339.4,2,   338.1,2,    4.79,2,    6.62,2,    0.10,2,    0.70,2,-999.000,9,-999.000,9, -999.00,9,  2116.2,2, 2235.99,2,    812.2,2,    20.00,   7.68969,2,    24.99, -999.00,9, -999.00,9, -999.00,-999.000,9, -999.00,9, -999.00,9,     -999.0,9, 20210321,      630,  43.0573, -50.7712,     1.6293,2,     0.0830,1,     4.5962,1,     -999.0,9,     -999.0,9,     -999.0,9,     -999.0,9
325020210316,        A20,       2,          1,          3,          3,2,20210321,       0623,    43.0573,   -50.7712,        108,    66.9,   1.4635,  33.4436,2,  33.4377,2,    338.3,2,   337.2,2,    4.79,2,    7.13,2,    0.09,2,    0.72,2,-999.000,9,-999.000,9, -999.00,9,  2122.3,2,  2241.8,2,    816.7,2,    20.00,     7.689,2,    25.01, -999.00,9, -999.00,9, -999.00,-999.000,9, -999.00,9, -999.00,9,     -999.0,9, 20210321,      627,  43.0573, -50.7711,     1.4637,2,     0.0682,1,     4.6534,1,     -999.0,9,     -999.0,9,     -999.0,9,     -999.0,9
325020210316,        A20,       2,          1,          2,          2,2,20210321,       0623,    43.0573,   -50.7712,        108,    81.9,   1.4491,  33.4656,2,  33.4610,2,    334.9,2,   334.8,2,    5.08,2,    7.39,2,    0.10,2,    0.73,2,-999.000,9,-999.000,9, -999.00,9,  2125.1,2, 2243.19,2,    825.3,2,    20.00,   7.68469,2,    25.00, -999.00,9, -999.00,9, -999.00,-999.000,9, -999.00,9, -999.00,9,     -999.0,9, 20210321,      624,  43.0573, -50.7712,     1.4485,2,     0.0717,1,     4.6436,1,     -999.0,9,     -999.0,9,     -999.0,9,     -999.0,9
325020210316,        A20,       2,          1,          1,          1,2,20210321,       0623,    43.0573,   -50.7712,        108,    98.8,   1.5103,  33.5331,2,  33.5233,2,    325.2,2,   325.2,2,    6.35,2,    8.24,2,    0.12,2,    0.80,2,-999.000,9,-999.000,9, -999.00,9,  2133.8,2, 2246.72,6,    854.8,2,    20.00,   7.67005,2,    25.01, -999.00,9, -999.00,9, -999.00,-999.000,9, -999.00,9, -999.00,9,     -999.0,9, 20210321,      623,  43.0573, -50.7712,     1.5107,2,     0.0814,1,     4.5511,1,     -999.0,9,     -999.0,9,     -999.0,9,     -999.0,9