BOTTLE,20230512CCHSIOCBG
EXPOCODE,SECT_ID,STNNBR,CASTNO,SAMPNO,BTLNBR,BTLNBR_FLAG_W,DATE,TIME,LATITUDE,LONGITUDE,DEPTH,CTDPRS,CTDTMP,CTDSAL,CTDSAL_FLAG_W,SALNTY,SALNTY_FLAG_W,CTDOXY,CTDOXY_FLAG_W,OXYGEN,OXYGEN_FLAG_W,SILCAT,SILCAT_FLAG_W,NITRAT,NITRAT_FLAG_W,NITRIT,NITRIT_FLAG_W,PHSPHT,PHSPHT_FLAG_W,CFC-11,CFC-11_FLAG_W,CFC-12,CFC-12_FLAG_W,SF6,SF6_FLAG_W,TCARBN,TCARBN_FLAG_W,ALKALI,ALKALI_FLAG_W,FCO2,FCO2_FLAG_W,FCO2TMP,PH_TOT,PH_TOT_FLAG_W,PH_TMP,DELC13,DELC13_FLAG_W,DELC14,DELC14_FLAG_W,C14ERR,POC,POC_FLAG_W,DOC,DOC_FLAG_W,TDN,TDN_FLAG_W,N2O,N2O_FLAG_W,BTL_DATE,BTL_TIME,BTL_LAT,BTL_LON,REFTMP,REFTMP_FLAG_W,CTDFLUOR,CTDFLUOR_FLAG_W,CTDXMISS,CTDXMISS_FLAG_W,D15N_NO2+NO3,D15N_NO2+NO3_FLAG_W,D18O_NO2+NO3,D18O_NO2+NO3_FLAG_W,HPLC,HPLC_FLAG_W,MICROGELS,MICROGELS_FLAG_W
,,,,,,,,,,,METERS,DBAR,ITS-90,PSS-78,,PSS-78,,UMOL/KG,,UMOL/KG,,UMOL/KG,,UMOL/KG,,UMOL/KG,,UMOL/KG,,PMOL/KG,,PMOL/KG,,FMOL/KG,,UMOL/KG,,UMOL/KG,,UATM,,DEG C,,,DEG C,/MILLE,,/MILLE,,/MILLE,UG/KG,,UMOL/KG,,UMOL/KG,,NMOL/KG,,,,,,ITS-90,,VOLTS,,VOLTS,,/MILLE,,/MILLE,,,,1E6 GELS/L,
325020210316,        A20,      48,          1,         36,         36,2,20210403,       0626,    22.3915,   -52.3333,       5654,     5.2,  24.9234,  37.3575,2,  37.3583,2,    207.4,2,   206.4,2,    0.58,2,    0.00,2,    0.00,2,    0.00,2,   1.539,2,   1.008,2,    1.67,2,  2089.8,6, 2443.53,2,    304.8,2,    20.00,   8.08792,2,    25.02, -999.00,9, -999.00,9, -999.00,-999.000,9, -999.00,9, -999.00,9,       6.42,2, 20210403,      853,  22.3915, -52.3333,    24.9222,2,     0.0437,1,     4.6491,1,     -999.0,9,     -999.0,9,     -999.0,9,     -999.0,9
325020210316,        A20,      48,          1,         35,         35,2,20210403,       0626,    22.3915,   -52.3333,       5654,    25.9,  24.9310,  37.3572,2,  37.3587,2,    207.2,2,   207.1,2,    0.58,2,    0.00,2,    0.00,2,    0.00,2,-999.000,9,-999.000,9, -999.00,9,  2089.7,2, 2443.34,2,    305.7,2,    20.00,    8.0879,6,    25.00, -999.00,9, -999.00,9, -999.00,-999.000,9, -999.00,9, -999.00,9,     -999.0,9, 20210403,      847,  22.3914, -52.3330,    24.9306,2,     0.0436,1,     4.6505,1,     -999.0,9,     -999.0,9,     -999.0,9,     -999.0,9
325020210316,        A20,      48,          1,         34,         34,2,20210403,       0626,    22.3915,   -52.3333,       5654,    50.9,  24.8944,  37.4158,2,  37.4134,2,    207.5,2,   207.1,2,    0.49,2,    0.00,2,    0.00,2,    0.00,2,-999.000,9,-999.000,9, -999.00,9,  2089.3,2, 2446.62,6,    306.8,2,    20.00,   8.08686,2,    25.00, -999.00,9, -999.00,9, -999.00,-999.000,9, -999.00,9, -999.00,9,     -999.0,9, 20210403,      846,  22.3914, -52.3330,    24.8932,2,     0.0438,1,     4.6507,1,     -999.0,9,     -999.0,9,     -999.0,9,     -999.0,9
325020210316,        A20,      48,          1,         33,         33,2,20210403,       0626,    22.3915,   -52.3333,       5654,    75.7,  24.8619,  37.4385,2,  37.4386,2,    207.7,2,   207.1,2,    0.58,2,    0.00,2,    0.00,2,    0.00,2,   1.522,6,   1.009,6,    1.66,6,  2093.4,2, 2448.39,2,    308.4,2,    20.00,   8.08617,2,    25.00, -999.00,9, -999.00,9, -999.00,-999.000,9, -999.00,9, -999.00,9,       6.32,6, 20210403,      844,  22.3914, -52.3330,    24.8607,2,     0.0459,1,     4.6510,1,     -999.0,9,     -999.0,9,     -999.0,9,     -999.0,9
325020210316,        A20,      48,          1,         32,         32,2,20210403,       0626,    22.3915,   -52.3333,       5654,   100.4,  24.8075,  37.4625,2,  37.4637,2,    207.2,2,   207.3,2,    0.58,2,    0.00,2,    0.00,2,    0.00,2,   1.542,2,   1.021,2,    1.67,2,  2097.2,2, 2450.95,2,    311.5,2,    20.00,   8.08271,2,    25.03, -999.00,9, -999.00,9, -999.00,-999.000,9, -999.00,9, -999.00,9,       6.68,2, 20210403,      843,  22.3914, -52.3330,    24.8090,2,     0.0493,1,     4.6550,1,     -999.0,9,     -999.0,9,     -999.0,9,     -999.0,9
325020210316,        A20,      48,          1,         31,         31,2,20210403,       0626,    22.3915,   -52.3333,       5654,   150.2,  22.8682,  37.2686,2,  37.2628,2,    190.4,3,   193.2,2,    0.49,2,    0.16,2,    0.03,2,    0.00,2,-999.000,9,-999.000,9, -999.00,9,  2127.4,2, 2436.84,2,    373.6,2,    20.00,   8.01499,2,    25.00, -999.00,9, -999.00,9, -999.00,-999.000,9, -999.00,9, -999.00,9,     -999.0,9, 20210403,      841,  22.3914, -52.3330,    22.8689,2,     0.0934,1,     4.6469,1,     -999.0,9,     -999.0,9,     -999.0,9,     -999.0,9
325020210316,        A20,      48,          1,         30,         30,2,20210403,       0626,    22.3915,   -52.3333,       5654,   200.2,  20.4790,  36.9063,2,  36.8905,2,    180.9,3,   183.8,2,    0.78,2,    2.18,2,    0.01,2,    0.07,2,   1.929,2,   1.279,2,    2.78,3,  2135.7,2, 2410.88,2,    422.7,2,    20.00,   7.96529,2,    25.03, -999.00,9, -999.00,9, -999.00,-999.000,9, -999.00,9, -999.00,9,       8.54,2, 20210403,      839,  22.3914, -52.3330,    20.5083,2,     0.0558,1,     4.6773,1,     -999.0,9,     -999.0,9,     -999.0,9,     -999.0,9
325020210316,        A20,      48,          1,         29,         29,2,20210403,       0626,    22.3915,   -52.3333,       5654,   251.6,  19.1460,  36.7058,2,  36.6992,2,    170.1,3,   174.2,2,    1.27,2,    5.27,2,    0.00,2,    0.25,2,   1.985,2,   1.278,2,    1.64,2,  2145.9,2, 2398.87,2,    466.2,2,    20.00,   7.92705,2,    25.01, -999.00,9, -999.00,9, -999.00,-999.000,9, -999.00,9, -999.00,9,      10.46,2, 20210403,      836,  22.3914, -52.3330,    19.1434,2,     0.0409,1,     4.6874,1,     -999.0,9,     -999.0,9,     -999.0,9,     -999.0,9
325020210316,        A20,      48,          1,         28,         28,2,20210403,       0626,    22.3915,   -52.3333,       5654,   301.8,  17.5632,  36.4326,2,  36.4307,2,    188.4,3,   186.2,2,    1.76,2,    6.35,2,    0.00,2,    0.32,2,-999.000,9,-999.000,9, -999.00,9,  2136.6,2, 2382.34,2,    471.5,2,    20.00,    7.9198,6,    25.03, -999.00,9, -999.00,9, -999.00,-999.000,9, -999.00,9, -999.00,9,     -999.0,9, 20210403,      835,  22.3915, -52.3330,    17.5921,2,     0.0407,1,     4.6906,1,     -999.0,9,     -999.0,9,     -999.0,9,     -999.0,9
325020210316,        A20,      48,          1,         27,         27,2,20210403,       0626,    22.3915,   -52.3333,       5654,   352.8,  16.4618,  36.2562,2,  36.2459,2,    170.6,2,   171.9,2,    2.83,2,    9.58,2,    0.00,2,    0.52,2,-999.000,9,-999.000,9, -999.00,9,  2153.1,2, 2372.79,2,    533.6,2,    20.00,   7.87256,2,    25.00, -999.00,9, -999.00,9, -999.00,-999.000,9, -999.00,9, -999.00,9,     -999.0,9, 20210403,      833,  22.3915, -52.3330,    16.4750,2,     0.0408,1,     4.6913,1,     -999.0,9,     -999.0,9,     -999.0,9,     -999.0,9
325020210316,        A20,      48,          1,         26,         26,2,20210403,       0626,    22.3915,   -52.3333,       5654,   402.8,  15.2986,  36.0692,2,  36.0596,2,    150.4,3,   155.1,2,    4.10,2,   13.12,2,    0.00,2,    0.74,2,   2.160,2,   1.357,2,    1.31,2,  2168.9,2, 2361.09,2,    612.5,2,    20.00,    7.8171,2,    25.02, -999.00,9, -999.00,9, -999.00,-999.000,9, -999.00,9, -999.00,9,      16.22,2, 20210403,      830,  22.3915, -52.3330,    15.3163,2,     0.0412,1,     4.6912,1,     -999.0,9,     -999.0,9,     -999.0,9,     -999.0,9
325020210316,        A20,      48,          1,         25,         25,2,20210403,       0626,    22.3915,   -52.3333,       5654,   503.1,  13.6151,  35.8332,2,  35.8333,2,    159.1,2,   159.2,2,    5.37,2,   15.11,2,    0.00,2,    0.87,2,   2.154,2,   1.320,2,    1.15,2,  2168.6,2, 2347.75,2,    652.1,2,    20.00,    7.7917,2,    25.03, -999.00,9, -999.00,9, -999.00,-999.000,9, -999.00,9, -999.00,9,      16.07,2, 20210403,      827,  22.3915, -52.3330,    13.5908,2,     0.0411,1,     4.6940,1,     -999.0,9,     -999.0,9,     -999.0,9,     -999.0,9
325020210316,        A20,      48,          1,         24,         24,2,20210403,       0626,    22.3915,   -52.3333,       5654,   605.4,  12.0181,  35.6259,2,  35.6246,2,    156.4,2,   157.2,2,    7.61,2,   18.04,2,    0.00,2,    1.06,2,   1.955,2,   1.140,2,    0.81,2,  2175.7,2, 2338.74,2,    714.6,2,    20.00,   7.75272,2,    25.01, -999.00,9, -999.00,9, -999.00,-999.000,9, -999.00,9, -999.00,9,      16.89,2, 20210403,      824,  22.3914, -52.3330,    12.0220,2,     0.0410,1,     4.6965,1,     -999.0,9,     -999.0,9,     -999.0,9,     -999.0,9
325020210316,        A20,      48,          1,         23,         23,2,20210403,       0626,    22.3915,   -52.3333,       5654,   705.0,  10.4388,  35.4238,2,  35.4235,2,    146.7,2,   147.3,2,   11.13,2,   21.95,2,    0.00,2,    1.34,2,   1.423,2,   0.790,2,    0.57,2,  2188.5,6, 2329.11,2,    797.1,2,    20.00,   7.70829,2,    24.98, -999.00,9, -999.00,9, -999.00,-999.000,9, -999.00,9, -999.00,9,      18.93,2, 20210403,      821,  22.3915, -52.3330,    10.4319,2,     0.0411,1,     4.6989,1,     -999.0,9,     -999.0,9,     -999.0,9,     -999.0,9
325020210316,        A20,      48,          1,         22,         22,2,20210403,       0626,    22.3915,   -52.3333,       5654,   806.6,   8.1907,  35.1181,2,  35.1181,2,    139.5,2,   138.8,2,   17.09,2,   27.02,2,    0.00,2,    1.71,2,-999.000,9,-999.000,9, -999.00,9,  2200.6,2, 2318.56,2,    929.4,2,    20.00,   7.64379,2,    25.02, -999.00,9, -999.00,9, -999.00,-999.000,9, -999.00,9, -999.00,9,     -999.0,9, 20210403,      818,  22.3915, -52.3330,     8.1917,2,     0.0417,1,     4.6996,1,     -999.0,9,     -999.0,9,     -999.0,9,     -999.0,9
325020210316,        A20,      48,          1,         21,         21,2,20210403,       0626,    22.3915,   -52.3333,       5654,   907.9,   6.9385,  34.9655,2,  34.9658,2,    143.1,2,   142.1,2,   20.41,2,   28.85,2,    0.00,2,    1.86,2,   0.495,2,   0.248,2,    0.16,2,  2204.2,2,  2314.9,2,    987.7,2,    20.00,   7.61725,2,    25.00, -999.00,9, -999.00,9, -999.00,-999.000,9, -999.00,9, -999.00,9,      23.37,2, 20210403,      815,  22.3915, -52.3330,     6.9400,2,     0.0423,1,     4.6995,1,     -999.0,9,     -999.0,9,     -999.0,9,     -999.0,9
325020210316,        A20,      48,          1,         20,         20,2,20210403,       0626,    22.3915,   -52.3333,       5654,  1009.4,   6.2546,  34.9401,2,  34.9410,2,    158.1,2,   158.1,2,   20.80,2,   27.97,2,    0.00,2,    1.80,2,   0.522,2,   0.261,2,    0.20,2,  2203.0,2, 2314.23,2,    963.0,2,    20.00,   7.62751,2,    25.00, -999.00,9, -999.00,9, -999.00,-999.000,9, -999.00,9, -999.00,9,      20.92,2, 20210403,      812,  22.3915, -52.3330,     6.2583,2,     0.0424,1,     4.6996,1,     -999.0,9,     -999.0,9,     -999.0,9,     -999.0,9
325020210316,        A20,      48,          1,         19,         19,2,20210403,       0626,    22.3915,   -52.3333,       5654,  1109.9,   5.8712,  34.9737,2,  34.9736,2,    177.5,2,   177.6,2,   19.34,2,   25.70,2,    0.00,2,    1.66,2,-999.000,9,-999.000,9, -999.00,9,  2194.1,2, 2315.05,2,    903.2,2,    20.00,   7.65287,2,    24.98, -999.00,9, -999.00,9, -999.00,-999.000,9, -999.00,9, -999.00,9,     -999.0,9, 20210403,      808,  22.3915, -52.3330,     5.8706,2,     0.0422,1,     4.7009,1,     -999.0,9,     -999.0,9,     -999.0,9,     -999.0,9
325020210316,        A20,      48,          1,         18,         18,2,20210403,       0626,    22.3915,   -52.3333,       5654,  1211.5,   5.5064,  35.0158,2,  35.0163,2,    202.6,2,   203.1,2,   16.80,2,   22.65,2,    0.00,2,    1.49,2,   1.015,2,   0.519,2,    0.36,2,  2182.4,2, 2315.34,2,    837.0,2,    20.00,   7.68447,2,    24.99, -999.00,9, -999.00,9, -999.00,-999.000,9, -999.00,9, -999.00,9,      17.29,2, 20210403,      805,  22.3915, -52.3330,     5.5069,2,     0.0422,1,     4.7010,1,     -999.0,9,     -999.0,9,     -999.0,9,     -999.0,9
325020210316,        A20,      48,          1,         17,         17,2,20210403,       0626,    22.3915,   -52.3333,       5654,  1312.4,   5.1329,  35.0280,2,  35.0278,2,    219.3,2,   219.0,2,   15.62,2,   21.20,2,    0.00,2,    1.38,2,   1.131,2,   0.571,2,    0.32,2,  2176.5,2, 2316.32,2,    801.7,2,    20.00,   7.70189,2,    24.99, -999.00,9, -999.00,9, -999.00,-999.000,9, -999.00,9, -999.00,9,      16.39,2, 20210403,      802,  22.3915, -52.3330,     5.1374,2,     0.0420,1,     4.7018,1,     -999.0,9,     -999.0,9,     -999.0,9,     -999.0,9
325020210316,        A20,      48,          1,         16,         16,2,20210403,       0626,    22.3915,   -52.3333,       5654,  1413.2,   4.8629,  35.0312,2,  35.0315,2,    231.1,2,   230.4,2,   14.94,2,   20.17,2,    0.00,2,    1.31,2,-999.000,9,-999.000,9, -999.00,9,  2173.2,2, 2315.21,2,    778.7,2,    20.00,   7.71267,2,    25.02, -999.00,9, -999.00,9, -999.00,-999.000,9, -999.00,9, -999.00,9,     -999.0,9, 20210403,      759,  22.3915, -52.3330,     4.8620,2,     0.0428,1,     4.7020,1,     -999.0,9,     -999.0,9,     -999.0,9,     -999.0,9
325020210316,        A20,      48,          1,         15,         15,2,20210403,       0626,    22.3915,   -52.3333,       5654,  1615.7,   4.4112,  35.0245,2,  35.0248,2,    241.8,2,   241.5,2,   15.53,2,   19.47,2,    0.00,2,    1.27,2,   0.865,2,   0.421,2,    0.23,2,  2167.7,2, 2314.48,2,   -999.0,9,  -999.00,   7.72606,6,    25.01, -999.00,9, -999.00,9, -999.00,-999.000,9, -999.00,9, -999.00,9,      14.66,2, 20210403,      754,  22.3915, -52.3330,     4.4109,2,     0.0426,1,     4.7021,1,     -999.0,9,     -999.0,9,     -999.0,9,     -999.0,9
325020210316,        A20,      48,          1,         14,         14,2,20210403,       0626,    22.3915,   -52.3333,       5654,  1819.5,   4.0036,  35.0178,2,  35.0193,2,    247.7,2,   247.3,2,   17.67,2,   19.24,2,    0.00,2,    1.26,2,   0.576,2,   0.280,2,    0.20,2,  2166.5,2,  2317.1,6,    737.0,2,    20.00,   7.73563,2,    25.01, -999.00,9, -999.00,9, -999.00,-999.000,9, -999.00,9, -999.00,9,      13.96,2, 20210403,      749,  22.3915, -52.3330,     4.0076,2,     0.0418,1,     4.7021,1,     -999.0,9,     -999.0,9,     -999.0,9,     -999.0,9
325020210316,        A20,      48,          1,         13,         13,2,20210403,       0626,    22.3915,   -52.3333,       5654,  2022.1,   3.6550,  35.0013,2,  35.0014,2,    248.9,2,   248.7,2,   21.19,2,   19.53,2,    0.00,2,    1.28,2,-999.000,9,-999.000,9, -999.00,9,  2172.2,6, 2320.43,2,   -999.0,9,  -999.00,   7.73878,2,    25.00, -999.00,9, -999.00,9, -999.00,-999.000,9, -999.00,9, -999.00,9,     -999.0,9, 20210403,      744,  22.3915, -52.3330,     3.6546,2,     0.0418,1,     4.7021,1,     -999.0,9,     -999.0,9,     -999.0,9,     -999.0,9
325020210316,        A20,      48,          1,         12,         12,2,20210403,       0626,    22.3915,   -52.3333,       5654,  2275.6,   3.2848,  34.9742,2,  34.9746,2,    248.6,2,   248.7,2,   25.78,2,   20.04,2,    0.00,2,    1.33,2,   0.155,2,   0.075,2,    0.03,2,  2174.2,2, 2327.61,2,    734.6,2,    20.00,   7.73801,2,    25.00, -999.00,9, -999.00,9, -999.00,-999.000,9, -999.00,9, -999.00,9,      14.58,2, 20210403,      739,  22.3915, -52.3329,     3.2845,2,     0.0423,1,     4.7021,1,     -999.0,9,     -999.0,9,     -999.0,9,     -999.0,9
325020210316,        A20,      48,          1,         11,         11,2,20210403,       0626,    22.3915,   -52.3333,       5654,  2530.9,   3.0521,  34.9558,2,  34.9557,2,    249.8,2,   250.1,2,   28.61,2,   20.18,2,    0.00,2,    1.33,2,   0.124,2,   0.061,2,    0.02,2,  2174.5,2, 2326.69,2,   -999.0,9,  -999.00,    7.7391,6,    24.97, -999.00,9, -999.00,9, -999.00,-999.000,9, -999.00,9, -999.00,9,      13.80,2, 20210403,      733,  22.3915, -52.3330,     3.0513,2,     0.0424,1,     4.7020,1,     -999.0,9,     -999.0,9,     -999.0,9,     -999.0,9
325020210316,        A20,      48,          1,         10,         10,2,20210403,       0626,    22.3915,   -52.3333,       5654,  2785.5,   2.8687,  34.9401,2,  34.9404,2,    250.9,2,   250.9,2,   30.96,2,   20.42,2,    0.00,2,    1.35,2,-999.000,9,-999.000,9, -999.00,9,  2180.1,2, 2329.31,2,    737.0,2,    20.00,   7.73872,2,    25.00, -999.00,9, -999.00,9, -999.00,-999.000,9, -999.00,9, -999.00,9,     -999.0,9, 20210403,      728,  22.3915, -52.3330,     2.8695,2,     0.0424,1,     4.7010,1,     -999.0,9,     -999.0,9,     -999.0,9,     -999.0,9
325020210316,        A20,      48,          1,          9,          9,2,20210403,       0626,    22.3915,   -52.3333,       5654,  3040.0,   2.7101,  34.9269,2,  34.9268,2,    253.4,2,   253.5,2,   32.03,2,   20.23,2,    0.00,2,    1.35,2,   0.172,2,   0.081,2,    0.09,2,  2180.7,2, 2329.89,2,   -999.0,9,  -999.00,   7.73758,2,    25.04, -999.00,9, -999.00,9, -999.00,-999.000,9, -999.00,9, -999.00,9,      13.74,2, 20210403,      723,  22.3915, -52.3330,     2.7103,2,     0.0436,1,     4.7014,1,     -999.0,9,     -999.0,9,     -999.0,9,     -999.0,9
325020210316,        A20,      48,          1,          8,          8,2,20210403,       0626,    22.3915,   -52.3333,       5654,  3346.5,   2.5766,  34.9155,2,  34.9158,2,    253.5,2,   253.8,2,   35.06,2,   20.50,2,    0.00,2,    1.36,2,   0.132,2,   0.066,2,    0.02,2,  2183.2,2, 2329.81,2,    738.9,6,    20.00,   7.73657,2,    24.98, -999.00,9, -999.00,9, -999.00,-999.000,9, -999.00,9, -999.00,9,      13.65,2, 20210403,      716,  22.3915, -52.3330,     2.5770,2,     0.0426,1,     4.7010,1,     -999.0,9,     -999.0,9,     -999.0,9,     -999.0,9
325020210316,        A20,      48,          1,          7,          7,2,20210403,       0626,    22.3915,   -52.3333,       5654,  3654.9,   2.4208,  34.9004,2,  34.9000,2,    252.7,2,   252.8,2,   39.75,2,   21.00,2,    0.00,2,    1.41,2,-999.000,9,-999.000,9, -999.00,9,  2185.8,2, 2333.97,2,   -999.0,9,  -999.00,   7.73266,2,    25.02, -999.00,9, -999.00,9, -999.00,-999.000,9, -999.00,9, -999.00,9,     -999.0,9, 20210403,      709,  22.3915, -52.3330,     2.4205,2,     0.0417,1,     4.7009,1,     -999.0,9,     -999.0,9,     -999.0,9,     -999.0,9
325020210316,        A20,      48,          1,          6,          6,2,20210403,       0626,    22.3915,   -52.3333,       5654,  4064.2,   2.2535,  34.8840,2,  34.8841,2,    254.5,2,   254.6,2,   42.19,2,   21.08,2,    0.00,2,    1.41,2,   0.190,2,   0.092,2,    0.00,2,  2188.8,2, 2334.13,2,    754.5,2,    20.00,   7.73086,6,    25.00, -999.00,9, -999.00,9, -999.00,-999.000,9, -999.00,9, -999.00,9,      14.84,2, 20210403,      701,  22.3915, -52.3330,     2.2552,2,     0.0423,1,     4.7009,1,     -999.0,9,     -999.0,9,     -999.0,9,     -999.0,9
325020210316,        A20,      48,          1,          5,          5,2,20210403,       0626,    22.3915,   -52.3333,       5654,  4474.4,   2.1280,  34.8673,2,  34.8670,2,    252.5,2,   252.5,2,   47.85,2,   21.80,2,    0.00,2,    1.46,2,   0.224,2,   0.111,2,    0.01,2,  2194.6,2, 2338.44,2,   -999.0,9,  -999.00,   7.72183,2,    25.03, -999.00,9, -999.00,9, -999.00,-999.000,9, -999.00,9, -999.00,9,      14.68,2, 20210403,      654,  22.3915, -52.3330,     2.1276,2,     0.0438,1,     4.7003,1,     -999.0,9,     -999.0,9,     -999.0,9,     -999.0,9
325020210316,        A20,      48,          1,          4,          4,2,20210403,       0626,    22.3915,   -52.3333,       5654,  4886.1,   2.0606,  34.8547,2,  34.8552,2,    249.8,2,   249.7,2,   53.13,2,   22.66,2,    0.00,2,    1.50,2,   0.207,2,   0.105,2,    0.02,2,  2201.6,2,  2340.6,2,    784.9,2,    20.00,   7.71568,2,    25.02, -999.00,9, -999.00,9, -999.00,-999.000,9, -999.00,9, -999.00,9,      15.26,2, 20210403,      645,  22.3915, -52.3330,     2.0610,2,     0.0431,1,     4.6991,1,     -999.0,9,     -999.0,9,     -999.0,9,     -999.0,9
325020210316,        A20,      48,          1,          3,          3,2,20210403,       0626,    22.3915,   -52.3333,       5654,  5298.0,   2.0507,  34.8477,2,  34.8485,2,    248.6,2,   248.5,2,   55.86,2,   22.94,2,    0.00,2,    1.53,2,   0.241,2,   0.118,2,    0.01,2,  2205.5,2, 2343.41,6,   -999.0,9,  -999.00,   7.71076,6,    25.02, -999.00,9, -999.00,9, -999.00,-999.000,9, -999.00,9, -999.00,9,      16.38,2, 20210403,      637,  22.3915, -52.3330,     2.0508,2,     0.0429,1,     4.6975,1,     -999.0,9,     -999.0,9,     -999.0,9,     -999.0,9