BOTTLE,20230512CCHSIOCBG
EXPOCODE,SECT_ID,STNNBR,CASTNO,SAMPNO,BTLNBR,BTLNBR_FLAG_W,DATE,TIME,LATITUDE,LONGITUDE,DEPTH,CTDPRS,CTDTMP,CTDSAL,CTDSAL_FLAG_W,SALNTY,SALNTY_FLAG_W,CTDOXY,CTDOXY_FLAG_W,OXYGEN,OXYGEN_FLAG_W,SILCAT,SILCAT_FLAG_W,NITRAT,NITRAT_FLAG_W,NITRIT,NITRIT_FLAG_W,PHSPHT,PHSPHT_FLAG_W,CFC-11,CFC-11_FLAG_W,CFC-12,CFC-12_FLAG_W,SF6,SF6_FLAG_W,TCARBN,TCARBN_FLAG_W,ALKALI,ALKALI_FLAG_W,FCO2,FCO2_FLAG_W,FCO2TMP,PH_TOT,PH_TOT_FLAG_W,PH_TMP,DELC13,DELC13_FLAG_W,DELC14,DELC14_FLAG_W,C14ERR,POC,POC_FLAG_W,DOC,DOC_FLAG_W,TDN,TDN_FLAG_W,N2O,N2O_FLAG_W,BTL_DATE,BTL_TIME,BTL_LAT,BTL_LON,REFTMP,REFTMP_FLAG_W,CTDFLUOR,CTDFLUOR_FLAG_W,CTDXMISS,CTDXMISS_FLAG_W,D15N_NO2+NO3,D15N_NO2+NO3_FLAG_W,D18O_NO2+NO3,D18O_NO2+NO3_FLAG_W,HPLC,HPLC_FLAG_W,MICROGELS,MICROGELS_FLAG_W
,,,,,,,,,,,METERS,DBAR,ITS-90,PSS-78,,PSS-78,,UMOL/KG,,UMOL/KG,,UMOL/KG,,UMOL/KG,,UMOL/KG,,UMOL/KG,,PMOL/KG,,PMOL/KG,,FMOL/KG,,UMOL/KG,,UMOL/KG,,UATM,,DEG C,,,DEG C,/MILLE,,/MILLE,,/MILLE,UG/KG,,UMOL/KG,,UMOL/KG,,NMOL/KG,,,,,,ITS-90,,VOLTS,,VOLTS,,/MILLE,,/MILLE,,,,1E6 GELS/L,
325020210316,        A20,      80,          1,         34,         34,2,20210411,       2130,     7.9449,   -52.8143,       1425,     5.0,  27.9665,  35.3704,2,  35.3230,3,    199.9,2,   199.3,2,    1.76,2,    0.01,2,    0.00,2,    0.02,2,   1.411,2,   0.925,2,    1.53,2,  2004.4,2,  2318.3,6,    301.3,2,    20.00,   8.08655,2,    24.99, -999.00,9, -999.00,9, -999.00,-999.000,9,   76.61,2,    4.35,2,       5.58,2, 20210411,     2234,   7.9449, -52.8143,    27.9847,2,     0.0498,1,     4.6016,1,     -999.0,9,     -999.0,9,     -999.0,9,     -999.0,9
325020210316,        A20,      80,          1,         33,         33,2,20210411,       2130,     7.9449,   -52.8143,       1425,    24.5,  27.6518,  36.1874,2,  36.1880,2,    199.2,2,   199.0,2,    0.68,2,    0.01,2,    0.00,2,    0.00,2,-999.000,9,-999.000,9, -999.00,9,  2042.7,2,  2369.6,2,    309.1,2,    20.00,    8.0841,6,    24.96, -999.00,9, -999.00,9, -999.00,-999.000,9,   71.17,2,    3.40,2,     -999.0,9, 20210411,     2232,   7.9449, -52.8143,    27.6495,2,     0.0487,1,     4.6195,1,     -999.0,9,     -999.0,9,     -999.0,9,     -999.0,9
325020210316,        A20,      80,          1,         32,         32,2,20210411,       2130,     7.9449,   -52.8143,       1425,    50.7,  27.4939,  36.1594,2,  36.1612,2,    200.8,2,   199.6,2,    0.78,2,    0.00,2,    0.00,2,    0.00,2,   1.394,2,   0.935,2,    1.58,2,  2037.8,2, -999.00,9,   -999.0,9,  -999.00,   8.08647,2,    25.01, -999.00,9, -999.00,9, -999.00,-999.000,9,   70.44,2,    4.50,2,       5.65,2, 20210411,     2231,   7.9449, -52.8143,    27.4926,2,     0.0552,1,     4.6144,1,     -999.0,9,     -999.0,9,     -999.0,9,     -999.0,9
325020210316,        A20,      80,          1,         31,         31,2,20210411,       2130,     7.9449,   -52.8143,       1425,    75.7,  27.3838,  36.1946,2,  36.1961,2,    199.4,2,   198.7,2,    0.78,2,    0.00,2,    0.00,2,    0.00,2,-999.000,9,-999.000,9, -999.00,9,  2041.9,2, 2351.36,2,    307.7,2,    20.00,   8.08319,6,    24.99, -999.00,9, -999.00,9, -999.00,-999.000,9,   73.17,2,    4.44,2,     -999.0,9, 20210411,     2229,   7.9449, -52.8143,    27.3835,2,     0.0831,1,     4.6176,1,     -999.0,9,     -999.0,9,     -999.0,9,     -999.0,9
325020210316,        A20,      80,          1,         30,         30,2,20210411,       2130,     7.9449,   -52.8143,       1425,   101.4,  27.3670,  36.2318,2,  36.2329,2,    194.9,2,   196.2,2,    0.78,2,    0.02,2,    0.01,2,    0.00,2,   1.420,2,   0.936,2,    1.54,2,  2047.5,2, 2370.92,2,   -999.0,9,  -999.00,   8.08046,2,    24.98, -999.00,9, -999.00,9, -999.00,-999.000,9,   71.59,2,    4.78,2,       5.67,2, 20210411,     2227,   7.9449, -52.8143,    27.3661,2,     0.0785,1,     4.6359,1,     -999.0,9,     -999.0,9,     -999.0,9,     -999.0,9
325020210316,        A20,      80,          1,         29,         29,2,20210411,       2130,     7.9449,   -52.8143,       1425,   124.9,  25.5946,  36.6309,2,  36.6257,2,    181.6,2,   182.5,2,    1.17,2,    1.26,2,    0.10,2,    0.16,2,-999.000,9,-999.000,9, -999.00,9,  2101.2,2,  2395.9,2,    365.9,2,    20.00,   8.02784,2,    24.97, -999.00,9, -999.00,9, -999.00,-999.000,9,   64.80,2,    5.94,2,     -999.0,9, 20210411,     2225,   7.9449, -52.8143,    25.5947,2,     0.0825,1,     4.6400,1,     -999.0,9,     -999.0,9,     -999.0,9,     -999.0,9
325020210316,        A20,      80,          1,         28,         28,2,20210411,       2130,     7.9449,   -52.8143,       1425,   151.8,  23.0526,  36.5106,2,  36.5153,2,    174.9,2,   175.1,2,    1.66,2,    3.73,2,    0.04,2,    0.31,2,-999.000,9,-999.000,9, -999.00,9,  2124.4,2, 2391.59,2,   -999.0,9,  -999.00,   7.97892,2,    24.99, -999.00,9, -999.00,9, -999.00,-999.000,9,   61.26,2,    7.68,2,     -999.0,9, 20210411,     2223,   7.9449, -52.8143,    23.0548,2,     0.0553,1,     4.6614,1,     -999.0,9,     -999.0,9,     -999.0,9,     -999.0,9
325020210316,        A20,      80,          1,         27,         27,2,20210411,       2130,     7.9449,   -52.8143,       1425,   175.8,  20.6165,  36.5204,2,  36.5129,2,    137.5,3,   146.8,2,    2.83,2,    8.08,2,    0.01,2,    0.47,2,-999.000,9,-999.000,9, -999.00,9,  2165.1,2, -999.00,9,    509.9,6,    20.00,   7.89907,2,    25.00, -999.00,9, -999.00,9, -999.00,-999.000,9,   57.16,2,   12.59,2,     -999.0,9, 20210411,     2221,   7.9449, -52.8143,    20.5665,2,     0.0489,1,     4.6656,1,     -999.0,9,     -999.0,9,     -999.0,9,     -999.0,9
325020210316,        A20,      80,          1,         26,         26,2,20210411,       2130,     7.9449,   -52.8143,       1425,   201.2,  14.7915,  35.6317,2,  35.6433,2,    140.5,3,   142.9,2,    6.53,2,   16.19,2,    0.00,2,    1.02,2,   2.175,2,   1.315,2,    1.18,2,  2181.2,2, 2339.82,2,   -999.0,9,  -999.00,   7.77027,2,    25.00, -999.00,9, -999.00,9, -999.00,-999.000,9, -999.00,9, -999.00,9,      19.40,2, 20210411,     2220,   7.9449, -52.8143,    14.7547,3,     0.0420,1,     4.6716,1,     -999.0,9,     -999.0,9,     -999.0,9,     -999.0,9
325020210316,        A20,      80,          1,         25,         25,2,20210411,       2130,     7.9449,   -52.8143,       1425,   226.6,  11.5134,  35.1598,2,  35.1774,2,    138.0,2,   138.6,2,    9.85,2,   21.63,2,    0.00,2,    1.39,2,-999.000,9,-999.000,9, -999.00,9,  2195.6,2, 2316.12,2,    851.9,2,    20.00,   7.68222,2,    24.99, -999.00,9, -999.00,9, -999.00,-999.000,9,   47.79,2,   27.13,2,     -999.0,9, 20210411,     2217,   7.9449, -52.8143,    11.5136,2,     0.0419,1,     4.6706,1,     -999.0,9,     -999.0,9,     -999.0,9,     -999.0,9
325020210316,        A20,      80,          1,         24,         24,2,20210411,       2130,     7.9449,   -52.8143,       1425,   251.1,  10.4206,  35.0594,2,  35.0589,2,    120.4,2,   120.6,2,   12.10,2,   25.83,2,    0.00,2,    1.63,2,-999.000,9,-999.000,9, -999.00,9,  2211.4,2, -999.00,9,   -999.0,9,  -999.00,   7.61928,2,    24.99, -999.00,9, -999.00,9, -999.00,-999.000,9, -999.00,9, -999.00,9,     -999.0,9, 20210411,     2215,   7.9449, -52.8143,    10.4208,2,     0.0416,1,     4.6695,1,     -999.0,9,     -999.0,9,     -999.0,9,     -999.0,9
325020210316,        A20,      80,          1,         23,         23,2,20210411,       2130,     7.9449,   -52.8143,       1425,   277.8,  10.0114,  34.9937,2,  34.9935,2,    123.1,2,   123.2,2,   12.78,2,   26.42,2,    0.00,2,    1.68,2,-999.000,9,-999.000,9, -999.00,9,  2209.1,2, 2305.99,2,   1000.9,2,    20.00,     7.613,2,    24.99, -999.00,9, -999.00,9, -999.00,-999.000,9,   45.83,2,   29.93,2,     -999.0,9, 20210411,     2214,   7.9449, -52.8143,    10.0203,2,     0.0430,1,     4.6708,1,     -999.0,9,     -999.0,9,     -999.0,9,     -999.0,9
325020210316,        A20,      80,          1,         22,         22,2,20210411,       2130,     7.9449,   -52.8143,       1425,   302.1,   9.1058,  34.8526,2,  34.8552,2,    125.0,2,   125.2,2,   14.44,2,   28.00,2,    0.00,2,    1.79,2,   1.891,2,   1.055,2,    0.64,2,  2208.4,2, 2302.12,2,   1050.0,2,    20.00,   7.58983,2,    24.99, -999.00,9, -999.00,9, -999.00,-999.000,9, -999.00,9, -999.00,9,      26.27,2, 20210411,     2213,   7.9449, -52.8143,     9.1126,2,     0.0430,1,     4.6701,1,     -999.0,9,     -999.0,9,     -999.0,9,     -999.0,9
325020210316,        A20,      80,          1,         21,         21,2,20210411,       2130,     7.9449,   -52.8143,       1425,   327.2,   8.7365,  34.8068,2,  34.8082,2,    129.1,2,   128.5,2,   15.32,2,   28.54,2,    0.00,2,    1.83,2,-999.000,9,-999.000,9, -999.00,9,  2210.4,2, 2299.75,2,   -999.0,9,  -999.00,   7.58548,2,    25.00, -999.00,9, -999.00,9, -999.00,-999.000,9,   45.01,2,   30.60,2,     -999.0,9, 20210411,     2211,   7.9449, -52.8143,     8.7361,2,     0.0428,1,     4.6723,1,     -999.0,9,     -999.0,9,     -999.0,9,     -999.0,9
325020210316,        A20,      80,          1,         20,         20,2,20210411,       2130,     7.9449,   -52.8143,       1425,   352.3,   8.4137,  34.7686,2,  34.7683,2,    127.3,2,   127.3,2,   16.30,2,   29.46,2,    0.00,2,    1.88,2,-999.000,9,-999.000,9, -999.00,9,  2213.3,2, 2300.43,2,   1093.7,2,    20.00,   7.57292,2,    24.97, -999.00,9, -999.00,9, -999.00,-999.000,9, -999.00,9, -999.00,9,     -999.0,9, 20210411,     2209,   7.9449, -52.8143,     8.4132,2,     0.0436,1,     4.6724,1,     -999.0,9,     -999.0,9,     -999.0,9,     -999.0,9
325020210316,        A20,      80,          1,         19,         19,2,20210411,       2130,     7.9449,   -52.8143,       1425,   377.7,   8.2140,  34.7648,2,  34.7618,2,    125.8,2,   125.4,2,   16.98,2,   30.02,2,    0.00,2,    1.92,2,   1.653,2,   0.903,2,    0.49,2,  2217.6,2, -999.00,9,   1106.8,2,    20.00,   7.56655,2,    24.99, -999.00,9, -999.00,9, -999.00,-999.000,9,   44.75,2,   33.21,2,      26.10,2, 20210411,     2208,   7.9449, -52.8143,     8.2123,2,     0.0430,1,     4.6694,1,     -999.0,9,     -999.0,9,     -999.0,9,     -999.0,9
325020210316,        A20,      80,          1,         18,         18,2,20210411,       2130,     7.9449,   -52.8143,       1425,   402.8,   8.2225,  34.7892,2,  34.7895,2,    118.6,2,   118.8,2,   17.27,2,   30.60,2,    0.00,2,    1.94,2,-999.000,9,-999.000,9, -999.00,9,  2219.9,2, 2299.82,2,   1128.4,2,    20.00,   7.55619,2,    24.95, -999.00,9, -999.00,9, -999.00,-999.000,9, -999.00,9, -999.00,9,     -999.0,9, 20210411,     2207,   7.9449, -52.8143,     8.2212,2,     0.0430,1,     4.6718,1,     -999.0,9,     -999.0,9,     -999.0,9,     -999.0,9
325020210316,        A20,      80,          1,         17,         17,2,20210411,       2130,     7.9449,   -52.8143,       1425,   428.0,   7.6955,  34.7266,2,  34.7280,2,    119.3,2,   118.6,2,   18.84,2,   31.80,2,    0.00,2,    2.03,2,-999.000,9,-999.000,9, -999.00,9,  2222.9,2, 2298.97,2,   1164.7,2,    20.00,   7.54355,2,    24.98, -999.00,9, -999.00,9, -999.00,-999.000,9,   45.03,2,   34.76,2,     -999.0,9, 20210411,     2205,   7.9449, -52.8143,     7.6765,2,     0.0430,1,     4.6732,1,     -999.0,9,     -999.0,9,     -999.0,9,     -999.0,9
325020210316,        A20,      80,          1,         16,         16,2,20210411,       2130,     7.9449,   -52.8143,       1425,   452.6,   7.2558,  34.6775,2,  34.6775,2,    122.2,2,   122.2,2,   20.01,2,   32.29,2,    0.00,2,    2.09,2,   1.276,2,   0.674,2,    0.36,2,  2223.1,6, 2296.61,6,   1185.6,2,    20.00,    7.5387,2,    24.98, -999.00,9, -999.00,9, -999.00,-999.000,9, -999.00,9, -999.00,9,      26.32,2, 20210411,     2204,   7.9449, -52.8143,     7.2536,2,     0.0436,1,     4.6728,1,     -999.0,9,     -999.0,9,     -999.0,9,     -999.0,9
325020210316,        A20,      80,          1,         15,         15,2,20210411,       2130,     7.9449,   -52.8143,       1425,   478.9,   6.9612,  34.6585,2,  34.6590,2,    118.7,2,   118.5,2,   21.28,2,   33.42,2,    0.00,2,    2.16,2,-999.000,9,-999.000,9, -999.00,9,  2226.6,2, 2296.08,2,   -999.0,9,  -999.00,   7.52563,6,    24.98, -999.00,9, -999.00,9, -999.00,-999.000,9,   42.98,2,   35.75,2,     -999.0,9, 20210411,     2201,   7.9449, -52.8143,     6.9678,2,     0.0445,1,     4.6779,1,     -999.0,9,     -999.0,9,     -999.0,9,     -999.0,9
325020210316,        A20,      80,          1,         14,         14,2,20210411,       2130,     7.9449,   -52.8143,       1425,   508.6,   6.5898,  34.6224,2,  34.6246,2,    116.2,2,   116.7,2,   22.45,2,   34.39,2,    0.00,2,    2.24,2,-999.000,9,-999.000,9, -999.00,9,  2230.5,2, -999.00,9,   1255.5,2,    20.00,    7.5098,2,    25.00, -999.00,9, -999.00,9, -999.00,-999.000,9, -999.00,9, -999.00,9,     -999.0,9, 20210411,     2200,   7.9449, -52.8143,     6.5893,2,     0.0428,1,     4.6789,1,     -999.0,9,     -999.0,9,     -999.0,9,     -999.0,9
325020210316,        A20,      80,          1,         13,         13,2,20210411,       2130,     7.9449,   -52.8143,       1425,   554.7,   6.2219,  34.6086,2,  34.6093,2,    126.6,2,   125.9,2,   24.11,2,   34.08,2,    0.00,2,    2.23,2,-999.000,9,-999.000,9, -999.00,9,  2227.3,2, 2296.12,2,   -999.0,9,  -999.00,    7.5241,2,    24.99, -999.00,9, -999.00,9, -999.00,-999.000,9,   43.93,2,   34.69,2,     -999.0,9, 20210411,     2158,   7.9449, -52.8143,     6.2132,2,     0.0433,1,     4.6743,1,     -999.0,9,     -999.0,9,     -999.0,9,     -999.0,9
325020210316,        A20,      80,          1,         12,         12,2,20210411,       2130,     7.9449,   -52.8143,       1425,   604.8,   5.5979,  34.5473,2,  34.5472,2,    140.6,2,   140.2,2,   26.35,2,   33.89,2,    0.00,2,    2.24,2,   0.778,2,   0.410,2,    0.19,2,  2226.3,2, 2297.69,2,   1190.3,2,    20.00,   7.53598,2,    24.97, -999.00,9, -999.00,9, -999.00,-999.000,9,   42.50,2,   37.78,2,      24.73,2, 20210411,     2156,   7.9449, -52.8143,     5.5974,2,     0.0429,1,     4.6786,1,     -999.0,9,     -999.0,9,     -999.0,9,     -999.0,9
325020210316,        A20,      80,          1,         11,         11,2,20210411,       2130,     7.9449,   -52.8143,       1425,   655.4,   5.1708,  34.5010,2,  34.5003,2,    155.0,2,   155.4,2,   28.21,2,   33.21,2,    0.00,2,    2.22,2,-999.000,9,-999.000,9, -999.00,9,  2220.1,2, 2296.37,2,   1147.1,2,    20.00,   7.55109,2,    24.98, -999.00,9, -999.00,9, -999.00,-999.000,9,   42.91,2,   36.69,2,     -999.0,9, 20210411,     2154,   7.9449, -52.8143,     5.1674,2,     0.0431,1,     4.6809,1,     -999.0,9,     -999.0,9,     -999.0,9,     -999.0,9
325020210316,        A20,      80,          1,         10,         10,2,20210411,       2130,     7.9449,   -52.8143,       1425,   704.3,   5.1139,  34.5003,2,  34.4995,2,    155.5,2,   155.8,2,   28.50,2,   33.35,2,    0.00,2,    2.23,2,-999.000,9,-999.000,9, -999.00,9,  2220.0,2, 2297.99,2,   1147.0,2,    20.00,   7.55075,2,    25.00, -999.00,9, -999.00,9, -999.00,-999.000,9, -999.00,9, -999.00,9,     -999.0,9, 20210411,     2152,   7.9449, -52.8143,     5.1133,2,     0.0422,1,     4.6806,1,     -999.0,9,     -999.0,9,     -999.0,9,     -999.0,9
325020210316,        A20,      80,          1,          9,          9,2,20210411,       2130,     7.9449,   -52.8143,       1425,   756.4,   5.0139,  34.4985,2,  34.4981,2,    157.3,2,   157.2,2,   28.99,2,   33.33,2,    0.00,2,    2.23,2,-999.000,9,-999.000,9, -999.00,9,  2220.8,2, -999.00,9,   1143.3,2,    20.00,   7.55153,2,    24.99, -999.00,9, -999.00,9, -999.00,-999.000,9,   42.50,2,   35.68,2,     -999.0,9, 20210411,     2150,   7.9449, -52.8143,     5.0127,2,     0.0423,1,     4.6811,1,     -999.0,9,     -999.0,9,     -999.0,9,     -999.0,9
325020210316,        A20,      80,          1,          8,          8,2,20210411,       2130,     7.9449,   -52.8143,       1425,   804.9,   4.9390,  34.4975,2,  34.4974,2,    158.1,2,   158.2,2,   29.48,2,   33.37,2,    0.00,2,    2.23,2,   0.812,2,   0.424,2,    0.26,2,  2219.8,2, 2299.42,2,   1142.5,2,    20.00,   7.55242,2,    24.97, -999.00,9, -999.00,9, -999.00,-999.000,9,   41.58,2,   34.32,2,      23.08,2, 20210411,     2148,   7.9449, -52.8143,     4.9385,2,     0.0432,1,     4.6824,1,     -999.0,9,     -999.0,9,     -999.0,9,     -999.0,9
325020210316,        A20,      80,          1,          7,          7,2,20210411,       2130,     7.9449,   -52.8143,       1425,   856.5,   4.8617,  34.5023,2,  34.5019,2,    158.2,2,   158.4,2,   29.97,2,   33.35,2,    0.00,2,    2.24,2,-999.000,9,-999.000,9, -999.00,9,  2221.7,2, 2298.24,2,   1143.0,2,    20.00,   7.55107,2,    24.98, -999.00,9, -999.00,9, -999.00,-999.000,9,   42.11,2,   33.22,2,     -999.0,9, 20210411,     2146,   7.9449, -52.8143,     4.8611,2,     0.0429,1,     4.6831,1,     -999.0,9,     -999.0,9,     -999.0,9,     -999.0,9
325020210316,        A20,      80,          1,          6,          6,2,20210411,       2130,     7.9449,   -52.8143,       1425,   921.3,   4.8016,  34.5172,2,  34.5164,2,    157.2,2,   157.2,2,   30.36,2,   33.36,2,    0.00,2,    2.24,2,-999.000,9,-999.000,9, -999.00,9,  2222.2,2, 2300.64,2,   1141.2,2,    20.00,   7.55052,2,    24.99, -999.00,9, -999.00,9, -999.00,-999.000,9,   40.62,2,   36.25,2,     -999.0,9, 20210411,     2144,   7.9449, -52.8143,     4.8010,2,     0.0428,1,     4.6838,1,     -999.0,9,     -999.0,9,     -999.0,9,     -999.0,9
325020210316,        A20,      80,          1,          5,          5,2,20210411,       2130,     7.9449,   -52.8143,       1425,  1023.5,   4.9746,  34.6059,2,  34.6022,2,    147.1,2,   147.6,2,   29.48,2,   33.47,2,    0.00,2,    2.23,2,   0.300,2,   0.161,2,    0.06,2,  2226.2,2, -999.00,9,   1156.3,2,    20.00,   7.54423,2,    24.99, -999.00,9, -999.00,9, -999.00,-999.000,9,   42.63,2,   33.53,2,      23.21,2, 20210411,     2140,   7.9449, -52.8143,     4.9695,2,     0.0428,1,     4.6800,1,     -999.0,9,     -999.0,9,     -999.0,9,     -999.0,9
325020210316,        A20,      80,          1,          4,          4,2,20210411,       2130,     7.9449,   -52.8143,       1425,  1124.5,   4.9922,  34.7837,2,  34.7856,2,    161.5,2,   161.3,2,   25.86,2,   29.89,2,    0.00,2,    1.99,2,-999.000,9,-999.000,9, -999.00,9,  2216.1,2, 2306.81,6,   -999.0,9,  -999.00,    7.5933,6,    24.97, -999.00,9, -999.00,9, -999.00,-999.000,9,   44.02,2,   34.16,2,     -999.0,9, 20210411,     2138,   7.9449, -52.8143,     4.9911,2,     0.0429,1,     4.6827,1,     -999.0,9,     -999.0,9,     -999.0,9,     -999.0,9
325020210316,        A20,      80,          1,          3,          3,2,20210411,       2130,     7.9449,   -52.8143,       1425,  1285.9,   5.0039,  34.9611,2,  34.9622,2,    200.5,2,   200.3,2,   19.42,2,   23.80,2,    0.00,2,    1.57,2,   0.665,2,   0.354,2,    0.25,2,  2196.9,2, 2313.11,2,    865.5,2,    20.00,   7.66897,6,    24.96, -999.00,9, -999.00,9, -999.00,-999.000,9, -999.00,9, -999.00,9,      17.84,2, 20210411,     2134,   7.9449, -52.8143,     5.0035,2,     0.0423,1,     4.6838,1,     -999.0,9,     -999.0,9,     -999.0,9,     -999.0,9
325020210316,        A20,      80,          1,          2,          2,2,20210411,       2130,     7.9449,   -52.8143,       1425,  1428.7,   4.6725,  35.0025,2,  35.0031,2,    231.3,2,   231.3,2,   15.90,2,   20.25,2,    0.00,2,    1.33,2,-999.000,9,-999.000,9, -999.00,9,  -999.0,9, -999.00,9,   -999.0,9,  -999.00,-999.00000,9,  -999.00, -999.00,9, -999.00,9, -999.00,-999.000,9, -999.00,9, -999.00,9,     -999.0,9, 20210411,     2130,   7.9449, -52.8143,     -999.0,9,     0.0410,1,     4.6624,1,     -999.0,9,     -999.0,9,     -999.0,9,     -999.0,9
325020210316,        A20,      80,          1,          1,          1,2,20210411,       2130,     7.9449,   -52.8143,       1425,  1430.2,   4.6697,  35.0025,2,  35.0033,2,    231.3,2,   231.3,2,   15.90,2,   20.22,2,    0.00,2,    1.33,2,   1.360,2,   0.707,2,    0.41,2,  2181.4,6, 2313.12,2,    794.0,2,    20.00,   7.70431,2,    24.96, -999.00,9, -999.00,9, -999.00,-999.000,9,   46.53,2,   23.30,2,      14.96,2, 20210411,     2130,   7.9449, -52.8143,     4.6704,2,     0.0411,1,     4.6628,1,     -999.0,9,     -999.0,9,     -999.0,9,     -999.0,9