BOTTLE,20230512CCHSIOCBG
EXPOCODE,SECT_ID,STNNBR,CASTNO,SAMPNO,BTLNBR,BTLNBR_FLAG_W,DATE,TIME,LATITUDE,LONGITUDE,DEPTH,CTDPRS,CTDTMP,CTDSAL,CTDSAL_FLAG_W,SALNTY,SALNTY_FLAG_W,CTDOXY,CTDOXY_FLAG_W,OXYGEN,OXYGEN_FLAG_W,SILCAT,SILCAT_FLAG_W,NITRAT,NITRAT_FLAG_W,NITRIT,NITRIT_FLAG_W,PHSPHT,PHSPHT_FLAG_W,CFC-11,CFC-11_FLAG_W,CFC-12,CFC-12_FLAG_W,SF6,SF6_FLAG_W,TCARBN,TCARBN_FLAG_W,ALKALI,ALKALI_FLAG_W,FCO2,FCO2_FLAG_W,FCO2TMP,PH_TOT,PH_TOT_FLAG_W,PH_TMP,DELC13,DELC13_FLAG_W,DELC14,DELC14_FLAG_W,C14ERR,POC,POC_FLAG_W,DOC,DOC_FLAG_W,TDN,TDN_FLAG_W,N2O,N2O_FLAG_W,BTL_DATE,BTL_TIME,BTL_LAT,BTL_LON,REFTMP,REFTMP_FLAG_W,CTDFLUOR,CTDFLUOR_FLAG_W,CTDXMISS,CTDXMISS_FLAG_W,D15N_NO2+NO3,D15N_NO2+NO3_FLAG_W,D18O_NO2+NO3,D18O_NO2+NO3_FLAG_W,HPLC,HPLC_FLAG_W,MICROGELS,MICROGELS_FLAG_W
,,,,,,,,,,,METERS,DBAR,ITS-90,PSS-78,,PSS-78,,UMOL/KG,,UMOL/KG,,UMOL/KG,,UMOL/KG,,UMOL/KG,,UMOL/KG,,PMOL/KG,,PMOL/KG,,FMOL/KG,,UMOL/KG,,UMOL/KG,,UATM,,DEG C,,,DEG C,/MILLE,,/MILLE,,/MILLE,UG/KG,,UMOL/KG,,UMOL/KG,,NMOL/KG,,,,,,ITS-90,,VOLTS,,VOLTS,,/MILLE,,/MILLE,,,,1E6 GELS/L,
325020210316,        A20,      15,          1,         36,         36,2,20210323,       2302,    41.2918,   -52.1850,       5109,     5.1,  17.2969,  36.2886,2,  36.2974,2,    212.1,3,   221.0,2,    1.95,2,    4.65,2,    0.11,2,    0.24,2,   2.150,2,   1.339,2,    1.56,3,  2124.7,2, 2380.15,2,    436.2,2,    20.00,   7.94765,2,    24.99, -999.00,9, -999.00,9, -999.00,-999.000,9,   60.19,2,    7.88,2,       9.74,2, 20210324,      125,  41.2918, -52.1850,    17.3056,2,     0.2353,1,     4.4307,1,     -999.0,9,     -999.0,9,     -999.0,9,     -999.0,9
325020210316,        A20,      15,          1,         35,         35,2,20210323,       2302,    41.2918,   -52.1850,       5109,    35.2,  16.3851,  36.0988,2,  36.1051,2,    213.6,3,   222.5,2,    2.44,2,    5.73,2,    0.16,2,    0.31,2,-999.000,9,-999.000,9, -999.00,9,  -999.0,9, -999.00,9,    458.5,2,    20.00,-999.00000,9,  -999.00, -999.00,9, -999.00,9, -999.00,-999.000,9,   57.48,2,    7.94,2,     -999.0,9, 20210324,      123,  41.2918, -52.1849,    16.3863,2,     0.1780,1,     4.4829,1,     -999.0,9,     -999.0,9,     -999.0,9,     -999.0,9
325020210316,        A20,      15,          1,         34,         34,2,20210323,       2302,    41.2918,   -52.1850,       5109,    61.0,  16.1204,  36.0826,2,  36.0942,2,    211.6,3,   221.9,2,    2.73,2,    6.10,2,    0.15,2,    0.34,2,-999.000,9,-999.000,9, -999.00,9,  2131.7,2, 2368.69,2,    468.9,2,    20.00,   7.91965,2,    24.97, -999.00,9, -999.00,9, -999.00,-999.000,9,   58.16,2,    8.92,2,     -999.0,9, 20210324,      120,  41.2918, -52.1849,    16.1224,2,     0.1356,1,     4.5707,1,     -999.0,9,     -999.0,9,     -999.0,9,     -999.0,9
325020210316,        A20,      15,          1,         33,         33,2,20210323,       2302,    41.2918,   -52.1850,       5109,    86.1,  15.5738,  35.9686,2,  35.9761,2,    227.0,2,   226.1,2,    2.83,2,    6.27,2,    0.19,2,    0.36,2,-999.000,9,-999.000,9, -999.00,9,  -999.0,9, -999.00,9,   -999.0,9,  -999.00,-999.00000,9,  -999.00, -999.00,9, -999.00,9, -999.00,-999.000,9,   58.78,2,    9.92,2,     -999.0,9, 20210324,      119,  41.2918, -52.1849,    15.5790,2,     0.1048,1,     4.6178,1,     -999.0,9,     -999.0,9,     -999.0,9,     -999.0,9
325020210316,        A20,      15,          1,         32,         32,2,20210323,       2302,    41.2918,   -52.1850,       5109,   116.9,  14.8494,  35.7885,2,  35.7973,2,    221.1,2,   221.4,2,    3.22,2,    7.06,2,    0.12,2,    0.42,2,-999.000,9,-999.000,9, -999.00,9,  2128.5,2, 2354.29,2,    494.9,2,    20.00,   7.89785,2,    24.99, -999.00,9, -999.00,9, -999.00,-999.000,9,   56.08,2,    8.72,2,     -999.0,9, 20210324,      117,  41.2918, -52.1849,    14.8588,2,     0.0565,1,     4.6784,1,     -999.0,9,     -999.0,9,     -999.0,9,     -999.0,9
325020210316,        A20,      15,          1,         31,         31,2,20210323,       2302,    41.2918,   -52.1850,       5109,   166.9,  14.6223,  35.7749,2,  35.7742,2,    209.0,3,   227.1,2,    3.32,2,    7.01,2,    0.12,2,    0.41,2,-999.000,9,-999.000,9, -999.00,9,  -999.0,9, -999.00,9,   -999.0,9,  -999.00,-999.00000,9,  -999.00, -999.00,9, -999.00,9, -999.00,-999.000,9,   56.70,2,    8.88,2,     -999.0,9, 20210324,      115,  41.2918, -52.1850,    14.6225,2,     0.0639,1,     4.6669,1,     -999.0,9,     -999.0,9,     -999.0,9,     -999.0,9
325020210316,        A20,      15,          1,         30,         30,2,20210323,       2302,    41.2918,   -52.1850,       5109,   217.1,  14.0876,  35.6810,2,  35.6877,2,    203.9,3,   222.6,2,    3.71,2,    8.04,2,    0.12,2,    0.48,2,-999.000,9,-999.000,9, -999.00,9,  2132.7,2, 2348.47,2,    520.2,2,    20.00,   7.87768,2,    24.96, -999.00,9, -999.00,9, -999.00,-999.000,9,   56.19,2,   10.70,2,     -999.0,9, 20210324,      113,  41.2918, -52.1849,    14.0844,2,     0.0488,1,     4.6870,1,     -999.0,9,     -999.0,9,     -999.0,9,     -999.0,9
325020210316,        A20,      15,          1,         29,         29,2,20210323,       2302,    41.2918,   -52.1850,       5109,   267.7,  14.5750,  35.9074,2,  35.9062,2,    171.6,3,   155.2,2,    6.05,2,   14.54,2,    0.00,2,    0.84,2,-999.000,9,-999.000,9, -999.00,9,  -999.0,9, -999.00,9,   -999.0,9,  -999.00,-999.00000,9,  -999.00, -999.00,9, -999.00,9, -999.00,-999.000,9,   47.15,2,   15.90,2,     -999.0,9, 20210324,      111,  41.2918, -52.1849,    14.5826,2,     0.0410,1,     4.7011,1,     -999.0,9,     -999.0,9,     -999.0,9,     -999.0,9
325020210316,        A20,      15,          1,         28,         28,2,20210323,       2302,    41.2918,   -52.1850,       5109,   318.1,  12.7853,  35.6282,2,  35.6330,2,    142.2,2,   142.6,2,    8.88,2,   18.49,2,    0.00,2,    1.10,2,   1.846,2,   1.081,2,    0.60,3,  2183.6,2, 2340.51,2,    725.3,2,    20.00,   7.74647,2,    24.95, -999.00,9, -999.00,9, -999.00,-999.000,9,   47.48,2,   20.89,2,      18.62,2, 20210324,      109,  41.2918, -52.1849,    12.7881,2,     0.0417,1,     4.6983,1,     -999.0,9,     -999.0,9,     -999.0,9,     -999.0,9
325020210316,        A20,      15,          1,         27,         27,2,20210323,       2302,    41.2918,   -52.1850,       5109,   368.1,  11.3824,  35.4467,2,  35.4507,2,    137.2,2,   136.3,2,   11.43,2,   21.53,2,    0.00,2,    1.33,2,-999.000,9,-999.000,9, -999.00,9,  -999.0,9, -999.00,9,    804.1,2,    20.00,-999.00000,9,  -999.00, -999.00,9, -999.00,9, -999.00,-999.000,9,   45.01,2,   23.47,2,     -999.0,9, 20210324,      107,  41.2918, -52.1849,    11.3850,2,     0.0423,1,     4.6959,1,     -999.0,9,     -999.0,9,     -999.0,9,     -999.0,9
325020210316,        A20,      15,          1,         26,         26,2,20210323,       2302,    41.2918,   -52.1850,       5109,   438.5,   9.7868,  35.2551,2,  35.2540,2,    135.8,2,   136.3,2,   14.36,2,   24.26,2,    0.00,2,    1.52,2,-999.000,9,-999.000,9, -999.00,9,  2198.9,2, -999.00,9,    881.7,6,    20.00,   7.66529,2,    24.97, -999.00,9, -999.00,9, -999.00,-999.000,9,   45.25,2,   26.10,2,     -999.0,9, 20210324,      104,  41.2918, -52.1849,     9.8047,2,     0.0419,1,     4.7009,1,     -999.0,9,     -999.0,9,     -999.0,9,     -999.0,9
325020210316,        A20,      15,          1,         25,         25,2,20210323,       2302,    41.2918,   -52.1850,       5109,   540.4,   8.2240,  35.1556,2,  35.1555,2,    157.8,2,   158.2,2,   14.65,2,   23.66,2,    0.00,2,    1.48,2,-999.000,9,-999.000,9, -999.00,9,  -999.0,9, -999.00,9,    887.2,2,    20.00,-999.00000,9,  -999.00, -999.00,9, -999.00,9, -999.00,-999.000,9,   46.83,2,   25.53,2,     -999.0,9, 20210324,      101,  41.2918, -52.1849,     8.2184,2,     0.0423,1,     4.7033,1,     -999.0,9,     -999.0,9,     -999.0,9,     -999.0,9
325020210316,        A20,      15,          1,         24,         24,2,20210323,       2302,    41.2918,   -52.1850,       5109,   640.7,   6.8057,  35.0930,2,  35.0949,2,    189.2,2,   190.0,2,   13.77,2,   21.64,2,    0.00,2,    1.38,2,-999.000,9,-999.000,9, -999.00,9,  -999.0,9, -999.00,9,   -999.0,9,  -999.00,-999.00000,9,  -999.00, -999.00,9, -999.00,9, -999.00,-999.000,9, -999.00,9, -999.00,9,     -999.0,9, 20210324,       57,  41.2918, -52.1849,     6.8075,2,     0.0423,1,     4.7084,1,     -999.0,9,     -999.0,9,     -999.0,9,     -999.0,9
325020210316,        A20,      15,          1,         23,         23,2,20210323,       2302,    41.2918,   -52.1850,       5109,   742.0,   5.7776,  35.0577,2,  35.0575,2,    216.9,2,   217.5,2,   12.80,2,   19.90,2,    0.00,2,    1.27,2,   2.256,2,   1.250,2,    0.90,3,  2181.7,2, 2313.17,2,    830.9,2,    20.00,   7.68714,2,    24.96, -999.00,9, -999.00,9, -999.00,-999.000,9,   48.14,2,   21.07,2,      16.21,2, 20210324,       54,  41.2918, -52.1849,     5.7861,2,     0.0414,1,     4.7090,1,     -999.0,9,     -999.0,9,     -999.0,9,     -999.0,9
325020210316,        A20,      15,          1,         22,         22,2,20210323,       2302,    41.2918,   -52.1850,       5109,   842.7,   5.2864,  35.0450,2,  35.0445,2,    232.3,2,   232.7,2,   12.41,2,   19.03,2,    0.00,2,    1.22,2,-999.000,9,-999.000,9, -999.00,9,  -999.0,9, -999.00,9,   -999.0,9,  -999.00,-999.00000,9,  -999.00, -999.00,9, -999.00,9, -999.00,-999.000,9, -999.00,9, -999.00,9,     -999.0,9, 20210324,       51,  41.2918, -52.1849,     5.2881,2,     0.0423,1,     4.7095,1,     -999.0,9,     -999.0,9,     -999.0,9,     -999.0,9
325020210316,        A20,      15,          1,         21,         21,2,20210323,       2302,    41.2918,   -52.1850,       5109,   944.1,   4.8869,  35.0224,2,  35.0256,2,    243.8,2,   243.3,2,   12.21,2,   18.32,2,    0.00,2,    1.18,2,-999.000,9,-999.000,9, -999.00,9,  -999.0,9, -999.00,9,   -999.0,9,  -999.00,-999.00000,9,  -999.00, -999.00,9, -999.00,9, -999.00,-999.000,9, -999.00,9, -999.00,9,     -999.0,9, 20210324,       48,  41.2918, -52.1849,     4.8938,2,     0.0426,1,     4.7099,1,     -999.0,9,     -999.0,9,     -999.0,9,     -999.0,9
325020210316,        A20,      15,          1,         20,         20,2,20210323,       2302,    41.2918,   -52.1850,       5109,  1046.2,   4.8438,  35.0404,2,  35.0403,2,    248.5,2,   247.3,2,   11.92,2,   17.89,2,    0.00,2,    1.16,2,   2.757,2,   1.469,2,    0.82,3,  2175.1,2, -999.00,9,    790.3,2,    20.00,   7.70765,2,    24.97, -999.00,9, -999.00,9, -999.00,-999.000,9,   47.56,2,   19.35,2,      14.41,2, 20210324,       44,  41.2918, -52.1849,     4.8444,2,     0.0419,1,     4.7119,1,     -999.0,9,     -999.0,9,     -999.0,9,     -999.0,9
325020210316,        A20,      15,          1,         19,         19,2,20210323,       2302,    41.2918,   -52.1850,       5109,  1146.6,   4.5771,  35.0160,2,  35.0171,2,    253.8,2,   253.4,2,   11.92,2,   17.59,2,    0.00,2,    1.15,2,-999.000,9,-999.000,9, -999.00,9,  -999.0,9, -999.00,9,   -999.0,9,  -999.00,-999.00000,9,  -999.00, -999.00,9, -999.00,9, -999.00,-999.000,9, -999.00,9, -999.00,9,     -999.0,9, 20210324,       40,  41.2918, -52.1849,     4.5769,2,     0.0417,1,     4.7118,1,     -999.0,9,     -999.0,9,     -999.0,9,     -999.0,9
325020210316,        A20,      15,          1,         18,         18,2,20210323,       2302,    41.2918,   -52.1850,       5109,  1248.4,   4.3042,  34.9860,2,  34.9852,2,    258.3,2,   258.2,2,   12.11,2,   17.57,2,    0.00,2,    1.15,2,-999.000,9,-999.000,9, -999.00,9,  -999.0,9, -999.00,9,    783.2,2,    20.00,-999.00000,9,  -999.00, -999.00,9, -999.00,9, -999.00,-999.000,9,   46.47,2,   18.46,2,     -999.0,9, 20210324,       38,  41.2918, -52.1849,     4.3052,2,     0.0428,1,     4.7105,1,     -999.0,9,     -999.0,9,     -999.0,9,     -999.0,9
325020210316,        A20,      15,          1,         17,         17,2,20210323,       2302,    41.2918,   -52.1850,       5109,  1349.6,   4.1964,  34.9821,2,  34.9819,2,    261.3,2,   261.2,2,   12.21,2,   17.57,2,    0.00,2,    1.14,2,-999.000,9,-999.000,9, -999.00,9,  -999.0,9, -999.00,9,   -999.0,9,  -999.00,-999.00000,9,  -999.00, -999.00,9, -999.00,9, -999.00,-999.000,9,   47.00,2,   19.03,2,     -999.0,9, 20210324,       35,  41.2918, -52.1849,     4.1969,2,     0.0426,1,     4.7106,1,     -999.0,9,     -999.0,9,     -999.0,9,     -999.0,9
325020210316,        A20,      15,          1,         16,         16,2,20210323,       2302,    41.2918,   -52.1850,       5109,  1482.1,   4.0804,  34.9781,2,  34.9784,2,    262.8,2,   262.3,2,   12.41,2,   17.61,2,    0.00,2,    1.13,2,   2.714,2,   1.444,2,    0.90,3,  2167.9,2,  2308.4,2,    774.1,2,    20.00,   7.71385,2,    24.96, -999.00,9, -999.00,9, -999.00,-999.000,9, -999.00,9, -999.00,9,      13.71,2, 20210324,       31,  41.2918, -52.1850,     4.0794,2,     0.0420,1,     4.7118,1,     -999.0,9,     -999.0,9,     -999.0,9,     -999.0,9
325020210316,        A20,      15,          1,         15,         15,2,20210323,       2302,    41.2918,   -52.1850,       5109,  1683.8,   3.9066,  34.9702,2,  34.9691,2,    265.1,2,   263.6,2,   13.09,2,   17.68,2,    0.00,2,    1.14,2,-999.000,9,-999.000,9, -999.00,9,  -999.0,9, -999.00,9,   -999.0,9,  -999.00,-999.00000,9,  -999.00, -999.00,9, -999.00,9, -999.00,-999.000,9,   48.45,2,   18.39,2,     -999.0,9, 20210324,       26,  41.2918, -52.1849,     3.9056,2,     0.0423,1,     4.7117,1,     -999.0,9,     -999.0,9,     -999.0,9,     -999.0,9
325020210316,        A20,      15,          1,         14,         14,2,20210323,       2302,    41.2918,   -52.1850,       5109,  1887.6,   3.7154,  34.9612,2,  34.9610,2,    265.8,2,   264.4,2,   13.87,2,   17.68,2,    0.00,2,    1.13,2,-999.000,9,-999.000,9, -999.00,9,  -999.0,9, -999.00,9,   -999.0,9,  -999.00,-999.00000,9,  -999.00, -999.00,9, -999.00,9, -999.00,-999.000,9, -999.00,9, -999.00,9,     -999.0,9, 20210324,       21,  41.2918, -52.1850,     3.7157,2,     0.0418,1,     4.7118,1,     -999.0,9,     -999.0,9,     -999.0,9,     -999.0,9
325020210316,        A20,      15,          1,         13,         13,2,20210323,       2302,    41.2918,   -52.1850,       5109,  2112.3,   3.5035,  34.9509,2,  34.9514,2,    265.6,2,   266.3,2,   14.75,2,   17.51,2,    0.00,2,    1.13,2,-999.000,9,-999.000,9, -999.00,9,  -999.0,9, -999.00,9,   -999.0,9,  -999.00,-999.00000,9,  -999.00, -999.00,9, -999.00,9, -999.00,-999.000,9,   47.09,2,   19.47,2,     -999.0,9, 20210324,       16,  41.2918, -52.1850,     3.5034,2,     0.0416,1,     4.7118,1,     -999.0,9,     -999.0,9,     -999.0,9,     -999.0,9
325020210316,        A20,      15,          1,         12,         12,2,20210323,       2302,    41.2918,   -52.1850,       5109,  2366.9,   3.3622,  34.9523,2,  34.9528,2,    264.4,2,   264.4,2,   17.00,2,   17.72,2,    0.00,2,    1.16,2,   1.578,2,   0.811,2,    0.45,3,  2166.3,2, -999.00,9,    745.7,2,    20.00,   7.72967,2,    24.94, -999.00,9, -999.00,9, -999.00,-999.000,9,   45.71,2,   18.57,2,      13.29,2, 20210324,       10,  41.2918, -52.1849,     3.3624,2,     0.0429,1,     4.7131,1,     -999.0,9,     -999.0,9,     -999.0,9,     -999.0,9
325020210316,        A20,      15,          1,         11,         11,2,20210323,       2302,    41.2918,   -52.1850,       5109,  2621.9,   3.1630,  34.9445,2,  34.9437,2,    265.1,2,   265.0,2,   18.66,2,   17.71,2,    0.00,2,    1.17,2,-999.000,9,-999.000,9, -999.00,9,  -999.0,9, -999.00,9,   -999.0,9,  -999.00,-999.00000,9,  -999.00, -999.00,9, -999.00,9, -999.00,-999.000,9, -999.00,9, -999.00,9,     -999.0,9, 20210324,        5,  41.2918, -52.1850,     3.1631,2,     0.0429,1,     4.7131,1,     -999.0,9,     -999.0,9,     -999.0,9,     -999.0,9
325020210316,        A20,      15,          1,         10,         10,2,20210323,       2302,    41.2918,   -52.1850,       5109,  2876.4,   2.9475,  34.9322,2,  34.9333,2,    267.3,2,   267.6,2,   19.34,2,   17.47,2,    0.00,2,    1.16,2,-999.000,9,-999.000,9, -999.00,9,  -999.0,9, -999.00,9,   -999.0,9,  -999.00,-999.00000,9,  -999.00, -999.00,9, -999.00,9, -999.00,-999.000,9,   46.92,2,   19.81,2,     -999.0,9, 20210323,     2359,  41.2918, -52.1849,     2.9477,2,     0.0423,1,     4.7125,1,     -999.0,9,     -999.0,9,     -999.0,9,     -999.0,9
325020210316,        A20,      15,          1,          9,          9,2,20210323,       2302,    41.2918,   -52.1850,       5109,  3154.9,   2.7419,  34.9230,2,  34.9227,2,    267.5,2,   268.2,2,   21.59,2,   17.61,2,    0.00,2,    1.18,2,-999.000,9,-999.000,9, -999.00,9,  -999.0,9, -999.00,9,   -999.0,9,  -999.00,-999.00000,9,  -999.00, -999.00,9, -999.00,9, -999.00,-999.000,9, -999.00,9, -999.00,9,     -999.0,9, 20210323,     2351,  41.2918, -52.1849,     2.7463,2,     0.0423,1,     4.7127,1,     -999.0,9,     -999.0,9,     -999.0,9,     -999.0,9
325020210316,        A20,      15,          1,          8,          8,2,20210323,       2302,    41.2918,   -52.1850,       5109,  3454.5,   2.5278,  34.9108,2,  34.9103,2,    268.5,2,   269.4,2,   23.74,2,   17.80,2,    0.00,2,    1.19,2,   1.386,2,   0.711,2,    0.42,3,  2169.5,2,  2317.0,6,    745.0,2,    20.00,   7.73074,6,    24.98, -999.00,9, -999.00,9, -999.00,-999.000,9,   45.95,2,   19.53,2,      13.43,2, 20210323,     2346,  41.2918, -52.1849,     2.5276,2,     0.0430,1,     4.7130,1,     -999.0,9,     -999.0,9,     -999.0,9,     -999.0,9
325020210316,        A20,      15,          1,          7,          7,2,20210323,       2302,    41.2918,   -52.1850,       5109,  3762.0,   2.3797,  34.9017,2,  34.9010,2,    269.1,2,   271.5,2,   24.23,2,   17.62,2,    0.00,2,    1.16,2,-999.000,9,-999.000,9, -999.00,9,  -999.0,9, -999.00,9,   -999.0,9,  -999.00,-999.00000,9,  -999.00, -999.00,9, -999.00,9, -999.00,-999.000,9,   44.49,2,   20.98,2,     -999.0,9, 20210323,     2339,  41.2918, -52.1849,     2.3797,2,     0.0428,1,     4.7108,1,     -999.0,9,     -999.0,9,     -999.0,9,     -999.0,9
325020210316,        A20,      15,          1,          6,          6,2,20210323,       2302,    41.2918,   -52.1850,       5109,  4069.4,   2.2940,  34.8931,2,  34.8924,2,    267.2,2,   268.1,2,   29.21,2,   18.49,2,    0.00,2,    1.22,2,-999.000,9,-999.000,9, -999.00,9,  -999.0,9, -999.00,9,   -999.0,9,  -999.00,-999.00000,9,  -999.00, -999.00,9, -999.00,9, -999.00,-999.000,9,   44.72,2,   21.07,2,     -999.0,9, 20210323,     2331,  41.2918, -52.1849,     2.2941,2,     0.0426,1,     4.7073,1,     -999.0,9,     -999.0,9,     -999.0,9,     -999.0,9
325020210316,        A20,      15,          1,          5,          5,2,20210323,       2302,    41.2918,   -52.1850,       5109,  4378.8,   2.2743,  34.8896,2,  34.8888,2,    266.5,2,   267.5,2,   30.58,2,   18.59,2,    0.00,2,    1.23,2,   1.396,2,   0.726,2,    0.37,3,  2179.0,2, -999.00,9,    757.2,2,    20.00,   7.72521,6,    24.97, -999.00,9, -999.00,9, -999.00,-999.000,9,   45.02,2,   21.23,2,      13.61,2, 20210323,     2325,  41.2918, -52.1849,     2.2745,2,     0.0423,1,     4.6907,1,     -999.0,9,     -999.0,9,     -999.0,9,     -999.0,9
325020210316,        A20,      15,          1,          4,          4,4,20210323,       2302,    41.2918,   -52.1850,       5109,  4685.6,   2.3155,  34.8931,3,  34.8926,3,    269.3,3,   271.6,3,   26.57,3,   17.75,3,    0.00,3,    1.17,3,-999.000,9,-999.000,9, -999.00,9,  -999.0,9, -999.00,9,   -999.0,9,  -999.00,-999.00000,9,  -999.00, -999.00,9, -999.00,9, -999.00,-999.000,9, -999.00,9, -999.00,9,     -999.0,9, 20210323,     2317,  41.2918, -52.1849,     2.3155,3,     0.0422,1,     4.6441,1,     -999.0,9,     -999.0,9,     -999.0,9,     -999.0,9
325020210316,        A20,      15,          1,          3,          3,2,20210323,       2302,    41.2918,   -52.1850,       5109,  4995.3,   2.3046,  34.8844,2,  34.8841,2,    265.6,2,   264.8,2,   33.61,2,   18.95,2,    0.00,2,    1.28,2,-999.000,9,-999.000,9, -999.00,9,  -999.0,9, -999.00,9,   -999.0,9,  -999.00,-999.00000,9,  -999.00, -999.00,9, -999.00,9, -999.00,-999.000,9,   46.55,2,   20.08,2,     -999.0,9, 20210323,     2310,  41.2918, -52.1849,     2.3045,2,     0.0431,1,     4.6672,1,     -999.0,9,     -999.0,9,     -999.0,9,     -999.0,9