BOTTLE,20230512CCHSIOCBG
EXPOCODE,SECT_ID,STNNBR,CASTNO,SAMPNO,BTLNBR,BTLNBR_FLAG_W,DATE,TIME,LATITUDE,LONGITUDE,DEPTH,CTDPRS,CTDTMP,CTDSAL,CTDSAL_FLAG_W,SALNTY,SALNTY_FLAG_W,CTDOXY,CTDOXY_FLAG_W,OXYGEN,OXYGEN_FLAG_W,SILCAT,SILCAT_FLAG_W,NITRAT,NITRAT_FLAG_W,NITRIT,NITRIT_FLAG_W,PHSPHT,PHSPHT_FLAG_W,CFC-11,CFC-11_FLAG_W,CFC-12,CFC-12_FLAG_W,SF6,SF6_FLAG_W,TCARBN,TCARBN_FLAG_W,ALKALI,ALKALI_FLAG_W,FCO2,FCO2_FLAG_W,FCO2TMP,PH_TOT,PH_TOT_FLAG_W,PH_TMP,DELC13,DELC13_FLAG_W,DELC14,DELC14_FLAG_W,C14ERR,POC,POC_FLAG_W,DOC,DOC_FLAG_W,TDN,TDN_FLAG_W,N2O,N2O_FLAG_W,BTL_DATE,BTL_TIME,BTL_LAT,BTL_LON,REFTMP,REFTMP_FLAG_W,CTDFLUOR,CTDFLUOR_FLAG_W,CTDXMISS,CTDXMISS_FLAG_W,D15N_NO2+NO3,D15N_NO2+NO3_FLAG_W,D18O_NO2+NO3,D18O_NO2+NO3_FLAG_W,HPLC,HPLC_FLAG_W,MICROGELS,MICROGELS_FLAG_W
,,,,,,,,,,,METERS,DBAR,ITS-90,PSS-78,,PSS-78,,UMOL/KG,,UMOL/KG,,UMOL/KG,,UMOL/KG,,UMOL/KG,,UMOL/KG,,PMOL/KG,,PMOL/KG,,FMOL/KG,,UMOL/KG,,UMOL/KG,,UATM,,DEG C,,,DEG C,/MILLE,,/MILLE,,/MILLE,UG/KG,,UMOL/KG,,UMOL/KG,,NMOL/KG,,,,,,ITS-90,,VOLTS,,VOLTS,,/MILLE,,/MILLE,,,,1E6 GELS/L,
325020210316,        A20,      41,          1,         36,         36,2,20210401,       0340,    26.4720,   -52.3337,       5262,     5.2,  23.2530,  37.1372,2,  37.0807,3,    215.1,2,   213.8,2,    0.88,2,    0.00,2,    0.00,2,    0.00,2,   1.650,2,   1.087,2,    1.87,2,  2093.2,6, 2424.43,2,    319.0,2,    20.00,   8.06927,2,    25.01, -999.00,9, -999.00,9, -999.00,-999.000,9,   76.57,2,    2.86,2,       6.20,2, 20210401,      610,  26.4720, -52.3337,    23.2470,2,     0.0419,1,     4.6565,1,     -999.0,9,     -999.0,9,     -999.0,9,     -999.0,1
325020210316,        A20,      41,          1,         35,         35,2,20210401,       0340,    26.4720,   -52.3337,       5262,    20.5,  23.2357,  37.2195,2,  37.2193,2,    215.3,2,   213.8,2,    0.88,2,    0.00,2,    0.00,2,    0.00,2,-999.000,9,-999.000,9, -999.00,9,  2103.0,2, 2433.61,6,    321.9,2,    20.00,   8.06669,6,    25.01, -999.00,9, -999.00,9, -999.00,-999.000,9,   78.91,2,    3.88,2,     -999.0,9, 20210401,      607,  26.4720, -52.3337,    23.2352,2,     0.0418,1,     4.6569,1,     -999.0,9,     -999.0,9,     -999.0,9,     -999.0,1
325020210316,        A20,      41,          1,         34,         34,2,20210401,       0340,    26.4720,   -52.3337,       5262,    40.3,  22.8623,  37.1356,2,  37.1286,2,    215.7,2,   214.7,2,    0.78,2,    0.00,2,    0.00,2,    0.00,2,-999.000,9,-999.000,9, -999.00,9,  2100.1,2, 2427.26,2,    327.8,2,    20.00,   8.06082,2,    25.02, -999.00,9, -999.00,9, -999.00,-999.000,9,   73.38,2,    2.82,2,     -999.0,9, 20210401,      605,  26.4720, -52.3337,    22.8604,2,     0.0418,1,     4.6601,1,     -999.0,9,     -999.0,9,     -999.0,9,     -999.0,1
325020210316,        A20,      41,          1,         33,         33,2,20210401,       0340,    26.4720,   -52.3337,       5262,    66.1,  22.0947,  37.0129,2,  37.0130,2,    219.7,2,   217.9,2,    0.68,2,    0.00,2,    0.00,2,    0.00,2,-999.000,9,-999.000,9, -999.00,9,  2100.9,2, 2419.06,2,    334.2,2,    20.00,   8.05296,2,    24.99, -999.00,9, -999.00,9, -999.00,-999.000,9,   66.41,2,    3.64,2,     -999.0,9, 20210401,      603,  26.4720, -52.3337,    22.0944,2,     0.0452,1,     4.6569,1,     -999.0,9,     -999.0,9,     -999.0,9,     -999.0,1
325020210316,        A20,      41,          1,         32,         32,2,20210401,       0340,    26.4720,   -52.3337,       5262,    90.6,  21.7693,  36.9571,2,  36.9530,2,    214.1,2,   213.1,2,    0.59,2,    0.00,2,    0.00,2,    0.00,2,   1.744,2,   1.146,2,    1.87,2,  2104.2,2, 2415.74,2,    346.9,2,    20.00,    8.0384,2,    24.99, -999.00,9, -999.00,9, -999.00,-999.000,9,   64.22,2,    3.84,2,       6.65,2, 20210401,      602,  26.4720, -52.3337,    21.7680,2,     0.0572,1,     4.6547,1,     -999.0,9,     -999.0,9,     -999.0,9,     -999.0,1
325020210316,        A20,      41,          1,         31,         31,2,20210401,       0340,    26.4720,   -52.3337,       5262,   135.3,  19.8775,  36.7175,2,  36.7096,2,    196.3,2,   197.4,2,    0.78,2,    0.97,2,    0.02,2,    0.00,2,-999.000,9,-999.000,9, -999.00,9,  2125.3,2, 2398.84,2,    402.0,2,    20.00,   7.98273,2,    25.00, -999.00,9, -999.00,9, -999.00,-999.000,9,   51.30,2,    3.59,2,     -999.0,9, 20210401,      559,  26.4720, -52.3337,    19.8780,2,     0.0799,1,     4.6618,1,     -999.0,9,     -999.0,9,     -999.0,9,     -999.0,1
325020210316,        A20,      41,          1,         30,         30,2,20210401,       0340,    26.4720,   -52.3337,       5262,   186.3,  19.0287,  36.6351,2,  36.6332,2,    200.4,2,   201.1,2,    1.07,2,    2.76,2,    0.00,2,    0.08,2,   1.970,2,   1.282,2,    1.89,2,  2122.1,2, 2393.84,2,    406.2,2,    20.00,   7.97839,2,    25.01, -999.00,9, -999.00,9, -999.00,-999.000,9,   52.72,2,    5.24,2,       7.69,2, 20210401,      553,  26.4720, -52.3337,    19.0298,2,     0.0410,1,     4.6879,1,     -999.0,9,     -999.0,9,     -999.0,9,     -999.0,1
325020210316,        A20,      41,          1,         29,         29,2,20210401,       0340,    26.4720,   -52.3337,       5262,   236.1,  18.6996,  36.6004,2,  36.5999,2,    203.3,2,   203.4,2,    1.17,2,    3.41,2,    0.00,2,    0.15,2,-999.000,9,-999.000,9, -999.00,9,  2124.1,2, 2391.95,2,    411.0,2,    20.00,    7.9739,2,    25.00, -999.00,9, -999.00,9, -999.00,-999.000,9,   51.26,2,    5.65,2,     -999.0,9, 20210401,      550,  26.4719, -52.3337,    18.7004,2,     0.0394,1,     4.6911,1,     -999.0,9,     -999.0,9,     -999.0,9,     -999.0,1
325020210316,        A20,      41,          1,         28,         28,2,20210401,       0340,    26.4720,   -52.3337,       5262,   285.7,  18.4103,  36.5598,2,  36.5593,2,    200.7,2,   201.3,2,    1.27,2,    3.97,2,    0.00,2,    0.18,2,-999.000,9,-999.000,9, -999.00,9,  2127.3,2, 2391.28,2,    422.2,2,    20.00,   7.96407,2,    25.00, -999.00,9, -999.00,9, -999.00,-999.000,9,   49.77,2,    5.93,2,     -999.0,9, 20210401,      547,  26.4719, -52.3337,    18.4066,2,     0.0394,1,     4.6916,1,     -999.0,9,     -999.0,9,     -999.0,9,     -999.0,1
325020210316,        A20,      41,          1,         27,         27,2,20210401,       0340,    26.4720,   -52.3337,       5262,   337.6,  17.8725,  36.4733,2,  36.4715,2,    193.7,2,   193.9,2,    1.76,2,    5.39,2,    0.00,2,    0.26,2,   2.086,2,   1.344,2,    1.81,2,  2135.2,2, 2386.19,2,    447.7,2,    20.00,   7.94079,2,    25.00, -999.00,9, -999.00,9, -999.00,-999.000,9,   50.39,2,    7.96,2,       8.88,2, 20210401,      544,  26.4720, -52.3337,    17.8884,2,     0.0391,1,     4.6930,1,     -999.0,9,     -999.0,9,     -999.0,9,     -999.0,1
325020210316,        A20,      41,          1,         26,         26,2,20210401,       0340,    26.4720,   -52.3337,       5262,   387.7,  17.2148,  36.3671,2,  36.3616,2,    185.5,2,   187.1,2,    2.15,2,    6.99,2,    0.00,2,    0.35,2,-999.000,9,-999.000,9, -999.00,9,  2142.0,2, 2379.51,2,    477.4,2,    20.00,   7.91619,2,    25.00, -999.00,9, -999.00,9, -999.00,-999.000,9,   49.26,2,    9.52,2,     -999.0,9, 20210401,      541,  26.4719, -52.3337,    17.2164,2,     0.0406,1,     4.6944,1,     -999.0,9,     -999.0,9,     -999.0,9,     -999.0,1
325020210316,        A20,      41,          1,         25,         25,2,20210401,       0340,    26.4720,   -52.3337,       5262,   469.0,  15.7418,  36.1257,2,  36.1189,2,    184.5,2,   185.5,2,    3.12,2,    9.38,2,    0.00,2,    0.51,2,   2.172,2,   1.398,2,    1.62,2,  2148.2,2, 2366.59,2,    526.0,2,    20.00,   7.87663,2,    25.01, -999.00,9, -999.00,9, -999.00,-999.000,9,   48.85,2,    9.89,2,      11.15,2, 20210401,      538,  26.4719, -52.3337,    15.7759,2,     0.0403,1,     4.6954,1,     -999.0,9,     -999.0,9,     -999.0,9,     -999.0,1
325020210316,        A20,      41,          1,         24,         24,2,20210401,       0340,    26.4720,   -52.3337,       5262,   569.6,  13.8106,  35.8230,2,  35.8198,2,    174.5,2,   175.8,2,    5.08,2,   13.29,2,    0.00,2,    0.76,2,-999.000,9,-999.000,9, -999.00,9,  2166.5,2, 2350.77,2,    608.6,2,    20.00,   7.81796,2,    25.00, -999.00,9, -999.00,9, -999.00,-999.000,9,   47.33,2,   13.77,2,     -999.0,9, 20210401,      534,  26.4719, -52.3336,    13.8185,2,     0.0403,1,     4.6972,1,     -999.0,9,     -999.0,9,     -999.0,9,     -999.0,1
325020210316,        A20,      41,          1,         23,         23,2,20210401,       0340,    26.4720,   -52.3337,       5262,   669.6,  12.0451,  35.5953,2,  35.5922,2,    164.2,2,   164.4,2,    7.62,2,   17.40,2,    0.00,2,    1.03,2,   1.961,2,   1.172,2,    0.97,2,  2179.3,2, 2338.48,2,    694.0,2,    20.00,   7.76547,2,    25.00, -999.00,9, -999.00,9, -999.00,-999.000,9,   47.19,2,   17.11,2,      15.73,2, 20210401,      531,  26.4718, -52.3335,    12.0804,2,     0.0411,1,     4.7000,1,     -999.0,9,     -999.0,9,     -999.0,9,     -999.0,1
325020210316,        A20,      41,          1,         22,         22,2,20210401,       0340,    26.4720,   -52.3337,       5262,   771.9,  10.1228,  35.3597,2,  35.3510,2,    153.0,2,   153.1,2,   11.72,2,   21.88,2,    0.00,2,    1.33,2,   1.440,2,   0.813,2,    0.61,2,  2191.4,6, 2328.27,2,    797.7,2,    20.00,   7.70716,2,    24.98, -999.00,9, -999.00,9, -999.00,-999.000,9, -999.00,9, -999.00,9,      18.16,2, 20210401,      528,  26.4718, -52.3336,    10.1165,2,     0.0423,1,     4.7015,1,     -999.0,9,     -999.0,9,     -999.0,9,     -999.0,1
325020210316,        A20,      41,          1,         21,         21,2,20210401,       0340,    26.4720,   -52.3337,       5262,   870.7,   8.2870,  35.1944,2,  35.1959,2,    157.9,2,   157.0,2,   14.95,2,   24.02,2,    0.00,2,    1.50,2,   1.044,2,   0.560,2,    0.33,2,  2199.8,2, 2324.21,2,    855.1,2,    20.00,   7.67723,2,    25.02, -999.00,9, -999.00,9, -999.00,-999.000,9,   44.14,2,   21.83,2,      18.44,2, 20210401,      525,  26.4719, -52.3336,     8.2807,2,     0.0424,1,     4.7022,1,     -999.0,9,     -999.0,9,     -999.0,9,     -999.0,1
325020210316,        A20,      41,          1,         20,         20,2,20210401,       0340,    26.4720,   -52.3337,       5262,   973.9,   7.2490,  35.1581,2,  35.1575,2,    171.6,2,   170.9,2,   16.02,2,   23.79,2,    0.00,2,    1.50,2,-999.000,9,-999.000,9, -999.00,9,  2199.2,2, 2325.03,2,    854.9,2,    20.00,   7.67859,2,    25.00, -999.00,9, -999.00,9, -999.00,-999.000,9, -999.00,9, -999.00,9,     -999.0,9, 20210401,      522,  26.4719, -52.3336,     7.2492,2,     0.0414,1,     4.7027,1,     -999.0,9,     -999.0,9,     -999.0,9,     -999.0,1
325020210316,        A20,      41,          1,         19,         19,2,20210401,       0340,    26.4720,   -52.3337,       5262,  1073.6,   6.1244,  35.0566,2,  35.0573,2,    189.4,2,   189.2,2,   16.71,2,   23.37,2,    0.00,2,    1.49,2,   0.845,2,   0.437,2,    0.34,2,  2196.0,2, 2320.21,2,    849.3,2,    20.00,   7.68047,2,    25.00, -999.00,9, -999.00,9, -999.00,-999.000,9,   45.05,2,   23.00,2,      16.79,2, 20210401,      518,  26.4719, -52.3336,     6.1238,2,     0.0427,1,     4.7033,1,     -999.0,9,     -999.0,9,     -999.0,9,     -999.0,1
325020210316,        A20,      41,          1,         18,         18,2,20210401,       0340,    26.4720,   -52.3337,       5262,  1174.9,   5.7875,  35.0852,2,  35.0854,2,    207.1,2,   207.0,2,   15.24,2,   21.58,2,    0.00,2,    1.38,2,-999.000,9,-999.000,9, -999.00,9,  2189.1,2, 2319.46,2,    809.1,2,    20.00,   7.69977,2,    25.03, -999.00,9, -999.00,9, -999.00,-999.000,9, -999.00,9, -999.00,9,     -999.0,9, 20210401,      516,  26.4719, -52.3337,     5.7869,2,     0.0425,1,     4.7034,1,     -999.0,9,     -999.0,9,     -999.0,9,     -999.0,1
325020210316,        A20,      41,          1,         17,         17,2,20210401,       0340,    26.4720,   -52.3337,       5262,  1276.4,   5.5754,  35.1057,2,  35.1059,2,    218.2,2,   217.9,2,   14.46,2,   20.48,2,    0.00,2,    1.32,2,-999.000,9,-999.000,9, -999.00,9,  2185.0,2, 2320.99,2,    786.5,2,    20.00,   7.71084,2,    25.02, -999.00,9, -999.00,9, -999.00,-999.000,9,   45.11,2,   19.62,2,     -999.0,9, 20210401,      512,  26.4719, -52.3337,     5.5739,2,     0.0429,1,     4.7045,1,     -999.0,9,     -999.0,9,     -999.0,9,     -999.0,1
325020210316,        A20,      41,          1,         16,         16,2,20210401,       0340,    26.4720,   -52.3337,       5262,  1377.5,   5.2590,  35.1148,2,  35.1152,2,    228.7,2,   227.4,2,   14.26,2,   19.67,2,    0.00,2,    1.26,2,   1.251,2,   0.649,2,    0.36,2,  2181.8,2, 2320.93,2,    768.1,2,    20.00,   7.72075,2,    25.03, -999.00,9, -999.00,9, -999.00,-999.000,9, -999.00,9, -999.00,9,      13.86,2, 20210401,      509,  26.4719, -52.3337,     5.2579,2,     0.0424,1,     4.7045,1,     -999.0,9,     -999.0,9,     -999.0,9,     -999.0,1
325020210316,        A20,      41,          1,         15,         15,2,20210401,       0340,    26.4720,   -52.3337,       5262,  1551.1,   4.7065,  35.0869,2,  35.0872,2,    237.9,2,   237.8,2,   15.44,2,   19.20,2,    0.00,2,    1.24,2,-999.000,9,-999.000,9, -999.00,9,  2178.0,2, 2319.16,2,    752.8,2,    20.00,   7.72936,2,    24.98, -999.00,9, -999.00,9, -999.00,-999.000,9,   44.48,2,   18.72,2,     -999.0,9, 20210401,      505,  26.4720, -52.3337,     4.7048,2,     0.0418,1,     4.7045,1,     -999.0,9,     -999.0,9,     -999.0,9,     -999.0,1
325020210316,        A20,      41,          1,         14,         14,2,20210401,       0340,    26.4720,   -52.3337,       5262,  1753.0,   4.3145,  35.0718,2,  35.0726,2,    243.5,2,   243.7,2,   17.39,2,   18.86,2,    0.00,2,    1.24,2,-999.000,9,-999.000,9, -999.00,9,  2178.3,2, 2321.69,2,    744.9,2,    20.00,   7.73267,2,    25.01, -999.00,9, -999.00,9, -999.00,-999.000,9, -999.00,9, -999.00,9,     -999.0,9, 20210401,      500,  26.4719, -52.3337,     4.3224,2,     0.0416,1,     4.7042,1,     -999.0,9,     -999.0,9,     -999.0,9,     -999.0,1
325020210316,        A20,      41,          1,         13,         13,2,20210401,       0340,    26.4720,   -52.3337,       5262,  1957.4,   3.7569,  35.0204,2,  35.0211,2,    248.9,2,   248.7,2,   20.52,2,   18.98,2,    0.00,2,    1.25,2,   0.843,2,   0.414,2,    0.26,2,  2176.5,6, 2323.66,2,    742.2,2,    20.00,   7.73516,2,    25.00, -999.00,9, -999.00,9, -999.00,-999.000,9,   45.00,2,   18.62,2,      12.87,2, 20210401,      454,  26.4718, -52.3336,     3.7564,2,     0.0421,1,     4.7043,1,     -999.0,9,     -999.0,9,     -999.0,9,     -999.0,1
325020210316,        A20,      41,          1,         12,         12,2,20210401,       0340,    26.4720,   -52.3337,       5262,  2190.0,   3.3780,  34.9858,2,  34.9860,2,    250.6,2,   250.6,2,   24.13,2,   19.35,2,    0.00,2,    1.28,2,-999.000,9,-999.000,9, -999.00,9,  2180.1,2, 2326.13,2,    740.6,2,    20.00,   7.73585,6,    25.01, -999.00,9, -999.00,9, -999.00,-999.000,9, -999.00,9, -999.00,9,     -999.0,9, 20210401,      450,  26.4719, -52.3336,     3.3798,2,     0.0425,1,     4.7042,1,     -999.0,9,     -999.0,9,     -999.0,9,     -999.0,1
325020210316,        A20,      41,          1,         11,         11,2,20210401,       0340,    26.4720,   -52.3337,       5262,  2446.1,   3.1784,  34.9684,2,  34.9687,2,    250.7,2,   250.8,2,   26.87,2,   19.73,2,    0.00,2,    1.30,2,-999.000,9,-999.000,9, -999.00,9,  2179.9,2, 2328.96,6,    740.1,2,    20.00,   7.73657,2,    24.94, -999.00,9, -999.00,9, -999.00,-999.000,9,   45.05,2,   19.45,2,     -999.0,9, 20210401,      444,  26.4718, -52.3336,     3.1776,2,     0.0418,1,     4.7039,1,     -999.0,9,     -999.0,9,     -999.0,9,     -999.0,1
325020210316,        A20,      41,          1,         10,         10,2,20210401,       0340,    26.4720,   -52.3337,       5262,  2699.1,   2.9962,  34.9529,2,  34.9530,2,    250.3,2,   250.4,2,   30.00,2,   20.11,2,    0.00,2,    1.32,2,   0.303,2,   0.143,2,    0.00,2,  2183.7,2, 2331.22,2,    740.5,2,    20.00,   7.73563,2,    25.02, -999.00,9, -999.00,9, -999.00,-999.000,9, -999.00,9, -999.00,9,      12.79,2, 20210401,      439,  26.4719, -52.3336,     2.9974,2,     0.0419,1,     4.7033,1,     -999.0,9,     -999.0,9,     -999.0,9,     -999.0,1
325020210316,        A20,      41,          1,          9,          9,2,20210401,       0340,    26.4720,   -52.3337,       5262,  2954.7,   2.8379,  34.9393,2,  34.9394,2,    250.5,2,   250.8,2,   32.63,2,   20.36,2,    0.00,2,    1.35,2,-999.000,9,-999.000,9, -999.00,9,  2184.4,2, 2332.71,2,    739.4,2,    20.00,   7.73617,2,    25.00, -999.00,9, -999.00,9, -999.00,-999.000,9,   45.66,2,   20.01,2,     -999.0,9, 20210401,      433,  26.4719, -52.3336,     2.8381,2,     0.0430,1,     4.7034,1,     -999.0,9,     -999.0,9,     -999.0,9,     -999.0,1
325020210316,        A20,      41,          1,          8,          8,2,20210401,       0340,    26.4720,   -52.3337,       5262,  3245.1,   2.6711,  34.9252,2,  34.9264,2,    252.4,2,   252.6,2,   34.78,2,   20.43,2,    0.00,2,    1.36,2,-999.000,9,-999.000,9, -999.00,9,  2184.8,2, 2333.48,2,    738.0,2,    20.00,   7.73812,2,    24.99, -999.00,9, -999.00,9, -999.00,-999.000,9, -999.00,9, -999.00,9,     -999.0,9, 20210401,      427,  26.4718, -52.3336,     2.6706,2,     0.0423,1,     4.7033,1,     -999.0,9,     -999.0,9,     -999.0,9,     -999.0,1
325020210316,        A20,      41,          1,          7,          7,2,20210401,       0340,    26.4720,   -52.3337,       5262,  3552.1,   2.4617,  34.9079,2,  34.9085,2,    256.0,2,   256.3,2,   36.05,2,   20.26,2,    0.00,2,    1.36,2,   0.099,2,   0.051,2,    0.08,2,  2183.9,2, 2331.62,2,    737.2,6,    20.00,   7.73839,2,    24.98, -999.00,9, -999.00,9, -999.00,-999.000,9,   44.04,2,   20.70,2,      12.71,2, 20210401,      421,  26.4718, -52.3336,     2.4613,2,     0.0426,1,     4.7033,1,     -999.0,9,     -999.0,9,     -999.0,9,     -999.0,1
325020210316,        A20,      41,          1,          6,          6,2,20210401,       0340,    26.4720,   -52.3337,       5262,  3859.7,   2.3072,  34.8926,2,  34.8928,2,    256.4,2,   256.5,2,   39.18,2,   20.55,2,    0.00,2,    1.39,2,-999.000,9,-999.000,9, -999.00,9,  2187.8,2, 2334.91,2,    743.7,2,    20.00,   7.73768,2,    24.95, -999.00,9, -999.00,9, -999.00,-999.000,9,   45.03,2,   19.93,2,     -999.0,9, 20210401,      414,  26.4718, -52.3336,     2.3077,2,     0.0421,1,     4.7033,1,     -999.0,9,     -999.0,9,     -999.0,9,     -999.0,1
325020210316,        A20,      41,          1,          5,          5,2,20210401,       0340,    26.4720,   -52.3337,       5262,  4167.7,   2.2019,  34.8796,2,  34.8794,2,    254.6,2,   254.9,2,   43.77,2,   21.23,2,    0.00,2,    1.42,2,-999.000,9,-999.000,9, -999.00,9,  2195.9,2, 2338.56,2,    753.7,2,    20.00,   7.73002,2,    24.98, -999.00,9, -999.00,9, -999.00,-999.000,9, -999.00,9, -999.00,9,     -999.0,9, 20210401,      407,  26.4718, -52.3336,     2.2019,2,     0.0421,1,     4.7033,1,     -999.0,9,     -999.0,9,     -999.0,9,     -999.0,1
325020210316,        A20,      41,          1,          4,          4,2,20210401,       0340,    26.4720,   -52.3337,       5262,  4476.4,   2.1498,  34.8707,2,  34.8703,2,    253.2,2,   252.8,2,   47.10,2,   21.75,2,    0.00,2,    1.46,2,   0.097,2,   0.056,2,    0.08,2,  2195.1,2,  2339.7,2,   -999.0,9,  -999.00,   7.72737,6,    25.01, -999.00,9, -999.00,9, -999.00,-999.000,9,   43.49,2,   21.50,2,      13.38,2, 20210401,      401,  26.4718, -52.3336,     2.1497,2,     0.0430,1,     4.7033,1,     -999.0,9,     -999.0,9,     -999.0,9,     -999.0,1
325020210316,        A20,      41,          1,          3,          3,2,20210401,       0340,    26.4720,   -52.3337,       5262,  4783.6,   2.1293,  34.8647,2,  34.8650,2,    252.3,2,   252.2,2,   49.34,2,   21.99,2,    0.00,2,    1.48,2,-999.000,9,-999.000,9, -999.00,9,  2196.9,2, 2341.82,2,    767.0,2,    20.00,   7.72541,6,    25.00, -999.00,9, -999.00,9, -999.00,-999.000,9, -999.00,9, -999.00,9,     -999.0,9, 20210401,      354,  26.4718, -52.3336,     2.1292,2,     0.0429,1,     4.7024,1,     -999.0,9,     -999.0,9,     -999.0,9,     -999.0,1