BOTTLE,20230512CCHSIOCBG
EXPOCODE,SECT_ID,STNNBR,CASTNO,SAMPNO,BTLNBR,BTLNBR_FLAG_W,DATE,TIME,LATITUDE,LONGITUDE,DEPTH,CTDPRS,CTDTMP,CTDSAL,CTDSAL_FLAG_W,SALNTY,SALNTY_FLAG_W,CTDOXY,CTDOXY_FLAG_W,OXYGEN,OXYGEN_FLAG_W,SILCAT,SILCAT_FLAG_W,NITRAT,NITRAT_FLAG_W,NITRIT,NITRIT_FLAG_W,PHSPHT,PHSPHT_FLAG_W,CFC-11,CFC-11_FLAG_W,CFC-12,CFC-12_FLAG_W,SF6,SF6_FLAG_W,TCARBN,TCARBN_FLAG_W,ALKALI,ALKALI_FLAG_W,FCO2,FCO2_FLAG_W,FCO2TMP,PH_TOT,PH_TOT_FLAG_W,PH_TMP,DELC13,DELC13_FLAG_W,DELC14,DELC14_FLAG_W,C14ERR,POC,POC_FLAG_W,DOC,DOC_FLAG_W,TDN,TDN_FLAG_W,N2O,N2O_FLAG_W,BTL_DATE,BTL_TIME,BTL_LAT,BTL_LON,REFTMP,REFTMP_FLAG_W,CTDFLUOR,CTDFLUOR_FLAG_W,CTDXMISS,CTDXMISS_FLAG_W,D15N_NO2+NO3,D15N_NO2+NO3_FLAG_W,D18O_NO2+NO3,D18O_NO2+NO3_FLAG_W,HPLC,HPLC_FLAG_W,MICROGELS,MICROGELS_FLAG_W
,,,,,,,,,,,METERS,DBAR,ITS-90,PSS-78,,PSS-78,,UMOL/KG,,UMOL/KG,,UMOL/KG,,UMOL/KG,,UMOL/KG,,UMOL/KG,,PMOL/KG,,PMOL/KG,,FMOL/KG,,UMOL/KG,,UMOL/KG,,UATM,,DEG C,,,DEG C,/MILLE,,/MILLE,,/MILLE,UG/KG,,UMOL/KG,,UMOL/KG,,NMOL/KG,,,,,,ITS-90,,VOLTS,,VOLTS,,/MILLE,,/MILLE,,,,1E6 GELS/L,
325020210316,        A20,      66,          1,         35,         35,2,20210408,       1206,    11.8883,   -52.3346,       5011,     4.7,  26.3620,  36.2210,2,-999.0000,9,    203.6,2,  -999.0,9,    1.07,2,    0.00,2,    0.00,2,    0.00,2,-999.000,9,-999.000,9, -999.00,9,  -999.0,9, -999.00,9,   -999.0,9,  -999.00,-999.00000,9,  -999.00, -999.00,9, -999.00,9, -999.00,-999.000,9, -999.00,9, -999.00,9,     -999.0,9, 20210408,     1415,  11.8883, -52.3346,    26.3641,2,     0.0412,1,     4.6258,1,     -999.0,9,     -999.0,9,     -999.0,9,     -999.0,9
325020210316,        A20,      66,          1,         36,         36,2,20210408,       1206,    11.8883,   -52.3346,       5011,     4.9,  26.3692,  36.2210,2,  36.2236,2,    203.5,2,   203.1,2,    1.07,2,    0.00,2,    0.00,2,    0.00,2,   1.445,2,   0.971,2,    1.61,2,  2040.1,6, 2369.52,2,    300.7,2,    20.00,   8.09058,2,    24.99, -999.00,9, -999.00,9, -999.00,-999.000,9,   74.35,2,    5.77,2,       5.88,2, 20210408,     1415,  11.8883, -52.3346,     -999.0,9,     0.0405,1,     4.6243,1,     -999.0,9,     -999.0,9,     -999.0,9,     -999.0,9
325020210316,        A20,      66,          1,         34,         34,2,20210408,       1206,    11.8883,   -52.3346,       5011,    25.2,  26.2630,  36.2176,2,  36.2216,2,    203.3,2,   203.2,2,    0.98,2,    0.00,2,    0.00,2,    0.00,2,-999.000,9,-999.000,9, -999.00,9,  2038.6,2, 2369.76,2,    301.7,2,    20.00,   8.09028,6,    24.99, -999.00,9, -999.00,9, -999.00,-999.000,9,   78.21,2,    4.61,2,     -999.0,9, 20210408,     1413,  11.8883, -52.3346,    26.2628,2,     0.0455,1,     4.6188,1,     -999.0,9,     -999.0,9,     -999.0,9,     -999.0,9
325020210316,        A20,      66,          1,         33,         33,2,20210408,       1206,    11.8883,   -52.3346,       5011,    51.1,  26.1611,  36.2132,2,  36.2151,2,    203.5,2,   203.5,2,    0.98,2,    0.00,2,    0.00,2,    0.00,2,   1.473,2,   0.970,2,    1.59,2,  2038.2,2,  2371.2,6,    303.7,2,    20.00,   8.08859,2,    25.00, -999.00,9, -999.00,9, -999.00,-999.000,9,   76.87,2,    4.51,2,       6.04,2, 20210408,     1410,  11.8883, -52.3346,    26.1603,2,     0.0566,1,     4.6121,1,     -999.0,9,     -999.0,9,     -999.0,9,     -999.0,9
325020210316,        A20,      66,          1,         32,         32,2,20210408,       1206,    11.8883,   -52.3346,       5011,    76.0,  26.1334,  36.2134,2,  36.2143,2,    203.2,2,   203.6,2,    0.88,2,    0.00,2,    0.00,2,    0.00,2,   1.452,2,   0.972,2,    1.50,2,  -999.0,5, 2368.01,2,    306.6,2,    20.00,   8.08757,2,    24.99, -999.00,9, -999.00,9, -999.00,-999.000,9,   78.38,2,    4.93,2,       5.90,2, 20210408,     1409,  11.8883, -52.3346,    26.1338,2,     0.0609,1,     4.6173,1,     -999.0,9,     -999.0,9,     -999.0,9,     -999.0,9
325020210316,        A20,      66,          1,         30,         30,2,20210408,       1206,    11.8883,   -52.3346,       5011,   110.3,  24.5514,  36.4921,2,  36.4628,3,    155.3,3,   166.0,2,    1.27,2,    1.77,2,    0.13,2,    0.07,2,   1.636,2,   1.067,2,    1.46,2,  2097.0,2, 2384.31,2,    384.7,2,    20.00,   8.01399,2,    24.99, -999.00,9, -999.00,9, -999.00,-999.000,9,   69.31,2,    5.91,2,      10.01,2, 20210408,     1407,  11.8883, -52.3346,    24.5543,2,     0.0949,1,     4.6327,1,     -999.0,9,     -999.0,9,     -999.0,9,     -999.0,9
325020210316,        A20,      66,          1,         31,         31,2,20210408,       1206,    11.8883,   -52.3346,       5011,   110.5,  24.5457,  36.4980,2,-999.0000,9,    159.5,2,  -999.0,9, -999.00,9, -999.00,9, -999.00,9, -999.00,9,-999.000,9,-999.000,9, -999.00,9,  -999.0,9, -999.00,9,   -999.0,9,  -999.00,-999.00000,9,  -999.00, -999.00,9, -999.00,9, -999.00,-999.000,9, -999.00,9, -999.00,9,     -999.0,9, 20210408,     1407,  11.8883, -52.3346,     -999.0,9,     0.0912,1,     4.6296,1,     -999.0,9,     -999.0,9,     -999.0,9,     -999.0,9
325020210316,        A20,      66,          1,         29,         29,2,20210408,       1206,    11.8883,   -52.3346,       5011,   151.0,  18.3205,  36.2349,2,  36.2436,2,    113.8,3,   117.8,2,    4.29,2,   13.53,2,    0.02,2,    0.74,2,-999.000,9,-999.000,9, -999.00,9,  2190.6,2, 2369.43,2,    646.8,2,    20.00,   7.79904,2,    25.00, -999.00,9, -999.00,9, -999.00,-999.000,9,   59.34,2,   17.19,2,     -999.0,9, 20210408,     1405,  11.8883, -52.3346,    18.3903,3,     0.0551,1,     4.6667,1,     -999.0,9,     -999.0,9,     -999.0,9,     -999.0,9
325020210316,        A20,      66,          1,         28,         28,2,20210408,       1206,    11.8883,   -52.3346,       5011,   201.3,  14.3928,  35.7434,2,  35.7404,2,    122.3,2,   123.4,2,    7.03,2,   18.75,2,    0.00,2,    1.09,2,   1.558,2,   1.242,2,    0.98,2,  2196.1,2, 2344.64,2,    761.2,2,    20.00,   7.73021,2,    24.99, -999.00,9, -999.00,9, -999.00,-999.000,9,   48.70,2,   20.69,2,      22.11,2, 20210408,     1402,  11.8883, -52.3346,    14.3881,2,     0.0410,1,     4.6787,1,     -999.0,9,     -999.0,9,     -999.0,9,     -999.0,9
325020210316,        A20,      66,          1,         27,         27,2,20210408,       1206,    11.8883,   -52.3346,       5011,   251.9,  11.7240,  35.2921,2,  35.2932,2,    119.7,2,   120.6,2,   10.35,2,   23.44,2,    0.00,2,    1.43,2,   1.952,2,   1.168,2,    0.76,2,  2203.7,2, 2323.02,2,    900.5,2,    20.00,   7.65716,2,    24.98, -999.00,9, -999.00,9, -999.00,-999.000,9,   49.78,2,   26.10,2,      25.04,2, 20210408,     1400,  11.8883, -52.3346,    11.7245,2,     0.0424,1,     4.6781,1,     -999.0,9,     -999.0,9,     -999.0,9,     -999.0,9
325020210316,        A20,      66,          1,         26,         26,2,20210408,       1206,    11.8883,   -52.3346,       5011,   302.0,  10.4411,  35.0820,2,  35.0778,2,    124.5,2,   124.6,2,   11.91,2,   25.26,2,    0.00,2,    1.57,2,-999.000,9,-999.000,9, -999.00,9,  2203.5,2, 2311.29,2,    961.9,2,    20.00,   7.62872,2,    24.99, -999.00,9, -999.00,9, -999.00,-999.000,9,   47.08,2,   27.54,2,     -999.0,9, 20210408,     1358,  11.8883, -52.3346,    10.4504,2,     0.0424,1,     4.6764,1,     -999.0,9,     -999.0,9,     -999.0,9,     -999.0,9
325020210316,        A20,      66,          1,         25,         25,2,20210408,       1206,    11.8883,   -52.3346,       5011,   352.0,   9.3521,  34.9282,2,  34.9237,2,    121.6,2,   121.2,2,   14.26,2,   27.85,2,    0.00,2,    1.75,2,   1.783,2,   1.005,2,    0.57,2,  2209.2,6, 2306.79,2,   1040.0,2,    20.00,   7.59237,2,    24.99, -999.00,9, -999.00,9, -999.00,-999.000,9,   44.07,2,   31.27,2,      26.48,2, 20210408,     1356,  11.8883, -52.3346,     9.3436,2,     0.0428,1,     4.6764,1,     -999.0,9,     -999.0,9,     -999.0,9,     -999.0,9
325020210316,        A20,      66,          1,         24,         24,2,20210408,       1206,    11.8883,   -52.3346,       5011,   402.9,   9.0380,  34.8963,2,  34.8930,2,    118.9,2,   118.4,2,   15.23,2,   28.92,2,    0.00,2,    1.81,2,-999.000,9,-999.000,9, -999.00,9,  2215.3,2, 2305.42,2,   1080.3,2,    20.00,   7.57855,2,    24.99, -999.00,9, -999.00,9, -999.00,-999.000,9,   43.48,2,   31.06,2,     -999.0,9, 20210408,     1354,  11.8883, -52.3346,     9.0384,2,     0.0429,1,     4.6789,1,     -999.0,9,     -999.0,9,     -999.0,9,     -999.0,9
325020210316,        A20,      66,          1,         23,         23,2,20210408,       1206,    11.8883,   -52.3346,       5011,   504.1,   7.4781,  34.7081,2,  34.7081,2,    120.9,2,   120.0,2,   19.44,2,   32.07,2,    0.00,2,    2.04,2,   1.204,2,   0.673,2,    0.27,2,  2219.5,2, 2300.51,2,   1176.0,2,    20.00,   7.54098,6,    24.98, -999.00,9, -999.00,9, -999.00,-999.000,9,   45.03,2,   34.56,2,      26.55,2, 20210408,     1351,  11.8883, -52.3346,     7.4767,2,     0.0430,1,     4.6789,1,     -999.0,9,     -999.0,9,     -999.0,9,     -999.0,9
325020210316,        A20,      66,          1,         22,         22,2,20210408,       1206,    11.8883,   -52.3346,       5011,   604.5,   6.7761,  34.6575,2,  34.6576,2,    121.4,2,   120.9,2,   22.17,2,   33.43,2,    0.00,2,    2.15,2,-999.000,9,-999.000,9, -999.00,9,  2223.7,2, 2299.19,6,   1212.7,2,    20.00,   7.52705,2,    24.99, -999.00,9, -999.00,9, -999.00,-999.000,9, -999.00,9, -999.00,9,     -999.0,9, 20210408,     1348,  11.8883, -52.3346,     6.7773,2,     0.0430,1,     4.6796,1,     -999.0,9,     -999.0,9,     -999.0,9,     -999.0,9
325020210316,        A20,      66,          1,         21,         21,2,20210408,       1206,    11.8883,   -52.3346,       5011,   704.6,   6.1092,  34.6152,2,  34.6164,2,    125.7,2,   125.7,2,   24.71,2,   34.27,2,    0.00,2,    2.23,2,   0.616,6,   0.330,6,    0.15,6,  2226.4,2, 2298.48,2,   1223.2,2,    20.00,   7.52276,2,    24.98, -999.00,9, -999.00,9, -999.00,-999.000,9,   42.13,2,   37.39,2,      25.55,6, 20210408,     1345,  11.8883, -52.3346,     6.1186,2,     0.0429,1,     4.6812,1,     -999.0,9,     -999.0,9,     -999.0,9,     -999.0,9
325020210316,        A20,      66,          1,         20,         20,2,20210408,       1206,    11.8883,   -52.3346,       5011,   805.9,   5.6048,  34.6014,2,  34.6018,2,    131.0,2,   131.2,2,   26.96,2,   34.43,2,    0.00,2,    2.25,2,   0.410,2,   0.218,2,    0.10,2,  2227.2,2, 2297.55,2,   1216.7,2,    20.00,   7.52523,2,    25.00, -999.00,9, -999.00,9, -999.00,-999.000,9, -999.00,9, -999.00,9,      24.81,2, 20210408,     1342,  11.8883, -52.3346,     5.6052,2,     0.0430,1,     4.6814,1,     -999.0,9,     -999.0,9,     -999.0,9,     -999.0,9
325020210316,        A20,      66,          1,         19,         19,2,20210408,       1206,    11.8883,   -52.3346,       5011,   907.4,   5.2527,  34.6146,2,  34.6158,2,    137.6,2,   137.6,2,   28.33,2,   33.94,2,    0.00,2,    2.23,2,-999.000,9,-999.000,9, -999.00,9,  2227.3,2, 2302.11,2,   1188.9,6,    20.00,   7.53486,2,    25.03, -999.00,9, -999.00,9, -999.00,-999.000,9,   41.15,2,   36.38,2,     -999.0,9, 20210408,     1339,  11.8883, -52.3346,     5.2523,2,     0.0430,1,     4.6820,1,     -999.0,9,     -999.0,9,     -999.0,9,     -999.0,9
325020210316,        A20,      66,          1,         18,         18,2,20210408,       1206,    11.8883,   -52.3346,       5011,  1008.7,   5.0582,  34.6513,2,  34.6515,2,    144.0,2,   144.2,2,   28.62,2,   33.08,2,    0.00,2,    2.19,2,   0.190,2,   0.103,2,    0.10,2,  2223.9,2, 2305.06,2,   1150.8,2,    20.00,   7.54814,2,    24.99, -999.00,9, -999.00,9, -999.00,-999.000,9, -999.00,9, -999.00,9,      23.77,2, 20210408,     1336,  11.8883, -52.3346,     5.0590,2,     0.0435,1,     4.6836,1,     -999.0,9,     -999.0,9,     -999.0,9,     -999.0,9
325020210316,        A20,      66,          1,         17,         17,2,20210408,       1206,    11.8883,   -52.3346,       5011,  1108.4,   5.0852,  34.7338,2,  34.7335,2,    151.2,2,   151.5,2,   27.25,2,   31.41,2,    0.00,2,    2.07,2,   0.161,2,   0.094,2,    0.03,2,  2217.7,2, 2307.31,2,   1089.8,2,    20.00,   7.57192,2,    24.99, -999.00,9, -999.00,9, -999.00,-999.000,9,   42.92,2,   33.70,2,      22.59,2, 20210408,     1333,  11.8883, -52.3346,     5.0840,2,     0.0423,1,     4.6837,1,     -999.0,9,     -999.0,9,     -999.0,9,     -999.0,9
325020210316,        A20,      66,          1,         16,         16,2,20210408,       1206,    11.8883,   -52.3346,       5011,  1210.2,   5.2712,  34.8713,2,  34.8711,2,    171.0,2,   171.2,2,   23.15,2,   27.69,2,    0.00,2,    1.82,2,   0.379,2,   0.203,2,    0.17,2,  2206.6,2, 2312.73,2,    973.1,2,    20.00,    7.6216,2,    24.99, -999.00,9, -999.00,9, -999.00,-999.000,9, -999.00,9, -999.00,9,      19.94,2, 20210408,     1330,  11.8883, -52.3346,     5.2695,2,     0.0423,1,     4.6825,1,     -999.0,9,     -999.0,9,     -999.0,9,     -999.0,9
325020210316,        A20,      66,          1,         15,         15,2,20210408,       1206,    11.8883,   -52.3346,       5011,  1311.2,   5.1055,  34.9508,2,  34.9516,2,    193.9,2,   194.2,2,   19.92,2,   24.36,2,    0.00,2,    1.61,2,   0.607,2,   0.329,2,    0.20,2,  2193.0,2, 2317.43,2,    883.1,2,    20.00,   7.66086,2,    25.00, -999.00,9, -999.00,9, -999.00,-999.000,9,   43.89,2,   27.55,2,      17.89,2, 20210408,     1327,  11.8883, -52.3346,     5.1063,2,     0.0431,1,     4.6863,1,     -999.0,9,     -999.0,9,     -999.0,9,     -999.0,9
325020210316,        A20,      66,          1,         14,         14,2,20210408,       1206,    11.8883,   -52.3346,       5011,  1413.3,   4.9132,  35.0028,2,  35.0055,2,    223.4,2,   222.8,2,   16.01,2,   20.88,2,    0.00,2,    1.37,2,   1.324,2,   0.696,2,    0.36,2,  2181.4,2, 2314.39,2,    811.4,2,    20.00,   7.69642,2,    24.98, -999.00,9, -999.00,9, -999.00,-999.000,9, -999.00,9, -999.00,9,      15.45,2, 20210408,     1324,  11.8883, -52.3346,     4.9114,2,     0.0419,1,     4.6861,1,     -999.0,9,     -999.0,9,     -999.0,9,     -999.0,9
325020210316,        A20,      66,          1,         13,         13,2,20210408,       1206,    11.8883,   -52.3346,       5011,  1615.2,   4.4248,  35.0056,2,  35.0065,2,    246.0,2,   246.2,2,   14.06,2,   18.89,2,    0.00,2,    1.22,2,-999.000,9,-999.000,9, -999.00,9,  2171.4,2, 2313.96,2,    770.7,2,    20.00,   7.71693,2,    25.00, -999.00,9, -999.00,9, -999.00,-999.000,9,   42.96,2,   19.90,2,     -999.0,9, 20210408,     1319,  11.8883, -52.3346,     4.4239,2,     0.0422,1,     4.6907,1,     -999.0,9,     -999.0,9,     -999.0,9,     -999.0,9
325020210316,        A20,      66,          1,         12,         12,2,20210408,       1206,    11.8883,   -52.3346,       5011,  1817.3,   3.9266,  34.9851,2,  34.9866,2,    256.7,2,   256.2,2,   14.75,2,   18.35,2,    0.00,2,    1.18,2,   1.476,2,   0.763,2,    0.32,2,  2168.3,2, 2311.06,2,    751.9,2,    20.00,   7.72749,2,    24.99, -999.00,9, -999.00,9, -999.00,-999.000,9, -999.00,9, -999.00,9,      13.61,2, 20210408,     1314,  11.8883, -52.3346,     3.9265,2,     0.0418,1,     4.6923,1,     -999.0,9,     -999.0,9,     -999.0,9,     -999.0,9
325020210316,        A20,      66,          1,         11,         11,2,20210408,       1206,    11.8883,   -52.3346,       5011,  2021.1,   3.5873,  34.9709,2,  34.9717,2,    259.2,2,   259.1,2,   16.60,2,   18.37,2,    0.00,2,    1.19,2,   1.126,2,   0.573,2,    0.25,2,  2169.0,2, 2313.56,2,   -999.0,9,  -999.00,   7.73334,2,    24.99, -999.00,9, -999.00,9, -999.00,-999.000,9,   44.96,2,   20.37,2,      13.39,2, 20210408,     1309,  11.8883, -52.3346,     3.5872,2,     0.0425,1,     4.6935,1,     -999.0,9,     -999.0,9,     -999.0,9,     -999.0,9
325020210316,        A20,      66,          1,         10,         10,2,20210408,       1206,    11.8883,   -52.3346,       5011,  2275.4,   3.2659,  34.9564,2,  34.9577,2,    259.7,2,   259.9,2,   19.53,2,   18.43,2,    0.00,2,    1.20,2,-999.000,9,-999.000,9, -999.00,9,  2171.3,2,  2316.9,2,    734.9,2,    20.00,   7.73619,2,    24.98, -999.00,9, -999.00,9, -999.00,-999.000,9, -999.00,9, -999.00,9,     -999.0,9, 20210408,     1304,  11.8883, -52.3346,     3.2668,2,     0.0429,1,     4.6905,1,     -999.0,9,     -999.0,9,     -999.0,9,     -999.0,9
325020210316,        A20,      66,          1,          9,          9,2,20210408,       1206,    11.8883,   -52.3346,       5011,  2529.4,   3.0738,  34.9473,2,  34.9482,2,    257.7,2,   257.9,2,   22.95,2,   18.92,2,    0.00,2,    1.24,2,   0.527,2,   0.272,2,    0.17,2,  2174.2,6, 2320.58,2,   -999.0,9,  -999.00,   7.73791,2,    24.99, -999.00,9, -999.00,9, -999.00,-999.000,9,   44.04,2,   22.01,2,      13.62,2, 20210408,     1258,  11.8883, -52.3346,     3.0737,2,     0.0427,1,     4.6935,1,     -999.0,9,     -999.0,9,     -999.0,9,     -999.0,9
325020210316,        A20,      66,          1,          8,          8,2,20210408,       1206,    11.8883,   -52.3346,       5011,  2784.2,   2.9097,  34.9374,2,  34.9386,2,    258.2,2,   258.4,2,   25.29,2,   19.03,2,    0.00,2,    1.25,2,   0.520,2,   0.267,2,    0.16,2,  2174.5,2, 2321.87,2,   -999.0,9,  -999.00,    7.7369,2,    24.99, -999.00,9, -999.00,9, -999.00,-999.000,9, -999.00,9, -999.00,9,      13.30,2, 20210408,     1253,  11.8883, -52.3346,     2.9100,2,     0.0428,1,     4.6934,1,     -999.0,9,     -999.0,9,     -999.0,9,     -999.0,9
325020210316,        A20,      66,          1,          7,          7,2,20210408,       1206,    11.8883,   -52.3346,       5011,  3039.9,   2.7538,  34.9270,2,  34.9280,2,    255.4,2,   255.6,2,   29.88,2,   19.68,2,    0.00,2,    1.30,2,-999.000,9,-999.000,9, -999.00,9,  2182.6,2, 2328.15,2,    739.7,2,    20.00,   7.73555,6,    24.99, -999.00,9, -999.00,9, -999.00,-999.000,9,   45.34,2,   22.35,2,     -999.0,9, 20210408,     1247,  11.8883, -52.3346,     2.7524,2,     0.0422,1,     4.6937,1,     -999.0,9,     -999.0,9,     -999.0,9,     -999.0,9
325020210316,        A20,      66,          1,          6,          6,2,20210408,       1206,    11.8883,   -52.3346,       5011,  3345.3,   2.5982,  34.9147,2,  34.9150,2,    253.0,2,   253.3,2,   34.67,2,   20.39,2,    0.00,2,    1.34,2,   0.220,2,   0.115,2,    0.11,2,  2185.4,2, 2330.18,6,   -999.0,9,  -999.00,   7.73356,2,    24.97, -999.00,9, -999.00,9, -999.00,-999.000,9,   45.58,2,   22.19,2,      14.08,2, 20210408,     1240,  11.8883, -52.3346,     2.5986,2,     0.0422,1,     4.6936,1,     -999.0,9,     -999.0,9,     -999.0,9,     -999.0,9
325020210316,        A20,      66,          1,          5,          5,2,20210408,       1206,    11.8883,   -52.3346,       5011,  3652.3,   2.4721,  34.9039,2,  34.9042,2,    256.2,2,   256.0,2,   34.86,2,   20.13,2,    0.00,2,    1.33,2,   0.349,2,   0.179,2,    0.18,2,  2187.9,2, 2329.65,2,   -999.0,9,  -999.00,   7.73326,2,    24.98, -999.00,9, -999.00,9, -999.00,-999.000,9, -999.00,9, -999.00,9,      13.79,2, 20210408,     1235,  11.8883, -52.3346,     2.4721,2,     0.0434,1,     4.6933,1,     -999.0,9,     -999.0,9,     -999.0,9,     -999.0,9
325020210316,        A20,      66,          1,          4,          4,2,20210408,       1206,    11.8883,   -52.3346,       5011,  3960.1,   2.3508,  34.8949,2,  34.8969,2,    261.1,2,   260.6,2,   33.79,2,   19.59,2,    0.00,2,    1.30,2,-999.000,9,-999.000,9, -999.00,9,  2183.6,2, 2326.82,2,    746.0,2,    20.00,   7.73211,2,    25.03, -999.00,9, -999.00,9, -999.00,-999.000,9,   46.70,2,   21.96,2,     -999.0,9, 20210408,     1228,  11.8883, -52.3346,     2.3506,2,     0.0433,1,     4.6935,1,     -999.0,9,     -999.0,9,     -999.0,9,     -999.0,9
325020210316,        A20,      66,          1,          3,          3,2,20210408,       1206,    11.8883,   -52.3346,       5011,  4369.1,   2.2396,  34.8824,2,  34.8841,2,    260.3,2,   260.3,2,   37.79,2,   19.97,2,    0.00,2,    1.33,2,   0.516,2,   0.276,2,    0.19,2,  2187.5,2, 2331.53,2,   -999.0,9,  -999.00,   7.72878,2,    24.99, -999.00,9, -999.00,9, -999.00,-999.000,9,   46.56,2,   21.56,2,      14.39,2, 20210408,     1220,  11.8883, -52.3346,     2.2397,2,     0.0431,1,     4.6923,1,     -999.0,9,     -999.0,9,     -999.0,9,     -999.0,9