BOTTLE,20230512CCHSIOCBG
EXPOCODE,SECT_ID,STNNBR,CASTNO,SAMPNO,BTLNBR,BTLNBR_FLAG_W,DATE,TIME,LATITUDE,LONGITUDE,DEPTH,CTDPRS,CTDTMP,CTDSAL,CTDSAL_FLAG_W,SALNTY,SALNTY_FLAG_W,CTDOXY,CTDOXY_FLAG_W,OXYGEN,OXYGEN_FLAG_W,SILCAT,SILCAT_FLAG_W,NITRAT,NITRAT_FLAG_W,NITRIT,NITRIT_FLAG_W,PHSPHT,PHSPHT_FLAG_W,CFC-11,CFC-11_FLAG_W,CFC-12,CFC-12_FLAG_W,SF6,SF6_FLAG_W,TCARBN,TCARBN_FLAG_W,ALKALI,ALKALI_FLAG_W,FCO2,FCO2_FLAG_W,FCO2TMP,PH_TOT,PH_TOT_FLAG_W,PH_TMP,DELC13,DELC13_FLAG_W,DELC14,DELC14_FLAG_W,C14ERR,POC,POC_FLAG_W,DOC,DOC_FLAG_W,TDN,TDN_FLAG_W,N2O,N2O_FLAG_W,BTL_DATE,BTL_TIME,BTL_LAT,BTL_LON,REFTMP,REFTMP_FLAG_W,CTDFLUOR,CTDFLUOR_FLAG_W,CTDXMISS,CTDXMISS_FLAG_W,D15N_NO2+NO3,D15N_NO2+NO3_FLAG_W,D18O_NO2+NO3,D18O_NO2+NO3_FLAG_W,HPLC,HPLC_FLAG_W,MICROGELS,MICROGELS_FLAG_W
,,,,,,,,,,,METERS,DBAR,ITS-90,PSS-78,,PSS-78,,UMOL/KG,,UMOL/KG,,UMOL/KG,,UMOL/KG,,UMOL/KG,,UMOL/KG,,PMOL/KG,,PMOL/KG,,FMOL/KG,,UMOL/KG,,UMOL/KG,,UATM,,DEG C,,,DEG C,/MILLE,,/MILLE,,/MILLE,UG/KG,,UMOL/KG,,UMOL/KG,,NMOL/KG,,,,,,ITS-90,,VOLTS,,VOLTS,,/MILLE,,/MILLE,,,,1E6 GELS/L,
325020210316,        A20,      10,          1,         36,         36,2,20210322,       1758,    42.2454,   -51.4309,       3112,     4.7,   5.7550,  33.0038,2,  32.9929,2,    323.8,3,   320.2,2,    4.69,2,    3.40,2,    0.14,2,    0.49,2,   4.143,2,   2.474,2,    3.83,3,  2080.2,6, 2225.59,2,    668.0,2,    20.00,   7.76182,6,    24.99, -999.00,9, -999.00,9, -999.00,-999.000,9, -999.00,9, -999.00,9,      13.17,2, 20210322,     2002,  42.2454, -51.4309,     5.7584,2,     0.1054,1,     4.4789,1,     -999.0,9,     -999.0,9,     -999.0,9,     -999.0,9
325020210316,        A20,      10,          1,         35,         35,2,20210322,       1758,    42.2454,   -51.4309,       3112,    21.0,   5.3713,  33.0637,2,  33.0328,3,    318.3,2,   318.2,2,    4.79,2,    3.67,2,    0.16,2,    0.51,2,-999.000,9,-999.000,9, -999.00,9,  2081.5,2, 2226.06,2,    671.6,2,    20.00,   7.76012,2,    24.99, -999.00,9, -999.00,9, -999.00,-999.000,9, -999.00,9, -999.00,9,     -999.0,9, 20210322,     1959,  42.2454, -51.4309,     5.3728,2,     0.1541,1,     4.4911,1,     -999.0,9,     -999.0,9,     -999.0,9,     -999.0,9
325020210316,        A20,      10,          1,         34,         34,2,20210322,       1758,    42.2454,   -51.4309,       3112,    41.3,   6.4216,  33.4507,2,  33.3988,3,    300.1,2,   301.7,2,    4.69,2,    4.40,2,    0.22,2,    0.53,2,   3.902,6,   2.357,6,    4.15,3,  2092.5,2, 2243.56,2,   -999.0,9,  -999.00,   7.76933,2,    24.99, -999.00,9, -999.00,9, -999.00,-999.000,9, -999.00,9, -999.00,9,      12.77,6, 20210322,     1957,  42.2454, -51.4309,     6.4195,2,     0.1084,1,     4.5739,1,     -999.0,9,     -999.0,9,     -999.0,9,     -999.0,9
325020210316,        A20,      10,          1,         33,         33,2,20210322,       1758,    42.2454,   -51.4309,       3112,    65.8,   8.4669,  34.0544,2,  34.0100,3,    279.4,3,   283.2,2,    4.01,2,    4.85,2,    0.20,2,    0.48,2,-999.000,9,-999.000,9, -999.00,9,  2100.2,2, 2269.49,2,    602.9,2,    20.00,   7.80988,2,    25.00, -999.00,9, -999.00,9, -999.00,-999.000,9, -999.00,9, -999.00,9,     -999.0,9, 20210322,     1954,  42.2454, -51.4309,     8.4654,3,     0.0883,1,     4.6266,1,     -999.0,9,     -999.0,9,     -999.0,9,     -999.0,9
325020210316,        A20,      10,          1,         32,         32,2,20210322,       1758,    42.2454,   -51.4309,       3112,    90.1,   9.9542,  34.4792,2,  34.4809,2,    270.2,2,   270.4,2,    3.71,2,    5.28,2,    0.17,2,    0.46,2,   3.122,2,   1.930,2,    2.09,3,  2107.4,2, 2292.58,2,    567.6,2,    20.00,   7.83441,2,    25.00, -999.00,9, -999.00,9, -999.00,-999.000,9, -999.00,9, -999.00,9,      11.55,2, 20210322,     1953,  42.2454, -51.4309,     9.9747,2,     0.0964,1,     4.6252,1,     -999.0,9,     -999.0,9,     -999.0,9,     -999.0,9
325020210316,        A20,      10,          1,         31,         31,2,20210322,       1758,    42.2454,   -51.4309,       3112,   116.3,  11.2078,  34.8855,2,  34.8884,2,    249.3,2,   251.2,2,    3.61,2,    6.54,2,    0.08,2,    0.48,2,-999.000,9,-999.000,9, -999.00,9,  2117.6,2, 2310.76,2,   -999.0,9,  -999.00,   7.84539,2,    25.00, -999.00,9, -999.00,9, -999.00,-999.000,9, -999.00,9, -999.00,9,     -999.0,9, 20210322,     1950,  42.2454, -51.4309,    11.2058,2,     0.0562,1,     4.6785,1,     -999.0,9,     -999.0,9,     -999.0,9,     -999.0,9
325020210316,        A20,      10,          1,         30,         30,2,20210322,       1758,    42.2454,   -51.4309,       3112,   141.3,  12.0343,  35.1325,2,  35.1293,2,    231.2,3,   241.8,2,    3.61,2,    7.20,2,    0.05,2,    0.48,2,   2.732,2,   1.706,2,    3.47,3,  2124.4,2, 2321.11,2,   -999.0,9,  -999.00,    7.8518,2,    25.00, -999.00,9, -999.00,9, -999.00,-999.000,9, -999.00,9, -999.00,9,      11.42,2, 20210322,     1948,  42.2454, -51.4309,    12.0573,2,     0.0494,1,     4.6882,1,     -999.0,9,     -999.0,9,     -999.0,9,     -999.0,9
325020210316,        A20,      10,          1,         29,         29,2,20210322,       1758,    42.2454,   -51.4309,       3112,   166.2,  12.2333,  35.2588,2,  35.2365,3,    205.1,3,   214.4,2,    4.88,2,   10.07,2,    0.00,2,    0.63,2,-999.000,9,-999.000,9, -999.00,9,  2141.1,2, 2324.85,2,    607.1,2,    20.00,   7.82223,2,    25.01, -999.00,9, -999.00,9, -999.00,-999.000,9, -999.00,9, -999.00,9,     -999.0,9, 20210322,     1945,  42.2454, -51.4309,    12.2276,2,     0.0427,1,     4.6965,1,     -999.0,9,     -999.0,9,     -999.0,9,     -999.0,9
325020210316,        A20,      10,          1,         28,         28,2,20210322,       1758,    42.2454,   -51.4309,       3112,   192.8,  11.2508,  35.1558,2,  35.1559,2,    168.8,3,   185.5,2,    7.32,2,   14.18,2,    0.00,2,    0.89,2,   2.564,2,   1.579,2,    1.68,3,  2163.0,2, 2320.15,2,   -999.0,9,  -999.00,   7.75857,2,    25.01, -999.00,9, -999.00,9, -999.00,-999.000,9, -999.00,9, -999.00,9,      16.20,2, 20210322,     1942,  42.2454, -51.4309,    11.2487,2,     0.0413,1,     4.6908,1,     -999.0,9,     -999.0,9,     -999.0,9,     -999.0,9
325020210316,        A20,      10,          1,         27,         27,2,20210322,       1758,    42.2454,   -51.4309,       3112,   216.6,  12.9802,  35.6376,2,  35.6362,2,    152.4,2,   151.6,2,    7.51,2,   17.48,2,    0.00,2,    1.01,2,   2.070,2,   1.213,2,    1.20,3,  2178.4,2, 2339.97,2,   -999.0,9,  -999.00,   7.76426,2,    25.01, -999.00,9, -999.00,9, -999.00,-999.000,9, -999.00,9, -999.00,9,      18.07,2, 20210322,     1940,  42.2454, -51.4309,    12.9858,2,     0.0412,1,     4.7005,1,     -999.0,9,     -999.0,9,     -999.0,9,     -999.0,9
325020210316,        A20,      10,          1,         26,         26,2,20210322,       1758,    42.2454,   -51.4309,       3112,   241.8,  12.0004,  35.5204,2,  35.5156,2,    142.5,3,   144.4,2,    9.27,2,   20.03,2,    0.00,2,    1.18,2,   1.825,2,   1.096,2,    1.13,3,  2187.4,2,  2333.4,2,    760.8,2,    20.00,   7.73053,2,    25.01, -999.00,9, -999.00,9, -999.00,-999.000,9, -999.00,9, -999.00,9,      19.47,2, 20210322,     1937,  42.2454, -51.4309,    11.9983,2,     0.0411,1,     4.7032,1,     -999.0,9,     -999.0,9,     -999.0,9,     -999.0,9
325020210316,        A20,      10,          1,         25,         25,2,20210322,       1758,    42.2454,   -51.4309,       3112,   288.1,  10.8115,  35.3827,2,  35.3768,2,    139.6,2,   138.8,2,   11.81,2,   22.95,2,    0.00,2,    1.37,2,   1.581,2,   0.950,2,    1.09,3,  2194.3,2,  2328.1,6,    828.2,6,    20.00,   7.69512,6,    25.01, -999.00,9, -999.00,9, -999.00,-999.000,9, -999.00,9, -999.00,9,      20.97,2, 20210322,     1934,  42.2454, -51.4309,    10.8144,2,     0.0409,1,     4.7054,1,     -999.0,9,     -999.0,9,     -999.0,9,     -999.0,9
325020210316,        A20,      10,          1,         24,         24,2,20210322,       1758,    42.2454,   -51.4309,       3112,   338.5,   9.6537,  35.2562,2,  35.2528,2,    141.3,2,   140.9,2,   13.57,2,   24.55,2,    0.00,2,    1.47,2,   1.452,2,   0.833,2,    0.77,3,  2198.5,6, 2322.62,2,    876.3,2,    20.00,   7.67133,2,    25.02, -999.00,9, -999.00,9, -999.00,-999.000,9, -999.00,9, -999.00,9,      21.60,2, 20210322,     1931,  42.2454, -51.4309,     9.6513,2,     0.0415,1,     4.7064,1,     -999.0,9,     -999.0,9,     -999.0,9,     -999.0,9
325020210316,        A20,      10,          1,         23,         23,2,20210322,       1758,    42.2454,   -51.4309,       3112,   388.7,   8.7261,  35.1921,2,  35.1894,2,    152.5,2,   152.4,2,   14.15,2,   24.59,2,    0.00,2,    1.49,2,   1.477,2,   0.813,2,    0.50,3,  2197.2,2, 2321.87,2,    882.6,2,    20.00,   7.66863,2,    25.01, -999.00,9, -999.00,9, -999.00,-999.000,9, -999.00,9, -999.00,9,      20.97,2, 20210322,     1927,  42.2454, -51.4309,     8.7100,2,     0.0412,1,     4.7093,1,     -999.0,9,     -999.0,9,     -999.0,9,     -999.0,9
325020210316,        A20,      10,          1,         22,         22,2,20210322,       1758,    42.2454,   -51.4309,       3112,   440.2,   8.0122,  35.1577,2,  35.1506,2,    165.2,2,   165.1,2,   14.06,2,   23.91,2,    0.00,2,    1.45,2,   1.551,2,   0.864,2,    1.04,3,  2196.1,2,  2320.4,2,   -999.0,9,  -999.00,   7.67105,2,    25.01, -999.00,9, -999.00,9, -999.00,-999.000,9, -999.00,9, -999.00,9,      19.86,2, 20210322,     1923,  42.2454, -51.4309,     8.0208,2,     0.0416,1,     4.7100,1,     -999.0,9,     -999.0,9,     -999.0,9,     -999.0,9
325020210316,        A20,      10,          1,         21,         21,2,20210322,       1758,    42.2454,   -51.4309,       3112,   490.0,   7.2829,  35.1310,2,  35.1252,2,    180.2,3,   182.1,2,   13.47,2,   22.79,2,    0.00,2,    1.40,2,-999.000,9,-999.000,9, -999.00,9,  2191.9,2, 2317.31,2,   -999.0,9,  -999.00,   7.67815,2,    25.00, -999.00,9, -999.00,9, -999.00,-999.000,9, -999.00,9, -999.00,9,     -999.0,9, 20210322,     1920,  42.2454, -51.4309,     7.2850,2,     0.0427,1,     4.7119,1,     -999.0,9,     -999.0,9,     -999.0,9,     -999.0,9
325020210316,        A20,      10,          1,         20,         20,2,20210322,       1758,    42.2454,   -51.4309,       3112,   571.2,   6.3890,  35.0880,2,  35.0837,2,    202.4,2,   202.7,2,   12.98,2,   21.42,2,    0.00,2,    1.33,2,   2.071,2,   1.136,2,    1.13,3,  2188.3,2, 2314.93,2,    842.7,2,    20.00,   7.68335,2,    25.00, -999.00,9, -999.00,9, -999.00,-999.000,9, -999.00,9, -999.00,9,      17.23,2, 20210322,     1916,  42.2454, -51.4309,     6.3901,2,     0.0417,1,     4.7120,1,     -999.0,9,     -999.0,9,     -999.0,9,     -999.0,9
325020210316,        A20,      10,          1,         19,         19,2,20210322,       1758,    42.2454,   -51.4309,       3112,   671.4,   5.7280,  35.0726,2,  35.0681,2,    222.1,2,   221.9,2,   12.30,2,   20.18,2,    0.00,2,    1.26,2,-999.000,9,-999.000,9, -999.00,9,  2184.7,2, 2315.93,2,   -999.0,9,  -999.00,   7.69488,2,    24.99, -999.00,9, -999.00,9, -999.00,-999.000,9, -999.00,9, -999.00,9,     -999.0,9, 20210322,     1913,  42.2454, -51.4309,     5.7286,2,     0.0412,1,     4.7118,1,     -999.0,9,     -999.0,9,     -999.0,9,     -999.0,9
325020210316,        A20,      10,          1,         18,         18,2,20210322,       1758,    42.2454,   -51.4309,       3112,   772.6,   5.1313,  35.0259,2,  35.0195,2,    240.0,2,   237.9,2,   11.91,2,   19.35,2,    0.00,2,    1.21,2,   2.586,2,   1.464,2,    1.28,3,  2179.9,2, 2309.75,2,   -999.0,9,  -999.00,   7.69714,2,    24.99, -999.00,9, -999.00,9, -999.00,-999.000,9, -999.00,9, -999.00,9,      15.25,2, 20210322,     1909,  42.2454, -51.4309,     5.1284,2,     0.0423,1,     4.7104,1,     -999.0,9,     -999.0,9,     -999.0,9,     -999.0,9
325020210316,        A20,      10,          1,         17,         17,2,20210322,       1758,    42.2454,   -51.4309,       3112,   875.6,   4.7822,  35.0039,2,  35.0030,2,    247.3,2,   247.4,2,   11.62,2,   18.89,2,    0.00,2,    1.17,2,-999.000,9,-999.000,9, -999.00,9,  2177.9,2, 2309.08,2,    807.8,2,    20.00,    7.6997,2,    24.99, -999.00,9, -999.00,9, -999.00,-999.000,9, -999.00,9, -999.00,9,     -999.0,9, 20210322,     1906,  42.2454, -51.4309,     4.7854,2,     0.0418,1,     4.7091,1,     -999.0,9,     -999.0,9,     -999.0,9,     -999.0,9
325020210316,        A20,      10,          1,         16,         16,2,20210322,       1758,    42.2454,   -51.4309,       3112,   975.3,   4.5295,  34.9871,2,  34.9870,2,    254.3,2,   254.8,2,   11.32,2,   18.57,2,    0.00,2,    1.14,2,   2.860,2,   1.699,2,    1.53,3,  2175.4,2, 2307.57,2,   -999.0,9,  -999.00,   7.70184,6,    25.00, -999.00,9, -999.00,9, -999.00,-999.000,9, -999.00,9, -999.00,9,      14.67,2, 20210322,     1901,  42.2454, -51.4309,     4.5306,2,     0.0417,1,     4.7096,1,     -999.0,9,     -999.0,9,     -999.0,9,     -999.0,9
325020210316,        A20,      10,          1,         15,         15,2,20210322,       1758,    42.2454,   -51.4309,       3112,  1076.5,   4.4027,  34.9804,2,  34.9756,2,    258.3,2,   257.4,2,   11.03,2,   18.47,2,    0.00,2,    1.13,2,-999.000,9,-999.000,9, -999.00,9,  2174.7,2, 2308.38,2,   -999.0,9,  -999.00,   7.70413,2,    25.01, -999.00,9, -999.00,9, -999.00,-999.000,9, -999.00,9, -999.00,9,     -999.0,9, 20210322,     1858,  42.2454, -51.4309,     4.4026,2,     0.0416,1,     4.7094,1,     -999.0,9,     -999.0,9,     -999.0,9,     -999.0,9
325020210316,        A20,      10,          1,         14,         14,2,20210322,       1758,    42.2454,   -51.4309,       3112,  1178.2,   4.2318,  34.9667,2,  34.9650,2,    260.3,2,   262.7,2,   11.03,2,   18.20,2,    0.00,2,    1.11,2,   3.054,2,   1.771,2,    2.30,3,  2172.3,2, 2306.76,2,    797.3,2,    20.00,   7.70408,2,    25.01, -999.00,9, -999.00,9, -999.00,-999.000,9, -999.00,9, -999.00,9,      14.28,2, 20210322,     1855,  42.2454, -51.4309,     4.2321,2,     0.0422,1,     4.7101,1,     -999.0,9,     -999.0,9,     -999.0,9,     -999.0,9
325020210316,        A20,      10,          1,         13,         13,2,20210322,       1758,    42.2454,   -51.4309,       3112,  1279.0,   4.1708,  34.9699,2,  34.9663,2,    262.3,2,   264.0,2,   11.52,2,   18.22,2,    0.00,2,    1.12,2,-999.000,9,-999.000,9, -999.00,9,  2170.7,2, 2307.68,2,   -999.0,9,  -999.00,   7.70775,2,    25.00, -999.00,9, -999.00,9, -999.00,-999.000,9, -999.00,9, -999.00,9,     -999.0,9, 20210322,     1851,  42.2454, -51.4309,     4.1713,2,     0.0421,1,     4.7117,1,     -999.0,9,     -999.0,9,     -999.0,9,     -999.0,9
325020210316,        A20,      10,          1,         12,         12,2,20210322,       1758,    42.2454,   -51.4309,       3112,  1381.0,   4.0738,  34.9635,2,  34.9589,2,    265.2,2,   265.2,2,   11.62,2,   18.03,2,    0.00,2,    1.11,2,   3.015,2,   1.665,2,    1.53,3,  2172.2,2, 2306.64,6,   -999.0,9,  -999.00,    7.7102,2,    25.00, -999.00,9, -999.00,9, -999.00,-999.000,9, -999.00,9, -999.00,9,      14.12,2, 20210322,     1848,  42.2454, -51.4309,     4.0737,2,     0.0420,1,     4.7106,1,     -999.0,9,     -999.0,9,     -999.0,9,     -999.0,9
325020210316,        A20,      10,          1,         11,         11,2,20210322,       1758,    42.2454,   -51.4309,       3112,  1481.1,   3.9587,  34.9554,2,  34.9520,2,    266.4,2,   267.0,2,   11.72,2,   17.93,2,    0.00,2,    1.12,2,-999.000,9,-999.000,9, -999.00,9,  2170.7,6, 2308.02,2,    783.7,2,    20.00,   7.71075,2,    25.00, -999.00,9, -999.00,9, -999.00,-999.000,9, -999.00,9, -999.00,9,     -999.0,9, 20210322,     1845,  42.2454, -51.4309,     3.9585,2,     0.0411,1,     4.7103,1,     -999.0,9,     -999.0,9,     -999.0,9,     -999.0,9
325020210316,        A20,      10,          1,         10,         10,2,20210322,       1758,    42.2454,   -51.4309,       3112,  1586.0,   3.9008,  34.9517,2,  34.9494,2,    267.8,2,   267.9,2,   11.72,2,   17.91,2,    0.00,2,    1.12,2,   2.849,2,   1.591,2,    1.37,3,  2167.5,2, 2305.37,2,   -999.0,9,  -999.00,   7.71197,6,    25.00, -999.00,9, -999.00,9, -999.00,-999.000,9, -999.00,9, -999.00,9,      14.12,2, 20210322,     1842,  42.2454, -51.4309,     3.9014,2,     0.0415,1,     4.7113,1,     -999.0,9,     -999.0,9,     -999.0,9,     -999.0,9
325020210316,        A20,      10,          1,          9,          9,2,20210322,       1758,    42.2454,   -51.4309,       3112,  1685.9,   3.8410,  34.9508,2,  34.9506,2,    268.2,2,   267.9,2,   12.11,2,   17.99,2,    0.00,2,    1.12,2,-999.000,9,-999.000,9, -999.00,9,  2167.6,2, 2304.81,2,   -999.0,9,  -999.00,   7.71358,2,    24.99, -999.00,9, -999.00,9, -999.00,-999.000,9, -999.00,9, -999.00,9,     -999.0,9, 20210322,     1839,  42.2454, -51.4309,     3.8415,2,     0.0420,1,     4.7112,1,     -999.0,9,     -999.0,9,     -999.0,9,     -999.0,9
325020210316,        A20,      10,          1,          8,          8,2,20210322,       1758,    42.2454,   -51.4309,       3112,  1787.3,   3.7693,  34.9475,2,  34.9433,2,    268.4,2,   268.8,2,   12.30,2,   18.02,2,    0.00,2,    1.12,2,   2.808,2,   1.515,2,    1.05,3,  2170.4,2, 2306.96,2,    776.7,2,    20.00,   7.71472,2,    24.99, -999.00,9, -999.00,9, -999.00,-999.000,9, -999.00,9, -999.00,9,      14.09,2, 20210322,     1836,  42.2454, -51.4309,     3.7692,2,     0.0417,1,     4.7118,1,     -999.0,9,     -999.0,9,     -999.0,9,     -999.0,9
325020210316,        A20,      10,          1,          7,          7,2,20210322,       1758,    42.2454,   -51.4309,       3112,  1959.2,   3.6697,  34.9506,2,  34.9506,2,    267.9,2,   267.1,2,   12.98,2,   18.26,2,    0.00,2,    1.13,2,-999.000,9,-999.000,9, -999.00,9,  2169.3,2, 2305.75,2,   -999.0,9,  -999.00,   7.72035,2,    25.00, -999.00,9, -999.00,9, -999.00,-999.000,9, -999.00,9, -999.00,9,     -999.0,9, 20210322,     1832,  42.2454, -51.4309,     3.6694,2,     0.0422,1,     4.7118,1,     -999.0,9,     -999.0,9,     -999.0,9,     -999.0,9
325020210316,        A20,      10,          1,          6,          6,2,20210322,       1758,    42.2454,   -51.4309,       3112,  2163.4,   3.4847,  34.9447,2,  34.9433,2,    268.4,2,   267.9,2,   13.96,2,   18.30,2,    0.00,2,    1.12,2,   2.248,2,   1.196,2,    0.68,3,  2166.3,2,  2308.0,2,   -999.0,9,  -999.00,    7.7224,2,    24.99, -999.00,9, -999.00,9, -999.00,-999.000,9, -999.00,9, -999.00,9,      13.82,2, 20210322,     1827,  42.2454, -51.4309,     3.4842,2,     0.0420,1,     4.7132,1,     -999.0,9,     -999.0,9,     -999.0,9,     -999.0,9
325020210316,        A20,      10,          1,          5,          5,2,20210322,       1758,    42.2454,   -51.4309,       3112,  2367.1,   3.3094,  34.9418,2,  34.9406,2,    268.6,2,   268.2,2,   15.33,2,   18.24,2,    0.00,2,    1.12,2,-999.000,9,-999.000,9, -999.00,9,  2167.2,2, 2309.76,2,    755.1,2,    20.00,   7.72604,6,    24.99, -999.00,9, -999.00,9, -999.00,-999.000,9, -999.00,9, -999.00,9,     -999.0,9, 20210322,     1822,  42.2454, -51.4309,     3.3094,2,     0.0421,1,     4.7144,1,     -999.0,9,     -999.0,9,     -999.0,9,     -999.0,9
325020210316,        A20,      10,          1,          4,          4,2,20210322,       1758,    42.2454,   -51.4309,       3112,  2569.9,   3.0912,  34.9311,2,  34.9294,2,    271.8,2,   271.1,2,   15.72,2,   17.90,2,    0.00,2,    1.11,2,   2.123,2,   1.152,2,    0.47,3,  2166.2,2, 2309.49,2,   -999.0,9,  -999.00,   7.72564,2,    24.99, -999.00,9, -999.00,9, -999.00,-999.000,9, -999.00,9, -999.00,9,      13.75,2, 20210322,     1815,  42.2454, -51.4309,     3.0917,2,     0.0420,1,     4.7113,1,     -999.0,9,     -999.0,9,     -999.0,9,     -999.0,9
325020210316,        A20,      10,          1,          3,          3,2,20210322,       1758,    42.2454,   -51.4309,       3112,  2775.4,   2.8925,  34.9244,3,  34.9294,2,    274.4,2,   274.2,2,   16.11,2,   17.49,2,    0.00,2,    1.09,2,   2.360,2,   1.215,2,    1.08,3,  2167.6,2, 2309.07,6,   -999.0,9,  -999.00,   7.72386,2,    25.00, -999.00,9, -999.00,9, -999.00,-999.000,9, -999.00,9, -999.00,9,      13.92,2, 20210322,     1809,  42.2455, -51.4309,     2.8922,2,     0.0417,1,     4.7099,1,     -999.0,9,     -999.0,9,     -999.0,9,     -999.0,9