BOTTLE,20230512CCHSIOCBG
EXPOCODE,SECT_ID,STNNBR,CASTNO,SAMPNO,BTLNBR,BTLNBR_FLAG_W,DATE,TIME,LATITUDE,LONGITUDE,DEPTH,CTDPRS,CTDTMP,CTDSAL,CTDSAL_FLAG_W,SALNTY,SALNTY_FLAG_W,CTDOXY,CTDOXY_FLAG_W,OXYGEN,OXYGEN_FLAG_W,SILCAT,SILCAT_FLAG_W,NITRAT,NITRAT_FLAG_W,NITRIT,NITRIT_FLAG_W,PHSPHT,PHSPHT_FLAG_W,CFC-11,CFC-11_FLAG_W,CFC-12,CFC-12_FLAG_W,SF6,SF6_FLAG_W,TCARBN,TCARBN_FLAG_W,ALKALI,ALKALI_FLAG_W,FCO2,FCO2_FLAG_W,FCO2TMP,PH_TOT,PH_TOT_FLAG_W,PH_TMP,DELC13,DELC13_FLAG_W,DELC14,DELC14_FLAG_W,C14ERR,POC,POC_FLAG_W,DOC,DOC_FLAG_W,TDN,TDN_FLAG_W,N2O,N2O_FLAG_W,BTL_DATE,BTL_TIME,BTL_LAT,BTL_LON,REFTMP,REFTMP_FLAG_W,CTDFLUOR,CTDFLUOR_FLAG_W,CTDXMISS,CTDXMISS_FLAG_W,D15N_NO2+NO3,D15N_NO2+NO3_FLAG_W,D18O_NO2+NO3,D18O_NO2+NO3_FLAG_W,HPLC,HPLC_FLAG_W,MICROGELS,MICROGELS_FLAG_W
,,,,,,,,,,,METERS,DBAR,ITS-90,PSS-78,,PSS-78,,UMOL/KG,,UMOL/KG,,UMOL/KG,,UMOL/KG,,UMOL/KG,,UMOL/KG,,PMOL/KG,,PMOL/KG,,FMOL/KG,,UMOL/KG,,UMOL/KG,,UATM,,DEG C,,,DEG C,/MILLE,,/MILLE,,/MILLE,UG/KG,,UMOL/KG,,UMOL/KG,,NMOL/KG,,,,,,ITS-90,,VOLTS,,VOLTS,,/MILLE,,/MILLE,,,,1E6 GELS/L,
325020210316,        A20,      58,          1,         36,         36,2,20210406,       0425,    16.5556,   -52.3339,       5035,     4.9,  25.4438,  36.5254,2,  36.5274,2,    206.0,2,   205.6,2,    1.27,2,    0.02,2,    0.00,2,    0.00,2,   1.523,2,   1.007,2,    1.79,2,  2051.7,6, 2391.86,2,   -999.0,9,  -999.00,   8.09753,2,    25.03, -999.00,9, -999.00,9, -999.00,-999.000,9, -999.00,9, -999.00,9,       5.93,2, 20210406,      638,  16.5556, -52.3339,    25.4378,2,     0.0443,1,     4.6386,1,     -999.0,9,     -999.0,9,     -999.0,9,     -999.0,9
325020210316,        A20,      58,          1,         35,         35,2,20210406,       0425,    16.5556,   -52.3339,       5035,    34.8,  25.4006,  36.5416,2,  36.5440,2,    206.3,2,   206.0,2,    1.27,2,    0.01,2,    0.00,2,    0.00,2,-999.000,9,-999.000,9, -999.00,9,  -999.0,9, -999.00,9,   -999.0,9,  -999.00,-999.00000,9,  -999.00, -999.00,9, -999.00,9, -999.00,-999.000,9, -999.00,9, -999.00,9,     -999.0,9, 20210406,      636,  16.5557, -52.3339,    25.3991,2,     0.0473,1,     4.6425,1,     -999.0,9,     -999.0,9,     -999.0,9,     -999.0,9
325020210316,        A20,      58,          1,         34,         34,2,20210406,       0425,    16.5556,   -52.3339,       5035,    59.8,  25.3440,  36.6035,2,  36.6106,2,    207.4,2,   206.6,2,    1.17,2,    0.01,2,    0.00,2,    0.00,2,   1.529,2,   1.007,2,    1.72,2,  2056.2,2, 2396.78,6,   -999.0,9,  -999.00,   8.09618,6,    25.03, -999.00,9, -999.00,9, -999.00,-999.000,9, -999.00,9, -999.00,9,       5.92,2, 20210406,      634,  16.5556, -52.3339,    25.3412,2,     0.0497,1,     4.6431,1,     -999.0,9,     -999.0,9,     -999.0,9,     -999.0,9
325020210316,        A20,      58,          1,         33,         33,2,20210406,       0425,    16.5556,   -52.3339,       5035,    86.1,  25.4066,  37.1418,2,  37.1413,2,    205.4,2,   205.9,2,    0.88,2,    0.01,2,    0.00,2,    0.00,2,   1.523,2,   1.003,2,    1.64,2,  2087.0,2, -999.00,9,   -999.0,9,  -999.00,   8.08816,2,    25.05, -999.00,9, -999.00,9, -999.00,-999.000,9, -999.00,9, -999.00,9,       6.17,2, 20210406,      632,  16.5556, -52.3339,    25.4055,2,     0.0570,1,     4.6531,1,     -999.0,9,     -999.0,9,     -999.0,9,     -999.0,9
325020210316,        A20,      58,          1,         32,         32,2,20210406,       0425,    16.5556,   -52.3339,       5035,   116.3,  24.5027,  37.3019,2,  37.2996,2,    198.4,2,   199.6,2,    0.88,2,    0.00,2,    0.00,2,    0.00,2,-999.000,9,-999.000,9, -999.00,9,  -999.0,9, -999.00,9,   -999.0,9,  -999.00,-999.00000,9,  -999.00, -999.00,9, -999.00,9, -999.00,-999.000,9, -999.00,9, -999.00,9,     -999.0,9, 20210406,      630,  16.5556, -52.3339,    24.5155,2,     0.0791,1,     4.6537,1,     -999.0,9,     -999.0,9,     -999.0,9,     -999.0,9
325020210316,        A20,      58,          1,         31,         31,2,20210406,       0425,    16.5556,   -52.3339,       5035,   165.8,  21.5944,  37.0530,2,  37.0531,2,    166.5,3,   170.7,2,    1.27,2,    2.81,2,    0.03,2,    0.13,2,   1.806,2,   1.179,2,    1.71,2,  -999.0,9, -999.00,9,   -999.0,9,  -999.00,-999.00000,9,  -999.00, -999.00,9, -999.00,9, -999.00,-999.000,9, -999.00,9, -999.00,9,       8.99,2, 20210406,      628,  16.5556, -52.3339,    21.5935,2,     0.0627,1,     4.6699,1,     -999.0,9,     -999.0,9,     -999.0,9,     -999.0,9
325020210316,        A20,      58,          1,         30,         30,2,20210406,       0425,    16.5556,   -52.3339,       5035,   216.4,  18.9314,  36.6731,2,  36.6727,2,    168.1,2,   168.6,2,    1.85,2,    6.19,2,    0.00,2,    0.29,2,   1.984,2,   1.286,2,    1.67,2,  2158.9,2, 2398.69,2,   -999.0,9,  -999.00,   7.91436,2,    25.01, -999.00,9, -999.00,9, -999.00,-999.000,9, -999.00,9, -999.00,9,      10.62,2, 20210406,      626,  16.5556, -52.3339,    18.9285,2,     0.0434,1,     4.6844,1,     -999.0,9,     -999.0,9,     -999.0,9,     -999.0,9
325020210316,        A20,      58,          1,         29,         29,2,20210406,       0425,    16.5556,   -52.3339,       5035,   266.5,  16.5529,  36.2273,2,  36.2087,2,    137.1,2,   136.4,2,    4.00,2,   13.62,2,    0.00,2,    0.75,2,-999.000,9,-999.000,9, -999.00,9,  2185.7,2, -999.00,9,   -999.0,9,  -999.00,   7.80898,2,    25.01, -999.00,9, -999.00,9, -999.00,-999.000,9, -999.00,9, -999.00,9,     -999.0,9, 20210406,      624,  16.5557, -52.3339,    16.5531,2,     0.0406,1,     4.6865,1,     -999.0,9,     -999.0,9,     -999.0,9,     -999.0,9
325020210316,        A20,      58,          1,         28,         28,2,20210406,       0425,    16.5556,   -52.3339,       5035,   316.9,  14.4035,  35.8894,2,  35.8817,2,    120.7,2,   120.7,2,    6.15,2,   18.40,2,    0.00,2,    1.03,2,   1.485,2,   1.244,2,    1.16,2,  -999.0,9, -999.00,9,   -999.0,9,  -999.00,-999.00000,9,  -999.00, -999.00,9, -999.00,9, -999.00,-999.000,9, -999.00,9, -999.00,9,      22.40,2, 20210406,      622,  16.5556, -52.3339,    14.4014,2,     0.0422,1,     4.6878,1,     -999.0,9,     -999.0,9,     -999.0,9,     -999.0,9
325020210316,        A20,      58,          1,         27,         27,2,20210406,       0425,    16.5556,   -52.3339,       5035,   367.1,  13.1900,  35.6986,2,  35.6988,2,    112.5,2,   112.4,2,    7.91,2,   21.19,2,    0.00,2,    1.21,2,   1.914,2,   1.139,2,    0.88,2,  2206.0,2, 2340.09,2,   -999.0,9,  -999.00,   7.69527,2,    25.02, -999.00,9, -999.00,9, -999.00,-999.000,9, -999.00,9, -999.00,9,      23.82,2, 20210406,      620,  16.5556, -52.3339,    13.1904,2,     0.0424,1,     4.6886,1,     -999.0,9,     -999.0,9,     -999.0,9,     -999.0,9
325020210316,        A20,      58,          1,         26,         26,2,20210406,       0425,    16.5556,   -52.3339,       5035,   416.8,  12.0039,  35.5176,2,  35.5139,2,    109.1,2,   109.0,2,   10.05,2,   23.80,2,    0.00,2,    1.40,2,-999.000,9,-999.000,9, -999.00,9,  -999.0,9, -999.00,9,   -999.0,9,  -999.00,-999.00000,9,  -999.00, -999.00,9, -999.00,9, -999.00,-999.000,9, -999.00,9, -999.00,9,     -999.0,9, 20210406,      618,  16.5556, -52.3339,    12.0041,2,     0.0412,1,     4.6905,1,     -999.0,9,     -999.0,9,     -999.0,9,     -999.0,9
325020210316,        A20,      58,          1,         25,         25,2,20210406,       0425,    16.5556,   -52.3339,       5035,   467.1,  11.1394,  35.3799,2,  35.3737,2,    111.7,2,   111.4,2,   11.71,2,   25.19,2,    0.00,2,    1.50,2,   1.561,2,   0.880,2,    0.54,2,  -999.0,9, -999.00,9,   -999.0,9,  -999.00,-999.00000,9,  -999.00, -999.00,9, -999.00,9, -999.00,-999.000,9, -999.00,9, -999.00,9,      25.13,2, 20210406,      616,  16.5556, -52.3339,    11.1424,2,     0.0425,1,     4.6917,1,     -999.0,9,     -999.0,9,     -999.0,9,     -999.0,9
325020210316,        A20,      58,          1,         24,         24,2,20210406,       0425,    16.5556,   -52.3339,       5035,   539.2,   9.0513,  35.0659,2,  35.0657,2,    115.6,2,   115.4,2,   16.21,2,   28.85,2,    0.00,2,    1.78,2,   1.177,2,   0.642,2,    0.39,2,  2216.2,2, -999.00,9,   -999.0,9,  -999.00,   7.59769,2,    24.97, -999.00,9, -999.00,9, -999.00,-999.000,9, -999.00,9, -999.00,9,      25.18,2, 20210406,      613,  16.5556, -52.3339,     9.0585,2,     0.0419,1,     4.6928,1,     -999.0,9,     -999.0,9,     -999.0,9,     -999.0,9
325020210316,        A20,      58,          1,         23,         23,2,20210406,       0425,    16.5556,   -52.3339,       5035,   640.1,   7.6398,  34.8687,2,  34.8629,2,    118.9,2,   118.8,2,   20.12,2,   31.47,2,    0.00,2,    1.98,2,-999.000,9,-999.000,9, -999.00,9,  -999.0,9, -999.00,9,   -999.0,9,  -999.00,-999.00000,9,  -999.00, -999.00,9, -999.00,9, -999.00,-999.000,9, -999.00,9, -999.00,9,     -999.0,9, 20210406,      610,  16.5556, -52.3339,     7.6402,2,     0.0420,1,     4.6921,1,     -999.0,9,     -999.0,9,     -999.0,9,     -999.0,9
325020210316,        A20,      58,          1,         22,         22,2,20210406,       0425,    16.5556,   -52.3339,       5035,   740.5,   6.4797,  34.7491,2,  34.7484,2,    121.7,2,   121.9,2,   23.93,2,   33.34,2,    0.00,2,    2.14,2,   0.471,2,   0.237,2,    0.13,2,  2227.5,2, 2303.66,2,   -999.0,9,  -999.00,   7.54306,2,    25.02, -999.00,9, -999.00,9, -999.00,-999.000,9, -999.00,9, -999.00,9,      26.17,2, 20210406,      607,  16.5556, -52.3339,     6.4793,2,     0.0431,1,     4.6926,1,     -999.0,9,     -999.0,9,     -999.0,9,     -999.0,9
325020210316,        A20,      58,          1,         21,         21,2,20210406,       0425,    16.5556,   -52.3339,       5035,   841.8,   6.1318,  34.7745,2,  34.7746,2,    128.4,2,   128.8,2,   24.61,2,   32.70,2,    0.00,2,    2.12,2,   0.301,2,   0.146,2,    0.11,2,  -999.0,9, -999.00,9,   -999.0,9,  -999.00,-999.00000,9,  -999.00, -999.00,9, -999.00,9, -999.00,-999.000,9, -999.00,9, -999.00,9,      23.81,2, 20210406,      603,  16.5556, -52.3339,     6.1308,2,     0.0428,1,     4.6933,1,     -999.0,9,     -999.0,9,     -999.0,9,     -999.0,9
325020210316,        A20,      58,          1,         20,         20,2,20210406,       0425,    16.5556,   -52.3339,       5035,   941.7,   5.8838,  34.8037,2,  34.8037,2,    134.9,2,   135.4,2,   24.81,2,   31.88,2,    0.00,2,    2.07,2,-999.000,9,-999.000,9, -999.00,9,  -999.0,9, -999.00,9,   -999.0,9,  -999.00,-999.00000,9,  -999.00, -999.00,9, -999.00,9, -999.00,-999.000,9, -999.00,9, -999.00,9,     -999.0,9, 20210406,      600,  16.5556, -52.3339,     5.8840,2,     0.0420,1,     4.6947,1,     -999.0,9,     -999.0,9,     -999.0,9,     -999.0,9
325020210316,        A20,      58,          1,         19,         19,2,20210406,       0425,    16.5556,   -52.3339,       5035,  1043.9,   5.5902,  34.8446,2,  34.8450,2,    147.3,2,   148.2,2,   24.32,2,   30.33,2,    0.00,2,    1.98,2,   0.168,2,   0.085,2,    0.05,2,  2217.4,2, 2313.87,2,   -999.0,9,  -999.00,   7.58988,2,    25.03, -999.00,9, -999.00,9, -999.00,-999.000,9, -999.00,9, -999.00,9,      22.85,2, 20210406,      557,  16.5556, -52.3339,     5.5888,2,     0.0431,1,     4.6952,1,     -999.0,9,     -999.0,9,     -999.0,9,     -999.0,9
325020210316,        A20,      58,          1,         18,         18,2,20210406,       0425,    16.5556,   -52.3339,       5035,  1144.2,   5.3867,  34.9136,2,  34.9146,2,    167.3,2,   168.2,2,   22.56,2,   27.62,2,    0.00,2,    1.80,2,   0.247,2,   0.120,2,    0.12,2,  -999.0,9, -999.00,9,   -999.0,9,  -999.00,-999.00000,9,  -999.00, -999.00,9, -999.00,9, -999.00,-999.000,9, -999.00,9, -999.00,9,      20.55,2, 20210406,      555,  16.5556, -52.3339,     5.3853,2,     0.0419,1,     4.6961,1,     -999.0,9,     -999.0,9,     -999.0,9,     -999.0,9
325020210316,        A20,      58,          1,         17,         17,2,20210406,       0425,    16.5556,   -52.3339,       5035,  1246.1,   5.1989,  34.9562,2,  34.9561,2,    184.6,2,   184.0,2,   21.00,2,   25.58,2,    0.00,2,    1.68,2,-999.000,9,-999.000,9, -999.00,9,  -999.0,9, -999.00,9,   -999.0,9,  -999.00,-999.00000,9,  -999.00, -999.00,9, -999.00,9, -999.00,-999.000,9, -999.00,9, -999.00,9,     -999.0,9, 20210406,      552,  16.5556, -52.3339,     5.1997,2,     0.0430,1,     4.6971,1,     -999.0,9,     -999.0,9,     -999.0,9,     -999.0,9
325020210316,        A20,      58,          1,         16,         16,2,20210406,       0425,    16.5556,   -52.3339,       5035,  1346.5,   5.0011,  34.9762,2,  34.9787,2,    197.1,3,   214.2,2,   19.82,2,   23.98,2,    0.00,2,    1.56,2,   0.403,2,   0.198,2,    0.14,2,  2192.0,2, -999.00,9,   -999.0,9,  -999.00,   7.67489,6,    25.00, -999.00,9, -999.00,9, -999.00,-999.000,9, -999.00,9, -999.00,9,      17.46,2, 20210406,      549,  16.5556, -52.3339,     4.9992,2,     0.0425,1,     4.6972,1,     -999.0,9,     -999.0,9,     -999.0,9,     -999.0,9
325020210316,        A20,      58,          1,         15,         15,2,20210406,       0425,    16.5556,   -52.3339,       5035,  1448.5,   4.7307,  34.9954,2,  34.9953,2,    214.6,2,   213.9,2,   18.55,2,   22.28,2,    0.00,2,    1.46,2,   0.517,2,   0.256,2,    0.14,2,  -999.0,9, -999.00,9,   -999.0,9,  -999.00,-999.00000,9,  -999.00, -999.00,9, -999.00,9, -999.00,-999.000,9, -999.00,9, -999.00,9,      16.49,2, 20210406,      546,  16.5556, -52.3339,     4.7330,2,     0.0419,1,     4.6976,1,     -999.0,9,     -999.0,9,     -999.0,9,     -999.0,9
325020210316,        A20,      58,          1,         14,         14,2,20210406,       0425,    16.5556,   -52.3339,       5035,  1549.7,   4.4995,  34.9972,2,  34.9982,2,    225.1,2,   224.6,2,   18.07,2,   21.34,2,    0.00,2,    1.40,2,-999.000,9,-999.000,9, -999.00,9,  -999.0,9, -999.00,9,   -999.0,9,  -999.00,-999.00000,9,  -999.00, -999.00,9, -999.00,9, -999.00,-999.000,9, -999.00,9, -999.00,9,     -999.0,9, 20210406,      543,  16.5556, -52.3339,     4.4985,2,     0.0429,1,     4.6981,1,     -999.0,9,     -999.0,9,     -999.0,9,     -999.0,9
325020210316,        A20,      58,          1,         13,         13,2,20210406,       0425,    16.5556,   -52.3339,       5035,  1680.6,   4.1919,  34.9948,2,  34.9955,2,    236.7,2,   236.8,2,   17.77,2,   20.36,2,    0.00,2,    1.34,2,   0.537,2,   0.255,2,    0.17,2,  2175.4,2, 2317.34,2,   -999.0,9,  -999.00,   7.71943,2,    24.98, -999.00,9, -999.00,9, -999.00,-999.000,9, -999.00,9, -999.00,9,      14.39,2, 20210406,      539,  16.5556, -52.3339,     4.1915,2,     0.0412,1,     4.6982,1,     -999.0,9,     -999.0,9,     -999.0,9,     -999.0,9
325020210316,        A20,      58,          1,         12,         12,2,20210406,       0425,    16.5556,   -52.3339,       5035,  1884.1,   3.7867,  34.9848,2,  34.9854,2,    245.5,2,   245.0,2,   19.63,2,   19.79,2,    0.00,2,    1.29,2,   0.309,2,   0.195,2,    0.17,2,  -999.0,9, -999.00,9,   -999.0,9,  -999.00,-999.00000,9,  -999.00, -999.00,9, -999.00,9, -999.00,-999.000,9, -999.00,9, -999.00,9,      14.62,2, 20210406,      535,  16.5556, -52.3339,     3.7870,2,     0.0423,1,     4.6978,1,     -999.0,9,     -999.0,9,     -999.0,9,     -999.0,9
325020210316,        A20,      58,          1,         11,         11,2,20210406,       0425,    16.5556,   -52.3339,       5035,  2108.0,   3.4670,  34.9710,2,  34.9709,2,    251.5,2,   251.6,2,   21.48,2,   19.38,2,    0.00,2,    1.27,2,-999.000,9,-999.000,9, -999.00,9,  -999.0,9, -999.00,9,   -999.0,9,  -999.00,-999.00000,9,  -999.00, -999.00,9, -999.00,9, -999.00,-999.000,9, -999.00,9, -999.00,9,     -999.0,9, 20210406,      530,  16.5556, -52.3339,     3.4651,2,     0.0424,1,     4.6982,1,     -999.0,9,     -999.0,9,     -999.0,9,     -999.0,9
325020210316,        A20,      58,          1,         10,         10,2,20210406,       0425,    16.5556,   -52.3339,       5035,  2361.8,   3.1450,  34.9556,2,  34.9559,2,    254.4,2,   254.6,2,   24.12,2,   19.30,2,    0.00,2,    1.26,2,   0.382,2,   0.183,2,    0.15,2,  2172.7,2, 2323.79,2,   -999.0,9,  -999.00,   7.74073,6,    25.01, -999.00,9, -999.00,9, -999.00,-999.000,9, -999.00,9, -999.00,9,      14.12,2, 20210406,      524,  16.5556, -52.3339,     3.1448,2,     0.0429,1,     4.6978,1,     -999.0,9,     -999.0,9,     -999.0,9,     -999.0,9
325020210316,        A20,      58,          1,          9,          9,2,20210406,       0425,    16.5556,   -52.3339,       5035,  2617.5,   2.9446,  34.9414,2,  34.9414,2,    254.2,2,   254.3,2,   27.44,2,   19.61,2,    0.00,2,    1.29,2,   0.343,2,   0.160,2,    0.07,2,  -999.0,9, -999.00,9,   -999.0,9,  -999.00,-999.00000,9,  -999.00, -999.00,9, -999.00,9, -999.00,-999.000,9, -999.00,9, -999.00,9,      13.23,2, 20210406,      518,  16.5556, -52.3339,     2.9449,2,     0.0419,1,     4.6975,1,     -999.0,9,     -999.0,9,     -999.0,9,     -999.0,9
325020210316,        A20,      58,          1,          8,          8,2,20210406,       0425,    16.5556,   -52.3339,       5035,  2872.2,   2.7843,  34.9298,2,  34.9303,2,    251.3,2,   251.7,2,   32.23,2,   20.22,2,    0.00,2,    1.34,2,-999.000,9,-999.000,9, -999.00,9,  -999.0,9, -999.00,9,   -999.0,9,  -999.00,-999.00000,9,  -999.00, -999.00,9, -999.00,9, -999.00,-999.000,9, -999.00,9, -999.00,9,     -999.0,9, 20210406,      513,  16.5556, -52.3339,     2.7845,2,     0.0419,1,     4.6972,1,     -999.0,9,     -999.0,9,     -999.0,9,     -999.0,9
325020210316,        A20,      58,          1,          7,          7,2,20210406,       0425,    16.5556,   -52.3339,       5035,  3141.5,   2.6590,  34.9197,2,  34.9197,2,    251.0,2,   251.2,2,   35.16,2,   20.52,2,    0.00,2,    1.37,2,   0.194,2,   0.093,2,    0.08,2,  2185.6,2, 2332.96,2,   -999.0,9,  -999.00,   7.73712,6,    25.01, -999.00,9, -999.00,9, -999.00,-999.000,9, -999.00,9, -999.00,9,      13.67,2, 20210406,      507,  16.5556, -52.3339,     2.6594,2,     0.0421,1,     4.6972,1,     -999.0,9,     -999.0,9,     -999.0,9,     -999.0,9
325020210316,        A20,      58,          1,          6,          6,2,20210406,       0425,    16.5556,   -52.3339,       5035,  3447.6,   2.5281,  34.9079,2,  34.9075,2,    252.3,2,   252.5,2,   37.30,2,   20.63,2,    0.00,2,    1.37,2,   0.230,2,   0.111,2,    0.08,2,  -999.0,9, -999.00,9,   -999.0,9,  -999.00,-999.00000,9,  -999.00, -999.00,9, -999.00,9, -999.00,-999.000,9, -999.00,9, -999.00,9,      14.53,2, 20210406,      501,  16.5556, -52.3339,     2.5275,2,     0.0429,1,     4.6972,1,     -999.0,9,     -999.0,9,     -999.0,9,     -999.0,9
325020210316,        A20,      58,          1,          5,          5,2,20210406,       0425,    16.5556,   -52.3339,       5035,  3754.9,   2.3653,  34.8941,2,  34.8941,2,    254.9,2,   254.6,2,   38.96,2,   20.54,2,    0.00,2,    1.38,2,-999.000,9,-999.000,9, -999.00,9,  -999.0,9, -999.00,9,   -999.0,9,  -999.00,-999.00000,9,  -999.00, -999.00,9, -999.00,9, -999.00,-999.000,9, -999.00,9, -999.00,9,     -999.0,9, 20210406,      454,  16.5556, -52.3339,     2.3653,2,     0.0429,1,     4.6972,1,     -999.0,9,     -999.0,9,     -999.0,9,     -999.0,9
325020210316,        A20,      58,          1,          4,          4,2,20210406,       0425,    16.5556,   -52.3339,       5035,  4063.3,   2.2571,  34.8837,2,  34.8835,2,    255.7,2,   255.3,2,   41.11,2,   20.73,2,    0.00,2,    1.39,2,   0.349,2,   0.170,2,    0.11,2,  -999.0,9, -999.00,9,   -999.0,9,  -999.00,-999.00000,9,  -999.00, -999.00,9, -999.00,9, -999.00,-999.000,9, -999.00,9, -999.00,9,      14.01,2, 20210406,      448,  16.5556, -52.3339,     2.2569,2,     0.0430,1,     4.6972,1,     -999.0,9,     -999.0,9,     -999.0,9,     -999.0,9
325020210316,        A20,      58,          1,          3,          3,2,20210406,       0425,    16.5556,   -52.3339,       5035,  4371.3,   2.1384,  34.8701,2,  34.8715,2,    254.7,2,   255.1,2,   45.31,2,   21.15,2,    0.00,2,    1.43,2,   0.385,2,   0.189,6,    0.12,6,  2196.5,2, -999.00,9,   -999.0,9,  -999.00,   7.72232,6,    25.02, -999.00,9, -999.00,9, -999.00,-999.000,9, -999.00,9, -999.00,9,      14.40,6, 20210406,      442,  16.5556, -52.3339,     2.1382,2,     0.0429,1,     4.6960,1,     -999.0,9,     -999.0,9,     -999.0,9,     -999.0,9