BOTTLE,20230512CCHSIOCBG
EXPOCODE,SECT_ID,STNNBR,CASTNO,SAMPNO,BTLNBR,BTLNBR_FLAG_W,DATE,TIME,LATITUDE,LONGITUDE,DEPTH,CTDPRS,CTDTMP,CTDSAL,CTDSAL_FLAG_W,SALNTY,SALNTY_FLAG_W,CTDOXY,CTDOXY_FLAG_W,OXYGEN,OXYGEN_FLAG_W,SILCAT,SILCAT_FLAG_W,NITRAT,NITRAT_FLAG_W,NITRIT,NITRIT_FLAG_W,PHSPHT,PHSPHT_FLAG_W,CFC-11,CFC-11_FLAG_W,CFC-12,CFC-12_FLAG_W,SF6,SF6_FLAG_W,TCARBN,TCARBN_FLAG_W,ALKALI,ALKALI_FLAG_W,FCO2,FCO2_FLAG_W,FCO2TMP,PH_TOT,PH_TOT_FLAG_W,PH_TMP,DELC13,DELC13_FLAG_W,DELC14,DELC14_FLAG_W,C14ERR,POC,POC_FLAG_W,DOC,DOC_FLAG_W,TDN,TDN_FLAG_W,N2O,N2O_FLAG_W,BTL_DATE,BTL_TIME,BTL_LAT,BTL_LON,REFTMP,REFTMP_FLAG_W,CTDFLUOR,CTDFLUOR_FLAG_W,CTDXMISS,CTDXMISS_FLAG_W,D15N_NO2+NO3,D15N_NO2+NO3_FLAG_W,D18O_NO2+NO3,D18O_NO2+NO3_FLAG_W,HPLC,HPLC_FLAG_W,MICROGELS,MICROGELS_FLAG_W
,,,,,,,,,,,METERS,DBAR,ITS-90,PSS-78,,PSS-78,,UMOL/KG,,UMOL/KG,,UMOL/KG,,UMOL/KG,,UMOL/KG,,UMOL/KG,,PMOL/KG,,PMOL/KG,,FMOL/KG,,UMOL/KG,,UMOL/KG,,UATM,,DEG C,,,DEG C,/MILLE,,/MILLE,,/MILLE,UG/KG,,UMOL/KG,,UMOL/KG,,NMOL/KG,,,,,,ITS-90,,VOLTS,,VOLTS,,/MILLE,,/MILLE,,,,1E6 GELS/L,
325020210316,        A20,      82,          1,         34,         34,2,20210412,       0449,     7.6178,   -52.9820,       1048,     5.0,  28.1728,  28.9083,2,  26.9495,3,    213.8,3,   207.7,2,   16.26,2,    0.00,2,    0.00,2,    0.03,2,-999.000,9,-999.000,9, -999.00,9,  1610.3,6, 1830.87,6,    252.0,2,    20.00,   8.09452,2,    25.00, -999.00,9, -999.00,9, -999.00,-999.000,9, -999.00,1, -999.00,1,     -999.0,9, 20210412,      547,   7.6178, -52.9820,    28.1795,2,     0.0608,1,     4.5339,1,     -999.0,9,     -999.0,9,     -999.0,9,     -999.0,9
325020210316,        A20,      82,          1,         33,         33,2,20210412,       0449,     7.6178,   -52.9820,       1048,    15.5,  27.6647,  36.0696,2,  36.1063,3,    199.4,2,   198.1,2,    0.88,2,    0.00,2,    0.00,2,    0.01,2,-999.000,9,-999.000,9, -999.00,9,  2039.1,2, -999.00,9,   -999.0,9,  -999.00,   8.08169,6,    25.00, -999.00,9, -999.00,9, -999.00,-999.000,9,   68.26,2,    3.97,2,     -999.0,9, 20210412,      547,   7.6178, -52.9820,    27.6642,2,     0.0580,1,     4.6120,1,     -999.0,9,     -999.0,9,     -999.0,9,     -999.0,9
325020210316,        A20,      82,          1,         32,         32,2,20210412,       0449,     7.6178,   -52.9820,       1048,    30.3,  27.6424,  36.1753,2,  36.1751,2,    198.2,2,   197.2,2,    0.88,2,    0.00,2,    0.00,2,    0.00,2,-999.000,9,-999.000,9, -999.00,9,  2042.7,2, 2367.34,2,    309.4,2,    20.00,   8.08053,2,    24.99, -999.00,9, -999.00,9, -999.00,-999.000,9, -999.00,9, -999.00,9,     -999.0,9, 20210412,      545,   7.6178, -52.9819,    27.6384,2,     0.0699,1,     4.6172,1,     -999.0,9,     -999.0,9,     -999.0,9,     -999.0,9
325020210316,        A20,      82,          1,         31,         31,2,20210412,       0449,     7.6178,   -52.9820,       1048,    45.7,  27.6354,  36.1796,2,  36.1789,2,    197.6,2,   196.9,2,    0.88,2,    0.00,2,    0.00,2,    0.00,2,-999.000,9,-999.000,9, -999.00,9,  2043.3,2, 2368.26,2,    311.3,2,    20.00,   8.08212,2,    24.99, -999.00,9, -999.00,9, -999.00,-999.000,9,   70.09,2,    4.73,2,     -999.0,9, 20210412,      543,   7.6178, -52.9820,    27.6334,2,     0.0687,1,     4.6265,1,     -999.0,9,     -999.0,9,     -999.0,9,     -999.0,9
325020210316,        A20,      82,          1,         30,         30,2,20210412,       0449,     7.6178,   -52.9820,       1048,    60.6,  27.7274,  36.2315,2,  36.2317,2,    195.4,2,   196.0,2,    0.88,2,    0.00,2,    0.00,2,    0.02,2,-999.000,9,-999.000,9, -999.00,9,  2048.1,2, 2371.64,2,    315.5,2,    20.00,   8.07613,2,    25.00, -999.00,9, -999.00,9, -999.00,-999.000,9, -999.00,9, -999.00,9,     -999.0,9, 20210412,      542,   7.6178, -52.9819,    27.7266,2,     0.0628,1,     4.6417,1,     -999.0,9,     -999.0,9,     -999.0,9,     -999.0,9
325020210316,        A20,      82,          1,         29,         29,2,20210412,       0449,     7.6178,   -52.9820,       1048,    75.5,  27.7148,  36.2445,2,  36.2469,2,    194.5,2,   195.1,2,    0.88,2,    0.00,2,    0.00,2,    0.01,2,-999.000,9,-999.000,9, -999.00,9,  2050.7,2, -999.00,9,   -999.0,9,  -999.00,   8.07508,2,    24.99, -999.00,9, -999.00,9, -999.00,-999.000,9,   68.51,2,    4.32,2,     -999.0,9, 20210412,      539,   7.6178, -52.9820,    27.7141,2,     0.0633,1,     4.6496,1,     -999.0,9,     -999.0,9,     -999.0,9,     -999.0,9
325020210316,        A20,      82,          1,         28,         28,2,20210412,       0449,     7.6178,   -52.9820,       1048,    90.6,  27.7031,  36.2527,2,  36.2592,2,    193.3,2,   194.4,2,    0.88,2,    0.00,2,    0.02,2,    0.02,2,   1.391,2,   0.926,2,    1.49,2,  2051.0,2, 2372.75,2,    319.0,2,    20.00,   8.07238,2,    24.99, -999.00,9, -999.00,9, -999.00,-999.000,9,   67.92,2,    4.28,2,       5.79,2, 20210412,      539,   7.6178, -52.9820,    27.7017,2,     0.0588,1,     4.6497,1,     -999.0,9,     -999.0,9,     -999.0,9,     -999.0,9
325020210316,        A20,      82,          1,         27,         27,2,20210412,       0449,     7.6178,   -52.9820,       1048,   115.7,  26.0423,  36.4502,2,  36.4491,2,    181.6,2,   182.0,2,    1.27,2,    1.01,2,    0.24,2,    0.13,2,-999.000,9,-999.000,9, -999.00,9,  2086.6,2, 2385.41,2,    357.0,2,    20.00,   8.03213,2,    25.02, -999.00,9, -999.00,9, -999.00,-999.000,9,   61.76,2,    4.65,2,     -999.0,9, 20210412,      537,   7.6178, -52.9820,    26.0403,2,     0.0651,1,     4.6477,1,     -999.0,9,     -999.0,9,     -999.0,9,     -999.0,9
325020210316,        A20,      82,          1,         26,         26,2,20210412,       0449,     7.6178,   -52.9820,       1048,   140.6,  24.0723,  36.9003,2,  36.9042,2,    162.0,2,   161.6,2,    1.85,2,    3.22,2,    0.04,2,    0.17,2,-999.000,9,-999.000,9, -999.00,9,  2136.0,2, 2410.79,2,    410.4,2,    20.00,    7.9833,2,    24.95, -999.00,9, -999.00,9, -999.00,-999.000,9,   61.52,2,    5.83,2,     -999.0,9, 20210412,      535,   7.6178, -52.9820,    24.0763,2,     0.0593,1,     4.6560,1,     -999.0,9,     -999.0,9,     -999.0,9,     -999.0,9
325020210316,        A20,      82,          1,         25,         25,2,20210412,       0449,     7.6178,   -52.9820,       1048,   165.0,  20.1292,  36.5043,2,  36.5131,2,    127.3,3,   129.3,2,    3.12,2,    9.59,2,    0.02,2,    0.51,2,-999.000,9,-999.000,9, -999.00,9,  2176.6,2,  2387.3,2,    560.1,2,    20.00,   7.86046,2,    24.96, -999.00,9, -999.00,9, -999.00,-999.000,9,   58.24,2,   13.00,2,     -999.0,9, 20210412,      533,   7.6178, -52.9820,    20.2425,2,     0.0449,1,     4.6666,1,     -999.0,9,     -999.0,9,     -999.0,9,     -999.0,9
325020210316,        A20,      82,          1,         24,         24,2,20210412,       0449,     7.6178,   -52.9820,       1048,   191.7,  15.6969,  35.8730,2,  35.8696,2,    129.0,2,   128.0,2,    6.14,2,   16.30,2,    0.01,2,    0.96,2,-999.000,9,-999.000,9, -999.00,9,  2190.5,6, 2349.63,2,    702.5,2,    20.00,   7.76024,2,    24.95, -999.00,9, -999.00,9, -999.00,-999.000,9, -999.00,9, -999.00,9,     -999.0,9, 20210412,      530,   7.6178, -52.9820,    15.6992,2,     0.0413,1,     4.6720,1,     -999.0,9,     -999.0,9,     -999.0,9,     -999.0,9
325020210316,        A20,      82,          1,         23,         23,2,20210412,       0449,     7.6178,   -52.9820,       1048,   216.1,  13.5169,  35.5143,2,  35.5186,2,    125.1,3,   127.8,2,    7.99,2,   19.64,2,    0.00,2,    1.21,2,   2.148,6,   1.294,6,    1.03,6,  2194.7,2,  2331.6,2,    793.4,2,    20.00,   7.71175,6,    24.96, -999.00,9, -999.00,9, -999.00,-999.000,9,   51.89,2,   21.84,2,      22.23,6, 20210412,      528,   7.6178, -52.9820,    13.5313,2,     0.0417,1,     4.6746,1,     -999.0,9,     -999.0,9,     -999.0,9,     -999.0,9
325020210316,        A20,      82,          1,         22,         22,2,20210412,       0449,     7.6178,   -52.9820,       1048,   240.7,  11.5365,  35.1748,2,  35.1666,2,    134.2,2,   134.1,2,   10.53,2,   22.57,2,    0.00,2,    1.42,2,-999.000,9,-999.000,9, -999.00,9,  -999.0,9, -999.00,9,   -999.0,9,  -999.00,-999.00000,9,  -999.00, -999.00,9, -999.00,9, -999.00,-999.000,9, -999.00,9, -999.00,9,     -999.0,9, 20210412,      526,   7.6178, -52.9820,    11.5128,2,     0.0414,1,     4.6691,1,     -999.0,9,     -999.0,9,     -999.0,9,     -999.0,9
325020210316,        A20,      82,          1,         21,         21,2,20210412,       0449,     7.6178,   -52.9820,       1048,   266.0,  10.5341,  35.0495,2,  35.0463,2,    123.4,2,   124.5,2,   11.80,2,   25.15,2,    0.00,2,    1.59,2,-999.000,9,-999.000,9, -999.00,9,  2202.5,2,  2309.7,2,    960.1,2,    20.00,   7.62814,2,    24.99, -999.00,9, -999.00,9, -999.00,-999.000,9,   45.83,2,   27.09,2,     -999.0,9, 20210412,      525,   7.6178, -52.9820,    10.5330,2,     0.0421,1,     4.6738,1,     -999.0,9,     -999.0,9,     -999.0,9,     -999.0,9
325020210316,        A20,      82,          1,         20,         20,2,20210412,       0449,     7.6178,   -52.9820,       1048,   291.5,   9.7384,  34.9448,2,  34.9439,2,    121.6,2,   120.8,2,   13.26,2,   27.05,2,    0.00,2,    1.71,2,-999.000,9,-999.000,9, -999.00,9,  -999.0,9, -999.00,9,   -999.0,9,  -999.00,-999.00000,9,  -999.00, -999.00,9, -999.00,9, -999.00,-999.000,9,   45.89,2,   28.73,2,     -999.0,9, 20210412,      523,   7.6178, -52.9820,     9.7383,2,     0.0424,1,     4.6730,1,     -999.0,9,     -999.0,9,     -999.0,9,     -999.0,9
325020210316,        A20,      82,          1,         19,         19,2,20210412,       0449,     7.6178,   -52.9820,       1048,   316.2,   9.2770,  34.8668,2,  34.8686,2,    120.8,2,   119.8,2,   14.24,2,   28.21,2,    0.00,2,    1.78,2,   1.859,2,   1.051,2,    0.62,2,  2212.7,2, 2302.12,2,   1064.1,6,    20.00,   7.58388,2,    25.00, -999.00,9, -999.00,9, -999.00,-999.000,9,   44.35,2,   30.83,2,      27.21,2, 20210412,      521,   7.6178, -52.9820,     9.2805,2,     0.0424,1,     4.6724,1,     -999.0,9,     -999.0,9,     -999.0,9,     -999.0,9
325020210316,        A20,      82,          1,         18,         18,2,20210412,       0449,     7.6178,   -52.9820,       1048,   341.8,   9.0304,  34.8369,2,  34.8326,2,    118.4,2,   119.5,2,   15.02,2,   28.89,2,    0.00,2,    1.82,2,-999.000,9,-999.000,9, -999.00,9,  -999.0,9, -999.00,9,   -999.0,9,  -999.00,-999.00000,9,  -999.00, -999.00,9, -999.00,9, -999.00,-999.000,9, -999.00,9, -999.00,9,     -999.0,9, 20210412,      520,   7.6178, -52.9820,     9.0424,2,     0.0425,1,     4.6739,1,     -999.0,9,     -999.0,9,     -999.0,9,     -999.0,9
325020210316,        A20,      82,          1,         17,         17,2,20210412,       0449,     7.6178,   -52.9820,       1048,   367.1,   8.9077,  34.8437,2,  34.8444,2,    117.8,3,   116.1,2,   15.41,2,   29.41,2,    0.00,2,    1.85,2,-999.000,9,-999.000,9, -999.00,9,  2218.0,2,  2301.1,2,   1105.2,2,    20.00,   7.56846,6,    24.99, -999.00,9, -999.00,9, -999.00,-999.000,9,   46.80,2,   31.22,2,     -999.0,9, 20210412,      518,   7.6178, -52.9820,     8.9162,2,     0.0434,1,     4.6739,1,     -999.0,9,     -999.0,9,     -999.0,9,     -999.0,9
325020210316,        A20,      82,          1,         16,         16,2,20210412,       0449,     7.6178,   -52.9820,       1048,   392.0,   8.4392,  34.7821,2,  34.7822,2,    119.5,2,   118.8,2,   16.48,2,   30.33,2,    0.00,2,    1.91,2,-999.000,9,-999.000,9, -999.00,9,  -999.0,9, -999.00,9,   -999.0,9,  -999.00,-999.00000,9,  -999.00, -999.00,9, -999.00,9, -999.00,-999.000,9,   44.07,2,   33.07,2,     -999.0,9, 20210412,      517,   7.6178, -52.9820,     8.4398,2,     0.0429,1,     4.6746,1,     -999.0,9,     -999.0,9,     -999.0,9,     -999.0,9
325020210316,        A20,      82,          1,         15,         15,2,20210412,       0449,     7.6178,   -52.9820,       1048,   417.0,   8.1358,  34.7497,2,  34.7486,2,    113.3,2,   113.4,2,   17.65,2,   31.64,2,    0.00,2,    1.99,2,   1.406,2,   0.780,2,    0.46,2,  2220.0,2, -999.00,9,   -999.0,9,  -999.00,   7.53943,2,    24.99, -999.00,9, -999.00,9, -999.00,-999.000,9,   46.44,2,   34.13,2,      26.53,2, 20210412,      515,   7.6178, -52.9820,     8.1357,2,     0.0430,1,     4.6760,1,     -999.0,9,     -999.0,9,     -999.0,9,     -999.0,9
325020210316,        A20,      82,          1,         14,         14,2,20210412,       0449,     7.6178,   -52.9820,       1048,   441.8,   7.8580,  34.7143,2,  34.7164,2,    126.8,3,   125.5,2,   17.95,2,   30.78,2,    0.00,2,    1.97,2,-999.000,9,-999.000,9, -999.00,9,  -999.0,9, -999.00,9,   -999.0,9,  -999.00,-999.00000,9,  -999.00, -999.00,9, -999.00,9, -999.00,-999.000,9,   44.19,2,   32.29,2,     -999.0,9, 20210412,      513,   7.6178, -52.9820,     7.8565,2,     0.0429,1,     4.6745,1,     -999.0,9,     -999.0,9,     -999.0,9,     -999.0,9
325020210316,        A20,      82,          1,         13,         13,2,20210412,       0449,     7.6178,   -52.9820,       1048,   467.8,   7.7943,  34.7457,2,  34.7455,2,    120.9,2,   119.8,2,   18.73,2,   31.45,2,    0.00,2,    2.00,2,-999.000,9,-999.000,9, -999.00,9,  2219.4,2, 2297.24,2,   1148.6,2,    20.00,   7.55306,2,    24.97, -999.00,9, -999.00,9, -999.00,-999.000,9,   44.88,2,   35.00,2,     -999.0,9, 20210412,      512,   7.6178, -52.9820,     7.7933,2,     0.0432,1,     4.6740,1,     -999.0,9,     -999.0,9,     -999.0,9,     -999.0,9
325020210316,        A20,      82,          1,         12,         12,2,20210412,       0449,     7.6178,   -52.9820,       1048,   493.4,   7.3701,  34.7033,2,  34.7034,2,    120.4,2,   120.5,2,   19.90,2,   32.28,2,    0.00,2,    2.06,2,-999.000,9,-999.000,9, -999.00,9,  -999.0,9, -999.00,9,   -999.0,9,  -999.00,-999.00000,9,  -999.00, -999.00,9, -999.00,9, -999.00,-999.000,9, -999.00,9, -999.00,9,     -999.0,9, 20210412,      510,   7.6178, -52.9820,     7.3684,2,     0.0435,1,     4.6704,1,     -999.0,9,     -999.0,9,     -999.0,9,     -999.0,9
325020210316,        A20,      82,          1,         11,         11,2,20210412,       0449,     7.6178,   -52.9820,       1048,   518.9,   6.8514,  34.6264,2,  34.6280,2,    130.4,2,   130.1,2,   21.17,2,   32.39,2,    0.00,2,    2.09,2,   1.232,2,   0.672,2,    0.35,2,  2219.9,2, -999.00,9,   -999.0,9,  -999.00,   7.54599,2,    24.96, -999.00,9, -999.00,9, -999.00,-999.000,9,   46.24,2,   34.88,2,      25.22,2, 20210412,      509,   7.6178, -52.9820,     6.8358,2,     0.0422,1,     4.6731,1,     -999.0,9,     -999.0,9,     -999.0,9,     -999.0,9
325020210316,        A20,      82,          1,         10,         10,2,20210412,       0449,     7.6178,   -52.9820,       1048,   544.5,   6.8265,  34.6452,2,  34.6368,2,    123.7,2,   124.4,2,   21.65,2,   33.07,2,    0.00,2,    2.14,2,-999.000,9,-999.000,9, -999.00,9,  -999.0,9, -999.00,9,   -999.0,9,  -999.00,-999.00000,9,  -999.00, -999.00,9, -999.00,9, -999.00,-999.000,9, -999.00,9, -999.00,9,     -999.0,9, 20210412,      507,   7.6178, -52.9820,     6.8274,2,     0.0428,1,     4.6763,1,     -999.0,9,     -999.0,9,     -999.0,9,     -999.0,9
325020210316,        A20,      82,          1,          9,          9,2,20210412,       0449,     7.6178,   -52.9820,       1048,   579.7,   6.4680,  34.6161,2,  34.6152,2,    126.5,2,   126.7,2,   23.02,2,   33.57,2,    0.00,2,    2.19,2,-999.000,9,-999.000,9, -999.00,9,  -999.0,9, -999.00,9,   -999.0,9,  -999.00,-999.00000,9,  -999.00, -999.00,9, -999.00,9, -999.00,-999.000,9,   43.09,2,   36.28,2,     -999.0,9, 20210412,      506,   7.6178, -52.9820,     6.4669,2,     0.0434,1,     4.6774,1,     -999.0,9,     -999.0,9,     -999.0,9,     -999.0,9
325020210316,        A20,      82,          1,          8,          8,2,20210412,       0449,     7.6178,   -52.9820,       1048,   610.8,   6.1681,  34.5962,2,  34.5959,2,    124.0,2,   124.8,2,   24.39,2,   34.41,2,    0.00,2,    2.24,2,   0.679,2,   0.373,2,    0.10,2,  2227.3,2, 2296.86,2,   1230.4,2,    20.00,   7.52294,2,    25.00, -999.00,9, -999.00,9, -999.00,-999.000,9,   40.84,2,   35.43,2,      25.44,2, 20210412,      504,   7.6178, -52.9820,     6.1665,2,     0.0429,1,     4.6796,1,     -999.0,9,     -999.0,9,     -999.0,9,     -999.0,9
325020210316,        A20,      82,          1,          7,          7,2,20210412,       0449,     7.6178,   -52.9820,       1048,   646.2,   5.8788,  34.5868,2,  34.5904,2,    131.4,2,   130.6,2,   25.56,2,   34.18,2,    0.00,2,    2.23,2,-999.000,9,-999.000,9, -999.00,9,  -999.0,9, -999.00,9,   -999.0,9,  -999.00,-999.00000,9,  -999.00, -999.00,9, -999.00,9, -999.00,-999.000,9, -999.00,9, -999.00,9,     -999.0,9, 20210412,      501,   7.6178, -52.9819,     5.8774,2,     0.0427,1,     4.6758,1,     -999.0,9,     -999.0,9,     -999.0,9,     -999.0,9
325020210316,        A20,      82,          1,          6,          6,2,20210412,       0449,     7.6178,   -52.9820,       1048,   691.4,   5.5178,  34.5581,2,  34.5567,2,    138.8,2,   139.2,2,   27.02,2,   34.05,2,    0.00,2,    2.23,2,-999.000,9,-999.000,9, -999.00,9,  2224.5,2, -999.00,9,   -999.0,9,  -999.00,   7.53623,2,    24.93, -999.00,9, -999.00,9, -999.00,-999.000,9,   43.01,2,   36.34,2,     -999.0,9, 20210412,      459,   7.6178, -52.9820,     5.5277,2,     0.0426,1,     4.6778,1,     -999.0,9,     -999.0,9,     -999.0,9,     -999.0,9
325020210316,        A20,      82,          1,          5,          5,2,20210412,       0449,     7.6178,   -52.9820,       1048,   791.5,   4.9685,  34.5073,2,  34.5052,2,    155.4,2,   156.3,2,   29.36,2,   33.37,2,    0.00,2,    2.22,2,   0.746,2,   0.396,2,    0.22,2,  2218.1,2, 2298.59,2,   1141.7,2,    20.00,   7.55514,2,    24.99, -999.00,9, -999.00,9, -999.00,-999.000,9,   41.18,2,   35.31,2,      23.87,2, 20210412,      456,   7.6178, -52.9820,     4.9677,2,     0.0420,1,     4.6827,1,     -999.0,9,     -999.0,9,     -999.0,9,     -999.0,9
325020210316,        A20,      82,          1,          4,          4,2,20210412,       0449,     7.6178,   -52.9820,       1048,   890.4,   4.9809,  34.5405,2,  34.5423,2,    150.2,2,   150.5,2,   29.56,2,   33.62,2,    0.00,2,    2.24,2,   0.535,2,   0.286,2,    0.15,2,  2221.8,2, -999.00,9,   -999.0,9,  -999.00,   7.54653,6,    24.98, -999.00,9, -999.00,9, -999.00,-999.000,9,   40.28,2,   35.75,2,      21.17,2, 20210412,      453,   7.6178, -52.9820,     4.9909,2,     0.0422,1,     4.6822,1,     -999.0,9,     -999.0,9,     -999.0,9,     -999.0,9
325020210316,        A20,      82,          1,          2,          2,2,20210412,       0449,     7.6178,   -52.9820,       1048,   966.1,   5.0861,  34.6294,2,  34.6288,2,    141.7,2,   141.9,2,   28.87,2,   33.69,2,    0.00,2,    2.24,2,-999.000,9,-999.000,9, -999.00,9,  -999.0,9, -999.00,9,   -999.0,9,  -999.00,-999.00000,9,  -999.00, -999.00,9, -999.00,9, -999.00,-999.000,9, -999.00,9, -999.00,9,     -999.0,9, 20210412,      451,   7.6177, -52.9820,     5.0857,2,     0.0434,1,     4.6817,1,     -999.0,9,     -999.0,9,     -999.0,9,     -999.0,9
325020210316,        A20,      82,          1,          3,          3,2,20210412,       0449,     7.6178,   -52.9820,       1048,   966.2,   5.0870,  34.6296,2,  34.6282,2,    141.7,2,   141.7,2,   28.87,2,   33.67,2,    0.00,2,    2.23,2,   0.210,2,   0.117,2,    0.15,2,  2225.2,2, 2302.71,6,   1164.3,2,    20.00,   7.54658,2,    24.98, -999.00,9, -999.00,9, -999.00,-999.000,9,   41.89,2,   35.95,2,      22.86,2, 20210412,      451,   7.6177, -52.9820,     -999.0,9,     0.0417,1,     4.6812,1,     -999.0,9,     -999.0,9,     -999.0,9,     -999.0,9
325020210316,        A20,      82,          1,          1,          1,2,20210412,       0449,     7.6178,   -52.9820,       1048,  1045.9,   5.0755,  34.7469,2,  34.7416,3,    154.8,2,   154.0,2,   26.92,2,   31.09,2,    0.00,2,    2.07,2,   0.202,2,   0.111,2,    0.07,2,  2218.7,6,  2306.8,2,   1070.1,2,    20.00,   7.58035,2,    25.01, -999.00,9, -999.00,9, -999.00,-999.000,9,   42.75,2,   33.78,2,      21.12,2, 20210412,      449,   7.6177, -52.9820,     5.0744,2,     0.0429,1,     4.6170,1,     -999.0,9,     -999.0,9,     -999.0,9,     -999.0,9