BOTTLE,20230512CCHSIOCBG
EXPOCODE,SECT_ID,STNNBR,CASTNO,SAMPNO,BTLNBR,BTLNBR_FLAG_W,DATE,TIME,LATITUDE,LONGITUDE,DEPTH,CTDPRS,CTDTMP,CTDSAL,CTDSAL_FLAG_W,SALNTY,SALNTY_FLAG_W,CTDOXY,CTDOXY_FLAG_W,OXYGEN,OXYGEN_FLAG_W,SILCAT,SILCAT_FLAG_W,NITRAT,NITRAT_FLAG_W,NITRIT,NITRIT_FLAG_W,PHSPHT,PHSPHT_FLAG_W,CFC-11,CFC-11_FLAG_W,CFC-12,CFC-12_FLAG_W,SF6,SF6_FLAG_W,TCARBN,TCARBN_FLAG_W,ALKALI,ALKALI_FLAG_W,FCO2,FCO2_FLAG_W,FCO2TMP,PH_TOT,PH_TOT_FLAG_W,PH_TMP,DELC13,DELC13_FLAG_W,DELC14,DELC14_FLAG_W,C14ERR,POC,POC_FLAG_W,DOC,DOC_FLAG_W,TDN,TDN_FLAG_W,N2O,N2O_FLAG_W,BTL_DATE,BTL_TIME,BTL_LAT,BTL_LON,REFTMP,REFTMP_FLAG_W,CTDFLUOR,CTDFLUOR_FLAG_W,CTDXMISS,CTDXMISS_FLAG_W,D15N_NO2+NO3,D15N_NO2+NO3_FLAG_W,D18O_NO2+NO3,D18O_NO2+NO3_FLAG_W,HPLC,HPLC_FLAG_W,MICROGELS,MICROGELS_FLAG_W
,,,,,,,,,,,METERS,DBAR,ITS-90,PSS-78,,PSS-78,,UMOL/KG,,UMOL/KG,,UMOL/KG,,UMOL/KG,,UMOL/KG,,UMOL/KG,,PMOL/KG,,PMOL/KG,,FMOL/KG,,UMOL/KG,,UMOL/KG,,UATM,,DEG C,,,DEG C,/MILLE,,/MILLE,,/MILLE,UG/KG,,UMOL/KG,,UMOL/KG,,NMOL/KG,,,,,,ITS-90,,VOLTS,,VOLTS,,/MILLE,,/MILLE,,,,1E6 GELS/L,
325020210316,        A20,      40,          1,         36,         36,2,20210331,       2002,    27.0558,   -52.3323,       5779,     4.3,  23.8206,  37.3261,2,  37.3266,2,    213.9,2,   212.0,2,    0.68,2,    0.00,2,    0.00,2,    0.00,2,   1.628,2,   1.065,2,    1.76,2,  2098.7,6, -999.00,9,   -999.0,9,  -999.00,   8.07107,2,    24.99, -999.00,9, -999.00,9, -999.00,-999.000,9, -999.00,9, -999.00,9,       6.04,2, 20210331,     2244,  27.0558, -52.3323,    23.8108,2,     0.0404,1,     4.6579,1,     -999.0,9,     -999.0,9,     -999.0,9,     -999.0,9
325020210316,        A20,      40,          1,         35,         35,2,20210331,       2002,    27.0558,   -52.3323,       5779,    25.2,  23.5613,  37.3127,2,  37.3125,2,    214.0,2,   212.2,2,    0.68,2,    0.00,2,    0.00,2,    0.00,2,-999.000,9,-999.000,9, -999.00,9,  -999.0,9, -999.00,9,   -999.0,9,  -999.00,-999.00000,9,  -999.00, -999.00,9, -999.00,9, -999.00,-999.000,9, -999.00,9, -999.00,9,     -999.0,9, 20210331,     2243,  27.0558, -52.3323,    23.5598,2,     0.0424,1,     4.6532,1,     -999.0,9,     -999.0,9,     -999.0,9,     -999.0,9
325020210316,        A20,      40,          1,         34,         34,2,20210331,       2002,    27.0558,   -52.3323,       5779,    49.6,  23.4782,  37.2945,2,  37.2946,2,    214.1,2,   212.6,2,    0.68,2,    0.00,2,    0.00,2,    0.00,2,   1.641,2,   1.066,2,    1.81,2,  2097.6,2, 2438.51,2,   -999.0,9,  -999.00,   8.07204,2,    25.00, -999.00,9, -999.00,9, -999.00,-999.000,9, -999.00,9, -999.00,9,       6.44,2, 20210331,     2241,  27.0558, -52.3322,    23.4823,2,     0.0427,1,     4.6518,1,     -999.0,9,     -999.0,9,     -999.0,9,     -999.0,9
325020210316,        A20,      40,          1,         33,         33,2,20210331,       2002,    27.0558,   -52.3323,       5779,   111.1,  22.2215,  37.0042,2,  36.9981,2,    214.6,2,   213.0,2,    0.68,2,    0.00,2,    0.00,2,    0.00,2,-999.000,9,-999.000,9, -999.00,9,  -999.0,9, -999.00,9,   -999.0,9,  -999.00,-999.00000,9,  -999.00, -999.00,9, -999.00,9, -999.00,-999.000,9, -999.00,9, -999.00,9,     -999.0,9, 20210331,     2238,  27.0558, -52.3322,    22.2192,2,     0.0560,1,     4.6547,1,     -999.0,9,     -999.0,9,     -999.0,9,     -999.0,9
325020210316,        A20,      40,          1,         32,         32,2,20210331,       2002,    27.0558,   -52.3323,       5779,   168.1,  19.7720,  36.7049,2,  36.7058,2,    196.3,2,   197.3,2,    0.78,2,    0.89,2,    0.03,2,    0.00,2,   1.937,2,   1.248,2,    1.88,2,  2120.1,2, 2399.55,2,   -999.0,9,  -999.00,   7.98091,2,    25.00, -999.00,9, -999.00,9, -999.00,-999.000,9, -999.00,9, -999.00,9,       7.46,2, 20210331,     2234,  27.0558, -52.3323,    19.7705,2,     0.0689,1,     4.6684,1,     -999.0,9,     -999.0,9,     -999.0,9,     -999.0,9
325020210316,        A20,      40,          1,         30,         30,2,20210331,       2002,    27.0558,   -52.3323,       5779,   216.3,  18.9257,  36.6249,2,  36.6237,2,    202.2,2,   202.4,2,    0.98,2,    2.87,2,    0.00,2,    0.08,2,   1.935,2,   1.264,2,    1.83,2,  2119.8,2, -999.00,9,   -999.0,9,  -999.00,    7.9768,2,    25.00, -999.00,9, -999.00,9, -999.00,-999.000,9, -999.00,9, -999.00,9,       7.43,2, 20210331,     2232,  27.0558, -52.3322,    18.9238,2,     0.0391,1,     4.6896,1,     -999.0,9,     -999.0,9,     -999.0,9,     -999.0,9
325020210316,        A20,      40,          1,         31,         31,2,20210331,       2002,    27.0558,   -52.3323,       5779,   216.8,  18.9250,  36.6250,2,-999.0000,9,    202.2,2,   202.2,2,    0.98,2,    2.87,2,    0.00,2,    0.08,2,-999.000,9,-999.000,9, -999.00,9,  -999.0,9, -999.00,9,   -999.0,9,  -999.00,-999.00000,9,  -999.00, -999.00,9, -999.00,9, -999.00,-999.000,9, -999.00,9, -999.00,9,     -999.0,9, 20210331,     2232,  27.0558, -52.3322,    18.9246,2,     0.0409,1,     4.6897,1,     -999.0,9,     -999.0,9,     -999.0,9,     -999.0,9
325020210316,        A20,      40,          1,         29,         29,2,20210331,       2002,    27.0558,   -52.3323,       5779,   267.3,  18.6161,  36.5888,2,  36.5856,2,    201.2,2,   201.0,2,    1.07,2,    3.59,2,    0.00,2,    0.12,2,-999.000,9,-999.000,9, -999.00,9,  2123.6,2, -999.00,9,   -999.0,9,  -999.00,   7.96881,2,    25.00, -999.00,9, -999.00,9, -999.00,-999.000,9, -999.00,9, -999.00,9,     -999.0,9, 20210331,     2229,  27.0558, -52.3323,    18.6149,2,     0.0391,1,     4.6928,1,     -999.0,9,     -999.0,9,     -999.0,9,     -999.0,9
325020210316,        A20,      40,          1,         28,         28,2,20210331,       2002,    27.0558,   -52.3323,       5779,   316.6,  18.1239,  36.5147,2,  36.5135,2,    195.7,2,   196.4,2,    1.56,2,    4.68,2,    0.00,2,    0.19,2,   2.077,2,   1.334,2,    1.76,2,  2129.8,2, 2388.34,2,   -999.0,9,  -999.00,   7.94904,2,    25.01, -999.00,9, -999.00,9, -999.00,-999.000,9, -999.00,9, -999.00,9,       8.38,2, 20210331,     2228,  27.0558, -52.3323,    18.1205,2,     0.0394,1,     4.6935,1,     -999.0,9,     -999.0,9,     -999.0,9,     -999.0,9
325020210316,        A20,      40,          1,         27,         27,2,20210331,       2002,    27.0558,   -52.3323,       5779,   367.9,  17.5206,  36.4134,2,  36.4069,2,    188.6,3,   190.7,2,    2.05,2,    6.19,2,    0.00,2,    0.27,2,-999.000,9,-999.000,9, -999.00,9,  2136.2,2, -999.00,9,   -999.0,9,  -999.00,   7.92723,2,    24.98, -999.00,9, -999.00,9, -999.00,-999.000,9, -999.00,9, -999.00,9,     -999.0,9, 20210331,     2225,  27.0558, -52.3323,    17.5233,2,     0.0395,1,     4.6946,1,     -999.0,9,     -999.0,9,     -999.0,9,     -999.0,9
325020210316,        A20,      40,          1,         26,         26,2,20210331,       2002,    27.0558,   -52.3323,       5779,   439.2,  16.3109,  36.2131,2,  36.2077,2,    188.7,2,   189.8,2,    2.73,2,    8.07,2,    0.00,2,    0.40,2,   2.182,2,   1.387,2,    1.59,2,  2143.4,2, 2372.48,2,   -999.0,9,  -999.00,   7.89555,2,    25.00, -999.00,9, -999.00,9, -999.00,-999.000,9, -999.00,9, -999.00,9,      10.05,2, 20210331,     2223,  27.0558, -52.3323,    16.3227,2,     0.0408,1,     4.6960,1,     -999.0,9,     -999.0,9,     -999.0,9,     -999.0,9
325020210316,        A20,      40,          1,         25,         25,2,20210331,       2002,    27.0558,   -52.3323,       5779,   538.8,  14.3863,  35.9136,2,  35.9107,2,    176.6,2,   177.9,2,    4.49,2,   12.13,2,    0.00,2,    0.65,2,-999.000,9,-999.000,9, -999.00,9,  -999.0,9, -999.00,9,   -999.0,9,  -999.00,-999.00000,9,  -999.00, -999.00,9, -999.00,9, -999.00,-999.000,9, -999.00,9, -999.00,9,     -999.0,9, 20210331,     2220,  27.0558, -52.3323,    14.3857,2,     0.0402,1,     4.6971,1,     -999.0,9,     -999.0,9,     -999.0,9,     -999.0,9
325020210316,        A20,      40,          1,         24,         24,2,20210331,       2002,    27.0558,   -52.3323,       5779,   638.3,  12.6083,  35.6695,2,  35.6621,2,    169.2,2,   169.7,2,    6.74,2,   15.93,2,    0.00,2,    0.91,2,   2.108,2,   1.259,2,    1.08,2,  2170.6,2, -999.00,9,   -999.0,9,  -999.00,   7.78212,2,    25.00, -999.00,9, -999.00,9, -999.00,-999.000,9, -999.00,9, -999.00,9,      14.66,2, 20210331,     2217,  27.0558, -52.3323,    12.6071,2,     0.0416,1,     4.6996,1,     -999.0,9,     -999.0,9,     -999.0,9,     -999.0,9
325020210316,        A20,      40,          1,         23,         23,2,20210331,       2002,    27.0558,   -52.3323,       5779,   740.4,  10.5368,  35.4168,2,  35.4156,2,    156.7,2,   156.4,2,   10.55,2,   20.65,2,    0.00,2,    1.21,2,   1.601,2,   0.917,2,    0.73,2,  2183.3,6, 2332.15,6,   -999.0,9,  -999.00,   7.72261,2,    25.01, -999.00,9, -999.00,9, -999.00,-999.000,9, -999.00,9, -999.00,9,      16.99,2, 20210331,     2214,  27.0558, -52.3323,    10.5497,2,     0.0414,1,     4.7019,1,     -999.0,9,     -999.0,9,     -999.0,9,     -999.0,9
325020210316,        A20,      40,          1,         22,         22,2,20210331,       2002,    27.0558,   -52.3323,       5779,   841.8,   9.1121,  35.2972,2,  35.2964,2,    159.2,2,   159.2,2,   12.99,2,   22.51,2,    0.00,2,    1.34,2,   1.310,2,   0.712,2,    0.50,2,  2191.4,2, -999.00,9,   -999.0,9,  -999.00,   7.69634,6,    25.01, -999.00,9, -999.00,9, -999.00,-999.000,9, -999.00,9, -999.00,9,      17.80,2, 20210331,     2209,  27.0559, -52.3323,     9.1225,2,     0.0421,1,     4.7023,1,     -999.0,9,     -999.0,9,     -999.0,9,     -999.0,9
325020210316,        A20,      40,          1,         21,         21,2,20210331,       2002,    27.0558,   -52.3323,       5779,   944.1,   7.5489,  35.1486,2,  35.1482,2,    167.6,2,   166.6,2,   15.53,2,   23.91,2,    0.00,2,    1.47,2,   1.008,2,   0.525,2,    0.35,2,  2195.3,2, 2321.01,2,   -999.0,9,  -999.00,   7.67536,2,    24.99, -999.00,9, -999.00,9, -999.00,-999.000,9, -999.00,9, -999.00,9,      18.13,2, 20210331,     2207,  27.0559, -52.3323,     7.5493,2,     0.0418,1,     4.7033,1,     -999.0,9,     -999.0,9,     -999.0,9,     -999.0,9
325020210316,        A20,      40,          1,         20,         20,2,20210331,       2002,    27.0558,   -52.3323,       5779,  1043.4,   6.7133,  35.1264,2,  35.1258,2,    185.0,2,   185.0,2,   15.53,2,   22.75,2,    0.00,2,    1.42,2,   1.044,2,   0.541,2,    0.33,2,  -999.0,9, -999.00,9,   -999.0,9,  -999.00,-999.00000,9,  -999.00, -999.00,9, -999.00,9, -999.00,-999.000,9, -999.00,9, -999.00,9,      16.86,2, 20210331,     2204,  27.0558, -52.3323,     6.7211,2,     0.0427,1,     4.7033,1,     -999.0,9,     -999.0,9,     -999.0,9,     -999.0,9
325020210316,        A20,      40,          1,         19,         19,2,20210331,       2002,    27.0558,   -52.3323,       5779,  1145.1,   6.2151,  35.1519,2,  35.1522,2,    204.6,2,   203.2,2,   14.65,2,   21.04,2,    0.00,2,    1.33,2,   1.189,2,   0.629,2,    0.42,2,  2186.3,2, -999.00,9,   -999.0,9,  -999.00,   7.70312,6,    24.98, -999.00,9, -999.00,9, -999.00,-999.000,9, -999.00,9, -999.00,9,      15.58,2, 20210331,     2201,  27.0559, -52.3323,     6.2208,2,     0.0435,1,     4.7042,1,     -999.0,9,     -999.0,9,     -999.0,9,     -999.0,9
325020210316,        A20,      40,          1,         18,         18,2,20210331,       2002,    27.0558,   -52.3323,       5779,  1245.6,   5.6288,  35.1148,2,  35.1146,2,    216.9,2,   216.7,2,   14.65,2,   20.25,2,    0.00,2,    1.30,2,   1.205,2,   0.629,2,    0.37,2,  2181.0,2, -999.00,9,   -999.0,9,  -999.00,   7.71176,2,    24.97, -999.00,9, -999.00,9, -999.00,-999.000,9, -999.00,9, -999.00,9,      14.46,2, 20210331,     2157,  27.0559, -52.3323,     5.6283,2,     0.0418,1,     4.7046,1,     -999.0,9,     -999.0,9,     -999.0,9,     -999.0,9
325020210316,        A20,      40,          1,         17,         17,2,20210331,       2002,    27.0558,   -52.3323,       5779,  1347.4,   5.3538,  35.1190,2,  35.1185,2,    226.5,2,   226.0,2,   14.46,2,   19.55,2,    0.00,2,    1.26,2,-999.000,9,-999.000,9, -999.00,9,  -999.0,9, -999.00,9,   -999.0,9,  -999.00,-999.00000,9,  -999.00, -999.00,9, -999.00,9, -999.00,-999.000,9, -999.00,9, -999.00,9,     -999.0,9, 20210331,     2154,  27.0559, -52.3323,     5.3541,2,     0.0419,1,     4.7047,1,     -999.0,9,     -999.0,9,     -999.0,9,     -999.0,9
325020210316,        A20,      40,          1,         16,         16,2,20210331,       2002,    27.0558,   -52.3323,       5779,  1480.0,   5.0223,  35.1150,2,  35.1148,2,    233.3,2,   232.9,2,   14.95,2,   19.23,2,    0.00,2,    1.23,2,   1.162,2,   0.592,2,    0.30,2,  2175.0,2, 2321.82,2,   -999.0,9,  -999.00,   7.72664,6,    25.00, -999.00,9, -999.00,9, -999.00,-999.000,9, -999.00,9, -999.00,9,      13.73,2, 20210331,     2150,  27.0559, -52.3323,     5.0219,2,     0.0418,1,     4.7053,1,     -999.0,9,     -999.0,9,     -999.0,9,     -999.0,9
325020210316,        A20,      40,          1,         15,         15,2,20210331,       2002,    27.0558,   -52.3323,       5779,  1683.5,   4.5019,  35.0877,2,  35.0878,2,    241.5,2,   241.2,2,   16.61,2,   19.01,2,    0.00,2,    1.21,2,-999.000,9,-999.000,9, -999.00,9,  -999.0,9, -999.00,9,   -999.0,9,  -999.00,-999.00000,9,  -999.00, -999.00,9, -999.00,9, -999.00,-999.000,9, -999.00,9, -999.00,9,     -999.0,9, 20210331,     2146,  27.0559, -52.3323,     4.5018,2,     0.0420,1,     4.7056,1,     -999.0,9,     -999.0,9,     -999.0,9,     -999.0,9
325020210316,        A20,      40,          1,         14,         14,2,20210331,       2002,    27.0558,   -52.3323,       5779,  1886.9,   3.9930,  35.0415,2,  35.0411,2,    246.7,2,   246.7,2,   19.15,2,   19.12,2,    0.00,2,    1.21,2,   0.891,2,   0.438,2,    0.22,2,  2174.1,2, -999.00,9,   -999.0,9,  -999.00,    7.7331,2,    24.97, -999.00,9, -999.00,9, -999.00,-999.000,9, -999.00,9, -999.00,9,      12.99,2, 20210331,     2140,  27.0559, -52.3323,     3.9923,2,     0.0423,1,     4.7054,1,     -999.0,9,     -999.0,9,     -999.0,9,     -999.0,9
325020210316,        A20,      40,          1,         13,         13,2,20210331,       2002,    27.0558,   -52.3323,       5779,  2108.8,   3.5603,  35.0030,2,  35.0031,2,    249.2,2,   248.9,2,   22.57,2,   19.39,2,    0.00,2,    1.23,2,-999.000,9,-999.000,9, -999.00,9,  -999.0,9, -999.00,9,   -999.0,9,  -999.00,-999.00000,9,  -999.00, -999.00,9, -999.00,9, -999.00,-999.000,9, -999.00,9, -999.00,9,     -999.0,9, 20210331,     2135,  27.0558, -52.3323,     3.5617,2,     0.0420,1,     4.7048,1,     -999.0,9,     -999.0,9,     -999.0,9,     -999.0,9
325020210316,        A20,      40,          1,         12,         12,2,20210331,       2002,    27.0558,   -52.3323,       5779,  2363.4,   3.2104,  34.9717,2,  34.9711,2,    250.2,2,   250.2,2,   26.67,2,   19.66,2,    0.00,2,    1.27,2,   0.507,2,   0.244,2,    0.14,2,  2178.4,2, 2327.66,2,   -999.0,9,  -999.00,   7.73632,2,    24.99, -999.00,9, -999.00,9, -999.00,-999.000,9, -999.00,9, -999.00,9,      12.69,2, 20210331,     2129,  27.0559, -52.3323,     3.2095,2,     0.0425,1,     4.7046,1,     -999.0,9,     -999.0,9,     -999.0,9,     -999.0,9
325020210316,        A20,      40,          1,         11,         11,2,20210331,       2002,    27.0558,   -52.3323,       5779,  2617.1,   3.0336,  34.9561,2,  34.9555,2,    250.0,2,   250.1,2,   29.60,2,   19.88,2,    0.00,2,    1.30,2,-999.000,9,-999.000,9, -999.00,9,  -999.0,9, -999.00,9,   -999.0,9,  -999.00,-999.00000,9,  -999.00, -999.00,9, -999.00,9, -999.00,-999.000,9, -999.00,9, -999.00,9,     -999.0,9, 20210331,     2123,  27.0559, -52.3323,     3.0332,2,     0.0430,1,     4.7045,1,     -999.0,9,     -999.0,9,     -999.0,9,     -999.0,9
325020210316,        A20,      40,          1,         10,         10,2,20210331,       2002,    27.0558,   -52.3323,       5779,  2874.2,   2.8765,  34.9424,2,  34.9412,2,    250.0,2,   250.4,2,   32.24,2,   20.13,2,    0.00,2,    1.33,2,   0.248,2,   0.119,2,    0.05,2,  2181.4,2, -999.00,9,   -999.0,9,  -999.00,   7.73572,2,    25.01, -999.00,9, -999.00,9, -999.00,-999.000,9, -999.00,9, -999.00,9,      12.72,2, 20210331,     2116,  27.0559, -52.3323,     2.8771,2,     0.0428,1,     4.7041,1,     -999.0,9,     -999.0,9,     -999.0,9,     -999.0,9
325020210316,        A20,      40,          1,          9,          9,2,20210331,       2002,    27.0558,   -52.3323,       5779,  3143.7,   2.7328,  34.9299,2,  34.9290,2,    251.1,2,   251.3,2,   34.49,2,   20.35,2,    0.00,2,    1.35,2,   0.149,2,   0.074,2,    0.05,2,  2182.3,2, -999.00,9,   -999.0,9,  -999.00,   7.73659,2,    25.00, -999.00,9, -999.00,9, -999.00,-999.000,9, -999.00,9, -999.00,9,      12.92,2, 20210331,     2111,  27.0559, -52.3323,     2.7324,2,     0.0422,1,     4.7045,1,     -999.0,9,     -999.0,9,     -999.0,9,     -999.0,9
325020210316,        A20,      40,          1,          8,          8,2,20210331,       2002,    27.0558,   -52.3323,       5779,  3449.3,   2.5452,  34.9155,2,  34.9146,2,    255.6,2,   256.0,2,   34.58,2,   20.17,2,    0.00,2,    1.34,2,   0.097,2,   0.050,2,    0.08,2,  -999.0,9, -999.00,9,   -999.0,9,  -999.00,-999.00000,9,  -999.00, -999.00,9, -999.00,9, -999.00,-999.000,9, -999.00,9, -999.00,9,      12.52,2, 20210331,     2104,  27.0559, -52.3323,     2.5451,2,     0.0429,1,     4.7045,1,     -999.0,9,     -999.0,9,     -999.0,9,     -999.0,9
325020210316,        A20,      40,          1,          7,          7,2,20210331,       2002,    27.0558,   -52.3323,       5779,  3792.9,   2.3497,  34.8980,2,  34.8971,2,    257.6,2,   258.1,2,   36.83,2,   20.32,2,    0.00,2,    1.34,2,   0.153,2,   0.075,2,    0.05,2,  2180.3,2, -999.00,9,   -999.0,9,  -999.00,   7.73718,2,    25.00, -999.00,9, -999.00,9, -999.00,-999.000,9, -999.00,9, -999.00,9,      12.82,2, 20210331,     2055,  27.0559, -52.3323,     2.3493,2,     0.0429,1,     4.7038,1,     -999.0,9,     -999.0,9,     -999.0,9,     -999.0,9
325020210316,        A20,      40,          1,          6,          6,2,20210331,       2002,    27.0558,   -52.3323,       5779,  4202.9,   2.1921,  34.8789,2,  34.8774,2,    254.8,2,   254.8,2,   43.77,2,   21.27,2,    0.00,2,    1.41,2,   0.118,6,   0.063,6,    0.03,6,  2188.8,2, 2330.44,2,   -999.0,9,  -999.00,   7.72922,2,    25.01, -999.00,9, -999.00,9, -999.00,-999.000,9, -999.00,9, -999.00,9,      12.96,6, 20210331,     2047,  27.0559, -52.3323,     2.1933,2,     0.0429,1,     4.7044,1,     -999.0,9,     -999.0,9,     -999.0,9,     -999.0,9
325020210316,        A20,      40,          1,          5,          5,2,20210331,       2002,    27.0558,   -52.3323,       5779,  4615.7,   2.1284,  34.8671,2,  34.8654,2,    252.5,2,   252.4,2,   48.56,2,   21.82,2,    0.00,2,    1.47,2,-999.000,9,-999.000,9, -999.00,9,  -999.0,9, -999.00,9,   -999.0,9,  -999.00,-999.00000,9,  -999.00, -999.00,9, -999.00,9, -999.00,-999.000,9, -999.00,9, -999.00,9,     -999.0,9, 20210331,     2039,  27.0559, -52.3323,     2.1285,2,     0.0429,1,     4.7034,1,     -999.0,9,     -999.0,9,     -999.0,9,     -999.0,9
325020210316,        A20,      40,          1,          4,          4,2,20210331,       2002,    27.0558,   -52.3323,       5779,  5023.6,   2.1245,  34.8611,2,  34.8595,2,    251.4,2,   251.2,2,   51.00,2,   22.03,2,    0.00,2,    1.49,2,   0.114,2,   0.067,2,    0.07,2,  2195.8,2, -999.00,9,   -999.0,9,  -999.00,   7.72086,2,    24.97, -999.00,9, -999.00,9, -999.00,-999.000,9, -999.00,9, -999.00,9,      13.12,2, 20210331,     2031,  27.0558, -52.3323,     2.1245,2,     0.0429,1,     4.7021,1,     -999.0,9,     -999.0,9,     -999.0,9,     -999.0,9
325020210316,        A20,      40,          1,          3,          3,2,20210331,       2002,    27.0558,   -52.3323,       5779,  5436.6,   2.1466,  34.8574,2,  34.8560,2,    250.7,2,   250.5,2,   51.98,2,   22.17,2,    0.00,2,    1.50,2,-999.000,9,-999.000,9, -999.00,9,  -999.0,9, -999.00,9,   -999.0,9,  -999.00,-999.00000,9,  -999.00, -999.00,9, -999.00,9, -999.00,-999.000,9, -999.00,9, -999.00,9,     -999.0,9, 20210331,     2020,  27.0559, -52.3323,     2.1471,2,     0.0424,1,     4.7018,1,     -999.0,9,     -999.0,9,     -999.0,9,     -999.0,9