BOTTLE,20230512CCHSIOCBG
EXPOCODE,SECT_ID,STNNBR,CASTNO,SAMPNO,BTLNBR,BTLNBR_FLAG_W,DATE,TIME,LATITUDE,LONGITUDE,DEPTH,CTDPRS,CTDTMP,CTDSAL,CTDSAL_FLAG_W,SALNTY,SALNTY_FLAG_W,CTDOXY,CTDOXY_FLAG_W,OXYGEN,OXYGEN_FLAG_W,SILCAT,SILCAT_FLAG_W,NITRAT,NITRAT_FLAG_W,NITRIT,NITRIT_FLAG_W,PHSPHT,PHSPHT_FLAG_W,CFC-11,CFC-11_FLAG_W,CFC-12,CFC-12_FLAG_W,SF6,SF6_FLAG_W,TCARBN,TCARBN_FLAG_W,ALKALI,ALKALI_FLAG_W,FCO2,FCO2_FLAG_W,FCO2TMP,PH_TOT,PH_TOT_FLAG_W,PH_TMP,DELC13,DELC13_FLAG_W,DELC14,DELC14_FLAG_W,C14ERR,POC,POC_FLAG_W,DOC,DOC_FLAG_W,TDN,TDN_FLAG_W,N2O,N2O_FLAG_W,BTL_DATE,BTL_TIME,BTL_LAT,BTL_LON,REFTMP,REFTMP_FLAG_W,CTDFLUOR,CTDFLUOR_FLAG_W,CTDXMISS,CTDXMISS_FLAG_W,D15N_NO2+NO3,D15N_NO2+NO3_FLAG_W,D18O_NO2+NO3,D18O_NO2+NO3_FLAG_W,HPLC,HPLC_FLAG_W,MICROGELS,MICROGELS_FLAG_W
,,,,,,,,,,,METERS,DBAR,ITS-90,PSS-78,,PSS-78,,UMOL/KG,,UMOL/KG,,UMOL/KG,,UMOL/KG,,UMOL/KG,,UMOL/KG,,PMOL/KG,,PMOL/KG,,FMOL/KG,,UMOL/KG,,UMOL/KG,,UATM,,DEG C,,,DEG C,/MILLE,,/MILLE,,/MILLE,UG/KG,,UMOL/KG,,UMOL/KG,,NMOL/KG,,,,,,ITS-90,,VOLTS,,VOLTS,,/MILLE,,/MILLE,,,,1E6 GELS/L,
325020210316,        A20,      19,          1,         36,         36,2,20210325,       0425,    39.5728,   -52.3333,       5299,     4.8,  15.1890,  35.8043,2,  35.8086,2,    240.1,2,   239.5,2,    2.83,2,    5.38,2,    0.17,2,    0.33,2,   2.394,2,   1.481,2,    1.99,3,  2115.8,6, 2356.22,2,    462.4,2,    20.00,   7.91806,2,    25.01, -999.00,9, -999.00,9, -999.00,-999.000,9,   56.43,2,   10.59,2,       9.68,2, 20210325,      653,  39.5728, -52.3333,    15.1867,2,     0.1215,1,     4.5643,1,     -999.0,1,     -999.0,1,     -999.0,9,     -999.0,9
325020210316,        A20,      19,          1,         35,         35,2,20210325,       0425,    39.5728,   -52.3333,       5299,    20.2,  15.0361,  35.7814,2,  35.7942,2,    240.6,2,   238.4,2,    2.73,2,    5.58,2,    0.17,2,    0.33,2,-999.000,9,-999.000,9, -999.00,9,  2118.4,2, -999.00,9,   -999.0,9,  -999.00,    7.9145,6,    25.00, -999.00,9, -999.00,9, -999.00,-999.000,9,   54.50,2,    8.78,2,     -999.0,9, 20210325,      651,  39.5728, -52.3333,    14.9981,2,     0.0990,1,     4.5983,1,     -999.0,1,     -999.0,1,     -999.0,9,     -999.0,9
325020210316,        A20,      19,          1,         34,         34,2,20210325,       0425,    39.5728,   -52.3333,       5299,    40.3,  14.5449,  35.7533,2,  35.7568,2,    241.9,3,   235.2,2,    3.03,2,    6.29,2,    0.19,2,    0.37,2,-999.000,9,-999.000,9, -999.00,9,  -999.0,9, -999.00,9,   -999.0,9,  -999.00,-999.00000,9,  -999.00, -999.00,9, -999.00,9, -999.00,-999.000,9, -999.00,1, -999.00,1,     -999.0,9, 20210325,      649,  39.5728, -52.3333,    14.5478,2,     0.0900,1,     4.6371,1,     -999.0,1,     -999.0,1,     -999.0,9,     -999.0,9
325020210316,        A20,      19,          1,         33,         33,2,20210325,       0425,    39.5728,   -52.3333,       5299,    66.1,  14.1908,  35.7174,2,  35.7205,2,    234.4,3,   237.0,2,    3.22,2,    6.54,2,    0.20,2,    0.38,2,   2.382,2,   1.486,2,    1.79,3,  2125.2,2, 2349.59,2,    490.3,2,    20.00,   7.89533,2,    25.01, -999.00,9, -999.00,9, -999.00,-999.000,9,   57.70,2,    9.73,2,      10.04,2, 20210325,      647,  39.5728, -52.3333,    14.1888,2,     0.0613,1,     4.6732,1,     -999.0,1,     -999.0,1,     -999.0,9,     -999.0,9
325020210316,        A20,      19,          1,         32,         32,2,20210325,       0425,    39.5728,   -52.3333,       5299,    90.1,  14.1663,  35.7147,2,  35.7187,2,    234.7,2,   236.5,2,    3.12,2,    6.61,2,    0.19,2,    0.38,2,-999.000,9,-999.000,9, -999.00,9,  2125.5,2, -999.00,9,   -999.0,9,  -999.00,   7.89511,2,    25.01, -999.00,9, -999.00,9, -999.00,-999.000,9,   57.15,2,    9.27,2,     -999.0,9, 20210325,      645,  39.5728, -52.3333,    14.1673,2,     0.0616,1,     4.6766,1,     -999.0,1,     -999.0,1,     -999.0,9,     -999.0,9
325020210316,        A20,      19,          1,         31,         31,2,20210325,       0425,    39.5728,   -52.3333,       5299,   136.4,  14.0815,  35.6950,2,  35.6980,2,    232.2,3,   235.1,2,    3.32,2,    6.83,2,    0.18,2,    0.39,2,   2.158,2,   1.520,2,    2.68,3,  2125.3,2, -999.00,9,   -999.0,9,  -999.00,   7.89061,2,    25.00, -999.00,9, -999.00,9, -999.00,-999.000,9,   56.86,2,    9.71,2,      10.38,2, 20210325,      643,  39.5728, -52.3333,    14.0813,2,     0.0547,1,     4.6824,1,     -999.0,1,     -999.0,1,     -999.0,9,     -999.0,9
325020210316,        A20,      19,          1,         30,         30,2,20210325,       0425,    39.5728,   -52.3333,       5299,   187.1,  13.5940,  35.6057,2,  35.6101,2,    214.9,3,   230.9,2,    3.61,2,    7.69,2,    0.13,2,    0.46,2,-999.000,9,-999.000,9, -999.00,9,  2130.7,2, 2343.72,2,    518.4,2,    20.00,   7.87449,2,    25.00, -999.00,9, -999.00,9, -999.00,-999.000,9,   55.98,2,   10.89,2,     -999.0,9, 20210325,      640,  39.5728, -52.3333,    13.5918,2,     0.0496,1,     4.6867,1,     -999.0,1,     -999.0,1,     -999.0,9,     -999.0,9
325020210316,        A20,      19,          1,         29,         29,2,20210325,       0425,    39.5728,   -52.3333,       5299,   237.1,  13.0981,  35.5240,2,  35.5271,2,    228.4,3,   236.4,2,    3.71,2,    7.72,2,    0.19,2,    0.47,2,-999.000,9,-999.000,9, -999.00,9,  2130.2,2, -999.00,9,   -999.0,9,  -999.00,   7.86748,2,    25.01, -999.00,9, -999.00,9, -999.00,-999.000,9,   58.01,2,   10.86,2,     -999.0,9, 20210325,      638,  39.5728, -52.3333,    13.0985,2,     0.0513,1,     4.6851,1,     -999.0,1,     -999.0,1,     -999.0,9,     -999.0,9
325020210316,        A20,      19,          1,         28,         28,2,20210325,       0425,    39.5728,   -52.3333,       5299,   287.1,  13.1351,  35.6602,2,  35.6630,2,    162.7,3,   153.5,2,    7.81,2,   16.78,2,    0.00,2,    0.99,2,   1.946,2,   1.173,2,    0.89,3,  2177.4,2, -999.00,9,   -999.0,9,  -999.00,   7.76527,2,    25.00, -999.00,9, -999.00,9, -999.00,-999.000,9,   46.81,2,   19.13,2,      17.25,2, 20210325,      636,  39.5728, -52.3333,    13.1386,2,     0.0431,1,     4.6941,1,     -999.0,1,     -999.0,1,     -999.0,9,     -999.0,9
325020210316,        A20,      19,          1,         27,         27,2,20210325,       0425,    39.5728,   -52.3333,       5299,   337.9,  11.4513,  35.4638,2,  35.4655,2,    140.8,2,   140.4,2,   10.84,2,   21.07,2,    0.00,2,    1.27,2,   1.688,2,   0.975,2,    0.69,3,  2188.7,2, 2331.19,2,    782.5,2,    20.00,   7.77684,2,    25.01, -999.00,9, -999.00,9, -999.00,-999.000,9,   45.66,2,   22.54,2,      20.25,2, 20210325,      632,  39.5728, -52.3333,    11.4470,2,     0.0423,1,     4.7023,1,     -999.0,1,     -999.0,1,     -999.0,9,     -999.0,9
325020210316,        A20,      19,          1,         26,         26,2,20210325,       0425,    39.5728,   -52.3333,       5299,   388.7,  10.1266,  35.2988,2,  35.3007,2,    139.2,2,   139.0,2,   13.09,2,   23.18,2,    0.00,2,    1.42,2,   1.571,2,   0.893,2,    0.64,3,  2197.6,2, -999.00,9,   -999.0,9,  -999.00,   7.67517,2,    25.03, -999.00,9, -999.00,9, -999.00,-999.000,9,   46.56,2,   25.63,2,      21.03,2, 20210325,      630,  39.5728, -52.3333,    10.1264,2,     0.0425,1,     4.7009,1,     -999.0,1,     -999.0,1,     -999.0,9,     -999.0,9
325020210316,        A20,      19,          1,         25,         25,2,20210325,       0425,    39.5728,   -52.3333,       5299,   469.7,   8.6838,  35.1834,2,  35.1847,2,    150.2,2,   150.6,2,   14.46,2,   23.96,2,    0.00,2,    1.47,2,-999.000,9,-999.000,9, -999.00,9,  2198.1,2, -999.00,9,    887.8,2,    20.00,     7.661,2,    25.00, -999.00,9, -999.00,9, -999.00,-999.000,9,   49.13,2,   26.36,2,     -999.0,9, 20210325,      627,  39.5728, -52.3333,     8.6826,2,     0.0412,1,     4.7013,1,     -999.0,1,     -999.0,1,     -999.0,9,     -999.0,9
325020210316,        A20,      19,          1,         24,         24,2,20210325,       0425,    39.5728,   -52.3333,       5299,   569.1,   6.9477,  35.1147,2,  35.1150,2,    184.5,3,   186.6,2,   13.87,2,   21.99,2,    0.00,2,    1.37,2,   1.746,2,   0.951,2,    0.38,3,  -999.0,9, -999.00,9,   -999.0,9,  -999.00,-999.00000,9,  -999.00, -999.00,9, -999.00,9, -999.00,-999.000,9,   46.40,2,   24.09,2,      17.51,2, 20210325,      624,  39.5728, -52.3333,     6.9477,2,     0.0423,1,     4.7043,1,     -999.0,1,     -999.0,1,     -999.0,9,     -999.0,9
325020210316,        A20,      19,          1,         23,         23,2,20210325,       0425,    39.5728,   -52.3333,       5299,   670.9,   5.9864,  35.0747,2,  35.0750,2,    210.3,2,   210.5,2,   13.19,2,   20.45,2,    0.00,2,    1.27,2,   2.116,2,   1.156,2,    0.67,3,  2184.7,2, 2314.34,6,    834.8,2,    20.00,   7.68542,2,    25.02, -999.00,9, -999.00,9, -999.00,-999.000,9,   46.93,2,   23.02,2,      16.41,2, 20210325,      621,  39.5728, -52.3333,     5.9845,2,     0.0429,1,     4.7049,1,     -999.0,1,     -999.0,1,     -999.0,9,     -999.0,9
325020210316,        A20,      19,          1,         22,         22,2,20210325,       0425,    39.5728,   -52.3333,       5299,   773.2,   5.4913,  35.0538,2,  35.0541,2,    224.5,2,   224.3,2,   12.70,2,   19.63,2,    0.00,2,    1.23,2,   2.326,2,   1.264,2,    0.67,3,  -999.0,9, -999.00,9,   -999.0,9,  -999.00,-999.00000,9,  -999.00, -999.00,9, -999.00,9, -999.00,-999.000,9, -999.00,9, -999.00,9,      15.49,2, 20210325,      616,  39.5728, -52.3333,     5.4908,2,     0.0429,1,     4.7054,1,     -999.0,1,     -999.0,1,     -999.0,9,     -999.0,9
325020210316,        A20,      19,          1,         21,         21,2,20210325,       0425,    39.5728,   -52.3333,       5299,   873.5,   5.0657,  35.0335,2,  35.0340,2,    237.3,2,   237.5,2,   12.31,2,   18.73,2,    0.00,2,    1.18,2,   2.570,2,   1.398,2,    0.82,3,  2176.1,2, 2313.32,2,    805.9,6,    20.00,   7.69647,2,    25.03, -999.00,9, -999.00,9, -999.00,-999.000,9,   47.29,2,   19.03,2,      14.96,2, 20210325,      613,  39.5728, -52.3333,     5.0654,2,     0.0429,1,     4.7052,1,     -999.0,1,     -999.0,1,     -999.0,9,     -999.0,9
325020210316,        A20,      19,          1,         20,         20,2,20210325,       0425,    39.5728,   -52.3333,       5299,   973.8,   4.7339,  35.0113,2,  35.0120,2,    247.6,2,   246.6,2,   12.11,2,   18.20,2,    0.00,2,    1.16,2,-999.000,9,-999.000,9, -999.00,9,  -999.0,9, -999.00,9,   -999.0,9,  -999.00,-999.00000,9,  -999.00, -999.00,9, -999.00,9, -999.00,-999.000,9, -999.00,9, -999.00,9,     -999.0,9, 20210325,      610,  39.5728, -52.3333,     4.7325,2,     0.0416,1,     4.7063,1,     -999.0,1,     -999.0,1,     -999.0,9,     -999.0,9
325020210316,        A20,      19,          1,         19,         19,2,20210325,       0425,    39.5728,   -52.3333,       5299,  1075.3,   4.5681,  35.0048,2,  35.0051,2,    251.5,2,   251.4,2,   12.02,2,   17.92,2,    0.00,2,    1.15,2,-999.000,9,-999.000,9, -999.00,9,  -999.0,9, -999.00,9,   -999.0,9,  -999.00,-999.00000,9,  -999.00, -999.00,9, -999.00,9, -999.00,-999.000,9,   46.28,2,   18.23,2,     -999.0,9, 20210325,      607,  39.5728, -52.3333,     4.5672,2,     0.0425,1,     4.7071,1,     -999.0,1,     -999.0,1,     -999.0,9,     -999.0,9
325020210316,        A20,      19,          1,         18,         18,2,20210325,       0425,    39.5728,   -52.3333,       5299,  1177.6,   4.3904,  34.9925,2,  34.9925,2,    255.1,2,   255.5,2,   12.02,2,   17.76,2,    0.00,2,    1.13,2,-999.000,9,-999.000,9, -999.00,9,  -999.0,9, -999.00,9,   -999.0,9,  -999.00,-999.00000,9,  -999.00, -999.00,9, -999.00,9, -999.00,-999.000,9, -999.00,9, -999.00,9,     -999.0,9, 20210325,      604,  39.5728, -52.3333,     4.3892,2,     0.0431,1,     4.7072,1,     -999.0,1,     -999.0,1,     -999.0,9,     -999.0,9
325020210316,        A20,      19,          1,         17,         17,2,20210325,       0425,    39.5728,   -52.3333,       5299,  1278.4,   4.2659,  34.9850,2,  34.9848,2,    258.0,3,   260.9,2,   12.11,2,   17.77,2,    0.00,2,    1.13,2,-999.000,9,-999.000,9, -999.00,9,  2168.9,2,  2308.7,2,    745.9,2,    20.00,   7.70841,2,    25.03, -999.00,9, -999.00,9, -999.00,-999.000,9, -999.00,1, -999.00,1,     -999.0,9, 20210325,      601,  39.5728, -52.3333,     4.2654,2,     0.0419,1,     4.7075,1,     -999.0,1,     -999.0,1,     -999.0,9,     -999.0,9
325020210316,        A20,      19,          1,         16,         16,2,20210325,       0425,    39.5728,   -52.3333,       5299,  1379.0,   4.1138,  34.9771,2,  34.9774,2,    259.6,2,   260.3,2,   12.31,2,   17.73,2,    0.00,2,    1.13,2,   2.691,2,   1.444,2,    0.76,3,  -999.0,9, -999.00,9,   -999.0,9,  -999.00,-999.00000,9,  -999.00, -999.00,9, -999.00,9, -999.00,-999.000,9,   47.35,2,   18.70,2,      13.91,2, 20210325,      558,  39.5728, -52.3332,     4.1141,2,     0.0424,1,     4.7079,1,     -999.0,1,     -999.0,1,     -999.0,9,     -999.0,9
325020210316,        A20,      19,          1,         15,         15,2,20210325,       0425,    39.5728,   -52.3333,       5299,  1553.3,   3.9530,  34.9691,2,  34.9691,2,    261.5,2,   262.5,2,   12.80,2,   17.71,2,    0.00,2,    1.12,2,-999.000,9,-999.000,9, -999.00,9,  2166.7,2, -999.00,9,   -999.0,9,  -999.00,   7.71294,2,    25.04, -999.00,9, -999.00,9, -999.00,-999.000,9,   46.63,2,   19.03,2,     -999.0,9, 20210325,      554,  39.5728, -52.3332,     3.9528,2,     0.0422,1,     4.7070,1,     -999.0,1,     -999.0,1,     -999.0,9,     -999.0,9
325020210316,        A20,      19,          1,         14,         14,2,20210325,       0425,    39.5728,   -52.3333,       5299,  1755.8,   3.8092,  34.9640,2,  34.9646,2,    263.1,2,   263.0,2,   13.48,2,   17.68,2,    0.00,2,    1.12,2,   2.369,2,   1.210,2,    0.49,3,  -999.0,9, -999.00,9,   -999.0,9,  -999.00,-999.00000,9,  -999.00, -999.00,9, -999.00,9, -999.00,-999.000,9, -999.00,9, -999.00,9,      13.58,2, 20210325,      547,  39.5728, -52.3333,     3.8086,2,     0.0419,1,     4.7068,1,     -999.0,1,     -999.0,1,     -999.0,9,     -999.0,9
325020210316,        A20,      19,          1,         13,         13,2,20210325,       0425,    39.5728,   -52.3333,       5299,  1959.2,   3.6816,  34.9656,2,  34.9654,2,    263.0,2,   262.9,2,   14.46,2,   17.72,2,    0.00,2,    1.12,2,-999.000,9,-999.000,9, -999.00,9,  -999.0,9, -999.00,9,   -999.0,9,  -999.00,-999.00000,9,  -999.00, -999.00,9, -999.00,9, -999.00,-999.000,9,   49.25,2,   18.98,2,     -999.0,9, 20210325,      543,  39.5728, -52.3332,     3.6815,2,     0.0409,1,     4.7106,1,     -999.0,1,     -999.0,1,     -999.0,9,     -999.0,9
325020210316,        A20,      19,          1,         12,         12,2,20210325,       0425,    39.5728,   -52.3333,       5299,  2193.2,   3.4750,  34.9546,2,  34.9549,2,    264.4,2,   264.2,2,   15.44,2,   17.73,2,    0.00,2,    1.13,2,   1.752,2,   0.897,2,    0.39,3,  -999.0,9, -999.00,9,   -999.0,9,  -999.00,-999.00000,9,  -999.00, -999.00,9, -999.00,9, -999.00,-999.000,9, -999.00,9, -999.00,9,      13.30,2, 20210325,      538,  39.5728, -52.3333,     3.4743,2,     0.0424,1,     4.7098,1,     -999.0,1,     -999.0,1,     -999.0,9,     -999.0,9
325020210316,        A20,      19,          1,         11,         11,2,20210325,       0425,    39.5728,   -52.3333,       5299,  2448.2,   3.3105,  34.9485,2,  34.9482,2,    265.5,2,   265.0,2,   16.80,2,   17.67,2,    0.00,2,    1.14,2,-999.000,9,-999.000,9, -999.00,9,  2164.7,2, 2312.14,2,    780.8,2,    20.00,   7.72636,2,    24.99, -999.00,9, -999.00,9, -999.00,-999.000,9,   48.40,2,   18.65,2,     -999.0,9, 20210325,      531,  39.5728, -52.3333,     3.3108,2,     0.0424,1,     4.7094,1,     -999.0,1,     -999.0,1,     -999.0,9,     -999.0,9
325020210316,        A20,      19,          1,         10,         10,2,20210325,       0425,    39.5728,   -52.3333,       5299,  2704.8,   3.0975,  34.9409,2,  34.9410,2,    264.7,2,   265.3,2,   18.76,2,   17.68,2,    0.00,2,    1.15,2,   1.385,2,   0.710,2,    0.20,3,  -999.0,9, -999.00,9,   -999.0,9,  -999.00,-999.00000,9,  -999.00, -999.00,9, -999.00,9, -999.00,-999.000,9, -999.00,9, -999.00,9,      13.28,2, 20210325,      525,  39.5728, -52.3333,     3.0974,2,     0.0425,1,     4.7101,1,     -999.0,1,     -999.0,1,     -999.0,9,     -999.0,9
325020210316,        A20,      19,          1,          9,          9,2,20210325,       0425,    39.5728,   -52.3333,       5299,  2958.8,   2.9138,  34.9318,2,  34.9319,2,    266.0,2,   267.0,2,   20.03,2,   17.64,2,    0.00,2,    1.15,2,-999.000,9,-999.000,9, -999.00,9,  -999.0,9, -999.00,9,   -999.0,9,  -999.00,-999.00000,9,  -999.00, -999.00,9, -999.00,9, -999.00,-999.000,9,   47.87,2,   18.98,2,     -999.0,9, 20210325,      519,  39.5728, -52.3333,     2.9137,2,     0.0430,1,     4.7105,1,     -999.0,1,     -999.0,1,     -999.0,9,     -999.0,9
325020210316,        A20,      19,          1,          8,          8,2,20210325,       0425,    39.5728,   -52.3333,       5299,  3248.9,   2.6601,  34.9188,2,  34.9179,2,    267.2,2,   268.7,2,   22.08,2,   17.64,2,    0.00,2,    1.16,2,-999.000,9,-999.000,9, -999.00,9,  -999.0,9, -999.00,9,   -999.0,9,  -999.00,-999.00000,9,  -999.00, -999.00,9, -999.00,9, -999.00,-999.000,9, -999.00,9, -999.00,9,     -999.0,9, 20210325,      512,  39.5728, -52.3333,     2.6596,2,     0.0426,1,     4.7104,1,     -999.0,1,     -999.0,1,     -999.0,9,     -999.0,9
325020210316,        A20,      19,          1,          7,          7,2,20210325,       0425,    39.5728,   -52.3333,       5299,  3557.1,   2.4698,  34.9071,2,  34.9063,2,    268.8,2,   269.4,2,   24.33,2,   17.72,2,    0.00,2,    1.18,2,-999.000,9,-999.000,9, -999.00,9,  2170.5,2, -999.00,9,   -999.0,9,  -999.00,   7.72803,2,    24.99, -999.00,9, -999.00,9, -999.00,-999.000,9,   46.76,2,   18.71,2,     -999.0,9, 20210325,      506,  39.5728, -52.3333,     2.4716,2,     0.0423,1,     4.7093,1,     -999.0,1,     -999.0,1,     -999.0,9,     -999.0,9
325020210316,        A20,      19,          1,          6,          6,2,20210325,       0425,    39.5728,   -52.3333,       5299,  3864.4,   2.3608,  34.8988,2,  34.8979,2,    268.0,2,   268.8,2,   26.77,2,   18.00,2,    0.00,2,    1.19,2,   1.318,2,   0.677,2,    0.40,3,  -999.0,9, -999.00,9,   -999.0,9,  -999.00,-999.00000,9,  -999.00, -999.00,9, -999.00,9, -999.00,-999.000,9,   46.84,2,   18.34,2,      13.43,2, 20210325,      500,  39.5728, -52.3333,     2.3607,2,     0.0435,1,     4.7082,1,     -999.0,1,     -999.0,1,     -999.0,9,     -999.0,9
325020210316,        A20,      19,          1,          5,          5,2,20210325,       0425,    39.5728,   -52.3333,       5299,  4172.1,   2.2965,  34.8925,2,  34.8916,2,    267.4,2,   267.4,2,   29.60,2,   18.43,2,    0.00,2,    1.23,2,-999.000,9,-999.000,9, -999.00,9,  -999.0,9, -999.00,9,   -999.0,9,  -999.00,-999.00000,9,  -999.00, -999.00,9, -999.00,9, -999.00,-999.000,9, -999.00,9, -999.00,9,     -999.0,9, 20210325,      454,  39.5728, -52.3333,     2.2967,2,     0.0431,1,     4.7065,1,     -999.0,1,     -999.0,1,     -999.0,9,     -999.0,9
325020210316,        A20,      19,          1,          4,          4,2,20210325,       0425,    39.5728,   -52.3333,       5299,  4480.3,   2.2803,  34.8884,2,  34.8875,2,    265.3,2,   265.7,2,   31.75,2,   18.75,2,    0.00,2,    1.25,2,-999.000,9,-999.000,9, -999.00,9,  2179.6,2, -999.00,9,   -999.0,9,  -999.00,   7.72194,6,    24.99, -999.00,9, -999.00,9, -999.00,-999.000,9,   46.69,2,   21.06,2,     -999.0,9, 20210325,      446,  39.5728, -52.3333,     2.2804,2,     0.0427,1,     4.7001,1,     -999.0,1,     -999.0,1,     -999.0,9,     -999.0,9
325020210316,        A20,      19,          1,          3,          3,2,20210325,       0425,    39.5728,   -52.3333,       5299,  4788.0,   2.2786,  34.8847,2,  34.8847,2,    263.9,2,   264.4,2,   33.90,2,   19.05,2,    0.00,2,    1.28,2,   1.126,2,   0.592,2,    0.21,3,  2181.6,2, 2328.97,2,    757.8,2,    20.00,   7.72055,2,    24.91, -999.00,9, -999.00,9, -999.00,-999.000,9,   46.60,2,   20.06,2,      13.54,2, 20210325,      441,  39.5728, -52.3333,     2.2787,2,     0.0429,1,     4.6801,1,     -999.0,1,     -999.0,1,     -999.0,9,     -999.0,9