BOTTLE,20230512CCHSIOCBG
EXPOCODE,SECT_ID,STNNBR,CASTNO,SAMPNO,BTLNBR,BTLNBR_FLAG_W,DATE,TIME,LATITUDE,LONGITUDE,DEPTH,CTDPRS,CTDTMP,CTDSAL,CTDSAL_FLAG_W,SALNTY,SALNTY_FLAG_W,CTDOXY,CTDOXY_FLAG_W,OXYGEN,OXYGEN_FLAG_W,SILCAT,SILCAT_FLAG_W,NITRAT,NITRAT_FLAG_W,NITRIT,NITRIT_FLAG_W,PHSPHT,PHSPHT_FLAG_W,CFC-11,CFC-11_FLAG_W,CFC-12,CFC-12_FLAG_W,SF6,SF6_FLAG_W,TCARBN,TCARBN_FLAG_W,ALKALI,ALKALI_FLAG_W,FCO2,FCO2_FLAG_W,FCO2TMP,PH_TOT,PH_TOT_FLAG_W,PH_TMP,DELC13,DELC13_FLAG_W,DELC14,DELC14_FLAG_W,C14ERR,POC,POC_FLAG_W,DOC,DOC_FLAG_W,TDN,TDN_FLAG_W,N2O,N2O_FLAG_W,BTL_DATE,BTL_TIME,BTL_LAT,BTL_LON,REFTMP,REFTMP_FLAG_W,CTDFLUOR,CTDFLUOR_FLAG_W,CTDXMISS,CTDXMISS_FLAG_W,D15N_NO2+NO3,D15N_NO2+NO3_FLAG_W,D18O_NO2+NO3,D18O_NO2+NO3_FLAG_W,HPLC,HPLC_FLAG_W,MICROGELS,MICROGELS_FLAG_W
,,,,,,,,,,,METERS,DBAR,ITS-90,PSS-78,,PSS-78,,UMOL/KG,,UMOL/KG,,UMOL/KG,,UMOL/KG,,UMOL/KG,,UMOL/KG,,PMOL/KG,,PMOL/KG,,FMOL/KG,,UMOL/KG,,UMOL/KG,,UATM,,DEG C,,,DEG C,/MILLE,,/MILLE,,/MILLE,UG/KG,,UMOL/KG,,UMOL/KG,,NMOL/KG,,,,,,ITS-90,,VOLTS,,VOLTS,,/MILLE,,/MILLE,,,,1E6 GELS/L,
325020210316,        A20,       6,          1,         33,         33,2,20210321,       1855,    42.8647,   -50.9311,       1108,     4.8,   1.3154,  33.3040,2,  33.3086,2,    349.5,2,   349.6,2,    3.91,2,    5.90,2,    0.08,2,    0.65,2,   5.295,2,   3.025,2,    4.55,3,  2110.8,6, 2235.76,2,    774.9,2,    20.00,   7.70701,2,    25.01, -999.00,9, -999.00,9, -999.00,-999.000,9, -999.00,9, -999.00,9,      15.34,2, 20210321,     2025,  42.8647, -50.9311,     1.2954,3,     0.1229,1,     4.5786,1,     -999.0,9,     -999.0,9,     -999.0,9,     -999.0,9
325020210316,        A20,       6,          1,         32,         32,2,20210321,       1855,    42.8647,   -50.9311,       1108,    35.9,   1.1544,  33.3295,2,  33.3297,2,    344.0,2,   343.8,2,    4.40,2,    6.29,2,    0.08,2,    0.66,2,-999.000,9,-999.000,9, -999.00,9,  2117.2,2, 2237.53,2,   -999.0,9,  -999.00,   7.69474,2,    25.01, -999.00,9, -999.00,9, -999.00,-999.000,9, -999.00,9, -999.00,9,     -999.0,9, 20210321,     2022,  42.8647, -50.9311,     1.1546,2,     0.1345,1,     4.5911,1,     -999.0,9,     -999.0,9,     -999.0,9,     -999.0,9
325020210316,        A20,       6,          1,         31,         31,2,20210321,       1855,    42.8647,   -50.9311,       1108,    60.0,   1.1507,  33.3716,2,  33.3926,3,    339.9,3,   334.6,2,    5.18,2,    7.05,2,    0.08,2,    0.71,2,   5.314,2,   2.980,2,    4.08,3,  2122.7,2, 2240.35,2,    825.0,2,    20.00,    7.6818,6,    25.00, -999.00,9, -999.00,9, -999.00,-999.000,9, -999.00,9, -999.00,9,      15.21,2, 20210321,     2020,  42.8647, -50.9311,     1.1518,2,     0.1141,1,     4.6086,1,     -999.0,9,     -999.0,9,     -999.0,9,     -999.0,9
325020210316,        A20,       6,          1,         30,         30,2,20210321,       1855,    42.8647,   -50.9311,       1108,    85.7,   1.3566,  33.5972,2,  33.5904,2,    319.1,2,   317.4,2,    6.94,2,    8.80,2,    0.09,2,    0.80,2,-999.000,9,-999.000,9, -999.00,9,  2135.9,2, 2248.15,2,   -999.0,9,  -999.00,   7.66193,2,    24.97, -999.00,9, -999.00,9, -999.00,-999.000,9, -999.00,9, -999.00,9,     -999.0,9, 20210321,     2018,  42.8647, -50.9311,     1.3562,2,     0.0681,1,     4.6589,1,     -999.0,9,     -999.0,9,     -999.0,9,     -999.0,9
325020210316,        A20,       6,          1,         29,         29,2,20210321,       1855,    42.8647,   -50.9311,       1108,   111.0,   1.5713,  33.7560,2,  33.7556,2,    304.1,2,   305.9,2,    8.31,2,   10.00,2,    0.08,2,    0.85,2,   4.980,2,   2.875,2,    4.18,3,  2144.6,2, 2254.02,2,    891.1,2,    20.00,   7.65286,2,    24.97, -999.00,9, -999.00,9, -999.00,-999.000,9, -999.00,9, -999.00,9,      15.05,2, 20210321,     2016,  42.8647, -50.9311,     1.5712,2,     0.0567,1,     4.6736,1,     -999.0,9,     -999.0,9,     -999.0,9,     -999.0,9
325020210316,        A20,       6,          1,         28,         28,2,20210321,       1855,    42.8647,   -50.9311,       1108,   136.7,   1.6581,  33.8115,2,  33.8108,2,    302.7,2,   302.4,2,    8.80,2,   10.43,2,    0.04,2,    0.87,2,-999.000,9,-999.000,9, -999.00,9,  2144.0,2, 2253.19,2,    896.0,2,    20.00,   7.65821,2,    24.98, -999.00,9, -999.00,9, -999.00,-999.000,9, -999.00,9, -999.00,9,     -999.0,9, 20210321,     2014,  42.8647, -50.9311,     1.6580,2,     0.0517,1,     4.6753,1,     -999.0,9,     -999.0,9,     -999.0,9,     -999.0,9
325020210316,        A20,       6,          1,         27,         27,2,20210321,       1855,    42.8647,   -50.9311,       1108,   159.7,   1.7443,  33.8589,2,  33.8625,2,    303.1,2,   302.9,2,    8.70,2,   10.64,2,    0.04,2,    0.87,2,-999.000,9,-999.000,9, -999.00,9,  2147.2,2, 2257.31,6,    890.3,2,    20.00,    7.6627,6,    25.00, -999.00,9, -999.00,9, -999.00,-999.000,9, -999.00,9, -999.00,9,     -999.0,9, 20210321,     2012,  42.8647, -50.9311,     1.7509,2,     0.0536,1,     4.6740,1,     -999.0,9,     -999.0,9,     -999.0,9,     -999.0,9
325020210316,        A20,       6,          1,         26,         26,2,20210321,       1855,    42.8647,   -50.9311,       1108,   187.3,   1.9478,  33.9778,2,  33.9786,2,    299.6,2,   301.3,2,    8.99,2,   11.17,2,    0.02,2,    0.88,2,-999.000,9,-999.000,9, -999.00,9,  2147.2,2, 2260.33,2,    882.8,2,    20.00,   7.66451,6,    24.99, -999.00,9, -999.00,9, -999.00,-999.000,9, -999.00,9, -999.00,9,     -999.0,9, 20210321,     2009,  42.8647, -50.9311,     1.9479,2,     0.0505,1,     4.6736,1,     -999.0,9,     -999.0,9,     -999.0,9,     -999.0,9
325020210316,        A20,       6,          1,         25,         25,2,20210321,       1855,    42.8647,   -50.9311,       1108,   212.1,   1.9885,  34.0019,2,  34.0023,2,    299.5,2,   299.9,2,    9.09,2,   11.33,2,    0.00,2,    0.89,2,   4.758,2,   2.768,2,    4.10,3,  2148.8,6, 2261.04,2,    884.2,2,    20.00,   7.66181,2,    25.02, -999.00,9, -999.00,9, -999.00,-999.000,9, -999.00,9, -999.00,9,      14.91,2, 20210321,     2007,  42.8647, -50.9311,     1.9886,2,     0.0516,1,     4.6741,1,     -999.0,9,     -999.0,9,     -999.0,9,     -999.0,9
325020210316,        A20,       6,          1,         24,         24,2,20210321,       1855,    42.8647,   -50.9311,       1108,   237.2,   2.0553,  34.0352,2,  34.0349,2,    298.9,2,   299.1,2,    9.09,2,   11.48,2,    0.00,2,    0.90,2,-999.000,9,-999.000,9, -999.00,9,  2150.2,2, 2264.06,2,   -999.0,9,  -999.00,    7.6616,2,    25.00, -999.00,9, -999.00,9, -999.00,-999.000,9, -999.00,9, -999.00,9,     -999.0,9, 20210321,     2005,  42.8647, -50.9311,     2.0556,2,     0.0499,1,     4.6715,1,     -999.0,9,     -999.0,9,     -999.0,9,     -999.0,9
325020210316,        A20,       6,          1,         23,         23,2,20210321,       1855,    42.8647,   -50.9311,       1108,   264.2,   2.1563,  34.0834,2,  34.0864,2,    297.3,2,   297.7,2,    8.99,2,   11.69,2,    0.00,2,    0.90,2,-999.000,9,-999.000,9, -999.00,9,  2152.4,2, 2265.25,2,    881.8,6,    20.00,   7.66278,2,    25.00, -999.00,9, -999.00,9, -999.00,-999.000,9, -999.00,9, -999.00,9,     -999.0,9, 20210321,     2002,  42.8647, -50.9311,     2.1568,2,     0.0501,1,     4.6692,1,     -999.0,9,     -999.0,9,     -999.0,9,     -999.0,9
325020210316,        A20,       6,          1,         22,         22,2,20210321,       1855,    42.8647,   -50.9311,       1108,   287.4,   2.1680,  34.0914,2,  34.0938,2,    297.5,2,   297.4,2,    8.99,2,   11.77,2,    0.00,2,    0.91,2,-999.000,9,-999.000,9, -999.00,9,  2151.2,2, 2263.58,2,   -999.0,9,  -999.00,   7.66234,2,    24.99, -999.00,9, -999.00,9, -999.00,-999.000,9, -999.00,9, -999.00,9,     -999.0,9, 20210321,     2000,  42.8647, -50.9311,     2.1635,2,     0.0506,1,     4.6702,1,     -999.0,9,     -999.0,9,     -999.0,9,     -999.0,9
325020210316,        A20,       6,          1,         21,         21,2,20210321,       1855,    42.8647,   -50.9311,       1108,   313.6,   2.2747,  34.1455,2,  34.1495,2,    295.8,2,   295.5,2,    9.19,2,   12.08,2,    0.00,2,    0.91,2,-999.000,9,-999.000,9, -999.00,9,  2151.0,2,  2266.2,2,    881.9,2,    20.00,   7.66291,2,    25.00, -999.00,9, -999.00,9, -999.00,-999.000,9, -999.00,9, -999.00,9,     -999.0,9, 20210321,     1957,  42.8647, -50.9311,     2.2749,2,     0.0496,1,     4.6680,1,     -999.0,9,     -999.0,9,     -999.0,9,     -999.0,9
325020210316,        A20,       6,          1,         20,         20,2,20210321,       1855,    42.8647,   -50.9311,       1108,   339.4,   2.3371,  34.1711,2,  34.1740,2,    295.9,2,   296.0,2,    9.28,2,   12.22,2,    0.00,2,    0.90,2,   4.727,6,   2.714,6,    4.52,3,  2153.7,2, 2267.03,2,    877.6,2,    20.00,   7.66589,2,    24.99, -999.00,9, -999.00,9, -999.00,-999.000,9, -999.00,9, -999.00,9,      14.54,6, 20210321,     1954,  42.8647, -50.9311,     2.3358,2,     0.0474,1,     4.6681,1,     -999.0,9,     -999.0,9,     -999.0,9,     -999.0,9
325020210316,        A20,       6,          1,         19,         19,2,20210321,       1855,    42.8647,   -50.9311,       1108,   364.8,   2.3974,  34.1930,2,  34.1934,2,    296.3,2,   296.1,2,    9.19,2,   12.31,2,    0.00,2,    0.90,2,-999.000,9,-999.000,9, -999.00,9,  2151.9,2, 2269.74,2,   -999.0,9,  -999.00,   7.66624,2,    25.00, -999.00,9, -999.00,9, -999.00,-999.000,9, -999.00,9, -999.00,9,     -999.0,9, 20210321,     1952,  42.8647, -50.9311,     2.3975,2,     0.0476,1,     4.6670,1,     -999.0,9,     -999.0,9,     -999.0,9,     -999.0,9
325020210316,        A20,       6,          1,         18,         18,2,20210321,       1855,    42.8647,   -50.9311,       1108,   388.7,   2.4684,  34.2271,2,  34.2279,2,    295.5,2,   294.9,2,    9.48,2,   12.41,2,    0.00,2,    0.91,2,-999.000,9,-999.000,9, -999.00,9,  2154.2,2, 2273.01,2,    875.4,2,    20.00,   7.66602,2,    25.01, -999.00,9, -999.00,9, -999.00,-999.000,9, -999.00,9, -999.00,9,     -999.0,9, 20210321,     1949,  42.8647, -50.9311,     2.4686,2,     0.0485,1,     4.6662,1,     -999.0,9,     -999.0,9,     -999.0,9,     -999.0,9
325020210316,        A20,       6,          1,         17,         17,2,20210321,       1855,    42.8647,   -50.9311,       1108,   414.4,   2.7070,  34.3110,2,  34.2987,2,    295.5,2,   295.4,2,    9.09,2,   12.54,2,    0.00,2,    0.91,2,-999.000,9,-999.000,9, -999.00,9,  2154.2,2, 2272.28,2,   -999.0,9,  -999.00,   7.67475,2,    24.99, -999.00,9, -999.00,9, -999.00,-999.000,9, -999.00,9, -999.00,9,     -999.0,9, 20210321,     1946,  42.8647, -50.9311,     2.7066,2,     0.0477,1,     4.6705,1,     -999.0,9,     -999.0,9,     -999.0,9,     -999.0,9
325020210316,        A20,       6,          1,         16,         16,2,20210321,       1855,    42.8647,   -50.9311,       1108,   440.5,   2.7784,  34.3658,2,  34.3564,2,    297.4,2,   297.0,2,    8.89,2,   12.63,2,    0.00,2,    0.91,2,   4.543,2,   2.650,2,    3.75,3,  2154.4,2, 2277.37,2,    856.0,2,    20.00,   7.67439,2,    25.00, -999.00,9, -999.00,9, -999.00,-999.000,9, -999.00,9, -999.00,9,      14.32,2, 20210321,     1944,  42.8647, -50.9311,     2.7785,2,     0.0475,1,     4.6700,1,     -999.0,9,     -999.0,9,     -999.0,9,     -999.0,9
325020210316,        A20,       6,          1,         15,         15,2,20210321,       1855,    42.8647,   -50.9311,       1108,   465.1,   2.8774,  34.4070,2,  34.4078,2,    294.4,2,   293.7,2,    9.18,2,   13.00,2,    0.00,2,    0.93,2,-999.000,9,-999.000,9, -999.00,9,  2158.0,2, 2277.81,2,   -999.0,9,  -999.00,   7.67803,6,    25.01, -999.00,9, -999.00,9, -999.00,-999.000,9, -999.00,9, -999.00,9,     -999.0,9, 20210321,     1941,  42.8647, -50.9311,     2.8773,2,     0.0468,1,     4.6684,1,     -999.0,9,     -999.0,9,     -999.0,9,     -999.0,9
325020210316,        A20,       6,          1,         14,         14,2,20210321,       1855,    42.8647,   -50.9311,       1108,   489.6,   2.9115,  34.4210,2,  34.4182,2,    294.5,2,   293.1,2,    9.38,2,   13.19,2,    0.00,2,    0.93,2,   4.603,2,   2.963,2,    8.10,3,  2157.6,2, 2277.26,2,    860.4,2,    20.00,   7.67314,2,    25.01, -999.00,9, -999.00,9, -999.00,-999.000,9, -999.00,9, -999.00,9,      14.74,2, 20210321,     1938,  42.8647, -50.9311,     2.9121,2,     0.0460,1,     4.6663,1,     -999.0,9,     -999.0,9,     -999.0,9,     -999.0,9
325020210316,        A20,       6,          1,         13,         13,2,20210321,       1855,    42.8647,   -50.9311,       1108,   515.3,   3.0931,  34.4823,2,  34.4830,2,    294.8,2,   294.6,2,    8.99,2,   13.38,2,    0.00,2,    0.93,2,-999.000,9,-999.000,9, -999.00,9,  2155.9,2, 2280.15,2,    849.5,2,    20.00,   7.68257,2,    25.01, -999.00,9, -999.00,9, -999.00,-999.000,9, -999.00,9, -999.00,9,     -999.0,9, 20210321,     1936,  42.8647, -50.9311,     3.0945,2,     0.0459,1,     4.6706,1,     -999.0,9,     -999.0,9,     -999.0,9,     -999.0,9
325020210316,        A20,       6,          1,         12,         12,2,20210321,       1855,    42.8647,   -50.9311,       1108,   540.2,   3.2704,  34.5355,2,  34.4834,3,    293.6,2,   293.4,2,    8.99,2,   13.42,2,    0.00,2,    0.92,2,   4.340,2,   2.667,2,    5.35,3,  2157.2,2, 2283.03,2,    849.4,2,    20.00,   7.67859,2,    25.02, -999.00,9, -999.00,9, -999.00,-999.000,9, -999.00,9, -999.00,9,      14.17,2, 20210321,     1933,  42.8647, -50.9311,     3.2637,2,     0.0446,1,     4.6730,1,     -999.0,9,     -999.0,9,     -999.0,9,     -999.0,9
325020210316,        A20,       6,          1,         11,         11,2,20210321,       1855,    42.8647,   -50.9311,       1108,   566.0,   3.7650,  34.6558,2,  34.6343,3,    277.6,2,   277.8,2,    9.96,2,   14.97,2,    0.00,2,    1.01,2,-999.000,9,-999.000,9, -999.00,9,  2164.9,2, 2289.37,6,   -999.0,9,  -999.00,   7.67268,6,    25.01, -999.00,9, -999.00,9, -999.00,-999.000,9, -999.00,9, -999.00,9,     -999.0,9, 20210321,     1931,  42.8646, -50.9311,     3.7418,2,     0.0429,1,     4.6793,1,     -999.0,9,     -999.0,9,     -999.0,9,     -999.0,9
325020210316,        A20,       6,          1,         10,         10,2,20210321,       1855,    42.8647,   -50.9311,       1108,   591.7,   4.1021,  34.7376,2,  34.7398,2,    267.8,2,   265.7,2,   10.65,2,   16.06,2,    0.00,2,    1.06,2,   3.742,2,   2.214,2,    2.65,3,  2172.0,2, 2293.27,2,    860.4,2,    20.00,   7.67471,6,    25.02, -999.00,9, -999.00,9, -999.00,-999.000,9, -999.00,9, -999.00,9,      14.83,2, 20210321,     1928,  42.8647, -50.9311,     4.1020,2,     0.0430,1,     4.6863,1,     -999.0,9,     -999.0,9,     -999.0,9,     -999.0,9
325020210316,        A20,       6,          1,          9,          9,2,20210321,       1855,    42.8647,   -50.9311,       1108,   616.6,   4.0434,  34.7392,2,  34.7394,2,    268.1,2,   267.9,2,   10.45,2,   15.89,2,    0.00,2,    1.06,2,-999.000,9,-999.000,9, -999.00,9,  2169.5,6, 2292.34,2,    857.8,2,    20.00,   7.68075,6,    25.02, -999.00,9, -999.00,9, -999.00,-999.000,9, -999.00,9, -999.00,9,     -999.0,9, 20210321,     1925,  42.8647, -50.9311,     4.0454,2,     0.0429,1,     4.6855,1,     -999.0,9,     -999.0,9,     -999.0,9,     -999.0,9
325020210316,        A20,       6,          1,          8,          8,2,20210321,       1855,    42.8647,   -50.9311,       1108,   642.3,   4.1203,  34.7806,2,  34.7830,2,    270.2,3,   276.1,2,   10.06,2,   16.18,2,    0.00,2,    1.07,2,   3.749,2,   2.226,2,    3.76,3,  2169.3,2, 2290.62,2,    850.7,2,    20.00,   7.68228,2,    25.02, -999.00,9, -999.00,9, -999.00,-999.000,9, -999.00,9, -999.00,9,      14.49,2, 20210321,     1922,  42.8646, -50.9311,     4.1235,2,     0.0430,1,     4.6884,1,     -999.0,9,     -999.0,9,     -999.0,9,     -999.0,9
325020210316,        A20,       6,          1,          7,          7,2,20210321,       1855,    42.8647,   -50.9311,       1108,   677.3,   4.1688,  34.8009,2,  34.8031,2,    267.8,2,   268.3,2,   10.16,2,   16.35,2,    0.00,2,    1.07,2,   3.777,2,   2.236,2,    2.88,3,  2170.4,2, 2291.86,2,    847.3,2,    20.00,   7.68378,2,    25.02, -999.00,9, -999.00,9, -999.00,-999.000,9, -999.00,9, -999.00,9,      14.58,2, 20210321,     1919,  42.8647, -50.9311,     4.1689,2,     0.0414,1,     4.6903,1,     -999.0,9,     -999.0,9,     -999.0,9,     -999.0,9
325020210316,        A20,       6,          1,          6,          6,2,20210321,       1855,    42.8647,   -50.9311,       1108,   757.5,   3.9625,  34.8079,2,-999.0000,9,    274.3,2,  -999.0,9,    9.28,2,   16.07,2,    0.00,2,    1.04,2,-999.000,9,-999.000,9, -999.00,9,  -999.0,9, -999.00,9,   -999.0,9,  -999.00,-999.00000,9,  -999.00, -999.00,9, -999.00,9, -999.00,-999.000,9, -999.00,9, -999.00,9,     -999.0,9, 20210321,     1915,  42.8647, -50.9311,     3.9626,2,     0.0412,1,     4.6933,1,     -999.0,9,     -999.0,9,     -999.0,9,     -999.0,9
325020210316,        A20,       6,          1,          5,          5,2,20210321,       1855,    42.8647,   -50.9311,       1108,   859.9,   3.9663,  34.8418,2,  34.8432,2,    278.1,2,   277.7,2,    9.47,2,   16.35,2,    0.00,2,    1.05,2,-999.000,9,-999.000,9, -999.00,9,  2168.9,2, 2295.38,2,   -999.0,9,  -999.00,   7.68973,2,    25.01, -999.00,9, -999.00,9, -999.00,-999.000,9, -999.00,9, -999.00,9,     -999.0,9, 20210321,     1909,  42.8646, -50.9311,     3.9659,2,     0.0418,1,     4.6988,1,     -999.0,9,     -999.0,9,     -999.0,9,     -999.0,9
325020210316,        A20,       6,          1,          4,          4,2,20210321,       1855,    42.8647,   -50.9311,       1108,   960.3,   3.7806,  34.8317,2,  34.8340,2,    283.1,2,   282.9,2,    9.28,2,   16.12,2,    0.00,2,    1.04,2,   3.989,2,   2.416,2,    3.52,3,  2168.0,2, 2293.07,2,    828.7,2,    20.00,   7.68853,2,    25.01, -999.00,9, -999.00,9, -999.00,-999.000,9, -999.00,9, -999.00,9,      14.06,2, 20210321,     1905,  42.8647, -50.9311,     3.7804,2,     0.0420,1,     4.6967,1,     -999.0,9,     -999.0,9,     -999.0,9,     -999.0,9
325020210316,        A20,       6,          1,          3,          3,2,20210321,       1855,    42.8647,   -50.9311,       1108,  1062.6,   3.7157,  34.8427,2,  34.8456,2,    284.6,2,   285.0,2,    9.28,2,   16.05,2,    0.00,2,    1.05,2,-999.000,9,-999.000,9, -999.00,9,  2167.0,2, 2295.29,6,   -999.0,9,  -999.00,   7.69717,2,    25.01, -999.00,9, -999.00,9, -999.00,-999.000,9, -999.00,9, -999.00,9,     -999.0,9, 20210321,     1900,  42.8647, -50.9311,     3.7154,2,     0.0406,1,     4.6980,1,     -999.0,9,     -999.0,9,     -999.0,9,     -999.0,9
325020210316,        A20,       6,          1,          2,          2,2,20210321,       1855,    42.8647,   -50.9311,       1108,  1086.5,   3.7115,  34.8438,2,  34.8464,2,    284.8,2,   284.5,2,    9.47,2,   16.02,2,    0.00,2,    1.05,2,-999.000,9,-999.000,9, -999.00,9,  2168.3,2, 2296.19,2,    826.9,2,    20.00,   7.69073,6,    25.01, -999.00,9, -999.00,9, -999.00,-999.000,9, -999.00,9, -999.00,9,     -999.0,9, 20210321,     1857,  42.8647, -50.9311,     3.7112,2,     0.0422,1,     4.6960,1,     -999.0,9,     -999.0,9,     -999.0,9,     -999.0,9
325020210316,        A20,       6,          1,          1,          1,2,20210321,       1855,    42.8647,   -50.9311,       1108,  1110.5,   3.6927,  34.8447,2,  34.8477,2,    284.8,2,  -999.0,5,    9.38,2,   16.05,2,    0.00,2,    1.05,2,   4.009,2,   2.312,2,    2.79,3,  2168.9,6, 2293.85,2,    826.6,2,    20.00,   7.68935,2,    25.01, -999.00,9, -999.00,9, -999.00,-999.000,9, -999.00,9, -999.00,9,      13.97,2, 20210321,     1855,  42.8646, -50.9311,     3.6920,2,     0.0410,1,     4.6929,1,     -999.0,9,     -999.0,9,     -999.0,9,     -999.0,9