BOTTLE,20230512CCHSIOCBG
EXPOCODE,SECT_ID,STNNBR,CASTNO,SAMPNO,BTLNBR,BTLNBR_FLAG_W,DATE,TIME,LATITUDE,LONGITUDE,DEPTH,CTDPRS,CTDTMP,CTDSAL,CTDSAL_FLAG_W,SALNTY,SALNTY_FLAG_W,CTDOXY,CTDOXY_FLAG_W,OXYGEN,OXYGEN_FLAG_W,SILCAT,SILCAT_FLAG_W,NITRAT,NITRAT_FLAG_W,NITRIT,NITRIT_FLAG_W,PHSPHT,PHSPHT_FLAG_W,CFC-11,CFC-11_FLAG_W,CFC-12,CFC-12_FLAG_W,SF6,SF6_FLAG_W,TCARBN,TCARBN_FLAG_W,ALKALI,ALKALI_FLAG_W,FCO2,FCO2_FLAG_W,FCO2TMP,PH_TOT,PH_TOT_FLAG_W,PH_TMP,DELC13,DELC13_FLAG_W,DELC14,DELC14_FLAG_W,C14ERR,POC,POC_FLAG_W,DOC,DOC_FLAG_W,TDN,TDN_FLAG_W,N2O,N2O_FLAG_W,BTL_DATE,BTL_TIME,BTL_LAT,BTL_LON,REFTMP,REFTMP_FLAG_W,CTDFLUOR,CTDFLUOR_FLAG_W,CTDXMISS,CTDXMISS_FLAG_W,D15N_NO2+NO3,D15N_NO2+NO3_FLAG_W,D18O_NO2+NO3,D18O_NO2+NO3_FLAG_W,HPLC,HPLC_FLAG_W,MICROGELS,MICROGELS_FLAG_W
,,,,,,,,,,,METERS,DBAR,ITS-90,PSS-78,,PSS-78,,UMOL/KG,,UMOL/KG,,UMOL/KG,,UMOL/KG,,UMOL/KG,,UMOL/KG,,PMOL/KG,,PMOL/KG,,FMOL/KG,,UMOL/KG,,UMOL/KG,,UATM,,DEG C,,,DEG C,/MILLE,,/MILLE,,/MILLE,UG/KG,,UMOL/KG,,UMOL/KG,,NMOL/KG,,,,,,ITS-90,,VOLTS,,VOLTS,,/MILLE,,/MILLE,,,,1E6 GELS/L,
325020210316,        A20,      85,          1,         22,         22,2,20210412,       1346,     7.2198,   -53.1595,        341,     5.7,  28.0935,  29.2189,2,  28.1590,3,    202.3,2,   202.1,2,   13.42,2,    0.02,2,    0.00,2,    0.03,2,-999.000,9,-999.000,9, -999.00,9,  1693.0,6, 1926.83,2,    252.9,2,    20.00,   8.11479,2,    24.99, -999.00,9, -999.00,9, -999.00,-999.000,9,  103.15,2,    5.39,2,     -999.0,9, 20210412,     1417,   7.2198, -53.1595,    28.0902,2,     0.0917,1,     4.5600,1,     -999.0,9,     -999.0,9,     -999.0,9,     -999.0,9
325020210316,        A20,      85,          1,         21,         21,2,20210412,       1346,     7.2198,   -53.1595,        341,    15.2,  28.0522,  35.7480,2,  35.7369,2,    195.1,2,   194.9,2,    1.17,2,    0.01,2,    0.00,2,    0.02,2,-999.000,9,-999.000,9, -999.00,9,  2023.0,2, -999.00,9,    312.7,2,    20.00,   8.07334,2,    24.97, -999.00,9, -999.00,9, -999.00,-999.000,9, -999.00,9, -999.00,9,     -999.0,9, 20210412,     1415,   7.2198, -53.1595,    28.0545,2,     0.0789,1,     4.5923,1,     -999.0,9,     -999.0,9,     -999.0,9,     -999.0,9
325020210316,        A20,      85,          1,         20,         20,2,20210412,       1346,     7.2198,   -53.1595,        341,    30.7,  28.0876,  35.9458,2,  35.9447,2,    192.1,2,   192.1,2,    1.07,2,    0.00,2,    0.00,2,    0.02,2,-999.000,9,-999.000,9, -999.00,9,  2037.7,2, -999.00,9,    318.4,2,    20.00,   8.06651,2,    24.98, -999.00,9, -999.00,9, -999.00,-999.000,9,   72.28,2,    3.88,2,     -999.0,9, 20210412,     1414,   7.2198, -53.1595,    28.0873,2,     0.0822,1,     4.6078,1,     -999.0,9,     -999.0,9,     -999.0,9,     -999.0,9
325020210316,        A20,      85,          1,         19,         19,2,20210412,       1346,     7.2198,   -53.1595,        341,    46.3,  28.0308,  36.1648,2,  36.1656,2,    193.1,2,   192.4,2,    0.97,2,    0.03,2,    0.00,2,    0.02,2,-999.000,9,-999.000,9, -999.00,9,  -999.0,9, -999.00,9,   -999.0,9,  -999.00,-999.00000,9,  -999.00, -999.00,9, -999.00,9, -999.00,-999.000,9, -999.00,9, -999.00,9,     -999.0,9, 20210412,     1412,   7.2198, -53.1595,    28.0295,2,     0.0760,1,     4.6199,1,     -999.0,9,     -999.0,9,     -999.0,9,     -999.0,9
325020210316,        A20,      85,          1,         18,         18,2,20210412,       1346,     7.2198,   -53.1595,        341,    60.8,  27.8732,  36.1416,2,  36.1395,2,    195.4,2,   194.8,2,    0.88,2,    0.01,2,    0.00,2,    0.01,2,-999.000,9,-999.000,9, -999.00,9,  2043.7,2, -999.00,9,    312.4,2,    20.00,   8.07623,6,    24.99, -999.00,9, -999.00,9, -999.00,-999.000,9,   73.58,2,    4.20,2,     -999.0,9, 20210412,     1410,   7.2198, -53.1595,    27.8725,2,     0.0656,1,     4.6325,1,     -999.0,9,     -999.0,9,     -999.0,9,     -999.0,9
325020210316,        A20,      85,          1,         17,         17,2,20210412,       1346,     7.2198,   -53.1595,        341,    76.2,  27.7697,  36.1728,2,  36.1684,2,    196.0,2,   195.9,2,    0.88,2,    0.01,2,    0.00,2,    0.01,2,-999.000,9,-999.000,9, -999.00,9,  -999.0,9, -999.00,9,   -999.0,9,  -999.00,-999.00000,9,  -999.00, -999.00,9, -999.00,9, -999.00,-999.000,9, -999.00,9, -999.00,9,     -999.0,9, 20210412,     1409,   7.2198, -53.1595,    27.7680,2,     0.0552,1,     4.6465,1,     -999.0,9,     -999.0,9,     -999.0,9,     -999.0,9
325020210316,        A20,      85,          1,         16,         16,2,20210412,       1346,     7.2198,   -53.1595,        341,    90.1,  27.4862,  36.2532,2,  36.2495,2,    195.2,2,   195.8,2,    0.88,2,    0.01,2,    0.00,2,    0.00,2,-999.000,9,-999.000,9, -999.00,9,  2048.3,2, -999.00,9,    312.2,2,    20.00,   8.07948,2,    24.99, -999.00,9, -999.00,9, -999.00,-999.000,9,   74.54,2,    5.60,2,     -999.0,9, 20210412,     1408,   7.2198, -53.1595,    27.4924,2,     0.0530,1,     4.6547,1,     -999.0,9,     -999.0,9,     -999.0,9,     -999.0,9
325020210316,        A20,      85,          1,         15,         15,2,20210412,       1346,     7.2198,   -53.1595,        341,   105.7,  26.9877,  36.4629,3,  36.4428,2,    190.7,2,   191.0,2,    0.97,2,    0.03,2,    0.25,2,    0.07,2,-999.000,9,-999.000,9, -999.00,9,  2075.6,2, 2361.97,2,   -999.0,9,  -999.00,   8.05406,2,    25.01, -999.00,9, -999.00,9, -999.00,-999.000,9, -999.00,9, -999.00,9,     -999.0,9, 20210412,     1406,   7.2198, -53.1595,    26.9874,2,     0.0593,1,     4.6543,1,     -999.0,9,     -999.0,9,     -999.0,9,     -999.0,9
325020210316,        A20,      85,          1,         14,         14,2,20210412,       1346,     7.2198,   -53.1595,        341,   121.3,  23.3671,  36.5159,2,  36.5141,2,    165.7,2,   167.2,2,    2.05,2,    4.18,2,    0.06,2,    0.29,2,-999.000,9,-999.000,9, -999.00,9,  2125.0,2, -999.00,9,    418.0,2,    20.00,   7.97153,2,    24.99, -999.00,9, -999.00,9, -999.00,-999.000,9,   63.42,2,    7.66,2,     -999.0,9, 20210412,     1405,   7.2198, -53.1595,    23.3687,2,     0.0571,1,     4.6566,1,     -999.0,9,     -999.0,9,     -999.0,9,     -999.0,9
325020210316,        A20,      85,          1,         13,         13,2,20210412,       1346,     7.2198,   -53.1595,        341,   135.6,  18.1941,  35.9703,2,  35.9672,2,    172.8,2,   173.7,2,    3.12,2,    8.09,2,    0.01,2,    0.62,2,-999.000,9,-999.000,9, -999.00,9,  2145.4,2, -999.00,9,   -999.0,9,  -999.00,   7.88468,2,    24.95, -999.00,9, -999.00,9, -999.00,-999.000,9, -999.00,9, -999.00,9,     -999.0,9, 20210412,     1402,   7.2198, -53.1595,    18.1970,2,     0.0511,1,     4.6697,1,     -999.0,9,     -999.0,9,     -999.0,9,     -999.0,9
325020210316,        A20,      85,          1,         12,         12,2,20210412,       1346,     7.2198,   -53.1595,        341,   151.4,  17.9027,  35.9334,2,  35.9325,2,    172.3,2,   172.1,2,    3.31,2,    8.53,2,    0.01,2,    0.65,2,-999.000,9,-999.000,9, -999.00,9,  2147.7,2, -999.00,9,    527.7,6,    20.00,   7.87695,2,    25.00, -999.00,9, -999.00,9, -999.00,-999.000,9,   54.85,2,   10.41,2,     -999.0,9, 20210412,     1402,   7.2198, -53.1595,    17.8999,2,     0.0475,1,     4.6719,1,     -999.0,9,     -999.0,9,     -999.0,9,     -999.0,9
325020210316,        A20,      85,          1,         11,         11,2,20210412,       1346,     7.2198,   -53.1595,        341,   166.2,  17.1976,  35.8352,2,  35.8354,2,    172.7,2,   172.3,2,    3.51,2,    9.28,2,    0.00,2,    0.70,2,-999.000,9,-999.000,9, -999.00,9,  -999.0,9, -999.00,9,   -999.0,9,  -999.00,-999.00000,9,  -999.00, -999.00,9, -999.00,9, -999.00,-999.000,9, -999.00,9, -999.00,9,     -999.0,9, 20210412,     1400,   7.2198, -53.1595,    17.1983,2,     0.0462,1,     4.6735,1,     -999.0,9,     -999.0,9,     -999.0,9,     -999.0,9
325020210316,        A20,      85,          1,         10,         10,2,20210412,       1346,     7.2198,   -53.1595,        341,   180.9,  16.4047,  35.7361,2,  35.7377,2,    170.4,2,   169.9,2,    4.00,2,   10.49,2,    0.00,2,    0.77,2,-999.000,9,-999.000,9, -999.00,9,  2154.1,2, 2348.59,2,    571.0,2,    20.00,   7.84396,2,    25.02, -999.00,9, -999.00,9, -999.00,-999.000,9,   53.28,2,   12.34,2,     -999.0,9, 20210412,     1359,   7.2198, -53.1595,    16.4100,2,     0.0455,1,     4.6741,1,     -999.0,9,     -999.0,9,     -999.0,9,     -999.0,9
325020210316,        A20,      85,          1,          9,          9,2,20210412,       1346,     7.2198,   -53.1595,        341,   195.9,  15.8019,  35.9376,2,  35.9334,2,    133.4,2,   132.3,2,    6.24,2,   15.57,2,    0.00,2,    0.94,2,-999.000,9,-999.000,9, -999.00,9,  2187.4,2, -999.00,9,    674.5,2,    20.00,   7.77805,2,    25.01, -999.00,9, -999.00,9, -999.00,-999.000,9, -999.00,9, -999.00,9,     -999.0,9, 20210412,     1357,   7.2198, -53.1595,    15.8034,2,     0.0410,1,     4.6203,1,     -999.0,9,     -999.0,9,     -999.0,9,     -999.0,9
325020210316,        A20,      85,          1,          8,          8,2,20210412,       1346,     7.2198,   -53.1595,        341,   211.7,  13.3303,  35.4940,2,  35.4876,2,    132.7,2,   132.5,2,    8.29,2,   19.40,2,    0.00,2,    1.21,2,-999.000,9,-999.000,9, -999.00,9,  2191.2,2, -999.00,9,   -999.0,9,  -999.00,   7.71573,2,    24.98, -999.00,9, -999.00,9, -999.00,-999.000,9,   50.57,2,   21.44,2,     -999.0,9, 20210412,     1356,   7.2197, -53.1595,    13.3413,2,     0.0412,1,     4.6370,1,     -999.0,9,     -999.0,9,     -999.0,9,     -999.0,9
325020210316,        A20,      85,          1,          7,          7,2,20210412,       1346,     7.2198,   -53.1595,        341,   231.7,  12.8185,  35.4311,2,  35.4295,2,    130.1,2,   129.7,2,    9.16,2,   20.45,2,    0.00,2,    1.29,2,-999.000,9,-999.000,9, -999.00,9,  2194.9,2, -999.00,9,    814.1,2,    20.00,    7.6996,2,    25.03, -999.00,9, -999.00,9, -999.00,-999.000,9,   50.13,2,   23.01,2,     -999.0,9, 20210412,     1354,   7.2198, -53.1595,    12.8223,2,     0.0411,1,     4.6271,1,     -999.0,9,     -999.0,9,     -999.0,9,     -999.0,9
325020210316,        A20,      85,          1,          6,          6,2,20210412,       1346,     7.2198,   -53.1595,        341,   251.3,  11.4484,  35.2054,2,  35.2286,3,    127.1,2,   127.7,2,   10.63,2,   22.88,2,    0.00,2,    1.45,2,-999.000,9,-999.000,9, -999.00,9,  -999.0,9, -999.00,9,   -999.0,9,  -999.00,-999.00000,9,  -999.00, -999.00,9, -999.00,9, -999.00,-999.000,9, -999.00,9, -999.00,9,     -999.0,9, 20210412,     1353,   7.2198, -53.1595,    11.5778,3,     0.0406,1,     4.6473,1,     -999.0,9,     -999.0,9,     -999.0,9,     -999.0,9
325020210316,        A20,      85,          1,          5,          5,2,20210412,       1346,     7.2198,   -53.1595,        341,   272.3,  10.6403,  35.0842,2,  35.0864,2,    129.8,2,   130.1,2,   11.70,2,   24.22,2,    0.00,2,    1.54,2,-999.000,9,-999.000,9, -999.00,9,  2199.3,2, -999.00,9,    923.2,2,    20.00,   7.64442,6,    25.01, -999.00,9, -999.00,9, -999.00,-999.000,9,   48.07,2,   25.91,2,     -999.0,9, 20210412,     1351,   7.2198, -53.1595,    10.6485,2,     0.0413,1,     4.6496,1,     -999.0,9,     -999.0,9,     -999.0,9,     -999.0,9
325020210316,        A20,      85,          1,          4,          4,2,20210412,       1346,     7.2198,   -53.1595,        341,   291.7,  10.5134,  35.0698,2,  35.0683,2,    128.9,2,   128.9,2,   12.19,2,   24.69,2,    0.00,2,    1.58,2,-999.000,9,-999.000,9, -999.00,9,  -999.0,9, -999.00,9,   -999.0,9,  -999.00,-999.00000,9,  -999.00, -999.00,9, -999.00,9, -999.00,-999.000,9, -999.00,9, -999.00,9,     -999.0,9, 20210412,     1349,   7.2198, -53.1595,    10.5128,2,     0.0410,1,     4.6409,1,     -999.0,9,     -999.0,9,     -999.0,9,     -999.0,9
325020210316,        A20,      85,          1,          2,          2,2,20210412,       1346,     7.2198,   -53.1595,        341,   311.8,  10.4106,  35.0626,2,  35.0581,2,    125.1,2,   125.0,2,   13.07,2,   25.27,2,    0.00,2,    1.63,2,-999.000,9,-999.000,9, -999.00,9,  -999.0,9, -999.00,9,   -999.0,9,  -999.00,-999.00000,9,  -999.00, -999.00,9, -999.00,9, -999.00,-999.000,9, -999.00,9, -999.00,9,     -999.0,9, 20210412,     1348,   7.2197, -53.1595,    10.4113,2,     0.0413,1,     4.5807,1,     -999.0,9,     -999.0,9,     -999.0,9,     -999.0,9
325020210316,        A20,      85,          1,          3,          3,2,20210412,       1346,     7.2198,   -53.1595,        341,   311.9,  10.4097,  35.0630,2,  35.0608,2,    125.1,2,   125.6,2,   13.07,2,   25.24,2,    0.00,2,    1.62,2,-999.000,9,-999.000,9, -999.00,9,  -999.0,9, -999.00,9,   -999.0,9,  -999.00,-999.00000,9,  -999.00, -999.00,9, -999.00,9, -999.00,-999.000,9,   47.16,2,   27.68,2,     -999.0,9, 20210412,     1348,   7.2197, -53.1595,     -999.0,9,     0.0414,1,     4.5723,1,     -999.0,9,     -999.0,9,     -999.0,9,     -999.0,9
325020210316,        A20,      85,          1,          1,          1,2,20210412,       1346,     7.2198,   -53.1595,        341,   332.2,  10.1970,  35.0364,2,  35.0447,2,    123.7,2,   123.4,2,   13.36,2,   25.65,2,    0.00,2,    1.65,2,-999.000,9,-999.000,9, -999.00,9,  2204.8,2, 2310.97,6,    964.1,2,    20.00,    7.6228,2,    25.00, -999.00,9, -999.00,9, -999.00,-999.000,9,   47.16,2,   27.19,2,     -999.0,9, 20210412,     1346,   7.2197, -53.1595,    10.1940,2,     0.0401,1,     4.5680,1,     -999.0,9,     -999.0,9,     -999.0,9,     -999.0,9