BOTTLE,20230512CCHSIOCBG
EXPOCODE,SECT_ID,STNNBR,CASTNO,SAMPNO,BTLNBR,BTLNBR_FLAG_W,DATE,TIME,LATITUDE,LONGITUDE,DEPTH,CTDPRS,CTDTMP,CTDSAL,CTDSAL_FLAG_W,SALNTY,SALNTY_FLAG_W,CTDOXY,CTDOXY_FLAG_W,OXYGEN,OXYGEN_FLAG_W,SILCAT,SILCAT_FLAG_W,NITRAT,NITRAT_FLAG_W,NITRIT,NITRIT_FLAG_W,PHSPHT,PHSPHT_FLAG_W,CFC-11,CFC-11_FLAG_W,CFC-12,CFC-12_FLAG_W,SF6,SF6_FLAG_W,TCARBN,TCARBN_FLAG_W,ALKALI,ALKALI_FLAG_W,FCO2,FCO2_FLAG_W,FCO2TMP,PH_TOT,PH_TOT_FLAG_W,PH_TMP,DELC13,DELC13_FLAG_W,DELC14,DELC14_FLAG_W,C14ERR,POC,POC_FLAG_W,DOC,DOC_FLAG_W,TDN,TDN_FLAG_W,N2O,N2O_FLAG_W,BTL_DATE,BTL_TIME,BTL_LAT,BTL_LON,REFTMP,REFTMP_FLAG_W,CTDFLUOR,CTDFLUOR_FLAG_W,CTDXMISS,CTDXMISS_FLAG_W,D15N_NO2+NO3,D15N_NO2+NO3_FLAG_W,D18O_NO2+NO3,D18O_NO2+NO3_FLAG_W,HPLC,HPLC_FLAG_W,MICROGELS,MICROGELS_FLAG_W
,,,,,,,,,,,METERS,DBAR,ITS-90,PSS-78,,PSS-78,,UMOL/KG,,UMOL/KG,,UMOL/KG,,UMOL/KG,,UMOL/KG,,UMOL/KG,,PMOL/KG,,PMOL/KG,,FMOL/KG,,UMOL/KG,,UMOL/KG,,UATM,,DEG C,,,DEG C,/MILLE,,/MILLE,,/MILLE,UG/KG,,UMOL/KG,,UMOL/KG,,NMOL/KG,,,,,,ITS-90,,VOLTS,,VOLTS,,/MILLE,,/MILLE,,,,1E6 GELS/L,
325020210316,        A20,      54,          1,         36,         36,2,20210405,       0108,    18.8884,   -52.3336,       5183,     5.1,  25.3866,  36.9023,2,  36.9046,2,    207.7,2,   206.0,2,    0.98,2,    0.00,2,    0.00,2,    0.00,2,   1.562,2,   1.000,2,    1.67,2,  2067.4,6, 2416.67,2,    296.0,2,    20.00,   8.09764,2,    24.97, -999.00,9, -999.00,9, -999.00,-999.000,9,   82.95,2,    4.05,2,       6.10,2, 20210405,      319,  18.8884, -52.3336,    25.3871,2,     0.0452,1,     4.6399,1,     -999.0,1,     -999.0,1,     -999.0,9,     -999.0,9
325020210316,        A20,      54,          1,         35,         35,2,20210405,       0108,    18.8884,   -52.3336,       5183,    25.3,  25.3955,  36.9016,2,  36.9034,2,    208.4,3,   206.1,2,    0.98,2,    0.00,2,    0.00,2,    0.00,2,-999.000,9,-999.000,9, -999.00,9,  2062.9,2, -999.00,9,    296.4,2,    20.00,   8.09796,2,    24.99, -999.00,9, -999.00,9, -999.00,-999.000,9,   83.04,2,    3.68,2,     -999.0,9, 20210405,      316,  18.8885, -52.3336,    25.3949,2,     0.0472,1,     4.6407,1,     -999.0,1,     -999.0,1,     -999.0,9,     -999.0,9
325020210316,        A20,      54,          1,         34,         34,2,20210405,       0108,    18.8884,   -52.3336,       5183,    50.2,  25.3607,  36.9144,2,  36.9163,2,    207.5,2,   206.3,2,    1.17,2,    0.00,2,    0.00,2,    0.00,2,-999.000,9,-999.000,9, -999.00,9,  2063.4,2, 2416.59,2,    296.6,2,    20.00,   8.09714,2,    25.01, -999.00,9, -999.00,9, -999.00,-999.000,9,   82.22,2,    4.41,2,     -999.0,9, 20210405,      316,  18.8885, -52.3336,    25.3604,2,     0.0491,1,     4.6390,1,     -999.0,1,     -999.0,1,     -999.0,9,     -999.0,9
325020210316,        A20,      54,          1,         33,         33,2,20210405,       0108,    18.8884,   -52.3336,       5183,    75.6,  25.3877,  37.1214,2,  37.1179,2,    206.0,2,   205.5,2,    0.97,2,    0.00,2,    0.00,2,    0.00,2,   1.558,2,   1.010,2,    1.72,2,  2082.6,2, -999.00,9,    306.1,2,    20.00,   8.08792,2,    25.03, -999.00,9, -999.00,9, -999.00,-999.000,9,   80.59,2,    3.50,2,       6.27,2, 20210405,      314,  18.8885, -52.3336,    25.3846,2,     0.0529,1,     4.6488,1,     -999.0,1,     -999.0,1,     -999.0,9,     -999.0,9
325020210316,        A20,      54,          1,         32,         32,2,20210405,       0108,    18.8884,   -52.3336,       5183,   101.1,  24.9662,  37.3741,2,  37.3773,2,    202.4,2,   203.2,2,    0.78,2,    0.00,2,    0.00,2,    0.00,2,-999.000,9,-999.000,9, -999.00,9,  2107.2,2, 2444.78,2,    324.6,2,    20.00,   8.07081,2,    25.03, -999.00,9, -999.00,9, -999.00,-999.000,9,   74.39,2,    4.11,2,     -999.0,9, 20210405,      313,  18.8885, -52.3337,    24.9666,2,     0.0632,1,     4.6539,1,     -999.0,1,     -999.0,1,     -999.0,9,     -999.0,9
325020210316,        A20,      54,          1,         31,         31,2,20210405,       0108,    18.8884,   -52.3336,       5183,   150.9,  21.9418,  37.1306,2,  37.1380,2,    181.1,3,   184.2,2,    0.78,2,    0.89,2,    0.04,2,    0.00,2,   1.817,2,   1.162,2,    1.73,2,  2141.2,2, -999.00,9,    397.5,2,    20.00,   7.99205,2,    25.01, -999.00,9, -999.00,9, -999.00,-999.000,9,   60.45,2,    3.95,2,       7.41,2, 20210405,      311,  18.8885, -52.3337,    22.0059,2,     0.0694,1,     4.6679,1,     -999.0,1,     -999.0,1,     -999.0,9,     -999.0,9
325020210316,        A20,      54,          1,         30,         30,2,20210405,       0108,    18.8884,   -52.3336,       5183,   201.3,  19.5772,  36.7581,2,  36.7831,3,    180.5,2,   182.3,2,    1.17,2,    3.00,2,    0.00,2,    0.11,2,-999.000,9,-999.000,9, -999.00,9,  2145.2,2, 2404.66,2,    435.3,2,    20.00,   7.95509,2,    24.99, -999.00,9, -999.00,9, -999.00,-999.000,9,   56.78,2,    6.58,2,     -999.0,9, 20210405,      309,  18.8885, -52.3336,    19.5458,2,     0.0446,1,     4.6819,1,     -999.0,1,     -999.0,1,     -999.0,9,     -999.0,9
325020210316,        A20,      54,          1,         29,         29,2,20210405,       0108,    18.8884,   -52.3336,       5183,   251.4,  18.2837,  36.5505,2,  36.5402,2,    192.4,2,   192.9,2,    1.46,2,    4.63,2,    0.00,2,    0.20,2,   2.146,2,   1.333,2,    1.79,2,  2133.4,2, -999.00,9,    442.1,2,    20.00,   7.94633,2,    25.02, -999.00,9, -999.00,9, -999.00,-999.000,9,   51.50,2,    8.92,2,       9.01,2, 20210405,      307,  18.8885, -52.3336,    18.2969,2,     0.0399,1,     4.6886,1,     -999.0,1,     -999.0,1,     -999.0,9,     -999.0,9
325020210316,        A20,      54,          1,         28,         28,2,20210405,       0108,    18.8884,   -52.3336,       5183,   302.4,  17.3987,  36.4070,2,  36.4008,2,    181.6,2,   182.7,2,    2.15,2,    6.87,2,    0.00,2,    0.34,2,-999.000,9,-999.000,9, -999.00,9,  2147.5,2,  2380.7,2,    483.6,2,    20.00,   7.91159,2,    25.02, -999.00,9, -999.00,9, -999.00,-999.000,9,   49.53,2,    9.36,2,     -999.0,9, 20210405,      305,  18.8885, -52.3336,    17.3930,2,     0.0398,1,     4.6887,1,     -999.0,1,     -999.0,1,     -999.0,9,     -999.0,9
325020210316,        A20,      54,          1,         27,         27,2,20210405,       0108,    18.8884,   -52.3336,       5183,   352.0,  16.0587,  36.1930,2,  36.1969,2,    173.0,2,   174.7,2,    3.22,2,    9.54,2,    0.00,2,    0.52,2,   2.290,2,   1.396,2,    1.51,2,  2153.1,2, -999.00,9,    537.0,2,    20.00,   7.87046,6,    25.04, -999.00,9, -999.00,9, -999.00,-999.000,9,   48.30,2,   11.28,2,      12.84,2, 20210405,      303,  18.8885, -52.3336,    16.0566,2,     0.0408,1,     4.6911,1,     -999.0,1,     -999.0,1,     -999.0,9,     -999.0,9
325020210316,        A20,      54,          1,         26,         26,2,20210405,       0108,    18.8884,   -52.3336,       5183,   402.9,  14.8800,  36.0149,2,  36.0078,2,    162.1,2,   163.5,2,    4.39,2,   12.63,2,    0.00,2,    0.71,2,   2.251,2,   1.376,2,    1.30,2,  2163.9,2, 2357.86,6,    600.5,2,    20.00,   7.82455,2,    25.05, -999.00,9, -999.00,9, -999.00,-999.000,9,   45.51,2,   17.31,2,      14.95,2, 20210405,      301,  18.8885, -52.3336,    14.8767,2,     0.0402,1,     4.6912,1,     -999.0,1,     -999.0,1,     -999.0,9,     -999.0,9
325020210316,        A20,      54,          1,         25,         25,2,20210405,       0108,    18.8884,   -52.3336,       5183,   503.6,  12.8754,  35.7151,2,  35.6970,3,    143.4,2,   143.4,2,    7.32,2,   18.32,2,    0.00,2,    1.06,2,   2.017,2,   1.168,2,    0.87,2,  2186.4,2, -999.00,9,    723.6,2,    20.00,    7.7475,2,    25.01, -999.00,9, -999.00,9, -999.00,-999.000,9,   45.28,2,   19.79,2,      18.28,2, 20210405,      258,  18.8885, -52.3337,    12.8738,2,     0.0411,1,     4.6925,1,     -999.0,1,     -999.0,1,     -999.0,9,     -999.0,9
325020210316,        A20,      54,          1,         24,         24,2,20210405,       0108,    18.8884,   -52.3336,       5183,   604.9,  10.6363,  35.3775,2,  35.3691,2,    125.3,2,   125.5,2,   12.01,2,   24.26,2,    0.00,2,    1.46,2,   1.439,2,   0.773,2,    0.46,2,  2204.9,2, -999.00,9,    880.3,2,    20.00,   7.66669,2,    25.01, -999.00,9, -999.00,9, -999.00,-999.000,9,   43.32,2,   26.89,2,      23.53,2, 20210405,      255,  18.8885, -52.3336,    10.6630,2,     0.0417,1,     4.6960,1,     -999.0,1,     -999.0,1,     -999.0,9,     -999.0,9
325020210316,        A20,      54,          1,         23,         23,2,20210405,       0108,    18.8884,   -52.3336,       5183,   705.6,   8.2774,  35.0490,2,  35.0504,2,    123.7,2,   123.3,2,   17.96,2,   28.98,2,    0.00,2,    1.81,2,   0.823,2,   0.420,2,    0.25,2,  2213.3,6, -999.00,9,   1014.5,2,    20.00,   7.60704,2,    25.01, -999.00,9, -999.00,9, -999.00,-999.000,9, -999.00,9, -999.00,9,      24.27,2, 20210405,      252,  18.8885, -52.3337,     8.2682,2,     0.0424,1,     4.6970,1,     -999.0,1,     -999.0,1,     -999.0,9,     -999.0,9
325020210316,        A20,      54,          1,         22,         22,2,20210405,       0108,    18.8884,   -52.3336,       5183,   807.0,   6.8541,  34.8761,2,  34.8755,2,    129.8,2,   129.8,2,   21.97,2,   31.05,2,    0.00,2,    1.98,2,   0.483,2,   0.243,2,    0.17,2,  2220.0,2, 2309.65,2,   1074.0,2,    20.00,   7.58026,2,    25.00, -999.00,9, -999.00,9, -999.00,-999.000,9,   44.98,2,   33.64,2,      23.47,2, 20210405,      249,  18.8885, -52.3336,     6.8539,2,     0.0419,1,     4.6962,1,     -999.0,1,     -999.0,1,     -999.0,9,     -999.0,9
325020210316,        A20,      54,          1,         21,         21,2,20210405,       0108,    18.8884,   -52.3336,       5183,   907.0,   6.1327,  34.8267,2,  34.8267,2,    137.4,2,   136.9,2,   23.83,2,   31.55,2,    0.00,2,    2.02,2,   0.299,2,   0.148,2,    0.09,2,  2221.3,2, -999.00,9,   1078.9,2,    20.00,   7.57852,2,    25.02, -999.00,9, -999.00,9, -999.00,-999.000,9, -999.00,9, -999.00,9,      23.52,2, 20210405,      246,  18.8885, -52.3336,     6.1308,2,     0.0430,1,     4.6960,1,     -999.0,1,     -999.0,1,     -999.0,9,     -999.0,9
325020210316,        A20,      54,          1,         20,         20,2,20210405,       0108,    18.8884,   -52.3336,       5183,  1009.1,   5.7537,  34.8510,2,  34.8507,2,    149.9,2,   149.6,2,   23.83,2,   30.09,2,    0.00,2,    1.95,2,  -0.001,4,   0.127,2,    0.12,2,  2216.4,2, 2312.52,2,   1034.0,2,    20.00,   7.59618,2,    25.01, -999.00,9, -999.00,9, -999.00,-999.000,9,   41.23,2,   32.29,2,      23.31,2, 20210405,      243,  18.8885, -52.3336,     5.7535,2,     0.0429,1,     4.6971,1,     -999.0,1,     -999.0,1,     -999.0,9,     -999.0,9
325020210316,        A20,      54,          1,         19,         19,2,20210405,       0108,    18.8884,   -52.3336,       5183,  1108.9,   5.6106,  34.9039,2,  34.9040,2,    166.0,2,   165.2,2,   22.36,2,   27.85,2,    0.00,2,    1.81,2,   0.391,2,   0.188,2,    0.15,2,  2211.6,2, -999.00,9,    968.0,2,    20.00,   7.62356,2,    25.02, -999.00,9, -999.00,9, -999.00,-999.000,9, -999.00,9, -999.00,9,      21.04,2, 20210405,      239,  18.8885, -52.3337,     5.6088,2,     0.0422,1,     4.6972,1,     -999.0,1,     -999.0,1,     -999.0,9,     -999.0,9
325020210316,        A20,      54,          1,         18,         18,2,20210405,       0108,    18.8884,   -52.3336,       5183,  1210.5,   5.4178,  34.9676,2,  34.9691,2,    187.3,2,   187.8,2,   19.63,2,   24.82,2,    0.00,2,    1.60,2,   0.624,2,   0.312,2,    0.22,2,  2200.2,2, 2316.04,2,    889.1,2,    20.00,    7.6594,2,    25.03, -999.00,9, -999.00,9, -999.00,-999.000,9,   41.94,2,   25.86,2,      18.02,2, 20210405,      237,  18.8885, -52.3336,     5.4182,2,     0.0431,1,     4.6982,1,     -999.0,1,     -999.0,1,     -999.0,9,     -999.0,9
325020210316,        A20,      54,          1,         17,         17,2,20210405,       0108,    18.8884,   -52.3336,       5183,  1312.1,   5.1412,  34.9996,2,  35.0012,2,    206.6,2,   207.0,2,   17.77,2,   22.78,2,    0.00,2,    1.47,2,   0.830,2,   0.411,2,    0.27,2,  2191.5,2, -999.00,9,    833.5,2,    20.00,   7.68527,2,    25.00, -999.00,9, -999.00,9, -999.00,-999.000,9, -999.00,9, -999.00,9,      17.17,2, 20210405,      234,  18.8885, -52.3336,     5.1400,2,     0.0427,1,     4.6988,1,     -999.0,1,     -999.0,1,     -999.0,9,     -999.0,9
325020210316,        A20,      54,          1,         16,         16,2,20210405,       0108,    18.8884,   -52.3336,       5183,  1413.7,   4.8436,  35.0132,2,  35.0144,2,    225.3,2,   224.2,2,   16.11,2,   20.88,2,    0.00,2,    1.36,2,   1.059,2,   0.531,2,    0.32,2,  2183.0,2, 2314.53,2,    797.5,2,    20.00,   7.70381,2,    25.00, -999.00,9, -999.00,9, -999.00,-999.000,9,   43.39,2,   21.49,2,      16.11,2, 20210405,      231,  18.8885, -52.3336,     4.8452,2,     0.0420,1,     4.6995,1,     -999.0,1,     -999.0,1,     -999.0,9,     -999.0,9
325020210316,        A20,      54,          1,         15,         15,2,20210405,       0108,    18.8884,   -52.3336,       5183,  1514.9,   4.6184,  35.0143,2,  35.0154,2,    235.5,2,   234.8,2,   15.23,2,   19.97,2,    0.00,2,    1.30,2,   1.091,2,   0.552,2,    0.32,2,  2179.2,2, -999.00,9,    774.7,2,    20.00,   7.71445,2,    25.02, -999.00,9, -999.00,9, -999.00,-999.000,9, -999.00,9, -999.00,9,      14.81,2, 20210405,      228,  18.8885, -52.3337,     4.6179,2,     0.0412,1,     4.6996,1,     -999.0,1,     -999.0,1,     -999.0,9,     -999.0,9
325020210316,        A20,      54,          1,         14,         14,2,20210405,       0108,    18.8884,   -52.3336,       5183,  1616.0,   4.3982,  35.0113,2,  35.0132,2,    243.4,2,   242.6,2,   14.94,2,   19.34,2,    0.00,2,    1.26,2,-999.000,9,-999.000,9, -999.00,9,  2174.6,2, 2313.34,2,    758.8,2,    20.00,   7.72267,2,    25.00, -999.00,9, -999.00,9, -999.00,-999.000,9,   46.86,2,   21.13,2,     -999.0,9, 20210405,      225,  18.8885, -52.3336,     4.3976,2,     0.0426,1,     4.6994,1,     -999.0,1,     -999.0,1,     -999.0,9,     -999.0,9
325020210316,        A20,      54,          1,         13,         13,2,20210405,       0108,    18.8884,   -52.3336,       5183,  1818.9,   4.0118,  35.0039,2,  35.0049,2,    246.2,2,   245.4,2,   17.48,2,   19.61,2,    0.00,2,    1.27,2,   0.538,2,   0.250,2,    0.22,2,  2172.9,6, -999.00,9,    741.8,2,    20.00,   7.73229,2,    24.99, -999.00,9, -999.00,9, -999.00,-999.000,9, -999.00,9, -999.00,9,      14.33,2, 20210405,      221,  18.8885, -52.3336,     4.0138,2,     0.0427,1,     4.6998,1,     -999.0,1,     -999.0,1,     -999.0,9,     -999.0,9
325020210316,        A20,      54,          1,         12,         12,2,20210405,       0108,    18.8884,   -52.3336,       5183,  2022.6,   3.6528,  34.9912,2,  34.9919,2,    245.7,2,   245.4,2,   21.97,2,   19.98,2,    0.00,2,    1.31,2,-999.000,9,-999.000,9, -999.00,9,  2177.5,2, -999.00,9,    738.4,2,    20.00,   7.73577,2,    24.98, -999.00,9, -999.00,9, -999.00,-999.000,9,   43.02,2,   21.25,2,     -999.0,9, 20210405,      216,  18.8885, -52.3336,     3.6514,2,     0.0418,1,     4.7000,1,     -999.0,1,     -999.0,1,     -999.0,9,     -999.0,9
325020210316,        A20,      54,          1,         11,         11,2,20210405,       0108,    18.8884,   -52.3336,       5183,  2275.6,   3.2343,  34.9659,2,  34.9669,2,    247.5,2,   247.7,2,   26.85,2,   20.23,2,    0.00,2,    1.33,2,   0.127,2,   0.063,2,    0.07,2,  2179.3,2,  2325.5,2,    737.7,6,    20.00,   7.73732,6,    25.00, -999.00,9, -999.00,9, -999.00,-999.000,9, -999.00,9, -999.00,9,      13.61,2, 20210405,      210,  18.8885, -52.3337,     3.2342,2,     0.0424,1,     4.6996,1,     -999.0,1,     -999.0,1,     -999.0,9,     -999.0,9
325020210316,        A20,      54,          1,         10,         10,2,20210405,       0108,    18.8884,   -52.3336,       5183,  2530.1,   2.9578,  34.9466,2,  34.9479,2,    249.9,2,   250.0,2,   29.88,2,   20.29,2,    0.00,2,    1.34,2,-999.000,9,-999.000,9, -999.00,9,  2182.0,2, -999.00,9,    736.5,2,    20.00,   7.73758,2,    25.01, -999.00,9, -999.00,9, -999.00,-999.000,9,   40.64,2,   20.73,2,     -999.0,9, 20210405,      205,  18.8885, -52.3336,     2.9574,2,     0.0428,1,     4.6988,1,     -999.0,1,     -999.0,1,     -999.0,9,     -999.0,9
325020210316,        A20,      54,          1,          9,          9,2,20210405,       0108,    18.8884,   -52.3336,       5183,  2785.7,   2.8036,  34.9345,2,  34.9349,2,    250.5,2,   250.9,2,   32.42,2,   20.61,2,    0.00,2,    1.36,2,   0.130,6,   0.063,6,    0.12,6,  2185.4,2, 2328.93,2,    739.2,2,    20.00,   7.73792,6,    25.02, -999.00,9, -999.00,9, -999.00,-999.000,9, -999.00,9, -999.00,9,      14.17,6, 20210405,      159,  18.8885, -52.3336,     2.8027,2,     0.0424,1,     4.6996,1,     -999.0,1,     -999.0,1,     -999.0,9,     -999.0,9
325020210316,        A20,      54,          1,          8,          8,2,20210405,       0108,    18.8884,   -52.3336,       5183,  3039.4,   2.6746,  34.9234,2,  34.9240,2,    250.7,2,   251.1,2,   35.05,2,   20.73,2,    0.00,2,    1.37,2,-999.000,9,-999.000,9, -999.00,9,  2187.1,2, -999.00,9,    742.6,2,    20.00,   7.73572,2,    25.00, -999.00,9, -999.00,9, -999.00,-999.000,9,   42.41,2,   24.73,2,     -999.0,9, 20210405,      154,  18.8885, -52.3336,     2.6745,2,     0.0434,1,     4.6996,1,     -999.0,1,     -999.0,1,     -999.0,9,     -999.0,9
325020210316,        A20,      54,          1,          7,          7,2,20210405,       0108,    18.8884,   -52.3336,       5183,  3347.2,   2.5188,  34.9090,2,  34.9101,2,    251.7,2,   252.3,2,   37.69,2,   20.89,2,    0.00,2,    1.39,2,   0.128,2,   0.063,2,    0.10,2,  2190.1,2, 2334.37,6,    746.6,2,    20.00,   7.73333,2,    24.98, -999.00,9, -999.00,9, -999.00,-999.000,9,   43.12,2,   21.30,2,      14.57,2, 20210405,      146,  18.8885, -52.3337,     2.5181,2,     0.0424,1,     4.6994,1,     -999.0,1,     -999.0,1,     -999.0,9,     -999.0,9
325020210316,        A20,      54,          1,          6,          6,2,20210405,       0108,    18.8884,   -52.3336,       5183,  3652.7,   2.3480,  34.8938,2,  34.8934,2,    252.8,2,   253.3,2,   40.62,2,   21.17,2,    0.00,2,    1.41,2,   0.151,2,   0.073,2,    0.07,2,  2190.5,2, -999.00,9,    753.2,2,    20.00,   7.73042,2,    25.00, -999.00,9, -999.00,9, -999.00,-999.000,9, -999.00,9, -999.00,9,      14.14,2, 20210405,      140,  18.8885, -52.3336,     2.3479,2,     0.0429,1,     4.6996,1,     -999.0,1,     -999.0,1,     -999.0,9,     -999.0,9
325020210316,        A20,      54,          1,          5,          5,2,20210405,       0108,    18.8884,   -52.3336,       5183,  3960.6,   2.2205,  34.8812,2,  34.8818,2,    253.5,2,   253.7,2,   43.36,2,   21.29,2,    0.00,2,    1.42,2,-999.000,9,-999.000,9, -999.00,9,  2191.4,2, -999.00,9,    760.2,2,    20.00,   7.72655,2,    25.00, -999.00,9, -999.00,9, -999.00,-999.000,9,   41.74,2,   20.83,2,     -999.0,9, 20210405,      134,  18.8885, -52.3336,     2.2209,2,     0.0425,1,     4.6993,1,     -999.0,1,     -999.0,1,     -999.0,9,     -999.0,9
325020210316,        A20,      54,          1,          4,          4,2,20210405,       0108,    18.8884,   -52.3336,       5183,  4421.9,   2.0840,  34.8615,2,  34.8619,2,    249.9,2,   249.7,2,   51.07,2,   22.39,2,    0.00,2,    1.49,2,   0.196,2,   0.099,2,    0.07,2,  2200.6,2, -999.00,5,    780.2,2,    20.00,   7.71657,6,    25.01, -999.00,9, -999.00,9, -999.00,-999.000,9,   43.14,2,   24.22,2,      14.75,2, 20210405,      125,  18.8885, -52.3336,     2.0838,2,     0.0419,1,     4.6982,1,     -999.0,1,     -999.0,1,     -999.0,9,     -999.0,9
325020210316,        A20,      54,          1,          3,          3,2,20210405,       0108,    18.8884,   -52.3336,       5183,  4935.1,   2.0541,  34.8521,2,  34.8534,2,    249.0,2,   248.9,2,   53.80,2,   23.01,2,    0.00,2,    1.52,2,-999.000,9,-999.000,9, -999.00,9,  2204.0,2, -999.00,9,    789.0,2,    20.00,   7.71158,2,    25.01, -999.00,9, -999.00,9, -999.00,-999.000,9,   41.04,2,   24.49,2,     -999.0,9, 20210405,      115,  18.8885, -52.3336,     2.0544,2,     0.0421,1,     4.6957,1,     -999.0,1,     -999.0,1,     -999.0,9,     -999.0,9