BOTTLE,20230512CCHSIOCBG
EXPOCODE,SECT_ID,STNNBR,CASTNO,SAMPNO,BTLNBR,BTLNBR_FLAG_W,DATE,TIME,LATITUDE,LONGITUDE,DEPTH,CTDPRS,CTDTMP,CTDSAL,CTDSAL_FLAG_W,SALNTY,SALNTY_FLAG_W,CTDOXY,CTDOXY_FLAG_W,OXYGEN,OXYGEN_FLAG_W,SILCAT,SILCAT_FLAG_W,NITRAT,NITRAT_FLAG_W,NITRIT,NITRIT_FLAG_W,PHSPHT,PHSPHT_FLAG_W,CFC-11,CFC-11_FLAG_W,CFC-12,CFC-12_FLAG_W,SF6,SF6_FLAG_W,TCARBN,TCARBN_FLAG_W,ALKALI,ALKALI_FLAG_W,FCO2,FCO2_FLAG_W,FCO2TMP,PH_TOT,PH_TOT_FLAG_W,PH_TMP,DELC13,DELC13_FLAG_W,DELC14,DELC14_FLAG_W,C14ERR,POC,POC_FLAG_W,DOC,DOC_FLAG_W,TDN,TDN_FLAG_W,N2O,N2O_FLAG_W,BTL_DATE,BTL_TIME,BTL_LAT,BTL_LON,REFTMP,REFTMP_FLAG_W,CTDFLUOR,CTDFLUOR_FLAG_W,CTDXMISS,CTDXMISS_FLAG_W,D15N_NO2+NO3,D15N_NO2+NO3_FLAG_W,D18O_NO2+NO3,D18O_NO2+NO3_FLAG_W,HPLC,HPLC_FLAG_W,MICROGELS,MICROGELS_FLAG_W
,,,,,,,,,,,METERS,DBAR,ITS-90,PSS-78,,PSS-78,,UMOL/KG,,UMOL/KG,,UMOL/KG,,UMOL/KG,,UMOL/KG,,UMOL/KG,,PMOL/KG,,PMOL/KG,,FMOL/KG,,UMOL/KG,,UMOL/KG,,UATM,,DEG C,,,DEG C,/MILLE,,/MILLE,,/MILLE,UG/KG,,UMOL/KG,,UMOL/KG,,NMOL/KG,,,,,,ITS-90,,VOLTS,,VOLTS,,/MILLE,,/MILLE,,,,1E6 GELS/L,
325020210316,        A20,      56,          1,         36,         36,2,20210405,       1455,    17.7222,   -52.3342,       4496,     5.1,  25.6591,  36.5760,2,  36.5799,2,    206.1,2,   205.2,2,    0.98,2,    0.00,2,    0.00,2,    0.00,2,   1.524,2,   0.992,2,    1.59,2,  2051.1,6, -999.00,9,    294.6,2,    20.00,   8.09677,2,    25.00, -999.00,9, -999.00,9, -999.00,-999.000,9,   79.12,2,    4.14,2,       6.13,2, 20210405,     1700,  17.7222, -52.3342,    25.6758,2,     0.0392,1,     4.6451,1,     -999.0,1,     -999.0,1,     -999.0,9,     -999.0,9
325020210316,        A20,      56,          1,         35,         35,2,20210405,       1455,    17.7222,   -52.3342,       4496,    19.5,  25.4332,  36.5733,2,  36.5763,2,    205.5,2,   205.5,2,    0.98,2,    0.00,2,    0.00,2,    0.00,2,   1.547,2,   0.995,2,    1.63,2,  2051.9,2, 2396.47,2,    295.0,2,    20.00,   8.09729,6,    25.00, -999.00,9, -999.00,9, -999.00,-999.000,9,   82.78,2,    4.48,2,       6.28,2, 20210405,     1658,  17.7222, -52.3342,    25.4332,2,     0.0412,1,     4.6361,1,     -999.0,1,     -999.0,1,     -999.0,9,     -999.0,9
325020210316,        A20,      56,          1,         34,         34,2,20210405,       1455,    17.7222,   -52.3342,       4496,    40.2,  25.4262,  36.5739,2,  36.5763,2,    205.3,2,   205.6,2,    0.98,2,    0.00,2,    0.00,2,    0.00,2,-999.000,9,-999.000,9, -999.00,9,  -999.0,9, -999.00,9,   -999.0,9,  -999.00,-999.00000,9,  -999.00, -999.00,9, -999.00,9, -999.00,-999.000,9,   81.79,2,    3.73,2,     -999.0,9, 20210405,     1656,  17.7222, -52.3342,    25.4255,2,     0.0432,1,     4.6385,1,     -999.0,1,     -999.0,1,     -999.0,9,     -999.0,9
325020210316,        A20,      56,          1,         33,         33,2,20210405,       1455,    17.7222,   -52.3342,       4496,    65.7,  25.4155,  36.5745,2,  36.5769,2,    205.3,2,   205.2,2,    0.88,2,    0.00,2,    0.00,2,    0.00,2,   1.520,2,   0.988,2,    1.60,2,  2051.0,2, -999.00,9,    295.8,2,    20.00,   8.09716,2,    25.03, -999.00,9, -999.00,9, -999.00,-999.000,9,   80.98,2,    4.51,2,       6.05,2, 20210405,     1654,  17.7222, -52.3342,    25.4104,2,     0.0461,1,     4.6395,1,     -999.0,1,     -999.0,1,     -999.0,9,     -999.0,9
325020210316,        A20,      56,          1,         32,         32,2,20210405,       1455,    17.7222,   -52.3342,       4496,    90.7,  25.4679,  36.9055,2,  36.9443,3,    206.5,2,   207.0,2,    0.78,2,    0.00,2,    0.00,2,    0.00,2,-999.000,9,-999.000,9, -999.00,9,  2064.1,2, 2417.51,6,   -999.0,9,  -999.00,   8.09489,2,    25.04, -999.00,9, -999.00,9, -999.00,-999.000,9,   79.86,2,    3.91,2,     -999.0,9, 20210405,     1653,  17.7222, -52.3342,    25.4536,2,     0.0570,1,     4.6380,1,     -999.0,1,     -999.0,1,     -999.0,9,     -999.0,9
325020210316,        A20,      56,          1,         31,         31,2,20210405,       1455,    17.7222,   -52.3342,       4496,   115.0,  25.0201,  37.2465,2,  37.2531,2,    199.8,3,   202.2,2,    0.68,2,    0.00,2,    0.00,2,    0.00,2,   1.618,2,   1.039,2,    1.59,2,  2106.5,2, -999.00,9,    331.3,2,    20.00,   8.06063,2,    24.97, -999.00,9, -999.00,9, -999.00,-999.000,9,   73.76,2,    3.61,2,       6.66,2, 20210405,     1651,  17.7222, -52.3342,    25.0087,2,     0.0706,1,     4.6504,1,     -999.0,1,     -999.0,1,     -999.0,9,     -999.0,9
325020210316,        A20,      56,          1,         30,         30,2,20210405,       1455,    17.7222,   -52.3342,       4496,   141.1,  23.5773,  37.3186,2,  37.3191,2,    191.7,3,   194.3,2,    0.68,2,    0.02,2,    0.08,2,    0.00,2,-999.000,9,-999.000,9, -999.00,9,  2131.9,2, 2441.38,2,    366.8,2,    20.00,   8.02488,2,    25.03, -999.00,9, -999.00,9, -999.00,-999.000,9,   65.08,2,    3.73,2,     -999.0,9, 20210405,     1649,  17.7222, -52.3342,    23.5765,2,     0.0816,1,     4.6550,1,     -999.0,1,     -999.0,1,     -999.0,9,     -999.0,9
325020210316,        A20,      56,          1,         29,         29,2,20210405,       1455,    17.7222,   -52.3342,       4496,   187.0,  20.5984,  36.9480,2,  36.9382,2,    166.6,3,   170.3,2,    1.17,2,    3.81,2,    0.00,2,    0.16,2,   1.876,2,   1.215,2,    1.62,2,  2156.7,2, -999.00,9,    450.6,2,    20.00,   7.94308,6,    25.01, -999.00,9, -999.00,9, -999.00,-999.000,9,   54.31,2,    6.11,2,       9.55,2, 20210405,     1646,  17.7222, -52.3342,    20.6000,2,     0.0517,1,     4.6787,1,     -999.0,1,     -999.0,1,     -999.0,9,     -999.0,9
325020210316,        A20,      56,          1,         28,         28,2,20210405,       1455,    17.7222,   -52.3342,       4496,   236.7,  17.7709,  36.4796,2,  36.4634,2,    162.8,2,   163.4,2,    2.34,2,    8.52,2,    0.00,2,    0.44,2,-999.000,9,-999.000,9, -999.00,9,  -999.0,9, -999.00,9,   -999.0,9,  -999.00,-999.00000,9,  -999.00, -999.00,9, -999.00,9, -999.00,-999.000,9,   52.41,2,    9.85,2,     -999.0,9, 20210405,     1645,  17.7222, -52.3342,    17.7736,2,     0.0400,1,     4.6874,1,     -999.0,1,     -999.0,1,     -999.0,9,     -999.0,9
325020210316,        A20,      56,          1,         27,         27,2,20210405,       1455,    17.7222,   -52.3342,       4496,   286.4,  16.0660,  36.1859,2,  36.1700,2,    146.6,2,   146.7,2,    3.81,2,   12.92,2,    0.00,2,    0.72,2,   2.131,2,   1.330,2,    1.32,2,  2177.1,2, 2367.76,2,    614.7,2,    20.00,    7.8184,2,    25.02, -999.00,9, -999.00,9, -999.00,-999.000,9,   52.14,2,   13.49,2,      16.20,2, 20210405,     1643,  17.7222, -52.3342,    16.0944,2,     0.0409,1,     4.6881,1,     -999.0,1,     -999.0,1,     -999.0,9,     -999.0,9
325020210316,        A20,      56,          1,         26,         26,2,20210405,       1455,    17.7222,   -52.3342,       4496,   337.4,  14.8886,  35.9840,2,  35.9663,2,    129.3,2,   128.5,2,    5.27,2,   16.61,2,    0.00,2,    0.94,2,   2.119,2,   1.292,2,    1.16,2,  -999.0,9, -999.00,9,   -999.0,9,  -999.00,-999.00000,9,  -999.00, -999.00,9, -999.00,9, -999.00,-999.000,9,   51.95,2,   16.55,2,      20.02,2, 20210405,     1641,  17.7222, -52.3342,    14.8828,2,     0.0406,1,     4.6889,1,     -999.0,1,     -999.0,1,     -999.0,9,     -999.0,9
325020210316,        A20,      56,          1,         25,         25,2,20210405,       1455,    17.7222,   -52.3342,       4496,   387.9,  13.6865,  35.7864,2,  35.7835,2,    112.7,2,   112.8,2,    6.74,2,   20.14,2,    0.00,2,    1.15,2,   1.975,2,   1.196,2,    0.99,2,  2203.2,2, -999.00,9,    804.3,2,    20.00,   7.70704,2,    25.04, -999.00,9, -999.00,9, -999.00,-999.000,9,   49.73,2,   21.10,2,      22.89,2, 20210405,     1638,  17.7222, -52.3342,    13.7007,2,     0.0416,1,     4.6895,1,     -999.0,1,     -999.0,1,     -999.0,9,     -999.0,9
325020210316,        A20,      56,          1,         24,         24,2,20210405,       1455,    17.7222,   -52.3342,       4496,   437.8,  12.7148,  35.6377,2,  35.6358,2,    103.5,2,   104.3,2,    8.30,2,   22.74,2,    0.00,2,    1.32,2,-999.000,9,-999.000,9, -999.00,9,  -999.0,9, -999.00,9,   -999.0,9,  -999.00,-999.00000,9,  -999.00, -999.00,9, -999.00,9, -999.00,-999.000,9,   47.11,2,   22.22,2,     -999.0,9, 20210405,     1636,  17.7222, -52.3342,    12.7373,2,     0.0409,1,     4.6899,1,     -999.0,1,     -999.0,1,     -999.0,9,     -999.0,9
325020210316,        A20,      56,          1,         23,         23,2,20210405,       1455,    17.7222,   -52.3342,       4496,   486.8,  12.0218,  35.5357,2,  35.5338,2,     98.6,2,    99.1,2,    9.57,2,   24.59,2,    0.00,2,    1.44,2,   1.684,2,   0.969,2,    0.65,2,  2214.3,2, -999.00,9,    933.3,2,    20.00,   7.64408,2,    25.04, -999.00,9, -999.00,9, -999.00,-999.000,9,   43.20,2,   28.68,2,      25.53,2, 20210405,     1634,  17.7222, -52.3342,    12.0322,2,     0.0424,1,     4.6910,1,     -999.0,1,     -999.0,1,     -999.0,9,     -999.0,9
325020210316,        A20,      56,          1,         22,         22,2,20210405,       1455,    17.7222,   -52.3342,       4496,   569.3,  10.2806,  35.2836,2,  35.2895,2,     96.0,2,    96.0,2,   13.28,2,   28.20,2,    0.00,2,    1.70,2,   1.230,2,   0.664,2,    0.40,2,  2215.2,2, 2322.12,6,   1034.1,2,    20.00,   7.59948,2,    25.04, -999.00,9, -999.00,9, -999.00,-999.000,9, -999.00,9, -999.00,9,      26.21,2, 20210405,     1631,  17.7222, -52.3342,    10.3018,3,     0.0433,1,     4.6927,1,     -999.0,1,     -999.0,1,     -999.0,9,     -999.0,9
325020210316,        A20,      56,          1,         21,         21,2,20210405,       1455,    17.7222,   -52.3342,       4496,   669.5,   8.3731,  35.0170,2,  35.0240,2,    109.6,2,   109.6,2,   17.78,2,   30.48,2,    0.00,2,    1.90,2,-999.000,9,-999.000,9, -999.00,9,  2216.3,2, -999.00,9,   -999.0,9,  -999.00,   7.57822,6,    25.02, -999.00,9, -999.00,9, -999.00,-999.000,9,   42.20,2,   30.09,2,     -999.0,9, 20210405,     1629,  17.7222, -52.3342,     8.3856,2,     0.0425,1,     4.6944,1,     -999.0,1,     -999.0,1,     -999.0,9,     -999.0,9
325020210316,        A20,      56,          1,         20,         20,2,20210405,       1455,    17.7222,   -52.3342,       4496,   771.4,   7.1044,  34.8720,2,  34.8800,2,    118.2,2,   117.3,2,   21.30,2,   31.93,2,    0.00,2,    2.04,2,   0.492,2,   0.255,2,    0.15,2,  2218.4,2, 2308.84,2,   1119.7,2,    20.00,   7.56268,2,    25.05, -999.00,9, -999.00,9, -999.00,-999.000,9, -999.00,9, -999.00,9,      25.45,2, 20210405,     1625,  17.7222, -52.3342,     7.1511,3,     0.0424,1,     4.6947,1,     -999.0,1,     -999.0,1,     -999.0,9,     -999.0,9
325020210316,        A20,      56,          1,         19,         19,2,20210405,       1455,    17.7222,   -52.3342,       4496,   871.7,   6.2853,  34.8013,2,  34.8013,2,    126.4,2,   126.2,2,   23.84,2,   32.43,2,    0.00,2,    2.11,2,   0.298,2,   0.146,2,    0.08,2,  2217.9,2, -999.00,9,   -999.0,9,  -999.00,   7.55915,6,    25.02, -999.00,9, -999.00,9, -999.00,-999.000,9,   42.81,2,   31.10,2,      24.22,2, 20210405,     1623,  17.7222, -52.3342,     6.2826,2,     0.0430,1,     4.6947,1,     -999.0,1,     -999.0,1,     -999.0,9,     -999.0,9
325020210316,        A20,      56,          1,         18,         18,2,20210405,       1455,    17.7222,   -52.3342,       4496,   973.1,   5.8337,  34.8109,2,  34.8113,2,    136.5,2,   136.9,2,   24.62,2,   31.63,2,    0.00,2,    2.07,2,-999.000,9,-999.000,9, -999.00,9,  -999.0,9, -999.00,9,   -999.0,9,  -999.00,-999.00000,9,  -999.00, -999.00,9, -999.00,9, -999.00,-999.000,9, -999.00,9, -999.00,9,     -999.0,9, 20210405,     1620,  17.7222, -52.3342,     5.8341,2,     0.0430,1,     4.6954,1,     -999.0,1,     -999.0,1,     -999.0,9,     -999.0,9
325020210316,        A20,      56,          1,         17,         17,2,20210405,       1455,    17.7222,   -52.3342,       4496,  1075.2,   5.6164,  34.8592,2,  34.8611,2,    151.0,2,   151.5,2,   23.74,2,   29.71,2,    0.00,2,    1.95,2,   0.195,2,   0.096,2,    0.06,2,  2208.8,2, 2311.55,2,   1028.7,2,    20.00,   7.59977,2,    25.04, -999.00,9, -999.00,9, -999.00,-999.000,9, -999.00,1, -999.00,1,      21.92,2, 20210405,     1617,  17.7222, -52.3342,     5.6146,2,     0.0433,1,     4.6960,1,     -999.0,1,     -999.0,1,     -999.0,9,     -999.0,9
325020210316,        A20,      56,          1,         16,         16,2,20210405,       1455,    17.7222,   -52.3342,       4496,  1174.6,   5.4107,  34.9183,2,  34.9189,2,    169.2,2,   169.7,2,   21.88,2,   27.27,2,    0.00,2,    1.80,2,-999.000,9,-999.000,9, -999.00,9,  -999.0,9, -999.00,9,   -999.0,9,  -999.00,-999.00000,9,  -999.00, -999.00,9, -999.00,9, -999.00,-999.000,9, -999.00,9, -999.00,9,     -999.0,9, 20210405,     1614,  17.7222, -52.3342,     5.4101,2,     0.0422,1,     4.6969,1,     -999.0,1,     -999.0,1,     -999.0,9,     -999.0,9
325020210316,        A20,      56,          1,         15,         15,2,20210405,       1455,    17.7222,   -52.3342,       4496,  1276.7,   5.2199,  34.9642,2,  34.9646,2,    186.6,2,   186.8,2,   20.22,2,   25.14,2,    0.00,2,    1.66,2,   0.394,2,   0.192,2,    0.09,2,  2190.7,2, -999.00,9,    888.7,6,    20.00,   7.65906,2,    25.02, -999.00,9, -999.00,9, -999.00,-999.000,9,   44.01,2,   25.98,2,      18.42,2, 20210405,     1611,  17.7222, -52.3342,     5.2242,2,     0.0413,1,     4.6974,1,     -999.0,1,     -999.0,1,     -999.0,9,     -999.0,9
325020210316,        A20,      56,          1,         14,         14,2,20210405,       1455,    17.7222,   -52.3342,       4496,  1376.8,   4.9864,  34.9867,2,  34.9890,2,    202.9,2,   202.6,2,   18.56,2,   23.36,2,    0.00,2,    1.53,2,-999.000,9,-999.000,9, -999.00,9,  -999.0,9, -999.00,9,   -999.0,9,  -999.00,-999.00000,9,  -999.00, -999.00,9, -999.00,9, -999.00,-999.000,9, -999.00,9, -999.00,9,     -999.0,9, 20210405,     1608,  17.7222, -52.3342,     4.9853,2,     0.0416,1,     4.6978,1,     -999.0,1,     -999.0,1,     -999.0,9,     -999.0,9
325020210316,        A20,      56,          1,         13,         13,2,20210405,       1455,    17.7222,   -52.3342,       4496,  1479.5,   4.7651,  35.0014,2,  35.0022,2,    216.6,2,   216.3,2,   17.68,2,   21.90,2,    0.00,2,    1.45,2,   0.617,2,   0.304,2,    0.20,2,  -999.0,9, -999.00,9,   -999.0,9,  -999.00,-999.00000,9,  -999.00, -999.00,9, -999.00,9, -999.00,-999.000,9, -999.00,9, -999.00,9,      16.13,2, 20210405,     1605,  17.7222, -52.3342,     4.7623,2,     0.0435,1,     4.6984,1,     -999.0,1,     -999.0,1,     -999.0,9,     -999.0,9
325020210316,        A20,      56,          1,         12,         12,2,20210405,       1455,    17.7222,   -52.3342,       4496,  1579.8,   4.5308,  35.0036,2,  35.0055,2,    228.0,2,   227.7,2,   17.09,2,   20.87,2,    0.00,2,    1.38,2,   0.671,2,   0.327,2,    0.24,2,  2171.7,2, 2315.86,2,    782.8,2,    20.00,   7.71014,2,    25.00, -999.00,9, -999.00,9, -999.00,-999.000,9,   43.67,2,   20.23,2,      15.78,2, 20210405,     1601,  17.7222, -52.3342,     4.5295,2,     0.0428,1,     4.6985,1,     -999.0,1,     -999.0,1,     -999.0,9,     -999.0,9
325020210316,        A20,      56,          1,         11,         11,2,20210405,       1455,    17.7222,   -52.3342,       4496,  1751.8,   4.1272,  34.9971,2,  34.9984,2,    239.8,2,   239.3,2,   17.68,2,   20.01,2,    0.00,2,    1.33,2,-999.000,5,-999.000,5, -999.00,5,  -999.0,9, -999.00,9,   -999.0,9,  -999.00,-999.00000,9,  -999.00, -999.00,9, -999.00,9, -999.00,-999.000,9,   43.28,2,   20.06,2,     -999.0,5, 20210405,     1557,  17.7222, -52.3342,     4.1220,2,     0.0426,1,     4.6984,1,     -999.0,1,     -999.0,1,     -999.0,9,     -999.0,9
325020210316,        A20,      56,          1,         10,         10,4,20210405,       1455,    17.7222,   -52.3342,       4496,  1956.0,   3.7029,  34.9832,3,-999.0000,9,    251.9,3,  -999.0,9, -999.00,9, -999.00,9, -999.00,9, -999.00,9,-999.000,9,-999.000,9, -999.00,9,  -999.0,9, -999.00,9,   -999.0,9,  -999.00,-999.00000,9,  -999.00, -999.00,9, -999.00,9, -999.00,-999.000,9, -999.00,9, -999.00,9,     -999.0,9, 20210405,     1553,  17.7222, -52.3342,     3.7029,3,     0.0423,1,     4.6984,1,     -999.0,9,     -999.0,9,     -999.0,9,     -999.0,9
325020210316,        A20,      56,          1,          9,          9,2,20210405,       1455,    17.7222,   -52.3342,       4496,  2189.8,   3.3615,  34.9669,2,  34.9681,2,    254.9,2,   255.0,2,   20.81,2,   18.98,2,    0.00,2,    1.26,2,   0.539,2,   0.254,2,    0.08,2,  2165.3,2, -999.00,9,   -999.0,9,  -999.00,   7.73867,2,    25.01, -999.00,9, -999.00,9, -999.00,-999.000,9,   44.76,2,   19.49,2,      13.69,2, 20210405,     1547,  17.7222, -52.3342,     3.3618,2,     0.0417,1,     4.6984,1,     -999.0,1,     -999.0,1,     -999.0,9,     -999.0,9
325020210316,        A20,      56,          1,          8,          8,2,20210405,       1455,    17.7222,   -52.3342,       4496,  2444.2,   3.1182,  34.9522,2,  34.9536,2,    256.6,2,   256.7,2,   22.96,2,   19.04,2,    0.00,2,    1.26,2,   0.499,6,   0.238,6,    0.11,6,  2166.1,2, 2319.09,2,    730.2,2,    20.00,   7.73928,2,    25.02, -999.00,9, -999.00,9, -999.00,-999.000,9,   47.64,2,   19.59,2,      13.52,6, 20210405,     1540,  17.7222, -52.3342,     3.1177,2,     0.0429,1,     4.6984,1,     -999.0,1,     -999.0,1,     -999.0,9,     -999.0,9
325020210316,        A20,      56,          1,          7,          7,2,20210405,       1455,    17.7222,   -52.3342,       4496,  2699.1,   2.9381,  34.9410,2,  34.9421,2,    256.2,2,   256.4,2,   25.79,2,   19.27,2,    0.00,2,    1.28,2,-999.000,9,-999.000,9, -999.00,9,  -999.0,9, -999.00,9,   -999.0,9,  -999.00,-999.00000,9,  -999.00, -999.00,9, -999.00,9, -999.00,-999.000,9, -999.00,9, -999.00,9,     -999.0,9, 20210405,     1536,  17.7222, -52.3342,     2.9374,2,     0.0435,1,     4.6984,1,     -999.0,1,     -999.0,1,     -999.0,9,     -999.0,9
325020210316,        A20,      56,          1,          6,          6,2,20210405,       1455,    17.7222,   -52.3342,       4496,  2953.8,   2.7623,  34.9287,2,  34.9296,2,    256.8,2,   256.8,2,   28.23,2,   19.45,2,    0.00,2,    1.29,2,   0.443,2,   0.210,2,    0.12,2,  -999.0,9, -999.00,9,   -999.0,9,  -999.00,-999.00000,9,  -999.00, -999.00,9, -999.00,9, -999.00,-999.000,9,   48.58,2,   20.03,2,      13.95,2, 20210405,     1530,  17.7222, -52.3342,     2.7612,2,     0.0418,1,     4.6984,1,     -999.0,1,     -999.0,1,     -999.0,9,     -999.0,9
325020210316,        A20,      56,          1,          5,          5,2,20210405,       1455,    17.7222,   -52.3342,       4496,  3244.0,   2.6200,  34.9178,2,  34.9179,2,    257.0,2,   257.1,2,   30.58,2,   19.62,2,    0.00,2,    1.31,2,   0.427,2,   0.204,2,    0.16,2,  2173.8,2, -999.00,9,   -999.0,9,  -999.00,   7.73726,6,    25.02, -999.00,9, -999.00,9, -999.00,-999.000,9, -999.00,9, -999.00,9,      13.85,2, 20210405,     1524,  17.7222, -52.3342,     2.6202,2,     0.0423,1,     4.6984,1,     -999.0,1,     -999.0,1,     -999.0,9,     -999.0,9
325020210316,        A20,      56,          1,          4,          4,2,20210405,       1455,    17.7222,   -52.3342,       4496,  3550.0,   2.4622,  34.9042,2,  34.9054,2,    256.4,2,   256.1,2,   34.48,2,   19.99,2,    0.00,2,    1.34,2,-999.000,9,-999.000,9, -999.00,9,  -999.0,9, -999.00,9,   -999.0,9,  -999.00,-999.00000,9,  -999.00, -999.00,9, -999.00,9, -999.00,-999.000,9,   45.15,2,   19.09,2,     -999.0,9, 20210405,     1518,  17.7222, -52.3342,     2.4616,2,     0.0421,1,     4.6984,1,     -999.0,1,     -999.0,1,     -999.0,9,     -999.0,9
325020210316,        A20,      56,          1,          3,          3,2,20210405,       1455,    17.7222,   -52.3342,       4496,  3857.7,   2.3345,  34.8902,2,  34.8932,3,    253.0,2,   253.2,2,   40.64,2,   20.83,2,    0.00,2,    1.41,2,   0.240,2,   0.115,2,    0.09,2,  2183.7,2, -999.00,9,    753.1,2,    20.00,   7.72886,6,    25.00, -999.00,9, -999.00,9, -999.00,-999.000,9,   44.55,2,   20.95,2,      13.95,2, 20210405,     1512,  17.7222, -52.3342,     2.3360,2,     0.0423,1,     4.6984,1,     -999.0,1,     -999.0,1,     -999.0,9,     -999.0,9