BOTTLE,20230512CCHSIOCBG
EXPOCODE,SECT_ID,STNNBR,CASTNO,SAMPNO,BTLNBR,BTLNBR_FLAG_W,DATE,TIME,LATITUDE,LONGITUDE,DEPTH,CTDPRS,CTDTMP,CTDSAL,CTDSAL_FLAG_W,SALNTY,SALNTY_FLAG_W,CTDOXY,CTDOXY_FLAG_W,OXYGEN,OXYGEN_FLAG_W,SILCAT,SILCAT_FLAG_W,NITRAT,NITRAT_FLAG_W,NITRIT,NITRIT_FLAG_W,PHSPHT,PHSPHT_FLAG_W,CFC-11,CFC-11_FLAG_W,CFC-12,CFC-12_FLAG_W,SF6,SF6_FLAG_W,TCARBN,TCARBN_FLAG_W,ALKALI,ALKALI_FLAG_W,FCO2,FCO2_FLAG_W,FCO2TMP,PH_TOT,PH_TOT_FLAG_W,PH_TMP,DELC13,DELC13_FLAG_W,DELC14,DELC14_FLAG_W,C14ERR,POC,POC_FLAG_W,DOC,DOC_FLAG_W,TDN,TDN_FLAG_W,N2O,N2O_FLAG_W,BTL_DATE,BTL_TIME,BTL_LAT,BTL_LON,REFTMP,REFTMP_FLAG_W,CTDFLUOR,CTDFLUOR_FLAG_W,CTDXMISS,CTDXMISS_FLAG_W,D15N_NO2+NO3,D15N_NO2+NO3_FLAG_W,D18O_NO2+NO3,D18O_NO2+NO3_FLAG_W,HPLC,HPLC_FLAG_W,MICROGELS,MICROGELS_FLAG_W
,,,,,,,,,,,METERS,DBAR,ITS-90,PSS-78,,PSS-78,,UMOL/KG,,UMOL/KG,,UMOL/KG,,UMOL/KG,,UMOL/KG,,UMOL/KG,,PMOL/KG,,PMOL/KG,,FMOL/KG,,UMOL/KG,,UMOL/KG,,UATM,,DEG C,,,DEG C,/MILLE,,/MILLE,,/MILLE,UG/KG,,UMOL/KG,,UMOL/KG,,NMOL/KG,,,,,,ITS-90,,VOLTS,,VOLTS,,/MILLE,,/MILLE,,,,1E6 GELS/L,
325020210316,        A20,      55,          1,         36,         36,2,20210405,       0808,    18.3054,   -52.3335,       4985,     4.6,  25.5510,  36.4731,2,  36.4749,2,    205.9,2,   205.3,2,    1.37,2,    0.00,2,    0.00,2,    0.00,2,   1.537,2,   0.991,2,    1.69,2,  2039.8,6, 2387.54,2,   -999.0,9,  -999.00,   8.10022,6,    24.98, -999.00,9, -999.00,9, -999.00,-999.000,9, -999.00,9, -999.00,9,       6.11,2, 20210405,     1021,  18.3054, -52.3335,    25.5503,2,     0.0440,1,     4.6407,1,     -999.0,9,     -999.0,9,     -999.0,9,     -999.0,9
325020210316,        A20,      55,          1,         35,         35,2,20210405,       0808,    18.3054,   -52.3335,       4985,    34.9,  25.5573,  36.4743,2,  36.4790,2,    205.9,2,   205.4,2,    1.37,2,    0.00,2,    0.00,2,    0.00,2,-999.000,9,-999.000,9, -999.00,9,  -999.0,9, -999.00,9,   -999.0,9,  -999.00,-999.00000,9,  -999.00, -999.00,9, -999.00,9, -999.00,-999.000,9, -999.00,9, -999.00,9,     -999.0,9, 20210405,     1019,  18.3054, -52.3335,    25.5585,2,     0.0450,1,     4.6419,1,     -999.0,9,     -999.0,9,     -999.0,9,     -999.0,9
325020210316,        A20,      55,          1,         34,         34,2,20210405,       0808,    18.3054,   -52.3335,       4985,    59.9,  25.4655,  37.1310,2,  37.1344,2,    209.1,2,   208.4,2,    0.88,2,    0.00,2,    0.00,2,    0.00,2,-999.000,9,-999.000,9, -999.00,9,  -999.0,9, -999.00,9,   -999.0,9,  -999.00,-999.00000,9,  -999.00, -999.00,9, -999.00,9, -999.00,-999.000,9, -999.00,9, -999.00,9,     -999.0,9, 20210405,     1017,  18.3054, -52.3335,    25.4585,2,     0.0501,1,     4.6424,1,     -999.0,9,     -999.0,9,     -999.0,9,     -999.0,9
325020210316,        A20,      55,          1,         33,         33,2,20210405,       0808,    18.3054,   -52.3335,       4985,    85.4,  25.2320,  37.2370,2,  37.2379,2,    207.0,2,   206.8,2,    0.78,2,    0.00,2,    0.00,2,    0.00,2,-999.000,9,-999.000,9, -999.00,9,  -999.0,9, -999.00,9,   -999.0,9,  -999.00,-999.00000,9,  -999.00, -999.00,9, -999.00,9, -999.00,-999.000,9, -999.00,9, -999.00,9,     -999.0,9, 20210405,     1015,  18.3054, -52.3335,    25.2294,2,     0.0556,1,     4.6520,1,     -999.0,9,     -999.0,9,     -999.0,9,     -999.0,9
325020210316,        A20,      55,          1,         32,         32,2,20210405,       0808,    18.3054,   -52.3335,       4985,   116.0,  24.1361,  37.3298,2,  37.3292,2,    200.0,2,   200.9,2,    0.68,2,    0.00,2,    0.00,2,    0.00,2,   1.734,2,   1.087,2,    1.73,2,  2117.9,2, 2439.18,2,   -999.0,9,  -999.00,    8.0431,2,    25.02, -999.00,9, -999.00,9, -999.00,-999.000,9, -999.00,9, -999.00,9,       7.00,2, 20210405,     1013,  18.3054, -52.3335,    24.1563,2,     0.0684,1,     4.6554,1,     -999.0,9,     -999.0,9,     -999.0,9,     -999.0,9
325020210316,        A20,      55,          1,         31,         31,2,20210405,       0808,    18.3054,   -52.3335,       4985,   166.3,  21.8491,  37.1650,2,  37.1489,2,    173.4,3,   177.0,2,    0.98,2,    1.74,2,    0.02,2,    0.07,2,-999.000,9,-999.000,9, -999.00,9,  -999.0,9, -999.00,9,   -999.0,9,  -999.00,-999.00000,9,  -999.00, -999.00,9, -999.00,9, -999.00,-999.000,9, -999.00,9, -999.00,9,     -999.0,9, 20210405,     1011,  18.3054, -52.3335,    21.8507,2,     0.0607,1,     4.6729,1,     -999.0,9,     -999.0,9,     -999.0,9,     -999.0,9
325020210316,        A20,      55,          1,         30,         30,2,20210405,       0808,    18.3054,   -52.3335,       4985,   216.4,  19.7534,  36.8202,2,  36.8008,2,    168.3,3,   170.6,2,    1.46,2,    4.63,2,    0.00,2,    0.21,2,-999.000,9,-999.000,9, -999.00,9,  2152.6,2, 2402.58,2,   -999.0,9,  -999.00,    7.9289,2,    25.03, -999.00,9, -999.00,9, -999.00,-999.000,9, -999.00,9, -999.00,9,     -999.0,9, 20210405,     1009,  18.3054, -52.3335,    19.7528,2,     0.0444,1,     4.6839,1,     -999.0,9,     -999.0,9,     -999.0,9,     -999.0,9
325020210316,        A20,      55,          1,         29,         29,2,20210405,       0808,    18.3054,   -52.3335,       4985,   266.8,  17.9142,  36.4962,2,  36.4737,3,    162.9,3,   165.2,2,    2.34,2,    7.98,2,    0.00,2,    0.42,2,-999.000,9,-999.000,9, -999.00,9,  -999.0,9, -999.00,9,   -999.0,9,  -999.00,-999.00000,9,  -999.00, -999.00,9, -999.00,9, -999.00,-999.000,9, -999.00,9, -999.00,9,     -999.0,9, 20210405,     1008,  18.3054, -52.3335,    17.9121,2,     0.0391,1,     4.6872,1,     -999.0,9,     -999.0,9,     -999.0,9,     -999.0,9
325020210316,        A20,      55,          1,         28,         28,2,20210405,       0808,    18.3054,   -52.3335,       4985,   316.8,  16.2447,  36.2150,2,  36.2115,2,    147.5,2,   148.9,2,    3.61,2,   11.97,2,    0.00,2,    0.67,2,   2.193,2,   1.335,2,    1.42,2,  2171.4,2, 2370.63,2,   -999.0,9,  -999.00,    7.8286,2,    25.00, -999.00,9, -999.00,9, -999.00,-999.000,9, -999.00,9, -999.00,9,      16.17,2, 20210405,     1006,  18.3054, -52.3335,    16.2439,2,     0.0406,1,     4.6886,1,     -999.0,9,     -999.0,9,     -999.0,9,     -999.0,9
325020210316,        A20,      55,          1,         27,         27,2,20210405,       0808,    18.3054,   -52.3335,       4985,   366.5,  15.1078,  36.0283,2,  36.0105,2,    136.9,2,   137.2,2,    4.98,2,   15.12,2,    0.00,2,    0.87,2,-999.000,9,-999.000,9, -999.00,9,  -999.0,9, -999.00,9,   -999.0,9,  -999.00,-999.00000,9,  -999.00, -999.00,9, -999.00,9, -999.00,-999.000,9, -999.00,9, -999.00,9,     -999.0,9, 20210405,     1003,  18.3054, -52.3335,    15.1074,2,     0.0407,1,     4.6890,1,     -999.0,9,     -999.0,9,     -999.0,9,     -999.0,9
325020210316,        A20,      55,          1,         26,         26,2,20210405,       0808,    18.3054,   -52.3335,       4985,   418.0,  13.7697,  35.8058,2,  35.7949,3,    120.5,2,   121.7,2,    6.83,2,   18.90,2,    0.00,2,    1.10,2,-999.000,9,-999.000,9, -999.00,9,  -999.0,9, -999.00,9,   -999.0,9,  -999.00,-999.00000,9,  -999.00, -999.00,9, -999.00,9, -999.00,-999.000,9, -999.00,9, -999.00,9,     -999.0,9, 20210405,     1001,  18.3054, -52.3335,    13.7685,2,     0.0412,1,     4.6899,1,     -999.0,9,     -999.0,9,     -999.0,9,     -999.0,9
325020210316,        A20,      55,          1,         25,         25,2,20210405,       0808,    18.3054,   -52.3335,       4985,   468.1,  12.7877,  35.6638,2,  35.6516,3,    116.8,2,   116.5,2,    8.30,2,   21.16,2,    0.00,2,    1.24,2,   1.932,2,   1.102,2,    0.78,2,  2200.8,2, 2335.32,2,   -999.0,9,  -999.00,   7.69495,6,    25.02, -999.00,9, -999.00,9, -999.00,-999.000,9, -999.00,9, -999.00,9,      23.19,2, 20210405,     1000,  18.3054, -52.3335,    12.8115,2,     0.0417,1,     4.6912,1,     -999.0,9,     -999.0,9,     -999.0,9,     -999.0,9
325020210316,        A20,      55,          1,         24,         24,2,20210405,       0808,    18.3054,   -52.3335,       4985,   539.2,  11.5686,  35.5113,2,  35.5076,2,    126.4,2,   126.1,2,    9.96,2,   22.25,2,    0.00,2,    1.33,2,-999.000,9,-999.000,9, -999.00,9,  -999.0,9, -999.00,9,   -999.0,9,  -999.00,-999.00000,9,  -999.00, -999.00,9, -999.00,9, -999.00,-999.000,9, -999.00,9, -999.00,9,     -999.0,9, 20210405,      957,  18.3054, -52.3335,    11.5690,2,     0.0420,1,     4.6939,1,     -999.0,9,     -999.0,9,     -999.0,9,     -999.0,9
325020210316,        A20,      55,          1,         23,         23,2,20210405,       0808,    18.3054,   -52.3335,       4985,   640.1,   9.4543,  35.1934,2,  35.1894,2,    121.7,2,   121.4,2,   15.04,2,   26.88,2,    0.00,2,    1.67,2,-999.000,9,-999.000,9, -999.00,9,  -999.0,9, -999.00,9,   -999.0,9,  -999.00,-999.00000,9,  -999.00, -999.00,9, -999.00,9, -999.00,-999.000,9, -999.00,9, -999.00,9,     -999.0,9, 20210405,      954,  18.3054, -52.3335,     9.4501,2,     0.0427,1,     4.6954,1,     -999.0,9,     -999.0,9,     -999.0,9,     -999.0,9
325020210316,        A20,      55,          1,         22,         22,2,20210405,       0808,    18.3054,   -52.3335,       4985,   741.2,   7.6127,  34.9507,2,  34.9500,2,    125.1,2,   125.1,2,   19.92,2,   29.94,2,    0.00,2,    1.90,2,   0.699,2,   0.347,2,    0.22,2,  2213.1,2, -999.00,9,   -999.0,9,  -999.00,   7.59013,2,    25.00, -999.00,9, -999.00,9, -999.00,-999.000,9, -999.00,9, -999.00,9,      24.02,2, 20210405,      951,  18.3054, -52.3335,     7.6178,2,     0.0423,1,     4.6958,1,     -999.0,9,     -999.0,9,     -999.0,9,     -999.0,9
325020210316,        A20,      55,          1,         21,         21,2,20210405,       0808,    18.3054,   -52.3335,       4985,   841.9,   6.3705,  34.8154,2,  34.8163,2,    131.6,2,   131.7,2,   23.54,2,   31.27,2,    0.00,2,    2.04,2,-999.000,9,-999.000,9, -999.00,9,  -999.0,9, -999.00,9,   -999.0,9,  -999.00,-999.00000,9,  -999.00, -999.00,9, -999.00,9, -999.00,-999.000,9, -999.00,9, -999.00,9,     -999.0,9, 20210405,      948,  18.3054, -52.3335,     6.3814,2,     0.0428,1,     4.6952,1,     -999.0,9,     -999.0,9,     -999.0,9,     -999.0,9
325020210316,        A20,      55,          1,         20,         20,2,20210405,       0808,    18.3054,   -52.3335,       4985,   942.6,   5.8716,  34.8255,2,  34.8255,2,    141.8,2,   142.2,2,   24.32,2,   30.53,2,    0.00,2,    2.02,2,-999.000,9,-999.000,9, -999.00,9,  -999.0,9, -999.00,9,   -999.0,9,  -999.00,-999.00000,9,  -999.00, -999.00,9, -999.00,9, -999.00,-999.000,9, -999.00,9, -999.00,9,     -999.0,9, 20210405,      945,  18.3054, -52.3335,     5.8705,2,     0.0430,1,     4.6960,1,     -999.0,9,     -999.0,9,     -999.0,9,     -999.0,9
325020210316,        A20,      55,          1,         19,         19,2,20210405,       0808,    18.3054,   -52.3335,       4985,  1042.8,   5.6359,  34.8792,2,  34.8788,2,    158.2,2,   158.4,2,   22.95,2,   28.35,2,    0.00,2,    1.88,2,   0.316,2,   0.153,2,    0.14,2,  2206.3,2, 2311.52,2,   -999.0,9,  -999.00,   7.61132,2,    25.01, -999.00,9, -999.00,9, -999.00,-999.000,9, -999.00,9, -999.00,9,      21.34,2, 20210405,      942,  18.3054, -52.3335,     5.6363,2,     0.0431,1,     4.6971,1,     -999.0,9,     -999.0,9,     -999.0,9,     -999.0,9
325020210316,        A20,      55,          1,         18,         18,2,20210405,       0808,    18.3054,   -52.3335,       4985,  1144.7,   5.4406,  34.9415,2,  34.9414,2,    176.8,2,   177.0,2,   21.10,2,   25.88,2,    0.00,2,    1.72,2,-999.000,9,-999.000,9, -999.00,9,  -999.0,9, -999.00,9,   -999.0,9,  -999.00,-999.00000,9,  -999.00, -999.00,9, -999.00,9, -999.00,-999.000,9, -999.00,9, -999.00,9,     -999.0,9, 20210405,      939,  18.3054, -52.3335,     5.4413,2,     0.0429,1,     4.6973,1,     -999.0,9,     -999.0,9,     -999.0,9,     -999.0,9
325020210316,        A20,      55,          1,         17,         17,2,20210405,       0808,    18.3054,   -52.3335,       4985,  1246.1,   5.2535,  34.9732,2,  34.9738,2,    191.4,2,   190.8,2,   19.83,2,   24.27,2,    0.00,2,    1.61,2,-999.000,9,-999.000,9, -999.00,9,  -999.0,9, -999.00,9,   -999.0,9,  -999.00,-999.00000,9,  -999.00, -999.00,9, -999.00,9, -999.00,-999.000,9, -999.00,9, -999.00,9,     -999.0,9, 20210405,      935,  18.3054, -52.3335,     5.2531,2,     0.0427,1,     4.6980,1,     -999.0,9,     -999.0,9,     -999.0,9,     -999.0,9
325020210316,        A20,      55,          1,         16,         16,2,20210405,       0808,    18.3054,   -52.3335,       4985,  1347.6,   5.0335,  34.9975,2,  34.9972,2,    206.5,2,   206.4,2,   18.36,2,   22.48,2,    0.00,2,    1.49,2,   0.649,2,   0.321,2,    0.24,2,  2184.8,2, -999.00,9,   -999.0,9,  -999.00,   7.68509,2,    25.04, -999.00,9, -999.00,9, -999.00,-999.000,9, -999.00,9, -999.00,9,      17.11,2, 20210405,      932,  18.3054, -52.3335,     5.0334,2,     0.0424,1,     4.6984,1,     -999.0,9,     -999.0,9,     -999.0,9,     -999.0,9
325020210316,        A20,      55,          1,         15,         15,2,20210405,       0808,    18.3054,   -52.3335,       4985,  1449.4,   4.8038,  35.0046,2,  35.0047,2,    217.9,2,   217.5,2,   17.58,2,   21.42,2,    0.00,2,    1.43,2,-999.000,9,-999.000,9, -999.00,9,  -999.0,9, -999.00,9,   -999.0,9,  -999.00,-999.00000,9,  -999.00, -999.00,9, -999.00,9, -999.00,-999.000,9, -999.00,9, -999.00,9,     -999.0,9, 20210405,      929,  18.3054, -52.3335,     4.8041,2,     0.0428,1,     4.6988,1,     -999.0,9,     -999.0,9,     -999.0,9,     -999.0,9
325020210316,        A20,      55,          1,         14,         14,2,20210405,       0808,    18.3054,   -52.3335,       4985,  1550.0,   4.5833,  35.0077,2,  35.0077,2,    227.6,2,   228.0,2,   16.90,2,   20.44,2,    0.00,2,    1.36,2,-999.000,9,-999.000,9, -999.00,9,  -999.0,9, -999.00,9,   -999.0,9,  -999.00,-999.00000,9,  -999.00, -999.00,9, -999.00,9, -999.00,-999.000,9, -999.00,9, -999.00,9,     -999.0,9, 20210405,      926,  18.3054, -52.3335,     4.5851,2,     0.0422,1,     4.6985,1,     -999.0,9,     -999.0,9,     -999.0,9,     -999.0,9
325020210316,        A20,      55,          1,         13,         13,2,20210405,       0808,    18.3054,   -52.3335,       4985,  1681.5,   4.3886,  35.0059,2,  35.0057,2,    237.0,2,   236.0,2,   16.60,2,   19.77,2,    0.00,2,    1.32,2,   0.810,2,   0.385,2,    0.26,2,  2172.2,2, 2313.65,2,   -999.0,9,  -999.00,   7.71764,2,    25.02, -999.00,9, -999.00,9, -999.00,-999.000,9, -999.00,9, -999.00,9,      15.25,2, 20210405,      922,  18.3054, -52.3335,     4.3881,2,     0.0428,1,     4.6991,1,     -999.0,9,     -999.0,9,     -999.0,9,     -999.0,9
325020210316,        A20,      55,          1,         12,         12,2,20210405,       0808,    18.3054,   -52.3335,       4985,  1884.5,   3.9204,  34.9954,2,  34.9957,2,    244.5,2,   243.8,2,   19.04,2,   19.43,2,    0.00,2,    1.30,2,-999.000,9,-999.000,9, -999.00,9,  -999.0,9, -999.00,9,   -999.0,9,  -999.00,-999.00000,9,  -999.00, -999.00,9, -999.00,9, -999.00,-999.000,9, -999.00,9, -999.00,9,     -999.0,9, 20210405,      918,  18.3054, -52.3335,     3.9199,2,     0.0416,1,     4.6994,1,     -999.0,9,     -999.0,9,     -999.0,9,     -999.0,9
325020210316,        A20,      55,          1,         11,         11,2,20210405,       0808,    18.3054,   -52.3335,       4985,  2108.7,   3.5641,  34.9842,2,  34.9845,2,    247.7,2,   247.6,2,   22.27,2,   19.39,2,    0.00,2,    1.30,2,   0.236,2,   0.111,2,    0.15,2,  2169.6,2, -999.00,9,   -999.0,9,  -999.00,   7.73633,2,    25.01, -999.00,9, -999.00,9, -999.00,-999.000,9, -999.00,9, -999.00,9,      14.38,2, 20210405,      913,  18.3054, -52.3335,     3.5642,2,     0.0422,1,     4.6994,1,     -999.0,9,     -999.0,9,     -999.0,9,     -999.0,9
325020210316,        A20,      55,          1,         10,         10,2,20210405,       0808,    18.3054,   -52.3335,       4985,  2362.2,   3.2004,  34.9634,2,  34.9632,2,    248.7,2,   249.0,2,   26.86,2,   19.66,2,    0.00,2,    1.33,2,-999.000,9,-999.000,9, -999.00,9,  -999.0,9, -999.00,9,   -999.0,9,  -999.00,-999.00000,9,  -999.00, -999.00,9, -999.00,9, -999.00,-999.000,9, -999.00,9, -999.00,9,     -999.0,9, 20210405,      907,  18.3054, -52.3335,     3.1997,2,     0.0421,1,     4.6990,1,     -999.0,9,     -999.0,9,     -999.0,9,     -999.0,9
325020210316,        A20,      55,          1,          9,          9,2,20210405,       0808,    18.3054,   -52.3335,       4985,  2615.8,   2.9654,  34.9463,2,  34.9461,2,    250.1,2,   250.3,2,   29.89,2,   19.80,2,    0.00,2,    1.34,2,   0.152,2,   0.072,2,    0.11,2,  2175.7,2, 2325.47,2,   -999.0,9,  -999.00,   7.73746,2,    25.06, -999.00,9, -999.00,9, -999.00,-999.000,9, -999.00,9, -999.00,9,      13.76,2, 20210405,      902,  18.3053, -52.3335,     2.9667,2,     0.0431,1,     4.6986,1,     -999.0,9,     -999.0,9,     -999.0,9,     -999.0,9
325020210316,        A20,      55,          1,          8,          8,2,20210405,       0808,    18.3054,   -52.3335,       4985,  2871.3,   2.7779,  34.9316,2,  34.9311,2,    250.8,2,   251.1,2,   32.82,2,   20.00,2,    0.00,2,    1.36,2,-999.000,9,-999.000,9, -999.00,9,  -999.0,9, -999.00,9,   -999.0,9,  -999.00,-999.00000,9,  -999.00, -999.00,9, -999.00,9, -999.00,-999.000,9, -999.00,9, -999.00,9,     -999.0,9, 20210405,      855,  18.3053, -52.3335,     2.7772,2,     0.0426,1,     4.6988,1,     -999.0,9,     -999.0,9,     -999.0,9,     -999.0,9
325020210316,        A20,      55,          1,          7,          7,2,20210405,       0808,    18.3054,   -52.3335,       4985,  3140.4,   2.6318,  34.9187,2,  34.9181,2,    251.4,2,   251.8,2,   35.84,2,   20.20,2,    0.00,2,    1.38,2,   0.157,2,   0.074,2,    0.13,2,  2179.3,2, -999.00,9,   -999.0,9,  -999.00,   7.73411,2,    25.00, -999.00,9, -999.00,9, -999.00,-999.000,9, -999.00,9, -999.00,9,      14.37,2, 20210405,      850,  18.3053, -52.3335,     2.6315,2,     0.0419,1,     4.6991,1,     -999.0,9,     -999.0,9,     -999.0,9,     -999.0,9
325020210316,        A20,      55,          1,          6,          6,2,20210405,       0808,    18.3054,   -52.3335,       4985,  3448.8,   2.4897,  34.9051,2,  34.9044,2,    251.4,2,   251.5,2,   39.17,2,   20.56,2,    0.00,2,    1.40,2,-999.000,9,-999.000,9, -999.00,9,  -999.0,9, -999.00,9,   -999.0,9,  -999.00,-999.00000,9,  -999.00, -999.00,9, -999.00,9, -999.00,-999.000,9, -999.00,9, -999.00,9,     -999.0,9, 20210405,      843,  18.3053, -52.3335,     2.4892,2,     0.0425,1,     4.6984,1,     -999.0,9,     -999.0,9,     -999.0,9,     -999.0,9
325020210316,        A20,      55,          1,          5,          5,2,20210405,       0808,    18.3054,   -52.3335,       4985,  3755.4,   2.3113,  34.8882,2,  34.8877,2,    251.5,2,   251.9,2,   43.17,2,   20.94,2,    0.00,2,    1.43,2,   0.162,2,   0.081,2,    0.09,2,  2187.3,2, 2334.69,2,   -999.0,9,  -999.00,   7.72686,2,    25.01, -999.00,9, -999.00,9, -999.00,-999.000,9, -999.00,9, -999.00,9,      14.81,2, 20210405,      837,  18.3053, -52.3335,     2.3099,2,     0.0429,1,     4.6985,1,     -999.0,9,     -999.0,9,     -999.0,9,     -999.0,9
325020210316,        A20,      55,          1,          4,          4,2,20210405,       0808,    18.3054,   -52.3335,       4985,  4061.7,   2.1905,  34.8754,2,  34.8749,2,    251.3,2,   251.4,2,   46.69,2,   21.30,2,    0.00,2,    1.46,2,-999.000,9,-999.000,9, -999.00,9,  -999.0,9, -999.00,9,   -999.0,9,  -999.00,-999.00000,9,  -999.00, -999.00,9, -999.00,9, -999.00,-999.000,9, -999.00,9, -999.00,9,     -999.0,9, 20210405,      830,  18.3053, -52.3335,     2.1903,2,     0.0429,1,     4.6984,1,     -999.0,9,     -999.0,9,     -999.0,9,     -999.0,9
325020210316,        A20,      55,          1,          3,          3,2,20210405,       0808,    18.3054,   -52.3335,       4985,  4370.9,   2.1171,  34.8651,2,  34.8668,2,    250.5,2,   250.4,2,   49.91,2,   21.65,2,    0.00,2,    1.48,2,-999.000,9,-999.000,9, -999.00,9,  -999.0,9, -999.00,9,   -999.0,9,  -999.00,-999.00000,9,  -999.00, -999.00,9, -999.00,9, -999.00,-999.000,9, -999.00,9, -999.00,9,     -999.0,9, 20210405,      824,  18.3053, -52.3335,     2.1184,2,     0.0429,1,     4.6975,1,     -999.0,9,     -999.0,9,     -999.0,9,     -999.0,9