BOTTLE,20230512CCHSIOCBG
EXPOCODE,SECT_ID,STNNBR,CASTNO,SAMPNO,BTLNBR,BTLNBR_FLAG_W,DATE,TIME,LATITUDE,LONGITUDE,DEPTH,CTDPRS,CTDTMP,CTDSAL,CTDSAL_FLAG_W,SALNTY,SALNTY_FLAG_W,CTDOXY,CTDOXY_FLAG_W,OXYGEN,OXYGEN_FLAG_W,SILCAT,SILCAT_FLAG_W,NITRAT,NITRAT_FLAG_W,NITRIT,NITRIT_FLAG_W,PHSPHT,PHSPHT_FLAG_W,CFC-11,CFC-11_FLAG_W,CFC-12,CFC-12_FLAG_W,SF6,SF6_FLAG_W,TCARBN,TCARBN_FLAG_W,ALKALI,ALKALI_FLAG_W,FCO2,FCO2_FLAG_W,FCO2TMP,PH_TOT,PH_TOT_FLAG_W,PH_TMP,DELC13,DELC13_FLAG_W,DELC14,DELC14_FLAG_W,C14ERR,POC,POC_FLAG_W,DOC,DOC_FLAG_W,TDN,TDN_FLAG_W,N2O,N2O_FLAG_W,BTL_DATE,BTL_TIME,BTL_LAT,BTL_LON,REFTMP,REFTMP_FLAG_W,CTDFLUOR,CTDFLUOR_FLAG_W,CTDXMISS,CTDXMISS_FLAG_W,D15N_NO2+NO3,D15N_NO2+NO3_FLAG_W,D18O_NO2+NO3,D18O_NO2+NO3_FLAG_W,HPLC,HPLC_FLAG_W,MICROGELS,MICROGELS_FLAG_W
,,,,,,,,,,,METERS,DBAR,ITS-90,PSS-78,,PSS-78,,UMOL/KG,,UMOL/KG,,UMOL/KG,,UMOL/KG,,UMOL/KG,,UMOL/KG,,PMOL/KG,,PMOL/KG,,FMOL/KG,,UMOL/KG,,UMOL/KG,,UATM,,DEG C,,,DEG C,/MILLE,,/MILLE,,/MILLE,UG/KG,,UMOL/KG,,UMOL/KG,,NMOL/KG,,,,,,ITS-90,,VOLTS,,VOLTS,,/MILLE,,/MILLE,,,,1E6 GELS/L,
325020210316,        A20,      17,          1,         36,         36,2,20210324,       1246,    40.5914,   -52.3341,       5195,     5.0,  17.2595,  36.2338,2,  36.2396,2,    207.0,3,   213.3,2,    2.05,2,    5.50,2,    0.10,2,    0.29,2,-999.000,9,-999.000,9, -999.00,9,  2125.5,6, 2375.75,2,    450.1,2,    20.00,    7.9247,2,    24.95, -999.00,9, -999.00,9, -999.00,-999.000,9,   57.98,2,    8.77,2,     -999.0,9, 20210324,     1524,  40.5914, -52.3341,    17.2522,2,     0.2011,1,     4.4920,1,     -999.0,9,     -999.0,9,     -999.0,9,     -999.0,9
325020210316,        A20,      17,          1,         35,         35,2,20210324,       1246,    40.5914,   -52.3341,       5195,    24.7,  16.8059,  36.1421,2,  36.1531,2,    199.9,3,   220.5,2,    2.24,2,    5.36,2,    0.15,2,    0.30,2,   2.214,2,   1.361,2,    1.96,3,  -999.0,9, 3890.21,4,    454.0,2,    20.00,   7.92197,6,    24.94, -999.00,9, -999.00,9, -999.00,-999.000,9,   57.27,2,    7.62,2,       9.60,2, 20210324,     1522,  40.5914, -52.3341,    16.8104,2,     0.1882,1,     4.5214,1,     -999.0,9,     -999.0,9,     -999.0,9,     -999.0,9
325020210316,        A20,      17,          1,         34,         34,2,20210324,       1246,    40.5914,   -52.3341,       5195,    51.7,  15.7054,  35.9018,2,  35.9111,2,    229.0,2,   230.4,2,    2.34,2,    5.16,2,    0.30,2,    0.34,2,-999.000,9,-999.000,9, -999.00,9,  -999.0,9, -999.00,9,   -999.0,9,  -999.00,-999.00000,9,  -999.00, -999.00,9, -999.00,9, -999.00,-999.000,9,   61.14,2,    8.12,2,     -999.0,9, 20210324,     1520,  40.5914, -52.3341,    15.7010,2,     0.0927,1,     4.6439,1,     -999.0,9,     -999.0,9,     -999.0,9,     -999.0,9
325020210316,        A20,      17,          1,         33,         33,2,20210324,       1246,    40.5914,   -52.3341,       5195,    76.0,  15.5100,  35.8579,2,  35.8645,2,    225.6,3,   230.3,2,    2.54,2,    5.44,2,    0.29,2,    0.36,2,   2.278,2,   1.429,2,    1.90,3,  -999.0,9, -999.00,9,   -999.0,9,  -999.00,-999.00000,9,  -999.00, -999.00,9, -999.00,9, -999.00,-999.000,9,   57.13,2,    8.07,2,       9.54,2, 20210324,     1518,  40.5914, -52.3341,    15.5159,2,     0.0683,1,     4.6708,1,     -999.0,9,     -999.0,9,     -999.0,9,     -999.0,9
325020210316,        A20,      17,          1,         32,         32,2,20210324,       1246,    40.5914,   -52.3341,       5195,   101.4,  15.4384,  35.8432,2,  35.8510,2,    222.6,3,   231.6,2,    2.54,2,    5.46,2,    0.31,2,    0.35,2,-999.000,9,-999.000,9, -999.00,9,  -999.0,9, 2360.51,2,    469.0,2,    20.00,   7.90896,2,    24.93, -999.00,9, -999.00,9, -999.00,-999.000,9,   61.06,2,    8.14,2,     -999.0,9, 20210324,     1514,  40.5914, -52.3341,    15.4386,2,     0.0713,1,     4.6739,1,     -999.0,9,     -999.0,9,     -999.0,9,     -999.0,9
325020210316,        A20,      17,          1,         31,         31,2,20210324,       1246,    40.5914,   -52.3341,       5195,   151.6,  15.7656,  35.9824,2,  35.9927,2,    224.3,3,   200.5,2,    3.12,2,    7.90,2,    0.09,2,    0.46,2,-999.000,9,-999.000,9, -999.00,9,  -999.0,9, -999.00,9,   -999.0,9,  -999.00,-999.00000,9,  -999.00, -999.00,9, -999.00,9, -999.00,-999.000,9,   56.61,2,    9.93,2,     -999.0,9, 20210324,     1512,  40.5915, -52.3341,    15.8079,2,     0.0479,1,     4.6881,1,     -999.0,9,     -999.0,9,     -999.0,9,     -999.0,9
325020210316,        A20,      17,          1,         30,         30,2,20210324,       1246,    40.5914,   -52.3341,       5195,   201.7,  14.8920,  35.8004,2,  35.8032,2,    218.5,3,   212.9,2,    3.51,2,    7.92,2,    0.02,2,    0.48,2,-999.000,9,-999.000,9, -999.00,9,  -999.0,9, 2352.35,2,    507.4,2,    20.00,    7.8785,2,    24.99, -999.00,9, -999.00,9, -999.00,-999.000,9,   58.05,2,   11.34,2,     -999.0,9, 20210324,     1509,  40.5914, -52.3341,    14.8931,2,     0.0447,1,     4.6927,1,     -999.0,9,     -999.0,9,     -999.0,9,     -999.0,9
325020210316,        A20,      17,          1,         29,         29,2,20210324,       1246,    40.5914,   -52.3341,       5195,   252.7,  14.2873,  35.7348,2,  35.7444,2,    208.3,3,   203.1,2,    4.39,2,    9.76,2,    0.01,2,    0.59,2,   2.291,2,   1.413,2,    2.03,3,  -999.0,9, -999.00,9,   -999.0,9,  -999.00,-999.00000,9,  -999.00, -999.00,9, -999.00,9, -999.00,-999.000,9,   56.96,2,   12.30,2,      12.14,2, 20210324,     1507,  40.5914, -52.3341,    14.2865,2,     0.0430,1,     4.6945,1,     -999.0,9,     -999.0,9,     -999.0,9,     -999.0,9
325020210316,        A20,      17,          1,         28,         28,2,20210324,       1246,    40.5914,   -52.3341,       5195,   302.0,  13.2354,  35.6847,2,  35.6893,2,    147.9,3,   144.0,2,    8.30,2,   17.88,2,    0.00,2,    1.07,2,-999.000,9,-999.000,9, -999.00,9,  -999.0,9, 2342.28,2,    705.9,2,    20.00,   7.75198,2,    24.97, -999.00,9, -999.00,9, -999.00,-999.000,9,   52.41,2,   19.28,2,     -999.0,9, 20210324,     1505,  40.5914, -52.3341,    13.2316,2,     0.0406,1,     4.6924,1,     -999.0,9,     -999.0,9,     -999.0,9,     -999.0,9
325020210316,        A20,      17,          1,         27,         27,2,20210324,       1246,    40.5914,   -52.3341,       5195,   352.9,  11.7329,  35.4917,2,  35.4947,2,    134.8,2,   135.7,2,   10.74,2,   21.38,2,    0.00,2,    1.30,2,-999.000,9,-999.000,9, -999.00,9,  -999.0,9, -999.00,9,   -999.0,9,  -999.00,-999.00000,9,  -999.00, -999.00,9, -999.00,9, -999.00,-999.000,9,   47.72,2,   22.29,2,     -999.0,9, 20210324,     1502,  40.5914, -52.3341,    11.7288,2,     0.0407,1,     4.6954,1,     -999.0,9,     -999.0,9,     -999.0,9,     -999.0,9
325020210316,        A20,      17,          1,         26,         26,2,20210324,       1246,    40.5914,   -52.3341,       5195,   405.0,  10.6737,  35.3646,2,  35.3677,2,    138.6,2,   139.1,2,   12.20,2,   22.76,2,    0.00,2,    1.39,2,   1.571,2,   0.905,2,    0.69,3,  -999.0,9, -999.00,9,    831.5,6,    20.00,   7.68503,2,    24.97, -999.00,9, -999.00,9, -999.00,-999.000,9,   46.29,2,   23.94,2,      20.75,2, 20210324,     1459,  40.5914, -52.3341,    10.6734,2,     0.0407,1,     4.7007,1,     -999.0,9,     -999.0,9,     -999.0,9,     -999.0,9
325020210316,        A20,      17,          1,         25,         25,2,20210324,       1246,    40.5914,   -52.3341,       5195,   504.7,   8.6440,  35.1840,2,  35.1857,2,    154.8,2,   153.5,2,   14.16,2,   23.92,2,    0.00,2,    1.48,2,-999.000,9,-999.000,9, -999.00,9,  -999.0,9, 2344.01,3,    879.0,2,    20.00,   7.66138,6,    24.99, -999.00,9, -999.00,9, -999.00,-999.000,9,   45.66,2,   23.70,2,     -999.0,9, 20210324,     1457,  40.5914, -52.3341,     8.6433,2,     0.0419,1,     4.7043,1,     -999.0,9,     -999.0,9,     -999.0,9,     -999.0,9
325020210316,        A20,      17,          1,         24,         24,2,20210324,       1246,    40.5914,   -52.3341,       5195,   606.1,   7.3988,  35.1589,2,  35.1601,2,    187.9,2,   188.3,2,   12.69,2,   20.99,2,    0.00,2,    1.32,2,-999.000,9,-999.000,9, -999.00,9,  -999.0,9, -999.00,9,    835.0,2,    20.00,   7.68046,2,    24.91, -999.00,9, -999.00,9, -999.00,-999.000,9,   49.97,2,   23.29,2,     -999.0,9, 20210324,     1453,  40.5914, -52.3342,     7.4012,2,     0.0411,1,     4.7099,1,     -999.0,9,     -999.0,9,     -999.0,9,     -999.0,9
325020210316,        A20,      17,          1,         23,         23,2,20210324,       1246,    40.5914,   -52.3341,       5195,   705.3,   6.2637,  35.1026,2,  35.1030,2,    209.4,2,   209.1,2,   12.89,2,   20.22,2,    0.00,2,    1.28,2,-999.000,9,-999.000,9, -999.00,9,  -999.0,9, -999.00,9,   -999.0,9,  -999.00,-999.00000,9,  -999.00, -999.00,9, -999.00,9, -999.00,-999.000,9,   45.85,2,   22.32,2,     -999.0,9, 20210324,     1449,  40.5914, -52.3342,     6.2624,2,     0.0422,1,     4.7099,1,     -999.0,9,     -999.0,9,     -999.0,9,     -999.0,9
325020210316,        A20,      17,          1,         22,         22,2,20210324,       1246,    40.5914,   -52.3341,       5195,   807.7,   5.6558,  35.0920,2,  35.0911,2,    229.9,2,   228.8,2,   11.91,2,   18.76,2,    0.00,2,    1.20,2,   2.515,2,   1.386,2,    0.98,3,  -999.0,9, 2317.02,2,    806.9,2,    20.00,   7.69342,2,    25.17, -999.00,9, -999.00,9, -999.00,-999.000,9, -999.00,9, -999.00,9,      14.94,2, 20210324,     1446,  40.5914, -52.3342,     5.6540,2,     0.0414,1,     4.7100,1,     -999.0,9,     -999.0,9,     -999.0,9,     -999.0,9
325020210316,        A20,      17,          1,         21,         21,2,20210324,       1246,    40.5914,   -52.3341,       5195,   910.6,   4.8552,  34.9950,2,  34.9988,2,    247.4,2,   248.0,2,   11.23,2,   17.84,2,    0.00,2,    1.15,2,-999.000,9,-999.000,9, -999.00,9,  -999.0,9, -999.00,9,    811.6,2,    20.00,   7.68921,2,    24.95, -999.00,9, -999.00,9, -999.00,-999.000,9,   48.99,2,   18.69,2,     -999.0,9, 20210324,     1443,  40.5914, -52.3342,     4.8874,2,     0.0427,1,     4.7035,1,     -999.0,9,     -999.0,9,     -999.0,9,     -999.0,9
325020210316,        A20,      17,          1,         20,         20,2,20210324,       1246,    40.5914,   -52.3341,       5195,  1010.7,   4.5202,  34.9634,2,  34.9628,2,    258.0,2,   257.9,2,   10.94,2,   17.48,2,    0.00,2,    1.13,2,-999.000,9,-999.000,9, -999.00,9,  -999.0,9, -999.00,9,   -999.0,9,  -999.00,-999.00000,9,  -999.00, -999.00,9, -999.00,9, -999.00,-999.000,9, -999.00,9, -999.00,9,     -999.0,9, 20210324,     1439,  40.5914, -52.3342,     4.5200,2,     0.0415,1,     4.7053,1,     -999.0,9,     -999.0,9,     -999.0,9,     -999.0,9
325020210316,        A20,      17,          1,         19,         19,2,20210324,       1246,    40.5914,   -52.3341,       5195,  1110.6,   4.3720,  34.9658,2,  34.9656,2,    260.5,2,   261.4,2,   11.04,2,   17.40,2,    0.00,2,    1.12,2,   3.263,2,   1.782,2,    1.58,3,  -999.0,9, -999.00,9,   -999.0,9,  -999.00,-999.00000,9,  -999.00, -999.00,9, -999.00,9, -999.00,-999.000,9,   49.34,2,   19.01,2,      14.00,2, 20210324,     1436,  40.5914, -52.3342,     4.3712,2,     0.0415,1,     4.7064,1,     -999.0,9,     -999.0,9,     -999.0,9,     -999.0,9
325020210316,        A20,      17,          1,         18,         18,2,20210324,       1246,    40.5914,   -52.3341,       5195,  1213.1,   4.3004,  34.9754,2,  34.9752,2,    264.9,3,   262.1,2,   11.23,2,   17.43,2,    0.00,2,    1.13,2,-999.000,9,-999.000,9, -999.00,9,  -999.0,9, -999.00,9,   -999.0,9,  -999.00,-999.00000,9,  -999.00, -999.00,9, -999.00,9, -999.00,-999.000,9, -999.00,9, -999.00,9,     -999.0,9, 20210324,     1433,  40.5914, -52.3342,     4.3002,2,     0.0418,1,     4.7078,1,     -999.0,9,     -999.0,9,     -999.0,9,     -999.0,9
325020210316,        A20,      17,          1,         17,         17,2,20210324,       1246,    40.5914,   -52.3341,       5195,  1314.3,   4.1318,  34.9618,2,  34.9616,2,    262.7,3,   266.0,2,   11.23,2,   17.40,2,    0.00,2,    1.11,2,-999.000,9,-999.000,9, -999.00,9,  -999.0,9, -999.00,9,    790.7,2,    20.00,   7.70049,2,    24.96, -999.00,9, -999.00,9, -999.00,-999.000,9,   47.92,2,   18.86,2,     -999.0,9, 20210324,     1430,  40.5914, -52.3342,     4.1315,2,     0.0420,1,     4.7083,1,     -999.0,9,     -999.0,9,     -999.0,9,     -999.0,9
325020210316,        A20,      17,          1,         16,         16,2,20210324,       1246,    40.5914,   -52.3341,       5195,  1415.1,   4.1286,  34.9754,2,  34.9742,2,    262.9,2,   262.6,2,   11.82,2,   17.68,2,    0.00,2,    1.13,2,-999.000,9,-999.000,9, -999.00,9,  -999.0,9, -999.00,9,   -999.0,9,  -999.00,-999.00000,9,  -999.00, -999.00,9, -999.00,9, -999.00,-999.000,9, -999.00,9, -999.00,9,     -999.0,9, 20210324,     1427,  40.5914, -52.3342,     4.1282,2,     0.0425,1,     4.7094,1,     -999.0,9,     -999.0,9,     -999.0,9,     -999.0,9
325020210316,        A20,      17,          1,         15,         15,2,20210324,       1246,    40.5914,   -52.3341,       5195,  1618.2,   4.0024,  34.9810,2,  34.9803,2,    263.2,2,   262.9,2,   12.50,2,   17.71,2,    0.00,2,    1.13,2,   2.651,2,   1.345,2,    0.68,3,  -999.0,9, -999.00,9,   -999.0,9,  -999.00,-999.00000,9,  -999.00, -999.00,9, -999.00,9, -999.00,-999.000,9,   47.24,2,   19.15,2,      13.65,2, 20210324,     1422,  40.5914, -52.3342,     4.0021,2,     0.0421,1,     4.7108,1,     -999.0,9,     -999.0,9,     -999.0,9,     -999.0,9
325020210316,        A20,      17,          1,         14,         14,2,20210324,       1246,    40.5914,   -52.3341,       5195,  1821.0,   3.7877,  34.9652,2,  34.9660,2,    264.6,2,   263.5,2,   13.28,2,   17.76,2,    0.00,2,    1.13,2,-999.000,9,-999.000,9, -999.00,9,  -999.0,9, -999.00,9,    759.7,2,    20.00,   7.71583,2,    25.00, -999.00,9, -999.00,9, -999.00,-999.000,9, -999.00,9, -999.00,9,     -999.0,9, 20210324,     1417,  40.5914, -52.3342,     3.7877,2,     0.0414,1,     4.7099,1,     -999.0,9,     -999.0,9,     -999.0,9,     -999.0,9
325020210316,        A20,      17,          1,         13,         13,2,20210324,       1246,    40.5914,   -52.3341,       5195,  2024.0,   3.5730,  34.9574,2,  34.9577,2,    266.2,2,   264.7,2,   14.45,2,   17.72,2,    0.00,2,    1.13,2,-999.000,9,-999.000,9, -999.00,9,  -999.0,9, -999.00,9,   -999.0,9,  -999.00,-999.00000,9,  -999.00, -999.00,9, -999.00,9, -999.00,-999.000,9,   46.40,2,   18.74,2,     -999.0,9, 20210324,     1412,  40.5914, -52.3342,     3.5731,2,     0.0429,1,     4.7106,1,     -999.0,9,     -999.0,9,     -999.0,9,     -999.0,9
325020210316,        A20,      17,          1,         12,         12,2,20210324,       1246,    40.5914,   -52.3341,       5195,  2279.5,   3.3866,  34.9521,2,  34.9522,2,    265.3,2,   265.1,2,   16.21,2,   17.75,2,    0.00,2,    1.14,2,   1.725,2,   0.876,2,    0.45,3,  -999.0,9, 2311.82,6,    749.0,2,    20.00,   7.72457,2,    24.96, -999.00,9, -999.00,9, -999.00,-999.000,9, -999.00,9, -999.00,9,      13.19,2, 20210324,     1405,  40.5914, -52.3343,     3.3854,2,     0.0429,1,     4.7109,1,     -999.0,9,     -999.0,9,     -999.0,9,     -999.0,9
325020210316,        A20,      17,          1,         11,         11,2,20210324,       1246,    40.5914,   -52.3341,       5195,  2534.2,   3.1897,  34.9449,2,  34.9445,2,    266.7,2,   265.7,2,   17.97,2,   17.72,2,    0.00,2,    1.15,2,-999.000,9,-999.000,9, -999.00,9,  -999.0,9, -999.00,9,   -999.0,9,  -999.00,-999.00000,9,  -999.00, -999.00,9, -999.00,9, -999.00,-999.000,9,   44.90,2,   18.67,2,     -999.0,9, 20210324,     1358,  40.5914, -52.3342,     3.1900,2,     0.0413,1,     4.7118,1,     -999.0,9,     -999.0,9,     -999.0,9,     -999.0,9
325020210316,        A20,      17,          1,         10,         10,2,20210324,       1246,    40.5914,   -52.3341,       5195,  2789.6,   2.9916,  34.9372,2,  34.9370,2,    267.2,2,   265.7,2,   19.82,2,   17.76,2,    0.00,2,    1.17,2,-999.000,9,-999.000,9, -999.00,9,  -999.0,9, -999.00,9,   -999.0,9,  -999.00,-999.00000,9,  -999.00, -999.00,9, -999.00,9, -999.00,-999.000,9, -999.00,9, -999.00,9,     -999.0,9, 20210324,     1351,  40.5914, -52.3343,     2.9919,2,     0.0422,1,     4.7117,1,     -999.0,9,     -999.0,9,     -999.0,9,     -999.0,9
325020210316,        A20,      17,          1,          9,          9,2,20210324,       1246,    40.5914,   -52.3341,       5195,  3045.3,   2.8283,  34.9291,2,  34.9286,2,    267.8,2,   267.0,2,   21.19,2,   17.84,2,    0.00,2,    1.18,2,   1.250,2,   0.629,2,    0.33,3,  -999.0,9, -999.00,9,   -999.0,9,  -999.00,-999.00000,9,  -999.00, -999.00,9, -999.00,9, -999.00,-999.000,9,   46.01,2,   19.97,2,      13.25,2, 20210324,     1345,  40.5914, -52.3343,     2.8282,2,     0.0428,1,     4.7116,1,     -999.0,9,     -999.0,9,     -999.0,9,     -999.0,9
325020210316,        A20,      17,          1,          8,          8,2,20210324,       1246,    40.5914,   -52.3341,       5195,  3352.5,   2.6127,  34.9162,2,  34.9156,2,    269.5,2,   268.7,2,   22.95,2,   17.86,2,    0.00,2,    1.18,2,-999.000,9,-999.000,9, -999.00,9,  -999.0,9, -999.00,9,    742.1,2,    20.00,    7.7287,6,    24.99, -999.00,9, -999.00,9, -999.00,-999.000,9,   44.67,2,   19.90,2,     -999.0,9, 20210324,     1337,  40.5914, -52.3343,     2.6122,2,     0.0426,1,     4.7118,1,     -999.0,9,     -999.0,9,     -999.0,9,     -999.0,9
325020210316,        A20,      17,          1,          7,          7,2,20210324,       1246,    40.5914,   -52.3341,       5195,  3659.1,   2.4478,  34.9055,2,  34.9061,2,    270.3,2,   269.5,2,   24.51,2,   17.86,2,    0.00,2,    1.18,2,-999.000,9,-999.000,9, -999.00,9,  -999.0,9, -999.00,9,   -999.0,9,  -999.00,-999.00000,9,  -999.00, -999.00,9, -999.00,9, -999.00,-999.000,9, -999.00,9, -999.00,9,     -999.0,9, 20210324,     1329,  40.5914, -52.3342,     2.4476,2,     0.0425,1,     4.7107,1,     -999.0,9,     -999.0,9,     -999.0,9,     -999.0,9
325020210316,        A20,      17,          1,          6,          6,2,20210324,       1246,    40.5914,   -52.3341,       5195,  3967.6,   2.3464,  34.8991,2,  34.9000,2,    272.4,2,   271.7,2,   24.32,2,   17.62,2,    0.00,2,    1.16,2,   1.808,2,   0.924,2,    0.68,3,  -999.0,9, -999.00,9,   -999.0,9,  -999.00,-999.00000,9,  -999.00, -999.00,9, -999.00,9, -999.00,-999.000,9,   45.87,2,   19.05,2,      13.48,2, 20210324,     1322,  40.5914, -52.3343,     2.3469,2,     0.0416,1,     4.7070,1,     -999.0,9,     -999.0,9,     -999.0,9,     -999.0,9
325020210316,        A20,      17,          1,          5,          5,2,20210324,       1246,    40.5914,   -52.3341,       5195,  4274.1,   2.2945,  34.8937,2,  34.8934,2,    271.0,2,   270.7,2,   26.95,2,   17.96,2,    0.00,2,    1.18,2,-999.000,9,-999.000,9, -999.00,9,  -999.0,9, 2322.95,2,    760.8,2,    20.00,   7.71805,2,    24.99, -999.00,9, -999.00,9, -999.00,-999.000,9, -999.00,9, -999.00,9,     -999.0,9, 20210324,     1315,  40.5914, -52.3343,     2.2946,2,     0.0420,1,     4.6913,1,     -999.0,9,     -999.0,9,     -999.0,9,     -999.0,9
325020210316,        A20,      17,          1,          4,          4,2,20210324,       1246,    40.5914,   -52.3341,       5195,  4583.5,   2.2828,  34.8883,2,  34.8877,2,    266.4,2,   267.3,2,   30.76,2,   18.59,2,    0.00,2,    1.23,2,-999.000,9,-999.000,9, -999.00,9,  -999.0,9, -999.00,9,   -999.0,9,  -999.00,-999.00000,9,  -999.00, -999.00,9, -999.00,9, -999.00,-999.000,9,   43.36,2,   19.72,2,     -999.0,9, 20210324,     1307,  40.5914, -52.3343,     2.2831,2,     0.0425,1,     4.6791,1,     -999.0,9,     -999.0,9,     -999.0,9,     -999.0,9
325020210316,        A20,      17,          1,          3,          3,2,20210324,       1246,    40.5914,   -52.3341,       5195,  4995.6,   2.2994,  34.8836,2,  34.8835,2,    263.8,2,   264.6,2,   34.28,2,   19.10,2,    0.00,2,    1.27,2,   1.138,2,   0.584,2,    0.30,3,  -999.0,9, -999.00,9,   -999.0,9,  -999.00,-999.00000,9,  -999.00, -999.00,9, -999.00,9, -999.00,-999.000,9,   46.95,2,   20.96,2,      13.55,2, 20210324,     1257,  40.5914, -52.3343,     2.2995,2,     0.0426,1,     4.6659,1,     -999.0,9,     -999.0,9,     -999.0,9,     -999.0,9