BOTTLE,20230512CCHSIOCBG
EXPOCODE,SECT_ID,STNNBR,CASTNO,SAMPNO,BTLNBR,BTLNBR_FLAG_W,DATE,TIME,LATITUDE,LONGITUDE,DEPTH,CTDPRS,CTDTMP,CTDSAL,CTDSAL_FLAG_W,SALNTY,SALNTY_FLAG_W,CTDOXY,CTDOXY_FLAG_W,OXYGEN,OXYGEN_FLAG_W,SILCAT,SILCAT_FLAG_W,NITRAT,NITRAT_FLAG_W,NITRIT,NITRIT_FLAG_W,PHSPHT,PHSPHT_FLAG_W,CFC-11,CFC-11_FLAG_W,CFC-12,CFC-12_FLAG_W,SF6,SF6_FLAG_W,TCARBN,TCARBN_FLAG_W,ALKALI,ALKALI_FLAG_W,FCO2,FCO2_FLAG_W,FCO2TMP,PH_TOT,PH_TOT_FLAG_W,PH_TMP,DELC13,DELC13_FLAG_W,DELC14,DELC14_FLAG_W,C14ERR,POC,POC_FLAG_W,DOC,DOC_FLAG_W,TDN,TDN_FLAG_W,N2O,N2O_FLAG_W,BTL_DATE,BTL_TIME,BTL_LAT,BTL_LON,REFTMP,REFTMP_FLAG_W,CTDFLUOR,CTDFLUOR_FLAG_W,CTDXMISS,CTDXMISS_FLAG_W,D15N_NO2+NO3,D15N_NO2+NO3_FLAG_W,D18O_NO2+NO3,D18O_NO2+NO3_FLAG_W,HPLC,HPLC_FLAG_W,MICROGELS,MICROGELS_FLAG_W
,,,,,,,,,,,METERS,DBAR,ITS-90,PSS-78,,PSS-78,,UMOL/KG,,UMOL/KG,,UMOL/KG,,UMOL/KG,,UMOL/KG,,UMOL/KG,,PMOL/KG,,PMOL/KG,,FMOL/KG,,UMOL/KG,,UMOL/KG,,UATM,,DEG C,,,DEG C,/MILLE,,/MILLE,,/MILLE,UG/KG,,UMOL/KG,,UMOL/KG,,NMOL/KG,,,,,,ITS-90,,VOLTS,,VOLTS,,/MILLE,,/MILLE,,,,1E6 GELS/L,
325020210316,        A20,      37,          1,         36,         36,2,20210330,       2211,    28.8053,   -52.3333,       5147,     5.4,  22.7462,  37.1384,2,  37.1388,2,    216.8,2,   216.2,2,    0.78,2,    0.00,2,    0.00,2,    0.00,2,   1.647,2,   1.128,2,    1.70,2,  2106.1,2, 2433.37,2,   -999.0,9,  -999.00,   8.05348,2,    24.99, -999.00,9, -999.00,9, -999.00,-999.000,9,   68.83,2,    3.86,2,       6.25,2, 20210331,       30,  28.8053, -52.3333,    22.7391,2,     0.0427,1,     4.6588,1,     -999.0,9,     -999.0,9,     -999.0,9,     -999.0,9
325020210316,        A20,      37,          1,         35,         35,2,20210330,       2211,    28.8053,   -52.3333,       5147,    35.6,  22.2774,  37.1182,2,  37.1181,2,    218.3,2,   216.4,2,    0.59,2,    0.00,2,    0.00,2,    0.00,2,-999.000,9,-999.000,9, -999.00,9,  -999.0,9, -999.00,9,   -999.0,9,  -999.00,-999.00000,9,  -999.00, -999.00,9, -999.00,9, -999.00,-999.000,9,   65.55,2,    3.71,2,     -999.0,9, 20210331,       28,  28.8053, -52.3333,    22.2712,2,     0.0437,1,     4.6541,1,     -999.0,9,     -999.0,9,     -999.0,9,     -999.0,9
325020210316,        A20,      37,          1,         34,         34,2,20210330,       2211,    28.8053,   -52.3333,       5147,    59.8,  22.1086,  37.1000,2,  37.1000,2,    218.9,2,   217.2,2,    0.78,2,    0.00,2,    0.00,2,    0.00,2,-999.000,9,-999.000,9, -999.00,9,  -999.0,9, -999.00,9,   -999.0,9,  -999.00,-999.00000,9,  -999.00, -999.00,9, -999.00,9, -999.00,-999.000,9,   68.23,2,    4.30,2,     -999.0,9, 20210331,       26,  28.8053, -52.3333,    22.1123,2,     0.0459,1,     4.6483,1,     -999.0,9,     -999.0,9,     -999.0,9,     -999.0,9
325020210316,        A20,      37,          1,         33,         33,2,20210330,       2211,    28.8053,   -52.3333,       5147,    86.0,  22.0669,  37.0966,2,  37.0964,2,    218.2,2,   216.5,2,    0.78,2,    0.00,2,    0.00,2,    0.00,2,   1.677,2,   1.117,2,    1.76,2,  2102.0,2,  2429.8,2,   -999.0,9,  -999.00,   8.04747,2,    25.00, -999.00,9, -999.00,9, -999.00,-999.000,9,   70.11,2,    4.24,2,       6.72,2, 20210331,       24,  28.8053, -52.3333,    22.0661,2,     0.0507,1,     4.6503,1,     -999.0,9,     -999.0,9,     -999.0,9,     -999.0,9
325020210316,        A20,      37,          1,         32,         32,2,20210330,       2211,    28.8053,   -52.3333,       5147,   117.0,  21.9912,  37.0829,2,  37.0831,2,    217.8,2,   216.7,2,    0.78,2,    0.00,2,    0.00,2,    0.00,2,-999.000,9,-999.000,9, -999.00,9,  -999.0,9, -999.00,9,   -999.0,9,  -999.00,-999.00000,9,  -999.00, -999.00,9, -999.00,9, -999.00,-999.000,9,   69.29,2,    3.92,2,     -999.0,9, 20210331,       23,  28.8053, -52.3333,    21.9888,2,     0.0565,1,     4.6592,1,     -999.0,9,     -999.0,9,     -999.0,9,     -999.0,9
325020210316,        A20,      37,          1,         31,         31,2,20210330,       2211,    28.8053,   -52.3333,       5147,   165.8,  20.9560,  36.8717,2,  36.8679,2,    205.2,2,   205.3,2,    0.78,2,    0.24,2,    0.05,2,    0.00,2,-999.000,9,-999.000,9, -999.00,9,  -999.0,9, -999.00,9,   -999.0,9,  -999.00,-999.00000,9,  -999.00, -999.00,9, -999.00,9, -999.00,-999.000,9,   62.62,2,    3.69,2,     -999.0,9, 20210331,       21,  28.8053, -52.3333,    20.9589,2,     0.0680,1,     4.6688,1,     -999.0,9,     -999.0,9,     -999.0,9,     -999.0,9
325020210316,        A20,      37,          1,         30,         30,2,20210330,       2211,    28.8053,   -52.3333,       5147,   216.8,  19.1963,  36.6310,2,  36.6294,2,    198.3,2,   199.1,2,    1.07,2,    2.38,2,    0.00,2,    0.05,2,   1.942,2,   1.273,2,    1.99,2,  2119.5,2,  2396.9,2,   -999.0,9,  -999.00,   7.97881,2,    25.00, -999.00,9, -999.00,9, -999.00,-999.000,9,   53.98,2,    5.10,2,       8.06,2, 20210331,       19,  28.8053, -52.3333,    19.1981,2,     0.0439,1,     4.6870,1,     -999.0,9,     -999.0,9,     -999.0,9,     -999.0,9
325020210316,        A20,      37,          1,         29,         29,2,20210330,       2211,    28.8053,   -52.3333,       5147,   266.2,  18.8090,  36.5995,2,  36.5959,2,    202.1,2,   202.4,2,    1.27,2,    3.08,2,    0.00,2,    0.09,2,-999.000,9,-999.000,9, -999.00,9,  -999.0,9, -999.00,9,   -999.0,9,  -999.00,-999.00000,9,  -999.00, -999.00,9, -999.00,9, -999.00,-999.000,9,   52.39,2,    6.61,2,     -999.0,9, 20210331,       16,  28.8053, -52.3333,    18.8198,2,     0.0393,1,     4.6923,1,     -999.0,9,     -999.0,9,     -999.0,9,     -999.0,9
325020210316,        A20,      37,          1,         28,         28,2,20210330,       2211,    28.8053,   -52.3333,       5147,   317.4,  18.4637,  36.5616,2,  36.5593,2,    202.2,2,   202.7,2,    1.46,2,    3.67,2,    0.00,2,    0.14,2,-999.000,9,-999.000,9, -999.00,9,  -999.0,9, -999.00,9,   -999.0,9,  -999.00,-999.00000,9,  -999.00, -999.00,9, -999.00,9, -999.00,-999.000,9,   53.71,2,    7.65,2,     -999.0,9, 20210331,       14,  28.8053, -52.3333,    18.4662,2,     0.0402,1,     4.6936,1,     -999.0,9,     -999.0,9,     -999.0,9,     -999.0,9
325020210316,        A20,      37,          1,         27,         27,2,20210330,       2211,    28.8053,   -52.3333,       5147,   367.7,  18.0119,  36.4897,2,  36.4861,2,    196.4,2,   198.3,2,    1.76,2,    4.80,2,    0.00,2,    0.21,2,   2.039,2,   1.327,2,    1.70,2,  2125.0,2, 2390.57,6,   -999.0,9,  -999.00,   7.94924,2,    25.01, -999.00,9, -999.00,9, -999.00,-999.000,9,   53.91,2,    7.59,2,       8.66,2, 20210331,       12,  28.8053, -52.3332,    18.0108,2,     0.0398,1,     4.6950,1,     -999.0,9,     -999.0,9,     -999.0,9,     -999.0,9
325020210316,        A20,      37,          1,         26,         26,2,20210330,       2211,    28.8053,   -52.3333,       5147,   438.3,  17.0970,  36.3407,2,  36.3336,2,    191.1,2,   192.3,2,    2.34,2,    6.63,2,    0.00,2,    0.32,2,-999.000,9,-999.000,9, -999.00,9,  -999.0,9, -999.00,9,   -999.0,9,  -999.00,-999.00000,9,  -999.00, -999.00,9, -999.00,9, -999.00,-999.000,9,   54.34,2,    9.61,2,     -999.0,9, 20210331,       10,  28.8053, -52.3332,    17.1008,2,     0.0397,1,     4.6960,1,     -999.0,9,     -999.0,9,     -999.0,9,     -999.0,9
325020210316,        A20,      37,          1,         25,         25,2,20210330,       2211,    28.8053,   -52.3333,       5147,   539.2,  15.3509,  36.0541,2,  36.0501,2,    185.5,2,   186.0,2,    3.61,2,    9.91,2,    0.00,2,    0.54,2,-999.000,9,-999.000,9, -999.00,9,  -999.0,9, -999.00,9,   -999.0,9,  -999.00,-999.00000,9,  -999.00, -999.00,9, -999.00,9, -999.00,-999.000,9,   49.80,2,   13.09,2,     -999.0,9, 20210331,        7,  28.8052, -52.3332,    15.3666,2,     0.0407,1,     4.6972,1,     -999.0,9,     -999.0,9,     -999.0,9,     -999.0,9
325020210316,        A20,      37,          1,         24,         24,2,20210330,       2211,    28.8053,   -52.3333,       5147,   639.8,  13.6910,  35.8041,2,  35.7985,2,    178.1,2,   178.5,2,    5.47,2,   13.34,2,    0.00,2,    0.76,2,   2.240,2,   1.373,2,    1.29,2,  -999.0,9, -999.00,9,   -999.0,9,  -999.00,-999.00000,9,  -999.00, -999.00,9, -999.00,9, -999.00,-999.000,9, -999.00,9, -999.00,9,      13.31,2, 20210331,        4,  28.8053, -52.3332,    13.6758,2,     0.0406,1,     4.6994,1,     -999.0,9,     -999.0,9,     -999.0,9,     -999.0,9
325020210316,        A20,      37,          1,         23,         23,2,20210330,       2211,    28.8053,   -52.3333,       5147,   741.7,  11.7491,  35.5648,2,  35.5646,2,    171.2,2,   171.5,2,    7.91,2,   17.03,2,    0.00,2,    1.01,2,-999.000,9,-999.000,9, -999.00,9,  -999.0,9, -999.00,9,   -999.0,9,  -999.00,-999.00000,9,  -999.00, -999.00,9, -999.00,9, -999.00,-999.000,9, -999.00,9, -999.00,9,     -999.0,9, 20210331,        1,  28.8052, -52.3332,    11.7492,2,     0.0411,1,     4.7015,1,     -999.0,9,     -999.0,9,     -999.0,9,     -999.0,9
325020210316,        A20,      37,          1,         22,         22,2,20210330,       2211,    28.8053,   -52.3333,       5147,   842.5,  10.3188,  35.4355,2,  35.4308,2,    162.8,2,   162.2,2,   10.64,2,   20.26,2,    0.00,2,    1.23,2,   1.630,2,   0.918,2,    0.63,2,  2183.6,6, 2335.71,2,   -999.0,9,  -999.00,   7.72518,2,    25.00, -999.00,9, -999.00,9, -999.00,-999.000,9,   47.59,2,   23.06,2,      16.87,2, 20210330,     2358,  28.8053, -52.3332,    10.3437,2,     0.0406,1,     4.7031,1,     -999.0,9,     -999.0,9,     -999.0,9,     -999.0,9
325020210316,        A20,      37,          1,         21,         21,2,20210330,       2211,    28.8053,   -52.3333,       5147,   943.8,   8.8868,  35.3032,2,  35.3062,2,    161.9,2,   161.2,2,   13.28,2,   22.34,2,    0.00,2,    1.38,2,-999.000,9,-999.000,9, -999.00,9,  -999.0,9, -999.00,9,   -999.0,9,  -999.00,-999.00000,9,  -999.00, -999.00,9, -999.00,9, -999.00,-999.000,9, -999.00,9, -999.00,9,     -999.0,9, 20210330,     2354,  28.8052, -52.3332,     8.9173,2,     0.0413,1,     4.7035,1,     -999.0,9,     -999.0,9,     -999.0,9,     -999.0,9
325020210316,        A20,      37,          1,         20,         20,2,20210330,       2211,    28.8053,   -52.3333,       5147,  1045.0,   8.0581,  35.2575,2,  35.2572,2,    168.7,2,   168.3,2,   14.55,2,   22.79,2,    0.00,2,    1.42,2,-999.000,9,-999.000,9, -999.00,9,  -999.0,9, -999.00,9,   -999.0,9,  -999.00,-999.00000,9,  -999.00, -999.00,9, -999.00,9, -999.00,-999.000,9,   45.38,2,   24.30,2,     -999.0,9, 20210330,     2351,  28.8052, -52.3332,     8.0574,2,     0.0417,1,     4.7040,1,     -999.0,9,     -999.0,9,     -999.0,9,     -999.0,9
325020210316,        A20,      37,          1,         19,         19,2,20210330,       2211,    28.8053,   -52.3333,       5147,  1145.9,   6.5592,  35.1016,2,  35.0976,2,    183.4,2,   183.4,2,   16.41,2,   23.33,2,    0.00,2,    1.47,2,   0.916,2,   0.472,2,    0.29,2,  2192.7,2, 2324.17,2,   -999.0,9,  -999.00,   7.67954,6,    25.06, -999.00,9, -999.00,9, -999.00,-999.000,9,   44.13,2,   25.12,2,      17.07,2, 20210330,     2347,  28.8052, -52.3332,     6.5614,2,     0.0423,1,     4.7045,1,     -999.0,9,     -999.0,9,     -999.0,9,     -999.0,9
325020210316,        A20,      37,          1,         18,         18,2,20210330,       2211,    28.8053,   -52.3333,       5147,  1247.7,   6.1032,  35.1091,2,  35.1108,2,    199.9,2,   200.9,2,   15.43,2,   21.60,2,    0.00,2,    1.38,2,-999.000,9,-999.000,9, -999.00,9,  -999.0,9, -999.00,9,   -999.0,9,  -999.00,-999.00000,9,  -999.00, -999.00,9, -999.00,9, -999.00,-999.000,9, -999.00,9, -999.00,9,     -999.0,9, 20210330,     2345,  28.8053, -52.3332,     6.1022,2,     0.0411,1,     4.7046,1,     -999.0,9,     -999.0,9,     -999.0,9,     -999.0,9
325020210316,        A20,      37,          1,         17,         17,2,20210330,       2211,    28.8053,   -52.3333,       5147,  1348.6,   6.0586,  35.1877,2,  35.1884,2,    216.7,2,   216.3,2,   13.77,2,   19.61,2,    0.00,2,    1.25,2,   1.540,2,   0.819,2,    0.49,2,  2180.7,2, -999.00,9,   -999.0,9,  -999.00,   7.71625,2,    25.00, -999.00,9, -999.00,9, -999.00,-999.000,9,   45.47,2,   21.26,2,      14.67,2, 20210330,     2342,  28.8052, -52.3332,     6.0577,2,     0.0417,1,     4.7054,1,     -999.0,9,     -999.0,9,     -999.0,9,     -999.0,9
325020210316,        A20,      37,          1,         16,         16,2,20210330,       2211,    28.8053,   -52.3333,       5147,  1450.4,   5.6086,  35.1524,2,  35.1534,2,    224.0,2,   223.1,2,   14.16,2,   19.42,2,    0.00,2,    1.24,2,-999.000,9,-999.000,9, -999.00,9,  -999.0,9, -999.00,9,   -999.0,9,  -999.00,-999.00000,9,  -999.00, -999.00,9, -999.00,9, -999.00,-999.000,9, -999.00,9, -999.00,9,     -999.0,9, 20210330,     2339,  28.8053, -52.3332,     5.6083,2,     0.0419,1,     4.7058,1,     -999.0,9,     -999.0,9,     -999.0,9,     -999.0,9
325020210316,        A20,      37,          1,         15,         15,2,20210330,       2211,    28.8053,   -52.3333,       5147,  1549.8,   5.2748,  35.1438,2,  35.1439,2,    230.2,2,   229.8,2,   14.75,2,   19.11,2,    0.00,2,    1.23,2,   1.297,2,   0.660,2,    0.35,2,  2175.0,2, 2322.54,2,   -999.0,9,  -999.00,   7.72471,2,    24.99, -999.00,9, -999.00,9, -999.00,-999.000,9,   44.64,2,   20.17,2,      13.95,2, 20210330,     2336,  28.8052, -52.3332,     5.2732,2,     0.0430,1,     4.7057,1,     -999.0,9,     -999.0,9,     -999.0,9,     -999.0,9
325020210316,        A20,      37,          1,         14,         14,2,20210330,       2211,    28.8053,   -52.3333,       5147,  1683.3,   4.8337,  35.1200,2,  35.1203,2,    241.1,2,   240.4,2,   14.94,2,   18.42,2,    0.00,2,    1.18,2,-999.000,9,-999.000,9, -999.00,9,  -999.0,9, -999.00,9,   -999.0,9,  -999.00,-999.00000,9,  -999.00, -999.00,9, -999.00,9, -999.00,-999.000,9, -999.00,9, -999.00,9,     -999.0,9, 20210330,     2331,  28.8052, -52.3332,     4.8393,2,     0.0416,1,     4.7057,1,     -999.0,9,     -999.0,9,     -999.0,9,     -999.0,9
325020210316,        A20,      37,          1,         13,         13,2,20210330,       2211,    28.8053,   -52.3333,       5147,  1883.7,   4.2733,  35.0621,2,  35.0626,2,    248.5,2,   247.7,2,   16.51,2,   18.35,2,    0.00,2,    1.18,2,   1.383,2,   0.708,2,    0.31,2,  2168.6,2, -999.00,9,   -999.0,9,  -999.00,   7.73192,2,    25.02, -999.00,9, -999.00,9, -999.00,-999.000,9,   43.75,2,   19.05,2,      13.12,2, 20210330,     2327,  28.8052, -52.3332,     4.2716,2,     0.0421,1,     4.7057,1,     -999.0,9,     -999.0,9,     -999.0,9,     -999.0,9
325020210316,        A20,      37,          1,         12,         12,2,20210330,       2211,    28.8053,   -52.3333,       5147,  2109.1,   3.7351,  35.0070,2,  35.0071,2,    254.2,2,   254.3,2,   18.85,2,   18.39,2,    0.00,2,    1.20,2,-999.000,9,-999.000,9, -999.00,9,  -999.0,9, -999.00,9,   -999.0,9,  -999.00,-999.00000,9,  -999.00, -999.00,9, -999.00,9, -999.00,-999.000,9, -999.00,9, -999.00,9,     -999.0,9, 20210330,     2322,  28.8052, -52.3332,     3.7359,2,     0.0415,1,     4.7057,1,     -999.0,9,     -999.0,9,     -999.0,9,     -999.0,9
325020210316,        A20,      37,          1,         11,         11,2,20210330,       2211,    28.8053,   -52.3333,       5147,  2362.1,   3.4138,  34.9832,2,  34.9835,2,    253.5,2,   254.0,2,   22.86,2,   18.86,2,    0.00,2,    1.24,2,   0.784,2,   0.385,2,    0.16,2,  2171.2,2, 2324.05,2,   -999.0,9,  -999.00,   7.73505,2,    24.97, -999.00,9, -999.00,9, -999.00,-999.000,9,   44.19,2,   20.11,2,      12.85,2, 20210330,     2316,  28.8052, -52.3332,     3.4130,2,     0.0419,1,     4.7057,1,     -999.0,9,     -999.0,9,     -999.0,9,     -999.0,9
325020210316,        A20,      37,          1,         10,         10,2,20210330,       2211,    28.8053,   -52.3333,       5147,  2620.1,   3.1936,  34.9671,2,  34.9669,2,    252.2,2,   252.1,2,   26.57,2,   19.36,2,    0.00,2,    1.29,2,-999.000,9,-999.000,9, -999.00,9,  -999.0,9, -999.00,9,   -999.0,9,  -999.00,-999.00000,9,  -999.00, -999.00,9, -999.00,9, -999.00,-999.000,9, -999.00,9, -999.00,9,     -999.0,9, 20210330,     2310,  28.8052, -52.3332,     3.1941,2,     0.0417,1,     4.7057,1,     -999.0,9,     -999.0,9,     -999.0,9,     -999.0,9
325020210316,        A20,      37,          1,          9,          9,2,20210330,       2211,    28.8053,   -52.3333,       5147,  2871.7,   3.0045,  34.9524,2,  34.9516,2,    251.5,2,   251.8,2,   29.60,2,   19.75,2,    0.00,2,    1.32,2,-999.000,9,-999.000,9, -999.00,9,  -999.0,9, -999.00,9,   -999.0,9,  -999.00,-999.00000,9,  -999.00, -999.00,9, -999.00,9, -999.00,-999.000,9,   44.34,2,   21.20,2,     -999.0,9, 20210330,     2305,  28.8052, -52.3332,     3.0042,2,     0.0423,1,     4.7057,1,     -999.0,9,     -999.0,9,     -999.0,9,     -999.0,9
325020210316,        A20,      37,          1,          8,          8,2,20210330,       2211,    28.8053,   -52.3333,       5147,  3143.8,   2.8274,  34.9379,2,  34.9374,2,    253.4,2,   253.6,2,   31.26,2,   19.97,2,    0.00,2,    1.33,2,   0.224,2,   0.080,2,    0.11,2,  2176.0,2, 2335.12,2,   -999.0,9,  -999.00,   7.74058,2,    25.01, -999.00,9, -999.00,9, -999.00,-999.000,9,   44.41,2,   20.84,2,      12.83,2, 20210330,     2258,  28.8052, -52.3332,     2.8274,2,     0.0429,1,     4.7057,1,     -999.0,9,     -999.0,9,     -999.0,9,     -999.0,9
325020210316,        A20,      37,          1,          7,          7,2,20210330,       2211,    28.8053,   -52.3333,       5147,  3451.8,   2.6206,  34.9211,2,  34.9205,2,    257.0,2,   257.2,2,   32.14,2,   19.89,2,    0.00,2,    1.32,2,-999.000,9,-999.000,9, -999.00,9,  -999.0,9, -999.00,9,   -999.0,9,  -999.00,-999.00000,9,  -999.00, -999.00,9, -999.00,9, -999.00,-999.000,9,   46.01,2,   22.10,2,     -999.0,9, 20210330,     2252,  28.8052, -52.3332,     2.6207,2,     0.0428,1,     4.7057,1,     -999.0,9,     -999.0,9,     -999.0,9,     -999.0,9
325020210316,        A20,      37,          1,          6,          6,2,20210330,       2211,    28.8053,   -52.3333,       5147,  3758.8,   2.4186,  34.9041,2,  34.9036,2,    259.2,2,   259.3,2,   34.58,2,   19.96,2,    0.00,2,    1.33,2,   0.219,2,   0.104,2,    0.02,2,  2176.9,2,  2328.8,2,   -999.0,9,  -999.00,    7.7381,2,    25.03, -999.00,9, -999.00,9, -999.00,-999.000,9, -999.00,9, -999.00,9,      12.75,2, 20210330,     2245,  28.8052, -52.3332,     2.4186,2,     0.0435,1,     4.7055,1,     -999.0,9,     -999.0,9,     -999.0,9,     -999.0,9
325020210316,        A20,      37,          1,          5,          5,2,20210330,       2211,    28.8053,   -52.3333,       5147,  4064.2,   2.2779,  34.8892,2,  34.8882,2,    257.8,2,   258.1,2,   39.07,2,   20.47,2,    0.00,2,    1.37,2,-999.000,9,-999.000,9, -999.00,9,  -999.0,9, -999.00,9,   -999.0,9,  -999.00,-999.00000,9,  -999.00, -999.00,9, -999.00,9, -999.00,-999.000,9,   43.80,2,   20.69,2,     -999.0,9, 20210330,     2239,  28.8052, -52.3332,     2.2778,2,     0.0419,1,     4.7057,1,     -999.0,9,     -999.0,9,     -999.0,9,     -999.0,9
325020210316,        A20,      37,          1,          4,          4,2,20210330,       2211,    28.8053,   -52.3333,       5147,  4374.1,   2.1738,  34.8759,2,  34.8749,2,    255.8,2,   255.5,2,   43.96,2,   21.05,2,    0.00,2,    1.41,2,   0.198,2,   0.102,2,    0.07,2,  2188.4,2, 2338.06,2,   -999.0,9,  -999.00,   7.73021,6,    25.02, -999.00,9, -999.00,9, -999.00,-999.000,9,   46.07,2,   21.21,2,      13.07,2, 20210330,     2232,  28.8052, -52.3332,     2.1742,2,     0.0429,1,     4.7057,1,     -999.0,9,     -999.0,9,     -999.0,9,     -999.0,9
325020210316,        A20,      37,          1,          3,          3,2,20210330,       2211,    28.8053,   -52.3333,       5147,  4683.7,   2.1186,  34.8659,2,  34.8656,2,    253.3,2,   253.0,2,   48.36,2,   21.63,2,    0.00,2,    1.46,2,-999.000,9,-999.000,9, -999.00,9,  -999.0,9, -999.00,9,   -999.0,9,  -999.00,-999.00000,9,  -999.00, -999.00,9, -999.00,9, -999.00,-999.000,9, -999.00,9, -999.00,9,     -999.0,9, 20210330,     2225,  28.8052, -52.3331,     2.1185,2,     0.0426,1,     4.7045,1,     -999.0,9,     -999.0,9,     -999.0,9,     -999.0,9