BOTTLE,20230512CCHSIOCBG
EXPOCODE,SECT_ID,STNNBR,CASTNO,SAMPNO,BTLNBR,BTLNBR_FLAG_W,DATE,TIME,LATITUDE,LONGITUDE,DEPTH,CTDPRS,CTDTMP,CTDSAL,CTDSAL_FLAG_W,SALNTY,SALNTY_FLAG_W,CTDOXY,CTDOXY_FLAG_W,OXYGEN,OXYGEN_FLAG_W,SILCAT,SILCAT_FLAG_W,NITRAT,NITRAT_FLAG_W,NITRIT,NITRIT_FLAG_W,PHSPHT,PHSPHT_FLAG_W,CFC-11,CFC-11_FLAG_W,CFC-12,CFC-12_FLAG_W,SF6,SF6_FLAG_W,TCARBN,TCARBN_FLAG_W,ALKALI,ALKALI_FLAG_W,FCO2,FCO2_FLAG_W,FCO2TMP,PH_TOT,PH_TOT_FLAG_W,PH_TMP,DELC13,DELC13_FLAG_W,DELC14,DELC14_FLAG_W,C14ERR,POC,POC_FLAG_W,DOC,DOC_FLAG_W,TDN,TDN_FLAG_W,N2O,N2O_FLAG_W,BTL_DATE,BTL_TIME,BTL_LAT,BTL_LON,REFTMP,REFTMP_FLAG_W,CTDFLUOR,CTDFLUOR_FLAG_W,CTDXMISS,CTDXMISS_FLAG_W,D15N_NO2+NO3,D15N_NO2+NO3_FLAG_W,D18O_NO2+NO3,D18O_NO2+NO3_FLAG_W,HPLC,HPLC_FLAG_W,MICROGELS,MICROGELS_FLAG_W
,,,,,,,,,,,METERS,DBAR,ITS-90,PSS-78,,PSS-78,,UMOL/KG,,UMOL/KG,,UMOL/KG,,UMOL/KG,,UMOL/KG,,UMOL/KG,,PMOL/KG,,PMOL/KG,,FMOL/KG,,UMOL/KG,,UMOL/KG,,UATM,,DEG C,,,DEG C,/MILLE,,/MILLE,,/MILLE,UG/KG,,UMOL/KG,,UMOL/KG,,NMOL/KG,,,,,,ITS-90,,VOLTS,,VOLTS,,/MILLE,,/MILLE,,,,1E6 GELS/L,
325020210316,        A20,      23,          1,         36,         36,2,20210326,       1212,    37.2236,   -52.3334,       5430,     5.1,  18.9870,  36.6287,2,  36.6275,2,    227.8,2,   225.7,2,    0.98,2,    1.22,2,    0.07,2,    0.04,2,   1.943,2,   1.254,2,    2.36,3,  2103.1,6,  2396.6,2,    387.4,2,    20.00,   8.00189,2,    24.99, -999.00,9, -999.00,9, -999.00,-999.000,9,   58.81,2,    5.09,2,       7.64,2, 20210326,     1434,  37.2236, -52.3334,    18.9856,2,     0.0787,1,     4.5818,1,     -999.0,9,     -999.0,9,     -999.0,9,     -999.0,9
325020210316,        A20,      23,          1,         35,         35,2,20210326,       1212,    37.2236,   -52.3334,       5430,    35.4,  18.9664,  36.6335,2,  36.6322,2,    228.7,3,   224.6,2,    0.98,2,    1.23,2,    0.08,2,    0.04,2,-999.000,9,-999.000,9, -999.00,9,  -999.0,9, -999.00,9,   -999.0,9,  -999.00,-999.00000,9,  -999.00, -999.00,9, -999.00,9, -999.00,-999.000,9,   59.37,2,    4.20,2,     -999.0,9, 20210326,     1433,  37.2236, -52.3335,    18.9639,2,     0.1031,1,     4.5858,1,     -999.0,9,     -999.0,9,     -999.0,9,     -999.0,9
325020210316,        A20,      23,          1,         34,         34,2,20210326,       1212,    37.2236,   -52.3334,       5430,    60.9,  18.9124,  36.6327,2,  36.6318,2,    227.1,3,   217.8,2,    1.07,2,    1.72,2,    0.11,2,    0.06,2,   1.990,2,   1.250,2,    2.65,3,  2107.4,2, -999.00,9,    381.8,2,    20.00,   7.99476,2,    24.99, -999.00,9, -999.00,9, -999.00,-999.000,9,   58.19,2,    4.98,2,       7.81,2, 20210326,     1431,  37.2236, -52.3334,    18.9112,2,     0.0639,1,     4.6462,1,     -999.0,9,     -999.0,9,     -999.0,9,     -999.0,9
325020210316,        A20,      23,          1,         33,         33,2,20210326,       1212,    37.2236,   -52.3334,       5430,    85.5,  18.8896,  36.6298,2,  36.6283,2,    227.7,3,   221.1,2,    1.17,2,    1.58,2,    0.08,2,    0.05,2,-999.000,9,-999.000,9, -999.00,9,  -999.0,9, -999.00,9,   -999.0,9,  -999.00,-999.00000,9,  -999.00, -999.00,9, -999.00,9, -999.00,-999.000,9,   57.67,2,    4.64,2,     -999.0,9, 20210326,     1429,  37.2236, -52.3334,    18.8894,2,     0.0829,1,     4.6377,1,     -999.0,9,     -999.0,9,     -999.0,9,     -999.0,9
325020210316,        A20,      23,          1,         32,         32,2,20210326,       1212,    37.2236,   -52.3334,       5430,   117.3,  18.8809,  36.6296,2,  36.6287,2,    227.1,3,   222.1,2,    1.07,2,    1.54,2,    0.08,2,    0.05,2,   2.026,2,   1.266,2,    2.79,3,  2105.4,2, 2396.18,2,    379.8,2,    20.00,   7.99782,2,    24.97, -999.00,9, -999.00,9, -999.00,-999.000,9,   60.10,2,    5.35,2,       7.74,2, 20210326,     1427,  37.2236, -52.3334,    18.8796,2,     0.0895,1,     4.6304,1,     -999.0,9,     -999.0,9,     -999.0,9,     -999.0,9
325020210316,        A20,      23,          1,         31,         31,2,20210326,       1212,    37.2236,   -52.3334,       5430,   166.8,  18.7948,  36.6131,2,  36.6120,2,    224.9,3,   209.9,2,    1.07,2,    2.03,2,    0.08,2,    0.07,2,-999.000,9,-999.000,9, -999.00,9,  -999.0,9, -999.00,9,   -999.0,9,  -999.00,-999.00000,9,  -999.00, -999.00,9, -999.00,9, -999.00,-999.000,9,   58.13,2,    6.35,2,     -999.0,9, 20210326,     1424,  37.2236, -52.3335,    18.7944,2,     0.0445,1,     4.6854,1,     -999.0,9,     -999.0,9,     -999.0,9,     -999.0,9
325020210316,        A20,      23,          1,         30,         30,2,20210326,       1212,    37.2236,   -52.3334,       5430,   217.4,  18.7936,  36.6193,2,  36.6173,2,    222.2,3,   218.2,2,    1.07,2,    2.63,2,    0.02,2,    0.09,2,-999.000,9,-999.000,9, -999.00,9,  -999.0,9, -999.00,9,   -999.0,9,  -999.00,-999.00000,9,  -999.00, -999.00,9, -999.00,9, -999.00,-999.000,9,   58.92,2,    6.14,2,     -999.0,9, 20210326,     1422,  37.2236, -52.3335,    18.7922,2,     0.0620,1,     4.6646,1,     -999.0,9,     -999.0,9,     -999.0,9,     -999.0,9
325020210316,        A20,      23,          1,         29,         29,2,20210326,       1212,    37.2236,   -52.3334,       5430,   267.4,  18.7000,  36.5994,2,  36.5979,2,    221.4,3,   211.1,2,    1.17,2,    2.72,2,    0.03,2,    0.10,2,   2.008,2,   1.264,2,    2.59,3,  2113.6,2, 2395.37,2,    398.5,2,    20.00,   7.98057,2,    24.98, -999.00,9, -999.00,9, -999.00,-999.000,9,   55.34,2,    6.75,2,       8.14,2, 20210326,     1420,  37.2235, -52.3334,    18.6986,2,     0.0452,1,     4.6857,1,     -999.0,9,     -999.0,9,     -999.0,9,     -999.0,9
325020210316,        A20,      23,          1,         28,         28,2,20210326,       1212,    37.2236,   -52.3334,       5430,   317.5,  18.6407,  36.5989,2,  36.5977,2,    212.7,3,   216.9,2,    1.07,2,    2.29,2,    0.08,2,    0.08,2,-999.000,9,-999.000,9, -999.00,9,  -999.0,9, -999.00,9,   -999.0,9,  -999.00,-999.00000,9,  -999.00, -999.00,9, -999.00,9, -999.00,-999.000,9,   56.39,2,    4.94,2,     -999.0,9, 20210326,     1418,  37.2236, -52.3335,    18.6398,2,     0.0558,1,     4.6740,1,     -999.0,9,     -999.0,9,     -999.0,9,     -999.0,9
325020210316,        A20,      23,          1,         27,         27,2,20210326,       1212,    37.2236,   -52.3334,       5430,   368.0,  18.4868,  36.5612,2,  36.5597,2,    204.2,2,   204.8,2,    1.27,2,    3.54,2,    0.01,2,    0.14,2,   2.076,2,   1.298,2,    2.16,3,  2118.2,2, -999.00,9,    413.8,2,    20.00,   7.96717,2,    24.98, -999.00,9, -999.00,9, -999.00,-999.000,9,   55.52,2,    8.30,2,       8.48,2, 20210326,     1416,  37.2236, -52.3334,    18.4858,2,     0.0433,1,     4.6889,1,     -999.0,9,     -999.0,9,     -999.0,9,     -999.0,9
325020210316,        A20,      23,          1,         26,         26,2,20210326,       1212,    37.2236,   -52.3334,       5430,   438.6,  17.8910,  36.4459,2,  36.4437,2,    199.0,2,   198.8,2,    1.76,2,    4.90,2,    0.00,2,    0.23,2,-999.000,9,-999.000,9, -999.00,9,  -999.0,9, -999.00,9,   -999.0,9,  -999.00,-999.00000,9,  -999.00, -999.00,9, -999.00,9, -999.00,-999.000,9,   54.41,2,    9.14,2,     -999.0,9, 20210326,     1413,  37.2236, -52.3334,    17.8890,2,     0.0399,1,     4.6949,1,     -999.0,9,     -999.0,9,     -999.0,9,     -999.0,9
325020210316,        A20,      23,          1,         25,         25,2,20210326,       1212,    37.2236,   -52.3334,       5430,   539.7,  16.9557,  36.2745,2,  36.2665,2,    185.1,3,   187.0,2,    2.63,2,    7.28,2,    0.00,2,    0.38,2,   2.206,2,   1.363,2,    2.10,3,  2137.5,2, 2373.09,2,    483.4,6,    20.00,   7.90654,2,    25.00, -999.00,9, -999.00,9, -999.00,-999.000,9,   52.29,2,   11.01,2,      10.59,2, 20210326,     1410,  37.2236, -52.3334,    16.9547,2,     0.0400,1,     4.6973,1,     -999.0,9,     -999.0,9,     -999.0,9,     -999.0,9
325020210316,        A20,      23,          1,         24,         24,2,20210326,       1212,    37.2236,   -52.3334,       5430,   640.0,  16.0156,  36.1470,2,  36.1448,2,    180.8,2,   180.8,2,    3.41,2,    9.46,2,    0.00,2,    0.53,2,-999.000,9,-999.000,9, -999.00,9,  -999.0,9, -999.00,9,   -999.0,9,  -999.00,-999.00000,9,  -999.00, -999.00,9, -999.00,9, -999.00,-999.000,9, -999.00,9, -999.00,9,     -999.0,9, 20210326,     1407,  37.2236, -52.3335,    16.0155,2,     0.0402,1,     4.7002,1,     -999.0,9,     -999.0,9,     -999.0,9,     -999.0,9
325020210316,        A20,      23,          1,         23,         23,2,20210326,       1212,    37.2236,   -52.3334,       5430,   741.1,  14.1818,  35.8459,2,  35.8445,2,    171.9,3,   165.1,2,    5.56,2,   13.97,2,    0.00,2,    0.82,2,   2.239,2,   1.312,2,    1.83,3,  2161.6,2, -999.00,9,    618.5,2,    20.00,   7.81112,2,    24.99, -999.00,9, -999.00,9, -999.00,-999.000,9,   49.74,2,   17.47,2,      14.93,2, 20210326,     1404,  37.2236, -52.3335,    14.1823,2,     0.0406,1,     4.7022,1,     -999.0,9,     -999.0,9,     -999.0,9,     -999.0,9
325020210316,        A20,      23,          1,         22,         22,2,20210326,       1212,    37.2236,   -52.3334,       5430,   842.4,  12.2157,  35.5623,2,  35.5555,2,    151.7,3,   148.6,2,    9.18,2,   19.11,2,    0.00,2,    1.15,2,-999.000,9,-999.000,9, -999.00,9,  -999.0,9, -999.00,9,   -999.0,9,  -999.00,-999.00000,9,  -999.00, -999.00,9, -999.00,9, -999.00,-999.000,9, -999.00,9, -999.00,9,     -999.0,9, 20210326,     1401,  37.2236, -52.3334,    12.2172,2,     0.0419,1,     4.7035,1,     -999.0,9,     -999.0,9,     -999.0,9,     -999.0,9
325020210316,        A20,      23,          1,         21,         21,2,20210326,       1212,    37.2236,   -52.3334,       5430,   943.4,  10.0217,  35.2983,2,  35.2978,2,    142.7,3,   144.4,2,   12.79,2,   22.92,2,    0.00,2,    1.42,2,-999.000,9,-999.000,9, -999.00,9,  -999.0,9, -999.00,9,   -999.0,9,  -999.00,-999.00000,9,  -999.00, -999.00,9, -999.00,9, -999.00,-999.000,9, -999.00,9, -999.00,9,     -999.0,9, 20210326,     1358,  37.2235, -52.3334,    10.0329,2,     0.0419,1,     4.7030,1,     -999.0,9,     -999.0,9,     -999.0,9,     -999.0,9
325020210316,        A20,      23,          1,         20,         20,2,20210326,       1212,    37.2236,   -52.3334,       5430,  1044.8,   8.4396,  35.1921,2,  35.1916,2,    164.6,2,   163.8,2,   13.57,2,   22.60,2,    0.00,2,    1.43,2,   1.613,2,   0.894,2,    0.84,3,  2191.1,2, 2321.89,6,    856.5,2,    20.00,   7.67738,2,    25.00, -999.00,9, -999.00,9, -999.00,-999.000,9,   47.74,2,   26.48,2,      18.81,2, 20210326,     1354,  37.2236, -52.3335,     8.4516,2,     0.0424,1,     4.7064,1,     -999.0,9,     -999.0,9,     -999.0,9,     -999.0,9
325020210316,        A20,      23,          1,         19,         19,2,20210326,       1212,    37.2236,   -52.3334,       5430,  1146.5,   6.8692,  35.1039,2,  35.1020,2,    189.0,2,   189.2,2,   13.77,2,   21.62,2,    0.00,2,    1.39,2,-999.000,9,-999.000,9, -999.00,9,  -999.0,9, -999.00,9,   -999.0,9,  -999.00,-999.00000,9,  -999.00, -999.00,9, -999.00,9, -999.00,-999.000,9, -999.00,9, -999.00,9,     -999.0,9, 20210326,     1352,  37.2236, -52.3334,     6.8960,2,     0.0424,1,     4.7057,1,     -999.0,9,     -999.0,9,     -999.0,9,     -999.0,9
325020210316,        A20,      23,          1,         18,         18,2,20210326,       1212,    37.2236,   -52.3334,       5430,  1248.5,   5.9023,  35.0668,2,  35.0655,2,    214.7,2,   215.4,2,   12.99,2,   19.96,2,    0.00,2,    1.29,2,   2.283,2,   1.215,2,    1.30,3,  2182.3,2,  2315.0,2,    829.9,2,    20.00,   7.68914,6,    24.99, -999.00,9, -999.00,9, -999.00,-999.000,9,   48.27,2,   21.30,2,      15.77,2, 20210326,     1349,  37.2236, -52.3335,     5.9026,2,     0.0423,1,     4.7055,1,     -999.0,9,     -999.0,9,     -999.0,9,     -999.0,9
325020210316,        A20,      23,          1,         17,         17,2,20210326,       1212,    37.2236,   -52.3334,       5430,  1348.3,   5.4412,  35.0539,2,  35.0526,2,    229.6,2,   229.4,2,   12.40,2,   19.13,2,    0.00,2,    1.23,2,-999.000,9,-999.000,9, -999.00,9,  -999.0,9, -999.00,9,   -999.0,9,  -999.00,-999.00000,9,  -999.00, -999.00,9, -999.00,9, -999.00,-999.000,9, -999.00,9, -999.00,9,     -999.0,9, 20210326,     1346,  37.2236, -52.3335,     5.4437,2,     0.0423,1,     4.7055,1,     -999.0,9,     -999.0,9,     -999.0,9,     -999.0,9
325020210316,        A20,      23,          1,         16,         16,2,20210326,       1212,    37.2236,   -52.3334,       5430,  1480.8,   4.9304,  35.0260,2,  35.0254,2,    245.0,2,   243.4,2,   12.01,2,   18.48,2,    0.00,2,    1.18,2,   2.710,2,   1.452,2,    1.33,3,  2171.8,2, -999.00,9,    796.9,2,    20.00,   7.70361,2,    24.99, -999.00,9, -999.00,9, -999.00,-999.000,9,   48.50,2,   20.63,2,      14.39,2, 20210326,     1342,  37.2236, -52.3334,     4.9325,2,     0.0423,1,     4.7062,1,     -999.0,9,     -999.0,9,     -999.0,9,     -999.0,9
325020210316,        A20,      23,          1,         15,         15,2,20210326,       1212,    37.2236,   -52.3334,       5430,  1684.6,   4.5004,  34.9960,2,  34.9959,2,    256.5,2,   254.8,2,   11.82,2,   17.97,2,    0.00,2,    1.14,2,-999.000,9,-999.000,9, -999.00,9,  -999.0,9, -999.00,9,   -999.0,9,  -999.00,-999.00000,9,  -999.00, -999.00,9, -999.00,9, -999.00,-999.000,9,   52.35,2,   23.57,2,     -999.0,9, 20210326,     1338,  37.2236, -52.3334,     4.4991,2,     0.0425,1,     4.7049,1,     -999.0,9,     -999.0,9,     -999.0,9,     -999.0,9
325020210316,        A20,      23,          1,         14,         14,2,20210326,       1212,    37.2236,   -52.3334,       5430,  1888.1,   4.1726,  34.9749,2,  34.9740,2,    262.0,2,   261.6,2,   11.91,2,   17.63,2,    0.00,2,    1.12,2,-999.000,9,-999.000,9, -999.00,9,  -999.0,9, -999.00,9,   -999.0,9,  -999.00,-999.00000,9,  -999.00, -999.00,9, -999.00,9, -999.00,-999.000,9, -999.00,9, -999.00,9,     -999.0,9, 20210326,     1333,  37.2236, -52.3334,     4.1724,2,     0.0429,1,     4.7057,1,     -999.0,9,     -999.0,9,     -999.0,9,     -999.0,9
325020210316,        A20,      23,          1,         13,         13,2,20210326,       1212,    37.2236,   -52.3334,       5430,  2110.8,   3.9679,  34.9694,2,  34.9685,2,    263.9,2,   262.7,2,   12.70,2,   17.60,2,    0.00,2,    1.12,2,   2.543,2,   1.327,2,    0.34,3,  2165.7,2, 2309.38,2,    767.0,2,    20.00,   7.71767,6,    25.00, -999.00,9, -999.00,9, -999.00,-999.000,9,   48.20,2,   22.92,2,      13.33,2, 20210326,     1328,  37.2236, -52.3334,     3.9672,2,     0.0424,1,     4.7066,1,     -999.0,9,     -999.0,9,     -999.0,9,     -999.0,9
325020210316,        A20,      23,          1,         12,         12,2,20210326,       1212,    37.2236,   -52.3334,       5430,  2365.3,   3.7204,  34.9606,2,  34.9599,2,    264.1,2,   264.0,2,   13.87,2,   17.54,2,    0.00,2,    1.12,2,-999.000,9,-999.000,9, -999.00,9,  -999.0,9, -999.00,9,   -999.0,9,  -999.00,-999.00000,9,  -999.00, -999.00,9, -999.00,9, -999.00,-999.000,9,   47.67,2,   23.18,2,     -999.0,9, 20210326,     1322,  37.2236, -52.3334,     3.7209,2,     0.0417,1,     4.7070,1,     -999.0,9,     -999.0,9,     -999.0,9,     -999.0,9
325020210316,        A20,      23,          1,         11,         11,2,20210326,       1212,    37.2236,   -52.3334,       5430,  2568.8,   3.5653,  34.9571,2,  34.9561,2,    264.5,2,   263.9,2,   15.33,2,   17.65,2,    0.00,2,    1.14,2,-999.000,9,-999.000,9, -999.00,9,  -999.0,9, -999.00,9,   -999.0,9,  -999.00,-999.00000,9,  -999.00, -999.00,9, -999.00,9, -999.00,-999.000,9, -999.00,9, -999.00,9,     -999.0,9, 20210326,     1317,  37.2236, -52.3335,     3.5676,2,     0.0418,1,     4.7074,1,     -999.0,9,     -999.0,9,     -999.0,9,     -999.0,9
325020210316,        A20,      23,          1,         10,         10,2,20210326,       1212,    37.2236,   -52.3334,       5430,  2875.9,   3.2627,  34.9458,2,  34.9449,2,    264.4,2,   265.1,2,   17.48,2,   17.61,2,    0.00,2,    1.15,2,   1.573,2,   0.781,2,    0.38,3,  2166.3,2, 2314.82,2,    743.9,2,    20.00,   7.72978,2,    24.98, -999.00,9, -999.00,9, -999.00,-999.000,9,   46.77,2,   21.83,2,      13.16,2, 20210326,     1309,  37.2236, -52.3335,     3.2624,2,     0.0420,1,     4.7076,1,     -999.0,9,     -999.0,9,     -999.0,9,     -999.0,9
325020210316,        A20,      23,          1,          9,          9,2,20210326,       1212,    37.2236,   -52.3334,       5430,  3146.2,   3.0585,  34.9382,2,  34.9372,2,    265.2,2,   265.4,2,   19.34,2,   17.77,2,    0.00,2,    1.16,2,-999.000,9,-999.000,9, -999.00,9,  -999.0,9, -999.00,9,   -999.0,9,  -999.00,-999.00000,9,  -999.00, -999.00,9, -999.00,9, -999.00,-999.000,9, -999.00,9, -999.00,9,     -999.0,9, 20210326,     1304,  37.2236, -52.3335,     3.0587,2,     0.0424,1,     4.7082,1,     -999.0,9,     -999.0,9,     -999.0,9,     -999.0,9
325020210316,        A20,      23,          1,          8,          8,2,20210326,       1212,    37.2236,   -52.3334,       5430,  3453.0,   2.8322,  34.9268,2,  34.9252,2,    266.7,2,   267.5,2,   20.80,2,   17.70,2,    0.00,2,    1.16,2,-999.000,9,-999.000,9, -999.00,9,  -999.0,9, -999.00,9,   -999.0,9,  -999.00,-999.00000,9,  -999.00, -999.00,9, -999.00,9, -999.00,-999.000,9,   47.95,2,   17.89,2,     -999.0,9, 20210326,     1257,  37.2236, -52.3335,     2.8332,2,     0.0416,1,     4.7082,1,     -999.0,9,     -999.0,9,     -999.0,9,     -999.0,9
325020210316,        A20,      23,          1,          7,          7,2,20210326,       1212,    37.2236,   -52.3334,       5430,  3761.2,   2.5997,  34.9135,2,  34.9130,2,    268.6,2,   268.8,2,   22.85,2,   17.72,2,    0.00,2,    1.16,2,   1.424,2,   0.694,2,    0.64,3,  2168.4,2, -999.00,9,    742.6,2,    20.00,   7.73167,2,    25.01, -999.00,9, -999.00,9, -999.00,-999.000,9,   47.98,2,   21.01,2,      13.33,2, 20210326,     1251,  37.2236, -52.3335,     2.5995,2,     0.0428,1,     4.7083,1,     -999.0,9,     -999.0,9,     -999.0,9,     -999.0,9
325020210316,        A20,      23,          1,          6,          6,2,20210326,       1212,    37.2236,   -52.3334,       5430,  4104.3,   2.4127,  34.9006,2,  34.8993,2,    268.1,2,   267.9,2,   26.95,2,   18.12,2,    0.00,2,    1.21,2,-999.000,9,-999.000,9, -999.00,9,  -999.0,9, -999.00,9,   -999.0,9,  -999.00,-999.00000,9,  -999.00, -999.00,9, -999.00,9, -999.00,-999.000,9,   47.03,2,   22.01,2,     -999.0,9, 20210326,     1244,  37.2236, -52.3335,     2.4138,2,     0.0422,1,     4.7082,1,     -999.0,9,     -999.0,9,     -999.0,9,     -999.0,9
325020210316,        A20,      23,          1,          5,          5,2,20210326,       1212,    37.2236,   -52.3334,       5430,  4515.7,   2.3247,  34.8928,2,  34.8920,2,    268.2,2,   268.1,2,   28.71,2,   18.15,2,    0.00,2,    1.22,2,-999.000,9,-999.000,9, -999.00,9,  -999.0,9, -999.00,9,   -999.0,9,  -999.00,-999.00000,9,  -999.00, -999.00,9, -999.00,9, -999.00,-999.000,9,   47.21,2,   22.96,2,     -999.0,9, 20210326,     1236,  37.2236, -52.3335,     2.3245,2,     0.0421,1,     4.7042,1,     -999.0,9,     -999.0,9,     -999.0,9,     -999.0,9
325020210316,        A20,      23,          1,          4,          4,2,20210326,       1212,    37.2236,   -52.3334,       5430,  4926.9,   2.3090,  34.8873,2,  34.8865,2,    265.7,2,   266.1,2,   31.64,2,   18.59,2,    0.00,2,    1.25,2,   1.387,2,   0.703,2,    0.58,3,  2180.3,2, 2325.93,2,    757.7,2,    20.00,   7.72399,2,    25.02, -999.00,9, -999.00,9, -999.00,-999.000,9,   45.87,2,   23.22,2,      13.70,2, 20210326,     1228,  37.2236, -52.3334,     2.3093,2,     0.0436,1,     4.6955,1,     -999.0,9,     -999.0,9,     -999.0,9,     -999.0,9
325020210316,        A20,      23,          1,          3,          3,2,20210326,       1212,    37.2236,   -52.3334,       5430,  5340.2,   2.2823,  34.8762,2,  34.8755,2,    259.4,2,   258.9,2,   39.65,2,   20.03,2,    0.00,2,    1.35,2,-999.000,9,-999.000,9, -999.00,9,  -999.0,9, -999.00,9,   -999.0,9,  -999.00,-999.00000,9,  -999.00, -999.00,9, -999.00,9, -999.00,-999.000,9, -999.00,9, -999.00,9,     -999.0,9, 20210326,     1219,  37.2236, -52.3335,     2.2823,2,     0.0433,1,     4.6264,1,     -999.0,9,     -999.0,9,     -999.0,9,     -999.0,9