BOTTLE,20230512CCHSIOCBG
EXPOCODE,SECT_ID,STNNBR,CASTNO,SAMPNO,BTLNBR,BTLNBR_FLAG_W,DATE,TIME,LATITUDE,LONGITUDE,DEPTH,CTDPRS,CTDTMP,CTDSAL,CTDSAL_FLAG_W,SALNTY,SALNTY_FLAG_W,CTDOXY,CTDOXY_FLAG_W,OXYGEN,OXYGEN_FLAG_W,SILCAT,SILCAT_FLAG_W,NITRAT,NITRAT_FLAG_W,NITRIT,NITRIT_FLAG_W,PHSPHT,PHSPHT_FLAG_W,CFC-11,CFC-11_FLAG_W,CFC-12,CFC-12_FLAG_W,SF6,SF6_FLAG_W,TCARBN,TCARBN_FLAG_W,ALKALI,ALKALI_FLAG_W,FCO2,FCO2_FLAG_W,FCO2TMP,PH_TOT,PH_TOT_FLAG_W,PH_TMP,DELC13,DELC13_FLAG_W,DELC14,DELC14_FLAG_W,C14ERR,POC,POC_FLAG_W,DOC,DOC_FLAG_W,TDN,TDN_FLAG_W,N2O,N2O_FLAG_W,BTL_DATE,BTL_TIME,BTL_LAT,BTL_LON,REFTMP,REFTMP_FLAG_W,CTDFLUOR,CTDFLUOR_FLAG_W,CTDXMISS,CTDXMISS_FLAG_W,D15N_NO2+NO3,D15N_NO2+NO3_FLAG_W,D18O_NO2+NO3,D18O_NO2+NO3_FLAG_W,HPLC,HPLC_FLAG_W,MICROGELS,MICROGELS_FLAG_W
,,,,,,,,,,,METERS,DBAR,ITS-90,PSS-78,,PSS-78,,UMOL/KG,,UMOL/KG,,UMOL/KG,,UMOL/KG,,UMOL/KG,,UMOL/KG,,PMOL/KG,,PMOL/KG,,FMOL/KG,,UMOL/KG,,UMOL/KG,,UATM,,DEG C,,,DEG C,/MILLE,,/MILLE,,/MILLE,UG/KG,,UMOL/KG,,UMOL/KG,,NMOL/KG,,,,,,ITS-90,,VOLTS,,VOLTS,,/MILLE,,/MILLE,,,,1E6 GELS/L,
325020210316,        A20,      77,          1,         36,         36,2,20210411,       0816,     8.4351,   -52.5607,       4215,     5.2,  27.4783,  36.1868,2,  36.1889,2,    200.7,2,   199.2,2,    0.88,2,    0.00,2,    0.00,2,    0.00,2,-999.000,9,-999.000,9, -999.00,9,  2041.8,6,  2367.5,2,   -999.0,9,  -999.00,    8.0893,2,    25.00, -999.00,9, -999.00,9, -999.00,-999.000,9,   75.96,2,    4.12,2,     -999.0,9, 20210411,     1015,   8.4351, -52.5607,    27.4752,2,     0.0666,1,     4.6215,1,     -999.0,1,     -999.0,1,     -999.0,9,     -999.0,1
325020210316,        A20,      77,          1,         35,         35,2,20210411,       0816,     8.4351,   -52.5607,       4215,    25.1,  27.4825,  36.1889,2,  36.1913,2,    200.6,2,   199.3,2,    0.78,2,    0.00,2,    0.00,2,    0.00,2,-999.000,9,-999.000,9, -999.00,9,  -999.0,9, -999.00,9,   -999.0,9,  -999.00,-999.00000,9,  -999.00, -999.00,9, -999.00,9, -999.00,-999.000,9,   73.45,2,    4.47,2,     -999.0,9, 20210411,     1013,   8.4351, -52.5607,    27.4813,2,     0.0512,1,     4.6227,1,     -999.0,1,     -999.0,1,     -999.0,9,     -999.0,1
325020210316,        A20,      77,          1,         34,         34,2,20210411,       0816,     8.4351,   -52.5607,       4215,    49.5,  27.4344,  36.2315,2,  36.2331,2,    200.9,2,   199.5,2,    0.78,2,    0.00,2,    0.00,2,    0.00,2,-999.000,9,-999.000,9, -999.00,9,  -999.0,9, -999.00,9,   -999.0,9,  -999.00,-999.00000,9,  -999.00, -999.00,9, -999.00,9, -999.00,-999.000,9,   74.13,2,    4.79,2,     -999.0,9, 20210411,     1012,   8.4351, -52.5607,    27.4321,2,     0.0569,1,     4.6280,1,     -999.0,1,     -999.0,1,     -999.0,9,     -999.0,1
325020210316,        A20,      77,          1,         33,         33,2,20210411,       0816,     8.4351,   -52.5607,       4215,    75.8,  27.4066,  36.2655,2,  36.2683,2,    199.2,2,   198.5,2,    0.58,2,    0.00,2,    0.00,2,    0.00,2,-999.000,9,-999.000,9, -999.00,9,  2047.0,2, 2372.81,2,   -999.0,9,  -999.00,   8.08457,2,    24.98, -999.00,9, -999.00,9, -999.00,-999.000,9,   74.98,2,    4.44,2,     -999.0,9, 20210411,     1009,   8.4351, -52.5607,    27.4032,2,     0.0638,1,     4.6347,1,     -999.0,1,     -999.0,1,     -999.0,9,     -999.0,1
325020210316,        A20,      77,          1,         32,         32,2,20210411,       0816,     8.4351,   -52.5607,       4215,   101.1,  26.8012,  36.5237,2,  36.5272,2,    189.6,2,   190.6,2,    0.68,2,    0.00,2,    0.05,2,    0.07,2,-999.000,9,-999.000,9, -999.00,9,  -999.0,9, -999.00,9,   -999.0,9,  -999.00,-999.00000,9,  -999.00, -999.00,9, -999.00,9, -999.00,-999.000,9,   71.94,2,    4.58,2,     -999.0,9, 20210411,     1009,   8.4351, -52.5607,    26.8009,2,     0.0808,1,     4.6353,1,     -999.0,1,     -999.0,1,     -999.0,9,     -999.0,1
325020210316,        A20,      77,          1,         31,         31,2,20210411,       0816,     8.4351,   -52.5607,       4215,   125.6,  25.9119,  36.5875,2,  36.5904,2,    178.8,3,   182.2,2,    0.97,2,    1.12,2,    0.10,2,    0.16,2,-999.000,9,-999.000,9, -999.00,9,  2100.3,2, 2397.04,2,   -999.0,9,  -999.00,   8.03018,2,    24.99, -999.00,9, -999.00,9, -999.00,-999.000,9,   67.99,2,    5.16,2,     -999.0,9, 20210411,     1007,   8.4351, -52.5607,    25.9111,2,     0.0748,1,     4.6447,1,     -999.0,1,     -999.0,1,     -999.0,9,     -999.0,1
325020210316,        A20,      77,          1,         30,         30,2,20210411,       0816,     8.4351,   -52.5607,       4215,   150.5,  23.4629,  36.5287,2,  36.5287,2,    173.9,3,   176.7,2,    1.46,2,    3.17,2,    0.03,2,    0.29,2,-999.000,9,-999.000,9, -999.00,9,  2119.8,2, -999.00,9,   -999.0,9,  -999.00,   7.98984,2,    24.99, -999.00,9, -999.00,9, -999.00,-999.000,9,   62.35,2,    7.00,2,     -999.0,9, 20210411,     1005,   8.4351, -52.5607,    23.4543,2,     0.0581,1,     4.6653,1,     -999.0,1,     -999.0,1,     -999.0,9,     -999.0,1
325020210316,        A20,      77,          1,         29,         29,2,20210411,       0816,     8.4351,   -52.5607,       4215,   202.0,  16.2637,  36.0000,2,  35.9688,3,    119.0,3,   123.3,2,    5.65,2,   16.29,2,    0.00,2,    0.95,2,-999.000,9,-999.000,9, -999.00,9,  -999.0,9, -999.00,9,   -999.0,9,  -999.00,-999.00000,9,  -999.00, -999.00,9, -999.00,9, -999.00,-999.000,9,   51.60,2,   17.71,2,     -999.0,9, 20210411,     1003,   8.4351, -52.5607,    16.3038,2,     0.0424,1,     4.6735,1,     -999.0,1,     -999.0,1,     -999.0,9,     -999.0,1
325020210316,        A20,      77,          1,         28,         28,2,20210411,       0816,     8.4351,   -52.5607,       4215,   251.3,  11.4082,  35.1918,2,  35.1914,2,    121.5,2,   122.3,2,   10.53,2,   23.78,2,    0.00,2,    1.49,2,-999.000,9,-999.000,9, -999.00,9,  2206.9,2, -999.00,9,   -999.0,9,  -999.00,   7.64845,2,    25.00, -999.00,9, -999.00,9, -999.00,-999.000,9,   49.90,2,   26.04,2,     -999.0,9, 20210411,     1001,   8.4351, -52.5607,    11.4077,2,     0.0412,1,     4.6729,1,     -999.0,1,     -999.0,1,     -999.0,9,     -999.0,1
325020210316,        A20,      77,          1,         27,         27,2,20210411,       0816,     8.4351,   -52.5607,       4215,   302.2,   9.6791,  34.9214,2,  34.9183,2,    124.7,2,   125.1,2,   13.26,2,   26.98,2,    0.00,2,    1.71,2,-999.000,9,-999.000,9, -999.00,9,  -999.0,9, -999.00,9,   -999.0,9,  -999.00,-999.00000,9,  -999.00, -999.00,9, -999.00,9, -999.00,-999.000,9,   46.02,2,   29.24,2,     -999.0,9, 20210411,      959,   8.4351, -52.5607,     9.6787,2,     0.0423,1,     4.6711,1,     -999.0,1,     -999.0,1,     -999.0,9,     -999.0,1
325020210316,        A20,      77,          1,         26,         26,2,20210411,       0816,     8.4351,   -52.5607,       4215,   351.0,   9.0501,  34.8429,2,  34.8426,2,    119.6,2,   119.6,2,   15.02,2,   28.90,2,    0.00,2,    1.83,2,-999.000,9,-999.000,9, -999.00,9,  2216.3,2, -999.00,9,   -999.0,9,  -999.00,   7.57628,2,    24.99, -999.00,9, -999.00,9, -999.00,-999.000,9,   46.30,2,   31.14,2,     -999.0,9, 20210411,      957,   8.4351, -52.5607,     9.0507,2,     0.0433,1,     4.6729,1,     -999.0,1,     -999.0,1,     -999.0,9,     -999.0,1
325020210316,        A20,      77,          1,         25,         25,2,20210411,       0816,     8.4351,   -52.5607,       4215,   402.1,   8.5838,  34.7980,2,  34.7966,2,    119.3,2,   118.9,2,   16.19,2,   30.03,2,    0.00,2,    1.91,2,-999.000,9,-999.000,9, -999.00,9,  -999.0,9, -999.00,9,   -999.0,9,  -999.00,-999.00000,9,  -999.00, -999.00,9, -999.00,9, -999.00,-999.000,9,   44.24,2,   31.90,2,     -999.0,9, 20210411,      955,   8.4351, -52.5607,     8.5836,2,     0.0435,1,     4.6720,1,     -999.0,1,     -999.0,1,     -999.0,9,     -999.0,1
325020210316,        A20,      77,          1,         24,         24,2,20210411,       0816,     8.4351,   -52.5607,       4215,   453.0,   7.9015,  34.7443,2,  34.7423,2,    119.4,2,   118.9,2,   18.24,2,   31.45,2,    0.00,2,    2.00,2,-999.000,9,-999.000,9, -999.00,9,  2223.1,2, 2298.65,2,   -999.0,9,  -999.00,   7.54761,2,    24.99, -999.00,9, -999.00,9, -999.00,-999.000,9,   45.35,2,   33.33,2,     -999.0,9, 20210411,      953,   8.4351, -52.5607,     7.9014,2,     0.0436,1,     4.6757,1,     -999.0,1,     -999.0,1,     -999.0,9,     -999.0,1
325020210316,        A20,      77,          1,         23,         23,2,20210411,       0816,     8.4351,   -52.5607,       4215,   503.3,   7.2254,  34.6763,2,  34.6749,2,    120.9,2,   120.6,2,   20.09,2,   32.81,2,    0.00,2,    2.11,2,-999.000,9,-999.000,9, -999.00,9,  -999.0,9, -999.00,9,   -999.0,9,  -999.00,-999.00000,9,  -999.00, -999.00,9, -999.00,9, -999.00,-999.000,9,   45.76,2,   34.23,2,     -999.0,9, 20210411,      951,   8.4351, -52.5607,     7.2258,2,     0.0429,1,     4.6768,1,     -999.0,1,     -999.0,1,     -999.0,9,     -999.0,1
325020210316,        A20,      77,          1,         22,         22,2,20210411,       0816,     8.4351,   -52.5607,       4215,   605.1,   6.5306,  34.6312,2,  34.6307,2,    123.9,2,   123.1,2,   22.92,2,   33.86,2,    0.00,2,    2.19,2,-999.000,9,-999.000,9, -999.00,9,  2227.7,2, -999.00,9,   -999.0,9,  -999.00,   7.52496,2,    24.99, -999.00,9, -999.00,9, -999.00,-999.000,9, -999.00,9, -999.00,9,     -999.0,9, 20210411,      948,   8.4351, -52.5607,     6.5317,2,     0.0436,1,     4.6704,1,     -999.0,1,     -999.0,1,     -999.0,9,     -999.0,1
325020210316,        A20,      77,          1,         21,         21,2,20210411,       0816,     8.4351,   -52.5607,       4215,   705.0,   5.7959,  34.5878,2,  34.5887,2,    131.8,2,   131.4,2,   25.85,2,   34.21,2,    0.00,2,    2.25,2,-999.000,9,-999.000,9, -999.00,9,  -999.0,9, -999.00,9,   -999.0,9,  -999.00,-999.00000,9,  -999.00, -999.00,9, -999.00,9, -999.00,-999.000,9,   44.41,2,   36.74,2,     -999.0,9, 20210411,      945,   8.4351, -52.5607,     5.7945,2,     0.0424,1,     4.6720,1,     -999.0,1,     -999.0,1,     -999.0,9,     -999.0,1
325020210316,        A20,      77,          1,         20,         20,2,20210411,       0816,     8.4351,   -52.5607,       4215,   806.7,   5.1656,  34.5257,2,  34.5246,2,    148.8,2,   149.4,2,   28.29,2,   33.82,2,    0.00,2,    2.25,2,-999.000,9,-999.000,9, -999.00,9,  -999.0,9, -999.00,9,   -999.0,9,  -999.00,-999.00000,9,  -999.00, -999.00,9, -999.00,9, -999.00,-999.000,9, -999.00,9, -999.00,9,     -999.0,9, 20210411,      942,   8.4351, -52.5607,     5.1650,2,     0.0424,1,     4.6786,1,     -999.0,1,     -999.0,1,     -999.0,9,     -999.0,1
325020210316,        A20,      77,          1,         19,         19,2,20210411,       0816,     8.4351,   -52.5607,       4215,   907.3,   5.3178,  34.5926,2,  34.5916,2,    138.0,2,   137.8,2,   28.09,2,   34.18,2,    0.00,2,    2.27,2,   0.392,2,   0.206,2,    0.12,2,  2229.2,2, 2298.92,2,   -999.0,9,  -999.00,   7.53292,2,    25.00, -999.00,9, -999.00,9, -999.00,-999.000,9, -999.00,9, -999.00,9,      24.12,2, 20210411,      939,   8.4351, -52.5607,     5.3176,2,     0.0428,1,     4.6771,1,     -999.0,1,     -999.0,1,     -999.0,9,     -999.0,1
325020210316,        A20,      77,          1,         18,         18,2,20210411,       0816,     8.4351,   -52.5607,       4215,  1008.8,   5.0196,  34.6476,2,  34.6466,2,    144.2,2,   144.3,2,   28.78,2,   33.25,2,    0.00,2,    2.22,2,-999.000,9,-999.000,9, -999.00,9,  -999.0,9, -999.00,9,   -999.0,9,  -999.00,-999.00000,9,  -999.00, -999.00,9, -999.00,9, -999.00,-999.000,9,   43.92,2,   35.51,2,     -999.0,9, 20210411,      936,   8.4351, -52.5607,     5.0177,2,     0.0437,1,     4.6801,1,     -999.0,1,     -999.0,1,     -999.0,9,     -999.0,1
325020210316,        A20,      77,          1,         17,         17,2,20210411,       0816,     8.4351,   -52.5607,       4215,  1109.7,   5.0232,  34.7425,2,  34.7414,2,    153.7,2,   153.9,2,   27.12,2,   31.28,2,    0.00,2,    2.10,2,   0.165,2,   0.090,2,    0.02,2,  -999.0,9, -999.00,9,   -999.0,9,  -999.00,-999.00000,9,  -999.00, -999.00,9, -999.00,9, -999.00,-999.000,9, -999.00,9, -999.00,9,      21.86,2, 20210411,      932,   8.4351, -52.5607,     5.0209,2,     0.0436,1,     4.6815,1,     -999.0,1,     -999.0,1,     -999.0,9,     -999.0,1
325020210316,        A20,      77,          1,         16,         16,2,20210411,       0816,     8.4351,   -52.5607,       4215,  1210.0,   4.9790,  34.8827,2,  34.8814,2,    180.7,2,   181.1,2,   22.72,2,   26.92,2,    0.00,2,    1.79,2,-999.000,9,-999.000,9, -999.00,9,  -999.0,9, -999.00,9,   -999.0,9,  -999.00,-999.00000,9,  -999.00, -999.00,9, -999.00,9, -999.00,-999.000,9, -999.00,9, -999.00,9,     -999.0,9, 20210411,      929,   8.4351, -52.5607,     4.9785,2,     0.0429,1,     4.6837,1,     -999.0,1,     -999.0,1,     -999.0,9,     -999.0,1
325020210316,        A20,      77,          1,         15,         15,2,20210411,       0816,     8.4351,   -52.5607,       4215,  1311.2,   4.9148,  34.9487,2,  34.9481,2,    202.3,2,   202.6,2,   19.60,2,   23.83,2,    0.00,2,    1.58,2,   0.766,2,   0.380,2,    0.27,2,  2193.9,2, 2313.69,2,   -999.0,9,  -999.00,   7.66888,2,    24.99, -999.00,9, -999.00,9, -999.00,-999.000,9,   44.20,2,   26.29,2,      17.10,2, 20210411,      926,   8.4351, -52.5607,     4.9151,2,     0.0424,1,     4.6835,1,     -999.0,1,     -999.0,1,     -999.0,9,     -999.0,1
325020210316,        A20,      77,          1,         14,         14,2,20210411,       0816,     8.4351,   -52.5607,       4215,  1412.0,   4.7098,  34.9459,2,  34.9481,2,    208.4,2,   209.3,2,   19.31,2,   23.29,2,    0.00,2,    1.55,2,-999.000,9,-999.000,9, -999.00,9,  -999.0,9, -999.00,9,   -999.0,9,  -999.00,-999.00000,9,  -999.00, -999.00,9, -999.00,9, -999.00,-999.000,9, -999.00,9, -999.00,9,     -999.0,9, 20210411,      923,   8.4351, -52.5607,     4.7093,2,     0.0418,1,     4.6851,1,     -999.0,1,     -999.0,1,     -999.0,9,     -999.0,1
325020210316,        A20,      77,          1,         13,         13,2,20210411,       0816,     8.4351,   -52.5607,       4215,  1513.7,   4.7641,  35.0063,2,  35.0057,2,    231.2,2,   230.5,2,   15.51,2,   20.21,2,    0.00,2,    1.34,2,-999.000,9,-999.000,9, -999.00,9,  -999.0,9, -999.00,9,   -999.0,9,  -999.00,-999.00000,9,  -999.00, -999.00,9, -999.00,9, -999.00,-999.000,9, -999.00,9, -999.00,9,     -999.0,9, 20210411,      920,   8.4351, -52.5607,     4.7639,2,     0.0429,1,     4.6838,1,     -999.0,1,     -999.0,1,     -999.0,9,     -999.0,1
325020210316,        A20,      77,          1,         12,         12,2,20210411,       0816,     8.4351,   -52.5607,       4215,  1614.9,   4.4935,  35.0043,2,  35.0041,2,    242.5,2,   241.8,2,   14.63,2,   19.28,2,    0.00,2,    1.28,2,   1.669,2,   0.863,2,    0.47,2,  -999.0,9, -999.00,9,   -999.0,9,  -999.00,-999.00000,9,  -999.00, -999.00,9, -999.00,9, -999.00,-999.000,9,   47.77,2,   21.01,2,      14.40,2, 20210411,      916,   8.4351, -52.5607,     4.4946,2,     0.0412,1,     4.6836,1,     -999.0,1,     -999.0,1,     -999.0,9,     -999.0,1
325020210316,        A20,      77,          1,         11,         11,2,20210411,       0816,     8.4351,   -52.5607,       4215,  1716.5,   4.2948,  34.9992,2,  34.9984,2,    249.2,2,   249.1,2,   14.24,2,   18.66,2,    0.00,2,    1.24,2,-999.000,9,-999.000,9, -999.00,9,  -999.0,9, -999.00,9,   -999.0,9,  -999.00,-999.00000,9,  -999.00, -999.00,9, -999.00,9, -999.00,-999.000,9, -999.00,9, -999.00,9,     -999.0,9, 20210411,      914,   8.4351, -52.5607,     4.2943,2,     0.0424,1,     4.6850,1,     -999.0,1,     -999.0,1,     -999.0,9,     -999.0,1
325020210316,        A20,      77,          1,         10,         10,2,20210411,       0816,     8.4351,   -52.5607,       4215,  1817.4,   4.0583,  34.9901,2,  34.9896,2,    255.2,2,   254.5,2,   14.14,2,   18.35,2,    0.00,2,    1.21,2,   1.776,2,   0.887,2,    0.40,2,  2173.7,2, 2311.94,6,   -999.0,9,  -999.00,   7.72813,6,    24.99, -999.00,9, -999.00,9, -999.00,-999.000,9, -999.00,9, -999.00,9,      14.01,2, 20210411,      911,   8.4351, -52.5607,     4.0580,2,     0.0422,1,     4.6866,1,     -999.0,1,     -999.0,1,     -999.0,9,     -999.0,1
325020210316,        A20,      77,          1,          9,          9,2,20210411,       0816,     8.4351,   -52.5607,       4215,  2020.1,   3.7821,  34.9769,2,  34.9754,2,    258.0,2,   257.9,2,   15.41,2,   18.29,2,    0.00,2,    1.20,2,-999.000,9,-999.000,9, -999.00,9,  -999.0,9, -999.00,9,   -999.0,9,  -999.00,-999.00000,9,  -999.00, -999.00,9, -999.00,9, -999.00,-999.000,9,   45.86,2,   20.37,2,     -999.0,9, 20210411,      906,   8.4351, -52.5607,     3.7822,2,     0.0416,1,     4.6874,1,     -999.0,1,     -999.0,1,     -999.0,9,     -999.0,1
325020210316,        A20,      77,          1,          8,          8,2,20210411,       0816,     8.4351,   -52.5607,       4215,  2275.6,   3.4550,  34.9632,2,  34.9626,2,    259.8,2,   259.8,2,   17.94,2,   18.36,2,    0.00,2,    1.21,2,-999.000,9,-999.000,9, -999.00,9,  -999.0,9, -999.00,9,   -999.0,9,  -999.00,-999.00000,9,  -999.00, -999.00,9, -999.00,9, -999.00,-999.000,9, -999.00,9, -999.00,9,     -999.0,9, 20210411,      900,   8.4351, -52.5607,     3.4542,2,     0.0424,1,     4.6868,1,     -999.0,1,     -999.0,1,     -999.0,9,     -999.0,1
325020210316,        A20,      77,          1,          7,          7,2,20210411,       0816,     8.4351,   -52.5607,       4215,  2529.6,   3.2460,  34.9539,2,  34.9536,2,    260.7,2,   260.6,2,   19.80,2,   18.37,2,    0.00,2,    1.22,2,   0.939,2,   0.450,2,    0.16,2,  2171.8,2, -999.00,9,   -999.0,9,  -999.00,   7.73623,2,    24.98, -999.00,9, -999.00,9, -999.00,-999.000,9,   45.71,2,   21.41,2,      13.18,2, 20210411,      854,   8.4351, -52.5607,     3.2457,2,     0.0422,1,     4.6868,1,     -999.0,1,     -999.0,1,     -999.0,9,     -999.0,1
325020210316,        A20,      77,          1,          6,          6,2,20210411,       0816,     8.4351,   -52.5607,       4215,  2784.4,   3.0101,  34.9416,2,  34.9402,2,    260.9,2,   261.5,2,   22.33,2,   18.65,2,    0.00,2,    1.24,2,   0.768,2,   0.392,2,    0.21,2,  -999.0,9, -999.00,9,   -999.0,9,  -999.00,-999.00000,9,  -999.00, -999.00,9, -999.00,9, -999.00,-999.000,9, -999.00,9, -999.00,9,      14.16,2, 20210411,      847,   8.4351, -52.5607,     3.0096,2,     0.0427,1,     4.6860,1,     -999.0,1,     -999.0,1,     -999.0,9,     -999.0,1
325020210316,        A20,      77,          1,          5,          5,2,20210411,       0816,     8.4351,   -52.5607,       4215,  3039.4,   2.8250,  34.9313,2,  34.9299,2,    257.4,2,   257.5,2,   27.21,2,   19.38,2,    0.00,2,    1.29,2,   0.473,2,   0.234,2,    0.12,2,  2180.6,2, 2320.05,2,   -999.0,9,  -999.00,   7.73728,2,    24.98, -999.00,9, -999.00,9, -999.00,-999.000,9,   46.36,2,   20.26,2,      13.39,2, 20210411,      842,   8.4351, -52.5607,     2.8250,2,     0.0423,1,     4.6886,1,     -999.0,1,     -999.0,1,     -999.0,9,     -999.0,1
325020210316,        A20,      77,          1,          2,          2,2,20210411,       0816,     8.4351,   -52.5607,       4215,  3345.1,   2.6016,  34.9155,2,  34.9148,2,    261.2,2,   261.3,2,   28.28,2,   19.09,2,    0.00,2,    1.28,2,   0.689,2,   0.353,2,    0.18,2,  -999.0,9, -999.00,9,   -999.0,9,  -999.00,-999.00000,9,  -999.00, -999.00,9, -999.00,9, -999.00,-999.000,9,   45.75,2,   20.54,2,      13.26,2, 20210411,      836,   8.4351, -52.5607,     2.6014,2,     0.0427,1,     4.6893,1,     -999.0,1,     -999.0,1,     -999.0,9,     -999.0,1
325020210316,        A20,      77,          1,          3,          3,2,20210411,       0816,     8.4351,   -52.5607,       4215,  3650.6,   2.4544,  34.9050,2,  34.9054,2,    264.0,2,   263.6,2,   28.87,2,   18.90,2,    0.00,2,    1.27,2,   0.845,2,   0.412,2,    0.25,2,  -999.0,9, -999.00,9,   -999.0,9,  -999.00,-999.00000,9,  -999.00, -999.00,9, -999.00,9, -999.00,-999.000,9, -999.00,9, -999.00,9,      13.41,2, 20210411,      829,   8.4351, -52.5607,     2.4551,2,     0.0429,1,     4.6899,1,     -999.0,1,     -999.0,1,     -999.0,9,     -999.0,1