BOTTLE,20230512CCHSIOCBG
EXPOCODE,SECT_ID,STNNBR,CASTNO,SAMPNO,BTLNBR,BTLNBR_FLAG_W,DATE,TIME,LATITUDE,LONGITUDE,DEPTH,CTDPRS,CTDTMP,CTDSAL,CTDSAL_FLAG_W,SALNTY,SALNTY_FLAG_W,CTDOXY,CTDOXY_FLAG_W,OXYGEN,OXYGEN_FLAG_W,SILCAT,SILCAT_FLAG_W,NITRAT,NITRAT_FLAG_W,NITRIT,NITRIT_FLAG_W,PHSPHT,PHSPHT_FLAG_W,CFC-11,CFC-11_FLAG_W,CFC-12,CFC-12_FLAG_W,SF6,SF6_FLAG_W,TCARBN,TCARBN_FLAG_W,ALKALI,ALKALI_FLAG_W,FCO2,FCO2_FLAG_W,FCO2TMP,PH_TOT,PH_TOT_FLAG_W,PH_TMP,DELC13,DELC13_FLAG_W,DELC14,DELC14_FLAG_W,C14ERR,POC,POC_FLAG_W,DOC,DOC_FLAG_W,TDN,TDN_FLAG_W,N2O,N2O_FLAG_W,BTL_DATE,BTL_TIME,BTL_LAT,BTL_LON,REFTMP,REFTMP_FLAG_W,CTDFLUOR,CTDFLUOR_FLAG_W,CTDXMISS,CTDXMISS_FLAG_W,D15N_NO2+NO3,D15N_NO2+NO3_FLAG_W,D18O_NO2+NO3,D18O_NO2+NO3_FLAG_W,HPLC,HPLC_FLAG_W,MICROGELS,MICROGELS_FLAG_W
,,,,,,,,,,,METERS,DBAR,ITS-90,PSS-78,,PSS-78,,UMOL/KG,,UMOL/KG,,UMOL/KG,,UMOL/KG,,UMOL/KG,,UMOL/KG,,PMOL/KG,,PMOL/KG,,FMOL/KG,,UMOL/KG,,UMOL/KG,,UATM,,DEG C,,,DEG C,/MILLE,,/MILLE,,/MILLE,UG/KG,,UMOL/KG,,UMOL/KG,,NMOL/KG,,,,,,ITS-90,,VOLTS,,VOLTS,,/MILLE,,/MILLE,,,,1E6 GELS/L,
325020210316,        A20,      28,          1,         36,         36,2,20210328,       0353,    34.0544,   -52.3327,       5551,     4.9,  19.1879,  36.6097,2,  36.6094,2,    231.5,2,   232.9,2,    0.88,2,    0.33,2,    0.04,2,    0.00,2,   1.912,2,   1.265,2,    1.89,2,  2098.2,6, 2395.78,2,    365.1,2,    20.00,   8.01512,2,    25.01, -999.00,9, -999.00,9, -999.00,-999.000,9, -999.00,9, -999.00,9,       7.36,2, 20210328,      614,  34.0544, -52.3327,    19.1885,2,     0.1536,1,     4.5197,1,     -999.0,1,     -999.0,1,     -999.0,9,     -999.0,9
325020210316,        A20,      28,          1,         35,         35,2,20210328,       0353,    34.0544,   -52.3327,       5551,    25.1,  19.1878,  36.6112,2,  36.6108,2,    232.1,2,   232.8,2,    0.78,2,    0.33,2,    0.04,2,    0.00,2,-999.000,9,-999.000,9, -999.00,9,  2096.5,2, 2396.36,2,    365.5,2,    20.00,     8.015,6,    25.01, -999.00,9, -999.00,9, -999.00,-999.000,9, -999.00,9, -999.00,9,     -999.0,9, 20210328,      612,  34.0544, -52.3327,    19.1839,2,     0.1549,1,     4.5208,1,     -999.0,1,     -999.0,1,     -999.0,9,     -999.0,9
325020210316,        A20,      28,          1,         34,         34,2,20210328,       0353,    34.0544,   -52.3327,       5551,    50.7,  18.9287,  36.6189,2,  36.6187,2,    226.1,2,   224.3,2,    1.07,2,    1.03,2,    0.20,2,    0.02,2,   1.940,2,   1.263,2,    1.95,2,  2104.0,2, 2396.25,6,   -999.0,9,  -999.00,   8.00147,2,    25.02, -999.00,9, -999.00,9, -999.00,-999.000,9, -999.00,9, -999.00,9,       7.41,2, 20210328,      610,  34.0544, -52.3327,    18.9281,2,     0.1065,1,     4.6142,1,     -999.0,1,     -999.0,1,     -999.0,9,     -999.0,9
325020210316,        A20,      28,          1,         33,         33,2,20210328,       0353,    34.0544,   -52.3327,       5551,    75.3,  18.9153,  36.6216,2,  36.6213,2,    224.1,2,   224.0,2,    1.07,2,    1.09,2,    0.23,2,    0.02,2,   1.816,6,   1.262,6,    1.92,6,  2105.4,2, 2396.81,2,    379.9,2,    20.00,   8.00107,2,    25.01, -999.00,9, -999.00,9, -999.00,-999.000,9, -999.00,9, -999.00,9,       7.34,6, 20210328,      609,  34.0544, -52.3327,    18.9149,2,     0.0783,1,     4.6439,1,     -999.0,1,     -999.0,1,     -999.0,9,     -999.0,9
325020210316,        A20,      28,          1,         32,         32,2,20210328,       0353,    34.0544,   -52.3327,       5551,   101.4,  18.9009,  36.6228,2,  36.6225,2,    222.9,2,   223.8,2,    1.17,2,    1.13,2,    0.24,2,    0.03,2,-999.000,9,-999.000,9, -999.00,9,  2105.5,2, 2395.54,2,   -999.0,9,  -999.00,   7.99942,2,    25.02, -999.00,9, -999.00,9, -999.00,-999.000,9, -999.00,9, -999.00,9,     -999.0,9, 20210328,      607,  34.0544, -52.3327,    18.8977,2,     0.0649,1,     4.6555,1,     -999.0,1,     -999.0,1,     -999.0,9,     -999.0,9
325020210316,        A20,      28,          1,         31,         31,2,20210328,       0353,    34.0544,   -52.3327,       5551,   151.2,  18.9078,  36.6313,2,  36.6310,2,    222.7,2,   223.3,2,    1.07,2,    1.10,2,    0.22,2,    0.01,2,   1.896,2,   1.262,2,    1.89,2,  2104.4,2, 2396.23,2,    379.8,2,    20.00,    8.0014,2,    25.02, -999.00,9, -999.00,9, -999.00,-999.000,9, -999.00,9, -999.00,9,       7.45,2, 20210328,      605,  34.0544, -52.3327,    18.9064,2,     0.0618,1,     4.6602,1,     -999.0,1,     -999.0,1,     -999.0,9,     -999.0,9
325020210316,        A20,      28,          1,         30,         30,2,20210328,       0353,    34.0544,   -52.3327,       5551,   201.5,  18.8221,  36.6127,2,  36.6124,2,    221.2,2,   221.3,2,    1.27,2,    1.47,2,    0.16,2,    0.02,2,   1.942,2,   1.269,2,    1.92,2,  2107.6,2, 2394.01,2,   -999.0,9,  -999.00,   7.99511,2,    25.04, -999.00,9, -999.00,9, -999.00,-999.000,9, -999.00,9, -999.00,9,       7.43,2, 20210328,      603,  34.0544, -52.3326,    18.8219,2,     0.0496,1,     4.6748,1,     -999.0,1,     -999.0,1,     -999.0,9,     -999.0,9
325020210316,        A20,      28,          1,         29,         29,2,20210328,       0353,    34.0544,   -52.3327,       5551,   252.2,  18.7807,  36.6167,2,  36.6170,2,    218.7,2,   220.9,2,    1.07,2,    1.76,2,    0.15,2,    0.03,2,-999.000,9,-999.000,9, -999.00,9,  2108.2,2, 2394.95,2,    385.1,2,    20.00,    7.9963,2,    25.02, -999.00,9, -999.00,9, -999.00,-999.000,9, -999.00,9, -999.00,9,     -999.0,9, 20210328,      600,  34.0544, -52.3327,    18.7794,2,     0.0511,1,     4.6789,1,     -999.0,1,     -999.0,1,     -999.0,9,     -999.0,9
325020210316,        A20,      28,          1,         28,         28,2,20210328,       0353,    34.0544,   -52.3327,       5551,   302.4,  18.6518,  36.5926,2,  36.5938,2,    216.2,2,   216.0,2,    1.07,2,    2.38,2,    0.06,2,    0.06,2,   1.961,2,   1.278,2,    1.87,2,  2111.7,2,  2392.6,2,   -999.0,9,  -999.00,   7.98725,2,    25.02, -999.00,9, -999.00,9, -999.00,-999.000,9, -999.00,9, -999.00,9,       7.66,2, 20210328,      558,  34.0544, -52.3327,    18.6496,2,     0.0413,1,     4.6869,1,     -999.0,1,     -999.0,1,     -999.0,9,     -999.0,9
325020210316,        A20,      28,          1,         27,         27,2,20210328,       0353,    34.0544,   -52.3327,       5551,   353.1,  18.3302,  36.5269,2,  36.5256,2,    208.1,3,   205.1,2,    1.27,2,    3.79,2,    0.01,2,    0.13,2,   2.089,2,   1.310,2,    1.87,2,  2120.3,2, 2389.25,2,    417.9,2,    20.00,   7.96494,2,    25.01, -999.00,9, -999.00,9, -999.00,-999.000,9, -999.00,9, -999.00,9,       8.55,2, 20210328,      555,  34.0544, -52.3327,    18.3317,2,     0.0407,1,     4.6906,1,     -999.0,1,     -999.0,1,     -999.0,9,     -999.0,9
325020210316,        A20,      28,          1,         26,         26,2,20210328,       0353,    34.0544,   -52.3327,       5551,   403.1,  17.7840,  36.4393,2,  36.4434,2,    197.5,3,   195.0,2,    1.76,2,    5.44,2,    0.00,2,    0.21,2,-999.000,9,-999.000,9, -999.00,9,  2142.1,2, 2382.39,2,    449.3,2,    20.00,   7.93792,2,    25.02, -999.00,9, -999.00,9, -999.00,-999.000,9, -999.00,9, -999.00,9,     -999.0,9, 20210328,      554,  34.0544, -52.3327,    17.7824,2,     0.0398,1,     4.6938,1,     -999.0,1,     -999.0,1,     -999.0,9,     -999.0,9
325020210316,        A20,      28,          1,         25,         25,2,20210328,       0353,    34.0544,   -52.3327,       5551,   504.6,  16.1562,  36.1735,2,  36.1757,2,    188.4,3,   190.5,2,    2.93,2,    8.43,2,    0.00,2,    0.41,2,   1.795,2,   1.375,2,    1.66,2,  2144.6,2, 2367.69,2,    504.2,2,    20.00,   7.89146,2,    25.04, -999.00,9, -999.00,9, -999.00,-999.000,9, -999.00,9, -999.00,9,      10.90,2, 20210328,      551,  34.0544, -52.3327,    16.1583,2,     0.0407,1,     4.6977,1,     -999.0,1,     -999.0,1,     -999.0,9,     -999.0,9
325020210316,        A20,      28,          1,         24,         24,2,20210328,       0353,    34.0544,   -52.3327,       5551,   604.6,  14.1489,  35.8359,2,  35.8350,2,    171.0,2,   170.4,2,    5.47,2,   13.56,2,    0.00,2,    0.73,2,   2.268,2,   1.329,2,    1.40,2,  2160.8,2, 2350.92,2,    608.9,2,    20.00,     7.817,2,    25.02, -999.00,9, -999.00,9, -999.00,-999.000,9, -999.00,9, -999.00,9,      14.20,2, 20210328,      549,  34.0544, -52.3327,    14.1487,2,     0.0407,1,     4.6996,1,     -999.0,1,     -999.0,1,     -999.0,9,     -999.0,9
325020210316,        A20,      28,          1,         23,         23,2,20210328,       0353,    34.0544,   -52.3327,       5551,   706.0,  12.0252,  35.5446,2,  35.5444,2,    157.0,3,   159.4,2,    8.59,2,   18.19,2,    0.00,2,    1.04,2,-999.000,9,-999.000,9, -999.00,9,  2176.7,6, 2337.24,2,    717.0,2,    20.00,   7.74971,6,    25.03, -999.00,9, -999.00,9, -999.00,-999.000,9, -999.00,9, -999.00,9,     -999.0,9, 20210328,      546,  34.0544, -52.3327,    12.0244,2,     0.0406,1,     4.7021,1,     -999.0,1,     -999.0,1,     -999.0,9,     -999.0,9
325020210316,        A20,      28,          1,         22,         22,2,20210328,       0353,    34.0544,   -52.3327,       5551,   806.6,   9.9802,  35.3155,2,  35.3155,2,    157.5,2,   156.2,2,   11.81,2,   21.39,2,    0.00,2,    1.28,2,   1.739,2,   0.988,2,    0.80,2,  2188.3,2, 2324.89,2,   -999.0,9,  -999.00,   7.69923,6,    25.02, -999.00,9, -999.00,9, -999.00,-999.000,9, -999.00,9, -999.00,9,      18.38,2, 20210328,      542,  34.0544, -52.3327,     9.9779,2,     0.0420,1,     4.7031,1,     -999.0,1,     -999.0,1,     -999.0,9,     -999.0,9
325020210316,        A20,      28,          1,         21,         21,2,20210328,       0353,    34.0544,   -52.3327,       5551,   908.0,   7.9335,  35.1747,2,  35.1729,2,    173.7,2,   174.2,2,   13.38,2,   21.91,2,    0.00,2,    1.35,2,   1.352,2,   0.929,2,    0.73,2,  2190.0,2, 2320.37,6,    844.0,2,    20.00,   7.68103,2,    25.05, -999.00,9, -999.00,9, -999.00,-999.000,9, -999.00,9, -999.00,9,      17.73,2, 20210328,      539,  34.0544, -52.3327,     7.9413,2,     0.0425,1,     4.7053,1,     -999.0,1,     -999.0,1,     -999.0,9,     -999.0,9
325020210316,        A20,      28,          1,         20,         20,2,20210328,       0353,    34.0544,   -52.3327,       5551,  1009.7,   6.8204,  35.1590,2,  35.1589,2,    199.7,2,   199.9,2,   12.99,2,   20.24,2,    0.00,2,    1.27,2,-999.000,9,-999.000,9, -999.00,9,  2186.2,2, 2322.08,2,   -999.0,9,  -999.00,   7.69276,2,    25.00, -999.00,9, -999.00,9, -999.00,-999.000,9, -999.00,9, -999.00,9,     -999.0,9, 20210328,      536,  34.0544, -52.3327,     6.8251,2,     0.0413,1,     4.7055,1,     -999.0,1,     -999.0,1,     -999.0,9,     -999.0,9
325020210316,        A20,      28,          1,         19,         19,2,20210328,       0353,    34.0544,   -52.3327,       5551,  1111.1,   6.3215,  35.1870,2,  35.1888,2,    216.2,2,   216.6,2,   12.21,2,   19.08,2,    0.00,2,    1.20,2,   2.114,2,   1.151,2,    0.80,2,  2182.3,2, 2322.91,2,    786.8,2,    20.00,   7.70738,2,    25.02, -999.00,9, -999.00,9, -999.00,-999.000,9, -999.00,9, -999.00,9,      14.85,2, 20210328,      534,  34.0544, -52.3327,     6.3367,2,     0.0419,1,     4.7059,1,     -999.0,1,     -999.0,1,     -999.0,9,     -999.0,9
325020210316,        A20,      28,          1,         18,         18,2,20210328,       0353,    34.0544,   -52.3327,       5551,  1211.2,   5.5689,  35.1150,2,  35.1136,2,    232.2,2,   232.4,2,   12.21,2,   18.49,2,    0.00,2,    1.17,2,   2.322,2,   1.323,2,    0.91,2,  2177.8,2, 2318.08,2,   -999.0,9,  -999.00,   7.70755,2,    25.01, -999.00,9, -999.00,9, -999.00,-999.000,9, -999.00,9, -999.00,9,      14.62,2, 20210328,      531,  34.0544, -52.3327,     5.5703,2,     0.0422,1,     4.7059,1,     -999.0,1,     -999.0,1,     -999.0,9,     -999.0,9
325020210316,        A20,      28,          1,         17,         17,2,20210328,       0353,    34.0544,   -52.3327,       5551,  1313.7,   5.1919,  35.0833,2,  35.0829,2,    240.7,3,   243.2,2,   12.21,2,   18.35,2,    0.00,2,    1.15,2,-999.000,9,-999.000,9, -999.00,9,  2175.6,2, 2314.67,2,    782.7,2,    20.00,   7.70971,2,    24.98, -999.00,9, -999.00,9, -999.00,-999.000,9, -999.00,9, -999.00,9,     -999.0,9, 20210328,      528,  34.0544, -52.3327,     5.1908,2,     0.0417,1,     4.7068,1,     -999.0,1,     -999.0,1,     -999.0,9,     -999.0,9
325020210316,        A20,      28,          1,         16,         16,2,20210328,       0353,    34.0544,   -52.3327,       5551,  1414.9,   4.8383,  35.0506,2,  35.0512,2,    249.3,2,   248.3,2,   11.82,2,   18.06,2,    0.00,2,    1.13,2,   2.429,2,   1.432,2,    0.95,2,  2173.4,2, 2313.59,2,    781.1,2,    20.00,   7.71132,2,    24.99, -999.00,9, -999.00,9, -999.00,-999.000,9, -999.00,9, -999.00,9,      13.63,2, 20210328,      525,  34.0544, -52.3327,     4.8395,2,     0.0415,1,     4.7061,1,     -999.0,1,     -999.0,1,     -999.0,9,     -999.0,9
325020210316,        A20,      28,          1,         15,         15,2,20210328,       0353,    34.0544,   -52.3327,       5551,  1618.3,   4.3080,  35.0022,2,  35.0020,2,    261.0,2,   258.5,2,   12.31,2,   17.72,2,    0.00,2,    1.12,2,   2.808,2,   1.473,2,    0.95,2,  2169.3,2, 2311.04,2,    774.1,2,    20.00,   7.71509,6,    24.99, -999.00,9, -999.00,9, -999.00,-999.000,9, -999.00,9, -999.00,9,      13.59,2, 20210328,      521,  34.0544, -52.3327,     4.3083,2,     0.0419,1,     4.7060,1,     -999.0,1,     -999.0,1,     -999.0,9,     -999.0,9
325020210316,        A20,      28,          1,         14,         14,2,20210328,       0353,    34.0544,   -52.3327,       5551,  1820.6,   4.0609,  34.9930,2,  34.9925,2,    261.9,2,   260.7,2,   13.09,2,   17.76,2,    0.00,2,    1.12,2,   1.924,2,   1.255,2,    0.75,2,  2167.3,2, 2312.25,2,    763.9,2,    20.00,   7.71948,2,    24.98, -999.00,9, -999.00,9, -999.00,-999.000,9, -999.00,9, -999.00,9,      13.12,2, 20210328,      516,  34.0544, -52.3327,     4.0646,2,     0.0417,1,     4.7066,1,     -999.0,1,     -999.0,1,     -999.0,9,     -999.0,9
325020210316,        A20,      28,          1,         13,         13,2,20210328,       0353,    34.0544,   -52.3327,       5551,  2023.4,   3.8224,  34.9807,2,  34.9803,2,    262.1,2,   262.3,2,   14.26,2,   17.80,2,    0.00,2,    1.14,2,   2.075,2,   1.062,2,    0.50,2,  2166.2,2, 2312.47,2,    755.4,2,    20.00,   7.72424,2,    24.99, -999.00,9, -999.00,9, -999.00,-999.000,9, -999.00,9, -999.00,9,      13.44,2, 20210328,      512,  34.0544, -52.3327,     3.8206,2,     0.0422,1,     4.7067,1,     -999.0,1,     -999.0,1,     -999.0,9,     -999.0,9
325020210316,        A20,      28,          1,         12,         12,2,20210328,       0353,    34.0544,   -52.3327,       5551,  2279.2,   3.5330,  34.9684,2,  34.9683,2,    262.3,2,   262.0,2,   16.70,2,   17.96,2,    0.00,2,    1.16,2,   1.575,2,   0.814,2,    0.34,2,  2165.7,2, 2313.44,2,   -999.0,9,  -999.00,    7.7293,2,    25.04, -999.00,9, -999.00,9, -999.00,-999.000,9, -999.00,9, -999.00,9,      13.27,2, 20210328,      506,  34.0544, -52.3327,     3.5336,2,     0.0426,1,     4.7069,1,     -999.0,1,     -999.0,1,     -999.0,9,     -999.0,9
325020210316,        A20,      28,          1,         11,         11,2,20210328,       0353,    34.0544,   -52.3327,       5551,  2533.3,   3.3010,  34.9595,2,  34.9591,2,    261.9,2,   260.9,2,   19.44,2,   18.31,2,    0.00,2,    1.19,2,-999.000,9,-999.000,9, -999.00,9,  2172.4,2, 2318.75,2,    739.3,2,    20.00,   7.73299,2,    24.97, -999.00,9, -999.00,9, -999.00,-999.000,9, -999.00,9, -999.00,9,     -999.0,9, 20210328,      501,  34.0543, -52.3327,     3.3011,2,     0.0428,1,     4.7070,1,     -999.0,1,     -999.0,1,     -999.0,9,     -999.0,9
325020210316,        A20,      28,          1,         10,         10,2,20210328,       0353,    34.0544,   -52.3327,       5551,  2788.3,   3.0884,  34.9520,2,  34.9516,2,    258.9,2,   259.0,2,   23.44,2,   18.81,2,    0.00,2,    1.22,2,   0.652,2,   0.369,2,    0.14,2,  2174.0,2, 2320.63,2,   -999.0,9,  -999.00,   7.73739,2,    24.98, -999.00,9, -999.00,9, -999.00,-999.000,9, -999.00,9, -999.00,9,      13.09,2, 20210328,      456,  34.0544, -52.3327,     3.0880,2,     0.0419,1,     4.7068,1,     -999.0,1,     -999.0,1,     -999.0,9,     -999.0,9
325020210316,        A20,      28,          1,          9,          9,2,20210328,       0353,    34.0544,   -52.3327,       5551,  3043.0,   2.8931,  34.9391,2,  34.9390,2,    259.2,2,   259.5,2,   25.39,2,   18.96,2,    0.00,2,    1.23,2,-999.000,9,-999.000,9, -999.00,9,  2174.3,2, 2323.83,2,    732.5,2,    20.00,   7.73751,2,    24.98, -999.00,9, -999.00,9, -999.00,-999.000,9, -999.00,9, -999.00,9,     -999.0,9, 20210328,      450,  34.0543, -52.3327,     2.8940,2,     0.0422,1,     4.7071,1,     -999.0,1,     -999.0,1,     -999.0,9,     -999.0,9
325020210316,        A20,      28,          1,          8,          8,2,20210328,       0353,    34.0544,   -52.3327,       5551,  3348.6,   2.6570,  34.9210,2,  34.9203,2,    263.8,2,   265.0,2,   24.91,2,   18.47,2,    0.00,2,    1.20,2,   0.797,2,   0.429,2,    0.19,2,  2174.5,2, 2321.24,2,    733.6,2,    20.00,   7.73775,6,    24.99, -999.00,9, -999.00,9, -999.00,-999.000,9, -999.00,9, -999.00,9,      13.16,2, 20210328,      444,  34.0544, -52.3327,     2.6574,2,     0.0429,1,     4.7072,1,     -999.0,1,     -999.0,1,     -999.0,9,     -999.0,9
325020210316,        A20,      28,          1,          7,          7,2,20210328,       0353,    34.0544,   -52.3327,       5551,  3657.3,   2.4709,  34.9082,2,  34.9073,2,    265.4,2,   266.0,2,   27.93,2,   18.62,2,    0.00,2,    1.21,2,-999.000,9,-999.000,9, -999.00,9,  2176.1,2, 2322.97,6,   -999.0,9,  -999.00,   7.73685,2,    24.97, -999.00,9, -999.00,9, -999.00,-999.000,9, -999.00,9, -999.00,9,     -999.0,9, 20210328,      438,  34.0543, -52.3327,     2.4719,2,     0.0429,1,     4.7070,1,     -999.0,1,     -999.0,1,     -999.0,9,     -999.0,9
325020210316,        A20,      28,          1,          6,          6,2,20210328,       0353,    34.0544,   -52.3327,       5551,  3964.9,   2.3421,  34.8966,2,  34.8957,2,    265.2,2,   265.4,2,   30.77,2,   18.78,2,    0.00,2,    1.23,2,   0.909,2,   0.455,2,    0.22,2,  2178.7,2, 2325.38,2,    743.5,2,    20.00,   7.73177,2,    25.00, -999.00,9, -999.00,9, -999.00,-999.000,9, -999.00,9, -999.00,9,      13.38,2, 20210328,      432,  34.0544, -52.3327,     2.3440,2,     0.0419,1,     4.7057,1,     -999.0,1,     -999.0,1,     -999.0,9,     -999.0,9
325020210316,        A20,      28,          1,          5,          5,2,20210328,       0353,    34.0544,   -52.3327,       5551,  4272.5,   2.2628,  34.8874,2,  34.8865,2,    262.8,2,   263.1,2,   35.06,2,   19.25,2,    0.00,2,    1.28,2,   0.731,2,   0.416,2,    0.21,2,  -999.0,5, 2325.69,2,   -999.0,9,  -999.00,   7.73043,2,    25.00, -999.00,9, -999.00,9, -999.00,-999.000,9, -999.00,9, -999.00,9,      13.38,2, 20210328,      425,  34.0543, -52.3327,     2.2626,2,     0.0427,1,     4.7023,1,     -999.0,1,     -999.0,1,     -999.0,9,     -999.0,9
325020210316,        A20,      28,          1,          4,          4,2,20210328,       0353,    34.0544,   -52.3327,       5551,  4580.8,   2.2254,  34.8803,2,  34.8788,2,    260.2,2,   260.4,2,   38.38,2,   19.83,2,    0.00,2,    1.34,2,-999.000,9,-999.000,9, -999.00,9,  2187.8,2, 2332.81,2,   -999.0,9,  -999.00,   7.72922,2,    24.99, -999.00,9, -999.00,9, -999.00,-999.000,9, -999.00,9, -999.00,9,     -999.0,9, 20210328,      419,  34.0543, -52.3327,     2.2253,2,     0.0415,1,     4.7022,1,     -999.0,1,     -999.0,1,     -999.0,9,     -999.0,9
325020210316,        A20,      28,          1,          3,          3,2,20210328,       0353,    34.0544,   -52.3327,       5551,  4993.3,   2.1528,  34.8662,2,  34.8658,2,    255.1,2,   256.8,2,   46.49,2,   21.14,2,    0.00,2,    1.44,2,   0.279,2,   0.187,2,    0.06,2,  2195.3,2, 2339.57,2,    766.8,6,    20.00,   7.72274,2,    24.98, -999.00,9, -999.00,9, -999.00,-999.000,9, -999.00,9, -999.00,9,      13.78,2, 20210328,      411,  34.0543, -52.3327,     2.1525,2,     0.0425,1,     4.6884,1,     -999.0,1,     -999.0,1,     -999.0,9,     -999.0,9