BOTTLE,20230512CCHSIOCBG
EXPOCODE,SECT_ID,STNNBR,CASTNO,SAMPNO,BTLNBR,BTLNBR_FLAG_W,DATE,TIME,LATITUDE,LONGITUDE,DEPTH,CTDPRS,CTDTMP,CTDSAL,CTDSAL_FLAG_W,SALNTY,SALNTY_FLAG_W,CTDOXY,CTDOXY_FLAG_W,OXYGEN,OXYGEN_FLAG_W,SILCAT,SILCAT_FLAG_W,NITRAT,NITRAT_FLAG_W,NITRIT,NITRIT_FLAG_W,PHSPHT,PHSPHT_FLAG_W,CFC-11,CFC-11_FLAG_W,CFC-12,CFC-12_FLAG_W,SF6,SF6_FLAG_W,TCARBN,TCARBN_FLAG_W,ALKALI,ALKALI_FLAG_W,FCO2,FCO2_FLAG_W,FCO2TMP,PH_TOT,PH_TOT_FLAG_W,PH_TMP,DELC13,DELC13_FLAG_W,DELC14,DELC14_FLAG_W,C14ERR,POC,POC_FLAG_W,DOC,DOC_FLAG_W,TDN,TDN_FLAG_W,N2O,N2O_FLAG_W,BTL_DATE,BTL_TIME,BTL_LAT,BTL_LON,REFTMP,REFTMP_FLAG_W,CTDFLUOR,CTDFLUOR_FLAG_W,CTDXMISS,CTDXMISS_FLAG_W,D15N_NO2+NO3,D15N_NO2+NO3_FLAG_W,D18O_NO2+NO3,D18O_NO2+NO3_FLAG_W,HPLC,HPLC_FLAG_W,MICROGELS,MICROGELS_FLAG_W
,,,,,,,,,,,METERS,DBAR,ITS-90,PSS-78,,PSS-78,,UMOL/KG,,UMOL/KG,,UMOL/KG,,UMOL/KG,,UMOL/KG,,UMOL/KG,,PMOL/KG,,PMOL/KG,,FMOL/KG,,UMOL/KG,,UMOL/KG,,UATM,,DEG C,,,DEG C,/MILLE,,/MILLE,,/MILLE,UG/KG,,UMOL/KG,,UMOL/KG,,NMOL/KG,,,,,,ITS-90,,VOLTS,,VOLTS,,/MILLE,,/MILLE,,,,1E6 GELS/L,
325020210316,        A20,       7,          1,         33,         33,2,20210321,       2324,    42.8164,   -50.9678,       1382,     4.8,   1.2829,  33.3221,2,  33.3207,2,    347.5,2,   346.9,2,    4.30,2,    5.86,2,    0.08,2,    0.66,2,-999.000,9,-999.000,9, -999.00,9,  2114.6,6, 2239.07,2,   -999.0,9,  -999.00,    7.7035,6,    25.00, -999.00,9, -999.00,9, -999.00,-999.000,9,   58.99,2,    7.87,2,     -999.0,9, 20210322,       34,  42.8164, -50.9678,     1.2674,2,     0.1256,1,     4.5797,1,     -999.0,9,     -999.0,9,     -999.0,9,     -999.0,9
325020210316,        A20,       7,          1,         32,         32,2,20210321,       2324,    42.8164,   -50.9678,       1382,    20.7,   1.1289,  33.3240,2,  33.3265,2,    344.5,2,   347.4,2,    4.69,2,    5.90,2,    0.08,2,    0.66,2,-999.000,9,-999.000,9, -999.00,9,  -999.0,9, -999.00,9,   -999.0,9,  -999.00,-999.00000,9,  -999.00, -999.00,9, -999.00,9, -999.00,-999.000,9,   59.40,2,    7.09,2,     -999.0,9, 20210322,       32,  42.8164, -50.9678,     1.1326,2,     0.1403,1,     4.5592,1,     -999.0,9,     -999.0,9,     -999.0,9,     -999.0,9
325020210316,        A20,       7,          1,         31,         31,2,20210321,       2324,    42.8164,   -50.9678,       1382,    40.0,   1.1130,  33.3589,2,  33.3623,2,    339.8,2,   338.2,2,    5.08,2,    6.65,2,    0.08,2,    0.70,2,-999.000,9,-999.000,9, -999.00,9,  2122.3,2, 2238.55,6,   -999.0,9,  -999.00,   7.68509,2,    25.00, -999.00,9, -999.00,9, -999.00,-999.000,9,   57.65,2,    8.17,2,     -999.0,9, 20210322,       30,  42.8164, -50.9678,     1.1126,2,     0.1103,1,     4.6068,1,     -999.0,9,     -999.0,9,     -999.0,9,     -999.0,9
325020210316,        A20,       7,          1,         30,         30,2,20210321,       2324,    42.8164,   -50.9678,       1382,    64.4,   1.2075,  33.4830,2,  33.4848,2,    324.2,2,   324.8,2,    5.87,2,    8.10,2,    0.10,2,    0.78,2,-999.000,9,-999.000,9, -999.00,9,  -999.0,9, -999.00,9,   -999.0,9,  -999.00,-999.00000,9,  -999.00, -999.00,9, -999.00,9, -999.00,-999.000,9, -999.00,9, -999.00,9,     -999.0,9, 20210322,       29,  42.8164, -50.9678,     1.2074,2,     0.0770,1,     4.6534,1,     -999.0,9,     -999.0,9,     -999.0,9,     -999.0,9
325020210316,        A20,       7,          1,         29,         29,2,20210321,       2324,    42.8164,   -50.9678,       1382,    90.8,   1.4041,  33.6424,2,  33.6465,2,    311.5,2,   313.5,2,    7.62,2,    9.37,2,    0.10,2,    0.83,2,-999.000,9,-999.000,9, -999.00,9,  2141.1,2, 2248.78,2,   -999.0,9,  -999.00,    7.6561,6,    25.00, -999.00,9, -999.00,9, -999.00,-999.000,9,   59.04,2,   10.87,2,     -999.0,9, 20210322,       27,  42.8164, -50.9678,     1.4045,2,     0.0622,1,     4.6702,1,     -999.0,9,     -999.0,9,     -999.0,9,     -999.0,9
325020210316,        A20,       7,          1,         28,         28,2,20210321,       2324,    42.8164,   -50.9678,       1382,   116.4,   1.6148,  33.7823,2,  33.7873,2,    307.1,2,   304.7,2,    8.21,2,   10.35,2,    0.07,2,    0.85,2,-999.000,9,-999.000,9, -999.00,9,  -999.0,9, -999.00,9,   -999.0,9,  -999.00,-999.00000,9,  -999.00, -999.00,9, -999.00,9, -999.00,-999.000,9, -999.00,9, -999.00,9,     -999.0,9, 20210322,       24,  42.8164, -50.9678,     1.6129,2,     0.0563,1,     4.6695,1,     -999.0,9,     -999.0,9,     -999.0,9,     -999.0,9
325020210316,        A20,       7,          1,         27,         27,2,20210321,       2324,    42.8164,   -50.9678,       1382,   141.1,   1.7193,  33.8451,2,  33.8463,2,    302.0,2,   303.6,2,    8.70,2,   10.68,2,    0.04,2,    0.86,2,-999.000,9,-999.000,9, -999.00,9,  -999.0,9, -999.00,9,   -999.0,9,  -999.00,-999.00000,9,  -999.00, -999.00,9, -999.00,9, -999.00,-999.000,9,   58.25,2,   11.03,2,     -999.0,9, 20210322,       23,  42.8164, -50.9678,     1.7177,2,     0.0513,1,     4.6716,1,     -999.0,9,     -999.0,9,     -999.0,9,     -999.0,9
325020210316,        A20,       7,          1,         26,         26,2,20210321,       2324,    42.8164,   -50.9678,       1382,   166.0,   1.7812,  33.8796,2,  33.8833,2,    302.8,2,   301.4,2,    9.58,2,   10.83,2,    0.04,2,    0.87,2,-999.000,9,-999.000,9, -999.00,9,  -999.0,9, -999.00,9,   -999.0,9,  -999.00,-999.00000,9,  -999.00, -999.00,9, -999.00,9, -999.00,-999.000,9, -999.00,9, -999.00,9,     -999.0,9, 20210322,       22,  42.8164, -50.9678,     1.7834,2,     0.0508,1,     4.6725,1,     -999.0,9,     -999.0,9,     -999.0,9,     -999.0,9
325020210316,        A20,       7,          1,         25,         25,2,20210321,       2324,    42.8164,   -50.9678,       1382,   192.6,   1.9208,  33.9578,2,  33.9604,2,    301.8,2,   301.5,2,    9.68,2,   11.08,2,    0.02,2,    0.87,2,-999.000,9,-999.000,9, -999.00,9,  2149.4,2, 2260.43,2,   -999.0,9,  -999.00,   7.65645,2,    24.99, -999.00,9, -999.00,9, -999.00,-999.000,9,   61.05,2,   13.22,2,     -999.0,9, 20210322,       20,  42.8164, -50.9678,     1.9185,2,     0.0523,1,     4.6710,1,     -999.0,9,     -999.0,9,     -999.0,9,     -999.0,9
325020210316,        A20,       7,          1,         24,         24,2,20210321,       2324,    42.8164,   -50.9678,       1382,   216.8,   2.0730,  34.0403,2,  34.0386,2,    300.6,2,   299.6,2,    9.38,2,   11.38,2,    0.00,2,    0.88,2,-999.000,9,-999.000,9, -999.00,9,  -999.0,9, -999.00,9,   -999.0,9,  -999.00,-999.00000,9,  -999.00, -999.00,9, -999.00,9, -999.00,-999.000,9, -999.00,9, -999.00,9,     -999.0,9, 20210322,       18,  42.8164, -50.9678,     2.0733,2,     0.0521,1,     4.6675,1,     -999.0,9,     -999.0,9,     -999.0,9,     -999.0,9
325020210316,        A20,       7,          1,         23,         23,2,20210321,       2324,    42.8164,   -50.9678,       1382,   242.0,   2.1808,  34.0973,2,  34.0972,2,    298.6,2,   297.9,2,    9.48,2,   11.69,2,    0.00,2,    0.90,2,-999.000,9,-999.000,9, -999.00,9,  -999.0,9, -999.00,9,   -999.0,9,  -999.00,-999.00000,9,  -999.00, -999.00,9, -999.00,9, -999.00,-999.000,9,   57.48,2,   13.69,2,     -999.0,9, 20210322,       16,  42.8164, -50.9678,     2.1803,2,     0.0505,1,     4.6650,1,     -999.0,9,     -999.0,9,     -999.0,9,     -999.0,9
325020210316,        A20,       7,          1,         22,         22,2,20210321,       2324,    42.8164,   -50.9678,       1382,   267.3,   2.2235,  34.1175,2,  34.1160,2,    298.4,2,   297.1,2,    9.67,2,   11.85,2,    0.00,2,    0.91,2,-999.000,9,-999.000,9, -999.00,9,  -999.0,9, -999.00,9,   -999.0,9,  -999.00,-999.00000,9,  -999.00, -999.00,9, -999.00,9, -999.00,-999.000,9, -999.00,9, -999.00,9,     -999.0,9, 20210322,       14,  42.8164, -50.9678,     2.2236,2,     0.0492,1,     4.6645,1,     -999.0,9,     -999.0,9,     -999.0,9,     -999.0,9
325020210316,        A20,       7,          1,         21,         21,2,20210321,       2324,    42.8164,   -50.9678,       1382,   293.1,   2.3469,  34.1790,2,  34.1732,2,    296.8,2,  -999.0,5,    9.58,2,   12.18,2,    0.00,2,    0.95,2,-999.000,9,-999.000,9, -999.00,9,  2157.0,2, 2268.14,2,   -999.0,9,  -999.00,   7.65953,2,    24.99, -999.00,9, -999.00,9, -999.00,-999.000,9,   57.10,2,   12.32,2,     -999.0,9, 20210322,       12,  42.8164, -50.9678,     2.3467,2,     0.0496,1,     4.6630,1,     -999.0,9,     -999.0,9,     -999.0,9,     -999.0,9
325020210316,        A20,       7,          1,         20,         20,2,20210321,       2324,    42.8164,   -50.9678,       1382,   316.3,   2.3915,  34.1994,2,  34.1964,2,    295.8,2,   294.9,2,    9.67,2,   12.37,2,    0.00,2,    0.92,2,-999.000,9,-999.000,9, -999.00,9,  -999.0,9, -999.00,9,   -999.0,9,  -999.00,-999.00000,9,  -999.00, -999.00,9, -999.00,9, -999.00,-999.000,9, -999.00,9, -999.00,9,     -999.0,9, 20210322,       11,  42.8164, -50.9678,     2.3909,2,     0.0486,1,     4.6614,1,     -999.0,9,     -999.0,9,     -999.0,9,     -999.0,9
325020210316,        A20,       7,          1,         19,         19,2,20210321,       2324,    42.8164,   -50.9678,       1382,   343.0,   2.4593,  34.2233,2,  34.2226,2,    296.5,2,   295.4,2,    9.97,2,   12.44,2,    0.00,2,    0.91,2,-999.000,9,-999.000,9, -999.00,9,  -999.0,9, -999.00,9,   -999.0,9,  -999.00,-999.00000,9,  -999.00, -999.00,9, -999.00,9, -999.00,-999.000,9,   57.80,2,   13.24,2,     -999.0,9, 20210322,        9,  42.8164, -50.9678,     2.4598,2,     0.0489,1,     4.6606,1,     -999.0,9,     -999.0,9,     -999.0,9,     -999.0,9
325020210316,        A20,       7,          1,         18,         18,2,20210321,       2324,    42.8164,   -50.9678,       1382,   368.8,   2.4836,  34.2340,2,  34.2352,2,    296.7,2,   295.7,2,    9.77,2,   12.48,2,    0.00,2,    0.91,2,-999.000,9,-999.000,9, -999.00,9,  -999.0,9, -999.00,9,   -999.0,9,  -999.00,-999.00000,9,  -999.00, -999.00,9, -999.00,9, -999.00,-999.000,9, -999.00,9, -999.00,9,     -999.0,9, 20210322,        7,  42.8164, -50.9678,     2.4829,2,     0.0482,1,     4.6603,1,     -999.0,9,     -999.0,9,     -999.0,9,     -999.0,9
325020210316,        A20,       7,          1,         17,         17,2,20210321,       2324,    42.8164,   -50.9678,       1382,   392.4,   2.5520,  34.2700,2,  34.2646,2,    294.7,2,   293.8,2,    9.67,2,   12.66,2,    0.00,2,    0.92,2,-999.000,9,-999.000,9, -999.00,9,  2158.7,2, 2272.03,2,   -999.0,9,  -999.00,   7.66065,2,    25.00, -999.00,9, -999.00,9, -999.00,-999.000,9,   54.33,2,   12.65,2,     -999.0,9, 20210322,        5,  42.8164, -50.9678,     2.5506,2,     0.0492,1,     4.6584,1,     -999.0,9,     -999.0,9,     -999.0,9,     -999.0,9
325020210316,        A20,       7,          1,         16,         16,2,20210321,       2324,    42.8164,   -50.9678,       1382,   417.3,   2.6643,  34.3162,2,  34.3142,2,    294.6,2,   293.8,2,    9.57,2,   12.77,2,    0.00,2,    0.92,2,-999.000,9,-999.000,9, -999.00,9,  -999.0,9, -999.00,9,   -999.0,9,  -999.00,-999.00000,9,  -999.00, -999.00,9, -999.00,9, -999.00,-999.000,9, -999.00,9, -999.00,9,     -999.0,9, 20210322,        3,  42.8164, -50.9678,     2.6657,2,     0.0485,1,     4.6592,1,     -999.0,9,     -999.0,9,     -999.0,9,     -999.0,9
325020210316,        A20,       7,          1,         15,         15,2,20210321,       2324,    42.8164,   -50.9678,       1382,   443.9,   2.7933,  34.3681,2,  34.3649,2,    294.5,2,   294.0,2,    9.97,2,   12.98,2,    0.00,2,    0.93,2,-999.000,9,-999.000,9, -999.00,9,  -999.0,9, -999.00,9,   -999.0,9,  -999.00,-999.00000,9,  -999.00, -999.00,9, -999.00,9, -999.00,-999.000,9,   53.59,2,   14.64,2,     -999.0,9, 20210322,        2,  42.8164, -50.9678,     2.7918,2,     0.0462,1,     4.6618,1,     -999.0,9,     -999.0,9,     -999.0,9,     -999.0,9
325020210316,        A20,       7,          1,         14,         14,2,20210321,       2324,    42.8164,   -50.9678,       1382,   469.3,   2.9291,  34.4182,2,  34.4267,2,    292.8,2,   294.2,2,    9.77,2,   13.15,2,    0.00,2,    0.93,2,-999.000,9,-999.000,9, -999.00,9,  2160.2,2, 2279.11,2,   -999.0,9,  -999.00,   7.67013,2,    24.99, -999.00,9, -999.00,9, -999.00,-999.000,9,   53.60,2,   14.65,2,     -999.0,9, 20210322,        0,  42.8164, -50.9678,     2.9190,2,     0.0456,1,     4.6635,1,     -999.0,9,     -999.0,9,     -999.0,9,     -999.0,9
325020210316,        A20,       7,          1,         13,         13,2,20210321,       2324,    42.8164,   -50.9678,       1382,   493.9,   3.0074,  34.4478,2,  34.4514,2,    292.3,2,   293.1,2,   10.06,2,   13.39,2,    0.00,2,    0.93,2,-999.000,9,-999.000,9, -999.00,9,  -999.0,9, -999.00,9,   -999.0,9,  -999.00,-999.00000,9,  -999.00, -999.00,9, -999.00,9, -999.00,-999.000,9,   53.18,2,   14.86,2,     -999.0,9, 20210321,     2358,  42.8164, -50.9678,     3.0085,2,     0.0467,1,     4.6640,1,     -999.0,9,     -999.0,9,     -999.0,9,     -999.0,9
325020210316,        A20,       7,          1,         12,         12,2,20210321,       2324,    42.8164,   -50.9678,       1382,   540.5,   3.3310,  34.5624,2,  34.5596,2,    288.9,2,   289.6,2,    9.67,2,   14.09,2,    0.00,2,    0.95,2,-999.000,9,-999.000,9, -999.00,9,  -999.0,9, -999.00,9,   -999.0,9,  -999.00,-999.00000,9,  -999.00, -999.00,9, -999.00,9, -999.00,-999.000,9,   53.27,2,   14.81,2,     -999.0,9, 20210321,     2355,  42.8164, -50.9678,     3.3314,2,     0.0443,1,     4.6646,1,     -999.0,9,     -999.0,9,     -999.0,9,     -999.0,9
325020210316,        A20,       7,          1,         11,         11,2,20210321,       2324,    42.8164,   -50.9678,       1382,   590.8,   3.6354,  34.6307,2,  34.6181,3,    284.1,2,   285.6,2,   10.26,2,   14.53,2,    0.00,2,    0.97,2,-999.000,9,-999.000,9, -999.00,9,  2164.2,2, 2288.08,2,   -999.0,9,  -999.00,   7.67901,6,    25.00, -999.00,9, -999.00,9, -999.00,-999.000,9,   52.69,2,   14.69,2,     -999.0,9, 20210321,     2353,  42.8164, -50.9678,     3.6274,2,     0.0431,1,     4.6701,1,     -999.0,9,     -999.0,9,     -999.0,9,     -999.0,9
325020210316,        A20,       7,          1,         10,         10,2,20210321,       2324,    42.8164,   -50.9678,       1382,   640.8,   3.7937,  34.7029,2,  34.7005,2,    282.5,2,   281.6,2,   10.26,2,   15.13,2,    0.00,2,    1.00,2,-999.000,9,-999.000,9, -999.00,9,  2166.4,2, 2292.97,2,   -999.0,9,  -999.00,     7.681,2,    25.00, -999.00,9, -999.00,9, -999.00,-999.000,9,   50.11,2,   15.52,2,     -999.0,9, 20210321,     2351,  42.8164, -50.9678,     3.8080,2,     0.0432,1,     4.6791,1,     -999.0,9,     -999.0,9,     -999.0,9,     -999.0,9
325020210316,        A20,       7,          1,          9,          9,2,20210321,       2324,    42.8164,   -50.9678,       1382,   691.5,   3.8110,  34.7344,2,  34.7370,2,    284.2,2,   283.4,2,    9.67,2,   15.14,2,    0.00,2,    1.00,2,-999.000,9,-999.000,9, -999.00,9,  -999.0,9, -999.00,9,   -999.0,9,  -999.00,-999.00000,9,  -999.00, -999.00,9, -999.00,9, -999.00,-999.000,9, -999.00,9, -999.00,9,     -999.0,9, 20210321,     2349,  42.8164, -50.9678,     3.8089,2,     0.0421,1,     4.6799,1,     -999.0,9,     -999.0,9,     -999.0,9,     -999.0,9
325020210316,        A20,       7,          1,          8,          8,2,20210321,       2324,    42.8164,   -50.9678,       1382,   743.1,   3.8563,  34.7579,2,  34.7583,2,    284.5,2,   283.5,2,   10.16,2,   15.35,2,    0.00,2,    1.01,2,-999.000,9,-999.000,9, -999.00,9,  -999.0,9, -999.00,9,   -999.0,9,  -999.00,-999.00000,9,  -999.00, -999.00,9, -999.00,9, -999.00,-999.000,9,   50.59,2,   16.18,2,     -999.0,9, 20210321,     2346,  42.8164, -50.9678,     3.8538,2,     0.0417,1,     4.6833,1,     -999.0,9,     -999.0,9,     -999.0,9,     -999.0,9
325020210316,        A20,       7,          1,          7,          7,2,20210321,       2324,    42.8164,   -50.9678,       1382,   793.1,   3.9409,  34.8055,2,  34.8062,2,    281.4,2,   281.6,2,    9.57,2,   15.85,2,    0.00,2,    1.03,2,-999.000,9,-999.000,9, -999.00,9,  2170.0,2, 2295.86,6,   -999.0,9,  -999.00,   7.68553,2,    24.99, -999.00,9, -999.00,9, -999.00,-999.000,9,   50.62,2,   17.17,2,     -999.0,9, 20210321,     2344,  42.8164, -50.9678,     3.9405,2,     0.0419,1,     4.6886,1,     -999.0,9,     -999.0,9,     -999.0,9,     -999.0,9
325020210316,        A20,       7,          1,          6,          6,2,20210321,       2324,    42.8164,   -50.9678,       1382,   844.5,   3.8825,  34.8091,2,  34.8094,2,    282.7,2,   283.0,2,    9.67,2,   15.94,2,    0.00,2,    1.03,2,-999.000,9,-999.000,9, -999.00,9,  -999.0,9, -999.00,9,   -999.0,9,  -999.00,-999.00000,9,  -999.00, -999.00,9, -999.00,9, -999.00,-999.000,9,   49.99,2,   16.97,2,     -999.0,9, 20210321,     2342,  42.8164, -50.9678,     3.8838,2,     0.0425,1,     4.6893,1,     -999.0,9,     -999.0,9,     -999.0,9,     -999.0,9
325020210316,        A20,       7,          1,          5,          5,2,20210321,       2324,    42.8164,   -50.9678,       1382,   896.6,   3.8102,  34.8143,2,  34.8145,2,    284.4,2,   284.5,2,    9.86,2,   16.01,2,    0.00,2,    1.04,2,   4.152,2,   2.406,2,    2.64,3,  -999.0,9, -999.00,9,   -999.0,9,  -999.00,-999.00000,9,  -999.00, -999.00,9, -999.00,9, -999.00,-999.000,9,   50.63,2,   17.93,2,      14.04,2, 20210321,     2339,  42.8164, -50.9678,     3.8102,2,     0.0431,1,     4.6887,1,     -999.0,9,     -999.0,9,     -999.0,9,     -999.0,9
325020210316,        A20,       7,          1,          4,          4,2,20210321,       2324,    42.8164,   -50.9678,       1382,   996.6,   3.7416,  34.8249,2,  34.8377,3,    284.0,2,   284.1,2,   10.16,2,   16.15,2,    0.00,2,    1.05,2,   4.038,2,   2.368,2,    3.13,3,  -999.0,9, -999.00,9,   -999.0,9,  -999.00,-999.00000,9,  -999.00, -999.00,9, -999.00,9, -999.00,-999.000,9,   49.55,2,   17.51,2,      13.97,2, 20210321,     2336,  42.8164, -50.9678,     3.7415,2,     0.0421,1,     4.6881,1,     -999.0,9,     -999.0,9,     -999.0,9,     -999.0,9
325020210316,        A20,       7,          1,          3,          3,2,20210321,       2324,    42.8164,   -50.9678,       1382,  1095.1,   3.7378,  34.8297,2,  34.8296,2,    284.2,2,   284.5,2,    9.77,2,   16.23,2,    0.00,2,    1.05,2,   3.977,2,   2.266,2,    2.66,3,  2170.9,2, 2296.48,2,   -999.0,9,  -999.00,   7.68627,6,    25.01, -999.00,9, -999.00,9, -999.00,-999.000,9,   49.78,2,   17.09,2,      13.69,2, 20210321,     2331,  42.8164, -50.9678,     3.7380,2,     0.0412,1,     4.6852,1,     -999.0,9,     -999.0,9,     -999.0,9,     -999.0,9
325020210316,        A20,       7,          1,          2,          2,2,20210321,       2324,    42.8164,   -50.9678,       1382,  1244.2,   3.7039,  34.8477,2,  34.8475,2,    285.1,2,   285.0,2,    9.77,2,   16.36,2,    0.00,2,    1.05,2,   4.084,2,   2.359,2,    2.78,3,  -999.0,9, -999.00,9,   -999.0,9,  -999.00,-999.00000,9,  -999.00, -999.00,9, -999.00,9, -999.00,-999.000,9,   48.77,2,   17.77,2,      14.08,2, 20210321,     2328,  42.8164, -50.9678,     3.7075,2,     0.0411,1,     4.6940,1,     -999.0,9,     -999.0,9,     -999.0,9,     -999.0,9
325020210316,        A20,       7,          1,          1,          1,2,20210321,       2324,    42.8164,   -50.9678,       1382,  1389.6,   3.6283,  34.8658,2,  34.8676,2,    284.9,2,   284.8,2,   10.65,2,   16.51,2,    0.00,2,    1.05,2,   3.929,2,   2.274,2,    2.48,3,  2171.2,6, 2299.77,2,   -999.0,9,  -999.00,    7.6907,2,    25.01, -999.00,9, -999.00,9, -999.00,-999.000,9,   49.66,2,   18.69,2,      13.95,2, 20210321,     2324,  42.8164, -50.9678,     3.6261,2,     0.0424,1,     4.6850,1,     -999.0,9,     -999.0,9,     -999.0,9,     -999.0,9