BOTTLE,20230512CCHSIOCBG
EXPOCODE,SECT_ID,STNNBR,CASTNO,SAMPNO,BTLNBR,BTLNBR_FLAG_W,DATE,TIME,LATITUDE,LONGITUDE,DEPTH,CTDPRS,CTDTMP,CTDSAL,CTDSAL_FLAG_W,SALNTY,SALNTY_FLAG_W,CTDOXY,CTDOXY_FLAG_W,OXYGEN,OXYGEN_FLAG_W,SILCAT,SILCAT_FLAG_W,NITRAT,NITRAT_FLAG_W,NITRIT,NITRIT_FLAG_W,PHSPHT,PHSPHT_FLAG_W,CFC-11,CFC-11_FLAG_W,CFC-12,CFC-12_FLAG_W,SF6,SF6_FLAG_W,TCARBN,TCARBN_FLAG_W,ALKALI,ALKALI_FLAG_W,FCO2,FCO2_FLAG_W,FCO2TMP,PH_TOT,PH_TOT_FLAG_W,PH_TMP,DELC13,DELC13_FLAG_W,DELC14,DELC14_FLAG_W,C14ERR,POC,POC_FLAG_W,DOC,DOC_FLAG_W,TDN,TDN_FLAG_W,N2O,N2O_FLAG_W,BTL_DATE,BTL_TIME,BTL_LAT,BTL_LON,REFTMP,REFTMP_FLAG_W,CTDFLUOR,CTDFLUOR_FLAG_W,CTDXMISS,CTDXMISS_FLAG_W,D15N_NO2+NO3,D15N_NO2+NO3_FLAG_W,D18O_NO2+NO3,D18O_NO2+NO3_FLAG_W,HPLC,HPLC_FLAG_W,MICROGELS,MICROGELS_FLAG_W
,,,,,,,,,,,METERS,DBAR,ITS-90,PSS-78,,PSS-78,,UMOL/KG,,UMOL/KG,,UMOL/KG,,UMOL/KG,,UMOL/KG,,UMOL/KG,,PMOL/KG,,PMOL/KG,,FMOL/KG,,UMOL/KG,,UMOL/KG,,UATM,,DEG C,,,DEG C,/MILLE,,/MILLE,,/MILLE,UG/KG,,UMOL/KG,,UMOL/KG,,NMOL/KG,,,,,,ITS-90,,VOLTS,,VOLTS,,/MILLE,,/MILLE,,,,1E6 GELS/L,
325020210316,        A20,      67,          1,         36,         36,2,20210408,       1901,    11.3054,   -52.3339,       4967,     5.7,  27.3726,  35.6984,2,  35.7002,2,    201.7,2,   200.6,2,    1.85,2,    0.00,2,    0.00,2,    0.03,2,   1.424,2,   0.954,2,    1.57,2,  2025.0,2, 2344.76,2,   -999.0,9,  -999.00,    8.0762,2,    24.99, -999.00,9, -999.00,9, -999.00,-999.000,9, -999.00,9, -999.00,9,       5.74,2, 20210408,     2116,  11.3054, -52.3339,    27.3705,2,     0.0466,1,     4.6184,1,     -999.0,1,     -999.0,1,     -999.0,9,     -999.0,9
325020210316,        A20,      67,          1,         35,         35,2,20210408,       1901,    11.3054,   -52.3339,       4967,    35.4,  27.1758,  35.9644,3,  35.9882,2,    199.1,2,   200.0,2,    1.56,2,    0.00,2,    0.00,2,    0.03,2,-999.000,9,-999.000,9, -999.00,9,  -999.0,9, -999.00,9,   -999.0,9,  -999.00,-999.00000,9,  -999.00, -999.00,9, -999.00,9, -999.00,-999.000,9, -999.00,9, -999.00,9,     -999.0,9, 20210408,     2115,  11.3054, -52.3339,    27.1758,2,     0.0548,1,     4.6091,1,     -999.0,1,     -999.0,1,     -999.0,9,     -999.0,9
325020210316,        A20,      67,          1,         34,         34,2,20210408,       1901,    11.3054,   -52.3339,       4967,    60.5,  26.2687,  36.2380,2,  36.2382,2,    204.7,2,   204.7,2,    0.78,2,    0.00,2,    0.00,2,    0.00,2,   1.500,2,   0.970,2,    1.61,2,  2040.9,2, -999.00,9,   -999.0,9,  -999.00,   8.08793,2,    24.98, -999.00,9, -999.00,9, -999.00,-999.000,9, -999.00,9, -999.00,9,       6.05,2, 20210408,     2114,  11.3054, -52.3339,    26.2681,2,     0.0717,1,     4.6119,1,     -999.0,1,     -999.0,1,     -999.0,9,     -999.0,9
325020210316,        A20,      67,          1,         33,         33,2,20210408,       1901,    11.3054,   -52.3339,       4967,    85.8,  25.7441,  36.3549,2,  36.3722,2,    166.7,3,   173.1,2,    2.54,2,    2.32,2,    0.20,2,    0.22,2,-999.000,9,-999.000,9, -999.00,9,  -999.0,9, -999.00,9,   -999.0,9,  -999.00,-999.00000,9,  -999.00, -999.00,9, -999.00,9, -999.00,-999.000,9, -999.00,9, -999.00,9,     -999.0,9, 20210408,     2112,  11.3054, -52.3339,    25.7685,2,     0.1221,1,     4.6063,1,     -999.0,1,     -999.0,1,     -999.0,9,     -999.0,9
325020210316,        A20,      67,          1,         32,         32,2,20210408,       1901,    11.3054,   -52.3339,       4967,   115.7,  21.8663,  36.6083,2,  36.6294,3,    134.2,3,   143.6,2,    2.15,2,    5.96,2,    0.08,2,    0.32,2,   1.789,2,   1.141,2,    1.43,2,  2159.8,2, 2395.57,6,   -999.0,9,  -999.00,   7.90896,2,    24.99, -999.00,9, -999.00,9, -999.00,-999.000,9, -999.00,9, -999.00,9,      14.55,2, 20210408,     2111,  11.3054, -52.3339,    21.8356,2,     0.0725,1,     4.6542,1,     -999.0,1,     -999.0,1,     -999.0,9,     -999.0,9
325020210316,        A20,      67,          1,         31,         31,2,20210408,       1901,    11.3054,   -52.3339,       4967,   165.7,  15.4732,  35.7633,2,  35.7679,2,    108.4,3,   112.0,2,    6.54,2,   18.79,2,    0.01,2,    1.11,2,-999.000,9,-999.000,9, -999.00,9,  2196.8,6, -999.00,9,   -999.0,9,  -999.00,   7.72397,2,    25.02, -999.00,9, -999.00,9, -999.00,-999.000,9, -999.00,9, -999.00,9,     -999.0,9, 20210408,     2109,  11.3054, -52.3339,    15.4896,2,     0.0486,1,     4.6751,1,     -999.0,1,     -999.0,1,     -999.0,9,     -999.0,9
325020210316,        A20,      67,          1,         30,         30,2,20210408,       1901,    11.3054,   -52.3339,       4967,   216.5,  12.0936,  35.2869,2,  35.2601,3,    108.9,2,   109.8,2,   10.06,2,   24.33,2,    0.00,2,    1.49,2,   2.036,2,   1.186,2,    0.82,2,  2208.2,2, 2319.75,2,   -999.0,9,  -999.00,   7.63617,6,    25.00, -999.00,9, -999.00,9, -999.00,-999.000,9, -999.00,9, -999.00,9,      28.39,2, 20210408,     2107,  11.3054, -52.3339,    12.0655,2,     0.0431,1,     4.6761,1,     -999.0,1,     -999.0,1,     -999.0,9,     -999.0,9
325020210316,        A20,      67,          1,         29,         29,2,20210408,       1901,    11.3054,   -52.3339,       4967,   266.1,  10.6573,  35.0937,2,  35.0933,2,    118.1,2,   118.1,2,   11.72,2,   25.57,2,    0.00,2,    1.60,2,-999.000,9,-999.000,9, -999.00,9,  -999.0,9, -999.00,9,   -999.0,9,  -999.00,-999.00000,9,  -999.00, -999.00,9, -999.00,9, -999.00,-999.000,9, -999.00,9, -999.00,9,     -999.0,9, 20210408,     2105,  11.3054, -52.3339,    10.6791,2,     0.0425,1,     4.6791,1,     -999.0,1,     -999.0,1,     -999.0,9,     -999.0,9
325020210316,        A20,      67,          1,         28,         28,2,20210408,       1901,    11.3054,   -52.3339,       4967,   316.8,   9.9273,  34.9980,2,  34.9955,2,    115.8,2,   115.6,2,   13.19,2,   27.26,2,    0.00,2,    1.71,2,   1.866,2,   1.048,2,    0.64,2,  2210.2,2, 2310.82,2,   -999.0,9,  -999.00,     7.598,2,    25.00, -999.00,9, -999.00,9, -999.00,-999.000,9, -999.00,9, -999.00,9,      27.63,2, 20210408,     2102,  11.3054, -52.3339,     9.9344,2,     0.0419,1,     4.6782,1,     -999.0,1,     -999.0,1,     -999.0,9,     -999.0,9
325020210316,        A20,      67,          1,         27,         27,2,20210408,       1901,    11.3054,   -52.3339,       4967,   367.7,   9.1524,  34.8868,2,  34.8845,2,    110.5,2,   111.5,2,   14.95,2,   29.49,2,    0.00,2,    1.85,2,-999.000,9,-999.000,9, -999.00,9,  -999.0,9, -999.00,9,   -999.0,9,  -999.00,-999.00000,9,  -999.00, -999.00,9, -999.00,9, -999.00,-999.000,9, -999.00,9, -999.00,9,     -999.0,9, 20210408,     2100,  11.3054, -52.3339,     9.1512,2,     0.0425,1,     4.6774,1,     -999.0,1,     -999.0,1,     -999.0,9,     -999.0,9
325020210316,        A20,      67,          1,         26,         26,2,20210408,       1901,    11.3054,   -52.3339,       4967,   438.7,   8.3704,  34.7951,2,  34.7931,2,    111.3,2,   111.7,2,   16.90,2,   31.29,2,    0.00,2,    1.95,2,   1.473,2,   0.792,2,    0.37,2,  2219.1,2, -999.00,9,   -999.0,9,  -999.00,   7.54613,2,    24.99, -999.00,9, -999.00,9, -999.00,-999.000,9, -999.00,9, -999.00,9,      28.45,2, 20210408,     2058,  11.3054, -52.3339,     8.3732,2,     0.0424,1,     4.6800,1,     -999.0,1,     -999.0,1,     -999.0,9,     -999.0,9
325020210316,        A20,      67,          1,         25,         25,2,20210408,       1901,    11.3054,   -52.3339,       4967,   539.5,   7.3512,  34.6909,2,  34.6912,2,    120.1,3,   117.7,2,   19.93,2,   32.86,2,    0.00,2,    2.08,2,-999.000,9,-999.000,9, -999.00,9,  -999.0,9, -999.00,9,   -999.0,9,  -999.00,-999.00000,9,  -999.00, -999.00,9, -999.00,9, -999.00,-999.000,9, -999.00,9, -999.00,9,     -999.0,9, 20210408,     2054,  11.3054, -52.3339,     7.3498,2,     0.0430,1,     4.6801,1,     -999.0,1,     -999.0,1,     -999.0,9,     -999.0,9
325020210316,        A20,      67,          1,         24,         24,2,20210408,       1901,    11.3054,   -52.3339,       4967,   639.4,   6.8993,  34.6963,2,  34.6946,2,    119.6,2,   118.7,2,   21.69,2,   33.38,2,    0.00,2,    2.13,2,-999.000,9,-999.000,9, -999.00,9,  -999.0,9, -999.00,9,   -999.0,9,  -999.00,-999.00000,9,  -999.00, -999.00,9, -999.00,9, -999.00,-999.000,9, -999.00,9, -999.00,9,     -999.0,9, 20210408,     2051,  11.3054, -52.3339,     6.9456,2,     0.0428,1,     4.6841,1,     -999.0,1,     -999.0,1,     -999.0,9,     -999.0,9
325020210316,        A20,      67,          1,         23,         23,2,20210408,       1901,    11.3054,   -52.3339,       4967,   741.4,   5.9548,  34.6182,2,  34.6179,2,    127.3,2,   126.3,2,   25.21,2,   34.36,2,    0.00,2,    2.24,2,   0.542,2,   0.282,2,    0.16,2,  2225.6,2, 2299.39,2,   -999.0,9,  -999.00,   7.52295,2,    24.99, -999.00,9, -999.00,9, -999.00,-999.000,9, -999.00,9, -999.00,9,      25.75,2, 20210408,     2047,  11.3054, -52.3339,     5.9595,2,     0.0429,1,     4.6813,1,     -999.0,1,     -999.0,1,     -999.0,9,     -999.0,9
325020210316,        A20,      67,          1,         22,         22,2,20210408,       1901,    11.3054,   -52.3339,       4967,   840.4,   5.5303,  34.6316,2,  34.6284,2,    132.5,2,   131.9,2,   27.16,2,   34.28,2,    0.00,2,    2.25,2,-999.000,9,-999.000,9, -999.00,9,  -999.0,9, -999.00,9,   -999.0,9,  -999.00,-999.00000,9,  -999.00, -999.00,9, -999.00,9, -999.00,-999.000,9, -999.00,9, -999.00,9,     -999.0,9, 20210408,     2045,  11.3054, -52.3339,     5.5248,2,     0.0419,1,     4.6839,1,     -999.0,1,     -999.0,1,     -999.0,9,     -999.0,9
325020210316,        A20,      67,          1,         21,         21,2,20210408,       1901,    11.3054,   -52.3339,       4967,   942.5,   5.1290,  34.6462,2,  34.6470,2,    141.6,2,   141.8,2,   28.24,2,   33.55,2,    0.00,2,    2.21,2,-999.000,9,-999.000,9, -999.00,9,  -999.0,9, -999.00,9,   -999.0,9,  -999.00,-999.00000,9,  -999.00, -999.00,9, -999.00,9, -999.00,-999.000,9, -999.00,9, -999.00,9,     -999.0,9, 20210408,     2042,  11.3054, -52.3339,     5.1256,2,     0.0435,1,     4.6839,1,     -999.0,1,     -999.0,1,     -999.0,9,     -999.0,9
325020210316,        A20,      67,          1,         20,         20,2,20210408,       1901,    11.3054,   -52.3339,       4967,  1044.0,   5.1656,  34.7162,2,  34.7148,2,    147.8,2,   147.9,2,   27.26,2,   32.01,2,    0.00,2,    2.12,2,   0.186,2,   0.098,2,    0.06,2,  2220.0,2, 2307.21,2,   -999.0,9,  -999.00,    7.5642,2,    24.99, -999.00,9, -999.00,9, -999.00,-999.000,9, -999.00,9, -999.00,9,      22.72,2, 20210408,     2039,  11.3054, -52.3339,     5.1660,2,     0.0429,1,     4.6836,1,     -999.0,1,     -999.0,1,     -999.0,9,     -999.0,9
325020210316,        A20,      67,          1,         19,         19,2,20210408,       1901,    11.3054,   -52.3339,       4967,  1144.9,   5.1207,  34.8036,2,  34.8035,2,    160.1,2,   160.6,2,   25.20,2,   29.70,2,    0.00,2,    1.96,2,-999.000,9,-999.000,9, -999.00,9,  -999.0,9, -999.00,9,   -999.0,9,  -999.00,-999.00000,9,  -999.00, -999.00,9, -999.00,9, -999.00,-999.000,9, -999.00,9, -999.00,9,     -999.0,9, 20210408,     2036,  11.3054, -52.3339,     5.1196,2,     0.0429,1,     4.6856,1,     -999.0,1,     -999.0,1,     -999.0,9,     -999.0,9
325020210316,        A20,      67,          1,         18,         18,2,20210408,       1901,    11.3054,   -52.3339,       4967,  1245.3,   5.2439,  34.9047,2,  34.9036,2,    177.8,2,   178.2,2,   21.88,2,   26.48,2,    0.00,2,    1.75,2,-999.000,9,-999.000,9, -999.00,9,  -999.0,9, -999.00,9,   -999.0,9,  -999.00,-999.00000,9,  -999.00, -999.00,9, -999.00,9, -999.00,-999.000,9, -999.00,9, -999.00,9,     -999.0,9, 20210408,     2033,  11.3054, -52.3339,     5.2432,2,     0.0429,1,     4.6849,1,     -999.0,1,     -999.0,1,     -999.0,9,     -999.0,9
325020210316,        A20,      67,          1,         17,         17,2,20210408,       1901,    11.3054,   -52.3339,       4967,  1348.5,   5.1360,  34.9808,2,  34.9807,2,    205.1,2,   205.3,2,   18.07,2,   22.84,2,    0.00,2,    1.50,2,-999.000,9,-999.000,9, -999.00,9,  -999.0,9, -999.00,9,   -999.0,9,  -999.00,-999.00000,9,  -999.00, -999.00,9, -999.00,9, -999.00,-999.000,9, -999.00,9, -999.00,9,     -999.0,9, 20210408,     2029,  11.3054, -52.3339,     5.1349,2,     0.0420,1,     4.6858,1,     -999.0,1,     -999.0,1,     -999.0,9,     -999.0,9
325020210316,        A20,      67,          1,         16,         16,2,20210408,       1901,    11.3054,   -52.3339,       4967,  1448.7,   4.8278,  34.9968,2,  34.9955,2,    221.1,2,   219.1,2,   16.80,2,   21.39,2,    0.00,2,    1.40,2,-999.000,9,-999.000,9, -999.00,9,  -999.0,9, -999.00,9,   -999.0,9,  -999.00,-999.00000,9,  -999.00, -999.00,9, -999.00,9, -999.00,-999.000,9, -999.00,9, -999.00,9,     -999.0,9, 20210408,     2026,  11.3054, -52.3339,     4.8283,2,     0.0423,1,     4.6877,1,     -999.0,1,     -999.0,1,     -999.0,9,     -999.0,9
325020210316,        A20,      67,          1,         15,         15,2,20210408,       1901,    11.3054,   -52.3339,       4967,  1550.3,   4.5433,  34.9936,2,  34.9933,2,    229.9,2,   230.1,2,   16.41,2,   20.68,2,    0.00,2,    1.35,2,   0.967,2,   0.495,2,    0.28,2,  2177.5,2,  2314.1,2,   -999.0,9,  -999.00,   7.70572,2,    24.98, -999.00,9, -999.00,9, -999.00,-999.000,9, -999.00,9, -999.00,9,      15.18,2, 20210408,     2023,  11.3054, -52.3339,     4.5435,2,     0.0424,1,     4.6909,1,     -999.0,1,     -999.0,1,     -999.0,9,     -999.0,9
325020210316,        A20,      67,          1,         14,         14,2,20210408,       1901,    11.3054,   -52.3339,       4967,  1681.8,   4.2640,  34.9906,2,  34.9921,2,    241.6,2,   241.3,2,   15.73,2,   19.65,2,    0.00,2,    1.28,2,-999.000,9,-999.000,9, -999.00,9,  -999.0,9, -999.00,9,   -999.0,9,  -999.00,-999.00000,9,  -999.00, -999.00,9, -999.00,9, -999.00,-999.000,9, -999.00,9, -999.00,9,     -999.0,9, 20210408,     2019,  11.3054, -52.3339,     4.2636,2,     0.0421,1,     4.6907,1,     -999.0,1,     -999.0,1,     -999.0,9,     -999.0,9
325020210316,        A20,      67,          1,         13,         13,2,20210408,       1901,    11.3054,   -52.3339,       4967,  1885.4,   3.9158,  34.9823,2,  34.9829,2,    254.6,2,   254.3,2,   15.24,2,   18.56,2,    0.00,2,    1.21,2,-999.000,9,-999.000,9, -999.00,9,  -999.0,9, -999.00,9,   -999.0,9,  -999.00,-999.00000,9,  -999.00, -999.00,9, -999.00,9, -999.00,-999.000,9, -999.00,9, -999.00,9,     -999.0,9, 20210408,     2014,  11.3054, -52.3339,     3.9176,2,     0.0424,1,     4.6895,1,     -999.0,1,     -999.0,1,     -999.0,9,     -999.0,9
325020210316,        A20,      67,          1,         12,         12,2,20210408,       1901,    11.3054,   -52.3339,       4967,  2108.4,   3.5874,  34.9683,3,  34.9591,2,    254.2,2,   254.5,2,   18.36,2,   18.96,2,    0.00,2,    1.24,2,   0.729,2,   0.367,2,    0.20,2,  2167.6,2, -999.00,9,   -999.0,9,  -999.00,   7.73278,6,  -999.00, -999.00,9, -999.00,9, -999.00,-999.000,9, -999.00,9, -999.00,9,      13.82,2, 20210408,     2008,  11.3054, -52.3339,     3.5870,2,     0.0424,1,     4.6916,1,     -999.0,1,     -999.0,1,     -999.0,9,     -999.0,9
325020210316,        A20,      67,          1,         11,         11,2,20210408,       1901,    11.3054,   -52.3339,       4967,  2361.5,   3.3412,  34.9590,2,  34.9681,3,    260.4,2,   260.0,2,   18.85,2,   18.40,2,    0.00,2,    1.21,2,-999.000,9,-999.000,9, -999.00,9,  -999.0,9, -999.00,9,   -999.0,9,  -999.00,-999.00000,9,  -999.00, -999.00,9, -999.00,9, -999.00,-999.000,9, -999.00,9, -999.00,9,     -999.0,9, 20210408,     2002,  11.3054, -52.3339,     3.3418,2,     0.0423,1,     4.6911,1,     -999.0,1,     -999.0,1,     -999.0,9,     -999.0,9
325020210316,        A20,      67,          1,         10,         10,2,20210408,       1901,    11.3054,   -52.3339,       4967,  2564.5,   3.1072,  34.9477,2,  34.9475,2,    261.6,2,   261.5,2,   20.71,2,   18.43,2,    0.00,2,    1.21,2,-999.000,9,-999.000,9, -999.00,9,  -999.0,9, -999.00,9,   -999.0,9,  -999.00,-999.00000,9,  -999.00, -999.00,9, -999.00,9, -999.00,-999.000,9, -999.00,9, -999.00,9,     -999.0,9, 20210408,     1957,  11.3054, -52.3339,     3.1074,2,     0.0429,1,     4.6903,1,     -999.0,1,     -999.0,1,     -999.0,9,     -999.0,9
325020210316,        A20,      67,          1,          9,          9,2,20210408,       1901,    11.3054,   -52.3339,       4967,  2870.2,   2.8903,  34.9358,2,  34.9349,2,    259.6,2,   259.6,2,   24.71,2,   18.92,2,    0.00,2,    1.25,2,-999.000,9,-999.000,9, -999.00,9,  -999.0,9, -999.00,9,   -999.0,9,  -999.00,-999.00000,9,  -999.00, -999.00,9, -999.00,9, -999.00,-999.000,9, -999.00,9, -999.00,9,     -999.0,9, 20210408,     1950,  11.3054, -52.3339,     2.8900,2,     0.0426,1,     4.6897,1,     -999.0,1,     -999.0,1,     -999.0,9,     -999.0,9
325020210316,        A20,      67,          1,          8,          8,2,20210408,       1901,    11.3054,   -52.3339,       4967,  3140.4,   2.7364,  34.9253,2,  34.9258,2,    258.8,2,   258.8,2,   27.84,2,   19.29,2,    0.00,2,    1.28,2,   0.522,2,   0.261,2,    0.14,2,  2175.5,2, 2323.65,2,   -999.0,9,  -999.00,   7.73676,2,    24.98, -999.00,9, -999.00,9, -999.00,-999.000,9, -999.00,9, -999.00,9,      13.63,2, 20210408,     1944,  11.3054, -52.3339,     2.7364,2,     0.0426,1,     4.6934,1,     -999.0,1,     -999.0,1,     -999.0,9,     -999.0,9
325020210316,        A20,      67,          1,          7,          7,2,20210408,       1901,    11.3054,   -52.3339,       4967,  3446.9,   2.5751,  34.9125,2,  34.9120,2,    254.0,2,   254.2,2,   34.39,2,   20.38,2,    0.00,2,    1.35,2,-999.000,9,-999.000,9, -999.00,9,  -999.0,9, -999.00,9,   -999.0,9,  -999.00,-999.00000,9,  -999.00, -999.00,9, -999.00,9, -999.00,-999.000,9, -999.00,9, -999.00,9,     -999.0,9, 20210408,     1937,  11.3054, -52.3339,     2.5749,2,     0.0416,1,     4.6927,1,     -999.0,1,     -999.0,1,     -999.0,9,     -999.0,9
325020210316,        A20,      67,          1,          6,          6,2,20210408,       1901,    11.3054,   -52.3339,       4967,  3753.0,   2.4151,  34.8999,2,  34.8991,2,    257.7,2,   257.8,2,   34.97,2,   19.97,2,    0.00,2,    1.33,2,-999.000,9,-999.000,9, -999.00,9,  -999.0,9, -999.00,9,   -999.0,9,  -999.00,-999.00000,9,  -999.00, -999.00,9, -999.00,9, -999.00,-999.000,9, -999.00,9, -999.00,9,     -999.0,9, 20210408,     1931,  11.3054, -52.3339,     2.4151,2,     0.0422,1,     4.6935,1,     -999.0,1,     -999.0,1,     -999.0,9,     -999.0,9
325020210316,        A20,      67,          1,          5,          5,2,20210408,       1901,    11.3054,   -52.3339,       4967,  4063.0,   2.3136,  34.8916,2,  34.8910,2,    261.1,2,   261.2,2,   34.48,2,   19.61,2,    0.00,2,    1.31,2,   0.556,2,   0.286,2,    0.14,2,  2181.3,2, -999.00,9,   -999.0,9,  -999.00,   7.73107,2,    24.99, -999.00,9, -999.00,9, -999.00,-999.000,9, -999.00,9, -999.00,9,      13.68,2, 20210408,     1924,  11.3055, -52.3339,     2.3135,2,     0.0422,1,     4.6934,1,     -999.0,1,     -999.0,1,     -999.0,9,     -999.0,9
325020210316,        A20,      67,          1,          2,          2,2,20210408,       1901,    11.3054,   -52.3339,       4967,  4368.8,   2.2440,  34.8836,2,  34.8825,3,    260.7,2,   260.6,2,   36.73,2,   19.82,2,    0.00,2,    1.33,2,-999.000,9,-999.000,9, -999.00,9,  -999.0,9, -999.00,9,   -999.0,9,  -999.00,-999.00000,9,  -999.00, -999.00,9, -999.00,9, -999.00,-999.000,9, -999.00,9, -999.00,9,     -999.0,9, 20210408,     1917,  11.3054, -52.3339,     2.2440,2,     0.0421,1,     4.6917,1,     -999.0,1,     -999.0,1,     -999.0,9,     -999.0,9
325020210316,        A20,      67,          1,          3,          3,2,20210408,       1901,    11.3054,   -52.3339,       4967,  4677.2,   2.0617,  34.8578,2,  34.8578,3,    252.0,2,   252.0,2,   49.92,2,   21.89,2,    0.00,2,    1.47,2,   0.382,2,   0.199,2,    0.13,2,  2198.9,2, -999.00,9,   -999.0,9,  -999.00,   7.71415,2,    24.98, -999.00,9, -999.00,9, -999.00,-999.000,9, -999.00,9, -999.00,9,      15.03,2, 20210408,     1911,  11.3055, -52.3339,     2.0620,2,     0.0429,1,     4.6886,1,     -999.0,1,     -999.0,1,     -999.0,9,     -999.0,9