BOTTLE,20230512CCHSIOCBG
EXPOCODE,SECT_ID,STNNBR,CASTNO,SAMPNO,BTLNBR,BTLNBR_FLAG_W,DATE,TIME,LATITUDE,LONGITUDE,DEPTH,CTDPRS,CTDTMP,CTDSAL,CTDSAL_FLAG_W,SALNTY,SALNTY_FLAG_W,CTDOXY,CTDOXY_FLAG_W,OXYGEN,OXYGEN_FLAG_W,SILCAT,SILCAT_FLAG_W,NITRAT,NITRAT_FLAG_W,NITRIT,NITRIT_FLAG_W,PHSPHT,PHSPHT_FLAG_W,CFC-11,CFC-11_FLAG_W,CFC-12,CFC-12_FLAG_W,SF6,SF6_FLAG_W,TCARBN,TCARBN_FLAG_W,ALKALI,ALKALI_FLAG_W,FCO2,FCO2_FLAG_W,FCO2TMP,PH_TOT,PH_TOT_FLAG_W,PH_TMP,DELC13,DELC13_FLAG_W,DELC14,DELC14_FLAG_W,C14ERR,POC,POC_FLAG_W,DOC,DOC_FLAG_W,TDN,TDN_FLAG_W,N2O,N2O_FLAG_W,BTL_DATE,BTL_TIME,BTL_LAT,BTL_LON,REFTMP,REFTMP_FLAG_W,CTDFLUOR,CTDFLUOR_FLAG_W,CTDXMISS,CTDXMISS_FLAG_W,D15N_NO2+NO3,D15N_NO2+NO3_FLAG_W,D18O_NO2+NO3,D18O_NO2+NO3_FLAG_W,HPLC,HPLC_FLAG_W,MICROGELS,MICROGELS_FLAG_W
,,,,,,,,,,,METERS,DBAR,ITS-90,PSS-78,,PSS-78,,UMOL/KG,,UMOL/KG,,UMOL/KG,,UMOL/KG,,UMOL/KG,,UMOL/KG,,PMOL/KG,,PMOL/KG,,FMOL/KG,,UMOL/KG,,UMOL/KG,,UATM,,DEG C,,,DEG C,/MILLE,,/MILLE,,/MILLE,UG/KG,,UMOL/KG,,UMOL/KG,,NMOL/KG,,,,,,ITS-90,,VOLTS,,VOLTS,,/MILLE,,/MILLE,,,,1E6 GELS/L,
325020210316,        A20,      29,          1,         36,         36,2,20210328,       1118,    33.4730,   -52.3319,       5565,     5.4,  20.0262,  36.7088,2,  36.7088,2,    227.0,2,   227.6,2,    0.78,2,    0.00,2,    0.00,2,    0.00,2,-999.000,9,-999.000,9, -999.00,9,  2098.7,6, 2401.41,2,   -999.0,9,  -999.00,   8.02301,2,    25.03, -999.00,9, -999.00,9, -999.00,-999.000,9,   60.75,2,    4.15,2,     -999.0,9, 20210328,     1350,  33.4730, -52.3319,    20.0275,2,     0.0518,1,     4.5811,1,     -999.0,9,     -999.0,9,     -999.0,9,     -999.0,9
325020210316,        A20,      29,          1,         35,         35,2,20210328,       1118,    33.4730,   -52.3319,       5565,    35.6,  19.9525,  36.6997,2,  36.6983,2,    228.0,2,   227.9,2,    0.68,2,    0.00,2,    0.00,2,    0.00,2,   1.739,2,   1.233,2,    1.95,2,  -999.0,9, -999.00,9,   -999.0,9,  -999.00,-999.00000,9,  -999.00, -999.00,9, -999.00,9, -999.00,-999.000,9,   59.57,2,    3.75,2,       7.19,2, 20210328,     1346,  33.4730, -52.3318,    19.9498,2,     0.0681,1,     4.5811,1,     -999.0,9,     -999.0,9,     -999.0,9,     -999.0,9
325020210316,        A20,      29,          1,         34,         34,2,20210328,       1118,    33.4730,   -52.3319,       5565,    61.0,  19.5796,  36.6718,2,  36.6711,2,    226.4,2,   226.1,2,    0.78,2,    0.06,2,    0.05,2,    0.00,2,-999.000,9,-999.000,9, -999.00,9,  2097.5,2, -999.00,9,   -999.0,9,  -999.00,    8.0184,6,    25.02, -999.00,9, -999.00,9, -999.00,-999.000,9,   58.64,2,    4.24,2,     -999.0,9, 20210328,     1345,  33.4730, -52.3319,    19.5799,2,     0.0776,1,     4.6171,1,     -999.0,9,     -999.0,9,     -999.0,9,     -999.0,9
325020210316,        A20,      29,          1,         33,         33,2,20210328,       1118,    33.4730,   -52.3319,       5565,    85.9,  19.5064,  36.6672,2,  36.6667,2,    220.8,2,   221.4,2,    0.88,2,    0.43,2,    0.20,2,    0.00,2,-999.000,9,-999.000,9, -999.00,9,  2100.0,2, 2397.94,6,   -999.0,9,  -999.00,   8.01316,2,    25.01, -999.00,9, -999.00,9, -999.00,-999.000,9,   60.91,2,    4.46,2,     -999.0,9, 20210328,     1343,  33.4730, -52.3318,    19.5050,2,     0.0546,1,     4.6718,1,     -999.0,9,     -999.0,9,     -999.0,9,     -999.0,9
325020210316,        A20,      29,          1,         32,         32,2,20210328,       1118,    33.4730,   -52.3319,       5565,   116.5,  19.4874,  36.6675,2,  36.6669,2,    220.9,2,   221.8,2,    0.88,2,    0.46,2,    0.20,2,    0.00,2,   1.775,2,   1.238,2,    1.96,2,  -999.0,9, -999.00,9,   -999.0,9,  -999.00,-999.00000,9,  -999.00, -999.00,9, -999.00,9, -999.00,-999.000,9,   58.61,2,    4.24,2,       7.30,2, 20210328,     1341,  33.4730, -52.3319,    19.4860,2,     0.0486,1,     4.6770,1,     -999.0,9,     -999.0,9,     -999.0,9,     -999.0,9
325020210316,        A20,      29,          1,         31,         31,2,20210328,       1118,    33.4730,   -52.3319,       5565,   166.5,  19.3589,  36.6516,2,  36.6515,2,    209.9,3,   215.0,2,    0.98,2,    1.37,2,    0.07,2,    0.01,2,-999.000,9,-999.000,9, -999.00,9,  2104.7,2, -999.00,9,   -999.0,9,  -999.00,   8.00221,2,    25.02, -999.00,9, -999.00,9, -999.00,-999.000,9,   57.45,2,    4.85,2,     -999.0,9, 20210328,     1338,  33.4730, -52.3318,    19.3590,2,     0.0430,1,     4.6847,1,     -999.0,9,     -999.0,9,     -999.0,9,     -999.0,9
325020210316,        A20,      29,          1,         30,         30,2,20210328,       1118,    33.4730,   -52.3319,       5565,   216.7,  19.0706,  36.5620,3,  36.6298,2,    211.5,3,   207.7,2,    0.98,2,    2.38,2,    0.01,2,    0.05,2,-999.000,9,-999.000,9, -999.00,9,  -999.0,9, -999.00,9,   -999.0,9,  -999.00,-999.00000,9,  -999.00, -999.00,9, -999.00,9, -999.00,-999.000,9,   53.96,2,    5.87,2,     -999.0,9, 20210328,     1336,  33.4730, -52.3318,    19.0693,2,     0.0390,1,     4.6887,1,     -999.0,9,     -999.0,9,     -999.0,9,     -999.0,9
325020210316,        A20,      29,          1,         29,         29,2,20210328,       1118,    33.4730,   -52.3319,       5565,   267.2,  18.9123,  36.6192,2,  36.6201,2,    207.4,3,   211.9,2,    1.07,2,    2.35,2,    0.00,2,    0.06,2,   1.815,2,   1.262,2,    1.89,2,  2108.7,2, 2392.77,2,   -999.0,9,  -999.00,    7.9903,2,    25.01, -999.00,9, -999.00,9, -999.00,-999.000,9,   54.97,2,    6.94,2,       7.77,2, 20210328,     1333,  33.4730, -52.3318,    18.9114,2,     0.0402,1,     4.6899,1,     -999.0,9,     -999.0,9,     -999.0,9,     -999.0,9
325020210316,        A20,      29,          1,         28,         28,2,20210328,       1118,    33.4730,   -52.3319,       5565,   317.8,  18.6385,  36.5839,2,  36.5874,2,    201.9,2,   201.4,2,    1.37,2,    3.55,2,    0.00,2,    0.12,2,-999.000,9,-999.000,9, -999.00,9,  -999.0,9, -999.00,9,   -999.0,9,  -999.00,-999.00000,9,  -999.00, -999.00,9, -999.00,9, -999.00,-999.000,9,   51.38,2,    7.33,2,     -999.0,9, 20210328,     1331,  33.4730, -52.3318,    18.6423,2,     0.0396,1,     4.6935,1,     -999.0,9,     -999.0,9,     -999.0,9,     -999.0,9
325020210316,        A20,      29,          1,         27,         27,2,20210328,       1118,    33.4730,   -52.3319,       5565,   368.6,  18.2227,  36.5251,2,  36.5248,2,    196.5,2,   196.2,2,    1.66,2,    4.67,2,    0.00,2,    0.19,2,-999.000,9,-999.000,9, -999.00,9,  2124.4,2, -999.00,9,   -999.0,9,  -999.00,   7.95152,2,    25.02, -999.00,9, -999.00,9, -999.00,-999.000,9,   50.85,2,    9.31,2,     -999.0,9, 20210328,     1329,  33.4730, -52.3318,    18.2241,2,     0.0400,1,     4.6947,1,     -999.0,9,     -999.0,9,     -999.0,9,     -999.0,9
325020210316,        A20,      29,          1,         26,         26,2,20210328,       1118,    33.4730,   -52.3319,       5565,   439.7,  17.1746,  36.3433,2,  36.3451,2,    189.9,3,   183.3,2,    2.44,2,    7.41,2,    0.00,2,    0.35,2,   2.150,2,   1.353,2,    1.54,2,  2139.3,2, -999.00,9,   -999.0,9,  -999.00,   7.91131,2,    25.00, -999.00,9, -999.00,9, -999.00,-999.000,9,   50.13,2,   11.14,2,      10.31,2, 20210328,     1325,  33.4730, -52.3318,    17.1798,2,     0.0401,1,     4.6942,1,     -999.0,9,     -999.0,9,     -999.0,9,     -999.0,9
325020210316,        A20,      29,          1,         25,         25,2,20210328,       1118,    33.4730,   -52.3319,       5565,   540.0,  15.7085,  36.1007,2,  36.1017,2,    195.0,2,   195.3,2,    3.12,2,    8.53,2,    0.00,2,    0.45,2,-999.000,9,-999.000,9, -999.00,9,  2140.6,2, 2365.26,2,   -999.0,9,  -999.00,   7.88554,6,    25.01, -999.00,9, -999.00,9, -999.00,-999.000,9,   50.22,2,   10.92,2,     -999.0,9, 20210328,     1323,  33.4730, -52.3319,    15.7056,2,     0.0407,1,     4.6984,1,     -999.0,9,     -999.0,9,     -999.0,9,     -999.0,9
325020210316,        A20,      29,          1,         24,         24,2,20210328,       1118,    33.4730,   -52.3319,       5565,   640.5,  13.8045,  35.7869,2,  35.7906,2,    174.8,2,   176.4,2,    5.47,2,   13.31,2,    0.00,2,    0.76,2,-999.000,9,-999.000,9, -999.00,9,  2161.8,2, -999.00,9,   -999.0,9,  -999.00,   7.81559,2,    25.02, -999.00,9, -999.00,9, -999.00,-999.000,9, -999.00,9, -999.00,9,     -999.0,9, 20210328,     1320,  33.4730, -52.3318,    13.8068,2,     0.0407,1,     4.7006,1,     -999.0,9,     -999.0,9,     -999.0,9,     -999.0,9
325020210316,        A20,      29,          1,         23,         23,2,20210328,       1118,    33.4730,   -52.3319,       5565,   741.9,  11.9168,  35.5378,2,  35.5304,2,    160.4,2,   159.1,2,    8.69,2,   18.24,2,    0.00,2,    1.08,2,   1.943,2,   1.156,2,    0.98,2,  2174.9,2, 2335.19,2,   -999.0,9,  -999.00,    7.7481,2,    25.02, -999.00,9, -999.00,9, -999.00,-999.000,9,   48.90,2,   21.51,2,      16.98,2, 20210328,     1317,  33.4730, -52.3318,    11.9206,2,     0.0427,1,     4.6997,1,     -999.0,9,     -999.0,9,     -999.0,9,     -999.0,9
325020210316,        A20,      29,          1,         22,         22,2,20210328,       1118,    33.4730,   -52.3319,       5565,   842.2,   9.4153,  35.2766,2,  35.2753,2,    158.4,2,   158.9,2,   12.31,2,   21.82,2,    0.00,2,    1.34,2,-999.000,9,-999.000,9, -999.00,9,  2189.3,2, -999.00,9,   -999.0,9,  -999.00,   7.69377,2,    24.99, -999.00,9, -999.00,9, -999.00,-999.000,9, -999.00,9, -999.00,9,     -999.0,9, 20210328,     1314,  33.4730, -52.3318,     9.4170,2,     0.0417,1,     4.7047,1,     -999.0,9,     -999.0,9,     -999.0,9,     -999.0,9
325020210316,        A20,      29,          1,         21,         21,2,20210328,       1118,    33.4730,   -52.3319,       5565,   943.7,   7.8418,  35.1918,2,  35.1904,2,    176.4,2,   177.6,2,   13.28,2,   21.68,2,    0.00,2,    1.35,2,-999.000,9,-999.000,9, -999.00,9,  2188.4,2, -999.00,9,   -999.0,9,  -999.00,   7.68702,2,    25.00, -999.00,9, -999.00,9, -999.00,-999.000,9, -999.00,9, -999.00,9,     -999.0,9, 20210328,     1311,  33.4730, -52.3319,     7.8534,2,     0.0410,1,     4.7056,1,     -999.0,9,     -999.0,9,     -999.0,9,     -999.0,9
325020210316,        A20,      29,          1,         20,         20,2,20210328,       1118,    33.4730,   -52.3319,       5565,  1044.9,   6.9087,  35.1862,2,  35.1853,2,    199.5,2,   200.1,2,   12.70,2,   20.23,2,    0.00,2,    1.27,2,   1.827,2,   1.037,2,    0.74,2,  2185.9,2, 2323.68,2,   -999.0,9,  -999.00,   7.69609,2,    25.08, -999.00,9, -999.00,9, -999.00,-999.000,9,   46.52,2,   22.76,2,      16.06,2, 20210328,     1308,  33.4730, -52.3318,     6.9087,2,     0.0431,1,     4.7057,1,     -999.0,9,     -999.0,9,     -999.0,9,     -999.0,9
325020210316,        A20,      29,          1,         19,         19,2,20210328,       1118,    33.4730,   -52.3319,       5565,  1146.4,   6.0882,  35.1469,2,  35.1463,2,    219.8,2,   220.4,2,   12.21,2,   19.08,2,    0.00,2,    1.19,2,-999.000,9,-999.000,9, -999.00,9,  2180.5,2, -999.00,9,   -999.0,9,  -999.00,   7.70292,2,    25.04, -999.00,9, -999.00,9, -999.00,-999.000,9, -999.00,9, -999.00,9,     -999.0,9, 20210328,     1305,  33.4730, -52.3318,     6.1082,2,     0.0427,1,     4.7051,1,     -999.0,9,     -999.0,9,     -999.0,9,     -999.0,9
325020210316,        A20,      29,          1,         18,         18,2,20210328,       1118,    33.4730,   -52.3319,       5565,  1248.4,   5.5347,  35.1149,2,  35.1140,2,    233.7,2,   234.2,2,   11.82,2,   18.45,2,    0.00,2,    1.15,2,-999.000,9,-999.000,9, -999.00,9,  -999.0,9, -999.00,9,   -999.0,9,  -999.00,-999.00000,9,  -999.00, -999.00,9, -999.00,9, -999.00,-999.000,9, -999.00,9, -999.00,9,     -999.0,9, 20210328,     1301,  33.4730, -52.3319,     5.5345,2,     0.0414,1,     4.7057,1,     -999.0,9,     -999.0,9,     -999.0,9,     -999.0,9
325020210316,        A20,      29,          1,         17,         17,2,20210328,       1118,    33.4730,   -52.3319,       5565,  1348.5,   4.9588,  35.0634,2,  35.0632,2,    245.7,2,   246.5,2,   11.72,2,   18.02,2,    0.00,2,    1.12,2,   2.479,6,   1.453,6,    1.03,6,  2175.1,2, 2314.32,2,   -999.0,9,  -999.00,   7.71143,2,    25.03, -999.00,9, -999.00,9, -999.00,-999.000,9,   48.34,2,   20.98,2,      14.05,6, 20210328,     1259,  33.4730, -52.3318,     4.9596,2,     0.0423,1,     4.7057,1,     -999.0,9,     -999.0,9,     -999.0,9,     -999.0,9
325020210316,        A20,      29,          1,         16,         16,2,20210328,       1118,    33.4730,   -52.3319,       5565,  1480.5,   4.6973,  35.0429,2,  35.0429,2,    252.6,2,   251.5,2,   11.92,2,   17.78,2,    0.00,2,    1.12,2,-999.000,9,-999.000,9, -999.00,9,  -999.0,9, -999.00,9,   -999.0,9,  -999.00,-999.00000,9,  -999.00, -999.00,9, -999.00,9, -999.00,-999.000,9, -999.00,9, -999.00,9,     -999.0,9, 20210328,     1256,  33.4730, -52.3318,     4.6968,2,     0.0420,1,     4.7058,1,     -999.0,9,     -999.0,9,     -999.0,9,     -999.0,9
325020210316,        A20,      29,          1,         15,         15,2,20210328,       1118,    33.4730,   -52.3319,       5565,  1683.5,   4.2461,  35.0070,2,  35.0055,2,    258.5,2,   258.7,2,   12.60,2,   17.58,2,    0.00,2,    1.12,2,-999.000,9,-999.000,9, -999.00,9,  2168.1,2, -999.00,9,   -999.0,9,  -999.00,   7.71717,2,    25.01, -999.00,9, -999.00,9, -999.00,-999.000,9,   46.25,2,   19.67,2,     -999.0,9, 20210328,     1251,  33.4730, -52.3318,     4.2414,2,     0.0425,1,     4.7057,1,     -999.0,9,     -999.0,9,     -999.0,9,     -999.0,9
325020210316,        A20,      29,          1,         14,         14,2,20210328,       1118,    33.4730,   -52.3319,       5565,  1886.5,   4.0818,  35.0099,3,  35.0152,2,    259.4,2,   257.5,2,   13.97,2,   17.71,2,    0.00,2,    1.14,2,-999.000,9,-999.000,9, -999.00,9,  -999.0,9, -999.00,9,   -999.0,9,  -999.00,-999.00000,9,  -999.00, -999.00,9, -999.00,9, -999.00,-999.000,9, -999.00,9, -999.00,9,     -999.0,9, 20210328,     1246,  33.4731, -52.3318,     4.0821,2,     0.0430,1,     4.7064,1,     -999.0,9,     -999.0,9,     -999.0,9,     -999.0,9
325020210316,        A20,      29,          1,         13,         13,2,20210328,       1118,    33.4730,   -52.3319,       5565,  2110.6,   3.7061,  34.9736,2,  34.9734,2,    262.8,2,   261.9,2,   14.85,2,   17.63,2,    0.00,2,    1.14,2,-999.000,9,-999.000,9, -999.00,9,  2165.9,2, 2311.64,2,   -999.0,9,  -999.00,    7.7265,2,    25.03, -999.00,9, -999.00,9, -999.00,-999.000,9,   46.14,2,   21.07,2,     -999.0,9, 20210328,     1240,  33.4730, -52.3318,     3.7055,2,     0.0419,1,     4.7056,1,     -999.0,9,     -999.0,9,     -999.0,9,     -999.0,9
325020210316,        A20,      29,          1,         12,         12,2,20210328,       1118,    33.4730,   -52.3319,       5565,  2365.7,   3.4029,  34.9625,2,  34.9614,2,    260.7,2,   261.9,2,   17.68,2,   17.97,2,    0.00,2,    1.16,2,   1.303,2,   0.719,2,    0.24,2,  -999.0,9, -999.00,9,   -999.0,9,  -999.00,-999.00000,9,  -999.00, -999.00,9, -999.00,9, -999.00,-999.000,9,   46.97,2,   19.65,2,      13.01,2, 20210328,     1235,  33.4731, -52.3318,     3.4029,2,     0.0423,1,     4.7065,1,     -999.0,9,     -999.0,9,     -999.0,9,     -999.0,9
325020210316,        A20,      29,          1,         11,         11,2,20210328,       1118,    33.4730,   -52.3319,       5565,  2619.3,   3.1565,  34.9516,2,  34.9506,2,    261.3,2,   261.7,2,   20.61,2,   18.35,2,    0.00,2,    1.19,2,-999.000,9,-999.000,9, -999.00,9,  -999.0,9, -999.00,9,   -999.0,9,  -999.00,-999.00000,9,  -999.00, -999.00,9, -999.00,9, -999.00,-999.000,9, -999.00,9, -999.00,9,     -999.0,9, 20210328,     1230,  33.4730, -52.3318,     3.1557,2,     0.0423,1,     4.7062,1,     -999.0,9,     -999.0,9,     -999.0,9,     -999.0,9
325020210316,        A20,      29,          1,         10,         10,2,20210328,       1118,    33.4730,   -52.3319,       5565,  2875.8,   2.9738,  34.9411,2,  34.9406,2,    260.4,2,   262.3,2,   22.47,2,   18.48,2,    0.00,2,    1.20,2,-999.000,9,-999.000,9, -999.00,9,  -999.0,9, -999.00,9,   -999.0,9,  -999.00,-999.00000,9,  -999.00, -999.00,9, -999.00,9, -999.00,-999.000,9,   44.26,2,   20.96,2,     -999.0,9, 20210328,     1224,  33.4731, -52.3318,     2.9722,2,     0.0424,1,     4.7068,1,     -999.0,9,     -999.0,9,     -999.0,9,     -999.0,9
325020210316,        A20,      29,          1,          9,          9,2,20210328,       1118,    33.4730,   -52.3319,       5565,  3146.6,   2.7855,  34.9314,2,  34.9309,2,    262.0,2,   261.8,2,   25.50,2,   18.76,2,    0.00,2,    1.22,2,   0.815,2,   0.313,2,    0.11,2,  2171.3,2, 2321.01,2,   -999.0,9,  -999.00,   7.73984,6,    25.02, -999.00,9, -999.00,9, -999.00,-999.000,9,   42.77,2,   19.50,2,      12.83,2, 20210328,     1218,  33.4731, -52.3318,     2.7851,2,     0.0429,1,     4.7070,1,     -999.0,9,     -999.0,9,     -999.0,9,     -999.0,9
325020210316,        A20,      29,          1,          8,          8,2,20210328,       1118,    33.4730,   -52.3319,       5565,  3452.8,   2.5813,  34.9163,2,  34.9150,2,    265.0,2,   264.9,2,   26.28,2,   18.53,2,    0.00,2,    1.22,2,-999.000,9,-999.000,9, -999.00,9,  -999.0,9, -999.00,9,   -999.0,9,  -999.00,-999.00000,9,  -999.00, -999.00,9, -999.00,9, -999.00,-999.000,9,   43.96,2,   22.04,2,     -999.0,9, 20210328,     1211,  33.4731, -52.3318,     2.5806,2,     0.0430,1,     4.7071,1,     -999.0,9,     -999.0,9,     -999.0,9,     -999.0,9
325020210316,        A20,      29,          1,          7,          7,2,20210328,       1118,    33.4730,   -52.3319,       5565,  3760.0,   2.4481,  34.9058,2,  34.9050,2,    266.3,2,   265.6,2,   28.13,2,   18.67,2,    0.00,2,    1.24,2,   0.720,2,   0.392,2,    0.17,2,  2173.4,2, 2322.59,2,   -999.0,9,  -999.00,    7.7365,2,    25.02, -999.00,9, -999.00,9, -999.00,-999.000,9, -999.00,9, -999.00,9,      12.78,2, 20210328,     1205,  33.4731, -52.3318,     2.4478,2,     0.0429,1,     4.7069,1,     -999.0,9,     -999.0,9,     -999.0,9,     -999.0,9
325020210316,        A20,      29,          1,          6,          6,2,20210328,       1118,    33.4730,   -52.3319,       5565,  4066.3,   2.3208,  34.8943,2,  34.8930,2,    263.7,2,   264.2,2,   31.94,2,   19.06,2,    0.00,2,    1.26,2,-999.000,9,-999.000,9, -999.00,9,  -999.0,9, -999.00,9,   -999.0,9,  -999.00,-999.00000,9,  -999.00, -999.00,9, -999.00,9, -999.00,-999.000,9,   44.28,2,   20.68,2,     -999.0,9, 20210328,     1159,  33.4731, -52.3318,     2.3207,2,     0.0429,1,     4.7057,1,     -999.0,9,     -999.0,9,     -999.0,9,     -999.0,9
325020210316,        A20,      29,          1,          5,          5,2,20210328,       1118,    33.4730,   -52.3319,       5565,  4374.8,   2.2723,  34.8873,2,  34.8863,2,    262.5,2,   262.7,2,   34.88,2,   19.48,2,    0.00,2,    1.30,2,-999.000,9,-999.000,9, -999.00,9,  2180.3,2, -999.00,9,   -999.0,9,  -999.00,   7.73151,6,    25.02, -999.00,9, -999.00,9, -999.00,-999.000,9,   43.24,2,   21.19,2,     -999.0,9, 20210328,     1152,  33.4731, -52.3318,     2.2723,2,     0.0418,1,     4.7042,1,     -999.0,9,     -999.0,9,     -999.0,9,     -999.0,9
325020210316,        A20,      29,          1,          4,          4,2,20210328,       1118,    33.4730,   -52.3319,       5565,  4720.0,   2.2142,  34.8771,2,  34.8757,2,    258.5,2,   258.8,2,   40.15,2,   20.29,2,    0.00,2,    1.37,2,   0.566,2,   0.306,2,    0.14,2,  -999.0,9, -999.00,9,   -999.0,9,  -999.00,-999.00000,9,  -999.00, -999.00,9, -999.00,9, -999.00,-999.000,9,   43.18,2,   21.26,2,      13.53,2, 20210328,     1145,  33.4731, -52.3318,     2.2142,2,     0.0429,1,     4.6960,1,     -999.0,9,     -999.0,9,     -999.0,9,     -999.0,9
325020210316,        A20,      29,          1,          3,          3,2,20210328,       1118,    33.4730,   -52.3319,       5565,  5130.7,   2.1954,  34.8690,2,  34.8690,2,    256.1,2,   255.7,2,   45.04,2,   21.11,2,    0.00,2,    1.43,2,-999.000,9,-999.000,9, -999.00,9,  -999.0,9, -999.00,9,   -999.0,9,  -999.00,-999.00000,9,  -999.00, -999.00,9, -999.00,9, -999.00,-999.000,9,   42.95,2,   23.40,2,     -999.0,9, 20210328,     1137,  33.4731, -52.3318,     2.1956,2,     0.0429,1,     4.6923,1,     -999.0,9,     -999.0,9,     -999.0,9,     -999.0,9