BOTTLE,20230512CCHSIOCBG
EXPOCODE,SECT_ID,STNNBR,CASTNO,SAMPNO,BTLNBR,BTLNBR_FLAG_W,DATE,TIME,LATITUDE,LONGITUDE,DEPTH,CTDPRS,CTDTMP,CTDSAL,CTDSAL_FLAG_W,SALNTY,SALNTY_FLAG_W,CTDOXY,CTDOXY_FLAG_W,OXYGEN,OXYGEN_FLAG_W,SILCAT,SILCAT_FLAG_W,NITRAT,NITRAT_FLAG_W,NITRIT,NITRIT_FLAG_W,PHSPHT,PHSPHT_FLAG_W,CFC-11,CFC-11_FLAG_W,CFC-12,CFC-12_FLAG_W,SF6,SF6_FLAG_W,TCARBN,TCARBN_FLAG_W,ALKALI,ALKALI_FLAG_W,FCO2,FCO2_FLAG_W,FCO2TMP,PH_TOT,PH_TOT_FLAG_W,PH_TMP,DELC13,DELC13_FLAG_W,DELC14,DELC14_FLAG_W,C14ERR,POC,POC_FLAG_W,DOC,DOC_FLAG_W,TDN,TDN_FLAG_W,N2O,N2O_FLAG_W,BTL_DATE,BTL_TIME,BTL_LAT,BTL_LON,REFTMP,REFTMP_FLAG_W,CTDFLUOR,CTDFLUOR_FLAG_W,CTDXMISS,CTDXMISS_FLAG_W,D15N_NO2+NO3,D15N_NO2+NO3_FLAG_W,D18O_NO2+NO3,D18O_NO2+NO3_FLAG_W,HPLC,HPLC_FLAG_W,MICROGELS,MICROGELS_FLAG_W
,,,,,,,,,,,METERS,DBAR,ITS-90,PSS-78,,PSS-78,,UMOL/KG,,UMOL/KG,,UMOL/KG,,UMOL/KG,,UMOL/KG,,UMOL/KG,,PMOL/KG,,PMOL/KG,,FMOL/KG,,UMOL/KG,,UMOL/KG,,UATM,,DEG C,,,DEG C,/MILLE,,/MILLE,,/MILLE,UG/KG,,UMOL/KG,,UMOL/KG,,NMOL/KG,,,,,,ITS-90,,VOLTS,,VOLTS,,/MILLE,,/MILLE,,,,1E6 GELS/L,
325020210316,        A20,      74,          1,         36,         36,2,20210410,       1431,     8.9798,   -52.3335,       4688,     5.6,  27.6089,  36.2655,2,  36.2675,2,    198.9,2,   198.4,2,    0.88,2,    0.00,2,    0.00,2,    0.01,2,   1.451,2,   0.931,2,    1.51,2,  2050.9,6,  2374.4,2,    307.7,2,    20.00,   8.08292,2,    25.00, -999.00,5,   28.91,2,    2.20,-999.000,9,   71.61,2,    6.07,2,       5.82,2, 20210410,     1645,   8.9798, -52.3335,    27.6092,2,     0.0437,1,     4.6288,1,     -999.0,9,     -999.0,9,     -999.0,9,     -999.0,9
325020210316,        A20,      74,          1,         35,         35,2,20210410,       1431,     8.9798,   -52.3335,       4688,    25.3,  27.5557,  36.2742,2,  36.2752,2,    198.7,2,   198.7,2,    0.68,2,    0.00,2,    0.00,2,    0.01,2,-999.000,9,-999.000,9, -999.00,9,  2050.8,2, 2375.22,2,    308.1,2,    20.00,   8.08394,2,    25.00, -999.00,9, -999.00,9, -999.00,-999.000,9,   71.99,2,    5.00,2,     -999.0,9, 20210410,     1643,   8.9798, -52.3335,    27.5525,2,     0.0449,1,     4.6256,1,     -999.0,9,     -999.0,9,     -999.0,9,     -999.0,9
325020210316,        A20,      74,          1,         34,         34,2,20210410,       1431,     8.9798,   -52.3335,       4688,    50.2,  27.5088,  36.2801,2,  36.2810,2,    198.9,2,   198.8,2,    0.68,2,    0.00,2,    0.00,2,    0.01,2,   1.422,2,   0.926,2,    1.50,2,  2051.3,2, 2375.27,2,   -999.0,9,  -999.00,   8.08409,2,    24.99, -999.00,9, -999.00,9, -999.00,-999.000,9,   69.77,2,    3.04,2,       5.62,2, 20210410,     1641,   8.9798, -52.3335,    27.5036,2,     0.0522,1,     4.6263,1,     -999.0,9,     -999.0,9,     -999.0,9,     -999.0,9
325020210316,        A20,      74,          1,         33,         33,2,20210410,       1431,     8.9798,   -52.3335,       4688,    76.3,  27.4375,  36.2761,2,  36.2772,2,    198.2,2,   198.6,2,    0.68,2,    0.00,2,    0.00,2,    0.00,2,-999.000,9,-999.000,9, -999.00,9,  2052.2,2, 2376.11,2,    309.2,2,    20.00,   8.08231,2,    24.97, -999.00,9, -999.00,9, -999.00,-999.000,9,   69.98,2,    4.31,2,     -999.0,9, 20210410,     1639,   8.9798, -52.3335,    27.4361,2,     0.0616,1,     4.6286,1,     -999.0,9,     -999.0,9,     -999.0,9,     -999.0,9
325020210316,        A20,      74,          1,         32,         32,2,20210410,       1431,     8.9798,   -52.3335,       4688,   101.9,  26.7082,  36.4723,2,  36.4634,2,    187.2,3,   190.0,2,    0.68,2,    0.00,2,    0.07,2,    0.07,2,   1.522,2,   0.971,2,    1.55,2,  2079.9,2, 2388.31,2,    339.7,2,    20.00,    8.0516,2,    25.00, -999.00,9, -999.00,9, -999.00,-999.000,9,   67.18,2,    4.36,2,       6.22,2, 20210410,     1637,   8.9798, -52.3335,    26.7048,2,     0.1148,1,     4.6130,1,     -999.0,9,     -999.0,9,     -999.0,9,     -999.0,9
325020210316,        A20,      74,          1,         31,         31,2,20210410,       1431,     8.9798,   -52.3335,       4688,   151.2,  22.4858,  36.4426,2,  36.4441,2,    173.6,3,   175.8,2,    1.66,2,    4.12,2,    0.03,2,    0.36,2,   1.860,2,   1.151,2,    1.50,2,  2131.1,2, 2390.38,2,   -999.0,9,  -999.00,   7.96706,2,    24.98,    0.87,2,   29.93,2,    2.54,-999.000,9,   60.30,2,    7.97,2,       8.91,2, 20210410,     1634,   8.9798, -52.3335,    22.4931,2,     0.0608,1,     4.6632,1,     -999.0,9,     -999.0,9,     -999.0,9,     -999.0,9
325020210316,        A20,      74,          1,         30,         30,2,20210410,       1431,     8.9798,   -52.3335,       4688,   202.3,  15.2238,  35.8299,2,  35.8341,2,    121.2,3,   123.9,2,    6.24,2,   17.62,2,    0.00,2,    1.04,2,-999.000,9,-999.000,9, -999.00,9,  2198.8,2,  2347.9,2,    733.3,2,    20.00,     7.748,2,    24.97, -999.00,5,   30.64,2,    3.19,-999.000,9,   47.50,2,   20.02,2,     -999.0,9, 20210410,     1632,   8.9798, -52.3335,    15.0961,3,     0.0417,1,     4.6744,1,     -999.0,9,     -999.0,9,     -999.0,9,     -999.0,9
325020210316,        A20,      74,          1,         29,         29,2,20210410,       1431,     8.9798,   -52.3335,       4688,   251.2,  11.9670,  35.2569,2,  35.2418,2,    134.9,2,   135.9,2,    9.27,2,   21.48,2,    0.00,2,    1.36,2,   2.337,2,   1.318,2,    1.02,2,  2195.9,2, 2318.92,2,    843.6,2,    20.00,    7.6843,2,    24.98,    0.41,4,   15.26,2,    2.12,-999.000,9,   47.90,2,   24.84,2,      23.39,2, 20210410,     1629,   8.9798, -52.3335,    11.9314,2,     0.0416,1,     4.6751,1,     -999.0,9,     -999.0,9,     -999.0,9,     -999.0,9
325020210316,        A20,      74,          1,         28,         28,2,20210410,       1431,     8.9798,   -52.3335,       4688,   301.2,  10.4556,  35.0673,2,  35.0630,2,    117.3,2,   117.9,2,   12.19,2,   26.10,2,    0.00,2,    1.63,2,-999.000,9,-999.000,9, -999.00,9,  2211.1,2, 2310.82,2,   -999.0,9,  -999.00,   7.61124,2,    24.99, -999.00,5,    6.49,2,    2.64,-999.000,9,   44.77,2,   29.36,2,     -999.0,9, 20210410,     1625,   8.9798, -52.3335,    10.4280,2,     0.0418,1,     4.6711,1,     -999.0,9,     -999.0,9,     -999.0,9,     -999.0,9
325020210316,        A20,      74,          1,         27,         27,2,20210410,       1431,     8.9798,   -52.3335,       4688,   352.7,   9.6884,  34.9504,2,  34.9274,3,    120.2,3,   121.4,2,   13.66,2,   27.50,2,    0.00,2,    1.74,2,   1.969,2,   1.060,2,    0.62,2,  2213.4,2, 2306.59,2,   1039.0,2,    20.00,   7.59506,2,    24.99, -999.00,5,   -4.68,2,    1.96,-999.000,9,   44.97,2,   32.14,2,      26.85,2, 20210410,     1623,   8.9798, -52.3335,     9.6848,2,     0.0431,1,     4.6721,1,     -999.0,9,     -999.0,9,     -999.0,9,     -999.0,9
325020210316,        A20,      74,          1,         26,         26,2,20210410,       1431,     8.9798,   -52.3335,       4688,   403.0,   8.9088,  34.8389,2,  34.8405,2,    120.9,2,   121.5,2,   15.22,2,   29.08,2,    0.00,2,    1.83,2,-999.000,9,-999.000,9, -999.00,9,  2215.8,2, 2300.86,2,   1085.2,2,    20.00,    7.5761,2,    24.97,    0.44,2,  -12.33,2,    2.38,-999.000,9,   44.77,2,   30.93,2,     -999.0,9, 20210410,     1620,   8.9798, -52.3335,     8.9081,2,     0.0431,1,     4.6737,1,     -999.0,9,     -999.0,9,     -999.0,9,     -999.0,9
325020210316,        A20,      74,          1,         25,         25,2,20210410,       1431,     8.9798,   -52.3335,       4688,   453.5,   8.3600,  34.7751,2,  34.7744,2,    120.0,2,   119.6,2,   16.59,2,   30.34,2,    0.00,2,    1.92,2,   1.700,2,   0.878,2,    0.48,2,  2220.1,2, 2298.95,6,   1126.9,2,    20.00,   7.55845,2,    24.99,    0.59,2,  -21.44,2,    1.93,-999.000,9,   43.34,2,   32.14,2,      26.65,2, 20210410,     1617,   8.9798, -52.3335,     8.3589,2,     0.0429,1,     4.6731,1,     -999.0,9,     -999.0,9,     -999.0,9,     -999.0,9
325020210316,        A20,      74,          1,         24,         24,2,20210410,       1431,     8.9798,   -52.3335,       4688,   503.1,   7.9294,  34.7463,2,  34.7455,2,    119.5,2,   119.0,2,   18.05,2,   31.44,2,    0.00,2,    1.99,2,-999.000,9,-999.000,9, -999.00,9,  2221.7,6, 2299.14,2,   1158.2,2,    20.00,   7.54774,2,    24.99,    0.60,2,  -31.01,2,    1.92,-999.000,9,   44.83,2,   34.88,2,     -999.0,9, 20210410,     1616,   8.9798, -52.3335,     7.9271,2,     0.0430,1,     4.6761,1,     -999.0,9,     -999.0,9,     -999.0,9,     -999.0,9
325020210316,        A20,      74,          1,         23,         23,2,20210410,       1431,     8.9798,   -52.3335,       4688,   604.6,   7.1655,  34.6852,2,  34.6846,2,    112.9,2,   112.0,2,   20.78,2,   33.68,2,    0.00,2,    2.16,2,   0.987,2,   0.509,2,    0.25,2,  2231.4,3, 2296.77,2,   -999.0,9,  -999.00,   7.51744,6,    24.99,    0.23,4,  -63.83,4,    1.87,-999.000,9, -999.00,9, -999.00,9,      27.04,2, 20210410,     1613,   8.9798, -52.3335,     7.1661,2,     0.0432,1,     4.6791,1,     -999.0,9,     -999.0,9,     -999.0,9,     -999.0,9
325020210316,        A20,      74,          1,         22,         22,2,20210410,       1431,     8.9798,   -52.3335,       4688,   704.2,   6.4391,  34.6303,2,  34.6295,2,    124.2,2,   123.8,2,   23.32,2,   33.97,2,    0.00,2,    2.20,2,-999.000,9,-999.000,9, -999.00,9,  2227.1,2, 2296.35,2,   1217.0,2,    20.00,   7.52418,2,    24.98,    0.58,2,  -67.75,2,    1.95,-999.000,9,   43.34,2,   38.81,2,     -999.0,9, 20210410,     1609,   8.9798, -52.3335,     6.4362,2,     0.0432,1,     4.6791,1,     -999.0,9,     -999.0,9,     -999.0,9,     -999.0,9
325020210316,        A20,      74,          1,         21,         21,2,20210410,       1431,     8.9798,   -52.3335,       4688,   807.2,   5.7923,  34.6013,2,  34.6007,2,    127.5,2,   127.4,2,   25.96,2,   34.50,2,    0.00,2,    2.26,2,   0.493,2,   0.252,2,    0.10,2,  2231.0,2, 2298.54,2,   1231.5,2,    20.00,   7.52017,2,    24.98,    0.75,2,  -82.38,2,    1.83,-999.000,9, -999.00,9, -999.00,9,      25.24,2, 20210410,     1607,   8.9798, -52.3335,     5.7934,2,     0.0428,1,     4.6787,1,     -999.0,9,     -999.0,9,     -999.0,9,     -999.0,9
325020210316,        A20,      74,          1,         20,         20,2,20210410,       1431,     8.9798,   -52.3335,       4688,   907.7,   5.4140,  34.6272,2,  34.6260,2,    133.7,2,   133.6,2,   27.52,2,   34.08,2,    0.00,2,    2.24,2,-999.000,9,-999.000,9, -999.00,9,  2229.8,2, 2301.03,2,   1197.9,6,    20.00,   7.53132,2,    24.98,    0.80,2,  -90.02,2,    1.93,-999.000,9, -999.00,9, -999.00,9,     -999.0,9, 20210410,     1604,   8.9798, -52.3335,     5.4140,2,     0.0435,1,     4.6815,1,     -999.0,9,     -999.0,9,     -999.0,9,     -999.0,9
325020210316,        A20,      74,          1,         19,         19,2,20210410,       1431,     8.9798,   -52.3335,       4688,  1008.7,   5.0591,  34.6573,2,  34.6553,2,    143.8,2,   144.1,2,   28.39,2,   33.14,2,    0.00,2,    2.20,2,   0.189,2,   0.098,2,    0.00,2,  2228.7,2, 2305.09,2,   -999.0,9,  -999.00,   7.54818,2,    25.00,    0.82,2, -102.95,2,    1.80,-999.000,9,   43.61,2,   36.55,2,      22.87,2, 20210410,     1601,   8.9798, -52.3335,     5.0611,2,     0.0424,1,     4.6814,1,     -999.0,9,     -999.0,9,     -999.0,9,     -999.0,9
325020210316,        A20,      74,          1,         18,         18,2,20210410,       1431,     8.9798,   -52.3335,       4688,  1111.6,   5.0940,  34.7760,2,  34.7746,2,    157.4,2,   157.8,2,   25.95,2,   30.35,2,    0.00,2,    2.01,2,   0.207,2,   0.108,2,    0.11,2,  2220.0,2,  2309.1,2,   1054.5,2,    20.00,   7.58605,2,    24.98,    0.66,3, -102.49,2,    1.98,-999.000,9, -999.00,9, -999.00,9,      22.01,2, 20210410,     1558,   8.9798, -52.3335,     5.0941,2,     0.0423,1,     4.6812,1,     -999.0,9,     -999.0,9,     -999.0,9,     -999.0,9
325020210316,        A20,      74,          1,         17,         17,2,20210410,       1431,     8.9798,   -52.3335,       4688,  1212.3,   4.9893,  34.8672,2,  34.8633,2,    176.6,2,   176.6,2,   23.32,2,   27.41,2,    0.00,2,    1.82,2,-999.000,9,-999.000,9, -999.00,9,  2207.8,2, 2312.03,2,    962.1,2,    20.00,   7.62383,2,    25.00,    0.60,6, -102.85,6,    1.87,-999.000,9, -999.00,9, -999.00,9,     -999.0,9, 20210410,     1555,   8.9798, -52.3335,     4.9887,2,     0.0423,1,     4.6838,1,     -999.0,9,     -999.0,9,     -999.0,9,     -999.0,9
325020210316,        A20,      74,          1,         16,         16,2,20210410,       1431,     8.9798,   -52.3335,       4688,  1310.1,   5.0435,  34.9627,2,  34.9437,3,    202.6,3,   197.7,2,   19.80,2,   24.12,2,    0.00,2,    1.59,2,   0.742,2,   0.382,2,    0.22,2,  2196.6,2, 2314.24,2,   -999.0,9,  -999.00,   7.66081,2,    24.99,    0.95,2,  -72.22,2,    2.06,-999.000,9,   45.66,2,   27.52,2,      17.66,2, 20210410,     1552,   8.9798, -52.3335,     5.0428,2,     0.0429,1,     4.6835,1,     -999.0,9,     -999.0,9,     -999.0,9,     -999.0,9
325020210316,        A20,      74,          1,         15,         15,2,20210410,       1431,     8.9798,   -52.3335,       4688,  1412.8,   4.7292,  34.9468,2,  34.9467,2,    208.1,2,   208.5,2,   19.32,2,   23.25,2,    0.00,2,    1.53,2,-999.000,9,-999.000,9, -999.00,9,  2192.9,2, 2312.05,2,    855.0,2,    20.00,   7.67524,2,    24.99,    0.96,2,  -73.56,2,    2.19,-999.000,9, -999.00,9, -999.00,9,     -999.0,9, 20210410,     1549,   8.9798, -52.3335,     4.7287,2,     0.0424,1,     4.6831,1,     -999.0,9,     -999.0,9,     -999.0,9,     -999.0,9
325020210316,        A20,      74,          1,         14,         14,2,20210410,       1431,     8.9798,   -52.3335,       4688,  1512.7,   4.6720,  34.9817,2,  34.9831,2,    223.2,2,   223.0,2,   17.07,2,   21.31,2,    0.00,2,    1.39,2,   1.092,2,   0.546,2,    0.28,2,  2184.8,2, 2313.55,2,   -999.0,9,  -999.00,   7.69441,2,    25.00,    1.00,2,  -55.72,2,    1.98,-999.000,9, -999.00,9, -999.00,9,      15.19,2, 20210410,     1545,   8.9798, -52.3335,     4.6728,2,     0.0423,1,     4.6848,1,     -999.0,9,     -999.0,9,     -999.0,9,     -999.0,9
325020210316,        A20,      74,          1,         13,         13,2,20210410,       1431,     8.9798,   -52.3335,       4688,  1615.1,   4.5282,  35.0052,2,  35.0049,2,    241.4,2,   240.8,2,   14.63,2,   19.20,2,    0.00,2,    1.25,2,   1.695,2,   0.845,2,    0.44,2,  2178.0,2, 2312.58,2,    781.0,2,    20.00,   7.71127,2,    25.01,    0.88,2,  -43.48,2,    1.90,-999.000,9,   44.30,2,   22.48,2,      14.41,2, 20210410,     1542,   8.9798, -52.3335,     4.5276,2,     0.0424,1,     4.6849,1,     -999.0,9,     -999.0,9,     -999.0,9,     -999.0,9
325020210316,        A20,      74,          1,         12,         12,2,20210410,       1431,     8.9798,   -52.3335,       4688,  1819.2,   4.1071,  34.9929,2,  34.9931,2,    255.1,2,   254.7,2,   13.85,2,   18.21,2,    0.00,2,    1.18,2,-999.000,9,-999.000,9, -999.00,9,  2170.3,2, 2310.53,6,   -999.0,9,  -999.00,   7.71824,2,    24.99,    1.06,2,  -35.37,2,    1.91,-999.000,9, -999.00,9, -999.00,9,     -999.0,9, 20210410,     1538,   8.9798, -52.3335,     4.1096,2,     0.0422,1,     4.6899,1,     -999.0,9,     -999.0,9,     -999.0,9,     -999.0,9
325020210316,        A20,      74,          1,         11,         11,2,20210410,       1431,     8.9798,   -52.3335,       4688,  2020.5,   3.7382,  34.9751,2,  34.9748,2,    256.6,2,   256.5,2,   16.00,2,   18.42,2,    0.00,2,    1.20,2,   1.219,2,   0.593,2,    0.28,2,  2169.2,6, 2312.15,2,    747.0,2,    20.00,   7.73043,2,    24.99,    1.08,2,  -52.25,2,    1.91,-999.000,9,   45.56,2,   22.55,2,      13.77,2, 20210410,     1532,   8.9798, -52.3335,     3.7375,2,     0.0429,1,     4.6876,1,     -999.0,9,     -999.0,9,     -999.0,9,     -999.0,9
325020210316,        A20,      74,          1,         10,         10,2,20210410,       1431,     8.9798,   -52.3335,       4688,  2275.9,   3.4289,  34.9620,2,  34.9622,2,    260.2,2,   260.4,2,   17.75,2,   18.21,2,    0.00,2,    1.20,2,-999.000,9,-999.000,9, -999.00,9,  2171.5,2, 2313.12,2,   -999.0,9,  -999.00,   7.73297,6,    24.99,    1.15,2,  -58.76,2,    1.87,-999.000,9, -999.00,9, -999.00,9,     -999.0,9, 20210410,     1527,   8.9798, -52.3335,     3.4293,2,     0.0424,1,     4.6845,1,     -999.0,9,     -999.0,9,     -999.0,9,     -999.0,9
325020210316,        A20,      74,          1,          9,          9,2,20210410,       1431,     8.9798,   -52.3335,       4688,  2528.3,   3.2157,  34.9524,2,  34.9518,2,    260.9,2,   261.0,2,   19.61,2,   18.35,2,    0.00,2,    1.20,2,   0.993,2,   0.465,2,    0.22,2,  2172.5,2, 2314.92,2,    738.7,2,    20.00,   7.73465,2,    24.98,    1.12,2,  -55.56,2,    2.19,-999.000,9,   44.16,2,   19.46,2,      13.11,2, 20210410,     1521,   8.9798, -52.3335,     3.2153,2,     0.0428,1,     4.6877,1,     -999.0,9,     -999.0,9,     -999.0,9,     -999.0,9
325020210316,        A20,      74,          1,          8,          8,2,20210410,       1431,     8.9798,   -52.3335,       4688,  2784.2,   3.0411,  34.9430,2,  34.9435,2,    261.4,2,   261.5,2,   21.36,2,   18.40,2,    0.00,2,    1.21,2,-999.000,9,-999.000,9, -999.00,9,  2174.0,2, 2316.45,2,   -999.0,9,  -999.00,   7.73495,2,    25.00,    1.13,2,  -66.08,2,    1.92,-999.000,9, -999.00,9, -999.00,9,     -999.0,9, 20210410,     1516,   8.9798, -52.3335,     3.0414,2,     0.0430,1,     4.6871,1,     -999.0,9,     -999.0,9,     -999.0,9,     -999.0,9
325020210316,        A20,      74,          1,          7,          7,2,20210410,       1431,     8.9798,   -52.3335,       4688,  3038.2,   2.8632,  34.9330,2,  34.9341,2,    259.6,2,   259.8,2,   24.97,2,   18.89,2,    0.00,2,    1.25,2,   0.633,2,   0.308,2,    0.15,2,  2176.1,2, 2320.85,2,    737.7,2,    20.00,   7.73644,2,    24.98,    1.14,2,  -78.06,2,    1.96,-999.000,9,   43.70,2,   22.65,2,      13.49,2, 20210410,     1510,   8.9798, -52.3335,     2.8632,2,     0.0424,1,     4.6874,1,     -999.0,9,     -999.0,9,     -999.0,9,     -999.0,9
325020210316,        A20,      74,          1,          6,          6,2,20210410,       1431,     8.9798,   -52.3335,       4688,  3344.7,   2.6826,  34.9207,2,  34.9201,2,    259.0,2,   259.3,2,   28.49,2,   19.33,2,    0.00,2,    1.28,2,-999.000,9,-999.000,9, -999.00,9,  2178.6,2, 2310.52,2,    740.6,2,    20.00,   7.73535,2,    24.98,    1.11,2,  -85.32,2,    2.14,-999.000,9,   44.19,2,   22.01,2,     -999.0,9, 20210410,     1503,   8.9798, -52.3335,     2.6828,2,     0.0419,1,     4.6888,1,     -999.0,9,     -999.0,9,     -999.0,9,     -999.0,9
325020210316,        A20,      74,          1,          5,          5,2,20210410,       1431,     8.9798,   -52.3335,       4688,  3651.5,   2.5069,  34.9074,2,  34.9067,2,    259.1,2,   259.0,2,   31.70,2,   19.57,2,    0.00,2,    1.30,2,   0.529,2,   0.263,2,    0.14,2,  2180.7,2, 2055.41,4,   -999.0,9,  -999.00,   7.73477,2,    24.97,    1.10,2,  -87.57,2,    2.55,-999.000,9, -999.00,9, -999.00,9,      13.32,2, 20210410,     1457,   8.9798, -52.3335,     2.5069,2,     0.0423,1,     4.6900,1,     -999.0,9,     -999.0,9,     -999.0,9,     -999.0,9
325020210316,        A20,      74,          1,          2,          2,2,20210410,       1431,     8.9798,   -52.3335,       4688,  3958.6,   2.3635,  34.8971,2,  34.8975,2,    264.7,2,   264.6,2,   30.05,2,   18.80,2,    0.00,2,    1.26,2,-999.000,9,-999.000,9, -999.00,9,  2178.8,2, 2323.83,2,    745.7,2,    20.00,   7.73321,6,    24.97,    1.05,2,  -95.24,2,    2.34,-999.000,9,   43.46,2,   22.50,2,     -999.0,9, 20210410,     1450,   8.9798, -52.3335,     2.3636,2,     0.0428,1,     4.6899,1,     -999.0,9,     -999.0,9,     -999.0,9,     -999.0,9
325020210316,        A20,      74,          1,          3,          3,2,20210410,       1431,     8.9798,   -52.3335,       4688,  4265.9,   2.2511,  34.8862,2,  34.8871,2,    262.5,2,   262.4,2,   34.53,2,   19.46,2,    0.00,2,    1.30,2,   0.748,2,   0.375,2,    0.22,2,  2185.5,2, 2327.53,6,   -999.0,9,  -999.00,   7.72943,2,    24.99,    1.08,2,  -79.61,2,    1.84,-999.000,9,   42.60,2,   22.58,2,      13.52,2, 20210410,     1443,   8.9798, -52.3335,     2.2512,2,     0.0428,1,     4.6899,1,     -999.0,9,     -999.0,9,     -999.0,9,     -999.0,9