BOTTLE,20230512CCHSIOCBG
EXPOCODE,SECT_ID,STNNBR,CASTNO,SAMPNO,BTLNBR,BTLNBR_FLAG_W,DATE,TIME,LATITUDE,LONGITUDE,DEPTH,CTDPRS,CTDTMP,CTDSAL,CTDSAL_FLAG_W,SALNTY,SALNTY_FLAG_W,CTDOXY,CTDOXY_FLAG_W,OXYGEN,OXYGEN_FLAG_W,SILCAT,SILCAT_FLAG_W,NITRAT,NITRAT_FLAG_W,NITRIT,NITRIT_FLAG_W,PHSPHT,PHSPHT_FLAG_W,CFC-11,CFC-11_FLAG_W,CFC-12,CFC-12_FLAG_W,SF6,SF6_FLAG_W,TCARBN,TCARBN_FLAG_W,ALKALI,ALKALI_FLAG_W,FCO2,FCO2_FLAG_W,FCO2TMP,PH_TOT,PH_TOT_FLAG_W,PH_TMP,DELC13,DELC13_FLAG_W,DELC14,DELC14_FLAG_W,C14ERR,POC,POC_FLAG_W,DOC,DOC_FLAG_W,TDN,TDN_FLAG_W,N2O,N2O_FLAG_W,BTL_DATE,BTL_TIME,BTL_LAT,BTL_LON,REFTMP,REFTMP_FLAG_W,CTDFLUOR,CTDFLUOR_FLAG_W,CTDXMISS,CTDXMISS_FLAG_W,D15N_NO2+NO3,D15N_NO2+NO3_FLAG_W,D18O_NO2+NO3,D18O_NO2+NO3_FLAG_W,HPLC,HPLC_FLAG_W,MICROGELS,MICROGELS_FLAG_W
,,,,,,,,,,,METERS,DBAR,ITS-90,PSS-78,,PSS-78,,UMOL/KG,,UMOL/KG,,UMOL/KG,,UMOL/KG,,UMOL/KG,,UMOL/KG,,PMOL/KG,,PMOL/KG,,FMOL/KG,,UMOL/KG,,UMOL/KG,,UATM,,DEG C,,,DEG C,/MILLE,,/MILLE,,/MILLE,UG/KG,,UMOL/KG,,UMOL/KG,,NMOL/KG,,,,,,ITS-90,,VOLTS,,VOLTS,,/MILLE,,/MILLE,,,,1E6 GELS/L,
325020210316,        A20,      16,          1,         36,         36,2,20210324,       0500,    41.0982,   -52.3339,       5150,     5.3,  17.2880,  36.2855,2,  36.2923,2,    222.9,2,   223.9,2,    1.66,2,    4.36,2,    0.21,2,    0.23,2,   2.152,2,   1.324,2,    2.04,3,  2123.1,2, 2381.88,2,    434.0,2,    20.00,    7.9415,2,    25.01, -999.00,9, -999.00,9, -999.00,-999.000,9, -999.00,9, -999.00,9,       9.34,2, 20210324,      721,  41.0982, -52.3339,    17.2897,2,     0.1953,1,     4.5375,1,     -999.0,1,     -999.0,1,     -999.0,9,     -999.0,9
325020210316,        A20,      16,          1,         35,         35,2,20210324,       0500,    41.0982,   -52.3339,       5150,    20.3,  17.3057,  36.2906,2,  36.2990,2,    223.2,2,   225.1,2,    1.46,2,    4.22,2,    0.20,2,    0.23,2,-999.000,9,-999.000,9, -999.00,9,  2123.2,2, 2381.26,2,    433.1,2,    20.00,   7.94158,6,    24.91, -999.00,9, -999.00,9, -999.00,-999.000,9, -999.00,9, -999.00,9,     -999.0,9, 20210324,      719,  41.0982, -52.3339,    17.3031,2,     0.2246,1,     4.5299,1,     -999.0,1,     -999.0,1,     -999.0,9,     -999.0,9
325020210316,        A20,      16,          1,         34,         34,2,20210324,       0500,    41.0982,   -52.3339,       5150,    40.6,  16.8045,  36.1562,2,  36.1668,2,    220.9,2,   220.3,2,    1.85,2,    5.05,2,    0.27,2,    0.29,2,   2.179,2,   1.353,2,    2.10,3,  2124.8,2, 2376.14,6,    452.0,2,    20.00,   7.92527,2,    24.96, -999.00,9, -999.00,9, -999.00,-999.000,9, -999.00,9, -999.00,9,       9.66,2, 20210324,      716,  41.0982, -52.3338,    16.7786,2,     0.1407,1,     4.6105,1,     -999.0,1,     -999.0,1,     -999.0,9,     -999.0,9
325020210316,        A20,      16,          1,         33,         33,2,20210324,       0500,    41.0982,   -52.3339,       5150,    65.9,  15.9085,  35.9404,2,  35.9516,2,    219.1,3,   211.5,2,    2.73,2,    6.64,2,    0.19,2,    0.39,2,-999.000,9,-999.000,9, -999.00,9,  2128.5,2, 2361.94,2,    480.5,2,    20.00,   7.90542,2,    22.85, -999.00,9, -999.00,9, -999.00,-999.000,9, -999.00,9, -999.00,9,     -999.0,9, 20210324,      714,  41.0982, -52.3339,    15.9152,2,     0.0467,1,     4.6895,1,     -999.0,1,     -999.0,1,     -999.0,9,     -999.0,9
325020210316,        A20,      16,          1,         32,         32,2,20210324,       0500,    41.0982,   -52.3339,       5150,    90.1,  15.4238,  35.8367,2,  35.8429,2,    221.8,2,   220.6,2,    2.83,2,    6.45,2,    0.13,2,    0.38,2,   2.302,2,   1.425,2,    2.31,3,  2121.9,2, 2361.94,2,    479.8,2,    20.00,   7.90732,2,    22.84, -999.00,9, -999.00,9, -999.00,-999.000,9, -999.00,9, -999.00,9,      10.16,2, 20210324,      712,  41.0982, -52.3339,    15.4268,2,     0.0517,1,     4.6888,1,     -999.0,1,     -999.0,1,     -999.0,9,     -999.0,9
325020210316,        A20,      16,          1,         31,         31,2,20210324,       0500,    41.0982,   -52.3339,       5150,   136.3,  15.3900,  35.9301,2,  35.9461,2,    203.2,3,   215.8,2,    2.93,2,    6.94,2,    0.07,2,    0.39,2,   2.285,2,   1.412,2,    2.12,3,  2128.3,2, 2361.14,2,    484.0,2,    20.00,   7.90661,2,    22.91, -999.00,9, -999.00,9, -999.00,-999.000,9, -999.00,9, -999.00,9,      10.35,2, 20210324,      709,  41.0982, -52.3339,    15.4164,2,     0.0445,1,     4.6952,1,     -999.0,1,     -999.0,1,     -999.0,9,     -999.0,9
325020210316,        A20,      16,          1,         30,         30,2,20210324,       0500,    41.0982,   -52.3339,       5150,   186.2,  14.6895,  35.7984,2,  35.8054,2,    208.8,3,   204.8,2,    3.81,2,    8.95,2,    0.01,2,    0.52,2,   2.290,2,   1.405,2,    2.15,3,  2137.0,2, 2352.48,2,    522.7,2,    20.00,   7.87407,2,    24.99, -999.00,9, -999.00,9, -999.00,-999.000,9, -999.00,9, -999.00,9,      11.73,2, 20210324,      707,  41.0982, -52.3338,    14.6966,2,     0.0426,1,     4.6932,1,     -999.0,1,     -999.0,1,     -999.0,9,     -999.0,9
325020210316,        A20,      16,          1,         29,         29,2,20210324,       0500,    41.0982,   -52.3339,       5150,   236.9,  14.5854,  35.8870,2,  35.8898,2,    161.5,3,   165.1,2,    5.37,2,   13.44,2,    0.00,2,    0.76,2,-999.000,9,-999.000,9, -999.00,9,  2162.6,2, 2352.86,2,    598.4,2,    20.00,   7.82238,2,    24.98, -999.00,9, -999.00,9, -999.00,-999.000,9, -999.00,9, -999.00,9,     -999.0,9, 20210324,      704,  41.0982, -52.3339,    14.5970,2,     0.0411,1,     4.6984,1,     -999.0,1,     -999.0,1,     -999.0,9,     -999.0,9
325020210316,        A20,      16,          1,         28,         28,2,20210324,       0500,    41.0982,   -52.3339,       5150,   287.1,  13.6109,  35.7687,2,  35.7738,2,    147.1,2,   145.9,2,    7.32,2,   17.17,2,    0.00,2,    1.00,2,   1.953,2,   1.171,2,    0.96,3,  2177.0,2, 2345.88,2,    676.7,6,    20.00,   7.77518,2,    24.99, -999.00,9, -999.00,9, -999.00,-999.000,9, -999.00,9, -999.00,9,      17.59,2, 20210324,      701,  41.0982, -52.3339,    13.6098,2,     0.0412,1,     4.7016,1,     -999.0,1,     -999.0,1,     -999.0,9,     -999.0,9
325020210316,        A20,      16,          1,         27,         27,2,20210324,       0500,    41.0982,   -52.3339,       5150,   338.1,  12.5158,  35.6076,2,  35.6103,2,    149.3,3,   142.5,2,    9.27,2,   19.30,2,    0.00,2,    1.14,2,   1.870,2,   1.084,2,    0.89,3,  2183.6,2,  2336.9,2,    735.5,2,    20.00,   7.74368,2,    24.99, -999.00,9, -999.00,9, -999.00,-999.000,9, -999.00,9, -999.00,9,      19.00,2, 20210324,      700,  41.0982, -52.3339,    12.5145,2,     0.0407,1,     4.7042,1,     -999.0,1,     -999.0,1,     -999.0,9,     -999.0,9
325020210316,        A20,      16,          1,         26,         26,2,20210324,       0500,    41.0982,   -52.3339,       5150,   388.3,  11.0451,  35.4044,2,  35.4072,2,    135.4,2,   135.1,2,   12.30,2,   22.39,2,    0.00,2,    1.36,2,-999.000,9,-999.000,9, -999.00,9,  2197.5,2, 2341.57,2,    825.0,2,    20.00,   7.69729,2,    24.99, -999.00,9, -999.00,9, -999.00,-999.000,9, -999.00,9, -999.00,9,     -999.0,9, 20210324,      658,  41.0982, -52.3340,    11.0528,2,     0.0420,1,     4.7003,1,     -999.0,1,     -999.0,1,     -999.0,9,     -999.0,9
325020210316,        A20,      16,          1,         25,         25,2,20210324,       0500,    41.0982,   -52.3339,       5150,   468.9,   9.3152,  35.2178,2,  35.2186,2,    138.2,3,   140.1,2,   14.16,2,   24.50,2,    0.00,2,    1.51,2,   1.371,2,   0.768,2,    0.79,3,  2202.5,2, 2322.27,2,    893.6,2,    20.00,   7.66364,2,    24.99, -999.00,9, -999.00,9, -999.00,-999.000,9, -999.00,9, -999.00,9,      21.32,2, 20210324,      655,  41.0982, -52.3340,     9.3148,2,     0.0429,1,     4.7009,1,     -999.0,1,     -999.0,1,     -999.0,9,     -999.0,9
325020210316,        A20,      16,          1,         24,         24,2,20210324,       0500,    41.0982,   -52.3339,       5150,   571.2,   7.6752,  35.1289,2,  35.1319,2,    168.5,2,   168.8,2,   14.36,2,   23.04,2,    0.00,2,    1.46,2,   1.639,2,   0.883,2,    0.50,3,  2194.3,6, 2319.21,2,    878.0,2,    20.00,    7.6691,2,    24.98, -999.00,9, -999.00,9, -999.00,-999.000,9, -999.00,9, -999.00,9,      19.41,2, 20210324,      652,  41.0981, -52.3340,     7.6759,2,     0.0428,1,     4.7063,1,     -999.0,1,     -999.0,1,     -999.0,9,     -999.0,9
325020210316,        A20,      16,          1,         23,         23,2,20210324,       0500,    41.0982,   -52.3339,       5150,   671.0,   6.2353,  35.0796,2,  35.0809,2,    202.6,3,   204.8,2,   13.38,2,   20.72,2,    0.00,2,    1.33,2,   2.077,2,   1.114,2,    0.70,3,  2189.6,2, 2313.92,2,   -999.0,9,  -999.00,   7.68471,2,    24.98, -999.00,9, -999.00,9, -999.00,-999.000,9, -999.00,9, -999.00,9,      16.80,2, 20210324,      649,  41.0982, -52.3340,     6.2341,2,     0.0424,1,     4.7093,1,     -999.0,1,     -999.0,1,     -999.0,9,     -999.0,9
325020210316,        A20,      16,          1,         22,         22,2,20210324,       0500,    41.0982,   -52.3339,       5150,   772.7,   5.5538,  35.0555,2,  35.0563,2,    224.2,2,   224.5,2,   12.40,2,   19.47,2,    0.00,2,    1.26,2,-999.000,9,-999.000,9, -999.00,9,  2182.5,2, 2316.42,2,    820.5,2,    20.00,   7.69498,2,    24.98, -999.00,9, -999.00,9, -999.00,-999.000,9, -999.00,9, -999.00,9,     -999.0,9, 20210324,      645,  41.0982, -52.3340,     5.5559,2,     0.0408,1,     4.7084,1,     -999.0,1,     -999.0,1,     -999.0,9,     -999.0,9
325020210316,        A20,      16,          1,         21,         21,2,20210324,       0500,    41.0982,   -52.3339,       5150,   873.7,   5.0935,  35.0365,2,  35.0372,2,    236.6,2,   237.9,2,   11.91,2,   18.84,2,    0.00,2,    1.21,2,   2.615,2,   1.418,2,    1.03,3,  2179.4,2,  2312.2,2,   -999.0,9,  -999.00,   7.70127,6,    25.01, -999.00,9, -999.00,9, -999.00,-999.000,9, -999.00,9, -999.00,9,      14.82,2, 20210324,      642,  41.0982, -52.3339,     5.0969,2,     0.0424,1,     4.7087,1,     -999.0,1,     -999.0,1,     -999.0,9,     -999.0,9
325020210316,        A20,      16,          1,         20,         20,2,20210324,       0500,    41.0982,   -52.3339,       5150,   974.6,   4.8516,  35.0231,2,  35.0240,2,    244.9,2,   244.5,2,   11.82,2,   18.54,2,    0.00,2,    1.19,2,   2.685,2,   1.439,2,    0.83,3,  2176.0,2, 2310.51,2,    798.8,2,    20.00,   7.70685,2,    24.99, -999.00,9, -999.00,9, -999.00,-999.000,9, -999.00,9, -999.00,9,      14.27,2, 20210324,      639,  41.0982, -52.3339,     4.8521,2,     0.0412,1,     4.7090,1,     -999.0,1,     -999.0,1,     -999.0,9,     -999.0,9
325020210316,        A20,      16,          1,         19,         19,2,20210324,       0500,    41.0982,   -52.3339,       5150,  1075.6,   4.6116,  35.0062,2,  35.0063,2,    252.3,2,   251.4,2,   11.62,2,   18.19,2,    0.00,2,    1.15,2,-999.000,9,-999.000,9, -999.00,9,  2174.6,2, -999.00,5,   -999.0,9,  -999.00,    7.7073,2,    24.99, -999.00,9, -999.00,9, -999.00,-999.000,9, -999.00,9, -999.00,9,     -999.0,9, 20210324,      636,  41.0982, -52.3339,     4.6162,2,     0.0423,1,     4.7102,1,     -999.0,1,     -999.0,1,     -999.0,9,     -999.0,9
325020210316,        A20,      16,          1,         18,         18,2,20210324,       0500,    41.0982,   -52.3339,       5150,  1177.1,   4.3994,  34.9909,2,  34.9911,2,    257.6,2,   256.8,2,   11.52,2,   17.95,2,    0.00,2,    1.14,2,   2.649,2,   1.577,2,    1.36,3,  2171.0,2, 2309.04,2,    787.8,2,    20.00,   7.70889,2,    24.92, -999.00,9, -999.00,9, -999.00,-999.000,9, -999.00,9, -999.00,9,      13.90,2, 20210324,      632,  41.0982, -52.3339,     4.3992,2,     0.0424,1,     4.7094,1,     -999.0,1,     -999.0,1,     -999.0,9,     -999.0,9
325020210316,        A20,      16,          1,         17,         17,2,20210324,       0500,    41.0982,   -52.3339,       5150,  1278.6,   4.3081,  34.9882,2,  34.9890,2,    259.2,2,   258.6,2,   11.62,2,   17.79,2,    0.00,2,    1.13,2,-999.000,9,-999.000,9, -999.00,9,  2171.1,2,  2309.7,2,   -999.0,9,  -999.00,   7.71075,2,    24.93, -999.00,9, -999.00,9, -999.00,-999.000,9, -999.00,9, -999.00,9,     -999.0,9, 20210324,      630,  41.0982, -52.3339,     4.3082,2,     0.0420,1,     4.7101,1,     -999.0,1,     -999.0,1,     -999.0,9,     -999.0,9
325020210316,        A20,      16,          1,         16,         16,2,20210324,       0500,    41.0982,   -52.3339,       5150,  1380.1,   4.1824,  34.9821,2,  34.9833,2,    260.1,2,   259.5,2,   12.01,2,   17.79,2,    0.00,2,    1.14,2,   2.715,6,   1.429,6,    0.83,3,  2168.4,2,  2345.5,4,    777.7,2,    20.00,   7.71323,2,    24.95, -999.00,9, -999.00,9, -999.00,-999.000,9, -999.00,9, -999.00,9,      13.76,6, 20210324,      627,  41.0982, -52.3339,     4.1819,2,     0.0420,1,     4.7097,1,     -999.0,1,     -999.0,1,     -999.0,9,     -999.0,9
325020210316,        A20,      16,          1,         15,         15,2,20210324,       0500,    41.0982,   -52.3339,       5150,  1551.8,   4.0073,  34.9743,2,  34.9746,2,    262.3,2,   261.5,2,   12.50,2,   17.75,2,    0.00,2,    1.15,2,-999.000,9,-999.000,9, -999.00,9,  2167.1,2, 2309.26,2,   -999.0,9,  -999.00,   7.71655,2,    24.95, -999.00,9, -999.00,9, -999.00,-999.000,9, -999.00,9, -999.00,9,     -999.0,9, 20210324,      623,  41.0982, -52.3339,     4.0075,2,     0.0422,1,     4.7096,1,     -999.0,1,     -999.0,1,     -999.0,9,     -999.0,9
325020210316,        A20,      16,          1,         14,         14,2,20210324,       0500,    41.0982,   -52.3339,       5150,  1756.9,   3.8007,  34.9685,2,  34.9697,2,    262.1,2,   263.0,2,   13.58,2,   17.73,2,    0.00,2,    1.15,2,   2.253,2,   1.149,2,    0.68,3,  2163.9,2, 2307.53,2,   -999.0,9,  -999.00,   7.72165,2,    24.97, -999.00,9, -999.00,9, -999.00,-999.000,9, -999.00,9, -999.00,9,      13.49,2, 20210324,      618,  41.0982, -52.3340,     3.8003,2,     0.0418,1,     4.7110,1,     -999.0,1,     -999.0,1,     -999.0,9,     -999.0,9
325020210316,        A20,      16,          1,         13,         13,2,20210324,       0500,    41.0982,   -52.3339,       5150,  1959.8,   3.6404,  34.9634,2,  34.9638,2,    263.2,2,   263.4,2,   14.55,2,   17.82,2,    0.00,2,    1.15,2,   2.028,2,   1.021,2,    0.23,3,  2164.2,6,  2446.3,4,   -999.0,9,  -999.00,    7.7254,2,    24.96, -999.00,9, -999.00,9, -999.00,-999.000,9, -999.00,9, -999.00,9,      13.45,2, 20210324,      613,  41.0982, -52.3339,     3.6410,2,     0.0419,1,     4.7123,1,     -999.0,1,     -999.0,1,     -999.0,9,     -999.0,9
325020210316,        A20,      16,          1,         12,         12,2,20210324,       0500,    41.0982,   -52.3339,       5150,  2193.9,   3.4157,  34.9499,2,  34.9512,2,    264.8,2,   265.6,2,   15.33,2,   17.80,2,    0.00,2,    1.14,2,-999.000,9,-999.000,9, -999.00,9,  2165.3,2, 2311.89,2,    750.1,2,    20.00,   7.72748,6,    24.97, -999.00,9, -999.00,9, -999.00,-999.000,9, -999.00,9, -999.00,9,     -999.0,9, 20210324,      607,  41.0982, -52.3339,     3.4159,2,     0.0412,1,     4.7118,1,     -999.0,1,     -999.0,1,     -999.0,9,     -999.0,9
325020210316,        A20,      16,          1,         11,         11,2,20210324,       0500,    41.0982,   -52.3339,       5150,  2447.2,   3.2537,  34.9490,2,  34.9496,2,    264.4,2,   264.4,2,   17.78,2,   18.00,2,    0.00,2,    1.14,2,   1.490,2,   0.750,2,    0.24,3,  2166.0,2, 2311.25,2,   -999.0,9,  -999.00,   7.73076,2,    24.96, -999.00,9, -999.00,9, -999.00,-999.000,9, -999.00,9, -999.00,9,      13.32,2, 20210324,      601,  41.0982, -52.3339,     3.2543,2,     0.0423,1,     4.7123,1,     -999.0,1,     -999.0,1,     -999.0,9,     -999.0,9
325020210316,        A20,      16,          1,         10,         10,2,20210324,       0500,    41.0982,   -52.3339,       5150,  2703.0,   3.0854,  34.9445,2,  34.9455,2,    262.8,2,   263.2,2,   20.41,2,   18.38,2,    0.00,2,    1.20,2,   1.121,2,   0.576,2,    0.14,3,  2167.9,2, 2314.74,2,    740.9,2,    20.00,   7.73317,2,    24.96, -999.00,9, -999.00,9, -999.00,-999.000,9, -999.00,9, -999.00,9,      13.20,2, 20210324,      555,  41.0982, -52.3339,     3.0849,2,     0.0428,1,     4.7130,1,     -999.0,1,     -999.0,1,     -999.0,9,     -999.0,9
325020210316,        A20,      16,          1,          9,          9,2,20210324,       0500,    41.0982,   -52.3339,       5150,  2959.1,   2.8925,  34.9330,2,  34.9329,2,    264.0,2,   265.1,2,   21.19,2,   18.29,2,    0.00,2,    1.21,2,-999.000,9,-999.000,9, -999.00,9,  2167.7,2, 2315.91,2,   -999.0,9,  -999.00,   7.73397,2,    24.97, -999.00,9, -999.00,9, -999.00,-999.000,9, -999.00,9, -999.00,9,     -999.0,9, 20210324,      550,  41.0982, -52.3339,     2.8925,2,     0.0429,1,     4.7125,1,     -999.0,1,     -999.0,1,     -999.0,9,     -999.0,9
325020210316,        A20,      16,          1,          8,          8,2,20210324,       0500,    41.0982,   -52.3339,       5150,  3249.4,   2.6948,  34.9206,2,  34.9215,2,    268.1,2,   268.5,2,   21.78,2,   17.99,2,    0.00,2,    1.18,2,   1.374,2,   0.695,2,    0.18,3,  2168.3,2, 2314.29,2,   -999.0,9,  -999.00,   7.73222,6,    24.96, -999.00,9, -999.00,9, -999.00,-999.000,9, -999.00,9, -999.00,9,      13.35,2, 20210324,      544,  41.0982, -52.3339,     2.6943,2,     0.0433,1,     4.7122,1,     -999.0,1,     -999.0,1,     -999.0,9,     -999.0,9
325020210316,        A20,      16,          1,          7,          7,2,20210324,       0500,    41.0982,   -52.3339,       5150,  3556.4,   2.4933,  34.9085,2,  34.9095,2,    269.1,2,   269.3,2,   24.03,2,   18.07,2,    0.00,2,    1.19,2,   1.386,2,   0.703,2,    0.15,3,  2170.1,2, 2317.15,2,    747.1,2,    20.00,   7.73111,2,    24.94, -999.00,9, -999.00,9, -999.00,-999.000,9, -999.00,9, -999.00,9,      13.42,2, 20210324,      538,  41.0982, -52.3339,     2.4908,2,     0.0428,1,     4.7126,1,     -999.0,1,     -999.0,1,     -999.0,9,     -999.0,9
325020210316,        A20,      16,          1,          6,          6,2,20210324,       0500,    41.0982,   -52.3339,       5150,  3864.4,   2.3413,  34.8976,2,  34.8983,2,    267.3,2,   268.5,2,   27.25,2,   18.44,2,    0.00,2,    1.22,2,-999.000,9,-999.000,9, -999.00,9,  2173.7,2, 2321.47,2,   -999.0,9,  -999.00,   7.72971,6,    24.96, -999.00,9, -999.00,9, -999.00,-999.000,9, -999.00,9, -999.00,9,     -999.0,9, 20210324,      531,  41.0982, -52.3339,     2.3411,2,     0.0429,1,     4.7115,1,     -999.0,1,     -999.0,1,     -999.0,9,     -999.0,9
325020210316,        A20,      16,          1,          5,          5,2,20210324,       0500,    41.0982,   -52.3339,       5150,  4172.6,   2.2826,  34.8915,2,  34.8920,2,    266.6,2,   267.5,2,   29.50,2,   18.65,2,    0.00,2,    1.24,2,   1.340,2,   0.678,2,    0.40,3,  2177.8,2, 2323.43,2,    755.6,2,    20.00,   7.72839,2,    24.97, -999.00,9, -999.00,9, -999.00,-999.000,9, -999.00,9, -999.00,9,      13.66,2, 20210324,      525,  41.0982, -52.3339,     2.2828,2,     0.0428,1,     4.7041,1,     -999.0,1,     -999.0,1,     -999.0,9,     -999.0,9
325020210316,        A20,      16,          1,          4,          4,2,20210324,       0500,    41.0982,   -52.3339,       5150,  4559.2,   2.2761,  34.8879,2,  34.8882,2,    265.8,2,   266.9,2,   31.06,2,   18.75,2,    0.00,2,    1.25,2,   1.380,2,   0.713,2,    0.49,3,  2178.8,2, 2325.68,6,   -999.0,9,  -999.00,   7.72551,2,    24.97, -999.00,9, -999.00,9, -999.00,-999.000,9, -999.00,9, -999.00,9,      13.72,2, 20210324,      516,  41.0982, -52.3339,     2.2762,2,     0.0418,1,     4.6841,1,     -999.0,1,     -999.0,1,     -999.0,9,     -999.0,9
325020210316,        A20,      16,          1,          3,          3,2,20210324,       0500,    41.0982,   -52.3339,       5150,  4944.1,   2.2849,  34.8828,2,  34.8837,2,    263.2,2,   263.7,2,   34.67,2,   19.37,2,    0.00,2,    1.29,2,-999.000,9,-999.000,9, -999.00,9,  2183.1,2, 2330.02,2,    759.9,2,    20.00,   7.72619,6,    24.97, -999.00,9, -999.00,9, -999.00,-999.000,9, -999.00,9, -999.00,9,     -999.0,9, 20210324,      508,  41.0982, -52.3339,     2.2850,2,     0.0429,1,     4.6732,1,     -999.0,1,     -999.0,1,     -999.0,9,     -999.0,9