BOTTLE,20230512CCHSIOCBG
EXPOCODE,SECT_ID,STNNBR,CASTNO,SAMPNO,BTLNBR,BTLNBR_FLAG_W,DATE,TIME,LATITUDE,LONGITUDE,DEPTH,CTDPRS,CTDTMP,CTDSAL,CTDSAL_FLAG_W,SALNTY,SALNTY_FLAG_W,CTDOXY,CTDOXY_FLAG_W,OXYGEN,OXYGEN_FLAG_W,SILCAT,SILCAT_FLAG_W,NITRAT,NITRAT_FLAG_W,NITRIT,NITRIT_FLAG_W,PHSPHT,PHSPHT_FLAG_W,CFC-11,CFC-11_FLAG_W,CFC-12,CFC-12_FLAG_W,SF6,SF6_FLAG_W,TCARBN,TCARBN_FLAG_W,ALKALI,ALKALI_FLAG_W,FCO2,FCO2_FLAG_W,FCO2TMP,PH_TOT,PH_TOT_FLAG_W,PH_TMP,DELC13,DELC13_FLAG_W,DELC14,DELC14_FLAG_W,C14ERR,POC,POC_FLAG_W,DOC,DOC_FLAG_W,TDN,TDN_FLAG_W,N2O,N2O_FLAG_W,BTL_DATE,BTL_TIME,BTL_LAT,BTL_LON,REFTMP,REFTMP_FLAG_W,CTDFLUOR,CTDFLUOR_FLAG_W,CTDXMISS,CTDXMISS_FLAG_W,D15N_NO2+NO3,D15N_NO2+NO3_FLAG_W,D18O_NO2+NO3,D18O_NO2+NO3_FLAG_W,HPLC,HPLC_FLAG_W,MICROGELS,MICROGELS_FLAG_W
,,,,,,,,,,,METERS,DBAR,ITS-90,PSS-78,,PSS-78,,UMOL/KG,,UMOL/KG,,UMOL/KG,,UMOL/KG,,UMOL/KG,,UMOL/KG,,PMOL/KG,,PMOL/KG,,FMOL/KG,,UMOL/KG,,UMOL/KG,,UATM,,DEG C,,,DEG C,/MILLE,,/MILLE,,/MILLE,UG/KG,,UMOL/KG,,UMOL/KG,,NMOL/KG,,,,,,ITS-90,,VOLTS,,VOLTS,,/MILLE,,/MILLE,,,,1E6 GELS/L,
325020210316,        A20,      69,          1,         36,         36,2,20210409,       0846,    10.1382,   -52.3330,       4909,     4.5,  27.5695,  34.9790,2,  34.9801,2,    198.5,2,   197.7,2,    2.73,2,    0.06,2,    0.00,2,    0.02,2,   1.483,2,   0.937,2,    1.59,2,  1994.2,6, 2300.49,2,   -999.0,9,  -999.00,   8.07662,2,    24.99, -999.00,9, -999.00,9, -999.00,-999.000,9, -999.00,9, -999.00,9,       5.68,2, 20210409,     1101,  10.1382, -52.3330,    27.5698,2,     0.0551,1,     4.6232,1,     -999.0,1,     -999.0,1,     -999.0,9,     -999.0,9
325020210316,        A20,      69,          1,         35,         35,2,20210409,       0846,    10.1382,   -52.3330,       4909,    35.0,  27.5974,  35.0267,2,  35.0441,2,    197.4,2,   197.2,2,    2.73,2,    0.07,2,    0.00,2,    0.02,2,-999.000,9,-999.000,9, -999.00,9,  -999.0,9, -999.00,9,   -999.0,9,  -999.00,-999.00000,9,  -999.00, -999.00,9, -999.00,9, -999.00,-999.000,9, -999.00,9, -999.00,9,     -999.0,9, 20210409,     1059,  10.1382, -52.3330,    27.5965,2,     0.0623,1,     4.6239,1,     -999.0,1,     -999.0,1,     -999.0,9,     -999.0,9
325020210316,        A20,      69,          1,         34,         34,2,20210409,       0846,    10.1382,   -52.3330,       4909,    60.9,  26.9553,  35.8155,2,  35.7987,2,    198.1,2,   198.1,2,    1.66,2,    0.04,2,    0.00,2,    0.00,2,-999.000,9,-999.000,9, -999.00,9,  2030.4,2, 2347.39,2,   -999.0,9,  -999.00,   8.08435,2,    24.99, -999.00,9, -999.00,9, -999.00,-999.000,9, -999.00,9, -999.00,9,     -999.0,9, 20210409,     1057,  10.1382, -52.3330,    26.9565,2,     0.0822,1,     4.6315,1,     -999.0,1,     -999.0,1,     -999.0,9,     -999.0,9
325020210316,        A20,      69,          1,         33,         33,2,20210409,       0846,    10.1382,   -52.3330,       4909,    85.2,  26.8209,  36.9921,2,  37.0116,2,    193.2,2,   194.0,2,    1.17,2,    0.05,2,    0.24,2,    0.00,2,   1.492,2,   1.006,2,    1.55,2,  -999.0,9, -999.00,9,   -999.0,9,  -999.00,-999.00000,9,  -999.00, -999.00,9, -999.00,9, -999.00,-999.000,9, -999.00,9, -999.00,9,       7.53,2, 20210409,     1054,  10.1382, -52.3330,    26.8187,2,     0.0614,1,     4.6500,1,     -999.0,1,     -999.0,1,     -999.0,9,     -999.0,9
325020210316,        A20,      69,          1,         32,         32,2,20210409,       0846,    10.1382,   -52.3330,       4909,   115.2,  22.6420,  36.8921,2,  36.8800,2,    142.2,3,   149.1,2,    2.14,2,    4.57,2,    0.02,2,    0.22,2,-999.000,9,-999.000,9, -999.00,9,  2159.5,2, -999.00,9,   -999.0,9,  -999.00,   7.93809,6,    25.00, -999.00,9, -999.00,9, -999.00,-999.000,9, -999.00,9, -999.00,9,     -999.0,9, 20210409,     1053,  10.1382, -52.3330,    22.6243,2,     0.0519,1,     4.6685,1,     -999.0,1,     -999.0,1,     -999.0,9,     -999.0,9
325020210316,        A20,      69,          1,         31,         31,2,20210409,       0846,    10.1382,   -52.3330,       4909,   166.4,  14.9665,  35.6284,2,  35.6275,2,    147.8,2,   148.8,2,    6.44,2,   15.06,2,    0.00,2,    0.98,2,-999.000,9,-999.000,9, -999.00,9,  2177.5,2, -999.00,9,   -999.0,9,  -999.00,   7.78165,2,    24.99, -999.00,9, -999.00,9, -999.00,-999.000,9, -999.00,9, -999.00,9,     -999.0,9, 20210409,     1051,  10.1382, -52.3330,    14.9619,2,     0.0430,1,     4.6731,1,     -999.0,1,     -999.0,1,     -999.0,9,     -999.0,9
325020210316,        A20,      69,          1,         30,         30,2,20210409,       0846,    10.1382,   -52.3330,       4909,   216.7,  11.8753,  35.2518,2,  35.2410,2,    131.5,3,   129.7,2,    9.95,2,   22.26,2,    0.00,2,    1.39,2,-999.000,9,-999.000,9, -999.00,9,  -999.0,9, -999.00,9,   -999.0,9,  -999.00,-999.00000,9,  -999.00, -999.00,9, -999.00,9, -999.00,-999.000,9, -999.00,9, -999.00,9,     -999.0,9, 20210409,     1049,  10.1382, -52.3330,    11.8585,2,     0.0416,1,     4.6720,1,     -999.0,1,     -999.0,1,     -999.0,9,     -999.0,9
325020210316,        A20,      69,          1,         29,         29,2,20210409,       0846,    10.1382,   -52.3330,       4909,   266.6,  10.3140,  35.0278,2,  35.0207,2,    124.3,2,   124.8,2,   12.39,2,   25.88,2,    0.00,2,    1.62,2,   1.973,2,   1.146,2,    0.73,2,  2209.8,2, 2309.12,2,   -999.0,9,  -999.00,   7.61958,2,    25.00, -999.00,9, -999.00,9, -999.00,-999.000,9, -999.00,9, -999.00,9,      26.71,2, 20210409,     1046,  10.1382, -52.3330,    10.3241,2,     0.0423,1,     4.6740,1,     -999.0,1,     -999.0,1,     -999.0,9,     -999.0,9
325020210316,        A20,      69,          1,         28,         28,2,20210409,       0846,    10.1382,   -52.3330,       4909,   317.1,   9.6236,  34.9255,2,  34.9028,3,    125.0,2,   125.9,2,   13.76,2,   27.24,2,    0.00,2,    1.72,2,-999.000,9,-999.000,9, -999.00,9,  -999.0,9, -999.00,9,   -999.0,9,  -999.00,-999.00000,9,  -999.00, -999.00,9, -999.00,9, -999.00,-999.000,9, -999.00,9, -999.00,9,     -999.0,9, 20210409,     1045,  10.1382, -52.3330,     9.6278,2,     0.0424,1,     4.6734,1,     -999.0,1,     -999.0,1,     -999.0,9,     -999.0,9
325020210316,        A20,      69,          1,         27,         27,2,20210409,       0846,    10.1382,   -52.3330,       4909,   368.0,   9.2988,  34.9214,2,  34.9128,2,    116.5,2,   116.6,2,   14.83,2,   28.77,2,    0.00,2,    1.80,2,-999.000,9,-999.000,9, -999.00,9,  2216.1,2, -999.00,9,   -999.0,9,  -999.00,    7.5792,2,    24.99, -999.00,9, -999.00,9, -999.00,-999.000,9, -999.00,9, -999.00,9,     -999.0,9, 20210409,     1043,  10.1382, -52.3330,     9.2958,2,     0.0424,1,     4.6742,1,     -999.0,1,     -999.0,1,     -999.0,9,     -999.0,9
325020210316,        A20,      69,          1,         26,         26,2,20210409,       0846,    10.1382,   -52.3330,       4909,   437.4,   8.6195,  34.8490,2,  34.8458,2,    115.8,2,   115.5,2,   16.59,2,   30.15,2,    0.00,2,    1.90,2,-999.000,9,-999.000,9, -999.00,9,  -999.0,9, -999.00,9,   -999.0,9,  -999.00,-999.00000,9,  -999.00, -999.00,9, -999.00,9, -999.00,-999.000,9, -999.00,9, -999.00,9,     -999.0,9, 20210409,     1040,  10.1382, -52.3330,     8.6341,2,     0.0422,1,     4.6744,1,     -999.0,1,     -999.0,1,     -999.0,9,     -999.0,9
325020210316,        A20,      69,          1,         25,         25,2,20210409,       0846,    10.1382,   -52.3330,       4909,   539.2,   7.4874,  34.7092,2,  34.7081,2,    116.5,2,   116.1,2,   19.61,2,   32.61,2,    0.00,2,    2.08,2,   1.089,2,   0.646,2,    0.32,2,  2225.7,2, 2298.08,2,   -999.0,9,  -999.00,   7.53183,2,    25.00, -999.00,9, -999.00,9, -999.00,-999.000,9, -999.00,9, -999.00,9,      28.00,2, 20210409,     1037,  10.1382, -52.3330,     7.4918,2,     0.0431,1,     4.6785,1,     -999.0,1,     -999.0,1,     -999.0,9,     -999.0,9
325020210316,        A20,      69,          1,         24,         24,2,20210409,       0846,    10.1382,   -52.3330,       4909,   669.8,   6.4408,  34.6311,2,  34.6291,2,    124.6,2,   123.8,2,   23.52,2,   33.97,2,    0.00,2,    2.20,2,-999.000,9,-999.000,9, -999.00,9,  -999.0,9, -999.00,9,   -999.0,9,  -999.00,-999.00000,9,  -999.00, -999.00,9, -999.00,9, -999.00,-999.000,9, -999.00,9, -999.00,9,     -999.0,9, 20210409,     1033,  10.1382, -52.3330,     6.4384,2,     0.0428,1,     4.6799,1,     -999.0,1,     -999.0,1,     -999.0,9,     -999.0,9
325020210316,        A20,      69,          1,         23,         23,2,20210409,       0846,    10.1382,   -52.3330,       4909,   740.4,   6.0339,  34.6186,2,  34.6179,2,    127.3,2,   126.5,2,   25.27,2,   34.43,2,    0.00,2,    2.24,2,-999.000,9,-999.000,9, -999.00,9,  -999.0,9, -999.00,9,   -999.0,9,  -999.00,-999.00000,9,  -999.00, -999.00,9, -999.00,9, -999.00,-999.000,9, -999.00,9, -999.00,9,     -999.0,9, 20210409,     1030,  10.1382, -52.3330,     6.0303,2,     0.0432,1,     4.6811,1,     -999.0,1,     -999.0,1,     -999.0,9,     -999.0,9
325020210316,        A20,      69,          1,         22,         22,2,20210409,       0846,    10.1382,   -52.3330,       4909,   841.9,   5.4429,  34.5902,2,  34.5865,2,    135.0,2,   134.9,2,   27.81,2,   34.60,2,    0.00,2,    2.27,2,   0.416,2,   0.223,2,    0.13,2,  2229.6,2, 2299.51,2,   -999.0,9,  -999.00,    7.5276,6,    25.00, -999.00,9, -999.00,9, -999.00,-999.000,9, -999.00,9, -999.00,9,      26.79,2, 20210409,     1027,  10.1382, -52.3330,     5.4432,2,     0.0429,1,     4.6816,1,     -999.0,1,     -999.0,1,     -999.0,9,     -999.0,9
325020210316,        A20,      69,          1,         21,         21,2,20210409,       0846,    10.1382,   -52.3330,       4909,   943.1,   5.2458,  34.6326,2,  34.6309,2,    138.0,2,   138.7,2,   28.01,2,   34.03,2,    0.00,2,    2.24,2,-999.000,9,-999.000,9, -999.00,9,  -999.0,9, -999.00,9,   -999.0,9,  -999.00,-999.00000,9,  -999.00, -999.00,9, -999.00,9, -999.00,-999.000,9, -999.00,9, -999.00,9,     -999.0,9, 20210409,     1024,  10.1382, -52.3330,     5.2414,2,     0.0430,1,     4.6829,1,     -999.0,1,     -999.0,1,     -999.0,9,     -999.0,9
325020210316,        A20,      69,          1,         20,         20,2,20210409,       0846,    10.1382,   -52.3330,       4909,  1043.2,   5.1302,  34.6809,2,  34.6785,2,    144.0,2,   144.1,2,   28.01,2,   33.13,2,    0.00,2,    2.19,2,   0.171,2,   0.096,2,    0.08,2,  -999.0,9, -999.00,9,   -999.0,9,  -999.00,-999.00000,9,  -999.00, -999.00,9, -999.00,9, -999.00,-999.000,9, -999.00,9, -999.00,9,      25.72,2, 20210409,     1020,  10.1382, -52.3330,     5.1300,2,     0.0432,1,     4.6803,1,     -999.0,1,     -999.0,1,     -999.0,9,     -999.0,9
325020210316,        A20,      69,          1,         19,         19,2,20210409,       0846,    10.1382,   -52.3330,       4909,  1144.2,   5.1287,  34.7443,2,  34.7421,2,    151.3,2,   151.1,2,   27.03,2,   31.57,2,    0.00,2,    2.10,2,-999.000,9,-999.000,9, -999.00,9,  -999.0,9, -999.00,9,   -999.0,9,  -999.00,-999.00000,9,  -999.00, -999.00,9, -999.00,9, -999.00,-999.000,9, -999.00,9, -999.00,9,     -999.0,9, 20210409,     1017,  10.1382, -52.3330,     5.1282,2,     0.0441,1,     4.6825,1,     -999.0,1,     -999.0,1,     -999.0,9,     -999.0,9
325020210316,        A20,      69,          1,         18,         18,2,20210409,       0846,    10.1382,   -52.3330,       4909,  1245.9,   5.1522,  34.8409,2,  34.8369,2,    166.8,2,   167.1,2,   24.30,2,   29.04,2,    0.00,2,    1.90,2,   0.292,2,   0.158,2,    0.13,2,  2211.6,2, 2310.97,2,   -999.0,9,  -999.00,   7.61069,2,    24.98, -999.00,9, -999.00,9, -999.00,-999.000,9, -999.00,9, -999.00,9,      20.40,2, 20210409,     1014,  10.1382, -52.3330,     5.1506,2,     0.0433,1,     4.6821,1,     -999.0,1,     -999.0,1,     -999.0,9,     -999.0,9
325020210316,        A20,      69,          1,         17,         17,2,20210409,       0846,    10.1382,   -52.3330,       4909,  1347.3,   5.1387,  34.9308,2,  34.9294,2,    188.3,2,   188.9,2,   20.88,2,   25.45,2,    0.00,2,    1.67,2,-999.000,9,-999.000,9, -999.00,9,  -999.0,9, -999.00,9,   -999.0,9,  -999.00,-999.00000,9,  -999.00, -999.00,9, -999.00,9, -999.00,-999.000,9, -999.00,9, -999.00,9,     -999.0,9, 20210409,     1011,  10.1382, -52.3330,     5.1382,2,     0.0430,1,     4.6838,1,     -999.0,1,     -999.0,1,     -999.0,9,     -999.0,9
325020210316,        A20,      69,          1,         16,         16,2,20210409,       0846,    10.1382,   -52.3330,       4909,  1448.2,   5.0249,  34.9901,2,  34.9878,2,    208.4,2,   208.6,2,   18.05,2,   22.70,2,    0.00,2,    1.47,2,-999.000,9,-999.000,9, -999.00,9,  -999.0,9, -999.00,9,   -999.0,9,  -999.00,-999.00000,9,  -999.00, -999.00,9, -999.00,9, -999.00,-999.000,9, -999.00,9, -999.00,9,     -999.0,9, 20210409,     1008,  10.1382, -52.3330,     5.0280,2,     0.0422,1,     4.6895,1,     -999.0,1,     -999.0,1,     -999.0,9,     -999.0,9
325020210316,        A20,      69,          1,         15,         15,2,20210409,       0846,    10.1382,   -52.3330,       4909,  1549.4,   4.7179,  35.0053,2,  35.0037,2,    229.4,2,   229.0,2,   16.00,2,   20.54,2,    0.00,2,    1.33,2,   1.137,2,   0.632,2,    0.35,2,  2181.7,2, -999.00,9,   -999.0,9,  -999.00,   7.70448,2,    24.98, -999.00,9, -999.00,9, -999.00,-999.000,9, -999.00,9, -999.00,9,      12.59,2, 20210409,     1005,  10.1382, -52.3330,     4.7195,2,     0.0418,1,     4.6907,1,     -999.0,1,     -999.0,1,     -999.0,9,     -999.0,9
325020210316,        A20,      69,          1,         14,         14,2,20210409,       0846,    10.1382,   -52.3330,       4909,  1680.6,   4.3804,  35.0029,2,  35.0043,2,    245.7,2,   245.3,2,   14.54,2,   18.93,2,    0.00,2,    1.23,2,-999.000,9,-999.000,9, -999.00,9,  -999.0,9, -999.00,9,   -999.0,9,  -999.00,-999.00000,9,  -999.00, -999.00,9, -999.00,9, -999.00,-999.000,9, -999.00,9, -999.00,9,     -999.0,9, 20210409,     1001,  10.1382, -52.3330,     4.3805,2,     0.0429,1,     4.6886,1,     -999.0,1,     -999.0,1,     -999.0,9,     -999.0,9
325020210316,        A20,      69,          1,         13,         13,2,20210409,       0846,    10.1382,   -52.3330,       4909,  1884.0,   3.9755,  34.9868,2,  34.9856,2,    256.2,2,   255.5,2,   14.63,2,   18.23,2,    0.00,2,    1.19,2,-999.000,9,-999.000,9, -999.00,9,  2170.6,2, 2310.58,2,   -999.0,9,  -999.00,   7.72672,2,    25.00, -999.00,9, -999.00,9, -999.00,-999.000,9, -999.00,9, -999.00,9,     -999.0,9, 20210409,      957,  10.1382, -52.3330,     3.9752,2,     0.0428,1,     4.6911,1,     -999.0,1,     -999.0,1,     -999.0,9,     -999.0,9
325020210316,        A20,      69,          1,         12,         12,2,20210409,       0846,    10.1382,   -52.3330,       4909,  2086.2,   3.5727,  34.9694,2,  34.9685,2,    259.5,2,   259.1,2,   16.78,2,   18.19,2,    0.00,2,    1.18,2,   1.124,2,   0.577,2,    0.21,2,  -999.0,9, -999.00,9,   -999.0,9,  -999.00,-999.00000,9,  -999.00, -999.00,9, -999.00,9, -999.00,-999.000,9, -999.00,9, -999.00,9,      13.53,2, 20210409,      952,  10.1382, -52.3330,     3.5722,2,     0.0419,1,     4.6916,1,     -999.0,1,     -999.0,1,     -999.0,9,     -999.0,9
325020210316,        A20,      69,          1,         11,         11,2,20210409,       0846,    10.1382,   -52.3330,       4909,  2360.7,   3.2462,  34.9554,2,  34.9541,2,    260.1,2,   260.4,2,   19.61,2,   18.31,2,    0.00,2,    1.20,2,-999.000,9,-999.000,9, -999.00,9,  2167.8,2, -999.00,9,   -999.0,9,  -999.00,   7.73656,2,    24.98, -999.00,9, -999.00,9, -999.00,-999.000,9, -999.00,9, -999.00,9,     -999.0,9, 20210409,      946,  10.1382, -52.3330,     3.2462,2,     0.0427,1,     4.6904,1,     -999.0,1,     -999.0,1,     -999.0,9,     -999.0,9
325020210316,        A20,      69,          1,         10,         10,4,20210409,       0846,    10.1382,   -52.3330,       4909,  2616.1,   3.0423,  34.9447,3,-999.0000,9,    260.5,3,  -999.0,9, -999.00,9, -999.00,9, -999.00,9, -999.00,9,-999.000,9,-999.000,9, -999.00,9,  -999.0,9, -999.00,9,   -999.0,9,  -999.00,-999.00000,9,  -999.00, -999.00,9, -999.00,9, -999.00,-999.000,9, -999.00,9, -999.00,9,     -999.0,9, 20210409,      940,  10.1382, -52.3330,     3.0424,3,     0.0429,1,     4.6902,1,     -999.0,9,     -999.0,9,     -999.0,9,     -999.0,9
325020210316,        A20,      69,          1,          9,          9,2,20210409,       0846,    10.1382,   -52.3330,       4909,  2869.3,   2.8834,  34.9346,2,  34.9331,2,    261.6,2,   261.9,2,   23.12,2,   18.47,2,    0.00,2,    1.22,2,   0.834,2,   0.408,2,    0.21,2,  -999.0,9, -999.00,9,   -999.0,9,  -999.00,-999.00000,9,  -999.00, -999.00,9, -999.00,9, -999.00,-999.000,9, -999.00,9, -999.00,9,       7.50,2, 20210409,      935,  10.1382, -52.3330,     2.8833,2,     0.0429,1,     4.6894,1,     -999.0,1,     -999.0,1,     -999.0,9,     -999.0,9
325020210316,        A20,      69,          1,          8,          8,2,20210409,       0846,    10.1382,   -52.3330,       4909,  3140.5,   2.7335,  34.9248,2,  34.9240,2,    261.2,2,   261.4,2,   25.76,2,   18.73,2,    0.00,2,    1.23,2,-999.000,9,-999.000,9, -999.00,9,  -999.0,9, -999.00,9,   -999.0,9,  -999.00,-999.00000,9,  -999.00, -999.00,9, -999.00,9, -999.00,-999.000,9, -999.00,9, -999.00,9,     -999.0,9, 20210409,      929,  10.1382, -52.3330,     2.7336,2,     0.0421,1,     4.6912,1,     -999.0,1,     -999.0,1,     -999.0,9,     -999.0,9
325020210316,        A20,      69,          1,          7,          7,2,20210409,       0846,    10.1382,   -52.3330,       4909,  3447.0,   2.5746,  34.9136,2,  34.9122,2,    261.3,2,   261.5,2,   28.59,2,   19.00,2,    0.00,2,    1.26,2,-999.000,9,-999.000,9, -999.00,9,  2178.7,2, 2323.83,6,   -999.0,9,  -999.00,   7.73521,2,    24.98, -999.00,9, -999.00,9, -999.00,-999.000,9, -999.00,9, -999.00,9,     -999.0,9, 20210409,      923,  10.1382, -52.3330,     2.5745,2,     0.0420,1,     4.6916,1,     -999.0,1,     -999.0,1,     -999.0,9,     -999.0,9
325020210316,        A20,      69,          1,          6,          6,2,20210409,       0846,    10.1382,   -52.3330,       4909,  3753.1,   2.4232,  34.9026,2,  34.9006,2,    264.3,2,   264.6,2,   28.78,2,   18.64,2,    0.00,2,    1.24,2,   0.758,2,   0.430,2,    0.22,2,  -999.0,9, -999.00,9,   -999.0,9,  -999.00,-999.00000,9,  -999.00, -999.00,9, -999.00,9, -999.00,-999.000,9, -999.00,9, -999.00,9,      14.99,2, 20210409,      916,  10.1382, -52.3330,     2.4234,2,     0.0434,1,     4.6920,1,     -999.0,1,     -999.0,1,     -999.0,9,     -999.0,9
325020210316,        A20,      69,          1,          5,          5,2,20210409,       0846,    10.1382,   -52.3330,       4909,  4061.9,   2.3140,  34.8927,2,  34.8920,2,    262.4,2,   262.5,2,   32.88,2,   19.42,2,    0.00,2,    1.28,2,-999.000,9,-999.000,9, -999.00,9,  -999.0,9, -999.00,9,   -999.0,9,  -999.00,-999.00000,9,  -999.00, -999.00,9, -999.00,9, -999.00,-999.000,9, -999.00,9, -999.00,9,     -999.0,9, 20210409,      908,  10.1382, -52.3330,     2.3136,2,     0.0426,1,     4.6913,1,     -999.0,1,     -999.0,1,     -999.0,9,     -999.0,9
325020210316,        A20,      69,          1,          4,          4,2,20210409,       0846,    10.1382,   -52.3330,       4909,  4368.4,   2.2452,  34.8838,2,  34.8837,2,    260.7,2,   260.1,2,   36.49,2,   19.84,2,    0.00,2,    1.32,2,   0.557,2,   0.291,2,    0.18,2,  -999.0,9, -999.00,9,   -999.0,9,  -999.00,-999.00000,9,  -999.00, -999.00,9, -999.00,9, -999.00,-999.000,9, -999.00,9, -999.00,9,      14.80,2, 20210409,      901,  10.1382, -52.3330,     2.2451,2,     0.0429,1,     4.6913,1,     -999.0,1,     -999.0,1,     -999.0,9,     -999.0,9
325020210316,        A20,      69,          1,          3,          3,2,20210409,       0846,    10.1382,   -52.3330,       4909,  4677.0,   2.1088,  34.8638,2,  34.8644,2,    253.1,2,   253.4,2,   47.03,2,   21.47,2,    0.00,2,    1.43,2,-999.000,9,-999.000,9, -999.00,9,  2198.6,2, -999.00,9,   -999.0,9,  -999.00,   7.71803,2,    24.99, -999.00,9, -999.00,9, -999.00,-999.000,9, -999.00,9, -999.00,9,     -999.0,9, 20210409,      855,  10.1382, -52.3330,     2.1108,2,     0.0429,1,     4.6873,1,     -999.0,1,     -999.0,1,     -999.0,9,     -999.0,9