BOTTLE,20230512CCHSIOCBG
EXPOCODE,SECT_ID,STNNBR,CASTNO,SAMPNO,BTLNBR,BTLNBR_FLAG_W,DATE,TIME,LATITUDE,LONGITUDE,DEPTH,CTDPRS,CTDTMP,CTDSAL,CTDSAL_FLAG_W,SALNTY,SALNTY_FLAG_W,CTDOXY,CTDOXY_FLAG_W,OXYGEN,OXYGEN_FLAG_W,SILCAT,SILCAT_FLAG_W,NITRAT,NITRAT_FLAG_W,NITRIT,NITRIT_FLAG_W,PHSPHT,PHSPHT_FLAG_W,CFC-11,CFC-11_FLAG_W,CFC-12,CFC-12_FLAG_W,SF6,SF6_FLAG_W,TCARBN,TCARBN_FLAG_W,ALKALI,ALKALI_FLAG_W,FCO2,FCO2_FLAG_W,FCO2TMP,PH_TOT,PH_TOT_FLAG_W,PH_TMP,DELC13,DELC13_FLAG_W,DELC14,DELC14_FLAG_W,C14ERR,POC,POC_FLAG_W,DOC,DOC_FLAG_W,TDN,TDN_FLAG_W,N2O,N2O_FLAG_W,BTL_DATE,BTL_TIME,BTL_LAT,BTL_LON,REFTMP,REFTMP_FLAG_W,CTDFLUOR,CTDFLUOR_FLAG_W,CTDXMISS,CTDXMISS_FLAG_W,D15N_NO2+NO3,D15N_NO2+NO3_FLAG_W,D18O_NO2+NO3,D18O_NO2+NO3_FLAG_W,HPLC,HPLC_FLAG_W,MICROGELS,MICROGELS_FLAG_W
,,,,,,,,,,,METERS,DBAR,ITS-90,PSS-78,,PSS-78,,UMOL/KG,,UMOL/KG,,UMOL/KG,,UMOL/KG,,UMOL/KG,,UMOL/KG,,PMOL/KG,,PMOL/KG,,FMOL/KG,,UMOL/KG,,UMOL/KG,,UATM,,DEG C,,,DEG C,/MILLE,,/MILLE,,/MILLE,UG/KG,,UMOL/KG,,UMOL/KG,,NMOL/KG,,,,,,ITS-90,,VOLTS,,VOLTS,,/MILLE,,/MILLE,,,,1E6 GELS/L,
325020210316,        A20,      59,          1,         36,         36,2,20210406,       1127,    15.9725,   -52.3334,       5428,     5.2,  25.5035,  36.4705,2,  36.4778,2,    206.1,2,  -999.0,9,    0.98,2,    0.00,2,    0.00,2,    0.00,2,-999.000,9,-999.000,9, -999.00,9,  -999.0,9, -999.00,9,   -999.0,9,  -999.00,-999.00000,9,  -999.00, -999.00,9, -999.00,9, -999.00,-999.000,1, -999.00,9, -999.00,9,     -999.0,9, 20210406,     1346,  15.9725, -52.3334,     -999.0,9,     0.0424,1,     4.6351,1,     -999.0,1,     -999.0,1,     -999.0,1,     -999.0,9
325020210316,        A20,      59,          1,         35,         35,2,20210406,       1127,    15.9725,   -52.3334,       5428,     5.4,  25.5077,  36.4706,2,  36.4735,2,    205.9,2,   205.7,2,    0.88,2,    0.00,2,    0.00,2,    0.00,2,   1.481,2,   0.991,2,    1.67,2,  2048.0,2,  2386.5,2,    292.8,2,    20.00,   8.09717,2,    25.00,    1.16,2,   25.93,2,    2.13,-999.000,9,   80.17,2,    4.59,2,       6.24,2, 20210406,     1346,  15.9725, -52.3334,    25.5045,2,     0.0411,1,     4.6365,1,     -999.0,1,     -999.0,1,     -999.0,9,     -999.0,9
325020210316,        A20,      59,          1,         34,         34,2,20210406,       1127,    15.9725,   -52.3334,       5428,    20.6,  25.4805,  36.4701,2,  36.4727,2,    205.9,2,   205.7,2,    0.78,2,    0.00,2,    0.00,2,    0.00,2,-999.000,9,-999.000,9, -999.00,9,  2047.1,2, 2387.74,2,    292.9,2,    20.00,   8.09706,6,    25.00, -999.00,9, -999.00,9, -999.00,-999.000,9,   82.11,2,    3.75,2,     -999.0,9, 20210406,     1345,  15.9724, -52.3334,    25.4823,2,     0.0438,1,     4.6361,1,     -999.0,1,     -999.0,1,     -999.0,9,     -999.0,9
325020210316,        A20,      59,          1,         33,         33,2,20210406,       1127,    15.9725,   -52.3334,       5428,    40.5,  25.4795,  36.4699,2,  36.4786,2,    205.7,2,   205.5,2,    0.78,2,    0.00,2,    0.00,2,    0.00,2,-999.000,9,-999.000,9, -999.00,9,  2048.0,2, 2389.36,6,    293.9,2,    20.00,   8.09727,2,    25.01, -999.00,9, -999.00,9, -999.00,-999.000,9,   79.20,2,    3.92,2,     -999.0,9, 20210406,     1343,  15.9724, -52.3334,    25.4776,2,     0.0436,1,     4.6374,1,     -999.0,1,     -999.0,1,     -999.0,9,     -999.0,9
325020210316,        A20,      59,          1,         32,         32,2,20210406,       1127,    15.9725,   -52.3334,       5428,    65.9,  25.4434,  36.6088,2,  36.6114,2,    206.5,2,   206.5,2,    0.68,2,    0.00,2,    0.00,2,    0.00,2,-999.000,9,-999.000,9, -999.00,9,  2052.2,2, 2397.61,2,    294.5,2,    20.00,   8.09816,2,    25.02, -999.00,9, -999.00,9, -999.00,-999.000,9,   81.42,2,    4.08,2,     -999.0,9, 20210406,     1341,  15.9724, -52.3334,    25.4427,2,     0.0486,1,     4.6380,1,     -999.0,1,     -999.0,1,     -999.0,9,     -999.0,9
325020210316,        A20,      59,          1,         31,         31,2,20210406,       1127,    15.9725,   -52.3334,       5428,    90.7,  25.4331,  36.7611,2,  36.7595,2,    206.2,2,   206.5,2,    0.59,2,    0.00,2,    0.00,2,    0.00,2,-999.000,9,-999.000,9, -999.00,9,  2062.3,2, 2405.59,2,    298.6,2,    20.00,   8.09408,2,    25.06, -999.00,9, -999.00,9, -999.00,-999.000,9,   77.95,2,    4.85,2,     -999.0,9, 20210406,     1339,  15.9724, -52.3334,    25.4318,2,     0.0574,1,     4.6447,1,     -999.0,1,     -999.0,1,     -999.0,9,     -999.0,9
325020210316,        A20,      59,          1,         30,         30,2,20210406,       1127,    15.9725,   -52.3334,       5428,   120.9,  24.0873,  37.1417,2,  37.1425,2,    192.8,2,  -999.0,9,    0.29,2,    0.03,2,    0.01,2,    0.00,2,-999.000,9,-999.000,9, -999.00,9,  -999.0,9, -999.00,9,   -999.0,9,  -999.00,-999.00000,9,  -999.00, -999.00,9, -999.00,9, -999.00,-999.000,1, -999.00,9, -999.00,9,     -999.0,9, 20210406,     1337,  15.9724, -52.3334,     -999.0,9,     0.0940,1,     4.6434,1,     -999.0,1,     -999.0,1,     -999.0,1,     -999.0,9
325020210316,        A20,      59,          1,         29,         29,2,20210406,       1127,    15.9725,   -52.3334,       5428,   121.1,  24.0871,  37.1415,2,  37.1435,2,    192.6,3,   195.2,2,    0.29,2,    0.04,2,    0.01,2,    0.00,2,-999.000,9,-999.000,9, -999.00,9,  2123.0,2, 2429.19,2,    360.9,2,    20.00,   8.02781,2,    25.06, -999.00,9, -999.00,9, -999.00,-999.000,9,   67.45,2,    3.77,2,     -999.0,9, 20210406,     1337,  15.9724, -52.3334,    24.0867,2,     0.0882,1,     4.6422,1,     -999.0,1,     -999.0,1,     -999.0,9,     -999.0,9
325020210316,        A20,      59,          1,         28,         28,2,20210406,       1127,    15.9725,   -52.3334,       5428,   185.5,  19.9136,  36.7384,2,  36.7058,3,    139.2,3,   143.2,2,    1.85,2,    8.17,2,    0.01,2,    0.41,2,-999.000,9,-999.000,9, -999.00,9,  2174.6,2, 2398.27,2,    532.1,2,    20.00,   7.88066,2,    25.01, -999.00,9, -999.00,9, -999.00,-999.000,9,   55.82,2,   10.31,2,     -999.0,9, 20210406,     1334,  15.9724, -52.3334,    19.8987,2,     0.0521,1,     4.6783,1,     -999.0,1,     -999.0,1,     -999.0,9,     -999.0,9
325020210316,        A20,      59,          1,         27,         27,2,20210406,       1127,    15.9725,   -52.3334,       5428,   236.6,  16.2018,  36.1502,2,  36.1490,2,    121.7,3,   125.2,2,    4.29,2,   15.37,2,    0.00,2,    0.85,2,-999.000,9,-999.000,9, -999.00,9,  2190.8,2, 2362.32,2,    674.5,2,    20.00,   7.78262,2,    25.00,    0.32,2,   45.33,2,    2.14,-999.000,9,   49.97,2,   17.34,2,     -999.0,9, 20210406,     1332,  15.9724, -52.3334,    16.2108,2,     0.0414,1,     4.6850,1,     -999.0,1,     -999.0,1,     -999.0,9,     -999.0,9
325020210316,        A20,      59,          1,         26,         26,2,20210406,       1127,    15.9725,   -52.3334,       5428,   286.6,  14.8926,  35.9499,2,  35.9465,2,    119.6,3,   121.7,2,    5.47,2,   17.67,2,    0.00,2,    1.00,2,   1.963,2,   1.242,2,    1.07,2,  2193.4,2, 2352.39,2,    728.6,2,    20.00,   7.75012,2,    25.01, -999.00,9, -999.00,9, -999.00,-999.000,9,   49.59,2,   18.71,2,      21.06,2, 20210406,     1329,  15.9724, -52.3334,    14.8903,2,     0.0412,1,     4.6865,1,     -999.0,1,     -999.0,1,     -999.0,9,     -999.0,9
325020210316,        A20,      59,          1,         25,         25,2,20210406,       1127,    15.9725,   -52.3334,       5428,   337.1,  13.9649,  35.8206,2,  35.8159,2,    120.3,2,   121.2,2,    6.25,2,   19.04,2,    0.00,2,    1.09,2,-999.000,9,-999.000,9, -999.00,9,  2193.8,2, 2345.14,2,    762.9,2,    20.00,   7.73082,2,    25.00,    0.34,2,   39.30,2,    2.31,-999.000,9,   46.40,2,   21.15,2,     -999.0,9, 20210406,     1327,  15.9724, -52.3334,    14.0440,2,     0.0422,1,     4.6875,1,     -999.0,1,     -999.0,1,     -999.0,9,     -999.0,9
325020210316,        A20,      59,          1,         24,         24,2,20210406,       1127,    15.9725,   -52.3334,       5428,   387.9,  12.5793,  35.5976,2,  35.5997,2,    115.8,2,   116.1,2,    8.30,2,   21.94,2,    0.00,2,    1.28,2,-999.000,9,-999.000,9, -999.00,9,  2202.2,2, 2336.11,2,    838.4,2,    20.00,   7.68992,2,    25.02, -999.00,9, -999.00,9, -999.00,-999.000,9, -999.00,9, -999.00,9,     -999.0,9, 20210406,     1325,  15.9724, -52.3334,    12.6272,2,     0.0412,1,     4.6898,1,     -999.0,1,     -999.0,1,     -999.0,9,     -999.0,9
325020210316,        A20,      59,          1,         23,         23,2,20210406,       1127,    15.9725,   -52.3334,       5428,   468.5,  10.5882,  35.2906,2,  35.2869,2,    114.5,2,   114.6,2,   12.30,2,   25.99,2,    0.00,2,    1.57,2,-999.000,9,-999.000,9, -999.00,9,  2208.7,6, 2324.07,2,    948.0,2,    20.00,   7.63737,2,    24.97, -999.00,9, -999.00,9, -999.00,-999.000,9, -999.00,9, -999.00,9,     -999.0,9, 20210406,     1322,  15.9724, -52.3334,    10.5898,2,     0.0416,1,     4.6893,1,     -999.0,1,     -999.0,1,     -999.0,9,     -999.0,9
325020210316,        A20,      59,          1,         22,         22,2,20210406,       1127,    15.9725,   -52.3334,       5428,   568.6,   8.5555,  34.9975,2,  34.9939,2,    117.8,2,   117.2,2,   17.09,2,   29.66,2,    0.00,2,    1.86,2,   1.051,2,   0.581,2,    0.32,2,  2214.3,2, 2310.52,2,   1058.5,2,    20.00,   7.58857,2,    25.01,    0.57,2,  -30.98,2,    1.91,-999.000,9,   43.62,2,   31.11,2,      25.44,2, 20210406,     1319,  15.9724, -52.3334,     8.5627,2,     0.0433,1,     4.6923,1,     -999.0,1,     -999.0,1,     -999.0,9,     -999.0,9
325020210316,        A20,      59,          1,         21,         21,2,20210406,       1127,    15.9725,   -52.3334,       5428,   670.7,   6.9986,  34.7933,2,  34.7321,3,    122.1,2,   121.8,2,   21.49,2,   32.36,2,    0.00,2,    2.08,2,   0.700,2,   0.362,2,    0.24,2,  2219.7,2, 2305.28,2,   1144.0,2,    20.00,   7.55574,6,    25.04, -999.00,9, -999.00,9, -999.00,-999.000,9, -999.00,9, -999.00,9,      24.69,2, 20210406,     1316,  15.9724, -52.3334,     6.9972,2,     0.0433,1,     4.6923,1,     -999.0,1,     -999.0,1,     -999.0,9,     -999.0,9
325020210316,        A20,      59,          1,         20,         20,2,20210406,       1127,    15.9725,   -52.3334,       5428,   771.1,   6.2224,  34.7313,2,  34.7311,2,    125.8,2,   125.5,2,   24.32,2,   33.37,2,    0.00,2,    2.17,2,-999.000,9,-999.000,9, -999.00,9,  2222.0,2, 2304.58,6,   1170.4,2,    20.00,   7.54431,2,    25.01,    0.64,2,  -86.47,2,    1.80,-999.000,9,   42.31,2,   34.31,2,     -999.0,9, 20210406,     1313,  15.9724, -52.3334,     6.2226,2,     0.0429,1,     4.6926,1,     -999.0,1,     -999.0,1,     -999.0,9,     -999.0,9
325020210316,        A20,      59,          1,         19,         19,2,20210406,       1127,    15.9725,   -52.3334,       5428,   872.7,   5.7760,  34.7440,2,  34.7447,2,    133.1,2,   133.1,2,   25.49,2,   32.87,2,    0.00,2,    2.15,2,-999.000,9,-999.000,9, -999.00,9,  2220.0,2, 2306.49,2,   1141.9,2,    20.00,   7.55458,2,    24.98,    0.56,3,  -91.74,2,    1.91,-999.000,9,   42.97,2,   35.03,2,     -999.0,9, 20210406,     1309,  15.9724, -52.3334,     5.7747,2,     0.0423,1,     4.6933,1,     -999.0,1,     -999.0,1,     -999.0,9,     -999.0,9
325020210316,        A20,      59,          1,         18,         18,2,20210406,       1127,    15.9725,   -52.3334,       5428,   972.9,   5.5552,  34.7894,2,  34.7891,2,    143.3,2,   143.5,2,   25.10,2,   31.52,2,    0.00,2,    2.06,2,   0.194,2,   0.097,2,    0.06,2,  2217.4,2, 2308.61,2,   1088.6,2,    20.00,    7.5741,2,    25.01,    0.72,2,  -96.15,2,    1.88,-999.000,9,   43.68,2,   32.77,2,      22.62,2, 20210406,     1307,  15.9724, -52.3334,     5.5544,2,     0.0439,1,     4.6935,1,     -999.0,1,     -999.0,1,     -999.0,9,     -999.0,9
325020210316,        A20,      59,          1,         17,         17,2,20210406,       1127,    15.9725,   -52.3334,       5428,  1074.4,   5.4636,  34.8709,2,  34.8705,2,    159.7,2,   160.1,2,   23.15,2,   28.87,2,    0.00,2,    1.89,2,   0.267,2,   0.134,2,    0.10,2,  2207.8,2, 2311.51,2,    997.9,2,    20.00,   7.61003,2,    25.01,    0.76,2,  -92.28,2,    1.89,-999.000,9,   44.37,2,   29.06,2,      21.86,2, 20210406,     1304,  15.9724, -52.3334,     5.4631,2,     0.0433,1,     4.6950,1,     -999.0,1,     -999.0,1,     -999.0,9,     -999.0,9
325020210316,        A20,      59,          1,         16,         16,2,20210406,       1127,    15.9725,   -52.3334,       5428,  1175.7,   5.3549,  34.9336,2,  34.9339,2,    177.2,2,   177.9,2,   21.00,2,   26.40,2,    0.00,2,    1.73,2,-999.000,9,-999.000,9, -999.00,9,  2198.5,2, 2314.45,2,    926.4,6,    20.00,   7.64254,2,    25.00,    0.83,2,  -87.18,2,    2.01,-999.000,9,   41.57,2,   27.07,2,     -999.0,9, 20210406,     1301,  15.9725, -52.3334,     5.3544,2,     0.0419,1,     4.6956,1,     -999.0,1,     -999.0,1,     -999.0,9,     -999.0,9
325020210316,        A20,      59,          1,         15,         15,2,20210406,       1127,    15.9725,   -52.3334,       5428,  1362.6,   4.9195,  34.9965,2,  34.9965,2,    211.1,2,   210.8,2,   17.68,2,   22.43,2,    0.00,2,    1.46,2,   0.690,2,   0.349,2,    0.21,2,  2182.3,6, 2316.63,2,    825.4,2,    20.00,   7.68976,2,    25.04,    0.93,2,  -72.65,2,    1.83,-999.000,9,   45.37,2,   23.08,2,      16.10,2, 20210406,     1257,  15.9725, -52.3334,     4.9191,2,     0.0425,1,     4.6966,1,     -999.0,1,     -999.0,1,     -999.0,9,     -999.0,9
325020210316,        A20,      59,          1,         14,         14,2,20210406,       1127,    15.9725,   -52.3334,       5428,  1549.4,   4.4239,  34.9970,2,  34.9992,2,    228.5,2,   228.7,2,   17.38,2,   21.01,2,    0.00,2,    1.37,2,   0.574,2,   0.278,2,    0.20,2,  2174.1,2, 2315.97,2,   -999.0,9,  -999.00,   7.71156,2,    25.01,    1.04,2,  -72.50,2,    1.94,-999.000,9,   43.69,2,   22.81,2,      14.62,2, 20210406,     1252,  15.9721, -52.3335,     4.4236,2,     0.0422,1,     4.6975,1,     -999.0,1,     -999.0,1,     -999.0,9,     -999.0,9
325020210316,        A20,      59,          1,         13,         13,2,20210406,       1127,    15.9725,   -52.3334,       5428,  1752.8,   3.9960,  34.9895,2,  34.9913,2,    247.1,2,   246.1,2,   16.70,2,   19.44,2,    0.00,2,    1.26,2,-999.000,9,-999.000,9, -999.00,9,  2166.6,2, 2314.36,2,    751.5,2,    20.00,   7.72693,2,    25.03, -999.00,9, -999.00,9, -999.00,-999.000,9, -999.00,9, -999.00,9,     -999.0,9, 20210406,     1248,  15.9718, -52.3334,     3.9946,2,     0.0417,1,     4.6975,1,     -999.0,1,     -999.0,1,     -999.0,9,     -999.0,9
325020210316,        A20,      59,          1,         12,         12,2,20210406,       1127,    15.9725,   -52.3334,       5428,  1956.1,   3.5937,  34.9737,2,  34.9748,2,    250.5,2,   250.4,2,   19.83,2,   19.47,2,    0.00,2,    1.26,2,-999.000,9,-999.000,9, -999.00,9,  2169.3,2, 2318.08,2,   -999.0,9,  -999.00,   7.73362,2,    24.99,    1.08,2,  -76.81,2,    1.93,-999.000,9,   41.68,2,   19.82,2,     -999.0,9, 20210406,     1243,  15.9719, -52.3334,     3.5921,2,     0.0427,1,     4.6972,1,     -999.0,1,     -999.0,1,     -999.0,9,     -999.0,9
325020210316,        A20,      59,          1,         11,         11,2,20210406,       1127,    15.9725,   -52.3334,       5428,  2188.7,   3.2845,  34.9604,2,  34.9614,2,    251.4,2,   251.4,2,   23.64,2,   19.57,2,    0.00,2,    1.28,2,   0.349,2,   0.169,2,    0.17,2,  2172.9,2, 2320.65,2,    737.0,2,    20.00,   7.73607,2,    25.00, -999.00,9, -999.00,9, -999.00,-999.000,9, -999.00,9, -999.00,9,      13.28,2, 20210406,     1238,  15.9719, -52.3334,     3.2839,2,     0.0429,1,     4.6972,1,     -999.0,1,     -999.0,1,     -999.0,9,     -999.0,9
325020210316,        A20,      59,          1,         10,         10,2,20210406,       1127,    15.9725,   -52.3334,       5428,  2443.5,   3.0321,  34.9469,2,  34.9481,2,    254.5,2,   254.5,2,   25.59,2,   19.46,2,    0.00,2,    1.28,2,   0.353,2,   0.171,2,    0.07,2,  2174.4,2, 2327.67,2,   -999.0,9,  -999.00,   7.73802,2,    25.01,    1.00,2,  -87.40,2,    1.94,-999.000,9,   43.12,2,   22.78,2,      13.20,2, 20210406,     1232,  15.9719, -52.3334,     3.0319,2,     0.0434,1,     4.6965,1,     -999.0,1,     -999.0,1,     -999.0,9,     -999.0,9
325020210316,        A20,      59,          1,          9,          9,2,20210406,       1127,    15.9725,   -52.3334,       5428,  2698.1,   2.8589,  34.9355,2,  34.9370,2,    251.2,2,   251.5,2,   30.67,2,   20.17,2,    0.00,2,    1.32,2,-999.000,9,-999.000,9, -999.00,9,  2180.6,2, 2326.01,2,    740.4,2,    20.00,   7.73657,2,    25.01, -999.00,9, -999.00,9, -999.00,-999.000,9, -999.00,9, -999.00,9,     -999.0,9, 20210406,     1227,  15.9719, -52.3334,     2.8589,2,     0.0429,1,     4.6971,1,     -999.0,1,     -999.0,1,     -999.0,9,     -999.0,9
325020210316,        A20,      59,          1,          8,          8,2,20210406,       1127,    15.9725,   -52.3334,       5428,  2953.2,   2.7306,  34.9257,2,  34.9296,3,    249.4,2,   249.9,2,   34.18,2,   20.53,2,    0.00,2,    1.36,2,-999.000,9,-999.000,9, -999.00,9,  2182.7,2, 2330.04,2,    744.7,2,    20.00,    7.7335,2,    25.03, -999.00,9, -999.00,9, -999.00,-999.000,9,   43.76,2,   20.70,2,     -999.0,9, 20210406,     1221,  15.9719, -52.3334,     2.7306,2,     0.0424,1,     4.6962,1,     -999.0,1,     -999.0,1,     -999.0,9,     -999.0,9
325020210316,        A20,      59,          1,          7,          7,2,20210406,       1127,    15.9725,   -52.3334,       5428,  3244.0,   2.6336,  34.9169,2,  34.9176,2,    249.9,2,   250.1,2,   36.33,2,   20.70,2,    0.00,2,    1.37,2,   0.156,2,   0.075,2,    0.05,2,  2185.5,2, 2331.56,2,   -999.0,9,  -999.00,   7.73301,2,    25.00,    1.01,2, -103.47,2,    1.98,-999.000,9,   42.43,2,   22.32,2,      13.49,2, 20210406,     1215,  15.9719, -52.3334,     2.6331,2,     0.0430,1,     4.6960,1,     -999.0,1,     -999.0,1,     -999.0,9,     -999.0,9
325020210316,        A20,      59,          1,          6,          6,2,20210406,       1127,    15.9725,   -52.3334,       5428,  3616.2,   2.4452,  34.8999,2,  34.8997,2,    251.5,2,   251.4,2,   39.56,2,   20.85,2,    0.00,2,    1.39,2,-999.000,9,-999.000,9, -999.00,9,  2188.7,2, 2333.63,2,    753.8,2,    20.00,   7.72903,2,    25.01, -999.00,9, -999.00,9, -999.00,-999.000,9, -999.00,9, -999.00,9,     -999.0,9, 20210406,     1207,  15.9719, -52.3334,     2.4451,2,     0.0421,1,     4.6959,1,     -999.0,1,     -999.0,1,     -999.0,9,     -999.0,9
325020210316,        A20,      59,          1,          5,          5,2,20210406,       1127,    15.9725,   -52.3334,       5428,  4026.4,   2.2875,  34.8859,2,  34.8877,2,    256.2,2,   255.9,2,   39.75,2,   20.55,2,    0.00,2,    1.38,2,   0.371,2,   0.178,2,    0.12,2,  2188.4,2, 2333.52,2,    756.7,2,    20.00,   7.72837,2,    24.99, -999.00,9, -999.00,9, -999.00,-999.000,9,   43.16,2,   22.84,2,      13.61,2, 20210406,     1159,  15.9719, -52.3334,     2.2874,2,     0.0428,1,     4.6958,1,     -999.0,1,     -999.0,1,     -999.0,9,     -999.0,9
325020210316,        A20,      59,          1,          4,          4,2,20210406,       1127,    15.9725,   -52.3334,       5428,  4436.7,   2.1029,  34.8658,2,  34.8676,2,    254.1,2,   253.9,2,   46.30,2,   21.26,2,    0.00,2,    1.43,2,-999.000,9,-999.000,9, -999.00,9,  2192.9,2, 2336.48,2,    773.0,2,    20.00,   7.71989,2,    25.06,    0.94,2,  -99.26,2,    1.80,-999.000,9,   42.80,2,   22.44,2,     -999.0,9, 20210406,     1151,  15.9718, -52.3334,     2.1044,2,     0.0429,1,     4.6946,1,     -999.0,1,     -999.0,1,     -999.0,9,     -999.0,9
325020210316,        A20,      59,          1,          3,          3,2,20210406,       1127,    15.9725,   -52.3334,       5428,  4846.6,   1.9025,  34.8367,2,  34.8383,2,    246.1,2,   246.4,2,   59.39,2,   23.22,2,    0.00,2,    1.57,2,-999.000,9,-999.000,9, -999.00,9,  2209.3,2, 2346.64,2,   -999.0,9,  -999.00,   7.70355,6,    25.02, -999.00,9, -999.00,9, -999.00,-999.000,9,   44.02,2,   24.93,2,     -999.0,9, 20210406,     1143,  15.9718, -52.3334,     1.9025,2,     0.0427,1,     4.6874,1,     -999.0,1,     -999.0,1,     -999.0,9,     -999.0,9