BOTTLE,20230512CCHSIOCBG
EXPOCODE,SECT_ID,STNNBR,CASTNO,SAMPNO,BTLNBR,BTLNBR_FLAG_W,DATE,TIME,LATITUDE,LONGITUDE,DEPTH,CTDPRS,CTDTMP,CTDSAL,CTDSAL_FLAG_W,SALNTY,SALNTY_FLAG_W,CTDOXY,CTDOXY_FLAG_W,OXYGEN,OXYGEN_FLAG_W,SILCAT,SILCAT_FLAG_W,NITRAT,NITRAT_FLAG_W,NITRIT,NITRIT_FLAG_W,PHSPHT,PHSPHT_FLAG_W,CFC-11,CFC-11_FLAG_W,CFC-12,CFC-12_FLAG_W,SF6,SF6_FLAG_W,TCARBN,TCARBN_FLAG_W,ALKALI,ALKALI_FLAG_W,FCO2,FCO2_FLAG_W,FCO2TMP,PH_TOT,PH_TOT_FLAG_W,PH_TMP,DELC13,DELC13_FLAG_W,DELC14,DELC14_FLAG_W,C14ERR,POC,POC_FLAG_W,DOC,DOC_FLAG_W,TDN,TDN_FLAG_W,N2O,N2O_FLAG_W,BTL_DATE,BTL_TIME,BTL_LAT,BTL_LON,REFTMP,REFTMP_FLAG_W,CTDFLUOR,CTDFLUOR_FLAG_W,CTDXMISS,CTDXMISS_FLAG_W,D15N_NO2+NO3,D15N_NO2+NO3_FLAG_W,D18O_NO2+NO3,D18O_NO2+NO3_FLAG_W,HPLC,HPLC_FLAG_W,MICROGELS,MICROGELS_FLAG_W
,,,,,,,,,,,METERS,DBAR,ITS-90,PSS-78,,PSS-78,,UMOL/KG,,UMOL/KG,,UMOL/KG,,UMOL/KG,,UMOL/KG,,UMOL/KG,,PMOL/KG,,PMOL/KG,,FMOL/KG,,UMOL/KG,,UMOL/KG,,UATM,,DEG C,,,DEG C,/MILLE,,/MILLE,,/MILLE,UG/KG,,UMOL/KG,,UMOL/KG,,NMOL/KG,,,,,,ITS-90,,VOLTS,,VOLTS,,/MILLE,,/MILLE,,,,1E6 GELS/L,
325020210316,        A20,      18,          1,         35,         35,2,20210324,       2054,    40.0812,   -52.3339,       5254,     4.3,  14.7052,  35.6901,2,  35.6938,2,    246.5,2,   244.8,2,    2.83,2,    5.80,2,    0.15,2,    0.35,2,   2.425,2,   1.484,2,    2.55,3,  2113.7,6, 2348.22,2,    467.1,2,    20.00,   7.91104,2,    25.01,    0.51,2,   24.96,2,    2.75,-999.000,9,   57.59,2,    9.32,2,       9.84,2, 20210324,     2320,  40.0812, -52.3339,    14.7039,2,     0.1799,1,     4.4677,1,     -999.0,9,     -999.0,9,     -999.0,9,     -999.0,9
325020210316,        A20,      18,          1,         36,         36,2,20210324,       2054,    40.0812,   -52.3339,       5254,     5.4,  14.7038,  35.6860,2,-999.0000,9,    246.5,2,  -999.0,9, -999.00,9, -999.00,9, -999.00,9, -999.00,9,-999.000,9,-999.000,9, -999.00,9,  -999.0,9, -999.00,9,   -999.0,9,  -999.00,-999.00000,9,  -999.00, -999.00,9, -999.00,9, -999.00,-999.000,1, -999.00,9, -999.00,9,     -999.0,9, 20210324,     2320,  40.0812, -52.3339,     -999.0,9,     0.1778,1,     4.4693,1,     -999.0,9,     -999.0,9,     -999.0,1,     -999.0,9
325020210316,        A20,      18,          1,         33,         33,2,20210324,       2054,    40.0812,   -52.3339,       5254,    15.2,  14.7255,  35.7297,2,-999.0000,9,    246.8,2,  -999.0,9, -999.00,9, -999.00,9, -999.00,9, -999.00,9,-999.000,9,-999.000,9, -999.00,9,  -999.0,9, -999.00,9,   -999.0,9,  -999.00,-999.00000,9,  -999.00, -999.00,9, -999.00,9, -999.00,-999.000,1, -999.00,9, -999.00,9,     -999.0,9, 20210324,     2318,  40.0812, -52.3339,    14.7276,2,     0.1912,1,     4.4826,1,     -999.0,9,     -999.0,9,     -999.0,1,     -999.0,9
325020210316,        A20,      18,          1,         34,         34,2,20210324,       2054,    40.0812,   -52.3339,       5254,    15.9,  14.7281,  35.7316,2,  35.7341,2,    246.9,3,   243.0,2,    2.63,2,    5.70,2,    0.14,2,    0.34,2,-999.000,9,-999.000,9, -999.00,9,  2115.9,2,  2350.1,6,    467.2,2,    20.00,   7.91181,2,    25.02,    0.70,2,   30.20,2,    2.30,-999.000,9,   59.32,2,    9.04,2,     -999.0,9, 20210324,     2319,  40.0812, -52.3339,     -999.0,9,     0.1807,1,     4.4823,1,     -999.0,9,     -999.0,9,     -999.0,9,     -999.0,9
325020210316,        A20,      18,          1,         32,         32,2,20210324,       2054,    40.0812,   -52.3339,       5254,    40.7,  14.4658,  35.7451,2,  35.7489,2,    233.1,3,   238.6,2,    2.93,2,    6.22,2,    0.19,2,    0.39,2,   2.348,2,   1.468,2,    2.45,3,  2121.1,2, -999.00,5,    480.9,2,    20.00,   7.90085,6,    25.04,    0.76,2,   31.24,2,    2.37,-999.000,9,   57.58,2,   10.05,2,      10.06,2, 20210324,     2316,  40.0812, -52.3339,    14.4673,2,     0.1211,1,     4.5947,1,     -999.0,9,     -999.0,9,     -999.0,9,     -999.0,9
325020210316,        A20,      18,          1,         31,         31,2,20210324,       2054,    40.0812,   -52.3339,       5254,    59.1,  14.1534,  35.6921,2,  35.6962,2,    232.9,3,   237.6,2,    3.03,2,    6.62,2,    0.24,2,    0.43,2,-999.000,9,-999.000,9, -999.00,9,  2122.5,2, 2348.27,2,    493.3,2,    20.00,   7.89076,2,    25.02,    0.69,2,   32.96,2,    3.14,-999.000,9,   55.77,2,   11.47,2,     -999.0,9, 20210324,     2315,  40.0812, -52.3339,    14.1526,2,     0.0833,1,     4.6490,1,     -999.0,9,     -999.0,9,     -999.0,9,     -999.0,9
325020210316,        A20,      18,          1,         30,         30,2,20210324,       2054,    40.0812,   -52.3339,       5254,    91.2,  13.9529,  35.6693,2,  35.6729,2,    233.4,2,   234.2,2,    2.93,2,    6.92,2,    0.20,2,    0.45,2,   2.411,2,   1.497,2,    2.14,3,  2125.9,2, 2347.42,2,    500.8,2,    20.00,   7.88604,2,    25.03,    0.65,2,   29.84,2,    2.19,-999.000,9,   56.09,2,   10.49,2,      10.38,2, 20210324,     2313,  40.0812, -52.3339,    13.9534,2,     0.0565,1,     4.6773,1,     -999.0,9,     -999.0,9,     -999.0,9,     -999.0,9
325020210316,        A20,      18,          1,         29,         29,2,20210324,       2054,    40.0812,   -52.3339,       5254,   126.2,  13.6701,  35.6197,2,  35.6285,2,    235.3,2,   235.5,2,    3.22,2,    7.09,2,    0.19,2,    0.47,2,-999.000,9,-999.000,9, -999.00,9,  2126.9,2, 2346.14,2,    508.0,2,    20.00,    7.8815,2,    25.02,    0.65,2,   29.88,2,    3.29,-999.000,9,   55.59,2,   10.71,2,     -999.0,9, 20210324,     2310,  40.0812, -52.3339,    13.6754,2,     0.0516,1,     4.6828,1,     -999.0,9,     -999.0,9,     -999.0,9,     -999.0,9
325020210316,        A20,      18,          1,         28,         28,4,20210324,       2054,    40.0812,   -52.3339,       5254,   167.9,  13.3687,  35.5535,3,  35.6011,3,    237.5,3,   213.2,3,    5.17,3,   11.46,3,    0.15,3,    0.72,3,   2.272,2,   1.393,2,    1.32,3,  2144.0,3, 2341.46,2,    562.5,3,    20.00,   7.83594,3,    24.99, -999.00,9, -999.00,9, -999.00,-999.000,9,   52.54,2,   13.53,2,      13.43,2, 20210324,     2309,  40.0812, -52.3339,    13.3676,3,     0.0490,1,     4.6842,1,     -999.0,9,     -999.0,9,     -999.0,9,     -999.0,9
325020210316,        A20,      18,          1,         27,         27,2,20210324,       2054,    40.0812,   -52.3339,       5254,   201.9,  13.3303,  35.5506,2,  35.5545,2,    238.2,2,   239.0,2,    3.03,2,    7.21,2,    0.24,2,    0.47,2,-999.000,9,-999.000,9, -999.00,9,  2126.9,2, 2341.47,2,    517.0,6,    20.00,   7.87527,2,    25.00,    0.65,2,   33.69,2,    2.22,-999.000,9,   57.26,2,   11.39,2,     -999.0,9, 20210324,     2307,  40.0812, -52.3339,    13.3315,2,     0.0469,1,     4.6882,1,     -999.0,9,     -999.0,9,     -999.0,9,     -999.0,9
325020210316,        A20,      18,          1,         26,         26,2,20210324,       2054,    40.0812,   -52.3339,       5254,   277.9,  12.9542,  35.6518,2,  35.6575,2,    146.5,2,   146.6,2,    8.20,2,   18.07,2,    0.00,2,    1.09,2,   1.912,2,   1.125,2,    0.90,3,  2181.1,2, 2340.61,6,    709.0,2,    20.00,    7.7529,2,    25.03,    0.61,2,   22.52,2,    2.59,-999.000,9,   46.07,2,   21.47,2,      18.45,2, 20210324,     2305,  40.0812, -52.3339,    12.9511,2,     0.0415,1,     4.6965,1,     -999.0,9,     -999.0,9,     -999.0,9,     -999.0,9
325020210316,        A20,      18,          1,         25,         25,2,20210324,       2054,    40.0812,   -52.3339,       5254,   328.3,  11.0968,  35.4113,2,  35.4192,2,    135.0,2,   134.2,2,   11.81,2,   22.39,2,    0.00,2,    1.39,2,   1.582,6,   0.910,6,    0.67,3,  2194.5,6,  2329.9,2,    823.0,2,    20.00,   7.69231,2,    25.01,    0.62,2,    5.78,2,    2.28,-999.000,9,   46.71,2,   24.59,2,      21.10,6, 20210324,     2302,  40.0812, -52.3339,    11.0935,2,     0.0424,1,     4.6981,1,     -999.0,9,     -999.0,9,     -999.0,9,     -999.0,9
325020210316,        A20,      18,          1,         24,         24,2,20210324,       2054,    40.0812,   -52.3339,       5254,   404.9,   9.3486,  35.2216,2,  35.2237,2,    140.7,2,   140.8,2,   14.35,2,   24.32,2,    0.00,2,    1.55,2,-999.000,9,-999.000,9, -999.00,9,  2200.1,2, 2322.37,2,    887.7,2,    20.00,   7.66022,6,    25.06,    0.75,2,  -15.65,2,    2.22,-999.000,9,   44.16,2,   27.62,2,     -999.0,9, 20210324,     2300,  40.0812, -52.3339,     9.3520,2,     0.0425,1,     4.6991,1,     -999.0,9,     -999.0,9,     -999.0,9,     -999.0,9
325020210316,        A20,      18,          1,         23,         23,2,20210324,       2054,    40.0812,   -52.3339,       5254,   505.2,   7.6561,  35.1321,2,  35.1329,2,    168.1,2,   169.4,2,   14.16,2,   22.91,2,    0.00,2,    1.49,2,   1.586,2,   0.866,2,    0.57,3,  2195.1,2, 2317.05,2,    878.5,2,    20.00,   7.66346,2,    25.01,    0.89,2,  -27.30,2,    2.09,-999.000,9,   44.91,2,   24.47,2,      19.20,2, 20210324,     2257,  40.0812, -52.3339,     7.6580,2,     0.0424,1,     4.7033,1,     -999.0,9,     -999.0,9,     -999.0,9,     -999.0,9
325020210316,        A20,      18,          1,         22,         22,2,20210324,       2054,    40.0812,   -52.3339,       5254,   641.2,   6.0913,  35.0839,2,  35.0594,3,    206.4,3,   224.4,2,   12.50,2,   19.52,2,    0.00,2,    1.29,2,   2.305,2,   1.267,2,    0.55,3,  2181.1,2, 2313.89,2,    816.1,2,    20.00,   7.69032,2,    25.02,    0.90,2,  -23.10,2,    2.10,-999.000,9, -999.00,9, -999.00,9,      15.72,2, 20210324,     2253,  40.0812, -52.3339,     6.0905,2,     0.0419,1,     4.7076,1,     -999.0,9,     -999.0,9,     -999.0,9,     -999.0,9
325020210316,        A20,      18,          1,         21,         21,2,20210324,       2054,    40.0812,   -52.3339,       5254,   759.2,   5.2766,  35.0457,2,  35.0457,2,    230.4,2,   232.3,2,   12.20,2,   18.99,2,    0.00,2,    1.26,2,-999.000,9,-999.000,9, -999.00,9,  2178.3,2, 2312.12,2,    810.7,2,    20.00,   7.69337,2,    25.03,    0.91,2,  -20.78,2,    2.85,-999.000,9,   47.80,2,   21.70,2,     -999.0,9, 20210324,     2249,  40.0812, -52.3339,     5.2761,2,     0.0430,1,     4.7081,1,     -999.0,9,     -999.0,9,     -999.0,9,     -999.0,9
325020210316,        A20,      18,          1,         20,         20,2,20210324,       2054,    40.0812,   -52.3339,       5254,   883.8,   4.9657,  35.0347,2,  35.0342,2,    243.6,2,   243.0,2,   11.91,2,   18.36,2,    0.00,2,    1.22,2,   2.643,2,   1.459,2,    0.75,3,  2176.8,2, 2311.92,2,    796.8,2,    20.00,   7.70042,2,    25.03,    0.93,2,  -14.38,2,    2.22,-999.000,9, -999.00,9, -999.00,9,      14.71,2, 20210324,     2245,  40.0812, -52.3339,     4.9564,2,     0.0409,1,     4.7083,1,     -999.0,9,     -999.0,9,     -999.0,9,     -999.0,9
325020210316,        A20,      18,          1,         19,         19,2,20210324,       2054,    40.0812,   -52.3339,       5254,  1011.8,   4.6319,  35.0115,2,  35.0110,2,    252.1,2,   251.4,2,   11.81,2,   18.01,2,    0.00,2,    1.20,2,   2.834,2,   1.522,2,    0.96,3,  2172.6,2, 2309.77,2,    791.5,2,    20.00,   7.70315,6,    24.99,    0.98,2,  -11.81,2,    2.04,-999.000,9,   46.36,2,   19.90,2,      14.33,2, 20210324,     2242,  40.0812, -52.3339,     4.6325,2,     0.0416,1,     4.7093,1,     -999.0,9,     -999.0,9,     -999.0,9,     -999.0,9
325020210316,        A20,      18,          1,         18,         18,2,20210324,       2054,    40.0812,   -52.3339,       5254,  1188.7,   4.2916,  34.9878,2,  34.9874,2,    259.7,2,   259.2,2,   11.91,2,   17.69,2,    0.00,2,    1.17,2,-999.000,9,-999.000,9, -999.00,9,  2169.1,2, 2308.67,2,    783.3,2,    20.00,   7.70649,2,    25.00,    0.98,2,  -12.63,2,    2.34,-999.000,9, -999.00,9, -999.00,9,     -999.0,9, 20210324,     2237,  40.0812, -52.3339,     4.2930,2,     0.0431,1,     4.7094,1,     -999.0,9,     -999.0,9,     -999.0,9,     -999.0,9
325020210316,        A20,      18,          1,         17,         17,2,20210324,       2054,    40.0812,   -52.3339,       5254,  1314.8,   4.1941,  34.9863,2,  34.9860,2,    261.9,2,   261.2,2,   12.01,2,   17.63,2,    0.00,2,    1.17,2,   2.790,2,   1.504,2,    0.64,3,  2169.3,2, 2309.84,2,    777.3,2,    20.00,      7.71,2,    25.05,    0.88,2,   -6.42,2,    2.27,-999.000,9,   47.46,2,   20.64,2,      13.92,2, 20210324,     2233,  40.0812, -52.3338,     4.1975,2,     0.0416,1,     4.7102,1,     -999.0,9,     -999.0,9,     -999.0,9,     -999.0,9
325020210316,        A20,      18,          1,         16,         16,2,20210324,       2054,    40.0812,   -52.3339,       5254,  1481.2,   4.0315,  34.9761,2,  34.9760,2,    264.0,2,   263.2,2,   12.30,2,   17.56,2,    0.00,2,    1.17,2,-999.000,9,-999.000,9, -999.00,9,  2168.2,2, 2307.66,2,    773.4,2,    20.00,   7.71084,2,    25.01,    0.89,2,  -14.35,2,    1.97,-999.000,9, -999.00,9, -999.00,9,     -999.0,9, 20210324,     2229,  40.0812, -52.3337,     4.0310,2,     0.0423,1,     4.7102,1,     -999.0,9,     -999.0,9,     -999.0,9,     -999.0,9
325020210316,        A20,      18,          1,         15,         15,2,20210324,       2054,    40.0812,   -52.3339,       5254,  1684.8,   3.8537,  34.9701,2,  34.9701,2,    264.0,2,   262.7,2,   13.08,2,   17.72,2,    0.00,2,    1.18,2,   2.363,2,   1.229,2,    0.60,3,  2167.2,2, 2307.63,2,    763.3,2,    20.00,   7.71721,2,    25.01,    0.93,2,  -22.81,2,    2.06,-999.000,9,   49.61,2,   19.97,2,      13.65,2, 20210324,     2224,  40.0812, -52.3338,     3.8529,2,     0.0415,1,     4.7097,1,     -999.0,9,     -999.0,9,     -999.0,9,     -999.0,9
325020210316,        A20,      18,          1,         14,         14,2,20210324,       2054,    40.0812,   -52.3339,       5254,  1887.7,   3.6478,  34.9621,2,  34.9628,2,    264.7,2,   263.9,2,   14.45,2,   17.78,2,    0.00,2,    1.18,2,   1.970,2,   1.017,2,    0.38,3,  2165.5,2, 2308.14,2,    754.6,2,    20.00,   7.72169,2,    24.93,    0.95,2,  -28.33,2,    1.97,-999.000,9, -999.00,9, -999.00,9,      13.51,2, 20210324,     2219,  40.0812, -52.3338,     3.6474,2,     0.0428,1,     4.7106,1,     -999.0,9,     -999.0,9,     -999.0,9,     -999.0,9
325020210316,        A20,      18,          1,         13,         13,2,20210324,       2054,    40.0812,   -52.3339,       5254,  2112.3,   3.4574,  34.9549,2,  34.9549,2,    265.1,2,   265.5,2,   15.72,2,   17.82,2,    0.00,2,    1.18,2,-999.000,9,-999.000,9, -999.00,9,  2166.2,2,  2310.0,2,   -999.0,9,  -999.00,   7.72613,2,    25.01,    1.02,2,  -39.07,2,    1.93,-999.000,9,   43.45,2,   20.49,2,     -999.0,9, 20210324,     2213,  40.0812, -52.3337,     3.4572,2,     0.0427,1,     4.7106,1,     -999.0,9,     -999.0,9,     -999.0,9,     -999.0,9
325020210316,        A20,      18,          1,         12,         12,2,20210324,       2054,    40.0812,   -52.3339,       5254,  2366.3,   3.2294,  34.9472,2,  34.9518,3,    266.0,2,   265.5,2,   17.67,2,   17.85,2,    0.00,2,    1.18,2,   1.458,2,   0.735,2,    0.57,3,  2165.1,2, 2312.91,2,   -999.0,9,  -999.00,   7.72837,2,    25.00,    1.02,2,  -45.58,2,    2.06,-999.000,9,   43.90,2,   20.06,2,      13.39,2, 20210324,     2208,  40.0812, -52.3338,     3.2284,2,     0.0421,1,     4.7106,1,     -999.0,9,     -999.0,9,     -999.0,9,     -999.0,9
325020210316,        A20,      18,          1,         11,         11,2,20210324,       2054,    40.0812,   -52.3339,       5254,  2619.8,   3.0752,  34.9410,2,  34.9414,2,    265.2,2,   265.4,2,   19.14,2,   17.90,2,    0.00,2,    1.18,2,   1.310,2,   0.664,2,    0.54,3,  2165.8,2,  2314.0,2,    740.7,2,    20.00,   7.73036,6,    25.00,    1.07,2,  -55.06,2,    2.09,-999.000,9, -999.00,9, -999.00,9,      13.30,2, 20210324,     2201,  40.0812, -52.3338,     3.0754,2,     0.0427,1,     4.7105,1,     -999.0,9,     -999.0,9,     -999.0,9,     -999.0,9
325020210316,        A20,      18,          1,         10,         10,2,20210324,       2054,    40.0812,   -52.3339,       5254,  2877.6,   2.9660,  34.9352,2,  34.9353,2,    266.2,2,   266.1,2,   20.02,2,   17.82,2,    0.00,2,    1.19,2,   1.297,2,   0.651,2,    0.42,3,  2166.5,2, 2314.55,6,   -999.0,9,  -999.00,   7.73024,2,    25.01,    1.07,2,  -52.02,2,    1.99,-999.000,9,   43.99,2,   21.51,2,      13.33,2, 20210324,     2156,  40.0812, -52.3339,     2.9662,2,     0.0426,1,     4.7106,1,     -999.0,9,     -999.0,9,     -999.0,9,     -999.0,9
325020210316,        A20,      18,          1,          9,          9,2,20210324,       2054,    40.0812,   -52.3339,       5254,  3148.8,   2.7629,  34.9262,2,  34.9266,2,    267.5,2,   266.2,2,   22.75,2,   18.01,2,    0.00,2,    1.21,2,   1.074,2,   0.546,2,    0.33,3,  2168.8,6, 2316.72,2,   -999.0,9,  -999.00,   7.68695,4,    25.01,    1.08,2,  -58.65,2,    2.12,-999.000,9, -999.00,9, -999.00,9,      13.30,2, 20210324,     2150,  40.0812, -52.3338,     2.7635,2,     0.0422,1,     4.7115,1,     -999.0,9,     -999.0,9,     -999.0,9,     -999.0,9
325020210316,        A20,      18,          1,          8,          8,2,20210324,       2054,    40.0812,   -52.3339,       5254,  3455.1,   2.5397,  34.9120,2,  34.9128,2,    268.0,2,   268.9,2,   24.02,2,   17.79,2,    0.00,2,    1.20,2,   1.267,2,   0.639,2,    0.68,3,  2171.0,2, 2317.33,2,    741.3,2,    20.00,   7.73005,6,    25.01,    1.01,2,  -55.41,2,    2.01,-999.000,9,   43.55,2,   21.00,2,      13.39,2, 20210324,     2143,  40.0812, -52.3339,     2.5395,2,     0.0421,1,     4.7112,1,     -999.0,9,     -999.0,9,     -999.0,9,     -999.0,9
325020210316,        A20,      18,          1,          7,          7,2,20210324,       2054,    40.0812,   -52.3339,       5254,  3760.9,   2.3817,  34.9010,2,  34.9004,2,    268.3,2,   268.5,2,   26.75,2,   18.02,2,    0.00,2,    1.23,2,   1.210,2,   0.644,2,    0.13,3,  2173.2,2, 2319.54,2,   -999.0,9,  -999.00,   7.72787,2,    25.00,    1.04,2,  -61.51,2,    2.17,-999.000,9,   44.97,2,   18.64,2,      13.49,2, 20210324,     2136,  40.0812, -52.3338,     2.3819,2,     0.0435,1,     4.7111,1,     -999.0,9,     -999.0,9,     -999.0,9,     -999.0,9
325020210316,        A20,      18,          1,          6,          6,2,20210324,       2054,    40.0812,   -52.3339,       5254,  4068.8,   2.3036,  34.8935,2,  34.8932,2,    266.6,2,   267.9,2,   29.39,2,   18.34,2,    0.00,2,    1.25,2,   1.175,2,   0.620,2,    0.04,3,  2176.7,2, 2322.37,2,   -999.0,9,  -999.00,   7.72593,2,    25.01,    0.96,3,  -62.71,2,    2.03,-999.000,9,   43.90,2,   19.96,2,      13.56,2, 20210324,     2129,  40.0812, -52.3339,     2.3038,2,     0.0429,1,     4.7095,1,     -999.0,9,     -999.0,9,     -999.0,9,     -999.0,9
325020210316,        A20,      18,          1,          5,          5,2,20210324,       2054,    40.0812,   -52.3339,       5254,  4378.6,   2.2692,  34.8880,2,  34.8879,2,    266.1,2,   265.6,2,   32.22,2,   18.77,2,    0.00,2,    1.28,2,   1.126,2,   0.584,2,    0.46,3,  2180.9,2, 2327.25,2,    753.8,2,    20.00,   7.63514,4,    25.00,    1.01,2,  -65.08,2,    2.09,-999.000,9,   45.80,2,   20.09,2,      13.61,2, 20210324,     2121,  40.0812, -52.3339,     2.2696,2,     0.0423,1,     4.7067,1,     -999.0,9,     -999.0,9,     -999.0,9,     -999.0,9
325020210316,        A20,      18,          1,          4,          4,2,20210324,       2054,    40.0812,   -52.3339,       5254,  4686.0,   2.2584,  34.8837,2,  34.8833,2,    264.3,2,   263.7,2,   34.57,2,   19.12,2,    0.00,2,    1.30,2,-999.000,9,-999.000,9, -999.00,9,  2182.7,2, 2328.58,2,   -999.0,9,  -999.00,   7.72374,2,    25.02,    0.98,2,  -69.25,2,    2.00,-999.000,9,   43.81,2,   21.90,2,     -999.0,9, 20210324,     2114,  40.0812, -52.3339,     2.2585,2,     0.0423,1,     4.6999,1,     -999.0,9,     -999.0,9,     -999.0,9,     -999.0,9
325020210316,        A20,      18,          1,          3,          3,2,20210324,       2054,    40.0812,   -52.3339,       5254,  4995.4,   2.2505,  34.8775,2,  34.8778,2,    261.1,2,   261.4,2,   38.86,2,   19.91,2,    0.00,2,    1.36,2,   0.801,2,   0.424,2,    0.10,3,  2186.5,2, 2333.47,6,    758.7,2,    20.00,   7.72247,2,    24.99,    0.99,2,  -77.37,2,    2.84,-999.000,9,   41.95,2,   21.68,2,      13.90,2, 20210324,     2106,  40.0812, -52.3339,     2.2507,2,     0.0424,1,     4.6842,1,     -999.0,9,     -999.0,9,     -999.0,9,     -999.0,9