BOTTLE,20230512CCHSIOCBG
EXPOCODE,SECT_ID,STNNBR,CASTNO,SAMPNO,BTLNBR,BTLNBR_FLAG_W,DATE,TIME,LATITUDE,LONGITUDE,DEPTH,CTDPRS,CTDTMP,CTDSAL,CTDSAL_FLAG_W,SALNTY,SALNTY_FLAG_W,CTDOXY,CTDOXY_FLAG_W,OXYGEN,OXYGEN_FLAG_W,SILCAT,SILCAT_FLAG_W,NITRAT,NITRAT_FLAG_W,NITRIT,NITRIT_FLAG_W,PHSPHT,PHSPHT_FLAG_W,CFC-11,CFC-11_FLAG_W,CFC-12,CFC-12_FLAG_W,SF6,SF6_FLAG_W,TCARBN,TCARBN_FLAG_W,ALKALI,ALKALI_FLAG_W,FCO2,FCO2_FLAG_W,FCO2TMP,PH_TOT,PH_TOT_FLAG_W,PH_TMP,DELC13,DELC13_FLAG_W,DELC14,DELC14_FLAG_W,C14ERR,POC,POC_FLAG_W,DOC,DOC_FLAG_W,TDN,TDN_FLAG_W,N2O,N2O_FLAG_W,BTL_DATE,BTL_TIME,BTL_LAT,BTL_LON,REFTMP,REFTMP_FLAG_W,CTDFLUOR,CTDFLUOR_FLAG_W,CTDXMISS,CTDXMISS_FLAG_W,D15N_NO2+NO3,D15N_NO2+NO3_FLAG_W,D18O_NO2+NO3,D18O_NO2+NO3_FLAG_W,HPLC,HPLC_FLAG_W,MICROGELS,MICROGELS_FLAG_W
,,,,,,,,,,,METERS,DBAR,ITS-90,PSS-78,,PSS-78,,UMOL/KG,,UMOL/KG,,UMOL/KG,,UMOL/KG,,UMOL/KG,,UMOL/KG,,PMOL/KG,,PMOL/KG,,FMOL/KG,,UMOL/KG,,UMOL/KG,,UATM,,DEG C,,,DEG C,/MILLE,,/MILLE,,/MILLE,UG/KG,,UMOL/KG,,UMOL/KG,,NMOL/KG,,,,,,ITS-90,,VOLTS,,VOLTS,,/MILLE,,/MILLE,,,,1E6 GELS/L,
325020210316,        A20,      47,          1,         36,         36,2,20210402,       2329,    22.9736,   -52.3337,       4045,     5.0,  24.9275,  37.3751,2,  37.3756,2,    207.4,2,   206.7,2,    0.58,2,    0.03,2,    0.00,2,    0.00,2,-999.000,9,-999.000,9, -999.00,9,  2094.0,2, 2445.83,2,    306.2,2,    20.00,   8.08969,2,    25.02, -999.00,9, -999.00,9, -999.00,-999.000,9,   77.92,2,    4.65,2,     -999.0,9, 20210403,      121,  22.9736, -52.3337,    24.9279,2,     0.0451,1,     4.6455,1,     -999.0,9,     -999.0,9,     -999.0,9,     -999.0,9
325020210316,        A20,      47,          1,         35,         35,2,20210402,       2329,    22.9736,   -52.3337,       4045,    20.7,  24.9448,  37.3747,2,  37.3756,2,    207.4,2,   207.0,2,    0.58,2,    0.02,2,    0.00,2,    0.00,2,-999.000,9,-999.000,9, -999.00,9,  -999.0,9, -999.00,9,   -999.0,9,  -999.00,-999.00000,9,  -999.00, -999.00,9, -999.00,9, -999.00,-999.000,9, -999.00,9, -999.00,9,     -999.0,9, 20210403,      119,  22.9736, -52.3337,    24.9411,2,     0.0449,1,     4.6457,1,     -999.0,9,     -999.0,9,     -999.0,9,     -999.0,9
325020210316,        A20,      47,          1,         34,         34,2,20210402,       2329,    22.9736,   -52.3337,       4045,    40.3,  24.9407,  37.3748,2,  37.3764,2,    207.3,2,   206.6,2,    0.58,2,    0.02,2,    0.00,2,    0.00,2,-999.000,9,-999.000,9, -999.00,9,  -999.0,9, -999.00,9,   -999.0,9,  -999.00,-999.00000,9,  -999.00, -999.00,9, -999.00,9, -999.00,-999.000,9,   80.31,2,    4.06,2,     -999.0,9, 20210403,      117,  22.9736, -52.3337,    24.9393,2,     0.0464,1,     4.6470,1,     -999.0,9,     -999.0,9,     -999.0,9,     -999.0,9
325020210316,        A20,      47,          1,         33,         33,2,20210402,       2329,    22.9736,   -52.3337,       4045,    65.2,  24.9297,  37.3718,2,  37.3714,2,    207.3,2,   206.6,2,    0.49,2,    0.02,2,    0.00,2,    0.00,2,-999.000,9,-999.000,9, -999.00,9,  -999.0,9, -999.00,9,   -999.0,9,  -999.00,-999.00000,9,  -999.00, -999.00,9, -999.00,9, -999.00,-999.000,9, -999.00,9, -999.00,9,     -999.0,9, 20210403,      116,  22.9736, -52.3337,    24.9278,2,     0.0470,1,     4.6470,1,     -999.0,9,     -999.0,9,     -999.0,9,     -999.0,9
325020210316,        A20,      47,          1,         32,         32,2,20210402,       2329,    22.9736,   -52.3337,       4045,    91.3,  24.9204,  37.3715,2,  37.3728,2,    206.7,2,   206.7,2,    0.49,2,    0.02,2,    0.00,2,    0.00,2,-999.000,9,-999.000,9, -999.00,9,  -999.0,9, -999.00,9,   -999.0,9,  -999.00,-999.00000,9,  -999.00, -999.00,9, -999.00,9, -999.00,-999.000,9,   76.67,2,    3.90,2,     -999.0,9, 20210403,      115,  22.9736, -52.3337,    24.9163,2,     0.0488,1,     4.6496,1,     -999.0,9,     -999.0,9,     -999.0,9,     -999.0,9
325020210316,        A20,      47,          1,         31,         31,2,20210402,       2329,    22.9736,   -52.3337,       4045,   115.4,  24.9217,  37.3759,2,  37.3791,2,    206.1,2,   206.2,2,    0.49,2,    0.02,2,    0.00,2,    0.00,2,-999.000,9,-999.000,9, -999.00,9,  2096.2,2, 2443.21,2,    308.9,2,    20.00,    8.0878,6,    25.02, -999.00,9, -999.00,9, -999.00,-999.000,9,   75.27,2,    3.89,2,     -999.0,9, 20210403,      114,  22.9736, -52.3337,    24.9232,2,     0.0516,1,     4.6546,1,     -999.0,9,     -999.0,9,     -999.0,9,     -999.0,9
325020210316,        A20,      47,          1,         30,         30,2,20210402,       2329,    22.9736,   -52.3337,       4045,   141.1,  24.2312,  37.3817,2,  37.3666,2,    192.4,3,   198.8,2,    0.49,2,    0.03,2,    0.02,2,    0.00,2,-999.000,9,-999.000,9, -999.00,9,  -999.0,9, -999.00,9,   -999.0,9,  -999.00,-999.00000,9,  -999.00, -999.00,9, -999.00,9, -999.00,-999.000,9,   67.26,2,    3.88,2,     -999.0,9, 20210403,      112,  22.9736, -52.3337,    24.2356,2,     0.0776,1,     4.6545,1,     -999.0,9,     -999.0,9,     -999.0,9,     -999.0,9
325020210316,        A20,      47,          1,         29,         29,2,20210402,       2329,    22.9736,   -52.3337,       4045,   186.8,  21.6473,  37.0487,2,  37.0474,2,    189.0,3,   186.0,2,    0.59,2,    1.08,2,    0.03,2,    0.02,2,-999.000,9,-999.000,9, -999.00,9,  2139.8,2, -999.00,9,   -999.0,9,  -999.00,   7.98914,2,    25.02, -999.00,9, -999.00,9, -999.00,-999.000,9,   55.74,2,    3.39,2,     -999.0,9, 20210403,      109,  22.9736, -52.3337,    21.6354,2,     0.0631,1,     4.6762,1,     -999.0,9,     -999.0,9,     -999.0,9,     -999.0,9
325020210316,        A20,      47,          1,         28,         28,2,20210402,       2329,    22.9736,   -52.3337,       4045,   236.8,  19.9475,  36.8336,2,  36.8203,2,    165.0,3,   167.4,2,    1.17,2,    4.85,2,    0.00,2,    0.22,2,-999.000,9,-999.000,9, -999.00,9,  -999.0,9, -999.00,9,   -999.0,9,  -999.00,-999.00000,9,  -999.00, -999.00,9, -999.00,9, -999.00,-999.000,9,   52.67,2,    6.35,2,     -999.0,9, 20210403,      108,  22.9736, -52.3338,    19.9486,2,     0.0418,1,     4.6868,1,     -999.0,9,     -999.0,9,     -999.0,9,     -999.0,9
325020210316,        A20,      47,          1,         27,         27,2,20210402,       2329,    22.9736,   -52.3337,       4045,   286.8,  18.3545,  36.5688,2,  36.5698,2,    166.7,2,   168.1,2,    1.76,2,    7.03,2,    0.00,2,    0.36,2,-999.000,9,-999.000,9, -999.00,9,  -999.0,9, -999.00,9,   -999.0,9,  -999.00,-999.00000,9,  -999.00, -999.00,9, -999.00,9, -999.00,-999.000,9,   50.36,2,    9.48,2,     -999.0,9, 20210403,      106,  22.9736, -52.3337,    18.3679,2,     0.0405,1,     4.6891,1,     -999.0,9,     -999.0,9,     -999.0,9,     -999.0,9
325020210316,        A20,      47,          1,         26,         26,2,20210402,       2329,    22.9736,   -52.3337,       4045,   337.2,  17.1120,  36.3574,2,  36.3408,2,    161.6,2,   162.4,2,    2.54,2,    9.62,2,    0.00,2,    0.52,2,-999.000,9,-999.000,9, -999.00,9,  2164.0,2, 2375.44,6,    539.5,2,    20.00,   7.86851,2,    25.01, -999.00,9, -999.00,9, -999.00,-999.000,9,   46.80,2,   11.17,2,     -999.0,9, 20210403,      104,  22.9736, -52.3337,    17.1176,2,     0.0406,1,     4.6899,1,     -999.0,9,     -999.0,9,     -999.0,9,     -999.0,9
325020210316,        A20,      47,          1,         25,         25,2,20210402,       2329,    22.9736,   -52.3337,       4045,   388.1,  15.9225,  36.1638,2,  36.1662,2,    155.2,2,   156.4,2,    3.32,2,   11.80,2,    0.00,2,    0.66,2,-999.000,9,-999.000,9, -999.00,9,  -999.0,9, 2329.05,3,   -999.0,9,  -999.00,-999.00000,9,  -999.00, -999.00,9, -999.00,9, -999.00,-999.000,9,   45.88,2,   13.91,2,     -999.0,9, 20210403,      101,  22.9736, -52.3337,    15.9315,2,     0.0405,1,     4.6911,1,     -999.0,9,     -999.0,9,     -999.0,9,     -999.0,9
325020210316,        A20,      47,          1,         24,         24,2,20210402,       2329,    22.9736,   -52.3337,       4045,   437.9,  14.9779,  36.0182,2,  36.0133,2,    150.3,2,   151.7,2,    4.29,2,   13.82,2,    0.00,2,    0.78,2,-999.000,9,-999.000,9, -999.00,9,  -999.0,9, -999.00,9,   -999.0,9,  -999.00,-999.00000,9,  -999.00, -999.00,9, -999.00,9, -999.00,-999.000,9,   48.43,2,   15.41,2,     -999.0,9, 20210403,      100,  22.9736, -52.3337,    14.9759,2,     0.0401,1,     4.6919,1,     -999.0,9,     -999.0,9,     -999.0,9,     -999.0,9
325020210316,        A20,      47,          1,         23,         23,2,20210402,       2329,    22.9736,   -52.3337,       4045,   488.9,  14.2677,  35.9251,2,  35.9265,2,    162.9,2,   163.0,2,    4.49,2,   13.63,2,    0.00,2,    0.78,2,   1.996,2,   1.358,2,    1.19,2,  2171.9,2, -999.00,9,    618.5,2,    20.00,   7.81256,2,    25.00, -999.00,9, -999.00,9, -999.00,-999.000,9,   49.67,2,   15.68,2,      16.01,2, 20210403,       58,  22.9736, -52.3337,    14.2727,2,     0.0411,1,     4.6939,1,     -999.0,9,     -999.0,9,     -999.0,9,     -999.0,9
325020210316,        A20,      47,          1,         22,         22,2,20210402,       2329,    22.9736,   -52.3337,       4045,   569.0,  12.6923,  35.7111,2,  35.7079,2,    161.1,2,   160.7,2,    6.44,2,   16.48,2,    0.00,2,    0.97,2,-999.000,9,-999.000,9, -999.00,9,  -999.0,9, -999.00,9,   -999.0,9,  -999.00,-999.00000,9,  -999.00, -999.00,9, -999.00,9, -999.00,-999.000,9, -999.00,9, -999.00,9,     -999.0,9, 20210403,       56,  22.9736, -52.3337,    12.6907,2,     0.0408,1,     4.6961,1,     -999.0,9,     -999.0,9,     -999.0,9,     -999.0,9
325020210316,        A20,      47,          1,         21,         21,2,20210402,       2329,    22.9736,   -52.3337,       4045,   670.4,  11.0852,  35.5046,2,  35.5058,2,    149.9,2,   149.2,2,    9.57,2,   20.36,2,    0.00,2,    1.23,2,   1.678,2,   0.934,2,    0.57,2,  2189.6,2, 2331.52,2,    764.6,2,    20.00,   7.72449,6,    25.03, -999.00,9, -999.00,9, -999.00,-999.000,9,   43.97,2,   19.90,2,      20.65,2, 20210403,       53,  22.9736, -52.3337,    11.0943,2,     0.0411,1,     4.6988,1,     -999.0,9,     -999.0,9,     -999.0,9,     -999.0,9
325020210316,        A20,      47,          1,         20,         20,2,20210402,       2329,    22.9736,   -52.3337,       4045,   771.9,   8.9808,  35.2229,2,  35.2170,2,    140.6,2,   140.1,2,   15.04,2,   25.24,2,    0.00,2,    1.58,2,-999.000,9,-999.000,9, -999.00,9,  2200.2,6, -999.00,9,    885.3,2,    20.00,   7.66459,2,    25.01, -999.00,9, -999.00,9, -999.00,-999.000,9,   43.92,2,   25.12,2,     -999.0,9, 20210403,       50,  22.9736, -52.3337,     8.9859,2,     0.0415,1,     4.6996,1,     -999.0,9,     -999.0,9,     -999.0,9,     -999.0,9
325020210316,        A20,      47,          1,         19,         19,2,20210402,       2329,    22.9736,   -52.3337,       4045,   871.9,   7.3624,  35.0353,2,  35.0344,2,    143.3,2,   142.8,2,   18.75,2,   27.78,2,    0.00,2,    1.78,2,   0.559,2,   0.278,2,    0.09,2,  2209.6,2, 2317.76,2,    952.7,2,    20.00,   7.63258,6,    25.02, -999.00,9, -999.00,9, -999.00,-999.000,9,   44.56,2,   28.19,2,      22.57,2, 20210403,       47,  22.9736, -52.3337,     7.3934,2,     0.0421,1,     4.6997,1,     -999.0,9,     -999.0,9,     -999.0,9,     -999.0,9
325020210316,        A20,      47,          1,         18,         18,2,20210402,       2329,    22.9736,   -52.3337,       4045,   973.9,   6.4549,  34.9612,2,  34.9606,2,    153.7,2,   153.6,2,   20.41,2,   27.82,2,    0.00,2,    1.80,2,-999.000,9,-999.000,9, -999.00,9,  -999.0,9, -999.00,9,   -999.0,9,  -999.00,-999.00000,9,  -999.00, -999.00,9, -999.00,9, -999.00,-999.000,9, -999.00,9, -999.00,9,     -999.0,9, 20210403,       43,  22.9736, -52.3337,     6.4512,2,     0.0427,1,     4.7003,1,     -999.0,9,     -999.0,9,     -999.0,9,     -999.0,9
325020210316,        A20,      47,          1,         17,         17,2,20210402,       2329,    22.9736,   -52.3337,       4045,  1074.1,   6.0473,  34.9742,2,  34.9752,2,    170.2,2,   171.2,2,   19.34,2,   26.08,2,    0.00,2,    1.69,2,   0.610,2,   0.276,2,    0.19,2,  2203.6,2, -999.00,9,   -999.0,9,  -999.00,   7.64818,2,    25.00, -999.00,9, -999.00,9, -999.00,-999.000,9,   44.38,2,   25.62,2,      21.26,2, 20210403,       40,  22.9736, -52.3337,     6.0438,2,     0.0408,1,     4.7009,1,     -999.0,9,     -999.0,9,     -999.0,9,     -999.0,9
325020210316,        A20,      47,          1,         16,         16,2,20210402,       2329,    22.9736,   -52.3337,       4045,  1176.4,   5.6186,  35.0203,2,  35.0197,2,    197.0,2,   197.0,2,   17.09,2,   23.12,2,    0.00,2,    1.50,2,-999.000,9,-999.000,9, -999.00,9,  -999.0,9, -999.00,9,   -999.0,9,  -999.00,-999.00000,9,  -999.00, -999.00,9, -999.00,9, -999.00,-999.000,9, -999.00,9, -999.00,9,     -999.0,9, 20210403,       37,  22.9736, -52.3337,     5.6184,2,     0.0429,1,     4.7017,1,     -999.0,9,     -999.0,9,     -999.0,9,     -999.0,9
325020210316,        A20,      47,          1,         15,         15,2,20210402,       2329,    22.9736,   -52.3337,       4045,  1277.8,   5.3879,  35.0525,2,  35.0527,2,    213.9,2,   213.5,2,   15.43,2,   21.18,2,    0.00,2,    1.39,2,   0.928,2,   0.498,2,    0.30,2,  2184.9,2,  2316.8,2,    801.4,2,    20.00,   7.70181,2,    24.99, -999.00,9, -999.00,9, -999.00,-999.000,9,   44.03,2,   20.18,2,      17.13,2, 20210403,       34,  22.9736, -52.3337,     5.3808,2,     0.0416,1,     4.7021,1,     -999.0,9,     -999.0,9,     -999.0,9,     -999.0,9
325020210316,        A20,      47,          1,         14,         14,2,20210402,       2329,    22.9736,   -52.3337,       4045,  1378.1,   5.0587,  35.0508,2,  35.0520,2,    228.1,2,   227.5,2,   14.65,2,   20.08,2,    0.00,2,    1.31,2,-999.000,9,-999.000,9, -999.00,9,  -999.0,9, -999.00,9,   -999.0,9,  -999.00,-999.00000,9,  -999.00, -999.00,9, -999.00,9, -999.00,-999.000,9, -999.00,9, -999.00,9,     -999.0,9, 20210403,       32,  22.9736, -52.3337,     5.0569,2,     0.0419,1,     4.7021,1,     -999.0,9,     -999.0,9,     -999.0,9,     -999.0,9
325020210316,        A20,      47,          1,         13,         13,2,20210402,       2329,    22.9736,   -52.3337,       4045,  1480.1,   4.7032,  35.0422,2,  35.0417,2,    237.7,2,   237.9,2,   14.45,2,   19.33,2,    0.00,2,    1.27,2,   1.095,2,   0.529,2,    0.27,2,  2176.5,2, -999.00,9,   -999.0,9,  -999.00,   7.72187,2,    25.02, -999.00,9, -999.00,9, -999.00,-999.000,9,   47.05,2,   19.57,2,      16.32,2, 20210403,       29,  22.9736, -52.3337,     4.7031,2,     0.0418,1,     4.7021,1,     -999.0,9,     -999.0,9,     -999.0,9,     -999.0,9
325020210316,        A20,      47,          1,         12,         12,2,20210402,       2329,    22.9736,   -52.3337,       4045,  1581.0,   4.5199,  35.0426,2,  35.0421,2,    242.3,2,   242.2,2,   14.75,2,   19.10,2,    0.00,2,    1.25,2,-999.000,9,-999.000,9, -999.00,9,  -999.0,9, -999.00,9,   -999.0,9,  -999.00,-999.00000,9,  -999.00, -999.00,9, -999.00,9, -999.00,-999.000,9, -999.00,9, -999.00,9,     -999.0,9, 20210403,       26,  22.9736, -52.3338,     4.5241,2,     0.0412,1,     4.7022,1,     -999.0,9,     -999.0,9,     -999.0,9,     -999.0,9
325020210316,        A20,      47,          1,         11,         11,2,20210402,       2329,    22.9736,   -52.3337,       4045,  1681.9,   4.3395,  35.0410,2,  35.0413,2,    244.4,2,   243.9,2,   15.82,2,   19.02,2,    0.00,2,    1.25,2,   0.841,2,   0.396,2,    0.23,2,  2174.2,2, 2317.41,2,    742.6,2,    20.00,   7.73161,2,    25.03, -999.00,9, -999.00,9, -999.00,-999.000,9,   45.14,2,   17.81,2,      14.94,2, 20210403,       23,  22.9736, -52.3338,     4.3401,2,     0.0422,1,     4.7022,1,     -999.0,9,     -999.0,9,     -999.0,9,     -999.0,9
325020210316,        A20,      47,          1,         10,         10,2,20210402,       2329,    22.9736,   -52.3337,       4045,  1783.3,   4.1706,  35.0359,2,  35.0352,2,    245.5,2,   245.3,2,   17.19,2,   19.17,2,    0.00,2,    1.25,2,-999.000,9,-999.000,9, -999.00,9,  -999.0,9, -999.00,9,   -999.0,9,  -999.00,-999.00000,9,  -999.00, -999.00,9, -999.00,9, -999.00,-999.000,9, -999.00,9, -999.00,9,     -999.0,9, 20210403,       20,  22.9736, -52.3337,     4.1708,2,     0.0429,1,     4.7023,1,     -999.0,9,     -999.0,9,     -999.0,9,     -999.0,9
325020210316,        A20,      47,          1,          9,          9,2,20210402,       2329,    22.9736,   -52.3337,       4045,  1957.1,   3.7760,  35.0143,2,  35.0128,2,    246.7,2,   246.7,2,   20.51,2,   19.34,2,    0.00,2,    1.27,2,   0.471,2,   0.203,2,    0.07,2,  2174.7,2, -999.00,9,   -999.0,9,  -999.00,   7.73651,2,    25.06, -999.00,9, -999.00,9, -999.00,-999.000,9,   44.55,2,   19.58,2,      14.58,2, 20210403,       16,  22.9736, -52.3337,     3.7747,2,     0.0429,1,     4.7022,1,     -999.0,9,     -999.0,9,     -999.0,9,     -999.0,9
325020210316,        A20,      47,          1,          8,          8,2,20210402,       2329,    22.9736,   -52.3337,       4045,  2189.4,   3.3714,  34.9843,2,  34.9837,2,    248.1,2,   248.4,2,   24.81,2,   19.65,2,    0.00,2,    1.30,2,-999.000,9,-999.000,9, -999.00,9,  -999.0,9, -999.00,9,   -999.0,9,  -999.00,-999.00000,9,  -999.00, -999.00,9, -999.00,9, -999.00,-999.000,9, -999.00,9, -999.00,9,     -999.0,9, 20210403,       10,  22.9736, -52.3337,     3.3718,2,     0.0428,1,     4.7026,1,     -999.0,9,     -999.0,9,     -999.0,9,     -999.0,9
325020210316,        A20,      47,          1,          7,          7,2,20210402,       2329,    22.9736,   -52.3337,       4045,  2444.7,   3.0956,  34.9616,2,  34.9620,2,    249.1,2,   249.4,2,   28.22,2,   19.98,2,    0.00,2,    1.32,2,   0.265,2,   0.127,2,    0.04,2,  2181.9,2, 2328.07,2,    736.8,6,    20.00,   7.73689,2,    25.01, -999.00,9, -999.00,9, -999.00,-999.000,9,   44.03,2,   20.42,2,      15.01,2, 20210403,        5,  22.9736, -52.3337,     3.0960,2,     0.0423,1,     4.7025,1,     -999.0,9,     -999.0,9,     -999.0,9,     -999.0,9
325020210316,        A20,      47,          1,          6,          6,2,20210402,       2329,    22.9736,   -52.3337,       4045,  2699.2,   2.8682,  34.9428,2,  34.9423,2,    249.7,2,  -999.0,5,   31.84,2,   20.22,2,    0.00,2,    1.35,2,-999.000,9,-999.000,9, -999.00,9,  -999.0,9, -999.00,9,   -999.0,9,  -999.00,-999.00000,9,  -999.00, -999.00,9, -999.00,9, -999.00,-999.000,9, -999.00,9, -999.00,9,     -999.0,9, 20210402,     2359,  22.9736, -52.3337,     2.8679,2,     0.0429,1,     4.7021,1,     -999.0,9,     -999.0,9,     -999.0,9,     -999.0,9
325020210316,        A20,      47,          1,          5,          5,2,20210402,       2329,    22.9736,   -52.3337,       4045,  2954.2,   2.7103,  34.9289,2,  34.9280,2,    250.8,2,   250.8,2,   34.38,2,   20.32,2,    0.00,2,    1.36,2,   0.108,2,   0.057,2,    0.00,2,  -999.0,9, -999.00,9,   -999.0,9,  -999.00,-999.00000,9,  -999.00, -999.00,9, -999.00,9, -999.00,-999.000,9,   42.69,2,   20.34,2,      14.49,2, 20210402,     2354,  22.9736, -52.3337,     2.7091,2,     0.0423,1,     4.7028,1,     -999.0,9,     -999.0,9,     -999.0,9,     -999.0,9
325020210316,        A20,      47,          1,          4,          4,2,20210402,       2329,    22.9736,   -52.3337,       4045,  3245.3,   2.5336,  34.9130,2,  34.9132,2,    252.0,2,   252.3,2,   37.31,2,   20.51,2,    0.00,2,    1.38,2,-999.000,9,-999.000,9, -999.00,9,  -999.0,9, -999.00,9,   -999.0,9,  -999.00,-999.00000,9,  -999.00, -999.00,9, -999.00,9, -999.00,-999.000,9, -999.00,9, -999.00,9,     -999.0,9, 20210402,     2347,  22.9737, -52.3338,     2.5345,2,     0.0432,1,     4.7028,1,     -999.0,9,     -999.0,9,     -999.0,9,     -999.0,9
325020210316,        A20,      47,          1,          3,          3,2,20210402,       2329,    22.9736,   -52.3337,       4045,  3552.0,   2.3467,  34.8952,2,  34.8955,2,    252.5,2,   253.2,2,   41.21,2,   21.06,2,    0.00,2,    1.41,2,   0.104,2,   0.049,2,    0.00,2,  2191.1,2, 2337.17,2,   -999.0,9,  -999.00,   7.73188,2,    25.00, -999.00,9, -999.00,9, -999.00,-999.000,9,   45.26,2,   20.98,2,      15.51,2, 20210402,     2341,  22.9736, -52.3337,     2.3464,2,     0.0417,1,     4.7032,1,     -999.0,9,     -999.0,9,     -999.0,9,     -999.0,9