BOTTLE,20230512CCHSIOCBG
EXPOCODE,SECT_ID,STNNBR,CASTNO,SAMPNO,BTLNBR,BTLNBR_FLAG_W,DATE,TIME,LATITUDE,LONGITUDE,DEPTH,CTDPRS,CTDTMP,CTDSAL,CTDSAL_FLAG_W,SALNTY,SALNTY_FLAG_W,CTDOXY,CTDOXY_FLAG_W,OXYGEN,OXYGEN_FLAG_W,SILCAT,SILCAT_FLAG_W,NITRAT,NITRAT_FLAG_W,NITRIT,NITRIT_FLAG_W,PHSPHT,PHSPHT_FLAG_W,CFC-11,CFC-11_FLAG_W,CFC-12,CFC-12_FLAG_W,SF6,SF6_FLAG_W,TCARBN,TCARBN_FLAG_W,ALKALI,ALKALI_FLAG_W,FCO2,FCO2_FLAG_W,FCO2TMP,PH_TOT,PH_TOT_FLAG_W,PH_TMP,DELC13,DELC13_FLAG_W,DELC14,DELC14_FLAG_W,C14ERR,POC,POC_FLAG_W,DOC,DOC_FLAG_W,TDN,TDN_FLAG_W,N2O,N2O_FLAG_W,BTL_DATE,BTL_TIME,BTL_LAT,BTL_LON,REFTMP,REFTMP_FLAG_W,CTDFLUOR,CTDFLUOR_FLAG_W,CTDXMISS,CTDXMISS_FLAG_W,D15N_NO2+NO3,D15N_NO2+NO3_FLAG_W,D18O_NO2+NO3,D18O_NO2+NO3_FLAG_W,HPLC,HPLC_FLAG_W,MICROGELS,MICROGELS_FLAG_W
,,,,,,,,,,,METERS,DBAR,ITS-90,PSS-78,,PSS-78,,UMOL/KG,,UMOL/KG,,UMOL/KG,,UMOL/KG,,UMOL/KG,,UMOL/KG,,PMOL/KG,,PMOL/KG,,FMOL/KG,,UMOL/KG,,UMOL/KG,,UATM,,DEG C,,,DEG C,/MILLE,,/MILLE,,/MILLE,UG/KG,,UMOL/KG,,UMOL/KG,,NMOL/KG,,,,,,ITS-90,,VOLTS,,VOLTS,,/MILLE,,/MILLE,,,,1E6 GELS/L,
325020210316,        A20,      46,          1,         36,         36,2,20210402,       1652,    23.5555,   -52.3339,       5011,     5.3,  23.9272,  37.4064,2,  37.4078,2,    212.4,2,   210.9,2,    0.58,2,    0.00,2,    0.00,2,    0.00,2,   1.573,2,   1.056,2,    1.75,2,  2103.8,6, 2445.19,2,   -999.0,9,  -999.00,   8.07297,2,    25.02, -999.00,9, -999.00,9, -999.00,-999.000,9, -999.00,9, -999.00,9,       7.11,2, 20210402,     1904,  23.5555, -52.3339,    23.9365,2,     0.0415,1,     4.6474,1,     -999.0,1,     -999.0,1,     -999.0,9,     -999.0,9
325020210316,        A20,      46,          1,         35,         35,2,20210402,       1652,    23.5555,   -52.3339,       5011,    25.8,  23.9054,  37.4060,2,  37.4058,2,    212.5,2,   210.8,2,    0.49,2,    0.00,2,    0.00,2,    0.00,2,   1.542,2,   1.045,2,    1.75,2,  2106.1,2, 2446.64,2,   -999.0,9,  -999.00,   8.07358,2,    25.01, -999.00,9, -999.00,9, -999.00,-999.000,9, -999.00,9, -999.00,9,       7.16,2, 20210402,     1901,  23.5555, -52.3339,    23.9036,2,     0.0431,1,     4.6456,1,     -999.0,1,     -999.0,1,     -999.0,9,     -999.0,9
325020210316,        A20,      46,          1,         34,         34,2,20210402,       1652,    23.5555,   -52.3339,       5011,    50.3,  23.8998,  37.4063,2,  37.4060,2,    212.0,2,   210.9,2,    0.58,2,    0.00,2,    0.00,2,    0.00,2,-999.000,9,-999.000,9, -999.00,9,  -999.0,9, -999.00,9,   -999.0,9,  -999.00,-999.00000,9,  -999.00, -999.00,9, -999.00,9, -999.00,-999.000,9, -999.00,9, -999.00,9,     -999.0,9, 20210402,     1901,  23.5555, -52.3339,    23.8959,2,     0.0440,1,     4.6461,1,     -999.0,1,     -999.0,1,     -999.0,9,     -999.0,9
325020210316,        A20,      46,          1,         33,         33,2,20210402,       1652,    23.5555,   -52.3339,       5011,    75.3,  23.8887,  37.4086,2,  37.4084,2,    211.8,2,   210.8,2,    0.39,2,    0.00,2,    0.00,2,    0.00,2,-999.000,9,-999.000,9, -999.00,9,  -999.0,9, -999.00,9,   -999.0,9,  -999.00,-999.00000,9,  -999.00, -999.00,9, -999.00,9, -999.00,-999.000,9, -999.00,9, -999.00,9,     -999.0,9, 20210402,     1859,  23.5555, -52.3339,    23.8928,2,     0.0457,1,     4.6484,1,     -999.0,1,     -999.0,1,     -999.0,9,     -999.0,9
325020210316,        A20,      46,          1,         32,         32,2,20210402,       1652,    23.5555,   -52.3339,       5011,   100.9,  23.9971,  37.4987,2,  37.4965,2,    210.4,2,   210.0,2,    0.39,2,    0.00,2,    0.00,2,    0.00,2,   1.542,2,   1.052,2,    1.66,2,  2111.5,2, -999.00,9,   -999.0,9,  -999.00,   8.07176,2,    25.01, -999.00,9, -999.00,9, -999.00,-999.000,9, -999.00,9, -999.00,9,       6.98,2, 20210402,     1857,  23.5555, -52.3339,    23.9957,2,     0.0481,1,     4.6524,1,     -999.0,1,     -999.0,1,     -999.0,9,     -999.0,9
325020210316,        A20,      46,          1,         31,         31,2,20210402,       1652,    23.5555,   -52.3339,       5011,   152.5,  21.4685,  37.0002,2,  36.9977,2,    198.4,2,   199.0,2,    0.49,2,    0.08,2,    0.03,2,    0.00,2,-999.000,9,-999.000,9, -999.00,9,  2126.6,2, 2419.27,2,   -999.0,9,  -999.00,   8.00515,2,    25.07, -999.00,9, -999.00,9, -999.00,-999.000,9, -999.00,9, -999.00,9,     -999.0,9, 20210402,     1855,  23.5555, -52.3339,    21.5001,2,     0.0864,1,     4.6493,1,     -999.0,1,     -999.0,1,     -999.0,9,     -999.0,9
325020210316,        A20,      46,          1,         30,         30,2,20210402,       1652,    23.5555,   -52.3339,       5011,   202.3,  19.4626,  36.7107,2,  36.7117,2,    190.2,2,   191.6,2,    0.88,2,    2.23,2,    0.00,2,    0.07,2,   1.872,2,   1.267,2,    1.81,2,  2131.8,2, -999.00,9,   -999.0,9,  -999.00,   7.97016,2,    24.98, -999.00,9, -999.00,9, -999.00,-999.000,9, -999.00,9, -999.00,9,       8.96,2, 20210402,     1853,  23.5555, -52.3339,    19.4647,2,     0.0480,1,     4.6834,1,     -999.0,1,     -999.0,1,     -999.0,9,     -999.0,9
325020210316,        A20,      46,          1,         29,         29,2,20210402,       1652,    23.5555,   -52.3339,       5011,   251.7,  18.8295,  36.6256,2,  36.6211,2,    195.7,2,   196.9,2,    1.07,2,    3.31,2,    0.00,2,    0.14,2,-999.000,9,-999.000,9, -999.00,9,  -999.0,9, -999.00,9,   -999.0,9,  -999.00,-999.00000,9,  -999.00, -999.00,9, -999.00,9, -999.00,-999.000,9, -999.00,9, -999.00,9,     -999.0,9, 20210402,     1850,  23.5555, -52.3339,    18.8300,2,     0.0400,1,     4.6894,1,     -999.0,1,     -999.0,1,     -999.0,9,     -999.0,9
325020210316,        A20,      46,          1,         28,         28,2,20210402,       1652,    23.5555,   -52.3339,       5011,   302.0,  18.0240,  36.4991,2,  36.4939,2,    193.9,2,   194.1,2,    1.56,2,    4.95,2,    0.00,2,    0.22,2,   2.034,2,   1.337,2,    1.76,2,  2133.0,2, 2385.42,2,   -999.0,9,  -999.00,   7.94521,2,    24.99, -999.00,9, -999.00,9, -999.00,-999.000,9, -999.00,9, -999.00,9,       9.50,2, 20210402,     1848,  23.5555, -52.3339,    18.0185,2,     0.0392,1,     4.6921,1,     -999.0,1,     -999.0,1,     -999.0,9,     -999.0,9
325020210316,        A20,      46,          1,         27,         27,2,20210402,       1652,    23.5555,   -52.3339,       5011,   352.8,  17.0875,  36.3492,2,  36.3378,2,    185.0,2,   186.8,2,    2.24,2,    7.03,2,    0.00,2,    0.36,2,-999.000,9,-999.000,9, -999.00,9,  -999.0,9, -999.00,9,   -999.0,9,  -999.00,-999.00000,9,  -999.00, -999.00,9, -999.00,9, -999.00,-999.000,9, -999.00,9, -999.00,9,     -999.0,9, 20210402,     1846,  23.5555, -52.3339,    17.0904,2,     0.0406,1,     4.6924,1,     -999.0,1,     -999.0,1,     -999.0,9,     -999.0,9
325020210316,        A20,      46,          1,         26,         26,2,20210402,       1652,    23.5555,   -52.3339,       5011,   402.8,  16.3825,  36.2334,2,  36.2309,2,    183.4,2,   184.2,2,    2.73,2,    8.29,2,    0.00,2,    0.44,2,   2.099,2,   1.387,2,    1.45,2,  2146.1,2, -999.00,9,   -999.0,9,  -999.00,   7.89198,2,    25.01, -999.00,9, -999.00,9, -999.00,-999.000,9, -999.00,9, -999.00,9,      11.77,2, 20210402,     1844,  23.5555, -52.3339,    16.3857,2,     0.0405,1,     4.6935,1,     -999.0,1,     -999.0,1,     -999.0,9,     -999.0,9
325020210316,        A20,      46,          1,         25,         25,2,20210402,       1652,    23.5555,   -52.3339,       5011,   503.2,  14.5396,  35.9619,2,  35.9544,2,    172.1,2,   172.7,2,    4.00,2,   12.13,2,    0.00,2,    0.69,2,   2.169,2,   1.399,2,    1.36,2,  2161.6,2, 2355.93,6,   -999.0,9,  -999.00,   7.83218,2,    25.04, -999.00,9, -999.00,9, -999.00,-999.000,9, -999.00,9, -999.00,9,      15.11,2, 20210402,     1840,  23.5555, -52.3339,    14.5386,2,     0.0405,1,     4.6946,1,     -999.0,1,     -999.0,1,     -999.0,9,     -999.0,9
325020210316,        A20,      46,          1,         24,         24,2,20210402,       1652,    23.5555,   -52.3339,       5011,   604.9,  12.7687,  35.7153,2,  35.7037,3,    169.1,2,   168.7,2,    6.25,2,   15.59,2,    0.00,2,    0.92,2,-999.000,9,-999.000,9, -999.00,9,  -999.0,9, -999.00,9,   -999.0,9,  -999.00,-999.00000,9,  -999.00, -999.00,9, -999.00,9, -999.00,-999.000,9, -999.00,9, -999.00,9,     -999.0,9, 20210402,     1838,  23.5555, -52.3339,    12.8119,2,     0.0414,1,     4.6964,1,     -999.0,1,     -999.0,1,     -999.0,9,     -999.0,9
325020210316,        A20,      46,          1,         23,         23,2,20210402,       1652,    23.5555,   -52.3339,       5011,   706.2,  10.6730,  35.4470,2,  35.4470,2,    152.4,2,   152.9,2,   10.44,2,   20.63,2,    0.00,2,    1.26,2,   1.571,2,   0.877,2,    0.59,2,  2186.3,6, -999.00,9,   -999.0,9,  -999.00,   7.72215,6,    24.97, -999.00,9, -999.00,9, -999.00,-999.000,9, -999.00,9, -999.00,9,      17.96,2, 20210402,     1835,  23.5555, -52.3339,    10.6855,2,     0.0408,1,     4.6998,1,     -999.0,1,     -999.0,1,     -999.0,9,     -999.0,9
325020210316,        A20,      46,          1,         22,         22,2,20210402,       1652,    23.5555,   -52.3339,       5011,   806.3,   8.6783,  35.1853,2,  35.1823,2,    141.8,2,   141.7,2,   15.72,2,   25.47,2,    0.00,2,    1.59,2,-999.000,9,-999.000,9, -999.00,9,  -999.0,9, -999.00,9,   -999.0,9,  -999.00,-999.00000,9,  -999.00, -999.00,9, -999.00,9, -999.00,-999.000,9, -999.00,9, -999.00,9,     -999.0,9, 20210402,     1832,  23.5555, -52.3339,     8.6842,2,     0.0430,1,     4.7007,1,     -999.0,1,     -999.0,1,     -999.0,9,     -999.0,9
325020210316,        A20,      46,          1,         21,         21,2,20210402,       1652,    23.5555,   -52.3339,       5011,   907.5,   7.4318,  35.0427,2,  35.0402,2,    145.4,2,   145.1,2,   18.75,2,   27.25,2,    0.00,2,    1.74,2,   0.645,2,   0.305,2,    0.22,2,  2205.0,2, -999.00,9,   -999.0,9,  -999.00,   7.63682,6,    24.99, -999.00,9, -999.00,9, -999.00,-999.000,9, -999.00,9, -999.00,9,      22.59,2, 20210402,     1829,  23.5555, -52.3339,     7.4302,2,     0.0423,1,     4.7008,1,     -999.0,1,     -999.0,1,     -999.0,9,     -999.0,9
325020210316,        A20,      46,          1,         20,         20,2,20210402,       1652,    23.5555,   -52.3339,       5011,  1009.0,   6.6628,  35.0302,2,  35.0321,2,    163.2,2,   162.7,2,   18.75,2,   25.96,2,    0.00,2,    1.67,2,   0.587,2,   0.299,2,    0.17,2,  2198.9,2, 2316.89,2,   -999.0,9,  -999.00,   7.65201,2,    25.03, -999.00,9, -999.00,9, -999.00,-999.000,9, -999.00,9, -999.00,9,      20.89,2, 20210402,     1826,  23.5555, -52.3339,     6.6939,2,     0.0423,1,     4.7009,1,     -999.0,1,     -999.0,1,     -999.0,9,     -999.0,9
325020210316,        A20,      46,          1,         19,         19,2,20210402,       1652,    23.5555,   -52.3339,       5011,  1109.5,   5.9691,  35.0290,2,  35.0287,2,    186.5,2,   186.3,2,   17.77,2,   24.06,2,    0.00,2,    1.55,2,   0.786,2,   0.375,2,    0.25,2,  2189.8,2, -999.00,9,   -999.0,9,  -999.00,   7.67253,2,    25.03, -999.00,9, -999.00,9, -999.00,-999.000,9, -999.00,9, -999.00,9,      19.21,2, 20210402,     1823,  23.5555, -52.3339,     5.9669,2,     0.0414,1,     4.7018,1,     -999.0,1,     -999.0,1,     -999.0,9,     -999.0,9
325020210316,        A20,      46,          1,         18,         18,2,20210402,       1652,    23.5555,   -52.3339,       5011,  1210.7,   5.6050,  35.0484,2,  35.0478,2,    204.0,2,   204.0,2,   16.31,2,   22.16,2,    0.00,2,    1.44,2,-999.000,9,-999.000,9, -999.00,9,  -999.0,9, -999.00,9,   -999.0,9,  -999.00,-999.00000,9,  -999.00, -999.00,9, -999.00,9, -999.00,-999.000,9, -999.00,9, -999.00,9,     -999.0,9, 20210402,     1820,  23.5555, -52.3339,     5.6058,2,     0.0416,1,     4.7021,1,     -999.0,1,     -999.0,1,     -999.0,9,     -999.0,9
325020210316,        A20,      46,          1,         17,         17,2,20210402,       1652,    23.5555,   -52.3339,       5011,  1311.9,   5.3650,  35.0787,2,  35.0779,2,    218.1,2,   217.5,2,   15.13,2,   20.73,2,    0.00,2,    1.35,2,   0.974,2,   0.487,2,    0.28,2,  2178.6,2, 2319.01,2,   -999.0,9,  -999.00,   7.71085,6,    25.00, -999.00,9, -999.00,9, -999.00,-999.000,9, -999.00,9, -999.00,9,      15.94,2, 20210402,     1816,  23.5555, -52.3339,     5.3639,2,     0.0410,1,     4.7022,1,     -999.0,1,     -999.0,1,     -999.0,9,     -999.0,9
325020210316,        A20,      46,          1,         16,         16,2,20210402,       1652,    23.5555,   -52.3339,       5011,  1414.3,   5.1092,  35.0839,2,  35.0837,2,    228.0,2,   227.4,2,   14.74,2,   20.00,2,    0.00,2,    1.30,2,-999.000,9,-999.000,9, -999.00,9,  -999.0,9, -999.00,9,   -999.0,9,  -999.00,-999.00000,9,  -999.00, -999.00,9, -999.00,9, -999.00,-999.000,9, -999.00,9, -999.00,9,     -999.0,9, 20210402,     1814,  23.5555, -52.3339,     5.1079,2,     0.0425,1,     4.7028,1,     -999.0,1,     -999.0,1,     -999.0,9,     -999.0,9
325020210316,        A20,      46,          1,         15,         15,2,20210402,       1652,    23.5555,   -52.3339,       5011,  1514.6,   4.8322,  35.0916,2,  35.0919,2,    235.1,2,   234.4,2,   15.43,2,   19.40,2,    0.00,2,    1.26,2,   0.999,2,   0.501,2,    0.27,2,  2173.8,2, -999.00,9,   -999.0,9,  -999.00,   7.72658,2,    24.96, -999.00,9, -999.00,9, -999.00,-999.000,9, -999.00,9, -999.00,9,      15.89,2, 20210402,     1811,  23.5555, -52.3339,     4.8393,2,     0.0417,1,     4.7031,1,     -999.0,1,     -999.0,1,     -999.0,9,     -999.0,9
325020210316,        A20,      46,          1,         14,         14,2,20210402,       1652,    23.5555,   -52.3339,       5011,  1615.9,   4.5980,  35.0812,2,  35.0793,2,    238.8,2,   238.7,2,   16.40,2,   19.24,2,    0.00,2,    1.25,2,   0.909,2,   0.439,2,    0.23,2,  2172.2,2,  2319.9,2,   -999.0,9,  -999.00,   7.73092,2,    25.02, -999.00,9, -999.00,9, -999.00,-999.000,9, -999.00,9, -999.00,9,      14.26,2, 20210402,     1807,  23.5555, -52.3339,     4.6012,2,     0.0429,1,     4.7033,1,     -999.0,1,     -999.0,1,     -999.0,9,     -999.0,9
325020210316,        A20,      46,          1,         13,         13,2,20210402,       1652,    23.5555,   -52.3339,       5011,  1819.5,   3.9958,  35.0351,2,  35.0352,2,    245.2,2,   245.1,2,   19.33,2,   19.37,2,    0.00,2,    1.26,2,   0.611,2,   0.298,2,    0.15,2,  2171.9,2, -999.00,9,   -999.0,9,  -999.00,   7.73504,2,    25.02, -999.00,9, -999.00,9, -999.00,-999.000,9, -999.00,9, -999.00,9,      12.65,2, 20210402,     1803,  23.5555, -52.3339,     3.9953,2,     0.0412,1,     4.7027,1,     -999.0,1,     -999.0,1,     -999.0,9,     -999.0,9
325020210316,        A20,      46,          1,         12,         12,2,20210402,       1652,    23.5555,   -52.3339,       5011,  2020.4,   3.5044,  34.9978,2,  34.9988,2,    247.7,2,   247.8,2,   23.73,2,   19.53,2,    0.00,2,    1.29,2,-999.000,9,-999.000,9, -999.00,9,  -999.0,9, -999.00,9,   -999.0,9,  -999.00,-999.00000,9,  -999.00, -999.00,9, -999.00,9, -999.00,-999.000,9, -999.00,9, -999.00,9,     -999.0,9, 20210402,     1758,  23.5555, -52.3339,     3.5027,2,     0.0429,1,     4.7031,1,     -999.0,1,     -999.0,1,     -999.0,9,     -999.0,9
325020210316,        A20,      46,          1,         11,         11,2,20210402,       1652,    23.5555,   -52.3339,       5011,  2276.8,   3.2204,  34.9734,2,  34.9740,2,    248.8,2,   248.8,2,   27.15,2,   19.79,2,    0.00,2,    1.32,2,   0.427,2,   0.203,2,    0.09,2,  2179.2,2, 2327.04,2,   -999.0,9,  -999.00,   7.73638,2,    25.00, -999.00,9, -999.00,9, -999.00,-999.000,9, -999.00,9, -999.00,9,      14.20,2, 20210402,     1753,  23.5555, -52.3339,     3.2201,2,     0.0429,1,     4.7024,1,     -999.0,1,     -999.0,1,     -999.0,9,     -999.0,9
325020210316,        A20,      46,          1,         10,         10,2,20210402,       1652,    23.5555,   -52.3339,       5011,  2530.8,   2.9803,  34.9528,2,  34.9528,2,    249.1,2,   249.2,2,   30.47,2,   20.15,2,    0.00,2,    1.34,2,-999.000,9,-999.000,9, -999.00,9,  -999.0,9, -999.00,9,   -999.0,9,  -999.00,-999.00000,9,  -999.00, -999.00,9, -999.00,9, -999.00,-999.000,9, -999.00,9, -999.00,9,     -999.0,9, 20210402,     1747,  23.5555, -52.3339,     2.9799,2,     0.0425,1,     4.7022,1,     -999.0,1,     -999.0,1,     -999.0,9,     -999.0,9
325020210316,        A20,      46,          1,          9,          9,2,20210402,       1652,    23.5555,   -52.3339,       5011,  2785.3,   2.8249,  34.9388,2,  34.9378,2,    249.3,2,   249.5,2,   33.20,2,   20.44,2,    0.00,2,    1.36,2,   0.209,6,   0.097,6,    0.10,6,  2182.9,2, 2331.84,2,   -999.0,9,  -999.00,   7.73624,2,    25.03, -999.00,9, -999.00,9, -999.00,-999.000,9, -999.00,9, -999.00,9,      13.86,6, 20210402,     1742,  23.5555, -52.3339,     2.8248,2,     0.0424,1,     4.7022,1,     -999.0,1,     -999.0,1,     -999.0,9,     -999.0,9
325020210316,        A20,      46,          1,          8,          8,2,20210402,       1652,    23.5555,   -52.3339,       5011,  3040.2,   2.6729,  34.9253,2,  34.9240,2,    250.3,2,   250.7,2,   35.55,2,   20.73,2,    0.00,2,    1.38,2,-999.000,9,-999.000,9, -999.00,9,  -999.0,9, -999.00,9,   -999.0,9,  -999.00,-999.00000,9,  -999.00, -999.00,9, -999.00,9, -999.00,-999.000,9, -999.00,9, -999.00,9,     -999.0,9, 20210402,     1736,  23.5555, -52.3339,     2.6730,2,     0.0429,1,     4.7021,1,     -999.0,1,     -999.0,1,     -999.0,9,     -999.0,9
325020210316,        A20,      46,          1,          7,          7,2,20210402,       1652,    23.5555,   -52.3339,       5011,  3347.7,   2.4918,  34.9089,2,  34.9083,2,    251.5,2,   252.0,2,   38.77,2,   20.86,2,    0.00,2,    1.40,2,   0.108,2,   0.054,2,    0.07,2,  2186.3,2, 2336.01,6,   -999.0,9,  -999.00,   7.73601,2,    25.03, -999.00,9, -999.00,9, -999.00,-999.000,9, -999.00,9, -999.00,9,      14.82,2, 20210402,     1730,  23.5555, -52.3339,     2.4907,2,     0.0419,1,     4.7021,1,     -999.0,1,     -999.0,1,     -999.0,9,     -999.0,9
325020210316,        A20,      46,          1,          6,          6,2,20210402,       1652,    23.5555,   -52.3339,       5011,  3653.9,   2.3300,  34.8936,2,  34.8928,2,    252.4,2,   252.6,2,   41.99,2,   21.21,2,    0.00,2,    1.42,2,   0.093,2,   0.048,2,    0.03,2,  2188.8,2, -999.00,9,   -999.0,9,  -999.00,   7.73173,2,    25.02, -999.00,9, -999.00,9, -999.00,-999.000,9, -999.00,9, -999.00,9,      14.82,2, 20210402,     1723,  23.5555, -52.3339,     2.3300,2,     0.0426,1,     4.7021,1,     -999.0,1,     -999.0,1,     -999.0,9,     -999.0,9
325020210316,        A20,      46,          1,          5,          5,2,20210402,       1652,    23.5555,   -52.3339,       5011,  3961.5,   2.2197,  34.8813,2,  34.8808,2,    252.6,2,   252.7,2,   44.92,2,   21.40,2,    0.00,2,    1.44,2,   0.105,2,   0.056,2,    0.05,2,  2189.5,2, 2339.49,2,   -999.0,9,  -999.00,   7.72891,2,    25.00, -999.00,9, -999.00,9, -999.00,-999.000,9, -999.00,9, -999.00,9,      16.27,2, 20210402,     1716,  23.5555, -52.3339,     2.2195,2,     0.0429,1,     4.7020,1,     -999.0,1,     -999.0,1,     -999.0,9,     -999.0,9
325020210316,        A20,      46,          1,          4,          4,2,20210402,       1652,    23.5555,   -52.3339,       5011,  4268.8,   2.1359,  34.8703,2,  34.8696,2,    251.5,2,   251.5,2,   48.44,2,   21.86,2,    0.00,2,    1.47,2,   0.118,2,   0.060,2,    0.04,2,  2194.1,2, -999.00,9,   -999.0,9,  -999.00,   7.72375,2,    24.99, -999.00,9, -999.00,9, -999.00,-999.000,9, -999.00,9, -999.00,9,      15.01,2, 20210402,     1710,  23.5555, -52.3339,     2.1357,2,     0.0439,1,     4.7021,1,     -999.0,1,     -999.0,1,     -999.0,9,     -999.0,9
325020210316,        A20,      46,          1,          3,          3,2,20210402,       1652,    23.5555,   -52.3339,       5011,  4576.7,   2.1005,  34.8630,2,  34.8621,2,    250.7,2,   250.6,2,   51.07,2,   22.25,2,    0.00,2,    1.49,2,   0.140,2,   0.067,2,    0.04,2,  2197.3,2, 2340.87,2,   -999.0,9,  -999.00,   7.72107,2,    25.01, -999.00,9, -999.00,9, -999.00,-999.000,9, -999.00,9, -999.00,9,      16.09,2, 20210402,     1702,  23.5555, -52.3339,     2.1004,2,     0.0422,1,     4.7016,1,     -999.0,1,     -999.0,1,     -999.0,9,     -999.0,9