BOTTLE,20230512CCHSIOCBG
EXPOCODE,SECT_ID,STNNBR,CASTNO,SAMPNO,BTLNBR,BTLNBR_FLAG_W,DATE,TIME,LATITUDE,LONGITUDE,DEPTH,CTDPRS,CTDTMP,CTDSAL,CTDSAL_FLAG_W,SALNTY,SALNTY_FLAG_W,CTDOXY,CTDOXY_FLAG_W,OXYGEN,OXYGEN_FLAG_W,SILCAT,SILCAT_FLAG_W,NITRAT,NITRAT_FLAG_W,NITRIT,NITRIT_FLAG_W,PHSPHT,PHSPHT_FLAG_W,CFC-11,CFC-11_FLAG_W,CFC-12,CFC-12_FLAG_W,SF6,SF6_FLAG_W,TCARBN,TCARBN_FLAG_W,ALKALI,ALKALI_FLAG_W,FCO2,FCO2_FLAG_W,FCO2TMP,PH_TOT,PH_TOT_FLAG_W,PH_TMP,DELC13,DELC13_FLAG_W,DELC14,DELC14_FLAG_W,C14ERR,POC,POC_FLAG_W,DOC,DOC_FLAG_W,TDN,TDN_FLAG_W,N2O,N2O_FLAG_W,BTL_DATE,BTL_TIME,BTL_LAT,BTL_LON,REFTMP,REFTMP_FLAG_W,CTDFLUOR,CTDFLUOR_FLAG_W,CTDXMISS,CTDXMISS_FLAG_W,D15N_NO2+NO3,D15N_NO2+NO3_FLAG_W,D18O_NO2+NO3,D18O_NO2+NO3_FLAG_W,HPLC,HPLC_FLAG_W,MICROGELS,MICROGELS_FLAG_W
,,,,,,,,,,,METERS,DBAR,ITS-90,PSS-78,,PSS-78,,UMOL/KG,,UMOL/KG,,UMOL/KG,,UMOL/KG,,UMOL/KG,,UMOL/KG,,PMOL/KG,,PMOL/KG,,FMOL/KG,,UMOL/KG,,UMOL/KG,,UATM,,DEG C,,,DEG C,/MILLE,,/MILLE,,/MILLE,UG/KG,,UMOL/KG,,UMOL/KG,,NMOL/KG,,,,,,ITS-90,,VOLTS,,VOLTS,,/MILLE,,/MILLE,,,,1E6 GELS/L,
325020210316,        A20,      61,          1,         36,         36,2,20210407,       0134,    14.8055,   -52.3338,       4992,     5.5,  25.7182,  36.4098,2,  36.4111,2,    205.9,2,   205.0,2,    1.07,2,    0.00,2,    0.00,2,    0.00,2,   1.488,2,   0.991,2,    1.48,2,  2043.5,2, -999.00,9,   -999.0,9,  -999.00,   8.10035,2,    25.00, -999.00,9, -999.00,9, -999.00,-999.000,9,   79.85,2,    4.64,2,       6.30,2, 20210407,      347,  14.8055, -52.3338,    25.7212,2,     0.0439,1,     4.6376,1,     -999.0,9,     -999.0,9,     -999.0,9,     -999.0,9
325020210316,        A20,      61,          1,         35,         35,2,20210407,       0134,    14.8055,   -52.3338,       4992,    35.6,  25.5902,  36.4608,2,  36.4824,3,    206.8,2,   206.1,2,    0.98,2,    0.00,2,    0.00,2,    0.00,2,-999.000,9,-999.000,9, -999.00,9,  -999.0,9, -999.00,9,   -999.0,9,  -999.00,-999.00000,9,  -999.00, -999.00,9, -999.00,9, -999.00,-999.000,9,   81.49,2,    4.45,2,     -999.0,9, 20210407,      345,  14.8055, -52.3338,    25.5958,2,     0.0485,1,     4.6295,1,     -999.0,9,     -999.0,9,     -999.0,9,     -999.0,9
325020210316,        A20,      61,          1,         34,         34,2,20210407,       0134,    14.8055,   -52.3338,       4992,    66.0,  25.4291,  36.6219,2,  36.6382,2,    208.2,2,   207.0,2,    0.78,2,    0.00,2,    0.00,2,    0.00,2,-999.000,9,-999.000,9, -999.00,9,  -999.0,9, -999.00,9,   -999.0,9,  -999.00,-999.00000,9,  -999.00, -999.00,9, -999.00,9, -999.00,-999.000,9,   80.42,2,    4.95,2,     -999.0,9, 20210407,      344,  14.8055, -52.3338,    25.4183,2,     0.0562,1,     4.6409,1,     -999.0,9,     -999.0,9,     -999.0,9,     -999.0,9
325020210316,        A20,      61,          1,         33,         33,2,20210407,       0134,    14.8055,   -52.3338,       4992,    85.0,  25.2179,  36.7393,2,  36.7219,2,    206.2,2,   206.3,2,    0.68,2,    0.00,2,    0.00,2,    0.00,2,-999.000,9,-999.000,9, -999.00,9,  -999.0,9, -999.00,9,   -999.0,9,  -999.00,-999.00000,9,  -999.00, -999.00,9, -999.00,9, -999.00,-999.000,9,   78.05,2,    4.75,2,     -999.0,9, 20210407,      342,  14.8055, -52.3338,    25.2270,2,     0.0593,1,     4.6502,1,     -999.0,9,     -999.0,9,     -999.0,9,     -999.0,9
325020210316,        A20,      61,          1,         32,         32,2,20210407,       0134,    14.8055,   -52.3338,       4992,   115.6,  24.6121,  37.2217,2,  37.2252,2,    195.9,2,   197.1,2,    0.49,2,    0.00,2,    0.02,2,    0.00,2,-999.000,9,-999.000,9, -999.00,9,  -999.0,9, -999.00,9,   -999.0,9,  -999.00,-999.00000,9,  -999.00, -999.00,9, -999.00,9, -999.00,-999.000,9,   66.73,2,    4.66,2,     -999.0,9, 20210407,      340,  14.8055, -52.3338,    24.6045,2,     0.0904,1,     4.6442,1,     -999.0,9,     -999.0,9,     -999.0,9,     -999.0,9
325020210316,        A20,      61,          1,         31,         31,2,20210407,       0134,    14.8055,   -52.3338,       4992,   165.4,  21.5707,  37.0620,2,  37.0172,3,    166.4,2,   167.2,2,    0.98,2,    3.52,2,    0.01,2,    0.16,2,   1.830,2,   1.191,2,    1.63,2,  2160.2,2, 2418.71,2,   -999.0,9,  -999.00,   8.04093,2,    25.01, -999.00,9, -999.00,9, -999.00,-999.000,9,   57.34,2,    7.06,2,      10.07,2, 20210407,      338,  14.8055, -52.3338,    21.6236,2,     0.0599,1,     4.6744,1,     -999.0,9,     -999.0,9,     -999.0,9,     -999.0,9
325020210316,        A20,      61,          1,         30,         30,2,20210407,       0134,    14.8055,   -52.3338,       4992,   216.1,  18.0277,  36.5143,2,  36.5127,2,    161.9,3,   163.7,2,    2.15,2,    8.27,2,    0.00,2,    0.42,2,-999.000,9,-999.000,9, -999.00,9,  -999.0,9, -999.00,9,   -999.0,9,  -999.00,-999.00000,9,  -999.00, -999.00,9, -999.00,9, -999.00,-999.000,9,   51.25,2,   10.91,2,     -999.0,9, 20210407,      336,  14.8055, -52.3338,    18.0294,2,     0.0407,1,     4.6859,1,     -999.0,9,     -999.0,9,     -999.0,9,     -999.0,9
325020210316,        A20,      61,          1,         29,         29,2,20210407,       0134,    14.8055,   -52.3338,       4992,   267.0,  16.2041,  36.1977,2,  36.1933,2,    141.5,3,   143.9,2,    3.71,2,   13.02,2,    0.00,2,    0.72,2,   2.108,2,   1.329,2,    1.28,2,  2179.7,2, -999.00,9,   -999.0,9,  -999.00,-999.00000,9,  -999.00, -999.00,9, -999.00,9, -999.00,-999.000,9,   49.83,2,   14.77,2,      17.50,2, 20210407,      334,  14.8055, -52.3338,    16.2129,2,     0.0402,1,     4.6869,1,     -999.0,9,     -999.0,9,     -999.0,9,     -999.0,9
325020210316,        A20,      61,          1,         28,         28,2,20210407,       0134,    14.8055,   -52.3338,       4992,   317.0,  14.2406,  35.8509,2,  35.8356,2,    118.5,3,   119.7,2,    6.44,2,   18.91,2,    0.00,2,    1.08,2,-999.000,9,-999.000,9, -999.00,9,  -999.0,9, -999.00,9,   -999.0,9,  -999.00,-999.00000,9,  -999.00, -999.00,9, -999.00,9, -999.00,-999.000,9,   47.59,2,   21.25,2,     -999.0,9, 20210407,      332,  14.8055, -52.3338,    14.2290,2,     0.0409,1,     4.6875,1,     -999.0,9,     -999.0,9,     -999.0,9,     -999.0,9
325020210316,        A20,      61,          1,         27,         27,2,20210407,       0134,    14.8055,   -52.3338,       4992,   368.6,  12.8065,  35.6258,2,  35.6376,2,    116.1,3,   114.4,2,    8.20,2,   21.60,2,    0.00,2,    1.26,2,-999.000,9,-999.000,9, -999.00,9,  -999.0,9, -999.00,9,   -999.0,9,  -999.00,-999.00000,9,  -999.00, -999.00,9, -999.00,9, -999.00,-999.000,9,   46.97,2,   23.10,2,     -999.0,9, 20210407,      329,  14.8055, -52.3338,    12.8946,2,     0.0412,1,     4.6886,1,     -999.0,9,     -999.0,9,     -999.0,9,     -999.0,9
325020210316,        A20,      61,          1,         26,         26,2,20210407,       0134,    14.8055,   -52.3338,       4992,   437.9,  11.0876,  35.3541,2,  35.3466,2,    111.7,2,   112.8,2,   11.52,2,   25.65,2,    0.00,2,    1.51,2,   1.590,2,   0.904,2,    0.55,2,  2210.2,2, 2324.48,2,   -999.0,9,  -999.00,    7.6427,2,    25.01, -999.00,9, -999.00,9, -999.00,-999.000,9,   45.82,2,   27.23,2,      25.72,2, 20210407,      326,  14.8055, -52.3338,    11.1088,2,     0.0422,1,     4.6901,1,     -999.0,9,     -999.0,9,     -999.0,9,     -999.0,9
325020210316,        A20,      61,          1,         25,         25,2,20210407,       0134,    14.8055,   -52.3338,       4992,   539.0,   9.2154,  35.0846,2,  35.0789,2,    115.1,2,   114.7,2,   15.43,2,   28.64,2,    0.00,2,    1.78,2,-999.000,9,-999.000,9, -999.00,9,  -999.0,9, -999.00,9,   -999.0,9,  -999.00,-999.00000,9,  -999.00, -999.00,9, -999.00,9, -999.00,-999.000,9,   45.41,2,   29.38,2,     -999.0,9, 20210407,      323,  14.8055, -52.3338,     9.2139,2,     0.0436,1,     4.6917,1,     -999.0,9,     -999.0,9,     -999.0,9,     -999.0,9
325020210316,        A20,      61,          1,         24,         24,2,20210407,       0134,    14.8055,   -52.3338,       4992,   640.0,   7.2258,  34.8022,2,  34.7984,2,    119.5,2,   119.1,2,   20.90,2,   32.26,2,    0.00,2,    2.06,2,-999.000,9,-999.000,9, -999.00,9,  -999.0,9, -999.00,9,   -999.0,9,  -999.00,-999.00000,9,  -999.00, -999.00,9, -999.00,9, -999.00,-999.000,9, -999.00,9, -999.00,9,     -999.0,9, 20210407,      320,  14.8055, -52.3338,     7.2170,2,     0.0429,1,     4.6908,1,     -999.0,9,     -999.0,9,     -999.0,9,     -999.0,9
325020210316,        A20,      61,          1,         23,         23,2,20210407,       0134,    14.8055,   -52.3338,       4992,   742.0,   6.3682,  34.7234,2,  34.7225,2,    125.3,2,   125.0,2,   23.93,2,   33.30,2,    0.00,2,    2.16,2,   0.487,2,   0.256,2,    0.07,2,  2225.9,2, -999.00,9,   -999.0,9,  -999.00,   7.54191,6,    25.05, -999.00,9, -999.00,9, -999.00,-999.000,9,   43.15,2,   33.62,2,      26.90,2, 20210407,      316,  14.8055, -52.3338,     6.3686,2,     0.0441,1,     4.6909,1,     -999.0,9,     -999.0,9,     -999.0,9,     -999.0,9
325020210316,        A20,      61,          1,         22,         22,2,20210407,       0134,    14.8055,   -52.3338,       4992,   842.1,   5.9377,  34.7234,2,  34.7245,2,    129.9,2,   129.8,2,   25.40,2,   33.20,2,    0.00,2,    2.17,2,-999.000,9,-999.000,9, -999.00,9,  -999.0,9, -999.00,9,   -999.0,9,  -999.00,-999.00000,9,  -999.00, -999.00,9, -999.00,9, -999.00,-999.000,9, -999.00,9, -999.00,9,     -999.0,9, 20210407,      314,  14.8055, -52.3338,     5.9351,2,     0.0429,1,     4.6917,1,     -999.0,9,     -999.0,9,     -999.0,9,     -999.0,9
325020210316,        A20,      61,          1,         21,         21,2,20210407,       0134,    14.8055,   -52.3338,       4992,   942.7,   5.6844,  34.7737,2,  34.7740,2,    137.5,2,   137.6,2,   25.49,2,   32.01,2,    0.00,2,    2.10,2,   0.188,2,   0.100,2,    0.11,2,  2223.1,2, 2308.89,6,   -999.0,9,  -999.00,   7.56394,2,    25.01, -999.00,9, -999.00,9, -999.00,-999.000,9,   43.36,2,   31.95,2,      24.37,2, 20210407,      311,  14.8055, -52.3338,     5.6853,2,     0.0434,1,     4.6923,1,     -999.0,9,     -999.0,9,     -999.0,9,     -999.0,9
325020210316,        A20,      61,          1,         20,         20,2,20210407,       0134,    14.8055,   -52.3338,       4992,  1043.7,   5.4747,  34.8502,2,  34.8507,2,    156.2,2,   156.6,2,   23.93,2,   29.39,2,    0.00,2,    1.94,2,-999.000,9,-999.000,9, -999.00,9,  -999.0,9, -999.00,9,   -999.0,9,  -999.00,-999.00000,9,  -999.00, -999.00,9, -999.00,9, -999.00,-999.000,9, -999.00,9, -999.00,9,     -999.0,9, 20210407,      307,  14.8055, -52.3338,     5.4741,2,     0.0430,1,     4.6924,1,     -999.0,9,     -999.0,9,     -999.0,9,     -999.0,9
325020210316,        A20,      61,          1,         19,         19,2,20210407,       0134,    14.8055,   -52.3338,       4992,  1144.8,   5.3461,  34.9217,2,  34.9217,2,    173.9,2,   173.8,2,   21.78,2,   26.99,2,    0.00,2,    1.78,2,   0.327,2,   0.170,2,    0.11,2,  2203.8,2, -999.00,9,   -999.0,9,  -999.00,   7.63388,6,    25.02, -999.00,9, -999.00,9, -999.00,-999.000,9,   45.72,2,   27.40,2,      20.55,2, 20210407,      305,  14.8055, -52.3338,     5.3449,2,     0.0428,1,     4.6939,1,     -999.0,9,     -999.0,9,     -999.0,9,     -999.0,9
325020210316,        A20,      61,          1,         18,         18,2,20210407,       0134,    14.8055,   -52.3338,       4992,  1246.2,   5.1117,  34.9546,2,  34.9551,2,    185.3,2,   185.7,2,   20.80,2,   25.54,2,    0.00,2,    1.68,2,-999.000,9,-999.000,9, -999.00,9,  -999.0,9, -999.00,9,   -999.0,9,  -999.00,-999.00000,9,  -999.00, -999.00,9, -999.00,9, -999.00,-999.000,9, -999.00,9, -999.00,9,     -999.0,9, 20210407,      301,  14.8055, -52.3338,     5.1079,2,     0.0426,1,     4.6951,1,     -999.0,9,     -999.0,9,     -999.0,9,     -999.0,9
325020210316,        A20,      61,          1,         17,         17,2,20210407,       0134,    14.8055,   -52.3338,       4992,  1347.1,   4.9255,  34.9807,2,  34.9807,2,    202.4,2,   202.4,2,   19.14,2,   23.59,2,    0.00,2,    1.55,2,   0.421,2,   0.227,2,    0.12,2,  2190.0,2, 2316.72,2,   -999.0,9,  -999.00,   7.67705,2,    25.01, -999.00,9, -999.00,9, -999.00,-999.000,9,   43.05,2,   23.45,2,      17.74,2, 20210407,      258,  14.8055, -52.3338,     4.9257,2,     0.0419,1,     4.6957,1,     -999.0,9,     -999.0,9,     -999.0,9,     -999.0,9
325020210316,        A20,      61,          1,         16,         16,2,20210407,       0134,    14.8055,   -52.3338,       4992,  1449.1,   4.7554,  35.0042,2,  35.0045,2,    224.4,2,   224.4,2,   16.41,2,   21.16,2,    0.00,2,    1.38,2,-999.000,9,-999.000,9, -999.00,9,  -999.0,9, -999.00,9,   -999.0,9,  -999.00,-999.00000,9,  -999.00, -999.00,9, -999.00,9, -999.00,-999.000,9, -999.00,9, -999.00,9,     -999.0,9, 20210407,      255,  14.8055, -52.3338,     4.7549,2,     0.0429,1,     4.6960,1,     -999.0,9,     -999.0,9,     -999.0,9,     -999.0,9
325020210316,        A20,      61,          1,         15,         15,2,20210407,       0134,    14.8055,   -52.3338,       4992,  1550.1,   4.5209,  35.0041,2,  35.0043,2,    234.8,2,   234.0,2,   15.82,2,   20.28,2,    0.00,2,    1.33,2,   1.034,2,   0.528,2,    0.29,2,  2175.8,2, -999.00,9,   -999.0,9,  -999.00,   7.71156,2,    24.99, -999.00,9, -999.00,9, -999.00,-999.000,9,   47.78,2,   20.51,2,      15.98,2, 20210407,      252,  14.8055, -52.3338,     4.5205,2,     0.0426,1,     4.6964,1,     -999.0,9,     -999.0,9,     -999.0,9,     -999.0,9
325020210316,        A20,      61,          1,         14,         14,2,20210407,       0134,    14.8055,   -52.3338,       4992,  1682.1,   4.1930,  34.9966,2,  34.9976,2,    244.9,2,   244.3,2,   15.82,2,   19.45,2,    0.00,2,    1.27,2,-999.000,9,-999.000,9, -999.00,9,  -999.0,9, -999.00,9,   -999.0,9,  -999.00,-999.00000,9,  -999.00, -999.00,9, -999.00,9, -999.00,-999.000,9, -999.00,9, -999.00,9,     -999.0,9, 20210407,      247,  14.8055, -52.3338,     4.1924,2,     0.0426,1,     4.6970,1,     -999.0,9,     -999.0,9,     -999.0,9,     -999.0,9
325020210316,        A20,      61,          1,         13,         13,2,20210407,       0134,    14.8055,   -52.3338,       4992,  1883.7,   3.7327,  34.9813,2,  34.9813,2,    253.9,2,   253.6,2,   17.29,2,   18.93,2,    0.00,2,    1.24,2,   0.737,2,   0.376,2,    0.14,2,  2168.5,2, 2313.41,2,   -999.0,9,  -999.00,   7.73334,2,    25.01, -999.00,9, -999.00,9, -999.00,-999.000,9, -999.00,9, -999.00,9,      14.99,2, 20210407,      243,  14.8055, -52.3338,     3.7354,2,     0.0427,1,     4.6970,1,     -999.0,9,     -999.0,9,     -999.0,9,     -999.0,9
325020210316,        A20,      61,          1,         12,         12,2,20210407,       0134,    14.8055,   -52.3338,       4992,  2107.0,   3.3705,  34.9660,2,  34.9667,2,    257.1,2,   257.0,2,   19.73,2,   18.82,2,    0.00,2,    1.24,2,-999.000,9,-999.000,9, -999.00,9,  -999.0,9, -999.00,9,   -999.0,9,  -999.00,-999.00000,9,  -999.00, -999.00,9, -999.00,9, -999.00,-999.000,9,   47.05,2,   18.89,2,     -999.0,9, 20210407,      238,  14.8055, -52.3338,     3.3702,2,     0.0429,1,     4.6971,1,     -999.0,9,     -999.0,9,     -999.0,9,     -999.0,9
325020210316,        A20,      61,          1,         11,         11,2,20210407,       0134,    14.8055,   -52.3338,       4992,  2362.5,   3.0972,  34.9504,2,  34.9498,2,    258.6,2,   258.7,2,   22.17,2,   18.79,2,    0.00,2,    1.24,2,   0.574,2,   0.284,2,    0.10,2,  2171.4,2, -999.00,9,   -999.0,9,  -999.00,   7.73819,2,    25.01, -999.00,9, -999.00,9, -999.00,-999.000,9,   50.28,2,   20.51,2,      14.31,2, 20210407,      233,  14.8055, -52.3338,     3.0968,2,     0.0422,1,     4.6967,1,     -999.0,9,     -999.0,9,     -999.0,9,     -999.0,9
325020210316,        A20,      61,          1,         10,         10,2,20210407,       0134,    14.8055,   -52.3338,       4992,  2616.2,   2.8630,  34.9363,2,  34.9366,2,    257.5,2,   257.8,2,   25.98,2,   19.28,2,    0.00,2,    1.28,2,-999.000,9,-999.000,9, -999.00,9,  -999.0,9, -999.00,9,   -999.0,9,  -999.00,-999.00000,9,  -999.00, -999.00,9, -999.00,9, -999.00,-999.000,9, -999.00,9, -999.00,9,     -999.0,9, 20210407,      227,  14.8055, -52.3338,     2.8630,2,     0.0425,1,     4.6962,1,     -999.0,9,     -999.0,9,     -999.0,9,     -999.0,9
325020210316,        A20,      61,          1,          9,          9,2,20210407,       0134,    14.8055,   -52.3338,       4992,  2870.4,   2.7323,  34.9269,2,  34.9268,2,    253.5,2,   253.9,2,   31.16,2,   20.09,2,    0.00,2,    1.33,2,   0.260,2,   0.132,2,    0.13,2,  2180.9,2, 2328.85,2,   -999.0,9,  -999.00,   7.73594,2,    25.02, -999.00,9, -999.00,9, -999.00,-999.000,9,   46.53,2,   21.32,2,      14.66,2, 20210407,      221,  14.8055, -52.3338,     2.7327,2,     0.0423,1,     4.6961,1,     -999.0,9,     -999.0,9,     -999.0,9,     -999.0,9
325020210316,        A20,      61,          1,          8,          8,2,20210407,       0134,    14.8055,   -52.3338,       4992,  3141.5,   2.6177,  34.9171,2,  34.9168,2,    251.3,2,   251.9,2,   35.16,2,   20.61,2,    0.00,2,    1.37,2,-999.000,9,-999.000,9, -999.00,9,  -999.0,9, -999.00,9,   -999.0,9,  -999.00,-999.00000,9,  -999.00, -999.00,9, -999.00,9, -999.00,-999.000,9, -999.00,9, -999.00,9,     -999.0,9, 20210407,      215,  14.8055, -52.3338,     2.6173,2,     0.0429,1,     4.6965,1,     -999.0,9,     -999.0,9,     -999.0,9,     -999.0,9
325020210316,        A20,      61,          1,          7,          7,2,20210407,       0134,    14.8055,   -52.3338,       4992,  3447.6,   2.4928,  34.9068,2,  34.9067,2,    255.1,2,   255.2,2,   35.36,2,   20.41,2,    0.00,2,    1.36,2,   0.291,2,   0.145,2,    0.09,2,  2185.4,2, -999.00,9,   -999.0,9,  -999.00,   7.73308,2,    25.00, -999.00,9, -999.00,9, -999.00,-999.000,9,   44.89,2,   20.98,2,      14.96,2, 20210407,      209,  14.8055, -52.3338,     2.4920,2,     0.0428,1,     4.6961,1,     -999.0,9,     -999.0,9,     -999.0,9,     -999.0,9
325020210316,        A20,      61,          1,          6,          6,2,20210407,       0134,    14.8055,   -52.3338,       4992,  3755.1,   2.3817,  34.8969,2,  34.8957,2,    257.4,2,   257.2,2,   36.33,2,   20.19,2,    0.00,2,    1.36,2,-999.000,9,-999.000,9, -999.00,9,  -999.0,9, -999.00,9,   -999.0,9,  -999.00,-999.00000,9,  -999.00, -999.00,9, -999.00,9, -999.00,-999.000,9, -999.00,9, -999.00,9,     -999.0,9, 20210407,      202,  14.8055, -52.3338,     2.3818,2,     0.0426,1,     4.6960,1,     -999.0,9,     -999.0,9,     -999.0,9,     -999.0,9
325020210316,        A20,      61,          1,          5,          5,2,20210407,       0134,    14.8055,   -52.3338,       4992,  4062.7,   2.2781,  34.8868,2,  34.8871,2,    258.0,2,   257.8,2,   38.29,2,   20.29,2,    0.00,2,    1.37,2,   0.399,2,   0.203,2,    0.07,2,  2189.0,2, 2253.96,4,   -999.0,9,  -999.00,   7.72903,2,    25.00, -999.00,9, -999.00,9, -999.00,-999.000,9,   45.01,2,   21.14,2,      14.93,2, 20210407,      156,  14.8055, -52.3338,     2.2780,2,     0.0434,1,     4.6960,1,     -999.0,9,     -999.0,9,     -999.0,9,     -999.0,9
325020210316,        A20,      61,          1,          4,          4,2,20210407,       0134,    14.8055,   -52.3338,       4992,  4370.3,   2.1760,  34.8748,2,  34.8753,2,    257.3,2,   257.0,2,   41.71,2,   20.60,2,    0.00,2,    1.39,2,-999.000,9,-999.000,9, -999.00,9,  -999.0,9, -999.00,9,   -999.0,9,  -999.00,-999.00000,9,  -999.00, -999.00,9, -999.00,9, -999.00,-999.000,9,   46.96,2,   20.57,2,     -999.0,9, 20210407,      150,  14.8055, -52.3338,     2.1756,2,     0.0430,1,     4.6950,1,     -999.0,9,     -999.0,9,     -999.0,9,     -999.0,9
325020210316,        A20,      61,          1,          3,          3,2,20210407,       0134,    14.8055,   -52.3338,       4992,  4678.1,   1.9923,  34.8500,2,  34.8507,2,    250.1,2,   249.9,2,   53.43,2,   22.42,2,    0.00,2,    1.51,2,   0.352,2,   0.179,2,    0.11,2,  2205.9,2, -999.00,9,   -999.0,9,  -999.00,   7.70962,2,    24.99, -999.00,9, -999.00,9, -999.00,-999.000,9, -999.00,9, -999.00,9,      15.38,2, 20210407,      144,  14.8055, -52.3338,     1.9921,2,     0.0434,1,     4.6886,1,     -999.0,9,     -999.0,9,     -999.0,9,     -999.0,9