BOTTLE,20230512CCHSIOCBG
EXPOCODE,SECT_ID,STNNBR,CASTNO,SAMPNO,BTLNBR,BTLNBR_FLAG_W,DATE,TIME,LATITUDE,LONGITUDE,DEPTH,CTDPRS,CTDTMP,CTDSAL,CTDSAL_FLAG_W,SALNTY,SALNTY_FLAG_W,CTDOXY,CTDOXY_FLAG_W,OXYGEN,OXYGEN_FLAG_W,SILCAT,SILCAT_FLAG_W,NITRAT,NITRAT_FLAG_W,NITRIT,NITRIT_FLAG_W,PHSPHT,PHSPHT_FLAG_W,CFC-11,CFC-11_FLAG_W,CFC-12,CFC-12_FLAG_W,SF6,SF6_FLAG_W,TCARBN,TCARBN_FLAG_W,ALKALI,ALKALI_FLAG_W,FCO2,FCO2_FLAG_W,FCO2TMP,PH_TOT,PH_TOT_FLAG_W,PH_TMP,DELC13,DELC13_FLAG_W,DELC14,DELC14_FLAG_W,C14ERR,POC,POC_FLAG_W,DOC,DOC_FLAG_W,TDN,TDN_FLAG_W,N2O,N2O_FLAG_W,BTL_DATE,BTL_TIME,BTL_LAT,BTL_LON,REFTMP,REFTMP_FLAG_W,CTDFLUOR,CTDFLUOR_FLAG_W,CTDXMISS,CTDXMISS_FLAG_W,D15N_NO2+NO3,D15N_NO2+NO3_FLAG_W,D18O_NO2+NO3,D18O_NO2+NO3_FLAG_W,HPLC,HPLC_FLAG_W,MICROGELS,MICROGELS_FLAG_W
,,,,,,,,,,,METERS,DBAR,ITS-90,PSS-78,,PSS-78,,UMOL/KG,,UMOL/KG,,UMOL/KG,,UMOL/KG,,UMOL/KG,,UMOL/KG,,PMOL/KG,,PMOL/KG,,FMOL/KG,,UMOL/KG,,UMOL/KG,,UATM,,DEG C,,,DEG C,/MILLE,,/MILLE,,/MILLE,UG/KG,,UMOL/KG,,UMOL/KG,,NMOL/KG,,,,,,ITS-90,,VOLTS,,VOLTS,,/MILLE,,/MILLE,,,,1E6 GELS/L,
325020210316,        A20,      65,          1,         36,         36,2,20210408,       0509,    12.4719,   -52.3337,       5050,     5.4,  26.4427,  36.1848,2,  36.1866,2,    204.2,2,   203.6,2,    0.88,2,    0.00,2,    0.00,2,    0.00,2,   1.383,2,   0.972,2,    1.58,2,  2041.6,6, 2373.27,2,   -999.0,9,  -999.00,   8.08626,6,    24.99, -999.00,9, -999.00,9, -999.00,-999.000,9, -999.00,9, -999.00,9,       6.04,2, 20210408,      727,  12.4719, -52.3337,    26.4423,2,     0.0511,1,     4.6033,1,     -999.0,9,     -999.0,9,     -999.0,9,     -999.0,9
325020210316,        A20,      65,          1,         35,         35,2,20210408,       0509,    12.4719,   -52.3337,       5050,    20.3,  26.3915,  36.1977,2,  36.1986,2,    204.1,2,   203.7,2,    0.88,2,    0.00,2,    0.00,2,    0.00,2,-999.000,9,-999.000,9, -999.00,9,  -999.0,9, -999.00,9,   -999.0,9,  -999.00,-999.00000,9,  -999.00, -999.00,9, -999.00,9, -999.00,-999.000,9, -999.00,9, -999.00,9,     -999.0,9, 20210408,      725,  12.4719, -52.3337,    26.3898,2,     0.0524,1,     4.6093,1,     -999.0,9,     -999.0,9,     -999.0,9,     -999.0,9
325020210316,        A20,      65,          1,         34,         34,2,20210408,       0509,    12.4719,   -52.3337,       5050,    40.6,  26.3249,  36.2042,2,  36.2052,2,    203.4,2,   203.5,2,    0.88,2,    0.00,2,    0.00,2,    0.00,2,-999.000,9,-999.000,9, -999.00,9,  -999.0,9, -999.00,9,   -999.0,9,  -999.00,-999.00000,9,  -999.00, -999.00,9, -999.00,9, -999.00,-999.000,9, -999.00,9, -999.00,9,     -999.0,9, 20210408,      724,  12.4719, -52.3337,    26.3240,2,     0.0539,1,     4.6132,1,     -999.0,9,     -999.0,9,     -999.0,9,     -999.0,9
325020210316,        A20,      65,          1,         33,         33,2,20210408,       0509,    12.4719,   -52.3337,       5050,    65.4,  26.2430,  36.2284,2,  36.2311,2,    204.3,2,   203.8,2,    0.88,2,    0.00,2,    0.00,2,    0.00,2,   1.433,2,   0.970,2,    1.57,2,  2042.1,2, 2373.24,2,   -999.0,9,  -999.00,   8.08553,2,    25.00, -999.00,9, -999.00,9, -999.00,-999.000,9, -999.00,9, -999.00,9,       5.92,2, 20210408,      722,  12.4719, -52.3337,    26.2434,2,     0.0709,1,     4.6176,1,     -999.0,9,     -999.0,9,     -999.0,9,     -999.0,9
325020210316,        A20,      65,          1,         32,         32,2,20210408,       0509,    12.4719,   -52.3337,       5050,    91.3,  26.0300,  36.2053,2,  36.1988,2,    200.0,2,   200.9,2,    0.68,2,    0.00,2,    0.01,2,    0.00,2,-999.000,9,-999.000,9, -999.00,9,  -999.0,9, -999.00,9,   -999.0,9,  -999.00,-999.00000,9,  -999.00, -999.00,9, -999.00,9, -999.00,-999.000,9, -999.00,9, -999.00,9,     -999.0,9, 20210408,      720,  12.4719, -52.3337,    26.0252,2,     0.0945,1,     4.6283,1,     -999.0,9,     -999.0,9,     -999.0,9,     -999.0,9
325020210316,        A20,      65,          1,         31,         31,2,20210408,       0509,    12.4719,   -52.3337,       5050,   135.2,  20.6758,  36.6463,2,  36.6195,3,    129.6,3,   136.1,2,    2.44,2,    8.63,2,    0.01,2,    0.44,2,   1.850,2,   1.200,2,    1.40,2,  2179.1,2, -999.00,9,   -999.0,9,  -999.00,   7.87243,2,    25.00, -999.00,9, -999.00,9, -999.00,-999.000,9, -999.00,9, -999.00,9,      14.85,2, 20210408,      717,  12.4719, -52.3337,    20.7038,2,     0.0527,1,     4.6658,1,     -999.0,9,     -999.0,9,     -999.0,9,     -999.0,9
325020210316,        A20,      65,          1,         30,         30,2,20210408,       0509,    12.4719,   -52.3337,       5050,   186.5,  17.2732,  36.3346,2,  36.3138,3,    134.9,3,   137.1,2,    3.51,2,   12.34,2,    0.00,2,    0.67,2,-999.000,9,-999.000,9, -999.00,9,  -999.0,9, -999.00,9,   -999.0,9,  -999.00,-999.00000,9,  -999.00, -999.00,9, -999.00,9, -999.00,-999.000,9, -999.00,9, -999.00,9,     -999.0,9, 20210408,      715,  12.4719, -52.3337,    17.2684,2,     0.0421,1,     4.6814,1,     -999.0,9,     -999.0,9,     -999.0,9,     -999.0,9
325020210316,        A20,      65,          1,         29,         29,2,20210408,       0509,    12.4719,   -52.3337,       5050,   236.3,  14.6811,  35.9347,2,  35.8878,3,    132.5,2,   133.4,2,    5.76,2,   16.75,2,    0.00,2,    0.96,2,-999.000,9,-999.000,9, -999.00,9,  -999.0,9, -999.00,9,   -999.0,9,  -999.00,-999.00000,9,  -999.00, -999.00,9, -999.00,9, -999.00,-999.000,9, -999.00,9, -999.00,9,     -999.0,9, 20210408,      713,  12.4719, -52.3337,    14.7294,2,     0.0416,1,     4.6867,1,     -999.0,9,     -999.0,9,     -999.0,9,     -999.0,9
325020210316,        A20,      65,          1,         28,         28,2,20210408,       0509,    12.4719,   -52.3337,       5050,   287.2,  12.1936,  35.4254,2,  35.4233,2,    116.8,3,   118.4,2,    9.66,2,   22.73,2,    0.00,2,    1.38,2,-999.000,9,-999.000,9, -999.00,9,  -999.0,9, -999.00,9,   -999.0,9,  -999.00,-999.00000,9,  -999.00, -999.00,9, -999.00,9, -999.00,-999.000,9, -999.00,9, -999.00,9,     -999.0,9, 20210408,      711,  12.4719, -52.3337,    12.1915,2,     0.0414,1,     4.6838,1,     -999.0,9,     -999.0,9,     -999.0,9,     -999.0,9
325020210316,        A20,      65,          1,         27,         27,2,20210408,       0509,    12.4719,   -52.3337,       5050,   337.5,  10.9785,  35.2227,2,  35.2038,2,    115.3,3,   116.8,2,   11.62,2,   25.18,2,    0.00,2,    1.55,2,   1.756,2,   1.071,2,    0.73,2,  2209.4,2,  2319.2,2,   -999.0,9,  -999.00,   7.63352,2,    24.99, -999.00,9, -999.00,9, -999.00,-999.000,9, -999.00,9, -999.00,9,      26.61,2, 20210408,      709,  12.4719, -52.3337,    10.9768,2,     0.0422,1,     4.6836,1,     -999.0,9,     -999.0,9,     -999.0,9,     -999.0,9
325020210316,        A20,      65,          1,         26,         26,2,20210408,       0509,    12.4719,   -52.3337,       5050,   386.8,   9.9106,  35.0558,2,  35.0441,2,    117.2,2,   117.6,2,   13.48,2,   27.00,2,    0.00,2,    1.69,2,-999.000,9,-999.000,9, -999.00,9,  -999.0,9, -999.00,9,   -999.0,9,  -999.00,-999.00000,9,  -999.00, -999.00,9, -999.00,9, -999.00,-999.000,9, -999.00,9, -999.00,9,     -999.0,9, 20210408,      707,  12.4719, -52.3337,     9.8988,2,     0.0424,1,     4.6826,1,     -999.0,9,     -999.0,9,     -999.0,9,     -999.0,9
325020210316,        A20,      65,          1,         25,         25,2,20210408,       0509,    12.4719,   -52.3337,       5050,   467.7,   8.3975,  34.8369,2,  34.8367,2,    121.0,2,   120.5,2,   16.80,2,   29.89,2,    0.00,2,    1.88,2,-999.000,9,-999.000,9, -999.00,9,  -999.0,9, -999.00,9,   -999.0,9,  -999.00,-999.00000,9,  -999.00, -999.00,9, -999.00,9, -999.00,-999.000,9, -999.00,9, -999.00,9,     -999.0,9, 20210408,      704,  12.4719, -52.3337,     8.3952,2,     0.0425,1,     4.6838,1,     -999.0,9,     -999.0,9,     -999.0,9,     -999.0,9
325020210316,        A20,      65,          1,         24,         24,2,20210408,       0509,    12.4719,   -52.3337,       5050,   568.6,   7.6543,  34.7748,2,  34.7752,2,    117.8,2,   117.2,2,   19.14,2,   31.74,2,    0.00,2,    2.02,2,   1.125,2,   0.622,2,    0.30,2,  2223.2,2, -999.00,9,   -999.0,9,  -999.00,   7.54802,2,    24.98, -999.00,9, -999.00,9, -999.00,-999.000,9, -999.00,9, -999.00,9,      27.57,2, 20210408,      701,  12.4719, -52.3337,     7.6537,2,     0.0419,1,     4.6860,1,     -999.0,9,     -999.0,9,     -999.0,9,     -999.0,9
325020210316,        A20,      65,          1,         23,         23,2,20210408,       0509,    12.4719,   -52.3337,       5050,   670.5,   6.7548,  34.6887,2,  34.6895,2,    122.0,2,   121.3,2,   22.37,2,   33.32,2,    0.00,2,    2.15,2,-999.000,9,-999.000,9, -999.00,9,  -999.0,9, -999.00,9,   -999.0,9,  -999.00,-999.00000,9,  -999.00, -999.00,9, -999.00,9, -999.00,-999.000,9, -999.00,9, -999.00,9,     -999.0,9, 20210408,      658,  12.4719, -52.3337,     6.7542,2,     0.0430,1,     4.6867,1,     -999.0,9,     -999.0,9,     -999.0,9,     -999.0,9
325020210316,        A20,      65,          1,         22,         22,2,20210408,       0509,    12.4719,   -52.3337,       5050,   770.9,   6.0124,  34.6344,2,  34.6348,2,    128.3,2,   127.8,2,   25.30,2,   34.07,2,    0.00,2,    2.23,2,   0.512,2,   0.283,2,    0.21,2,  2226.4,2, 2299.64,6,   -999.0,9,  -999.00,   7.52938,2,    24.99, -999.00,9, -999.00,9, -999.00,-999.000,9, -999.00,9, -999.00,9,      25.51,2, 20210408,      655,  12.4719, -52.3337,     6.0130,2,     0.0433,1,     4.6867,1,     -999.0,9,     -999.0,9,     -999.0,9,     -999.0,9
325020210316,        A20,      65,          1,         21,         21,2,20210408,       0509,    12.4719,   -52.3337,       5050,   870.9,   5.8338,  34.6874,2,  34.6873,2,    128.7,2,   127.8,2,   25.98,2,   33.85,2,    0.00,2,    2.21,2,-999.000,9,-999.000,9, -999.00,9,  -999.0,9, -999.00,9,   -999.0,9,  -999.00,-999.00000,9,  -999.00, -999.00,9, -999.00,9, -999.00,-999.000,9, -999.00,9, -999.00,9,     -999.0,9, 20210408,      652,  12.4719, -52.3337,     5.8328,2,     0.0427,1,     4.6881,1,     -999.0,9,     -999.0,9,     -999.0,9,     -999.0,9
325020210316,        A20,      65,          1,         20,         20,2,20210408,       0509,    12.4719,   -52.3337,       5050,   972.6,   5.4341,  34.7021,2,  34.7015,2,    138.8,2,   138.7,2,   26.96,2,   32.95,2,    0.00,2,    2.17,2,   0.218,2,   0.115,2,    0.05,2,  2224.7,2, -999.00,9,   -999.0,9,  -999.00,   7.55116,2,    24.99, -999.00,9, -999.00,9, -999.00,-999.000,9, -999.00,9, -999.00,9,      23.62,2, 20210408,      649,  12.4719, -52.3337,     5.4328,2,     0.0429,1,     4.6879,1,     -999.0,9,     -999.0,9,     -999.0,9,     -999.0,9
325020210316,        A20,      65,          1,         19,         19,2,20210408,       0509,    12.4719,   -52.3337,       5050,  1072.9,   5.4002,  34.8046,2,  34.8037,2,    151.9,2,   151.8,2,   25.00,2,   30.41,2,    0.00,2,    2.01,2,-999.000,9,-999.000,9, -999.00,9,  -999.0,9, -999.00,9,   -999.0,9,  -999.00,-999.00000,9,  -999.00, -999.00,9, -999.00,9, -999.00,-999.000,9, -999.00,9, -999.00,9,     -999.0,9, 20210408,      646,  12.4719, -52.3337,     5.3996,2,     0.0428,1,     4.6888,1,     -999.0,9,     -999.0,9,     -999.0,9,     -999.0,9
325020210316,        A20,      65,          1,         18,         18,2,20210408,       0509,    12.4719,   -52.3337,       5050,  1174.2,   5.3072,  34.8812,2,  34.8818,2,    169.7,2,   169.9,2,   22.85,2,   27.70,2,    0.00,2,    1.83,2,   0.344,2,   0.191,2,    0.14,2,  2208.0,2, -999.00,9,   -999.0,9,  -999.00,   7.62233,2,    24.99, -999.00,9, -999.00,9, -999.00,-999.000,9, -999.00,9, -999.00,9,      19.68,2, 20210408,      643,  12.4719, -52.3337,     5.3141,2,     0.0430,1,     4.6886,1,     -999.0,9,     -999.0,9,     -999.0,9,     -999.0,9
325020210316,        A20,      65,          1,         17,         17,2,20210408,       0509,    12.4719,   -52.3337,       5050,  1275.5,   5.2019,  34.9363,2,  34.9353,2,    188.2,2,   188.4,2,   20.70,2,   25.12,2,    0.00,2,    1.66,2,-999.000,9,-999.000,9, -999.00,9,  -999.0,9, -999.00,9,   -999.0,9,  -999.00,-999.00000,9,  -999.00, -999.00,9, -999.00,9, -999.00,-999.000,9, -999.00,9, -999.00,9,     -999.0,9, 20210408,      640,  12.4719, -52.3337,     5.2011,2,     0.0428,1,     4.6830,1,     -999.0,9,     -999.0,9,     -999.0,9,     -999.0,9
325020210316,        A20,      65,          1,         16,         16,2,20210408,       0509,    12.4719,   -52.3337,       5050,  1376.9,   4.9777,  34.9960,2,  34.9984,2,    216.5,2,   218.0,2,   16.89,2,   21.41,2,    0.00,2,    1.41,2,   0.869,2,   0.634,2,    0.41,2,  2186.8,2, -999.00,9,   -999.0,9,  -999.00,   7.69123,2,    25.00, -999.00,9, -999.00,9, -999.00,-999.000,9, -999.00,9, -999.00,9,      16.01,2, 20210408,      637,  12.4719, -52.3337,     4.9752,2,     0.0417,1,     4.6801,1,     -999.0,9,     -999.0,9,     -999.0,9,     -999.0,9
325020210316,        A20,      65,          1,         15,         15,2,20210408,       0509,    12.4719,   -52.3337,       5050,  1477.3,   4.7487,  35.0145,2,  35.0152,2,    236.1,2,   235.0,2,   14.55,2,   19.58,2,    0.00,2,    1.28,2,-999.000,9,-999.000,9, -999.00,9,  -999.0,9, -999.00,9,   -999.0,9,  -999.00,-999.00000,9,  -999.00, -999.00,9, -999.00,9, -999.00,-999.000,9, -999.00,9, -999.00,9,     -999.0,9, 20210408,      632,  12.4719, -52.3337,     4.7540,2,     0.0413,1,     4.6913,1,     -999.0,9,     -999.0,9,     -999.0,9,     -999.0,9
325020210316,        A20,      65,          1,         14,         14,2,20210408,       0509,    12.4719,   -52.3337,       5050,  1580.3,   4.4659,  35.0077,2,  35.0094,2,    245.7,2,   244.7,2,   13.96,2,   18.80,2,    0.00,2,    1.23,2,-999.000,9,-999.000,9, -999.00,9,  -999.0,9, -999.00,9,   -999.0,9,  -999.00,-999.00000,9,  -999.00, -999.00,9, -999.00,9, -999.00,-999.000,9, -999.00,9, -999.00,9,     -999.0,9, 20210408,      630,  12.4719, -52.3337,     4.4682,2,     0.0419,1,     4.6923,1,     -999.0,9,     -999.0,9,     -999.0,9,     -999.0,9
325020210316,        A20,      65,          1,         13,         13,2,20210408,       0509,    12.4719,   -52.3337,       5050,  1751.7,   4.0456,  34.9893,2,  34.9900,2,    252.7,2,   252.2,2,   14.84,2,   18.58,2,    0.00,2,    1.22,2,   1.166,2,   0.650,2,    0.28,2,  2170.0,2, 2312.03,2,   -999.0,9,  -999.00,   7.72575,2,    24.99, -999.00,9, -999.00,9, -999.00,-999.000,9, -999.00,9, -999.00,9,      13.97,2, 20210408,      624,  12.4719, -52.3337,     4.0460,2,     0.0417,1,     4.6937,1,     -999.0,9,     -999.0,9,     -999.0,9,     -999.0,9
325020210316,        A20,      65,          1,         12,         12,2,20210408,       0509,    12.4719,   -52.3337,       5050,  1955.3,   3.6476,  34.9726,2,  34.9730,2,    258.6,2,   258.5,2,   16.41,2,   18.23,2,    0.00,2,    1.19,2,-999.000,9,-999.000,9, -999.00,9,  -999.0,9, -999.00,9,   -999.0,9,  -999.00,-999.00000,9,  -999.00, -999.00,9, -999.00,9, -999.00,-999.000,9, -999.00,9, -999.00,9,     -999.0,9, 20210408,      620,  12.4719, -52.3337,     3.6482,2,     0.0418,1,     4.6938,1,     -999.0,9,     -999.0,9,     -999.0,9,     -999.0,9
325020210316,        A20,      65,          1,         11,         11,2,20210408,       0509,    12.4719,   -52.3337,       5050,  2189.0,   3.3558,  34.9604,2,  34.9610,2,    260.6,2,   260.4,2,   18.46,2,   18.24,2,    0.00,2,    1.19,2,-999.000,9,-999.000,9, -999.00,9,  -999.0,9, -999.00,9,   -999.0,9,  -999.00,-999.00000,9,  -999.00, -999.00,9, -999.00,9, -999.00,-999.000,9, -999.00,9, -999.00,9,     -999.0,9, 20210408,      615,  12.4719, -52.3337,     3.3551,2,     0.0420,1,     4.6927,1,     -999.0,9,     -999.0,9,     -999.0,9,     -999.0,9
325020210316,        A20,      65,          1,         10,         10,2,20210408,       0509,    12.4719,   -52.3337,       5050,  2442.9,   3.1176,  34.9491,2,  34.9496,2,    259.6,2,   259.8,2,   21.48,2,   18.55,2,    0.00,2,    1.22,2,   0.670,2,   0.333,2,    0.19,2,  2172.4,2, -999.00,9,   -999.0,9,  -999.00,   7.73819,2,    24.99, -999.00,9, -999.00,9, -999.00,-999.000,9, -999.00,9, -999.00,9,      13.55,2, 20210408,      608,  12.4719, -52.3337,     3.1169,2,     0.0422,1,     4.6910,1,     -999.0,9,     -999.0,9,     -999.0,9,     -999.0,9
325020210316,        A20,      65,          1,          9,          9,2,20210408,       0509,    12.4719,   -52.3337,       5050,  2697.3,   2.9546,  34.9404,2,  34.9400,2,    253.0,2,   253.6,2,   27.73,2,   19.66,2,    0.00,2,    1.30,2,-999.000,9,-999.000,9, -999.00,9,  -999.0,9, -999.00,9,   -999.0,9,  -999.00,-999.00000,9,  -999.00, -999.00,9, -999.00,9, -999.00,-999.000,9, -999.00,9, -999.00,9,     -999.0,9, 20210408,      603,  12.4719, -52.3337,     2.9534,2,     0.0429,1,     4.6935,1,     -999.0,9,     -999.0,9,     -999.0,9,     -999.0,9
325020210316,        A20,      65,          1,          8,          8,2,20210408,       0509,    12.4719,   -52.3337,       5050,  2951.9,   2.7834,  34.9292,2,  34.9282,2,    252.7,2,   253.1,2,   30.96,2,   20.01,2,    0.00,2,    1.32,2,   0.239,2,   0.122,2,    0.10,2,  2182.3,2, 2329.49,2,   -999.0,9,  -999.00,   7.73691,6,    25.00, -999.00,9, -999.00,9, -999.00,-999.000,9, -999.00,9, -999.00,9,      13.42,2, 20210408,      557,  12.4719, -52.3337,     2.7829,2,     0.0430,1,     4.6931,1,     -999.0,9,     -999.0,9,     -999.0,9,     -999.0,9
325020210316,        A20,      65,          1,          7,          7,2,20210408,       0509,    12.4719,   -52.3337,       5050,  3243.4,   2.6460,  34.9183,2,  34.9181,2,    251.8,2,   252.1,2,   34.67,2,   20.38,2,    0.00,2,    1.36,2,-999.000,9,-999.000,9, -999.00,9,  -999.0,9, -999.00,9,   -999.0,9,  -999.00,-999.00000,9,  -999.00, -999.00,9, -999.00,9, -999.00,-999.000,9, -999.00,9, -999.00,9,     -999.0,9, 20210408,      551,  12.4719, -52.3337,     2.6458,2,     0.0426,1,     4.6934,1,     -999.0,9,     -999.0,9,     -999.0,9,     -999.0,9
325020210316,        A20,      65,          1,          6,          6,2,20210408,       0509,    12.4719,   -52.3337,       5050,  3549.5,   2.5454,  34.9091,2,  34.9073,2,    253.2,2,   253.5,2,   35.94,2,   20.40,2,    0.00,2,    1.36,2,   0.230,2,   0.126,2,    0.09,2,  2187.3,2, -999.00,9,   -999.0,9,  -999.00,   7.73258,2,    25.01, -999.00,9, -999.00,9, -999.00,-999.000,9, -999.00,9, -999.00,9,      13.73,2, 20210408,      543,  12.4719, -52.3337,     2.5449,2,     0.0429,1,     4.6935,1,     -999.0,9,     -999.0,9,     -999.0,9,     -999.0,9
325020210316,        A20,      65,          1,          5,          5,2,20210408,       0509,    12.4719,   -52.3337,       5050,  3856.2,   2.3757,  34.8968,2,  34.8957,2,    259.3,2,   259.2,2,   34.67,2,   19.65,2,    0.00,2,    1.32,2,-999.000,9,-999.000,9, -999.00,9,  -999.0,9, -999.00,9,   -999.0,9,  -999.00,-999.00000,9,  -999.00, -999.00,9, -999.00,9, -999.00,-999.000,9, -999.00,9, -999.00,9,     -999.0,9, 20210408,      536,  12.4719, -52.3337,     2.3745,2,     0.0429,1,     4.6936,1,     -999.0,9,     -999.0,9,     -999.0,9,     -999.0,9
325020210316,        A20,      65,          1,          4,          4,2,20210408,       0509,    12.4719,   -52.3337,       5050,  4163.9,   2.2955,  34.8891,2,  34.8898,2,    261.0,2,   260.7,2,   35.26,2,   19.55,2,    0.00,2,    1.31,2,   0.508,2,   0.284,2,    0.16,2,  2185.8,2,  2328.5,2,   -999.0,9,  -999.00,   7.73181,6,    25.01, -999.00,9, -999.00,9, -999.00,-999.000,9, -999.00,9, -999.00,9,      14.28,2, 20210408,      530,  12.4719, -52.3337,     2.2957,2,     0.0429,1,     4.6935,1,     -999.0,9,     -999.0,9,     -999.0,9,     -999.0,9
325020210316,        A20,      65,          1,          3,          3,2,20210408,       0509,    12.4719,   -52.3337,       5050,  4471.8,   2.2357,  34.8812,2,  34.8816,2,    260.0,2,   259.7,2,   38.09,2,   19.97,2,    0.00,2,    1.34,2,-999.000,9,-999.000,9, -999.00,9,  -999.0,9, -999.00,9,   -999.0,9,  -999.00,-999.00000,9,  -999.00, -999.00,9, -999.00,9, -999.00,-999.000,9, -999.00,9, -999.00,9,     -999.0,9, 20210408,      523,  12.4719, -52.3337,     2.2358,2,     0.0427,1,     4.6923,1,     -999.0,9,     -999.0,9,     -999.0,9,     -999.0,9