BOTTLE,20230512CCHSIOCBG
EXPOCODE,SECT_ID,STNNBR,CASTNO,SAMPNO,BTLNBR,BTLNBR_FLAG_W,DATE,TIME,LATITUDE,LONGITUDE,DEPTH,CTDPRS,CTDTMP,CTDSAL,CTDSAL_FLAG_W,SALNTY,SALNTY_FLAG_W,CTDOXY,CTDOXY_FLAG_W,OXYGEN,OXYGEN_FLAG_W,SILCAT,SILCAT_FLAG_W,NITRAT,NITRAT_FLAG_W,NITRIT,NITRIT_FLAG_W,PHSPHT,PHSPHT_FLAG_W,CFC-11,CFC-11_FLAG_W,CFC-12,CFC-12_FLAG_W,SF6,SF6_FLAG_W,TCARBN,TCARBN_FLAG_W,ALKALI,ALKALI_FLAG_W,FCO2,FCO2_FLAG_W,FCO2TMP,PH_TOT,PH_TOT_FLAG_W,PH_TMP,DELC13,DELC13_FLAG_W,DELC14,DELC14_FLAG_W,C14ERR,POC,POC_FLAG_W,DOC,DOC_FLAG_W,TDN,TDN_FLAG_W,N2O,N2O_FLAG_W,BTL_DATE,BTL_TIME,BTL_LAT,BTL_LON,REFTMP,REFTMP_FLAG_W,CTDFLUOR,CTDFLUOR_FLAG_W,CTDXMISS,CTDXMISS_FLAG_W,D15N_NO2+NO3,D15N_NO2+NO3_FLAG_W,D18O_NO2+NO3,D18O_NO2+NO3_FLAG_W,HPLC,HPLC_FLAG_W,MICROGELS,MICROGELS_FLAG_W
,,,,,,,,,,,METERS,DBAR,ITS-90,PSS-78,,PSS-78,,UMOL/KG,,UMOL/KG,,UMOL/KG,,UMOL/KG,,UMOL/KG,,UMOL/KG,,PMOL/KG,,PMOL/KG,,FMOL/KG,,UMOL/KG,,UMOL/KG,,UATM,,DEG C,,,DEG C,/MILLE,,/MILLE,,/MILLE,UG/KG,,UMOL/KG,,UMOL/KG,,NMOL/KG,,,,,,ITS-90,,VOLTS,,VOLTS,,/MILLE,,/MILLE,,,,1E6 GELS/L,
325020210316,        A20,       8,          1,         36,         36,2,20210322,       0346,    42.6238,   -51.1252,       2007,     5.3,   1.4056,  33.2691,2,  33.2662,2,    354.3,2,   353.5,2,    3.32,2,    5.19,2,    0.08,2,    0.62,2,   5.290,2,   3.094,2,    4.80,3,  2112.8,2, 2236.71,2,    763.0,2,    20.00,   7.71232,6,    25.00, -999.00,9, -999.00,9, -999.00,-999.000,9,   62.05,2,    8.27,2,      15.34,2, 20210322,      521,  42.6238, -51.1252,     1.3956,2,     0.1109,1,     4.6033,1,     -999.0,9,     -999.0,9,     -999.0,9,     -999.0,1
325020210316,        A20,       8,          1,         35,         35,2,20210322,       0346,    42.6238,   -51.1252,       2007,    25.5,   0.9555,  33.2675,2,  33.2635,2,    354.0,2,   355.7,2,    3.32,2,    5.15,2,    0.07,2,    0.64,2,-999.000,9,-999.000,9, -999.00,9,  -999.0,9, -999.00,9,   -999.0,9,  -999.00,-999.00000,9,  -999.00, -999.00,9, -999.00,9, -999.00,-999.000,9, -999.00,9, -999.00,9,     -999.0,9, 20210322,      519,  42.6236, -51.1252,     0.9542,2,     0.1596,1,     4.5432,1,     -999.0,9,     -999.0,9,     -999.0,9,     -999.0,1
325020210316,        A20,       8,          1,         34,         34,2,20210322,       0346,    42.6238,   -51.1252,       2007,    50.2,   0.9331,  33.2706,2,  33.2660,2,    354.6,2,   353.6,2,    3.13,2,    5.25,2,    0.07,2,    0.62,2,-999.000,9,-999.000,9, -999.00,9,  -999.0,9, -999.00,9,   -999.0,9,  -999.00,-999.00000,9,  -999.00, -999.00,9, -999.00,9, -999.00,-999.000,9, -999.00,9, -999.00,9,     -999.0,9, 20210322,      517,  42.6236, -51.1252,     0.9327,2,     0.1755,1,     4.5556,1,     -999.0,9,     -999.0,9,     -999.0,9,     -999.0,1
325020210316,        A20,       8,          1,         33,         33,2,20210322,       0346,    42.6238,   -51.1252,       2007,    75.2,   0.9212,  33.3901,2,  33.3844,2,    340.9,3,   345.7,2,    3.52,2,    6.13,2,    0.07,2,    0.65,2,-999.000,9,-999.000,9, -999.00,9,  2119.9,2, 2098.53,4,    785.8,6,    20.00,   7.70164,6,    24.99, -999.00,9, -999.00,9, -999.00,-999.000,9,   61.25,2,    7.97,2,     -999.0,9, 20210322,      514,  42.6235, -51.1252,     0.9251,2,     0.1055,1,     4.6083,1,     -999.0,9,     -999.0,9,     -999.0,9,     -999.0,1
325020210316,        A20,       8,          1,         32,         32,2,20210322,       0346,    42.6238,   -51.1252,       2007,   100.8,   2.3560,  33.8104,2,  33.8063,2,    320.9,2,   323.1,2,    5.37,2,    8.25,2,    0.12,2,    0.71,2,-999.000,9,-999.000,9, -999.00,9,  -999.0,9, -999.00,9,   -999.0,9,  -999.00,-999.00000,9,  -999.00, -999.00,9, -999.00,9, -999.00,-999.000,9, -999.00,9, -999.00,9,     -999.0,9, 20210322,      512,  42.6235, -51.1252,     2.3725,3,     0.0929,1,     4.6277,1,     -999.0,9,     -999.0,9,     -999.0,9,     -999.0,1
325020210316,        A20,       8,          1,         31,         31,2,20210322,       0346,    42.6238,   -51.1252,       2007,   125.7,   2.6830,  33.9933,2,  33.9896,2,    320.2,2,   319.6,2,    6.15,2,    9.25,2,    0.12,2,    0.75,2,   4.752,2,   2.726,2,    3.63,3,  2140.3,2, 2240.03,2,    795.5,2,    20.00,    7.6977,2,    25.01, -999.00,9, -999.00,9, -999.00,-999.000,9,   59.90,2,   13.24,2,      14.30,2, 20210322,      510,  42.6235, -51.1252,     2.6791,2,     0.0865,1,     4.6352,1,     -999.0,9,     -999.0,9,     -999.0,9,     -999.0,1
325020210316,        A20,       8,          1,         30,         30,2,20210322,       0346,    42.6238,   -51.1252,       2007,   150.7,   2.7873,  34.1427,2,  34.1436,2,    314.8,2,   315.3,2,    6.35,2,   10.08,2,    0.15,2,    0.79,2,-999.000,9,-999.000,9, -999.00,9,  -999.0,9, -999.00,9,   -999.0,9,  -999.00,-999.00000,9,  -999.00, -999.00,9, -999.00,9, -999.00,-999.000,9, -999.00,9, -999.00,9,     -999.0,9, 20210322,      508,  42.6235, -51.1252,     2.7919,2,     0.0719,1,     4.6595,1,     -999.0,9,     -999.0,9,     -999.0,9,     -999.0,1
325020210316,        A20,       8,          1,         29,         29,2,20210322,       0346,    42.6238,   -51.1252,       2007,   176.4,   2.8558,  34.2480,2,  34.2385,2,    310.9,2,   311.5,2,    6.64,2,   10.72,2,    0.15,2,    0.81,2,-999.000,9,-999.000,9, -999.00,9,  -999.0,9, -999.00,9,   -999.0,9,  -999.00,-999.00000,9,  -999.00, -999.00,9, -999.00,9, -999.00,-999.000,9,   57.04,2,   11.47,2,     -999.0,9, 20210322,      506,  42.6235, -51.1251,     2.8588,2,     0.0647,1,     4.6646,1,     -999.0,9,     -999.0,9,     -999.0,9,     -999.0,1
325020210316,        A20,       8,          1,         28,         28,2,20210322,       0346,    42.6238,   -51.1252,       2007,   201.5,   2.7288,  34.2848,2,  34.2821,2,    304.4,3,   308.8,2,    7.33,2,   11.29,2,    0.11,2,    0.84,2,-999.000,9,-999.000,9, -999.00,9,  -999.0,9, -999.00,9,   -999.0,9,  -999.00,-999.00000,9,  -999.00, -999.00,9, -999.00,9, -999.00,-999.000,9, -999.00,9, -999.00,9,     -999.0,9, 20210322,      504,  42.6235, -51.1251,     2.7290,2,     0.0627,1,     4.6671,1,     -999.0,9,     -999.0,9,     -999.0,9,     -999.0,1
325020210316,        A20,       8,          1,         27,         27,2,20210322,       0346,    42.6238,   -51.1252,       2007,   226.7,   2.6814,  34.3146,2,  34.3107,2,    298.6,3,   302.3,2,    8.40,2,   12.06,2,    0.06,2,    0.89,2,   4.500,2,   2.565,2,    3.06,3,  2156.4,2,  2254.2,2,    847.9,2,    20.00,   7.68266,2,    25.02, -999.00,9, -999.00,9, -999.00,-999.000,9,   55.93,2,   13.38,2,      14.27,2, 20210322,      502,  42.6235, -51.1251,     2.6813,2,     0.0532,1,     4.6656,1,     -999.0,9,     -999.0,9,     -999.0,9,     -999.0,1
325020210316,        A20,       8,          1,         26,         26,2,20210322,       0346,    42.6238,   -51.1252,       2007,   256.8,   2.8841,  34.4025,2,  34.4016,2,    295.2,2,   293.1,2,    8.98,2,   12.98,2,    0.00,2,    0.93,2,-999.000,9,-999.000,9, -999.00,9,  -999.0,9, -999.00,9,   -999.0,9,  -999.00,-999.00000,9,  -999.00, -999.00,9, -999.00,9, -999.00,-999.000,9, -999.00,9, -999.00,9,     -999.0,9, 20210322,      500,  42.6235, -51.1251,     2.8843,2,     0.0466,1,     4.6688,1,     -999.0,9,     -999.0,9,     -999.0,9,     -999.0,1
325020210316,        A20,       8,          1,         25,         25,2,20210322,       0346,    42.6238,   -51.1252,       2007,   303.0,   3.2458,  34.5290,2,  34.5272,2,    290.6,2,   290.2,2,    8.89,2,   13.48,2,    0.00,2,    0.95,2,-999.000,9,-999.000,9, -999.00,9,  -999.0,9, -999.00,9,   -999.0,9,  -999.00,-999.00000,9,  -999.00, -999.00,9, -999.00,9, -999.00,-999.000,9, -999.00,9, -999.00,9,     -999.0,9, 20210322,      458,  42.6235, -51.1251,     3.2477,2,     0.0439,1,     4.6726,1,     -999.0,9,     -999.0,9,     -999.0,9,     -999.0,1
325020210316,        A20,       8,          1,         24,         24,2,20210322,       0346,    42.6238,   -51.1252,       2007,   353.5,   3.3825,  34.5830,2,  34.5806,2,    289.2,2,   289.1,2,    8.98,2,   13.83,2,    0.00,2,    0.96,2,   4.205,2,   2.515,2,    3.62,3,  2166.9,2, 2285.04,2,    845.5,2,    20.00,   7.67774,2,    25.00, -999.00,9, -999.00,9, -999.00,-999.000,9,   54.32,2,   15.00,2,      14.01,2, 20210322,      454,  42.6235, -51.1251,     3.3827,2,     0.0442,1,     4.6762,1,     -999.0,9,     -999.0,9,     -999.0,9,     -999.0,1
325020210316,        A20,       8,          1,         23,         23,2,20210322,       0346,    42.6238,   -51.1252,       2007,   403.5,   3.5244,  34.6331,2,  34.6297,2,    286.7,2,   289.2,2,    8.79,2,   14.08,2,    0.00,2,    0.97,2,-999.000,9,-999.000,9, -999.00,9,  -999.0,9, -999.00,9,   -999.0,9,  -999.00,-999.00000,9,  -999.00, -999.00,9, -999.00,9, -999.00,-999.000,9, -999.00,9, -999.00,9,     -999.0,9, 20210322,      453,  42.6235, -51.1251,     3.5252,2,     0.0436,1,     4.6799,1,     -999.0,9,     -999.0,9,     -999.0,9,     -999.0,1
325020210316,        A20,       8,          1,         22,         22,2,20210322,       0346,    42.6238,   -51.1252,       2007,   453.7,   3.5703,  34.6496,2,  34.6486,2,    286.2,2,   287.5,2,    8.89,2,   14.30,2,    0.00,2,    0.97,2,-999.000,9,-999.000,9, -999.00,9,  -999.0,9, -999.00,9,   -999.0,9,  -999.00,-999.00000,9,  -999.00, -999.00,9, -999.00,9, -999.00,-999.000,9, -999.00,9, -999.00,9,     -999.0,9, 20210322,      450,  42.6235, -51.1251,     3.5697,2,     0.0430,1,     4.6767,1,     -999.0,9,     -999.0,9,     -999.0,9,     -999.0,1
325020210316,        A20,       8,          1,         21,         21,2,20210322,       0346,    42.6238,   -51.1252,       2007,   503.8,   3.6445,  34.6755,2,  34.6726,2,    285.5,2,   285.5,2,    8.89,2,   14.55,2,    0.00,2,    0.98,2,   4.232,2,   2.444,2,    3.60,3,  2168.0,2, 2288.65,2,    839.3,2,    20.00,   7.68166,2,    24.99, -999.00,9, -999.00,9, -999.00,-999.000,9,   51.99,2,   15.60,2,      13.93,2, 20210322,      446,  42.6235, -51.1251,     3.6424,2,     0.0430,1,     4.6728,1,     -999.0,9,     -999.0,9,     -999.0,9,     -999.0,1
325020210316,        A20,       8,          1,         20,         20,2,20210322,       0346,    42.6238,   -51.1252,       2007,   554.6,   4.6764,  34.8542,2,  34.8493,2,    266.6,3,   251.7,2,   10.84,2,   17.06,2,    0.00,2,    1.12,2,-999.000,9,-999.000,9, -999.00,9,  -999.0,9, -999.00,9,   -999.0,9,  -999.00,-999.00000,9,  -999.00, -999.00,9, -999.00,9, -999.00,-999.000,9,   55.03,2,   18.57,2,     -999.0,9, 20210322,      445,  42.6235, -51.1251,     4.6719,2,     0.0423,1,     4.6945,1,     -999.0,9,     -999.0,9,     -999.0,9,     -999.0,1
325020210316,        A20,       8,          1,         19,         19,2,20210322,       0346,    42.6238,   -51.1252,       2007,   605.5,   4.1767,  34.8079,2,  34.8041,2,    277.0,3,   271.7,2,    9.67,2,   15.87,2,    0.00,2,    1.05,2,   3.734,2,   2.218,2,    3.17,3,  2173.8,2,  2295.5,2,    838.2,2,    20.00,   7.68368,2,    24.99, -999.00,9, -999.00,9, -999.00,-999.000,9,   52.74,2,   17.21,2,      14.16,2, 20210322,      442,  42.6235, -51.1251,     4.1857,2,     0.0420,1,     4.6933,1,     -999.0,9,     -999.0,9,     -999.0,9,     -999.0,1
325020210316,        A20,       8,          1,         18,         18,2,20210322,       0346,    42.6238,   -51.1252,       2007,   657.0,   4.1482,  34.8256,2,  34.8229,2,    277.0,3,   273.9,2,    9.47,2,   15.87,2,    0.00,2,    1.05,2,-999.000,9,-999.000,9, -999.00,9,  -999.0,9, -999.00,9,   -999.0,9,  -999.00,-999.00000,9,  -999.00, -999.00,9, -999.00,9, -999.00,-999.000,9,   55.02,2,   16.18,2,     -999.0,9, 20210322,      440,  42.6235, -51.1251,     4.1475,2,     0.0417,1,     4.6984,1,     -999.0,9,     -999.0,9,     -999.0,9,     -999.0,1
325020210316,        A20,       8,          1,         17,         17,2,20210322,       0346,    42.6238,   -51.1252,       2007,   717.2,   4.2639,  34.8620,2,  34.8601,2,    268.5,2,   268.9,2,    9.76,2,   16.29,2,    0.00,2,    1.08,2,-999.000,9,-999.000,9, -999.00,9,  -999.0,9, -999.00,9,   -999.0,9,  -999.00,-999.00000,9,  -999.00, -999.00,9, -999.00,9, -999.00,-999.000,9,   53.36,2,   19.10,2,     -999.0,9, 20210322,      436,  42.6235, -51.1251,     4.2791,2,     0.0416,1,     4.7009,1,     -999.0,9,     -999.0,9,     -999.0,9,     -999.0,1
325020210316,        A20,       8,          1,         16,         16,2,20210322,       0346,    42.6238,   -51.1252,       2007,   807.1,   3.8866,  34.8427,2,  34.8418,2,    276.4,3,   279.9,2,    9.27,2,   15.96,2,    0.00,2,    1.06,2,-999.000,9,-999.000,9, -999.00,9,  -999.0,9, -999.00,9,   -999.0,9,  -999.00,-999.00000,9,  -999.00, -999.00,9, -999.00,9, -999.00,-999.000,9, -999.00,9, -999.00,9,     -999.0,9, 20210322,      433,  42.6234, -51.1251,     3.8853,2,     0.0412,1,     4.7022,1,     -999.0,9,     -999.0,9,     -999.0,9,     -999.0,9
325020210316,        A20,       8,          1,         15,         15,2,20210322,       0346,    42.6238,   -51.1252,       2007,   884.4,   3.9136,  34.8662,2,  34.8650,2,    275.6,3,   278.5,2,    9.27,2,   16.23,2,    0.00,2,    1.06,2,   3.942,6,   2.233,6,    2.93,4,  2172.4,2, 2298.86,2,    826.1,2,    20.00,   7.68973,2,    24.99, -999.00,9, -999.00,9, -999.00,-999.000,9,   52.03,2,   18.60,2,      14.14,6, 20210322,      430,  42.6235, -51.1251,     3.9135,2,     0.0421,1,     4.7060,1,     -999.0,9,     -999.0,9,     -999.0,9,     -999.0,1
325020210316,        A20,       8,          1,         14,         14,2,20210322,       0346,    42.6238,   -51.1252,       2007,   959.7,   4.0648,  34.9014,2,  34.9000,2,    274.5,2,   273.3,2,    9.76,2,   16.58,2,    0.00,2,    1.08,2,-999.000,9,-999.000,9, -999.00,9,  -999.0,9, -999.00,9,   -999.0,9,  -999.00,-999.00000,9,  -999.00, -999.00,9, -999.00,9, -999.00,-999.000,9,   52.37,2,   18.55,2,     -999.0,9, 20210322,      428,  42.6235, -51.1251,     4.0646,2,     0.0414,1,     4.7080,1,     -999.0,9,     -999.0,9,     -999.0,9,     -999.0,1
325020210316,        A20,       8,          1,         13,         13,2,20210322,       0346,    42.6238,   -51.1252,       2007,  1035.3,   3.9610,  34.8928,2,  34.8918,2,    276.8,2,   276.0,2,    9.67,2,   16.52,2,    0.00,2,    1.07,2,   3.737,2,   2.085,2,    1.65,3,  2174.7,2, 2299.74,2,    821.0,2,    20.00,   7.69277,6,    24.98, -999.00,9, -999.00,9, -999.00,-999.000,9,   51.43,2,   17.20,2,      13.97,2, 20210322,      425,  42.6235, -51.1251,     3.9702,2,     0.0416,1,     4.7076,1,     -999.0,9,     -999.0,9,     -999.0,9,     -999.0,1
325020210316,        A20,       8,          1,         12,         12,2,20210322,       0346,    42.6238,   -51.1252,       2007,  1111.9,   4.0249,  34.9157,2,  34.9124,2,    272.2,2,   273.9,2,   10.06,2,   16.70,2,    0.00,2,    1.08,2,   3.711,2,   2.091,2,    3.93,3,  -999.0,9, -999.00,9,   -999.0,9,  -999.00,-999.00000,9,  -999.00, -999.00,9, -999.00,9, -999.00,-999.000,9,   52.19,2,   18.59,2,      14.17,2, 20210322,      422,  42.6235, -51.1251,     4.0183,2,     0.0427,1,     4.7075,1,     -999.0,9,     -999.0,9,     -999.0,9,     -999.0,1
325020210316,        A20,       8,          1,         11,         11,2,20210322,       0346,    42.6238,   -51.1252,       2007,  1187.9,   3.8939,  34.9022,2,  34.9010,2,    276.0,2,   277.3,2,    9.96,2,   16.55,2,    0.00,2,    1.08,2,-999.000,9,-999.000,9, -999.00,9,  -999.0,9, -999.00,9,   -999.0,9,  -999.00,-999.00000,9,  -999.00, -999.00,9, -999.00,9, -999.00,-999.000,9,   50.15,2,   17.80,2,     -999.0,9, 20210322,      419,  42.6235, -51.1251,     3.8935,2,     0.0417,1,     4.7083,1,     -999.0,9,     -999.0,9,     -999.0,9,     -999.0,1
325020210316,        A20,       8,          1,         10,         10,2,20210322,       0346,    42.6238,   -51.1252,       2007,  1263.8,   3.8260,  34.8972,2,  34.8951,2,    282.0,3,   279.1,2,    9.96,2,   16.38,2,    0.00,2,    1.07,2,   3.905,2,   2.185,2,    3.64,3,  2173.3,2, 2298.93,2,    815.6,2,    20.00,   7.69463,2,    24.99, -999.00,9, -999.00,9, -999.00,-999.000,9,   50.27,2,   17.83,2,      13.96,2, 20210322,      416,  42.6235, -51.1251,     3.8265,2,     0.0421,1,     4.7044,1,     -999.0,9,     -999.0,9,     -999.0,9,     -999.0,1
325020210316,        A20,       8,          1,          9,          9,2,20210322,       0346,    42.6238,   -51.1252,       2007,  1340.2,   3.6407,  34.8726,2,  34.8700,2,    282.4,3,   285.4,2,    9.67,2,   16.11,2,    0.00,2,    1.06,2,-999.000,9,-999.000,9, -999.00,9,  -999.0,9, -999.00,9,   -999.0,9,  -999.00,-999.00000,9,  -999.00, -999.00,9, -999.00,9, -999.00,-999.000,9,   49.34,2,   18.31,2,     -999.0,9, 20210322,      413,  42.6235, -51.1251,     3.6348,2,     0.0411,1,     4.6997,1,     -999.0,9,     -999.0,9,     -999.0,9,     -999.0,1
325020210316,        A20,       8,          1,          8,          8,2,20210322,       0346,    42.6238,   -51.1252,       2007,  1416.8,   3.6148,  34.8749,2,  34.8735,2,    282.9,2,   285.0,2,    9.86,2,   16.18,2,    0.00,2,    1.07,2,-999.000,9,-999.000,9, -999.00,9,  -999.0,9, -999.00,9,   -999.0,9,  -999.00,-999.00000,9,  -999.00, -999.00,9, -999.00,9, -999.00,-999.000,9, -999.00,9, -999.00,9,     -999.0,9, 20210322,      409,  42.6235, -51.1251,     3.6150,2,     0.0420,1,     4.6985,1,     -999.0,9,     -999.0,9,     -999.0,9,     -999.0,1
325020210316,        A20,       8,          1,          7,          7,2,20210322,       0346,    42.6238,   -51.1252,       2007,  1492.0,   3.6202,  34.8808,2,  34.8821,2,    283.2,2,   284.4,2,    9.96,2,   16.37,2,    0.00,2,    1.07,2,   3.940,2,   2.239,2,    2.46,3,  2171.4,2, 2299.38,2,    814.4,2,    20.00,   7.69439,6,    25.00, -999.00,9, -999.00,9, -999.00,-999.000,9,   52.21,2,   17.05,2,      13.91,2, 20210322,      406,  42.6235, -51.1251,     3.6203,2,     0.0419,1,     4.7001,1,     -999.0,9,     -999.0,9,     -999.0,9,     -999.0,1
325020210316,        A20,       8,          1,          6,          6,2,20210322,       0346,    42.6238,   -51.1252,       2007,  1594.2,   3.6024,  34.8872,2,  34.8867,2,    282.6,2,   283.5,2,   10.25,2,   16.41,2,    0.00,2,    1.06,2,-999.000,9,-999.000,9, -999.00,9,  -999.0,9, -999.00,9,   -999.0,9,  -999.00,-999.00000,9,  -999.00, -999.00,9, -999.00,9, -999.00,-999.000,9,   50.42,2,   16.97,2,     -999.0,9, 20210322,      401,  42.6235, -51.1251,     3.6026,2,     0.0409,1,     4.6989,1,     -999.0,9,     -999.0,9,     -999.0,9,     -999.0,1
325020210316,        A20,       8,          1,          5,          5,2,20210322,       0346,    42.6238,   -51.1252,       2007,  1695.6,   3.5925,  34.8913,2,  34.8908,2,    281.7,2,   282.6,2,   10.54,2,   16.51,2,    0.00,2,    1.07,2,   3.840,2,   2.118,2,    2.46,3,  -999.0,9, -999.00,9,   -999.0,9,  -999.00,-999.00000,9,  -999.00, -999.00,9, -999.00,9, -999.00,-999.000,9,   52.88,2,   17.71,2,      13.95,2, 20210322,      358,  42.6235, -51.1251,     3.5925,2,     0.0429,1,     4.6959,1,     -999.0,9,     -999.0,9,     -999.0,9,     -999.0,1
325020210316,        A20,       8,          1,          4,          4,2,20210322,       0346,    42.6238,   -51.1252,       2007,  1796.5,   3.5956,  34.8953,2,  34.8955,2,    281.0,2,   282.0,2,   10.64,2,   16.47,2,    0.00,2,    1.08,2,-999.000,9,-999.000,9, -999.00,9,  -999.0,9, -999.00,9,   -999.0,9,  -999.00,-999.00000,9,  -999.00, -999.00,9, -999.00,9, -999.00,-999.000,9,   51.18,2,   17.35,2,     -999.0,9, 20210322,      355,  42.6234, -51.1251,     3.5957,2,     0.0418,1,     4.6961,1,     -999.0,9,     -999.0,9,     -999.0,9,     -999.0,1
325020210316,        A20,       8,          1,          3,          3,2,20210322,       0346,    42.6238,   -51.1252,       2007,  1873.4,   3.5969,  34.8996,2,  34.9000,2,    281.0,2,   281.0,2,   10.84,2,   16.44,2,    0.00,2,    1.08,2,   3.734,2,   2.034,2,    2.88,3,  2172.2,2, 2300.88,2,    802.4,2,    20.00,   7.70096,2,    25.02, -999.00,9, -999.00,9, -999.00,-999.000,9,   51.61,2,   18.68,2,      13.84,2, 20210322,      352,  42.6235, -51.1251,     3.5967,2,     0.0423,1,     4.6904,1,     -999.0,9,     -999.0,9,     -999.0,9,     -999.0,1