BOTTLE,20230512CCHSIOCBG
EXPOCODE,SECT_ID,STNNBR,CASTNO,SAMPNO,BTLNBR,BTLNBR_FLAG_W,DATE,TIME,LATITUDE,LONGITUDE,DEPTH,CTDPRS,CTDTMP,CTDSAL,CTDSAL_FLAG_W,SALNTY,SALNTY_FLAG_W,CTDOXY,CTDOXY_FLAG_W,OXYGEN,OXYGEN_FLAG_W,SILCAT,SILCAT_FLAG_W,NITRAT,NITRAT_FLAG_W,NITRIT,NITRIT_FLAG_W,PHSPHT,PHSPHT_FLAG_W,CFC-11,CFC-11_FLAG_W,CFC-12,CFC-12_FLAG_W,SF6,SF6_FLAG_W,TCARBN,TCARBN_FLAG_W,ALKALI,ALKALI_FLAG_W,FCO2,FCO2_FLAG_W,FCO2TMP,PH_TOT,PH_TOT_FLAG_W,PH_TMP,DELC13,DELC13_FLAG_W,DELC14,DELC14_FLAG_W,C14ERR,POC,POC_FLAG_W,DOC,DOC_FLAG_W,TDN,TDN_FLAG_W,N2O,N2O_FLAG_W,BTL_DATE,BTL_TIME,BTL_LAT,BTL_LON,REFTMP,REFTMP_FLAG_W,CTDFLUOR,CTDFLUOR_FLAG_W,CTDXMISS,CTDXMISS_FLAG_W,D15N_NO2+NO3,D15N_NO2+NO3_FLAG_W,D18O_NO2+NO3,D18O_NO2+NO3_FLAG_W,HPLC,HPLC_FLAG_W,MICROGELS,MICROGELS_FLAG_W
,,,,,,,,,,,METERS,DBAR,ITS-90,PSS-78,,PSS-78,,UMOL/KG,,UMOL/KG,,UMOL/KG,,UMOL/KG,,UMOL/KG,,UMOL/KG,,PMOL/KG,,PMOL/KG,,FMOL/KG,,UMOL/KG,,UMOL/KG,,UATM,,DEG C,,,DEG C,/MILLE,,/MILLE,,/MILLE,UG/KG,,UMOL/KG,,UMOL/KG,,NMOL/KG,,,,,,ITS-90,,VOLTS,,VOLTS,,/MILLE,,/MILLE,,,,1E6 GELS/L,
325020210316,        A20,      27,          1,         36,         36,2,20210327,       2037,    34.6389,   -52.3335,       5224,     4.8,  19.6548,  36.6354,2,  36.6344,2,    229.3,2,   228.6,2,    0.78,2,    0.12,2,    0.10,2,    0.00,2,   1.930,2,   1.214,2,    1.83,2,  2100.1,2, 2399.28,2,    357.5,2,    20.00,   8.02044,2,    24.99, -999.00,9, -999.00,9, -999.00,-999.000,9,   61.52,2,    3.59,2,       7.28,2, 20210327,     2300,  34.6389, -52.3335,    19.6560,2,     0.1150,1,     4.5556,1,     -999.0,9,     -999.0,9,     -999.0,9,     -999.0,9
325020210316,        A20,      27,          1,         35,         35,2,20210327,       2037,    34.6389,   -52.3335,       5224,    20.3,  19.6536,  36.6344,2,  36.6344,2,    229.7,2,   228.5,2,    0.68,2,    0.13,2,    0.10,2,    0.00,2,-999.000,9,-999.000,9, -999.00,9,  -999.0,9, -999.00,9,   -999.0,9,  -999.00,-999.00000,9,  -999.00, -999.00,9, -999.00,9, -999.00,-999.000,9,   61.80,2,    3.58,2,     -999.0,9, 20210327,     2259,  34.6389, -52.3335,    19.6570,2,     0.1117,1,     4.5547,1,     -999.0,9,     -999.0,9,     -999.0,9,     -999.0,9
325020210316,        A20,      27,          1,         34,         34,2,20210327,       2037,    34.6389,   -52.3335,       5224,    40.7,  19.6390,  36.6319,2,  36.6296,2,    230.3,2,   228.8,2,    0.68,2,    0.14,2,    0.12,2,    0.00,2,-999.000,9,-999.000,9, -999.00,9,  -999.0,9, -999.00,9,   -999.0,9,  -999.00,-999.00000,9,  -999.00, -999.00,9, -999.00,9, -999.00,-999.000,9,   60.36,2,    3.14,2,     -999.0,9, 20210327,     2257,  34.6389, -52.3335,    19.6322,2,     0.1129,1,     4.5579,1,     -999.0,9,     -999.0,9,     -999.0,9,     -999.0,9
325020210316,        A20,      27,          1,         33,         33,2,20210327,       2037,    34.6389,   -52.3335,       5224,    66.6,  19.4135,  36.6319,2,  36.6316,2,    223.7,2,   225.6,2,    0.78,2,    0.21,2,    0.27,2,    0.00,2,-999.000,9,-999.000,9, -999.00,9,  -999.0,9, -999.00,9,   -999.0,9,  -999.00,-999.00000,9,  -999.00, -999.00,9, -999.00,9, -999.00,-999.000,9,   61.46,2,    3.47,2,     -999.0,9, 20210327,     2256,  34.6389, -52.3335,    19.4135,2,     0.1266,1,     4.5623,1,     -999.0,9,     -999.0,9,     -999.0,9,     -999.0,9
325020210316,        A20,      27,          1,         32,         32,2,20210327,       2037,    34.6389,   -52.3335,       5224,    91.1,  19.3148,  36.6421,2,  36.6413,2,    213.8,3,   222.7,2,    0.78,2,    0.28,2,    0.55,2,    0.00,2,   1.897,2,   1.223,2,    1.94,2,  2103.0,2, 2400.67,2,    363.7,2,    20.00,   8.01294,2,    25.01, -999.00,9, -999.00,9, -999.00,-999.000,9,   59.29,2,    3.60,2,       7.48,2, 20210327,     2254,  34.6389, -52.3335,    19.3147,2,     0.0808,1,     4.6286,1,     -999.0,9,     -999.0,9,     -999.0,9,     -999.0,9
325020210316,        A20,      27,          1,         31,         31,2,20210327,       2037,    34.6389,   -52.3335,       5224,   136.1,  19.2843,  36.6436,2,  36.6427,2,    216.9,3,   220.0,2,    0.68,2,    0.52,2,    0.57,2,    0.00,2,-999.000,9,-999.000,9, -999.00,9,  -999.0,9, -999.00,9,   -999.0,9,  -999.00,-999.00000,9,  -999.00, -999.00,9, -999.00,9, -999.00,-999.000,9,   59.36,2,    4.66,2,     -999.0,9, 20210327,     2252,  34.6389, -52.3335,    19.2834,2,     0.0608,1,     4.6557,1,     -999.0,9,     -999.0,9,     -999.0,9,     -999.0,9
325020210316,        A20,      27,          1,         30,         30,2,20210327,       2037,    34.6389,   -52.3335,       5224,   186.9,  19.1032,  36.6388,2,  36.6380,2,    204.7,3,   220.8,2,    0.78,2,    0.65,2,    0.49,2,    0.01,2,-999.000,9,-999.000,9, -999.00,9,  -999.0,9, -999.00,9,   -999.0,9,  -999.00,-999.00000,9,  -999.00, -999.00,9, -999.00,9, -999.00,-999.000,9,   59.99,2,    4.50,2,     -999.0,9, 20210327,     2249,  34.6389, -52.3335,    19.1019,2,     0.0509,1,     4.6659,1,     -999.0,9,     -999.0,9,     -999.0,9,     -999.0,9
325020210316,        A20,      27,          1,         29,         29,2,20210327,       2037,    34.6389,   -52.3335,       5224,   236.8,  19.0811,  36.6521,2,  36.6516,2,    197.6,3,   217.4,2,    0.88,2,    1.50,2,    0.08,2,    0.02,2,   1.857,2,   1.240,2,    1.95,2,  2106.1,2, 2396.93,2,    375.4,2,    20.00,   8.00269,2,    24.98, -999.00,9, -999.00,9, -999.00,-999.000,9,   57.53,2,    4.82,2,       7.41,2, 20210327,     2246,  34.6389, -52.3335,    19.0804,2,     0.0442,1,     4.6773,1,     -999.0,9,     -999.0,9,     -999.0,9,     -999.0,9
325020210316,        A20,      27,          1,         28,         28,2,20210327,       2037,    34.6389,   -52.3335,       5224,   286.9,  18.9697,  36.6415,2,  36.6407,2,    216.3,2,   216.4,2,    0.88,2,    1.76,2,    0.06,2,    0.02,2,-999.000,9,-999.000,9, -999.00,9,  -999.0,9, -999.00,9,   -999.0,9,  -999.00,-999.00000,9,  -999.00, -999.00,9, -999.00,9, -999.00,-999.000,9,   54.96,2,    5.28,2,     -999.0,9, 20210327,     2245,  34.6389, -52.3335,    18.9698,2,     0.0432,1,     4.6809,1,     -999.0,9,     -999.0,9,     -999.0,9,     -999.0,9
325020210316,        A20,      27,          1,         27,         27,2,20210327,       2037,    34.6389,   -52.3335,       5224,   337.6,  18.9113,  36.6379,2,  36.6376,2,    218.4,2,   216.6,2,    0.88,2,    1.90,2,    0.04,2,    0.02,2,-999.000,9,-999.000,9, -999.00,9,  -999.0,9, -999.00,9,   -999.0,9,  -999.00,-999.00000,9,  -999.00, -999.00,9, -999.00,9, -999.00,-999.000,9,   55.43,2,    5.16,2,     -999.0,9, 20210327,     2243,  34.6389, -52.3335,    18.9090,2,     0.0419,1,     4.6824,1,     -999.0,9,     -999.0,9,     -999.0,9,     -999.0,9
325020210316,        A20,      27,          1,         26,         26,2,20210327,       2037,    34.6389,   -52.3335,       5224,   388.3,  18.5835,  36.5809,2,  36.5799,2,    220.4,3,   196.9,2,    1.37,2,    4.10,2,    0.00,2,    0.13,2,   1.910,2,   1.304,2,    1.70,2,  2125.4,2, 2392.39,2,    422.6,2,    20.00,    7.9593,2,    25.03, -999.00,9, -999.00,9, -999.00,-999.000,9,   51.42,2,    5.81,2,       8.50,2, 20210327,     2241,  34.6389, -52.3335,    18.5820,2,     0.0410,1,     4.6915,1,     -999.0,9,     -999.0,9,     -999.0,9,     -999.0,9
325020210316,        A20,      27,          1,         25,         25,4,20210327,       2037,    34.6389,   -52.3335,       5224,   469.4,  18.1265,  36.5168,3,  36.5165,3,    191.3,3,   219.6,3,    1.17,3,    2.45,3,    0.43,3,    0.09,3,-999.000,9,-999.000,9, -999.00,9,  -999.0,9, -999.00,9,   -999.0,9,  -999.00,-999.00000,9,  -999.00, -999.00,9, -999.00,9, -999.00,-999.000,9,   53.77,2,    5.16,2,     -999.0,9, 20210327,     2238,  34.6389, -52.3335,    18.1250,3,     0.0596,1,     4.6744,1,     -999.0,9,     -999.0,9,     -999.0,9,     -999.0,9
325020210316,        A20,      27,          1,         24,         24,2,20210327,       2037,    34.6389,   -52.3335,       5224,   570.2,  16.3857,  36.2161,2,  36.2172,2,    179.5,3,   176.2,2,    3.22,2,    9.40,2,    0.00,2,    0.47,2,-999.000,9,-999.000,9, -999.00,9,  -999.0,9, -999.00,9,   -999.0,9,  -999.00,-999.00000,9,  -999.00, -999.00,9, -999.00,9, -999.00,-999.000,9, -999.00,9, -999.00,9,     -999.0,9, 20210327,     2235,  34.6389, -52.3335,    16.3879,2,     0.0405,1,     4.6979,1,     -999.0,9,     -999.0,9,     -999.0,9,     -999.0,9
325020210316,        A20,      27,          1,         23,         23,2,20210327,       2037,    34.6389,   -52.3335,       5224,   671.0,  14.2857,  35.8721,2,  35.8757,2,    158.2,3,   152.4,2,    6.15,2,   15.26,2,    0.00,2,    0.85,2,   2.045,2,   1.234,2,    1.06,2,  2172.2,6, 2351.89,2,    638.0,2,    20.00,    7.7971,2,    24.99, -999.00,9, -999.00,9, -999.00,-999.000,9,   46.78,2,   16.18,2,      16.13,2, 20210327,     2232,  34.6389, -52.3335,    14.2956,2,     0.0408,1,     4.6994,1,     -999.0,9,     -999.0,9,     -999.0,9,     -999.0,9
325020210316,        A20,      27,          1,         22,         22,2,20210327,       2037,    34.6389,   -52.3335,       5224,   771.7,  11.8506,  35.5118,2,  35.5058,2,    145.4,2,   145.6,2,    9.76,2,   20.02,2,    0.00,2,    1.17,2,-999.000,9,-999.000,9, -999.00,9,  -999.0,9, -999.00,9,   -999.0,9,  -999.00,-999.00000,9,  -999.00, -999.00,9, -999.00,9, -999.00,-999.000,9, -999.00,9, -999.00,9,     -999.0,9, 20210327,     2229,  34.6389, -52.3335,    11.8597,2,     0.0424,1,     4.7020,1,     -999.0,9,     -999.0,9,     -999.0,9,     -999.0,9
325020210316,        A20,      27,          1,         21,         21,2,20210327,       2037,    34.6389,   -52.3335,       5224,   873.5,   9.0822,  35.1963,2,  35.1959,2,    154.4,2,   153.8,2,   13.38,2,   22.94,2,    0.00,2,    1.41,2,   1.619,2,   0.913,2,    0.73,2,  2194.7,2, 2321.39,2,    862.6,2,    20.00,   7.67376,6,    25.00, -999.00,9, -999.00,9, -999.00,-999.000,9,   43.87,2,   22.48,2,      19.70,2, 20210327,     2225,  34.6389, -52.3335,     9.0842,2,     0.0427,1,     4.7035,1,     -999.0,9,     -999.0,9,     -999.0,9,     -999.0,9
325020210316,        A20,      27,          1,         20,         20,2,20210327,       2037,    34.6389,   -52.3335,       5224,   974.2,   7.5822,  35.1551,2,  35.1553,2,    179.7,2,   180.0,2,   13.48,2,   21.74,2,    0.00,2,    1.36,2,-999.000,9,-999.000,9, -999.00,9,  -999.0,9, -999.00,9,   -999.0,9,  -999.00,-999.00000,9,  -999.00, -999.00,9, -999.00,9, -999.00,-999.000,9, -999.00,9, -999.00,9,     -999.0,9, 20210327,     2223,  34.6389, -52.3335,     7.5828,2,     0.0415,1,     4.7058,1,     -999.0,9,     -999.0,9,     -999.0,9,     -999.0,9
325020210316,        A20,      27,          1,         19,         19,2,20210327,       2037,    34.6389,   -52.3335,       5224,  1075.6,   6.5845,  35.1550,2,  35.1557,2,    205.5,2,   206.1,2,   12.69,2,   19.94,2,    0.00,2,    1.25,2,   2.088,2,   1.121,2,    0.80,2,  2186.4,2, 2320.61,2,    811.9,2,    20.00,   7.69649,2,    25.02, -999.00,9, -999.00,9, -999.00,-999.000,9,   47.54,2,   20.96,2,      16.06,2, 20210327,     2220,  34.6389, -52.3335,     6.5842,2,     0.0410,1,     4.7053,1,     -999.0,9,     -999.0,9,     -999.0,9,     -999.0,9
325020210316,        A20,      27,          1,         18,         18,2,20210327,       2037,    34.6389,   -52.3335,       5224,  1176.2,   5.8499,  35.1105,2,  35.1104,2,    222.1,2,   222.9,2,   12.30,2,   19.22,2,    0.00,2,    1.20,2,-999.000,9,-999.000,9, -999.00,9,  -999.0,9, -999.00,9,   -999.0,9,  -999.00,-999.00000,9,  -999.00, -999.00,9, -999.00,9, -999.00,-999.000,9, -999.00,9, -999.00,9,     -999.0,9, 20210327,     2217,  34.6389, -52.3335,     5.8518,2,     0.0425,1,     4.7068,1,     -999.0,9,     -999.0,9,     -999.0,9,     -999.0,9
325020210316,        A20,      27,          1,         17,         17,2,20210327,       2037,    34.6389,   -52.3335,       5224,  1278.0,   5.3714,  35.0831,2,  35.0827,2,    234.7,2,   235.6,2,   12.01,2,   18.69,2,    0.00,2,    1.16,2,   2.449,2,   1.330,2,    0.95,2,  2179.4,2, 2315.69,2,    791.9,2,    20.00,   7.70533,2,    24.99, -999.00,9, -999.00,9, -999.00,-999.000,9,   48.89,2,   19.70,2,      14.59,2, 20210327,     2215,  34.6389, -52.3335,     5.3703,2,     0.0422,1,     4.7070,1,     -999.0,9,     -999.0,9,     -999.0,9,     -999.0,9
325020210316,        A20,      27,          1,         16,         16,2,20210327,       2037,    34.6389,   -52.3335,       5224,  1379.3,   4.9997,  35.0561,2,  35.0573,2,    244.8,2,   244.5,2,   11.82,2,   18.26,2,    0.00,2,    1.14,2,-999.000,9,-999.000,9, -999.00,9,  -999.0,9, -999.00,9,   -999.0,9,  -999.00,-999.00000,9,  -999.00, -999.00,9, -999.00,9, -999.00,-999.000,9, -999.00,9, -999.00,9,     -999.0,9, 20210327,     2212,  34.6389, -52.3335,     5.0009,2,     0.0427,1,     4.7070,1,     -999.0,9,     -999.0,9,     -999.0,9,     -999.0,9
325020210316,        A20,      27,          1,         15,         15,2,20210327,       2037,    34.6389,   -52.3335,       5224,  1552.2,   4.5678,  35.0247,2,  35.0250,2,    254.3,2,   253.8,2,   12.01,2,   17.85,2,    0.00,2,    1.13,2,   2.530,2,   1.429,2,    0.91,2,  2172.1,2, 2312.61,2,    772.7,6,    20.00,   7.71268,2,    24.97, -999.00,9, -999.00,9, -999.00,-999.000,9,   47.50,2,   18.91,2,      13.82,2, 20210327,     2207,  34.6389, -52.3335,     4.5676,2,     0.0416,1,     4.7071,1,     -999.0,9,     -999.0,9,     -999.0,9,     -999.0,9
325020210316,        A20,      27,          1,         14,         14,2,20210327,       2037,    34.6389,   -52.3335,       5224,  1754.5,   4.1568,  34.9883,2,  34.9872,2,    262.5,2,   261.0,2,   12.21,2,   17.55,2,    0.00,2,    1.11,2,-999.000,9,-999.000,9, -999.00,9,  -999.0,9, -999.00,9,   -999.0,9,  -999.00,-999.00000,9,  -999.00, -999.00,9, -999.00,9, -999.00,-999.000,9, -999.00,9, -999.00,9,     -999.0,9, 20210327,     2201,  34.6389, -52.3335,     4.1563,2,     0.0431,1,     4.7062,1,     -999.0,9,     -999.0,9,     -999.0,9,     -999.0,9
325020210316,        A20,      27,          1,         12,         12,2,20210327,       2037,    34.6389,   -52.3335,       5224,  2191.6,   3.6781,  34.9707,2,  34.9703,2,    264.1,2,   262.6,2,   14.94,2,   17.70,2,    0.00,2,    1.13,2,-999.000,9,-999.000,9, -999.00,9,  -999.0,9, 2390.74,4,   -999.0,9,  -999.00,-999.00000,9,  -999.00, -999.00,9, -999.00,9, -999.00,-999.000,9, -999.00,9, -999.00,9,     -999.0,9, 20210327,     2152,  34.6389, -52.3335,     3.6777,2,     0.0424,1,     4.7074,1,     -999.0,9,     -999.0,9,     -999.0,9,     -999.0,9
325020210316,        A20,      27,          1,         13,         13,2,20210327,       2037,    34.6389,   -52.3335,       5224,  2191.9,   3.6787,  34.9708,2,  34.9705,2,    264.1,2,   262.4,2,   14.75,2,   17.69,2,    0.00,2,    1.13,2,   1.840,2,   0.986,2,    0.49,2,  2168.4,2, 2311.97,2,    752.1,2,    20.00,     7.725,2,    25.02, -999.00,9, -999.00,9, -999.00,-999.000,9,   46.00,2,   18.79,2,      13.25,2, 20210327,     2152,  34.6389, -52.3335,     3.6783,2,     0.0430,1,     4.7070,1,     -999.0,9,     -999.0,9,     -999.0,9,     -999.0,9
325020210316,        A20,      27,          1,         11,         11,2,20210327,       2037,    34.6389,   -52.3335,       5224,  2446.6,   3.3805,  34.9571,2,  34.9559,2,    263.0,2,   263.8,2,   17.19,2,   17.87,2,    0.00,2,    1.14,2,   1.519,2,   0.776,2,    0.39,2,  2169.4,2, 2311.91,2,    744.5,2,    20.00,   7.72944,2,    25.00, -999.00,9, -999.00,9, -999.00,-999.000,9,   45.77,2,   17.45,2,      13.15,2, 20210327,     2146,  34.6389, -52.3335,     3.3804,2,     0.0419,1,     4.7070,1,     -999.0,9,     -999.0,9,     -999.0,9,     -999.0,9
325020210316,        A20,      27,          1,         10,         10,2,20210327,       2037,    34.6389,   -52.3335,       5224,  2701.8,   3.1464,  34.9501,2,  34.9494,2,    260.8,2,   262.0,2,   20.51,2,   18.23,2,    0.00,2,    1.18,2,-999.000,9,-999.000,9, -999.00,9,  -999.0,9, -999.00,9,   -999.0,9,  -999.00,-999.00000,9,  -999.00, -999.00,9, -999.00,9, -999.00,-999.000,9, -999.00,9, -999.00,9,     -999.0,9, 20210327,     2140,  34.6389, -52.3335,     3.1461,2,     0.0426,1,     4.7071,1,     -999.0,9,     -999.0,9,     -999.0,9,     -999.0,9
325020210316,        A20,      27,          1,          9,          9,2,20210327,       2037,    34.6389,   -52.3335,       5224,  2957.2,   2.9283,  34.9372,2,  34.9366,2,    262.5,2,   263.5,2,   22.27,2,   18.23,2,    0.00,2,    1.20,2,   0.937,2,   0.512,2,    0.24,2,  2169.9,2, 2319.41,2,    736.7,2,    20.00,   7.73459,6,    25.00, -999.00,9, -999.00,9, -999.00,-999.000,9,   45.48,2,   19.24,2,      13.23,2, 20210327,     2132,  34.6389, -52.3335,     2.9285,2,     0.0417,1,     4.7077,1,     -999.0,9,     -999.0,9,     -999.0,9,     -999.0,9
325020210316,        A20,      27,          1,          8,          8,2,20210327,       2037,    34.6389,   -52.3335,       5224,  3248.3,   2.6968,  34.9233,2,  34.9223,2,    265.0,2,   265.4,2,   24.03,2,   18.22,2,    0.00,2,    1.20,2,-999.000,9,-999.000,9, -999.00,9,  -999.0,9, -999.00,9,   -999.0,9,  -999.00,-999.00000,9,  -999.00, -999.00,9, -999.00,9, -999.00,-999.000,9, -999.00,9, -999.00,9,     -999.0,9, 20210327,     2124,  34.6389, -52.3335,     2.6964,2,     0.0428,1,     4.7078,1,     -999.0,9,     -999.0,9,     -999.0,9,     -999.0,9
325020210316,        A20,      27,          1,          7,          7,2,20210327,       2037,    34.6389,   -52.3335,       5224,  3554.7,   2.4650,  34.9079,2,  34.9063,2,    266.9,2,   266.5,2,   26.86,2,   18.32,2,    0.00,2,    1.22,2,-999.000,9,-999.000,9, -999.00,9,  -999.0,9, -999.00,9,   -999.0,9,  -999.00,-999.00000,9,  -999.00, -999.00,9, -999.00,9, -999.00,-999.000,9,   43.90,2,   18.31,2,     -999.0,9, 20210327,     2118,  34.6389, -52.3335,     2.4655,2,     0.0424,1,     4.7080,1,     -999.0,9,     -999.0,9,     -999.0,9,     -999.0,9
325020210316,        A20,      27,          1,          6,          6,2,20210327,       2037,    34.6389,   -52.3335,       5224,  3862.4,   2.3177,  34.8959,2,  34.8945,2,    264.4,2,   265.6,2,   30.38,2,   18.76,2,    0.00,2,    1.25,2,   0.958,2,   0.484,2,    0.25,2,  2177.5,2, 2324.18,2,    744.6,2,    20.00,   7.73142,2,    25.00, -999.00,9, -999.00,9, -999.00,-999.000,9,   45.27,2,   18.29,2,      13.46,2, 20210327,     2111,  34.6389, -52.3335,     2.3177,2,     0.0424,1,     4.7064,1,     -999.0,9,     -999.0,9,     -999.0,9,     -999.0,9
325020210316,        A20,      27,          1,          5,          5,2,20210327,       2037,    34.6389,   -52.3335,       5224,  4170.0,   2.2646,  34.8892,2,  34.8873,2,    263.3,2,   264.3,2,   33.01,2,   19.19,2,    0.00,2,    1.27,2,-999.000,9,-999.000,9, -999.00,9,  -999.0,9, -999.00,9,   -999.0,9,  -999.00,-999.00000,9,  -999.00, -999.00,9, -999.00,9, -999.00,-999.000,9, -999.00,9, -999.00,9,     -999.0,9, 20210327,     2103,  34.6389, -52.3335,     2.2645,2,     0.0425,1,     4.7043,1,     -999.0,9,     -999.0,9,     -999.0,9,     -999.0,9
325020210316,        A20,      27,          1,          4,          4,2,20210327,       2037,    34.6389,   -52.3335,       5224,  4478.1,   2.2226,  34.8818,2,  34.8800,2,    260.7,2,   261.8,2,   36.92,2,   19.82,2,    0.00,2,    1.32,2,-999.000,9,-999.000,9, -999.00,9,  -999.0,9, -999.00,9,   -999.0,9,  -999.00,-999.00000,9,  -999.00, -999.00,9, -999.00,9, -999.00,-999.000,9,   44.32,2,   19.68,2,     -999.0,9, 20210327,     2055,  34.6389, -52.3335,     2.2225,2,     0.0429,1,     4.6960,1,     -999.0,9,     -999.0,9,     -999.0,9,     -999.0,9
325020210316,        A20,      27,          1,          3,          3,2,20210327,       2037,    34.6389,   -52.3335,       5224,  4786.9,   2.1920,  34.8740,2,  34.8729,2,    257.5,2,   258.3,2,   41.80,2,   20.67,2,    0.00,2,    1.38,2,   0.581,2,   0.308,2,    0.21,2,  2188.6,2, 2336.21,2,    759.9,2,    20.00,   7.72481,2,    25.01, -999.00,9, -999.00,9, -999.00,-999.000,9,   44.83,2,   19.91,2,      13.62,2, 20210327,     2050,  34.6389, -52.3335,     2.1919,2,     0.0429,1,     4.6775,1,     -999.0,9,     -999.0,9,     -999.0,9,     -999.0,9