BOTTLE,20230512CCHSIOCBG
EXPOCODE,SECT_ID,STNNBR,CASTNO,SAMPNO,BTLNBR,BTLNBR_FLAG_W,DATE,TIME,LATITUDE,LONGITUDE,DEPTH,CTDPRS,CTDTMP,CTDSAL,CTDSAL_FLAG_W,SALNTY,SALNTY_FLAG_W,CTDOXY,CTDOXY_FLAG_W,OXYGEN,OXYGEN_FLAG_W,SILCAT,SILCAT_FLAG_W,NITRAT,NITRAT_FLAG_W,NITRIT,NITRIT_FLAG_W,PHSPHT,PHSPHT_FLAG_W,CFC-11,CFC-11_FLAG_W,CFC-12,CFC-12_FLAG_W,SF6,SF6_FLAG_W,TCARBN,TCARBN_FLAG_W,ALKALI,ALKALI_FLAG_W,FCO2,FCO2_FLAG_W,FCO2TMP,PH_TOT,PH_TOT_FLAG_W,PH_TMP,DELC13,DELC13_FLAG_W,DELC14,DELC14_FLAG_W,C14ERR,POC,POC_FLAG_W,DOC,DOC_FLAG_W,TDN,TDN_FLAG_W,N2O,N2O_FLAG_W,BTL_DATE,BTL_TIME,BTL_LAT,BTL_LON,REFTMP,REFTMP_FLAG_W,CTDFLUOR,CTDFLUOR_FLAG_W,CTDXMISS,CTDXMISS_FLAG_W,D15N_NO2+NO3,D15N_NO2+NO3_FLAG_W,D18O_NO2+NO3,D18O_NO2+NO3_FLAG_W,HPLC,HPLC_FLAG_W,MICROGELS,MICROGELS_FLAG_W
,,,,,,,,,,,METERS,DBAR,ITS-90,PSS-78,,PSS-78,,UMOL/KG,,UMOL/KG,,UMOL/KG,,UMOL/KG,,UMOL/KG,,UMOL/KG,,PMOL/KG,,PMOL/KG,,FMOL/KG,,UMOL/KG,,UMOL/KG,,UATM,,DEG C,,,DEG C,/MILLE,,/MILLE,,/MILLE,UG/KG,,UMOL/KG,,UMOL/KG,,NMOL/KG,,,,,,ITS-90,,VOLTS,,VOLTS,,/MILLE,,/MILLE,,,,1E6 GELS/L,
325020210316,        A20,      52,          1,         36,         36,2,20210404,       1107,    20.0557,   -52.3337,       5272,     5.7,  24.9735,  37.1657,2,  37.1771,2,    207.1,2,  -999.0,9,    0.78,2,    0.00,2,    0.00,2,    0.00,2,-999.000,9,-999.000,9, -999.00,9,  -999.0,9, -999.00,9,   -999.0,9,  -999.00,-999.00000,9,  -999.00, -999.00,9, -999.00,9, -999.00,-999.000,1, -999.00,9, -999.00,9,     -999.0,9, 20210404,     1325,  20.0557, -52.3337,     -999.0,9,     0.0408,1,     4.6469,1,     -999.0,9,     -999.0,9,     -999.0,1,     -999.0,9
325020210316,        A20,      52,          1,         35,         35,2,20210404,       1107,    20.0557,   -52.3337,       5272,     6.1,  24.9750,  37.1652,2,  37.1688,2,    207.2,2,   206.9,2,    0.58,2,    0.00,2,    0.00,2,    0.00,2,   1.576,2,   1.003,2,    1.70,2,  2081.4,6,  2430.2,2,    302.9,2,    20.00,   8.08926,6,    25.01,    1.25,2,   27.30,2,    2.30,-999.000,9,   84.17,2,    4.84,2,       6.13,2, 20210404,     1325,  20.0557, -52.3337,    24.9711,2,     0.0402,1,     4.6467,1,     -999.0,9,     -999.0,9,     -999.0,9,     -999.0,9
325020210316,        A20,      52,          1,         34,         34,2,20210404,       1107,    20.0557,   -52.3337,       5272,    35.0,  24.9484,  37.1774,2,  37.1787,2,    206.9,2,   207.0,2,    0.58,2,    0.00,2,    0.00,2,    0.00,2,-999.000,9,-999.000,9, -999.00,9,  2081.7,2, 2432.96,6,    303.6,2,    20.00,   8.08931,2,    25.00, -999.00,9, -999.00,9, -999.00,-999.000,9,   81.65,2,    4.45,2,     -999.0,9, 20210404,     1323,  20.0557, -52.3338,    24.9486,2,     0.0421,1,     4.6434,1,     -999.0,9,     -999.0,9,     -999.0,9,     -999.0,9
325020210316,        A20,      52,          1,         33,         33,2,20210404,       1107,    20.0557,   -52.3337,       5272,    61.2,  24.9985,  37.2238,2,  37.2314,2,    206.9,2,   206.8,2,    0.68,2,    0.00,2,    0.00,2,    0.00,2,   1.525,2,   1.005,2,    1.74,2,  2084.6,2, 2433.97,2,    304.8,2,    20.00,   8.08951,6,    24.99,    1.29,2,   25.92,2,    2.91,-999.000,9,   83.24,2,    4.10,2,       6.42,2, 20210404,     1321,  20.0557, -52.3338,    24.9927,2,     0.0452,1,     4.6411,1,     -999.0,9,     -999.0,9,     -999.0,9,     -999.0,9
325020210316,        A20,      52,          1,         32,         32,2,20210404,       1107,    20.0557,   -52.3337,       5272,    86.2,  25.0249,  37.2430,2,  37.2439,2,    206.3,2,   206.6,2,    0.58,2,    0.00,2,    0.00,2,    0.00,2,-999.000,9,-999.000,9, -999.00,9,  -999.0,9, -999.00,9,   -999.0,9,  -999.00,-999.00000,9,  -999.00, -999.00,9, -999.00,9, -999.00,-999.000,9, -999.00,9, -999.00,9,     -999.0,9, 20210404,     1319,  20.0557, -52.3338,    25.0228,2,     0.0500,1,     4.6476,1,     -999.0,9,     -999.0,9,     -999.0,9,     -999.0,9
325020210316,        A20,      52,          1,         31,         31,2,20210404,       1107,    20.0557,   -52.3337,       5272,   116.0,  25.1006,  37.3946,2,  37.3833,2,    203.2,2,   203.5,2,    0.49,2,    0.00,2,    0.00,2,    0.00,2,-999.000,9,-999.000,9, -999.00,9,  -999.0,9, -999.00,9,   -999.0,9,  -999.00,-999.00000,9,  -999.00, -999.00,9, -999.00,9, -999.00,-999.000,9, -999.00,9, -999.00,9,     -999.0,9, 20210404,     1317,  20.0558, -52.3338,    25.1040,2,     0.0587,1,     4.6553,1,     -999.0,9,     -999.0,9,     -999.0,9,     -999.0,9
325020210316,        A20,      52,          1,         30,         30,2,20210404,       1107,    20.0557,   -52.3337,       5272,   146.3,  22.8947,  37.2610,2,  37.2672,2,    184.5,3,   188.0,2,    0.49,2,    0.33,2,    0.06,2,    0.01,2,-999.000,9,-999.000,9, -999.00,9,  2135.1,2, 2435.79,2,    380.3,2,    20.00,   8.00785,2,    25.00,    0.92,2,   32.02,2,    2.97,-999.000,9,   62.78,2,    3.65,2,     -999.0,9, 20210404,     1315,  20.0557, -52.3338,     -999.0,9,     0.0756,1,     4.6608,1,     -999.0,9,     -999.0,9,     -999.0,9,     -999.0,9
325020210316,        A20,      52,          1,         29,         29,2,20210404,       1107,    20.0557,   -52.3337,       5272,   146.5,  22.8860,  37.2606,2,  37.2660,2,    184.6,2,  -999.0,9,    0.68,2,    0.35,2,    0.06,2,    0.01,2,-999.000,9,-999.000,9, -999.00,9,  -999.0,9, -999.00,9,   -999.0,9,  -999.00,-999.00000,9,  -999.00, -999.00,9, -999.00,9, -999.00,-999.000,1, -999.00,9, -999.00,9,     -999.0,9, 20210404,     1315,  20.0557, -52.3338,    22.8925,2,     0.0784,1,     4.6622,1,     -999.0,9,     -999.0,9,     -999.0,1,     -999.0,9
325020210316,        A20,      52,          1,         28,         28,2,20210404,       1107,    20.0557,   -52.3337,       5272,   216.6,  19.5288,  36.7685,2,  36.7687,2,    174.7,3,   176.7,2,    1.07,2,    4.05,2,    0.00,2,    0.19,2,   1.990,2,   1.263,2,    1.69,2,  2147.2,2, 2402.54,2,    450.5,2,    20.00,   7.93984,2,    25.00,    0.56,2,   47.19,2,    2.16,-999.000,9,   52.54,2,    6.35,2,       9.43,2, 20210404,     1312,  20.0557, -52.3338,    19.5496,2,     0.0424,1,     4.6853,1,     -999.0,9,     -999.0,9,     -999.0,9,     -999.0,9
325020210316,        A20,      52,          1,         27,         27,2,20210404,       1107,    20.0557,   -52.3337,       5272,   266.9,  18.1350,  36.5309,2,  36.5260,2,    183.2,2,   182.2,2,    1.66,2,    5.87,2,    0.00,2,    0.30,2,-999.000,9,-999.000,9, -999.00,9,  2144.0,2, 2389.41,2,    467.4,2,    20.00,   7.92517,2,    24.96,    0.66,2,   52.75,2,    2.10,-999.000,9,   51.81,2,    7.70,2,     -999.0,9, 20210404,     1309,  20.0557, -52.3337,    18.1219,2,     0.0399,1,     4.6829,1,     -999.0,9,     -999.0,9,     -999.0,9,     -999.0,9
325020210316,        A20,      52,          1,         26,         26,2,20210404,       1107,    20.0557,   -52.3337,       5272,   317.6,  16.7246,  36.3006,2,  36.2992,2,    173.5,2,   173.7,2,    2.63,2,    8.77,2,    0.00,2,    0.49,2,   2.203,2,   1.372,2,    1.51,2,  2152.4,2,  2371.3,2,    520.5,2,    20.00,   7.88229,2,    25.02,    0.65,2,   58.13,2,    2.11,-999.000,9,   49.13,2,    9.94,2,      12.25,2, 20210404,     1308,  20.0557, -52.3338,    16.7237,2,     0.0403,1,     4.6899,1,     -999.0,9,     -999.0,9,     -999.0,9,     -999.0,9
325020210316,        A20,      52,          1,         25,         25,2,20210404,       1107,    20.0557,   -52.3337,       5272,   367.6,  15.9995,  36.1820,2,  36.1806,2,    173.1,2,   172.9,2,    3.02,2,    9.95,2,    0.00,2,    0.57,2,-999.000,9,-999.000,9, -999.00,9,  2157.0,2, 2364.89,2,    543.8,2,    20.00,   7.86537,2,    25.02,    0.66,2,   53.95,2,    2.19,-999.000,9,   49.94,2,   10.30,2,     -999.0,9, 20210404,     1306,  20.0558, -52.3338,    15.9947,2,     0.0409,1,     4.6912,1,     -999.0,9,     -999.0,9,     -999.0,9,     -999.0,9
325020210316,        A20,      52,          1,         24,         24,2,20210404,       1107,    20.0557,   -52.3337,       5272,   437.9,  14.3269,  35.9349,2,  35.9334,2,    161.4,2,   161.8,2,    4.59,2,   13.73,2,    0.00,2,    0.80,2,   2.241,2,   1.361,2,    1.25,2,  2169.9,2, 2350.55,2,    622.5,2,    20.00,   7.81177,2,    25.00,    0.65,2,   52.32,2,    2.10,-999.000,9,   48.44,2,   13.47,2,      15.01,2, 20210404,     1304,  20.0557, -52.3338,    14.3731,2,     0.0408,1,     4.6923,1,     -999.0,9,     -999.0,9,     -999.0,9,     -999.0,9
325020210316,        A20,      52,          1,         23,         23,2,20210404,       1107,    20.0557,   -52.3337,       5272,   539.2,  12.1714,  35.6257,2,  35.6188,2,    144.7,2,   144.9,2,    8.00,2,   19.28,2,    0.00,2,    1.15,2,-999.000,9,-999.000,9, -999.00,9,  2184.4,6, 2335.48,2,    747.6,2,    20.00,   7.73707,2,    24.99,    0.71,2,   25.28,2,    2.14,-999.000,9,   47.34,2,   19.02,2,     -999.0,9, 20210404,     1300,  20.0557, -52.3338,    12.1550,2,     0.0417,1,     4.6948,1,     -999.0,9,     -999.0,9,     -999.0,9,     -999.0,9
325020210316,        A20,      52,          1,         22,         22,2,20210404,       1107,    20.0557,   -52.3337,       5272,   640.2,   9.8357,  35.2496,2,  35.2471,2,    125.3,2,   125.4,2,   13.96,2,   25.99,2,    0.00,2,    1.61,2,   1.224,2,   0.670,2,    0.34,2,  2205.0,2, 2319.31,2,    925.7,2,    20.00,   7.64897,6,    25.00,    0.77,2,  -14.88,2,    2.07,-999.000,9, -999.00,9, -999.00,9,      22.53,2, 20210404,     1257,  20.0557, -52.3338,     9.8384,2,     0.0412,1,     4.6971,1,     -999.0,9,     -999.0,9,     -999.0,9,     -999.0,9
325020210316,        A20,      52,          1,         21,         21,2,20210404,       1107,    20.0557,   -52.3337,       5272,   741.2,   7.9680,  34.9924,2,  34.9961,2,    125.5,2,   125.2,2,   22.36,2,   30.98,2,    0.00,2,    2.01,2,-999.000,9,-999.000,9, -999.00,9,  2211.9,2, 2312.93,6,   1028.2,2,    20.00,   7.60244,2,    25.05,    0.81,2,  -46.72,2,    1.90,-999.000,9,   44.55,2,   28.88,2,     -999.0,9, 20210404,     1254,  20.0557, -52.3337,     7.9691,2,     0.0433,1,     4.6971,1,     -999.0,9,     -999.0,9,     -999.0,9,     -999.0,9
325020210316,        A20,      52,          1,         20,         20,2,20210404,       1107,    20.0557,   -52.3337,       5272,   841.8,   6.7149,  34.8593,2,  34.8574,2,    133.7,2,   133.9,2,   22.36,2,   30.92,2,    0.00,2,    2.02,2,   0.511,2,   0.250,2,    0.16,2,  2216.3,2, 2309.64,2,   1070.2,2,    20.00,   7.58475,2,    25.02,    0.84,2,  -70.28,2,    1.95,-999.000,9,   43.36,2,   30.08,2,      24.09,2, 20210404,     1251,  20.0557, -52.3337,     6.7143,2,     0.0431,1,     4.6953,1,     -999.0,9,     -999.0,9,     -999.0,9,     -999.0,9
325020210316,        A20,      52,          1,         19,         19,2,20210404,       1107,    20.0557,   -52.3337,       5272,   943.1,   6.0437,  34.8373,2,  34.8389,2,    144.4,2,   143.7,2,   23.54,2,   30.64,2,    0.00,2,    2.01,2,   0.352,2,   0.177,2,    0.12,2,  2215.2,2,  2311.7,2,   1054.3,2,    20.00,   7.59173,2,    25.00,    0.92,6,  -84.08,6,    2.42,-999.000,9,   43.31,2,   29.81,2,      22.41,2, 20210404,     1248,  20.0557, -52.3338,     6.0417,2,     0.0426,1,     4.6964,1,     -999.0,9,     -999.0,9,     -999.0,9,     -999.0,9
325020210316,        A20,      52,          1,         18,         18,2,20210404,       1107,    20.0557,   -52.3337,       5272,  1044.1,   5.7270,  34.8947,2,  34.8977,2,    161.9,2,   162.3,2,   22.17,2,   28.08,2,    0.00,2,    1.87,2,   0.447,6,   0.222,6,    0.18,6,  2207.6,2, 2313.14,2,    979.0,2,    20.00,   7.62181,2,    24.99,    0.81,2,  -87.03,2,    1.80,-999.000,9,   44.14,2,   26.55,2,      20.47,6, 20210404,     1245,  20.0557, -52.3338,     5.7273,2,     0.0426,1,     4.6971,1,     -999.0,9,     -999.0,9,     -999.0,9,     -999.0,9
325020210316,        A20,      52,          1,         17,         17,2,20210404,       1107,    20.0557,   -52.3337,       5272,  1145.3,   5.5852,  34.9564,2,  34.9579,2,    180.3,2,   180.6,2,   20.21,2,   25.64,2,    0.00,2,    1.69,2,-999.000,9,-999.000,9, -999.00,9,  2196.1,2, 2315.41,2,    907.9,2,    20.00,   7.65271,2,    25.04,    1.03,3,  -72.76,2,    2.20,-999.000,9,   43.75,2,   25.45,2,     -999.0,9, 20210404,     1240,  20.0557, -52.3338,     5.5887,2,     0.0429,1,     4.6983,1,     -999.0,9,     -999.0,9,     -999.0,9,     -999.0,9
325020210316,        A20,      52,          1,         16,         16,2,20210404,       1107,    20.0557,   -52.3337,       5272,  1247.0,   5.2214,  34.9937,2,  34.9945,2,    201.9,2,   201.7,2,   17.28,2,   23.35,2,    0.00,2,    1.54,2,   0.796,2,   0.393,2,    0.29,2,  2188.3,2, 2205.21,4,    848.4,2,    20.00,   7.67963,2,    25.01,    0.81,6,  -70.26,6,    1.94,-999.000,9,   43.31,2,   22.90,2,      17.34,2, 20210404,     1238,  20.0557, -52.3338,     5.2273,2,     0.0428,1,     4.6986,1,     -999.0,9,     -999.0,9,     -999.0,9,     -999.0,9
325020210316,        A20,      52,          1,         15,         15,2,20210404,       1107,    20.0557,   -52.3337,       5272,  1348.0,   4.9850,  35.0109,2,  35.0122,2,    217.9,2,   217.7,2,   16.60,2,   21.47,2,    0.00,2,    1.43,2,   1.020,2,   0.515,2,    0.35,2,  2180.4,2, 2315.45,2,    810.5,2,    20.00,   7.69871,6,    24.99,    0.93,2,  -59.61,2,    1.84,-999.000,9,   45.37,2,   21.12,2,      15.99,2, 20210404,     1235,  20.0557, -52.3338,     4.9880,2,     0.0417,1,     4.6994,1,     -999.0,9,     -999.0,9,     -999.0,9,     -999.0,9
325020210316,        A20,      52,          1,         14,         14,2,20210404,       1107,    20.0557,   -52.3337,       5272,  1480.1,   4.6910,  35.0153,2,  35.0175,2,    233.4,2,   232.7,2,   15.23,2,   20.04,2,    0.00,2,    1.33,2,   1.156,2,   0.572,2,    0.34,2,  2173.3,2, 2314.54,2,    779.8,2,    20.00,    7.7131,2,    25.03,    0.95,2,  -49.09,2,    1.98,-999.000,9, -999.00,9, -999.00,9,      15.05,2, 20210404,     1232,  20.0557, -52.3338,     4.6927,2,     0.0425,1,     4.7002,1,     -999.0,9,     -999.0,9,     -999.0,9,     -999.0,9
325020210316,        A20,      52,          1,         13,         13,2,20210404,       1107,    20.0557,   -52.3337,       5272,  1682.3,   4.2164,  35.0078,2,  35.0092,2,    245.5,2,   244.9,2,   15.72,2,   19.25,2,    0.00,2,    1.29,2,   0.781,2,   0.393,2,    0.23,2,  2167.6,2, 2313.33,2,    749.2,2,    20.00,    7.7287,2,    25.02,    1.05,2,  -61.97,2,    2.44,-999.000,9,   45.54,2,   18.29,2,      13.88,2, 20210404,     1227,  20.0557, -52.3338,     4.2146,2,     0.0424,1,     4.7002,1,     -999.0,9,     -999.0,9,     -999.0,9,     -999.0,9
325020210316,        A20,      52,          1,         12,         12,2,20210404,       1107,    20.0557,   -52.3337,       5272,  1884.7,   3.8711,  34.9988,2,  35.0000,2,    245.9,2,   247.6,2,   19.04,2,   19.58,2,    0.00,2,    1.31,2,   0.403,2,   0.187,2,    0.11,2,  2166.8,2,  2317.7,2,    739.5,2,    20.00,   7.73513,2,    24.99,    1.07,2,  -75.22,2,    2.07,-999.000,9, -999.00,9, -999.00,9,      13.80,2, 20210404,     1222,  20.0557, -52.3338,     3.8722,2,     0.0417,1,     4.7002,1,     -999.0,9,     -999.0,9,     -999.0,9,     -999.0,9
325020210316,        A20,      52,          1,         11,         11,2,20210404,       1107,    20.0557,   -52.3337,       5272,  2107.9,   3.5026,  34.9828,2,  34.9835,2,    246.0,2,   246.6,2,   23.53,2,   19.95,2,    0.00,2,    1.34,2,   0.158,2,   0.077,2,    0.07,2,  2171.4,2,  2323.6,2,    736.8,2,    20.00,   7.73723,2,    25.03,    1.08,2,  -91.51,2,    2.32,-999.000,9,   44.11,2,   19.24,2,      14.06,2, 20210404,     1216,  20.0557, -52.3338,     3.5020,2,     0.0427,1,     4.6998,1,     -999.0,9,     -999.0,9,     -999.0,9,     -999.0,9
325020210316,        A20,      52,          1,         10,         10,2,20210404,       1107,    20.0557,   -52.3337,       5272,  2362.7,   3.1885,  34.9625,2,  34.9638,2,    248.1,2,   248.5,2,   27.15,2,   20.12,2,    0.00,2,    1.35,2,   0.128,2,   0.062,2,    0.08,2,  2173.3,2,  2328.6,2,    735.9,2,    20.00,   7.73745,2,    25.02,    1.08,2,  -96.10,2,    1.88,-999.000,9,   43.71,2,   19.88,2,      13.85,2, 20210404,     1212,  20.0557, -52.3337,     3.1949,2,     0.0427,1,     4.6996,1,     -999.0,9,     -999.0,9,     -999.0,9,     -999.0,9
325020210316,        A20,      52,          1,          9,          9,2,20210404,       1107,    20.0557,   -52.3337,       5272,  2617.7,   2.9500,  34.9456,2,  34.9465,2,    249.7,2,   249.9,2,   30.27,2,   20.19,2,    0.00,2,    1.37,2,-999.000,9,-999.000,9, -999.00,9,  2176.8,6, 2328.27,2,    737.1,2,    20.00,   7.73808,2,    25.02,    1.08,2,  -96.67,2,    1.92,-999.000,9, -999.00,9, -999.00,9,     -999.0,9, 20210404,     1206,  20.0557, -52.3337,     2.9493,2,     0.0416,1,     4.6996,1,     -999.0,9,     -999.0,9,     -999.0,9,     -999.0,9
325020210316,        A20,      52,          1,          8,          8,2,20210404,       1107,    20.0557,   -52.3337,       5272,  2872.2,   2.7832,  34.9325,2,  34.9357,3,    250.0,2,   250.3,2,   33.49,2,   20.49,2,    0.00,2,    1.39,2,   0.110,2,   0.054,2,    0.08,2,  2178.4,2, 2330.41,2,    740.3,2,    20.00,   7.73679,6,    25.00,    1.05,2, -103.98,2,    1.79,-999.000,9,   42.96,2,   20.77,2,      13.48,2, 20210404,     1200,  20.0557, -52.3338,     2.7832,2,     0.0429,1,     4.6997,1,     -999.0,9,     -999.0,9,     -999.0,9,     -999.0,9
325020210316,        A20,      52,          1,          7,          7,2,20210404,       1107,    20.0557,   -52.3337,       5272,  3142.8,   2.6405,  34.9197,2,  34.9211,2,    251.1,2,   251.1,2,   35.74,2,   20.64,2,    0.00,2,    1.40,2,-999.000,9,-999.000,9, -999.00,9,  2180.7,2, 2331.78,2,    743.2,2,    20.00,    7.7358,2,    24.99,    1.04,2, -104.33,2,    1.79,-999.000,9, -999.00,9, -999.00,9,     -999.0,9, 20210404,     1154,  20.0557, -52.3338,     2.6402,2,     0.0426,1,     4.6997,1,     -999.0,9,     -999.0,9,     -999.0,9,     -999.0,9
325020210316,        A20,      52,          1,          6,          6,2,20210404,       1107,    20.0557,   -52.3337,       5272,  3448.8,   2.5020,  34.9065,2,  34.9079,2,    251.4,2,   251.1,2,   39.26,2,   20.94,2,    0.00,2,    1.42,2,   0.111,2,   0.055,2,    0.03,2,  2183.8,2, 2334.57,2,    747.9,2,    20.00,   7.73239,2,    25.00,    1.04,2, -105.12,2,    1.83,-999.000,9,   43.30,2,   21.34,2,      13.63,2, 20210404,     1147,  20.0557, -52.3338,     2.5024,2,     0.0424,1,     4.6997,1,     -999.0,9,     -999.0,9,     -999.0,9,     -999.0,9
325020210316,        A20,      52,          1,          5,          5,2,20210404,       1107,    20.0557,   -52.3337,       5272,  3756.6,   2.3648,  34.8928,2,  34.8941,2,    251.9,2,   251.4,2,   42.38,2,   21.41,2,    0.00,2,    1.44,2,-999.000,9,-999.000,9, -999.00,9,  2187.8,2, 2338.58,2,    754.4,6,    20.00,   7.72894,2,    25.03,    1.03,2, -108.19,2,    2.82,-999.000,9, -999.00,9, -999.00,9,     -999.0,9, 20210404,     1141,  20.0557, -52.3338,     2.3647,2,     0.0429,1,     4.6996,1,     -999.0,9,     -999.0,9,     -999.0,9,     -999.0,9
325020210316,        A20,      52,          1,          4,          4,2,20210404,       1107,    20.0557,   -52.3337,       5272,  4098.4,   2.2163,  34.8775,2,  34.8786,2,    252.3,2,   251.8,2,   46.29,2,   21.62,2,    0.00,2,    1.47,2,   0.138,2,   0.071,2,    0.05,2,  2190.1,2,  2339.8,2,    763.4,2,    20.00,   7.72523,2,    25.01,    0.97,2, -109.17,2,    1.90,-999.000,9,   43.40,2,   21.11,2,      14.85,2, 20210404,     1133,  20.0557, -52.3338,     2.2162,2,     0.0434,1,     4.6996,1,     -999.0,9,     -999.0,9,     -999.0,9,     -999.0,9
325020210316,        A20,      52,          1,          3,          3,2,20210404,       1107,    20.0557,   -52.3337,       5272,  4508.7,   2.1130,  34.8638,2,  34.8648,2,    251.9,2,   251.5,2,   50.20,2,   22.06,2,    0.00,2,    1.50,2,   0.188,2,   0.092,2,    0.07,2,  2196.0,2,  2339.5,2,    775.0,2,    20.00,   7.71869,2,    25.01,    0.93,2, -106.04,2,    1.88,-999.000,9,   44.36,2,   21.48,2,      14.25,2, 20210404,     1125,  20.0557, -52.3338,     2.1125,2,     0.0420,1,     4.6984,1,     -999.0,9,     -999.0,9,     -999.0,9,     -999.0,9