BOTTLE,20230512CCHSIOCBG
EXPOCODE,SECT_ID,STNNBR,CASTNO,SAMPNO,BTLNBR,BTLNBR_FLAG_W,DATE,TIME,LATITUDE,LONGITUDE,DEPTH,CTDPRS,CTDTMP,CTDSAL,CTDSAL_FLAG_W,SALNTY,SALNTY_FLAG_W,CTDOXY,CTDOXY_FLAG_W,OXYGEN,OXYGEN_FLAG_W,SILCAT,SILCAT_FLAG_W,NITRAT,NITRAT_FLAG_W,NITRIT,NITRIT_FLAG_W,PHSPHT,PHSPHT_FLAG_W,CFC-11,CFC-11_FLAG_W,CFC-12,CFC-12_FLAG_W,SF6,SF6_FLAG_W,TCARBN,TCARBN_FLAG_W,ALKALI,ALKALI_FLAG_W,FCO2,FCO2_FLAG_W,FCO2TMP,PH_TOT,PH_TOT_FLAG_W,PH_TMP,DELC13,DELC13_FLAG_W,DELC14,DELC14_FLAG_W,C14ERR,POC,POC_FLAG_W,DOC,DOC_FLAG_W,TDN,TDN_FLAG_W,N2O,N2O_FLAG_W,BTL_DATE,BTL_TIME,BTL_LAT,BTL_LON,REFTMP,REFTMP_FLAG_W,CTDFLUOR,CTDFLUOR_FLAG_W,CTDXMISS,CTDXMISS_FLAG_W,D15N_NO2+NO3,D15N_NO2+NO3_FLAG_W,D18O_NO2+NO3,D18O_NO2+NO3_FLAG_W,HPLC,HPLC_FLAG_W,MICROGELS,MICROGELS_FLAG_W
,,,,,,,,,,,METERS,DBAR,ITS-90,PSS-78,,PSS-78,,UMOL/KG,,UMOL/KG,,UMOL/KG,,UMOL/KG,,UMOL/KG,,UMOL/KG,,PMOL/KG,,PMOL/KG,,FMOL/KG,,UMOL/KG,,UMOL/KG,,UATM,,DEG C,,,DEG C,/MILLE,,/MILLE,,/MILLE,UG/KG,,UMOL/KG,,UMOL/KG,,NMOL/KG,,,,,,ITS-90,,VOLTS,,VOLTS,,/MILLE,,/MILLE,,,,1E6 GELS/L,
325020210316,        A20,      57,          1,         36,         36,2,20210405,       2140,    17.1392,   -52.3340,       4333,     5.3,  25.4372,  36.5559,2,  36.5565,2,    206.3,2,   205.4,2,    1.07,2,    0.00,2,    0.00,2,    0.00,2,-999.000,9,-999.000,9, -999.00,9,  2053.9,2, 2393.88,2,    294.9,2,    20.00,   8.09763,2,    25.04, -999.00,9, -999.00,9, -999.00,-999.000,9,   86.32,2,    4.97,2,     -999.0,9, 20210405,     2338,  17.1392, -52.3340,    25.4351,2,     0.0443,1,     4.6371,1,     -999.0,9,     -999.0,9,     -999.0,9,     -999.0,9
325020210316,        A20,      57,          1,         35,         35,2,20210405,       2140,    17.1392,   -52.3340,       4333,    24.9,  25.4393,  36.5575,2,  36.5624,2,    206.2,2,   206.0,2,    0.98,2,    0.00,2,    0.00,2,    0.00,2,-999.000,9,-999.000,9, -999.00,9,  2052.1,2, -999.00,9,    295.6,2,    20.00,   8.09742,6,    25.00, -999.00,9, -999.00,9, -999.00,-999.000,9,   86.88,2,    4.37,2,     -999.0,9, 20210405,     2336,  17.1392, -52.3340,    25.4352,2,     0.0454,1,     4.6341,1,     -999.0,9,     -999.0,9,     -999.0,9,     -999.0,9
325020210316,        A20,      57,          1,         34,         34,2,20210405,       2140,    17.1392,   -52.3340,       4333,    49.8,  25.4451,  37.1563,2,  37.1553,2,    208.1,2,   207.5,2,    0.68,2,    0.00,2,    0.00,2,    0.00,2,-999.000,9,-999.000,9, -999.00,9,  2083.2,2, -999.00,9,   -999.0,9,  -999.00,   8.09507,2,    25.01, -999.00,9, -999.00,9, -999.00,-999.000,9,   89.06,2,    4.23,2,     -999.0,9, 20210405,     2335,  17.1392, -52.3340,    25.4468,2,     0.0503,1,     4.6325,1,     -999.0,9,     -999.0,9,     -999.0,9,     -999.0,9
325020210316,        A20,      57,          1,         33,         33,2,20210405,       2140,    17.1392,   -52.3340,       4333,    75.2,  25.2481,  37.1606,2,  37.1602,2,    207.4,2,   206.8,2,    0.68,2,    0.00,2,    0.00,2,    0.00,2,-999.000,9,-999.000,9, -999.00,9,  2082.6,2, 2430.52,2,    302.7,2,    20.00,   8.09303,2,    25.02, -999.00,9, -999.00,9, -999.00,-999.000,9,   84.31,2,    3.33,2,     -999.0,9, 20210405,     2333,  17.1392, -52.3340,    25.2474,2,     0.0554,1,     4.6455,1,     -999.0,9,     -999.0,9,     -999.0,9,     -999.0,9
325020210316,        A20,      57,          1,         32,         32,2,20210405,       2140,    17.1392,   -52.3340,       4333,   100.9,  25.1166,  37.1894,2,  37.1942,2,    205.5,2,   205.5,2,    0.68,2,    0.00,2,    0.00,2,    0.00,2,-999.000,9,-999.000,9, -999.00,9,  2086.8,2, -999.00,9,    307.6,2,    20.00,   8.08746,2,    25.02, -999.00,9, -999.00,9, -999.00,-999.000,9,   82.07,2,    3.63,2,     -999.0,9, 20210405,     2331,  17.1392, -52.3340,    25.1157,2,     0.0576,1,     4.6546,1,     -999.0,9,     -999.0,9,     -999.0,9,     -999.0,9
325020210316,        A20,      57,          1,         31,         31,2,20210405,       2140,    17.1392,   -52.3340,       4333,   125.7,  24.2775,  37.3338,2,  37.3320,2,    198.8,2,   200.0,2,    0.59,2,    0.00,2,    0.00,2,    0.00,2,-999.000,9,-999.000,9, -999.00,9,  2118.6,2, -999.00,9,    344.6,2,    20.00,   8.04729,2,    25.03, -999.00,9, -999.00,9, -999.00,-999.000,9,   71.59,2,    4.03,2,     -999.0,9, 20210405,     2330,  17.1392, -52.3340,    24.2847,2,     0.0793,1,     4.6533,1,     -999.0,9,     -999.0,9,     -999.0,9,     -999.0,9
325020210316,        A20,      57,          1,         30,         30,2,20210405,       2140,    17.1392,   -52.3340,       4333,   151.5,  22.9955,  37.2716,2,  37.2642,2,    186.0,2,   187.0,2,    0.68,2,    0.36,2,    0.09,2,    0.00,2,-999.000,9,-999.000,9, -999.00,9,  2139.5,2, 2436.21,2,    383.0,2,    20.00,   8.00827,2,    25.04, -999.00,9, -999.00,9, -999.00,-999.000,9,   66.48,2,    4.95,2,     -999.0,9, 20210405,     2328,  17.1392, -52.3340,    23.0144,2,     0.0762,1,     4.6584,1,     -999.0,9,     -999.0,9,     -999.0,9,     -999.0,9
325020210316,        A20,      57,          1,         29,         29,2,20210405,       2140,    17.1392,   -52.3340,       4333,   201.4,  20.2300,  36.8893,2,  36.8863,2,    168.3,3,   170.8,2,    1.27,2,    4.08,2,    0.00,2,    0.17,2,-999.000,9,-999.000,9, -999.00,9,  2159.6,2, -999.00,9,    455.2,2,    20.00,   7.93996,2,    25.02, -999.00,9, -999.00,9, -999.00,-999.000,9,   60.32,2,    7.10,2,     -999.0,9, 20210405,     2327,  17.1392, -52.3340,    20.2402,2,     0.0487,1,     4.6785,1,     -999.0,9,     -999.0,9,     -999.0,9,     -999.0,9
325020210316,        A20,      57,          1,         28,         28,2,20210405,       2140,    17.1392,   -52.3340,       4333,   252.0,  17.8211,  36.4864,2,  36.4850,2,    160.9,2,   160.7,2,    2.44,2,    8.61,2,    0.00,2,    0.44,2,   2.095,2,   1.322,2,    1.54,2,  2169.4,2, -999.00,9,    524.9,2,    20.00,   7.88173,2,    24.99, -999.00,9, -999.00,9, -999.00,-999.000,9,   50.78,2,   10.82,2,      13.22,2, 20210405,     2325,  17.1392, -52.3340,    17.8481,2,     0.0407,1,     4.6853,1,     -999.0,9,     -999.0,9,     -999.0,9,     -999.0,9
325020210316,        A20,      57,          1,         27,         27,2,20210405,       2140,    17.1392,   -52.3340,       4333,   301.0,  15.7644,  36.1273,2,  36.1296,2,    139.0,2,   140.0,2,    4.00,2,   13.89,2,    0.00,2,    0.77,2,-999.000,9,-999.000,9, -999.00,9,  2184.6,2, 2365.63,2,    635.8,2,    20.00,   7.80358,6,    25.03, -999.00,9, -999.00,9, -999.00,-999.000,9,   50.13,2,   15.60,2,     -999.0,9, 20210405,     2323,  17.1392, -52.3340,    15.7755,2,     0.0406,1,     4.6867,1,     -999.0,9,     -999.0,9,     -999.0,9,     -999.0,9
325020210316,        A20,      57,          1,         26,         26,2,20210405,       2140,    17.1392,   -52.3340,       4333,   352.7,  14.7138,  35.9482,2,  35.9319,2,    122.6,2,   122.1,2,    5.56,2,   17.59,2,    0.00,2,    1.00,2,-999.000,9,-999.000,9, -999.00,9,  2197.2,2, -999.00,9,    732.9,2,    20.00,   7.74497,2,    25.05, -999.00,9, -999.00,9, -999.00,-999.000,9,   51.35,2,   19.66,2,     -999.0,9, 20210405,     2321,  17.1392, -52.3340,    14.6923,2,     0.0411,1,     4.6874,1,     -999.0,9,     -999.0,9,     -999.0,9,     -999.0,9
325020210316,        A20,      57,          1,         25,         25,2,20210405,       2140,    17.1392,   -52.3340,       4333,   403.4,  13.5552,  35.7655,2,  35.7566,2,    109.2,3,   112.8,2,    7.13,2,   20.41,2,    0.00,2,    1.17,2,   1.979,2,   1.183,2,    0.93,2,  2204.0,2, -999.00,9,    807.4,2,    20.00,   7.70446,2,    25.03, -999.00,9, -999.00,9, -999.00,-999.000,9,   50.02,2,   22.15,2,      23.63,2, 20210405,     2319,  17.1392, -52.3340,    13.5602,2,     0.0410,1,     4.6879,1,     -999.0,9,     -999.0,9,     -999.0,9,     -999.0,9
325020210316,        A20,      57,          1,         24,         24,2,20210405,       2140,    17.1392,   -52.3340,       4333,   453.2,  12.3990,  35.5958,2,  35.5790,2,    113.0,3,   111.7,2,    9.08,2,   22.73,2,    0.00,2,    1.32,2,-999.000,9,-999.000,9, -999.00,9,  2207.8,2, -999.00,9,    861.1,2,    20.00,   7.67681,2,    25.01, -999.00,9, -999.00,9, -999.00,-999.000,9,   50.28,2,   23.48,2,     -999.0,9, 20210405,     2317,  17.1392, -52.3340,    12.3973,2,     0.0414,1,     4.6789,1,     -999.0,9,     -999.0,9,     -999.0,9,     -999.0,9
325020210316,        A20,      57,          1,         23,         23,2,20210405,       2140,    17.1392,   -52.3340,       4333,   503.5,  10.9751,  35.3620,2,  35.3490,3,    105.0,2,   105.0,2,   12.01,2,   26.26,2,    0.00,2,    1.56,2,   1.494,2,   0.827,2,    0.50,2,  2217.4,2, 2323.64,6,    966.1,2,    20.00,   7.62895,2,    25.00, -999.00,9, -999.00,9, -999.00,-999.000,9,   48.58,2,   26.36,2,      25.49,2, 20210405,     2316,  17.1392, -52.3339,    10.9665,2,     0.0435,1,     4.6922,1,     -999.0,9,     -999.0,9,     -999.0,9,     -999.0,9
325020210316,        A20,      57,          1,         22,         22,2,20210405,       2140,    17.1392,   -52.3340,       4333,   604.3,   9.1825,  35.1324,2,  35.1333,2,    104.3,2,   104.2,2,   16.02,2,   29.50,2,    0.00,2,    1.81,2,-999.000,9,-999.000,9, -999.00,9,  2220.5,6, -999.00,9,   1059.6,2,    20.00,   7.58808,2,    25.02, -999.00,9, -999.00,9, -999.00,-999.000,9, -999.00,9, -999.00,9,     -999.0,9, 20210405,     2313,  17.1392, -52.3340,     9.2013,2,     0.0418,1,     4.6935,1,     -999.0,9,     -999.0,9,     -999.0,9,     -999.0,9
325020210316,        A20,      57,          1,         21,         21,2,20210405,       2140,    17.1392,   -52.3340,       4333,   704.9,   7.6060,  34.9275,2,  34.9282,2,    115.4,2,   115.1,2,   20.12,2,   31.34,2,    0.00,2,    1.98,2,   0.632,2,   0.324,2,    0.20,2,  2222.4,2, -999.00,9,   1101.0,2,    20.00,   7.57029,6,    25.03, -999.00,9, -999.00,9, -999.00,-999.000,9,   46.94,2,   31.69,2,      25.80,2, 20210405,     2310,  17.1392, -52.3340,     7.6248,2,     0.0429,1,     4.6947,1,     -999.0,9,     -999.0,9,     -999.0,9,     -999.0,9
325020210316,        A20,      57,          1,         20,         20,2,20210405,       2140,    17.1392,   -52.3340,       4333,   805.4,   6.7900,  34.8517,2,  34.8511,2,    121.0,2,   121.4,2,   22.47,2,   32.12,2,    0.00,2,    2.05,2,-999.000,9,-999.000,9, -999.00,9,  2223.5,2, -999.00,9,   1122.3,2,    20.00,   7.56207,2,    25.05, -999.00,9, -999.00,9, -999.00,-999.000,9, -999.00,9, -999.00,9,     -999.0,9, 20210405,     2308,  17.1392, -52.3340,     6.7988,2,     0.0435,1,     4.6945,1,     -999.0,9,     -999.0,9,     -999.0,9,     -999.0,9
325020210316,        A20,      57,          1,         19,         19,2,20210405,       2140,    17.1392,   -52.3340,       4333,   906.9,   6.0976,  34.8124,2,  34.8110,2,    129.8,2,   130.4,2,   24.33,2,   32.12,2,    0.00,2,    2.08,2,   0.222,2,   0.111,2,    0.06,2,  2222.1,2,  2310.5,2,   1116.8,2,    20.00,   7.56381,2,    25.03, -999.00,9, -999.00,9, -999.00,-999.000,9, -999.00,9, -999.00,9,      25.02,2, 20210405,     2305,  17.1392, -52.3340,     6.1030,2,     0.0431,1,     4.6947,1,     -999.0,9,     -999.0,9,     -999.0,9,     -999.0,9
325020210316,        A20,      57,          1,         18,         18,2,20210405,       2140,    17.1392,   -52.3340,       4333,  1009.2,   5.8022,  34.8316,2,  34.8308,2,    139.1,2,   140.3,2,   24.33,2,   31.14,2,    0.00,2,    2.03,2,-999.000,9,-999.000,9, -999.00,9,  2219.0,2, -999.00,9,   1078.7,2,    20.00,   7.57853,2,    25.01, -999.00,9, -999.00,9, -999.00,-999.000,9,   48.14,2,   32.07,2,     -999.0,9, 20210405,     2301,  17.1392, -52.3340,     5.8024,2,     0.0424,1,     4.6953,1,     -999.0,9,     -999.0,9,     -999.0,9,     -999.0,9
325020210316,        A20,      57,          1,         17,         17,2,20210405,       2140,    17.1392,   -52.3340,       4333,  1109.3,   5.5762,  34.8736,2,  34.8743,2,    152.9,2,   153.6,2,   23.45,2,   29.46,2,    0.00,2,    1.92,2,   0.175,2,   0.086,2,    0.07,2,  2212.1,2, -999.00,9,   1016.6,6,    20.00,   7.60337,2,    25.01, -999.00,9, -999.00,9, -999.00,-999.000,9, -999.00,9, -999.00,9,      22.14,2, 20210405,     2258,  17.1392, -52.3340,     5.5756,2,     0.0434,1,     4.6960,1,     -999.0,9,     -999.0,9,     -999.0,9,     -999.0,9
325020210316,        A20,      57,          1,         16,         16,2,20210405,       2140,    17.1392,   -52.3340,       4333,  1210.3,   5.3360,  34.9343,2,  34.9298,2,    173.4,2,   172.6,2,   21.88,2,   26.96,2,    0.00,2,    1.77,2,-999.000,9,-999.000,9, -999.00,9,  2204.9,2, -999.00,9,    937.5,2,    20.00,   7.63655,2,    25.01, -999.00,9, -999.00,9, -999.00,-999.000,9, -999.00,9, -999.00,9,     -999.0,9, 20210405,     2254,  17.1392, -52.3340,     5.3404,2,     0.0428,1,     4.6972,1,     -999.0,9,     -999.0,9,     -999.0,9,     -999.0,9
325020210316,        A20,      57,          1,         15,         15,2,20210405,       2140,    17.1392,   -52.3340,       4333,  1312.2,   5.1297,  34.9632,2,  34.9630,2,    187.9,2,   188.3,2,   20.51,2,   25.14,2,    0.00,2,    1.65,2,-999.000,9,-999.000,9, -999.00,9,  2196.4,2, -999.00,9,   -999.0,9,  -999.00,   7.66055,2,    25.02, -999.00,9, -999.00,9, -999.00,-999.000,9,   43.77,2,   26.26,2,     -999.0,9, 20210405,     2252,  17.1392, -52.3340,     5.1262,2,     0.0430,1,     4.6976,1,     -999.0,9,     -999.0,9,     -999.0,9,     -999.0,9
325020210316,        A20,      57,          1,         14,         14,2,20210405,       2140,    17.1392,   -52.3340,       4333,  1412.8,   4.8553,  34.9885,2,  34.9894,2,    205.8,2,   205.6,2,   19.15,2,   23.22,2,    0.00,2,    1.51,2,-999.000,9,-999.000,9, -999.00,9,  2189.2,2, 2315.79,2,    834.4,2,    20.00,   7.68523,2,    25.01, -999.00,9, -999.00,9, -999.00,-999.000,9, -999.00,9, -999.00,9,     -999.0,9, 20210405,     2249,  17.1392, -52.3340,     4.8548,2,     0.0424,1,     4.6979,1,     -999.0,9,     -999.0,9,     -999.0,9,     -999.0,9
325020210316,        A20,      57,          1,         13,         13,2,20210405,       2140,    17.1392,   -52.3340,       4333,  1514.2,   4.6156,  34.9975,2,  34.9969,2,    218.4,2,   218.2,2,   18.46,2,   21.97,2,    0.00,2,    1.44,2,   0.442,2,   0.214,2,    0.18,2,  2182.1,2, -999.00,9,   -999.0,9,  -999.00,   7.70011,2,    25.03, -999.00,9, -999.00,9, -999.00,-999.000,9, -999.00,9, -999.00,9,      16.20,2, 20210405,     2246,  17.1392, -52.3340,     4.6149,2,     0.0421,1,     4.6984,1,     -999.0,9,     -999.0,9,     -999.0,9,     -999.0,9
325020210316,        A20,      57,          1,         12,         12,2,20210405,       2140,    17.1392,   -52.3340,       4333,  1615.0,   4.3974,  34.9977,2,  34.9972,2,    226.8,2,   226.5,2,   18.36,2,   21.26,2,    0.00,2,    1.39,2,-999.000,9,-999.000,9, -999.00,9,  2180.0,2, -999.00,9,    781.9,2,    20.00,   7.71063,2,    25.04, -999.00,9, -999.00,9, -999.00,-999.000,9,   45.11,2,   22.64,2,     -999.0,9, 20210405,     2243,  17.1392, -52.3340,     4.3974,2,     0.0429,1,     4.6984,1,     -999.0,9,     -999.0,9,     -999.0,9,     -999.0,9
325020210316,        A20,      57,          1,         11,         11,2,20210405,       2140,    17.1392,   -52.3340,       4333,  1819.4,   4.0113,  34.9916,2,  34.9911,2,    240.3,2,   240.1,2,   18.76,2,   20.12,2,    0.00,2,    1.32,2,-999.000,9,-999.000,9, -999.00,9,  2174.0,2, -999.00,9,   -999.0,9,  -999.00,   7.72675,6,    25.02, -999.00,9, -999.00,9, -999.00,-999.000,9, -999.00,9, -999.00,9,     -999.0,9, 20210405,     2238,  17.1392, -52.3339,     4.0047,2,     0.0424,1,     4.6984,1,     -999.0,9,     -999.0,9,     -999.0,9,     -999.0,9
325020210316,        A20,      57,          1,         10,         10,2,20210405,       2140,    17.1392,   -52.3340,       4333,  2021.6,   3.6903,  34.9816,2,  34.9817,2,    248.1,2,   248.0,2,   19.93,2,   19.61,2,    0.00,2,    1.28,2,   0.419,2,   0.199,2,    0.18,2,  2175.0,2,  2319.2,2,    737.4,2,    20.00,    7.7332,2,    25.02, -999.00,9, -999.00,9, -999.00,-999.000,9,   43.91,2,   21.79,2,      14.64,2, 20210405,     2234,  17.1392, -52.3340,     3.6894,2,     0.0427,1,     4.6975,1,     -999.0,9,     -999.0,9,     -999.0,9,     -999.0,9
325020210316,        A20,      57,          1,          9,          9,2,20210405,       2140,    17.1392,   -52.3340,       4333,  2275.0,   3.2325,  34.9600,2,  34.9597,2,    255.3,2,   255.4,2,   22.17,2,   19.09,2,    0.00,2,    1.25,2,   0.468,2,   0.226,2,    0.12,2,  2171.4,2, -999.00,9,   -999.0,9,  -999.00,   7.73923,6,    25.02, -999.00,9, -999.00,9, -999.00,-999.000,9, -999.00,9, -999.00,9,      14.14,2, 20210405,     2228,  17.1392, -52.3340,     3.2342,2,     0.0422,1,     4.6984,1,     -999.0,9,     -999.0,9,     -999.0,9,     -999.0,9
325020210316,        A20,      57,          1,          8,          8,2,20210405,       2140,    17.1392,   -52.3340,       4333,  2529.6,   3.0272,  34.9474,2,  34.9471,2,    255.6,2,   256.0,2,   24.62,2,   19.27,2,    0.00,2,    1.27,2,-999.000,9,-999.000,9, -999.00,9,  2174.8,2, -999.00,9,    732.2,2,    20.00,   7.73922,2,    25.07, -999.00,9, -999.00,9, -999.00,-999.000,9,   43.36,2,   20.90,2,     -999.0,9, 20210405,     2222,  17.1392, -52.3340,     3.0271,2,     0.0429,1,     4.6982,1,     -999.0,9,     -999.0,9,     -999.0,9,     -999.0,9
325020210316,        A20,      57,          1,          7,          7,2,20210405,       2140,    17.1392,   -52.3340,       4333,  2784.4,   2.8652,  34.9365,2,  34.9364,2,    255.7,2,   255.8,2,   27.45,2,   19.46,2,    0.00,2,    1.28,2,   0.376,2,   0.179,2,    0.14,2,  2174.6,2, -999.00,9,    734.3,2,    20.00,   7.73292,6,    25.01, -999.00,9, -999.00,9, -999.00,-999.000,9, -999.00,9, -999.00,9,      14.03,2, 20210405,     2217,  17.1392, -52.3340,     2.8646,2,     0.0425,1,     4.6983,1,     -999.0,9,     -999.0,9,     -999.0,9,     -999.0,9
325020210316,        A20,      57,          1,          6,          6,2,20210405,       2140,    17.1392,   -52.3340,       4333,  3038.9,   2.7225,  34.9259,2,  34.9254,2,    256.0,2,   255.8,2,   29.89,2,   19.68,2,    0.00,2,    1.30,2,   0.372,2,   0.176,2,    0.10,2,  2178.0,2, 2327.72,2,   -999.0,9,  -999.00,   7.73791,2,    24.99, -999.00,9, -999.00,9, -999.00,-999.000,9,   43.74,2,   20.74,2,      13.52,2, 20210405,     2211,  17.1392, -52.3340,     2.7229,2,     0.0428,1,     4.6984,1,     -999.0,9,     -999.0,9,     -999.0,9,     -999.0,9
325020210316,        A20,      57,          1,          5,          5,2,20210405,       2140,    17.1392,   -52.3340,       4333,  3345.6,   2.5845,  34.9143,2,  34.9142,2,    255.6,2,   255.5,2,   33.12,2,   20.01,2,    0.00,2,    1.32,2,-999.000,9,-999.000,9, -999.00,9,  2180.5,2, -999.00,9,    742.6,2,    20.00,   7.73467,2,    25.02, -999.00,9, -999.00,9, -999.00,-999.000,9,   44.72,2,   20.42,2,     -999.0,9, 20210405,     2204,  17.1392, -52.3340,     2.5837,2,     0.0422,1,     4.6984,1,     -999.0,9,     -999.0,9,     -999.0,9,     -999.0,9
325020210316,        A20,      57,          1,          4,          4,2,20210405,       2140,    17.1392,   -52.3340,       4333,  3651.7,   2.4348,  34.8999,2,  34.9004,2,    253.7,2,   253.9,2,   38.20,2,   20.58,2,    0.00,2,    1.37,2,   0.253,2,   0.124,2,    0.11,2,  2186.3,2, -999.00,9,    750.2,2,    20.00,   7.73062,2,    25.01, -999.00,9, -999.00,9, -999.00,-999.000,9, -999.00,9, -999.00,9,      14.93,2, 20210405,     2157,  17.1392, -52.3340,     2.4346,2,     0.0423,1,     4.6984,1,     -999.0,9,     -999.0,9,     -999.0,9,     -999.0,9
325020210316,        A20,      57,          1,          3,          3,2,20210405,       2140,    17.1392,   -52.3340,       4333,  3960.0,   2.3029,  34.8878,2,  34.8880,2,    255.0,2,   254.8,2,   40.25,2,   20.70,2,    0.00,2,    1.38,2,   0.307,2,   0.150,2,    0.09,2,  2186.5,2, -999.00,9,   -999.0,9,  -999.00,   7.72959,6,    25.06, -999.00,9, -999.00,9, -999.00,-999.000,9,   46.77,2,   21.93,2,      14.65,2, 20210405,     2151,  17.1392, -52.3340,     2.3036,2,     0.0422,1,     4.6986,1,     -999.0,9,     -999.0,9,     -999.0,9,     -999.0,9