BOTTLE,20230512CCHSIOCBG
EXPOCODE,SECT_ID,STNNBR,CASTNO,SAMPNO,BTLNBR,BTLNBR_FLAG_W,DATE,TIME,LATITUDE,LONGITUDE,DEPTH,CTDPRS,CTDTMP,CTDSAL,CTDSAL_FLAG_W,SALNTY,SALNTY_FLAG_W,CTDOXY,CTDOXY_FLAG_W,OXYGEN,OXYGEN_FLAG_W,SILCAT,SILCAT_FLAG_W,NITRAT,NITRAT_FLAG_W,NITRIT,NITRIT_FLAG_W,PHSPHT,PHSPHT_FLAG_W,CFC-11,CFC-11_FLAG_W,CFC-12,CFC-12_FLAG_W,SF6,SF6_FLAG_W,TCARBN,TCARBN_FLAG_W,ALKALI,ALKALI_FLAG_W,FCO2,FCO2_FLAG_W,FCO2TMP,PH_TOT,PH_TOT_FLAG_W,PH_TMP,DELC13,DELC13_FLAG_W,DELC14,DELC14_FLAG_W,C14ERR,POC,POC_FLAG_W,DOC,DOC_FLAG_W,TDN,TDN_FLAG_W,N2O,N2O_FLAG_W,BTL_DATE,BTL_TIME,BTL_LAT,BTL_LON,REFTMP,REFTMP_FLAG_W,CTDFLUOR,CTDFLUOR_FLAG_W,CTDXMISS,CTDXMISS_FLAG_W,D15N_NO2+NO3,D15N_NO2+NO3_FLAG_W,D18O_NO2+NO3,D18O_NO2+NO3_FLAG_W,HPLC,HPLC_FLAG_W,MICROGELS,MICROGELS_FLAG_W
,,,,,,,,,,,METERS,DBAR,ITS-90,PSS-78,,PSS-78,,UMOL/KG,,UMOL/KG,,UMOL/KG,,UMOL/KG,,UMOL/KG,,UMOL/KG,,PMOL/KG,,PMOL/KG,,FMOL/KG,,UMOL/KG,,UMOL/KG,,UATM,,DEG C,,,DEG C,/MILLE,,/MILLE,,/MILLE,UG/KG,,UMOL/KG,,UMOL/KG,,NMOL/KG,,,,,,ITS-90,,VOLTS,,VOLTS,,/MILLE,,/MILLE,,,,1E6 GELS/L,
325020210316,        A20,      11,          1,         36,         36,2,20210322,       2330,    42.0547,   -51.5828,       3475,     5.3,   5.8039,  33.0818,2,-999.0000,9,    318.4,2,   320.5,2,    4.69,2,    3.21,2,    0.13,2,    0.47,2,   4.037,2,   2.486,2,    2.71,3,  2081.9,2, 2232.23,2,    649.0,2,    20.00,   7.77486,2,    24.99, -999.00,9, -999.00,9, -999.00,-999.000,9,   67.56,2,    6.95,2,      13.08,2, 20210323,      117,  42.0547, -51.5828,     5.8205,2,     0.2038,1,     4.4490,1,     -999.0,1,     -999.0,1,     -999.0,9,     -999.0,9
325020210316,        A20,      11,          1,         35,         35,2,20210322,       2330,    42.0547,   -51.5828,       3475,    25.0,  10.9503,  34.7542,2,  35.0850,3,    271.8,3,   259.8,2,    3.61,2,    5.53,2,    0.12,2,    0.41,2,-999.000,9,-999.000,9, -999.00,9,  -999.0,9, -999.00,9,   -999.0,9,  -999.00,-999.00000,9,  -999.00, -999.00,9, -999.00,9, -999.00,-999.000,9,   56.49,2,    8.47,2,     -999.0,9, 20210323,      116,  42.0547, -51.5827,    10.9255,3,     0.1823,1,     4.5347,1,     -999.0,1,     -999.0,1,     -999.0,9,     -999.0,9
325020210316,        A20,      11,          1,         34,         34,2,20210322,       2330,    42.0547,   -51.5828,       3475,    50.3,  13.3184,  35.4932,2,  35.4979,2,    242.4,2,   244.2,2,    3.51,2,    6.19,2,    0.13,2,    0.42,2,-999.000,9,-999.000,9, -999.00,9,  2122.5,2, 2341.18,2,    503.8,2,    20.00,   7.88585,2,    25.00, -999.00,9, -999.00,9, -999.00,-999.000,9,   58.94,2,    8.96,2,     -999.0,9, 20210323,      115,  42.0547, -51.5828,    13.3231,2,     0.1097,1,     4.6222,1,     -999.0,1,     -999.0,1,     -999.0,9,     -999.0,9
325020210316,        A20,      11,          1,         33,         33,2,20210322,       2330,    42.0547,   -51.5828,       3475,    75.9,  13.4085,  35.5217,2,  35.5220,2,    240.3,2,   239.7,2,    3.51,2,    6.45,2,    0.13,2,    0.44,2,-999.000,9,-999.000,9, -999.00,9,  -999.0,9, -999.00,9,   -999.0,9,  -999.00,-999.00000,9,  -999.00, -999.00,9, -999.00,9, -999.00,-999.000,9, -999.00,9, -999.00,9,     -999.0,9, 20210323,      113,  42.0547, -51.5828,    13.4118,2,     0.0768,1,     4.6630,1,     -999.0,1,     -999.0,1,     -999.0,9,     -999.0,9
325020210316,        A20,      11,          1,         32,         32,2,20210322,       2330,    42.0547,   -51.5828,       3475,   101.1,  14.0463,  35.7126,2,  35.7035,2,    237.6,2,   236.1,2,    3.42,2,    6.59,2,    0.13,2,    0.43,2,-999.000,9,-999.000,9, -999.00,9,  2126.9,2, 2348.65,2,    496.6,6,    20.00,   7.89131,2,    25.00, -999.00,9, -999.00,9, -999.00,-999.000,9,   55.34,2,    9.06,2,     -999.0,9, 20210323,      112,  42.0547, -51.5827,    14.0372,2,     0.0703,1,     4.6695,1,     -999.0,1,     -999.0,1,     -999.0,9,     -999.0,9
325020210316,        A20,      11,          1,         31,         31,2,20210322,       2330,    42.0547,   -51.5828,       3475,   126.3,  14.0365,  35.7271,2,  35.7316,2,    238.0,2,   235.6,2,    3.32,2,    6.78,2,    0.12,2,    0.43,2,-999.000,9,-999.000,9, -999.00,9,  -999.0,9, -999.00,9,   -999.0,9,  -999.00,-999.00000,9,  -999.00, -999.00,9, -999.00,9, -999.00,-999.000,9, -999.00,9, -999.00,9,     -999.0,9, 20210323,      109,  42.0547, -51.5828,    14.0267,2,     0.0884,1,     4.6480,1,     -999.0,9,     -999.0,9,     -999.0,9,     -999.0,9
325020210316,        A20,      11,          1,         30,         30,2,20210322,       2330,    42.0547,   -51.5828,       3475,   151.5,  14.3243,  35.8123,2,  35.8129,2,    233.0,2,   234.0,2,    3.32,2,    6.95,2,    0.12,2,    0.43,2,-999.000,9,-999.000,9, -999.00,9,  -999.0,9, -999.00,9,   -999.0,9,  -999.00,-999.00000,9,  -999.00, -999.00,9, -999.00,9, -999.00,-999.000,9,   53.25,2,    9.25,2,     -999.0,9, 20210323,      108,  42.0547, -51.5828,    14.3236,2,     0.0724,1,     4.6708,1,     -999.0,9,     -999.0,9,     -999.0,9,     -999.0,9
325020210316,        A20,      11,          1,         29,         29,2,20210322,       2330,    42.0547,   -51.5828,       3475,   201.5,  14.3819,  35.8307,2,  35.8266,2,    233.5,2,   233.8,2,    3.32,2,    6.98,2,    0.12,2,    0.43,2,   2.273,2,   1.476,2,    1.67,3,  2130.7,2, 2355.43,6,    496.2,2,    20.00,   7.89551,2,    24.98, -999.00,9, -999.00,9, -999.00,-999.000,9,   57.11,2,   10.03,2,      10.38,2, 20210323,      106,  42.0547, -51.5827,    14.3826,2,     0.0753,1,     4.6704,1,     -999.0,9,     -999.0,9,     -999.0,9,     -999.0,9
325020210316,        A20,      11,          1,         28,         28,2,20210322,       2330,    42.0547,   -51.5828,       3475,   252.3,  14.3562,  35.8233,2,  35.8279,2,    231.9,2,   233.3,2,    3.32,2,    7.07,2,    0.12,2,    0.43,2,-999.000,9,-999.000,9, -999.00,9,  -999.0,9, -999.00,9,   -999.0,9,  -999.00,-999.00000,9,  -999.00, -999.00,9, -999.00,9, -999.00,-999.000,9,   53.65,2,   10.62,2,     -999.0,9, 20210323,      104,  42.0547, -51.5828,    14.3554,2,     0.0635,1,     4.6792,1,     -999.0,9,     -999.0,9,     -999.0,9,     -999.0,9
325020210316,        A20,      11,          1,         27,         27,2,20210322,       2330,    42.0547,   -51.5828,       3475,   303.1,  12.6998,  35.6309,2,  35.6328,2,    167.3,3,   145.1,2,    8.79,2,   18.54,2,    0.00,2,    1.11,2,-999.000,9,-999.000,9, -999.00,9,  -999.0,9, -999.00,9,   -999.0,9,  -999.00,-999.00000,9,  -999.00, -999.00,9, -999.00,9, -999.00,-999.000,9, -999.00,9, -999.00,9,     -999.0,9, 20210323,      101,  42.0547, -51.5828,    12.7137,2,     0.0407,1,     4.7035,1,     -999.0,9,     -999.0,9,     -999.0,9,     -999.0,9
325020210316,        A20,      11,          1,         26,         26,2,20210322,       2330,    42.0547,   -51.5828,       3475,   353.4,  11.0018,  35.4154,2,  35.4147,2,    143.1,3,   141.1,2,   11.52,2,   21.70,2,    0.00,2,    1.33,2,-999.000,5,-999.000,5, -999.00,5,  2191.1,6,  2330.8,2,    801.7,2,    20.00,   7.70483,2,    25.01, -999.00,9, -999.00,9, -999.00,-999.000,9,   46.43,2,   23.09,2,     -999.0,5, 20210323,      100,  42.0547, -51.5827,    10.9991,2,     0.0416,1,     4.7082,1,     -999.0,9,     -999.0,9,     -999.0,9,     -999.0,9
325020210316,        A20,      11,          1,         25,         25,2,20210322,       2330,    42.0547,   -51.5828,       3475,   403.5,   9.9996,  35.3007,2,  35.2988,2,    143.8,2,   142.6,2,   13.18,2,   23.12,2,    0.00,2,    1.44,2,-999.000,9,-999.000,9, -999.00,9,  -999.0,9, -999.00,9,   -999.0,9,  -999.00,-999.00000,9,  -999.00, -999.00,9, -999.00,9, -999.00,-999.000,9, -999.00,9, -999.00,9,     -999.0,9, 20210323,       59,  42.0547, -51.5828,    10.0004,2,     0.0411,1,     4.7091,1,     -999.0,9,     -999.0,9,     -999.0,9,     -999.0,9
325020210316,        A20,      11,          1,         24,         24,2,20210322,       2330,    42.0547,   -51.5828,       3475,   454.1,   8.9807,  35.2088,2,  35.2103,2,    149.9,2,   149.6,2,   14.26,2,   23.57,2,    0.00,2,    1.48,2,-999.000,9,-999.000,9, -999.00,9,  2198.5,2, 2321.18,2,    870.2,2,    20.00,   7.66868,6,    25.01, -999.00,9, -999.00,9, -999.00,-999.000,9,   42.99,2,   25.72,2,     -999.0,9, 20210323,       57,  42.0547, -51.5827,     8.9805,2,     0.0415,1,     4.7095,1,     -999.0,9,     -999.0,9,     -999.0,9,     -999.0,9
325020210316,        A20,      11,          1,         23,         23,2,20210322,       2330,    42.0547,   -51.5828,       3475,   504.8,   7.9793,  35.1566,2,  35.1573,2,    166.3,2,   166.7,2,   14.06,2,   22.67,2,    0.00,2,    1.46,2,-999.000,9,-999.000,9, -999.00,9,  -999.0,9, -999.00,9,   -999.0,9,  -999.00,-999.00000,9,  -999.00, -999.00,9, -999.00,9, -999.00,-999.000,9, -999.00,9, -999.00,9,     -999.0,9, 20210323,       54,  42.0547, -51.5827,     7.9802,2,     0.0410,1,     4.7116,1,     -999.0,9,     -999.0,9,     -999.0,9,     -999.0,9
325020210316,        A20,      11,          1,         22,         22,2,20210322,       2330,    42.0547,   -51.5828,       3475,   605.0,   6.8357,  35.1102,2,  35.1104,2,    191.3,2,   192.6,2,   13.57,2,   21.07,2,    0.00,2,    1.37,2,   1.836,2,   1.052,2,    1.09,3,  2189.8,2, 2317.02,2,    846.2,2,    20.00,   7.67888,2,    25.01, -999.00,9, -999.00,9, -999.00,-999.000,9,   43.84,2,   22.67,2,      18.10,2, 20210323,       51,  42.0547, -51.5828,     6.8371,2,     0.0412,1,     4.7130,1,     -999.0,9,     -999.0,9,     -999.0,9,     -999.0,9
325020210316,        A20,      11,          1,         21,         21,2,20210322,       2330,    42.0547,   -51.5828,       3475,   706.0,   5.5851,  35.0282,2,  35.0297,2,    224.7,2,   224.9,2,   12.40,2,   19.13,2,    0.00,2,    1.26,2,-999.000,9,-999.000,9, -999.00,9,  -999.0,9, -999.00,9,   -999.0,9,  -999.00,-999.00000,9,  -999.00, -999.00,9, -999.00,9, -999.00,-999.000,9, -999.00,9, -999.00,9,     -999.0,9, 20210323,       48,  42.0547, -51.5828,     5.5993,2,     0.0414,1,     4.7113,1,     -999.0,9,     -999.0,9,     -999.0,9,     -999.0,9
325020210316,        A20,      11,          1,         20,         20,2,20210322,       2330,    42.0547,   -51.5828,       3475,   808.0,   5.0975,  35.0092,2,  35.0087,2,    241.0,2,   240.2,2,   11.72,2,   18.34,2,    0.00,2,    1.20,2,   2.683,2,   1.553,2,    1.13,3,  2181.0,2, 2309.17,2,    816.2,2,    20.00,   7.69269,2,    25.01, -999.00,9, -999.00,9, -999.00,-999.000,9,   45.02,2,   19.06,2,      15.32,2, 20210323,       45,  42.0547, -51.5828,     5.0925,2,     0.0422,1,     4.7106,1,     -999.0,9,     -999.0,9,     -999.0,9,     -999.0,9
325020210316,        A20,      11,          1,         19,         19,2,20210322,       2330,    42.0547,   -51.5828,       3475,   908.7,   4.7879,  34.9971,2,  34.9972,2,    255.4,3,   249.6,2,   11.52,2,   17.89,2,    0.00,2,    1.18,2,-999.000,9,-999.000,9, -999.00,9,  -999.0,9, -999.00,9,   -999.0,9,  -999.00,-999.00000,9,  -999.00, -999.00,9, -999.00,9, -999.00,-999.000,9, -999.00,9, -999.00,9,     -999.0,9, 20210323,       42,  42.0547, -51.5828,     4.7882,2,     0.0420,1,     4.7106,1,     -999.0,9,     -999.0,9,     -999.0,9,     -999.0,9
325020210316,        A20,      11,          1,         18,         18,2,20210322,       2330,    42.0547,   -51.5828,       3475,  1010.5,   4.7125,  35.0154,2,  35.0152,2,    251.6,2,   250.3,2,   11.72,2,   17.91,2,    0.00,2,    1.17,2,-999.000,9,-999.000,9, -999.00,9,  -999.0,9, -999.00,9,   -999.0,9,  -999.00,-999.00000,9,  -999.00, -999.00,9, -999.00,9, -999.00,-999.000,9,   45.03,2,   19.62,2,     -999.0,9, 20210323,       39,  42.0547, -51.5828,     4.7127,2,     0.0410,1,     4.7131,1,     -999.0,9,     -999.0,9,     -999.0,9,     -999.0,9
325020210316,        A20,      11,          1,         17,         17,2,20210322,       2330,    42.0547,   -51.5828,       3475,  1110.5,   4.4756,  34.9923,2,  34.9929,2,    256.3,2,   256.4,2,   11.62,2,   17.69,2,    0.00,2,    1.16,2,-999.000,9,-999.000,9, -999.00,9,  2174.4,2, 2307.81,2,    792.1,2,    20.00,   7.70408,2,    25.01, -999.00,9, -999.00,9, -999.00,-999.000,9, -999.00,9, -999.00,9,     -999.0,9, 20210323,       36,  42.0547, -51.5828,     4.4790,2,     0.0428,1,     4.7124,1,     -999.0,9,     -999.0,9,     -999.0,9,     -999.0,9
325020210316,        A20,      11,          1,         16,         16,2,20210322,       2330,    42.0547,   -51.5828,       3475,  1212.4,   4.2674,  34.9759,2,  34.9778,2,    261.4,2,   260.9,2,   11.52,2,   17.52,2,    0.00,2,    1.14,2,-999.000,9,-999.000,9, -999.00,9,  -999.0,9, -999.00,9,   -999.0,9,  -999.00,-999.00000,9,  -999.00, -999.00,9, -999.00,9, -999.00,-999.000,9,   46.86,2,   18.77,2,     -999.0,9, 20210323,       32,  42.0547, -51.5827,     4.2713,2,     0.0405,1,     4.7120,1,     -999.0,9,     -999.0,9,     -999.0,9,     -999.0,9
325020210316,        A20,      11,          1,         15,         15,2,20210322,       2330,    42.0547,   -51.5828,       3475,  1314.2,   3.9371,  34.9339,2,  34.9321,2,    272.3,2,   272.8,2,   10.94,2,   16.99,2,    0.00,2,    1.11,2,   2.739,2,   1.949,2,    2.10,3,  2170.0,2, 2303.65,2,    798.0,2,    20.00,   7.70159,2,    25.01, -999.00,9, -999.00,9, -999.00,-999.000,9, -999.00,9, -999.00,9,      14.13,2, 20210323,       29,  42.0547, -51.5828,     3.9359,2,     0.0414,1,     4.7099,1,     -999.0,9,     -999.0,9,     -999.0,9,     -999.0,9
325020210316,        A20,      11,          1,         14,         14,2,20210322,       2330,    42.0547,   -51.5828,       3475,  1416.3,   3.7698,  34.9128,2,  34.9128,2,    278.3,2,   277.8,2,   10.74,2,   16.72,2,    0.00,2,    1.09,2,-999.000,9,-999.000,9, -999.00,9,  -999.0,9, -999.00,9,   -999.0,9,  -999.00,-999.00000,9,  -999.00, -999.00,9, -999.00,9, -999.00,-999.000,9,   46.81,2,   18.85,2,     -999.0,9, 20210323,       26,  42.0547, -51.5828,     3.7693,2,     0.0422,1,     4.7092,1,     -999.0,9,     -999.0,9,     -999.0,9,     -999.0,9
325020210316,        A20,      11,          1,         13,         13,2,20210322,       2330,    42.0547,   -51.5828,       3475,  1517.1,   3.7371,  34.9156,2,  34.9156,2,    277.7,2,   277.3,2,   10.94,2,   16.71,2,    0.00,2,    1.09,2,-999.000,9,-999.000,9, -999.00,9,  -999.0,9, -999.00,9,   -999.0,9,  -999.00,-999.00000,9,  -999.00, -999.00,9, -999.00,9, -999.00,-999.000,9, -999.00,9, -999.00,9,     -999.0,9, 20210323,       22,  42.0547, -51.5828,     3.7371,2,     0.0415,1,     4.7095,1,     -999.0,9,     -999.0,9,     -999.0,9,     -999.0,9
325020210316,        A20,      11,          1,         12,         12,2,20210322,       2330,    42.0547,   -51.5828,       3475,  1619.4,   3.7221,  34.9224,2,  34.9221,2,    275.9,2,   276.3,2,   11.13,2,   16.72,2,    0.00,2,    1.10,2,-999.000,9,-999.000,9, -999.00,9,  2170.2,2, 2302.66,2,    790.9,2,    20.00,   7.70535,2,    25.00, -999.00,9, -999.00,9, -999.00,-999.000,9,   47.11,2,   18.13,2,     -999.0,9, 20210323,       19,  42.0547, -51.5828,     3.7223,2,     0.0411,1,     4.7106,1,     -999.0,9,     -999.0,9,     -999.0,9,     -999.0,9
325020210316,        A20,      11,          1,         11,         11,2,20210322,       2330,    42.0547,   -51.5828,       3475,  1720.2,   3.6888,  34.9258,2,  34.9260,2,    275.9,2,   274.9,2,   11.52,2,   16.76,2,    0.00,2,    1.10,2,   3.184,2,   1.812,2,    0.84,3,  -999.0,9, -999.00,9,   -999.0,9,  -999.00,-999.00000,9,  -999.00, -999.00,9, -999.00,9, -999.00,-999.000,9, -999.00,9, -999.00,9,      13.93,2, 20210323,       16,  42.0547, -51.5828,     3.6889,2,     0.0416,1,     4.7104,1,     -999.0,9,     -999.0,9,     -999.0,9,     -999.0,9
325020210316,        A20,      11,          1,         10,         10,2,20210322,       2330,    42.0547,   -51.5828,       3475,  1822.1,   3.6801,  34.9328,2,  34.9323,2,    274.0,2,   273.3,2,   12.01,2,   16.89,2,    0.00,2,    1.11,2,-999.000,9,-999.000,9, -999.00,9,  -999.0,9, -999.00,9,   -999.0,9,  -999.00,-999.00000,9,  -999.00, -999.00,9, -999.00,9, -999.00,-999.000,9,   45.64,2,   18.97,2,     -999.0,9, 20210323,       12,  42.0547, -51.5827,     3.6839,2,     0.0422,1,     4.7100,1,     -999.0,9,     -999.0,9,     -999.0,9,     -999.0,9
325020210316,        A20,      11,          1,          9,          9,2,20210322,       2330,    42.0547,   -51.5828,       3475,  2025.9,   3.6282,  34.9511,2,  34.9516,2,    268.1,2,   266.6,2,   13.77,2,   17.31,2,    0.00,2,    1.15,2,-999.000,9,-999.000,9, -999.00,9,  -999.0,9, -999.00,9,   -999.0,9,  -999.00,-999.00000,9,  -999.00, -999.00,9, -999.00,9, -999.00,-999.000,9,   45.14,2,   18.36,2,     -999.0,9, 20210323,        7,  42.0547, -51.5828,     3.6252,2,     0.0426,1,     4.7131,1,     -999.0,9,     -999.0,9,     -999.0,9,     -999.0,9
325020210316,        A20,      11,          1,          8,          8,2,20210322,       2330,    42.0547,   -51.5828,       3475,  2229.3,   3.3989,  34.9399,2,  34.9398,2,    270.0,2,   269.7,2,   14.36,2,   17.10,2,    0.00,2,    1.14,2,   2.311,2,   1.241,2,    0.51,3,  2166.2,2, 2308.82,2,    761.3,2,    20.00,    7.7213,2,    25.00, -999.00,9, -999.00,9, -999.00,-999.000,9,   45.26,2,   18.46,2,      13.70,2, 20210323,        2,  42.0547, -51.5827,     3.3984,2,     0.0418,1,     4.7110,1,     -999.0,9,     -999.0,9,     -999.0,9,     -999.0,9
325020210316,        A20,      11,          1,          7,          7,2,20210322,       2330,    42.0547,   -51.5828,       3475,  2433.6,   3.2147,  34.9347,2,  34.9349,2,    270.5,2,   270.3,2,   15.14,2,   17.08,2,    0.00,2,    1.13,2,-999.000,9,-999.000,9, -999.00,9,  -999.0,9, -999.00,9,   -999.0,9,  -999.00,-999.00000,9,  -999.00, -999.00,9, -999.00,9, -999.00,-999.000,9,   47.29,2,   18.64,2,     -999.0,9, 20210322,     2357,  42.0547, -51.5827,     3.2146,2,     0.0426,1,     4.7134,1,     -999.0,9,     -999.0,9,     -999.0,9,     -999.0,9
325020210316,        A20,      11,          1,          6,          6,2,20210322,       2330,    42.0547,   -51.5828,       3475,  2637.0,   2.9974,  34.9285,2,  34.9286,2,    272.0,2,   272.0,2,   15.82,2,   16.96,2,    0.00,2,    1.12,2,-999.000,9,-999.000,9, -999.00,9,  -999.0,9, -999.00,9,   -999.0,9,  -999.00,-999.00000,9,  -999.00, -999.00,9, -999.00,9, -999.00,-999.000,9,   45.66,2,   17.77,2,     -999.0,9, 20210322,     2352,  42.0547, -51.5827,     2.9979,2,     0.0425,1,     4.7132,1,     -999.0,9,     -999.0,9,     -999.0,9,     -999.0,9
325020210316,        A20,      11,          1,          5,          5,2,20210322,       2330,    42.0547,   -51.5828,       3475,  2840.5,   2.7958,  34.9221,2,  34.9223,2,    273.8,2,   274.1,2,   16.60,2,   16.80,2,    0.00,2,    1.10,2,-999.000,9,-999.000,9, -999.00,9,  -999.0,9, -999.00,9,   -999.0,9,  -999.00,-999.00000,9,  -999.00, -999.00,9, -999.00,9, -999.00,-999.000,9,   46.07,2,   17.85,2,     -999.0,9, 20210322,     2347,  42.0547, -51.5828,     2.7954,2,     0.0428,1,     4.7131,1,     -999.0,9,     -999.0,9,     -999.0,9,     -999.0,9
325020210316,        A20,      11,          1,          4,          4,2,20210322,       2330,    42.0547,   -51.5828,       3475,  3044.6,   2.5845,  34.9142,2,  34.9146,2,    275.8,2,   275.4,2,   17.58,2,   16.63,2,    0.00,2,    1.10,2,   2.273,2,   1.263,2,    0.59,3,  2168.6,2, 2310.28,2,    761.9,2,    20.00,   7.72045,6,    25.00, -999.00,9, -999.00,9, -999.00,-999.000,9,   46.78,2,   18.24,2,      13.86,2, 20210322,     2342,  42.0547, -51.5827,     2.5856,2,     0.0419,1,     4.7118,1,     -999.0,9,     -999.0,9,     -999.0,9,     -999.0,9
325020210316,        A20,      11,          1,          3,          3,2,20210322,       2330,    42.0547,   -51.5828,       3475,  3350.6,   2.3143,  34.9030,2,  34.9030,2,    277.0,2,   277.4,2,   19.63,2,   16.55,2,    0.00,2,    1.10,2,-999.000,9,-999.000,9, -999.00,9,  -999.0,9, -999.00,9,   -999.0,9,  -999.00,-999.00000,9,  -999.00, -999.00,9, -999.00,9, -999.00,-999.000,9,   45.94,2,   18.11,2,     -999.0,9, 20210322,     2336,  42.0547, -51.5828,     2.3142,2,     0.0423,1,     4.7072,1,     -999.0,9,     -999.0,9,     -999.0,9,     -999.0,9