BOTTLE,20230512CCHSIOCBG
EXPOCODE,SECT_ID,STNNBR,CASTNO,SAMPNO,BTLNBR,BTLNBR_FLAG_W,DATE,TIME,LATITUDE,LONGITUDE,DEPTH,CTDPRS,CTDTMP,CTDSAL,CTDSAL_FLAG_W,SALNTY,SALNTY_FLAG_W,CTDOXY,CTDOXY_FLAG_W,OXYGEN,OXYGEN_FLAG_W,SILCAT,SILCAT_FLAG_W,NITRAT,NITRAT_FLAG_W,NITRIT,NITRIT_FLAG_W,PHSPHT,PHSPHT_FLAG_W,CFC-11,CFC-11_FLAG_W,CFC-12,CFC-12_FLAG_W,SF6,SF6_FLAG_W,TCARBN,TCARBN_FLAG_W,ALKALI,ALKALI_FLAG_W,FCO2,FCO2_FLAG_W,FCO2TMP,PH_TOT,PH_TOT_FLAG_W,PH_TMP,DELC13,DELC13_FLAG_W,DELC14,DELC14_FLAG_W,C14ERR,POC,POC_FLAG_W,DOC,DOC_FLAG_W,TDN,TDN_FLAG_W,N2O,N2O_FLAG_W,BTL_DATE,BTL_TIME,BTL_LAT,BTL_LON,REFTMP,REFTMP_FLAG_W,CTDFLUOR,CTDFLUOR_FLAG_W,CTDXMISS,CTDXMISS_FLAG_W,D15N_NO2+NO3,D15N_NO2+NO3_FLAG_W,D18O_NO2+NO3,D18O_NO2+NO3_FLAG_W,HPLC,HPLC_FLAG_W,MICROGELS,MICROGELS_FLAG_W
,,,,,,,,,,,METERS,DBAR,ITS-90,PSS-78,,PSS-78,,UMOL/KG,,UMOL/KG,,UMOL/KG,,UMOL/KG,,UMOL/KG,,UMOL/KG,,PMOL/KG,,PMOL/KG,,FMOL/KG,,UMOL/KG,,UMOL/KG,,UATM,,DEG C,,,DEG C,/MILLE,,/MILLE,,/MILLE,UG/KG,,UMOL/KG,,UMOL/KG,,NMOL/KG,,,,,,ITS-90,,VOLTS,,VOLTS,,/MILLE,,/MILLE,,,,1E6 GELS/L,
325020210316,        A20,      51,          1,         36,         36,2,20210404,       0409,    20.6389,   -52.3341,       4794,     5.5,  25.0302,  37.2438,2,  37.2449,2,    208.1,2,   206.5,2,    0.58,2,    0.00,2,    0.00,2,    0.00,2,-999.000,9,-999.000,9, -999.00,9,  2084.1,6,  2435.3,2,   -999.0,9,  -999.00,   8.08885,2,    25.01, -999.00,9, -999.00,9, -999.00,-999.000,9, -999.00,9, -999.00,9,     -999.0,9, 20210404,      618,  20.6389, -52.3341,    25.0279,2,     0.0439,1,     4.6490,1,     -999.0,1,     -999.0,1,     -999.0,9,     -999.0,9
325020210316,        A20,      51,          1,         35,         35,2,20210404,       0409,    20.6389,   -52.3341,       4794,    25.2,  25.0363,  37.2437,2,  37.2451,2,    207.9,2,   206.4,2,    0.58,2,    0.00,2,    0.00,2,    0.00,2,   1.548,2,   1.006,2,    1.73,2,  -999.0,9, -999.00,9,   -999.0,9,  -999.00,-999.00000,9,  -999.00, -999.00,9, -999.00,9, -999.00,-999.000,9, -999.00,9, -999.00,9,       6.20,2, 20210404,      616,  20.6389, -52.3341,    25.0345,2,     0.0442,1,     4.6491,1,     -999.0,1,     -999.0,1,     -999.0,9,     -999.0,9
325020210316,        A20,      51,          1,         34,         34,2,20210404,       0409,    20.6389,   -52.3341,       4794,    49.7,  25.0377,  37.2500,2,  37.2487,2,    207.9,2,   206.5,2,    0.58,2,    0.00,2,    0.00,2,    0.00,2,-999.000,9,-999.000,9, -999.00,9,  -999.0,9, -999.00,9,   -999.0,9,  -999.00,-999.00000,9,  -999.00, -999.00,9, -999.00,9, -999.00,-999.000,9, -999.00,9, -999.00,9,     -999.0,9, 20210404,      614,  20.6389, -52.3341,    25.0361,2,     0.0460,1,     4.6481,1,     -999.0,1,     -999.0,1,     -999.0,9,     -999.0,9
325020210316,        A20,      51,          1,         33,         33,2,20210404,       0409,    20.6389,   -52.3341,       4794,    75.5,  25.0470,  37.3140,2,  37.3161,2,    208.2,2,   206.6,2,    0.68,2,    0.00,2,    0.00,2,    0.00,2,-999.000,9,-999.000,9, -999.00,9,  2086.0,2, 2438.44,2,   -999.0,9,  -999.00,   8.08994,6,    25.01, -999.00,9, -999.00,9, -999.00,-999.000,9, -999.00,9, -999.00,9,     -999.0,9, 20210404,      612,  20.6389, -52.3341,    25.0454,2,     0.0465,1,     4.6452,1,     -999.0,1,     -999.0,1,     -999.0,9,     -999.0,9
325020210316,        A20,      51,          1,         32,         32,2,20210404,       0409,    20.6389,   -52.3341,       4794,   101.3,  25.0483,  37.4262,2,  37.4301,2,    207.4,2,   206.6,2,    0.68,2,    0.00,2,    0.00,2,    0.00,2,-999.000,9,-999.000,9, -999.00,9,  -999.0,9, -999.00,9,   -999.0,9,  -999.00,-999.00000,9,  -999.00, -999.00,9, -999.00,9, -999.00,-999.000,9, -999.00,9, -999.00,9,     -999.0,9, 20210404,      611,  20.6389, -52.3341,    25.0467,2,     0.0507,1,     4.6525,1,     -999.0,1,     -999.0,1,     -999.0,9,     -999.0,9
325020210316,        A20,      51,          1,         31,         31,2,20210404,       0409,    20.6389,   -52.3341,       4794,   150.6,  23.2117,  37.2830,2,  37.2793,2,    189.7,2,   191.3,2,    0.58,2,    0.12,2,    0.08,2,    0.00,2,-999.000,9,-999.000,9, -999.00,9,  2132.3,2, 2435.75,2,   -999.0,9,  -999.00,   8.01628,2,    25.01, -999.00,9, -999.00,9, -999.00,-999.000,9, -999.00,9, -999.00,9,     -999.0,9, 20210404,      609,  20.6389, -52.3341,    23.2087,2,     0.0819,1,     4.6599,1,     -999.0,1,     -999.0,1,     -999.0,9,     -999.0,9
325020210316,        A20,      51,          1,         30,         30,2,20210404,       0409,    20.6389,   -52.3341,       4794,   201.3,  20.5928,  36.9337,2,  36.9270,2,    172.0,3,   175.2,2,    0.97,2,    2.77,2,    0.00,2,    0.11,2,-999.000,9,-999.000,9, -999.00,9,  -999.0,9, -999.00,9,   -999.0,9,  -999.00,-999.00000,9,  -999.00, -999.00,9, -999.00,9, -999.00,-999.000,9, -999.00,9, -999.00,9,     -999.0,9, 20210404,      606,  20.6389, -52.3341,    20.5943,2,     0.0472,1,     4.6802,1,     -999.0,1,     -999.0,1,     -999.0,9,     -999.0,9
325020210316,        A20,      51,          1,         29,         29,2,20210404,       0409,    20.6389,   -52.3341,       4794,   252.3,  18.9527,  36.6701,2,  36.6594,2,    169.1,3,   172.4,2,    1.56,2,    5.57,2,    0.00,2,    0.26,2,   2.075,2,   1.294,2,    1.60,2,  2150.8,2, 2413.27,2,   -999.0,9,  -999.00,   7.92069,2,    24.99, -999.00,9, -999.00,9, -999.00,-999.000,9, -999.00,9, -999.00,9,      10.53,2, 20210404,      604,  20.6389, -52.3341,    18.9580,2,     0.0397,1,     4.6874,1,     -999.0,1,     -999.0,1,     -999.0,9,     -999.0,9
325020210316,        A20,      51,          1,         28,         28,2,20210404,       0409,    20.6389,   -52.3341,       4794,   301.8,  17.5102,  36.4300,2,  36.4186,2,    173.7,2,   173.0,2,    2.24,2,    7.73,2,    0.00,2,    0.40,2,-999.000,9,-999.000,9, -999.00,9,  -999.0,9, -999.00,9,   -999.0,9,  -999.00,-999.00000,9,  -999.00, -999.00,9, -999.00,9, -999.00,-999.000,9, -999.00,9, -999.00,9,     -999.0,9, 20210404,      602,  20.6389, -52.3341,    17.5227,2,     0.0403,1,     4.6896,1,     -999.0,1,     -999.0,1,     -999.0,9,     -999.0,9
325020210316,        A20,      51,          1,         27,         27,2,20210404,       0409,    20.6389,   -52.3341,       4794,   352.0,  16.2071,  36.2178,2,  36.2117,2,    164.3,3,   167.2,2,    3.12,2,   10.20,2,    0.00,2,    0.56,2,-999.000,9,-999.000,9, -999.00,9,  2159.9,2, 2367.58,2,   -999.0,9,  -999.00,   7.85886,2,    24.98, -999.00,9, -999.00,9, -999.00,-999.000,9, -999.00,9, -999.00,9,     -999.0,9, 20210404,      600,  20.6389, -52.3341,    16.2211,2,     0.0402,1,     4.6904,1,     -999.0,1,     -999.0,1,     -999.0,9,     -999.0,9
325020210316,        A20,      51,          1,         26,         26,2,20210404,       0409,    20.6389,   -52.3341,       4794,   402.5,  15.2072,  36.0635,2,  36.0620,2,    166.8,2,   167.7,2,    3.61,2,   11.64,2,    0.00,2,    0.64,2,   2.216,2,   1.389,2,    1.43,2,  -999.0,9, -999.00,9,   -999.0,9,  -999.00,-999.00000,9,  -999.00, -999.00,9, -999.00,9, -999.00,-999.000,9, -999.00,9, -999.00,9,      14.74,2, 20210404,      558,  20.6389, -52.3341,    15.2050,2,     0.0404,1,     4.6917,1,     -999.0,1,     -999.0,1,     -999.0,9,     -999.0,9
325020210316,        A20,      51,          1,         25,         25,2,20210404,       0409,    20.6389,   -52.3341,       4794,   452.0,  14.2407,  35.9239,2,  35.9293,2,    167.4,2,   166.8,2,    4.49,2,   13.05,2,    0.00,2,    0.73,2,-999.000,9,-999.000,9, -999.00,9,  2164.2,2, 2353.76,2,   -999.0,9,  -999.00,   7.81704,2,    25.02, -999.00,9, -999.00,9, -999.00,-999.000,9, -999.00,9, -999.00,9,     -999.0,9, 20210404,      555,  20.6389, -52.3341,    14.2276,2,     0.0407,1,     4.6929,1,     -999.0,1,     -999.0,1,     -999.0,9,     -999.0,9
325020210316,        A20,      51,          1,         24,         24,2,20210404,       0409,    20.6389,   -52.3341,       4794,   503.4,  13.4291,  35.8144,2,  35.8115,2,    164.3,2,   164.6,2,    5.37,2,   14.80,2,    0.00,2,    0.84,2,   2.293,2,   1.334,2,    1.07,2,  -999.0,9, -999.00,9,   -999.0,9,  -999.00,-999.00000,9,  -999.00, -999.00,9, -999.00,9, -999.00,-999.000,9, -999.00,9, -999.00,9,      15.42,2, 20210404,      554,  20.6389, -52.3341,    13.4379,2,     0.0412,1,     4.6941,1,     -999.0,1,     -999.0,1,     -999.0,9,     -999.0,9
325020210316,        A20,      51,          1,         23,         23,2,20210404,       0409,    20.6389,   -52.3341,       4794,   604.0,  11.6379,  35.5600,2,  35.5598,2,    146.0,2,   145.3,2,    8.98,2,   19.97,2,    0.00,2,    1.17,2,   1.840,2,   1.020,2,    0.66,2,  2185.4,2, 2332.68,2,   -999.0,9,  -999.00,   7.72636,2,    25.01, -999.00,9, -999.00,9, -999.00,-999.000,9, -999.00,9, -999.00,9,      18.59,2, 20210404,      551,  20.6389, -52.3341,    11.6859,2,     0.0415,1,     4.6971,1,     -999.0,1,     -999.0,1,     -999.0,9,     -999.0,9
325020210316,        A20,      51,          1,         22,         22,2,20210404,       0409,    20.6389,   -52.3341,       4794,   705.4,   9.0979,  35.1728,2,  35.1664,2,    129.6,2,   129.1,2,   15.62,2,   27.00,2,    0.00,2,    1.65,2,   1.034,2,   0.537,2,    0.28,2,  -999.0,9, -999.00,9,   -999.0,9,  -999.00,-999.00000,9,  -999.00, -999.00,9, -999.00,9, -999.00,-999.000,9, -999.00,9, -999.00,9,      22.87,2, 20210404,      547,  20.6389, -52.3341,     9.1296,2,     0.0422,1,     4.6983,1,     -999.0,1,     -999.0,1,     -999.0,9,     -999.0,9
325020210316,        A20,      51,          1,         21,         21,2,20210404,       0409,    20.6389,   -52.3341,       4794,   806.9,   7.2364,  34.9248,2,  34.9248,2,    131.2,2,   130.8,2,   20.70,2,   30.26,2,    0.00,2,    1.90,2,-999.000,9,-999.000,9, -999.00,9,  2211.1,2, 2310.61,2,   -999.0,9,  -999.00,    7.5951,2,    25.02, -999.00,9, -999.00,9, -999.00,-999.000,9, -999.00,9, -999.00,9,     -999.0,9, 20210404,      545,  20.6389, -52.3341,     7.2350,2,     0.0430,1,     4.6974,1,     -999.0,1,     -999.0,1,     -999.0,9,     -999.0,9
325020210316,        A20,      51,          1,         20,         20,2,20210404,       0409,    20.6389,   -52.3341,       4794,   908.1,   6.4250,  34.8742,2,  34.8717,2,    140.1,2,   139.6,2,   22.65,2,   30.45,2,    0.00,2,    1.95,2,   0.388,2,   0.192,2,    0.16,2,  -999.0,9, -999.00,9,   -999.0,9,  -999.00,-999.00000,9,  -999.00, -999.00,9, -999.00,9, -999.00,-999.000,9, -999.00,9, -999.00,9,      23.35,2, 20210404,      542,  20.6389, -52.3341,     6.4257,2,     0.0430,1,     4.6975,1,     -999.0,1,     -999.0,1,     -999.0,9,     -999.0,9
325020210316,        A20,      51,          1,         19,         19,2,20210404,       0409,    20.6389,   -52.3341,       4794,  1008.4,   5.9117,  34.8948,2,  34.8945,2,    156.0,2,   155.8,2,   22.46,2,   28.79,2,    0.00,2,    1.85,2,   0.361,2,   0.183,2,    0.23,2,  2205.8,2, 2243.12,4,   -999.0,9,  -999.00,   7.61446,2,    25.02, -999.00,9, -999.00,9, -999.00,-999.000,9, -999.00,9, -999.00,9,      21.77,2, 20210404,      539,  20.6389, -52.3341,     5.9110,2,     0.0435,1,     4.6984,1,     -999.0,1,     -999.0,1,     -999.0,9,     -999.0,9
325020210316,        A20,      51,          1,         18,         18,2,20210404,       0409,    20.6389,   -52.3341,       4794,  1110.8,   5.6622,  34.9556,2,  34.9591,2,    178.5,2,   179.9,2,   19.82,2,   25.81,2,    0.00,2,    1.65,2,-999.000,9,-999.000,9, -999.00,9,  -999.0,9, -999.00,9,   -999.0,9,  -999.00,-999.00000,9,  -999.00, -999.00,9, -999.00,9, -999.00,-999.000,9, -999.00,9, -999.00,9,     -999.0,9, 20210404,      536,  20.6389, -52.3341,     5.6581,2,     0.0430,1,     4.6985,1,     -999.0,1,     -999.0,1,     -999.0,9,     -999.0,9
325020210316,        A20,      51,          1,         17,         17,2,20210404,       0409,    20.6389,   -52.3341,       4794,  1209.9,   5.3362,  34.9957,2,  34.9961,2,    200.6,2,   200.2,2,   18.06,2,   23.27,2,    0.00,2,    1.50,2,   0.813,2,   0.435,2,    0.26,2,  -999.0,9, -999.00,9,   -999.0,9,  -999.00,-999.00000,9,  -999.00, -999.00,9, -999.00,9, -999.00,-999.000,9, -999.00,9, -999.00,9,      17.70,2, 20210404,      533,  20.6389, -52.3341,     5.3364,2,     0.0429,1,     4.6990,1,     -999.0,1,     -999.0,1,     -999.0,9,     -999.0,9
325020210316,        A20,      51,          1,         16,         16,2,20210404,       0409,    20.6389,   -52.3341,       4794,  1311.8,   5.0545,  35.0163,2,  35.0157,2,    219.7,2,   218.7,2,   16.01,2,   21.45,2,    0.00,2,    1.38,2,-999.000,9,-999.000,9, -999.00,9,  2178.1,2, 2314.14,2,   -999.0,9,  -999.00,   7.69824,2,    25.01, -999.00,9, -999.00,9, -999.00,-999.000,9, -999.00,9, -999.00,9,     -999.0,9, 20210404,      530,  20.6389, -52.3341,     5.0507,2,     0.0418,1,     4.6997,1,     -999.0,1,     -999.0,1,     -999.0,9,     -999.0,9
325020210316,        A20,      51,          1,         15,         15,2,20210404,       0409,    20.6389,   -52.3341,       4794,  1412.7,   4.8321,  35.0222,2,  35.0226,2,    232.4,2,   231.8,2,   14.84,2,   19.98,2,    0.00,2,    1.29,2,   1.362,2,   0.694,2,    0.39,2,  -999.0,9, -999.00,9,   -999.0,9,  -999.00,-999.00000,9,  -999.00, -999.00,9, -999.00,9, -999.00,-999.000,9, -999.00,9, -999.00,9,      15.93,2, 20210404,      527,  20.6389, -52.3341,     4.8330,2,     0.0423,1,     4.7005,1,     -999.0,1,     -999.0,1,     -999.0,9,     -999.0,9
325020210316,        A20,      51,          1,         14,         14,2,20210404,       0409,    20.6389,   -52.3341,       4794,  1514.4,   4.5382,  35.0153,2,  35.0152,2,    242.8,2,   242.5,2,   14.25,2,   19.32,2,    0.00,2,    1.23,2,-999.000,9,-999.000,9, -999.00,9,  -999.0,9, -999.00,9,   -999.0,9,  -999.00,-999.00000,9,  -999.00, -999.00,9, -999.00,9, -999.00,-999.000,9, -999.00,9, -999.00,9,     -999.0,9, 20210404,      524,  20.6389, -52.3341,     4.5355,2,     0.0414,1,     4.7006,1,     -999.0,1,     -999.0,1,     -999.0,9,     -999.0,9
325020210316,        A20,      51,          1,         13,         13,2,20210404,       0409,    20.6389,   -52.3341,       4794,  1614.1,   4.2492,  35.0055,2,  35.0057,2,    249.8,2,   249.2,2,   14.35,2,   18.77,2,    0.00,2,    1.21,2,   1.331,2,   0.669,2,    0.34,2,  2164.2,2, 2310.59,2,   -999.0,9,  -999.00,   7.72583,2,    24.99, -999.00,9, -999.00,9, -999.00,-999.000,9, -999.00,9, -999.00,9,      13.82,2, 20210404,      521,  20.6389, -52.3341,     4.2487,2,     0.0416,1,     4.7003,1,     -999.0,1,     -999.0,1,     -999.0,9,     -999.0,9
325020210316,        A20,      51,          1,         12,         12,2,20210404,       0409,    20.6389,   -52.3341,       4794,  1818.6,   3.9538,  34.9981,2,  34.9996,2,    252.5,2,   252.1,2,   16.21,2,   18.81,2,    0.00,2,    1.21,2,-999.000,9,-999.000,9, -999.00,9,  2163.4,2, 2312.15,2,   -999.0,9,  -999.00,   7.73343,2,    24.99, -999.00,9, -999.00,9, -999.00,-999.000,9, -999.00,9, -999.00,9,     -999.0,9, 20210404,      516,  20.6389, -52.3341,     3.9542,2,     0.0414,1,     4.7009,1,     -999.0,1,     -999.0,1,     -999.0,9,     -999.0,9
325020210316,        A20,      51,          1,         11,         11,2,20210404,       0409,    20.6389,   -52.3341,       4794,  2021.4,   3.6485,  34.9912,2,  34.9915,2,    248.8,2,   248.6,2,   20.80,2,   19.67,2,    0.00,2,    1.26,2,   0.310,2,   0.146,2,    0.11,2,  -999.0,9, -999.00,9,   -999.0,9,  -999.00,-999.00000,9,  -999.00, -999.00,9, -999.00,9, -999.00,-999.000,9, -999.00,9, -999.00,9,      14.18,2, 20210404,      512,  20.6389, -52.3341,     3.6512,2,     0.0424,1,     4.7009,1,     -999.0,1,     -999.0,1,     -999.0,9,     -999.0,9
325020210316,        A20,      51,          1,         10,         10,2,20210404,       0409,    20.6389,   -52.3341,       4794,  2277.9,   3.2461,  34.9676,2,  34.9677,2,    248.0,2,   248.3,2,   26.36,2,   20.12,2,    0.00,2,    1.30,2,-999.000,9,-999.000,9, -999.00,9,  -999.0,9, -999.00,9,   -999.0,9,  -999.00,-999.00000,9,  -999.00, -999.00,9, -999.00,9, -999.00,-999.000,9, -999.00,9, -999.00,9,     -999.0,9, 20210404,      506,  20.6389, -52.3341,     3.2455,2,     0.0425,1,     4.7005,1,     -999.0,1,     -999.0,1,     -999.0,9,     -999.0,9
325020210316,        A20,      51,          1,          9,          9,2,20210404,       0409,    20.6389,   -52.3341,       4794,  2529.3,   3.0666,  34.9544,2,  34.9545,2,    248.6,2,   249.4,2,   29.00,2,   20.67,2,    0.00,2,    1.32,2,   0.106,2,   0.055,2,    0.12,2,  2175.3,2, 2328.06,2,   -999.0,9,  -999.00,   7.73778,2,    25.01, -999.00,9, -999.00,9, -999.00,-999.000,9, -999.00,9, -999.00,9,      14.81,2, 20210404,      500,  20.6389, -52.3341,     3.0660,2,     0.0430,1,     4.7006,1,     -999.0,1,     -999.0,1,     -999.0,9,     -999.0,9
325020210316,        A20,      51,          1,          8,          8,2,20210404,       0409,    20.6389,   -52.3341,       4794,  2786.6,   2.8680,  34.9392,2,  34.9390,2,    249.8,2,   250.3,2,   31.73,2,   20.63,2,    0.00,2,    1.34,2,-999.000,9,-999.000,9, -999.00,9,  -999.0,9, -999.00,9,   -999.0,9,  -999.00,-999.00000,9,  -999.00, -999.00,9, -999.00,9, -999.00,-999.000,9, -999.00,9, -999.00,9,     -999.0,9, 20210404,      454,  20.6389, -52.3341,     2.8693,2,     0.0432,1,     4.7005,1,     -999.0,1,     -999.0,1,     -999.0,9,     -999.0,9
325020210316,        A20,      51,          1,          7,          7,2,20210404,       0409,    20.6389,   -52.3341,       4794,  3038.8,   2.7644,  34.9300,2,  34.9299,2,    249.9,2,   250.2,2,   34.08,2,   21.07,2,    0.00,2,    1.35,2,   0.099,2,   0.050,2,    0.13,2,  -999.0,9, -999.00,9,   -999.0,9,  -999.00,-999.00000,9,  -999.00, -999.00,9, -999.00,9, -999.00,-999.000,9, -999.00,9, -999.00,9,      14.11,2, 20210404,      449,  20.6389, -52.3341,     2.7644,2,     0.0429,1,     4.7007,1,     -999.0,1,     -999.0,1,     -999.0,9,     -999.0,9
325020210316,        A20,      51,          1,          6,          6,2,20210404,       0409,    20.6389,   -52.3341,       4794,  3346.4,   2.6081,  34.9158,2,  34.9140,2,    250.6,2,   250.7,2,   37.20,2,   21.17,2,    0.00,2,    1.37,2,-999.000,9,-999.000,9, -999.00,9,  -999.0,9, -999.00,9,   -999.0,9,  -999.00,-999.00000,9,  -999.00, -999.00,9, -999.00,9, -999.00,-999.000,9, -999.00,9, -999.00,9,     -999.0,9, 20210404,      442,  20.6389, -52.3341,     2.6076,2,     0.0417,1,     4.7002,1,     -999.0,1,     -999.0,1,     -999.0,9,     -999.0,9
325020210316,        A20,      51,          1,          5,          5,2,20210404,       0409,    20.6389,   -52.3341,       4794,  3654.2,   2.4609,  34.9024,2,  34.9016,2,    252.3,2,   252.4,2,   39.45,2,   21.44,2,    0.00,2,    1.38,2,-999.000,9,-999.000,9, -999.00,9,  2183.8,2, 2333.81,2,   -999.0,9,  -999.00,    7.7363,6,    25.01, -999.00,9, -999.00,9, -999.00,-999.000,9, -999.00,9, -999.00,9,     -999.0,9, 20210404,      436,  20.6389, -52.3341,     2.4607,2,     0.0427,1,     4.7008,1,     -999.0,1,     -999.0,1,     -999.0,9,     -999.0,9
325020210316,        A20,      51,          1,          4,          4,2,20210404,       0409,    20.6389,   -52.3341,       4794,  3959.1,   2.3085,  34.8879,2,  34.8875,2,    253.2,2,   253.3,2,   42.47,2,   21.55,2,    0.00,2,    1.40,2,   0.140,2,   0.074,2,    0.04,2,  -999.0,9, -999.00,9,   -999.0,9,  -999.00,-999.00000,9,  -999.00, -999.00,9, -999.00,9, -999.00,-999.000,9, -999.00,9, -999.00,9,      14.76,2, 20210404,      429,  20.6389, -52.3341,     2.3089,2,     0.0425,1,     4.7006,1,     -999.0,1,     -999.0,1,     -999.0,9,     -999.0,9
325020210316,        A20,      51,          1,          3,          3,2,20210404,       0409,    20.6389,   -52.3341,       4794,  4267.8,   2.1752,  34.8728,2,  34.8729,2,    252.1,2,   252.1,2,   46.97,2,   22.22,2,    0.00,2,    1.44,2,-999.000,9,-999.000,9, -999.00,9,  -999.0,9, -999.00,9,   -999.0,9,  -999.00,-999.00000,9,  -999.00, -999.00,9, -999.00,9, -999.00,-999.000,9, -999.00,9, -999.00,9,     -999.0,9, 20210404,      422,  20.6389, -52.3341,     2.1755,2,     0.0423,1,     4.7003,1,     -999.0,1,     -999.0,1,     -999.0,9,     -999.0,9