BOTTLE,20230512CCHSIOCBG
EXPOCODE,SECT_ID,STNNBR,CASTNO,SAMPNO,BTLNBR,BTLNBR_FLAG_W,DATE,TIME,LATITUDE,LONGITUDE,DEPTH,CTDPRS,CTDTMP,CTDSAL,CTDSAL_FLAG_W,SALNTY,SALNTY_FLAG_W,CTDOXY,CTDOXY_FLAG_W,OXYGEN,OXYGEN_FLAG_W,SILCAT,SILCAT_FLAG_W,NITRAT,NITRAT_FLAG_W,NITRIT,NITRIT_FLAG_W,PHSPHT,PHSPHT_FLAG_W,CFC-11,CFC-11_FLAG_W,CFC-12,CFC-12_FLAG_W,SF6,SF6_FLAG_W,TCARBN,TCARBN_FLAG_W,ALKALI,ALKALI_FLAG_W,FCO2,FCO2_FLAG_W,FCO2TMP,PH_TOT,PH_TOT_FLAG_W,PH_TMP,DELC13,DELC13_FLAG_W,DELC14,DELC14_FLAG_W,C14ERR,POC,POC_FLAG_W,DOC,DOC_FLAG_W,TDN,TDN_FLAG_W,N2O,N2O_FLAG_W,BTL_DATE,BTL_TIME,BTL_LAT,BTL_LON,REFTMP,REFTMP_FLAG_W,CTDFLUOR,CTDFLUOR_FLAG_W,CTDXMISS,CTDXMISS_FLAG_W,D15N_NO2+NO3,D15N_NO2+NO3_FLAG_W,D18O_NO2+NO3,D18O_NO2+NO3_FLAG_W,HPLC,HPLC_FLAG_W,MICROGELS,MICROGELS_FLAG_W
,,,,,,,,,,,METERS,DBAR,ITS-90,PSS-78,,PSS-78,,UMOL/KG,,UMOL/KG,,UMOL/KG,,UMOL/KG,,UMOL/KG,,UMOL/KG,,PMOL/KG,,PMOL/KG,,FMOL/KG,,UMOL/KG,,UMOL/KG,,UATM,,DEG C,,,DEG C,/MILLE,,/MILLE,,/MILLE,UG/KG,,UMOL/KG,,UMOL/KG,,NMOL/KG,,,,,,ITS-90,,VOLTS,,VOLTS,,/MILLE,,/MILLE,,,,1E6 GELS/L,
325020210316,        A20,      34,          1,         36,         36,2,20210330,       0014,    30.5549,   -52.3337,       4934,    25.4,  20.8954,  36.7779,2,  36.7794,2,    224.2,2,   223.8,2,    0.78,2,    0.00,2,    0.00,2,    0.00,2,   1.997,2,   1.196,2,    1.96,2,  2099.8,6, 2404.03,2,    349.3,2,    20.00,   8.03558,2,    25.02,    0.69,2,   40.31,2,    2.02,-999.000,9,   64.21,2,    4.57,2,       6.40,2, 20210330,      225,  30.5549, -52.3337,    20.8925,2,     0.0472,1,     4.6253,1,     -999.0,9,     -999.0,9,     -999.0,9,     -999.0,9
325020210316,        A20,      34,          1,         35,         35,2,20210330,       0014,    30.5549,   -52.3337,       4934,    50.3,  20.7132,  36.7772,2,  36.7778,2,    223.5,2,   224.1,2,    0.78,2,    0.00,2,    0.00,2,    0.00,2,-999.000,9,-999.000,9, -999.00,9,  2094.9,2, 2407.09,2,    348.8,2,    20.00,   8.03494,2,    25.01, -999.00,9, -999.00,9, -999.00,-999.000,9,   60.71,2,    4.16,2,     -999.0,9, 20210330,      223,  30.5549, -52.3337,    20.7101,2,     0.0511,1,     4.6239,1,     -999.0,9,     -999.0,9,     -999.0,9,     -999.0,9
325020210316,        A20,      34,          1,         34,         34,2,20210330,       0014,    30.5549,   -52.3337,       4934,    72.9,  20.6886,  36.7763,2,  36.7776,2,    223.8,2,   223.8,2,    0.88,2,    0.00,2,    0.00,2,    0.00,2,-999.000,9,-999.000,9, -999.00,9,  2095.3,2, 2404.74,2,    349.8,2,    20.00,   8.03353,2,    25.00, -999.00,9, -999.00,9, -999.00,-999.000,9,   61.03,2,    3.86,2,     -999.0,9, 20210330,      222,  30.5549, -52.3337,    20.6929,2,     0.0585,1,     4.6240,1,     -999.0,9,     -999.0,9,     -999.0,9,     -999.0,9
325020210316,        A20,      34,          1,         33,         33,2,20210330,       0014,    30.5549,   -52.3337,       4934,    74.8,  20.6921,  36.7761,2,  36.7776,2,    223.8,2,   223.6,2,    0.88,2,    0.00,2,    0.00,2,    0.00,2,   1.788,2,   1.191,2,    1.96,2,  -999.0,9, -999.00,9,   -999.0,9,  -999.00,-999.00000,9,  -999.00, -999.00,9, -999.00,9, -999.00,-999.000,9, -999.00,9, -999.00,9,       6.45,2, 20210330,      221,  30.5549, -52.3337,    20.6916,2,     0.0605,1,     4.6230,1,     -999.0,9,     -999.0,9,     -999.0,9,     -999.0,9
325020210316,        A20,      34,          1,         32,         32,2,20210330,       0014,    30.5549,   -52.3337,       4934,   110.0,  19.9384,  36.6833,2,  36.6798,2,    222.3,3,   213.4,2,    0.88,2,    0.87,2,    0.00,2,    0.00,2,   1.797,2,   1.222,2,    1.84,2,  2104.0,2, 2400.14,2,    373.9,2,    20.00,   8.01105,2,    25.01, -999.00,9, -999.00,9, -999.00,-999.000,9,   56.97,2,    4.78,2,       7.30,2, 20210330,      219,  30.5548, -52.3337,    19.9304,2,     0.0746,1,     4.6460,1,     -999.0,9,     -999.0,9,     -999.0,9,     -999.0,9
325020210316,        A20,      34,          1,         31,         31,2,20210330,       0014,    30.5549,   -52.3337,       4934,   152.1,  19.3323,  36.6423,2,  36.6431,2,    228.8,3,   223.4,2,    0.88,2,    0.64,2,    0.13,2,    0.00,2,   1.642,2,   1.242,2,    1.92,2,  2102.5,2, 2397.42,2,    370.1,2,    20.00,   8.01365,2,    25.01,    0.57,2,   38.37,2,    2.13,-999.000,9,   55.82,2,    4.45,2,       7.61,2, 20210330,      217,  30.5549, -52.3337,    19.3321,2,     0.0762,1,     4.6560,1,     -999.0,9,     -999.0,9,     -999.0,9,     -999.0,9
325020210316,        A20,      34,          1,         30,         30,2,20210330,       0014,    30.5549,   -52.3337,       4934,   202.3,  19.2832,  36.6532,2,  36.6532,2,    222.9,2,   221.4,2,    0.78,2,    0.88,2,    0.14,2,    0.00,2,-999.000,9,-999.000,9, -999.00,9,  2102.9,2, 2398.43,2,    373.8,2,    20.00,   8.00911,6,    25.04, -999.00,9, -999.00,9, -999.00,-999.000,9,   56.42,2,    4.60,2,     -999.0,9, 20210330,      215,  30.5548, -52.3337,    19.2825,2,     0.0518,1,     4.6779,1,     -999.0,9,     -999.0,9,     -999.0,9,     -999.0,9
325020210316,        A20,      34,          1,         29,         29,2,20210330,       0014,    30.5549,   -52.3337,       4934,   251.5,  19.2417,  36.6486,2,  36.6479,2,    219.2,2,   220.6,2,    0.88,2,    1.03,2,    0.11,2,    0.00,2,-999.000,9,-999.000,9, -999.00,9,  2105.8,2, 2399.79,2,    375.9,2,    20.00,   8.00783,2,    25.02,    0.52,2,   37.25,2,    2.26,-999.000,9,   53.25,2,    4.48,2,     -999.0,9, 20210330,      213,  30.5548, -52.3337,    19.2415,2,     0.0449,1,     4.6851,1,     -999.0,9,     -999.0,9,     -999.0,9,     -999.0,9
325020210316,        A20,      34,          1,         28,         28,2,20210330,       0014,    30.5549,   -52.3337,       4934,   302.1,  18.9671,  36.6181,2,  36.6175,2,    204.1,2,   203.0,2,    1.27,2,    2.90,2,    0.00,2,    0.07,2,   1.951,2,   1.279,2,    1.80,2,  2119.6,2,  2393.6,2,    404.8,2,    20.00,   7.99966,2,    25.03, -999.00,9, -999.00,9, -999.00,-999.000,9,   49.67,2,    5.88,2,       7.43,2, 20210330,      210,  30.5548, -52.3337,    18.9776,2,     0.0403,1,     4.6881,1,     -999.0,9,     -999.0,9,     -999.0,9,     -999.0,9
325020210316,        A20,      34,          1,         27,         27,2,20210330,       0014,    30.5549,   -52.3337,       4934,   352.3,  18.5162,  36.5675,2,  36.5674,2,    198.0,2,   198.6,2,    1.46,2,    3.99,2,    0.00,2,    0.13,2,   1.944,2,   1.308,2,    1.77,2,  2127.8,2, 2392.24,2,   -999.0,9,  -999.00,   7.96315,2,    25.03,    0.43,2,   41.43,2,    2.02,-999.000,9,   52.88,2,    7.79,2,       8.69,2, 20210330,      208,  30.5549, -52.3337,    18.5303,2,     0.0396,1,     4.6912,1,     -999.0,9,     -999.0,9,     -999.0,9,     -999.0,9
325020210316,        A20,      34,          1,         26,         26,2,20210330,       0014,    30.5549,   -52.3337,       4934,   403.0,  17.9143,  36.4647,2,  36.4533,2,    193.4,2,   191.7,2,    1.85,2,    5.56,2,    0.00,2,    0.22,2,-999.000,9,-999.000,9, -999.00,9,  2135.8,2, 2384.85,2,    452.1,2,    20.00,   7.93725,2,    25.00, -999.00,9, -999.00,9, -999.00,-999.000,9,   47.83,2,    8.85,2,     -999.0,9, 20210330,      206,  30.5548, -52.3337,    17.9077,2,     0.0401,1,     4.6915,1,     -999.0,9,     -999.0,9,     -999.0,9,     -999.0,9
325020210316,        A20,      34,          1,         25,         25,2,20210330,       0014,    30.5549,   -52.3337,       4934,   504.5,  16.2780,  36.1976,2,  36.1967,2,    191.3,2,   192.0,2,    2.83,2,    7.91,2,    0.00,2,    0.38,2,   2.307,2,   1.389,2,    1.69,2,  2144.9,2, 2371.06,2,   -999.0,9,  -999.00,   7.89767,2,    25.00,    0.49,2,   48.13,2,    2.15,-999.000,9,   50.70,2,   10.84,2,      10.03,2, 20210330,      202,  30.5548, -52.3337,    16.2858,2,     0.0399,1,     4.6952,1,     -999.0,9,     -999.0,9,     -999.0,9,     -999.0,9
325020210316,        A20,      34,          1,         24,         24,2,20210330,       0014,    30.5549,   -52.3337,       4934,   605.8,  13.9752,  35.8296,2,  35.8267,2,    175.5,2,   174.9,2,    5.27,2,   13.13,2,    0.00,2,    0.72,2,   2.211,2,   1.350,2,    1.26,2,  2162.3,2, 2351.18,2,    604.5,2,    20.00,   7.81891,2,    25.03, -999.00,9, -999.00,9, -999.00,-999.000,9, -999.00,9, -999.00,9,      14.36,2, 20210330,      200,  30.5548, -52.3337,    13.9886,2,     0.0407,1,     4.6996,1,     -999.0,9,     -999.0,9,     -999.0,9,     -999.0,9
325020210316,        A20,      34,          1,         23,         23,2,20210330,       0014,    30.5549,   -52.3337,       4934,   706.6,  12.1274,  35.5867,2,  35.5845,2,    164.4,2,   165.6,2,    7.91,2,   17.03,2,    0.00,2,    0.99,2,   2.027,2,   1.199,2,    1.00,2,  2174.7,2, 2338.32,2,   -999.0,9,  -999.00,   7.76384,2,    25.03,    0.52,2,   28.92,2,    2.04,-999.000,9,   47.32,2,   18.56,2,      15.66,2, 20210330,      157,  30.5548, -52.3337,    12.1212,2,     0.0418,1,     4.7021,1,     -999.0,9,     -999.0,9,     -999.0,9,     -999.0,9
325020210316,        A20,      34,          1,         22,         22,2,20210330,       0014,    30.5549,   -52.3337,       4934,   807.5,  10.1740,  35.3653,2,  35.3670,2,    157.1,2,   157.1,2,   11.23,2,   20.86,2,    0.00,2,    1.25,2,-999.000,9,-999.000,9, -999.00,9,  2187.8,6, 2329.13,2,    787.1,2,    20.00,   7.71115,2,    25.04, -999.00,9, -999.00,9, -999.00,-999.000,9,   44.33,2,   21.24,2,     -999.0,9, 20210330,      154,  30.5549, -52.3337,    10.1862,2,     0.0418,1,     4.7035,1,     -999.0,9,     -999.0,9,     -999.0,9,     -999.0,9
325020210316,        A20,      34,          1,         21,         21,2,20210330,       0014,    30.5549,   -52.3337,       4934,   909.3,   8.5805,  35.2276,2,  35.2292,2,    161.2,2,   159.9,2,   13.97,2,   22.89,2,    0.00,2,    1.40,2,   1.255,2,   0.678,2,    0.40,2,  2192.7,2, 2325.39,2,   -999.0,9,  -999.00,   7.68498,6,    25.03, -999.00,9, -999.00,9, -999.00,-999.000,9, -999.00,9, -999.00,9,      18.40,2, 20210330,      151,  30.5548, -52.3337,     8.5924,2,     0.0421,1,     4.7045,1,     -999.0,9,     -999.0,9,     -999.0,9,     -999.0,9
325020210316,        A20,      34,          1,         20,         20,2,20210330,       0014,    30.5549,   -52.3337,       4934,  1011.2,   7.4307,  35.1780,2,  35.1798,2,    177.4,2,   178.2,2,   14.56,2,   22.23,2,    0.00,2,    1.38,2,   1.278,2,   0.698,2,    0.44,2,  2191.0,2, 2326.04,2,    834.0,6,    20.00,   7.68733,6,    24.94, -999.00,1, -999.00,1, -999.00,-999.000,9,   42.65,2,   24.97,2,      17.56,2, 20210330,      148,  30.5548, -52.3337,     7.4418,2,     0.0422,1,     4.7045,1,     -999.0,9,     -999.0,9,     -999.0,9,     -999.0,9
325020210316,        A20,      34,          1,         19,         19,2,20210330,       0014,    30.5549,   -52.3337,       4934,  1111.6,   6.6517,  35.1625,2,  35.1624,2,    193.6,2,   194.2,2,   14.85,2,   21.44,2,    0.00,2,    1.35,2,   1.264,2,   0.664,2,    0.36,2,  2187.1,2, 2326.15,2,    815.2,2,    20.00,   7.69589,2,    25.04, -999.00,9, -999.00,9, -999.00,-999.000,9, -999.00,9, -999.00,9,      16.15,2, 20210330,      145,  30.5548, -52.3337,     6.6542,2,     0.0405,1,     4.7057,1,     -999.0,9,     -999.0,9,     -999.0,9,     -999.0,9
325020210316,        A20,      34,          1,         18,         18,2,20210330,       0014,    30.5549,   -52.3337,       4934,  1212.5,   6.2845,  35.2044,2,  35.2050,2,    215.2,2,   214.5,2,   13.29,2,   19.39,2,    0.00,2,    1.22,2,   1.714,2,   0.966,2,    0.63,2,  2183.3,2, 2326.57,2,    783.0,2,    20.00,   7.71082,6,    25.04,    0.82,6,  -23.05,6,    2.06,-999.000,9,   43.11,2,   20.53,2,      16.25,2, 20210330,      141,  30.5548, -52.3337,     6.2938,2,     0.0406,1,     4.7054,1,     -999.0,9,     -999.0,9,     -999.0,9,     -999.0,9
325020210316,        A20,      34,          1,         17,         17,2,20210330,       0014,    30.5549,   -52.3337,       4934,  1312.5,   5.7714,  35.1783,2,  35.1784,2,    225.8,2,   225.7,2,   13.29,2,   18.95,2,    0.00,2,    1.19,2,-999.000,9,-999.000,9, -999.00,9,  2182.3,2, 2323.47,2,   -999.0,9,  -999.00,   7.71885,2,    25.00, -999.00,9, -999.00,9, -999.00,-999.000,9, -999.00,9, -999.00,9,     -999.0,9, 20210330,      138,  30.5549, -52.3337,     5.7744,2,     0.0418,1,     4.7057,1,     -999.0,9,     -999.0,9,     -999.0,9,     -999.0,9
325020210316,        A20,      34,          1,         16,         16,2,20210330,       0014,    30.5549,   -52.3337,       4934,  1413.1,   5.4818,  35.1654,2,  35.1648,2,    230.3,2,   231.0,2,   13.78,2,   18.89,2,    0.00,2,    1.19,2,   1.697,2,   0.908,2,    0.47,2,  2179.6,2, 2322.82,2,    763.4,2,    20.00,   7.72039,2,    24.98,    0.90,2,  -36.19,2,    2.01,-999.000,9,   45.06,2,   20.58,2,      14.02,2, 20210330,      135,  30.5548, -52.3337,     5.4810,2,     0.0422,1,     4.7058,1,     -999.0,9,     -999.0,9,     -999.0,9,     -999.0,9
325020210316,        A20,      34,          1,         15,         15,2,20210330,       0014,    30.5549,   -52.3337,       4934,  1515.6,   5.1687,  35.1448,2,  35.1459,2,    234.9,2,   234.7,2,   14.46,2,   18.86,2,    0.00,2,    1.18,2,   1.519,2,   0.809,2,    0.50,2,  2179.8,2, 2322.74,2,    755.8,2,    20.00,   7.72598,2,    24.99, -999.00,9, -999.00,9, -999.00,-999.000,9, -999.00,9, -999.00,9,      13.57,2, 20210330,      132,  30.5548, -52.3337,     5.1739,2,     0.0411,1,     4.7069,1,     -999.0,9,     -999.0,9,     -999.0,9,     -999.0,9
325020210316,        A20,      34,          1,         14,         14,2,20210330,       0014,    30.5549,   -52.3337,       4934,  1617.1,   4.8849,  35.1191,2,  35.1183,2,    240.1,2,   239.7,2,   14.85,2,   18.72,2,    0.00,2,    1.18,2,   1.559,2,   0.786,2,    0.42,2,  2177.2,2, 2321.37,2,   -999.0,9,  -999.00,   7.72894,2,    25.05,    0.93,2,  -39.51,2,    2.01,-999.000,9,   43.05,2,   19.69,2,      13.72,2, 20210330,      129,  30.5549, -52.3337,     4.8873,2,     0.0412,1,     4.7070,1,     -999.0,9,     -999.0,9,     -999.0,9,     -999.0,9
325020210316,        A20,      34,          1,         13,         13,2,20210330,       0014,    30.5549,   -52.3337,       4934,  1820.5,   4.1421,  35.0406,2,  35.0405,2,    251.8,2,   251.7,2,   16.03,2,   18.36,2,    0.00,2,    1.16,2,-999.000,9,-999.000,9, -999.00,9,  2173.1,2,  2318.7,2,    748.4,2,    20.00,   7.73011,2,    25.02, -999.00,9, -999.00,9, -999.00,-999.000,9, -999.00,9, -999.00,9,     -999.0,9, 20210330,      124,  30.5548, -52.3337,     4.1416,2,     0.0426,1,     4.7063,1,     -999.0,9,     -999.0,9,     -999.0,9,     -999.0,9
325020210316,        A20,      34,          1,         12,         12,2,20210330,       0014,    30.5549,   -52.3337,       4934,  2023.4,   3.8152,  35.0142,2,  35.0146,2,    254.0,2,   253.9,2,   18.18,2,   18.48,2,    0.00,2,    1.17,2,   1.239,2,   0.644,2,    0.28,2,  2173.1,2,  2318.6,6,   -999.0,9,  -999.00,    7.7303,2,    24.99,    1.04,2,  -50.95,2,    1.98,-999.000,9,   45.12,2,   20.29,2,      14.31,2, 20210330,      119,  30.5548, -52.3338,     3.8133,2,     0.0417,1,     4.7061,1,     -999.0,9,     -999.0,9,     -999.0,9,     -999.0,9
325020210316,        A20,      34,          1,         11,         11,2,20210330,       0014,    30.5549,   -52.3337,       4934,  2279.5,   3.4915,  34.9867,2,  34.9868,2,    255.3,2,   254.9,2,   21.11,2,   18.76,2,    0.00,2,    1.23,2,-999.000,9,-999.000,9, -999.00,9,  2173.0,6, 2322.57,2,    740.4,2,    20.00,   7.73263,2,    25.01, -999.00,9, -999.00,9, -999.00,-999.000,9, -999.00,9, -999.00,9,     -999.0,9, 20210330,      114,  30.5548, -52.3338,     3.4918,2,     0.0429,1,     4.7064,1,     -999.0,9,     -999.0,9,     -999.0,9,     -999.0,9
325020210316,        A20,      34,          1,         10,         10,2,20210330,       0014,    30.5549,   -52.3337,       4934,  2534.0,   3.2653,  34.9693,2,  34.9697,2,    255.8,2,   254.9,2,   23.94,2,   19.02,2,    0.00,2,    1.22,2,   0.668,2,   0.339,2,    0.19,2,  2176.1,2, 2322.76,2,   -999.0,9,  -999.00,   7.73534,6,    25.01,    1.01,2,  -76.68,2,    1.92,-999.000,9,   45.62,2,   20.02,2,      14.04,2, 20210330,      108,  30.5548, -52.3338,     3.2649,2,     0.0429,1,     4.7051,1,     -999.0,9,     -999.0,9,     -999.0,9,     -999.0,9
325020210316,        A20,      34,          1,          9,          9,4,20210330,       0014,    30.5549,   -52.3337,       4934,  2788.5,   3.0873,  34.9572,3,  34.9687,3,    255.9,3,   254.9,3,   23.84,3,   18.96,3,    0.00,3,    1.22,3,-999.000,9,-999.000,9, -999.00,9,  2175.8,3, 2323.51,2,   -999.0,9,  -999.00,   7.73491,2,    25.02, -999.00,9, -999.00,9, -999.00,-999.000,9, -999.00,9, -999.00,9,     -999.0,9, 20210330,      101,  30.5548, -52.3338,     3.0865,3,     0.0431,1,     4.7062,1,     -999.0,9,     -999.0,9,     -999.0,9,     -999.0,9
325020210316,        A20,      34,          1,          8,          8,2,20210330,       0014,    30.5549,   -52.3337,       4934,  3043.8,   2.8806,  34.9411,2,  34.9408,2,    255.8,2,   255.2,2,   29.32,2,   19.49,2,    0.00,2,    1.27,2,   0.305,2,   0.153,2,    0.08,2,  2177.3,2, 2328.23,2,   -999.0,9,  -999.00,   7.73766,2,    25.01, -999.00,9, -999.00,9, -999.00,-999.000,9,   42.58,2,   19.20,2,      13.14,2, 20210330,       57,  30.5548, -52.3338,     2.8802,2,     0.0429,1,     4.7058,1,     -999.0,9,     -999.0,9,     -999.0,9,     -999.0,9
325020210316,        A20,      34,          1,          7,          7,2,20210330,       0014,    30.5549,   -52.3337,       4934,  3349.1,   2.6811,  34.9254,2,  34.9260,2,    256.8,2,   256.4,2,   31.96,2,   19.63,2,    0.00,2,    1.28,2,-999.000,9,-999.000,9, -999.00,9,  2179.2,2, 2327.95,2,    735.0,2,    20.00,     7.739,2,    25.02,    1.03,2,  -95.01,2,    2.90,-999.000,9,   42.85,2,   21.11,2,     -999.0,9, 20210330,       51,  30.5548, -52.3338,     2.6809,2,     0.0415,1,     4.7061,1,     -999.0,9,     -999.0,9,     -999.0,9,     -999.0,9
325020210316,        A20,      34,          1,          6,          6,2,20210330,       0014,    30.5549,   -52.3337,       4934,  3654.6,   2.5063,  34.9111,2,  34.9105,2,    261.2,2,   260.3,2,   31.96,2,   19.30,2,    0.00,2,    1.27,2,   0.326,2,   0.156,2,    0.03,2,  2176.7,2, 2326.67,2,   -999.0,9,  -999.00,   7.73977,2,    25.02, -999.00,9, -999.00,9, -999.00,-999.000,9, -999.00,9, -999.00,9,      13.53,2, 20210330,       44,  30.5548, -52.3338,     2.5064,2,     0.0423,1,     4.7057,1,     -999.0,9,     -999.0,9,     -999.0,9,     -999.0,9
325020210316,        A20,      34,          1,          5,          5,2,20210330,       0014,    30.5549,   -52.3337,       4934,  3963.1,   2.3372,  34.8966,2,  34.8963,2,    263.2,2,   263.1,2,   32.54,2,   19.05,2,    0.00,2,    1.26,2,   0.562,2,   0.284,2,    0.13,2,  2178.1,2, 2328.29,2,   -999.0,9,  -999.00,   7.73536,2,    25.02,    0.96,2,  -84.01,2,    2.30,-999.000,9,   41.93,2,   20.78,2,      14.02,2, 20210330,       37,  30.5548, -52.3337,     2.3371,2,     0.0423,1,     4.7057,1,     -999.0,9,     -999.0,9,     -999.0,9,     -999.0,9
325020210316,        A20,      34,          1,          4,          4,2,20210330,       0014,    30.5549,   -52.3337,       4934,  4271.8,   2.2460,  34.8859,2,  34.8859,2,    261.3,2,   261.8,2,   36.26,2,   19.49,2,    0.00,2,    1.30,2,   0.532,2,   0.317,6,    0.17,6,  2182.9,2, 2329.11,2,    748.2,2,    20.00,   7.72765,2,    25.03, -999.00,9, -999.00,9, -999.00,-999.000,9, -999.00,9, -999.00,9,      13.65,6, 20210330,       31,  30.5548, -52.3337,     2.2454,2,     0.0429,1,     4.7056,1,     -999.0,9,     -999.0,9,     -999.0,9,     -999.0,9
325020210316,        A20,      34,          1,          3,          3,2,20210330,       0014,    30.5549,   -52.3337,       4934,  4581.1,   2.1587,  34.8722,2,  34.8725,2,    256.8,2,   256.4,2,   43.68,2,   20.71,2,    0.00,2,    1.39,2,-999.000,9,-999.000,9, -999.00,9,  2189.5,2, 2337.66,6,    759.4,2,    20.00,   7.72578,2,    25.02,    0.91,2,  -97.74,2,    1.79,-999.000,9,   43.51,2,   22.67,2,     -999.0,9, 20210330,       24,  30.5548, -52.3337,     2.1591,2,     0.0429,1,     4.7040,1,     -999.0,9,     -999.0,9,     -999.0,9,     -999.0,9