BOTTLE,20230512CCHSIOCBG
EXPOCODE,SECT_ID,STNNBR,CASTNO,SAMPNO,BTLNBR,BTLNBR_FLAG_W,DATE,TIME,LATITUDE,LONGITUDE,DEPTH,CTDPRS,CTDTMP,CTDSAL,CTDSAL_FLAG_W,SALNTY,SALNTY_FLAG_W,CTDOXY,CTDOXY_FLAG_W,OXYGEN,OXYGEN_FLAG_W,SILCAT,SILCAT_FLAG_W,NITRAT,NITRAT_FLAG_W,NITRIT,NITRIT_FLAG_W,PHSPHT,PHSPHT_FLAG_W,CFC-11,CFC-11_FLAG_W,CFC-12,CFC-12_FLAG_W,SF6,SF6_FLAG_W,TCARBN,TCARBN_FLAG_W,ALKALI,ALKALI_FLAG_W,FCO2,FCO2_FLAG_W,FCO2TMP,PH_TOT,PH_TOT_FLAG_W,PH_TMP,DELC13,DELC13_FLAG_W,DELC14,DELC14_FLAG_W,C14ERR,POC,POC_FLAG_W,DOC,DOC_FLAG_W,TDN,TDN_FLAG_W,N2O,N2O_FLAG_W,BTL_DATE,BTL_TIME,BTL_LAT,BTL_LON,REFTMP,REFTMP_FLAG_W,CTDFLUOR,CTDFLUOR_FLAG_W,CTDXMISS,CTDXMISS_FLAG_W,D15N_NO2+NO3,D15N_NO2+NO3_FLAG_W,D18O_NO2+NO3,D18O_NO2+NO3_FLAG_W,HPLC,HPLC_FLAG_W,MICROGELS,MICROGELS_FLAG_W
,,,,,,,,,,,METERS,DBAR,ITS-90,PSS-78,,PSS-78,,UMOL/KG,,UMOL/KG,,UMOL/KG,,UMOL/KG,,UMOL/KG,,UMOL/KG,,PMOL/KG,,PMOL/KG,,FMOL/KG,,UMOL/KG,,UMOL/KG,,UATM,,DEG C,,,DEG C,/MILLE,,/MILLE,,/MILLE,UG/KG,,UMOL/KG,,UMOL/KG,,NMOL/KG,,,,,,ITS-90,,VOLTS,,VOLTS,,/MILLE,,/MILLE,,,,1E6 GELS/L,
325020210316,        A20,      72,          1,         36,         36,2,20210410,       0303,     9.4185,   -52.3337,       4817,     5.0,  27.5885,  36.1090,2,  36.1106,2,    200.2,2,   199.5,2,    1.07,2,    0.02,2,    0.00,2,    0.00,2,   1.402,2,   0.932,2,    1.55,2,  2034.4,6, 2365.03,2,    303.8,2,    20.00,   8.08793,2,    24.94, -999.00,9, -999.00,9, -999.00,-999.000,9, -999.00,9, -999.00,9,       5.68,2, 20210410,      510,   9.4185, -52.3337,    27.5869,2,     0.0493,1,     4.6272,1,     -999.0,9,     -999.0,9,     -999.0,9,     -999.0,9
325020210316,        A20,      72,          1,         35,         35,2,20210410,       0303,     9.4185,   -52.3337,       4817,    36.0,  27.5471,  36.1069,2,  36.1082,2,    200.0,2,   199.7,2,    0.97,2,    0.00,2,    0.00,2,    0.00,2,-999.000,9,-999.000,9, -999.00,9,  2036.2,2, 2364.87,2,   -999.0,9,  -999.00,    8.0865,6,    25.00, -999.00,9, -999.00,9, -999.00,-999.000,9, -999.00,9, -999.00,9,     -999.0,9, 20210410,      508,   9.4185, -52.3337,    27.5452,2,     0.0529,1,     4.6280,1,     -999.0,9,     -999.0,9,     -999.0,9,     -999.0,9
325020210316,        A20,      72,          1,         34,         34,2,20210410,       0303,     9.4185,   -52.3337,       4817,    61.2,  27.4865,  36.1381,2,  36.1367,2,    198.3,2,   198.5,2,    1.07,2,    0.00,2,    0.00,2,    0.00,2,   1.475,2,   1.037,2,    3.63,3,  2038.3,2, 2365.96,6,    307.9,2,    20.00,   8.08039,6,    24.99, -999.00,9, -999.00,9, -999.00,-999.000,9, -999.00,9, -999.00,9,       5.80,2, 20210410,      506,   9.4185, -52.3337,    27.4810,2,     0.0739,1,     4.6258,1,     -999.0,9,     -999.0,9,     -999.0,9,     -999.0,9
325020210316,        A20,      72,          1,         33,         33,2,20210410,       0303,     9.4185,   -52.3337,       4817,    86.4,  27.4039,  36.1942,2,  36.1963,2,    197.1,2,   198.0,2,    1.07,2,    0.00,2,    0.00,2,    0.00,2,-999.000,9,-999.000,9, -999.00,9,  2042.4,2, 2371.38,2,    310.2,2,    20.00,   8.08258,2,    24.98, -999.00,9, -999.00,9, -999.00,-999.000,9, -999.00,9, -999.00,9,     -999.0,9, 20210410,      504,   9.4185, -52.3337,    27.4017,2,     0.0678,1,     4.6408,1,     -999.0,9,     -999.0,9,     -999.0,9,     -999.0,9
325020210316,        A20,      72,          1,         32,         32,2,20210410,       0303,     9.4185,   -52.3337,       4817,   115.2,  24.8503,  36.6073,2,  36.5906,2,    173.5,3,   178.9,2,    1.27,2,    1.75,2,    0.12,2,    0.17,2,   1.620,2,   1.066,2,    2.09,3,  2103.3,2, 2395.57,2,    374.4,2,    20.00,   8.01581,2,    25.00, -999.00,9, -999.00,9, -999.00,-999.000,9, -999.00,9, -999.00,9,       7.59,2, 20210410,      502,   9.4185, -52.3337,    24.8009,3,     0.0728,1,     4.6511,1,     -999.0,9,     -999.0,9,     -999.0,9,     -999.0,9
325020210316,        A20,      72,          1,         31,         31,2,20210410,       0303,     9.4185,   -52.3337,       4817,   165.1,  18.0656,  36.3118,2,  36.3164,2,    123.4,3,   129.6,2,    4.09,2,   12.76,2,    0.00,2,    0.70,2,-999.000,9,-999.000,9, -999.00,9,  2184.9,2, 2375.75,2,    615.3,2,    20.00,   7.82098,2,    24.98, -999.00,9, -999.00,9, -999.00,-999.000,9, -999.00,9, -999.00,9,     -999.0,9, 20210410,      500,   9.4185, -52.3337,    18.0682,2,     0.0442,1,     4.6740,1,     -999.0,9,     -999.0,9,     -999.0,9,     -999.0,9
325020210316,        A20,      72,          1,         30,         30,2,20210410,       0303,     9.4185,   -52.3337,       4817,   215.7,  13.8971,  35.6175,2,  35.5914,3,    124.4,3,   127.7,2,    7.90,2,   19.31,2,    0.00,2,    1.17,2,   2.157,2,   1.278,2,    1.04,2,  2192.5,2, 2336.54,2,    782.2,2,    20.00,   7.71819,2,    25.00, -999.00,9, -999.00,9, -999.00,-999.000,9, -999.00,9, -999.00,9,      21.82,2, 20210410,      458,   9.4185, -52.3337,    13.9152,2,     0.0415,1,     4.6762,1,     -999.0,9,     -999.0,9,     -999.0,9,     -999.0,9
325020210316,        A20,      72,          1,         29,         29,2,20210410,       0303,     9.4185,   -52.3337,       4817,   266.1,  11.2187,  35.1790,2,  35.1666,2,    122.7,3,   124.2,2,   11.12,2,   24.01,2,    0.00,2,    1.50,2,   2.073,2,   1.194,2,    0.80,2,  2203.0,2, 2316.65,2,   -999.0,9,  -999.00,   7.64518,2,    24.98, -999.00,9, -999.00,9, -999.00,-999.000,9, -999.00,9, -999.00,9,      25.08,2, 20210410,      456,   9.4185, -52.3337,    11.2228,2,     0.0413,1,     4.6732,1,     -999.0,9,     -999.0,9,     -999.0,9,     -999.0,9
325020210316,        A20,      72,          1,         28,         28,2,20210410,       0303,     9.4185,   -52.3337,       4817,   316.3,   9.9620,  34.9944,2,  34.9915,2,    121.9,2,   121.9,2,   13.07,2,   26.58,2,    0.00,2,    1.68,2,   1.969,2,   1.098,2,    0.65,2,  2207.5,2, 2308.15,2,   1000.5,2,    20.00,   7.60892,2,    24.99, -999.00,9, -999.00,9, -999.00,-999.000,9, -999.00,9, -999.00,9,      26.68,2, 20210410,      454,   9.4185, -52.3337,     9.9765,2,     0.0423,1,     4.6716,1,     -999.0,9,     -999.0,9,     -999.0,9,     -999.0,9
325020210316,        A20,      72,          1,         27,         27,2,20210410,       0303,     9.4185,   -52.3337,       4817,   366.7,   9.3465,  34.9078,2,  34.8991,2,    121.6,2,   122.0,2,   14.44,2,   27.90,2,    0.00,2,    1.77,2,-999.000,9,-999.000,9, -999.00,9,  2209.2,2, 2302.73,2,   1048.5,2,    20.00,   7.59073,2,    25.00, -999.00,9, -999.00,9, -999.00,-999.000,9, -999.00,9, -999.00,9,     -999.0,9, 20210410,      452,   9.4185, -52.3337,     9.3472,2,     0.0429,1,     4.6728,1,     -999.0,9,     -999.0,9,     -999.0,9,     -999.0,9
325020210316,        A20,      72,          1,         26,         26,2,20210410,       0303,     9.4185,   -52.3337,       4817,   418.2,   8.6936,  34.8306,2,  34.8290,2,    117.7,2,   118.0,2,   16.19,2,   29.72,2,    0.00,2,    1.87,2,   1.595,2,   0.897,2,    0.49,2,  2213.8,2, 2301.46,2,   1110.5,2,    20.00,   7.56557,2,    25.00, -999.00,9, -999.00,9, -999.00,-999.000,9, -999.00,9, -999.00,9,      27.18,2, 20210410,      450,   9.4185, -52.3337,     8.6930,2,     0.0430,1,     4.6728,1,     -999.0,9,     -999.0,9,     -999.0,9,     -999.0,9
325020210316,        A20,      72,          1,         25,         25,2,20210410,       0303,     9.4185,   -52.3337,       4817,   469.2,   7.9329,  34.7343,2,  34.7343,2,    110.7,2,   110.5,2,   18.24,2,   32.26,2,    0.00,2,    2.04,2,-999.000,9,-999.000,9, -999.00,9,  -999.0,9, -999.00,9,   -999.0,9,  -999.00,-999.00000,9,  -999.00, -999.00,9, -999.00,9, -999.00,-999.000,9, -999.00,9, -999.00,9,     -999.0,9, 20210410,      446,   9.4185, -52.3337,     7.9359,2,     0.0430,1,     4.6763,1,     -999.0,9,     -999.0,9,     -999.0,9,     -999.0,9
325020210316,        A20,      72,          1,         24,         24,2,20210410,       0303,     9.4185,   -52.3337,       4817,   537.6,   7.5509,  34.7147,2,  34.7127,2,    105.7,2,   105.8,2,   19.80,2,   33.66,2,    0.00,2,    2.13,2,-999.000,9,-999.000,9, -999.00,9,  2228.3,6, 2298.53,2,   1256.5,2,    20.00,-999.00000,9,  -999.00, -999.00,9, -999.00,9, -999.00,-999.000,9, -999.00,9, -999.00,9,     -999.0,9, 20210410,      445,   9.4185, -52.3337,     7.5492,2,     0.0434,1,     4.6795,1,     -999.0,9,     -999.0,9,     -999.0,9,     -999.0,9
325020210316,        A20,      72,          1,         23,         23,2,20210410,       0303,     9.4185,   -52.3337,       4817,   640.5,   6.5986,  34.6367,2,  34.6350,2,    123.9,2,   123.9,2,   22.93,2,   33.68,2,    0.00,2,    2.18,2,   0.905,2,   0.471,2,    0.25,2,  2222.8,3, 2296.76,2,   1208.5,2,    20.00,   7.52688,2,    25.00, -999.00,9, -999.00,9, -999.00,-999.000,9, -999.00,9, -999.00,9,      25.48,2, 20210410,      442,   9.4185, -52.3337,     6.5966,2,     0.0431,1,     4.6799,1,     -999.0,9,     -999.0,9,     -999.0,9,     -999.0,9
325020210316,        A20,      72,          1,         22,         22,2,20210410,       0303,     9.4185,   -52.3337,       4817,   740.6,   6.0792,  34.6224,2,  34.6201,2,    125.7,2,   125.3,2,   25.17,2,   34.29,2,    0.00,2,    2.23,2,   0.577,2,   0.305,2,    0.17,2,  2227.6,2, 2300.01,2,   1216.8,2,    20.00,   7.52391,6,    24.99, -999.00,9, -999.00,9, -999.00,-999.000,9, -999.00,9, -999.00,9,      25.23,2, 20210410,      439,   9.4185, -52.3337,     6.0788,2,     0.0432,1,     4.6802,1,     -999.0,9,     -999.0,9,     -999.0,9,     -999.0,9
325020210316,        A20,      72,          1,         21,         21,2,20210410,       0303,     9.4185,   -52.3337,       4817,   840.6,   5.6071,  34.5998,2,  34.5991,2,    131.6,2,   131.2,2,   27.02,2,   34.31,2,    0.00,2,    2.25,2,-999.000,9,-999.000,9, -999.00,9,  2227.3,2, 2299.57,6,   1210.4,6,    20.00,    7.5261,2,    24.99, -999.00,9, -999.00,9, -999.00,-999.000,9, -999.00,9, -999.00,9,     -999.0,9, 20210410,      435,   9.4185, -52.3337,     5.6039,2,     0.0436,1,     4.6817,1,     -999.0,9,     -999.0,9,     -999.0,9,     -999.0,9
325020210316,        A20,      72,          1,         20,         20,2,20210410,       0303,     9.4185,   -52.3337,       4817,   943.6,   5.3040,  34.6347,2,  34.6339,2,    136.8,2,   136.6,2,   28.19,2,   33.96,2,    0.00,2,    2.23,2,   0.206,2,   0.132,2,    0.10,2,  2227.6,2, 2302.23,2,   1183.8,2,    20.00,   7.53593,6,    25.00, -999.00,9, -999.00,9, -999.00,-999.000,9, -999.00,9, -999.00,9,      24.01,2, 20210410,      433,   9.4185, -52.3337,     5.3031,2,     0.0431,1,     4.6810,1,     -999.0,9,     -999.0,9,     -999.0,9,     -999.0,9
325020210316,        A20,      72,          1,         19,         19,2,20210410,       0303,     9.4185,   -52.3337,       4817,  1042.4,   5.1169,  34.6829,2,  34.6783,2,    144.8,2,   144.7,2,   28.00,2,   32.68,2,    0.00,2,    2.17,2,   0.165,2,   0.093,2,    0.13,2,  2222.7,2, 2305.52,2,   -999.0,9,  -999.00,   7.55041,2,    25.00, -999.00,9, -999.00,9, -999.00,-999.000,9, -999.00,9, -999.00,9,      22.65,2, 20210410,      430,   9.4185, -52.3337,     5.1168,2,     0.0429,1,     4.6807,1,     -999.0,9,     -999.0,9,     -999.0,9,     -999.0,9
325020210316,        A20,      72,          1,         18,         18,2,20210410,       0303,     9.4185,   -52.3337,       4817,  1143.6,   5.1557,  34.7892,2,  34.7850,2,    156.9,2,   157.1,2,   25.85,2,   30.11,2,    0.00,2,    2.00,2,-999.000,9,-999.000,9, -999.00,9,  2217.7,2,  2309.5,2,   1048.4,2,    20.00,   7.58754,2,    25.01, -999.00,9, -999.00,9, -999.00,-999.000,9, -999.00,9, -999.00,9,     -999.0,9, 20210410,      427,   9.4185, -52.3337,     5.1541,2,     0.0429,1,     4.6823,1,     -999.0,9,     -999.0,9,     -999.0,9,     -999.0,9
325020210316,        A20,      72,          1,         17,         17,2,20210410,       0303,     9.4185,   -52.3337,       4817,  1246.1,   4.9936,  34.8361,2,  34.8344,2,    170.5,2,   171.0,2,   24.39,2,   28.39,2,    0.00,2,    1.88,2,   0.257,6,   0.138,6,    0.14,6,  2209.2,2,  2312.4,2,    990.5,2,    20.00,   7.61329,2,    25.00, -999.00,9, -999.00,9, -999.00,-999.000,9, -999.00,9, -999.00,9,      20.23,6, 20210410,      424,   9.4185, -52.3337,     4.9932,2,     0.0435,1,     4.6843,1,     -999.0,9,     -999.0,9,     -999.0,9,     -999.0,9
325020210316,        A20,      72,          1,         16,         16,2,20210410,       0303,     9.4185,   -52.3337,       4817,  1347.0,   4.9958,  34.8856,2,  34.8843,2,    181.6,2,   182.0,2,   22.73,2,   26.59,2,    0.00,2,    1.77,2,   0.365,2,   0.196,2,    0.21,2,  2204.1,2,  2312.1,3,   -999.0,9,  -999.00,   7.63562,2,    25.00, -999.00,9, -999.00,9, -999.00,-999.000,9, -999.00,9, -999.00,9,      17.98,2, 20210410,      421,   9.4185, -52.3337,     4.9934,2,     0.0423,1,     4.6850,1,     -999.0,9,     -999.0,9,     -999.0,9,     -999.0,9
325020210316,        A20,      72,          1,         15,         15,2,20210410,       0303,     9.4185,   -52.3337,       4817,  1447.8,   4.8819,  34.9770,2,  34.9750,2,    214.4,2,   214.3,2,   17.95,2,   22.13,2,    0.00,2,    1.46,2,-999.000,9,-999.000,9, -999.00,9,  2188.4,2, 2312.86,6,    838.0,2,    20.00,   7.68388,2,    24.99, -999.00,9, -999.00,9, -999.00,-999.000,9, -999.00,9, -999.00,9,     -999.0,9, 20210410,      417,   9.4185, -52.3337,     4.8810,2,     0.0413,1,     4.6557,1,     -999.0,9,     -999.0,9,     -999.0,9,     -999.0,9
325020210316,        A20,      72,          1,         14,         14,2,20210410,       0303,     9.4185,   -52.3337,       4817,  1548.8,   4.6699,  35.0043,2,  35.0049,2,    232.9,2,   232.6,2,   15.51,2,   20.20,2,    0.00,2,    1.32,2,   1.347,2,   0.701,2,    0.33,2,  2179.6,2, 2313.91,2,    791.5,2,    20.00,   7.70527,2,    25.00, -999.00,9, -999.00,9, -999.00,-999.000,9, -999.00,9, -999.00,9,      14.71,2, 20210410,      415,   9.4185, -52.3337,     4.6682,2,     0.0429,1,     4.6866,1,     -999.0,9,     -999.0,9,     -999.0,9,     -999.0,9
325020210316,        A20,      72,          1,         13,         13,2,20210410,       0303,     9.4185,   -52.3337,       4817,  1681.7,   4.3245,  35.0014,2,  35.0006,2,    249.3,2,   248.8,2,   14.14,2,   18.61,2,    0.00,2,    1.22,2,   1.695,2,   0.898,2,    0.41,2,  2175.8,2, 2310.87,2,   -999.0,9,  -999.00,   7.71823,2,    25.01, -999.00,9, -999.00,9, -999.00,-999.000,9, -999.00,9, -999.00,9,      13.90,2, 20210410,      412,   9.4185, -52.3337,     4.3238,2,     0.0414,1,     4.6892,1,     -999.0,9,     -999.0,9,     -999.0,9,     -999.0,9
325020210316,        A20,      72,          1,         12,         12,2,20210410,       0303,     9.4185,   -52.3337,       4817,  1882.0,   3.9878,  34.9865,2,  34.9841,2,    256.2,2,   255.8,2,   14.73,2,   18.17,2,    0.00,2,    1.19,2,-999.000,9,-999.000,9, -999.00,9,  2172.1,6, 2309.85,2,   -999.0,9,  -999.00,   7.72479,2,    24.99, -999.00,9, -999.00,9, -999.00,-999.000,9, -999.00,9, -999.00,9,     -999.0,9, 20210410,      407,   9.4185, -52.3337,     3.9872,2,     0.0423,1,     4.6857,1,     -999.0,9,     -999.0,9,     -999.0,9,     -999.0,9
325020210316,        A20,      72,          1,         11,         11,2,20210410,       0303,     9.4185,   -52.3337,       4817,  2106.9,   3.6342,  34.9716,2,  34.9699,2,    259.5,2,   259.3,2,   16.29,2,   18.28,2,    0.00,2,    1.20,2,   0.955,2,   0.622,2,    0.31,2,  2171.9,2, 2312.96,2,    743.8,2,    20.00,   7.73183,2,    25.00, -999.00,9, -999.00,9, -999.00,-999.000,9, -999.00,9, -999.00,9,      13.46,2, 20210410,      401,   9.4185, -52.3337,     3.6324,2,     0.0421,1,     4.6888,1,     -999.0,9,     -999.0,9,     -999.0,9,     -999.0,9
325020210316,        A20,      72,          1,         10,         10,2,20210410,       0303,     9.4185,   -52.3337,       4817,  2361.5,   3.2959,  34.9570,2,  34.9551,2,    260.4,2,   260.5,2,   19.12,2,   18.34,2,    0.00,2,    1.21,2,-999.000,5,-999.000,5, -999.00,5,  2172.8,2, 2316.85,2,   -999.0,9,  -999.00,   7.73623,2,    25.01, -999.00,9, -999.00,9, -999.00,-999.000,9, -999.00,9, -999.00,9,     -999.0,5, 20210410,      357,   9.4185, -52.3337,     3.2956,2,     0.0428,1,     4.6886,1,     -999.0,9,     -999.0,9,     -999.0,9,     -999.0,9
325020210316,        A20,      72,          1,          9,          9,2,20210410,       0303,     9.4185,   -52.3337,       4817,  2615.5,   3.0801,  34.9465,2,  34.9447,2,    260.6,2,   260.9,2,   21.36,2,   18.41,2,    0.00,2,    1.22,2,-999.000,9,-999.000,9, -999.00,9,  2172.7,2,  2317.9,2,   -999.0,9,  -999.00,   7.73743,2,    25.00, -999.00,9, -999.00,9, -999.00,-999.000,9, -999.00,9, -999.00,9,     -999.0,9, 20210410,      352,   9.4185, -52.3338,     3.0798,2,     0.0423,1,     4.6899,1,     -999.0,9,     -999.0,9,     -999.0,9,     -999.0,9
325020210316,        A20,      72,          1,          8,          8,2,20210410,       0303,     9.4185,   -52.3337,       4817,  2869.6,   2.9115,  34.9371,2,  34.9357,2,    256.2,2,   256.6,2,   26.63,2,   19.41,2,    0.00,2,    1.28,2,   0.422,2,   0.219,2,    0.16,2,  2177.0,2, 2324.34,2,    737.4,2,    20.00,   7.73701,2,    25.00, -999.00,9, -999.00,9, -999.00,-999.000,9, -999.00,9, -999.00,9,      13.54,2, 20210410,      346,   9.4185, -52.3338,     2.9110,2,     0.0423,1,     4.6911,1,     -999.0,9,     -999.0,9,     -999.0,9,     -999.0,9
325020210316,        A20,      72,          1,          7,          7,2,20210410,       0303,     9.4185,   -52.3337,       4817,  3141.0,   2.7201,  34.9242,2,  34.9221,3,    258.1,2,   258.3,2,   28.48,2,   19.36,2,    0.00,2,    1.28,2,   0.474,2,   0.251,2,    0.21,2,  2180.3,2, 2321.98,6,   -999.0,9,  -999.00,   7.73565,2,    25.01, -999.00,9, -999.00,9, -999.00,-999.000,9, -999.00,9, -999.00,9,      13.70,2, 20210410,      340,   9.4185, -52.3338,     2.7200,2,     0.0427,1,     4.6897,1,     -999.0,9,     -999.0,9,     -999.0,9,     -999.0,9
325020210316,        A20,      72,          1,          6,          6,2,20210410,       0303,     9.4185,   -52.3337,       4817,  3447.8,   2.5476,  34.9112,2,  34.9087,3,    258.7,2,   258.8,2,   31.21,2,   19.50,2,    0.00,2,    1.29,2,-999.000,9,-999.000,9, -999.00,9,  2182.0,2, 2328.44,2,   -999.0,9,  -999.00,   7.73404,2,    24.99, -999.00,9, -999.00,9, -999.00,-999.000,9, -999.00,9, -999.00,9,     -999.0,9, 20210410,      334,   9.4185, -52.3338,     2.5476,2,     0.0427,1,     4.6897,1,     -999.0,9,     -999.0,9,     -999.0,9,     -999.0,9
325020210316,        A20,      72,          1,          5,          5,2,20210410,       0303,     9.4185,   -52.3337,       4817,  3754.7,   2.4045,  34.9006,2,  34.8983,3,    261.7,2,   261.6,2,   31.60,2,   19.35,2,    0.00,2,    1.28,2,   0.620,2,   0.319,2,    0.20,2,  2182.5,2, 2326.75,2,    745.1,2,    20.00,   7.73336,2,    24.99, -999.00,9, -999.00,9, -999.00,-999.000,9, -999.00,9, -999.00,9,      13.32,2, 20210410,      327,   9.4185, -52.3338,     2.4044,2,     0.0428,1,     4.6901,1,     -999.0,9,     -999.0,9,     -999.0,9,     -999.0,9
325020210316,        A20,      72,          1,          4,          4,2,20210410,       0303,     9.4185,   -52.3337,       4817,  4061.8,   2.3062,  34.8923,2,  34.8916,2,    263.0,2,   262.6,2,   32.77,2,   19.24,2,    0.00,2,    1.28,2,   0.644,2,   0.313,2,    0.08,2,  2180.8,2, 2326.83,2,   -999.0,9,  -999.00,   7.73321,2,    25.00, -999.00,9, -999.00,9, -999.00,-999.000,9, -999.00,9, -999.00,9,      12.06,2, 20210410,      321,   9.4185, -52.3338,     2.3062,2,     0.0429,1,     4.6911,1,     -999.0,9,     -999.0,9,     -999.0,9,     -999.0,9
325020210316,        A20,      72,          1,          3,          3,2,20210410,       0303,     9.4185,   -52.3337,       4817,  4367.9,   2.2329,  34.8825,2,  34.8821,2,    260.4,2,   260.2,2,   37.16,2,   19.78,2,    0.00,2,    1.33,2,   0.574,2,   0.288,2,    0.16,2,  2187.8,2, 2330.41,2,   -999.0,9,  -999.00,   7.72829,2,    25.00, -999.00,9, -999.00,9, -999.00,-999.000,9, -999.00,9, -999.00,9,      13.85,2, 20210410,      314,   9.4185, -52.3338,     2.2334,2,     0.0422,1,     4.6907,1,     -999.0,9,     -999.0,9,     -999.0,9,     -999.0,9