BOTTLE,20230512CCHSIOCBG
EXPOCODE,SECT_ID,STNNBR,CASTNO,SAMPNO,BTLNBR,BTLNBR_FLAG_W,DATE,TIME,LATITUDE,LONGITUDE,DEPTH,CTDPRS,CTDTMP,CTDSAL,CTDSAL_FLAG_W,SALNTY,SALNTY_FLAG_W,CTDOXY,CTDOXY_FLAG_W,OXYGEN,OXYGEN_FLAG_W,SILCAT,SILCAT_FLAG_W,NITRAT,NITRAT_FLAG_W,NITRIT,NITRIT_FLAG_W,PHSPHT,PHSPHT_FLAG_W,CFC-11,CFC-11_FLAG_W,CFC-12,CFC-12_FLAG_W,SF6,SF6_FLAG_W,TCARBN,TCARBN_FLAG_W,ALKALI,ALKALI_FLAG_W,FCO2,FCO2_FLAG_W,FCO2TMP,PH_TOT,PH_TOT_FLAG_W,PH_TMP,DELC13,DELC13_FLAG_W,DELC14,DELC14_FLAG_W,C14ERR,POC,POC_FLAG_W,DOC,DOC_FLAG_W,TDN,TDN_FLAG_W,N2O,N2O_FLAG_W,BTL_DATE,BTL_TIME,BTL_LAT,BTL_LON,REFTMP,REFTMP_FLAG_W,CTDFLUOR,CTDFLUOR_FLAG_W,CTDXMISS,CTDXMISS_FLAG_W,D15N_NO2+NO3,D15N_NO2+NO3_FLAG_W,D18O_NO2+NO3,D18O_NO2+NO3_FLAG_W,HPLC,HPLC_FLAG_W,MICROGELS,MICROGELS_FLAG_W
,,,,,,,,,,,METERS,DBAR,ITS-90,PSS-78,,PSS-78,,UMOL/KG,,UMOL/KG,,UMOL/KG,,UMOL/KG,,UMOL/KG,,UMOL/KG,,PMOL/KG,,PMOL/KG,,FMOL/KG,,UMOL/KG,,UMOL/KG,,UATM,,DEG C,,,DEG C,/MILLE,,/MILLE,,/MILLE,UG/KG,,UMOL/KG,,UMOL/KG,,NMOL/KG,,,,,,ITS-90,,VOLTS,,VOLTS,,/MILLE,,/MILLE,,,,1E6 GELS/L,
325020210316,        A20,      32,          1,         36,         36,2,20210329,       0945,    31.7228,   -52.3338,       5330,     5.1,  21.0072,  36.8855,2,-999.0000,9,    222.9,2,  -999.0,9, -999.00,9, -999.00,9, -999.00,9, -999.00,9,-999.000,9,-999.000,9, -999.00,9,  -999.0,9, -999.00,9,   -999.0,9,  -999.00,-999.00000,9,  -999.00, -999.00,9, -999.00,9, -999.00,-999.000,1, -999.00,9, -999.00,9,     -999.0,9, 20210329,     1208,  31.7228, -52.3338,     -999.0,9,     0.0449,1,     4.6215,1,     -999.0,9,     -999.0,9,     -999.0,1,     -999.0,9
325020210316,        A20,      32,          1,         35,         35,2,20210329,       0945,    31.7228,   -52.3338,       5330,     5.1,  21.0082,  36.8855,2,  36.8885,2,    222.8,2,   223.0,2,    0.59,2,    0.00,2,    0.00,2,    0.00,2,   1.722,2,   1.182,2,    1.94,2,  2102.6,6, 2410.51,2,    346.6,2,    20.00,   8.03951,2,    24.99, -999.00,9, -999.00,9, -999.00,-999.000,9,   65.00,2,    3.16,2,       6.84,2, 20210329,     1208,  31.7228, -52.3338,    21.0062,2,     0.0461,1,     4.6215,1,     -999.0,9,     -999.0,9,     -999.0,9,     -999.0,9
325020210316,        A20,      32,          1,         34,         34,2,20210329,       0945,    31.7228,   -52.3338,       5330,    35.6,  20.6680,  36.8321,2,  36.8218,2,    225.2,2,   225.1,2,    0.59,2,    0.00,2,    0.00,2,    0.00,2,-999.000,9,-999.000,9, -999.00,9,  2100.7,2, 2407.49,6,    347.7,2,    20.00,   8.03739,6,    25.00, -999.00,9, -999.00,9, -999.00,-999.000,9,   66.08,2,    4.14,2,     -999.0,9, 20210329,     1206,  31.7228, -52.3338,    20.6850,2,     0.0557,1,     4.6104,1,     -999.0,9,     -999.0,9,     -999.0,9,     -999.0,9
325020210316,        A20,      32,          1,         32,         32,2,20210329,       0945,    31.7228,   -52.3338,       5330,    59.6,  19.8728,  36.7079,2,  36.7121,2,    224.9,2,  -999.0,9,    0.59,2,    0.03,2,    0.01,2,    0.00,2,-999.000,9,-999.000,9, -999.00,9,  -999.0,9, -999.00,9,   -999.0,9,  -999.00,-999.00000,9,  -999.00, -999.00,9, -999.00,9, -999.00,-999.000,1, -999.00,9, -999.00,9,     -999.0,9, 20210329,     1205,  31.7228, -52.3338,    19.8791,2,     0.1009,1,     4.5864,1,     -999.0,9,     -999.0,9,     -999.0,1,     -999.0,9
325020210316,        A20,      32,          1,         33,         33,2,20210329,       0945,    31.7228,   -52.3338,       5330,    59.7,  19.8792,  36.7087,2,  36.7098,2,    224.9,2,   226.0,2,    0.59,2,    0.03,2,    0.00,2,    0.00,2,   1.764,2,   1.224,2,    1.95,2,  2102.3,2, 2399.53,2,    356.3,2,    20.00,   8.02832,2,    25.03, -999.00,9, -999.00,9, -999.00,-999.000,9,   60.71,2,    4.02,2,       7.10,2, 20210329,     1205,  31.7228, -52.3338,     -999.0,9,     0.1097,1,     4.5862,1,     -999.0,9,     -999.0,9,     -999.0,9,     -999.0,9
325020210316,        A20,      32,          1,         31,         31,2,20210329,       0945,    31.7228,   -52.3338,       5330,    85.4,  19.5398,  36.6712,2,  36.6717,2,    219.3,2,   220.0,2,    0.68,2,    0.40,2,    0.20,2,    0.00,2,-999.000,9,-999.000,9, -999.00,9,  2106.2,2, 2397.32,2,    369.5,2,    20.00,    8.0142,2,    25.01, -999.00,9, -999.00,9, -999.00,-999.000,9,   57.28,2,    4.81,2,     -999.0,9, 20210329,     1203,  31.7228, -52.3338,    19.5383,2,     0.0692,1,     4.6618,1,     -999.0,9,     -999.0,9,     -999.0,9,     -999.0,9
325020210316,        A20,      32,          1,         30,         30,2,20210329,       0945,    31.7228,   -52.3338,       5330,   115.5,  19.4769,  36.6691,2,  36.6699,2,    222.0,2,   222.5,2,    0.68,2,    0.25,2,    0.24,2,    0.00,2,   1.850,2,   1.236,2,    1.99,2,  2106.0,2,  2400.0,2,   -999.0,9,  -999.00,   8.01595,2,    25.03, -999.00,9, -999.00,9, -999.00,-999.000,9,   59.04,2,    4.35,2,       7.22,2, 20210329,     1202,  31.7228, -52.3338,    19.4735,2,     0.0520,1,     4.6765,1,     -999.0,9,     -999.0,9,     -999.0,9,     -999.0,9
325020210316,        A20,      32,          1,         29,         29,2,20210329,       0945,    31.7228,   -52.3338,       5330,   166.9,  19.3212,  36.6505,2,  36.6503,2,    218.4,3,   221.4,2,    0.78,2,    0.67,2,    0.14,2,    0.01,2,-999.000,9,-999.000,9, -999.00,9,  2108.3,2, 2396.12,2,    372.6,2,    20.00,   8.01107,2,    25.05, -999.00,9, -999.00,9, -999.00,-999.000,9,   59.00,2,    4.30,2,     -999.0,9, 20210329,     1200,  31.7228, -52.3338,    19.3195,2,     0.0498,1,     4.6810,1,     -999.0,9,     -999.0,9,     -999.0,9,     -999.0,9
325020210316,        A20,      32,          1,         28,         28,2,20210329,       0945,    31.7228,   -52.3338,       5330,   216.6,  19.2221,  36.6416,2,  36.6417,2,    219.2,2,   220.0,2,    0.78,2,    0.98,2,    0.07,2,    0.02,2,   1.883,2,   1.254,2,    1.98,2,  2109.4,2,  2395.9,2,   -999.0,9,  -999.00,   8.00812,2,    25.03, -999.00,9, -999.00,9, -999.00,-999.000,9,   55.39,2,    4.65,2,       7.37,2, 20210329,     1158,  31.7228, -52.3338,    19.2192,2,     0.0427,1,     4.6876,1,     -999.0,9,     -999.0,9,     -999.0,9,     -999.0,9
325020210316,        A20,      32,          1,         27,         27,2,20210329,       0945,    31.7228,   -52.3338,       5330,   266.9,  19.0366,  36.6176,2,  36.6187,2,    213.3,3,   210.6,2,    0.98,2,    2.04,2,    0.00,2,    0.08,2,-999.000,9,-999.000,9, -999.00,9,  2116.3,2, 2393.08,2,    391.6,2,    20.00,   7.99131,2,    25.05, -999.00,9, -999.00,9, -999.00,-999.000,9,   53.07,2,    5.91,2,     -999.0,9, 20210329,     1155,  31.7228, -52.3338,    19.0322,2,     0.0396,1,     4.6887,1,     -999.0,9,     -999.0,9,     -999.0,9,     -999.0,9
325020210316,        A20,      32,          1,         26,         26,2,20210329,       0945,    31.7228,   -52.3338,       5330,   318.3,  18.7654,  36.5953,2,  36.5942,2,    204.8,2,   203.6,2,    1.17,2,    2.99,2,    0.00,2,    0.12,2,   1.916,2,   1.287,2,    1.84,2,  2117.9,2,  2391.9,2,    407.4,2,    20.00,   7.97753,2,    25.03, -999.00,9, -999.00,9, -999.00,-999.000,9,   48.75,2,    6.53,2,       7.84,2, 20210329,     1154,  31.7228, -52.3338,    18.7667,2,     0.0395,1,     4.6911,1,     -999.0,9,     -999.0,9,     -999.0,9,     -999.0,9
325020210316,        A20,      32,          1,         25,         25,2,20210329,       0945,    31.7228,   -52.3338,       5330,   368.6,  18.4171,  36.5485,2,  36.5492,2,    197.7,2,   196.2,2,    1.37,2,    4.16,2,    0.00,2,    0.18,2,-999.000,9,-999.000,9, -999.00,9,  2126.4,2, 2390.05,2,    427.1,2,    20.00,   7.95742,2,    25.03, -999.00,9, -999.00,9, -999.00,-999.000,9,   49.96,2,    8.02,2,     -999.0,9, 20210329,     1152,  31.7228, -52.3338,    18.4165,2,     0.0389,1,     4.6931,1,     -999.0,9,     -999.0,9,     -999.0,9,     -999.0,9
325020210316,        A20,      32,          1,         24,         24,2,20210329,       0945,    31.7228,   -52.3338,       5330,   438.1,  17.5836,  36.4006,2,  36.3978,2,    190.7,3,   193.2,2,    1.85,2,    5.66,2,    0.00,2,    0.26,2,   2.001,2,   1.347,2,    1.73,2,  2133.9,6, 2382.26,2,    457.0,2,    20.00,   7.93219,2,    25.01, -999.00,9, -999.00,9, -999.00,-999.000,9,   50.30,2,    8.41,2,       9.27,2, 20210329,     1150,  31.7228, -52.3338,    17.5817,2,     0.0398,1,     4.6943,1,     -999.0,9,     -999.0,9,     -999.0,9,     -999.0,9
325020210316,        A20,      32,          1,         23,         23,2,20210329,       0945,    31.7228,   -52.3338,       5330,   539.2,  16.0303,  36.1525,2,  36.1466,2,    185.5,2,   184.6,2,    3.22,2,    9.05,2,    0.00,2,    0.49,2,   2.235,2,   1.372,2,    1.61,2,  2143.2,2, 2366.19,2,    517.4,2,    20.00,    7.8818,2,    25.04, -999.00,9, -999.00,9, -999.00,-999.000,9,   49.60,2,   13.15,2,      11.17,2, 20210329,     1147,  31.7228, -52.3338,    16.0705,2,     0.0398,1,     4.6966,1,     -999.0,9,     -999.0,9,     -999.0,9,     -999.0,9
325020210316,        A20,      32,          1,         22,         22,2,20210329,       0945,    31.7228,   -52.3338,       5330,   640.6,  14.2862,  35.8646,2,  35.8607,2,    179.4,2,   179.1,2,    4.79,2,   12.23,2,    0.00,2,    0.70,2,   2.189,2,   1.368,2,    1.46,2,  2158.3,2, 2350.48,2,    586.3,2,    20.00,   7.83133,2,    25.02, -999.00,9, -999.00,9, -999.00,-999.000,9, -999.00,9, -999.00,9,      13.23,2, 20210329,     1144,  31.7228, -52.3338,    14.2745,2,     0.0413,1,     4.6996,1,     -999.0,9,     -999.0,9,     -999.0,9,     -999.0,9
325020210316,        A20,      32,          1,         21,         21,2,20210329,       0945,    31.7228,   -52.3338,       5330,   741.4,  11.9815,  35.5367,2,  35.5332,2,    163.1,2,   162.1,2,    8.30,2,   17.76,2,    0.00,2,    1.07,2,   1.521,2,   1.199,2,    1.12,2,  2177.2,2, 2334.31,2,    717.1,6,    20.00,   7.75004,2,    25.03, -999.00,9, -999.00,9, -999.00,-999.000,9,   45.22,2,   22.05,2,      16.68,2, 20210329,     1141,  31.7228, -52.3338,    11.9750,2,     0.0410,1,     4.7019,1,     -999.0,9,     -999.0,9,     -999.0,9,     -999.0,9
325020210316,        A20,      32,          1,         20,         20,2,20210329,       0945,    31.7228,   -52.3338,       5330,   843.1,   9.7818,  35.3277,2,  35.3277,2,    163.7,2,   164.2,2,   11.23,2,   20.55,2,    0.00,2,    1.27,2,   1.729,2,   1.033,2,    0.86,2,  2186.3,2, 2326.14,2,    797.7,2,    20.00,   7.70462,2,    25.05, -999.00,9, -999.00,9, -999.00,-999.000,9, -999.00,9, -999.00,9,      17.59,2, 20210329,     1138,  31.7228, -52.3338,     9.7838,2,     0.0413,1,     4.7033,1,     -999.0,9,     -999.0,9,     -999.0,9,     -999.0,9
325020210316,        A20,      32,          1,         19,         19,2,20210329,       0945,    31.7228,   -52.3338,       5330,   943.3,   7.7852,  35.1964,2,  35.1961,2,    178.1,2,   179.9,2,   13.29,2,   21.38,2,    0.00,2,    1.36,2,   1.685,2,   0.927,2,    0.66,2,  2189.8,2, 2321.55,2,    831.4,2,    20.00,   7.68777,2,    25.03, -999.00,9, -999.00,9, -999.00,-999.000,9, -999.00,9, -999.00,9,      17.33,2, 20210329,     1135,  31.7228, -52.3338,     7.7932,2,     0.0418,1,     4.7045,1,     -999.0,9,     -999.0,9,     -999.0,9,     -999.0,9
325020210316,        A20,      32,          1,         18,         18,2,20210329,       0945,    31.7228,   -52.3338,       5330,  1045.4,   6.7428,  35.1638,2,  35.1644,2,    198.6,2,   200.3,2,   13.09,2,   20.43,2,    0.00,2,    1.30,2,   1.801,2,   0.982,2,    0.71,2,  2184.4,2, 2320.99,2,    815.3,2,    20.00,   7.69603,2,    25.02, -999.00,9, -999.00,9, -999.00,-999.000,9,   44.84,2,   25.34,2,      16.12,2, 20210329,     1131,  31.7228, -52.3338,     6.7490,2,     0.0424,1,     4.7057,1,     -999.0,9,     -999.0,9,     -999.0,9,     -999.0,9
325020210316,        A20,      32,          1,         17,         17,2,20210329,       0945,    31.7228,   -52.3338,       5330,  1144.5,   6.2194,  35.1675,2,  35.1681,2,    210.2,2,   211.5,2,   13.48,2,   20.00,2,    0.00,2,    1.27,2,   1.658,2,   0.892,2,    0.61,2,  2182.9,2,  2322.2,2,   -999.0,9,  -999.00,   7.70603,2,    24.98, -999.00,9, -999.00,9, -999.00,-999.000,9, -999.00,9, -999.00,9,      15.37,2, 20210329,     1128,  31.7228, -52.3338,     6.2191,2,     0.0418,1,     4.7064,1,     -999.0,9,     -999.0,9,     -999.0,9,     -999.0,9
325020210316,        A20,      32,          1,         16,         16,2,20210329,       0945,    31.7228,   -52.3338,       5330,  1247.7,   5.3949,  35.0811,2,  35.0848,2,    234.7,2,   233.5,2,   12.02,2,   18.66,2,    0.00,2,    1.19,2,   2.567,2,   1.340,2,    1.03,2,  2177.5,2, 2314.97,2,    795.3,2,    20.00,   7.70525,2,    25.02, -999.00,9, -999.00,9, -999.00,-999.000,9, -999.00,9, -999.00,9,      14.48,2, 20210329,     1124,  31.7228, -52.3338,     5.3963,2,     0.0427,1,     4.7053,1,     -999.0,9,     -999.0,9,     -999.0,9,     -999.0,9
325020210316,        A20,      32,          1,         15,         15,2,20210329,       0945,    31.7228,   -52.3338,       5330,  1350.2,   4.9233,  35.0418,2,  35.0437,2,    245.8,2,   245.8,2,   11.73,2,   18.08,2,    0.00,2,    1.16,2,   2.699,2,   1.465,2,    1.08,2,  2173.0,2, 2312.69,2,   -999.0,9,  -999.00,   7.70608,2,    25.03, -999.00,9, -999.00,9, -999.00,-999.000,9,   43.97,2,   21.82,2,      14.31,2, 20210329,     1121,  31.7228, -52.3338,     4.9266,2,     0.0424,1,     4.7052,1,     -999.0,9,     -999.0,9,     -999.0,9,     -999.0,9
325020210316,        A20,      32,          1,         14,         14,2,20210329,       0945,    31.7228,   -52.3338,       5330,  1477.6,   4.6682,  35.0383,2,  35.0405,2,    250.4,2,   251.2,2,   12.02,2,   17.79,2,    0.00,2,    1.14,2,   2.703,2,   1.401,2,    1.04,2,  2171.1,2, 2311.79,2,    776.3,2,    20.00,   7.71256,2,    25.02, -999.00,9, -999.00,9, -999.00,-999.000,9, -999.00,9, -999.00,9,      13.65,2, 20210329,     1117,  31.7228, -52.3338,     4.6701,2,     0.0418,1,     4.7057,1,     -999.0,9,     -999.0,9,     -999.0,9,     -999.0,9
325020210316,        A20,      32,          1,         13,         13,2,20210329,       0945,    31.7228,   -52.3338,       5330,  1682.8,   4.5494,  35.0707,2,  35.0713,2,    248.4,2,   248.3,2,   13.88,2,   18.02,2,    0.00,2,    1.16,2,   1.953,2,   1.003,2,    0.51,2,  2170.4,2, 2316.55,2,   -999.0,9,  -999.00,   7.72449,2,    25.03, -999.00,9, -999.00,9, -999.00,-999.000,9,   44.78,2,   20.58,2,      13.50,2, 20210329,     1112,  31.7228, -52.3338,     4.5494,2,     0.0420,1,     4.7072,1,     -999.0,9,     -999.0,9,     -999.0,9,     -999.0,9
325020210316,        A20,      32,          1,         12,         12,2,20210329,       0945,    31.7228,   -52.3338,       5330,  1888.2,   4.0316,  35.0197,2,  35.0197,2,    254.7,2,   255.1,2,   15.15,2,   17.96,2,    0.00,2,    1.17,2,-999.000,9,-999.000,9, -999.00,9,  2167.5,2, 2313.35,2,    750.9,2,    20.00,   7.72718,2,    25.03, -999.00,9, -999.00,9, -999.00,-999.000,9,   44.97,2,   20.95,2,     -999.0,9, 20210329,     1107,  31.7228, -52.3339,     4.0356,2,     0.0419,1,     4.7070,1,     -999.0,9,     -999.0,9,     -999.0,9,     -999.0,9
325020210316,        A20,      32,          1,         11,         11,2,20210329,       0945,    31.7228,   -52.3338,       5330,  2110.3,   3.7444,  35.0111,2,  35.0114,2,    254.0,2,   253.4,2,   19.25,2,   18.45,2,    0.00,2,    1.21,2,   1.132,2,   0.609,2,    0.23,2,  2170.0,6, 2318.02,2,   -999.0,9,  -999.00,   7.73135,2,    25.01, -999.00,9, -999.00,9, -999.00,-999.000,9,   44.96,2,   20.61,2,      14.03,2, 20210329,     1102,  31.7228, -52.3339,     3.7436,2,     0.0423,1,     4.7075,1,     -999.0,9,     -999.0,9,     -999.0,9,     -999.0,9
325020210316,        A20,      32,          1,         10,         10,2,20210329,       0945,    31.7228,   -52.3338,       5330,  2364.0,   3.4469,  34.9852,2,  34.9854,2,    253.9,2,   254.3,2,   22.18,2,   18.74,2,    0.00,2,    1.24,2,-999.000,9,-999.000,9, -999.00,9,  2170.1,2, 2320.85,6,    741.6,2,    20.00,   7.73227,2,    25.04, -999.00,9, -999.00,9, -999.00,-999.000,9,   43.42,2,   21.57,2,     -999.0,9, 20210329,     1054,  31.7228, -52.3339,     3.4465,2,     0.0428,1,     4.7074,1,     -999.0,9,     -999.0,9,     -999.0,9,     -999.0,9
325020210316,        A20,      32,          1,          9,          9,2,20210329,       0945,    31.7228,   -52.3338,       5330,  2567.3,   3.2693,  34.9715,2,  34.9717,2,    252.9,2,   253.7,2,   24.72,2,   19.15,2,    0.00,2,    1.27,2,   0.643,6,   0.356,6,    0.17,6,  2171.7,2, 2323.65,2,   -999.0,9,  -999.00,   7.73576,6,    25.02, -999.00,9, -999.00,9, -999.00,-999.000,9, -999.00,9, -999.00,9,      13.54,6, 20210329,     1050,  31.7228, -52.3339,     3.2695,2,     0.0422,1,     4.7076,1,     -999.0,9,     -999.0,9,     -999.0,9,     -999.0,9
325020210316,        A20,      32,          1,          8,          8,2,20210329,       0945,    31.7228,   -52.3338,       5330,  2874.1,   3.0293,  34.9524,2,  34.9528,2,    253.6,2,   254.3,2,   27.26,2,   19.47,2,    0.00,2,    1.29,2,-999.000,5,-999.000,5, -999.00,5,  2173.5,2, 2325.91,2,    733.9,2,    20.00,   7.73594,2,    25.06, -999.00,9, -999.00,9, -999.00,-999.000,9,   42.75,2,   22.20,2,     -999.0,5, 20210329,     1044,  31.7228, -52.3339,     3.0290,2,     0.0428,1,     4.7070,1,     -999.0,9,     -999.0,9,     -999.0,9,     -999.0,9
325020210316,        A20,      32,          1,          7,          7,2,20210329,       0945,    31.7228,   -52.3338,       5330,  3145.2,   2.8348,  34.9371,2,  34.9372,2,    255.1,2,   256.1,2,   29.22,2,   19.59,2,    0.00,2,    1.30,2,   0.319,2,   0.160,2,    0.15,2,  2172.0,2, 2325.75,2,   -999.0,9,  -999.00,   7.73788,2,    25.01, -999.00,9, -999.00,9, -999.00,-999.000,9, -999.00,9, -999.00,9,      12.92,2, 20210329,     1037,  31.7228, -52.3339,     2.8343,2,     0.0421,1,     4.7070,1,     -999.0,9,     -999.0,9,     -999.0,9,     -999.0,9
325020210316,        A20,      32,          1,          6,          6,2,20210329,       0945,    31.7228,   -52.3338,       5330,  3452.1,   2.6168,  34.9193,2,  34.9187,2,    261.8,2,   262.8,2,   27.46,2,   18.92,2,    0.00,2,    1.26,2,-999.000,9,-999.000,9, -999.00,9,  2169.8,2, 2321.53,2,    730.1,2,    20.00,   7.73977,2,    25.03, -999.00,9, -999.00,9, -999.00,-999.000,9,   42.62,2,   22.47,2,     -999.0,9, 20210329,     1031,  31.7228, -52.3339,     2.6161,2,     0.0424,1,     4.7066,1,     -999.0,9,     -999.0,9,     -999.0,9,     -999.0,9
325020210316,        A20,      32,          1,          5,          5,2,20210329,       0945,    31.7228,   -52.3338,       5330,  3793.9,   2.4317,  34.9047,2,  34.9042,2,    262.8,2,   264.7,2,   29.32,2,   18.93,2,    0.00,2,    1.26,2,   0.621,2,   0.313,2,    0.17,2,  2170.5,2, 2321.67,2,   -999.0,9,  -999.00,    7.7382,2,    25.06, -999.00,9, -999.00,9, -999.00,-999.000,9,   42.74,2,   24.07,2,      12.94,2, 20210329,     1022,  31.7228, -52.3339,     2.4313,2,     0.0429,1,     4.7070,1,     -999.0,9,     -999.0,9,     -999.0,9,     -999.0,9
325020210316,        A20,      32,          1,          4,          4,2,20210329,       0945,    31.7228,   -52.3338,       5330,  4203.5,   2.2859,  34.8903,2,  34.8898,2,    261.4,2,   263.4,2,   33.52,2,   19.40,2,    0.00,2,    1.30,2,-999.000,9,-999.000,9, -999.00,9,  2178.1,2, 2325.83,2,    743.1,2,    20.00,   7.73246,2,    25.01, -999.00,9, -999.00,9, -999.00,-999.000,9,   41.58,2,   22.92,2,     -999.0,9, 20210329,     1014,  31.7228, -52.3339,     2.2857,2,     0.0417,1,     4.7063,1,     -999.0,9,     -999.0,9,     -999.0,9,     -999.0,9
325020210316,        A20,      32,          1,          3,          3,2,20210329,       0945,    31.7228,   -52.3338,       5330,  4616.3,   2.2084,  34.8777,2,  34.8776,2,    258.8,2,   259.0,2,   40.36,2,   20.48,2,    0.00,2,    1.38,2,   0.504,2,   0.266,2,    0.18,2,  2183.4,2, 2332.15,6,   -999.0,9,  -999.00,   7.72837,6,    25.05, -999.00,9, -999.00,9, -999.00,-999.000,9,   42.99,2,   20.78,2,      13.66,2, 20210329,     1005,  31.7228, -52.3339,     2.2094,2,     0.0429,1,     4.7042,1,     -999.0,9,     -999.0,9,     -999.0,9,     -999.0,9