BOTTLE,20230512CCHSIOCBG
EXPOCODE,SECT_ID,STNNBR,CASTNO,SAMPNO,BTLNBR,BTLNBR_FLAG_W,DATE,TIME,LATITUDE,LONGITUDE,DEPTH,CTDPRS,CTDTMP,CTDSAL,CTDSAL_FLAG_W,SALNTY,SALNTY_FLAG_W,CTDOXY,CTDOXY_FLAG_W,OXYGEN,OXYGEN_FLAG_W,SILCAT,SILCAT_FLAG_W,NITRAT,NITRAT_FLAG_W,NITRIT,NITRIT_FLAG_W,PHSPHT,PHSPHT_FLAG_W,CFC-11,CFC-11_FLAG_W,CFC-12,CFC-12_FLAG_W,SF6,SF6_FLAG_W,TCARBN,TCARBN_FLAG_W,ALKALI,ALKALI_FLAG_W,FCO2,FCO2_FLAG_W,FCO2TMP,PH_TOT,PH_TOT_FLAG_W,PH_TMP,DELC13,DELC13_FLAG_W,DELC14,DELC14_FLAG_W,C14ERR,POC,POC_FLAG_W,DOC,DOC_FLAG_W,TDN,TDN_FLAG_W,N2O,N2O_FLAG_W,BTL_DATE,BTL_TIME,BTL_LAT,BTL_LON,REFTMP,REFTMP_FLAG_W,CTDFLUOR,CTDFLUOR_FLAG_W,CTDXMISS,CTDXMISS_FLAG_W,D15N_NO2+NO3,D15N_NO2+NO3_FLAG_W,D18O_NO2+NO3,D18O_NO2+NO3_FLAG_W,HPLC,HPLC_FLAG_W,MICROGELS,MICROGELS_FLAG_W
,,,,,,,,,,,METERS,DBAR,ITS-90,PSS-78,,PSS-78,,UMOL/KG,,UMOL/KG,,UMOL/KG,,UMOL/KG,,UMOL/KG,,UMOL/KG,,PMOL/KG,,PMOL/KG,,FMOL/KG,,UMOL/KG,,UMOL/KG,,UATM,,DEG C,,,DEG C,/MILLE,,/MILLE,,/MILLE,UG/KG,,UMOL/KG,,UMOL/KG,,NMOL/KG,,,,,,ITS-90,,VOLTS,,VOLTS,,/MILLE,,/MILLE,,,,1E6 GELS/L,
325020210316,        A20,       3,          1,         12,         12,2,20210321,       0854,    43.0076,   -50.8136,        159,     4.6,   2.5152,  32.6643,2,  32.6482,2,    334.2,2,   333.8,2,    6.06,2,    5.71,2,    0.16,2,    0.67,2,   5.574,2,   2.840,2,    0.82,3,  2096.9,6, 2211.45,2,    828.0,2,    20.00,   7.68022,6,    25.01, -999.00,9, -999.00,9, -999.00,-999.000,9,   62.06,2,    8.98,2,      14.36,2, 20210321,      914,  43.0076, -50.8136,     2.5325,2,     0.1159,1,     4.3385,1,     -999.0,9,     -999.0,9,     -999.0,9,     -999.0,9
325020210316,        A20,       3,          1,         11,         11,2,20210321,       0854,    43.0076,   -50.8136,        159,    21.3,   2.1881,  32.9285,2,-999.0000,9,    338.1,2,  -999.0,9, -999.00,9, -999.00,9, -999.00,9, -999.00,9,-999.000,9,-999.000,9, -999.00,9,  -999.0,9, -999.00,9,   -999.0,9,  -999.00,-999.00000,9,  -999.00, -999.00,9, -999.00,9, -999.00,-999.000,9, -999.00,9, -999.00,9,     -999.0,9, 20210321,      914,  43.0076, -50.8136,     2.1959,2,     0.1344,1,     4.4238,1,     -999.0,9,     -999.0,9,     -999.0,9,     -999.0,9
325020210316,        A20,       3,          1,         10,         10,2,20210321,       0854,    43.0076,   -50.8136,        159,    25.4,   2.1944,  32.9213,2,  32.9164,2,    337.7,2,   337.7,2,    5.57,2,    6.02,2,    0.13,2,    0.67,2,-999.000,9,-999.000,9, -999.00,9,  2104.5,2, 2222.89,2,    818.8,2,    20.00,   7.68721,2,    25.01, -999.00,9, -999.00,9, -999.00,-999.000,9,   61.05,2,    8.80,2,     -999.0,9, 20210321,      911,  43.0076, -50.8136,     2.1948,2,     0.1384,1,     4.4191,1,     -999.0,9,     -999.0,9,     -999.0,9,     -999.0,9
325020210316,        A20,       3,          1,          9,          9,2,20210321,       0854,    43.0076,   -50.8136,        159,    40.5,   1.8185,  33.1501,2,  33.1540,2,    338.5,2,   337.2,2,    4.99,2,    6.38,2,    0.11,2,    0.69,2,   3.753,4,   2.723,4,    5.66,4,  2113.4,2, 2231.43,2,    817.9,2,    20.00,   7.68836,2,    25.01, -999.00,9, -999.00,9, -999.00,-999.000,9,   60.10,2,    8.40,2,       8.70,4, 20210321,      909,  43.0076, -50.8136,     1.8255,2,     0.1018,1,     4.5340,1,     -999.0,9,     -999.0,9,     -999.0,9,     -999.0,9
325020210316,        A20,       3,          1,          8,          8,2,20210321,       0854,    43.0076,   -50.8136,        159,    56.0,   1.4266,  33.3891,2,  33.3855,2,    332.9,2,   334.1,2,    5.18,2,    7.18,2,    0.11,2,    0.73,2,-999.000,9,-999.000,9, -999.00,9,  2122.4,2,  2254.9,3,    832.5,2,    20.00,    7.6812,2,    25.01, -999.00,9, -999.00,9, -999.00,-999.000,9,   56.21,2,    9.77,2,     -999.0,9, 20210321,      906,  43.0076, -50.8136,     1.4270,2,     0.0802,1,     4.5866,1,     -999.0,9,     -999.0,9,     -999.0,9,     -999.0,9
325020210316,        A20,       3,          1,          7,          7,2,20210321,       0854,    43.0076,   -50.8136,        159,    70.3,   1.4429,  33.4407,2,  33.4266,2,    332.1,2,   332.3,2,    5.57,2,    7.44,2,    0.11,2,    0.75,2,   5.973,2,   2.889,6,    0.72,3,  2125.3,2, 2241.85,2,    838.9,2,    20.00,   7.67931,6,    25.02, -999.00,9, -999.00,9, -999.00,-999.000,9,   57.62,2,   10.18,2,      14.99,2, 20210321,      905,  43.0076, -50.8136,     1.4404,2,     0.0737,1,     4.6390,1,     -999.0,9,     -999.0,9,     -999.0,9,     -999.0,9
325020210316,        A20,       3,          1,          6,          6,2,20210321,       0854,    43.0076,   -50.8136,        159,    85.4,   1.4418,  33.4632,2,  33.4596,2,    333.0,2,   332.6,2,    5.57,2,    7.57,2,    0.11,2,    0.75,2,-999.000,9,-999.000,9, -999.00,9,  2127.5,2, 2244.33,2,    839.7,2,    20.00,   7.67956,2,    25.01, -999.00,9, -999.00,9, -999.00,-999.000,9,   58.67,2,   11.04,2,     -999.0,9, 20210321,      903,  43.0076, -50.8136,     1.4422,2,     0.0679,1,     4.6406,1,     -999.0,9,     -999.0,9,     -999.0,9,     -999.0,9
325020210316,        A20,       3,          1,          5,          5,2,20210321,       0854,    43.0076,   -50.8136,        159,    99.9,   1.4279,  33.4730,2,  33.4647,2,    332.5,2,   332.8,2,    5.47,2,    7.56,2,    0.11,2,    0.76,2,   5.511,2,   2.790,2,    1.74,3,  2126.9,2, 2243.36,2,    834.2,2,    20.00,   7.67942,2,    25.01, -999.00,9, -999.00,9, -999.00,-999.000,9,   58.09,2,   10.26,2,      15.01,2, 20210321,      901,  43.0076, -50.8136,     1.4288,2,     0.0733,1,     4.6442,1,     -999.0,9,     -999.0,9,     -999.0,9,     -999.0,9
325020210316,        A20,       3,          1,          4,          4,2,20210321,       0854,    43.0076,   -50.8136,        159,   116.6,   1.4556,  33.5426,3,  33.5219,2,    328.8,2,   329.4,2,    5.77,2,    8.01,2,    0.11,2,    0.77,2,-999.000,9,-999.000,9, -999.00,9,  2128.4,2, 2245.85,2,    843.9,2,    20.00,   7.67643,6,    25.01, -999.00,9, -999.00,9, -999.00,-999.000,9,   57.68,2,   10.15,2,     -999.0,9, 20210321,      859,  43.0076, -50.8136,     1.4427,2,     0.0726,1,     4.6375,1,     -999.0,9,     -999.0,9,     -999.0,9,     -999.0,9
325020210316,        A20,       3,          1,          3,          3,2,20210321,       0854,    43.0076,   -50.8136,        159,   132.3,   1.4946,  33.6115,2,  33.5950,2,    321.6,2,   322.3,2,    6.55,2,    8.74,2,    0.12,2,    0.81,2,   5.680,2,   2.880,2,    1.02,3,  2135.5,2, 2246.56,6,    861.1,2,    20.00,   7.66823,2,    25.01, -999.00,9, -999.00,9, -999.00,-999.000,9,   54.79,2,   12.09,2,      14.96,2, 20210321,      858,  43.0076, -50.8136,     1.4933,2,     0.0724,1,     4.6425,1,     -999.0,9,     -999.0,9,     -999.0,9,     -999.0,9
325020210316,        A20,       3,          1,          2,          2,2,20210321,       0854,    43.0076,   -50.8136,        159,   146.8,   1.5153,  33.6528,2,  33.6461,2,    319.3,2,   319.6,2,    6.84,2,    9.11,2,    0.11,2,    0.82,2,-999.000,9,-999.000,9, -999.00,9,  -999.0,9, -999.00,9,    864.1,2,    20.00,-999.00000,9,  -999.00, -999.00,9, -999.00,9, -999.00,-999.000,9, -999.00,9, -999.00,9,     -999.0,9, 20210321,      855,  43.0076, -50.8136,     1.5152,2,     0.0699,1,     4.6593,1,     -999.0,9,     -999.0,9,     -999.0,9,     -999.0,9
325020210316,        A20,       3,          1,          1,          1,2,20210321,       0854,    43.0076,   -50.8136,        159,   150.5,   1.5168,  33.6592,2,  33.6453,2,    319.5,2,   319.4,2,    6.74,2,    9.16,2,    0.11,2,    0.82,2,   5.817,2,   2.747,2,    0.74,3,  2139.8,2, 2249.63,2,    863.8,2,    20.00,   7.66685,2,    25.01, -999.00,9, -999.00,9, -999.00,-999.000,9,   57.55,2,   11.23,2,      14.96,2, 20210321,      854,  43.0076, -50.8136,     1.5177,2,     0.0656,1,     4.6611,1,     -999.0,9,     -999.0,9,     -999.0,9,     -999.0,9
325020210316,        A20,       4,          1,         20,         20,2,20210321,       1137,    42.9604,   -50.8496,        354,     5.4,   2.3258,  32.7851,2,  32.7865,2,    336.7,2,   335.7,2,    6.16,2,    6.09,2,    0.14,2,    0.68,2,   4.921,2,   2.854,2,    2.09,3,  2102.3,6, 2216.94,2,    826.9,2,    20.00,   7.68317,2,    25.03, -999.00,9, -999.00,9, -999.00,-999.000,9, -999.00,9, -999.00,9,      14.55,2, 20210321,     1216,  42.9604, -50.8496,     2.3223,2,     0.0851,1,     4.3523,1,     -999.0,9,     -999.0,9,     -999.0,9,     -999.0,9
325020210316,        A20,       4,          1,         19,         19,2,20210321,       1137,    42.9604,   -50.8496,        354,    15.3,   2.1250,  32.9331,2,  32.9274,2,    337.6,2,   337.8,2,    5.57,2,    6.18,2,    0.13,2,    0.68,2,-999.000,9,-999.000,9, -999.00,9,  -999.0,9, -999.00,9,   -999.0,9,  -999.00,-999.00000,9,  -999.00, -999.00,9, -999.00,9, -999.00,-999.000,9, -999.00,9, -999.00,9,     -999.0,9, 20210321,     1214,  42.9604, -50.8495,     2.1251,2,     0.1212,1,     4.4159,1,     -999.0,9,     -999.0,9,     -999.0,9,     -999.0,9
325020210316,        A20,       4,          1,         18,         18,2,20210321,       1137,    42.9604,   -50.8496,        354,    30.3,   1.6444,  33.2196,2,  33.2034,2,    336.6,2,   338.6,2,    4.99,2,    6.52,2,    0.10,2,    0.69,2,-999.000,9,-999.000,9, -999.00,9,  2113.4,2,  2235.5,2,    811.8,2,    20.00,   7.69168,6,    25.01, -999.00,9, -999.00,9, -999.00,-999.000,9, -999.00,9, -999.00,9,     -999.0,9, 20210321,     1212,  42.9604, -50.8495,     1.6709,2,     0.1452,1,     4.5354,1,     -999.0,9,     -999.0,9,     -999.0,9,     -999.0,9
325020210316,        A20,       4,          1,         17,         17,2,20210321,       1137,    42.9604,   -50.8496,        354,    45.3,   1.3375,  33.3315,2,  33.3264,2,    337.7,2,   338.1,2,    4.89,2,    6.81,2,    0.09,2,    0.71,2,   5.205,2,   2.955,2,    2.25,3,  -999.0,9, -999.00,9,   -999.0,9,  -999.00,-999.00000,9,  -999.00, -999.00,9, -999.00,9, -999.00,-999.000,9, -999.00,9, -999.00,9,      15.33,2, 20210321,     1210,  42.9604, -50.8496,     1.3318,2,     0.1220,1,     4.5838,1,     -999.0,9,     -999.0,9,     -999.0,9,     -999.0,9
325020210316,        A20,       4,          1,         16,         16,2,20210321,       1137,    42.9604,   -50.8496,        354,    60.7,   1.2614,  33.3467,2,  33.3431,2,    337.6,2,   338.6,2,    4.89,2,    6.86,2,    0.09,2,    0.71,2,-999.000,9,-999.000,9, -999.00,9,  2119.5,2, 2241.37,6,    819.6,2,    20.00,   7.68767,2,    25.02, -999.00,9, -999.00,9, -999.00,-999.000,9, -999.00,9, -999.00,9,     -999.0,9, 20210321,     1208,  42.9604, -50.8496,     1.2605,2,     0.1139,1,     4.5975,1,     -999.0,9,     -999.0,9,     -999.0,9,     -999.0,9
325020210316,        A20,       4,          1,         15,         15,2,20210321,       1137,    42.9604,   -50.8496,        354,    75.3,   1.2680,  33.3562,2,  33.3517,2,    336.9,2,   337.3,2,    4.99,2,    6.97,2,    0.09,2,    0.71,2,-999.000,9,-999.000,9, -999.00,9,  -999.0,9, -999.00,9,   -999.0,9,  -999.00,-999.00000,9,  -999.00, -999.00,9, -999.00,9, -999.00,-999.000,9, -999.00,9, -999.00,9,     -999.0,9, 20210321,     1206,  42.9604, -50.8496,     1.2682,2,     0.1038,1,     4.6007,1,     -999.0,9,     -999.0,9,     -999.0,9,     -999.0,9
325020210316,        A20,       4,          1,         14,         14,2,20210321,       1137,    42.9604,   -50.8496,        354,    90.6,   1.1454,  33.4199,2,  33.4139,2,    328.2,2,   328.5,2,    5.77,2,    7.73,2,    0.10,2,    0.76,2,   5.201,2,   2.969,2,    2.35,3,  2126.4,2, 2242.44,2,    851.8,2,    20.00,    7.6737,2,    25.01, -999.00,9, -999.00,9, -999.00,-999.000,9, -999.00,9, -999.00,9,      15.17,2, 20210321,     1204,  42.9604, -50.8496,     1.1461,2,     0.0899,1,     4.6325,1,     -999.0,9,     -999.0,9,     -999.0,9,     -999.0,9
325020210316,        A20,       4,          1,         12,         12,2,20210321,       1137,    42.9604,   -50.8496,        354,   105.8,   1.2126,  33.4914,2,  33.4170,3,    326.0,2,   328.4,2,    5.67,2,    7.74,2,    0.10,2,    0.76,2,-999.000,9,-999.000,9, -999.00,9,  2127.7,2, 2241.03,2,    851.9,2,    20.00,   7.67085,6,    25.02, -999.00,9, -999.00,9, -999.00,-999.000,9, -999.00,9, -999.00,9,     -999.0,9, 20210321,     1201,  42.9604, -50.8496,     1.2130,2,     0.0753,1,     4.6535,1,     -999.0,9,     -999.0,9,     -999.0,9,     -999.0,9
325020210316,        A20,       4,          1,         13,         13,2,20210321,       1137,    42.9604,   -50.8496,        354,   106.1,   1.2125,  33.4915,2,  33.4873,2,    326.0,3,   321.9,2,    6.35,2,    8.44,2,    0.11,2,    0.80,2,-999.000,9,-999.000,9, -999.00,9,  -999.0,9, -999.00,9,   -999.0,9,  -999.00,-999.00000,9,  -999.00, -999.00,9, -999.00,9, -999.00,-999.000,9, -999.00,9, -999.00,9,     -999.0,9, 20210321,     1201,  42.9604, -50.8496,     -999.0,9,     0.0733,1,     4.6563,1,     -999.0,9,     -999.0,9,     -999.0,9,     -999.0,9
325020210316,        A20,       4,          1,         11,         11,2,20210321,       1137,    42.9604,   -50.8496,        354,   135.3,   1.4064,  33.6377,2,  33.6340,2,    315.0,2,   315.1,2,    7.23,2,    9.35,2,    0.09,2,    0.82,2,   5.024,2,   2.926,2,    2.59,3,  -999.0,9, -999.00,9,   -999.0,9,  -999.00,-999.00000,9,  -999.00, -999.00,9, -999.00,9, -999.00,-999.000,9, -999.00,9, -999.00,9,      15.26,2, 20210321,     1158,  42.9604, -50.8496,     1.4066,2,     0.0749,1,     4.6710,1,     -999.0,9,     -999.0,9,     -999.0,9,     -999.0,9
325020210316,        A20,       4,          1,         10,         10,2,20210321,       1137,    42.9604,   -50.8496,        354,   151.6,   1.4644,  33.6816,2,  33.6742,2,    311.6,2,   311.6,2,    7.72,2,    9.64,2,    0.09,2,    0.83,2,-999.000,9,-999.000,9, -999.00,9,  2139.6,2, 2251.48,2,    882.0,2,    20.00,    7.6611,2,    25.03, -999.00,9, -999.00,9, -999.00,-999.000,9, -999.00,9, -999.00,9,     -999.0,9, 20210321,     1155,  42.9604, -50.8496,     1.4634,2,     0.0630,1,     4.6734,1,     -999.0,9,     -999.0,9,     -999.0,9,     -999.0,9
325020210316,        A20,       4,          1,          9,          9,2,20210321,       1137,    42.9604,   -50.8496,        354,   165.8,   1.5623,  33.7266,2,  33.7212,2,    309.4,2,   310.5,2,    7.82,2,    9.92,2,    0.10,2,    0.85,2,   5.219,2,   2.867,2,    1.94,3,  -999.0,9, -999.00,9,   -999.0,9,  -999.00,-999.00000,9,  -999.00, -999.00,9, -999.00,9, -999.00,-999.000,9, -999.00,9, -999.00,9,      15.37,2, 20210321,     1154,  42.9604, -50.8496,     1.5592,2,     0.0652,1,     4.6728,1,     -999.0,9,     -999.0,9,     -999.0,9,     -999.0,9
325020210316,        A20,       4,          1,          8,          8,2,20210321,       1137,    42.9604,   -50.8496,        354,   191.7,   1.9098,  33.8293,2,  33.8192,2,    304.9,2,   307.8,2,    8.01,2,   10.36,2,    0.09,2,    0.85,2,-999.000,9,-999.000,9, -999.00,9,  2143.1,2, 2255.11,2,    876.4,2,    20.00,   7.66441,6,    25.04, -999.00,9, -999.00,9, -999.00,-999.000,9, -999.00,9, -999.00,9,     -999.0,9, 20210321,     1152,  42.9604, -50.8496,     1.9112,2,     0.0562,1,     4.6704,1,     -999.0,9,     -999.0,9,     -999.0,9,     -999.0,9
325020210316,        A20,       4,          1,          7,          7,2,20210321,       1137,    42.9604,   -50.8496,        354,   217.4,   1.8799,  33.9100,2,  33.9081,2,    301.8,2,   303.5,2,    8.60,2,   10.87,2,    0.04,2,    0.87,2,   5.342,2,   2.747,2,    1.47,3,  -999.0,9, -999.00,9,   -999.0,9,  -999.00,-999.00000,9,  -999.00, -999.00,9, -999.00,9, -999.00,-999.000,9, -999.00,9, -999.00,9,      15.19,2, 20210321,     1150,  42.9604, -50.8496,     1.8794,2,     0.0559,1,     4.6760,1,     -999.0,9,     -999.0,9,     -999.0,9,     -999.0,9
325020210316,        A20,       4,          1,          6,          6,2,20210321,       1137,    42.9604,   -50.8496,        354,   242.0,   1.9067,  33.9470,2,  33.9361,2,    301.1,2,   302.0,2,    8.79,2,   10.97,2,    0.03,2,    0.88,2,-999.000,9,-999.000,9, -999.00,9,  2148.3,2, 2260.05,2,    884.4,2,    20.00,   7.68874,3,    25.01, -999.00,9, -999.00,9, -999.00,-999.000,9, -999.00,9, -999.00,9,     -999.0,9, 20210321,     1147,  42.9604, -50.8496,     1.9016,2,     0.0541,1,     4.6767,1,     -999.0,9,     -999.0,9,     -999.0,9,     -999.0,9
325020210316,        A20,       4,          1,          5,          5,2,20210321,       1137,    42.9604,   -50.8496,        354,   266.7,   2.0442,  34.0192,2,  34.0141,2,    299.2,2,   300.4,2,    8.89,2,   11.29,2,    0.02,2,    0.89,2,   5.105,2,   2.756,2,    1.69,3,  -999.0,9, -999.00,9,   -999.0,9,  -999.00,-999.00000,9,  -999.00, -999.00,9, -999.00,9, -999.00,-999.000,9, -999.00,9, -999.00,9,      15.13,2, 20210321,     1146,  42.9604, -50.8496,     2.0468,2,     0.0525,1,     4.6734,1,     -999.0,9,     -999.0,9,     -999.0,9,     -999.0,9
325020210316,        A20,       4,          1,          4,          4,2,20210321,       1137,    42.9604,   -50.8496,        354,   292.7,   2.2733,  34.1326,2,  34.1295,2,    299.3,2,   300.0,2,    8.79,2,   11.72,2,    0.03,2,    0.90,2,-999.000,9,-999.000,9, -999.00,9,  2153.3,2, 2267.98,6,    872.5,6,    20.00,   7.66804,6,    25.02, -999.00,9, -999.00,9, -999.00,-999.000,9, -999.00,9, -999.00,9,     -999.0,9, 20210321,     1144,  42.9604, -50.8495,     2.2730,2,     0.0541,1,     4.6690,1,     -999.0,9,     -999.0,9,     -999.0,9,     -999.0,9
325020210316,        A20,       4,          1,          3,          3,2,20210321,       1137,    42.9604,   -50.8496,        354,   317.4,   2.3850,  34.1858,2,  34.1815,2,    298.3,2,   298.6,2,    8.89,2,   12.00,2,    0.00,2,    0.91,2,   4.875,2,   2.709,2,    2.39,3,  -999.0,9, -999.00,9,   -999.0,9,  -999.00,-999.00000,9,  -999.00, -999.00,9, -999.00,9, -999.00,-999.000,9, -999.00,9, -999.00,9,      14.95,2, 20210321,     1141,  42.9604, -50.8496,     2.3852,2,     0.0523,1,     4.6675,1,     -999.0,9,     -999.0,9,     -999.0,9,     -999.0,9
325020210316,        A20,       4,          1,          2,          2,2,20210321,       1137,    42.9604,   -50.8496,        354,   332.1,   2.4046,  34.1954,2,  34.1919,2,    298.7,2,   298.3,2,    8.99,2,   12.07,2,    0.00,2,    0.91,2,   4.937,2,   2.596,2,    1.31,3,  2157.2,2, 2268.79,2,    869.8,2,    20.00,   7.66764,2,    25.00, -999.00,9, -999.00,9, -999.00,-999.000,9, -999.00,9, -999.00,9,      14.81,2, 20210321,     1139,  42.9604, -50.8496,     2.4035,2,     0.0506,1,     4.6683,1,     -999.0,9,     -999.0,9,     -999.0,9,     -999.0,9
325020210316,        A20,       4,          1,          1,          1,2,20210321,       1137,    42.9604,   -50.8496,        354,   347.2,   2.5539,  34.2560,2,  34.2532,2,    296.7,2,   296.7,2,    9.09,2,   12.40,2,    0.00,2,    0.92,2,   7.617,2,   2.639,2,    3.09,3,  2160.5,2, 2273.36,2,    868.1,2,    20.00,   7.66925,6,    25.01, -999.00,9, -999.00,9, -999.00,-999.000,9, -999.00,9, -999.00,9,      14.53,2, 20210321,     1137,  42.9604, -50.8496,     2.5506,2,     0.0520,1,     4.6641,1,     -999.0,9,     -999.0,9,     -999.0,9,     -999.0,9