BOTTLE,20230512CCHSIOCBG
EXPOCODE,SECT_ID,STNNBR,CASTNO,SAMPNO,BTLNBR,BTLNBR_FLAG_W,DATE,TIME,LATITUDE,LONGITUDE,DEPTH,CTDPRS,CTDTMP,CTDSAL,CTDSAL_FLAG_W,SALNTY,SALNTY_FLAG_W,CTDOXY,CTDOXY_FLAG_W,OXYGEN,OXYGEN_FLAG_W,SILCAT,SILCAT_FLAG_W,NITRAT,NITRAT_FLAG_W,NITRIT,NITRIT_FLAG_W,PHSPHT,PHSPHT_FLAG_W,CFC-11,CFC-11_FLAG_W,CFC-12,CFC-12_FLAG_W,SF6,SF6_FLAG_W,TCARBN,TCARBN_FLAG_W,ALKALI,ALKALI_FLAG_W,FCO2,FCO2_FLAG_W,FCO2TMP,PH_TOT,PH_TOT_FLAG_W,PH_TMP,DELC13,DELC13_FLAG_W,DELC14,DELC14_FLAG_W,C14ERR,POC,POC_FLAG_W,DOC,DOC_FLAG_W,TDN,TDN_FLAG_W,N2O,N2O_FLAG_W,BTL_DATE,BTL_TIME,BTL_LAT,BTL_LON,REFTMP,REFTMP_FLAG_W,CTDFLUOR,CTDFLUOR_FLAG_W,CTDXMISS,CTDXMISS_FLAG_W,D15N_NO2+NO3,D15N_NO2+NO3_FLAG_W,D18O_NO2+NO3,D18O_NO2+NO3_FLAG_W,HPLC,HPLC_FLAG_W,MICROGELS,MICROGELS_FLAG_W
,,,,,,,,,,,METERS,DBAR,ITS-90,PSS-78,,PSS-78,,UMOL/KG,,UMOL/KG,,UMOL/KG,,UMOL/KG,,UMOL/KG,,UMOL/KG,,PMOL/KG,,PMOL/KG,,FMOL/KG,,UMOL/KG,,UMOL/KG,,UATM,,DEG C,,,DEG C,/MILLE,,/MILLE,,/MILLE,UG/KG,,UMOL/KG,,UMOL/KG,,NMOL/KG,,,,,,ITS-90,,VOLTS,,VOLTS,,/MILLE,,/MILLE,,,,1E6 GELS/L,
325020210316,        A20,      12,          1,         36,         36,2,20210323,       0437,    41.8651,   -51.7355,       3869,     5.0,  10.0324,  34.4509,2,  34.4526,2,    280.3,2,   279.5,2,    3.52,2,    4.33,2,    0.11,2,    0.41,2,   3.093,2,   1.956,2,    3.07,3,  2103.4,2, 2292.91,2,   -999.0,9,  -999.00,    7.8468,2,    25.01, -999.00,9, -999.00,9, -999.00,-999.000,9, -999.00,9, -999.00,9,      11.34,2, 20210323,      646,  41.8651, -51.7355,    10.0328,2,     0.1731,1,     4.4900,1,     -999.0,9,     -999.0,9,     -999.0,9,     -999.0,9
325020210316,        A20,      12,          1,         35,         35,2,20210323,       0437,    41.8651,   -51.7355,       3869,    35.7,  11.1224,  34.8121,2,  34.8363,3,    259.3,2,   257.8,2,    3.52,2,    5.80,2,    0.09,2,    0.46,2,-999.000,9,-999.000,9, -999.00,9,  -999.0,9, -999.00,9,   -999.0,9,  -999.00,-999.00000,9,  -999.00, -999.00,9, -999.00,9, -999.00,-999.000,9, -999.00,9, -999.00,9,     -999.0,9, 20210323,      644,  41.8651, -51.7355,    11.1402,2,     0.1105,1,     4.6283,1,     -999.0,9,     -999.0,9,     -999.0,9,     -999.0,9
325020210316,        A20,      12,          1,         34,         34,2,20210323,       0437,    41.8651,   -51.7355,       3869,    60.4,  12.2962,  35.1736,2,  35.1780,2,    243.7,2,   245.3,2,    3.42,2,    6.43,2,    0.04,2,    0.48,2,-999.000,9,-999.000,9, -999.00,9,  2120.3,2, 2323.59,2,   -999.0,9,  -999.00,   7.86179,6,    25.02, -999.00,9, -999.00,9, -999.00,-999.000,9, -999.00,9, -999.00,9,     -999.0,9, 20210323,      640,  41.8651, -51.7355,    12.2936,2,     0.0636,1,     4.6697,1,     -999.0,9,     -999.0,9,     -999.0,9,     -999.0,9
325020210316,        A20,      12,          1,         33,         33,2,20210323,       0437,    41.8651,   -51.7355,       3869,    86.0,  13.0049,  35.3867,2,  35.3886,2,    237.8,3,   243.3,2,    3.32,2,    6.34,2,    0.09,2,    0.46,2,-999.000,9,-999.000,9, -999.00,9,  -999.0,9, -999.00,9,   -999.0,9,  -999.00,-999.00000,9,  -999.00, -999.00,9, -999.00,9, -999.00,-999.000,9, -999.00,9, -999.00,9,     -999.0,9, 20210323,      639,  41.8651, -51.7355,    12.9987,2,     0.1074,1,     4.6364,1,     -999.0,9,     -999.0,9,     -999.0,9,     -999.0,9
325020210316,        A20,      12,          1,         32,         32,2,20210323,       0437,    41.8651,   -51.7355,       3869,   111.1,  13.7308,  35.6139,2,  35.5732,3,    237.9,2,   239.3,2,    3.22,2,    6.54,2,    0.11,2,    0.45,2,   2.502,6,   1.559,6,    2.40,3,  -999.0,9, -999.00,9,   -999.0,9,  -999.00,-999.00000,9,  -999.00, -999.00,9, -999.00,9, -999.00,-999.000,9, -999.00,9, -999.00,9,      10.52,6, 20210323,      636,  41.8651, -51.7355,    13.6730,3,     0.0855,1,     4.6538,1,     -999.0,9,     -999.0,9,     -999.0,9,     -999.0,9
325020210316,        A20,      12,          1,         31,         31,2,20210323,       0437,    41.8651,   -51.7355,       3869,   135.3,  14.0691,  35.7104,2,  35.7162,2,    237.9,3,   232.6,2,    3.22,2,    6.91,2,    0.11,2,    0.45,2,-999.000,9,-999.000,9, -999.00,9,  2129.2,2, 2348.37,6,   -999.0,9,  -999.00,   7.88971,2,    25.03, -999.00,9, -999.00,9, -999.00,-999.000,9, -999.00,9, -999.00,9,     -999.0,9, 20210323,      635,  41.8651, -51.7355,    14.0678,2,     0.0540,1,     4.6854,1,     -999.0,9,     -999.0,9,     -999.0,9,     -999.0,9
325020210316,        A20,      12,          1,         30,         30,2,20210323,       0437,    41.8651,   -51.7355,       3869,   166.3,  14.1415,  35.7441,2,  35.7327,2,    233.1,2,   232.5,2,    3.32,2,    7.10,2,    0.12,2,    0.46,2,   2.425,2,   1.512,2,    2.05,3,  -999.0,9, -999.00,9,   -999.0,9,  -999.00,-999.00000,9,  -999.00, -999.00,9, -999.00,9, -999.00,-999.000,9, -999.00,9, -999.00,9,      10.69,2, 20210323,      632,  41.8651, -51.7355,    14.1482,2,     0.0635,1,     4.6768,1,     -999.0,9,     -999.0,9,     -999.0,9,     -999.0,9
325020210316,        A20,      12,          1,         29,         29,2,20210323,       0437,    41.8651,   -51.7355,       3869,   216.9,  13.4062,  35.5832,2,  35.5912,2,    203.8,3,   206.8,2,    4.69,2,   10.12,2,    0.03,2,    0.64,2,-999.000,9,-999.000,9, -999.00,9,  -999.0,9, -999.00,9,   -999.0,9,  -999.00,-999.00000,9,  -999.00, -999.00,9, -999.00,9, -999.00,-999.000,9, -999.00,9, -999.00,9,     -999.0,9, 20210323,      630,  41.8651, -51.7355,    13.4102,2,     0.0444,1,     4.6960,1,     -999.0,9,     -999.0,9,     -999.0,9,     -999.0,9
325020210316,        A20,      12,          1,         28,         28,2,20210323,       0437,    41.8651,   -51.7355,       3869,   266.9,  12.9724,  35.6716,2,  35.6769,2,    146.6,2,   147.0,2,    8.20,2,   17.86,2,    0.00,2,    1.08,2,   1.832,2,   1.149,2,    1.33,3,  2181.9,2, 2340.36,2,   -999.0,9,  -999.00,   7.75956,2,    25.02, -999.00,9, -999.00,9, -999.00,-999.000,9, -999.00,9, -999.00,9,      18.25,2, 20210323,      627,  41.8651, -51.7355,    12.9835,2,     0.0407,1,     4.7017,1,     -999.0,9,     -999.0,9,     -999.0,9,     -999.0,9
325020210316,        A20,      12,          1,         27,         27,2,20210323,       0437,    41.8651,   -51.7355,       3869,   317.0,  11.9083,  35.5295,2,  35.5287,2,    143.1,2,   143.2,2,    9.86,2,   20.15,2,    0.00,2,    1.23,2,   1.713,2,   0.997,2,    1.20,3,  -999.0,9, -999.00,9,   -999.0,9,  -999.00,-999.00000,9,  -999.00, -999.00,9, -999.00,9, -999.00,-999.000,9, -999.00,9, -999.00,9,      18.32,2, 20210323,      624,  41.8651, -51.7355,    11.9111,2,     0.0405,1,     4.7055,1,     -999.0,9,     -999.0,9,     -999.0,9,     -999.0,9
325020210316,        A20,      12,          1,         26,         26,2,20210323,       0437,    41.8651,   -51.7355,       3869,   367.8,  10.8354,  35.3912,2,  35.3912,2,    140.2,2,   139.3,2,   11.72,2,   22.23,2,    0.00,2,    1.37,2,-999.000,9,-999.000,9, -999.00,9,  -999.0,9, -999.00,9,   -999.0,9,  -999.00,-999.00000,9,  -999.00, -999.00,9, -999.00,9, -999.00,-999.000,9, -999.00,9, -999.00,9,     -999.0,9, 20210323,      621,  41.8651, -51.7355,    10.8424,2,     0.0413,1,     4.7053,1,     -999.0,9,     -999.0,9,     -999.0,9,     -999.0,9
325020210316,        A20,      12,          1,         25,         25,2,20210323,       0437,    41.8651,   -51.7355,       3869,   418.8,   9.7998,  35.2766,2,  35.2779,2,    141.8,2,   141.4,2,   13.28,2,   23.57,2,    0.00,2,    1.46,2,   1.426,2,   0.828,2,    0.94,3,  2198.2,2, 2324.73,2,   -999.0,9,  -999.00,   7.67581,2,    25.00, -999.00,9, -999.00,9, -999.00,-999.000,9, -999.00,9, -999.00,9,      21.40,2, 20210323,      618,  41.8651, -51.7355,     9.8134,2,     0.0421,1,     4.7069,1,     -999.0,9,     -999.0,9,     -999.0,9,     -999.0,9
325020210316,        A20,      12,          1,         24,         24,2,20210323,       0437,    41.8651,   -51.7355,       3869,   469.5,   8.7640,  35.1813,2,  35.1843,2,    149.3,3,   152.6,2,   13.77,2,   23.46,2,    0.00,2,    1.48,2,   1.458,2,   0.847,2,    1.15,3,  -999.0,9, -999.00,9,   -999.0,9,  -999.00,-999.00000,9,  -999.00, -999.00,9, -999.00,9, -999.00,-999.000,9, -999.00,9, -999.00,9,      20.79,2, 20210323,      616,  41.8651, -51.7355,     8.7711,2,     0.0418,1,     4.7079,1,     -999.0,9,     -999.0,9,     -999.0,9,     -999.0,9
325020210316,        A20,      12,          1,         23,         23,2,20210323,       0437,    41.8651,   -51.7355,       3869,   540.0,   7.5009,  35.1218,2,  35.1248,2,    174.1,2,   172.9,2,   14.06,2,   22.47,2,    0.00,2,    1.45,2,   1.663,2,   0.903,2,    1.08,3,  -999.0,9, -999.00,9,   -999.0,9,  -999.00,-999.00000,9,  -999.00, -999.00,9, -999.00,9, -999.00,-999.000,9, -999.00,9, -999.00,9,      19.06,2, 20210323,      613,  41.8651, -51.7355,     7.5133,2,     0.0406,1,     4.7100,1,     -999.0,9,     -999.0,9,     -999.0,9,     -999.0,9
325020210316,        A20,      12,          1,         22,         22,2,20210323,       0437,    41.8651,   -51.7355,       3869,   641.8,   6.4452,  35.0963,2,  35.0974,2,    199.3,3,   201.4,2,   13.18,2,   20.52,2,    0.00,2,    1.35,2,-999.000,9,-999.000,9, -999.00,9,  -999.0,9, -999.00,9,   -999.0,9,  -999.00,-999.00000,9,  -999.00, -999.00,9, -999.00,9, -999.00,-999.000,9, -999.00,9, -999.00,9,     -999.0,9, 20210323,      610,  41.8651, -51.7355,     6.4453,2,     0.0416,1,     4.7118,1,     -999.0,9,     -999.0,9,     -999.0,9,     -999.0,9
325020210316,        A20,      12,          1,         21,         21,2,20210323,       0437,    41.8651,   -51.7355,       3869,   742.3,   5.7731,  35.0845,2,  35.0842,2,    221.0,2,   221.4,2,   12.40,2,   19.19,2,    0.00,2,    1.27,2,   2.347,2,   1.264,2,    1.23,3,  2182.6,2, 2314.52,2,   -999.0,9,  -999.00,    7.6963,2,    25.00, -999.00,9, -999.00,9, -999.00,-999.000,9, -999.00,9, -999.00,9,      15.94,2, 20210323,      606,  41.8651, -51.7355,     5.7742,2,     0.0423,1,     4.7124,1,     -999.0,9,     -999.0,9,     -999.0,9,     -999.0,9
325020210316,        A20,      12,          1,         20,         20,2,20210323,       0437,    41.8651,   -51.7355,       3869,   842.9,   5.1961,  35.0436,2,  35.0439,2,    236.8,2,   236.9,2,   11.82,2,   18.65,2,    0.00,2,    1.22,2,-999.000,9,-999.000,9, -999.00,9,  -999.0,9, -999.00,9,   -999.0,9,  -999.00,-999.00000,9,  -999.00, -999.00,9, -999.00,9, -999.00,-999.000,9, -999.00,9, -999.00,9,     -999.0,9, 20210323,      602,  41.8651, -51.7355,     5.1957,2,     0.0421,1,     4.7122,1,     -999.0,9,     -999.0,9,     -999.0,9,     -999.0,9
325020210316,        A20,      12,          1,         19,         19,2,20210323,       0437,    41.8651,   -51.7355,       3869,   944.6,   4.9220,  35.0330,2,  35.0339,2,    244.5,2,   244.2,2,   11.72,2,   18.26,2,    0.00,2,    1.20,2,   2.660,2,   1.483,2,    0.87,3,  -999.0,9, -999.00,9,   -999.0,9,  -999.00,-999.00000,9,  -999.00, -999.00,9, -999.00,9, -999.00,-999.000,9, -999.00,9, -999.00,9,      14.98,2, 20210323,      558,  41.8651, -51.7355,     4.9221,2,     0.0417,1,     4.7126,1,     -999.0,9,     -999.0,9,     -999.0,9,     -999.0,9
325020210316,        A20,      12,          1,         18,         18,2,20210323,       0437,    41.8651,   -51.7355,       3869,  1046.4,   4.7350,  35.0253,2,  35.0252,2,    248.7,2,   249.6,2,   11.72,2,   17.88,2,    0.00,2,    1.18,2,   2.749,2,   1.518,2,    1.30,3,  -999.0,9, -999.00,9,   -999.0,9,  -999.00,-999.00000,9,  -999.00, -999.00,9, -999.00,9, -999.00,-999.000,9, -999.00,9, -999.00,9,      14.61,2, 20210323,      554,  41.8651, -51.7355,     4.7362,2,     0.0413,1,     4.7132,1,     -999.0,9,     -999.0,9,     -999.0,9,     -999.0,9
325020210316,        A20,      12,          1,         17,         17,2,20210323,       0437,    41.8651,   -51.7355,       3869,  1147.8,   4.4968,  35.0026,2,  35.0053,2,    253.9,2,   255.4,2,   11.52,2,   17.57,2,    0.00,2,    1.16,2,   2.844,2,   1.572,2,    0.76,3,  2173.8,2, 2310.06,2,   -999.0,9,  -999.00,   7.70855,2,    25.00, -999.00,9, -999.00,9, -999.00,-999.000,9, -999.00,9, -999.00,9,      14.42,2, 20210323,      551,  41.8651, -51.7355,     4.4972,2,     0.0419,1,     4.7131,1,     -999.0,9,     -999.0,9,     -999.0,9,     -999.0,9
325020210316,        A20,      12,          1,         16,         16,2,20210323,       0437,    41.8651,   -51.7355,       3869,  1248.1,   4.3286,  34.9880,2,  34.9886,2,    258.3,2,   259.2,2,   11.62,2,   17.50,2,    0.00,2,    1.16,2,   2.857,2,   1.597,2,    1.44,3,  -999.0,9, -999.00,9,   -999.0,9,  -999.00,-999.00000,9,  -999.00, -999.00,9, -999.00,9, -999.00,-999.000,9, -999.00,9, -999.00,9,      14.35,2, 20210323,      547,  41.8651, -51.7355,     4.3289,2,     0.0422,1,     4.7128,1,     -999.0,9,     -999.0,9,     -999.0,9,     -999.0,9
325020210316,        A20,      12,          1,         15,         15,2,20210323,       0437,    41.8651,   -51.7355,       3869,  1350.4,   4.2161,  34.9812,2,  34.9817,2,    260.0,2,   259.6,2,   12.01,2,   17.64,2,    0.00,2,    1.17,2,-999.000,9,-999.000,9, -999.00,9,  -999.0,9, -999.00,9,   -999.0,9,  -999.00,-999.00000,9,  -999.00, -999.00,9, -999.00,9, -999.00,-999.000,9, -999.00,9, -999.00,9,     -999.0,9, 20210323,      544,  41.8651, -51.7355,     4.2162,2,     0.0430,1,     4.7115,1,     -999.0,9,     -999.0,9,     -999.0,9,     -999.0,9
325020210316,        A20,      12,          1,         14,         14,2,20210323,       0437,    41.8651,   -51.7355,       3869,  1450.8,   4.0961,  34.9747,2,  34.9752,2,    261.1,2,   261.5,2,   12.11,2,   17.57,2,    0.00,2,    1.16,2,   2.166,2,   1.472,2,    1.34,3,  -999.0,9, -999.00,9,   -999.0,9,  -999.00,-999.00000,9,  -999.00, -999.00,9, -999.00,9, -999.00,-999.000,9, -999.00,9, -999.00,9,      14.16,2, 20210323,      541,  41.8651, -51.7355,     4.0965,2,     0.0421,1,     4.7118,1,     -999.0,9,     -999.0,9,     -999.0,9,     -999.0,9
325020210316,        A20,      12,          1,         13,         13,2,20210323,       0437,    41.8651,   -51.7355,       3869,  1552.5,   3.9836,  34.9686,2,  34.9689,2,    262.7,2,   262.6,2,   12.31,2,   17.64,2,    0.00,2,    1.14,2,   2.622,2,   1.401,2,    0.70,3,  2168.2,2, 2308.35,2,   -999.0,9,  -999.00,   7.71571,6,    25.01, -999.00,9, -999.00,9, -999.00,-999.000,9, -999.00,9, -999.00,9,      13.98,2, 20210323,      537,  41.8651, -51.7355,     3.9836,2,     0.0410,1,     4.7119,1,     -999.0,9,     -999.0,9,     -999.0,9,     -999.0,9
325020210316,        A20,      12,          1,         12,         12,2,20210323,       0437,    41.8651,   -51.7355,       3869,  1653.1,   3.9062,  34.9675,2,  34.9681,2,    263.0,2,   263.0,2,   12.70,2,   17.63,2,    0.00,2,    1.15,2,   2.498,2,   1.316,2,    1.89,4,  -999.0,9, -999.00,9,   -999.0,9,  -999.00,-999.00000,9,  -999.00, -999.00,9, -999.00,9, -999.00,-999.000,9, -999.00,9, -999.00,9,      13.99,2, 20210323,      534,  41.8651, -51.7355,     3.9086,2,     0.0407,1,     4.7125,1,     -999.0,9,     -999.0,9,     -999.0,9,     -999.0,9
325020210316,        A20,      12,          1,         11,         11,2,20210323,       0437,    41.8651,   -51.7355,       3869,  1755.4,   3.8166,  34.9651,2,  34.9656,2,    263.2,2,   263.8,2,   13.18,2,   17.68,2,    0.00,2,    1.17,2,-999.000,9,-999.000,9, -999.00,9,  -999.0,9, -999.00,9,   -999.0,9,  -999.00,-999.00000,9,  -999.00, -999.00,9, -999.00,9, -999.00,-999.000,9, -999.00,9, -999.00,9,     -999.0,9, 20210323,      531,  41.8651, -51.7355,     3.8174,2,     0.0418,1,     4.7129,1,     -999.0,9,     -999.0,9,     -999.0,9,     -999.0,9
325020210316,        A20,      12,          1,         10,         10,2,20210323,       0437,    41.8651,   -51.7355,       3869,  1888.1,   3.6907,  34.9606,2,  34.9608,2,    263.6,2,   264.3,2,   13.87,2,   17.69,2,    0.00,2,    1.15,2,   2.165,2,   1.120,2,    0.41,3,  -999.0,9, -999.00,9,   -999.0,9,  -999.00,-999.00000,9,  -999.00, -999.00,9, -999.00,9, -999.00,-999.000,9, -999.00,9, -999.00,9,      13.87,2, 20210323,      527,  41.8651, -51.7355,     3.6917,2,     0.0412,1,     4.7136,1,     -999.0,9,     -999.0,9,     -999.0,9,     -999.0,9
325020210316,        A20,      12,          1,          9,          9,2,20210323,       0437,    41.8651,   -51.7355,       3869,  2112.0,   3.4833,  34.9536,2,  34.9543,2,    263.7,2,   264.9,2,   15.24,2,   17.74,2,    0.00,2,    1.16,2,   1.936,2,   0.975,2,    1.06,3,  2167.4,2, 2308.59,2,   -999.0,9,  -999.00,   7.72708,2,    25.00, -999.00,9, -999.00,9, -999.00,-999.000,9, -999.00,9, -999.00,9,      13.69,2, 20210323,      522,  41.8651, -51.7355,     3.4831,2,     0.0428,1,     4.7143,1,     -999.0,9,     -999.0,9,     -999.0,9,     -999.0,9
325020210316,        A20,      12,          1,          8,          8,2,20210323,       0437,    41.8651,   -51.7355,       3869,  2367.0,   3.2696,  34.9450,2,  35.0313,3,    265.3,2,   266.2,2,   16.50,2,   17.68,2,    0.00,2,    1.16,2,-999.000,9,-999.000,9, -999.00,9,  -999.0,9, -999.00,9,   -999.0,9,  -999.00,-999.00000,9,  -999.00, -999.00,9, -999.00,9, -999.00,-999.000,9, -999.00,9, -999.00,9,     -999.0,9, 20210323,      516,  41.8651, -51.7355,     3.2703,2,     0.0416,1,     4.7151,1,     -999.0,9,     -999.0,9,     -999.0,9,     -999.0,9
325020210316,        A20,      12,          1,          7,          7,2,20210323,       0437,    41.8651,   -51.7355,       3869,  2622.0,   3.0852,  34.9382,2,  34.9386,2,    266.3,2,   266.8,2,   18.07,2,   17.69,2,    0.00,2,    1.17,2,   1.595,2,   0.844,2,    0.92,3,  -999.0,9, -999.00,9,   -999.0,9,  -999.00,-999.00000,9,  -999.00, -999.00,9, -999.00,9, -999.00,-999.000,9, -999.00,9, -999.00,9,      13.59,2, 20210323,      510,  41.8651, -51.7355,     3.0850,2,     0.0426,1,     4.7145,1,     -999.0,9,     -999.0,9,     -999.0,9,     -999.0,9
325020210316,        A20,      12,          1,          6,          6,2,20210323,       0437,    41.8651,   -51.7355,       3869,  2877.4,   2.8629,  34.9292,2,  34.9298,2,    266.7,2,   268.9,2,   19.73,2,   17.71,2,    0.00,2,    1.18,2,   1.530,2,   0.777,2,    0.46,3,  -999.0,9, -999.00,9,   -999.0,9,  -999.00,-999.00000,9,  -999.00, -999.00,9, -999.00,9, -999.00,-999.000,9, -999.00,9, -999.00,9,      13.62,2, 20210323,      504,  41.8651, -51.7355,     2.8623,2,     0.0419,1,     4.7153,1,     -999.0,9,     -999.0,9,     -999.0,9,     -999.0,9
325020210316,        A20,      12,          1,          5,          5,2,20210323,       0437,    41.8651,   -51.7355,       3869,  3147.6,   2.6224,  34.9160,2,  34.9164,2,    271.2,2,   272.8,2,   19.04,2,   17.15,2,    0.00,2,    1.14,2,   1.881,2,   1.053,2,    1.38,3,  2169.7,2,  2311.4,2,   -999.0,9,  -999.00,    7.7256,2,    25.00, -999.00,9, -999.00,9, -999.00,-999.000,9, -999.00,9, -999.00,9,      13.35,2, 20210323,      458,  41.8651, -51.7355,     2.6226,2,     0.0429,1,     4.7139,1,     -999.0,9,     -999.0,9,     -999.0,9,     -999.0,9
325020210316,        A20,      12,          1,          4,          4,2,20210323,       0437,    41.8651,   -51.7355,       3869,  3455.1,   2.3246,  34.9021,2,  34.9020,2,    274.1,2,   274.6,2,   21.58,2,   17.09,2,    0.00,2,    1.14,2,-999.000,9,-999.000,9, -999.00,9,  -999.0,9, -999.00,9,   -999.0,9,  -999.00,-999.00000,9,  -999.00, -999.00,9, -999.00,9, -999.00,-999.000,9, -999.00,9, -999.00,9,     -999.0,9, 20210323,      451,  41.8651, -51.7355,     2.3251,2,     0.0426,1,     4.7035,1,     -999.0,9,     -999.0,9,     -999.0,9,     -999.0,9
325020210316,        A20,      12,          1,          3,          3,2,20210323,       0437,    41.8651,   -51.7355,       3869,  3761.9,   2.3049,  34.8991,2,  34.8995,2,    273.7,2,   274.1,2,   22.76,2,   17.20,2,    0.00,2,    1.15,2,   2.086,2,   1.134,2,    1.19,3,  -999.0,9, -999.00,9,   -999.0,9,  -999.00,-999.00000,9,  -999.00, -999.00,9, -999.00,9, -999.00,-999.000,9, -999.00,9, -999.00,9,      13.91,2, 20210323,      444,  41.8651, -51.7355,     2.3047,2,     0.0419,1,     4.6971,1,     -999.0,9,     -999.0,9,     -999.0,9,     -999.0,9