BOTTLE,20230512CCHSIOCBG
EXPOCODE,SECT_ID,STNNBR,CASTNO,SAMPNO,BTLNBR,BTLNBR_FLAG_W,DATE,TIME,LATITUDE,LONGITUDE,DEPTH,CTDPRS,CTDTMP,CTDSAL,CTDSAL_FLAG_W,SALNTY,SALNTY_FLAG_W,CTDOXY,CTDOXY_FLAG_W,OXYGEN,OXYGEN_FLAG_W,SILCAT,SILCAT_FLAG_W,NITRAT,NITRAT_FLAG_W,NITRIT,NITRIT_FLAG_W,PHSPHT,PHSPHT_FLAG_W,CFC-11,CFC-11_FLAG_W,CFC-12,CFC-12_FLAG_W,SF6,SF6_FLAG_W,TCARBN,TCARBN_FLAG_W,ALKALI,ALKALI_FLAG_W,FCO2,FCO2_FLAG_W,FCO2TMP,PH_TOT,PH_TOT_FLAG_W,PH_TMP,DELC13,DELC13_FLAG_W,DELC14,DELC14_FLAG_W,C14ERR,POC,POC_FLAG_W,DOC,DOC_FLAG_W,TDN,TDN_FLAG_W,N2O,N2O_FLAG_W,BTL_DATE,BTL_TIME,BTL_LAT,BTL_LON,REFTMP,REFTMP_FLAG_W,CTDFLUOR,CTDFLUOR_FLAG_W,CTDXMISS,CTDXMISS_FLAG_W,D15N_NO2+NO3,D15N_NO2+NO3_FLAG_W,D18O_NO2+NO3,D18O_NO2+NO3_FLAG_W,HPLC,HPLC_FLAG_W,MICROGELS,MICROGELS_FLAG_W
,,,,,,,,,,,METERS,DBAR,ITS-90,PSS-78,,PSS-78,,UMOL/KG,,UMOL/KG,,UMOL/KG,,UMOL/KG,,UMOL/KG,,UMOL/KG,,PMOL/KG,,PMOL/KG,,FMOL/KG,,UMOL/KG,,UMOL/KG,,UATM,,DEG C,,,DEG C,/MILLE,,/MILLE,,/MILLE,UG/KG,,UMOL/KG,,UMOL/KG,,NMOL/KG,,,,,,ITS-90,,VOLTS,,VOLTS,,/MILLE,,/MILLE,,,,1E6 GELS/L,
325020210316,        A20,      78,          1,         36,         36,2,20210411,       1331,     8.2713,   -52.6447,       2914,     5.0,  27.5759,  36.1986,2,  36.2004,2,    200.8,2,   199.7,2,    0.78,2,    0.00,2,    0.00,2,    0.00,2,-999.000,9,-999.000,9, -999.00,9,  2045.7,6, 2368.94,2,    306.3,2,    20.00,   8.08807,2,    24.96, -999.00,9, -999.00,9, -999.00,-999.000,9, -999.00,9, -999.00,9,     -999.0,9, 20210411,     1514,   8.2713, -52.6447,    27.5717,2,     0.0421,1,     4.6204,1,     -999.0,9,     -999.0,9,     -999.0,9,     -999.0,9
325020210316,        A20,      78,          1,         35,         35,2,20210411,       1331,     8.2713,   -52.6447,       2914,    35.3,  27.4737,  36.2022,2,  36.2052,2,    200.7,2,   199.6,2,    0.88,2,    0.00,2,    0.00,2,    0.00,2,   1.410,2,   0.927,2,    1.49,2,  2047.5,2, 2371.55,2,   -999.0,9,  -999.00,   8.08823,6,    24.98, -999.00,9, -999.00,9, -999.00,-999.000,9, -999.00,9, -999.00,9,       5.55,2, 20210411,     1512,   8.2713, -52.6447,    27.4694,2,     0.0500,1,     4.6099,1,     -999.0,9,     -999.0,9,     -999.0,9,     -999.0,9
325020210316,        A20,      78,          1,         34,         34,2,20210411,       1331,     8.2713,   -52.6447,       2914,    60.9,  27.4015,  36.2367,2,  36.2394,2,    200.0,2,   199.0,2,    0.88,2,    0.00,2,    0.00,2,    0.02,2,-999.000,9,-999.000,9, -999.00,9,  2049.7,2, 2372.37,6,    309.8,2,    20.00,   8.08662,2,    24.95, -999.00,9, -999.00,9, -999.00,-999.000,9, -999.00,9, -999.00,9,     -999.0,9, 20210411,     1510,   8.2712, -52.6447,    27.3997,2,     0.0638,1,     4.6210,1,     -999.0,9,     -999.0,9,     -999.0,9,     -999.0,9
325020210316,        A20,      78,          1,         33,         33,2,20210411,       1331,     8.2713,   -52.6447,       2914,    86.1,  27.0896,  36.4502,2,  36.4146,3,    192.0,2,   193.4,2,    0.97,2,    0.00,2,    0.00,2,    0.06,2,-999.000,9,-999.000,9, -999.00,9,  2072.2,2, 2385.98,2,   -999.0,9,  -999.00,   8.06301,2,    24.99, -999.00,9, -999.00,9, -999.00,-999.000,9, -999.00,9, -999.00,9,     -999.0,9, 20210411,     1508,   8.2713, -52.6447,    27.1228,2,     0.0876,1,     4.6191,1,     -999.0,9,     -999.0,9,     -999.0,9,     -999.0,9
325020210316,        A20,      78,          1,         32,         32,2,20210411,       1331,     8.2713,   -52.6447,       2914,   110.6,  26.5209,  36.5460,2,  36.5496,2,    186.1,2,   187.6,2,    0.97,2,    0.06,2,    0.15,2,    0.11,2,-999.000,9,-999.000,9, -999.00,9,  2092.0,2, 2391.42,2,    353.1,2,    20.00,   8.04921,2,    24.95, -999.00,9, -999.00,9, -999.00,-999.000,9, -999.00,9, -999.00,9,     -999.0,9, 20210411,     1506,   8.2713, -52.6447,    26.5137,2,     0.1062,1,     4.6254,1,     -999.0,9,     -999.0,9,     -999.0,9,     -999.0,9
325020210316,        A20,      78,          1,         31,         31,2,20210411,       1331,     8.2713,   -52.6447,       2914,   136.2,  24.7330,  36.6464,2,  36.6538,2,    179.8,2,   180.9,2,    1.27,2,    1.96,2,    0.04,2,    0.22,2,-999.000,9,-999.000,9, -999.00,9,  2112.1,2, 2402.46,2,   -999.0,9,  -999.00,   8.01242,6,    25.00, -999.00,9, -999.00,9, -999.00,-999.000,9, -999.00,9, -999.00,9,     -999.0,9, 20210411,     1504,   8.2713, -52.6447,    24.7610,2,     0.0585,1,     4.6586,1,     -999.0,9,     -999.0,9,     -999.0,9,     -999.0,9
325020210316,        A20,      78,          1,         30,         30,2,20210411,       1331,     8.2713,   -52.6447,       2914,   161.1,  22.7550,  36.4701,2,  36.4747,2,    177.0,2,   176.2,2,    1.75,2,    3.80,2,    0.03,2,    0.36,2,-999.000,9,-999.000,9, -999.00,9,  2129.3,2, 2390.35,2,    418.3,2,    20.00,   7.97784,2,    24.98, -999.00,9, -999.00,9, -999.00,-999.000,9, -999.00,9, -999.00,9,     -999.0,9, 20210411,     1503,   8.2713, -52.6447,    22.7503,2,     0.0564,1,     4.6632,1,     -999.0,9,     -999.0,9,     -999.0,9,     -999.0,9
325020210316,        A20,      78,          1,         29,         29,2,20210411,       1331,     8.2713,   -52.6447,       2914,   185.1,  19.7437,  36.4723,2,  36.4715,2,    136.3,3,   139.5,2,    3.61,2,    9.48,2,    0.00,2,    0.57,2,-999.000,9,-999.000,9, -999.00,9,  2178.4,2, 2384.25,2,   -999.0,9,  -999.00,   7.87455,2,    25.00, -999.00,9, -999.00,9, -999.00,-999.000,9, -999.00,9, -999.00,9,     -999.0,9, 20210411,     1501,   8.2713, -52.6447,    19.7332,2,     0.0460,1,     4.6603,1,     -999.0,9,     -999.0,9,     -999.0,9,     -999.0,9
325020210316,        A20,      78,          1,         28,         28,2,20210411,       1331,     8.2713,   -52.6447,       2914,   212.5,  14.2354,  35.6082,2,  35.6192,2,    130.8,2,   131.4,2,    7.31,2,   18.11,2,    0.00,2,    1.14,2,   2.162,2,   1.302,2,    1.18,2,  2192.5,2, 2337.32,2,    748.0,2,    20.00,   7.73801,2,    24.99, -999.00,9, -999.00,9, -999.00,-999.000,9, -999.00,9, -999.00,9,      20.95,2, 20210411,     1458,   8.2713, -52.6447,    14.3855,3,     0.0431,1,     4.6724,1,     -999.0,9,     -999.0,9,     -999.0,9,     -999.0,9
325020210316,        A20,      78,          1,         27,         27,2,20210411,       1331,     8.2713,   -52.6447,       2914,   236.7,  11.6445,  35.2070,2,  35.2038,2,    131.6,2,   131.7,2,   10.14,2,   22.44,2,    0.00,2,    1.44,2,-999.000,9,-999.000,9, -999.00,9,  2200.4,2, 2316.59,2,    870.9,2,    20.00,   7.67188,2,    25.04, -999.00,9, -999.00,9, -999.00,-999.000,9, -999.00,9, -999.00,9,     -999.0,9, 20210411,     1455,   8.2713, -52.6447,    11.6446,2,     0.0421,1,     4.6728,1,     -999.0,9,     -999.0,9,     -999.0,9,     -999.0,9
325020210316,        A20,      78,          1,         26,         26,2,20210411,       1331,     8.2713,   -52.6447,       2914,   272.5,  10.5076,  35.0494,2,  35.0474,2,    126.8,2,   126.6,2,   11.80,2,   24.97,2,    0.00,2,    1.61,2,-999.000,9,-999.000,9, -999.00,9,  2207.5,2,  2309.4,2,    952.1,2,    20.00,    7.6354,2,    24.96, -999.00,9, -999.00,9, -999.00,-999.000,9, -999.00,9, -999.00,9,     -999.0,9, 20210411,     1454,   8.2713, -52.6447,    10.5191,2,     0.0418,1,     4.6728,1,     -999.0,9,     -999.0,9,     -999.0,9,     -999.0,9
325020210316,        A20,      78,          1,         25,         25,2,20210411,       1331,     8.2713,   -52.6447,       2914,   323.2,   9.6302,  34.9601,2,  34.9604,2,    119.0,2,   118.2,2,   13.85,2,   27.51,2,    0.00,2,    1.76,2,-999.000,9,-999.000,9, -999.00,9,  2215.4,2, 2306.92,2,   1027.3,2,    20.00,   7.59909,2,    24.99, -999.00,9, -999.00,9, -999.00,-999.000,9, -999.00,9, -999.00,9,     -999.0,9, 20210411,     1452,   8.2713, -52.6448,     9.6288,2,     0.0426,1,     4.6716,1,     -999.0,9,     -999.0,9,     -999.0,9,     -999.0,9
325020210316,        A20,      78,          1,         24,         24,2,20210411,       1331,     8.2713,   -52.6447,       2914,   372.4,   8.6465,  34.8138,2,  34.8123,2,    120.1,2,   119.9,2,   16.00,2,   29.56,2,    0.00,2,    1.89,2,-999.000,9,-999.000,9, -999.00,9,  2219.6,6, 2300.44,2,   1101.3,2,    20.00,   7.57219,2,    25.00, -999.00,9, -999.00,9, -999.00,-999.000,9, -999.00,9, -999.00,9,     -999.0,9, 20210411,     1449,   8.2712, -52.6447,     8.6474,2,     0.0428,1,     4.6727,1,     -999.0,9,     -999.0,9,     -999.0,9,     -999.0,9
325020210316,        A20,      78,          1,         23,         23,2,20210411,       1331,     8.2713,   -52.6447,       2914,   422.8,   7.9333,  34.7463,2,  34.7451,2,    119.7,2,   119.1,2,   18.15,2,   31.29,2,    0.00,2,    2.01,2,-999.000,9,-999.000,9, -999.00,9,  2225.8,2, 2302.32,2,   1141.1,6,    20.00,   7.55343,2,    24.97, -999.00,9, -999.00,9, -999.00,-999.000,9, -999.00,9, -999.00,9,     -999.0,9, 20210411,     1447,   8.2713, -52.6447,     7.9328,2,     0.0432,1,     4.6746,1,     -999.0,9,     -999.0,9,     -999.0,9,     -999.0,9
325020210316,        A20,      78,          1,         22,         22,2,20210411,       1331,     8.2713,   -52.6447,       2914,   473.9,   7.1083,  34.6529,2,  34.6527,2,    123.9,2,   123.5,2,   20.69,2,   32.71,2,    0.00,2,    2.12,2,   1.188,2,   0.655,2,    0.33,2,  2226.9,2, 2296.51,2,   1192.1,2,    20.00,    7.5394,2,    24.99, -999.00,9, -999.00,9, -999.00,-999.000,9, -999.00,9, -999.00,9,      26.02,2, 20210411,     1445,   8.2713, -52.6447,     7.1075,2,     0.0430,1,     4.6766,1,     -999.0,9,     -999.0,9,     -999.0,9,     -999.0,9
325020210316,        A20,      78,          1,         21,         21,2,20210411,       1331,     8.2713,   -52.6447,       2914,   539.4,   6.6442,  34.6369,2,  34.6372,2,    123.4,2,   123.5,2,   22.64,2,   33.52,2,    0.00,2,    2.19,2,-999.000,9,-999.000,9, -999.00,9,  2229.1,2, 2299.07,2,   1209.8,2,    20.00,    7.5319,2,    25.00, -999.00,9, -999.00,9, -999.00,-999.000,9, -999.00,9, -999.00,9,     -999.0,9, 20210411,     1442,   8.2713, -52.6447,     6.6435,2,     0.0424,1,     4.6639,1,     -999.0,9,     -999.0,9,     -999.0,9,     -999.0,9
325020210316,        A20,      78,          1,         20,         20,2,20210411,       1331,     8.2713,   -52.6447,       2914,   640.1,   5.9724,  34.5861,2,  34.5853,2,    130.2,2,   130.4,2,   25.18,2,   34.18,2,    0.00,2,    2.24,2,-999.000,9,-999.000,9, -999.00,9,  2231.4,2, 2297.78,2,   1213.0,2,    20.00,   7.53018,2,    25.01, -999.00,9, -999.00,9, -999.00,-999.000,9, -999.00,9, -999.00,9,     -999.0,9, 20210411,     1439,   8.2713, -52.6447,     5.9679,2,     0.0436,1,     4.6737,1,     -999.0,9,     -999.0,9,     -999.0,9,     -999.0,9
325020210316,        A20,      78,          1,         19,         19,2,20210411,       1331,     8.2713,   -52.6447,       2914,   740.7,   5.1149,  34.5033,2,  34.5029,2,    154.4,2,   155.2,2,   28.59,2,   33.28,2,    0.00,2,    2.23,2,-999.000,9,-999.000,9, -999.00,9,  2223.7,2, 2300.69,2,   1145.9,2,    20.00,    7.5537,2,    25.00, -999.00,9, -999.00,9, -999.00,-999.000,9, -999.00,9, -999.00,9,     -999.0,9, 20210411,     1436,   8.2713, -52.6447,     5.1145,2,     0.0428,1,     4.6797,1,     -999.0,9,     -999.0,9,     -999.0,9,     -999.0,9
325020210316,        A20,      78,          1,         18,         18,2,20210411,       1331,     8.2713,   -52.6447,       2914,   842.5,   4.9101,  34.5033,2,  34.5021,2,    157.4,2,   157.7,2,   29.67,2,   33.25,2,    0.00,2,    2.24,2,   0.723,2,   0.395,2,    0.24,2,  2224.0,2, -999.00,5,   1143.1,2,    20.00,   7.55656,2,    24.99, -999.00,9, -999.00,9, -999.00,-999.000,9, -999.00,9, -999.00,9,      22.61,2, 20210411,     1433,   8.2713, -52.6447,     4.9098,2,     0.0424,1,     4.6817,1,     -999.0,9,     -999.0,9,     -999.0,9,     -999.0,9
325020210316,        A20,      78,          1,         17,         17,2,20210411,       1331,     8.2713,   -52.6447,       2914,   942.6,   4.8667,  34.5303,2,  34.5298,2,    154.0,2,   154.2,2,   30.06,2,   33.42,2,    0.00,2,    2.24,2,-999.000,9,-999.000,9, -999.00,9,  2224.8,2, 2299.67,2,   1149.3,2,    20.00,   7.55333,2,    25.01, -999.00,9, -999.00,9, -999.00,-999.000,9, -999.00,9, -999.00,9,     -999.0,9, 20210411,     1430,   8.2713, -52.6447,     4.8657,2,     0.0430,1,     4.6822,1,     -999.0,9,     -999.0,9,     -999.0,9,     -999.0,9
325020210316,        A20,      78,          1,         16,         16,2,20210411,       1331,     8.2713,   -52.6447,       2914,  1043.7,   5.2113,  34.7006,2,  34.7005,2,    143.1,2,   142.8,2,   27.61,2,   32.62,2,    0.00,2,    2.16,2,   0.160,2,   0.091,2,    0.05,2,  2225.8,2, 2306.11,2,   1130.8,2,    20.00,   7.55712,2,    25.00, -999.00,9, -999.00,9, -999.00,-999.000,9, -999.00,9, -999.00,9,      22.74,2, 20210411,     1427,   8.2713, -52.6447,     5.2105,2,     0.0428,1,     4.6813,1,     -999.0,9,     -999.0,9,     -999.0,9,     -999.0,9
325020210316,        A20,      78,          1,         15,         15,2,20210411,       1331,     8.2713,   -52.6447,       2914,  1145.6,   5.1309,  34.8265,2,  34.8249,2,    165.1,2,   165.0,2,   24.78,2,   28.96,2,    0.00,2,    1.92,2,-999.000,9,-999.000,9, -999.00,9,  2216.8,2, 2310.41,2,   1003.3,2,    20.00,   7.60797,2,    24.99, -999.00,9, -999.00,9, -999.00,-999.000,9, -999.00,9, -999.00,9,     -999.0,9, 20210411,     1424,   8.2713, -52.6447,     5.1293,2,     0.0435,1,     4.6794,1,     -999.0,9,     -999.0,9,     -999.0,9,     -999.0,9
325020210316,        A20,      78,          1,         14,         14,2,20210411,       1331,     8.2713,   -52.6447,       2914,  1246.3,   5.0278,  34.9375,2,  34.9396,2,    195.0,2,   195.0,2,   20.29,2,   24.52,2,    0.00,2,    1.63,2,   0.631,2,   0.343,2,    0.24,2,  2201.7,2, 2312.65,2,    887.6,2,    20.00,    7.6617,2,    25.01, -999.00,9, -999.00,9, -999.00,-999.000,9, -999.00,9, -999.00,9,      17.34,2, 20210411,     1421,   8.2713, -52.6447,     5.0285,2,     0.0425,1,     4.6822,1,     -999.0,9,     -999.0,9,     -999.0,9,     -999.0,9
325020210316,        A20,      78,          1,         13,         13,2,20210411,       1331,     8.2713,   -52.6447,       2914,  1348.2,   5.0161,  34.9855,2,  34.9862,2,    211.8,2,   212.0,2,   17.56,2,   22.17,2,    0.00,2,    1.47,2,-999.000,9,-999.000,9, -999.00,9,  2193.5,2, 2313.44,2,    838.6,2,    20.00,   7.68516,2,    25.02, -999.00,9, -999.00,9, -999.00,-999.000,9, -999.00,9, -999.00,9,     -999.0,9, 20210411,     1418,   8.2713, -52.6447,     5.0160,2,     0.0420,1,     4.6821,1,     -999.0,9,     -999.0,9,     -999.0,9,     -999.0,9
325020210316,        A20,      78,          1,         12,         12,2,20210411,       1331,     8.2713,   -52.6447,       2914,  1449.1,   4.8748,  34.9947,2,  34.9959,2,    221.2,2,   221.4,2,   16.58,2,   21.13,2,    0.00,2,    1.40,2,-999.000,9,-999.000,9, -999.00,9,  2188.9,2,  2312.9,2,   -999.0,9,  -999.00,   7.69504,2,    25.00, -999.00,9, -999.00,9, -999.00,-999.000,9, -999.00,9, -999.00,9,     -999.0,9, 20210411,     1414,   8.2713, -52.6447,     4.8784,2,     0.0429,1,     4.6832,1,     -999.0,9,     -999.0,9,     -999.0,9,     -999.0,9
325020210316,        A20,      78,          1,         11,         11,2,20210411,       1331,     8.2713,   -52.6447,       2914,  1548.6,   4.6222,  35.0010,2,  35.0030,2,    234.3,2,   234.4,2,   15.51,2,   19.97,2,    0.00,2,    1.32,2,   1.383,2,   0.716,2,    0.28,2,  2184.5,2, 2312.08,2,    790.2,2,    20.00,   7.70945,2,    24.99, -999.00,9, -999.00,9, -999.00,-999.000,9, -999.00,9, -999.00,9,      14.11,2, 20210411,     1410,   8.2713, -52.6447,     4.6248,2,     0.0430,1,     4.6835,1,     -999.0,9,     -999.0,9,     -999.0,9,     -999.0,9
325020210316,        A20,      78,          1,         10,         10,2,20210411,       1331,     8.2713,   -52.6447,       2914,  1650.0,   4.3893,  35.0025,2,  35.0024,2,    246.0,2,   245.4,2,   14.44,2,   18.92,2,    0.00,2,    1.24,2,-999.000,9,-999.000,9, -999.00,9,  2175.1,2,  2311.5,2,   -999.0,9,  -999.00,   7.71767,2,    25.04, -999.00,9, -999.00,9, -999.00,-999.000,9, -999.00,9, -999.00,9,     -999.0,9, 20210411,     1407,   8.2713, -52.6447,     4.3885,2,     0.0429,1,     4.6842,1,     -999.0,9,     -999.0,9,     -999.0,9,     -999.0,9
325020210316,        A20,      78,          1,          9,          9,2,20210411,       1331,     8.2713,   -52.6447,       2914,  1752.5,   4.2305,  34.9972,2,  34.9976,2,    251.0,2,   250.4,2,   14.34,2,   18.51,2,    0.00,2,    1.21,2,   1.712,2,   0.878,2,    0.43,2,  2170.8,2, 2311.39,2,    764.0,2,    20.00,   7.72356,6,    25.00, -999.00,9, -999.00,9, -999.00,-999.000,9, -999.00,9, -999.00,9,      13.55,2, 20210411,     1404,   8.2713, -52.6447,     4.2302,2,     0.0409,1,     4.6858,1,     -999.0,9,     -999.0,9,     -999.0,9,     -999.0,9
325020210316,        A20,      78,          1,          8,          8,2,20210411,       1331,     8.2713,   -52.6447,       2914,  1853.1,   3.9450,  34.9845,2,  34.9862,2,    255.1,2,   255.4,2,   15.02,2,   18.38,2,    0.00,2,    1.20,2,-999.000,9,-999.000,9, -999.00,9,  2169.3,2, 2311.53,6,   -999.0,9,  -999.00,   7.72859,2,    24.99, -999.00,9, -999.00,9, -999.00,-999.000,9, -999.00,9, -999.00,9,     -999.0,9, 20210411,     1401,   8.2713, -52.6447,     3.9445,2,     0.0429,1,     4.6858,1,     -999.0,9,     -999.0,9,     -999.0,9,     -999.0,9
325020210316,        A20,      78,          1,          7,          7,2,20210411,       1331,     8.2713,   -52.6447,       2914,  1955.1,   3.8114,  34.9788,2,  34.9791,2,    257.3,2,   257.4,2,   15.41,2,   18.23,2,    0.00,2,    1.20,2,   1.472,2,   0.730,2,    0.28,2,  2168.4,2, 2310.84,2,    750.3,2,    20.00,   7.72867,6,    24.97, -999.00,9, -999.00,9, -999.00,-999.000,9, -999.00,9, -999.00,9,      13.29,2, 20210411,     1358,   8.2713, -52.6447,     3.8106,2,     0.0422,1,     4.6857,1,     -999.0,9,     -999.0,9,     -999.0,9,     -999.0,9
325020210316,        A20,      78,          1,          6,          6,2,20210411,       1331,     8.2713,   -52.6447,       2914,  2067.9,   3.7216,  34.9747,2,  34.9746,2,    258.6,2,   258.6,2,   15.80,2,   18.24,2,    0.00,2,    1.20,2,-999.000,9,-999.000,9, -999.00,9,  2174.3,3, 2121.96,4,   -999.0,9,  -999.00,   7.73105,2,    25.00, -999.00,9, -999.00,9, -999.00,-999.000,9, -999.00,9, -999.00,9,     -999.0,9, 20210411,     1354,   8.2713, -52.6447,     3.7212,2,     0.0422,1,     4.6874,1,     -999.0,9,     -999.0,9,     -999.0,9,     -999.0,9
325020210316,        A20,      78,          1,          5,          5,2,20210411,       1331,     8.2713,   -52.6447,       2914,  2188.7,   3.5787,  34.9684,2,  34.9679,2,    258.6,2,   258.5,2,   16.98,2,   18.38,2,    0.00,2,    1.20,2,-999.000,9,-999.000,9, -999.00,9,  2169.9,2, 2311.99,2,    741.4,2,    20.00,   7.73303,2,    25.01, -999.00,9, -999.00,9, -999.00,-999.000,9, -999.00,9, -999.00,9,     -999.0,9, 20210411,     1351,   8.2713, -52.6447,     3.5796,2,     0.0429,1,     4.6875,1,     -999.0,9,     -999.0,9,     -999.0,9,     -999.0,9
325020210316,        A20,      78,          1,          2,          2,2,20210411,       1331,     8.2713,   -52.6447,       2914,  2316.4,   3.4115,  34.9610,2,  34.9618,2,    260.5,2,   260.6,2,   17.85,2,   18.22,2,    0.00,2,    1.20,2,   0.891,2,   0.574,2,    0.23,2,  2170.0,2, 2314.04,2,   -999.0,9,  -999.00,   7.73555,6,    24.98, -999.00,9, -999.00,9, -999.00,-999.000,9, -999.00,9, -999.00,9,      13.15,2, 20210411,     1346,   8.2713, -52.6447,     3.4111,2,     0.0424,1,     4.6882,1,     -999.0,9,     -999.0,9,     -999.0,9,     -999.0,9
325020210316,        A20,      78,          1,          3,          3,2,20210411,       1331,     8.2713,   -52.6447,       2914,  2494.4,   3.1959,  34.9518,2,  34.9538,2,    258.7,2,   259.7,2,   20.88,2,   18.60,2,    0.00,2,    1.23,2,   0.732,2,   0.368,2,    0.18,2,  2173.0,2, 2315.27,2,    734.8,2,    20.00,   7.73855,6,    24.99, -999.00,9, -999.00,9, -999.00,-999.000,9, -999.00,9, -999.00,9,      13.34,2, 20210411,     1342,   8.2713, -52.6447,     3.1955,2,     0.0416,1,     4.6871,1,     -999.0,9,     -999.0,9,     -999.0,9,     -999.0,9