BOTTLE,20230512CCHSIOCBG
EXPOCODE,SECT_ID,STNNBR,CASTNO,SAMPNO,BTLNBR,BTLNBR_FLAG_W,DATE,TIME,LATITUDE,LONGITUDE,DEPTH,CTDPRS,CTDTMP,CTDSAL,CTDSAL_FLAG_W,SALNTY,SALNTY_FLAG_W,CTDOXY,CTDOXY_FLAG_W,OXYGEN,OXYGEN_FLAG_W,SILCAT,SILCAT_FLAG_W,NITRAT,NITRAT_FLAG_W,NITRIT,NITRIT_FLAG_W,PHSPHT,PHSPHT_FLAG_W,CFC-11,CFC-11_FLAG_W,CFC-12,CFC-12_FLAG_W,SF6,SF6_FLAG_W,TCARBN,TCARBN_FLAG_W,ALKALI,ALKALI_FLAG_W,FCO2,FCO2_FLAG_W,FCO2TMP,PH_TOT,PH_TOT_FLAG_W,PH_TMP,DELC13,DELC13_FLAG_W,DELC14,DELC14_FLAG_W,C14ERR,POC,POC_FLAG_W,DOC,DOC_FLAG_W,TDN,TDN_FLAG_W,N2O,N2O_FLAG_W,BTL_DATE,BTL_TIME,BTL_LAT,BTL_LON,REFTMP,REFTMP_FLAG_W,CTDFLUOR,CTDFLUOR_FLAG_W,CTDXMISS,CTDXMISS_FLAG_W,D15N_NO2+NO3,D15N_NO2+NO3_FLAG_W,D18O_NO2+NO3,D18O_NO2+NO3_FLAG_W,HPLC,HPLC_FLAG_W,MICROGELS,MICROGELS_FLAG_W
,,,,,,,,,,,METERS,DBAR,ITS-90,PSS-78,,PSS-78,,UMOL/KG,,UMOL/KG,,UMOL/KG,,UMOL/KG,,UMOL/KG,,UMOL/KG,,PMOL/KG,,PMOL/KG,,FMOL/KG,,UMOL/KG,,UMOL/KG,,UATM,,DEG C,,,DEG C,/MILLE,,/MILLE,,/MILLE,UG/KG,,UMOL/KG,,UMOL/KG,,NMOL/KG,,,,,,ITS-90,,VOLTS,,VOLTS,,/MILLE,,/MILLE,,,,1E6 GELS/L,
325020210316,        A20,      71,          1,         36,         36,2,20210409,       2115,     9.6381,   -52.3324,       4860,     5.1,  28.0281,  35.8086,2,  35.8106,2,    199.0,2,   197.7,2,    1.46,2,    0.00,2,    0.00,2,    0.03,2,-999.000,9,-999.000,9, -999.00,9,  2022.5,2, 2347.69,2,   -999.0,9,  -999.00,   8.07818,2,    24.98, -999.00,9, -999.00,9, -999.00,-999.000,9,   68.87,2,    4.35,2,     -999.0,9, 20210409,     2324,   9.6381, -52.3324,    28.0266,2,     0.0486,1,     4.6133,1,     -999.0,9,     -999.0,9,     -999.0,9,     -999.0,9
325020210316,        A20,      71,          1,         35,         35,2,20210409,       2115,     9.6381,   -52.3324,       4860,    25.3,  27.9321,  35.9354,2,  35.8961,3,    199.0,2,   197.7,2,    1.36,2,    0.00,2,    0.00,2,    0.03,2,-999.000,9,-999.000,9, -999.00,9,  -999.0,9, -999.00,9,   -999.0,9,  -999.00,-999.00000,9,  -999.00, -999.00,9, -999.00,9, -999.00,-999.000,9,   68.87,2,    4.30,2,     -999.0,9, 20210409,     2322,   9.6381, -52.3324,    27.9299,2,     0.0519,1,     4.6162,1,     -999.0,9,     -999.0,9,     -999.0,9,     -999.0,9
325020210316,        A20,      71,          1,         34,         34,2,20210409,       2115,     9.6381,   -52.3324,       4860,    49.9,  27.7090,  36.1848,2,  36.1860,2,    198.7,2,   198.0,2,    0.88,2,    0.00,2,    0.00,2,    0.02,2,-999.000,9,-999.000,9, -999.00,9,  -999.0,9, -999.00,9,   -999.0,9,  -999.00,-999.00000,9,  -999.00, -999.00,9, -999.00,9, -999.00,-999.000,9,   66.64,2,    4.43,2,     -999.0,9, 20210409,     2320,   9.6381, -52.3326,    27.7085,2,     0.0769,1,     4.6090,1,     -999.0,9,     -999.0,9,     -999.0,9,     -999.0,9
325020210316,        A20,      71,          1,         33,         33,2,20210409,       2115,     9.6381,   -52.3324,       4860,    74.0,  27.5244,  36.1320,2,  36.1343,2,    197.7,2,   197.1,2,    0.88,2,    0.00,2,    0.00,2,    0.01,2,   1.403,2,   0.921,2,    1.52,2,  2040.9,2, -999.00,9,   -999.0,9,  -999.00,   8.08215,2,    24.99, -999.00,9, -999.00,9, -999.00,-999.000,9,   69.63,2,    3.79,2,       5.83,2, 20210409,     2318,   9.6381, -52.3326,    27.5243,2,     0.0660,1,     4.6464,1,     -999.0,9,     -999.0,9,     -999.0,9,     -999.0,9
325020210316,        A20,      71,          1,         32,         32,2,20210409,       2115,     9.6381,   -52.3324,       4860,   100.4,  26.8986,  36.4164,2,  36.4176,2,    188.7,3,   190.9,2,    0.97,2,    0.21,2,    0.23,2,    0.09,2,-999.000,9,-999.000,9, -999.00,9,  2076.2,2, 2384.84,2,   -999.0,9,  -999.00,   8.05055,2,    25.02, -999.00,9, -999.00,9, -999.00,-999.000,9,   64.88,2,    4.38,2,     -999.0,9, 20210409,     2316,   9.6381, -52.3326,    26.9435,2,     0.0662,1,     4.6536,1,     -999.0,9,     -999.0,9,     -999.0,9,     -999.0,9
325020210316,        A20,      71,          1,         31,         31,2,20210409,       2115,     9.6381,   -52.3324,       4860,   150.5,  20.7907,  36.6918,2,  36.6396,3,    140.6,3,   143.0,2,    2.63,2,    7.86,2,    0.01,2,    0.43,2,-999.000,9,-999.000,9, -999.00,9,  2167.9,2, -999.00,9,   -999.0,9,  -999.00,    7.8918,2,    24.99, -999.00,9, -999.00,9, -999.00,-999.000,9,   53.18,2,   10.19,2,     -999.0,9, 20210409,     2314,   9.6381, -52.3326,    20.8497,3,     0.0500,1,     4.6688,1,     -999.0,9,     -999.0,9,     -999.0,9,     -999.0,9
325020210316,        A20,      71,          1,         30,         30,2,20210409,       2115,     9.6381,   -52.3324,       4860,   201.2,  15.1229,  35.8337,2,  35.7944,3,    122.4,3,   124.8,2,    6.63,2,   17.80,2,    0.00,2,    1.07,2,   2.112,2,   1.271,2,    1.09,2,  2194.0,2, 2345.94,2,   -999.0,9,  -999.00,   7.74363,2,    24.99, -999.00,9, -999.00,9, -999.00,-999.000,9,   48.15,2,   20.44,2,      21.99,2, 20210409,     2312,   9.6381, -52.3326,    15.1366,2,     0.0422,1,     4.6771,1,     -999.0,9,     -999.0,9,     -999.0,9,     -999.0,9
325020210316,        A20,      71,          1,         29,         29,2,20210409,       2115,     9.6381,   -52.3324,       4860,   252.3,  11.5418,  35.2327,2,  35.2341,2,    126.0,2,   125.8,2,   10.43,2,   23.10,2,    0.00,2,    1.46,2,-999.000,9,-999.000,9, -999.00,9,  -999.0,9, -999.00,9,   -999.0,9,  -999.00,-999.00000,9,  -999.00, -999.00,9, -999.00,9, -999.00,-999.000,9,   43.34,2,   24.61,2,     -999.0,9, 20210409,     2310,   9.6381, -52.3326,    11.5405,2,     0.0428,1,     4.6752,1,     -999.0,9,     -999.0,9,     -999.0,9,     -999.0,9
325020210316,        A20,      71,          1,         28,         28,2,20210409,       2115,     9.6381,   -52.3324,       4860,   301.3,  10.5199,  35.0939,2,  35.0888,2,    119.7,2,   119.2,2,   12.09,2,   25.60,2,    0.00,2,    1.63,2,-999.000,9,-999.000,9, -999.00,9,  -999.0,9, -999.00,9,   -999.0,9,  -999.00,-999.00000,9,  -999.00, -999.00,9, -999.00,9, -999.00,-999.000,9,   43.04,2,   28.50,2,     -999.0,9, 20210409,     2308,   9.6381, -52.3326,    10.5196,2,     0.0426,1,     4.6747,1,     -999.0,9,     -999.0,9,     -999.0,9,     -999.0,9
325020210316,        A20,      71,          1,         27,         27,2,20210409,       2115,     9.6381,   -52.3324,       4860,   351.7,   9.6598,  34.9703,2,  34.9699,2,    119.3,2,   118.5,2,   13.65,2,   27.36,2,    0.00,2,    1.76,2,-999.000,9,-999.000,9, -999.00,9,  -999.0,9, -999.00,9,   -999.0,9,  -999.00,-999.00000,9,  -999.00, -999.00,9, -999.00,9, -999.00,-999.000,9,   43.51,2,   30.36,2,     -999.0,9, 20210409,     2307,   9.6381, -52.3326,     9.6591,2,     0.0422,1,     4.6731,1,     -999.0,9,     -999.0,9,     -999.0,9,     -999.0,9
325020210316,        A20,      71,          1,         26,         26,2,20210409,       2115,     9.6381,   -52.3324,       4860,   402.4,   8.7958,  34.8585,2,  34.8548,2,    116.7,2,   116.6,2,   15.80,2,   29.54,2,    0.00,2,    1.89,2,   1.609,2,   0.885,2,    0.49,2,  2216.2,2,  2302.7,2,   -999.0,9,  -999.00,   7.56768,2,    25.00, -999.00,9, -999.00,9, -999.00,-999.000,9,   45.63,2,   32.27,2,      28.36,2, 20210409,     2304,   9.6381, -52.3326,     8.7907,2,     0.0436,1,     4.6762,1,     -999.0,9,     -999.0,9,     -999.0,9,     -999.0,9
325020210316,        A20,      71,          1,         25,         25,2,20210409,       2115,     9.6381,   -52.3324,       4860,   504.4,   7.6512,  34.7216,2,  34.7247,2,    114.1,2,   113.8,2,   19.02,2,   32.53,2,    0.00,2,    2.09,2,-999.000,9,-999.000,9, -999.00,9,  2222.5,6, -999.00,9,   -999.0,9,  -999.00,   7.53237,2,    24.98, -999.00,9, -999.00,9, -999.00,-999.000,9,   44.06,2,   33.33,2,     -999.0,9, 20210409,     2301,   9.6381, -52.3326,     7.6494,2,     0.0435,1,     4.6779,1,     -999.0,9,     -999.0,9,     -999.0,9,     -999.0,9
325020210316,        A20,      71,          1,         24,         24,2,20210409,       2115,     9.6381,   -52.3324,       4860,   604.5,   6.8647,  34.6573,2,  34.6529,2,    120.3,2,   120.2,2,   21.75,2,   33.56,2,    0.00,2,    2.19,2,-999.000,9,-999.000,9, -999.00,9,  2224.0,2, 2297.07,2,   -999.0,9,  -999.00,   7.52487,6,    24.98, -999.00,9, -999.00,9, -999.00,-999.000,9, -999.00,9, -999.00,9,     -999.0,9, 20210409,     2259,   9.6381, -52.3326,     6.8644,2,     0.0430,1,     4.6811,1,     -999.0,9,     -999.0,9,     -999.0,9,     -999.0,9
325020210316,        A20,      71,          1,         23,         23,2,20210409,       2115,     9.6381,   -52.3324,       4860,   704.7,   6.1805,  34.6163,2,  34.6148,2,    125.1,2,   124.4,2,   24.49,2,   34.20,2,    0.00,2,    2.25,2,   0.653,2,   0.351,2,    0.19,2,  -999.0,9, -999.00,9,   -999.0,9,  -999.00,-999.00000,9,  -999.00, -999.00,9, -999.00,9, -999.00,-999.000,9, -999.00,1, -999.00,1,      26.34,2, 20210409,     2256,   9.6381, -52.3326,     6.1815,2,     0.0430,1,     4.6789,1,     -999.0,9,     -999.0,9,     -999.0,9,     -999.0,9
325020210316,        A20,      71,          1,         22,         22,2,20210409,       2115,     9.6381,   -52.3324,       4860,   805.6,   5.5844,  34.5835,2,  34.5814,2,    133.5,2,   133.3,2,   27.02,2,   34.31,2,    0.00,2,    2.28,2,-999.000,9,-999.000,9, -999.00,9,  -999.0,9, -999.00,9,   -999.0,9,  -999.00,-999.00000,9,  -999.00, -999.00,9, -999.00,9, -999.00,-999.000,9, -999.00,9, -999.00,9,     -999.0,9, 20210409,     2253,   9.6381, -52.3326,     5.5844,2,     0.0422,1,     4.6807,1,     -999.0,9,     -999.0,9,     -999.0,9,     -999.0,9
325020210316,        A20,      71,          1,         21,         21,2,20210409,       2115,     9.6381,   -52.3324,       4860,   906.6,   5.3253,  34.6251,2,  34.6248,2,    135.6,2,   135.3,2,   28.10,2,   33.90,2,    0.00,2,    2.26,2,-999.000,9,-999.000,9, -999.00,9,  -999.0,9, -999.00,9,   -999.0,9,  -999.00,-999.00000,9,  -999.00, -999.00,9, -999.00,9, -999.00,-999.000,9, -999.00,9, -999.00,9,     -999.0,9, 20210409,     2249,   9.6381, -52.3326,     5.3238,2,     0.0430,1,     4.6802,1,     -999.0,9,     -999.0,9,     -999.0,9,     -999.0,9
325020210316,        A20,      71,          1,         20,         20,2,20210409,       2115,     9.6381,   -52.3324,       4860,  1007.8,   5.0305,  34.6549,2,  34.6537,2,    144.7,2,   145.6,2,   28.78,2,   32.86,2,    0.00,2,    2.20,2,   0.185,2,   0.100,2,    0.10,2,  2224.1,2, 2303.59,2,   -999.0,9,  -999.00,   7.55044,6,    24.99, -999.00,9, -999.00,9, -999.00,-999.000,9,   42.01,2,   33.94,2,      23.21,2, 20210409,     2246,   9.6381, -52.3326,     5.0293,2,     0.0424,1,     4.6801,1,     -999.0,9,     -999.0,9,     -999.0,9,     -999.0,9
325020210316,        A20,      71,          1,         19,         19,2,20210409,       2115,     9.6381,   -52.3324,       4860,  1108.9,   5.0796,  34.7308,2,  34.7278,2,    151.8,2,   152.3,2,   27.31,2,   31.30,2,    0.00,2,    2.11,2,-999.000,9,-999.000,9, -999.00,9,  -999.0,9, -999.00,9,   -999.0,9,  -999.00,-999.00000,9,  -999.00, -999.00,9, -999.00,9, -999.00,-999.000,9, -999.00,9, -999.00,9,     -999.0,9, 20210409,     2243,   9.6381, -52.3326,     5.0767,2,     0.0429,1,     4.6805,1,     -999.0,9,     -999.0,9,     -999.0,9,     -999.0,9
325020210316,        A20,      71,          1,         18,         18,2,20210409,       2115,     9.6381,   -52.3324,       4860,  1209.7,   5.1841,  34.8494,2,  34.8462,2,    167.9,2,   168.5,2,   23.90,2,   28.34,2,    0.00,2,    1.88,2,-999.000,9,-999.000,9, -999.00,9,  -999.0,9, -999.00,9,   -999.0,9,  -999.00,-999.00000,9,  -999.00, -999.00,9, -999.00,9, -999.00,-999.000,9,   41.90,2,   30.05,2,     -999.0,9, 20210409,     2240,   9.6381, -52.3326,     5.1811,2,     0.0432,1,     4.6812,1,     -999.0,9,     -999.0,9,     -999.0,9,     -999.0,9
325020210316,        A20,      71,          1,         17,         17,2,20210409,       2115,     9.6381,   -52.3324,       4860,  1310.5,   5.1888,  34.9282,2,  34.9272,2,    185.3,2,   186.1,2,   21.07,2,   25.44,2,    0.00,2,    1.70,2,   0.526,2,   0.284,2,    0.17,2,  -999.0,9, -999.00,9,   -999.0,9,  -999.00,-999.00000,9,  -999.00, -999.00,9, -999.00,9, -999.00,-999.000,9, -999.00,9, -999.00,9,      18.49,2, 20210409,     2237,   9.6381, -52.3326,     5.1880,2,     0.0429,1,     4.6836,1,     -999.0,9,     -999.0,9,     -999.0,9,     -999.0,9
325020210316,        A20,      71,          1,         16,         16,2,20210409,       2115,     9.6381,   -52.3324,       4860,  1411.8,   5.1083,  34.9928,2,  34.9921,2,    210.1,3,   207.9,2,   17.75,2,   22.50,2,    0.00,2,    1.49,2,-999.000,9,-999.000,9, -999.00,9,  -999.0,9, -999.00,9,   -999.0,9,  -999.00,-999.00000,9,  -999.00, -999.00,9, -999.00,9, -999.00,-999.000,9,   42.87,2,   23.91,2,     -999.0,9, 20210409,     2233,   9.6381, -52.3326,     5.1052,2,     0.0421,1,     4.6852,1,     -999.0,9,     -999.0,9,     -999.0,9,     -999.0,9
325020210316,        A20,      71,          1,         15,         15,2,20210409,       2115,     9.6381,   -52.3324,       4860,  1514.4,   4.8247,  35.0063,2,  35.0057,2,    226.3,2,   225.9,2,   15.90,2,   20.57,2,    0.00,2,    1.36,2,   1.219,2,   0.667,2,    0.40,2,  2182.5,2, 2314.63,6,   -999.0,9,  -999.00,    7.7028,2,    24.99, -999.00,9, -999.00,9, -999.00,-999.000,9, -999.00,9, -999.00,9,      15.45,2, 20210409,     2230,   9.6381, -52.3326,     4.8271,2,     0.0424,1,     4.6864,1,     -999.0,9,     -999.0,9,     -999.0,9,     -999.0,9
325020210316,        A20,      71,          1,         14,         14,2,20210409,       2115,     9.6381,   -52.3324,       4860,  1616.1,   4.4918,  35.0051,2,  35.0061,2,    241.3,2,   241.3,2,   14.73,2,   19.18,2,    0.00,2,    1.27,2,-999.000,9,-999.000,9, -999.00,9,  -999.0,9, -999.00,9,   -999.0,9,  -999.00,-999.00000,9,  -999.00, -999.00,9, -999.00,9, -999.00,-999.000,9,   42.63,2,   20.94,2,     -999.0,9, 20210409,     2227,   9.6381, -52.3326,     4.4921,2,     0.0420,1,     4.6855,1,     -999.0,9,     -999.0,9,     -999.0,9,     -999.0,9
325020210316,        A20,      71,          1,         13,         13,2,20210409,       2115,     9.6381,   -52.3324,       4860,  1818.2,   4.0218,  34.9889,2,  34.9890,2,    254.8,2,   255.5,2,   14.43,2,   18.25,2,    0.00,2,    1.20,2,   1.473,2,   0.772,2,    0.40,2,  -999.0,9, -999.00,9,   -999.0,9,  -999.00,-999.00000,9,  -999.00, -999.00,9, -999.00,9, -999.00,-999.000,9, -999.00,9, -999.00,9,      13.77,2, 20210409,     2223,   9.6381, -52.3326,     4.0221,2,     0.0430,1,     4.6886,1,     -999.0,9,     -999.0,9,     -999.0,9,     -999.0,9
325020210316,        A20,      71,          1,         12,         12,2,20210409,       2115,     9.6381,   -52.3324,       4860,  2020.2,   3.6965,  34.9749,2,  34.9744,2,    258.5,2,   258.6,2,   15.90,2,   18.27,2,    0.00,2,    1.20,2,-999.000,9,-999.000,9, -999.00,9,  -999.0,9, -999.00,9,   -999.0,9,  -999.00,-999.00000,9,  -999.00, -999.00,9, -999.00,9, -999.00,-999.000,9,   44.17,2,   20.46,2,     -999.0,9, 20210409,     2217,   9.6381, -52.3326,     3.6972,2,     0.0428,1,     4.6912,1,     -999.0,9,     -999.0,9,     -999.0,9,     -999.0,9
325020210316,        A20,      71,          1,         11,         11,2,20210409,       2115,     9.6381,   -52.3324,       4860,  2273.3,   3.3509,  34.9602,2,  34.9602,2,    260.0,2,   259.9,2,   18.63,2,   18.30,2,    0.00,2,    1.20,2,   0.938,2,   0.565,2,    1.96,4,  -999.0,9, -999.00,9,   -999.0,9,  -999.00,-999.00000,9,  -999.00, -999.00,9, -999.00,9, -999.00,-999.000,9, -999.00,9, -999.00,9,      13.87,2, 20210409,     2212,   9.6381, -52.3326,     3.3532,2,     0.0423,1,     4.6910,1,     -999.0,9,     -999.0,9,     -999.0,9,     -999.0,9
325020210316,        A20,      71,          1,         10,         10,2,20210409,       2115,     9.6381,   -52.3324,       4860,  2529.8,   3.1116,  34.9482,2,  34.9473,2,    260.8,2,   261.0,2,   20.87,2,   18.33,2,    0.00,2,    1.21,2,-999.000,9,-999.000,9, -999.00,9,  -999.0,9, -999.00,9,   -999.0,9,  -999.00,-999.00000,9,  -999.00, -999.00,9, -999.00,9, -999.00,-999.000,9,   43.05,2,   20.24,2,     -999.0,9, 20210409,     2207,   9.6381, -52.3326,     3.1115,2,     0.0424,1,     4.6898,1,     -999.0,9,     -999.0,9,     -999.0,9,     -999.0,9
325020210316,        A20,      71,          1,          9,          9,2,20210409,       2115,     9.6381,   -52.3324,       4860,  2783.1,   2.9154,  34.9375,2,  34.9364,2,    259.2,2,   259.3,2,   24.29,2,   18.76,2,    0.00,2,    1.24,2,-999.000,9,-999.000,9, -999.00,9,  -999.0,9, -999.00,9,   -999.0,9,  -999.00,-999.00000,9,  -999.00, -999.00,9, -999.00,9, -999.00,-999.000,9, -999.00,9, -999.00,9,     -999.0,9, 20210409,     2201,   9.6381, -52.3326,     2.9164,2,     0.0429,1,     4.6879,1,     -999.0,9,     -999.0,9,     -999.0,9,     -999.0,9
325020210316,        A20,      71,          1,          8,          8,2,20210409,       2115,     9.6381,   -52.3324,       4860,  3038.5,   2.7814,  34.9284,2,  34.9286,2,    259.4,2,   259.9,2,   26.24,2,   18.85,2,    0.00,2,    1.25,2,   0.573,2,   0.305,2,    0.22,2,  2174.2,2, 2322.12,2,   -999.0,9,  -999.00,   7.73711,2,    24.99, -999.00,9, -999.00,9, -999.00,-999.000,9,   44.59,2,   20.03,2,      13.61,2, 20210409,     2155,   9.6381, -52.3326,     2.7812,2,     0.0429,1,     4.6886,1,     -999.0,9,     -999.0,9,     -999.0,9,     -999.0,9
325020210316,        A20,      71,          1,          7,          7,2,20210409,       2115,     9.6381,   -52.3324,       4860,  3344.6,   2.6170,  34.9164,2,  34.9152,2,    260.3,2,   260.3,2,   28.68,2,   19.03,2,    0.00,2,    1.27,2,-999.000,9,-999.000,9, -999.00,9,  -999.0,9, -999.00,9,   -999.0,9,  -999.00,-999.00000,9,  -999.00, -999.00,9, -999.00,9, -999.00,-999.000,9,   46.18,2,   19.41,2,     -999.0,9, 20210409,     2149,   9.6381, -52.3326,     2.6168,2,     0.0431,1,     4.6903,1,     -999.0,9,     -999.0,9,     -999.0,9,     -999.0,9
325020210316,        A20,      71,          1,          6,          6,2,20210409,       2115,     9.6381,   -52.3324,       4860,  3651.0,   2.4616,  34.9056,2,  34.9046,2,    264.9,2,   264.7,2,   27.90,2,   18.65,2,    0.00,2,    1.24,2,-999.000,9,-999.000,9, -999.00,9,  -999.0,9, -999.00,9,   -999.0,9,  -999.00,-999.00000,9,  -999.00, -999.00,9, -999.00,9, -999.00,-999.000,9, -999.00,9, -999.00,9,     -999.0,9, 20210409,     2143,   9.6381, -52.3326,     2.4615,2,     0.0429,1,     4.6916,1,     -999.0,9,     -999.0,9,     -999.0,9,     -999.0,9
325020210316,        A20,      71,          1,          5,          5,2,20210409,       2115,     9.6381,   -52.3324,       4860,  3957.7,   2.3436,  34.8962,2,  34.8947,2,    264.7,2,   264.4,2,   30.43,2,   18.84,2,    0.00,2,    1.26,2,   0.790,2,   0.408,2,    0.24,2,  -999.0,9, -999.00,9,   -999.0,9,  -999.00,-999.00000,9,  -999.00, -999.00,9, -999.00,9, -999.00,-999.000,9,   45.15,2,   18.52,2,      13.53,2, 20210409,     2136,   9.6381, -52.3326,     2.3434,2,     0.0429,1,     4.6918,1,     -999.0,9,     -999.0,9,     -999.0,9,     -999.0,9
325020210316,        A20,      71,          1,          4,          4,2,20210409,       2115,     9.6381,   -52.3324,       4860,  4266.1,   2.2650,  34.8870,2,  34.8875,2,    262.3,2,   261.7,2,   34.92,2,   19.42,2,    0.00,2,    1.30,2,-999.000,9,-999.000,9, -999.00,9,  -999.0,9, -999.00,9,   -999.0,9,  -999.00,-999.00000,9,  -999.00, -999.00,9, -999.00,9, -999.00,-999.000,9, -999.00,9, -999.00,9,     -999.0,9, 20210409,     2130,   9.6381, -52.3326,     2.2650,2,     0.0420,1,     4.6909,1,     -999.0,9,     -999.0,9,     -999.0,9,     -999.0,9
325020210316,        A20,      71,          1,          3,          3,2,20210409,       2115,     9.6381,   -52.3324,       4860,  4573.7,   2.1761,  34.8732,2,  34.8739,2,    257.6,2,   258.0,2,   41.75,2,   20.46,2,    0.00,2,    1.38,2,   0.463,2,   0.243,2,    0.15,2,  -999.0,9, -999.00,9,   -999.0,9,  -999.00,-999.00000,9,  -999.00, -999.00,9, -999.00,9, -999.00,-999.000,9,   43.95,2,   22.00,2,      14.29,2, 20210409,     2123,   9.6381, -52.3326,     2.1767,2,     0.0429,1,     4.6886,1,     -999.0,9,     -999.0,9,     -999.0,9,     -999.0,9