BOTTLE,20230419CCHSIOENA
EXPOCODE,SECT_ID,STNNBR,CASTNO,SAMPNO,BTLNBR,BTLNBR_FLAG_W,DATE,TIME,LATITUDE,LONGITUDE,DEPTH,CTDPRS,CTDTMP,CTDSAL,CTDSAL_FLAG_W,SALNTY,SALNTY_FLAG_W,CTDOXY,CTDOXY_FLAG_W,OXYGEN,OXYGEN_FLAG_W,SILCAT,SILCAT_FLAG_W,PHSPHT,PHSPHT_FLAG_W,TCARBN,TCARBN_FLAG_W,ALKALI,ALKALI_FLAG_W,DELO18,DELO18_FLAG_W,NO2+NO3,NO2+NO3_FLAG_W,THETA,O18ERR,DELD,DELD_FLAG_W,DELDERR,CTDFLUOR,CTDFLUOR_FLAG_W,PAR,PAR_FLAG_W,CTDXMISS,CTDXMISS_FLAG_W
,,,,,,,,,,,METERS,DBAR,ITS-90,PSS-78,,PSS-78,,UMOL/KG,,UMOL/KG,,UMOL/KG,,UMOL/KG,,UMOL/KG,,UMOL/KG,,/MILLE,,UMOL/KG,,DEG C,/MILLE,/MILLE,,/MILLE,MG/M^3,,UMOL/M^2/SEC,,%TRANS,
09AR20110104,       SR03,     132,          1,         24,         24,2,20110128,       0606,   -66.8872,   146.8190,        554,     9.5,  -0.3359,  33.4960,2,  33.4998,2,    384.1,2,   384.3,2,   38.20,2, -999.00,9,  2070.4,6,  2286.0,6,   -0.41,2,   13.15,2,  -0.3362,       0.04,      -4.39,2,       0.18,     18.955,2,     12.779,2,     80.601,2
09AR20110104,       SR03,     132,          1,         23,         23,2,20110128,       0606,   -66.8872,   146.8190,        554,     9.6,  -0.3360,  33.4968,2,-999.0000,9,    384.1,2,  -999.0,9, -999.00,9, -999.00,9,  -999.0,9,  -999.0,9, -999.00,9, -999.00,9,  -0.3363,     -999.0,     -999.0,9,     -999.0,     17.888,2,     12.769,2,     80.799,2
09AR20110104,       SR03,     132,          1,         22,         22,2,20110128,       0606,   -66.8872,   146.8190,        554,     9.6,  -0.3357,  33.4971,2,-999.0000,9,    384.1,2,  -999.0,9, -999.00,9, -999.00,9,  -999.0,9,  -999.0,9, -999.00,9, -999.00,9,  -0.3360,     -999.0,     -999.0,9,     -999.0,     18.018,2,     12.319,2,     80.506,2
09AR20110104,       SR03,     132,          1,         21,         21,2,20110128,       0606,   -66.8872,   146.8190,        554,     9.6,  -0.3355,  33.4958,2,-999.0000,9,    384.1,2,  -999.0,9, -999.00,9, -999.00,9,  -999.0,9,  -999.0,9, -999.00,9, -999.00,9,  -0.3358,     -999.0,     -999.0,9,     -999.0,     18.294,2,     11.319,2,     80.505,2
09AR20110104,       SR03,     132,          1,         20,         20,2,20110128,       0606,   -66.8872,   146.8190,        554,     9.7,  -0.3367,  33.4945,2,-999.0000,9,    384.1,2,  -999.0,9, -999.00,9, -999.00,9,  -999.0,9,  -999.0,9, -999.00,9, -999.00,9,  -0.3370,     -999.0,     -999.0,9,     -999.0,     17.822,2,     11.119,2,     80.394,2
09AR20110104,       SR03,     132,          1,         19,         19,2,20110128,       0606,   -66.8872,   146.8190,        554,     9.7,  -0.3382,  33.4934,2,-999.0000,9,    384.1,2,  -999.0,9, -999.00,9, -999.00,9,  -999.0,9,  -999.0,9, -999.00,9, -999.00,9,  -0.3385,     -999.0,     -999.0,9,     -999.0,     17.501,2,     10.859,2,     80.492,2
09AR20110104,       SR03,     132,          1,         18,         18,2,20110128,       0606,   -66.8872,   146.8190,        554,    65.8,  -1.6656,  34.3698,2,  34.3680,2,    311.5,2,   311.8,2,   72.60,2,    2.06,2,  2224.5,2,  2325.5,2,   -0.33,2,   28.93,2,  -1.6670,       0.06,      -3.89,2,       0.21,      5.698,2,      0.000,2,     94.165,2
09AR20110104,       SR03,     132,          1,         17,         17,2,20110128,       0606,   -66.8872,   146.8190,        554,    65.3,  -1.6631,  34.3683,2,-999.0000,9,    311.5,2,  -999.0,9, -999.00,9, -999.00,9,  -999.0,9,  -999.0,9, -999.00,9, -999.00,9,  -1.6645,     -999.0,     -999.0,9,     -999.0,      4.957,2,      0.000,2,     94.047,2
09AR20110104,       SR03,     132,          1,         16,         16,2,20110128,       0606,   -66.8872,   146.8190,        554,    64.8,  -1.6622,  34.3677,2,-999.0000,9,    312.0,2,  -999.0,9, -999.00,9, -999.00,9,  -999.0,9,  -999.0,9, -999.00,9, -999.00,9,  -1.6636,     -999.0,     -999.0,9,     -999.0,      6.073,2,      0.000,2,     94.072,2
09AR20110104,       SR03,     132,          1,         15,         15,2,20110128,       0606,   -66.8872,   146.8190,        554,    64.5,  -1.6615,  34.3672,2,-999.0000,9,    312.0,2,  -999.0,9, -999.00,9, -999.00,9,  -999.0,9,  -999.0,9, -999.00,9, -999.00,9,  -1.6628,     -999.0,     -999.0,9,     -999.0,      4.927,2,      0.000,2,     94.114,2
09AR20110104,       SR03,     132,          1,         14,         14,2,20110128,       0606,   -66.8872,   146.8190,        554,   224.2,  -1.7187,  34.4438,2,  34.4428,2,    300.0,2,   299.8,2,   74.80,2,    2.06,2,  2229.9,2,  2329.2,2,   -0.38,2,   29.90,2,  -1.7236,       0.07,      -3.96,2,       0.11,      0.171,2,      0.000,2,     98.419,2
09AR20110104,       SR03,     132,          1,         13,         13,2,20110128,       0606,   -66.8872,   146.8190,        554,   224.9,  -1.7187,  34.4439,2,-999.0000,9,    300.0,2,  -999.0,9, -999.00,9, -999.00,9,  -999.0,9,  -999.0,9, -999.00,9, -999.00,9,  -1.7237,     -999.0,     -999.0,9,     -999.0,      0.130,2,      0.000,2,     98.397,2
09AR20110104,       SR03,     132,          1,         12,         12,2,20110128,       0606,   -66.8872,   146.8190,        554,   225.5,  -1.7176,  34.4441,2,-999.0000,9,    299.7,2,  -999.0,9, -999.00,9, -999.00,9,  -999.0,9,  -999.0,9, -999.00,9, -999.00,9,  -1.7226,     -999.0,     -999.0,9,     -999.0,      0.214,2,      0.000,2,     98.473,2
09AR20110104,       SR03,     132,          1,         11,         11,2,20110128,       0606,   -66.8872,   146.8190,        554,   226.6,  -1.7091,  34.4457,2,-999.0000,9,    299.7,2,  -999.0,9, -999.00,9, -999.00,9,  -999.0,9,  -999.0,9, -999.00,9, -999.00,9,  -1.7141,     -999.0,     -999.0,9,     -999.0,      0.144,2,      0.000,2,     98.375,2
09AR20110104,       SR03,     132,          1,         10,         10,2,20110128,       0606,   -66.8872,   146.8190,        554,   227.2,  -1.7080,  34.4460,2,-999.0000,9,    299.7,2,  -999.0,9, -999.00,9, -999.00,9,  -999.0,9,  -999.0,9, -999.00,9, -999.00,9,  -1.7130,     -999.0,     -999.0,9,     -999.0,      0.079,2,      0.000,2,     98.517,2
09AR20110104,       SR03,     132,          1,          9,          9,2,20110128,       0606,   -66.8872,   146.8190,        554,   225.4,  -1.7151,  34.4449,2,-999.0000,9,    299.7,2,  -999.0,9, -999.00,9, -999.00,9,  -999.0,9,  -999.0,9, -999.00,9, -999.00,9,  -1.7201,     -999.0,     -999.0,9,     -999.0,      0.128,2,      0.000,2,     98.601,2
09AR20110104,       SR03,     132,          1,          8,          8,2,20110128,       0606,   -66.8872,   146.8190,        554,   401.2,  -1.8942,  34.5734,2,  34.5726,2,    302.4,2,   302.7,2,   74.80,2,    2.08,2,  2238.4,2,  2340.6,2,   -0.31,2,   30.04,2,  -1.9032,       0.08,      -3.63,2,       0.18,      0.010,2,      0.000,2,     98.499,2
09AR20110104,       SR03,     132,          1,          7,          7,2,20110128,       0606,   -66.8872,   146.8190,        554,   401.1,  -1.8948,  34.5731,2,-999.0000,9,    302.4,2,  -999.0,9, -999.00,9, -999.00,9,  -999.0,9,  -999.0,9, -999.00,9, -999.00,9,  -1.9038,     -999.0,     -999.0,9,     -999.0,      0.010,2,      0.000,2,     98.603,2
09AR20110104,       SR03,     132,          1,          6,          6,2,20110128,       0606,   -66.8872,   146.8190,        554,   400.8,  -1.8948,  34.5730,2,-999.0000,9,    302.4,2,  -999.0,9, -999.00,9, -999.00,9,  -999.0,9,  -999.0,9, -999.00,9, -999.00,9,  -1.9038,     -999.0,     -999.0,9,     -999.0,      0.012,2,      0.000,2,     98.584,2
09AR20110104,       SR03,     132,          1,          5,          5,2,20110128,       0606,   -66.8872,   146.8190,        554,   400.7,  -1.8948,  34.5730,2,-999.0000,9,    302.4,2,  -999.0,9, -999.00,9, -999.00,9,  -999.0,9,  -999.0,9, -999.00,9, -999.00,9,  -1.9038,     -999.0,     -999.0,9,     -999.0,      0.017,2,      0.000,2,     98.571,2
09AR20110104,       SR03,     132,          1,          4,          4,2,20110128,       0606,   -66.8872,   146.8190,        554,   400.4,  -1.8940,  34.5726,2,-999.0000,9,    302.4,2,  -999.0,9, -999.00,9, -999.00,9,  -999.0,9,  -999.0,9, -999.00,9, -999.00,9,  -1.9030,     -999.0,     -999.0,9,     -999.0,      0.007,2,      0.000,2,     98.601,2
09AR20110104,       SR03,     132,          1,          3,          3,2,20110128,       0606,   -66.8872,   146.8190,        554,   400.1,  -1.8935,  34.5723,2,-999.0000,9,    302.4,2,  -999.0,9, -999.00,9, -999.00,9,  -999.0,9,  -999.0,9, -999.00,9, -999.00,9,  -1.9025,     -999.0,     -999.0,9,     -999.0,      0.008,2,      0.000,2,     98.615,2
09AR20110104,       SR03,     132,          1,          2,        102,2,20110128,       0606,   -66.8872,   146.8190,        554,   549.6,  -1.9061,  34.6132,2,  34.6138,2,    302.8,2,   302.8,2,   77.50,2,    2.11,2,  -999.0,9,  -999.0,9,   -0.35,2,   30.34,2,  -1.9193,       0.05,      -3.95,2,       0.07,      0.094,2,      0.000,2,     97.318,2
09AR20110104,       SR03,     132,          1,          1,          1,2,20110128,       0606,   -66.8872,   146.8190,        554,   550.2,  -1.9061,  34.6133,2,-999.0000,9,    302.8,2,  -999.0,9, -999.00,9, -999.00,9,  -999.0,9,  -999.0,9, -999.00,9, -999.00,9,  -1.9193,     -999.0,     -999.0,9,     -999.0,      0.100,2,      0.000,2,     97.367,2
09AR20110104,       SR03,     133,          1,         24,         24,2,20110128,       0823,   -66.8903,   147.2140,        593,    10.0,  -0.4232,  33.4278,2,  33.4389,2,    382.9,2,   383.2,2,   37.70,2,    0.81,2,  2073.1,6,  2278.4,6, -999.00,9,   14.52,2,  -0.4235,     -999.0,     -999.0,9,     -999.0,     20.158,2,      3.214,2,     79.738,2
09AR20110104,       SR03,     133,          1,         23,         23,2,20110128,       0823,   -66.8903,   147.2140,        593,    10.1,  -0.4253,  33.4259,2,-999.0000,9,    382.9,2,  -999.0,9, -999.00,9, -999.00,9,  -999.0,9,  -999.0,9, -999.00,9, -999.00,9,  -0.4256,     -999.0,     -999.0,9,     -999.0,     20.403,2,      3.211,2,     79.637,2
09AR20110104,       SR03,     133,          1,         22,         22,2,20110128,       0823,   -66.8903,   147.2140,        593,    10.0,  -0.4240,  33.4265,2,-999.0000,9,    382.9,2,  -999.0,9, -999.00,9, -999.00,9,  -999.0,9,  -999.0,9, -999.00,9, -999.00,9,  -0.4243,     -999.0,     -999.0,9,     -999.0,     21.084,2,      3.167,2,     79.534,2
09AR20110104,       SR03,     133,          1,         21,         21,2,20110128,       0823,   -66.8903,   147.2140,        593,    10.0,  -0.4218,  33.4275,2,-999.0000,9,    382.9,2,  -999.0,9, -999.00,9, -999.00,9,  -999.0,9,  -999.0,9, -999.00,9, -999.00,9,  -0.4221,     -999.0,     -999.0,9,     -999.0,     21.141,2,      3.027,2,     79.415,2
09AR20110104,       SR03,     133,          1,         20,         20,2,20110128,       0823,   -66.8903,   147.2140,        593,    10.0,  -0.4229,  33.4266,2,-999.0000,9,    382.9,2,  -999.0,9, -999.00,9, -999.00,9,  -999.0,9,  -999.0,9, -999.00,9, -999.00,9,  -0.4232,     -999.0,     -999.0,9,     -999.0,     20.325,2,      2.984,2,     79.682,2
09AR20110104,       SR03,     133,          1,         19,         19,2,20110128,       0823,   -66.8903,   147.2140,        593,    10.0,  -0.4225,  33.4274,2,-999.0000,9,    382.9,2,  -999.0,9, -999.00,9, -999.00,9,  -999.0,9,  -999.0,9, -999.00,9, -999.00,9,  -0.4228,     -999.0,     -999.0,9,     -999.0,     19.633,2,      2.935,2,     79.490,2
09AR20110104,       SR03,     133,          1,         18,         18,2,20110128,       0823,   -66.8903,   147.2140,        593,    74.4,  -1.6453,  34.3603,2,  34.3623,2,    312.5,2,   312.4,2,   73.60,2,    2.05,2,  2222.0,2,  2325.3,2, -999.00,9,   29.70,2,  -1.6469,     -999.0,     -999.0,9,     -999.0,      2.906,2,      0.000,2,     95.530,2
09AR20110104,       SR03,     133,          1,         17,         17,2,20110128,       0823,   -66.8903,   147.2140,        593,    74.4,  -1.6462,  34.3606,2,-999.0000,9,    312.5,2,  -999.0,9, -999.00,9, -999.00,9,  -999.0,9,  -999.0,9, -999.00,9, -999.00,9,  -1.6478,     -999.0,     -999.0,9,     -999.0,      4.063,2,      0.000,2,     95.493,2
09AR20110104,       SR03,     133,          1,         16,         16,2,20110128,       0823,   -66.8903,   147.2140,        593,    74.3,  -1.6457,  34.3607,2,-999.0000,9,    312.5,2,  -999.0,9, -999.00,9, -999.00,9,  -999.0,9,  -999.0,9, -999.00,9, -999.00,9,  -1.6473,     -999.0,     -999.0,9,     -999.0,      3.520,2,      0.000,2,     95.583,2
09AR20110104,       SR03,     133,          1,         15,         15,2,20110128,       0823,   -66.8903,   147.2140,        593,    74.3,  -1.6460,  34.3608,2,-999.0000,9,    312.5,2,  -999.0,9, -999.00,9, -999.00,9,  -999.0,9,  -999.0,9, -999.00,9, -999.00,9,  -1.6476,     -999.0,     -999.0,9,     -999.0,      3.871,2,      0.000,2,     95.644,2
09AR20110104,       SR03,     133,          1,         14,         14,2,20110128,       0823,   -66.8903,   147.2140,        593,   250.0,  -1.6787,  34.4575,2,  34.4614,2,    298.1,2,   298.1,2,   74.90,2, -999.00,9,  2232.0,2,  2329.8,2, -999.00,9,   30.24,2,  -1.6844,     -999.0,     -999.0,9,     -999.0,      0.264,2,      0.000,2,     98.568,2
09AR20110104,       SR03,     133,          1,         13,         13,2,20110128,       0823,   -66.8903,   147.2140,        593,   250.0,  -1.6724,  34.4577,2,-999.0000,9,    298.1,2,  -999.0,9, -999.00,9, -999.00,9,  -999.0,9,  -999.0,9, -999.00,9, -999.00,9,  -1.6781,     -999.0,     -999.0,9,     -999.0,      0.240,2,      0.000,2,     98.534,2
09AR20110104,       SR03,     133,          1,         12,         12,2,20110128,       0823,   -66.8903,   147.2140,        593,   250.0,  -1.6708,  34.4576,2,-999.0000,9,    298.1,2,  -999.0,9, -999.00,9, -999.00,9,  -999.0,9,  -999.0,9, -999.00,9, -999.00,9,  -1.6765,     -999.0,     -999.0,9,     -999.0,      0.281,2,      0.000,2,     98.686,2
09AR20110104,       SR03,     133,          1,         11,         11,2,20110128,       0823,   -66.8903,   147.2140,        593,   250.0,  -1.6717,  34.4576,2,-999.0000,9,    298.1,2,  -999.0,9, -999.00,9, -999.00,9,  -999.0,9,  -999.0,9, -999.00,9, -999.00,9,  -1.6774,     -999.0,     -999.0,9,     -999.0,      0.275,2,      0.000,2,     98.377,2
09AR20110104,       SR03,     133,          1,         10,         10,2,20110128,       0823,   -66.8903,   147.2140,        593,   250.0,  -1.6730,  34.4579,2,-999.0000,9,    298.1,2,  -999.0,9, -999.00,9, -999.00,9,  -999.0,9,  -999.0,9, -999.00,9, -999.00,9,  -1.6787,     -999.0,     -999.0,9,     -999.0,      0.211,2,      0.000,2,     98.518,2
09AR20110104,       SR03,     133,          1,          9,          9,2,20110128,       0823,   -66.8903,   147.2140,        593,   249.9,  -1.6811,  34.4589,2,-999.0000,9,    298.1,2,  -999.0,9, -999.00,9, -999.00,9,  -999.0,9,  -999.0,9, -999.00,9, -999.00,9,  -1.6868,     -999.0,     -999.0,9,     -999.0,      0.238,2,      0.000,2,     98.387,2
09AR20110104,       SR03,     133,          1,          8,          8,2,20110128,       0823,   -66.8903,   147.2140,        593,   402.6,  -1.8742,  34.5571,2,  34.5578,2,    302.4,2,   303.2,2,   74.20,2,    2.05,2,  2238.6,2,  2337.3,2, -999.00,9,   30.38,2,  -1.8833,     -999.0,     -999.0,9,     -999.0,      0.007,2,      0.000,2,     98.824,2
09AR20110104,       SR03,     133,          1,          7,          7,2,20110128,       0823,   -66.8903,   147.2140,        593,   402.7,  -1.8742,  34.5572,2,-999.0000,9,    302.4,2,  -999.0,9, -999.00,9, -999.00,9,  -999.0,9,  -999.0,9, -999.00,9, -999.00,9,  -1.8833,     -999.0,     -999.0,9,     -999.0,      0.008,2,      0.000,2,     98.897,2
09AR20110104,       SR03,     133,          1,          6,          6,2,20110128,       0823,   -66.8903,   147.2140,        593,   402.6,  -1.8742,  34.5572,2,-999.0000,9,    302.4,2,  -999.0,9, -999.00,9, -999.00,9,  -999.0,9,  -999.0,9, -999.00,9, -999.00,9,  -1.8833,     -999.0,     -999.0,9,     -999.0,      0.021,2,      0.000,2,     98.869,2
09AR20110104,       SR03,     133,          1,          5,          5,2,20110128,       0823,   -66.8903,   147.2140,        593,   402.6,  -1.8742,  34.5571,2,-999.0000,9,    302.4,2,  -999.0,9, -999.00,9, -999.00,9,  -999.0,9,  -999.0,9, -999.00,9, -999.00,9,  -1.8833,     -999.0,     -999.0,9,     -999.0,      0.020,2,      0.000,2,     98.863,2
09AR20110104,       SR03,     133,          1,          4,          4,2,20110128,       0823,   -66.8903,   147.2140,        593,   402.5,  -1.8741,  34.5571,2,-999.0000,9,    302.4,2,  -999.0,9, -999.00,9, -999.00,9,  -999.0,9,  -999.0,9, -999.00,9, -999.00,9,  -1.8832,     -999.0,     -999.0,9,     -999.0,      0.013,2,      0.000,2,     98.905,2
09AR20110104,       SR03,     133,          1,          3,          3,2,20110128,       0823,   -66.8903,   147.2140,        593,   402.3,  -1.8740,  34.5570,2,-999.0000,9,    302.4,2,  -999.0,9, -999.00,9, -999.00,9,  -999.0,9,  -999.0,9, -999.00,9, -999.00,9,  -1.8831,     -999.0,     -999.0,9,     -999.0,      0.004,2,      0.000,2,     98.854,2
09AR20110104,       SR03,     133,          1,          2,        102,2,20110128,       0823,   -66.8903,   147.2140,        593,   590.3,  -1.9041,  34.6111,2,  34.6107,2,    302.6,2,   302.3,2,   78.00,2, -999.00,9,  -999.0,9,  -999.0,9, -999.00,9,   30.74,2,  -1.9185,     -999.0,     -999.0,9,     -999.0,      0.070,2,      0.000,2,     97.245,2
09AR20110104,       SR03,     133,          1,          1,          1,2,20110128,       0823,   -66.8903,   147.2140,        593,   590.3,  -1.9044,  34.6105,2,-999.0000,9,    302.6,2,  -999.0,9, -999.00,9, -999.00,9,  -999.0,9,  -999.0,9, -999.00,9, -999.00,9,  -1.9188,     -999.0,     -999.0,9,     -999.0,      0.046,2,      0.000,2,     97.637,2