BOTTLE,20230419CCHSIOENA
EXPOCODE,SECT_ID,STNNBR,CASTNO,SAMPNO,BTLNBR,BTLNBR_FLAG_W,DATE,TIME,LATITUDE,LONGITUDE,DEPTH,CTDPRS,CTDTMP,CTDSAL,CTDSAL_FLAG_W,SALNTY,SALNTY_FLAG_W,CTDOXY,CTDOXY_FLAG_W,OXYGEN,OXYGEN_FLAG_W,SILCAT,SILCAT_FLAG_W,PHSPHT,PHSPHT_FLAG_W,TCARBN,TCARBN_FLAG_W,ALKALI,ALKALI_FLAG_W,DELO18,DELO18_FLAG_W,NO2+NO3,NO2+NO3_FLAG_W,THETA,O18ERR,DELD,DELD_FLAG_W,DELDERR,CTDFLUOR,CTDFLUOR_FLAG_W,PAR,PAR_FLAG_W,CTDXMISS,CTDXMISS_FLAG_W
,,,,,,,,,,,METERS,DBAR,ITS-90,PSS-78,,PSS-78,,UMOL/KG,,UMOL/KG,,UMOL/KG,,UMOL/KG,,UMOL/KG,,UMOL/KG,,/MILLE,,UMOL/KG,,DEG C,/MILLE,/MILLE,,/MILLE,MG/M^3,,UMOL/M^2/SEC,,%TRANS,
09AR20110104,       SR03,     130,          1,         24,         24,2,20110128,       0050,   -67.2047,   146.7380,        491,    11.2,  -0.7190,  33.7374,2,  33.7050,2,    379.1,2,   379.4,2,   51.50,2, -999.00,9,  2094.4,6,  2296.3,6,   -0.50,2,   15.53,2,  -0.7193,       0.06,      -5.05,2,       0.20,     11.972,2,     17.189,2,     83.227,2
09AR20110104,       SR03,     130,          1,         23,         23,2,20110128,       0050,   -67.2047,   146.7380,        491,    11.1,  -0.7190,  33.7371,2,-999.0000,9,    379.1,2,  -999.0,9, -999.00,9, -999.00,9,  -999.0,9,  -999.0,9, -999.00,9, -999.00,9,  -0.7193,     -999.0,     -999.0,9,     -999.0,     12.567,2,     17.239,2,     83.127,2
09AR20110104,       SR03,     130,          1,         22,         22,2,20110128,       0050,   -67.2047,   146.7380,        491,    62.6,  -1.6717,  34.3547,2,-999.0000,9,    313.1,2,  -999.0,9, -999.00,9, -999.00,9,  -999.0,9,  -999.0,9, -999.00,9, -999.00,9,  -1.6730,     -999.0,     -999.0,9,     -999.0,      8.478,2,      0.000,2,     92.303,2
09AR20110104,       SR03,     130,          1,         21,         21,2,20110128,       0050,   -67.2047,   146.7380,        491,    62.6,  -1.6773,  34.3545,2,-999.0000,9,    313.1,2,  -999.0,9, -999.00,9, -999.00,9,  -999.0,9,  -999.0,9, -999.00,9, -999.00,9,  -1.6786,     -999.0,     -999.0,9,     -999.0,      7.641,2,      0.000,2,     92.671,2
09AR20110104,       SR03,     130,          1,         20,         20,2,20110128,       0050,   -67.2047,   146.7380,        491,    62.7,  -1.6796,  34.3546,2,-999.0000,9,    313.1,2,  -999.0,9, -999.00,9, -999.00,9,  -999.0,9,  -999.0,9, -999.00,9, -999.00,9,  -1.6809,     -999.0,     -999.0,9,     -999.0,      6.892,2,      0.000,2,     92.793,2
09AR20110104,       SR03,     130,          1,         19,         19,2,20110128,       0050,   -67.2047,   146.7380,        491,    62.4,  -1.6762,  34.3547,2,-999.0000,9,    313.1,2,  -999.0,9, -999.00,9, -999.00,9,  -999.0,9,  -999.0,9, -999.00,9, -999.00,9,  -1.6775,     -999.0,     -999.0,9,     -999.0,      7.210,2,      0.000,2,     92.895,2
09AR20110104,       SR03,     130,          1,         18,         18,2,20110128,       0050,   -67.2047,   146.7380,        491,    61.7,  -1.6673,  34.3555,2,  34.3570,2,    313.1,2,   313.4,2,   73.70,2,    2.09,2,  2222.4,2,  2323.3,2,   -0.39,2,   29.20,2,  -1.6686,       0.03,      -4.52,2,       0.04,      8.083,2,      0.000,2,     92.188,2
09AR20110104,       SR03,     130,          1,         17,         17,2,20110128,       0050,   -67.2047,   146.7380,        491,    61.1,  -1.6648,  34.3560,2,-999.0000,9,    313.1,2,  -999.0,9, -999.00,9, -999.00,9,  -999.0,9,  -999.0,9, -999.00,9, -999.00,9,  -1.6661,     -999.0,     -999.0,9,     -999.0,      8.145,2,      0.000,2,     92.017,2
09AR20110104,       SR03,     130,          1,         16,         16,2,20110128,       0050,   -67.2047,   146.7380,        491,   144.4,  -1.7367,  34.4053,2,-999.0000,9,    305.4,2,  -999.0,9, -999.00,9, -999.00,9,  -999.0,9,  -999.0,9, -999.00,9, -999.00,9,  -1.7397,     -999.0,     -999.0,9,     -999.0,      1.312,2,      0.000,2,     97.611,2
09AR20110104,       SR03,     130,          1,         15,         15,2,20110128,       0050,   -67.2047,   146.7380,        491,   145.1,  -1.7331,  34.4053,2,-999.0000,9,    305.3,2,  -999.0,9, -999.00,9, -999.00,9,  -999.0,9,  -999.0,9, -999.00,9, -999.00,9,  -1.7362,     -999.0,     -999.0,9,     -999.0,      0.729,2,      0.000,2,     97.603,2
09AR20110104,       SR03,     130,          1,         14,         14,2,20110128,       0050,   -67.2047,   146.7380,        491,   146.6,  -1.7074,  34.4071,2,  34.4082,2,    305.3,2,   304.0,2,   74.20,2,    2.08,2,  2227.5,2,  2325.9,2,   -0.34,2,   29.65,2,  -1.7105,       0.07,      -3.85,2,       0.04,      1.047,2,      0.000,2,     97.564,2
09AR20110104,       SR03,     130,          1,         13,         13,2,20110128,       0050,   -67.2047,   146.7380,        491,   147.5,  -1.7005,  34.4077,2,-999.0000,9,    305.1,2,  -999.0,9, -999.00,9, -999.00,9,  -999.0,9,  -999.0,9, -999.00,9, -999.00,9,  -1.7037,     -999.0,     -999.0,9,     -999.0,      0.901,2,      0.000,2,     97.525,2
09AR20110104,       SR03,     130,          1,         12,         12,2,20110128,       0050,   -67.2047,   146.7380,        491,   247.9,  -1.7737,  34.4558,2,-999.0000,9,    299.9,2,  -999.0,9, -999.00,9, -999.00,9,  -999.0,9,  -999.0,9, -999.00,9, -999.00,9,  -1.7791,     -999.0,     -999.0,9,     -999.0,      0.140,2,      0.000,2,     98.620,2
09AR20110104,       SR03,     130,          1,         11,         11,2,20110128,       0050,   -67.2047,   146.7380,        491,   246.8,  -1.7758,  34.4554,2,  34.4565,2,    300.0,2,   300.8,2,   74.80,2,    2.06,2,  -999.0,9,  -999.0,9,   -0.33,2,   29.83,2,  -1.7812,       0.03,      -3.74,2,       0.12,      0.133,2,      0.000,2,     98.644,2
09AR20110104,       SR03,     130,          1,         10,         10,2,20110128,       0050,   -67.2047,   146.7380,        491,   246.4,  -1.7762,  34.4555,2,-999.0000,9,    300.0,2,  -999.0,9, -999.00,9, -999.00,9,  -999.0,9,  -999.0,9, -999.00,9, -999.00,9,  -1.7816,     -999.0,     -999.0,9,     -999.0,      0.132,2,      0.000,2,     98.562,2
09AR20110104,       SR03,     130,          1,          9,          9,2,20110128,       0050,   -67.2047,   146.7380,        491,   246.4,  -1.7763,  34.4554,2,-999.0000,9,    300.0,2,  -999.0,9, -999.00,9, -999.00,9,  -999.0,9,  -999.0,9, -999.00,9, -999.00,9,  -1.7817,     -999.0,     -999.0,9,     -999.0,      0.082,2,      0.000,2,     98.576,2
09AR20110104,       SR03,     130,          1,          8,          8,2,20110128,       0050,   -67.2047,   146.7380,        491,   375.0,  -1.9008,  34.5383,2,  34.5354,2,    304.4,2,   305.0,2,   75.00,2,    2.08,2,  2235.4,2,  2334.0,2,   -0.48,2,   29.93,2,  -1.9091,       0.04,      -4.63,2,       0.18,     -0.039,2,      0.000,2,     99.036,2
09AR20110104,       SR03,     130,          1,          7,          7,2,20110128,       0050,   -67.2047,   146.7380,        491,   379.9,  -1.9009,  34.5391,2,-999.0000,9,    304.4,2,  -999.0,9, -999.00,9, -999.00,9,  -999.0,9,  -999.0,9, -999.00,9, -999.00,9,  -1.9093,     -999.0,     -999.0,9,     -999.0,     -0.007,2,      0.000,2,     98.772,2
09AR20110104,       SR03,     130,          1,          6,          6,2,20110128,       0050,   -67.2047,   146.7380,        491,   378.9,  -1.9009,  34.5387,2,-999.0000,9,    304.4,2,  -999.0,9, -999.00,9, -999.00,9,  -999.0,9,  -999.0,9, -999.00,9, -999.00,9,  -1.9093,     -999.0,     -999.0,9,     -999.0,      0.016,2,      0.000,2,     98.776,2
09AR20110104,       SR03,     130,          1,          5,          5,2,20110128,       0050,   -67.2047,   146.7380,        491,   377.7,  -1.8991,  34.5383,2,-999.0000,9,    304.4,2,  -999.0,9, -999.00,9, -999.00,9,  -999.0,9,  -999.0,9, -999.00,9, -999.00,9,  -1.9075,     -999.0,     -999.0,9,     -999.0,      0.052,2,      0.000,2,     98.805,2
09AR20110104,       SR03,     130,          1,          4,          4,2,20110128,       0050,   -67.2047,   146.7380,        491,   492.2,  -1.9044,  34.6285,2,-999.0000,9,    306.4,2,  -999.0,9, -999.00,9, -999.00,9,  -999.0,9,  -999.0,9, -999.00,9, -999.00,9,  -1.9159,     -999.0,     -999.0,9,     -999.0,      0.075,2,      0.000,2,     97.723,2
09AR20110104,       SR03,     130,          1,          3,          3,2,20110128,       0050,   -67.2047,   146.7380,        491,   492.1,  -1.9044,  34.6283,2,-999.0000,9,    306.4,2,  -999.0,9, -999.00,9, -999.00,9,  -999.0,9,  -999.0,9, -999.00,9, -999.00,9,  -1.9159,     -999.0,     -999.0,9,     -999.0,      0.077,2,      0.000,2,     97.688,2
09AR20110104,       SR03,     130,          1,          2,        102,2,20110128,       0050,   -67.2047,   146.7380,        491,   492.1,  -1.9044,  34.6284,2,  34.6282,2,    306.4,2,   305.9,2,   75.50,2,    2.08,2,  -999.0,9,  -999.0,9,   -0.34,2,   30.09,2,  -1.9159,       0.05,      -4.34,2,       0.07,      0.068,2,      0.000,2,     97.652,2
09AR20110104,       SR03,     130,          1,          1,          1,2,20110128,       0050,   -67.2047,   146.7380,        491,   492.2,  -1.9044,  34.6283,2,-999.0000,9,    306.4,2,  -999.0,9, -999.00,9, -999.00,9,  -999.0,9,  -999.0,9, -999.00,9, -999.00,9,  -1.9159,     -999.0,     -999.0,9,     -999.0,      0.059,2,      0.000,2,     97.784,2
09AR20110104,       SR03,     131,          1,         24,         24,2,20110128,       0408,   -66.8952,   146.3990,        414,     9.9,  -1.4007,  33.3851,2,  33.3893,2,    380.3,2,   383.2,2,   44.80,2,    1.09,2,  2089.2,2,  2272.7,2, -999.00,9,   17.16,2,  -1.4009,     -999.0,     -999.0,9,     -999.0,      2.789,2,     54.299,2,     92.773,2
09AR20110104,       SR03,     131,          1,         23,         23,2,20110128,       0408,   -66.8952,   146.3990,        414,     9.9,  -1.4018,  33.3872,2,-999.0000,9,    380.3,2,  -999.0,9, -999.00,9, -999.00,9,  -999.0,9,  -999.0,9, -999.00,9, -999.00,9,  -1.4020,     -999.0,     -999.0,9,     -999.0,      3.489,2,     56.689,2,     92.846,2
09AR20110104,       SR03,     131,          1,         22,         22,2,20110128,       0408,   -66.8952,   146.3990,        414,     9.9,  -1.4042,  33.3872,2,-999.0000,9,    380.3,2,  -999.0,9, -999.00,9, -999.00,9,  -999.0,9,  -999.0,9, -999.00,9, -999.00,9,  -1.4044,     -999.0,     -999.0,9,     -999.0,      3.194,2,     57.969,2,     92.830,2
09AR20110104,       SR03,     131,          1,         21,         21,2,20110128,       0408,   -66.8952,   146.3990,        414,     9.9,  -1.4043,  33.3889,2,-999.0000,9,    380.3,2,  -999.0,9, -999.00,9, -999.00,9,  -999.0,9,  -999.0,9, -999.00,9, -999.00,9,  -1.4045,     -999.0,     -999.0,9,     -999.0,      3.677,2,     58.749,2,     92.792,2
09AR20110104,       SR03,     131,          1,         20,         20,2,20110128,       0408,   -66.8952,   146.3990,        414,     9.9,  -1.4055,  33.3884,2,-999.0000,9,    380.3,2,  -999.0,9, -999.00,9, -999.00,9,  -999.0,9,  -999.0,9, -999.00,9, -999.00,9,  -1.4057,     -999.0,     -999.0,9,     -999.0,      3.892,2,     58.619,2,     92.567,2
09AR20110104,       SR03,     131,          1,         19,         19,2,20110128,       0408,   -66.8952,   146.3990,        414,     9.9,  -1.4065,  33.3886,2,-999.0000,9,    380.3,2,  -999.0,9, -999.00,9, -999.00,9,  -999.0,9,  -999.0,9, -999.00,9, -999.00,9,  -1.4067,     -999.0,     -999.0,9,     -999.0,      3.986,2,     51.669,2,     92.781,2
09AR20110104,       SR03,     131,          1,         18,         18,2,20110128,       0408,   -66.8952,   146.3990,        414,    64.7,  -1.2942,  34.2181,2,  34.2277,2,    335.6,2,   335.8,2,   66.30,2, -999.00,9,  -999.0,9,  -999.0,9, -999.00,9,   25.46,2,  -1.2957,     -999.0,     -999.0,9,     -999.0,      5.493,2,      0.188,2,     94.125,2
09AR20110104,       SR03,     131,          1,         17,         17,2,20110128,       0408,   -66.8952,   146.3990,        414,    64.6,  -1.2999,  34.2200,2,-999.0000,9,    335.6,2,  -999.0,9, -999.00,9, -999.00,9,  -999.0,9,  -999.0,9, -999.00,9, -999.00,9,  -1.3014,     -999.0,     -999.0,9,     -999.0,      4.572,2,      0.186,2,     94.038,2
09AR20110104,       SR03,     131,          1,         16,         16,2,20110128,       0408,   -66.8952,   146.3990,        414,    64.6,  -1.3010,  34.2203,2,-999.0000,9,    335.6,2,  -999.0,9, -999.00,9, -999.00,9,  -999.0,9,  -999.0,9, -999.00,9, -999.00,9,  -1.3025,     -999.0,     -999.0,9,     -999.0,      4.819,2,      0.191,2,     94.014,2
09AR20110104,       SR03,     131,          1,         15,         15,2,20110128,       0408,   -66.8952,   146.3990,        414,    64.5,  -1.2978,  34.2190,2,-999.0000,9,    335.6,2,  -999.0,9, -999.00,9, -999.00,9,  -999.0,9,  -999.0,9, -999.00,9, -999.00,9,  -1.2993,     -999.0,     -999.0,9,     -999.0,      5.225,2,      0.202,2,     94.096,2
09AR20110104,       SR03,     131,          1,         14,         14,2,20110128,       0408,   -66.8952,   146.3990,        414,   174.0,  -1.7032,  34.4207,2,  34.4228,2,    303.3,2,   302.6,2,   74.60,2,    2.09,2,  -999.0,9,  -999.0,9, -999.00,9,   29.88,2,  -1.7070,     -999.0,     -999.0,9,     -999.0,      0.899,2,      0.000,2,     97.139,2
09AR20110104,       SR03,     131,          1,         13,         13,2,20110128,       0408,   -66.8952,   146.3990,        414,   174.1,  -1.7045,  34.4207,2,-999.0000,9,    303.3,2,  -999.0,9, -999.00,9, -999.00,9,  -999.0,9,  -999.0,9, -999.00,9, -999.00,9,  -1.7083,     -999.0,     -999.0,9,     -999.0,      0.817,2,      0.000,2,     97.116,2
09AR20110104,       SR03,     131,          1,         12,         12,2,20110128,       0408,   -66.8952,   146.3990,        414,   174.1,  -1.7062,  34.4203,2,-999.0000,9,    303.3,2,  -999.0,9, -999.00,9, -999.00,9,  -999.0,9,  -999.0,9, -999.00,9, -999.00,9,  -1.7100,     -999.0,     -999.0,9,     -999.0,      0.870,2,      0.000,2,     97.061,2
09AR20110104,       SR03,     131,          1,         11,         11,2,20110128,       0408,   -66.8952,   146.3990,        414,   174.1,  -1.7067,  34.4199,2,-999.0000,9,    303.3,2,  -999.0,9, -999.00,9, -999.00,9,  -999.0,9,  -999.0,9, -999.00,9, -999.00,9,  -1.7105,     -999.0,     -999.0,9,     -999.0,      1.069,2,      0.000,2,     96.786,2
09AR20110104,       SR03,     131,          1,         10,         10,2,20110128,       0408,   -66.8952,   146.3990,        414,   174.1,  -1.7067,  34.4193,2,-999.0000,9,    303.3,2,  -999.0,9, -999.00,9, -999.00,9,  -999.0,9,  -999.0,9, -999.00,9, -999.00,9,  -1.7105,     -999.0,     -999.0,9,     -999.0,      0.924,2,      0.000,2,     97.123,2
09AR20110104,       SR03,     131,          1,          9,          9,2,20110128,       0408,   -66.8952,   146.3990,        414,   174.1,  -1.7063,  34.4193,2,-999.0000,9,    303.3,2,  -999.0,9, -999.00,9, -999.00,9,  -999.0,9,  -999.0,9, -999.00,9, -999.00,9,  -1.7101,     -999.0,     -999.0,9,     -999.0,      1.156,2,      0.000,2,     96.868,2
09AR20110104,       SR03,     131,          1,          8,          8,2,20110128,       0408,   -66.8952,   146.3990,        414,   325.5,  -1.8422,  34.5229,2,  34.5233,2,    301.7,2,   302.1,2,   75.40,2,    2.07,2,  -999.0,9,  -999.0,9, -999.00,9,   30.09,2,  -1.8494,     -999.0,     -999.0,9,     -999.0,      0.041,2,      0.000,2,     98.317,2
09AR20110104,       SR03,     131,          1,          7,          7,2,20110128,       0408,   -66.8952,   146.3990,        414,   325.4,  -1.8423,  34.5228,2,-999.0000,9,    301.7,2,  -999.0,9, -999.00,9, -999.00,9,  -999.0,9,  -999.0,9, -999.00,9, -999.00,9,  -1.8495,     -999.0,     -999.0,9,     -999.0,      0.070,2,      0.000,2,     98.493,2
09AR20110104,       SR03,     131,          1,          6,          6,2,20110128,       0408,   -66.8952,   146.3990,        414,   325.3,  -1.8426,  34.5227,2,-999.0000,9,    301.7,2,  -999.0,9, -999.00,9, -999.00,9,  -999.0,9,  -999.0,9, -999.00,9, -999.00,9,  -1.8498,     -999.0,     -999.0,9,     -999.0,      0.081,2,      0.000,2,     98.517,2
09AR20110104,       SR03,     131,          1,          5,          5,2,20110128,       0408,   -66.8952,   146.3990,        414,   325.2,  -1.8426,  34.5227,2,-999.0000,9,    301.7,2,  -999.0,9, -999.00,9, -999.00,9,  -999.0,9,  -999.0,9, -999.00,9, -999.00,9,  -1.8498,     -999.0,     -999.0,9,     -999.0,      0.016,2,      0.000,2,     98.241,2
09AR20110104,       SR03,     131,          1,          4,          4,2,20110128,       0408,   -66.8952,   146.3990,        414,   325.1,  -1.8426,  34.5227,2,-999.0000,9,    301.7,2,  -999.0,9, -999.00,9, -999.00,9,  -999.0,9,  -999.0,9, -999.00,9, -999.00,9,  -1.8498,     -999.0,     -999.0,9,     -999.0,      0.044,2,      0.000,2,     98.279,2
09AR20110104,       SR03,     131,          1,          3,          3,2,20110128,       0408,   -66.8952,   146.3990,        414,   325.0,  -1.8426,  34.5228,2,-999.0000,9,    301.2,2,  -999.0,9, -999.00,9, -999.00,9,  -999.0,9,  -999.0,9, -999.00,9, -999.00,9,  -1.8498,     -999.0,     -999.0,9,     -999.0,      0.063,2,      0.000,2,     98.440,2
09AR20110104,       SR03,     131,          1,          2,        102,2,20110128,       0408,   -66.8952,   146.3990,        414,   404.1,  -1.9029,  34.5818,2,  34.5771,2,    304.1,2,   303.7,2,   75.90,2,    2.09,2,  -999.0,9,  -999.0,9, -999.00,9,   30.26,2,  -1.9120,     -999.0,     -999.0,9,     -999.0,      0.045,2,      0.000,2,     98.178,2
09AR20110104,       SR03,     131,          1,          1,          1,2,20110128,       0408,   -66.8952,   146.3990,        414,   404.2,  -1.9035,  34.5808,2,-999.0000,9,    304.1,2,  -999.0,9, -999.00,9, -999.00,9,  -999.0,9,  -999.0,9, -999.00,9, -999.00,9,  -1.9126,     -999.0,     -999.0,9,     -999.0,      0.054,2,      0.000,2,     98.138,2