BOTTLE,20230419CCHSIOENA
EXPOCODE,SECT_ID,STNNBR,CASTNO,SAMPNO,BTLNBR,BTLNBR_FLAG_W,DATE,TIME,LATITUDE,LONGITUDE,DEPTH,CTDPRS,CTDTMP,CTDSAL,CTDSAL_FLAG_W,SALNTY,SALNTY_FLAG_W,CTDOXY,CTDOXY_FLAG_W,OXYGEN,OXYGEN_FLAG_W,SILCAT,SILCAT_FLAG_W,PHSPHT,PHSPHT_FLAG_W,TCARBN,TCARBN_FLAG_W,ALKALI,ALKALI_FLAG_W,DELO18,DELO18_FLAG_W,NO2+NO3,NO2+NO3_FLAG_W,THETA,O18ERR,DELD,DELD_FLAG_W,DELDERR,CTDFLUOR,CTDFLUOR_FLAG_W,PAR,PAR_FLAG_W,CTDXMISS,CTDXMISS_FLAG_W
,,,,,,,,,,,METERS,DBAR,ITS-90,PSS-78,,PSS-78,,UMOL/KG,,UMOL/KG,,UMOL/KG,,UMOL/KG,,UMOL/KG,,UMOL/KG,,/MILLE,,UMOL/KG,,DEG C,/MILLE,/MILLE,,/MILLE,MG/M^3,,UMOL/M^2/SEC,,%TRANS,
09AR20110104,       SR03,      22,          1,         24,         24,2,20110110,       0752,   -51.3713,   143.1080,       3772,     9.9,   8.7669,  34.2329,2,  34.2328,2,    295.9,2,   294.6,2,    0.90,2,    1.06,2,  2100.9,6,  2282.5,2, -999.00,9,   15.49,2,   8.7659,     -999.0,     -999.0,9,     -999.0,      1.940,2,      0.248,2,     95.164,2
09AR20110104,       SR03,      22,          1,         23,         23,2,20110110,       0752,   -51.3713,   143.1080,       3772,    28.5,   8.7568,  34.2460,2,  34.2479,2,    294.7,2,   295.1,2,    0.90,2,    1.06,2,  2101.7,2,  2280.4,2, -999.00,9,   15.39,2,   8.7538,     -999.0,     -999.0,9,     -999.0,      1.866,2,      0.057,2,     95.150,2
09AR20110104,       SR03,      22,          1,         22,         22,2,20110110,       0752,   -51.3713,   143.1080,       3772,    59.7,   8.9263,  34.5421,2,  34.5474,2,    278.7,2,   276.2,2,    3.40,2,    1.04,2,  2115.4,2,  2288.7,2, -999.00,9,   14.31,2,   8.9199,     -999.0,     -999.0,9,     -999.0,      1.634,2,      0.000,2,     96.745,2
09AR20110104,       SR03,      22,          1,         21,         21,2,20110110,       0752,   -51.3713,   143.1080,       3772,    98.9,   9.1264,  34.6087,2,  34.6095,2,    272.6,2,   270.8,2,    4.20,2,    1.03,2,  2118.0,2,  2289.2,2, -999.00,9,   14.31,2,   9.1157,     -999.0,     -999.0,9,     -999.0,      0.221,2,      0.000,2,     98.630,2
09AR20110104,       SR03,      22,          1,         20,         20,2,20110110,       0752,   -51.3713,   143.1080,       3772,   147.6,   9.0445,  34.5963,2,  34.5949,2,    275.8,2,   270.7,2,    4.40,2,    1.05,2,  2119.3,2,  2290.9,2, -999.00,9,   14.58,2,   9.0285,     -999.0,     -999.0,9,     -999.0,      0.049,2,      0.000,2,     98.899,2
09AR20110104,       SR03,      22,          1,         19,         19,2,20110110,       0752,   -51.3713,   143.1080,       3772,   199.9,   8.5942,  34.5135,2,  34.5144,2,    268.7,2,   275.7,2,    4.50,2,    1.10,2,  2120.1,2,  2288.4,2, -999.00,9,   15.62,2,   8.5732,     -999.0,     -999.0,9,     -999.0,      0.108,2,      0.000,2,     98.965,2
09AR20110104,       SR03,      22,          1,         18,         18,2,20110110,       0752,   -51.3713,   143.1080,       3772,   299.4,   8.0551,  34.4417,2,  34.4492,2,    258.1,2,   266.7,2,    5.80,2,    1.22,2,  -999.0,9,  -999.0,9, -999.00,9,   17.54,2,   8.0247,     -999.0,     -999.0,9,     -999.0,      0.002,2,      0.000,2,     99.302,2
09AR20110104,       SR03,      22,          1,         17,         17,2,20110110,       0752,   -51.3713,   143.1080,       3772,   397.9,   7.7609,  34.4477,2,  34.4480,2,    275.8,2,   251.3,3,    7.40,2,    1.32,2,  2136.6,2,  2287.5,2, -999.00,9,   19.33,2,   7.7211,     -999.0,     -999.0,9,     -999.0,     -0.016,2,      0.000,2,     99.405,2
09AR20110104,       SR03,      22,          1,         16,         16,2,20110110,       0752,   -51.3713,   143.1080,       3772,   523.7,   6.9431,  34.4186,2,  34.4197,2,    262.1,2,   219.8,3,   13.50,2,    1.61,2,  -999.0,9,  -999.0,9, -999.00,9,   23.79,2,   6.8936,     -999.0,     -999.0,9,     -999.0,     -0.016,2,      0.000,2,     99.443,2
09AR20110104,       SR03,      22,          1,         15,         15,2,20110110,       0752,   -51.3713,   143.1080,       3772,   603.2,   5.3930,  34.2205,2,  34.2218,2,    239.0,2,   254.6,3,   14.10,2,    1.69,2,  2157.5,2,  2283.5,2, -999.00,9,   24.90,2,   5.3429,     -999.0,     -999.0,9,     -999.0,     -0.017,2,      0.000,2,     99.553,2
09AR20110104,       SR03,      22,          1,         14,         14,2,20110110,       0752,   -51.3713,   143.1080,       3772,   702.0,   5.3006,  34.3282,2,  34.3071,2,    226.8,2,   222.0,2,   21.10,2,    1.88,2,  -999.0,9,  -999.0,9, -999.00,9,   27.62,2,   5.2422,     -999.0,     -999.0,9,     -999.0,     -0.018,2,      0.000,2,     99.612,2
09AR20110104,       SR03,      22,          1,         13,         13,2,20110110,       0752,   -51.3713,   143.1080,       3772,   803.7,   4.2672,  34.2793,2,  34.2888,2,    222.1,2,   222.2,2,   27.90,2,    2.01,2,  2189.3,2,  2292.7,2, -999.00,9,   29.60,2,   4.2062,     -999.0,     -999.0,9,     -999.0,     -0.014,2,      0.000,2,     99.683,2
09AR20110104,       SR03,      22,          1,         12,         12,2,20110110,       0752,   -51.3713,   143.1080,       3772,  1007.9,   3.6716,  34.3949,2,  34.3965,2,    189.9,2,   189.8,2,   48.50,2,    2.24,2,  -999.0,9,  -999.0,9, -999.00,9,   32.37,2,   3.5980,     -999.0,     -999.0,9,     -999.0,     -0.013,2,      0.000,2,     99.773,2
09AR20110104,       SR03,      22,          1,         11,         11,2,20110110,       0752,   -51.3713,   143.1080,       3772,  1212.3,   2.9651,  34.4689,2,  34.4670,2,    179.0,2,   179.2,2,   60.90,2,    2.33,2,  -999.0,9,  -999.0,9, -999.00,9,   33.70,2,   2.8812,     -999.0,     -999.0,9,     -999.0,     -0.010,2,      0.000,2,     99.816,2
09AR20110104,       SR03,      22,          1,         10,         10,2,20110110,       0752,   -51.3713,   143.1080,       3772,  1402.2,   2.6961,  34.5450,2,  34.5446,2,    175.4,2,   174.7,2,   67.70,2,    2.31,2,  -999.0,9,  -999.0,9, -999.00,9,   33.46,2,   2.5997,     -999.0,     -999.0,9,     -999.0,     -0.007,2,      0.000,2,     99.817,2
09AR20110104,       SR03,      22,          1,          9,          9,2,20110110,       0752,   -51.3713,   143.1080,       3772,  1603.8,   2.5350,  34.6316,2,  34.6310,2,    175.7,2,   175.0,2,   73.60,2,    2.24,2,  -999.0,9,  -999.0,9, -999.00,9,   32.63,2,   2.4240,     -999.0,     -999.0,9,     -999.0,     -0.002,2,      0.000,2,     99.839,2
09AR20110104,       SR03,      22,          1,          8,          8,2,20110110,       0752,   -51.3713,   143.1080,       3772,  1802.6,   2.3945,  34.6884,2,  34.6880,2,    181.4,2,   181.1,2,   76.50,2,    2.17,2,  2251.0,2,  2341.4,2, -999.00,9,   31.48,2,   2.2687,     -999.0,     -999.0,9,     -999.0,     -0.006,2,      0.000,2,     99.850,2
09AR20110104,       SR03,      22,          1,          7,          7,2,20110110,       0752,   -51.3713,   143.1080,       3772,  2000.7,   2.2535,  34.7242,2,  34.7241,2,    187.2,2,   189.9,3,   79.10,2,    2.12,2,  -999.0,9,  -999.0,9, -999.00,9,   30.66,2,   2.1128,     -999.0,     -999.0,9,     -999.0,     -0.009,2,      0.000,2,     99.854,2
09AR20110104,       SR03,      22,          1,          6,          6,2,20110110,       0752,   -51.3713,   143.1080,       3772,  2300.4,   2.0135,  34.7472,2,  34.7463,2,    194.6,2,   194.8,2,   85.40,2,    2.06,2,  -999.0,9,  -999.0,9, -999.00,9,   30.09,2,   1.8505,     -999.0,     -999.0,9,     -999.0,     -0.008,2,      0.000,2,     99.879,2
09AR20110104,       SR03,      22,          1,          5,          5,2,20110110,       0752,   -51.3713,   143.1080,       3772,  2598.7,   1.7518,  34.7476,2,  34.7473,2,    198.7,2,   199.6,2,   93.30,2,    2.09,2,  -999.0,9,  -999.0,9, -999.00,9,   30.22,2,   1.5668,     -999.0,     -999.0,9,     -999.0,     -0.009,2,      0.000,2,     99.887,2
09AR20110104,       SR03,      22,          1,          4,          4,2,20110110,       0752,   -51.3713,   143.1080,       3772,  2896.3,   1.4627,  34.7373,2,  34.7371,2,    200.8,2,   201.6,2,  103.40,2,    2.13,2,  -999.0,9,  -999.0,9, -999.00,9,   30.80,2,   1.2562,     -999.0,     -999.0,9,     -999.0,     -0.012,2,      0.000,2,     99.900,2
09AR20110104,       SR03,      22,          1,          3,          3,2,20110110,       0752,   -51.3713,   143.1080,       3772,  3193.4,   1.2256,  34.7269,2,  34.7253,2,    204.9,2,   204.6,2,  110.30,2,    2.15,2,  -999.0,9,  -999.0,9, -999.00,9,   31.11,2,   0.9962,     -999.0,     -999.0,9,     -999.0,     -0.014,2,      0.000,2,     99.886,2
09AR20110104,       SR03,      22,          1,          2,        102,2,20110110,       0752,   -51.3713,   143.1080,       3772,  3495.3,   1.0870,  34.7195,2,  34.7186,2,    206.8,2,   205.6,2,  115.10,2,    2.18,2,  -999.0,9,  -999.0,9, -999.00,9,   31.34,2,   0.8315,     -999.0,     -999.0,9,     -999.0,     -0.015,2,      0.000,2,     99.839,2
09AR20110104,       SR03,      22,          1,          1,          1,2,20110110,       0752,   -51.3713,   143.1080,       3772,  3817.9,   1.0218,  34.7151,2,  34.7146,2,    209.6,2,   209.9,2,  117.80,2,    2.19,2,  -999.0,9,  -999.0,9, -999.00,9,   31.48,2,   0.7353,     -999.0,     -999.0,9,     -999.0,     -0.011,2,      0.000,2,     99.784,2
09AR20110104,       SR03,      23,          1,         24,         24,2,20110110,       1430,   -51.8037,   142.8820,       3694,     8.4,   8.4789,  34.1380,2,  34.1377,2,    291.8,2,   293.1,2,    1.40,2,    1.14,2,  2100.3,6,  2278.2,6, -999.00,9,   16.99,2,   8.4780,     -999.0,     -999.0,9,     -999.0,      2.072,2,      0.000,2,     95.571,2
09AR20110104,       SR03,      23,          1,         23,         23,2,20110110,       1430,   -51.8037,   142.8820,       3694,    49.4,   8.1248,  34.1526,2,  34.1507,2,    295.4,2,   294.6,2,    1.40,2,    1.15,2,  2103.5,2,  2278.4,2, -999.00,9,   17.11,2,   8.1199,     -999.0,     -999.0,9,     -999.0,      2.360,2,      0.000,2,     95.630,2
09AR20110104,       SR03,      23,          1,         22,         22,2,20110110,       1430,   -51.8037,   142.8820,       3694,    73.3,   7.1246,  34.1503,2,  34.1495,2,    301.6,2,   296.6,2,    3.60,2,    1.31,2,  2115.7,2,  2279.7,2, -999.00,9,   18.89,2,   7.1178,     -999.0,     -999.0,9,     -999.0,      1.621,2,      0.000,2,     97.012,2
09AR20110104,       SR03,      23,          1,         21,         21,2,20110110,       1430,   -51.8037,   142.8820,       3694,   100.2,   6.8207,  34.2215,2,  34.2234,2,    289.8,2,   288.9,2,    5.70,2,    1.37,2,  2125.2,2,  2279.5,2, -999.00,9,   19.89,2,   6.8116,     -999.0,     -999.0,9,     -999.0,      0.484,2,      0.000,2,     98.736,2
09AR20110104,       SR03,      23,          1,         20,         20,2,20110110,       1430,   -51.8037,   142.8820,       3694,   150.1,   6.4514,  34.2157,2,  34.2165,2,    288.6,2,   286.5,2,    6.20,2,    1.45,2,  2128.5,2,  2280.2,2, -999.00,9,   20.80,2,   6.4382,     -999.0,     -999.0,9,     -999.0,      0.042,2,      0.000,2,     99.347,2
09AR20110104,       SR03,      23,          1,         19,         19,2,20110110,       1430,   -51.8037,   142.8820,       3694,   199.6,   6.1983,  34.1980,2,  34.1980,2,    287.9,2,   287.7,2,    6.50,2,    1.43,2,  2129.9,2,  2278.0,2, -999.00,9,   21.17,2,   6.1811,     -999.0,     -999.0,9,     -999.0,     -0.010,2,      0.000,2,     99.447,2
09AR20110104,       SR03,      23,          1,         18,         18,2,20110110,       1430,   -51.8037,   142.8820,       3694,   298.7,   5.7588,  34.1966,2,  34.1967,2,    265.0,2,   269.0,2,   10.40,2,    1.58,2,  2143.9,2,  2278.9,2, -999.00,9,   23.72,2,   5.7338,     -999.0,     -999.0,9,     -999.0,     -0.013,2,      0.000,2,     99.506,2
09AR20110104,       SR03,      23,          1,         17,         17,2,20110110,       1430,   -51.8037,   142.8820,       3694,   400.0,   5.3982,  34.2616,2,  34.2608,2,    238.1,2,   238.5,2,   16.50,2,    1.77,2,  2166.5,2,  2285.0,2, -999.00,9,   26.71,2,   5.3655,     -999.0,     -999.0,9,     -999.0,     -0.020,2,      0.000,2,     99.551,2
09AR20110104,       SR03,      23,          1,         16,         16,2,20110110,       1430,   -51.8037,   142.8820,       3694,   500.3,   4.8638,  34.2962,2,  34.2957,2,    224.8,2,   221.9,2,   23.10,2,    1.94,2,  2181.2,2,  2287.1,2, -999.00,9,   29.01,2,   4.8246,     -999.0,     -999.0,9,     -999.0,     -0.017,2,      0.000,2,     99.568,2
09AR20110104,       SR03,      23,          1,         15,         15,2,20110110,       1430,   -51.8037,   142.8820,       3694,   599.4,   3.9798,  34.2753,2,  34.2760,2,    217.6,2,   221.4,2,   30.10,2,    2.06,2,  2194.0,2,  2291.5,6, -999.00,9,   30.72,2,   3.9366,     -999.0,     -999.0,9,     -999.0,     -0.014,2,      0.000,2,     99.680,2
09AR20110104,       SR03,      23,          1,         14,         14,2,20110110,       1430,   -51.8037,   142.8820,       3694,   701.9,   3.7385,  34.3375,2,  34.3386,2,    204.2,2,   204.2,2,   39.50,2,    2.17,2,  2208.3,2,  2301.5,6, -999.00,9,   31.87,2,   3.6886,     -999.0,     -999.0,9,     -999.0,     -0.017,2,      0.000,2,     99.731,2
09AR20110104,       SR03,      23,          1,         13,         13,2,20110110,       1430,   -51.8037,   142.8820,       3694,   801.1,   3.3065,  34.3560,2,  34.3566,2,    199.7,2,   198.8,2,   46.10,2,    2.25,2,  2219.5,2,  2306.3,2, -999.00,9,   32.81,2,   3.2516,     -999.0,     -999.0,9,     -999.0,     -0.011,2,      0.000,2,     99.753,2
09AR20110104,       SR03,      23,          1,         12,         12,2,20110110,       1430,   -51.8037,   142.8820,       3694,  1000.9,   2.9227,  34.4564,2,  34.4563,2,    183.2,2,   181.3,2,   59.70,2,    2.33,2,  2238.9,6,  2321.6,6, -999.00,9,   34.01,2,   2.8554,     -999.0,     -999.0,9,     -999.0,     -0.012,2,      0.000,2,     99.782,2
09AR20110104,       SR03,      23,          1,         11,         11,2,20110110,       1430,   -51.8037,   142.8820,       3694,  1201.4,   2.6779,  34.5522,2,  34.5517,2,    176.2,2,  -999.0,9,   69.00,2,    2.31,2,  2248.9,2,  2331.3,2, -999.00,9,   33.80,2,   2.5973,     -999.0,     -999.0,9,     -999.0,     -0.005,2,      0.000,2,     99.797,2
09AR20110104,       SR03,      23,          1,         10,         10,2,20110110,       1430,   -51.8037,   142.8820,       3694,  1400.9,   2.5298,  34.6272,2,  34.6268,2,    175.8,2,   176.2,2,   73.90,2,    2.25,2,  2252.8,2,  2336.9,2, -999.00,9,   33.02,2,   2.4351,     -999.0,     -999.0,9,     -999.0,     -0.003,2,      0.000,2,     99.809,2
09AR20110104,       SR03,      23,          1,          9,          9,2,20110110,       1430,   -51.8037,   142.8820,       3694,  1601.7,   2.3903,  34.6824,2,  34.6818,2,    181.1,2,   180.6,2,   76.70,2,    2.16,2,  2250.3,2,  2340.0,2, -999.00,9,   31.96,2,   2.2811,     -999.0,     -999.0,9,     -999.0,     -0.004,2,      0.000,2,     99.814,2
09AR20110104,       SR03,      23,          1,          8,          8,2,20110110,       1430,   -51.8037,   142.8820,       3694,  1801.4,   2.2665,  34.7186,2,  34.7201,2,    186.9,2,   185.9,2,   79.20,2,    2.11,2,  2249.3,2,  2345.2,2, -999.00,9,   31.08,2,   2.1424,     -999.0,     -999.0,9,     -999.0,     -0.010,2,      0.000,2,     99.826,2
09AR20110104,       SR03,      23,          1,          7,          7,2,20110110,       1430,   -51.8037,   142.8820,       3694,  2101.4,   2.0372,  34.7454,2,  34.7454,2,    193.9,2,   193.8,2,   84.00,2,    2.06,2,  2247.1,2,  2350.0,2, -999.00,9,   30.37,2,   1.8912,     -999.0,     -999.0,9,     -999.0,     -0.010,2,      0.000,2,     99.845,2
09AR20110104,       SR03,      23,          1,          6,          6,2,20110110,       1430,   -51.8037,   142.8820,       3694,  2401.9,   1.7492,  34.7448,2,  34.7448,2,    198.1,2,   197.9,2,   93.10,2,    2.08,2,  2252.2,2,  2355.8,2, -999.00,9,   30.47,2,   1.5819,     -999.0,     -999.0,9,     -999.0,     -0.010,2,      0.000,2,     99.851,2
09AR20110104,       SR03,      23,          1,          5,          5,2,20110110,       1430,   -51.8037,   142.8820,       3694,  2700.9,   1.5007,  34.7381,2,  34.7373,2,    200.9,2,   201.6,2,  100.20,2,    2.11,2,  2253.1,2,  2353.8,2, -999.00,9,   30.75,2,   1.3114,     -999.0,     -999.0,9,     -999.0,     -0.012,2,      0.000,2,     99.858,2
09AR20110104,       SR03,      23,          1,          4,          4,2,20110110,       1430,   -51.8037,   142.8820,       3694,  3001.5,   1.2279,  34.7262,2,  34.7054,4,    204.4,2,   203.9,2,  109.50,2,    2.15,2,  2259.5,2,  2359.0,2, -999.00,9,   31.25,2,   1.0167,     -999.0,     -999.0,9,     -999.0,     -0.015,2,      0.000,2,     99.850,2
09AR20110104,       SR03,      23,          1,          3,          3,2,20110110,       1430,   -51.8037,   142.8820,       3694,  3300.9,   1.0867,  34.7189,2,  34.7174,2,    205.4,2,   204.6,2,  115.10,2,    2.15,2,  2264.8,2,  2364.6,2, -999.00,9,   31.64,2,   0.8503,     -999.0,     -999.0,9,     -999.0,     -0.013,2,      0.000,2,     99.790,2
09AR20110104,       SR03,      23,          1,          2,        102,2,20110110,       1430,   -51.8037,   142.8820,       3694,  3600.3,   1.0704,  34.7170,2,  34.7158,2,    206.7,2,   206.7,2,  116.30,2,    2.18,2,  -999.0,9,  -999.0,9, -999.00,9,   31.68,2,   0.8048,     -999.0,     -999.0,9,     -999.0,     -0.015,2,      0.000,2,     99.735,2
09AR20110104,       SR03,      23,          1,          1,          1,2,20110110,       1430,   -51.8037,   142.8820,       3694,  3745.6,   1.0714,  34.7163,2,  34.7156,2,    207.8,2,   206.0,2,  117.50,2,    2.18,2,  2262.7,6,  2365.9,6, -999.00,9,   31.68,2,   0.7910,     -999.0,     -999.0,9,     -999.0,     -0.015,2,      0.000,2,     99.708,2