BOTTLE,20230419CCHSIOENA
EXPOCODE,SECT_ID,STNNBR,CASTNO,SAMPNO,BTLNBR,BTLNBR_FLAG_W,DATE,TIME,LATITUDE,LONGITUDE,DEPTH,CTDPRS,CTDTMP,CTDSAL,CTDSAL_FLAG_W,SALNTY,SALNTY_FLAG_W,CTDOXY,CTDOXY_FLAG_W,OXYGEN,OXYGEN_FLAG_W,SILCAT,SILCAT_FLAG_W,PHSPHT,PHSPHT_FLAG_W,TCARBN,TCARBN_FLAG_W,ALKALI,ALKALI_FLAG_W,DELO18,DELO18_FLAG_W,NO2+NO3,NO2+NO3_FLAG_W,THETA,O18ERR,DELD,DELD_FLAG_W,DELDERR,CTDFLUOR,CTDFLUOR_FLAG_W,PAR,PAR_FLAG_W,CTDXMISS,CTDXMISS_FLAG_W
,,,,,,,,,,,METERS,DBAR,ITS-90,PSS-78,,PSS-78,,UMOL/KG,,UMOL/KG,,UMOL/KG,,UMOL/KG,,UMOL/KG,,UMOL/KG,,/MILLE,,UMOL/KG,,DEG C,/MILLE,/MILLE,,/MILLE,MG/M^3,,UMOL/M^2/SEC,,%TRANS,
09AR20110104,       SR03,      11,          1,         24,         24,2,20110107,       0857,   -47.4820,   144.8550,       4459,    10.4,  11.3754,  34.6196,2,-999.0000,9,    278.0,2,   276.6,2,    1.10,2,    0.72,2,  2083.7,6,  2296.0,6, -999.00,9,    9.25,2,  11.3741,     -999.0,     -999.0,9,     -999.0,      2.771,2,      0.000,2,     93.185,2
09AR20110104,       SR03,      11,          1,         23,         23,2,20110107,       0857,   -47.4820,   144.8550,       4459,    53.5,  11.1142,  34.6258,2,  34.6275,2,    276.3,2,   275.7,2,    1.20,2,    0.71,2,  2085.5,2,  2294.5,2, -999.00,9,    9.34,2,  11.1076,     -999.0,     -999.0,9,     -999.0,      2.354,2,      0.000,2,     94.790,2
09AR20110104,       SR03,      11,          1,         22,         22,2,20110107,       0857,   -47.4820,   144.8550,       4459,   102.9,  10.9534,  34.9657,2,-999.0000,9,    252.1,2,   251.0,2,    3.40,2,    0.81,2,  2115.8,2,  2304.8,6, -999.00,9,   10.97,2,  10.9408,     -999.0,     -999.0,9,     -999.0,      0.002,2,      0.000,2,     98.748,2
09AR20110104,       SR03,      11,          1,         21,         21,2,20110107,       0857,   -47.4820,   144.8550,       4459,   153.3,  10.3776,  34.8587,2,  34.8633,2,    256.2,2,   255.4,2,    3.60,2,    0.88,2,  2117.1,2,  2301.4,2, -999.00,9,   12.05,2,  10.3595,     -999.0,     -999.0,9,     -999.0,     -0.034,2,      0.000,2,     98.987,2
09AR20110104,       SR03,      11,          1,         20,         20,2,20110107,       0857,   -47.4820,   144.8550,       4459,   203.3,   9.4594,  34.6806,2,-999.0000,9,    262.2,2,   267.0,2,    3.80,2,    0.98,2,  2116.0,2,  2295.0,2, -999.00,9,   13.53,2,   9.4367,     -999.0,     -999.0,9,     -999.0,      0.032,2,      0.000,2,     98.840,2
09AR20110104,       SR03,      11,          1,         19,         19,2,20110107,       0857,   -47.4820,   144.8550,       4459,   302.5,   8.7979,  34.5740,2,  34.5755,2,    272.1,2,   266.2,2,    4.30,2,    1.08,2,  2121.7,2,  2290.3,2, -999.00,9,   15.30,2,   8.7655,     -999.0,     -999.0,9,     -999.0,     -0.038,2,      0.000,2,     99.164,2
09AR20110104,       SR03,      11,          1,         18,         18,2,20110107,       0857,   -47.4820,   144.8550,       4459,   403.4,   8.5817,  34.5481,2,-999.0000,9,    269.8,2,   270.0,2,    4.30,2,    1.09,2,  2120.7,2,  2289.1,2, -999.00,9,   15.46,2,   8.5389,     -999.0,     -999.0,9,     -999.0,     -0.052,2,      0.000,2,     99.291,2
09AR20110104,       SR03,      11,          1,         17,         17,2,20110107,       0857,   -47.4820,   144.8550,       4459,   503.7,   8.4701,  34.5478,2,  34.5436,2,    244.8,2,   250.8,2,    6.00,2,    1.22,2,  2130.1,2,  2288.0,2, -999.00,9,   17.61,2,   8.4167,     -999.0,     -999.0,9,     -999.0,     -0.052,2,      0.000,2,     99.389,2
09AR20110104,       SR03,      11,          1,         16,         16,2,20110107,       0857,   -47.4820,   144.8550,       4459,   602.5,   7.6583,  34.4413,2,-999.0000,9,    253.4,2,   242.6,2,    8.30,2,    1.40,2,  2141.7,2,  2285.5,2, -999.00,9,   20.32,2,   7.5978,     -999.0,     -999.0,9,     -999.0,     -0.051,2,      0.000,2,     99.446,2
09AR20110104,       SR03,      11,          1,         15,         15,2,20110107,       0857,   -47.4820,   144.8550,       4459,   801.8,   6.1038,  34.3568,2,  34.3588,2,    218.1,2,   222.2,2,   17.00,2,    1.76,2,  2168.6,2,  2288.2,6, -999.00,9,   25.88,2,   6.0316,     -999.0,     -999.0,9,     -999.0,     -0.049,2,      0.000,2,     99.597,2
09AR20110104,       SR03,      11,          1,         14,         14,2,20110107,       0857,   -47.4820,   144.8550,       4459,   998.0,   4.6034,  34.3212,2,-999.0000,9,    215.5,2,   212.1,2,   28.90,2,    2.01,2,  2191.0,2,  2295.5,2, -999.00,9,   29.58,2,   4.5236,     -999.0,     -999.0,9,     -999.0,     -0.041,2,      0.000,2,     99.781,2
09AR20110104,       SR03,      11,          1,         13,         13,2,20110107,       0857,   -47.4820,   144.8550,       4459,  1252.1,   3.4855,  34.3744,2,  34.3748,2,    193.9,2,   195.1,2,   46.30,2,    2.23,2,  2219.1,2,  2309.6,2, -999.00,9,   32.45,2,   3.3936,     -999.0,     -999.0,9,     -999.0,     -0.041,2,      0.000,2,     99.849,2
09AR20110104,       SR03,      11,          1,         12,         12,2,20110107,       0857,   -47.4820,   144.8550,       4459,  1500.4,   2.9214,  34.4919,2,-999.0000,9,    176.3,2,   176.9,2,   63.30,2,    2.33,2,  2243.5,6,  2327.0,6, -999.00,9,   33.69,2,   2.8146,     -999.0,     -999.0,9,     -999.0,     -0.034,2,      0.000,2,     99.887,2
09AR20110104,       SR03,      11,          1,         11,         11,2,20110107,       0857,   -47.4820,   144.8550,       4459,  1750.3,   2.6276,  34.6001,2,  34.6013,2,    172.7,2,   172.1,2,   73.20,2,    2.30,2,  2251.8,2,  2337.6,2, -999.00,9,   33.42,2,   2.5033,     -999.0,     -999.0,9,     -999.0,     -0.032,2,      0.000,2,     99.919,2
09AR20110104,       SR03,      11,          1,         10,         10,2,20110107,       0857,   -47.4820,   144.8550,       4459,  1998.7,   2.4465,  34.6718,2,-999.0000,9,    174.5,2,   174.5,2,   79.60,2,    2.24,2,  2257.6,2,  2346.8,2, -999.00,9,   32.52,2,   2.3032,     -999.0,     -999.0,9,     -999.0,     -0.033,2,      0.000,2,     99.920,2
09AR20110104,       SR03,      11,          1,          9,          9,2,20110107,       0857,   -47.4820,   144.8550,       4459,  2248.5,   2.2871,  34.7149,2,  34.7154,2,    175.8,2,   175.3,2,   88.50,2,    2.23,2,  2263.2,2,  2359.0,2, -999.00,9,   32.24,2,   2.1242,     -999.0,     -999.0,9,     -999.0,     -0.033,2,      0.000,2,     99.928,2
09AR20110104,       SR03,      11,          1,          8,          8,2,20110107,       0857,   -47.4820,   144.8550,       4459,  2500.8,   2.1458,  34.7309,2,-999.0000,9,    178.6,2,   178.4,2,   93.90,2,    2.22,2,  2265.6,2,  2364.5,2, -999.00,9,   31.96,2,   1.9624,     -999.0,     -999.0,9,     -999.0,     -0.034,2,      0.000,2,     99.944,2
09AR20110104,       SR03,      11,          1,          7,          7,2,20110107,       0857,   -47.4820,   144.8550,       4459,  2801.7,   1.9412,  34.7377,2,  34.7379,2,    183.5,2,   183.0,2,  100.20,2,    2.20,2,  2267.4,2,  2369.7,2, -999.00,9,   32.14,2,   1.7335,     -999.0,     -999.0,9,     -999.0,     -0.032,2,      0.000,2,     99.948,2
09AR20110104,       SR03,      11,          1,          6,          6,2,20110107,       0857,   -47.4820,   144.8550,       4459,  3103.4,   1.7488,  34.7390,2,-999.0000,9,    188.5,2,   189.0,2,  103.50,2,    2.18,2,  2267.6,2,  2371.2,2, -999.00,9,   32.01,2,   1.5161,     -999.0,     -999.0,9,     -999.0,     -0.037,2,      0.000,2,     99.956,2
09AR20110104,       SR03,      11,          1,          5,          5,2,20110107,       0857,   -47.4820,   144.8550,       4459,  3400.8,   1.5500,  34.7356,2,  34.7355,2,    195.0,2,   195.0,2,  106.90,2,    2.18,2,  2264.0,2,  2368.9,2, -999.00,9,   31.71,2,   1.2923,     -999.0,     -999.0,9,     -999.0,     -0.035,2,      0.000,2,     99.959,2
09AR20110104,       SR03,      11,          1,          4,          4,2,20110107,       0857,   -47.4820,   144.8550,       4459,  3699.3,   1.2902,  34.7260,2,-999.0000,9,    199.0,2,   199.2,2,  113.40,2,    2.20,2,  2267.5,2,  2374.0,6, -999.00,9,   32.04,2,   1.0087,     -999.0,     -999.0,9,     -999.0,     -0.041,2,      0.000,2,     99.963,2
09AR20110104,       SR03,      11,          1,          3,          3,2,20110107,       0857,   -47.4820,   144.8550,       4459,  4000.9,   1.0499,  34.7156,2,  34.7154,2,    202.1,2,   202.6,2,  119.60,2,    2.22,2,  2272.0,2,  2377.7,2, -999.00,9,   32.05,2,   0.7434,     -999.0,     -999.0,9,     -999.0,     -0.041,2,      0.000,2,     99.914,2
09AR20110104,       SR03,      11,          1,          2,        102,2,20110107,       0857,   -47.4820,   144.8550,       4459,  4300.0,   1.0508,  34.7144,2,-999.0000,9,    203.3,2,   203.0,2,  119.70,2,    2.23,2,  -999.0,9,  -999.0,9, -999.00,9,   32.05,2,   0.7119,     -999.0,     -999.0,9,     -999.0,     -0.041,2,      0.000,2,     99.853,2
09AR20110104,       SR03,      11,          1,          1,          1,2,20110107,       0857,   -47.4820,   144.8550,       4459,  4532.9,   1.0719,  34.7139,2,  34.7137,2,    204.4,2,   202.9,2,  120.10,2,    2.23,2,  2272.5,6,  2378.9,6, -999.00,9,   32.05,2,   0.7063,     -999.0,     -999.0,9,     -999.0,     -0.041,2,      0.000,2,     99.833,2
09AR20110104,       SR03,      12,          1,          2,        102,2,20110107,       1543,   -47.1447,   144.9040,       4793,  4672.5,   1.0470,  34.7124,2,  34.7137,2,   -999.0,5,   203.5,2,  121.10,2,    2.25,2,  -999.0,9,  -999.0,9, -999.00,9,   32.02,2,   0.6662,     -999.0,     -999.0,9,     -999.0,     -0.049,2,      0.000,2,     99.547,2
09AR20110104,       SR03,      12,          1,          1,          1,2,20110107,       1543,   -47.1447,   144.9040,       4793,  4877.5,   1.0662,  34.7121,2,  34.7136,2,   -999.0,5,   203.7,2,  121.70,2,    2.25,2,  2275.3,6,  2381.3,6, -999.00,9,   32.05,2,   0.6609,     -999.0,     -999.0,9,     -999.0,     -0.040,2,      0.000,2,     99.477,2
09AR20110104,       SR03,      13,          1,         24,         24,2,20110108,       0304,   -48.1668,   144.6150,       4338,    10.0,  10.6026,  34.6500,2,  34.6494,2,    282.7,2,   281.5,2,    0.60,2,    0.76,2,  2091.3,6,  2296.3,6, -999.00,9,    9.98,2,  10.6014,     -999.0,     -999.0,9,     -999.0,      0.981,2,    124.739,2,     94.417,2
09AR20110104,       SR03,      13,          1,         23,         23,2,20110108,       0304,   -48.1668,   144.6150,       4338,    49.3,  10.2495,  34.6517,2,  34.6515,2,    281.9,2,   282.2,2,    0.70,2,    0.78,2,  2094.8,2,  2295.2,2, -999.00,9,   10.07,2,  10.2438,     -999.0,     -999.0,9,     -999.0,      2.710,2,     12.679,2,     94.400,2
09AR20110104,       SR03,      13,          1,         22,         22,2,20110108,       0304,   -48.1668,   144.6150,       4338,    99.9,  10.1059,  34.6513,2,  34.6529,2,    278.2,2,   277.9,2,    0.90,2,    0.81,2,  2097.9,2,  2295.2,6, -999.00,9,   10.43,2,  10.0943,     -999.0,     -999.0,9,     -999.0,      1.736,2,      0.218,2,     96.242,2
09AR20110104,       SR03,      13,          1,         21,         21,2,20110108,       0304,   -48.1668,   144.6150,       4338,   151.0,   9.4747,  34.6656,2,  34.6647,2,    272.2,2,   272.1,2,    3.60,2,    0.95,2,  2110.4,2,  2291.1,2, -999.00,9,   13.08,2,   9.4579,     -999.0,     -999.0,9,     -999.0,      0.082,2,      0.000,2,     98.677,2
09AR20110104,       SR03,      13,          1,         20,         20,2,20110108,       0304,   -48.1668,   144.6150,       4338,   250.8,   9.1545,  34.6414,2,  34.6405,2,    272.3,2,   271.2,2,    3.60,2,    0.99,2,  2115.9,2,  2292.0,2, -999.00,9,   13.57,2,   9.1270,     -999.0,     -999.0,9,     -999.0,     -0.015,2,      0.000,2,     99.206,2
09AR20110104,       SR03,      13,          1,         19,         19,2,20110108,       0304,   -48.1668,   144.6150,       4338,   399.8,   8.8657,  34.5886,2,  34.5890,2,    266.8,2,   268.1,2,    4.00,2,    1.05,2,  2119.1,2,  2289.6,2, -999.00,9,   14.78,2,   8.8224,     -999.0,     -999.0,9,     -999.0,     -0.018,2,      0.000,2,     99.365,2
09AR20110104,       SR03,      13,          1,         18,         18,2,20110108,       0304,   -48.1668,   144.6150,       4338,   549.3,   8.6814,  34.5682,2,  34.5676,2,    267.2,2,   265.1,2,    4.60,2,    1.11,2,  2122.6,2,  2289.6,2, -999.00,9,   15.73,2,   8.6221,     -999.0,     -999.0,9,     -999.0,     -0.016,2,      0.000,2,     99.339,2
09AR20110104,       SR03,      13,          1,         17,         17,2,20110108,       0304,   -48.1668,   144.6150,       4338,   702.9,   7.7383,  34.4692,2,  34.4684,2,    243.8,2,   232.5,2,    9.30,2,    1.45,2,  2145.3,2,  2288.9,2, -999.00,9,   21.12,2,   7.6668,     -999.0,     -999.0,9,     -999.0,     -0.017,2,      0.000,2,     99.514,2
09AR20110104,       SR03,      13,          1,         16,         16,2,20110108,       0304,   -48.1668,   144.6150,       4338,   851.1,   6.5313,  34.4151,2,  34.4156,2,    208.1,2,   207.2,2,   17.50,2,    1.76,2,  2167.5,2,  2290.4,6, -999.00,9,   25.90,2,   6.4516,     -999.0,     -999.0,9,     -999.0,     -0.011,2,      0.000,2,     99.620,2
09AR20110104,       SR03,      13,          1,         15,         15,2,20110108,       0304,   -48.1668,   144.6150,       4338,  1003.2,   5.0519,  34.3303,2,  34.3308,2,    212.9,2,   212.4,2,   24.70,2,    1.96,2,  2182.9,2,  2290.8,2, -999.00,9,   28.82,2,   4.9682,     -999.0,     -999.0,9,     -999.0,     -0.009,2,      0.000,2,     99.747,2
09AR20110104,       SR03,      13,          1,         14,         14,2,20110108,       0304,   -48.1668,   144.6150,       4338,  1200.7,   3.8614,  34.3361,2,  34.3348,2,    204.8,2,   204.6,2,   38.40,2,    2.17,2,  2206.3,2,  2303.9,2, -999.00,9,   31.48,2,   3.7704,     -999.0,     -999.0,9,     -999.0,     -0.008,2,      0.000,2,     99.813,2
09AR20110104,       SR03,      13,          1,         13,         13,2,20110108,       0304,   -48.1668,   144.6150,       4338,  1398.8,   3.2452,  34.4176,2,  34.4162,2,    184.2,2,   185.6,2,   53.80,2,    2.31,2,  2231.4,2,  2317.8,2, -999.00,9,   33.27,2,   3.1435,     -999.0,     -999.0,9,     -999.0,     -0.005,2,      0.000,2,     99.846,2
09AR20110104,       SR03,      13,          1,         12,         12,2,20110108,       0304,   -48.1668,   144.6150,       4338,  1601.0,   2.9230,  34.5184,2,  34.5188,2,    171.4,2,   171.2,2,   68.80,2,    2.34,2,  2250.8,6,  2335.1,6, -999.00,9,   33.89,2,   2.8077,     -999.0,     -999.0,9,     -999.0,      0.002,2,      0.000,2,     99.843,2
09AR20110104,       SR03,      13,          1,         11,         11,2,20110108,       0304,   -48.1668,   144.6150,       4338,  1799.8,   2.6448,  34.5985,2,  34.5990,2,    169.7,2,   169.3,2,   76.50,2,    2.33,2,  2258.3,2,  2339.6,2, -999.00,9,   33.64,2,   2.5161,     -999.0,     -999.0,9,     -999.0,      0.003,2,      0.000,2,     99.875,2
09AR20110104,       SR03,      13,          1,         10,         10,2,20110108,       0304,   -48.1668,   144.6150,       4338,  2000.0,   2.4779,  34.6632,2,  34.6638,2,    174.4,2,   174.7,2,   78.70,2,    2.26,2,  2256.1,2,  2346.5,2, -999.00,9,   32.61,2,   2.3341,     -999.0,     -999.0,9,     -999.0,      0.003,2,      0.000,2,     99.886,2
09AR20110104,       SR03,      13,          1,          9,          9,2,20110108,       0304,   -48.1668,   144.6150,       4338,  2248.1,   2.2950,  34.7095,2,  34.7098,2,    174.4,2,   174.1,2,   89.90,2,    2.26,2,  2261.2,2,  2357.8,2, -999.00,9,   32.37,2,   2.1320,     -999.0,     -999.0,9,     -999.0,     -0.001,2,      0.000,2,     99.886,2
09AR20110104,       SR03,      13,          1,          8,          8,2,20110108,       0304,   -48.1668,   144.6150,       4338,  2497.5,   2.1319,  34.7275,2,  34.7281,2,    176.8,2,   176.7,2,   97.20,2,    2.24,2,  2269.6,2,  2366.4,2, -999.00,9,   32.17,2,   1.9490,     -999.0,     -999.0,9,     -999.0,      0.004,2,      0.000,2,     99.887,2
09AR20110104,       SR03,      13,          1,          7,          7,2,20110108,       0304,   -48.1668,   144.6150,       4338,  2750.2,   2.0015,  34.7350,2,  34.7351,2,    182.0,2,   185.3,3,   99.40,2,    2.22,2,  2274.2,2,  2369.6,2, -999.00,9,   31.83,2,   1.7975,     -999.0,     -999.0,9,     -999.0,     -0.001,2,      0.000,2,     99.895,2
09AR20110104,       SR03,      13,          1,          6,          6,2,20110108,       0304,   -48.1668,   144.6150,       4338,  2996.2,   1.8416,  34.7364,2,  34.7363,2,    186.4,2,   186.3,2,  103.30,2,    2.20,2,  2264.7,2,  2370.6,2, -999.00,9,   31.70,2,   1.6173,     -999.0,     -999.0,9,     -999.0,      0.007,2,      0.000,2,     99.907,2
09AR20110104,       SR03,      13,          1,          5,          5,2,20110108,       0304,   -48.1668,   144.6150,       4338,  3248.8,   1.6701,  34.7360,2,  34.7359,2,    192.2,2,   192.1,2,  105.90,2,    2.20,2,  2267.6,2,  2368.4,2, -999.00,9,   31.53,2,   1.4248,     -999.0,     -999.0,9,     -999.0,     -0.009,2,      0.000,2,     99.915,2
09AR20110104,       SR03,      13,          1,          4,          4,2,20110108,       0304,   -48.1668,   144.6150,       4338,  3500.0,   1.5378,  34.7330,2,  34.7329,2,    196.5,2,   196.0,2,  108.20,2,    2.20,2,  2262.2,2,  2370.4,2, -999.00,9,   31.48,2,   1.2704,     -999.0,     -999.0,9,     -999.0,     -0.005,2,      0.000,2,     99.916,2
09AR20110104,       SR03,      13,          1,          3,          3,2,20110108,       0304,   -48.1668,   144.6150,       4338,  3751.1,   1.3418,  34.7259,2,  34.7262,2,    200.2,2,   199.9,2,  112.80,2,    2.21,2,  2262.4,2,  2367.7,2, -999.00,9,   31.57,2,   1.0535,     -999.0,     -999.0,9,     -999.0,     -0.013,2,      0.000,2,     99.906,2
09AR20110104,       SR03,      13,          1,          2,        102,2,20110108,       0304,   -48.1668,   144.6150,       4338,  4000.4,   1.1303,  34.7165,2,  34.7162,2,    203.2,2,   202.2,2,  118.70,2,    2.24,2,  -999.0,9,  -999.0,9, -999.00,9,   31.96,2,   0.8215,     -999.0,     -999.0,9,     -999.0,     -0.006,2,      0.000,2,     99.859,2
09AR20110104,       SR03,      13,          1,          1,          1,2,20110108,       0304,   -48.1668,   144.6150,       4338,  4407.4,   1.0675,  34.7120,2,  34.7121,2,    205.1,2,   203.6,2,  121.00,2,    2.25,2,  2271.6,6,  2381.0,6, -999.00,9,   32.12,2,   0.7162,     -999.0,     -999.0,9,     -999.0,     -0.015,2,      0.000,2,     99.711,2