BOTTLE,20230419CCHSIOENA
EXPOCODE,SECT_ID,STNNBR,CASTNO,SAMPNO,BTLNBR,BTLNBR_FLAG_W,DATE,TIME,LATITUDE,LONGITUDE,DEPTH,CTDPRS,CTDTMP,CTDSAL,CTDSAL_FLAG_W,SALNTY,SALNTY_FLAG_W,CTDOXY,CTDOXY_FLAG_W,OXYGEN,OXYGEN_FLAG_W,SILCAT,SILCAT_FLAG_W,PHSPHT,PHSPHT_FLAG_W,TCARBN,TCARBN_FLAG_W,ALKALI,ALKALI_FLAG_W,DELO18,DELO18_FLAG_W,NO2+NO3,NO2+NO3_FLAG_W,THETA,O18ERR,DELD,DELD_FLAG_W,DELDERR,CTDFLUOR,CTDFLUOR_FLAG_W,PAR,PAR_FLAG_W,CTDXMISS,CTDXMISS_FLAG_W
,,,,,,,,,,,METERS,DBAR,ITS-90,PSS-78,,PSS-78,,UMOL/KG,,UMOL/KG,,UMOL/KG,,UMOL/KG,,UMOL/KG,,UMOL/KG,,/MILLE,,UMOL/KG,,DEG C,/MILLE,/MILLE,,/MILLE,MG/M^3,,UMOL/M^2/SEC,,%TRANS,
09AR20110104,       SR03,     148,          1,         24,         24,2,20110131,       1533,   -63.1743,   147.8550,       3881,    11.6,   2.1921,  33.9320,2,  33.9334,2,    341.2,2,   343.8,2,   11.90,2,    1.30,2,  2145.6,6,  2296.9,6,   -0.26,2,   23.84,2,   2.1915,       0.06,      -3.42,2,       0.26,      5.351,2,      1.072,2,     89.380,2
09AR20110104,       SR03,     148,          1,         23,         23,2,20110131,       1533,   -63.1743,   147.8550,       3881,    40.7,   1.6763,  33.9455,2,  33.9492,2,    341.2,2,   342.8,2,   16.20,2,    1.53,2,  2154.7,2,  2298.0,2,   -0.18,2,   24.23,2,   1.6743,       0.03,      -3.27,2,       0.26,     12.387,2,      0.000,2,     82.326,2
09AR20110104,       SR03,     148,          1,         22,         22,2,20110131,       1533,   -63.1743,   147.8550,       3881,    71.8,  -0.6790,  34.0766,2,  34.0729,2,    327.3,2,   326.5,2,   44.70,2,    2.16,2,  2195.2,2,  2303.4,6,   -0.34,2,   29.01,2,  -0.6811,       0.06,      -2.84,2,       0.10,      0.637,2,      0.000,2,     96.640,2
09AR20110104,       SR03,     148,          1,         21,         21,2,20110131,       1533,   -63.1743,   147.8550,       3881,   161.6,   1.8918,  34.5968,2,  34.5959,2,    176.4,2,   175.1,2,   77.40,2,    2.37,2,  2260.0,2,  2333.5,2,   -0.18,2,   34.16,2,   1.8833,       0.09,      -2.05,2,       0.36,      0.050,2,      0.000,2,     98.080,2
09AR20110104,       SR03,     148,          1,         20,         20,2,20110131,       1533,   -63.1743,   147.8550,       3881,   224.9,   1.9940,  34.6353,2,  34.6350,2,    175.2,2,   174.9,2,   79.20,2,    2.32,2,  2258.6,2,  2338.1,2,   -0.04,2,   33.62,2,   1.9819,       0.07,      -1.54,2,       0.22,      0.027,2,      0.000,2,     98.269,2
09AR20110104,       SR03,     148,          1,         19,         19,2,20110131,       1533,   -63.1743,   147.8550,       3881,   300.5,   1.9670,  34.6667,2,  34.6669,2,    177.2,2,   177.4,2,   80.80,2,    2.29,2,  2259.0,2,  2340.9,2,   -0.02,2,   32.89,2,   1.9507,       0.10,      -1.45,2,       0.18,      0.008,2,      0.000,2,     98.412,2
09AR20110104,       SR03,     148,          1,         18,         18,2,20110131,       1533,   -63.1743,   147.8550,       3881,   402.2,   1.9864,  34.6999,2,  34.6997,2,    181.0,2,   180.8,2,   81.70,2,    2.24,2,  2255.6,2,  2343.9,6,   -0.12,2,   31.99,2,   1.9641,       0.05,      -1.52,2,       0.24,     -0.001,2,      0.000,2,     98.587,2
09AR20110104,       SR03,     148,          1,         17,         17,2,20110131,       1533,   -63.1743,   147.8550,       3881,   499.1,   1.9388,  34.7177,2,  34.7182,2,    184.2,2,   184.5,2,   83.10,2,    2.19,2,  2253.2,2,  2346.1,2,   -0.17,2,   31.49,2,   1.9110,       0.14,      -1.17,2,       0.07,      0.001,2,      0.000,2,     98.559,2
09AR20110104,       SR03,     148,          1,         16,         16,2,20110131,       1533,   -63.1743,   147.8550,       3881,   600.4,   1.8480,  34.7257,2,  34.7262,2,    187.0,2,   187.8,2,   85.00,2,    2.17,2,  2252.5,2,  2347.6,2,   -0.22,2,   31.07,2,   1.8144,       0.07,      -2.10,2,       0.28,      0.004,2,      0.000,2,     83.970,2
09AR20110104,       SR03,     148,          1,         15,         15,2,20110131,       1533,   -63.1743,   147.8550,       3881,   700.7,   1.8007,  34.7356,2,  34.7363,2,    189.7,2,   190.7,2,   86.20,2,    2.14,2,  2252.4,2,  2346.7,2,   -0.01,2,   30.66,2,   1.7612,       0.08,      -1.31,2,       0.31,     -0.007,2,      0.000,2,     98.673,2
09AR20110104,       SR03,     148,          1,         14,         14,2,20110131,       1533,   -63.1743,   147.8550,       3881,   801.5,   1.7199,  34.7381,2,  34.7390,2,    192.3,2,   193.4,2,   88.20,2,    2.14,2,  2252.3,2,  2349.7,2,   -0.14,2,   30.59,2,   1.6746,       0.02,      -1.33,2,       0.04,     -0.009,2,      0.000,2,     98.724,2
09AR20110104,       SR03,     148,          1,         13,         13,2,20110131,       1533,   -63.1743,   147.8550,       3881,  1000.7,   1.5683,  34.7420,2,  34.7429,2,    196.6,2,   197.9,2,   92.60,2,    2.13,2,  2253.3,2,  2351.1,2,   -0.03,2,   30.56,2,   1.5112,       0.02,      -1.16,2,       0.30,     -0.010,2,      0.000,2,     98.760,2
09AR20110104,       SR03,     148,          1,         12,         12,2,20110131,       1533,   -63.1743,   147.8550,       3881,  1202.4,   1.4118,  34.7390,2,  34.7392,2,    199.7,2,   200.4,2,   96.70,2,    2.14,2,  2253.6,6,  2355.1,6,   -0.14,2,   30.57,2,   1.3427,       0.03,      -2.28,2,       0.23,     -0.010,2,      0.000,2,     98.803,2
09AR20110104,       SR03,     148,          1,         11,         11,2,20110131,       1533,   -63.1743,   147.8550,       3881,  1401.9,   1.2384,  34.7319,2,  34.7327,2,    202.3,2,   202.6,2,  101.60,2,    2.16,2,  2255.2,2,  2355.6,2,   -0.02,2,   30.74,2,   1.1575,       0.09,      -1.32,2,       0.72,     -0.014,2,      0.000,2,     98.809,2
09AR20110104,       SR03,     148,          1,         10,         10,2,20110131,       1533,   -63.1743,   147.8550,       3881,  1601.7,   1.0783,  34.7245,2,  34.7252,2,    204.5,2,   204.3,2,  105.80,2,    2.18,2,  2258.3,2,  2358.1,2,   -0.26,2,   30.98,2,   0.9853,       0.12,      -1.93,2,       0.08,     -0.018,2,      0.000,2,     98.825,2
09AR20110104,       SR03,     148,          1,          9,          9,2,20110131,       1533,   -63.1743,   147.8550,       3881,  1801.0,   0.9218,  34.7159,2,  34.7162,2,    206.5,2,   206.3,2,  110.10,2,    2.20,2,  2259.4,2,  2357.5,2,   -0.17,2,   31.25,2,   0.8165,       0.09,      -2.36,2,       0.15,     -0.018,2,      0.000,2,     98.846,2
09AR20110104,       SR03,     148,          1,          8,          8,2,20110131,       1533,   -63.1743,   147.8550,       3881,  2001.6,   0.7707,  34.7078,2,  34.7081,2,    208.5,2,   208.3,2,  114.60,2,    2.22,2,  2261.5,2,  2359.0,2,   -0.09,2,   31.72,2,   0.6527,       0.04,      -1.94,2,       0.16,     -0.017,2,      0.000,2,     98.863,2
09AR20110104,       SR03,     148,          1,          7,          7,2,20110131,       1533,   -63.1743,   147.8550,       3881,  2200.6,   0.6212,  34.7001,2,  34.7007,2,    211.1,2,   211.5,2,  118.30,2,    2.24,2,  2261.7,2,  2360.8,2,   -0.15,2,   31.94,2,   0.4905,       0.03,      -2.70,2,       0.35,     -0.019,2,      0.000,2,     98.881,2
09AR20110104,       SR03,     148,          1,          6,          6,2,20110131,       1533,   -63.1743,   147.8550,       3881,  2501.4,   0.4349,  34.6914,2,  34.6918,2,    215.5,2,   215.4,2,  122.10,2,    2.25,2,  2260.7,2,  2359.9,2,   -0.17,2,   32.16,2,   0.2838,       0.06,      -2.24,2,       0.36,     -0.017,2,      0.000,2,     98.894,2
09AR20110104,       SR03,     148,          1,          5,          5,2,20110131,       1533,   -63.1743,   147.8550,       3881,  2800.3,   0.2874,  34.6852,2,  34.6857,2,    219.4,2,   219.6,2,  124.20,2,    2.26,2,  2261.0,2,  2358.0,2,   -0.26,2,   32.16,2,   0.1146,       0.01,      -2.44,2,       0.36,     -0.018,2,      0.000,2,     98.894,2
09AR20110104,       SR03,     148,          1,          4,          4,2,20110131,       1533,   -63.1743,   147.8550,       3881,  3100.9,   0.1667,  34.6798,2,  34.6800,2,    223.6,2,   223.8,2,  125.10,2,    2.26,2,  2260.7,2,  2357.1,6,   -0.40,2,   32.21,2,  -0.0293,       0.10,      -2.90,2,       0.07,     -0.022,2,      0.000,2,     98.881,2
09AR20110104,       SR03,     148,          1,          3,          3,2,20110131,       1533,   -63.1743,   147.8550,       3881,  3401.2,   0.0410,  34.6735,2,  34.6734,2,    228.8,2,   228.5,2,  123.90,2,    2.24,2,  2259.7,2,  2356.1,2,   -0.31,2,   31.86,2,  -0.1789,       0.06,      -2.92,2,       0.15,     -0.022,2,      0.000,2,     98.867,2
09AR20110104,       SR03,     148,          1,          2,        102,2,20110131,       1533,   -63.1743,   147.8550,       3881,  3700.0,  -0.0901,  34.6638,2,  34.6631,2,    234.7,2,   234.7,2,  119.20,2,    2.23,2,  -999.0,9,  -999.0,9,   -0.13,2,   31.71,2,  -0.3344,       0.07,      -2.87,2,       0.09,     -0.018,2,      0.000,2,     98.767,2
09AR20110104,       SR03,     148,          1,          1,          1,2,20110131,       1533,   -63.1743,   147.8550,       3881,  3945.3,  -0.2074,  34.6532,2,  34.6637,4,    239.7,2,   239.0,2,  119.10,2,    2.23,2,  2258.1,6,  2352.8,6,   -0.26,2,   31.81,2,  -0.4721,       0.06,      -3.15,2,       0.27,     -0.007,2,      0.000,2,     97.578,2
09AR20110104,       SR03,     149,          1,         24,         24,2,20110131,       2134,   -63.0498,   146.4740,       3919,     8.9,   1.8422,  33.7225,2,  33.7253,2,    349.7,2,   349.8,2,   21.70,2,    1.40,2,  2135.4,6,  2280.7,6,   -0.31,2,   23.89,2,   1.8418,       0.05,      -3.57,2,       0.34,      2.564,2,    106.739,2,     89.369,2
09AR20110104,       SR03,     149,          1,         23,         23,2,20110131,       2134,   -63.0498,   146.4740,       3919,    40.9,   0.9658,  33.8570,2,  33.8615,2,    352.1,2,   353.0,2,   22.30,2,    1.50,2,  2147.7,2,  2290.4,2,   -0.27,2,   23.88,2,   0.9641,       0.01,      -3.20,2,       0.06,      5.480,2,      2.984,2,     90.743,2
09AR20110104,       SR03,     149,          1,         22,         22,2,20110131,       2134,   -63.0498,   146.4740,       3919,    75.7,  -0.6059,  34.1704,2,  34.1694,2,    292.5,2,   293.3,2,   56.80,2,    2.35,2,  2214.7,2,  2307.4,6,   -0.24,2,   30.76,2,  -0.6082,       0.01,      -2.72,2,       0.16,      1.479,2,      0.001,2,     95.238,2
09AR20110104,       SR03,     149,          1,         21,         21,2,20110131,       2134,   -63.0498,   146.4740,       3919,   175.2,   1.9121,  34.6103,2,  34.6120,2,    177.4,2,   176.3,2,   79.00,2,    2.34,2,  2258.1,2,  2333.4,2,    0.05,2,   34.27,2,   1.9029,       0.04,      -1.40,2,       0.15,      0.032,2,      0.000,2,     97.978,2
09AR20110104,       SR03,     149,          1,         20,         20,2,20110131,       2134,   -63.0498,   146.4740,       3919,   300.8,   1.8185,  34.6532,2,  34.6534,2,    180.2,2,   182.0,2,   81.90,2,    2.29,2,  2256.7,2,  2336.9,2,   -0.06,2,   33.49,2,   1.8026,       0.01,      -1.46,2,       0.03,      0.015,2,      0.000,2,     98.298,2
09AR20110104,       SR03,     149,          1,         19,         19,2,20110131,       2134,   -63.0498,   146.4740,       3919,   400.6,   1.9088,  34.6917,2,  34.6927,2,    181.1,2,   181.2,2,   84.10,2,    2.26,2,  -999.0,9,  -999.0,9,   -0.04,2,   33.03,2,   1.8869,       0.06,      -1.50,2,       0.01,      0.003,2,      0.000,2,     98.515,2
09AR20110104,       SR03,     149,          1,         18,         18,2,20110131,       2134,   -63.0498,   146.4740,       3919,   501.0,   1.8831,  34.7118,2,  34.7118,2,    184.8,2,   184.9,2,   85.00,2,    2.21,2,  -999.0,9,  -999.0,9,   -0.02,2,   32.28,2,   1.8554,       0.04,      -1.21,2,       0.15,      0.004,2,      0.000,2,     98.560,2
09AR20110104,       SR03,     149,          1,         17,         17,2,20110131,       2134,   -63.0498,   146.4740,       3919,   600.3,   1.8641,  34.7276,2,  34.7275,2,    187.7,2,   187.8,2,   85.70,2,    2.17,2,  -999.0,9,  -999.0,9,   -0.05,2,   31.55,2,   1.8305,       0.03,      -1.07,2,       0.23,     -0.002,2,      0.000,2,     98.599,2
09AR20110104,       SR03,     149,          1,         16,         16,2,20110131,       2134,   -63.0498,   146.4740,       3919,   700.2,   1.7841,  34.7313,2,  34.7314,2,    190.4,2,   190.1,2,   87.30,2,    2.15,2,  -999.0,9,  -999.0,9,   -0.03,2,   31.21,2,   1.7447,       0.05,      -1.54,2,       0.10,     -0.006,2,      0.000,2,     98.626,2
09AR20110104,       SR03,     149,          1,         15,         15,2,20110131,       2134,   -63.0498,   146.4740,       3919,   800.9,   1.7026,  34.7350,2,  34.7355,2,    192.9,2,   193.0,2,   89.80,2,    2.14,2,  -999.0,9,  -999.0,9,   -0.05,2,   31.06,2,   1.6574,       0.04,      -1.35,2,       0.18,     -0.008,2,      0.000,2,     98.701,2
09AR20110104,       SR03,     149,          1,         14,         14,2,20110131,       2134,   -63.0498,   146.4740,       3919,   900.3,   1.6203,  34.7372,2,  34.7374,2,    195.7,2,   195.3,2,   90.80,2,    2.14,2,  -999.0,9,  -999.0,9,   -0.12,2,   30.99,2,   1.5693,       0.08,      -1.77,2,       0.12,     -0.007,2,      0.000,2,     98.743,2
09AR20110104,       SR03,     149,          1,         13,         13,2,20110131,       2134,   -63.0498,   146.4740,       3919,  1000.8,   1.5625,  34.7416,2,  34.7418,2,    197.5,2,   197.3,2,   93.60,2,    2.14,2,  -999.0,9,  -999.0,9,   -0.04,2,   30.84,2,   1.5055,       0.02,      -1.31,2,       0.18,     -0.009,2,      0.000,2,     98.783,2
09AR20110104,       SR03,     149,          1,         12,         12,2,20110131,       2134,   -63.0498,   146.4740,       3919,  1201.3,   1.3873,  34.7380,2,  34.7388,2,    200.4,2,   200.4,2,   98.30,2,    2.13,2,  -999.0,9,  -999.0,9,   -0.04,2,   30.56,2,   1.3185,       0.05,      -1.57,2,       0.25,     -0.014,2,      0.000,2,     98.824,2
09AR20110104,       SR03,     149,          1,         11,         11,2,20110131,       2134,   -63.0498,   146.4740,       3919,  1402.3,   1.2308,  34.7319,2,  34.7325,2,    202.5,2,   202.4,2,  102.70,2,    2.15,2,  -999.0,9,  -999.0,9,   -0.11,2,   30.90,2,   1.1500,       0.00,      -1.56,2,       0.23,     -0.013,2,      0.000,2,     98.840,2
09AR20110104,       SR03,     149,          1,         10,         10,2,20110131,       2134,   -63.0498,   146.4740,       3919,  1600.6,   1.0617,  34.7236,2,  34.7234,2,    204.4,2,   204.4,2,  107.80,2,    2.17,2,  -999.0,9,  -999.0,9,   -0.04,2,   31.17,2,   0.9690,       0.10,      -1.39,2,       0.19,     -0.012,2,      0.000,2,     98.852,2
09AR20110104,       SR03,     149,          1,          9,          9,2,20110131,       2134,   -63.0498,   146.4740,       3919,  1799.9,   0.9225,  34.7162,2,  34.7158,2,    206.3,2,   206.5,2,  111.70,2,    2.19,2,  -999.0,9,  -999.0,9,   -0.15,2,   31.52,2,   0.8172,       0.02,      -2.26,2,       0.15,     -0.017,2,      0.000,2,     98.854,2
09AR20110104,       SR03,     149,          1,          8,          8,2,20110131,       2134,   -63.0498,   146.4740,       3919,  2098.6,   0.7076,  34.7048,2,  34.7043,2,    209.7,2,   209.5,2,  117.60,2,    2.22,2,  -999.0,9,  -999.0,9,   -0.04,2,   31.65,2,   0.5833,       0.03,      -2.21,2,       0.04,     -0.018,2,      0.000,2,     98.871,2
09AR20110104,       SR03,     149,          1,          7,          7,2,20110131,       2134,   -63.0498,   146.4740,       3919,  2400.0,   0.5087,  34.6945,2,  34.6945,2,    213.7,2,   213.9,2,  121.40,2,    2.24,2,  -999.0,9,  -999.0,9,   -0.23,2,   32.00,2,   0.3643,       0.04,      -2.52,2,       0.12,     -0.019,2,      0.000,2,     98.853,2
09AR20110104,       SR03,     149,          1,          6,          6,2,20110131,       2134,   -63.0498,   146.4740,       3919,  2699.5,   0.3378,  34.6868,2,  34.6872,2,    218.4,2,   218.5,2,  123.90,2,    2.25,2,  -999.0,9,  -999.0,9,   -0.18,2,   31.81,2,   0.1724,       0.07,      -1.85,2,       0.19,     -0.016,2,      0.000,2,     98.865,2
09AR20110104,       SR03,     149,          1,          5,          5,2,20110131,       2134,   -63.0498,   146.4740,       3919,  2999.4,   0.2079,  34.6804,2,  34.6801,2,    222.7,2,   222.5,2,  123.90,2,    2.24,2,  -999.0,9,  -999.0,9,   -0.12,2,   31.92,2,   0.0198,       0.02,      -2.53,2,       0.03,     -0.022,2,      0.000,2,     98.850,2
09AR20110104,       SR03,     149,          1,          4,          4,2,20110131,       2134,   -63.0498,   146.4740,       3919,  3299.3,   0.0771,  34.6738,2,  34.6724,2,    228.2,2,   227.3,2,  123.10,2,    2.24,2,  -999.0,9,  -999.0,9,   -0.20,2,   31.94,2,  -0.1344,       0.06,      -2.65,2,       0.21,     -0.023,2,      0.000,2,     98.842,2
09AR20110104,       SR03,     149,          1,          3,          3,2,20110131,       2134,   -63.0498,   146.4740,       3919,  3600.8,  -0.0559,  34.6651,2,  34.6636,2,    234.0,2,   233.3,2,  119.80,2,    2.23,2,  -999.0,9,  -999.0,9,   -0.16,2,   32.06,2,  -0.2918,       0.01,      -3.16,2,       0.00,     -0.025,2,      0.000,2,     98.838,2
09AR20110104,       SR03,     149,          1,          2,        102,2,20110131,       2134,   -63.0498,   146.4740,       3919,  3850.1,  -0.1622,  34.6582,2,  34.6569,2,    238.9,2,   238.4,2,  116.70,2,    2.22,2,  -999.0,9,  -999.0,9,   -0.28,2,   31.84,2,  -0.4189,       0.02,      -2.68,2,       0.14,     -0.026,2,      0.000,2,     98.720,2
09AR20110104,       SR03,     149,          1,          1,          1,2,20110131,       2134,   -63.0498,   146.4740,       3919,  3984.7,  -0.3243,  34.6401,2,  34.6388,2,    246.3,2,   246.1,2,  110.40,2,    2.21,2,  -999.0,9,  -999.0,9,   -0.24,2,   31.71,2,  -0.5894,       0.06,      -2.80,2,       0.30,     -0.011,2,      0.000,2,     97.427,2