BOTTLE,20230419CCHSIOENA
EXPOCODE,SECT_ID,STNNBR,CASTNO,SAMPNO,BTLNBR,BTLNBR_FLAG_W,DATE,TIME,LATITUDE,LONGITUDE,DEPTH,CTDPRS,CTDTMP,CTDSAL,CTDSAL_FLAG_W,SALNTY,SALNTY_FLAG_W,CTDOXY,CTDOXY_FLAG_W,OXYGEN,OXYGEN_FLAG_W,SILCAT,SILCAT_FLAG_W,PHSPHT,PHSPHT_FLAG_W,TCARBN,TCARBN_FLAG_W,ALKALI,ALKALI_FLAG_W,DELO18,DELO18_FLAG_W,NO2+NO3,NO2+NO3_FLAG_W,THETA,O18ERR,DELD,DELD_FLAG_W,DELDERR,CTDFLUOR,CTDFLUOR_FLAG_W,PAR,PAR_FLAG_W,CTDXMISS,CTDXMISS_FLAG_W
,,,,,,,,,,,METERS,DBAR,ITS-90,PSS-78,,PSS-78,,UMOL/KG,,UMOL/KG,,UMOL/KG,,UMOL/KG,,UMOL/KG,,UMOL/KG,,/MILLE,,UMOL/KG,,DEG C,/MILLE,/MILLE,,/MILLE,MG/M^3,,UMOL/M^2/SEC,,%TRANS,
09AR20110104,       SR03,       3,          1,         24,         24,2,20110104,       2133,   -44.0527,   146.2940,        619,    13.4,  13.1216,  34.9997,2,-999.0000,9,    264.4,2,  -999.0,9, -999.00,9, -999.00,9,  -999.0,9,  -999.0,9, -999.00,9, -999.00,9,  13.1198,     -999.0,     -999.0,9,     -999.0,      0.305,2,    180.539,2,     -999.0,5
09AR20110104,       SR03,       3,          1,         23,         23,2,20110104,       2133,   -44.0527,   146.2940,        619,    13.3,  13.1248,  35.0010,2,-999.0000,9,    264.4,2,  -999.0,9, -999.00,9, -999.00,9,  -999.0,9,  -999.0,9, -999.00,9, -999.00,9,  13.1230,     -999.0,     -999.0,9,     -999.0,      0.314,2,    176.039,2,     -999.0,5
09AR20110104,       SR03,       3,          1,         22,         22,2,20110104,       2133,   -44.0527,   146.2940,        619,    13.3,  13.1282,  34.9985,2,-999.0000,9,    264.4,2,  -999.0,9, -999.00,9, -999.00,9,  -999.0,9,  -999.0,9, -999.00,9, -999.00,9,  13.1264,     -999.0,     -999.0,9,     -999.0,      0.309,2,    173.439,2,     -999.0,5
09AR20110104,       SR03,       3,          1,         21,         21,2,20110104,       2133,   -44.0527,   146.2940,        619,    13.3,  13.1257,  35.0020,2,-999.0000,9,    264.4,2,  -999.0,9, -999.00,9, -999.00,9,  -999.0,9,  -999.0,9, -999.00,9, -999.00,9,  13.1239,     -999.0,     -999.0,9,     -999.0,      0.356,2,    151.039,2,     -999.0,5
09AR20110104,       SR03,       3,          1,         20,         20,2,20110104,       2133,   -44.0527,   146.2940,        619,    13.4,  13.1321,  34.9984,2,-999.0000,9,    264.4,2,  -999.0,9, -999.00,9, -999.00,9,  -999.0,9,  -999.0,9, -999.00,9, -999.00,9,  13.1303,     -999.0,     -999.0,9,     -999.0,      0.350,2,    167.939,2,     -999.0,5
09AR20110104,       SR03,       3,          1,         19,         19,2,20110104,       2133,   -44.0527,   146.2940,        619,    13.4,  13.1340,  34.9934,2,-999.0000,9,    264.4,2,  -999.0,9, -999.00,9, -999.00,9,  -999.0,9,  -999.0,9, -999.00,9, -999.00,9,  13.1322,     -999.0,     -999.0,9,     -999.0,      0.346,2,    191.939,2,     -999.0,5
09AR20110104,       SR03,       3,          1,         18,         18,2,20110104,       2133,   -44.0527,   146.2940,        619,    13.4,  13.1298,  34.9939,2,-999.0000,9,    264.4,2,  -999.0,9, -999.00,9, -999.00,9,  -999.0,9,  -999.0,9, -999.00,9, -999.00,9,  13.1280,     -999.0,     -999.0,9,     -999.0,      0.341,2,    171.739,2,     -999.0,5
09AR20110104,       SR03,       3,          1,         17,         17,2,20110104,       2133,   -44.0527,   146.2940,        619,    13.4,  13.1268,  34.9889,2,-999.0000,9,    264.4,2,  -999.0,9, -999.00,9, -999.00,9,  -999.0,9,  -999.0,9, -999.00,9, -999.00,9,  13.1250,     -999.0,     -999.0,9,     -999.0,      0.395,2,    195.939,2,     -999.0,5
09AR20110104,       SR03,       3,          1,         16,         16,2,20110104,       2133,   -44.0527,   146.2940,        619,    13.4,  13.1173,  34.9919,2,-999.0000,9,    264.4,2,  -999.0,9, -999.00,9, -999.00,9,  -999.0,9,  -999.0,9, -999.00,9, -999.00,9,  13.1155,     -999.0,     -999.0,9,     -999.0,      0.403,2,    159.439,2,     -999.0,5
09AR20110104,       SR03,       3,          1,         15,         15,2,20110104,       2133,   -44.0527,   146.2940,        619,    13.4,  13.1103,  34.9974,2,-999.0000,9,    264.4,2,  -999.0,9, -999.00,9, -999.00,9,  -999.0,9,  -999.0,9, -999.00,9, -999.00,9,  13.1085,     -999.0,     -999.0,9,     -999.0,      0.415,2,    121.439,2,     -999.0,5
09AR20110104,       SR03,       3,          1,         14,         14,2,20110104,       2133,   -44.0527,   146.2940,        619,    13.3,  13.1119,  34.9960,2,-999.0000,9,    264.4,2,  -999.0,9, -999.00,9, -999.00,9,  -999.0,9,  -999.0,9, -999.00,9, -999.00,9,  13.1101,     -999.0,     -999.0,9,     -999.0,      0.460,2,    132.839,2,     -999.0,5
09AR20110104,       SR03,       3,          1,         13,         13,2,20110104,       2133,   -44.0527,   146.2940,        619,    13.4,  13.1092,  34.9999,2,-999.0000,9,    264.4,2,  -999.0,9, -999.00,9, -999.00,9,  -999.0,9,  -999.0,9, -999.00,9, -999.00,9,  13.1074,     -999.0,     -999.0,9,     -999.0,      0.445,2,    145.939,2,     -999.0,5
09AR20110104,       SR03,       3,          1,         12,         12,2,20110104,       2133,   -44.0527,   146.2940,        619,    13.3,  13.1076,  35.0026,2,-999.0000,9,    264.4,2,  -999.0,9, -999.00,9, -999.00,9,  -999.0,9,  -999.0,9, -999.00,9, -999.00,9,  13.1058,     -999.0,     -999.0,9,     -999.0,      0.453,2,    168.539,2,     -999.0,5
09AR20110104,       SR03,       3,          1,         11,         11,2,20110104,       2133,   -44.0527,   146.2940,        619,    13.5,  13.1035,  35.0072,2,-999.0000,9,    264.4,2,  -999.0,9, -999.00,9, -999.00,9,  -999.0,9,  -999.0,9, -999.00,9, -999.00,9,  13.1016,     -999.0,     -999.0,9,     -999.0,      0.452,2,    169.539,2,     -999.0,5
09AR20110104,       SR03,       3,          1,         10,         10,2,20110104,       2133,   -44.0527,   146.2940,        619,    13.4,  13.1127,  34.9936,2,  34.9880,4,    264.4,2,   265.6,2,    0.70,2,    0.35,2,  -999.0,9,  -999.0,9, -999.00,9,    3.36,2,  13.1109,     -999.0,     -999.0,9,     -999.0,      0.512,2,    165.539,2,     -999.0,5
09AR20110104,       SR03,       3,          1,          9,          9,2,20110104,       2133,   -44.0527,   146.2940,        619,    51.6,  12.9893,  34.9954,2,  34.9903,4,    264.9,2,   264.0,2,    0.70,2,    0.39,2,  -999.0,9,  -999.0,9, -999.00,9,    3.57,2,  12.9822,     -999.0,     -999.0,9,     -999.0,      0.857,2,     10.939,2,     -999.0,5
09AR20110104,       SR03,       3,          1,          8,          8,2,20110104,       2133,   -44.0527,   146.2940,        619,    99.9,  12.1262,  35.0965,2,  35.0945,2,    249.6,2,   250.2,2,    2.10,2,    0.60,2,  -999.0,9,  -999.0,9, -999.00,9,    7.35,2,  12.1131,     -999.0,     -999.0,9,     -999.0,      0.084,2,      0.667,2,     -999.0,5
09AR20110104,       SR03,       3,          1,          7,          7,2,20110104,       2133,   -44.0527,   146.2940,        619,   151.0,  11.8080,  35.1035,2,  35.1021,2,    248.3,2,   247.9,2,    2.70,2,    0.68,2,  -999.0,9,  -999.0,9, -999.00,9,    8.80,2,  11.7885,     -999.0,     -999.0,9,     -999.0,      0.020,2,      0.043,2,     -999.0,5
09AR20110104,       SR03,       3,          1,          6,          6,2,20110104,       2133,   -44.0527,   146.2940,        619,   202.4,  11.2051,  34.9984,2,  34.9866,4,    251.4,2,   251.4,2,    3.10,2,    0.76,2,  -999.0,9,  -999.0,9, -999.00,9,   10.08,2,  11.1798,     -999.0,     -999.0,9,     -999.0,     -0.014,2,      0.000,2,     -999.0,5
09AR20110104,       SR03,       3,          1,          5,          5,2,20110104,       2133,   -44.0527,   146.2940,        619,   251.6,  10.7588,  34.9193,2,  34.9041,4,    252.0,2,   253.9,2,    3.30,2,    0.83,2,  -999.0,9,  -999.0,9, -999.00,9,   11.08,2,  10.7282,     -999.0,     -999.0,9,     -999.0,     -0.017,2,      0.000,2,     -999.0,5
09AR20110104,       SR03,       3,          1,          4,          4,2,20110104,       2133,   -44.0527,   146.2940,        619,   302.6,  10.6255,  34.9016,2,  34.9200,4,    253.5,2,   254.4,2, -999.00,9, -999.00,9,  -999.0,9,  -999.0,9, -999.00,9, -999.00,9,  10.5889,     -999.0,     -999.0,9,     -999.0,     -0.022,2,      0.000,2,     -999.0,5
09AR20110104,       SR03,       3,          1,          3,          3,2,20110104,       2133,   -44.0527,   146.2940,        619,   401.5,   9.6046,  34.7226,2,  34.7475,4,    256.3,2,   257.3,2,    3.90,2,    1.01,2,  -999.0,9,  -999.0,9, -999.00,9,   13.86,2,   9.5588,     -999.0,     -999.0,9,     -999.0,     -0.032,2,      0.000,2,     -999.0,5
09AR20110104,       SR03,       3,          1,          2,        102,2,20110104,       2133,   -44.0527,   146.2940,        619,   503.1,   9.2525,  34.6705,2,  34.6936,4,    254.0,2,   253.5,2,    4.80,2,    1.08,2,  -999.0,9,  -999.0,9, -999.00,9,   15.06,2,   9.1962,     -999.0,     -999.0,9,     -999.0,     -0.031,2,      0.000,2,     -999.0,5
09AR20110104,       SR03,       3,          1,          1,          1,2,20110104,       2133,   -44.0527,   146.2940,        619,   581.9,   8.8366,  34.6176,2,  34.6525,4,    247.8,2,   249.2,2,    5.90,2,    1.16,2,  -999.0,9,  -999.0,9, -999.00,9,   16.24,2,   8.7730,     -999.0,     -999.0,9,     -999.0,     -0.019,2,      0.000,2,     -999.0,5
09AR20110104,       SR03,       4,          1,         24,         24,2,20110105,       2346,   -44.1205,   146.2220,       1033,    10.1,  13.0266,  34.9642,2,-999.0000,9,    267.7,2,  -999.0,9, -999.00,9, -999.00,9,  -999.0,9,  -999.0,9, -999.00,9, -999.00,9,  13.0252,     -999.0,     -999.0,9,     -999.0,      0.315,2,     76.049,2,     -999.0,5
09AR20110104,       SR03,       4,          1,         23,         23,2,20110105,       2346,   -44.1205,   146.2220,       1033,    10.1,  13.0267,  34.9644,2,-999.0000,9,    267.7,2,  -999.0,9, -999.00,9, -999.00,9,  -999.0,9,  -999.0,9, -999.00,9, -999.00,9,  13.0253,     -999.0,     -999.0,9,     -999.0,      0.324,2,     80.749,2,     -999.0,5
09AR20110104,       SR03,       4,          1,         22,         22,2,20110105,       2346,   -44.1205,   146.2220,       1033,    10.1,  13.0233,  34.9649,2,-999.0000,9,    267.7,2,  -999.0,9, -999.00,9, -999.00,9,  -999.0,9,  -999.0,9, -999.00,9, -999.00,9,  13.0219,     -999.0,     -999.0,9,     -999.0,      0.334,2,     69.909,2,     -999.0,5
09AR20110104,       SR03,       4,          1,         21,         21,2,20110105,       2346,   -44.1205,   146.2220,       1033,    10.2,  13.0234,  34.9651,2,-999.0000,9,    267.7,2,  -999.0,9, -999.00,9, -999.00,9,  -999.0,9,  -999.0,9, -999.00,9, -999.00,9,  13.0220,     -999.0,     -999.0,9,     -999.0,      0.316,2,     74.099,2,     -999.0,5
09AR20110104,       SR03,       4,          1,         20,         20,2,20110105,       2346,   -44.1205,   146.2220,       1033,    10.1,  13.0133,  34.9662,2,-999.0000,9,    267.7,2,  -999.0,9, -999.00,9, -999.00,9,  -999.0,9,  -999.0,9, -999.00,9, -999.00,9,  13.0119,     -999.0,     -999.0,9,     -999.0,      0.381,2,     60.639,2,     -999.0,5
09AR20110104,       SR03,       4,          1,         19,         19,2,20110105,       2346,   -44.1205,   146.2220,       1033,    10.1,  13.0138,  34.9678,2,-999.0000,9,    267.7,2,  -999.0,9, -999.00,9, -999.00,9,  -999.0,9,  -999.0,9, -999.00,9, -999.00,9,  13.0124,     -999.0,     -999.0,9,     -999.0,      0.434,2,     83.229,2,     -999.0,5
09AR20110104,       SR03,       4,          1,         18,         18,2,20110105,       2346,   -44.1205,   146.2220,       1033,    10.1,  13.0128,  34.9673,2,-999.0000,9,    267.7,2,  -999.0,9, -999.00,9, -999.00,9,  -999.0,9,  -999.0,9, -999.00,9, -999.00,9,  13.0114,     -999.0,     -999.0,9,     -999.0,      0.418,2,     60.459,2,     -999.0,5
09AR20110104,       SR03,       4,          1,         17,         17,2,20110105,       2346,   -44.1205,   146.2220,       1033,    10.1,  13.0126,  34.9668,2,-999.0000,9,    267.7,2,  -999.0,9, -999.00,9, -999.00,9,  -999.0,9,  -999.0,9, -999.00,9, -999.00,9,  13.0112,     -999.0,     -999.0,9,     -999.0,      0.384,2,     59.039,2,     -999.0,5
09AR20110104,       SR03,       4,          1,         16,         16,2,20110105,       2346,   -44.1205,   146.2220,       1033,    10.0,  13.0133,  34.9665,2,-999.0000,9,    267.7,2,  -999.0,9, -999.00,9, -999.00,9,  -999.0,9,  -999.0,9, -999.00,9, -999.00,9,  13.0119,     -999.0,     -999.0,9,     -999.0,      0.369,2,     61.199,2,     -999.0,5
09AR20110104,       SR03,       4,          1,         15,         15,2,20110105,       2346,   -44.1205,   146.2220,       1033,     9.9,  13.0173,  34.9678,2,-999.0000,9,    267.7,2,  -999.0,9, -999.00,9, -999.00,9,  -999.0,9,  -999.0,9, -999.00,9, -999.00,9,  13.0159,     -999.0,     -999.0,9,     -999.0,      0.382,2,     73.969,2,     -999.0,5
09AR20110104,       SR03,       4,          1,         14,         14,2,20110105,       2346,   -44.1205,   146.2220,       1033,    10.1,  13.0168,  34.9679,2,  34.9668,2,    267.7,2,   268.6,2,    0.60,2,    0.37,2,  2072.6,6,  2309.7,6, -999.00,9,    3.44,2,  13.0154,     -999.0,     -999.0,9,     -999.0,      0.389,2,     58.099,2,     -999.0,5
09AR20110104,       SR03,       4,          1,         13,         13,2,20110105,       2346,   -44.1205,   146.2220,       1033,    51.2,  12.4489,  35.0188,2,  35.0252,2,    255.0,2,   254.2,2,    1.70,2,    0.54,2,  2097.0,2,  2309.5,2, -999.00,9,    6.20,2,  12.4421,     -999.0,     -999.0,9,     -999.0,      0.182,2,     17.399,2,     -999.0,5
09AR20110104,       SR03,       4,          1,         12,         12,2,20110105,       2346,   -44.1205,   146.2220,       1033,    76.6,  11.9899,  35.0801,2,  35.0792,2,    249.0,2,   249.2,2,    2.20,2,    0.62,2,  2108.9,2,  2310.8,2, -999.00,9,    7.83,2,  11.9800,     -999.0,     -999.0,9,     -999.0,      0.079,2,      7.163,2,     -999.0,5
09AR20110104,       SR03,       4,          1,         11,         11,2,20110105,       2346,   -44.1205,   146.2220,       1033,   100.8,  11.7268,  35.0851,2,  35.0858,2,    250.1,2,   249.6,2,    2.40,2,    0.63,2,  2112.7,2,  2310.2,2, -999.00,9,    8.27,2,  11.7139,     -999.0,     -999.0,9,     -999.0,      0.018,2,      2.938,2,     -999.0,5
09AR20110104,       SR03,       4,          1,         10,         10,2,20110105,       2346,   -44.1205,   146.2220,       1033,   151.8,  11.4263,  35.0407,2,  34.9584,4,    250.2,2,   250.3,2,    2.70,2,    0.70,2,  2113.4,2,  2307.5,2, -999.00,9,    9.20,2,  11.4071,     -999.0,     -999.0,9,     -999.0,     -0.008,2,      0.445,2,     -999.0,5
09AR20110104,       SR03,       4,          1,          9,          9,2,20110105,       2346,   -44.1205,   146.2220,       1033,   203.1,  10.7895,  34.9229,2,  34.9246,2,    252.6,2,   252.7,2,    3.20,2,    0.80,2,  2114.7,2,  2301.4,2, -999.00,9,   10.94,2,  10.7648,     -999.0,     -999.0,9,     -999.0,     -0.012,2,      0.031,2,     -999.0,5
09AR20110104,       SR03,       4,          1,          8,          8,2,20110105,       2346,   -44.1205,   146.2220,       1033,   303.7,  10.3272,  34.8556,2,  34.8570,2,    257.5,2,   256.3,2,    3.30,2,    0.87,2,  2117.5,2,  2300.7,6, -999.00,9,   11.84,2,  10.2911,     -999.0,     -999.0,9,     -999.0,     -0.030,2,      0.000,2,     -999.0,5
09AR20110104,       SR03,       4,          1,          7,          7,2,20110105,       2346,   -44.1205,   146.2220,       1033,   404.2,   9.2583,  34.6541,2,  34.6438,4,    260.9,2,   261.0,2,    3.90,2,    1.03,2,  2120.7,2,  2291.3,2, -999.00,9,   14.37,2,   9.2133,     -999.0,     -999.0,9,     -999.0,     -0.033,2,      0.000,2,     -999.0,5
09AR20110104,       SR03,       4,          1,          6,          6,2,20110105,       2346,   -44.1205,   146.2220,       1033,   504.2,   8.8899,  34.5951,2,  34.5954,2,    251.8,2,   254.0,2,    4.70,2,    1.13,2,  2126.5,2,  2288.5,2, -999.00,9,   16.06,2,   8.8348,     -999.0,     -999.0,9,     -999.0,     -0.030,2,      0.000,2,     -999.0,5
09AR20110104,       SR03,       4,          1,          5,          5,2,20110105,       2346,   -44.1205,   146.2220,       1033,   603.2,   8.5785,  34.5841,2,  34.5805,2,    229.4,2,   230.5,2,    7.60,2,    1.32,2,  2142.2,2,  2286.8,2, -999.00,9,   19.13,2,   8.5137,     -999.0,     -999.0,9,     -999.0,     -0.016,2,      0.000,2,     -999.0,5
09AR20110104,       SR03,       4,          1,          4,          4,2,20110105,       2346,   -44.1205,   146.2220,       1033,   702.9,   7.7857,  34.5238,2,  34.5180,4,    211.0,2,   210.0,2,   12.60,2,    1.54,2,  2157.8,2,  2288.5,2, -999.00,9,   22.71,2,   7.7139,     -999.0,     -999.0,9,     -999.0,     -0.002,2,      0.000,2,     -999.0,5
09AR20110104,       SR03,       4,          1,          3,          3,2,20110105,       2346,   -44.1205,   146.2220,       1033,   805.5,   6.3526,  34.4593,2,  34.4419,4,    196.8,2,   195.5,2,   23.30,2,    1.81,2,  2179.9,2,  2298.6,2, -999.00,9,   26.57,2,   6.2784,     -999.0,     -999.0,9,     -999.0,      0.009,2,      0.000,2,     -999.0,5
09AR20110104,       SR03,       4,          1,          2,        102,2,20110105,       2346,   -44.1205,   146.2220,       1033,   900.3,   5.2097,  34.4467,2,  34.4396,4,    184.9,2,   185.1,2,   37.10,2,    2.03,2,  -999.0,9,  -999.0,9, -999.00,9,   29.40,2,   5.1340,     -999.0,     -999.0,9,     -999.0,      0.011,2,      0.000,2,     -999.0,5
09AR20110104,       SR03,       4,          1,          1,          1,2,20110105,       2346,   -44.1205,   146.2220,       1033,   953.2,   4.7901,  34.4470,2,  34.4486,2,    181.6,2,   182.8,2,   42.20,2,    2.08,2,  2210.9,2,  2312.1,2, -999.00,9,   30.21,2,   4.7126,     -999.0,     -999.0,9,     -999.0,     -0.039,2,      0.000,2,     -999.0,5