BOTTLE,20230419CCHSIOENA
EXPOCODE,SECT_ID,STNNBR,CASTNO,SAMPNO,BTLNBR,BTLNBR_FLAG_W,DATE,TIME,LATITUDE,LONGITUDE,DEPTH,CTDPRS,CTDTMP,CTDSAL,CTDSAL_FLAG_W,SALNTY,SALNTY_FLAG_W,CTDOXY,CTDOXY_FLAG_W,OXYGEN,OXYGEN_FLAG_W,SILCAT,SILCAT_FLAG_W,PHSPHT,PHSPHT_FLAG_W,TCARBN,TCARBN_FLAG_W,ALKALI,ALKALI_FLAG_W,DELO18,DELO18_FLAG_W,NO2+NO3,NO2+NO3_FLAG_W,THETA,O18ERR,DELD,DELD_FLAG_W,DELDERR,CTDFLUOR,CTDFLUOR_FLAG_W,PAR,PAR_FLAG_W,CTDXMISS,CTDXMISS_FLAG_W
,,,,,,,,,,,METERS,DBAR,ITS-90,PSS-78,,PSS-78,,UMOL/KG,,UMOL/KG,,UMOL/KG,,UMOL/KG,,UMOL/KG,,UMOL/KG,,/MILLE,,UMOL/KG,,DEG C,/MILLE,/MILLE,,/MILLE,MG/M^3,,UMOL/M^2/SEC,,%TRANS,
09AR20110104,       SR03,      38,          1,         24,         24,2,20110114,       1440,   -59.8510,   139.8660,       4454,     9.1,   1.6074,  33.9250,2,  33.9277,2,    342.0,2,   342.7,2,   17.70,2,    1.73,2,  2159.0,6,  2288.1,6, -999.00,9,   26.35,2,   1.6070,     -999.0,     -999.0,9,     -999.0,      1.941,2,      0.655,2,     95.052,2
09AR20110104,       SR03,      38,          1,         23,         23,2,20110114,       1440,   -59.8510,   139.8660,       4454,    49.4,   1.5985,  33.9260,2,  33.9280,2,    345.0,2,  -999.0,9,   17.70,2,    1.72,2,  2159.6,2,  2288.3,2, -999.00,9,   26.34,2,   1.5961,     -999.0,     -999.0,9,     -999.0,      1.935,2,      0.001,2,     95.042,2
09AR20110104,       SR03,      38,          1,         22,         22,2,20110114,       1440,   -59.8510,   139.8660,       4454,    74.1,   1.5447,  33.9264,2,  33.9295,2,   -999.0,5,  -999.0,9,   17.90,2,    1.73,2,  2161.1,2,  2289.3,6, -999.00,9,   26.39,2,   1.5412,     -999.0,     -999.0,9,     -999.0,      2.131,2,      0.000,2,     94.643,2
09AR20110104,       SR03,      38,          1,         21,         21,2,20110114,       1440,   -59.8510,   139.8660,       4454,   151.9,  -0.1828,  34.0478,2,  34.0294,2,    280.0,2,   325.4,3,   36.40,2,    2.10,2,  2186.2,2,  2296.0,2, -999.00,9,   29.19,2,  -0.1879,     -999.0,     -999.0,9,     -999.0,      0.330,2,      0.000,2,     98.828,2
09AR20110104,       SR03,      38,          1,         20,         20,2,20110114,       1440,   -59.8510,   139.8660,       4454,   199.4,   1.8505,  34.3668,2,  34.3678,2,    197.1,2,   200.7,2,   60.20,2,    2.40,2,  2241.5,2,  2312.4,2, -999.00,9,   34.83,2,   1.8401,     -999.0,     -999.0,9,     -999.0,      0.037,2,      0.000,2,     99.253,2
09AR20110104,       SR03,      38,          1,         19,         19,2,20110114,       1440,   -59.8510,   139.8660,       4454,   299.8,   2.2288,  34.5034,2,  34.5036,2,    177.9,2,   175.8,2,   69.70,2,    2.39,2,  2257.2,2,  2323.7,6, -999.00,9,   34.84,2,   2.2120,     -999.0,     -999.0,9,     -999.0,      0.000,2,      0.000,2,     99.255,2
09AR20110104,       SR03,      38,          1,         18,         18,2,20110114,       1440,   -59.8510,   139.8660,       4454,   400.0,   2.2577,  34.5739,2,  34.5736,2,    173.9,2,   172.3,2,   72.90,2,    2.34,2,  2256.3,2,  2329.3,2, -999.00,9,   34.19,2,   2.2348,     -999.0,     -999.0,9,     -999.0,     -0.004,2,      0.000,2,     99.412,2
09AR20110104,       SR03,      38,          1,         17,         17,2,20110114,       1440,   -59.8510,   139.8660,       4454,   500.5,   2.2408,  34.6283,2,  34.6286,2,    174.0,2,   173.9,2,   75.10,2,    2.28,2,  2255.9,2,  2333.9,2, -999.00,9,   33.32,2,   2.2117,     -999.0,     -999.0,9,     -999.0,     -0.007,2,      0.000,2,     99.437,2
09AR20110104,       SR03,      38,          1,         16,         16,2,20110114,       1440,   -59.8510,   139.8660,       4454,   649.2,   2.1814,  34.6747,2,  34.6745,2,    177.8,2,   177.6,2,   77.50,2,    2.22,2,  -999.0,9,  -999.0,9, -999.00,9,   32.37,2,   2.1432,     -999.0,     -999.0,9,     -999.0,     -0.007,2,      0.000,2,     99.424,2
09AR20110104,       SR03,      38,          1,         15,         15,2,20110114,       1440,   -59.8510,   139.8660,       4454,   799.5,   2.1189,  34.7084,2,  34.7086,2,    182.2,2,   182.9,2,   78.80,2,    2.16,2,  2253.8,2,  2340.2,2, -999.00,9,   31.52,2,   2.0712,     -999.0,     -999.0,9,     -999.0,     -0.011,2,      0.000,2,     99.532,2
09AR20110104,       SR03,      38,          1,         14,         14,2,20110114,       1440,   -59.8510,   139.8660,       4454,  1000.0,   1.9873,  34.7333,2,  34.7332,2,    188.3,2,   189.2,2,   81.80,2,    2.10,2,  -999.0,9,  -999.0,9, -999.00,9,   30.78,2,   1.9270,     -999.0,     -999.0,9,     -999.0,     -0.007,2,      0.000,2,     99.539,2
09AR20110104,       SR03,      38,          1,         13,         13,2,20110114,       1440,   -59.8510,   139.8660,       4454,  1201.1,   1.8537,  34.7428,2,  34.7428,2,    192.7,2,   193.0,2,   85.30,2,    2.10,2,  -999.0,9,  -999.0,9, -999.00,9,   30.38,2,   1.7805,     -999.0,     -999.0,9,     -999.0,     -0.013,2,      0.000,2,     99.569,2
09AR20110104,       SR03,      38,          1,         12,         12,2,20110114,       1440,   -59.8510,   139.8660,       4454,  1401.7,   1.6811,  34.7450,2,  34.7461,2,    195.9,2,   197.1,2,   89.60,2,    2.08,2,  2253.0,2,  2349.7,2, -999.00,9,   30.29,2,   1.5953,     -999.0,     -999.0,9,     -999.0,     -0.015,2,      0.000,2,     99.584,2
09AR20110104,       SR03,      38,          1,         11,         11,2,20110114,       1440,   -59.8510,   139.8660,       4454,  1602.2,   1.5202,  34.7426,2,  34.7431,2,    199.2,2,   200.1,2,   94.30,2,    2.10,2,  -999.0,9,  -999.0,9, -999.00,9,   30.38,2,   1.4216,     -999.0,     -999.0,9,     -999.0,     -0.013,2,      0.000,2,     99.617,2
09AR20110104,       SR03,      38,          1,         10,         10,2,20110114,       1440,   -59.8510,   139.8660,       4454,  1800.3,   1.3585,  34.7364,2,  34.7363,2,    202.2,2,   202.0,2,   98.80,2,    2.14,2,  -999.0,9,  -999.0,9, -999.00,9,   30.65,2,   1.2471,     -999.0,     -999.0,9,     -999.0,     -0.012,2,      0.000,2,     99.625,2
09AR20110104,       SR03,      38,          1,          9,          9,2,20110114,       1440,   -59.8510,   139.8660,       4454,  2099.9,   1.1291,  34.7254,2,  34.7251,2,    204.8,2,   204.4,2,  105.70,2,    2.14,2,  -999.0,9,  -999.0,9, -999.00,9,   31.04,2,   0.9978,     -999.0,     -999.0,9,     -999.0,     -0.014,2,      0.000,2,     99.639,2
09AR20110104,       SR03,      38,          1,          8,          8,2,20110114,       1440,   -59.8510,   139.8660,       4454,  2449.7,   0.8522,  34.7113,2,  34.7109,2,    208.2,2,   208.1,2,  113.70,2,    2.18,2,  -999.0,9,  -999.0,9, -999.00,9,   31.53,2,   0.6974,     -999.0,     -999.0,9,     -999.0,     -0.019,2,      0.000,2,     99.650,2
09AR20110104,       SR03,      38,          1,          7,          7,2,20110114,       1440,   -59.8510,   139.8660,       4454,  2797.9,   0.6208,  34.6994,2,  34.6984,2,    212.4,2,   212.5,2,  119.60,2,    2.22,2,  -999.0,9,  -999.0,9, -999.00,9,   31.86,2,   0.4411,     -999.0,     -999.0,9,     -999.0,     -0.019,2,      0.000,2,     99.666,2
09AR20110104,       SR03,      38,          1,          6,          6,2,20110114,       1440,   -59.8510,   139.8660,       4454,  3098.0,   0.4451,  34.6911,2,  34.6903,2,    216.3,2,   216.7,2,  123.80,2,    2.22,2,  -999.0,9,  -999.0,9, -999.00,9,   32.01,2,   0.2429,     -999.0,     -999.0,9,     -999.0,     -0.020,2,      0.000,2,     99.665,2
09AR20110104,       SR03,      38,          1,          5,          5,2,20110114,       1440,   -59.8510,   139.8660,       4454,  3398.9,   0.3063,  34.6847,2,  34.6838,2,    220.3,2,  -999.0,9,  125.30,2,    2.23,2,  2258.9,2,  2353.3,2, -999.00,9,   32.04,2,   0.0799,     -999.0,     -999.0,9,     -999.0,     -0.022,2,      0.000,2,     99.659,2
09AR20110104,       SR03,      38,          1,          4,          4,2,20110114,       1440,   -59.8510,   139.8660,       4454,  3750.1,   0.2025,  34.6800,2,  34.6781,2,    224.6,2,   224.7,2,  127.30,2,    2.22,2,  -999.0,9,  -999.0,9, -999.00,9,   32.07,2,  -0.0547,     -999.0,     -999.0,9,     -999.0,     -0.023,2,      0.000,2,     99.653,2
09AR20110104,       SR03,      38,          1,          3,          3,2,20110114,       1440,   -59.8510,   139.8660,       4454,  4103.7,   0.0797,  34.6732,2,  34.6713,2,    230.2,2,   229.9,2,  127.60,2,    2.23,2,  -999.0,9,  -999.0,9, -999.00,9,   32.00,2,  -0.2092,     -999.0,     -999.0,9,     -999.0,     -0.023,2,      0.000,2,     99.639,2
09AR20110104,       SR03,      38,          1,          2,        102,2,20110114,       1440,   -59.8510,   139.8660,       4454,  4397.8,  -0.0495,  34.6619,2,  34.6593,2,    236.6,2,   236.3,2,  119.40,2,    2.21,2,  -999.0,9,  -999.0,9, -999.00,9,   31.94,2,  -0.3649,     -999.0,     -999.0,9,     -999.0,     -0.024,2,      0.000,2,     99.588,2
09AR20110104,       SR03,      38,          1,          1,          1,2,20110114,       1440,   -59.8510,   139.8660,       4454,  4528.8,  -0.1400,  34.6537,2,  34.6504,2,    240.4,2,   240.0,2,  124.00,2,    2.22,2,  -999.0,9,  -999.0,9, -999.00,9,   31.82,2,  -0.4663,     -999.0,     -999.0,9,     -999.0,     -0.021,2,      0.000,2,     98.893,2
09AR20110104,       SR03,      39,          1,         24,         24,2,20110114,       2116,   -60.3480,   139.8470,       4416,    10.5,   1.6446,  33.9270,2,  33.9288,2,    340.5,2,   341.3,2,   19.40,2,    1.76,2,  2159.7,6,  2286.2,2, -999.00,9,   26.62,2,   1.6441,     -999.0,     -999.0,9,     -999.0,      0.511,2,     75.529,2,     95.554,2
09AR20110104,       SR03,      39,          1,         23,         23,2,20110114,       2116,   -60.3480,   139.8470,       4416,    50.5,   1.5059,  33.9282,2,  33.9325,2,    342.0,2,   342.0,2,   20.60,2,    1.81,2,  2162.2,2,  2286.7,2, -999.00,9,   26.83,2,   1.5035,     -999.0,     -999.0,9,     -999.0,      1.330,2,     10.299,2,     95.468,2
09AR20110104,       SR03,      39,          1,         22,         22,2,20110114,       2116,   -60.3480,   139.8470,       4416,   101.6,  -0.1392,  34.0051,2,  33.9999,2,    333.6,2,   333.9,2,   31.70,2,    2.04,2,  2181.5,2,  2292.7,6, -999.00,9,   28.40,2,  -0.1426,     -999.0,     -999.0,9,     -999.0,      0.505,2,      0.988,2,     98.678,2
09AR20110104,       SR03,      39,          1,         21,         21,2,20110114,       2116,   -60.3480,   139.8470,       4416,   160.8,   1.9491,  34.3799,2,  34.3821,2,    198.3,2,   196.6,2,   61.00,2,    2.40,2,  2239.4,2,  2310.9,2, -999.00,9,   34.72,2,   1.9407,     -999.0,     -999.0,9,     -999.0,      0.016,2,      0.088,2,     99.286,2
09AR20110104,       SR03,      39,          1,         20,         20,2,20110114,       2116,   -60.3480,   139.8470,       4416,   200.5,   2.1502,  34.4428,2,  34.4427,2,    184.8,2,   183.8,2,   65.50,2,    2.41,2,  2248.0,2,  2318.6,2, -999.00,9,   34.93,2,   2.1393,     -999.0,     -999.0,9,     -999.0,     -0.001,2,      0.000,2,     99.302,2
09AR20110104,       SR03,      39,          1,         19,         19,2,20110114,       2116,   -60.3480,   139.8470,       4416,   298.2,   2.2226,  34.5299,2,  34.5312,2,    173.8,2,   174.6,2,   71.20,2,    2.39,2,  2251.4,2,  2329.4,2, -999.00,9,   34.52,2,   2.2059,     -999.0,     -999.0,9,     -999.0,     -0.006,2,      0.000,2,     99.320,2
09AR20110104,       SR03,      39,          1,         18,         18,2,20110114,       2116,   -60.3480,   139.8470,       4416,   402.2,   2.2695,  34.5993,2,  34.5993,2,    172.1,2,   173.0,2,   74.30,2,    2.32,2,  2256.4,2,  2333.2,2, -999.00,9,   33.72,2,   2.2464,     -999.0,     -999.0,9,     -999.0,     -0.006,2,      0.000,2,     99.422,2
09AR20110104,       SR03,      39,          1,         17,         17,2,20110114,       2116,   -60.3480,   139.8470,       4416,   498.9,   2.2137,  34.6402,2,  34.6404,2,    173.7,2,   174.3,2,   76.50,2,    2.30,2,  2253.1,2,  2337.3,2, -999.00,9,   33.03,2,   2.1848,     -999.0,     -999.0,9,     -999.0,     -0.008,2,      0.000,2,     99.445,2
09AR20110104,       SR03,      39,          1,         16,         16,2,20110114,       2116,   -60.3480,   139.8470,       4416,   650.9,   2.1488,  34.6865,2,  34.6879,2,    179.0,2,   179.0,2,   78.60,2,    2.22,2,  2252.3,2,  2337.6,2, -999.00,9,   32.08,2,   2.1106,     -999.0,     -999.0,9,     -999.0,     -0.008,2,      0.000,2,     99.462,2
09AR20110104,       SR03,      39,          1,         15,         15,2,20110114,       2116,   -60.3480,   139.8470,       4416,   800.1,   2.0718,  34.7158,2,  34.7161,2,    184.1,2,   184.0,2,   80.40,2,    2.17,2,  2248.4,2,  2343.2,2, -999.00,9,   31.28,2,   2.0243,     -999.0,     -999.0,9,     -999.0,     -0.012,2,      0.000,2,     99.507,2
09AR20110104,       SR03,      39,          1,         14,         14,2,20110114,       2116,   -60.3480,   139.8470,       4416,  1003.1,   1.9582,  34.7396,2,  34.7405,2,    190.7,2,   190.5,2,   83.10,2,    2.11,2,  2248.3,2,  2347.3,2, -999.00,9,   30.50,2,   1.8979,     -999.0,     -999.0,9,     -999.0,     -0.012,2,      0.000,2,     99.526,2
09AR20110104,       SR03,      39,          1,         13,         13,2,20110114,       2116,   -60.3480,   139.8470,       4416,  1200.5,   1.8033,  34.7472,2,  34.7479,2,    195.0,2,   195.1,2,   87.00,2,    2.10,2,  2249.9,2,  2345.0,2, -999.00,9,   30.23,2,   1.7306,     -999.0,     -999.0,9,     -999.0,     -0.015,2,      0.000,2,     99.545,2
09AR20110104,       SR03,      39,          1,         12,         12,2,20110114,       2116,   -60.3480,   139.8470,       4416,  1399.8,   1.6491,  34.7480,2,  34.7482,2,    198.4,2,   198.1,2,   91.10,2,    2.11,2,  2249.3,6,  2350.7,6, -999.00,9,   30.20,2,   1.5638,     -999.0,     -999.0,9,     -999.0,     -0.014,2,      0.000,2,     99.576,2
09AR20110104,       SR03,      39,          1,         11,         11,2,20110114,       2116,   -60.3480,   139.8470,       4416,  1599.7,   1.4864,  34.7442,2,  34.7440,2,    200.8,2,   200.7,2,   96.00,2,    2.12,2,  2252.6,2,  2355.2,2, -999.00,9,   30.32,2,   1.3884,     -999.0,     -999.0,9,     -999.0,     -0.015,2,      0.000,2,     99.604,2
09AR20110104,       SR03,      39,          1,         10,         10,2,20110114,       2116,   -60.3480,   139.8470,       4416,  1799.5,   1.3097,  34.7371,2,  34.7371,2,    202.8,2,   202.9,2,  101.10,2,    2.13,2,  2252.6,2,  2356.9,2, -999.00,9,   30.62,2,   1.1990,     -999.0,     -999.0,9,     -999.0,     -0.012,2,      0.000,2,     99.604,2
09AR20110104,       SR03,      39,          1,          9,          9,2,20110114,       2116,   -60.3480,   139.8470,       4416,  2098.9,   1.0792,  34.7259,2,  34.7257,2,    205.7,2,   205.4,2,  108.30,2,    2.16,2,  2257.2,2,  2357.9,2, -999.00,9,   31.03,2,   0.9488,     -999.0,     -999.0,9,     -999.0,     -0.020,2,      0.000,2,     99.622,2
09AR20110104,       SR03,      39,          1,          8,          8,2,20110114,       2116,   -60.3480,   139.8470,       4416,  2451.6,   0.8070,  34.7117,2,  34.7113,2,    209.3,2,   209.3,2,  116.50,2,    2.20,2,  2260.4,2,  2358.7,2, -999.00,9,   31.51,2,   0.6528,     -999.0,     -999.0,9,     -999.0,     -0.020,2,      0.000,2,     99.624,2
09AR20110104,       SR03,      39,          1,          7,          7,2,20110114,       2116,   -60.3480,   139.8470,       4416,  2801.0,   0.5644,  34.6988,2,  34.6969,2,    213.6,2,   213.6,2,  121.80,2,    2.23,2,  -999.0,9,  -999.0,9, -999.00,9,   31.83,2,   0.3856,     -999.0,     -999.0,9,     -999.0,     -0.018,2,      0.000,2,     99.635,2
09AR20110104,       SR03,      39,          1,          6,          6,2,20110114,       2116,   -60.3480,   139.8470,       4416,  3100.1,   0.3974,  34.6907,2,  34.6898,2,    217.7,2,   217.9,2,  124.40,2,    2.24,2,  2260.7,2,  2359.3,6, -999.00,9,   31.95,2,   0.1961,     -999.0,     -999.0,9,     -999.0,     -0.022,2,      0.000,2,     99.633,2
09AR20110104,       SR03,      39,          1,          5,          5,2,20110114,       2116,   -60.3480,   139.8470,       4416,  3398.3,   0.2808,  34.6857,2,  34.6844,2,    221.4,2,   221.7,2,  126.90,2,    2.24,2,  2257.8,2,  2356.8,2, -999.00,9,   32.01,2,   0.0551,     -999.0,     -999.0,9,     -999.0,     -0.025,2,      0.000,2,     99.629,2
09AR20110104,       SR03,      39,          1,          4,          4,2,20110114,       2116,   -60.3480,   139.8470,       4416,  3749.8,   0.1699,  34.6813,2,  34.6792,2,    225.8,2,   225.8,2,  130.00,2,    2.24,2,  2259.9,2,  2357.8,2, -999.00,9,   32.01,2,  -0.0864,     -999.0,     -999.0,9,     -999.0,     -0.025,2,      0.000,2,     99.614,2
09AR20110104,       SR03,      39,          1,          3,          3,2,20110114,       2116,   -60.3480,   139.8470,       4416,  4100.5,   0.0442,  34.6735,2,  34.6719,2,    231.5,2,   230.9,2,  128.30,2,    2.23,2,  2258.9,2,  2355.7,2, -999.00,9,   31.93,2,  -0.2434,     -999.0,     -999.0,9,     -999.0,     -0.021,2,      0.000,2,     99.604,2
09AR20110104,       SR03,      39,          1,          2,        102,2,20110114,       2116,   -60.3480,   139.8470,       4416,  4349.6,  -0.0605,  34.6637,2,  34.6626,2,    236.6,2,   236.1,2,  122.60,2,    2.22,2,  -999.0,9,  -999.0,9, -999.00,9,   31.75,2,  -0.3705,     -999.0,     -999.0,9,     -999.0,     -0.024,2,      0.000,2,     99.516,2
09AR20110104,       SR03,      39,          1,          1,          1,2,20110114,       2116,   -60.3480,   139.8470,       4416,  4494.6,  -0.1373,  34.6561,2,  34.6547,2,    240.3,2,   239.7,2,  121.20,2,    2.21,2,  2257.4,6,  2351.2,6, -999.00,9,   31.65,2,  -0.4601,     -999.0,     -999.0,9,     -999.0,     -0.021,2,      0.000,2,     99.254,2