BOTTLE,20230419CCHSIOENA
EXPOCODE,SECT_ID,STNNBR,CASTNO,SAMPNO,BTLNBR,BTLNBR_FLAG_W,DATE,TIME,LATITUDE,LONGITUDE,DEPTH,CTDPRS,CTDTMP,CTDSAL,CTDSAL_FLAG_W,SALNTY,SALNTY_FLAG_W,CTDOXY,CTDOXY_FLAG_W,OXYGEN,OXYGEN_FLAG_W,SILCAT,SILCAT_FLAG_W,PHSPHT,PHSPHT_FLAG_W,TCARBN,TCARBN_FLAG_W,ALKALI,ALKALI_FLAG_W,DELO18,DELO18_FLAG_W,NO2+NO3,NO2+NO3_FLAG_W,THETA,O18ERR,DELD,DELD_FLAG_W,DELDERR,CTDFLUOR,CTDFLUOR_FLAG_W,PAR,PAR_FLAG_W,CTDXMISS,CTDXMISS_FLAG_W
,,,,,,,,,,,METERS,DBAR,ITS-90,PSS-78,,PSS-78,,UMOL/KG,,UMOL/KG,,UMOL/KG,,UMOL/KG,,UMOL/KG,,UMOL/KG,,/MILLE,,UMOL/KG,,DEG C,/MILLE,/MILLE,,/MILLE,MG/M^3,,UMOL/M^2/SEC,,%TRANS,
09AR20110104,       SR03,      24,          1,         24,         24,2,20110110,       2010,   -52.2147,   142.6480,       3478,    51.8,   4.3135,  33.8558,2,  33.8564,2,    318.6,2,  -999.0,9,    2.20,2,    1.57,2,  2128.1,6,  2274.6,6, -999.00,9,   23.53,2,   4.3099,     -999.0,     -999.0,9,     -999.0,      1.111,2,     10.859,2,     96.493,2
09AR20110104,       SR03,      24,          1,         23,         23,2,20110110,       2010,   -52.2147,   142.6480,       3478,    51.8,   4.3236,  33.8551,2,  33.8562,2,    318.6,2,   319.4,2,    2.30,2,    1.56,2,  2128.5,2,  2273.0,2, -999.00,9,   23.52,2,   4.3200,     -999.0,     -999.0,9,     -999.0,      1.195,2,     10.349,2,     96.467,2
09AR20110104,       SR03,      24,          1,         22,         22,2,20110110,       2010,   -52.2147,   142.6480,       3478,   101.0,   3.7697,  33.8690,2,  33.8703,2,    315.9,2,   317.9,2,    5.20,2,    1.67,2,  2135.4,2,  2280.3,2, -999.00,9,   24.13,2,   3.7630,     -999.0,     -999.0,9,     -999.0,      1.688,2,      0.837,2,     96.873,2
09AR20110104,       SR03,      24,          1,         21,         21,2,20110110,       2010,   -52.2147,   142.6480,       3478,   149.5,   2.6703,  33.9224,2,  33.9240,2,    309.7,2,   314.6,2,   14.00,2,    1.80,2,  2150.8,2,  2277.5,6, -999.00,9,   26.62,2,   2.6617,     -999.0,     -999.0,9,     -999.0,      0.078,2,      0.044,2,     99.048,2
09AR20110104,       SR03,      24,          1,         20,         20,2,20110110,       2010,   -52.2147,   142.6480,       3478,   199.7,   2.9958,  33.9950,2,  33.9978,2,    305.5,2,   297.6,2,   16.90,2,    1.83,2,  2158.3,2,  2279.4,2, -999.00,9,   27.25,2,   2.9837,     -999.0,     -999.0,9,     -999.0,      0.008,2,      0.000,2,     99.341,2
09AR20110104,       SR03,      24,          1,         19,         19,2,20110110,       2010,   -52.2147,   142.6480,       3478,   253.0,   3.6213,  34.1418,2,  34.1417,2,    255.7,2,   255.8,2,   22.90,2,    1.93,2,  2177.7,2,  2284.3,2, -999.00,9,   28.97,2,   3.6045,     -999.0,     -999.0,9,     -999.0,     -0.008,2,      0.000,2,     99.312,2
09AR20110104,       SR03,      24,          1,         18,         18,2,20110110,       2010,   -52.2147,   142.6480,       3478,   302.5,   3.2098,  34.1551,2,  34.1576,2,    254.4,2,   250.8,2,   27.70,2,    2.02,2,  2186.1,2,  2287.2,2, -999.00,9,   29.97,2,   3.1906,     -999.0,     -999.0,9,     -999.0,     -0.010,2,      0.000,2,     99.296,2
09AR20110104,       SR03,      24,          1,         17,         17,2,20110110,       2010,   -52.2147,   142.6480,       3478,   400.3,   2.7259,  34.2151,2,  34.3327,3,    236.2,2,   234.9,2,   38.10,2,    2.16,2,  2204.7,2,  2296.1,2, -999.00,9,   31.76,2,   2.7017,     -999.0,     -999.0,9,     -999.0,     -0.011,2,      0.000,2,     99.524,2
09AR20110104,       SR03,      24,          1,         16,         16,2,20110110,       2010,   -52.2147,   142.6480,       3478,   501.0,   2.6663,  34.3091,2,  34.3083,2,    215.8,2,   212.5,2,   48.20,2,    2.26,2,  -999.0,9,  -999.0,9, -999.00,9,   33.02,2,   2.6358,     -999.0,     -999.0,9,     -999.0,     -0.010,2,      0.000,2,     99.579,2
09AR20110104,       SR03,      24,          1,         15,         15,2,20110110,       2010,   -52.2147,   142.6480,       3478,   600.3,   2.5475,  34.3761,2,  34.3766,2,    196.1,2,   195.3,2,   56.40,2,    2.30,2,  2233.1,2,  2314.4,2, -999.00,9,   33.96,2,   2.5109,     -999.0,     -999.0,9,     -999.0,     -0.011,2,      0.000,2,     99.590,2
09AR20110104,       SR03,      24,          1,         14,         14,2,20110110,       2010,   -52.2147,   142.6480,       3478,   699.5,   2.5463,  34.4530,2,  34.4499,2,    183.0,2,   183.6,2,   62.70,2,    2.33,2,  -999.0,9,  -999.0,9, -999.00,9,   34.18,2,   2.5030,     -999.0,     -999.0,9,     -999.0,     -0.006,2,      0.000,2,     99.589,2
09AR20110104,       SR03,      24,          1,         13,         13,2,20110110,       2010,   -52.2147,   142.6480,       3478,   799.2,   2.5978,  34.5283,2,  34.5280,2,    176.3,2,   176.2,2,   67.40,2,    2.33,2,  2248.2,2,  2328.2,2, -999.00,9,   33.70,2,   2.5473,     -999.0,     -999.0,9,     -999.0,     -0.003,2,      0.000,2,     99.620,2
09AR20110104,       SR03,      24,          1,         12,         12,2,20110110,       2010,   -52.2147,   142.6480,       3478,   901.0,   2.4519,  34.5762,2,  34.5761,2,    174.1,2,   176.5,2,   72.00,2,    2.29,2,  -999.0,9,  -999.0,9, -999.00,9,   33.69,2,   2.3952,     -999.0,     -999.0,9,     -999.0,     -0.007,2,      0.000,2,     99.663,2
09AR20110104,       SR03,      24,          1,         11,         11,2,20110110,       2010,   -52.2147,   142.6480,       3478,  1002.0,   2.4006,  34.6205,2,  34.6203,2,    174.3,2,   174.5,2,   74.40,2,    2.25,2,  -999.0,9,  -999.0,9, -999.00,9,   32.99,2,   2.3371,     -999.0,     -999.0,9,     -999.0,     -0.005,2,      0.000,2,     99.682,2
09AR20110104,       SR03,      24,          1,         10,         10,2,20110110,       2010,   -52.2147,   142.6480,       3478,  1204.4,   2.3217,  34.6828,2,  34.6818,2,    180.2,2,   181.1,2,   77.00,2,    2.16,2,  -999.0,9,  -999.0,9, -999.00,9,   31.94,2,   2.2440,     -999.0,     -999.0,9,     -999.0,     -0.007,2,      0.000,2,     99.711,2
09AR20110104,       SR03,      24,          1,          9,          9,2,20110110,       2010,   -52.2147,   142.6480,       3478,  1399.7,   2.2129,  34.7170,2,  34.7168,2,    185.0,2,   185.2,2,   79.60,2,    2.12,2,  -999.0,9,  -999.0,9, -999.00,9,   30.91,2,   2.1215,     -999.0,     -999.0,9,     -999.0,     -0.006,2,      0.000,2,     99.716,2
09AR20110104,       SR03,      24,          1,          8,          8,2,20110110,       2010,   -52.2147,   142.6480,       3478,  1702.6,   1.9917,  34.7411,2,  34.7404,2,    189.0,2,   189.0,2,   88.70,2,    2.11,2,  -999.0,9,  -999.0,9, -999.00,9,   30.69,2,   1.8793,     -999.0,     -999.0,9,     -999.0,     -0.011,2,      0.000,2,     99.741,2
09AR20110104,       SR03,      24,          1,          7,          7,2,20110110,       2010,   -52.2147,   142.6480,       3478,  1900.8,   1.8159,  34.7462,2,  34.7463,2,    195.6,2,   195.4,2,   90.80,2,    2.07,2,  2250.6,2,  2354.5,2, -999.00,9,   30.23,2,   1.6900,     -999.0,     -999.0,9,     -999.0,     -0.012,2,      0.000,2,     99.759,2
09AR20110104,       SR03,      24,          1,          6,          6,2,20110110,       2010,   -52.2147,   142.6480,       3478,  2204.4,   1.4410,  34.7368,2,  34.7357,2,    199.7,2,   200.0,2,  102.60,2,    2.11,2,  -999.0,9,  -999.0,9, -999.00,9,   30.79,2,   1.2960,     -999.0,     -999.0,9,     -999.0,     -0.012,2,      0.000,2,     99.781,2
09AR20110104,       SR03,      24,          1,          5,          5,2,20110110,       2010,   -52.2147,   142.6480,       3478,  2500.2,   1.1928,  34.7261,2,  34.7247,2,    203.0,2,   202.9,2,  110.70,2,    2.15,2,  -999.0,9,  -999.0,9, -999.00,9,   31.13,2,   1.0273,     -999.0,     -999.0,9,     -999.0,     -0.013,2,      0.000,2,     99.768,2
09AR20110104,       SR03,      24,          1,          4,          4,2,20110110,       2010,   -52.2147,   142.6480,       3478,  2799.3,   1.1106,  34.7218,2,  34.7209,2,    204.4,2,   204.4,2,  113.40,2,    2.16,2,  -999.0,9,  -999.0,9, -999.00,9,   31.35,2,   0.9205,     -999.0,     -999.0,9,     -999.0,     -0.015,2,      0.000,2,     99.739,2
09AR20110104,       SR03,      24,          1,          3,          3,2,20110110,       2010,   -52.2147,   142.6480,       3478,  3100.9,   1.0544,  34.7183,2,  34.7164,2,    205.2,2,   205.3,2,  115.60,2,    2.17,2,  -999.0,9,  -999.0,9, -999.00,9,   31.34,2,   0.8378,     -999.0,     -999.0,9,     -999.0,     -0.013,2,      0.000,2,     99.703,2
09AR20110104,       SR03,      24,          1,          2,        102,2,20110110,       2010,   -52.2147,   142.6480,       3478,  3399.6,   1.0213,  34.7157,2,  34.7144,2,    205.7,2,   206.3,2,  117.40,2,    2.17,2,  -999.0,9,  -999.0,9, -999.00,9,   31.58,2,   0.7769,     -999.0,     -999.0,9,     -999.0,     -0.013,2,      0.000,2,     99.663,2
09AR20110104,       SR03,      24,          1,          1,          1,2,20110110,       2010,   -52.2147,   142.6480,       3478,  3524.5,   0.9870,  34.7136,2,  34.7115,2,    206.8,2,   207.1,2,  118.80,2,    2.18,2,  -999.0,9,  -999.0,9, -999.00,9,   31.57,2,   0.7312,     -999.0,     -999.0,9,     -999.0,     -0.016,2,      0.000,2,     99.620,2
09AR20110104,       SR03,      25,          1,         24,         24,2,20110111,       0332,   -52.6667,   142.3870,       3373,     8.8,   5.7321,  33.7950,2,  33.7957,2,    318.0,2,   318.0,2,    0.70,2,    1.51,2,  2116.8,6,  2271.3,6, -999.00,9,   23.11,2,   5.7314,     -999.0,     -999.0,9,     -999.0,      0.466,2,     39.629,2,     95.613,2
09AR20110104,       SR03,      25,          1,         23,         23,2,20110111,       0332,   -52.6667,   142.3870,       3373,    33.9,   4.9433,  33.8048,2,  33.8057,2,    317.3,2,   322.8,2,    0.70,2,    1.51,2,  2121.2,2,  2273.0,2, -999.00,9,   23.31,2,   4.9408,     -999.0,     -999.0,9,     -999.0,      1.245,2,     20.649,2,     95.403,2
09AR20110104,       SR03,      25,          1,         22,         22,2,20110111,       0332,   -52.6667,   142.3870,       3373,    73.7,   3.5375,  33.8224,2,  33.8270,2,    323.4,2,   324.3,2,    5.20,2,    1.77,2,  2133.3,2,  2273.3,2, -999.00,9,   24.54,2,   3.5328,     -999.0,     -999.0,9,     -999.0,      5.450,2,      2.444,2,     93.116,2
09AR20110104,       SR03,      25,          1,         21,         21,2,20110111,       0332,   -52.6667,   142.3870,       3373,   123.0,   2.3451,  33.8425,2,  33.8501,2,    324.6,2,   326.4,2,   12.60,2,    1.85,2,  2145.1,2,  2275.8,2, -999.00,9,   25.79,2,   2.3384,     -999.0,     -999.0,9,     -999.0,      0.343,2,      0.113,2,     98.568,2
09AR20110104,       SR03,      25,          1,         20,         20,2,20110111,       0332,   -52.6667,   142.3870,       3373,   209.1,   1.6986,  33.9577,2,  33.9603,2,    316.4,2,   301.9,2,   22.30,2,    1.98,2,  2166.9,2,  2283.4,2, -999.00,9,   29.04,2,   1.6881,     -999.0,     -999.0,9,     -999.0,      0.002,2,      0.000,2,     99.463,2
09AR20110104,       SR03,      25,          1,         19,         19,2,20110111,       0332,   -52.6667,   142.3870,       3373,   299.3,   2.5333,  34.2080,2,  34.2094,2,    237.6,2,   234.8,2,   39.60,2,    2.21,2,  2204.4,2,  2295.1,2, -999.00,9,   32.23,2,   2.5159,     -999.0,     -999.0,9,     -999.0,     -0.008,2,      0.000,2,     99.404,2
09AR20110104,       SR03,      25,          1,         18,         18,2,20110111,       0332,   -52.6667,   142.3870,       3373,   399.4,   2.5260,  34.3109,2,  34.3111,2,    209.6,2,   209.1,2,   49.70,2,    2.30,2,  2223.1,2,  2307.9,2, -999.00,9,   33.41,2,   2.5024,     -999.0,     -999.0,9,     -999.0,     -0.009,2,      0.000,2,     99.511,2
09AR20110104,       SR03,      25,          1,         17,         17,2,20110111,       0332,   -52.6667,   142.3870,       3373,   499.6,   2.5145,  34.3939,2,  34.3931,2,    192.0,2,   191.6,2,   58.00,2,    2.34,2,  2234.6,2,  2315.3,2, -999.00,9,   34.13,2,   2.4846,     -999.0,     -999.0,9,     -999.0,     -0.010,2,      0.000,2,     99.569,2
09AR20110104,       SR03,      25,          1,         16,         16,2,20110111,       0332,   -52.6667,   142.3870,       3373,   599.2,   2.4229,  34.4565,2,  34.4573,2,    178.9,2,   180.7,2,   64.60,2,    2.37,2,  2242.8,2,  2319.8,6, -999.00,9,   34.61,2,   2.3869,     -999.0,     -999.0,9,     -999.0,     -0.008,2,      0.000,2,     99.606,2
09AR20110104,       SR03,      25,          1,         15,         15,2,20110111,       0332,   -52.6667,   142.3870,       3373,   700.0,   2.4150,  34.5308,2,  34.5305,2,    173.9,2,   173.9,2,   69.60,2,    2.36,2,  2248.9,2,  2325.1,2, -999.00,9,   34.37,2,   2.3723,     -999.0,     -999.0,9,     -999.0,     -0.008,2,      0.000,2,     99.585,2
09AR20110104,       SR03,      25,          1,         14,         14,2,20110111,       0332,   -52.6667,   142.3870,       3373,   797.5,   2.3951,  34.5724,2,  34.5707,2,    172.7,2,   172.4,2,   72.30,2,    2.32,2,  2248.5,2,  2330.9,2, -999.00,9,   33.88,2,   2.3459,     -999.0,     -999.0,9,     -999.0,     -0.005,2,      0.000,2,     99.606,2
09AR20110104,       SR03,      25,          1,         13,         13,2,20110111,       0332,   -52.6667,   142.3870,       3373,   998.1,   2.3308,  34.6597,2,  34.6591,2,    178.0,2,   177.1,2,   75.50,2,    2.23,2,  2251.3,2,  2338.5,2, -999.00,9,   32.44,2,   2.2680,     -999.0,     -999.0,9,     -999.0,     -0.007,2,      0.000,2,     99.674,2
09AR20110104,       SR03,      25,          1,         12,         12,2,20110111,       0332,   -52.6667,   142.3870,       3373,  1201.1,   2.2383,  34.7048,2,  34.7041,2,    184.6,2,   183.5,2,   77.50,2,    2.15,2,  2248.2,6,  2341.8,6, -999.00,9,   31.26,2,   2.1616,     -999.0,     -999.0,9,     -999.0,     -0.008,2,      0.000,2,     99.706,2
09AR20110104,       SR03,      25,          1,         11,         11,2,20110111,       0332,   -52.6667,   142.3870,       3373,  1399.1,   2.1077,  34.7335,2,  34.7330,2,    188.5,2,   189.8,2,   81.00,2,    2.11,2,  2246.1,2,  2346.1,2, -999.00,9,   30.57,2,   2.0175,     -999.0,     -999.0,9,     -999.0,     -0.008,2,      0.000,2,     99.704,2
09AR20110104,       SR03,      25,          1,         10,         10,2,20110111,       0332,   -52.6667,   142.3870,       3373,  1598.7,   1.9417,  34.7447,2,  34.7444,2,    192.6,2,   192.7,2,   86.50,2,    2.10,2,  2247.4,2,  2351.2,2, -999.00,9,   30.34,2,   1.8381,     -999.0,     -999.0,9,     -999.0,     -0.011,2,      0.000,2,     99.723,2
09AR20110104,       SR03,      25,          1,          9,          9,2,20110111,       0332,   -52.6667,   142.3870,       3373,  1799.0,   1.7818,  34.7458,2,  34.7451,2,    196.2,2,   195.1,2,   91.40,2,    2.10,2,  2251.2,2,  2354.2,2, -999.00,9,   30.34,2,   1.6646,     -999.0,     -999.0,9,     -999.0,     -0.009,2,      0.000,2,     99.736,2
09AR20110104,       SR03,      25,          1,          8,          8,2,20110111,       0332,   -52.6667,   142.3870,       3373,  1999.5,   1.5870,  34.7421,2,  34.7416,2,    198.2,2,   198.4,2,   96.70,2,    2.12,2,  2252.3,2,  2361.7,2, -999.00,9,   30.55,2,   1.4565,     -999.0,     -999.0,9,     -999.0,     -0.011,2,      0.000,2,     99.748,2
09AR20110104,       SR03,      25,          1,          7,          7,2,20110111,       0332,   -52.6667,   142.3870,       3373,  2199.9,   1.4267,  34.7361,2,  34.7350,2,    200.4,2,   200.1,2,  102.40,2,    2.15,2,  2256.1,2,  2360.3,2, -999.00,9,   30.78,2,   1.2823,     -999.0,     -999.0,9,     -999.0,     -0.013,2,      0.000,2,     99.744,2
09AR20110104,       SR03,      25,          1,          6,          6,2,20110111,       0332,   -52.6667,   142.3870,       3373,  2399.9,   1.2664,  34.7301,2,  34.7293,2,    203.4,2,   203.3,2,  105.90,2,    2.15,2,  2255.8,2,  2358.0,2, -999.00,9,   30.88,2,   1.1081,     -999.0,     -999.0,9,     -999.0,     -0.012,2,      0.000,2,     99.741,2
09AR20110104,       SR03,      25,          1,          5,          5,2,20110111,       0332,   -52.6667,   142.3870,       3373,  2599.4,   1.1529,  34.7247,2,  34.7236,2,    204.3,2,   204.0,2,  110.40,2,    2.17,2,  2258.3,2,  2361.0,2, -999.00,9,   31.23,2,   0.9796,     -999.0,     -999.0,9,     -999.0,     -0.012,2,      0.000,2,     99.724,2
09AR20110104,       SR03,      25,          1,          4,          4,2,20110111,       0332,   -52.6667,   142.3870,       3373,  2799.0,   1.0583,  34.7198,2,  34.7188,2,    205.9,2,   205.0,2,  114.10,2,    2.18,2,  2261.3,2,  2361.8,2, -999.00,9,   31.45,2,   0.8693,     -999.0,     -999.0,9,     -999.0,     -0.013,2,      0.000,2,     99.686,2
09AR20110104,       SR03,      25,          1,          3,          3,2,20110111,       0332,   -52.6667,   142.3870,       3373,  2999.9,   0.9975,  34.7164,2,  34.7149,2,    206.5,2,   206.1,2,  116.50,2,    2.19,2,  2261.2,2,  2364.2,2, -999.00,9,   31.44,2,   0.7916,     -999.0,     -999.0,9,     -999.0,     -0.012,2,      0.000,2,     99.658,2
09AR20110104,       SR03,      25,          1,          2,        102,2,20110111,       0332,   -52.6667,   142.3870,       3373,  3199.1,   0.9563,  34.7137,2,  34.7123,2,    207.1,2,   207.2,2,  117.90,2,    2.20,2,  -999.0,9,  -999.0,9, -999.00,9,   31.43,2,   0.7328,     -999.0,     -999.0,9,     -999.0,     -0.017,2,      0.000,2,     99.612,2
09AR20110104,       SR03,      25,          1,          1,          1,2,20110111,       0332,   -52.6667,   142.3870,       3373,  3416.7,   0.9315,  34.7116,2,  34.7103,2,    207.4,2,   207.6,2,  119.30,2,    2.20,2,  2260.2,6,  2364.4,6, -999.00,9,   31.66,2,   0.6877,     -999.0,     -999.0,9,     -999.0,     -0.017,2,      0.000,2,     99.539,2