BOTTLE,20230419CCHSIOENA
EXPOCODE,SECT_ID,STNNBR,CASTNO,SAMPNO,BTLNBR,BTLNBR_FLAG_W,DATE,TIME,LATITUDE,LONGITUDE,DEPTH,CTDPRS,CTDTMP,CTDSAL,CTDSAL_FLAG_W,SALNTY,SALNTY_FLAG_W,CTDOXY,CTDOXY_FLAG_W,OXYGEN,OXYGEN_FLAG_W,SILCAT,SILCAT_FLAG_W,PHSPHT,PHSPHT_FLAG_W,TCARBN,TCARBN_FLAG_W,ALKALI,ALKALI_FLAG_W,DELO18,DELO18_FLAG_W,NO2+NO3,NO2+NO3_FLAG_W,THETA,O18ERR,DELD,DELD_FLAG_W,DELDERR,CTDFLUOR,CTDFLUOR_FLAG_W,PAR,PAR_FLAG_W,CTDXMISS,CTDXMISS_FLAG_W
,,,,,,,,,,,METERS,DBAR,ITS-90,PSS-78,,PSS-78,,UMOL/KG,,UMOL/KG,,UMOL/KG,,UMOL/KG,,UMOL/KG,,UMOL/KG,,/MILLE,,UMOL/KG,,DEG C,/MILLE,/MILLE,,/MILLE,MG/M^3,,UMOL/M^2/SEC,,%TRANS,
09AR20110104,       SR03,      14,          1,         24,         24,2,20110108,       1051,   -48.7855,   144.3590,       4143,     7.6,   9.0129,  34.4011,2,  34.4029,2,    287.9,2,   290.1,2,    1.30,2,    0.99,2,  2100.9,6,  2288.5,6, -999.00,9,   13.96,2,   9.0121,     -999.0,     -999.0,9,     -999.0,      2.643,2,      0.000,2,     94.607,2
09AR20110104,       SR03,      14,          1,         23,         23,2,20110108,       1051,   -48.7855,   144.3590,       4143,    51.9,   9.0013,  34.5354,2,  34.5352,2,    286.1,2,   277.9,2,    2.80,2,    1.00,2,  2111.1,2,  2292.0,2, -999.00,9,   14.01,2,   8.9957,     -999.0,     -999.0,9,     -999.0,      1.571,2,      0.000,2,     96.987,2
09AR20110104,       SR03,      14,          1,         22,         22,2,20110108,       1051,   -48.7855,   144.3590,       4143,   101.7,   9.1380,  34.6170,2,  34.6183,2,    269.2,2,   269.9,2,    4.20,2,    1.03,2,  2116.9,2,  2292.8,2, -999.00,9,   14.31,2,   9.1270,     -999.0,     -999.0,9,     -999.0,      0.048,2,      0.000,2,     99.173,2
09AR20110104,       SR03,      14,          1,         21,         21,2,20110108,       1051,   -48.7855,   144.3590,       4143,   151.2,   8.9075,  34.5782,2,  34.5786,2,    268.3,2,   269.9,2,    4.50,2,    1.06,2,  2119.7,2,  2290.3,2, -999.00,9,   14.97,2,   8.8913,     -999.0,     -999.0,9,     -999.0,      0.011,2,      0.000,2,     99.300,2
09AR20110104,       SR03,      14,          1,         20,         20,2,20110108,       1051,   -48.7855,   144.3590,       4143,   251.9,   8.7381,  34.5658,2,  34.5644,2,    269.2,2,   266.7,2,    4.70,2,    1.10,2,  2122.8,2,  2290.2,2, -999.00,9,   15.58,2,   8.7113,     -999.0,     -999.0,9,     -999.0,     -0.009,2,      0.000,2,     99.398,2
09AR20110104,       SR03,      14,          1,         19,         19,2,20110108,       1051,   -48.7855,   144.3590,       4143,   401.8,   8.7654,  34.5821,2,  34.5825,2,    265.6,2,   266.2,2,    4.50,2,    1.09,2,  2121.6,2,  2292.9,2, -999.00,9,   15.26,2,   8.7222,     -999.0,     -999.0,9,     -999.0,     -0.008,2,      0.000,2,     99.432,2
09AR20110104,       SR03,      14,          1,         18,         18,2,20110108,       1051,   -48.7855,   144.3590,       4143,   550.9,   7.4140,  34.3694,2,  34.3657,2,    258.6,2,   267.6,2,    6.60,2,    1.34,2,  2130.5,2,  2284.5,2, -999.00,9,   19.18,2,   7.3599,     -999.0,     -999.0,9,     -999.0,      0.012,2,      0.000,2,     99.537,2
09AR20110104,       SR03,      14,          1,         17,         17,2,20110108,       1051,   -48.7855,   144.3590,       4143,   701.7,   6.7119,  34.3743,2,  34.3749,2,    230.8,2,   229.5,2,   12.80,2,    1.62,2,  2156.6,2,  2284.6,2, -999.00,9,   23.69,2,   6.6460,     -999.0,     -999.0,9,     -999.0,     -0.009,2,      0.000,2,     99.621,2
09AR20110104,       SR03,      14,          1,         16,         16,2,20110108,       1051,   -48.7855,   144.3590,       4143,   851.1,   5.4906,  34.3274,2,  34.3267,2,    223.2,2,   219.4,2,   19.80,2,    1.86,2,  2175.4,2,  2287.8,2, -999.00,9,   27.09,2,   5.4177,     -999.0,     -999.0,9,     -999.0,     -0.012,2,      0.000,2,     99.686,2
09AR20110104,       SR03,      14,          1,         15,         15,2,20110108,       1051,   -48.7855,   144.3590,       4143,  1003.1,   4.1731,  34.3045,2,  34.3049,2,    211.6,2,   213.8,2,   31.10,2,    2.07,2,  -999.0,9,  -999.0,9, -999.00,9,   30.02,2,   4.0962,     -999.0,     -999.0,9,     -999.0,     -0.009,2,      0.000,2,     99.857,2
09AR20110104,       SR03,      14,          1,         14,         14,2,20110108,       1051,   -48.7855,   144.3590,       4143,  1201.6,   3.3286,  34.3523,2,  34.3513,2,    199.1,2,   199.9,2,   44.90,2,    2.23,2,  2217.1,2,  2310.8,2, -999.00,9,   32.28,2,   3.2424,     -999.0,     -999.0,9,     -999.0,     -0.008,2,      0.000,2,     99.914,2
09AR20110104,       SR03,      14,          1,         13,         13,2,20110108,       1051,   -48.7855,   144.3590,       4143,  1401.0,   2.9996,  34.4631,2,  34.4632,2,    182.1,2,   179.5,2,   60.10,2,    2.33,2,  -999.0,9,  -999.0,9, -999.00,9,   33.56,2,   2.9002,     -999.0,     -999.0,9,     -999.0,      0.003,2,      0.000,2,     99.890,2
09AR20110104,       SR03,      14,          1,         12,         12,2,20110108,       1051,   -48.7855,   144.3590,       4143,  1600.0,   2.7511,  34.5461,2,  34.5462,2,    176.4,2,   172.6,2,   68.90,2,    2.33,2,  -999.0,9,  -999.0,9, -999.00,9,   33.54,2,   2.6380,     -999.0,     -999.0,9,     -999.0,     -0.004,2,      0.000,2,     99.955,2
09AR20110104,       SR03,      14,          1,         11,         11,2,20110108,       1051,   -48.7855,   144.3590,       4143,  1800.7,   2.5770,  34.6191,2,  34.6213,2,    172.0,2,   172.9,2,   74.00,2,    2.30,2,  2252.8,2,  2338.8,6, -999.00,9,   32.84,2,   2.4490,     -999.0,     -999.0,9,     -999.0,     -0.005,2,      0.000,2,     99.967,2
09AR20110104,       SR03,      14,          1,         10,         10,2,20110108,       1051,   -48.7855,   144.3590,       4143,  1998.8,   2.4158,  34.6754,2,  34.6765,2,    173.9,2,   173.4,2,   81.80,2,    2.27,2,  -999.0,9,  -999.0,9, -999.00,9,   32.30,2,   2.2730,     -999.0,     -999.0,9,     -999.0,     -0.004,2,      0.000,2,     99.969,2
09AR20110104,       SR03,      14,          1,          9,          9,2,20110108,       1051,   -48.7855,   144.3590,       4143,  2253.3,   2.2697,  34.7134,2,  34.7128,2,    177.7,2,   175.5,2,   89.00,2,    2.24,2,  -999.0,9,  -999.0,9, -999.00,9,   31.87,2,   2.1067,     -999.0,     -999.0,9,     -999.0,     -0.005,2,      0.000,2,     99.982,2
09AR20110104,       SR03,      14,          1,          8,          8,2,20110108,       1051,   -48.7855,   144.3590,       4143,  2500.1,   2.0905,  34.7309,2,  34.7307,2,    179.5,2,   178.7,2,   96.20,2,    2.23,2,  -999.0,9,  -999.0,9, -999.00,9,   31.66,2,   1.9082,     -999.0,     -999.0,9,     -999.0,     -0.008,2,      0.000,2,     99.988,2
09AR20110104,       SR03,      14,          1,          7,          7,2,20110108,       1051,   -48.7855,   144.3590,       4143,  2750.6,   1.9424,  34.7375,2,  34.7368,2,    183.2,2,   184.3,2,   99.20,2,    2.21,2,  2265.2,2,  2365.6,2, -999.00,9,   31.32,2,   1.7396,     -999.0,     -999.0,9,     -999.0,     -0.008,2,      0.000,2,     99.990,2
09AR20110104,       SR03,      14,          1,          6,          6,2,20110108,       1051,   -48.7855,   144.3590,       4143,  2999.6,   1.7836,  34.7392,2,  34.7399,2,    190.4,2,   189.8,2,  101.70,2,    2.18,2,  -999.0,9,  -999.0,9, -999.00,9,   31.10,2,   1.5602,     -999.0,     -999.0,9,     -999.0,     -0.008,2,      0.000,2,     99.996,2
09AR20110104,       SR03,      14,          1,          5,          5,2,20110108,       1051,   -48.7855,   144.3590,       4143,  3250.5,   1.5475,  34.7364,2,  34.7359,2,    197.6,2,   197.8,2,  104.60,2,    2.17,2,  -999.0,9,  -999.0,9, -999.00,9,   30.84,2,   1.3049,     -999.0,     -999.0,9,     -999.0,     -0.003,2,      0.000,2,    100.013,2
09AR20110104,       SR03,      14,          1,          4,          4,2,20110108,       1051,   -48.7855,   144.3590,       4143,  3499.4,   1.3664,  34.7292,2,  34.7298,2,    201.1,2,   200.9,2,  110.10,2,    2.19,2,  -999.0,9,  -999.0,9, -999.00,9,   31.10,2,   1.1034,     -999.0,     -999.0,9,     -999.0,     -0.003,2,      0.000,2,     99.997,2
09AR20110104,       SR03,      14,          1,          3,          3,2,20110108,       1051,   -48.7855,   144.3590,       4143,  3748.8,   1.1730,  34.7203,2,  34.7196,2,    203.3,2,   203.1,2,  115.40,2,    2.21,2,  -999.0,9,  -999.0,9, -999.00,9,   31.39,2,   0.8895,     -999.0,     -999.0,9,     -999.0,     -0.002,2,      0.000,2,     99.968,2
09AR20110104,       SR03,      14,          1,          2,        102,2,20110108,       1051,   -48.7855,   144.3590,       4143,  3998.6,   1.0920,  34.7158,2,  34.7145,2,    203.1,2,   203.4,2,  119.30,2,    2.24,2,  -999.0,9,  -999.0,9, -999.00,9,   31.70,2,   0.7845,     -999.0,     -999.0,9,     -999.0,     -0.010,2,      0.000,2,     99.810,2
09AR20110104,       SR03,      14,          1,          1,          1,2,20110108,       1051,   -48.7855,   144.3590,       4143,  4207.7,   1.1007,  34.7151,2,  34.7142,2,    203.5,2,   203.0,2,  119.70,2,    2.23,2,  -999.0,9,  -999.0,9, -999.00,9,   31.74,2,   0.7704,     -999.0,     -999.0,9,     -999.0,     -0.013,2,      0.000,2,     99.673,2
09AR20110104,       SR03,      15,          1,         24,         24,2,20110108,       1703,   -49.2798,   144.1150,       4398,     6.8,   8.3871,  34.2538,2,  34.2528,2,    294.4,2,   295.1,2,    1.00,2,    1.07,2,  2101.2,6,  2283.0,6, -999.00,9,   15.84,2,   8.3864,     -999.0,     -999.0,9,     -999.0,      2.099,2,     54.039,2,     95.303,2
09AR20110104,       SR03,      15,          1,         23,         23,2,20110108,       1703,   -49.2798,   144.1150,       4398,    51.1,   7.6389,  34.2159,2,  34.2152,2,    297.0,2,   295.1,2,    1.90,2,    1.19,2,  2108.4,2,  2283.2,2, -999.00,9,   16.99,2,   7.6340,     -999.0,     -999.0,9,     -999.0,      1.680,2,      2.090,2,     96.788,2
09AR20110104,       SR03,      15,          1,         22,         22,2,20110108,       1703,   -49.2798,   144.1150,       4398,   100.7,   7.6852,  34.3752,2,  34.3733,2,    280.1,2,   280.2,2,    5.40,2,    1.24,2,  2120.3,2,  2286.2,2, -999.00,9,   17.34,2,   7.6754,     -999.0,     -999.0,9,     -999.0,      0.299,2,      0.072,2,     98.871,2
09AR20110104,       SR03,      15,          1,         21,         21,2,20110108,       1703,   -49.2798,   144.1150,       4398,   149.3,   7.9192,  34.4500,2,  34.4535,2,    271.4,2,   260.6,2,    6.30,2,    1.27,2,  2129.1,2,  2287.3,2, -999.00,9,   18.26,2,   7.9043,     -999.0,     -999.0,9,     -999.0,      0.036,2,      0.000,2,     99.349,2
09AR20110104,       SR03,      15,          1,         20,         20,2,20110108,       1703,   -49.2798,   144.1150,       4398,   199.8,   7.0889,  34.3141,2,  34.3034,2,    281.4,2,   278.3,2,    6.40,2,    1.33,2,  2126.8,2,  2284.5,2, -999.00,9,   19.17,2,   7.0703,     -999.0,     -999.0,9,     -999.0,      0.022,2,      0.000,2,     99.482,2
09AR20110104,       SR03,      15,          1,         19,         19,2,20110108,       1703,   -49.2798,   144.1150,       4398,   300.1,   6.4570,  34.2529,2,  34.2532,2,    272.8,2,   275.9,2,    8.00,2,    1.43,2,  2134.7,2,  2281.8,2, -999.00,9,   20.95,2,   6.4303,     -999.0,     -999.0,9,     -999.0,     -0.003,2,      0.000,2,     99.609,2
09AR20110104,       SR03,      15,          1,         18,         18,2,20110108,       1703,   -49.2798,   144.1150,       4398,   400.7,   5.9191,  34.2364,2,  34.2369,2,    258.8,2,   260.1,2,   11.40,2,    1.59,2,  2147.7,2,  2285.4,2, -999.00,9,   23.38,2,   5.8848,     -999.0,     -999.0,9,     -999.0,     -0.004,2,      0.000,2,     99.699,2
09AR20110104,       SR03,      15,          1,         17,         17,2,20110108,       1703,   -49.2798,   144.1150,       4398,   498.0,   5.3305,  34.2163,2,  34.2177,2,    254.3,2,   254.8,2,   14.20,2,    1.71,2,  2156.4,2,  2285.3,2, -999.00,9,   25.16,2,   5.2898,     -999.0,     -999.0,9,     -999.0,     -0.003,2,      0.000,2,     99.720,2
09AR20110104,       SR03,      15,          1,         16,         16,2,20110108,       1703,   -49.2798,   144.1150,       4398,   601.2,   4.8814,  34.2460,2,  34.2459,2,    237.3,2,   236.2,2,   19.40,2,    1.89,2,  2171.5,2,  2285.0,2, -999.00,9,   27.36,2,   4.8339,     -999.0,     -999.0,9,     -999.0,     -0.003,2,      0.000,2,     99.816,2
09AR20110104,       SR03,      15,          1,         15,         15,2,20110108,       1703,   -49.2798,   144.1150,       4398,   799.6,   4.0282,  34.3063,2,  34.3075,2,    213.6,2,   214.2,2,   33.30,2,    2.09,2,  2196.0,2,  2298.7,2, -999.00,9,   30.46,2,   3.9690,     -999.0,     -999.0,9,     -999.0,     -0.009,2,      0.000,2,     99.883,2
09AR20110104,       SR03,      15,          1,         14,         14,2,20110108,       1703,   -49.2798,   144.1150,       4398,   998.8,   3.2844,  34.3702,2,  34.3701,2,    197.2,2,   196.2,2,   47.90,2,    2.25,2,  2220.1,2,  2311.5,6, -999.00,9,   32.61,2,   3.2146,     -999.0,     -999.0,9,     -999.0,     -0.007,2,      0.000,2,     99.964,2
09AR20110104,       SR03,      15,          1,         13,         13,2,20110108,       1703,   -49.2798,   144.1150,       4398,  1201.2,   2.9114,  34.4607,2,  34.4600,2,    182.4,2,   181.6,2,   59.90,2,    2.33,2,  2238.2,2,  2321.3,2, -999.00,9,   33.43,2,   2.8289,     -999.0,     -999.0,9,     -999.0,     -0.002,2,      0.000,2,     99.985,2
09AR20110104,       SR03,      15,          1,         12,         12,2,20110108,       1703,   -49.2798,   144.1150,       4398,  1400.9,   2.6458,  34.5407,2,  34.5420,2,    175.7,2,   175.9,2,   67.50,2,    2.31,2,  2247.6,6,  2330.7,6, -999.00,9,   33.29,2,   2.5500,     -999.0,     -999.0,9,     -999.0,     -0.003,2,      0.000,2,     99.993,2
09AR20110104,       SR03,      15,          1,         11,         11,2,20110108,       1703,   -49.2798,   144.1150,       4398,  1603.8,   2.5451,  34.6180,2,  34.6180,2,    174.7,2,   175.6,2,   72.90,2,    2.25,2,  2249.4,2,  2338.4,2, -999.00,9,   32.61,2,   2.4340,     -999.0,     -999.0,9,     -999.0,     -0.001,2,      0.000,2,     99.993,2
09AR20110104,       SR03,      15,          1,         10,         10,2,20110108,       1703,   -49.2798,   144.1150,       4398,  1801.7,   2.4024,  34.6820,2,  34.6831,2,    179.9,2,   180.6,2,   76.70,2,    2.20,2,  2248.2,2,  2340.6,6, -999.00,9,   31.61,2,   2.2766,     -999.0,     -999.0,9,     -999.0,     -0.004,2,      0.000,2,    100.023,2
09AR20110104,       SR03,      15,          1,          9,          9,2,20110108,       1703,   -49.2798,   144.1150,       4398,  2000.1,   2.2835,  34.7154,2,  34.7155,2,    183.9,2,   185.2,2,   79.60,2,    2.13,2,  2247.6,2,  2346.2,2, -999.00,9,   30.98,2,   2.1424,     -999.0,     -999.0,9,     -999.0,     -0.003,2,      0.000,2,    100.033,2
09AR20110104,       SR03,      15,          1,          8,          8,2,20110108,       1703,   -49.2798,   144.1150,       4398,  2251.4,   2.1256,  34.7370,2,  34.7369,2,    189.1,2,   187.1,2,   87.80,2,    2.13,2,  2252.3,2,  2352.8,2, -999.00,9,   30.78,2,   1.9651,     -999.0,     -999.0,9,     -999.0,      0.002,2,      0.000,2,    100.037,2
09AR20110104,       SR03,      15,          1,          7,          7,2,20110108,       1703,   -49.2798,   144.1150,       4398,  2500.4,   1.9396,  34.7480,2,  34.7475,2,    194.7,2,   196.0,2,   88.40,2,    2.08,2,  2247.9,2,  2352.0,2, -999.00,9,   30.10,2,   1.7600,     -999.0,     -999.0,9,     -999.0,     -0.003,2,      0.000,2,    100.059,2
09AR20110104,       SR03,      15,          1,          6,          6,2,20110108,       1703,   -49.2798,   144.1150,       4398,  2749.3,   1.6584,  34.7406,2,  34.7410,2,    196.8,2,   194.4,2,  102.40,2,    2.14,2,  2260.6,2,  2363.4,2, -999.00,9,   30.89,2,   1.4614,     -999.0,     -999.0,9,     -999.0,     -0.004,2,      0.000,2,    100.067,2
09AR20110104,       SR03,      15,          1,          5,          5,2,20110108,       1703,   -49.2798,   144.1150,       4398,  2999.5,   1.4256,  34.7340,2,  34.7337,2,    199.3,2,   203.2,2,  106.90,2,    2.15,2,  2258.8,2,  2363.9,2, -999.00,9,   30.88,2,   1.2102,     -999.0,     -999.0,9,     -999.0,     -0.005,2,      0.000,2,    100.088,2
09AR20110104,       SR03,      15,          1,          4,          4,2,20110108,       1703,   -49.2798,   144.1150,       4398,  3399.8,   1.1192,  34.7207,2,  34.7196,2,    204.6,2,   204.1,2,  116.00,2,    2.19,2,  2263.2,2,  2366.5,2, -999.00,9,   31.39,2,   0.8723,     -999.0,     -999.0,9,     -999.0,     -0.003,2,      0.000,2,    100.018,2
09AR20110104,       SR03,      15,          1,          3,          3,2,20110108,       1703,   -49.2798,   144.1150,       4398,  3800.1,   1.0894,  34.7178,2,  34.7172,2,    208.8,2,   209.3,2,  117.70,2,    2.20,2,  2262.7,2,  2367.8,2, -999.00,9,   31.50,2,   0.8028,     -999.0,     -999.0,9,     -999.0,     -0.008,2,      0.000,2,     99.947,2
09AR20110104,       SR03,      15,          1,          2,        102,2,20110108,       1703,   -49.2798,   144.1150,       4398,  4201.1,   1.1149,  34.7168,2,  34.7164,2,    212.8,3,   205.9,3,  118.10,2,    2.19,2,  -999.0,9,  -999.0,9, -999.00,9,   31.52,2,   0.7849,     -999.0,     -999.0,9,     -999.0,     -0.009,2,      0.000,2,     99.884,2
09AR20110104,       SR03,      15,          1,          1,          1,2,20110108,       1703,   -49.2798,   144.1150,       4398,  4472.5,   1.1441,  34.7167,2,  34.7158,2,    215.7,3,   220.1,3,  118.40,2,    2.19,2,  2264.1,6,  2366.1,6, -999.00,9,   31.50,2,   0.7830,     -999.0,     -999.0,9,     -999.0,     -0.005,2,      0.000,2,     99.865,2