BOTTLE,20230419CCHSIOENA
EXPOCODE,SECT_ID,STNNBR,CASTNO,SAMPNO,BTLNBR,BTLNBR_FLAG_W,DATE,TIME,LATITUDE,LONGITUDE,DEPTH,CTDPRS,CTDTMP,CTDSAL,CTDSAL_FLAG_W,SALNTY,SALNTY_FLAG_W,CTDOXY,CTDOXY_FLAG_W,OXYGEN,OXYGEN_FLAG_W,SILCAT,SILCAT_FLAG_W,PHSPHT,PHSPHT_FLAG_W,TCARBN,TCARBN_FLAG_W,ALKALI,ALKALI_FLAG_W,DELO18,DELO18_FLAG_W,NO2+NO3,NO2+NO3_FLAG_W,THETA,O18ERR,DELD,DELD_FLAG_W,DELDERR,CTDFLUOR,CTDFLUOR_FLAG_W,PAR,PAR_FLAG_W,CTDXMISS,CTDXMISS_FLAG_W
,,,,,,,,,,,METERS,DBAR,ITS-90,PSS-78,,PSS-78,,UMOL/KG,,UMOL/KG,,UMOL/KG,,UMOL/KG,,UMOL/KG,,UMOL/KG,,/MILLE,,UMOL/KG,,DEG C,/MILLE,/MILLE,,/MILLE,MG/M^3,,UMOL/M^2/SEC,,%TRANS,
09AR20110104,       SR03,      20,          1,         24,         24,2,20110109,       1810,   -50.6595,   143.4180,       3557,     7.2,   8.7996,  34.2794,2,  34.2783,2,    295.1,2,   293.6,2,    0.60,2,    1.03,2,  2098.9,6,  2284.5,6, -999.00,9,   14.84,2,   8.7988,     -999.0,     -999.0,9,     -999.0,      2.601,2,     33.409,2,     94.294,2
09AR20110104,       SR03,      20,          1,         23,         23,2,20110109,       1810,   -50.6595,   143.4180,       3557,    49.5,   8.3598,  34.2743,2,  34.2738,2,    295.1,2,   294.2,2,    0.90,2,    1.08,2,  2101.3,2,  2284.4,2, -999.00,9,   15.18,2,   8.3548,     -999.0,     -999.0,9,     -999.0,      2.701,2,      1.082,2,     95.655,2
09AR20110104,       SR03,      20,          1,         22,         22,2,20110109,       1810,   -50.6595,   143.4180,       3557,    99.8,   7.2875,  34.2908,2,  34.2929,2,    286.0,2,   286.0,2,    5.50,2,    1.31,2,  2123.8,2,  2284.2,6, -999.00,9,   18.24,2,   7.2781,     -999.0,     -999.0,9,     -999.0,      0.714,2,      0.000,2,     98.102,2
09AR20110104,       SR03,      20,          1,         21,         21,2,20110109,       1810,   -50.6595,   143.4180,       3557,   150.4,   7.0606,  34.2991,2,  34.2987,2,    284.0,2,   285.2,2,    6.20,2,    1.34,2,  2127.8,2,  2281.8,2, -999.00,9,   19.11,2,   7.0467,     -999.0,     -999.0,9,     -999.0,      0.064,2,      0.000,2,     99.237,2
09AR20110104,       SR03,      20,          1,         20,         20,2,20110109,       1810,   -50.6595,   143.4180,       3557,   199.4,   6.7595,  34.2706,2,  34.2687,2,    289.0,2,   280.0,2,    6.60,2,    1.40,2,  2130.7,2,  2283.0,2, -999.00,9,   19.86,2,   6.7414,     -999.0,     -999.0,9,     -999.0,      0.009,2,      0.000,2,     99.364,2
09AR20110104,       SR03,      20,          1,         19,         19,2,20110109,       1810,   -50.6595,   143.4180,       3557,   252.2,   6.4871,  34.2464,2,  34.2448,2,    285.6,2,   282.8,2,    7.20,2,    1.42,2,  2131.9,2,  2283.4,2, -999.00,9,   20.43,2,   6.4647,     -999.0,     -999.0,9,     -999.0,     -0.006,2,      0.000,2,     99.397,2
09AR20110104,       SR03,      20,          1,         18,         18,2,20110109,       1810,   -50.6595,   143.4180,       3557,   298.9,   6.1255,  34.2022,2,  34.2024,2,    280.6,2,   282.8,2,    7.60,2,    1.48,2,  -999.0,9,  -999.0,9, -999.00,9,   21.22,2,   6.0997,     -999.0,     -999.0,9,     -999.0,     -0.008,2,      0.000,2,     99.511,2
09AR20110104,       SR03,      20,          1,         17,         17,2,20110109,       1810,   -50.6595,   143.4180,       3557,   403.4,   5.9951,  34.2666,2,  34.2521,2,    258.4,2,   260.2,2,   10.90,2,    1.60,2,  2146.9,2,  2285.3,2, -999.00,9,   23.35,2,   5.9603,     -999.0,     -999.0,9,     -999.0,     -0.013,2,      0.000,2,     99.523,2
09AR20110104,       SR03,      20,          1,         16,         16,2,20110109,       1810,   -50.6595,   143.4180,       3557,   499.2,   5.4999,  34.2768,2,  34.2762,2,    231.1,2,   236.3,2,   16.40,2,    1.78,2,  -999.0,9,  -999.0,9, -999.00,9,   26.18,2,   5.4584,     -999.0,     -999.0,9,     -999.0,     -0.013,2,      0.000,2,     99.518,2
09AR20110104,       SR03,      20,          1,         15,         15,2,20110109,       1810,   -50.6595,   143.4180,       3557,   601.3,   4.8122,  34.2754,2,  34.2750,2,    229.4,2,   228.6,2,   21.90,2,    1.93,2,  2179.3,2,  2290.1,2, -999.00,9,   28.32,2,   4.7649,     -999.0,     -999.0,9,     -999.0,     -0.014,2,      0.000,2,     99.653,2
09AR20110104,       SR03,      20,          1,         14,         14,2,20110109,       1810,   -50.6595,   143.4180,       3557,   702.3,   4.0503,  34.2521,2,  34.2528,2,    226.6,2,   228.3,2,   27.30,2,    2.03,2,  -999.0,9,  -999.0,9, -999.00,9,   29.83,2,   3.9988,     -999.0,     -999.0,9,     -999.0,     -0.015,2,      0.000,2,     99.710,2
09AR20110104,       SR03,      20,          1,         13,         13,2,20110109,       1810,   -50.6595,   143.4180,       3557,   798.5,   3.5444,  34.2552,2,  34.2581,2,    227.4,2,   224.9,2,   32.90,2,    2.13,2,  2198.7,2,  2297.4,2, -999.00,9,   31.01,2,   3.4884,     -999.0,     -999.0,9,     -999.0,     -0.015,2,      0.000,2,     99.733,2
09AR20110104,       SR03,      20,          1,         12,         12,2,20110109,       1810,   -50.6595,   143.4180,       3557,   899.3,   3.3682,  34.3076,2,  34.3082,2,    212.6,2,   210.2,2,   39.90,2,    2.21,2,  -999.0,9,  -999.0,9, -999.00,9,   32.01,2,   3.3055,     -999.0,     -999.0,9,     -999.0,     -0.014,2,      0.000,2,     99.776,2
09AR20110104,       SR03,      20,          1,         11,         11,2,20110109,       1810,   -50.6595,   143.4180,       3557,  1101.0,   2.9603,  34.4175,2,  34.4173,2,    189.2,2,   189.5,2,   55.20,2,    2.33,2,  2232.4,2,  2317.5,2, -999.00,9,   33.52,2,   2.8852,     -999.0,     -999.0,9,     -999.0,     -0.009,2,      0.000,2,     99.801,2
09AR20110104,       SR03,      20,          1,         10,         10,2,20110109,       1810,   -50.6595,   143.4180,       3557,  1302.4,   2.7194,  34.5231,2,  34.5225,2,    177.3,2,   176.5,2,   65.70,2,    2.34,2,  -999.0,9,  -999.0,9, -999.00,9,   33.66,2,   2.6307,     -999.0,     -999.0,9,     -999.0,     -0.004,2,      0.000,2,     99.814,2
09AR20110104,       SR03,      20,          1,          9,          9,2,20110109,       1810,   -50.6595,   143.4180,       3557,  1501.8,   2.5731,  34.5967,2,  34.5963,2,    174.6,2,   175.3,2,   70.90,2,    2.31,2,  2251.7,2,  2335.7,2, -999.00,9,   33.03,2,   2.4700,     -999.0,     -999.0,9,     -999.0,     -0.004,2,      0.000,2,     99.829,2
09AR20110104,       SR03,      20,          1,          8,          8,2,20110109,       1810,   -50.6595,   143.4180,       3557,  1702.5,   2.4502,  34.6589,2,  34.6582,2,    177.8,2,   177.6,2,   74.20,2,    2.23,2,  -999.0,9,  -999.0,9, -999.00,9,   32.40,2,   2.3321,     -999.0,     -999.0,9,     -999.0,     -0.007,2,      0.000,2,     99.837,2
09AR20110104,       SR03,      20,          1,          7,          7,2,20110109,       1810,   -50.6595,   143.4180,       3557,  1902.5,   2.2826,  34.7154,2,  34.7154,2,    182.6,2,   188.5,3,   78.30,2,    2.15,2,  -999.0,9,  -999.0,9, -999.00,9,   30.86,2,   2.1499,     -999.0,     -999.0,9,     -999.0,     -0.004,2,      0.000,2,     99.866,2
09AR20110104,       SR03,      20,          1,          6,          6,2,20110109,       1810,   -50.6595,   143.4180,       3557,  2101.2,   2.1675,  34.7351,2,  34.7366,2,    185.9,2,   186.5,2,   84.20,2,    2.14,2,  -999.0,9,  -999.0,9, -999.00,9,   30.64,2,   2.0194,     -999.0,     -999.0,9,     -999.0,     -0.005,2,      0.000,2,     99.872,2
09AR20110104,       SR03,      20,          1,          5,          5,2,20110109,       1810,   -50.6595,   143.4180,       3557,  2403.4,   2.0012,  34.7469,2,  34.7469,2,    194.4,2,   194.4,2,   86.50,2,    2.11,2,  2253.2,2,  2354.3,2, -999.00,9,   30.15,2,   1.8292,     -999.0,     -999.0,9,     -999.0,     -0.009,2,      0.000,2,     99.886,2
09AR20110104,       SR03,      20,          1,          4,          4,2,20110109,       1810,   -50.6595,   143.4180,       3557,  2753.3,   1.6830,  34.7447,2,  34.7461,2,    198.9,2,   198.5,2,   95.90,2,    2.11,2,  -999.0,9,  -999.0,9, -999.00,9,   30.36,2,   1.4851,     -999.0,     -999.0,9,     -999.0,     -0.011,2,      0.000,2,     99.904,2
09AR20110104,       SR03,      20,          1,          3,          3,2,20110109,       1810,   -50.6595,   143.4180,       3557,  3101.8,   1.2556,  34.7282,2,  34.7278,2,    203.0,2,   203.1,2,  109.60,2,    2.18,2,  -999.0,9,  -999.0,9, -999.00,9,   31.09,2,   1.0343,     -999.0,     -999.0,9,     -999.0,     -0.014,2,      0.000,2,     99.887,2
09AR20110104,       SR03,      20,          1,          2,        102,2,20110109,       1810,   -50.6595,   143.4180,       3557,  3399.5,   1.1043,  34.7207,2,  34.7199,2,    205.3,2,   205.3,2,  115.10,2,    2.20,2,  -999.0,9,  -999.0,9, -999.00,9,   31.39,2,   0.8578,     -999.0,     -999.0,9,     -999.0,     -0.015,2,      0.000,2,     99.851,2
09AR20110104,       SR03,      20,          1,          1,          1,2,20110109,       1810,   -50.6595,   143.4180,       3557,  3601.6,   1.0367,  34.7170,2,  34.7170,2,    205.5,2,   205.7,2,  117.30,2,    2.21,2,  -999.0,9,  -999.0,9, -999.00,9,   31.61,2,   0.7718,     -999.0,     -999.0,9,     -999.0,     -0.015,2,      0.000,2,     99.745,2
09AR20110104,       SR03,      21,          1,         24,         24,2,20110110,       2318,   -50.9752,   143.2800,       3870,     7.0,   8.9662,  34.2744,2,  34.2750,2,   -999.0,5,   291.7,2,    1.00,2,    1.04,2,  2099.6,6,  2285.1,6, -999.00,9,   15.06,2,   8.9655,     -999.0,     -999.0,9,     -999.0,      0.121,2,    188.339,2,     96.456,2
09AR20110104,       SR03,      21,          1,         23,         23,2,20110110,       2318,   -50.9752,   143.2800,       3870,    51.0,   8.8309,  34.4467,2,  34.4450,2,    287.3,2,   288.8,2,    1.70,2,    1.01,2,  2106.2,2,  2289.8,2, -999.00,9,   13.90,2,   8.8255,     -999.0,     -999.0,9,     -999.0,      1.244,2,     27.659,2,     96.533,2
09AR20110104,       SR03,      21,          1,         22,         22,2,20110110,       2318,   -50.9752,   143.2800,       3870,    99.6,   9.1468,  34.6099,2,  34.6131,2,    272.3,2,   271.3,2,    4.20,2,    1.01,2,  2117.5,2,  2291.1,6, -999.00,9,   14.33,2,   9.1360,     -999.0,     -999.0,9,     -999.0,      0.403,2,      3.002,2,     98.432,2
09AR20110104,       SR03,      21,          1,         21,         21,2,20110110,       2318,   -50.9752,   143.2800,       3870,   150.3,   8.9509,  34.5806,2,  34.5932,2,    274.1,2,   273.2,2,    4.50,2,    1.05,2,  2117.2,2,  2291.0,2, -999.00,9,   14.95,2,   8.9348,     -999.0,     -999.0,9,     -999.0,      0.065,2,      0.442,2,     98.924,2
09AR20110104,       SR03,      21,          1,         20,         20,2,20110110,       2318,   -50.9752,   143.2800,       3870,   198.2,   8.7947,  34.5554,2,  34.5549,2,    270.9,2,   269.9,2,    4.80,2,    1.08,2,  2119.6,2,  2291.6,2, -999.00,9,   15.56,2,   8.7736,     -999.0,     -999.0,9,     -999.0,      0.031,2,      0.053,2,     99.038,2
09AR20110104,       SR03,      21,          1,         19,         19,2,20110110,       2318,   -50.9752,   143.2800,       3870,   298.0,   7.9411,  34.4400,2,  34.4395,2,    261.6,2,   266.7,2,    6.00,2,    1.24,2,  2127.6,2,  2288.3,2, -999.00,9,   18.15,2,   7.9111,     -999.0,     -999.0,9,     -999.0,      0.000,2,      0.000,2,     99.277,2
09AR20110104,       SR03,      21,          1,         18,         18,2,20110110,       2318,   -50.9752,   143.2800,       3870,   398.1,   6.8143,  34.2812,2,  34.2804,2,    281.4,2,   277.2,2,    7.00,2,    1.39,2,  2130.0,2,  2283.2,2, -999.00,9,   20.18,2,   6.7775,     -999.0,     -999.0,9,     -999.0,      0.001,2,      0.000,2,     99.356,2
09AR20110104,       SR03,      21,          1,         17,         17,2,20110110,       2318,   -50.9752,   143.2800,       3870,   500.1,   6.1907,  34.2310,2,  34.2409,2,    232.9,2,   270.5,3,    9.60,2,    1.50,2,  2139.2,2,  2280.8,2, -999.00,9,   22.29,2,   6.1465,     -999.0,     -999.0,9,     -999.0,     -0.012,2,      0.000,2,     99.507,2
09AR20110104,       SR03,      21,          1,         16,         16,2,20110110,       2318,   -50.9752,   143.2800,       3870,   599.5,   5.7701,  34.2649,2,  34.2659,2,    248.8,2,   247.6,2,   13.80,2,    1.69,2,  2159.0,2,  2283.6,6, -999.00,9,   24.74,2,   5.7186,     -999.0,     -999.0,9,     -999.0,     -0.016,2,      0.000,2,     99.494,2
09AR20110104,       SR03,      21,          1,         15,         15,2,20110110,       2318,   -50.9752,   143.2800,       3870,   701.4,   5.0105,  34.2564,2,  34.2545,2,    233.7,2,   236.9,2,   19.20,2,    1.84,2,  2170.6,2,  2285.0,2, -999.00,9,   27.39,2,   4.9538,     -999.0,     -999.0,9,     -999.0,     -0.022,2,      0.000,2,     99.600,2
09AR20110104,       SR03,      21,          1,         14,         14,2,20110110,       2318,   -50.9752,   143.2800,       3870,   800.6,   4.4676,  34.2649,2,  34.2619,2,    229.4,2,   227.8,2,   24.40,2,    1.97,2,  2181.2,2,  2288.2,2, -999.00,9,   29.02,2,   4.4056,     -999.0,     -999.0,9,     -999.0,     -0.014,2,      0.000,2,     99.653,2
09AR20110104,       SR03,      21,          1,         13,         13,2,20110110,       2318,   -50.9752,   143.2800,       3870,  1001.9,   3.7295,  34.3689,2,  34.3706,2,    204.2,2,   196.1,2,   43.90,2,    2.20,2,  2214.2,2,  2310.3,2, -999.00,9,   32.13,2,   3.6560,     -999.0,     -999.0,9,     -999.0,     -0.009,2,      0.000,2,     99.716,2
09AR20110104,       SR03,      21,          1,         12,         12,2,20110110,       2318,   -50.9752,   143.2800,       3870,  1203.0,   3.1757,  34.4595,2,  34.4598,2,    180.2,2,   178.3,2,   60.30,2,    2.33,2,  2237.6,6,  2326.7,6, -999.00,9,   33.62,2,   3.0906,     -999.0,     -999.0,9,     -999.0,     -0.010,2,      0.000,2,     99.764,2
09AR20110104,       SR03,      21,          1,         11,         11,2,20110110,       2318,   -50.9752,   143.2800,       3870,  1406.7,   2.7319,  34.5227,2,  34.5224,2,    176.8,2,   176.9,2,   66.20,2,    2.33,2,  2245.5,2,  2327.4,2, -999.00,9,   33.87,2,   2.6348,     -999.0,     -999.0,9,     -999.0,     -0.005,2,      0.000,2,     99.798,2
09AR20110104,       SR03,      21,          1,         10,         10,2,20110110,       2318,   -50.9752,   143.2800,       3870,  1599.9,   2.5951,  34.6051,2,  34.6057,2,    175.0,2,   174.0,2,   72.30,2,    2.30,2,  2249.1,2,  2335.2,2, -999.00,9,   33.22,2,   2.4837,     -999.0,     -999.0,9,     -999.0,     -0.005,2,      0.000,2,     99.796,2
09AR20110104,       SR03,      21,          1,          9,          9,2,20110110,       2318,   -50.9752,   143.2800,       3870,  1801.4,   2.3929,  34.6810,2,  34.6820,2,    178.7,2,   180.1,2,   76.30,2,    2.20,2,  2250.6,2,  2342.4,2, -999.00,9,   31.94,2,   2.2672,     -999.0,     -999.0,9,     -999.0,     -0.007,2,      0.000,2,     99.814,2
09AR20110104,       SR03,      21,          1,          8,          8,2,20110110,       2318,   -50.9752,   143.2800,       3870,  2100.6,   2.2637,  34.7237,2,  34.7233,2,    187.9,2,   186.7,2,   79.20,2,    2.12,2,  2246.7,2,  2345.7,2, -999.00,9,   30.88,2,   2.1142,     -999.0,     -999.0,9,     -999.0,     -0.007,2,      0.000,2,     99.821,2
09AR20110104,       SR03,      21,          1,          7,          7,2,20110110,       2318,   -50.9752,   143.2800,       3870,  2398.3,   1.9660,  34.7488,2,  34.7484,2,    192.7,2,  -999.0,9,   86.90,2,    2.07,2,  2247.5,2,  2352.0,2, -999.00,9,   30.24,2,   1.7951,     -999.0,     -999.0,9,     -999.0,     -0.011,2,      0.000,2,     99.858,2
09AR20110104,       SR03,      21,          1,          6,          6,2,20110110,       2318,   -50.9752,   143.2800,       3870,  2600.8,   1.8295,  34.7487,2,  34.7487,2,    197.5,2,   197.2,2,   91.10,2,    2.08,2,  2250.3,2,  2353.7,6, -999.00,9,   30.31,2,   1.6428,     -999.0,     -999.0,9,     -999.0,     -0.011,2,      0.000,2,     99.878,2
09AR20110104,       SR03,      21,          1,          5,          5,2,20110110,       2318,   -50.9752,   143.2800,       3870,  2899.4,   1.5092,  34.7395,2,  34.7390,2,    199.8,2,   200.7,2,  101.60,2,    2.12,2,  2255.0,2,  2359.8,2, -999.00,9,   30.79,2,   1.3014,     -999.0,     -999.0,9,     -999.0,     -0.009,2,      0.000,2,     99.883,2
09AR20110104,       SR03,      21,          1,          4,          4,2,20110110,       2318,   -50.9752,   143.2800,       3870,  3190.8,   1.2901,  34.7296,2,  34.7301,2,    203.4,2,   203.1,2,  109.40,2,    2.15,2,  2260.3,2,  2361.0,2, -999.00,9,   31.17,2,   1.0595,     -999.0,     -999.0,9,     -999.0,     -0.012,2,      0.000,2,     99.880,2
09AR20110104,       SR03,      21,          1,          3,          3,2,20110110,       2318,   -50.9752,   143.2800,       3870,  3490.9,   1.0390,  34.7177,2,  34.7173,2,    205.8,2,  -999.0,9,  117.30,2,    2.19,2,  2262.9,2,  2365.0,2, -999.00,9,   31.59,2,   0.7852,     -999.0,     -999.0,9,     -999.0,     -0.014,2,      0.000,2,     99.780,2
09AR20110104,       SR03,      21,          1,          2,        102,2,20110110,       2318,   -50.9752,   143.2800,       3870,  3796.2,   1.0534,  34.7170,2,  34.7159,2,    207.3,2,   204.4,3,  117.50,2,    2.18,2,  -999.0,9,  -999.0,9, -999.00,9,   31.59,2,   0.7682,     -999.0,     -999.0,9,     -999.0,     -0.012,2,      0.000,2,     99.741,2
09AR20110104,       SR03,      21,          1,          1,          1,2,20110110,       2318,   -50.9752,   143.2800,       3870,  3925.0,   1.0671,  34.7168,2,  34.7153,2,    207.7,2,   208.9,3,  117.50,2,    2.18,2,  2261.3,6,  2365.6,6, -999.00,9,   31.62,2,   0.7681,     -999.0,     -999.0,9,     -999.0,     -0.013,2,      0.000,2,     99.726,2