BOTTLE,20230419CCHSIOENA
EXPOCODE,SECT_ID,STNNBR,CASTNO,SAMPNO,BTLNBR,BTLNBR_FLAG_W,DATE,TIME,LATITUDE,LONGITUDE,DEPTH,CTDPRS,CTDTMP,CTDSAL,CTDSAL_FLAG_W,SALNTY,SALNTY_FLAG_W,CTDOXY,CTDOXY_FLAG_W,OXYGEN,OXYGEN_FLAG_W,SILCAT,SILCAT_FLAG_W,PHSPHT,PHSPHT_FLAG_W,TCARBN,TCARBN_FLAG_W,ALKALI,ALKALI_FLAG_W,DELO18,DELO18_FLAG_W,NO2+NO3,NO2+NO3_FLAG_W,THETA,O18ERR,DELD,DELD_FLAG_W,DELDERR,CTDFLUOR,CTDFLUOR_FLAG_W,PAR,PAR_FLAG_W,CTDXMISS,CTDXMISS_FLAG_W
,,,,,,,,,,,METERS,DBAR,ITS-90,PSS-78,,PSS-78,,UMOL/KG,,UMOL/KG,,UMOL/KG,,UMOL/KG,,UMOL/KG,,UMOL/KG,,/MILLE,,UMOL/KG,,DEG C,/MILLE,/MILLE,,/MILLE,MG/M^3,,UMOL/M^2/SEC,,%TRANS,
09AR20110104,       SR03,      74,          1,         24,         24,2,20110121,       1617,   -66.1808,   143.3200,        541,     8.4,  -0.6828,  33.4466,2,  33.4500,2,    370.7,2,   369.2,2,   40.30,2,    1.07,2,  2110.5,2,  2269.1,2,   -0.43,2,   19.60,2,  -0.6830,       0.11,      -3.96,2,       0.29,     10.148,2,      0.195,2,     86.486,2
09AR20110104,       SR03,      74,          1,         23,         23,2,20110121,       1617,   -66.1808,   143.3200,        541,     8.5,  -0.6782,  33.4507,2,-999.0000,9,    370.7,2,  -999.0,9, -999.00,9, -999.00,9,  -999.0,9,  -999.0,9, -999.00,9, -999.00,9,  -0.6784,     -999.0,     -999.0,9,     -999.0,     10.139,2,      0.205,2,     86.436,2
09AR20110104,       SR03,      74,          1,         22,         22,2,20110121,       1617,   -66.1808,   143.3200,        541,     8.5,  -0.6797,  33.4472,2,-999.0000,9,    370.7,2,  -999.0,9, -999.00,9, -999.00,9,  -999.0,9,  -999.0,9, -999.00,9, -999.00,9,  -0.6799,     -999.0,     -999.0,9,     -999.0,     10.055,2,      0.182,2,     86.454,2
09AR20110104,       SR03,      74,          1,         21,         21,2,20110121,       1617,   -66.1808,   143.3200,        541,     8.5,  -0.6802,  33.4466,2,-999.0000,9,    370.7,2,  -999.0,9, -999.00,9, -999.00,9,  -999.0,9,  -999.0,9, -999.00,9, -999.00,9,  -0.6804,     -999.0,     -999.0,9,     -999.0,     10.193,2,      0.195,2,     86.465,2
09AR20110104,       SR03,      74,          1,         20,         20,2,20110121,       1617,   -66.1808,   143.3200,        541,    50.4,  -0.9900,  33.9853,2,  33.9902,2,    358.5,2,   360.2,2,   49.30,2,    1.43,2,  2165.0,2,  2303.4,2,   -0.35,2,   22.42,2,  -0.9913,       0.06,      -4.12,2,       0.08,     12.048,2,      0.000,2,     87.246,2
09AR20110104,       SR03,      74,          1,         19,         19,2,20110121,       1617,   -66.1808,   143.3200,        541,    50.4,  -0.9960,  33.9866,2,-999.0000,9,    358.5,2,  -999.0,9, -999.00,9, -999.00,9,  -999.0,9,  -999.0,9, -999.00,9, -999.00,9,  -0.9973,     -999.0,     -999.0,9,     -999.0,     12.280,2,      0.000,2,     87.388,2
09AR20110104,       SR03,      74,          1,         18,         18,2,20110121,       1617,   -66.1808,   143.3200,        541,    50.5,  -1.0040,  33.9885,2,-999.0000,9,    358.5,2,  -999.0,9, -999.00,9, -999.00,9,  -999.0,9,  -999.0,9, -999.00,9, -999.00,9,  -1.0053,     -999.0,     -999.0,9,     -999.0,     12.014,2,      0.000,2,     87.351,2
09AR20110104,       SR03,      74,          1,         17,         17,2,20110121,       1617,   -66.1808,   143.3200,        541,    50.4,  -1.0109,  33.9900,2,-999.0000,9,    358.5,2,  -999.0,9, -999.00,9, -999.00,9,  -999.0,9,  -999.0,9, -999.00,9, -999.00,9,  -1.0122,     -999.0,     -999.0,9,     -999.0,     12.273,2,      0.000,2,     87.414,2
09AR20110104,       SR03,      74,          1,         16,         16,2,20110121,       1617,   -66.1808,   143.3200,        541,   102.0,  -1.6780,  34.3179,2,  34.3209,2,    316.1,2,   317.6,2,   69.50,2,    1.99,2,  2215.8,2,  2321.6,6,   -0.40,2,   28.65,2,  -1.6801,       0.06,      -3.90,2,       0.10,      2.072,2,      0.000,2,     96.444,2
09AR20110104,       SR03,      74,          1,         15,         15,2,20110121,       1617,   -66.1808,   143.3200,        541,   102.0,  -1.6780,  34.3179,2,-999.0000,9,    316.1,2,  -999.0,9, -999.00,9, -999.00,9,  -999.0,9,  -999.0,9, -999.00,9, -999.00,9,  -1.6801,     -999.0,     -999.0,9,     -999.0,      2.010,2,      0.000,2,     96.464,2
09AR20110104,       SR03,      74,          1,         14,         14,2,20110121,       1617,   -66.1808,   143.3200,        541,   101.8,  -1.6769,  34.3176,2,-999.0000,9,    316.1,2,  -999.0,9, -999.00,9, -999.00,9,  -999.0,9,  -999.0,9, -999.00,9, -999.00,9,  -1.6790,     -999.0,     -999.0,9,     -999.0,      2.800,2,      0.000,2,     96.381,2
09AR20110104,       SR03,      74,          1,         13,         13,2,20110121,       1617,   -66.1808,   143.3200,        541,   101.6,  -1.6789,  34.3188,2,-999.0000,9,    316.1,2,  -999.0,9, -999.00,9, -999.00,9,  -999.0,9,  -999.0,9, -999.00,9, -999.00,9,  -1.6810,     -999.0,     -999.0,9,     -999.0,      2.108,2,      0.000,2,     96.269,2
09AR20110104,       SR03,      74,          1,         12,         12,2,20110121,       1617,   -66.1808,   143.3200,        541,   173.0,  -1.6989,  34.4233,2,  34.4341,2,    308.8,2,   306.9,2,   73.20,2,    2.03,2,  2227.4,2,  2328.7,2,   -0.37,2,   29.62,2,  -1.7027,       0.06,      -4.46,2,       0.04,      0.393,2,      0.000,2,     98.471,2
09AR20110104,       SR03,      74,          1,         11,         11,2,20110121,       1617,   -66.1808,   143.3200,        541,   172.9,  -1.7038,  34.4239,2,-999.0000,9,    308.8,2,  -999.0,9, -999.00,9, -999.00,9,  -999.0,9,  -999.0,9, -999.00,9, -999.00,9,  -1.7075,     -999.0,     -999.0,9,     -999.0,      0.351,2,      0.000,2,     98.494,2
09AR20110104,       SR03,      74,          1,         10,         10,2,20110121,       1617,   -66.1808,   143.3200,        541,   251.1,  -1.5252,  34.4942,2,  34.5019,2,    294.3,2,   293.8,2,   76.80,2,    2.06,2,  2235.2,2,  2333.4,2,   -0.35,2,   30.23,2,  -1.5313,       0.04,      -3.80,2,       0.11,      0.069,2,      0.000,2,     99.198,2
09AR20110104,       SR03,      74,          1,          9,          9,2,20110121,       1617,   -66.1808,   143.3200,        541,   250.7,  -1.5317,  34.4939,2,-999.0000,9,    292.6,2,  -999.0,9, -999.00,9, -999.00,9,  -999.0,9,  -999.0,9, -999.00,9, -999.00,9,  -1.5377,     -999.0,     -999.0,9,     -999.0,      0.078,2,      0.000,2,     99.164,2
09AR20110104,       SR03,      74,          1,          8,          8,2,20110121,       1617,   -66.1808,   143.3200,        541,   351.1,  -1.9018,  34.5259,2,  34.5286,2,    308.3,2,   306.7,2, -999.00,9, -999.00,9,  2234.3,2,  2333.9,2, -999.00,9, -999.00,9,  -1.9095,     -999.0,     -999.0,9,     -999.0,      0.005,2,      0.000,2,     99.250,2
09AR20110104,       SR03,      74,          1,          7,          7,2,20110121,       1617,   -66.1808,   143.3200,        541,   351.1,  -1.9017,  34.5259,2,-999.0000,9,    308.3,2,  -999.0,9, -999.00,9, -999.00,9,  -999.0,9,  -999.0,9, -999.00,9, -999.00,9,  -1.9094,     -999.0,     -999.0,9,     -999.0,     -0.004,2,      0.000,2,     99.331,2
09AR20110104,       SR03,      74,          1,          6,          6,2,20110121,       1617,   -66.1808,   143.3200,        541,   351.1,  -1.9021,  34.5259,2,-999.0000,9,    308.3,2,  -999.0,9, -999.00,9, -999.00,9,  -999.0,9,  -999.0,9, -999.00,9, -999.00,9,  -1.9098,     -999.0,     -999.0,9,     -999.0,      0.005,2,      0.000,2,     99.292,2
09AR20110104,       SR03,      74,          1,          5,          5,2,20110121,       1617,   -66.1808,   143.3200,        541,   351.0,  -1.9022,  34.5261,2,-999.0000,9,    308.1,2,  -999.0,9,   74.50,2,    2.03,2,  -999.0,9,  -999.0,9, -999.00,9,   30.10,2,  -1.9099,     -999.0,     -999.0,9,     -999.0,      0.006,2,      0.000,2,     99.169,2
09AR20110104,       SR03,      74,          1,          4,          4,2,20110121,       1617,   -66.1808,   143.3200,        541,   498.6,  -1.8851,  34.5952,2,  34.5993,2,    306.9,2,   306.8,2,   74.70,2,    2.05,2,  2239.8,2,  2339.5,2,   -0.42,2,   30.23,2,  -1.8969,       0.00,      -4.63,2,       0.06,      0.008,2,      0.000,2,     99.097,2
09AR20110104,       SR03,      74,          1,          3,          3,2,20110121,       1617,   -66.1808,   143.3200,        541,   498.7,  -1.8851,  34.5956,2,-999.0000,9,    306.9,2,  -999.0,9, -999.00,9, -999.00,9,  -999.0,9,  -999.0,9, -999.00,9, -999.00,9,  -1.8969,     -999.0,     -999.0,9,     -999.0,     -0.004,2,      0.000,2,     99.097,2
09AR20110104,       SR03,      74,          1,          2,        102,2,20110121,       1617,   -66.1808,   143.3200,        541,   539.6,  -1.8866,  34.6012,2,  34.6016,2,    306.7,2,   306.5,2,   75.20,2,    2.05,2,  -999.0,9,  -999.0,9, -999.00,9,   30.31,2,  -1.8995,     -999.0,     -999.0,9,     -999.0,     -0.008,2,      0.000,2,     98.965,2
09AR20110104,       SR03,      74,          1,          1,          1,2,20110121,       1617,   -66.1808,   143.3200,        541,   539.5,  -1.8866,  34.6012,2,-999.0000,9,    306.7,2,  -999.0,9, -999.00,9, -999.00,9,  -999.0,9,  -999.0,9, -999.00,9, -999.00,9,  -1.8995,     -999.0,     -999.0,9,     -999.0,     -0.002,2,      0.000,2,     98.968,2
09AR20110104,       SR03,      75,          1,         24,         24,2,20110122,       0017,   -66.1763,   143.1510,        570,     9.0,  -0.8312,  33.5571,2,  33.5560,2,    365.3,2,   365.6,2,   43.60,2, -999.00,9,  2120.6,2,  2278.0,2,   -0.34,2,   20.65,2,  -0.8314,       0.08,      -4.10,2,       0.07,      4.526,2,     81.609,2,     86.276,2
09AR20110104,       SR03,      75,          1,         23,         23,2,20110122,       0017,   -66.1763,   143.1510,        570,     9.0,  -0.8314,  33.5599,2,-999.0000,9,    365.3,2,  -999.0,9, -999.00,9, -999.00,9,  -999.0,9,  -999.0,9, -999.00,9, -999.00,9,  -0.8316,     -999.0,     -999.0,9,     -999.0,      4.942,2,     85.309,2,     86.203,2
09AR20110104,       SR03,      75,          1,         22,         22,2,20110122,       0017,   -66.1763,   143.1510,        570,     9.0,  -0.8312,  33.5567,2,-999.0000,9,    365.3,2,  -999.0,9, -999.00,9, -999.00,9,  -999.0,9,  -999.0,9, -999.00,9, -999.00,9,  -0.8314,     -999.0,     -999.0,9,     -999.0,      4.679,2,     84.139,2,     86.150,2
09AR20110104,       SR03,      75,          1,         21,         21,2,20110122,       0017,   -66.1763,   143.1510,        570,     9.0,  -0.8312,  33.5525,2,-999.0000,9,    365.3,2,  -999.0,9, -999.00,9, -999.00,9,  -999.0,9,  -999.0,9, -999.00,9, -999.00,9,  -0.8314,     -999.0,     -999.0,9,     -999.0,      5.738,2,     83.269,2,     86.273,2
09AR20110104,       SR03,      75,          1,         20,         20,2,20110122,       0017,   -66.1763,   143.1510,        570,    49.8,  -0.8312,  33.6434,2,  33.6447,2,    363.8,2,   363.6,2,   45.00,2,    1.25,2,  2129.5,2,  2282.6,2, -999.00,9,   21.16,2,  -0.8325,     -999.0,     -999.0,9,     -999.0,     12.814,2,      0.165,2,     85.970,2
09AR20110104,       SR03,      75,          1,         19,         19,2,20110122,       0017,   -66.1763,   143.1510,        570,    49.8,  -0.8305,  33.6414,2,-999.0000,9,    363.8,2,  -999.0,9, -999.00,9, -999.00,9,  -999.0,9,  -999.0,9, -999.00,9, -999.00,9,  -0.8318,     -999.0,     -999.0,9,     -999.0,     11.918,2,      0.159,2,     86.044,2
09AR20110104,       SR03,      75,          1,         18,         18,2,20110122,       0017,   -66.1763,   143.1510,        570,    49.8,  -0.8286,  33.6315,2,-999.0000,9,    363.8,2,  -999.0,9, -999.00,9, -999.00,9,  -999.0,9,  -999.0,9, -999.00,9, -999.00,9,  -0.8299,     -999.0,     -999.0,9,     -999.0,     11.267,2,      0.150,2,     86.133,2
09AR20110104,       SR03,      75,          1,         17,         17,2,20110122,       0017,   -66.1763,   143.1510,        570,    49.7,  -0.8300,  33.6306,2,-999.0000,9,    363.8,2,  -999.0,9, -999.00,9, -999.00,9,  -999.0,9,  -999.0,9, -999.00,9, -999.00,9,  -0.8313,     -999.0,     -999.0,9,     -999.0,     11.929,2,      0.137,2,     86.121,2
09AR20110104,       SR03,      75,          1,         16,         16,2,20110122,       0017,   -66.1763,   143.1510,        570,   118.9,  -1.6899,  34.3740,2,  34.3756,2,    311.2,2,   310.9,2,   73.40,2,    2.03,2,  2222.1,2,  2324.2,6,   -0.31,2,   29.80,2,  -1.6924,       0.02,      -4.28,2,       0.06,      0.705,2,      0.000,2,     97.980,2
09AR20110104,       SR03,      75,          1,         15,         15,2,20110122,       0017,   -66.1763,   143.1510,        570,   118.9,  -1.6903,  34.3741,2,-999.0000,9,    311.2,2,  -999.0,9, -999.00,9, -999.00,9,  -999.0,9,  -999.0,9, -999.00,9, -999.00,9,  -1.6928,     -999.0,     -999.0,9,     -999.0,      0.738,2,      0.000,2,     98.031,2
09AR20110104,       SR03,      75,          1,         14,         14,2,20110122,       0017,   -66.1763,   143.1510,        570,   118.8,  -1.6904,  34.3741,2,-999.0000,9,    311.2,2,  -999.0,9, -999.00,9, -999.00,9,  -999.0,9,  -999.0,9, -999.00,9, -999.00,9,  -1.6929,     -999.0,     -999.0,9,     -999.0,      0.687,2,      0.000,2,     97.944,2
09AR20110104,       SR03,      75,          1,         13,         13,2,20110122,       0017,   -66.1763,   143.1510,        570,   118.8,  -1.6909,  34.3742,2,-999.0000,9,    311.2,2,  -999.0,9, -999.00,9, -999.00,9,  -999.0,9,  -999.0,9, -999.00,9, -999.00,9,  -1.6934,     -999.0,     -999.0,9,     -999.0,      0.627,2,      0.000,2,     98.098,2
09AR20110104,       SR03,      75,          1,         12,         12,2,20110122,       0017,   -66.1763,   143.1510,        570,   223.0,  -1.3789,  34.4736,2,  34.4726,2,    283.1,2,   293.9,2,   78.60,2,    2.08,2,  2232.3,2,  2329.2,2, -999.00,9,   30.95,2,  -1.3845,     -999.0,     -999.0,9,     -999.0,      0.050,2,      0.000,2,     99.225,2
09AR20110104,       SR03,      75,          1,         11,         11,2,20110122,       0017,   -66.1763,   143.1510,        570,   223.8,  -1.4134,  34.4734,2,-999.0000,9,    283.1,2,  -999.0,9, -999.00,9, -999.00,9,  -999.0,9,  -999.0,9, -999.00,9, -999.00,9,  -1.4189,     -999.0,     -999.0,9,     -999.0,      0.043,2,      0.000,2,     99.290,2
09AR20110104,       SR03,      75,          1,         10,         10,2,20110122,       0017,   -66.1763,   143.1510,        570,   274.8,  -1.2972,  34.5062,2,  34.5048,2,    285.0,2,   285.4,2,   79.90,2,    2.10,2,  2236.2,2,  2332.5,2,   -0.37,2,   31.10,2,  -1.3044,       0.01,      -3.48,2,       0.11,      0.010,2,      0.000,2,     99.242,2
09AR20110104,       SR03,      75,          1,          9,          9,2,20110122,       0017,   -66.1763,   143.1510,        570,   274.3,  -1.3106,  34.5070,2,-999.0000,9,    285.0,2,  -999.0,9, -999.00,9, -999.00,9,  -999.0,9,  -999.0,9, -999.00,9, -999.00,9,  -1.3178,     -999.0,     -999.0,9,     -999.0,      0.000,2,      0.000,2,     99.230,2
09AR20110104,       SR03,      75,          1,          8,          8,2,20110122,       0017,   -66.1763,   143.1510,        570,   349.4,  -1.8902,  34.5163,2,  34.5190,2,    306.8,2,   307.0,2,   75.40,2,    2.06,2,  2234.0,2,  2333.4,2, -999.00,9,   30.52,2,  -1.8979,     -999.0,     -999.0,9,     -999.0,      0.008,2,      0.000,2,     99.206,2
09AR20110104,       SR03,      75,          1,          7,          7,2,20110122,       0017,   -66.1763,   143.1510,        570,   349.6,  -1.8920,  34.5166,2,-999.0000,9,    306.8,2,  -999.0,9, -999.00,9, -999.00,9,  -999.0,9,  -999.0,9, -999.00,9, -999.00,9,  -1.8997,     -999.0,     -999.0,9,     -999.0,     -0.016,2,      0.000,2,     99.336,2
09AR20110104,       SR03,      75,          1,          6,          6,2,20110122,       0017,   -66.1763,   143.1510,        570,   349.7,  -1.8933,  34.5168,2,-999.0000,9,    306.8,2,  -999.0,9, -999.00,9, -999.00,9,  -999.0,9,  -999.0,9, -999.00,9, -999.00,9,  -1.9010,     -999.0,     -999.0,9,     -999.0,     -0.011,2,      0.000,2,     99.348,2
09AR20110104,       SR03,      75,          1,          5,          5,2,20110122,       0017,   -66.1763,   143.1510,        570,   349.7,  -1.8934,  34.5169,2,-999.0000,9,    306.8,2,  -999.0,9, -999.00,9, -999.00,9,  -999.0,9,  -999.0,9, -999.00,9, -999.00,9,  -1.9011,     -999.0,     -999.0,9,     -999.0,     -0.001,2,      0.000,2,     99.176,2
09AR20110104,       SR03,      75,          1,          4,          4,2,20110122,       0017,   -66.1763,   143.1510,        570,   499.5,  -1.8732,  34.5878,2,  34.5934,2,    306.0,2,   306.2,2,   75.80,2,    2.07,2,  2239.4,2,  2339.4,2, -999.00,9,   30.14,2,  -1.8850,     -999.0,     -999.0,9,     -999.0,      0.006,2,      0.000,2,     98.678,2
09AR20110104,       SR03,      75,          1,          3,          3,2,20110122,       0017,   -66.1763,   143.1510,        570,   499.4,  -1.8731,  34.5878,2,-999.0000,9,    306.0,2,  -999.0,9, -999.00,9, -999.00,9,  -999.0,9,  -999.0,9, -999.00,9, -999.00,9,  -1.8849,     -999.0,     -999.0,9,     -999.0,      0.010,2,      0.000,2,     98.678,2
09AR20110104,       SR03,      75,          1,          2,        102,2,20110122,       0017,   -66.1763,   143.1510,        570,   571.2,  -1.8844,  34.6064,2,-999.0000,9,    306.0,2,   305.9,2,   76.60,2,    2.05,2,  -999.0,9,  -999.0,9,   -0.29,2,   30.22,2,  -1.8983,       0.12,      -4.38,2,       0.04,     -0.007,2,      0.000,2,     98.691,2
09AR20110104,       SR03,      75,          1,          1,          1,2,20110122,       0017,   -66.1763,   143.1510,        570,   571.8,  -1.8844,  34.6065,2,-999.0000,9,    306.0,2,  -999.0,9, -999.00,9, -999.00,9,  -999.0,9,  -999.0,9, -999.00,9, -999.00,9,  -1.8983,     -999.0,     -999.0,9,     -999.0,     -0.002,2,      0.000,2,     98.685,2