BOTTLE,20230419CCHSIOENA
EXPOCODE,SECT_ID,STNNBR,CASTNO,SAMPNO,BTLNBR,BTLNBR_FLAG_W,DATE,TIME,LATITUDE,LONGITUDE,DEPTH,CTDPRS,CTDTMP,CTDSAL,CTDSAL_FLAG_W,SALNTY,SALNTY_FLAG_W,CTDOXY,CTDOXY_FLAG_W,OXYGEN,OXYGEN_FLAG_W,SILCAT,SILCAT_FLAG_W,PHSPHT,PHSPHT_FLAG_W,TCARBN,TCARBN_FLAG_W,ALKALI,ALKALI_FLAG_W,DELO18,DELO18_FLAG_W,NO2+NO3,NO2+NO3_FLAG_W,THETA,O18ERR,DELD,DELD_FLAG_W,DELDERR,CTDFLUOR,CTDFLUOR_FLAG_W,PAR,PAR_FLAG_W,CTDXMISS,CTDXMISS_FLAG_W
,,,,,,,,,,,METERS,DBAR,ITS-90,PSS-78,,PSS-78,,UMOL/KG,,UMOL/KG,,UMOL/KG,,UMOL/KG,,UMOL/KG,,UMOL/KG,,/MILLE,,UMOL/KG,,DEG C,/MILLE,/MILLE,,/MILLE,MG/M^3,,UMOL/M^2/SEC,,%TRANS,
09AR20110104,       SR03,       7,          1,         24,         24,2,20110105,       1531,   -45.2205,   145.8490,       2859,    12.7,  12.9502,  35.0111,2,  35.0146,4,    270.0,2,   269.4,2,    0.60,2,    0.38,2,  2074.9,6,  2316.4,2, -999.00,9,    3.57,2,  12.9485,     -999.0,     -999.0,9,     -999.0,      2.694,2,      0.000,2,     93.376,2
09AR20110104,       SR03,       7,          1,         23,         23,2,20110105,       1531,   -45.2205,   145.8490,       2859,    50.0,  12.8173,  35.0172,2,  35.0212,4,    266.7,2,   267.8,2,    0.70,2,    0.40,2,  2077.2,2,  2310.6,2, -999.00,9,    3.73,2,  12.8105,     -999.0,     -999.0,9,     -999.0,      2.457,2,      0.000,2,     94.111,2
09AR20110104,       SR03,       7,          1,         22,         22,2,20110105,       1531,   -45.2205,   145.8490,       2859,    76.9,  12.7384,  35.0219,2,  35.0378,4,    261.0,2,   263.1,2,    0.80,2,    0.45,2,  2081.6,2,  2311.6,2, -999.00,9,    4.18,2,  12.7280,     -999.0,     -999.0,9,     -999.0,      1.468,2,      0.000,2,     95.901,2
09AR20110104,       SR03,       7,          1,         21,         21,2,20110105,       1531,   -45.2205,   145.8490,       2859,   101.0,  11.7759,  35.0198,2,  35.0476,4,    250.8,2,   248.6,2,    2.40,2,    0.67,2,  -999.0,9,  -999.0,9, -999.00,9,    8.54,2,  11.7629,     -999.0,     -999.0,9,     -999.0,      0.099,2,      0.000,2,     97.821,2
09AR20110104,       SR03,       7,          1,         20,         20,2,20110105,       1531,   -45.2205,   145.8490,       2859,   151.1,  10.8726,  34.9175,2,  34.9250,4,    251.8,2,   253.2,2,    3.20,2,    0.80,2,  -999.0,9,  -999.0,9, -999.00,9,   10.61,2,  10.8542,     -999.0,     -999.0,9,     -999.0,     -0.021,2,      0.000,2,     98.736,2
09AR20110104,       SR03,       7,          1,         19,         19,2,20110105,       1531,   -45.2205,   145.8490,       2859,   201.6,  10.6970,  34.9055,2,  34.9083,2,    251.9,2,   251.0,2,    3.40,2,    0.85,2,  2117.0,2,  2302.3,2, -999.00,9,   11.43,2,  10.6726,     -999.0,     -999.0,9,     -999.0,     -0.030,2,      0.000,2,     98.759,2
09AR20110104,       SR03,       7,          1,         18,         18,2,20110105,       1531,   -45.2205,   145.8490,       2859,   301.9,   9.6554,  34.7270,2,  34.7295,2,    243.4,2,   243.3,2,    4.50,2,    1.06,2,  -999.0,9,  -999.0,9, -999.00,9,   14.92,2,   9.6211,     -999.0,     -999.0,9,     -999.0,     -0.028,2,      0.000,2,     99.079,2
09AR20110104,       SR03,       7,          1,         17,         17,2,20110105,       1531,   -45.2205,   145.8490,       2859,   401.9,   8.9968,  34.6229,2,  34.6274,4,    243.5,2,   243.3,2,    5.20,2,    1.17,2,  2130.7,2,  2291.3,2, -999.00,9,   16.80,2,   8.9528,     -999.0,     -999.0,9,     -999.0,     -0.029,2,      0.000,2,     99.479,2
09AR20110104,       SR03,       7,          1,         16,         16,2,20110105,       1531,   -45.2205,   145.8490,       2859,   503.3,   8.7778,  34.6044,2,  34.6076,4,    234.4,2,   232.4,2,    6.50,2,    1.28,2,  2140.0,2,  2289.4,2, -999.00,9,   18.49,2,   8.7233,     -999.0,     -999.0,9,     -999.0,     -0.019,2,      0.000,2,     99.704,2
09AR20110104,       SR03,       7,          1,         15,         15,2,20110105,       1531,   -45.2205,   145.8490,       2859,   603.9,   8.3366,  34.5656,2,  34.5690,4,    220.8,2,   219.8,2,    8.80,2,    1.42,2,  2149.2,2,  2287.7,2, -999.00,9,   20.62,2,   8.2728,     -999.0,     -999.0,9,     -999.0,     -0.008,2,      0.000,2,     -999.0,5
09AR20110104,       SR03,       7,          1,         14,         14,2,20110105,       1531,   -45.2205,   145.8490,       2859,   701.3,   7.6152,  34.5079,2,  34.5127,4,    208.6,2,   207.4,2,   12.70,2,    1.58,2,  -999.0,9,  -999.0,9, -999.00,9,   23.21,2,   7.5444,     -999.0,     -999.0,9,     -999.0,     -0.004,2,      0.000,2,     -999.0,5
09AR20110104,       SR03,       7,          1,         13,         13,2,20110105,       1531,   -45.2205,   145.8490,       2859,   801.7,   6.8570,  34.4635,2,  34.4674,4,    200.4,2,   199.5,2,   17.70,2,    1.75,2,  2172.3,2,  2292.9,2, -999.00,9,   25.47,2,   6.7801,     -999.0,     -999.0,9,     -999.0,      0.002,2,      0.000,2,     -999.0,5
09AR20110104,       SR03,       7,          1,         12,         12,2,20110105,       1531,   -45.2205,   145.8490,       2859,   901.9,   5.9600,  34.4239,2,  34.4259,2,    195.9,2,   195.6,2,   24.80,2,    1.91,2,  -999.0,9,  -999.0,9, -999.00,9,   27.83,2,   5.8790,     -999.0,     -999.0,9,     -999.0,      0.007,2,      0.000,2,     -999.0,5
09AR20110104,       SR03,       7,          1,         11,         11,2,20110105,       1531,   -45.2205,   145.8490,       2859,  1001.5,   4.9543,  34.3841,2,  34.3883,4,    192.9,2,   196.7,2,   32.50,2,    2.04,2,  -999.0,9,  -999.0,9, -999.00,9,   29.78,2,   4.8714,     -999.0,     -999.0,9,     -999.0,      0.006,2,      0.000,2,     -999.0,5
09AR20110104,       SR03,       7,          1,         10,         10,2,20110105,       1531,   -45.2205,   145.8490,       2859,  1102.7,   4.4573,  34.3779,2,  34.3811,4,    194.9,2,   195.9,2,   37.60,2,    2.12,2,  2205.8,2,  -999.0,9, -999.00,9,   30.71,2,   4.3694,     -999.0,     -999.0,9,     -999.0,      0.006,2,      0.000,2,     -999.0,5
09AR20110104,       SR03,       7,          1,          9,          9,2,20110105,       1531,   -45.2205,   145.8490,       2859,  1302.8,   3.5278,  34.4644,2,  34.4676,2,    175.5,2,   174.6,2,   60.10,2,    2.32,2,  -999.0,9,  -999.0,9, -999.00,9,   33.04,2,   3.4311,     -999.0,     -999.0,9,     -999.0,     -0.001,2,      0.000,2,     -999.0,5
09AR20110104,       SR03,       7,          1,          8,          8,2,20110105,       1531,   -45.2205,   145.8490,       2859,  1500.7,   3.0233,  34.5663,2,  34.5672,2,    162.8,2,   162.1,2,   78.70,2,    2.38,2,  2262.0,2,  -999.0,9, -999.00,9,   33.60,2,   2.9151,     -999.0,     -999.0,9,     -999.0,     -0.004,2,      0.000,2,     -999.0,5
09AR20110104,       SR03,       7,          1,          7,          7,2,20110105,       1531,   -45.2205,   145.8490,       2859,  1701.3,   2.5755,  34.6258,2,  34.6284,2,    168.1,2,   169.2,2,   80.90,2,    2.33,2,  -999.0,9,  -999.0,9, -999.00,9,   33.00,2,   2.4559,     -999.0,     -999.0,9,     -999.0,     -0.001,2,      0.000,2,     -999.0,5
09AR20110104,       SR03,       7,          1,          6,          6,2,20110105,       1531,   -45.2205,   145.8490,       2859,  1903.1,   2.4505,  34.6541,2,  34.6567,2,    171.8,2,   173.0,2,   82.40,2,    2.30,2,  -999.0,9,  -999.0,9, -999.00,9,   32.65,2,   2.3155,     -999.0,     -999.0,9,     -999.0,      0.001,2,      0.000,2,     -999.0,5
09AR20110104,       SR03,       7,          1,          5,          5,2,20110105,       1531,   -45.2205,   145.8490,       2859,  2101.1,   2.3135,  34.6883,2,  34.6957,4,    176.6,2,   176.8,2,   85.60,2,    2.26,2,  2261.3,2,  -999.0,9, -999.00,9,   32.18,2,   2.1633,     -999.0,     -999.0,9,     -999.0,      0.004,2,      0.000,2,     -999.0,5
09AR20110104,       SR03,       7,          1,          4,          4,2,20110105,       1531,   -45.2205,   145.8490,       2859,  2303.2,   2.1847,  34.7211,2,  34.7229,2,    179.1,2,   178.9,2,   91.00,2,    2.25,2,  -999.0,9,  -999.0,9, -999.00,9,   31.78,2,   2.0186,     -999.0,     -999.0,9,     -999.0,     -0.002,2,      0.000,2,     -999.0,5
09AR20110104,       SR03,       7,          1,          3,          3,2,20110105,       1531,   -45.2205,   145.8490,       2859,  2505.8,   1.9864,  34.7321,2,  34.7344,2,    182.7,2,   183.2,2,   97.10,2,    2.24,2,  -999.0,9,  -999.0,9, -999.00,9,   31.59,2,   1.8055,     -999.0,     -999.0,9,     -999.0,     -0.001,2,      0.000,2,     -999.0,5
09AR20110104,       SR03,       7,          1,          2,        102,2,20110105,       1531,   -45.2205,   145.8490,       2859,  2803.1,   1.7358,  34.7348,2,  34.7375,2,    188.1,2,   187.8,2,  103.60,2,    2.24,2,  -999.0,9,  -999.0,9, -999.00,9,   31.49,2,   1.5322,     -999.0,     -999.0,9,     -999.0,     -0.074,2,      0.000,2,     -999.0,5
09AR20110104,       SR03,       7,          1,          1,          1,2,20110105,       1531,   -45.2205,   145.8490,       2859,  2890.0,   1.7196,  34.7351,2,  34.7369,2,    188.6,2,   188.4,2,  104.20,2,    2.24,2,  -999.0,9,  -999.0,9, -999.00,9,   31.38,2,   1.5082,     -999.0,     -999.0,9,     -999.0,     -0.123,2,      0.000,2,     -999.0,5
09AR20110104,       SR03,       8,          1,         24,         24,2,20110105,       2124,   -45.6982,   145.6620,       2003,    12.1,  13.1329,  35.0572,2,  35.0108,4,    265.6,2,   266.0,2,    0.60,2,    0.32,2,  2071.9,6,  2314.1,6, -999.00,9,    2.73,2,  13.1312,     -999.0,     -999.0,9,     -999.0,      1.155,2,    134.439,2,     -999.0,5
09AR20110104,       SR03,       8,          1,         23,         23,2,20110105,       2124,   -45.6982,   145.6620,       2003,    29.7,  13.0866,  35.0638,2,  35.0144,4,    264.2,2,   264.4,2,    0.70,2,    0.35,2,  2075.6,2,  2314.0,2, -999.00,9,    2.94,2,  13.0825,     -999.0,     -999.0,9,     -999.0,      1.184,2,     37.089,2,     -999.0,5
09AR20110104,       SR03,       8,          1,         22,         22,2,20110105,       2124,   -45.6982,   145.6620,       2003,    60.3,  13.0016,  35.1154,2,  35.0707,4,    265.2,2,   264.4,2,    0.70,2,    0.35,2,  2075.2,2,  2314.6,2, -999.00,9,    3.02,2,  12.9933,     -999.0,     -999.0,9,     -999.0,      2.851,2,      2.093,2,     -999.0,5
09AR20110104,       SR03,       8,          1,         21,         21,2,20110105,       2124,   -45.6982,   145.6620,       2003,    90.2,  12.5498,  35.0536,2,  35.0171,4,    260.1,2,   259.4,2,    1.20,2,    0.50,2,  2087.4,2,  2312.4,2, -999.00,9,    5.20,2,  12.5377,     -999.0,     -999.0,9,     -999.0,      1.071,2,      0.117,2,     -999.0,5
09AR20110104,       SR03,       8,          1,         20,         20,2,20110105,       2124,   -45.6982,   145.6620,       2003,   120.0,  11.6228,  35.0647,2,  35.0163,4,    247.8,2,   248.8,2,    3.00,2,    0.73,2,  2111.5,2,  2306.8,2, -999.00,9,    9.56,2,  11.6075,     -999.0,     -999.0,9,     -999.0,      0.015,2,      0.000,2,     -999.0,5
09AR20110104,       SR03,       8,          1,         19,         19,2,20110105,       2124,   -45.6982,   145.6620,       2003,   150.5,  11.2409,  35.0087,2,  34.9713,4,    252.3,2,   252.0,2,    3.00,2,    0.75,2,  2112.1,2,  2306.0,2, -999.00,9,   10.00,2,  11.2221,     -999.0,     -999.0,9,     -999.0,     -0.006,2,      0.000,2,     -999.0,5
09AR20110104,       SR03,       8,          1,         18,         18,2,20110105,       2124,   -45.6982,   145.6620,       2003,   199.9,  10.5930,  34.8936,2,  34.8507,4,    257.8,2,   257.5,2,    3.20,2,    0.83,2,  2112.0,2,  2301.5,2, -999.00,9,   11.11,2,  10.5690,     -999.0,     -999.0,9,     -999.0,     -0.029,2,      0.000,2,     -999.0,5
09AR20110104,       SR03,       8,          1,         17,         17,2,20110105,       2124,   -45.6982,   145.6620,       2003,   249.9,  10.3183,  34.8475,2,  34.8035,4,    257.5,2,   259.7,2,    3.20,2,    0.86,2,  2113.0,2,  2299.6,6, -999.00,9,   11.69,2,  10.2887,     -999.0,     -999.0,9,     -999.0,     -0.032,2,      0.000,2,     -999.0,5
09AR20110104,       SR03,       8,          1,         16,         16,2,20110105,       2124,   -45.6982,   145.6620,       2003,   299.9,   9.6859,  34.7233,2,  34.6814,4,    258.8,2,   259.4,2,    3.60,2,    0.96,2,  2115.3,2,  2292.6,2, -999.00,9,   13.21,2,   9.6517,     -999.0,     -999.0,9,     -999.0,     -0.031,2,      0.000,2,     -999.0,5
09AR20110104,       SR03,       8,          1,         15,         15,2,20110105,       2124,   -45.6982,   145.6620,       2003,   349.4,   9.4486,  34.6874,2,  34.6507,4,    256.8,2,   256.9,2,    4.00,2,    1.03,2,  2118.8,2,  2291.8,2, -999.00,9,   14.26,2,   9.4093,     -999.0,     -999.0,9,     -999.0,     -0.033,2,      0.000,2,     -999.0,5
09AR20110104,       SR03,       8,          1,         14,         14,2,20110105,       2124,   -45.6982,   145.6620,       2003,   402.0,   9.0281,  34.6137,2,  34.5821,4,    255.6,2,   256.6,2,    4.30,2,    1.10,2,  2123.9,2,  2290.7,2, -999.00,9,   15.39,2,   8.9840,     -999.0,     -999.0,9,     -999.0,     -0.031,2,      0.000,2,     -999.0,5
09AR20110104,       SR03,       8,          1,         13,         13,2,20110105,       2124,   -45.6982,   145.6620,       2003,   501.1,   8.7597,  34.5785,2,  34.5490,4,    258.7,2,   254.3,2,    4.90,2,    1.18,2,  2126.7,2,  2289.3,2, -999.00,9,   16.48,2,   8.7055,     -999.0,     -999.0,9,     -999.0,     -0.035,2,      0.000,2,     -999.0,5
09AR20110104,       SR03,       8,          1,         12,         12,2,20110105,       2124,   -45.6982,   145.6620,       2003,   600.0,   8.5874,  34.5661,2,  34.5413,4,    242.5,2,   244.0,2,    6.10,2,    1.25,2,  2132.3,6,  2287.9,6, -999.00,9,   17.96,2,   8.5229,     -999.0,     -999.0,9,     -999.0,     -0.024,2,      0.000,2,     -999.0,5
09AR20110104,       SR03,       8,          1,         11,         11,2,20110105,       2124,   -45.6982,   145.6620,       2003,   700.5,   8.1489,  34.5277,2,  34.5042,4,    224.0,2,   226.6,2,    8.80,2,    1.42,2,  2146.2,2,  2288.1,2, -999.00,9,   20.67,2,   8.0754,     -999.0,     -999.0,9,     -999.0,     -0.010,2,      0.000,2,     -999.0,5
09AR20110104,       SR03,       8,          1,         10,         10,2,20110105,       2124,   -45.6982,   145.6620,       2003,   800.0,   7.2682,  34.4797,2,  34.4288,4,    208.0,2,   206.2,2,   14.60,2,    1.65,2,  2163.6,2,  2289.7,2, -999.00,9,   24.23,2,   7.1891,     -999.0,     -999.0,9,     -999.0,      0.000,2,      0.000,2,     -999.0,5
09AR20110104,       SR03,       8,          1,          9,          9,2,20110105,       2124,   -45.6982,   145.6620,       2003,   900.4,   6.2817,  34.4203,2,  34.4013,4,    202.7,2,   201.8,2,   20.60,2,    1.83,2,  2175.1,2,  2291.1,6, -999.00,9,   26.85,2,   6.1987,     -999.0,     -999.0,9,     -999.0,      0.005,2,      0.000,2,     -999.0,5
09AR20110104,       SR03,       8,          1,          8,          8,2,20110105,       2124,   -45.6982,   145.6620,       2003,  1000.0,   5.5472,  34.4039,2,  34.3784,4,    197.8,2,   196.6,2,   27.60,2,    1.97,2,  2187.1,2,  2294.4,2, -999.00,9,   28.60,2,   5.4599,     -999.0,     -999.0,9,     -999.0,      0.013,2,      0.000,2,     -999.0,5
09AR20110104,       SR03,       8,          1,          7,          7,2,20110105,       2124,   -45.6982,   145.6620,       2003,  1101.8,   4.4099,  34.3369,2,  34.3220,4,    206.4,2,   207.2,2,   32.40,2,    2.08,2,  2195.0,2,  2297.0,2, -999.00,9,   30.24,2,   4.3225,     -999.0,     -999.0,9,     -999.0,      0.007,2,      0.000,2,     -999.0,5
09AR20110104,       SR03,       8,          1,          6,          6,2,20110105,       2124,   -45.6982,   145.6620,       2003,  1250.8,   3.5759,  34.3653,2,  34.3539,4,    197.2,2,   197.4,2,   44.50,2,    2.25,2,  2214.1,2,  2307.1,2, -999.00,9,   32.12,2,   3.4833,     -999.0,     -999.0,9,     -999.0,      0.008,2,      0.000,2,     -999.0,5
09AR20110104,       SR03,       8,          1,          5,          5,2,20110105,       2124,   -45.6982,   145.6620,       2003,  1400.7,   3.1342,  34.4458,2,  34.4357,4,    182.2,2,   181.9,2,   57.90,2,    2.34,2,  2235.4,2,  2320.4,2, -999.00,9,   33.27,2,   3.0334,     -999.0,     -999.0,9,     -999.0,      0.011,2,      0.000,2,     -999.0,5
09AR20110104,       SR03,       8,          1,          4,          4,2,20110105,       2124,   -45.6982,   145.6620,       2003,  1550.0,   2.9187,  34.5412,2,  34.5294,4,    168.9,2,   168.8,2,   72.40,2,    2.38,2,  2251.3,2,  2338.3,2, -999.00,9,   33.56,2,   2.8077,     -999.0,     -999.0,9,     -999.0,      0.003,2,      0.000,2,     -999.0,5
09AR20110104,       SR03,       8,          1,          3,          3,2,20110105,       2124,   -45.6982,   145.6620,       2003,  1677.5,   2.6470,  34.5964,2,  34.5824,4,    170.6,2,   171.4,2,   76.20,2,    2.34,2,  2252.4,2,  2340.1,2, -999.00,9,   33.12,2,   2.5286,     -999.0,     -999.0,9,     -999.0,      0.005,2,      0.000,2,     -999.0,5
09AR20110104,       SR03,       8,          1,          2,        102,2,20110105,       2124,   -45.6982,   145.6620,       2003,  1899.8,   2.4795,  34.6487,2,  34.6358,4,    171.7,2,   173.4,2,   81.00,2,    2.31,2,  -999.0,9,  -999.0,9, -999.00,9,   32.63,2,   2.3444,     -999.0,     -999.0,9,     -999.0,      0.002,2,      0.000,2,     -999.0,5
09AR20110104,       SR03,       8,          1,          1,          1,2,20110105,       2124,   -45.6982,   145.6620,       2003,  2017.2,   2.3812,  34.6746,2,  34.6684,4,    174.0,2,   174.8,2,   83.50,2,    2.29,2,  2257.7,6,  2348.5,6, -999.00,9,   32.27,2,   2.2373,     -999.0,     -999.0,9,     -999.0,     -0.116,2,      0.000,2,     -999.0,5