BOTTLE,20230419CCHSIOENA
EXPOCODE,SECT_ID,STNNBR,CASTNO,SAMPNO,BTLNBR,BTLNBR_FLAG_W,DATE,TIME,LATITUDE,LONGITUDE,DEPTH,CTDPRS,CTDTMP,CTDSAL,CTDSAL_FLAG_W,SALNTY,SALNTY_FLAG_W,CTDOXY,CTDOXY_FLAG_W,OXYGEN,OXYGEN_FLAG_W,SILCAT,SILCAT_FLAG_W,PHSPHT,PHSPHT_FLAG_W,TCARBN,TCARBN_FLAG_W,ALKALI,ALKALI_FLAG_W,DELO18,DELO18_FLAG_W,NO2+NO3,NO2+NO3_FLAG_W,THETA,O18ERR,DELD,DELD_FLAG_W,DELDERR,CTDFLUOR,CTDFLUOR_FLAG_W,PAR,PAR_FLAG_W,CTDXMISS,CTDXMISS_FLAG_W
,,,,,,,,,,,METERS,DBAR,ITS-90,PSS-78,,PSS-78,,UMOL/KG,,UMOL/KG,,UMOL/KG,,UMOL/KG,,UMOL/KG,,UMOL/KG,,/MILLE,,UMOL/KG,,DEG C,/MILLE,/MILLE,,/MILLE,MG/M^3,,UMOL/M^2/SEC,,%TRANS,
09AR20110104,       SR03,     122,          1,         24,         24,2,20110127,       0746,   -67.3962,   146.4730,        610,    10.4,  -0.3966,  33.7874,2,  33.7881,2,    391.5,2,   391.8,2,   51.30,2,    0.95,2,  2085.2,6,  2302.6,6,   -0.40,2,   14.44,2,  -0.3969,       0.01,      -4.28,2,       0.03,     18.094,2,     10.359,2,     82.650,2
09AR20110104,       SR03,     122,          1,         23,         23,2,20110127,       0746,   -67.3962,   146.4730,        610,    10.4,  -0.3963,  33.7873,2,-999.0000,9,    391.5,2,  -999.0,9, -999.00,9, -999.00,9,  -999.0,9,  -999.0,9, -999.00,9, -999.00,9,  -0.3966,     -999.0,     -999.0,9,     -999.0,     16.833,2,     10.399,2,     82.487,2
09AR20110104,       SR03,     122,          1,         22,         22,2,20110127,       0746,   -67.3962,   146.4730,        610,    10.4,  -0.3944,  33.7867,2,-999.0000,9,    391.5,2,  -999.0,9, -999.00,9, -999.00,9,  -999.0,9,  -999.0,9, -999.00,9, -999.00,9,  -0.3947,     -999.0,     -999.0,9,     -999.0,     16.625,2,     10.149,2,     82.396,2
09AR20110104,       SR03,     122,          1,         21,         21,2,20110127,       0746,   -67.3962,   146.4730,        610,    10.4,  -0.3922,  33.7861,2,-999.0000,9,    391.5,2,  -999.0,9, -999.00,9, -999.00,9,  -999.0,9,  -999.0,9, -999.00,9, -999.00,9,  -0.3925,     -999.0,     -999.0,9,     -999.0,     16.408,2,      9.830,2,     82.883,2
09AR20110104,       SR03,     122,          1,         20,         20,2,20110127,       0746,   -67.3962,   146.4730,        610,    10.4,  -0.3898,  33.7852,2,-999.0000,9,    391.5,2,  -999.0,9, -999.00,9, -999.00,9,  -999.0,9,  -999.0,9, -999.00,9, -999.00,9,  -0.3901,     -999.0,     -999.0,9,     -999.0,     14.750,2,      9.500,2,     82.560,2
09AR20110104,       SR03,     122,          1,         19,         19,2,20110127,       0746,   -67.3962,   146.4730,        610,    10.4,  -0.3882,  33.7846,2,-999.0000,9,    391.5,2,  -999.0,9, -999.00,9, -999.00,9,  -999.0,9,  -999.0,9, -999.00,9, -999.00,9,  -0.3885,     -999.0,     -999.0,9,     -999.0,     15.493,2,      8.719,2,     82.608,2
09AR20110104,       SR03,     122,          1,         18,         18,2,20110127,       0746,   -67.3962,   146.4730,        610,    66.1,  -1.6661,  34.3708,2,  34.3705,2,    310.8,2,   310.9,2,   73.20,2,    2.07,2,  2225.2,2,  2324.5,6,   -0.28,2,   29.85,2,  -1.6675,       0.02,      -3.26,2,       0.17,      6.562,2,      0.000,2,     93.037,2
09AR20110104,       SR03,     122,          1,         17,         17,2,20110127,       0746,   -67.3962,   146.4730,        610,    66.1,  -1.6662,  34.3707,2,-999.0000,9,    310.8,2,  -999.0,9, -999.00,9, -999.00,9,  -999.0,9,  -999.0,9, -999.00,9, -999.00,9,  -1.6676,     -999.0,     -999.0,9,     -999.0,      7.223,2,      0.000,2,     92.886,2
09AR20110104,       SR03,     122,          1,         16,         16,2,20110127,       0746,   -67.3962,   146.4730,        610,    65.9,  -1.6665,  34.3709,2,-999.0000,9,    310.8,2,  -999.0,9, -999.00,9, -999.00,9,  -999.0,9,  -999.0,9, -999.00,9, -999.00,9,  -1.6679,     -999.0,     -999.0,9,     -999.0,      7.205,2,      0.000,2,     93.093,2
09AR20110104,       SR03,     122,          1,         15,         15,2,20110127,       0746,   -67.3962,   146.4730,        610,    65.7,  -1.6669,  34.3709,2,-999.0000,9,    310.8,2,  -999.0,9, -999.00,9, -999.00,9,  -999.0,9,  -999.0,9, -999.00,9, -999.00,9,  -1.6683,     -999.0,     -999.0,9,     -999.0,      7.782,2,      0.000,2,     93.003,2
09AR20110104,       SR03,     122,          1,         14,         14,2,20110127,       0746,   -67.3962,   146.4730,        610,   150.2,  -1.7352,  34.4061,2,  34.4055,2,    305.2,2,   305.3,2,   74.00,2,    2.05,2,  2228.3,2,  2324.6,2,   -0.39,2,   30.31,2,  -1.7384,       0.14,      -3.88,2,       0.21,      0.980,2,      0.000,2,     97.914,2
09AR20110104,       SR03,     122,          1,         13,         13,2,20110127,       0746,   -67.3962,   146.4730,        610,   150.2,  -1.7353,  34.4062,2,-999.0000,9,    305.2,2,  -999.0,9, -999.00,9, -999.00,9,  -999.0,9,  -999.0,9, -999.00,9, -999.00,9,  -1.7385,     -999.0,     -999.0,9,     -999.0,      1.017,2,      0.000,2,     98.113,2
09AR20110104,       SR03,     122,          1,         12,         12,2,20110127,       0746,   -67.3962,   146.4730,        610,   150.2,  -1.7355,  34.4062,2,-999.0000,9,    305.2,2,  -999.0,9, -999.00,9, -999.00,9,  -999.0,9,  -999.0,9, -999.00,9, -999.00,9,  -1.7387,     -999.0,     -999.0,9,     -999.0,      1.266,2,      0.000,2,     97.980,2
09AR20110104,       SR03,     122,          1,         11,         11,2,20110127,       0746,   -67.3962,   146.4730,        610,   321.8,  -1.7729,  34.4680,2,  34.4644,2,    300.7,2,   300.5,2,   74.50,2,    2.06,2,  2233.0,2,  2331.5,2,   -0.34,2,   30.26,2,  -1.7802,       0.02,      -3.99,2,       0.05,      0.063,2,      0.000,2,     99.099,2
09AR20110104,       SR03,     122,          1,         10,         10,2,20110127,       0746,   -67.3962,   146.4730,        610,   320.9,  -1.7850,  34.4658,2,-999.0000,9,    300.8,2,  -999.0,9, -999.00,9, -999.00,9,  -999.0,9,  -999.0,9, -999.00,9, -999.00,9,  -1.7922,     -999.0,     -999.0,9,     -999.0,      0.131,2,      0.000,2,     99.102,2
09AR20110104,       SR03,     122,          1,          9,          9,2,20110127,       0746,   -67.3962,   146.4730,        610,   320.7,  -1.7889,  34.4651,2,-999.0000,9,    300.8,2,  -999.0,9, -999.00,9, -999.00,9,  -999.0,9,  -999.0,9, -999.00,9, -999.00,9,  -1.7961,     -999.0,     -999.0,9,     -999.0,      0.498,2,      0.000,2,     99.120,2
09AR20110104,       SR03,     122,          1,          8,          8,2,20110127,       0746,   -67.3962,   146.4730,        610,   502.4,  -1.9087,  34.5637,2,  34.5612,2,    304.6,2,   305.4,2,   74.50,2,    2.07,2,  2239.4,2,  2337.3,2,   -0.40,2,   30.34,2,  -1.9204,       0.03,      -3.93,2,       0.12,      0.029,2,      0.000,2,     99.171,2
09AR20110104,       SR03,     122,          1,          7,          7,2,20110127,       0746,   -67.3962,   146.4730,        610,   502.2,  -1.9090,  34.5635,2,-999.0000,9,    304.6,2,  -999.0,9, -999.00,9, -999.00,9,  -999.0,9,  -999.0,9, -999.00,9, -999.00,9,  -1.9207,     -999.0,     -999.0,9,     -999.0,     -0.026,2,      0.000,2,     99.116,2
09AR20110104,       SR03,     122,          1,          6,          6,2,20110127,       0746,   -67.3962,   146.4730,        610,   502.0,  -1.9090,  34.5636,2,-999.0000,9,    304.6,2,  -999.0,9, -999.00,9, -999.00,9,  -999.0,9,  -999.0,9, -999.00,9, -999.00,9,  -1.9207,     -999.0,     -999.0,9,     -999.0,      0.001,2,      0.000,2,     99.139,2
09AR20110104,       SR03,     122,          1,          5,          5,2,20110127,       0746,   -67.3962,   146.4730,        610,   501.7,  -1.9089,  34.5635,2,-999.0000,9,    304.6,2,  -999.0,9, -999.00,9, -999.00,9,  -999.0,9,  -999.0,9, -999.00,9, -999.00,9,  -1.9206,     -999.0,     -999.0,9,     -999.0,      0.026,2,      0.000,2,     99.112,2
09AR20110104,       SR03,     122,          1,          4,          4,2,20110127,       0746,   -67.3962,   146.4730,        610,   501.4,  -1.9091,  34.5634,2,-999.0000,9,    304.6,2,  -999.0,9, -999.00,9, -999.00,9,  -999.0,9,  -999.0,9, -999.00,9, -999.00,9,  -1.9208,     -999.0,     -999.0,9,     -999.0,     -0.008,2,      0.000,2,     99.185,2
09AR20110104,       SR03,     122,          1,          3,          3,2,20110127,       0746,   -67.3962,   146.4730,        610,   501.0,  -1.9093,  34.5631,2,-999.0000,9,    304.6,2,  -999.0,9, -999.00,9, -999.00,9,  -999.0,9,  -999.0,9, -999.00,9, -999.00,9,  -1.9210,     -999.0,     -999.0,9,     -999.0,      0.006,2,      0.000,2,     99.179,2
09AR20110104,       SR03,     122,          1,          2,        102,2,20110127,       0746,   -67.3962,   146.4730,        610,   607.9,  -1.9036,  34.6182,2,  34.6174,2,    305.2,2,   305.1,2,   75.10,2,    2.07,2,  -999.0,9,  -999.0,9,   -0.32,2,   30.50,2,  -1.9185,       0.04,      -3.89,2,       0.24,     -0.024,2,      0.000,2,     98.498,2
09AR20110104,       SR03,     122,          1,          1,          1,2,20110127,       0746,   -67.3962,   146.4730,        610,   608.5,  -1.9041,  34.6176,2,-999.0000,9,    305.2,2,  -999.0,9, -999.00,9, -999.00,9,  -999.0,9,  -999.0,9, -999.00,9, -999.00,9,  -1.9190,     -999.0,     -999.0,9,     -999.0,      0.044,2,      0.000,2,     98.430,2
09AR20110104,       SR03,     123,          1,         24,         24,2,20110127,       1007,   -67.4883,   146.8060,        608,    10.1,  -0.2536,  33.6678,2,  33.6723,2,    392.3,2,   392.4,2,   49.10,2,    0.85,2,  2071.8,6,  2296.5,6,   -0.44,2,   13.22,2,  -0.2539,       0.15,      -4.55,2,       0.12,     14.397,2,      1.794,2,     84.434,2
09AR20110104,       SR03,     123,          1,         23,         23,2,20110127,       1007,   -67.4883,   146.8060,        608,    10.1,  -0.2514,  33.6659,2,-999.0000,9,    392.3,2,  -999.0,9, -999.00,9, -999.00,9,  -999.0,9,  -999.0,9, -999.00,9, -999.00,9,  -0.2517,     -999.0,     -999.0,9,     -999.0,     14.601,2,      1.852,2,     84.379,2
09AR20110104,       SR03,     123,          1,         22,         22,2,20110127,       1007,   -67.4883,   146.8060,        608,    10.1,  -0.2493,  33.6639,2,-999.0000,9,    392.3,2,  -999.0,9, -999.00,9, -999.00,9,  -999.0,9,  -999.0,9, -999.00,9, -999.00,9,  -0.2496,     -999.0,     -999.0,9,     -999.0,     14.383,2,      1.845,2,     84.698,2
09AR20110104,       SR03,     123,          1,         21,         21,2,20110127,       1007,   -67.4883,   146.8060,        608,    10.1,  -0.2493,  33.6639,2,-999.0000,9,    392.3,2,  -999.0,9, -999.00,9, -999.00,9,  -999.0,9,  -999.0,9, -999.00,9, -999.00,9,  -0.2496,     -999.0,     -999.0,9,     -999.0,     14.555,2,      1.876,2,     84.291,2
09AR20110104,       SR03,     123,          1,         20,         20,2,20110127,       1007,   -67.4883,   146.8060,        608,    10.1,  -0.2492,  33.6640,2,-999.0000,9,    392.3,2,  -999.0,9, -999.00,9, -999.00,9,  -999.0,9,  -999.0,9, -999.00,9, -999.00,9,  -0.2495,     -999.0,     -999.0,9,     -999.0,     14.144,2,      1.900,2,     84.357,2
09AR20110104,       SR03,     123,          1,         19,         19,2,20110127,       1007,   -67.4883,   146.8060,        608,    10.1,  -0.2504,  33.6638,2,-999.0000,9,    392.3,2,  -999.0,9, -999.00,9, -999.00,9,  -999.0,9,  -999.0,9, -999.00,9, -999.00,9,  -0.2507,     -999.0,     -999.0,9,     -999.0,     14.774,2,      1.975,2,     84.219,2
09AR20110104,       SR03,     123,          1,         18,         18,2,20110127,       1007,   -67.4883,   146.8060,        608,    64.8,  -1.4602,  34.2876,2,  34.2887,2,    326.5,2,   326.6,2,   69.80,2,    1.97,2,  2208.6,2,  2323.7,2,   -0.30,2,   27.10,2,  -1.4617,       0.03,      -3.90,2,       0.07,     15.653,2,      0.000,2,     87.161,2
09AR20110104,       SR03,     123,          1,         17,         17,2,20110127,       1007,   -67.4883,   146.8060,        608,    64.8,  -1.4567,  34.2867,2,-999.0000,9,    326.5,2,  -999.0,9, -999.00,9, -999.00,9,  -999.0,9,  -999.0,9, -999.00,9, -999.00,9,  -1.4582,     -999.0,     -999.0,9,     -999.0,     14.503,2,      0.000,2,     87.136,2
09AR20110104,       SR03,     123,          1,         16,         16,2,20110127,       1007,   -67.4883,   146.8060,        608,    64.8,  -1.4546,  34.2849,2,-999.0000,9,    326.5,2,  -999.0,9, -999.00,9, -999.00,9,  -999.0,9,  -999.0,9, -999.00,9, -999.00,9,  -1.4561,     -999.0,     -999.0,9,     -999.0,     15.703,2,      0.000,2,     87.430,2
09AR20110104,       SR03,     123,          1,         15,         15,2,20110127,       1007,   -67.4883,   146.8060,        608,    64.8,  -1.4540,  34.2835,2,-999.0000,9,    326.5,2,  -999.0,9, -999.00,9, -999.00,9,  -999.0,9,  -999.0,9, -999.00,9, -999.00,9,  -1.4555,     -999.0,     -999.0,9,     -999.0,     13.868,2,      0.000,2,     87.233,2
09AR20110104,       SR03,     123,          1,         14,         14,2,20110127,       1007,   -67.4883,   146.8060,        608,   131.4,  -1.7300,  34.3927,2,  34.3919,2,    307.9,2,   307.7,2,   73.50,2,    2.06,2,  2224.2,2,  2324.9,2,   -0.39,2,   30.13,2,  -1.7328,       0.03,      -4.05,2,       0.08,      2.113,2,      0.000,2,     96.015,2
09AR20110104,       SR03,     123,          1,         13,         13,2,20110127,       1007,   -67.4883,   146.8060,        608,   132.0,  -1.7279,  34.3929,2,-999.0000,9,    307.9,2,  -999.0,9, -999.00,9, -999.00,9,  -999.0,9,  -999.0,9, -999.00,9, -999.00,9,  -1.7307,     -999.0,     -999.0,9,     -999.0,      2.249,2,      0.000,2,     96.341,2
09AR20110104,       SR03,     123,          1,         12,         12,2,20110127,       1007,   -67.4883,   146.8060,        608,   131.6,  -1.7283,  34.3928,2,-999.0000,9,    307.9,2,  -999.0,9, -999.00,9, -999.00,9,  -999.0,9,  -999.0,9, -999.00,9, -999.00,9,  -1.7311,     -999.0,     -999.0,9,     -999.0,      3.330,2,      0.000,2,     96.234,2
09AR20110104,       SR03,     123,          1,         11,         11,2,20110127,       1007,   -67.4883,   146.8060,        608,   326.2,  -1.7982,  34.4606,2,  34.4614,2,    300.2,2,   300.7,2,   74.80,2,    2.06,2,  2230.7,2,  2330.9,2,   -0.37,2,   30.49,2,  -1.8055,       0.06,      -3.96,2,       0.12,      0.064,2,      0.000,2,     99.118,2
09AR20110104,       SR03,     123,          1,         10,         10,2,20110127,       1007,   -67.4883,   146.8060,        608,   325.9,  -1.7971,  34.4601,2,-999.0000,9,    300.2,2,  -999.0,9, -999.00,9, -999.00,9,  -999.0,9,  -999.0,9, -999.00,9, -999.00,9,  -1.8044,     -999.0,     -999.0,9,     -999.0,      0.045,2,      0.000,2,     99.115,2
09AR20110104,       SR03,     123,          1,          9,          9,2,20110127,       1007,   -67.4883,   146.8060,        608,   325.7,  -1.7968,  34.4599,2,-999.0000,9,    300.2,2,  -999.0,9, -999.00,9, -999.00,9,  -999.0,9,  -999.0,9, -999.00,9, -999.00,9,  -1.8041,     -999.0,     -999.0,9,     -999.0,      0.131,2,      0.000,2,     99.083,2
09AR20110104,       SR03,     123,          1,          8,          8,2,20110127,       1007,   -67.4883,   146.8060,        608,   501.6,  -1.9147,  34.5662,2,  34.5641,2,    305.2,2,   305.6,2,   75.20,2,    2.06,2,  2234.5,2,  2338.2,2,   -0.34,2,   30.73,2,  -1.9264,       0.02,      -3.97,2,       0.14,     -0.054,2,      0.000,2,     98.987,2
09AR20110104,       SR03,     123,          1,          7,          7,2,20110127,       1007,   -67.4883,   146.8060,        608,   501.4,  -1.9145,  34.5662,2,-999.0000,9,    305.2,2,  -999.0,9, -999.00,9, -999.00,9,  -999.0,9,  -999.0,9, -999.00,9, -999.00,9,  -1.9262,     -999.0,     -999.0,9,     -999.0,      0.002,2,      0.000,2,     98.973,2
09AR20110104,       SR03,     123,          1,          6,          6,2,20110127,       1007,   -67.4883,   146.8060,        608,   501.2,  -1.9137,  34.5655,2,-999.0000,9,    305.2,2,  -999.0,9, -999.00,9, -999.00,9,  -999.0,9,  -999.0,9, -999.00,9, -999.00,9,  -1.9254,     -999.0,     -999.0,9,     -999.0,     -0.013,2,      0.000,2,     98.960,2
09AR20110104,       SR03,     123,          1,          5,          5,2,20110127,       1007,   -67.4883,   146.8060,        608,   501.0,  -1.9139,  34.5657,2,-999.0000,9,    305.2,2,  -999.0,9, -999.00,9, -999.00,9,  -999.0,9,  -999.0,9, -999.00,9, -999.00,9,  -1.9256,     -999.0,     -999.0,9,     -999.0,      0.011,2,      0.000,2,     98.968,2
09AR20110104,       SR03,     123,          1,          4,          4,2,20110127,       1007,   -67.4883,   146.8060,        608,   500.8,  -1.9145,  34.5661,2,-999.0000,9,    305.1,2,  -999.0,9, -999.00,9, -999.00,9,  -999.0,9,  -999.0,9, -999.00,9, -999.00,9,  -1.9262,     -999.0,     -999.0,9,     -999.0,     -0.018,2,      0.000,2,     98.980,2
09AR20110104,       SR03,     123,          1,          3,          3,2,20110127,       1007,   -67.4883,   146.8060,        608,   500.7,  -1.9142,  34.5658,2,-999.0000,9,    305.1,2,  -999.0,9, -999.00,9, -999.00,9,  -999.0,9,  -999.0,9, -999.00,9, -999.00,9,  -1.9259,     -999.0,     -999.0,9,     -999.0,      0.039,2,      0.000,2,     98.951,2
09AR20110104,       SR03,     123,          1,          2,        102,2,20110127,       1007,   -67.4883,   146.8060,        608,   604.4,  -1.8989,  34.6270,2,  34.6213,2,    305.7,2,   305.8,2,   76.00,2,    2.07,2,  -999.0,9,  -999.0,9,   -0.49,2,   30.91,2,  -1.9137,       0.02,      -4.46,2,       0.14,      0.067,2,      0.000,2,     98.001,2
09AR20110104,       SR03,     123,          1,          1,          1,2,20110127,       1007,   -67.4883,   146.8060,        608,   603.2,  -1.8994,  34.6263,2,-999.0000,9,    305.7,2,  -999.0,9, -999.00,9, -999.00,9,  -999.0,9,  -999.0,9, -999.00,9, -999.00,9,  -1.9142,     -999.0,     -999.0,9,     -999.0,      0.090,2,      0.000,2,     97.983,2