BOTTLE,20230419CCHSIOENA
EXPOCODE,SECT_ID,STNNBR,CASTNO,SAMPNO,BTLNBR,BTLNBR_FLAG_W,DATE,TIME,LATITUDE,LONGITUDE,DEPTH,CTDPRS,CTDTMP,CTDSAL,CTDSAL_FLAG_W,SALNTY,SALNTY_FLAG_W,CTDOXY,CTDOXY_FLAG_W,OXYGEN,OXYGEN_FLAG_W,SILCAT,SILCAT_FLAG_W,PHSPHT,PHSPHT_FLAG_W,TCARBN,TCARBN_FLAG_W,ALKALI,ALKALI_FLAG_W,DELO18,DELO18_FLAG_W,NO2+NO3,NO2+NO3_FLAG_W,THETA,O18ERR,DELD,DELD_FLAG_W,DELDERR,CTDFLUOR,CTDFLUOR_FLAG_W,PAR,PAR_FLAG_W,CTDXMISS,CTDXMISS_FLAG_W
,,,,,,,,,,,METERS,DBAR,ITS-90,PSS-78,,PSS-78,,UMOL/KG,,UMOL/KG,,UMOL/KG,,UMOL/KG,,UMOL/KG,,UMOL/KG,,/MILLE,,UMOL/KG,,DEG C,/MILLE,/MILLE,,/MILLE,MG/M^3,,UMOL/M^2/SEC,,%TRANS,
09AR20110104,       SR03,     102,          1,         24,         24,2,20110125,       1342,   -66.5425,   143.7010,        740,    10.7,  -1.1807,  33.4641,2,  33.4645,2,    376.0,2,   376.8,2,   38.30,2,    0.97,2,  -999.0,9,  -999.0,9,   -0.38,2,   17.80,2,  -1.1809,       0.15,      -4.29,2,       0.42,     16.443,2,      0.000,2,     84.064,2
09AR20110104,       SR03,     102,          1,         23,         23,2,20110125,       1342,   -66.5425,   143.7010,        740,    10.6,  -1.1782,  33.4648,2,-999.0000,9,    376.0,2,  -999.0,9, -999.00,9, -999.00,9,  -999.0,9,  -999.0,9, -999.00,9, -999.00,9,  -1.1784,     -999.0,     -999.0,9,     -999.0,     16.473,2,      0.000,2,     84.238,2
09AR20110104,       SR03,     102,          1,         22,         22,2,20110125,       1342,   -66.5425,   143.7010,        740,    60.9,  -1.0646,  33.6066,2,  33.6142,2,    371.4,2,   371.3,2,   41.10,2,    1.05,2,  -999.0,9,  -999.0,9,   -0.43,2,   18.76,2,  -1.0661,       0.10,      -4.36,2,       0.18,     13.895,2,      0.000,2,     85.447,2
09AR20110104,       SR03,     102,          1,         21,         21,2,20110125,       1342,   -66.5425,   143.7010,        740,    60.9,  -1.0644,  33.6055,2,-999.0000,9,    371.4,2,  -999.0,9, -999.00,9, -999.00,9,  -999.0,9,  -999.0,9, -999.00,9, -999.00,9,  -1.0659,     -999.0,     -999.0,9,     -999.0,     14.171,2,      0.000,2,     85.608,2
09AR20110104,       SR03,     102,          1,         20,         20,2,20110125,       1342,   -66.5425,   143.7010,        740,    60.8,  -1.0664,  33.6049,2,-999.0000,9,    371.4,2,  -999.0,9, -999.00,9, -999.00,9,  -999.0,9,  -999.0,9, -999.00,9, -999.00,9,  -1.0679,     -999.0,     -999.0,9,     -999.0,     14.656,2,      0.000,2,     85.416,2
09AR20110104,       SR03,     102,          1,         19,         19,2,20110125,       1342,   -66.5425,   143.7010,        740,    60.8,  -1.0722,  33.6004,2,-999.0000,9,    371.4,2,  -999.0,9, -999.00,9, -999.00,9,  -999.0,9,  -999.0,9, -999.00,9, -999.00,9,  -1.0737,     -999.0,     -999.0,9,     -999.0,     13.996,2,      0.000,2,     85.394,2
09AR20110104,       SR03,     102,          1,         18,         18,2,20110125,       1342,   -66.5425,   143.7010,        740,   111.7,  -1.7443,  34.2906,2,-999.0000,9,    318.9,2,   318.6,2,   71.60,2,    1.98,2,  -999.0,9,  -999.0,9,   -0.47,2,   29.09,2,  -1.7466,       0.13,      -4.22,2,       0.28,      1.080,2,      0.000,2,     97.421,2
09AR20110104,       SR03,     102,          1,         17,         17,2,20110125,       1342,   -66.5425,   143.7010,        740,   111.4,  -1.7443,  34.2902,2,-999.0000,9,    318.9,2,  -999.0,9, -999.00,9, -999.00,9,  -999.0,9,  -999.0,9, -999.00,9, -999.00,9,  -1.7466,     -999.0,     -999.0,9,     -999.0,      1.123,2,      0.000,2,     97.424,2
09AR20110104,       SR03,     102,          1,         16,         16,2,20110125,       1342,   -66.5425,   143.7010,        740,   252.3,  -1.4554,  34.4359,2,  34.4365,2,    292.8,2,   291.3,2,   76.30,2,    2.06,2,  -999.0,9,  -999.0,9,   -0.35,2,   30.61,2,  -1.4616,       0.07,      -3.70,2,       0.20,      0.217,2,      0.000,2,     98.772,2
09AR20110104,       SR03,     102,          1,         15,         15,2,20110125,       1342,   -66.5425,   143.7010,        740,   250.7,  -1.4586,  34.4346,2,-999.0000,9,    292.9,2,  -999.0,9, -999.00,9, -999.00,9,  -999.0,9,  -999.0,9, -999.00,9, -999.00,9,  -1.4648,     -999.0,     -999.0,9,     -999.0,      0.168,2,      0.000,2,     98.832,2
09AR20110104,       SR03,     102,          1,         14,         14,2,20110125,       1342,   -66.5425,   143.7010,        740,   351.1,  -1.8384,  34.5094,2,-999.0000,9,    300.5,2,   301.9,2,   76.10,2,    2.06,2,  -999.0,9,  -999.0,9,   -0.32,2,   30.52,2,  -1.8463,       0.03,      -4.07,2,       0.07,      0.032,2,      0.000,2,     99.152,2
09AR20110104,       SR03,     102,          1,         13,         13,2,20110125,       1342,   -66.5425,   143.7010,        740,   350.9,  -1.8285,  34.5097,2,-999.0000,9,    299.9,2,  -999.0,9, -999.00,9, -999.00,9,  -999.0,9,  -999.0,9, -999.00,9, -999.00,9,  -1.8364,     -999.0,     -999.0,9,     -999.0,      0.034,2,      0.000,2,     99.164,2
09AR20110104,       SR03,     102,          1,         12,         12,2,20110125,       1342,   -66.5425,   143.7010,        740,   350.9,  -1.8097,  34.5095,2,-999.0000,9,    299.9,2,  -999.0,9, -999.00,9, -999.00,9,  -999.0,9,  -999.0,9, -999.00,9, -999.00,9,  -1.8176,     -999.0,     -999.0,9,     -999.0,      0.050,2,      0.000,2,     99.138,2
09AR20110104,       SR03,     102,          1,         11,         11,2,20110125,       1342,   -66.5425,   143.7010,        740,   403.0,  -1.9256,  34.5299,2,-999.0000,9,    307.1,2,   306.3,2,   75.60,2,    2.06,2,  -999.0,9,  -999.0,9,   -0.33,2,   30.51,2,  -1.9345,       0.18,      -3.69,2,       0.19,      0.034,2,      0.000,2,     99.208,2
09AR20110104,       SR03,     102,          1,         10,         10,2,20110125,       1342,   -66.5425,   143.7010,        740,   501.1,  -1.9642,  34.5710,2,  34.5710,2,    308.8,2,   308.0,2,   75.50,2,    2.05,2,  -999.0,9,  -999.0,9,   -0.48,2,   30.57,2,  -1.9757,       0.17,      -4.47,2,       0.34,     -0.051,2,      0.000,2,     99.081,2
09AR20110104,       SR03,     102,          1,          9,          9,2,20110125,       1342,   -66.5425,   143.7010,        740,   501.6,  -1.9621,  34.5710,2,-999.0000,9,    308.8,2,  -999.0,9, -999.00,9, -999.00,9,  -999.0,9,  -999.0,9, -999.00,9, -999.00,9,  -1.9736,     -999.0,     -999.0,9,     -999.0,     -0.055,2,      0.000,2,     99.097,2
09AR20110104,       SR03,     102,          1,          8,          8,2,20110125,       1342,   -66.5425,   143.7010,        740,   650.7,  -1.8982,  34.6198,2,-999.0000,9,    307.2,2,   307.4,2,   75.80,2,    2.06,2,  -999.0,9,  -999.0,9,   -0.43,2,   30.69,2,  -1.9145,       0.07,      -4.36,2,       0.10,     -0.010,2,      0.000,2,     99.087,2
09AR20110104,       SR03,     102,          1,          7,          7,2,20110125,       1342,   -66.5425,   143.7010,        740,   650.6,  -1.8982,  34.6200,2,-999.0000,9,    307.2,2,  -999.0,9, -999.00,9, -999.00,9,  -999.0,9,  -999.0,9, -999.00,9, -999.00,9,  -1.9145,     -999.0,     -999.0,9,     -999.0,     -0.042,2,      0.000,2,     99.095,2
09AR20110104,       SR03,     102,          1,          6,          6,2,20110125,       1342,   -66.5425,   143.7010,        740,   650.7,  -1.8980,  34.6200,2,-999.0000,9,    307.2,2,  -999.0,9, -999.00,9, -999.00,9,  -999.0,9,  -999.0,9, -999.00,9, -999.00,9,  -1.9143,     -999.0,     -999.0,9,     -999.0,     -0.016,2,      0.000,2,     99.100,2
09AR20110104,       SR03,     102,          1,          5,          5,2,20110125,       1342,   -66.5425,   143.7010,        740,   650.7,  -1.8978,  34.6201,2,-999.0000,9,    307.2,2,  -999.0,9, -999.00,9, -999.00,9,  -999.0,9,  -999.0,9, -999.00,9, -999.00,9,  -1.9141,     -999.0,     -999.0,9,     -999.0,     -0.004,2,      0.000,2,     99.094,2
09AR20110104,       SR03,     102,          1,          4,          4,2,20110125,       1342,   -66.5425,   143.7010,        740,   650.8,  -1.8979,  34.6202,2,-999.0000,9,    307.2,2,  -999.0,9, -999.00,9, -999.00,9,  -999.0,9,  -999.0,9, -999.00,9, -999.00,9,  -1.9142,     -999.0,     -999.0,9,     -999.0,      0.032,2,      0.000,2,     99.081,2
09AR20110104,       SR03,     102,          1,          3,          3,2,20110125,       1342,   -66.5425,   143.7010,        740,   651.1,  -1.8974,  34.6206,2,-999.0000,9,    307.3,2,  -999.0,9, -999.00,9, -999.00,9,  -999.0,9,  -999.0,9, -999.00,9, -999.00,9,  -1.9137,     -999.0,     -999.0,9,     -999.0,     -0.019,2,      0.000,2,     99.049,2
09AR20110104,       SR03,     102,          1,          2,        102,2,20110125,       1342,   -66.5425,   143.7010,        740,   738.7,  -1.8875,  34.6369,2,  34.6372,2,    305.7,2,   306.2,2,   77.40,2,    2.09,2,  -999.0,9,  -999.0,9,   -0.38,2,   30.76,2,  -1.9067,       0.07,      -4.31,2,       0.25,     -0.021,2,      0.000,2,     98.760,2
09AR20110104,       SR03,     102,          1,          1,          1,2,20110125,       1342,   -66.5425,   143.7010,        740,   737.5,  -1.8875,  34.6369,2,-999.0000,9,    305.7,2,  -999.0,9, -999.00,9, -999.00,9,  -999.0,9,  -999.0,9, -999.00,9, -999.00,9,  -1.9067,     -999.0,     -999.0,9,     -999.0,     -0.025,2,      0.000,2,     98.751,2
09AR20110104,       SR03,     103,          1,         24,         24,2,20110125,       1613,   -66.5270,   143.9310,        762,     9.5,  -1.0192,  33.5194,2,  33.5210,2,    377.5,2,   377.0,2,   37.80,2,    0.95,2,  2111.5,6,  2278.7,6,   -0.58,2,   17.59,2,  -1.0194,       0.14,      -4.63,2,       0.20,     14.407,2,      0.284,2,     84.667,2
09AR20110104,       SR03,     103,          1,         23,         23,2,20110125,       1613,   -66.5270,   143.9310,        762,     9.5,  -1.0191,  33.5194,2,-999.0000,9,    377.5,2,  -999.0,9, -999.00,9, -999.00,9,  -999.0,9,  -999.0,9, -999.00,9, -999.00,9,  -1.0193,     -999.0,     -999.0,9,     -999.0,     15.959,2,      0.272,2,     84.611,2
09AR20110104,       SR03,     103,          1,         22,         22,2,20110125,       1613,   -66.5270,   143.9310,        762,    60.3,  -1.0088,  33.5851,2,-999.0000,9,    374.6,2,  -999.0,9, -999.00,9, -999.00,9,  -999.0,9,  -999.0,9, -999.00,9, -999.00,9,  -1.0103,     -999.0,     -999.0,9,     -999.0,     13.884,2,      0.000,2,     85.196,2
09AR20110104,       SR03,     103,          1,         21,         21,2,20110125,       1613,   -66.5270,   143.9310,        762,    60.4,  -1.0092,  33.5860,2,-999.0000,9,    374.6,2,  -999.0,9, -999.00,9, -999.00,9,  -999.0,9,  -999.0,9, -999.00,9, -999.00,9,  -1.0107,     -999.0,     -999.0,9,     -999.0,     13.612,2,      0.000,2,     85.333,2
09AR20110104,       SR03,     103,          1,         20,         20,2,20110125,       1613,   -66.5270,   143.9310,        762,    60.4,  -1.0077,  33.5836,2,  33.5882,2,    374.6,2,   374.2,2,   39.50,2,    1.08,2,  2117.5,2,  2281.8,2,   -0.48,2,   18.27,2,  -1.0092,       0.04,      -4.50,2,       0.09,     12.847,2,      0.000,2,     85.190,2
09AR20110104,       SR03,     103,          1,         19,         19,2,20110125,       1613,   -66.5270,   143.9310,        762,    60.4,  -1.0097,  33.5830,2,-999.0000,9,    374.6,2,  -999.0,9, -999.00,9, -999.00,9,  -999.0,9,  -999.0,9, -999.00,9, -999.00,9,  -1.0112,     -999.0,     -999.0,9,     -999.0,     13.364,2,      0.000,2,     85.182,2
09AR20110104,       SR03,     103,          1,         18,         18,2,20110125,       1613,   -66.5270,   143.9310,        762,   123.3,  -1.7850,  34.3048,2,  34.3064,2,    315.2,2,   315.5,2,   72.20,2,    2.01,2,  2216.3,2,  2319.2,2,   -0.37,2,   29.71,2,  -1.7875,       0.06,      -3.93,2,       0.22,      0.940,2,      0.000,2,     97.824,2
09AR20110104,       SR03,     103,          1,         17,         17,2,20110125,       1613,   -66.5270,   143.9310,        762,   122.7,  -1.7896,  34.3043,2,-999.0000,9,    315.2,2,  -999.0,9, -999.00,9, -999.00,9,  -999.0,9,  -999.0,9, -999.00,9, -999.00,9,  -1.7921,     -999.0,     -999.0,9,     -999.0,      0.904,2,      0.000,2,     97.801,2
09AR20110104,       SR03,     103,          1,         16,         16,2,20110125,       1613,   -66.5270,   143.9310,        762,   219.5,  -1.5828,  34.4029,2,  34.4069,2,    296.5,2,   297.2,2,   74.80,2,    2.04,2,  2226.3,2,  2325.1,6,   -0.27,2,   30.49,2,  -1.5879,       0.17,      -3.28,2,       0.43,      0.389,2,      0.000,2,     98.456,2
09AR20110104,       SR03,     103,          1,         15,         15,2,20110125,       1613,   -66.5270,   143.9310,        762,   219.8,  -1.5814,  34.4032,2,-999.0000,9,    296.5,2,  -999.0,9, -999.00,9, -999.00,9,  -999.0,9,  -999.0,9, -999.00,9, -999.00,9,  -1.5865,     -999.0,     -999.0,9,     -999.0,      0.319,2,      0.000,2,     98.479,2
09AR20110104,       SR03,     103,          1,         14,         14,2,20110125,       1613,   -66.5270,   143.9310,        762,   312.5,  -1.2112,  34.5013,2,  34.5015,2,    278.8,2,   279.0,2,   79.60,2,    2.08,2,  2237.3,2,  2332.1,2,   -0.31,2,   30.89,2,  -1.2198,       0.02,      -3.34,2,       0.13,      0.100,2,      0.000,2,     98.724,2
09AR20110104,       SR03,     103,          1,         13,         13,2,20110125,       1613,   -66.5270,   143.9310,        762,   312.4,  -1.2107,  34.5013,2,-999.0000,9,    278.8,2,  -999.0,9, -999.00,9, -999.00,9,  -999.0,9,  -999.0,9, -999.00,9, -999.00,9,  -1.2193,     -999.0,     -999.0,9,     -999.0,      0.111,2,      0.000,2,     98.828,2
09AR20110104,       SR03,     103,          1,         12,         12,2,20110125,       1613,   -66.5270,   143.9310,        762,   312.3,  -1.2097,  34.5013,2,-999.0000,9,    278.8,2,  -999.0,9, -999.00,9, -999.00,9,  -999.0,9,  -999.0,9, -999.00,9, -999.00,9,  -1.2183,     -999.0,     -999.0,9,     -999.0,      0.167,2,      0.000,2,     98.754,2
09AR20110104,       SR03,     103,          1,         11,         11,2,20110125,       1613,   -66.5270,   143.9310,        762,   482.6,  -1.9249,  34.5655,2,-999.0000,9,    307.6,2,  -999.0,9, -999.00,9, -999.00,9,  -999.0,9,  -999.0,9, -999.00,9, -999.00,9,  -1.9360,     -999.0,     -999.0,9,     -999.0,     -0.001,2,      0.000,2,     99.138,2
09AR20110104,       SR03,     103,          1,         10,         10,2,20110125,       1613,   -66.5270,   143.9310,        762,   482.1,  -1.9252,  34.5656,2,  34.5643,2,    307.6,2,   308.0,2,   74.90,2,    2.04,2,  2235.8,2,  2335.3,2,   -0.44,2,   30.56,2,  -1.9363,       0.06,      -4.41,2,       0.30,      0.004,2,      0.000,2,     99.124,2
09AR20110104,       SR03,     103,          1,          9,          9,2,20110125,       1613,   -66.5270,   143.9310,        762,   481.7,  -1.9254,  34.5658,2,-999.0000,9,    307.6,2,  -999.0,9, -999.00,9, -999.00,9,  -999.0,9,  -999.0,9, -999.00,9, -999.00,9,  -1.9365,     -999.0,     -999.0,9,     -999.0,      0.000,2,      0.000,2,     99.091,2
09AR20110104,       SR03,     103,          1,          8,          8,2,20110125,       1613,   -66.5270,   143.9310,        762,   650.8,  -1.9034,  34.6167,2,  34.6176,2,    307.8,2,   307.5,2,   75.60,2,    2.06,2,  2239.8,2,  2339.0,2,   -0.20,2,   30.61,2,  -1.9196,       0.04,      -4.50,2,       0.22,     -0.016,2,      0.000,2,     99.006,2
09AR20110104,       SR03,     103,          1,          7,          7,2,20110125,       1613,   -66.5270,   143.9310,        762,   650.9,  -1.9034,  34.6166,2,-999.0000,9,    307.8,2,  -999.0,9, -999.00,9, -999.00,9,  -999.0,9,  -999.0,9, -999.00,9, -999.00,9,  -1.9196,     -999.0,     -999.0,9,     -999.0,      0.016,2,      0.000,2,     99.041,2
09AR20110104,       SR03,     103,          1,          6,          6,2,20110125,       1613,   -66.5270,   143.9310,        762,   650.7,  -1.9036,  34.6166,2,-999.0000,9,    307.8,2,  -999.0,9, -999.00,9, -999.00,9,  -999.0,9,  -999.0,9, -999.00,9, -999.00,9,  -1.9198,     -999.0,     -999.0,9,     -999.0,      0.034,2,      0.000,2,     99.095,2
09AR20110104,       SR03,     103,          1,          5,          5,2,20110125,       1613,   -66.5270,   143.9310,        762,   650.7,  -1.9035,  34.6169,2,-999.0000,9,    307.8,2,  -999.0,9, -999.00,9, -999.00,9,  -999.0,9,  -999.0,9, -999.00,9, -999.00,9,  -1.9197,     -999.0,     -999.0,9,     -999.0,     -0.012,2,      0.000,2,     99.098,2
09AR20110104,       SR03,     103,          1,          4,          4,2,20110125,       1613,   -66.5270,   143.9310,        762,   766.0,  -1.8881,  34.6357,2,-999.0000,9,    306.8,2,  -999.0,9, -999.00,9, -999.00,9,  -999.0,9,  -999.0,9, -999.00,9, -999.00,9,  -1.9082,     -999.0,     -999.0,9,     -999.0,     -0.022,2,      0.000,2,     98.769,2
09AR20110104,       SR03,     103,          1,          3,          3,2,20110125,       1613,   -66.5270,   143.9310,        762,   766.1,  -1.8881,  34.6357,2,-999.0000,9,    306.8,2,  -999.0,9, -999.00,9, -999.00,9,  -999.0,9,  -999.0,9, -999.00,9, -999.00,9,  -1.9082,     -999.0,     -999.0,9,     -999.0,     -0.012,2,      0.000,2,     98.758,2
09AR20110104,       SR03,     103,          1,          2,        102,2,20110125,       1613,   -66.5270,   143.9310,        762,   766.1,  -1.8881,  34.6358,2,  34.6347,2,    306.8,2,   306.3,2,   77.10,2,    2.07,2,  -999.0,9,  -999.0,9,   -0.48,2,   30.71,2,  -1.9082,       0.10,      -4.35,2,       0.34,      0.006,2,      0.000,2,     98.702,2
09AR20110104,       SR03,     103,          1,          1,          1,2,20110125,       1613,   -66.5270,   143.9310,        762,   766.0,  -1.8881,  34.6357,2,-999.0000,9,    306.8,2,  -999.0,9, -999.00,9, -999.00,9,  -999.0,9,  -999.0,9, -999.00,9, -999.00,9,  -1.9082,     -999.0,     -999.0,9,     -999.0,     -0.009,2,      0.000,2,     98.710,2