BOTTLE,20230419CCHSIOENA
EXPOCODE,SECT_ID,STNNBR,CASTNO,SAMPNO,BTLNBR,BTLNBR_FLAG_W,DATE,TIME,LATITUDE,LONGITUDE,DEPTH,CTDPRS,CTDTMP,CTDSAL,CTDSAL_FLAG_W,SALNTY,SALNTY_FLAG_W,CTDOXY,CTDOXY_FLAG_W,OXYGEN,OXYGEN_FLAG_W,SILCAT,SILCAT_FLAG_W,PHSPHT,PHSPHT_FLAG_W,TCARBN,TCARBN_FLAG_W,ALKALI,ALKALI_FLAG_W,DELO18,DELO18_FLAG_W,NO2+NO3,NO2+NO3_FLAG_W,THETA,O18ERR,DELD,DELD_FLAG_W,DELDERR,CTDFLUOR,CTDFLUOR_FLAG_W,PAR,PAR_FLAG_W,CTDXMISS,CTDXMISS_FLAG_W
,,,,,,,,,,,METERS,DBAR,ITS-90,PSS-78,,PSS-78,,UMOL/KG,,UMOL/KG,,UMOL/KG,,UMOL/KG,,UMOL/KG,,UMOL/KG,,/MILLE,,UMOL/KG,,DEG C,/MILLE,/MILLE,,/MILLE,MG/M^3,,UMOL/M^2/SEC,,%TRANS,
09AR20110104,       SR03,     118,          1,         24,         24,2,20110126,       2308,   -66.7943,   146.3810,        407,    10.7,  -1.0137,  33.4228,2,  33.4883,2,    389.2,2,   388.6,2,   45.20,2,    1.01,2,  2083.9,6,  2278.5,6, -999.00,9,   15.91,2,  -1.0140,     -999.0,     -999.0,9,     -999.0,      3.796,2,     41.199,2,     91.301,2
09AR20110104,       SR03,     118,          1,         23,         23,2,20110126,       2308,   -66.7943,   146.3810,        407,    10.6,  -1.0085,  33.4310,2,-999.0000,9,    389.2,2,  -999.0,9, -999.00,9, -999.00,9,  -999.0,9,  -999.0,9, -999.00,9, -999.00,9,  -1.0088,     -999.0,     -999.0,9,     -999.0,      5.377,2,     40.729,2,     90.500,2
09AR20110104,       SR03,     118,          1,         22,         22,2,20110126,       2308,   -66.7943,   146.3810,        407,    60.8,  -1.2974,  34.2069,2,-999.0000,9,    338.2,2,  -999.0,9, -999.00,9, -999.00,9,  -999.0,9,  -999.0,9, -999.00,9, -999.00,9,  -1.2988,     -999.0,     -999.0,9,     -999.0,      5.481,2,      0.000,2,     92.527,2
09AR20110104,       SR03,     118,          1,         21,         21,2,20110126,       2308,   -66.7943,   146.3810,        407,    60.8,  -1.2978,  34.2077,2,-999.0000,9,    338.2,2,  -999.0,9, -999.00,9, -999.00,9,  -999.0,9,  -999.0,9, -999.00,9, -999.00,9,  -1.2992,     -999.0,     -999.0,9,     -999.0,      6.103,2,      0.000,2,     92.800,2
09AR20110104,       SR03,     118,          1,         20,         20,2,20110126,       2308,   -66.7943,   146.3810,        407,    60.7,  -1.2961,  34.2037,2,  34.1879,2,    338.2,2,   339.2,2,   64.40,2,    1.84,2,  2193.8,2,  2315.8,2, -999.00,9,   25.18,2,  -1.2975,     -999.0,     -999.0,9,     -999.0,      5.965,2,      0.000,2,     92.844,2
09AR20110104,       SR03,     118,          1,         19,         19,2,20110126,       2308,   -66.7943,   146.3810,        407,    60.6,  -1.2917,  34.1954,2,-999.0000,9,    338.2,2,  -999.0,9, -999.00,9, -999.00,9,  -999.0,9,  -999.0,9, -999.00,9, -999.00,9,  -1.2931,     -999.0,     -999.0,9,     -999.0,      6.098,2,      0.000,2,     93.102,2
09AR20110104,       SR03,     118,          1,         18,         18,2,20110126,       2308,   -66.7943,   146.3810,        407,   122.8,  -1.6830,  34.3916,2,-999.0000,9,    307.0,2,  -999.0,9, -999.00,9, -999.00,9,  -999.0,9,  -999.0,9, -999.00,9, -999.00,9,  -1.6856,     -999.0,     -999.0,9,     -999.0,      2.737,2,      0.000,2,     95.803,2
09AR20110104,       SR03,     118,          1,         17,         17,2,20110126,       2308,   -66.7943,   146.3810,        407,   122.9,  -1.6831,  34.3917,2,-999.0000,9,    307.0,2,  -999.0,9, -999.00,9, -999.00,9,  -999.0,9,  -999.0,9, -999.00,9, -999.00,9,  -1.6857,     -999.0,     -999.0,9,     -999.0,      2.974,2,      0.000,2,     95.803,2
09AR20110104,       SR03,     118,          1,         16,         16,2,20110126,       2308,   -66.7943,   146.3810,        407,   122.8,  -1.6820,  34.3920,2,  34.3911,2,    307.0,2,   307.1,2,   74.10,2,    2.06,2,  2225.6,2,  2324.0,2, -999.00,9,   29.72,2,  -1.6846,     -999.0,     -999.0,9,     -999.0,      2.910,2,      0.000,2,     95.757,2
09AR20110104,       SR03,     118,          1,         15,         15,2,20110126,       2308,   -66.7943,   146.3810,        407,   122.9,  -1.6819,  34.3919,2,-999.0000,9,    307.0,2,  -999.0,9, -999.00,9, -999.00,9,  -999.0,9,  -999.0,9, -999.00,9, -999.00,9,  -1.6845,     -999.0,     -999.0,9,     -999.0,      3.058,2,      0.000,2,     95.885,2
09AR20110104,       SR03,     118,          1,         14,         14,2,20110126,       2308,   -66.7943,   146.3810,        407,   122.9,  -1.6817,  34.3921,2,-999.0000,9,    307.0,2,  -999.0,9, -999.00,9, -999.00,9,  -999.0,9,  -999.0,9, -999.00,9, -999.00,9,  -1.6843,     -999.0,     -999.0,9,     -999.0,      2.456,2,      0.000,2,     95.826,2
09AR20110104,       SR03,     118,          1,         13,         13,2,20110126,       2308,   -66.7943,   146.3810,        407,   200.1,  -1.7110,  34.4353,2,-999.0000,9,    301.7,2,  -999.0,9, -999.00,9, -999.00,9,  -999.0,9,  -999.0,9, -999.00,9, -999.00,9,  -1.7154,     -999.0,     -999.0,9,     -999.0,      0.499,2,      0.000,2,     98.057,2
09AR20110104,       SR03,     118,          1,         12,         12,2,20110126,       2308,   -66.7943,   146.3810,        407,   199.9,  -1.7111,  34.4354,2,-999.0000,9,    301.7,2,  -999.0,9, -999.00,9, -999.00,9,  -999.0,9,  -999.0,9, -999.00,9, -999.00,9,  -1.7155,     -999.0,     -999.0,9,     -999.0,      0.629,2,      0.000,2,     98.021,2
09AR20110104,       SR03,     118,          1,         11,         11,2,20110126,       2308,   -66.7943,   146.3810,        407,   199.9,  -1.7110,  34.4353,2,-999.0000,9,    301.7,2,  -999.0,9, -999.00,9, -999.00,9,  -999.0,9,  -999.0,9, -999.00,9, -999.00,9,  -1.7154,     -999.0,     -999.0,9,     -999.0,      0.715,2,      0.000,2,     98.099,2
09AR20110104,       SR03,     118,          1,         10,         10,2,20110126,       2308,   -66.7943,   146.3810,        407,   199.8,  -1.7113,  34.4353,2,  34.4340,2,    301.7,2,   301.1,2,   75.70,2,    2.05,2,  2229.5,2,  2327.4,2, -999.00,9,   30.26,2,  -1.7157,     -999.0,     -999.0,9,     -999.0,      0.724,2,      0.000,2,     98.008,2
09AR20110104,       SR03,     118,          1,          9,          9,2,20110126,       2308,   -66.7943,   146.3810,        407,   199.8,  -1.7116,  34.4351,2,-999.0000,9,    301.7,2,  -999.0,9, -999.00,9, -999.00,9,  -999.0,9,  -999.0,9, -999.00,9, -999.00,9,  -1.7160,     -999.0,     -999.0,9,     -999.0,      0.509,2,      0.000,2,     98.065,2
09AR20110104,       SR03,     118,          1,          8,          8,2,20110126,       2308,   -66.7943,   146.3810,        407,   301.8,  -1.7902,  34.5017,2,  34.5061,2,    301.4,2,   300.9,2,   76.00,2,    2.05,2,  2232.7,2,  2334.0,2, -999.00,9,   30.38,2,  -1.7969,     -999.0,     -999.0,9,     -999.0,      0.040,2,      0.000,2,     99.051,2
09AR20110104,       SR03,     118,          1,          7,          7,2,20110126,       2308,   -66.7943,   146.3810,        407,   301.8,  -1.7898,  34.5016,2,-999.0000,9,    301.4,2,  -999.0,9, -999.00,9, -999.00,9,  -999.0,9,  -999.0,9, -999.00,9, -999.00,9,  -1.7965,     -999.0,     -999.0,9,     -999.0,      0.070,2,      0.000,2,     99.016,2
09AR20110104,       SR03,     118,          1,          6,          6,2,20110126,       2308,   -66.7943,   146.3810,        407,   301.7,  -1.7897,  34.5016,2,-999.0000,9,    301.4,2,  -999.0,9, -999.00,9, -999.00,9,  -999.0,9,  -999.0,9, -999.00,9, -999.00,9,  -1.7964,     -999.0,     -999.0,9,     -999.0,      0.074,2,      0.000,2,     99.061,2
09AR20110104,       SR03,     118,          1,          5,          5,2,20110126,       2308,   -66.7943,   146.3810,        407,   301.6,  -1.7902,  34.5016,2,-999.0000,9,    301.4,2,  -999.0,9, -999.00,9, -999.00,9,  -999.0,9,  -999.0,9, -999.00,9, -999.00,9,  -1.7969,     -999.0,     -999.0,9,     -999.0,      0.034,2,      0.000,2,     99.034,2
09AR20110104,       SR03,     118,          1,          4,          4,2,20110126,       2308,   -66.7943,   146.3810,        407,   404.4,  -1.9056,  34.5873,2,  34.5877,2,    303.2,2,   303.5,2,   77.00,2,    2.07,2,  2238.5,2,  2337.0,2, -999.00,9,   30.53,2,  -1.9147,     -999.0,     -999.0,9,     -999.0,      0.132,2,      0.000,2,     98.233,2
09AR20110104,       SR03,     118,          1,          3,          3,2,20110126,       2308,   -66.7943,   146.3810,        407,   404.5,  -1.9056,  34.5872,2,-999.0000,9,    303.2,2,  -999.0,9, -999.00,9, -999.00,9,  -999.0,9,  -999.0,9, -999.00,9, -999.00,9,  -1.9147,     -999.0,     -999.0,9,     -999.0,      0.107,2,      0.000,2,     98.136,2
09AR20110104,       SR03,     118,          1,          2,        102,2,20110126,       2308,   -66.7943,   146.3810,        407,   404.5,  -1.9055,  34.5871,2,-999.0000,9,    303.2,2,  -999.0,9, -999.00,9, -999.00,9,  -999.0,9,  -999.0,9, -999.00,9, -999.00,9,  -1.9146,     -999.0,     -999.0,9,     -999.0,      0.118,2,      0.000,2,     98.060,2
09AR20110104,       SR03,     118,          1,          1,          1,2,20110126,       2308,   -66.7943,   146.3810,        407,   404.6,  -1.9055,  34.5872,2,-999.0000,9,    303.2,2,  -999.0,9, -999.00,9, -999.00,9,  -999.0,9,  -999.0,9, -999.00,9, -999.00,9,  -1.9146,     -999.0,     -999.0,9,     -999.0,      0.117,2,      0.000,2,     98.132,2
09AR20110104,       SR03,     119,          1,         24,         24,2,20110127,       0133,   -66.9462,   146.5670,        473,     9.2,  -0.4711,  33.6221,2,  33.6867,2,    386.7,2,   383.1,2,   49.60,2,    1.08,2,  2096.2,6,  2294.4,6,   -0.67,2,   15.54,2,  -0.4714,       0.09,      -5.27,2,       0.35,      4.531,2,    104.439,2,     87.591,2
09AR20110104,       SR03,     119,          1,         23,         23,2,20110127,       0133,   -66.9462,   146.5670,        473,     9.2,  -0.4469,  33.6191,2,-999.0000,9,    386.7,2,  -999.0,9, -999.00,9, -999.00,9,  -999.0,9,  -999.0,9, -999.00,9, -999.00,9,  -0.4472,     -999.0,     -999.0,9,     -999.0,      4.684,2,    103.939,2,     87.617,2
09AR20110104,       SR03,     119,          1,         22,         22,2,20110127,       0133,   -66.9462,   146.5670,        473,    60.5,  -1.6124,  34.3432,2,-999.0000,9,    316.6,2,  -999.0,9, -999.00,9, -999.00,9,  -999.0,9,  -999.0,9, -999.00,9, -999.00,9,  -1.6137,     -999.0,     -999.0,9,     -999.0,      5.181,2,      0.000,2,     93.973,2
09AR20110104,       SR03,     119,          1,         21,         21,2,20110127,       0133,   -66.9462,   146.5670,        473,    60.5,  -1.6166,  34.3450,2,-999.0000,9,    316.6,2,  -999.0,9, -999.00,9, -999.00,9,  -999.0,9,  -999.0,9, -999.00,9, -999.00,9,  -1.6179,     -999.0,     -999.0,9,     -999.0,      5.482,2,      0.000,2,     94.388,2
09AR20110104,       SR03,     119,          1,         20,         20,2,20110127,       0133,   -66.9462,   146.5670,        473,    60.5,  -1.6099,  34.3426,2,  34.3495,2,    316.6,2,   315.9,2,   72.10,2,    2.01,2,  2218.6,2,  2324.8,2, -999.00,9,   28.74,2,  -1.6112,     -999.0,     -999.0,9,     -999.0,      5.682,2,      0.000,2,     93.960,2
09AR20110104,       SR03,     119,          1,         19,         19,2,20110127,       0133,   -66.9462,   146.5670,        473,    60.6,  -1.6150,  34.3446,2,-999.0000,9,    316.6,2,  -999.0,9, -999.00,9, -999.00,9,  -999.0,9,  -999.0,9, -999.00,9, -999.00,9,  -1.6163,     -999.0,     -999.0,9,     -999.0,      4.380,2,      0.000,2,     94.341,2
09AR20110104,       SR03,     119,          1,         18,         18,2,20110127,       0133,   -66.9462,   146.5670,        473,   125.1,  -1.7081,  34.3955,2,-999.0000,9,    304.7,2,  -999.0,9, -999.00,9, -999.00,9,  -999.0,9,  -999.0,9, -999.00,9, -999.00,9,  -1.7107,     -999.0,     -999.0,9,     -999.0,      1.782,2,      0.000,2,     97.554,2
09AR20110104,       SR03,     119,          1,         17,         17,2,20110127,       0133,   -66.9462,   146.5670,        473,   125.1,  -1.7079,  34.3952,2,-999.0000,9,    304.7,2,  -999.0,9, -999.00,9, -999.00,9,  -999.0,9,  -999.0,9, -999.00,9, -999.00,9,  -1.7105,     -999.0,     -999.0,9,     -999.0,      1.672,2,      0.000,2,     97.452,2
09AR20110104,       SR03,     119,          1,         16,         16,2,20110127,       0133,   -66.9462,   146.5670,        473,   125.0,  -1.7079,  34.3953,2,  34.3974,2,    304.7,2,   306.2,2,   74.10,2,    2.05,2,  2225.2,2,  2325.8,6,   -0.37,2,   29.86,2,  -1.7105,       0.06,      -3.69,2,       0.25,      1.327,2,      0.000,2,     97.251,2
09AR20110104,       SR03,     119,          1,         15,         15,2,20110127,       0133,   -66.9462,   146.5670,        473,   125.0,  -1.7080,  34.3954,2,-999.0000,9,    304.7,2,  -999.0,9, -999.00,9, -999.00,9,  -999.0,9,  -999.0,9, -999.00,9, -999.00,9,  -1.7106,     -999.0,     -999.0,9,     -999.0,      1.227,2,      0.000,2,     97.248,2
09AR20110104,       SR03,     119,          1,         14,         14,2,20110127,       0133,   -66.9462,   146.5670,        473,   200.1,  -1.7510,  34.4201,2,  34.4240,2,    302.3,2,   302.8,2,   75.20,2,    2.04,2,  2227.5,2,  2326.8,2, -999.00,9,   30.22,2,  -1.7553,     -999.0,     -999.0,9,     -999.0,      0.569,2,      0.000,2,     98.413,2
09AR20110104,       SR03,     119,          1,         13,         13,2,20110127,       0133,   -66.9462,   146.5670,        473,   200.1,  -1.7508,  34.4201,2,-999.0000,9,    302.3,2,  -999.0,9, -999.00,9, -999.00,9,  -999.0,9,  -999.0,9, -999.00,9, -999.00,9,  -1.7551,     -999.0,     -999.0,9,     -999.0,      0.375,2,      0.000,2,     98.450,2
09AR20110104,       SR03,     119,          1,         12,         12,2,20110127,       0133,   -66.9462,   146.5670,        473,   200.1,  -1.7505,  34.4201,2,-999.0000,9,    302.3,2,  -999.0,9, -999.00,9, -999.00,9,  -999.0,9,  -999.0,9, -999.00,9, -999.00,9,  -1.7548,     -999.0,     -999.0,9,     -999.0,      0.488,2,      0.000,2,     98.487,2
09AR20110104,       SR03,     119,          1,         11,         11,2,20110127,       0133,   -66.9462,   146.5670,        473,   200.1,  -1.7503,  34.4200,2,-999.0000,9,    302.3,2,  -999.0,9, -999.00,9, -999.00,9,  -999.0,9,  -999.0,9, -999.00,9, -999.00,9,  -1.7546,     -999.0,     -999.0,9,     -999.0,      0.395,2,      0.000,2,     98.539,2
09AR20110104,       SR03,     119,          1,         10,         10,2,20110127,       0133,   -66.9462,   146.5670,        473,   300.1,  -1.7560,  34.4765,2,-999.0000,9,    300.4,2,  -999.0,9, -999.00,9, -999.00,9,  -999.0,9,  -999.0,9, -999.00,9, -999.00,9,  -1.7628,     -999.0,     -999.0,9,     -999.0,      0.030,2,      0.000,2,     98.853,2
09AR20110104,       SR03,     119,          1,          9,          9,2,20110127,       0133,   -66.9462,   146.5670,        473,   300.1,  -1.7564,  34.4765,2,-999.0000,9,    300.4,2,  -999.0,9, -999.00,9, -999.00,9,  -999.0,9,  -999.0,9, -999.00,9, -999.00,9,  -1.7632,     -999.0,     -999.0,9,     -999.0,      0.054,2,      0.000,2,     98.797,2
09AR20110104,       SR03,     119,          1,          8,          8,2,20110127,       0133,   -66.9462,   146.5670,        473,   300.1,  -1.7579,  34.4764,2,  34.4829,2,    300.4,2,   299.8,2,   76.40,2,    2.06,2,  2231.1,2,  2330.8,2,   -0.35,2,   30.36,2,  -1.7647,       0.16,      -4.10,2,       0.31,      0.071,2,      0.000,2,     99.012,2
09AR20110104,       SR03,     119,          1,          7,          7,2,20110127,       0133,   -66.9462,   146.5670,        473,   300.1,  -1.7586,  34.4763,2,-999.0000,9,    300.4,2,  -999.0,9, -999.00,9, -999.00,9,  -999.0,9,  -999.0,9, -999.00,9, -999.00,9,  -1.7654,     -999.0,     -999.0,9,     -999.0,      0.150,2,      0.000,2,     99.120,2
09AR20110104,       SR03,     119,          1,          6,          6,2,20110127,       0133,   -66.9462,   146.5670,        473,   300.1,  -1.7601,  34.4765,2,-999.0000,9,    300.4,2,  -999.0,9, -999.00,9, -999.00,9,  -999.0,9,  -999.0,9, -999.00,9, -999.00,9,  -1.7669,     -999.0,     -999.0,9,     -999.0,      0.043,2,      0.000,2,     99.066,2
09AR20110104,       SR03,     119,          1,          5,          5,2,20110127,       0133,   -66.9462,   146.5670,        473,   300.0,  -1.7595,  34.4765,2,-999.0000,9,    300.4,2,  -999.0,9, -999.00,9, -999.00,9,  -999.0,9,  -999.0,9, -999.00,9, -999.00,9,  -1.7663,     -999.0,     -999.0,9,     -999.0,      0.026,2,      0.000,2,     99.106,2
09AR20110104,       SR03,     119,          1,          4,          4,2,20110127,       0133,   -66.9462,   146.5670,        473,   474.4,  -1.9121,  34.6057,2,  34.6048,2,    303.9,2,   304.0,2,   77.00,2,    2.07,2,  2241.6,2,  2337.1,2,   -0.38,2,   30.53,2,  -1.9231,       0.13,      -4.27,2,       0.35,      0.066,2,      0.000,2,     97.383,2
09AR20110104,       SR03,     119,          1,          3,          3,2,20110127,       0133,   -66.9462,   146.5670,        473,   474.4,  -1.9121,  34.6057,2,-999.0000,9,    303.9,2,  -999.0,9, -999.00,9, -999.00,9,  -999.0,9,  -999.0,9, -999.00,9, -999.00,9,  -1.9231,     -999.0,     -999.0,9,     -999.0,      0.060,2,      0.000,2,     97.476,2
09AR20110104,       SR03,     119,          1,          2,        102,2,20110127,       0133,   -66.9462,   146.5670,        473,   473.4,  -1.9121,  34.6058,2,-999.0000,9,    303.9,2,  -999.0,9, -999.00,9, -999.00,9,  -999.0,9,  -999.0,9, -999.00,9, -999.00,9,  -1.9231,     -999.0,     -999.0,9,     -999.0,      0.088,2,      0.000,2,     97.433,2
09AR20110104,       SR03,     119,          1,          1,          1,2,20110127,       0133,   -66.9462,   146.5670,        473,   473.1,  -1.9122,  34.6055,2,-999.0000,9,    303.9,2,  -999.0,9, -999.00,9, -999.00,9,  -999.0,9,  -999.0,9, -999.00,9, -999.00,9,  -1.9231,     -999.0,     -999.0,9,     -999.0,      0.080,2,      0.000,2,     97.639,2