BOTTLE,20230419CCHSIOENA
EXPOCODE,SECT_ID,STNNBR,CASTNO,SAMPNO,BTLNBR,BTLNBR_FLAG_W,DATE,TIME,LATITUDE,LONGITUDE,DEPTH,CTDPRS,CTDTMP,CTDSAL,CTDSAL_FLAG_W,SALNTY,SALNTY_FLAG_W,CTDOXY,CTDOXY_FLAG_W,OXYGEN,OXYGEN_FLAG_W,SILCAT,SILCAT_FLAG_W,PHSPHT,PHSPHT_FLAG_W,TCARBN,TCARBN_FLAG_W,ALKALI,ALKALI_FLAG_W,DELO18,DELO18_FLAG_W,NO2+NO3,NO2+NO3_FLAG_W,THETA,O18ERR,DELD,DELD_FLAG_W,DELDERR,CTDFLUOR,CTDFLUOR_FLAG_W,PAR,PAR_FLAG_W,CTDXMISS,CTDXMISS_FLAG_W
,,,,,,,,,,,METERS,DBAR,ITS-90,PSS-78,,PSS-78,,UMOL/KG,,UMOL/KG,,UMOL/KG,,UMOL/KG,,UMOL/KG,,UMOL/KG,,/MILLE,,UMOL/KG,,DEG C,/MILLE,/MILLE,,/MILLE,MG/M^3,,UMOL/M^2/SEC,,%TRANS,
09AR20110104,       SR03,     108,          1,         24,         24,2,20110126,       0159,   -65.9627,   144.8480,        711,    10.0,  -1.0483,  33.0587,2,  33.0346,2,    373.1,2,   373.6,2,   39.10,2, -999.00,9,  2080.2,2,  2243.1,2, -999.00,9,   19.20,2,  -1.0485,     -999.0,     -999.0,9,     -999.0,      1.658,2,     75.429,2,     86.924,2
09AR20110104,       SR03,     108,          1,         23,         23,2,20110126,       0159,   -65.9627,   144.8480,        711,    10.0,  -1.0489,  33.0580,2,-999.0000,9,    373.1,2,  -999.0,9, -999.00,9, -999.00,9,  -999.0,9,  -999.0,9, -999.00,9, -999.00,9,  -1.0491,     -999.0,     -999.0,9,     -999.0,      1.575,2,     74.939,2,     86.897,2
09AR20110104,       SR03,     108,          1,         22,         22,2,20110126,       0159,   -65.9627,   144.8480,        711,     9.9,  -1.0351,  33.0382,2,-999.0000,9,    373.1,2,  -999.0,9, -999.00,9, -999.00,9,  -999.0,9,  -999.0,9, -999.00,9, -999.00,9,  -1.0353,     -999.0,     -999.0,9,     -999.0,      1.441,2,     75.219,2,     86.698,2
09AR20110104,       SR03,     108,          1,         21,         21,2,20110126,       0159,   -65.9627,   144.8480,        711,     9.8,  -1.0190,  33.0122,2,-999.0000,9,    373.1,2,  -999.0,9, -999.00,9, -999.00,9,  -999.0,9,  -999.0,9, -999.00,9, -999.00,9,  -1.0192,     -999.0,     -999.0,9,     -999.0,      1.289,2,     72.679,2,     86.391,2
09AR20110104,       SR03,     108,          1,         20,         20,2,20110126,       0159,   -65.9627,   144.8480,        711,     9.8,  -0.9803,  32.9848,2,-999.0000,9,    373.1,2,  -999.0,9, -999.00,9, -999.00,9,  -999.0,9,  -999.0,9, -999.00,9, -999.00,9,  -0.9805,     -999.0,     -999.0,9,     -999.0,      1.271,2,     75.669,2,     85.833,2
09AR20110104,       SR03,     108,          1,         19,         19,2,20110126,       0159,   -65.9627,   144.8480,        711,     9.9,  -1.0509,  33.0659,2,-999.0000,9,    373.1,2,  -999.0,9, -999.00,9, -999.00,9,  -999.0,9,  -999.0,9, -999.00,9, -999.00,9,  -1.0511,     -999.0,     -999.0,9,     -999.0,      2.186,2,     77.709,2,     86.943,2
09AR20110104,       SR03,     108,          1,         18,         18,2,20110126,       0159,   -65.9627,   144.8480,        711,    49.8,  -1.5714,  34.2859,2,  34.2854,2,    319.8,2,   319.1,2,   68.40,2,    1.98,2,  2209.9,2,  2319.0,2, -999.00,9,   28.38,2,  -1.5725,     -999.0,     -999.0,9,     -999.0,      2.932,2,      0.527,2,     95.299,2
09AR20110104,       SR03,     108,          1,         17,         17,2,20110126,       0159,   -65.9627,   144.8480,        711,    49.5,  -1.5841,  34.2881,2,-999.0000,9,    319.8,2,  -999.0,9, -999.00,9, -999.00,9,  -999.0,9,  -999.0,9, -999.00,9, -999.00,9,  -1.5852,     -999.0,     -999.0,9,     -999.0,      2.581,2,      0.579,2,     95.534,2
09AR20110104,       SR03,     108,          1,         16,         16,2,20110126,       0159,   -65.9627,   144.8480,        711,   100.5,  -1.7435,  34.3519,2,  34.3519,2,    309.6,2,   310.2,2,   72.00,2,    2.05,2,  2221.6,2,  2322.9,2, -999.00,9,   29.98,2,  -1.7456,     -999.0,     -999.0,9,     -999.0,      0.386,2,      0.000,2,     98.515,2
09AR20110104,       SR03,     108,          1,         15,         15,2,20110126,       0159,   -65.9627,   144.8480,        711,   100.3,  -1.7445,  34.3520,2,-999.0000,9,    309.6,2,  -999.0,9, -999.00,9, -999.00,9,  -999.0,9,  -999.0,9, -999.00,9, -999.00,9,  -1.7465,     -999.0,     -999.0,9,     -999.0,      0.402,2,      0.000,2,     98.601,2
09AR20110104,       SR03,     108,          1,         14,         14,2,20110126,       0159,   -65.9627,   144.8480,        711,   251.3,  -1.3849,  34.4249,2,  34.4249,2,    287.3,2,   287.9,2,   77.50,2,    2.07,2,  2229.8,2,  2328.4,2, -999.00,9,   30.56,2,  -1.3912,     -999.0,     -999.0,9,     -999.0,      0.050,2,      0.000,2,     98.711,2
09AR20110104,       SR03,     108,          1,         13,         13,2,20110126,       0159,   -65.9627,   144.8480,        711,   251.0,  -1.3965,  34.4233,2,-999.0000,9,    288.0,2,  -999.0,9, -999.00,9, -999.00,9,  -999.0,9,  -999.0,9, -999.00,9, -999.00,9,  -1.4028,     -999.0,     -999.0,9,     -999.0,      0.092,2,      0.000,2,     98.754,2
09AR20110104,       SR03,     108,          1,         12,         12,2,20110126,       0159,   -65.9627,   144.8480,        711,   250.9,  -1.4026,  34.4222,2,-999.0000,9,    288.0,2,  -999.0,9, -999.00,9, -999.00,9,  -999.0,9,  -999.0,9, -999.00,9, -999.00,9,  -1.4089,     -999.0,     -999.0,9,     -999.0,      0.056,2,      0.000,2,     98.759,2
09AR20110104,       SR03,     108,          1,         11,         11,2,20110126,       0159,   -65.9627,   144.8480,        711,   375.2,  -0.7992,  34.5156,2,  34.5156,2,    261.2,2,   260.5,2,   84.10,2,    2.12,2,  2238.6,2,  2334.8,2, -999.00,9,   31.16,2,  -0.8110,     -999.0,     -999.0,9,     -999.0,      0.013,2,      0.000,2,     98.964,2
09AR20110104,       SR03,     108,          1,         10,         10,2,20110126,       0159,   -65.9627,   144.8480,        711,   551.3,   0.0886,  34.6231,2,  34.6235,2,    225.6,2,   226.2,2,   96.70,2,    2.17,2,  -999.0,9,  -999.0,9, -999.00,9,   31.71,2,   0.0661,     -999.0,     -999.0,9,     -999.0,     -0.011,2,      0.000,2,     99.005,2
09AR20110104,       SR03,     108,          1,          9,          9,2,20110126,       0159,   -65.9627,   144.8480,        711,   550.9,   0.0858,  34.6228,2,-999.0000,9,    225.7,2,  -999.0,9, -999.00,9, -999.00,9,  -999.0,9,  -999.0,9, -999.00,9, -999.00,9,   0.0633,     -999.0,     -999.0,9,     -999.0,      0.049,2,      0.000,2,     99.057,2
09AR20110104,       SR03,     108,          1,          8,          8,2,20110126,       0159,   -65.9627,   144.8480,        711,   649.7,   0.2040,  34.6448,2,  34.6439,2,    220.6,2,   221.7,2,  100.80,2,    2.19,2,  2256.0,2,  2347.0,2, -999.00,9,   31.82,2,   0.1762,     -999.0,     -999.0,9,     -999.0,     -0.003,2,      0.000,2,     99.062,2
09AR20110104,       SR03,     108,          1,          7,          7,2,20110126,       0159,   -65.9627,   144.8480,        711,   649.7,   0.2006,  34.6442,2,-999.0000,9,    220.6,2,  -999.0,9, -999.00,9, -999.00,9,  -999.0,9,  -999.0,9, -999.00,9, -999.00,9,   0.1729,     -999.0,     -999.0,9,     -999.0,     -0.041,2,      0.000,2,     99.025,2
09AR20110104,       SR03,     108,          1,          6,          6,2,20110126,       0159,   -65.9627,   144.8480,        711,   650.1,   0.2020,  34.6448,2,-999.0000,9,    220.6,2,  -999.0,9, -999.00,9, -999.00,9,  -999.0,9,  -999.0,9, -999.00,9, -999.00,9,   0.1742,     -999.0,     -999.0,9,     -999.0,     -0.002,2,      0.000,2,     99.042,2
09AR20110104,       SR03,     108,          1,          5,          5,2,20110126,       0159,   -65.9627,   144.8480,        711,   650.5,   0.2047,  34.6463,2,-999.0000,9,    220.6,2,  -999.0,9, -999.00,9, -999.00,9,  -999.0,9,  -999.0,9, -999.00,9, -999.00,9,   0.1769,     -999.0,     -999.0,9,     -999.0,     -0.021,2,      0.000,2,     99.091,2
09AR20110104,       SR03,     108,          1,          4,          4,2,20110126,       0159,   -65.9627,   144.8480,        711,   650.6,   0.2028,  34.6474,2,-999.0000,9,    220.6,2,  -999.0,9, -999.00,9, -999.00,9,  -999.0,9,  -999.0,9, -999.00,9, -999.00,9,   0.1750,     -999.0,     -999.0,9,     -999.0,     -0.002,2,      0.000,2,     99.067,2
09AR20110104,       SR03,     108,          1,          3,          3,2,20110126,       0159,   -65.9627,   144.8480,        711,   650.6,   0.2030,  34.6477,2,-999.0000,9,    220.6,2,  -999.0,9, -999.00,9, -999.00,9,  -999.0,9,  -999.0,9, -999.00,9, -999.00,9,   0.1752,     -999.0,     -999.0,9,     -999.0,      0.010,2,      0.000,2,     99.062,2
09AR20110104,       SR03,     108,          1,          2,        102,2,20110126,       0159,   -65.9627,   144.8480,        711,   710.7,   0.1680,  34.6505,2,  34.6519,2,    221.4,2,   221.6,2,  103.50,2,    2.19,2,  -999.0,9,  -999.0,9, -999.00,9,   31.91,2,   0.1374,     -999.0,     -999.0,9,     -999.0,      0.012,2,      0.000,2,     99.044,2
09AR20110104,       SR03,     108,          1,          1,          1,2,20110126,       0159,   -65.9627,   144.8480,        711,   710.5,   0.1693,  34.6497,2,-999.0000,9,    221.4,2,  -999.0,9, -999.00,9, -999.00,9,  -999.0,9,  -999.0,9, -999.00,9, -999.00,9,   0.1387,     -999.0,     -999.0,9,     -999.0,      0.020,2,      0.000,2,     99.041,2
09AR20110104,       SR03,     109,          1,         24,         24,2,20110126,       0337,   -65.9787,   144.9110,        559,    10.2,  -1.0174,  32.9620,2,  32.9562,2,    374.9,2,   374.7,2,   37.30,2,    1.02,2,  -999.0,9,  -999.0,9, -999.00,9,   18.43,2,  -1.0176,     -999.0,     -999.0,9,     -999.0,      4.176,2,    105.639,2,     85.472,2
09AR20110104,       SR03,     109,          1,         23,         23,2,20110126,       0337,   -65.9787,   144.9110,        559,    10.1,  -1.0041,  32.9525,2,-999.0000,9,    374.9,2,  -999.0,9, -999.00,9, -999.00,9,  -999.0,9,  -999.0,9, -999.00,9, -999.00,9,  -1.0043,     -999.0,     -999.0,9,     -999.0,      2.997,2,    105.739,2,     85.320,2
09AR20110104,       SR03,     109,          1,         22,         22,2,20110126,       0337,   -65.9787,   144.9110,        559,    10.0,  -1.0062,  32.9532,2,-999.0000,9,    374.9,2,  -999.0,9, -999.00,9, -999.00,9,  -999.0,9,  -999.0,9, -999.00,9, -999.00,9,  -1.0064,     -999.0,     -999.0,9,     -999.0,      3.000,2,    105.639,2,     85.298,2
09AR20110104,       SR03,     109,          1,         21,         21,2,20110126,       0337,   -65.9787,   144.9110,        559,     9.9,  -1.0129,  32.9567,2,-999.0000,9,    374.9,2,  -999.0,9, -999.00,9, -999.00,9,  -999.0,9,  -999.0,9, -999.00,9, -999.00,9,  -1.0131,     -999.0,     -999.0,9,     -999.0,      3.717,2,    107.039,2,     85.300,2
09AR20110104,       SR03,     109,          1,         20,         20,2,20110126,       0337,   -65.9787,   144.9110,        559,    10.0,  -1.0180,  32.9594,2,-999.0000,9,    374.9,2,  -999.0,9, -999.00,9, -999.00,9,  -999.0,9,  -999.0,9, -999.00,9, -999.00,9,  -1.0182,     -999.0,     -999.0,9,     -999.0,      4.105,2,    108.339,2,     85.398,2
09AR20110104,       SR03,     109,          1,         19,         19,2,20110126,       0337,   -65.9787,   144.9110,        559,    10.0,  -1.0239,  32.9753,2,-999.0000,9,    374.9,2,  -999.0,9, -999.00,9, -999.00,9,  -999.0,9,  -999.0,9, -999.00,9, -999.00,9,  -1.0241,     -999.0,     -999.0,9,     -999.0,      4.399,2,    109.039,2,     85.472,2
09AR20110104,       SR03,     109,          1,         18,         18,2,20110126,       0337,   -65.9787,   144.9110,        559,    50.3,  -1.6859,  34.2535,2,  34.2521,2,    323.9,2,   325.4,2,   68.40,2,    2.02,2,  -999.0,9,  -999.0,9, -999.00,9,   28.19,2,  -1.6869,     -999.0,     -999.0,9,     -999.0,      3.680,2,      0.630,2,     94.380,2
09AR20110104,       SR03,     109,          1,         17,         17,2,20110126,       0337,   -65.9787,   144.9110,        559,    50.3,  -1.6844,  34.2592,2,-999.0000,9,    323.9,2,  -999.0,9, -999.00,9, -999.00,9,  -999.0,9,  -999.0,9, -999.00,9, -999.00,9,  -1.6854,     -999.0,     -999.0,9,     -999.0,      3.783,2,      0.633,2,     94.397,2
09AR20110104,       SR03,     109,          1,         16,         16,2,20110126,       0337,   -65.9787,   144.9110,        559,    99.3,  -1.7866,  34.3407,2,  34.3397,2,    314.5,2,   311.8,2,   71.70,2,    2.05,2,  -999.0,9,  -999.0,9, -999.00,9,   29.79,2,  -1.7886,     -999.0,     -999.0,9,     -999.0,      0.395,2,      0.000,2,     98.460,2
09AR20110104,       SR03,     109,          1,         15,         15,2,20110126,       0337,   -65.9787,   144.9110,        559,    99.3,  -1.7888,  34.3408,2,-999.0000,9,    314.5,2,  -999.0,9, -999.00,9, -999.00,9,  -999.0,9,  -999.0,9, -999.00,9, -999.00,9,  -1.7908,     -999.0,     -999.0,9,     -999.0,      0.549,2,      0.000,2,     98.449,2
09AR20110104,       SR03,     109,          1,         14,         14,2,20110126,       0337,   -65.9787,   144.9110,        559,   200.7,  -1.6973,  34.3814,2,  34.3806,2,    303.5,2,   304.6,2,   74.20,2,    2.05,2,  -999.0,9,  -999.0,9, -999.00,9,   30.08,2,  -1.7017,     -999.0,     -999.0,9,     -999.0,      0.053,2,      0.000,2,     99.005,2
09AR20110104,       SR03,     109,          1,         13,         13,2,20110126,       0337,   -65.9787,   144.9110,        559,   201.2,  -1.6909,  34.3835,2,-999.0000,9,    302.6,2,  -999.0,9, -999.00,9, -999.00,9,  -999.0,9,  -999.0,9, -999.00,9, -999.00,9,  -1.6953,     -999.0,     -999.0,9,     -999.0,      0.099,2,      0.000,2,     99.028,2
09AR20110104,       SR03,     109,          1,         12,         12,2,20110126,       0337,   -65.9787,   144.9110,        559,   201.0,  -1.6875,  34.3840,2,-999.0000,9,    302.6,2,  -999.0,9, -999.00,9, -999.00,9,  -999.0,9,  -999.0,9, -999.00,9, -999.00,9,  -1.6919,     -999.0,     -999.0,9,     -999.0,      0.028,2,      0.000,2,     99.073,2
09AR20110104,       SR03,     109,          1,         11,         11,2,20110126,       0337,   -65.9787,   144.9110,        559,   323.5,  -0.7154,  34.5080,2,  34.5072,2,    253.6,2,   257.2,2,   85.00,2,    2.13,2,  -999.0,9,  -999.0,9, -999.00,9,   31.04,2,  -0.7257,     -999.0,     -999.0,9,     -999.0,      0.056,2,      0.000,2,     98.412,2
09AR20110104,       SR03,     109,          1,         10,         10,2,20110126,       0337,   -65.9787,   144.9110,        559,   401.3,   0.0196,  34.6073,2,  34.6048,2,    237.7,2,   229.0,2,   94.50,2,    2.17,2,  -999.0,9,  -999.0,9, -999.00,9,   31.59,2,   0.0040,     -999.0,     -999.0,9,     -999.0,      0.003,2,      0.000,2,     98.878,2
09AR20110104,       SR03,     109,          1,          9,          9,2,20110126,       0337,   -65.9787,   144.9110,        559,   400.3,   0.0042,  34.6055,2,-999.0000,9,    239.2,2,  -999.0,9, -999.00,9, -999.00,9,  -999.0,9,  -999.0,9, -999.00,9, -999.00,9,  -0.0113,     -999.0,     -999.0,9,     -999.0,      0.041,2,      0.000,2,     98.910,2
09AR20110104,       SR03,     109,          1,          8,          8,2,20110126,       0337,   -65.9787,   144.9110,        559,   500.9,   0.1683,  34.6355,2,  34.6356,2,    222.7,2,   222.7,2,   99.40,2,    2.18,2,  -999.0,9,  -999.0,9, -999.00,9,   31.76,2,   0.1477,     -999.0,     -999.0,9,     -999.0,     -0.002,2,      0.000,2,     99.077,2
09AR20110104,       SR03,     109,          1,          7,          7,2,20110126,       0337,   -65.9787,   144.9110,        559,   500.8,   0.1586,  34.6353,2,-999.0000,9,    222.7,2,  -999.0,9, -999.00,9, -999.00,9,  -999.0,9,  -999.0,9, -999.00,9, -999.00,9,   0.1381,     -999.0,     -999.0,9,     -999.0,      0.031,2,      0.000,2,     99.066,2
09AR20110104,       SR03,     109,          1,          6,          6,2,20110126,       0337,   -65.9787,   144.9110,        559,   500.9,   0.1605,  34.6354,2,-999.0000,9,    222.7,2,  -999.0,9, -999.00,9, -999.00,9,  -999.0,9,  -999.0,9, -999.00,9, -999.00,9,   0.1399,     -999.0,     -999.0,9,     -999.0,      0.024,2,      0.000,2,     99.069,2
09AR20110104,       SR03,     109,          1,          5,          5,2,20110126,       0337,   -65.9787,   144.9110,        559,   501.2,   0.1640,  34.6357,2,-999.0000,9,    223.0,2,  -999.0,9, -999.00,9, -999.00,9,  -999.0,9,  -999.0,9, -999.00,9, -999.00,9,   0.1434,     -999.0,     -999.0,9,     -999.0,     -0.008,2,      0.000,2,     99.078,2
09AR20110104,       SR03,     109,          1,          4,          4,2,20110126,       0337,   -65.9787,   144.9110,        559,   501.2,   0.1686,  34.6359,2,-999.0000,9,    223.0,2,  -999.0,9, -999.00,9, -999.00,9,  -999.0,9,  -999.0,9, -999.00,9, -999.00,9,   0.1480,     -999.0,     -999.0,9,     -999.0,      0.019,2,      0.000,2,     99.048,2
09AR20110104,       SR03,     109,          1,          3,          3,2,20110126,       0337,   -65.9787,   144.9110,        559,   501.0,   0.1690,  34.6361,2,-999.0000,9,    222.7,2,  -999.0,9, -999.00,9, -999.00,9,  -999.0,9,  -999.0,9, -999.00,9, -999.00,9,   0.1484,     -999.0,     -999.0,9,     -999.0,     -0.033,2,      0.000,2,     99.044,2
09AR20110104,       SR03,     109,          1,          2,        102,2,20110126,       0337,   -65.9787,   144.9110,        559,   561.4,   0.1696,  34.6460,2,  34.6449,2,    222.6,2,   221.9,2,  102.00,2,    2.19,2,  -999.0,9,  -999.0,9, -999.00,9,   31.81,2,   0.1462,     -999.0,     -999.0,9,     -999.0,      0.036,2,      0.000,2,     98.991,2
09AR20110104,       SR03,     109,          1,          1,          1,2,20110126,       0337,   -65.9787,   144.9110,        559,   561.2,   0.1624,  34.6431,2,-999.0000,9,    222.6,2,  -999.0,9, -999.00,9, -999.00,9,  -999.0,9,  -999.0,9, -999.00,9, -999.00,9,   0.1391,     -999.0,     -999.0,9,     -999.0,      0.037,2,      0.000,2,     98.759,2