BOTTLE,20230419CCHSIOENA
EXPOCODE,SECT_ID,STNNBR,CASTNO,SAMPNO,BTLNBR,BTLNBR_FLAG_W,DATE,TIME,LATITUDE,LONGITUDE,DEPTH,CTDPRS,CTDTMP,CTDSAL,CTDSAL_FLAG_W,SALNTY,SALNTY_FLAG_W,CTDOXY,CTDOXY_FLAG_W,OXYGEN,OXYGEN_FLAG_W,SILCAT,SILCAT_FLAG_W,PHSPHT,PHSPHT_FLAG_W,TCARBN,TCARBN_FLAG_W,ALKALI,ALKALI_FLAG_W,DELO18,DELO18_FLAG_W,NO2+NO3,NO2+NO3_FLAG_W,THETA,O18ERR,DELD,DELD_FLAG_W,DELDERR,CTDFLUOR,CTDFLUOR_FLAG_W,PAR,PAR_FLAG_W,CTDXMISS,CTDXMISS_FLAG_W
,,,,,,,,,,,METERS,DBAR,ITS-90,PSS-78,,PSS-78,,UMOL/KG,,UMOL/KG,,UMOL/KG,,UMOL/KG,,UMOL/KG,,UMOL/KG,,/MILLE,,UMOL/KG,,DEG C,/MILLE,/MILLE,,/MILLE,MG/M^3,,UMOL/M^2/SEC,,%TRANS,
09AR20110104,       SR03,     120,          1,         24,         24,2,20110127,       0331,   -67.0893,   146.3510,        477,     9.9,  -1.3448,  33.6935,2,-999.0000,9,    379.2,2,   378.1,2,   51.10,2,    1.30,2,  2126.7,6,  2289.4,6,   -0.32,2,   20.14,2,  -1.3450,       0.08,      -3.51,2,       0.31,      1.530,2,    105.939,2,     93.846,2
09AR20110104,       SR03,     120,          1,         23,         23,2,20110127,       0331,   -67.0893,   146.3510,        477,     9.9,  -1.3443,  33.6535,2,-999.0000,9,    379.2,2,  -999.0,9, -999.00,9, -999.00,9,  -999.0,9,  -999.0,9, -999.00,9, -999.00,9,  -1.3445,     -999.0,     -999.0,9,     -999.0,      1.489,2,    104.539,2,     94.027,2
09AR20110104,       SR03,     120,          1,         22,         22,2,20110127,       0331,   -67.0893,   146.3510,        477,     9.9,  -1.3537,  33.6825,2,-999.0000,9,    379.2,2,  -999.0,9, -999.00,9, -999.00,9,  -999.0,9,  -999.0,9, -999.00,9, -999.00,9,  -1.3539,     -999.0,     -999.0,9,     -999.0,      1.544,2,    103.339,2,     94.078,2
09AR20110104,       SR03,     120,          1,         21,         21,2,20110127,       0331,   -67.0893,   146.3510,        477,    10.0,  -1.3582,  33.7104,2,-999.0000,9,    379.2,2,  -999.0,9, -999.00,9, -999.00,9,  -999.0,9,  -999.0,9, -999.00,9, -999.00,9,  -1.3584,     -999.0,     -999.0,9,     -999.0,      1.916,2,    102.139,2,     93.683,2
09AR20110104,       SR03,     120,          1,         20,         20,2,20110127,       0331,   -67.0893,   146.3510,        477,    10.0,  -1.3509,  33.7104,2,-999.0000,9,    379.2,2,  -999.0,9, -999.00,9, -999.00,9,  -999.0,9,  -999.0,9, -999.00,9, -999.00,9,  -1.3511,     -999.0,     -999.0,9,     -999.0,      2.009,2,    103.639,2,     93.485,2
09AR20110104,       SR03,     120,          1,         19,         19,2,20110127,       0331,   -67.0893,   146.3510,        477,    10.0,  -1.3591,  33.7318,2,-999.0000,9,    379.2,2,  -999.0,9, -999.00,9, -999.00,9,  -999.0,9,  -999.0,9, -999.00,9, -999.00,9,  -1.3593,     -999.0,     -999.0,9,     -999.0,      2.569,2,    107.239,2,     93.688,2
09AR20110104,       SR03,     120,          1,         18,         18,2,20110127,       0331,   -67.0893,   146.3510,        477,    40.1,  -1.2895,  34.0114,2,  34.1076,2,    343.8,2,   346.7,2,   63.00,2,    1.73,2,  2184.9,2,  2313.8,2, -999.00,9,   24.47,2,  -1.2904,     -999.0,     -999.0,9,     -999.0,      6.430,2,      5.743,2,     93.373,2
09AR20110104,       SR03,     120,          1,         17,         17,2,20110127,       0331,   -67.0893,   146.3510,        477,    40.1,  -1.2894,  34.0122,2,-999.0000,9,    343.8,2,  -999.0,9, -999.00,9, -999.00,9,  -999.0,9,  -999.0,9, -999.00,9, -999.00,9,  -1.2903,     -999.0,     -999.0,9,     -999.0,      5.918,2,      5.721,2,     93.700,2
09AR20110104,       SR03,     120,          1,         16,         16,2,20110127,       0331,   -67.0893,   146.3510,        477,    40.1,  -1.2915,  34.0181,2,-999.0000,9,    343.8,2,  -999.0,9, -999.00,9, -999.00,9,  -999.0,9,  -999.0,9, -999.00,9, -999.00,9,  -1.2924,     -999.0,     -999.0,9,     -999.0,      6.216,2,      5.674,2,     93.467,2
09AR20110104,       SR03,     120,          1,         15,         15,2,20110127,       0331,   -67.0893,   146.3510,        477,    40.0,  -1.2915,  34.0328,2,-999.0000,9,    343.8,2,  -999.0,9, -999.00,9, -999.00,9,  -999.0,9,  -999.0,9, -999.00,9, -999.00,9,  -1.2924,     -999.0,     -999.0,9,     -999.0,      5.296,2,      5.660,2,     93.781,2
09AR20110104,       SR03,     120,          1,         14,         14,2,20110127,       0331,   -67.0893,   146.3510,        477,   100.6,  -1.6977,  34.3822,2,-999.0000,9,    309.1,2,   309.8,2,   74.20,2,    2.05,2,  2225.5,2,  2325.5,2,   -0.41,2,   29.69,2,  -1.6998,       0.10,      -4.02,2,       0.04,      2.236,2,      0.000,2,     96.276,2
09AR20110104,       SR03,     120,          1,         13,         13,2,20110127,       0331,   -67.0893,   146.3510,        477,   100.4,  -1.6989,  34.3826,2,-999.0000,9,    309.1,2,  -999.0,9, -999.00,9, -999.00,9,  -999.0,9,  -999.0,9, -999.00,9, -999.00,9,  -1.7010,     -999.0,     -999.0,9,     -999.0,      2.498,2,      0.000,2,     96.224,2
09AR20110104,       SR03,     120,          1,         12,         12,2,20110127,       0331,   -67.0893,   146.3510,        477,   100.3,  -1.6996,  34.3828,2,-999.0000,9,    309.1,2,  -999.0,9, -999.00,9, -999.00,9,  -999.0,9,  -999.0,9, -999.00,9, -999.00,9,  -1.7017,     -999.0,     -999.0,9,     -999.0,      2.285,2,      0.000,2,     96.412,2
09AR20110104,       SR03,     120,          1,         11,         11,2,20110127,       0331,   -67.0893,   146.3510,        477,   100.2,  -1.6994,  34.3828,2,-999.0000,9,    309.1,2,  -999.0,9, -999.00,9, -999.00,9,  -999.0,9,  -999.0,9, -999.00,9, -999.00,9,  -1.7015,     -999.0,     -999.0,9,     -999.0,      2.714,2,      0.000,2,     96.337,2
09AR20110104,       SR03,     120,          1,         10,         10,2,20110127,       0331,   -67.0893,   146.3510,        477,   100.2,  -1.7002,  34.3831,2,-999.0000,9,    309.1,2,  -999.0,9, -999.00,9, -999.00,9,  -999.0,9,  -999.0,9, -999.00,9, -999.00,9,  -1.7023,     -999.0,     -999.0,9,     -999.0,      2.697,2,      0.000,2,     96.306,2
09AR20110104,       SR03,     120,          1,          9,          9,2,20110127,       0331,   -67.0893,   146.3510,        477,   100.2,  -1.7004,  34.3832,2,-999.0000,9,    309.1,2,  -999.0,9, -999.00,9, -999.00,9,  -999.0,9,  -999.0,9, -999.00,9, -999.00,9,  -1.7025,     -999.0,     -999.0,9,     -999.0,      2.451,2,      0.000,2,     96.494,2
09AR20110104,       SR03,     120,          1,          8,          8,2,20110127,       0331,   -67.0893,   146.3510,        477,   300.3,  -1.8578,  34.5104,2,  34.5176,2,    301.4,2,   302.5,2,   75.40,2,    2.04,2,  2235.5,2,  2330.3,2,   -0.47,2,   30.18,2,  -1.8643,       0.05,      -4.35,2,       0.32,      0.089,2,      0.000,2,     98.985,2
09AR20110104,       SR03,     120,          1,          7,          7,2,20110127,       0331,   -67.0893,   146.3510,        477,   300.3,  -1.8574,  34.5104,2,-999.0000,9,    301.4,2,  -999.0,9, -999.00,9, -999.00,9,  -999.0,9,  -999.0,9, -999.00,9, -999.00,9,  -1.8639,     -999.0,     -999.0,9,     -999.0,      0.054,2,      0.000,2,     98.905,2
09AR20110104,       SR03,     120,          1,          6,          6,2,20110127,       0331,   -67.0893,   146.3510,        477,   300.3,  -1.8569,  34.5104,2,-999.0000,9,    301.4,2,  -999.0,9, -999.00,9, -999.00,9,  -999.0,9,  -999.0,9, -999.00,9, -999.00,9,  -1.8634,     -999.0,     -999.0,9,     -999.0,      0.037,2,      0.000,2,     98.968,2
09AR20110104,       SR03,     120,          1,          5,          5,2,20110127,       0331,   -67.0893,   146.3510,        477,   300.2,  -1.8560,  34.5103,2,-999.0000,9,    301.4,2,  -999.0,9, -999.00,9, -999.00,9,  -999.0,9,  -999.0,9, -999.00,9, -999.00,9,  -1.8625,     -999.0,     -999.0,9,     -999.0,      0.039,2,      0.000,2,     99.005,2
09AR20110104,       SR03,     120,          1,          4,          4,2,20110127,       0331,   -67.0893,   146.3510,        477,   300.2,  -1.8556,  34.5104,2,-999.0000,9,    301.4,2,  -999.0,9, -999.00,9, -999.00,9,  -999.0,9,  -999.0,9, -999.00,9, -999.00,9,  -1.8621,     -999.0,     -999.0,9,     -999.0,      0.066,2,      0.000,2,     98.993,2
09AR20110104,       SR03,     120,          1,          3,          3,2,20110127,       0331,   -67.0893,   146.3510,        477,   300.2,  -1.8555,  34.5103,2,-999.0000,9,    301.4,2,  -999.0,9, -999.00,9, -999.00,9,  -999.0,9,  -999.0,9, -999.00,9, -999.00,9,  -1.8620,     -999.0,     -999.0,9,     -999.0,      0.086,2,      0.000,2,     99.006,2
09AR20110104,       SR03,     120,          1,          2,        102,2,20110127,       0331,   -67.0893,   146.3510,        477,   471.2,  -1.9043,  34.6047,2,  34.6030,2,    301.5,2,   302.0,2,   77.40,2,    2.07,2,  -999.0,9,  -999.0,9,   -0.38,2,   30.53,2,  -1.9152,       0.07,      -4.11,2,       0.02,      0.119,2,      0.000,2,     97.458,2
09AR20110104,       SR03,     120,          1,          1,          1,2,20110127,       0331,   -67.0893,   146.3510,        477,   470.8,  -1.9043,  34.6046,2,-999.0000,9,    301.6,2,  -999.0,9, -999.00,9, -999.00,9,  -999.0,9,  -999.0,9, -999.00,9, -999.00,9,  -1.9152,     -999.0,     -999.0,9,     -999.0,      0.079,2,      0.000,2,     97.538,2
09AR20110104,       SR03,     121,          1,         24,         24,2,20110127,       0546,   -67.2435,   146.5160,        527,    10.0,  -0.7512,  33.6362,2,  33.6387,2,   -999.0,5,  -999.0,9,   48.20,2,    1.08,2,  2091.6,6,  2288.5,6,   -0.49,2,   15.69,2,  -0.7515,       0.03,      -4.68,2,       0.15,      8.797,2,     21.719,2,     88.013,2
09AR20110104,       SR03,     121,          1,         23,         23,2,20110127,       0546,   -67.2435,   146.5160,        527,    10.0,  -0.7543,  33.6360,2,-999.0000,9,   -999.0,5,  -999.0,9, -999.00,9, -999.00,9,  -999.0,9,  -999.0,9, -999.00,9, -999.00,9,  -0.7546,     -999.0,     -999.0,9,     -999.0,      8.464,2,     21.999,2,     88.311,2
09AR20110104,       SR03,     121,          1,         22,         22,2,20110127,       0546,   -67.2435,   146.5160,        527,    10.0,  -0.7538,  33.6359,2,-999.0000,9,   -999.0,5,  -999.0,9, -999.00,9, -999.00,9,  -999.0,9,  -999.0,9, -999.00,9, -999.00,9,  -0.7541,     -999.0,     -999.0,9,     -999.0,      9.130,2,     22.169,2,     88.226,2
09AR20110104,       SR03,     121,          1,         21,         21,2,20110127,       0546,   -67.2435,   146.5160,        527,    10.0,  -0.7524,  33.6358,2,-999.0000,9,   -999.0,5,  -999.0,9, -999.00,9, -999.00,9,  -999.0,9,  -999.0,9, -999.00,9, -999.00,9,  -0.7527,     -999.0,     -999.0,9,     -999.0,      8.205,2,     22.349,2,     87.324,2
09AR20110104,       SR03,     121,          1,         20,         20,2,20110127,       0546,   -67.2435,   146.5160,        527,     9.9,  -0.7464,  33.6371,2,-999.0000,9,   -999.0,5,  -999.0,9, -999.00,9, -999.00,9,  -999.0,9,  -999.0,9, -999.00,9, -999.00,9,  -0.7467,     -999.0,     -999.0,9,     -999.0,      8.667,2,     22.819,2,     88.119,2
09AR20110104,       SR03,     121,          1,         19,         19,2,20110127,       0546,   -67.2435,   146.5160,        527,    10.0,  -0.7454,  33.6373,2,-999.0000,9,   -999.0,5,  -999.0,9, -999.00,9, -999.00,9,  -999.0,9,  -999.0,9, -999.00,9, -999.00,9,  -0.7457,     -999.0,     -999.0,9,     -999.0,      9.102,2,     23.059,2,     87.838,2
09AR20110104,       SR03,     121,          1,         18,         18,2,20110127,       0546,   -67.2435,   146.5160,        527,    75.1,  -1.6618,  34.3649,2,-999.0000,9,    312.4,2,   312.2,2,   73.50,2,    2.03,2,  2223.4,2,  2323.5,6,   -0.37,2,   29.30,2,  -1.6634,       0.06,      -3.93,2,       0.17,      5.093,2,      0.000,2,     94.753,2
09AR20110104,       SR03,     121,          1,         17,         17,2,20110127,       0546,   -67.2435,   146.5160,        527,    75.1,  -1.6624,  34.3646,2,-999.0000,9,    312.4,2,  -999.0,9, -999.00,9, -999.00,9,  -999.0,9,  -999.0,9, -999.00,9, -999.00,9,  -1.6640,     -999.0,     -999.0,9,     -999.0,      4.677,2,      0.000,2,     94.656,2
09AR20110104,       SR03,     121,          1,         16,         16,2,20110127,       0546,   -67.2435,   146.5160,        527,    75.2,  -1.6621,  34.3646,2,-999.0000,9,    312.4,2,  -999.0,9, -999.00,9, -999.00,9,  -999.0,9,  -999.0,9, -999.00,9, -999.00,9,  -1.6637,     -999.0,     -999.0,9,     -999.0,      4.579,2,      0.000,2,     94.506,2
09AR20110104,       SR03,     121,          1,         15,         15,2,20110127,       0546,   -67.2435,   146.5160,        527,    75.2,  -1.6617,  34.3644,2,-999.0000,9,    312.4,2,  -999.0,9, -999.00,9, -999.00,9,  -999.0,9,  -999.0,9, -999.00,9, -999.00,9,  -1.6633,     -999.0,     -999.0,9,     -999.0,      5.040,2,      0.000,2,     94.361,2
09AR20110104,       SR03,     121,          1,         14,         14,2,20110127,       0546,   -67.2435,   146.5160,        527,   200.2,  -1.7361,  34.4201,2,  34.3672,4,    302.6,2,   302.3,2,   75.70,2,    2.04,2,  2229.8,2,  2325.5,2,   -0.31,2,   30.16,2,  -1.7404,       0.03,      -3.77,2,       0.04,      0.213,2,      0.000,2,     98.677,2
09AR20110104,       SR03,     121,          1,         13,         13,2,20110127,       0546,   -67.2435,   146.5160,        527,   199.9,  -1.7328,  34.4205,2,-999.0000,9,    302.6,2,  -999.0,9, -999.00,9, -999.00,9,  -999.0,9,  -999.0,9, -999.00,9, -999.00,9,  -1.7371,     -999.0,     -999.0,9,     -999.0,      0.227,2,      0.000,2,     98.787,2
09AR20110104,       SR03,     121,          1,         12,         12,2,20110127,       0546,   -67.2435,   146.5160,        527,   199.7,  -1.7303,  34.4211,2,-999.0000,9,    302.6,2,  -999.0,9, -999.00,9, -999.00,9,  -999.0,9,  -999.0,9, -999.00,9, -999.00,9,  -1.7346,     -999.0,     -999.0,9,     -999.0,      0.278,2,      0.000,2,     98.730,2
09AR20110104,       SR03,     121,          1,         11,         11,2,20110127,       0546,   -67.2435,   146.5160,        527,   324.4,  -1.7792,  34.4920,2,  34.4940,2,    300.9,2,   300.9,2,   76.50,2,    2.05,2,  2234.9,2,  2331.6,2,   -0.37,2,   30.33,2,  -1.7865,       0.11,      -4.10,2,       0.23,      0.099,2,      0.000,2,     98.916,2
09AR20110104,       SR03,     121,          1,         10,         10,2,20110127,       0546,   -67.2435,   146.5160,        527,   324.7,  -1.7804,  34.4921,2,-999.0000,9,    300.9,2,  -999.0,9, -999.00,9, -999.00,9,  -999.0,9,  -999.0,9, -999.00,9, -999.00,9,  -1.7877,     -999.0,     -999.0,9,     -999.0,      0.095,2,      0.000,2,     98.993,2
09AR20110104,       SR03,     121,          1,          9,          9,2,20110127,       0546,   -67.2435,   146.5160,        527,   325.1,  -1.8001,  34.4972,2,-999.0000,9,    300.9,2,  -999.0,9, -999.00,9, -999.00,9,  -999.0,9,  -999.0,9, -999.00,9, -999.00,9,  -1.8074,     -999.0,     -999.0,9,     -999.0,      0.060,2,      0.000,2,     98.975,2
09AR20110104,       SR03,     121,          1,          8,          8,2,20110127,       0546,   -67.2435,   146.5160,        527,   401.5,  -1.9006,  34.5537,2,  34.5637,2,    304.9,2,   305.0,2,   77.30,2,    2.05,2,  2238.8,2,  2333.5,2,   -0.40,2,   30.63,2,  -1.9096,       0.17,      -4.84,2,       0.34,      0.023,2,      0.000,2,     98.995,2
09AR20110104,       SR03,     121,          1,          7,          7,2,20110127,       0546,   -67.2435,   146.5160,        527,   401.6,  -1.9005,  34.5536,2,-999.0000,9,    304.9,2,  -999.0,9, -999.00,9, -999.00,9,  -999.0,9,  -999.0,9, -999.00,9, -999.00,9,  -1.9095,     -999.0,     -999.0,9,     -999.0,      0.032,2,      0.000,2,     99.008,2
09AR20110104,       SR03,     121,          1,          6,          6,2,20110127,       0546,   -67.2435,   146.5160,        527,   401.5,  -1.9004,  34.5534,2,-999.0000,9,    304.9,2,  -999.0,9, -999.00,9, -999.00,9,  -999.0,9,  -999.0,9, -999.00,9, -999.00,9,  -1.9094,     -999.0,     -999.0,9,     -999.0,      0.050,2,      0.000,2,     98.988,2
09AR20110104,       SR03,     121,          1,          5,          5,2,20110127,       0546,   -67.2435,   146.5160,        527,   401.3,  -1.9002,  34.5532,2,-999.0000,9,    304.9,2,  -999.0,9, -999.00,9, -999.00,9,  -999.0,9,  -999.0,9, -999.00,9, -999.00,9,  -1.9092,     -999.0,     -999.0,9,     -999.0,      0.030,2,      0.000,2,     98.995,2
09AR20110104,       SR03,     121,          1,          4,          4,2,20110127,       0546,   -67.2435,   146.5160,        527,   401.1,  -1.9002,  34.5530,2,-999.0000,9,    304.9,2,  -999.0,9, -999.00,9, -999.00,9,  -999.0,9,  -999.0,9, -999.00,9, -999.00,9,  -1.9092,     -999.0,     -999.0,9,     -999.0,      0.036,2,      0.000,2,     98.961,2
09AR20110104,       SR03,     121,          1,          3,          3,2,20110127,       0546,   -67.2435,   146.5160,        527,   400.7,  -1.9006,  34.5524,2,-999.0000,9,    304.8,2,  -999.0,9, -999.00,9, -999.00,9,  -999.0,9,  -999.0,9, -999.00,9, -999.00,9,  -1.9096,     -999.0,     -999.0,9,     -999.0,      0.073,2,      0.000,2,     98.988,2
09AR20110104,       SR03,     121,          1,          2,        102,2,20110127,       0546,   -67.2435,   146.5160,        527,   518.5,  -1.9082,  34.6182,2,  34.6191,2,    305.7,2,   305.4,2,   77.90,2,    2.09,2,  -999.0,9,  -999.0,9,   -0.36,2,   30.93,2,  -1.9205,       0.01,      -4.34,2,       0.11,      0.070,2,      0.000,2,     97.820,2
09AR20110104,       SR03,     121,          1,          1,          1,2,20110127,       0546,   -67.2435,   146.5160,        527,   518.7,  -1.9080,  34.6183,2,-999.0000,9,    305.7,2,  -999.0,9, -999.00,9, -999.00,9,  -999.0,9,  -999.0,9, -999.00,9, -999.00,9,  -1.9203,     -999.0,     -999.0,9,     -999.0,      0.071,2,      0.000,2,     97.882,2