BOTTLE,20230419CCHSIOENA
EXPOCODE,SECT_ID,STNNBR,CASTNO,SAMPNO,BTLNBR,BTLNBR_FLAG_W,DATE,TIME,LATITUDE,LONGITUDE,DEPTH,CTDPRS,CTDTMP,CTDSAL,CTDSAL_FLAG_W,SALNTY,SALNTY_FLAG_W,CTDOXY,CTDOXY_FLAG_W,OXYGEN,OXYGEN_FLAG_W,SILCAT,SILCAT_FLAG_W,PHSPHT,PHSPHT_FLAG_W,TCARBN,TCARBN_FLAG_W,ALKALI,ALKALI_FLAG_W,DELO18,DELO18_FLAG_W,NO2+NO3,NO2+NO3_FLAG_W,THETA,O18ERR,DELD,DELD_FLAG_W,DELDERR,CTDFLUOR,CTDFLUOR_FLAG_W,PAR,PAR_FLAG_W,CTDXMISS,CTDXMISS_FLAG_W
,,,,,,,,,,,METERS,DBAR,ITS-90,PSS-78,,PSS-78,,UMOL/KG,,UMOL/KG,,UMOL/KG,,UMOL/KG,,UMOL/KG,,UMOL/KG,,/MILLE,,UMOL/KG,,DEG C,/MILLE,/MILLE,,/MILLE,MG/M^3,,UMOL/M^2/SEC,,%TRANS,
09AR20110104,       SR03,      86,          1,         24,         24,2,20110124,       0543,   -66.5145,   143.4580,        753,     9.7,  -0.8750,  33.5495,2,  33.5487,2,    374.5,2,   376.5,2,   38.40,2,    0.97,2,  2110.7,2,  2278.0,2,   -0.45,2,   17.81,2,  -0.8752,       0.05,      -4.26,2,       0.15,     11.572,2,     18.119,2,     84.393,2
09AR20110104,       SR03,      86,          1,         23,         23,2,20110124,       0543,   -66.5145,   143.4580,        753,    49.7,  -0.9300,  33.6496,2,-999.0000,9,    370.6,2,  -999.0,9, -999.00,9, -999.00,9,  -999.0,9,  -999.0,9, -999.00,9, -999.00,9,  -0.9313,     -999.0,     -999.0,9,     -999.0,     12.740,2,      0.000,2,     85.317,2
09AR20110104,       SR03,      86,          1,         22,         22,2,20110124,       0543,   -66.5145,   143.4580,        753,    49.7,  -0.9285,  33.6557,2,-999.0000,9,    370.6,2,  -999.0,9, -999.00,9, -999.00,9,  -999.0,9,  -999.0,9, -999.00,9, -999.00,9,  -0.9298,     -999.0,     -999.0,9,     -999.0,     12.236,2,      0.000,2,     85.212,2
09AR20110104,       SR03,      86,          1,         21,         21,2,20110124,       0543,   -66.5145,   143.4580,        753,    49.7,  -0.9265,  33.6614,2,-999.0000,9,    370.6,2,  -999.0,9, -999.00,9, -999.00,9,  -999.0,9,  -999.0,9, -999.00,9, -999.00,9,  -0.9278,     -999.0,     -999.0,9,     -999.0,     12.555,2,      0.000,2,     85.366,2
09AR20110104,       SR03,      86,          1,         20,         20,2,20110124,       0543,   -66.5145,   143.4580,        753,    49.8,  -0.9242,  33.6652,2,-999.0000,9,    370.6,2,  -999.0,9, -999.00,9, -999.00,9,  -999.0,9,  -999.0,9, -999.00,9, -999.00,9,  -0.9255,     -999.0,     -999.0,9,     -999.0,     13.752,2,      0.000,2,     85.441,2
09AR20110104,       SR03,      86,          1,         19,         19,2,20110124,       0543,   -66.5145,   143.4580,        753,    49.8,  -0.9221,  33.6676,2,-999.0000,9,    370.6,2,  -999.0,9, -999.00,9, -999.00,9,  -999.0,9,  -999.0,9, -999.00,9, -999.00,9,  -0.9234,     -999.0,     -999.0,9,     -999.0,     13.443,2,      0.000,2,     85.453,2
09AR20110104,       SR03,      86,          1,         18,         18,2,20110124,       0543,   -66.5145,   143.4580,        753,    49.9,  -0.9232,  33.6682,2,  33.6772,2,    370.6,2,   369.6,2,   41.50,2,    1.13,2,  2130.7,2,  2289.3,2, -999.00,9,   19.28,2,  -0.9245,     -999.0,     -999.0,9,     -999.0,     11.896,2,      0.000,2,     85.423,2
09AR20110104,       SR03,      86,          1,         17,         17,2,20110124,       0543,   -66.5145,   143.4580,        753,    49.8,  -0.9247,  33.6686,2,-999.0000,9,    370.6,2,  -999.0,9, -999.00,9, -999.00,9,  -999.0,9,  -999.0,9, -999.00,9, -999.00,9,  -0.9260,     -999.0,     -999.0,9,     -999.0,     12.907,2,      0.000,2,     85.439,2
09AR20110104,       SR03,      86,          1,         16,         16,2,20110124,       0543,   -66.5145,   143.4580,        753,   150.7,  -1.7194,  34.3299,2,  34.3270,2,    318.9,2,   315.6,2,   71.30,2,    1.95,2,  2219.4,2,  2321.3,6,   -0.39,2,   28.95,2,  -1.7226,       0.01,      -4.38,2,       0.13,      2.112,2,      0.000,2,     96.602,2
09AR20110104,       SR03,      86,          1,         15,         15,2,20110124,       0543,   -66.5145,   143.4580,        753,   150.4,  -1.7065,  34.3269,2,-999.0000,9,    318.9,2,  -999.0,9, -999.00,9, -999.00,9,  -999.0,9,  -999.0,9, -999.00,9, -999.00,9,  -1.7097,     -999.0,     -999.0,9,     -999.0,      2.678,2,      0.000,2,     95.982,2
09AR20110104,       SR03,      86,          1,         14,         14,2,20110124,       0543,   -66.5145,   143.4580,        753,   275.4,  -1.6455,  34.4461,2,  34.4498,2,    307.2,2,   298.6,2,   75.80,2,    2.04,2,  2232.4,2,  2329.2,2,   -0.45,2,   30.31,2,  -1.6519,       0.03,      -4.02,2,       0.02,      0.144,2,      0.000,2,     99.266,2
09AR20110104,       SR03,      86,          1,         13,         13,2,20110124,       0543,   -66.5145,   143.4580,        753,   275.1,  -1.6367,  34.4463,2,-999.0000,9,    307.2,2,  -999.0,9, -999.00,9, -999.00,9,  -999.0,9,  -999.0,9, -999.00,9, -999.00,9,  -1.6431,     -999.0,     -999.0,9,     -999.0,      0.059,2,      0.000,2,     99.307,2
09AR20110104,       SR03,      86,          1,         12,         12,2,20110124,       0543,   -66.5145,   143.4580,        753,   274.9,  -1.6251,  34.4472,2,-999.0000,9,    307.0,2,  -999.0,9, -999.00,9, -999.00,9,  -999.0,9,  -999.0,9, -999.00,9, -999.00,9,  -1.6315,     -999.0,     -999.0,9,     -999.0,      0.137,2,      0.000,2,     99.217,2
09AR20110104,       SR03,      86,          1,         11,         11,2,20110124,       0543,   -66.5145,   143.4580,        753,   400.0,  -1.8979,  34.5186,2,  34.5209,2,    303.9,2,   304.6,2,   75.60,2,    2.06,2,  2237.2,2,  2333.0,2, -999.00,9,   30.40,2,  -1.9069,     -999.0,     -999.0,9,     -999.0,     -0.006,2,      0.000,2,     99.504,2
09AR20110104,       SR03,      86,          1,         10,         10,2,20110124,       0543,   -66.5145,   143.4580,        753,   525.7,  -1.9557,  34.5743,2,  34.5726,2,    305.1,2,   307.6,2,   75.70,2,    2.05,2,  2240.2,2,  2337.2,2,   -0.45,2,   30.64,2,  -1.9679,       0.00,      -4.46,2,       0.04,     -0.019,2,      0.000,2,     99.353,2
09AR20110104,       SR03,      86,          1,          9,          9,2,20110124,       0543,   -66.5145,   143.4580,        753,   525.1,  -1.9558,  34.5742,2,-999.0000,9,    305.1,2,  -999.0,9, -999.00,9, -999.00,9,  -999.0,9,  -999.0,9, -999.00,9, -999.00,9,  -1.9680,     -999.0,     -999.0,9,     -999.0,     -0.012,2,      0.000,2,     99.348,2
09AR20110104,       SR03,      86,          1,          8,          8,2,20110124,       0543,   -66.5145,   143.4580,        753,   649.8,  -1.8940,  34.6131,2,  34.6136,2,    307.5,2,   307.3,2,   75.40,2,    2.06,2,  2244.2,2,  2339.3,2, -999.00,9,   30.40,2,  -1.9103,     -999.0,     -999.0,9,     -999.0,     -0.009,2,      0.000,2,     99.044,2
09AR20110104,       SR03,      86,          1,          7,          7,2,20110124,       0543,   -66.5145,   143.4580,        753,   649.6,  -1.8944,  34.6131,2,-999.0000,9,    307.5,2,  -999.0,9, -999.00,9, -999.00,9,  -999.0,9,  -999.0,9, -999.00,9, -999.00,9,  -1.9107,     -999.0,     -999.0,9,     -999.0,     -0.015,2,      0.000,2,     99.041,2
09AR20110104,       SR03,      86,          1,          6,          6,2,20110124,       0543,   -66.5145,   143.4580,        753,   649.5,  -1.8947,  34.6131,2,-999.0000,9,    307.5,2,  -999.0,9, -999.00,9, -999.00,9,  -999.0,9,  -999.0,9, -999.00,9, -999.00,9,  -1.9109,     -999.0,     -999.0,9,     -999.0,     -0.017,2,      0.000,2,     99.024,2
09AR20110104,       SR03,      86,          1,          5,          5,2,20110124,       0543,   -66.5145,   143.4580,        753,   649.4,  -1.8948,  34.6132,2,-999.0000,9,    307.5,2,  -999.0,9, -999.00,9, -999.00,9,  -999.0,9,  -999.0,9, -999.00,9, -999.00,9,  -1.9110,     -999.0,     -999.0,9,     -999.0,     -0.004,2,      0.000,2,     99.040,2
09AR20110104,       SR03,      86,          1,          4,          4,2,20110124,       0543,   -66.5145,   143.4580,        753,   752.2,  -1.8952,  34.6317,2,-999.0000,9,    307.9,2,  -999.0,9, -999.00,9, -999.00,9,  -999.0,9,  -999.0,9, -999.00,9, -999.00,9,  -1.9148,     -999.0,     -999.0,9,     -999.0,      0.008,2,      0.000,2,     98.816,2
09AR20110104,       SR03,      86,          1,          3,          3,2,20110124,       0543,   -66.5145,   143.4580,        753,   752.0,  -1.8952,  34.6315,2,-999.0000,9,    307.9,2,  -999.0,9, -999.00,9, -999.00,9,  -999.0,9,  -999.0,9, -999.00,9, -999.00,9,  -1.9148,     -999.0,     -999.0,9,     -999.0,     -0.006,2,      0.000,2,     98.797,2
09AR20110104,       SR03,      86,          1,          2,        102,2,20110124,       0543,   -66.5145,   143.4580,        753,   751.5,  -1.8952,  34.6316,2,  34.6301,2,    307.9,2,   306.4,2,   76.50,2,    2.07,2,  -999.0,9,  -999.0,9,   -0.48,2,   30.39,2,  -1.9148,       0.06,      -4.53,2,       0.03,      0.001,2,      0.000,2,     98.752,2
09AR20110104,       SR03,      86,          1,          1,          1,2,20110124,       0543,   -66.5145,   143.4580,        753,   751.4,  -1.8953,  34.6316,2,-999.0000,9,    307.9,2,  -999.0,9, -999.00,9, -999.00,9,  -999.0,9,  -999.0,9, -999.00,9, -999.00,9,  -1.9149,     -999.0,     -999.0,9,     -999.0,     -0.030,2,      0.000,2,     98.767,2
09AR20110104,       SR03,      87,          1,         24,         24,2,20110124,       0723,   -66.5547,   143.3340,        797,    10.0,  -0.9603,  33.5581,2,  33.5552,2,    372.2,2,   374.5,2,   39.90,2,    1.01,2,  2119.7,2,  2281.3,2, -999.00,9,   18.49,2,  -0.9605,     -999.0,     -999.0,9,     -999.0,     12.049,2,      8.018,2,     84.897,2
09AR20110104,       SR03,      87,          1,         23,         23,2,20110124,       0723,   -66.5547,   143.3340,        797,    61.0,  -0.8932,  33.9854,2,-999.0000,9,    359.6,2,  -999.0,9, -999.00,9, -999.00,9,  -999.0,9,  -999.0,9, -999.00,9, -999.00,9,  -0.8948,     -999.0,     -999.0,9,     -999.0,      7.657,2,      0.000,2,     89.883,2
09AR20110104,       SR03,      87,          1,         22,         22,2,20110124,       0723,   -66.5547,   143.3340,        797,    61.0,  -0.8969,  33.9895,2,-999.0000,9,    359.6,2,  -999.0,9, -999.00,9, -999.00,9,  -999.0,9,  -999.0,9, -999.00,9, -999.00,9,  -0.8985,     -999.0,     -999.0,9,     -999.0,      7.204,2,      0.000,2,     89.814,2
09AR20110104,       SR03,      87,          1,         21,         21,2,20110124,       0723,   -66.5547,   143.3340,        797,    61.0,  -0.8999,  33.9927,2,-999.0000,9,    359.6,2,  -999.0,9, -999.00,9, -999.00,9,  -999.0,9,  -999.0,9, -999.00,9, -999.00,9,  -0.9015,     -999.0,     -999.0,9,     -999.0,      7.316,2,      0.000,2,     89.969,2
09AR20110104,       SR03,      87,          1,         20,         20,2,20110124,       0723,   -66.5547,   143.3340,        797,    61.0,  -0.9133,  34.0056,2,-999.0000,9,    359.6,2,  -999.0,9, -999.00,9, -999.00,9,  -999.0,9,  -999.0,9, -999.00,9, -999.00,9,  -0.9149,     -999.0,     -999.0,9,     -999.0,      7.447,2,      0.000,2,     90.010,2
09AR20110104,       SR03,      87,          1,         19,         19,2,20110124,       0723,   -66.5547,   143.3340,        797,    61.0,  -0.9146,  34.0068,2,-999.0000,9,    357.3,2,  -999.0,9, -999.00,9, -999.00,9,  -999.0,9,  -999.0,9, -999.00,9, -999.00,9,  -0.9162,     -999.0,     -999.0,9,     -999.0,      7.461,2,      0.000,2,     90.162,2
09AR20110104,       SR03,      87,          1,         18,         18,2,20110124,       0723,   -66.5547,   143.3340,        797,    61.0,  -0.9215,  34.0145,2,  34.0262,2,    357.3,2,   355.2,2,   52.20,2,    1.51,2,  2171.1,2,  2308.4,2, -999.00,9,   22.86,2,  -0.9231,     -999.0,     -999.0,9,     -999.0,      6.443,2,      0.000,2,     90.257,2
09AR20110104,       SR03,      87,          1,         17,         17,2,20110124,       0723,   -66.5547,   143.3340,        797,    60.3,  -0.9161,  34.0112,2,-999.0000,9,    359.6,2,  -999.0,9, -999.00,9, -999.00,9,  -999.0,9,  -999.0,9, -999.00,9, -999.00,9,  -0.9177,     -999.0,     -999.0,9,     -999.0,      6.641,2,      0.000,2,     90.081,2
09AR20110104,       SR03,      87,          1,         16,         16,2,20110124,       0723,   -66.5547,   143.3340,        797,   173.2,  -1.6708,  34.3634,2,  34.3660,2,    317.9,2,   317.6,2,   72.20,2,    1.99,2,  2220.8,2,  2324.6,6, -999.00,9,   28.80,2,  -1.6746,     -999.0,     -999.0,9,     -999.0,      1.462,2,      0.000,2,     96.987,2
09AR20110104,       SR03,      87,          1,         15,         15,2,20110124,       0723,   -66.5547,   143.3340,        797,   173.8,  -1.6758,  34.3675,2,-999.0000,9,    317.9,2,  -999.0,9, -999.00,9, -999.00,9,  -999.0,9,  -999.0,9, -999.00,9, -999.00,9,  -1.6796,     -999.0,     -999.0,9,     -999.0,      1.201,2,      0.000,2,     97.125,2
09AR20110104,       SR03,      87,          1,         14,         14,2,20110124,       0723,   -66.5547,   143.3340,        797,   349.2,  -1.4831,  34.4951,2,  34.4915,2,    293.5,2,   292.1,2,   77.60,2,    2.07,2,  2235.3,2,  2332.7,2, -999.00,9,   30.56,2,  -1.4920,     -999.0,     -999.0,9,     -999.0,      0.040,2,      0.000,2,     99.262,2
09AR20110104,       SR03,      87,          1,         13,         13,2,20110124,       0723,   -66.5547,   143.3340,        797,   349.3,  -1.5051,  34.4945,2,-999.0000,9,    293.5,2,  -999.0,9, -999.00,9, -999.00,9,  -999.0,9,  -999.0,9, -999.00,9, -999.00,9,  -1.5139,     -999.0,     -999.0,9,     -999.0,      0.060,2,      0.000,2,     99.210,2
09AR20110104,       SR03,      87,          1,         12,         12,2,20110124,       0723,   -66.5547,   143.3340,        797,   349.5,  -1.5087,  34.4944,2,-999.0000,9,    293.5,2,  -999.0,9, -999.00,9, -999.00,9,  -999.0,9,  -999.0,9, -999.00,9, -999.00,9,  -1.5175,     -999.0,     -999.0,9,     -999.0,      0.046,2,      0.000,2,     99.255,2
09AR20110104,       SR03,      87,          1,         11,         11,2,20110124,       0723,   -66.5547,   143.3340,        797,   451.1,  -1.8794,  34.5191,2,  34.5172,2,    307.8,2,   306.7,2,   75.00,2,    2.05,2,  2234.3,2,  2333.6,2, -999.00,9,   30.15,2,  -1.8898,     -999.0,     -999.0,9,     -999.0,     -0.004,2,      0.000,2,     99.299,2
09AR20110104,       SR03,      87,          1,         10,         10,2,20110124,       0723,   -66.5547,   143.3340,        797,   550.3,  -1.9080,  34.5618,2,  34.5590,2,    309.0,2,   308.0,2,   74.90,2,    2.06,2,  2236.7,2,  2337.1,2, -999.00,9,   30.15,2,  -1.9211,     -999.0,     -999.0,9,     -999.0,     -0.015,2,      0.000,2,     99.339,2
09AR20110104,       SR03,      87,          1,          9,          9,2,20110124,       0723,   -66.5547,   143.3340,        797,   550.5,  -1.9091,  34.5617,2,-999.0000,9,    309.0,2,  -999.0,9, -999.00,9, -999.00,9,  -999.0,9,  -999.0,9, -999.00,9, -999.00,9,  -1.9222,     -999.0,     -999.0,9,     -999.0,      0.001,2,      0.000,2,     99.343,2
09AR20110104,       SR03,      87,          1,          8,          8,2,20110124,       0723,   -66.5547,   143.3340,        797,   650.9,  -1.9726,  34.5939,2,  34.5928,2,    309.3,2,   308.5,2,   75.20,2,    2.06,2,  2238.6,2,  2339.0,2, -999.00,9,   30.28,2,  -1.9884,     -999.0,     -999.0,9,     -999.0,     -0.019,2,      0.000,2,     99.261,2
09AR20110104,       SR03,      87,          1,          7,          7,2,20110124,       0723,   -66.5547,   143.3340,        797,   650.9,  -1.9727,  34.5938,2,-999.0000,9,    309.3,2,  -999.0,9, -999.00,9, -999.00,9,  -999.0,9,  -999.0,9, -999.00,9, -999.00,9,  -1.9885,     -999.0,     -999.0,9,     -999.0,     -0.016,2,      0.000,2,     99.259,2
09AR20110104,       SR03,      87,          1,          6,          6,2,20110124,       0723,   -66.5547,   143.3340,        797,   650.7,  -1.9726,  34.5939,2,-999.0000,9,    309.3,2,  -999.0,9, -999.00,9, -999.00,9,  -999.0,9,  -999.0,9, -999.00,9, -999.00,9,  -1.9884,     -999.0,     -999.0,9,     -999.0,     -0.024,2,      0.000,2,     99.225,2
09AR20110104,       SR03,      87,          1,          5,          5,2,20110124,       0723,   -66.5547,   143.3340,        797,   650.5,  -1.9711,  34.5939,2,-999.0000,9,    309.3,2,  -999.0,9, -999.00,9, -999.00,9,  -999.0,9,  -999.0,9, -999.00,9, -999.00,9,  -1.9869,     -999.0,     -999.0,9,     -999.0,     -0.008,2,      0.000,2,     99.233,2
09AR20110104,       SR03,      87,          1,          4,          4,2,20110124,       0723,   -66.5547,   143.3340,        797,   796.1,  -1.8888,  34.6254,2,-999.0000,9,    306.2,2,  -999.0,9, -999.00,9, -999.00,9,  -999.0,9,  -999.0,9, -999.00,9, -999.00,9,  -1.9099,     -999.0,     -999.0,9,     -999.0,     -0.024,2,      0.000,2,     98.754,2
09AR20110104,       SR03,      87,          1,          3,          3,2,20110124,       0723,   -66.5547,   143.3340,        797,   796.0,  -1.8887,  34.6254,2,-999.0000,9,    306.2,2,  -999.0,9, -999.00,9, -999.00,9,  -999.0,9,  -999.0,9, -999.00,9, -999.00,9,  -1.9098,     -999.0,     -999.0,9,     -999.0,      0.002,2,      0.000,2,     98.788,2
09AR20110104,       SR03,      87,          1,          2,        102,2,20110124,       0723,   -66.5547,   143.3340,        797,   795.9,  -1.8883,  34.6256,2,  34.6207,2,    306.2,2,   306.9,2,   76.50,2,    2.05,2,  -999.0,9,  -999.0,9, -999.00,9,   30.39,2,  -1.9094,     -999.0,     -999.0,9,     -999.0,      0.002,2,      0.000,2,     98.812,2
09AR20110104,       SR03,      87,          1,          1,          1,2,20110124,       0723,   -66.5547,   143.3340,        797,   795.9,  -1.8884,  34.6256,2,-999.0000,9,    306.2,2,  -999.0,9, -999.00,9, -999.00,9,  -999.0,9,  -999.0,9, -999.00,9, -999.00,9,  -1.9095,     -999.0,     -999.0,9,     -999.0,     -0.002,2,      0.000,2,     98.795,2