BOTTLE,20230419CCHSIOENA
EXPOCODE,SECT_ID,STNNBR,CASTNO,SAMPNO,BTLNBR,BTLNBR_FLAG_W,DATE,TIME,LATITUDE,LONGITUDE,DEPTH,CTDPRS,CTDTMP,CTDSAL,CTDSAL_FLAG_W,SALNTY,SALNTY_FLAG_W,CTDOXY,CTDOXY_FLAG_W,OXYGEN,OXYGEN_FLAG_W,SILCAT,SILCAT_FLAG_W,PHSPHT,PHSPHT_FLAG_W,TCARBN,TCARBN_FLAG_W,ALKALI,ALKALI_FLAG_W,DELO18,DELO18_FLAG_W,NO2+NO3,NO2+NO3_FLAG_W,THETA,O18ERR,DELD,DELD_FLAG_W,DELDERR,CTDFLUOR,CTDFLUOR_FLAG_W,PAR,PAR_FLAG_W,CTDXMISS,CTDXMISS_FLAG_W
,,,,,,,,,,,METERS,DBAR,ITS-90,PSS-78,,PSS-78,,UMOL/KG,,UMOL/KG,,UMOL/KG,,UMOL/KG,,UMOL/KG,,UMOL/KG,,/MILLE,,UMOL/KG,,DEG C,/MILLE,/MILLE,,/MILLE,MG/M^3,,UMOL/M^2/SEC,,%TRANS,
09AR20110104,       SR03,     140,          1,         24,         24,2,20110129,       1621,   -65.9808,   147.6810,        614,     9.8,  -1.2020,  33.2902,2,  33.2658,2,    376.3,2,   376.7,2,   54.80,2,    1.31,2,  -999.0,9,  -999.0,9,   -0.44,2,   19.68,2,  -1.2022,       0.10,      -4.33,2,       0.08,      5.180,2,      0.663,2,     90.295,2
09AR20110104,       SR03,     140,          1,         23,         23,2,20110129,       1621,   -65.9808,   147.6810,        614,     9.8,  -1.0843,  33.2589,2,-999.0000,9,    376.3,2,  -999.0,9, -999.00,9, -999.00,9,  -999.0,9,  -999.0,9, -999.00,9, -999.00,9,  -1.0845,     -999.0,     -999.0,9,     -999.0,      4.094,2,      0.661,2,     90.488,2
09AR20110104,       SR03,     140,          1,         22,         22,2,20110129,       1621,   -65.9808,   147.6810,        614,    70.6,  -1.8345,  34.3259,2,-999.0000,9,    319.2,2,  -999.0,9, -999.00,9, -999.00,9,  -999.0,9,  -999.0,9, -999.00,9, -999.00,9,  -1.8359,     -999.0,     -999.0,9,     -999.0,      1.289,2,      0.000,2,     97.754,2
09AR20110104,       SR03,     140,          1,         21,         21,2,20110129,       1621,   -65.9808,   147.6810,        614,    70.5,  -1.8348,  34.3261,2,-999.0000,9,    319.2,2,  -999.0,9, -999.00,9, -999.00,9,  -999.0,9,  -999.0,9, -999.00,9, -999.00,9,  -1.8362,     -999.0,     -999.0,9,     -999.0,      1.352,2,      0.000,2,     97.751,2
09AR20110104,       SR03,     140,          1,         20,         20,2,20110129,       1621,   -65.9808,   147.6810,        614,    70.5,  -1.8354,  34.3264,2,-999.0000,9,    319.2,2,  -999.0,9, -999.00,9, -999.00,9,  -999.0,9,  -999.0,9, -999.00,9, -999.00,9,  -1.8368,     -999.0,     -999.0,9,     -999.0,      1.238,2,      0.000,2,     97.857,2
09AR20110104,       SR03,     140,          1,         19,         19,2,20110129,       1621,   -65.9808,   147.6810,        614,    70.6,  -1.8357,  34.3267,2,-999.0000,9,    319.2,2,  -999.0,9, -999.00,9, -999.00,9,  -999.0,9,  -999.0,9, -999.00,9, -999.00,9,  -1.8371,     -999.0,     -999.0,9,     -999.0,      1.013,2,      0.000,2,     97.654,2
09AR20110104,       SR03,     140,          1,         18,         18,2,20110129,       1621,   -65.9808,   147.6810,        614,    70.8,  -1.8373,  34.3278,2,  34.3272,2,    319.2,2,   318.1,2,   71.80,2,    2.01,2,  -999.0,9,  -999.0,9,   -0.40,2,   29.95,2,  -1.8387,       0.09,      -4.49,2,       0.24,      1.576,2,      0.000,2,     97.897,2
09AR20110104,       SR03,     140,          1,         17,         17,2,20110129,       1621,   -65.9808,   147.6810,        614,   150.8,  -1.8328,  34.3504,2,-999.0000,9,    310.6,2,  -999.0,9, -999.00,9, -999.00,9,  -999.0,9,  -999.0,9, -999.00,9, -999.00,9,  -1.8358,     -999.0,     -999.0,9,     -999.0,      0.026,2,      0.000,2,     98.759,2
09AR20110104,       SR03,     140,          1,         16,         16,2,20110129,       1621,   -65.9808,   147.6810,        614,   150.9,  -1.8331,  34.3503,2,-999.0000,9,    310.6,2,  -999.0,9, -999.00,9, -999.00,9,  -999.0,9,  -999.0,9, -999.00,9, -999.00,9,  -1.8361,     -999.0,     -999.0,9,     -999.0,     -0.003,2,      0.000,2,     98.723,2
09AR20110104,       SR03,     140,          1,         15,         15,2,20110129,       1621,   -65.9808,   147.6810,        614,   150.8,  -1.8328,  34.3504,2,-999.0000,9,    310.6,2,  -999.0,9, -999.00,9, -999.00,9,  -999.0,9,  -999.0,9, -999.00,9, -999.00,9,  -1.8358,     -999.0,     -999.0,9,     -999.0,      0.038,2,      0.000,2,     98.830,2
09AR20110104,       SR03,     140,          1,         14,         14,2,20110129,       1621,   -65.9808,   147.6810,        614,   150.9,  -1.8319,  34.3505,2,  34.3505,2,    310.6,2,   311.0,2,   73.10,2,    2.03,2,  -999.0,9,  -999.0,9,   -0.27,2,   29.94,2,  -1.8349,       0.15,      -3.53,2,       0.24,      0.043,2,      0.000,2,     98.914,2
09AR20110104,       SR03,     140,          1,         13,         13,2,20110129,       1621,   -65.9808,   147.6810,        614,   299.6,  -1.2868,  34.4450,2,-999.0000,9,    277.3,2,  -999.0,9, -999.00,9, -999.00,9,  -999.0,9,  -999.0,9, -999.00,9, -999.00,9,  -1.2948,     -999.0,     -999.0,9,     -999.0,      0.011,2,      0.000,2,     98.689,2
09AR20110104,       SR03,     140,          1,         12,         12,2,20110129,       1621,   -65.9808,   147.6810,        614,   299.6,  -1.2848,  34.4449,2,-999.0000,9,    277.3,2,  -999.0,9, -999.00,9, -999.00,9,  -999.0,9,  -999.0,9, -999.00,9, -999.00,9,  -1.2928,     -999.0,     -999.0,9,     -999.0,     -0.009,2,      0.000,2,     98.754,2
09AR20110104,       SR03,     140,          1,         11,         11,2,20110129,       1621,   -65.9808,   147.6810,        614,   299.8,  -1.2668,  34.4464,2,  34.4471,2,    277.3,2,   277.7,2,   79.40,2,    2.08,2,  -999.0,9,  -999.0,9,   -0.35,2,   30.54,2,  -1.2748,       0.01,      -3.72,2,       0.04,     -0.010,2,      0.000,2,     98.752,2
09AR20110104,       SR03,     140,          1,         10,         10,2,20110129,       1621,   -65.9808,   147.6810,        614,   400.9,  -0.3460,  34.5584,2,-999.0000,9,    240.8,2,  -999.0,9, -999.00,9, -999.00,9,  -999.0,9,  -999.0,9, -999.00,9, -999.00,9,  -0.3603,     -999.0,     -999.0,9,     -999.0,     -0.012,2,      0.000,2,     98.761,2
09AR20110104,       SR03,     140,          1,          9,          9,2,20110129,       1621,   -65.9808,   147.6810,        614,   400.8,  -0.3442,  34.5584,2,-999.0000,9,    240.8,2,  -999.0,9, -999.00,9, -999.00,9,  -999.0,9,  -999.0,9, -999.00,9, -999.00,9,  -0.3585,     -999.0,     -999.0,9,     -999.0,     -0.016,2,      0.000,2,     98.738,2
09AR20110104,       SR03,     140,          1,          8,          8,2,20110129,       1621,   -65.9808,   147.6810,        614,   400.7,  -0.3407,  34.5587,2,  34.5578,2,    240.8,2,   241.7,2,   88.90,2,    2.11,2,  -999.0,9,  -999.0,9,   -0.22,2,   31.38,2,  -0.3550,       0.00,      -3.01,2,       0.13,      0.011,2,      0.000,2,     98.693,2
09AR20110104,       SR03,     140,          1,          7,          7,2,20110129,       1621,   -65.9808,   147.6810,        614,   400.3,  -0.3410,  34.5585,2,-999.0000,9,    240.8,2,  -999.0,9, -999.00,9, -999.00,9,  -999.0,9,  -999.0,9, -999.00,9, -999.00,9,  -0.3553,     -999.0,     -999.0,9,     -999.0,     -0.015,2,      0.000,2,     98.685,2
09AR20110104,       SR03,     140,          1,          6,          6,2,20110129,       1621,   -65.9808,   147.6810,        614,   550.1,   0.0678,  34.6278,2,-999.0000,9,    226.6,2,  -999.0,9, -999.00,9, -999.00,9,  -999.0,9,  -999.0,9, -999.00,9, -999.00,9,   0.0454,     -999.0,     -999.0,9,     -999.0,      0.008,2,      0.000,2,     98.934,2
09AR20110104,       SR03,     140,          1,          5,          5,2,20110129,       1621,   -65.9808,   147.6810,        614,   550.3,   0.0673,  34.6278,2,-999.0000,9,    226.6,2,  -999.0,9, -999.00,9, -999.00,9,  -999.0,9,  -999.0,9, -999.00,9, -999.00,9,   0.0449,     -999.0,     -999.0,9,     -999.0,     -0.003,2,      0.000,2,     98.836,2
09AR20110104,       SR03,     140,          1,          4,          4,2,20110129,       1621,   -65.9808,   147.6810,        614,   549.6,   0.0691,  34.6276,2,  34.6270,2,    226.6,2,   226.8,2,   98.50,2,    2.15,2,  -999.0,9,  -999.0,9,   -0.05,2,   31.98,2,   0.0467,       0.05,      -1.94,2,       0.02,     -0.007,2,      0.000,2,     98.810,2
09AR20110104,       SR03,     140,          1,          3,          3,2,20110129,       1621,   -65.9808,   147.6810,        614,   549.5,   0.0671,  34.6275,2,-999.0000,9,    226.6,2,  -999.0,9, -999.00,9, -999.00,9,  -999.0,9,  -999.0,9, -999.00,9, -999.00,9,   0.0447,     -999.0,     -999.0,9,     -999.0,      0.009,2,      0.000,2,     98.748,2
09AR20110104,       SR03,     140,          1,          2,        102,2,20110129,       1621,   -65.9808,   147.6810,        614,   614.6,  -1.2707,  34.5841,2,  34.5832,2,    277.3,2,   277.5,2,   83.10,2,    2.09,2,  -999.0,9,  -999.0,9,   -0.45,2,   31.24,2,  -1.2891,       0.07,      -3.83,2,       0.04,      0.022,2,      0.000,2,     98.152,2
09AR20110104,       SR03,     140,          1,          1,          1,2,20110129,       1621,   -65.9808,   147.6810,        614,   614.6,  -1.2671,  34.5841,2,-999.0000,9,    277.3,2,  -999.0,9, -999.00,9, -999.00,9,  -999.0,9,  -999.0,9, -999.00,9, -999.00,9,  -1.2855,     -999.0,     -999.0,9,     -999.0,      0.027,2,      0.000,2,     98.160,2
09AR20110104,       SR03,     141,          1,         24,         24,2,20110130,       2334,   -65.3987,   149.9940,       2867,     9.5,   0.5647,  33.3842,2,  33.4012,2,    374.8,2,   375.8,2,   24.30,2,    0.94,2,  2084.5,6,  2268.6,6,   -0.23,2,   16.31,2,   0.5643,       0.03,      -3.40,2,       0.02,      4.170,2,     59.619,2,     82.925,2
09AR20110104,       SR03,     141,          1,         23,         23,2,20110130,       2334,   -65.3987,   149.9940,       2867,    49.9,  -1.5229,  34.1278,2,  34.1268,2,    319.6,2,   319.7,2,   59.00,2, -999.00,9,  2206.0,2,  2307.5,2,   -0.29,2,   28.02,2,  -1.5240,       0.03,      -3.25,2,       0.12,      4.039,2,      0.165,2,     92.675,2
09AR20110104,       SR03,     141,          1,         22,         22,2,20110130,       2334,   -65.3987,   149.9940,       2867,    99.8,  -1.5658,  34.3286,2,  34.3292,2,    298.6,2,   296.7,2,   67.80,2,    2.07,2,  2224.4,2,  2316.6,2,   -0.24,2,   30.77,2,  -1.5680,       0.04,      -2.92,2,       0.03,      0.438,2,      0.000,2,     98.041,2
09AR20110104,       SR03,     141,          1,         21,         21,2,20110130,       2334,   -65.3987,   149.9940,       2867,   149.6,  -0.9784,  34.4120,2,  34.4118,2,    269.6,2,   272.5,2,   72.90,2,    2.11,2,  2232.2,2,  2321.6,2,   -0.22,2,   31.38,2,  -0.9825,       0.06,      -3.32,2,       0.13,      0.334,2,      0.000,2,     -999.0,5
09AR20110104,       SR03,     141,          1,         20,         20,2,20110130,       2334,   -65.3987,   149.9940,       2867,   200.4,  -0.0036,  34.5304,2,  34.5288,2,    237.4,2,   236.1,2,   80.40,2,    2.13,2,  2243.2,2,  2329.3,2,   -0.15,2,   31.69,2,  -0.0110,       0.06,      -2.74,2,       0.13,      0.171,2,      0.000,2,     98.260,2
09AR20110104,       SR03,     141,          1,         19,         19,2,20110130,       2334,   -65.3987,   149.9940,       2867,   299.5,   0.7408,  34.6307,2,  34.6327,2,    211.4,2,   213.1,2,   86.20,2,    2.12,2,  2251.6,2,  2338.6,2,   -0.16,2,   31.68,2,   0.7276,       0.16,      -1.99,2,       0.19,      0.064,2,      0.000,2,     98.554,2
09AR20110104,       SR03,     141,          1,         18,         18,2,20110130,       2334,   -65.3987,   149.9940,       2867,   399.8,   1.3312,  34.7077,2,  34.7050,2,    202.2,2,   200.3,2,   90.70,2,    2.11,2,  2252.6,2,  2345.2,2,   -0.02,2,   31.04,2,   1.3112,       0.05,      -1.46,2,       0.08,      0.044,2,      0.000,2,     98.654,2
09AR20110104,       SR03,     141,          1,         17,         17,2,20110130,       2334,   -65.3987,   149.9940,       2867,   500.8,   1.2789,  34.7151,2,  34.7144,2,    201.2,2,   200.7,2,   94.20,2,    2.09,2,  2253.9,2,  2346.9,2,   -0.01,2,   31.03,2,   1.2537,       0.15,      -1.23,2,       0.30,      0.029,2,      0.000,2,     98.735,2
09AR20110104,       SR03,     141,          1,         16,         16,2,20110130,       2334,   -65.3987,   149.9940,       2867,   600.1,   1.0465,  34.7001,2,  34.6999,2,    200.9,2,   203.1,2,   97.20,2,    2.12,2,  2255.6,2,  2345.8,2,   -0.06,2,   31.33,2,   1.0169,       0.06,      -1.80,2,       0.09,      0.022,2,      0.000,2,     98.840,2
09AR20110104,       SR03,     141,          1,         15,         15,2,20110130,       2334,   -65.3987,   149.9940,       2867,   699.6,   1.0830,  34.7113,2,  34.7107,2,    201.5,2,   202.5,2,  100.20,2,    2.14,2,  2257.0,2,  2352.1,2,   -0.14,2,   31.33,2,   1.0477,       0.06,      -1.64,2,       0.10,      0.010,2,      0.000,2,     98.931,2
09AR20110104,       SR03,     141,          1,         14,         14,2,20110130,       2334,   -65.3987,   149.9940,       2867,   800.7,   1.0234,  34.7120,2,  34.7121,2,    201.9,2,   201.3,2,  104.30,2,    2.15,2,  2260.1,2,  2353.2,2,    0.12,2,   31.64,2,   0.9826,       0.09,      -1.14,2,       0.16,      0.005,2,      0.000,2,     98.914,2
09AR20110104,       SR03,     141,          1,         13,         13,2,20110130,       2334,   -65.3987,   149.9940,       2867,   899.2,   0.9901,  34.7160,2,  34.7160,2,    202.2,2,   203.5,2,  107.00,2,    2.15,2,  2260.1,2,  2353.2,2,   -0.14,2,   31.32,2,   0.9438,       0.10,      -1.74,2,       0.11,      0.007,2,      0.000,2,     98.910,2
09AR20110104,       SR03,     141,          1,         12,         12,2,20110130,       2334,   -65.3987,   149.9940,       2867,   999.7,   0.8864,  34.7099,2,  34.7093,2,    204.3,2,   204.4,2,  109.40,2,    2.17,2,  2260.8,6,  2352.9,6,    0.03,2,   31.63,2,   0.8349,       0.02,      -1.69,2,       0.14,      0.014,2,      0.000,2,     98.953,2
09AR20110104,       SR03,     141,          1,         11,         11,2,20110130,       2334,   -65.3987,   149.9940,       2867,  1100.4,   0.7220,  34.6976,2,  34.6983,2,    206.0,2,   206.2,2,  111.40,2,    2.15,2,  2262.0,2,  2353.3,2,   -0.04,2,   31.94,2,   0.6659,       0.02,      -1.96,2,       0.10,     -0.001,2,      0.000,2,     98.992,2
09AR20110104,       SR03,     141,          1,         10,         10,2,20110130,       2334,   -65.3987,   149.9940,       2867,  1198.8,   0.6909,  34.6993,2,  34.6991,2,    206.4,2,   206.6,2,  113.90,2,    2.19,2,  2261.9,2,  2355.4,2,   -0.13,2,   31.94,2,   0.6291,       0.09,      -1.99,2,       0.17,     -0.005,2,      0.000,2,     99.077,2
09AR20110104,       SR03,     141,          1,          9,          9,2,20110130,       2334,   -65.3987,   149.9940,       2867,  1400.3,   0.5886,  34.6972,2,  34.6965,2,    209.0,2,   209.3,2,  117.40,2,    2.19,2,  2262.1,2,  2354.3,2, -999.00,9,   31.94,2,   0.5151,     -999.0,     -999.0,9,     -999.0,      0.001,2,      0.000,2,     99.034,2
09AR20110104,       SR03,     141,          1,          8,          8,2,20110130,       2334,   -65.3987,   149.9940,       2867,  1599.4,   0.3807,  34.6814,2,  34.6806,2,    214.4,2,   213.7,2,  113.80,2,    2.21,2,  2263.4,2,  2353.1,2,   -0.07,2,   31.94,2,   0.2967,       0.04,      -2.12,2,       0.12,     -0.003,2,      0.000,2,     99.065,2
09AR20110104,       SR03,     141,          1,          7,          7,2,20110130,       2334,   -65.3987,   149.9940,       2867,  1799.6,   0.3397,  34.6858,2,  34.6857,2,    215.4,2,   214.9,2,  117.10,2,    2.21,2,  2263.8,2,  2353.9,2,   -0.10,2,   32.10,2,   0.2428,       0.08,      -2.32,2,       0.08,      0.030,2,      0.000,2,     98.988,2
09AR20110104,       SR03,     141,          1,          6,          6,2,20110130,       2334,   -65.3987,   149.9940,       2867,  1999.6,   0.2287,  34.6810,2,  34.6796,2,    219.0,2,   218.7,2,  115.00,2,    2.22,2,  2262.3,2,  2354.0,6,   -0.22,2,   31.94,2,   0.1194,       0.02,      -2.70,2,       0.07,     -0.004,2,      0.000,2,     99.012,2
09AR20110104,       SR03,     141,          1,          5,          5,2,20110130,       2334,   -65.3987,   149.9940,       2867,  2198.3,   0.1581,  34.6803,2,  34.6789,2,    221.8,2,   221.7,2,  118.40,2,    2.22,2,  2262.8,2,  2352.8,2,   -0.21,2,   31.94,2,   0.0355,       0.02,      -2.79,2,       0.06,     -0.018,2,      0.000,2,     99.123,2
09AR20110104,       SR03,     141,          1,          4,          4,2,20110130,       2334,   -65.3987,   149.9940,       2867,  2400.7,   0.0112,  34.6695,2,  34.6680,2,    227.4,2,   227.5,2,  107.60,2,    2.20,2,  2260.0,2,  2348.1,2,   -0.20,2,   31.78,2,  -0.1240,       0.05,      -2.79,2,       0.10,     -0.020,2,      0.000,2,     99.077,2
09AR20110104,       SR03,     141,          1,          3,          3,2,20110130,       2334,   -65.3987,   149.9940,       2867,  2599.9,  -0.0956,  34.6682,2,  34.6684,2,    231.7,2,   231.9,2,  107.60,2,    2.20,2,  2259.3,2,  2350.4,2,   -0.33,2,   31.63,2,  -0.2441,       0.09,      -3.32,2,       0.26,     -0.020,2,      0.000,2,     99.070,2
09AR20110104,       SR03,     141,          1,          2,        102,2,20110130,       2334,   -65.3987,   149.9940,       2867,  2801.1,  -0.2457,  34.6674,2,  34.6655,2,    237.7,2,   237.9,2,  103.50,2,    2.17,2,  -999.0,9,  -999.0,9,   -0.35,2,   31.64,2,  -0.4072,       0.05,      -3.73,2,       0.04,     -0.019,2,      0.000,2,     98.905,2
09AR20110104,       SR03,     141,          1,          1,          1,2,20110130,       2334,   -65.3987,   149.9940,       2867,  2904.5,  -0.2792,  34.6682,2,  34.6671,2,    239.7,2,   239.4,2,  102.10,2,    2.17,2,  2260.5,6,  2347.4,6,   -0.44,2,   31.64,2,  -0.4484,       0.03,      -3.79,2,       0.04,     -0.020,2,      0.000,2,     98.637,2