BOTTLE,20230419CCHSIOENA
EXPOCODE,SECT_ID,STNNBR,CASTNO,SAMPNO,BTLNBR,BTLNBR_FLAG_W,DATE,TIME,LATITUDE,LONGITUDE,DEPTH,CTDPRS,CTDTMP,CTDSAL,CTDSAL_FLAG_W,SALNTY,SALNTY_FLAG_W,CTDOXY,CTDOXY_FLAG_W,OXYGEN,OXYGEN_FLAG_W,SILCAT,SILCAT_FLAG_W,PHSPHT,PHSPHT_FLAG_W,TCARBN,TCARBN_FLAG_W,ALKALI,ALKALI_FLAG_W,DELO18,DELO18_FLAG_W,NO2+NO3,NO2+NO3_FLAG_W,THETA,O18ERR,DELD,DELD_FLAG_W,DELDERR,CTDFLUOR,CTDFLUOR_FLAG_W,PAR,PAR_FLAG_W,CTDXMISS,CTDXMISS_FLAG_W
,,,,,,,,,,,METERS,DBAR,ITS-90,PSS-78,,PSS-78,,UMOL/KG,,UMOL/KG,,UMOL/KG,,UMOL/KG,,UMOL/KG,,UMOL/KG,,/MILLE,,UMOL/KG,,DEG C,/MILLE,/MILLE,,/MILLE,MG/M^3,,UMOL/M^2/SEC,,%TRANS,
09AR20110104,       SR03,      82,          1,         24,         24,2,20110123,       1125,   -66.3287,   143.9640,        508,    10.1,  -1.0427,  33.5271,2,  33.5849,2,    373.5,2,   374.1,2,   41.70,2,    1.19,2,  -999.0,9,  2283.7,6, -999.00,9,   19.33,2,  -1.0429,     -999.0,     -999.0,9,     -999.0,     15.825,2,      1.162,2,     82.998,2
09AR20110104,       SR03,      82,          1,         23,         23,2,20110123,       1125,   -66.3287,   143.9640,        508,    10.1,  -1.0394,  33.5362,2,-999.0000,9,    373.5,2,  -999.0,9, -999.00,9, -999.00,9,  -999.0,9,  -999.0,9, -999.00,9, -999.00,9,  -1.0396,     -999.0,     -999.0,9,     -999.0,     17.428,2,      1.150,2,     82.597,2
09AR20110104,       SR03,      82,          1,         22,         22,2,20110123,       1125,   -66.3287,   143.9640,        508,    10.1,  -1.0386,  33.5386,2,-999.0000,9,    373.5,2,  -999.0,9, -999.00,9, -999.00,9,  -999.0,9,  -999.0,9, -999.00,9, -999.00,9,  -1.0388,     -999.0,     -999.0,9,     -999.0,     17.588,2,      1.159,2,     82.547,2
09AR20110104,       SR03,      82,          1,         21,         21,2,20110123,       1125,   -66.3287,   143.9640,        508,    10.2,  -1.0375,  33.5397,2,-999.0000,9,    373.5,2,  -999.0,9, -999.00,9, -999.00,9,  -999.0,9,  -999.0,9, -999.00,9, -999.00,9,  -1.0377,     -999.0,     -999.0,9,     -999.0,     16.997,2,      1.170,2,     82.185,2
09AR20110104,       SR03,      82,          1,         20,         20,2,20110123,       1125,   -66.3287,   143.9640,        508,    10.1,  -1.0347,  33.5494,2,-999.0000,9,    373.5,2,  -999.0,9, -999.00,9, -999.00,9,  -999.0,9,  -999.0,9, -999.00,9, -999.00,9,  -1.0349,     -999.0,     -999.0,9,     -999.0,     17.305,2,      1.179,2,     82.667,2
09AR20110104,       SR03,      82,          1,         19,         19,2,20110123,       1125,   -66.3287,   143.9640,        508,    10.1,  -1.0317,  33.5639,2,-999.0000,9,    373.5,2,  -999.0,9, -999.00,9, -999.00,9,  -999.0,9,  -999.0,9, -999.00,9, -999.00,9,  -1.0319,     -999.0,     -999.0,9,     -999.0,     17.026,2,      1.178,2,     82.278,2
09AR20110104,       SR03,      82,          1,         18,         18,2,20110123,       1125,   -66.3287,   143.9640,        508,    49.0,  -1.4543,  34.1824,2,  34.2013,2,    333.7,2,   332.8,2,   66.10,2,    1.87,2,  -999.0,9,  2319.2,2, -999.00,9,   27.16,2,  -1.4554,     -999.0,     -999.0,9,     -999.0,      3.632,2,      0.000,2,     95.156,2
09AR20110104,       SR03,      82,          1,         17,         17,2,20110123,       1125,   -66.3287,   143.9640,        508,    49.0,  -1.4587,  34.1848,2,-999.0000,9,    334.6,2,  -999.0,9, -999.00,9, -999.00,9,  -999.0,9,  -999.0,9, -999.00,9, -999.00,9,  -1.4598,     -999.0,     -999.0,9,     -999.0,      3.325,2,      0.000,2,     94.999,2
09AR20110104,       SR03,      82,          1,         16,         16,2,20110123,       1125,   -66.3287,   143.9640,        508,   101.2,  -1.6509,  34.2752,2,  34.2752,2,    323.5,2,   324.2,2,   70.30,2,    1.96,2,  -999.0,9,  2321.2,2, -999.00,9,   28.46,2,  -1.6530,     -999.0,     -999.0,9,     -999.0,      2.338,2,      0.000,2,     96.061,2
09AR20110104,       SR03,      82,          1,         15,         15,2,20110123,       1125,   -66.3287,   143.9640,        508,   100.8,  -1.6505,  34.2751,2,-999.0000,9,    323.6,2,  -999.0,9, -999.00,9, -999.00,9,  -999.0,9,  -999.0,9, -999.00,9, -999.00,9,  -1.6526,     -999.0,     -999.0,9,     -999.0,      2.275,2,      0.000,2,     96.059,2
09AR20110104,       SR03,      82,          1,         14,         14,2,20110123,       1125,   -66.3287,   143.9640,        508,   149.3,  -1.6841,  34.3551,2,  34.3539,2,    311.4,2,   312.3,2,   72.30,2,    2.00,2,  -999.0,9,  -999.0,9, -999.00,9,   29.61,2,  -1.6873,     -999.0,     -999.0,9,     -999.0,      0.959,2,      0.000,2,     97.538,2
09AR20110104,       SR03,      82,          1,         13,         13,2,20110123,       1125,   -66.3287,   143.9640,        508,   149.2,  -1.6843,  34.3554,2,-999.0000,9,    311.4,2,  -999.0,9, -999.00,9, -999.00,9,  -999.0,9,  -999.0,9, -999.00,9, -999.00,9,  -1.6875,     -999.0,     -999.0,9,     -999.0,      1.116,2,      0.000,2,     97.504,2
09AR20110104,       SR03,      82,          1,         12,         12,2,20110123,       1125,   -66.3287,   143.9640,        508,   225.0,  -1.5094,  34.4245,2,  34.4257,2,    294.3,2,   293.5,2,   75.00,2,    2.05,2,  -999.0,9,  2330.4,2, -999.00,9,   30.36,2,  -1.5148,     -999.0,     -999.0,9,     -999.0,      0.343,2,      0.000,2,     98.869,2
09AR20110104,       SR03,      82,          1,         11,         11,2,20110123,       1125,   -66.3287,   143.9640,        508,   224.9,  -1.5108,  34.4241,2,-999.0000,9,    294.3,2,  -999.0,9, -999.00,9, -999.00,9,  -999.0,9,  -999.0,9, -999.00,9, -999.00,9,  -1.5162,     -999.0,     -999.0,9,     -999.0,      0.404,2,      0.000,2,     98.866,2
09AR20110104,       SR03,      82,          1,         10,         10,2,20110123,       1125,   -66.3287,   143.9640,        508,   326.7,  -1.3826,  34.5028,2,  34.5033,2,    286.3,2,   285.2,2,   78.20,2,    2.06,2,  -999.0,9,  2335.2,2, -999.00,9,   30.62,2,  -1.3911,     -999.0,     -999.0,9,     -999.0,      0.057,2,      0.000,2,     99.412,2
09AR20110104,       SR03,      82,          1,          9,          9,2,20110123,       1125,   -66.3287,   143.9640,        508,   326.5,  -1.3780,  34.5023,2,-999.0000,9,    286.3,2,  -999.0,9, -999.00,9, -999.00,9,  -999.0,9,  -999.0,9, -999.00,9, -999.00,9,  -1.3865,     -999.0,     -999.0,9,     -999.0,      0.092,2,      0.000,2,     99.377,2
09AR20110104,       SR03,      82,          1,          8,          8,2,20110123,       1125,   -66.3287,   143.9640,        508,   425.1,  -1.7917,  34.5904,2,  34.5918,2,    297.7,2,   299.4,2,   76.70,2,    2.07,2,  -999.0,9,  2341.0,2, -999.00,9,   30.67,2,  -1.8018,     -999.0,     -999.0,9,     -999.0,      0.032,2,      0.000,2,     99.208,2
09AR20110104,       SR03,      82,          1,          7,          7,2,20110123,       1125,   -66.3287,   143.9640,        508,   425.1,  -1.7824,  34.5913,2,-999.0000,9,    297.7,2,  -999.0,9, -999.00,9, -999.00,9,  -999.0,9,  -999.0,9, -999.00,9, -999.00,9,  -1.7925,     -999.0,     -999.0,9,     -999.0,      0.049,2,      0.000,2,     99.273,2
09AR20110104,       SR03,      82,          1,          6,          6,2,20110123,       1125,   -66.3287,   143.9640,        508,   425.0,  -1.7796,  34.5914,2,-999.0000,9,    297.7,2,  -999.0,9, -999.00,9, -999.00,9,  -999.0,9,  -999.0,9, -999.00,9, -999.00,9,  -1.7897,     -999.0,     -999.0,9,     -999.0,      0.043,2,      0.000,2,     99.319,2
09AR20110104,       SR03,      82,          1,          5,          5,2,20110123,       1125,   -66.3287,   143.9640,        508,   424.9,  -1.7641,  34.5924,2,-999.0000,9,    297.8,2,  -999.0,9, -999.00,9, -999.00,9,  -999.0,9,  -999.0,9, -999.00,9, -999.00,9,  -1.7743,     -999.0,     -999.0,9,     -999.0,      0.032,2,      0.000,2,     99.255,2
09AR20110104,       SR03,      82,          1,          4,          4,2,20110123,       1125,   -66.3287,   143.9640,        508,   508.7,  -1.8771,  34.6307,2,-999.0000,9,    303.5,2,  -999.0,9, -999.00,9, -999.00,9,  -999.0,9,  -999.0,9, -999.00,9, -999.00,9,  -1.8892,     -999.0,     -999.0,9,     -999.0,      0.082,2,      0.000,2,     98.788,2
09AR20110104,       SR03,      82,          1,          3,          3,2,20110123,       1125,   -66.3287,   143.9640,        508,   508.7,  -1.8771,  34.6306,2,-999.0000,9,    303.5,2,  -999.0,9, -999.00,9, -999.00,9,  -999.0,9,  -999.0,9, -999.00,9, -999.00,9,  -1.8892,     -999.0,     -999.0,9,     -999.0,      0.089,2,      0.000,2,     98.726,2
09AR20110104,       SR03,      82,          1,          2,        102,2,20110123,       1125,   -66.3287,   143.9640,        508,   503.6,  -1.8774,  34.6306,2,  34.6274,2,    303.7,2,   304.8,2,   77.10,2,    2.08,2,  -999.0,9,  -999.0,9, -999.00,9,   31.13,2,  -1.8894,     -999.0,     -999.0,9,     -999.0,      0.092,2,      0.000,2,     98.818,2
09AR20110104,       SR03,      82,          1,          1,          1,2,20110123,       1125,   -66.3287,   143.9640,        508,   503.5,  -1.8775,  34.6306,2,-999.0000,9,    303.7,2,  -999.0,9, -999.00,9, -999.00,9,  -999.0,9,  -999.0,9, -999.00,9, -999.00,9,  -1.8895,     -999.0,     -999.0,9,     -999.0,      0.060,2,      0.000,2,     98.784,2
09AR20110104,       SR03,      83,          1,         24,         24,2,20110123,       1317,   -66.3822,   143.8240,        600,     9.5,  -1.1416,  33.4657,2,  33.4750,2,    373.3,2,   373.9,2,   42.30,2,    1.08,2,  -999.0,9,  2276.4,2,   -0.39,2,   19.24,2,  -1.1418,       0.00,      -4.94,2,       0.12,     13.788,2,      0.000,2,     84.908,2
09AR20110104,       SR03,      83,          1,         23,         23,2,20110123,       1317,   -66.3822,   143.8240,        600,     9.5,  -1.1406,  33.4701,2,-999.0000,9,    373.3,2,  -999.0,9, -999.00,9, -999.00,9,  -999.0,9,  -999.0,9, -999.00,9, -999.00,9,  -1.1408,     -999.0,     -999.0,9,     -999.0,     13.569,2,      0.000,2,     85.060,2
09AR20110104,       SR03,      83,          1,         22,         22,2,20110123,       1317,   -66.3822,   143.8240,        600,     9.5,  -1.1407,  33.4823,2,-999.0000,9,    373.3,2,  -999.0,9, -999.00,9, -999.00,9,  -999.0,9,  -999.0,9, -999.00,9, -999.00,9,  -1.1409,     -999.0,     -999.0,9,     -999.0,     13.477,2,      0.000,2,     84.759,2
09AR20110104,       SR03,      83,          1,         21,         21,2,20110123,       1317,   -66.3822,   143.8240,        600,     9.5,  -1.1409,  33.4920,2,-999.0000,9,    373.3,2,  -999.0,9, -999.00,9, -999.00,9,  -999.0,9,  -999.0,9, -999.00,9, -999.00,9,  -1.1411,     -999.0,     -999.0,9,     -999.0,     13.395,2,      0.000,2,     85.159,2
09AR20110104,       SR03,      83,          1,         20,         20,2,20110123,       1317,   -66.3822,   143.8240,        600,     9.5,  -1.1408,  33.4942,2,-999.0000,9,    373.3,2,  -999.0,9, -999.00,9, -999.00,9,  -999.0,9,  -999.0,9, -999.00,9, -999.00,9,  -1.1410,     -999.0,     -999.0,9,     -999.0,     13.534,2,      0.000,2,     85.162,2
09AR20110104,       SR03,      83,          1,         19,         19,2,20110123,       1317,   -66.3822,   143.8240,        600,     9.5,  -1.1409,  33.4710,2,-999.0000,9,    373.3,2,  -999.0,9, -999.00,9, -999.00,9,  -999.0,9,  -999.0,9, -999.00,9, -999.00,9,  -1.1411,     -999.0,     -999.0,9,     -999.0,     12.365,2,      0.000,2,     84.796,2
09AR20110104,       SR03,      83,          1,         18,         18,2,20110123,       1317,   -66.3822,   143.8240,        600,    49.6,  -1.3208,  34.1922,2,  34.2070,2,    339.8,2,   338.4,2,   62.80,2, -999.00,9,  -999.0,9,  2320.6,2, -999.00,9,   25.71,2,  -1.3220,     -999.0,     -999.0,9,     -999.0,      4.181,2,      0.000,2,     93.579,2
09AR20110104,       SR03,      83,          1,         17,         17,2,20110123,       1317,   -66.3822,   143.8240,        600,    49.4,  -1.3231,  34.1924,2,-999.0000,9,    339.8,2,  -999.0,9, -999.00,9, -999.00,9,  -999.0,9,  -999.0,9, -999.00,9, -999.00,9,  -1.3243,     -999.0,     -999.0,9,     -999.0,      4.415,2,      0.000,2,     93.655,2
09AR20110104,       SR03,      83,          1,         16,         16,2,20110123,       1317,   -66.3822,   143.8240,        600,   100.7,  -1.7118,  34.3460,2,  34.3468,2,    312.5,2,   311.9,2,   70.30,2,    2.01,2,  -999.0,9,  2324.2,2,   -0.41,2,   29.41,2,  -1.7139,       0.04,      -4.01,2,       0.04,      0.773,2,      0.000,2,     98.056,2
09AR20110104,       SR03,      83,          1,         15,         15,2,20110123,       1317,   -66.3822,   143.8240,        600,   100.3,  -1.7123,  34.3466,2,-999.0000,9,    312.5,2,  -999.0,9, -999.00,9, -999.00,9,  -999.0,9,  -999.0,9, -999.00,9, -999.00,9,  -1.7144,     -999.0,     -999.0,9,     -999.0,      0.863,2,      0.000,2,     98.035,2
09AR20110104,       SR03,      83,          1,         14,         14,2,20110123,       1317,   -66.3822,   143.8240,        600,   210.7,  -1.7727,  34.4211,2,  34.4210,2,    312.5,2,   312.0,2,   73.00,2,    2.02,2,  -999.0,9,  2328.4,2,   -0.44,2,   29.52,2,  -1.7772,       0.04,      -4.10,2,       0.24,      0.374,2,      0.000,2,     98.666,2
09AR20110104,       SR03,      83,          1,         13,         13,2,20110123,       1317,   -66.3822,   143.8240,        600,   209.8,  -1.7731,  34.4216,2,-999.0000,9,    312.5,2,  -999.0,9, -999.00,9, -999.00,9,  -999.0,9,  -999.0,9, -999.00,9, -999.00,9,  -1.7776,     -999.0,     -999.0,9,     -999.0,      0.370,2,      0.000,2,     98.679,2
09AR20110104,       SR03,      83,          1,         12,         12,2,20110123,       1317,   -66.3822,   143.8240,        600,   263.7,  -1.7163,  34.4614,2,  34.4640,2,    306.8,2,   304.1,2,   74.50,2,    2.03,2,  -999.0,9,  2333.3,2, -999.00,9,   30.05,2,  -1.7222,     -999.0,     -999.0,9,     -999.0,      0.156,2,      0.000,2,     99.028,2
09AR20110104,       SR03,      83,          1,         11,         11,2,20110123,       1317,   -66.3822,   143.8240,        600,   263.9,  -1.7227,  34.4599,2,-999.0000,9,    306.8,2,  -999.0,9, -999.00,9, -999.00,9,  -999.0,9,  -999.0,9, -999.00,9, -999.00,9,  -1.7286,     -999.0,     -999.0,9,     -999.0,      0.149,2,      0.000,2,     99.051,2
09AR20110104,       SR03,      83,          1,         10,         10,2,20110123,       1317,   -66.3822,   143.8240,        600,   400.5,  -1.8823,  34.5385,2,  34.5390,2,    306.9,2,   307.5,2,   74.30,2,    2.05,2,  -999.0,9,  -999.0,9,   -0.46,2,   30.27,2,  -1.8913,       0.01,      -4.40,2,       0.01,      0.018,2,      0.000,2,     99.327,2
09AR20110104,       SR03,      83,          1,          9,          9,2,20110123,       1317,   -66.3822,   143.8240,        600,   400.3,  -1.8819,  34.5383,2,-999.0000,9,    306.9,2,  -999.0,9, -999.00,9, -999.00,9,  -999.0,9,  -999.0,9, -999.00,9, -999.00,9,  -1.8909,     -999.0,     -999.0,9,     -999.0,      0.028,2,      0.000,2,     99.320,2
09AR20110104,       SR03,      83,          1,          8,          8,2,20110123,       1317,   -66.3822,   143.8240,        600,   499.5,  -1.8872,  34.6001,2,  34.5995,2,    306.7,2,   306.4,2,   75.30,2,    2.06,2,  -999.0,9,  2342.0,2, -999.00,9,   30.47,2,  -1.8990,     -999.0,     -999.0,9,     -999.0,      0.013,2,      0.000,2,     98.698,2
09AR20110104,       SR03,      83,          1,          7,          7,2,20110123,       1317,   -66.3822,   143.8240,        600,   499.0,  -1.8869,  34.5995,2,-999.0000,9,    306.7,2,  -999.0,9, -999.00,9, -999.00,9,  -999.0,9,  -999.0,9, -999.00,9, -999.00,9,  -1.8987,     -999.0,     -999.0,9,     -999.0,      0.014,2,      0.000,2,     98.679,2
09AR20110104,       SR03,      83,          1,          6,          6,2,20110123,       1317,   -66.3822,   143.8240,        600,   498.8,  -1.8869,  34.5996,2,-999.0000,9,    306.7,2,  -999.0,9, -999.00,9, -999.00,9,  -999.0,9,  -999.0,9, -999.00,9, -999.00,9,  -1.8987,     -999.0,     -999.0,9,     -999.0,     -0.014,2,      0.000,2,     98.671,2
09AR20110104,       SR03,      83,          1,          5,          5,2,20110123,       1317,   -66.3822,   143.8240,        600,   498.8,  -1.8871,  34.5999,2,-999.0000,9,    306.7,2,  -999.0,9, -999.00,9, -999.00,9,  -999.0,9,  -999.0,9, -999.00,9, -999.00,9,  -1.8989,     -999.0,     -999.0,9,     -999.0,      0.006,2,      0.000,2,     98.661,2
09AR20110104,       SR03,      83,          1,          4,          4,2,20110123,       1317,   -66.3822,   143.8240,        600,   602.0,  -1.8869,  34.6039,2,-999.0000,9,    306.8,2,  -999.0,9, -999.00,9, -999.00,9,  -999.0,9,  -999.0,9, -999.00,9, -999.00,9,  -1.9017,     -999.0,     -999.0,9,     -999.0,      0.002,2,      0.000,2,     98.963,2
09AR20110104,       SR03,      83,          1,          3,          3,2,20110123,       1317,   -66.3822,   143.8240,        600,   602.0,  -1.8869,  34.6040,2,-999.0000,9,    306.8,2,  -999.0,9, -999.00,9, -999.00,9,  -999.0,9,  -999.0,9, -999.00,9, -999.00,9,  -1.9017,     -999.0,     -999.0,9,     -999.0,      0.002,2,      0.000,2,     98.911,2
09AR20110104,       SR03,      83,          1,          2,        102,2,20110123,       1317,   -66.3822,   143.8240,        600,   594.8,  -1.8871,  34.6039,2,  34.6024,2,    306.8,2,   306.0,2,   75.60,2,    2.05,2,  -999.0,9,  -999.0,9,   -0.39,2,   30.54,2,  -1.9017,       0.00,      -4.07,2,       0.02,      0.001,2,      0.000,2,     98.940,2
09AR20110104,       SR03,      83,          1,          1,          1,2,20110123,       1317,   -66.3822,   143.8240,        600,   595.0,  -1.8871,  34.6039,2,-999.0000,9,    306.8,2,  -999.0,9, -999.00,9, -999.00,9,  -999.0,9,  -999.0,9, -999.00,9, -999.00,9,  -1.9017,     -999.0,     -999.0,9,     -999.0,      0.000,2,      0.000,2,     98.947,2