BOTTLE,20230419CCHSIOENA
EXPOCODE,SECT_ID,STNNBR,CASTNO,SAMPNO,BTLNBR,BTLNBR_FLAG_W,DATE,TIME,LATITUDE,LONGITUDE,DEPTH,CTDPRS,CTDTMP,CTDSAL,CTDSAL_FLAG_W,SALNTY,SALNTY_FLAG_W,CTDOXY,CTDOXY_FLAG_W,OXYGEN,OXYGEN_FLAG_W,SILCAT,SILCAT_FLAG_W,PHSPHT,PHSPHT_FLAG_W,TCARBN,TCARBN_FLAG_W,ALKALI,ALKALI_FLAG_W,DELO18,DELO18_FLAG_W,NO2+NO3,NO2+NO3_FLAG_W,THETA,O18ERR,DELD,DELD_FLAG_W,DELDERR,CTDFLUOR,CTDFLUOR_FLAG_W,PAR,PAR_FLAG_W,CTDXMISS,CTDXMISS_FLAG_W
,,,,,,,,,,,METERS,DBAR,ITS-90,PSS-78,,PSS-78,,UMOL/KG,,UMOL/KG,,UMOL/KG,,UMOL/KG,,UMOL/KG,,UMOL/KG,,/MILLE,,UMOL/KG,,DEG C,/MILLE,/MILLE,,/MILLE,MG/M^3,,UMOL/M^2/SEC,,%TRANS,
09AR20110104,       SR03,      66,          1,         20,         20,2,20110120,       1256,   -65.9243,   142.8150,        415,     7.6,  -0.4353,  33.6737,2,  33.6754,2,    366.8,2,   367.0,2,   42.20,2,    1.22,2,  2127.1,6,  2282.7,6, -999.00,9,   21.19,2,  -0.4355,     -999.0,     -999.0,9,     -999.0,      8.031,2,      0.097,2,     87.967,2
09AR20110104,       SR03,      66,          1,         19,         19,2,20110120,       1256,   -65.9243,   142.8150,        415,     7.6,  -0.4346,  33.6737,2,-999.0000,9,    366.8,2,  -999.0,9, -999.00,9, -999.00,9,  -999.0,9,  -999.0,9, -999.00,9, -999.00,9,  -0.4348,     -999.0,     -999.0,9,     -999.0,      8.123,2,      0.101,2,     87.771,2
09AR20110104,       SR03,      66,          1,         18,         18,2,20110120,       1256,   -65.9243,   142.8150,        415,     7.6,  -0.4346,  33.6737,2,-999.0000,9,    366.8,2,  -999.0,9, -999.00,9, -999.00,9,  -999.0,9,  -999.0,9, -999.00,9, -999.00,9,  -0.4348,     -999.0,     -999.0,9,     -999.0,      8.062,2,      0.099,2,     87.870,2
09AR20110104,       SR03,      66,          1,         17,         17,2,20110120,       1256,   -65.9243,   142.8150,        415,     7.7,  -0.4341,  33.6739,2,-999.0000,9,    366.8,2,  -999.0,9, -999.00,9, -999.00,9,  -999.0,9,  -999.0,9, -999.00,9, -999.00,9,  -0.4343,     -999.0,     -999.0,9,     -999.0,      8.304,2,      0.096,2,     87.821,2
09AR20110104,       SR03,      66,          1,         16,         16,2,20110120,       1256,   -65.9243,   142.8150,        415,     7.5,  -0.4341,  33.6739,2,-999.0000,9,    366.8,2,  -999.0,9, -999.00,9, -999.00,9,  -999.0,9,  -999.0,9, -999.00,9, -999.00,9,  -0.4343,     -999.0,     -999.0,9,     -999.0,      8.314,2,      0.095,2,     87.666,2
09AR20110104,       SR03,      66,          1,         15,         15,2,20110120,       1256,   -65.9243,   142.8150,        415,     7.3,  -0.4345,  33.6735,2,-999.0000,9,    366.8,2,  -999.0,9, -999.00,9, -999.00,9,  -999.0,9,  -999.0,9, -999.00,9, -999.00,9,  -0.4347,     -999.0,     -999.0,9,     -999.0,      8.087,2,      0.096,2,     87.731,2
09AR20110104,       SR03,      66,          1,         14,         14,2,20110120,       1256,   -65.9243,   142.8150,        415,     7.3,  -0.4347,  33.6733,2,-999.0000,9,    366.8,2,  -999.0,9, -999.00,9, -999.00,9,  -999.0,9,  -999.0,9, -999.00,9, -999.00,9,  -0.4349,     -999.0,     -999.0,9,     -999.0,      8.140,2,      0.111,2,     87.673,2
09AR20110104,       SR03,      66,          1,         13,         13,2,20110120,       1256,   -65.9243,   142.8150,        415,     7.2,  -0.4349,  33.6732,2,-999.0000,9,    366.8,2,  -999.0,9, -999.00,9, -999.00,9,  -999.0,9,  -999.0,9, -999.00,9, -999.00,9,  -0.4351,     -999.0,     -999.0,9,     -999.0,      8.253,2,      0.130,2,     87.720,2
09AR20110104,       SR03,      66,          1,         12,         12,2,20110120,       1256,   -65.9243,   142.8150,        415,     7.4,  -0.4352,  33.6730,2,-999.0000,9,    366.8,2,  -999.0,9, -999.00,9, -999.00,9,  -999.0,9,  -999.0,9, -999.00,9, -999.00,9,  -0.4354,     -999.0,     -999.0,9,     -999.0,      8.317,2,      0.117,2,     87.798,2
09AR20110104,       SR03,      66,          1,         11,         11,2,20110120,       1256,   -65.9243,   142.8150,        415,     7.6,  -0.4351,  33.6729,2,-999.0000,9,    366.8,2,  -999.0,9, -999.00,9, -999.00,9,  -999.0,9,  -999.0,9, -999.00,9, -999.00,9,  -0.4353,     -999.0,     -999.0,9,     -999.0,      8.368,2,      0.127,2,     87.659,2
09AR20110104,       SR03,      66,          1,         10,         10,2,20110120,       1256,   -65.9243,   142.8150,        415,     7.3,  -0.4352,  33.6729,2,-999.0000,9,    366.8,2,   367.1,2, -999.00,9, -999.00,9,  -999.0,9,  -999.0,9, -999.00,9, -999.00,9,  -0.4354,     -999.0,     -999.0,9,     -999.0,      8.175,2,      0.140,2,     87.471,2
09AR20110104,       SR03,      66,          1,          9,          9,2,20110120,       1256,   -65.9243,   142.8150,        415,    38.1,  -1.2575,  34.1481,2,  34.1448,2,    340.8,2,   341.6,2,   59.00,2,    1.73,2,  2185.2,2,  2314.5,6, -999.00,9,   26.15,2,  -1.2584,     -999.0,     -999.0,9,     -999.0,      7.393,2,      0.000,2,     90.351,2
09AR20110104,       SR03,      66,          1,          8,          8,2,20110120,       1256,   -65.9243,   142.8150,        415,    74.0,  -1.7146,  34.3741,2,-999.0000,9,    311.2,2,   310.3,2,   72.20,2,    1.99,2,  2222.7,2,  2324.5,2, -999.00,9,   29.77,2,  -1.7161,     -999.0,     -999.0,9,     -999.0,      0.421,2,      0.000,2,     98.519,2
09AR20110104,       SR03,      66,          1,          7,          7,2,20110120,       1256,   -65.9243,   142.8150,        415,   102.8,  -1.6058,  34.4025,2,-999.0000,9,    301.6,2,  -999.0,9, -999.00,9, -999.00,9,  -999.0,9,  -999.0,9, -999.00,9, -999.00,9,  -1.6080,     -999.0,     -999.0,9,     -999.0,      0.468,2,      0.000,2,     98.950,2
09AR20110104,       SR03,      66,          1,          6,          6,2,20110120,       1256,   -65.9243,   142.8150,        415,   102.7,  -1.6082,  34.4021,2,-999.0000,9,    301.6,2,  -999.0,9, -999.00,9, -999.00,9,  -999.0,9,  -999.0,9, -999.00,9, -999.00,9,  -1.6104,     -999.0,     -999.0,9,     -999.0,      0.278,2,      0.000,2,     98.935,2
09AR20110104,       SR03,      66,          1,          5,          5,2,20110120,       1256,   -65.9243,   142.8150,        415,   102.6,  -1.6099,  34.4023,2,-999.0000,9,    301.6,2,   301.4,2,   73.60,2,    2.01,2,  2224.6,2,  2326.5,2, -999.00,9,   30.10,2,  -1.6121,     -999.0,     -999.0,9,     -999.0,      0.258,2,      0.000,2,     98.923,2
09AR20110104,       SR03,      66,          1,          4,          4,2,20110120,       1256,   -65.9243,   142.8150,        415,   149.9,  -1.5471,  34.4377,2,-999.0000,9,    298.3,2,   300.9,2,   74.30,2,    2.01,2,  2230.0,2,  2328.2,2, -999.00,9,   30.06,2,  -1.5505,     -999.0,     -999.0,9,     -999.0,      0.212,2,      0.000,2,     98.758,2
09AR20110104,       SR03,      66,          1,          3,          3,2,20110120,       1256,   -65.9243,   142.8150,        415,   251.5,  -1.6812,  34.4852,2,-999.0000,9,    301.7,2,   297.1,2,   76.20,2,    2.04,2,  2229.6,2,  2336.6,2, -999.00,9,   30.41,2,  -1.6869,     -999.0,     -999.0,9,     -999.0,      0.028,2,      0.000,2,     99.312,2
09AR20110104,       SR03,      66,          1,          2,        102,2,20110120,       1256,   -65.9243,   142.8150,        415,   349.9,  -1.9114,  34.5576,2,-999.0000,9,    305.0,2,   306.6,2,   74.80,2,    2.04,2,  -999.0,9,  -999.0,9, -999.00,9,   30.35,2,  -1.9190,     -999.0,     -999.0,9,     -999.0,     -0.008,2,      0.000,2,     99.348,2
09AR20110104,       SR03,      66,          1,          1,          1,2,20110120,       1256,   -65.9243,   142.8150,        415,   410.5,  -1.7931,  34.6119,2,-999.0000,9,    301.9,2,   301.8,2,   76.80,2,    2.05,2,  2239.1,2,  2340.8,2, -999.00,9,   30.50,2,  -1.8028,     -999.0,     -999.0,9,     -999.0,      0.004,2,      0.000,2,     99.026,2
09AR20110104,       SR03,      67,          1,         20,         20,2,20110120,       1443,   -65.9932,   142.6050,        413,     8.4,  -0.7837,  33.7478,2,  33.7750,2,    355.0,2,   355.6,2,   48.70,2,    1.35,2,  2147.0,2,  2286.9,2, -999.00,9,   22.39,2,  -0.7839,     -999.0,     -999.0,9,     -999.0,      4.694,2,      0.000,2,     90.751,2
09AR20110104,       SR03,      67,          1,         19,         19,2,20110120,       1443,   -65.9932,   142.6050,        413,    38.8,  -0.8827,  33.8568,2,-999.0000,9,    352.6,2,  -999.0,9, -999.00,9, -999.00,9,  -999.0,9,  -999.0,9, -999.00,9, -999.00,9,  -0.8837,     -999.0,     -999.0,9,     -999.0,      4.589,2,      0.000,2,     91.094,2
09AR20110104,       SR03,      67,          1,         18,         18,2,20110120,       1443,   -65.9932,   142.6050,        413,    38.9,  -0.8838,  33.8587,2,-999.0000,9,    352.6,2,  -999.0,9, -999.00,9, -999.00,9,  -999.0,9,  -999.0,9, -999.00,9, -999.00,9,  -0.8848,     -999.0,     -999.0,9,     -999.0,      4.786,2,      0.000,2,     91.210,2
09AR20110104,       SR03,      67,          1,         17,         17,2,20110120,       1443,   -65.9932,   142.6050,        413,    38.8,  -0.8821,  33.8571,2,-999.0000,9,    352.6,2,  -999.0,9, -999.00,9, -999.00,9,  -999.0,9,  -999.0,9, -999.00,9, -999.00,9,  -0.8831,     -999.0,     -999.0,9,     -999.0,      5.338,2,      0.000,2,     91.207,2
09AR20110104,       SR03,      67,          1,         16,         16,2,20110120,       1443,   -65.9932,   142.6050,        413,    38.7,  -0.8758,  33.8502,2,-999.0000,9,    352.6,2,  -999.0,9, -999.00,9, -999.00,9,  -999.0,9,  -999.0,9, -999.00,9, -999.00,9,  -0.8768,     -999.0,     -999.0,9,     -999.0,      5.192,2,      0.000,2,     91.214,2
09AR20110104,       SR03,      67,          1,         15,         15,2,20110120,       1443,   -65.9932,   142.6050,        413,    38.7,  -0.8709,  33.8450,2,-999.0000,9,    352.6,2,  -999.0,9, -999.00,9, -999.00,9,  -999.0,9,  -999.0,9, -999.00,9, -999.00,9,  -0.8719,     -999.0,     -999.0,9,     -999.0,      4.733,2,      0.000,2,     91.023,2
09AR20110104,       SR03,      67,          1,         14,         14,2,20110120,       1443,   -65.9932,   142.6050,        413,    38.6,  -0.8663,  33.8398,2,-999.0000,9,    352.6,2,  -999.0,9, -999.00,9, -999.00,9,  -999.0,9,  -999.0,9, -999.00,9, -999.00,9,  -0.8673,     -999.0,     -999.0,9,     -999.0,      4.710,2,      0.000,2,     91.056,2
09AR20110104,       SR03,      67,          1,         13,         13,2,20110120,       1443,   -65.9932,   142.6050,        413,    38.7,  -0.8619,  33.8354,2,-999.0000,9,    352.6,2,  -999.0,9, -999.00,9, -999.00,9,  -999.0,9,  -999.0,9, -999.00,9, -999.00,9,  -0.8629,     -999.0,     -999.0,9,     -999.0,      4.928,2,      0.000,2,     90.983,2
09AR20110104,       SR03,      67,          1,         12,         12,2,20110120,       1443,   -65.9932,   142.6050,        413,    38.9,  -0.8521,  33.8250,2,-999.0000,9,    352.6,2,  -999.0,9, -999.00,9, -999.00,9,  -999.0,9,  -999.0,9, -999.00,9, -999.00,9,  -0.8531,     -999.0,     -999.0,9,     -999.0,      4.615,2,      0.000,2,     91.041,2
09AR20110104,       SR03,      67,          1,         11,         11,2,20110120,       1443,   -65.9932,   142.6050,        413,    38.8,  -0.8424,  33.8166,2,-999.0000,9,    352.6,2,  -999.0,9, -999.00,9, -999.00,9,  -999.0,9,  -999.0,9, -999.00,9, -999.00,9,  -0.8434,     -999.0,     -999.0,9,     -999.0,      5.007,2,      0.000,2,     90.755,2
09AR20110104,       SR03,      67,          1,         10,         10,2,20110120,       1443,   -65.9932,   142.6050,        413,    38.7,  -0.8372,  33.8150,2,-999.0000,9,    352.6,2,  -999.0,9, -999.00,9, -999.00,9,  -999.0,9,  -999.0,9, -999.00,9, -999.00,9,  -0.8382,     -999.0,     -999.0,9,     -999.0,      4.855,2,      0.000,2,     90.868,2
09AR20110104,       SR03,      67,          1,          9,          9,2,20110120,       1443,   -65.9932,   142.6050,        413,    38.8,  -0.8414,  33.8164,2,  33.8230,2,    352.6,2,   352.9,2,   51.20,2,    1.41,2,  2152.0,2,  2291.8,6, -999.00,9,   23.61,2,  -0.8424,     -999.0,     -999.0,9,     -999.0,      4.762,2,      0.000,2,     90.939,2
09AR20110104,       SR03,      67,          1,          8,          8,2,20110120,       1443,   -65.9932,   142.6050,        413,    74.5,  -1.2251,  34.1663,2,  34.1650,2,    335.1,2,   335.2,2,   61.30,2,    1.69,2,  2190.2,2,  2310.6,2, -999.00,9,   26.32,2,  -1.2269,     -999.0,     -999.0,9,     -999.0,      3.301,2,      0.000,2,     93.765,2
09AR20110104,       SR03,      67,          1,          7,          7,2,20110120,       1443,   -65.9932,   142.6050,        413,    83.1,  -1.2846,  34.1935,2,-999.0000,9,    331.6,2,  -999.0,9, -999.00,9, -999.00,9,  -999.0,9,  -999.0,9, -999.00,9, -999.00,9,  -1.2866,     -999.0,     -999.0,9,     -999.0,      2.751,2,      0.000,2,     94.155,2
09AR20110104,       SR03,      67,          1,          6,          6,2,20110120,       1443,   -65.9932,   142.6050,        413,    99.9,  -1.4224,  34.2761,2,-999.0000,9,    326.8,2,  -999.0,9, -999.00,9, -999.00,9,  -999.0,9,  -999.0,9, -999.00,9, -999.00,9,  -1.4247,     -999.0,     -999.0,9,     -999.0,      1.865,2,      0.000,2,     95.214,2
09AR20110104,       SR03,      67,          1,          5,          5,2,20110120,       1443,   -65.9932,   142.6050,        413,   150.0,  -1.5694,  34.3667,2,-999.0000,9,    319.4,2,  -999.0,9, -999.00,9, -999.00,9,  -999.0,9,  -999.0,9, -999.00,9, -999.00,9,  -1.5728,     -999.0,     -999.0,9,     -999.0,      1.228,2,      0.000,2,     96.578,2
09AR20110104,       SR03,      67,          1,          4,          4,2,20110120,       1443,   -65.9932,   142.6050,        413,   249.6,  -1.6347,  34.4219,2,  34.4206,2,    313.1,2,   312.5,2,   71.80,2,    1.96,2,  2221.9,2,  2330.1,2, -999.00,9,   29.43,2,  -1.6404,     -999.0,     -999.0,9,     -999.0,      0.613,2,      0.000,2,     97.799,2
09AR20110104,       SR03,      67,          1,          3,          3,2,20110120,       1443,   -65.9932,   142.6050,        413,   320.0,  -1.6555,  34.4694,2,  34.4677,2,    306.0,2,   305.2,2,   74.10,2,    2.02,2,  2229.1,2,  2330.5,2, -999.00,9,   29.99,2,  -1.6631,     -999.0,     -999.0,9,     -999.0,      0.231,2,      0.000,2,     98.657,2
09AR20110104,       SR03,      67,          1,          2,        102,2,20110120,       1443,   -65.9932,   142.6050,        413,   375.2,  -1.8061,  34.5128,2,  34.5129,2,    307.6,2,   308.6,2,   74.50,2,    2.03,2,  -999.0,9,  -999.0,9, -999.00,9,   30.21,2,  -1.8147,     -999.0,     -999.0,9,     -999.0,      0.103,2,      0.000,2,     98.751,2
09AR20110104,       SR03,      67,          1,          1,          1,2,20110120,       1443,   -65.9932,   142.6050,        413,   411.9,  -1.8251,  34.5224,2,  34.5233,2,    308.3,2,   308.7,2,   74.70,2,    2.03,2,  2231.0,2,  2337.6,2, -999.00,9,   30.19,2,  -1.8346,     -999.0,     -999.0,9,     -999.0,      0.081,2,      0.000,2,     98.663,2