BOTTLE,20230419CCHSIOENA
# changed CTDPAR and CTDPAR_FLAG_W to PAR and PAR_FLAG_W
# changed units of PAR from UEINSTEIN/M^2*SEC to UMOL/M^2/SEC
# Merged parameters: TCARBN, TCARBN_FLAG_W, ALKALI, ALKALI_FLAG_W, DELO18, DELO18_FLAG_W, O18ERR, DELD, DELD_FLAG_W, DELDERR, CTDFLUOR, CTDFLUOR_FLAG_W, PAR, PAR_FLAG_W, CTDXMISS, CTDXMISS_FLAG_W
# 20220922CCHSIOAMB
# Removed rows with only fill values from stations 12, 64, 64, 65, 66, and 67
# BOTTLE,20140213SIOCCHRJL
# NO3+NO2 changed to NO2+NO3
# BOTTLE,20131017PRINUNIVRMK
# 10/17/2013 Initialized README file  
# Data source: CCHDO sum and sea files 10/16/13 
# SHIP: Aurora Australis 
# Cruise: AU1121 
# Region: SR03 and Adelie Land region 
# EXPOCODE: 09AR20110104 
# DATES: 1/4 - 2/6/2011 
# Chief Scientist: S.Rintoul 
# 149 stations with 24 place Rosette 
# Additional QC by R.Key 
# Hydro: Who - S.Rintoul; Status - final 
# 	Notes: 	See Rosenberg and Rintoul cruise report for issues, etc. 
# Nuts: Who - ; Status - final 
# 	Notes:  
# O2: Who - ; Status - final 
# 	Notes: 
# TCO2: Who - B.Tilbrook; Status - final 
# 	Notes: Corrected for addition of 100ul HgCl2 
# 	Data from Tilbrook 11/20/17 
# AlkALI: Who - B.Tilbrook; Status - final 
# 	Notes: Corrected for addition of 100ul HgCl2 
# 	Data from Tilbrook 11/20/17 
# O-18:  Who - P.Schlosser; Status - final 
# 	Notes: data retrieved from LDEO data archive 10/12/17; 
# 	Origin filename "d18O_dD_sr03_AU1121_2011.csv" 
# 	Merged and QC flags added 11/15/17; R.M.Key 
#
# Please cite data as: 
# [Data providers of the parameter(s) used]. [Year of file access]. Bottle data from cruise [expocode], [format version used]. 
# Accessed from CCHDO [url of cruise data page]. Access date [date of download]. [Applicable CCHDO cruise DOI if provided].
# 
# For example: Swift, J. and Becker, S. 2019. CTD data from Cruise I09N, exchange version. 
# Accessed from CCHDO https://cchdo.ucsd.edu/cruise/33RR20160321. Access date 2019-08-21. CCHDO cruise DOI: 10.7942/C2008W
# 
# Information on the scientists who provided the different parameters can be found in the cruise report.
# Users are also encouraged to acknowledge the funding program that supported the data collection in their publication. 
#
# References: 
# Rosenberg, M., and S. Rintoul, Aurora Australis Marine Science Cruise AU1121 - Oceanographic Field Measurements and Analysis, Sep. 2011; http://cchdo.ucsd.edu/cruise/09AR20110104
EXPOCODE,SECT_ID,STNNBR,CASTNO,SAMPNO,BTLNBR,BTLNBR_FLAG_W,DATE,TIME,LATITUDE,LONGITUDE,DEPTH,CTDPRS,CTDTMP,CTDSAL,CTDSAL_FLAG_W,SALNTY,SALNTY_FLAG_W,CTDOXY,CTDOXY_FLAG_W,OXYGEN,OXYGEN_FLAG_W,SILCAT,SILCAT_FLAG_W,PHSPHT,PHSPHT_FLAG_W,TCARBN,TCARBN_FLAG_W,ALKALI,ALKALI_FLAG_W,DELO18,DELO18_FLAG_W,NO2+NO3,NO2+NO3_FLAG_W,THETA,O18ERR,DELD,DELD_FLAG_W,DELDERR,CTDFLUOR,CTDFLUOR_FLAG_W,PAR,PAR_FLAG_W,CTDXMISS,CTDXMISS_FLAG_W
,,,,,,,,,,,METERS,DBAR,ITS-90,PSS-78,,PSS-78,,UMOL/KG,,UMOL/KG,,UMOL/KG,,UMOL/KG,,UMOL/KG,,UMOL/KG,,/MILLE,,UMOL/KG,,DEG C,/MILLE,/MILLE,,/MILLE,MG/M^3,,UMOL/M^2/SEC,,%TRANS,
09AR20110104,       SR03,       1,          1,         14,         14,2,20110104,       1630,   -44.1243,   146.2390,       1098,    10.9,  13.0627,  34.9894,2,  35.0081,4,    267.0,2,   266.2,2,    0.70,2,    0.35,2,  -999.0,9,  -999.0,9, -999.00,9,    3.36,2,  13.0612,     -999.0,     -999.0,9,     -999.0,      0.132,2,      0.000,2,     97.357,2
09AR20110104,       SR03,       1,          1,         13,         13,2,20110104,       1630,   -44.1243,   146.2390,       1098,    52.7,  13.0092,  34.9896,2,  35.0094,4,    264.5,2,   264.9,2,    0.70,2,    0.36,2,  -999.0,9,  -999.0,9, -999.00,9,    3.44,2,  13.0020,     -999.0,     -999.0,9,     -999.0,      1.006,2,      0.000,2,     96.783,2
09AR20110104,       SR03,       1,          1,         12,         12,2,20110104,       1630,   -44.1243,   146.2390,       1098,   100.3,  12.1263,  35.0389,2,  35.0646,4,    248.2,2,   249.6,2,    2.10,2,    0.62,2,  -999.0,9,  -999.0,9, -999.00,9,    7.90,2,  12.1132,     -999.0,     -999.0,9,     -999.0,      0.082,2,      0.000,2,     98.640,2
09AR20110104,       SR03,       1,          1,         11,         11,2,20110104,       1630,   -44.1243,   146.2390,       1098,   150.1,  11.7018,  35.0812,2,  35.1075,4,    251.0,2,   247.6,2,    2.80,2,    0.68,2,  -999.0,9,  -999.0,9, -999.00,9,    9.07,2,  11.6826,     -999.0,     -999.0,9,     -999.0,      0.021,2,      0.000,2,     98.850,2
09AR20110104,       SR03,       1,          1,         10,         10,2,20110104,       1630,   -44.1243,   146.2390,       1098,   199.3,  10.9850,  34.9539,2,  34.9758,4,    252.4,2,   251.3,2,    3.20,2,    0.79,2,  -999.0,9,  -999.0,9, -999.00,9,   10.62,2,  10.9605,     -999.0,     -999.0,9,     -999.0,      0.000,2,      0.000,2,     99.057,2
09AR20110104,       SR03,       1,          1,          9,          9,2,20110104,       1630,   -44.1243,   146.2390,       1098,   300.9,   9.9261,  34.7820,2,  34.7885,4,    258.3,2,   257.4,2,    3.60,2,    0.93,2,  -999.0,9,  -999.0,9, -999.00,9,   12.97,2,   9.8913,     -999.0,     -999.0,9,     -999.0,     -0.013,2,      0.000,2,     99.254,2
09AR20110104,       SR03,       1,          1,          8,          8,2,20110104,       1630,   -44.1243,   146.2390,       1098,   402.4,   9.0748,  34.6245,2,  34.6407,4,    258.8,2,   259.2,2,    4.30,2,    1.07,2,  -999.0,9,  -999.0,9, -999.00,9,   15.13,2,   9.0305,     -999.0,     -999.0,9,     -999.0,     -0.016,2,      0.000,2,     99.416,2
09AR20110104,       SR03,       1,          1,          7,          7,2,20110104,       1630,   -44.1243,   146.2390,       1098,   500.9,   8.8476,  34.5954,2,  34.6123,4,    252.2,2,   252.7,2,    5.00,2,    1.14,2,  -999.0,9,  -999.0,9, -999.00,9,   16.34,2,   8.7931,     -999.0,     -999.0,9,     -999.0,     -0.009,2,      0.000,2,     99.483,2
09AR20110104,       SR03,       1,          1,          6,          6,2,20110104,       1630,   -44.1243,   146.2390,       1098,   600.3,   8.5755,  34.5832,2,  34.6018,4,    230.7,2,   231.0,2,    7.40,2,    1.31,2,  -999.0,9,  -999.0,9, -999.00,9,   19.01,2,   8.5110,     -999.0,     -999.0,9,     -999.0,      0.002,2,      0.000,2,     -999.0,5
09AR20110104,       SR03,       1,          1,          5,          5,2,20110104,       1630,   -44.1243,   146.2390,       1098,   699.9,   7.6473,  34.5162,2,  34.5384,4,    207.1,2,   207.6,2,   13.10,2,    1.57,2,  -999.0,9,  -999.0,9, -999.00,9,   23.03,2,   7.5765,     -999.0,     -999.0,9,     -999.0,      0.004,2,      0.000,2,     -999.0,5
09AR20110104,       SR03,       1,          1,          4,          4,2,20110104,       1630,   -44.1243,   146.2390,       1098,   805.2,   6.5502,  34.4699,2,  34.4877,4,    194.4,2,   201.8,2,   22.20,2,    1.79,2,  -999.0,9,  -999.0,9, -999.00,9,   26.26,2,   6.4748,     -999.0,     -999.0,9,     -999.0,      0.002,2,      0.000,2,     -999.0,5
09AR20110104,       SR03,       1,          1,          3,          3,2,20110104,       1630,   -44.1243,   146.2390,       1098,   900.6,   5.4734,  34.4491,2,  34.4675,4,    186.4,2,   186.5,2,   34.20,2,    1.97,2,  -999.0,9,  -999.0,9, -999.00,9,   28.86,2,   5.3958,     -999.0,     -999.0,9,     -999.0,     -0.013,2,      0.000,2,     -999.0,5
09AR20110104,       SR03,       1,          1,          2,          2,2,20110104,       1630,   -44.1243,   146.2390,       1098,   998.3,   4.6210,  34.4537,2,  34.4760,2,    179.6,2,   180.2,2,   45.90,2,    2.13,2,  -999.0,9,  -999.0,9, -999.00,9,   30.70,2,   4.5408,     -999.0,     -999.0,9,     -999.0,     -0.019,2,      0.000,2,     -999.0,5
09AR20110104,       SR03,       1,          1,          1,          1,2,20110104,       1630,   -44.1243,   146.2390,       1098,  1095.7,   3.9724,  34.4569,2,  34.4787,4,    177.1,2,   178.0,2,   53.50,2,    2.22,2,  -999.0,9,  -999.0,9, -999.00,9,   31.98,2,   3.8890,     -999.0,     -999.0,9,     -999.0,     -0.023,2,      0.000,2,     -999.0,5
09AR20110104,       SR03,       2,          1,         24,         24,2,20110104,       1954,   -44.0018,   146.3250,        235,     8.9,  12.9520,  34.9659,2,-999.0000,9,    264.1,2,  -999.0,9, -999.00,9, -999.00,9,  -999.0,9,  -999.0,9, -999.00,9, -999.00,9,  12.9508,     -999.0,     -999.0,9,     -999.0,      0.780,2,     47.249,2,     -999.0,5
09AR20110104,       SR03,       2,          1,         23,         23,2,20110104,       1954,   -44.0018,   146.3250,        235,     9.0,  12.9520,  34.9658,2,-999.0000,9,    265.7,2,  -999.0,9, -999.00,9, -999.00,9,  -999.0,9,  -999.0,9, -999.00,9, -999.00,9,  12.9508,     -999.0,     -999.0,9,     -999.0,      0.760,2,     47.219,2,     -999.0,5
09AR20110104,       SR03,       2,          1,         22,         22,2,20110104,       1954,   -44.0018,   146.3250,        235,     9.0,  12.9521,  34.9658,2,-999.0000,9,    265.7,2,  -999.0,9, -999.00,9, -999.00,9,  -999.0,9,  -999.0,9, -999.00,9, -999.00,9,  12.9509,     -999.0,     -999.0,9,     -999.0,      0.776,2,     47.579,2,     -999.0,5
09AR20110104,       SR03,       2,          1,         21,         21,2,20110104,       1954,   -44.0018,   146.3250,        235,     9.0,  12.9521,  34.9658,2,-999.0000,9,    265.7,2,  -999.0,9, -999.00,9, -999.00,9,  -999.0,9,  -999.0,9, -999.00,9, -999.00,9,  12.9509,     -999.0,     -999.0,9,     -999.0,      0.775,2,     48.449,2,     -999.0,5
09AR20110104,       SR03,       2,          1,         20,         20,2,20110104,       1954,   -44.0018,   146.3250,        235,     9.0,  12.9520,  34.9658,2,-999.0000,9,    264.1,2,  -999.0,9, -999.00,9, -999.00,9,  -999.0,9,  -999.0,9, -999.00,9, -999.00,9,  12.9508,     -999.0,     -999.0,9,     -999.0,      0.769,2,     50.089,2,     -999.0,5
09AR20110104,       SR03,       2,          1,         19,         19,2,20110104,       1954,   -44.0018,   146.3250,        235,     9.1,  12.9514,  34.9659,2,-999.0000,9,    265.7,2,  -999.0,9, -999.00,9, -999.00,9,  -999.0,9,  -999.0,9, -999.00,9, -999.00,9,  12.9502,     -999.0,     -999.0,9,     -999.0,      0.785,2,     49.559,2,     -999.0,5
09AR20110104,       SR03,       2,          1,         18,         18,2,20110104,       1954,   -44.0018,   146.3250,        235,     9.1,  12.9507,  34.9659,2,-999.0000,9,    265.7,2,  -999.0,9, -999.00,9, -999.00,9,  -999.0,9,  -999.0,9, -999.00,9, -999.00,9,  12.9495,     -999.0,     -999.0,9,     -999.0,      0.793,2,     49.149,2,     -999.0,5
09AR20110104,       SR03,       2,          1,         17,         17,2,20110104,       1954,   -44.0018,   146.3250,        235,     9.0,  12.9510,  34.9656,2,-999.0000,9,    265.7,2,  -999.0,9, -999.00,9, -999.00,9,  -999.0,9,  -999.0,9, -999.00,9, -999.00,9,  12.9498,     -999.0,     -999.0,9,     -999.0,      0.797,2,     46.989,2,     -999.0,5
09AR20110104,       SR03,       2,          1,         16,         16,2,20110104,       1954,   -44.0018,   146.3250,        235,     9.0,  12.9517,  34.9656,2,-999.0000,9,    265.7,2,  -999.0,9, -999.00,9, -999.00,9,  -999.0,9,  -999.0,9, -999.00,9, -999.00,9,  12.9505,     -999.0,     -999.0,9,     -999.0,      0.789,2,     47.809,2,     -999.0,5
09AR20110104,       SR03,       2,          1,         15,         15,2,20110104,       1954,   -44.0018,   146.3250,        235,     9.0,  12.9520,  34.9657,2,-999.0000,9,    265.7,2,  -999.0,9, -999.00,9, -999.00,9,  -999.0,9,  -999.0,9, -999.00,9, -999.00,9,  12.9508,     -999.0,     -999.0,9,     -999.0,      0.811,2,     47.639,2,     -999.0,5
09AR20110104,       SR03,       2,          1,         14,         14,2,20110104,       1954,   -44.0018,   146.3250,        235,     9.0,  12.9524,  34.9654,2,-999.0000,9,    265.7,2,  -999.0,9, -999.00,9, -999.00,9,  -999.0,9,  -999.0,9, -999.00,9, -999.00,9,  12.9512,     -999.0,     -999.0,9,     -999.0,      0.775,2,     47.219,2,     -999.0,5
09AR20110104,       SR03,       2,          1,         13,         13,2,20110104,       1954,   -44.0018,   146.3250,        235,     9.0,  12.9523,  34.9654,2,-999.0000,9,    265.7,2,  -999.0,9, -999.00,9, -999.00,9,  -999.0,9,  -999.0,9, -999.00,9, -999.00,9,  12.9511,     -999.0,     -999.0,9,     -999.0,      0.775,2,     47.009,2,     -999.0,5
09AR20110104,       SR03,       2,          1,         12,         12,2,20110104,       1954,   -44.0018,   146.3250,        235,     9.0,  12.9520,  34.9654,2,-999.0000,9,    265.7,2,  -999.0,9, -999.00,9, -999.00,9,  -999.0,9,  -999.0,9, -999.00,9, -999.00,9,  12.9508,     -999.0,     -999.0,9,     -999.0,      0.748,2,     47.399,2,     -999.0,5
09AR20110104,       SR03,       2,          1,         11,         11,2,20110104,       1954,   -44.0018,   146.3250,        235,     9.0,  12.9533,  34.9653,2,-999.0000,9,    265.7,2,  -999.0,9, -999.00,9, -999.00,9,  -999.0,9,  -999.0,9, -999.00,9, -999.00,9,  12.9521,     -999.0,     -999.0,9,     -999.0,      0.735,2,     47.629,2,     -999.0,5
09AR20110104,       SR03,       2,          1,         10,         10,2,20110104,       1954,   -44.0018,   146.3250,        235,     9.0,  12.9542,  34.9654,2,-999.0000,9,    265.7,2,  -999.0,9, -999.00,9, -999.00,9,  -999.0,9,  -999.0,9, -999.00,9, -999.00,9,  12.9530,     -999.0,     -999.0,9,     -999.0,      0.716,2,     47.579,2,     -999.0,5
09AR20110104,       SR03,       2,          1,          9,          9,2,20110104,       1954,   -44.0018,   146.3250,        235,     9.0,  12.9547,  34.9654,2,-999.0000,9,    265.7,2,  -999.0,9, -999.00,9, -999.00,9,  -999.0,9,  -999.0,9, -999.00,9, -999.00,9,  12.9535,     -999.0,     -999.0,9,     -999.0,      0.703,2,     46.669,2,     -999.0,5
09AR20110104,       SR03,       2,          1,          8,          8,2,20110104,       1954,   -44.0018,   146.3250,        235,     9.1,  12.9552,  34.9653,2,-999.0000,9,    265.7,2,  -999.0,9, -999.00,9, -999.00,9,  -999.0,9,  -999.0,9, -999.00,9, -999.00,9,  12.9540,     -999.0,     -999.0,9,     -999.0,      0.720,2,     46.499,2,     -999.0,5
09AR20110104,       SR03,       2,          1,          7,          7,2,20110104,       1954,   -44.0018,   146.3250,        235,     9.1,  12.9556,  34.9653,2,  34.9684,4,    265.7,2,   267.9,2, -999.00,9, -999.00,9,  2073.3,6,  2308.6,6, -999.00,9, -999.00,9,  12.9544,     -999.0,     -999.0,9,     -999.0,      0.742,2,     45.139,2,     -999.0,5
09AR20110104,       SR03,       2,          1,          6,          6,2,20110104,       1954,   -44.0018,   146.3250,        235,    42.0,  12.9564,  34.9710,2,  34.9780,4,    271.6,2,   267.3,2,    0.70,2,    0.37,2,  2074.0,2,  2307.8,2, -999.00,9,    3.75,2,  12.9507,     -999.0,     -999.0,9,     -999.0,      1.029,2,      3.345,2,     -999.0,5
09AR20110104,       SR03,       2,          1,          5,          5,2,20110104,       1954,   -44.0018,   146.3250,        235,    70.4,  13.0005,  35.0120,2,  35.0276,4,    272.1,2,   262.1,2,    0.80,2,    0.39,2,  2079.3,2,  2306.2,2, -999.00,9,    3.85,2,  12.9909,     -999.0,     -999.0,9,     -999.0,      0.852,2,      0.417,2,     -999.0,5
09AR20110104,       SR03,       2,          1,          4,          4,2,20110104,       1954,   -44.0018,   146.3250,        235,   101.5,  12.7109,  35.1554,2,  35.1671,4,    256.0,2,   246.2,2,    1.70,2,    0.49,2,  2105.8,2,  2313.1,2, -999.00,9,    5.71,2,  12.6972,     -999.0,     -999.0,9,     -999.0,      0.217,2,      0.047,2,     -999.0,5
09AR20110104,       SR03,       2,          1,          3,          3,2,20110104,       1954,   -44.0018,   146.3250,        235,   141.6,  12.4791,  35.1567,2,  35.1493,4,    246.2,2,   246.5,2,    1.90,2,    0.55,2,  2109.1,2,  2314.6,2, -999.00,9,    6.54,2,  12.4602,     -999.0,     -999.0,9,     -999.0,      0.171,2,      0.000,2,     -999.0,5
09AR20110104,       SR03,       2,          1,          2,        102,2,20110104,       1954,   -44.0018,   146.3250,        235,   181.7,  11.8324,  35.1050,2,  35.1165,4,    247.8,2,   249.1,2,    2.30,2,    0.62,2,  -999.0,9,  -999.0,9, -999.00,9,    7.87,2,  11.8089,     -999.0,     -999.0,9,     -999.0,      0.041,2,      0.000,2,     -999.0,5
09AR20110104,       SR03,       2,          1,          1,          1,2,20110104,       1954,   -44.0018,   146.3250,        235,   221.9,  11.3007,  35.0225,2,  35.0558,4,    253.4,2,   252.2,2,    2.60,2,    0.68,2,  2112.8,2,  2308.4,2, -999.00,9,    8.95,2,  11.2728,     -999.0,     -999.0,9,     -999.0,      0.036,2,      0.000,2,     -999.0,5