BOTTLE,20230419CCHSIOENA
EXPOCODE,SECT_ID,STNNBR,CASTNO,SAMPNO,BTLNBR,BTLNBR_FLAG_W,DATE,TIME,LATITUDE,LONGITUDE,DEPTH,CTDPRS,CTDTMP,CTDSAL,CTDSAL_FLAG_W,SALNTY,SALNTY_FLAG_W,CTDOXY,CTDOXY_FLAG_W,OXYGEN,OXYGEN_FLAG_W,SILCAT,SILCAT_FLAG_W,PHSPHT,PHSPHT_FLAG_W,TCARBN,TCARBN_FLAG_W,ALKALI,ALKALI_FLAG_W,DELO18,DELO18_FLAG_W,NO2+NO3,NO2+NO3_FLAG_W,THETA,O18ERR,DELD,DELD_FLAG_W,DELDERR,CTDFLUOR,CTDFLUOR_FLAG_W,PAR,PAR_FLAG_W,CTDXMISS,CTDXMISS_FLAG_W
,,,,,,,,,,,METERS,DBAR,ITS-90,PSS-78,,PSS-78,,UMOL/KG,,UMOL/KG,,UMOL/KG,,UMOL/KG,,UMOL/KG,,UMOL/KG,,/MILLE,,UMOL/KG,,DEG C,/MILLE,/MILLE,,/MILLE,MG/M^3,,UMOL/M^2/SEC,,%TRANS,
09AR20110104,       SR03,      98,          1,         24,         24,2,20110125,       0435,   -66.9492,   144.0770,        893,     9.5,  -1.2368,  34.2009,2,  34.2032,2,    364.7,2,   365.1,2,   61.70,2,    1.54,2,  2175.5,2,  2320.1,2, -999.00,9,   23.57,2,  -1.2370,     -999.0,     -999.0,9,     -999.0,      7.554,2,     17.229,2,     88.997,2
09AR20110104,       SR03,      98,          1,         23,         23,2,20110125,       0435,   -66.9492,   144.0770,        893,     9.5,  -1.2377,  34.2011,2,-999.0000,9,    364.7,2,  -999.0,9, -999.00,9, -999.00,9,  -999.0,9,  -999.0,9, -999.00,9, -999.00,9,  -1.2379,     -999.0,     -999.0,9,     -999.0,      7.620,2,     17.689,2,     89.198,2
09AR20110104,       SR03,      98,          1,         22,         22,2,20110125,       0435,   -66.9492,   144.0770,        893,    40.3,  -1.2606,  34.2111,2,  34.2146,2,    358.4,2,   363.5,2,   62.30,2,    1.58,2,  2178.1,2,  2321.2,2, -999.00,9,   23.91,2,  -1.2616,     -999.0,     -999.0,9,     -999.0,      9.288,2,      0.074,2,     89.176,2
09AR20110104,       SR03,      98,          1,         21,         21,2,20110125,       0435,   -66.9492,   144.0770,        893,    40.2,  -1.2618,  34.2113,2,-999.0000,9,    358.4,2,  -999.0,9, -999.00,9, -999.00,9,  -999.0,9,  -999.0,9, -999.00,9, -999.00,9,  -1.2628,     -999.0,     -999.0,9,     -999.0,     10.355,2,      0.069,2,     89.128,2
09AR20110104,       SR03,      98,          1,         20,         20,2,20110125,       0435,   -66.9492,   144.0770,        893,    40.2,  -1.2583,  34.2100,2,-999.0000,9,    358.4,2,  -999.0,9, -999.00,9, -999.00,9,  -999.0,9,  -999.0,9, -999.00,9, -999.00,9,  -1.2593,     -999.0,     -999.0,9,     -999.0,      9.301,2,      0.065,2,     89.217,2
09AR20110104,       SR03,      98,          1,         19,         19,2,20110125,       0435,   -66.9492,   144.0770,        893,    40.1,  -1.2635,  34.2124,2,-999.0000,9,    358.4,2,  -999.0,9, -999.00,9, -999.00,9,  -999.0,9,  -999.0,9, -999.00,9, -999.00,9,  -1.2645,     -999.0,     -999.0,9,     -999.0,      9.009,2,      0.070,2,     89.209,2
09AR20110104,       SR03,      98,          1,         18,         18,2,20110125,       0435,   -66.9492,   144.0770,        893,   121.6,  -1.6277,  34.3669,2,  34.3670,2,    332.1,2,   331.2,2,   71.30,2,    1.92,2,  2211.7,2,  2326.5,2, -999.00,9,   27.89,2,  -1.6303,     -999.0,     -999.0,9,     -999.0,      4.560,2,      0.000,2,     94.298,2
09AR20110104,       SR03,      98,          1,         17,         17,2,20110125,       0435,   -66.9492,   144.0770,        893,   121.2,  -1.6317,  34.3662,2,-999.0000,9,    332.1,2,  -999.0,9, -999.00,9, -999.00,9,  -999.0,9,  -999.0,9, -999.00,9, -999.00,9,  -1.6343,     -999.0,     -999.0,9,     -999.0,      4.963,2,      0.000,2,     94.170,2
09AR20110104,       SR03,      98,          1,         16,         16,2,20110125,       0435,   -66.9492,   144.0770,        893,   238.7,  -1.8019,  34.4422,2,  34.4422,2,    311.6,2,   312.7,2,   74.60,2,    2.06,2,  2227.4,2,  2329.9,6, -999.00,9,   29.81,2,  -1.8070,     -999.0,     -999.0,9,     -999.0,      0.459,2,      0.000,2,     98.257,2
09AR20110104,       SR03,      98,          1,         15,         15,2,20110125,       0435,   -66.9492,   144.0770,        893,   240.1,  -1.8039,  34.4428,2,-999.0000,9,    311.1,2,  -999.0,9, -999.00,9, -999.00,9,  -999.0,9,  -999.0,9, -999.00,9, -999.00,9,  -1.8091,     -999.0,     -999.0,9,     -999.0,      0.513,2,      0.000,2,     98.531,2
09AR20110104,       SR03,      98,          1,         14,         14,2,20110125,       0435,   -66.9492,   144.0770,        893,   401.3,  -1.8730,  34.4730,2,  34.4736,2,    309.2,2,   308.1,2,   75.60,2,    2.07,2,  2233.0,2,  2332.6,2, -999.00,9,   30.48,2,  -1.8820,     -999.0,     -999.0,9,     -999.0,      0.000,2,      0.000,2,     99.303,2
09AR20110104,       SR03,      98,          1,         13,         13,2,20110125,       0435,   -66.9492,   144.0770,        893,   401.1,  -1.8731,  34.4728,2,-999.0000,9,    309.2,2,  -999.0,9, -999.00,9, -999.00,9,  -999.0,9,  -999.0,9, -999.00,9, -999.00,9,  -1.8821,     -999.0,     -999.0,9,     -999.0,      0.025,2,      0.000,2,     99.308,2
09AR20110104,       SR03,      98,          1,         12,         12,2,20110125,       0435,   -66.9492,   144.0770,        893,   400.9,  -1.8730,  34.4728,2,-999.0000,9,    309.2,2,  -999.0,9, -999.00,9, -999.00,9,  -999.0,9,  -999.0,9, -999.00,9, -999.00,9,  -1.8820,     -999.0,     -999.0,9,     -999.0,      0.051,2,      0.000,2,     99.302,2
09AR20110104,       SR03,      98,          1,         11,         11,2,20110125,       0435,   -66.9492,   144.0770,        893,   599.9,  -1.9521,  34.5348,2,  34.5339,2,    310.8,2,   311.5,2,   75.90,2,    2.06,2,  2235.6,2,  2335.1,2, -999.00,9,   29.54,2,  -1.9664,     -999.0,     -999.0,9,     -999.0,      0.016,2,      0.000,2,     99.169,2
09AR20110104,       SR03,      98,          1,         10,         10,2,20110125,       0435,   -66.9492,   144.0770,        893,   700.5,  -1.9504,  34.5522,2,  34.5518,2,    311.2,2,   311.5,2,   75.30,2,    2.08,2,  -999.0,9,  -999.0,9, -999.00,9,   30.58,2,  -1.9679,     -999.0,     -999.0,9,     -999.0,     -0.026,2,      0.000,2,     99.183,2
09AR20110104,       SR03,      98,          1,          9,          9,2,20110125,       0435,   -66.9492,   144.0770,        893,   700.0,  -1.9503,  34.5523,2,-999.0000,9,    311.2,2,  -999.0,9, -999.00,9, -999.00,9,  -999.0,9,  -999.0,9, -999.00,9, -999.00,9,  -1.9677,     -999.0,     -999.0,9,     -999.0,     -0.024,2,      0.000,2,     99.189,2
09AR20110104,       SR03,      98,          1,          8,          8,2,20110125,       0435,   -66.9492,   144.0770,        893,   796.7,  -1.9422,  34.5643,2,  34.5633,2,    311.6,2,   311.5,2,   75.00,2,    2.08,2,  2237.0,2,  2337.0,2, -999.00,9,   30.37,2,  -1.9629,     -999.0,     -999.0,9,     -999.0,     -0.004,2,      0.000,2,     99.187,2
09AR20110104,       SR03,      98,          1,          7,          7,2,20110125,       0435,   -66.9492,   144.0770,        893,   796.4,  -1.9421,  34.5644,2,-999.0000,9,    311.6,2,  -999.0,9, -999.00,9, -999.00,9,  -999.0,9,  -999.0,9, -999.00,9, -999.00,9,  -1.9628,     -999.0,     -999.0,9,     -999.0,     -0.035,2,      0.000,2,     99.198,2
09AR20110104,       SR03,      98,          1,          6,          6,2,20110125,       0435,   -66.9492,   144.0770,        893,   796.1,  -1.9422,  34.5645,2,-999.0000,9,    311.6,2,  -999.0,9, -999.00,9, -999.00,9,  -999.0,9,  -999.0,9, -999.00,9, -999.00,9,  -1.9628,     -999.0,     -999.0,9,     -999.0,     -0.019,2,      0.000,2,     99.193,2
09AR20110104,       SR03,      98,          1,          5,          5,2,20110125,       0435,   -66.9492,   144.0770,        893,   795.8,  -1.9422,  34.5644,2,-999.0000,9,    311.6,2,  -999.0,9, -999.00,9, -999.00,9,  -999.0,9,  -999.0,9, -999.00,9, -999.00,9,  -1.9628,     -999.0,     -999.0,9,     -999.0,     -0.050,2,      0.000,2,     99.192,2
09AR20110104,       SR03,      98,          1,          4,          4,2,20110125,       0435,   -66.9492,   144.0770,        893,   795.5,  -1.9422,  34.5644,2,-999.0000,9,    311.6,2,  -999.0,9, -999.00,9, -999.00,9,  -999.0,9,  -999.0,9, -999.00,9, -999.00,9,  -1.9628,     -999.0,     -999.0,9,     -999.0,     -0.015,2,      0.000,2,     99.197,2
09AR20110104,       SR03,      98,          1,          3,          3,2,20110125,       0435,   -66.9492,   144.0770,        893,   795.2,  -1.9422,  34.5645,2,-999.0000,9,    311.6,2,  -999.0,9, -999.00,9, -999.00,9,  -999.0,9,  -999.0,9, -999.00,9, -999.00,9,  -1.9628,     -999.0,     -999.0,9,     -999.0,     -0.040,2,      0.000,2,     99.198,2
09AR20110104,       SR03,      98,          1,          2,        102,2,20110125,       0435,   -66.9492,   144.0770,        893,   894.5,  -1.9366,  34.5680,2,  34.5673,2,    312.1,2,   311.5,2,   75.20,2,    2.08,2,  -999.0,9,  -999.0,9, -999.00,9,   30.52,2,  -1.9607,     -999.0,     -999.0,9,     -999.0,      0.017,2,      0.000,2,     99.152,2
09AR20110104,       SR03,      98,          1,          1,          1,2,20110125,       0435,   -66.9492,   144.0770,        893,   894.5,  -1.9369,  34.5676,2,-999.0000,9,    312.1,2,  -999.0,9, -999.00,9, -999.00,9,  -999.0,9,  -999.0,9, -999.00,9, -999.00,9,  -1.9610,     -999.0,     -999.0,9,     -999.0,     -0.043,2,      0.000,2,     99.196,2
09AR20110104,       SR03,      99,          1,         24,         24,2,20110125,       0717,   -66.7798,   143.8880,        283,     9.5,  -1.0504,  33.9999,2,  34.0015,2,    361.2,2,   361.5,2,   51.60,2,    1.36,2,  -999.0,9,  -999.0,9, -999.00,9,   21.61,2,  -1.0506,     -999.0,     -999.0,9,     -999.0,      8.431,2,     15.139,2,     88.184,2
09AR20110104,       SR03,      99,          1,         23,         23,2,20110125,       0717,   -66.7798,   143.8880,        283,     9.5,  -1.0508,  34.0000,2,-999.0000,9,    361.2,2,  -999.0,9, -999.00,9, -999.00,9,  -999.0,9,  -999.0,9, -999.00,9, -999.00,9,  -1.0510,     -999.0,     -999.0,9,     -999.0,      9.378,2,     15.279,2,     88.041,2
09AR20110104,       SR03,      99,          1,         22,         22,2,20110125,       0717,   -66.7798,   143.8880,        283,     9.5,  -1.0517,  34.0005,2,-999.0000,9,    361.2,2,  -999.0,9, -999.00,9, -999.00,9,  -999.0,9,  -999.0,9, -999.00,9, -999.00,9,  -1.0519,     -999.0,     -999.0,9,     -999.0,      8.841,2,     15.659,2,     88.095,2
09AR20110104,       SR03,      99,          1,         21,         21,2,20110125,       0717,   -66.7798,   143.8880,        283,     9.5,  -1.0522,  34.0004,2,-999.0000,9,    361.2,2,  -999.0,9, -999.00,9, -999.00,9,  -999.0,9,  -999.0,9, -999.00,9, -999.00,9,  -1.0524,     -999.0,     -999.0,9,     -999.0,      8.451,2,     15.769,2,     88.099,2
09AR20110104,       SR03,      99,          1,         20,         20,2,20110125,       0717,   -66.7798,   143.8880,        283,     9.4,  -1.0514,  34.0002,2,-999.0000,9,    361.2,2,  -999.0,9, -999.00,9, -999.00,9,  -999.0,9,  -999.0,9, -999.00,9, -999.00,9,  -1.0516,     -999.0,     -999.0,9,     -999.0,      8.373,2,     15.829,2,     88.149,2
09AR20110104,       SR03,      99,          1,         19,         19,2,20110125,       0717,   -66.7798,   143.8880,        283,     9.4,  -1.0523,  34.0007,2,-999.0000,9,    361.2,2,  -999.0,9, -999.00,9, -999.00,9,  -999.0,9,  -999.0,9, -999.00,9, -999.00,9,  -1.0525,     -999.0,     -999.0,9,     -999.0,      8.521,2,     15.939,2,     88.021,2
09AR20110104,       SR03,      99,          1,         18,         18,2,20110125,       0717,   -66.7798,   143.8880,        283,    50.4,  -1.3199,  34.2104,2,  34.2213,2,    347.9,2,   342.6,2,   63.40,2,    1.73,2,  -999.0,9,  -999.0,9, -999.00,9,   25.19,2,  -1.3211,     -999.0,     -999.0,9,     -999.0,      6.049,2,      0.000,2,     92.403,2
09AR20110104,       SR03,      99,          1,         17,         17,2,20110125,       0717,   -66.7798,   143.8880,        283,    50.3,  -1.3198,  34.2101,2,-999.0000,9,    347.9,2,  -999.0,9, -999.00,9, -999.00,9,  -999.0,9,  -999.0,9, -999.00,9, -999.00,9,  -1.3210,     -999.0,     -999.0,9,     -999.0,      5.551,2,      0.000,2,     92.268,2
09AR20110104,       SR03,      99,          1,         16,         16,2,20110125,       0717,   -66.7798,   143.8880,        283,    50.3,  -1.3215,  34.2109,2,-999.0000,9,    347.9,2,  -999.0,9, -999.00,9, -999.00,9,  -999.0,9,  -999.0,9, -999.00,9, -999.00,9,  -1.3227,     -999.0,     -999.0,9,     -999.0,      5.418,2,      0.000,2,     92.301,2
09AR20110104,       SR03,      99,          1,         15,         15,2,20110125,       0717,   -66.7798,   143.8880,        283,    50.2,  -1.3222,  34.2112,2,-999.0000,9,    347.9,2,  -999.0,9, -999.00,9, -999.00,9,  -999.0,9,  -999.0,9, -999.00,9, -999.00,9,  -1.3234,     -999.0,     -999.0,9,     -999.0,      5.249,2,      0.000,2,     92.318,2
09AR20110104,       SR03,      99,          1,         14,         14,2,20110125,       0717,   -66.7798,   143.8880,        283,   100.4,  -1.5896,  34.3412,2,  34.3425,2,    324.0,2,   324.2,2,   71.00,2,    1.92,2,  -999.0,9,  -999.0,9, -999.00,9,   27.63,2,  -1.5918,     -999.0,     -999.0,9,     -999.0,      2.115,2,      0.000,2,     96.187,2
09AR20110104,       SR03,      99,          1,         13,         13,2,20110125,       0717,   -66.7798,   143.8880,        283,   100.4,  -1.5900,  34.3413,2,-999.0000,9,    324.0,2,  -999.0,9, -999.00,9, -999.00,9,  -999.0,9,  -999.0,9, -999.00,9, -999.00,9,  -1.5922,     -999.0,     -999.0,9,     -999.0,      2.442,2,      0.000,2,     96.318,2
09AR20110104,       SR03,      99,          1,         12,         12,2,20110125,       0717,   -66.7798,   143.8880,        283,   100.4,  -1.5902,  34.3411,2,-999.0000,9,    324.0,2,  -999.0,9, -999.00,9, -999.00,9,  -999.0,9,  -999.0,9, -999.00,9, -999.00,9,  -1.5924,     -999.0,     -999.0,9,     -999.0,      2.415,2,      0.000,2,     96.224,2
09AR20110104,       SR03,      99,          1,         11,         11,2,20110125,       0717,   -66.7798,   143.8880,        283,   100.4,  -1.5901,  34.3410,2,-999.0000,9,    324.0,2,  -999.0,9, -999.00,9, -999.00,9,  -999.0,9,  -999.0,9, -999.00,9, -999.00,9,  -1.5923,     -999.0,     -999.0,9,     -999.0,      1.954,2,      0.000,2,     96.377,2
09AR20110104,       SR03,      99,          1,         10,         10,2,20110125,       0717,   -66.7798,   143.8880,        283,   100.4,  -1.5896,  34.3410,2,-999.0000,9,    324.0,2,  -999.0,9, -999.00,9, -999.00,9,  -999.0,9,  -999.0,9, -999.00,9, -999.00,9,  -1.5918,     -999.0,     -999.0,9,     -999.0,      2.333,2,      0.000,2,     96.137,2
09AR20110104,       SR03,      99,          1,          9,          9,2,20110125,       0717,   -66.7798,   143.8880,        283,   100.3,  -1.5894,  34.3410,2,-999.0000,9,    324.0,2,  -999.0,9, -999.00,9, -999.00,9,  -999.0,9,  -999.0,9, -999.00,9, -999.00,9,  -1.5916,     -999.0,     -999.0,9,     -999.0,      2.427,2,      0.000,2,     96.170,2
09AR20110104,       SR03,      99,          1,          8,          8,2,20110125,       0717,   -66.7798,   143.8880,        283,   225.1,  -1.8097,  34.4306,2,  34.4296,2,    308.6,2,   308.9,2,   75.00,2,    2.05,2,  -999.0,9,  -999.0,9, -999.00,9,   29.58,2,  -1.8145,     -999.0,     -999.0,9,     -999.0,      0.403,2,      0.000,2,     98.244,2
09AR20110104,       SR03,      99,          1,          7,          7,2,20110125,       0717,   -66.7798,   143.8880,        283,   225.1,  -1.8093,  34.4307,2,-999.0000,9,    308.6,2,  -999.0,9, -999.00,9, -999.00,9,  -999.0,9,  -999.0,9, -999.00,9, -999.00,9,  -1.8141,     -999.0,     -999.0,9,     -999.0,      0.399,2,      0.000,2,     98.372,2
09AR20110104,       SR03,      99,          1,          6,          6,2,20110125,       0717,   -66.7798,   143.8880,        283,   225.1,  -1.8096,  34.4308,2,-999.0000,9,    308.6,2,  -999.0,9, -999.00,9, -999.00,9,  -999.0,9,  -999.0,9, -999.00,9, -999.00,9,  -1.8144,     -999.0,     -999.0,9,     -999.0,      0.585,2,      0.000,2,     98.321,2
09AR20110104,       SR03,      99,          1,          5,          5,2,20110125,       0717,   -66.7798,   143.8880,        283,   225.0,  -1.8097,  34.4308,2,-999.0000,9,    308.6,2,  -999.0,9, -999.00,9, -999.00,9,  -999.0,9,  -999.0,9, -999.00,9, -999.00,9,  -1.8145,     -999.0,     -999.0,9,     -999.0,      0.353,2,      0.000,2,     98.305,2
09AR20110104,       SR03,      99,          1,          4,          4,2,20110125,       0717,   -66.7798,   143.8880,        283,   225.0,  -1.8099,  34.4311,2,-999.0000,9,    308.8,2,  -999.0,9, -999.00,9, -999.00,9,  -999.0,9,  -999.0,9, -999.00,9, -999.00,9,  -1.8147,     -999.0,     -999.0,9,     -999.0,      0.362,2,      0.000,2,     98.261,2
09AR20110104,       SR03,      99,          1,          3,          3,2,20110125,       0717,   -66.7798,   143.8880,        283,   224.8,  -1.8096,  34.4310,2,-999.0000,9,    308.8,2,  -999.0,9, -999.00,9, -999.00,9,  -999.0,9,  -999.0,9, -999.00,9, -999.00,9,  -1.8144,     -999.0,     -999.0,9,     -999.0,      0.535,2,      0.000,2,     98.327,2
09AR20110104,       SR03,      99,          1,          2,        102,2,20110125,       0717,   -66.7798,   143.8880,        283,   277.4,  -1.8599,  34.4581,2,  34.4575,2,    307.3,2,   307.0,2,   75.10,2,    2.06,2,  -999.0,9,  -999.0,9, -999.00,9,   29.66,2,  -1.8658,     -999.0,     -999.0,9,     -999.0,      0.064,2,      0.000,2,     98.893,2
09AR20110104,       SR03,      99,          1,          1,          1,2,20110125,       0717,   -66.7798,   143.8880,        283,   276.6,  -1.8598,  34.4581,2,-999.0000,9,    307.4,2,  -999.0,9, -999.00,9, -999.00,9,  -999.0,9,  -999.0,9, -999.00,9, -999.00,9,  -1.8657,     -999.0,     -999.0,9,     -999.0,      0.159,2,      0.000,2,     98.890,2