BOTTLE,20230419CCHSIOENA
EXPOCODE,SECT_ID,STNNBR,CASTNO,SAMPNO,BTLNBR,BTLNBR_FLAG_W,DATE,TIME,LATITUDE,LONGITUDE,DEPTH,CTDPRS,CTDTMP,CTDSAL,CTDSAL_FLAG_W,SALNTY,SALNTY_FLAG_W,CTDOXY,CTDOXY_FLAG_W,OXYGEN,OXYGEN_FLAG_W,SILCAT,SILCAT_FLAG_W,PHSPHT,PHSPHT_FLAG_W,TCARBN,TCARBN_FLAG_W,ALKALI,ALKALI_FLAG_W,DELO18,DELO18_FLAG_W,NO2+NO3,NO2+NO3_FLAG_W,THETA,O18ERR,DELD,DELD_FLAG_W,DELDERR,CTDFLUOR,CTDFLUOR_FLAG_W,PAR,PAR_FLAG_W,CTDXMISS,CTDXMISS_FLAG_W
,,,,,,,,,,,METERS,DBAR,ITS-90,PSS-78,,PSS-78,,UMOL/KG,,UMOL/KG,,UMOL/KG,,UMOL/KG,,UMOL/KG,,UMOL/KG,,/MILLE,,UMOL/KG,,DEG C,/MILLE,/MILLE,,/MILLE,MG/M^3,,UMOL/M^2/SEC,,%TRANS,
09AR20110104,       SR03,     110,          1,         24,         24,2,20110126,       0714,   -66.3282,   144.9850,        388,    10.5,  -1.2131,  33.2041,2,  33.2049,2,    375.3,2,   376.0,2,   39.50,2,    1.00,2,  2090.6,2,  -999.0,9, -999.00,9,   18.11,2,  -1.2133,     -999.0,     -999.0,9,     -999.0,      7.733,2,     35.699,2,     84.142,2
09AR20110104,       SR03,     110,          1,         23,         23,2,20110126,       0714,   -66.3282,   144.9850,        388,    10.4,  -1.2203,  33.2060,2,-999.0000,9,    375.3,2,  -999.0,9, -999.00,9, -999.00,9,  -999.0,9,  -999.0,9, -999.00,9, -999.00,9,  -1.2205,     -999.0,     -999.0,9,     -999.0,      8.243,2,     36.359,2,     84.063,2
09AR20110104,       SR03,     110,          1,         22,         22,2,20110126,       0714,   -66.3282,   144.9850,        388,    10.4,  -1.2213,  33.2060,2,-999.0000,9,    375.3,2,  -999.0,9, -999.00,9, -999.00,9,  -999.0,9,  -999.0,9, -999.00,9, -999.00,9,  -1.2215,     -999.0,     -999.0,9,     -999.0,      7.998,2,     36.479,2,     84.317,2
09AR20110104,       SR03,     110,          1,         21,         21,2,20110126,       0714,   -66.3282,   144.9850,        388,    10.4,  -1.2210,  33.2072,2,-999.0000,9,    375.3,2,  -999.0,9, -999.00,9, -999.00,9,  -999.0,9,  -999.0,9, -999.00,9, -999.00,9,  -1.2212,     -999.0,     -999.0,9,     -999.0,      7.965,2,     36.489,2,     84.243,2
09AR20110104,       SR03,     110,          1,         20,         20,2,20110126,       0714,   -66.3282,   144.9850,        388,    10.4,  -1.2207,  33.2070,2,-999.0000,9,    375.3,2,  -999.0,9, -999.00,9, -999.00,9,  -999.0,9,  -999.0,9, -999.00,9, -999.00,9,  -1.2209,     -999.0,     -999.0,9,     -999.0,      7.735,2,     36.419,2,     84.079,2
09AR20110104,       SR03,     110,          1,         19,         19,2,20110126,       0714,   -66.3282,   144.9850,        388,    10.4,  -1.2172,  33.2041,2,-999.0000,9,    375.3,2,  -999.0,9, -999.00,9, -999.00,9,  -999.0,9,  -999.0,9, -999.00,9, -999.00,9,  -1.2174,     -999.0,     -999.0,9,     -999.0,      7.361,2,     36.179,2,     84.128,2
09AR20110104,       SR03,     110,          1,         18,         18,2,20110126,       0714,   -66.3282,   144.9850,        388,    30.8,  -1.0472,  33.5907,2,  33.6123,2,    365.0,2,   365.0,2,   44.80,2,    1.32,2,  2129.4,2,  -999.0,9, -999.00,9,   20.30,2,  -1.0480,     -999.0,     -999.0,9,     -999.0,     12.699,2,      1.061,2,     85.093,2
09AR20110104,       SR03,     110,          1,         17,         17,2,20110126,       0714,   -66.3282,   144.9850,        388,    30.7,  -1.0564,  33.6149,2,-999.0000,9,    365.0,2,  -999.0,9, -999.00,9, -999.00,9,  -999.0,9,  -999.0,9, -999.00,9, -999.00,9,  -1.0571,     -999.0,     -999.0,9,     -999.0,     11.657,2,      1.057,2,     84.978,2
09AR20110104,       SR03,     110,          1,         16,         16,2,20110126,       0714,   -66.3282,   144.9850,        388,    30.6,  -1.0712,  33.6514,2,-999.0000,9,    365.0,2,  -999.0,9, -999.00,9, -999.00,9,  -999.0,9,  -999.0,9, -999.00,9, -999.00,9,  -1.0719,     -999.0,     -999.0,9,     -999.0,     11.911,2,      1.095,2,     85.114,2
09AR20110104,       SR03,     110,          1,         15,         15,2,20110126,       0714,   -66.3282,   144.9850,        388,    30.6,  -1.0856,  33.6896,2,-999.0000,9,    365.0,2,  -999.0,9, -999.00,9, -999.00,9,  -999.0,9,  -999.0,9, -999.00,9, -999.00,9,  -1.0863,     -999.0,     -999.0,9,     -999.0,     10.813,2,      1.102,2,     85.962,2
09AR20110104,       SR03,     110,          1,         14,         14,2,20110126,       0714,   -66.3282,   144.9850,        388,    92.0,  -1.7371,  34.3468,2,  34.3458,2,    310.4,2,   310.1,2,   71.10,2,    2.05,2,  2221.7,2,  -999.0,9, -999.00,9,   29.72,2,  -1.7390,     -999.0,     -999.0,9,     -999.0,      0.571,2,      0.000,2,     98.213,2
09AR20110104,       SR03,     110,          1,         13,         13,2,20110126,       0714,   -66.3282,   144.9850,        388,    91.9,  -1.7368,  34.3468,2,-999.0000,9,    310.4,2,  -999.0,9, -999.00,9, -999.00,9,  -999.0,9,  -999.0,9, -999.00,9, -999.00,9,  -1.7387,     -999.0,     -999.0,9,     -999.0,      0.670,2,      0.000,2,     98.187,2
09AR20110104,       SR03,     110,          1,         12,         12,2,20110126,       0714,   -66.3282,   144.9850,        388,    91.9,  -1.7372,  34.3472,2,-999.0000,9,    310.4,2,  -999.0,9, -999.00,9, -999.00,9,  -999.0,9,  -999.0,9, -999.00,9, -999.00,9,  -1.7391,     -999.0,     -999.0,9,     -999.0,      0.657,2,      0.000,2,     98.151,2
09AR20110104,       SR03,     110,          1,         11,         11,2,20110126,       0714,   -66.3282,   144.9850,        388,    91.5,  -1.7366,  34.3468,2,-999.0000,9,    310.4,2,  -999.0,9, -999.00,9, -999.00,9,  -999.0,9,  -999.0,9, -999.00,9, -999.00,9,  -1.7385,     -999.0,     -999.0,9,     -999.0,      0.582,2,      0.000,2,     98.257,2
09AR20110104,       SR03,     110,          1,         10,         10,2,20110126,       0714,   -66.3282,   144.9850,        388,    91.6,  -1.7366,  34.3466,2,-999.0000,9,    310.4,2,  -999.0,9, -999.00,9, -999.00,9,  -999.0,9,  -999.0,9, -999.00,9, -999.00,9,  -1.7385,     -999.0,     -999.0,9,     -999.0,      0.614,2,      0.000,2,     98.207,2
09AR20110104,       SR03,     110,          1,          9,          9,2,20110126,       0714,   -66.3282,   144.9850,        388,    91.5,  -1.7366,  34.3470,2,-999.0000,9,    310.4,2,  -999.0,9, -999.00,9, -999.00,9,  -999.0,9,  -999.0,9, -999.00,9, -999.00,9,  -1.7385,     -999.0,     -999.0,9,     -999.0,      0.652,2,      0.000,2,     98.098,2
09AR20110104,       SR03,     110,          1,          8,          8,2,20110126,       0714,   -66.3282,   144.9850,        388,   241.9,  -0.9075,  34.5107,2,  34.5231,2,    265.1,2,   265.8,2,   81.40,2,    2.14,2,  2240.2,2,  -999.0,9, -999.00,9,   30.94,2,  -0.9146,     -999.0,     -999.0,9,     -999.0,      0.059,2,      0.000,2,     99.042,2
09AR20110104,       SR03,     110,          1,          7,          7,2,20110126,       0714,   -66.3282,   144.9850,        388,   241.6,  -0.9136,  34.5101,2,-999.0000,9,    265.1,2,  -999.0,9, -999.00,9, -999.00,9,  -999.0,9,  -999.0,9, -999.00,9, -999.00,9,  -0.9207,     -999.0,     -999.0,9,     -999.0,      0.040,2,      0.000,2,     99.038,2
09AR20110104,       SR03,     110,          1,          6,          6,2,20110126,       0714,   -66.3282,   144.9850,        388,   241.6,  -0.9156,  34.5098,2,-999.0000,9,    265.1,2,  -999.0,9, -999.00,9, -999.00,9,  -999.0,9,  -999.0,9, -999.00,9, -999.00,9,  -0.9227,     -999.0,     -999.0,9,     -999.0,      0.020,2,      0.000,2,     99.038,2
09AR20110104,       SR03,     110,          1,          5,          5,2,20110126,       0714,   -66.3282,   144.9850,        388,   241.5,  -0.9202,  34.5093,2,-999.0000,9,    265.1,2,  -999.0,9, -999.00,9, -999.00,9,  -999.0,9,  -999.0,9, -999.00,9, -999.00,9,  -0.9273,     -999.0,     -999.0,9,     -999.0,      0.024,2,      0.000,2,     99.058,2
09AR20110104,       SR03,     110,          1,          4,          4,2,20110126,       0714,   -66.3282,   144.9850,        388,   241.3,  -0.9265,  34.5088,2,-999.0000,9,    265.1,2,  -999.0,9, -999.00,9, -999.00,9,  -999.0,9,  -999.0,9, -999.00,9, -999.00,9,  -0.9335,     -999.0,     -999.0,9,     -999.0,      0.066,2,      0.000,2,     99.042,2
09AR20110104,       SR03,     110,          1,          3,          3,2,20110126,       0714,   -66.3282,   144.9850,        388,   241.1,  -0.9269,  34.5080,2,-999.0000,9,    265.1,2,  -999.0,9, -999.00,9, -999.00,9,  -999.0,9,  -999.0,9, -999.00,9, -999.00,9,  -0.9339,     -999.0,     -999.0,9,     -999.0,      0.093,2,      0.000,2,     99.022,2
09AR20110104,       SR03,     110,          1,          2,        102,2,20110126,       0714,   -66.3282,   144.9850,        388,   381.7,  -1.8443,  34.6234,2,  34.6223,2,    302.8,2,   302.6,2,   77.90,2,    2.10,2,  -999.0,9,  -999.0,9, -999.00,9,   30.58,2,  -1.8530,     -999.0,     -999.0,9,     -999.0,      0.146,2,      0.000,2,     98.101,2
09AR20110104,       SR03,     110,          1,          1,          1,2,20110126,       0714,   -66.3282,   144.9850,        388,   381.8,  -1.8447,  34.6234,2,-999.0000,9,    302.8,2,  -999.0,9, -999.00,9, -999.00,9,  -999.0,9,  -999.0,9, -999.00,9, -999.00,9,  -1.8534,     -999.0,     -999.0,9,     -999.0,      0.139,2,      0.000,2,     98.130,2
09AR20110104,       SR03,     111,          1,         24,         24,2,20110126,       0854,   -66.4482,   144.8310,        452,    10.5,  -0.9617,  33.4977,2,  33.5251,2,    373.8,2,   375.6,2,   39.30,2,    1.02,2,  2109.7,2,  2278.3,2, -999.00,9,   17.71,2,  -0.9620,     -999.0,     -999.0,9,     -999.0,     19.044,2,      5.857,2,     81.527,2
09AR20110104,       SR03,     111,          1,         23,         23,2,20110126,       0854,   -66.4482,   144.8310,        452,    10.5,  -0.9642,  33.5080,2,-999.0000,9,    373.8,2,  -999.0,9, -999.00,9, -999.00,9,  -999.0,9,  -999.0,9, -999.00,9, -999.00,9,  -0.9645,     -999.0,     -999.0,9,     -999.0,     18.626,2,      5.607,2,     81.499,2
09AR20110104,       SR03,     111,          1,         22,         22,2,20110126,       0854,   -66.4482,   144.8310,        452,    10.5,  -0.9656,  33.5120,2,-999.0000,9,    373.8,2,  -999.0,9, -999.00,9, -999.00,9,  -999.0,9,  -999.0,9, -999.00,9, -999.00,9,  -0.9659,     -999.0,     -999.0,9,     -999.0,     18.765,2,      5.474,2,     81.064,2
09AR20110104,       SR03,     111,          1,         21,         21,2,20110126,       0854,   -66.4482,   144.8310,        452,    10.5,  -0.9653,  33.5129,2,-999.0000,9,    373.8,2,  -999.0,9, -999.00,9, -999.00,9,  -999.0,9,  -999.0,9, -999.00,9, -999.00,9,  -0.9656,     -999.0,     -999.0,9,     -999.0,     18.529,2,      5.387,2,     81.657,2
09AR20110104,       SR03,     111,          1,         20,         20,2,20110126,       0854,   -66.4482,   144.8310,        452,    10.5,  -0.9588,  33.5090,2,-999.0000,9,    373.8,2,  -999.0,9, -999.00,9, -999.00,9,  -999.0,9,  -999.0,9, -999.00,9, -999.00,9,  -0.9591,     -999.0,     -999.0,9,     -999.0,     18.019,2,      5.438,2,     81.024,2
09AR20110104,       SR03,     111,          1,         19,         19,2,20110126,       0854,   -66.4482,   144.8310,        452,    10.5,  -0.9443,  33.5081,2,-999.0000,9,    373.8,2,  -999.0,9, -999.00,9, -999.00,9,  -999.0,9,  -999.0,9, -999.00,9, -999.00,9,  -0.9446,     -999.0,     -999.0,9,     -999.0,     17.406,2,      5.457,2,     81.527,2
09AR20110104,       SR03,     111,          1,         18,         18,2,20110126,       0854,   -66.4482,   144.8310,        452,    60.4,  -1.4815,  34.2555,2,  34.2601,2,    321.0,2,   321.1,2,   66.50,2,    1.92,2,  2208.7,2,  2316.2,2, -999.00,9,   27.62,2,  -1.4828,     -999.0,     -999.0,9,     -999.0,      3.650,2,      0.000,2,     94.739,2
09AR20110104,       SR03,     111,          1,         17,         17,2,20110126,       0854,   -66.4482,   144.8310,        452,    60.4,  -1.4817,  34.2556,2,-999.0000,9,    321.0,2,  -999.0,9, -999.00,9, -999.00,9,  -999.0,9,  -999.0,9, -999.00,9, -999.00,9,  -1.4830,     -999.0,     -999.0,9,     -999.0,      3.671,2,      0.000,2,     94.712,2
09AR20110104,       SR03,     111,          1,         16,         16,2,20110126,       0854,   -66.4482,   144.8310,        452,    60.3,  -1.4818,  34.2556,2,-999.0000,9,    321.0,2,  -999.0,9, -999.00,9, -999.00,9,  -999.0,9,  -999.0,9, -999.00,9, -999.00,9,  -1.4831,     -999.0,     -999.0,9,     -999.0,      3.754,2,      0.000,2,     94.568,2
09AR20110104,       SR03,     111,          1,         15,         15,2,20110126,       0854,   -66.4482,   144.8310,        452,    60.3,  -1.4880,  34.2625,2,-999.0000,9,    321.0,2,  -999.0,9, -999.00,9, -999.00,9,  -999.0,9,  -999.0,9, -999.00,9, -999.00,9,  -1.4893,     -999.0,     -999.0,9,     -999.0,      3.091,2,      0.000,2,     94.933,2
09AR20110104,       SR03,     111,          1,         14,         14,2,20110126,       0854,   -66.4482,   144.8310,        452,   200.8,  -1.5221,  34.4108,2,  34.4118,2,    294.4,2,   293.1,2,   76.20,2,    2.07,2,  2229.5,2,  2324.7,2, -999.00,9,   30.28,2,  -1.5268,     -999.0,     -999.0,9,     -999.0,      0.243,2,      0.000,2,     98.603,2
09AR20110104,       SR03,     111,          1,         13,         13,2,20110126,       0854,   -66.4482,   144.8310,        452,   200.7,  -1.5215,  34.4109,2,-999.0000,9,    294.4,2,  -999.0,9, -999.00,9, -999.00,9,  -999.0,9,  -999.0,9, -999.00,9, -999.00,9,  -1.5262,     -999.0,     -999.0,9,     -999.0,      0.269,2,      0.000,2,     98.795,2
09AR20110104,       SR03,     111,          1,         12,         12,2,20110126,       0854,   -66.4482,   144.8310,        452,   200.7,  -1.5200,  34.4112,2,-999.0000,9,    294.4,2,  -999.0,9, -999.00,9, -999.00,9,  -999.0,9,  -999.0,9, -999.00,9, -999.00,9,  -1.5247,     -999.0,     -999.0,9,     -999.0,      0.270,2,      0.000,2,     98.656,2
09AR20110104,       SR03,     111,          1,         11,         11,2,20110126,       0854,   -66.4482,   144.8310,        452,   299.9,  -0.3799,  34.5505,2,  34.5506,2,    246.9,2,   246.2,2,   85.50,2,    2.15,2,  2245.1,2,  2337.2,2, -999.00,9,   31.25,2,  -0.3902,     -999.0,     -999.0,9,     -999.0,      0.040,2,      0.000,2,     99.006,2
09AR20110104,       SR03,     111,          1,         10,         10,2,20110126,       0854,   -66.4482,   144.8310,        452,   300.0,  -0.3874,  34.5506,2,-999.0000,9,    246.9,2,  -999.0,9, -999.00,9, -999.00,9,  -999.0,9,  -999.0,9, -999.00,9, -999.00,9,  -0.3977,     -999.0,     -999.0,9,     -999.0,      0.070,2,      0.000,2,     98.988,2
09AR20110104,       SR03,     111,          1,          9,          9,2,20110126,       0854,   -66.4482,   144.8310,        452,   300.0,  -0.4067,  34.5504,2,-999.0000,9,    246.9,2,  -999.0,9, -999.00,9, -999.00,9,  -999.0,9,  -999.0,9, -999.00,9, -999.00,9,  -0.4170,     -999.0,     -999.0,9,     -999.0,      0.009,2,      0.000,2,     99.032,2
09AR20110104,       SR03,     111,          1,          8,          8,2,20110126,       0854,   -66.4482,   144.8310,        452,   391.1,  -1.7469,  34.5824,2,  34.5822,2,    296.9,2,   298.1,2,   77.50,2,    2.07,2,  2239.8,2,  2335.2,2, -999.00,9,   30.50,2,  -1.7562,     -999.0,     -999.0,9,     -999.0,      0.036,2,      0.000,2,     99.004,2
09AR20110104,       SR03,     111,          1,          7,          7,2,20110126,       0854,   -66.4482,   144.8310,        452,   391.0,  -1.7483,  34.5825,2,-999.0000,9,    296.9,2,  -999.0,9, -999.00,9, -999.00,9,  -999.0,9,  -999.0,9, -999.00,9, -999.00,9,  -1.7576,     -999.0,     -999.0,9,     -999.0,      0.000,2,      0.000,2,     99.001,2
09AR20110104,       SR03,     111,          1,          6,          6,2,20110126,       0854,   -66.4482,   144.8310,        452,   391.1,  -1.7493,  34.5827,2,-999.0000,9,    296.9,2,  -999.0,9, -999.00,9, -999.00,9,  -999.0,9,  -999.0,9, -999.00,9, -999.00,9,  -1.7586,     -999.0,     -999.0,9,     -999.0,      0.003,2,      0.000,2,     99.030,2
09AR20110104,       SR03,     111,          1,          5,          5,2,20110126,       0854,   -66.4482,   144.8310,        452,   391.0,  -1.7488,  34.5826,2,-999.0000,9,    295.7,2,  -999.0,9, -999.00,9, -999.00,9,  -999.0,9,  -999.0,9, -999.00,9, -999.00,9,  -1.7581,     -999.0,     -999.0,9,     -999.0,      0.067,2,      0.000,2,     99.000,2
09AR20110104,       SR03,     111,          1,          4,          4,2,20110126,       0854,   -66.4482,   144.8310,        452,   390.9,  -1.7501,  34.5829,2,-999.0000,9,    295.7,2,  -999.0,9, -999.00,9, -999.00,9,  -999.0,9,  -999.0,9, -999.00,9, -999.00,9,  -1.7594,     -999.0,     -999.0,9,     -999.0,      0.028,2,      0.000,2,     99.017,2
09AR20110104,       SR03,     111,          1,          3,          3,2,20110126,       0854,   -66.4482,   144.8310,        452,   390.9,  -1.7502,  34.5831,2,-999.0000,9,    295.7,2,  -999.0,9, -999.00,9, -999.00,9,  -999.0,9,  -999.0,9, -999.00,9, -999.00,9,  -1.7595,     -999.0,     -999.0,9,     -999.0,      0.043,2,      0.000,2,     99.024,2
09AR20110104,       SR03,     111,          1,          2,        102,2,20110126,       0854,   -66.4482,   144.8310,        452,   449.3,  -1.8372,  34.6209,2,  34.6203,2,    302.2,2,   301.7,2,   77.40,2,    2.07,2,  -999.0,9,  -999.0,9, -999.00,9,   30.59,2,  -1.8478,     -999.0,     -999.0,9,     -999.0,      0.214,2,      0.000,2,     97.383,2
09AR20110104,       SR03,     111,          1,          1,          1,2,20110126,       0854,   -66.4482,   144.8310,        452,   449.3,  -1.8368,  34.6208,2,-999.0000,9,    302.2,2,  -999.0,9, -999.00,9, -999.00,9,  -999.0,9,  -999.0,9, -999.00,9, -999.00,9,  -1.8474,     -999.0,     -999.0,9,     -999.0,      0.250,2,      0.000,2,     97.477,2