BOTTLE,20230419CCHSIOENA
EXPOCODE,SECT_ID,STNNBR,CASTNO,SAMPNO,BTLNBR,BTLNBR_FLAG_W,DATE,TIME,LATITUDE,LONGITUDE,DEPTH,CTDPRS,CTDTMP,CTDSAL,CTDSAL_FLAG_W,SALNTY,SALNTY_FLAG_W,CTDOXY,CTDOXY_FLAG_W,OXYGEN,OXYGEN_FLAG_W,SILCAT,SILCAT_FLAG_W,PHSPHT,PHSPHT_FLAG_W,TCARBN,TCARBN_FLAG_W,ALKALI,ALKALI_FLAG_W,DELO18,DELO18_FLAG_W,NO2+NO3,NO2+NO3_FLAG_W,THETA,O18ERR,DELD,DELD_FLAG_W,DELDERR,CTDFLUOR,CTDFLUOR_FLAG_W,PAR,PAR_FLAG_W,CTDXMISS,CTDXMISS_FLAG_W
,,,,,,,,,,,METERS,DBAR,ITS-90,PSS-78,,PSS-78,,UMOL/KG,,UMOL/KG,,UMOL/KG,,UMOL/KG,,UMOL/KG,,UMOL/KG,,/MILLE,,UMOL/KG,,DEG C,/MILLE,/MILLE,,/MILLE,MG/M^3,,UMOL/M^2/SEC,,%TRANS,
09AR20110104,       SR03,     116,          1,         24,         24,2,20110126,       1935,   -66.6568,   146.1630,        178,    11.3,  -0.6763,  33.6326,2,-999.0000,9,    379.2,2,  -999.0,9, -999.00,9, -999.00,9,  -999.0,9,  -999.0,9, -999.00,9, -999.00,9,  -0.6766,     -999.0,     -999.0,9,     -999.0,     15.726,2,     11.629,2,     84.928,2
09AR20110104,       SR03,     116,          1,         23,         23,2,20110126,       1935,   -66.6568,   146.1630,        178,    11.3,  -0.7412,  33.6839,2,  33.6973,2,    379.2,2,   380.3,2,   45.70,2,    1.10,2,  2110.3,6,  2294.0,6, -999.00,9,   16.99,2,  -0.7415,     -999.0,     -999.0,9,     -999.0,     14.507,2,     11.189,2,     84.491,2
09AR20110104,       SR03,     116,          1,         22,         22,2,20110126,       1935,   -66.6568,   146.1630,        178,    11.3,  -0.7244,  33.6747,2,-999.0000,9,    379.2,2,  -999.0,9, -999.00,9, -999.00,9,  -999.0,9,  -999.0,9, -999.00,9, -999.00,9,  -0.7247,     -999.0,     -999.0,9,     -999.0,     14.514,2,     10.759,2,     84.321,2
09AR20110104,       SR03,     116,          1,         21,         21,2,20110126,       1935,   -66.6568,   146.1630,        178,    11.2,  -0.7343,  33.6818,2,-999.0000,9,    379.2,2,  -999.0,9, -999.00,9, -999.00,9,  -999.0,9,  -999.0,9, -999.00,9, -999.00,9,  -0.7346,     -999.0,     -999.0,9,     -999.0,     16.153,2,     10.599,2,     84.160,2
09AR20110104,       SR03,     116,          1,         20,         20,2,20110126,       1935,   -66.6568,   146.1630,        178,    11.2,  -0.7595,  33.6989,2,-999.0000,9,    379.2,2,  -999.0,9, -999.00,9, -999.00,9,  -999.0,9,  -999.0,9, -999.00,9, -999.00,9,  -0.7598,     -999.0,     -999.0,9,     -999.0,     14.142,2,     10.419,2,     84.132,2
09AR20110104,       SR03,     116,          1,         19,         19,2,20110126,       1935,   -66.6568,   146.1630,        178,    60.9,  -1.5037,  34.2794,2,-999.0000,9,    321.3,2,  -999.0,9, -999.00,9, -999.00,9,  -999.0,9,  -999.0,9, -999.00,9, -999.00,9,  -1.5050,     -999.0,     -999.0,9,     -999.0,      2.437,2,      0.000,2,     95.488,2
09AR20110104,       SR03,     116,          1,         18,         18,2,20110126,       1935,   -66.6568,   146.1630,        178,    60.8,  -1.5035,  34.2793,2,-999.0000,9,    321.3,2,  -999.0,9, -999.00,9, -999.00,9,  -999.0,9,  -999.0,9, -999.00,9, -999.00,9,  -1.5048,     -999.0,     -999.0,9,     -999.0,      3.171,2,      0.000,2,     95.503,2
09AR20110104,       SR03,     116,          1,         17,         17,2,20110126,       1935,   -66.6568,   146.1630,        178,    60.8,  -1.5025,  34.2799,2,-999.0000,9,    321.3,2,  -999.0,9, -999.00,9, -999.00,9,  -999.0,9,  -999.0,9, -999.00,9, -999.00,9,  -1.5038,     -999.0,     -999.0,9,     -999.0,      2.649,2,      0.000,2,     95.573,2
09AR20110104,       SR03,     116,          1,         16,         16,2,20110126,       1935,   -66.6568,   146.1630,        178,    60.8,  -1.5037,  34.2791,2,  34.2796,2,    321.3,2,   321.4,2,   68.40,2,    1.96,2,  2209.5,2,  2322.4,6, -999.00,9,   28.09,2,  -1.5050,     -999.0,     -999.0,9,     -999.0,      2.557,2,      0.000,2,     95.312,2
09AR20110104,       SR03,     116,          1,         15,         15,2,20110126,       1935,   -66.6568,   146.1630,        178,    60.8,  -1.5043,  34.2788,2,-999.0000,9,    321.3,2,  -999.0,9, -999.00,9, -999.00,9,  -999.0,9,  -999.0,9, -999.00,9, -999.00,9,  -1.5056,     -999.0,     -999.0,9,     -999.0,      2.837,2,      0.000,2,     95.455,2
09AR20110104,       SR03,     116,          1,         14,         14,2,20110126,       1935,   -66.6568,   146.1630,        178,    60.8,  -1.5047,  34.2787,2,-999.0000,9,    321.3,2,  -999.0,9, -999.00,9, -999.00,9,  -999.0,9,  -999.0,9, -999.00,9, -999.00,9,  -1.5060,     -999.0,     -999.0,9,     -999.0,      2.599,2,      0.000,2,     95.405,2
09AR20110104,       SR03,     116,          1,         13,         13,2,20110126,       1935,   -66.6568,   146.1630,        178,    60.9,  -1.5048,  34.2790,2,-999.0000,9,    321.3,2,  -999.0,9, -999.00,9, -999.00,9,  -999.0,9,  -999.0,9, -999.00,9, -999.00,9,  -1.5061,     -999.0,     -999.0,9,     -999.0,      2.490,2,      0.000,2,     95.370,2
09AR20110104,       SR03,     116,          1,         12,         12,2,20110126,       1935,   -66.6568,   146.1630,        178,    60.9,  -1.5054,  34.2787,2,-999.0000,9,    321.3,2,  -999.0,9, -999.00,9, -999.00,9,  -999.0,9,  -999.0,9, -999.00,9, -999.00,9,  -1.5067,     -999.0,     -999.0,9,     -999.0,      2.809,2,      0.000,2,     95.627,2
09AR20110104,       SR03,     116,          1,         11,         11,2,20110126,       1935,   -66.6568,   146.1630,        178,    60.9,  -1.5054,  34.2785,2,-999.0000,9,    321.3,2,  -999.0,9, -999.00,9, -999.00,9,  -999.0,9,  -999.0,9, -999.00,9, -999.00,9,  -1.5067,     -999.0,     -999.0,9,     -999.0,      3.009,2,      0.000,2,     95.393,2
09AR20110104,       SR03,     116,          1,         10,         10,2,20110126,       1935,   -66.6568,   146.1630,        178,   124.5,  -1.5438,  34.3467,2,  34.3477,2,    310.7,2,   310.6,2,   71.00,2, -999.00,9,  2217.6,2,  2324.3,2, -999.00,9,   28.89,2,  -1.5466,     -999.0,     -999.0,9,     -999.0,      1.400,2,      0.000,2,     96.325,2
09AR20110104,       SR03,     116,          1,          9,          9,2,20110126,       1935,   -66.6568,   146.1630,        178,   124.4,  -1.5434,  34.3467,2,-999.0000,9,    310.7,2,  -999.0,9, -999.00,9, -999.00,9,  -999.0,9,  -999.0,9, -999.00,9, -999.00,9,  -1.5462,     -999.0,     -999.0,9,     -999.0,      1.622,2,      0.000,2,     96.489,2
09AR20110104,       SR03,     116,          1,          8,          8,2,20110126,       1935,   -66.6568,   146.1630,        178,   124.4,  -1.5436,  34.3467,2,-999.0000,9,    310.7,2,  -999.0,9, -999.00,9, -999.00,9,  -999.0,9,  -999.0,9, -999.00,9, -999.00,9,  -1.5464,     -999.0,     -999.0,9,     -999.0,      1.992,2,      0.000,2,     96.280,2
09AR20110104,       SR03,     116,          1,          7,          7,2,20110126,       1935,   -66.6568,   146.1630,        178,   124.5,  -1.5439,  34.3467,2,-999.0000,9,    310.7,2,  -999.0,9, -999.00,9, -999.00,9,  -999.0,9,  -999.0,9, -999.00,9, -999.00,9,  -1.5467,     -999.0,     -999.0,9,     -999.0,      1.572,2,      0.000,2,     96.277,2
09AR20110104,       SR03,     116,          1,          6,          6,2,20110126,       1935,   -66.6568,   146.1630,        178,   124.4,  -1.5447,  34.3474,2,-999.0000,9,    310.7,2,  -999.0,9, -999.00,9, -999.00,9,  -999.0,9,  -999.0,9, -999.00,9, -999.00,9,  -1.5475,     -999.0,     -999.0,9,     -999.0,      1.668,2,      0.000,2,     96.342,2
09AR20110104,       SR03,     116,          1,          5,          5,2,20110126,       1935,   -66.6568,   146.1630,        178,   124.4,  -1.5449,  34.3476,2,-999.0000,9,    310.7,2,  -999.0,9, -999.00,9, -999.00,9,  -999.0,9,  -999.0,9, -999.00,9, -999.00,9,  -1.5477,     -999.0,     -999.0,9,     -999.0,      1.704,2,      0.000,2,     96.337,2
09AR20110104,       SR03,     116,          1,          4,          4,2,20110126,       1935,   -66.6568,   146.1630,        178,   174.8,  -1.5880,  34.3852,2,  34.3841,2,    306.5,2,   306.3,2,   72.80,2,    2.00,2,  2224.0,2,  2327.7,2, -999.00,9,   29.47,2,  -1.5920,     -999.0,     -999.0,9,     -999.0,      1.150,2,      0.000,2,     96.819,2
09AR20110104,       SR03,     116,          1,          3,          3,2,20110126,       1935,   -66.6568,   146.1630,        178,   174.8,  -1.5861,  34.3845,2,-999.0000,9,    306.5,2,  -999.0,9, -999.00,9, -999.00,9,  -999.0,9,  -999.0,9, -999.00,9, -999.00,9,  -1.5901,     -999.0,     -999.0,9,     -999.0,      1.096,2,      0.000,2,     96.782,2
09AR20110104,       SR03,     116,          1,          2,        102,2,20110126,       1935,   -66.6568,   146.1630,        178,   174.8,  -1.5886,  34.3856,2,-999.0000,9,    306.5,2,  -999.0,9, -999.00,9, -999.00,9,  -999.0,9,  -999.0,9, -999.00,9, -999.00,9,  -1.5925,     -999.0,     -999.0,9,     -999.0,      1.116,2,      0.000,2,     96.815,2
09AR20110104,       SR03,     116,          1,          1,          1,2,20110126,       1935,   -66.6568,   146.1630,        178,   175.5,  -1.5890,  34.3858,2,-999.0000,9,    306.5,2,  -999.0,9, -999.00,9, -999.00,9,  -999.0,9,  -999.0,9, -999.00,9, -999.00,9,  -1.5930,     -999.0,     -999.0,9,     -999.0,      0.989,2,      0.000,2,     96.832,2
09AR20110104,       SR03,     117,          1,         24,         24,2,20110126,       2036,   -66.7078,   146.1690,        384,     9.2,  -0.4933,  33.6204,2,-999.0000,9,   -999.0,5,  -999.0,9, -999.00,9, -999.00,9,  -999.0,9,  -999.0,9, -999.00,9, -999.00,9,  -0.4936,     -999.0,     -999.0,9,     -999.0,     16.172,2,     26.389,2,     82.784,2
09AR20110104,       SR03,     117,          1,         23,         23,2,20110126,       2036,   -66.7078,   146.1690,        384,     9.2,  -0.5535,  33.6378,2,  33.6670,2,   -999.0,5,  -999.0,9,   46.30,2,    1.11,2,  -999.0,9,  -999.0,9, -999.00,9,   15.11,2,  -0.5538,     -999.0,     -999.0,9,     -999.0,     13.774,2,     27.299,2,     84.009,2
09AR20110104,       SR03,     117,          1,         22,         22,2,20110126,       2036,   -66.7078,   146.1690,        384,    51.5,  -1.2643,  34.0810,2,-999.0000,9,    347.4,2,  -999.0,9, -999.00,9, -999.00,9,  -999.0,9,  -999.0,9, -999.00,9, -999.00,9,  -1.2655,     -999.0,     -999.0,9,     -999.0,      3.787,2,      0.000,2,     94.295,2
09AR20110104,       SR03,     117,          1,         21,         21,2,20110126,       2036,   -66.7078,   146.1690,        384,    51.5,  -1.2644,  34.0805,2,-999.0000,9,    347.4,2,  -999.0,9, -999.00,9, -999.00,9,  -999.0,9,  -999.0,9, -999.00,9, -999.00,9,  -1.2656,     -999.0,     -999.0,9,     -999.0,      3.509,2,      0.000,2,     94.345,2
09AR20110104,       SR03,     117,          1,         20,         20,2,20110126,       2036,   -66.7078,   146.1690,        384,    51.5,  -1.2641,  34.0811,2,  34.0826,2,    347.4,2,   346.9,2,   60.40,2,    1.71,2,  -999.0,9,  -999.0,9, -999.00,9,   24.33,2,  -1.2653,     -999.0,     -999.0,9,     -999.0,      3.755,2,      0.000,2,     94.966,2
09AR20110104,       SR03,     117,          1,         19,         19,2,20110126,       2036,   -66.7078,   146.1690,        384,    51.5,  -1.2641,  34.0807,2,-999.0000,9,    347.4,2,  -999.0,9, -999.00,9, -999.00,9,  -999.0,9,  -999.0,9, -999.00,9, -999.00,9,  -1.2653,     -999.0,     -999.0,9,     -999.0,      3.415,2,      0.000,2,     94.842,2
09AR20110104,       SR03,     117,          1,         18,         18,2,20110126,       2036,   -66.7078,   146.1690,        384,   126.2,  -1.6165,  34.3361,2,-999.0000,9,    312.4,2,  -999.0,9, -999.00,9, -999.00,9,  -999.0,9,  -999.0,9, -999.00,9, -999.00,9,  -1.6192,     -999.0,     -999.0,9,     -999.0,      1.368,2,      0.000,2,     96.702,2
09AR20110104,       SR03,     117,          1,         17,         17,2,20110126,       2036,   -66.7078,   146.1690,        384,   126.2,  -1.6107,  34.3368,2,-999.0000,9,    312.4,2,  -999.0,9, -999.00,9, -999.00,9,  -999.0,9,  -999.0,9, -999.00,9, -999.00,9,  -1.6135,     -999.0,     -999.0,9,     -999.0,      1.327,2,      0.000,2,     96.843,2
09AR20110104,       SR03,     117,          1,         16,         16,2,20110126,       2036,   -66.7078,   146.1690,        384,   126.0,  -1.6108,  34.3370,2,  34.3473,2,    312.4,2,   312.0,2,   70.90,2,    1.99,2,  -999.0,9,  -999.0,9, -999.00,9,   29.07,2,  -1.6136,     -999.0,     -999.0,9,     -999.0,      1.277,2,      0.000,2,     96.759,2
09AR20110104,       SR03,     117,          1,         15,         15,2,20110126,       2036,   -66.7078,   146.1690,        384,   126.0,  -1.6095,  34.3393,2,-999.0000,9,    312.4,2,  -999.0,9, -999.00,9, -999.00,9,  -999.0,9,  -999.0,9, -999.00,9, -999.00,9,  -1.6123,     -999.0,     -999.0,9,     -999.0,      1.192,2,      0.000,2,     96.950,2
09AR20110104,       SR03,     117,          1,         14,         14,2,20110126,       2036,   -66.7078,   146.1690,        384,   201.9,  -1.6702,  34.4154,2,  34.4164,2,    302.8,2,   302.8,2,   74.10,2,    2.04,2,  2228.4,2,  2325.0,2, -999.00,9,   30.19,2,  -1.6747,     -999.0,     -999.0,9,     -999.0,      0.960,2,      0.000,2,     97.645,2
09AR20110104,       SR03,     117,          1,         13,         13,2,20110126,       2036,   -66.7078,   146.1690,        384,   201.8,  -1.6715,  34.4152,2,-999.0000,9,    302.8,2,  -999.0,9, -999.00,9, -999.00,9,  -999.0,9,  -999.0,9, -999.00,9, -999.00,9,  -1.6760,     -999.0,     -999.0,9,     -999.0,      0.777,2,      0.000,2,     97.559,2
09AR20110104,       SR03,     117,          1,         12,         12,2,20110126,       2036,   -66.7078,   146.1690,        384,   201.8,  -1.6718,  34.4152,2,-999.0000,9,    302.8,2,  -999.0,9, -999.00,9, -999.00,9,  -999.0,9,  -999.0,9, -999.00,9, -999.00,9,  -1.6763,     -999.0,     -999.0,9,     -999.0,      0.836,2,      0.000,2,     97.470,2
09AR20110104,       SR03,     117,          1,         11,         11,2,20110126,       2036,   -66.7078,   146.1690,        384,   201.7,  -1.6722,  34.4154,2,-999.0000,9,    302.8,2,  -999.0,9, -999.00,9, -999.00,9,  -999.0,9,  -999.0,9, -999.00,9, -999.00,9,  -1.6767,     -999.0,     -999.0,9,     -999.0,      0.838,2,      0.000,2,     97.485,2
09AR20110104,       SR03,     117,          1,         10,         10,2,20110126,       2036,   -66.7078,   146.1690,        384,   302.0,  -1.6522,  34.4550,2,-999.0000,9,    298.4,2,  -999.0,9, -999.00,9, -999.00,9,  -999.0,9,  -999.0,9, -999.00,9, -999.00,9,  -1.6593,     -999.0,     -999.0,9,     -999.0,      0.280,2,      0.000,2,     98.426,2
09AR20110104,       SR03,     117,          1,          9,          9,2,20110126,       2036,   -66.7078,   146.1690,        384,   302.0,  -1.6521,  34.4550,2,-999.0000,9,    298.4,2,  -999.0,9, -999.00,9, -999.00,9,  -999.0,9,  -999.0,9, -999.00,9, -999.00,9,  -1.6592,     -999.0,     -999.0,9,     -999.0,      0.295,2,      0.000,2,     98.421,2
09AR20110104,       SR03,     117,          1,          8,          8,2,20110126,       2036,   -66.7078,   146.1690,        384,   302.0,  -1.6533,  34.4559,2,  34.4560,2,    298.4,2,   298.1,2,   75.90,2,    2.05,2,  2230.8,2,  2327.4,2, -999.00,9,   30.86,2,  -1.6604,     -999.0,     -999.0,9,     -999.0,      0.280,2,      0.000,2,     98.385,2
09AR20110104,       SR03,     117,          1,          7,          7,2,20110126,       2036,   -66.7078,   146.1690,        384,   302.0,  -1.6525,  34.4552,2,-999.0000,9,    298.4,2,  -999.0,9, -999.00,9, -999.00,9,  -999.0,9,  -999.0,9, -999.00,9, -999.00,9,  -1.6596,     -999.0,     -999.0,9,     -999.0,      0.306,2,      0.000,2,     98.285,2
09AR20110104,       SR03,     117,          1,          6,          6,2,20110126,       2036,   -66.7078,   146.1690,        384,   302.0,  -1.6522,  34.4552,2,-999.0000,9,    298.4,2,  -999.0,9, -999.00,9, -999.00,9,  -999.0,9,  -999.0,9, -999.00,9, -999.00,9,  -1.6593,     -999.0,     -999.0,9,     -999.0,      0.278,2,      0.000,2,     98.360,2
09AR20110104,       SR03,     117,          1,          5,          5,2,20110126,       2036,   -66.7078,   146.1690,        384,   302.0,  -1.6526,  34.4555,2,-999.0000,9,    298.4,2,  -999.0,9, -999.00,9, -999.00,9,  -999.0,9,  -999.0,9, -999.00,9, -999.00,9,  -1.6597,     -999.0,     -999.0,9,     -999.0,      0.317,2,      0.000,2,     98.376,2
09AR20110104,       SR03,     117,          1,          4,          4,2,20110126,       2036,   -66.7078,   146.1690,        384,   378.2,  -1.8947,  34.5749,2,  34.5756,2,    303.2,2,   303.1,2,   76.50,2,    2.06,2,  2239.6,6,  2337.1,6, -999.00,9,   30.98,2,  -1.9031,     -999.0,     -999.0,9,     -999.0,      0.079,2,      0.000,2,     98.219,2
09AR20110104,       SR03,     117,          1,          3,          3,2,20110126,       2036,   -66.7078,   146.1690,        384,   378.3,  -1.8946,  34.5748,2,-999.0000,9,    303.2,2,  -999.0,9, -999.00,9, -999.00,9,  -999.0,9,  -999.0,9, -999.00,9, -999.00,9,  -1.9030,     -999.0,     -999.0,9,     -999.0,      0.061,2,      0.000,2,     98.240,2
09AR20110104,       SR03,     117,          1,          2,        102,2,20110126,       2036,   -66.7078,   146.1690,        384,   377.8,  -1.8946,  34.5748,2,-999.0000,9,    303.2,2,  -999.0,9, -999.00,9, -999.00,9,  -999.0,9,  -999.0,9, -999.00,9, -999.00,9,  -1.9030,     -999.0,     -999.0,9,     -999.0,      0.047,2,      0.000,2,     98.200,2
09AR20110104,       SR03,     117,          1,          1,          1,2,20110126,       2036,   -66.7078,   146.1690,        384,   377.5,  -1.8946,  34.5748,2,-999.0000,9,    303.2,2,  -999.0,9, -999.00,9, -999.00,9,  -999.0,9,  -999.0,9, -999.00,9, -999.00,9,  -1.9030,     -999.0,     -999.0,9,     -999.0,      0.079,2,      0.000,2,     98.220,2