BOTTLE,20230419CCHSIOENA
EXPOCODE,SECT_ID,STNNBR,CASTNO,SAMPNO,BTLNBR,BTLNBR_FLAG_W,DATE,TIME,LATITUDE,LONGITUDE,DEPTH,CTDPRS,CTDTMP,CTDSAL,CTDSAL_FLAG_W,SALNTY,SALNTY_FLAG_W,CTDOXY,CTDOXY_FLAG_W,OXYGEN,OXYGEN_FLAG_W,SILCAT,SILCAT_FLAG_W,PHSPHT,PHSPHT_FLAG_W,TCARBN,TCARBN_FLAG_W,ALKALI,ALKALI_FLAG_W,DELO18,DELO18_FLAG_W,NO2+NO3,NO2+NO3_FLAG_W,THETA,O18ERR,DELD,DELD_FLAG_W,DELDERR,CTDFLUOR,CTDFLUOR_FLAG_W,PAR,PAR_FLAG_W,CTDXMISS,CTDXMISS_FLAG_W
,,,,,,,,,,,METERS,DBAR,ITS-90,PSS-78,,PSS-78,,UMOL/KG,,UMOL/KG,,UMOL/KG,,UMOL/KG,,UMOL/KG,,UMOL/KG,,/MILLE,,UMOL/KG,,DEG C,/MILLE,/MILLE,,/MILLE,MG/M^3,,UMOL/M^2/SEC,,%TRANS,
09AR20110104,       SR03,      42,          1,         24,         24,2,20110115,       1544,   -61.8542,   139.8630,       4264,     8.9,   1.2996,  33.8197,2,  33.8218,2,    353.3,2,   353.2,2,   20.30,2,    1.55,2,  2146.6,6,  2285.3,6, -999.00,9,   24.71,2,   1.2992,     -999.0,     -999.0,9,     -999.0,      5.322,2,     10.389,2,     89.128,2
09AR20110104,       SR03,      42,          1,         23,         23,2,20110115,       1544,   -61.8542,   139.8630,       4264,    45.8,  -0.5148,  33.9655,2,  33.9666,2,    344.3,2,   350.0,2,   29.90,2,    1.96,2,  2175.3,2,  2291.1,2, -999.00,9,   27.58,2,  -0.5162,     -999.0,     -999.0,9,     -999.0,      1.431,2,      0.207,2,     97.137,2
09AR20110104,       SR03,      42,          1,         22,         22,2,20110115,       1544,   -61.8542,   139.8630,       4264,    90.0,  -0.3771,  34.0267,2,  34.0254,2,    337.8,2,   335.3,2,   35.90,2,    2.05,2,  2187.0,2,  2296.0,2, -999.00,9,   28.58,2,  -0.3799,     -999.0,     -999.0,9,     -999.0,      0.431,2,      0.000,2,     98.596,2
09AR20110104,       SR03,      42,          1,         21,         21,2,20110115,       1544,   -61.8542,   139.8630,       4264,   147.3,   1.8659,  34.4279,2,  34.4276,2,    193.6,2,   191.8,2,   66.30,2,    2.41,2,  2247.9,2,  2314.8,2, -999.00,9,   34.80,2,   1.8583,     -999.0,     -999.0,9,     -999.0,      0.023,2,      0.000,2,     99.153,2
09AR20110104,       SR03,      42,          1,         20,         20,2,20110115,       1544,   -61.8542,   139.8630,       4264,   202.7,   2.1288,  34.5127,2,  34.5139,2,    176.5,2,   176.1,2,   71.80,2,    2.39,2,  2256.4,2,  2322.1,2, -999.00,9,   34.75,2,   2.1178,     -999.0,     -999.0,9,     -999.0,      0.000,2,      0.000,2,     99.224,2
09AR20110104,       SR03,      42,          1,         19,         19,2,20110115,       1544,   -61.8542,   139.8630,       4264,   298.7,   2.2053,  34.5951,2,  34.5968,2,    171.6,2,   172.0,2,   76.20,2,    2.34,2,  2257.3,2,  2330.5,2, -999.00,9,   33.95,2,   2.1886,     -999.0,     -999.0,9,     -999.0,      0.001,2,      0.000,2,     99.277,2
09AR20110104,       SR03,      42,          1,         18,         18,2,20110115,       1544,   -61.8542,   139.8630,       4264,   400.2,   2.1523,  34.6414,2,  34.6425,2,    174.1,2,   175.2,2,   78.30,2,    2.30,2,  2255.2,2,  2335.7,2, -999.00,9,   33.13,2,   2.1297,     -999.0,     -999.0,9,     -999.0,     -0.004,2,      0.000,2,     99.296,2
09AR20110104,       SR03,      42,          1,         17,         17,2,20110115,       1544,   -61.8542,   139.8630,       4264,   501.0,   2.1172,  34.6750,2,  34.6767,2,    177.9,2,   178.8,2,   79.70,2,    2.23,2,  2250.6,2,  2338.7,6, -999.00,9,   32.36,2,   2.0886,     -999.0,     -999.0,9,     -999.0,     -0.003,2,      0.000,2,     99.322,2
09AR20110104,       SR03,      42,          1,         16,         16,2,20110115,       1544,   -61.8542,   139.8630,       4264,   602.0,   2.0660,  34.7033,2,  34.7040,2,    181.9,2,   182.3,2,   81.20,2,    2.20,2,  -999.0,9,  -999.0,9, -999.00,9,   31.77,2,   2.0313,     -999.0,     -999.0,9,     -999.0,     -0.005,2,      0.000,2,     99.355,2
09AR20110104,       SR03,      42,          1,         15,         15,2,20110115,       1544,   -61.8542,   139.8630,       4264,   699.2,   1.9914,  34.7200,2,  34.7209,2,    185.0,2,   185.6,2,   82.80,2,    2.16,2,  -999.0,9,  -999.0,9, -999.00,9,   31.35,2,   1.9509,     -999.0,     -999.0,9,     -999.0,     -0.008,2,      0.000,2,     99.371,2
09AR20110104,       SR03,      42,          1,         14,         14,2,20110115,       1544,   -61.8542,   139.8630,       4264,   852.3,   1.9129,  34.7380,2,  34.7385,2,    190.2,2,   190.5,2,   85.10,2,    2.12,2,  -999.0,9,  -999.0,9, -999.00,9,   30.73,2,   1.8630,     -999.0,     -999.0,9,     -999.0,     -0.011,2,      0.000,2,     99.425,2
09AR20110104,       SR03,      42,          1,         13,         13,2,20110115,       1544,   -61.8542,   139.8630,       4264,   998.3,   1.7965,  34.7447,2,  34.7450,2,    193.9,2,   194.2,2,   87.90,2,    2.11,2,  2251.0,2,  2348.3,2, -999.00,9,   30.49,2,   1.7378,     -999.0,     -999.0,9,     -999.0,     -0.008,2,      0.000,2,     99.437,2
09AR20110104,       SR03,      42,          1,         12,         12,2,20110115,       1544,   -61.8542,   139.8630,       4264,  1199.6,   1.6374,  34.7463,2,  34.7472,2,    197.7,2,   197.8,2,   88.10,2,    2.11,2,  -999.0,9,  -999.0,9, -999.00,9,   30.52,2,   1.5664,     -999.0,     -999.0,9,     -999.0,     -0.012,2,      0.000,2,     99.473,2
09AR20110104,       SR03,      42,          1,         11,         11,2,20110115,       1544,   -61.8542,   139.8630,       4264,  1400.7,   1.4411,  34.7413,2,  34.7416,2,    200.4,2,   200.5,2,   97.60,2,    2.11,2,  -999.0,9,  -999.0,9, -999.00,9,   30.68,2,   1.3580,     -999.0,     -999.0,9,     -999.0,     -0.015,2,      0.000,2,     99.507,2
09AR20110104,       SR03,      42,          1,         10,         10,2,20110115,       1544,   -61.8542,   139.8630,       4264,  1601.8,   1.2618,  34.7345,2,  34.7347,2,    202.9,2,   203.0,2,  102.90,2,    2.14,2,  -999.0,9,  -999.0,9, -999.00,9,   30.95,2,   1.1664,     -999.0,     -999.0,9,     -999.0,     -0.015,2,      0.000,2,     99.518,2
09AR20110104,       SR03,      42,          1,          9,          9,2,20110115,       1544,   -61.8542,   139.8630,       4264,  1899.0,   1.0209,  34.7226,2,  34.7223,2,    206.0,2,   206.0,2,  110.30,2,    2.19,2,  -999.0,9,  -999.0,9, -999.00,9,   31.34,2,   0.9068,     -999.0,     -999.0,9,     -999.0,     -0.017,2,      0.000,2,     99.532,2
09AR20110104,       SR03,      42,          1,          8,          8,2,20110115,       1544,   -61.8542,   139.8630,       4264,  2202.8,   0.7924,  34.7101,2,  34.7101,2,    208.8,2,   208.8,2,  116.20,2,    2.21,2,  -999.0,9,  -999.0,9, -999.00,9,   31.76,2,   0.6586,     -999.0,     -999.0,9,     -999.0,     -0.017,2,      0.000,2,     99.541,2
09AR20110104,       SR03,      42,          1,          7,          7,2,20110115,       1544,   -61.8542,   139.8630,       4264,  2497.7,   0.5556,  34.6970,2,  34.6967,2,    212.5,2,   213.1,2,  120.60,2,    2.23,2,  2260.1,2,  2355.2,2, -999.00,9,   32.09,2,   0.4025,     -999.0,     -999.0,9,     -999.0,     -0.018,2,      0.000,2,     99.551,2
09AR20110104,       SR03,      42,          1,          6,          6,2,20110115,       1544,   -61.8542,   139.8630,       4264,  2897.7,   0.3243,  34.6875,2,  34.6872,2,    218.6,2,   219.2,2,  124.90,2,    2.24,2,  -999.0,9,  -999.0,9, -999.00,9,   32.20,2,   0.1424,     -999.0,     -999.0,9,     -999.0,     -0.020,2,      0.000,2,     99.557,2
09AR20110104,       SR03,      42,          1,          5,          5,2,20110115,       1544,   -61.8542,   139.8630,       4264,  3302.2,   0.2045,  34.6835,2,  34.6831,2,    223.3,2,   223.3,2,  130.70,2,    2.26,2,  -999.0,9,  -999.0,9, -999.00,9,   32.25,2,  -0.0105,     -999.0,     -999.0,9,     -999.0,     -0.024,2,      0.000,2,     99.532,2
09AR20110104,       SR03,      42,          1,          4,          4,2,20110115,       1544,   -61.8542,   139.8630,       4264,  3701.1,   0.0620,  34.6760,2,  34.6754,2,    229.1,2,   228.8,2,  132.30,2, -999.00,9,  -999.0,9,  -999.0,9, -999.00,9,   32.06,2,  -0.1866,     -999.0,     -999.0,9,     -999.0,     -0.022,2,      0.000,2,     99.523,2
09AR20110104,       SR03,      42,          1,          3,          3,2,20110115,       1544,   -61.8542,   139.8630,       4264,  4001.1,  -0.0852,  34.6634,2,  34.6620,2,    236.1,2,   236.4,2,  120.00,2,    2.24,2,  -999.0,9,  -999.0,9, -999.00,9,   32.10,2,  -0.3590,     -999.0,     -999.0,9,     -999.0,     -0.026,2,      0.000,2,     99.470,2
09AR20110104,       SR03,      42,          1,          2,        102,2,20110115,       1544,   -61.8542,   139.8630,       4264,  4248.5,  -0.1932,  34.6520,2,  34.6508,2,    241.3,2,   241.6,2,  113.50,2,    2.23,2,  -999.0,9,  -999.0,9, -999.00,9,   31.77,2,  -0.4886,     -999.0,     -999.0,9,     -999.0,     -0.030,2,      0.000,2,     99.281,2
09AR20110104,       SR03,      42,          1,          1,          1,2,20110115,       1544,   -61.8542,   139.8630,       4264,  4338.2,  -0.2453,  34.6454,2,  34.6437,2,    244.9,2,   244.7,2,  108.10,2,    2.20,2,  2254.8,2,  2346.9,2, -999.00,9,   31.40,2,  -0.5483,     -999.0,     -999.0,9,     -999.0,     -0.017,2,      0.000,2,     97.665,2
09AR20110104,       SR03,      43,          1,         24,         24,2,20110115,       2118,   -62.3452,   139.8440,       3924,    10.4,   0.9925,  33.7590,2,  33.7605,2,    355.7,2,   356.7,2, -999.00,9, -999.00,9,  2142.0,6,  2284.0,6,   -0.36,2, -999.00,9,   0.9921,       0.11,      -3.91,2,       0.20,      1.052,2,     52.859,2,     89.075,2
09AR20110104,       SR03,      43,          1,         23,         23,2,20110115,       2118,   -62.3452,   139.8440,       3924,    44.7,   0.9486,  33.7811,2,  33.7887,2,    355.3,2,   353.3,2,   25.90,2,    1.51,2,  2144.8,2,  2284.7,2, -999.00,9,   24.86,2,   0.9467,     -999.0,     -999.0,9,     -999.0,      8.041,2,      3.487,2,     86.887,2
09AR20110104,       SR03,      43,          1,         22,         22,2,20110115,       2118,   -62.3452,   139.8440,       3924,    72.5,  -0.8165,  34.1068,2,  34.1051,2,    321.2,2,   321.4,2,   48.30,2,    2.17,2,  2197.4,2,  2300.9,6,   -0.27,2,   29.81,2,  -0.8185,       0.05,      -3.13,2,       0.01,      0.597,2,      0.363,2,     98.081,2
09AR20110104,       SR03,      43,          1,         21,         21,2,20110115,       2118,   -62.3452,   139.8440,       3924,   153.8,   1.7331,  34.5616,2,  34.5611,2,    179.5,2,   181.7,2,   75.50,2,    2.36,2,  2255.4,2,  2328.6,2, -999.00,9,   34.34,2,   1.7253,     -999.0,     -999.0,9,     -999.0,      0.036,2,      0.000,2,     99.026,2
09AR20110104,       SR03,      43,          1,         20,         20,2,20110115,       2118,   -62.3452,   139.8440,       3924,   200.2,   1.9066,  34.5994,2,  34.6015,2,    178.0,2,   176.3,2,   77.10,2,    2.33,2,  2258.7,2,  2331.1,2, -999.00,9,   33.83,2,   1.8960,     -999.0,     -999.0,9,     -999.0,      0.018,2,      0.000,2,     99.110,2
09AR20110104,       SR03,      43,          1,         19,         19,2,20110115,       2118,   -62.3452,   139.8440,       3924,   300.2,   1.9415,  34.6581,2,  34.6581,2,    179.3,2,   178.5,2,   79.60,2,    2.27,2,  2255.1,2,  2337.9,2,   -0.03,2,   32.80,2,   1.9253,       0.08,      -1.37,2,       0.09,      0.001,2,      0.000,2,     99.201,2
09AR20110104,       SR03,      43,          1,         18,         18,2,20110115,       2118,   -62.3452,   139.8440,       3924,   400.6,   1.8912,  34.6861,2,  34.6858,2,    183.1,2,   183.1,2,   81.00,2,    2.21,2,  2255.0,2,  2340.7,2, -999.00,9,   32.15,2,   1.8694,     -999.0,     -999.0,9,     -999.0,     -0.005,2,      0.000,2,     99.298,2
09AR20110104,       SR03,      43,          1,         17,         17,2,20110115,       2118,   -62.3452,   139.8440,       3924,   501.0,   1.8937,  34.7128,2,  34.7135,2,    185.2,2,   185.3,2,   82.70,2,    2.18,2,  2252.7,2,  2345.3,2, -999.00,9,   31.55,2,   1.8659,     -999.0,     -999.0,9,     -999.0,     -0.008,2,      0.000,2,     99.324,2
09AR20110104,       SR03,      43,          1,         16,         16,2,20110115,       2118,   -62.3452,   139.8440,       3924,   601.4,   1.8743,  34.7284,2,  34.7290,2,    188.2,2,   188.1,2,   84.10,2,    2.14,2,  2251.8,2,  2344.3,6,   -0.12,2,   31.07,2,   1.8405,       0.02,      -1.76,2,       0.17,     -0.007,2,      0.000,2,     99.274,2
09AR20110104,       SR03,      43,          1,         15,         15,2,20110115,       2118,   -62.3452,   139.8440,       3924,   700.8,   1.8242,  34.7350,2,  34.7352,2,    190.9,2,   191.2,2,   85.20,2,    2.11,2,  2253.1,2,  2346.9,2, -999.00,9,   30.80,2,   1.7846,     -999.0,     -999.0,9,     -999.0,     -0.006,2,      0.000,2,     99.357,2
09AR20110104,       SR03,      43,          1,         14,         14,2,20110115,       2118,   -62.3452,   139.8440,       3924,   850.3,   1.7188,  34.7424,2,  34.7435,2,    194.6,2,   194.3,2,   88.00,2,    2.12,2,  2251.1,2,  2347.6,2, -999.00,9,   30.53,2,   1.6704,     -999.0,     -999.0,9,     -999.0,     -0.010,2,      0.000,2,     99.384,2
09AR20110104,       SR03,      43,          1,         13,         13,2,20110115,       2118,   -62.3452,   139.8440,       3924,  1001.7,   1.5971,  34.7427,2,  34.7436,2,    197.6,2,   196.9,2,   90.80,2,    2.12,2,  2252.7,2,  2349.2,2,   -0.06,2,   30.44,2,   1.5397,       0.05,      -1.34,2,       0.12,     -0.010,2,      0.000,2,     99.424,2
09AR20110104,       SR03,      43,          1,         12,         12,2,20110115,       2118,   -62.3452,   139.8440,       3924,  1199.7,   1.4242,  34.7399,2,  34.7409,2,    200.2,2,   200.0,2,   95.90,2,    2.11,2,  2252.6,6,  2351.4,6, -999.00,9,   30.49,2,   1.3552,     -999.0,     -999.0,9,     -999.0,     -0.015,2,      0.000,2,     99.475,2
09AR20110104,       SR03,      43,          1,         11,         11,2,20110115,       2118,   -62.3452,   139.8440,       3924,  1400.3,   1.2522,  34.7335,2,  34.7345,2,    202.1,2,   202.5,2,  100.90,2,    2.15,2,  2255.0,2,  2353.4,2, -999.00,9,   30.81,2,   1.1713,     -999.0,     -999.0,9,     -999.0,     -0.011,2,      0.000,2,     99.518,2
09AR20110104,       SR03,      43,          1,         10,         10,2,20110115,       2118,   -62.3452,   139.8440,       3924,  1599.4,   1.0895,  34.7259,2,  34.7263,2,    203.9,2,   204.7,2,  105.80,2,    2.18,2,  2258.2,2,  2354.6,2, -999.00,9,   31.11,2,   0.9965,     -999.0,     -999.0,9,     -999.0,     -0.017,2,      0.000,2,     99.514,2
09AR20110104,       SR03,      43,          1,          9,          9,2,20110115,       2118,   -62.3452,   139.8440,       3924,  1800.3,   0.9251,  34.7175,2,  34.7176,2,    205.9,2,   206.6,2,  110.70,2,    2.19,2,  2258.4,2,  2355.0,2,   -0.11,2,   31.33,2,   0.8198,       0.04,      -1.85,2,       0.14,     -0.016,2,      0.000,2,     99.520,2
09AR20110104,       SR03,      43,          1,          8,          8,2,20110115,       2118,   -62.3452,   139.8440,       3924,  2000.6,   0.7705,  34.7092,2,  34.7099,2,    208.5,2,   208.7,2,  114.70,2,    2.19,2,  2259.1,2,  2355.4,2, -999.00,9,   31.64,2,   0.6526,     -999.0,     -999.0,9,     -999.0,     -0.011,2,      0.000,2,     99.528,2
09AR20110104,       SR03,      43,          1,          7,          7,2,20110115,       2118,   -62.3452,   139.8440,       3924,  2298.9,   0.5475,  34.6970,2,  34.6969,2,    212.9,2,   213.2,2,  119.10,2,    2.24,2,  2260.2,2,  2354.7,2,   -0.08,2,   31.82,2,   0.4104,       0.14,      -1.98,2,       0.20,     -0.018,2,      0.000,2,     99.540,2
09AR20110104,       SR03,      43,          1,          6,          6,2,20110115,       2118,   -62.3452,   139.8440,       3924,  2600.6,   0.3727,  34.6899,2,  34.6896,2,    217.2,2,   217.6,2,  123.40,2,    2.24,2,  2260.5,2,  2356.2,6, -999.00,9,   31.99,2,   0.2147,     -999.0,     -999.0,9,     -999.0,     -0.023,2,      0.000,2,     99.543,2
09AR20110104,       SR03,      43,          1,          5,          5,2,20110115,       2118,   -62.3452,   139.8440,       3924,  2899.1,   0.2210,  34.6826,2,  34.6817,2,    221.9,2,   222.2,2,  124.00,2,    2.25,2,  2260.1,2,  2355.8,2, -999.00,9,   31.91,2,   0.0413,     -999.0,     -999.0,9,     -999.0,     -0.022,2,      0.000,2,     99.539,2
09AR20110104,       SR03,      43,          1,          4,          4,2,20110115,       2118,   -62.3452,   139.8440,       3924,  3299.4,   0.0779,  34.6771,2,  34.6768,2,    227.8,2,   227.3,2,  126.80,2,    2.24,2,  2260.1,2,  2354.9,2,   -0.14,2,   31.95,2,  -0.1337,       0.09,      -2.46,2,       0.15,     -0.024,2,      0.000,2,     99.520,2
09AR20110104,       SR03,      43,          1,          3,          3,2,20110115,       2118,   -62.3452,   139.8440,       3924,  3600.9,  -0.1379,  34.6604,2,  34.6599,2,    236.9,2,   236.7,2,  115.40,2,    2.21,2,  2257.2,2,  2350.8,2,   -0.16,2,   31.58,2,  -0.3716,       0.03,      -2.92,2,       0.07,     -0.026,2,      0.000,2,     99.467,2
09AR20110104,       SR03,      43,          1,          2,        102,2,20110115,       2118,   -62.3452,   139.8440,       3924,  3900.6,  -0.3328,  34.6405,2,  34.6392,2,    246.7,2,   246.8,2,  103.10,2,    2.18,2,  -999.0,9,  -999.0,9,   -0.23,2,   31.27,2,  -0.5895,       0.03,      -3.04,2,       0.12,     -0.025,2,      0.000,2,     99.225,2
09AR20110104,       SR03,      43,          1,          1,          1,2,20110115,       2118,   -62.3452,   139.8440,       3924,  3988.3,  -0.3332,  34.6394,2,  34.6384,2,    247.8,2,   247.4,2,  102.60,2,    2.19,2,  2253.8,6,  2345.6,6,   -0.32,2,   31.30,2,  -0.5984,       0.02,      -3.39,2,       0.03,     -0.021,2,      0.000,2,     98.587,2