BOTTLE,20230419CCHSIOENA
EXPOCODE,SECT_ID,STNNBR,CASTNO,SAMPNO,BTLNBR,BTLNBR_FLAG_W,DATE,TIME,LATITUDE,LONGITUDE,DEPTH,CTDPRS,CTDTMP,CTDSAL,CTDSAL_FLAG_W,SALNTY,SALNTY_FLAG_W,CTDOXY,CTDOXY_FLAG_W,OXYGEN,OXYGEN_FLAG_W,SILCAT,SILCAT_FLAG_W,PHSPHT,PHSPHT_FLAG_W,TCARBN,TCARBN_FLAG_W,ALKALI,ALKALI_FLAG_W,DELO18,DELO18_FLAG_W,NO2+NO3,NO2+NO3_FLAG_W,THETA,O18ERR,DELD,DELD_FLAG_W,DELDERR,CTDFLUOR,CTDFLUOR_FLAG_W,PAR,PAR_FLAG_W,CTDXMISS,CTDXMISS_FLAG_W
,,,,,,,,,,,METERS,DBAR,ITS-90,PSS-78,,PSS-78,,UMOL/KG,,UMOL/KG,,UMOL/KG,,UMOL/KG,,UMOL/KG,,UMOL/KG,,/MILLE,,UMOL/KG,,DEG C,/MILLE,/MILLE,,/MILLE,MG/M^3,,UMOL/M^2/SEC,,%TRANS,
09AR20110104,       SR03,      80,          1,         24,         24,2,20110122,       1038,   -66.3798,   143.2760,        710,     9.6,  -0.8527,  33.5580,2,  33.5540,2,    369.2,2,   369.9,2,   41.50,2,    1.09,2,  2115.0,6,  2277.4,6, -999.00,9,   19.23,2,  -0.8529,     -999.0,     -999.0,9,     -999.0,      9.952,2,      2.038,2,     86.274,2
09AR20110104,       SR03,      80,          1,         23,         23,2,20110122,       1038,   -66.3798,   143.2760,        710,     9.6,  -0.8446,  33.5530,2,-999.0000,9,    369.2,2,  -999.0,9, -999.00,9, -999.00,9,  -999.0,9,  -999.0,9, -999.00,9, -999.00,9,  -0.8448,     -999.0,     -999.0,9,     -999.0,     10.635,2,      2.023,2,     86.429,2
09AR20110104,       SR03,      80,          1,         22,         22,2,20110122,       1038,   -66.3798,   143.2760,        710,     9.6,  -0.8540,  33.5589,2,-999.0000,9,    369.2,2,  -999.0,9, -999.00,9, -999.00,9,  -999.0,9,  -999.0,9, -999.00,9, -999.00,9,  -0.8542,     -999.0,     -999.0,9,     -999.0,     10.387,2,      2.003,2,     86.503,2
09AR20110104,       SR03,      80,          1,         21,         21,2,20110122,       1038,   -66.3798,   143.2760,        710,     9.6,  -0.8577,  33.5621,2,-999.0000,9,    369.2,2,  -999.0,9, -999.00,9, -999.00,9,  -999.0,9,  -999.0,9, -999.00,9, -999.00,9,  -0.8579,     -999.0,     -999.0,9,     -999.0,      9.979,2,      1.981,2,     86.294,2
09AR20110104,       SR03,      80,          1,         20,         20,2,20110122,       1038,   -66.3798,   143.2760,        710,     9.6,  -0.8484,  33.5559,2,-999.0000,9,    369.2,2,  -999.0,9, -999.00,9, -999.00,9,  -999.0,9,  -999.0,9, -999.00,9, -999.00,9,  -0.8486,     -999.0,     -999.0,9,     -999.0,     10.412,2,      1.966,2,     86.505,2
09AR20110104,       SR03,      80,          1,         19,         19,2,20110122,       1038,   -66.3798,   143.2760,        710,     9.6,  -0.8429,  33.5520,2,-999.0000,9,    369.2,2,  -999.0,9, -999.00,9, -999.00,9,  -999.0,9,  -999.0,9, -999.00,9, -999.00,9,  -0.8431,     -999.0,     -999.0,9,     -999.0,     10.313,2,      1.937,2,     86.448,2
09AR20110104,       SR03,      80,          1,         18,         18,2,20110122,       1038,   -66.3798,   143.2760,        710,    60.1,  -1.4720,  34.2371,2,  34.2328,2,    327.9,2,   327.5,2,   65.40,2,    1.96,2,  2203.8,2,  2318.4,2, -999.00,9,   27.07,2,  -1.4733,     -999.0,     -999.0,9,     -999.0,      4.635,2,      0.000,2,     93.481,2
09AR20110104,       SR03,      80,          1,         17,         17,2,20110122,       1038,   -66.3798,   143.2760,        710,    60.1,  -1.4686,  34.2361,2,-999.0000,9,    327.9,2,  -999.0,9, -999.00,9, -999.00,9,  -999.0,9,  -999.0,9, -999.00,9, -999.00,9,  -1.4699,     -999.0,     -999.0,9,     -999.0,      4.373,2,      0.000,2,     93.349,2
09AR20110104,       SR03,      80,          1,         16,         16,2,20110122,       1038,   -66.3798,   143.2760,        710,    99.8,  -1.7178,  34.3229,2,  34.3235,2,    314.8,2,   315.1,2,   71.00,2,    2.04,2,  2215.8,2,  2323.1,6, -999.00,9,   29.15,2,  -1.7199,     -999.0,     -999.0,9,     -999.0,      0.923,2,      0.000,2,     97.620,2
09AR20110104,       SR03,      80,          1,         15,         15,2,20110122,       1038,   -66.3798,   143.2760,        710,    99.7,  -1.7194,  34.3226,2,-999.0000,9,    314.8,2,  -999.0,9, -999.00,9, -999.00,9,  -999.0,9,  -999.0,9, -999.00,9, -999.00,9,  -1.7215,     -999.0,     -999.0,9,     -999.0,      0.792,2,      0.000,2,     97.628,2
09AR20110104,       SR03,      80,          1,         14,         14,2,20110122,       1038,   -66.3798,   143.2760,        710,   200.2,  -1.7424,  34.4228,2,  34.4275,2,    306.7,2,   306.8,2,   75.40,2,    2.07,2,  2225.1,2,  2328.3,2, -999.00,9,   30.08,2,  -1.7467,     -999.0,     -999.0,9,     -999.0,      0.357,2,      0.000,2,     98.800,2
09AR20110104,       SR03,      80,          1,         13,         13,2,20110122,       1038,   -66.3798,   143.2760,        710,   200.2,  -1.7430,  34.4231,2,-999.0000,9,    306.7,2,  -999.0,9, -999.00,9, -999.00,9,  -999.0,9,  -999.0,9, -999.00,9, -999.00,9,  -1.7473,     -999.0,     -999.0,9,     -999.0,      0.410,2,      0.000,2,     98.756,2
09AR20110104,       SR03,      80,          1,         12,         12,2,20110122,       1038,   -66.3798,   143.2760,        710,   350.7,  -1.8488,  34.4948,2,  34.4952,2,    305.5,2,   306.1,2,   76.20,2,    2.08,2,  2231.4,2,  2334.0,2, -999.00,9,   30.46,2,  -1.8566,     -999.0,     -999.0,9,     -999.0,      0.050,2,      0.000,2,     99.206,2
09AR20110104,       SR03,      80,          1,         11,         11,2,20110122,       1038,   -66.3798,   143.2760,        710,   350.5,  -1.8457,  34.4953,2,-999.0000,9,    305.5,2,  -999.0,9, -999.00,9, -999.00,9,  -999.0,9,  -999.0,9, -999.00,9, -999.00,9,  -1.8535,     -999.0,     -999.0,9,     -999.0,      0.024,2,      0.000,2,     99.222,2
09AR20110104,       SR03,      80,          1,         10,         10,2,20110122,       1038,   -66.3798,   143.2760,        710,   499.2,  -1.9544,  34.5333,2,  34.5351,2,    307.2,2,   307.2,2,   76.20,2,    2.10,2,  2234.4,2,  2333.0,2, -999.00,9,   30.67,2,  -1.9658,     -999.0,     -999.0,9,     -999.0,      0.036,2,      0.000,2,     99.247,2
09AR20110104,       SR03,      80,          1,          9,          9,2,20110122,       1038,   -66.3798,   143.2760,        710,   499.3,  -1.9544,  34.5332,2,-999.0000,9,    307.2,2,  -999.0,9, -999.00,9, -999.00,9,  -999.0,9,  -999.0,9, -999.00,9, -999.00,9,  -1.9658,     -999.0,     -999.0,9,     -999.0,     -0.014,2,      0.000,2,     99.237,2
09AR20110104,       SR03,      80,          1,          8,          8,2,20110122,       1038,   -66.3798,   143.2760,        710,   650.0,  -1.8866,  34.6145,2,  34.6130,2,    306.7,2,   306.5,2,   76.30,2,    2.09,2,  2239.8,2,  2339.8,2, -999.00,9,   30.05,2,  -1.9029,     -999.0,     -999.0,9,     -999.0,     -0.040,2,      0.000,2,     97.914,2
09AR20110104,       SR03,      80,          1,          7,          7,2,20110122,       1038,   -66.3798,   143.2760,        710,   650.0,  -1.8865,  34.6141,2,-999.0000,9,    306.7,2,  -999.0,9, -999.00,9, -999.00,9,  -999.0,9,  -999.0,9, -999.00,9, -999.00,9,  -1.9028,     -999.0,     -999.0,9,     -999.0,     -0.003,2,      0.000,2,     97.909,2
09AR20110104,       SR03,      80,          1,          6,          6,2,20110122,       1038,   -66.3798,   143.2760,        710,   650.0,  -1.8865,  34.6143,2,-999.0000,9,    306.7,2,  -999.0,9, -999.00,9, -999.00,9,  -999.0,9,  -999.0,9, -999.00,9, -999.00,9,  -1.9028,     -999.0,     -999.0,9,     -999.0,      0.002,2,      0.000,2,     97.922,2
09AR20110104,       SR03,      80,          1,          5,          5,2,20110122,       1038,   -66.3798,   143.2760,        710,   649.9,  -1.8865,  34.6142,2,-999.0000,9,    306.7,2,  -999.0,9, -999.00,9, -999.00,9,  -999.0,9,  -999.0,9, -999.00,9, -999.00,9,  -1.9028,     -999.0,     -999.0,9,     -999.0,      0.003,2,      0.000,2,     97.926,2
09AR20110104,       SR03,      80,          1,          4,          4,2,20110122,       1038,   -66.3798,   143.2760,        710,   712.8,  -1.8879,  34.6262,2,-999.0000,9,    307.2,2,  -999.0,9, -999.00,9, -999.00,9,  -999.0,9,  -999.0,9, -999.00,9, -999.00,9,  -1.9062,     -999.0,     -999.0,9,     -999.0,      0.020,2,      0.000,2,     98.325,2
09AR20110104,       SR03,      80,          1,          3,          3,2,20110122,       1038,   -66.3798,   143.2760,        710,   712.5,  -1.8879,  34.6260,2,-999.0000,9,    307.2,2,  -999.0,9, -999.00,9, -999.00,9,  -999.0,9,  -999.0,9, -999.00,9, -999.00,9,  -1.9062,     -999.0,     -999.0,9,     -999.0,     -0.001,2,      0.000,2,     98.356,2
09AR20110104,       SR03,      80,          1,          2,        102,2,20110122,       1038,   -66.3798,   143.2760,        710,   707.5,  -1.8880,  34.6262,2,  34.6238,2,    307.2,2,   306.9,2,   76.20,2,    2.10,2,  -999.0,9,  -999.0,9, -999.00,9,   30.06,2,  -1.9062,     -999.0,     -999.0,9,     -999.0,     -0.024,2,      0.000,2,     98.277,2
09AR20110104,       SR03,      80,          1,          1,          1,2,20110122,       1038,   -66.3798,   143.2760,        710,   707.0,  -1.8879,  34.6260,2,-999.0000,9,    307.2,2,  -999.0,9, -999.00,9, -999.00,9,  -999.0,9,  -999.0,9, -999.00,9, -999.00,9,  -1.9060,     -999.0,     -999.0,9,     -999.0,     -0.010,2,      0.000,2,     98.305,2
09AR20110104,       SR03,      81,          1,         24,         24,2,20110122,       1319,   -66.3283,   143.7050,        551,    10.0,  -1.0947,  33.5740,2,  33.5868,2,    368.1,2,   368.8,2,   46.00,2,    1.25,2,  2122.5,2,  2280.4,2, -999.00,9,   20.60,2,  -1.0949,     -999.0,     -999.0,9,     -999.0,     10.142,2,      0.000,2,     85.892,2
09AR20110104,       SR03,      81,          1,         23,         23,2,20110122,       1319,   -66.3283,   143.7050,        551,    10.0,  -1.0937,  33.5759,2,-999.0000,9,    368.1,2,  -999.0,9, -999.00,9, -999.00,9,  -999.0,9,  -999.0,9, -999.00,9, -999.00,9,  -1.0939,     -999.0,     -999.0,9,     -999.0,     11.056,2,      0.000,2,     85.866,2
09AR20110104,       SR03,      81,          1,         22,         22,2,20110122,       1319,   -66.3283,   143.7050,        551,    10.0,  -1.0947,  33.5739,2,-999.0000,9,    368.1,2,  -999.0,9, -999.00,9, -999.00,9,  -999.0,9,  -999.0,9, -999.00,9, -999.00,9,  -1.0949,     -999.0,     -999.0,9,     -999.0,     10.699,2,      0.000,2,     85.665,2
09AR20110104,       SR03,      81,          1,         21,         21,2,20110122,       1319,   -66.3283,   143.7050,        551,    10.0,  -1.0923,  33.5780,2,-999.0000,9,    368.1,2,  -999.0,9, -999.00,9, -999.00,9,  -999.0,9,  -999.0,9, -999.00,9, -999.00,9,  -1.0925,     -999.0,     -999.0,9,     -999.0,     10.513,2,      0.000,2,     85.939,2
09AR20110104,       SR03,      81,          1,         20,         20,2,20110122,       1319,   -66.3283,   143.7050,        551,    10.0,  -1.0860,  33.5894,2,-999.0000,9,    368.1,2,  -999.0,9, -999.00,9, -999.00,9,  -999.0,9,  -999.0,9, -999.00,9, -999.00,9,  -1.0862,     -999.0,     -999.0,9,     -999.0,     11.616,2,      0.000,2,     86.070,2
09AR20110104,       SR03,      81,          1,         19,         19,2,20110122,       1319,   -66.3283,   143.7050,        551,    10.0,  -1.0916,  33.5970,2,-999.0000,9,    368.1,2,  -999.0,9, -999.00,9, -999.00,9,  -999.0,9,  -999.0,9, -999.00,9, -999.00,9,  -1.0918,     -999.0,     -999.0,9,     -999.0,     11.457,2,      0.000,2,     85.984,2
09AR20110104,       SR03,      81,          1,         18,         18,2,20110122,       1319,   -66.3283,   143.7050,        551,    60.7,  -1.7142,  34.3148,2,  34.3142,2,    320.2,2,   317.5,2,   69.70,2,    2.03,2,  2214.1,2,  2319.2,2, -999.00,9,   28.61,2,  -1.7154,     -999.0,     -999.0,9,     -999.0,      0.890,2,      0.000,2,     97.270,2
09AR20110104,       SR03,      81,          1,         17,         17,2,20110122,       1319,   -66.3283,   143.7050,        551,    60.5,  -1.7141,  34.3147,2,-999.0000,9,    320.2,2,  -999.0,9, -999.00,9, -999.00,9,  -999.0,9,  -999.0,9, -999.00,9, -999.00,9,  -1.7153,     -999.0,     -999.0,9,     -999.0,      1.454,2,      0.000,2,     97.302,2
09AR20110104,       SR03,      81,          1,         16,         16,2,20110122,       1319,   -66.3283,   143.7050,        551,   100.1,  -1.7681,  34.3555,2,  34.3617,2,    313.5,2,   313.6,2,   71.70,2,    2.04,2,  2219.8,2,  2321.7,6, -999.00,9,   29.11,2,  -1.7701,     -999.0,     -999.0,9,     -999.0,      0.449,2,      0.000,2,     98.336,2
09AR20110104,       SR03,      81,          1,         15,         15,2,20110122,       1319,   -66.3283,   143.7050,        551,   100.1,  -1.7680,  34.3554,2,-999.0000,9,    313.5,2,  -999.0,9, -999.00,9, -999.00,9,  -999.0,9,  -999.0,9, -999.00,9, -999.00,9,  -1.7700,     -999.0,     -999.0,9,     -999.0,      0.410,2,      0.000,2,     98.335,2
09AR20110104,       SR03,      81,          1,         14,         14,2,20110122,       1319,   -66.3283,   143.7050,        551,   150.4,  -1.7408,  34.4027,2,  34.4051,2,    307.5,2,   310.7,2,   74.60,2,    2.05,2,  -999.0,9,  -999.0,9, -999.00,9,   29.37,2,  -1.7440,     -999.0,     -999.0,9,     -999.0,      0.459,2,      0.000,2,     98.384,2
09AR20110104,       SR03,      81,          1,         13,         13,2,20110122,       1319,   -66.3283,   143.7050,        551,   150.4,  -1.7290,  34.4063,2,-999.0000,9,    307.5,2,  -999.0,9, -999.00,9, -999.00,9,  -999.0,9,  -999.0,9, -999.00,9, -999.00,9,  -1.7322,     -999.0,     -999.0,9,     -999.0,      0.371,2,      0.000,2,     98.385,2
09AR20110104,       SR03,      81,          1,         12,         12,2,20110122,       1319,   -66.3283,   143.7050,        551,   251.4,  -1.6574,  34.4749,2,  34.4785,2,    305.0,2,   302.8,2,   75.50,2,    2.09,2,  2231.0,2,  2331.5,2, -999.00,9,   29.91,2,  -1.6632,     -999.0,     -999.0,9,     -999.0,      0.167,2,      0.000,2,     98.897,2
09AR20110104,       SR03,      81,          1,         11,         11,2,20110122,       1319,   -66.3283,   143.7050,        551,   251.3,  -1.6588,  34.4751,2,-999.0000,9,    305.0,2,  -999.0,9, -999.00,9, -999.00,9,  -999.0,9,  -999.0,9, -999.00,9, -999.00,9,  -1.6646,     -999.0,     -999.0,9,     -999.0,      0.149,2,      0.000,2,     98.853,2
09AR20110104,       SR03,      81,          1,         10,         10,2,20110122,       1319,   -66.3283,   143.7050,        551,   350.4,  -1.8486,  34.5137,2,  34.5142,2,    306.8,2,   307.9,2,   74.70,2,    2.09,2,  2232.7,2,  2335.1,2, -999.00,9,   29.92,2,  -1.8564,     -999.0,     -999.0,9,     -999.0,      0.055,2,      0.000,2,     99.208,2
09AR20110104,       SR03,      81,          1,          9,          9,2,20110122,       1319,   -66.3283,   143.7050,        551,   350.4,  -1.8481,  34.5136,2,-999.0000,9,    306.8,2,  -999.0,9, -999.00,9, -999.00,9,  -999.0,9,  -999.0,9, -999.00,9, -999.00,9,  -1.8559,     -999.0,     -999.0,9,     -999.0,      0.064,2,      0.000,2,     99.210,2
09AR20110104,       SR03,      81,          1,          8,          8,2,20110122,       1319,   -66.3283,   143.7050,        551,   450.3,  -1.8722,  34.5622,2,  34.5651,2,    307.7,2,   307.2,2,   75.00,2,    2.08,2,  2235.0,2,  2336.9,2, -999.00,9,   30.04,2,  -1.8826,     -999.0,     -999.0,9,     -999.0,      0.002,2,      0.000,2,     99.234,2
09AR20110104,       SR03,      81,          1,          7,          7,2,20110122,       1319,   -66.3283,   143.7050,        551,   450.3,  -1.8726,  34.5623,2,-999.0000,9,    307.7,2,  -999.0,9, -999.00,9, -999.00,9,  -999.0,9,  -999.0,9, -999.00,9, -999.00,9,  -1.8830,     -999.0,     -999.0,9,     -999.0,      0.003,2,      0.000,2,     99.232,2
09AR20110104,       SR03,      81,          1,          6,          6,2,20110122,       1319,   -66.3283,   143.7050,        551,   450.2,  -1.8731,  34.5624,2,-999.0000,9,    307.7,2,  -999.0,9, -999.00,9, -999.00,9,  -999.0,9,  -999.0,9, -999.00,9, -999.00,9,  -1.8835,     -999.0,     -999.0,9,     -999.0,      0.002,2,      0.000,2,     99.222,2
09AR20110104,       SR03,      81,          1,          5,          5,2,20110122,       1319,   -66.3283,   143.7050,        551,   450.1,  -1.8737,  34.5625,2,-999.0000,9,    307.7,2,  -999.0,9, -999.00,9, -999.00,9,  -999.0,9,  -999.0,9, -999.00,9, -999.00,9,  -1.8841,     -999.0,     -999.0,9,     -999.0,     -0.034,2,      0.000,2,     99.237,2
09AR20110104,       SR03,      81,          1,          4,          4,2,20110122,       1319,   -66.3283,   143.7050,        551,   553.0,  -1.8888,  34.6008,2,-999.0000,9,    307.1,2,  -999.0,9, -999.00,9, -999.00,9,  -999.0,9,  -999.0,9, -999.00,9, -999.00,9,  -1.9021,     -999.0,     -999.0,9,     -999.0,      0.001,2,      0.000,2,     98.981,2
09AR20110104,       SR03,      81,          1,          3,          3,2,20110122,       1319,   -66.3283,   143.7050,        551,   553.0,  -1.8887,  34.6009,2,-999.0000,9,    307.1,2,  -999.0,9, -999.00,9, -999.00,9,  -999.0,9,  -999.0,9, -999.00,9, -999.00,9,  -1.9020,     -999.0,     -999.0,9,     -999.0,     -0.007,2,      0.000,2,     98.972,2
09AR20110104,       SR03,      81,          1,          2,        102,2,20110122,       1319,   -66.3283,   143.7050,        551,   547.4,  -1.8897,  34.6010,2,  34.5989,2,    307.0,2,   306.8,2,   75.90,2,    2.09,2,  -999.0,9,  -999.0,9, -999.00,9,   30.18,2,  -1.9029,     -999.0,     -999.0,9,     -999.0,     -0.045,2,      0.000,2,     98.961,2
09AR20110104,       SR03,      81,          1,          1,          1,2,20110122,       1319,   -66.3283,   143.7050,        551,   547.4,  -1.8897,  34.6009,2,-999.0000,9,    307.0,2,  -999.0,9, -999.00,9, -999.00,9,  -999.0,9,  -999.0,9, -999.00,9, -999.00,9,  -1.9029,     -999.0,     -999.0,9,     -999.0,     -0.008,2,      0.000,2,     98.951,2