BOTTLE,20230419CCHSIOENA
EXPOCODE,SECT_ID,STNNBR,CASTNO,SAMPNO,BTLNBR,BTLNBR_FLAG_W,DATE,TIME,LATITUDE,LONGITUDE,DEPTH,CTDPRS,CTDTMP,CTDSAL,CTDSAL_FLAG_W,SALNTY,SALNTY_FLAG_W,CTDOXY,CTDOXY_FLAG_W,OXYGEN,OXYGEN_FLAG_W,SILCAT,SILCAT_FLAG_W,PHSPHT,PHSPHT_FLAG_W,TCARBN,TCARBN_FLAG_W,ALKALI,ALKALI_FLAG_W,DELO18,DELO18_FLAG_W,NO2+NO3,NO2+NO3_FLAG_W,THETA,O18ERR,DELD,DELD_FLAG_W,DELDERR,CTDFLUOR,CTDFLUOR_FLAG_W,PAR,PAR_FLAG_W,CTDXMISS,CTDXMISS_FLAG_W
,,,,,,,,,,,METERS,DBAR,ITS-90,PSS-78,,PSS-78,,UMOL/KG,,UMOL/KG,,UMOL/KG,,UMOL/KG,,UMOL/KG,,UMOL/KG,,/MILLE,,UMOL/KG,,DEG C,/MILLE,/MILLE,,/MILLE,MG/M^3,,UMOL/M^2/SEC,,%TRANS,
09AR20110104,       SR03,      26,          1,         24,         24,2,20110111,       0915,   -53.1342,   142.1360,       3075,     9.6,   6.2009,  33.9399,2,  33.9394,2,    308.5,2,   308.8,2,    4.90,2,    1.55,2,  2123.9,6,  2275.3,6, -999.00,9,   22.46,2,   6.2001,     -999.0,     -999.0,9,     -999.0,      0.342,2,      0.001,2,     98.212,2
09AR20110104,       SR03,      26,          1,         23,         23,2,20110111,       0915,   -53.1342,   142.1360,       3075,    48.8,   5.7473,  33.9382,2,  33.9384,2,    310.2,2,   308.6,2,    4.90,2,    1.56,2,  2124.3,2,  2274.9,2, -999.00,9,   22.45,2,   5.7433,     -999.0,     -999.0,9,     -999.0,      0.486,2,      0.000,2,     98.037,2
09AR20110104,       SR03,      26,          1,         22,         22,2,20110111,       0915,   -53.1342,   142.1360,       3075,   100.9,   4.5889,  33.9533,2,-999.0000,9,    310.9,2,   312.3,2,    6.80,2,    1.65,2,  2132.3,2,  2275.7,6, -999.00,9,   23.17,2,   4.5816,     -999.0,     -999.0,9,     -999.0,      1.031,2,      0.000,2,     97.964,2
09AR20110104,       SR03,      26,          1,         21,         21,2,20110111,       0915,   -53.1342,   142.1360,       3075,   149.0,   3.9337,  33.9925,2,  33.9950,2,    302.1,2,   302.8,2,   10.90,2,    1.74,2,  2144.6,2,  -999.0,9, -999.00,9,   25.16,2,   3.9236,     -999.0,     -999.0,9,     -999.0,      0.131,2,      0.000,2,     99.200,2
09AR20110104,       SR03,      26,          1,         20,         20,2,20110111,       0915,   -53.1342,   142.1360,       3075,   200.1,   3.8666,  34.0281,2,  34.0299,2,    291.3,2,   291.0,2,   13.00,2,    1.79,2,  2152.4,2,  2276.3,2, -999.00,9,   25.91,2,   3.8531,     -999.0,     -999.0,9,     -999.0,     -0.004,2,      0.000,2,     99.384,2
09AR20110104,       SR03,      26,          1,         19,         19,2,20110111,       0915,   -53.1342,   142.1360,       3075,   299.8,   3.9227,  34.1648,2,  34.1637,2,    254.0,2,   251.0,2,   22.10,2,    1.96,2,  2176.4,2,  2285.0,6, -999.00,9,   28.65,2,   3.9020,     -999.0,     -999.0,9,     -999.0,     -0.016,2,      0.000,2,     99.340,2
09AR20110104,       SR03,      26,          1,         18,         18,2,20110111,       0915,   -53.1342,   142.1360,       3075,   400.2,   3.4120,  34.2107,2,  34.2125,2,    234.1,2,   235.0,2,   30.50,2,    2.10,2,  2193.4,2,  2290.6,2, -999.00,9,   30.54,2,   3.3856,     -999.0,     -999.0,9,     -999.0,     -0.012,2,      0.000,2,     99.420,2
09AR20110104,       SR03,      26,          1,         17,         17,2,20110111,       0915,   -53.1342,   142.1360,       3075,   500.0,   3.0891,  34.2764,2,  34.2874,2,    215.7,2,   214.4,2,   41.30,2,    2.22,2,  2210.9,2,  2300.6,2, -999.00,9,   32.24,2,   3.0570,     -999.0,     -999.0,9,     -999.0,     -0.010,2,      0.000,2,     99.455,2
09AR20110104,       SR03,      26,          1,         16,         16,2,20110111,       0915,   -53.1342,   142.1360,       3075,   600.2,   2.9903,  34.3631,2,  34.3651,2,    197.9,2,   197.5,2,   49.70,2,    2.30,2,  -999.0,9,  -999.0,9, -999.00,9,   33.08,2,   2.9516,     -999.0,     -999.0,9,     -999.0,     -0.013,2,      0.000,2,     99.524,2
09AR20110104,       SR03,      26,          1,         15,         15,2,20110111,       0915,   -53.1342,   142.1360,       3075,   698.4,   2.8694,  34.4256,2,  34.4248,2,    186.9,2,   186.3,2,   56.80,2,    2.33,2,  2234.3,2,  2317.3,2, -999.00,9,   33.56,2,   2.8245,     -999.0,     -999.0,9,     -999.0,     -0.010,2,      0.000,2,     99.547,2
09AR20110104,       SR03,      26,          1,         14,         14,2,20110111,       0915,   -53.1342,   142.1360,       3075,   799.0,   2.6967,  34.4817,2,  34.4856,2,    178.8,2,   179.2,2,   62.90,2,    2.34,2,  -999.0,9,  -999.0,9, -999.00,9,   33.68,2,   2.6456,     -999.0,     -999.0,9,     -999.0,     -0.008,2,      0.000,2,     99.581,2
09AR20110104,       SR03,      26,          1,         13,         13,2,20110111,       0915,   -53.1342,   142.1360,       3075,   899.4,   2.6375,  34.5369,2,  34.5372,2,    175.8,2,   175.5,2,   67.20,2,    2.34,2,  2248.9,2,  2327.9,2, -999.00,9,   33.63,2,   2.5796,     -999.0,     -999.0,9,     -999.0,     -0.012,2,      0.000,2,     99.593,2
09AR20110104,       SR03,      26,          1,         12,         12,2,20110111,       0915,   -53.1342,   142.1360,       3075,   999.5,   2.5678,  34.5800,2,  34.5798,2,    174.8,2,   174.8,2,   69.90,2,    2.32,2,  -999.0,9,  -999.0,9, -999.00,9,   33.26,2,   2.5032,     -999.0,     -999.0,9,     -999.0,     -0.006,2,      0.000,2,     99.598,2
09AR20110104,       SR03,      26,          1,         11,         11,2,20110111,       0915,   -53.1342,   142.1360,       3075,  1100.3,   2.5237,  34.6160,2,  34.6148,2,    174.9,2,   175.0,2,   72.20,2,    2.29,2,  -999.0,9,  -999.0,9, -999.00,9,   32.79,2,   2.4520,     -999.0,     -999.0,9,     -999.0,     -0.007,2,      0.000,2,     99.598,2
09AR20110104,       SR03,      26,          1,         10,         10,2,20110111,       0915,   -53.1342,   142.1360,       3075,  1198.6,   2.4063,  34.6495,2,  34.6492,2,    177.4,2,   177.7,2,   74.40,2,    2.25,2,  -999.0,9,  -999.0,9, -999.00,9,   32.36,2,   2.3283,     -999.0,     -999.0,9,     -999.0,     -0.004,2,      0.000,2,     99.617,2
09AR20110104,       SR03,      26,          1,          9,          9,2,20110111,       0915,   -53.1342,   142.1360,       3075,  1299.5,   2.3833,  34.6756,2,  34.6751,2,    179.3,2,   179.5,2,   75.00,2,    2.21,2,  -999.0,9,  -999.0,9, -999.00,9,   31.72,2,   2.2979,     -999.0,     -999.0,9,     -999.0,     -0.005,2,      0.000,2,     99.606,2
09AR20110104,       SR03,      26,          1,          8,          8,2,20110111,       0915,   -53.1342,   142.1360,       3075,  1399.9,   2.3361,  34.6971,2,  34.6963,2,    181.0,2,   181.4,2,   76.80,2,    2.18,2,  -999.0,9,  -999.0,9, -999.00,9,   31.18,2,   2.2434,     -999.0,     -999.0,9,     -999.0,     -0.007,2,      0.000,2,     99.614,2
09AR20110104,       SR03,      26,          1,          7,          7,2,20110111,       0915,   -53.1342,   142.1360,       3075,  1598.5,   2.1960,  34.7257,2,  34.7248,2,    185.6,2,   184.9,2,   81.60,2,    2.15,2,  2253.7,2,  2347.8,2, -999.00,9,   30.68,2,   2.0893,     -999.0,     -999.0,9,     -999.0,     -0.007,2,      0.000,2,     99.637,2
09AR20110104,       SR03,      26,          1,          6,          6,2,20110111,       0915,   -53.1342,   142.1360,       3075,  1800.9,   2.0587,  34.7409,2,  34.7407,2,    191.3,2,   191.0,2,   84.10,2,    2.11,2,  -999.0,9,  -999.0,9, -999.00,9,   30.28,2,   1.9375,     -999.0,     -999.0,9,     -999.0,     -0.008,2,      0.000,2,     99.655,2
09AR20110104,       SR03,      26,          1,          5,          5,2,20110111,       0915,   -53.1342,   142.1360,       3075,  1998.7,   1.8337,  34.7448,2,  34.7436,2,    193.5,2,   193.7,2,   91.90,2,    2.12,2,  -999.0,9,  -999.0,9, -999.00,9,   30.47,2,   1.6995,     -999.0,     -999.0,9,     -999.0,     -0.009,2,      0.000,2,     99.677,2
09AR20110104,       SR03,      26,          1,          4,          4,2,20110111,       0915,   -53.1342,   142.1360,       3075,  2199.5,   1.6624,  34.7430,2,  34.7418,2,    197.6,2,   197.1,2,   97.00,2,    2.13,2,  -999.0,9,  -999.0,9, -999.00,9,   30.65,2,   1.5141,     -999.0,     -999.0,9,     -999.0,     -0.013,2,      0.000,2,     99.687,2
09AR20110104,       SR03,      26,          1,          3,          3,2,20110111,       0915,   -53.1342,   142.1360,       3075,  2499.1,   1.3754,  34.7343,2,  34.7328,2,    202.7,2,   202.3,2,  103.90,2,    2.14,2,  -999.0,9,  -999.0,9, -999.00,9,   30.80,2,   1.2065,     -999.0,     -999.0,9,     -999.0,     -0.013,2,      0.000,2,     99.703,2
09AR20110104,       SR03,      26,          1,          2,        102,2,20110111,       0915,   -53.1342,   142.1360,       3075,  2799.5,   1.0813,  34.7208,2,  34.7196,2,    204.6,2,   205.0,2,  113.00,2,    2.19,2,  -999.0,9,  -999.0,9, -999.00,9,   31.20,2,   0.8917,     -999.0,     -999.0,9,     -999.0,     -0.013,2,      0.000,2,     99.675,2
09AR20110104,       SR03,      26,          1,          1,          1,2,20110111,       0915,   -53.1342,   142.1360,       3075,  3114.7,   0.9788,  34.7151,2,  34.7137,2,    204.4,2,   204.2,2,  116.90,2,    2.18,2,  -999.0,9,  -999.0,9, -999.00,9,   31.25,2,   0.7627,     -999.0,     -999.0,9,     -999.0,     -0.014,2,      0.000,2,     99.565,2
09AR20110104,       SR03,      27,          1,         24,         24,2,20110111,       1441,   -53.5823,   141.8830,       2487,     9.9,   5.9682,  33.9311,2,  33.9328,2,    305.7,2,   308.0,2,    4.00,2,    1.52,2,  2122.3,6,  2275.1,6, -999.00,9,   22.31,2,   5.9674,     -999.0,     -999.0,9,     -999.0,      0.469,2,      0.002,2,     97.970,2
09AR20110104,       SR03,      27,          1,         23,         23,2,20110111,       1441,   -53.5823,   141.8830,       2487,    49.0,   5.8020,  33.9293,2,  33.9302,2,    306.6,2,   308.3,2,    3.90,2,    1.54,2,  2122.7,2,  2273.0,2, -999.00,9,   22.46,2,   5.7980,     -999.0,     -999.0,9,     -999.0,      0.627,2,      0.000,2,     97.710,2
09AR20110104,       SR03,      27,          1,         22,         22,2,20110111,       1441,   -53.5823,   141.8830,       2487,   101.6,   4.1923,  33.9621,2,  33.9633,2,    311.5,2,   311.4,2,    8.50,2,    1.65,2,  2136.3,2,  2275.2,2, -999.00,9,   23.89,2,   4.1852,     -999.0,     -999.0,9,     -999.0,      1.171,2,      0.000,2,     97.861,2
09AR20110104,       SR03,      27,          1,         21,         21,2,20110111,       1441,   -53.5823,   141.8830,       2487,   149.9,   3.8945,  34.0076,2,  34.0083,2,    296.7,2,   298.7,2,   11.80,2,    1.75,2,  2146.2,2,  2274.5,2, -999.00,9,   25.49,2,   3.8844,     -999.0,     -999.0,9,     -999.0,      0.032,2,      0.000,2,     99.269,2
09AR20110104,       SR03,      27,          1,         20,         20,2,20110111,       1441,   -53.5823,   141.8830,       2487,   199.4,   4.1240,  34.1105,2,-999.0000,9,    268.8,2,   268.1,2,   16.40,2,    1.84,2,  2162.0,2,  2280.2,2, -999.00,9,   26.95,2,   4.1101,     -999.0,     -999.0,9,     -999.0,     -0.008,2,      0.000,2,     99.367,2
09AR20110104,       SR03,      27,          1,         19,         19,2,20110111,       1441,   -53.5823,   141.8830,       2487,   250.5,   4.0245,  34.1611,2,  34.1627,2,    252.3,2,   252.7,2,   20.60,2,    1.92,2,  2172.2,2,  2283.3,6, -999.00,9,   28.26,2,   4.0071,     -999.0,     -999.0,9,     -999.0,     -0.015,2,      0.000,2,     99.380,2
09AR20110104,       SR03,      27,          1,         18,         18,2,20110111,       1441,   -53.5823,   141.8830,       2487,   301.0,   3.6508,  34.1712,2,  34.1722,2,    247.8,2,   248.0,2,   24.80,2,    1.99,2,  2178.9,2,  2286.2,2, -999.00,9,   29.41,2,   3.6306,     -999.0,     -999.0,9,     -999.0,     -0.013,2,      0.000,2,     99.360,2
09AR20110104,       SR03,      27,          1,         17,         17,2,20110111,       1441,   -53.5823,   141.8830,       2487,   401.4,   3.2917,  34.2369,2,  34.2354,2,    226.9,2,   228.6,2,   34.00,2,    2.14,2,  2198.4,2,  2293.2,2, -999.00,9,   31.25,2,   3.2656,     -999.0,     -999.0,9,     -999.0,     -0.014,2,      0.000,2,     99.470,2
09AR20110104,       SR03,      27,          1,         16,         16,2,20110111,       1441,   -53.5823,   141.8830,       2487,   501.5,   3.0217,  34.3117,2,  34.3138,2,    209.6,2,   208.7,2,   44.50,2,    2.25,2,  2215.3,2,  2303.7,6, -999.00,9,   32.76,2,   2.9897,     -999.0,     -999.0,9,     -999.0,     -0.011,2,      0.000,2,     99.533,2
09AR20110104,       SR03,      27,          1,         15,         15,2,20110111,       1441,   -53.5823,   141.8830,       2487,   602.5,   2.7972,  34.3708,2,  34.3701,2,    197.4,2,   197.0,2,   52.70,2,    2.32,2,  2228.5,2,  2310.3,2, -999.00,9,   33.67,2,   2.7593,     -999.0,     -999.0,9,     -999.0,     -0.009,2,      0.000,2,     99.539,2
09AR20110104,       SR03,      27,          1,         14,         14,2,20110111,       1441,   -53.5823,   141.8830,       2487,   699.6,   2.6624,  34.4363,2,  34.4364,2,    186.1,2,   185.9,2,   60.20,2,    2.35,2,  2239.6,2,  2319.1,2, -999.00,9,   34.13,2,   2.6185,     -999.0,     -999.0,9,     -999.0,     -0.005,2,      0.000,2,     99.567,2
09AR20110104,       SR03,      27,          1,         13,         13,2,20110111,       1441,   -53.5823,   141.8830,       2487,   801.1,   2.6467,  34.5094,2,  34.5098,2,    177.7,2,   178.0,2,   65.40,2,    2.34,2,  2245.9,2,  2324.5,2, -999.00,9,   33.83,2,   2.5958,     -999.0,     -999.0,9,     -999.0,     -0.007,2,      0.000,2,     99.605,2
09AR20110104,       SR03,      27,          1,         12,         12,2,20110111,       1441,   -53.5823,   141.8830,       2487,   899.2,   2.5871,  34.5588,2,  34.5584,2,    174.4,2,   174.4,2,   69.60,2,    2.33,2,  2249.8,6,  2330.5,6, -999.00,9,   33.55,2,   2.5296,     -999.0,     -999.0,9,     -999.0,     -0.008,2,      0.000,2,     99.606,2
09AR20110104,       SR03,      27,          1,         11,         11,2,20110111,       1441,   -53.5823,   141.8830,       2487,   998.7,   2.5274,  34.6028,2,  34.6038,2,    174.4,2,   175.3,2,   71.90,2,    2.30,2,  2250.3,2,  2334.8,2, -999.00,9,   33.05,2,   2.4631,     -999.0,     -999.0,9,     -999.0,     -0.006,2,      0.000,2,     99.617,2
09AR20110104,       SR03,      27,          1,         10,         10,2,20110111,       1441,   -53.5823,   141.8830,       2487,  1100.6,   2.4617,  34.6408,2,  34.6403,2,    176.6,2,   176.5,2,   73.80,2,    2.26,2,  2250.1,2,  2336.4,2, -999.00,9,   32.51,2,   2.3905,     -999.0,     -999.0,9,     -999.0,     -0.005,2,      0.000,2,     99.629,2
09AR20110104,       SR03,      27,          1,          9,          9,2,20110111,       1441,   -53.5823,   141.8830,       2487,  1199.5,   2.4034,  34.6685,2,  34.6682,2,    178.2,2,   177.7,2,   76.00,2,    2.22,2,  2250.9,2,  2340.0,2, -999.00,9,   32.03,2,   2.3253,     -999.0,     -999.0,9,     -999.0,     -0.006,2,      0.000,2,     99.635,2
09AR20110104,       SR03,      27,          1,          8,          8,2,20110111,       1441,   -53.5823,   141.8830,       2487,  1300.1,   2.3554,  34.6902,2,  34.6897,2,    180.3,2,   180.4,2,   77.00,2,    2.20,2,  2251.9,2,  2344.4,2, -999.00,9,   31.58,2,   2.2702,     -999.0,     -999.0,9,     -999.0,     -0.007,2,      0.000,2,     99.650,2
09AR20110104,       SR03,      27,          1,          7,          7,2,20110111,       1441,   -53.5823,   141.8830,       2487,  1399.5,   2.2773,  34.7091,2,  34.7090,2,    182.0,2,   182.5,2,   79.30,2,    2.17,2,  2250.6,2,  2344.7,2, -999.00,9,   31.25,2,   2.1852,     -999.0,     -999.0,9,     -999.0,     -0.006,2,      0.000,2,     99.665,2
09AR20110104,       SR03,      27,          1,          6,          6,2,20110111,       1441,   -53.5823,   141.8830,       2487,  1597.0,   2.1231,  34.7337,2,  34.7329,2,    187.3,2,   187.2,2,   84.00,2,    2.14,2,  2252.5,2,  2349.6,6, -999.00,9,   30.77,2,   2.0174,     -999.0,     -999.0,9,     -999.0,     -0.007,2,      0.000,2,     99.673,2
09AR20110104,       SR03,      27,          1,          5,          5,2,20110111,       1441,   -53.5823,   141.8830,       2487,  1800.7,   1.9718,  34.7433,2,  34.7433,2,    191.1,2,   191.0,2,   88.10,2,    2.12,2,  2253.5,2,  2353.9,2, -999.00,9,   30.52,2,   1.8518,     -999.0,     -999.0,9,     -999.0,     -0.003,2,      0.000,2,     99.684,2
09AR20110104,       SR03,      27,          1,          4,          4,2,20110111,       1441,   -53.5823,   141.8830,       2487,  2000.0,   1.8225,  34.7450,2,  34.7442,2,    193.5,2,   193.7,2,   92.60,2,    2.13,2,  2253.3,2,  2355.6,2, -999.00,9,   30.55,2,   1.6884,     -999.0,     -999.0,9,     -999.0,     -0.011,2,      0.000,2,     99.707,2
09AR20110104,       SR03,      27,          1,          3,          3,2,20110111,       1441,   -53.5823,   141.8830,       2487,  2200.6,   1.5946,  34.7422,2,  34.7415,2,    198.5,2,   198.7,2,   97.30,2,    2.13,2,  2254.1,2,  2356.5,2, -999.00,9,   30.51,2,   1.4474,     -999.0,     -999.0,9,     -999.0,     -0.007,2,      0.000,2,     99.712,2
09AR20110104,       SR03,      27,          1,          2,        102,2,20110111,       1441,   -53.5823,   141.8830,       2487,  2402.6,   1.3750,  34.7343,2,  34.7334,2,    201.4,2,   201.6,2,  104.30,2,    2.14,2,  -999.0,9,  -999.0,9, -999.00,9,   30.86,2,   1.2145,     -999.0,     -999.0,9,     -999.0,     -0.015,2,      0.000,2,     99.711,2
09AR20110104,       SR03,      27,          1,          1,          1,2,20110111,       1441,   -53.5823,   141.8830,       2487,  2507.0,   1.3109,  34.7316,2,  34.7306,2,    202.9,2,   202.2,2,  106.30,2,    2.16,2,  2257.9,6,  2359.7,2, -999.00,9,   30.95,2,   1.1425,     -999.0,     -999.0,9,     -999.0,     -0.012,2,      0.000,2,     99.692,2