BOTTLE,20230419CCHSIOENA
EXPOCODE,SECT_ID,STNNBR,CASTNO,SAMPNO,BTLNBR,BTLNBR_FLAG_W,DATE,TIME,LATITUDE,LONGITUDE,DEPTH,CTDPRS,CTDTMP,CTDSAL,CTDSAL_FLAG_W,SALNTY,SALNTY_FLAG_W,CTDOXY,CTDOXY_FLAG_W,OXYGEN,OXYGEN_FLAG_W,SILCAT,SILCAT_FLAG_W,PHSPHT,PHSPHT_FLAG_W,TCARBN,TCARBN_FLAG_W,ALKALI,ALKALI_FLAG_W,DELO18,DELO18_FLAG_W,NO2+NO3,NO2+NO3_FLAG_W,THETA,O18ERR,DELD,DELD_FLAG_W,DELDERR,CTDFLUOR,CTDFLUOR_FLAG_W,PAR,PAR_FLAG_W,CTDXMISS,CTDXMISS_FLAG_W
,,,,,,,,,,,METERS,DBAR,ITS-90,PSS-78,,PSS-78,,UMOL/KG,,UMOL/KG,,UMOL/KG,,UMOL/KG,,UMOL/KG,,UMOL/KG,,/MILLE,,UMOL/KG,,DEG C,/MILLE,/MILLE,,/MILLE,MG/M^3,,UMOL/M^2/SEC,,%TRANS,
09AR20110104,       SR03,     144,          1,         24,         24,2,20110130,       1514,   -64.3012,   149.9910,       3559,     7.8,   1.8124,  33.9081,2,  33.9101,2,    347.2,2,   347.0,2,   17.00,2,    1.09,2,  2136.8,2,  2296.8,2,   -0.24,2,   21.83,2,   1.8120,       0.05,      -2.86,2,       0.15,      5.382,2,      1.640,2,     89.105,2
09AR20110104,       SR03,     144,          1,         23,         23,2,20110130,       1514,   -64.3012,   149.9910,       3559,    48.5,  -0.6788,  34.1190,2,  34.1181,2,    310.2,2,   310.0,2,   54.10,2,    2.41,2,  2206.0,2,  2307.4,2,   -0.20,2,   29.08,2,  -0.6802,       0.02,      -2.59,2,       0.09,      5.689,2,      0.000,2,     91.129,2
09AR20110104,       SR03,     144,          1,         22,         22,2,20110130,       1514,   -64.3012,   149.9910,       3559,   102.0,   1.7638,  34.5630,2,  34.5618,2,    177.9,2,   178.6,2,   76.40,2,    2.40,2,  2255.5,2,  2331.0,2,   -0.04,2,   34.81,2,   1.7586,       0.05,      -1.89,2,       0.02,      0.147,2,      0.000,2,     97.674,2
09AR20110104,       SR03,     144,          1,         21,         21,2,20110130,       1514,   -64.3012,   149.9910,       3559,   149.1,   1.9294,  34.6120,2,  34.6111,2,    176.4,2,   174.5,2,   78.50,2,    2.36,2,  2256.7,2,  2334.2,2,   -0.02,2,   34.09,2,   1.9216,       0.04,      -1.34,2,       0.04,      0.057,2,      0.000,2,     98.037,2
09AR20110104,       SR03,     144,          1,         20,         20,2,20110130,       1514,   -64.3012,   149.9910,       3559,   199.9,   1.7751,  34.6284,2,  34.6287,2,    175.8,2,   182.3,2,   79.70,2,    2.32,2,  2256.0,2,  2336.8,2,   -0.02,2,   33.50,2,   1.7648,       0.11,      -1.53,2,       0.15,      0.037,2,      0.000,2,     98.287,2
09AR20110104,       SR03,     144,          1,         19,         19,2,20110130,       1514,   -64.3012,   149.9910,       3559,   300.1,   1.8701,  34.6775,2,  34.6773,2,    180.5,2,   181.2,2,   82.20,2,    2.27,2,  2255.2,2,  2341.8,2,   -0.06,2,   32.87,2,   1.8541,       0.00,      -1.32,2,       0.16,      0.019,2,      0.000,2,     98.554,2
09AR20110104,       SR03,     144,          1,         18,         18,2,20110130,       1514,   -64.3012,   149.9910,       3559,   400.5,   1.8446,  34.7049,2,  34.7046,2,    184.0,2,   184.2,2,   84.40,2,    2.22,2,  2253.5,2,  2342.4,6,   -0.03,2,   32.34,2,   1.8229,       0.02,      -1.52,2,       0.08,      0.002,2,      0.000,2,     98.650,2
09AR20110104,       SR03,     144,          1,         17,         17,2,20110130,       1514,   -64.3012,   149.9910,       3559,   501.9,   1.8603,  34.7278,2,  34.7274,2,    187.6,2,   187.5,2,   85.60,2,    2.18,2,  -999.0,9,  -999.0,9,    0.00,2,   31.67,2,   1.8326,       0.06,      -1.18,2,       0.18,     -0.005,2,      0.000,2,     98.747,2
09AR20110104,       SR03,     144,          1,         16,         16,2,20110130,       1514,   -64.3012,   149.9910,       3559,   601.3,   1.7788,  34.7352,2,  34.7345,2,    190.7,2,   190.6,2,   87.10,2,    2.15,2,  -999.0,9,  -999.0,9,    0.19,2,   31.17,2,   1.7455,       0.02,      -0.44,2,       0.01,     -0.003,2,      0.000,2,     98.800,2
09AR20110104,       SR03,     144,          1,         15,         15,2,20110130,       1514,   -64.3012,   149.9910,       3559,   701.8,   1.7044,  34.7385,2,  34.7382,2,    193.1,2,   193.0,2,   88.40,2,    2.14,2,  -999.0,9,  -999.0,9,    0.07,2,   30.95,2,   1.6654,       0.07,      -0.85,2,       0.07,      0.002,2,      0.000,2,     98.803,2
09AR20110104,       SR03,     144,          1,         14,         14,2,20110130,       1514,   -64.3012,   149.9910,       3559,   801.2,   1.6229,  34.7407,2,  34.7412,2,    195.3,2,   195.5,2,   90.90,2,    2.14,2,  2250.1,2,  2354.2,2,   -0.08,2,   30.81,2,   1.5782,       0.02,      -1.66,2,       0.14,     -0.010,2,      0.000,2,     98.836,2
09AR20110104,       SR03,     144,          1,         13,         13,2,20110130,       1514,   -64.3012,   149.9910,       3559,   902.6,   1.5389,  34.7416,2,  34.7431,2,    197.3,2,   197.8,2,   93.60,2,    2.15,2,  -999.0,9,  -999.0,9,   -0.06,2,   31.23,2,   1.4884,       0.01,      -1.37,2,       0.04,      0.009,2,      0.000,2,     98.859,2
09AR20110104,       SR03,     144,          1,         12,         12,2,20110130,       1514,   -64.3012,   149.9910,       3559,  1000.1,   1.4521,  34.7399,2,  34.7390,2,    198.9,2,   199.3,2,   95.80,2,    2.15,2,  -999.0,9,  -999.0,9,   -0.10,2,   31.00,2,   1.3960,       0.08,      -1.74,2,       0.36,     -0.010,2,      0.000,2,     98.899,2
09AR20110104,       SR03,     144,          1,         11,         11,2,20110130,       1514,   -64.3012,   149.9910,       3559,  1199.6,   1.2739,  34.7339,2,  34.7341,2,    201.6,2,   201.6,2,  101.70,2,    2.16,2,  -999.0,9,  -999.0,9,   -0.06,2,   30.90,2,   1.2063,       0.04,      -1.51,2,       0.03,     -0.008,2,      0.000,2,     98.944,2
09AR20110104,       SR03,     144,          1,         10,         10,2,20110130,       1514,   -64.3012,   149.9910,       3559,  1399.3,   1.0999,  34.7248,2,  34.7244,2,    203.6,2,   203.6,2,  106.50,2,    2.18,2,  -999.0,9,  -999.0,9,   -0.05,2,   31.21,2,   1.0207,       0.03,      -1.60,2,       0.14,     -0.014,2,      0.000,2,     98.919,2
09AR20110104,       SR03,     144,          1,          9,          9,2,20110130,       1514,   -64.3012,   149.9910,       3559,  1598.4,   0.9194,  34.7152,2,  34.7144,2,    205.9,2,   205.8,2,  111.70,2,    2.20,2,  -999.0,9,  -999.0,9,   -0.09,6,   31.65,2,   0.8286,       0.04,      -2.22,6,       0.03,     -0.011,2,      0.000,2,     98.940,2
09AR20110104,       SR03,     144,          1,          8,          8,2,20110130,       1514,   -64.3012,   149.9910,       3559,  1798.0,   0.7631,  34.7070,2,  34.7066,2,    208.6,2,   208.2,2,  117.10,2,    2.24,2,  -999.0,9,  -999.0,9,   -0.13,2,   32.05,2,   0.6602,       0.09,      -1.88,2,       0.28,     -0.014,2,      0.000,2,     98.946,2
09AR20110104,       SR03,     144,          1,          7,          7,2,20110130,       1514,   -64.3012,   149.9910,       3559,  2100.3,   0.5549,  34.6964,2,  34.6964,2,    211.9,2,   212.4,2,  119.60,2,    2.27,2,  2257.6,2,  2357.5,2,   -0.08,2,   32.30,2,   0.4329,       0.03,      -2.55,2,       0.02,     -0.014,2,      0.000,2,     98.955,2
09AR20110104,       SR03,     144,          1,          6,          6,2,20110130,       1514,   -64.3012,   149.9910,       3559,  2400.1,   0.3704,  34.6884,2,  34.6875,2,    216.8,2,   216.6,2,  122.10,2,    2.28,2,  -999.0,9,  -999.0,9,   -0.16,2,   32.37,2,   0.2286,       0.01,      -2.20,2,       0.02,     -0.016,2,      0.000,2,     98.961,2
09AR20110104,       SR03,     144,          1,          5,          5,2,20110130,       1514,   -64.3012,   149.9910,       3559,  2699.7,   0.2329,  34.6830,2,  34.6820,2,    221.0,2,  -999.0,9,  122.70,2,    2.27,2,  -999.0,9,  -999.0,9,   -0.16,2,   32.13,2,   0.0696,       0.06,      -2.61,2,       0.00,     -0.019,2,      0.000,2,     98.952,2
09AR20110104,       SR03,     144,          1,          4,          4,2,20110130,       1514,   -64.3012,   149.9910,       3559,  2999.1,   0.1039,  34.6775,2,  34.6757,2,    225.4,2,   225.6,2,  122.50,2,    2.26,2,  -999.0,9,  -999.0,9,   -0.22,2,   32.04,2,  -0.0818,       0.03,      -2.70,2,       0.07,     -0.022,2,      0.000,2,     98.938,2
09AR20110104,       SR03,     144,          1,          3,          3,2,20110130,       1514,   -64.3012,   149.9910,       3559,  3249.6,  -0.0044,  34.6722,2,  34.6712,2,    230.1,2,   229.8,2,  123.80,2,    2.26,2,  -999.0,9,  -999.0,9,   -0.18,2,   32.21,2,  -0.2095,       0.01,      -2.76,2,       0.01,     -0.025,2,      0.000,2,     98.893,2
09AR20110104,       SR03,     144,          1,          2,        102,2,20110130,       1514,   -64.3012,   149.9910,       3559,  3500.2,  -0.0878,  34.6670,2,  34.6657,2,    232.8,2,   232.9,2,  120.40,2,    2.26,2,  -999.0,9,  -999.0,9,   -0.23,2,   32.17,2,  -0.3135,       0.05,      -2.81,2,       0.00,     -0.023,2,      0.000,2,     98.788,2
09AR20110104,       SR03,     144,          1,          1,          1,2,20110130,       1514,   -64.3012,   149.9910,       3559,  3615.9,  -0.1484,  34.6633,2,  34.6614,2,    234.8,2,   234.7,2,  115.70,2,    2.25,2,  2257.3,6,  2351.0,6,   -0.33,2,   32.07,2,  -0.3832,       0.06,      -3.15,2,       0.13,      0.040,2,      0.000,2,     97.837,2
09AR20110104,       SR03,     145,          1,         24,         24,2,20110130,       2008,   -63.9007,   149.9900,       3638,    10.6,   1.9503,  33.9068,2,  33.9138,2,    346.2,2,   346.5,2,   15.90,2,    1.16,2,  2140.0,6,  2297.2,6,   -0.08,2,   22.35,2,   1.9498,       0.02,      -2.12,2,       0.06,      4.457,2,     27.089,2,     89.973,2
09AR20110104,       SR03,     145,          1,         23,         23,2,20110130,       2008,   -63.9007,   149.9900,       3638,    49.4,  -0.2227,  34.0105,2,  34.0074,2,    341.8,2,   334.6,2,   41.30,2,    2.33,2,  2181.6,2,  2303.4,2,   -0.26,2,   26.04,2,  -0.2243,       0.05,      -2.96,2,       0.09,     11.456,2,      0.137,2,     83.054,2
09AR20110104,       SR03,     145,          1,         22,         22,2,20110130,       2008,   -63.9007,   149.9900,       3638,   100.7,   1.4619,  34.5389,2,  34.5394,2,    184.8,2,   186.7,2,   76.30,2,    2.42,2,  2255.1,2,  2328.7,6,    0.17,2,   34.65,2,   1.4571,       0.03,      -0.96,2,       0.15,      0.274,2,      0.000,2,     97.330,2
09AR20110104,       SR03,     145,          1,         21,         21,2,20110130,       2008,   -63.9007,   149.9900,       3638,   149.1,   1.8773,  34.6197,2,  34.6180,2,    176.4,2,   175.0,2,   80.20,2,    2.38,2,  2258.1,2,  2334.2,2,    0.00,2,   34.25,2,   1.8695,       0.04,      -1.21,2,       0.10,      0.119,2,      0.000,2,     97.726,2
09AR20110104,       SR03,     145,          1,         20,         20,2,20110130,       2008,   -63.9007,   149.9900,       3638,   201.3,   1.9355,  34.6527,2,  34.6515,2,    176.4,2,   176.2,2,   81.50,2,    2.33,2,  2256.9,2,  2336.9,2, -999.00,9,   33.53,2,   1.9248,     -999.0,     -999.0,9,     -999.0,      0.049,2,      0.000,2,     98.054,2
09AR20110104,       SR03,     145,          1,         19,         19,2,20110130,       2008,   -63.9007,   149.9900,       3638,   300.5,   1.9221,  34.6895,2,  34.6893,2,    179.9,2,   179.9,2,   83.40,2,    2.28,2,  2254.8,2,  2340.9,2,    0.00,2,   32.67,2,   1.9059,       0.00,      -1.34,2,       0.13,      0.004,2,      0.000,2,     98.515,2
09AR20110104,       SR03,     145,          1,         18,         18,2,20110130,       2008,   -63.9007,   149.9900,       3638,   399.4,   1.9040,  34.7105,2,  34.7099,2,    183.2,2,   183.0,2,   85.70,2,    2.24,2,  2253.6,2,  2342.9,6,   -0.04,2,   32.07,2,   1.8822,       0.01,      -1.15,2,       0.03,      0.007,2,      0.000,2,     98.612,2
09AR20110104,       SR03,     145,          1,         17,         17,2,20110130,       2008,   -63.9007,   149.9900,       3638,   500.2,   1.8518,  34.7261,2,  34.7260,2,    186.7,2,   187.3,2,   87.60,2,    2.20,2,  2252.3,2,  2346.2,2,    0.01,2,   31.58,2,   1.8242,       0.04,      -1.06,2,       0.00,      0.004,2,      0.000,2,     98.608,2
09AR20110104,       SR03,     145,          1,         16,         16,2,20110130,       2008,   -63.9007,   149.9900,       3638,   602.1,   1.7838,  34.7350,2,  34.7345,2,    190.0,2,   190.3,2,   89.70,2,    2.18,2,  2251.4,2,  2347.9,2,   -0.02,2,   31.22,2,   1.7504,       0.00,      -1.21,2,       0.07,     -0.002,2,      0.000,2,     98.709,2
09AR20110104,       SR03,     145,          1,         15,         15,2,20110130,       2008,   -63.9007,   149.9900,       3638,   699.4,   1.7224,  34.7404,2,  34.7402,2,    192.6,2,   192.9,2,   91.60,2,    2.16,2,  2250.4,2,  2349.2,2,   -0.06,2,   30.96,2,   1.6834,       0.01,      -1.37,2,       0.17,     -0.007,2,      0.000,2,     98.710,2
09AR20110104,       SR03,     145,          1,         14,         14,2,20110130,       2008,   -63.9007,   149.9900,       3638,   804.9,   1.6405,  34.7425,2,  34.7421,2,    195.3,2,   195.4,2,   93.30,2,    2.15,2,  2250.2,2,  2349.3,2,   -0.06,2,   30.78,2,   1.5955,       0.07,      -1.68,2,       0.27,     -0.009,2,      0.000,2,     98.744,2
09AR20110104,       SR03,     145,          1,         13,         13,2,20110130,       2008,   -63.9007,   149.9900,       3638,   900.2,   1.5581,  34.7421,2,  34.7423,2,    197.0,2,   197.6,2,   95.90,2,    2.15,2,  2251.5,2,  2353.2,2,   -0.02,2,   30.76,2,   1.5076,       0.04,      -1.20,2,       0.04,     -0.008,2,      0.000,2,     98.780,2
09AR20110104,       SR03,     145,          1,         12,         12,2,20110130,       2008,   -63.9007,   149.9900,       3638,  1050.9,   1.4092,  34.7387,2,  34.7384,2,    199.6,2,   200.0,2,   99.40,2,    2.16,2,  2252.1,6,  2352.5,6,   -0.18,6,   30.85,2,   1.3502,       0.03,      -1.29,2,       0.07,     -0.009,2,      0.000,2,     98.829,2
09AR20110104,       SR03,     145,          1,         11,         11,2,20110130,       2008,   -63.9007,   149.9900,       3638,  1201.1,   1.2838,  34.7341,2,  34.7339,2,    201.6,2,   201.6,2,  102.70,2,    2.18,2,  2251.9,2,  2352.5,2,   -0.09,2,   31.01,2,   1.2161,       0.01,      -1.67,2,       0.03,     -0.010,2,      0.000,2,     98.844,2
09AR20110104,       SR03,     145,          1,         10,         10,2,20110130,       2008,   -63.9007,   149.9900,       3638,  1400.4,   1.1201,  34.7269,2,  34.7268,2,    203.9,2,   203.6,2,  107.60,2,    2.19,2,  2255.9,2,  2355.2,2,   -0.04,2,   31.29,2,   1.0406,       0.01,      -1.53,2,       0.03,     -0.016,2,      0.000,2,     98.881,2
09AR20110104,       SR03,     145,          1,          9,          9,2,20110130,       2008,   -63.9007,   149.9900,       3638,  1600.2,   0.9678,  34.7193,2,  34.7193,2,    205.9,2,   205.8,2,  112.10,2,    2.21,2,  2256.6,2,  2357.9,2,    0.11,2,   31.49,2,   0.8763,       0.04,      -1.19,2,       0.06,     -0.012,2,      0.000,2,     98.903,2
09AR20110104,       SR03,     145,          1,          8,          8,2,20110130,       2008,   -63.9007,   149.9900,       3638,  1801.4,   0.8010,  34.7100,2,  34.7097,2,    208.5,2,   207.7,2,  118.50,2,    2.23,2,  2257.3,2,  2358.1,2,    0.03,2,   31.81,2,   0.6974,       0.06,      -1.82,2,       0.09,     -0.016,2,      0.000,2,     98.916,2
09AR20110104,       SR03,     145,          1,          7,          7,2,20110130,       2008,   -63.9007,   149.9900,       3638,  2100.5,   0.5503,  34.6971,2,  34.6969,2,    212.3,2,   212.5,2,  121.30,2,    2.27,2,  2258.3,2,  2357.4,2,   -0.15,2,   32.15,2,   0.4284,       0.02,      -1.98,2,       0.21,     -0.020,2,      0.000,2,     98.915,2
09AR20110104,       SR03,     145,          1,          6,          6,2,20110130,       2008,   -63.9007,   149.9900,       3638,  2400.0,   0.3411,  34.6883,2,  34.6875,2,    217.5,2,   217.6,2,  125.00,2,    2.28,2,  2259.4,2,  2355.3,6,   -0.22,2,   32.27,2,   0.1998,       0.04,      -2.23,2,       0.07,     -0.021,2,      0.000,2,     98.931,2
09AR20110104,       SR03,     145,          1,          5,          5,2,20110130,       2008,   -63.9007,   149.9900,       3638,  2700.2,   0.2686,  34.6850,2,  34.6838,2,    220.0,2,   219.9,2,  126.90,2,    2.28,2,  2258.7,2,  2356.8,2,   -0.15,2,   32.23,2,   0.1046,       0.14,      -2.15,2,       0.29,     -0.017,2,      0.000,2,     98.916,2
09AR20110104,       SR03,     145,          1,          4,          4,2,20110130,       2008,   -63.9007,   149.9900,       3638,  2998.0,   0.1582,  34.6804,2,  34.6795,2,    223.8,2,   223.8,2,  128.40,2,    2.28,2,  2261.5,2,  2356.5,2,   -0.19,2,   32.20,2,  -0.0286,       0.04,      -2.48,2,       0.14,     -0.023,2,      0.000,2,     98.907,2
09AR20110104,       SR03,     145,          1,          3,          3,2,20110130,       2008,   -63.9007,   149.9900,       3638,  3299.9,   0.0196,  34.6732,2,  34.6724,2,    229.2,2,   228.9,2,  126.00,2,    2.26,2,  2258.6,2,  2355.5,2,   -0.24,2,   32.08,2,  -0.1906,       0.04,      -2.82,2,       0.18,     -0.018,2,      0.000,2,     98.869,2
09AR20110104,       SR03,     145,          1,          2,        102,2,20110130,       2008,   -63.9007,   149.9900,       3638,  3544.3,  -0.0633,  34.6674,2,  34.6663,2,    232.9,2,   232.7,2,  123.50,2,    2.25,2,  -999.0,9,  -999.0,9, -999.00,9,   32.04,2,  -0.2937,     -999.0,     -999.0,9,     -999.0,     -0.021,2,      0.000,2,     98.803,2
09AR20110104,       SR03,     145,          1,          1,          1,2,20110130,       2008,   -63.9007,   149.9900,       3638,  3695.9,  -0.1253,  34.6638,2,  34.6631,2,    234.5,2,   233.7,2,  121.50,2,    2.25,2,  2258.4,6,  2352.1,6,   -0.23,2,   31.94,2,  -0.3683,       0.03,      -2.76,2,       0.10,      0.019,2,      0.000,2,     98.115,2