BOTTLE,20230419CCHSIOENA
EXPOCODE,SECT_ID,STNNBR,CASTNO,SAMPNO,BTLNBR,BTLNBR_FLAG_W,DATE,TIME,LATITUDE,LONGITUDE,DEPTH,CTDPRS,CTDTMP,CTDSAL,CTDSAL_FLAG_W,SALNTY,SALNTY_FLAG_W,CTDOXY,CTDOXY_FLAG_W,OXYGEN,OXYGEN_FLAG_W,SILCAT,SILCAT_FLAG_W,PHSPHT,PHSPHT_FLAG_W,TCARBN,TCARBN_FLAG_W,ALKALI,ALKALI_FLAG_W,DELO18,DELO18_FLAG_W,NO2+NO3,NO2+NO3_FLAG_W,THETA,O18ERR,DELD,DELD_FLAG_W,DELDERR,CTDFLUOR,CTDFLUOR_FLAG_W,PAR,PAR_FLAG_W,CTDXMISS,CTDXMISS_FLAG_W
,,,,,,,,,,,METERS,DBAR,ITS-90,PSS-78,,PSS-78,,UMOL/KG,,UMOL/KG,,UMOL/KG,,UMOL/KG,,UMOL/KG,,UMOL/KG,,/MILLE,,UMOL/KG,,DEG C,/MILLE,/MILLE,,/MILLE,MG/M^3,,UMOL/M^2/SEC,,%TRANS,
09AR20110104,       SR03,      30,          1,         24,         24,2,20110112,       0735,   -55.0195,   141.0190,       3330,     9.3,   4.3415,  33.8108,2,  33.8110,2,    325.1,2,   324.7,2,    1.70,2,    1.52,2,  2126.4,6,  2273.6,6, -999.00,9,   24.00,2,   4.3409,     -999.0,     -999.0,9,     -999.0,      2.074,2,     10.799,2,     95.156,2
09AR20110104,       SR03,      30,          1,         23,         23,2,20110112,       0735,   -55.0195,   141.0190,       3330,    39.9,   4.0590,  33.8165,2,  33.8171,2,    325.1,2,   325.4,2,    1.70,2,    1.54,2,  2126.4,2,  2274.0,2, -999.00,9,   23.98,2,   4.0563,     -999.0,     -999.0,9,     -999.0,      2.997,2,      1.451,2,     94.482,2
09AR20110104,       SR03,      30,          1,         22,         22,2,20110112,       0735,   -55.0195,   141.0190,       3330,    79.7,   3.0779,  33.8428,2,  33.8432,2,    323.8,2,   327.3,2,    5.80,2,    1.70,2,  2140.2,2,  2277.2,6, -999.00,9,   24.81,2,   3.0731,     -999.0,     -999.0,9,     -999.0,      3.237,2,      0.036,2,     94.786,2
09AR20110104,       SR03,      30,          1,         21,         21,2,20110112,       0735,   -55.0195,   141.0190,       3330,   159.0,   1.6640,  33.8963,2,  33.9019,2,    315.9,2,   317.4,2,   17.90,2,    1.92,2,  2158.1,2,  2276.6,2, -999.00,9,   27.83,2,   1.6562,     -999.0,     -999.0,9,     -999.0,      0.042,2,      0.000,2,     99.328,2
09AR20110104,       SR03,      30,          1,         20,         20,2,20110112,       0735,   -55.0195,   141.0190,       3330,   200.6,   2.3024,  34.0456,2,  34.0453,2,    284.7,2,   279.5,2,   25.50,2,    2.02,2,  2175.0,2,  2283.2,2, -999.00,9,   29.62,2,   2.2914,     -999.0,     -999.0,9,     -999.0,     -0.007,2,      0.000,2,     99.380,2
09AR20110104,       SR03,      30,          1,         19,         19,2,20110112,       0735,   -55.0195,   141.0190,       3330,   249.1,   2.6283,  34.1554,2,  34.1570,2,    249.7,2,   248.8,2,   33.50,2,    2.14,2,  2193.3,2,  2290.3,2, -999.00,9,   31.33,2,   2.6138,     -999.0,     -999.0,9,     -999.0,     -0.008,2,      0.000,2,     99.332,2
09AR20110104,       SR03,      30,          1,         18,         18,2,20110112,       0735,   -55.0195,   141.0190,       3330,   299.2,   2.5680,  34.2107,2,  34.2149,2,    235.7,2,   233.2,2,   39.70,2,    2.21,2,  2204.7,2,  2296.8,2, -999.00,9,   32.25,2,   2.5505,     -999.0,     -999.0,9,     -999.0,     -0.008,2,      0.000,2,     99.352,2
09AR20110104,       SR03,      30,          1,         17,         17,2,20110112,       0735,   -55.0195,   141.0190,       3330,   400.2,   2.5520,  34.3123,2,  34.3123,2,    211.0,2,   208.7,2,   49.40,2,    2.29,2,  2225.5,2,  2304.8,2, -999.00,9,   33.55,2,   2.5283,     -999.0,     -999.0,9,     -999.0,     -0.009,2,      0.000,2,     99.449,2
09AR20110104,       SR03,      30,          1,         16,         16,2,20110112,       0735,   -55.0195,   141.0190,       3330,   499.6,   2.4560,  34.3999,2,  34.3993,2,    190.2,2,   191.1,2,   58.50,2,    2.34,2,  -999.0,9,  -999.0,9, -999.00,9,   34.26,2,   2.4263,     -999.0,     -999.0,9,     -999.0,     -0.007,2,      0.000,2,     99.523,2
09AR20110104,       SR03,      30,          1,         15,         15,2,20110112,       0735,   -55.0195,   141.0190,       3330,   599.5,   2.4999,  34.4922,2,  34.4925,2,    179.3,2,   178.9,2,   65.40,2,    2.33,2,  2246.2,2,  2324.9,2, -999.00,9,   34.00,2,   2.4635,     -999.0,     -999.0,9,     -999.0,     -0.005,2,      0.000,2,     99.533,2
09AR20110104,       SR03,      30,          1,         14,         14,2,20110112,       0735,   -55.0195,   141.0190,       3330,   699.3,   2.4547,  34.5466,2,  34.5481,2,    175.4,2,   175.7,2,   69.50,2,    2.33,2,  -999.0,9,  -999.0,9, -999.00,9,   33.87,2,   2.4118,     -999.0,     -999.0,9,     -999.0,     -0.004,2,      0.000,2,     99.540,2
09AR20110104,       SR03,      30,          1,         13,         13,2,20110112,       0735,   -55.0195,   141.0190,       3330,   797.1,   2.4334,  34.5984,2,  34.5990,2,    174.2,2,   174.3,2,   72.50,2,    2.31,2,  2252.1,2,  2335.3,2, -999.00,9,   33.37,2,   2.3840,     -999.0,     -999.0,9,     -999.0,     -0.005,2,      0.000,2,     99.572,2
09AR20110104,       SR03,      30,          1,         12,         12,2,20110112,       0735,   -55.0195,   141.0190,       3330,   899.6,   2.3902,  34.6363,2,  34.6365,2,    175.3,2,   175.7,2,   73.80,2,    2.25,2,  -999.0,9,  -999.0,9, -999.00,9,   32.74,2,   2.3339,     -999.0,     -999.0,9,     -999.0,     -0.004,2,      0.000,2,     99.585,2
09AR20110104,       SR03,      30,          1,         11,         11,2,20110112,       0735,   -55.0195,   141.0190,       3330,   999.9,   2.3296,  34.6711,2,  34.6709,2,    178.2,2,   179.6,2,   74.90,2,    2.20,2,  -999.0,9,  -999.0,9, -999.00,9,   32.02,2,   2.2667,     -999.0,     -999.0,9,     -999.0,     -0.007,2,      0.000,2,     99.598,2
09AR20110104,       SR03,      30,          1,         10,         10,2,20110112,       0735,   -55.0195,   141.0190,       3330,  1198.6,   2.2426,  34.7096,2,  34.6703,4,    184.5,2,   184.8,2,   76.80,2,    2.14,2,  -999.0,9,  -999.0,9, -999.00,9,   30.95,2,   2.1660,     -999.0,     -999.0,9,     -999.0,     -0.002,2,      0.000,2,     99.630,2
09AR20110104,       SR03,      30,          1,          9,          9,2,20110112,       0735,   -55.0195,   141.0190,       3330,  1400.0,   2.0844,  34.7342,2,  34.7096,4,    189.4,2,   190.1,2,   80.90,2,    2.10,2,  -999.0,9,  -999.0,9, -999.00,9,   30.37,2,   1.9944,     -999.0,     -999.0,9,     -999.0,     -0.007,2,      0.000,2,     99.649,2
09AR20110104,       SR03,      30,          1,          8,          8,2,20110112,       0735,   -55.0195,   141.0190,       3330,  1599.2,   1.9373,  34.7468,2,  34.7344,4,    194.8,2,   194.5,2,   84.60,2,    2.09,2,  -999.0,9,  -999.0,9, -999.00,9,   30.12,2,   1.8337,     -999.0,     -999.0,9,     -999.0,     -0.007,2,      0.000,2,     99.659,2
09AR20110104,       SR03,      30,          1,          7,          7,2,20110112,       0735,   -55.0195,   141.0190,       3330,  1798.3,   1.7744,  34.7482,2,  34.7486,2,    197.4,2,   198.1,2,   89.70,2,    2.08,2,  -999.0,9,  2353.2,2, -999.00,9,   30.35,2,   1.6573,     -999.0,     -999.0,9,     -999.0,     -0.008,2,      0.000,2,     99.671,2
09AR20110104,       SR03,      30,          1,          6,          6,2,20110112,       0735,   -55.0195,   141.0190,       3330,  1998.5,   1.5911,  34.7443,2,  34.7445,2,    199.9,2,   200.1,2,   94.40,2,    2.09,2,  -999.0,9,  -999.0,9, -999.00,9,   30.34,2,   1.4606,     -999.0,     -999.0,9,     -999.0,     -0.006,2,      0.000,2,     99.678,2
09AR20110104,       SR03,      30,          1,          5,          5,2,20110112,       0735,   -55.0195,   141.0190,       3330,  2200.3,   1.3888,  34.7370,2,  34.7372,2,    202.2,2,   202.5,2,  100.10,2,    2.12,2,  -999.0,9,  -999.0,9, -999.00,9,   30.55,2,   1.2450,     -999.0,     -999.0,9,     -999.0,     -0.011,2,      0.000,2,     99.690,2
09AR20110104,       SR03,      30,          1,          4,          4,2,20110112,       0735,   -55.0195,   141.0190,       3330,  2497.8,   1.1135,  34.7241,2,  34.7244,2,    205.2,2,   205.5,2,  108.00,2,    2.14,2,  -999.0,9,  -999.0,9, -999.00,9,   30.88,2,   0.9497,     -999.0,     -999.0,9,     -999.0,     -0.011,2,      0.000,2,     99.710,2
09AR20110104,       SR03,      30,          1,          3,          3,2,20110112,       0735,   -55.0195,   141.0190,       3330,  2800.4,   0.8848,  34.7125,2,  34.7122,2,    208.6,2,   208.6,2,  115.40,2,    2.17,2,  -999.0,9,  -999.0,9, -999.00,9,   31.23,2,   0.6993,     -999.0,     -999.0,9,     -999.0,     -0.014,2,      0.000,2,     99.712,2
09AR20110104,       SR03,      30,          1,          2,        102,2,20110112,       0735,   -55.0195,   141.0190,       3330,  3098.7,   0.6846,  34.7023,2,  34.7020,2,    212.1,2,   212.0,2,  125.30,2,    2.21,2,  -999.0,9,  -999.0,9, -999.00,9,   31.69,2,   0.4768,     -999.0,     -999.0,9,     -999.0,     -0.017,2,      0.000,2,     99.657,2
09AR20110104,       SR03,      30,          1,          1,          1,2,20110112,       0735,   -55.0195,   141.0190,       3330,  3372.7,   0.7016,  34.7019,2,  34.7016,2,    212.9,2,   212.3,2,  126.70,2,    2.21,2,  -999.0,9,  -999.0,9, -999.00,9,   31.78,2,   0.4678,     -999.0,     -999.0,9,     -999.0,     -0.013,2,      0.000,2,     99.563,2
09AR20110104,       SR03,      31,          1,         24,         24,2,20110112,       1259,   -55.4925,   140.7430,       3922,     8.0,   4.3463,  33.8455,2,  33.8470,2,    321.7,2,   322.5,2,    1.60,2,    1.55,2,  2127.5,6,  2274.6,6, -999.00,9,   23.49,2,   4.3457,     -999.0,     -999.0,9,     -999.0,      2.198,2,      0.000,2,     95.168,2
09AR20110104,       SR03,      31,          1,         23,         23,2,20110112,       1259,   -55.4925,   140.7430,       3922,    48.0,   4.1006,  33.8431,2,  33.8454,2,    321.6,2,   321.9,2,    2.00,2, -999.00,9,  2127.7,2,  2275.8,2, -999.00,9,   23.62,2,   4.0973,     -999.0,     -999.0,9,     -999.0,      2.854,2,      0.000,2,     94.981,2
09AR20110104,       SR03,      31,          1,         22,         22,2,20110112,       1259,   -55.4925,   140.7430,       3922,   102.3,   2.7009,  33.8619,2,  33.8629,2,    321.2,2,   322.2,2,    9.70,2,    1.79,2,  2143.9,2,  2277.0,6, -999.00,9,   25.28,2,   2.6951,     -999.0,     -999.0,9,     -999.0,      0.837,2,      0.000,2,     97.545,2
09AR20110104,       SR03,      31,          1,         21,         21,2,20110112,       1259,   -55.4925,   140.7430,       3922,   150.3,   2.2159,  33.9260,2,  33.9259,2,    314.7,2,  -999.0,9,   16.10,2,    1.89,2,  2156.9,2,  2275.8,2, -999.00,9,   27.42,2,   2.2078,     -999.0,     -999.0,9,     -999.0,      0.019,2,      0.000,2,     99.225,2
09AR20110104,       SR03,      31,          1,         20,         20,2,20110112,       1259,   -55.4925,   140.7430,       3922,   198.3,   2.3348,  34.0333,2,  34.0291,2,    284.9,2,   285.2,2,   23.40,2,    1.99,2,  2174.1,2,  2284.9,2, -999.00,9,   29.02,2,   2.3238,     -999.0,     -999.0,9,     -999.0,     -0.009,2,      0.000,2,     99.379,2
09AR20110104,       SR03,      31,          1,         19,         19,2,20110112,       1259,   -55.4925,   140.7430,       3922,   302.9,   2.5155,  34.1905,2,  34.1925,2,    239.1,2,   240.3,2,   37.50,2,    2.17,2,  2203.9,2,  2295.0,2, -999.00,9,   31.44,2,   2.4980,     -999.0,     -999.0,9,     -999.0,     -0.012,2,      0.000,2,     99.331,2
09AR20110104,       SR03,      31,          1,         18,         18,2,20110112,       1259,   -55.4925,   140.7430,       3922,   401.8,   2.5147,  34.3001,2,  34.3013,2,    213.1,2,   211.8,2,   48.50,2,    2.28,2,  2222.2,2,  2305.6,2, -999.00,9,   32.99,2,   2.4910,     -999.0,     -999.0,9,     -999.0,     -0.011,2,      0.000,2,     99.455,2
09AR20110104,       SR03,      31,          1,         17,         17,2,20110112,       1259,   -55.4925,   140.7430,       3922,   499.7,   2.5345,  34.3883,2,  34.3878,2,    192.5,2,   193.3,2,   57.10,2,    2.32,2,  2237.7,2,  2314.3,2, -999.00,9,   33.61,2,   2.5045,     -999.0,     -999.0,9,     -999.0,     -0.010,2,      0.000,2,     99.467,2
09AR20110104,       SR03,      31,          1,         16,         16,2,20110112,       1259,   -55.4925,   140.7430,       3922,   600.5,   2.5116,  34.4699,2,  34.4704,2,    181.3,2,   181.1,2,   64.30,2,    2.33,2,  2245.3,2,  2322.3,6, -999.00,9,   33.92,2,   2.4751,     -999.0,     -999.0,9,     -999.0,     -0.009,2,      0.000,2,     99.483,2
09AR20110104,       SR03,      31,          1,         15,         15,2,20110112,       1259,   -55.4925,   140.7430,       3922,   699.8,   2.4675,  34.5277,2,  34.5284,2,    176.4,2,   175.7,2,   69.10,2,    2.35,2,  2250.7,2,  2327.0,2, -999.00,9,   33.74,2,   2.4246,     -999.0,     -999.0,9,     -999.0,     -0.007,2,      0.000,2,     99.494,2
09AR20110104,       SR03,      31,          1,         14,         14,2,20110112,       1259,   -55.4925,   140.7430,       3922,   800.4,   2.4186,  34.5790,2,  34.5800,2,    174.8,2,   174.2,2,   72.50,2,    2.31,2,  2253.3,2,  2332.7,2, -999.00,9,   33.24,2,   2.3691,     -999.0,     -999.0,9,     -999.0,     -0.005,2,      0.000,2,     99.533,2
09AR20110104,       SR03,      31,          1,         13,         13,2,20110112,       1259,   -55.4925,   140.7430,       3922,   999.4,   2.3401,  34.6583,2,  34.6586,2,    177.1,2,   177.8,2,   76.60,2,    2.22,2,  2252.7,2,  2337.2,2, -999.00,9,   32.28,2,   2.2772,     -999.0,     -999.0,9,     -999.0,     -0.007,2,      0.000,2,     99.563,2
09AR20110104,       SR03,      31,          1,         12,         12,2,20110112,       1259,   -55.4925,   140.7430,       3922,  1200.0,   2.2222,  34.7046,2,  34.7039,2,    183.6,2,   183.8,2,   78.10,2,    2.14,2,  2250.4,6,  2340.3,6, -999.00,9,   31.01,2,   2.1457,     -999.0,     -999.0,9,     -999.0,     -0.010,2,      0.000,2,     99.597,2
09AR20110104,       SR03,      31,          1,         11,         11,2,20110112,       1259,   -55.4925,   140.7430,       3922,  1398.9,   2.0978,  34.7333,2,  34.7323,2,    189.7,2,   189.3,2, -999.00,9,    2.09,2,  2248.1,2,  2345.3,2, -999.00,9,   30.08,2,   2.0077,     -999.0,     -999.0,9,     -999.0,     -0.014,2,      0.000,2,     99.605,2
09AR20110104,       SR03,      31,          1,         10,         10,2,20110112,       1259,   -55.4925,   140.7430,       3922,  1599.7,   1.9612,  34.7452,2,  34.7447,2,    194.2,2,   193.9,2,   84.60,2,    2.06,2,  2247.9,2,  2348.5,2, -999.00,9,   29.78,2,   1.8573,     -999.0,     -999.0,9,     -999.0,     -0.009,2,      0.000,2,     99.620,2
09AR20110104,       SR03,      31,          1,          9,          9,2,20110112,       1259,   -55.4925,   140.7430,       3922,  1799.6,   1.7977,  34.7481,2,  34.7476,2,    197.2,2,   197.1,2,   89.50,2,    2.06,2,  2248.6,2,  2351.4,2, -999.00,9,   29.77,2,   1.6802,     -999.0,     -999.0,9,     -999.0,     -0.010,2,      0.000,2,     99.639,2
09AR20110104,       SR03,      31,          1,          8,          8,2,20110112,       1259,   -55.4925,   140.7430,       3922,  1998.6,   1.6202,  34.7456,2,  34.7451,2,    200.2,2,   200.0,2,   95.00,2,    2.07,2,  2252.1,2,  2354.0,2, -999.00,9,   30.06,2,   1.4893,     -999.0,     -999.0,9,     -999.0,     -0.010,2,      0.000,2,     99.639,2
09AR20110104,       SR03,      31,          1,          7,          7,2,20110112,       1259,   -55.4925,   140.7430,       3922,  2300.0,   1.3356,  34.7347,2,  34.7345,2,    203.4,2,   203.2,2,  103.90,2,    2.10,2,  2255.4,2,  2356.5,2, -999.00,9,   30.37,2,   1.1844,     -999.0,     -999.0,9,     -999.0,     -0.013,2,      0.000,2,     99.666,2
09AR20110104,       SR03,      31,          1,          6,          6,2,20110112,       1259,   -55.4925,   140.7430,       3922,  2600.3,   1.0771,  34.7222,2,  34.7209,2,    206.5,2,   206.4,2,  112.40,2,    2.15,2,  2258.6,2,  2357.8,2, -999.00,9,   30.97,2,   0.9052,     -999.0,     -999.0,9,     -999.0,     -0.013,2,      0.000,2,     99.683,2
09AR20110104,       SR03,      31,          1,          5,          5,2,20110112,       1259,   -55.4925,   140.7430,       3922,  2900.2,   0.8234,  34.7095,2,  34.7082,2,    210.2,2,   210.1,2,  120.10,2,    2.20,2,  2261.4,2,  2358.4,2, -999.00,9,   31.59,2,   0.6304,     -999.0,     -999.0,9,     -999.0,     -0.014,2,      0.000,2,     99.675,2
09AR20110104,       SR03,      31,          1,          4,          4,2,20110112,       1259,   -55.4925,   140.7430,       3922,  3199.2,   0.6287,  34.6999,2,  34.6983,2,    214.0,2,   213.9,2,  125.60,2,    2.23,2,  2260.6,2,  2359.4,2, -999.00,9,   31.43,2,   0.4129,     -999.0,     -999.0,9,     -999.0,     -0.018,2,      0.000,2,     99.663,2
09AR20110104,       SR03,      31,          1,          3,          3,2,20110112,       1259,   -55.4925,   140.7430,       3922,  3497.4,   0.5593,  34.6961,2,  34.6940,2,    215.6,2,   215.6,2,  129.50,2,    2.20,2,  2262.1,2,  2362.2,2, -999.00,9,   31.58,2,   0.3171,     -999.0,     -999.0,9,     -999.0,     -0.018,2,      0.000,2,     99.617,2
09AR20110104,       SR03,      31,          1,          2,        102,2,20110112,       1259,   -55.4925,   140.7430,       3922,  3801.8,   0.5420,  34.6940,2,  34.6929,2,    216.0,2,   216.6,2, -999.00,9,    2.21,2,  -999.0,9,  -999.0,9, -999.00,9,   31.58,2,   0.2703,     -999.0,     -999.0,9,     -999.0,     -0.019,2,      0.000,2,     99.597,2
09AR20110104,       SR03,      31,          1,          1,          1,2,20110112,       1259,   -55.4925,   140.7430,       3922,  3985.8,   0.4862,  34.6909,2,  34.6876,2,    217.6,2,   217.9,2,  132.80,2,    2.22,2,  2262.3,6,  2361.5,6, -999.00,9,   31.58,2,   0.1974,     -999.0,     -999.0,9,     -999.0,     -0.018,2,      0.000,2,     99.567,2