BOTTLE,20230419CCHSIOENA
EXPOCODE,SECT_ID,STNNBR,CASTNO,SAMPNO,BTLNBR,BTLNBR_FLAG_W,DATE,TIME,LATITUDE,LONGITUDE,DEPTH,CTDPRS,CTDTMP,CTDSAL,CTDSAL_FLAG_W,SALNTY,SALNTY_FLAG_W,CTDOXY,CTDOXY_FLAG_W,OXYGEN,OXYGEN_FLAG_W,SILCAT,SILCAT_FLAG_W,PHSPHT,PHSPHT_FLAG_W,TCARBN,TCARBN_FLAG_W,ALKALI,ALKALI_FLAG_W,DELO18,DELO18_FLAG_W,NO2+NO3,NO2+NO3_FLAG_W,THETA,O18ERR,DELD,DELD_FLAG_W,DELDERR,CTDFLUOR,CTDFLUOR_FLAG_W,PAR,PAR_FLAG_W,CTDXMISS,CTDXMISS_FLAG_W
,,,,,,,,,,,METERS,DBAR,ITS-90,PSS-78,,PSS-78,,UMOL/KG,,UMOL/KG,,UMOL/KG,,UMOL/KG,,UMOL/KG,,UMOL/KG,,/MILLE,,UMOL/KG,,DEG C,/MILLE,/MILLE,,/MILLE,MG/M^3,,UMOL/M^2/SEC,,%TRANS,
09AR20110104,       SR03,      70,          1,         24,         24,2,20110120,       2044,   -65.9987,   143.6130,        433,     9.5,  -0.7433,  33.3886,2,  33.3886,2,    374.2,2,   374.2,2,   39.60,2,    1.06,2,  2103.3,6,  2264.2,6, -999.00,9,   19.57,2,  -0.7436,     -999.0,     -999.0,9,     -999.0,      5.165,2,     26.819,2,     85.824,2
09AR20110104,       SR03,      70,          1,         23,         23,2,20110120,       2044,   -65.9987,   143.6130,        433,     9.5,  -0.7419,  33.3888,2,-999.0000,9,    374.2,2,  -999.0,9, -999.00,9, -999.00,9,  -999.0,9,  -999.0,9, -999.00,9, -999.00,9,  -0.7422,     -999.0,     -999.0,9,     -999.0,      5.814,2,     27.819,2,     85.925,2
09AR20110104,       SR03,      70,          1,         22,         22,2,20110120,       2044,   -65.9987,   143.6130,        433,     9.5,  -0.7439,  33.3886,2,-999.0000,9,    374.2,2,  -999.0,9, -999.00,9, -999.00,9,  -999.0,9,  -999.0,9, -999.00,9, -999.00,9,  -0.7442,     -999.0,     -999.0,9,     -999.0,      5.139,2,     27.589,2,     85.934,2
09AR20110104,       SR03,      70,          1,         21,         21,2,20110120,       2044,   -65.9987,   143.6130,        433,     9.4,  -0.7446,  33.3888,2,-999.0000,9,    374.2,2,  -999.0,9, -999.00,9, -999.00,9,  -999.0,9,  -999.0,9, -999.00,9, -999.00,9,  -0.7448,     -999.0,     -999.0,9,     -999.0,      5.091,2,     27.569,2,     85.786,2
09AR20110104,       SR03,      70,          1,         20,         20,2,20110120,       2044,   -65.9987,   143.6130,        433,    53.7,  -1.4807,  34.2572,2,  34.2549,2,    326.7,2,   327.6,2,   62.50,2,    1.95,2,  2201.4,2,  2316.0,2, -999.00,9,   27.35,2,  -1.4819,     -999.0,     -999.0,9,     -999.0,      4.243,2,      0.001,2,     94.446,2
09AR20110104,       SR03,      70,          1,         19,         19,2,20110120,       2044,   -65.9987,   143.6130,        433,    53.8,  -1.4898,  34.2635,2,-999.0000,9,    326.7,2,  -999.0,9, -999.00,9, -999.00,9,  -999.0,9,  -999.0,9, -999.00,9, -999.00,9,  -1.4910,     -999.0,     -999.0,9,     -999.0,      4.251,2,      0.002,2,     94.705,2
09AR20110104,       SR03,      70,          1,         18,         18,2,20110120,       2044,   -65.9987,   143.6130,        433,    53.8,  -1.4886,  34.2621,2,-999.0000,9,    326.7,2,  -999.0,9, -999.00,9, -999.00,9,  -999.0,9,  -999.0,9, -999.00,9, -999.00,9,  -1.4898,     -999.0,     -999.0,9,     -999.0,      3.642,2,      0.002,2,     94.711,2
09AR20110104,       SR03,      70,          1,         17,         17,2,20110120,       2044,   -65.9987,   143.6130,        433,    53.8,  -1.4798,  34.2570,2,-999.0000,9,    326.7,2,  -999.0,9, -999.00,9, -999.00,9,  -999.0,9,  -999.0,9, -999.00,9, -999.00,9,  -1.4810,     -999.0,     -999.0,9,     -999.0,      3.963,2,      0.002,2,     94.491,2
09AR20110104,       SR03,      70,          1,         16,         16,2,20110120,       2044,   -65.9987,   143.6130,        433,   100.9,  -1.6611,  34.3727,2,  34.3738,2,    305.8,2,   304.2,2,   70.10,2,    2.04,2,  2222.6,2,  2322.8,6, -999.00,9,   29.58,2,  -1.6632,     -999.0,     -999.0,9,     -999.0,      0.785,2,      0.000,2,     98.150,2
09AR20110104,       SR03,      70,          1,         15,         15,2,20110120,       2044,   -65.9987,   143.6130,        433,   101.0,  -1.6592,  34.3735,2,-999.0000,9,    305.8,2,  -999.0,9, -999.00,9, -999.00,9,  -999.0,9,  -999.0,9, -999.00,9, -999.00,9,  -1.6613,     -999.0,     -999.0,9,     -999.0,      0.947,2,      0.000,2,     98.056,2
09AR20110104,       SR03,      70,          1,         14,         14,2,20110120,       2044,   -65.9987,   143.6130,        433,   100.9,  -1.6628,  34.3729,2,-999.0000,9,    305.8,2,  -999.0,9, -999.00,9, -999.00,9,  -999.0,9,  -999.0,9, -999.00,9, -999.00,9,  -1.6649,     -999.0,     -999.0,9,     -999.0,      0.788,2,      0.000,2,     98.197,2
09AR20110104,       SR03,      70,          1,         13,         13,2,20110120,       2044,   -65.9987,   143.6130,        433,   100.9,  -1.6650,  34.3725,2,-999.0000,9,    305.8,2,  -999.0,9, -999.00,9, -999.00,9,  -999.0,9,  -999.0,9, -999.00,9, -999.00,9,  -1.6671,     -999.0,     -999.0,9,     -999.0,      0.776,2,      0.000,2,     98.256,2
09AR20110104,       SR03,      70,          1,         12,         12,2,20110120,       2044,   -65.9987,   143.6130,        433,   175.1,  -1.0534,  34.4790,2,  34.4799,2,    276.1,2,   272.1,2,   77.00,2,    2.10,2,  2234.0,2,  2327.3,2, -999.00,9,   30.48,2,  -1.0582,     -999.0,     -999.0,9,     -999.0,      0.067,2,      0.000,2,     99.296,2
09AR20110104,       SR03,      70,          1,         11,         11,2,20110120,       2044,   -65.9987,   143.6130,        433,   175.0,  -1.0629,  34.4784,2,-999.0000,9,    276.5,2,  -999.0,9, -999.00,9, -999.00,9,  -999.0,9,  -999.0,9, -999.00,9, -999.00,9,  -1.0677,     -999.0,     -999.0,9,     -999.0,      0.076,2,      0.000,2,     99.278,2
09AR20110104,       SR03,      70,          1,         10,         10,2,20110120,       2044,   -65.9987,   143.6130,        433,   249.9,  -1.1867,  34.5365,2,  34.5364,2,    274.1,2,   276.7,2,   79.70,2,    2.09,2,  2240.6,2,  2332.0,2, -999.00,9,   30.70,2,  -1.1935,     -999.0,     -999.0,9,     -999.0,      0.053,2,      0.000,2,     99.138,2
09AR20110104,       SR03,      70,          1,          9,          9,2,20110120,       2044,   -65.9987,   143.6130,        433,   249.6,  -1.1905,  34.5361,2,-999.0000,9,    274.1,2,  -999.0,9, -999.00,9, -999.00,9,  -999.0,9,  -999.0,9, -999.00,9, -999.00,9,  -1.1973,     -999.0,     -999.0,9,     -999.0,      0.066,2,      0.000,2,     99.098,2
09AR20110104,       SR03,      70,          1,          8,          8,2,20110120,       2044,   -65.9987,   143.6130,        433,   324.3,  -1.8951,  34.5923,2,  34.5912,2,    308.0,2,   307.7,2,   74.00,2,    2.04,2,  2237.1,2,  2338.4,2, -999.00,9,   30.58,2,  -1.9022,     -999.0,     -999.0,9,     -999.0,      0.018,2,      0.000,2,     99.192,2
09AR20110104,       SR03,      70,          1,          7,          7,2,20110120,       2044,   -65.9987,   143.6130,        433,   324.5,  -1.8951,  34.5925,2,-999.0000,9,    308.0,2,  -999.0,9, -999.00,9, -999.00,9,  -999.0,9,  -999.0,9, -999.00,9, -999.00,9,  -1.9022,     -999.0,     -999.0,9,     -999.0,      0.009,2,      0.000,2,     99.193,2
09AR20110104,       SR03,      70,          1,          6,          6,2,20110120,       2044,   -65.9987,   143.6130,        433,   324.7,  -1.8951,  34.5918,2,-999.0000,9,    308.0,2,  -999.0,9, -999.00,9, -999.00,9,  -999.0,9,  -999.0,9, -999.00,9, -999.00,9,  -1.9022,     -999.0,     -999.0,9,     -999.0,      0.030,2,      0.000,2,     99.165,2
09AR20110104,       SR03,      70,          1,          5,          5,2,20110120,       2044,   -65.9987,   143.6130,        433,   324.9,  -1.8952,  34.5918,2,-999.0000,9,    308.0,2,  -999.0,9, -999.00,9, -999.00,9,  -999.0,9,  -999.0,9, -999.00,9, -999.00,9,  -1.9023,     -999.0,     -999.0,9,     -999.0,      0.006,2,      0.000,2,     99.100,2
09AR20110104,       SR03,      70,          1,          4,          4,2,20110120,       2044,   -65.9987,   143.6130,        433,   401.3,  -1.8927,  34.6134,2,  34.6119,2,    306.6,2,   306.6,2,   74.40,2,    2.07,2,  2240.4,2,  2336.6,2, -999.00,9,   30.50,2,  -1.9018,     -999.0,     -999.0,9,     -999.0,      0.009,2,      0.000,2,     98.899,2
09AR20110104,       SR03,      70,          1,          3,          3,2,20110120,       2044,   -65.9987,   143.6130,        433,   401.2,  -1.8927,  34.6133,2,-999.0000,9,    306.6,2,  -999.0,9, -999.00,9, -999.00,9,  -999.0,9,  -999.0,9, -999.00,9, -999.00,9,  -1.9018,     -999.0,     -999.0,9,     -999.0,      0.003,2,      0.000,2,     98.931,2
09AR20110104,       SR03,      70,          1,          2,        102,2,20110120,       2044,   -65.9987,   143.6130,        433,   429.2,  -1.8921,  34.6132,2,  34.6119,2,    306.5,2,   306.8,2,   74.20,2,    2.07,2,  -999.0,9,  -999.0,9, -999.00,9,   30.28,2,  -1.9019,     -999.0,     -999.0,9,     -999.0,      0.001,2,      0.000,2,     98.881,2
09AR20110104,       SR03,      70,          1,          1,          1,2,20110120,       2044,   -65.9987,   143.6130,        433,   429.9,  -1.8921,  34.6135,2,-999.0000,9,    306.5,2,  -999.0,9, -999.00,9, -999.00,9,  -999.0,9,  -999.0,9, -999.00,9, -999.00,9,  -1.9019,     -999.0,     -999.0,9,     -999.0,      0.010,2,      0.000,2,     98.902,2
09AR20110104,       SR03,      71,          1,         24,         24,2,20110120,       2231,   -66.0030,   143.9000,        393,     9.5,  -0.9261,  33.5092,2,  33.5084,2,    372.1,2,   372.6,2, -999.00,9,    1.18,2,  2115.8,2,  2273.2,2, -999.00,9,   20.57,2,  -0.9263,     -999.0,     -999.0,9,     -999.0,      5.418,2,     35.079,2,     84.783,2
09AR20110104,       SR03,      71,          1,         23,         23,2,20110120,       2231,   -66.0030,   143.9000,        393,     9.5,  -0.9260,  33.5091,2,-999.0000,9,    372.1,2,  -999.0,9, -999.00,9, -999.00,9,  -999.0,9,  -999.0,9, -999.00,9, -999.00,9,  -0.9262,     -999.0,     -999.0,9,     -999.0,      5.379,2,     36.109,2,     84.851,2
09AR20110104,       SR03,      71,          1,         22,         22,2,20110120,       2231,   -66.0030,   143.9000,        393,     9.4,  -0.9278,  33.5124,2,-999.0000,9,    372.1,2,  -999.0,9, -999.00,9, -999.00,9,  -999.0,9,  -999.0,9, -999.00,9, -999.00,9,  -0.9280,     -999.0,     -999.0,9,     -999.0,      5.505,2,     36.259,2,     84.824,2
09AR20110104,       SR03,      71,          1,         21,         21,2,20110120,       2231,   -66.0030,   143.9000,        393,     9.4,  -0.9258,  33.5091,2,-999.0000,9,    372.1,2,  -999.0,9, -999.00,9, -999.00,9,  -999.0,9,  -999.0,9, -999.00,9, -999.00,9,  -0.9260,     -999.0,     -999.0,9,     -999.0,      5.359,2,     34.029,2,     84.840,2
09AR20110104,       SR03,      71,          1,         20,         20,2,20110120,       2231,   -66.0030,   143.9000,        393,    49.0,  -1.5954,  34.2659,2,  34.2853,2,    322.7,2,   322.4,2,   67.20,2,    1.98,2,  2209.9,2,  2317.8,2, -999.00,9,   28.46,2,  -1.5964,     -999.0,     -999.0,9,     -999.0,      4.576,2,      0.072,2,     93.531,2
09AR20110104,       SR03,      71,          1,         19,         19,2,20110120,       2231,   -66.0030,   143.9000,        393,    49.0,  -1.6345,  34.2735,2,-999.0000,9,    322.7,2,  -999.0,9, -999.00,9, -999.00,9,  -999.0,9,  -999.0,9, -999.00,9, -999.00,9,  -1.6355,     -999.0,     -999.0,9,     -999.0,      3.971,2,      0.067,2,     93.849,2
09AR20110104,       SR03,      71,          1,         18,         18,2,20110120,       2231,   -66.0030,   143.9000,        393,    49.0,  -1.6657,  34.2769,2,-999.0000,9,    322.7,2,  -999.0,9, -999.00,9, -999.00,9,  -999.0,9,  -999.0,9, -999.00,9, -999.00,9,  -1.6667,     -999.0,     -999.0,9,     -999.0,      4.766,2,      0.077,2,     94.128,2
09AR20110104,       SR03,      71,          1,         17,         17,2,20110120,       2231,   -66.0030,   143.9000,        393,    49.0,  -1.6881,  34.2839,2,-999.0000,9,    323.4,2,  -999.0,9, -999.00,9, -999.00,9,  -999.0,9,  -999.0,9, -999.00,9, -999.00,9,  -1.6891,     -999.0,     -999.0,9,     -999.0,      3.382,2,      0.082,2,     94.406,2
09AR20110104,       SR03,      71,          1,         16,         16,2,20110120,       2231,   -66.0030,   143.9000,        393,   102.1,  -1.7961,  34.3547,2,  34.3524,2,    313.0,2,   312.3,2,   71.60,2,    2.03,2,  2222.7,2,  2322.4,6, -999.00,9,   30.06,2,  -1.7981,     -999.0,     -999.0,9,     -999.0,      0.201,2,      0.000,2,     99.058,2
09AR20110104,       SR03,      71,          1,         15,         15,2,20110120,       2231,   -66.0030,   143.9000,        393,   101.9,  -1.7951,  34.3540,2,-999.0000,9,    313.0,2,  -999.0,9, -999.00,9, -999.00,9,  -999.0,9,  -999.0,9, -999.00,9, -999.00,9,  -1.7971,     -999.0,     -999.0,9,     -999.0,      0.190,2,      0.000,2,     99.028,2
09AR20110104,       SR03,      71,          1,         14,         14,2,20110120,       2231,   -66.0030,   143.9000,        393,   101.8,  -1.7953,  34.3541,2,-999.0000,9,    313.0,2,  -999.0,9, -999.00,9, -999.00,9,  -999.0,9,  -999.0,9, -999.00,9, -999.00,9,  -1.7973,     -999.0,     -999.0,9,     -999.0,      0.176,2,      0.000,2,     99.041,2
09AR20110104,       SR03,      71,          1,         13,         13,2,20110120,       2231,   -66.0030,   143.9000,        393,   101.7,  -1.7955,  34.3544,2,-999.0000,9,    313.0,2,  -999.0,9, -999.00,9, -999.00,9,  -999.0,9,  -999.0,9, -999.00,9, -999.00,9,  -1.7975,     -999.0,     -999.0,9,     -999.0,      0.157,2,      0.000,2,     99.061,2
09AR20110104,       SR03,      71,          1,         12,         12,2,20110120,       2231,   -66.0030,   143.9000,        393,   175.7,  -1.7473,  34.3814,2,  34.3818,2,    305.2,2,   306.2,2,   73.20,2,    2.04,2,  2226.3,2,  2326.0,2, -999.00,9,   30.45,2,  -1.7510,     -999.0,     -999.0,9,     -999.0,      0.068,2,      0.000,2,     99.392,2
09AR20110104,       SR03,      71,          1,         11,         11,2,20110120,       2231,   -66.0030,   143.9000,        393,   175.3,  -1.7460,  34.3819,2,-999.0000,9,    305.2,2,  -999.0,9, -999.00,9, -999.00,9,  -999.0,9,  -999.0,9, -999.00,9, -999.00,9,  -1.7497,     -999.0,     -999.0,9,     -999.0,      0.004,2,      0.000,2,     99.416,2
09AR20110104,       SR03,      71,          1,         10,         10,2,20110120,       2231,   -66.0030,   143.9000,        393,   275.7,  -0.7392,  34.5151,2,  34.5142,2,    263.5,2,   259.7,2,   83.00,2,    2.11,2,  2242.9,2,  2335.7,2, -999.00,9,   31.40,2,  -0.7478,     -999.0,     -999.0,9,     -999.0,      0.064,2,      0.000,2,     99.261,2
09AR20110104,       SR03,      71,          1,          9,          9,2,20110120,       2231,   -66.0030,   143.9000,        393,   275.0,  -0.7406,  34.5154,2,-999.0000,9,    263.6,2,  -999.0,9, -999.00,9, -999.00,9,  -999.0,9,  -999.0,9, -999.00,9, -999.00,9,  -0.7492,     -999.0,     -999.0,9,     -999.0,     -0.002,2,      0.000,2,     99.282,2
09AR20110104,       SR03,      71,          1,          8,          8,2,20110120,       2231,   -66.0030,   143.9000,        393,   323.4,  -0.8590,  34.5266,2,  34.5260,2,    262.4,2,   261.3,2,   83.20,2,    2.12,2,  2244.1,2,  2338.0,2, -999.00,9,   31.21,2,  -0.8689,     -999.0,     -999.0,9,     -999.0,     -0.002,2,      0.000,2,     98.932,2
09AR20110104,       SR03,      71,          1,          7,          7,2,20110120,       2231,   -66.0030,   143.9000,        393,   323.6,  -0.8585,  34.5267,2,-999.0000,9,    262.4,2,  -999.0,9, -999.00,9, -999.00,9,  -999.0,9,  -999.0,9, -999.00,9, -999.00,9,  -0.8684,     -999.0,     -999.0,9,     -999.0,      0.065,2,      0.000,2,     98.927,2
09AR20110104,       SR03,      71,          1,          6,          6,2,20110120,       2231,   -66.0030,   143.9000,        393,   323.6,  -0.8588,  34.5266,2,-999.0000,9,    262.4,2,  -999.0,9, -999.00,9, -999.00,9,  -999.0,9,  -999.0,9, -999.00,9, -999.00,9,  -0.8687,     -999.0,     -999.0,9,     -999.0,      0.048,2,      0.000,2,     98.935,2
09AR20110104,       SR03,      71,          1,          5,          5,2,20110120,       2231,   -66.0030,   143.9000,        393,   323.5,  -0.8592,  34.5267,2,-999.0000,9,    262.4,2,  -999.0,9, -999.00,9, -999.00,9,  -999.0,9,  -999.0,9, -999.00,9, -999.00,9,  -0.8691,     -999.0,     -999.0,9,     -999.0,      0.046,2,      0.000,2,     98.960,2
09AR20110104,       SR03,      71,          1,          4,          4,2,20110120,       2231,   -66.0030,   143.9000,        393,   374.6,  -0.4888,  34.6186,2,  34.6192,2,    244.6,2,   248.5,2,   88.60,2,    2.15,2,  2249.8,2,  2344.4,2, -999.00,9,   31.13,2,  -0.5017,     -999.0,     -999.0,9,     -999.0,      0.004,2,      0.000,2,     98.787,2
09AR20110104,       SR03,      71,          1,          3,          3,2,20110120,       2231,   -66.0030,   143.9000,        393,   374.3,  -0.5249,  34.6206,2,-999.0000,9,    244.6,2,  -999.0,9, -999.00,9, -999.00,9,  -999.0,9,  -999.0,9, -999.00,9, -999.00,9,  -0.5377,     -999.0,     -999.0,9,     -999.0,      0.014,2,      0.000,2,     98.787,2
09AR20110104,       SR03,      71,          1,          2,        102,2,20110120,       2231,   -66.0030,   143.9000,        393,   388.1,  -1.2777,  34.6236,2,  34.6221,2,    275.2,2,   274.9,2,   82.10,2,    2.11,2,  -999.0,9,  -999.0,9, -999.00,9,   30.41,2,  -1.2885,     -999.0,     -999.0,9,     -999.0,      0.032,2,      0.000,2,     98.772,2
09AR20110104,       SR03,      71,          1,          1,          1,2,20110120,       2231,   -66.0030,   143.9000,        393,   387.0,  -1.2809,  34.6247,2,-999.0000,9,    264.9,2,  -999.0,9, -999.00,9, -999.00,9,  -999.0,9,  -999.0,9, -999.00,9, -999.00,9,  -1.2916,     -999.0,     -999.0,9,     -999.0,      0.003,2,      0.000,2,     98.796,2