BOTTLE,20230419CCHSIOENA
EXPOCODE,SECT_ID,STNNBR,CASTNO,SAMPNO,BTLNBR,BTLNBR_FLAG_W,DATE,TIME,LATITUDE,LONGITUDE,DEPTH,CTDPRS,CTDTMP,CTDSAL,CTDSAL_FLAG_W,SALNTY,SALNTY_FLAG_W,CTDOXY,CTDOXY_FLAG_W,OXYGEN,OXYGEN_FLAG_W,SILCAT,SILCAT_FLAG_W,PHSPHT,PHSPHT_FLAG_W,TCARBN,TCARBN_FLAG_W,ALKALI,ALKALI_FLAG_W,DELO18,DELO18_FLAG_W,NO2+NO3,NO2+NO3_FLAG_W,THETA,O18ERR,DELD,DELD_FLAG_W,DELDERR,CTDFLUOR,CTDFLUOR_FLAG_W,PAR,PAR_FLAG_W,CTDXMISS,CTDXMISS_FLAG_W
,,,,,,,,,,,METERS,DBAR,ITS-90,PSS-78,,PSS-78,,UMOL/KG,,UMOL/KG,,UMOL/KG,,UMOL/KG,,UMOL/KG,,UMOL/KG,,/MILLE,,UMOL/KG,,DEG C,/MILLE,/MILLE,,/MILLE,MG/M^3,,UMOL/M^2/SEC,,%TRANS,
09AR20110104,       SR03,     100,          1,         24,         24,2,20110125,       0906,   -66.6873,   143.6870,        748,    10.3,  -0.8882,  33.6328,2,  33.6430,2,    370.8,2,   372.0,2,   39.00,2,    1.03,2,  2116.4,2,  2287.3,2,   -0.56,2,   18.26,2,  -0.8885,       0.04,      -5.07,2,       0.26,     12.494,2,      7.680,2,     84.955,2
09AR20110104,       SR03,     100,          1,         23,         23,2,20110125,       0906,   -66.6873,   143.6870,        748,    10.3,  -0.8884,  33.6322,2,-999.0000,9,    370.8,2,  -999.0,9, -999.00,9, -999.00,9,  -999.0,9,  -999.0,9, -999.00,9, -999.00,9,  -0.8887,     -999.0,     -999.0,9,     -999.0,     12.255,2,      7.746,2,     85.137,2
09AR20110104,       SR03,     100,          1,         22,         22,2,20110125,       0906,   -66.6873,   143.6870,        748,    50.2,  -1.1147,  33.9316,2,  33.9414,2,    356.3,2,   355.2,2,   50.10,2,    1.37,2,  2155.2,2,  2301.8,2,   -0.41,2,   22.24,2,  -1.1159,       0.03,      -4.11,2,       0.06,      8.419,2,      0.000,2,     88.931,2
09AR20110104,       SR03,     100,          1,         21,         21,2,20110125,       0906,   -66.6873,   143.6870,        748,    50.2,  -1.1206,  33.9369,2,-999.0000,9,    356.3,2,  -999.0,9, -999.00,9, -999.00,9,  -999.0,9,  -999.0,9, -999.00,9, -999.00,9,  -1.1218,     -999.0,     -999.0,9,     -999.0,      8.362,2,      0.000,2,     89.096,2
09AR20110104,       SR03,     100,          1,         20,         20,2,20110125,       0906,   -66.6873,   143.6870,        748,    50.2,  -1.1198,  33.9357,2,-999.0000,9,    356.3,2,  -999.0,9, -999.00,9, -999.00,9,  -999.0,9,  -999.0,9, -999.00,9, -999.00,9,  -1.1210,     -999.0,     -999.0,9,     -999.0,      8.577,2,      0.000,2,     88.924,2
09AR20110104,       SR03,     100,          1,         19,         19,2,20110125,       0906,   -66.6873,   143.6870,        748,    50.2,  -1.1231,  33.9378,2,-999.0000,9,    356.3,2,  -999.0,9, -999.00,9, -999.00,9,  -999.0,9,  -999.0,9, -999.00,9, -999.00,9,  -1.1243,     -999.0,     -999.0,9,     -999.0,      9.017,2,      0.000,2,     89.135,2
09AR20110104,       SR03,     100,          1,         18,         18,2,20110125,       0906,   -66.6873,   143.6870,        748,   100.9,  -1.7367,  34.3702,2,  34.3698,2,    315.0,2,   311.5,2,   72.50,2,    1.99,2,  2219.1,2,  2323.7,2,   -0.36,2,   29.46,2,  -1.7388,       0.03,      -4.04,2,       0.01,      0.941,2,      0.000,2,     98.298,2
09AR20110104,       SR03,     100,          1,         17,         17,2,20110125,       0906,   -66.6873,   143.6870,        748,   100.9,  -1.7369,  34.3688,2,-999.0000,9,    315.0,2,  -999.0,9, -999.00,9, -999.00,9,  -999.0,9,  -999.0,9, -999.00,9, -999.00,9,  -1.7390,     -999.0,     -999.0,9,     -999.0,      0.828,2,      0.000,2,     98.227,2
09AR20110104,       SR03,     100,          1,         16,         16,2,20110125,       0906,   -66.6873,   143.6870,        748,   250.8,  -1.8759,  34.4632,2,  34.4630,2,    305.9,2,   306.0,2,   74.60,2,    2.05,2,  2228.8,2,  2329.3,6,   -0.38,2,   30.28,2,  -1.8812,       0.01,      -4.09,2,       0.13,      0.061,2,      0.000,2,     99.234,2
09AR20110104,       SR03,     100,          1,         15,         15,2,20110125,       0906,   -66.6873,   143.6870,        748,   250.8,  -1.8763,  34.4628,2,-999.0000,9,    305.9,2,  -999.0,9, -999.00,9, -999.00,9,  -999.0,9,  -999.0,9, -999.00,9, -999.00,9,  -1.8816,     -999.0,     -999.0,9,     -999.0,      0.042,2,      0.000,2,     99.257,2
09AR20110104,       SR03,     100,          1,         14,         14,2,20110125,       0906,   -66.6873,   143.6870,        748,   401.6,  -1.9176,  34.4921,2,  34.4926,2,    305.2,2,   304.9,2,   74.90,2,    2.06,2,  2230.9,2,  2332.0,2,   -0.37,2,   30.43,2,  -1.9265,       0.02,      -3.99,2,       0.07,     -0.029,2,      0.000,2,     99.208,2
09AR20110104,       SR03,     100,          1,         13,         13,2,20110125,       0906,   -66.6873,   143.6870,        748,   400.6,  -1.9166,  34.4914,2,-999.0000,9,    305.1,2,  -999.0,9, -999.00,9, -999.00,9,  -999.0,9,  -999.0,9, -999.00,9, -999.00,9,  -1.9255,     -999.0,     -999.0,9,     -999.0,      0.005,2,      0.000,2,     99.216,2
09AR20110104,       SR03,     100,          1,         12,         12,2,20110125,       0906,   -66.6873,   143.6870,        748,   400.1,  -1.9166,  34.4914,2,-999.0000,9,    305.1,2,  -999.0,9, -999.00,9, -999.00,9,  -999.0,9,  -999.0,9, -999.00,9, -999.00,9,  -1.9255,     -999.0,     -999.0,9,     -999.0,      0.047,2,      0.000,2,     99.218,2
09AR20110104,       SR03,     100,          1,         11,         11,2,20110125,       0906,   -66.6873,   143.6870,        748,   551.2,  -1.9867,  34.5348,2,  34.5335,2,    306.9,2,   307.2,2,   74.70,2,    2.06,2,  2234.2,2,  2335.2,2, -999.00,9,   30.29,2,  -1.9994,     -999.0,     -999.0,9,     -999.0,      0.014,2,      0.000,2,     98.705,2
09AR20110104,       SR03,     100,          1,         10,         10,2,20110125,       0906,   -66.6873,   143.6870,        748,   638.8,  -1.9968,  34.5578,2,  34.5630,2,    307.8,2,   308.1,2,   74.70,2,    2.06,2,  2235.4,2,  2337.3,2,   -0.46,2,   30.28,2,  -2.0121,       0.03,      -4.48,2,       0.18,      0.017,2,      0.000,2,     98.981,2
09AR20110104,       SR03,     100,          1,          9,          9,2,20110125,       0906,   -66.6873,   143.6870,        748,   639.9,  -1.9965,  34.5577,2,-999.0000,9,    307.8,2,  -999.0,9, -999.00,9, -999.00,9,  -999.0,9,  -999.0,9, -999.00,9, -999.00,9,  -2.0118,     -999.0,     -999.0,9,     -999.0,     -0.020,2,      0.000,2,     98.957,2
09AR20110104,       SR03,     100,          1,          8,          8,2,20110125,       0906,   -66.6873,   143.6870,        748,   701.1,  -1.9675,  34.5856,2,  34.5877,2,    308.8,2,   308.1,2,   74.90,2,    2.05,2,  2236.7,2,  2337.4,2,   -0.40,2,   30.39,2,  -1.9849,       0.07,      -4.26,2,       0.13,      0.008,2,      0.000,2,     99.149,2
09AR20110104,       SR03,     100,          1,          7,          7,2,20110125,       0906,   -66.6873,   143.6870,        748,   701.0,  -1.9674,  34.5857,2,-999.0000,9,    308.7,2,  -999.0,9, -999.00,9, -999.00,9,  -999.0,9,  -999.0,9, -999.00,9, -999.00,9,  -1.9848,     -999.0,     -999.0,9,     -999.0,     -0.043,2,      0.000,2,     99.205,2
09AR20110104,       SR03,     100,          1,          6,          6,2,20110125,       0906,   -66.6873,   143.6870,        748,   700.9,  -1.9674,  34.5857,2,-999.0000,9,    308.7,2,  -999.0,9, -999.00,9, -999.00,9,  -999.0,9,  -999.0,9, -999.00,9, -999.00,9,  -1.9848,     -999.0,     -999.0,9,     -999.0,     -0.035,2,      0.000,2,     99.197,2
09AR20110104,       SR03,     100,          1,          5,          5,2,20110125,       0906,   -66.6873,   143.6870,        748,   700.8,  -1.9674,  34.5858,2,-999.0000,9,    308.7,2,  -999.0,9, -999.00,9, -999.00,9,  -999.0,9,  -999.0,9, -999.00,9, -999.00,9,  -1.9848,     -999.0,     -999.0,9,     -999.0,      0.025,2,      0.000,2,     99.197,2
09AR20110104,       SR03,     100,          1,          4,          4,2,20110125,       0906,   -66.6873,   143.6870,        748,   700.7,  -1.9675,  34.5858,2,-999.0000,9,    308.7,2,  -999.0,9, -999.00,9, -999.00,9,  -999.0,9,  -999.0,9, -999.00,9, -999.00,9,  -1.9849,     -999.0,     -999.0,9,     -999.0,     -0.057,2,      0.000,2,     99.196,2
09AR20110104,       SR03,     100,          1,          3,          3,2,20110125,       0906,   -66.6873,   143.6870,        748,   700.6,  -1.9673,  34.5858,2,-999.0000,9,    308.7,2,  -999.0,9, -999.00,9, -999.00,9,  -999.0,9,  -999.0,9, -999.00,9, -999.00,9,  -1.9847,     -999.0,     -999.0,9,     -999.0,      0.000,2,      0.000,2,     99.167,2
09AR20110104,       SR03,     100,          1,          2,        102,2,20110125,       0906,   -66.6873,   143.6870,        748,   747.4,  -1.9472,  34.6016,2,-999.0000,9,    309.3,2,   308.1,2,   75.80,2,    2.06,2,  -999.0,9,  -999.0,9,   -0.53,2,   30.39,2,  -1.9663,       0.09,      -4.64,2,       0.09,     -0.033,2,      0.000,2,     99.198,2
09AR20110104,       SR03,     100,          1,          1,          1,2,20110125,       0906,   -66.6873,   143.6870,        748,   746.9,  -1.9470,  34.6017,2,-999.0000,9,    309.2,2,  -999.0,9, -999.00,9, -999.00,9,  -999.0,9,  -999.0,9, -999.00,9, -999.00,9,  -1.9660,     -999.0,     -999.0,9,     -999.0,     -0.062,2,      0.000,2,     99.187,2
09AR20110104,       SR03,     101,          1,         24,         24,2,20110125,       1120,   -66.6072,   143.7150,        741,    10.7,  -0.9304,  33.5701,2,  33.6117,4,    374.7,2,   374.8,2,   38.20,2,    0.98,2,  2114.5,2,  2283.9,2,   -0.56,2,   17.97,2,  -0.9307,       0.14,      -5.13,2,       0.31,     14.137,2,      0.453,2,     84.606,2
09AR20110104,       SR03,     101,          1,         23,         23,2,20110125,       1120,   -66.6072,   143.7150,        741,    10.7,  -0.9303,  33.5700,2,-999.0000,9,    374.7,2,  -999.0,9, -999.00,9, -999.00,9,  -999.0,9,  -999.0,9, -999.00,9, -999.00,9,  -0.9306,     -999.0,     -999.0,9,     -999.0,     14.516,2,      0.489,2,     84.493,2
09AR20110104,       SR03,     101,          1,         22,         22,2,20110125,       1120,   -66.6072,   143.7150,        741,    59.4,  -0.9281,  33.6105,2,  33.6171,2,    373.4,2,   373.5,2,   39.00,2,    1.07,2,  2117.3,2,  2286.1,2,   -0.40,2,   18.39,2,  -0.9296,       0.04,      -4.30,2,       0.28,     12.992,2,      0.000,2,     85.151,2
09AR20110104,       SR03,     101,          1,         21,         21,2,20110125,       1120,   -66.6072,   143.7150,        741,    59.7,  -0.9285,  33.6096,2,-999.0000,9,    373.4,2,  -999.0,9, -999.00,9, -999.00,9,  -999.0,9,  -999.0,9, -999.00,9, -999.00,9,  -0.9300,     -999.0,     -999.0,9,     -999.0,     13.226,2,      0.000,2,     85.094,2
09AR20110104,       SR03,     101,          1,         20,         20,2,20110125,       1120,   -66.6072,   143.7150,        741,    59.8,  -0.9280,  33.6123,2,-999.0000,9,    373.4,2,  -999.0,9, -999.00,9, -999.00,9,  -999.0,9,  -999.0,9, -999.00,9, -999.00,9,  -0.9295,     -999.0,     -999.0,9,     -999.0,     13.032,2,      0.000,2,     85.071,2
09AR20110104,       SR03,     101,          1,         19,         19,2,20110125,       1120,   -66.6072,   143.7150,        741,    59.9,  -0.9251,  33.6126,2,-999.0000,9,    373.4,2,  -999.0,9, -999.00,9, -999.00,9,  -999.0,9,  -999.0,9, -999.00,9, -999.00,9,  -0.9266,     -999.0,     -999.0,9,     -999.0,     12.742,2,      0.000,2,     85.045,2
09AR20110104,       SR03,     101,          1,         18,         18,2,20110125,       1120,   -66.6072,   143.7150,        741,   109.9,  -1.7461,  34.3121,2,  34.3131,2,    319.7,2,   319.1,2,   71.00,2,    1.94,2,  2211.7,2,  2322.8,2,   -0.34,2,   29.36,2,  -1.7483,       0.06,      -3.87,2,       0.21,      1.305,2,      0.000,2,     97.297,2
09AR20110104,       SR03,     101,          1,         17,         17,2,20110125,       1120,   -66.6072,   143.7150,        741,   109.9,  -1.7377,  34.3119,2,-999.0000,9,    319.7,2,  -999.0,9, -999.00,9, -999.00,9,  -999.0,9,  -999.0,9, -999.00,9, -999.00,9,  -1.7400,     -999.0,     -999.0,9,     -999.0,      1.524,2,      0.000,2,     97.289,2
09AR20110104,       SR03,     101,          1,         16,         16,2,20110125,       1120,   -66.6072,   143.7150,        741,   250.3,  -1.7299,  34.4469,2,  34.4522,2,    301.9,2,   303.1,2,   75.50,2,    2.06,2,  2227.9,2,  2331.0,2,   -0.36,2,   31.09,2,  -1.7355,       0.10,      -4.04,2,       0.28,      0.023,2,      0.000,2,     99.249,2
09AR20110104,       SR03,     101,          1,         15,         15,2,20110125,       1120,   -66.6072,   143.7150,        741,   250.2,  -1.7325,  34.4484,2,-999.0000,9,    301.9,2,  -999.0,9, -999.00,9, -999.00,9,  -999.0,9,  -999.0,9, -999.00,9, -999.00,9,  -1.7381,     -999.0,     -999.0,9,     -999.0,      0.011,2,      0.000,2,     99.238,2
09AR20110104,       SR03,     101,          1,         14,         14,2,20110125,       1120,   -66.6072,   143.7150,        741,   349.9,  -1.8549,  34.5019,2,  34.5048,2,    304.7,2,   303.7,2,   74.90,2,    2.07,2,  2232.2,2,  2336.4,2,   -0.41,2,   30.40,2,  -1.8627,       0.06,      -4.12,2,       0.03,      0.014,2,      0.000,2,     99.330,2
09AR20110104,       SR03,     101,          1,         13,         13,2,20110125,       1120,   -66.6072,   143.7150,        741,   349.9,  -1.8547,  34.5018,2,-999.0000,9,    304.7,2,  -999.0,9, -999.00,9, -999.00,9,  -999.0,9,  -999.0,9, -999.00,9, -999.00,9,  -1.8625,     -999.0,     -999.0,9,     -999.0,     -0.008,2,      0.000,2,     99.335,2
09AR20110104,       SR03,     101,          1,         12,         12,2,20110125,       1120,   -66.6072,   143.7150,        741,   350.0,  -1.8593,  34.5046,2,-999.0000,9,    304.7,2,  -999.0,9, -999.00,9, -999.00,9,  -999.0,9,  -999.0,9, -999.00,9, -999.00,9,  -1.8671,     -999.0,     -999.0,9,     -999.0,     -0.006,2,      0.000,2,     99.332,2
09AR20110104,       SR03,     101,          1,         11,         11,2,20110125,       1120,   -66.6072,   143.7150,        741,   425.1,  -2.0268,  34.5489,2,  34.5504,2,    308.1,2,   308.6,2,   73.80,2,    2.06,2,  2233.8,2,  2337.3,2,   -0.53,2,   30.12,2,  -2.0360,       0.16,      -5.42,2,       0.18,     -0.030,2,      0.000,2,     99.042,2
09AR20110104,       SR03,     101,          1,         10,         10,2,20110125,       1120,   -66.6072,   143.7150,        741,   499.2,  -2.0212,  34.5675,2,  34.5673,2,    308.6,2,   308.9,2,   74.40,2,    2.07,2,  2236.1,2,  2338.0,2,   -0.58,2,   30.36,2,  -2.0324,       0.03,      -5.40,2,       0.17,     -0.031,2,      0.000,2,     98.699,2
09AR20110104,       SR03,     101,          1,          9,          9,2,20110125,       1120,   -66.6072,   143.7150,        741,   499.1,  -2.0213,  34.5676,2,-999.0000,9,    308.6,2,  -999.0,9, -999.00,9, -999.00,9,  -999.0,9,  -999.0,9, -999.00,9, -999.00,9,  -2.0325,     -999.0,     -999.0,9,     -999.0,      0.015,2,      0.000,2,     98.618,2
09AR20110104,       SR03,     101,          1,          8,          8,2,20110125,       1120,   -66.6072,   143.7150,        741,   599.9,  -1.9579,  34.5943,2,  34.5965,2,    308.5,2,   308.6,2,   74.50,2,    2.06,2,  2236.1,2,  2339.8,2,   -0.49,2,   30.53,2,  -1.9723,       0.13,      -4.62,2,       0.20,     -0.002,2,      0.000,2,     99.164,2
09AR20110104,       SR03,     101,          1,          7,          7,2,20110125,       1120,   -66.6072,   143.7150,        741,   599.9,  -1.9578,  34.5942,2,-999.0000,9,    308.5,2,  -999.0,9, -999.00,9, -999.00,9,  -999.0,9,  -999.0,9, -999.00,9, -999.00,9,  -1.9722,     -999.0,     -999.0,9,     -999.0,     -0.019,2,      0.000,2,     99.168,2
09AR20110104,       SR03,     101,          1,          6,          6,2,20110125,       1120,   -66.6072,   143.7150,        741,   599.9,  -1.9577,  34.5945,2,-999.0000,9,    308.5,2,  -999.0,9, -999.00,9, -999.00,9,  -999.0,9,  -999.0,9, -999.00,9, -999.00,9,  -1.9721,     -999.0,     -999.0,9,     -999.0,     -0.031,2,      0.000,2,     99.164,2
09AR20110104,       SR03,     101,          1,          5,          5,2,20110125,       1120,   -66.6072,   143.7150,        741,   599.8,  -1.9571,  34.5947,2,-999.0000,9,    308.5,2,  -999.0,9, -999.00,9, -999.00,9,  -999.0,9,  -999.0,9, -999.00,9, -999.00,9,  -1.9715,     -999.0,     -999.0,9,     -999.0,      0.018,2,      0.000,2,     99.156,2
09AR20110104,       SR03,     101,          1,          4,          4,2,20110125,       1120,   -66.6072,   143.7150,        741,   700.2,  -1.9232,  34.6197,2,  34.6193,2,    308.5,2,   308.3,2,   74.40,2,    2.06,2,  -999.0,9,  -999.0,9,   -0.48,2,   30.51,2,  -1.9409,       0.12,      -4.58,2,       0.35,     -0.004,2,      0.000,2,     99.198,2
09AR20110104,       SR03,     101,          1,          3,          3,2,20110125,       1120,   -66.6072,   143.7150,        741,   700.1,  -1.9232,  34.6196,2,-999.0000,9,    308.5,2,  -999.0,9, -999.00,9, -999.00,9,  -999.0,9,  -999.0,9, -999.00,9, -999.00,9,  -1.9409,     -999.0,     -999.0,9,     -999.0,     -0.009,2,      0.000,2,     99.233,2
09AR20110104,       SR03,     101,          1,          2,        102,2,20110125,       1120,   -66.6072,   143.7150,        741,   741.3,  -1.9102,  34.6253,2,  34.6244,2,    307.7,2,   307.0,2,   74.80,2,    2.06,2,  -999.0,9,  -999.0,9,   -0.48,2,   30.41,2,  -1.9293,       0.10,      -5.08,2,       0.18,     -0.046,2,      0.000,2,     99.024,2
09AR20110104,       SR03,     101,          1,          1,          1,2,20110125,       1120,   -66.6072,   143.7150,        741,   740.9,  -1.9099,  34.6253,2,-999.0000,9,    307.7,2,  -999.0,9, -999.00,9, -999.00,9,  -999.0,9,  -999.0,9, -999.00,9, -999.00,9,  -1.9290,     -999.0,     -999.0,9,     -999.0,      0.015,2,      0.000,2,     99.014,2