BOTTLE,20230419CCHSIOENA
EXPOCODE,SECT_ID,STNNBR,CASTNO,SAMPNO,BTLNBR,BTLNBR_FLAG_W,DATE,TIME,LATITUDE,LONGITUDE,DEPTH,CTDPRS,CTDTMP,CTDSAL,CTDSAL_FLAG_W,SALNTY,SALNTY_FLAG_W,CTDOXY,CTDOXY_FLAG_W,OXYGEN,OXYGEN_FLAG_W,SILCAT,SILCAT_FLAG_W,PHSPHT,PHSPHT_FLAG_W,TCARBN,TCARBN_FLAG_W,ALKALI,ALKALI_FLAG_W,DELO18,DELO18_FLAG_W,NO2+NO3,NO2+NO3_FLAG_W,THETA,O18ERR,DELD,DELD_FLAG_W,DELDERR,CTDFLUOR,CTDFLUOR_FLAG_W,PAR,PAR_FLAG_W,CTDXMISS,CTDXMISS_FLAG_W
,,,,,,,,,,,METERS,DBAR,ITS-90,PSS-78,,PSS-78,,UMOL/KG,,UMOL/KG,,UMOL/KG,,UMOL/KG,,UMOL/KG,,UMOL/KG,,/MILLE,,UMOL/KG,,DEG C,/MILLE,/MILLE,,/MILLE,MG/M^3,,UMOL/M^2/SEC,,%TRANS,
09AR20110104,       SR03,      50,          1,         24,         24,2,20110117,       0728,   -65.0660,   139.8460,       2453,     9.6,   0.9030,  33.7769,2,  33.7924,2,    353.4,2,   352.9,2,   42.70,2,    1.57,2,  2158.4,2,  2285.2,2, -999.00,9,   26.74,2,   0.9026,     -999.0,     -999.0,9,     -999.0,      0.561,2,    108.839,2,     92.993,2
09AR20110104,       SR03,      50,          1,         23,         23,2,20110117,       0728,   -65.0660,   139.8460,       2453,    39.8,  -1.3260,  34.1516,2,  34.2046,2,    318.5,2,   320.2,2, -999.00,9,    1.96,2,  2199.3,2,  2309.0,6, -999.00,9,   29.02,2,  -1.3269,     -999.0,     -999.0,9,     -999.0,      3.548,2,      8.179,2,     92.452,2
09AR20110104,       SR03,      50,          1,         22,         22,2,20110117,       0728,   -65.0660,   139.8460,       2453,    59.3,  -1.1326,  34.3673,2,  34.3897,2,    283.7,2,   281.2,2,   66.90,2,    2.11,2,  2224.4,2,  2324.8,2, -999.00,9,   30.95,2,  -1.1341,     -999.0,     -999.0,9,     -999.0,      3.451,2,      1.494,2,     95.928,2
09AR20110104,       SR03,      50,          1,         21,         21,2,20110117,       0728,   -65.0660,   139.8460,       2453,    99.9,  -0.3999,  34.4973,2,  34.5034,2,    250.1,2,   248.7,2,   75.20,2,    2.15,2,  -999.0,9,  -999.0,9, -999.00,9,   31.57,2,  -0.4031,     -999.0,     -999.0,9,     -999.0,      0.238,2,      0.158,2,     99.006,2
09AR20110104,       SR03,      50,          1,         20,         20,2,20110117,       0728,   -65.0660,   139.8460,       2453,   149.8,  -0.0193,  34.5574,2,  34.5615,2,    232.5,2,   235.6,2,   79.00,2,    2.15,2,  2243.5,2,  2336.1,2, -999.00,9,   31.34,2,  -0.0247,     -999.0,     -999.0,9,     -999.0,      0.008,2,      0.000,2,     99.249,2
09AR20110104,       SR03,      50,          1,         19,         19,2,20110117,       0728,   -65.0660,   139.8460,       2453,   250.3,   0.8926,  34.6620,2,  34.6642,2,    208.7,2,   209.9,2,   86.70,2,    2.15,2,  -999.0,9,  -999.0,9, -999.00,9,   31.12,2,   0.8813,     -999.0,     -999.0,9,     -999.0,     -0.017,2,      0.000,2,     99.229,2
09AR20110104,       SR03,      50,          1,         18,         18,2,20110117,       0728,   -65.0660,   139.8460,       2453,   349.6,   1.1258,  34.6980,2,  34.6986,2,    204.9,2,   204.2,2,   91.50,2,    2.14,2,  2227.8,3,  2347.8,2, -999.00,9,   31.14,2,   1.1091,     -999.0,     -999.0,9,     -999.0,     -0.014,2,      0.000,2,     99.295,2
09AR20110104,       SR03,      50,          1,         17,         17,2,20110117,       0728,   -65.0660,   139.8460,       2453,   450.6,   1.0896,  34.7060,2,  34.7047,2,    204.8,2,   204.9,2, -999.00,9,    2.13,2,  -999.0,9,  -999.0,9, -999.00,9,   31.24,2,   1.0678,     -999.0,     -999.0,9,     -999.0,     -0.015,2,      0.000,2,     99.322,2
09AR20110104,       SR03,      50,          1,         16,         16,2,20110117,       0728,   -65.0660,   139.8460,       2453,   549.9,   0.9884,  34.7034,2,  34.7151,4,    206.2,2,   206.2,2,   98.60,2,    2.15,2,  -999.0,9,  -999.0,9, -999.00,9,   31.45,2,   0.9618,     -999.0,     -999.0,9,     -999.0,     -0.017,2,      0.000,2,     99.331,2
09AR20110104,       SR03,      50,          1,         15,         15,2,20110117,       0728,   -65.0660,   139.8460,       2453,   649.5,   1.0393,  34.7169,2,  34.7174,2,    207.0,2,   205.0,2, -999.00,9,    2.14,2,  -999.0,9,  -999.0,9, -999.00,9,   31.38,2,   1.0070,     -999.0,     -999.0,9,     -999.0,     -0.015,2,      0.000,2,     99.322,2
09AR20110104,       SR03,      50,          1,         14,         14,2,20110117,       0728,   -65.0660,   139.8460,       2453,   750.5,   0.9613,  34.7162,2,  34.7103,2,    206.4,2,   205.5,2,  106.60,2,    2.16,2,  2257.8,2,  2355.2,2, -999.00,9,   31.54,2,   0.9238,     -999.0,     -999.0,9,     -999.0,     -0.016,2,      0.000,2,     99.364,2
09AR20110104,       SR03,      50,          1,         13,         13,2,20110117,       0728,   -65.0660,   139.8460,       2453,   849.7,   0.8310,  34.7075,2,  34.7013,2,    207.6,2,   207.3,2, -999.00,9,    2.16,2,  -999.0,9,  -999.0,9, -999.00,9,   31.68,2,   0.7887,     -999.0,     -999.0,9,     -999.0,     -0.017,2,      0.000,2,     99.364,2
09AR20110104,       SR03,      50,          1,         12,         12,2,20110117,       0728,   -65.0660,   139.8460,       2453,   951.1,   0.7188,  34.7009,2,  34.6995,2,    208.7,2,   208.2,2,  110.30,2,    2.19,2,  -999.0,9,  -999.0,9, -999.00,9,   31.76,2,   0.6715,     -999.0,     -999.0,9,     -999.0,     -0.018,2,      0.000,2,     99.368,2
09AR20110104,       SR03,      50,          1,         11,         11,2,20110117,       0728,   -65.0660,   139.8460,       2453,  1050.2,   0.6548,  34.6981,2,  34.6946,2,    209.5,2,   209.5,2, -999.00,9,    2.20,2,  -999.0,9,  -999.0,9, -999.00,9,   32.00,2,   0.6023,     -999.0,     -999.0,9,     -999.0,     -0.020,2,      0.000,2,     99.385,2
09AR20110104,       SR03,      50,          1,         10,         10,2,20110117,       0728,   -65.0660,   139.8460,       2453,  1199.9,   0.5415,  34.6942,2,  34.6894,2,    211.5,2,   211.2,2,  115.10,2,    2.21,2,  -999.0,9,  -999.0,9, -999.00,9,   31.88,2,   0.4810,     -999.0,     -999.0,9,     -999.0,     -0.018,2,      0.000,2,     99.405,2
09AR20110104,       SR03,      50,          1,          9,          9,2,20110117,       0728,   -65.0660,   139.8460,       2453,  1401.1,   0.4065,  34.6890,2,  34.6847,2,    214.0,2,   214.3,2, -999.00,9,    2.21,2,  2259.5,2,  2356.4,2, -999.00,9,   32.16,2,   0.3350,     -999.0,     -999.0,9,     -999.0,     -0.022,2,      0.000,2,     99.402,2
09AR20110104,       SR03,      50,          1,          8,          8,2,20110117,       0728,   -65.0660,   139.8460,       2453,  1600.8,   0.2973,  34.6842,2,  34.6849,2,    217.4,2,   217.4,2,  118.70,2,    2.22,2,  -999.0,9,  -999.0,9, -999.00,9,   31.98,2,   0.2143,     -999.0,     -999.0,9,     -999.0,     -0.021,2,      0.000,2,     99.405,2
09AR20110104,       SR03,      50,          1,          7,          7,2,20110117,       0728,   -65.0660,   139.8460,       2453,  1799.3,   0.1404,  34.6761,2,  34.6764,2,    222.4,2,   222.0,2, -999.00,9,    2.20,2,  -999.0,9,  -999.0,9, -999.00,9,   32.17,2,   0.0463,     -999.0,     -999.0,9,     -999.0,     -0.023,2,      0.000,2,     99.393,2
09AR20110104,       SR03,      50,          1,          6,          6,2,20110117,       0728,   -65.0660,   139.8460,       2453,  2000.8,   0.0052,  34.6685,2,  34.6683,2,    228.0,2,   227.2,2,  111.70,2,    2.21,2,  -999.0,9,  -999.0,9, -999.00,9,   31.86,2,  -0.1007,     -999.0,     -999.0,9,     -999.0,     -0.023,2,      0.000,2,     99.396,2
09AR20110104,       SR03,      50,          1,          5,          5,2,20110117,       0728,   -65.0660,   139.8460,       2453,  2099.5,  -0.0670,  34.6625,2,  34.6630,2,    230.1,2,   230.3,2, -999.00,9,    2.20,2,  2259.3,2,  2351.0,2, -999.00,9,   32.01,2,  -0.1786,     -999.0,     -999.0,9,     -999.0,     -0.023,2,      0.000,2,     99.367,2
09AR20110104,       SR03,      50,          1,          4,          4,2,20110117,       0728,   -65.0660,   139.8460,       2453,  2201.6,  -0.1814,  34.6537,2,  34.6538,2,    237.0,2,   235.5,2, -999.00,9,    2.18,2,  2257.2,2,  2349.6,2, -999.00,9,   31.85,2,  -0.2984,     -999.0,     -999.0,9,     -999.0,     -0.023,2,      0.000,2,     99.340,2
09AR20110104,       SR03,      50,          1,          3,          3,2,20110117,       0728,   -65.0660,   139.8460,       2453,  2302.1,  -0.2382,  34.6514,2,  34.6516,2,    238.7,2,   237.9,2,  103.30,2,    2.18,2,  -999.0,9,  -999.0,9, -999.00,9,   31.75,2,  -0.3614,     -999.0,     -999.0,9,     -999.0,     -0.024,2,      0.000,2,     99.326,2
09AR20110104,       SR03,      50,          1,          2,        102,2,20110117,       0728,   -65.0660,   139.8460,       2453,  2399.5,  -0.3180,  34.6445,2,  34.6445,2,    241.1,2,   241.8,2,  100.20,2,    2.18,2,  -999.0,9,  -999.0,9, -999.00,9,   31.65,2,  -0.4469,     -999.0,     -999.0,9,     -999.0,     -0.022,2,      0.000,2,     99.267,2
09AR20110104,       SR03,      50,          1,          1,          1,2,20110117,       0728,   -65.0660,   139.8460,       2453,  2483.3,  -0.3196,  34.6440,2,  34.6435,2,    242.2,2,   242.0,2,   99.90,2,    2.18,2,  2255.2,6,  2347.2,2, -999.00,9,   31.59,2,  -0.4547,     -999.0,     -999.0,9,     -999.0,     -0.023,2,      0.000,2,     99.255,2
09AR20110104,       SR03,      51,          1,         24,         24,2,20110117,       1952,   -65.4025,   139.8360,       2348,     8.5,   0.4676,  33.8266,2,  33.8229,2,    349.3,2,   351.4,2,   44.70,2,    1.65,2,  2163.6,6,  2287.9,6, -999.00,9,   26.92,2,   0.4673,     -999.0,     -999.0,9,     -999.0,      0.137,2,    225.539,2,     94.707,2
09AR20110104,       SR03,      51,          1,         23,         23,2,20110117,       1952,   -65.4025,   139.8360,       2348,    48.6,  -1.5504,  34.2741,2,  34.2730,2,    324.5,2,   324.0,2,   58.40,2,    1.94,2,  2204.0,2,  2318.4,2, -999.00,9,   28.57,2,  -1.5514,     -999.0,     -999.0,9,     -999.0,      1.989,2,     12.189,2,     95.313,2
09AR20110104,       SR03,      51,          1,         22,         22,2,20110117,       1952,   -65.4025,   139.8360,       2348,    98.9,  -1.5820,  34.3937,2,  34.4001,2,    293.7,2,   293.2,2,   70.70,2,    2.07,2,  2227.2,2,  2326.4,6, -999.00,9,   30.46,2,  -1.5842,     -999.0,     -999.0,9,     -999.0,      0.298,2,      0.455,2,     99.159,2
09AR20110104,       SR03,      51,          1,         21,         21,2,20110117,       1952,   -65.4025,   139.8360,       2348,   151.7,  -1.2860,  34.4523,2,  34.4513,2,    268.8,2,   278.0,2,   72.90,2,    2.11,2,  2232.8,2,  2330.9,2, -999.00,9,   30.94,2,  -1.2898,     -999.0,     -999.0,9,     -999.0,      0.047,2,      0.017,2,     99.425,2
09AR20110104,       SR03,      51,          1,         20,         20,2,20110117,       1952,   -65.4025,   139.8360,       2348,   199.3,  -0.6191,  34.5190,2,  34.5182,2,    253.5,2,   254.3,2,   80.30,2,    2.13,2,  2239.8,2,  2335.3,2, -999.00,9,   31.40,2,  -0.6254,     -999.0,     -999.0,9,     -999.0,     -0.004,2,      0.000,2,     99.451,2
09AR20110104,       SR03,      51,          1,         19,         19,2,20110117,       1952,   -65.4025,   139.8360,       2348,   251.0,  -0.2848,  34.5570,2,  34.5596,2,    239.7,2,   241.7,2, -999.00,9,    2.14,2,  2245.4,2,  2335.2,2, -999.00,9,   31.36,2,  -0.2936,     -999.0,     -999.0,9,     -999.0,     -0.007,2,      0.000,2,     99.425,2
09AR20110104,       SR03,      51,          1,         18,         18,2,20110117,       1952,   -65.4025,   139.8360,       2348,   298.8,  -0.0426,  34.5871,2,  34.5893,2,    232.1,2,   233.2,2,   86.40,2,    2.15,2,  2245.5,2,  2343.1,2, -999.00,9,   31.52,2,  -0.0538,     -999.0,     -999.0,9,     -999.0,     -0.010,2,      0.000,2,     99.433,2
09AR20110104,       SR03,      51,          1,         17,         17,2,20110117,       1952,   -65.4025,   139.8360,       2348,   399.1,   0.3583,  34.6411,2,  34.6407,2,    219.0,2,   218.8,2, -999.00,9,    2.17,2,  2252.6,2,  2344.9,2, -999.00,9,   31.67,2,   0.3416,     -999.0,     -999.0,9,     -999.0,     -0.006,2,      0.000,2,     99.425,2
09AR20110104,       SR03,      51,          1,         16,         16,2,20110117,       1952,   -65.4025,   139.8360,       2348,   499.3,   0.4796,  34.6632,2,  34.6639,2,    214.3,2,   213.2,2,  100.10,2,    2.19,2,  2256.3,2,  2349.5,6, -999.00,9,   31.92,2,   0.4578,     -999.0,     -999.0,9,     -999.0,     -0.010,2,      0.000,2,     99.462,2
09AR20110104,       SR03,      51,          1,         15,         15,2,20110117,       1952,   -65.4025,   139.8360,       2348,   602.7,   0.5038,  34.6749,2,  34.6750,2,    212.6,2,   212.0,2, -999.00,9,    2.19,2,  2258.1,2,  2353.5,2, -999.00,9,   31.90,2,   0.4768,     -999.0,     -999.0,9,     -999.0,     -0.009,2,      0.000,2,     99.474,2
09AR20110104,       SR03,      51,          1,         14,         14,2,20110117,       1952,   -65.4025,   139.8360,       2348,   698.4,   0.5228,  34.6844,2,  34.6848,2,    211.8,2,   211.4,2,  107.60,2,    2.19,2,  2259.4,2,  2352.1,2, -999.00,9,   31.81,2,   0.4908,     -999.0,     -999.0,9,     -999.0,     -0.011,2,      0.000,2,     99.486,2
09AR20110104,       SR03,      51,          1,         13,         13,2,20110117,       1952,   -65.4025,   139.8360,       2348,   799.8,   0.4774,  34.6846,2,  34.6848,2,    211.6,2,   211.6,2, -999.00,9,    2.20,2,  2259.6,2,  2358.2,2, -999.00,9,   32.07,2,   0.4403,     -999.0,     -999.0,9,     -999.0,     -0.013,2,      0.000,2,     99.487,2
09AR20110104,       SR03,      51,          1,         12,         12,2,20110117,       1952,   -65.4025,   139.8360,       2348,   951.2,   0.3810,  34.6819,2,  34.6811,2,    213.9,2,   214.0,2,  110.90,2,    2.20,2,  2259.9,6,  2356.5,6, -999.00,9,   31.94,2,   0.3364,     -999.0,     -999.0,9,     -999.0,     -0.011,2,      0.000,2,     99.487,2
09AR20110104,       SR03,      51,          1,         11,         11,2,20110117,       1952,   -65.4025,   139.8360,       2348,  1100.4,   0.2808,  34.6798,2,  34.6793,2,    216.4,2,   216.9,2, -999.00,9,    2.21,2,  2259.6,2,  2357.5,2, -999.00,9,   32.12,2,   0.2286,     -999.0,     -999.0,9,     -999.0,     -0.013,2,      0.000,2,     99.510,2
09AR20110104,       SR03,      51,          1,         10,         10,2,20110117,       1952,   -65.4025,   139.8360,       2348,  1299.3,   0.1067,  34.6706,2,  34.6700,2,    222.3,2,   223.2,2,  108.40,2,    2.21,2,  2261.0,2,  2354.1,2, -999.00,9,   31.98,2,   0.0447,     -999.0,     -999.0,9,     -999.0,     -0.013,2,      0.000,2,     99.487,2
09AR20110104,       SR03,      51,          1,          9,          9,2,20110117,       1952,   -65.4025,   139.8360,       2348,  1498.4,   0.0085,  34.6656,2,  34.6651,2,    227.8,2,   226.8,2, -999.00,9,    2.18,2,  2256.7,2,  2351.5,2, -999.00,9,   31.93,2,  -0.0644,     -999.0,     -999.0,9,     -999.0,     -0.013,2,      0.000,2,     99.474,2
09AR20110104,       SR03,      51,          1,          8,          8,2,20110117,       1952,   -65.4025,   139.8360,       2348,  1700.0,  -0.1464,  34.6558,2,-999.0000,9,    235.3,2,  -999.0,9, -999.00,9, -999.00,9,  -999.0,9,  -999.0,9, -999.00,9, -999.00,9,  -0.2299,     -999.0,     -999.0,9,     -999.0,     -0.011,2,      0.000,2,     99.436,2
09AR20110104,       SR03,      51,          1,          7,          7,2,20110117,       1952,   -65.4025,   139.8360,       2348,  1700.0,  -0.1461,  34.6559,2,-999.0000,9,    235.3,2,  -999.0,9, -999.00,9, -999.00,9,  -999.0,9,  -999.0,9, -999.00,9, -999.00,9,  -0.2296,     -999.0,     -999.0,9,     -999.0,     -0.014,2,      0.000,2,     99.438,2
09AR20110104,       SR03,      51,          1,          6,          6,2,20110117,       1952,   -65.4025,   139.8360,       2348,  1700.1,  -0.1462,  34.6558,2,-999.0000,9,    235.3,2,  -999.0,9, -999.00,9, -999.00,9,  -999.0,9,  -999.0,9, -999.00,9, -999.00,9,  -0.2297,     -999.0,     -999.0,9,     -999.0,     -0.016,2,      0.000,2,     99.422,2
09AR20110104,       SR03,      51,          1,          5,          5,2,20110117,       1952,   -65.4025,   139.8360,       2348,  1700.1,  -0.1454,  34.6560,2,  34.6560,2,    235.3,2,   233.5,2,  103.00,2,    2.18,2,  2254.1,2,  2351.0,2, -999.00,9,   31.92,2,  -0.2289,     -999.0,     -999.0,9,     -999.0,     -0.013,2,      0.000,2,     99.434,2
09AR20110104,       SR03,      51,          1,          4,          4,2,20110117,       1952,   -65.4025,   139.8360,       2348,  1900.0,  -0.3744,  34.6351,2,  34.6340,2,    243.5,2,   245.5,2,   97.00,2,    2.16,2,  2252.4,2,  2349.0,2, -999.00,9,   31.81,2,  -0.4675,     -999.0,     -999.0,9,     -999.0,     -0.009,2,      0.000,2,     99.368,2
09AR20110104,       SR03,      51,          1,          3,          3,2,20110117,       1952,   -65.4025,   139.8360,       2348,  2100.4,  -0.3854,  34.6329,2,  34.6320,2,    246.9,2,   246.6,2,   96.80,2,    2.15,2,  2251.4,2,  2345.9,2, -999.00,9,   31.53,2,  -0.4917,     -999.0,     -999.0,9,     -999.0,     -0.006,2,      0.000,2,     99.353,2
09AR20110104,       SR03,      51,          1,          2,        102,2,20110117,       1952,   -65.4025,   139.8360,       2348,  2300.7,  -0.4762,  34.6240,2,  34.6237,2,    252.4,2,   251.6,2,   93.60,2,    2.15,2,  -999.0,9,  -999.0,9, -999.00,9,   31.29,2,  -0.5949,     -999.0,     -999.0,9,     -999.0,     -0.007,2,      0.000,2,     99.294,2
09AR20110104,       SR03,      51,          1,          1,          1,2,20110117,       1952,   -65.4025,   139.8360,       2348,  2379.1,  -0.4768,  34.6242,2,  34.6231,2,    251.9,2,   252.4,2,   93.80,2,    2.15,2,  2249.7,6,  2347.7,6, -999.00,9,   31.23,2,  -0.6012,     -999.0,     -999.0,9,     -999.0,     -0.006,2,      0.000,2,     99.298,2