BOTTLE,20230419CCHSIOENA
EXPOCODE,SECT_ID,STNNBR,CASTNO,SAMPNO,BTLNBR,BTLNBR_FLAG_W,DATE,TIME,LATITUDE,LONGITUDE,DEPTH,CTDPRS,CTDTMP,CTDSAL,CTDSAL_FLAG_W,SALNTY,SALNTY_FLAG_W,CTDOXY,CTDOXY_FLAG_W,OXYGEN,OXYGEN_FLAG_W,SILCAT,SILCAT_FLAG_W,PHSPHT,PHSPHT_FLAG_W,TCARBN,TCARBN_FLAG_W,ALKALI,ALKALI_FLAG_W,DELO18,DELO18_FLAG_W,NO2+NO3,NO2+NO3_FLAG_W,THETA,O18ERR,DELD,DELD_FLAG_W,DELDERR,CTDFLUOR,CTDFLUOR_FLAG_W,PAR,PAR_FLAG_W,CTDXMISS,CTDXMISS_FLAG_W
,,,,,,,,,,,METERS,DBAR,ITS-90,PSS-78,,PSS-78,,UMOL/KG,,UMOL/KG,,UMOL/KG,,UMOL/KG,,UMOL/KG,,UMOL/KG,,/MILLE,,UMOL/KG,,DEG C,/MILLE,/MILLE,,/MILLE,MG/M^3,,UMOL/M^2/SEC,,%TRANS,
09AR20110104,       SR03,      34,          1,         24,         24,2,20110113,       0757,   -56.9307,   139.8680,       4176,    10.5,   3.4422,  33.8401,2,  33.8415,2,    329.8,2,   330.4,2,    3.80,2,    1.57,2,  2133.4,6,  2278.6,6, -999.00,9,   24.77,2,   3.4415,     -999.0,     -999.0,9,     -999.0,      2.783,2,      0.989,2,     94.381,2
09AR20110104,       SR03,      34,          1,         23,         23,2,20110113,       0757,   -56.9307,   139.8680,       4176,    38.9,   3.4225,  33.8396,2,  33.8409,2,    329.4,2,   330.5,2,    3.80,2,    1.57,2,  2133.1,2,  -999.0,9, -999.00,9,   24.78,2,   3.4201,     -999.0,     -999.0,9,     -999.0,      2.891,2,      0.094,2,     94.446,2
09AR20110104,       SR03,      34,          1,         22,         22,2,20110113,       0757,   -56.9307,   139.8680,       4176,    80.3,   2.0718,  33.8583,2,  33.8642,2,    328.1,2,   330.4,2,   12.20,2,    1.85,2,  2148.5,2,  2279.8,6, -999.00,9,   25.90,2,   2.0676,     -999.0,     -999.0,9,     -999.0,      0.884,2,      0.000,2,     97.707,2
09AR20110104,       SR03,      34,          1,         21,         21,2,20110113,       0757,   -56.9307,   139.8680,       4176,   160.9,   1.1598,  33.8985,2,  33.8825,2,    325.6,2,   326.9,2,   19.40,2,    1.95,2,  2160.9,2,  2281.4,2, -999.00,9,   27.61,2,   1.1526,     -999.0,     -999.0,9,     -999.0,      0.053,2,      0.000,2,     99.212,2
09AR20110104,       SR03,      34,          1,         20,         20,2,20110113,       0757,   -56.9307,   139.8680,       4176,   199.6,   1.4317,  33.9807,2,  33.9869,2,    299.8,2,   301.6,2,   24.80,2,    2.04,2,  2174.0,2,  2285.6,2, -999.00,9,   29.48,2,   1.4222,     -999.0,     -999.0,9,     -999.0,      0.011,2,      0.000,2,     99.406,2
09AR20110104,       SR03,      34,          1,         19,         19,2,20110113,       0757,   -56.9307,   139.8680,       4176,   301.1,   2.2275,  34.2646,2,  34.2646,2,    221.7,2,   219.3,2,   47.80,2,    2.31,2,  2219.3,2,  2301.8,2, -999.00,9,   33.60,2,   2.2107,     -999.0,     -999.0,9,     -999.0,     -0.009,2,      0.000,2,     99.335,2
09AR20110104,       SR03,      34,          1,         18,         18,2,20110113,       0757,   -56.9307,   139.8680,       4176,   424.5,   2.3841,  34.4130,2,  34.4133,2,    187.8,2,   187.0,2,   61.20,2,    2.38,2,  2239.7,2,  2316.8,2, -999.00,9,   34.73,2,   2.3594,     -999.0,     -999.0,9,     -999.0,     -0.009,2,      0.000,2,     99.492,2
09AR20110104,       SR03,      34,          1,         17,         17,2,20110113,       0757,   -56.9307,   139.8680,       4176,   551.9,   2.4281,  34.5075,2,  34.5073,2,    176.6,2,   176.7,2,   67.10,2,    2.36,2,  2246.2,2,  2326.8,2, -999.00,9,   34.35,2,   2.3951,     -999.0,     -999.0,9,     -999.0,     -0.008,2,      0.000,2,     99.511,2
09AR20110104,       SR03,      34,          1,         16,         16,2,20110113,       0757,   -56.9307,   139.8680,       4176,   674.6,   2.3777,  34.5795,2,  34.5797,2,    173.2,2,   174.1,2,   71.40,2,    2.32,2,  -999.0,9,  -999.0,9, -999.00,9,   33.48,2,   2.3369,     -999.0,     -999.0,9,     -999.0,     -0.007,2,      0.000,2,     99.535,2
09AR20110104,       SR03,      34,          1,         15,         15,2,20110113,       0757,   -56.9307,   139.8680,       4176,   799.9,   2.3260,  34.6281,2,  34.6276,2,    174.0,2,   174.4,2,   73.70,2,    2.28,2,  2253.6,2,  2336.7,2, -999.00,9,   32.98,2,   2.2770,     -999.0,     -999.0,9,     -999.0,     -0.008,2,      0.000,2,     99.577,2
09AR20110104,       SR03,      34,          1,         14,         14,2,20110113,       0757,   -56.9307,   139.8680,       4176,   999.9,   2.2320,  34.6865,2,  34.6865,2,    179.3,2,   179.9,2,   76.40,2,    2.19,2,  -999.0,9,  -999.0,9, -999.00,9,   31.74,2,   2.1698,     -999.0,     -999.0,9,     -999.0,     -0.006,2,      0.000,2,     99.609,2
09AR20110104,       SR03,      34,          1,         13,         13,2,20110113,       0757,   -56.9307,   139.8680,       4176,  1200.4,   2.1223,  34.7229,2,  34.7236,2,    186.2,2,   186.9,2,   78.60,2,    2.11,2,  2246.2,2,  2346.2,2, -999.00,9,   30.78,2,   2.0467,     -999.0,     -999.0,9,     -999.0,     -0.008,2,      0.000,2,     99.625,2
09AR20110104,       SR03,      34,          1,         12,         12,2,20110113,       0757,   -56.9307,   139.8680,       4176,  1400.3,   1.9941,  34.7430,2,  34.7424,2,    192.4,2,   192.5,2,   82.00,2,    2.08,2,  -999.0,9,  -999.0,9, -999.00,9,   30.29,2,   1.9050,     -999.0,     -999.0,9,     -999.0,     -0.010,2,      0.000,2,     99.642,2
09AR20110104,       SR03,      34,          1,         11,         11,2,20110113,       0757,   -56.9307,   139.8680,       4176,  1600.8,   1.8279,  34.7471,2,  34.7467,2,    195.7,2,   196.7,2,   86.50,2,    2.08,2,  -999.0,9,  -999.0,9, -999.00,9,   30.28,2,   1.7255,     -999.0,     -999.0,9,     -999.0,     -0.010,2,      0.000,2,     99.655,2
09AR20110104,       SR03,      34,          1,         10,         10,2,20110113,       0757,   -56.9307,   139.8680,       4176,  1799.0,   1.6575,  34.7462,2,  34.7453,2,    199.7,2,   199.6,2,   91.10,2,    2.08,2,  -999.0,9,  -999.0,9, -999.00,9,   30.27,2,   1.5420,     -999.0,     -999.0,9,     -999.0,     -0.007,2,      0.000,2,     99.677,2
09AR20110104,       SR03,      34,          1,          9,          9,2,20110113,       0757,   -56.9307,   139.8680,       4176,  1999.8,   1.4852,  34.7413,2,  34.7411,2,    202.2,2,   201.4,2,   95.90,2,    2.11,2,  -999.0,9,  -999.0,9, -999.00,9,   30.27,2,   1.3562,     -999.0,     -999.0,9,     -999.0,     -0.014,2,      0.000,2,     99.680,2
09AR20110104,       SR03,      34,          1,          8,          8,2,20110113,       0757,   -56.9307,   139.8680,       4176,  2300.1,   1.2301,  34.7304,2,  34.7303,2,    204.8,2,   204.5,2,  103.50,2,    2.13,2,  -999.0,9,  -999.0,9, -999.00,9,   30.73,2,   1.0808,     -999.0,     -999.0,9,     -999.0,     -0.015,2,      0.000,2,     99.695,2
09AR20110104,       SR03,      34,          1,          7,          7,2,20110113,       0757,   -56.9307,   139.8680,       4176,  2598.4,   1.0020,  34.7187,2,  34.7188,2,    207.3,2,   207.4,2,  110.90,2,    2.17,2,  2257.0,2,  2360.1,2, -999.00,9,   31.08,2,   0.8317,     -999.0,     -999.0,9,     -999.0,     -0.012,2,      0.000,2,     99.702,2
09AR20110104,       SR03,      34,          1,          6,          6,2,20110113,       0757,   -56.9307,   139.8680,       4176,  2899.5,   0.7597,  34.7063,2,  34.7070,2,    211.1,2,   211.4,2,  117.30,2,    2.22,2,  -999.0,9,  -999.0,9, -999.00,9,   31.43,2,   0.5681,     -999.0,     -999.0,9,     -999.0,     -0.018,2,      0.000,2,     99.711,2
09AR20110104,       SR03,      34,          1,          5,          5,2,20110113,       0757,   -56.9307,   139.8680,       4176,  3200.9,   0.5571,  34.6965,2,  34.6956,2,    216.1,2,   215.2,2,  123.80,2,    2.22,2,  -999.0,9,  -999.0,9, -999.00,9,   31.90,2,   0.3429,     -999.0,     -999.0,9,     -999.0,     -0.019,2,      0.000,2,     99.714,2
09AR20110104,       SR03,      34,          1,          4,          4,2,20110113,       0757,   -56.9307,   139.8680,       4176,  3499.6,   0.4159,  34.6901,2,  34.6892,2,    219.4,2,   218.7,2,  128.70,2,    2.23,2,  -999.0,9,  -999.0,9, -999.00,9,   31.89,2,   0.1772,     -999.0,     -999.0,9,     -999.0,     -0.019,2,      0.000,2,     99.716,2
09AR20110104,       SR03,      34,          1,          3,          3,2,20110113,       0757,   -56.9307,   139.8680,       4176,  3800.0,   0.2895,  34.6841,2,  34.6835,2,    222.7,2,   222.1,2,  134.30,2,    2.23,2,  -999.0,9,  -999.0,9, -999.00,9,   32.12,2,   0.0250,     -999.0,     -999.0,9,     -999.0,     -0.018,2,      0.000,2,     99.677,2
09AR20110104,       SR03,      34,          1,          2,        102,2,20110113,       0757,   -56.9307,   139.8680,       4176,  3998.2,   0.2525,  34.6816,2,  34.6805,2,    224.0,2,   225.0,2,  136.00,2,    2.24,2,  -999.0,9,  -999.0,9, -999.00,9,   32.10,2,  -0.0308,     -999.0,     -999.0,9,     -999.0,     -0.019,2,      0.000,2,     99.629,2
09AR20110104,       SR03,      34,          1,          1,          1,2,20110113,       0757,   -56.9307,   139.8680,       4176,  4240.3,   0.2589,  34.6807,2,  34.6799,2,    223.8,2,   224.0,2,  134.60,2,    2.24,2,  -999.0,9,  -999.0,9, -999.00,9,   31.96,2,  -0.0495,     -999.0,     -999.0,9,     -999.0,     -0.017,2,      0.000,2,     99.582,2
09AR20110104,       SR03,      35,          1,         24,         24,2,20110113,       1511,   -57.5983,   139.8490,       4271,    11.2,   3.1952,  33.8388,2,  33.8402,2,    331.2,2,   332.0,2,    4.10,2,    1.56,2,  2137.7,6,  2277.3,6, -999.00,9,   24.69,2,   3.1945,     -999.0,     -999.0,9,     -999.0,      2.968,2,      0.498,2,     93.895,2
09AR20110104,       SR03,      35,          1,         23,         23,2,20110113,       1511,   -57.5983,   139.8490,       4271,    48.7,   3.1296,  33.8396,2,  33.8411,2,    331.6,2,   331.6,2,    4.50,2,    1.58,2,  2138.4,2,  2280.4,2, -999.00,9,   24.81,2,   3.1267,     -999.0,     -999.0,9,     -999.0,      3.485,2,      0.000,2,     93.459,2
09AR20110104,       SR03,      35,          1,         22,         22,2,20110113,       1511,   -57.5983,   139.8490,       4271,   101.6,   1.4759,  33.8762,2,  33.8779,2,    331.2,2,   331.9,2,   16.40,2,    1.90,2,  2157.7,2,  2279.1,2, -999.00,9,   26.88,2,   1.4711,     -999.0,     -999.0,9,     -999.0,      0.272,2,      0.000,2,     98.622,2
09AR20110104,       SR03,      35,          1,         21,         21,2,20110113,       1511,   -57.5983,   139.8490,       4271,   150.2,   1.1599,  33.8956,2,  33.8979,2,    330.0,2,   333.5,2,   19.10,2,    1.91,2,  2160.6,2,  2287.7,2, -999.00,9,   27.24,2,   1.1532,     -999.0,     -999.0,9,     -999.0,      0.210,2,      0.000,2,     98.824,2
09AR20110104,       SR03,      35,          1,         20,         20,2,20110113,       1511,   -57.5983,   139.8490,       4271,   199.9,   1.1450,  33.9731,2,-999.0000,9,    316.4,2,   310.2,2,   25.50,2,    2.01,2,  2174.9,2,  2284.7,6, -999.00,9,   29.08,2,   1.1359,     -999.0,     -999.0,9,     -999.0,      0.030,2,      0.000,2,     99.336,2
09AR20110104,       SR03,      35,          1,         19,         19,2,20110113,       1511,   -57.5983,   139.8490,       4271,   299.7,   2.2976,  34.2455,2,  34.2451,2,    225.8,2,   226.4,2,   45.10,2,    2.26,2,  2219.0,2,  2299.6,2, -999.00,9,   33.05,2,   2.2808,     -999.0,     -999.0,9,     -999.0,     -0.009,2,      0.000,2,     99.326,2
09AR20110104,       SR03,      35,          1,         18,         18,2,20110113,       1511,   -57.5983,   139.8490,       4271,   401.6,   2.3195,  34.3615,2,  34.3614,2,    199.7,2,   199.0,2,   56.80,2,    2.33,2,  2237.4,2,  2312.8,2, -999.00,9,   34.27,2,   2.2964,     -999.0,     -999.0,9,     -999.0,     -0.012,2,      0.000,2,     99.438,2
09AR20110104,       SR03,      35,          1,         17,         17,2,20110113,       1511,   -57.5983,   139.8490,       4271,   501.0,   2.4074,  34.4612,2,  34.4609,2,    181.6,2,   182.3,2,   64.40,2,    2.36,2,  2247.5,2,  2320.0,2, -999.00,9,   34.46,2,   2.3778,     -999.0,     -999.0,9,     -999.0,     -0.006,2,      0.000,2,     99.474,2
09AR20110104,       SR03,      35,          1,         16,         16,2,20110113,       1511,   -57.5983,   139.8490,       4271,   600.7,   2.4080,  34.5278,2,  34.5279,2,    176.0,2,   176.4,2,   68.90,2,    2.35,2,  2252.5,2,  2327.5,6, -999.00,9,   34.12,2,   2.3719,     -999.0,     -999.0,9,     -999.0,     -0.007,2,      0.000,2,     99.499,2
09AR20110104,       SR03,      35,          1,         15,         15,2,20110113,       1511,   -57.5983,   139.8490,       4271,   698.1,   2.4279,  34.5876,2,  34.5872,2,    173.9,2,   174.2,2,   71.70,2,    2.31,2,  2254.0,2,  2332.6,2, -999.00,9,   33.45,2,   2.3852,     -999.0,     -999.0,9,     -999.0,     -0.009,2,      0.000,2,     99.499,2
09AR20110104,       SR03,      35,          1,         14,         14,2,20110113,       1511,   -57.5983,   139.8490,       4271,   853.7,   2.3438,  34.6375,2,  34.6374,2,    175.2,2,   175.0,2,   74.60,2,    2.26,2,  2254.4,2,  2337.0,2, -999.00,9,   32.85,2,   2.2910,     -999.0,     -999.0,9,     -999.0,     -0.010,2,      0.000,2,     99.532,2
09AR20110104,       SR03,      35,          1,         13,         13,2,20110113,       1511,   -57.5983,   139.8490,       4271,  1002.9,   2.2906,  34.6832,2,  34.6824,2,    179.8,2,   180.0,2,   76.00,2,    2.19,2,  2252.7,2,  2339.2,2, -999.00,9,   31.72,2,   2.2278,     -999.0,     -999.0,9,     -999.0,     -0.010,2,      0.000,2,     99.340,2
09AR20110104,       SR03,      35,          1,         12,         12,2,20110113,       1511,   -57.5983,   139.8490,       4271,  1201.5,   2.1588,  34.7189,2,  34.7199,2,    185.8,2,   186.0,2,   78.90,2,    2.12,2,  2250.7,2,  2341.5,6, -999.00,9,   30.91,2,   2.0828,     -999.0,     -999.0,9,     -999.0,     -0.011,2,      0.000,2,     99.605,2
09AR20110104,       SR03,      35,          1,         11,         11,2,20110113,       1511,   -57.5983,   139.8490,       4271,  1450.6,   1.9934,  34.7432,2,  34.7423,2,    192.3,2,   192.7,2,   82.70,2,    2.07,2,  2250.8,2,  2345.7,2, -999.00,9,   30.14,2,   1.9005,     -999.0,     -999.0,9,     -999.0,     -0.013,2,      0.000,2,     99.614,2
09AR20110104,       SR03,      35,          1,         10,         10,2,20110113,       1511,   -57.5983,   139.8490,       4271,  1701.7,   1.7937,  34.7477,2,  34.7478,2,    196.2,2,   196.8,2,   88.20,2,    2.07,2,  2252.6,2,  2350.4,2, -999.00,9,   30.04,2,   1.6839,     -999.0,     -999.0,9,     -999.0,     -0.011,2,      0.000,2,     99.637,2
09AR20110104,       SR03,      35,          1,          9,          9,2,20110113,       1511,   -57.5983,   139.8490,       4271,  2002.6,   1.5090,  34.7420,2,  34.7411,2,    200.7,2,   200.9,2,   96.60,2,    2.10,2,  2254.4,2,  2352.0,2, -999.00,9,   30.32,2,   1.3794,     -999.0,     -999.0,9,     -999.0,     -0.014,2,      0.000,2,     99.657,2
09AR20110104,       SR03,      35,          1,          8,          8,2,20110113,       1511,   -57.5983,   139.8490,       4271,  2301.7,   1.2707,  34.7321,2,  34.7315,2,    203.9,2,   204.2,2,  103.80,2,    2.13,2,  2257.2,2,  2356.3,2, -999.00,9,   30.67,2,   1.1205,     -999.0,     -999.0,9,     -999.0,     -0.016,2,      0.000,2,     99.673,2
09AR20110104,       SR03,      35,          1,          7,          7,2,20110113,       1511,   -57.5983,   139.8490,       4271,  2604.0,   1.0210,  34.7195,2,  34.7191,2,    207.4,2,   206.9,2,  111.40,2,    2.16,2,  2260.8,2,  2356.8,2, -999.00,9,   31.05,2,   0.8499,     -999.0,     -999.0,9,     -999.0,     -0.021,2,      0.000,2,     99.680,2
09AR20110104,       SR03,      35,          1,          6,          6,2,20110113,       1511,   -57.5983,   139.8490,       4271,  2950.2,   0.7599,  34.7063,2,  34.7051,2,    211.5,2,   211.0,2,  119.00,2,    2.18,2,  2261.6,2,  2357.8,6, -999.00,9,   31.48,2,   0.5638,     -999.0,     -999.0,9,     -999.0,     -0.021,2,      0.000,2,     99.678,2
09AR20110104,       SR03,      35,          1,          5,          5,2,20110113,       1511,   -57.5983,   139.8490,       4271,  3198.9,   0.5789,  34.6976,2,  34.6960,2,    215.3,2,   215.0,2,  124.20,2,    2.21,2,  2262.8,2,  2357.4,2, -999.00,9,   31.72,2,   0.3644,     -999.0,     -999.0,9,     -999.0,     -0.022,2,      0.000,2,     99.686,2
09AR20110104,       SR03,      35,          1,          4,          4,2,20110113,       1511,   -57.5983,   139.8490,       4271,  3552.5,   0.4321,  34.6904,2,  34.6891,2,    219.0,2,   218.8,2,  129.60,2,    2.23,2,  2262.7,2,  2358.6,2, -999.00,9,   31.91,2,   0.1879,     -999.0,     -999.0,9,     -999.0,     -0.021,2,      0.000,2,     99.674,2
09AR20110104,       SR03,      35,          1,          3,          3,2,20110113,       1511,   -57.5983,   139.8490,       4271,  3900.9,   0.3330,  34.6854,2,  34.6834,2,    222.0,2,   221.5,2,  134.50,2,    2.24,2,  2263.0,2,  2358.4,2, -999.00,9,   32.08,2,   0.0572,     -999.0,     -999.0,9,     -999.0,     -0.023,2,      0.000,2,     99.639,2
09AR20110104,       SR03,      35,          1,          2,        102,2,20110113,       1511,   -57.5983,   139.8490,       4271,  4200.7,   0.2646,  34.6812,2,  34.6803,2,    224.6,2,   223.8,2,  136.40,2,    2.23,2,  -999.0,9,  -999.0,9, -999.00,9,   32.13,2,  -0.0399,     -999.0,     -999.0,9,     -999.0,     -0.024,2,      0.000,2,     99.601,2
09AR20110104,       SR03,      35,          1,          1,          1,2,20110113,       1511,   -57.5983,   139.8490,       4271,  4340.4,   0.2714,  34.6809,2,  34.6795,2,    225.1,2,   224.2,2,  135.40,2,    2.22,2,  2263.1,6,  2357.3,6, -999.00,9,   31.88,2,  -0.0480,     -999.0,     -999.0,9,     -999.0,     -0.025,2,      0.000,2,     99.540,2