BOTTLE,20230419CCHSIOENA
EXPOCODE,SECT_ID,STNNBR,CASTNO,SAMPNO,BTLNBR,BTLNBR_FLAG_W,DATE,TIME,LATITUDE,LONGITUDE,DEPTH,CTDPRS,CTDTMP,CTDSAL,CTDSAL_FLAG_W,SALNTY,SALNTY_FLAG_W,CTDOXY,CTDOXY_FLAG_W,OXYGEN,OXYGEN_FLAG_W,SILCAT,SILCAT_FLAG_W,PHSPHT,PHSPHT_FLAG_W,TCARBN,TCARBN_FLAG_W,ALKALI,ALKALI_FLAG_W,DELO18,DELO18_FLAG_W,NO2+NO3,NO2+NO3_FLAG_W,THETA,O18ERR,DELD,DELD_FLAG_W,DELDERR,CTDFLUOR,CTDFLUOR_FLAG_W,PAR,PAR_FLAG_W,CTDXMISS,CTDXMISS_FLAG_W
,,,,,,,,,,,METERS,DBAR,ITS-90,PSS-78,,PSS-78,,UMOL/KG,,UMOL/KG,,UMOL/KG,,UMOL/KG,,UMOL/KG,,UMOL/KG,,/MILLE,,UMOL/KG,,DEG C,/MILLE,/MILLE,,/MILLE,MG/M^3,,UMOL/M^2/SEC,,%TRANS,
09AR20110104,       SR03,      32,          1,         24,         24,2,20110112,       1828,   -55.9210,   140.4220,       3645,     7.8,   4.4327,  33.8488,2,  33.8501,2,    319.2,2,   319.9,2,    1.80,2,    1.59,2,  2128.8,2,  2273.6,2, -999.00,9,   23.53,2,   4.4322,     -999.0,     -999.0,9,     -999.0,      1.446,2,     33.849,2,     95.908,2
09AR20110104,       SR03,      32,          1,         23,         23,2,20110112,       1828,   -55.9210,   140.4220,       3645,    45.8,   4.4124,  33.8497,2,  33.8505,2,    318.6,2,   319.5,2,    1.80,2,    1.58,2,  2127.8,2,  2273.7,2, -999.00,9,   23.55,2,   4.4092,     -999.0,     -999.0,9,     -999.0,      1.803,2,      3.233,2,     96.051,2
09AR20110104,       SR03,      32,          1,         22,         22,2,20110112,       1828,   -55.9210,   140.4220,       3645,    89.0,   4.1156,  33.8530,2,  33.8545,2,    318.6,2,   317.8,2,    3.30,2,    1.65,2,  2133.3,2,  2274.3,6, -999.00,9,   23.83,2,   4.1095,     -999.0,     -999.0,9,     -999.0,      1.917,2,      0.252,2,     95.620,2
09AR20110104,       SR03,      32,          1,         21,         21,2,20110112,       1828,   -55.9210,   140.4220,       3645,   149.0,   2.3705,  33.8845,2,  33.8862,2,    322.2,2,   320.1,2,   13.20,2,    1.85,2,  2147.8,2,  2277.3,2, -999.00,9,   26.21,2,   2.3623,     -999.0,     -999.0,9,     -999.0,      0.074,2,      0.000,2,     98.916,2
09AR20110104,       SR03,      32,          1,         20,         20,2,20110112,       1828,   -55.9210,   140.4220,       3645,   198.9,   2.1508,  33.9370,2,  33.9362,2,    307.8,2,   309.8,2,   17.40,2,    1.91,2,  2160.4,2,  2280.1,2, -999.00,9,   27.64,2,   2.1401,     -999.0,     -999.0,9,     -999.0,      0.009,2,      0.000,2,     99.266,2
09AR20110104,       SR03,      32,          1,         19,         19,2,20110112,       1828,   -55.9210,   140.4220,       3645,   299.8,   2.6066,  34.1717,2,  34.1707,2,    245.9,2,   246.2,2,   34.80,2,    2.15,2,  2200.2,2,  2294.2,2, -999.00,9,   31.31,2,   2.5890,     -999.0,     -999.0,9,     -999.0,     -0.012,2,      0.000,2,     99.240,2
09AR20110104,       SR03,      32,          1,         18,         18,2,20110112,       1828,   -55.9210,   140.4220,       3645,   399.3,   2.5529,  34.2762,2,  34.2778,2,    219.8,2,   218.0,2,   45.80,2,    2.27,2,  -999.0,9,  -999.0,9, -999.00,9,   32.94,2,   2.5293,     -999.0,     -999.0,9,     -999.0,     -0.006,2,      0.000,2,     99.355,2
09AR20110104,       SR03,      32,          1,         17,         17,2,20110112,       1828,   -55.9210,   140.4220,       3645,   499.8,   2.5215,  34.3637,2,  34.3638,2,    198.1,2,   197.7,2,   54.90,2,    2.35,2,  2234.9,2,  2312.2,2, -999.00,9,   33.89,2,   2.4916,     -999.0,     -999.0,9,     -999.0,     -0.010,2,      0.000,2,     99.425,2
09AR20110104,       SR03,      32,          1,         16,         16,2,20110112,       1828,   -55.9210,   140.4220,       3645,   600.0,   2.5134,  34.4473,2,  34.4470,2,    184.5,2,   184.2,2,   62.10,2,    2.36,2,  -999.0,9,  -999.0,9, -999.00,9,   34.15,2,   2.4769,     -999.0,     -999.0,9,     -999.0,     -0.008,2,      0.000,2,     99.433,2
09AR20110104,       SR03,      32,          1,         15,         15,2,20110112,       1828,   -55.9210,   140.4220,       3645,   697.0,   2.5032,  34.5182,2,  34.5178,2,    176.9,2,   177.0,2,   67.30,2,    2.35,2,  -999.0,9,  -999.0,9, -999.00,9,   33.93,2,   2.4603,     -999.0,     -999.0,9,     -999.0,     -0.010,2,      0.000,2,     99.428,2
09AR20110104,       SR03,      32,          1,         14,         14,2,20110112,       1828,   -55.9210,   140.4220,       3645,   800.3,   2.4590,  34.5658,2,  34.5661,2,    174.4,2,   174.5,2,   70.60,2,    2.32,2,  2254.9,2,  2333.0,2, -999.00,9,   33.60,2,   2.4093,     -999.0,     -999.0,9,     -999.0,     -0.010,2,      0.000,2,     99.461,2
09AR20110104,       SR03,      32,          1,         13,         13,2,20110112,       1828,   -55.9210,   140.4220,       3645,   900.6,   2.4127,  34.6141,2,  34.6153,2,    174.1,2,   174.8,2,   73.00,2,    2.29,2,  -999.0,9,  -999.0,9, -999.00,9,   33.03,2,   2.3562,     -999.0,     -999.0,9,     -999.0,     -0.007,2,      0.000,2,     99.496,2
09AR20110104,       SR03,      32,          1,         12,         12,2,20110112,       1828,   -55.9210,   140.4220,       3645,  1001.1,   2.3589,  34.6541,2,  34.6548,2,    176.0,2,   177.4,2,   74.70,2,    2.25,2,  2251.5,2,  2336.7,2, -999.00,9,   32.36,2,   2.2957,     -999.0,     -999.0,9,     -999.0,     -0.009,2,      0.000,2,     99.499,2
09AR20110104,       SR03,      32,          1,         11,         11,2,20110112,       1828,   -55.9210,   140.4220,       3645,  1199.3,   2.2534,  34.6995,2,  34.6999,2,    182.4,2,   182.6,2,   77.30,2,    2.17,2,  -999.0,9,  -999.0,9, -999.00,9,   31.35,2,   2.1767,     -999.0,     -999.0,9,     -999.0,     -0.007,2,      0.000,2,     99.532,2
09AR20110104,       SR03,      32,          1,         10,         10,2,20110112,       1828,   -55.9210,   140.4220,       3645,  1399.7,   2.1338,  34.7292,2,  34.7291,2,    188.7,2,   188.8,2,   80.00,2,    2.13,2,  -999.0,9,  -999.0,9, -999.00,9,   30.60,2,   2.0432,     -999.0,     -999.0,9,     -999.0,     -0.007,2,      0.000,2,     99.549,2
09AR20110104,       SR03,      32,          1,          9,          9,2,20110112,       1828,   -55.9210,   140.4220,       3645,  1599.8,   1.9818,  34.7451,2,  34.7448,2,    193.7,2,   193.5,2,   83.50,2,    2.10,2,  2249.9,2,  2349.4,2, -999.00,9,   30.15,2,   1.8776,     -999.0,     -999.0,9,     -999.0,     -0.011,2,      0.000,2,     99.568,2
09AR20110104,       SR03,      32,          1,          8,          8,2,20110112,       1828,   -55.9210,   140.4220,       3645,  1801.2,   1.8353,  34.7487,2,  34.7485,2,    196.7,2,   196.7,2,   87.60,2,    2.09,2,  -999.0,9,  -999.0,9, -999.00,9,   30.04,2,   1.7171,     -999.0,     -999.0,9,     -999.0,     -0.016,2,      0.000,2,     99.579,2
09AR20110104,       SR03,      32,          1,          7,          7,2,20110112,       1828,   -55.9210,   140.4220,       3645,  2099.9,   1.5445,  34.7430,2,  34.7425,2,    200.8,2,   200.9,2,   96.10,2,    2.11,2,  -999.0,9,  -999.0,9, -999.00,9,   30.31,2,   1.4065,     -999.0,     -999.0,9,     -999.0,     -0.013,2,      0.000,2,     99.608,2
09AR20110104,       SR03,      32,          1,          6,          6,2,20110112,       1828,   -55.9210,   140.4220,       3645,  2398.9,   1.2646,  34.7315,2,  34.7319,2,    203.7,2,   204.2,2,  104.90,2,    2.15,2,  -999.0,9,  -999.0,9, -999.00,9,   30.74,2,   1.1064,     -999.0,     -999.0,9,     -999.0,     -0.010,2,      0.000,2,     99.629,2
09AR20110104,       SR03,      32,          1,          5,          5,2,20110112,       1828,   -55.9210,   140.4220,       3645,  2700.1,   1.0261,  34.7194,2,  34.7192,2,    206.8,2,   207.0,2,  112.00,2,    2.17,2,  2258.8,6,  2359.2,6, -999.00,9,   31.16,2,   0.8465,     -999.0,     -999.0,9,     -999.0,     -0.018,2,      0.000,2,     99.633,2
09AR20110104,       SR03,      32,          1,          4,          4,2,20110112,       1828,   -55.9210,   140.4220,       3645,  3000.6,   0.8021,  34.7080,2,  34.7068,2,    210.6,2,   210.5,2,  118.80,2,    2.20,2,  -999.0,9,  -999.0,9, -999.00,9,   31.49,2,   0.6005,     -999.0,     -999.0,9,     -999.0,     -0.017,2,      0.000,2,     99.628,2
09AR20110104,       SR03,      32,          1,          3,          3,2,20110112,       1828,   -55.9210,   140.4220,       3645,  3299.3,   0.5837,  34.6977,2,  34.6959,2,    215.0,2,   215.2,2,  126.00,2,    2.23,2,  -999.0,9,  -999.0,9, -999.00,9,   31.74,2,   0.3597,     -999.0,     -999.0,9,     -999.0,     -0.017,2,      0.000,2,     99.609,2
09AR20110104,       SR03,      32,          1,          2,        102,2,20110112,       1828,   -55.9210,   140.4220,       3645,  3602.9,   0.4935,  34.6928,2,  34.6910,2,    217.6,2,   217.2,2,  130.70,2,    2.25,2,  -999.0,9,  -999.0,9, -999.00,9,   31.90,2,   0.2428,     -999.0,     -999.0,9,     -999.0,     -0.019,2,      0.000,2,     99.576,2
09AR20110104,       SR03,      32,          1,          1,          1,2,20110112,       1828,   -55.9210,   140.4220,       3645,  3695.6,   0.4860,  34.6921,2,  34.6874,2,    218.3,2,   217.4,2,  131.40,2,    2.24,2,  -999.0,9,  -999.0,9, -999.00,9,   31.94,2,   0.2265,     -999.0,     -999.0,9,     -999.0,     -0.017,2,      0.000,2,     99.556,2
09AR20110104,       SR03,      33,          1,         24,         24,2,20110113,       0136,   -56.4252,   140.1220,       3864,     9.6,   4.5434,  33.8262,2,  33.8265,2,    321.4,2,   321.3,2,    0.30,2,    1.55,2,  2122.3,6,  2274.2,6, -999.00,9,   23.41,2,   4.5427,     -999.0,     -999.0,9,     -999.0,      0.525,2,    141.539,2,     95.235,2
09AR20110104,       SR03,      33,          1,         23,         23,2,20110113,       0136,   -56.4252,   140.1220,       3864,    49.9,   4.4996,  33.8256,2,  33.8260,2,    320.1,2,   321.1,2,    0.30,2,    1.55,2,  2122.2,2,  2276.6,2, -999.00,9,   23.38,2,   4.4960,     -999.0,     -999.0,9,     -999.0,      2.374,2,     11.549,2,     94.990,2
09AR20110104,       SR03,      33,          1,         22,         22,2,20110113,       0136,   -56.4252,   140.1220,       3864,    90.3,   3.1746,  33.8543,2,  33.8575,2,    317.3,2,   319.8,2,    7.30,2,    1.81,2,  2138.2,2,  2274.8,6, -999.00,9,   24.47,2,   3.1691,     -999.0,     -999.0,9,     -999.0,      2.339,2,      0.860,2,     95.340,2
09AR20110104,       SR03,      33,          1,         21,         21,2,20110113,       0136,   -56.4252,   140.1220,       3864,   148.8,   2.4628,  33.9192,2,  33.9180,2,    316.2,2,   316.3,2,   13.80,2,    1.85,2,  2151.1,2,  2277.0,2, -999.00,9,   26.61,2,   2.4545,     -999.0,     -999.0,9,     -999.0,      0.012,2,      0.013,2,     99.296,2
09AR20110104,       SR03,      33,          1,         20,         20,2,20110113,       0136,   -56.4252,   140.1220,       3864,   199.5,   2.9884,  34.0806,2,  34.0793,2,    271.1,2,   271.8,2,   22.20,2,    1.96,2,  2173.7,2,  2282.6,2, -999.00,9,   28.84,2,   2.9763,     -999.0,     -999.0,9,     -999.0,     -0.007,2,      0.000,2,     99.314,2
09AR20110104,       SR03,      33,          1,         19,         19,2,20110113,       0136,   -56.4252,   140.1220,       3864,   301.6,   2.6083,  34.1839,2,  34.1836,2,    240.4,2,   242.2,2,   35.40,2,    2.16,2,  2200.0,2,  2294.0,2, -999.00,9,   31.64,2,   2.5906,     -999.0,     -999.0,9,     -999.0,     -0.016,2,      0.000,2,     99.349,2
09AR20110104,       SR03,      33,          1,         18,         18,2,20110113,       0136,   -56.4252,   140.1220,       3864,   397.8,   2.6555,  34.2983,2,  34.2981,2,    214.3,2,   212.5,2,   45.90,2,    2.26,2,  2218.6,2,  2305.4,2, -999.00,9,   33.03,2,   2.6316,     -999.0,     -999.0,9,     -999.0,     -0.013,2,      0.000,2,     99.463,2
09AR20110104,       SR03,      33,          1,         17,         17,2,20110113,       0136,   -56.4252,   140.1220,       3864,   499.9,   2.5795,  34.3870,2,  34.3881,2,    193.4,2,   193.6,2,   55.10,2,    2.33,2,  2233.5,2,  2315.0,2, -999.00,9,   33.85,2,   2.5493,     -999.0,     -999.0,9,     -999.0,     -0.013,2,      0.000,2,     99.511,2
09AR20110104,       SR03,      33,          1,         16,         16,2,20110113,       0136,   -56.4252,   140.1220,       3864,   600.6,   2.4995,  34.4488,2,  34.4497,2,    183.1,2,   184.0,2,   60.90,2,    2.33,2,  2243.5,2,  2320.6,2, -999.00,9,   33.95,2,   2.4631,     -999.0,     -999.0,9,     -999.0,     -0.010,2,      0.000,2,     99.540,2
09AR20110104,       SR03,      33,          1,         15,         15,2,20110113,       0136,   -56.4252,   140.1220,       3864,   801.8,   2.5088,  34.5769,2,  34.5743,2,    175.0,2,   174.8,2,   68.30,2,    2.31,2,  2248.9,2,  2332.8,6, -999.00,9,   33.03,2,   2.4586,     -999.0,     -999.0,9,     -999.0,     -0.010,2,      0.000,2,     99.577,2
09AR20110104,       SR03,      33,          1,         14,         14,2,20110113,       0136,   -56.4252,   140.1220,       3864,   998.4,   2.3824,  34.6545,2,  34.6531,2,    177.5,2,   177.6,2,   72.80,2,    2.22,2,  2249.5,2,  2338.3,2, -999.00,9,   32.04,2,   2.3192,     -999.0,     -999.0,9,     -999.0,     -0.011,2,      0.000,2,     99.626,2
09AR20110104,       SR03,      33,          1,         13,         13,2,20110113,       0136,   -56.4252,   140.1220,       3864,  1199.5,   2.2596,  34.7032,2,  34.7043,2,    183.4,2,   183.2,2,   76.30,2,    2.16,2,  2248.1,2,  2340.3,2, -999.00,9,   31.18,2,   2.1828,     -999.0,     -999.0,9,     -999.0,     -0.012,2,      0.000,2,     99.643,2
09AR20110104,       SR03,      33,          1,         12,         12,2,20110113,       0136,   -56.4252,   140.1220,       3864,  1398.0,   2.1262,  34.7310,2,  34.7310,2,    189.0,2,   189.1,2,   78.50,2,    2.10,2,  2246.7,6,  2344.1,6, -999.00,9,   30.56,2,   2.0359,     -999.0,     -999.0,9,     -999.0,     -0.006,2,      0.000,2,     99.655,2
09AR20110104,       SR03,      33,          1,         11,         11,2,20110113,       0136,   -56.4252,   140.1220,       3864,  1598.7,   1.9735,  34.7450,2,  34.7439,2,    193.6,2,   193.8,2,   82.40,2,    2.08,2,  2246.8,2,  2346.8,2, -999.00,9,   30.08,2,   1.8695,     -999.0,     -999.0,9,     -999.0,     -0.009,2,      0.000,2,     99.678,2
09AR20110104,       SR03,      33,          1,         10,         10,2,20110113,       0136,   -56.4252,   140.1220,       3864,  1798.5,   1.8246,  34.7486,2,  34.7473,2,    196.6,2,  -999.0,9,   86.60,2,    2.08,2,  2248.3,2,  2351.9,2, -999.00,9,   30.02,2,   1.7068,     -999.0,     -999.0,9,     -999.0,     -0.008,2,      0.000,2,     99.686,2
09AR20110104,       SR03,      33,          1,          9,          9,2,20110113,       0136,   -56.4252,   140.1220,       3864,  2000.9,   1.6282,  34.7457,2,  34.7445,2,    199.2,2,   199.7,2,   91.40,2,    2.09,2,  2251.9,2,  2352.6,2, -999.00,9,   30.21,2,   1.4969,     -999.0,     -999.0,9,     -999.0,     -0.009,2,      0.000,2,     99.714,2
09AR20110104,       SR03,      33,          1,          8,          8,2,20110113,       0136,   -56.4252,   140.1220,       3864,  2299.7,   1.3477,  34.7352,2,  34.7342,2,    202.8,2,   203.0,2,   99.70,2,    2.12,2,  2254.6,2,  2357.9,2, -999.00,9,   30.66,2,   1.1964,     -999.0,     -999.0,9,     -999.0,     -0.015,2,      0.000,2,     99.739,2
09AR20110104,       SR03,      33,          1,          7,          7,2,20110113,       0136,   -56.4252,   140.1220,       3864,  2599.3,   1.0912,  34.7229,2,  34.7218,2,    205.9,2,   205.8,2,  107.50,2,    2.16,2,  2258.2,2,  2358.4,2, -999.00,9,   31.06,2,   0.9191,     -999.0,     -999.0,9,     -999.0,     -0.015,2,      0.000,2,     99.745,2
09AR20110104,       SR03,      33,          1,          6,          6,2,20110113,       0136,   -56.4252,   140.1220,       3864,  2901.7,   0.8505,  34.7102,2,  34.7096,2,    209.7,2,   209.4,2,  114.30,2,    2.19,2,  2260.3,2,  2358.6,2, -999.00,9,   31.47,2,   0.6567,     -999.0,     -999.0,9,     -999.0,     -0.015,2,      0.000,2,     99.756,2
09AR20110104,       SR03,      33,          1,          5,          5,2,20110113,       0136,   -56.4252,   140.1220,       3864,  3199.9,   0.6551,  34.7006,2,  34.6995,2,    213.8,2,   213.4,2,  120.10,2,    2.21,2,  2258.1,2,  2364.2,2, -999.00,9,   31.70,2,   0.4386,     -999.0,     -999.0,9,     -999.0,     -0.014,2,      0.000,2,     99.751,2
09AR20110104,       SR03,      33,          1,          4,          4,2,20110113,       0136,   -56.4252,   140.1220,       3864,  3401.0,   0.5508,  34.6957,2,  34.6941,2,    215.8,2,   215.7,2,  123.70,2,    2.23,2,  2261.2,2,  2359.6,2, -999.00,9,   31.84,2,   0.3181,     -999.0,     -999.0,9,     -999.0,     -0.020,2,      0.000,2,     99.745,2
09AR20110104,       SR03,      33,          1,          3,          3,2,20110113,       0136,   -56.4252,   140.1220,       3864,  3599.1,   0.4805,  34.6921,2,  34.6920,2,    217.4,2,   217.2,2,  126.20,2,    2.23,2,  2262.0,2,  2358.9,2, -999.00,9,   31.94,2,   0.2305,     -999.0,     -999.0,9,     -999.0,     -0.023,2,      0.000,2,     99.737,2
09AR20110104,       SR03,      33,          1,          2,        102,2,20110113,       0136,   -56.4252,   140.1220,       3864,  3800.8,   0.4482,  34.6901,2,  34.6886,2,    219.3,2,   218.6,2,  128.40,2,    2.24,2,  -999.0,9,  -999.0,9, -999.00,9,   31.99,2,   0.1792,     -999.0,     -999.0,9,     -999.0,     -0.020,2,      0.000,2,     99.707,2
09AR20110104,       SR03,      33,          1,          1,          1,2,20110113,       0136,   -56.4252,   140.1220,       3864,  3918.1,   0.3963,  34.6875,2,  34.6850,2,    221.0,2,   219.7,2,  131.20,2,    2.22,2,  2261.4,6,  2360.0,6, -999.00,9,   32.07,2,   0.1170,     -999.0,     -999.0,9,     -999.0,     -0.018,2,      0.000,2,     99.643,2