BOTTLE,20230419CCHSIOENA
EXPOCODE,SECT_ID,STNNBR,CASTNO,SAMPNO,BTLNBR,BTLNBR_FLAG_W,DATE,TIME,LATITUDE,LONGITUDE,DEPTH,CTDPRS,CTDTMP,CTDSAL,CTDSAL_FLAG_W,SALNTY,SALNTY_FLAG_W,CTDOXY,CTDOXY_FLAG_W,OXYGEN,OXYGEN_FLAG_W,SILCAT,SILCAT_FLAG_W,PHSPHT,PHSPHT_FLAG_W,TCARBN,TCARBN_FLAG_W,ALKALI,ALKALI_FLAG_W,DELO18,DELO18_FLAG_W,NO2+NO3,NO2+NO3_FLAG_W,THETA,O18ERR,DELD,DELD_FLAG_W,DELDERR,CTDFLUOR,CTDFLUOR_FLAG_W,PAR,PAR_FLAG_W,CTDXMISS,CTDXMISS_FLAG_W
,,,,,,,,,,,METERS,DBAR,ITS-90,PSS-78,,PSS-78,,UMOL/KG,,UMOL/KG,,UMOL/KG,,UMOL/KG,,UMOL/KG,,UMOL/KG,,/MILLE,,UMOL/KG,,DEG C,/MILLE,/MILLE,,/MILLE,MG/M^3,,UMOL/M^2/SEC,,%TRANS,
09AR20110104,       SR03,     124,          1,         24,         24,2,20110127,       1211,   -67.5257,   147.2130,        529,     9.9,  -0.5512,  33.8439,2,  33.8449,2,    388.3,2,   388.2,2,   53.50,2, -999.00,9,  2099.8,2,  2306.5,2,   -0.44,2,   16.10,2,  -0.5515,       0.03,      -4.43,2,       0.04,     23.113,2,      0.000,2,     81.842,2
09AR20110104,       SR03,     124,          1,         23,         23,2,20110127,       1211,   -67.5257,   147.2130,        529,     9.9,  -0.5488,  33.8457,2,-999.0000,9,    388.3,2,  -999.0,9, -999.00,9, -999.00,9,  -999.0,9,  -999.0,9, -999.00,9, -999.00,9,  -0.5491,     -999.0,     -999.0,9,     -999.0,     20.434,2,      0.000,2,     81.910,2
09AR20110104,       SR03,     124,          1,         22,         22,2,20110127,       1211,   -67.5257,   147.2130,        529,     9.9,  -0.5485,  33.8458,2,-999.0000,9,    388.3,2,  -999.0,9, -999.00,9, -999.00,9,  -999.0,9,  -999.0,9, -999.00,9, -999.00,9,  -0.5488,     -999.0,     -999.0,9,     -999.0,     21.313,2,      0.000,2,     81.879,2
09AR20110104,       SR03,     124,          1,         21,         21,2,20110127,       1211,   -67.5257,   147.2130,        529,     9.9,  -0.5482,  33.8456,2,-999.0000,9,    388.3,2,  -999.0,9, -999.00,9, -999.00,9,  -999.0,9,  -999.0,9, -999.00,9, -999.00,9,  -0.5485,     -999.0,     -999.0,9,     -999.0,     21.606,2,      0.000,2,     81.617,2
09AR20110104,       SR03,     124,          1,         20,         20,2,20110127,       1211,   -67.5257,   147.2130,        529,     9.9,  -0.5487,  33.8449,2,-999.0000,9,    388.3,2,  -999.0,9, -999.00,9, -999.00,9,  -999.0,9,  -999.0,9, -999.00,9, -999.00,9,  -0.5490,     -999.0,     -999.0,9,     -999.0,     21.729,2,      0.000,2,     81.751,2
09AR20110104,       SR03,     124,          1,         19,         19,2,20110127,       1211,   -67.5257,   147.2130,        529,     9.9,  -0.5497,  33.8451,2,-999.0000,9,    388.3,2,  -999.0,9, -999.00,9, -999.00,9,  -999.0,9,  -999.0,9, -999.00,9, -999.00,9,  -0.5500,     -999.0,     -999.0,9,     -999.0,     21.261,2,      0.000,2,     81.546,2
09AR20110104,       SR03,     124,          1,         18,         18,2,20110127,       1211,   -67.5257,   147.2130,        529,    50.0,  -1.6181,  34.3461,2,  34.3448,2,    315.9,2,   315.6,2,   72.60,2,    2.08,2,  2220.6,2,  2325.4,2,   -0.37,2,   29.12,2,  -1.6192,       0.06,      -4.16,2,       0.25,     10.172,2,      0.000,2,     91.305,2
09AR20110104,       SR03,     124,          1,         17,         17,2,20110127,       1211,   -67.5257,   147.2130,        529,    50.0,  -1.6181,  34.3459,2,-999.0000,9,    315.9,2,  -999.0,9, -999.00,9, -999.00,9,  -999.0,9,  -999.0,9, -999.00,9, -999.00,9,  -1.6192,     -999.0,     -999.0,9,     -999.0,      8.920,2,      0.000,2,     91.410,2
09AR20110104,       SR03,     124,          1,         16,         16,2,20110127,       1211,   -67.5257,   147.2130,        529,    50.0,  -1.6183,  34.3458,2,-999.0000,9,    315.9,2,  -999.0,9, -999.00,9, -999.00,9,  -999.0,9,  -999.0,9, -999.00,9, -999.00,9,  -1.6194,     -999.0,     -999.0,9,     -999.0,      6.979,2,      0.000,2,     91.392,2
09AR20110104,       SR03,     124,          1,         15,         15,2,20110127,       1211,   -67.5257,   147.2130,        529,    50.0,  -1.6166,  34.3451,2,-999.0000,9,    315.9,2,  -999.0,9, -999.00,9, -999.00,9,  -999.0,9,  -999.0,9, -999.00,9, -999.00,9,  -1.6177,     -999.0,     -999.0,9,     -999.0,      8.541,2,      0.000,2,     91.522,2
09AR20110104,       SR03,     124,          1,         14,         14,2,20110127,       1211,   -67.5257,   147.2130,        529,   150.6,  -1.7180,  34.3957,2,  34.3955,2,    306.6,2,   307.6,2,   74.80,2,    2.05,2,  2226.4,2,  2326.9,2,   -0.27,2,   30.58,2,  -1.7212,       0.10,      -3.96,2,       0.22,      1.377,2,      0.000,2,     97.845,2
09AR20110104,       SR03,     124,          1,         13,         13,2,20110127,       1211,   -67.5257,   147.2130,        529,   151.0,  -1.7193,  34.3964,2,-999.0000,9,    306.6,2,  -999.0,9, -999.00,9, -999.00,9,  -999.0,9,  -999.0,9, -999.00,9, -999.00,9,  -1.7225,     -999.0,     -999.0,9,     -999.0,      1.147,2,      0.000,2,     97.727,2
09AR20110104,       SR03,     124,          1,         12,         12,2,20110127,       1211,   -67.5257,   147.2130,        529,   150.9,  -1.7191,  34.3964,2,-999.0000,9,    306.6,2,  -999.0,9, -999.00,9, -999.00,9,  -999.0,9,  -999.0,9, -999.00,9, -999.00,9,  -1.7223,     -999.0,     -999.0,9,     -999.0,      0.694,2,      0.000,2,     97.819,2
09AR20110104,       SR03,     124,          1,         11,         11,2,20110127,       1211,   -67.5257,   147.2130,        529,   299.5,  -1.8291,  34.4691,2,  34.4705,2,    301.3,2,   301.6,2,   75.90,2,    2.06,2,  -999.0,9,  -999.0,9,   -0.39,2,   30.83,2,  -1.8357,       0.01,      -4.22,2,       0.10,      0.064,2,      0.000,2,     99.234,2
09AR20110104,       SR03,     124,          1,         10,         10,2,20110127,       1211,   -67.5257,   147.2130,        529,   299.7,  -1.8297,  34.4690,2,-999.0000,9,    301.3,2,  -999.0,9, -999.00,9, -999.00,9,  -999.0,9,  -999.0,9, -999.00,9, -999.00,9,  -1.8363,     -999.0,     -999.0,9,     -999.0,     -0.025,2,      0.000,2,     99.197,2
09AR20110104,       SR03,     124,          1,          9,          9,2,20110127,       1211,   -67.5257,   147.2130,        529,   299.7,  -1.8320,  34.4687,2,-999.0000,9,    301.3,2,  -999.0,9, -999.00,9, -999.00,9,  -999.0,9,  -999.0,9, -999.00,9, -999.00,9,  -1.8386,     -999.0,     -999.0,9,     -999.0,      0.029,2,      0.000,2,     99.206,2
09AR20110104,       SR03,     124,          1,          8,          8,2,20110127,       1211,   -67.5257,   147.2130,        529,   443.2,  -1.9374,  34.5468,2,  34.5435,2,    305.4,2,   306.6,2,   75.40,2,    2.06,2,  2235.9,2,  2336.5,2,   -0.52,2,   30.74,2,  -1.9474,       0.04,      -4.91,2,       0.22,     -0.065,2,      0.000,2,     99.263,2
09AR20110104,       SR03,     124,          1,          7,          7,2,20110127,       1211,   -67.5257,   147.2130,        529,   443.2,  -1.9372,  34.5463,2,-999.0000,9,    305.4,2,  -999.0,9, -999.00,9, -999.00,9,  -999.0,9,  -999.0,9, -999.00,9, -999.00,9,  -1.9472,     -999.0,     -999.0,9,     -999.0,     -0.029,2,      0.000,2,     99.246,2
09AR20110104,       SR03,     124,          1,          6,          6,2,20110127,       1211,   -67.5257,   147.2130,        529,   443.2,  -1.9371,  34.5459,2,-999.0000,9,    305.4,2,  -999.0,9, -999.00,9, -999.00,9,  -999.0,9,  -999.0,9, -999.00,9, -999.00,9,  -1.9471,     -999.0,     -999.0,9,     -999.0,     -0.013,2,      0.000,2,     99.250,2
09AR20110104,       SR03,     124,          1,          5,          5,2,20110127,       1211,   -67.5257,   147.2130,        529,   443.2,  -1.9372,  34.5457,2,-999.0000,9,    305.4,2,  -999.0,9, -999.00,9, -999.00,9,  -999.0,9,  -999.0,9, -999.00,9, -999.00,9,  -1.9472,     -999.0,     -999.0,9,     -999.0,     -0.030,2,      0.000,2,     99.255,2
09AR20110104,       SR03,     124,          1,          4,          4,2,20110127,       1211,   -67.5257,   147.2130,        529,   443.2,  -1.9372,  34.5457,2,-999.0000,9,    305.4,2,  -999.0,9, -999.00,9, -999.00,9,  -999.0,9,  -999.0,9, -999.00,9, -999.00,9,  -1.9472,     -999.0,     -999.0,9,     -999.0,     -0.012,2,      0.000,2,     99.242,2
09AR20110104,       SR03,     124,          1,          3,          3,2,20110127,       1211,   -67.5257,   147.2130,        529,   443.1,  -1.9372,  34.5458,2,-999.0000,9,    305.4,2,  -999.0,9, -999.00,9, -999.00,9,  -999.0,9,  -999.0,9, -999.00,9, -999.00,9,  -1.9472,     -999.0,     -999.0,9,     -999.0,      0.019,2,      0.000,2,     99.238,2
09AR20110104,       SR03,     124,          1,          2,        102,2,20110127,       1211,   -67.5257,   147.2130,        529,   528.8,  -1.9139,  34.6010,2,  34.6003,2,    306.2,2,   305.4,2,   75.70,2,    2.08,2,  -999.0,9,  -999.0,9,   -0.34,2,   30.66,2,  -1.9264,       0.03,      -4.32,2,       0.16,      0.063,2,      0.000,2,     97.919,2
09AR20110104,       SR03,     124,          1,          1,          1,2,20110127,       1211,   -67.5257,   147.2130,        529,   525.6,  -1.9140,  34.6009,2,-999.0000,9,    306.2,2,  -999.0,9, -999.00,9, -999.00,9,  -999.0,9,  -999.0,9, -999.00,9, -999.00,9,  -1.9264,     -999.0,     -999.0,9,     -999.0,      0.108,2,      0.000,2,     97.951,2
09AR20110104,       SR03,     125,          1,         24,         24,2,20110127,       1418,   -67.6022,   147.5720,        571,     9.7,  -0.8259,  33.8246,2,  33.8273,2,    363.2,3,   383.6,2,   52.80,2,    1.16,2,  2103.8,6,  2302.1,6,   -0.46,2,   16.23,2,  -0.8262,       0.07,      -4.47,2,       0.03,     19.346,2,      0.000,2,     83.523,2
09AR20110104,       SR03,     125,          1,         23,         23,2,20110127,       1418,   -67.6022,   147.5720,        571,     9.7,  -0.8266,  33.8248,2,-999.0000,9,    363.2,3,  -999.0,9, -999.00,9, -999.00,9,  -999.0,9,  -999.0,9, -999.00,9, -999.00,9,  -0.8269,     -999.0,     -999.0,9,     -999.0,     19.460,2,      0.000,2,     83.994,2
09AR20110104,       SR03,     125,          1,         22,         22,2,20110127,       1418,   -67.6022,   147.5720,        571,    41.4,  -1.3777,  34.1139,2,-999.0000,9,    350.1,2,  -999.0,9, -999.00,9, -999.00,9,  -999.0,9,  -999.0,9, -999.00,9, -999.00,9,  -1.3786,     -999.0,     -999.0,9,     -999.0,     19.352,2,      0.000,2,     84.468,2
09AR20110104,       SR03,     125,          1,         21,         21,2,20110127,       1418,   -67.6022,   147.5720,        571,    41.3,  -1.3831,  34.1146,2,-999.0000,9,    350.1,2,  -999.0,9, -999.00,9, -999.00,9,  -999.0,9,  -999.0,9, -999.00,9, -999.00,9,  -1.3840,     -999.0,     -999.0,9,     -999.0,     16.941,2,      0.000,2,     84.934,2
09AR20110104,       SR03,     125,          1,         20,         20,2,20110127,       1418,   -67.6022,   147.5720,        571,    41.3,  -1.3856,  34.1143,2,-999.0000,9,    350.1,2,  -999.0,9, -999.00,9, -999.00,9,  -999.0,9,  -999.0,9, -999.00,9, -999.00,9,  -1.3865,     -999.0,     -999.0,9,     -999.0,     16.970,2,      0.000,2,     84.867,2
09AR20110104,       SR03,     125,          1,         19,         19,2,20110127,       1418,   -67.6022,   147.5720,        571,    41.3,  -1.3883,  34.1132,2,-999.0000,9,    350.1,2,  -999.0,9, -999.00,9, -999.00,9,  -999.0,9,  -999.0,9, -999.00,9, -999.00,9,  -1.3892,     -999.0,     -999.0,9,     -999.0,     18.039,2,      0.000,2,     84.932,2
09AR20110104,       SR03,     125,          1,         18,         18,2,20110127,       1418,   -67.6022,   147.5720,        571,    41.3,  -1.3777,  34.1120,2,  34.1217,2,    350.1,2,   349.7,2,   65.00,2,    1.76,2,  2176.8,2,  2314.7,2,   -0.37,2,   23.95,2,  -1.3786,       0.01,      -3.96,2,       0.03,     20.308,2,      0.000,2,     84.876,2
09AR20110104,       SR03,     125,          1,         17,         17,2,20110127,       1418,   -67.6022,   147.5720,        571,    41.3,  -1.3838,  34.1117,2,-999.0000,9,    350.1,2,  -999.0,9, -999.00,9, -999.00,9,  -999.0,9,  -999.0,9, -999.00,9, -999.00,9,  -1.3847,     -999.0,     -999.0,9,     -999.0,     17.948,2,      0.000,2,     84.900,2
09AR20110104,       SR03,     125,          1,         16,         16,2,20110127,       1418,   -67.6022,   147.5720,        571,   150.2,  -1.7182,  34.3992,2,-999.0000,9,    305.8,2,  -999.0,9, -999.00,9, -999.00,9,  -999.0,9,  -999.0,9, -999.00,9, -999.00,9,  -1.7214,     -999.0,     -999.0,9,     -999.0,      1.538,2,      0.000,2,     97.457,2
09AR20110104,       SR03,     125,          1,         15,         15,2,20110127,       1418,   -67.6022,   147.5720,        571,   150.0,  -1.7189,  34.3993,2,-999.0000,9,    305.8,2,  -999.0,9, -999.00,9, -999.00,9,  -999.0,9,  -999.0,9, -999.00,9, -999.00,9,  -1.7221,     -999.0,     -999.0,9,     -999.0,      1.120,2,      0.000,2,     97.378,2
09AR20110104,       SR03,     125,          1,         14,         14,2,20110127,       1418,   -67.6022,   147.5720,        571,   149.7,  -1.7200,  34.3992,2,  34.4002,2,    305.8,2,   306.0,2,   74.10,2,    2.09,2,  2227.3,2,  2325.7,2,   -0.38,2,   30.24,2,  -1.7232,       0.04,      -3.86,2,       0.10,      1.182,2,      0.000,2,     97.339,2
09AR20110104,       SR03,     125,          1,         13,         13,2,20110127,       1418,   -67.6022,   147.5720,        571,   149.6,  -1.7197,  34.3993,2,-999.0000,9,    305.8,2,  -999.0,9, -999.00,9, -999.00,9,  -999.0,9,  -999.0,9, -999.00,9, -999.00,9,  -1.7229,     -999.0,     -999.0,9,     -999.0,      1.372,2,      0.000,2,     97.308,2
09AR20110104,       SR03,     125,          1,         12,         12,2,20110127,       1418,   -67.6022,   147.5720,        571,   149.4,  -1.7189,  34.3990,2,-999.0000,9,    305.8,2,  -999.0,9, -999.00,9, -999.00,9,  -999.0,9,  -999.0,9, -999.00,9, -999.00,9,  -1.7221,     -999.0,     -999.0,9,     -999.0,      1.489,2,      0.000,2,     97.296,2
09AR20110104,       SR03,     125,          1,         11,         11,2,20110127,       1418,   -67.6022,   147.5720,        571,   301.3,  -1.7923,  34.4733,2,  34.5706,4,    300.9,2,   300.4,2,   75.30,2,    2.11,2,  -999.0,9,  -999.0,9,   -0.39,2,   30.53,2,  -1.7990,       0.07,      -4.13,2,       0.03,      0.093,2,      0.000,2,     98.726,2
09AR20110104,       SR03,     125,          1,         10,         10,2,20110127,       1418,   -67.6022,   147.5720,        571,   301.1,  -1.7929,  34.4733,2,-999.0000,9,    300.9,2,  -999.0,9, -999.00,9, -999.00,9,  -999.0,9,  -999.0,9, -999.00,9, -999.00,9,  -1.7996,     -999.0,     -999.0,9,     -999.0,      0.042,2,      0.000,2,     98.679,2
09AR20110104,       SR03,     125,          1,          9,          9,2,20110127,       1418,   -67.6022,   147.5720,        571,   301.0,  -1.7946,  34.4734,2,-999.0000,9,    301.0,2,  -999.0,9, -999.00,9, -999.00,9,  -999.0,9,  -999.0,9, -999.00,9, -999.00,9,  -1.8013,     -999.0,     -999.0,9,     -999.0,      0.065,2,      0.000,2,     98.678,2
09AR20110104,       SR03,     125,          1,          8,          8,2,20110127,       1418,   -67.6022,   147.5720,        571,   452.4,  -1.9171,  34.5719,2,  34.4738,4,    305.8,2,   305.8,2,   74.70,2,    2.11,2,  2237.8,2,  2335.5,2,   -0.32,2,   30.56,2,  -1.9274,       0.04,      -3.52,2,       0.07,      0.014,2,      0.000,2,     98.838,2
09AR20110104,       SR03,     125,          1,          7,          7,2,20110127,       1418,   -67.6022,   147.5720,        571,   452.2,  -1.9172,  34.5719,2,-999.0000,9,    305.8,2,  -999.0,9, -999.00,9, -999.00,9,  -999.0,9,  -999.0,9, -999.00,9, -999.00,9,  -1.9275,     -999.0,     -999.0,9,     -999.0,      0.020,2,      0.000,2,     98.783,2
09AR20110104,       SR03,     125,          1,          6,          6,2,20110127,       1418,   -67.6022,   147.5720,        571,   452.1,  -1.9171,  34.5714,2,-999.0000,9,    305.8,2,  -999.0,9, -999.00,9, -999.00,9,  -999.0,9,  -999.0,9, -999.00,9, -999.00,9,  -1.9274,     -999.0,     -999.0,9,     -999.0,     -0.002,2,      0.000,2,     98.785,2
09AR20110104,       SR03,     125,          1,          5,          5,2,20110127,       1418,   -67.6022,   147.5720,        571,   452.0,  -1.9172,  34.5717,2,-999.0000,9,    305.8,2,  -999.0,9, -999.00,9, -999.00,9,  -999.0,9,  -999.0,9, -999.00,9, -999.00,9,  -1.9275,     -999.0,     -999.0,9,     -999.0,      0.047,2,      0.000,2,     98.830,2
09AR20110104,       SR03,     125,          1,          4,          4,2,20110127,       1418,   -67.6022,   147.5720,        571,   451.9,  -1.9172,  34.5716,2,-999.0000,9,    305.8,2,  -999.0,9, -999.00,9, -999.00,9,  -999.0,9,  -999.0,9, -999.00,9, -999.00,9,  -1.9275,     -999.0,     -999.0,9,     -999.0,     -0.008,2,      0.000,2,     98.828,2
09AR20110104,       SR03,     125,          1,          3,          3,2,20110127,       1418,   -67.6022,   147.5720,        571,   451.7,  -1.9173,  34.5719,2,-999.0000,9,    305.8,2,  -999.0,9, -999.00,9, -999.00,9,  -999.0,9,  -999.0,9, -999.00,9, -999.00,9,  -1.9276,     -999.0,     -999.0,9,     -999.0,      0.021,2,      0.000,2,     98.821,2
09AR20110104,       SR03,     125,          1,          2,        102,2,20110127,       1418,   -67.6022,   147.5720,        571,   572.6,  -1.9122,  34.6042,2,  34.6032,2,    305.2,2,   305.5,2,   74.70,2,    2.11,2,  -999.0,9,  -999.0,9,   -0.41,2,   30.24,2,  -1.9260,       0.04,      -4.27,2,       0.04,      0.089,2,      0.000,2,     97.647,2
09AR20110104,       SR03,     125,          1,          1,          1,2,20110127,       1418,   -67.6022,   147.5720,        571,   572.3,  -1.9122,  34.6041,2,-999.0000,9,    305.2,2,  -999.0,9, -999.00,9, -999.00,9,  -999.0,9,  -999.0,9, -999.00,9, -999.00,9,  -1.9260,     -999.0,     -999.0,9,     -999.0,      0.106,2,      0.000,2,     97.578,2