BOTTLE,20230419CCHSIOENA
EXPOCODE,SECT_ID,STNNBR,CASTNO,SAMPNO,BTLNBR,BTLNBR_FLAG_W,DATE,TIME,LATITUDE,LONGITUDE,DEPTH,CTDPRS,CTDTMP,CTDSAL,CTDSAL_FLAG_W,SALNTY,SALNTY_FLAG_W,CTDOXY,CTDOXY_FLAG_W,OXYGEN,OXYGEN_FLAG_W,SILCAT,SILCAT_FLAG_W,PHSPHT,PHSPHT_FLAG_W,TCARBN,TCARBN_FLAG_W,ALKALI,ALKALI_FLAG_W,DELO18,DELO18_FLAG_W,NO2+NO3,NO2+NO3_FLAG_W,THETA,O18ERR,DELD,DELD_FLAG_W,DELDERR,CTDFLUOR,CTDFLUOR_FLAG_W,PAR,PAR_FLAG_W,CTDXMISS,CTDXMISS_FLAG_W
,,,,,,,,,,,METERS,DBAR,ITS-90,PSS-78,,PSS-78,,UMOL/KG,,UMOL/KG,,UMOL/KG,,UMOL/KG,,UMOL/KG,,UMOL/KG,,/MILLE,,UMOL/KG,,DEG C,/MILLE,/MILLE,,/MILLE,MG/M^3,,UMOL/M^2/SEC,,%TRANS,
09AR20110104,       SR03,      28,          1,         24,         24,2,20110111,       1938,   -54.0682,   141.6030,       2545,    10.3,   4.4169,  33.8229,2,  33.8441,4,    327.3,2,   325.5,2,    1.80,2,    1.55,2,  2129.2,6,  2274.8,6, -999.00,9,   24.05,2,   4.4162,     -999.0,     -999.0,9,     -999.0,      0.893,2,     63.489,2,     95.297,2
09AR20110104,       SR03,      28,          1,         23,         23,2,20110111,       1938,   -54.0682,   141.6030,       2545,    40.3,   4.2023,  33.8211,2,  33.8225,2,    325.9,2,   325.4,2,    1.80,2,    1.54,2,  2129.9,2,  2275.3,2, -999.00,9,   24.02,2,   4.1995,     -999.0,     -999.0,9,     -999.0,      2.364,2,      8.991,2,     94.223,2
09AR20110104,       SR03,      28,          1,         22,         22,2,20110111,       1938,   -54.0682,   141.6030,       2545,    70.1,   3.3328,  33.8327,2,  33.8366,2,    324.4,2,   329.7,2,    4.40,2,    1.66,2,  2137.8,2,  2275.1,2, -999.00,9,   24.78,2,   3.3285,     -999.0,     -999.0,9,     -999.0,      4.125,2,      1.032,2,     93.849,2
09AR20110104,       SR03,      28,          1,         21,         21,2,20110111,       1938,   -54.0682,   141.6030,       2545,   170.4,   1.3544,  33.9309,2,  33.9362,2,    314.7,2,   313.0,2,   22.70,2,    1.98,2,  2169.3,2,  2282.2,2, -999.00,9,   28.66,2,   1.3464,     -999.0,     -999.0,9,     -999.0,      0.040,2,      0.000,2,     99.277,2
09AR20110104,       SR03,      28,          1,         20,         20,2,20110111,       1938,   -54.0682,   141.6030,       2545,   200.1,   1.8813,  34.0719,2,  34.0830,2,    272.1,2,   269.5,2,   32.10,2,    2.12,2,  2193.6,2,  2292.1,2, -999.00,9,   30.80,2,   1.8710,     -999.0,     -999.0,9,     -999.0,      0.001,2,      0.000,2,     99.379,2
09AR20110104,       SR03,      28,          1,         19,         19,2,20110111,       1938,   -54.0682,   141.6030,       2545,   251.2,   2.2530,  34.2116,2,  34.2037,2,    232.7,2,   236.4,2,   42.40,2,    2.25,2,  2212.6,2,  2297.8,2, -999.00,9,   32.60,2,   2.2391,     -999.0,     -999.0,9,     -999.0,     -0.007,2,      0.000,2,     99.351,2
09AR20110104,       SR03,      28,          1,         18,         18,2,20110111,       1938,   -54.0682,   141.6030,       2545,   300.7,   2.2748,  34.2811,2,  34.2829,2,    214.5,2,   215.3,2,   49.60,2,    2.31,2,  2224.0,2,  2302.9,2, -999.00,9,   33.51,2,   2.2579,     -999.0,     -999.0,9,     -999.0,     -0.009,2,      0.000,2,     99.401,2
09AR20110104,       SR03,      28,          1,         17,         17,2,20110111,       1938,   -54.0682,   141.6030,       2545,   400.1,   2.4445,  34.4071,2,  34.4073,2,    189.1,2,   188.4,2,   60.10,2,    2.36,2,  -999.0,9,  -999.0,9, -999.00,9,   34.31,2,   2.4211,     -999.0,     -999.0,9,     -999.0,     -0.004,2,      0.000,2,     99.530,2
09AR20110104,       SR03,      28,          1,         16,         16,2,20110111,       1938,   -54.0682,   141.6030,       2545,   501.6,   2.3795,  34.4854,2,  34.4842,2,    176.8,2,   176.1,2,   67.50,2,    2.39,2,  2251.4,2,  2320.7,2, -999.00,9,   34.64,2,   2.3499,     -999.0,     -999.0,9,     -999.0,     -0.009,2,      0.000,2,     99.571,2
09AR20110104,       SR03,      28,          1,         15,         15,2,20110111,       1938,   -54.0682,   141.6030,       2545,   597.6,   2.4111,  34.5530,2,  34.5525,2,    173.9,2,   173.8,2,   70.80,2,    2.34,2,  -999.0,9,  -999.0,9, -999.00,9,   33.97,2,   2.3752,     -999.0,     -999.0,9,     -999.0,     -0.005,2,      0.000,2,     99.559,2
09AR20110104,       SR03,      28,          1,         14,         14,2,20110111,       1938,   -54.0682,   141.6030,       2545,   698.4,   2.4083,  34.6026,2,  34.6024,2,    174.3,2,   174.3,2,   72.90,2,    2.30,2,  -999.0,9,  -999.0,9, -999.00,9,   33.27,2,   2.3657,     -999.0,     -999.0,9,     -999.0,     -0.004,2,      0.000,2,     99.579,2
09AR20110104,       SR03,      28,          1,         13,         13,2,20110111,       1938,   -54.0682,   141.6030,       2545,   800.9,   2.3585,  34.6443,2,  34.6442,2,    176.0,2,   176.1,2,   74.70,2,    2.25,2,  2255.7,2,  2335.3,2, -999.00,9,   32.57,2,   2.3092,     -999.0,     -999.0,9,     -999.0,     -0.007,2,      0.000,2,     99.608,2
09AR20110104,       SR03,      28,          1,         12,         12,2,20110111,       1938,   -54.0682,   141.6030,       2545,   899.6,   2.3117,  34.6686,2,  34.6695,2,    178.5,2,   178.4,2,   75.90,2,    2.21,2,  -999.0,9,  -999.0,9, -999.00,9,   32.12,2,   2.2559,     -999.0,     -999.0,9,     -999.0,     -0.005,2,      0.000,2,     99.569,2
09AR20110104,       SR03,      28,          1,         11,         11,2,20110111,       1938,   -54.0682,   141.6030,       2545,  1002.7,   2.2449,  34.6961,2,  34.6964,2,    181.7,2,   182.1,2,   77.40,2,    2.17,2,  -999.0,9,  -999.0,9, -999.00,9,   31.45,2,   2.1824,     -999.0,     -999.0,9,     -999.0,     -0.012,2,      0.000,2,     99.633,2
09AR20110104,       SR03,      28,          1,         10,         10,2,20110111,       1938,   -54.0682,   141.6030,       2545,  1100.5,   2.1848,  34.7124,2,  34.7133,2,    184.4,2,   184.8,2,   78.80,2,    2.15,2,  -999.0,9,  -999.0,9, -999.00,9,   31.07,2,   2.1158,     -999.0,     -999.0,9,     -999.0,     -0.009,2,      0.000,2,     99.643,2
09AR20110104,       SR03,      28,          1,          9,          9,2,20110111,       1938,   -54.0682,   141.6030,       2545,  1199.9,   2.1223,  34.7275,2,  34.7276,2,    187.7,2,   188.8,2,   80.10,2,    2.11,2,  2248.2,2,  2344.4,2, -999.00,9,   30.54,2,   2.0467,     -999.0,     -999.0,9,     -999.0,     -0.007,2,      0.000,2,     99.663,2
09AR20110104,       SR03,      28,          1,          8,          8,2,20110111,       1938,   -54.0682,   141.6030,       2545,  1300.3,   2.0610,  34.7368,2,  34.7368,2,    190.4,2,   190.7,2,   81.60,2,    2.09,2,  -999.0,9,  -999.0,9, -999.00,9,   30.29,2,   1.9786,     -999.0,     -999.0,9,     -999.0,     -0.006,2,      0.000,2,     99.673,2
09AR20110104,       SR03,      28,          1,          7,          7,2,20110111,       1938,   -54.0682,   141.6030,       2545,  1403.1,   2.0014,  34.7424,2,  34.7423,2,    192.2,2,   192.7,2,   83.30,2,    2.09,2,  -999.0,9,  -999.0,9, -999.00,9,   30.13,2,   1.9120,     -999.0,     -999.0,9,     -999.0,     -0.012,2,      0.000,2,     99.677,2
09AR20110104,       SR03,      28,          1,          6,          6,2,20110111,       1938,   -54.0682,   141.6030,       2545,  1601.7,   1.8308,  34.7472,2,  34.7478,2,    196.1,2,   195.9,2,   88.00,2,    2.08,2,  -999.0,9,  -999.0,9, -999.00,9,   30.05,2,   1.7283,     -999.0,     -999.0,9,     -999.0,     -0.015,2,      0.000,2,     99.677,2
09AR20110104,       SR03,      28,          1,          5,          5,2,20110111,       1938,   -54.0682,   141.6030,       2545,  1800.8,   1.6384,  34.7445,2,  34.7452,2,    198.6,2,   198.4,2,   94.30,2,    2.12,2,  2253.5,2,  2356.8,2, -999.00,9,   30.23,2,   1.5230,     -999.0,     -999.0,9,     -999.0,     -0.014,2,      0.000,2,     99.683,2
09AR20110104,       SR03,      28,          1,          4,          4,2,20110111,       1938,   -54.0682,   141.6030,       2545,  1999.9,   1.4674,  34.7391,2,  34.7393,2,    200.8,2,   200.7,2,   99.60,2,    2.12,2,  -999.0,9,  -999.0,9, -999.00,9,   30.44,2,   1.3387,     -999.0,     -999.0,9,     -999.0,     -0.007,2,      0.000,2,     99.698,2
09AR20110104,       SR03,      28,          1,          3,          3,2,20110111,       1938,   -54.0682,   141.6030,       2545,  2196.9,   1.2803,  34.7321,2,  34.7320,2,    203.6,2,   203.5,2,  104.40,2,    2.13,2,  -999.0,9,  -999.0,9, -999.00,9,   30.65,2,   1.1387,     -999.0,     -999.0,9,     -999.0,     -0.012,2,      0.000,2,     99.715,2
09AR20110104,       SR03,      28,          1,          2,        102,2,20110111,       1938,   -54.0682,   141.6030,       2545,  2403.6,   1.1339,  34.7250,2,  34.7253,2,    205.4,2,   205.2,2,  109.00,2,    2.16,2,  -999.0,9,  -999.0,9, -999.00,9,   30.90,2,   0.9777,     -999.0,     -999.0,9,     -999.0,     -0.013,2,      0.000,2,     99.715,2
09AR20110104,       SR03,      28,          1,          1,          1,2,20110111,       1938,   -54.0682,   141.6030,       2545,  2571.1,   0.9404,  34.7149,2,  34.7141,2,    207.8,2,   207.4,2,  117.90,2,    2.19,2,  -999.0,9,  -999.0,9, -999.00,9,   31.30,2,   0.7737,     -999.0,     -999.0,9,     -999.0,     -0.014,2,      0.000,2,     99.594,2
09AR20110104,       SR03,      29,          1,         24,         24,2,20110112,       0139,   -54.5262,   141.3330,       2805,     9.3,   3.9637,  33.8271,2,  33.8307,2,    329.4,2,   329.9,2,    3.00,2,    1.55,2,  2130.7,6,  2276.9,6, -999.00,9,   24.58,2,   3.9631,     -999.0,     -999.0,9,     -999.0,      0.739,2,    164.539,2,     94.296,2
09AR20110104,       SR03,      29,          1,         23,         23,2,20110112,       0139,   -54.5262,   141.3330,       2805,    39.4,   3.5752,  33.8329,2,  33.8366,2,    330.4,2,   331.3,2,    4.10,2,    1.58,2,  2134.5,2,  2279.2,2, -999.00,9,   24.80,2,   3.5727,     -999.0,     -999.0,9,     -999.0,      2.732,2,     19.619,2,     93.271,2
09AR20110104,       SR03,      29,          1,         22,         22,2,20110112,       0139,   -54.5262,   141.3330,       2805,    78.5,   2.0146,  33.8625,2,  33.8653,2,    328.7,2,   331.3,2,   13.20,2,    1.89,2,  2148.6,2,  2279.8,6, -999.00,9,   26.13,2,   2.0106,     -999.0,     -999.0,9,     -999.0,      1.771,2,      1.153,2,     96.967,2
09AR20110104,       SR03,      29,          1,         21,         21,2,20110112,       0139,   -54.5262,   141.3330,       2805,   139.4,   1.3116,  33.9061,2,  33.9091,2,    319.6,2,   321.6,2,   20.10,2,    1.97,2,  2161.8,2,  2284.4,2, -999.00,9,   28.18,2,   1.3052,     -999.0,     -999.0,9,     -999.0,      0.051,2,      0.043,2,     99.209,2
09AR20110104,       SR03,      29,          1,         20,         20,2,20110112,       0139,   -54.5262,   141.3330,       2805,   200.0,   1.4243,  34.0418,2,  34.0432,2,    267.3,2,   285.6,3,   31.30,2,    2.12,2,  2186.5,2,  2289.6,2, -999.00,9,   30.65,2,   1.4147,     -999.0,     -999.0,9,     -999.0,      0.016,2,      0.000,2,     99.341,2
09AR20110104,       SR03,      29,          1,         19,         19,2,20110112,       0139,   -54.5262,   141.3330,       2805,   248.6,   2.1024,  34.2138,2,  34.2153,2,    225.9,2,   234.8,2,   44.20,2,    2.27,2,  2212.6,2,  2299.8,2, -999.00,9,   33.05,2,   2.0889,     -999.0,     -999.0,9,     -999.0,     -0.005,2,      0.000,2,     99.347,2
09AR20110104,       SR03,      29,          1,         18,         18,2,20110112,       0139,   -54.5262,   141.3330,       2805,   350.1,   2.3105,  34.3600,2,  34.3615,2,    196.5,2,   198.0,2,   57.50,2,    2.36,2,  2234.7,2,  2315.2,2, -999.00,9,   34.52,2,   2.2906,     -999.0,     -999.0,9,     -999.0,     -0.009,2,      0.000,2,     99.449,2
09AR20110104,       SR03,      29,          1,         17,         17,2,20110112,       0139,   -54.5262,   141.3330,       2805,   450.4,   2.3539,  34.4527,2,  34.4535,2,    182.8,2,   181.6,2,   65.00,2,    2.39,2,  2245.8,2,  2321.5,2, -999.00,9,   34.75,2,   2.3277,     -999.0,     -999.0,9,     -999.0,     -0.004,2,      0.000,2,     99.547,2
09AR20110104,       SR03,      29,          1,         16,         16,2,20110112,       0139,   -54.5262,   141.3330,       2805,   550.5,   2.3692,  34.5261,2,  34.5269,2,    174.4,2,   173.9,2,   69.60,2,    2.35,2,  2251.7,2,  2328.4,2, -999.00,9,   34.35,2,   2.3365,     -999.0,     -999.0,9,     -999.0,     -0.006,2,      0.000,2,     99.548,2
09AR20110104,       SR03,      29,          1,         15,         15,2,20110112,       0139,   -54.5262,   141.3330,       2805,   639.8,   2.3548,  34.5834,2,  34.5842,2,    173.7,2,   172.6,2,   72.70,2,    2.32,2,  2252.9,2,  2331.6,2, -999.00,9,   33.73,2,   2.3164,     -999.0,     -999.0,9,     -999.0,     -0.008,2,      0.000,2,     99.561,2
09AR20110104,       SR03,      29,          1,         14,         14,2,20110112,       0139,   -54.5262,   141.3330,       2805,   753.3,   2.3415,  34.6334,2,  34.6333,2,    174.6,2,   174.6,2,   74.40,2,    2.27,2,  2253.1,2,  2335.3,2, -999.00,9,   32.98,2,   2.2956,     -999.0,     -999.0,9,     -999.0,     -0.008,2,      0.000,2,     99.600,2
09AR20110104,       SR03,      29,          1,         13,         13,2,20110112,       0139,   -54.5262,   141.3330,       2805,   849.0,   2.2985,  34.6665,2,  34.6678,2,    177.1,2,   177.9,2,   76.10,2,    2.23,2,  2253.5,2,  2339.8,2, -999.00,9,   32.43,2,   2.2463,     -999.0,     -999.0,9,     -999.0,     -0.011,2,      0.000,2,     99.635,2
09AR20110104,       SR03,      29,          1,         12,         12,2,20110112,       0139,   -54.5262,   141.3330,       2805,   948.8,   2.2427,  34.6891,2,  34.6889,2,    180.8,2,   180.6,2,   76.80,2,    2.19,2,  2251.0,6,  2340.4,6, -999.00,9,   31.77,2,   2.1840,     -999.0,     -999.0,9,     -999.0,     -0.008,2,      0.000,2,     99.645,2
09AR20110104,       SR03,      29,          1,         11,         11,2,20110112,       0139,   -54.5262,   141.3330,       2805,  1048.5,   2.2045,  34.7078,2,  34.7085,2,    184.3,2,   183.9,2,   77.50,2,    2.15,2,  2249.4,2,  2341.2,2, -999.00,9,   31.11,2,   2.1391,     -999.0,     -999.0,9,     -999.0,     -0.008,2,      0.000,2,     99.658,2
09AR20110104,       SR03,      29,          1,         10,         10,2,20110112,       0139,   -54.5262,   141.3330,       2805,  1198.8,   2.1219,  34.7308,2,  34.7319,2,    189.0,2,   189.4,2,   78.90,2,    2.10,2,  2246.6,2,  2344.8,2, -999.00,9,   30.47,2,   2.0464,     -999.0,     -999.0,9,     -999.0,     -0.011,2,      0.000,2,     99.671,2
09AR20110104,       SR03,      29,          1,          9,          9,2,20110112,       0139,   -54.5262,   141.3330,       2805,  1349.6,   2.0107,  34.7410,2,  34.7419,2,    191.7,2,   191.8,2,   82.10,2,    2.09,2,  2246.6,2,  2346.3,2, -999.00,9,   30.27,2,   1.9252,     -999.0,     -999.0,9,     -999.0,     -0.013,2,      0.000,2,     99.694,2
09AR20110104,       SR03,      29,          1,          8,          8,2,20110112,       0139,   -54.5262,   141.3330,       2805,  1500.3,   1.8915,  34.7467,2,  34.7487,2,    194.9,2,   194.8,2,   85.80,2,    2.08,2,  2248.3,2,  -999.0,9, -999.00,9,   30.26,2,   1.7960,     -999.0,     -999.0,9,     -999.0,     -0.013,2,      0.000,2,     99.698,2
09AR20110104,       SR03,      29,          1,          7,          7,2,20110112,       0139,   -54.5262,   141.3330,       2805,  1649.0,   1.7571,  34.7476,2,  34.7490,2,    197.6,2,   197.4,2,   89.40,2,    2.08,2,  2248.3,2,  2351.4,6, -999.00,9,   30.25,2,   1.6519,     -999.0,     -999.0,9,     -999.0,     -0.014,2,      0.000,2,     99.694,2
09AR20110104,       SR03,      29,          1,          6,          6,2,20110112,       0139,   -54.5262,   141.3330,       2805,  1800.2,   1.6117,  34.7448,2,  34.7458,2,    199.5,2,   199.1,2,   93.40,2,    2.09,2,  2250.4,2,  2350.3,6, -999.00,9,   30.34,2,   1.4967,     -999.0,     -999.0,9,     -999.0,     -0.015,2,      0.000,2,     99.707,2
09AR20110104,       SR03,      29,          1,          5,          5,2,20110112,       0139,   -54.5262,   141.3330,       2805,  1997.9,   1.4434,  34.7394,2,  34.7403,2,    201.5,2,   201.5,2,   98.20,2,    2.10,2,  2251.9,2,  2352.5,2, -999.00,9,   30.51,2,   1.3152,     -999.0,     -999.0,9,     -999.0,     -0.013,2,      0.000,2,     99.711,2
09AR20110104,       SR03,      29,          1,          4,          4,2,20110112,       0139,   -54.5262,   141.3330,       2805,  2198.9,   1.2775,  34.7323,2,  34.7329,2,    203.8,2,   203.8,2,  102.70,2,    2.12,2,  2256.2,2,  2355.5,2, -999.00,9,   30.56,2,   1.1357,     -999.0,     -999.0,9,     -999.0,     -0.017,2,      0.000,2,     99.718,2
09AR20110104,       SR03,      29,          1,          3,          3,2,20110112,       0139,   -54.5262,   141.3330,       2805,  2398.7,   1.1143,  34.7244,2,  34.7246,2,    205.5,2,   205.6,2,  107.70,2,    2.15,2,  2257.8,2,  2356.3,2, -999.00,9,   30.81,2,   0.9588,     -999.0,     -999.0,9,     -999.0,     -0.015,2,      0.000,2,     99.727,2
09AR20110104,       SR03,      29,          1,          2,        102,2,20110112,       0139,   -54.5262,   141.3330,       2805,  2598.8,   0.9349,  34.7152,2,  34.7159,2,    208.0,2,   208.0,2,  114.10,2,    2.17,2,  -999.0,9,  -999.0,9, -999.00,9,   31.19,2,   0.7659,     -999.0,     -999.0,9,     -999.0,     -0.016,2,      0.000,2,     99.719,2
09AR20110104,       SR03,      29,          1,          1,          1,2,20110112,       0139,   -54.5262,   141.3330,       2805,  2838.6,   0.7143,  34.7044,2,  34.7051,2,    211.6,2,   210.8,2,  124.60,2,    2.19,2,  2260.4,6,  2359.8,6, -999.00,9,   31.62,2,   0.5291,     -999.0,     -999.0,9,     -999.0,     -0.018,2,      0.000,2,     99.657,2