BOTTLE,20230419CCHSIOENA
EXPOCODE,SECT_ID,STNNBR,CASTNO,SAMPNO,BTLNBR,BTLNBR_FLAG_W,DATE,TIME,LATITUDE,LONGITUDE,DEPTH,CTDPRS,CTDTMP,CTDSAL,CTDSAL_FLAG_W,SALNTY,SALNTY_FLAG_W,CTDOXY,CTDOXY_FLAG_W,OXYGEN,OXYGEN_FLAG_W,SILCAT,SILCAT_FLAG_W,PHSPHT,PHSPHT_FLAG_W,TCARBN,TCARBN_FLAG_W,ALKALI,ALKALI_FLAG_W,DELO18,DELO18_FLAG_W,NO2+NO3,NO2+NO3_FLAG_W,THETA,O18ERR,DELD,DELD_FLAG_W,DELDERR,CTDFLUOR,CTDFLUOR_FLAG_W,PAR,PAR_FLAG_W,CTDXMISS,CTDXMISS_FLAG_W
,,,,,,,,,,,METERS,DBAR,ITS-90,PSS-78,,PSS-78,,UMOL/KG,,UMOL/KG,,UMOL/KG,,UMOL/KG,,UMOL/KG,,UMOL/KG,,/MILLE,,UMOL/KG,,DEG C,/MILLE,/MILLE,,/MILLE,MG/M^3,,UMOL/M^2/SEC,,%TRANS,
09AR20110104,       SR03,      96,          1,         24,         24,2,20110125,       0142,   -66.9488,   144.4770,        191,     9.1,  -1.7739,  34.2760,2,  34.3007,2,    329.6,2,   330.6,2,   71.30,2,    1.91,2,  2210.4,6,  2319.8,6, -999.00,9,   28.94,2,  -1.7741,     -999.0,     -999.0,9,     -999.0,      1.850,2,     32.929,2,     96.034,2
09AR20110104,       SR03,      96,          1,         23,         23,2,20110125,       0142,   -66.9488,   144.4770,        191,     9.1,  -1.7687,  34.1597,2,-999.0000,9,    329.6,2,  -999.0,9, -999.00,9, -999.00,9,  -999.0,9,  -999.0,9, -999.00,9, -999.00,9,  -1.7689,     -999.0,     -999.0,9,     -999.0,      1.897,2,     33.309,2,     96.040,2
09AR20110104,       SR03,      96,          1,         22,         22,2,20110125,       0142,   -66.9488,   144.4770,        191,     9.2,  -1.7360,  34.1361,2,-999.0000,9,    329.6,2,  -999.0,9, -999.00,9, -999.00,9,  -999.0,9,  -999.0,9, -999.00,9, -999.00,9,  -1.7362,     -999.0,     -999.0,9,     -999.0,      2.000,2,     34.259,2,     96.133,2
09AR20110104,       SR03,      96,          1,         21,         21,2,20110125,       0142,   -66.9488,   144.4770,        191,     9.2,  -1.7338,  34.1385,2,-999.0000,9,    329.6,2,  -999.0,9, -999.00,9, -999.00,9,  -999.0,9,  -999.0,9, -999.00,9, -999.00,9,  -1.7340,     -999.0,     -999.0,9,     -999.0,      1.794,2,     34.609,2,     95.993,2
09AR20110104,       SR03,      96,          1,         20,         20,2,20110125,       0142,   -66.9488,   144.4770,        191,    52.2,  -1.7820,  34.3264,2,  34.3248,2,    327.4,2,   328.6,2,   71.40,2,    1.92,2,  2212.9,2,  2321.8,6,   -0.41,2,   28.98,2,  -1.7830,       0.06,      -4.46,2,       0.25,      3.065,2,      0.787,2,     96.154,2
09AR20110104,       SR03,      96,          1,         19,         19,2,20110125,       0142,   -66.9488,   144.4770,        191,    52.2,  -1.7826,  34.3259,2,-999.0000,9,    327.4,2,  -999.0,9, -999.00,9, -999.00,9,  -999.0,9,  -999.0,9, -999.00,9, -999.00,9,  -1.7836,     -999.0,     -999.0,9,     -999.0,      2.664,2,      0.762,2,     96.034,2
09AR20110104,       SR03,      96,          1,         18,         18,2,20110125,       0142,   -66.9488,   144.4770,        191,    52.2,  -1.7830,  34.3271,2,-999.0000,9,    327.4,2,  -999.0,9, -999.00,9, -999.00,9,  -999.0,9,  -999.0,9, -999.00,9, -999.00,9,  -1.7840,     -999.0,     -999.0,9,     -999.0,      2.930,2,      0.766,2,     96.257,2
09AR20110104,       SR03,      96,          1,         17,         17,2,20110125,       0142,   -66.9488,   144.4770,        191,    52.1,  -1.7830,  34.3262,2,-999.0000,9,    327.4,2,  -999.0,9, -999.00,9, -999.00,9,  -999.0,9,  -999.0,9, -999.00,9, -999.00,9,  -1.7840,     -999.0,     -999.0,9,     -999.0,      3.083,2,      0.796,2,     96.182,2
09AR20110104,       SR03,      96,          1,         16,         16,2,20110125,       0142,   -66.9488,   144.4770,        191,    52.1,  -1.7826,  34.3260,2,-999.0000,9,    327.4,2,  -999.0,9, -999.00,9, -999.00,9,  -999.0,9,  -999.0,9, -999.00,9, -999.00,9,  -1.7836,     -999.0,     -999.0,9,     -999.0,      3.027,2,      0.799,2,     96.208,2
09AR20110104,       SR03,      96,          1,         15,         15,2,20110125,       0142,   -66.9488,   144.4770,        191,    52.1,  -1.7824,  34.3262,2,-999.0000,9,    327.4,2,  -999.0,9, -999.00,9, -999.00,9,  -999.0,9,  -999.0,9, -999.00,9, -999.00,9,  -1.7834,     -999.0,     -999.0,9,     -999.0,      3.400,2,      0.788,2,     96.219,2
09AR20110104,       SR03,      96,          1,         14,         14,2,20110125,       0142,   -66.9488,   144.4770,        191,    99.5,  -1.8145,  34.3890,2,  34.3876,2,    319.6,2,   317.5,2,   72.90,2,    1.99,2,  2220.4,2,  2328.1,2, -999.00,9,   29.54,2,  -1.8165,     -999.0,     -999.0,9,     -999.0,      1.733,2,      0.000,2,     97.349,2
09AR20110104,       SR03,      96,          1,         13,         13,2,20110125,       0142,   -66.9488,   144.4770,        191,    99.7,  -1.8156,  34.3893,2,-999.0000,9,    319.6,2,  -999.0,9, -999.00,9, -999.00,9,  -999.0,9,  -999.0,9, -999.00,9, -999.00,9,  -1.8176,     -999.0,     -999.0,9,     -999.0,      1.688,2,      0.000,2,     97.322,2
09AR20110104,       SR03,      96,          1,         12,         12,2,20110125,       0142,   -66.9488,   144.4770,        191,    99.9,  -1.8174,  34.3905,2,-999.0000,9,    319.6,2,  -999.0,9, -999.00,9, -999.00,9,  -999.0,9,  -999.0,9, -999.00,9, -999.00,9,  -1.8194,     -999.0,     -999.0,9,     -999.0,      1.479,2,      0.000,2,     97.367,2
09AR20110104,       SR03,      96,          1,         11,         11,2,20110125,       0142,   -66.9488,   144.4770,        191,   100.0,  -1.8171,  34.3908,2,-999.0000,9,    319.6,2,  -999.0,9, -999.00,9, -999.00,9,  -999.0,9,  -999.0,9, -999.00,9, -999.00,9,  -1.8191,     -999.0,     -999.0,9,     -999.0,      1.416,2,      0.000,2,     97.409,2
09AR20110104,       SR03,      96,          1,         10,         10,2,20110125,       0142,   -66.9488,   144.4770,        191,   100.1,  -1.8163,  34.3903,2,-999.0000,9,    319.6,2,  -999.0,9, -999.00,9, -999.00,9,  -999.0,9,  -999.0,9, -999.00,9, -999.00,9,  -1.8183,     -999.0,     -999.0,9,     -999.0,      1.717,2,      0.000,2,     97.375,2
09AR20110104,       SR03,      96,          1,          9,          9,2,20110125,       0142,   -66.9488,   144.4770,        191,   100.1,  -1.8142,  34.3889,2,-999.0000,9,    319.6,2,  -999.0,9, -999.00,9, -999.00,9,  -999.0,9,  -999.0,9, -999.00,9, -999.00,9,  -1.8162,     -999.0,     -999.0,9,     -999.0,      1.747,2,      0.000,2,     97.413,2
09AR20110104,       SR03,      96,          1,          8,          8,2,20110125,       0142,   -66.9488,   144.4770,        191,   150.1,  -1.8425,  34.4158,2,  34.4133,2,    311.0,2,   312.8,2,   74.50,2,    2.04,2,  2225.9,2,  2328.7,2, -999.00,9,   30.56,2,  -1.8455,     -999.0,     -999.0,9,     -999.0,      0.866,2,      0.000,2,     98.184,2
09AR20110104,       SR03,      96,          1,          7,          7,2,20110125,       0142,   -66.9488,   144.4770,        191,   150.1,  -1.8422,  34.4155,2,-999.0000,9,    311.0,2,  -999.0,9, -999.00,9, -999.00,9,  -999.0,9,  -999.0,9, -999.00,9, -999.00,9,  -1.8452,     -999.0,     -999.0,9,     -999.0,      0.907,2,      0.000,2,     98.176,2
09AR20110104,       SR03,      96,          1,          6,          6,2,20110125,       0142,   -66.9488,   144.4770,        191,   150.0,  -1.8413,  34.4147,2,-999.0000,9,    311.0,2,  -999.0,9, -999.00,9, -999.00,9,  -999.0,9,  -999.0,9, -999.00,9, -999.00,9,  -1.8443,     -999.0,     -999.0,9,     -999.0,      0.812,2,      0.000,2,     98.168,2
09AR20110104,       SR03,      96,          1,          5,          5,2,20110125,       0142,   -66.9488,   144.4770,        191,   150.0,  -1.8409,  34.4145,2,-999.0000,9,    311.0,2,  -999.0,9, -999.00,9, -999.00,9,  -999.0,9,  -999.0,9, -999.00,9, -999.00,9,  -1.8439,     -999.0,     -999.0,9,     -999.0,      0.908,2,      0.000,2,     98.127,2
09AR20110104,       SR03,      96,          1,          4,          4,2,20110125,       0142,   -66.9488,   144.4770,        191,   187.4,  -1.8765,  34.4362,2,-999.0000,9,    309.9,2,  -999.0,9, -999.00,9, -999.00,9,  -999.0,9,  -999.0,9, -999.00,9, -999.00,9,  -1.8803,     -999.0,     -999.0,9,     -999.0,      0.364,2,      0.000,2,     98.738,2
09AR20110104,       SR03,      96,          1,          3,          3,2,20110125,       0142,   -66.9488,   144.4770,        191,   188.0,  -1.8774,  34.4369,2,-999.0000,9,    309.9,2,  -999.0,9, -999.00,9, -999.00,9,  -999.0,9,  -999.0,9, -999.00,9, -999.00,9,  -1.8812,     -999.0,     -999.0,9,     -999.0,      0.439,2,      0.000,2,     98.720,2
09AR20110104,       SR03,      96,          1,          2,        102,2,20110125,       0142,   -66.9488,   144.4770,        191,   188.1,  -1.8772,  34.4369,2,  34.4349,2,    309.9,2,   309.3,2,   74.90,2,    2.07,2,  -999.0,9,  -999.0,9,   -0.43,2,   30.80,2,  -1.8810,       0.03,      -4.58,2,       0.07,      0.380,2,      0.000,2,     98.731,2
09AR20110104,       SR03,      96,          1,          1,          1,2,20110125,       0142,   -66.9488,   144.4770,        191,   188.2,  -1.8777,  34.4371,2,-999.0000,9,    309.9,2,  -999.0,9, -999.00,9, -999.00,9,  -999.0,9,  -999.0,9, -999.00,9, -999.00,9,  -1.8815,     -999.0,     -999.0,9,     -999.0,      0.438,2,      0.000,2,     98.705,2
09AR20110104,       SR03,      97,          1,         24,         24,2,20110125,       0252,   -66.9230,   144.4250,        194,     8.9,  -1.6202,  34.2797,2,  34.2803,2,    341.6,2,   341.7,2,   68.10,2,    1.81,2,  -999.0,9,  -999.0,9, -999.00,9,   27.02,2,  -1.6204,     -999.0,     -999.0,9,     -999.0,      4.663,2,     42.629,2,     93.450,2
09AR20110104,       SR03,      97,          1,         23,         23,2,20110125,       0252,   -66.9230,   144.4250,        194,     8.9,  -1.6165,  34.2800,2,-999.0000,9,    341.6,2,  -999.0,9, -999.00,9, -999.00,9,  -999.0,9,  -999.0,9, -999.00,9, -999.00,9,  -1.6167,     -999.0,     -999.0,9,     -999.0,      4.510,2,     41.769,2,     93.420,2
09AR20110104,       SR03,      97,          1,         22,         22,2,20110125,       0252,   -66.9230,   144.4250,        194,     8.9,  -1.6154,  34.2798,2,-999.0000,9,    341.6,2,  -999.0,9, -999.00,9, -999.00,9,  -999.0,9,  -999.0,9, -999.00,9, -999.00,9,  -1.6156,     -999.0,     -999.0,9,     -999.0,      4.870,2,     42.229,2,     93.314,2
09AR20110104,       SR03,      97,          1,         21,         21,2,20110125,       0252,   -66.9230,   144.4250,        194,     8.8,  -1.6231,  34.2805,2,-999.0000,9,    341.6,2,  -999.0,9, -999.00,9, -999.00,9,  -999.0,9,  -999.0,9, -999.00,9, -999.00,9,  -1.6233,     -999.0,     -999.0,9,     -999.0,      4.666,2,     42.429,2,     93.541,2
09AR20110104,       SR03,      97,          1,         20,         20,2,20110125,       0252,   -66.9230,   144.4250,        194,     8.8,  -1.6178,  34.2809,2,-999.0000,9,    341.6,2,  -999.0,9, -999.00,9, -999.00,9,  -999.0,9,  -999.0,9, -999.00,9, -999.00,9,  -1.6180,     -999.0,     -999.0,9,     -999.0,      4.600,2,     41.889,2,     93.373,2
09AR20110104,       SR03,      97,          1,         19,         19,2,20110125,       0252,   -66.9230,   144.4250,        194,     8.8,  -1.6172,  34.2799,2,-999.0000,9,    341.6,2,  -999.0,9, -999.00,9, -999.00,9,  -999.0,9,  -999.0,9, -999.00,9, -999.00,9,  -1.6174,     -999.0,     -999.0,9,     -999.0,      5.106,2,     42.309,2,     93.380,2
09AR20110104,       SR03,      97,          1,         18,         18,2,20110125,       0252,   -66.9230,   144.4250,        194,    50.7,  -1.6893,  34.3576,2,  34.3574,2,    326.0,2,   325.9,2,   71.20,2,    1.92,2,  -999.0,9,  -999.0,9, -999.00,9,   28.42,2,  -1.6903,     -999.0,     -999.0,9,     -999.0,      3.352,2,      0.509,2,     95.758,2
09AR20110104,       SR03,      97,          1,         17,         17,2,20110125,       0252,   -66.9230,   144.4250,        194,    50.6,  -1.6887,  34.3575,2,-999.0000,9,    326.0,2,  -999.0,9, -999.00,9, -999.00,9,  -999.0,9,  -999.0,9, -999.00,9, -999.00,9,  -1.6897,     -999.0,     -999.0,9,     -999.0,      3.596,2,      0.517,2,     95.766,2
09AR20110104,       SR03,      97,          1,         16,         16,2,20110125,       0252,   -66.9230,   144.4250,        194,    50.5,  -1.6907,  34.3579,2,-999.0000,9,    326.0,2,  -999.0,9, -999.00,9, -999.00,9,  -999.0,9,  -999.0,9, -999.00,9, -999.00,9,  -1.6917,     -999.0,     -999.0,9,     -999.0,      3.571,2,      0.519,2,     95.798,2
09AR20110104,       SR03,      97,          1,         15,         15,2,20110125,       0252,   -66.9230,   144.4250,        194,    50.3,  -1.6918,  34.3583,2,-999.0000,9,    326.0,2,  -999.0,9, -999.00,9, -999.00,9,  -999.0,9,  -999.0,9, -999.00,9, -999.00,9,  -1.6928,     -999.0,     -999.0,9,     -999.0,      3.407,2,      0.519,2,     95.730,2
09AR20110104,       SR03,      97,          1,         14,         14,2,20110125,       0252,   -66.9230,   144.4250,        194,    99.6,  -1.7756,  34.4014,2,  34.4018,2,    314.9,2,   315.2,2,   72.90,2,    2.01,2,  -999.0,9,  -999.0,9, -999.00,9,   29.51,2,  -1.7776,     -999.0,     -999.0,9,     -999.0,      1.617,2,      0.000,2,     97.562,2
09AR20110104,       SR03,      97,          1,         13,         13,2,20110125,       0252,   -66.9230,   144.4250,        194,    99.7,  -1.7761,  34.4015,2,-999.0000,9,    314.9,2,  -999.0,9, -999.00,9, -999.00,9,  -999.0,9,  -999.0,9, -999.00,9, -999.00,9,  -1.7781,     -999.0,     -999.0,9,     -999.0,      1.992,2,      0.000,2,     97.580,2
09AR20110104,       SR03,      97,          1,         12,         12,2,20110125,       0252,   -66.9230,   144.4250,        194,    99.6,  -1.7748,  34.4009,2,-999.0000,9,    314.9,2,  -999.0,9, -999.00,9, -999.00,9,  -999.0,9,  -999.0,9, -999.00,9, -999.00,9,  -1.7768,     -999.0,     -999.0,9,     -999.0,      1.680,2,      0.000,2,     97.433,2
09AR20110104,       SR03,      97,          1,         11,         11,2,20110125,       0252,   -66.9230,   144.4250,        194,    99.6,  -1.7754,  34.4013,2,-999.0000,9,    314.9,2,  -999.0,9, -999.00,9, -999.00,9,  -999.0,9,  -999.0,9, -999.00,9, -999.00,9,  -1.7774,     -999.0,     -999.0,9,     -999.0,      1.816,2,      0.000,2,     97.502,2
09AR20110104,       SR03,      97,          1,         10,         10,2,20110125,       0252,   -66.9230,   144.4250,        194,    99.6,  -1.7755,  34.4013,2,-999.0000,9,    314.9,2,  -999.0,9, -999.00,9, -999.00,9,  -999.0,9,  -999.0,9, -999.00,9, -999.00,9,  -1.7775,     -999.0,     -999.0,9,     -999.0,      1.552,2,      0.000,2,     97.533,2
09AR20110104,       SR03,      97,          1,          9,          9,2,20110125,       0252,   -66.9230,   144.4250,        194,    99.5,  -1.7844,  34.4036,2,-999.0000,9,    314.9,2,  -999.0,9, -999.00,9, -999.00,9,  -999.0,9,  -999.0,9, -999.00,9, -999.00,9,  -1.7864,     -999.0,     -999.0,9,     -999.0,      1.360,2,      0.000,2,     97.575,2
09AR20110104,       SR03,      97,          1,          8,          8,2,20110125,       0252,   -66.9230,   144.4250,        194,   149.8,  -1.8229,  34.4209,2,  34.4206,2,    311.3,2,   311.3,2,   73.80,2,    2.03,2,  -999.0,9,  -999.0,9, -999.00,9,   29.96,2,  -1.8260,     -999.0,     -999.0,9,     -999.0,      0.763,2,      0.000,2,     98.301,2
09AR20110104,       SR03,      97,          1,          7,          7,2,20110125,       0252,   -66.9230,   144.4250,        194,   149.7,  -1.8232,  34.4209,2,-999.0000,9,    311.3,2,  -999.0,9, -999.00,9, -999.00,9,  -999.0,9,  -999.0,9, -999.00,9, -999.00,9,  -1.8262,     -999.0,     -999.0,9,     -999.0,      0.723,2,      0.000,2,     98.309,2
09AR20110104,       SR03,      97,          1,          6,          6,2,20110125,       0252,   -66.9230,   144.4250,        194,   149.6,  -1.8239,  34.4212,2,-999.0000,9,    311.3,2,  -999.0,9, -999.00,9, -999.00,9,  -999.0,9,  -999.0,9, -999.00,9, -999.00,9,  -1.8269,     -999.0,     -999.0,9,     -999.0,      0.942,2,      0.000,2,     98.301,2
09AR20110104,       SR03,      97,          1,          5,          5,2,20110125,       0252,   -66.9230,   144.4250,        194,   149.5,  -1.8235,  34.4210,2,-999.0000,9,    311.3,2,  -999.0,9, -999.00,9, -999.00,9,  -999.0,9,  -999.0,9, -999.00,9, -999.00,9,  -1.8265,     -999.0,     -999.0,9,     -999.0,      0.781,2,      0.000,2,     98.291,2
09AR20110104,       SR03,      97,          1,          4,          4,2,20110125,       0252,   -66.9230,   144.4250,        194,   149.5,  -1.8235,  34.4211,2,-999.0000,9,    311.3,2,  -999.0,9, -999.00,9, -999.00,9,  -999.0,9,  -999.0,9, -999.00,9, -999.00,9,  -1.8265,     -999.0,     -999.0,9,     -999.0,      0.849,2,      0.000,2,     98.351,2
09AR20110104,       SR03,      97,          1,          3,          3,2,20110125,       0252,   -66.9230,   144.4250,        194,   149.3,  -1.8241,  34.4213,2,-999.0000,9,    311.3,2,  -999.0,9, -999.00,9, -999.00,9,  -999.0,9,  -999.0,9, -999.00,9, -999.00,9,  -1.8271,     -999.0,     -999.0,9,     -999.0,      0.734,2,      0.000,2,     98.302,2
09AR20110104,       SR03,      97,          1,          2,        102,2,20110125,       0252,   -66.9230,   144.4250,        194,   186.6,  -1.8462,  34.4305,2,  34.4285,2,    310.5,2,   310.2,2,   74.40,2,    2.04,2,  -999.0,9,  -999.0,9, -999.00,9,   30.32,2,  -1.8500,     -999.0,     -999.0,9,     -999.0,      0.545,2,      0.000,2,     98.573,2
09AR20110104,       SR03,      97,          1,          1,          1,2,20110125,       0252,   -66.9230,   144.4250,        194,   186.3,  -1.8447,  34.4298,2,-999.0000,9,    310.5,2,  -999.0,9, -999.00,9, -999.00,9,  -999.0,9,  -999.0,9, -999.00,9, -999.00,9,  -1.8485,     -999.0,     -999.0,9,     -999.0,      0.575,2,      0.000,2,     98.560,2