BOTTLE,20230419CCHSIOENA
EXPOCODE,SECT_ID,STNNBR,CASTNO,SAMPNO,BTLNBR,BTLNBR_FLAG_W,DATE,TIME,LATITUDE,LONGITUDE,DEPTH,CTDPRS,CTDTMP,CTDSAL,CTDSAL_FLAG_W,SALNTY,SALNTY_FLAG_W,CTDOXY,CTDOXY_FLAG_W,OXYGEN,OXYGEN_FLAG_W,SILCAT,SILCAT_FLAG_W,PHSPHT,PHSPHT_FLAG_W,TCARBN,TCARBN_FLAG_W,ALKALI,ALKALI_FLAG_W,DELO18,DELO18_FLAG_W,NO2+NO3,NO2+NO3_FLAG_W,THETA,O18ERR,DELD,DELD_FLAG_W,DELDERR,CTDFLUOR,CTDFLUOR_FLAG_W,PAR,PAR_FLAG_W,CTDXMISS,CTDXMISS_FLAG_W
,,,,,,,,,,,METERS,DBAR,ITS-90,PSS-78,,PSS-78,,UMOL/KG,,UMOL/KG,,UMOL/KG,,UMOL/KG,,UMOL/KG,,UMOL/KG,,/MILLE,,UMOL/KG,,DEG C,/MILLE,/MILLE,,/MILLE,MG/M^3,,UMOL/M^2/SEC,,%TRANS,
09AR20110104,       SR03,      90,          1,         24,         24,2,20110124,       1237,   -66.7537,   143.0560,        683,     9.8,  -0.7734,  33.8650,2,  33.8651,2,    369.1,2,   368.4,2,   44.40,2,    1.23,2,  2148.4,6,  2297.2,6, -999.00,9,   20.78,2,  -0.7737,     -999.0,     -999.0,9,     -999.0,     11.381,2,      0.043,2,     86.652,2
09AR20110104,       SR03,      90,          1,         23,         23,2,20110124,       1237,   -66.7537,   143.0560,        683,     9.8,  -0.7724,  33.8654,2,-999.0000,9,    369.1,2,  -999.0,9, -999.00,9, -999.00,9,  -999.0,9,  -999.0,9, -999.00,9, -999.00,9,  -0.7727,     -999.0,     -999.0,9,     -999.0,     10.806,2,      0.043,2,     86.646,2
09AR20110104,       SR03,      90,          1,         22,         22,2,20110124,       1237,   -66.7537,   143.0560,        683,    50.0,  -0.7367,  33.9240,2,-999.0000,9,    365.1,2,  -999.0,9, -999.00,9, -999.00,9,  -999.0,9,  -999.0,9, -999.00,9, -999.00,9,  -0.7381,     -999.0,     -999.0,9,     -999.0,      8.721,2,      0.000,2,     88.716,2
09AR20110104,       SR03,      90,          1,         21,         21,2,20110124,       1237,   -66.7537,   143.0560,        683,    50.0,  -0.7387,  33.9219,2,-999.0000,9,    365.1,2,  -999.0,9, -999.00,9, -999.00,9,  -999.0,9,  -999.0,9, -999.00,9, -999.00,9,  -0.7401,     -999.0,     -999.0,9,     -999.0,      8.877,2,      0.000,2,     88.412,2
09AR20110104,       SR03,      90,          1,         20,         20,2,20110124,       1237,   -66.7537,   143.0560,        683,    50.1,  -0.7393,  33.9207,2,-999.0000,9,    365.1,2,  -999.0,9, -999.00,9, -999.00,9,  -999.0,9,  -999.0,9, -999.00,9, -999.00,9,  -0.7407,     -999.0,     -999.0,9,     -999.0,      9.219,2,      0.000,2,     88.409,2
09AR20110104,       SR03,      90,          1,         19,         19,2,20110124,       1237,   -66.7537,   143.0560,        683,    50.1,  -0.7404,  33.9184,2,-999.0000,9,    365.1,2,  -999.0,9, -999.00,9, -999.00,9,  -999.0,9,  -999.0,9, -999.00,9, -999.00,9,  -0.7418,     -999.0,     -999.0,9,     -999.0,      9.404,2,      0.000,2,     88.418,2
09AR20110104,       SR03,      90,          1,         18,         18,2,20110124,       1237,   -66.7537,   143.0560,        683,    49.9,  -0.7435,  33.9125,2,  33.9232,2,    365.1,2,   365.5,2,   45.50,2, -999.00,9,  2156.1,2,  2301.1,2, -999.00,9,   21.22,2,  -0.7449,     -999.0,     -999.0,9,     -999.0,      9.666,2,      0.000,2,     87.790,2
09AR20110104,       SR03,      90,          1,         17,         17,2,20110124,       1237,   -66.7537,   143.0560,        683,    49.6,  -0.7328,  33.9231,2,-999.0000,9,    365.1,2,  -999.0,9, -999.00,9, -999.00,9,  -999.0,9,  -999.0,9, -999.00,9, -999.00,9,  -0.7342,     -999.0,     -999.0,9,     -999.0,      8.938,2,      0.000,2,     88.423,2
09AR20110104,       SR03,      90,          1,         16,         16,2,20110124,       1237,   -66.7537,   143.0560,        683,   152.9,  -1.6940,  34.3783,2,  34.3764,2,    318.0,2,   317.4,2,   71.50,2,    2.00,2,  2222.1,2,  2325.3,2, -999.00,9,   29.02,2,  -1.6973,     -999.0,     -999.0,9,     -999.0,      1.210,2,      0.000,2,     97.080,2
09AR20110104,       SR03,      90,          1,         15,         15,2,20110124,       1237,   -66.7537,   143.0560,        683,   151.9,  -1.6909,  34.3766,2,-999.0000,9,    318.0,2,  -999.0,9, -999.00,9, -999.00,9,  -999.0,9,  -999.0,9, -999.00,9, -999.00,9,  -1.6942,     -999.0,     -999.0,9,     -999.0,      1.294,2,      0.000,2,     97.090,2
09AR20110104,       SR03,      90,          1,         14,         14,2,20110124,       1237,   -66.7537,   143.0560,        683,   273.8,  -1.8237,  34.4533,2,  34.4510,2,    311.0,2,   311.0,2,   74.00,2,    2.04,2,  2231.3,2,  2332.3,2, -999.00,9,   29.87,2,  -1.8296,     -999.0,     -999.0,9,     -999.0,      0.437,2,      0.000,2,     98.832,2
09AR20110104,       SR03,      90,          1,         13,         13,2,20110124,       1237,   -66.7537,   143.0560,        683,   273.6,  -1.8236,  34.4533,2,-999.0000,9,    311.0,2,  -999.0,9, -999.00,9, -999.00,9,  -999.0,9,  -999.0,9, -999.00,9, -999.00,9,  -1.8295,     -999.0,     -999.0,9,     -999.0,      0.363,2,      0.000,2,     98.824,2
09AR20110104,       SR03,      90,          1,         12,         12,2,20110124,       1237,   -66.7537,   143.0560,        683,   273.6,  -1.8239,  34.4534,2,-999.0000,9,    311.0,2,  -999.0,9, -999.00,9, -999.00,9,  -999.0,9,  -999.0,9, -999.00,9, -999.00,9,  -1.8298,     -999.0,     -999.0,9,     -999.0,      0.253,2,      0.000,2,     98.824,2
09AR20110104,       SR03,      90,          1,         11,         11,2,20110124,       1237,   -66.7537,   143.0560,        683,   400.2,  -1.8711,  34.4848,2,  34.4828,2,    309.1,2,   309.0,2,   74.80,2,    2.06,2,  2233.4,2,  2332.9,2, -999.00,9,   30.39,2,  -1.8801,     -999.0,     -999.0,9,     -999.0,      0.032,2,      0.000,2,     99.193,2
09AR20110104,       SR03,      90,          1,         10,         10,2,20110124,       1237,   -66.7537,   143.0560,        683,   523.6,  -1.9054,  34.5347,2,  34.5329,2,    308.6,2,   309.2,2,   75.10,2,    2.07,2,  -999.0,9,  -999.0,9, -999.00,9,   30.76,2,  -1.9177,     -999.0,     -999.0,9,     -999.0,      0.006,2,      0.000,2,     99.200,2
09AR20110104,       SR03,      90,          1,          9,          9,2,20110124,       1237,   -66.7537,   143.0560,        683,   523.5,  -1.9053,  34.5343,2,-999.0000,9,    308.6,2,  -999.0,9, -999.00,9, -999.00,9,  -999.0,9,  -999.0,9, -999.00,9, -999.00,9,  -1.9176,     -999.0,     -999.0,9,     -999.0,      0.007,2,      0.000,2,     99.196,2
09AR20110104,       SR03,      90,          1,          8,          8,2,20110124,       1237,   -66.7537,   143.0560,        683,   600.2,  -1.9074,  34.5564,2,  34.5549,2,    308.8,2,   308.8,2,   75.10,2,    2.08,2,  2236.6,2,  2336.8,2, -999.00,9,   30.56,2,  -1.9220,     -999.0,     -999.0,9,     -999.0,     -0.002,2,      0.000,2,     99.156,2
09AR20110104,       SR03,      90,          1,          7,          7,2,20110124,       1237,   -66.7537,   143.0560,        683,   600.1,  -1.9075,  34.5566,2,-999.0000,9,    308.8,2,  -999.0,9, -999.00,9, -999.00,9,  -999.0,9,  -999.0,9, -999.00,9, -999.00,9,  -1.9221,     -999.0,     -999.0,9,     -999.0,      0.004,2,      0.000,2,     99.172,2
09AR20110104,       SR03,      90,          1,          6,          6,2,20110124,       1237,   -66.7537,   143.0560,        683,   600.0,  -1.9078,  34.5571,2,-999.0000,9,    308.8,2,  -999.0,9, -999.00,9, -999.00,9,  -999.0,9,  -999.0,9, -999.00,9, -999.00,9,  -1.9224,     -999.0,     -999.0,9,     -999.0,     -0.001,2,      0.000,2,     99.155,2
09AR20110104,       SR03,      90,          1,          5,          5,2,20110124,       1237,   -66.7537,   143.0560,        683,   600.1,  -1.9079,  34.5572,2,-999.0000,9,    308.8,2,  -999.0,9, -999.00,9, -999.00,9,  -999.0,9,  -999.0,9, -999.00,9, -999.00,9,  -1.9225,     -999.0,     -999.0,9,     -999.0,      0.009,2,      0.000,2,     99.167,2
09AR20110104,       SR03,      90,          1,          4,          4,2,20110124,       1237,   -66.7537,   143.0560,        683,   600.1,  -1.9079,  34.5572,2,-999.0000,9,    308.8,2,  -999.0,9, -999.00,9, -999.00,9,  -999.0,9,  -999.0,9, -999.00,9, -999.00,9,  -1.9225,     -999.0,     -999.0,9,     -999.0,      0.001,2,      0.000,2,     99.172,2
09AR20110104,       SR03,      90,          1,          3,          3,2,20110124,       1237,   -66.7537,   143.0560,        683,   600.0,  -1.9081,  34.5576,2,-999.0000,9,    308.8,2,  -999.0,9, -999.00,9, -999.00,9,  -999.0,9,  -999.0,9, -999.00,9, -999.00,9,  -1.9227,     -999.0,     -999.0,9,     -999.0,      0.011,2,      0.000,2,     99.112,2
09AR20110104,       SR03,      90,          1,          2,        102,2,20110124,       1237,   -66.7537,   143.0560,        683,   650.4,  -1.9118,  34.5665,2,  34.5641,2,    308.9,2,   307.9,2,   74.80,2,    2.07,2,  -999.0,9,  -999.0,9, -999.00,9,   30.23,2,  -1.9279,     -999.0,     -999.0,9,     -999.0,     -0.005,2,      0.000,2,     99.155,2
09AR20110104,       SR03,      90,          1,          1,          1,2,20110124,       1237,   -66.7537,   143.0560,        683,   650.3,  -1.9119,  34.5663,2,-999.0000,9,    308.9,2,  -999.0,9, -999.00,9, -999.00,9,  -999.0,9,  -999.0,9, -999.00,9, -999.00,9,  -1.9280,     -999.0,     -999.0,9,     -999.0,     -0.013,2,      0.000,2,     99.143,2
09AR20110104,       SR03,      91,          1,         24,         24,2,20110124,       1425,   -66.6995,   143.3380,        711,     9.2,  -0.7872,  33.6296,2,-999.0000,9,    371.0,2,   372.2,2,   39.00,2,    1.01,2,  2124.3,6,  2285.3,6,   -0.40,2,   18.67,2,  -0.7874,       0.09,      -4.48,2,       0.13,     12.440,2,      0.000,2,     85.478,2
09AR20110104,       SR03,      91,          1,         23,         23,2,20110124,       1425,   -66.6995,   143.3380,        711,     9.2,  -0.7869,  33.6297,2,-999.0000,9,    371.0,2,  -999.0,9, -999.00,9, -999.00,9,  -999.0,9,  -999.0,9, -999.00,9, -999.00,9,  -0.7871,     -999.0,     -999.0,9,     -999.0,     12.661,2,      0.000,2,     85.700,2
09AR20110104,       SR03,      91,          1,         22,         22,2,20110124,       1425,   -66.6995,   143.3380,        711,    44.5,  -0.6854,  33.9194,2,-999.0000,9,    356.6,2,  -999.0,9, -999.00,9, -999.00,9,  -999.0,9,  -999.0,9, -999.00,9, -999.00,9,  -0.6867,     -999.0,     -999.0,9,     -999.0,     10.376,2,      0.000,2,     86.910,2
09AR20110104,       SR03,      91,          1,         21,         21,2,20110124,       1425,   -66.6995,   143.3380,        711,    44.5,  -0.7223,  33.9347,2,-999.0000,9,    356.6,2,  -999.0,9, -999.00,9, -999.00,9,  -999.0,9,  -999.0,9, -999.00,9, -999.00,9,  -0.7235,     -999.0,     -999.0,9,     -999.0,      9.654,2,      0.000,2,     86.746,2
09AR20110104,       SR03,      91,          1,         20,         20,2,20110124,       1425,   -66.6995,   143.3380,        711,    44.5,  -0.7726,  33.9485,2,-999.0000,9,    356.6,2,  -999.0,9, -999.00,9, -999.00,9,  -999.0,9,  -999.0,9, -999.00,9, -999.00,9,  -0.7738,     -999.0,     -999.0,9,     -999.0,      9.217,2,      0.000,2,     87.849,2
09AR20110104,       SR03,      91,          1,         19,         19,2,20110124,       1425,   -66.6995,   143.3380,        711,    44.5,  -0.7755,  33.9492,2,-999.0000,9,    356.6,2,  -999.0,9, -999.00,9, -999.00,9,  -999.0,9,  -999.0,9, -999.00,9, -999.00,9,  -0.7767,     -999.0,     -999.0,9,     -999.0,      9.119,2,      0.000,2,     88.157,2
09AR20110104,       SR03,      91,          1,         18,         18,2,20110124,       1425,   -66.6995,   143.3380,        711,    44.5,  -0.7777,  33.9490,2,-999.0000,9,    356.6,2,   362.2,2,   48.80,2,    1.37,2,  2160.3,2,  2306.6,2, -999.00,9,   21.70,2,  -0.7789,     -999.0,     -999.0,9,     -999.0,      8.931,2,      0.000,2,     88.156,2
09AR20110104,       SR03,      91,          1,         17,         17,2,20110124,       1425,   -66.6995,   143.3380,        711,    44.2,  -0.7786,  33.9529,2,-999.0000,9,    356.6,2,  -999.0,9, -999.00,9, -999.00,9,  -999.0,9,  -999.0,9, -999.00,9, -999.00,9,  -0.7798,     -999.0,     -999.0,9,     -999.0,      9.267,2,      0.000,2,     88.047,2
09AR20110104,       SR03,      91,          1,         16,         16,2,20110124,       1425,   -66.6995,   143.3380,        711,   151.6,  -1.6400,  34.3800,2,-999.0000,9,    327.9,2,   322.1,2,   72.00,2,    1.95,2,  2222.5,2,  2327.9,2, -999.00,9,   28.92,2,  -1.6433,     -999.0,     -999.0,9,     -999.0,      3.408,2,      0.000,2,     95.732,2
09AR20110104,       SR03,      91,          1,         15,         15,2,20110124,       1425,   -66.6995,   143.3380,        711,   150.9,  -1.6350,  34.3788,2,-999.0000,9,    328.8,2,  -999.0,9, -999.00,9, -999.00,9,  -999.0,9,  -999.0,9, -999.00,9, -999.00,9,  -1.6383,     -999.0,     -999.0,9,     -999.0,      3.273,2,      0.000,2,     95.643,2
09AR20110104,       SR03,      91,          1,         14,         14,2,20110124,       1425,   -66.6995,   143.3380,        711,   250.9,  -1.8194,  34.4513,2,-999.0000,9,    307.8,2,   308.2,2,   74.30,2,    2.04,2,  2231.6,2,  2329.4,2,   -0.40,2,   30.15,2,  -1.8248,       0.02,      -3.91,2,       0.16,      0.336,2,      0.000,2,     98.856,2
09AR20110104,       SR03,      91,          1,         13,         13,2,20110124,       1425,   -66.6995,   143.3380,        711,   250.7,  -1.8181,  34.4507,2,-999.0000,9,    307.8,2,  -999.0,9, -999.00,9, -999.00,9,  -999.0,9,  -999.0,9, -999.00,9, -999.00,9,  -1.8235,     -999.0,     -999.0,9,     -999.0,      0.257,2,      0.000,2,     98.869,2
09AR20110104,       SR03,      91,          1,         12,         12,2,20110124,       1425,   -66.6995,   143.3380,        711,   250.2,  -1.8161,  34.4498,2,-999.0000,9,    307.8,2,  -999.0,9, -999.00,9, -999.00,9,  -999.0,9,  -999.0,9, -999.00,9, -999.00,9,  -1.8215,     -999.0,     -999.0,9,     -999.0,      0.685,2,      0.000,2,     98.848,2
09AR20110104,       SR03,      91,          1,         11,         11,2,20110124,       1425,   -66.6995,   143.3380,        711,   350.2,  -1.8731,  34.4828,2,-999.0000,9,    305.0,2,   306.4,2,   74.60,2,    2.05,2,  2235.8,2,  2331.0,2, -999.00,9,   30.06,2,  -1.8808,     -999.0,     -999.0,9,     -999.0,      0.062,2,      0.000,2,     99.171,2
09AR20110104,       SR03,      91,          1,         10,         10,2,20110124,       1425,   -66.6995,   143.3380,        711,   450.2,  -1.9182,  34.5096,2,-999.0000,9,    307.1,2,   307.1,2,   74.70,2,    2.07,2,  -999.0,9,  -999.0,9, -999.00,9,   30.12,2,  -1.9284,     -999.0,     -999.0,9,     -999.0,      0.003,2,      0.000,2,     99.298,2
09AR20110104,       SR03,      91,          1,          9,          9,2,20110124,       1425,   -66.6995,   143.3380,        711,   450.3,  -1.9188,  34.5100,2,-999.0000,9,    307.1,2,  -999.0,9, -999.00,9, -999.00,9,  -999.0,9,  -999.0,9, -999.00,9, -999.00,9,  -1.9290,     -999.0,     -999.0,9,     -999.0,      0.016,2,      0.000,2,     99.308,2
09AR20110104,       SR03,      91,          1,          8,          8,2,20110124,       1425,   -66.6995,   143.3380,        711,   600.9,  -1.9498,  34.5702,2,-999.0000,9,    308.4,2,   308.0,2,   74.70,2,    2.06,2,  2241.5,2,  2337.5,2,   -0.33,2,   30.26,2,  -1.9642,       0.05,      -4.31,2,       0.13,     -0.056,2,      0.000,2,     99.225,2
09AR20110104,       SR03,      91,          1,          7,          7,2,20110124,       1425,   -66.6995,   143.3380,        711,   600.9,  -1.9498,  34.5702,2,-999.0000,9,    308.4,2,  -999.0,9, -999.00,9, -999.00,9,  -999.0,9,  -999.0,9, -999.00,9, -999.00,9,  -1.9642,     -999.0,     -999.0,9,     -999.0,     -0.014,2,      0.000,2,     99.230,2
09AR20110104,       SR03,      91,          1,          6,          6,2,20110124,       1425,   -66.6995,   143.3380,        711,   600.9,  -1.9497,  34.5702,2,-999.0000,9,    308.4,2,  -999.0,9, -999.00,9, -999.00,9,  -999.0,9,  -999.0,9, -999.00,9, -999.00,9,  -1.9641,     -999.0,     -999.0,9,     -999.0,     -0.013,2,      0.000,2,     99.206,2
09AR20110104,       SR03,      91,          1,          5,          5,2,20110124,       1425,   -66.6995,   143.3380,        711,   600.9,  -1.9497,  34.5705,2,-999.0000,9,    308.4,2,  -999.0,9, -999.00,9, -999.00,9,  -999.0,9,  -999.0,9, -999.00,9, -999.00,9,  -1.9641,     -999.0,     -999.0,9,     -999.0,      0.000,2,      0.000,2,     99.224,2
09AR20110104,       SR03,      91,          1,          4,          4,2,20110124,       1425,   -66.6995,   143.3380,        711,   706.2,  -1.9336,  34.5871,2,-999.0000,9,    306.8,2,  -999.0,9, -999.00,9, -999.00,9,  -999.0,9,  -999.0,9, -999.00,9, -999.00,9,  -1.9514,     -999.0,     -999.0,9,     -999.0,     -0.040,2,      0.000,2,     99.157,2
09AR20110104,       SR03,      91,          1,          3,          3,2,20110124,       1425,   -66.6995,   143.3380,        711,   706.9,  -1.9337,  34.5874,2,-999.0000,9,    306.8,2,  -999.0,9, -999.00,9, -999.00,9,  -999.0,9,  -999.0,9, -999.00,9, -999.00,9,  -1.9515,     -999.0,     -999.0,9,     -999.0,      0.007,2,      0.000,2,     99.149,2
09AR20110104,       SR03,      91,          1,          2,        102,2,20110124,       1425,   -66.6995,   143.3380,        711,   713.1,  -1.9320,  34.5890,2,-999.0000,9,    307.1,2,   307.4,2,   75.00,2,    2.07,2,  -999.0,9,  -999.0,9,   -0.51,2,   30.27,2,  -1.9500,       0.05,      -4.85,2,       0.19,      0.016,2,      0.000,2,     99.139,2
09AR20110104,       SR03,      91,          1,          1,          1,2,20110124,       1425,   -66.6995,   143.3380,        711,   713.6,  -1.9314,  34.5894,2,-999.0000,9,    307.1,2,  -999.0,9, -999.00,9, -999.00,9,  -999.0,9,  -999.0,9, -999.00,9, -999.00,9,  -1.9494,     -999.0,     -999.0,9,     -999.0,     -0.014,2,      0.000,2,     99.134,2