BOTTLE,20230419CCHSIOENA
EXPOCODE,SECT_ID,STNNBR,CASTNO,SAMPNO,BTLNBR,BTLNBR_FLAG_W,DATE,TIME,LATITUDE,LONGITUDE,DEPTH,CTDPRS,CTDTMP,CTDSAL,CTDSAL_FLAG_W,SALNTY,SALNTY_FLAG_W,CTDOXY,CTDOXY_FLAG_W,OXYGEN,OXYGEN_FLAG_W,SILCAT,SILCAT_FLAG_W,PHSPHT,PHSPHT_FLAG_W,TCARBN,TCARBN_FLAG_W,ALKALI,ALKALI_FLAG_W,DELO18,DELO18_FLAG_W,NO2+NO3,NO2+NO3_FLAG_W,THETA,O18ERR,DELD,DELD_FLAG_W,DELDERR,CTDFLUOR,CTDFLUOR_FLAG_W,PAR,PAR_FLAG_W,CTDXMISS,CTDXMISS_FLAG_W
,,,,,,,,,,,METERS,DBAR,ITS-90,PSS-78,,PSS-78,,UMOL/KG,,UMOL/KG,,UMOL/KG,,UMOL/KG,,UMOL/KG,,UMOL/KG,,/MILLE,,UMOL/KG,,DEG C,/MILLE,/MILLE,,/MILLE,MG/M^3,,UMOL/M^2/SEC,,%TRANS,
09AR20110104,       SR03,      60,          1,         24,         24,2,20110119,       1124,   -65.5448,   143.1420,       2665,    10.0,   0.8012,  33.6794,2,  33.6823,2,    356.9,2,   355.1,2,   34.40,2,    1.35,2,  2134.9,2,  2282.7,2, -999.00,9,   22.02,2,   0.8008,     -999.0,     -999.0,9,     -999.0,      1.675,2,      0.106,2,     92.887,2
09AR20110104,       SR03,      60,          1,         23,         23,2,20110119,       1124,   -65.5448,   143.1420,       2665,     9.8,   0.7771,  33.6802,2,-999.0000,9,    356.9,2,  -999.0,9, -999.00,9, -999.00,9,  -999.0,9,  -999.0,9, -999.00,9, -999.00,9,   0.7767,     -999.0,     -999.0,9,     -999.0,      1.680,2,      0.092,2,     92.747,2
09AR20110104,       SR03,      60,          1,         22,         22,2,20110119,       1124,   -65.5448,   143.1420,       2665,     9.8,   0.7605,  33.6809,2,-999.0000,9,    356.9,2,  -999.0,9, -999.00,9, -999.00,9,  -999.0,9,  -999.0,9, -999.00,9, -999.00,9,   0.7601,     -999.0,     -999.0,9,     -999.0,      1.706,2,      0.089,2,     92.697,2
09AR20110104,       SR03,      60,          1,         21,         21,2,20110119,       1124,   -65.5448,   143.1420,       2665,     9.8,   0.7483,  33.6811,2,-999.0000,9,    356.9,2,  -999.0,9, -999.00,9, -999.00,9,  -999.0,9,  -999.0,9, -999.00,9, -999.00,9,   0.7479,     -999.0,     -999.0,9,     -999.0,      1.703,2,      0.094,2,     92.626,2
09AR20110104,       SR03,      60,          1,         20,         20,2,20110119,       1124,   -65.5448,   143.1420,       2665,     9.7,   0.7559,  33.6805,2,-999.0000,9,    356.9,2,  -999.0,9, -999.00,9, -999.00,9,  -999.0,9,  -999.0,9, -999.00,9, -999.00,9,   0.7555,     -999.0,     -999.0,9,     -999.0,      1.664,2,      0.096,2,     92.528,2
09AR20110104,       SR03,      60,          1,         19,         19,2,20110119,       1124,   -65.5448,   143.1420,       2665,    45.8,  -1.4726,  34.2212,2,  34.2232,2,    350.2,2,   338.5,2,   64.50,2,    1.95,2,  2196.1,2,  2313.1,2, -999.00,9,   26.72,2,  -1.4736,     -999.0,     -999.0,9,     -999.0,      3.997,2,      0.000,2,     92.862,2
09AR20110104,       SR03,      60,          1,         18,         18,2,20110119,       1124,   -65.5448,   143.1420,       2665,   103.0,  -1.8042,  34.3398,2,  34.3401,2,    315.0,2,   315.4,2,   71.30,2,    2.04,2,  2220.3,2,  2318.3,2, -999.00,9,   29.79,2,  -1.8063,     -999.0,     -999.0,9,     -999.0,      0.289,2,      0.000,2,     98.739,2
09AR20110104,       SR03,      60,          1,         17,         17,2,20110119,       1124,   -65.5448,   143.1420,       2665,   301.0,  -0.3038,  34.5338,2,  34.5342,2,    248.8,2,   243.4,2,   83.50,2,    2.15,2,  2242.3,2,  2331.1,2, -999.00,9,   31.84,2,  -0.3144,     -999.0,     -999.0,9,     -999.0,     -0.002,2,      0.000,2,     99.265,2
09AR20110104,       SR03,      60,          1,         16,         16,2,20110119,       1124,   -65.5448,   143.1420,       2665,   401.1,  -0.1760,  34.5828,2,  34.5847,2,    237.6,2,   237.4,2,   89.10,2,    2.16,2,  2247.5,2,  2335.5,2, -999.00,9,   32.31,2,  -0.1909,     -999.0,     -999.0,9,     -999.0,     -0.005,2,      0.000,2,     99.287,2
09AR20110104,       SR03,      60,          1,         15,         15,2,20110119,       1124,   -65.5448,   143.1420,       2665,   502.1,  -0.1320,  34.5983,2,  34.5971,2,    230.1,2,   236.0,2,   91.00,2,    2.16,2,  2249.1,2,  2339.0,2, -999.00,9,   32.24,2,  -0.1513,     -999.0,     -999.0,9,     -999.0,     -0.009,2,      0.000,2,     99.265,2
09AR20110104,       SR03,      60,          1,         14,         14,2,20110119,       1124,   -65.5448,   143.1420,       2665,   643.9,   0.3842,  34.6579,2,  34.6576,2,    218.3,2,   215.3,2,  102.20,2,    2.19,2,  2257.2,2,  2346.9,2, -999.00,9,   31.88,2,   0.3557,     -999.0,     -999.0,9,     -999.0,     -0.012,2,      0.000,2,     99.385,2
09AR20110104,       SR03,      60,          1,         13,         13,2,20110119,       1124,   -65.5448,   143.1420,       2665,   801.7,   0.3756,  34.6674,2,  34.6682,2,    210.4,2,   215.0,2,  105.60,2,    2.19,2,  2259.4,2,  2349.5,2, -999.00,9,   31.98,2,   0.3391,     -999.0,     -999.0,9,     -999.0,     -0.019,2,      0.000,2,     99.408,2
09AR20110104,       SR03,      60,          1,         12,         12,2,20110119,       1124,   -65.5448,   143.1420,       2665,  1001.6,   0.3932,  34.6777,2,  34.6780,2,    212.0,2,   213.7,2,  110.20,2,    2.20,2,  2259.3,6,  2352.7,6, -999.00,9,   32.09,2,   0.3457,     -999.0,     -999.0,9,     -999.0,     -0.018,2,      0.000,2,     99.406,2
09AR20110104,       SR03,      60,          1,         11,         11,2,20110119,       1124,   -65.5448,   143.1420,       2665,  1203.2,   0.3089,  34.6770,2,  34.6770,2,    220.2,2,   216.0,2,  111.50,2,    2.21,2,  2259.9,2,  2350.7,2, -999.00,9,   32.14,2,   0.2505,     -999.0,     -999.0,9,     -999.0,     -0.015,2,      0.000,2,     99.420,2
09AR20110104,       SR03,      60,          1,         10,         10,2,20110119,       1124,   -65.5448,   143.1420,       2665,  1404.4,   0.2260,  34.6748,2,  34.6746,2,    217.4,2,   218.8,2,  111.30,2,    2.20,2,  2258.2,2,  2352.1,2, -999.00,9,   32.15,2,   0.1564,     -999.0,     -999.0,9,     -999.0,     -0.019,2,      0.000,2,     99.397,2
09AR20110104,       SR03,      60,          1,          9,          9,2,20110119,       1124,   -65.5448,   143.1420,       2665,  1601.3,   0.1489,  34.6724,2,  34.6726,2,    221.2,2,   221.6,2,  110.50,2,    2.20,2,  2258.5,2,  2352.8,2, -999.00,9,   32.14,2,   0.0678,     -999.0,     -999.0,9,     -999.0,     -0.022,2,      0.000,2,     99.379,2
09AR20110104,       SR03,      60,          1,          8,          8,2,20110119,       1124,   -65.5448,   143.1420,       2665,  1798.6,   0.0710,  34.6719,2,  34.6716,2,    224.9,2,   223.9,2,  109.80,2,    2.20,2,  2260.4,2,  2352.4,6, -999.00,9,   32.04,2,  -0.0220,     -999.0,     -999.0,9,     -999.0,     -0.018,2,      0.000,2,     99.402,2
09AR20110104,       SR03,      60,          1,          7,          7,2,20110119,       1124,   -65.5448,   143.1420,       2665,  2002.1,   0.0141,  34.6689,2,-999.0000,9,    227.5,2,  -999.0,9, -999.00,9, -999.00,9,  -999.0,9,  -999.0,9, -999.00,9, -999.00,9,  -0.0920,     -999.0,     -999.0,9,     -999.0,     -0.023,2,      0.000,2,     99.355,2
09AR20110104,       SR03,      60,          1,          6,          6,2,20110119,       1124,   -65.5448,   143.1420,       2665,  2002.0,   0.0141,  34.6688,2,-999.0000,9,    227.5,2,  -999.0,9, -999.00,9, -999.00,9,  -999.0,9,  -999.0,9, -999.00,9, -999.00,9,  -0.0920,     -999.0,     -999.0,9,     -999.0,     -0.020,2,      0.000,2,     99.379,2
09AR20110104,       SR03,      60,          1,          5,          5,2,20110119,       1124,   -65.5448,   143.1420,       2665,  2001.7,   0.0149,  34.6688,2,  34.6687,2,    227.5,2,   226.6,2,  108.10,2,    2.19,2,  2257.9,2,  2352.2,2, -999.00,9,   31.98,2,  -0.0912,     -999.0,     -999.0,9,     -999.0,     -0.026,2,      0.000,2,     99.377,2
09AR20110104,       SR03,      60,          1,          4,          4,2,20110119,       1124,   -65.5448,   143.1420,       2665,  2199.5,  -0.0892,  34.6638,2,  34.6630,2,    232.1,2,   230.9,2,  107.20,2,    2.19,2,  2257.9,2,  2349.6,2, -999.00,9,   31.95,2,  -0.2076,     -999.0,     -999.0,9,     -999.0,     -0.022,2,      0.000,2,     99.380,2
09AR20110104,       SR03,      60,          1,          3,          3,2,20110119,       1124,   -65.5448,   143.1420,       2665,  2401.2,  -0.2890,  34.6442,2,  34.6447,2,    242.3,2,   240.7,2,   99.20,2,    2.17,2,  2253.9,2,  2344.9,2, -999.00,9,   31.72,2,  -0.4186,     -999.0,     -999.0,9,     -999.0,     -0.025,2,      0.000,2,     99.296,2
09AR20110104,       SR03,      60,          1,          2,        102,2,20110119,       1124,   -65.5448,   143.1420,       2665,  2601.1,  -0.3047,  34.6429,2,  34.6421,2,    241.8,2,   241.6,2,   99.00,2,    2.17,2,  -999.0,9,  -999.0,9, -999.00,9,   31.71,2,  -0.4491,     -999.0,     -999.0,9,     -999.0,     -0.021,2,      0.000,2,     99.275,2
09AR20110104,       SR03,      60,          1,          1,          1,2,20110119,       1124,   -65.5448,   143.1420,       2665,  2699.6,  -0.3219,  34.6413,2,  34.6408,2,    242.6,2,   242.4,2,   99.00,2,    2.18,2,  2253.6,6,  2344.1,6, -999.00,9,   31.68,2,  -0.4736,     -999.0,     -999.0,9,     -999.0,     -0.017,2,      0.000,2,     99.216,2
09AR20110104,       SR03,      61,          1,         24,         24,2,20110119,       1451,   -65.6607,   143.0280,       2353,     9.6,   0.9161,  33.5496,2,-999.0000,9,    359.3,2,  -999.0,9, -999.00,9, -999.00,9,  -999.0,9,  -999.0,9, -999.00,9, -999.00,9,   0.9157,     -999.0,     -999.0,9,     -999.0,      3.216,2,      0.201,2,     89.983,2
09AR20110104,       SR03,      61,          1,         23,         23,2,20110119,       1451,   -65.6607,   143.0280,       2353,     9.8,   0.9272,  33.5468,2,-999.0000,9,    359.3,2,  -999.0,9, -999.00,9, -999.00,9,  -999.0,9,  -999.0,9, -999.00,9, -999.00,9,   0.9268,     -999.0,     -999.0,9,     -999.0,      3.138,2,      0.184,2,     89.952,2
09AR20110104,       SR03,      61,          1,         22,         22,2,20110119,       1451,   -65.6607,   143.0280,       2353,     9.7,   0.9286,  33.5461,2,-999.0000,9,    359.3,2,  -999.0,9, -999.00,9, -999.00,9,  -999.0,9,  -999.0,9, -999.00,9, -999.00,9,   0.9282,     -999.0,     -999.0,9,     -999.0,      3.149,2,      0.185,2,     89.983,2
09AR20110104,       SR03,      61,          1,         21,         21,2,20110119,       1451,   -65.6607,   143.0280,       2353,     9.7,   0.9267,  33.5466,2,-999.0000,9,    359.3,2,  -999.0,9, -999.00,9, -999.00,9,  -999.0,9,  -999.0,9, -999.00,9, -999.00,9,   0.9263,     -999.0,     -999.0,9,     -999.0,      3.196,2,      0.194,2,     89.916,2
09AR20110104,       SR03,      61,          1,         20,         20,2,20110119,       1451,   -65.6607,   143.0280,       2353,     9.7,   0.9223,  33.5473,2,-999.0000,9,    359.3,2,  -999.0,9, -999.00,9, -999.00,9,  -999.0,9,  -999.0,9, -999.00,9, -999.00,9,   0.9219,     -999.0,     -999.0,9,     -999.0,      3.270,2,      0.190,2,     89.887,2
09AR20110104,       SR03,      61,          1,         19,         19,2,20110119,       1451,   -65.6607,   143.0280,       2353,     9.5,   0.9128,  33.5495,2,-999.0000,9,    359.3,2,  -999.0,9, -999.00,9, -999.00,9,  -999.0,9,  -999.0,9, -999.00,9, -999.00,9,   0.9124,     -999.0,     -999.0,9,     -999.0,      3.125,2,      0.188,2,     89.903,2
09AR20110104,       SR03,      61,          1,         18,         18,2,20110119,       1451,   -65.6607,   143.0280,       2353,     9.5,   0.8696,  33.5585,2,  33.5647,2,    359.3,2,   360.4,2,   28.30,2,    1.10,2,  2114.5,6,  2276.2,6, -999.00,9,   19.94,2,   0.8692,     -999.0,     -999.0,9,     -999.0,      3.185,2,      0.198,2,     89.807,2
09AR20110104,       SR03,      61,          1,         17,         17,2,20110119,       1451,   -65.6607,   143.0280,       2353,    53.2,  -1.7788,  34.3232,2,  34.3254,2,    320.1,2,   317.2,2,   69.10,2,    2.04,2,  2215.7,2,  2317.6,2, -999.00,9,   29.14,2,  -1.7798,     -999.0,     -999.0,9,     -999.0,      1.118,2,      0.000,2,     96.972,2
09AR20110104,       SR03,      61,          1,         16,         16,2,20110119,       1451,   -65.6607,   143.0280,       2353,   103.9,  -1.8297,  34.3468,2,  34.3471,2,    314.4,2,   313.8,2,   70.00,2,    2.03,2,  2220.1,2,  2319.0,2, -999.00,9,   29.61,2,  -1.8317,     -999.0,     -999.0,9,     -999.0,      0.165,2,      0.000,2,     99.098,2
09AR20110104,       SR03,      61,          1,         15,         15,2,20110119,       1451,   -65.6607,   143.0280,       2353,   201.3,  -1.7590,  34.3760,2,  34.3745,2,    306.0,2,   309.6,2,   71.40,2,    2.03,2,  2222.8,2,  2321.7,2, -999.00,9,   29.63,2,  -1.7633,     -999.0,     -999.0,9,     -999.0,      0.029,2,      0.000,2,     99.361,2
09AR20110104,       SR03,      61,          1,         14,         14,2,20110119,       1451,   -65.6607,   143.0280,       2353,   301.3,  -1.3112,  34.4334,2,  34.4346,2,    262.4,2,   284.7,3,   76.00,2,    2.08,2,  2229.9,2,  2323.9,2, -999.00,9,   30.21,2,  -1.3191,     -999.0,     -999.0,9,     -999.0,      0.009,2,      0.000,2,     99.404,2
09AR20110104,       SR03,      61,          1,         13,         13,2,20110119,       1451,   -65.6607,   143.0280,       2353,   400.9,  -0.1498,  34.5693,2,  34.5680,2,    241.0,2,   237.9,2,   85.20,2,    2.15,2,  2243.2,2,  2336.3,2, -999.00,9,   31.21,2,  -0.1648,     -999.0,     -999.0,9,     -999.0,      0.003,2,      0.000,2,     99.274,2
09AR20110104,       SR03,      61,          1,         12,         12,2,20110119,       1451,   -65.6607,   143.0280,       2353,   550.3,   0.4376,  34.6533,2,  34.6539,2,    213.9,2,   215.7,2,   97.20,2,    2.17,2,  2252.2,2,  2345.3,2, -999.00,9,   31.50,2,   0.4135,     -999.0,     -999.0,9,     -999.0,     -0.004,2,      0.000,2,     99.360,2
09AR20110104,       SR03,      61,          1,         11,         11,2,20110119,       1451,   -65.6607,   143.0280,       2353,   701.9,   0.4588,  34.6669,2,  34.6668,2,    213.2,2,   213.3,2,  102.00,2,    2.18,2,  2255.3,2,  2348.8,2, -999.00,9,   31.61,2,   0.4270,     -999.0,     -999.0,9,     -999.0,     -0.010,2,      0.000,2,     99.352,2
09AR20110104,       SR03,      61,          1,         10,         10,2,20110119,       1451,   -65.6607,   143.0280,       2353,   850.4,   0.3781,  34.6690,2,  34.6703,2,    215.9,2,   215.2,2,  105.00,2,    2.20,2,  2257.4,2,  -999.0,9, -999.00,9,   31.56,2,   0.3390,     -999.0,     -999.0,9,     -999.0,     -0.011,2,      0.000,2,     99.347,2
09AR20110104,       SR03,      61,          1,          9,          9,2,20110119,       1451,   -65.6607,   143.0280,       2353,  1001.2,   0.2760,  34.6660,2,  34.6661,2,    216.7,2,   217.9,2,  105.30,2,    2.18,2,  2258.3,2,  -999.0,9, -999.00,9,   31.52,2,   0.2295,     -999.0,     -999.0,9,     -999.0,     -0.010,2,      0.000,2,     99.361,2
09AR20110104,       SR03,      61,          1,          8,          8,2,20110119,       1451,   -65.6607,   143.0280,       2353,  1201.9,   0.2719,  34.6745,2,  34.6749,2,    215.8,2,   217.0,2,  108.70,2,    2.20,2,  2257.1,2,  2352.0,2, -999.00,9,   31.65,2,   0.2140,     -999.0,     -999.0,9,     -999.0,     -0.016,2,      0.000,2,     99.363,2
09AR20110104,       SR03,      61,          1,          7,          7,2,20110119,       1451,   -65.6607,   143.0280,       2353,  1499.9,   0.1900,  34.6739,2,-999.0000,9,    222.4,2,  -999.0,9, -999.00,9, -999.00,9,  -999.0,9,  -999.0,9, -999.00,9, -999.00,9,   0.1148,     -999.0,     -999.0,9,     -999.0,     -0.016,2,      0.000,2,     99.396,2
09AR20110104,       SR03,      61,          1,          6,          6,2,20110119,       1451,   -65.6607,   143.0280,       2353,  1499.6,   0.1866,  34.6736,2,-999.0000,9,    222.4,2,  -999.0,9, -999.00,9, -999.00,9,  -999.0,9,  -999.0,9, -999.00,9, -999.00,9,   0.1115,     -999.0,     -999.0,9,     -999.0,     -0.016,2,      0.000,2,     99.381,2
09AR20110104,       SR03,      61,          1,          5,          5,2,20110119,       1451,   -65.6607,   143.0280,       2353,  1499.2,   0.1811,  34.6730,2,  34.6729,2,    222.4,2,   219.8,2,  108.40,2,    2.18,2,  2257.8,2,  2352.3,2, -999.00,9,   31.63,2,   0.1061,     -999.0,     -999.0,9,     -999.0,     -0.016,2,      0.000,2,     99.375,2
09AR20110104,       SR03,      61,          1,          4,          4,2,20110119,       1451,   -65.6607,   143.0280,       2353,  1800.7,  -0.0396,  34.6568,2,  34.6578,2,    230.2,2,   229.3,2,  103.00,2,    2.18,2,  2252.5,2,  2350.9,6, -999.00,9,   31.36,2,  -0.1311,     -999.0,     -999.0,9,     -999.0,     -0.013,2,      0.000,2,     99.332,2
09AR20110104,       SR03,      61,          1,          3,          3,2,20110119,       1451,   -65.6607,   143.0280,       2353,  2101.3,  -0.1709,  34.6495,2,  34.6516,2,    234.5,2,   235.1,2,   99.80,2,    2.17,2,  2254.7,2,  2346.9,2, -999.00,9,   31.34,2,  -0.2809,     -999.0,     -999.0,9,     -999.0,     -0.012,2,      0.000,2,     99.296,2
09AR20110104,       SR03,      61,          1,          2,        102,2,20110119,       1451,   -65.6607,   143.0280,       2353,  2300.9,  -0.3002,  34.6381,2,  34.6314,2,    242.2,2,   241.4,2,   97.50,2,    2.17,2,  -999.0,9,  -999.0,9, -999.00,9,   31.25,2,  -0.4221,     -999.0,     -999.0,9,     -999.0,     -0.012,2,      0.000,2,     99.246,2
09AR20110104,       SR03,      61,          1,          1,          1,2,20110119,       1451,   -65.6607,   143.0280,       2353,  2380.8,  -0.3854,  34.6318,2,  34.6313,2,    246.3,2,   245.2,2,   95.20,2,    2.16,2,  2250.0,6,  2346.0,6, -999.00,9,   31.15,2,  -0.5116,     -999.0,     -999.0,9,     -999.0,     -0.014,2,      0.000,2,     99.210,2