BOTTLE,20230419CCHSIOENA
EXPOCODE,SECT_ID,STNNBR,CASTNO,SAMPNO,BTLNBR,BTLNBR_FLAG_W,DATE,TIME,LATITUDE,LONGITUDE,DEPTH,CTDPRS,CTDTMP,CTDSAL,CTDSAL_FLAG_W,SALNTY,SALNTY_FLAG_W,CTDOXY,CTDOXY_FLAG_W,OXYGEN,OXYGEN_FLAG_W,SILCAT,SILCAT_FLAG_W,PHSPHT,PHSPHT_FLAG_W,TCARBN,TCARBN_FLAG_W,ALKALI,ALKALI_FLAG_W,DELO18,DELO18_FLAG_W,NO2+NO3,NO2+NO3_FLAG_W,THETA,O18ERR,DELD,DELD_FLAG_W,DELDERR,CTDFLUOR,CTDFLUOR_FLAG_W,PAR,PAR_FLAG_W,CTDXMISS,CTDXMISS_FLAG_W
,,,,,,,,,,,METERS,DBAR,ITS-90,PSS-78,,PSS-78,,UMOL/KG,,UMOL/KG,,UMOL/KG,,UMOL/KG,,UMOL/KG,,UMOL/KG,,/MILLE,,UMOL/KG,,DEG C,/MILLE,/MILLE,,/MILLE,MG/M^3,,UMOL/M^2/SEC,,%TRANS,
09AR20110104,       SR03,      36,          1,         24,         24,2,20110113,       2228,   -58.3528,   139.8600,       3996,     6.7,   3.4301,  33.8217,2,  33.8249,2,    329.8,2,   329.9,2,    2.80,2,    1.60,2,  2131.1,6,  2274.6,6, -999.00,9,   24.71,2,   3.4297,     -999.0,     -999.0,9,     -999.0,      0.320,2,    229.939,2,     94.752,2
09AR20110104,       SR03,      36,          1,         23,         23,2,20110113,       2228,   -58.3528,   139.8600,       3996,    49.0,   3.3535,  33.8331,2,  33.8352,2,    329.6,2,   329.6,2,    2.90,2,    1.62,2,  2132.1,2,  2275.9,2, -999.00,9,   24.77,2,   3.3505,     -999.0,     -999.0,9,     -999.0,      3.313,2,      7.696,2,     93.510,2
09AR20110104,       SR03,      36,          1,         22,         22,2,20110113,       2228,   -58.3528,   139.8600,       3996,    88.9,   1.9078,  33.8606,2,  33.8624,2,    331.9,2,   334.4,2,   11.70,2,    1.89,2,  2146.6,2,  2277.6,6, -999.00,9,   26.20,2,   1.9033,     -999.0,     -999.0,9,     -999.0,      1.406,2,      0.494,2,     97.346,2
09AR20110104,       SR03,      36,          1,         21,         21,2,20110113,       2228,   -58.3528,   139.8600,       3996,   150.9,   1.2803,  33.8857,2,  33.8865,2,    330.8,2,   330.8,2,   18.10,2,    1.95,2,  2156.2,2,  2280.4,2, -999.00,9,   27.39,2,   1.2734,     -999.0,     -999.0,9,     -999.0,      0.169,2,      0.000,2,     98.842,2
09AR20110104,       SR03,      36,          1,         20,         20,2,20110113,       2228,   -58.3528,   139.8600,       3996,   200.6,   1.2261,  33.9508,2,  33.9783,2,    319.2,2,   310.0,2,   24.00,2,    2.04,2,  2168.8,2,  2281.0,2, -999.00,9,   29.30,2,   1.2169,     -999.0,     -999.0,9,     -999.0,      0.007,2,      0.000,2,     99.299,2
09AR20110104,       SR03,      36,          1,         19,         19,2,20110113,       2228,   -58.3528,   139.8600,       3996,   300.7,   2.2283,  34.2341,2,  34.2387,2,    228.6,2,   227.6,2,   45.00,2,    2.30,2,  2213.7,2,  2299.7,2, -999.00,9,   33.22,2,   2.2116,     -999.0,     -999.0,9,     -999.0,     -0.007,2,      0.000,2,     99.269,2
09AR20110104,       SR03,      36,          1,         18,         18,2,20110113,       2228,   -58.3528,   139.8600,       3996,   398.8,   2.3319,  34.3538,2,  34.3533,2,    201.4,2,   199.7,2,   55.70,2,    2.37,2,  2231.4,2,  2310.6,2, -999.00,9,   34.37,2,   2.3090,     -999.0,     -999.0,9,     -999.0,     -0.009,2,      0.000,2,     99.384,2
09AR20110104,       SR03,      36,          1,         17,         17,2,20110113,       2228,   -58.3528,   139.8600,       3996,   501.4,   2.3803,  34.4497,2,  34.4467,2,    183.6,2,   182.2,2,   63.90,2,    2.41,3,  2244.0,2,  2317.2,2, -999.00,9,   34.69,2,   2.3508,     -999.0,     -999.0,9,     -999.0,     -0.009,2,      0.000,2,     99.434,2
09AR20110104,       SR03,      36,          1,         16,         16,2,20110113,       2228,   -58.3528,   139.8600,       3996,   602.4,   2.4115,  34.5233,2,  34.5232,2,    174.6,2,   175.2,2,   68.50,2,    2.38,3,  -999.0,9,  -999.0,9, -999.00,9,   34.33,2,   2.3753,     -999.0,     -999.0,9,     -999.0,     -0.010,2,      0.000,2,     99.449,2
09AR20110104,       SR03,      36,          1,         15,         15,2,20110113,       2228,   -58.3528,   139.8600,       3996,   700.5,   2.4084,  34.5777,2,  34.5776,2,    172.8,2,   173.8,2,   71.20,2,    2.34,3,  2250.3,2,  2329.0,2, -999.00,9,   33.76,2,   2.3657,     -999.0,     -999.0,9,     -999.0,     -0.008,2,      0.000,2,     99.461,2
09AR20110104,       SR03,      36,          1,         14,         14,2,20110113,       2228,   -58.3528,   139.8600,       3996,   799.7,   2.3715,  34.6210,2,  34.6205,2,    173.4,2,   174.4,2,   73.40,2,    2.31,3,  -999.0,9,  -999.0,9, -999.00,9,   33.14,2,   2.3223,     -999.0,     -999.0,9,     -999.0,     -0.008,2,      0.000,2,     99.496,2
09AR20110104,       SR03,      36,          1,         13,         13,2,20110113,       2228,   -58.3528,   139.8600,       3996,   949.5,   2.2855,  34.6659,2,  34.6653,2,    176.1,2,   177.4,2,   75.90,2,    2.26,3,  -999.0,9,  -999.0,9, -999.00,9,   32.41,2,   2.2265,     -999.0,     -999.0,9,     -999.0,     -0.011,2,      0.000,2,     99.512,2
09AR20110104,       SR03,      36,          1,         12,         12,2,20110113,       2228,   -58.3528,   139.8600,       3996,  1099.7,   2.2221,  34.7015,2,  34.7020,2,    181.6,2,   182.5,2,   77.40,2,    2.19,3,  2246.7,2,  2340.5,2, -999.00,9,   31.41,2,   2.1529,     -999.0,     -999.0,9,     -999.0,     -0.012,2,      0.000,2,     99.547,2
09AR20110104,       SR03,      36,          1,         11,         11,2,20110113,       2228,   -58.3528,   139.8600,       3996,  1300.1,   2.1060,  34.7315,2,  34.7313,2,    188.2,2,   188.8,2,   77.20,2,    2.19,3,  -999.0,9,  -999.0,9, -999.00,9,   31.40,3,   2.0232,     -999.0,     -999.0,9,     -999.0,     -0.010,2,      0.000,2,     99.565,2
09AR20110104,       SR03,      36,          1,         10,         10,2,20110113,       2228,   -58.3528,   139.8600,       3996,  1550.4,   1.9301,  34.7462,2,  34.7456,2,    194.7,2,   194.2,2,   84.20,2,    2.10,3,  -999.0,9,  -999.0,9, -999.00,9,   30.13,2,   1.8303,     -999.0,     -999.0,9,     -999.0,     -0.016,2,      0.000,2,     99.575,2
09AR20110104,       SR03,      36,          1,          9,          9,2,20110113,       2228,   -58.3528,   139.8600,       3996,  1800.3,   1.7277,  34.7479,2,  34.7469,2,    198.7,2,   198.2,2,   90.00,2,    2.12,3,  -999.0,9,  -999.0,9, -999.00,9,   30.13,2,   1.6111,     -999.0,     -999.0,9,     -999.0,     -0.015,2,      0.000,2,     99.588,2
09AR20110104,       SR03,      36,          1,          8,          8,2,20110113,       2228,   -58.3528,   139.8600,       3996,  2099.2,   1.4309,  34.7393,2,  34.7387,2,    202.1,2,   201.8,2,   98.50,2,    2.15,3,  -999.0,9,  -999.0,9, -999.00,9,   30.47,2,   1.2947,     -999.0,     -999.0,9,     -999.0,     -0.012,2,      0.000,2,     99.608,2
09AR20110104,       SR03,      36,          1,          7,          7,2,20110113,       2228,   -58.3528,   139.8600,       3996,  2399.2,   1.1765,  34.7274,2,  34.7274,2,    205.0,2,   204.8,2,  106.30,2,    2.19,3,  2254.4,2,  2357.0,2, -999.00,9,   30.85,2,   1.0199,     -999.0,     -999.0,9,     -999.0,     -0.018,2,      0.000,2,     99.630,2
09AR20110104,       SR03,      36,          1,          6,          6,2,20110113,       2228,   -58.3528,   139.8600,       3996,  2699.7,   0.9670,  34.7168,2,  34.7160,2,    207.8,2,   207.6,2,  112.70,2,    2.21,3,  -999.0,9,  -999.0,9, -999.00,9,   31.22,2,   0.7886,     -999.0,     -999.0,9,     -999.0,     -0.017,2,      0.000,2,     99.643,2
09AR20110104,       SR03,      36,          1,          5,          5,2,20110113,       2228,   -58.3528,   139.8600,       3996,  3049.2,   0.6957,  34.7031,2,  34.7024,2,    212.4,2,   212.4,2,  120.10,2,    2.24,3,  -999.0,9,  -999.0,9, -999.00,9,   31.58,2,   0.4921,     -999.0,     -999.0,9,     -999.0,     -0.019,2,      0.000,2,     99.645,2
09AR20110104,       SR03,      36,          1,          4,          4,2,20110113,       2228,   -58.3528,   139.8600,       3996,  3399.5,   0.4772,  34.6926,2,  34.6916,2,    217.4,2,   217.3,2,  125.80,2,    2.26,3,  -999.0,9,  -999.0,9, -999.00,9,   31.77,2,   0.2464,     -999.0,     -999.0,9,     -999.0,     -0.021,2,      0.000,2,     99.639,2
09AR20110104,       SR03,      36,          1,          3,          3,2,20110113,       2228,   -58.3528,   139.8600,       3996,  3700.9,   0.3479,  34.6867,2,  34.6862,2,    221.1,2,   220.5,2,  131.20,2,    2.27,3,  -999.0,9,  -999.0,9, -999.00,9,   31.86,2,   0.0916,     -999.0,     -999.0,9,     -999.0,     -0.024,2,      0.000,2,     99.624,2
09AR20110104,       SR03,      36,          1,          2,        102,2,20110113,       2228,   -58.3528,   139.8600,       3996,  3951.0,   0.2498,  34.6818,2,  34.6793,2,    224.3,2,   223.6,2,  134.20,2,    2.28,3,  -999.0,9,  -999.0,9, -999.00,9,   31.84,2,  -0.0286,     -999.0,     -999.0,9,     -999.0,     -0.021,2,      0.000,2,     99.571,2
09AR20110104,       SR03,      36,          1,          1,          1,2,20110113,       2228,   -58.3528,   139.8600,       3996,  4055.2,   0.2356,  34.6808,2,  34.6789,2,    225.4,2,   224.2,2,  134.00,2,    2.28,3,  -999.0,9,  -999.0,9, -999.00,9,   31.74,2,  -0.0530,     -999.0,     -999.0,9,     -999.0,     -0.022,2,      0.000,2,     99.545,2
09AR20110104,       SR03,      37,          1,         24,         24,2,20110114,       0721,   -59.0967,   139.8580,       3929,    10.2,   2.6561,  33.8660,2,  33.8676,2,    335.9,2,   335.8,2,    7.50,2,    1.62,2,  2143.1,6,  2282.5,6, -999.00,9,   25.48,2,   2.6555,     -999.0,     -999.0,9,     -999.0,      1.866,2,     15.459,2,     94.948,2
09AR20110104,       SR03,      37,          1,         23,         23,2,20110114,       0721,   -59.0967,   139.8580,       3929,    39.7,   2.5711,  33.8691,2,  33.8722,2,    335.9,2,   336.0,2,    7.60,2,    1.63,2,  2144.5,2,  2282.1,2, -999.00,9,   25.36,2,   2.5689,     -999.0,     -999.0,9,     -999.0,      2.727,2,      2.169,2,     93.936,2
09AR20110104,       SR03,      37,          1,         22,         22,2,20110114,       0721,   -59.0967,   139.8580,       3929,    80.5,   1.2785,  33.8985,2,  33.8994,2,    330.2,2,   339.4,2,   15.10,2,    1.90,2,  2156.5,2,  2280.6,2, -999.00,9,   26.51,2,   1.2749,     -999.0,     -999.0,9,     -999.0,      2.594,2,      0.095,2,     95.259,2
09AR20110104,       SR03,      37,          1,         21,         21,2,20110114,       0721,   -59.0967,   139.8580,       3929,   149.3,   0.5938,  33.9796,2,  33.9883,2,    315.1,2,   312.0,2,   29.40,2,    2.08,2,  2178.4,2,  2286.1,2, -999.00,9,   29.49,2,   0.5878,     -999.0,     -999.0,9,     -999.0,      0.112,2,      0.000,2,     99.192,2
09AR20110104,       SR03,      37,          1,         20,         20,2,20110114,       0721,   -59.0967,   139.8580,       3929,   249.3,   2.1316,  34.3576,2,  34.3590,2,    201.6,2,   199.8,2,   57.50,2,    2.37,2,  2237.7,2,  2311.3,2, -999.00,9,   34.40,2,   2.1180,     -999.0,     -999.0,9,     -999.0,     -0.004,2,      0.000,2,     99.286,2
09AR20110104,       SR03,      37,          1,         19,         19,2,20110114,       0721,   -59.0967,   139.8580,       3929,   375.5,   2.2608,  34.4807,2,  34.4823,2,    178.3,2,   178.5,2,   67.00,2,    2.40,2,  2251.4,2,  2323.4,2, -999.00,9,   34.70,2,   2.2394,     -999.0,     -999.0,9,     -999.0,     -0.008,2,      0.000,2,     99.401,2
09AR20110104,       SR03,      37,          1,         18,         18,2,20110114,       0721,   -59.0967,   139.8580,       3929,   501.4,   2.2979,  34.5686,2,  34.5704,2,    173.2,2,   172.7,2,   71.90,2,    2.35,2,  2253.0,2,  -999.0,9, -999.00,9,   34.00,2,   2.2686,     -999.0,     -999.0,9,     -999.0,     -0.007,2,      0.000,2,     99.474,2
09AR20110104,       SR03,      37,          1,         17,         17,2,20110114,       0721,   -59.0967,   139.8580,       3929,   600.6,   2.3140,  34.6188,2,  34.6193,2,    173.8,2,   174.1,2,   73.40,2,    2.30,2,  2254.4,2,  2334.9,2, -999.00,9,   33.14,2,   2.2783,     -999.0,     -999.0,9,     -999.0,     -0.009,2,      0.000,2,     99.507,2
09AR20110104,       SR03,      37,          1,         16,         16,2,20110114,       0721,   -59.0967,   139.8580,       3929,   700.0,   2.2605,  34.6516,2,  34.6526,2,    175.4,2,   175.8,2,   75.20,2,    2.27,2,  2253.6,2,  2337.6,2, -999.00,9,   32.63,2,   2.2186,     -999.0,     -999.0,9,     -999.0,     -0.011,2,      0.000,2,     99.503,2
09AR20110104,       SR03,      37,          1,         15,         15,2,20110114,       0721,   -59.0967,   139.8580,       3929,   799.7,   2.2019,  34.6815,2,  34.6823,2,    178.3,2,   178.8,2,   76.90,2,    2.23,2,  2251.3,2,  2337.8,6, -999.00,9,   32.04,2,   2.1537,     -999.0,     -999.0,9,     -999.0,     -0.009,2,      0.000,2,     99.540,2
09AR20110104,       SR03,      37,          1,         14,         14,2,20110114,       0721,   -59.0967,   139.8580,       3929,   899.0,   2.1443,  34.7026,2,  34.7041,2,    181.5,2,   182.4,2,   78.20,2,    2.18,2,  2252.0,2,  2340.6,2, -999.00,9,   31.50,2,   2.0897,     -999.0,     -999.0,9,     -999.0,     -0.009,2,      0.000,2,     99.567,2
09AR20110104,       SR03,      37,          1,         13,         13,2,20110114,       0721,   -59.0967,   139.8580,       3929,  1099.4,   2.0499,  34.7316,2,  34.7335,2,    188.9,2,  -999.0,9,   80.20,2,    2.12,2,  2248.6,2,  2344.8,2, -999.00,9,   30.59,2,   1.9821,     -999.0,     -999.0,9,     -999.0,     -0.013,2,      0.000,2,     99.600,2
09AR20110104,       SR03,      37,          1,         12,         12,2,20110114,       0721,   -59.0967,   139.8580,       3929,  1299.5,   1.9209,  34.7442,2,  34.7449,2,    193.8,2,   193.7,2,   83.50,2,    2.10,2,  2247.2,6,  2346.1,6, -999.00,9,   30.25,2,   1.8400,     -999.0,     -999.0,9,     -999.0,     -0.015,2,      0.000,2,     99.622,2
09AR20110104,       SR03,      37,          1,         11,         11,2,20110114,       0721,   -59.0967,   139.8580,       3929,  1500.3,   1.7728,  34.7485,2,  34.7492,2,    197.6,2,   197.4,2,   87.40,2,    2.09,2,  2248.0,2,  2348.9,2, -999.00,9,   30.09,2,   1.6787,     -999.0,     -999.0,9,     -999.0,     -0.013,2,      0.000,2,     99.629,2
09AR20110104,       SR03,      37,          1,         10,         10,2,20110114,       0721,   -59.0967,   139.8580,       3929,  1700.2,   1.5801,  34.7451,2,  34.7458,2,    200.2,2,   199.8,2,   92.80,2,    2.11,2,  2248.7,2,  2348.9,2, -999.00,9,   30.24,2,   1.4733,     -999.0,     -999.0,9,     -999.0,     -0.013,2,      0.000,2,     99.658,2
09AR20110104,       SR03,      37,          1,          9,          9,2,20110114,       0721,   -59.0967,   139.8580,       3929,  2000.1,   1.3426,  34.7362,2,  34.7361,2,    202.9,2,   202.7,2,  100.10,2,    2.13,2,  2255.1,2,  2354.9,2, -999.00,9,   30.61,2,   1.2158,     -999.0,     -999.0,9,     -999.0,     -0.017,2,      0.000,2,     99.663,2
09AR20110104,       SR03,      37,          1,          8,          8,2,20110114,       0721,   -59.0967,   139.8580,       3929,  2298.3,   1.0825,  34.7234,2,  34.7243,2,    205.7,2,   205.6,2,  107.40,2,    2.17,2,  2257.4,2,  2357.6,2, -999.00,9,   31.07,2,   0.9359,     -999.0,     -999.0,9,     -999.0,     -0.016,2,      0.000,2,     99.674,2
09AR20110104,       SR03,      37,          1,          7,          7,2,20110114,       0721,   -59.0967,   139.8580,       3929,  2601.4,   0.8630,  34.7116,2,  34.7123,2,    208.6,2,   208.6,2,  113.40,2,    2.20,2,  2257.0,2,  2355.8,2, -999.00,9,   31.41,2,   0.6952,     -999.0,     -999.0,9,     -999.0,     -0.020,2,      0.000,2,     99.698,2
09AR20110104,       SR03,      37,          1,          6,          6,2,20110114,       0721,   -59.0967,   139.8580,       3929,  2850.0,   0.6753,  34.7016,2,  34.7075,4,    211.6,2,   211.6,2,  117.90,2,    2.22,2,  2259.0,2,  2356.0,6, -999.00,9,   31.68,2,   0.4899,     -999.0,     -999.0,9,     -999.0,     -0.021,2,      0.000,2,     99.700,2
09AR20110104,       SR03,      37,          1,          5,          5,2,20110114,       0721,   -59.0967,   139.8580,       3929,  3100.0,   0.5240,  34.6945,2,  34.6947,2,    215.2,2,   215.2,2,  121.70,2,    2.24,2,  2260.0,2,  2353.9,2, -999.00,9,   31.83,2,   0.3198,     -999.0,     -999.0,9,     -999.0,     -0.021,2,      0.000,2,     99.691,2
09AR20110104,       SR03,      37,          1,          4,          4,2,20110114,       0721,   -59.0967,   139.8580,       3929,  3349.7,   0.3961,  34.6891,2,  34.6874,2,    218.8,2,   218.4,2,  125.20,2,    2.24,2,  2260.2,2,  2356.5,2, -999.00,9,   31.93,2,   0.1720,     -999.0,     -999.0,9,     -999.0,     -0.021,2,      0.000,2,     99.684,2
09AR20110104,       SR03,      37,          1,          3,          3,2,20110114,       0721,   -59.0967,   139.8580,       3929,  3598.8,   0.3025,  34.6848,2,  34.6835,2,    221.5,2,   221.5,2,  128.10,2,    2.25,2,  2259.1,2,  2356.1,2, -999.00,9,   31.95,2,   0.0573,     -999.0,     -999.0,9,     -999.0,     -0.024,2,      0.000,2,     99.682,2
09AR20110104,       SR03,      37,          1,          2,        102,2,20110114,       0721,   -59.0967,   139.8580,       3929,  3799.6,   0.2478,  34.6823,2,  34.6813,2,    223.7,2,   223.2,2,  130.20,2,    2.24,2,  -999.0,9,  -999.0,9, -999.00,9,   31.99,2,  -0.0155,     -999.0,     -999.0,9,     -999.0,     -0.021,2,      0.000,2,     99.673,2
09AR20110104,       SR03,      37,          1,          1,          1,2,20110114,       0721,   -59.0967,   139.8580,       3929,  3987.7,   0.1783,  34.6784,2,  34.6775,2,    226.7,2,   225.7,2,  132.90,2,    2.25,2,  2260.0,6,  2357.1,6, -999.00,9,   32.01,2,  -0.1018,     -999.0,     -999.0,9,     -999.0,     -0.021,2,      0.000,2,     99.630,2