BOTTLE,20230419CCHSIOENA
EXPOCODE,SECT_ID,STNNBR,CASTNO,SAMPNO,BTLNBR,BTLNBR_FLAG_W,DATE,TIME,LATITUDE,LONGITUDE,DEPTH,CTDPRS,CTDTMP,CTDSAL,CTDSAL_FLAG_W,SALNTY,SALNTY_FLAG_W,CTDOXY,CTDOXY_FLAG_W,OXYGEN,OXYGEN_FLAG_W,SILCAT,SILCAT_FLAG_W,PHSPHT,PHSPHT_FLAG_W,TCARBN,TCARBN_FLAG_W,ALKALI,ALKALI_FLAG_W,DELO18,DELO18_FLAG_W,NO2+NO3,NO2+NO3_FLAG_W,THETA,O18ERR,DELD,DELD_FLAG_W,DELDERR,CTDFLUOR,CTDFLUOR_FLAG_W,PAR,PAR_FLAG_W,CTDXMISS,CTDXMISS_FLAG_W
,,,,,,,,,,,METERS,DBAR,ITS-90,PSS-78,,PSS-78,,UMOL/KG,,UMOL/KG,,UMOL/KG,,UMOL/KG,,UMOL/KG,,UMOL/KG,,/MILLE,,UMOL/KG,,DEG C,/MILLE,/MILLE,,/MILLE,MG/M^3,,UMOL/M^2/SEC,,%TRANS,
09AR20110104,       SR03,      18,          1,         24,         24,2,20110109,       0821,   -50.1567,   143.6820,       3595,     8.3,   8.9702,  34.2369,2,  34.2365,2,    291.4,2,   290.5,2,    2.60,2,    1.07,2,  2100.1,6,  2279.9,6, -999.00,9,   15.57,2,   8.9693,     -999.0,     -999.0,9,     -999.0,      1.270,2,      0.002,2,     95.941,2
09AR20110104,       SR03,      18,          1,         23,         23,2,20110109,       0821,   -50.1567,   143.6820,       3595,    39.4,   8.7458,  34.2414,2,  34.2414,2,    290.8,2,   291.3,2,    2.50,2,    1.06,2,  2100.5,2,  2282.0,2, -999.00,9,   15.28,2,   8.7417,     -999.0,     -999.0,9,     -999.0,      2.079,2,      0.000,2,     95.280,2
09AR20110104,       SR03,      18,          1,         22,         22,2,20110109,       0821,   -50.1567,   143.6820,       3595,    64.0,   8.3141,  34.2832,2,  34.2940,2,    287.9,2,   288.6,2,    3.30,2,    1.11,2,  2108.5,2,  2284.5,2, -999.00,9,   15.63,2,   8.3076,     -999.0,     -999.0,9,     -999.0,      1.949,2,      0.000,2,     96.504,2
09AR20110104,       SR03,      18,          1,         21,         21,2,20110109,       0821,   -50.1567,   143.6820,       3595,   100.3,   8.2352,  34.4664,2,  34.4669,2,    275.9,2,   277.8,2,    4.90,2,    1.15,2,  2122.5,2,  2287.6,2, -999.00,9,   16.58,2,   8.2250,     -999.0,     -999.0,9,     -999.0,      0.374,2,      0.000,2,     98.793,2
09AR20110104,       SR03,      18,          1,         20,         20,2,20110109,       0821,   -50.1567,   143.6820,       3595,   148.8,   8.0358,  34.4487,2,  34.4486,2,    272.8,2,   273.2,2,    5.20,2,    1.20,2,  2125.1,2,  2286.7,2, -999.00,9,   17.12,2,   8.0209,     -999.0,     -999.0,9,     -999.0,      0.050,2,      0.000,2,     99.232,2
09AR20110104,       SR03,      18,          1,         19,         19,2,20110109,       0821,   -50.1567,   143.6820,       3595,   199.6,   7.4834,  34.3680,2,  34.3695,2,    274.7,2,   274.6,2,    6.00,2,    1.27,2,  2126.1,2,  2280.4,2, -999.00,9,   18.46,2,   7.4642,     -999.0,     -999.0,9,     -999.0,     -0.006,2,      0.000,2,     99.328,2
09AR20110104,       SR03,      18,          1,         18,         18,2,20110109,       0821,   -50.1567,   143.6820,       3595,   301.0,   6.6499,  34.2798,2,  34.2792,2,    271.6,2,   273.3,2,    7.50,2,    1.44,2,  2134.2,2,  2284.0,2, -999.00,9,   20.62,2,   6.6226,     -999.0,     -999.0,9,     -999.0,     -0.015,2,      0.000,2,     99.428,2
09AR20110104,       SR03,      18,          1,         17,         17,2,20110109,       0821,   -50.1567,   143.6820,       3595,   398.5,   6.4902,  34.3360,2,  34.3363,2,    241.1,2,   239.3,2,   12.30,2,    1.60,2,  2154.0,2,  2287.0,6, -999.00,9,   23.57,2,   6.4543,     -999.0,     -999.0,9,     -999.0,     -0.013,2,      0.000,2,     99.462,2
09AR20110104,       SR03,      18,          1,         16,         16,2,20110109,       0821,   -50.1567,   143.6820,       3595,   500.0,   5.7598,  34.3167,2,  34.3184,2,    224.3,2,   227.2,2,   16.90,2,    1.78,2,  2170.0,2,  2286.9,2, -999.00,9,   26.10,2,   5.7172,     -999.0,     -999.0,9,     -999.0,     -0.011,2,      0.000,2,     99.536,2
09AR20110104,       SR03,      18,          1,         15,         15,2,20110109,       0821,   -50.1567,   143.6820,       3595,   699.3,   4.2137,  34.2826,2,  34.2839,2,    219.6,2,   221.5,2,   28.20,2,    2.03,2,  -999.0,9,  -999.0,9, -999.00,9,   29.77,2,   4.1615,     -999.0,     -999.0,9,     -999.0,     -0.014,2,      0.000,2,     99.707,2
09AR20110104,       SR03,      18,          1,         14,         14,2,20110109,       0821,   -50.1567,   143.6820,       3595,   900.8,   3.6852,  34.3864,2,  34.3843,2,    195.0,2,   192.8,2,   46.20,2,    2.22,2,  2218.9,2,  2311.8,2, -999.00,9,   32.17,2,   3.6201,     -999.0,     -999.0,9,     -999.0,     -0.010,2,      0.000,2,     99.755,2
09AR20110104,       SR03,      18,          1,         13,         13,2,20110109,       0821,   -50.1567,   143.6820,       3595,  1000.6,   3.4329,  34.4316,2,  34.4322,2,    182.6,2,   185.0,2,   54.80,2,    2.30,2,  -999.0,9,  -999.0,9, -999.00,9,   32.93,2,   3.3617,     -999.0,     -999.0,9,     -999.0,     -0.009,2,      0.000,2,     99.749,2
09AR20110104,       SR03,      18,          1,         12,         12,2,20110109,       0821,   -50.1567,   143.6820,       3595,  1201.8,   2.8059,  34.4866,2,  34.4871,2,    180.9,2,   178.9,2,   62.20,2,    2.32,2,  -999.0,9,  -999.0,9, -999.00,9,   33.51,2,   2.7242,     -999.0,     -999.0,9,     -999.0,     -0.006,2,      0.000,2,     99.814,2
09AR20110104,       SR03,      18,          1,         11,         11,2,20110109,       0821,   -50.1567,   143.6820,       3595,  1399.5,   2.5555,  34.5656,2,  34.5655,2,    175.0,2,   175.8,2,   70.20,2,    2.31,2,  2250.3,2,  2333.7,2, -999.00,9,   33.39,2,   2.4608,     -999.0,     -999.0,9,     -999.0,     -0.005,2,      0.000,2,     99.816,2
09AR20110104,       SR03,      18,          1,         10,         10,2,20110109,       0821,   -50.1567,   143.6820,       3595,  1600.1,   2.4755,  34.6513,2,  34.6519,2,    175.0,2,   176.0,2,   75.60,2,    2.24,2,  -999.0,9,  -999.0,9, -999.00,9,   32.45,2,   2.3654,     -999.0,     -999.0,9,     -999.0,     -0.001,2,      0.000,2,     99.835,2
09AR20110104,       SR03,      18,          1,          9,          9,2,20110109,       0821,   -50.1567,   143.6820,       3595,  1800.8,   2.3567,  34.6995,2,  34.6994,2,    178.4,2,   181.1,2,   78.70,2,    2.18,2,  -999.0,9,  -999.0,9, -999.00,9,   31.59,2,   2.2315,     -999.0,     -999.0,9,     -999.0,     -0.007,2,      0.000,2,     99.847,2
09AR20110104,       SR03,      18,          1,          8,          8,2,20110109,       0821,   -50.1567,   143.6820,       3595,  1999.9,   2.2265,  34.7269,2,-999.0000,9,    182.6,2,   185.2,2,   82.70,2,    2.14,2,  -999.0,9,  -999.0,9, -999.00,9,   31.00,2,   2.0863,     -999.0,     -999.0,9,     -999.0,     -0.009,2,      0.000,2,     99.855,2
09AR20110104,       SR03,      18,          1,          7,          7,2,20110109,       0821,   -50.1567,   143.6820,       3595,  2202.3,   2.0893,  34.7415,2,  34.7413,2,    188.7,2,   193.1,3,   85.90,2,    2.12,2,  2250.8,2,  2352.9,2, -999.00,9,   30.61,2,   1.9337,     -999.0,     -999.0,9,     -999.0,     -0.008,2,      0.000,2,     99.879,2
09AR20110104,       SR03,      18,          1,          6,          6,2,20110109,       0821,   -50.1567,   143.6820,       3595,  2400.6,   1.9148,  34.7472,2,  34.7473,2,    193.1,2,   193.5,2,   90.70,2,    2.10,2,  -999.0,9,  -999.0,9, -999.00,9,   30.45,2,   1.7446,     -999.0,     -999.0,9,     -999.0,     -0.007,2,      0.000,2,     99.878,2
09AR20110104,       SR03,      18,          1,          5,          5,2,20110109,       0821,   -50.1567,   143.6820,       3595,  2599.9,   1.7372,  34.7467,2,  34.7467,2,    197.6,2,   202.4,3,   94.30,2,    2.10,2,  -999.0,9,  -999.0,9, -999.00,9,   30.38,2,   1.5524,     -999.0,     -999.0,9,     -999.0,     -0.011,2,      0.000,2,     99.891,2
09AR20110104,       SR03,      18,          1,          4,          4,2,20110109,       0821,   -50.1567,   143.6820,       3595,  2800.5,   1.4910,  34.7389,2,  34.7391,2,    201.9,2,   200.8,2,  102.40,2,    2.14,2,  -999.0,9,  -999.0,9, -999.00,9,   30.72,2,   1.2927,     -999.0,     -999.0,9,     -999.0,     -0.008,2,      0.000,2,     99.911,2
09AR20110104,       SR03,      18,          1,          3,          3,2,20110109,       0821,   -50.1567,   143.6820,       3595,  3098.8,   1.2178,  34.7271,2,  34.7261,2,    206.3,2,  -999.0,9,  111.20,2,    2.17,2,  -999.0,9,  -999.0,9, -999.00,9,   31.17,2,   0.9976,     -999.0,     -999.0,9,     -999.0,     -0.012,2,      0.000,2,     99.895,2
09AR20110104,       SR03,      18,          1,          2,        102,2,20110109,       0821,   -50.1567,   143.6820,       3595,  3399.1,   1.0763,  34.7198,2,  34.7192,2,    207.6,2,   208.6,3,  116.40,2,    2.19,2,  -999.0,9,  -999.0,9, -999.00,9,   31.43,2,   0.8306,     -999.0,     -999.0,9,     -999.0,     -0.011,2,      0.000,2,     99.817,2
09AR20110104,       SR03,      18,          1,          1,          1,2,20110109,       0821,   -50.1567,   143.6820,       3595,  3579.3,   1.0603,  34.7182,2,  34.7178,2,    207.1,2,   205.5,2,  117.60,2,    2.19,2,  -999.0,9,  -999.0,9, -999.00,9,   31.51,2,   0.7971,     -999.0,     -999.0,9,     -999.0,     -0.013,2,      0.000,2,     99.749,2
09AR20110104,       SR03,      19,          1,         24,         24,2,20110109,       1332,   -50.3903,   143.5380,       3460,     8.1,   6.9397,  34.0077,2,  34.0107,2,    300.5,2,   302.0,2,    3.40,2,    1.39,2,  2115.2,6,  2274.4,6, -999.00,9,   20.38,2,   6.9390,     -999.0,     -999.0,9,     -999.0,      0.748,2,      0.008,2,     97.284,2
09AR20110104,       SR03,      19,          1,         23,         23,2,20110109,       1332,   -50.3903,   143.5380,       3460,    49.2,   6.3970,  34.0025,2,  34.0035,2,    303.0,2,   303.8,2,    3.80,2,    1.41,2,  2117.6,2,  2275.1,2, -999.00,9,   20.73,2,   6.3927,     -999.0,     -999.0,9,     -999.0,      0.885,2,      0.000,2,     97.635,2
09AR20110104,       SR03,      19,          1,         22,         22,2,20110109,       1332,   -50.3903,   143.5380,       3460,   102.1,   5.8568,  34.0272,2,  34.0285,2,    303.6,2,   304.6,2,    5.20,2,    1.48,2,  2123.9,2,  2277.4,2, -999.00,9,   21.17,2,   5.8484,     -999.0,     -999.0,9,     -999.0,      0.718,2,      0.000,2,     98.384,2
09AR20110104,       SR03,      19,          1,         21,         21,2,20110109,       1332,   -50.3903,   143.5380,       3460,   150.1,   5.4096,  34.1099,2,  34.1121,2,    296.3,2,   295.3,2,    8.40,2,    1.57,2,  2134.8,2,  2279.4,6, -999.00,9,   22.16,2,   5.3976,     -999.0,     -999.0,9,     -999.0,      0.265,2,      0.000,2,     99.048,2
09AR20110104,       SR03,      19,          1,         20,         20,2,20110109,       1332,   -50.3903,   143.5380,       3460,   197.9,   4.8260,  34.0431,2,-999.0000,9,    301.0,2,   304.8,2,    8.90,2,    1.60,2,  2137.0,2,  2280.4,2, -999.00,9,   22.65,2,   4.8111,     -999.0,     -999.0,9,     -999.0,      0.291,2,      0.000,2,     99.164,2
09AR20110104,       SR03,      19,          1,         19,         19,2,20110109,       1332,   -50.3903,   143.5380,       3460,   241.4,   5.2588,  34.1366,2,  34.1422,2,    265.4,2,   279.7,2,   10.70,2,    1.61,2,  2144.8,2,  2280.4,2, -999.00,9,   23.40,2,   5.2397,     -999.0,     -999.0,9,     -999.0,      0.027,2,      0.000,2,     99.349,2
09AR20110104,       SR03,      19,          1,         18,         18,2,20110109,       1332,   -50.3903,   143.5380,       3460,   303.6,   4.4947,  34.0689,2,  34.0710,2,    291.1,2,   292.4,2,   11.50,2,    1.67,2,  2145.7,2,  2279.1,2, -999.00,9,   24.49,2,   4.4724,     -999.0,     -999.0,9,     -999.0,      0.005,2,      0.000,2,     99.502,2
09AR20110104,       SR03,      19,          1,         17,         17,2,20110109,       1332,   -50.3903,   143.5380,       3460,   400.0,   4.2301,  34.0860,2,  34.0862,2,    286.4,2,   283.9,2,   13.80,2,    1.74,2,  2153.1,2,  2279.4,2, -999.00,9,   25.49,2,   4.2012,     -999.0,     -999.0,9,     -999.0,     -0.013,2,      0.000,2,     99.549,2
09AR20110104,       SR03,      19,          1,         16,         16,2,20110109,       1332,   -50.3903,   143.5380,       3460,   502.4,   4.5541,  34.2192,2,  34.2198,2,    230.8,2,  -999.0,9,   19.90,2,    1.88,2,  2173.2,2,  2286.0,2, -999.00,9,   27.68,2,   4.5160,     -999.0,     -999.0,9,     -999.0,     -0.013,2,      0.000,2,     99.579,2
09AR20110104,       SR03,      19,          1,         15,         15,2,20110109,       1332,   -50.3903,   143.5380,       3460,   601.1,   3.9716,  34.2191,2,  34.2201,2,    229.6,2,   236.8,2,   25.40,2,    1.98,2,  2183.9,2,  2289.2,2, -999.00,9,   29.24,2,   3.9284,     -999.0,     -999.0,9,     -999.0,     -0.011,2,      0.000,2,     99.614,2
09AR20110104,       SR03,      19,          1,         14,         14,2,20110109,       1332,   -50.3903,   143.5380,       3460,   703.2,   3.7941,  34.2749,2,  34.2761,2,    226.5,2,   220.7,2,   31.80,2,    2.08,2,  2195.4,2,  2296.7,2, -999.00,9,   30.47,2,   3.7439,     -999.0,     -999.0,9,     -999.0,     -0.010,2,      0.000,2,     99.650,2
09AR20110104,       SR03,      19,          1,         13,         13,2,20110109,       1332,   -50.3903,   143.5380,       3460,   800.7,   3.5802,  34.3190,2,-999.0000,9,    211.1,2,  -999.0,9, -999.00,9, -999.00,9,  -999.0,9,  -999.0,9, -999.00,9, -999.00,9,   3.5237,     -999.0,     -999.0,9,     -999.0,     -0.012,2,      0.000,2,     99.700,2
09AR20110104,       SR03,      19,          1,         12,         12,2,20110109,       1332,   -50.3903,   143.5380,       3460,   897.3,   3.5063,  34.3799,2,  34.3808,2,    196.9,2,   193.7,2,   46.80,2,    2.24,2,  2219.9,6,  2313.2,6, -999.00,9,   32.45,2,   3.4427,     -999.0,     -999.0,9,     -999.0,     -0.009,2,      0.000,2,     99.699,2
09AR20110104,       SR03,      19,          1,         11,         11,2,20110109,       1332,   -50.3903,   143.5380,       3460,  1101.4,   2.9056,  34.4455,2,  34.4461,2,    184.4,2,   183.8,2,   58.20,2,    2.32,2,  2237.8,2,  2321.1,2, -999.00,9,   33.64,2,   2.8309,     -999.0,     -999.0,9,     -999.0,     -0.007,2,      0.000,2,     99.752,2
09AR20110104,       SR03,      19,          1,         10,         10,2,20110109,       1332,   -50.3903,   143.5380,       3460,  1302.2,   2.7387,  34.5366,2,  34.5359,2,    175.1,2,   176.4,2,   67.90,2,    2.32,2,  2248.6,2,  2333.5,2, -999.00,9,   33.82,2,   2.6498,     -999.0,     -999.0,9,     -999.0,     -0.005,2,      0.000,2,     99.776,2
09AR20110104,       SR03,      19,          1,          9,          9,2,20110109,       1332,   -50.3903,   143.5380,       3460,  1498.9,   2.4784,  34.6068,2,  34.6065,2,    174.4,2,   174.6,2,   72.70,2,    2.28,2,  2251.3,2,  2334.7,2, -999.00,9,   33.18,2,   2.3766,     -999.0,     -999.0,9,     -999.0,     -0.006,2,      0.000,2,     99.782,2
09AR20110104,       SR03,      19,          1,          8,          8,2,20110109,       1332,   -50.3903,   143.5380,       3460,  1699.0,   2.4261,  34.6740,2,  34.6740,2,    177.6,2,   178.2,2,   76.00,2,    2.19,2,  2252.2,2,  2342.2,2, -999.00,9,   31.86,2,   2.3085,     -999.0,     -999.0,9,     -999.0,     -0.006,2,      0.000,2,     99.792,2
09AR20110104,       SR03,      19,          1,          7,          7,2,20110109,       1332,   -50.3903,   143.5380,       3460,  1899.2,   2.3174,  34.7107,2,  34.7109,2,    182.6,2,   183.9,2,   78.00,2,    2.14,2,  2250.4,2,  2343.3,2, -999.00,9,   30.97,2,   2.1845,     -999.0,     -999.0,9,     -999.0,     -0.004,2,      0.000,2,     99.809,2
09AR20110104,       SR03,      19,          1,          6,          6,2,20110109,       1332,   -50.3903,   143.5380,       3460,  2099.9,   2.1925,  34.7312,2,  34.7313,2,    184.5,2,   185.6,2,   83.80,2,    2.12,2,  2253.3,2,  2349.4,6, -999.00,9,   30.95,2,   2.0442,     -999.0,     -999.0,9,     -999.0,     -0.006,2,      0.000,2,     99.816,2
09AR20110104,       SR03,      19,          1,          5,          5,2,20110109,       1332,   -50.3903,   143.5380,       3460,  2400.6,   1.9575,  34.7460,2,  34.7457,2,    194.3,2,   192.4,2,   89.60,2,    2.10,2,  2252.6,2,  2356.9,2, -999.00,9,   30.58,2,   1.7866,     -999.0,     -999.0,9,     -999.0,     -0.005,2,      0.000,2,     99.820,2
09AR20110104,       SR03,      19,          1,          4,          4,2,20110109,       1332,   -50.3903,   143.5380,       3460,  2748.4,   1.5598,  34.7414,2,  34.7413,2,    201.8,2,   201.1,2,   99.00,2,    2.10,2,  2254.9,2,  2353.9,2, -999.00,9,   30.53,2,   1.3649,     -999.0,     -999.0,9,     -999.0,     -0.012,2,      0.000,2,     99.847,2
09AR20110104,       SR03,      19,          1,          3,          3,2,20110109,       1332,   -50.3903,   143.5380,       3460,  3098.7,   1.2536,  34.7285,2,  34.7285,2,    204.9,2,   204.0,2,  109.20,2,    2.14,2,  2258.6,2,  2360.0,2, -999.00,9,   31.00,2,   1.0326,     -999.0,     -999.0,9,     -999.0,     -0.012,2,      0.000,2,     99.846,2
09AR20110104,       SR03,      19,          1,          2,        102,2,20110109,       1332,   -50.3903,   143.5380,       3460,  3396.6,   1.0667,  34.7193,2,  34.7183,2,    206.8,2,   207.4,2,  115.70,2,    2.16,2,  -999.0,9,  -999.0,9, -999.00,9,   31.34,2,   0.8215,     -999.0,     -999.0,9,     -999.0,     -0.012,2,      0.000,2,     99.751,2
09AR20110104,       SR03,      19,          1,          1,          1,2,20110109,       1332,   -50.3903,   143.5380,       3460,  3511.3,   1.0646,  34.7185,2,  34.7171,2,    206.1,2,   206.0,2,  116.10,2,    2.16,2,  2262.3,6,  2362.3,6, -999.00,9,   31.34,2,   0.8081,     -999.0,     -999.0,9,     -999.0,     -0.011,2,      0.000,2,     99.736,2