BOTTLE,20230419CCHSIOENA
EXPOCODE,SECT_ID,STNNBR,CASTNO,SAMPNO,BTLNBR,BTLNBR_FLAG_W,DATE,TIME,LATITUDE,LONGITUDE,DEPTH,CTDPRS,CTDTMP,CTDSAL,CTDSAL_FLAG_W,SALNTY,SALNTY_FLAG_W,CTDOXY,CTDOXY_FLAG_W,OXYGEN,OXYGEN_FLAG_W,SILCAT,SILCAT_FLAG_W,PHSPHT,PHSPHT_FLAG_W,TCARBN,TCARBN_FLAG_W,ALKALI,ALKALI_FLAG_W,DELO18,DELO18_FLAG_W,NO2+NO3,NO2+NO3_FLAG_W,THETA,O18ERR,DELD,DELD_FLAG_W,DELDERR,CTDFLUOR,CTDFLUOR_FLAG_W,PAR,PAR_FLAG_W,CTDXMISS,CTDXMISS_FLAG_W
,,,,,,,,,,,METERS,DBAR,ITS-90,PSS-78,,PSS-78,,UMOL/KG,,UMOL/KG,,UMOL/KG,,UMOL/KG,,UMOL/KG,,UMOL/KG,,/MILLE,,UMOL/KG,,DEG C,/MILLE,/MILLE,,/MILLE,MG/M^3,,UMOL/M^2/SEC,,%TRANS,
09AR20110104,       SR03,      44,          1,         24,         24,2,20110116,       0307,   -62.8490,   139.8500,       3181,     8.9,   0.9155,  33.8028,2,  33.8075,2,    353.7,2,   354.8,2,   25.60,2,    1.50,2,  2148.3,2,  2285.7,2, -999.00,9,   24.93,2,   0.9151,     -999.0,     -999.0,9,     -999.0,      1.423,2,     24.059,2,     90.007,2
09AR20110104,       SR03,      44,          1,         23,         23,2,20110116,       0307,   -62.8490,   139.8500,       3181,    29.4,   0.8565,  33.8305,2,  33.8386,2,    354.2,2,   353.6,2,   25.90,2,    1.58,2,  2153.8,2,  2286.4,2, -999.00,9,   25.41,2,   0.8553,     -999.0,     -999.0,9,     -999.0,      4.530,2,      8.697,2,     90.145,2
09AR20110104,       SR03,      44,          1,         22,         22,2,20110116,       0307,   -62.8490,   139.8500,       3181,    60.4,  -0.8703,  34.0684,2,  34.0672,2,    328.6,2,   328.8,2,   48.00,2,    2.09,2,  2196.0,2,  2301.0,6, -999.00,9,   29.36,2,  -0.8719,     -999.0,     -999.0,9,     -999.0,      2.009,2,      1.296,2,     96.861,2
09AR20110104,       SR03,      44,          1,         21,         21,2,20110116,       0307,   -62.8490,   139.8500,       3181,    99.4,   1.2197,  34.4947,2,  34.4954,2,    203.1,2,   200.1,2,   72.70,2,    2.35,2,  -999.0,9,  -999.0,9, -999.00,9,   34.19,2,   1.2151,     -999.0,     -999.0,9,     -999.0,      0.200,2,      0.208,2,     98.878,2
09AR20110104,       SR03,      44,          1,         20,         20,2,20110116,       0307,   -62.8490,   139.8500,       3181,   151.2,   1.6358,  34.5918,2,  34.5963,2,    183.3,2,   183.8,2,   77.50,2,    2.31,2,  2256.1,2,  2331.5,2, -999.00,9,   33.40,2,   1.6282,     -999.0,     -999.0,9,     -999.0,      0.028,2,      0.000,2,     99.128,2
09AR20110104,       SR03,      44,          1,         19,         19,2,20110116,       0307,   -62.8490,   139.8500,       3181,   200.0,   1.9380,  34.6436,2,  34.6443,2,    176.0,2,   176.7,2,   79.70,2,    2.29,2,  2259.2,2,  2335.3,2, -999.00,9,   32.99,2,   1.9274,     -999.0,     -999.0,9,     -999.0,      0.010,2,      0.000,2,     99.167,2
09AR20110104,       SR03,      44,          1,         18,         18,2,20110116,       0307,   -62.8490,   139.8500,       3181,   300.3,   1.9137,  34.6817,2,  34.6814,2,    179.9,2,   180.0,2,   81.80,2,    2.22,2,  -999.0,9,  2337.8,2, -999.00,9,   32.21,2,   1.8975,     -999.0,     -999.0,9,     -999.0,      0.000,2,      0.000,2,     99.232,2
09AR20110104,       SR03,      44,          1,         17,         17,2,20110116,       0307,   -62.8490,   139.8500,       3181,   400.3,   1.9149,  34.7103,2,  34.7105,2,    183.2,2,   183.9,2,   82.90,2,    2.17,2,  -999.0,9,  -999.0,9, -999.00,9,   31.46,2,   1.8930,     -999.0,     -999.0,9,     -999.0,     -0.008,2,      0.000,2,     99.357,2
09AR20110104,       SR03,      44,          1,         16,         16,2,20110116,       0307,   -62.8490,   139.8500,       3181,   499.7,   1.8572,  34.7267,2,  34.7268,2,    186.6,2,   187.7,2,   84.90,2,    2.13,2,  -999.0,9,  -999.0,9, -999.00,9,   31.10,2,   1.8296,     -999.0,     -999.0,9,     -999.0,     -0.003,2,      0.000,2,     99.344,2
09AR20110104,       SR03,      44,          1,         15,         15,2,20110116,       0307,   -62.8490,   139.8500,       3181,   600.4,   1.7949,  34.7356,2,  34.7351,2,    189.7,2,   191.1,2,   87.00,2,    2.11,2,  -999.0,9,  -999.0,9, -999.00,9,   30.83,2,   1.7616,     -999.0,     -999.0,9,     -999.0,     -0.009,2,      0.000,2,     99.352,2
09AR20110104,       SR03,      44,          1,         14,         14,2,20110116,       0307,   -62.8490,   139.8500,       3181,   699.9,   1.7227,  34.7389,2,  34.7386,2,    192.5,2,   193.2,2,   88.90,2,    2.11,2,  -999.0,9,  -999.0,9, -999.00,9,   31.20,2,   1.6837,     -999.0,     -999.0,9,     -999.0,     -0.014,2,      0.000,2,     99.417,2
09AR20110104,       SR03,      44,          1,         13,         13,2,20110116,       0307,   -62.8490,   139.8500,       3181,   799.2,   1.6384,  34.7419,2,  34.7414,2,    194.7,2,   195.6,2,   90.80,2,    2.11,2,  -999.0,9,  -999.0,9, -999.00,9,   30.89,2,   1.5937,     -999.0,     -999.0,9,     -999.0,     -0.010,2,      0.000,2,     99.430,2
09AR20110104,       SR03,      44,          1,         12,         12,2,20110116,       0307,   -62.8490,   139.8500,       3181,   999.4,   1.4617,  34.7398,2,  34.7398,2,    199.1,2,   199.1,2,   94.30,2,    2.09,2,  -999.0,9,  -999.0,9, -999.00,9,   30.38,2,   1.4056,     -999.0,     -999.0,9,     -999.0,     -0.013,2,      0.000,2,     99.450,2
09AR20110104,       SR03,      44,          1,         11,         11,2,20110116,       0307,   -62.8490,   139.8500,       3181,  1199.7,   1.2680,  34.7338,2,  34.7333,2,    202.1,2,   202.3,2,  100.00,2,    2.11,2,  2255.3,2,  2355.2,2, -999.00,9,   30.68,2,   1.2005,     -999.0,     -999.0,9,     -999.0,     -0.015,2,      0.000,2,     99.483,2
09AR20110104,       SR03,      44,          1,         10,         10,2,20110116,       0307,   -62.8490,   139.8500,       3181,  1399.4,   1.1076,  34.7269,2,  34.7264,2,    204.5,2,   204.1,2,  105.30,2,    2.14,2,  -999.0,9,  -999.0,9, -999.00,9,   31.02,2,   1.0283,     -999.0,     -999.0,9,     -999.0,     -0.016,2,      0.000,2,     99.494,2
09AR20110104,       SR03,      44,          1,          9,          9,2,20110116,       0307,   -62.8490,   139.8500,       3181,  1601.2,   0.9428,  34.7182,2,  34.7178,2,    207.1,2,   206.3,2,  108.30,2,    2.17,2,  -999.0,9,  -999.0,9, -999.00,9,   31.56,2,   0.8515,     -999.0,     -999.0,9,     -999.0,     -0.020,2,      0.000,2,     99.531,2
09AR20110104,       SR03,      44,          1,          8,          8,2,20110116,       0307,   -62.8490,   139.8500,       3181,  1800.2,   0.7692,  34.7090,2,  34.7079,2,    209.8,2,   208.6,2,  113.10,2,    2.18,2,  -999.0,9,  -999.0,9, -999.00,9,   31.11,2,   0.6661,     -999.0,     -999.0,9,     -999.0,     -0.014,2,      0.000,2,     99.526,2
09AR20110104,       SR03,      44,          1,          7,          7,2,20110116,       0307,   -62.8490,   139.8500,       3181,  2100.2,   0.5502,  34.6967,2,  34.6958,2,    213.2,2,   212.7,2,  116.90,2,    2.20,2,  -999.0,9,  -999.0,9, -999.00,9,   31.31,2,   0.4283,     -999.0,     -999.0,9,     -999.0,     -0.018,2,      0.000,2,     99.530,2
09AR20110104,       SR03,      44,          1,          6,          6,2,20110116,       0307,   -62.8490,   139.8500,       3181,  2302.0,   0.4244,  34.6917,2,  34.6914,2,    215.4,2,   215.7,2,  119.90,2,    2.21,2,  2264.4,2,  2354.8,2, -999.00,9,   31.35,2,   0.2893,     -999.0,     -999.0,9,     -999.0,     -0.019,2,      0.000,2,     99.537,2
09AR20110104,       SR03,      44,          1,          5,          5,2,20110116,       0307,   -62.8490,   139.8500,       3181,  2500.9,   0.3254,  34.6878,2,  34.6873,2,    218.6,2,   218.2,2,  122.00,2,    2.22,2,  -999.0,9,  -999.0,9, -999.00,9,   31.42,2,   0.1764,     -999.0,     -999.0,9,     -999.0,     -0.020,2,      0.000,2,     99.533,2
09AR20110104,       SR03,      44,          1,          4,          4,2,20110116,       0307,   -62.8490,   139.8500,       3181,  2698.8,   0.2271,  34.6836,2,  34.6824,2,    221.4,2,   221.3,2,  122.80,2,    2.21,2,  2263.5,2,  2358.5,2, -999.00,9,   31.43,2,   0.0640,     -999.0,     -999.0,9,     -999.0,     -0.023,2,      0.000,2,     99.515,2
09AR20110104,       SR03,      44,          1,          3,          3,2,20110116,       0307,   -62.8490,   139.8500,       3181,  2897.8,   0.1396,  34.6797,2,  34.6781,2,    224.8,2,   224.7,2,  123.90,2,    2.22,2,  -999.0,9,  -999.0,9, -999.00,9,   31.46,2,  -0.0382,     -999.0,     -999.0,9,     -999.0,     -0.022,2,      0.000,2,     99.530,2
09AR20110104,       SR03,      44,          1,          2,        102,2,20110116,       0307,   -62.8490,   139.8500,       3181,  3050.9,   0.0533,  34.6747,2,  34.6735,2,    228.0,2,   227.8,2,  121.30,2,    2.21,2,  -999.0,9,  -999.0,9, -999.00,9,   31.39,2,  -0.1357,     -999.0,     -999.0,9,     -999.0,     -0.021,2,      0.000,2,     99.518,2
09AR20110104,       SR03,      44,          1,          1,          1,2,20110116,       0307,   -62.8490,   139.8500,       3181,  3220.4,  -0.0851,  34.6663,2,  34.6647,2,    233.6,2,   233.2,2,  118.60,2,    2.20,2,  2259.9,6,  2353.7,6, -999.00,9,   31.22,2,  -0.2856,     -999.0,     -999.0,9,     -999.0,     -0.017,2,      0.000,2,     99.063,2
09AR20110104,       SR03,      45,          1,         24,         24,2,20110116,       0814,   -63.3455,   139.8300,       3773,     9.0,   1.1544,  33.8400,2,  33.8392,2,    351.0,2,   350.3,2,   25.40,2,    1.56,2,  2149.4,6,  2288.2,6, -999.00,9,   25.18,2,   1.1540,     -999.0,     -999.0,9,     -999.0,      2.401,2,     14.609,2,     92.291,2
09AR20110104,       SR03,      45,          1,         23,         23,2,20110116,       0814,   -63.3455,   139.8300,       3773,    29.7,   0.9430,  33.8397,2,  33.8427,2,    350.6,2,   353.3,2,   24.20,2,    1.52,2,  2147.3,2,  2289.4,2, -999.00,9,   24.96,2,   0.9418,     -999.0,     -999.0,9,     -999.0,      5.018,2,      2.712,2,     89.771,2
09AR20110104,       SR03,      45,          1,         22,         22,2,20110116,       0814,   -63.3455,   139.8300,       3773,    59.7,  -0.7647,  34.0565,2,  34.0593,2,    321.1,2,   319.8,2,   47.40,2,    2.14,2,  2196.6,2,  2300.8,6, -999.00,9,   29.52,2,  -0.7664,     -999.0,     -999.0,9,     -999.0,      1.314,2,      0.132,2,     97.114,2
09AR20110104,       SR03,      45,          1,         21,         21,2,20110116,       0814,   -63.3455,   139.8300,       3773,    99.3,   1.6314,  34.5439,2,  34.5516,2,    196.0,2,   184.1,2,   74.30,2,    2.36,2,  2254.5,2,  2328.0,2, -999.00,9,   34.58,2,   1.6265,     -999.0,     -999.0,9,     -999.0,      0.079,2,      0.000,2,     98.902,2
09AR20110104,       SR03,      45,          1,         20,         20,2,20110116,       0814,   -63.3455,   139.8300,       3773,   149.6,   1.7832,  34.5992,2,  34.5960,2,    178.4,2,   182.0,2,   76.80,2,    2.33,2,  2257.2,2,  2336.8,2, -999.00,9,   34.30,2,   1.7755,     -999.0,     -999.0,9,     -999.0,      0.021,2,      0.000,2,     99.014,2
09AR20110104,       SR03,      45,          1,         19,         19,2,20110116,       0814,   -63.3455,   139.8300,       3773,   201.8,   1.8010,  34.6298,2,  34.6242,2,    180.4,2,   181.8,2,   78.30,2,    2.31,2,  2256.8,2,  2340.2,2, -999.00,9, -999.00,9,   1.7905,     -999.0,     -999.0,9,     -999.0,      0.006,2,      0.000,2,     99.078,2
09AR20110104,       SR03,      45,          1,         18,         18,2,20110116,       0814,   -63.3455,   139.8300,       3773,   299.7,   1.8924,  34.6769,2,  34.6749,2,    182.7,2,   181.1,2,   80.80,2,    2.25,2,  2255.7,2,  2340.8,2, -999.00,9, -999.00,9,   1.8763,     -999.0,     -999.0,9,     -999.0,     -0.004,2,      0.000,2,     99.187,2
09AR20110104,       SR03,      45,          1,         17,         17,2,20110116,       0814,   -63.3455,   139.8300,       3773,   399.6,   1.8709,  34.7045,2,  34.7044,2,    185.7,2,   184.3,2,   82.20,2,    2.19,2,  2253.0,2,  2344.0,2, -999.00,9,   32.22,2,   1.8492,     -999.0,     -999.0,9,     -999.0,     -0.002,2,      0.000,2,     99.319,2
09AR20110104,       SR03,      45,          1,         16,         16,2,20110116,       0814,   -63.3455,   139.8300,       3773,   500.9,   1.8512,  34.7220,2,  34.7219,2,    188.3,2,   186.9,2,   83.70,2,    2.17,2,  2252.6,2,  2345.5,2, -999.00,9,   31.29,2,   1.8236,     -999.0,     -999.0,9,     -999.0,     -0.005,2,      0.000,2,     99.347,2
09AR20110104,       SR03,      45,          1,         15,         15,2,20110116,       0814,   -63.3455,   139.8300,       3773,   599.4,   1.7699,  34.7300,2,  34.7290,2,    191.3,2,   190.3,2,   85.50,2,    2.14,2,  2250.9,2,  2344.2,2, -999.00,9,   31.19,2,   1.7368,     -999.0,     -999.0,9,     -999.0,     -0.009,2,      0.000,2,     99.332,2
09AR20110104,       SR03,      45,          1,         14,         14,2,20110116,       0814,   -63.3455,   139.8300,       3773,   750.2,   1.7075,  34.7426,2,  34.7416,2,    195.0,2,   194.1,2,   88.00,2,    2.12,2,  2250.7,2,  2349.4,2, -999.00,9,   30.82,2,   1.6655,     -999.0,     -999.0,9,     -999.0,     -0.011,2,      0.000,2,     99.385,2
09AR20110104,       SR03,      45,          1,         13,         13,2,20110116,       0814,   -63.3455,   139.8300,       3773,   998.9,   1.4731,  34.7410,2,  34.7406,2,    199.2,2,   198.9,2,   94.20,2,    2.13,2,  2251.6,2,  2352.2,2, -999.00,9,   30.91,2,   1.4169,     -999.0,     -999.0,9,     -999.0,     -0.014,2,      0.000,2,     99.420,2
09AR20110104,       SR03,      45,          1,         12,         12,2,20110116,       0814,   -63.3455,   139.8300,       3773,  1254.0,   1.2541,  34.7338,2,  34.7329,2,    202.2,2,   202.2,2,  100.90,2,    2.16,2,  2254.3,6,  2355.5,6, -999.00,9,   31.15,2,   1.1831,     -999.0,     -999.0,9,     -999.0,     -0.019,2,      0.000,2,     99.481,2
09AR20110104,       SR03,      45,          1,         11,         11,2,20110116,       0814,   -63.3455,   139.8300,       3773,  1501.7,   1.0456,  34.7240,2,  34.7231,2,    204.0,2,   204.8,2,  106.90,2,    2.18,2,  2257.3,2,  2355.9,6, -999.00,9,   31.59,2,   0.9600,     -999.0,     -999.0,9,     -999.0,     -0.015,2,      0.000,2,     99.463,2
09AR20110104,       SR03,      45,          1,         10,         10,2,20110116,       0814,   -63.3455,   139.8300,       3773,  1748.6,   0.8645,  34.7144,2,  34.7144,2,    206.2,2,   207.2,2,  112.10,2,    2.20,2,  2259.3,2,  2360.3,2, -999.00,9, -999.00,9,   0.7638,     -999.0,     -999.0,9,     -999.0,     -0.014,2,      0.000,2,     99.465,2
09AR20110104,       SR03,      45,          1,          9,          9,2,20110116,       0814,   -63.3455,   139.8300,       3773,  1997.8,   0.6811,  34.7044,2,  34.7038,2,    209.5,2,   209.8,2,  117.10,2, -999.00,9,  2261.5,2,  2358.3,2, -999.00,9, -999.00,9,   0.5648,     -999.0,     -999.0,9,     -999.0,     -0.017,2,      0.000,2,     99.478,2
09AR20110104,       SR03,      45,          1,          8,          8,2,20110116,       0814,   -63.3455,   139.8300,       3773,  2199.2,   0.5336,  34.6970,2,  34.6960,2,    213.0,2,   212.8,2,  120.50,2,    2.24,2,  2262.0,2,  2357.7,2, -999.00,9, -999.00,9,   0.4045,     -999.0,     -999.0,9,     -999.0,     -0.020,2,      0.000,2,     99.487,2
09AR20110104,       SR03,      45,          1,          7,          7,2,20110116,       0814,   -63.3455,   139.8300,       3773,  2499.5,   0.3525,  34.6880,2,  34.6871,2,    217.7,2,   217.5,2,  123.40,2,    2.26,2,  2259.8,2,  2356.6,2, -999.00,9,   32.53,2,   0.2031,     -999.0,     -999.0,9,     -999.0,     -0.016,2,      0.000,2,     99.488,2
09AR20110104,       SR03,      45,          1,          6,          6,2,20110116,       0814,   -63.3455,   139.8300,       3773,  2800.5,   0.2141,  34.6826,2,  34.6820,2,    222.3,2,   221.7,2,  125.20,2,    2.25,2,  2260.8,2,  2355.4,2, -999.00,9,   32.39,2,   0.0428,     -999.0,     -999.0,9,     -999.0,     -0.019,2,      0.000,2,     99.482,2
09AR20110104,       SR03,      45,          1,          5,          5,2,20110116,       0814,   -63.3455,   139.8300,       3773,  3100.4,   0.0883,  34.6764,2,  34.6753,2,    227.2,2,   226.5,2,  123.80,2,    2.26,2,  2259.4,2,  2354.1,2, -999.00,9,   32.26,2,  -0.1058,     -999.0,     -999.0,9,     -999.0,     -0.023,2,      0.000,2,     99.458,2
09AR20110104,       SR03,      45,          1,          4,          4,2,20110116,       0814,   -63.3455,   139.8300,       3773,  3399.8,  -0.0528,  34.6678,2,  34.6661,2,    233.1,2,   232.4,2,  120.40,2,    2.23,2,  2256.8,2,  2354.9,2, -999.00,9,   32.15,2,  -0.2702,     -999.0,     -999.0,9,     -999.0,     -0.024,2,      0.000,2,     99.457,2
09AR20110104,       SR03,      45,          1,          3,          3,2,20110116,       0814,   -63.3455,   139.8300,       3773,  3598.6,  -0.1586,  34.6600,2,  34.6578,2,    238.4,2,   237.8,2,  114.00,2,    2.22,2,  2257.3,2,  2350.1,2, -999.00,9,   32.00,2,  -0.3915,     -999.0,     -999.0,9,     -999.0,     -0.023,2,      0.000,2,     99.424,2
09AR20110104,       SR03,      45,          1,          2,        102,2,20110116,       0814,   -63.3455,   139.8300,       3773,  3698.1,  -0.2644,  34.6487,2,  34.6476,2,    242.5,2,   242.6,2,  108.40,2,    2.20,2,  -999.0,9,  -999.0,9, -999.00,9,   31.79,2,  -0.5037,     -999.0,     -999.0,9,     -999.0,     -0.024,2,      0.000,2,     99.347,2
09AR20110104,       SR03,      45,          1,          1,          1,2,20110116,       0814,   -63.3455,   139.8300,       3773,  3833.0,  -0.4030,  34.6371,2,  34.6356,2,    250.7,2,   250.3,2,   99.70,2,    2.20,2,  2251.9,6,  2347.0,6, -999.00,9,   31.68,2,  -0.6512,     -999.0,     -999.0,9,     -999.0,     -0.022,2,      0.000,2,     98.776,2