BOTTLE,20230419CCHSIOENA
EXPOCODE,SECT_ID,STNNBR,CASTNO,SAMPNO,BTLNBR,BTLNBR_FLAG_W,DATE,TIME,LATITUDE,LONGITUDE,DEPTH,CTDPRS,CTDTMP,CTDSAL,CTDSAL_FLAG_W,SALNTY,SALNTY_FLAG_W,CTDOXY,CTDOXY_FLAG_W,OXYGEN,OXYGEN_FLAG_W,SILCAT,SILCAT_FLAG_W,PHSPHT,PHSPHT_FLAG_W,TCARBN,TCARBN_FLAG_W,ALKALI,ALKALI_FLAG_W,DELO18,DELO18_FLAG_W,NO2+NO3,NO2+NO3_FLAG_W,THETA,O18ERR,DELD,DELD_FLAG_W,DELDERR,CTDFLUOR,CTDFLUOR_FLAG_W,PAR,PAR_FLAG_W,CTDXMISS,CTDXMISS_FLAG_W
,,,,,,,,,,,METERS,DBAR,ITS-90,PSS-78,,PSS-78,,UMOL/KG,,UMOL/KG,,UMOL/KG,,UMOL/KG,,UMOL/KG,,UMOL/KG,,/MILLE,,UMOL/KG,,DEG C,/MILLE,/MILLE,,/MILLE,MG/M^3,,UMOL/M^2/SEC,,%TRANS,
09AR20110104,       SR03,      88,          1,         24,         24,2,20110124,       0905,   -66.6183,   143.1600,        799,    10.0,  -0.8852,  33.6061,2,  33.6082,2,    373.4,2,   373.3,2,   40.70,2,    1.03,2,  2123.1,2,  2283.0,2, -999.00,9,   19.01,2,  -0.8855,     -999.0,     -999.0,9,     -999.0,     11.104,2,      4.768,2,     85.668,2
09AR20110104,       SR03,      88,          1,         23,         23,2,20110124,       0905,   -66.6183,   143.1600,        799,    61.4,  -0.6636,  33.8735,2,-999.0000,9,    364.1,2,  -999.0,9, -999.00,9, -999.00,9,  -999.0,9,  -999.0,9, -999.00,9, -999.00,9,  -0.6654,     -999.0,     -999.0,9,     -999.0,      9.128,2,      0.000,2,     87.373,2
09AR20110104,       SR03,      88,          1,         22,         22,2,20110124,       0905,   -66.6183,   143.1600,        799,    61.4,  -0.6626,  33.8734,2,-999.0000,9,    364.1,2,  -999.0,9, -999.00,9, -999.00,9,  -999.0,9,  -999.0,9, -999.00,9, -999.00,9,  -0.6644,     -999.0,     -999.0,9,     -999.0,      9.433,2,      0.000,2,     86.993,2
09AR20110104,       SR03,      88,          1,         21,         21,2,20110124,       0905,   -66.6183,   143.1600,        799,    61.3,  -0.6622,  33.8728,2,-999.0000,9,    364.1,2,  -999.0,9, -999.00,9, -999.00,9,  -999.0,9,  -999.0,9, -999.00,9, -999.00,9,  -0.6639,     -999.0,     -999.0,9,     -999.0,      9.638,2,      0.000,2,     87.090,2
09AR20110104,       SR03,      88,          1,         20,         20,2,20110124,       0905,   -66.6183,   143.1600,        799,    61.3,  -0.6627,  33.8720,2,-999.0000,9,    364.1,2,  -999.0,9, -999.00,9, -999.00,9,  -999.0,9,  -999.0,9, -999.00,9, -999.00,9,  -0.6644,     -999.0,     -999.0,9,     -999.0,      9.724,2,      0.000,2,     88.046,2
09AR20110104,       SR03,      88,          1,         19,         19,2,20110124,       0905,   -66.6183,   143.1600,        799,    61.3,  -0.6621,  33.8719,2,-999.0000,9,    364.1,2,  -999.0,9, -999.00,9, -999.00,9,  -999.0,9,  -999.0,9, -999.00,9, -999.00,9,  -0.6638,     -999.0,     -999.0,9,     -999.0,      9.000,2,      0.000,2,     87.896,2
09AR20110104,       SR03,      88,          1,         18,         18,2,20110124,       0905,   -66.6183,   143.1600,        799,    60.8,  -0.6604,  33.8715,2,  33.8719,2,    364.6,2,   364.8,2,   43.40,2,    1.21,2,  2146.8,2,  2299.2,2, -999.00,9,   20.72,2,  -0.6621,     -999.0,     -999.0,9,     -999.0,      9.263,2,      0.000,2,     88.061,2
09AR20110104,       SR03,      88,          1,         17,         17,2,20110124,       0905,   -66.6183,   143.1600,        799,    59.7,  -0.6574,  33.8702,2,-999.0000,9,    364.6,2,  -999.0,9, -999.00,9, -999.00,9,  -999.0,9,  -999.0,9, -999.00,9, -999.00,9,  -0.6591,     -999.0,     -999.0,9,     -999.0,      9.922,2,      0.000,2,     87.900,2
09AR20110104,       SR03,      88,          1,         16,         16,2,20110124,       0905,   -66.6183,   143.1600,        799,   149.9,  -1.5679,  34.3509,2,  34.3511,2,    314.3,2,   322.7,2,   70.50,2,    1.98,2,  2219.1,2,  2324.7,6,   -0.34,2,   28.57,2,  -1.5713,       0.08,      -3.85,2,       0.40,      0.849,2,      0.000,2,     96.904,2
09AR20110104,       SR03,      88,          1,         15,         15,2,20110124,       0905,   -66.6183,   143.1600,        799,   149.7,  -1.5656,  34.3508,2,-999.0000,9,    314.3,2,  -999.0,9, -999.00,9, -999.00,9,  -999.0,9,  -999.0,9, -999.00,9, -999.00,9,  -1.5690,     -999.0,     -999.0,9,     -999.0,      0.951,2,      0.000,2,     97.055,2
09AR20110104,       SR03,      88,          1,         14,         14,2,20110124,       0905,   -66.6183,   143.1600,        799,   274.3,  -1.7510,  34.4485,2,  34.4469,2,    314.2,2,   314.6,2,   73.60,2,    2.03,2,  2228.8,2,  2329.6,2, -999.00,9,   29.74,2,  -1.7571,     -999.0,     -999.0,9,     -999.0,      0.351,2,      0.000,2,     98.364,2
09AR20110104,       SR03,      88,          1,         13,         13,2,20110124,       0905,   -66.6183,   143.1600,        799,   274.2,  -1.7504,  34.4483,2,-999.0000,9,    314.2,2,  -999.0,9, -999.00,9, -999.00,9,  -999.0,9,  -999.0,9, -999.00,9, -999.00,9,  -1.7565,     -999.0,     -999.0,9,     -999.0,      0.312,2,      0.000,2,     98.336,2
09AR20110104,       SR03,      88,          1,         12,         12,2,20110124,       0905,   -66.6183,   143.1600,        799,   400.9,  -1.8832,  34.4993,2,  34.4966,2,    307.5,2,   307.8,2, -999.00,9, -999.00,9,  -999.0,9,  -999.0,9, -999.00,9, -999.00,9,  -1.8922,     -999.0,     -999.0,9,     -999.0,      0.014,2,      0.000,2,     99.269,2
09AR20110104,       SR03,      88,          1,         11,         11,2,20110124,       0905,   -66.6183,   143.1600,        799,   400.4,  -1.8816,  34.4991,2,-999.0000,9,    307.5,2,  -999.0,9,   75.00,2,    2.06,2,  2236.1,2,  2334.8,2, -999.00,9,   30.39,2,  -1.8906,     -999.0,     -999.0,9,     -999.0,      0.016,2,      0.000,2,     99.277,2
09AR20110104,       SR03,      88,          1,         10,         10,2,20110124,       0905,   -66.6183,   143.1600,        799,   551.8,  -1.9047,  34.5535,2,  34.5496,2,    306.9,2,   307.9,2,   75.10,2,    2.05,2,  2237.6,2,  2335.0,2,   -0.41,2,   30.48,2,  -1.9179,       0.06,      -4.08,2,       0.16,     -0.042,2,      0.000,2,     99.314,2
09AR20110104,       SR03,      88,          1,          9,          9,2,20110124,       0905,   -66.6183,   143.1600,        799,   551.6,  -1.9049,  34.5528,2,-999.0000,9,    306.9,2,  -999.0,9, -999.00,9, -999.00,9,  -999.0,9,  -999.0,9, -999.00,9, -999.00,9,  -1.9181,     -999.0,     -999.0,9,     -999.0,     -0.005,2,      0.000,2,     99.312,2
09AR20110104,       SR03,      88,          1,          8,          8,2,20110124,       0905,   -66.6183,   143.1600,        799,   703.0,  -1.9002,  34.6009,2,  34.5983,2,    308.1,2,   307.8,2,   75.30,2,    2.07,2,  2239.6,2,  2338.6,2, -999.00,9,   30.56,2,  -1.9181,     -999.0,     -999.0,9,     -999.0,     -0.010,2,      0.000,2,     99.257,2
09AR20110104,       SR03,      88,          1,          7,          7,2,20110124,       0905,   -66.6183,   143.1600,        799,   702.5,  -1.9037,  34.6004,2,-999.0000,9,    308.0,2,  -999.0,9, -999.00,9, -999.00,9,  -999.0,9,  -999.0,9, -999.00,9, -999.00,9,  -1.9216,     -999.0,     -999.0,9,     -999.0,     -0.025,2,      0.000,2,     99.257,2
09AR20110104,       SR03,      88,          1,          6,          6,2,20110124,       0905,   -66.6183,   143.1600,        799,   702.1,  -1.9038,  34.6005,2,-999.0000,9,    308.0,2,  -999.0,9, -999.00,9, -999.00,9,  -999.0,9,  -999.0,9, -999.00,9, -999.00,9,  -1.9217,     -999.0,     -999.0,9,     -999.0,     -0.019,2,      0.000,2,     99.245,2
09AR20110104,       SR03,      88,          1,          5,          5,2,20110124,       0905,   -66.6183,   143.1600,        799,   701.5,  -1.9034,  34.6013,2,-999.0000,9,    308.0,2,  -999.0,9, -999.00,9, -999.00,9,  -999.0,9,  -999.0,9, -999.00,9, -999.00,9,  -1.9212,     -999.0,     -999.0,9,     -999.0,     -0.031,2,      0.000,2,     99.270,2
09AR20110104,       SR03,      88,          1,          4,          4,2,20110124,       0905,   -66.6183,   143.1600,        799,   800.2,  -1.8856,  34.6322,2,-999.0000,9,    306.8,2,  -999.0,9, -999.00,9, -999.00,9,  -999.0,9,  -999.0,9, -999.00,9, -999.00,9,  -1.9069,     -999.0,     -999.0,9,     -999.0,     -0.040,2,      0.000,2,     98.897,2
09AR20110104,       SR03,      88,          1,          3,          3,2,20110124,       0905,   -66.6183,   143.1600,        799,   800.4,  -1.8856,  34.6322,2,-999.0000,9,    306.8,2,  -999.0,9, -999.00,9, -999.00,9,  -999.0,9,  -999.0,9, -999.00,9, -999.00,9,  -1.9069,     -999.0,     -999.0,9,     -999.0,     -0.028,2,      0.000,2,     98.889,2
09AR20110104,       SR03,      88,          1,          2,        102,2,20110124,       0905,   -66.6183,   143.1600,        799,   800.8,  -1.8855,  34.6321,2,  34.6305,2,    306.8,2,   306.1,2,   77.20,2,    2.08,2,  -999.0,9,  -999.0,9,   -0.43,2,   30.70,2,  -1.9068,       0.07,      -4.31,2,       0.06,     -0.017,2,      0.000,2,     98.875,2
09AR20110104,       SR03,      88,          1,          1,          1,2,20110124,       0905,   -66.6183,   143.1600,        799,   800.8,  -1.8856,  34.6322,2,-999.0000,9,    306.8,2,  -999.0,9, -999.00,9, -999.00,9,  -999.0,9,  -999.0,9, -999.00,9, -999.00,9,  -1.9069,     -999.0,     -999.0,9,     -999.0,     -0.013,2,      0.000,2,     98.845,2
09AR20110104,       SR03,      89,          1,         24,         24,2,20110124,       1056,   -66.6707,   143.0260,        639,     9.1,  -0.6788,  33.7721,2,  33.7713,2,    369.6,2,   371.0,2,   40.90,2,    1.09,2,  2139.7,6,  2294.2,6, -999.00,9,   19.43,2,  -0.6791,     -999.0,     -999.0,9,     -999.0,     11.405,2,      1.382,2,     85.870,2
09AR20110104,       SR03,      89,          1,         23,         23,2,20110124,       1056,   -66.6707,   143.0260,        639,    50.0,  -0.7262,  33.7960,2,-999.0000,9,    368.3,2,  -999.0,9, -999.00,9, -999.00,9,  -999.0,9,  -999.0,9, -999.00,9, -999.00,9,  -0.7276,     -999.0,     -999.0,9,     -999.0,     11.099,2,      0.000,2,     86.521,2
09AR20110104,       SR03,      89,          1,         22,         22,2,20110124,       1056,   -66.6707,   143.0260,        639,    50.0,  -0.7359,  33.7978,2,-999.0000,9,    368.3,2,  -999.0,9, -999.00,9, -999.00,9,  -999.0,9,  -999.0,9, -999.00,9, -999.00,9,  -0.7373,     -999.0,     -999.0,9,     -999.0,     10.346,2,      0.000,2,     86.491,2
09AR20110104,       SR03,      89,          1,         21,         21,2,20110124,       1056,   -66.6707,   143.0260,        639,    50.0,  -0.7386,  33.7982,2,-999.0000,9,    368.3,2,  -999.0,9, -999.00,9, -999.00,9,  -999.0,9,  -999.0,9, -999.00,9, -999.00,9,  -0.7400,     -999.0,     -999.0,9,     -999.0,     10.491,2,      0.000,2,     86.830,2
09AR20110104,       SR03,      89,          1,         20,         20,2,20110124,       1056,   -66.6707,   143.0260,        639,    50.0,  -0.7541,  33.8009,2,-999.0000,9,    368.3,2,  -999.0,9, -999.00,9, -999.00,9,  -999.0,9,  -999.0,9, -999.00,9, -999.00,9,  -0.7555,     -999.0,     -999.0,9,     -999.0,     10.144,2,      0.000,2,     86.679,2
09AR20110104,       SR03,      89,          1,         19,         19,2,20110124,       1056,   -66.6707,   143.0260,        639,    49.9,  -0.7614,  33.8018,2,-999.0000,9,    368.3,2,  -999.0,9, -999.00,9, -999.00,9,  -999.0,9,  -999.0,9, -999.00,9, -999.00,9,  -0.7628,     -999.0,     -999.0,9,     -999.0,     10.447,2,      0.000,2,     86.858,2
09AR20110104,       SR03,      89,          1,         18,         18,2,20110124,       1056,   -66.6707,   143.0260,        639,    49.8,  -0.7570,  33.8012,2,  33.8026,2,    368.3,2,   367.6,2,   42.60,2,    1.17,2,  2147.0,2,  2296.2,2, -999.00,9,   20.04,2,  -0.7584,     -999.0,     -999.0,9,     -999.0,     10.110,2,      0.000,2,     86.783,2
09AR20110104,       SR03,      89,          1,         17,         17,2,20110124,       1056,   -66.6707,   143.0260,        639,    49.7,  -0.7749,  33.8046,2,-999.0000,9,    368.3,2,  -999.0,9, -999.00,9, -999.00,9,  -999.0,9,  -999.0,9, -999.00,9, -999.00,9,  -0.7763,     -999.0,     -999.0,9,     -999.0,     10.543,2,      0.000,2,     86.866,2
09AR20110104,       SR03,      89,          1,         16,         16,2,20110124,       1056,   -66.6707,   143.0260,        639,   150.6,  -1.5891,  34.3623,2,  34.3617,2,    323.8,2,   323.9,2,   69.80,2,    1.99,2,  2220.7,2,  2326.1,6, -999.00,9,   28.24,2,  -1.5925,     -999.0,     -999.0,9,     -999.0,      1.163,2,      0.000,2,     96.530,2
09AR20110104,       SR03,      89,          1,         15,         15,2,20110124,       1056,   -66.6707,   143.0260,        639,   150.0,  -1.6012,  34.3654,2,-999.0000,9,    323.8,2,  -999.0,9, -999.00,9, -999.00,9,  -999.0,9,  -999.0,9, -999.00,9, -999.00,9,  -1.6045,     -999.0,     -999.0,9,     -999.0,      1.081,2,      0.000,2,     96.633,2
09AR20110104,       SR03,      89,          1,         14,         14,2,20110124,       1056,   -66.6707,   143.0260,        639,   249.6,  -1.7781,  34.4495,2,  34.4481,2,    311.6,2,   311.2,2,   73.60,2,    2.04,2,  2230.4,2,  2330.1,2, -999.00,9,   29.64,2,  -1.7835,     -999.0,     -999.0,9,     -999.0,      0.186,2,      0.000,2,     98.697,2
09AR20110104,       SR03,      89,          1,         13,         13,2,20110124,       1056,   -66.6707,   143.0260,        639,   249.5,  -1.7775,  34.4494,2,-999.0000,9,    311.6,2,  -999.0,9, -999.00,9, -999.00,9,  -999.0,9,  -999.0,9, -999.00,9, -999.00,9,  -1.7829,     -999.0,     -999.0,9,     -999.0,      0.241,2,      0.000,2,     98.759,2
09AR20110104,       SR03,      89,          1,         12,         12,2,20110124,       1056,   -66.6707,   143.0260,        639,   249.5,  -1.7761,  34.4493,2,-999.0000,9,    311.6,2,  -999.0,9, -999.00,9, -999.00,9,  -999.0,9,  -999.0,9, -999.00,9, -999.00,9,  -1.7815,     -999.0,     -999.0,9,     -999.0,      0.239,2,      0.000,2,     98.771,2
09AR20110104,       SR03,      89,          1,         11,         11,2,20110124,       1056,   -66.6707,   143.0260,        639,   346.3,  -1.8237,  34.4775,2,  34.4754,2,    305.1,2,   305.4,2,   74.70,2,    2.06,2,  2234.5,2,  2330.6,2, -999.00,9,   30.02,2,  -1.8315,     -999.0,     -999.0,9,     -999.0,      0.062,2,      0.000,2,     99.330,2
09AR20110104,       SR03,      89,          1,         10,         10,2,20110124,       1056,   -66.6707,   143.0260,        639,   449.9,  -1.8882,  34.5039,2,  34.5028,2,    307.8,2,   307.8,2,   74.90,2,    2.06,2,  -999.0,9,  -999.0,9, -999.00,9,   30.07,2,  -1.8985,     -999.0,     -999.0,9,     -999.0,      0.022,2,      0.000,2,     99.228,2
09AR20110104,       SR03,      89,          1,          9,          9,2,20110124,       1056,   -66.6707,   143.0260,        639,   449.6,  -1.8876,  34.5039,2,-999.0000,9,    307.8,2,  -999.0,9, -999.00,9, -999.00,9,  -999.0,9,  -999.0,9, -999.00,9, -999.00,9,  -1.8979,     -999.0,     -999.0,9,     -999.0,      0.005,2,      0.000,2,     99.202,2
09AR20110104,       SR03,      89,          1,          8,          8,2,20110124,       1056,   -66.6707,   143.0260,        639,   550.6,  -1.9037,  34.5362,2,  34.5349,2,    307.7,2,   308.0,2,   75.20,2,    2.06,2,  2236.6,2,  2337.5,2, -999.00,9,   30.16,2,  -1.9168,     -999.0,     -999.0,9,     -999.0,     -0.006,2,      0.000,2,     99.175,2
09AR20110104,       SR03,      89,          1,          7,          7,2,20110124,       1056,   -66.6707,   143.0260,        639,   550.4,  -1.9033,  34.5354,2,-999.0000,9,    307.7,2,  -999.0,9, -999.00,9, -999.00,9,  -999.0,9,  -999.0,9, -999.00,9, -999.00,9,  -1.9164,     -999.0,     -999.0,9,     -999.0,      0.002,2,      0.000,2,     99.163,2
09AR20110104,       SR03,      89,          1,          6,          6,2,20110124,       1056,   -66.6707,   143.0260,        639,   550.3,  -1.9035,  34.5357,2,-999.0000,9,    307.7,2,  -999.0,9, -999.00,9, -999.00,9,  -999.0,9,  -999.0,9, -999.00,9, -999.00,9,  -1.9166,     -999.0,     -999.0,9,     -999.0,      0.001,2,      0.000,2,     99.140,2
09AR20110104,       SR03,      89,          1,          5,          5,2,20110124,       1056,   -66.6707,   143.0260,        639,   550.0,  -1.9035,  34.5357,2,-999.0000,9,    307.7,2,  -999.0,9, -999.00,9, -999.00,9,  -999.0,9,  -999.0,9, -999.00,9, -999.00,9,  -1.9166,     -999.0,     -999.0,9,     -999.0,      0.005,2,      0.000,2,     99.175,2
09AR20110104,       SR03,      89,          1,          4,          4,2,20110124,       1056,   -66.6707,   143.0260,        639,   637.7,  -1.9121,  34.5623,2,-999.0000,9,    307.7,2,  -999.0,9, -999.00,9, -999.00,9,  -999.0,9,  -999.0,9, -999.00,9, -999.00,9,  -1.9278,     -999.0,     -999.0,9,     -999.0,     -0.005,2,      0.000,2,     99.106,2
09AR20110104,       SR03,      89,          1,          3,          3,2,20110124,       1056,   -66.6707,   143.0260,        639,   637.7,  -1.9121,  34.5626,2,-999.0000,9,    307.7,2,  -999.0,9, -999.00,9, -999.00,9,  -999.0,9,  -999.0,9, -999.00,9, -999.00,9,  -1.9278,     -999.0,     -999.0,9,     -999.0,     -0.009,2,      0.000,2,     99.087,2
09AR20110104,       SR03,      89,          1,          2,        102,2,20110124,       1056,   -66.6707,   143.0260,        639,   641.7,  -1.9119,  34.5631,2,  34.5608,2,    307.9,2,   307.9,2,   74.80,2,    2.07,2,  -999.0,9,  -999.0,9, -999.00,9,   30.18,2,  -1.9277,     -999.0,     -999.0,9,     -999.0,      0.026,2,      0.000,2,     99.086,2
09AR20110104,       SR03,      89,          1,          1,          1,2,20110124,       1056,   -66.6707,   143.0260,        639,   641.5,  -1.9120,  34.5631,2,-999.0000,9,    307.9,2,  -999.0,9, -999.00,9, -999.00,9,  -999.0,9,  -999.0,9, -999.00,9, -999.00,9,  -1.9278,     -999.0,     -999.0,9,     -999.0,     -0.044,2,      0.000,2,     99.086,2