BOTTLE,20230419CCHSIOENA
EXPOCODE,SECT_ID,STNNBR,CASTNO,SAMPNO,BTLNBR,BTLNBR_FLAG_W,DATE,TIME,LATITUDE,LONGITUDE,DEPTH,CTDPRS,CTDTMP,CTDSAL,CTDSAL_FLAG_W,SALNTY,SALNTY_FLAG_W,CTDOXY,CTDOXY_FLAG_W,OXYGEN,OXYGEN_FLAG_W,SILCAT,SILCAT_FLAG_W,PHSPHT,PHSPHT_FLAG_W,TCARBN,TCARBN_FLAG_W,ALKALI,ALKALI_FLAG_W,DELO18,DELO18_FLAG_W,NO2+NO3,NO2+NO3_FLAG_W,THETA,O18ERR,DELD,DELD_FLAG_W,DELDERR,CTDFLUOR,CTDFLUOR_FLAG_W,PAR,PAR_FLAG_W,CTDXMISS,CTDXMISS_FLAG_W
,,,,,,,,,,,METERS,DBAR,ITS-90,PSS-78,,PSS-78,,UMOL/KG,,UMOL/KG,,UMOL/KG,,UMOL/KG,,UMOL/KG,,UMOL/KG,,/MILLE,,UMOL/KG,,DEG C,/MILLE,/MILLE,,/MILLE,MG/M^3,,UMOL/M^2/SEC,,%TRANS,
09AR20110104,       SR03,      16,          1,         24,         24,2,20110109,       2308,   -49.6100,   143.9330,       3693,     8.4,   8.6906,  34.1920,2,  34.1905,2,    296.5,2,   296.0,2,    3.10,2,    1.13,2,  2102.2,6,  2281.5,6, -999.00,9,   16.11,2,   8.6897,     -999.0,     -999.0,9,     -999.0,      0.182,2,     55.289,2,     96.520,2
09AR20110104,       SR03,      16,          1,         23,         23,2,20110109,       2308,   -49.6100,   143.9330,       3693,    38.9,   8.1716,  34.1635,2,  34.1630,2,    298.4,2,   296.4,2,    3.40,2,    1.17,2,  2104.1,2,  2280.1,2, -999.00,9,   16.66,2,   8.1677,     -999.0,     -999.0,9,     -999.0,      0.690,2,     29.499,2,     96.798,2
09AR20110104,       SR03,      16,          1,         22,         22,2,20110109,       2308,   -49.6100,   143.9330,       3693,    64.4,   8.0075,  34.1771,2,  34.1755,2,    295.7,2,   297.2,2,    3.70,2,    1.19,2,  2107.2,2,  2281.2,6, -999.00,9,   16.77,2,   8.0011,     -999.0,     -999.0,9,     -999.0,      1.018,2,     17.239,2,     97.203,2
09AR20110104,       SR03,      16,          1,         21,         21,2,20110109,       2308,   -49.6100,   143.9330,       3693,    98.3,   7.2461,  34.1840,2,  34.1796,2,    292.0,2,   296.1,2,    5.00,2,    1.30,2,  2116.8,2,  2281.1,2, -999.00,9,   18.25,2,   7.2369,     -999.0,     -999.0,9,     -999.0,      0.952,2,      5.245,2,     97.976,2
09AR20110104,       SR03,      16,          1,         20,         20,2,20110109,       2308,   -49.6100,   143.9330,       3693,   147.9,   6.9024,  34.2560,2,  34.2551,2,    288.7,2,   288.1,2,    7.10,2,    1.35,2,  2125.9,2,  2282.3,2, -999.00,9, -999.00,9,   6.8889,     -999.0,     -999.0,9,     -999.0,      0.160,2,      0.879,2,     99.267,2
09AR20110104,       SR03,      16,          1,         19,         19,2,20110109,       2308,   -49.6100,   143.9330,       3693,   198.5,   6.5539,  34.2382,2,  34.2401,2,    284.6,2,   284.1,2,    7.40,2,    1.39,2,  2131.5,2,  2281.1,2, -999.00,9, -999.00,9,   6.5362,     -999.0,     -999.0,9,     -999.0,      0.013,2,      0.169,2,     99.506,2
09AR20110104,       SR03,      16,          1,         18,         18,2,20110109,       2308,   -49.6100,   143.9330,       3693,   297.5,   6.0516,  34.1956,2,  34.1983,2,    284.9,2,   284.0,2,    8.90,2,    1.49,2,  2135.9,2,  2281.2,2, -999.00,9, -999.00,9,   6.0261,     -999.0,     -999.0,9,     -999.0,     -0.010,2,      0.000,2,     99.598,2
09AR20110104,       SR03,      16,          1,         17,         17,2,20110109,       2308,   -49.6100,   143.9330,       3693,   400.1,   5.6619,  34.2061,2,  34.2054,2,    264.5,2,   264.6,2,   12.40,2,    1.61,2,  2150.1,2,  2281.4,2, -999.00,9, -999.00,9,   5.6285,     -999.0,     -999.0,9,     -999.0,     -0.014,2,      0.000,2,     99.622,2
09AR20110104,       SR03,      16,          1,         16,         16,2,20110109,       2308,   -49.6100,   143.9330,       3693,   499.1,   5.2516,  34.2609,2,  34.2593,2,    239.8,2,  -999.0,9,   18.50,2,    1.82,2,  2169.1,2,  2287.2,2, -999.00,9, -999.00,9,   5.2111,     -999.0,     -999.0,9,     -999.0,     -0.016,2,      0.000,2,     99.714,2
09AR20110104,       SR03,      16,          1,         15,         15,2,20110109,       2308,   -49.6100,   143.9330,       3693,   599.7,   4.6335,  34.2647,2,  34.2645,2,    225.6,2,   229.1,2,   23.70,2,    1.94,2,  -999.0,9,  -999.0,9, -999.00,9, -999.00,9,   4.5872,     -999.0,     -999.0,9,     -999.0,     -0.019,2,      0.000,2,     99.777,2
09AR20110104,       SR03,      16,          1,         14,         14,2,20110109,       2308,   -49.6100,   143.9330,       3693,   700.0,   4.2891,  34.3035,2,  34.3044,2,    214.8,2,   217.6,2,   30.60,2,    2.05,2,  2192.3,2,  2296.5,2, -999.00,9, -999.00,9,   4.2364,     -999.0,     -999.0,9,     -999.0,     -0.014,2,      0.000,2,     99.792,2
09AR20110104,       SR03,      16,          1,         13,         13,2,20110109,       2308,   -49.6100,   143.9330,       3693,   786.8,   3.7602,  34.3011,2,  34.3012,2,    216.4,2,   213.6,2,   35.90,2,    2.13,2,  -999.0,9,  -999.0,9, -999.00,9, -999.00,9,   3.7037,     -999.0,     -999.0,9,     -999.0,     -0.017,2,      0.000,2,     99.850,2
09AR20110104,       SR03,      16,          1,         12,         12,2,20110109,       2308,   -49.6100,   143.9330,       3693,   900.2,   3.4536,  34.3414,2,  34.3410,2,    203.2,2,   203.1,2,   43.20,2,    2.22,2,  -999.0,9,  -999.0,9, -999.00,9, -999.00,9,   3.3902,     -999.0,     -999.0,9,     -999.0,     -0.011,2,      0.000,2,     99.879,2
09AR20110104,       SR03,      16,          1,         11,         11,2,20110109,       2308,   -49.6100,   143.9330,       3693,  1098.6,   2.9561,  34.4361,2,  34.4357,2,    186.6,2,   185.0,2,   57.50,2,    2.32,2,  2236.0,2,  2321.1,2, -999.00,9, -999.00,9,   2.8812,     -999.0,     -999.0,9,     -999.0,     -0.009,2,      0.000,2,     99.911,2
09AR20110104,       SR03,      16,          1,         10,         10,2,20110109,       2308,   -49.6100,   143.9330,       3693,  1298.3,   2.6936,  34.5299,2,-999.0000,9,    177.0,2,   177.4,2,   66.90,2,    2.33,2,  -999.0,9,  -999.0,9, -999.00,9, -999.00,9,   2.6054,     -999.0,     -999.0,9,     -999.0,     -0.009,2,      0.000,2,     99.923,2
09AR20110104,       SR03,      16,          1,          9,          9,2,20110109,       2308,   -49.6100,   143.9330,       3693,  1500.1,   2.5548,  34.6150,2,  34.6152,2,    175.6,2,   174.4,2,   72.90,2,    2.28,2,  -999.0,9,  -999.0,9, -999.00,9, -999.00,9,   2.4520,     -999.0,     -999.0,9,     -999.0,      0.000,2,      0.000,2,     99.943,2
09AR20110104,       SR03,      16,          1,          8,          8,2,20110109,       2308,   -49.6100,   143.9330,       3693,  1800.1,   2.3643,  34.6975,2,  34.6971,2,    179.8,2,   181.5,2,   80.10,2,    2.20,2,  -999.0,9,  -999.0,9, -999.00,9, -999.00,9,   2.2391,     -999.0,     -999.0,9,     -999.0,     -0.002,2,      0.000,2,     99.956,2
09AR20110104,       SR03,      16,          1,          7,          7,2,20110109,       2308,   -49.6100,   143.9330,       3693,  2101.3,   2.1479,  34.7378,2,  34.7376,2,    188.4,2,   187.7,2,   85.30,2,    2.13,2,  2252.3,2,  2354.7,2, -999.00,9, -999.00,9,   2.0001,     -999.0,     -999.0,9,     -999.0,     -0.006,2,      0.000,2,     99.972,2
09AR20110104,       SR03,      16,          1,          6,          6,2,20110109,       2308,   -49.6100,   143.9330,       3693,  2401.9,   1.9311,  34.7470,2,  34.7472,2,    193.4,2,   193.1,2, -999.00,9,    2.13,2,  -999.0,9,  -999.0,9, -999.00,9,   30.38,2,   1.7605,     -999.0,     -999.0,9,     -999.0,     -0.006,2,      0.000,2,     99.990,2
09AR20110104,       SR03,      16,          1,          5,          5,2,20110109,       2308,   -49.6100,   143.9330,       3693,  2699.6,   1.6341,  34.7416,2,-999.0000,9,    196.2,2,  -999.0,9, -999.00,9, -999.00,9,  -999.0,9,  -999.0,9, -999.00,9, -999.00,9,   1.4422,     -999.0,     -999.0,9,     -999.0,     -0.006,2,      0.000,2,     99.990,2
09AR20110104,       SR03,      16,          1,          4,          4,2,20110109,       2308,   -49.6100,   143.9330,       3693,  3001.4,   1.3798,  34.7334,2,  34.7332,2,    200.9,2,   200.5,2,  107.30,2,    2.17,2,  -999.0,9,  -999.0,9, -999.00,9,   30.83,2,   1.1652,     -999.0,     -999.0,9,     -999.0,     -0.011,2,      0.000,2,     99.990,2
09AR20110104,       SR03,      16,          1,          3,          3,2,20110109,       2308,   -49.6100,   143.9330,       3693,  3298.4,   1.1116,  34.7220,2,  34.7218,2,    205.0,2,   205.9,2,  114.70,2,    2.18,2,  -999.0,9,  -999.0,9, -999.00,9,   31.17,2,   0.8748,     -999.0,     -999.0,9,     -999.0,     -0.012,2,      0.000,2,     99.953,2
09AR20110104,       SR03,      16,          1,          2,        102,2,20110109,       2308,   -49.6100,   143.9330,       3693,  3598.4,   1.0498,  34.7181,2,  34.7168,2,    206.8,2,   205.4,2,  118.00,2,    2.21,2,  -999.0,9,  -999.0,9, -999.00,9,   31.37,2,   0.7849,     -999.0,     -999.0,9,     -999.0,     -0.013,2,      0.000,2,     99.858,2
09AR20110104,       SR03,      16,          1,          1,          1,2,20110109,       2308,   -49.6100,   143.9330,       3693,  3744.9,   1.0555,  34.7177,2,  34.7158,2,    207.3,2,   207.3,2,  118.50,2,    2.21,2,  -999.0,9,  -999.0,9, -999.00,9,   31.56,2,   0.7756,     -999.0,     -999.0,9,     -999.0,     -0.014,2,      0.000,2,     99.838,2
09AR20110104,       SR03,      17,          1,         24,         24,2,20110109,       0331,   -49.8858,   143.8040,       3731,    10.1,   9.3433,  34.2677,2,  34.2669,2,    290.0,2,   290.1,2,    2.10,2,    1.06,2,  2095.5,6,  2282.2,6, -999.00,9,   14.82,2,   9.3422,     -999.0,     -999.0,9,     -999.0,      0.365,2,    137.739,2,     95.738,2
09AR20110104,       SR03,      17,          1,         23,         23,2,20110109,       0331,   -49.8858,   143.8040,       3731,    38.7,   8.7794,  34.2984,2,  34.2985,2,    290.7,2,   291.7,2,    2.30,2,    1.07,2,  2094.8,2,  2283.6,2, -999.00,9,   14.65,2,   8.7753,     -999.0,     -999.0,9,     -999.0,      1.762,2,     25.399,2,     94.958,2
09AR20110104,       SR03,      17,          1,         22,         22,2,20110109,       0331,   -49.8858,   143.8040,       3731,    65.6,   8.3331,  34.3233,2,  34.3220,2,    286.9,2,   287.8,2,    3.60,2,    1.12,2,  2106.3,2,  2282.2,6, -999.00,9,   15.45,2,   8.3264,     -999.0,     -999.0,9,     -999.0,      1.902,2,      5.010,2,     96.493,2
09AR20110104,       SR03,      17,          1,         21,         21,2,20110109,       0331,   -49.8858,   143.8040,       3731,    99.1,   7.7743,  34.3703,2,  34.3679,2,    283.7,2,   282.4,2,    5.10,2,    1.25,2,  2118.6,2,  2282.9,2, -999.00,9,   17.22,2,   7.7646,     -999.0,     -999.0,9,     -999.0,      0.421,2,      0.873,2,     98.712,2
09AR20110104,       SR03,      17,          1,         20,         20,2,20110109,       0331,   -49.8858,   143.8040,       3731,   147.8,   7.1903,  34.3078,2,  34.3029,2,    280.8,2,   283.0,2,    5.60,2,    1.34,2,  2122.0,2,  2280.7,2, -999.00,9,   18.83,2,   7.1764,     -999.0,     -999.0,9,     -999.0,      0.085,2,      0.143,2,     99.273,2
09AR20110104,       SR03,      17,          1,         19,         19,2,20110109,       0331,   -49.8858,   143.8040,       3731,   199.9,   6.7507,  34.2589,2,  34.2589,2,    276.1,2,   283.2,2,    6.00,2,    1.40,2,  2124.6,2,  2278.1,2, -999.00,9,   19.71,2,   6.7326,     -999.0,     -999.0,9,     -999.0,      0.009,2,      0.000,2,     99.421,2
09AR20110104,       SR03,      17,          1,         18,         18,2,20110109,       0331,   -49.8858,   143.8040,       3731,   299.9,   6.5983,  34.2789,2,  34.2813,2,    274.5,2,   270.4,2,    8.10,2,    1.48,2,  2134.9,2,  2284.4,2, -999.00,9,   21.05,2,   6.5712,     -999.0,     -999.0,9,     -999.0,     -0.014,2,      0.000,2,     99.515,2
09AR20110104,       SR03,      17,          1,         17,         17,2,20110109,       0331,   -49.8858,   143.8040,       3731,   402.0,   6.1248,  34.2703,2,  34.2702,2,    255.0,2,   254.0,2,   11.30,2,    1.61,2,  2148.2,2,  2282.8,2, -999.00,9,   23.34,2,   6.0897,     -999.0,     -999.0,9,     -999.0,     -0.011,2,      0.000,2,     99.564,2
09AR20110104,       SR03,      17,          1,         16,         16,2,20110109,       0331,   -49.8858,   143.8040,       3731,   501.4,   5.4673,  34.2624,2,  34.2612,2,    235.7,2,   239.3,2,   15.70,2,    1.79,2,  2163.2,2,  2285.4,2, -999.00,9,   25.86,2,   5.4257,     -999.0,     -999.0,9,     -999.0,     -0.014,2,      0.000,2,     99.639,2
09AR20110104,       SR03,      17,          1,         15,         15,2,20110109,       0331,   -49.8858,   143.8040,       3731,   599.7,   4.7815,  34.2673,2,  34.2708,2,    227.7,2,   229.1,2,   21.40,2,    1.93,2,  2175.6,2,  2286.7,2, -999.00,9,   28.05,2,   4.7345,     -999.0,     -999.0,9,     -999.0,     -0.013,2,      0.000,2,     99.703,2
09AR20110104,       SR03,      17,          1,         14,         14,2,20110109,       0331,   -49.8858,   143.8040,       3731,   700.7,   4.3375,  34.2895,2,  34.2900,2,    221.6,2,   221.5,2,   27.40,2,    2.04,2,  2186.6,2,  2290.6,2, -999.00,9,   29.56,2,   4.2845,     -999.0,     -999.0,9,     -999.0,     -0.008,2,      0.000,2,     99.757,2
09AR20110104,       SR03,      17,          1,         13,         13,2,20110109,       0331,   -49.8858,   143.8040,       3731,   801.4,   3.8677,  34.3187,2,  34.3194,2,    210.7,2,   209.3,2,   35.60,2,    2.15,2,  2200.0,2,  2297.6,2, -999.00,9,   30.98,2,   3.8093,     -999.0,     -999.0,9,     -999.0,     -0.005,2,      0.000,2,     99.810,2
09AR20110104,       SR03,      17,          1,         12,         12,2,20110109,       0331,   -49.8858,   143.8040,       3731,   901.5,   3.3989,  34.3310,2,  34.3315,2,    204.9,2,   206.7,2,   41.60,2,    2.23,2,  2210.2,6,  2305.2,6, -999.00,9,   32.05,2,   3.3358,     -999.0,     -999.0,9,     -999.0,     -0.012,2,      0.000,2,     99.843,2
09AR20110104,       SR03,      17,          1,         11,         11,2,20110109,       0331,   -49.8858,   143.8040,       3731,  1101.2,   2.9676,  34.4261,2,  34.4262,2,    186.4,2,   186.4,2,   55.70,2,    2.33,2,  2232.7,2,  2319.2,2, -999.00,9,   33.44,2,   2.8924,     -999.0,     -999.0,9,     -999.0,      0.000,2,      0.000,2,     99.875,2
09AR20110104,       SR03,      17,          1,         10,         10,2,20110109,       0331,   -49.8858,   143.8040,       3731,  1301.0,   2.7354,  34.5262,2,  34.5260,2,    176.9,2,   176.3,2,   65.60,2,    2.34,2,  2244.5,2,  2329.8,2, -999.00,9,   33.58,2,   2.6466,     -999.0,     -999.0,9,     -999.0,      0.005,2,      0.000,2,     99.886,2
09AR20110104,       SR03,      17,          1,          9,          9,2,20110109,       0331,   -49.8858,   143.8040,       3731,  1501.9,   2.4800,  34.6012,2,  34.6009,2,    175.0,2,   174.0,2,   72.40,2,    2.32,2,  2249.2,2,  2336.2,2, -999.00,9,   33.20,2,   2.3779,     -999.0,     -999.0,9,     -999.0,      0.002,2,      0.000,2,     99.918,2
09AR20110104,       SR03,      17,          1,          8,          8,2,20110109,       0331,   -49.8858,   143.8040,       3731,  1801.6,   2.3618,  34.6965,2,  34.6964,2,    177.0,2,   178.0,2,   79.80,2,    2.23,2,  2251.1,2,  2349.2,6, -999.00,9,   31.68,2,   2.2365,     -999.0,     -999.0,9,     -999.0,      0.004,2,      0.000,2,     99.920,2
09AR20110104,       SR03,      17,          1,          7,          7,2,20110109,       0331,   -49.8858,   143.8040,       3731,  2100.3,   2.1620,  34.7334,2,  34.7337,2,    184.0,2,   184.3,2,   85.90,2,    2.19,2,  2254.5,2,  2357.2,2, -999.00,9,   30.89,2,   2.0141,     -999.0,     -999.0,9,     -999.0,      0.004,2,      0.000,2,     99.947,2
09AR20110104,       SR03,      17,          1,          6,          6,2,20110109,       0331,   -49.8858,   143.8040,       3731,  2402.0,   1.9298,  34.7486,2,  34.7492,2,    194.7,2,   195.3,2,   87.40,2,    2.10,2,  2247.1,2,  2352.2,6, -999.00,9,   30.09,2,   1.7592,     -999.0,     -999.0,9,     -999.0,      0.001,2,      0.000,2,     99.960,2
09AR20110104,       SR03,      17,          1,          5,          5,2,20110109,       0331,   -49.8858,   143.8040,       3731,  2700.2,   1.5716,  34.7420,2,  34.7415,2,    199.8,2,   199.8,2,   98.50,2,    2.14,2,  2251.4,2,  2359.8,2, -999.00,9,   30.45,2,   1.3809,     -999.0,     -999.0,9,     -999.0,      0.002,2,      0.000,2,     99.986,2
09AR20110104,       SR03,      17,          1,          4,          4,2,20110109,       0331,   -49.8858,   143.8040,       3731,  3001.6,   1.2514,  34.7285,2,  34.7313,2,    202.2,2,   202.0,2,  110.00,2,    2.19,2,  2259.6,2,  2367.6,2, -999.00,9,   31.13,2,   1.0396,     -999.0,     -999.0,9,     -999.0,     -0.006,2,      0.000,2,     99.961,2
09AR20110104,       SR03,      17,          1,          3,          3,2,20110109,       0331,   -49.8858,   143.8040,       3731,  3299.4,   1.0788,  34.7205,2,  34.7202,2,    205.4,2,   205.2,2,  114.50,2,    2.21,2,  2260.0,2,  2366.7,2, -999.00,9,   31.31,2,   0.8427,     -999.0,     -999.0,9,     -999.0,     -0.011,2,      0.000,2,     99.888,2
09AR20110104,       SR03,      17,          1,          2,        102,2,20110109,       0331,   -49.8858,   143.8040,       3731,  3598.7,   1.0463,  34.7178,2,  34.7178,2,    207.1,2,   210.3,3,  116.60,2,    2.22,2,  -999.0,9,  -999.0,9, -999.00,9,   31.43,2,   0.7815,     -999.0,     -999.0,9,     -999.0,     -0.014,2,      0.000,2,     99.764,2
09AR20110104,       SR03,      17,          1,          1,          1,2,20110109,       0331,   -49.8858,   143.8040,       3731,  3781.9,   1.0488,  34.7170,2,  34.7168,2,    208.0,2,   207.2,2,  116.80,2,    2.22,2,  2257.9,6,  2366.5,6, -999.00,9,   31.45,2,   0.7652,     -999.0,     -999.0,9,     -999.0,     -0.012,2,      0.000,2,     99.834,2