BOTTLE,20230419CCHSIOENA
EXPOCODE,SECT_ID,STNNBR,CASTNO,SAMPNO,BTLNBR,BTLNBR_FLAG_W,DATE,TIME,LATITUDE,LONGITUDE,DEPTH,CTDPRS,CTDTMP,CTDSAL,CTDSAL_FLAG_W,SALNTY,SALNTY_FLAG_W,CTDOXY,CTDOXY_FLAG_W,OXYGEN,OXYGEN_FLAG_W,SILCAT,SILCAT_FLAG_W,PHSPHT,PHSPHT_FLAG_W,TCARBN,TCARBN_FLAG_W,ALKALI,ALKALI_FLAG_W,DELO18,DELO18_FLAG_W,NO2+NO3,NO2+NO3_FLAG_W,THETA,O18ERR,DELD,DELD_FLAG_W,DELDERR,CTDFLUOR,CTDFLUOR_FLAG_W,PAR,PAR_FLAG_W,CTDXMISS,CTDXMISS_FLAG_W
,,,,,,,,,,,METERS,DBAR,ITS-90,PSS-78,,PSS-78,,UMOL/KG,,UMOL/KG,,UMOL/KG,,UMOL/KG,,UMOL/KG,,UMOL/KG,,/MILLE,,UMOL/KG,,DEG C,/MILLE,/MILLE,,/MILLE,MG/M^3,,UMOL/M^2/SEC,,%TRANS,
09AR20110104,       SR03,      40,          1,         24,         24,2,20110115,       0326,   -60.8470,   139.8320,       4377,     9.2,   1.6448,  33.9264,2,  33.9285,2,    341.2,2,   341.0,2,   15.10,2,    1.71,2,  2155.7,6,  2287.1,6, -999.00,9,   26.34,2,   1.6444,     -999.0,     -999.0,9,     -999.0,      0.334,2,     45.679,2,     95.550,2
09AR20110104,       SR03,      40,          1,         23,         23,2,20110115,       0326,   -60.8470,   139.8320,       4377,    49.0,   1.5901,  33.9278,2,  33.9296,2,    341.1,2,   341.2,2,   15.30,2,    1.72,2,  2155.8,2,  2285.9,2, -999.00,9,   26.36,2,   1.5878,     -999.0,     -999.0,9,     -999.0,      1.464,2,      9.414,2,     95.067,2
09AR20110104,       SR03,      40,          1,         22,         22,2,20110115,       0326,   -60.8470,   139.8320,       4377,    75.4,   0.2371,  33.9527,2,  33.9509,2,    339.7,2,   340.5,2,   24.00,2,    1.94,2,  2168.2,2,  2287.0,6, -999.00,9,   27.69,2,   0.2343,     -999.0,     -999.0,9,     -999.0,      1.388,2,      3.715,2,     97.637,2
09AR20110104,       SR03,      40,          1,         21,         21,2,20110115,       0326,   -60.8470,   139.8320,       4377,   125.3,  -0.1308,  34.0034,2,  34.0032,2,    340.0,2,   342.5,2,   29.00,2,    1.97,2,  2175.0,2,  2293.0,2, -999.00,9,   27.85,2,  -0.1351,     -999.0,     -999.0,9,     -999.0,      0.489,2,      0.671,2,     98.530,2
09AR20110104,       SR03,      40,          1,         20,         20,2,20110115,       0326,   -60.8470,   139.8320,       4377,   198.7,   1.5455,  34.3273,2,  34.3255,2,    214.7,2,   215.8,2,   71.10,3,    2.37,2,  2232.0,2,  2311.3,2, -999.00,9,   34.62,2,   1.5357,     -999.0,     -999.0,9,     -999.0,      0.034,2,      0.000,2,     99.204,2
09AR20110104,       SR03,      40,          1,         19,         19,2,20110115,       0326,   -60.8470,   139.8320,       4377,   300.5,   2.1846,  34.5223,2,  34.5235,2,    176.4,2,   175.6,2,   71.10,2,    2.37,2,  2253.8,2,  2325.2,2, -999.00,9,   34.58,2,   2.1678,     -999.0,     -999.0,9,     -999.0,     -0.005,2,      0.000,2,     99.259,2
09AR20110104,       SR03,      40,          1,         18,         18,2,20110115,       0326,   -60.8470,   139.8320,       4377,   398.5,   2.2430,  34.5928,2,  34.5940,2,    173.0,2,   173.0,2,   74.20,2,    2.32,2,  2254.3,2,  2329.6,2, -999.00,9,   33.84,2,   2.2202,     -999.0,     -999.0,9,     -999.0,     -0.007,2,      0.000,2,     99.384,2
09AR20110104,       SR03,      40,          1,         17,         17,2,20110115,       0326,   -60.8470,   139.8320,       4377,   501.5,   2.2404,  34.6388,2,  34.6391,2,    174.5,2,   174.8,2,   76.00,2,    2.27,2,  2252.9,2,  2336.0,2, -999.00,9,   33.05,2,   2.2113,     -999.0,     -999.0,9,     -999.0,     -0.004,2,      0.000,2,     99.406,2
09AR20110104,       SR03,      40,          1,         16,         16,2,20110115,       0326,   -60.8470,   139.8320,       4377,   700.1,   2.1486,  34.6987,2,  34.6994,2,    181.0,2,   181.4,2,   78.70,2,    2.18,2,  -999.0,9,  -999.0,9, -999.00,9,   31.68,2,   2.1072,     -999.0,     -999.0,9,     -999.0,     -0.011,2,      0.000,2,     99.445,2
09AR20110104,       SR03,      40,          1,         15,         15,2,20110115,       0326,   -60.8470,   139.8320,       4377,   897.7,   2.0490,  34.7294,2,  34.7300,2,    187.5,2,   187.4,2,   81.10,2,    2.13,2,  -999.0,9,  -999.0,9, -999.00,9,   30.79,2,   1.9952,     -999.0,     -999.0,9,     -999.0,     -0.008,2,      0.000,2,     99.470,2
09AR20110104,       SR03,      40,          1,         14,         14,2,20110115,       0326,   -60.8470,   139.8320,       4377,  1098.0,   1.9068,  34.7458,2,  34.7475,2,    193.6,2,   193.3,2,   84.30,2,    2.08,2,  2246.7,2,  2345.4,2, -999.00,9,   30.20,2,   1.8404,     -999.0,     -999.0,9,     -999.0,     -0.011,2,      0.000,2,     99.516,2
09AR20110104,       SR03,      40,          1,         13,         13,2,20110115,       0326,   -60.8470,   139.8320,       4377,  1300.8,   1.7475,  34.7490,2,  34.7500,2,    196.8,2,   197.0,2,   88.50,2,    2.07,2,  -999.0,9,  -999.0,9, -999.00,9,   30.10,2,   1.6683,     -999.0,     -999.0,9,     -999.0,     -0.012,2,      0.000,2,     99.551,2
09AR20110104,       SR03,      40,          1,         12,         12,2,20110115,       0326,   -60.8470,   139.8320,       4377,  1504.4,   1.5270,  34.7441,2,  34.7453,2,    199.4,2,   199.7,2,   94.30,2,    2.10,2,  -999.0,9,  -999.0,9, -999.00,9,   30.33,2,   1.4355,     -999.0,     -999.0,9,     -999.0,     -0.014,2,      0.000,2,     99.569,2
09AR20110104,       SR03,      40,          1,         11,         11,2,20110115,       0326,   -60.8470,   139.8320,       4377,  1703.3,   1.3580,  34.7387,2,  34.7395,2,    201.8,2,   202.4,2,   99.40,2,    2.11,2,  2251.5,2,  2356.7,2, -999.00,9,   30.59,2,   1.2539,     -999.0,     -999.0,9,     -999.0,     -0.016,2,      0.000,2,     99.579,2
09AR20110104,       SR03,      40,          1,         10,         10,2,20110115,       0326,   -60.8470,   139.8320,       4377,  2001.0,   1.1205,  34.7276,2,  34.7281,2,    205.0,2,   204.8,2,  106.50,2,    2.13,2,  -999.0,9,  -999.0,9, -999.00,9,   30.97,2,   0.9971,     -999.0,     -999.0,9,     -999.0,     -0.019,2,      0.000,2,     99.594,2
09AR20110104,       SR03,      40,          1,          9,          9,2,20110115,       0326,   -60.8470,   139.8320,       4377,  2299.1,   0.9064,  34.7167,2,  34.7169,2,    207.8,2,   207.7,2,  113.20,2,    2.18,2,  -999.0,9,  -999.0,9, -999.00,9,   31.30,2,   0.7629,     -999.0,     -999.0,9,     -999.0,     -0.015,2,      0.000,2,     99.604,2
09AR20110104,       SR03,      40,          1,          8,          8,2,20110115,       0326,   -60.8470,   139.8320,       4377,  2600.4,   0.6787,  34.7048,2,  34.7241,2,    211.5,2,   211.5,2,  118.80,2,    2.21,2,  -999.0,9,  -999.0,9, -999.00,9,   31.66,2,   0.5146,     -999.0,     -999.0,9,     -999.0,     -0.020,2,      0.000,2,     99.606,2
09AR20110104,       SR03,      40,          1,          7,          7,2,20110115,       0326,   -60.8470,   139.8320,       4377,  2897.4,   0.4750,  34.6950,2,  34.6972,2,    215.4,2,   215.8,2,  123.20,2,    2.22,2,  2259.6,2,  2358.1,2, -999.00,9,   31.85,2,   0.2898,     -999.0,     -999.0,9,     -999.0,     -0.021,2,      0.000,2,     99.605,2
09AR20110104,       SR03,      40,          1,          6,          6,2,20110115,       0326,   -60.8470,   139.8320,       4377,  3199.9,   0.3280,  34.6880,2,  34.6887,2,    220.1,2,   219.6,2,  125.80,2,    2.23,2,  -999.0,9,  -999.0,9, -999.00,9,   31.91,2,   0.1193,     -999.0,     -999.0,9,     -999.0,     -0.026,2,      0.000,2,     99.606,2
09AR20110104,       SR03,      40,          1,          5,          5,2,20110115,       0326,   -60.8470,   139.8320,       4377,  3500.2,   0.2233,  34.6834,2,  34.6833,2,    222.9,2,   223.3,2,  127.50,2,    2.23,2,  -999.0,9,  -999.0,9, -999.00,9,   31.91,2,  -0.0105,     -999.0,     -999.0,9,     -999.0,     -0.022,2,      0.000,2,     99.602,2
09AR20110104,       SR03,      40,          1,          4,          4,2,20110115,       0326,   -60.8470,   139.8320,       4377,  3798.1,   0.1276,  34.6784,2,  34.6780,2,    225.7,2,   227.3,2,  127.30,2,    2.23,2,  -999.0,9,  -999.0,9, -999.00,9,   31.83,2,  -0.1322,     -999.0,     -999.0,9,     -999.0,     -0.022,2,      0.000,2,     99.606,2
09AR20110104,       SR03,      40,          1,          3,          3,2,20110115,       0326,   -60.8470,   139.8320,       4377,  4099.4,   0.0060,  34.6694,2,  34.6689,2,    232.0,2,   232.8,2,  122.10,2,    2.22,2,  -999.0,9,  -999.0,9, -999.00,9,   31.68,2,  -0.2803,     -999.0,     -999.0,9,     -999.0,     -0.023,2,      0.000,2,     99.569,2
09AR20110104,       SR03,      40,          1,          2,        102,2,20110115,       0326,   -60.8470,   139.8320,       4377,  4301.1,  -0.0789,  34.6627,2,  34.6624,2,    237.0,2,   236.8,2,  120.50,2,    2.21,2,  -999.0,9,  -999.0,9, -999.00,9,   31.58,2,  -0.3833,     -999.0,     -999.0,9,     -999.0,     -0.027,2,      0.000,2,     99.532,2
09AR20110104,       SR03,      40,          1,          1,          1,2,20110115,       0326,   -60.8470,   139.8320,       4377,  4453.4,  -0.1668,  34.6535,2,  34.6539,2,    241.9,2,   242.8,2,  121.70,2,    2.21,2,  -999.0,9,  -999.0,9, -999.00,9,   31.49,2,  -0.4843,     -999.0,     -999.0,9,     -999.0,     -0.023,2,      0.000,2,     98.825,2
09AR20110104,       SR03,      41,          1,         24,         24,2,20110115,       0938,   -61.3397,   139.8510,       4318,     8.6,   1.6164,  33.9606,2,  33.9618,2,    342.4,2,   342.0,2,   17.00,2,    1.72,2,  2157.8,6,  2291.6,6, -999.00,9,   25.94,3,   1.6160,     -999.0,     -999.0,9,     -999.0,      1.601,2,      0.262,2,     95.127,2
09AR20110104,       SR03,      41,          1,         23,         23,2,20110115,       0938,   -61.3397,   139.8510,       4318,    39.9,   1.5040,  33.9594,2,  33.9606,2,    342.9,2,   342.5,2,   17.20,2,    1.72,2,  2160.5,2,  2290.5,2, -999.00,9,   25.91,3,   1.5021,     -999.0,     -999.0,9,     -999.0,      2.028,2,      0.000,2,     94.660,2
09AR20110104,       SR03,      41,          1,         22,         22,2,20110115,       0938,   -61.3397,   139.8510,       4318,    60.0,   1.4040,  33.9590,2,  33.9606,2,    343.2,2,   342.8,2,   17.70,2,    1.79,2,  2164.4,2,  2288.2,2, -999.00,9,   26.07,3,   1.4012,     -999.0,     -999.0,9,     -999.0,      2.437,2,      0.000,2,     94.306,2
09AR20110104,       SR03,      41,          1,         21,         21,2,20110115,       0938,   -61.3397,   139.8510,       4318,    99.2,   0.0306,  33.9870,2,  33.9935,2,    340.4,2,   340.4,2,   28.10,2, -999.00,9,  2173.3,2,  2291.8,2, -999.00,9,   27.36,3,   0.0271,     -999.0,     -999.0,9,     -999.0,      1.076,2,      0.000,2,     97.791,2
09AR20110104,       SR03,      41,          1,         20,         20,2,20110115,       0938,   -61.3397,   139.8510,       4318,   149.2,   1.7819,  34.2962,2,  34.3106,2,    211.3,2,   213.2,2,   53.70,2,    2.35,2,  2228.9,2,  2306.4,2, -999.00,9,   33.25,3,   1.7743,     -999.0,     -999.0,9,     -999.0,      0.038,2,      0.000,2,     99.138,2
09AR20110104,       SR03,      41,          1,         19,         19,2,20110115,       0938,   -61.3397,   139.8510,       4318,   249.7,   2.2329,  34.4638,2,  34.4647,2,    181.0,2,   180.1,2,   65.70,2,    2.40,2,  2253.0,2,  2321.8,6, -999.00,9,   33.96,3,   2.2190,     -999.0,     -999.0,9,     -999.0,     -0.007,2,      0.000,2,     99.246,2
09AR20110104,       SR03,      41,          1,         18,         18,2,20110115,       0938,   -61.3397,   139.8510,       4318,   399.6,   2.2896,  34.5830,2,  34.5833,2,    173.6,2,   171.9,2,   74.10,2,    2.24,3,  2255.8,2,  2329.2,2, -999.00,9,   33.04,3,   2.2666,     -999.0,     -999.0,9,     -999.0,     -0.009,2,      0.000,2,     99.372,2
09AR20110104,       SR03,      41,          1,         17,         17,2,20110115,       0938,   -61.3397,   139.8510,       4318,   601.1,   2.1988,  34.6681,2,  34.6679,2,    177.6,2,   176.9,2,   77.10,2,    2.27,2,  2251.6,2,  2337.2,2, -999.00,9, -999.00,9,   2.1636,     -999.0,     -999.0,9,     -999.0,     -0.008,2,      0.000,2,     99.353,2
09AR20110104,       SR03,      41,          1,         16,         16,2,20110115,       0938,   -61.3397,   139.8510,       4318,   801.4,   2.0911,  34.7145,2,  34.7147,2,    183.4,2,   184.1,2,   78.70,2,    2.16,2,  2254.5,2,  2340.4,2, -999.00,9,   30.49,3,   2.0434,     -999.0,     -999.0,9,     -999.0,     -0.007,2,      0.000,2,     99.439,2
09AR20110104,       SR03,      41,          1,         15,         15,2,20110115,       0938,   -61.3397,   139.8510,       4318,  1001.4,   1.9917,  34.7378,2,  34.7384,2,    189.7,2,   190.6,2,   81.70,2,    2.12,2,  2245.6,2,  2342.9,2, -999.00,9, -999.00,9,   1.9312,     -999.0,     -999.0,9,     -999.0,     -0.012,2,      0.000,2,     99.466,2
09AR20110104,       SR03,      41,          1,         14,         14,2,20110115,       0938,   -61.3397,   139.8510,       4318,  1199.7,   1.8197,  34.7466,2,  34.7467,2,    193.9,2,   194.9,2,   85.40,2,    2.09,2,  2252.2,2,  2352.0,2, -999.00,9,   29.47,3,   1.7469,     -999.0,     -999.0,9,     -999.0,     -0.009,2,      0.000,2,     99.495,2
09AR20110104,       SR03,      41,          1,         13,         13,2,20110115,       0938,   -61.3397,   139.8510,       4318,  1399.2,   1.6497,  34.7475,2,  34.7500,2,    198.2,2,   198.2,2,   90.20,2,    2.08,2,  2251.2,2,  2350.8,2, -999.00,9,   29.49,3,   1.5644,     -999.0,     -999.0,9,     -999.0,     -0.011,2,      0.000,2,     99.526,2
09AR20110104,       SR03,      41,          1,         12,         12,2,20110115,       0938,   -61.3397,   139.8510,       4318,  1601.5,   1.4633,  34.7425,2,  34.7423,2,    201.6,2,   200.8,2,   96.70,2,    2.11,2,  2250.5,6,  2353.4,6, -999.00,9,   29.68,3,   1.3654,     -999.0,     -999.0,9,     -999.0,     -0.016,2,      0.000,2,     99.526,2
09AR20110104,       SR03,      41,          1,         11,         11,2,20110115,       0938,   -61.3397,   139.8510,       4318,  1799.5,   1.2784,  34.7349,2,  34.7350,2,    203.6,2,   203.2,2,  100.50,2,    2.15,2,  2255.5,2,  2354.4,2, -999.00,9,   29.96,3,   1.1681,     -999.0,     -999.0,9,     -999.0,     -0.016,2,      0.000,2,     99.512,2
09AR20110104,       SR03,      41,          1,         10,         10,2,20110115,       0938,   -61.3397,   139.8510,       4318,  2000.7,   1.1191,  34.7275,2,  34.7270,2,    205.5,2,   205.1,2,  105.60,2,    2.16,2,  2255.1,2,  2353.6,2, -999.00,9,   30.37,3,   0.9957,     -999.0,     -999.0,9,     -999.0,     -0.017,2,      0.000,2,     99.551,2
09AR20110104,       SR03,      41,          1,          9,          9,2,20110115,       0938,   -61.3397,   139.8510,       4318,  2298.3,   0.9025,  34.7162,2,  34.7155,2,    208.0,2,   207.6,2,  111.70,2,    2.19,2,  2259.5,2,  2356.1,2, -999.00,9,   31.28,3,   0.7591,     -999.0,     -999.0,9,     -999.0,     -0.017,2,      0.000,2,     99.561,2
09AR20110104,       SR03,      41,          1,          8,          8,2,20110115,       0938,   -61.3397,   139.8510,       4318,  2600.3,   0.6620,  34.7038,2,  34.7024,2,    211.6,2,   211.5,2,  118.00,2,    2.23,2,  2262.3,2,  2356.9,2, -999.00,9,   30.99,3,   0.4983,     -999.0,     -999.0,9,     -999.0,     -0.018,2,      0.000,2,     99.572,2
09AR20110104,       SR03,      41,          1,          7,          7,2,20110115,       0938,   -61.3397,   139.8510,       4318,  2899.4,   0.4698,  34.6944,2,  34.6935,2,    215.8,2,   216.0,2,  122.00,2,    2.24,2,  2258.1,2,  2356.7,2, -999.00,9,   31.23,3,   0.2846,     -999.0,     -999.0,9,     -999.0,     -0.021,2,      0.000,2,     99.572,2
09AR20110104,       SR03,      41,          1,          6,          6,2,20110115,       0938,   -61.3397,   139.8510,       4318,  3199.0,   0.3432,  34.6886,2,  34.6870,2,    219.6,2,   219.5,2,  125.30,2,    2.24,2,  2257.6,2,  2356.5,6, -999.00,9,   31.34,3,   0.1343,     -999.0,     -999.0,9,     -999.0,     -0.021,2,      0.000,2,     99.561,2
09AR20110104,       SR03,      41,          1,          5,          5,2,20110115,       0938,   -61.3397,   139.8510,       4318,  3500.7,   0.2399,  34.6844,2,  34.6825,2,    223.3,2,   222.6,2,  129.70,2,    2.27,2,  2260.6,2,  2357.0,2, -999.00,9,   31.41,3,   0.0056,     -999.0,     -999.0,9,     -999.0,     -0.023,2,      0.000,2,     99.564,2
09AR20110104,       SR03,      41,          1,          4,          4,2,20110115,       0938,   -61.3397,   139.8510,       4318,  3800.8,   0.1327,  34.6791,2,  34.6773,2,    227.3,2,   226.6,2,  129.90,2,    2.25,2,  2257.0,2,  2361.0,2, -999.00,9,   31.40,3,  -0.1275,     -999.0,     -999.0,9,     -999.0,     -0.022,2,      0.000,2,     99.532,2
09AR20110104,       SR03,      41,          1,          3,          3,2,20110115,       0938,   -61.3397,   139.8510,       4318,  3998.9,   0.0815,  34.6756,2,  34.6738,2,    229.9,2,   229.3,2,  130.90,2,    2.25,2,  2259.2,2,  2356.0,2, -999.00,9,   31.45,3,  -0.1969,     -999.0,     -999.0,9,     -999.0,     -0.022,2,      0.000,2,     99.508,2
09AR20110104,       SR03,      41,          1,          2,        102,2,20110115,       0938,   -61.3397,   139.8510,       4318,  4201.4,   0.0119,  34.6703,2,  34.6687,2,    233.2,2,   232.4,2,  128.80,2,    2.23,2,  -999.0,9,  -999.0,9, -999.00,9,   31.47,3,  -0.2850,     -999.0,     -999.0,9,     -999.0,     -0.025,2,      0.000,2,     99.487,2
09AR20110104,       SR03,      41,          1,          1,          1,2,20110115,       0938,   -61.3397,   139.8510,       4318,  4392.4,  -0.0997,  34.6600,2,  34.6582,2,    238.2,2,   237.1,2,  129.80,2,    2.23,2,  2255.7,6,  2352.3,6, -999.00,9,   31.86,3,  -0.4130,     -999.0,     -999.0,9,     -999.0,     -0.024,2,      0.000,2,     99.176,2