BOTTLE,20230419CCHSIOENA
EXPOCODE,SECT_ID,STNNBR,CASTNO,SAMPNO,BTLNBR,BTLNBR_FLAG_W,DATE,TIME,LATITUDE,LONGITUDE,DEPTH,CTDPRS,CTDTMP,CTDSAL,CTDSAL_FLAG_W,SALNTY,SALNTY_FLAG_W,CTDOXY,CTDOXY_FLAG_W,OXYGEN,OXYGEN_FLAG_W,SILCAT,SILCAT_FLAG_W,PHSPHT,PHSPHT_FLAG_W,TCARBN,TCARBN_FLAG_W,ALKALI,ALKALI_FLAG_W,DELO18,DELO18_FLAG_W,NO2+NO3,NO2+NO3_FLAG_W,THETA,O18ERR,DELD,DELD_FLAG_W,DELDERR,CTDFLUOR,CTDFLUOR_FLAG_W,PAR,PAR_FLAG_W,CTDXMISS,CTDXMISS_FLAG_W
,,,,,,,,,,,METERS,DBAR,ITS-90,PSS-78,,PSS-78,,UMOL/KG,,UMOL/KG,,UMOL/KG,,UMOL/KG,,UMOL/KG,,UMOL/KG,,/MILLE,,UMOL/KG,,DEG C,/MILLE,/MILLE,,/MILLE,MG/M^3,,UMOL/M^2/SEC,,%TRANS,
09AR20110104,       SR03,     128,          1,         24,         24,2,20110127,       2137,   -67.2047,   147.3650,        448,     9.5,  -0.3480,  33.4569,2,  33.4922,2,    327.9,3,  -999.0,9,   41.20,2,    0.87,2,  2069.2,6,  2282.6,6,   -0.48,2,   13.75,2,  -0.3483,       0.08,      -4.73,2,       0.06,     16.537,2,     13.229,2,     81.959,2
09AR20110104,       SR03,     128,          1,         23,         23,2,20110127,       2137,   -67.2047,   147.3650,        448,     9.5,  -0.3467,  33.4573,2,-999.0000,9,    327.9,3,  -999.0,9, -999.00,9, -999.00,9,  -999.0,9,  -999.0,9, -999.00,9, -999.00,9,  -0.3470,     -999.0,     -999.0,9,     -999.0,     16.567,2,     13.539,2,     82.106,2
09AR20110104,       SR03,     128,          1,         22,         22,2,20110127,       2137,   -67.2047,   147.3650,        448,     9.5,  -0.3467,  33.4588,2,-999.0000,9,    327.9,3,  -999.0,9, -999.00,9, -999.00,9,  -999.0,9,  -999.0,9, -999.00,9, -999.00,9,  -0.3470,     -999.0,     -999.0,9,     -999.0,     16.628,2,     13.619,2,     81.674,2
09AR20110104,       SR03,     128,          1,         21,         21,2,20110127,       2137,   -67.2047,   147.3650,        448,    34.5,  -1.3570,  34.2159,2,-999.0000,9,    330.7,2,  -999.0,9, -999.00,9, -999.00,9,  -999.0,9,  -999.0,9, -999.00,9, -999.00,9,  -1.3578,     -999.0,     -999.0,9,     -999.0,     16.323,2,      0.047,2,     87.833,2
09AR20110104,       SR03,     128,          1,         20,         20,2,20110127,       2137,   -67.2047,   147.3650,        448,    34.5,  -1.3605,  34.2170,2,-999.0000,9,    330.7,2,  -999.0,9, -999.00,9, -999.00,9,  -999.0,9,  -999.0,9, -999.00,9, -999.00,9,  -1.3613,     -999.0,     -999.0,9,     -999.0,     15.121,2,      0.048,2,     87.393,2
09AR20110104,       SR03,     128,          1,         19,         19,2,20110127,       2137,   -67.2047,   147.3650,        448,    34.5,  -1.3616,  34.2176,2,-999.0000,9,    330.7,2,  -999.0,9, -999.00,9, -999.00,9,  -999.0,9,  -999.0,9, -999.00,9, -999.00,9,  -1.3624,     -999.0,     -999.0,9,     -999.0,     16.601,2,      0.049,2,     87.083,2
09AR20110104,       SR03,     128,          1,         18,         18,2,20110127,       2137,   -67.2047,   147.3650,        448,    34.4,  -1.3589,  34.2176,2,  34.2321,2,    330.7,2,   335.4,2,   66.80,2,    1.90,2,  2195.7,2,  2318.2,2,   -0.34,2,   25.76,2,  -1.3597,       0.13,      -4.08,2,       0.25,     18.737,2,      0.046,2,     87.297,2
09AR20110104,       SR03,     128,          1,         17,         17,2,20110127,       2137,   -67.2047,   147.3650,        448,    34.4,  -1.3572,  34.2149,2,-999.0000,9,    330.7,2,  -999.0,9, -999.00,9, -999.00,9,  -999.0,9,  -999.0,9, -999.00,9, -999.00,9,  -1.3580,     -999.0,     -999.0,9,     -999.0,     20.277,2,      0.046,2,     86.781,2
09AR20110104,       SR03,     128,          1,         16,         16,2,20110127,       2137,   -67.2047,   147.3650,        448,    92.5,  -1.6362,  34.3601,2,-999.0000,9,    311.5,2,  -999.0,9, -999.00,9, -999.00,9,  -999.0,9,  -999.0,9, -999.00,9, -999.00,9,  -1.6382,     -999.0,     -999.0,9,     -999.0,      1.982,2,      0.000,2,     96.428,2
09AR20110104,       SR03,     128,          1,         15,         15,2,20110127,       2137,   -67.2047,   147.3650,        448,    92.3,  -1.6365,  34.3599,2,-999.0000,9,    311.5,2,  -999.0,9, -999.00,9, -999.00,9,  -999.0,9,  -999.0,9, -999.00,9, -999.00,9,  -1.6385,     -999.0,     -999.0,9,     -999.0,      1.675,2,      0.000,2,     96.570,2
09AR20110104,       SR03,     128,          1,         14,         14,2,20110127,       2137,   -67.2047,   147.3650,        448,    91.9,  -1.6457,  34.3575,2,  34.3560,2,    311.5,2,   312.8,2,   70.70,2,    2.04,2,  2217.9,2,  2321.8,2,   -0.30,2,   28.57,2,  -1.6477,       0.04,      -3.66,2,       0.05,      2.367,2,      0.000,2,     96.355,2
09AR20110104,       SR03,     128,          1,         13,         13,2,20110127,       2137,   -67.2047,   147.3650,        448,    91.6,  -1.6461,  34.3570,2,-999.0000,9,    311.5,2,  -999.0,9, -999.00,9, -999.00,9,  -999.0,9,  -999.0,9, -999.00,9, -999.00,9,  -1.6480,     -999.0,     -999.0,9,     -999.0,      2.170,2,      0.000,2,     96.448,2
09AR20110104,       SR03,     128,          1,         12,         12,2,20110127,       2137,   -67.2047,   147.3650,        448,    91.4,  -1.6463,  34.3560,2,-999.0000,9,    311.5,2,  -999.0,9, -999.00,9, -999.00,9,  -999.0,9,  -999.0,9, -999.00,9, -999.00,9,  -1.6482,     -999.0,     -999.0,9,     -999.0,      2.146,2,      0.000,2,     96.353,2
09AR20110104,       SR03,     128,          1,         11,         11,2,20110127,       2137,   -67.2047,   147.3650,        448,   211.0,  -1.6329,  34.4472,2,  34.4493,2,    297.5,2,   297.6,2,   73.70,2,    2.09,2,  -999.0,9,  -999.0,9,   -0.43,2,   30.37,2,  -1.6377,       0.10,      -3.95,2,       0.06,      0.437,2,      0.000,2,     97.786,2
09AR20110104,       SR03,     128,          1,         10,         10,2,20110127,       2137,   -67.2047,   147.3650,        448,   211.0,  -1.6328,  34.4472,2,-999.0000,9,    297.5,2,  -999.0,9, -999.00,9, -999.00,9,  -999.0,9,  -999.0,9, -999.00,9, -999.00,9,  -1.6376,     -999.0,     -999.0,9,     -999.0,      0.433,2,      0.000,2,     97.793,2
09AR20110104,       SR03,     128,          1,          9,          9,2,20110127,       2137,   -67.2047,   147.3650,        448,   210.9,  -1.6329,  34.4472,2,-999.0000,9,    297.5,2,  -999.0,9, -999.00,9, -999.00,9,  -999.0,9,  -999.0,9, -999.00,9, -999.00,9,  -1.6377,     -999.0,     -999.0,9,     -999.0,      0.584,2,      0.000,2,     97.771,2
09AR20110104,       SR03,     128,          1,          8,          8,2,20110127,       2137,   -67.2047,   147.3650,        448,   303.0,  -1.7591,  34.5069,2,  34.5056,2,    300.5,2,   299.9,2,   73.60,2,    2.09,2,  2233.9,2,  2331.2,2,   -0.40,2,   30.41,2,  -1.7659,       0.04,      -4.12,2,       0.11,      0.147,2,      0.000,2,     98.675,2
09AR20110104,       SR03,     128,          1,          7,          7,2,20110127,       2137,   -67.2047,   147.3650,        448,   302.8,  -1.7604,  34.5067,2,-999.0000,9,    300.4,2,  -999.0,9, -999.00,9, -999.00,9,  -999.0,9,  -999.0,9, -999.00,9, -999.00,9,  -1.7672,     -999.0,     -999.0,9,     -999.0,      0.113,2,      0.000,2,     98.695,2
09AR20110104,       SR03,     128,          1,          6,          6,2,20110127,       2137,   -67.2047,   147.3650,        448,   302.5,  -1.7624,  34.5067,2,-999.0000,9,    300.4,2,  -999.0,9, -999.00,9, -999.00,9,  -999.0,9,  -999.0,9, -999.00,9, -999.00,9,  -1.7692,     -999.0,     -999.0,9,     -999.0,      0.072,2,      0.000,2,     98.648,2
09AR20110104,       SR03,     128,          1,          5,          5,2,20110127,       2137,   -67.2047,   147.3650,        448,   302.2,  -1.7620,  34.5062,2,-999.0000,9,    300.4,2,  -999.0,9, -999.00,9, -999.00,9,  -999.0,9,  -999.0,9, -999.00,9, -999.00,9,  -1.7688,     -999.0,     -999.0,9,     -999.0,      0.086,2,      0.000,2,     98.670,2
09AR20110104,       SR03,     128,          1,          4,          4,2,20110127,       2137,   -67.2047,   147.3650,        448,   448.3,  -1.9044,  34.5900,2,-999.0000,9,    303.3,2,  -999.0,9, -999.00,9, -999.00,9,  -999.0,9,  -999.0,9, -999.00,9, -999.00,9,  -1.9147,     -999.0,     -999.0,9,     -999.0,      0.018,2,      0.000,2,     98.411,2
09AR20110104,       SR03,     128,          1,          3,          3,2,20110127,       2137,   -67.2047,   147.3650,        448,   448.3,  -1.9045,  34.5901,2,-999.0000,9,    303.3,2,  -999.0,9, -999.00,9, -999.00,9,  -999.0,9,  -999.0,9, -999.00,9, -999.00,9,  -1.9148,     -999.0,     -999.0,9,     -999.0,      0.004,2,      0.000,2,     98.385,2
09AR20110104,       SR03,     128,          1,          2,        102,2,20110127,       2137,   -67.2047,   147.3650,        448,   448.6,  -1.9048,  34.5905,2,  34.5893,2,    303.3,2,   303.2,2,   75.40,2,    2.12,2,  -999.0,9,  -999.0,9,   -0.28,2,   30.54,2,  -1.9151,       0.04,      -3.98,2,       0.10,      0.000,2,      0.000,2,     98.371,2
09AR20110104,       SR03,     128,          1,          1,          1,2,20110127,       2137,   -67.2047,   147.3650,        448,   448.6,  -1.9045,  34.5905,2,-999.0000,9,    303.3,2,  -999.0,9, -999.00,9, -999.00,9,  -999.0,9,  -999.0,9, -999.00,9, -999.00,9,  -1.9148,     -999.0,     -999.0,9,     -999.0,      0.002,2,      0.000,2,     98.317,2
09AR20110104,       SR03,     129,          1,         24,         24,2,20110127,       2318,   -67.2107,   147.0380,        501,    10.7,  -0.6357,  33.7203,2,  33.6938,2,   -999.0,5,  -999.0,9,   47.40,2,    1.08,2,  2103.2,6,  2294.3,6,   -0.48,2,   16.03,2,  -0.6360,       0.10,      -5.00,2,       0.19,     19.266,2,     14.399,2,     81.957,2
09AR20110104,       SR03,     129,          1,         23,         23,2,20110127,       2318,   -67.2107,   147.0380,        501,    10.7,  -0.6585,  33.7352,2,-999.0000,9,   -999.0,5,  -999.0,9, -999.00,9, -999.00,9,  -999.0,9,  -999.0,9, -999.00,9, -999.00,9,  -0.6588,     -999.0,     -999.0,9,     -999.0,     17.404,2,     14.409,2,     82.821,2
09AR20110104,       SR03,     129,          1,         22,         22,2,20110127,       2318,   -67.2107,   147.0380,        501,    10.7,  -0.7287,  33.7827,2,-999.0000,9,   -999.0,5,  -999.0,9, -999.00,9, -999.00,9,  -999.0,9,  -999.0,9, -999.00,9, -999.00,9,  -0.7290,     -999.0,     -999.0,9,     -999.0,     17.957,2,     14.309,2,     82.157,2
09AR20110104,       SR03,     129,          1,         21,         21,2,20110127,       2318,   -67.2107,   147.0380,        501,    10.6,  -0.6971,  33.7606,2,-999.0000,9,   -999.0,5,  -999.0,9, -999.00,9, -999.00,9,  -999.0,9,  -999.0,9, -999.00,9, -999.00,9,  -0.6974,     -999.0,     -999.0,9,     -999.0,     16.419,2,     15.109,2,     81.891,2
09AR20110104,       SR03,     129,          1,         20,         20,2,20110127,       2318,   -67.2107,   147.0380,        501,    59.8,  -1.5376,  34.3122,2,-999.0000,9,    321.8,2,  -999.0,9, -999.00,9, -999.00,9,  -999.0,9,  -999.0,9, -999.00,9, -999.00,9,  -1.5389,     -999.0,     -999.0,9,     -999.0,     11.867,2,      0.000,2,     90.783,2
09AR20110104,       SR03,     129,          1,         19,         19,2,20110127,       2318,   -67.2107,   147.0380,        501,    59.8,  -1.5307,  34.3103,2,-999.0000,9,    321.8,2,  -999.0,9, -999.00,9, -999.00,9,  -999.0,9,  -999.0,9, -999.00,9, -999.00,9,  -1.5320,     -999.0,     -999.0,9,     -999.0,     12.652,2,      0.000,2,     90.226,2
09AR20110104,       SR03,     129,          1,         18,         18,2,20110127,       2318,   -67.2107,   147.0380,        501,    59.8,  -1.5234,  34.3083,2,  34.3086,2,    321.8,2,   322.6,2,   70.10,2, -999.00,9,  2214.4,2,  2322.7,2,   -0.30,2,   27.46,2,  -1.5247,       0.09,      -3.77,2,       0.16,     13.840,2,      0.000,2,     89.034,2
09AR20110104,       SR03,     129,          1,         17,         17,2,20110127,       2318,   -67.2107,   147.0380,        501,    59.8,  -1.5259,  34.3087,2,-999.0000,9,    321.8,2,  -999.0,9, -999.00,9, -999.00,9,  -999.0,9,  -999.0,9, -999.00,9, -999.00,9,  -1.5272,     -999.0,     -999.0,9,     -999.0,     11.772,2,      0.000,2,     89.019,2
09AR20110104,       SR03,     129,          1,         16,         16,2,20110127,       2318,   -67.2107,   147.0380,        501,    59.8,  -1.5253,  34.3084,2,-999.0000,9,    321.8,2,  -999.0,9, -999.00,9, -999.00,9,  -999.0,9,  -999.0,9, -999.00,9, -999.00,9,  -1.5266,     -999.0,     -999.0,9,     -999.0,     13.241,2,      0.000,2,     89.540,2
09AR20110104,       SR03,     129,          1,         15,         15,2,20110127,       2318,   -67.2107,   147.0380,        501,    59.8,  -1.5233,  34.3080,2,-999.0000,9,    321.8,2,  -999.0,9, -999.00,9, -999.00,9,  -999.0,9,  -999.0,9, -999.00,9, -999.00,9,  -1.5246,     -999.0,     -999.0,9,     -999.0,     15.974,2,      0.000,2,     89.332,2
09AR20110104,       SR03,     129,          1,         14,         14,2,20110127,       2318,   -67.2107,   147.0380,        501,   103.0,  -1.6391,  34.3675,2,  34.3690,2,    310.9,2,   310.4,2,   73.10,2,    2.03,2,  2223.3,2,  2325.7,2,   -0.30,2,   28.84,2,  -1.6413,       0.08,      -3.89,2,       0.18,      1.944,2,      0.000,2,     96.301,2
09AR20110104,       SR03,     129,          1,         13,         13,2,20110127,       2318,   -67.2107,   147.0380,        501,   103.0,  -1.6372,  34.3671,2,-999.0000,9,    310.9,2,  -999.0,9, -999.00,9, -999.00,9,  -999.0,9,  -999.0,9, -999.00,9, -999.00,9,  -1.6394,     -999.0,     -999.0,9,     -999.0,      1.758,2,      0.000,2,     96.338,2
09AR20110104,       SR03,     129,          1,         12,         12,2,20110127,       2318,   -67.2107,   147.0380,        501,   102.9,  -1.6359,  34.3669,2,-999.0000,9,    311.3,2,  -999.0,9, -999.00,9, -999.00,9,  -999.0,9,  -999.0,9, -999.00,9, -999.00,9,  -1.6381,     -999.0,     -999.0,9,     -999.0,      1.351,2,      0.000,2,     96.358,2
09AR20110104,       SR03,     129,          1,         11,         11,2,20110127,       2318,   -67.2107,   147.0380,        501,   202.2,  -1.6039,  34.4384,2,  34.4410,2,    298.2,2,   297.3,2,   75.30,2,    2.10,2,  2231.2,2,  2328.2,2,   -0.39,2,   29.87,2,  -1.6085,       0.04,      -3.94,2,       0.08,      0.561,2,      0.000,2,     97.742,2
09AR20110104,       SR03,     129,          1,         10,         10,2,20110127,       2318,   -67.2107,   147.0380,        501,   201.8,  -1.6053,  34.4381,2,-999.0000,9,    298.2,2,  -999.0,9, -999.00,9, -999.00,9,  -999.0,9,  -999.0,9, -999.00,9, -999.00,9,  -1.6099,     -999.0,     -999.0,9,     -999.0,      0.525,2,      0.000,2,     97.587,2
09AR20110104,       SR03,     129,          1,          9,          9,2,20110127,       2318,   -67.2107,   147.0380,        501,   201.4,  -1.6085,  34.4372,2,-999.0000,9,    298.2,2,  -999.0,9, -999.00,9, -999.00,9,  -999.0,9,  -999.0,9, -999.00,9, -999.00,9,  -1.6131,     -999.0,     -999.0,9,     -999.0,      0.507,2,      0.000,2,     97.698,2
09AR20110104,       SR03,     129,          1,          8,          8,2,20110127,       2318,   -67.2107,   147.0380,        501,   327.3,  -1.8629,  34.5432,2,  34.5435,2,    302.4,2,   302.6,2,   75.20,2,    2.09,2,  -999.0,9,  -999.0,9,   -0.33,2,   30.01,2,  -1.8701,       0.06,      -4.14,2,       0.12,      0.010,2,      0.000,2,     98.634,2
09AR20110104,       SR03,     129,          1,          7,          7,2,20110127,       2318,   -67.2107,   147.0380,        501,   327.1,  -1.8650,  34.5433,2,-999.0000,9,    302.4,2,  -999.0,9, -999.00,9, -999.00,9,  -999.0,9,  -999.0,9, -999.00,9, -999.00,9,  -1.8722,     -999.0,     -999.0,9,     -999.0,      0.057,2,      0.000,2,     98.495,2
09AR20110104,       SR03,     129,          1,          6,          6,2,20110127,       2318,   -67.2107,   147.0380,        501,   327.0,  -1.8647,  34.5432,2,-999.0000,9,    302.3,2,  -999.0,9, -999.00,9, -999.00,9,  -999.0,9,  -999.0,9, -999.00,9, -999.00,9,  -1.8719,     -999.0,     -999.0,9,     -999.0,      0.024,2,      0.000,2,     98.517,2
09AR20110104,       SR03,     129,          1,          5,          5,2,20110127,       2318,   -67.2107,   147.0380,        501,   326.8,  -1.8646,  34.5433,2,-999.0000,9,    302.3,2,  -999.0,9, -999.00,9, -999.00,9,  -999.0,9,  -999.0,9, -999.00,9, -999.00,9,  -1.8718,     -999.0,     -999.0,9,     -999.0,      0.059,2,      0.000,2,     98.633,2
09AR20110104,       SR03,     129,          1,          4,          4,2,20110127,       2318,   -67.2107,   147.0380,        501,   501.5,  -1.9061,  34.6100,2,-999.0000,9,    301.9,2,  -999.0,9, -999.00,9, -999.00,9,  -999.0,9,  -999.0,9, -999.00,9, -999.00,9,  -1.9179,     -999.0,     -999.0,9,     -999.0,      0.042,2,      0.000,2,     97.559,2
09AR20110104,       SR03,     129,          1,          3,          3,2,20110127,       2318,   -67.2107,   147.0380,        501,   501.2,  -1.9062,  34.6102,2,-999.0000,9,    301.9,2,  -999.0,9, -999.00,9, -999.00,9,  -999.0,9,  -999.0,9, -999.00,9, -999.00,9,  -1.9180,     -999.0,     -999.0,9,     -999.0,      0.018,2,      0.000,2,     97.578,2
09AR20110104,       SR03,     129,          1,          2,        102,2,20110127,       2318,   -67.2107,   147.0380,        501,   500.8,  -1.9062,  34.6103,2,  34.6101,2,    301.9,2,   302.2,2,   77.30,2,    2.13,2,  -999.0,9,  -999.0,9,   -0.42,2,   30.33,2,  -1.9180,       0.09,      -4.14,2,       0.20,      0.062,2,      0.000,2,     97.611,2
09AR20110104,       SR03,     129,          1,          1,          1,2,20110127,       2318,   -67.2107,   147.0380,        501,   500.8,  -1.9062,  34.6103,2,-999.0000,9,    301.9,2,  -999.0,9, -999.00,9, -999.00,9,  -999.0,9,  -999.0,9, -999.00,9, -999.00,9,  -1.9180,     -999.0,     -999.0,9,     -999.0,      0.045,2,      0.000,2,     97.423,2