BOTTLE,20230419CCHSIOENA
EXPOCODE,SECT_ID,STNNBR,CASTNO,SAMPNO,BTLNBR,BTLNBR_FLAG_W,DATE,TIME,LATITUDE,LONGITUDE,DEPTH,CTDPRS,CTDTMP,CTDSAL,CTDSAL_FLAG_W,SALNTY,SALNTY_FLAG_W,CTDOXY,CTDOXY_FLAG_W,OXYGEN,OXYGEN_FLAG_W,SILCAT,SILCAT_FLAG_W,PHSPHT,PHSPHT_FLAG_W,TCARBN,TCARBN_FLAG_W,ALKALI,ALKALI_FLAG_W,DELO18,DELO18_FLAG_W,NO2+NO3,NO2+NO3_FLAG_W,THETA,O18ERR,DELD,DELD_FLAG_W,DELDERR,CTDFLUOR,CTDFLUOR_FLAG_W,PAR,PAR_FLAG_W,CTDXMISS,CTDXMISS_FLAG_W
,,,,,,,,,,,METERS,DBAR,ITS-90,PSS-78,,PSS-78,,UMOL/KG,,UMOL/KG,,UMOL/KG,,UMOL/KG,,UMOL/KG,,UMOL/KG,,/MILLE,,UMOL/KG,,DEG C,/MILLE,/MILLE,,/MILLE,MG/M^3,,UMOL/M^2/SEC,,%TRANS,
09AR20110104,       SR03,      62,          1,         24,         24,2,20110119,       1747,   -65.7252,   142.9510,       2085,     8.8,   0.4023,  33.7126,2,-999.0000,9,    350.3,2,  -999.0,9, -999.00,9, -999.00,9,  -999.0,9,  -999.0,9, -999.00,9, -999.00,9,   0.4020,     -999.0,     -999.0,9,     -999.0,      1.558,2,      8.494,2,     91.860,2
09AR20110104,       SR03,      62,          1,         23,         23,2,20110119,       1747,   -65.7252,   142.9510,       2085,     9.0,   0.4028,  33.7125,2,-999.0000,9,    350.0,2,  -999.0,9, -999.00,9, -999.00,9,  -999.0,9,  -999.0,9, -999.00,9, -999.00,9,   0.4025,     -999.0,     -999.0,9,     -999.0,      1.581,2,      8.229,2,     91.853,2
09AR20110104,       SR03,      62,          1,         22,         22,2,20110119,       1747,   -65.7252,   142.9510,       2085,     9.0,   0.4032,  33.7126,2,-999.0000,9,    350.3,2,  -999.0,9, -999.00,9, -999.00,9,  -999.0,9,  -999.0,9, -999.00,9, -999.00,9,   0.4029,     -999.0,     -999.0,9,     -999.0,      1.598,2,      8.276,2,     91.869,2
09AR20110104,       SR03,      62,          1,         21,         21,2,20110119,       1747,   -65.7252,   142.9510,       2085,     8.9,   0.4024,  33.7139,2,-999.0000,9,    350.3,2,  -999.0,9, -999.00,9, -999.00,9,  -999.0,9,  -999.0,9, -999.00,9, -999.00,9,   0.4021,     -999.0,     -999.0,9,     -999.0,      1.612,2,      8.203,2,     91.858,2
09AR20110104,       SR03,      62,          1,         20,         20,2,20110119,       1747,   -65.7252,   142.9510,       2085,     9.0,   0.4003,  33.7152,2,-999.0000,9,    350.3,2,  -999.0,9, -999.00,9, -999.00,9,  -999.0,9,  -999.0,9, -999.00,9, -999.00,9,   0.4000,     -999.0,     -999.0,9,     -999.0,      1.611,2,      8.094,2,     91.839,2
09AR20110104,       SR03,      62,          1,         19,         19,2,20110119,       1747,   -65.7252,   142.9510,       2085,     8.6,   0.3949,  33.7172,2,-999.0000,9,    350.3,2,  -999.0,9, -999.00,9, -999.00,9,  -999.0,9,  -999.0,9, -999.00,9, -999.00,9,   0.3946,     -999.0,     -999.0,9,     -999.0,      1.623,2,      8.176,2,     91.816,2
09AR20110104,       SR03,      62,          1,         18,         18,2,20110119,       1747,   -65.7252,   142.9510,       2085,     8.9,   0.3896,  33.7201,2,-999.0000,9,    350.3,2,  -999.0,9, -999.00,9, -999.00,9,  -999.0,9,  -999.0,9, -999.00,9, -999.00,9,   0.3893,     -999.0,     -999.0,9,     -999.0,      1.612,2,      7.911,2,     91.783,2
09AR20110104,       SR03,      62,          1,         17,         17,2,20110119,       1747,   -65.7252,   142.9510,       2085,     8.8,   0.3896,  33.7191,2,-999.0000,9,    350.3,2,  -999.0,9, -999.00,9, -999.00,9,  -999.0,9,  -999.0,9, -999.00,9, -999.00,9,   0.3893,     -999.0,     -999.0,9,     -999.0,      1.584,2,      8.005,2,     91.752,2
09AR20110104,       SR03,      62,          1,         16,         16,2,20110119,       1747,   -65.7252,   142.9510,       2085,     8.9,   0.3891,  33.7156,2,  33.7278,2,    350.3,2,   351.4,2,   44.00,2,    1.41,2,  -999.0,9,  -999.0,9, -999.00,9,   21.66,2,   0.3888,     -999.0,     -999.0,9,     -999.0,      1.625,2,      8.279,2,     91.541,2
09AR20110104,       SR03,      62,          1,         15,         15,2,20110119,       1747,   -65.7252,   142.9510,       2085,    53.2,  -1.7400,  34.3172,2,  34.3169,2,    339.6,2,   316.7,3,   68.00,2,    2.04,2,  2217.2,2,  2319.5,2, -999.00,9,   29.00,2,  -1.7411,     -999.0,     -999.0,9,     -999.0,      1.616,2,      0.223,2,     96.530,2
09AR20110104,       SR03,      62,          1,         14,         14,2,20110119,       1747,   -65.7252,   142.9510,       2085,   105.8,  -1.8047,  34.3384,2,  34.3378,2,    314.0,2,   313.2,2,   69.00,2,    2.05,2,  2221.1,2,  2322.1,2, -999.00,9,   29.69,2,  -1.8068,     -999.0,     -999.0,9,     -999.0,      0.402,2,      0.000,2,     98.608,2
09AR20110104,       SR03,      62,          1,         13,         13,2,20110119,       1747,   -65.7252,   142.9510,       2085,   200.1,  -1.7288,  34.3716,2,  34.3698,2,    308.1,2,   308.0,2,   71.60,2,    2.04,2,  2224.1,2,  2321.1,2, -999.00,9,   29.99,2,  -1.7331,     -999.0,     -999.0,9,     -999.0,      0.059,2,      0.000,2,     99.287,2
09AR20110104,       SR03,      62,          1,         12,         12,2,20110119,       1747,   -65.7252,   142.9510,       2085,   303.7,  -0.6152,  34.4941,2,  34.4934,2,    268.1,2,   255.8,2,   78.50,2,    2.13,2,  2240.7,2,  2330.8,2, -999.00,9,   31.25,2,  -0.6250,     -999.0,     -999.0,9,     -999.0,      0.049,2,      0.000,2,     99.185,2
09AR20110104,       SR03,      62,          1,         11,         11,2,20110119,       1747,   -65.7252,   142.9510,       2085,   502.4,   0.4210,  34.6277,2,  34.6271,2,    219.4,2,   220.4,2,   88.50,2,    2.15,2,  2251.4,2,  2340.2,2, -999.00,9,   31.52,2,   0.3993,     -999.0,     -999.0,9,     -999.0,      0.025,2,      0.000,2,     99.311,2
09AR20110104,       SR03,      62,          1,         10,         10,2,20110119,       1747,   -65.7252,   142.9510,       2085,   699.8,   0.5566,  34.6686,2,  34.6687,2,    211.4,2,   212.0,2,   99.70,2,    2.18,2,  -999.0,9,  -999.0,9, -999.00,9,   31.85,2,   0.5243,     -999.0,     -999.0,9,     -999.0,     -0.010,2,      0.000,2,     99.312,2
09AR20110104,       SR03,      62,          1,          9,          9,2,20110119,       1747,   -65.7252,   142.9510,       2085,   900.7,   0.3841,  34.6692,2,  34.6687,2,    214.2,2,   215.2,2,  105.20,2,    2.20,2,  2258.9,2,  2350.9,2, -999.00,9,   32.04,2,   0.3422,     -999.0,     -999.0,9,     -999.0,     -0.016,2,      0.000,2,     99.356,2
09AR20110104,       SR03,      62,          1,          8,          8,2,20110119,       1747,   -65.7252,   142.9510,       2085,  1100.8,   0.3104,  34.6703,2,-999.0000,9,    215.0,2,  -999.0,9,  107.00,2,    2.21,2,  2259.9,2,  2349.2,6, -999.00,9,   32.03,2,   0.2580,     -999.0,     -999.0,9,     -999.0,     -0.007,2,      0.000,2,     99.340,2
09AR20110104,       SR03,      62,          1,          7,          7,2,20110119,       1747,   -65.7252,   142.9510,       2085,  1300.6,   0.2394,  34.6745,2,-999.0000,9,    219.4,2,  -999.0,9, -999.00,9, -999.00,9,  -999.0,9,  -999.0,9, -999.00,9, -999.00,9,   0.1759,     -999.0,     -999.0,9,     -999.0,     -0.022,2,      0.000,2,     99.353,2
09AR20110104,       SR03,      62,          1,          6,          6,2,20110119,       1747,   -65.7252,   142.9510,       2085,  1300.5,   0.2394,  34.6744,2,-999.0000,9,    219.4,2,  -999.0,9, -999.00,9, -999.00,9,  -999.0,9,  -999.0,9, -999.00,9, -999.00,9,   0.1759,     -999.0,     -999.0,9,     -999.0,     -0.055,2,      0.000,2,     99.353,2
09AR20110104,       SR03,      62,          1,          5,          5,2,20110119,       1747,   -65.7252,   142.9510,       2085,  1300.4,   0.2396,  34.6744,2,  34.6741,2,    219.4,2,   218.2,2,  108.50,2,    2.20,2,  2260.7,2,  2352.4,2, -999.00,9,   31.87,2,   0.1762,     -999.0,     -999.0,9,     -999.0,     -0.046,2,      0.000,2,     99.348,2
09AR20110104,       SR03,      62,          1,          4,          4,2,20110119,       1747,   -65.7252,   142.9510,       2085,  1500.5,   0.1698,  34.6725,2,-999.0000,9,    220.6,2,  -999.0,9,  107.60,2,    2.20,2,  2260.3,2,  2351.3,2, -999.00,9,   31.83,2,   0.0948,     -999.0,     -999.0,9,     -999.0,     -0.012,2,      0.000,2,     99.330,2
09AR20110104,       SR03,      62,          1,          3,          3,2,20110119,       1747,   -65.7252,   142.9510,       2085,  1801.8,   0.0206,  34.6672,2,  34.6662,2,    226.4,2,   226.3,2,  104.70,2,    2.19,2,  2259.5,2,  2351.6,2, -999.00,9,   31.75,2,  -0.0719,     -999.0,     -999.0,9,     -999.0,     -0.018,2,      0.000,2,     99.319,2
09AR20110104,       SR03,      62,          1,          2,        102,2,20110119,       1747,   -65.7252,   142.9510,       2085,  2001.5,  -0.2406,  34.6427,2,  34.6422,2,    238.2,2,   238.1,2,   98.10,2,    2.17,2,  -999.0,9,  -999.0,9, -999.00,9,   31.51,2,  -0.3426,     -999.0,     -999.0,9,     -999.0,      0.012,2,      0.000,2,     99.229,2
09AR20110104,       SR03,      62,          1,          1,          1,2,20110119,       1747,   -65.7252,   142.9510,       2085,  2109.4,  -0.2488,  34.6414,2,  34.6398,2,    239.2,2,   239.1,2,   98.20,2,    2.16,2,  2255.5,6,  2346.7,6, -999.00,9,   31.60,2,  -0.3580,     -999.0,     -999.0,9,     -999.0,     -0.029,2,      0.000,2,     99.168,2
09AR20110104,       SR03,      63,          1,         14,         14,2,20110119,       2028,   -65.7833,   142.9430,       1486,    11.9,   0.3723,  33.6795,2,  33.6807,2,    357.8,2,   351.7,2,   42.00,2,    1.41,2,  2139.2,2,  2284.7,2, -999.00,9,   21.52,2,   0.3719,     -999.0,     -999.0,9,     -999.0,      1.241,2,     33.959,2,     92.052,2
09AR20110104,       SR03,      63,          1,         13,         13,2,20110119,       2028,   -65.7833,   142.9430,       1486,    48.7,  -1.5276,  34.2752,2,  34.2783,2,    314.8,2,   325.2,2,   64.70,2,    1.98,2,  2207.8,2,  2319.9,2, -999.00,9,   27.50,2,  -1.5287,     -999.0,     -999.0,9,     -999.0,      2.312,2,      1.969,2,     93.906,2
09AR20110104,       SR03,      63,          1,         12,         12,2,20110119,       2028,   -65.7833,   142.9430,       1486,   103.2,  -1.8275,  34.3467,2,  34.3463,2,    312.4,2,   312.8,2,   69.40,2,    2.03,2,  2222.5,2,  2322.8,2, -999.00,9,   29.37,2,  -1.8295,     -999.0,     -999.0,9,     -999.0,      0.249,2,      0.064,2,     98.964,2
09AR20110104,       SR03,      63,          1,         11,         11,2,20110119,       2028,   -65.7833,   142.9430,       1486,   202.7,  -1.0195,  34.4535,2,  34.4506,2,    305.7,2,   272.8,3,   75.40,2,    2.12,2,  2233.4,2,  2328.7,2, -999.00,9,   30.30,2,  -1.0252,     -999.0,     -999.0,9,     -999.0,      0.031,2,      0.000,2,     99.254,2
09AR20110104,       SR03,      63,          1,         10,         10,2,20110119,       2028,   -65.7833,   142.9430,       1486,   349.1,   0.2623,  34.6005,2,  34.6000,2,    244.6,2,   226.4,2,   84.00,2,    2.17,2,  2249.2,2,  2336.8,2, -999.00,9,   30.92,2,   0.2482,     -999.0,     -999.0,9,     -999.0,     -0.002,2,      0.000,2,     99.246,2
09AR20110104,       SR03,      63,          1,          9,          9,2,20110119,       2028,   -65.7833,   142.9430,       1486,   502.5,   0.2458,  34.6199,2,  34.6190,2,    224.6,2,   223.3,2,   90.40,2,    2.17,2,  2254.1,2,  2344.1,2, -999.00,9,   31.03,2,   0.2248,     -999.0,     -999.0,9,     -999.0,     -0.005,2,      0.000,2,     99.318,2
09AR20110104,       SR03,      63,          1,          8,          8,2,20110119,       2028,   -65.7833,   142.9430,       1486,   653.5,   0.3689,  34.6468,2,  34.6491,2,    220.4,2,   217.7,2,   96.30,2,    2.17,2,  -999.0,9,  -999.0,9, -999.00,9,   31.11,2,   0.3401,     -999.0,     -999.0,9,     -999.0,     -0.009,2,      0.000,2,     99.294,2
09AR20110104,       SR03,      63,          1,          7,          7,2,20110119,       2028,   -65.7833,   142.9430,       1486,   804.5,   0.3051,  34.6543,2,-999.0000,9,    215.2,2,  -999.0,9, -999.00,9, -999.00,9,  -999.0,9,  -999.0,9, -999.00,9, -999.00,9,   0.2689,     -999.0,     -999.0,9,     -999.0,     -0.008,2,      0.000,2,     99.262,2
09AR20110104,       SR03,      63,          1,          6,          6,2,20110119,       2028,   -65.7833,   142.9430,       1486,   804.0,   0.3061,  34.6543,2,-999.0000,9,    215.2,2,  -999.0,9, -999.00,9, -999.00,9,  -999.0,9,  -999.0,9, -999.00,9, -999.00,9,   0.2699,     -999.0,     -999.0,9,     -999.0,     -0.005,2,      0.000,2,     99.277,2
09AR20110104,       SR03,      63,          1,          5,          5,2,20110119,       2028,   -65.7833,   142.9430,       1486,   802.8,   0.3078,  34.6546,2,  34.6543,2,    215.1,2,   218.7,2,  100.60,2,    2.19,2,  -999.0,9,  -999.0,9, -999.00,9,   31.23,2,   0.2717,     -999.0,     -999.0,9,     -999.0,     -0.009,2,      0.000,2,     99.274,2
09AR20110104,       SR03,      63,          1,          4,          4,2,20110119,       2028,   -65.7833,   142.9430,       1486,   952.7,   0.3320,  34.6673,2,  34.6674,2,    215.3,2,   216.5,2,  106.00,2,    2.21,2,  -999.0,9,  -999.0,9, -999.00,9,   31.61,2,   0.2877,     -999.0,     -999.0,9,     -999.0,     -0.013,2,      0.000,2,     99.328,2
09AR20110104,       SR03,      63,          1,          3,          3,2,20110119,       2028,   -65.7833,   142.9430,       1486,  1150.3,   0.2527,  34.6724,2,  34.6729,2,    216.9,2,   218.2,2,  109.60,2,    2.22,2,  2260.7,2,  2355.4,2, -999.00,9,   31.74,2,   0.1980,     -999.0,     -999.0,9,     -999.0,     -0.011,2,      0.000,2,     99.338,2
09AR20110104,       SR03,      63,          1,          2,        102,2,20110119,       2028,   -65.7833,   142.9430,       1486,  1400.3,  -0.0047,  34.6562,2,  34.6562,2,    228.5,2,   227.8,2,  105.20,2,    2.20,2,  -999.0,9,  -999.0,9, -999.00,9,   31.62,2,  -0.0714,     -999.0,     -999.0,9,     -999.0,     -0.013,2,      0.000,2,     99.311,2
09AR20110104,       SR03,      63,          1,          1,          1,2,20110119,       2028,   -65.7833,   142.9430,       1486,  1495.4,   0.0038,  34.6575,2,  34.6579,2,    228.6,2,   227.4,2,  105.40,2,    2.20,2,  2258.6,6,  2350.7,6, -999.00,9,   31.56,2,  -0.0688,     -999.0,     -999.0,9,     -999.0,     -0.014,2,      0.000,2,     99.292,2