BOTTLE,20230419CCHSIOENA
EXPOCODE,SECT_ID,STNNBR,CASTNO,SAMPNO,BTLNBR,BTLNBR_FLAG_W,DATE,TIME,LATITUDE,LONGITUDE,DEPTH,CTDPRS,CTDTMP,CTDSAL,CTDSAL_FLAG_W,SALNTY,SALNTY_FLAG_W,CTDOXY,CTDOXY_FLAG_W,OXYGEN,OXYGEN_FLAG_W,SILCAT,SILCAT_FLAG_W,PHSPHT,PHSPHT_FLAG_W,TCARBN,TCARBN_FLAG_W,ALKALI,ALKALI_FLAG_W,DELO18,DELO18_FLAG_W,NO2+NO3,NO2+NO3_FLAG_W,THETA,O18ERR,DELD,DELD_FLAG_W,DELDERR,CTDFLUOR,CTDFLUOR_FLAG_W,PAR,PAR_FLAG_W,CTDXMISS,CTDXMISS_FLAG_W
,,,,,,,,,,,METERS,DBAR,ITS-90,PSS-78,,PSS-78,,UMOL/KG,,UMOL/KG,,UMOL/KG,,UMOL/KG,,UMOL/KG,,UMOL/KG,,/MILLE,,UMOL/KG,,DEG C,/MILLE,/MILLE,,/MILLE,MG/M^3,,UMOL/M^2/SEC,,%TRANS,
09AR20110104,       SR03,      68,          1,         24,         24,2,20110120,       1648,   -66.0007,   142.9360,        447,     7.9,  -0.4504,  33.3363,2,  33.3416,2,    357.8,2,   357.6,2,   41.00,2,    1.27,2,  2115.5,6,  2260.2,6, -999.00,9,   21.63,2,  -0.4506,     -999.0,     -999.0,9,     -999.0,      3.065,2,      2.025,2,     91.459,2
09AR20110104,       SR03,      68,          1,         23,         23,2,20110120,       1648,   -66.0007,   142.9360,        447,     7.9,  -0.4527,  33.3366,2,-999.0000,9,    357.8,2,  -999.0,9, -999.00,9, -999.00,9,  -999.0,9,  -999.0,9, -999.00,9, -999.00,9,  -0.4529,     -999.0,     -999.0,9,     -999.0,      3.035,2,      1.988,2,     91.494,2
09AR20110104,       SR03,      68,          1,         22,         22,2,20110120,       1648,   -66.0007,   142.9360,        447,     7.9,  -0.4528,  33.3372,2,-999.0000,9,    357.8,2,  -999.0,9, -999.00,9, -999.00,9,  -999.0,9,  -999.0,9, -999.00,9, -999.00,9,  -0.4530,     -999.0,     -999.0,9,     -999.0,      2.885,2,      1.898,2,     91.455,2
09AR20110104,       SR03,      68,          1,         21,         21,2,20110120,       1648,   -66.0007,   142.9360,        447,     7.9,  -0.4524,  33.3377,2,-999.0000,9,    357.8,2,  -999.0,9, -999.00,9, -999.00,9,  -999.0,9,  -999.0,9, -999.00,9, -999.00,9,  -0.4526,     -999.0,     -999.0,9,     -999.0,      2.923,2,      1.878,2,     91.477,2
09AR20110104,       SR03,      68,          1,         20,         20,2,20110120,       1648,   -66.0007,   142.9360,        447,     7.8,  -0.4536,  33.3405,2,-999.0000,9,    357.8,2,  -999.0,9, -999.00,9, -999.00,9,  -999.0,9,  -999.0,9, -999.00,9, -999.00,9,  -0.4538,     -999.0,     -999.0,9,     -999.0,      3.017,2,      1.868,2,     91.451,2
09AR20110104,       SR03,      68,          1,         19,         19,2,20110120,       1648,   -66.0007,   142.9360,        447,    39.3,  -0.4181,  33.4943,2,-999.0000,9,    370.6,2,  -999.0,9, -999.00,9, -999.00,9,  -999.0,9,  -999.0,9, -999.00,9, -999.00,9,  -0.4193,     -999.0,     -999.0,9,     -999.0,      5.595,2,      0.055,2,     89.316,2
09AR20110104,       SR03,      68,          1,         18,         18,2,20110120,       1648,   -66.0007,   142.9360,        447,    39.4,  -0.4287,  33.4719,2,  33.5139,2,    370.6,2,   364.7,2,   42.80,2,    1.20,2,  2122.8,2,  2272.1,6, -999.00,9,   21.17,2,  -0.4299,     -999.0,     -999.0,9,     -999.0,      5.292,2,      0.044,2,     89.728,2
09AR20110104,       SR03,      68,          1,         17,         17,2,20110120,       1648,   -66.0007,   142.9360,        447,    39.4,  -0.4288,  33.4736,2,-999.0000,9,    370.6,2,  -999.0,9, -999.00,9, -999.00,9,  -999.0,9,  -999.0,9, -999.00,9, -999.00,9,  -0.4300,     -999.0,     -999.0,9,     -999.0,      5.008,2,      0.040,2,     89.576,2
09AR20110104,       SR03,      68,          1,         16,         16,2,20110120,       1648,   -66.0007,   142.9360,        447,    71.0,  -1.4686,  34.2386,2,  34.2409,2,    328.2,2,   329.2,2,   63.90,2,    1.91,2,  2201.0,2,  2317.3,2, -999.00,9,   27.50,2,  -1.4702,     -999.0,     -999.0,9,     -999.0,      5.341,2,      0.000,2,     93.138,2
09AR20110104,       SR03,      68,          1,         15,         15,2,20110120,       1648,   -66.0007,   142.9360,        447,    71.1,  -1.4892,  34.2472,2,-999.0000,9,    328.2,2,  -999.0,9, -999.00,9, -999.00,9,  -999.0,9,  -999.0,9, -999.00,9, -999.00,9,  -1.4908,     -999.0,     -999.0,9,     -999.0,      5.715,2,      0.000,2,     93.349,2
09AR20110104,       SR03,      68,          1,         14,         14,2,20110120,       1648,   -66.0007,   142.9360,        447,   131.5,  -1.5796,  34.4055,2,  34.4057,2,    301.5,2,   300.3,2,   73.40,2,    2.04,2,  2228.1,2,  2325.8,2, -999.00,9,   29.87,2,  -1.5825,     -999.0,     -999.0,9,     -999.0,      0.302,2,      0.000,2,     98.844,2
09AR20110104,       SR03,      68,          1,         13,         13,2,20110120,       1648,   -66.0007,   142.9360,        447,   131.4,  -1.5774,  34.4060,2,-999.0000,9,    301.5,2,  -999.0,9, -999.00,9, -999.00,9,  -999.0,9,  -999.0,9, -999.00,9, -999.00,9,  -1.5803,     -999.0,     -999.0,9,     -999.0,      0.256,2,      0.000,2,     98.859,2
09AR20110104,       SR03,      68,          1,         12,         12,2,20110120,       1648,   -66.0007,   142.9360,        447,   171.1,  -1.4711,  34.4513,2,  34.4536,2,    287.5,2,   291.7,2,   75.50,2,    2.05,2,  2227.4,2,  2327.5,2, -999.00,9,   30.32,2,  -1.4752,     -999.0,     -999.0,9,     -999.0,      0.005,2,      0.000,2,     99.238,2
09AR20110104,       SR03,      68,          1,         11,         11,2,20110120,       1648,   -66.0007,   142.9360,        447,   170.9,  -1.4744,  34.4506,2,-999.0000,9,    288.1,2,  -999.0,9, -999.00,9, -999.00,9,  -999.0,9,  -999.0,9, -999.00,9, -999.00,9,  -1.4784,     -999.0,     -999.0,9,     -999.0,      0.065,2,      0.000,2,     99.240,2
09AR20110104,       SR03,      68,          1,         10,         10,2,20110120,       1648,   -66.0007,   142.9360,        447,   250.9,  -1.8160,  34.5014,2,  34.5025,2,    305.2,2,   303.4,2,   74.80,2,    2.05,2,  2235.3,2,  2332.1,2, -999.00,9,   30.16,2,  -1.8214,     -999.0,     -999.0,9,     -999.0,      0.001,2,      0.000,2,     99.384,2
09AR20110104,       SR03,      68,          1,          9,          9,2,20110120,       1648,   -66.0007,   142.9360,        447,   251.0,  -1.8188,  34.5022,2,-999.0000,9,    305.2,2,  -999.0,9, -999.00,9, -999.00,9,  -999.0,9,  -999.0,9, -999.00,9, -999.00,9,  -1.8242,     -999.0,     -999.0,9,     -999.0,      0.001,2,      0.000,2,     99.397,2
09AR20110104,       SR03,      68,          1,          8,          8,2,20110120,       1648,   -66.0007,   142.9360,        447,   325.7,  -1.8481,  34.5400,2,  34.5392,2,    307.6,2,   306.9,2,   74.60,2,    2.05,2,  2233.4,2,  2333.5,2, -999.00,9,   30.03,2,  -1.8553,     -999.0,     -999.0,9,     -999.0,      0.001,2,      0.000,2,     99.295,2
09AR20110104,       SR03,      68,          1,          7,          7,2,20110120,       1648,   -66.0007,   142.9360,        447,   325.7,  -1.8484,  34.5398,2,-999.0000,9,    307.6,2,  -999.0,9, -999.00,9, -999.00,9,  -999.0,9,  -999.0,9, -999.00,9, -999.00,9,  -1.8556,     -999.0,     -999.0,9,     -999.0,     -0.006,2,      0.000,2,     99.302,2
09AR20110104,       SR03,      68,          1,          6,          6,2,20110120,       1648,   -66.0007,   142.9360,        447,   325.6,  -1.8501,  34.5393,2,-999.0000,9,    307.6,2,  -999.0,9, -999.00,9, -999.00,9,  -999.0,9,  -999.0,9, -999.00,9, -999.00,9,  -1.8573,     -999.0,     -999.0,9,     -999.0,      0.002,2,      0.000,2,     99.287,2
09AR20110104,       SR03,      68,          1,          5,          5,2,20110120,       1648,   -66.0007,   142.9360,        447,   325.7,  -1.8507,  34.5390,2,-999.0000,9,    307.6,2,  -999.0,9, -999.00,9, -999.00,9,  -999.0,9,  -999.0,9, -999.00,9, -999.00,9,  -1.8579,     -999.0,     -999.0,9,     -999.0,      0.006,2,      0.000,2,     99.292,2
09AR20110104,       SR03,      68,          1,          4,          4,2,20110120,       1648,   -66.0007,   142.9360,        447,   400.8,  -1.8787,  34.5731,2,-999.0000,9,    307.2,2,  -999.0,9, -999.00,9, -999.00,9,  2237.3,2,  2336.5,2, -999.00,9, -999.00,9,  -1.8878,     -999.0,     -999.0,9,     -999.0,      0.019,2,      0.000,2,     98.935,2
09AR20110104,       SR03,      68,          1,          3,          3,2,20110120,       1648,   -66.0007,   142.9360,        447,   400.7,  -1.8787,  34.5730,2,-999.0000,9,    307.2,2,  -999.0,9, -999.00,9, -999.00,9,  -999.0,9,  -999.0,9, -999.00,9, -999.00,9,  -1.8878,     -999.0,     -999.0,9,     -999.0,      0.006,2,      0.000,2,     98.939,2
09AR20110104,       SR03,      68,          1,          2,        102,2,20110120,       1648,   -66.0007,   142.9360,        447,   442.9,  -1.8804,  34.5739,2,  34.5745,2,    305.7,2,  -999.0,9,   73.40,2,    2.04,2,  -999.0,9,  -999.0,9, -999.00,9,   29.47,2,  -1.8906,     -999.0,     -999.0,9,     -999.0,      0.021,2,      0.000,2,     98.943,2
09AR20110104,       SR03,      68,          1,          1,          1,2,20110120,       1648,   -66.0007,   142.9360,        447,   442.9,  -1.8806,  34.5741,2,-999.0000,9,    305.7,2,   307.0,2, -999.00,9, -999.00,9,  -999.0,9,  -999.0,9, -999.00,9, -999.00,9,  -1.8908,     -999.0,     -999.0,9,     -999.0,      0.057,2,      0.000,2,     98.946,2
09AR20110104,       SR03,      69,          1,         24,         24,2,20110120,       1850,   -65.9987,   143.3180,        460,     8.8,  -0.7148,  33.2049,2,  33.2346,4,    369.0,2,   370.8,2,   35.90,2,    1.05,2,  2096.0,6,  2252.8,6, -999.00,9,   19.91,2,  -0.7150,     -999.0,     -999.0,9,     -999.0,      6.461,2,      9.235,2,     85.778,2
09AR20110104,       SR03,      69,          1,         23,         23,2,20110120,       1850,   -65.9987,   143.3180,        460,     8.8,  -0.7156,  33.2043,2,-999.0000,9,    369.0,2,  -999.0,9, -999.00,9, -999.00,9,  -999.0,9,  -999.0,9, -999.00,9, -999.00,9,  -0.7158,     -999.0,     -999.0,9,     -999.0,      6.591,2,      9.381,2,     85.889,2
09AR20110104,       SR03,      69,          1,         22,         22,2,20110120,       1850,   -65.9987,   143.3180,        460,     8.8,  -0.7128,  33.2057,2,-999.0000,9,    369.0,2,  -999.0,9, -999.00,9, -999.00,9,  -999.0,9,  -999.0,9, -999.00,9, -999.00,9,  -0.7130,     -999.0,     -999.0,9,     -999.0,      6.640,2,      9.582,2,     85.763,2
09AR20110104,       SR03,      69,          1,         21,         21,2,20110120,       1850,   -65.9987,   143.3180,        460,     8.7,  -0.7134,  33.2076,2,-999.0000,9,    369.0,2,  -999.0,9, -999.00,9, -999.00,9,  -999.0,9,  -999.0,9, -999.00,9, -999.00,9,  -0.7136,     -999.0,     -999.0,9,     -999.0,      6.784,2,      9.263,2,     85.855,2
09AR20110104,       SR03,      69,          1,         20,         20,2,20110120,       1850,   -65.9987,   143.3180,        460,    40.7,  -1.3205,  34.1473,2,  34.1539,2,    340.8,2,   339.0,2,   58.90,2,    1.74,2,  2191.1,2,  2312.5,2, -999.00,9,   25.92,2,  -1.3214,     -999.0,     -999.0,9,     -999.0,      8.223,2,      0.027,2,     91.606,2
09AR20110104,       SR03,      69,          1,         19,         19,2,20110120,       1850,   -65.9987,   143.3180,        460,    40.7,  -1.3212,  34.1487,2,-999.0000,9,    340.8,2,  -999.0,9, -999.00,9, -999.00,9,  -999.0,9,  -999.0,9, -999.00,9, -999.00,9,  -1.3221,     -999.0,     -999.0,9,     -999.0,      6.872,2,      0.029,2,     91.692,2
09AR20110104,       SR03,      69,          1,         18,         18,2,20110120,       1850,   -65.9987,   143.3180,        460,    40.7,  -1.3174,  34.1500,2,-999.0000,9,    340.8,2,  -999.0,9, -999.00,9, -999.00,9,  -999.0,9,  -999.0,9, -999.00,9, -999.00,9,  -1.3183,     -999.0,     -999.0,9,     -999.0,      8.007,2,      0.028,2,     91.766,2
09AR20110104,       SR03,      69,          1,         17,         17,2,20110120,       1850,   -65.9987,   143.3180,        460,    40.7,  -1.3160,  34.1500,2,-999.0000,9,    340.8,2,  -999.0,9, -999.00,9, -999.00,9,  -999.0,9,  -999.0,9, -999.00,9, -999.00,9,  -1.3169,     -999.0,     -999.0,9,     -999.0,      8.000,2,      0.028,2,     91.261,2
09AR20110104,       SR03,      69,          1,         16,         16,2,20110120,       1850,   -65.9987,   143.3180,        460,   103.6,  -1.6940,  34.3615,2,  34.3635,2,    306.2,2,   306.8,2,   70.80,2,    2.04,2,  2219.9,2,  2321.9,6, -999.00,9,   30.39,2,  -1.6962,     -999.0,     -999.0,9,     -999.0,      1.175,2,      0.000,2,     97.846,2
09AR20110104,       SR03,      69,          1,         15,         15,2,20110120,       1850,   -65.9987,   143.3180,        460,   103.5,  -1.6932,  34.3614,2,-999.0000,9,    306.2,2,  -999.0,9, -999.00,9, -999.00,9,  -999.0,9,  -999.0,9, -999.00,9, -999.00,9,  -1.6954,     -999.0,     -999.0,9,     -999.0,      1.086,2,      0.000,2,     97.763,2
09AR20110104,       SR03,      69,          1,         14,         14,2,20110120,       1850,   -65.9987,   143.3180,        460,   103.6,  -1.6922,  34.3619,2,-999.0000,9,    306.2,2,  -999.0,9, -999.00,9, -999.00,9,  -999.0,9,  -999.0,9, -999.00,9, -999.00,9,  -1.6944,     -999.0,     -999.0,9,     -999.0,      1.112,2,      0.000,2,     97.791,2
09AR20110104,       SR03,      69,          1,         13,         13,2,20110120,       1850,   -65.9987,   143.3180,        460,   103.5,  -1.6930,  34.3618,2,-999.0000,9,    306.2,2,  -999.0,9, -999.00,9, -999.00,9,  -999.0,9,  -999.0,9, -999.00,9, -999.00,9,  -1.6952,     -999.0,     -999.0,9,     -999.0,      0.884,2,      0.000,2,     97.868,2
09AR20110104,       SR03,      69,          1,         12,         12,2,20110120,       1850,   -65.9987,   143.3180,        460,   175.9,  -1.3623,  34.4381,2,  34.4406,2,    284.7,2,   284.9,2,   75.70,2,    2.07,2,  2230.2,2,  2328.3,2, -999.00,9,   31.15,2,  -1.3666,     -999.0,     -999.0,9,     -999.0,      0.230,2,      0.000,2,     98.882,2
09AR20110104,       SR03,      69,          1,         11,         11,2,20110120,       1850,   -65.9987,   143.3180,        460,   175.6,  -1.3613,  34.4382,2,-999.0000,9,    284.7,2,  -999.0,9, -999.00,9, -999.00,9,  -999.0,9,  -999.0,9, -999.00,9, -999.00,9,  -1.3656,     -999.0,     -999.0,9,     -999.0,      0.255,2,      0.000,2,     98.961,2
09AR20110104,       SR03,      69,          1,         10,         10,2,20110120,       1850,   -65.9987,   143.3180,        460,   251.0,  -1.1259,  34.4979,2,  34.4967,2,    275.2,2,   273.4,2,   79.30,2,    2.10,2,  2235.8,2,  2331.0,2, -999.00,9,   31.41,2,  -1.1328,     -999.0,     -999.0,9,     -999.0,      0.090,2,      0.000,2,     99.021,2
09AR20110104,       SR03,      69,          1,          9,          9,2,20110120,       1850,   -65.9987,   143.3180,        460,   250.9,  -1.1266,  34.4978,2,-999.0000,9,    275.2,2,  -999.0,9, -999.00,9, -999.00,9,  -999.0,9,  -999.0,9, -999.00,9, -999.00,9,  -1.1335,     -999.0,     -999.0,9,     -999.0,      0.112,2,      0.000,2,     99.038,2
09AR20110104,       SR03,      69,          1,          8,          8,2,20110120,       1850,   -65.9987,   143.3180,        460,   299.3,  -0.9584,  34.5445,2,  34.5491,2,    267.5,2,   267.1,2,   82.40,2,    2.12,2,  2240.7,2,  2338.2,2, -999.00,9,   31.48,2,  -0.9672,     -999.0,     -999.0,9,     -999.0,      0.115,2,      0.000,2,     99.090,2
09AR20110104,       SR03,      69,          1,          7,          7,2,20110120,       1850,   -65.9987,   143.3180,        460,   299.4,  -0.9333,  34.5477,2,-999.0000,9,    267.5,2,  -999.0,9, -999.00,9, -999.00,9,  -999.0,9,  -999.0,9, -999.00,9, -999.00,9,  -0.9422,     -999.0,     -999.0,9,     -999.0,      0.049,2,      0.000,2,     99.065,2
09AR20110104,       SR03,      69,          1,          6,          6,2,20110120,       1850,   -65.9987,   143.3180,        460,   299.5,  -0.9311,  34.5477,2,-999.0000,9,    267.5,2,  -999.0,9, -999.00,9, -999.00,9,  -999.0,9,  -999.0,9, -999.00,9, -999.00,9,  -0.9400,     -999.0,     -999.0,9,     -999.0,      0.074,2,      0.000,2,     98.961,2
09AR20110104,       SR03,      69,          1,          5,          5,2,20110120,       1850,   -65.9987,   143.3180,        460,   299.5,  -0.9304,  34.5489,2,-999.0000,9,    267.5,2,  -999.0,9, -999.00,9, -999.00,9,  -999.0,9,  -999.0,9, -999.00,9, -999.00,9,  -0.9393,     -999.0,     -999.0,9,     -999.0,      0.027,2,      0.000,2,     99.041,2
09AR20110104,       SR03,      69,          1,          4,          4,2,20110120,       1850,   -65.9987,   143.3180,        460,   400.3,  -1.8763,  34.6211,2,  34.6192,2,    305.3,2,   305.2,2,   75.20,2,    2.09,2,  2239.9,2,  2337.8,2, -999.00,9,   30.88,2,  -1.8854,     -999.0,     -999.0,9,     -999.0,      0.005,2,      0.000,2,     98.812,2
09AR20110104,       SR03,      69,          1,          3,          3,2,20110120,       1850,   -65.9987,   143.3180,        460,   460.8,  -1.8731,  34.6233,2,-999.0000,9,    306.3,2,  -999.0,9, -999.00,9, -999.00,9,  -999.0,9,  -999.0,9, -999.00,9, -999.00,9,  -1.8839,     -999.0,     -999.0,9,     -999.0,     -0.012,2,      0.000,2,     98.788,2
09AR20110104,       SR03,      69,          1,          2,        102,2,20110120,       1850,   -65.9987,   143.3180,        460,   457.7,  -1.8725,  34.6234,2,  34.6217,2,    306.2,2,   304.9,2,   74.80,2,    2.08,2,  -999.0,9,  -999.0,9, -999.00,9,   30.48,2,  -1.8832,     -999.0,     -999.0,9,     -999.0,      0.044,2,      0.000,2,     98.743,2
09AR20110104,       SR03,      69,          1,          1,          1,2,20110120,       1850,   -65.9987,   143.3180,        460,   457.7,  -1.8720,  34.6239,2,-999.0000,9,    306.2,2,  -999.0,9, -999.00,9, -999.00,9,  -999.0,9,  -999.0,9, -999.00,9, -999.00,9,  -1.8827,     -999.0,     -999.0,9,     -999.0,      0.004,2,      0.000,2,     98.736,2