BOTTLE,20230419CCHSIOENA
EXPOCODE,SECT_ID,STNNBR,CASTNO,SAMPNO,BTLNBR,BTLNBR_FLAG_W,DATE,TIME,LATITUDE,LONGITUDE,DEPTH,CTDPRS,CTDTMP,CTDSAL,CTDSAL_FLAG_W,SALNTY,SALNTY_FLAG_W,CTDOXY,CTDOXY_FLAG_W,OXYGEN,OXYGEN_FLAG_W,SILCAT,SILCAT_FLAG_W,PHSPHT,PHSPHT_FLAG_W,TCARBN,TCARBN_FLAG_W,ALKALI,ALKALI_FLAG_W,DELO18,DELO18_FLAG_W,NO2+NO3,NO2+NO3_FLAG_W,THETA,O18ERR,DELD,DELD_FLAG_W,DELDERR,CTDFLUOR,CTDFLUOR_FLAG_W,PAR,PAR_FLAG_W,CTDXMISS,CTDXMISS_FLAG_W
,,,,,,,,,,,METERS,DBAR,ITS-90,PSS-78,,PSS-78,,UMOL/KG,,UMOL/KG,,UMOL/KG,,UMOL/KG,,UMOL/KG,,UMOL/KG,,/MILLE,,UMOL/KG,,DEG C,/MILLE,/MILLE,,/MILLE,MG/M^3,,UMOL/M^2/SEC,,%TRANS,
09AR20110104,       SR03,      78,          1,         24,         24,2,20110122,       0620,   -66.3197,   142.6720,        379,    10.6,  -1.0999,  33.8321,2,  33.8237,2,    357.2,2,   357.4,2,   51.20,2,    1.34,2,  2148.9,6,  2294.0,6, -999.00,9,   22.59,2,  -1.1002,     -999.0,     -999.0,9,     -999.0,      6.046,2,     34.479,2,     89.650,2
09AR20110104,       SR03,      78,          1,         23,         23,2,20110122,       0620,   -66.3197,   142.6720,        379,    10.6,  -1.1006,  33.8339,2,-999.0000,9,    357.2,2,  -999.0,9, -999.00,9, -999.00,9,  -999.0,9,  -999.0,9, -999.00,9, -999.00,9,  -1.1009,     -999.0,     -999.0,9,     -999.0,      6.536,2,     34.699,2,     89.582,2
09AR20110104,       SR03,      78,          1,         22,         22,2,20110122,       0620,   -66.3197,   142.6720,        379,    10.6,  -1.1011,  33.8297,2,-999.0000,9,    357.2,2,  -999.0,9, -999.00,9, -999.00,9,  -999.0,9,  -999.0,9, -999.00,9, -999.00,9,  -1.1014,     -999.0,     -999.0,9,     -999.0,      6.212,2,     35.609,2,     89.533,2
09AR20110104,       SR03,      78,          1,         21,         21,2,20110122,       0620,   -66.3197,   142.6720,        379,    10.6,  -1.0774,  33.8186,2,-999.0000,9,    357.2,2,  -999.0,9, -999.00,9, -999.00,9,  -999.0,9,  -999.0,9, -999.00,9, -999.00,9,  -1.0777,     -999.0,     -999.0,9,     -999.0,      5.699,2,     36.399,2,     89.373,2
09AR20110104,       SR03,      78,          1,         20,         20,2,20110122,       0620,   -66.3197,   142.6720,        379,    10.6,  -1.0705,  33.8147,2,-999.0000,9,    357.2,2,  -999.0,9, -999.00,9, -999.00,9,  -999.0,9,  -999.0,9, -999.00,9, -999.00,9,  -1.0708,     -999.0,     -999.0,9,     -999.0,      5.387,2,     37.889,2,     89.507,2
09AR20110104,       SR03,      78,          1,         19,         19,2,20110122,       0620,   -66.3197,   142.6720,        379,    10.6,  -1.0846,  33.8177,2,-999.0000,9,    357.2,2,  -999.0,9, -999.00,9, -999.00,9,  -999.0,9,  -999.0,9, -999.00,9, -999.00,9,  -1.0849,     -999.0,     -999.0,9,     -999.0,      6.144,2,     38.239,2,     89.529,2
09AR20110104,       SR03,      78,          1,         18,         18,2,20110122,       0620,   -66.3197,   142.6720,        379,    34.8,  -1.1196,  33.8912,2,  33.9181,2,    351.5,2,   353.6,2,   54.30,2,    1.44,2,  2158.9,2,  2299.8,2, -999.00,9,   23.50,2,  -1.1204,     -999.0,     -999.0,9,     -999.0,      7.013,2,      1.699,2,     90.121,2
09AR20110104,       SR03,      78,          1,         17,         17,2,20110122,       0620,   -66.3197,   142.6720,        379,    34.5,  -1.1224,  33.8964,2,-999.0000,9,    351.5,2,  -999.0,9, -999.00,9, -999.00,9,  -999.0,9,  -999.0,9, -999.00,9, -999.00,9,  -1.1232,     -999.0,     -999.0,9,     -999.0,      6.129,2,      1.895,2,     89.986,2
09AR20110104,       SR03,      78,          1,         16,         16,2,20110122,       0620,   -66.3197,   142.6720,        379,   100.6,  -1.5730,  34.3490,2,  34.3478,2,    324.3,2,   322.5,2,   69.20,2,    1.94,2,  2214.8,2,  2323.7,6, -999.00,9,   28.38,2,  -1.5752,     -999.0,     -999.0,9,     -999.0,      1.857,2,      0.000,2,     96.002,2
09AR20110104,       SR03,      78,          1,         15,         15,2,20110122,       0620,   -66.3197,   142.6720,        379,   100.4,  -1.5701,  34.3475,2,-999.0000,9,    324.3,2,  -999.0,9, -999.00,9, -999.00,9,  -999.0,9,  -999.0,9, -999.00,9, -999.00,9,  -1.5723,     -999.0,     -999.0,9,     -999.0,      1.975,2,      0.000,2,     95.998,2
09AR20110104,       SR03,      78,          1,         14,         14,2,20110122,       0620,   -66.3197,   142.6720,        379,   150.5,  -1.6011,  34.3659,2,  34.3643,2,    319.4,2,   320.0,2,   70.30,2,    1.94,2,  2215.9,2,  2327.6,2, -999.00,9,   28.70,2,  -1.6044,     -999.0,     -999.0,9,     -999.0,      1.523,2,      0.000,2,     96.403,2
09AR20110104,       SR03,      78,          1,         13,         13,2,20110122,       0620,   -66.3197,   142.6720,        379,   150.3,  -1.5999,  34.3650,2,-999.0000,9,    319.4,2,  -999.0,9, -999.00,9, -999.00,9,  -999.0,9,  -999.0,9, -999.00,9, -999.00,9,  -1.6032,     -999.0,     -999.0,9,     -999.0,      1.689,2,      0.000,2,     96.345,2
09AR20110104,       SR03,      78,          1,         12,         12,2,20110122,       0620,   -66.3197,   142.6720,        379,   200.8,  -1.6602,  34.4075,2,  34.4088,2,    314.8,2,   316.1,2,   72.20,2,    1.98,2,  -999.0,9,  -999.0,9, -999.00,9,   29.11,2,  -1.6647,     -999.0,     -999.0,9,     -999.0,      0.815,2,      0.000,2,     97.240,2
09AR20110104,       SR03,      78,          1,         11,         11,2,20110122,       0620,   -66.3197,   142.6720,        379,   200.8,  -1.6639,  34.4111,2,-999.0000,9,    314.8,2,  -999.0,9, -999.00,9, -999.00,9,  -999.0,9,  -999.0,9, -999.00,9, -999.00,9,  -1.6684,     -999.0,     -999.0,9,     -999.0,      0.820,2,      0.000,2,     97.326,2
09AR20110104,       SR03,      78,          1,         10,         10,2,20110122,       0620,   -66.3197,   142.6720,        379,   250.2,  -1.7055,  34.4373,2,  34.4363,2,    315.1,2,   315.3,2,   73.40,2,    2.01,2,  2223.8,2,  2331.4,2, -999.00,9,   29.55,2,  -1.7111,     -999.0,     -999.0,9,     -999.0,      0.651,2,      0.000,2,     97.541,2
09AR20110104,       SR03,      78,          1,          9,          9,2,20110122,       0620,   -66.3197,   142.6720,        379,   249.8,  -1.7060,  34.4378,2,-999.0000,9,    315.1,2,  -999.0,9, -999.00,9, -999.00,9,  -999.0,9,  -999.0,9, -999.00,9, -999.00,9,  -1.7116,     -999.0,     -999.0,9,     -999.0,      0.741,2,      0.000,2,     97.515,2
09AR20110104,       SR03,      78,          1,          8,          8,2,20110122,       0620,   -66.3197,   142.6720,        379,   324.6,  -1.7815,  34.4798,2,  34.4785,2,    312.0,2,   311.7,2,   74.80,2,    2.03,2,  2228.7,2,  2333.5,2, -999.00,9,   29.87,2,  -1.7888,     -999.0,     -999.0,9,     -999.0,      0.412,2,      0.000,2,     98.184,2
09AR20110104,       SR03,      78,          1,          7,          7,2,20110122,       0620,   -66.3197,   142.6720,        379,   324.6,  -1.7825,  34.4804,2,-999.0000,9,    312.0,2,  -999.0,9, -999.00,9, -999.00,9,  -999.0,9,  -999.0,9, -999.00,9, -999.00,9,  -1.7898,     -999.0,     -999.0,9,     -999.0,      0.326,2,      0.000,2,     98.209,2
09AR20110104,       SR03,      78,          1,          6,          6,2,20110122,       0620,   -66.3197,   142.6720,        379,   324.6,  -1.7841,  34.4813,2,-999.0000,9,    312.0,2,  -999.0,9, -999.00,9, -999.00,9,  -999.0,9,  -999.0,9, -999.00,9, -999.00,9,  -1.7914,     -999.0,     -999.0,9,     -999.0,      0.493,2,      0.000,2,     98.236,2
09AR20110104,       SR03,      78,          1,          5,          5,2,20110122,       0620,   -66.3197,   142.6720,        379,   324.6,  -1.7840,  34.4813,2,-999.0000,9,    312.0,2,  -999.0,9, -999.00,9, -999.00,9,  -999.0,9,  -999.0,9, -999.00,9, -999.00,9,  -1.7913,     -999.0,     -999.0,9,     -999.0,      0.324,2,      0.000,2,     98.207,2
09AR20110104,       SR03,      78,          1,          4,          4,2,20110122,       0620,   -66.3197,   142.6720,        379,   376.3,  -1.8278,  34.5053,2,-999.0000,9,    311.3,2,  -999.0,9, -999.00,9, -999.00,9,  -999.0,9,  -999.0,9, -999.00,9, -999.00,9,  -1.8364,     -999.0,     -999.0,9,     -999.0,      0.216,2,      0.000,2,     98.426,2
09AR20110104,       SR03,      78,          1,          3,          3,2,20110122,       0620,   -66.3197,   142.6720,        379,   376.3,  -1.8254,  34.5041,2,-999.0000,9,    311.3,2,  -999.0,9, -999.00,9, -999.00,9,  -999.0,9,  -999.0,9, -999.00,9, -999.00,9,  -1.8340,     -999.0,     -999.0,9,     -999.0,      0.203,2,      0.000,2,     98.420,2
09AR20110104,       SR03,      78,          1,          2,        102,2,20110122,       0620,   -66.3197,   142.6720,        379,   372.9,  -1.8167,  34.4996,2,  34.4981,2,    311.6,2,   310.2,2,   75.70,2,    2.03,2,  -999.0,9,  -999.0,9, -999.00,9,   30.18,2,  -1.8252,     -999.0,     -999.0,9,     -999.0,      0.172,2,      0.000,2,     98.287,2
09AR20110104,       SR03,      78,          1,          1,          1,2,20110122,       0620,   -66.3197,   142.6720,        379,   372.8,  -1.8203,  34.5016,2,-999.0000,9,    311.6,2,  -999.0,9, -999.00,9, -999.00,9,  -999.0,9,  -999.0,9, -999.00,9, -999.00,9,  -1.8288,     -999.0,     -999.0,9,     -999.0,      0.159,2,      0.000,2,     98.375,2
09AR20110104,       SR03,      79,          1,         24,         24,2,20110122,       0829,   -66.4240,   142.9840,        617,     9.6,  -1.2270,  33.9807,2,  33.9818,2,    344.3,2,   349.0,2,   56.50,2,    1.57,2,  2168.9,6,  2305.5,6, -999.00,9,   23.64,2,  -1.2272,     -999.0,     -999.0,9,     -999.0,      5.822,2,     21.459,2,     90.570,2
09AR20110104,       SR03,      79,          1,         23,         23,2,20110122,       0829,   -66.4240,   142.9840,        617,     9.6,  -1.2276,  33.9817,2,-999.0000,9,    344.3,2,  -999.0,9, -999.00,9, -999.00,9,  -999.0,9,  -999.0,9, -999.00,9, -999.00,9,  -1.2278,     -999.0,     -999.0,9,     -999.0,      5.646,2,     21.559,2,     90.452,2
09AR20110104,       SR03,      79,          1,         22,         22,2,20110122,       0829,   -66.4240,   142.9840,        617,     9.6,  -1.2268,  33.9820,2,-999.0000,9,    344.3,2,  -999.0,9, -999.00,9, -999.00,9,  -999.0,9,  -999.0,9, -999.00,9, -999.00,9,  -1.2270,     -999.0,     -999.0,9,     -999.0,      5.963,2,     21.669,2,     90.555,2
09AR20110104,       SR03,      79,          1,         21,         21,2,20110122,       0829,   -66.4240,   142.9840,        617,     9.6,  -1.2279,  33.9819,2,-999.0000,9,    344.3,2,  -999.0,9, -999.00,9, -999.00,9,  -999.0,9,  -999.0,9, -999.00,9, -999.00,9,  -1.2281,     -999.0,     -999.0,9,     -999.0,      5.946,2,     21.769,2,     90.230,2
09AR20110104,       SR03,      79,          1,         20,         20,2,20110122,       0829,   -66.4240,   142.9840,        617,     9.6,  -1.2281,  33.9820,2,-999.0000,9,    344.3,2,  -999.0,9, -999.00,9, -999.00,9,  -999.0,9,  -999.0,9, -999.00,9, -999.00,9,  -1.2283,     -999.0,     -999.0,9,     -999.0,      5.514,2,     21.759,2,     90.502,2
09AR20110104,       SR03,      79,          1,         19,         19,2,20110122,       0829,   -66.4240,   142.9840,        617,     9.6,  -1.2273,  33.9809,2,-999.0000,9,    344.3,2,  -999.0,9, -999.00,9, -999.00,9,  -999.0,9,  -999.0,9, -999.00,9, -999.00,9,  -1.2275,     -999.0,     -999.0,9,     -999.0,      5.454,2,     21.579,2,     90.555,2
09AR20110104,       SR03,      79,          1,         18,         18,2,20110122,       0829,   -66.4240,   142.9840,        617,    49.4,  -1.3933,  34.2170,2,  34.2177,2,    328.2,2,   335.1,2,   63.80,2,    1.80,2,  2195.9,2,  -999.0,9, -999.00,9,   26.07,2,  -1.3944,     -999.0,     -999.0,9,     -999.0,      4.749,2,      0.147,2,     93.503,2
09AR20110104,       SR03,      79,          1,         17,         17,2,20110122,       0829,   -66.4240,   142.9840,        617,    49.4,  -1.3933,  34.2173,2,-999.0000,9,    328.2,2,  -999.0,9, -999.00,9, -999.00,9,  -999.0,9,  -999.0,9, -999.00,9, -999.00,9,  -1.3944,     -999.0,     -999.0,9,     -999.0,      4.513,2,      0.152,2,     93.458,2
09AR20110104,       SR03,      79,          1,         16,         16,2,20110122,       0829,   -66.4240,   142.9840,        617,    98.7,  -1.6877,  34.3582,2,  34.3588,2,    318.8,2,   317.2,2,   72.60,2,    2.01,2,  2218.4,2,  2324.8,6, -999.00,9,   28.71,2,  -1.6898,     -999.0,     -999.0,9,     -999.0,      0.929,2,      0.000,2,     97.380,2
09AR20110104,       SR03,      79,          1,         15,         15,2,20110122,       0829,   -66.4240,   142.9840,        617,    98.6,  -1.6888,  34.3586,2,-999.0000,9,    318.8,2,  -999.0,9, -999.00,9, -999.00,9,  -999.0,9,  -999.0,9, -999.00,9, -999.00,9,  -1.6909,     -999.0,     -999.0,9,     -999.0,      1.074,2,      0.000,2,     97.392,2
09AR20110104,       SR03,      79,          1,         14,         14,2,20110122,       0829,   -66.4240,   142.9840,        617,   199.1,  -1.7478,  34.4165,2,  34.4184,2,    315.5,2,   312.2,2,   74.10,2,    2.04,2,  2223.5,2,  2327.5,2, -999.00,9,   29.32,2,  -1.7521,     -999.0,     -999.0,9,     -999.0,      0.489,2,      0.000,2,     98.362,2
09AR20110104,       SR03,      79,          1,         13,         13,2,20110122,       0829,   -66.4240,   142.9840,        617,   199.0,  -1.7493,  34.4172,2,-999.0000,9,    315.5,2,  -999.0,9, -999.00,9, -999.00,9,  -999.0,9,  -999.0,9, -999.00,9, -999.00,9,  -1.7536,     -999.0,     -999.0,9,     -999.0,      0.564,2,      0.000,2,     98.346,2
09AR20110104,       SR03,      79,          1,         12,         12,2,20110122,       0829,   -66.4240,   142.9840,        617,   350.2,  -1.7698,  34.4663,2,  34.4655,2,    314.6,2,   313.1,2,   74.00,2,    2.05,2,  2227.8,2,  2332.4,2, -999.00,9,   29.38,2,  -1.7778,     -999.0,     -999.0,9,     -999.0,      0.421,2,      0.000,2,     98.270,2
09AR20110104,       SR03,      79,          1,         11,         11,2,20110122,       0829,   -66.4240,   142.9840,        617,   350.1,  -1.7694,  34.4656,2,-999.0000,9,    314.6,2,  -999.0,9, -999.00,9, -999.00,9,  -999.0,9,  -999.0,9, -999.00,9, -999.00,9,  -1.7774,     -999.0,     -999.0,9,     -999.0,      0.511,2,      0.000,2,     98.275,2
09AR20110104,       SR03,      79,          1,         10,         10,2,20110122,       0829,   -66.4240,   142.9840,        617,   450.9,  -1.8545,  34.5074,2,  34.5068,2,    310.0,2,   309.2,2,   75.30,2,    2.07,2,  -999.0,9,  -999.0,9, -999.00,9,   29.77,2,  -1.8650,     -999.0,     -999.0,9,     -999.0,      0.132,2,      0.000,2,     98.992,2
09AR20110104,       SR03,      79,          1,          9,          9,2,20110122,       0829,   -66.4240,   142.9840,        617,   450.2,  -1.8560,  34.5087,2,-999.0000,9,    310.0,2,  -999.0,9, -999.00,9, -999.00,9,  -999.0,9,  -999.0,9, -999.00,9, -999.00,9,  -1.8664,     -999.0,     -999.0,9,     -999.0,      0.073,2,      0.000,2,     99.021,2
09AR20110104,       SR03,      79,          1,          8,          8,2,20110122,       0829,   -66.4240,   142.9840,        617,   549.4,  -1.8954,  34.5476,2,  34.5474,2,    308.0,2,   307.9,2,   75.50,2,    2.07,2,  2234.0,2,  2340.0,2, -999.00,9,   29.93,2,  -1.9085,     -999.0,     -999.0,9,     -999.0,      0.009,2,      0.000,2,     99.209,2
09AR20110104,       SR03,      79,          1,          7,          7,2,20110122,       0829,   -66.4240,   142.9840,        617,   549.5,  -1.8954,  34.5472,2,-999.0000,9,    308.0,2,  -999.0,9, -999.00,9, -999.00,9,  -999.0,9,  -999.0,9, -999.00,9, -999.00,9,  -1.9085,     -999.0,     -999.0,9,     -999.0,     -0.006,2,      0.000,2,     99.226,2
09AR20110104,       SR03,      79,          1,          6,          6,2,20110122,       0829,   -66.4240,   142.9840,        617,   549.6,  -1.8956,  34.5471,2,-999.0000,9,    308.0,2,  -999.0,9, -999.00,9, -999.00,9,  -999.0,9,  -999.0,9, -999.00,9, -999.00,9,  -1.9087,     -999.0,     -999.0,9,     -999.0,      0.007,2,      0.000,2,     99.191,2
09AR20110104,       SR03,      79,          1,          5,          5,2,20110122,       0829,   -66.4240,   142.9840,        617,   549.8,  -1.8956,  34.5470,2,-999.0000,9,    308.0,2,  -999.0,9, -999.00,9, -999.00,9,  -999.0,9,  -999.0,9, -999.00,9, -999.00,9,  -1.9087,     -999.0,     -999.0,9,     -999.0,      0.009,2,      0.000,2,     99.201,2
09AR20110104,       SR03,      79,          1,          4,          4,2,20110122,       0829,   -66.4240,   142.9840,        617,   620.2,  -1.9009,  34.5750,2,-999.0000,9,    308.6,2,  -999.0,9, -999.00,9, -999.00,9,  -999.0,9,  -999.0,9, -999.00,9, -999.00,9,  -1.9162,     -999.0,     -999.0,9,     -999.0,     -0.023,2,      0.000,2,     99.230,2
09AR20110104,       SR03,      79,          1,          3,          3,2,20110122,       0829,   -66.4240,   142.9840,        617,   620.2,  -1.9009,  34.5745,2,-999.0000,9,    308.6,2,  -999.0,9, -999.00,9, -999.00,9,  -999.0,9,  -999.0,9, -999.00,9, -999.00,9,  -1.9162,     -999.0,     -999.0,9,     -999.0,      0.004,2,      0.000,2,     99.253,2
09AR20110104,       SR03,      79,          1,          2,        102,2,20110122,       0829,   -66.4240,   142.9840,        617,   613.4,  -1.9007,  34.5733,2,  34.5710,2,    308.5,2,   307.8,2,   75.50,2,    2.08,2,  -999.0,9,  -999.0,9, -999.00,9,   30.01,2,  -1.9157,     -999.0,     -999.0,9,     -999.0,     -0.005,2,      0.000,2,     99.258,2
09AR20110104,       SR03,      79,          1,          1,          1,2,20110122,       0829,   -66.4240,   142.9840,        617,   613.3,  -1.9009,  34.5731,2,-999.0000,9,    308.5,2,  -999.0,9, -999.00,9, -999.00,9,  -999.0,9,  -999.0,9, -999.00,9, -999.00,9,  -1.9159,     -999.0,     -999.0,9,     -999.0,     -0.012,2,      0.000,2,     99.247,2