BOTTLE,20230419CCHSIOENA
EXPOCODE,SECT_ID,STNNBR,CASTNO,SAMPNO,BTLNBR,BTLNBR_FLAG_W,DATE,TIME,LATITUDE,LONGITUDE,DEPTH,CTDPRS,CTDTMP,CTDSAL,CTDSAL_FLAG_W,SALNTY,SALNTY_FLAG_W,CTDOXY,CTDOXY_FLAG_W,OXYGEN,OXYGEN_FLAG_W,SILCAT,SILCAT_FLAG_W,PHSPHT,PHSPHT_FLAG_W,TCARBN,TCARBN_FLAG_W,ALKALI,ALKALI_FLAG_W,DELO18,DELO18_FLAG_W,NO2+NO3,NO2+NO3_FLAG_W,THETA,O18ERR,DELD,DELD_FLAG_W,DELDERR,CTDFLUOR,CTDFLUOR_FLAG_W,PAR,PAR_FLAG_W,CTDXMISS,CTDXMISS_FLAG_W
,,,,,,,,,,,METERS,DBAR,ITS-90,PSS-78,,PSS-78,,UMOL/KG,,UMOL/KG,,UMOL/KG,,UMOL/KG,,UMOL/KG,,UMOL/KG,,/MILLE,,UMOL/KG,,DEG C,/MILLE,/MILLE,,/MILLE,MG/M^3,,UMOL/M^2/SEC,,%TRANS,
09AR20110104,       SR03,      54,          1,         24,         24,2,20110118,       0523,   -65.5718,   139.8400,        755,     8.9,   0.3638,  33.8575,2,  33.8597,2,    353.8,2,   354.8,2,   46.40,2,    1.59,2,  2161.3,2,  2288.8,2, -999.00,9,   26.58,3,   0.3635,     -999.0,     -999.0,9,     -999.0,      0.123,2,    311.939,2,     93.197,2
09AR20110104,       SR03,      54,          1,         23,         23,2,20110118,       0523,   -65.5718,   139.8400,        755,    38.8,  -0.2664,  33.9763,2,  33.9752,2,    354.5,2,   355.0,2,   47.80,2,    1.60,2,  2168.3,2,  2297.2,2, -999.00,9,   25.69,2,  -0.2676,     -999.0,     -999.0,9,     -999.0,      1.717,2,     32.689,2,     91.892,2
09AR20110104,       SR03,      54,          1,         22,         22,2,20110118,       0523,   -65.5718,   139.8400,        755,    65.2,  -1.5710,  34.2607,2,  34.2612,2,    331.6,2,  -999.0,9,   59.80,2,    1.93,2,  -999.0,9,  -999.0,9, -999.00,9,   29.00,2,  -1.5724,     -999.0,     -999.0,9,     -999.0,      3.245,2,      3.935,2,     95.423,2
09AR20110104,       SR03,      54,          1,         21,         21,2,20110118,       0523,   -65.5718,   139.8400,        755,    65.1,  -1.5723,  34.2606,2,-999.0000,9,    331.6,2,  -999.0,9, -999.00,9, -999.00,9,  -999.0,9,  -999.0,9, -999.00,9, -999.00,9,  -1.5737,     -999.0,     -999.0,9,     -999.0,      3.125,2,      3.998,2,     95.459,2
09AR20110104,       SR03,      54,          1,         20,         20,2,20110118,       0523,   -65.5718,   139.8400,        755,    65.2,  -1.5728,  34.2603,2,-999.0000,9,    331.6,2,  -999.0,9, -999.00,9, -999.00,9,  -999.0,9,  -999.0,9, -999.00,9, -999.00,9,  -1.5742,     -999.0,     -999.0,9,     -999.0,      2.906,2,      4.024,2,     95.341,2
09AR20110104,       SR03,      54,          1,         19,         19,2,20110118,       0523,   -65.5718,   139.8400,        755,    65.2,  -1.5733,  34.2599,2,-999.0000,9,    331.6,2,  -999.0,9, -999.00,9, -999.00,9,  -999.0,9,  -999.0,9, -999.00,9, -999.00,9,  -1.5747,     -999.0,     -999.0,9,     -999.0,      3.313,2,      3.985,2,     95.385,2
09AR20110104,       SR03,      54,          1,         18,         18,2,20110118,       0523,   -65.5718,   139.8400,        755,    81.3,  -1.6761,  34.3482,2,-999.0000,9,    310.9,2,  -999.0,9, -999.00,9, -999.00,9,  -999.0,9,  -999.0,9, -999.00,9, -999.00,9,  -1.6778,     -999.0,     -999.0,9,     -999.0,      1.100,2,      1.068,2,     97.967,2
09AR20110104,       SR03,      54,          1,         17,         17,2,20110118,       0523,   -65.5718,   139.8400,        755,    81.2,  -1.6760,  34.3484,2,-999.0000,9,    310.9,2,  -999.0,9, -999.00,9, -999.00,9,  -999.0,9,  -999.0,9, -999.00,9, -999.00,9,  -1.6777,     -999.0,     -999.0,9,     -999.0,      1.150,2,      1.049,2,     97.897,2
09AR20110104,       SR03,      54,          1,         16,         16,2,20110118,       0523,   -65.5718,   139.8400,        755,    81.2,  -1.6755,  34.3486,2,-999.0000,9,    310.9,2,  -999.0,9, -999.00,9, -999.00,9,  -999.0,9,  -999.0,9, -999.00,9, -999.00,9,  -1.6772,     -999.0,     -999.0,9,     -999.0,      1.260,2,      1.020,2,     97.866,2
09AR20110104,       SR03,      54,          1,         15,         15,2,20110118,       0523,   -65.5718,   139.8400,        755,    80.8,  -1.6754,  34.3489,2,-999.0000,9,    313.5,2,  -999.0,9, -999.00,9, -999.00,9,  -999.0,9,  -999.0,9, -999.00,9, -999.00,9,  -1.6771,     -999.0,     -999.0,9,     -999.0,      1.203,2,      1.045,2,     97.890,2
09AR20110104,       SR03,      54,          1,         14,         14,2,20110118,       0523,   -65.5718,   139.8400,        755,    80.6,  -1.6755,  34.3487,2,  34.3475,2,    313.5,2,   301.2,2,   65.80,2,    2.04,2,  2218.4,2,  2318.6,2,   -0.34,2,   30.34,2,  -1.6772,       0.06,      -3.34,2,       0.06,      1.097,2,      1.030,2,     97.921,2
09AR20110104,       SR03,      54,          1,         13,         13,2,20110118,       0523,   -65.5718,   139.8400,        755,   119.6,  -1.5402,  34.4072,2,  34.4061,2,    290.4,2,   287.6,2,   68.80,2,    2.06,2,  -999.0,9,  -999.0,9, -999.00,9,   30.92,2,  -1.5429,     -999.0,     -999.0,9,     -999.0,      0.184,2,      0.168,2,     99.192,2
09AR20110104,       SR03,      54,          1,         12,         12,2,20110118,       0523,   -65.5718,   139.8400,        755,   180.6,  -1.2143,  34.4685,2,  34.4697,2,    274.9,2,   277.7,2,   73.20,2,    2.08,2,  2232.3,2,  2326.4,2, -999.00,9,   30.95,2,  -1.2190,     -999.0,     -999.0,9,     -999.0,      0.073,2,      0.000,2,     99.247,2
09AR20110104,       SR03,      54,          1,         11,         11,2,20110118,       0523,   -65.5718,   139.8400,        755,   241.1,  -0.5973,  34.5292,2,  34.5283,2,    252.7,2,   253.5,2,   78.30,2,    2.09,2,  -999.0,9,  -999.0,9, -999.00,9,   31.31,2,  -0.6050,     -999.0,     -999.0,9,     -999.0,     -0.005,2,      0.000,2,     99.375,2
09AR20110104,       SR03,      54,          1,         10,         10,2,20110118,       0523,   -65.5718,   139.8400,        755,   358.7,   0.1051,  34.6123,2,  34.6120,2,    232.8,2,   228.0,2,   89.70,2,    2.13,2,  2248.8,2,  2342.4,2,   -0.17,2,   31.65,2,   0.0910,       0.06,      -2.43,2,       0.08,     -0.012,2,      0.000,2,     99.409,2
09AR20110104,       SR03,      54,          1,          9,          9,2,20110118,       0523,   -65.5718,   139.8400,        755,   419.5,  -0.2641,  34.6111,2,  34.6113,2,    236.8,2,   242.8,2,   90.10,2,    2.11,2,  -999.0,9,  -999.0,9, -999.00,9,   31.51,2,  -0.2795,     -999.0,     -999.0,9,     -999.0,      0.009,2,      0.000,2,     99.277,2
09AR20110104,       SR03,      54,          1,          8,          8,2,20110118,       0523,   -65.5718,   139.8400,        755,   479.9,  -0.7197,  34.5828,2,  34.5832,2,    241.8,2,   261.4,2,   85.30,2,    2.10,2,  2242.7,2,  2337.9,6, -999.00,9,   31.28,2,  -0.7357,     -999.0,     -999.0,9,     -999.0,      0.014,2,      0.000,2,     99.271,2
09AR20110104,       SR03,      54,          1,          7,          7,2,20110118,       0523,   -65.5718,   139.8400,        755,   479.8,  -0.5401,  34.5933,2,-999.0000,9,    241.8,2,  -999.0,9, -999.00,9, -999.00,9,  -999.0,9,  -999.0,9, -999.00,9, -999.00,9,  -0.5568,     -999.0,     -999.0,9,     -999.0,      0.006,2,      0.000,2,     99.275,2
09AR20110104,       SR03,      54,          1,          6,          6,2,20110118,       0523,   -65.5718,   139.8400,        755,   479.6,  -0.5182,  34.5952,2,-999.0000,9,    241.8,2,  -999.0,9, -999.00,9, -999.00,9,  -999.0,9,  -999.0,9, -999.00,9, -999.00,9,  -0.5350,     -999.0,     -999.0,9,     -999.0,     -0.007,2,      0.000,2,     99.299,2
09AR20110104,       SR03,      54,          1,          5,          5,2,20110118,       0523,   -65.5718,   139.8400,        755,   500.2,  -0.5295,  34.5944,2,  34.5694,2,    244.4,2,   254.4,2,   87.20,2,    2.10,2,  -999.0,9,  -999.0,9, -999.00,9,   31.47,2,  -0.5471,     -999.0,     -999.0,9,     -999.0,      0.003,2,      0.000,2,     99.307,2
09AR20110104,       SR03,      54,          1,          4,          4,2,20110118,       0523,   -65.5718,   139.8400,        755,   550.6,  -1.0276,  34.5697,2,  34.5688,2,    274.7,2,   273.7,2,   82.60,2,    2.08,2,  2241.7,2,  2338.5,2,   -0.32,2,   31.39,2,  -1.0449,       0.10,      -3.43,2,       0.14,      0.007,2,      0.000,2,     99.246,2
09AR20110104,       SR03,      54,          1,          3,          3,2,20110118,       0523,   -65.5718,   139.8400,        755,   650.7,  -1.1155,  34.5689,2,  34.5636,4,    279.2,2,   276.5,2,   81.70,2,    2.06,2,  -999.0,9,  -999.0,9, -999.00,9,   30.98,2,  -1.1360,     -999.0,     -999.0,9,     -999.0,     -0.023,2,      0.000,2,     99.230,2
09AR20110104,       SR03,      54,          1,          2,        102,2,20110118,       0523,   -65.5718,   139.8400,        755,   700.5,  -1.1959,  34.5631,2,  34.5622,2,    279.6,2,   280.2,2,   80.20,2,    2.05,2,  -999.0,9,  -999.0,9, -999.00,9,   30.46,2,  -1.2179,     -999.0,     -999.0,9,     -999.0,      0.012,2,      0.000,2,     99.202,2
09AR20110104,       SR03,      54,          1,          1,          1,2,20110118,       0523,   -65.5718,   139.8400,        755,   760.1,  -1.2048,  34.5632,2,  34.5616,2,    279.6,2,   280.9,2,   80.50,2,    2.06,2,  2239.8,6,  2338.1,6,   -0.43,2,   30.55,2,  -1.2290,       0.02,      -3.84,2,       0.10,      0.010,2,      0.000,2,     99.181,2
09AR20110104,       SR03,      55,          1,         24,         24,2,20110118,       0902,   -65.7118,   139.8490,        298,     9.6,   0.3862,  33.9886,2,  33.9945,2,    354.7,2,   353.7,2,   47.90,2,    1.54,2,  2166.5,2,  2303.3,2, -999.00,9,   25.03,2,   0.3858,     -999.0,     -999.0,9,     -999.0,      0.967,2,     34.529,2,     92.588,2
09AR20110104,       SR03,      55,          1,         23,         23,2,20110118,       0902,   -65.7118,   139.8490,        298,     9.6,   0.3906,  33.9886,2,-999.0000,9,    354.7,2,  -999.0,9, -999.00,9, -999.00,9,  -999.0,9,  -999.0,9, -999.00,9, -999.00,9,   0.3902,     -999.0,     -999.0,9,     -999.0,      0.916,2,     34.559,2,     92.593,2
09AR20110104,       SR03,      55,          1,         22,         22,2,20110118,       0902,   -65.7118,   139.8490,        298,     9.6,   0.3902,  33.9884,2,-999.0000,9,    354.7,2,  -999.0,9, -999.00,9, -999.00,9,  -999.0,9,  -999.0,9, -999.00,9, -999.00,9,   0.3898,     -999.0,     -999.0,9,     -999.0,      0.887,2,     34.459,2,     92.570,2
09AR20110104,       SR03,      55,          1,         21,         21,2,20110118,       0902,   -65.7118,   139.8490,        298,     9.6,   0.3895,  33.9884,2,-999.0000,9,    354.7,2,  -999.0,9, -999.00,9, -999.00,9,  -999.0,9,  -999.0,9, -999.00,9, -999.00,9,   0.3891,     -999.0,     -999.0,9,     -999.0,      0.909,2,     34.119,2,     92.607,2
09AR20110104,       SR03,      55,          1,         20,         20,2,20110118,       0902,   -65.7118,   139.8490,        298,     9.6,   0.3897,  33.9884,2,-999.0000,9,    354.7,2,  -999.0,9, -999.00,9, -999.00,9,  -999.0,9,  -999.0,9, -999.00,9, -999.00,9,   0.3893,     -999.0,     -999.0,9,     -999.0,      0.945,2,     34.269,2,     92.596,2
09AR20110104,       SR03,      55,          1,         19,         19,2,20110118,       0902,   -65.7118,   139.8490,        298,     9.6,   0.3901,  33.9885,2,-999.0000,9,    354.7,2,  -999.0,9, -999.00,9, -999.00,9,  -999.0,9,  -999.0,9, -999.00,9, -999.00,9,   0.3897,     -999.0,     -999.0,9,     -999.0,      0.936,2,     34.659,2,     92.536,2
09AR20110104,       SR03,      55,          1,         18,         18,2,20110118,       0902,   -65.7118,   139.8490,        298,     9.6,   0.3868,  33.9888,2,-999.0000,9,    354.7,2,  -999.0,9, -999.00,9, -999.00,9,  -999.0,9,  -999.0,9, -999.00,9, -999.00,9,   0.3864,     -999.0,     -999.0,9,     -999.0,      1.059,2,     35.469,2,     92.615,2
09AR20110104,       SR03,      55,          1,         17,         17,2,20110118,       0902,   -65.7118,   139.8490,        298,    24.8,   0.2330,  34.0057,2,  34.0166,2,    356.8,2,   354.1,2,   48.10,2,    1.56,2,  -999.0,9,  -999.0,9, -999.00,9,   25.22,2,   0.2321,     -999.0,     -999.0,9,     -999.0,      1.430,2,     11.209,2,     92.323,2
09AR20110104,       SR03,      55,          1,         16,         16,2,20110118,       0902,   -65.7118,   139.8490,        298,    24.7,   0.1940,  34.0089,2,-999.0000,9,    356.8,2,  -999.0,9, -999.00,9, -999.00,9,  -999.0,9,  -999.0,9, -999.00,9, -999.00,9,   0.1931,     -999.0,     -999.0,9,     -999.0,      1.501,2,     11.049,2,     92.327,2
09AR20110104,       SR03,      55,          1,         15,         15,2,20110118,       0902,   -65.7118,   139.8490,        298,    24.7,   0.1475,  34.0128,2,-999.0000,9,    356.8,2,  -999.0,9, -999.00,9, -999.00,9,  -999.0,9,  -999.0,9, -999.00,9, -999.00,9,   0.1466,     -999.0,     -999.0,9,     -999.0,      1.491,2,     11.099,2,     92.315,2
09AR20110104,       SR03,      55,          1,         14,         14,2,20110118,       0902,   -65.7118,   139.8490,        298,    24.6,   0.1317,  34.0147,2,-999.0000,9,    356.8,2,  -999.0,9, -999.00,9, -999.00,9,  -999.0,9,  -999.0,9, -999.00,9, -999.00,9,   0.1308,     -999.0,     -999.0,9,     -999.0,      1.634,2,     10.909,2,     92.302,2
09AR20110104,       SR03,      55,          1,         13,         13,2,20110118,       0902,   -65.7118,   139.8490,        298,    54.3,  -1.0286,  34.2036,2,-999.0000,9,    339.2,2,  -999.0,9, -999.00,9, -999.00,9,  -999.0,9,  -999.0,9, -999.00,9, -999.00,9,  -1.0300,     -999.0,     -999.0,9,     -999.0,      2.142,2,      1.520,2,     95.142,2
09AR20110104,       SR03,      55,          1,         12,         12,2,20110118,       0902,   -65.7118,   139.8490,        298,    54.4,  -1.0245,  34.2019,2,-999.0000,9,    339.2,2,  -999.0,9, -999.00,9, -999.00,9,  -999.0,9,  -999.0,9, -999.00,9, -999.00,9,  -1.0259,     -999.0,     -999.0,9,     -999.0,      1.870,2,      1.508,2,     95.035,2
09AR20110104,       SR03,      55,          1,         11,         11,2,20110118,       0902,   -65.7118,   139.8490,        298,    54.2,  -1.0184,  34.1998,2,-999.0000,9,    339.2,2,  -999.0,9, -999.00,9, -999.00,9,  -999.0,9,  -999.0,9, -999.00,9, -999.00,9,  -1.0198,     -999.0,     -999.0,9,     -999.0,      1.794,2,      1.514,2,     94.972,2
09AR20110104,       SR03,      55,          1,         10,         10,2,20110118,       0902,   -65.7118,   139.8490,        298,    54.2,  -1.0085,  34.1960,2,  34.2022,2,    339.2,2,   339.2,2,   57.60,2,    1.77,2,  2190.8,2,  2314.9,2, -999.00,9,   26.75,2,  -1.0099,     -999.0,     -999.0,9,     -999.0,      1.815,2,      1.505,2,     94.948,2
09AR20110104,       SR03,      55,          1,          9,          9,2,20110118,       0902,   -65.7118,   139.8490,        298,    79.9,  -1.1528,  34.2440,2,  34.3528,4,    328.5,2,   334.1,2,   60.50,2,    1.82,2,  -999.0,9,  -999.0,9, -999.00,9,   27.21,2,  -1.1548,     -999.0,     -999.0,9,     -999.0,      1.880,2,      0.219,2,     96.008,2
09AR20110104,       SR03,      55,          1,          8,          8,2,20110118,       0902,   -65.7118,   139.8490,        298,    79.9,  -1.1548,  34.2445,2,-999.0000,9,    328.5,2,  -999.0,9, -999.00,9, -999.00,9,  -999.0,9,  -999.0,9, -999.00,9, -999.00,9,  -1.1568,     -999.0,     -999.0,9,     -999.0,      1.913,2,      0.222,2,     95.987,2
09AR20110104,       SR03,      55,          1,          7,          7,2,20110118,       0902,   -65.7118,   139.8490,        298,    79.9,  -1.1567,  34.2453,2,-999.0000,9,    328.5,2,  -999.0,9, -999.00,9, -999.00,9,  -999.0,9,  -999.0,9, -999.00,9, -999.00,9,  -1.1587,     -999.0,     -999.0,9,     -999.0,      1.905,2,      0.224,2,     95.985,2
09AR20110104,       SR03,      55,          1,          6,          6,2,20110118,       0902,   -65.7118,   139.8490,        298,    79.9,  -1.1598,  34.2463,2,-999.0000,9,    328.5,2,  -999.0,9, -999.00,9, -999.00,9,  -999.0,9,  -999.0,9, -999.00,9, -999.00,9,  -1.1618,     -999.0,     -999.0,9,     -999.0,      1.816,2,      0.225,2,     96.020,2
09AR20110104,       SR03,      55,          1,          5,          5,2,20110118,       0902,   -65.7118,   139.8490,        298,   124.3,  -1.4280,  34.3481,2,  34.3522,2,    313.5,2,   313.4,2,   67.40,2,    1.95,2,  2215.9,2,  2322.2,2, -999.00,9,   29.07,2,  -1.4309,     -999.0,     -999.0,9,     -999.0,      0.959,2,      0.000,2,     97.526,2
09AR20110104,       SR03,      55,          1,          4,          4,2,20110118,       0902,   -65.7118,   139.8490,        298,   160.2,  -1.4935,  34.3926,2,  34.3965,2,    306.2,2,   305.9,2,   70.30,2,    2.01,2,  -999.0,9,  -999.0,9, -999.00,9,   29.73,2,  -1.4972,     -999.0,     -999.0,9,     -999.0,      0.543,2,      0.000,2,     98.127,2
09AR20110104,       SR03,      55,          1,          3,          3,2,20110118,       0902,   -65.7118,   139.8490,        298,   209.8,  -1.3352,  34.4782,2,  34.4796,2,    290.4,2,   291.4,2,   75.50,2,    2.06,2,  -999.0,9,  -999.0,9, -999.00,9,   30.46,2,  -1.3405,     -999.0,     -999.0,9,     -999.0,      0.168,2,      0.000,2,     98.841,2
09AR20110104,       SR03,      55,          1,          2,        102,2,20110118,       0902,   -65.7118,   139.8490,        298,   249.6,  -1.2385,  34.5100,2,  34.5137,2,    284.6,2,   284.8,2,   78.30,2,    2.08,2,  -999.0,9,  -999.0,9, -999.00,9,   30.73,2,  -1.2451,     -999.0,     -999.0,9,     -999.0,      0.091,2,      0.000,2,     98.899,2
09AR20110104,       SR03,      55,          1,          1,          1,2,20110118,       0902,   -65.7118,   139.8490,        298,   289.0,  -1.1452,  34.5241,2,  34.5284,2,    278.7,2,   279.3,2,   80.10,2,    2.09,2,  2236.8,6,  2334.8,6, -999.00,9,   31.03,2,  -1.1532,     -999.0,     -999.0,9,     -999.0,      0.058,2,      0.000,2,     98.934,2