BOTTLE,20230419CCHSIOENA
EXPOCODE,SECT_ID,STNNBR,CASTNO,SAMPNO,BTLNBR,BTLNBR_FLAG_W,DATE,TIME,LATITUDE,LONGITUDE,DEPTH,CTDPRS,CTDTMP,CTDSAL,CTDSAL_FLAG_W,SALNTY,SALNTY_FLAG_W,CTDOXY,CTDOXY_FLAG_W,OXYGEN,OXYGEN_FLAG_W,SILCAT,SILCAT_FLAG_W,PHSPHT,PHSPHT_FLAG_W,TCARBN,TCARBN_FLAG_W,ALKALI,ALKALI_FLAG_W,DELO18,DELO18_FLAG_W,NO2+NO3,NO2+NO3_FLAG_W,THETA,O18ERR,DELD,DELD_FLAG_W,DELDERR,CTDFLUOR,CTDFLUOR_FLAG_W,PAR,PAR_FLAG_W,CTDXMISS,CTDXMISS_FLAG_W
,,,,,,,,,,,METERS,DBAR,ITS-90,PSS-78,,PSS-78,,UMOL/KG,,UMOL/KG,,UMOL/KG,,UMOL/KG,,UMOL/KG,,UMOL/KG,,/MILLE,,UMOL/KG,,DEG C,/MILLE,/MILLE,,/MILLE,MG/M^3,,UMOL/M^2/SEC,,%TRANS,
09AR20110104,       SR03,     136,          1,         24,         24,2,20110128,       1715,   -66.4812,   148.3860,        199,     9.6,  -1.5140,  33.1792,2,  33.2160,2,    381.6,2,   379.1,2,   54.30,2, -999.00,9,  2095.7,2,  2256.9,6,   -0.38,2,   20.17,2,  -1.5142,       0.06,      -4.09,2,       0.08,      6.329,2,      3.954,2,     90.505,2
09AR20110104,       SR03,     136,          1,         23,         23,2,20110128,       1715,   -66.4812,   148.3860,        199,     9.6,  -1.5097,  33.1838,2,-999.0000,9,    381.6,2,  -999.0,9, -999.00,9, -999.00,9,  -999.0,9,  -999.0,9, -999.00,9, -999.00,9,  -1.5099,     -999.0,     -999.0,9,     -999.0,      5.399,2,      3.946,2,     90.524,2
09AR20110104,       SR03,     136,          1,         22,         22,2,20110128,       1715,   -66.4812,   148.3860,        199,    33.9,  -1.1403,  34.0012,2,-999.0000,9,    356.4,2,  -999.0,9, -999.00,9, -999.00,9,  -999.0,9,  -999.0,9,   -0.41,2, -999.00,9,  -1.1411,       0.07,      -4.18,2,       0.07,     19.007,2,      0.031,2,     86.003,2
09AR20110104,       SR03,     136,          1,         21,         21,2,20110128,       1715,   -66.4812,   148.3860,        199,    33.9,  -1.1391,  33.9999,2,-999.0000,9,    356.4,2,  -999.0,9, -999.00,9, -999.00,9,  -999.0,9,  -999.0,9, -999.00,9, -999.00,9,  -1.1399,     -999.0,     -999.0,9,     -999.0,     18.879,2,      0.033,2,     84.198,2
09AR20110104,       SR03,     136,          1,         20,         20,2,20110128,       1715,   -66.4812,   148.3860,        199,    33.9,  -1.1347,  33.9970,2,-999.0000,9,    356.4,2,  -999.0,9, -999.00,9, -999.00,9,  -999.0,9,  -999.0,9, -999.00,9, -999.00,9,  -1.1355,     -999.0,     -999.0,9,     -999.0,     17.390,2,      0.032,2,     84.865,2
09AR20110104,       SR03,     136,          1,         19,         19,2,20110128,       1715,   -66.4812,   148.3860,        199,    33.9,  -1.1313,  33.9952,2,-999.0000,9,    356.4,2,  -999.0,9, -999.00,9, -999.00,9,  -999.0,9,  -999.0,9, -999.00,9, -999.00,9,  -1.1321,     -999.0,     -999.0,9,     -999.0,     17.983,2,      0.033,2,     85.570,2
09AR20110104,       SR03,     136,          1,         18,         18,2,20110128,       1715,   -66.4812,   148.3860,        199,    54.6,  -1.6236,  34.2983,2,  34.3103,2,    325.0,2,   319.3,2,   71.10,2, -999.00,9,  2217.3,2,  2319.6,2,   -0.39,2,   28.64,2,  -1.6247,       0.10,      -4.16,2,       0.18,     10.514,2,      0.000,2,     92.085,2
09AR20110104,       SR03,     136,          1,         17,         17,2,20110128,       1715,   -66.4812,   148.3860,        199,    54.6,  -1.6240,  34.2985,2,-999.0000,9,    325.0,2,  -999.0,9, -999.00,9, -999.00,9,  -999.0,9,  -999.0,9, -999.00,9, -999.00,9,  -1.6251,     -999.0,     -999.0,9,     -999.0,      8.304,2,      0.000,2,     92.041,2
09AR20110104,       SR03,     136,          1,         16,         16,2,20110128,       1715,   -66.4812,   148.3860,        199,    54.6,  -1.6243,  34.2987,2,-999.0000,9,    325.0,2,  -999.0,9, -999.00,9, -999.00,9,  -999.0,9,  -999.0,9, -999.00,9, -999.00,9,  -1.6254,     -999.0,     -999.0,9,     -999.0,      8.243,2,      0.000,2,     92.383,2
09AR20110104,       SR03,     136,          1,         15,         15,2,20110128,       1715,   -66.4812,   148.3860,        199,    54.6,  -1.6250,  34.2991,2,-999.0000,9,    325.0,2,  -999.0,9, -999.00,9, -999.00,9,  -999.0,9,  -999.0,9, -999.00,9, -999.00,9,  -1.6261,     -999.0,     -999.0,9,     -999.0,      8.720,2,      0.000,2,     92.119,2
09AR20110104,       SR03,     136,          1,         14,         14,2,20110128,       1715,   -66.4812,   148.3860,        199,    54.6,  -1.6260,  34.2996,2,-999.0000,9,    325.0,2,  -999.0,9, -999.00,9, -999.00,9,  -999.0,9,  -999.0,9, -999.00,9, -999.00,9,  -1.6271,     -999.0,     -999.0,9,     -999.0,      7.788,2,      0.000,2,     91.885,2
09AR20110104,       SR03,     136,          1,         13,         13,2,20110128,       1715,   -66.4812,   148.3860,        199,    54.6,  -1.6276,  34.3003,2,-999.0000,9,    325.0,2,  -999.0,9, -999.00,9, -999.00,9,  -999.0,9,  -999.0,9, -999.00,9, -999.00,9,  -1.6287,     -999.0,     -999.0,9,     -999.0,      8.256,2,      0.000,2,     91.808,2
09AR20110104,       SR03,     136,          1,         12,         12,2,20110128,       1715,   -66.4812,   148.3860,        199,   119.5,  -1.6934,  34.3854,2,-999.0000,9,    306.4,2,  -999.0,9, -999.00,9, -999.00,9,  -999.0,9,  -999.0,9, -999.00,9, -999.00,9,  -1.6959,     -999.0,     -999.0,9,     -999.0,      0.659,2,      0.000,2,     97.759,2
09AR20110104,       SR03,     136,          1,         11,         11,2,20110128,       1715,   -66.4812,   148.3860,        199,   119.5,  -1.6940,  34.3850,2,  34.3861,2,    306.4,2,   306.3,2,   74.30,2, -999.00,9,  2226.9,2,  2322.9,2,   -0.23,2,   30.03,2,  -1.6965,       0.03,      -3.26,2,       0.12,      0.688,2,      0.000,2,     97.750,2
09AR20110104,       SR03,     136,          1,         10,         10,2,20110128,       1715,   -66.4812,   148.3860,        199,   119.5,  -1.6937,  34.3855,2,-999.0000,9,    306.4,2,  -999.0,9, -999.00,9, -999.00,9,  -999.0,9,  -999.0,9, -999.00,9, -999.00,9,  -1.6962,     -999.0,     -999.0,9,     -999.0,      0.973,2,      0.000,2,     97.768,2
09AR20110104,       SR03,     136,          1,          9,          9,2,20110128,       1715,   -66.4812,   148.3860,        199,   119.6,  -1.6935,  34.3855,2,-999.0000,9,    306.4,2,  -999.0,9, -999.00,9, -999.00,9,  -999.0,9,  -999.0,9, -999.00,9, -999.00,9,  -1.6960,     -999.0,     -999.0,9,     -999.0,      0.863,2,      0.000,2,     97.805,2
09AR20110104,       SR03,     136,          1,          8,          8,2,20110128,       1715,   -66.4812,   148.3860,        199,   119.6,  -1.6936,  34.3855,2,-999.0000,9,    306.4,2,  -999.0,9, -999.00,9, -999.00,9,  -999.0,9,  -999.0,9, -999.00,9, -999.00,9,  -1.6961,     -999.0,     -999.0,9,     -999.0,      0.594,2,      0.000,2,     97.780,2
09AR20110104,       SR03,     136,          1,          7,          7,2,20110128,       1715,   -66.4812,   148.3860,        199,   119.7,  -1.6934,  34.3856,2,-999.0000,9,    306.4,2,  -999.0,9, -999.00,9, -999.00,9,  -999.0,9,  -999.0,9, -999.00,9, -999.00,9,  -1.6959,     -999.0,     -999.0,9,     -999.0,      0.627,2,      0.000,2,     97.699,2
09AR20110104,       SR03,     136,          1,          6,          6,2,20110128,       1715,   -66.4812,   148.3860,        199,   195.9,  -1.6972,  34.3897,2,-999.0000,9,    306.0,2,  -999.0,9, -999.00,9, -999.00,9,  -999.0,9,  -999.0,9, -999.00,9, -999.00,9,  -1.7015,     -999.0,     -999.0,9,     -999.0,      0.517,2,      0.000,2,     97.632,2
09AR20110104,       SR03,     136,          1,          5,          5,2,20110128,       1715,   -66.4812,   148.3860,        199,   195.9,  -1.6972,  34.3897,2,-999.0000,9,    306.0,2,  -999.0,9, -999.00,9, -999.00,9,  -999.0,9,  -999.0,9, -999.00,9, -999.00,9,  -1.7015,     -999.0,     -999.0,9,     -999.0,      0.611,2,      0.000,2,     97.498,2
09AR20110104,       SR03,     136,          1,          4,          4,2,20110128,       1715,   -66.4812,   148.3860,        199,   195.9,  -1.6974,  34.3897,2,-999.0000,9,    306.0,2,  -999.0,9, -999.00,9, -999.00,9,  -999.0,9,  -999.0,9, -999.00,9, -999.00,9,  -1.7017,     -999.0,     -999.0,9,     -999.0,      0.580,2,      0.000,2,     97.529,2
09AR20110104,       SR03,     136,          1,          3,          3,2,20110128,       1715,   -66.4812,   148.3860,        199,   196.0,  -1.6974,  34.3897,2,-999.0000,9,    306.0,2,  -999.0,9, -999.00,9, -999.00,9,  -999.0,9,  -999.0,9, -999.00,9, -999.00,9,  -1.7017,     -999.0,     -999.0,9,     -999.0,      0.494,2,      0.000,2,     97.601,2
09AR20110104,       SR03,     136,          1,          2,        102,2,20110128,       1715,   -66.4812,   148.3860,        199,   196.1,  -1.6974,  34.3897,2,  34.3904,2,    306.0,2,   305.8,2,   74.40,2, -999.00,9,  -999.0,9,  -999.0,9,   -0.26,2,   30.10,2,  -1.7017,       0.02,      -3.55,2,       0.15,      0.750,2,      0.000,2,     97.527,2
09AR20110104,       SR03,     136,          1,          1,          1,2,20110128,       1715,   -66.4812,   148.3860,        199,   196.1,  -1.6974,  34.3898,2,-999.0000,9,    306.0,2,  -999.0,9, -999.00,9, -999.00,9,  -999.0,9,  -999.0,9, -999.00,9, -999.00,9,  -1.7017,     -999.0,     -999.0,9,     -999.0,      0.803,2,      0.000,2,     97.474,2
09AR20110104,       SR03,     137,          1,         24,         24,2,20110129,       0621,   -66.5260,   147.1170,        567,    10.0,  -0.3457,  33.5108,2,  33.5258,2,    385.1,2,   385.2,2,   40.90,2, -999.00,9,  2070.0,2,  2284.0,2,   -0.48,2,   13.65,2,  -0.3460,       0.06,      -4.97,2,       0.27,     10.654,2,     31.539,2,     82.286,2
09AR20110104,       SR03,     137,          1,         23,         23,2,20110129,       0621,   -66.5260,   147.1170,        567,    10.0,  -0.3407,  33.5071,2,-999.0000,9,    385.1,2,  -999.0,9, -999.00,9, -999.00,9,  -999.0,9,  -999.0,9, -999.00,9, -999.00,9,  -0.3410,     -999.0,     -999.0,9,     -999.0,     11.148,2,     31.499,2,     82.567,2
09AR20110104,       SR03,     137,          1,         22,         22,2,20110129,       0621,   -66.5260,   147.1170,        567,     9.9,  -0.4093,  33.5432,2,-999.0000,9,    385.1,2,  -999.0,9, -999.00,9, -999.00,9,  -999.0,9,  -999.0,9, -999.00,9, -999.00,9,  -0.4096,     -999.0,     -999.0,9,     -999.0,     12.328,2,     31.339,2,     81.841,2
09AR20110104,       SR03,     137,          1,         21,         21,2,20110129,       0621,   -66.5260,   147.1170,        567,    10.0,  -0.4026,  33.5414,2,-999.0000,9,    385.1,2,  -999.0,9, -999.00,9, -999.00,9,  -999.0,9,  -999.0,9, -999.00,9, -999.00,9,  -0.4029,     -999.0,     -999.0,9,     -999.0,     12.401,2,     30.929,2,     81.776,2
09AR20110104,       SR03,     137,          1,         20,         20,2,20110129,       0621,   -66.5260,   147.1170,        567,    10.0,  -0.4314,  33.5561,2,-999.0000,9,    385.1,2,  -999.0,9, -999.00,9, -999.00,9,  -999.0,9,  -999.0,9, -999.00,9, -999.00,9,  -0.4317,     -999.0,     -999.0,9,     -999.0,     12.519,2,     30.689,2,     81.568,2
09AR20110104,       SR03,     137,          1,         19,         19,2,20110129,       0621,   -66.5260,   147.1170,        567,     9.9,  -0.4452,  33.5616,2,-999.0000,9,    385.1,2,  -999.0,9, -999.00,9, -999.00,9,  -999.0,9,  -999.0,9, -999.00,9, -999.00,9,  -0.4455,     -999.0,     -999.0,9,     -999.0,     13.394,2,     30.409,2,     81.225,2
09AR20110104,       SR03,     137,          1,         18,         18,2,20110129,       0621,   -66.5260,   147.1170,        567,    59.6,  -1.6498,  34.3561,2,  34.3558,2,    312.8,2,   312.8,2,   71.90,2, -999.00,9,  2219.6,2,  2323.6,2,   -0.48,2,   28.70,2,  -1.6510,       0.06,      -4.43,2,       0.14,      6.506,2,      0.000,2,     92.580,2
09AR20110104,       SR03,     137,          1,         17,         17,2,20110129,       0621,   -66.5260,   147.1170,        567,    59.6,  -1.6493,  34.3559,2,-999.0000,9,    312.8,2,  -999.0,9, -999.00,9, -999.00,9,  -999.0,9,  -999.0,9, -999.00,9, -999.00,9,  -1.6505,     -999.0,     -999.0,9,     -999.0,      7.054,2,      0.000,2,     92.216,2
09AR20110104,       SR03,     137,          1,         16,         16,2,20110129,       0621,   -66.5260,   147.1170,        567,    59.6,  -1.6490,  34.3557,2,-999.0000,9,    312.8,2,  -999.0,9, -999.00,9, -999.00,9,  -999.0,9,  -999.0,9, -999.00,9, -999.00,9,  -1.6502,     -999.0,     -999.0,9,     -999.0,      6.744,2,      0.000,2,     92.430,2
09AR20110104,       SR03,     137,          1,         15,         15,2,20110129,       0621,   -66.5260,   147.1170,        567,    59.6,  -1.6494,  34.3559,2,-999.0000,9,    312.8,2,  -999.0,9, -999.00,9, -999.00,9,  -999.0,9,  -999.0,9, -999.00,9, -999.00,9,  -1.6506,     -999.0,     -999.0,9,     -999.0,      6.591,2,      0.000,2,     92.739,2
09AR20110104,       SR03,     137,          1,         14,         14,2,20110129,       0621,   -66.5260,   147.1170,        567,   249.7,  -1.6710,  34.4760,2,  34.4746,2,    296.8,2,   296.7,2,   75.30,2, -999.00,9,  2231.3,2,  2330.1,2,   -0.36,2,   30.10,2,  -1.6767,       0.07,      -4.22,2,       0.21,      0.139,2,      0.000,2,     98.709,2
09AR20110104,       SR03,     137,          1,         13,         13,2,20110129,       0621,   -66.5260,   147.1170,        567,   249.7,  -1.6703,  34.4756,2,-999.0000,9,    296.8,2,  -999.0,9, -999.00,9, -999.00,9,  -999.0,9,  -999.0,9, -999.00,9, -999.00,9,  -1.6760,     -999.0,     -999.0,9,     -999.0,      0.112,2,      0.000,2,     98.739,2
09AR20110104,       SR03,     137,          1,         12,         12,2,20110129,       0621,   -66.5260,   147.1170,        567,   249.6,  -1.6694,  34.4752,2,-999.0000,9,    296.8,2,  -999.0,9, -999.00,9, -999.00,9,  -999.0,9,  -999.0,9, -999.00,9, -999.00,9,  -1.6751,     -999.0,     -999.0,9,     -999.0,      0.142,2,      0.000,2,     98.679,2
09AR20110104,       SR03,     137,          1,         11,         11,2,20110129,       0621,   -66.5260,   147.1170,        567,   350.5,  -1.8582,  34.5467,2,  34.5459,2,    301.6,2,   302.0,2,   74.40,2, -999.00,9,  2235.2,2,  2335.8,2,   -0.36,2,   30.11,2,  -1.8660,       0.04,      -3.93,2,       0.08,      0.046,2,      0.000,2,     98.848,2
09AR20110104,       SR03,     137,          1,         10,         10,2,20110129,       0621,   -66.5260,   147.1170,        567,   350.3,  -1.8581,  34.5467,2,-999.0000,9,    301.6,2,  -999.0,9, -999.00,9, -999.00,9,  -999.0,9,  -999.0,9, -999.00,9, -999.00,9,  -1.8659,     -999.0,     -999.0,9,     -999.0,      0.063,2,      0.000,2,     98.795,2
09AR20110104,       SR03,     137,          1,          9,          9,2,20110129,       0621,   -66.5260,   147.1170,        567,   350.1,  -1.8577,  34.5466,2,-999.0000,9,    301.6,2,  -999.0,9, -999.00,9, -999.00,9,  -999.0,9,  -999.0,9, -999.00,9, -999.00,9,  -1.8655,     -999.0,     -999.0,9,     -999.0,      0.056,2,      0.000,2,     98.895,2
09AR20110104,       SR03,     137,          1,          8,          8,2,20110129,       0621,   -66.5260,   147.1170,        567,   404.4,  -1.9003,  34.5689,2,-999.0000,9,    303.3,2,   303.9,2,   75.00,2, -999.00,9,  2237.9,2,  2336.6,2,   -0.35,2,   30.12,2,  -1.9094,       0.03,      -4.22,2,       0.14,      0.038,2,      0.000,2,     98.722,2
09AR20110104,       SR03,     137,          1,          7,          7,2,20110129,       0621,   -66.5260,   147.1170,        567,   404.5,  -1.9003,  34.5687,2,-999.0000,9,    303.3,2,  -999.0,9, -999.00,9, -999.00,9,  -999.0,9,  -999.0,9, -999.00,9, -999.00,9,  -1.9094,     -999.0,     -999.0,9,     -999.0,      0.037,2,      0.000,2,     98.690,2
09AR20110104,       SR03,     137,          1,          6,          6,2,20110129,       0621,   -66.5260,   147.1170,        567,   404.5,  -1.9003,  34.5686,2,-999.0000,9,    303.3,2,  -999.0,9, -999.00,9, -999.00,9,  -999.0,9,  -999.0,9, -999.00,9, -999.00,9,  -1.9094,     -999.0,     -999.0,9,     -999.0,      0.016,2,      0.000,2,     98.674,2
09AR20110104,       SR03,     137,          1,          5,          5,2,20110129,       0621,   -66.5260,   147.1170,        567,   404.5,  -1.9004,  34.5685,2,-999.0000,9,    303.3,2,  -999.0,9, -999.00,9, -999.00,9,  -999.0,9,  -999.0,9, -999.00,9, -999.00,9,  -1.9095,     -999.0,     -999.0,9,     -999.0,      0.036,2,      0.000,2,     98.667,2
09AR20110104,       SR03,     137,          1,          4,          4,2,20110129,       0621,   -66.5260,   147.1170,        567,   404.5,  -1.9004,  34.5683,2,-999.0000,9,    303.3,2,  -999.0,9, -999.00,9, -999.00,9,  -999.0,9,  -999.0,9, -999.00,9, -999.00,9,  -1.9095,     -999.0,     -999.0,9,     -999.0,      0.033,2,      0.000,2,     98.702,2
09AR20110104,       SR03,     137,          1,          3,          3,2,20110129,       0621,   -66.5260,   147.1170,        567,   404.6,  -1.9005,  34.5686,2,-999.0000,9,    303.3,2,  -999.0,9, -999.00,9, -999.00,9,  -999.0,9,  -999.0,9, -999.00,9, -999.00,9,  -1.9096,     -999.0,     -999.0,9,     -999.0,      0.013,2,      0.000,2,     98.678,2
09AR20110104,       SR03,     137,          1,          2,        102,2,20110129,       0621,   -66.5260,   147.1170,        567,   563.9,  -1.9042,  34.6110,2,-999.0000,9,    302.2,2,   301.5,2,   77.60,2, -999.00,9,  -999.0,9,  -999.0,9,   -0.32,2,   30.36,2,  -1.9178,       0.05,      -4.03,2,       0.22,      0.135,2,      0.000,2,     97.084,2
09AR20110104,       SR03,     137,          1,          1,          1,2,20110129,       0621,   -66.5260,   147.1170,        567,   564.1,  -1.9041,  34.6110,2,-999.0000,9,    302.2,2,  -999.0,9, -999.00,9, -999.00,9,  -999.0,9,  -999.0,9, -999.00,9, -999.00,9,  -1.9177,     -999.0,     -999.0,9,     -999.0,      0.140,2,      0.000,2,     96.827,2