BOTTLE,20230419CCHSIOENA
EXPOCODE,SECT_ID,STNNBR,CASTNO,SAMPNO,BTLNBR,BTLNBR_FLAG_W,DATE,TIME,LATITUDE,LONGITUDE,DEPTH,CTDPRS,CTDTMP,CTDSAL,CTDSAL_FLAG_W,SALNTY,SALNTY_FLAG_W,CTDOXY,CTDOXY_FLAG_W,OXYGEN,OXYGEN_FLAG_W,SILCAT,SILCAT_FLAG_W,PHSPHT,PHSPHT_FLAG_W,TCARBN,TCARBN_FLAG_W,ALKALI,ALKALI_FLAG_W,DELO18,DELO18_FLAG_W,NO2+NO3,NO2+NO3_FLAG_W,THETA,O18ERR,DELD,DELD_FLAG_W,DELDERR,CTDFLUOR,CTDFLUOR_FLAG_W,PAR,PAR_FLAG_W,CTDXMISS,CTDXMISS_FLAG_W
,,,,,,,,,,,METERS,DBAR,ITS-90,PSS-78,,PSS-78,,UMOL/KG,,UMOL/KG,,UMOL/KG,,UMOL/KG,,UMOL/KG,,UMOL/KG,,/MILLE,,UMOL/KG,,DEG C,/MILLE,/MILLE,,/MILLE,MG/M^3,,UMOL/M^2/SEC,,%TRANS,
09AR20110104,       SR03,     112,          1,         24,         24,2,20110126,       1051,   -66.5027,   144.6310,        523,    10.5,  -1.2635,  33.5513,2,  33.5678,2,    383.7,2,   384.2,2,   42.80,2,    1.12,2,  2109.1,2,  2282.2,2, -999.00,9,   18.50,2,  -1.2637,     -999.0,     -999.0,9,     -999.0,     14.814,2,      1.945,2,     85.533,2
09AR20110104,       SR03,     112,          1,         23,         23,2,20110126,       1051,   -66.5027,   144.6310,        523,    10.4,  -1.2605,  33.5759,2,-999.0000,9,    383.7,2,  -999.0,9, -999.00,9, -999.00,9,  -999.0,9,  -999.0,9, -999.00,9, -999.00,9,  -1.2607,     -999.0,     -999.0,9,     -999.0,     12.790,2,      1.929,2,     85.547,2
09AR20110104,       SR03,     112,          1,         22,         22,2,20110126,       1051,   -66.5027,   144.6310,        523,    39.9,  -1.3116,  33.7678,2,  33.7894,2,    350.1,2,   363.4,2,   50.50,2,    1.38,2,  2145.4,2,  2293.0,2, -999.00,9,   21.32,2,  -1.3125,     -999.0,     -999.0,9,     -999.0,     11.601,2,      0.000,2,     87.759,2
09AR20110104,       SR03,     112,          1,         21,         21,2,20110126,       1051,   -66.5027,   144.6310,        523,    39.8,  -1.3113,  33.7727,2,-999.0000,9,    350.1,2,  -999.0,9, -999.00,9, -999.00,9,  -999.0,9,  -999.0,9, -999.00,9, -999.00,9,  -1.3122,     -999.0,     -999.0,9,     -999.0,     12.699,2,      0.000,2,     87.949,2
09AR20110104,       SR03,     112,          1,         20,         20,2,20110126,       1051,   -66.5027,   144.6310,        523,    39.8,  -1.3087,  33.7829,2,-999.0000,9,    350.1,2,  -999.0,9, -999.00,9, -999.00,9,  -999.0,9,  -999.0,9, -999.00,9, -999.00,9,  -1.3096,     -999.0,     -999.0,9,     -999.0,     12.838,2,      0.000,2,     87.322,2
09AR20110104,       SR03,     112,          1,         19,         19,2,20110126,       1051,   -66.5027,   144.6310,        523,    39.8,  -1.2945,  33.8415,2,-999.0000,9,    350.1,2,  -999.0,9, -999.00,9, -999.00,9,  -999.0,9,  -999.0,9, -999.00,9, -999.00,9,  -1.2954,     -999.0,     -999.0,9,     -999.0,     11.474,2,      0.000,2,     86.717,2
09AR20110104,       SR03,     112,          1,         18,         18,2,20110126,       1051,   -66.5027,   144.6310,        523,    99.4,  -1.7017,  34.3244,2,  34.3246,2,    315.8,2,   314.1,2,   70.30,2,    2.03,2,  2220.5,2,  2318.0,2, -999.00,9,   29.18,2,  -1.7038,     -999.0,     -999.0,9,     -999.0,      1.523,2,      0.000,2,     96.994,2
09AR20110104,       SR03,     112,          1,         17,         17,2,20110126,       1051,   -66.5027,   144.6310,        523,    99.3,  -1.6997,  34.3245,2,-999.0000,9,    315.8,2,  -999.0,9, -999.00,9, -999.00,9,  -999.0,9,  -999.0,9, -999.00,9, -999.00,9,  -1.7018,     -999.0,     -999.0,9,     -999.0,      1.352,2,      0.000,2,     97.204,2
09AR20110104,       SR03,     112,          1,         16,         16,2,20110126,       1051,   -66.5027,   144.6310,        523,    99.3,  -1.7131,  34.3278,2,-999.0000,9,    315.8,2,  -999.0,9, -999.00,9, -999.00,9,  -999.0,9,  -999.0,9, -999.00,9, -999.00,9,  -1.7152,     -999.0,     -999.0,9,     -999.0,      1.316,2,      0.000,2,     97.293,2
09AR20110104,       SR03,     112,          1,         15,         15,2,20110126,       1051,   -66.5027,   144.6310,        523,    99.3,  -1.7136,  34.3278,2,-999.0000,9,    315.8,2,  -999.0,9, -999.00,9, -999.00,9,  -999.0,9,  -999.0,9, -999.00,9, -999.00,9,  -1.7157,     -999.0,     -999.0,9,     -999.0,      1.181,2,      0.000,2,     97.330,2
09AR20110104,       SR03,     112,          1,         14,         14,2,20110126,       1051,   -66.5027,   144.6310,        523,   310.7,  -0.9964,  34.5293,2,  34.5304,2,    267.6,2,   266.8,2,   82.60,2,    2.13,2,  2242.1,2,  2332.6,2, -999.00,9,   31.08,2,  -1.0055,     -999.0,     -999.0,9,     -999.0,      0.047,2,      0.000,2,     98.878,2
09AR20110104,       SR03,     112,          1,         13,         13,2,20110126,       1051,   -66.5027,   144.6310,        523,   310.6,  -1.0036,  34.5291,2,-999.0000,9,    267.6,2,  -999.0,9, -999.00,9, -999.00,9,  -999.0,9,  -999.0,9, -999.00,9, -999.00,9,  -1.0127,     -999.0,     -999.0,9,     -999.0,      0.042,2,      0.000,2,     98.841,2
09AR20110104,       SR03,     112,          1,         12,         12,2,20110126,       1051,   -66.5027,   144.6310,        523,   310.6,  -1.0118,  34.5286,2,-999.0000,9,    267.6,2,  -999.0,9, -999.00,9, -999.00,9,  -999.0,9,  -999.0,9, -999.00,9, -999.00,9,  -1.0209,     -999.0,     -999.0,9,     -999.0,      0.028,2,      0.000,2,     98.861,2
09AR20110104,       SR03,     112,          1,         11,         11,2,20110126,       1051,   -66.5027,   144.6310,        523,   310.5,  -1.0050,  34.5288,2,-999.0000,9,    267.6,2,  -999.0,9, -999.00,9, -999.00,9,  -999.0,9,  -999.0,9, -999.00,9, -999.00,9,  -1.0141,     -999.0,     -999.0,9,     -999.0,      0.042,2,      0.000,2,     98.840,2
09AR20110104,       SR03,     112,          1,         10,         10,2,20110126,       1051,   -66.5027,   144.6310,        523,   310.5,  -0.9954,  34.5292,2,-999.0000,9,    267.6,2,  -999.0,9, -999.00,9, -999.00,9,  -999.0,9,  -999.0,9, -999.00,9, -999.00,9,  -1.0045,     -999.0,     -999.0,9,     -999.0,      0.051,2,      0.000,2,     98.816,2
09AR20110104,       SR03,     112,          1,          9,          9,2,20110126,       1051,   -66.5027,   144.6310,        523,   310.3,  -0.9963,  34.5294,2,-999.0000,9,    267.6,2,  -999.0,9, -999.00,9, -999.00,9,  -999.0,9,  -999.0,9, -999.00,9, -999.00,9,  -1.0054,     -999.0,     -999.0,9,     -999.0,      0.071,2,      0.000,2,     98.832,2
09AR20110104,       SR03,     112,          1,          8,          8,2,20110126,       1051,   -66.5027,   144.6310,        523,   424.4,  -1.9135,  34.5910,2,  34.5911,2,    306.7,2,   306.9,2,   75.40,2,    2.07,2,  2241.1,2,  2339.2,2, -999.00,9,   30.40,2,  -1.9231,     -999.0,     -999.0,9,     -999.0,     -0.017,2,      0.000,2,     99.148,2
09AR20110104,       SR03,     112,          1,          7,          7,2,20110126,       1051,   -66.5027,   144.6310,        523,   424.5,  -1.9138,  34.5911,2,-999.0000,9,    306.7,2,  -999.0,9, -999.00,9, -999.00,9,  -999.0,9,  -999.0,9, -999.00,9, -999.00,9,  -1.9234,     -999.0,     -999.0,9,     -999.0,     -0.006,2,      0.000,2,     99.082,2
09AR20110104,       SR03,     112,          1,          6,          6,2,20110126,       1051,   -66.5027,   144.6310,        523,   424.7,  -1.9144,  34.5913,2,-999.0000,9,    306.7,2,  -999.0,9, -999.00,9, -999.00,9,  -999.0,9,  -999.0,9, -999.00,9, -999.00,9,  -1.9240,     -999.0,     -999.0,9,     -999.0,      0.021,2,      0.000,2,     99.138,2
09AR20110104,       SR03,     112,          1,          5,          5,2,20110126,       1051,   -66.5027,   144.6310,        523,   424.9,  -1.9148,  34.5918,2,-999.0000,9,    306.7,2,  -999.0,9, -999.00,9, -999.00,9,  -999.0,9,  -999.0,9, -999.00,9, -999.00,9,  -1.9244,     -999.0,     -999.0,9,     -999.0,     -0.046,2,      0.000,2,     99.152,2
09AR20110104,       SR03,     112,          1,          4,          4,2,20110126,       1051,   -66.5027,   144.6310,        523,   425.0,  -1.9152,  34.5919,2,-999.0000,9,    306.7,2,  -999.0,9, -999.00,9, -999.00,9,  -999.0,9,  -999.0,9, -999.00,9, -999.00,9,  -1.9248,     -999.0,     -999.0,9,     -999.0,     -0.029,2,      0.000,2,     99.081,2
09AR20110104,       SR03,     112,          1,          3,          3,2,20110126,       1051,   -66.5027,   144.6310,        523,   425.1,  -1.9152,  34.5921,2,-999.0000,9,    306.9,2,  -999.0,9, -999.00,9, -999.00,9,  -999.0,9,  -999.0,9, -999.00,9, -999.00,9,  -1.9248,     -999.0,     -999.0,9,     -999.0,      0.007,2,      0.000,2,     99.148,2
09AR20110104,       SR03,     112,          1,          2,        102,2,20110126,       1051,   -66.5027,   144.6310,        523,   521.0,  -1.8776,  34.6227,2,  34.6221,2,    304.4,2,   304.4,2,   77.10,2,    2.08,2,  -999.0,9,  -999.0,9, -999.00,9,   30.59,2,  -1.8901,     -999.0,     -999.0,9,     -999.0,      0.058,2,      0.000,2,     98.031,2
09AR20110104,       SR03,     112,          1,          1,          1,2,20110126,       1051,   -66.5027,   144.6310,        523,   520.4,  -1.8776,  34.6227,2,-999.0000,9,    304.4,2,  -999.0,9, -999.00,9, -999.00,9,  -999.0,9,  -999.0,9, -999.00,9, -999.00,9,  -1.8901,     -999.0,     -999.0,9,     -999.0,      0.061,2,      0.000,2,     98.091,2
09AR20110104,       SR03,     113,          1,         24,         24,2,20110126,       1314,   -66.5117,   145.0550,        424,    10.0,  -1.4257,  33.6085,2,  33.6210,2,    373.3,2,   373.7,2,   49.20,2,    1.23,2,  2121.1,2,  2283.8,2, -999.00,9,   20.26,2,  -1.4259,     -999.0,     -999.0,9,     -999.0,      8.352,2,      0.000,2,     88.892,2
09AR20110104,       SR03,     113,          1,         23,         23,2,20110126,       1314,   -66.5117,   145.0550,        424,    10.0,  -1.4261,  33.6173,2,-999.0000,9,    373.3,2,  -999.0,9, -999.00,9, -999.00,9,  -999.0,9,  -999.0,9, -999.00,9, -999.00,9,  -1.4263,     -999.0,     -999.0,9,     -999.0,      8.907,2,      0.000,2,     89.394,2
09AR20110104,       SR03,     113,          1,         22,         22,2,20110126,       1314,   -66.5117,   145.0550,        424,    10.0,  -1.4282,  33.6261,2,-999.0000,9,    373.3,2,  -999.0,9, -999.00,9, -999.00,9,  -999.0,9,  -999.0,9, -999.00,9, -999.00,9,  -1.4284,     -999.0,     -999.0,9,     -999.0,      9.405,2,      0.000,2,     89.634,2
09AR20110104,       SR03,     113,          1,         21,         21,2,20110126,       1314,   -66.5117,   145.0550,        424,    10.0,  -1.4290,  33.6422,2,-999.0000,9,    373.3,2,  -999.0,9, -999.00,9, -999.00,9,  -999.0,9,  -999.0,9, -999.00,9, -999.00,9,  -1.4292,     -999.0,     -999.0,9,     -999.0,      8.896,2,      0.000,2,     89.304,2
09AR20110104,       SR03,     113,          1,         20,         20,2,20110126,       1314,   -66.5117,   145.0550,        424,    10.0,  -1.4284,  33.6473,2,-999.0000,9,    373.3,2,  -999.0,9, -999.00,9, -999.00,9,  -999.0,9,  -999.0,9, -999.00,9, -999.00,9,  -1.4286,     -999.0,     -999.0,9,     -999.0,      8.547,2,      0.000,2,     89.576,2
09AR20110104,       SR03,     113,          1,         19,         19,2,20110126,       1314,   -66.5117,   145.0550,        424,    10.0,  -1.4287,  33.6445,2,-999.0000,9,    373.3,2,  -999.0,9, -999.00,9, -999.00,9,  -999.0,9,  -999.0,9, -999.00,9, -999.00,9,  -1.4289,     -999.0,     -999.0,9,     -999.0,      8.699,2,      0.000,2,     89.638,2
09AR20110104,       SR03,     113,          1,         18,         18,2,20110126,       1314,   -66.5117,   145.0550,        424,    81.6,  -1.5757,  34.3050,2,  34.3054,2,    318.1,2,   317.7,2,   69.20,2,    2.00,2,  2215.1,2,  2324.0,6, -999.00,9,   28.48,2,  -1.5775,     -999.0,     -999.0,9,     -999.0,      1.667,2,      0.000,2,     96.636,2
09AR20110104,       SR03,     113,          1,         17,         17,2,20110126,       1314,   -66.5117,   145.0550,        424,    81.3,  -1.5751,  34.3047,2,-999.0000,9,    318.1,2,  -999.0,9, -999.00,9, -999.00,9,  -999.0,9,  -999.0,9, -999.00,9, -999.00,9,  -1.5769,     -999.0,     -999.0,9,     -999.0,      1.458,2,      0.000,2,     96.881,2
09AR20110104,       SR03,     113,          1,         16,         16,2,20110126,       1314,   -66.5117,   145.0550,        424,    81.2,  -1.5744,  34.3046,2,-999.0000,9,    318.1,2,  -999.0,9, -999.00,9, -999.00,9,  -999.0,9,  -999.0,9, -999.00,9, -999.00,9,  -1.5762,     -999.0,     -999.0,9,     -999.0,      1.438,2,      0.000,2,     96.885,2
09AR20110104,       SR03,     113,          1,         15,         15,2,20110126,       1314,   -66.5117,   145.0550,        424,    81.0,  -1.5728,  34.3040,2,-999.0000,9,    318.7,2,  -999.0,9, -999.00,9, -999.00,9,  -999.0,9,  -999.0,9, -999.00,9, -999.00,9,  -1.5746,     -999.0,     -999.0,9,     -999.0,      1.337,2,      0.000,2,     96.774,2
09AR20110104,       SR03,     113,          1,         14,         14,2,20110126,       1314,   -66.5117,   145.0550,        424,   175.8,  -1.7332,  34.3976,2,  34.3971,2,    307.4,2,   307.5,2,   74.10,2,    2.05,2,  2226.3,2,  2324.8,2, -999.00,9,   29.98,2,  -1.7370,     -999.0,     -999.0,9,     -999.0,      0.689,2,      0.000,2,     97.885,2
09AR20110104,       SR03,     113,          1,         13,         13,2,20110126,       1314,   -66.5117,   145.0550,        424,   175.8,  -1.7324,  34.3979,2,-999.0000,9,    307.4,2,  -999.0,9, -999.00,9, -999.00,9,  -999.0,9,  -999.0,9, -999.00,9, -999.00,9,  -1.7362,     -999.0,     -999.0,9,     -999.0,      0.771,2,      0.000,2,     97.955,2
09AR20110104,       SR03,     113,          1,         12,         12,2,20110126,       1314,   -66.5117,   145.0550,        424,   175.8,  -1.7306,  34.3981,2,-999.0000,9,    307.4,2,  -999.0,9, -999.00,9, -999.00,9,  -999.0,9,  -999.0,9, -999.00,9, -999.00,9,  -1.7344,     -999.0,     -999.0,9,     -999.0,      0.743,2,      0.000,2,     97.984,2
09AR20110104,       SR03,     113,          1,         11,         11,2,20110126,       1314,   -66.5117,   145.0550,        424,   175.7,  -1.7289,  34.3984,2,-999.0000,9,    307.4,2,  -999.0,9, -999.00,9, -999.00,9,  -999.0,9,  -999.0,9, -999.00,9, -999.00,9,  -1.7327,     -999.0,     -999.0,9,     -999.0,      0.670,2,      0.000,2,     97.982,2
09AR20110104,       SR03,     113,          1,         10,         10,2,20110126,       1314,   -66.5117,   145.0550,        424,   175.6,  -1.7269,  34.3988,2,-999.0000,9,    307.4,2,  -999.0,9, -999.00,9, -999.00,9,  -999.0,9,  -999.0,9, -999.00,9, -999.00,9,  -1.7307,     -999.0,     -999.0,9,     -999.0,      0.711,2,      0.000,2,     97.868,2
09AR20110104,       SR03,     113,          1,          9,          9,2,20110126,       1314,   -66.5117,   145.0550,        424,   175.5,  -1.7272,  34.3988,2,-999.0000,9,    307.4,2,  -999.0,9, -999.00,9, -999.00,9,  -999.0,9,  -999.0,9, -999.00,9, -999.00,9,  -1.7310,     -999.0,     -999.0,9,     -999.0,      0.701,2,      0.000,2,     97.853,2
09AR20110104,       SR03,     113,          1,          8,          8,2,20110126,       1314,   -66.5117,   145.0550,        424,   250.8,  -1.7474,  34.4360,2,  34.4352,2,    301.8,2,   301.4,2,   74.80,2,    2.07,2,  2229.0,2,  2328.7,2, -999.00,9,   30.21,2,  -1.7529,     -999.0,     -999.0,9,     -999.0,      0.178,2,      0.000,2,     98.810,2
09AR20110104,       SR03,     113,          1,          7,          7,2,20110126,       1314,   -66.5117,   145.0550,        424,   250.7,  -1.7475,  34.4360,2,-999.0000,9,    301.8,2,  -999.0,9, -999.00,9, -999.00,9,  -999.0,9,  -999.0,9, -999.00,9, -999.00,9,  -1.7530,     -999.0,     -999.0,9,     -999.0,      0.159,2,      0.000,2,     98.859,2
09AR20110104,       SR03,     113,          1,          6,          6,2,20110126,       1314,   -66.5117,   145.0550,        424,   250.8,  -1.7475,  34.4359,2,-999.0000,9,    301.8,2,  -999.0,9, -999.00,9, -999.00,9,  -999.0,9,  -999.0,9, -999.00,9, -999.00,9,  -1.7530,     -999.0,     -999.0,9,     -999.0,      0.172,2,      0.000,2,     98.828,2
09AR20110104,       SR03,     113,          1,          5,          5,2,20110126,       1314,   -66.5117,   145.0550,        424,   250.7,  -1.7475,  34.4357,2,-999.0000,9,    301.8,2,  -999.0,9, -999.00,9, -999.00,9,  -999.0,9,  -999.0,9, -999.00,9, -999.00,9,  -1.7530,     -999.0,     -999.0,9,     -999.0,      0.169,2,      0.000,2,     98.834,2
09AR20110104,       SR03,     113,          1,          4,          4,2,20110126,       1314,   -66.5117,   145.0550,        424,   250.7,  -1.7476,  34.4360,2,-999.0000,9,    301.8,2,  -999.0,9, -999.00,9, -999.00,9,  -999.0,9,  -999.0,9, -999.00,9, -999.00,9,  -1.7531,     -999.0,     -999.0,9,     -999.0,      0.164,2,      0.000,2,     98.870,2
09AR20110104,       SR03,     113,          1,          3,          3,2,20110126,       1314,   -66.5117,   145.0550,        424,   250.6,  -1.7476,  34.4363,2,-999.0000,9,    301.8,2,  -999.0,9, -999.00,9, -999.00,9,  -999.0,9,  -999.0,9, -999.00,9, -999.00,9,  -1.7531,     -999.0,     -999.0,9,     -999.0,      0.095,2,      0.000,2,     98.881,2
09AR20110104,       SR03,     113,          1,          2,        102,2,20110126,       1314,   -66.5117,   145.0550,        424,   419.6,  -1.7477,  34.5967,2,  34.5968,2,    296.5,2,   296.7,2,   78.80,2,    2.13,2,  -999.0,9,  -999.0,9, -999.00,9,   30.74,2,  -1.7578,     -999.0,     -999.0,9,     -999.0,      0.154,2,      0.000,2,     97.643,2
09AR20110104,       SR03,     113,          1,          1,          1,2,20110126,       1314,   -66.5117,   145.0550,        424,   419.3,  -1.7480,  34.5967,2,-999.0000,9,    296.5,2,  -999.0,9, -999.00,9, -999.00,9,  -999.0,9,  -999.0,9, -999.00,9, -999.00,9,  -1.7581,     -999.0,     -999.0,9,     -999.0,      0.132,2,      0.000,2,     97.637,2