BOTTLE,20230419CCHSIOENA
EXPOCODE,SECT_ID,STNNBR,CASTNO,SAMPNO,BTLNBR,BTLNBR_FLAG_W,DATE,TIME,LATITUDE,LONGITUDE,DEPTH,CTDPRS,CTDTMP,CTDSAL,CTDSAL_FLAG_W,SALNTY,SALNTY_FLAG_W,CTDOXY,CTDOXY_FLAG_W,OXYGEN,OXYGEN_FLAG_W,SILCAT,SILCAT_FLAG_W,PHSPHT,PHSPHT_FLAG_W,TCARBN,TCARBN_FLAG_W,ALKALI,ALKALI_FLAG_W,DELO18,DELO18_FLAG_W,NO2+NO3,NO2+NO3_FLAG_W,THETA,O18ERR,DELD,DELD_FLAG_W,DELDERR,CTDFLUOR,CTDFLUOR_FLAG_W,PAR,PAR_FLAG_W,CTDXMISS,CTDXMISS_FLAG_W
,,,,,,,,,,,METERS,DBAR,ITS-90,PSS-78,,PSS-78,,UMOL/KG,,UMOL/KG,,UMOL/KG,,UMOL/KG,,UMOL/KG,,UMOL/KG,,/MILLE,,UMOL/KG,,DEG C,/MILLE,/MILLE,,/MILLE,MG/M^3,,UMOL/M^2/SEC,,%TRANS,
09AR20110104,       SR03,      92,          1,         24,         24,2,20110124,       1620,   -66.7110,   143.5880,        582,     9.8,  -0.8484,  33.7194,2,  33.7191,2,    370.9,2,   371.6,2,   40.50,2,    1.07,2,  2124.3,6,  2291.4,6, -999.00,9,   18.93,2,  -0.8487,     -999.0,     -999.0,9,     -999.0,     12.609,2,      0.184,2,     85.806,2
09AR20110104,       SR03,      92,          1,         23,         23,2,20110124,       1620,   -66.7110,   143.5880,        582,     9.8,  -0.8510,  33.7193,2,-999.0000,9,    370.9,2,  -999.0,9, -999.00,9, -999.00,9,  -999.0,9,  -999.0,9, -999.00,9, -999.00,9,  -0.8513,     -999.0,     -999.0,9,     -999.0,     12.390,2,      0.187,2,     85.972,2
09AR20110104,       SR03,      92,          1,         22,         22,2,20110124,       1620,   -66.7110,   143.5880,        582,    49.8,  -0.8758,  33.7896,2,-999.0000,9,    368.3,2,  -999.0,9, -999.00,9, -999.00,9,  -999.0,9,  -999.0,9, -999.00,9, -999.00,9,  -0.8771,     -999.0,     -999.0,9,     -999.0,     11.325,2,      0.000,2,     86.615,2
09AR20110104,       SR03,      92,          1,         21,         21,2,20110124,       1620,   -66.7110,   143.5880,        582,    49.8,  -0.8772,  33.7899,2,-999.0000,9,    368.3,2,  -999.0,9, -999.00,9, -999.00,9,  -999.0,9,  -999.0,9, -999.00,9, -999.00,9,  -0.8785,     -999.0,     -999.0,9,     -999.0,     11.874,2,      0.000,2,     86.632,2
09AR20110104,       SR03,      92,          1,         20,         20,2,20110124,       1620,   -66.7110,   143.5880,        582,    49.8,  -0.8779,  33.7902,2,  33.7934,2,    368.3,2,   369.4,2,   42.90,2,    1.18,2,  -999.0,9,  2297.2,2,   -0.43,2,   19.82,2,  -0.8792,       0.05,      -4.26,2,       0.16,     11.731,2,      0.000,2,     86.613,2
09AR20110104,       SR03,      92,          1,         19,         19,2,20110124,       1620,   -66.7110,   143.5880,        582,    49.8,  -0.8781,  33.7909,2,-999.0000,9,    368.3,2,  -999.0,9, -999.00,9, -999.00,9,  -999.0,9,  -999.0,9, -999.00,9, -999.00,9,  -0.8794,     -999.0,     -999.0,9,     -999.0,     11.762,2,      0.000,2,     86.564,2
09AR20110104,       SR03,      92,          1,         18,         18,2,20110124,       1620,   -66.7110,   143.5880,        582,    49.7,  -0.8775,  33.7907,2,-999.0000,9,    368.3,2,  -999.0,9, -999.00,9, -999.00,9,  2132.9,2,  -999.0,9, -999.00,9, -999.00,9,  -0.8788,     -999.0,     -999.0,9,     -999.0,     11.735,2,      0.000,2,     86.558,2
09AR20110104,       SR03,      92,          1,         17,         17,2,20110124,       1620,   -66.7110,   143.5880,        582,    49.4,  -0.8772,  33.7911,2,-999.0000,9,    368.3,2,  -999.0,9, -999.00,9, -999.00,9,  -999.0,9,  -999.0,9, -999.00,9, -999.00,9,  -0.8785,     -999.0,     -999.0,9,     -999.0,     11.423,2,      0.000,2,     86.638,2
09AR20110104,       SR03,      92,          1,         16,         16,2,20110124,       1620,   -66.7110,   143.5880,        582,   102.3,  -1.6698,  34.3319,2,-999.0000,9,    313.6,2,  -999.0,9, -999.00,9, -999.00,9,  -999.0,9,  -999.0,9, -999.00,9, -999.00,9,  -1.6720,     -999.0,     -999.0,9,     -999.0,      1.484,2,      0.000,2,     97.139,2
09AR20110104,       SR03,      92,          1,         15,         15,2,20110124,       1620,   -66.7110,   143.5880,        582,   101.5,  -1.6717,  34.3327,2,-999.0000,9,    313.6,2,  -999.0,9, -999.00,9, -999.00,9,  -999.0,9,  -999.0,9, -999.00,9, -999.00,9,  -1.6738,     -999.0,     -999.0,9,     -999.0,      1.603,2,      0.000,2,     97.182,2
09AR20110104,       SR03,      92,          1,         14,         14,2,20110124,       1620,   -66.7110,   143.5880,        582,   160.6,  -1.7473,  34.4010,2,  34.4012,2,    309.4,2,   309.3,2,   74.40,2,    2.03,2,  2222.6,2,  2327.1,2,   -0.37,2,   30.27,2,  -1.7507,       0.06,      -4.15,2,       0.17,      0.535,2,      0.000,2,     98.442,2
09AR20110104,       SR03,      92,          1,         13,         13,2,20110124,       1620,   -66.7110,   143.5880,        582,   160.4,  -1.7470,  34.4008,2,-999.0000,9,    309.4,2,  -999.0,9, -999.00,9, -999.00,9,  -999.0,9,  -999.0,9, -999.00,9, -999.00,9,  -1.7504,     -999.0,     -999.0,9,     -999.0,      0.668,2,      0.000,2,     98.442,2
09AR20110104,       SR03,      92,          1,         12,         12,2,20110124,       1620,   -66.7110,   143.5880,        582,   160.3,  -1.7469,  34.4009,2,-999.0000,9,    309.4,2,  -999.0,9, -999.00,9, -999.00,9,  -999.0,9,  -999.0,9, -999.00,9, -999.00,9,  -1.7503,     -999.0,     -999.0,9,     -999.0,      0.826,2,      0.000,2,     98.505,2
09AR20110104,       SR03,      92,          1,         11,         11,2,20110124,       1620,   -66.7110,   143.5880,        582,   200.2,  -1.8226,  34.4412,2,  34.4408,2,    305.0,2,   305.5,2,   75.50,2,    2.04,2,  2227.4,2,  2328.0,2, -999.00,9,   30.78,2,  -1.8268,     -999.0,     -999.0,9,     -999.0,      1.468,2,      0.000,2,     99.151,2
09AR20110104,       SR03,      92,          1,         10,         10,2,20110124,       1620,   -66.7110,   143.5880,        582,   319.4,  -1.8860,  34.4898,2,  34.4915,2,    304.4,2,   304.3,2,   75.50,2,    2.06,2,  2229.8,2,  2335.1,2,   -0.40,2,   30.60,2,  -1.8929,       0.03,      -4.25,2,       0.01,     -0.001,2,      0.000,2,     99.420,2
09AR20110104,       SR03,      92,          1,          9,          9,2,20110124,       1620,   -66.7110,   143.5880,        582,   319.2,  -1.8881,  34.4904,2,-999.0000,9,    304.4,2,  -999.0,9, -999.00,9, -999.00,9,  -999.0,9,  -999.0,9, -999.00,9, -999.00,9,  -1.8950,     -999.0,     -999.0,9,     -999.0,      0.010,2,      0.000,2,     99.389,2
09AR20110104,       SR03,      92,          1,          8,          8,2,20110124,       1620,   -66.7110,   143.5880,        582,   452.0,  -1.9454,  34.5187,2,  34.5193,2,    305.4,2,   306.2,2,   75.30,2,    2.06,2,  -999.0,9,  -999.0,9, -999.00,9,   30.24,2,  -1.9556,     -999.0,     -999.0,9,     -999.0,     -0.005,2,      0.000,2,     99.267,2
09AR20110104,       SR03,      92,          1,          7,          7,2,20110124,       1620,   -66.7110,   143.5880,        582,   452.0,  -1.9468,  34.5191,2,-999.0000,9,    305.4,2,  -999.0,9, -999.00,9, -999.00,9,  -999.0,9,  -999.0,9, -999.00,9, -999.00,9,  -1.9570,     -999.0,     -999.0,9,     -999.0,     -0.007,2,      0.000,2,     99.254,2
09AR20110104,       SR03,      92,          1,          6,          6,2,20110124,       1620,   -66.7110,   143.5880,        582,   451.9,  -1.9468,  34.5191,2,-999.0000,9,    305.4,2,  -999.0,9, -999.00,9, -999.00,9,  -999.0,9,  -999.0,9, -999.00,9, -999.00,9,  -1.9570,     -999.0,     -999.0,9,     -999.0,     -0.016,2,      0.000,2,     99.249,2
09AR20110104,       SR03,      92,          1,          5,          5,2,20110124,       1620,   -66.7110,   143.5880,        582,   451.9,  -1.9469,  34.5193,2,-999.0000,9,    305.4,2,  -999.0,9, -999.00,9, -999.00,9,  -999.0,9,  -999.0,9, -999.00,9, -999.00,9,  -1.9571,     -999.0,     -999.0,9,     -999.0,      0.003,2,      0.000,2,     99.217,2
09AR20110104,       SR03,      92,          1,          4,          4,2,20110124,       1620,   -66.7110,   143.5880,        582,   584.8,  -1.9740,  34.5426,2,-999.0000,9,    308.3,2,  -999.0,9, -999.00,9, -999.00,9,  -999.0,9,  -999.0,9, -999.00,9, -999.00,9,  -1.9878,     -999.0,     -999.0,9,     -999.0,     -0.030,2,      0.000,2,     98.977,2
09AR20110104,       SR03,      92,          1,          3,          3,2,20110124,       1620,   -66.7110,   143.5880,        582,   583.6,  -1.9749,  34.5427,2,-999.0000,9,    308.3,2,  -999.0,9, -999.00,9, -999.00,9,  -999.0,9,  -999.0,9, -999.00,9, -999.00,9,  -1.9886,     -999.0,     -999.0,9,     -999.0,      0.005,2,      0.000,2,     99.012,2
09AR20110104,       SR03,      92,          1,          2,        102,2,20110124,       1620,   -66.7110,   143.5880,        582,   583.8,  -1.9724,  34.5423,2,  34.5411,2,    308.3,2,   307.2,2,   75.30,2,    2.07,2,  -999.0,9,  -999.0,9,   -0.46,2,   30.27,2,  -1.9862,       0.02,      -4.58,2,       0.14,     -0.043,2,      0.000,2,     99.036,2
09AR20110104,       SR03,      92,          1,          1,          1,2,20110124,       1620,   -66.7110,   143.5880,        582,   583.9,  -1.9730,  34.5424,2,-999.0000,9,    308.3,2,  -999.0,9, -999.00,9, -999.00,9,  -999.0,9,  -999.0,9, -999.00,9, -999.00,9,  -1.9868,     -999.0,     -999.0,9,     -999.0,     -0.010,2,      0.000,2,     99.028,2
09AR20110104,       SR03,      93,          1,         24,         24,2,20110124,       1832,   -66.7198,   143.9770,        873,     9.2,  -1.0654,  34.0173,2,  34.0211,2,    361.2,2,   362.4,2,   52.90,2,    1.38,2,  2161.3,6,  2309.5,6,   -0.42,2,   22.46,2,  -1.0656,       0.02,      -4.31,2,       0.03,      9.163,2,     11.989,2,     88.353,2
09AR20110104,       SR03,      93,          1,         23,         23,2,20110124,       1832,   -66.7198,   143.9770,        873,     9.2,  -1.0662,  34.0185,2,-999.0000,9,    361.2,2,  -999.0,9, -999.00,9, -999.00,9,  -999.0,9,  -999.0,9, -999.00,9, -999.00,9,  -1.0664,     -999.0,     -999.0,9,     -999.0,      9.274,2,     11.919,2,     88.137,2
09AR20110104,       SR03,      93,          1,         22,         22,2,20110124,       1832,   -66.7198,   143.9770,        873,    50.1,  -1.1981,  34.1544,2,-999.0000,9,    355.2,2,  -999.0,9, -999.00,9, -999.00,9,  -999.0,9,  -999.0,9, -999.00,9, -999.00,9,  -1.1993,     -999.0,     -999.0,9,     -999.0,      8.598,2,      0.000,2,     89.843,2
09AR20110104,       SR03,      93,          1,         21,         21,2,20110124,       1832,   -66.7198,   143.9770,        873,    50.0,  -1.1978,  34.1541,2,-999.0000,9,    355.2,2,  -999.0,9, -999.00,9, -999.00,9,  -999.0,9,  -999.0,9, -999.00,9, -999.00,9,  -1.1990,     -999.0,     -999.0,9,     -999.0,      8.934,2,      0.000,2,     89.741,2
09AR20110104,       SR03,      93,          1,         20,         20,2,20110124,       1832,   -66.7198,   143.9770,        873,    49.8,  -1.1998,  34.1559,2,  34.1550,2,    355.2,2,   354.5,2,   58.90,2,    1.57,2,  2180.6,2,  2318.7,2, -999.00,9,   24.28,2,  -1.2010,     -999.0,     -999.0,9,     -999.0,      9.256,2,      0.000,2,     89.820,2
09AR20110104,       SR03,      93,          1,         19,         19,2,20110124,       1832,   -66.7198,   143.9770,        873,    49.5,  -1.2009,  34.1564,2,-999.0000,9,    355.2,2,  -999.0,9, -999.00,9, -999.00,9,  -999.0,9,  -999.0,9, -999.00,9, -999.00,9,  -1.2021,     -999.0,     -999.0,9,     -999.0,      9.387,2,      0.000,2,     89.785,2
09AR20110104,       SR03,      93,          1,         18,         18,2,20110124,       1832,   -66.7198,   143.9770,        873,   124.9,  -1.5039,  34.2981,2,  34.3031,2,    332.4,2,   329.4,2,   68.80,2,    1.89,2,  2209.9,2,  2322.4,2, -999.00,9,   27.55,2,  -1.5067,     -999.0,     -999.0,9,     -999.0,      1.913,2,      0.000,2,     96.080,2
09AR20110104,       SR03,      93,          1,         17,         17,2,20110124,       1832,   -66.7198,   143.9770,        873,   125.1,  -1.5004,  34.2964,2,-999.0000,9,    332.1,2,  -999.0,9, -999.00,9, -999.00,9,  -999.0,9,  -999.0,9, -999.00,9, -999.00,9,  -1.5032,     -999.0,     -999.0,9,     -999.0,      2.168,2,      0.000,2,     95.989,2
09AR20110104,       SR03,      93,          1,         16,         16,2,20110124,       1832,   -66.7198,   143.9770,        873,   201.3,  -1.6790,  34.3920,2,  34.3925,2,    306.2,2,   304.8,2,   74.00,2,    2.04,2,  2224.7,2,  2326.8,6,   -0.34,2,   30.16,2,  -1.6834,       0.01,      -3.92,2,       0.01,      0.211,2,      0.000,2,     99.022,2
09AR20110104,       SR03,      93,          1,         15,         15,2,20110124,       1832,   -66.7198,   143.9770,        873,   200.1,  -1.6786,  34.3925,2,-999.0000,9,    306.2,2,  -999.0,9, -999.00,9, -999.00,9,  -999.0,9,  -999.0,9, -999.00,9, -999.00,9,  -1.6830,     -999.0,     -999.0,9,     -999.0,      0.136,2,      0.000,2,     99.021,2
09AR20110104,       SR03,      93,          1,         14,         14,2,20110124,       1832,   -66.7198,   143.9770,        873,   353.1,  -1.8615,  34.4742,2,  34.4699,2,    301.5,2,   302.7,2,   75.70,2,    2.05,2,  2233.5,2,  2332.4,2, -999.00,9,   30.43,2,  -1.8693,     -999.0,     -999.0,9,     -999.0,      0.054,2,      0.000,2,     99.441,2
09AR20110104,       SR03,      93,          1,         13,         13,2,20110124,       1832,   -66.7198,   143.9770,        873,   352.2,  -1.8722,  34.4724,2,-999.0000,9,    301.4,2,  -999.0,9, -999.00,9, -999.00,9,  -999.0,9,  -999.0,9, -999.00,9, -999.00,9,  -1.8800,     -999.0,     -999.0,9,     -999.0,      0.008,2,      0.000,2,     99.449,2
09AR20110104,       SR03,      93,          1,         12,         12,2,20110124,       1832,   -66.7198,   143.9770,        873,   351.4,  -1.8745,  34.4718,2,-999.0000,9,    301.4,2,  -999.0,9, -999.00,9, -999.00,9,  -999.0,9,  -999.0,9, -999.00,9, -999.00,9,  -1.8822,     -999.0,     -999.0,9,     -999.0,     -0.001,2,      0.000,2,     99.447,2
09AR20110104,       SR03,      93,          1,         11,         11,2,20110124,       1832,   -66.7198,   143.9770,        873,   521.5,  -2.0342,  34.5422,2,-999.0000,9,    308.5,2,  -999.0,9, -999.00,9, -999.00,9,  -999.0,9,  -999.0,9, -999.00,9, -999.00,9,  -2.0459,     -999.0,     -999.0,9,     -999.0,     -0.014,2,      0.000,2,     98.660,2
09AR20110104,       SR03,      93,          1,         10,         10,2,20110124,       1832,   -66.7198,   143.9770,        873,   521.2,  -2.0348,  34.5423,2,  34.5407,2,    308.5,2,   308.8,2,   75.60,2,    2.05,2,  2237.3,2,  2337.1,2,   -0.44,2,   30.56,2,  -2.0465,       0.02,      -4.59,2,       0.08,      0.021,2,      0.000,2,     98.666,2
09AR20110104,       SR03,      93,          1,          9,          9,2,20110124,       1832,   -66.7198,   143.9770,        873,   520.7,  -2.0356,  34.5423,2,-999.0000,9,    308.5,2,  -999.0,9, -999.00,9, -999.00,9,  -999.0,9,  -999.0,9, -999.00,9, -999.00,9,  -2.0473,     -999.0,     -999.0,9,     -999.0,     -0.043,2,      0.000,2,     98.689,2
09AR20110104,       SR03,      93,          1,          8,          8,2,20110124,       1832,   -66.7198,   143.9770,        873,   696.7,  -1.9648,  34.6022,2,  34.6020,2,    308.3,2,   308.6,2,   75.70,2,    2.06,2,  2242.4,2,  2337.5,2, -999.00,9,   30.61,2,  -1.9821,     -999.0,     -999.0,9,     -999.0,     -0.038,2,      0.000,2,     99.183,2
09AR20110104,       SR03,      93,          1,          7,          7,2,20110124,       1832,   -66.7198,   143.9770,        873,   697.6,  -1.9649,  34.6022,2,-999.0000,9,    308.4,2,  -999.0,9, -999.00,9, -999.00,9,  -999.0,9,  -999.0,9, -999.00,9, -999.00,9,  -1.9822,     -999.0,     -999.0,9,     -999.0,     -0.023,2,      0.000,2,     99.180,2
09AR20110104,       SR03,      93,          1,          6,          6,2,20110124,       1832,   -66.7198,   143.9770,        873,   698.7,  -1.9649,  34.6024,2,-999.0000,9,    308.4,2,  -999.0,9, -999.00,9, -999.00,9,  -999.0,9,  -999.0,9, -999.00,9, -999.00,9,  -1.9823,     -999.0,     -999.0,9,     -999.0,     -0.051,2,      0.000,2,     99.198,2
09AR20110104,       SR03,      93,          1,          5,          5,2,20110124,       1832,   -66.7198,   143.9770,        873,   699.4,  -1.9648,  34.6023,2,-999.0000,9,    308.4,2,  -999.0,9, -999.00,9, -999.00,9,  -999.0,9,  -999.0,9, -999.00,9, -999.00,9,  -1.9822,     -999.0,     -999.0,9,     -999.0,     -0.063,2,      0.000,2,     99.189,2
09AR20110104,       SR03,      93,          1,          4,          4,2,20110124,       1832,   -66.7198,   143.9770,        873,   878.6,  -1.9091,  34.6235,2,-999.0000,9,    308.0,2,  -999.0,9, -999.00,9, -999.00,9,  -999.0,9,  -999.0,9, -999.00,9, -999.00,9,  -1.9329,     -999.0,     -999.0,9,     -999.0,     -0.014,2,      0.000,2,     99.255,2
09AR20110104,       SR03,      93,          1,          3,          3,2,20110124,       1832,   -66.7198,   143.9770,        873,   878.6,  -1.9088,  34.6234,2,-999.0000,9,    308.0,2,  -999.0,9, -999.00,9, -999.00,9,  -999.0,9,  -999.0,9, -999.00,9, -999.00,9,  -1.9326,     -999.0,     -999.0,9,     -999.0,     -0.028,2,      0.000,2,     99.270,2
09AR20110104,       SR03,      93,          1,          2,        102,2,20110124,       1832,   -66.7198,   143.9770,        873,   878.6,  -1.9090,  34.6234,2,  34.6219,2,    308.0,2,   307.6,2,   76.10,2,    2.07,2,  -999.0,9,  -999.0,9,   -0.33,2,   30.73,2,  -1.9328,       0.02,      -3.90,2,       0.13,     -0.013,2,      0.000,2,     99.257,2
09AR20110104,       SR03,      93,          1,          1,          1,2,20110124,       1832,   -66.7198,   143.9770,        873,   878.0,  -1.9091,  34.6234,2,-999.0000,9,    308.0,2,  -999.0,9, -999.00,9, -999.00,9,  -999.0,9,  -999.0,9, -999.00,9, -999.00,9,  -1.9329,     -999.0,     -999.0,9,     -999.0,     -0.021,2,      0.000,2,     99.242,2