BOTTLE,20230419CCHSIOENA
EXPOCODE,SECT_ID,STNNBR,CASTNO,SAMPNO,BTLNBR,BTLNBR_FLAG_W,DATE,TIME,LATITUDE,LONGITUDE,DEPTH,CTDPRS,CTDTMP,CTDSAL,CTDSAL_FLAG_W,SALNTY,SALNTY_FLAG_W,CTDOXY,CTDOXY_FLAG_W,OXYGEN,OXYGEN_FLAG_W,SILCAT,SILCAT_FLAG_W,PHSPHT,PHSPHT_FLAG_W,TCARBN,TCARBN_FLAG_W,ALKALI,ALKALI_FLAG_W,DELO18,DELO18_FLAG_W,NO2+NO3,NO2+NO3_FLAG_W,THETA,O18ERR,DELD,DELD_FLAG_W,DELDERR,CTDFLUOR,CTDFLUOR_FLAG_W,PAR,PAR_FLAG_W,CTDXMISS,CTDXMISS_FLAG_W
,,,,,,,,,,,METERS,DBAR,ITS-90,PSS-78,,PSS-78,,UMOL/KG,,UMOL/KG,,UMOL/KG,,UMOL/KG,,UMOL/KG,,UMOL/KG,,/MILLE,,UMOL/KG,,DEG C,/MILLE,/MILLE,,/MILLE,MG/M^3,,UMOL/M^2/SEC,,%TRANS,
09AR20110104,       SR03,     134,          1,         24,         24,2,20110128,       1027,   -66.9140,   147.6350,        605,     9.5,  -0.4268,  33.4019,2,  33.4064,2,   -999.0,5,  -999.0,9,   38.80,2, -999.00,9,  2064.3,2,  2276.5,2,   -0.44,2,   13.49,2,  -0.4271,       0.06,      -4.57,2,       0.06,     19.265,2,      1.000,2,     80.981,2
09AR20110104,       SR03,     134,          1,         23,         23,2,20110128,       1027,   -66.9140,   147.6350,        605,     9.5,  -0.4291,  33.4018,2,-999.0000,9,   -999.0,5,  -999.0,9, -999.00,9, -999.00,9,  -999.0,9,  -999.0,9, -999.00,9, -999.00,9,  -0.4294,     -999.0,     -999.0,9,     -999.0,     19.195,2,      0.995,2,     81.215,2
09AR20110104,       SR03,     134,          1,         22,         22,2,20110128,       1027,   -66.9140,   147.6350,        605,     9.5,  -0.4292,  33.4018,2,-999.0000,9,   -999.0,5,  -999.0,9, -999.00,9, -999.00,9,  -999.0,9,  -999.0,9, -999.00,9, -999.00,9,  -0.4295,     -999.0,     -999.0,9,     -999.0,     19.219,2,      1.008,2,     81.426,2
09AR20110104,       SR03,     134,          1,         21,         21,2,20110128,       1027,   -66.9140,   147.6350,        605,     9.5,  -0.4286,  33.4017,2,-999.0000,9,   -999.0,5,  -999.0,9, -999.00,9, -999.00,9,  -999.0,9,  -999.0,9, -999.00,9, -999.00,9,  -0.4289,     -999.0,     -999.0,9,     -999.0,     18.161,2,      1.009,2,     81.244,2
09AR20110104,       SR03,     134,          1,         20,         20,2,20110128,       1027,   -66.9140,   147.6350,        605,     9.5,  -0.4276,  33.4015,2,-999.0000,9,   -999.0,5,  -999.0,9, -999.00,9, -999.00,9,  -999.0,9,  -999.0,9, -999.00,9, -999.00,9,  -0.4279,     -999.0,     -999.0,9,     -999.0,     18.847,2,      0.992,2,     81.507,2
09AR20110104,       SR03,     134,          1,         19,         19,2,20110128,       1027,   -66.9140,   147.6350,        605,     9.4,  -0.4274,  33.4013,2,-999.0000,9,   -999.0,5,  -999.0,9, -999.00,9, -999.00,9,  -999.0,9,  -999.0,9, -999.00,9, -999.00,9,  -0.4277,     -999.0,     -999.0,9,     -999.0,     18.671,2,      0.991,2,     81.506,2
09AR20110104,       SR03,     134,          1,         18,         18,2,20110128,       1027,   -66.9140,   147.6350,        605,    89.8,  -1.6343,  34.3692,2,  34.3723,2,    309.9,2,   309.6,2,   72.90,2, -999.00,9,  2225.9,2,  2326.1,6,   -0.28,2,   29.52,2,  -1.6362,       0.02,      -3.64,2,       0.07,      5.555,2,      0.000,2,     93.908,2
09AR20110104,       SR03,     134,          1,         17,         17,2,20110128,       1027,   -66.9140,   147.6350,        605,    89.9,  -1.6341,  34.3692,2,-999.0000,9,    309.9,2,  -999.0,9, -999.00,9, -999.00,9,  -999.0,9,  -999.0,9, -999.00,9, -999.00,9,  -1.6360,     -999.0,     -999.0,9,     -999.0,      8.663,2,      0.000,2,     94.169,2
09AR20110104,       SR03,     134,          1,         16,         16,2,20110128,       1027,   -66.9140,   147.6350,        605,    89.9,  -1.6346,  34.3694,2,-999.0000,9,    309.9,2,  -999.0,9, -999.00,9, -999.00,9,  -999.0,9,  -999.0,9, -999.00,9, -999.00,9,  -1.6365,     -999.0,     -999.0,9,     -999.0,      9.882,2,      0.000,2,     93.998,2
09AR20110104,       SR03,     134,          1,         15,         15,2,20110128,       1027,   -66.9140,   147.6350,        605,    89.9,  -1.6374,  34.3705,2,-999.0000,9,    309.9,2,  -999.0,9, -999.00,9, -999.00,9,  -999.0,9,  -999.0,9, -999.00,9, -999.00,9,  -1.6393,     -999.0,     -999.0,9,     -999.0,      5.741,2,      0.000,2,     94.108,2
09AR20110104,       SR03,     134,          1,         14,         14,2,20110128,       1027,   -66.9140,   147.6350,        605,   210.5,  -1.6508,  34.4549,2,  34.4573,2,    295.6,2,   296.7,2,   76.40,2, -999.00,9,  2233.1,2,  2331.2,2,   -0.33,2,   30.53,2,  -1.6555,       0.05,      -3.79,2,       0.11,      0.319,2,      0.000,2,     97.909,2
09AR20110104,       SR03,     134,          1,         13,         13,2,20110128,       1027,   -66.9140,   147.6350,        605,   210.4,  -1.6394,  34.4554,2,-999.0000,9,    295.6,2,  -999.0,9, -999.00,9, -999.00,9,  -999.0,9,  -999.0,9, -999.00,9, -999.00,9,  -1.6442,     -999.0,     -999.0,9,     -999.0,      0.270,2,      0.000,2,     97.857,2
09AR20110104,       SR03,     134,          1,         12,         12,2,20110128,       1027,   -66.9140,   147.6350,        605,   210.2,  -1.6345,  34.4558,2,-999.0000,9,    295.6,2,  -999.0,9, -999.00,9, -999.00,9,  -999.0,9,  -999.0,9, -999.00,9, -999.00,9,  -1.6393,     -999.0,     -999.0,9,     -999.0,      0.297,2,      0.000,2,     97.760,2
09AR20110104,       SR03,     134,          1,         11,         11,2,20110128,       1027,   -66.9140,   147.6350,        605,   209.8,  -1.6472,  34.4565,2,-999.0000,9,    295.6,2,  -999.0,9, -999.00,9, -999.00,9,  -999.0,9,  -999.0,9, -999.00,9, -999.00,9,  -1.6519,     -999.0,     -999.0,9,     -999.0,      0.298,2,      0.000,2,     97.750,2
09AR20110104,       SR03,     134,          1,         10,         10,2,20110128,       1027,   -66.9140,   147.6350,        605,   211.5,  -1.6928,  34.4560,2,-999.0000,9,    295.7,2,  -999.0,9, -999.00,9, -999.00,9,  -999.0,9,  -999.0,9, -999.00,9, -999.00,9,  -1.6975,     -999.0,     -999.0,9,     -999.0,      0.414,2,      0.000,2,     97.911,2
09AR20110104,       SR03,     134,          1,          9,          9,2,20110128,       1027,   -66.9140,   147.6350,        605,   210.9,  -1.6800,  34.4560,2,-999.0000,9,    295.6,2,  -999.0,9, -999.00,9, -999.00,9,  -999.0,9,  -999.0,9, -999.00,9, -999.00,9,  -1.6847,     -999.0,     -999.0,9,     -999.0,      0.235,2,      0.000,2,     97.946,2
09AR20110104,       SR03,     134,          1,          8,          8,2,20110128,       1027,   -66.9140,   147.6350,        605,   425.5,  -1.8934,  34.5813,2,  34.5828,2,    301.2,2,   301.4,2,   75.60,2, -999.00,9,  2240.5,6,  2337.4,6,   -0.37,2,   30.68,2,  -1.9031,       0.02,      -3.81,2,       0.12,      0.020,2,      0.000,2,     98.817,2
09AR20110104,       SR03,     134,          1,          7,          7,2,20110128,       1027,   -66.9140,   147.6350,        605,   425.4,  -1.8932,  34.5814,2,-999.0000,9,    301.2,2,  -999.0,9, -999.00,9, -999.00,9,  -999.0,9,  -999.0,9, -999.00,9, -999.00,9,  -1.9029,     -999.0,     -999.0,9,     -999.0,      0.017,2,      0.000,2,     98.813,2
09AR20110104,       SR03,     134,          1,          6,          6,2,20110128,       1027,   -66.9140,   147.6350,        605,   425.3,  -1.8933,  34.5814,2,-999.0000,9,    301.2,2,  -999.0,9, -999.00,9, -999.00,9,  -999.0,9,  -999.0,9, -999.00,9, -999.00,9,  -1.9030,     -999.0,     -999.0,9,     -999.0,      0.020,2,      0.000,2,     98.866,2
09AR20110104,       SR03,     134,          1,          5,          5,2,20110128,       1027,   -66.9140,   147.6350,        605,   425.1,  -1.8931,  34.5813,2,-999.0000,9,    301.2,2,  -999.0,9, -999.00,9, -999.00,9,  -999.0,9,  -999.0,9, -999.00,9, -999.00,9,  -1.9028,     -999.0,     -999.0,9,     -999.0,      0.024,2,      0.000,2,     98.748,2
09AR20110104,       SR03,     134,          1,          4,          4,2,20110128,       1027,   -66.9140,   147.6350,        605,   607.3,  -1.9037,  34.6165,2,-999.0000,9,    301.8,2,  -999.0,9, -999.00,9, -999.00,9,  -999.0,9,  -999.0,9, -999.00,9, -999.00,9,  -1.9186,     -999.0,     -999.0,9,     -999.0,      0.086,2,      0.000,2,     97.304,2
09AR20110104,       SR03,     134,          1,          3,          3,2,20110128,       1027,   -66.9140,   147.6350,        605,   607.2,  -1.9037,  34.6166,2,-999.0000,9,    301.8,2,  -999.0,9, -999.00,9, -999.00,9,  -999.0,9,  -999.0,9, -999.00,9, -999.00,9,  -1.9186,     -999.0,     -999.0,9,     -999.0,      0.095,2,      0.000,2,     97.225,2
09AR20110104,       SR03,     134,          1,          2,        102,2,20110128,       1027,   -66.9140,   147.6350,        605,   601.9,  -1.9038,  34.6165,2,  34.6168,2,    301.8,2,   301.6,2,   78.80,2, -999.00,9,  -999.0,9,  -999.0,9,   -0.40,2,   30.85,2,  -1.9185,       0.04,      -4.05,2,       0.04,      0.098,2,      0.000,2,     97.415,2
09AR20110104,       SR03,     134,          1,          1,          1,2,20110128,       1027,   -66.9140,   147.6350,        605,   602.0,  -1.9038,  34.6165,2,-999.0000,9,    301.8,2,  -999.0,9, -999.00,9, -999.00,9,  -999.0,9,  -999.0,9, -999.00,9, -999.00,9,  -1.9185,     -999.0,     -999.0,9,     -999.0,      0.078,2,      0.000,2,     97.435,2
09AR20110104,       SR03,     135,          1,         24,         24,2,20110128,       1329,   -66.8822,   148.4450,        178,    10.2,  -0.8499,  33.6566,2,  33.6658,2,    367.8,2,   368.5,2,   49.70,2, -999.00,9,  2117.1,2,  -999.0,9, -999.00,9,   19.30,2,  -0.8502,     -999.0,     -999.0,9,     -999.0,     14.705,2,      0.000,2,     85.334,2
09AR20110104,       SR03,     135,          1,         23,         23,2,20110128,       1329,   -66.8822,   148.4450,        178,    10.2,  -0.8491,  33.6557,2,-999.0000,9,    367.8,2,  -999.0,9, -999.00,9, -999.00,9,  -999.0,9,  -999.0,9, -999.00,9, -999.00,9,  -0.8494,     -999.0,     -999.0,9,     -999.0,     13.517,2,      0.000,2,     85.154,2
09AR20110104,       SR03,     135,          1,         22,         22,2,20110128,       1329,   -66.8822,   148.4450,        178,    10.2,  -0.8280,  33.6379,2,-999.0000,9,    367.8,2,  -999.0,9, -999.00,9, -999.00,9,  -999.0,9,  -999.0,9, -999.00,9, -999.00,9,  -0.8283,     -999.0,     -999.0,9,     -999.0,     14.196,2,      0.000,2,     85.376,2
09AR20110104,       SR03,     135,          1,         21,         21,2,20110128,       1329,   -66.8822,   148.4450,        178,    10.2,  -0.8219,  33.6322,2,-999.0000,9,    367.8,2,  -999.0,9, -999.00,9, -999.00,9,  -999.0,9,  -999.0,9, -999.00,9, -999.00,9,  -0.8222,     -999.0,     -999.0,9,     -999.0,     15.783,2,      0.000,2,     84.320,2
09AR20110104,       SR03,     135,          1,         20,         20,2,20110128,       1329,   -66.8822,   148.4450,        178,    10.2,  -0.8145,  33.6264,2,-999.0000,9,    367.8,2,  -999.0,9, -999.00,9, -999.00,9,  -999.0,9,  -999.0,9, -999.00,9, -999.00,9,  -0.8148,     -999.0,     -999.0,9,     -999.0,     15.432,2,      0.000,2,     84.246,2
09AR20110104,       SR03,     135,          1,         19,         19,2,20110128,       1329,   -66.8822,   148.4450,        178,    10.2,  -0.8181,  33.6289,2,-999.0000,9,    367.8,2,  -999.0,9, -999.00,9, -999.00,9,  -999.0,9,  -999.0,9, -999.00,9, -999.00,9,  -0.8184,     -999.0,     -999.0,9,     -999.0,     15.392,2,      0.000,2,     84.121,2
09AR20110104,       SR03,     135,          1,         18,         18,2,20110128,       1329,   -66.8822,   148.4450,        178,    10.2,  -0.8122,  33.6238,2,-999.0000,9,    367.8,2,  -999.0,9, -999.00,9, -999.00,9,  -999.0,9,  -999.0,9, -999.00,9, -999.00,9,  -0.8125,     -999.0,     -999.0,9,     -999.0,     13.872,2,      0.000,2,     84.884,2
09AR20110104,       SR03,     135,          1,         17,         17,2,20110128,       1329,   -66.8822,   148.4450,        178,    10.2,  -0.7941,  33.6086,2,-999.0000,9,    367.8,2,  -999.0,9, -999.00,9, -999.00,9,  -999.0,9,  -999.0,9, -999.00,9, -999.00,9,  -0.7944,     -999.0,     -999.0,9,     -999.0,     15.166,2,      0.000,2,     84.779,2
09AR20110104,       SR03,     135,          1,         16,         16,2,20110128,       1329,   -66.8822,   148.4450,        178,    10.2,  -0.7939,  33.6079,2,-999.0000,9,    367.8,2,  -999.0,9, -999.00,9, -999.00,9,  -999.0,9,  -999.0,9, -999.00,9, -999.00,9,  -0.7942,     -999.0,     -999.0,9,     -999.0,     13.168,2,      0.000,2,     84.503,2
09AR20110104,       SR03,     135,          1,         15,         15,2,20110128,       1329,   -66.8822,   148.4450,        178,    10.2,  -0.8026,  33.6150,2,-999.0000,9,    367.8,2,  -999.0,9, -999.00,9, -999.00,9,  -999.0,9,  -999.0,9, -999.00,9, -999.00,9,  -0.8029,     -999.0,     -999.0,9,     -999.0,     16.643,2,      0.000,2,     83.957,2
09AR20110104,       SR03,     135,          1,         14,         14,2,20110128,       1329,   -66.8822,   148.4450,        178,    10.2,  -0.8143,  33.6239,2,-999.0000,9,    367.8,2,  -999.0,9, -999.00,9, -999.00,9,  -999.0,9,  -999.0,9, -999.00,9, -999.00,9,  -0.8146,     -999.0,     -999.0,9,     -999.0,     15.192,2,      0.000,2,     85.016,2
09AR20110104,       SR03,     135,          1,         13,         13,2,20110128,       1329,   -66.8822,   148.4450,        178,    10.1,  -0.8069,  33.6171,2,-999.0000,9,    367.8,2,  -999.0,9, -999.00,9, -999.00,9,  -999.0,9,  -999.0,9, -999.00,9, -999.00,9,  -0.8072,     -999.0,     -999.0,9,     -999.0,     13.122,2,      0.000,2,     84.680,2
09AR20110104,       SR03,     135,          1,         12,         12,2,20110128,       1329,   -66.8822,   148.4450,        178,    10.1,  -0.8167,  33.6263,2,-999.0000,9,    367.8,2,  -999.0,9, -999.00,9, -999.00,9,  -999.0,9,  -999.0,9, -999.00,9, -999.00,9,  -0.8170,     -999.0,     -999.0,9,     -999.0,     12.400,2,      0.000,2,     84.350,2
09AR20110104,       SR03,     135,          1,         11,         11,2,20110128,       1329,   -66.8822,   148.4450,        178,    80.4,  -1.5861,  34.3162,2,  34.3190,2,    318.6,2,   318.6,2,   71.80,2,    1.96,2,  2214.1,6,  2321.3,6, -999.00,9,   28.48,2,  -1.5878,     -999.0,     -999.0,9,     -999.0,      3.855,2,      0.000,2,     94.842,2
09AR20110104,       SR03,     135,          1,         10,         10,2,20110128,       1329,   -66.8822,   148.4450,        178,    80.4,  -1.5896,  34.3194,2,-999.0000,9,    318.6,2,  -999.0,9, -999.00,9, -999.00,9,  -999.0,9,  -999.0,9, -999.00,9, -999.00,9,  -1.5913,     -999.0,     -999.0,9,     -999.0,      3.431,2,      0.000,2,     94.935,2
09AR20110104,       SR03,     135,          1,          9,          9,2,20110128,       1329,   -66.8822,   148.4450,        178,    80.5,  -1.5874,  34.3185,2,-999.0000,9,    318.6,2,  -999.0,9, -999.00,9, -999.00,9,  -999.0,9,  -999.0,9, -999.00,9, -999.00,9,  -1.5891,     -999.0,     -999.0,9,     -999.0,      4.363,2,      0.000,2,     94.786,2
09AR20110104,       SR03,     135,          1,          8,          8,2,20110128,       1329,   -66.8822,   148.4450,        178,    80.5,  -1.5880,  34.3188,2,-999.0000,9,    318.6,2,  -999.0,9, -999.00,9, -999.00,9,  -999.0,9,  -999.0,9, -999.00,9, -999.00,9,  -1.5897,     -999.0,     -999.0,9,     -999.0,      4.116,2,      0.000,2,     94.814,2
09AR20110104,       SR03,     135,          1,          7,          7,2,20110128,       1329,   -66.8822,   148.4450,        178,    80.5,  -1.5892,  34.3194,2,-999.0000,9,    318.6,2,  -999.0,9, -999.00,9, -999.00,9,  -999.0,9,  -999.0,9, -999.00,9, -999.00,9,  -1.5909,     -999.0,     -999.0,9,     -999.0,      4.423,2,      0.000,2,     94.949,2
09AR20110104,       SR03,     135,          1,          6,          6,2,20110128,       1329,   -66.8822,   148.4450,        178,    80.4,  -1.5887,  34.3192,2,-999.0000,9,    318.6,2,  -999.0,9, -999.00,9, -999.00,9,  -999.0,9,  -999.0,9, -999.00,9, -999.00,9,  -1.5904,     -999.0,     -999.0,9,     -999.0,      4.357,2,      0.000,2,     94.879,2
09AR20110104,       SR03,     135,          1,          5,          5,2,20110128,       1329,   -66.8822,   148.4450,        178,    80.4,  -1.5848,  34.3164,2,-999.0000,9,    318.6,2,  -999.0,9, -999.00,9, -999.00,9,  -999.0,9,  -999.0,9, -999.00,9, -999.00,9,  -1.5865,     -999.0,     -999.0,9,     -999.0,      3.775,2,      0.000,2,     94.838,2
09AR20110104,       SR03,     135,          1,          4,          4,2,20110128,       1329,   -66.8822,   148.4450,        178,   166.9,  -1.6560,  34.3743,2,-999.0000,9,    309.5,2,  -999.0,9, -999.00,9, -999.00,9,  -999.0,9,  -999.0,9, -999.00,9, -999.00,9,  -1.6597,     -999.0,     -999.0,9,     -999.0,      1.170,2,      0.000,2,     97.168,2
09AR20110104,       SR03,     135,          1,          3,          3,2,20110128,       1329,   -66.8822,   148.4450,        178,   166.4,  -1.6563,  34.3739,2,-999.0000,9,    309.5,2,  -999.0,9, -999.00,9, -999.00,9,  -999.0,9,  -999.0,9, -999.00,9, -999.00,9,  -1.6599,     -999.0,     -999.0,9,     -999.0,      1.296,2,      0.000,2,     97.073,2
09AR20110104,       SR03,     135,          1,          2,        102,2,20110128,       1329,   -66.8822,   148.4450,        178,   166.3,  -1.6557,  34.3745,2,  34.3715,2,    309.5,2,   309.5,2,   73.70,2, -999.00,9,  -999.0,9,  -999.0,9, -999.00,9,   29.49,2,  -1.6593,     -999.0,     -999.0,9,     -999.0,      1.144,2,      0.000,2,     97.127,2
09AR20110104,       SR03,     135,          1,          1,          1,2,20110128,       1329,   -66.8822,   148.4450,        178,   166.2,  -1.6556,  34.3743,2,-999.0000,9,    309.5,2,  -999.0,9, -999.00,9, -999.00,9,  -999.0,9,  -999.0,9, -999.00,9, -999.00,9,  -1.6592,     -999.0,     -999.0,9,     -999.0,      1.311,2,      0.000,2,     97.102,2