BOTTLE,20230419CCHSIOENA
EXPOCODE,SECT_ID,STNNBR,CASTNO,SAMPNO,BTLNBR,BTLNBR_FLAG_W,DATE,TIME,LATITUDE,LONGITUDE,DEPTH,CTDPRS,CTDTMP,CTDSAL,CTDSAL_FLAG_W,SALNTY,SALNTY_FLAG_W,CTDOXY,CTDOXY_FLAG_W,OXYGEN,OXYGEN_FLAG_W,SILCAT,SILCAT_FLAG_W,PHSPHT,PHSPHT_FLAG_W,TCARBN,TCARBN_FLAG_W,ALKALI,ALKALI_FLAG_W,DELO18,DELO18_FLAG_W,NO2+NO3,NO2+NO3_FLAG_W,THETA,O18ERR,DELD,DELD_FLAG_W,DELDERR,CTDFLUOR,CTDFLUOR_FLAG_W,PAR,PAR_FLAG_W,CTDXMISS,CTDXMISS_FLAG_W
,,,,,,,,,,,METERS,DBAR,ITS-90,PSS-78,,PSS-78,,UMOL/KG,,UMOL/KG,,UMOL/KG,,UMOL/KG,,UMOL/KG,,UMOL/KG,,/MILLE,,UMOL/KG,,DEG C,/MILLE,/MILLE,,/MILLE,MG/M^3,,UMOL/M^2/SEC,,%TRANS,
09AR20110104,       SR03,     114,          1,         24,         24,2,20110126,       1521,   -66.6767,   145.3400,        495,    10.1,  -1.1461,  33.5502,2,-999.0000,9,    378.9,2,  -999.0,9, -999.00,9, -999.00,9,  -999.0,9,  -999.0,9, -999.00,9, -999.00,9,  -1.1463,     -999.0,     -999.0,9,     -999.0,     11.768,2,      0.005,2,     87.669,2
09AR20110104,       SR03,     114,          1,         23,         23,2,20110126,       1521,   -66.6767,   145.3400,        495,    10.0,  -1.1713,  33.5576,2,  33.5634,2,    378.9,2,   379.0,2,   46.30,2,    1.15,2,  2110.9,6,  2279.6,6, -999.00,9,   18.80,2,  -1.1715,     -999.0,     -999.0,9,     -999.0,      9.990,2,      0.006,2,     88.251,2
09AR20110104,       SR03,     114,          1,         22,         22,2,20110126,       1521,   -66.6767,   145.3400,        495,    75.7,  -1.5882,  34.1901,2,-999.0000,9,    331.8,2,  -999.0,9, -999.00,9, -999.00,9,  -999.0,9,  -999.0,9, -999.00,9, -999.00,9,  -1.5898,     -999.0,     -999.0,9,     -999.0,      4.487,2,      0.000,2,     94.225,2
09AR20110104,       SR03,     114,          1,         21,         21,2,20110126,       1521,   -66.6767,   145.3400,        495,    75.7,  -1.5875,  34.1901,2,-999.0000,9,    331.8,2,  -999.0,9, -999.00,9, -999.00,9,  -999.0,9,  -999.0,9, -999.00,9, -999.00,9,  -1.5891,     -999.0,     -999.0,9,     -999.0,      4.531,2,      0.000,2,     94.103,2
09AR20110104,       SR03,     114,          1,         20,         20,2,20110126,       1521,   -66.6767,   145.3400,        495,    75.7,  -1.5834,  34.1903,2,  34.1912,2,    331.8,2,   332.2,2,   67.60,2,    1.85,2,  2199.9,2,  2316.2,2, -999.00,9,   26.87,2,  -1.5850,     -999.0,     -999.0,9,     -999.0,      4.842,2,      0.000,2,     93.943,2
09AR20110104,       SR03,     114,          1,         19,         19,2,20110126,       1521,   -66.6767,   145.3400,        495,    75.6,  -1.5779,  34.1889,2,-999.0000,9,    331.8,2,  -999.0,9, -999.00,9, -999.00,9,  -999.0,9,  -999.0,9, -999.00,9, -999.00,9,  -1.5795,     -999.0,     -999.0,9,     -999.0,      4.587,2,      0.000,2,     93.678,2
09AR20110104,       SR03,     114,          1,         18,         18,2,20110126,       1521,   -66.6767,   145.3400,        495,   250.5,  -1.6423,  34.4184,2,  34.4176,2,    302.0,2,   301.5,2,   74.40,2,    2.03,2,  2227.8,2,  2326.5,6, -999.00,9,   30.15,2,  -1.6480,     -999.0,     -999.0,9,     -999.0,      0.661,2,      0.000,2,     97.799,2
09AR20110104,       SR03,     114,          1,         17,         17,2,20110126,       1521,   -66.6767,   145.3400,        495,   250.5,  -1.6428,  34.4184,2,-999.0000,9,    302.0,2,  -999.0,9, -999.00,9, -999.00,9,  -999.0,9,  -999.0,9, -999.00,9, -999.00,9,  -1.6485,     -999.0,     -999.0,9,     -999.0,      0.722,2,      0.000,2,     97.856,2
09AR20110104,       SR03,     114,          1,         16,         16,2,20110126,       1521,   -66.6767,   145.3400,        495,   250.5,  -1.6472,  34.4182,2,-999.0000,9,    302.0,2,  -999.0,9, -999.00,9, -999.00,9,  -999.0,9,  -999.0,9, -999.00,9, -999.00,9,  -1.6529,     -999.0,     -999.0,9,     -999.0,      0.722,2,      0.000,2,     97.861,2
09AR20110104,       SR03,     114,          1,         15,         15,2,20110126,       1521,   -66.6767,   145.3400,        495,   250.5,  -1.6513,  34.4181,2,-999.0000,9,    302.0,2,  -999.0,9, -999.00,9, -999.00,9,  -999.0,9,  -999.0,9, -999.00,9, -999.00,9,  -1.6570,     -999.0,     -999.0,9,     -999.0,      0.661,2,      0.000,2,     97.779,2
09AR20110104,       SR03,     114,          1,         14,         14,2,20110126,       1521,   -66.6767,   145.3400,        495,   321.1,  -1.3922,  34.4959,2,-999.0000,9,    287.2,2,  -999.0,9, -999.00,9, -999.00,9,  -999.0,9,  -999.0,9, -999.00,9, -999.00,9,  -1.4005,     -999.0,     -999.0,9,     -999.0,      0.114,2,      0.000,2,     98.902,2
09AR20110104,       SR03,     114,          1,         13,         13,2,20110126,       1521,   -66.6767,   145.3400,        495,   321.2,  -1.3961,  34.4958,2,-999.0000,9,    287.2,2,  -999.0,9, -999.00,9, -999.00,9,  -999.0,9,  -999.0,9, -999.00,9, -999.00,9,  -1.4044,     -999.0,     -999.0,9,     -999.0,      0.068,2,      0.000,2,     98.894,2
09AR20110104,       SR03,     114,          1,         12,         12,2,20110126,       1521,   -66.6767,   145.3400,        495,   321.2,  -1.4027,  34.4955,2,-999.0000,9,    287.2,2,  -999.0,9, -999.00,9, -999.00,9,  -999.0,9,  -999.0,9, -999.00,9, -999.00,9,  -1.4110,     -999.0,     -999.0,9,     -999.0,      0.041,2,      0.000,2,     98.911,2
09AR20110104,       SR03,     114,          1,         11,         11,2,20110126,       1521,   -66.6767,   145.3400,        495,   321.2,  -1.4083,  34.4954,2,-999.0000,9,    287.2,2,  -999.0,9, -999.00,9, -999.00,9,  -999.0,9,  -999.0,9, -999.00,9, -999.00,9,  -1.4166,     -999.0,     -999.0,9,     -999.0,      0.112,2,      0.000,2,     98.898,2
09AR20110104,       SR03,     114,          1,         10,         10,2,20110126,       1521,   -66.6767,   145.3400,        495,   321.2,  -1.4100,  34.4953,2,  34.4974,2,    287.2,2,   287.7,2,   77.80,2,    2.07,2,  2237.1,2,  2333.7,2, -999.00,9,   30.63,2,  -1.4183,     -999.0,     -999.0,9,     -999.0,      0.069,2,      0.000,2,     98.805,2
09AR20110104,       SR03,     114,          1,          9,          9,2,20110126,       1521,   -66.6767,   145.3400,        495,   321.0,  -1.4210,  34.4958,2,-999.0000,9,    287.2,2,  -999.0,9, -999.00,9, -999.00,9,  -999.0,9,  -999.0,9, -999.00,9, -999.00,9,  -1.4292,     -999.0,     -999.0,9,     -999.0,      0.073,2,      0.000,2,     98.867,2
09AR20110104,       SR03,     114,          1,          8,          8,2,20110126,       1521,   -66.6767,   145.3400,        495,   402.0,  -1.8858,  34.5816,2,  34.5811,2,    303.0,2,   303.9,2,   76.10,2,    2.06,2,  2239.3,2,  2335.8,2, -999.00,9,   30.58,2,  -1.8949,     -999.0,     -999.0,9,     -999.0,      0.030,2,      0.000,2,     98.658,2
09AR20110104,       SR03,     114,          1,          7,          7,2,20110126,       1521,   -66.6767,   145.3400,        495,   401.9,  -1.8857,  34.5817,2,-999.0000,9,    303.0,2,  -999.0,9, -999.00,9, -999.00,9,  -999.0,9,  -999.0,9, -999.00,9, -999.00,9,  -1.8948,     -999.0,     -999.0,9,     -999.0,      0.042,2,      0.000,2,     98.765,2
09AR20110104,       SR03,     114,          1,          6,          6,2,20110126,       1521,   -66.6767,   145.3400,        495,   401.8,  -1.8849,  34.5812,2,-999.0000,9,    303.0,2,  -999.0,9, -999.00,9, -999.00,9,  -999.0,9,  -999.0,9, -999.00,9, -999.00,9,  -1.8940,     -999.0,     -999.0,9,     -999.0,      0.059,2,      0.000,2,     98.836,2
09AR20110104,       SR03,     114,          1,          5,          5,2,20110126,       1521,   -66.6767,   145.3400,        495,   401.7,  -1.8851,  34.5813,2,-999.0000,9,    303.0,2,  -999.0,9, -999.00,9, -999.00,9,  -999.0,9,  -999.0,9, -999.00,9, -999.00,9,  -1.8942,     -999.0,     -999.0,9,     -999.0,      0.006,2,      0.000,2,     98.878,2
09AR20110104,       SR03,     114,          1,          4,          4,2,20110126,       1521,   -66.6767,   145.3400,        495,   496.1,  -1.8942,  34.6262,2,  34.6256,2,    306.8,2,   306.6,2,   76.00,2, -999.00,9,  2242.3,2,  2339.2,2, -999.00,9,   30.61,2,  -1.9059,     -999.0,     -999.0,9,     -999.0,      0.023,2,      0.000,2,     98.325,2
09AR20110104,       SR03,     114,          1,          3,          3,2,20110126,       1521,   -66.6767,   145.3400,        495,   496.1,  -1.8942,  34.6262,2,-999.0000,9,    306.8,2,  -999.0,9, -999.00,9, -999.00,9,  -999.0,9,  -999.0,9, -999.00,9, -999.00,9,  -1.9059,     -999.0,     -999.0,9,     -999.0,      0.034,2,      0.000,2,     98.286,2
09AR20110104,       SR03,     114,          1,          2,        102,2,20110126,       1521,   -66.6767,   145.3400,        495,   496.2,  -1.8943,  34.6262,2,-999.0000,9,    306.8,2,  -999.0,9, -999.00,9, -999.00,9,  -999.0,9,  -999.0,9, -999.00,9, -999.00,9,  -1.9060,     -999.0,     -999.0,9,     -999.0,      0.059,2,      0.000,2,     98.319,2
09AR20110104,       SR03,     114,          1,          1,          1,2,20110126,       1521,   -66.6767,   145.3400,        495,   496.3,  -1.8943,  34.6263,2,-999.0000,9,    306.8,2,  -999.0,9, -999.00,9, -999.00,9,  -999.0,9,  -999.0,9, -999.00,9, -999.00,9,  -1.9060,     -999.0,     -999.0,9,     -999.0,      0.039,2,      0.000,2,     98.298,2
09AR20110104,       SR03,     115,          1,         24,         24,2,20110126,       1750,   -66.6597,   145.7630,        375,     9.5,  -1.1138,  33.4340,2,-999.0000,9,   -999.0,5,  -999.0,9, -999.00,9, -999.00,9,  -999.0,9,  -999.0,9, -999.00,9, -999.00,9,  -1.1140,     -999.0,     -999.0,9,     -999.0,      8.721,2,      5.143,2,     89.495,2
09AR20110104,       SR03,     115,          1,         23,         23,2,20110126,       1750,   -66.6597,   145.7630,        375,     9.5,  -1.0682,  33.4555,2,  33.4674,2,   -999.0,5,  -999.0,9,   43.30,2,    0.95,2,  2085.4,2,  2278.9,6, -999.00,9,   16.20,2,  -1.0684,     -999.0,     -999.0,9,     -999.0,      8.286,2,      5.164,2,     88.855,2
09AR20110104,       SR03,     115,          1,         22,         22,2,20110126,       1750,   -66.6597,   145.7630,        375,    52.4,  -1.3651,  34.0795,2,-999.0000,9,    345.6,2,  -999.0,9, -999.00,9, -999.00,9,  -999.0,9,  -999.0,9, -999.00,9, -999.00,9,  -1.3663,     -999.0,     -999.0,9,     -999.0,      4.727,2,      0.000,2,     92.886,2
09AR20110104,       SR03,     115,          1,         21,         21,2,20110126,       1750,   -66.6597,   145.7630,        375,    52.4,  -1.3647,  34.0805,2,-999.0000,9,    345.6,2,  -999.0,9, -999.00,9, -999.00,9,  -999.0,9,  -999.0,9, -999.00,9, -999.00,9,  -1.3659,     -999.0,     -999.0,9,     -999.0,      4.874,2,      0.000,2,     93.118,2
09AR20110104,       SR03,     115,          1,         20,         20,2,20110126,       1750,   -66.6597,   145.7630,        375,    52.3,  -1.3610,  34.0822,2,  34.0728,2,    345.6,2,   344.9,2,   60.80,2,    1.73,2,  2182.4,2,  2310.2,2, -999.00,9,   25.03,2,  -1.3622,     -999.0,     -999.0,9,     -999.0,      5.560,2,      0.000,2,     93.046,2
09AR20110104,       SR03,     115,          1,         19,         19,2,20110126,       1750,   -66.6597,   145.7630,        375,    52.1,  -1.3635,  34.0813,2,-999.0000,9,    345.6,2,  -999.0,9, -999.00,9, -999.00,9,  -999.0,9,  -999.0,9, -999.00,9, -999.00,9,  -1.3647,     -999.0,     -999.0,9,     -999.0,      5.352,2,      0.000,2,     93.164,2
09AR20110104,       SR03,     115,          1,         18,         18,2,20110126,       1750,   -66.6597,   145.7630,        375,   124.0,  -1.5094,  34.3218,2,-999.0000,9,    313.9,2,  -999.0,9, -999.00,9, -999.00,9,  -999.0,9,  -999.0,9, -999.00,9, -999.00,9,  -1.5122,     -999.0,     -999.0,9,     -999.0,      2.420,2,      0.000,2,     95.595,2
09AR20110104,       SR03,     115,          1,         17,         17,2,20110126,       1750,   -66.6597,   145.7630,        375,   124.2,  -1.5099,  34.3223,2,-999.0000,9,    313.9,2,  -999.0,9, -999.00,9, -999.00,9,  -999.0,9,  -999.0,9, -999.00,9, -999.00,9,  -1.5127,     -999.0,     -999.0,9,     -999.0,      2.411,2,      0.000,2,     95.564,2
09AR20110104,       SR03,     115,          1,         16,         16,2,20110126,       1750,   -66.6597,   145.7630,        375,   124.5,  -1.5109,  34.3228,2,  34.3232,2,    313.9,2,   313.6,2,   70.10,2,    1.94,2,  2213.6,2,  2324.2,6, -999.00,9,   28.52,2,  -1.5137,     -999.0,     -999.0,9,     -999.0,      2.072,2,      0.000,2,     95.554,2
09AR20110104,       SR03,     115,          1,         15,         15,2,20110126,       1750,   -66.6597,   145.7630,        375,   124.6,  -1.5103,  34.3224,2,-999.0000,9,    313.9,2,  -999.0,9, -999.00,9, -999.00,9,  -999.0,9,  -999.0,9, -999.00,9, -999.00,9,  -1.5131,     -999.0,     -999.0,9,     -999.0,      2.472,2,      0.000,2,     95.663,2
09AR20110104,       SR03,     115,          1,         14,         14,2,20110126,       1750,   -66.6597,   145.7630,        375,   201.1,  -1.6181,  34.3838,2,  34.3848,2,    305.4,2,   305.1,2,   73.60,2,    2.03,2,  2224.9,2,  2328.5,2, -999.00,9,   30.17,2,  -1.6226,     -999.0,     -999.0,9,     -999.0,      0.707,2,      0.000,2,     98.044,2
09AR20110104,       SR03,     115,          1,         13,         13,2,20110126,       1750,   -66.6597,   145.7630,        375,   201.1,  -1.6171,  34.3840,2,-999.0000,9,    305.4,2,  -999.0,9, -999.00,9, -999.00,9,  -999.0,9,  -999.0,9, -999.00,9, -999.00,9,  -1.6216,     -999.0,     -999.0,9,     -999.0,      0.614,2,      0.000,2,     97.963,2
09AR20110104,       SR03,     115,          1,         12,         12,2,20110126,       1750,   -66.6597,   145.7630,        375,   201.1,  -1.6161,  34.3844,2,-999.0000,9,    305.4,2,  -999.0,9, -999.00,9, -999.00,9,  -999.0,9,  -999.0,9, -999.00,9, -999.00,9,  -1.6206,     -999.0,     -999.0,9,     -999.0,      0.584,2,      0.000,2,     97.987,2
09AR20110104,       SR03,     115,          1,         11,         11,2,20110126,       1750,   -66.6597,   145.7630,        375,   201.1,  -1.6151,  34.3846,2,-999.0000,9,    305.4,2,  -999.0,9, -999.00,9, -999.00,9,  -999.0,9,  -999.0,9, -999.00,9, -999.00,9,  -1.6196,     -999.0,     -999.0,9,     -999.0,      0.604,2,      0.000,2,     97.967,2
09AR20110104,       SR03,     115,          1,         10,         10,2,20110126,       1750,   -66.6597,   145.7630,        375,   300.9,  -1.4728,  34.4693,2,-999.0000,9,    290.4,2,  -999.0,9, -999.00,9, -999.00,9,  -999.0,9,  -999.0,9, -999.00,9, -999.00,9,  -1.4803,     -999.0,     -999.0,9,     -999.0,      0.138,2,      0.000,2,     98.528,2
09AR20110104,       SR03,     115,          1,          9,          9,2,20110126,       1750,   -66.6597,   145.7630,        375,   300.8,  -1.4726,  34.4695,2,-999.0000,9,    290.4,2,  -999.0,9, -999.00,9, -999.00,9,  -999.0,9,  -999.0,9, -999.00,9, -999.00,9,  -1.4801,     -999.0,     -999.0,9,     -999.0,      0.257,2,      0.000,2,     98.424,2
09AR20110104,       SR03,     115,          1,          8,          8,2,20110126,       1750,   -66.6597,   145.7630,        375,   300.9,  -1.4736,  34.4690,2,  34.4701,2,    290.4,2,   290.4,2,   77.60,2,    2.05,2,  2233.0,2,  2331.4,2, -999.00,9,   30.97,2,  -1.4811,     -999.0,     -999.0,9,     -999.0,      0.183,2,      0.000,2,     98.518,2
09AR20110104,       SR03,     115,          1,          7,          7,2,20110126,       1750,   -66.6597,   145.7630,        375,   300.8,  -1.4738,  34.4689,2,-999.0000,9,    290.4,2,  -999.0,9, -999.00,9, -999.00,9,  -999.0,9,  -999.0,9, -999.00,9, -999.00,9,  -1.4813,     -999.0,     -999.0,9,     -999.0,      0.194,2,      0.000,2,     98.432,2
09AR20110104,       SR03,     115,          1,          6,          6,2,20110126,       1750,   -66.6597,   145.7630,        375,   300.8,  -1.4744,  34.4687,2,-999.0000,9,    290.4,2,  -999.0,9, -999.00,9, -999.00,9,  -999.0,9,  -999.0,9, -999.00,9, -999.00,9,  -1.4819,     -999.0,     -999.0,9,     -999.0,      0.193,2,      0.000,2,     98.408,2
09AR20110104,       SR03,     115,          1,          5,          5,2,20110126,       1750,   -66.6597,   145.7630,        375,   300.8,  -1.4745,  34.4687,2,-999.0000,9,    290.4,2,  -999.0,9, -999.00,9, -999.00,9,  -999.0,9,  -999.0,9, -999.00,9, -999.00,9,  -1.4820,     -999.0,     -999.0,9,     -999.0,      0.255,2,      0.000,2,     98.489,2
09AR20110104,       SR03,     115,          1,          4,          4,2,20110126,       1750,   -66.6597,   145.7630,        375,   373.6,  -1.6956,  34.5781,2,  34.5781,2,    295.9,2,   296.0,2,   79.50,2, -999.00,9,  2241.5,2,  2342.1,2, -999.00,9,   31.25,2,  -1.7046,     -999.0,     -999.0,9,     -999.0,      1.314,2,      0.000,2,     89.378,2
09AR20110104,       SR03,     115,          1,          3,          3,2,20110126,       1750,   -66.6597,   145.7630,        375,   374.1,  -1.6961,  34.5784,2,-999.0000,9,    295.9,2,  -999.0,9, -999.00,9, -999.00,9,  -999.0,9,  -999.0,9, -999.00,9, -999.00,9,  -1.7051,     -999.0,     -999.0,9,     -999.0,      1.630,2,      0.000,2,     87.740,2
09AR20110104,       SR03,     115,          1,          2,        102,2,20110126,       1750,   -66.6597,   145.7630,        375,   374.1,  -1.6964,  34.5784,2,-999.0000,9,    295.9,2,  -999.0,9, -999.00,9, -999.00,9,  -999.0,9,  -999.0,9, -999.00,9, -999.00,9,  -1.7054,     -999.0,     -999.0,9,     -999.0,      1.400,2,      0.000,2,     89.703,2
09AR20110104,       SR03,     115,          1,          1,          1,2,20110126,       1750,   -66.6597,   145.7630,        375,   374.1,  -1.6962,  34.5783,2,-999.0000,9,    295.9,2,  -999.0,9, -999.00,9, -999.00,9,  -999.0,9,  -999.0,9, -999.00,9, -999.00,9,  -1.7052,     -999.0,     -999.0,9,     -999.0,      1.242,2,      0.000,2,     91.171,2