BOTTLE,20230419CCHSIOENA
EXPOCODE,SECT_ID,STNNBR,CASTNO,SAMPNO,BTLNBR,BTLNBR_FLAG_W,DATE,TIME,LATITUDE,LONGITUDE,DEPTH,CTDPRS,CTDTMP,CTDSAL,CTDSAL_FLAG_W,SALNTY,SALNTY_FLAG_W,CTDOXY,CTDOXY_FLAG_W,OXYGEN,OXYGEN_FLAG_W,SILCAT,SILCAT_FLAG_W,PHSPHT,PHSPHT_FLAG_W,TCARBN,TCARBN_FLAG_W,ALKALI,ALKALI_FLAG_W,DELO18,DELO18_FLAG_W,NO2+NO3,NO2+NO3_FLAG_W,THETA,O18ERR,DELD,DELD_FLAG_W,DELDERR,CTDFLUOR,CTDFLUOR_FLAG_W,PAR,PAR_FLAG_W,CTDXMISS,CTDXMISS_FLAG_W
,,,,,,,,,,,METERS,DBAR,ITS-90,PSS-78,,PSS-78,,UMOL/KG,,UMOL/KG,,UMOL/KG,,UMOL/KG,,UMOL/KG,,UMOL/KG,,/MILLE,,UMOL/KG,,DEG C,/MILLE,/MILLE,,/MILLE,MG/M^3,,UMOL/M^2/SEC,,%TRANS,
09AR20110104,       SR03,      48,          1,         24,         24,2,20110117,       2329,   -64.5502,   139.8480,       3051,     9.3,   0.6283,  33.6251,2,  33.6334,2,    353.0,2,   352.2,2,   37.80,2,    1.69,2,  2149.2,2,  2276.1,2, -999.00,9,   26.54,2,   0.6279,     -999.0,     -999.0,9,     -999.0,      0.109,2,     37.109,2,     94.208,2
09AR20110104,       SR03,      48,          1,         23,         23,2,20110117,       2329,   -64.5502,   139.8480,       3051,    59.6,  -1.3446,  34.2115,2,  34.2279,2,    309.8,2,   309.1,2,   57.70,2,    2.11,2,  2208.7,2,  2307.0,2, -999.00,9,   30.17,2,  -1.3460,     -999.0,     -999.0,9,     -999.0,      2.946,2,      8.791,2,     95.770,2
09AR20110104,       SR03,      48,          1,         22,         22,2,20110117,       2329,   -64.5502,   139.8480,       3051,    99.9,   0.0586,  34.4827,2,  34.4790,2,    236.4,2,   242.9,2,   72.60,2,    2.23,2,  2241.0,2,  2325.4,6, -999.00,9,   32.13,2,   0.0550,     -999.0,     -999.0,9,     -999.0,      0.266,2,      1.088,2,     98.942,2
09AR20110104,       SR03,      48,          1,         21,         21,2,20110117,       2329,   -64.5502,   139.8480,       3051,   149.7,   0.9551,  34.6100,2,  34.6114,2,    205.6,2,   207.9,2,   80.20,2,    2.23,2,  -999.0,9,  -999.0,9, -999.00,9,   32.12,2,   0.9484,     -999.0,     -999.0,9,     -999.0,      0.034,2,      0.143,2,     99.152,2
09AR20110104,       SR03,      48,          1,         20,         20,2,20110117,       2329,   -64.5502,   139.8480,       3051,   199.1,   1.2851,  34.6679,2,  34.6672,2,    197.8,2,   199.2,2,   83.70,2,    2.20,2,  2252.9,2,  2341.0,2, -999.00,9,   31.74,2,   1.2756,     -999.0,     -999.0,9,     -999.0,     -0.006,2,      0.000,2,     99.179,2
09AR20110104,       SR03,      48,          1,         19,         19,2,20110117,       2329,   -64.5502,   139.8480,       3051,   299.7,   1.4326,  34.7033,2,  34.7047,2,    197.1,2,   195.9,2,   86.60,2,    2.17,2,  2255.9,2,  2343.0,2, -999.00,9,   31.30,2,   1.4176,     -999.0,     -999.0,9,     -999.0,     -0.010,2,      0.000,2,     99.226,2
09AR20110104,       SR03,      48,          1,         18,         18,2,20110117,       2329,   -64.5502,   139.8480,       3051,   398.4,   1.4355,  34.7178,2,  34.7184,2,    198.3,2,   197.4,2,   88.90,2,    2.14,2,  2253.0,2,  2344.8,2, -999.00,9,   31.07,2,   1.4153,     -999.0,     -999.0,9,     -999.0,     -0.013,2,      0.000,2,     99.330,2
09AR20110104,       SR03,      48,          1,         17,         17,2,20110117,       2329,   -64.5502,   139.8480,       3051,   499.6,   1.4213,  34.7275,2,  34.7277,2,    199.4,2,   198.6,2,   91.50,2,    2.13,2,  -999.0,9,  -999.0,9, -999.00,9,   30.88,2,   1.3955,     -999.0,     -999.0,9,     -999.0,     -0.012,2,      0.000,2,     99.356,2
09AR20110104,       SR03,      48,          1,         16,         16,2,20110117,       2329,   -64.5502,   139.8480,       3051,   600.0,   1.2943,  34.7246,2,  34.7247,2,    200.6,2,   200.8,2,   94.50,2,    2.14,2,  -999.0,9,  -999.0,9, -999.00,9,   30.82,2,   1.2635,     -999.0,     -999.0,9,     -999.0,     -0.014,2,      0.000,2,     99.359,2
09AR20110104,       SR03,      48,          1,         15,         15,2,20110117,       2329,   -64.5502,   139.8480,       3051,   700.0,   1.2456,  34.7274,2,  34.7276,2,    201.6,2,   201.7,2,   96.80,2,    2.14,2,  -999.0,9,  -999.0,9, -999.00,9,   30.93,2,   1.2093,     -999.0,     -999.0,9,     -999.0,     -0.012,2,      0.000,2,     99.383,2
09AR20110104,       SR03,      48,          1,         14,         14,2,20110117,       2329,   -64.5502,   139.8480,       3051,   801.3,   1.1593,  34.7241,2,  34.7235,2,    203.7,2,   203.2,2,   99.10,2,    2.15,2,  -999.0,9,  -999.0,9, -999.00,9,   30.93,2,   1.1176,     -999.0,     -999.0,9,     -999.0,     -0.015,2,      0.000,2,     99.389,2
09AR20110104,       SR03,      48,          1,         13,         13,2,20110117,       2329,   -64.5502,   139.8480,       3051,   899.9,   1.0691,  34.7199,2,  34.7203,2,    204.7,2,   204.3,2,  101.60,2,    2.16,2,  -999.0,9,  -999.0,9, -999.00,9,   31.04,2,   1.0222,     -999.0,     -999.0,9,     -999.0,     -0.020,2,      0.000,2,     99.398,2
09AR20110104,       SR03,      48,          1,         12,         12,2,20110117,       2329,   -64.5502,   139.8480,       3051,   998.9,   0.9791,  34.7170,2,  34.7172,2,    205.6,2,   205.1,2,  104.50,2,    2.17,2,  -999.0,9,  -999.0,9, -999.00,9,   31.19,2,   0.9269,     -999.0,     -999.0,9,     -999.0,     -0.015,2,      0.000,2,     99.428,2
09AR20110104,       SR03,      48,          1,         11,         11,2,20110117,       2329,   -64.5502,   139.8480,       3051,  1200.7,   0.8207,  34.7100,2,  34.7101,2,    207.5,2,   207.3,2,  109.50,2,    2.18,2,  2258.3,2,  2354.2,2, -999.00,9,   31.43,2,   0.7575,     -999.0,     -999.0,9,     -999.0,     -0.017,2,      0.000,2,     99.429,2
09AR20110104,       SR03,      48,          1,         10,         10,2,20110117,       2329,   -64.5502,   139.8480,       3051,  1399.6,   0.6323,  34.6994,2,  34.6993,2,    209.5,2,   210.3,2,  113.20,2,    2.21,2,  -999.0,9,  -999.0,9, -999.00,9,   31.72,2,   0.5584,     -999.0,     -999.0,9,     -999.0,     -0.018,2,      0.000,2,     99.459,2
09AR20110104,       SR03,      48,          1,          9,          9,2,20110117,       2329,   -64.5502,   139.8480,       3051,  1599.0,   0.4487,  34.6901,2,  34.6898,2,    214.7,2,   214.0,2,  116.10,2,    2.23,2,  -999.0,9,  -999.0,9, -999.00,9,   31.86,2,   0.3639,     -999.0,     -999.0,9,     -999.0,     -0.022,2,      0.000,2,     99.463,2
09AR20110104,       SR03,      48,          1,          8,          8,2,20110117,       2329,   -64.5502,   139.8480,       3051,  1799.9,   0.3335,  34.6852,2,  34.6853,2,    217.6,2,   216.6,2,  117.50,2,    2.23,2,  -999.0,9,  -999.0,9, -999.00,9,   31.99,2,   0.2366,     -999.0,     -999.0,9,     -999.0,     -0.019,2,      0.000,2,     99.463,2
09AR20110104,       SR03,      48,          1,          7,          7,2,20110117,       2329,   -64.5502,   139.8480,       3051,  2000.5,   0.2492,  34.6835,2,  34.6833,2,    219.9,2,   219.3,2,  119.90,2,    2.24,2,  -999.0,9,  -999.0,9, -999.00,9,   31.98,2,   0.1395,     -999.0,     -999.0,9,     -999.0,     -0.020,2,      0.000,2,     99.466,2
09AR20110104,       SR03,      48,          1,          6,          6,2,20110117,       2329,   -64.5502,   139.8480,       3051,  2201.9,   0.1523,  34.6797,2,  34.6797,2,    221.7,2,   222.5,2,  121.20,2,    2.23,2,  2260.6,2,  2354.1,2, -999.00,9,   32.00,2,   0.0295,     -999.0,     -999.0,9,     -999.0,     -0.020,2,      0.000,2,     99.461,2
09AR20110104,       SR03,      48,          1,          5,          5,2,20110117,       2329,   -64.5502,   139.8480,       3051,  2399.8,   0.0681,  34.6766,2,  34.6760,2,    225.2,2,   225.4,2,  121.90,2, -999.00,9,  -999.0,9,  -999.0,9, -999.00,9,   32.00,2,  -0.0681,     -999.0,     -999.0,9,     -999.0,     -0.024,2,      0.000,2,     99.451,2
09AR20110104,       SR03,      48,          1,          4,          4,2,20110117,       2329,   -64.5502,   139.8480,       3051,  2599.6,  -0.0334,  34.6713,2,  34.6711,2,    228.8,2,   229.3,2,  120.70,2,    2.24,2,  2259.0,2,  2352.7,2, -999.00,9,   31.92,2,  -0.1832,     -999.0,     -999.0,9,     -999.0,     -0.023,2,      0.000,2,     99.451,2
09AR20110104,       SR03,      48,          1,          3,          3,2,20110117,       2329,   -64.5502,   139.8480,       3051,  2799.6,  -0.1360,  34.6647,2,  34.6632,2,    234.3,2,   233.8,2,  117.40,2,    2.22,2,  -999.0,9,  -999.0,9, -999.00,9,   31.84,2,  -0.2997,     -999.0,     -999.0,9,     -999.0,     -0.024,2,      0.000,2,     99.447,2
09AR20110104,       SR03,      48,          1,          2,        102,2,20110117,       2329,   -64.5502,   139.8480,       3051,  3000.6,  -0.2730,  34.6541,2,  34.6526,2,    242.2,2,   243.0,2,  108.10,2,    2.20,2,  -999.0,9,  -999.0,9, -999.00,9,   31.70,2,  -0.4502,     -999.0,     -999.0,9,     -999.0,     -0.023,2,      0.000,2,     99.348,2
09AR20110104,       SR03,      48,          1,          1,          1,2,20110117,       2329,   -64.5502,   139.8480,       3051,  3092.8,  -0.3109,  34.6501,2,  34.6484,2,    245.6,2,   245.7,2,  107.40,2,    2.20,2,  2255.3,6,  2347.5,6, -999.00,9,   31.60,2,  -0.4950,     -999.0,     -999.0,9,     -999.0,     -0.023,2,      0.000,2,     99.225,2
09AR20110104,       SR03,      49,          1,         24,         24,2,20110117,       0334,   -64.8065,   139.8500,       2579,     9.0,   0.7921,  33.7168,2,  33.7235,2,    352.3,2,   352.8,2,   42.60,2,    1.59,2,  2154.4,6,  2278.5,6,   -0.29,2,   26.61,2,   0.7917,       0.15,      -3.27,2,       0.26,      0.097,2,     34.039,2,     94.216,2
09AR20110104,       SR03,      49,          1,         23,         23,2,20110117,       0334,   -64.8065,   139.8500,       2579,    24.3,   0.2327,  33.7353,2,  33.8202,2,    355.4,2,   349.8,2,   44.30,2,    1.66,2,  2162.0,2,  2283.8,2, -999.00,9,   26.86,2,   0.2318,     -999.0,     -999.0,9,     -999.0,      0.490,2,     20.259,2,     93.142,2
09AR20110104,       SR03,      49,          1,         22,         22,2,20110117,       0334,   -64.8065,   139.8500,       2579,    49.7,  -1.4310,  34.2716,2,  34.2942,2,    330.0,2,   307.1,2,   60.20,2,    2.00,2,  2208.4,2,  2315.1,6,   -0.34,2,   29.47,2,  -1.4321,       0.05,      -3.82,2,       0.25,      6.287,2,      4.181,2,     92.534,2
09AR20110104,       SR03,      49,          1,         21,         21,2,20110117,       0334,   -64.8065,   139.8500,       2579,    90.3,  -1.2992,  34.4080,2,  34.4109,2,    282.0,2,   281.9,2,   68.60,2,    2.10,2,  2228.5,2,  2322.7,2, -999.00,9,   30.80,2,  -1.3014,     -999.0,     -999.0,9,     -999.0,      0.309,2,      0.483,2,     98.991,2
09AR20110104,       SR03,      49,          1,         20,         20,2,20110117,       0334,   -64.8065,   139.8500,       2579,   150.4,  -0.3688,  34.5157,2,  34.5236,2,    244.2,2,   247.6,2,   76.80,2,    2.14,2,  2239.0,2,  2330.5,2, -999.00,9,   31.25,2,  -0.3738,     -999.0,     -999.0,9,     -999.0,      0.028,2,      0.011,2,     99.292,2
09AR20110104,       SR03,      49,          1,         19,         19,2,20110117,       0334,   -64.8065,   139.8500,       2579,   250.4,   1.1223,  34.6765,2,  34.6780,2,    209.9,2,   204.0,2,   87.60,2,    2.14,2,  2251.3,2,  2341.4,2, -999.00,9,   31.29,2,   1.1106,     -999.0,     -999.0,9,     -999.0,     -0.015,2,      0.000,2,     99.189,2
09AR20110104,       SR03,      49,          1,         18,         18,2,20110117,       0334,   -64.8065,   139.8500,       2579,   350.6,   1.2938,  34.7093,2,  34.7106,2,    202.2,2,   200.4,2,   91.10,2,    2.11,2,  2252.0,2,  2345.7,2,   -0.11,2,   31.02,2,   1.2765,       0.03,      -2.15,2,       0.27,     -0.015,2,      0.000,2,     99.285,2
09AR20110104,       SR03,      49,          1,         17,         17,2,20110117,       0334,   -64.8065,   139.8500,       2579,   449.6,   1.3182,  34.7234,2,  34.7239,2,    199.2,2,   200.5,2,   94.30,2,    2.11,2,  2253.9,2,  2347.8,2, -999.00,9,   30.87,2,   1.2956,     -999.0,     -999.0,9,     -999.0,     -0.014,2,      0.000,2,     99.327,2
09AR20110104,       SR03,      49,          1,         16,         16,2,20110117,       0334,   -64.8065,   139.8500,       2579,   549.5,   1.1026,  34.7106,2,  34.7117,2,    202.6,2,   203.8,2,   97.10,2,    2.12,2,  2253.4,2,  2350.0,6, -999.00,9,   31.00,2,   1.0755,     -999.0,     -999.0,9,     -999.0,     -0.018,2,      0.000,2,     99.338,2
09AR20110104,       SR03,      49,          1,         15,         15,2,20110117,       0334,   -64.8065,   139.8500,       2579,   650.3,   1.0778,  34.7147,2,  34.7151,2,    203.5,2,   204.1,2,   99.80,2,    2.13,2,  2253.7,2,  2351.2,2, -999.00,9,   31.05,2,   1.0452,     -999.0,     -999.0,9,     -999.0,     -0.017,2,      0.000,2,     99.336,2
09AR20110104,       SR03,      49,          1,         14,         14,2,20110117,       0334,   -64.8065,   139.8500,       2579,   750.9,   0.9969,  34.7126,2,  34.7133,2,    204.3,2,   205.5,2,  102.40,2,    2.14,2,  2253.8,2,  2350.4,2, -999.00,9,   31.18,2,   0.9592,     -999.0,     -999.0,9,     -999.0,     -0.016,2,      0.000,2,     99.352,2
09AR20110104,       SR03,      49,          1,         13,         13,2,20110117,       0334,   -64.8065,   139.8500,       2579,   849.8,   0.9101,  34.7095,2,  34.7099,2,    205.8,2,   206.1,2,  105.40,2,    2.14,2,  2256.9,2,  2352.2,2, -999.00,9,   31.24,2,   0.8673,     -999.0,     -999.0,9,     -999.0,     -0.019,2,      0.000,2,     99.365,2
09AR20110104,       SR03,      49,          1,         12,         12,2,20110117,       0334,   -64.8065,   139.8500,       2579,   949.3,   0.8414,  34.7085,2,  34.7085,2,    205.9,2,   207.0,2,  108.10,2,    2.17,2,  2258.0,6,  2352.4,6, -999.00,9,   31.35,2,   0.7933,     -999.0,     -999.0,9,     -999.0,     -0.021,2,      0.000,2,     99.377,2
09AR20110104,       SR03,      49,          1,         11,         11,2,20110117,       0334,   -64.8065,   139.8500,       2579,  1049.5,   0.6769,  34.6956,2,  34.6959,2,    209.6,2,   209.5,2,  109.00,2,    2.16,2,  2258.3,2,  2352.3,2,   -0.09,2,   31.51,2,   0.6242,       0.01,      -2.22,2,       0.06,     -0.018,2,      0.000,2,     99.367,2
09AR20110104,       SR03,      49,          1,         10,         10,2,20110117,       0334,   -64.8065,   139.8500,       2579,  1199.9,   0.5446,  34.6898,2,  34.6902,2,    211.6,2,   211.3,2,  112.20,2,    2.20,2,  2259.8,2,  2352.4,2, -999.00,9,   31.71,2,   0.4841,     -999.0,     -999.0,9,     -999.0,     -0.018,2,      0.000,2,     99.390,2
09AR20110104,       SR03,      49,          1,          9,          9,2,20110117,       0334,   -64.8065,   139.8500,       2579,  1400.0,   0.4691,  34.6910,2,  34.6910,2,    213.7,2,   212.9,2,  116.50,2,    2.20,2,  2261.2,2,  2353.4,2, -999.00,9,   31.81,2,   0.3970,     -999.0,     -999.0,9,     -999.0,     -0.018,2,      0.000,2,     99.401,2
09AR20110104,       SR03,      49,          1,          8,          8,2,20110117,       0334,   -64.8065,   139.8500,       2579,  1599.9,   0.2914,  34.6810,2,  34.6815,2,    217.5,2,   217.2,2,  115.40,2,    2.21,2,  2259.6,2,  2352.4,2, -999.00,9,   31.98,2,   0.2085,     -999.0,     -999.0,9,     -999.0,     -0.020,2,      0.000,2,     99.396,2
09AR20110104,       SR03,      49,          1,          7,          7,2,20110117,       0334,   -64.8065,   139.8500,       2579,  1799.7,   0.2168,  34.6819,2,  34.6821,2,    222.1,2,   219.7,2,  119.60,2,    2.21,2,  2259.5,2,  2352.4,2,   -0.20,2,   32.00,2,   0.1216,       0.12,      -2.59,2,       0.06,     -0.022,2,      0.000,2,     99.405,2
09AR20110104,       SR03,      49,          1,          6,          6,2,20110117,       0334,   -64.8065,   139.8500,       2579,  1999.1,   0.0720,  34.6716,2,  34.6715,2,    225.0,2,   224.8,2,  113.80,2,    2.20,2,  2258.6,2,  2351.5,2, -999.00,9,   31.83,2,  -0.0348,     -999.0,     -999.0,9,     -999.0,     -0.023,2,      0.000,2,     99.388,2
09AR20110104,       SR03,      49,          1,          5,          5,2,20110117,       0334,   -64.8065,   139.8500,       2579,  2199.9,  -0.1187,  34.6583,2,  34.6583,2,    232.8,2,   232.8,2,  107.00,2,    2.18,2,  2256.8,2,  2346.6,6, -999.00,9,   31.66,2,  -0.2366,     -999.0,     -999.0,9,     -999.0,     -0.021,2,      0.000,2,     99.353,2
09AR20110104,       SR03,      49,          1,          4,          4,2,20110117,       0334,   -64.8065,   139.8500,       2579,  2299.5,  -0.2412,  34.6489,2,  34.6489,2,    239.7,2,   239.4,2,  102.20,2,    2.17,2,  2253.6,2,  2345.5,2,   -0.30,2,   31.51,2,  -0.3642,       0.02,      -3.21,2,       0.09,     -0.022,2,      0.000,2,     99.314,2
09AR20110104,       SR03,      49,          1,          3,          3,2,20110117,       0334,   -64.8065,   139.8500,       2579,  2402.2,  -0.3740,  34.6390,2,  34.6384,2,    247.2,2,   246.8,2,   97.50,2,    2.15,2,  2253.8,2,  2344.5,2, -999.00,9,   31.28,2,  -0.5020,     -999.0,     -999.0,9,     -999.0,     -0.021,2,      0.000,2,     99.274,2
09AR20110104,       SR03,      49,          1,          2,        102,2,20110117,       0334,   -64.8065,   139.8500,       2579,  2500.1,  -0.3534,  34.6455,2,  34.6453,2,    244.4,2,   244.3,2,   99.50,2,    2.16,2,  -999.0,9,  -999.0,9,   -0.33,2,   31.30,2,  -0.4891,       0.08,      -3.32,2,       0.10,     -0.022,2,      0.000,2,     99.266,2
09AR20110104,       SR03,      49,          1,          1,          1,2,20110117,       0334,   -64.8065,   139.8500,       2579,  2610.5,  -0.4127,  34.6366,2,  34.6364,2,    248.7,2,   248.9,2,   96.10,2,    2.14,2,  2251.5,6,  2345.1,6,   -0.26,2,   31.09,2,  -0.5556,       0.03,      -3.25,2,       0.06,     -0.020,2,      0.000,2,     99.251,2