BOTTLE,20230419CCHSIOENA
EXPOCODE,SECT_ID,STNNBR,CASTNO,SAMPNO,BTLNBR,BTLNBR_FLAG_W,DATE,TIME,LATITUDE,LONGITUDE,DEPTH,CTDPRS,CTDTMP,CTDSAL,CTDSAL_FLAG_W,SALNTY,SALNTY_FLAG_W,CTDOXY,CTDOXY_FLAG_W,OXYGEN,OXYGEN_FLAG_W,SILCAT,SILCAT_FLAG_W,PHSPHT,PHSPHT_FLAG_W,TCARBN,TCARBN_FLAG_W,ALKALI,ALKALI_FLAG_W,DELO18,DELO18_FLAG_W,NO2+NO3,NO2+NO3_FLAG_W,THETA,O18ERR,DELD,DELD_FLAG_W,DELDERR,CTDFLUOR,CTDFLUOR_FLAG_W,PAR,PAR_FLAG_W,CTDXMISS,CTDXMISS_FLAG_W
,,,,,,,,,,,METERS,DBAR,ITS-90,PSS-78,,PSS-78,,UMOL/KG,,UMOL/KG,,UMOL/KG,,UMOL/KG,,UMOL/KG,,UMOL/KG,,/MILLE,,UMOL/KG,,DEG C,/MILLE,/MILLE,,/MILLE,MG/M^3,,UMOL/M^2/SEC,,%TRANS,
09AR20110104,       SR03,      58,          1,         24,         24,2,20110118,       1751,   -65.6863,   140.5190,        832,    10.4,   0.4838,  33.9438,2,-999.0000,9,    352.0,2,  -999.0,9, -999.00,9, -999.00,9,  -999.0,9,  -999.0,9, -999.00,9, -999.00,9,   0.4834,     -999.0,     -999.0,9,     -999.0,      1.026,2,      6.534,2,     93.661,2
09AR20110104,       SR03,      58,          1,         23,         23,2,20110118,       1751,   -65.6863,   140.5190,        832,    10.3,   0.4829,  33.9438,2,-999.0000,9,    352.0,2,  -999.0,9, -999.00,9, -999.00,9,  -999.0,9,  -999.0,9, -999.00,9, -999.00,9,   0.4825,     -999.0,     -999.0,9,     -999.0,      1.081,2,      6.500,2,     93.695,2
09AR20110104,       SR03,      58,          1,         22,         22,2,20110118,       1751,   -65.6863,   140.5190,        832,    10.3,   0.4830,  33.9433,2,-999.0000,9,    352.0,2,  -999.0,9, -999.00,9, -999.00,9,  -999.0,9,  -999.0,9, -999.00,9, -999.00,9,   0.4826,     -999.0,     -999.0,9,     -999.0,      1.112,2,      6.436,2,     93.712,2
09AR20110104,       SR03,      58,          1,         21,         21,2,20110118,       1751,   -65.6863,   140.5190,        832,    10.4,   0.4853,  33.9432,2,-999.0000,9,    352.0,2,  -999.0,9, -999.00,9, -999.00,9,  -999.0,9,  -999.0,9, -999.00,9, -999.00,9,   0.4849,     -999.0,     -999.0,9,     -999.0,      1.037,2,      6.306,2,     93.686,2
09AR20110104,       SR03,      58,          1,         20,         20,2,20110118,       1751,   -65.6863,   140.5190,        832,    10.3,   0.4826,  33.9436,2,-999.0000,9,    352.0,2,  -999.0,9, -999.00,9, -999.00,9,  -999.0,9,  -999.0,9, -999.00,9, -999.00,9,   0.4822,     -999.0,     -999.0,9,     -999.0,      1.081,2,      6.339,2,     93.732,2
09AR20110104,       SR03,      58,          1,         19,         19,2,20110118,       1751,   -65.6863,   140.5190,        832,    10.4,   0.4810,  33.9436,2,-999.0000,9,    352.0,2,  -999.0,9, -999.00,9, -999.00,9,  -999.0,9,  -999.0,9, -999.00,9, -999.00,9,   0.4806,     -999.0,     -999.0,9,     -999.0,      1.055,2,      6.261,2,     93.692,2
09AR20110104,       SR03,      58,          1,         18,         18,2,20110118,       1751,   -65.6863,   140.5190,        832,    10.5,   0.4829,  33.9434,2,-999.0000,9,    352.0,2,  -999.0,9, -999.00,9, -999.00,9,  -999.0,9,  -999.0,9, -999.00,9, -999.00,9,   0.4825,     -999.0,     -999.0,9,     -999.0,      1.063,2,      6.149,2,     93.710,2
09AR20110104,       SR03,      58,          1,         17,         17,2,20110118,       1751,   -65.6863,   140.5190,        832,    10.4,   0.4848,  33.9433,2,-999.0000,9,    352.0,2,  -999.0,9, -999.00,9, -999.00,9,  -999.0,9,  -999.0,9, -999.00,9, -999.00,9,   0.4844,     -999.0,     -999.0,9,     -999.0,      1.031,2,      6.100,2,     93.673,2
09AR20110104,       SR03,      58,          1,         16,         16,2,20110118,       1751,   -65.6863,   140.5190,        832,    10.4,   0.4855,  33.9433,2,-999.0000,9,    352.0,2,  -999.0,9, -999.00,9, -999.00,9,  -999.0,9,  -999.0,9, -999.00,9, -999.00,9,   0.4851,     -999.0,     -999.0,9,     -999.0,      1.052,2,      6.072,2,     93.647,2
09AR20110104,       SR03,      58,          1,         15,         15,2,20110118,       1751,   -65.6863,   140.5190,        832,    10.4,   0.4859,  33.9433,2,-999.0000,9,    352.0,2,  -999.0,9, -999.00,9, -999.00,9,  -999.0,9,  -999.0,9, -999.00,9, -999.00,9,   0.4855,     -999.0,     -999.0,9,     -999.0,      1.080,2,      6.013,2,     93.688,2
09AR20110104,       SR03,      58,          1,         14,         14,2,20110118,       1751,   -65.6863,   140.5190,        832,    10.5,   0.4822,  33.9433,2,-999.0000,9,    352.0,2,  -999.0,9, -999.00,9, -999.00,9,  -999.0,9,  -999.0,9, -999.00,9, -999.00,9,   0.4818,     -999.0,     -999.0,9,     -999.0,      1.049,2,      6.053,2,     93.683,2
09AR20110104,       SR03,      58,          1,         13,         13,2,20110118,       1751,   -65.6863,   140.5190,        832,    10.4,   0.4837,  33.9432,2,-999.0000,9,    352.0,2,  -999.0,9, -999.00,9, -999.00,9,  -999.0,9,  -999.0,9, -999.00,9, -999.00,9,   0.4833,     -999.0,     -999.0,9,     -999.0,      1.044,2,      6.114,2,     93.671,2
09AR20110104,       SR03,      58,          1,         12,         12,2,20110118,       1751,   -65.6863,   140.5190,        832,    10.5,   0.4834,  33.9431,2,  33.9455,2,    352.0,2,   352.1,2,   46.90,2,    1.56,2,  2167.6,2,  2297.5,2, -999.00,9,   25.76,2,   0.4830,     -999.0,     -999.0,9,     -999.0,      1.064,2,      5.710,2,     93.600,2
09AR20110104,       SR03,      58,          1,         11,         11,2,20110118,       1751,   -65.6863,   140.5190,        832,    49.2,  -0.7223,  34.0943,2,  34.0957,2,    339.1,2,   349.6,2,   52.60,2,    1.65,2,  2180.1,2,  2307.6,6, -999.00,9,   25.76,2,  -0.7237,     -999.0,     -999.0,9,     -999.0,      2.702,2,      0.416,2,     92.817,2
09AR20110104,       SR03,      58,          1,         10,         10,2,20110118,       1751,   -65.6863,   140.5190,        832,   101.8,  -1.5471,  34.3167,2,  34.3182,2,    314.6,2,   317.3,2,   66.40,2,    1.94,2,  2214.7,2,  2321.4,2, -999.00,9,   29.12,2,  -1.5494,     -999.0,     -999.0,9,     -999.0,      1.029,2,      0.000,2,     97.497,2
09AR20110104,       SR03,      58,          1,          9,          9,2,20110118,       1751,   -65.6863,   140.5190,        832,   151.0,  -1.6158,  34.3681,2,  34.3685,2,    307.4,2,   309.5,2,   69.60,2,    1.99,2,  2220.9,2,  2323.0,2, -999.00,9,   29.75,2,  -1.6191,     -999.0,     -999.0,9,     -999.0,      0.412,2,      0.000,2,     98.475,2
09AR20110104,       SR03,      58,          1,          8,          8,2,20110118,       1751,   -65.6863,   140.5190,        832,   203.4,  -1.4113,  34.4283,2,  34.4279,2,    299.6,2,   292.7,2,   72.30,2,    2.03,2,  2228.6,2,  2326.1,2, -999.00,9,   30.34,2,  -1.4163,     -999.0,     -999.0,9,     -999.0,      0.375,2,      0.000,2,     98.829,2
09AR20110104,       SR03,      58,          1,          7,          7,2,20110118,       1751,   -65.6863,   140.5190,        832,   301.5,  -1.2365,  34.4632,2,-999.0000,9,    281.0,2,  -999.0,9, -999.00,9, -999.00,9,  -999.0,9,  -999.0,9, -999.00,9, -999.00,9,  -1.2446,     -999.0,     -999.0,9,     -999.0,      0.036,2,      0.000,2,     99.136,2
09AR20110104,       SR03,      58,          1,          6,          6,2,20110118,       1751,   -65.6863,   140.5190,        832,   301.7,  -1.2371,  34.4632,2,-999.0000,9,    281.0,2,  -999.0,9, -999.00,9, -999.00,9,  -999.0,9,  -999.0,9, -999.00,9, -999.00,9,  -1.2453,     -999.0,     -999.0,9,     -999.0,      0.057,2,      0.000,2,     99.130,2
09AR20110104,       SR03,      58,          1,          5,          5,2,20110118,       1751,   -65.6863,   140.5190,        832,   301.9,  -1.2458,  34.4617,2,  34.4612,2,    281.0,2,   280.3,2,   73.90,2,    2.06,2,  2233.0,2,  2328.5,2, -999.00,9,   30.56,2,  -1.2539,     -999.0,     -999.0,9,     -999.0,      0.067,2,      0.000,2,     99.151,2
09AR20110104,       SR03,      58,          1,          4,          4,2,20110118,       1751,   -65.6863,   140.5190,        832,   449.9,  -0.5020,  34.5706,2,  34.5711,2,    252.6,2,   252.8,2,   84.60,2,    2.09,2,  2243.7,2,  2338.3,2, -999.00,9,   31.19,2,  -0.5177,     -999.0,     -999.0,9,     -999.0,      0.041,2,      0.000,2,     99.257,2
09AR20110104,       SR03,      58,          1,          3,          3,2,20110118,       1751,   -65.6863,   140.5190,        832,   601.7,  -0.8529,  34.6049,2,  34.6051,2,    263.3,2,   264.5,2,   86.30,2,    2.09,2,  2245.7,2,  2341.2,2, -999.00,9,   31.20,2,  -0.8730,     -999.0,     -999.0,9,     -999.0,     -0.020,2,      0.000,2,     99.209,2
09AR20110104,       SR03,      58,          1,          2,        102,2,20110118,       1751,   -65.6863,   140.5190,        832,   724.4,  -1.0240,  34.6035,2,  34.6031,2,    270.9,2,   271.3,2,   84.70,2,    2.09,2,  -999.0,9,  -999.0,9, -999.00,9,   31.09,2,  -1.0480,     -999.0,     -999.0,9,     -999.0,     -0.002,2,      0.000,2,     99.127,2
09AR20110104,       SR03,      58,          1,          1,          1,2,20110118,       1751,   -65.6863,   140.5190,        832,   829.8,  -0.8229,  34.6147,2,  34.6144,2,    264.5,2,   263.3,2,   88.80,2,    2.10,2,  2247.6,6,  2342.1,6, -999.00,9,   31.43,2,  -0.8526,     -999.0,     -999.0,9,     -999.0,     -0.003,2,      0.000,2,     99.018,2
09AR20110104,       SR03,      59,          1,         24,         24,2,20110118,       2158,   -65.7035,   140.5660,        417,     8.8,   0.4572,  33.9504,2,-999.0000,9,    351.6,2,  -999.0,9, -999.00,9, -999.00,9,  -999.0,9,  -999.0,9, -999.00,9, -999.00,9,   0.4569,     -999.0,     -999.0,9,     -999.0,      0.478,2,     78.889,2,     93.534,2
09AR20110104,       SR03,      59,          1,         23,         23,2,20110118,       2158,   -65.7035,   140.5660,        417,     8.8,   0.4162,  33.9520,2,-999.0000,9,    351.6,2,  -999.0,9, -999.00,9, -999.00,9,  -999.0,9,  -999.0,9, -999.00,9, -999.00,9,   0.4159,     -999.0,     -999.0,9,     -999.0,      0.590,2,     77.849,2,     93.482,2
09AR20110104,       SR03,      59,          1,         22,         22,2,20110118,       2158,   -65.7035,   140.5660,        417,     8.8,   0.3451,  33.9537,2,-999.0000,9,    351.6,2,  -999.0,9, -999.00,9, -999.00,9,  -999.0,9,  -999.0,9, -999.00,9, -999.00,9,   0.3448,     -999.0,     -999.0,9,     -999.0,      0.733,2,     78.919,2,     93.395,2
09AR20110104,       SR03,      59,          1,         21,         21,2,20110118,       2158,   -65.7035,   140.5660,        417,     8.7,   0.3814,  33.9510,2,-999.0000,9,    351.6,2,  -999.0,9, -999.00,9, -999.00,9,  -999.0,9,  -999.0,9, -999.00,9, -999.00,9,   0.3811,     -999.0,     -999.0,9,     -999.0,      0.783,2,     79.449,2,     93.418,2
09AR20110104,       SR03,      59,          1,         20,         20,2,20110118,       2158,   -65.7035,   140.5660,        417,     8.9,   0.4007,  33.9498,2,-999.0000,9,    351.6,2,  -999.0,9, -999.00,9, -999.00,9,  -999.0,9,  -999.0,9, -999.00,9, -999.00,9,   0.4004,     -999.0,     -999.0,9,     -999.0,      0.788,2,     76.779,2,     93.494,2
09AR20110104,       SR03,      59,          1,         19,         19,2,20110118,       2158,   -65.7035,   140.5660,        417,     8.9,   0.4658,  33.9495,2,-999.0000,9,    351.6,2,  -999.0,9, -999.00,9, -999.00,9,  -999.0,9,  -999.0,9, -999.00,9, -999.00,9,   0.4655,     -999.0,     -999.0,9,     -999.0,      0.709,2,     77.959,2,     93.605,2
09AR20110104,       SR03,      59,          1,         18,         18,2,20110118,       2158,   -65.7035,   140.5660,        417,     8.9,   0.4655,  33.9495,2,-999.0000,9,    351.6,2,  -999.0,9, -999.00,9, -999.00,9,  -999.0,9,  -999.0,9, -999.00,9, -999.00,9,   0.4652,     -999.0,     -999.0,9,     -999.0,      0.692,2,     76.869,2,     93.557,2
09AR20110104,       SR03,      59,          1,         17,         17,2,20110118,       2158,   -65.7035,   140.5660,        417,     8.9,   0.4536,  33.9496,2,-999.0000,9,    351.6,2,  -999.0,9, -999.00,9, -999.00,9,  -999.0,9,  -999.0,9, -999.00,9, -999.00,9,   0.4533,     -999.0,     -999.0,9,     -999.0,      0.743,2,     77.109,2,     93.588,2
09AR20110104,       SR03,      59,          1,         16,         16,2,20110118,       2158,   -65.7035,   140.5660,        417,     8.9,   0.4656,  33.9494,2,-999.0000,9,    351.6,2,  -999.0,9, -999.00,9, -999.00,9,  -999.0,9,  -999.0,9, -999.00,9, -999.00,9,   0.4653,     -999.0,     -999.0,9,     -999.0,      0.646,2,     76.349,2,     93.594,2
09AR20110104,       SR03,      59,          1,         15,         15,2,20110118,       2158,   -65.7035,   140.5660,        417,     8.9,   0.4715,  33.9493,2,-999.0000,9,    351.6,2,  -999.0,9, -999.00,9, -999.00,9,  -999.0,9,  -999.0,9, -999.00,9, -999.00,9,   0.4712,     -999.0,     -999.0,9,     -999.0,      0.586,2,     75.689,2,     93.555,2
09AR20110104,       SR03,      59,          1,         14,         14,2,20110118,       2158,   -65.7035,   140.5660,        417,     8.8,   0.4702,  33.9494,2,-999.0000,9,    351.6,2,  -999.0,9, -999.00,9, -999.00,9,  -999.0,9,  -999.0,9, -999.00,9, -999.00,9,   0.4699,     -999.0,     -999.0,9,     -999.0,      0.607,2,     77.819,2,     93.553,2
09AR20110104,       SR03,      59,          1,         13,         13,2,20110118,       2158,   -65.7035,   140.5660,        417,     8.8,   0.4660,  33.9495,2,-999.0000,9,    351.6,2,  -999.0,9, -999.00,9, -999.00,9,  -999.0,9,  -999.0,9, -999.00,9, -999.00,9,   0.4657,     -999.0,     -999.0,9,     -999.0,      0.644,2,     76.759,2,     93.572,2
09AR20110104,       SR03,      59,          1,         12,         12,2,20110118,       2158,   -65.7035,   140.5660,        417,     8.9,   0.4647,  33.9493,2,-999.0000,9,    351.6,2,  -999.0,9, -999.00,9, -999.00,9,  -999.0,9,  -999.0,9, -999.00,9, -999.00,9,   0.4644,     -999.0,     -999.0,9,     -999.0,      0.677,2,     72.569,2,     93.605,2
09AR20110104,       SR03,      59,          1,         11,         11,2,20110118,       2158,   -65.7035,   140.5660,        417,     8.9,   0.4615,  33.9493,2,-999.0000,9,    351.6,2,  -999.0,9, -999.00,9, -999.00,9,  -999.0,9,  -999.0,9, -999.00,9, -999.00,9,   0.4612,     -999.0,     -999.0,9,     -999.0,      0.751,2,     73.419,2,     93.606,2
09AR20110104,       SR03,      59,          1,         10,         10,2,20110118,       2158,   -65.7035,   140.5660,        417,     9.1,   0.4660,  33.9487,2,  33.9505,2,    351.7,2,   352.0,2,   47.30,2,    1.57,2,  2168.1,2,  2296.8,2, -999.00,9,   25.74,2,   0.4657,     -999.0,     -999.0,9,     -999.0,      0.731,2,     75.579,2,     93.515,2
09AR20110104,       SR03,      59,          1,          9,          9,2,20110118,       2158,   -65.7035,   140.5660,        417,    50.9,  -1.0275,  34.1539,2,  34.1534,2,    334.6,2,   343.5,2,   56.40,2,    1.72,2,  2187.1,2,  2309.2,2, -999.00,9,   26.45,2,  -1.0288,     -999.0,     -999.0,9,     -999.0,      2.714,2,      3.604,2,     93.494,2
09AR20110104,       SR03,      59,          1,          8,          8,2,20110118,       2158,   -65.7035,   140.5660,        417,   103.5,  -1.6219,  34.3759,2,  34.3755,2,    304.7,2,   303.2,2,   71.30,2,    2.04,2,  2224.5,2,  2322.0,2, -999.00,9,   30.63,2,  -1.6241,     -999.0,     -999.0,9,     -999.0,      0.270,2,      0.156,2,     98.894,2
09AR20110104,       SR03,      59,          1,          7,          7,2,20110118,       2158,   -65.7035,   140.5660,        417,   201.2,  -1.2845,  34.4528,2,-999.0000,9,    283.7,2,  -999.0,9, -999.00,9, -999.00,9,  -999.0,9,  -999.0,9, -999.00,9, -999.00,9,  -1.2897,     -999.0,     -999.0,9,     -999.0,      0.061,2,      0.000,2,     99.153,2
09AR20110104,       SR03,      59,          1,          6,          6,2,20110118,       2158,   -65.7035,   140.5660,        417,   201.1,  -1.2860,  34.4525,2,-999.0000,9,    283.7,2,  -999.0,9, -999.00,9, -999.00,9,  -999.0,9,  -999.0,9, -999.00,9, -999.00,9,  -1.2911,     -999.0,     -999.0,9,     -999.0,      0.086,2,      0.000,2,     99.160,2
09AR20110104,       SR03,      59,          1,          5,          5,2,20110118,       2158,   -65.7035,   140.5660,        417,   200.9,  -1.2880,  34.4522,2,  34.4510,2,    283.3,2,   283.8,2,   75.60,2,    2.08,2,  -999.0,9,  -999.0,9, -999.00,9,   31.23,2,  -1.2931,     -999.0,     -999.0,9,     -999.0,      0.066,2,      0.000,2,     99.157,2
09AR20110104,       SR03,      59,          1,          4,          4,2,20110118,       2158,   -65.7035,   140.5660,        417,   251.1,  -1.0726,  34.4856,2,  34.4844,2,    271.5,2,   273.3,2,   76.70,2,    2.10,2,  -999.0,9,  -999.0,9, -999.00,9,   31.00,2,  -1.0796,     -999.0,     -999.0,9,     -999.0,      0.050,2,      0.000,2,     99.232,2
09AR20110104,       SR03,      59,          1,          3,          3,2,20110118,       2158,   -65.7035,   140.5660,        417,   300.2,  -0.5797,  34.5465,2,  34.5448,2,    261.1,2,   255.9,2,   82.10,2,    2.11,2,  2242.4,2,  2334.9,6, -999.00,9,   30.79,2,  -0.5895,     -999.0,     -999.0,9,     -999.0,      0.024,2,      0.000,2,     99.285,2
09AR20110104,       SR03,      59,          1,          2,        102,2,20110118,       2158,   -65.7035,   140.5660,        417,   349.9,  -0.2668,  34.6312,2,  34.6305,2,    239.5,2,   240.4,2,   95.90,2,    2.16,2,  -999.0,9,  -999.0,9, -999.00,9,   31.33,2,  -0.2794,     -999.0,     -999.0,9,     -999.0,     -0.002,2,      0.000,2,     99.339,2
09AR20110104,       SR03,      59,          1,          1,          1,2,20110118,       2158,   -65.7035,   140.5660,        417,   414.4,  -0.3858,  34.6413,2,  34.6420,2,    241.1,2,   241.3,2,   99.10,2,    2.16,2,  2254.7,6,  2347.8,6, -999.00,9,   31.47,2,  -0.4006,     -999.0,     -999.0,9,     -999.0,     -0.010,2,      0.000,2,     99.279,2