BOTTLE,20230419CCHSIOENA
EXPOCODE,SECT_ID,STNNBR,CASTNO,SAMPNO,BTLNBR,BTLNBR_FLAG_W,DATE,TIME,LATITUDE,LONGITUDE,DEPTH,CTDPRS,CTDTMP,CTDSAL,CTDSAL_FLAG_W,SALNTY,SALNTY_FLAG_W,CTDOXY,CTDOXY_FLAG_W,OXYGEN,OXYGEN_FLAG_W,SILCAT,SILCAT_FLAG_W,PHSPHT,PHSPHT_FLAG_W,TCARBN,TCARBN_FLAG_W,ALKALI,ALKALI_FLAG_W,DELO18,DELO18_FLAG_W,NO2+NO3,NO2+NO3_FLAG_W,THETA,O18ERR,DELD,DELD_FLAG_W,DELDERR,CTDFLUOR,CTDFLUOR_FLAG_W,PAR,PAR_FLAG_W,CTDXMISS,CTDXMISS_FLAG_W
,,,,,,,,,,,METERS,DBAR,ITS-90,PSS-78,,PSS-78,,UMOL/KG,,UMOL/KG,,UMOL/KG,,UMOL/KG,,UMOL/KG,,UMOL/KG,,/MILLE,,UMOL/KG,,DEG C,/MILLE,/MILLE,,/MILLE,MG/M^3,,UMOL/M^2/SEC,,%TRANS,
09AR20110104,       SR03,     106,          1,         24,         24,2,20110125,       2228,   -66.2122,   144.5040,        379,     9.8,  -1.2244,  33.3084,2,  33.3082,2,    369.7,2,   370.9,2,   43.30,2,    1.10,2,  2100.2,2,  2261.8,2,   -0.48,2,   19.85,2,  -1.2246,       0.01,      -4.61,2,       0.11,      8.437,2,     35.199,2,     84.720,2
09AR20110104,       SR03,     106,          1,         23,         23,2,20110125,       2228,   -66.2122,   144.5040,        379,     9.6,  -1.2138,  33.3054,2,-999.0000,9,    369.7,2,  -999.0,9, -999.00,9, -999.00,9,  -999.0,9,  -999.0,9, -999.00,9, -999.00,9,  -1.2140,     -999.0,     -999.0,9,     -999.0,      6.697,2,     37.119,2,     84.832,2
09AR20110104,       SR03,     106,          1,         22,         22,2,20110125,       2228,   -66.2122,   144.5040,        379,    51.9,  -1.6003,  34.2832,2,-999.0000,9,    320.9,2,  -999.0,9, -999.00,9, -999.00,9,  -999.0,9,  -999.0,9, -999.00,9, -999.00,9,  -1.6014,     -999.0,     -999.0,9,     -999.0,      2.918,2,      0.095,2,     95.619,2
09AR20110104,       SR03,     106,          1,         21,         21,2,20110125,       2228,   -66.2122,   144.5040,        379,    51.9,  -1.6062,  34.2859,2,-999.0000,9,    320.9,2,  -999.0,9, -999.00,9, -999.00,9,  -999.0,9,  -999.0,9, -999.00,9, -999.00,9,  -1.6073,     -999.0,     -999.0,9,     -999.0,      2.818,2,      0.097,2,     95.582,2
09AR20110104,       SR03,     106,          1,         20,         20,2,20110125,       2228,   -66.2122,   144.5040,        379,    51.9,  -1.6158,  34.2892,2,  34.2889,2,    320.9,2,   318.8,2,   66.70,2,    2.01,2,  2212.9,2,  2320.0,2,   -0.50,2,   28.57,2,  -1.6169,       0.02,      -4.81,2,       0.29,      2.585,2,      0.099,2,     95.891,2
09AR20110104,       SR03,     106,          1,         19,         19,2,20110125,       2228,   -66.2122,   144.5040,        379,    51.9,  -1.6219,  34.2913,2,-999.0000,9,    320.9,2,  -999.0,9, -999.00,9, -999.00,9,  -999.0,9,  -999.0,9, -999.00,9, -999.00,9,  -1.6230,     -999.0,     -999.0,9,     -999.0,      2.372,2,      0.102,2,     96.003,2
09AR20110104,       SR03,     106,          1,         18,         18,2,20110125,       2228,   -66.2122,   144.5040,        379,   102.6,  -1.6804,  34.3669,2,  34.3658,2,    305.5,2,   306.0,2,   70.70,2,    2.04,2,  2223.7,2,  2322.8,2,   -0.36,2,   30.05,2,  -1.6826,       0.10,      -3.81,2,       0.02,      0.721,2,      0.000,2,     97.886,2
09AR20110104,       SR03,     106,          1,         17,         17,2,20110125,       2228,   -66.2122,   144.5040,        379,   102.7,  -1.6769,  34.3680,2,-999.0000,9,    305.5,2,  -999.0,9, -999.00,9, -999.00,9,  -999.0,9,  -999.0,9, -999.00,9, -999.00,9,  -1.6791,     -999.0,     -999.0,9,     -999.0,      0.613,2,      0.000,2,     97.933,2
09AR20110104,       SR03,     106,          1,         16,         16,2,20110125,       2228,   -66.2122,   144.5040,        379,   103.0,  -1.6769,  34.3684,2,-999.0000,9,    305.5,2,  -999.0,9, -999.00,9, -999.00,9,  -999.0,9,  -999.0,9, -999.00,9, -999.00,9,  -1.6791,     -999.0,     -999.0,9,     -999.0,      0.688,2,      0.000,2,     97.893,2
09AR20110104,       SR03,     106,          1,         15,         15,2,20110125,       2228,   -66.2122,   144.5040,        379,   103.0,  -1.6778,  34.3680,2,-999.0000,9,    305.5,2,  -999.0,9, -999.00,9, -999.00,9,  -999.0,9,  -999.0,9, -999.00,9, -999.00,9,  -1.6800,     -999.0,     -999.0,9,     -999.0,      0.899,2,      0.000,2,     98.012,2
09AR20110104,       SR03,     106,          1,         14,         14,2,20110125,       2228,   -66.2122,   144.5040,        379,   201.8,  -1.2687,  34.4558,2,  34.4561,2,    280.1,2,   280.8,2,   77.20,2,    2.09,2,  2233.0,2,  2329.2,2,   -0.31,2,   30.93,2,  -1.2739,       0.02,      -3.42,2,       0.04,      0.168,2,      0.000,2,     98.718,2
09AR20110104,       SR03,     106,          1,         13,         13,2,20110125,       2228,   -66.2122,   144.5040,        379,   201.7,  -1.2691,  34.4559,2,-999.0000,9,    280.1,2,  -999.0,9, -999.00,9, -999.00,9,  -999.0,9,  -999.0,9, -999.00,9, -999.00,9,  -1.2743,     -999.0,     -999.0,9,     -999.0,      0.171,2,      0.000,2,     98.690,2
09AR20110104,       SR03,     106,          1,         12,         12,2,20110125,       2228,   -66.2122,   144.5040,        379,   201.5,  -1.2712,  34.4558,2,-999.0000,9,    280.1,2,  -999.0,9, -999.00,9, -999.00,9,  -999.0,9,  -999.0,9, -999.00,9, -999.00,9,  -1.2764,     -999.0,     -999.0,9,     -999.0,      0.186,2,      0.000,2,     98.748,2
09AR20110104,       SR03,     106,          1,         11,         11,2,20110125,       2228,   -66.2122,   144.5040,        379,   201.5,  -1.2724,  34.4560,2,-999.0000,9,    280.1,2,  -999.0,9, -999.00,9, -999.00,9,  -999.0,9,  -999.0,9, -999.00,9, -999.00,9,  -1.2776,     -999.0,     -999.0,9,     -999.0,      0.168,2,      0.000,2,     98.780,2
09AR20110104,       SR03,     106,          1,         10,         10,2,20110125,       2228,   -66.2122,   144.5040,        379,   201.4,  -1.2758,  34.4558,2,-999.0000,9,    280.1,2,  -999.0,9, -999.00,9, -999.00,9,  -999.0,9,  -999.0,9, -999.00,9, -999.00,9,  -1.2810,     -999.0,     -999.0,9,     -999.0,      0.183,2,      0.000,2,     98.760,2
09AR20110104,       SR03,     106,          1,          9,          9,2,20110125,       2228,   -66.2122,   144.5040,        379,   201.1,  -1.2653,  34.4579,2,-999.0000,9,    280.1,2,  -999.0,9, -999.00,9, -999.00,9,  -999.0,9,  -999.0,9, -999.00,9, -999.00,9,  -1.2705,     -999.0,     -999.0,9,     -999.0,      0.171,2,      0.000,2,     98.783,2
09AR20110104,       SR03,     106,          1,          8,          8,2,20110125,       2228,   -66.2122,   144.5040,        379,   302.6,  -0.2516,  34.6004,2,  34.6016,2,    241.2,2,   240.2,2,   91.00,2,    2.14,2,  2250.1,2,  2341.8,2,   -0.24,2,   31.76,2,  -0.2624,       0.04,      -2.84,2,       0.09,     -0.004,2,      0.000,2,     98.856,2
09AR20110104,       SR03,     106,          1,          7,          7,2,20110125,       2228,   -66.2122,   144.5040,        379,   302.7,  -0.2484,  34.6005,2,-999.0000,9,    241.2,2,  -999.0,9, -999.00,9, -999.00,9,  -999.0,9,  -999.0,9, -999.00,9, -999.00,9,  -0.2592,     -999.0,     -999.0,9,     -999.0,      0.055,2,      0.000,2,     98.776,2
09AR20110104,       SR03,     106,          1,          6,          6,2,20110125,       2228,   -66.2122,   144.5040,        379,   302.4,  -0.2485,  34.6005,2,-999.0000,9,    241.2,2,  -999.0,9, -999.00,9, -999.00,9,  -999.0,9,  -999.0,9, -999.00,9, -999.00,9,  -0.2593,     -999.0,     -999.0,9,     -999.0,     -0.001,2,      0.000,2,     98.814,2
09AR20110104,       SR03,     106,          1,          5,          5,2,20110125,       2228,   -66.2122,   144.5040,        379,   302.8,  -0.2490,  34.6005,2,-999.0000,9,    241.2,2,  -999.0,9, -999.00,9, -999.00,9,  -999.0,9,  -999.0,9, -999.00,9, -999.00,9,  -0.2598,     -999.0,     -999.0,9,     -999.0,      0.001,2,      0.000,2,     98.928,2
09AR20110104,       SR03,     106,          1,          4,          4,2,20110125,       2228,   -66.2122,   144.5040,        379,   374.6,  -1.2859,  34.5998,2,  34.5410,4,    277.8,2,   278.0,2, -999.00,9, -999.00,9,  2246.6,2,  2341.2,2,   -0.41,2, -999.00,9,  -1.2962,       0.05,      -3.97,2,       0.17,      0.041,2,      0.000,2,     98.479,2
09AR20110104,       SR03,     106,          1,          3,          3,2,20110125,       2228,   -66.2122,   144.5040,        379,   374.5,  -1.2881,  34.5997,2,-999.0000,9,    277.8,2,  -999.0,9, -999.00,9, -999.00,9,  -999.0,9,  -999.0,9, -999.00,9, -999.00,9,  -1.2984,     -999.0,     -999.0,9,     -999.0,      0.013,2,      0.000,2,     98.453,2
09AR20110104,       SR03,     106,          1,          2,        102,2,20110125,       2228,   -66.2122,   144.5040,        379,   374.3,  -1.2870,  34.5997,2,-999.0000,9,    277.8,2,  -999.0,9,   83.80,2,    2.13,2,  -999.0,9,  -999.0,9, -999.00,9,   31.51,2,  -1.2973,     -999.0,     -999.0,9,     -999.0,      0.017,2,      0.000,2,     98.420,2
09AR20110104,       SR03,     106,          1,          1,          1,2,20110125,       2228,   -66.2122,   144.5040,        379,   375.5,  -1.2950,  34.5998,2,-999.0000,9,    277.9,2,  -999.0,9, -999.00,9, -999.00,9,  -999.0,9,  -999.0,9, -999.00,9, -999.00,9,  -1.3053,     -999.0,     -999.0,9,     -999.0,      0.022,2,      0.000,2,     98.428,2
09AR20110104,       SR03,     107,          1,         24,         24,2,20110126,       0010,   -66.0878,   144.6800,        351,    12.3,  -1.1215,  33.1897,2,  33.2016,2,    372.6,2,   373.2,2,   43.00,2,    1.05,2,  2096.5,6,  2254.3,2, -999.00,9,   19.50,2,  -1.1218,     -999.0,     -999.0,9,     -999.0,      8.200,2,     23.689,2,     84.664,2
09AR20110104,       SR03,     107,          1,         23,         23,2,20110126,       0010,   -66.0878,   144.6800,        351,    12.1,  -1.1271,  33.2044,2,-999.0000,9,    372.6,2,  -999.0,9, -999.00,9, -999.00,9,  -999.0,9,  -999.0,9, -999.00,9, -999.00,9,  -1.1274,     -999.0,     -999.0,9,     -999.0,      8.816,2,     25.219,2,     84.597,2
09AR20110104,       SR03,     107,          1,         22,         22,2,20110126,       0010,   -66.0878,   144.6800,        351,    49.2,  -1.7474,  34.3139,2,-999.0000,9,    316.8,2,  -999.0,9, -999.00,9, -999.00,9,  -999.0,9,  -999.0,9, -999.00,9, -999.00,9,  -1.7484,     -999.0,     -999.0,9,     -999.0,      2.000,2,      0.098,2,     96.920,2
09AR20110104,       SR03,     107,          1,         21,         21,2,20110126,       0010,   -66.0878,   144.6800,        351,    49.2,  -1.7462,  34.3135,2,-999.0000,9,    316.8,2,  -999.0,9, -999.00,9, -999.00,9,  -999.0,9,  -999.0,9, -999.00,9, -999.00,9,  -1.7472,     -999.0,     -999.0,9,     -999.0,      1.897,2,      0.095,2,     96.816,2
09AR20110104,       SR03,     107,          1,         20,         20,2,20110126,       0010,   -66.0878,   144.6800,        351,    49.0,  -1.7456,  34.3126,2,  34.3080,2,    317.1,2,   317.7,2,   68.60,2,    2.01,2,  2220.1,2,  2319.7,2, -999.00,9,   29.06,2,  -1.7466,     -999.0,     -999.0,9,     -999.0,      1.847,2,      0.093,2,     96.608,2
09AR20110104,       SR03,     107,          1,         19,         19,2,20110126,       0010,   -66.0878,   144.6800,        351,    48.8,  -1.7449,  34.3106,2,-999.0000,9,    317.1,2,  -999.0,9, -999.00,9, -999.00,9,  -999.0,9,  -999.0,9, -999.00,9, -999.00,9,  -1.7459,     -999.0,     -999.0,9,     -999.0,      2.496,2,      0.089,2,     96.138,2
09AR20110104,       SR03,     107,          1,         18,         18,2,20110126,       0010,   -66.0878,   144.6800,        351,   102.4,  -1.7940,  34.3480,2,  34.3478,2,    311.7,2,   312.3,2,   71.00,2,    2.02,2,  2222.5,2,  2321.1,6, -999.00,9,   29.83,2,  -1.7960,     -999.0,     -999.0,9,     -999.0,      0.339,2,      0.000,2,     98.768,2
09AR20110104,       SR03,     107,          1,         17,         17,2,20110126,       0010,   -66.0878,   144.6800,        351,   102.4,  -1.7943,  34.3478,2,-999.0000,9,    311.7,2,  -999.0,9, -999.00,9, -999.00,9,  -999.0,9,  -999.0,9, -999.00,9, -999.00,9,  -1.7963,     -999.0,     -999.0,9,     -999.0,      0.293,2,      0.000,2,     98.756,2
09AR20110104,       SR03,     107,          1,         16,         16,2,20110126,       0010,   -66.0878,   144.6800,        351,   102.5,  -1.7942,  34.3478,2,-999.0000,9,    311.7,2,  -999.0,9, -999.00,9, -999.00,9,  -999.0,9,  -999.0,9, -999.00,9, -999.00,9,  -1.7963,     -999.0,     -999.0,9,     -999.0,      0.246,2,      0.000,2,     98.779,2
09AR20110104,       SR03,     107,          1,         15,         15,2,20110126,       0010,   -66.0878,   144.6800,        351,   102.4,  -1.7940,  34.3479,2,-999.0000,9,    311.7,2,  -999.0,9, -999.00,9, -999.00,9,  -999.0,9,  -999.0,9, -999.00,9, -999.00,9,  -1.7960,     -999.0,     -999.0,9,     -999.0,      0.333,2,      0.000,2,     98.742,2
09AR20110104,       SR03,     107,          1,         14,         14,2,20110126,       0010,   -66.0878,   144.6800,        351,   201.6,  -1.5107,  34.4053,2,  34.4041,2,    296.0,2,   295.1,2,   83.40,2,    2.13,2,  2226.8,2,  2325.7,2, -999.00,9,   31.22,2,  -1.5155,     -999.0,     -999.0,9,     -999.0,      0.008,2,      0.000,2,     99.193,2
09AR20110104,       SR03,     107,          1,         13,         13,2,20110126,       0010,   -66.0878,   144.6800,        351,   201.5,  -1.5116,  34.4051,2,-999.0000,9,    296.0,2,  -999.0,9, -999.00,9, -999.00,9,  -999.0,9,  -999.0,9, -999.00,9, -999.00,9,  -1.5163,     -999.0,     -999.0,9,     -999.0,      0.062,2,      0.000,2,     99.226,2
09AR20110104,       SR03,     107,          1,         12,         12,2,20110126,       0010,   -66.0878,   144.6800,        351,   201.3,  -1.5117,  34.4054,2,-999.0000,9,    296.0,2,  -999.0,9, -999.00,9, -999.00,9,  -999.0,9,  -999.0,9, -999.00,9, -999.00,9,  -1.5164,     -999.0,     -999.0,9,     -999.0,      0.062,2,      0.000,2,     99.241,2
09AR20110104,       SR03,     107,          1,         11,         11,2,20110126,       0010,   -66.0878,   144.6800,        351,   201.2,  -1.5111,  34.4054,2,-999.0000,9,    296.0,2,  -999.0,9, -999.00,9, -999.00,9,  -999.0,9,  -999.0,9, -999.00,9, -999.00,9,  -1.5158,     -999.0,     -999.0,9,     -999.0,     -0.001,2,      0.000,2,     99.253,2
09AR20110104,       SR03,     107,          1,         10,         10,2,20110126,       0010,   -66.0878,   144.6800,        351,   290.4,  -0.5331,  34.5230,2,-999.0000,9,    253.0,2,  -999.0,9, -999.00,9, -999.00,9,  -999.0,9,  -999.0,9, -999.00,9, -999.00,9,  -0.5427,     -999.0,     -999.0,9,     -999.0,      0.014,2,      0.000,2,     99.093,2
09AR20110104,       SR03,     107,          1,          9,          9,2,20110126,       0010,   -66.0878,   144.6800,        351,   290.3,  -0.5331,  34.5230,2,-999.0000,9,    253.0,2,  -999.0,9, -999.00,9, -999.00,9,  -999.0,9,  -999.0,9, -999.00,9, -999.00,9,  -0.5427,     -999.0,     -999.0,9,     -999.0,      0.007,2,      0.000,2,     99.116,2
09AR20110104,       SR03,     107,          1,          8,          8,2,20110126,       0010,   -66.0878,   144.6800,        351,   290.6,  -0.5249,  34.5239,2,  34.5231,2,    253.0,2,   252.6,2,   81.60,2,    2.13,2,  2240.6,2,  2331.5,2, -999.00,9,   31.39,2,  -0.5345,     -999.0,     -999.0,9,     -999.0,     -0.004,2,      0.000,2,     99.103,2
09AR20110104,       SR03,     107,          1,          7,          7,2,20110126,       0010,   -66.0878,   144.6800,        351,   290.6,  -0.5320,  34.5232,2,-999.0000,9,    253.0,2,  -999.0,9, -999.00,9, -999.00,9,  -999.0,9,  -999.0,9, -999.00,9, -999.00,9,  -0.5416,     -999.0,     -999.0,9,     -999.0,     -0.019,2,      0.000,2,     99.095,2
09AR20110104,       SR03,     107,          1,          6,          6,2,20110126,       0010,   -66.0878,   144.6800,        351,   290.4,  -0.5298,  34.5235,2,-999.0000,9,    253.0,2,  -999.0,9, -999.00,9, -999.00,9,  -999.0,9,  -999.0,9, -999.00,9, -999.00,9,  -0.5394,     -999.0,     -999.0,9,     -999.0,     -0.007,2,      0.000,2,     99.066,2
09AR20110104,       SR03,     107,          1,          5,          5,2,20110126,       0010,   -66.0878,   144.6800,        351,   290.4,  -0.5169,  34.5245,2,-999.0000,9,    253.0,2,  -999.0,9, -999.00,9, -999.00,9,  -999.0,9,  -999.0,9, -999.00,9, -999.00,9,  -0.5265,     -999.0,     -999.0,9,     -999.0,      0.004,2,      0.000,2,     99.051,2
09AR20110104,       SR03,     107,          1,          4,          4,2,20110126,       0010,   -66.0878,   144.6800,        351,   348.1,  -0.8381,  34.5369,2,  34.5384,2,    259.1,2,   261.2,2, -999.00,9, -999.00,9,  2242.3,2,  2337.9,2, -999.00,9, -999.00,9,  -0.8489,     -999.0,     -999.0,9,     -999.0,      0.021,2,      0.000,2,     98.548,2
09AR20110104,       SR03,     107,          1,          3,          3,2,20110126,       0010,   -66.0878,   144.6800,        351,   348.1,  -0.8380,  34.5369,2,-999.0000,9,    259.1,2,  -999.0,9, -999.00,9, -999.00,9,  -999.0,9,  -999.0,9, -999.00,9, -999.00,9,  -0.8488,     -999.0,     -999.0,9,     -999.0,      0.043,2,      0.000,2,     98.514,2
09AR20110104,       SR03,     107,          1,          2,        102,2,20110126,       0010,   -66.0878,   144.6800,        351,   348.0,  -0.8380,  34.5368,2,-999.0000,9,    259.1,2,  -999.0,9, -999.00,9, -999.00,9,  -999.0,9,  -999.0,9, -999.00,9, -999.00,9,  -0.8488,     -999.0,     -999.0,9,     -999.0,      0.026,2,      0.000,2,     98.539,2
09AR20110104,       SR03,     107,          1,          1,          1,2,20110126,       0010,   -66.0878,   144.6800,        351,   347.9,  -0.8381,  34.5369,2,-999.0000,9,    259.1,2,  -999.0,9, -999.00,9, -999.00,9,  -999.0,9,  -999.0,9, -999.00,9, -999.00,9,  -0.8489,     -999.0,     -999.0,9,     -999.0,      0.033,2,      0.000,2,     98.524,2