BOTTLE,20230419CCHSIOENA
EXPOCODE,SECT_ID,STNNBR,CASTNO,SAMPNO,BTLNBR,BTLNBR_FLAG_W,DATE,TIME,LATITUDE,LONGITUDE,DEPTH,CTDPRS,CTDTMP,CTDSAL,CTDSAL_FLAG_W,SALNTY,SALNTY_FLAG_W,CTDOXY,CTDOXY_FLAG_W,OXYGEN,OXYGEN_FLAG_W,SILCAT,SILCAT_FLAG_W,PHSPHT,PHSPHT_FLAG_W,TCARBN,TCARBN_FLAG_W,ALKALI,ALKALI_FLAG_W,DELO18,DELO18_FLAG_W,NO2+NO3,NO2+NO3_FLAG_W,THETA,O18ERR,DELD,DELD_FLAG_W,DELDERR,CTDFLUOR,CTDFLUOR_FLAG_W,PAR,PAR_FLAG_W,CTDXMISS,CTDXMISS_FLAG_W
,,,,,,,,,,,METERS,DBAR,ITS-90,PSS-78,,PSS-78,,UMOL/KG,,UMOL/KG,,UMOL/KG,,UMOL/KG,,UMOL/KG,,UMOL/KG,,/MILLE,,UMOL/KG,,DEG C,/MILLE,/MILLE,,/MILLE,MG/M^3,,UMOL/M^2/SEC,,%TRANS,
09AR20110104,       SR03,     126,          1,         24,         24,2,20110127,       1611,   -67.6832,   147.8530,        549,     8.7,  -0.5477,  33.8335,2,  33.8398,2,    388.4,2,   388.3,2,   54.60,2,    1.14,2,  2094.3,6,  2304.6,6,   -0.61,2,   15.76,2,  -0.5480,       0.08,      -5.33,2,       0.20,     20.372,2,      0.452,2,     82.720,2
09AR20110104,       SR03,     126,          1,         23,         23,2,20110127,       1611,   -67.6832,   147.8530,        549,     8.7,  -0.5342,  33.8319,2,-999.0000,9,    388.4,2,  -999.0,9, -999.00,9, -999.00,9,  -999.0,9,  -999.0,9, -999.00,9, -999.00,9,  -0.5345,     -999.0,     -999.0,9,     -999.0,     22.908,2,      0.436,2,     82.039,2
09AR20110104,       SR03,     126,          1,         22,         22,2,20110127,       1611,   -67.6832,   147.8530,        549,    62.8,  -1.7616,  34.3946,2,-999.0000,9,    310.2,2,  -999.0,9, -999.00,9, -999.00,9,  -999.0,9,  -999.0,9, -999.00,9, -999.00,9,  -1.7629,     -999.0,     -999.0,9,     -999.0,      5.111,2,      0.000,2,     95.466,2
09AR20110104,       SR03,     126,          1,         21,         21,2,20110127,       1611,   -67.6832,   147.8530,        549,    62.8,  -1.7607,  34.3940,2,-999.0000,9,    310.2,2,  -999.0,9, -999.00,9, -999.00,9,  -999.0,9,  -999.0,9, -999.00,9, -999.00,9,  -1.7620,     -999.0,     -999.0,9,     -999.0,      3.566,2,      0.000,2,     95.307,2
09AR20110104,       SR03,     126,          1,         20,         20,2,20110127,       1611,   -67.6832,   147.8530,        549,    62.7,  -1.7604,  34.3941,2,-999.0000,9,    310.2,2,  -999.0,9, -999.00,9, -999.00,9,  -999.0,9,  -999.0,9, -999.00,9, -999.00,9,  -1.7617,     -999.0,     -999.0,9,     -999.0,      4.066,2,      0.000,2,     95.397,2
09AR20110104,       SR03,     126,          1,         19,         19,2,20110127,       1611,   -67.6832,   147.8530,        549,    62.8,  -1.7594,  34.3940,2,-999.0000,9,    310.2,2,  -999.0,9, -999.00,9, -999.00,9,  -999.0,9,  -999.0,9, -999.00,9, -999.00,9,  -1.7607,     -999.0,     -999.0,9,     -999.0,      3.953,2,      0.000,2,     95.460,2
09AR20110104,       SR03,     126,          1,         18,         18,2,20110127,       1611,   -67.6832,   147.8530,        549,    63.0,  -1.7569,  34.3929,2,  34.3892,2,    309.6,2,   309.5,2,   73.50,2,    2.11,2,  2225.5,2,  2324.9,6,   -0.47,2,   30.19,2,  -1.7582,       0.02,      -4.37,2,       0.01,      5.042,2,      0.000,2,     95.218,2
09AR20110104,       SR03,     126,          1,         17,         17,2,20110127,       1611,   -67.6832,   147.8530,        549,    63.0,  -1.7560,  34.3927,2,-999.0000,9,    309.6,2,  -999.0,9, -999.00,9, -999.00,9,  -999.0,9,  -999.0,9, -999.00,9, -999.00,9,  -1.7573,     -999.0,     -999.0,9,     -999.0,      5.369,2,      0.000,2,     95.176,2
09AR20110104,       SR03,     126,          1,         16,         16,2,20110127,       1611,   -67.6832,   147.8530,        549,   149.0,  -1.8240,  34.4388,2,-999.0000,9,    302.0,2,  -999.0,9, -999.00,9, -999.00,9,  -999.0,9,  -999.0,9, -999.00,9, -999.00,9,  -1.8270,     -999.0,     -999.0,9,     -999.0,      0.072,2,      0.000,2,     99.098,2
09AR20110104,       SR03,     126,          1,         15,         15,2,20110127,       1611,   -67.6832,   147.8530,        549,   149.7,  -1.8239,  34.4388,2,-999.0000,9,    302.0,2,  -999.0,9, -999.00,9, -999.00,9,  -999.0,9,  -999.0,9, -999.00,9, -999.00,9,  -1.8270,     -999.0,     -999.0,9,     -999.0,      0.114,2,      0.000,2,     99.044,2
09AR20110104,       SR03,     126,          1,         14,         14,2,20110127,       1611,   -67.6832,   147.8530,        549,   150.3,  -1.8244,  34.4387,2,  34.4412,2,    302.0,2,   301.9,2,   74.00,2,    2.10,2,  2229.5,2,  2326.5,2,   -0.43,2,   30.42,2,  -1.8275,       0.07,      -4.21,2,       0.22,      0.036,2,      0.000,2,     99.050,2
09AR20110104,       SR03,     126,          1,         13,         13,2,20110127,       1611,   -67.6832,   147.8530,        549,   150.5,  -1.8247,  34.4387,2,-999.0000,9,    302.0,2,  -999.0,9, -999.00,9, -999.00,9,  -999.0,9,  -999.0,9, -999.00,9, -999.00,9,  -1.8278,     -999.0,     -999.0,9,     -999.0,      0.035,2,      0.000,2,     99.057,2
09AR20110104,       SR03,     126,          1,         12,         12,2,20110127,       1611,   -67.6832,   147.8530,        549,   150.7,  -1.8250,  34.4386,2,-999.0000,9,    302.0,2,  -999.0,9, -999.00,9, -999.00,9,  -999.0,9,  -999.0,9, -999.00,9, -999.00,9,  -1.8281,     -999.0,     -999.0,9,     -999.0,      0.054,2,      0.000,2,     99.038,2
09AR20110104,       SR03,     126,          1,         11,         11,2,20110127,       1611,   -67.6832,   147.8530,        549,   299.7,  -1.8908,  34.4690,2,  34.4687,2,    302.4,2,   303.0,2,   73.40,2,    2.11,2,  -999.0,9,  -999.0,9,   -0.56,2,   30.51,2,  -1.8972,       0.10,      -4.39,2,       0.17,     -0.013,2,      0.000,2,     99.066,2
09AR20110104,       SR03,     126,          1,         10,         10,2,20110127,       1611,   -67.6832,   147.8530,        549,   299.7,  -1.8912,  34.4688,2,-999.0000,9,    302.4,2,  -999.0,9, -999.00,9, -999.00,9,  -999.0,9,  -999.0,9, -999.00,9, -999.00,9,  -1.8976,     -999.0,     -999.0,9,     -999.0,      0.016,2,      0.000,2,     99.074,2
09AR20110104,       SR03,     126,          1,          9,          9,2,20110127,       1611,   -67.6832,   147.8530,        549,   299.6,  -1.8908,  34.4690,2,-999.0000,9,    302.4,2,  -999.0,9, -999.00,9, -999.00,9,  -999.0,9,  -999.0,9, -999.00,9, -999.00,9,  -1.8972,     -999.0,     -999.0,9,     -999.0,      0.011,2,      0.000,2,     99.046,2
09AR20110104,       SR03,     126,          1,          8,          8,2,20110127,       1611,   -67.6832,   147.8530,        549,   451.1,  -1.9080,  34.5085,2,  34.5091,2,    304.3,2,   304.6,2,   73.10,2,    2.11,2,  2233.5,2,  2334.4,2,   -0.37,2,   29.58,2,  -1.9183,       0.10,      -4.22,2,       0.26,     -0.021,2,      0.000,2,     98.991,2
09AR20110104,       SR03,     126,          1,          7,          7,2,20110127,       1611,   -67.6832,   147.8530,        549,   451.0,  -1.9082,  34.5086,2,-999.0000,9,    304.3,2,  -999.0,9, -999.00,9, -999.00,9,  -999.0,9,  -999.0,9, -999.00,9, -999.00,9,  -1.9185,     -999.0,     -999.0,9,     -999.0,      0.018,2,      0.000,2,     99.009,2
09AR20110104,       SR03,     126,          1,          6,          6,2,20110127,       1611,   -67.6832,   147.8530,        549,   451.0,  -1.9084,  34.5087,2,-999.0000,9,    304.3,2,  -999.0,9, -999.00,9, -999.00,9,  -999.0,9,  -999.0,9, -999.00,9, -999.00,9,  -1.9187,     -999.0,     -999.0,9,     -999.0,     -0.024,2,      0.000,2,     99.059,2
09AR20110104,       SR03,     126,          1,          5,          5,2,20110127,       1611,   -67.6832,   147.8530,        549,   451.0,  -1.9089,  34.5090,2,-999.0000,9,    304.3,2,  -999.0,9, -999.00,9, -999.00,9,  -999.0,9,  -999.0,9, -999.00,9, -999.00,9,  -1.9192,     -999.0,     -999.0,9,     -999.0,     -0.013,2,      0.000,2,     99.050,2
09AR20110104,       SR03,     126,          1,          4,          4,2,20110127,       1611,   -67.6832,   147.8530,        549,   450.9,  -1.9107,  34.5106,2,-999.0000,9,    304.3,2,  -999.0,9, -999.00,9, -999.00,9,  -999.0,9,  -999.0,9, -999.00,9, -999.00,9,  -1.9210,     -999.0,     -999.0,9,     -999.0,      0.024,2,      0.000,2,     99.028,2
09AR20110104,       SR03,     126,          1,          3,          3,2,20110127,       1611,   -67.6832,   147.8530,        549,   450.8,  -1.9099,  34.5097,2,-999.0000,9,    304.3,2,  -999.0,9, -999.00,9, -999.00,9,  -999.0,9,  -999.0,9, -999.00,9, -999.00,9,  -1.9202,     -999.0,     -999.0,9,     -999.0,     -0.013,2,      0.000,2,     99.044,2
09AR20110104,       SR03,     126,          1,          2,        102,2,20110127,       1611,   -67.6832,   147.8530,        549,   550.3,  -1.9185,  34.5707,2,  34.5781,2,    306.9,2,   306.2,2,   73.10,2,    2.09,2,  -999.0,9,  -999.0,9,   -0.54,2,   29.66,2,  -1.9316,       0.06,      -4.60,2,       0.10,      0.002,2,      0.000,2,     98.842,2
09AR20110104,       SR03,     126,          1,          1,          1,2,20110127,       1611,   -67.6832,   147.8530,        549,   549.1,  -1.9181,  34.5698,2,-999.0000,9,    306.9,2,  -999.0,9, -999.00,9, -999.00,9,  -999.0,9,  -999.0,9, -999.00,9, -999.00,9,  -1.9311,     -999.0,     -999.0,9,     -999.0,     -0.023,2,      0.000,2,     98.883,2
09AR20110104,       SR03,     127,          1,         24,         24,2,20110127,       2002,   -67.2103,   147.7160,        462,     9.0,  -0.4459,  33.3531,2,  33.4950,4,    379.1,2,   379.0,2,   42.70,2,    0.98,2,  2098.0,6,  2286.5,3,   -0.43,2,   15.53,2,  -0.4462,       0.04,      -4.66,2,       0.18,     16.503,2,      6.431,2,     80.762,2
09AR20110104,       SR03,     127,          1,         23,         23,2,20110127,       2002,   -67.2103,   147.7160,        462,     8.9,  -0.4462,  33.3558,2,-999.0000,9,    379.1,2,  -999.0,9, -999.00,9, -999.00,9,  -999.0,9,  -999.0,9, -999.00,9, -999.00,9,  -0.4465,     -999.0,     -999.0,9,     -999.0,     16.016,2,      6.666,2,     80.465,2
09AR20110104,       SR03,     127,          1,         22,         22,2,20110127,       2002,   -67.2103,   147.7160,        462,     8.9,  -0.4472,  33.3592,2,-999.0000,9,    379.1,2,  -999.0,9, -999.00,9, -999.00,9,  -999.0,9,  -999.0,9, -999.00,9, -999.00,9,  -0.4475,     -999.0,     -999.0,9,     -999.0,     15.421,2,      6.683,2,     80.453,2
09AR20110104,       SR03,     127,          1,         21,         21,2,20110127,       2002,   -67.2103,   147.7160,        462,    49.5,  -1.5630,  34.3221,2,-999.0000,9,    319.7,2,  -999.0,9, -999.00,9, -999.00,9,  -999.0,9,  -999.0,9, -999.00,9, -999.00,9,  -1.5641,     -999.0,     -999.0,9,     -999.0,     13.704,2,      0.000,2,     89.364,2
09AR20110104,       SR03,     127,          1,         20,         20,2,20110127,       2002,   -67.2103,   147.7160,        462,    49.5,  -1.5647,  34.3227,2,-999.0000,9,    319.7,2,  -999.0,9, -999.00,9, -999.00,9,  -999.0,9,  -999.0,9, -999.00,9, -999.00,9,  -1.5658,     -999.0,     -999.0,9,     -999.0,     13.118,2,      0.000,2,     89.225,2
09AR20110104,       SR03,     127,          1,         19,         19,2,20110127,       2002,   -67.2103,   147.7160,        462,    49.6,  -1.5657,  34.3231,2,-999.0000,9,    319.7,2,  -999.0,9, -999.00,9, -999.00,9,  -999.0,9,  -999.0,9, -999.00,9, -999.00,9,  -1.5668,     -999.0,     -999.0,9,     -999.0,     12.753,2,      0.000,2,     89.034,2
09AR20110104,       SR03,     127,          1,         18,         18,2,20110127,       2002,   -67.2103,   147.7160,        462,    49.7,  -1.5642,  34.3224,2,  34.3292,2,    319.7,2,   318.7,2,   70.50,2,    2.05,2,  2217.1,2,  2333.1,3,   -0.39,2,   28.44,2,  -1.5653,       0.07,      -4.05,2,       0.10,     13.470,2,      0.000,2,     88.974,2
09AR20110104,       SR03,     127,          1,         17,         17,2,20110127,       2002,   -67.2103,   147.7160,        462,    49.8,  -1.5630,  34.3217,2,-999.0000,9,    319.7,2,  -999.0,9, -999.00,9, -999.00,9,  -999.0,9,  -999.0,9, -999.00,9, -999.00,9,  -1.5641,     -999.0,     -999.0,9,     -999.0,     12.082,2,      0.000,2,     89.195,2
09AR20110104,       SR03,     127,          1,         16,         16,2,20110127,       2002,   -67.2103,   147.7160,        462,   130.3,  -1.6878,  34.3725,2,-999.0000,9,    309.0,2,  -999.0,9, -999.00,9, -999.00,9,  -999.0,9,  -999.0,9, -999.00,9, -999.00,9,  -1.6906,     -999.0,     -999.0,9,     -999.0,      2.702,2,      0.000,2,     96.684,2
09AR20110104,       SR03,     127,          1,         15,         15,2,20110127,       2002,   -67.2103,   147.7160,        462,   130.2,  -1.6874,  34.3721,2,-999.0000,9,    309.0,2,  -999.0,9, -999.00,9, -999.00,9,  -999.0,9,  -999.0,9, -999.00,9, -999.00,9,  -1.6902,     -999.0,     -999.0,9,     -999.0,      1.959,2,      0.000,2,     96.537,2
09AR20110104,       SR03,     127,          1,         14,         14,2,20110127,       2002,   -67.2103,   147.7160,        462,   130.0,  -1.6872,  34.3721,2,  34.3721,2,    309.0,2,   310.2,2,   71.50,2,    2.08,2,  2225.2,2,  2328.5,2,   -0.37,2,   29.47,2,  -1.6900,       0.01,      -3.81,2,       0.07,      2.410,2,      0.000,2,     96.436,2
09AR20110104,       SR03,     127,          1,         13,         13,2,20110127,       2002,   -67.2103,   147.7160,        462,   130.0,  -1.6872,  34.3720,2,-999.0000,9,    309.0,2,  -999.0,9, -999.00,9, -999.00,9,  -999.0,9,  -999.0,9, -999.00,9, -999.00,9,  -1.6900,     -999.0,     -999.0,9,     -999.0,      1.974,2,      0.000,2,     96.600,2
09AR20110104,       SR03,     127,          1,         12,         12,2,20110127,       2002,   -67.2103,   147.7160,        462,   129.9,  -1.6870,  34.3720,2,-999.0000,9,    309.0,2,  -999.0,9, -999.00,9, -999.00,9,  -999.0,9,  -999.0,9, -999.00,9, -999.00,9,  -1.6898,     -999.0,     -999.0,9,     -999.0,      2.148,2,      0.000,2,     96.359,2
09AR20110104,       SR03,     127,          1,         11,         11,2,20110127,       2002,   -67.2103,   147.7160,        462,   200.7,  -1.7261,  34.4036,2,  34.4047,2,    304.5,2,   305.2,2,   73.30,2,    2.09,2,  -999.0,9,  -999.0,9,   -0.29,2,   30.06,2,  -1.7305,       0.02,      -3.89,2,       0.07,      0.868,2,      0.000,2,     98.252,2
09AR20110104,       SR03,     127,          1,         10,         10,2,20110127,       2002,   -67.2103,   147.7160,        462,   200.7,  -1.7266,  34.4038,2,-999.0000,9,    304.5,2,  -999.0,9, -999.00,9, -999.00,9,  -999.0,9,  -999.0,9, -999.00,9, -999.00,9,  -1.7310,     -999.0,     -999.0,9,     -999.0,      0.313,2,      0.000,2,     98.332,2
09AR20110104,       SR03,     127,          1,          9,          9,2,20110127,       2002,   -67.2103,   147.7160,        462,   200.6,  -1.7272,  34.4038,2,-999.0000,9,    304.5,2,  -999.0,9, -999.00,9, -999.00,9,  -999.0,9,  -999.0,9, -999.00,9, -999.00,9,  -1.7315,     -999.0,     -999.0,9,     -999.0,      0.251,2,      0.000,2,     98.237,2
09AR20110104,       SR03,     127,          1,          8,          8,2,20110127,       2002,   -67.2103,   147.7160,        462,   351.1,  -1.7705,  34.4795,2,  34.4793,2,    300.5,2,   300.5,2,   74.80,2,    2.09,2,  2233.3,2,  2333.1,2,   -0.41,2,   30.46,2,  -1.7785,       0.07,      -4.09,2,       0.08,      0.062,2,      0.000,2,     98.773,2
09AR20110104,       SR03,     127,          1,          7,          7,2,20110127,       2002,   -67.2103,   147.7160,        462,   351.1,  -1.7705,  34.4797,2,-999.0000,9,    300.5,2,  -999.0,9, -999.00,9, -999.00,9,  -999.0,9,  -999.0,9, -999.00,9, -999.00,9,  -1.7785,     -999.0,     -999.0,9,     -999.0,      0.044,2,      0.000,2,     98.825,2
09AR20110104,       SR03,     127,          1,          6,          6,2,20110127,       2002,   -67.2103,   147.7160,        462,   351.0,  -1.7703,  34.4796,2,-999.0000,9,    300.5,2,  -999.0,9, -999.00,9, -999.00,9,  -999.0,9,  -999.0,9, -999.00,9, -999.00,9,  -1.7783,     -999.0,     -999.0,9,     -999.0,      0.012,2,      0.000,2,     98.850,2
09AR20110104,       SR03,     127,          1,          5,          5,2,20110127,       2002,   -67.2103,   147.7160,        462,   351.0,  -1.7704,  34.4796,2,-999.0000,9,    300.4,2,  -999.0,9, -999.00,9, -999.00,9,  -999.0,9,  -999.0,9, -999.00,9, -999.00,9,  -1.7784,     -999.0,     -999.0,9,     -999.0,      0.034,2,      0.000,2,     98.859,2
09AR20110104,       SR03,     127,          1,          4,          4,2,20110127,       2002,   -67.2103,   147.7160,        462,   463.2,  -1.9119,  34.5766,2,-999.0000,9,    305.5,2,  -999.0,9, -999.00,9, -999.00,9,  -999.0,9,  -999.0,9, -999.00,9, -999.00,9,  -1.9225,     -999.0,     -999.0,9,     -999.0,      0.112,2,      0.000,2,     97.672,2
09AR20110104,       SR03,     127,          1,          3,          3,2,20110127,       2002,   -67.2103,   147.7160,        462,   463.2,  -1.9120,  34.5766,2,-999.0000,9,    305.5,2,  -999.0,9, -999.00,9, -999.00,9,  -999.0,9,  -999.0,9, -999.00,9, -999.00,9,  -1.9226,     -999.0,     -999.0,9,     -999.0,      0.094,2,      0.000,2,     97.556,2
09AR20110104,       SR03,     127,          1,          2,        102,2,20110127,       2002,   -67.2103,   147.7160,        462,   463.2,  -1.9119,  34.5764,2,  34.5734,2,    305.5,2,   305.1,2,   75.50,2,    2.12,2,  -999.0,9,  -999.0,9,   -0.38,2,   30.81,2,  -1.9225,       0.16,      -4.26,2,       0.08,      0.142,2,      0.000,2,     97.652,2
09AR20110104,       SR03,     127,          1,          1,          1,2,20110127,       2002,   -67.2103,   147.7160,        462,   463.2,  -1.9118,  34.5768,2,-999.0000,9,    305.5,2,  -999.0,9, -999.00,9, -999.00,9,  -999.0,9,  -999.0,9, -999.00,9, -999.00,9,  -1.9224,     -999.0,     -999.0,9,     -999.0,      0.088,2,      0.000,2,     97.699,2