BOTTLE,20230419CCHSIOENA
EXPOCODE,SECT_ID,STNNBR,CASTNO,SAMPNO,BTLNBR,BTLNBR_FLAG_W,DATE,TIME,LATITUDE,LONGITUDE,DEPTH,CTDPRS,CTDTMP,CTDSAL,CTDSAL_FLAG_W,SALNTY,SALNTY_FLAG_W,CTDOXY,CTDOXY_FLAG_W,OXYGEN,OXYGEN_FLAG_W,SILCAT,SILCAT_FLAG_W,PHSPHT,PHSPHT_FLAG_W,TCARBN,TCARBN_FLAG_W,ALKALI,ALKALI_FLAG_W,DELO18,DELO18_FLAG_W,NO2+NO3,NO2+NO3_FLAG_W,THETA,O18ERR,DELD,DELD_FLAG_W,DELDERR,CTDFLUOR,CTDFLUOR_FLAG_W,PAR,PAR_FLAG_W,CTDXMISS,CTDXMISS_FLAG_W
,,,,,,,,,,,METERS,DBAR,ITS-90,PSS-78,,PSS-78,,UMOL/KG,,UMOL/KG,,UMOL/KG,,UMOL/KG,,UMOL/KG,,UMOL/KG,,/MILLE,,UMOL/KG,,DEG C,/MILLE,/MILLE,,/MILLE,MG/M^3,,UMOL/M^2/SEC,,%TRANS,
09AR20110104,       SR03,     142,          1,         24,         24,2,20110130,       0611,   -64.9982,   150.0130,       3285,    10.7,   1.8985,  33.7620,2,  33.7633,2,    350.7,2,   351.0,2,   17.50,2,    1.33,2,  2130.9,6,  2287.4,6,   -0.39,2,   21.91,2,   1.8980,       0.08,      -3.92,2,       0.15,      5.286,2,     18.329,2,     87.295,2
09AR20110104,       SR03,     142,          1,         23,         23,2,20110130,       0611,   -64.9982,   150.0130,       3285,    24.7,   1.6967,  33.7814,2,  33.7952,2,    350.7,2,   352.0,2,   19.10,2,    1.47,2,  2134.7,2,  2289.5,2,   -0.26,2,   22.44,2,   1.6955,       0.12,      -3.59,2,       0.31,      7.942,2,      3.643,2,     85.661,2
09AR20110104,       SR03,     142,          1,         22,         22,2,20110130,       0611,   -64.9982,   150.0130,       3285,    50.8,  -0.6500,  34.1245,2,  34.1601,2,    304.4,2,   303.8,2,   56.60,2,    2.36,2,  2210.2,2,  2309.7,2,   -0.02,2,   29.58,2,  -0.6515,       0.02,      -1.81,2,       0.12,      2.559,2,      0.087,2,     94.066,2
09AR20110104,       SR03,     142,          1,         21,         21,2,20110130,       0611,   -64.9982,   150.0130,       3285,   100.4,   1.6494,  34.5706,2,  34.5681,2,    182.9,2,   181.3,2,   77.90,2,    2.42,2,  2258.6,2,  2328.8,2,   -0.08,2,   34.62,2,   1.6444,       0.02,      -1.88,2,       0.12,      0.184,2,      0.000,2,     97.786,2
09AR20110104,       SR03,     142,          1,         20,         20,2,20110130,       0611,   -64.9982,   150.0130,       3285,   150.2,   1.8797,  34.6359,2,  34.6348,2,    176.7,2,   176.7,2,   81.10,2,    2.36,2,  2260.4,2,  2335.8,2,    0.06,2,   33.87,2,   1.8719,       0.08,      -0.78,2,       0.17,      0.053,2,      0.000,2,     98.113,2
09AR20110104,       SR03,     142,          1,         19,         19,2,20110130,       0611,   -64.9982,   150.0130,       3285,   200.1,   1.8756,  34.6638,2,  34.6651,2,    178.9,2,   179.5,2,   82.70,2,    2.30,2,  2258.4,2,  2338.1,2,    0.01,2,   33.26,2,   1.8651,       0.02,      -1.31,2,       0.09,      0.024,2,      0.000,2,     98.399,2
09AR20110104,       SR03,     142,          1,         18,         18,2,20110130,       0611,   -64.9982,   150.0130,       3285,   274.7,   1.9045,  34.6928,2,  34.6942,2,    181.9,2,   180.9,2,   83.90,2,    2.24,2,  2257.1,2,  2340.2,2,    0.06,2,   32.64,2,   1.8898,       0.06,      -0.64,2,       0.19,      0.011,2,      0.000,2,     98.481,2
09AR20110104,       SR03,     142,          1,         17,         17,2,20110130,       0611,   -64.9982,   150.0130,       3285,   377.1,   1.8765,  34.7177,2,  34.7174,2,    185.3,2,   185.2,2,   85.70,2, -999.00,9,  -999.0,9,  -999.0,9,    0.07,2,   31.92,2,   1.8560,       0.01,      -0.66,2,       0.06,      0.002,2,      0.000,2,     98.732,2
09AR20110104,       SR03,     142,          1,         16,         16,2,20110130,       0611,   -64.9982,   150.0130,       3285,   500.3,   1.7861,  34.7337,2,  34.7333,2,    190.5,2,   190.2,2,   88.20,2,    2.16,2,  -999.0,9,  -999.0,9,    0.02,2,   31.44,2,   1.7588,       0.05,      -1.01,2,       0.17,      0.000,2,      0.000,2,     98.816,2
09AR20110104,       SR03,     142,          1,         15,         15,2,20110130,       0611,   -64.9982,   150.0130,       3285,   649.4,   1.6249,  34.7398,2,  34.7396,2,    195.0,2,   195.4,2,   92.50,2,    2.14,2,  2251.4,2,  2348.4,2,   -0.04,2,   31.43,2,   1.5895,       0.01,      -1.35,2,       0.10,     -0.007,2,      0.000,2,     98.936,2
09AR20110104,       SR03,     142,          1,         14,         14,2,20110130,       0611,   -64.9982,   150.0130,       3285,   799.4,   1.4612,  34.7369,2,  34.7370,2,    198.4,2,   198.3,2,   96.10,2,    2.16,2,  -999.0,9,  -999.0,9,    0.04,2,   31.43,2,   1.4177,       0.04,      -1.34,2,       0.13,     -0.008,2,      0.000,2,     98.938,2
09AR20110104,       SR03,     142,          1,         13,         13,2,20110130,       0611,   -64.9982,   150.0130,       3285,  1049.8,   1.2060,  34.7275,2,  34.7268,2,    202.2,2,   202.1,2,  101.70,2,    2.18,2,  -999.0,9,  -999.0,9,   -0.09,2,   31.31,2,   1.1488,       0.06,      -1.96,2,       0.08,     -0.016,2,      0.000,2,     99.018,2
09AR20110104,       SR03,     142,          1,         12,         12,2,20110130,       0611,   -64.9982,   150.0130,       3285,  1200.2,   1.0346,  34.7189,2,  34.7192,2,    204.1,2,   204.2,2,  105.80,2,    2.20,2,  2256.8,2,  2352.4,2,    0.00,2,   31.42,2,   0.9693,       0.05,      -1.40,2,       0.12,     -0.015,2,      0.000,2,     99.046,2
09AR20110104,       SR03,     142,          1,         11,         11,2,20110130,       0611,   -64.9982,   150.0130,       3285,  1350.5,   0.9126,  34.7138,2,  34.7138,2,    206.0,2,   205.9,2,  110.00,2,    2.22,2,  -999.0,9,  -999.0,9,   -0.04,2,   31.66,2,   0.8388,       0.07,      -1.80,2,       0.03,     -0.018,2,      0.000,2,     99.055,2
09AR20110104,       SR03,     142,          1,         10,         10,2,20110130,       0611,   -64.9982,   150.0130,       3285,  1501.1,   0.7580,  34.7044,2,  34.7044,2,    207.9,2,   207.8,2,  112.60,2,    2.24,2,  2261.2,2,  2357.5,2,   -0.24,2,   31.90,2,   0.6759,       0.13,      -2.63,2,       0.34,     -0.018,2,      0.000,2,     99.071,2
09AR20110104,       SR03,     142,          1,          9,          9,2,20110130,       0611,   -64.9982,   150.0130,       3285,  1750.0,   0.6165,  34.7007,2,  34.7007,2,    211.2,2,   210.3,2,  118.50,2,    2.25,2,  -999.0,9,  -999.0,9,   -0.15,2,   32.13,2,   0.5191,       0.09,      -2.18,2,       0.23,     -0.021,2,      0.000,2,     99.081,2
09AR20110104,       SR03,     142,          1,          8,          8,2,20110130,       0611,   -64.9982,   150.0130,       3285,  1999.5,   0.3956,  34.6872,2,  34.6867,2,    214.9,2,   214.8,2,  118.30,2,    2.28,2,  -999.0,9,  -999.0,9,   -0.22,2,   32.37,2,   0.2837,       0.02,      -2.32,2,       0.07,     -0.016,2,      0.000,2,     99.077,2
09AR20110104,       SR03,     142,          1,          7,          7,2,20110130,       0611,   -64.9982,   150.0130,       3285,  2200.5,   0.2974,  34.6834,2,  34.6836,2,    217.8,2,   217.8,2,  117.70,2,    2.29,2,  2261.6,2,  2358.4,2,   -0.30,2,   32.37,2,   0.1722,       0.08,      -2.79,2,       0.13,     -0.018,2,      0.000,2,     99.054,2
09AR20110104,       SR03,     142,          1,          6,          6,2,20110130,       0611,   -64.9982,   150.0130,       3285,  2400.6,   0.2170,  34.6821,2,  34.6820,2,    220.2,2,   220.4,2,  121.70,2,    2.28,2,  -999.0,9,  -999.0,9,   -0.17,2,   32.36,2,   0.0780,       0.07,      -2.55,2,       0.03,     -0.022,2,      0.000,2,     99.051,2
09AR20110104,       SR03,     142,          1,          5,          5,2,20110130,       0611,   -64.9982,   150.0130,       3285,  2600.2,   0.1551,  34.6810,2,  34.6804,2,    222.6,2,   222.5,2,  125.60,2,    2.28,2,  -999.0,9,  -999.0,9,   -0.21,2,   32.36,2,   0.0015,       0.04,      -3.17,2,       0.29,     -0.016,2,      0.000,2,     99.046,2
09AR20110104,       SR03,     142,          1,          4,          4,2,20110130,       0611,   -64.9982,   150.0130,       3285,  2799.4,   0.0720,  34.6772,2,  34.6771,2,    225.2,2,   225.6,2,  125.50,2,    2.28,2,  -999.0,9,  -999.0,9,   -0.17,2,   32.36,2,  -0.0961,       0.04,      -2.62,2,       0.19,     -0.022,2,      0.000,2,     99.024,2
09AR20110104,       SR03,     142,          1,          3,          3,2,20110130,       0611,   -64.9982,   150.0130,       3285,  2999.2,  -0.0314,  34.6716,2,  34.6710,2,    229.3,2,   229.7,2,  121.00,2,    2.26,2,  -999.0,9,  -999.0,9,   -0.16,2,   32.12,2,  -0.2140,       0.14,      -2.69,2,       0.04,     -0.023,2,      0.000,2,     99.014,2
09AR20110104,       SR03,     142,          1,          2,        102,2,20110130,       0611,   -64.9982,   150.0130,       3285,  3199.8,  -0.1564,  34.6650,2,  34.6639,2,    234.8,2,   234.4,2,  115.40,2,    2.26,2,  -999.0,9,  -999.0,9,   -0.28,2,   32.11,2,  -0.3534,       0.11,      -3.08,2,       0.08,     -0.008,2,      0.000,2,     98.739,2
09AR20110104,       SR03,     142,          1,          1,          1,2,20110130,       0611,   -64.9982,   150.0130,       3285,  3334.6,  -0.1647,  34.6639,2,  34.6629,2,    234.9,2,   234.8,2,  114.90,2,    2.27,2,  2258.4,2,  2351.7,2,   -0.26,2,   32.11,2,  -0.3734,       0.03,      -3.23,2,       0.31,      0.060,2,      0.000,2,     96.252,2
09AR20110104,       SR03,     143,          1,         24,         24,2,20110130,       1053,   -64.6002,   149.9920,       3429,    10.0,   1.8236,  33.9013,2,  33.9019,2,    347.3,2,   348.1,2,   17.20,2,    1.10,2,  2137.7,6,  2298.8,6,   -0.24,2,   21.23,2,   1.8231,       0.08,      -2.89,2,       0.07,      5.608,2,      0.000,2,     90.134,2
09AR20110104,       SR03,     143,          1,         23,         23,2,20110130,       1053,   -64.6002,   149.9920,       3429,    32.8,   1.5610,  33.9090,2,  33.9226,2,    346.4,2,   347.0,2,   21.60,2,    1.37,2,  2149.4,2,  2300.8,2,   -0.27,2,   22.06,2,   1.5594,       0.02,      -2.92,2,       0.04,     12.519,2,      0.000,2,     83.374,2
09AR20110104,       SR03,     143,          1,         22,         22,2,20110130,       1053,   -64.6002,   149.9920,       3429,    72.8,   0.9132,  34.4508,2,  34.4400,2,    215.8,2,   215.0,2,   72.30,2,    2.40,2,  2248.2,2,  2325.3,2,   -0.14,2,   33.58,2,   0.9101,       0.10,      -1.90,2,       0.17,      0.856,2,      0.000,2,     96.876,2
09AR20110104,       SR03,     143,          1,         21,         21,2,20110130,       1053,   -64.6002,   149.9920,       3429,   151.4,   1.8025,  34.6113,2,  34.6113,2,    178.4,2,   181.9,2,   79.70,2,    2.32,2,  2258.5,2,  2338.5,2,   -0.11,2,   33.82,2,   1.7947,       0.05,      -1.50,2,       0.10,      0.065,2,      0.000,2,     98.215,2
09AR20110104,       SR03,     143,          1,         20,         20,2,20110130,       1053,   -64.6002,   149.9920,       3429,   253.3,   1.8560,  34.6654,2,  34.6643,2,    179.5,2,   178.8,2,   82.70,2,    2.29,2,  2260.4,2,  2339.3,2,   -0.05,2,   33.10,2,   1.8426,       0.10,      -1.31,2,       0.14,      0.030,2,      0.000,2,     98.457,2
09AR20110104,       SR03,     143,          1,         19,         19,2,20110130,       1053,   -64.6002,   149.9920,       3429,   349.5,   1.8561,  34.6961,2,  34.6958,2,    184.1,2,   183.8,2,   84.10,2,    2.23,2,  2256.1,2,  2342.0,2,    0.04,2,   32.25,2,   1.8373,       0.07,      -1.11,2,       0.14,      0.013,2,      0.000,2,     98.618,2
09AR20110104,       SR03,     143,          1,         18,         18,2,20110130,       1053,   -64.6002,   149.9920,       3429,   448.5,   1.8103,  34.7143,2,  34.7138,2,    187.3,2,   186.8,2,   85.80,2,    2.19,2,  2255.7,2,  2343.8,2,    0.00,2,   31.73,2,   1.7859,       0.06,      -1.05,2,       0.13,      0.004,2,      0.000,2,     98.796,2
09AR20110104,       SR03,     143,          1,         17,         17,2,20110130,       1053,   -64.6002,   149.9920,       3429,   548.2,   1.7838,  34.7299,2,  34.7292,2,    190.1,2,   189.4,2,   87.50,2,    2.17,2,  2254.1,2,  2350.1,2,   -0.05,2,   31.28,2,   1.7537,       0.03,      -1.13,2,       0.14,      0.008,2,      0.000,2,     98.838,2
09AR20110104,       SR03,     143,          1,         16,         16,2,20110130,       1053,   -64.6002,   149.9920,       3429,   650.1,   1.7207,  34.7372,2,  34.7366,2,    192.8,2,   192.4,2,   89.20,2,    2.15,2,  2252.7,2,  2349.8,2,   -0.01,2,   30.97,2,   1.6847,       0.03,      -1.18,2,       0.09,     -0.001,2,      0.000,2,     98.879,2
09AR20110104,       SR03,     143,          1,         15,         15,2,20110130,       1053,   -64.6002,   149.9920,       3429,   750.8,   1.6357,  34.7393,2,  34.7390,2,    195.4,2,   195.2,2,   91.10,2,    2.14,2,  2253.2,2,  2350.1,2,   -0.03,2,   30.82,2,   1.5941,       0.08,      -1.07,2,       0.20,     -0.004,2,      0.000,2,     98.914,2
09AR20110104,       SR03,     143,          1,         14,         14,2,20110130,       1053,   -64.6002,   149.9920,       3429,   851.2,   1.5468,  34.7390,2,  34.7384,2,    197.0,2,   197.0,2,   95.70,2,    2.15,2,  2251.8,2,  2350.6,2,   -0.09,2,   30.82,2,   1.4995,       0.02,      -1.62,2,       0.11,     -0.007,2,      0.000,2,     98.916,2
09AR20110104,       SR03,     143,          1,         13,         13,2,20110130,       1053,   -64.6002,   149.9920,       3429,   950.4,   1.4574,  34.7382,2,  34.7384,2,    198.7,2,   198.4,2,   95.80,2,    2.15,2,  2254.0,2,  2351.9,2,   -0.03,2,   31.03,2,   1.4045,       0.05,      -1.37,2,       0.05,     -0.007,2,      0.000,2,     98.928,2
09AR20110104,       SR03,     143,          1,         12,         12,2,20110130,       1053,   -64.6002,   149.9920,       3429,  1049.5,   1.3583,  34.7354,2,  34.7353,2,    200.4,2,   200.1,2,   98.50,2,    2.15,2,  2254.6,6,  2354.8,6,   -0.08,2,   30.89,2,   1.2998,       0.04,      -1.56,2,       0.04,     -0.005,2,      0.000,2,     98.934,2
09AR20110104,       SR03,     143,          1,         11,         11,2,20110130,       1053,   -64.6002,   149.9920,       3429,  1199.8,   1.2244,  34.7305,2,  34.7301,2,    202.1,2,   202.0,2,  102.90,2,    2.17,2,  2256.3,2,  2358.0,6,   -0.07,2,   31.09,2,   1.1573,       0.02,      -1.86,2,       0.26,     -0.011,2,      0.000,2,     98.976,2
09AR20110104,       SR03,     143,          1,         10,         10,2,20110130,       1053,   -64.6002,   149.9920,       3429,  1400.3,   1.0645,  34.7235,2,  34.7233,2,    204.1,2,   204.2,2,  108.20,2,    2.19,2,  2257.9,2,  2356.9,2,   -0.10,2,   31.37,2,   0.9857,       0.04,      -1.66,2,       0.05,     -0.009,2,      0.000,2,     99.012,2
09AR20110104,       SR03,     143,          1,          9,          9,2,20110130,       1053,   -64.6002,   149.9920,       3429,  1600.9,   0.9002,  34.7148,2,  34.7138,2,    206.2,2,   206.2,2,  113.30,2,    2.20,2,  2258.4,2,  2357.7,2,   -0.11,2,   31.71,2,   0.8095,       0.03,      -2.04,2,       0.15,     -0.014,2,      0.000,2,     99.017,2
09AR20110104,       SR03,     143,          1,          8,          8,2,20110130,       1053,   -64.6002,   149.9920,       3429,  1800.0,   0.7316,  34.7054,2,  34.7054,2,    208.6,2,   208.8,2,  117.70,2,    2.23,2,  2261.9,2,  2359.8,2,   -0.08,2,   32.14,2,   0.6290,       0.02,      -1.87,2,       0.02,     -0.014,2,      0.000,2,     99.044,2
09AR20110104,       SR03,     143,          1,          7,          7,2,20110130,       1053,   -64.6002,   149.9920,       3429,  1999.8,   0.5901,  34.6983,2,  34.6981,2,    211.2,2,   211.2,2,  119.50,2,    2.26,2,  2262.2,2,  -999.0,9,   -0.08,2,   32.28,2,   0.4751,       0.05,      -1.96,2,       0.09,     -0.016,2,      0.000,2,     99.046,2
09AR20110104,       SR03,     143,          1,          6,          6,2,20110130,       1053,   -64.6002,   149.9920,       3429,  2201.0,   0.4372,  34.6911,2,  34.6908,2,    214.2,2,   214.4,2,  121.00,2,    2.26,2,  2261.0,2,  2359.0,2,   -0.14,2,   32.11,2,   0.3096,       0.04,      -2.04,2,       0.20,     -0.024,2,      0.000,2,     99.050,2
09AR20110104,       SR03,     143,          1,          5,          5,2,20110130,       1053,   -64.6002,   149.9920,       3429,  2399.6,   0.3415,  34.6875,2,  34.6871,2,    217.1,2,   217.1,2,  122.40,2,    2.26,2,  2262.1,2,  2357.6,2,   -0.11,2,   31.95,2,   0.2002,       0.09,      -1.92,2,       0.14,     -0.019,2,      0.000,2,     99.055,2
09AR20110104,       SR03,     143,          1,          4,          4,2,20110130,       1053,   -64.6002,   149.9920,       3429,  2600.9,   0.2376,  34.6833,2,  34.6818,2,    220.1,2,   220.2,2,  122.80,2,    2.26,2,  2261.8,2,  2357.7,2,   -0.15,2,   31.94,2,   0.0823,       0.07,      -2.27,2,       0.20,     -0.018,2,      0.000,2,     99.054,2
09AR20110104,       SR03,     143,          1,          3,          3,2,20110130,       1053,   -64.6002,   149.9920,       3429,  2900.7,   0.1018,  34.6775,2,  34.6769,2,    225.1,2,   225.2,2,  123.10,2,    2.27,2,  2261.0,2,  2356.7,2,   -0.11,2,   31.89,2,  -0.0755,       0.05,      -2.19,2,       0.06,     -0.022,2,      0.000,2,     99.048,2
09AR20110104,       SR03,     143,          1,          2,        102,2,20110130,       1053,   -64.6002,   149.9920,       3429,  3199.8,  -0.0483,  34.6701,2,  34.6690,2,    231.0,2,   231.0,2,  120.00,2,    2.25,2,  -999.0,9,  -999.0,9,   -0.15,2,   31.79,2,  -0.2479,       0.06,      -2.73,2,       0.05,     -0.020,2,      0.000,2,     99.006,2
09AR20110104,       SR03,     143,          1,          1,          1,2,20110130,       1053,   -64.6002,   149.9920,       3429,  3481.4,  -0.2162,  34.6655,2,  34.6645,2,    238.6,2,   238.5,2,  102.90,2,    2.23,2,  2257.3,2,  2350.6,2,   -0.38,2,   31.45,2,  -0.4369,       0.08,      -3.82,2,       0.47,     -0.016,2,      0.000,2,     98.617,2