BOTTLE,20230419CCHSIOENA
EXPOCODE,SECT_ID,STNNBR,CASTNO,SAMPNO,BTLNBR,BTLNBR_FLAG_W,DATE,TIME,LATITUDE,LONGITUDE,DEPTH,CTDPRS,CTDTMP,CTDSAL,CTDSAL_FLAG_W,SALNTY,SALNTY_FLAG_W,CTDOXY,CTDOXY_FLAG_W,OXYGEN,OXYGEN_FLAG_W,SILCAT,SILCAT_FLAG_W,PHSPHT,PHSPHT_FLAG_W,TCARBN,TCARBN_FLAG_W,ALKALI,ALKALI_FLAG_W,DELO18,DELO18_FLAG_W,NO2+NO3,NO2+NO3_FLAG_W,THETA,O18ERR,DELD,DELD_FLAG_W,DELDERR,CTDFLUOR,CTDFLUOR_FLAG_W,PAR,PAR_FLAG_W,CTDXMISS,CTDXMISS_FLAG_W
,,,,,,,,,,,METERS,DBAR,ITS-90,PSS-78,,PSS-78,,UMOL/KG,,UMOL/KG,,UMOL/KG,,UMOL/KG,,UMOL/KG,,UMOL/KG,,/MILLE,,UMOL/KG,,DEG C,/MILLE,/MILLE,,/MILLE,MG/M^3,,UMOL/M^2/SEC,,%TRANS,
09AR20110104,       SR03,      46,          1,         24,         24,2,20110116,       1346,   -63.8608,   139.8850,       3703,     8.7,   0.5939,  33.6947,2,  33.6979,2,    346.1,2,   351.4,2,   39.90,2,    1.72,2,  2156.9,2,  2277.1,2,   -0.42,2,   27.22,2,   0.5936,       0.10,      -3.85,2,       0.32,      1.144,2,      0.171,2,     94.692,2
09AR20110104,       SR03,      46,          1,         23,         23,2,20110116,       1346,   -63.8608,   139.8850,       3703,    59.1,  -1.1908,  33.9802,2,  33.9747,2,    345.4,2,   344.6,2,   49.00,2,    1.91,2,  2180.9,2,  2294.2,2,   -0.27,2,   28.54,2,  -1.1922,       0.09,      -2.93,2,       0.06,      3.788,2,      0.000,2,     93.984,2
09AR20110104,       SR03,      46,          1,         22,         22,2,20110116,       1346,   -63.8608,   139.8850,       3703,   108.8,   0.0187,  34.4641,2,  34.4610,2,    224.2,2,   244.8,2,   71.50,2,    2.21,2,  2237.0,2,  2323.3,2, -999.00,9,   31.76,2,   0.0148,     -999.0,     -999.0,9,     -999.0,      0.263,2,      0.000,2,     98.946,2
09AR20110104,       SR03,      46,          1,         21,         21,2,20110116,       1346,   -63.8608,   139.8850,       3703,   151.1,   0.9983,  34.5762,2,  34.5759,2,    182.4,2,   209.5,2,   76.90,2,    2.23,2,  -999.0,9,  -999.0,9,   -0.09,2,   32.19,2,   0.9915,       0.05,      -1.66,2,       0.03,      0.073,2,      0.000,2,     99.123,2
09AR20110104,       SR03,      46,          1,         20,         20,2,20110116,       1346,   -63.8608,   139.8850,       3703,   199.2,   1.7783,  34.6699,2,  34.6702,2,    186.1,2,   185.4,2,   81.00,2,    2.23,2,  2255.5,2,  2339.7,6, -999.00,9,   32.29,2,   1.7680,     -999.0,     -999.0,9,     -999.0,     -0.006,2,      0.000,2,     99.217,2
09AR20110104,       SR03,      46,          1,         19,         19,2,20110116,       1346,   -63.8608,   139.8850,       3703,   298.8,   1.5661,  34.6853,2,  34.6873,2,    199.0,2,   193.4,2,   82.90,2,    2.19,2,  2253.5,2,  2341.3,2, -999.00,9,   31.63,2,   1.5509,     -999.0,     -999.0,9,     -999.0,     -0.009,2,      0.000,2,     99.189,2
09AR20110104,       SR03,      46,          1,         18,         18,2,20110116,       1346,   -63.8608,   139.8850,       3703,   400.1,   1.4724,  34.6966,2,  34.6977,2,    194.1,2,   195.6,2,   85.30,2,    2.16,2,  2252.7,2,  2342.4,2, -999.00,9,   31.24,2,   1.4520,     -999.0,     -999.0,9,     -999.0,     -0.014,2,      0.000,2,     99.200,2
09AR20110104,       SR03,      46,          1,         17,         17,2,20110116,       1346,   -63.8608,   139.8850,       3703,   499.5,   1.4577,  34.7115,2,  34.7110,2,    195.1,2,   196.8,2,   87.30,2,    2.14,2,  -999.0,9,  -999.0,9,   -0.02,2,   31.09,2,   1.4318,       0.05,      -1.56,2,       0.08,     -0.011,2,      0.000,2,     99.270,2
09AR20110104,       SR03,      46,          1,         16,         16,2,20110116,       1346,   -63.8608,   139.8850,       3703,   599.7,   1.4320,  34.7182,2,  34.7191,2,    197.4,2,   198.1,2,   89.20,2,    2.13,2,  -999.0,9,  -999.0,9, -999.00,9,   31.03,2,   1.4005,     -999.0,     -999.0,9,     -999.0,     -0.013,2,      0.000,2,     99.335,2
09AR20110104,       SR03,      46,          1,         15,         15,2,20110116,       1346,   -63.8608,   139.8850,       3703,   699.8,   1.4401,  34.7286,2,  34.7283,2,    198.7,2,   198.6,2,   91.20,2,    2.13,2,  -999.0,9,  -999.0,9, -999.00,9,   30.89,2,   1.4027,     -999.0,     -999.0,9,     -999.0,     -0.012,2,      0.000,2,     99.360,2
09AR20110104,       SR03,      46,          1,         14,         14,2,20110116,       1346,   -63.8608,   139.8850,       3703,   799.1,   1.3536,  34.7275,2,  34.7277,2,    199.7,2,   200.5,2,   94.00,2,    2.11,2,  -999.0,9,  -999.0,9,   -0.11,2, -999.00,9,   1.3108,       0.03,      -1.32,2,       0.10,     -0.012,2,      0.000,2,     99.379,2
09AR20110104,       SR03,      46,          1,         13,         13,2,20110116,       1346,   -63.8608,   139.8850,       3703,   900.1,   1.2721,  34.7279,2,  34.7287,2,    201.9,2,   201.8,2,   97.20,2,    2.14,2,  -999.0,9,  -999.0,9, -999.00,9,   31.37,2,   1.2237,     -999.0,     -999.0,9,     -999.0,     -0.016,2,      0.000,2,     99.383,2
09AR20110104,       SR03,      46,          1,         12,         12,2,20110116,       1346,   -63.8608,   139.8850,       3703,  1001.6,   1.2030,  34.7263,2,  34.7263,2,    203.2,2,   203.0,2,   98.40,2,    2.12,2,  -999.0,9,  -999.0,9, -999.00,9,   30.54,2,   1.1488,     -999.0,     -999.0,9,     -999.0,     -0.016,2,      0.000,2,     99.393,2
09AR20110104,       SR03,      46,          1,         11,         11,2,20110116,       1346,   -63.8608,   139.8850,       3703,  1201.2,   1.0262,  34.7176,2,  34.7171,2,    205.7,2,   205.6,2,  103.10,2,    2.15,2,  2257.0,2,  2351.1,2, -999.00,9,   30.89,2,   0.9609,     -999.0,     -999.0,9,     -999.0,     -0.013,2,      0.000,2,     99.401,2
09AR20110104,       SR03,      46,          1,         10,         10,2,20110116,       1346,   -63.8608,   139.8850,       3703,  1398.9,   0.8950,  34.7136,2,  34.7131,2,    207.8,2,   207.0,2,  108.20,2,    2.17,2,  -999.0,9,  -999.0,9, -999.00,9,   31.28,2,   0.8182,     -999.0,     -999.0,9,     -999.0,     -0.019,2,      0.000,2,     99.417,2
09AR20110104,       SR03,      46,          1,          9,          9,2,20110116,       1346,   -63.8608,   139.8850,       3703,  1600.2,   0.7250,  34.7040,2,  34.7039,2,    210.1,2,   209.1,2,  112.50,2,    2.19,2,  -999.0,9,  -999.0,9,   -0.12,2,   31.62,2,   0.6366,       0.00,      -1.96,2,       0.04,     -0.017,2,      0.000,2,     99.442,2
09AR20110104,       SR03,      46,          1,          8,          8,2,20110116,       1346,   -63.8608,   139.8850,       3703,  1900.3,   0.4809,  34.6899,2,  34.6893,2,    215.4,2,   214.2,2,  116.20,2,    2.21,2,  -999.0,9,  -999.0,9, -999.00,9,   32.12,2,   0.3748,     -999.0,     -999.0,9,     -999.0,     -0.017,2,      0.000,2,     99.434,2
09AR20110104,       SR03,      46,          1,          7,          7,2,20110116,       1346,   -63.8608,   139.8850,       3703,  2198.7,   0.3457,  34.6870,2,  34.6864,2,    217.5,2,   217.6,2,  120.40,2,    2.23,2,  -999.0,9,  -999.0,9, -999.00,9,   32.36,2,   0.2198,     -999.0,     -999.0,9,     -999.0,     -0.019,2,      0.000,2,     99.453,2
09AR20110104,       SR03,      46,          1,          6,          6,2,20110116,       1346,   -63.8608,   139.8850,       3703,  2498.9,   0.2062,  34.6824,2,  34.6820,2,    221.6,2,   221.7,2,  122.60,2,    2.24,2,  2262.1,2,  2353.6,2,   -0.08,2, -999.00,9,   0.0597,       0.05,      -2.24,2,       0.12,     -0.023,2,      0.000,2,     99.455,2
09AR20110104,       SR03,      46,          1,          5,          5,2,20110116,       1346,   -63.8608,   139.8850,       3703,  2801.0,   0.0527,  34.6727,2,  34.6720,2,    227.0,2,   227.5,2,  115.70,2,    2.21,2,  -999.0,9,  -999.0,9, -999.00,9,   31.43,2,  -0.1151,     -999.0,     -999.0,9,     -999.0,     -0.022,2,      0.000,2,     99.438,2
09AR20110104,       SR03,      46,          1,          4,          4,2,20110116,       1346,   -63.8608,   139.8850,       3703,  3101.0,  -0.0833,  34.6655,2,  34.6646,2,    233.3,2,   233.6,2,  116.40,2,    2.21,2,  -999.0,9,  2350.0,2,   -0.21,2,   31.39,2,  -0.2734,       0.03,      -3.10,2,       0.08,     -0.023,2,      0.000,2,     99.433,2
09AR20110104,       SR03,      46,          1,          3,          3,2,20110116,       1346,   -63.8608,   139.8850,       3703,  3399.1,  -0.2839,  34.6488,2,  34.6476,2,    242.9,2,   243.1,2,  104.60,2,    2.18,2,  -999.0,9,  -999.0,9,   -0.33,2,   31.17,2,  -0.4953,       0.08,      -3.21,2,       0.13,     -0.028,2,      0.000,2,     99.352,2
09AR20110104,       SR03,      46,          1,          2,        102,2,20110116,       1346,   -63.8608,   139.8850,       3703,  3651.8,  -0.4506,  34.6370,2,  34.6357,2,    252.0,2,   252.4,2,   96.40,2,    2.17,2,  -999.0,9,  -999.0,9,   -0.28,2,   31.20,2,  -0.6805,       0.07,      -3.35,2,       0.04,     -0.023,2,      0.000,2,     99.077,2
09AR20110104,       SR03,      46,          1,          1,          1,2,20110116,       1346,   -63.8608,   139.8850,       3703,  3762.6,  -0.4660,  34.6347,2,  34.6329,2,    254.0,2,   253.8,2,   96.10,2,    2.16,2,  2251.6,6,  2344.2,6,   -0.31,2,   31.14,2,  -0.7058,       0.06,      -3.30,2,       0.08,     -0.025,2,      0.000,2,     98.669,2
09AR20110104,       SR03,      47,          1,         24,         24,2,20110116,       1819,   -64.2030,   139.8360,       3499,    11.1,   0.4906,  33.6935,2,  33.7014,2,    347.7,2,   352.2,2,   37.90,2,    1.70,2,  2153.3,6,  2277.8,6, -999.00,9,   26.80,2,   0.4902,     -999.0,     -999.0,9,     -999.0,      0.365,2,    107.539,2,     94.114,2
09AR20110104,       SR03,      47,          1,         23,         23,2,20110116,       1819,   -64.2030,   139.8360,       3499,    50.6,  -1.3000,  33.9835,2,  33.9874,2,    347.7,2,   348.9,2,   47.60,2,    1.84,2,  2177.1,2,  2296.6,2, -999.00,9,   28.17,2,  -1.3012,     -999.0,     -999.0,9,     -999.0,      6.024,2,      4.554,2,     90.324,2
09AR20110104,       SR03,      47,          1,         22,         22,2,20110116,       1819,   -64.2030,   139.8360,       3499,   102.5,   0.5699,  34.5083,2,  34.5103,2,    266.1,2,   227.4,3,   73.50,2,    2.24,2,  2243.1,2,  2329.7,6, -999.00,9,   32.71,2,   0.5657,     -999.0,     -999.0,9,     -999.0,      0.263,2,      0.045,2,     98.927,2
09AR20110104,       SR03,      47,          1,         21,         21,2,20110116,       1819,   -64.2030,   139.8360,       3499,   224.8,   1.4516,  34.6711,2,  34.6737,2,    193.4,2,   195.7,2,   82.90,2,    2.20,2,  2253.0,2,  2341.5,2, -999.00,9,   32.15,2,   1.4405,     -999.0,     -999.0,9,     -999.0,     -0.008,2,      0.000,2,     99.179,2
09AR20110104,       SR03,      47,          1,         20,         20,2,20110116,       1819,   -64.2030,   139.8360,       3499,   300.6,   1.5696,  34.7014,2,  34.7008,2,    199.3,2,   193.8,2,   85.00,2,    2.18,2,  2253.2,2,  2344.6,2, -999.00,9,   31.72,2,   1.5543,     -999.0,     -999.0,9,     -999.0,     -0.012,2,      0.000,2,     99.216,2
09AR20110104,       SR03,      47,          1,         19,         19,2,20110116,       1819,   -64.2030,   139.8360,       3499,   399.6,   1.4472,  34.7067,2,  34.7077,2,    198.8,2,   197.1,2,   86.70,2,    2.16,2,  2252.5,2,  2345.8,2, -999.00,9,   31.44,2,   1.4269,     -999.0,     -999.0,9,     -999.0,     -0.014,2,      0.000,2,     99.247,2
09AR20110104,       SR03,      47,          1,         18,         18,2,20110116,       1819,   -64.2030,   139.8360,       3499,   501.4,   1.3595,  34.7103,2,  34.7108,2,    199.7,2,   199.4,2,   88.80,2,    2.16,2,  2251.2,2,  2346.6,2, -999.00,9,   31.23,2,   1.3339,     -999.0,     -999.0,9,     -999.0,     -0.015,2,      0.000,2,     99.302,2
09AR20110104,       SR03,      47,          1,         17,         17,2,20110116,       1819,   -64.2030,   139.8360,       3499,   599.7,   1.3236,  34.7168,2,  34.7163,2,    196.8,2,   200.3,2,   91.10,2,    2.12,2,  2252.6,2,  2347.7,2, -999.00,9,   31.15,2,   1.2926,     -999.0,     -999.0,9,     -999.0,     -0.015,2,      0.000,2,     99.338,2
09AR20110104,       SR03,      47,          1,         16,         16,2,20110116,       1819,   -64.2030,   139.8360,       3499,   701.4,   1.2683,  34.7193,2,  34.7199,2,    198.8,2,   201.6,2,   93.70,2,    2.14,2,  2253.0,2,  2350.5,6, -999.00,9,   31.08,2,   1.2318,     -999.0,     -999.0,9,     -999.0,     -0.013,2,      0.000,2,     99.324,2
09AR20110104,       SR03,      47,          1,         15,         15,2,20110116,       1819,   -64.2030,   139.8360,       3499,   801.5,   1.1991,  34.7204,2,  34.7206,2,    202.6,2,   203.1,2,   96.60,2,    2.15,2,  2253.0,2,  2354.8,2, -999.00,9,   31.15,2,   1.1571,     -999.0,     -999.0,9,     -999.0,     -0.012,2,      0.000,2,     99.355,2
09AR20110104,       SR03,      47,          1,         14,         14,2,20110116,       1819,   -64.2030,   139.8360,       3499,   901.4,   1.1358,  34.7198,2,  34.7200,2,    201.9,2,   204.0,2,   98.80,2,    2.15,2,  2254.7,2,  2352.2,2, -999.00,9,   31.22,2,   1.0883,     -999.0,     -999.0,9,     -999.0,     -0.016,2,      0.000,2,     99.379,2
09AR20110104,       SR03,      47,          1,         13,         13,2,20110116,       1819,   -64.2030,   139.8360,       3499,   999.4,   1.0564,  34.7172,2,  34.7181,2,    203.3,2,   204.8,2,  101.10,2,    2.16,2,  2255.2,2,  2354.6,2, -999.00,9,   31.30,2,   1.0036,     -999.0,     -999.0,9,     -999.0,     -0.014,2,      0.000,2,     99.385,2
09AR20110104,       SR03,      47,          1,         12,         12,2,20110116,       1819,   -64.2030,   139.8360,       3499,  1200.4,   0.8829,  34.7093,2,  34.7098,2,    205.8,2,   207.3,2,  105.30,2,    2.17,2,  2258.0,6,  2356.0,6, -999.00,9,   31.59,2,   0.8191,     -999.0,     -999.0,9,     -999.0,     -0.016,2,      0.000,2,     99.410,2
09AR20110104,       SR03,      47,          1,         11,         11,2,20110116,       1819,   -64.2030,   139.8360,       3499,  1401.7,   0.7475,  34.7038,2,  34.7037,2,    208.2,2,   208.9,2,  109.80,2,    2.19,2,  2259.2,2,  2357.1,2, -999.00,9,   31.76,2,   0.6721,     -999.0,     -999.0,9,     -999.0,     -0.018,2,      0.000,2,     99.417,2
09AR20110104,       SR03,      47,          1,         10,         10,2,20110116,       1819,   -64.2030,   139.8360,       3499,  1601.3,   0.6033,  34.6957,2,  34.6956,2,    211.8,2,   211.1,2,  112.50,2,    2.20,2,  2258.4,2,  2354.2,2, -999.00,9,   31.88,2,   0.5164,     -999.0,     -999.0,9,     -999.0,     -0.017,2,      0.000,2,     99.425,2
09AR20110104,       SR03,      47,          1,          9,          9,2,20110116,       1819,   -64.2030,   139.8360,       3499,  1799.3,   0.4871,  34.6924,2,  34.6933,2,    214.9,2,   213.7,2,  116.60,2,    2.22,2,  2261.0,2,  2357.2,2, -999.00,9,   32.07,2,   0.3881,     -999.0,     -999.0,9,     -999.0,     -0.020,2,      0.000,2,     99.445,2
09AR20110104,       SR03,      47,          1,          8,          8,2,20110116,       1819,   -64.2030,   139.8360,       3499,  1999.1,   0.3488,  34.6855,2,  34.6860,2,    217.6,2,   216.8,2,  117.50,2,    2.22,2,  2259.5,2,  2359.1,2,   -0.35,2,   32.12,2,   0.2376,       0.04,      -4.12,2,       0.10,     -0.019,2,      0.000,2,     99.441,2
09AR20110104,       SR03,      47,          1,          7,          7,2,20110116,       1819,   -64.2030,   139.8360,       3499,  2199.2,   0.2425,  34.6807,2,  34.6813,2,    219.8,2,   220.4,2,  118.20,2,    2.22,2,  2260.7,2,  2355.9,2, -999.00,9,   32.11,2,   0.1184,     -999.0,     -999.0,9,     -999.0,     -0.022,2,      0.000,2,     99.436,2
09AR20110104,       SR03,      47,          1,          6,          6,2,20110116,       1819,   -64.2030,   139.8360,       3499,  2399.4,   0.1686,  34.6799,2,  34.6799,2,    222.6,2,   222.5,2,  121.10,2,    2.22,2,  2259.5,2,  2355.3,2, -999.00,9,   32.15,2,   0.0306,     -999.0,     -999.0,9,     -999.0,     -0.023,2,      0.000,2,     99.439,2
09AR20110104,       SR03,      47,          1,          5,          5,2,20110116,       1819,   -64.2030,   139.8360,       3499,  2700.5,   0.0336,  34.6726,2,  34.6724,2,    227.8,2,   227.7,2,  118.80,2,    2.22,2,  2258.2,2,  2355.6,6, -999.00,9,   32.08,2,  -0.1256,     -999.0,     -999.0,9,     -999.0,     -0.024,2,      0.000,2,     99.433,2
09AR20110104,       SR03,      47,          1,          4,          4,2,20110116,       1819,   -64.2030,   139.8360,       3499,  3000.2,  -0.0833,  34.6667,2,  34.6661,2,    233.0,2,   232.5,2,  115.30,2,    2.21,2,  2257.6,2,  2354.7,2, -999.00,9,   31.94,2,  -0.2648,     -999.0,     -999.0,9,     -999.0,     -0.023,2,      0.000,2,     99.410,2
09AR20110104,       SR03,      47,          1,          3,          3,2,20110116,       1819,   -64.2030,   139.8360,       3499,  3199.6,  -0.1679,  34.6618,2,  34.6610,2,    236.7,2,   236.3,2,  112.30,2,    2.21,2,  2256.0,2,  2354.5,2, -999.00,9,   31.83,2,  -0.3646,     -999.0,     -999.0,9,     -999.0,     -0.027,2,      0.000,2,     99.398,2
09AR20110104,       SR03,      47,          1,          2,        102,2,20110116,       1819,   -64.2030,   139.8360,       3499,  3450.6,  -0.3418,  34.6444,2,  34.6441,2,   -999.0,5,  -999.0,9,  106.50,2,    2.19,2,  -999.0,9,  -999.0,9,   -0.26,2,   31.67,2,  -0.5563,       0.00,      -4.15,2,       0.08,     -0.026,2,      0.000,2,     99.091,2
09AR20110104,       SR03,      47,          1,          1,          1,2,20110116,       1819,   -64.2030,   139.8360,       3499,  3553.1,  -0.4616,  34.6366,2,  34.6358,2,   -999.0,5,  -999.0,9,   96.90,2,    2.17,2,  2251.2,6,  2346.8,6, -999.00,9,   31.44,2,  -0.6822,     -999.0,     -999.0,9,     -999.0,     -0.025,2,      0.000,2,     98.611,2