BOTTLE,20230419CCHSIOENA
EXPOCODE,SECT_ID,STNNBR,CASTNO,SAMPNO,BTLNBR,BTLNBR_FLAG_W,DATE,TIME,LATITUDE,LONGITUDE,DEPTH,CTDPRS,CTDTMP,CTDSAL,CTDSAL_FLAG_W,SALNTY,SALNTY_FLAG_W,CTDOXY,CTDOXY_FLAG_W,OXYGEN,OXYGEN_FLAG_W,SILCAT,SILCAT_FLAG_W,PHSPHT,PHSPHT_FLAG_W,TCARBN,TCARBN_FLAG_W,ALKALI,ALKALI_FLAG_W,DELO18,DELO18_FLAG_W,NO2+NO3,NO2+NO3_FLAG_W,THETA,O18ERR,DELD,DELD_FLAG_W,DELDERR,CTDFLUOR,CTDFLUOR_FLAG_W,PAR,PAR_FLAG_W,CTDXMISS,CTDXMISS_FLAG_W
,,,,,,,,,,,METERS,DBAR,ITS-90,PSS-78,,PSS-78,,UMOL/KG,,UMOL/KG,,UMOL/KG,,UMOL/KG,,UMOL/KG,,UMOL/KG,,/MILLE,,UMOL/KG,,DEG C,/MILLE,/MILLE,,/MILLE,MG/M^3,,UMOL/M^2/SEC,,%TRANS,
09AR20110104,       SR03,     104,          1,         24,         24,2,20110125,       1817,   -66.4307,   144.1340,        576,     8.7,  -1.1953,  33.4783,2,  33.4756,2,    374.5,2,   378.3,2,   40.00,2,    1.05,2,  2107.6,6,  2276.0,2,   -0.45,2,   17.92,2,  -1.1955,       0.01,      -4.57,2,       0.05,     14.213,2,      5.803,2,     84.534,2
09AR20110104,       SR03,     104,          1,         23,         23,2,20110125,       1817,   -66.4307,   144.1340,        576,     8.7,  -1.1852,  33.4608,2,-999.0000,9,    374.5,2,  -999.0,9, -999.00,9, -999.00,9,  -999.0,9,  -999.0,9, -999.00,9, -999.00,9,  -1.1854,     -999.0,     -999.0,9,     -999.0,     14.118,2,      5.778,2,     84.414,2
09AR20110104,       SR03,     104,          1,         22,         22,2,20110125,       1817,   -66.4307,   144.1340,        576,    40.8,  -1.1460,  33.9494,2,-999.0000,9,    354.5,2,  -999.0,9, -999.00,9, -999.00,9,  -999.0,9,  -999.0,9, -999.00,9, -999.00,9,  -1.1470,     -999.0,     -999.0,9,     -999.0,      8.794,2,      0.000,2,     89.525,2
09AR20110104,       SR03,     104,          1,         21,         21,2,20110125,       1817,   -66.4307,   144.1340,        576,    40.8,  -1.1662,  33.9637,2,-999.0000,9,    354.5,2,  -999.0,9, -999.00,9, -999.00,9,  -999.0,9,  -999.0,9, -999.00,9, -999.00,9,  -1.1672,     -999.0,     -999.0,9,     -999.0,      9.925,2,      0.000,2,     88.821,2
09AR20110104,       SR03,     104,          1,         20,         20,2,20110125,       1817,   -66.4307,   144.1340,        576,    40.8,  -1.1792,  33.9740,2,  33.9878,2,    354.5,2,   351.6,2,   52.10,2,    1.52,2,  2171.2,2,  2306.6,2,   -0.37,2,   23.27,2,  -1.1802,       0.02,      -4.23,2,       0.12,      8.557,2,      0.000,2,     89.671,2
09AR20110104,       SR03,     104,          1,         19,         19,2,20110125,       1817,   -66.4307,   144.1340,        576,    40.6,  -1.1825,  33.9759,2,-999.0000,9,    354.5,2,  -999.0,9, -999.00,9, -999.00,9,  -999.0,9,  -999.0,9, -999.00,9, -999.00,9,  -1.1835,     -999.0,     -999.0,9,     -999.0,      8.318,2,      0.000,2,     89.924,2
09AR20110104,       SR03,     104,          1,         18,         18,2,20110125,       1817,   -66.4307,   144.1340,        576,   120.8,  -1.7302,  34.3390,2,  34.3396,2,    313.4,2,   312.1,2,   71.30,2,    2.04,2,  2219.4,2,  2321.9,2,   -0.36,2,   29.74,2,  -1.7327,       0.11,      -3.56,2,       0.14,      1.186,2,      0.000,2,     97.505,2
09AR20110104,       SR03,     104,          1,         17,         17,2,20110125,       1817,   -66.4307,   144.1340,        576,   120.8,  -1.7287,  34.3384,2,-999.0000,9,    313.4,2,  -999.0,9, -999.00,9, -999.00,9,  -999.0,9,  -999.0,9, -999.00,9, -999.00,9,  -1.7312,     -999.0,     -999.0,9,     -999.0,      1.026,2,      0.000,2,     97.542,2
09AR20110104,       SR03,     104,          1,         16,         16,2,20110125,       1817,   -66.4307,   144.1340,        576,   120.9,  -1.7294,  34.3385,2,-999.0000,9,    313.4,2,  -999.0,9, -999.00,9, -999.00,9,  -999.0,9,  -999.0,9, -999.00,9, -999.00,9,  -1.7319,     -999.0,     -999.0,9,     -999.0,      1.139,2,      0.000,2,     97.488,2
09AR20110104,       SR03,     104,          1,         15,         15,2,20110125,       1817,   -66.4307,   144.1340,        576,   120.9,  -1.7293,  34.3382,2,-999.0000,9,    313.4,2,  -999.0,9, -999.00,9, -999.00,9,  -999.0,9,  -999.0,9, -999.00,9, -999.00,9,  -1.7318,     -999.0,     -999.0,9,     -999.0,      0.967,2,      0.000,2,     97.563,2
09AR20110104,       SR03,     104,          1,         14,         14,2,20110125,       1817,   -66.4307,   144.1340,        576,   250.8,  -0.9681,  34.4783,2,  34.4797,2,    269.1,2,   268.7,2,   79.50,2,    2.10,2,  2236.8,2,  2330.8,2,   -0.28,2,   31.11,2,  -0.9753,       0.04,      -3.67,2,       0.23,      0.031,2,      0.000,2,     99.151,2
09AR20110104,       SR03,     104,          1,         13,         13,2,20110125,       1817,   -66.4307,   144.1340,        576,   250.5,  -0.9701,  34.4779,2,-999.0000,9,    269.1,2,  -999.0,9, -999.00,9, -999.00,9,  -999.0,9,  -999.0,9, -999.00,9, -999.00,9,  -0.9773,     -999.0,     -999.0,9,     -999.0,      0.066,2,      0.000,2,     99.153,2
09AR20110104,       SR03,     104,          1,         12,         12,2,20110125,       1817,   -66.4307,   144.1340,        576,   250.4,  -0.9726,  34.4779,2,-999.0000,9,    269.1,2,  -999.0,9, -999.00,9, -999.00,9,  -999.0,9,  -999.0,9, -999.00,9, -999.00,9,  -0.9798,     -999.0,     -999.0,9,     -999.0,      0.041,2,      0.000,2,     99.115,2
09AR20110104,       SR03,     104,          1,         11,         11,2,20110125,       1817,   -66.4307,   144.1340,        576,   300.3,  -1.5584,  34.4798,2,-999.0000,9,    294.8,2,  -999.0,9, -999.00,9, -999.00,9,  -999.0,9,  -999.0,9, -999.00,9, -999.00,9,  -1.5657,     -999.0,     -999.0,9,     -999.0,      0.055,2,      0.000,2,     99.127,2
09AR20110104,       SR03,     104,          1,         10,         10,2,20110125,       1817,   -66.4307,   144.1340,        576,   300.6,  -1.5650,  34.4797,2,  34.4856,2,    294.8,2,  -999.0,9,   77.90,2,    2.06,2,  2232.1,2,  2332.7,2,   -0.46,2,   30.74,2,  -1.5723,       0.04,      -4.01,2,       0.05,      0.055,2,      0.000,2,     99.102,2
09AR20110104,       SR03,     104,          1,          9,          9,2,20110125,       1817,   -66.4307,   144.1340,        576,   300.6,  -1.5691,  34.4801,2,-999.0000,9,    294.8,2,  -999.0,9, -999.00,9, -999.00,9,  -999.0,9,  -999.0,9, -999.00,9, -999.00,9,  -1.5764,     -999.0,     -999.0,9,     -999.0,      0.060,2,      0.000,2,     99.134,2
09AR20110104,       SR03,     104,          1,          8,          8,2,20110125,       1817,   -66.4307,   144.1340,        576,   400.9,  -1.9065,  34.5499,2,  34.5519,2,    307.8,2,   307.8,2,   75.40,2,    2.06,2,  2234.5,2,  2337.6,2,   -0.43,2,   30.63,2,  -1.9155,       0.01,      -4.31,2,       0.07,      0.018,2,      0.000,2,     99.164,2
09AR20110104,       SR03,     104,          1,          7,          7,2,20110125,       1817,   -66.4307,   144.1340,        576,   401.0,  -1.9068,  34.5501,2,-999.0000,9,    307.8,2,  -999.0,9, -999.00,9, -999.00,9,  -999.0,9,  -999.0,9, -999.00,9, -999.00,9,  -1.9158,     -999.0,     -999.0,9,     -999.0,     -0.031,2,      0.000,2,     99.160,2
09AR20110104,       SR03,     104,          1,          6,          6,2,20110125,       1817,   -66.4307,   144.1340,        576,   400.9,  -1.9076,  34.5502,2,-999.0000,9,    307.8,2,  -999.0,9, -999.00,9, -999.00,9,  -999.0,9,  -999.0,9, -999.00,9, -999.00,9,  -1.9166,     -999.0,     -999.0,9,     -999.0,     -0.021,2,      0.000,2,     99.181,2
09AR20110104,       SR03,     104,          1,          5,          5,2,20110125,       1817,   -66.4307,   144.1340,        576,   501.6,  -1.8830,  34.5982,2,-999.0000,9,    307.1,2,  -999.0,9, -999.00,9, -999.00,9,  -999.0,9,  -999.0,9, -999.00,9, -999.00,9,  -1.8949,     -999.0,     -999.0,9,     -999.0,     -0.005,2,      0.000,2,     99.017,2
09AR20110104,       SR03,     104,          1,          4,          4,2,20110125,       1817,   -66.4307,   144.1340,        576,   501.6,  -1.8831,  34.5984,2,  34.5995,2,    307.1,2,   307.3,2,   75.80,2,    2.06,2,  2239.3,2,  2340.3,2,   -0.46,2,   30.69,2,  -1.8950,       0.04,      -4.50,2,       0.01,     -0.033,2,      0.000,2,     99.014,2
09AR20110104,       SR03,     104,          1,          3,          3,2,20110125,       1817,   -66.4307,   144.1340,        576,   501.6,  -1.8832,  34.5985,2,-999.0000,9,    307.1,2,  -999.0,9, -999.00,9, -999.00,9,  -999.0,9,  -999.0,9, -999.00,9, -999.00,9,  -1.8951,     -999.0,     -999.0,9,     -999.0,      0.014,2,      0.000,2,     99.005,2
09AR20110104,       SR03,     104,          1,          2,        102,2,20110125,       1817,   -66.4307,   144.1340,        576,   576.8,  -1.8874,  34.6125,2,  34.6115,2,    306.6,2,   306.8,2,   77.30,2,    2.07,2,  -999.0,9,  -999.0,9,   -0.47,2,   30.84,2,  -1.9015,       0.03,      -4.54,2,       0.23,     -0.034,2,      0.000,2,     98.755,2
09AR20110104,       SR03,     104,          1,          1,          1,2,20110125,       1817,   -66.4307,   144.1340,        576,   577.5,  -1.8875,  34.6128,2,-999.0000,9,    306.8,2,  -999.0,9, -999.00,9, -999.00,9,  -999.0,9,  -999.0,9, -999.00,9, -999.00,9,  -1.9016,     -999.0,     -999.0,9,     -999.0,      0.027,2,      0.000,2,     98.710,2
09AR20110104,       SR03,     105,          1,         24,         24,2,20110125,       2031,   -66.3502,   144.4460,        441,     9.2,  -1.1125,  33.3629,2,  33.3637,2,    374.5,2,   375.6,2,   38.40,2,    0.99,2,  2102.6,6,  2268.3,6, -999.00,9,   18.28,2,  -1.1127,     -999.0,     -999.0,9,     -999.0,     12.767,2,     16.199,2,     83.545,2
09AR20110104,       SR03,     105,          1,         23,         23,2,20110125,       2031,   -66.3502,   144.4460,        441,     9.2,  -1.1132,  33.3638,2,-999.0000,9,    374.5,2,  -999.0,9, -999.00,9, -999.00,9,  -999.0,9,  -999.0,9, -999.00,9, -999.00,9,  -1.1134,     -999.0,     -999.0,9,     -999.0,     12.385,2,     16.629,2,     83.452,2
09AR20110104,       SR03,     105,          1,         22,         22,2,20110125,       2031,   -66.3502,   144.4460,        441,    36.4,  -1.1332,  33.6942,2,-999.0000,9,    365.6,2,  -999.0,9, -999.00,9, -999.00,9,  -999.0,9,  -999.0,9, -999.00,9, -999.00,9,  -1.1341,     -999.0,     -999.0,9,     -999.0,     18.031,2,      0.055,2,     82.218,2
09AR20110104,       SR03,     105,          1,         21,         21,2,20110125,       2031,   -66.3502,   144.4460,        441,    36.5,  -1.1391,  33.7152,2,-999.0000,9,    365.6,2,  -999.0,9, -999.00,9, -999.00,9,  -999.0,9,  -999.0,9, -999.00,9, -999.00,9,  -1.1400,     -999.0,     -999.0,9,     -999.0,     17.996,2,      0.052,2,     82.135,2
09AR20110104,       SR03,     105,          1,         20,         20,2,20110125,       2031,   -66.3502,   144.4460,        441,    36.5,  -1.1478,  33.7480,2,  33.7322,2,    365.6,2,   364.0,2,   45.50,2,    1.28,2,  2140.6,2,  2290.1,2, -999.00,9,   20.83,2,  -1.1487,     -999.0,     -999.0,9,     -999.0,     18.167,2,      0.050,2,     81.764,2
09AR20110104,       SR03,     105,          1,         19,         19,2,20110125,       2031,   -66.3502,   144.4460,        441,    36.4,  -1.1518,  33.7662,2,-999.0000,9,    365.6,2,  -999.0,9, -999.00,9, -999.00,9,  -999.0,9,  -999.0,9, -999.00,9, -999.00,9,  -1.1527,     -999.0,     -999.0,9,     -999.0,     17.472,2,      0.049,2,     82.218,2
09AR20110104,       SR03,     105,          1,         18,         18,2,20110125,       2031,   -66.3502,   144.4460,        441,   103.7,  -1.7942,  34.3463,2,  34.3466,2,    312.9,2,   312.2,2,   70.60,2,    2.03,2,  2220.8,2,  2322.3,2, -999.00,9,   29.79,2,  -1.7963,     -999.0,     -999.0,9,     -999.0,      0.638,2,      0.000,2,     98.470,2
09AR20110104,       SR03,     105,          1,         17,         17,2,20110125,       2031,   -66.3502,   144.4460,        441,   103.5,  -1.7941,  34.3466,2,-999.0000,9,    312.9,2,  -999.0,9, -999.00,9, -999.00,9,  -999.0,9,  -999.0,9, -999.00,9, -999.00,9,  -1.7962,     -999.0,     -999.0,9,     -999.0,      0.489,2,      0.000,2,     98.523,2
09AR20110104,       SR03,     105,          1,         16,         16,2,20110125,       2031,   -66.3502,   144.4460,        441,   103.4,  -1.7942,  34.3466,2,-999.0000,9,    312.9,2,  -999.0,9, -999.00,9, -999.00,9,  -999.0,9,  -999.0,9, -999.00,9, -999.00,9,  -1.7963,     -999.0,     -999.0,9,     -999.0,      0.558,2,      0.000,2,     98.448,2
09AR20110104,       SR03,     105,          1,         15,         15,2,20110125,       2031,   -66.3502,   144.4460,        441,   103.3,  -1.7945,  34.3461,2,-999.0000,9,    312.9,2,  -999.0,9, -999.00,9, -999.00,9,  -999.0,9,  -999.0,9, -999.00,9, -999.00,9,  -1.7966,     -999.0,     -999.0,9,     -999.0,      0.497,2,      0.000,2,     98.495,2
09AR20110104,       SR03,     105,          1,         14,         14,2,20110125,       2031,   -66.3502,   144.4460,        441,   180.9,  -1.4937,  34.4098,2,  34.4088,2,    292.2,2,   293.7,2,   73.80,2,    2.06,2,  2227.2,2,  2326.1,6, -999.00,9,   30.37,2,  -1.4980,     -999.0,     -999.0,9,     -999.0,      0.167,2,      0.000,2,     99.045,2
09AR20110104,       SR03,     105,          1,         13,         13,2,20110125,       2031,   -66.3502,   144.4460,        441,   180.8,  -1.4943,  34.4097,2,-999.0000,9,    292.2,2,  -999.0,9, -999.00,9, -999.00,9,  -999.0,9,  -999.0,9, -999.00,9, -999.00,9,  -1.4986,     -999.0,     -999.0,9,     -999.0,      0.194,2,      0.000,2,     99.067,2
09AR20110104,       SR03,     105,          1,         12,         12,2,20110125,       2031,   -66.3502,   144.4460,        441,   180.8,  -1.4936,  34.4100,2,-999.0000,9,    292.2,2,  -999.0,9, -999.00,9, -999.00,9,  -999.0,9,  -999.0,9, -999.00,9, -999.00,9,  -1.4979,     -999.0,     -999.0,9,     -999.0,      0.173,2,      0.000,2,     99.026,2
09AR20110104,       SR03,     105,          1,         11,         11,2,20110125,       2031,   -66.3502,   144.4460,        441,   241.3,  -1.6941,  34.4540,2,-999.0000,9,    300.3,2,  -999.0,9, -999.00,9, -999.00,9,  -999.0,9,  -999.0,9, -999.00,9, -999.00,9,  -1.6995,     -999.0,     -999.0,9,     -999.0,      0.126,2,      0.000,2,     98.600,2
09AR20110104,       SR03,     105,          1,         10,         10,2,20110125,       2031,   -66.3502,   144.4460,        441,   241.3,  -1.6972,  34.4539,2,  34.4540,2,    300.3,2,   299.1,2,   75.00,2,    2.06,2,  2229.9,2,  2331.0,2, -999.00,9,   30.42,2,  -1.7026,     -999.0,     -999.0,9,     -999.0,      0.099,2,      0.000,2,     98.603,2
09AR20110104,       SR03,     105,          1,          9,          9,2,20110125,       2031,   -66.3502,   144.4460,        441,   241.4,  -1.6971,  34.4541,2,-999.0000,9,    300.3,2,  -999.0,9, -999.00,9, -999.00,9,  -999.0,9,  -999.0,9, -999.00,9, -999.00,9,  -1.7025,     -999.0,     -999.0,9,     -999.0,      0.086,2,      0.000,2,     98.569,2
09AR20110104,       SR03,     105,          1,          8,          8,2,20110125,       2031,   -66.3502,   144.4460,        441,   322.3,  -1.2714,  34.5441,2,  34.5449,2,    279.2,2,   278.9,2,   80.50,2,    2.10,2,  2239.5,2,  2336.1,2, -999.00,9,   31.03,2,  -1.2801,     -999.0,     -999.0,9,     -999.0,      0.041,2,      0.000,2,     98.940,2
09AR20110104,       SR03,     105,          1,          7,          7,2,20110125,       2031,   -66.3502,   144.4460,        441,   322.2,  -1.2708,  34.5441,2,-999.0000,9,    279.2,2,  -999.0,9, -999.00,9, -999.00,9,  -999.0,9,  -999.0,9, -999.00,9, -999.00,9,  -1.2795,     -999.0,     -999.0,9,     -999.0,      0.066,2,      0.000,2,     98.936,2
09AR20110104,       SR03,     105,          1,          6,          6,2,20110125,       2031,   -66.3502,   144.4460,        441,   322.1,  -1.2699,  34.5444,2,-999.0000,9,    279.2,2,  -999.0,9, -999.00,9, -999.00,9,  -999.0,9,  -999.0,9, -999.00,9, -999.00,9,  -1.2786,     -999.0,     -999.0,9,     -999.0,      0.056,2,      0.000,2,     98.955,2
09AR20110104,       SR03,     105,          1,          5,          5,2,20110125,       2031,   -66.3502,   144.4460,        441,   322.0,  -1.2693,  34.5444,2,-999.0000,9,    279.2,2,  -999.0,9, -999.00,9, -999.00,9,  -999.0,9,  -999.0,9, -999.00,9, -999.00,9,  -1.2780,     -999.0,     -999.0,9,     -999.0,      0.019,2,      0.000,2,     98.817,2
09AR20110104,       SR03,     105,          1,          4,          4,2,20110125,       2031,   -66.3502,   144.4460,        441,   439.6,  -1.8733,  34.6283,2,-999.0000,9,    304.5,2,  -999.0,9, -999.00,9, -999.00,9,  -999.0,9,  -999.0,9, -999.00,9, -999.00,9,  -1.8835,     -999.0,     -999.0,9,     -999.0,      0.097,2,      0.000,2,     98.225,2
09AR20110104,       SR03,     105,          1,          3,          3,2,20110125,       2031,   -66.3502,   144.4460,        441,   439.4,  -1.8733,  34.6283,2,-999.0000,9,    304.5,2,  -999.0,9, -999.00,9, -999.00,9,  -999.0,9,  -999.0,9, -999.00,9, -999.00,9,  -1.8835,     -999.0,     -999.0,9,     -999.0,      0.082,2,      0.000,2,     98.285,2
09AR20110104,       SR03,     105,          1,          2,        102,2,20110125,       2031,   -66.3502,   144.4460,        441,   438.6,  -1.8732,  34.6282,2,  34.6276,2,    304.4,2,   304.4,2,   77.00,2,    2.08,2,  -999.0,9,  -999.0,9, -999.00,9,   30.70,2,  -1.8834,     -999.0,     -999.0,9,     -999.0,      0.108,2,      0.000,2,     98.295,2
09AR20110104,       SR03,     105,          1,          1,          1,2,20110125,       2031,   -66.3502,   144.4460,        441,   437.2,  -1.8733,  34.6282,2,-999.0000,9,    304.4,2,  -999.0,9, -999.00,9, -999.00,9,  -999.0,9,  -999.0,9, -999.00,9, -999.00,9,  -1.8834,     -999.0,     -999.0,9,     -999.0,      0.075,2,      0.000,2,     98.343,2