BOTTLE,20230419CCHSIOENA
EXPOCODE,SECT_ID,STNNBR,CASTNO,SAMPNO,BTLNBR,BTLNBR_FLAG_W,DATE,TIME,LATITUDE,LONGITUDE,DEPTH,CTDPRS,CTDTMP,CTDSAL,CTDSAL_FLAG_W,SALNTY,SALNTY_FLAG_W,CTDOXY,CTDOXY_FLAG_W,OXYGEN,OXYGEN_FLAG_W,SILCAT,SILCAT_FLAG_W,PHSPHT,PHSPHT_FLAG_W,TCARBN,TCARBN_FLAG_W,ALKALI,ALKALI_FLAG_W,DELO18,DELO18_FLAG_W,NO2+NO3,NO2+NO3_FLAG_W,THETA,O18ERR,DELD,DELD_FLAG_W,DELDERR,CTDFLUOR,CTDFLUOR_FLAG_W,PAR,PAR_FLAG_W,CTDXMISS,CTDXMISS_FLAG_W
,,,,,,,,,,,METERS,DBAR,ITS-90,PSS-78,,PSS-78,,UMOL/KG,,UMOL/KG,,UMOL/KG,,UMOL/KG,,UMOL/KG,,UMOL/KG,,/MILLE,,UMOL/KG,,DEG C,/MILLE,/MILLE,,/MILLE,MG/M^3,,UMOL/M^2/SEC,,%TRANS,
09AR20110104,       SR03,      94,          1,         24,         24,2,20110124,       2024,   -66.7742,   144.1820,        868,     9.4,  -1.7475,  34.2624,2,  34.2609,2,    324.3,2,   323.6,2,   70.10,2,    1.94,2,  2208.8,6,  2318.4,6,   -0.40,2,   28.44,2,  -1.7477,       0.04,      -4.15,2,       0.09,      0.992,2,     34.909,2,     97.228,2
09AR20110104,       SR03,      94,          1,         23,         23,2,20110124,       2024,   -66.7742,   144.1820,        868,     9.3,  -1.7469,  34.2617,2,-999.0000,9,    324.3,2,  -999.0,9, -999.00,9, -999.00,9,  -999.0,9,  -999.0,9, -999.00,9, -999.00,9,  -1.7471,     -999.0,     -999.0,9,     -999.0,      1.249,2,     35.149,2,     97.179,2
09AR20110104,       SR03,      94,          1,         22,         22,2,20110124,       2024,   -66.7742,   144.1820,        868,    49.4,  -1.7680,  34.2710,2,-999.0000,9,    319.2,2,  -999.0,9, -999.00,9, -999.00,9,  -999.0,9,  -999.0,9, -999.00,9, -999.00,9,  -1.7690,     -999.0,     -999.0,9,     -999.0,      1.556,2,      2.365,2,     97.494,2
09AR20110104,       SR03,      94,          1,         21,         21,2,20110124,       2024,   -66.7742,   144.1820,        868,    49.3,  -1.7692,  34.2711,2,-999.0000,9,    319.2,2,  -999.0,9, -999.00,9, -999.00,9,  -999.0,9,  -999.0,9, -999.00,9, -999.00,9,  -1.7702,     -999.0,     -999.0,9,     -999.0,      1.427,2,      2.427,2,     97.521,2
09AR20110104,       SR03,      94,          1,         20,         20,2,20110124,       2024,   -66.7742,   144.1820,        868,    49.3,  -1.7753,  34.2724,2,  34.2705,2,    319.2,2,   321.4,2,   70.90,2,    1.94,2,  2209.6,2,  2320.7,2, -999.00,9,   28.72,2,  -1.7763,     -999.0,     -999.0,9,     -999.0,      1.849,2,      2.501,2,     97.611,2
09AR20110104,       SR03,      94,          1,         19,         19,2,20110124,       2024,   -66.7742,   144.1820,        868,    49.3,  -1.7811,  34.2736,2,-999.0000,9,    319.2,2,  -999.0,9, -999.00,9, -999.00,9,  -999.0,9,  -999.0,9, -999.00,9, -999.00,9,  -1.7821,     -999.0,     -999.0,9,     -999.0,      1.598,2,      2.475,2,     97.549,2
09AR20110104,       SR03,      94,          1,         18,         18,2,20110124,       2024,   -66.7742,   144.1820,        868,   118.9,  -1.8006,  34.3272,2,  34.3319,2,    312.6,2,   315.2,2,   73.20,2,    2.03,2,  2219.5,2,  2322.9,2,   -0.36,2,   29.50,2,  -1.8030,       0.01,      -4.08,2,       0.01,      0.433,2,      0.074,2,     98.686,2
09AR20110104,       SR03,      94,          1,         17,         17,2,20110124,       2024,   -66.7742,   144.1820,        868,   118.9,  -1.8007,  34.3267,2,-999.0000,9,    312.6,2,  -999.0,9, -999.00,9, -999.00,9,  -999.0,9,  -999.0,9, -999.00,9, -999.00,9,  -1.8031,     -999.0,     -999.0,9,     -999.0,      0.467,2,      0.076,2,     98.678,2
09AR20110104,       SR03,      94,          1,         16,         16,2,20110124,       2024,   -66.7742,   144.1820,        868,   249.1,  -1.8156,  34.4276,2,  34.4273,2,    308.3,2,   306.8,2,   74.90,2,    2.06,2,  2225.7,2,  2328.0,2, -999.00,9,   30.08,2,  -1.8209,     -999.0,     -999.0,9,     -999.0,      0.529,2,      0.000,2,     98.955,2
09AR20110104,       SR03,      94,          1,         15,         15,2,20110124,       2024,   -66.7742,   144.1820,        868,   248.9,  -1.8140,  34.4271,2,-999.0000,9,    308.4,2,  -999.0,9, -999.00,9, -999.00,9,  -999.0,9,  -999.0,9, -999.00,9, -999.00,9,  -1.8193,     -999.0,     -999.0,9,     -999.0,      0.219,2,      0.000,2,     98.995,2
09AR20110104,       SR03,      94,          1,         14,         14,2,20110124,       2024,   -66.7742,   144.1820,        868,   402.0,  -1.8963,  34.4918,2,  34.4915,2,    303.6,2,   303.5,2,   75.50,2,    2.06,2,  2232.9,2,  2331.4,2, -999.00,9,   30.37,2,  -1.9053,     -999.0,     -999.0,9,     -999.0,     -0.002,2,      0.000,2,     99.481,2
09AR20110104,       SR03,      94,          1,         13,         13,2,20110124,       2024,   -66.7742,   144.1820,        868,   401.8,  -1.8966,  34.4919,2,-999.0000,9,    303.6,2,  -999.0,9, -999.00,9, -999.00,9,  -999.0,9,  -999.0,9, -999.00,9, -999.00,9,  -1.9056,     -999.0,     -999.0,9,     -999.0,     -0.009,2,      0.000,2,     99.458,2
09AR20110104,       SR03,      94,          1,         12,         12,2,20110124,       2024,   -66.7742,   144.1820,        868,   401.7,  -1.8969,  34.4920,2,-999.0000,9,    303.6,2,  -999.0,9, -999.00,9, -999.00,9,  -999.0,9,  -999.0,9, -999.00,9, -999.00,9,  -1.9059,     -999.0,     -999.0,9,     -999.0,      0.027,2,      0.000,2,     99.475,2
09AR20110104,       SR03,      94,          1,         11,         11,2,20110124,       2024,   -66.7742,   144.1820,        868,   551.0,  -2.0221,  34.5602,2,-999.0000,9,    309.0,2,  -999.0,9, -999.00,9, -999.00,9,  -999.0,9,  -999.0,9, -999.00,9, -999.00,9,  -2.0347,     -999.0,     -999.0,9,     -999.0,     -0.051,2,      0.000,2,     99.152,2
09AR20110104,       SR03,      94,          1,         10,         10,2,20110124,       2024,   -66.7742,   144.1820,        868,   550.1,  -2.0277,  34.5587,2,  34.5574,2,    309.0,2,   308.9,2,   75.50,2,    2.10,2,  2237.2,2,  2337.6,2,   -0.49,2,   30.46,2,  -2.0402,       0.05,      -4.76,2,       0.01,     -0.070,2,      0.000,2,     99.136,2
09AR20110104,       SR03,      94,          1,          9,          9,2,20110124,       2024,   -66.7742,   144.1820,        868,   550.0,  -2.0266,  34.5597,2,-999.0000,9,    309.0,2,  -999.0,9, -999.00,9, -999.00,9,  -999.0,9,  -999.0,9, -999.00,9, -999.00,9,  -2.0391,     -999.0,     -999.0,9,     -999.0,     -0.051,2,      0.000,2,     99.127,2
09AR20110104,       SR03,      94,          1,          8,          8,2,20110124,       2024,   -66.7742,   144.1820,        868,   696.0,  -1.9984,  34.5903,2,  34.5918,2,    309.1,2,   309.2,2,   75.50,2,    2.08,2,  2236.9,2,  2340.7,2, -999.00,9,   30.54,2,  -2.0155,     -999.0,     -999.0,9,     -999.0,     -0.011,2,      0.000,2,     99.091,2
09AR20110104,       SR03,      94,          1,          7,          7,2,20110124,       2024,   -66.7742,   144.1820,        868,   697.1,  -1.9976,  34.5907,2,-999.0000,9,    309.0,2,  -999.0,9, -999.00,9, -999.00,9,  -999.0,9,  -999.0,9, -999.00,9, -999.00,9,  -2.0147,     -999.0,     -999.0,9,     -999.0,     -0.045,2,      0.000,2,     99.077,2
09AR20110104,       SR03,      94,          1,          6,          6,2,20110124,       2024,   -66.7742,   144.1820,        868,   698.0,  -1.9978,  34.5906,2,-999.0000,9,    309.0,2,  -999.0,9, -999.00,9, -999.00,9,  -999.0,9,  -999.0,9, -999.00,9, -999.00,9,  -2.0149,     -999.0,     -999.0,9,     -999.0,     -0.029,2,      0.000,2,     99.066,2
09AR20110104,       SR03,      94,          1,          5,          5,2,20110124,       2024,   -66.7742,   144.1820,        868,   698.7,  -1.9978,  34.5906,2,-999.0000,9,    309.0,2,  -999.0,9, -999.00,9, -999.00,9,  -999.0,9,  -999.0,9, -999.00,9, -999.00,9,  -2.0150,     -999.0,     -999.0,9,     -999.0,     -0.058,2,      0.000,2,     99.089,2
09AR20110104,       SR03,      94,          1,          4,          4,2,20110124,       2024,   -66.7742,   144.1820,        868,   872.8,  -1.9384,  34.6145,2,-999.0000,9,    308.3,2,  -999.0,9, -999.00,9, -999.00,9,  -999.0,9,  -999.0,9, -999.00,9, -999.00,9,  -1.9618,     -999.0,     -999.0,9,     -999.0,     -0.032,2,      0.000,2,     99.213,2
09AR20110104,       SR03,      94,          1,          3,          3,2,20110124,       2024,   -66.7742,   144.1820,        868,   873.1,  -1.9380,  34.6147,2,-999.0000,9,    308.4,2,  -999.0,9, -999.00,9, -999.00,9,  -999.0,9,  -999.0,9, -999.00,9, -999.00,9,  -1.9614,     -999.0,     -999.0,9,     -999.0,     -0.059,2,      0.000,2,     99.212,2
09AR20110104,       SR03,      94,          1,          2,        102,2,20110124,       2024,   -66.7742,   144.1820,        868,   873.6,  -1.9373,  34.6151,2,  34.6138,2,    308.4,2,   308.4,2,   75.80,2,    2.08,2,  -999.0,9,  -999.0,9,   -0.43,2,   30.55,2,  -1.9607,       0.07,      -4.49,2,       0.12,     -0.010,2,      0.000,2,     99.197,2
09AR20110104,       SR03,      94,          1,          1,          1,2,20110124,       2024,   -66.7742,   144.1820,        868,   873.8,  -1.9356,  34.6158,2,-999.0000,9,    308.4,2,  -999.0,9, -999.00,9, -999.00,9,  -999.0,9,  -999.0,9, -999.00,9, -999.00,9,  -1.9591,     -999.0,     -999.0,9,     -999.0,     -0.059,2,      0.000,2,     99.209,2
09AR20110104,       SR03,      95,          1,         24,         24,2,20110124,       2301,   -66.8410,   144.3770,        760,    10.5,  -1.4381,  34.1833,2,  34.1850,2,    343.3,2,   343.4,2,   62.80,2,    1.70,2,  2190.0,6,  2317.1,6,   -0.41,2,   26.26,2,  -1.4383,       0.04,      -4.26,2,       0.02,      3.815,2,     29.219,2,     92.438,2
09AR20110104,       SR03,      95,          1,         23,         23,2,20110124,       2301,   -66.8410,   144.3770,        760,    10.4,  -1.4388,  34.1836,2,-999.0000,9,    343.3,2,  -999.0,9, -999.00,9, -999.00,9,  -999.0,9,  -999.0,9, -999.00,9, -999.00,9,  -1.4390,     -999.0,     -999.0,9,     -999.0,      4.040,2,     29.679,2,     92.490,2
09AR20110104,       SR03,      95,          1,         22,         22,2,20110124,       2301,   -66.8410,   144.3770,        760,    49.6,  -1.6234,  34.3328,2,-999.0000,9,    328.3,2,  -999.0,9, -999.00,9, -999.00,9,  -999.0,9,  -999.0,9, -999.00,9, -999.00,9,  -1.6244,     -999.0,     -999.0,9,     -999.0,      3.702,2,      0.390,2,     95.276,2
09AR20110104,       SR03,      95,          1,         21,         21,2,20110124,       2301,   -66.8410,   144.3770,        760,    49.6,  -1.6237,  34.3327,2,-999.0000,9,    328.3,2,  -999.0,9, -999.00,9, -999.00,9,  -999.0,9,  -999.0,9, -999.00,9, -999.00,9,  -1.6247,     -999.0,     -999.0,9,     -999.0,      3.093,2,      0.401,2,     95.284,2
09AR20110104,       SR03,      95,          1,         20,         20,2,20110124,       2301,   -66.8410,   144.3770,        760,    49.6,  -1.6234,  34.3327,2,  34.3354,2,    328.3,2,   325.0,2,   70.40,2,    1.92,2,  2213.5,2,  2324.0,2, -999.00,9,   28.36,2,  -1.6244,     -999.0,     -999.0,9,     -999.0,      3.234,2,      0.410,2,     95.227,2
09AR20110104,       SR03,      95,          1,         19,         19,2,20110124,       2301,   -66.8410,   144.3770,        760,    49.6,  -1.6290,  34.3333,2,-999.0000,9,    328.3,2,  -999.0,9, -999.00,9, -999.00,9,  -999.0,9,  -999.0,9, -999.00,9, -999.00,9,  -1.6300,     -999.0,     -999.0,9,     -999.0,      3.315,2,      0.394,2,     95.424,2
09AR20110104,       SR03,      95,          1,         18,         18,2,20110124,       2301,   -66.8410,   144.3770,        760,   102.4,  -1.7650,  34.3834,2,  34.3862,2,    314.9,2,   314.0,2,   73.00,2,    2.01,2,  2223.1,2,  2327.3,2, -999.00,9,   29.49,2,  -1.7671,     -999.0,     -999.0,9,     -999.0,      1.465,2,      0.000,2,     97.876,2
09AR20110104,       SR03,      95,          1,         17,         17,2,20110124,       2301,   -66.8410,   144.3770,        760,   102.2,  -1.7689,  34.3844,2,-999.0000,9,    314.9,2,  -999.0,9, -999.00,9, -999.00,9,  -999.0,9,  -999.0,9, -999.00,9, -999.00,9,  -1.7710,     -999.0,     -999.0,9,     -999.0,      1.021,2,      0.000,2,     97.963,2
09AR20110104,       SR03,      95,          1,         16,         16,2,20110124,       2301,   -66.8410,   144.3770,        760,   249.2,  -1.8216,  34.4471,2,  34.4475,2,    303.7,2,   303.8,2,   74.90,2,    2.06,2,  2230.1,2,  2330.7,2, -999.00,9,   30.31,2,  -1.8269,     -999.0,     -999.0,9,     -999.0,     -0.021,2,      0.000,2,     99.371,2
09AR20110104,       SR03,      95,          1,         15,         15,2,20110124,       2301,   -66.8410,   144.3770,        760,   249.3,  -1.8219,  34.4473,2,-999.0000,9,    303.7,2,  -999.0,9, -999.00,9, -999.00,9,  -999.0,9,  -999.0,9, -999.00,9, -999.00,9,  -1.8272,     -999.0,     -999.0,9,     -999.0,     -0.011,2,      0.000,2,     99.387,2
09AR20110104,       SR03,      95,          1,         14,         14,2,20110124,       2301,   -66.8410,   144.3770,        760,   349.8,  -1.8976,  34.4683,2,  34.4681,2,    303.4,2,   303.9,2,   75.30,2,    2.06,2,  2232.5,2,  2330.0,2,   -0.35,2,   30.40,2,  -1.9052,       0.02,      -4.34,2,       0.06,     -0.003,2,      0.000,2,     99.441,2
09AR20110104,       SR03,      95,          1,         13,         13,2,20110124,       2301,   -66.8410,   144.3770,        760,   349.6,  -1.8970,  34.4681,2,-999.0000,9,    303.4,2,  -999.0,9, -999.00,9, -999.00,9,  -999.0,9,  -999.0,9, -999.00,9, -999.00,9,  -1.9046,     -999.0,     -999.0,9,     -999.0,      0.002,2,      0.000,2,     99.441,2
09AR20110104,       SR03,      95,          1,         12,         12,2,20110124,       2301,   -66.8410,   144.3770,        760,   349.5,  -1.8960,  34.4676,2,-999.0000,9,    303.4,2,  -999.0,9, -999.00,9, -999.00,9,  -999.0,9,  -999.0,9, -999.00,9, -999.00,9,  -1.9036,     -999.0,     -999.0,9,     -999.0,      0.002,2,      0.000,2,     99.428,2
09AR20110104,       SR03,      95,          1,         11,         11,2,20110124,       2301,   -66.8410,   144.3770,        760,   480.5,  -2.0179,  34.5132,2,-999.0000,9,    306.4,2,  -999.0,9, -999.00,9, -999.00,9,  -999.0,9,  -999.0,9, -999.00,9, -999.00,9,  -2.0285,     -999.0,     -999.0,9,     -999.0,      0.021,2,      0.000,2,     99.247,2
09AR20110104,       SR03,      95,          1,         10,         10,2,20110124,       2301,   -66.8410,   144.3770,        760,   480.9,  -2.0156,  34.5126,2,  34.5115,2,    306.4,2,   307.3,2,   75.00,2,    2.08,2,  2235.6,2,  2333.7,2, -999.00,9,   30.49,2,  -2.0262,     -999.0,     -999.0,9,     -999.0,     -0.013,2,      0.000,2,     99.258,2
09AR20110104,       SR03,      95,          1,          9,          9,2,20110124,       2301,   -66.8410,   144.3770,        760,   480.8,  -2.0161,  34.5127,2,-999.0000,9,    306.4,2,  -999.0,9, -999.00,9, -999.00,9,  -999.0,9,  -999.0,9, -999.00,9, -999.00,9,  -2.0267,     -999.0,     -999.0,9,     -999.0,     -0.010,2,      0.000,2,     99.250,2
09AR20110104,       SR03,      95,          1,          8,          8,2,20110124,       2301,   -66.8410,   144.3770,        760,   616.6,  -2.0502,  34.5539,2,  34.5537,2,    309.4,2,   309.7,2,   75.40,2,    2.08,2,  -999.0,9,  -999.0,9,   -0.49,2,   30.66,2,  -2.0645,       0.08,      -4.51,2,       0.09,      0.014,2,      0.000,2,     99.046,2
09AR20110104,       SR03,      95,          1,          7,          7,2,20110124,       2301,   -66.8410,   144.3770,        760,   617.2,  -2.0520,  34.5534,2,-999.0000,9,    309.4,2,  -999.0,9, -999.00,9, -999.00,9,  -999.0,9,  -999.0,9, -999.00,9, -999.00,9,  -2.0663,     -999.0,     -999.0,9,     -999.0,     -0.018,2,      0.000,2,     99.045,2
09AR20110104,       SR03,      95,          1,          6,          6,2,20110124,       2301,   -66.8410,   144.3770,        760,   617.7,  -2.0524,  34.5540,2,-999.0000,9,    309.4,2,  -999.0,9, -999.00,9, -999.00,9,  -999.0,9,  -999.0,9, -999.00,9, -999.00,9,  -2.0668,     -999.0,     -999.0,9,     -999.0,     -0.015,2,      0.000,2,     99.041,2
09AR20110104,       SR03,      95,          1,          5,          5,2,20110124,       2301,   -66.8410,   144.3770,        760,   618.3,  -2.0532,  34.5542,2,-999.0000,9,    309.4,2,  -999.0,9, -999.00,9, -999.00,9,  -999.0,9,  -999.0,9, -999.00,9, -999.00,9,  -2.0676,     -999.0,     -999.0,9,     -999.0,     -0.021,2,      0.000,2,     99.046,2
09AR20110104,       SR03,      95,          1,          4,          4,2,20110124,       2301,   -66.8410,   144.3770,        760,   764.4,  -1.9890,  34.5979,2,-999.0000,9,    310.2,2,  -999.0,9, -999.00,9, -999.00,9,  -999.0,9,  -999.0,9, -999.00,9, -999.00,9,  -2.0083,     -999.0,     -999.0,9,     -999.0,     -0.026,2,      0.000,2,     99.089,2
09AR20110104,       SR03,      95,          1,          3,          3,2,20110124,       2301,   -66.8410,   144.3770,        760,   764.4,  -1.9874,  34.5984,2,-999.0000,9,    310.2,2,  -999.0,9, -999.00,9, -999.00,9,  -999.0,9,  -999.0,9, -999.00,9, -999.00,9,  -2.0067,     -999.0,     -999.0,9,     -999.0,     -0.040,2,      0.000,2,     99.075,2
09AR20110104,       SR03,      95,          1,          2,        102,2,20110124,       2301,   -66.8410,   144.3770,        760,   764.3,  -1.9907,  34.5973,2,  34.5954,2,    310.2,2,   309.3,2,   75.70,2,    2.09,2,  -999.0,9,  -999.0,9,   -0.50,2,   30.82,2,  -2.0100,       0.02,      -4.79,2,       0.06,     -0.034,2,      0.000,2,     99.081,2
09AR20110104,       SR03,      95,          1,          1,          1,2,20110124,       2301,   -66.8410,   144.3770,        760,   764.2,  -1.9922,  34.5968,2,-999.0000,9,    310.2,2,  -999.0,9, -999.00,9, -999.00,9,  -999.0,9,  -999.0,9, -999.00,9, -999.00,9,  -2.0115,     -999.0,     -999.0,9,     -999.0,     -0.035,2,      0.000,2,     99.061,2