BOTTLE,20230419CCHSIOENA
EXPOCODE,SECT_ID,STNNBR,CASTNO,SAMPNO,BTLNBR,BTLNBR_FLAG_W,DATE,TIME,LATITUDE,LONGITUDE,DEPTH,CTDPRS,CTDTMP,CTDSAL,CTDSAL_FLAG_W,SALNTY,SALNTY_FLAG_W,CTDOXY,CTDOXY_FLAG_W,OXYGEN,OXYGEN_FLAG_W,SILCAT,SILCAT_FLAG_W,PHSPHT,PHSPHT_FLAG_W,TCARBN,TCARBN_FLAG_W,ALKALI,ALKALI_FLAG_W,DELO18,DELO18_FLAG_W,NO2+NO3,NO2+NO3_FLAG_W,THETA,O18ERR,DELD,DELD_FLAG_W,DELDERR,CTDFLUOR,CTDFLUOR_FLAG_W,PAR,PAR_FLAG_W,CTDXMISS,CTDXMISS_FLAG_W
,,,,,,,,,,,METERS,DBAR,ITS-90,PSS-78,,PSS-78,,UMOL/KG,,UMOL/KG,,UMOL/KG,,UMOL/KG,,UMOL/KG,,UMOL/KG,,/MILLE,,UMOL/KG,,DEG C,/MILLE,/MILLE,,/MILLE,MG/M^3,,UMOL/M^2/SEC,,%TRANS,
09AR20110104,       SR03,      64,          1,         20,         20,2,20110119,       2240,   -65.8137,   142.9730,        866,    10.0,   0.3542,  33.6229,2,  33.6619,2,    351.2,2,   351.1,2,   42.50,2,    1.43,2,  2141.5,2,  2281.0,6, -999.00,9,   22.29,2,   0.3538,     -999.0,     -999.0,9,     -999.0,      0.816,2,     50.479,2,     92.021,2
09AR20110104,       SR03,      64,          1,         19,         19,2,20110119,       2240,   -65.8137,   142.9730,        866,    48.9,  -1.5904,  34.2905,2,-999.0000,9,    322.6,2,  -999.0,9, -999.00,9, -999.00,9,  -999.0,9,  -999.0,9, -999.00,9, -999.00,9,  -1.5914,     -999.0,     -999.0,9,     -999.0,      1.633,2,      3.103,2,     95.193,2
09AR20110104,       SR03,      64,          1,         18,         18,2,20110119,       2240,   -65.8137,   142.9730,        866,    49.5,  -1.5911,  34.2907,2,-999.0000,9,    321.4,2,  -999.0,9, -999.00,9, -999.00,9,  -999.0,9,  -999.0,9, -999.00,9, -999.00,9,  -1.5921,     -999.0,     -999.0,9,     -999.0,      1.629,2,      2.973,2,     95.170,2
09AR20110104,       SR03,      64,          1,         17,         17,2,20110119,       2240,   -65.8137,   142.9730,        866,    49.3,  -1.5891,  34.2904,2,-999.0000,9,    321.4,2,  -999.0,9, -999.00,9, -999.00,9,  -999.0,9,  -999.0,9, -999.00,9, -999.00,9,  -1.5901,     -999.0,     -999.0,9,     -999.0,      1.674,2,      3.030,2,     95.086,2
09AR20110104,       SR03,      64,          1,         16,         16,2,20110119,       2240,   -65.8137,   142.9730,        866,    49.3,  -1.5879,  34.2902,2,-999.0000,9,    321.4,2,  -999.0,9, -999.00,9, -999.00,9,  -999.0,9,  -999.0,9, -999.00,9, -999.00,9,  -1.5889,     -999.0,     -999.0,9,     -999.0,      1.831,2,      3.053,2,     95.165,2
09AR20110104,       SR03,      64,          1,         15,         15,2,20110119,       2240,   -65.8137,   142.9730,        866,    49.4,  -1.5883,  34.2903,2,-999.0000,9,    321.4,2,  -999.0,9, -999.00,9, -999.00,9,  -999.0,9,  -999.0,9, -999.00,9, -999.00,9,  -1.5893,     -999.0,     -999.0,9,     -999.0,      1.678,2,      2.949,2,     95.124,2
09AR20110104,       SR03,      64,          1,         14,         14,2,20110119,       2240,   -65.8137,   142.9730,        866,    49.4,  -1.5853,  34.2899,2,-999.0000,9,    321.4,2,  -999.0,9, -999.00,9, -999.00,9,  -999.0,9,  -999.0,9, -999.00,9, -999.00,9,  -1.5863,     -999.0,     -999.0,9,     -999.0,      1.706,2,      2.863,2,     95.129,2
09AR20110104,       SR03,      64,          1,         13,         13,2,20110119,       2240,   -65.8137,   142.9730,        866,    49.3,  -1.5828,  34.2891,2,-999.0000,9,    321.4,2,  -999.0,9, -999.00,9, -999.00,9,  -999.0,9,  -999.0,9, -999.00,9, -999.00,9,  -1.5838,     -999.0,     -999.0,9,     -999.0,      1.789,2,      2.921,2,     95.127,2
09AR20110104,       SR03,      64,          1,         12,         12,2,20110119,       2240,   -65.8137,   142.9730,        866,    49.3,  -1.5833,  34.2894,2,-999.0000,9,    321.4,2,  -999.0,9, -999.00,9, -999.00,9,  -999.0,9,  -999.0,9, -999.00,9, -999.00,9,  -1.5843,     -999.0,     -999.0,9,     -999.0,      1.712,2,      2.970,2,     95.082,2
09AR20110104,       SR03,      64,          1,         11,         11,2,20110119,       2240,   -65.8137,   142.9730,        866,    49.3,  -1.5837,  34.2893,2,-999.0000,9,    321.4,2,  -999.0,9, -999.00,9, -999.00,9,  -999.0,9,  -999.0,9, -999.00,9, -999.00,9,  -1.5847,     -999.0,     -999.0,9,     -999.0,      1.677,2,      2.990,2,     95.074,2
09AR20110104,       SR03,      64,          1,         10,         10,2,20110119,       2240,   -65.8137,   142.9730,        866,    49.5,  -1.5897,  34.2905,2,  34.2896,2,    321.4,2,   322.4,2,   65.90,2,    2.00,2,  2207.1,2,  2316.9,2, -999.00,9,   28.68,2,  -1.5907,     -999.0,     -999.0,9,     -999.0,      1.704,2,      2.999,2,     95.113,2
09AR20110104,       SR03,      64,          1,          9,          9,2,20110119,       2240,   -65.8137,   142.9730,        866,   103.2,  -1.8084,  34.3488,2,  34.3466,2,    313.2,2,   312.4,2,   70.90,2,    2.05,2,  2222.5,2,  2324.4,2, -999.00,9,   30.38,2,  -1.8105,     -999.0,     -999.0,9,     -999.0,      0.108,2,      0.176,2,     99.074,2
09AR20110104,       SR03,      64,          1,          8,          8,2,20110119,       2240,   -65.8137,   142.9730,        866,   250.7,  -0.2945,  34.5442,2,  34.5415,2,    248.2,2,   243.2,2,   84.40,2,    2.16,2,  2243.7,2,  2333.0,2, -999.00,9,   31.76,2,  -0.3032,     -999.0,     -999.0,9,     -999.0,      0.013,2,      0.000,2,     99.314,2
09AR20110104,       SR03,      64,          1,          7,          7,2,20110119,       2240,   -65.8137,   142.9730,        866,   376.7,   0.3743,  34.6273,2,-999.0000,9,    218.4,2,  -999.0,9, -999.00,9, -999.00,9,  -999.0,9,  -999.0,9, -999.00,9, -999.00,9,   0.3586,     -999.0,     -999.0,9,     -999.0,     -0.019,2,      0.000,2,     99.287,2
09AR20110104,       SR03,      64,          1,          6,          6,2,20110119,       2240,   -65.8137,   142.9730,        866,   377.0,   0.3732,  34.6273,2,-999.0000,9,    218.5,2,  -999.0,9, -999.00,9, -999.00,9,  -999.0,9,  -999.0,9, -999.00,9, -999.00,9,   0.3575,     -999.0,     -999.0,9,     -999.0,     -0.003,2,      0.000,2,     99.285,2
09AR20110104,       SR03,      64,          1,          5,          5,2,20110119,       2240,   -65.8137,   142.9730,        866,   376.7,   0.3706,  34.6271,2,  34.6267,2,    218.4,2,   221.2,2,   90.20,2,    2.17,2,  2248.6,2,  2344.4,2, -999.00,9,   31.67,2,   0.3549,     -999.0,     -999.0,9,     -999.0,      0.016,2,      0.000,2,     99.257,2
09AR20110104,       SR03,      64,          1,          4,          4,2,20110119,       2240,   -65.8137,   142.9730,        866,   550.9,   0.0706,  34.6290,2,  34.6286,2,    228.5,2,   229.6,2,   92.30,2, -999.00,9,  2251.6,2,  -999.0,9, -999.00,9,   31.42,2,   0.0482,     -999.0,     -999.0,9,     -999.0,     -0.006,2,      0.000,2,     99.152,2
09AR20110104,       SR03,      64,          1,          3,          3,2,20110119,       2240,   -65.8137,   142.9730,        866,   651.1,  -0.0341,  34.6266,2,  34.6260,2,    229.1,2,   232.7,2,   92.00,2,    2.17,2,  2252.5,2,  2349.4,2, -999.00,9,   30.95,2,  -0.0606,     -999.0,     -999.0,9,     -999.0,      0.018,2,      0.000,2,     99.146,2
09AR20110104,       SR03,      64,          1,          2,        102,2,20110119,       2240,   -65.8137,   142.9730,        866,   751.4,  -0.1229,  34.6256,2,  34.6261,2,    234.0,2,   236.1,2,   92.10,2,    2.17,2,  -999.0,9,  -999.0,9, -999.00,9,   30.88,2,  -0.1536,     -999.0,     -999.0,9,     -999.0,     -0.022,2,      0.000,2,     99.167,2
09AR20110104,       SR03,      64,          1,          1,          1,2,20110119,       2240,   -65.8137,   142.9730,        866,   864.2,  -0.2795,  34.6180,2,  34.6180,2,    246.6,2,   244.8,2,   86.30,2,    2.15,2,  2249.4,6,  2340.2,2, -999.00,9,   30.78,2,  -0.3146,     -999.0,     -999.0,9,     -999.0,     -0.022,2,      0.000,2,     99.122,2
09AR20110104,       SR03,      65,          1,         21,         21,2,20110120,       0023,   -65.8498,   142.9900,        421,    12.4,   0.3073,  33.5479,2,-999.0000,9,    351.7,2,  -999.0,9, -999.00,9, -999.00,9,  -999.0,9,  -999.0,9, -999.00,9, -999.00,9,   0.3069,     -999.0,     -999.0,9,     -999.0,      0.721,2,     55.909,2,     92.224,2
09AR20110104,       SR03,      65,          1,         20,         20,2,20110120,       0023,   -65.8498,   142.9900,        421,    14.0,   0.3059,  33.5397,2,  33.5629,2,    351.9,2,   351.8,2,   40.80,2,    1.39,2,  2133.7,2,  2276.7,2, -999.00,9,   21.76,2,   0.3054,     -999.0,     -999.0,9,     -999.0,      0.631,2,     43.149,2,     92.032,2
09AR20110104,       SR03,      65,          1,         19,         19,2,20110120,       0023,   -65.8498,   142.9900,        421,    50.6,  -1.5500,  34.2865,2,-999.0000,9,    321.0,2,  -999.0,9, -999.00,9, -999.00,9,  -999.0,9,  -999.0,9, -999.00,9, -999.00,9,  -1.5511,     -999.0,     -999.0,9,     -999.0,      1.423,2,      3.310,2,     96.200,2
09AR20110104,       SR03,      65,          1,         18,         18,2,20110120,       0023,   -65.8498,   142.9900,        421,    50.5,  -1.5516,  34.2870,2,-999.0000,9,    321.0,2,  -999.0,9, -999.00,9, -999.00,9,  -999.0,9,  -999.0,9, -999.00,9, -999.00,9,  -1.5527,     -999.0,     -999.0,9,     -999.0,      1.432,2,      3.292,2,     96.183,2
09AR20110104,       SR03,      65,          1,         17,         17,2,20110120,       0023,   -65.8498,   142.9900,        421,    50.4,  -1.5561,  34.2883,2,-999.0000,9,    321.0,2,  -999.0,9, -999.00,9, -999.00,9,  -999.0,9,  -999.0,9, -999.00,9, -999.00,9,  -1.5572,     -999.0,     -999.0,9,     -999.0,      1.423,2,      3.321,2,     96.174,2
09AR20110104,       SR03,      65,          1,         16,         16,2,20110120,       0023,   -65.8498,   142.9900,        421,    50.5,  -1.5598,  34.2893,2,-999.0000,9,    321.0,2,  -999.0,9, -999.00,9, -999.00,9,  -999.0,9,  -999.0,9, -999.00,9, -999.00,9,  -1.5609,     -999.0,     -999.0,9,     -999.0,      1.367,2,      3.270,2,     96.226,2
09AR20110104,       SR03,      65,          1,         15,         15,2,20110120,       0023,   -65.8498,   142.9900,        421,    50.7,  -1.5620,  34.2899,2,-999.0000,9,    321.0,2,  -999.0,9, -999.00,9, -999.00,9,  -999.0,9,  -999.0,9, -999.00,9, -999.00,9,  -1.5631,     -999.0,     -999.0,9,     -999.0,      1.425,2,      3.265,2,     96.240,2
09AR20110104,       SR03,      65,          1,         14,         14,2,20110120,       0023,   -65.8498,   142.9900,        421,    50.6,  -1.5630,  34.2901,2,-999.0000,9,    321.0,2,  -999.0,9, -999.00,9, -999.00,9,  -999.0,9,  -999.0,9, -999.00,9, -999.00,9,  -1.5641,     -999.0,     -999.0,9,     -999.0,      1.372,2,      3.309,2,     96.194,2
09AR20110104,       SR03,      65,          1,         13,         13,2,20110120,       0023,   -65.8498,   142.9900,        421,    50.6,  -1.5640,  34.2904,2,-999.0000,9,    321.0,2,  -999.0,9, -999.00,9, -999.00,9,  -999.0,9,  -999.0,9, -999.00,9, -999.00,9,  -1.5651,     -999.0,     -999.0,9,     -999.0,      1.391,2,      3.327,2,     96.215,2
09AR20110104,       SR03,      65,          1,         12,         12,2,20110120,       0023,   -65.8498,   142.9900,        421,    50.9,  -1.5651,  34.2907,2,-999.0000,9,    321.0,2,  -999.0,9, -999.00,9, -999.00,9,  -999.0,9,  -999.0,9, -999.00,9, -999.00,9,  -1.5662,     -999.0,     -999.0,9,     -999.0,      1.437,2,      3.250,2,     96.259,2
09AR20110104,       SR03,      65,          1,         11,         11,2,20110120,       0023,   -65.8498,   142.9900,        421,    50.9,  -1.5660,  34.2909,2,-999.0000,9,    321.0,2,  -999.0,9, -999.00,9, -999.00,9,  -999.0,9,  -999.0,9, -999.00,9, -999.00,9,  -1.5671,     -999.0,     -999.0,9,     -999.0,      1.355,2,      3.264,2,     96.252,2
09AR20110104,       SR03,      65,          1,         10,         10,2,20110120,       0023,   -65.8498,   142.9900,        421,    50.8,  -1.5657,  34.2908,2,-999.0000,9,    321.0,2,  -999.0,9, -999.00,9, -999.00,9,  -999.0,9,  -999.0,9, -999.00,9, -999.00,9,  -1.5668,     -999.0,     -999.0,9,     -999.0,      1.322,2,      3.288,2,     96.232,2
09AR20110104,       SR03,      65,          1,          9,          9,2,20110120,       0023,   -65.8498,   142.9900,        421,    50.7,  -1.5646,  34.2905,2,-999.0000,9,    321.0,2,  -999.0,9, -999.00,9, -999.00,9,  -999.0,9,  -999.0,9, -999.00,9, -999.00,9,  -1.5657,     -999.0,     -999.0,9,     -999.0,      1.357,2,      3.322,2,     96.204,2
09AR20110104,       SR03,      65,          1,          8,          8,2,20110120,       0023,   -65.8498,   142.9900,        421,    50.7,  -1.5680,  34.2914,2,  34.2934,2,    321.0,2,   317.6,2,   64.00,2,    2.00,2,  2213.0,2,  2320.4,2, -999.00,9,   28.73,2,  -1.5691,     -999.0,     -999.0,9,     -999.0,      1.453,2,      3.308,2,     96.193,2
09AR20110104,       SR03,      65,          1,          7,          7,2,20110120,       0023,   -65.8498,   142.9900,        421,    99.8,  -1.6902,  34.3589,2,-999.0000,9,    302.8,2,  -999.0,9, -999.00,9, -999.00,9,  -999.0,9,  -999.0,9, -999.00,9, -999.00,9,  -1.6923,     -999.0,     -999.0,9,     -999.0,      0.215,2,      0.327,2,     98.992,2
09AR20110104,       SR03,      65,          1,          6,          6,2,20110120,       0023,   -65.8498,   142.9900,        421,    99.8,  -1.6924,  34.3585,2,-999.0000,9,    302.8,2,  -999.0,9, -999.00,9, -999.00,9,  -999.0,9,  -999.0,9, -999.00,9, -999.00,9,  -1.6945,     -999.0,     -999.0,9,     -999.0,      0.227,2,      0.332,2,     99.001,2
09AR20110104,       SR03,      65,          1,          5,          5,2,20110120,       0023,   -65.8498,   142.9900,        421,    99.6,  -1.6930,  34.3585,2,  34.3590,2,    302.8,2,   305.6,2,   69.90,2,    2.06,2,  2222.8,2,  2323.3,2, -999.00,9,   30.18,2,  -1.6951,     -999.0,     -999.0,9,     -999.0,      0.213,2,      0.346,2,     98.991,2
09AR20110104,       SR03,      65,          1,          4,          4,2,20110120,       0023,   -65.8498,   142.9900,        421,   152.1,  -1.4379,  34.4053,2,  34.3582,4,    288.0,2,   291.4,2,   73.30,2,    2.10,2,  2231.6,2,  2326.6,2, -999.00,9,   30.81,2,  -1.4415,     -999.0,     -999.0,9,     -999.0,      0.071,2,      0.010,2,     99.335,2
09AR20110104,       SR03,      65,          1,          3,          3,2,20110120,       0023,   -65.8498,   142.9900,        421,   249.5,   0.1467,  34.6037,2,  34.6032,2,    227.4,2,   228.2,2,   88.90,2,    2.18,2,  2248.1,2,  2343.5,2, -999.00,9,   31.80,2,   0.1371,     -999.0,     -999.0,9,     -999.0,     -0.005,2,      0.000,2,     99.289,2
09AR20110104,       SR03,      65,          1,          2,        102,2,20110120,       0023,   -65.8498,   142.9900,        421,   349.6,   0.1472,  34.6243,2,  34.6243,2,    228.1,2,   226.9,2,   91.10,2,    2.18,2,  -999.0,9,  -999.0,9, -999.00,9,   31.47,2,   0.1334,     -999.0,     -999.0,9,     -999.0,     -0.007,2,      0.000,2,     99.164,2
09AR20110104,       SR03,      65,          1,          1,          1,2,20110120,       0023,   -65.8498,   142.9900,        421,   416.2,  -1.7259,  34.6232,2,  34.6229,2,    299.5,2,   298.6,2,   76.30,2,    2.11,2,  2243.8,6,  2342.2,6, -999.00,9,   30.47,2,  -1.7360,     -999.0,     -999.0,9,     -999.0,     -0.011,2,      0.000,2,     98.991,2