BOTTLE,20230419CCHSIOENA
EXPOCODE,SECT_ID,STNNBR,CASTNO,SAMPNO,BTLNBR,BTLNBR_FLAG_W,DATE,TIME,LATITUDE,LONGITUDE,DEPTH,CTDPRS,CTDTMP,CTDSAL,CTDSAL_FLAG_W,SALNTY,SALNTY_FLAG_W,CTDOXY,CTDOXY_FLAG_W,OXYGEN,OXYGEN_FLAG_W,SILCAT,SILCAT_FLAG_W,PHSPHT,PHSPHT_FLAG_W,TCARBN,TCARBN_FLAG_W,ALKALI,ALKALI_FLAG_W,DELO18,DELO18_FLAG_W,NO2+NO3,NO2+NO3_FLAG_W,THETA,O18ERR,DELD,DELD_FLAG_W,DELDERR,CTDFLUOR,CTDFLUOR_FLAG_W,PAR,PAR_FLAG_W,CTDXMISS,CTDXMISS_FLAG_W
,,,,,,,,,,,METERS,DBAR,ITS-90,PSS-78,,PSS-78,,UMOL/KG,,UMOL/KG,,UMOL/KG,,UMOL/KG,,UMOL/KG,,UMOL/KG,,/MILLE,,UMOL/KG,,DEG C,/MILLE,/MILLE,,/MILLE,MG/M^3,,UMOL/M^2/SEC,,%TRANS,
09AR20110104,       SR03,      84,          1,         24,         24,2,20110123,       1502,   -66.4502,   143.6280,        710,    10.6,  -1.0609,  33.4921,2,  33.5018,2,    372.6,2,   375.0,2,   41.40,2,    1.05,2,  2108.7,6,  2276.5,6, -999.00,9,   19.15,2,  -1.0612,     -999.0,     -999.0,9,     -999.0,     12.792,2,      0.000,2,     85.512,2
09AR20110104,       SR03,      84,          1,         23,         23,2,20110123,       1502,   -66.4502,   143.6280,        710,    10.6,  -1.0610,  33.4899,2,-999.0000,9,    372.6,2,  -999.0,9, -999.00,9, -999.00,9,  -999.0,9,  -999.0,9, -999.00,9, -999.00,9,  -1.0613,     -999.0,     -999.0,9,     -999.0,     11.856,2,      0.000,2,     85.445,2
09AR20110104,       SR03,      84,          1,         22,         22,2,20110123,       1502,   -66.4502,   143.6280,        710,    10.6,  -1.0610,  33.4903,2,-999.0000,9,    372.6,2,  -999.0,9, -999.00,9, -999.00,9,  -999.0,9,  -999.0,9, -999.00,9, -999.00,9,  -1.0613,     -999.0,     -999.0,9,     -999.0,     12.521,2,      0.000,2,     85.285,2
09AR20110104,       SR03,      84,          1,         21,         21,2,20110123,       1502,   -66.4502,   143.6280,        710,    10.6,  -1.0609,  33.4909,2,-999.0000,9,    372.6,2,  -999.0,9, -999.00,9, -999.00,9,  -999.0,9,  -999.0,9, -999.00,9, -999.00,9,  -1.0612,     -999.0,     -999.0,9,     -999.0,     13.055,2,      0.000,2,     85.497,2
09AR20110104,       SR03,      84,          1,         20,         20,2,20110123,       1502,   -66.4502,   143.6280,        710,    10.6,  -1.0611,  33.4906,2,-999.0000,9,    372.6,2,  -999.0,9, -999.00,9, -999.00,9,  -999.0,9,  -999.0,9, -999.00,9, -999.00,9,  -1.0614,     -999.0,     -999.0,9,     -999.0,     13.121,2,      0.000,2,     85.445,2
09AR20110104,       SR03,      84,          1,         19,         19,2,20110123,       1502,   -66.4502,   143.6280,        710,    10.5,  -1.0615,  33.4974,2,-999.0000,9,    372.6,2,  -999.0,9, -999.00,9, -999.00,9,  -999.0,9,  -999.0,9, -999.00,9, -999.00,9,  -1.0618,     -999.0,     -999.0,9,     -999.0,     13.987,2,      0.000,2,     85.513,2
09AR20110104,       SR03,      84,          1,         18,         18,2,20110123,       1502,   -66.4502,   143.6280,        710,    50.1,  -1.0749,  33.6258,2,  33.6445,2,    368.7,2,   366.6,2,   44.30,2,    1.17,2,  2126.6,2,  2284.5,2, -999.00,9,   20.31,2,  -1.0761,     -999.0,     -999.0,9,     -999.0,     12.166,2,      0.000,2,     86.123,2
09AR20110104,       SR03,      84,          1,         17,         17,2,20110123,       1502,   -66.4502,   143.6280,        710,    50.0,  -1.0558,  33.6237,2,-999.0000,9,    368.7,2,  -999.0,9, -999.00,9, -999.00,9,  -999.0,9,  -999.0,9, -999.00,9, -999.00,9,  -1.0570,     -999.0,     -999.0,9,     -999.0,     12.308,2,      0.000,2,     86.175,2
09AR20110104,       SR03,      84,          1,         16,         16,2,20110123,       1502,   -66.4502,   143.6280,        710,   120.3,  -1.7198,  34.3199,2,  34.3270,2,    318.3,2,   316.4,2,   70.50,2,    2.00,2,  2217.9,2,  2320.8,2, -999.00,9,   29.70,2,  -1.7223,     -999.0,     -999.0,9,     -999.0,      0.839,2,      0.000,2,     97.662,2
09AR20110104,       SR03,      84,          1,         15,         15,2,20110123,       1502,   -66.4502,   143.6280,        710,   120.2,  -1.7197,  34.3199,2,-999.0000,9,    318.3,2,  -999.0,9, -999.00,9, -999.00,9,  -999.0,9,  -999.0,9, -999.00,9, -999.00,9,  -1.7222,     -999.0,     -999.0,9,     -999.0,      0.803,2,      0.000,2,     97.703,2
09AR20110104,       SR03,      84,          1,         14,         14,2,20110123,       1502,   -66.4502,   143.6280,        710,   221.3,  -1.5802,  34.4570,2,-999.0000,9,    292.3,2,  -999.0,9, -999.00,9, -999.00,9,  2231.1,2,  2329.9,2, -999.00,9, -999.00,9,  -1.5853,     -999.0,     -999.0,9,     -999.0,      0.083,2,      0.000,2,     99.144,2
09AR20110104,       SR03,      84,          1,         13,         13,2,20110123,       1502,   -66.4502,   143.6280,        710,   221.1,  -1.5805,  34.4569,2,-999.0000,9,    292.3,2,  -999.0,9, -999.00,9, -999.00,9,  -999.0,9,  -999.0,9, -999.00,9, -999.00,9,  -1.5856,     -999.0,     -999.0,9,     -999.0,      0.107,2,      0.000,2,     99.146,2
09AR20110104,       SR03,      84,          1,         12,         12,2,20110123,       1502,   -66.4502,   143.6280,        710,   300.9,  -1.8371,  34.5084,2,  34.5105,2,    302.0,2,   303.3,2,   74.20,2,    2.04,2,  -999.0,9,  -999.0,9, -999.00,9,   30.59,2,  -1.8437,     -999.0,     -999.0,9,     -999.0,     -0.013,2,      0.000,2,     99.445,2
09AR20110104,       SR03,      84,          1,         11,         11,2,20110123,       1502,   -66.4502,   143.6280,        710,   300.7,  -1.8361,  34.5082,2,-999.0000,9,    302.0,2,  -999.0,9, -999.00,9, -999.00,9,  -999.0,9,  -999.0,9, -999.00,9, -999.00,9,  -1.8427,     -999.0,     -999.0,9,     -999.0,      0.008,2,      0.000,2,     99.469,2
09AR20110104,       SR03,      84,          1,         10,         10,2,20110123,       1502,   -66.4502,   143.6280,        710,   401.4,  -1.9770,  34.5549,2,  34.5531,2,    306.3,2,   307.4,2,   73.70,2,    2.05,2,  2237.0,2,  2338.6,2, -999.00,9,   30.32,2,  -1.9857,     -999.0,     -999.0,9,     -999.0,     -0.032,2,      0.000,2,     99.379,2
09AR20110104,       SR03,      84,          1,          9,          9,2,20110123,       1502,   -66.4502,   143.6280,        710,   401.4,  -1.9751,  34.5548,2,-999.0000,9,    306.3,2,  -999.0,9, -999.00,9, -999.00,9,  -999.0,9,  -999.0,9, -999.00,9, -999.00,9,  -1.9838,     -999.0,     -999.0,9,     -999.0,     -0.014,2,      0.000,2,     99.377,2
09AR20110104,       SR03,      84,          1,          8,          8,2,20110123,       1502,   -66.4502,   143.6280,        710,   500.4,  -1.9622,  34.5796,2,  34.5826,2,    308.0,2,   308.1,2,   74.00,2,    2.04,2,  2238.2,2,  2336.3,6, -999.00,9,   30.18,2,  -1.9737,     -999.0,     -999.0,9,     -999.0,     -0.009,2,      0.000,2,     99.324,2
09AR20110104,       SR03,      84,          1,          7,          7,2,20110123,       1502,   -66.4502,   143.6280,        710,   500.4,  -1.9632,  34.5794,2,-999.0000,9,    308.0,2,  -999.0,9, -999.00,9, -999.00,9,  -999.0,9,  -999.0,9, -999.00,9, -999.00,9,  -1.9747,     -999.0,     -999.0,9,     -999.0,     -0.006,2,      0.000,2,     99.326,2
09AR20110104,       SR03,      84,          1,          6,          6,2,20110123,       1502,   -66.4502,   143.6280,        710,   500.4,  -1.9628,  34.5793,2,-999.0000,9,    308.0,2,  -999.0,9, -999.00,9, -999.00,9,  -999.0,9,  -999.0,9, -999.00,9, -999.00,9,  -1.9743,     -999.0,     -999.0,9,     -999.0,     -0.014,2,      0.000,2,     99.319,2
09AR20110104,       SR03,      84,          1,          5,          5,2,20110123,       1502,   -66.4502,   143.6280,        710,   500.2,  -1.9634,  34.5793,2,-999.0000,9,    308.0,2,  -999.0,9, -999.00,9, -999.00,9,  -999.0,9,  -999.0,9, -999.00,9, -999.00,9,  -1.9749,     -999.0,     -999.0,9,     -999.0,     -0.014,2,      0.000,2,     99.316,2
09AR20110104,       SR03,      84,          1,          4,          4,2,20110123,       1502,   -66.4502,   143.6280,        710,   601.1,  -1.9362,  34.6090,2,  34.6077,2,    308.3,2,   308.3,2,   73.80,2,    2.06,2,  2240.6,2,  2340.5,2, -999.00,9,   30.21,2,  -1.9507,     -999.0,     -999.0,9,     -999.0,     -0.015,2,      0.000,2,     99.323,2
09AR20110104,       SR03,      84,          1,          3,          3,2,20110123,       1502,   -66.4502,   143.6280,        710,   601.0,  -1.9320,  34.6111,2,-999.0000,9,    308.3,2,  -999.0,9, -999.00,9, -999.00,9,  -999.0,9,  -999.0,9, -999.00,9, -999.00,9,  -1.9466,     -999.0,     -999.0,9,     -999.0,     -0.011,2,      0.000,2,     99.323,2
09AR20110104,       SR03,      84,          1,          2,        102,2,20110123,       1502,   -66.4502,   143.6280,        710,   712.6,  -1.8907,  34.6354,2,  34.6327,2,    307.4,2,   306.5,2,   75.60,2,    2.06,2,  -999.0,9,  -999.0,9, -999.00,9,   30.31,2,  -1.9090,     -999.0,     -999.0,9,     -999.0,     -0.003,2,      0.000,2,     98.800,2
09AR20110104,       SR03,      84,          1,          1,          1,2,20110123,       1502,   -66.4502,   143.6280,        710,   712.6,  -1.8906,  34.6355,2,-999.0000,9,    307.4,2,  -999.0,9, -999.00,9, -999.00,9,  -999.0,9,  -999.0,9, -999.00,9, -999.00,9,  -1.9089,     -999.0,     -999.0,9,     -999.0,     -0.005,2,      0.000,2,     98.862,2
09AR20110104,       SR03,      85,          1,         24,         24,2,20110124,       0358,   -66.4385,   143.6330,        702,     9.9,  -0.9321,  33.5069,2,  33.5077,2,    378.2,2,   379.1,2,   39.30,2,    0.94,2,  -999.0,9,  -999.0,9, -999.00,9,   17.87,2,  -0.9323,     -999.0,     -999.0,9,     -999.0,     11.460,2,     27.049,2,     84.818,2
09AR20110104,       SR03,      85,          1,         23,         23,2,20110124,       0358,   -66.4385,   143.6330,        702,     9.8,  -0.9167,  33.5208,2,-999.0000,9,    378.2,2,  -999.0,9, -999.00,9, -999.00,9,  -999.0,9,  -999.0,9, -999.00,9, -999.00,9,  -0.9169,     -999.0,     -999.0,9,     -999.0,     12.334,2,     26.139,2,     84.496,2
09AR20110104,       SR03,      85,          1,         22,         22,2,20110124,       0358,   -66.4385,   143.6330,        702,    39.1,  -0.8906,  33.6728,2,-999.0000,9,    377.2,2,  -999.0,9, -999.00,9, -999.00,9,  -999.0,9,  -999.0,9, -999.00,9, -999.00,9,  -0.8916,     -999.0,     -999.0,9,     -999.0,     13.837,2,      0.073,2,     84.687,2
09AR20110104,       SR03,      85,          1,         21,         21,2,20110124,       0358,   -66.4385,   143.6330,        702,    39.2,  -0.8878,  33.6697,2,-999.0000,9,    377.2,2,  -999.0,9, -999.00,9, -999.00,9,  -999.0,9,  -999.0,9, -999.00,9, -999.00,9,  -0.8888,     -999.0,     -999.0,9,     -999.0,     13.548,2,      0.074,2,     84.663,2
09AR20110104,       SR03,      85,          1,         20,         20,2,20110124,       0358,   -66.4385,   143.6330,        702,    39.3,  -0.8874,  33.6694,2,-999.0000,9,    377.2,2,  -999.0,9, -999.00,9, -999.00,9,  -999.0,9,  -999.0,9, -999.00,9, -999.00,9,  -0.8884,     -999.0,     -999.0,9,     -999.0,     13.755,2,      0.074,2,     84.602,2
09AR20110104,       SR03,      85,          1,         19,         19,2,20110124,       0358,   -66.4385,   143.6330,        702,    39.4,  -0.8870,  33.6706,2,-999.0000,9,    377.2,2,  -999.0,9, -999.00,9, -999.00,9,  -999.0,9,  -999.0,9, -999.00,9, -999.00,9,  -0.8880,     -999.0,     -999.0,9,     -999.0,     14.064,2,      0.075,2,     84.672,2
09AR20110104,       SR03,      85,          1,         18,         18,2,20110124,       0358,   -66.4385,   143.6330,        702,    39.7,  -0.8888,  33.6729,2,  33.6776,2,    377.2,2,   375.4,2,   40.10,2,    1.08,2,  -999.0,9,  -999.0,9, -999.00,9,   18.38,2,  -0.8898,     -999.0,     -999.0,9,     -999.0,     13.246,2,      0.073,2,     84.770,2
09AR20110104,       SR03,      85,          1,         17,         17,2,20110124,       0358,   -66.4385,   143.6330,        702,    39.8,  -0.8884,  33.6732,2,-999.0000,9,    377.2,2,  -999.0,9, -999.00,9, -999.00,9,  -999.0,9,  -999.0,9, -999.00,9, -999.00,9,  -0.8894,     -999.0,     -999.0,9,     -999.0,     14.347,2,      0.063,2,     84.766,2
09AR20110104,       SR03,      85,          1,         16,         16,2,20110124,       0358,   -66.4385,   143.6330,        702,    99.2,  -1.6419,  34.2953,2,  34.2942,2,    321.7,2,   320.4,2,   68.90,2,    2.01,2,  -999.0,9,  -999.0,9, -999.00,9,   28.40,2,  -1.6440,     -999.0,     -999.0,9,     -999.0,      2.097,2,      0.000,2,     96.190,2
09AR20110104,       SR03,      85,          1,         15,         15,2,20110124,       0358,   -66.4385,   143.6330,        702,    98.8,  -1.6263,  34.2911,2,-999.0000,9,    323.2,2,  -999.0,9, -999.00,9, -999.00,9,  -999.0,9,  -999.0,9, -999.00,9, -999.00,9,  -1.6284,     -999.0,     -999.0,9,     -999.0,      2.426,2,      0.000,2,     96.010,2
09AR20110104,       SR03,      85,          1,         14,         14,2,20110124,       0358,   -66.4385,   143.6330,        702,   299.7,  -1.8242,  34.4986,2,  34.4977,2,    302.0,2,   303.0,2,   75.10,2,    2.05,2,  -999.0,9,  -999.0,9, -999.00,9,   30.16,2,  -1.8308,     -999.0,     -999.0,9,     -999.0,      0.003,2,      0.000,2,     99.463,2
09AR20110104,       SR03,      85,          1,         13,         13,2,20110124,       0358,   -66.4385,   143.6330,        702,   299.4,  -1.8251,  34.4989,2,-999.0000,9,    302.0,2,  -999.0,9, -999.00,9, -999.00,9,  -999.0,9,  -999.0,9, -999.00,9, -999.00,9,  -1.8317,     -999.0,     -999.0,9,     -999.0,      0.020,2,      0.000,2,     99.412,2
09AR20110104,       SR03,      85,          1,         12,         12,2,20110124,       0358,   -66.4385,   143.6330,        702,   400.4,  -1.9746,  34.5519,2,-999.0000,9,    305.9,2,  -999.0,9, -999.00,9, -999.00,9,  -999.0,9,  -999.0,9, -999.00,9, -999.00,9,  -1.9833,     -999.0,     -999.0,9,     -999.0,     -0.020,2,      0.000,2,     99.416,2
09AR20110104,       SR03,      85,          1,         11,         11,2,20110124,       0358,   -66.4385,   143.6330,        702,   399.6,  -1.9731,  34.5519,2,-999.0000,9,    305.9,2,  -999.0,9, -999.00,9, -999.00,9,  -999.0,9,  -999.0,9, -999.00,9, -999.00,9,  -1.9818,     -999.0,     -999.0,9,     -999.0,     -0.028,2,      0.000,2,     99.413,2
09AR20110104,       SR03,      85,          1,         10,         10,2,20110124,       0358,   -66.4385,   143.6330,        702,   499.6,  -1.9474,  34.5851,2,  34.5826,2,    307.5,2,   307.9,2,   75.10,2,    2.06,2,  -999.0,9,  -999.0,9, -999.00,9,   30.28,2,  -1.9589,     -999.0,     -999.0,9,     -999.0,     -0.016,2,      0.000,2,     99.394,2
09AR20110104,       SR03,      85,          1,          9,          9,2,20110124,       0358,   -66.4385,   143.6330,        702,   499.5,  -1.9499,  34.5840,2,-999.0000,9,    307.5,2,  -999.0,9, -999.00,9, -999.00,9,  -999.0,9,  -999.0,9, -999.00,9, -999.00,9,  -1.9614,     -999.0,     -999.0,9,     -999.0,     -0.016,2,      0.000,2,     99.443,2
09AR20110104,       SR03,      85,          1,          8,          8,2,20110124,       0358,   -66.4385,   143.6330,        702,   600.9,  -1.9264,  34.6135,2,  34.6123,2,    307.8,2,   308.3,2,   75.40,2,    2.07,2,  -999.0,9,  -999.0,9, -999.00,9,   30.34,2,  -1.9410,     -999.0,     -999.0,9,     -999.0,     -0.012,2,      0.000,2,     99.372,2
09AR20110104,       SR03,      85,          1,          7,          7,2,20110124,       0358,   -66.4385,   143.6330,        702,   600.8,  -1.9274,  34.6132,2,-999.0000,9,    307.8,2,  -999.0,9, -999.00,9, -999.00,9,  -999.0,9,  -999.0,9, -999.00,9, -999.00,9,  -1.9420,     -999.0,     -999.0,9,     -999.0,     -0.015,2,      0.000,2,     99.385,2
09AR20110104,       SR03,      85,          1,          6,          6,2,20110124,       0358,   -66.4385,   143.6330,        702,   600.6,  -1.9283,  34.6130,2,-999.0000,9,    307.8,2,  -999.0,9, -999.00,9, -999.00,9,  -999.0,9,  -999.0,9, -999.00,9, -999.00,9,  -1.9429,     -999.0,     -999.0,9,     -999.0,     -0.022,2,      0.000,2,     99.367,2
09AR20110104,       SR03,      85,          1,          5,          5,2,20110124,       0358,   -66.4385,   143.6330,        702,   600.4,  -1.9297,  34.6129,2,-999.0000,9,    307.8,2,  -999.0,9, -999.00,9, -999.00,9,  -999.0,9,  -999.0,9, -999.00,9, -999.00,9,  -1.9443,     -999.0,     -999.0,9,     -999.0,     -0.014,2,      0.000,2,     99.375,2
09AR20110104,       SR03,      85,          1,          4,          4,2,20110124,       0358,   -66.4385,   143.6330,        702,   683.7,  -1.8934,  34.6348,2,-999.0000,9,    307.2,2,  -999.0,9, -999.00,9, -999.00,9,  -999.0,9,  -999.0,9, -999.00,9, -999.00,9,  -1.9108,     -999.0,     -999.0,9,     -999.0,     -0.006,2,      0.000,2,     98.902,2
09AR20110104,       SR03,      85,          1,          3,          3,2,20110124,       0358,   -66.4385,   143.6330,        702,   707.1,  -1.8909,  34.6361,2,-999.0000,9,    307.4,2,  -999.0,9, -999.00,9, -999.00,9,  -999.0,9,  -999.0,9, -999.00,9, -999.00,9,  -1.9090,     -999.0,     -999.0,9,     -999.0,      0.005,2,      0.000,2,     98.792,2
09AR20110104,       SR03,      85,          1,          2,        102,2,20110124,       0358,   -66.4385,   143.6330,        702,   702.0,  -1.8915,  34.6363,2,  34.6339,2,    307.3,2,   306.6,2,   77.40,2,    2.09,2,  -999.0,9,  -999.0,9, -999.00,9,   30.49,2,  -1.9095,     -999.0,     -999.0,9,     -999.0,     -0.006,2,      0.000,2,     98.797,2
09AR20110104,       SR03,      85,          1,          1,          1,2,20110124,       0358,   -66.4385,   143.6330,        702,   701.8,  -1.8918,  34.6358,2,-999.0000,9,    307.3,2,  -999.0,9, -999.00,9, -999.00,9,  -999.0,9,  -999.0,9, -999.00,9, -999.00,9,  -1.9098,     -999.0,     -999.0,9,     -999.0,      0.020,2,      0.000,2,     98.814,2