BOTTLE,20230419CCHSIOENA
EXPOCODE,SECT_ID,STNNBR,CASTNO,SAMPNO,BTLNBR,BTLNBR_FLAG_W,DATE,TIME,LATITUDE,LONGITUDE,DEPTH,CTDPRS,CTDTMP,CTDSAL,CTDSAL_FLAG_W,SALNTY,SALNTY_FLAG_W,CTDOXY,CTDOXY_FLAG_W,OXYGEN,OXYGEN_FLAG_W,SILCAT,SILCAT_FLAG_W,PHSPHT,PHSPHT_FLAG_W,TCARBN,TCARBN_FLAG_W,ALKALI,ALKALI_FLAG_W,DELO18,DELO18_FLAG_W,NO2+NO3,NO2+NO3_FLAG_W,THETA,O18ERR,DELD,DELD_FLAG_W,DELDERR,CTDFLUOR,CTDFLUOR_FLAG_W,PAR,PAR_FLAG_W,CTDXMISS,CTDXMISS_FLAG_W
,,,,,,,,,,,METERS,DBAR,ITS-90,PSS-78,,PSS-78,,UMOL/KG,,UMOL/KG,,UMOL/KG,,UMOL/KG,,UMOL/KG,,UMOL/KG,,/MILLE,,UMOL/KG,,DEG C,/MILLE,/MILLE,,/MILLE,MG/M^3,,UMOL/M^2/SEC,,%TRANS,
09AR20110104,       SR03,      76,          1,         24,         24,2,20110122,       0231,   -66.1535,   142.9280,        548,     9.9,  -0.8719,  33.5105,2,  33.5110,2,    369.3,2,   369.9,2,   41.60,2,    1.09,2,  2116.1,6,  2275.1,6, -999.00,9,   19.91,2,  -0.8722,     -999.0,     -999.0,9,     -999.0,      4.862,2,     56.569,2,     86.313,2
09AR20110104,       SR03,      76,          1,         23,         23,2,20110122,       0231,   -66.1535,   142.9280,        548,     9.9,  -0.8720,  33.5105,2,-999.0000,9,    369.3,2,  -999.0,9, -999.00,9, -999.00,9,  -999.0,9,  -999.0,9, -999.00,9, -999.00,9,  -0.8723,     -999.0,     -999.0,9,     -999.0,      4.581,2,     58.199,2,     86.302,2
09AR20110104,       SR03,      76,          1,         22,         22,2,20110122,       0231,   -66.1535,   142.9280,        548,     9.9,  -0.8723,  33.5103,2,-999.0000,9,    369.3,2,  -999.0,9, -999.00,9, -999.00,9,  -999.0,9,  -999.0,9, -999.00,9, -999.00,9,  -0.8726,     -999.0,     -999.0,9,     -999.0,      4.872,2,     59.629,2,     86.352,2
09AR20110104,       SR03,      76,          1,         21,         21,2,20110122,       0231,   -66.1535,   142.9280,        548,     9.9,  -0.8742,  33.5105,2,-999.0000,9,    369.3,2,  -999.0,9, -999.00,9, -999.00,9,  -999.0,9,  -999.0,9, -999.00,9, -999.00,9,  -0.8745,     -999.0,     -999.0,9,     -999.0,      5.065,2,     60.309,2,     86.446,2
09AR20110104,       SR03,      76,          1,         20,         20,2,20110122,       0231,   -66.1535,   142.9280,        548,     9.9,  -0.8761,  33.5105,2,-999.0000,9,    369.3,2,  -999.0,9, -999.00,9, -999.00,9,  -999.0,9,  -999.0,9, -999.00,9, -999.00,9,  -0.8764,     -999.0,     -999.0,9,     -999.0,      5.371,2,     60.719,2,     86.302,2
09AR20110104,       SR03,      76,          1,         19,         19,2,20110122,       0231,   -66.1535,   142.9280,        548,     9.9,  -0.8745,  33.5104,2,-999.0000,9,    369.3,2,  -999.0,9, -999.00,9, -999.00,9,  -999.0,9,  -999.0,9, -999.00,9, -999.00,9,  -0.8748,     -999.0,     -999.0,9,     -999.0,      5.475,2,     62.009,2,     86.303,2
09AR20110104,       SR03,      76,          1,         18,         18,2,20110122,       0231,   -66.1535,   142.9280,        548,    49.2,  -0.8987,  33.5372,2,  33.5560,2,    368.7,2,   368.7,2,   43.20,2,    1.11,2,  2119.5,2,  2276.5,2, -999.00,9,   20.26,2,  -0.9000,     -999.0,     -999.0,9,     -999.0,     10.723,2,      0.137,2,     86.141,2
09AR20110104,       SR03,      76,          1,         17,         17,2,20110122,       0231,   -66.1535,   142.9280,        548,    49.2,  -0.8985,  33.5383,2,-999.0000,9,    368.7,2,  -999.0,9, -999.00,9, -999.00,9,  -999.0,9,  -999.0,9, -999.00,9, -999.00,9,  -0.8998,     -999.0,     -999.0,9,     -999.0,     11.538,2,      0.139,2,     86.184,2
09AR20110104,       SR03,      76,          1,         16,         16,2,20110122,       0231,   -66.1535,   142.9280,        548,   119.7,  -1.7159,  34.3456,2,  34.3499,2,    314.2,2,   313.4,2,   72.00,2,    2.02,2,  2220.1,2,  2324.7,6, -999.00,9,   29.65,2,  -1.7184,     -999.0,     -999.0,9,     -999.0,      1.048,2,      0.000,2,     97.068,2
09AR20110104,       SR03,      76,          1,         15,         15,2,20110122,       0231,   -66.1535,   142.9280,        548,   119.6,  -1.7151,  34.3445,2,-999.0000,9,    314.2,2,  -999.0,9, -999.00,9, -999.00,9,  -999.0,9,  -999.0,9, -999.00,9, -999.00,9,  -1.7176,     -999.0,     -999.0,9,     -999.0,      0.981,2,      0.000,2,     97.492,2
09AR20110104,       SR03,      76,          1,         14,         14,2,20110122,       0231,   -66.1535,   142.9280,        548,   224.1,  -1.6526,  34.4405,2,  34.4394,2,    308.3,2,   309.1,2,   74.60,2,    2.02,2,  2226.9,2,  2330.1,2, -999.00,9,   29.62,2,  -1.6577,     -999.0,     -999.0,9,     -999.0,      0.709,2,      0.000,2,     98.277,2
09AR20110104,       SR03,      76,          1,         13,         13,2,20110122,       0231,   -66.1535,   142.9280,        548,   224.1,  -1.6506,  34.4408,2,-999.0000,9,    308.3,2,  -999.0,9, -999.00,9, -999.00,9,  -999.0,9,  -999.0,9, -999.00,9, -999.00,9,  -1.6557,     -999.0,     -999.0,9,     -999.0,      0.461,2,      0.000,2,     98.273,2
09AR20110104,       SR03,      76,          1,         12,         12,2,20110122,       0231,   -66.1535,   142.9280,        548,   349.9,  -1.8237,  34.5089,2,  34.5076,2,    308.9,2,   310.7,2,   75.20,2,    2.03,2,  2234.4,2,  2334.5,2, -999.00,9,   29.98,2,  -1.8316,     -999.0,     -999.0,9,     -999.0,      0.140,2,      0.000,2,     98.685,2
09AR20110104,       SR03,      76,          1,         11,         11,2,20110122,       0231,   -66.1535,   142.9280,        548,   349.9,  -1.8235,  34.5086,2,-999.0000,9,    308.9,2,  -999.0,9, -999.00,9, -999.00,9,  -999.0,9,  -999.0,9, -999.00,9, -999.00,9,  -1.8314,     -999.0,     -999.0,9,     -999.0,      0.160,2,      0.000,2,     98.677,2
09AR20110104,       SR03,      76,          1,         10,         10,2,20110122,       0231,   -66.1535,   142.9280,        548,   424.3,  -1.8351,  34.5194,2,  34.5170,2,    309.6,2,   310.6,2,   75.60,2,    2.04,2,  2233.3,2,  2336.0,2, -999.00,9,   30.08,2,  -1.8449,     -999.0,     -999.0,9,     -999.0,      0.205,2,      0.000,2,     98.735,2
09AR20110104,       SR03,      76,          1,          9,          9,2,20110122,       0231,   -66.1535,   142.9280,        548,   424.1,  -1.8347,  34.5190,2,-999.0000,9,    309.6,2,  -999.0,9, -999.00,9, -999.00,9,  -999.0,9,  -999.0,9, -999.00,9, -999.00,9,  -1.8445,     -999.0,     -999.0,9,     -999.0,      0.169,2,      0.000,2,     98.748,2
09AR20110104,       SR03,      76,          1,          8,          8,2,20110122,       0231,   -66.1535,   142.9280,        548,   498.9,  -1.8552,  34.5348,2,  34.5366,2,    308.9,2,   309.1,2,   76.20,2,    2.05,2,  2235.8,2,  2334.3,2, -999.00,9,   30.11,2,  -1.8670,     -999.0,     -999.0,9,     -999.0,      0.103,2,      0.000,2,     98.728,2
09AR20110104,       SR03,      76,          1,          7,          7,2,20110122,       0231,   -66.1535,   142.9280,        548,   498.8,  -1.8554,  34.5349,2,-999.0000,9,    308.9,2,  -999.0,9, -999.00,9, -999.00,9,  -999.0,9,  -999.0,9, -999.00,9, -999.00,9,  -1.8672,     -999.0,     -999.0,9,     -999.0,      0.088,2,      0.000,2,     98.724,2
09AR20110104,       SR03,      76,          1,          6,          6,2,20110122,       0231,   -66.1535,   142.9280,        548,   498.9,  -1.8557,  34.5352,2,-999.0000,9,    308.9,2,  -999.0,9, -999.00,9, -999.00,9,  -999.0,9,  -999.0,9, -999.00,9, -999.00,9,  -1.8675,     -999.0,     -999.0,9,     -999.0,      0.126,2,      0.000,2,     98.718,2
09AR20110104,       SR03,      76,          1,          5,          5,2,20110122,       0231,   -66.1535,   142.9280,        548,   499.1,  -1.8558,  34.5352,2,-999.0000,9,    309.0,2,  -999.0,9, -999.00,9, -999.00,9,  -999.0,9,  -999.0,9, -999.00,9, -999.00,9,  -1.8676,     -999.0,     -999.0,9,     -999.0,      0.086,2,      0.000,2,     98.722,2
09AR20110104,       SR03,      76,          1,          4,          4,2,20110122,       0231,   -66.1535,   142.9280,        548,   548.4,  -1.8757,  34.5603,2,-999.0000,9,    308.9,2,  -999.0,9, -999.00,9, -999.00,9,  -999.0,9,  -999.0,9, -999.00,9, -999.00,9,  -1.8889,     -999.0,     -999.0,9,     -999.0,      0.056,2,      0.000,2,     97.127,2
09AR20110104,       SR03,      76,          1,          3,          3,2,20110122,       0231,   -66.1535,   142.9280,        548,   548.4,  -1.8763,  34.5613,2,-999.0000,9,    308.9,2,  -999.0,9, -999.00,9, -999.00,9,  -999.0,9,  -999.0,9, -999.00,9, -999.00,9,  -1.8895,     -999.0,     -999.0,9,     -999.0,      0.037,2,      0.000,2,     97.069,2
09AR20110104,       SR03,      76,          1,          2,        102,2,20110122,       0231,   -66.1535,   142.9280,        548,   545.5,  -1.8756,  34.5601,2,  34.5592,2,    309.0,2,   308.4,2,   76.60,2,    2.05,2,  -999.0,9,  -999.0,9, -999.00,9,   30.34,2,  -1.8887,     -999.0,     -999.0,9,     -999.0,      0.060,2,      0.000,2,     97.073,2
09AR20110104,       SR03,      76,          1,          1,          1,2,20110122,       0231,   -66.1535,   142.9280,        548,   545.5,  -1.8762,  34.5611,2,-999.0000,9,    309.0,2,  -999.0,9, -999.00,9, -999.00,9,  -999.0,9,  -999.0,9, -999.00,9, -999.00,9,  -1.8893,     -999.0,     -999.0,9,     -999.0,      0.074,2,      0.000,2,     97.044,2
09AR20110104,       SR03,      77,          1,         24,         24,2,20110122,       0427,   -66.1823,   142.7350,        401,     9.7,  -0.9485,  33.5769,2,  33.5776,2,    369.0,2,   364.8,2,   44.60,2,    1.16,2,  2121.4,2,  2278.0,6, -999.00,9,   20.58,2,  -0.9487,     -999.0,     -999.0,9,     -999.0,      3.746,2,     94.619,2,     87.638,2
09AR20110104,       SR03,      77,          1,         23,         23,2,20110122,       0427,   -66.1823,   142.7350,        401,     9.7,  -0.9473,  33.5757,2,-999.0000,9,    369.0,2,  -999.0,9, -999.00,9, -999.00,9,  -999.0,9,  -999.0,9, -999.00,9, -999.00,9,  -0.9475,     -999.0,     -999.0,9,     -999.0,      3.868,2,     90.159,2,     87.494,2
09AR20110104,       SR03,      77,          1,         22,         22,2,20110122,       0427,   -66.1823,   142.7350,        401,     9.7,  -0.9564,  33.5844,2,-999.0000,9,    369.0,2,  -999.0,9, -999.00,9, -999.00,9,  -999.0,9,  -999.0,9, -999.00,9, -999.00,9,  -0.9566,     -999.0,     -999.0,9,     -999.0,      3.996,2,     88.929,2,     87.663,2
09AR20110104,       SR03,      77,          1,         21,         21,2,20110122,       0427,   -66.1823,   142.7350,        401,     9.6,  -0.9656,  33.5937,2,-999.0000,9,    369.0,2,  -999.0,9, -999.00,9, -999.00,9,  -999.0,9,  -999.0,9, -999.00,9, -999.00,9,  -0.9658,     -999.0,     -999.0,9,     -999.0,      4.204,2,     90.809,2,     87.738,2
09AR20110104,       SR03,      77,          1,         20,         20,2,20110122,       0427,   -66.1823,   142.7350,        401,     9.6,  -0.9641,  33.5918,2,-999.0000,9,    369.0,2,  -999.0,9, -999.00,9, -999.00,9,  -999.0,9,  -999.0,9, -999.00,9, -999.00,9,  -0.9643,     -999.0,     -999.0,9,     -999.0,      3.661,2,     94.699,2,     87.657,2
09AR20110104,       SR03,      77,          1,         19,         19,2,20110122,       0427,   -66.1823,   142.7350,        401,     9.6,  -0.9710,  33.5994,2,-999.0000,9,    369.0,2,  -999.0,9, -999.00,9, -999.00,9,  -999.0,9,  -999.0,9, -999.00,9, -999.00,9,  -0.9712,     -999.0,     -999.0,9,     -999.0,      3.911,2,    114.039,2,     87.626,2
09AR20110104,       SR03,      77,          1,         18,         18,2,20110122,       0427,   -66.1823,   142.7350,        401,    61.0,  -1.0887,  33.7870,2,  33.7963,2,    360.2,2,   353.6,2,   52.20,2,    1.37,2,  2152.8,2,  2290.8,2, -999.00,9,   22.88,2,  -1.0902,     -999.0,     -999.0,9,     -999.0,      6.782,2,      0.076,2,     90.030,2
09AR20110104,       SR03,      77,          1,         17,         17,2,20110122,       0427,   -66.1823,   142.7350,        401,    60.4,  -1.0960,  33.7973,2,-999.0000,9,    360.2,2,  -999.0,9, -999.00,9, -999.00,9,  -999.0,9,  -999.0,9, -999.00,9, -999.00,9,  -1.0975,     -999.0,     -999.0,9,     -999.0,      6.460,2,      0.092,2,     90.122,2
09AR20110104,       SR03,      77,          1,         16,         16,2,20110122,       0427,   -66.1823,   142.7350,        401,   100.3,  -1.4073,  34.1652,2,  34.1744,2,    322.5,2,   332.2,2,   64.30,2,    1.72,2,  2198.9,2,  2312.7,6, -999.00,9,   26.73,2,  -1.4096,     -999.0,     -999.0,9,     -999.0,      3.221,2,      0.000,2,     94.095,2
09AR20110104,       SR03,      77,          1,         15,         15,2,20110122,       0427,   -66.1823,   142.7350,        401,   100.2,  -1.3986,  34.1538,2,-999.0000,9,    322.5,2,  -999.0,9, -999.00,9, -999.00,9,  -999.0,9,  -999.0,9, -999.00,9, -999.00,9,  -1.4009,     -999.0,     -999.0,9,     -999.0,      3.377,2,      0.000,2,     93.952,2
09AR20110104,       SR03,      77,          1,         14,         14,2,20110122,       0427,   -66.1823,   142.7350,        401,   151.1,  -1.5862,  34.3123,2,  34.3227,2,    316.2,2,   322.3,2,   69.50,2,    1.87,2,  2217.9,2,  2323.9,2, -999.00,9,   28.46,2,  -1.5896,     -999.0,     -999.0,9,     -999.0,      1.848,2,      0.000,2,     96.007,2
09AR20110104,       SR03,      77,          1,         13,         13,2,20110122,       0427,   -66.1823,   142.7350,        401,   150.5,  -1.5920,  34.3169,2,-999.0000,9,    316.3,2,  -999.0,9, -999.00,9, -999.00,9,  -999.0,9,  -999.0,9, -999.00,9, -999.00,9,  -1.5953,     -999.0,     -999.0,9,     -999.0,      1.704,2,      0.000,2,     96.050,2
09AR20110104,       SR03,      77,          1,         12,         12,2,20110122,       0427,   -66.1823,   142.7350,        401,   201.0,  -1.7591,  34.4557,2,  34.4546,2,    313.5,2,   313.4,2,   73.80,2,    1.98,2,  -999.0,9,  -999.0,9, -999.00,9,   29.77,2,  -1.7634,     -999.0,     -999.0,9,     -999.0,      0.561,2,      0.000,2,     97.925,2
09AR20110104,       SR03,      77,          1,         11,         11,2,20110122,       0427,   -66.1823,   142.7350,        401,   200.1,  -1.7576,  34.4546,2,-999.0000,9,    313.5,2,  -999.0,9, -999.00,9, -999.00,9,  -999.0,9,  -999.0,9, -999.00,9, -999.00,9,  -1.7619,     -999.0,     -999.0,9,     -999.0,      0.553,2,      0.000,2,     97.930,2
09AR20110104,       SR03,      77,          1,         10,         10,2,20110122,       0427,   -66.1823,   142.7350,        401,   250.5,  -1.8242,  34.5042,2,  34.5031,2,    311.5,2,   310.9,2,   74.70,2,    2.01,2,  2230.4,2,  2333.2,2, -999.00,9,   30.20,2,  -1.8296,     -999.0,     -999.0,9,     -999.0,      0.262,2,      0.000,2,     98.468,2
09AR20110104,       SR03,      77,          1,          9,          9,2,20110122,       0427,   -66.1823,   142.7350,        401,   249.9,  -1.8275,  34.5065,2,-999.0000,9,    311.5,2,  -999.0,9, -999.00,9, -999.00,9,  -999.0,9,  -999.0,9, -999.00,9, -999.00,9,  -1.8329,     -999.0,     -999.0,9,     -999.0,      0.226,2,      0.000,2,     98.506,2
09AR20110104,       SR03,      77,          1,          8,          8,2,20110122,       0427,   -66.1823,   142.7350,        401,   348.8,  -1.8757,  34.5439,2,  34.5425,2,    309.0,2,   308.7,2,   75.20,2,    2.06,2,  2239.2,2,  2336.1,2, -999.00,9,   30.49,2,  -1.8834,     -999.0,     -999.0,9,     -999.0,      0.088,2,      0.000,2,     98.611,2
09AR20110104,       SR03,      77,          1,          7,          7,2,20110122,       0427,   -66.1823,   142.7350,        401,   349.0,  -1.8753,  34.5437,2,-999.0000,9,    309.0,2,  -999.0,9, -999.00,9, -999.00,9,  -999.0,9,  -999.0,9, -999.00,9, -999.00,9,  -1.8830,     -999.0,     -999.0,9,     -999.0,      0.067,2,      0.000,2,     98.613,2
09AR20110104,       SR03,      77,          1,          6,          6,2,20110122,       0427,   -66.1823,   142.7350,        401,   349.2,  -1.8748,  34.5433,2,-999.0000,9,    309.0,2,  -999.0,9, -999.00,9, -999.00,9,  -999.0,9,  -999.0,9, -999.00,9, -999.00,9,  -1.8825,     -999.0,     -999.0,9,     -999.0,      0.056,2,      0.000,2,     98.611,2
09AR20110104,       SR03,      77,          1,          5,          5,2,20110122,       0427,   -66.1823,   142.7350,        401,   349.3,  -1.8741,  34.5428,2,-999.0000,9,    309.0,2,  -999.0,9, -999.00,9, -999.00,9,  -999.0,9,  -999.0,9, -999.00,9, -999.00,9,  -1.8818,     -999.0,     -999.0,9,     -999.0,      0.075,2,      0.000,2,     98.596,2
09AR20110104,       SR03,      77,          1,          4,          4,2,20110122,       0427,   -66.1823,   142.7350,        401,   401.8,  -1.8832,  34.5532,2,-999.0000,9,    308.8,2,  -999.0,9, -999.00,9, -999.00,9,  -999.0,9,  -999.0,9, -999.00,9, -999.00,9,  -1.8923,     -999.0,     -999.0,9,     -999.0,      0.071,2,      0.000,2,     98.485,2
09AR20110104,       SR03,      77,          1,          3,          3,2,20110122,       0427,   -66.1823,   142.7350,        401,   400.9,  -1.8831,  34.5530,2,-999.0000,9,    308.8,2,  -999.0,9, -999.00,9, -999.00,9,  -999.0,9,  -999.0,9, -999.00,9, -999.00,9,  -1.8922,     -999.0,     -999.0,9,     -999.0,      0.073,2,      0.000,2,     98.407,2
09AR20110104,       SR03,      77,          1,          2,        102,2,20110122,       0427,   -66.1823,   142.7350,        401,   390.8,  -1.8808,  34.5495,2,  34.5480,2,    308.8,2,   308.4,2,   76.00,2,    2.07,2,  -999.0,9,  -999.0,9, -999.00,9,   30.70,2,  -1.8896,     -999.0,     -999.0,9,     -999.0,      0.088,2,      0.000,2,     98.633,2
09AR20110104,       SR03,      77,          1,          1,          1,2,20110122,       0427,   -66.1823,   142.7350,        401,   390.6,  -1.8807,  34.5492,2,-999.0000,9,    308.8,2,  -999.0,9, -999.00,9, -999.00,9,  -999.0,9,  -999.0,9, -999.00,9, -999.00,9,  -1.8895,     -999.0,     -999.0,9,     -999.0,      0.058,2,      0.000,2,     98.615,2