BOTTLE,20230419CCHSIOENA
EXPOCODE,SECT_ID,STNNBR,CASTNO,SAMPNO,BTLNBR,BTLNBR_FLAG_W,DATE,TIME,LATITUDE,LONGITUDE,DEPTH,CTDPRS,CTDTMP,CTDSAL,CTDSAL_FLAG_W,SALNTY,SALNTY_FLAG_W,CTDOXY,CTDOXY_FLAG_W,OXYGEN,OXYGEN_FLAG_W,SILCAT,SILCAT_FLAG_W,PHSPHT,PHSPHT_FLAG_W,TCARBN,TCARBN_FLAG_W,ALKALI,ALKALI_FLAG_W,DELO18,DELO18_FLAG_W,NO2+NO3,NO2+NO3_FLAG_W,THETA,O18ERR,DELD,DELD_FLAG_W,DELDERR,CTDFLUOR,CTDFLUOR_FLAG_W,PAR,PAR_FLAG_W,CTDXMISS,CTDXMISS_FLAG_W
,,,,,,,,,,,METERS,DBAR,ITS-90,PSS-78,,PSS-78,,UMOL/KG,,UMOL/KG,,UMOL/KG,,UMOL/KG,,UMOL/KG,,UMOL/KG,,/MILLE,,UMOL/KG,,DEG C,/MILLE,/MILLE,,/MILLE,MG/M^3,,UMOL/M^2/SEC,,%TRANS,
09AR20110104,       SR03,      72,          1,         24,         24,2,20110121,       1318,   -66.1693,   143.7870,        457,     9.9,  -0.6935,  33.4522,2,  33.4555,2,    371.7,2,   372.7,2,   42.20,2,    1.09,2,  -999.0,9,  2271.4,2, -999.00,9,   19.87,2,  -0.6938,     -999.0,     -999.0,9,     -999.0,      8.745,2,      0.000,2,     86.276,2
09AR20110104,       SR03,      72,          1,         23,         23,2,20110121,       1318,   -66.1693,   143.7870,        457,     9.9,  -0.6946,  33.4541,2,-999.0000,9,    371.7,2,  -999.0,9, -999.00,9, -999.00,9,  -999.0,9,  -999.0,9, -999.00,9, -999.00,9,  -0.6949,     -999.0,     -999.0,9,     -999.0,      8.767,2,      0.000,2,     86.240,2
09AR20110104,       SR03,      72,          1,         22,         22,2,20110121,       1318,   -66.1693,   143.7870,        457,     9.8,  -0.6956,  33.4558,2,-999.0000,9,    371.7,2,  -999.0,9, -999.00,9, -999.00,9,  -999.0,9,  -999.0,9, -999.00,9, -999.00,9,  -0.6959,     -999.0,     -999.0,9,     -999.0,      8.586,2,      0.000,2,     86.352,2
09AR20110104,       SR03,      72,          1,         21,         21,2,20110121,       1318,   -66.1693,   143.7870,        457,     9.9,  -0.6968,  33.4580,2,-999.0000,9,    371.7,2,  -999.0,9, -999.00,9, -999.00,9,  -999.0,9,  -999.0,9, -999.00,9, -999.00,9,  -0.6971,     -999.0,     -999.0,9,     -999.0,      8.598,2,      0.000,2,     86.191,2
09AR20110104,       SR03,      72,          1,         20,         20,2,20110121,       1318,   -66.1693,   143.7870,        457,     9.9,  -0.6979,  33.4604,2,-999.0000,9,    371.7,2,  -999.0,9, -999.00,9, -999.00,9,  -999.0,9,  -999.0,9, -999.00,9, -999.00,9,  -0.6982,     -999.0,     -999.0,9,     -999.0,      8.390,2,      0.000,2,     86.196,2
09AR20110104,       SR03,      72,          1,         19,         19,2,20110121,       1318,   -66.1693,   143.7870,        457,    10.0,  -0.6981,  33.4612,2,-999.0000,9,    371.7,2,  -999.0,9, -999.00,9, -999.00,9,  -999.0,9,  -999.0,9, -999.00,9, -999.00,9,  -0.6984,     -999.0,     -999.0,9,     -999.0,      8.202,2,      0.000,2,     86.192,2
09AR20110104,       SR03,      72,          1,         18,         18,2,20110121,       1318,   -66.1693,   143.7870,        457,     9.9,  -0.6967,  33.4586,2,-999.0000,9,    371.7,2,  -999.0,9, -999.00,9, -999.00,9,  -999.0,9,  -999.0,9, -999.00,9, -999.00,9,  -0.6970,     -999.0,     -999.0,9,     -999.0,      8.587,2,      0.000,2,     86.183,2
09AR20110104,       SR03,      72,          1,         17,         17,2,20110121,       1318,   -66.1693,   143.7870,        457,     9.7,  -0.6964,  33.4577,2,-999.0000,9,    371.7,2,  -999.0,9, -999.00,9, -999.00,9,  -999.0,9,  -999.0,9, -999.00,9, -999.00,9,  -0.6967,     -999.0,     -999.0,9,     -999.0,      8.611,2,      0.000,2,     86.209,2
09AR20110104,       SR03,      72,          1,         16,         16,2,20110121,       1318,   -66.1693,   143.7870,        457,    51.5,  -1.4953,  34.2481,2,  34.2346,2,    328.7,2,   329.4,2,   65.70,2,    1.88,2,  -999.0,9,  2318.4,2, -999.00,9,   27.13,2,  -1.4964,     -999.0,     -999.0,9,     -999.0,      4.289,2,      0.000,2,     94.478,2
09AR20110104,       SR03,      72,          1,         15,         15,2,20110121,       1318,   -66.1693,   143.7870,        457,    51.0,  -1.4277,  34.2340,2,-999.0000,9,    328.7,2,  -999.0,9, -999.00,9, -999.00,9,  -999.0,9,  -999.0,9, -999.00,9, -999.00,9,  -1.4288,     -999.0,     -999.0,9,     -999.0,      4.537,2,      0.000,2,     93.745,2
09AR20110104,       SR03,      72,          1,         14,         14,2,20110121,       1318,   -66.1693,   143.7870,        457,   104.4,  -1.7072,  34.3720,2,  34.3702,2,    305.8,2,   307.4,2,   72.10,2,    2.02,2,  -999.0,9,  2324.1,2, -999.00,9,   29.83,2,  -1.7094,     -999.0,     -999.0,9,     -999.0,      1.369,2,      0.000,2,     97.417,2
09AR20110104,       SR03,      72,          1,         13,         13,2,20110121,       1318,   -66.1693,   143.7870,        457,   103.5,  -1.7084,  34.3718,2,-999.0000,9,    305.8,2,  -999.0,9, -999.00,9, -999.00,9,  -999.0,9,  -999.0,9, -999.00,9, -999.00,9,  -1.7106,     -999.0,     -999.0,9,     -999.0,      1.680,2,      0.000,2,     97.264,2
09AR20110104,       SR03,      72,          1,         12,         12,2,20110121,       1318,   -66.1693,   143.7870,        457,   197.7,  -1.3015,  34.4677,2,  34.4679,2,    287.5,2,   284.2,2,   77.40,2,    2.05,2,  -999.0,9,  2332.8,2, -999.00,9,   30.44,2,  -1.3065,     -999.0,     -999.0,9,     -999.0,      0.235,2,      0.000,2,     98.950,2
09AR20110104,       SR03,      72,          1,         11,         11,2,20110121,       1318,   -66.1693,   143.7870,        457,   198.4,  -1.3089,  34.4679,2,-999.0000,9,    287.5,2,  -999.0,9, -999.00,9, -999.00,9,  -999.0,9,  -999.0,9, -999.00,9, -999.00,9,  -1.3139,     -999.0,     -999.0,9,     -999.0,      0.179,2,      0.000,2,     98.967,2
09AR20110104,       SR03,      72,          1,         10,         10,2,20110121,       1318,   -66.1693,   143.7870,        457,   274.7,  -1.1321,  34.5327,2,  34.5347,2,    274.5,2,   276.9,2,   80.30,2,    2.08,2,  -999.0,9,  2333.7,2, -999.00,9,   30.58,2,  -1.1397,     -999.0,     -999.0,9,     -999.0,      0.038,2,      0.000,2,     99.155,2
09AR20110104,       SR03,      72,          1,          9,          9,2,20110121,       1318,   -66.1693,   143.7870,        457,   274.7,  -1.1372,  34.5329,2,-999.0000,9,    274.5,2,  -999.0,9, -999.00,9, -999.00,9,  -999.0,9,  -999.0,9, -999.00,9, -999.00,9,  -1.1448,     -999.0,     -999.0,9,     -999.0,      0.047,2,      0.000,2,     99.138,2
09AR20110104,       SR03,      72,          1,          8,          8,2,20110121,       1318,   -66.1693,   143.7870,        457,   351.8,  -1.8896,  34.5715,2,  34.5688,2,    304.8,2,   305.7,2,   75.30,2,    2.06,2,  -999.0,9,  2336.0,2, -999.00,9,   30.22,2,  -1.8974,     -999.0,     -999.0,9,     -999.0,     -0.020,2,      0.000,2,     99.228,2
09AR20110104,       SR03,      72,          1,          7,          7,2,20110121,       1318,   -66.1693,   143.7870,        457,   351.7,  -1.8913,  34.5710,2,-999.0000,9,    304.8,2,  -999.0,9, -999.00,9, -999.00,9,  -999.0,9,  -999.0,9, -999.00,9, -999.00,9,  -1.8991,     -999.0,     -999.0,9,     -999.0,     -0.007,2,      0.000,2,     99.274,2
09AR20110104,       SR03,      72,          1,          6,          6,2,20110121,       1318,   -66.1693,   143.7870,        457,   351.6,  -1.8959,  34.5708,2,-999.0000,9,    304.8,2,  -999.0,9, -999.00,9, -999.00,9,  -999.0,9,  -999.0,9, -999.00,9, -999.00,9,  -1.9036,     -999.0,     -999.0,9,     -999.0,      0.057,2,      0.000,2,     99.278,2
09AR20110104,       SR03,      72,          1,          5,          5,2,20110121,       1318,   -66.1693,   143.7870,        457,   351.5,  -1.8960,  34.5706,2,-999.0000,9,    304.8,2,  -999.0,9, -999.00,9, -999.00,9,  -999.0,9,  -999.0,9, -999.00,9, -999.00,9,  -1.9037,     -999.0,     -999.0,9,     -999.0,      0.010,2,      0.000,2,     99.270,2
09AR20110104,       SR03,      72,          1,          4,          4,2,20110121,       1318,   -66.1693,   143.7870,        457,   402.0,  -1.8467,  34.6093,2,  34.6077,2,    303.3,2,   303.3,2,   76.00,2,    2.06,2,  -999.0,9,  2341.1,2, -999.00,9,   30.30,2,  -1.8560,     -999.0,     -999.0,9,     -999.0,      0.003,2,      0.000,2,     99.097,2
09AR20110104,       SR03,      72,          1,          3,          3,2,20110121,       1318,   -66.1693,   143.7870,        457,   401.5,  -1.8451,  34.6092,2,-999.0000,9,    303.3,2,  -999.0,9, -999.00,9, -999.00,9,  -999.0,9,  -999.0,9, -999.00,9, -999.00,9,  -1.8543,     -999.0,     -999.0,9,     -999.0,      0.004,2,      0.000,2,     99.118,2
09AR20110104,       SR03,      72,          1,          2,        102,2,20110121,       1318,   -66.1693,   143.7870,        457,   454.0,  -1.8797,  34.6223,2,  34.6211,2,    306.8,2,   306.0,2,   76.50,2,    2.08,2,  -999.0,9,  -999.0,9, -999.00,9,   30.35,2,  -1.8903,     -999.0,     -999.0,9,     -999.0,     -0.002,2,      0.000,2,     98.901,2
09AR20110104,       SR03,      72,          1,          1,          1,2,20110121,       1318,   -66.1693,   143.7870,        457,   453.5,  -1.8798,  34.6229,2,-999.0000,9,    306.8,2,  -999.0,9, -999.00,9, -999.00,9,  -999.0,9,  -999.0,9, -999.00,9, -999.00,9,  -1.8903,     -999.0,     -999.0,9,     -999.0,      0.009,2,      0.000,2,     98.894,2
09AR20110104,       SR03,      73,          1,         24,         24,2,20110121,       1458,   -66.1717,   143.4840,        529,     9.2,  -0.7665,  33.4123,2,  33.4121,2,    370.8,2,   370.8,2,   40.70,2,    1.03,2,  2105.2,6,  2267.9,6, -999.00,9,   19.52,2,  -0.7667,     -999.0,     -999.0,9,     -999.0,     10.191,2,      0.000,2,     86.164,2
09AR20110104,       SR03,      73,          1,         23,         23,2,20110121,       1458,   -66.1717,   143.4840,        529,     9.2,  -0.7664,  33.4116,2,-999.0000,9,    370.8,2,  -999.0,9, -999.00,9, -999.00,9,  -999.0,9,  -999.0,9, -999.00,9, -999.00,9,  -0.7666,     -999.0,     -999.0,9,     -999.0,     10.179,2,      0.000,2,     86.164,2
09AR20110104,       SR03,      73,          1,         22,         22,2,20110121,       1458,   -66.1717,   143.4840,        529,     9.2,  -0.7653,  33.4113,2,-999.0000,9,    370.8,2,  -999.0,9, -999.00,9, -999.00,9,  -999.0,9,  -999.0,9, -999.00,9, -999.00,9,  -0.7655,     -999.0,     -999.0,9,     -999.0,     10.453,2,      0.000,2,     86.231,2
09AR20110104,       SR03,      73,          1,         21,         21,2,20110121,       1458,   -66.1717,   143.4840,        529,    76.4,  -1.6886,  34.3662,2,-999.0000,9,    315.2,2,  -999.0,9, -999.00,9, -999.00,9,  -999.0,9,  -999.0,9, -999.00,9, -999.00,9,  -1.6902,     -999.0,     -999.0,9,     -999.0,      2.318,2,      0.000,2,     97.599,2
09AR20110104,       SR03,      73,          1,         20,         20,2,20110121,       1458,   -66.1717,   143.4840,        529,    76.3,  -1.6933,  34.3626,2,  34.3503,2,    315.2,2,   313.8,2,   70.90,2,    2.01,2,  -999.0,9,  -999.0,9, -999.00,9,   29.13,2,  -1.6949,     -999.0,     -999.0,9,     -999.0,      1.200,2,      0.000,2,     97.522,2
09AR20110104,       SR03,      73,          1,         19,         19,2,20110121,       1458,   -66.1717,   143.4840,        529,    76.2,  -1.6964,  34.3563,2,-999.0000,9,    315.2,2,  -999.0,9, -999.00,9, -999.00,9,  -999.0,9,  -999.0,9, -999.00,9, -999.00,9,  -1.6980,     -999.0,     -999.0,9,     -999.0,      1.369,2,      0.000,2,     97.507,2
09AR20110104,       SR03,      73,          1,         18,         18,2,20110121,       1458,   -66.1717,   143.4840,        529,    76.1,  -1.6944,  34.3489,2,-999.0000,9,    315.2,2,  -999.0,9, -999.00,9, -999.00,9,  -999.0,9,  -999.0,9, -999.00,9, -999.00,9,  -1.6960,     -999.0,     -999.0,9,     -999.0,      1.249,2,      0.000,2,     97.325,2
09AR20110104,       SR03,      73,          1,         17,         17,2,20110121,       1458,   -66.1717,   143.4840,        529,    75.9,  -1.6901,  34.3432,2,-999.0000,9,    315.2,2,  -999.0,9, -999.00,9, -999.00,9,  -999.0,9,  -999.0,9, -999.00,9, -999.00,9,  -1.6917,     -999.0,     -999.0,9,     -999.0,      1.596,2,      0.000,2,     97.282,2
09AR20110104,       SR03,      73,          1,         16,         16,2,20110121,       1458,   -66.1717,   143.4840,        529,   149.9,  -1.6119,  34.4485,2,  34.4518,2,    298.8,2,   300.2,2,   74.50,2,    2.04,2,  2229.3,2,  2330.1,2, -999.00,9,   29.95,2,  -1.6152,     -999.0,     -999.0,9,     -999.0,      0.248,2,      0.000,2,     98.685,2
09AR20110104,       SR03,      73,          1,         15,         15,2,20110121,       1458,   -66.1717,   143.4840,        529,   149.9,  -1.6105,  34.4475,2,-999.0000,9,    298.8,2,  -999.0,9, -999.00,9, -999.00,9,  -999.0,9,  -999.0,9, -999.00,9, -999.00,9,  -1.6138,     -999.0,     -999.0,9,     -999.0,      0.316,2,      0.000,2,     98.687,2
09AR20110104,       SR03,      73,          1,         14,         14,2,20110121,       1458,   -66.1717,   143.4840,        529,   149.9,  -1.6091,  34.4476,2,-999.0000,9,    298.8,2,  -999.0,9, -999.00,9, -999.00,9,  -999.0,9,  -999.0,9, -999.00,9, -999.00,9,  -1.6124,     -999.0,     -999.0,9,     -999.0,      0.260,2,      0.000,2,     98.683,2
09AR20110104,       SR03,      73,          1,         13,         13,2,20110121,       1458,   -66.1717,   143.4840,        529,   149.9,  -1.6031,  34.4492,2,-999.0000,9,    298.8,2,  -999.0,9, -999.00,9, -999.00,9,  -999.0,9,  -999.0,9, -999.00,9, -999.00,9,  -1.6065,     -999.0,     -999.0,9,     -999.0,      0.308,2,      0.000,2,     98.727,2
09AR20110104,       SR03,      73,          1,         12,         12,2,20110121,       1458,   -66.1717,   143.4840,        529,   199.6,  -1.5555,  34.4766,2,  34.4793,2,    297.0,2,   295.7,2,   76.50,2,    2.05,2,  2232.0,2,  2331.0,2, -999.00,9,   30.09,2,  -1.5602,     -999.0,     -999.0,9,     -999.0,      0.156,2,      0.000,2,     98.810,2
09AR20110104,       SR03,      73,          1,         11,         11,2,20110121,       1458,   -66.1717,   143.4840,        529,   199.4,  -1.5574,  34.4766,2,-999.0000,9,    297.0,2,  -999.0,9, -999.00,9, -999.00,9,  -999.0,9,  -999.0,9, -999.00,9, -999.00,9,  -1.5620,     -999.0,     -999.0,9,     -999.0,      0.175,2,      0.000,2,     98.846,2
09AR20110104,       SR03,      73,          1,         10,         10,2,20110121,       1458,   -66.1717,   143.4840,        529,   301.1,  -1.8177,  34.5100,2,  34.5121,2,    304.3,2,   305.1,2,   75.10,2,    2.05,2,  2231.2,2,  2332.1,2, -999.00,9,   30.18,2,  -1.8244,     -999.0,     -999.0,9,     -999.0,      0.054,2,      0.000,2,     99.175,2
09AR20110104,       SR03,      73,          1,          9,          9,2,20110121,       1458,   -66.1717,   143.4840,        529,   300.5,  -1.8220,  34.5107,2,-999.0000,9,    304.2,2,  -999.0,9, -999.00,9, -999.00,9,  -999.0,9,  -999.0,9, -999.00,9, -999.00,9,  -1.8286,     -999.0,     -999.0,9,     -999.0,      0.096,2,      0.000,2,     99.168,2
09AR20110104,       SR03,      73,          1,          8,          8,2,20110121,       1458,   -66.1717,   143.4840,        529,   399.6,  -1.9204,  34.5545,2,  34.5561,2,    307.0,2,   307.5,2,   74.50,2,    2.04,2,  2234.2,2,  2335.2,2, -999.00,9,   30.31,2,  -1.9293,     -999.0,     -999.0,9,     -999.0,     -0.002,2,      0.000,2,     99.299,2
09AR20110104,       SR03,      73,          1,          7,          7,2,20110121,       1458,   -66.1717,   143.4840,        529,   399.4,  -1.9190,  34.5548,2,-999.0000,9,    307.0,2,  -999.0,9, -999.00,9, -999.00,9,  -999.0,9,  -999.0,9, -999.00,9, -999.00,9,  -1.9279,     -999.0,     -999.0,9,     -999.0,     -0.007,2,      0.000,2,     99.303,2
09AR20110104,       SR03,      73,          1,          6,          6,2,20110121,       1458,   -66.1717,   143.4840,        529,   399.4,  -1.9192,  34.5548,2,-999.0000,9,    307.0,2,  -999.0,9, -999.00,9, -999.00,9,  -999.0,9,  -999.0,9, -999.00,9, -999.00,9,  -1.9281,     -999.0,     -999.0,9,     -999.0,      0.006,2,      0.000,2,     99.306,2
09AR20110104,       SR03,      73,          1,          5,          5,2,20110121,       1458,   -66.1717,   143.4840,        529,   399.2,  -1.9173,  34.5550,2,-999.0000,9,    307.0,2,  -999.0,9, -999.00,9, -999.00,9,  -999.0,9,  -999.0,9, -999.00,9, -999.00,9,  -1.9262,     -999.0,     -999.0,9,     -999.0,      0.000,2,      0.000,2,     99.302,2
09AR20110104,       SR03,      73,          1,          4,          4,2,20110121,       1458,   -66.1717,   143.4840,        529,   502.0,  -1.8910,  34.6040,2,  34.6030,2,    307.4,2,   306.7,2,   75.50,2,    2.05,2,  2238.5,2,  2338.3,2, -999.00,9,   30.44,2,  -1.9028,     -999.0,     -999.0,9,     -999.0,     -0.010,2,      0.000,2,     99.020,2
09AR20110104,       SR03,      73,          1,          3,          3,2,20110121,       1458,   -66.1717,   143.4840,        529,   500.9,  -1.8912,  34.6037,2,-999.0000,9,    307.4,2,  -999.0,9, -999.00,9, -999.00,9,  -999.0,9,  -999.0,9, -999.00,9, -999.00,9,  -1.9030,     -999.0,     -999.0,9,     -999.0,     -0.030,2,      0.000,2,     99.025,2
09AR20110104,       SR03,      73,          1,          2,        102,2,20110121,       1458,   -66.1717,   143.4840,        529,   528.3,  -1.8898,  34.6061,2,  34.6020,2,    307.5,2,   306.8,2,   75.50,2,    2.06,2,  -999.0,9,  -999.0,9, -999.00,9,   30.49,2,  -1.9024,     -999.0,     -999.0,9,     -999.0,     -0.010,2,      0.000,2,     98.968,2
09AR20110104,       SR03,      73,          1,          1,          1,2,20110121,       1458,   -66.1717,   143.4840,        529,   529.5,  -1.8900,  34.6058,2,-999.0000,9,    307.6,2,  -999.0,9, -999.00,9, -999.00,9,  -999.0,9,  -999.0,9, -999.00,9, -999.00,9,  -1.9026,     -999.0,     -999.0,9,     -999.0,     -0.015,2,      0.000,2,     98.965,2