BOTTLE,20230419CCHSIOENA
EXPOCODE,SECT_ID,STNNBR,CASTNO,SAMPNO,BTLNBR,BTLNBR_FLAG_W,DATE,TIME,LATITUDE,LONGITUDE,DEPTH,CTDPRS,CTDTMP,CTDSAL,CTDSAL_FLAG_W,SALNTY,SALNTY_FLAG_W,CTDOXY,CTDOXY_FLAG_W,OXYGEN,OXYGEN_FLAG_W,SILCAT,SILCAT_FLAG_W,PHSPHT,PHSPHT_FLAG_W,TCARBN,TCARBN_FLAG_W,ALKALI,ALKALI_FLAG_W,DELO18,DELO18_FLAG_W,NO2+NO3,NO2+NO3_FLAG_W,THETA,O18ERR,DELD,DELD_FLAG_W,DELDERR,CTDFLUOR,CTDFLUOR_FLAG_W,PAR,PAR_FLAG_W,CTDXMISS,CTDXMISS_FLAG_W
,,,,,,,,,,,METERS,DBAR,ITS-90,PSS-78,,PSS-78,,UMOL/KG,,UMOL/KG,,UMOL/KG,,UMOL/KG,,UMOL/KG,,UMOL/KG,,/MILLE,,UMOL/KG,,DEG C,/MILLE,/MILLE,,/MILLE,MG/M^3,,UMOL/M^2/SEC,,%TRANS,
09AR20110104,       SR03,     146,          1,         24,         24,2,20110131,       0135,   -63.4948,   149.9980,       3702,    11.3,   2.1154,  33.9311,2,  33.9350,2,    344.6,2,   344.8,2,   14.00,2,    1.17,2,  2142.8,6,  2298.9,6,   -0.24,2,   22.46,2,   2.1148,       0.03,      -3.06,2,       0.08,      4.364,2,     40.009,2,     88.944,2
09AR20110104,       SR03,     146,          1,         23,         23,2,20110131,       0135,   -63.4948,   149.9980,       3702,    58.9,   0.2526,  34.0501,2,  34.0725,2,    327.9,2,   328.7,2,   41.30,2,    2.13,2,  2188.8,2,  2305.0,2,   -0.24,2,   27.32,2,   0.2504,       0.06,      -2.78,2,       0.02,      5.160,2,      0.036,2,     91.159,2
09AR20110104,       SR03,     146,          1,         22,         22,2,20110131,       0135,   -63.4948,   149.9980,       3702,   109.2,   1.6319,  34.5663,2,  34.5675,2,    186.9,2,   181.0,2,   77.60,2,    2.40,2,  2257.5,2,  2328.9,2,   -0.07,2,   34.55,2,   1.6265,       0.06,      -2.01,2,       0.18,      0.129,2,      0.000,2,     97.416,2
09AR20110104,       SR03,     146,          1,         21,         21,2,20110131,       0135,   -63.4948,   149.9980,       3702,   175.0,   1.9360,  34.6364,2,  34.6368,2,    174.8,2,   174.2,2,   81.30,2,    2.33,2,  2257.7,2,  2336.6,2,   -0.06,2,   33.83,2,   1.9267,       0.10,      -1.51,2,       0.04,      0.035,2,      0.000,2,     97.707,2
09AR20110104,       SR03,     146,          1,         20,         20,2,20110131,       0135,   -63.4948,   149.9980,       3702,   273.5,   1.9384,  34.6756,2,  34.6763,2,    178.0,2,   178.2,2,   82.80,2,    2.28,2,  2255.5,2,  2339.2,2,    0.10,2,   32.89,2,   1.9237,       0.01,      -1.12,2,       0.04,      0.011,2,      0.000,2,     98.313,2
09AR20110104,       SR03,     146,          1,         19,         19,2,20110131,       0135,   -63.4948,   149.9980,       3702,   375.1,   1.9152,  34.7028,2,  34.7032,2,    181.7,2,   182.0,2,   83.90,2,    2.22,2,  2255.6,2,  2343.2,2,   -0.10,2,   32.19,2,   1.8947,       0.04,      -1.59,2,       0.02,      0.004,2,      0.000,2,     98.495,2
09AR20110104,       SR03,     146,          1,         18,         18,2,20110131,       0135,   -63.4948,   149.9980,       3702,   475.1,   1.8792,  34.7178,2,  34.7192,2,    185.4,2,   185.4,2,   85.40,2,    2.19,2,  -999.0,9,  2345.0,6,   -0.01,2,   31.74,2,   1.8530,       0.03,      -0.97,2,       0.03,      0.003,2,      0.000,2,     98.559,2
09AR20110104,       SR03,     146,          1,         17,         17,2,20110131,       0135,   -63.4948,   149.9980,       3702,   575.9,   1.8381,  34.7307,2,  34.7315,2,    188.9,2,   188.6,2,   86.40,2,    2.17,2,  -999.0,9,  -999.0,9,   -0.01,2,   31.30,2,   1.8061,       0.06,      -1.16,2,       0.08,     -0.002,2,      0.000,2,     98.645,2
09AR20110104,       SR03,     146,          1,         16,         16,2,20110131,       0135,   -63.4948,   149.9980,       3702,   675.1,   1.7692,  34.7379,2,  34.7388,2,    191.8,2,   191.8,2,   88.50,2,    2.15,2,  2250.1,2,  2348.4,2,    0.01,2,   31.04,2,   1.7315,       0.07,      -1.25,2,       0.17,     -0.009,2,      0.000,2,     98.697,2
09AR20110104,       SR03,     146,          1,         15,         15,2,20110131,       0135,   -63.4948,   149.9980,       3702,   775.2,   1.6905,  34.7410,2,  34.7420,2,    194.5,2,   194.3,2,   90.40,2,    2.14,2,  -999.0,9,  -999.0,9,    0.04,2,   30.86,2,   1.6470,       0.02,      -1.10,2,       0.02,     -0.005,2,      0.000,2,     98.724,2
09AR20110104,       SR03,     146,          1,         14,         14,2,20110131,       0135,   -63.4948,   149.9980,       3702,   874.7,   1.6009,  34.7420,2,  34.7429,2,    196.2,2,   196.5,2,   92.90,2,    2.13,2,  -999.0,9,  -999.0,9,   -0.08,2,   30.83,2,   1.5517,       0.01,      -1.77,2,       0.13,     -0.007,2,      0.000,2,     98.740,2
09AR20110104,       SR03,     146,          1,         13,         13,2,20110131,       0135,   -63.4948,   149.9980,       3702,   973.5,   1.5184,  34.7410,2,  34.7417,2,    197.9,2,   198.1,2,   94.80,2,    2.14,2,  -999.0,9,  -999.0,9,   -0.02,2,   30.81,2,   1.4635,       0.04,      -1.26,2,       0.04,     -0.010,2,      0.000,2,     98.743,2
09AR20110104,       SR03,     146,          1,         12,         12,2,20110131,       0135,   -63.4948,   149.9980,       3702,  1100.5,   1.4059,  34.7383,2,  34.7394,2,    199.9,2,   200.1,2,   98.00,2,    2.15,2,  -999.0,9,  -999.0,9,    0.06,2,   30.94,2,   1.3437,       0.01,      -1.21,2,       0.09,     -0.010,2,      0.000,2,     98.787,2
09AR20110104,       SR03,     146,          1,         11,         11,2,20110131,       0135,   -63.4948,   149.9980,       3702,  1301.8,   1.2458,  34.7326,2,  34.7335,2,    202.2,2,   202.7,2,  102.70,2,    2.16,2,  -999.0,9,  -999.0,9,    0.19,2,   31.20,2,   1.1717,       0.06,      -1.07,2,       0.03,     -0.014,2,      0.000,2,     98.834,2
09AR20110104,       SR03,     146,          1,         10,         10,2,20110131,       0135,   -63.4948,   149.9980,       3702,  1501.6,   1.0920,  34.7253,2,  34.7260,2,    204.4,2,   204.3,2,  107.20,2,    2.19,2,  2256.5,2,  2356.7,2,   -0.05,2,   31.50,2,   1.0059,       0.05,      -1.45,2,       0.10,     -0.015,2,      0.000,2,     98.858,2
09AR20110104,       SR03,     146,          1,          9,          9,2,20110131,       0135,   -63.4948,   149.9980,       3702,  1701.5,   0.9273,  34.7168,2,  34.7172,2,    206.6,2,   206.3,2,  112.40,2,    2.22,2,  -999.0,9,  -999.0,9,   -0.08,2,   31.85,2,   0.8291,       0.02,      -1.69,2,       0.04,     -0.016,2,      0.000,2,     98.903,2
09AR20110104,       SR03,     146,          1,          8,          8,2,20110131,       0135,   -63.4948,   149.9980,       3702,  1900.1,   0.7754,  34.7087,2,  34.7091,2,    208.8,2,   208.0,2,  116.80,2,    2.24,2,  -999.0,9,  -999.0,9,   -0.12,2,   32.34,2,   0.6649,       0.11,      -1.89,2,       0.03,     -0.016,2,      0.000,2,     98.875,2
09AR20110104,       SR03,     146,          1,          7,          7,2,20110131,       0135,   -63.4948,   149.9980,       3702,  2100.8,   0.6216,  34.7008,2,  34.7011,2,    210.7,2,   211.0,2,  119.90,2,    2.26,2,  -999.0,9,  -999.0,9,   -0.17,2,   32.41,2,   0.4985,       0.07,      -2.22,2,       0.08,     -0.018,2,      0.000,2,     98.881,2
09AR20110104,       SR03,     146,          1,          6,          6,2,20110131,       0135,   -63.4948,   149.9980,       3702,  2301.4,   0.4870,  34.6943,2,  34.6948,2,    213.4,2,   213.7,2,  122.10,2,    2.26,2,  -999.0,9,  -999.0,9,   -0.10,2,   31.82,2,   0.3508,       0.05,      -2.23,2,       0.03,     -0.020,2,      0.000,2,     98.883,2
09AR20110104,       SR03,     146,          1,          5,          5,2,20110131,       0135,   -63.4948,   149.9980,       3702,  2601.4,   0.3211,  34.6872,2,  34.6871,2,    217.5,2,   218.2,2,  124.70,2,    2.26,2,  2258.8,2,  2359.2,2,   -0.11,2,   32.02,2,   0.1641,       0.01,      -2.23,2,       0.04,     -0.020,2,      0.000,2,     98.893,2
09AR20110104,       SR03,     146,          1,          4,          4,2,20110131,       0135,   -63.4948,   149.9980,       3702,  2900.8,   0.2030,  34.6823,2,  34.6826,2,    221.5,2,   222.2,2,  126.20,2,    2.26,2,  -999.0,9,  -999.0,9,   -0.15,2,   32.03,2,   0.0235,       0.04,      -2.33,2,       0.03,     -0.023,2,      0.000,2,     98.873,2
09AR20110104,       SR03,     146,          1,          3,          3,2,20110131,       0135,   -63.4948,   149.9980,       3702,  3200.3,   0.0747,  34.6763,2,  34.6757,2,    226.6,2,   226.7,2,  128.30,2,    2.26,2,  -999.0,9,  -999.0,9,   -0.08,2,   31.99,2,  -0.1279,       0.11,      -2.43,2,       0.17,     -0.023,2,      0.000,2,     98.830,2
09AR20110104,       SR03,     146,          1,          2,        102,2,20110131,       0135,   -63.4948,   149.9980,       3702,  3499.0,  -0.0537,  34.6681,2,  34.6675,2,    232.6,2,   232.4,2,  122.10,2,    2.25,2,  -999.0,9,  -999.0,9,   -0.24,2,   31.84,2,  -0.2802,       0.05,      -3.04,2,       0.09,     -0.026,2,      0.000,2,     98.803,2
09AR20110104,       SR03,     146,          1,          1,          1,2,20110131,       0135,   -63.4948,   149.9980,       3702,  3756.9,  -0.1833,  34.6582,2,  34.6571,2,    237.0,2,   236.4,2,  120.10,2,    2.25,2,  2256.9,2,  2353.9,2,   -0.21,2,   31.82,2,  -0.4305,       0.02,      -2.98,2,       0.08,     -0.006,2,      0.000,2,     98.197,2
09AR20110104,       SR03,     147,          1,         24,         24,2,20110131,       0806,   -63.3105,   149.2020,       3767,     9.9,   2.2534,  33.9578,2,  33.9606,2,    343.5,2,   343.3,2,   12.40,2,    1.31,2,  2146.8,6,  2298.8,6,   -0.21,2,   23.92,2,   2.2529,       0.06,      -3.00,2,       0.18,      4.267,2,      0.679,2,     90.382,2
09AR20110104,       SR03,     147,          1,         23,         23,2,20110131,       0806,   -63.3105,   149.2020,       3767,    65.0,  -0.3621,  34.0673,2,  34.0723,2,    333.2,2,   333.3,2,   41.60,2,    2.12,2,  2190.3,2,  2302.1,2,   -0.24,2,   28.27,2,  -0.3642,       0.14,      -3.12,2,       0.12,      0.923,2,      0.000,2,     95.995,2
09AR20110104,       SR03,     147,          1,         22,         22,2,20110131,       0806,   -63.3105,   149.2020,       3767,   100.6,   1.4845,  34.4861,2,  34.4944,2,    207.6,2,   189.0,2,   72.10,2,    2.44,2,  2253.3,2,  2324.6,2,   -0.14,2,   34.53,2,   1.4796,       0.05,      -1.85,2,       0.10,      0.128,2,      0.000,2,     97.530,2
09AR20110104,       SR03,     147,          1,         21,         21,2,20110131,       0806,   -63.3105,   149.2020,       3767,   150.2,   1.7945,  34.5709,2,  34.5728,2,    178.5,2,   177.5,2,   77.00,2,    2.41,2,  2257.1,2,  2331.3,2,   -0.23,2,   34.35,2,   1.7868,       0.03,      -2.43,2,       0.17,      0.048,2,      0.000,2,     97.929,2
09AR20110104,       SR03,     147,          1,         20,         20,2,20110131,       0806,   -63.3105,   149.2020,       3767,   224.6,   2.0298,  34.6398,2,  34.6411,2,    174.3,2,   174.2,2,   80.00,2,    2.33,2,  2258.5,2,  2336.8,2,   -0.10,2,   33.60,2,   2.0177,       0.08,      -1.35,2,       0.08,      0.008,2,      0.000,2,     98.130,2
09AR20110104,       SR03,     147,          1,         19,         19,2,20110131,       0806,   -63.3105,   149.2020,       3767,   325.2,   1.9804,  34.6780,2,  34.6800,2,    177.0,2,   177.7,2,   82.30,2,    2.28,2,  2257.3,2,  2339.2,2,   -0.18,2,   32.95,2,   1.9626,       0.06,      -1.28,2,       0.36,     -0.002,2,      0.000,2,     98.343,2
09AR20110104,       SR03,     147,          1,         18,         18,2,20110131,       0806,   -63.3105,   149.2020,       3767,   424.3,   1.9376,  34.7037,2,  34.7046,2,    180.6,2,   181.4,2,   83.50,2,    2.24,2,  -999.0,9,  -999.0,9,   -0.08,2,   32.14,2,   1.9142,       0.09,      -1.50,2,       0.14,     -0.002,2,      0.000,2,     98.527,2
09AR20110104,       SR03,     147,          1,         17,         17,2,20110131,       0806,   -63.3105,   149.2020,       3767,   524.7,   1.8846,  34.7190,2,  34.7207,2,    184.4,2,   185.0,2,   84.80,2,    2.20,2,  -999.0,9,  -999.0,9,    0.06,2,   31.56,2,   1.8554,       0.07,      -0.98,2,       0.18,     -0.003,2,      0.000,2,     98.546,2
09AR20110104,       SR03,     147,          1,         16,         16,2,20110131,       0806,   -63.3105,   149.2020,       3767,   625.2,   1.8292,  34.7289,2,  34.7304,2,    187.9,2,   188.2,2,   86.10,2,    2.17,2,  -999.0,9,  -999.0,9,   -0.14,2,   31.10,2,   1.7942,       0.08,      -1.39,2,       0.10,     -0.003,2,      0.000,2,     98.475,2
09AR20110104,       SR03,     147,          1,         15,         15,2,20110131,       0806,   -63.3105,   149.2020,       3767,   728.6,   1.7616,  34.7362,2,  34.7378,2,    191.0,2,   191.2,2,   88.00,2,    2.14,2,  -999.0,9,  -999.0,9,    0.10,2,   30.95,2,   1.7206,       0.14,      -1.15,2,       0.59,     -0.006,2,      0.000,2,     98.649,2
09AR20110104,       SR03,     147,          1,         14,         14,2,20110131,       0806,   -63.3105,   149.2020,       3767,   823.6,   1.6956,  34.7414,2,  34.7427,2,    193.8,2,   194.1,2,   90.20,2,    2.14,2,  -999.0,9,  -999.0,9,   -0.04,2,   30.91,2,   1.6490,       0.02,      -1.58,2,       0.24,     -0.008,2,      0.000,2,     98.690,2
09AR20110104,       SR03,     147,          1,         13,         13,2,20110131,       0806,   -63.3105,   149.2020,       3767,   924.4,   1.6369,  34.7431,2,  34.7451,2,    196.2,2,   195.7,2,   92.00,2,    2.13,2,  -999.0,9,  -999.0,9,    0.02,2,   30.83,2,   1.5843,       0.15,      -0.70,2,       0.34,     -0.010,2,      0.000,2,     98.736,2
09AR20110104,       SR03,     147,          1,         12,         12,2,20110131,       0806,   -63.3105,   149.2020,       3767,  1099.9,   1.4717,  34.7403,2,  34.7416,2,    198.8,2,   198.9,2,   96.30,2,    2.15,2,  2253.0,2,  2355.5,2,   -0.18,2,   30.88,2,   1.4089,       0.15,      -1.56,2,       0.27,     -0.010,2,      0.000,2,     98.768,2
09AR20110104,       SR03,     147,          1,         11,         11,2,20110131,       0806,   -63.3105,   149.2020,       3767,  1300.2,   1.2879,  34.7343,2,  34.7347,2,    201.5,2,   201.5,2,  101.60,2,    2.16,2,  -999.0,9,  -999.0,9,   -0.03,2,   31.09,2,   1.2135,       0.06,      -1.62,2,       0.08,     -0.012,2,      0.000,2,     98.796,2
09AR20110104,       SR03,     147,          1,         10,         10,2,20110131,       0806,   -63.3105,   149.2020,       3767,  1500.3,   1.1241,  34.7268,2,  34.7284,2,    203.7,2,   203.6,2,  106.30,2,    2.18,2,  -999.0,9,  -999.0,9,   -0.12,2,   31.33,2,   1.0377,       0.07,      -1.95,2,       0.16,     -0.014,2,      0.000,2,     98.821,2
09AR20110104,       SR03,     147,          1,          9,          9,2,20110131,       0806,   -63.3105,   149.2020,       3767,  1700.0,   0.9540,  34.7177,2,  34.7192,2,    205.8,2,   205.6,2,  111.20,2,    2.21,2,  -999.0,9,  -999.0,9,   -0.13,2,   31.63,2,   0.8556,       0.11,      -1.99,2,       0.42,     -0.019,2,      0.000,2,     98.844,2
09AR20110104,       SR03,     147,          1,          8,          8,2,20110131,       0806,   -63.3105,   149.2020,       3767,  1900.2,   0.7987,  34.7093,2,  34.7109,2,    207.8,2,  -999.0,9,  115.10,2,    2.23,2,  2260.1,2,  2359.2,2,   -0.11,2,   31.87,2,   0.6879,       0.05,      -2.27,2,       0.33,     -0.017,2,      0.000,2,     98.863,2
09AR20110104,       SR03,     147,          1,          7,          7,2,20110131,       0806,   -63.3105,   149.2020,       3767,  2100.0,   0.6509,  34.7018,2,  34.7028,2,    210.5,2,   210.5,2,  118.80,2,    2.25,2,  -999.0,9,  -999.0,9,   -0.03,2,   32.04,2,   0.5274,       0.05,      -1.94,2,       0.22,     -0.013,2,      0.000,2,     98.871,2
09AR20110104,       SR03,     147,          1,          6,          6,2,20110131,       0806,   -63.3105,   149.2020,       3767,  2399.6,   0.4465,  34.6920,2,  34.7022,4,    214.9,2,   214.9,2,  122.90,2,    2.26,2,  2260.1,2,  2358.9,2,   -0.15,2,   32.21,2,   0.3033,       0.09,      -2.83,2,       0.30,     -0.020,2,      0.000,2,     98.877,2
09AR20110104,       SR03,     147,          1,          5,          5,2,20110131,       0806,   -63.3105,   149.2020,       3767,  2700.2,   0.3144,  34.6869,2,  34.6863,2,    219.0,2,   218.6,2,  126.00,2,    2.26,2,  -999.0,9,  -999.0,9,   -0.29,2,   32.26,2,   0.1494,       0.02,      -3.21,2,       0.29,     -0.021,2,      0.000,2,     98.871,2
09AR20110104,       SR03,     147,          1,          4,          4,2,20110131,       0806,   -63.3105,   149.2020,       3767,  2999.0,   0.1881,  34.6822,2,  34.6818,2,    223.1,2,   222.5,2,  131.20,2,    2.27,2,  2260.0,2,  2358.6,2,   -0.24,2,   32.29,2,   0.0005,       0.04,      -1.92,2,       0.09,     -0.022,2,      0.000,2,     98.850,2
09AR20110104,       SR03,     147,          1,          3,          3,2,20110131,       0806,   -63.3105,   149.2020,       3767,  3299.9,   0.0343,  34.6733,2,  34.6740,2,    228.8,2,   228.4,2,  125.30,2,    2.27,2,  -999.0,9,  -999.0,9,   -0.19,2,   32.10,2,  -0.1762,       0.12,      -2.58,2,       0.33,     -0.023,2,      0.000,2,     98.846,2
09AR20110104,       SR03,     147,          1,          2,        102,2,20110131,       0806,   -63.3105,   149.2020,       3767,  3600.7,  -0.1376,  34.6615,2,  34.6616,2,    236.3,2,   235.7,2,  119.00,2,    2.24,2,  -999.0,9,  -999.0,9,   -0.32,2,   31.91,2,  -0.3713,       0.04,      -2.81,2,       0.04,     -0.024,2,      0.000,2,     98.674,2
09AR20110104,       SR03,     147,          1,          1,          1,2,20110131,       0806,   -63.3105,   149.2020,       3767,  3828.6,  -0.1689,  34.6576,2,  34.6578,2,    238.6,2,   237.5,2,  117.70,2,    2.24,2,  2258.1,6,  2353.8,6,   -0.22,2,   31.87,2,  -0.4234,       0.08,      -2.65,2,       0.22,     -0.021,2,      0.000,2,     98.302,2