BOTTLE,20230419CCHSIOENA
EXPOCODE,SECT_ID,STNNBR,CASTNO,SAMPNO,BTLNBR,BTLNBR_FLAG_W,DATE,TIME,LATITUDE,LONGITUDE,DEPTH,CTDPRS,CTDTMP,CTDSAL,CTDSAL_FLAG_W,SALNTY,SALNTY_FLAG_W,CTDOXY,CTDOXY_FLAG_W,OXYGEN,OXYGEN_FLAG_W,SILCAT,SILCAT_FLAG_W,PHSPHT,PHSPHT_FLAG_W,TCARBN,TCARBN_FLAG_W,ALKALI,ALKALI_FLAG_W,DELO18,DELO18_FLAG_W,NO2+NO3,NO2+NO3_FLAG_W,THETA,O18ERR,DELD,DELD_FLAG_W,DELDERR,CTDFLUOR,CTDFLUOR_FLAG_W,PAR,PAR_FLAG_W,CTDXMISS,CTDXMISS_FLAG_W
,,,,,,,,,,,METERS,DBAR,ITS-90,PSS-78,,PSS-78,,UMOL/KG,,UMOL/KG,,UMOL/KG,,UMOL/KG,,UMOL/KG,,UMOL/KG,,/MILLE,,UMOL/KG,,DEG C,/MILLE,/MILLE,,/MILLE,MG/M^3,,UMOL/M^2/SEC,,%TRANS,
09AR20110104,       SR03,     138,          1,         24,         24,2,20110129,       1003,   -66.2512,   147.1030,        466,    10.1,  -0.7769,  33.2002,2,  33.2012,2,    385.5,2,   385.6,2,   37.90,2, -999.00,9,  2062.8,6,  2260.0,6, -999.00,9,   15.03,2,  -0.7772,     -999.0,     -999.0,9,     -999.0,     13.360,2,      3.730,2,     83.388,2
09AR20110104,       SR03,     138,          1,         23,         23,2,20110129,       1003,   -66.2512,   147.1030,        466,    10.0,  -0.7931,  33.2118,2,-999.0000,9,    385.5,2,  -999.0,9, -999.00,9, -999.00,9,  -999.0,9,  -999.0,9, -999.00,9, -999.00,9,  -0.7934,     -999.0,     -999.0,9,     -999.0,     13.518,2,      3.809,2,     82.850,2
09AR20110104,       SR03,     138,          1,         22,         22,2,20110129,       1003,   -66.2512,   147.1030,        466,    10.0,  -0.7944,  33.2124,2,-999.0000,9,    385.5,2,  -999.0,9, -999.00,9, -999.00,9,  -999.0,9,  -999.0,9, -999.00,9, -999.00,9,  -0.7947,     -999.0,     -999.0,9,     -999.0,     13.974,2,      3.763,2,     82.805,2
09AR20110104,       SR03,     138,          1,         21,         21,2,20110129,       1003,   -66.2512,   147.1030,        466,    10.1,  -0.7905,  33.2086,2,-999.0000,9,    385.5,2,  -999.0,9, -999.00,9, -999.00,9,  -999.0,9,  -999.0,9, -999.00,9, -999.00,9,  -0.7908,     -999.0,     -999.0,9,     -999.0,     14.274,2,      3.820,2,     82.909,2
09AR20110104,       SR03,     138,          1,         20,         20,2,20110129,       1003,   -66.2512,   147.1030,        466,    10.1,  -0.7854,  33.2032,2,-999.0000,9,    385.5,2,  -999.0,9, -999.00,9, -999.00,9,  -999.0,9,  -999.0,9, -999.00,9, -999.00,9,  -0.7857,     -999.0,     -999.0,9,     -999.0,     13.459,2,      3.859,2,     83.184,2
09AR20110104,       SR03,     138,          1,         19,         19,2,20110129,       1003,   -66.2512,   147.1030,        466,    10.1,  -0.7789,  33.1999,2,-999.0000,9,    385.5,2,  -999.0,9, -999.00,9, -999.00,9,  -999.0,9,  -999.0,9, -999.00,9, -999.00,9,  -0.7792,     -999.0,     -999.0,9,     -999.0,     13.318,2,      3.940,2,     83.427,2
09AR20110104,       SR03,     138,          1,         18,         18,2,20110129,       1003,   -66.2512,   147.1030,        466,    74.7,  -1.5995,  34.3490,2,  34.3484,2,    314.2,2,   314.2,2, -999.00,9, -999.00,9,  2219.6,2,  2324.6,2, -999.00,9, -999.00,9,  -1.6011,     -999.0,     -999.0,9,     -999.0,      7.026,2,      0.000,2,     92.207,2
09AR20110104,       SR03,     138,          1,         17,         17,2,20110129,       1003,   -66.2512,   147.1030,        466,    74.5,  -1.5979,  34.3482,2,-999.0000,9,    314.2,2,  -999.0,9, -999.00,9, -999.00,9,  -999.0,9,  -999.0,9, -999.00,9, -999.00,9,  -1.5995,     -999.0,     -999.0,9,     -999.0,      8.114,2,      0.000,2,     92.085,2
09AR20110104,       SR03,     138,          1,         16,         16,2,20110129,       1003,   -66.2512,   147.1030,        466,    74.7,  -1.5982,  34.3483,2,-999.0000,9,    314.2,2,  -999.0,9, -999.00,9, -999.00,9,  -999.0,9,  -999.0,9, -999.00,9, -999.00,9,  -1.5998,     -999.0,     -999.0,9,     -999.0,      7.320,2,      0.000,2,     92.065,2
09AR20110104,       SR03,     138,          1,         15,         15,2,20110129,       1003,   -66.2512,   147.1030,        466,    74.4,  -1.5962,  34.3475,2,-999.0000,9,    314.2,2,  -999.0,9, -999.00,9, -999.00,9,  -999.0,9,  -999.0,9, -999.00,9, -999.00,9,  -1.5978,     -999.0,     -999.0,9,     -999.0,      7.463,2,      0.000,2,     91.796,2
09AR20110104,       SR03,     138,          1,         14,         14,2,20110129,       1003,   -66.2512,   147.1030,        466,   250.4,  -1.6617,  34.4592,2,  34.4583,2,    297.2,2,   297.2,2,   75.30,2, -999.00,9,  2229.3,2,  2329.6,2, -999.00,9,   30.05,2,  -1.6674,     -999.0,     -999.0,9,     -999.0,      0.189,2,      0.000,2,     98.550,2
09AR20110104,       SR03,     138,          1,         13,         13,2,20110129,       1003,   -66.2512,   147.1030,        466,   250.4,  -1.6624,  34.4593,2,-999.0000,9,    297.2,2,  -999.0,9, -999.00,9, -999.00,9,  -999.0,9,  -999.0,9, -999.00,9, -999.00,9,  -1.6681,     -999.0,     -999.0,9,     -999.0,      0.189,2,      0.000,2,     98.562,2
09AR20110104,       SR03,     138,          1,         12,         12,2,20110129,       1003,   -66.2512,   147.1030,        466,   250.4,  -1.6624,  34.4592,2,-999.0000,9,    297.2,2,  -999.0,9, -999.00,9, -999.00,9,  -999.0,9,  -999.0,9, -999.00,9, -999.00,9,  -1.6681,     -999.0,     -999.0,9,     -999.0,      0.195,2,      0.000,2,     98.523,2
09AR20110104,       SR03,     138,          1,         11,         11,2,20110129,       1003,   -66.2512,   147.1030,        466,   250.3,  -1.6627,  34.4589,2,-999.0000,9,    297.2,2,  -999.0,9, -999.00,9, -999.00,9,  -999.0,9,  -999.0,9, -999.00,9, -999.00,9,  -1.6684,     -999.0,     -999.0,9,     -999.0,      0.213,2,      0.000,2,     98.583,2
09AR20110104,       SR03,     138,          1,         10,         10,2,20110129,       1003,   -66.2512,   147.1030,        466,   250.3,  -1.6629,  34.4590,2,-999.0000,9,    297.2,2,  -999.0,9, -999.00,9, -999.00,9,  -999.0,9,  -999.0,9, -999.00,9, -999.00,9,  -1.6686,     -999.0,     -999.0,9,     -999.0,      0.192,2,      0.000,2,     98.535,2
09AR20110104,       SR03,     138,          1,          9,          9,2,20110129,       1003,   -66.2512,   147.1030,        466,   250.1,  -1.6648,  34.4594,2,-999.0000,9,    297.2,2,  -999.0,9, -999.00,9, -999.00,9,  -999.0,9,  -999.0,9, -999.00,9, -999.00,9,  -1.6705,     -999.0,     -999.0,9,     -999.0,      0.208,2,      0.000,2,     98.573,2
09AR20110104,       SR03,     138,          1,          8,          8,2,20110129,       1003,   -66.2512,   147.1030,        466,   374.8,  -1.8629,  34.5456,2,  34.5453,2,    302.1,2,   302.6,2,   75.30,2, -999.00,9,  2235.8,2,  2334.6,2, -999.00,9,   30.15,2,  -1.8713,     -999.0,     -999.0,9,     -999.0,      0.085,2,      0.000,2,     98.424,2
09AR20110104,       SR03,     138,          1,          7,          7,2,20110129,       1003,   -66.2512,   147.1030,        466,   374.8,  -1.8616,  34.5459,2,-999.0000,9,    302.1,2,  -999.0,9, -999.00,9, -999.00,9,  -999.0,9,  -999.0,9, -999.00,9, -999.00,9,  -1.8700,     -999.0,     -999.0,9,     -999.0,      0.068,2,      0.000,2,     98.442,2
09AR20110104,       SR03,     138,          1,          6,          6,2,20110129,       1003,   -66.2512,   147.1030,        466,   374.7,  -1.8604,  34.5459,2,-999.0000,9,    302.1,2,  -999.0,9, -999.00,9, -999.00,9,  -999.0,9,  -999.0,9, -999.00,9, -999.00,9,  -1.8688,     -999.0,     -999.0,9,     -999.0,      0.113,2,      0.000,2,     98.381,2
09AR20110104,       SR03,     138,          1,          5,          5,2,20110129,       1003,   -66.2512,   147.1030,        466,   374.7,  -1.8603,  34.5461,2,-999.0000,9,    302.1,2,  -999.0,9, -999.00,9, -999.00,9,  -999.0,9,  -999.0,9, -999.00,9, -999.00,9,  -1.8687,     -999.0,     -999.0,9,     -999.0,      0.092,2,      0.000,2,     98.366,2
09AR20110104,       SR03,     138,          1,          4,          4,2,20110129,       1003,   -66.2512,   147.1030,        466,   374.8,  -1.8615,  34.5464,2,-999.0000,9,    302.1,2,  -999.0,9, -999.00,9, -999.00,9,  -999.0,9,  -999.0,9, -999.00,9, -999.00,9,  -1.8699,     -999.0,     -999.0,9,     -999.0,      0.067,2,      0.000,2,     98.380,2
09AR20110104,       SR03,     138,          1,          3,          3,2,20110129,       1003,   -66.2512,   147.1030,        466,   374.7,  -1.8662,  34.5484,2,-999.0000,9,    302.1,2,  -999.0,9, -999.00,9, -999.00,9,  -999.0,9,  -999.0,9, -999.00,9, -999.00,9,  -1.8746,     -999.0,     -999.0,9,     -999.0,      0.067,2,      0.000,2,     98.415,2
09AR20110104,       SR03,     138,          1,          2,        102,2,20110129,       1003,   -66.2512,   147.1030,        466,   463.3,  -1.9085,  34.5929,2,  34.5922,2,    304.0,2,   303.7,2,   76.60,2, -999.00,9,  -999.0,9,  -999.0,9, -999.00,9,   30.24,2,  -1.9192,     -999.0,     -999.0,9,     -999.0,      0.231,2,      0.000,2,     95.865,2
09AR20110104,       SR03,     138,          1,          1,          1,2,20110129,       1003,   -66.2512,   147.1030,        466,   463.0,  -1.9086,  34.5929,2,-999.0000,9,    304.0,2,  -999.0,9, -999.00,9, -999.00,9,  -999.0,9,  -999.0,9, -999.00,9, -999.00,9,  -1.9193,     -999.0,     -999.0,9,     -999.0,      0.245,2,      0.000,2,     95.880,2
09AR20110104,       SR03,     139,          1,         24,         24,2,20110129,       1326,   -65.9432,   147.2610,        602,     9.7,  -0.5317,  33.1802,2,  33.1829,2,    376.7,2,   376.8,2,   47.20,2,    1.26,2,  -999.0,9,  -999.0,9,   -0.42,2,   18.24,2,  -0.5320,       0.05,      -4.31,2,       0.22,      6.131,2,      0.000,2,     88.082,2
09AR20110104,       SR03,     139,          1,         23,         23,2,20110129,       1326,   -65.9432,   147.2610,        602,     9.7,  -0.5586,  33.1802,2,-999.0000,9,    376.7,2,  -999.0,9, -999.00,9, -999.00,9,  -999.0,9,  -999.0,9, -999.00,9, -999.00,9,  -0.5589,     -999.0,     -999.0,9,     -999.0,      5.650,2,      0.000,2,     87.943,2
09AR20110104,       SR03,     139,          1,         22,         22,2,20110129,       1326,   -65.9432,   147.2610,        602,     9.6,  -0.5495,  33.1797,2,-999.0000,9,    376.7,2,  -999.0,9, -999.00,9, -999.00,9,  -999.0,9,  -999.0,9, -999.00,9, -999.00,9,  -0.5498,     -999.0,     -999.0,9,     -999.0,      5.782,2,      0.000,2,     87.906,2
09AR20110104,       SR03,     139,          1,         21,         21,2,20110129,       1326,   -65.9432,   147.2610,        602,     9.7,  -0.5446,  33.1793,2,-999.0000,9,    376.7,2,  -999.0,9, -999.00,9, -999.00,9,  -999.0,9,  -999.0,9, -999.00,9, -999.00,9,  -0.5449,     -999.0,     -999.0,9,     -999.0,      5.841,2,      0.000,2,     87.968,2
09AR20110104,       SR03,     139,          1,         20,         20,2,20110129,       1326,   -65.9432,   147.2610,        602,     9.6,  -0.5379,  33.1794,2,-999.0000,9,    376.7,2,  -999.0,9, -999.00,9, -999.00,9,  -999.0,9,  -999.0,9, -999.00,9, -999.00,9,  -0.5382,     -999.0,     -999.0,9,     -999.0,      5.851,2,      0.000,2,     87.967,2
09AR20110104,       SR03,     139,          1,         19,         19,2,20110129,       1326,   -65.9432,   147.2610,        602,     9.5,  -0.5061,  33.1808,2,-999.0000,9,    376.7,2,  -999.0,9, -999.00,9, -999.00,9,  -999.0,9,  -999.0,9, -999.00,9, -999.00,9,  -0.5064,     -999.0,     -999.0,9,     -999.0,      5.672,2,      0.000,2,     88.031,2
09AR20110104,       SR03,     139,          1,         18,         18,2,20110129,       1326,   -65.9432,   147.2610,        602,    49.4,  -1.6506,  34.2430,2,  34.2413,2,    330.8,2,   327.8,2,   70.30,2,    1.94,2,  -999.0,9,  -999.0,9,   -0.31,2,   27.90,2,  -1.6516,       0.10,      -3.68,2,       0.14,      2.857,2,      0.000,2,     95.033,2
09AR20110104,       SR03,     139,          1,         17,         17,2,20110129,       1326,   -65.9432,   147.2610,        602,    49.1,  -1.6510,  34.2432,2,-999.0000,9,    330.8,2,  -999.0,9, -999.00,9, -999.00,9,  -999.0,9,  -999.0,9, -999.00,9, -999.00,9,  -1.6520,     -999.0,     -999.0,9,     -999.0,      2.865,2,      0.000,2,     94.950,2
09AR20110104,       SR03,     139,          1,         16,         16,2,20110129,       1326,   -65.9432,   147.2610,        602,    49.1,  -1.6508,  34.2432,2,-999.0000,9,    330.8,2,  -999.0,9, -999.00,9, -999.00,9,  -999.0,9,  -999.0,9, -999.00,9, -999.00,9,  -1.6518,     -999.0,     -999.0,9,     -999.0,      2.596,2,      0.000,2,     94.778,2
09AR20110104,       SR03,     139,          1,         15,         15,2,20110129,       1326,   -65.9432,   147.2610,        602,    49.1,  -1.6548,  34.2472,2,-999.0000,9,    330.8,2,  -999.0,9, -999.00,9, -999.00,9,  -999.0,9,  -999.0,9, -999.00,9, -999.00,9,  -1.6558,     -999.0,     -999.0,9,     -999.0,      2.666,2,      0.000,2,     94.758,2
09AR20110104,       SR03,     139,          1,         14,         14,2,20110129,       1326,   -65.9432,   147.2610,        602,   119.9,  -1.7722,  34.3484,2,  34.3468,2,    310.0,2,   312.2,2,   72.90,2,    2.00,2,  -999.0,9,  -999.0,9,   -0.43,2,   29.77,2,  -1.7746,       0.03,      -3.86,2,       0.06,      0.491,2,      0.000,2,     98.035,2
09AR20110104,       SR03,     139,          1,         13,         13,2,20110129,       1326,   -65.9432,   147.2610,        602,   119.9,  -1.7723,  34.3483,2,-999.0000,9,    310.0,2,  -999.0,9, -999.00,9, -999.00,9,  -999.0,9,  -999.0,9, -999.00,9, -999.00,9,  -1.7747,     -999.0,     -999.0,9,     -999.0,      0.626,2,      0.000,2,     98.016,2
09AR20110104,       SR03,     139,          1,         12,         12,2,20110129,       1326,   -65.9432,   147.2610,        602,   119.4,  -1.7689,  34.3502,2,-999.0000,9,    310.0,2,  -999.0,9, -999.00,9, -999.00,9,  -999.0,9,  -999.0,9, -999.00,9, -999.00,9,  -1.7713,     -999.0,     -999.0,9,     -999.0,      0.499,2,      0.000,2,     98.083,2
09AR20110104,       SR03,     139,          1,         11,         11,2,20110129,       1326,   -65.9432,   147.2610,        602,   272.4,  -1.5346,  34.4188,2,  34.4167,2,    292.3,2,   292.3,2,   76.70,2,    2.05,2,  -999.0,9,  -999.0,9,   -0.44,2,   30.47,2,  -1.5412,       0.06,      -3.99,2,       0.06,      0.031,2,      0.000,2,     98.703,2
09AR20110104,       SR03,     139,          1,         10,         10,2,20110129,       1326,   -65.9432,   147.2610,        602,   272.3,  -1.5390,  34.4189,2,-999.0000,9,    292.3,2,  -999.0,9, -999.00,9, -999.00,9,  -999.0,9,  -999.0,9, -999.00,9, -999.00,9,  -1.5455,     -999.0,     -999.0,9,     -999.0,      0.036,2,      0.000,2,     98.767,2
09AR20110104,       SR03,     139,          1,          9,          9,2,20110129,       1326,   -65.9432,   147.2610,        602,   271.9,  -1.5355,  34.4191,2,-999.0000,9,    292.3,2,  -999.0,9, -999.00,9, -999.00,9,  -999.0,9,  -999.0,9, -999.00,9, -999.00,9,  -1.5420,     -999.0,     -999.0,9,     -999.0,      0.040,2,      0.000,2,     98.853,2
09AR20110104,       SR03,     139,          1,          8,          8,2,20110129,       1326,   -65.9432,   147.2610,        602,   382.3,  -0.4965,  34.5540,2,  34.5531,2,    247.2,2,   247.6,2,   88.20,2,    2.11,2,  -999.0,9,  -999.0,9,   -0.18,2,   31.42,2,  -0.5096,       0.02,      -3.17,2,       0.14,      0.005,2,      0.000,2,     98.730,2
09AR20110104,       SR03,     139,          1,          7,          7,2,20110129,       1326,   -65.9432,   147.2610,        602,   382.3,  -0.4901,  34.5548,2,-999.0000,9,    247.2,2,  -999.0,9, -999.00,9, -999.00,9,  -999.0,9,  -999.0,9, -999.00,9, -999.00,9,  -0.5032,     -999.0,     -999.0,9,     -999.0,      0.000,2,      0.000,2,     98.754,2
09AR20110104,       SR03,     139,          1,          6,          6,2,20110129,       1326,   -65.9432,   147.2610,        602,   382.4,  -0.4899,  34.5550,2,-999.0000,9,    247.2,2,  -999.0,9, -999.00,9, -999.00,9,  -999.0,9,  -999.0,9, -999.00,9, -999.00,9,  -0.5030,     -999.0,     -999.0,9,     -999.0,     -0.001,2,      0.000,2,     98.846,2
09AR20110104,       SR03,     139,          1,          5,          5,2,20110129,       1326,   -65.9432,   147.2610,        602,   382.3,  -0.4898,  34.5553,2,-999.0000,9,    247.2,2,  -999.0,9, -999.00,9, -999.00,9,  -999.0,9,  -999.0,9, -999.00,9, -999.00,9,  -0.5029,     -999.0,     -999.0,9,     -999.0,      0.007,2,      0.000,2,     99.146,2
09AR20110104,       SR03,     139,          1,          4,          4,2,20110129,       1326,   -65.9432,   147.2610,        602,   508.1,  -0.0843,  34.6265,2,  34.6264,2,    232.0,2,   231.3,2,   98.90,2,    2.14,2,  -999.0,9,  -999.0,9,   -0.27,2,   31.88,2,  -0.1041,       0.06,      -3.10,2,       0.08,     -0.001,2,      0.000,2,     99.180,2
09AR20110104,       SR03,     139,          1,          3,          3,2,20110129,       1326,   -65.9432,   147.2610,        602,   508.3,  -0.0852,  34.6265,2,-999.0000,9,    232.0,2,  -999.0,9, -999.00,9, -999.00,9,  -999.0,9,  -999.0,9, -999.00,9, -999.00,9,  -0.1050,     -999.0,     -999.0,9,     -999.0,     -0.003,2,      0.000,2,     99.032,2
09AR20110104,       SR03,     139,          1,          2,        102,2,20110129,       1326,   -65.9432,   147.2610,        602,   598.9,  -0.5814,  34.6096,2,  34.6085,2,    249.5,2,   249.9,2,   93.90,2,    2.11,2,  -999.0,9,  -999.0,9,   -0.14,2,   31.62,2,  -0.6028,       0.04,      -2.50,2,       0.07,     -0.008,2,      0.000,2,     98.607,2
09AR20110104,       SR03,     139,          1,          1,          1,2,20110129,       1326,   -65.9432,   147.2610,        602,   598.7,  -0.5897,  34.6096,2,-999.0000,9,    249.5,2,  -999.0,9, -999.00,9, -999.00,9,  -999.0,9,  -999.0,9, -999.00,9, -999.00,9,  -0.6110,     -999.0,     -999.0,9,     -999.0,      0.005,2,      0.000,2,     98.703,2