BOTTLE,20230419CCHSIOENA
EXPOCODE,SECT_ID,STNNBR,CASTNO,SAMPNO,BTLNBR,BTLNBR_FLAG_W,DATE,TIME,LATITUDE,LONGITUDE,DEPTH,CTDPRS,CTDTMP,CTDSAL,CTDSAL_FLAG_W,SALNTY,SALNTY_FLAG_W,CTDOXY,CTDOXY_FLAG_W,OXYGEN,OXYGEN_FLAG_W,SILCAT,SILCAT_FLAG_W,PHSPHT,PHSPHT_FLAG_W,TCARBN,TCARBN_FLAG_W,ALKALI,ALKALI_FLAG_W,DELO18,DELO18_FLAG_W,NO2+NO3,NO2+NO3_FLAG_W,THETA,O18ERR,DELD,DELD_FLAG_W,DELDERR,CTDFLUOR,CTDFLUOR_FLAG_W,PAR,PAR_FLAG_W,CTDXMISS,CTDXMISS_FLAG_W
,,,,,,,,,,,METERS,DBAR,ITS-90,PSS-78,,PSS-78,,UMOL/KG,,UMOL/KG,,UMOL/KG,,UMOL/KG,,UMOL/KG,,UMOL/KG,,/MILLE,,UMOL/KG,,DEG C,/MILLE,/MILLE,,/MILLE,MG/M^3,,UMOL/M^2/SEC,,%TRANS,
09AR20110104,       SR03,      52,          1,         24,         24,2,20110118,       2322,   -65.4332,   139.8580,       1907,     9.2,   0.4414,  33.8426,2,-999.0000,9,    351.0,2,  -999.0,9, -999.00,9, -999.00,9,  -999.0,9,  -999.0,9, -999.00,9, -999.00,9,   0.4411,     -999.0,     -999.0,9,     -999.0,      0.075,2,    132.739,2,     94.638,2
09AR20110104,       SR03,      52,          1,         23,         23,2,20110118,       2322,   -65.4332,   139.8580,       1907,     9.3,   0.5016,  33.8421,2,-999.0000,9,    351.0,2,  -999.0,9, -999.00,9, -999.00,9,  -999.0,9,  -999.0,9, -999.00,9, -999.00,9,   0.5012,     -999.0,     -999.0,9,     -999.0,      0.067,2,    156.039,2,     94.658,2
09AR20110104,       SR03,      52,          1,         22,         22,2,20110118,       2322,   -65.4332,   139.8580,       1907,     9.1,   0.4652,  33.8421,2,-999.0000,9,    351.0,2,  -999.0,9, -999.00,9, -999.00,9,  -999.0,9,  -999.0,9, -999.00,9, -999.00,9,   0.4649,     -999.0,     -999.0,9,     -999.0,      0.067,2,    477.239,2,     94.562,2
09AR20110104,       SR03,      52,          1,         21,         21,2,20110118,       2322,   -65.4332,   139.8580,       1907,     9.2,   0.4504,  33.8424,2,-999.0000,9,    351.0,2,  -999.0,9, -999.00,9, -999.00,9,  -999.0,9,  -999.0,9, -999.00,9, -999.00,9,   0.4501,     -999.0,     -999.0,9,     -999.0,      0.071,2,    423.039,2,     94.562,2
09AR20110104,       SR03,      52,          1,         20,         20,2,20110118,       2322,   -65.4332,   139.8580,       1907,     9.3,   0.4306,  33.8421,2,  33.8484,2,    351.0,2,   351.4,2,   45.20,2,    1.66,2,  2166.3,2,  2287.2,2,   -0.35,2,   26.65,2,   0.4303,       0.02,      -3.36,2,       0.14,      0.080,2,    496.039,2,     94.430,2
09AR20110104,       SR03,      52,          1,         19,         19,2,20110118,       2322,   -65.4332,   139.8580,       1907,    49.9,  -1.6403,  34.3191,2,  34.3430,2,    309.7,2,   310.1,2,   66.30,2,    2.02,2,  2218.4,2,  2321.3,2,   -0.30,2,   29.45,2,  -1.6413,       0.10,      -3.52,2,       0.10,      1.530,2,     12.749,2,     96.177,2
09AR20110104,       SR03,      52,          1,         18,         18,2,20110118,       2322,   -65.4332,   139.8580,       1907,   101.1,  -1.5236,  34.4063,2,  34.4052,2,    292.3,2,   293.5,2,   72.00,2,    2.07,2,  -999.0,9,  -999.0,9, -999.00,9,   30.26,2,  -1.5259,     -999.0,     -999.0,9,     -999.0,      0.146,2,      2.424,2,     99.245,2
09AR20110104,       SR03,      52,          1,         17,         17,2,20110118,       2322,   -65.4332,   139.8580,       1907,   150.9,  -1.2728,  34.4530,2,  34.4531,2,    277.4,2,   276.6,2,   73.30,2,    2.10,2,  -999.0,9,  -999.0,9, -999.00,9,   30.82,2,  -1.2766,     -999.0,     -999.0,9,     -999.0,      0.043,2,      0.186,2,     99.343,2
09AR20110104,       SR03,      52,          1,         16,         16,2,20110118,       2322,   -65.4332,   139.8580,       1907,   199.6,  -0.6619,  34.5138,2,  34.5153,2,    257.0,2,   254.6,2,   79.80,2,    2.13,2,  2241.4,2,  2331.9,6, -999.00,9,   31.08,2,  -0.6681,     -999.0,     -999.0,9,     -999.0,     -0.002,2,      0.000,2,     99.390,2
09AR20110104,       SR03,      52,          1,         15,         15,2,20110118,       2322,   -65.4332,   139.8580,       1907,   249.8,  -0.1739,  34.5697,2,  34.5708,2,    240.9,2,   238.1,2,   85.10,2,    2.16,2,  -999.0,9,  -999.0,9, -999.00,9,   31.36,2,  -0.1828,     -999.0,     -999.0,9,     -999.0,     -0.008,2,      0.000,2,     99.352,2
09AR20110104,       SR03,      52,          1,         14,         14,2,20110118,       2322,   -65.4332,   139.8580,       1907,   300.8,   0.0776,  34.6007,2,  34.6030,2,    230.1,2,   228.3,2,   89.10,2,    2.17,2,  -999.0,9,  -999.0,9,   -0.19,2,   31.43,2,   0.0660,       0.05,      -2.70,2,       0.08,     -0.012,2,      0.000,2,     99.381,2
09AR20110104,       SR03,      52,          1,         13,         13,2,20110118,       2322,   -65.4332,   139.8580,       1907,   399.3,   0.4484,  34.6512,2,  34.6515,2,    216.1,2,   215.6,2,   96.40,2,    2.19,2,  2254.8,2,  2344.5,2, -999.00,9,   31.69,2,   0.4314,     -999.0,     -999.0,9,     -999.0,     -0.009,2,      0.000,2,     99.361,2
09AR20110104,       SR03,      52,          1,         12,         12,2,20110118,       2322,   -65.4332,   139.8580,       1907,   500.5,   0.5141,  34.6691,2,  34.6695,2,    211.8,2,   212.3,2,  101.70,2,    2.19,2,  -999.0,9,  -999.0,9, -999.00,9,   31.81,2,   0.4921,     -999.0,     -999.0,9,     -999.0,     -0.009,2,      0.000,2,     99.385,2
09AR20110104,       SR03,      52,          1,         11,         11,2,20110118,       2322,   -65.4332,   139.8580,       1907,   600.9,   0.4932,  34.6744,2,  34.6744,2,    211.5,2,   212.0,2,  105.80,2,    2.21,2,  -999.0,9,  -999.0,9, -999.00,9,   32.16,2,   0.4663,     -999.0,     -999.0,9,     -999.0,     -0.008,2,      0.000,2,     99.397,2
09AR20110104,       SR03,      52,          1,         10,         10,2,20110118,       2322,   -65.4332,   139.8580,       1907,   698.1,   0.5396,  34.6858,2,  34.6856,2,    210.9,2,   210.9,2,  108.80,2,    2.21,2,  2260.6,2,  2350.7,2,   -0.11,2,   31.89,2,   0.5075,       0.03,      -2.13,2,       0.09,     -0.010,2,      0.000,2,     99.420,2
09AR20110104,       SR03,      52,          1,          9,          9,2,20110118,       2322,   -65.4332,   139.8580,       1907,   850.3,   0.3792,  34.6785,2,  34.6795,2,    213.3,2,   214.9,2,  109.70,2,    2.20,2,  -999.0,9,  -999.0,9, -999.00,9,   31.80,2,   0.3401,     -999.0,     -999.0,9,     -999.0,     -0.011,2,      0.000,2,     99.412,2
09AR20110104,       SR03,      52,          1,          8,          8,2,20110118,       2322,   -65.4332,   139.8580,       1907,   999.7,   0.3113,  34.6784,2,  34.6785,2,    215.9,2,   216.4,2,  111.30,2,    2.21,2,  2261.2,2,  2350.6,2, -999.00,9,   31.82,2,   0.2645,     -999.0,     -999.0,9,     -999.0,     -0.015,2,      0.000,2,     99.429,2
09AR20110104,       SR03,      52,          1,          7,          7,2,20110118,       2322,   -65.4332,   139.8580,       1907,  1150.4,   0.2257,  34.6759,2,-999.0000,9,    218.6,2,  -999.0,9, -999.00,9, -999.00,9,  -999.0,9,  -999.0,9, -999.00,9, -999.00,9,   0.1712,     -999.0,     -999.0,9,     -999.0,     -0.014,2,      0.000,2,     99.426,2
09AR20110104,       SR03,      52,          1,          6,          6,2,20110118,       2322,   -65.4332,   139.8580,       1907,  1150.7,   0.2256,  34.6759,2,-999.0000,9,    218.6,2,  -999.0,9, -999.00,9, -999.00,9,  -999.0,9,  -999.0,9, -999.00,9, -999.00,9,   0.1711,     -999.0,     -999.0,9,     -999.0,     -0.015,2,      0.000,2,     99.417,2
09AR20110104,       SR03,      52,          1,          5,          5,2,20110118,       2322,   -65.4332,   139.8580,       1907,  1150.4,   0.2257,  34.6758,2,  34.6759,2,    218.6,2,   218.7,2,  111.30,2,    2.21,2,  -999.0,9,  -999.0,9,   -0.28,2,   31.89,2,   0.1712,       0.06,      -3.06,2,       0.25,     -0.012,2,      0.000,2,     99.417,2
09AR20110104,       SR03,      52,          1,          4,          4,2,20110118,       2322,   -65.4332,   139.8580,       1907,  1344.9,   0.1134,  34.6725,2,  34.6731,2,    222.7,2,   222.2,2,  110.50,2,    2.22,2,  2260.8,2,  2351.7,2, -999.00,9,   31.85,2,   0.0486,     -999.0,     -999.0,9,     -999.0,     -0.013,2,      0.000,2,     99.432,2
09AR20110104,       SR03,      52,          1,          3,          3,2,20110118,       2322,   -65.4332,   139.8580,       1907,  1551.3,  -0.0591,  34.6614,2,  34.6615,2,    229.6,2,   229.6,2,  105.80,2,    2.20,2,  2258.8,2,  2347.9,2, -999.00,9,   31.79,2,  -0.1344,     -999.0,     -999.0,9,     -999.0,     -0.014,2,      0.000,2,     99.394,2
09AR20110104,       SR03,      52,          1,          2,        102,2,20110118,       2322,   -65.4332,   139.8580,       1907,  1750.5,  -0.3019,  34.6415,2,  34.6420,2,    241.6,2,   241.5,2,   99.60,2,    2.18,2,  -999.0,9,  -999.0,9,   -0.24,2,   31.58,2,  -0.3864,       0.08,      -3.09,2,       0.06,     -0.011,2,      0.000,2,     99.324,2
09AR20110104,       SR03,      52,          1,          1,          1,2,20110118,       2322,   -65.4332,   139.8580,       1907,  1914.9,  -0.5803,  34.6212,2,  34.6207,2,    254.6,2,   254.8,2,   94.00,2,    2.16,2,  2250.2,6,  2344.3,6,   -0.34,2,   31.50,2,  -0.6712,       0.08,      -3.29,2,       0.08,     -0.006,2,      0.000,2,     99.234,2
09AR20110104,       SR03,      53,          1,         24,         24,2,20110118,       0256,   -65.5387,   139.8380,       1302,     9.1,   0.5895,  33.8594,2,-999.0000,9,    355.5,2,  -999.0,9, -999.00,9, -999.00,9,  -999.0,9,  -999.0,9, -999.00,9, -999.00,9,   0.5891,     -999.0,     -999.0,9,     -999.0,      0.112,2,    300.239,2,     93.630,2
09AR20110104,       SR03,      53,          1,         23,         23,2,20110118,       0256,   -65.5387,   139.8380,       1302,     9.1,   0.5995,  33.8595,2,-999.0000,9,    355.5,2,  -999.0,9, -999.00,9, -999.00,9,  -999.0,9,  -999.0,9, -999.00,9, -999.00,9,   0.5991,     -999.0,     -999.0,9,     -999.0,      0.109,2,    332.139,2,     93.638,2
09AR20110104,       SR03,      53,          1,         22,         22,2,20110118,       0256,   -65.5387,   139.8380,       1302,     9.1,   0.5982,  33.8594,2,-999.0000,9,    355.5,2,  -999.0,9, -999.00,9, -999.00,9,  -999.0,9,  -999.0,9, -999.00,9, -999.00,9,   0.5978,     -999.0,     -999.0,9,     -999.0,      0.120,2,    440.239,2,     93.536,2
09AR20110104,       SR03,      53,          1,         21,         21,2,20110118,       0256,   -65.5387,   139.8380,       1302,     9.1,   0.5778,  33.8594,2,  33.8613,2,    355.5,2,   353.5,2,   46.10,2,    1.57,2,  2161.9,2,  2288.3,2, -999.00,9,   26.28,2,   0.5774,     -999.0,     -999.0,9,     -999.0,      0.141,2,    255.439,2,     93.559,2
09AR20110104,       SR03,      53,          1,         20,         20,2,20110118,       0256,   -65.5387,   139.8380,       1302,    39.4,  -0.3213,  33.8685,2,  33.9061,2,    350.4,2,   353.0,2,   46.80,2,    1.65,2,  2167.3,2,  2290.9,2, -999.00,9,   26.37,2,  -0.3225,     -999.0,     -999.0,9,     -999.0,      1.514,2,     30.059,2,     92.438,2
09AR20110104,       SR03,      53,          1,         19,         19,2,20110118,       0256,   -65.5387,   139.8380,       1302,    64.0,  -1.6019,  34.2837,2,-999.0000,9,    322.4,2,  -999.0,9, -999.00,9, -999.00,9,  -999.0,9,  -999.0,9, -999.00,9, -999.00,9,  -1.6033,     -999.0,     -999.0,9,     -999.0,      4.708,2,      4.384,2,     94.449,2
09AR20110104,       SR03,      53,          1,         18,         18,2,20110118,       0256,   -65.5387,   139.8380,       1302,    64.0,  -1.6022,  34.2839,2,  34.2882,2,    322.4,2,   321.4,2,   59.60,2,    1.91,2,  2207.7,2,  2316.0,2, -999.00,9,   28.74,2,  -1.6036,     -999.0,     -999.0,9,     -999.0,      4.850,2,      4.307,2,     94.397,2
09AR20110104,       SR03,      53,          1,         17,         17,2,20110118,       0256,   -65.5387,   139.8380,       1302,    74.3,  -1.6721,  34.3237,2,  34.3288,2,    305.0,2,   305.1,2,   63.70,2,    2.02,2,  -999.0,9,  -999.0,9, -999.00,9,   29.88,2,  -1.6736,     -999.0,     -999.0,9,     -999.0,      2.603,2,      1.560,2,     96.408,2
09AR20110104,       SR03,      53,          1,         16,         16,2,20110118,       0256,   -65.5387,   139.8380,       1302,   125.0,  -1.5495,  34.4058,2,  34.4063,2,    286.7,2,   285.8,2,   67.60,2,    2.07,2,  2229.1,2,  2319.6,2, -999.00,9,   30.73,2,  -1.5523,     -999.0,     -999.0,9,     -999.0,      0.134,2,      0.092,2,     99.274,2
09AR20110104,       SR03,      53,          1,         15,         15,2,20110118,       0256,   -65.5387,   139.8380,       1302,   199.3,  -1.1686,  34.4678,2,  34.4664,2,    272.4,2,   273.8,2,   72.50,2,    2.09,2,  -999.0,9,  -999.0,9, -999.00,9,   30.77,2,  -1.1739,     -999.0,     -999.0,9,     -999.0,      0.036,2,      0.000,2,     99.352,2
09AR20110104,       SR03,      53,          1,         14,         14,2,20110118,       0256,   -65.5387,   139.8380,       1302,   250.0,  -0.8435,  34.5079,2,  34.5089,2,    264.5,2,   262.9,2,   76.70,2,    2.08,2,  2238.2,2,  2331.2,2, -999.00,9,   30.98,2,  -0.8510,     -999.0,     -999.0,9,     -999.0,      0.021,2,      0.000,2,     99.318,2
09AR20110104,       SR03,      53,          1,         13,         13,2,20110118,       0256,   -65.5387,   139.8380,       1302,   299.5,  -0.6535,  34.5306,2,  34.5315,2,    254.3,2,   257.2,2, -999.00,9, -999.00,9,  -999.0,9,  -999.0,9, -999.00,9, -999.00,9,  -0.6631,     -999.0,     -999.0,9,     -999.0,      0.026,2,      0.000,2,     99.348,2
09AR20110104,       SR03,      53,          1,         12,         12,2,20110118,       0256,   -65.5387,   139.8380,       1302,   390.7,  -0.5133,  34.5673,2,  34.5680,2,    247.4,2,   253.1,2,   83.40,2,    2.10,2,  -999.0,9,  -999.0,9, -999.00,9,   30.95,2,  -0.5267,     -999.0,     -999.0,9,     -999.0,      0.016,2,      0.000,2,     99.259,2
09AR20110104,       SR03,      53,          1,         11,         11,2,20110118,       0256,   -65.5387,   139.8380,       1302,   500.5,  -0.8195,  34.5690,2,  34.5693,2,    255.2,2,   265.5,2,   83.60,2,    2.08,2,  -999.0,9,  -999.0,9, -999.00,9,   30.78,2,  -0.8359,     -999.0,     -999.0,9,     -999.0,      0.024,2,      0.000,2,     99.192,2
09AR20110104,       SR03,      53,          1,         10,         10,2,20110118,       0256,   -65.5387,   139.8380,       1302,   601.4,  -0.8410,  34.5773,2,  34.5830,2,    255.3,2,   266.1,2,   84.80,2,    2.10,2,  2240.8,2,  2338.7,2, -999.00,9,   30.95,2,  -0.8611,     -999.0,     -999.0,9,     -999.0,      0.021,2,      0.000,2,     99.188,2
09AR20110104,       SR03,      53,          1,          9,          9,2,20110118,       0256,   -65.5387,   139.8380,       1302,   700.5,  -0.7785,  34.5885,2,  34.5883,2,    257.3,2,   262.8,2,   87.00,2,    2.11,2,  -999.0,9,  -999.0,9, -999.00,9,   31.07,2,  -0.8030,     -999.0,     -999.0,9,     -999.0,      0.017,2,      0.000,2,     99.228,2
09AR20110104,       SR03,      53,          1,          8,          8,2,20110118,       0256,   -65.5387,   139.8380,       1302,   800.6,  -0.5041,  34.6220,2,  34.6219,2,    256.8,2,   249.7,2,   94.10,2,    2.13,2,  2251.6,2,  2343.9,2, -999.00,9,   31.31,2,  -0.5347,     -999.0,     -999.0,9,     -999.0,      0.004,2,      0.000,2,     99.326,2
09AR20110104,       SR03,      53,          1,          7,          7,2,20110118,       0256,   -65.5387,   139.8380,       1302,   900.8,  -0.5569,  34.6194,2,-999.0000,9,    256.7,2,  -999.0,9, -999.00,9, -999.00,9,  -999.0,9,  -999.0,9, -999.00,9, -999.00,9,  -0.5917,     -999.0,     -999.0,9,     -999.0,     -0.008,2,      0.000,2,     99.306,2
09AR20110104,       SR03,      53,          1,          6,          6,2,20110118,       0256,   -65.5387,   139.8380,       1302,   901.1,  -0.5569,  34.6197,2,-999.0000,9,    256.7,2,  -999.0,9, -999.00,9, -999.00,9,  -999.0,9,  -999.0,9, -999.00,9, -999.00,9,  -0.5917,     -999.0,     -999.0,9,     -999.0,     -0.006,2,      0.000,2,     99.312,2
09AR20110104,       SR03,      53,          1,          5,          5,2,20110118,       0256,   -65.5387,   139.8380,       1302,   900.8,  -0.5582,  34.6195,2,  34.6195,2,    256.7,2,   252.2,2,   93.40,2,    2.13,2,  -999.0,9,  -999.0,9, -999.00,9,   31.42,2,  -0.5930,     -999.0,     -999.0,9,     -999.0,     -0.003,2,      0.000,2,     99.312,2
09AR20110104,       SR03,      53,          1,          4,          4,2,20110118,       0256,   -65.5387,   139.8380,       1302,   999.4,  -0.6069,  34.6201,2,  34.6196,2,    255.8,2,   253.8,2,   92.60,2,    2.13,2,  2249.9,2,  2342.7,2, -999.00,9,   31.36,2,  -0.6460,     -999.0,     -999.0,9,     -999.0,      0.003,2,      0.000,2,     99.296,2
09AR20110104,       SR03,      53,          1,          3,          3,2,20110118,       0256,   -65.5387,   139.8380,       1302,  1101.3,  -0.6551,  34.6185,2,  34.6178,2,    255.3,2,   255.9,2,   91.50,2,    2.12,2,  -999.0,9,  -999.0,9, -999.00,9,   31.09,2,  -0.6988,     -999.0,     -999.0,9,     -999.0,     -0.012,2,      0.000,2,     99.285,2
09AR20110104,       SR03,      53,          1,          2,        102,2,20110118,       0256,   -65.5387,   139.8380,       1302,  1201.0,  -0.6503,  34.6184,2,  34.6172,2,    255.7,2,   256.0,2,   91.80,2,    2.12,2,  -999.0,9,  -999.0,9, -999.00,9,   31.20,2,  -0.6990,     -999.0,     -999.0,9,     -999.0,      0.005,2,      0.000,2,     99.282,2
09AR20110104,       SR03,      53,          1,          1,          1,2,20110118,       0256,   -65.5387,   139.8380,       1302,  1314.0,  -0.7259,  34.6136,2,  34.6121,2,    257.1,2,   259.7,2,   90.60,2,    2.11,2,  2248.8,6,  2342.0,2, -999.00,9,   31.21,2,  -0.7797,     -999.0,     -999.0,9,     -999.0,     -0.012,2,      0.000,2,     99.255,2