BOTTLE,20230419CCHSIOENA
EXPOCODE,SECT_ID,STNNBR,CASTNO,SAMPNO,BTLNBR,BTLNBR_FLAG_W,DATE,TIME,LATITUDE,LONGITUDE,DEPTH,CTDPRS,CTDTMP,CTDSAL,CTDSAL_FLAG_W,SALNTY,SALNTY_FLAG_W,CTDOXY,CTDOXY_FLAG_W,OXYGEN,OXYGEN_FLAG_W,SILCAT,SILCAT_FLAG_W,PHSPHT,PHSPHT_FLAG_W,TCARBN,TCARBN_FLAG_W,ALKALI,ALKALI_FLAG_W,DELO18,DELO18_FLAG_W,NO2+NO3,NO2+NO3_FLAG_W,THETA,O18ERR,DELD,DELD_FLAG_W,DELDERR,CTDFLUOR,CTDFLUOR_FLAG_W,PAR,PAR_FLAG_W,CTDXMISS,CTDXMISS_FLAG_W
,,,,,,,,,,,METERS,DBAR,ITS-90,PSS-78,,PSS-78,,UMOL/KG,,UMOL/KG,,UMOL/KG,,UMOL/KG,,UMOL/KG,,UMOL/KG,,/MILLE,,UMOL/KG,,DEG C,/MILLE,/MILLE,,/MILLE,MG/M^3,,UMOL/M^2/SEC,,%TRANS,
09AR20110104,       SR03,       5,          1,         24,         24,2,20110105,       0249,   -44.3893,   146.1970,       2327,     9.9,  14.0023,  35.0533,2,  35.0601,4,    268.6,2,   269.8,2,    0.80,2,    0.30,2,  2068.3,6,  2313.6,2, -999.00,9,    2.70,2,  14.0009,     -999.0,     -999.0,9,     -999.0,      0.129,2,     58.659,2,     -999.0,5
09AR20110104,       SR03,       5,          1,         23,         23,2,20110105,       0249,   -44.3893,   146.1970,       2327,    23.8,  13.7570,  35.0623,2,  35.0600,2,    269.7,2,   265.4,2,    0.80,2,    0.29,2,  -999.0,9,  -999.0,9, -999.00,9,    2.60,2,  13.7536,     -999.0,     -999.0,9,     -999.0,      1.407,2,     21.779,2,     -999.0,5
09AR20110104,       SR03,       5,          1,         22,         22,2,20110105,       0249,   -44.3893,   146.1970,       2327,    40.0,  13.6834,  35.0542,2,  35.0665,4,    266.0,2,   264.3,2,    0.80,2,    0.31,2,  2068.8,2,  2314.0,6, -999.00,9,    2.70,2,  13.6777,     -999.0,     -999.0,9,     -999.0,      1.819,2,      6.965,2,     -999.0,5
09AR20110104,       SR03,       5,          1,         21,         21,2,20110105,       0249,   -44.3893,   146.1970,       2327,    68.9,  12.7206,  34.9921,2,  35.0600,4,    262.4,2,   259.8,2,    1.10,2,    0.44,2,  2083.1,2,  2311.8,2, -999.00,9,    4.12,2,  12.7113,     -999.0,     -999.0,9,     -999.0,      0.393,2,      0.866,2,     -999.0,5
09AR20110104,       SR03,       5,          1,         20,         20,2,20110105,       0249,   -44.3893,   146.1970,       2327,    99.9,  11.9147,  35.0293,2,  34.9143,3,    256.5,2,   257.2,2,    2.20,2,    0.62,2,  2106.1,2,  2306.6,2, -999.00,9,    7.96,2,  11.9018,     -999.0,     -999.0,9,     -999.0,      0.047,2,      0.140,2,     -999.0,5
09AR20110104,       SR03,       5,          1,         19,         19,2,20110105,       0249,   -44.3893,   146.1970,       2327,   200.1,  11.0769,  34.9750,2,  34.9760,2,    261.1,2,   257.8,2,    3.00,2,    0.75,2,  2113.4,2,  2306.4,2, -999.00,9,   10.11,2,  11.0521,     -999.0,     -999.0,9,     -999.0,     -0.028,2,      0.000,2,     -999.0,5
09AR20110104,       SR03,       5,          1,         18,         18,2,20110105,       0249,   -44.3893,   146.1970,       2327,   299.6,   9.7409,  34.7275,2,  34.7309,2,    258.3,2,   262.0,2,    3.50,2,    0.92,2,  2115.7,2,  2294.5,2, -999.00,9,   12.73,2,   9.7066,     -999.0,     -999.0,9,     -999.0,     -0.041,2,      0.000,2,     -999.0,5
09AR20110104,       SR03,       5,          1,         17,         17,2,20110105,       0249,   -44.3893,   146.1970,       2327,   400.6,   9.1510,  34.6380,2,  34.6405,2,    256.1,2,   250.8,2,    4.50,2,    1.09,2,  2126.2,2,  2290.4,2, -999.00,9,   15.62,2,   9.1067,     -999.0,     -999.0,9,     -999.0,     -0.034,2,      0.000,2,     -999.0,5
09AR20110104,       SR03,       5,          1,         16,         16,2,20110105,       0249,   -44.3893,   146.1970,       2327,   501.2,   8.8095,  34.5982,2,  34.6018,2,    240.5,2,   242.6,2,    5.70,2,    1.20,2,  2132.8,2,  2289.6,2, -999.00,9,   17.41,2,   8.7551,     -999.0,     -999.0,9,     -999.0,     -0.031,2,      0.000,2,     -999.0,5
09AR20110104,       SR03,       5,          1,         15,         15,2,20110105,       0249,   -44.3893,   146.1970,       2327,   600.2,   8.4368,  34.5843,2,  34.5877,2,    221.1,2,   222.2,2,    9.20,2,    1.42,2,  2148.8,2,  2286.2,2, -999.00,9,   20.81,2,   8.3729,     -999.0,     -999.0,9,     -999.0,     -0.010,2,      0.000,2,     -999.0,5
09AR20110104,       SR03,       5,          1,         14,         14,2,20110105,       0249,   -44.3893,   146.1970,       2327,   702.2,   7.3207,  34.4919,2,  34.4946,2,    213.1,2,   202.6,2,   14.80,2,    1.63,2,  -999.0,9,  -999.0,9, -999.00,9,   24.28,2,   7.2514,     -999.0,     -999.0,9,     -999.0,     -0.001,2,      0.000,2,     -999.0,5
09AR20110104,       SR03,       5,          1,         13,         13,2,20110105,       0249,   -44.3893,   146.1970,       2327,   799.3,   6.5085,  34.4355,2,  34.4497,4,    204.1,2,   205.1,2,   19.60,2,    1.79,2,  2174.2,2,  2291.1,2, -999.00,9,   26.32,2,   6.4340,     -999.0,     -999.0,9,     -999.0,      0.000,2,      0.000,2,     -999.0,5
09AR20110104,       SR03,       5,          1,         12,         12,2,20110105,       0249,   -44.3893,   146.1970,       2327,   900.8,   5.6856,  34.4342,2,  34.4386,4,    192.4,2,   189.5,2,   29.90,2,    1.94,2,  -999.0,9,  -999.0,9, -999.00,9,   28.52,2,   5.6066,     -999.0,     -999.0,9,     -999.0,      0.005,2,      0.000,2,     -999.0,5
09AR20110104,       SR03,       5,          1,         11,         11,2,20110105,       0249,   -44.3893,   146.1970,       2327,  1000.9,   5.0634,  34.4464,2,  34.4506,4,    183.2,2,   182.4,2,   39.60,2,    2.05,2,  -999.0,9,  -999.0,9, -999.00,9,   29.90,2,   4.9796,     -999.0,     -999.0,9,     -999.0,      0.005,2,      0.000,2,     -999.0,5
09AR20110104,       SR03,       5,          1,         10,         10,2,20110105,       0249,   -44.3893,   146.1970,       2327,  1098.9,   4.0496,  34.4153,2,  34.4186,2,    174.6,2,   185.4,2,   47.10,2,    2.18,2,  -999.0,9,  -999.0,9, -999.00,9,   31.62,2,   3.9654,     -999.0,     -999.0,9,     -999.0,      0.004,2,      0.000,2,     -999.0,5
09AR20110104,       SR03,       5,          1,          9,          9,2,20110105,       0249,   -44.3893,   146.1970,       2327,  1200.4,   3.7460,  34.4925,2,  34.4907,2,    170.7,2,   169.0,2,   62.70,2,    2.28,2,  -999.0,9,  -999.0,9, -999.00,9,   32.61,2,   3.6557,     -999.0,     -999.0,9,     -999.0,      0.002,2,      0.000,2,     -999.0,5
09AR20110104,       SR03,       5,          1,          8,          8,2,20110105,       0249,   -44.3893,   146.1970,       2327,  1301.4,   3.3155,  34.5018,2,  34.5048,2,    173.2,2,   169.2,2,   66.30,2,    2.32,2,  -999.0,9,  -999.0,9, -999.00,9,   33.13,2,   3.2209,     -999.0,     -999.0,9,     -999.0,      0.001,2,      0.000,2,     -999.0,5
09AR20110104,       SR03,       5,          1,          7,          7,2,20110105,       0249,   -44.3893,   146.1970,       2327,  1399.8,   2.9835,  34.5397,2,  34.5423,2,    164.1,2,   166.6,2,   72.40,2,    2.34,2,  -999.0,9,  -999.0,9, -999.00,9,   33.43,2,   2.8842,     -999.0,     -999.0,9,     -999.0,     -0.003,2,      0.000,2,     -999.0,5
09AR20110104,       SR03,       5,          1,          6,          6,2,20110105,       0249,   -44.3893,   146.1970,       2327,  1500.0,   2.7204,  34.5889,2,  34.5940,4,    165.5,2,   166.5,2,   77.80,2,    2.32,2,  -999.0,9,  -999.0,9, -999.00,9,   33.34,2,   2.6157,     -999.0,     -999.0,9,     -999.0,     -0.003,2,      0.000,2,     -999.0,5
09AR20110104,       SR03,       5,          1,          5,          5,2,20110105,       0249,   -44.3893,   146.1970,       2327,  1700.7,   2.4731,  34.6477,2,  34.6369,4,    170.4,2,   169.7,2,   82.20,2,    2.29,2,  -999.0,9,  -999.0,9, -999.00,9,   32.85,2,   2.3548,     -999.0,     -999.0,9,     -999.0,     -0.002,2,      0.000,2,     -999.0,5
09AR20110104,       SR03,       5,          1,          4,          4,2,20110105,       0249,   -44.3893,   146.1970,       2327,  1898.5,   2.3733,  34.6755,2,  34.6505,4,    175.1,2,   171.9,2,   85.10,2,    2.25,2,  -999.0,9,  -999.0,9, -999.00,9,   32.49,2,   2.2397,     -999.0,     -999.0,9,     -999.0,      0.013,2,      0.000,2,     -999.0,5
09AR20110104,       SR03,       5,          1,          3,          3,2,20110105,       0249,   -44.3893,   146.1970,       2327,  2100.4,   2.2112,  34.7083,2,  34.7050,4,    173.9,2,   174.2,2,   91.70,2,    2.24,2,  -999.0,9,  -999.0,9, -999.00,9,   32.16,2,   2.0626,     -999.0,     -999.0,9,     -999.0,     -0.001,2,      0.000,2,     -999.0,5
09AR20110104,       SR03,       5,          1,          2,        102,2,20110105,       0249,   -44.3893,   146.1970,       2327,  2253.4,   2.1075,  34.7224,2,  34.7252,2,    175.8,2,   175.5,2,   96.30,2,    2.24,2,  -999.0,9,  -999.0,9, -999.00,9,   32.00,2,   1.9471,     -999.0,     -999.0,9,     -999.0,     -0.002,2,      0.000,2,     -999.0,5
09AR20110104,       SR03,       5,          1,          1,          1,2,20110105,       0249,   -44.3893,   146.1970,       2327,  2345.6,   2.0539,  34.7260,2,  34.7233,2,    176.8,2,   176.8,2,   98.20,2,    2.24,2,  -999.0,9,  -999.0,9, -999.00,9,   31.92,2,   1.8863,     -999.0,     -999.0,9,     -999.0,     -0.120,2,      0.000,2,     -999.0,5
09AR20110104,       SR03,       6,          1,         24,         24,2,20110105,       0814,   -44.7242,   146.0480,       3210,    10.1,  13.7560,  35.0488,2,  35.0497,2,    264.7,2,   264.0,2,    0.90,2,    0.35,2,  2072.1,6,  2312.1,6, -999.00,9,    3.26,2,  13.7546,     -999.0,     -999.0,9,     -999.0,      1.851,2,      0.000,2,     -999.0,5
09AR20110104,       SR03,       6,          1,         23,         23,2,20110105,       0814,   -44.7242,   146.0480,       3210,    39.9,  13.5603,  35.0481,2,  35.0493,2,    261.4,2,   261.5,2,    0.90,2,    0.36,2,  2074.9,2,  2314.0,2, -999.00,9,    3.41,2,  13.5547,     -999.0,     -999.0,9,     -999.0,      1.994,2,      0.000,2,     -999.0,5
09AR20110104,       SR03,       6,          1,         22,         22,2,20110105,       0814,   -44.7242,   146.0480,       3210,    70.0,  13.5060,  35.0473,2,  35.0541,2,    256.4,2,   256.4,2,    1.10,2,    0.39,2,  2079.5,2,  2311.3,2, -999.00,9,    3.80,2,  13.4962,     -999.0,     -999.0,9,     -999.0,      1.041,2,      0.000,2,     -999.0,5
09AR20110104,       SR03,       6,          1,         21,         21,2,20110105,       0814,   -44.7242,   146.0480,       3210,   100.2,  12.4963,  35.1991,2,  35.2001,2,    234.7,2,   236.7,2,    3.10,2,    0.65,2,  2110.7,2,  2312.5,2, -999.00,9,    8.70,2,  12.4829,     -999.0,     -999.0,9,     -999.0,     -0.006,2,      0.000,2,     -999.0,5
09AR20110104,       SR03,       6,          1,         20,         20,2,20110105,       0814,   -44.7242,   146.0480,       3210,   150.6,  11.8796,  35.1090,2,  35.1082,2,    239.7,2,   241.7,2,    3.20,2,    0.72,2,  2111.3,2,  2306.3,2, -999.00,9,    9.52,2,  11.8601,     -999.0,     -999.0,9,     -999.0,     -0.026,2,      0.000,2,     -999.0,5
09AR20110104,       SR03,       6,          1,         19,         19,2,20110105,       0814,   -44.7242,   146.0480,       3210,   201.4,  11.0836,  34.9695,2,  34.9677,2,    248.4,2,   244.7,2,    3.50,2,    0.82,2,  2117.2,2,  2298.9,2, -999.00,9,   11.04,2,  11.0586,     -999.0,     -999.0,9,     -999.0,     -0.027,2,      0.000,2,     -999.0,5
09AR20110104,       SR03,       6,          1,         18,         18,2,20110105,       0814,   -44.7242,   146.0480,       3210,   301.6,   9.8160,  34.7511,2,  34.7543,2,    243.8,2,   248.5,2,    4.10,2,    0.99,2,  2123.3,2,  2297.3,2, -999.00,9,   13.78,2,   9.7813,     -999.0,     -999.0,9,     -999.0,     -0.038,2,      0.000,2,     -999.0,5
09AR20110104,       SR03,       6,          1,         17,         17,2,20110105,       0814,   -44.7242,   146.0480,       3210,   399.7,   8.9765,  34.6184,2,  34.6200,2,    242.5,2,   244.3,2,    5.10,2,    1.17,2,  2132.1,2,  2291.6,2, -999.00,9,   16.60,2,   8.9328,     -999.0,     -999.0,9,     -999.0,     -0.030,2,      0.000,2,     -999.0,5
09AR20110104,       SR03,       6,          1,         16,         16,2,20110105,       0814,   -44.7242,   146.0480,       3210,   501.9,   8.7349,  34.6094,2,  34.6079,2,    232.7,2,   224.2,2,    7.40,2,    1.34,2,  2143.8,2,  2286.2,2, -999.00,9,   19.12,2,   8.6807,     -999.0,     -999.0,9,     -999.0,     -0.017,2,      0.000,2,     -999.0,5
09AR20110104,       SR03,       6,          1,         15,         15,2,20110105,       0814,   -44.7242,   146.0480,       3210,   600.7,   8.0925,  34.5296,2,  34.5309,2,    223.5,2,   224.5,2,    9.10,2,    1.43,2,  2148.7,2,  2288.7,2, -999.00,9,   20.65,2,   8.0301,     -999.0,     -999.0,9,     -999.0,     -0.012,2,      0.000,2,     -999.0,5
09AR20110104,       SR03,       6,          1,         14,         14,2,20110105,       0814,   -44.7242,   146.0480,       3210,   700.9,   7.4515,  34.5015,2,  34.5049,2,    203.7,2,   203.5,2,   14.20,2,    1.62,2,  2164.5,2,  2289.2,2, -999.00,9,   23.75,2,   7.3816,     -999.0,     -999.0,9,     -999.0,     -0.002,2,      0.000,2,     -999.0,5
09AR20110104,       SR03,       6,          1,         13,         13,2,20110105,       0814,   -44.7242,   146.0480,       3210,   801.3,   6.5526,  34.4367,2,  34.4382,2,    199.8,2,   200.7,2,   19.00,2,    1.79,2,  2176.9,2,  2292.0,6, -999.00,9,   26.08,2,   6.4776,     -999.0,     -999.0,9,     -999.0,      0.002,2,      0.000,2,     -999.0,5
09AR20110104,       SR03,       6,          1,         12,         12,2,20110105,       0814,   -44.7242,   146.0480,       3210,   899.0,   5.6191,  34.4027,2,  34.4037,2,    197.6,2,   197.2,2,   26.60,2,    1.94,2,  2188.0,2,  2296.3,2, -999.00,9,   28.22,2,   5.5408,     -999.0,     -999.0,9,     -999.0,      0.004,2,      0.000,2,     -999.0,5
09AR20110104,       SR03,       6,          1,         11,         11,2,20110105,       0814,   -44.7242,   146.0480,       3210,  1001.1,   5.0425,  34.4047,2,  34.4042,2,    193.2,2,   191.8,2,   34.10,2,    2.06,2,  2200.6,2,  2304.7,2, -999.00,9,   29.57,2,   4.9589,     -999.0,     -999.0,9,     -999.0,      0.005,2,      0.000,2,     -999.0,5
09AR20110104,       SR03,       6,          1,         10,         10,2,20110105,       0814,   -44.7242,   146.0480,       3210,  1203.4,   3.9871,  34.4649,2,  34.4641,2,    175.5,2,   173.8,2,   56.40,2,    2.27,2,  2233.5,2,  2326.6,2, -999.00,9,   32.14,2,   3.8944,     -999.0,     -999.0,9,     -999.0,      0.003,2,      0.000,2,     -999.0,5
09AR20110104,       SR03,       6,          1,          9,          9,2,20110105,       0814,   -44.7242,   146.0480,       3210,  1395.2,   3.2772,  34.5316,2,  34.5303,2,    163.2,2,   162.4,2,   73.80,2,    2.39,2,  2257.4,2,  2342.0,2, -999.00,9,   33.46,2,   3.1751,     -999.0,     -999.0,9,     -999.0,     -0.009,2,      0.000,2,     -999.0,5
09AR20110104,       SR03,       6,          1,          8,          8,2,20110105,       0814,   -44.7242,   146.0480,       3210,  1604.0,   2.7218,  34.5930,2,  34.5927,2,    165.7,2,   166.3,2,   78.30,2,    2.37,2,  2258.5,2,  2346.2,2, -999.00,9,   33.26,2,   2.6086,     -999.0,     -999.0,9,     -999.0,     -0.007,2,      0.000,2,     -999.0,5
09AR20110104,       SR03,       6,          1,          7,          7,2,20110105,       0814,   -44.7242,   146.0480,       3210,  1798.5,   2.4695,  34.6496,2,  34.6487,2,    169.8,2,   170.8,2,   81.60,2,    2.32,2,  2259.7,2,  2350.6,2, -999.00,9,   32.58,2,   2.3431,     -999.0,     -999.0,9,     -999.0,     -0.002,2,      0.000,2,     -999.0,5
09AR20110104,       SR03,       6,          1,          6,          6,2,20110105,       0814,   -44.7242,   146.0480,       3210,  2002.1,   2.2877,  34.6953,2,  34.6854,4,    171.9,2,   173.1,2,   87.70,2,    2.29,2,  2265.2,2,  2353.2,6, -999.00,9,   32.04,2,   2.1465,     -999.0,     -999.0,9,     -999.0,      0.002,2,      0.000,2,     -999.0,5
09AR20110104,       SR03,       6,          1,          5,          5,2,20110105,       0814,   -44.7242,   146.0480,       3210,  2251.4,   2.1601,  34.7184,2,  34.7172,2,    175.6,2,   175.3,2,   93.00,2,    2.29,2,  2269.1,2,  2360.4,2, -999.00,9,   31.72,2,   1.9991,     -999.0,     -999.0,9,     -999.0,     -0.002,2,      0.000,2,     -999.0,5
09AR20110104,       SR03,       6,          1,          4,          4,2,20110105,       0814,   -44.7242,   146.0480,       3210,  2501.9,   1.9995,  34.7324,2,  34.7206,4,    178.8,2,   178.8,2,   99.10,2,    2.29,2,  2268.8,2,  2369.0,2, -999.00,9,   31.67,2,   1.8187,     -999.0,     -999.0,9,     -999.0,     -0.001,2,      0.000,2,     -999.0,5
09AR20110104,       SR03,       6,          1,          3,          3,2,20110105,       0814,   -44.7242,   146.0480,       3210,  2751.0,   1.8458,  34.7350,2,  34.7309,4,    182.8,2,   182.5,2,  103.20,2,    2.26,2,  2273.3,2,  -999.0,9, -999.00,9,   31.54,2,   1.6449,     -999.0,     -999.0,9,     -999.0,     -0.002,2,      0.000,2,     -999.0,5
09AR20110104,       SR03,       6,          1,          2,        102,2,20110105,       0814,   -44.7242,   146.0480,       3210,  3002.4,   1.6713,  34.7347,2,  34.7340,2,    187.4,2,   187.7,2,  107.00,2,    2.25,2,  -999.0,9,  -999.0,9, -999.00,9,   31.48,2,   1.4502,     -999.0,     -999.0,9,     -999.0,     -0.002,2,      0.000,2,     -999.0,5
09AR20110104,       SR03,       6,          1,          1,          1,2,20110105,       0814,   -44.7242,   146.0480,       3210,  3249.4,   1.5377,  34.7320,2,  34.7315,2,    191.3,2,   190.3,2,  110.80,2,    2.27,2,  2272.1,6,  2373.9,6, -999.00,9,   31.66,2,   1.2955,     -999.0,     -999.0,9,     -999.0,     -0.126,2,      0.000,2,     -999.0,5