BOTTLE,20230419CCHSIOENA
EXPOCODE,SECT_ID,STNNBR,CASTNO,SAMPNO,BTLNBR,BTLNBR_FLAG_W,DATE,TIME,LATITUDE,LONGITUDE,DEPTH,CTDPRS,CTDTMP,CTDSAL,CTDSAL_FLAG_W,SALNTY,SALNTY_FLAG_W,CTDOXY,CTDOXY_FLAG_W,OXYGEN,OXYGEN_FLAG_W,SILCAT,SILCAT_FLAG_W,PHSPHT,PHSPHT_FLAG_W,TCARBN,TCARBN_FLAG_W,ALKALI,ALKALI_FLAG_W,DELO18,DELO18_FLAG_W,NO2+NO3,NO2+NO3_FLAG_W,THETA,O18ERR,DELD,DELD_FLAG_W,DELDERR,CTDFLUOR,CTDFLUOR_FLAG_W,PAR,PAR_FLAG_W,CTDXMISS,CTDXMISS_FLAG_W
,,,,,,,,,,,METERS,DBAR,ITS-90,PSS-78,,PSS-78,,UMOL/KG,,UMOL/KG,,UMOL/KG,,UMOL/KG,,UMOL/KG,,UMOL/KG,,/MILLE,,UMOL/KG,,DEG C,/MILLE,/MILLE,,/MILLE,MG/M^3,,UMOL/M^2/SEC,,%TRANS,
09AR20110104,       SR03,       9,          1,         24,         24,2,20110106,       0227,   -46.1735,   145.4800,       2726,    10.5,  10.9944,  34.5515,2,-999.0000,9,    283.1,2,   285.1,2,    1.00,2,    0.78,2,  2083.0,6,  2291.7,6, -999.00,9,   10.18,2,  10.9931,     -999.0,     -999.0,9,     -999.0,      0.928,2,     58.969,2,     91.880,2
09AR20110104,       SR03,       9,          1,         23,         23,2,20110106,       0227,   -46.1735,   145.4800,       2726,    24.8,  10.6502,  34.5491,2,  34.5480,2,    286.5,2,   288.0,2,    0.90,2,    0.76,2,  -999.0,9,  -999.0,9, -999.00,9,   10.07,2,  10.6472,     -999.0,     -999.0,9,     -999.0,      3.599,2,     17.309,2,     90.284,2
09AR20110104,       SR03,       9,          1,         22,         22,2,20110106,       0227,   -46.1735,   145.4800,       2726,    50.4,  10.5600,  34.5494,2,  34.5494,2,    284.3,2,   282.4,2,    1.10,2,    0.80,2,  2085.6,2,  2294.8,2, -999.00,9,   10.45,2,  10.5540,     -999.0,     -999.0,9,     -999.0,      4.420,2,      2.662,2,     92.850,2
09AR20110104,       SR03,       9,          1,         21,         21,2,20110106,       0227,   -46.1735,   145.4800,       2726,    76.1,   9.5515,  34.5685,2,  34.5677,2,    278.6,2,   278.0,2,    3.10,2,    0.97,2,  2104.8,2,  2294.2,2, -999.00,9,   12.50,2,   9.5430,     -999.0,     -999.0,9,     -999.0,      2.060,2,      0.320,2,     95.885,2
09AR20110104,       SR03,       9,          1,         20,         20,2,20110106,       0227,   -46.1735,   145.4800,       2726,   125.8,   8.9126,  34.5750,2,  34.5732,2,    267.3,2,   275.1,2,    3.90,2,    1.04,2,  2114.7,2,  2290.6,2, -999.00,9,   14.49,2,   8.8991,     -999.0,     -999.0,9,     -999.0,      0.091,2,      0.000,2,     98.683,2
09AR20110104,       SR03,       9,          1,         19,         19,2,20110106,       0227,   -46.1735,   145.4800,       2726,   175.5,   8.8162,  34.5767,2,  34.5769,2,    272.2,2,   272.7,2,    4.00,2,    1.07,2,  2117.5,2,  2291.3,2, -999.00,9,   14.74,2,   8.7975,     -999.0,     -999.0,9,     -999.0,      0.007,2,      0.000,2,     98.789,2
09AR20110104,       SR03,       9,          1,         18,         18,2,20110106,       0227,   -46.1735,   145.4800,       2726,   249.7,   8.6117,  34.5462,2,  34.5659,2,    277.0,2,   268.9,2,    4.40,2,    1.12,2,  2120.6,2,  2288.5,2, -999.00,9,   15.61,2,   8.5854,     -999.0,     -999.0,9,     -999.0,     -0.017,2,      0.000,2,     99.124,2
09AR20110104,       SR03,       9,          1,         17,         17,2,20110106,       0227,   -46.1735,   145.4800,       2726,   350.8,   8.6218,  34.5558,2,  34.5537,2,    271.7,2,   272.7,2,    4.10,2,    1.08,2,  2117.2,2,  2288.1,2, -999.00,9,   15.17,2,   8.5845,     -999.0,     -999.0,9,     -999.0,     -0.033,2,      0.000,2,     99.159,2
09AR20110104,       SR03,       9,          1,         16,         16,2,20110106,       0227,   -46.1735,   145.4800,       2726,   450.4,   8.5425,  34.5459,2,  34.5443,2,    268.4,2,   271.2,2,    4.40,2,    1.10,2,  2121.2,2,  2287.8,6, -999.00,9,   15.53,2,   8.4947,     -999.0,     -999.0,9,     -999.0,     -0.043,2,      0.000,2,     99.296,2
09AR20110104,       SR03,       9,          1,         15,         15,2,20110106,       0227,   -46.1735,   145.4800,       2726,   552.6,   8.1895,  34.4877,2,  34.4866,2,    266.5,2,   268.0,2,    5.10,2,    1.19,2,  2122.9,2,  2285.7,2, -999.00,9,   16.93,2,   8.1319,     -999.0,     -999.0,9,     -999.0,     -0.038,2,      0.000,2,     99.380,2
09AR20110104,       SR03,       9,          1,         14,         14,2,20110106,       0227,   -46.1735,   145.4800,       2726,   649.7,   7.5142,  34.4023,2,  34.4025,2,    252.2,2,   254.5,2,    7.30,2,    1.38,2,  -999.0,9,  -999.0,9, -999.00,9,   19.85,2,   7.4495,     -999.0,     -999.0,9,     -999.0,     -0.026,2,      0.000,2,     99.466,2
09AR20110104,       SR03,       9,          1,         13,         13,2,20110106,       0227,   -46.1735,   145.4800,       2726,   749.1,   6.9396,  34.3844,2,  34.3831,2,    235.2,2,   232.9,2,   11.30,2,    1.57,2,  2151.1,2,  2286.0,2, -999.00,9,   22.92,2,   6.8677,     -999.0,     -999.0,9,     -999.0,     -0.009,2,      0.000,2,     99.506,2
09AR20110104,       SR03,       9,          1,         12,         12,2,20110106,       0227,   -46.1735,   145.4800,       2726,   849.4,   6.4306,  34.4040,2,-999.0000,9,    212.2,2,   209.8,2,   17.20,2,    1.76,2,  -999.0,9,  -999.0,9, -999.00,9,   25.75,2,   6.3517,     -999.0,     -999.0,9,     -999.0,     -0.001,2,      0.000,2,     99.565,2
09AR20110104,       SR03,       9,          1,         11,         11,2,20110106,       0227,   -46.1735,   145.4800,       2726,   952.8,   5.3437,  34.3428,2,  34.3390,2,    211.8,2,   212.5,2,   22.60,2,    1.90,2,  2178.7,2,  2289.8,2, -999.00,9,   27.97,2,   5.2624,     -999.0,     -999.0,9,     -999.0,      0.008,2,      0.000,2,     99.674,2
09AR20110104,       SR03,       9,          1,         10,         10,2,20110106,       0227,   -46.1735,   145.4800,       2726,  1053.9,   4.4987,  34.3169,2,  34.3168,2,    212.7,2,   213.0,2,   28.60,2,    2.04,2,  -999.0,9,  -999.0,9, -999.00,9,   29.60,2,   4.4148,     -999.0,     -999.0,9,     -999.0,      0.006,2,      0.000,2,     99.749,2
09AR20110104,       SR03,       9,          1,          9,          9,2,20110106,       0227,   -46.1735,   145.4800,       2726,  1201.4,   3.9313,  34.3694,2,  34.3674,2,    195.3,2,   196.5,2,   41.60,2,    2.19,2,  -999.0,9,  -999.0,9, -999.00,9,   31.62,2,   3.8395,     -999.0,     -999.0,9,     -999.0,      0.005,2,      0.000,2,     99.789,2
09AR20110104,       SR03,       9,          1,          8,          8,2,20110106,       0227,   -46.1735,   145.4800,       2726,  1398.9,   3.2368,  34.4242,2,  34.4234,2,    184.4,2,   185.0,2,   54.30,2,    2.31,2,  -999.0,9,  -999.0,9, -999.00,9,   33.24,2,   3.1351,     -999.0,     -999.0,9,     -999.0,      0.010,2,      0.000,2,     99.820,2
09AR20110104,       SR03,       9,          1,          7,          7,2,20110106,       0227,   -46.1735,   145.4800,       2726,  1599.0,   2.8250,  34.5173,2,  34.5160,2,    175.0,2,   175.4,2,   65.20,2,    2.34,2,  2243.3,2,  2327.7,2, -999.00,9,   33.71,2,   2.7111,     -999.0,     -999.0,9,     -999.0,      0.000,2,      0.000,2,     99.850,2
09AR20110104,       SR03,       9,          1,          6,          6,2,20110106,       0227,   -46.1735,   145.4800,       2726,  1801.7,   2.6154,  34.6059,2,  34.6038,2,    174.0,2,   173.8,2,   72.10,2,    2.30,2,  -999.0,9,  -999.0,9, -999.00,9,   33.01,2,   2.4869,     -999.0,     -999.0,9,     -999.0,      0.003,2,      0.000,2,     99.854,2
09AR20110104,       SR03,       9,          1,          5,          5,2,20110106,       0227,   -46.1735,   145.4800,       2726,  2004.0,   2.4674,  34.6657,2,  34.6641,2,    176.9,2,   177.2,2,   76.80,2,    2.27,2,  -999.0,9,  -999.0,9, -999.00,9,   32.31,2,   2.3234,     -999.0,     -999.0,9,     -999.0,      0.002,2,      0.000,2,     99.863,2
09AR20110104,       SR03,       9,          1,          4,          4,2,20110106,       0227,   -46.1735,   145.4800,       2726,  2203.0,   2.2692,  34.7115,2,  34.7105,2,    179.6,2,   180.0,2,   84.70,2,    2.23,2,  -999.0,9,  -999.0,9, -999.00,9,   31.63,2,   2.1107,     -999.0,     -999.0,9,     -999.0,      0.004,2,      0.000,2,     99.849,2
09AR20110104,       SR03,       9,          1,          3,          3,2,20110106,       0227,   -46.1735,   145.4800,       2726,  2298.4,   2.1828,  34.7223,2,  34.7215,2,    181.2,2,   182.1,2,   87.50,2,    2.21,2,  -999.0,9,  -999.0,9, -999.00,9,   31.28,2,   2.0172,     -999.0,     -999.0,9,     -999.0,      0.003,2,      0.000,2,     99.843,2
09AR20110104,       SR03,       9,          1,          2,        102,2,20110106,       0227,   -46.1735,   145.4800,       2726,  2391.4,   2.1097,  34.7327,2,  34.7317,2,    183.8,2,   184.3,2,   89.10,2,    2.21,2,  -999.0,9,  -999.0,9, -999.00,9,   30.95,2,   1.9369,     -999.0,     -999.0,9,     -999.0,      0.001,2,      0.000,2,     99.861,2
09AR20110104,       SR03,       9,          1,          1,          1,2,20110106,       0227,   -46.1735,   145.4800,       2726,  2760.1,   1.7413,  34.7379,2,-999.0000,9,    188.0,2,   188.7,2,  102.00,2,    2.23,2,  -999.0,9,  -999.0,9, -999.00,9,   31.18,2,   1.5417,     -999.0,     -999.0,9,     -999.0,     -0.121,2,      0.000,2,     99.710,2
09AR20110104,       SR03,      10,          1,         24,         24,2,20110106,       0810,   -46.6442,   145.2670,       3315,    10.5,  10.9577,  34.5736,2,  34.5745,2,    281.0,2,   281.7,2,    0.70,2,    0.78,2,  2086.7,6,  2291.1,6, -999.00,9,   10.15,2,  10.9564,     -999.0,     -999.0,9,     -999.0,      2.581,2,      0.000,2,     92.599,2
09AR20110104,       SR03,      10,          1,         23,         23,2,20110106,       0810,   -46.6442,   145.2670,       3315,    24.6,  10.6257,  34.5707,2,  34.5691,2,    281.7,2,   282.3,2,    0.90,2,    0.78,2,  2086.8,2,  2291.8,2, -999.00,9,   10.24,2,  10.6228,     -999.0,     -999.0,9,     -999.0,      3.410,2,      0.000,2,     92.209,2
09AR20110104,       SR03,      10,          1,         22,         22,2,20110106,       0810,   -46.6442,   145.2670,       3315,    50.7,  10.4081,  34.5671,2,  34.5705,2,    280.1,2,   272.8,2,    1.00,2,    0.80,2,  2088.9,2,  2290.6,2, -999.00,9,   10.50,2,  10.4021,     -999.0,     -999.0,9,     -999.0,      3.685,2,      0.000,2,     93.106,2
09AR20110104,       SR03,      10,          1,         21,         21,2,20110106,       0810,   -46.6442,   145.2670,       3315,   100.3,   9.0903,  34.5969,2,  34.5985,2,    277.9,2,   274.5,2,    3.90,2,    1.02,2,  2115.4,2,  2287.1,2, -999.00,9,   14.10,2,   9.0795,     -999.0,     -999.0,9,     -999.0,      0.198,2,      0.000,2,     98.339,2
09AR20110104,       SR03,      10,          1,         20,         20,2,20110106,       0810,   -46.6442,   145.2670,       3315,   150.2,   8.9303,  34.5918,2,  34.5942,2,    275.5,2,   254.9,2,    4.20,2,    1.05,2,  2119.5,2,  2288.5,2, -999.00,9,   14.87,2,   8.9142,     -999.0,     -999.0,9,     -999.0,      0.000,2,      0.000,2,     98.879,2
09AR20110104,       SR03,      10,          1,         19,         19,2,20110106,       0810,   -46.6442,   145.2670,       3315,   202.7,   8.7239,  34.5623,2,-999.0000,9,    274.0,2,   256.4,2,    4.20,2,    1.08,2,  2120.6,2,  2287.5,2, -999.00,9,   15.15,2,   8.7024,     -999.0,     -999.0,9,     -999.0,     -0.027,2,      0.000,2,     99.049,2
09AR20110104,       SR03,      10,          1,         18,         18,2,20110106,       0810,   -46.6442,   145.2670,       3315,   300.2,   8.6594,  34.5569,2,  34.5588,2,    271.9,2,  -999.0,9,    3.80,2,    1.05,2,  2115.8,2,  2288.3,2, -999.00,9,   14.62,2,   8.6275,     -999.0,     -999.0,9,     -999.0,     -0.032,2,      0.000,2,     99.119,2
09AR20110104,       SR03,      10,          1,         17,         17,2,20110106,       0810,   -46.6442,   145.2670,       3315,   400.1,   8.6460,  34.5617,2,  34.5624,2,    265.8,2,   262.7,2,    4.80,2,    1.14,2,  2124.3,2,  2287.6,2, -999.00,9,   16.11,2,   8.6033,     -999.0,     -999.0,9,     -999.0,     -0.038,2,      0.000,2,     99.250,2
09AR20110104,       SR03,      10,          1,         16,         16,2,20110106,       0810,   -46.6442,   145.2670,       3315,   501.2,   8.4234,  34.5270,2,  34.5266,2,    261.6,2,   251.6,2,    4.60,2,    1.12,2,  2121.7,2,  2286.6,2, -999.00,9,   15.98,2,   8.3705,     -999.0,     -999.0,9,     -999.0,     -0.043,2,      0.000,2,     99.302,2
09AR20110104,       SR03,      10,          1,         15,         15,2,20110106,       0810,   -46.6442,   145.2670,       3315,   599.7,   8.1797,  34.5139,2,  34.5117,2,    239.4,2,   233.2,2,    7.60,2,    1.36,2,  2139.2,2,  2285.0,2, -999.00,9,   19.70,2,   8.1171,     -999.0,     -999.0,9,     -999.0,     -0.023,2,      0.000,2,     99.324,2
09AR20110104,       SR03,      10,          1,         14,         14,2,20110106,       0810,   -46.6442,   145.2670,       3315,   698.8,   7.3516,  34.4594,2,  34.4506,2,    218.0,2,   217.0,2,   12.30,2,    1.58,2,  2157.7,2,  2286.3,6, -999.00,9,   23.19,2,   7.2825,     -999.0,     -999.0,9,     -999.0,     -0.007,2,      0.000,2,     99.454,2
09AR20110104,       SR03,      10,          1,         13,         13,2,20110106,       0810,   -46.6442,   145.2670,       3315,   800.1,   6.3503,  34.3980,2,  34.3985,2,    210.0,2,   210.5,2,   17.30,2,    1.77,2,  2171.1,2,  2287.9,2, -999.00,9,   26.04,2,   6.2767,     -999.0,     -999.0,9,     -999.0,      0.000,2,      0.000,2,     99.533,2
09AR20110104,       SR03,      10,          1,         12,         12,2,20110106,       0810,   -46.6442,   145.2670,       3315,   900.7,   5.2690,  34.3247,2,  34.3265,2,    212.3,2,   215.9,2,   22.20,2,    1.91,2,  2178.3,6,  2288.1,6, -999.00,9,   27.92,2,   5.1930,     -999.0,     -999.0,9,     -999.0,     -0.001,2,      0.000,2,     99.634,2
09AR20110104,       SR03,      10,          1,         11,         11,2,20110106,       0810,   -46.6442,   145.2670,       3315,  1002.5,   4.5468,  34.3252,2,  34.3213,2,    210.8,2,   211.0,2,   29.40,2,    2.06,2,  2191.3,2,  2293.5,2, -999.00,9,   29.65,2,   4.4670,     -999.0,     -999.0,9,     -999.0,      0.007,2,      0.000,2,     99.706,2
09AR20110104,       SR03,      10,          1,         10,         10,2,20110106,       0810,   -46.6442,   145.2670,       3315,  1250.0,   3.4052,  34.3627,2,  34.3637,2,    199.5,2,   197.8,2,   45.30,2,    2.25,2,  2217.0,2,  2306.8,2, -999.00,9,   32.35,2,   3.3143,     -999.0,     -999.0,9,     -999.0,      0.009,2,      0.000,2,     99.765,2
09AR20110104,       SR03,      10,          1,          9,          9,2,20110106,       0810,   -46.6442,   145.2670,       3315,  1451.5,   2.9739,  34.4634,2,-999.0000,9,    182.4,2,   180.7,2,   59.40,2,    2.34,2,  2238.5,2,  2323.5,2, -999.00,9,   33.49,2,   2.8706,     -999.0,     -999.0,9,     -999.0,      0.006,2,      0.000,2,     99.796,2
09AR20110104,       SR03,      10,          1,          8,          8,2,20110106,       0810,   -46.6442,   145.2670,       3315,  1651.3,   2.7144,  34.5587,2,  34.5540,2,    174.2,2,   173.7,2,   68.70,2,    2.33,2,  2248.9,2,  2330.2,2, -999.00,9,   33.25,2,   2.5974,     -999.0,     -999.0,9,     -999.0,     -0.006,2,      0.000,2,     99.816,2
09AR20110104,       SR03,      10,          1,          7,          7,2,20110106,       0810,   -46.6442,   145.2670,       3315,  1851.3,   2.5396,  34.6387,2,  34.6386,2,    176.0,2,   175.3,2,   73.60,2,    2.28,2,  2250.7,2,  2337.1,2, -999.00,9,   32.31,2,   2.4078,     -999.0,     -999.0,9,     -999.0,     -0.002,2,      0.000,2,     99.825,2
09AR20110104,       SR03,      10,          1,          6,          6,2,20110106,       0810,   -46.6442,   145.2670,       3315,  2099.4,   2.3619,  34.7015,2,  34.6985,2,    178.4,2,   177.7,2,   81.80,2,    2.24,2,  2256.0,2,  2353.7,2, -999.00,9,   31.62,2,   2.2111,     -999.0,     -999.0,9,     -999.0,      0.000,2,      0.000,2,     99.842,2
09AR20110104,       SR03,      10,          1,          5,          5,2,20110106,       0810,   -46.6442,   145.2670,       3315,  2350.3,   2.1732,  34.7289,2,  34.7286,2,    177.5,2,   178.2,2,   92.60,2,    2.24,2,  2261.9,2,  2360.4,2, -999.00,9,   31.62,2,   2.0030,     -999.0,     -999.0,9,     -999.0,     -0.002,2,      0.000,2,     99.847,2
09AR20110104,       SR03,      10,          1,          4,          4,2,20110106,       0810,   -46.6442,   145.2670,       3315,  2599.7,   2.0082,  34.7369,2,  34.7332,2,    181.8,2,   182.2,2,   97.30,2,    2.22,2,  2264.5,2,  2366.6,2, -999.00,9,   31.38,2,   1.8182,     -999.0,     -999.0,9,     -999.0,     -0.001,2,      0.000,2,     99.851,2
09AR20110104,       SR03,      10,          1,          3,          3,2,20110106,       0810,   -46.6442,   145.2670,       3315,  2851.9,   1.8104,  34.7392,2,-999.0000,9,    188.8,2,   188.5,2,  101.10,2,    2.22,2,  2266.1,2,  2365.3,2, -999.00,9,   31.03,2,   1.6007,     -999.0,     -999.0,9,     -999.0,      0.002,2,      0.000,2,     99.843,2
09AR20110104,       SR03,      10,          1,          2,        102,2,20110106,       0810,   -46.6442,   145.2670,       3315,  3100.9,   1.5634,  34.7348,2,  34.7338,2,    192.6,2,   192.8,2,  108.00,2,    2.23,2,  -999.0,9,  -999.0,9, -999.00,9,   31.90,2,   1.3352,     -999.0,     -999.0,9,     -999.0,      0.000,2,      0.000,2,     99.842,2
09AR20110104,       SR03,      10,          1,          1,          1,2,20110106,       0810,   -46.6442,   145.2670,       3315,  3360.6,   1.4410,  34.7310,2,  34.7300,2,    193.8,2,   193.9,2,  111.60,2,    2.25,2,  2268.4,6,  2372.0,6, -999.00,9,   31.58,2,   1.1901,     -999.0,     -999.0,9,     -999.0,     -0.127,2,      0.000,2,     99.691,2