BOTTLE,20230419CCHSIOENA
EXPOCODE,SECT_ID,STNNBR,CASTNO,SAMPNO,BTLNBR,BTLNBR_FLAG_W,DATE,TIME,LATITUDE,LONGITUDE,DEPTH,CTDPRS,CTDTMP,CTDSAL,CTDSAL_FLAG_W,SALNTY,SALNTY_FLAG_W,CTDOXY,CTDOXY_FLAG_W,OXYGEN,OXYGEN_FLAG_W,SILCAT,SILCAT_FLAG_W,PHSPHT,PHSPHT_FLAG_W,TCARBN,TCARBN_FLAG_W,ALKALI,ALKALI_FLAG_W,DELO18,DELO18_FLAG_W,NO2+NO3,NO2+NO3_FLAG_W,THETA,O18ERR,DELD,DELD_FLAG_W,DELDERR,CTDFLUOR,CTDFLUOR_FLAG_W,PAR,PAR_FLAG_W,CTDXMISS,CTDXMISS_FLAG_W
,,,,,,,,,,,METERS,DBAR,ITS-90,PSS-78,,PSS-78,,UMOL/KG,,UMOL/KG,,UMOL/KG,,UMOL/KG,,UMOL/KG,,UMOL/KG,,/MILLE,,UMOL/KG,,DEG C,/MILLE,/MILLE,,/MILLE,MG/M^3,,UMOL/M^2/SEC,,%TRANS,
09AR20110104,       SR03,      56,          1,         24,         24,2,20110118,       1333,   -65.6330,   140.3820,       1472,     8.3,   0.3728,  33.9359,2,-999.0000,9,    351.2,2,  -999.0,9, -999.00,9, -999.00,9,  -999.0,9,  -999.0,9, -999.00,9, -999.00,9,   0.3725,     -999.0,     -999.0,9,     -999.0,      1.558,2,      0.114,2,     92.686,2
09AR20110104,       SR03,      56,          1,         23,         23,2,20110118,       1333,   -65.6330,   140.3820,       1472,     8.4,   0.3696,  33.9363,2,-999.0000,9,    351.2,2,  -999.0,9, -999.00,9, -999.00,9,  -999.0,9,  -999.0,9, -999.00,9, -999.00,9,   0.3693,     -999.0,     -999.0,9,     -999.0,      1.716,2,      0.100,2,     92.698,2
09AR20110104,       SR03,      56,          1,         22,         22,2,20110118,       1333,   -65.6330,   140.3820,       1472,     8.4,   0.3653,  33.9369,2,-999.0000,9,    351.2,2,  -999.0,9, -999.00,9, -999.00,9,  -999.0,9,  -999.0,9, -999.00,9, -999.00,9,   0.3650,     -999.0,     -999.0,9,     -999.0,      1.555,2,      0.108,2,     92.632,2
09AR20110104,       SR03,      56,          1,         21,         21,2,20110118,       1333,   -65.6330,   140.3820,       1472,     8.4,   0.3486,  33.9386,2,-999.0000,9,    351.2,2,  -999.0,9, -999.00,9, -999.00,9,  -999.0,9,  -999.0,9, -999.00,9, -999.00,9,   0.3483,     -999.0,     -999.0,9,     -999.0,      1.676,2,      0.114,2,     92.670,2
09AR20110104,       SR03,      56,          1,         20,         20,2,20110118,       1333,   -65.6330,   140.3820,       1472,     8.3,   0.3476,  33.9380,2,-999.0000,9,    351.2,2,  -999.0,9, -999.00,9, -999.00,9,  -999.0,9,  -999.0,9, -999.00,9, -999.00,9,   0.3473,     -999.0,     -999.0,9,     -999.0,      1.670,2,      0.110,2,     92.641,2
09AR20110104,       SR03,      56,          1,         19,         19,2,20110118,       1333,   -65.6330,   140.3820,       1472,     8.3,   0.3621,  33.9361,2,-999.0000,9,    351.2,2,  -999.0,9, -999.00,9, -999.00,9,  -999.0,9,  -999.0,9, -999.00,9, -999.00,9,   0.3618,     -999.0,     -999.0,9,     -999.0,      1.548,2,      0.100,2,     92.620,2
09AR20110104,       SR03,      56,          1,         18,         18,2,20110118,       1333,   -65.6330,   140.3820,       1472,     8.4,   0.3325,  33.9387,2,  33.9477,2,    351.2,2,   354.2,2,   47.60,2,    1.54,2,  -999.0,9,  -999.0,9, -999.00,9,   24.64,2,   0.3322,     -999.0,     -999.0,9,     -999.0,      1.628,2,      0.071,2,     92.686,2
09AR20110104,       SR03,      56,          1,         17,         17,2,20110118,       1333,   -65.6330,   140.3820,       1472,    23.9,  -0.4090,  34.0204,2,  34.0133,2,    347.6,2,   354.1,2,   49.80,2,    1.59,2,  -999.0,9,  -999.0,9, -999.00,9,   25.03,2,  -0.4097,     -999.0,     -999.0,9,     -999.0,      2.544,2,      0.000,2,     91.721,2
09AR20110104,       SR03,      56,          1,         16,         16,2,20110118,       1333,   -65.6330,   140.3820,       1472,    51.3,  -0.9443,  34.1414,2,  34.1369,2,    331.7,2,   343.7,2,   55.70,2,    1.71,2,  -999.0,9,  -999.0,9, -999.00,9,   26.20,2,  -0.9457,     -999.0,     -999.0,9,     -999.0,      3.154,2,      0.000,2,     93.539,2
09AR20110104,       SR03,      56,          1,         15,         15,2,20110118,       1333,   -65.6330,   140.3820,       1472,   110.2,  -1.6103,  34.3482,2,  34.3481,2,    311.9,2,   312.0,2,   68.60,2,    2.01,2,  -999.0,9,  -999.0,9, -999.00,9,   29.51,2,  -1.6127,     -999.0,     -999.0,9,     -999.0,      0.574,2,      0.000,2,     98.122,2
09AR20110104,       SR03,      56,          1,         14,         14,2,20110118,       1333,   -65.6330,   140.3820,       1472,   181.5,  -1.3873,  34.4376,2,  34.4384,2,    278.7,2,   294.1,2,   73.20,2,    2.04,2,  -999.0,9,  -999.0,9, -999.00,9,   30.41,2,  -1.3917,     -999.0,     -999.0,9,     -999.0,      0.204,2,      0.000,2,     98.805,2
09AR20110104,       SR03,      56,          1,         13,         13,2,20110118,       1333,   -65.6330,   140.3820,       1472,   254.4,  -0.7655,  34.5177,2,  34.5175,2,    259.8,2,   260.7,2,   78.50,2,    2.10,2,  -999.0,9,  -999.0,9, -999.00,9,   31.41,2,  -0.7733,     -999.0,     -999.0,9,     -999.0,      0.007,2,      0.000,2,     99.348,2
09AR20110104,       SR03,      56,          1,         12,         12,2,20110118,       1333,   -65.6330,   140.3820,       1472,   349.5,   0.1031,  34.6106,2,  34.6106,2,    225.0,2,   229.2,2,   90.50,2,    2.15,2,  -999.0,9,  -999.0,9, -999.00,9,   32.00,2,   0.0894,     -999.0,     -999.0,9,     -999.0,     -0.012,2,      0.000,2,     99.376,2
09AR20110104,       SR03,      56,          1,         11,         11,2,20110118,       1333,   -65.6330,   140.3820,       1472,   449.4,   0.4056,  34.6647,2,  34.6640,2,    217.1,2,   215.7,2,  103.20,2,    2.15,2,  -999.0,9,  -999.0,9, -999.00,9,   31.87,2,   0.3864,     -999.0,     -999.0,9,     -999.0,     -0.010,2,      0.000,2,     99.410,2
09AR20110104,       SR03,      56,          1,         10,         10,2,20110118,       1333,   -65.6330,   140.3820,       1472,   551.8,   0.3340,  34.6726,2,  34.6721,2,    218.0,2,   216.6,2,  107.70,2,    2.19,2,  -999.0,9,  -999.0,9, -999.00,9,   32.21,2,   0.3103,     -999.0,     -999.0,9,     -999.0,     -0.014,2,      0.000,2,     99.426,2
09AR20110104,       SR03,      56,          1,          9,          9,2,20110118,       1333,   -65.6330,   140.3820,       1472,   650.8,   0.1688,  34.6684,2,  34.6683,2,    221.5,2,   221.5,2,  107.60,2,    2.18,2,  -999.0,9,  -999.0,9, -999.00,9,   31.89,2,   0.1411,     -999.0,     -999.0,9,     -999.0,     -0.019,2,      0.000,2,     99.432,2
09AR20110104,       SR03,      56,          1,          8,          8,2,20110118,       1333,   -65.6330,   140.3820,       1472,   750.3,   0.1142,  34.6709,2,  34.6703,2,    222.4,2,   222.3,2,  109.00,2,    2.19,2,  -999.0,9,  -999.0,9, -999.00,9,   31.94,2,   0.0820,     -999.0,     -999.0,9,     -999.0,     -0.031,2,      0.000,2,     99.438,2
09AR20110104,       SR03,      56,          1,          7,          7,2,20110118,       1333,   -65.6330,   140.3820,       1472,   852.8,   0.0688,  34.6700,2,-999.0000,9,    223.5,2,  -999.0,9, -999.00,9, -999.00,9,  -999.0,9,  -999.0,9, -999.00,9, -999.00,9,   0.0317,     -999.0,     -999.0,9,     -999.0,     -0.023,2,      0.000,2,     99.457,2
09AR20110104,       SR03,      56,          1,          6,          6,2,20110118,       1333,   -65.6330,   140.3820,       1472,   949.8,  -0.0092,  34.6663,2,-999.0000,9,    227.3,2,  -999.0,9, -999.00,9, -999.00,9,  -999.0,9,  -999.0,9, -999.00,9, -999.00,9,  -0.0507,     -999.0,     -999.0,9,     -999.0,      0.004,2,      0.000,2,     99.443,2
09AR20110104,       SR03,      56,          1,          5,          5,2,20110118,       1333,   -65.6330,   140.3820,       1472,  1051.4,  -0.0952,  34.6601,2,  34.6593,2,    231.8,2,   230.8,2,  104.80,2,    2.16,2,  -999.0,9,  -999.0,9, -999.00,9,   31.78,2,  -0.1413,     -999.0,     -999.0,9,     -999.0,     -0.005,2,      0.000,2,     99.397,2
09AR20110104,       SR03,      56,          1,          4,          4,2,20110118,       1333,   -65.6330,   140.3820,       1472,  1150.4,  -0.3139,  34.6457,2,  34.6453,2,    244.9,2,   240.8,2,  100.10,2,    2.15,2,  -999.0,9,  -999.0,9, -999.00,9,   31.60,2,  -0.3633,     -999.0,     -999.0,9,     -999.0,     -0.001,2,      0.000,2,     99.349,2
09AR20110104,       SR03,      56,          1,          3,          3,2,20110118,       1333,   -65.6330,   140.3820,       1472,  1249.0,  -0.4061,  34.6398,2,  34.6378,2,    245.2,2,   245.2,2,   97.90,2,    2.15,2,  -999.0,9,  -999.0,9, -999.00,9,   31.57,2,  -0.4599,     -999.0,     -999.0,9,     -999.0,     -0.018,2,      0.000,2,     99.334,2
09AR20110104,       SR03,      56,          1,          2,        102,2,20110118,       1333,   -65.6330,   140.3820,       1472,  1349.0,  -0.4367,  34.6375,2,  34.6364,2,    245.4,2,   246.9,2,   97.20,2,    2.15,2,  -999.0,9,  -999.0,9, -999.00,9,   31.63,2,  -0.4956,     -999.0,     -999.0,9,     -999.0,     -0.006,2,      0.000,2,     99.302,2
09AR20110104,       SR03,      56,          1,          1,          1,2,20110118,       1333,   -65.6330,   140.3820,       1472,  1481.4,  -0.5266,  34.6328,2,  34.6323,2,    248.7,2,   251.0,2,   95.50,2,    2.15,2,  -999.0,9,  -999.0,9, -999.00,9,   31.48,2,  -0.5920,     -999.0,     -999.0,9,     -999.0,     -0.018,2,      0.000,2,     99.255,2
09AR20110104,       SR03,      57,          1,         24,         24,2,20110118,       1542,   -65.6500,   140.4310,       1165,     7.5,   0.4257,  33.9512,2,-999.0000,9,    352.8,2,  -999.0,9, -999.00,9, -999.00,9,  -999.0,9,  -999.0,9, -999.00,9, -999.00,9,   0.4254,     -999.0,     -999.0,9,     -999.0,      1.403,2,      1.254,2,     92.922,2
09AR20110104,       SR03,      57,          1,         23,         23,2,20110118,       1542,   -65.6500,   140.4310,       1165,     7.7,   0.4204,  33.9516,2,-999.0000,9,    352.8,2,  -999.0,9, -999.00,9, -999.00,9,  -999.0,9,  -999.0,9, -999.00,9, -999.00,9,   0.4201,     -999.0,     -999.0,9,     -999.0,      1.383,2,      1.291,2,     92.952,2
09AR20110104,       SR03,      57,          1,         22,         22,2,20110118,       1542,   -65.6500,   140.4310,       1165,     7.8,   0.4259,  33.9511,2,-999.0000,9,    352.8,2,  -999.0,9, -999.00,9, -999.00,9,  -999.0,9,  -999.0,9, -999.00,9, -999.00,9,   0.4256,     -999.0,     -999.0,9,     -999.0,      1.378,2,      1.273,2,     92.901,2
09AR20110104,       SR03,      57,          1,         21,         21,2,20110118,       1542,   -65.6500,   140.4310,       1165,     8.0,   0.4338,  33.9511,2,-999.0000,9,    352.8,2,  -999.0,9, -999.00,9, -999.00,9,  -999.0,9,  -999.0,9, -999.00,9, -999.00,9,   0.4335,     -999.0,     -999.0,9,     -999.0,      1.410,2,      1.220,2,     92.976,2
09AR20110104,       SR03,      57,          1,         20,         20,2,20110118,       1542,   -65.6500,   140.4310,       1165,     8.0,   0.4306,  33.9512,2,-999.0000,9,    352.8,2,  -999.0,9, -999.00,9, -999.00,9,  -999.0,9,  -999.0,9, -999.00,9, -999.00,9,   0.4303,     -999.0,     -999.0,9,     -999.0,      1.388,2,      1.169,2,     93.001,2
09AR20110104,       SR03,      57,          1,         19,         19,2,20110118,       1542,   -65.6500,   140.4310,       1165,     8.0,   0.4234,  33.9516,2,-999.0000,9,    352.8,2,  -999.0,9, -999.00,9, -999.00,9,  -999.0,9,  -999.0,9, -999.00,9, -999.00,9,   0.4231,     -999.0,     -999.0,9,     -999.0,      1.483,2,      1.183,2,     92.935,2
09AR20110104,       SR03,      57,          1,         18,         18,2,20110118,       1542,   -65.6500,   140.4310,       1165,     8.0,   0.4095,  33.9526,2,-999.0000,9,    352.8,2,  -999.0,9, -999.00,9, -999.00,9,  -999.0,9,  -999.0,9, -999.00,9, -999.00,9,   0.4092,     -999.0,     -999.0,9,     -999.0,      1.482,2,      1.177,2,     92.922,2
09AR20110104,       SR03,      57,          1,         17,         17,2,20110118,       1542,   -65.6500,   140.4310,       1165,     8.1,   0.4222,  33.9516,2,-999.0000,9,    352.8,2,  -999.0,9, -999.00,9, -999.00,9,  -999.0,9,  -999.0,9, -999.00,9, -999.00,9,   0.4219,     -999.0,     -999.0,9,     -999.0,      1.460,2,      1.165,2,     92.889,2
09AR20110104,       SR03,      57,          1,         16,         16,2,20110118,       1542,   -65.6500,   140.4310,       1165,     8.1,   0.4348,  33.9508,2,  33.9529,2,    352.8,2,   353.4,2,   47.10,2,    1.51,2,  -999.0,9,  -999.0,9, -999.00,9,   25.24,2,   0.4345,     -999.0,     -999.0,9,     -999.0,      1.438,2,      1.094,2,     92.894,2
09AR20110104,       SR03,      57,          1,         15,         15,2,20110118,       1542,   -65.6500,   140.4310,       1165,    50.9,  -0.8279,  34.1116,2,  34.1116,2,    347.2,2,   347.6,2,   53.30,2,    1.68,2,  -999.0,9,  -999.0,9, -999.00,9,   25.96,2,  -0.8293,     -999.0,     -999.0,9,     -999.0,      2.749,2,      0.000,2,     93.063,2
09AR20110104,       SR03,      57,          1,         14,         14,2,20110118,       1542,   -65.6500,   140.4310,       1165,    98.6,  -1.5455,  34.3151,2,  34.3163,2,    317.7,2,   318.9,2,   66.20,2,    1.93,2,  -999.0,9,  -999.0,9, -999.00,9,   28.71,2,  -1.5477,     -999.0,     -999.0,9,     -999.0,      1.235,2,      0.000,2,     96.963,2
09AR20110104,       SR03,      57,          1,         13,         13,2,20110118,       1542,   -65.6500,   140.4310,       1165,   150.2,  -1.5627,  34.3837,2,  34.3822,2,    308.5,2,   306.7,2,   70.20,2,    1.99,2,  -999.0,9,  -999.0,9, -999.00,9,   29.50,2,  -1.5661,     -999.0,     -999.0,9,     -999.0,      0.460,2,      0.000,2,     98.449,2
09AR20110104,       SR03,      57,          1,         12,         12,2,20110118,       1542,   -65.6500,   140.4310,       1165,   201.6,  -1.4976,  34.4213,2,  34.4189,2,    299.9,2,   301.2,2,   72.30,2,    2.00,2,  -999.0,9,  -999.0,9, -999.00,9,   29.98,2,  -1.5024,     -999.0,     -999.0,9,     -999.0,      0.266,2,      0.000,2,     98.648,2
09AR20110104,       SR03,      57,          1,         11,         11,2,20110118,       1542,   -65.6500,   140.4310,       1165,   248.9,  -1.3299,  34.4521,2,  34.4524,2,    294.6,2,   291.1,2,   74.40,2,    2.03,2,  -999.0,9,  -999.0,9, -999.00,9,   30.33,2,  -1.3363,     -999.0,     -999.0,9,     -999.0,      0.191,2,      0.000,2,     98.857,2
09AR20110104,       SR03,      57,          1,         10,         10,2,20110118,       1542,   -65.6500,   140.4310,       1165,   349.8,  -0.4562,  34.5506,2,  34.5516,2,    248.2,2,  -999.0,9,   81.30,2,    2.09,2,  -999.0,9,  -999.0,9, -999.00,9,   31.21,2,  -0.4682,     -999.0,     -999.0,9,     -999.0,      0.002,2,      0.000,2,     99.257,2
09AR20110104,       SR03,      57,          1,          9,          9,2,20110118,       1542,   -65.6500,   140.4310,       1165,   451.1,  -0.9990,  34.5522,2,  34.5517,2,    271.7,2,   272.9,2,   81.60,2,    2.07,2,  -999.0,9,  -999.0,9, -999.00,9,   30.86,2,  -1.0128,     -999.0,     -999.0,9,     -999.0,      0.033,2,      0.000,2,     99.135,2
09AR20110104,       SR03,      57,          1,          8,          8,2,20110118,       1542,   -65.6500,   140.4310,       1165,   548.8,  -0.2099,  34.6364,2,  34.6360,2,    240.0,2,   237.8,2,   97.50,2,    2.13,2,  -999.0,9,  -999.0,9, -999.00,9,   31.56,2,  -0.2310,     -999.0,     -999.0,9,     -999.0,     -0.005,2,      0.000,2,     99.324,2
09AR20110104,       SR03,      57,          1,          7,          7,2,20110118,       1542,   -65.6500,   140.4310,       1165,   450.5,  -1.0046,  34.5515,2,-999.0000,9,    272.0,2,  -999.0,9, -999.00,9, -999.00,9,  -999.0,9,  -999.0,9, -999.00,9, -999.00,9,  -1.0184,     -999.0,     -999.0,9,     -999.0,      0.026,2,      0.000,2,     99.176,2
09AR20110104,       SR03,      57,          1,          6,          6,2,20110118,       1542,   -65.6500,   140.4310,       1165,   551.9,  -0.2345,  34.6350,2,-999.0000,9,    239.0,2,  -999.0,9, -999.00,9, -999.00,9,  -999.0,9,  -999.0,9, -999.00,9, -999.00,9,  -0.2556,     -999.0,     -999.0,9,     -999.0,     -0.007,2,      0.000,2,     99.339,2
09AR20110104,       SR03,      57,          1,          5,          5,2,20110118,       1542,   -65.6500,   140.4310,       1165,   650.9,   0.0912,  34.6703,2,  34.6698,2,    221.9,2,   222.3,2,  109.10,2,    2.17,2,  -999.0,9,  -999.0,9, -999.00,9,   32.38,2,   0.0640,     -999.0,     -999.0,9,     -999.0,     -0.016,2,      0.000,2,     99.426,2
09AR20110104,       SR03,      57,          1,          4,          4,2,20110118,       1542,   -65.6500,   140.4310,       1165,   751.0,  -0.0277,  34.6646,2,  34.6640,2,    226.8,2,   226.8,2,  107.20,2,    2.17,2,  2259.0,2,  2352.1,6, -999.00,9,   32.30,2,  -0.0591,     -999.0,     -999.0,9,     -999.0,     -0.014,2,      0.000,2,     99.425,2
09AR20110104,       SR03,      57,          1,          3,          3,2,20110118,       1542,   -65.6500,   140.4310,       1165,   901.2,  -0.1048,  34.6604,2,  34.6618,2,    231.1,2,   230.7,2,  104.60,2,    2.16,2,  2259.0,2,  2351.8,2, -999.00,9,   32.11,2,  -0.1431,     -999.0,     -999.0,9,     -999.0,     -0.015,2,      0.000,2,     99.401,2
09AR20110104,       SR03,      57,          1,          2,        102,2,20110118,       1542,   -65.6500,   140.4310,       1165,  1052.9,  -0.2140,  34.6523,2,  34.6516,2,    236.7,2,   235.8,2,  101.60,2,    2.15,2,  -999.0,9,  -999.0,9, -999.00,9,   31.91,2,  -0.2592,     -999.0,     -999.0,9,     -999.0,     -0.010,2,      0.000,2,     99.360,2
09AR20110104,       SR03,      57,          1,          1,          1,2,20110118,       1542,   -65.6500,   140.4310,       1165,  1176.0,  -1.0358,  34.6089,2,  34.6079,2,    272.1,2,   272.2,2,   85.70,2,    2.09,2,  2246.0,6,  2341.8,6, -999.00,9,   31.18,2,  -1.0795,     -999.0,     -999.0,9,     -999.0,     -0.009,2,      0.000,2,     99.146,2