BOTTLE,20230418CCHSIOENA
EXPOCODE,SECT_ID,STNNBR,CASTNO,SAMPNO,BTLNBR,BTLNBR_FLAG_W,DATE,TIME,LATITUDE,LONGITUDE,DEPTH,CTDPRS,CTDTMP,CTDSAL,CTDSAL_FLAG_W,SALNTY,SALNTY_FLAG_W,CTDOXY,CTDOXY_FLAG_W,OXYGEN,OXYGEN_FLAG_W,SILCAT,SILCAT_FLAG_W,NITRAT,NITRAT_FLAG_W,NITRIT,NITRIT_FLAG_W,PHSPHT,PHSPHT_FLAG_W,NH4,NH4_FLAG_W,CFC-11,CFC-11_FLAG_W,CFC-12,CFC-12_FLAG_W,SF6,SF6_FLAG_W,TCARBN,TCARBN_FLAG_W,ALKALI,ALKALI_FLAG_W,PH_TOT,PH_TOT_FLAG_W,PH_TMP,N2O,N2O_FLAG_W,DELC14,DELC14_FLAG_W,C14ERR,DELC13,DELC13_FLAG_W,CTDBETA700,CTDBETA700_FLAG_W,CTDBEAMCP,CTDBEAMCP_FLAG_W,CTDFLUOR,CTDFLUOR_FLAG_W,PAR,PAR_FLAG_W,CTDXMISS,CTDXMISS_FLAG_W
,,,,,,,,,,,METERS,DBAR,ITS-90,PSS-78,,PSS-78,,UMOL/KG,,UMOL/KG,,UMOL/KG,,UMOL/KG,,UMOL/KG,,UMOL/KG,,UMOL/KG,,PMOL/KG,,PMOL/KG,,FMOL/KG,,UMOL/KG,,UMOL/KG,,,,DEG C,NMOL/KG,,/MILLE,,/MILLE,/MILLE,,VOLTS,,1/M,,MG/M^3,,UMOL/M^2/SEC,,%TRANS,
  096U20180111,  SR03,    65,  1,     36,     36,2,20180202,1304,-66.1207, 143.8297,  432,      5.5,  -1.3580,  33.4645,2,-999.0000,9,    355.6,2,   -999.0,9,  -999.00,9,  -999.00,9,  -999.00,9,  -999.00,9,     -999,9, -999.000,9, -999.000,9,     -999,9,   -999.0,9,   -999.0,9,-999.0000,9,  -999.00,  -999.00,9,   -999.0,9,   -999.0,  -999.00,9,   0.00394,2,    0.394,2,    3.792,2,    1.940,2,   90.621,2
  096U20180111,  SR03,    65,  1,     35,     35,2,20180202,1304,-66.1207, 143.8297,  432,      5.5,  -1.3546,  33.4638,2,  33.4731,2,    355.6,2,    359.6,2,    45.60,2,    25.01,2,     0.17,2,     1.57,2,     0.08,2,    5.740,2,    3.116,2,     3.75,2,   2136.1,2,   2270.1,2,-999.0000,9,  -999.00,    15.56,2,   -999.0,9,   -999.0,  -999.00,9,   0.00410,2,    0.372,2,    3.900,2,    2.080,2,   91.126,2
  096U20180111,  SR03,    65,  1,     34,     34,2,20180202,1304,-66.1207, 143.8297,  432,      5.5,  -1.3505,  33.4634,2,-999.0000,9,    355.6,2,   -999.0,9,  -999.00,9,  -999.00,9,  -999.00,9,  -999.00,9,     -999,9, -999.000,9, -999.000,9,     -999,9,   -999.0,9,   -999.0,9,-999.0000,9,  -999.00,  -999.00,9,   -999.0,9,   -999.0,  -999.00,9,   0.00380,2,    0.386,2,    3.726,2,    2.100,2,   90.792,2
  096U20180111,  SR03,    65,  1,     33,     33,2,20180202,1304,-66.1207, 143.8297,  432,     25.8,  -1.1101,  33.5483,2,-999.0000,9,    352.5,2,   -999.0,9,  -999.00,9,  -999.00,9,  -999.00,9,  -999.00,9,     -999,9, -999.000,9, -999.000,9,     -999,9,   -999.0,9,   -999.0,9,-999.0000,9,  -999.00,  -999.00,9,   -999.0,9,   -999.0,  -999.00,9,   0.00353,2,    0.330,2,    3.570,2,    0.029,2,   92.073,2
  096U20180111,  SR03,    65,  1,     32,     32,2,20180202,1304,-66.1207, 143.8297,  432,     25.8,  -1.1099,  33.5480,2,-999.0000,9,    352.5,2,   -999.0,9,  -999.00,9,  -999.00,9,  -999.00,9,  -999.00,9,     -999,9, -999.000,9, -999.000,9,     -999,9,   -999.0,9,   -999.0,9,-999.0000,9,  -999.00,  -999.00,9,   -999.0,9,   -999.0,  -999.00,9,   0.00349,2,    0.334,2,    3.534,2,    0.030,2,   92.000,2
  096U20180111,  SR03,    65,  1,     31,     31,2,20180202,1304,-66.1207, 143.8297,  432,     25.8,  -1.1107,  33.5484,2,  33.6143,2,    352.5,2,    350.8,2,    48.00,2,    25.95,2,     0.16,2,     1.69,2,     0.23,2, -999.000,9, -999.000,9,     -999,9,   -999.0,9,   -999.0,9,-999.0000,9,  -999.00,  -999.00,9,   -999.0,9,   -999.0,  -999.00,9,   0.00328,2,    0.315,2,    3.390,2,    0.029,2,   92.424,2
  096U20180111,  SR03,    65,  1,     30,     30,2,20180202,1304,-66.1207, 143.8297,  432,     25.7,  -1.1136,  33.5492,2,-999.0000,9,    352.5,2,   -999.0,9,  -999.00,9,  -999.00,9,  -999.00,9,  -999.00,9,     -999,9, -999.000,9, -999.000,9,     -999,9,   -999.0,9,   -999.0,9,-999.0000,9,  -999.00,  -999.00,9,   -999.0,9,   -999.0,  -999.00,9,   0.00351,2,    0.329,2,    3.408,2,    0.029,2,   92.106,2
  096U20180111,  SR03,    65,  1,     29,     29,2,20180202,1304,-66.1207, 143.8297,  432,     50.9,  -1.2383,  34.0487,2,-999.0000,9,    339.6,2,   -999.0,9,  -999.00,9,  -999.00,9,  -999.00,9,  -999.00,9,     -999,9, -999.000,9, -999.000,9,     -999,9,   -999.0,9,   -999.0,9,-999.0000,9,  -999.00,  -999.00,9,   -999.0,9,   -999.0,  -999.00,9,   0.00265,2,    0.179,2,    2.526,2,    0.000,2,   95.626,2
  096U20180111,  SR03,    65,  1,     28,     28,2,20180202,1304,-66.1207, 143.8297,  432,     50.9,  -1.2412,  34.0597,2,  34.0899,2,    339.6,2,    337.0,2,    59.10,2,    26.16,2,     0.12,2,     1.84,2,     1.03,2, -999.000,9, -999.000,9,     -999,9,   -999.0,9,   -999.0,9,-999.0000,9,  -999.00,  -999.00,9,   -999.0,9,   -999.0,  -999.00,9,   0.00280,2,    0.184,2,    2.514,2,    0.000,2,   95.508,2
  096U20180111,  SR03,    65,  1,     27,     27,2,20180202,1304,-66.1207, 143.8297,  432,     50.9,  -1.2381,  34.0533,2,-999.0000,9,    339.6,2,   -999.0,9,  -999.00,9,  -999.00,9,  -999.00,9,  -999.00,9,     -999,9, -999.000,9, -999.000,9,     -999,9,   -999.0,9,   -999.0,9,-999.0000,9,  -999.00,  -999.00,9,   -999.0,9,   -999.0,  -999.00,9,   0.00258,2,    0.174,2,    2.340,2,    0.000,2,   95.747,2
  096U20180111,  SR03,    65,  1,     26,     26,2,20180202,1304,-66.1207, 143.8297,  432,     91.0,  -1.4007,  34.4016,2,-999.0000,9,    307.2,2,   -999.0,9,  -999.00,9,  -999.00,9,  -999.00,9,  -999.00,9,     -999,9, -999.000,9, -999.000,9,     -999,9,   -999.0,9,   -999.0,9,-999.0000,9,  -999.00,  -999.00,9,   -999.0,9,   -999.0,  -999.00,9,   0.00076,2,    0.027,2,    0.216,2,    0.000,2,   99.319,2
  096U20180111,  SR03,    65,  1,     25,     25,2,20180202,1304,-66.1207, 143.8297,  432,     91.0,  -1.3968,  34.4030,2,  34.4059,2,    307.2,2,    293.7,2,    72.80,2,    29.98,2,     0.10,2,     2.12,2,     0.57,2,    4.124,2,    2.278,2,     2.51,2,   2223.5,2,   2329.6,2,-999.0000,9,  -999.00,    17.54,2,   -999.0,9,   -999.0,  -999.00,9,   0.00068,2,    0.024,2,    0.198,2,    0.000,2,   99.403,2
  096U20180111,  SR03,    65,  1,     24,     24,2,20180202,1304,-66.1207, 143.8297,  432,     90.9,  -1.3972,  34.4029,2,-999.0000,9,    307.2,2,   -999.0,9,  -999.00,9,  -999.00,9,  -999.00,9,  -999.00,9,     -999,9, -999.000,9, -999.000,9,     -999,9,   -999.0,9,   -999.0,9,-999.0000,9,  -999.00,  -999.00,9,   -999.0,9,   -999.0,  -999.00,9,   0.00068,2,    0.024,2,    0.216,2,    0.000,2,   99.409,2
  096U20180111,  SR03,    65,  1,     23,     23,2,20180202,1304,-66.1207, 143.8297,  432,    131.0,  -1.1033,  34.4762,2,-999.0000,9,    285.2,2,   -999.0,9,  -999.00,9,  -999.00,9,  -999.00,9,  -999.00,9,     -999,9, -999.000,9, -999.000,9,     -999,9,   -999.0,9,   -999.0,9,-999.0000,9,  -999.00,  -999.00,9,   -999.0,9,   -999.0,  -999.00,9,   0.00044,2,    0.010,2,    0.084,2,    0.000,2,   99.740,2
  096U20180111,  SR03,    65,  1,     22,     22,2,20180202,1304,-66.1207, 143.8297,  432,    131.0,  -1.1025,  34.4763,2,  34.4761,2,    285.2,2,    275.9,2,    78.10,2,    30.86,2,     0.09,2,     2.16,2,     0.27,2, -999.000,9, -999.000,9,     -999,9,   -999.0,9,   -999.0,9,-999.0000,9,  -999.00,  -999.00,9,   -999.0,9,   -999.0,  -999.00,9,   0.00051,2,    0.009,2,    0.108,2,    0.000,2,   99.774,2
  096U20180111,  SR03,    65,  1,     21,     21,2,20180202,1304,-66.1207, 143.8297,  432,    130.9,  -1.1003,  34.4765,2,-999.0000,9,    285.2,2,   -999.0,9,  -999.00,9,  -999.00,9,  -999.00,9,  -999.00,9,     -999,9, -999.000,9, -999.000,9,     -999,9,   -999.0,9,   -999.0,9,-999.0000,9,  -999.00,  -999.00,9,   -999.0,9,   -999.0,  -999.00,9,   0.00046,2,    0.010,2,    0.084,2,    0.000,2,   99.754,2
  096U20180111,  SR03,    65,  1,     20,     20,2,20180202,1304,-66.1207, 143.8297,  432,    165.9,  -0.9877,  34.5080,2,-999.0000,9,    269.4,2,   -999.0,9,  -999.00,9,  -999.00,9,  -999.00,9,  -999.00,9,     -999,9, -999.000,9, -999.000,9,     -999,9,   -999.0,9,   -999.0,9,-999.0000,9,  -999.00,  -999.00,9,   -999.0,9,   -999.0,  -999.00,9,   0.00052,2,    0.011,2,    0.084,2,    0.000,2,   99.719,2
  096U20180111,  SR03,    65,  1,     19,     19,2,20180202,1304,-66.1207, 143.8297,  432,    165.9,  -0.9876,  34.5082,2,  34.5081,2,    269.4,2,    270.2,2,    80.50,2,    31.06,2,     0.09,2,     2.17,2,     0.19,2,    3.369,2,    1.822,2,     2.01,2,   2237.1,2,   2338.1,2,-999.0000,9,  -999.00,    18.17,2,   -999.0,9,   -999.0,  -999.00,9,   0.00051,2,    0.011,2,    0.078,2,    0.000,2,   99.718,2
  096U20180111,  SR03,    65,  1,     18,     18,2,20180202,1304,-66.1207, 143.8297,  432,    165.9,  -0.9872,  34.5083,2,-999.0000,9,    269.4,2,   -999.0,9,  -999.00,9,  -999.00,9,  -999.00,9,  -999.00,9,     -999,9, -999.000,9, -999.000,9,     -999,9,   -999.0,9,   -999.0,9,-999.0000,9,  -999.00,  -999.00,9,   -999.0,9,   -999.0,  -999.00,9,   0.00050,2,    0.010,2,    0.090,2,    0.000,2,   99.758,2
  096U20180111,  SR03,    65,  1,     17,     17,2,20180202,1304,-66.1207, 143.8297,  432,    241.1,  -1.0400,  34.5397,2,-999.0000,9,    268.9,2,   -999.0,9,  -999.00,9,  -999.00,9,  -999.00,9,  -999.00,9,     -999,9, -999.000,9, -999.000,9,     -999,9,   -999.0,9,   -999.0,9,-999.0000,9,  -999.00,  -999.00,9,   -999.0,9,   -999.0,  -999.00,9,   0.00060,2,    0.012,2,    0.072,2,    0.000,2,   99.713,2
  096U20180111,  SR03,    65,  1,     16,     16,2,20180202,1304,-66.1207, 143.8297,  432,    241.1,  -1.0434,  34.5398,2,  34.5392,2,    268.9,2,    270.3,2,    82.20,2,    31.30,2,     0.09,2,     2.18,2,     0.07,2, -999.000,9, -999.000,9,     -999,9,   -999.0,9,   -999.0,9,-999.0000,9,  -999.00,  -999.00,9,   -999.0,9,   -999.0,  -999.00,9,   0.00055,2,    0.011,2,    0.060,2,    0.000,2,   99.736,2
  096U20180111,  SR03,    65,  1,     15,     15,2,20180202,1304,-66.1207, 143.8297,  432,    241.1,  -1.0456,  34.5400,2,-999.0000,9,    268.9,2,   -999.0,9,  -999.00,9,  -999.00,9,  -999.00,9,  -999.00,9,     -999,9, -999.000,9, -999.000,9,     -999,9,   -999.0,9,   -999.0,9,-999.0000,9,  -999.00,  -999.00,9,   -999.0,9,   -999.0,  -999.00,9,   0.00055,2,    0.011,2,    0.078,2,    0.000,2,   99.733,2
  096U20180111,  SR03,    65,  1,     14,     14,2,20180202,1304,-66.1207, 143.8297,  432,    301.2,  -1.0327,  34.5616,2,-999.0000,9,    269.1,2,   -999.0,9,  -999.00,9,  -999.00,9,  -999.00,9,  -999.00,9,     -999,9, -999.000,9, -999.000,9,     -999,9,   -999.0,9,   -999.0,9,-999.0000,9,  -999.00,  -999.00,9,   -999.0,9,   -999.0,  -999.00,9,   0.00065,2,    0.017,2,    0.066,2,    0.000,2,   99.587,2
  096U20180111,  SR03,    65,  1,     13,     13,2,20180202,1304,-66.1207, 143.8297,  432,    301.3,  -1.0328,  34.5614,2,  34.5617,2,    269.1,2,    268.5,2,    83.80,2,    31.45,2,     0.09,2,     2.19,2,        0,2,    3.242,2,    1.767,2,     1.86,2,   2241.8,6,   2341.6,6,-999.0000,9,  -999.00,    17.92,2,   -999.0,9,   -999.0,  -999.00,9,   0.00070,2,    0.016,2,    0.060,2,    0.000,2,   99.596,2
  096U20180111,  SR03,    65,  1,     12,     12,2,20180202,1304,-66.1207, 143.8297,  432,    301.2,  -1.0329,  34.5614,2,-999.0000,9,    269.1,2,   -999.0,9,  -999.00,9,  -999.00,9,  -999.00,9,  -999.00,9,     -999,9, -999.000,9, -999.000,9,     -999,9,   -999.0,9,   -999.0,9,-999.0000,9,  -999.00,  -999.00,9,   -999.0,9,   -999.0,  -999.00,9,   0.00065,2,    0.017,2,    0.072,2,    0.000,2,   99.580,2
  096U20180111,  SR03,    65,  1,     11,     11,2,20180202,1304,-66.1207, 143.8297,  432,    366.2,  -1.7102,  34.5910,2,-999.0000,9,    292.9,2,   -999.0,9,  -999.00,9,  -999.00,9,  -999.00,9,  -999.00,9,     -999,9, -999.000,9, -999.000,9,     -999,9,   -999.0,9,   -999.0,9,-999.0000,9,  -999.00,  -999.00,9,   -999.0,9,   -999.0,  -999.00,9,   0.00235,2,    0.085,2,    0.084,2,    0.000,2,   97.894,2
  096U20180111,  SR03,    65,  1,     10,     10,2,20180202,1304,-66.1207, 143.8297,  432,    366.2,  -1.7087,  34.5908,2,-999.0000,9,    292.9,2,   -999.0,9,  -999.00,9,  -999.00,9,  -999.00,9,  -999.00,9,     -999,9, -999.000,9, -999.000,9,     -999,9,   -999.0,9,   -999.0,9,-999.0000,9,  -999.00,  -999.00,9,   -999.0,9,   -999.0,  -999.00,9,   0.00234,2,    0.086,2,    0.078,2,    0.000,2,   97.886,2
  096U20180111,  SR03,    65,  1,      9,      9,2,20180202,1304,-66.1207, 143.8297,  432,    366.1,  -1.7083,  34.5908,2,  34.5924,2,    292.9,2,    294.8,2,    78.50,2,    31.27,2,     0.08,2,     2.18,2,     0.02,2, -999.000,9, -999.000,9,     -999,9,   -999.0,9,   -999.0,9,-999.0000,9,  -999.00,  -999.00,9,   -999.0,9,   -999.0,  -999.00,9,   0.00226,2,    0.085,2,    0.084,2,    0.000,2,   97.891,2
  096U20180111,  SR03,    65,  1,      8,      8,2,20180202,1304,-66.1207, 143.8297,  432,    366.1,  -1.7094,  34.5907,2,-999.0000,9,    292.9,2,   -999.0,9,  -999.00,9,  -999.00,9,  -999.00,9,  -999.00,9,     -999,9, -999.000,9, -999.000,9,     -999,9,   -999.0,9,   -999.0,9,-999.0000,9,  -999.00,  -999.00,9,   -999.0,9,   -999.0,  -999.00,9,   0.00215,2,    0.084,2,    0.090,2,    0.000,2,   97.913,2
  096U20180111,  SR03,    65,  1,      7,      7,2,20180202,1304,-66.1207, 143.8297,  432,    385.9,  -1.8813,  34.6100,2,-999.0000,9,    302.5,2,   -999.0,9,  -999.00,9,  -999.00,9,  -999.00,9,  -999.00,9,     -999,9, -999.000,9, -999.000,9,     -999,9,   -999.0,9,   -999.0,9,-999.0000,9,  -999.00,  -999.00,9,   -999.0,9,   -999.0,  -999.00,9,   0.00155,2,    0.040,2,    0.102,2,    0.000,2,   98.994,2
  096U20180111,  SR03,    65,  1,      6,      6,2,20180202,1304,-66.1207, 143.8297,  432,    385.8,  -1.8817,  34.6102,2,  34.6105,2,    302.5,2,    302.0,2,    77.00,2,    31.16,2,     0.06,2,     2.18,2,     0.06,2,    4.454,2,    2.434,2,     2.54,2,   -999.0,9,   -999.0,9,-999.0000,9,  -999.00,    17.60,2,   -999.0,9,   -999.0,  -999.00,9,   0.00127,2,    0.041,2,    0.078,2,    0.000,2,   98.972,2
  096U20180111,  SR03,    65,  1,      5,      5,2,20180202,1304,-66.1207, 143.8297,  432,    385.8,  -1.8827,  34.6104,2,-999.0000,9,    302.5,2,   -999.0,9,  -999.00,9,  -999.00,9,  -999.00,9,  -999.00,9,     -999,9, -999.000,9, -999.000,9,     -999,9,   -999.0,9,   -999.0,9,-999.0000,9,  -999.00,  -999.00,9,   -999.0,9,   -999.0,  -999.00,9,   0.00141,2,    0.043,2,    0.078,2,    0.000,2,   98.928,2
  096U20180111,  SR03,    65,  1,      4,      4,2,20180202,1304,-66.1207, 143.8297,  432,    431.4,  -1.8989,  34.6118,2,-999.0000,9,    303.5,2,   -999.0,9,  -999.00,9,  -999.00,9,  -999.00,9,  -999.00,9,     -999,9, -999.000,9, -999.000,9,     -999,9,   -999.0,9,   -999.0,9,-999.0000,9,  -999.00,  -999.00,9,   -999.0,9,   -999.0,  -999.00,9,   0.00170,2,    0.057,2,    0.096,2,    0.000,2,   98.576,2
  096U20180111,  SR03,    65,  1,      3,      3,2,20180202,1304,-66.1207, 143.8297,  432,    431.3,  -1.8989,  34.6118,2,-999.0000,9,    303.5,2,   -999.0,9,  -999.00,9,  -999.00,9,  -999.00,9,  -999.00,9,     -999,9, -999.000,9, -999.000,9,     -999,9,   -999.0,9,   -999.0,9,-999.0000,9,  -999.00,  -999.00,9,   -999.0,9,   -999.0,  -999.00,9,   0.00193,2,    0.055,2,    0.084,2,    0.000,2,   98.645,2
  096U20180111,  SR03,    65,  1,      2,      2,2,20180202,1304,-66.1207, 143.8297,  432,    431.3,  -1.8988,  34.6117,2,  34.6119,2,    303.5,2,    303.2,2,    77.00,2,    31.14,2,     0.06,2,     2.18,2,     0.06,2,    4.477,2,    2.448,2,     2.62,2,   2242.3,2,   2343.6,2,-999.0000,9,  -999.00,    17.57,2,   -999.0,9,   -999.0,  -999.00,9,   0.00196,2,    0.055,2,    0.096,2,    0.000,2,   98.633,2
  096U20180111,  SR03,    65,  1,      1,      1,2,20180202,1304,-66.1207, 143.8297,  432,    431.2,  -1.8989,  34.6117,2,-999.0000,9,    303.5,2,   -999.0,9,  -999.00,9,  -999.00,9,  -999.00,9,  -999.00,9,     -999,9, -999.000,9, -999.000,9,     -999,9,   -999.0,9,   -999.0,9,-999.0000,9,  -999.00,  -999.00,9,   -999.0,9,   -999.0,  -999.00,9,   0.00178,2,    0.054,2,    0.084,2,    0.000,2,   98.666,2