BOTTLE,20230418CCHSIOENA
EXPOCODE,SECT_ID,STNNBR,CASTNO,SAMPNO,BTLNBR,BTLNBR_FLAG_W,DATE,TIME,LATITUDE,LONGITUDE,DEPTH,CTDPRS,CTDTMP,CTDSAL,CTDSAL_FLAG_W,SALNTY,SALNTY_FLAG_W,CTDOXY,CTDOXY_FLAG_W,OXYGEN,OXYGEN_FLAG_W,SILCAT,SILCAT_FLAG_W,NITRAT,NITRAT_FLAG_W,NITRIT,NITRIT_FLAG_W,PHSPHT,PHSPHT_FLAG_W,NH4,NH4_FLAG_W,CFC-11,CFC-11_FLAG_W,CFC-12,CFC-12_FLAG_W,SF6,SF6_FLAG_W,TCARBN,TCARBN_FLAG_W,ALKALI,ALKALI_FLAG_W,PH_TOT,PH_TOT_FLAG_W,PH_TMP,N2O,N2O_FLAG_W,DELC14,DELC14_FLAG_W,C14ERR,DELC13,DELC13_FLAG_W,CTDBETA700,CTDBETA700_FLAG_W,CTDBEAMCP,CTDBEAMCP_FLAG_W,CTDFLUOR,CTDFLUOR_FLAG_W,PAR,PAR_FLAG_W,CTDXMISS,CTDXMISS_FLAG_W
,,,,,,,,,,,METERS,DBAR,ITS-90,PSS-78,,PSS-78,,UMOL/KG,,UMOL/KG,,UMOL/KG,,UMOL/KG,,UMOL/KG,,UMOL/KG,,UMOL/KG,,PMOL/KG,,PMOL/KG,,FMOL/KG,,UMOL/KG,,UMOL/KG,,,,DEG C,NMOL/KG,,/MILLE,,/MILLE,/MILLE,,VOLTS,,1/M,,MG/M^3,,UMOL/M^2/SEC,,%TRANS,
  096U20180111,  SR03,    75,  1,     36,     36,2,20180205,0910,-63.4993, 150.0000, 3690,     11.0,   0.8084,  33.6483,2,  33.6491,2,    338.8,2,    339.0,2,    35.00,2,    26.89,2,     0.21,2,     1.71,2,     0.23,2,    5.369,2,    2.952,2,      3.5,2,   2152.8,2,   2277.0,2,-999.0000,9,  -999.00,    15.36,2,   -999.0,9,   -999.0,  -999.00,9,   0.00234,2,    0.251,2,    1.776,2,    0.868,2,   93.923,2
  096U20180111,  SR03,    75,  1,     35,     35,2,20180205,0910,-63.4993, 150.0000, 3690,     11.1,   0.8083,  33.6483,2,-999.0000,9,    338.7,2,   -999.0,9,  -999.00,9,  -999.00,9,  -999.00,9,  -999.00,9,     -999,9, -999.000,9, -999.000,9,     -999,9,   -999.0,9,   -999.0,9,-999.0000,9,  -999.00,  -999.00,9,   -999.0,9,   -999.0,  -999.00,9,   0.00243,2,    0.251,2,    1.884,2,    0.822,2,   93.909,2
  096U20180111,  SR03,    75,  1,     34,     34,2,20180205,0910,-63.4993, 150.0000, 3690,     26.3,   0.8079,  33.6481,2,  33.6498,2,    338.7,2,    338.9,2,    34.90,2,    26.82,2,     0.22,2,     1.72,2,     0.23,2, -999.000,9, -999.000,9,     -999,9,   -999.0,9,   -999.0,9,-999.0000,9,  -999.00,  -999.00,9,   -999.0,9,   -999.0,  -999.00,9,   0.00219,2,    0.252,2,    1.782,2,    0.088,2,   93.897,2
  096U20180111,  SR03,    75,  1,     33,     33,2,20180205,0910,-63.4993, 150.0000, 3690,     26.4,   0.8073,  33.6482,2,-999.0000,9,    338.7,2,   -999.0,9,  -999.00,9,  -999.00,9,  -999.00,9,  -999.00,9,     -999,9, -999.000,9, -999.000,9,     -999,9,   -999.0,9,   -999.0,9,-999.0000,9,  -999.00,  -999.00,9,   -999.0,9,   -999.0,  -999.00,9,   0.00227,2,    0.251,2,    1.764,2,    0.088,2,   93.923,2
  096U20180111,  SR03,    75,  1,     32,     32,2,20180205,0910,-63.4993, 150.0000, 3690,     46.0,   0.7772,  33.6550,2,  33.7227,2,    314.6,2,    330.1,2,    37.80,2,    27.33,2,     0.20,2,     1.79,2,     0.26,2,    5.062,2,    2.822,2,     3.51,2,   2161.1,2,   2283.1,2,-999.0000,9,  -999.00,    15.90,2,   -999.0,9,   -999.0,  -999.00,9,   0.00244,2,    0.250,2,    1.800,2,    0.000,2,   93.934,2
  096U20180111,  SR03,    75,  1,     31,     31,2,20180205,0910,-63.4993, 150.0000, 3690,     46.0,   0.7093,  33.6744,2,-999.0000,9,    314.6,2,   -999.0,9,  -999.00,9,  -999.00,9,  -999.00,9,  -999.00,9,     -999,9, -999.000,9, -999.000,9,     -999,9,   -999.0,9,   -999.0,9,-999.0000,9,  -999.00,  -999.00,9,   -999.0,9,   -999.0,  -999.00,9,   0.00250,2,    0.254,2,    1.836,2,    0.000,2,   93.839,2
  096U20180111,  SR03,    75,  1,     30,     30,2,20180205,0910,-63.4993, 150.0000, 3690,     60.9,   0.0810,  34.2982,2,  34.2985,2,    244.1,2,    249.9,2,    62.10,2,    31.74,2,     0.15,2,     2.23,2,     0.27,2, -999.000,9, -999.000,9,     -999,9,   -999.0,9,   -999.0,9,-999.0000,9,  -999.00,  -999.00,9,   -999.0,9,   -999.0,  -999.00,9,   0.00114,2,    0.099,2,    1.308,2,    0.000,2,   97.566,2
  096U20180111,  SR03,    75,  1,     29,     29,2,20180205,0910,-63.4993, 150.0000, 3690,     90.3,   1.2382,  34.4952,2,  34.4980,2,    186.8,2,    195.4,2,    73.90,2,    33.50,2,     0.19,2,     2.35,2,     0.01,2,    1.627,2,    0.884,2,     1.04,2,   2248.2,2,   2330.2,2,-999.0000,9,  -999.00,    23.01,2,   -999.0,9,   -999.0,  -999.00,9,   0.00063,2,    0.039,2,    0.468,2,    0.000,2,   99.032,2
  096U20180111,  SR03,    75,  1,     28,     28,2,20180205,0910,-63.4993, 150.0000, 3690,    141.4,   1.7609,  34.5992,2,  34.5987,2,    177.6,2,    179.4,2,    79.50,2,    33.50,2,     0.02,2,     2.33,2,        0,2,    0.958,2,    0.507,2,     0.56,2,   2255.5,2,   2337.2,2,-999.0000,9,  -999.00,    23.54,2,   -999.0,9,   -999.0,  -999.00,9,   0.00047,2,    0.012,2,    0.066,2,    0.000,2,   99.713,2
  096U20180111,  SR03,    75,  1,     27,     27,2,20180205,0910,-63.4993, 150.0000, 3690,    180.9,   1.8955,  34.6348,2,  34.6349,2,    178.7,2,    177.0,2,    81.10,2,    33.21,2,     0.01,2,     2.31,2,        0,2, -999.000,9, -999.000,9,     -999,9,   -999.0,9,   -999.0,9,-999.0000,9,  -999.00,  -999.00,9,   -999.0,9,   -999.0,  -999.00,9,   0.00056,2,    0.013,2,    0.036,2,    0.000,2,   99.665,2
  096U20180111,  SR03,    75,  1,     26,     26,2,20180205,0910,-63.4993, 150.0000, 3690,    250.8,   1.9263,  34.6705,2,  34.6709,2,    181.2,2,    178.2,2,    82.70,2,    32.56,2,     0.01,2,     2.27,2,        0,2,    0.573,2,    0.310,2,      0.2,2,   2255.0,6,   2344.0,6,-999.0000,9,  -999.00,    22.66,2,   -999.0,9,   -999.0,  -999.00,9,   0.00063,2,    0.015,2,    0.042,2,    0.000,2,   99.625,2
  096U20180111,  SR03,    75,  1,     25,     25,2,20180205,0910,-63.4993, 150.0000, 3690,    250.7,   1.9258,  34.6715,2,-999.0000,9,    181.2,2,   -999.0,9,  -999.00,9,  -999.00,9,  -999.00,9,  -999.00,9,     -999,9, -999.000,9, -999.000,9,     -999,9,   -999.0,9,   -999.0,9,-999.0000,9,  -999.00,  -999.00,9,   -999.0,9,   -999.0,  -999.00,9,   0.00058,2,    0.015,2,    0.036,2,    0.000,2,   99.632,2
  096U20180111,  SR03,    75,  1,     24,     24,2,20180205,0910,-63.4993, 150.0000, 3690,    351.4,   1.9443,  34.7033,2,  34.7026,2,    182.1,2,    181.9,2,    83.70,2,    31.76,2,     0.01,2,     2.22,2,        0,2, -999.000,9, -999.000,9,     -999,9,   -999.0,9,   -999.0,9,-999.0000,9,  -999.00,  -999.00,9,   -999.0,9,   -999.0,  -999.00,9,   0.00039,2,    0.004,2,    0.042,2,    0.000,2,   99.912,2
  096U20180111,  SR03,    75,  1,     23,     23,2,20180205,0910,-63.4993, 150.0000, 3690,    351.3,   1.9443,  34.7035,2,-999.0000,9,    182.1,2,   -999.0,9,  -999.00,9,  -999.00,9,  -999.00,9,  -999.00,9,     -999,9, -999.000,9, -999.000,9,     -999,9,   -999.0,9,   -999.0,9,-999.0000,9,  -999.00,  -999.00,9,   -999.0,9,   -999.0,  -999.00,9,   0.00042,2,    0.003,2,    0.036,2,    0.000,2,   99.922,2
  096U20180111,  SR03,    75,  1,     22,     22,2,20180205,0910,-63.4993, 150.0000, 3690,    450.3,   1.8969,  34.7194,2,  34.7189,2,    185.8,2,    185.8,2,    84.80,2,    31.24,2,     0.01,2,     2.18,2,        0,2,    0.357,2,    0.197,2,      0.3,2,   2250.9,2,   2348.2,2,-999.0000,9,  -999.00,    20.62,2,   -999.0,9,   -999.0,  -999.00,9,   0.00035,2,    0.001,2,    0.036,2,    0.000,2,   99.983,2
  096U20180111,  SR03,    75,  1,     21,     21,2,20180205,0910,-63.4993, 150.0000, 3690,    551.2,   1.8190,  34.7283,2,  34.7276,2,    188.7,2,    188.7,2,    86.70,2,    30.93,2,     0.01,2,     2.16,2,        0,2, -999.000,9, -999.000,9,     -999,9,   -999.0,9,   -999.0,9,-999.0000,9,  -999.00,  -999.00,9,   -999.0,9,   -999.0,  -999.00,9,   0.00036,2,    0.002,2,    0.036,2,    0.000,2,   99.955,2
  096U20180111,  SR03,    75,  1,     20,     20,2,20180205,0910,-63.4993, 150.0000, 3690,    651.4,   1.7612,  34.7360,2,  34.7359,2,    191.4,2,    191.6,2,    88.30,2,    30.68,2,     0.00,2,     2.14,2,        0,2, -999.000,9, -999.000,9,     -999,9,   -999.0,9,   -999.0,9,-999.0000,9,  -999.00,  -999.00,9,   -999.0,9,   -999.0,  -999.00,9,   0.00034,2,    0.001,2,    0.036,2,    0.000,2,   99.987,2
  096U20180111,  SR03,    75,  1,     19,     19,2,20180205,0910,-63.4993, 150.0000, 3690,    750.0,   1.6955,  34.7394,2,  34.7398,2,    193.2,2,    193.7,2,    90.10,2,    30.58,2,     0.00,2,     2.13,2,        0,2,    0.264,2,    0.143,2,     0.26,2,   2249.6,2,   2353.4,2,-999.0000,9,  -999.00,    19.86,2,   -999.0,9,   -999.0,  -999.00,9,   0.00033,2,    0.000,2,    0.036,2,    0.000,2,  100.008,2
  096U20180111,  SR03,    75,  1,     18,     18,2,20180205,0910,-63.4993, 150.0000, 3690,    851.0,   1.6071,  34.7411,2,  34.7413,2,    195.1,2,    196.0,2,    92.60,2,    30.48,2,     0.00,2,     2.12,2,        0,2, -999.000,9, -999.000,9,     -999,9,   -999.0,9,   -999.0,9,-999.0000,9,  -999.00,  -999.00,9,   -999.0,9,   -999.0,  -999.00,9,   0.00033,2,    0.000,2,    0.036,2,    0.000,2,  100.008,2
  096U20180111,  SR03,    75,  1,     17,     17,2,20180205,0910,-63.4993, 150.0000, 3690,    950.3,   1.5033,  34.7378,2,  34.7375,2,    197.2,2,    197.8,2,    94.60,2,    30.52,2,     0.00,2,     2.13,2,        0,2, -999.000,9, -999.000,9,     -999,9,   -999.0,9,   -999.0,9,-999.0000,9,  -999.00,  -999.00,9,   -999.0,9,   -999.0,  -999.00,9,   0.00051,2,   -0.001,2,    0.042,2,    0.000,2,  100.013,2
  096U20180111,  SR03,    75,  1,     16,     16,2,20180205,0910,-63.4993, 150.0000, 3690,    950.3,   1.5031,  34.7379,2,-999.0000,9,    197.2,2,   -999.0,9,  -999.00,9,  -999.00,9,  -999.00,9,  -999.00,9,     -999,9, -999.000,9, -999.000,9,     -999,9,   -999.0,9,   -999.0,9,-999.0000,9,  -999.00,  -999.00,9,   -999.0,9,   -999.0,  -999.00,9,   0.00038,2,   -0.001,2,    0.042,2,    0.000,2,  100.014,2
  096U20180111,  SR03,    75,  1,     15,     15,2,20180205,0910,-63.4993, 150.0000, 3690,   1101.7,   1.3844,  34.7357,2,  34.7366,2,    198.9,2,    199.8,2,    98.10,2,    30.53,2,     0.00,2,     2.13,2,        0,2,    0.251,2,    0.138,2,    -0.02,2,   2250.7,2,   2357.6,2,-999.0000,9,  -999.00,    19.35,2,   -999.0,9,   -999.0,  -999.00,9,   0.00033,2,   -0.001,2,    0.036,2,    0.000,2,  100.029,2
  096U20180111,  SR03,    75,  1,     14,     14,2,20180205,0910,-63.4993, 150.0000, 3690,   1301.0,   1.2286,  34.7303,2,  34.7307,2,    201.4,2,    201.7,2,   103.00,2,    30.74,2,     0.00,2,     2.15,2,        0,2, -999.000,9, -999.000,9,     -999,9,   -999.0,9,   -999.0,9,-999.0000,9,  -999.00,  -999.00,9,   -999.0,9,   -999.0,  -999.00,9,   0.00031,2,   -0.002,2,    0.036,2,    0.000,2,  100.041,2
  096U20180111,  SR03,    75,  1,     13,     13,2,20180205,0910,-63.4993, 150.0000, 3690,   1500.2,   1.0889,  34.7236,2,  34.7247,2,    203.5,2,    203.7,2,   107.00,2,    30.96,2,     0.00,2,     2.17,2,        0,2, -999.000,9, -999.000,9,     -999,9,   -999.0,9,   -999.0,9,-999.0000,9,  -999.00,  -999.00,9,   -999.0,9,   -999.0,  -999.00,9,   0.00028,2,   -0.002,2,    0.036,2,    0.000,2,  100.053,2
  096U20180111,  SR03,    75,  1,     12,     12,2,20180205,0910,-63.4993, 150.0000, 3690,   1700.7,   0.9011,  34.7128,2,  34.7128,2,    206.3,2,    205.7,2,   111.60,2,    31.26,2,     0.00,2,     2.19,2,        0,2,    0.313,2,    0.161,2,    -0.01,2,   2256.4,2,   2361.0,2,-999.0000,9,  -999.00,    19.08,2,   -999.0,9,   -999.0,  -999.00,9,   0.00028,2,   -0.002,2,    0.036,2,    0.000,2,  100.056,2
  096U20180111,  SR03,    75,  1,     11,     11,2,20180205,0910,-63.4993, 150.0000, 3690,   1939.8,   0.7255,  34.7037,2,  34.7362,4,    208.7,2,    208.5,2,   116.30,2,    31.51,2,     0.00,2,     2.21,2,        0,2, -999.000,9, -999.000,9,     -999,9,   -999.0,9,   -999.0,9,-999.0000,9,  -999.00,  -999.00,9,   -999.0,9,   -999.0,  -999.00,9,   0.00027,2,   -0.003,2,    0.036,2,    0.000,2,  100.067,2
  096U20180111,  SR03,    75,  1,     10,     10,2,20180205,0910,-63.4993, 150.0000, 3690,   2220.6,   0.5420,  34.6945,2,  34.6943,2,    212.4,2,    212.0,2,   120.50,2,    31.71,2,     0.00,2,     2.24,2,        0,2, -999.000,9, -999.000,9,     -999,9,   -999.0,9,   -999.0,9,-999.0000,9,  -999.00,  -999.00,9,   -999.0,9,   -999.0,  -999.00,9,   0.00025,2,   -0.003,2,    0.036,2,    0.000,2,  100.067,2
  096U20180111,  SR03,    75,  1,      9,      9,2,20180205,0910,-63.4993, 150.0000, 3690,   2500.9,   0.3706,  34.6865,2,  34.6861,2,    216.5,2,    216.6,2,   123.20,2,    31.81,2,     0.00,2,     2.24,2,        0,2,    0.611,2,    0.328,2,      0.4,2,   2257.5,2,   2359.8,2,-999.0000,9,  -999.00,    18.86,2,   -999.0,9,   -999.0,  -999.00,9,   0.00026,2,   -0.003,2,    0.036,2,    0.000,2,  100.073,2
  096U20180111,  SR03,    75,  1,      8,      8,2,20180205,0910,-63.4993, 150.0000, 3690,   2775.5,   0.2515,  34.6813,2,  34.6811,2,    220.3,2,    220.1,2,   124.80,2,    31.87,2,     0.00,2,     2.24,2,        0,2, -999.000,9, -999.000,9,     -999,9,   -999.0,9,   -999.0,9,-999.0000,9,  -999.00,  -999.00,9,   -999.0,9,   -999.0,  -999.00,9,   0.00027,2,   -0.003,2,    0.042,2,    0.000,2,  100.068,2
  096U20180111,  SR03,    75,  1,      7,      7,2,20180205,0910,-63.4993, 150.0000, 3690,   3050.7,   0.1298,  34.6754,2,  34.6765,2,    224.7,2,    224.7,2,   122.80,2,    31.76,2,     0.00,2,     2.24,2,        0,2, -999.000,9, -999.000,9,     -999,9,   -999.0,9,   -999.0,9,-999.0000,9,  -999.00,  -999.00,9,   -999.0,9,   -999.0,  -999.00,9,   0.00026,2,   -0.002,2,    0.036,2,    0.000,2,  100.063,2
  096U20180111,  SR03,    75,  1,      6,      6,2,20180205,0910,-63.4993, 150.0000, 3690,   3351.9,   0.0119,  34.6692,2,  34.6699,2,    229.8,2,    230.0,2,   119.60,2,    31.61,2,     0.00,2,     2.23,2,        0,2,    1.473,2,    0.779,2,     0.61,2,   2257.3,2,   2357.7,2,-999.0000,9,  -999.00,    18.74,2,   -999.0,9,   -999.0,  -999.00,9,   0.00027,2,   -0.002,2,    0.036,2,    0.000,2,  100.046,2
  096U20180111,  SR03,    75,  1,      5,      5,2,20180205,0910,-63.4993, 150.0000, 3690,   3498.5,  -0.0277,  34.6695,2,  34.6694,2,    231.8,2,    232.2,2,   115.40,2,    31.55,2,     0.00,2,     2.23,2,        0,2, -999.000,9, -999.000,9,     -999,9,   -999.0,9,   -999.0,9,-999.0000,9,  -999.00,  -999.00,9,   -999.0,9,   -999.0,  -999.00,9,   0.00026,2,   -0.001,2,    0.036,2,    0.000,2,  100.015,2
  096U20180111,  SR03,    75,  1,      4,      4,2,20180205,0910,-63.4993, 150.0000, 3690,   3600.6,  -0.0757,  34.6715,2,  34.6712,2,    234.5,2,    234.3,2,   111.10,2,    31.51,2,     0.00,2,     2.23,2,        0,2, -999.000,9, -999.000,9,     -999,9,   -999.0,9,   -999.0,9,-999.0000,9,  -999.00,  -999.00,9,   -999.0,9,   -999.0,  -999.00,9,   0.00030,2,    0.003,2,    0.036,2,    0.000,2,   99.929,2
  096U20180111,  SR03,    75,  1,      3,      3,2,20180205,0910,-63.4993, 150.0000, 3690,   3698.8,  -0.0953,  34.6821,2,  34.6828,2,    235.8,2,    236.1,2,   103.70,2,    31.53,2,     0.00,2,     2.21,2,        0,2,    2.089,2,    1.144,2,     1.13,2,   -999.0,9,   -999.0,9,-999.0000,9,  -999.00,    18.74,2,   -999.0,9,   -999.0,  -999.00,9,   0.00035,2,    0.004,2,    0.036,2,    0.000,2,   99.891,2
  096U20180111,  SR03,    75,  1,      2,      2,2,20180205,0910,-63.4993, 150.0000, 3690,   3759.8,  -0.1289,  34.6892,2,  34.6916,2,    236.9,2,    236.8,2,   104.30,2,    31.53,2,     0.01,2,     2.22,2,        0,2,    2.174,2,    1.192,2,     1.35,2,   2258.1,2,   2356.0,2,-999.0000,9,  -999.00,    19.03,2,   -999.0,9,   -999.0,  -999.00,9,   0.00059,2,    0.021,2,    0.036,2,    0.000,2,   99.488,2
  096U20180111,  SR03,    75,  1,      1,      1,2,20180205,0910,-63.4993, 150.0000, 3690,   3759.7,  -0.1290,  34.6893,2,-999.0000,9,    236.9,2,   -999.0,9,  -999.00,9,  -999.00,9,  -999.00,9,  -999.00,9,     -999,9, -999.000,9, -999.000,9,     -999,9,   -999.0,9,   -999.0,9,-999.0000,9,  -999.00,  -999.00,9,   -999.0,9,   -999.0,  -999.00,9,   0.00061,2,    0.021,2,    0.036,2,    0.000,2,   99.488,2