BOTTLE,20230418CCHSIOENA
EXPOCODE,SECT_ID,STNNBR,CASTNO,SAMPNO,BTLNBR,BTLNBR_FLAG_W,DATE,TIME,LATITUDE,LONGITUDE,DEPTH,CTDPRS,CTDTMP,CTDSAL,CTDSAL_FLAG_W,SALNTY,SALNTY_FLAG_W,CTDOXY,CTDOXY_FLAG_W,OXYGEN,OXYGEN_FLAG_W,SILCAT,SILCAT_FLAG_W,NITRAT,NITRAT_FLAG_W,NITRIT,NITRIT_FLAG_W,PHSPHT,PHSPHT_FLAG_W,NH4,NH4_FLAG_W,CFC-11,CFC-11_FLAG_W,CFC-12,CFC-12_FLAG_W,SF6,SF6_FLAG_W,TCARBN,TCARBN_FLAG_W,ALKALI,ALKALI_FLAG_W,PH_TOT,PH_TOT_FLAG_W,PH_TMP,N2O,N2O_FLAG_W,DELC14,DELC14_FLAG_W,C14ERR,DELC13,DELC13_FLAG_W,CTDBETA700,CTDBETA700_FLAG_W,CTDBEAMCP,CTDBEAMCP_FLAG_W,CTDFLUOR,CTDFLUOR_FLAG_W,PAR,PAR_FLAG_W,CTDXMISS,CTDXMISS_FLAG_W
,,,,,,,,,,,METERS,DBAR,ITS-90,PSS-78,,PSS-78,,UMOL/KG,,UMOL/KG,,UMOL/KG,,UMOL/KG,,UMOL/KG,,UMOL/KG,,UMOL/KG,,PMOL/KG,,PMOL/KG,,FMOL/KG,,UMOL/KG,,UMOL/KG,,,,DEG C,NMOL/KG,,/MILLE,,/MILLE,/MILLE,,VOLTS,,1/M,,MG/M^3,,UMOL/M^2/SEC,,%TRANS,
  096U20180111,  SR03,    17,  1,     36,     36,2,20180118,0124,-49.8912, 143.7983, 3668,     10.3,   9.5030,  34.1384,2,  34.1408,2,    288.3,2,    290.4,2,     3.00,2,    15.46,2,     0.21,2,     1.06,2,      0.1,2,    3.408,2,    1.939,2,     2.97,2,   2097.9,6,   2282.1,6,-999.0000,9,  -999.00,    11.31,2,    -20.7,2,      2.0,     1.57,2,   0.00324,2,    0.315,2,    2.652,2,   65.700,2,   92.430,2
  096U20180111,  SR03,    17,  1,     35,     35,2,20180118,0124,-49.8912, 143.7983, 3668,     34.1,   9.4694,  34.1342,2,  34.1349,2,    288.2,2,    290.0,2,     3.00,2,    15.62,2,     0.21,2,     1.07,2,     0.11,2,    3.406,2,    1.939,2,     2.78,2,   2098.9,2,   2283.1,2,-999.0000,9,  -999.00,    11.13,2,    -20.1,2,      2.0,     1.64,2,   0.00327,2,    0.313,2,    3.372,2,    6.230,2,   92.477,2
  096U20180111,  SR03,    17,  1,     34,     34,2,20180118,0124,-49.8912, 143.7983, 3668,     34.4,   9.4706,  34.1343,2,-999.0000,9,    288.2,2,   -999.0,9,  -999.00,9,  -999.00,9,  -999.00,9,  -999.00,9,     -999,9, -999.000,9, -999.000,9,     -999,9,   -999.0,9,   -999.0,9,-999.0000,9,  -999.00,  -999.00,9,   -999.0,9,   -999.0,  -999.00,9,   0.00321,2,    0.310,2,    3.390,2,    5.920,2,   92.533,2
  096U20180111,  SR03,    17,  1,     33,     33,2,20180118,0124,-49.8912, 143.7983, 3668,     49.5,   9.4204,  34.1393,2,  34.1533,2,    286.9,2,    286.7,2,     3.30,2,    15.70,2,     0.21,2,     1.11,2,     0.36,2,    3.440,2,    1.963,2,     2.69,2,   2101.5,2,   2283.4,2,-999.0000,9,  -999.00,    11.52,2,    -23.8,2,      2.2,     1.53,2,   0.00276,2,    0.242,2,    2.826,2,    1.530,2,   94.138,2
  096U20180111,  SR03,    17,  1,     32,     32,2,20180118,0124,-49.8912, 143.7983, 3668,     74.6,   8.8936,  34.1757,2,  34.1793,2,    281.9,2,    281.9,2,     4.60,2,    16.46,2,     0.22,2,     1.20,2,     0.57,2,    3.437,2,    1.972,2,     2.71,2,   2110.9,2,   2283.3,2,-999.0000,9,  -999.00,    11.21,2,    -20.0,2,      2.2,     1.42,2,   0.00174,2,    0.101,2,    1.014,2,    0.276,2,   97.495,2
  096U20180111,  SR03,    17,  1,     31,     31,2,20180118,0124,-49.8912, 143.7983, 3668,     90.3,   8.2777,  34.1931,2,  34.1930,2,    280.2,2,    283.6,2,     5.20,2,    17.33,2,     0.28,2,     1.28,2,     0.63,2,    3.552,2,    1.975,2,     3.27,2,   2119.3,2,   2283.3,2,-999.0000,9,  -999.00,    11.83,2,    -17.2,2,      2.3,     1.34,2,   0.00144,2,    0.067,2,    0.510,2,    0.101,2,   98.338,2
  096U20180111,  SR03,    17,  1,     30,     30,2,20180118,0124,-49.8912, 143.7983, 3668,    119.5,   6.1625,  34.1416,2,  34.1423,2,    289.1,2,    287.7,2,     7.10,2,    21.39,2,     0.50,2,     1.51,2,        0,2, -999.000,9, -999.000,9,     -999,9,   -999.0,9,   -999.0,9,-999.0000,9,  -999.00,  -999.00,9,   -999.0,9,   -999.0,  -999.00,9,   0.00073,2,    0.023,2,    0.150,2,    0.008,2,   99.421,2
  096U20180111,  SR03,    17,  1,     29,     29,2,20180118,0124,-49.8912, 143.7983, 3668,    159.9,   5.8957,  34.1476,2,  34.1493,2,    282.6,2,    283.9,2,     8.00,2,    22.57,2,     0.02,2,     1.55,2,        0,2,    3.931,2,    2.165,2,     2.68,2,   2141.9,2,   2281.6,2,-999.0000,9,  -999.00,    13.21,2,    -28.4,2,      2.0,     1.19,2,   0.00047,2,    0.010,2,    0.066,2,    0.000,2,   99.756,2
  096U20180111,  SR03,    17,  1,     28,     28,2,20180118,0124,-49.8912, 143.7983, 3668,    199.9,   5.4514,  34.1184,2,  34.1188,2,    276.7,2,    285.9,2,     9.00,2,    23.38,2,     0.02,2,     1.60,2,    -0.01,2, -999.000,9, -999.000,9,     -999,9,   -999.0,9,   -999.0,9,-999.0000,9,  -999.00,  -999.00,9,   -999.0,9,   -999.0,  -999.00,9,   0.00044,2,    0.007,2,    0.042,2,    0.000,2,   99.823,2
  096U20180111,  SR03,    17,  1,     27,     27,2,20180118,0124,-49.8912, 143.7983, 3668,    251.4,   5.2835,  34.1327,2,  34.1329,2,    275.6,2,    278.9,2,    10.20,2,    24.11,2,     0.01,2,     1.65,2,    -0.01,2,    3.944,6,    2.164,6,     2.74,6,   2150.8,2,   2281.7,6,-999.0000,9,  -999.00,    13.85,6,    -29.3,2,      2.3,     1.20,2,   0.00041,2,    0.005,2,    0.036,2,    0.000,2,   99.872,2
  096U20180111,  SR03,    17,  1,     26,     26,2,20180118,0124,-49.8912, 143.7983, 3668,    300.9,   5.4232,  34.1916,2,  34.1924,2,    251.3,2,    262.0,2,    12.00,2,    24.81,2,     0.02,2,     1.69,2,    -0.01,2, -999.000,9, -999.000,9,     -999,9,   -999.0,9,   -999.0,9,-999.0000,9,  -999.00,  -999.00,9,   -999.0,9,   -999.0,  -999.00,9,   0.00043,2,    0.005,2,    0.030,2,    0.000,2,   99.880,2
  096U20180111,  SR03,    17,  1,     25,     25,2,20180118,0124,-49.8912, 143.7983, 3668,    399.5,   4.7161,  34.1483,2,  34.1490,2,    267.0,2,    264.7,2,    14.40,2,    26.14,2,     0.02,2,     1.78,2,    -0.01,2,    3.841,2,    2.085,2,      1.9,2,   2161.5,2,   2284.0,2,-999.0000,9,  -999.00,    15.59,2,    -40.9,2,      2.6,     1.15,2,   0.00041,2,    0.005,2,    0.024,2,    0.000,2,   99.882,2
  096U20180111,  SR03,    17,  1,     24,     24,2,20180118,0124,-49.8912, 143.7983, 3668,    502.1,   4.7021,  34.2170,2,  34.2183,2,    238.4,2,    240.6,2,    19.10,2,    27.84,2,     0.01,2,     1.90,2,    -0.01,2,    3.516,2,    1.902,2,      2.1,2,   2175.9,2,   2286.9,2,-999.0000,9,  -999.00,    17.98,2,    -36.2,2,      2.2,     1.01,2,   0.00040,2,    0.004,2,    0.030,2,    0.000,2,   99.892,2
  096U20180111,  SR03,    17,  1,     23,     23,2,20180118,0124,-49.8912, 143.7983, 3668,    598.8,   4.1079,  34.2197,2,  34.2209,2,    235.0,2,    233.8,2,    24.60,2,    29.57,2,     0.01,2,     2.01,2,    -0.01,2,    3.299,2,    1.794,2,     1.65,2,   2186.0,2,   2289.9,2,-999.0000,9,  -999.00,    17.02,2,    -49.2,2,      2.0,     0.98,2,   0.00042,2,    0.004,2,    0.036,2,    0.000,2,   99.909,2
  096U20180111,  SR03,    17,  1,     22,     22,2,20180118,0124,-49.8912, 143.7983, 3668,    699.5,   3.6706,  34.2409,2,  34.2411,2,    223.4,2,    224.9,2,    30.90,2,    30.92,2,     0.01,2,     2.10,2,    -0.01,2,    2.985,2,    1.591,2,     1.52,2,   2198.3,2,   2295.8,2,-999.0000,9,  -999.00,    19.58,2,   -999.0,9,   -999.0,  -999.00,9,   0.00040,2,    0.003,2,    0.030,2,    0.000,2,   99.927,2
  096U20180111,  SR03,    17,  1,     21,     21,2,20180118,0124,-49.8912, 143.7983, 3668,    799.2,   3.4206,  34.2958,2,  34.2964,2,    208.0,2,    209.2,2,    39.10,2,    32.21,2,     0.01,2,     2.21,2,    -0.01,2,    2.485,2,    1.325,2,     1.12,2,   2210.0,2,   2303.8,2,-999.0000,9,  -999.00,    20.03,2,    -83.0,2,      2.1,     0.79,2,   0.00038,2,    0.002,2,    0.036,2,    0.000,2,   99.951,2
  096U20180111,  SR03,    17,  1,     20,     20,2,20180118,0124,-49.8912, 143.7983, 3668,    898.7,   3.1706,  34.3369,2,  34.3367,2,    198.6,2,    199.2,2,    45.80,2,    33.11,2,     0.01,2,     2.27,2,    -0.01,2, -999.000,9, -999.000,9,     -999,9,   -999.0,9,   -999.0,9,-999.0000,9,  -999.00,  -999.00,9,   -999.0,9,   -999.0,  -999.00,9,   0.00036,2,    0.001,2,    0.036,2,    0.000,2,   99.964,2
  096U20180111,  SR03,    17,  1,     19,     19,2,20180118,0124,-49.8912, 143.7983, 3668,    999.9,   2.9891,  34.3837,2,  34.3838,2,    190.5,2,    189.8,2,    52.30,2,    33.79,2,     0.01,2,     2.31,2,    -0.01,2,    1.714,2,    0.889,2,     0.67,2,   2231.8,6,   2315.6,6,-999.0000,9,  -999.00,    22.91,2,   -110.6,2,      1.8,     0.62,2,   0.00040,2,    0.002,2,    0.036,2,    0.000,2,   99.962,2
  096U20180111,  SR03,    17,  1,     18,     18,2,20180118,0124,-49.8912, 143.7983, 3668,   1149.2,   2.7910,  34.4657,2,  34.4662,2,    179.6,2,    178.3,2,    61.40,2,    34.20,2,     0.01,2,     2.35,2,    -0.01,2,    1.160,2,    0.591,2,     0.29,2,   2244.7,2,   2325.2,2,-999.0000,9,  -999.00,    23.49,2,   -999.0,9,   -999.0,  -999.00,9,   0.00036,2,    0.001,2,    0.036,2,    0.000,2,   99.973,2
  096U20180111,  SR03,    17,  1,     17,     17,2,20180118,0124,-49.8912, 143.7983, 3668,   1297.2,   2.6505,  34.5361,2,  34.5361,2,    174.9,2,    173.4,2,    67.40,2,    34.04,2,     0.01,2,     2.34,2,    -0.01,2,    0.834,2,    0.416,2,      0.4,2,   2247.9,2,   2332.3,2,-999.0000,9,  -999.00,    25.82,2,   -135.4,2,      2.2,     0.51,2,   0.00035,2,    0.000,2,    0.042,2,    0.000,2,   99.993,2
  096U20180111,  SR03,    17,  1,     16,     16,2,20180118,0124,-49.8912, 143.7983, 3668,   1450.0,   2.5697,  34.5909,2,-999.0000,9,    173.6,2,   -999.0,9,  -999.00,9,  -999.00,9,  -999.00,9,  -999.00,9,     -999,9, -999.000,9, -999.000,9,     -999,9,   -999.0,9,   -999.0,9,-999.0000,9,  -999.00,  -999.00,9,   -999.0,9,   -999.0,  -999.00,9,   0.00034,2,    0.000,2,    0.036,2,    0.000,2,  100.010,2
  096U20180111,  SR03,    17,  1,     15,     15,2,20180118,0124,-49.8912, 143.7983, 3668,   1450.0,   2.5693,  34.5913,2,  34.5917,2,    173.6,2,    173.0,2,    71.00,2,    33.55,2,     0.01,2,     2.30,2,    -0.01,2,    0.597,2,    0.296,2,     0.09,2,   2252.3,2,   2336.9,2,-999.0000,9,  -999.00,    21.58,2,   -143.8,2,      1.8,    -0.33,4,   0.00034,2,   -0.001,2,    0.042,2,    0.000,2,  100.013,2
  096U20180111,  SR03,    17,  1,     14,     14,2,20180118,0124,-49.8912, 143.7983, 3668,   1599.4,   2.4930,  34.6545,2,  34.6543,2,    174.5,2,    175.7,2,    74.20,2,    32.55,2,     0.01,2,     2.24,2,    -0.01,2, -999.000,9, -999.000,9,     -999,9,   2251.2,2,   2343.1,2,-999.0000,9,  -999.00,  -999.00,9,   -147.6,2,      2.4,     0.42,2,   0.00040,2,    0.000,2,    0.036,2,    0.000,2,   99.995,2
  096U20180111,  SR03,    17,  1,     13,     13,2,20180118,0124,-49.8912, 143.7983, 3668,   1799.1,   2.3552,  34.7000,2,  34.7006,2,    181.1,2,    181.9,2,    76.80,2,    31.54,2,     0.00,2,     2.17,2,    -0.01,2,    0.268,2,    0.133,2,     0.04,2,   2250.6,2,   2345.3,2,-999.0000,9,  -999.00,    19.95,2,   -150.2,2,      2.1,     0.48,2,   0.00035,2,   -0.001,2,    0.042,2,    0.000,2,  100.016,2
  096U20180111,  SR03,    17,  1,     12,     12,2,20180118,0124,-49.8912, 143.7983, 3668,   1998.5,   2.2286,  34.7277,2,  34.7284,2,    186.8,2,    187.4,2,    79.50,2,    30.82,2,     0.01,2,     2.12,2,    -0.01,2, -999.000,9, -999.000,9,     -999,9,   2248.0,2,   2348.5,2,-999.0000,9,  -999.00,  -999.00,9,   -147.6,2,      1.9,     0.49,2,   0.00033,2,   -0.001,2,    0.042,2,    0.000,2,  100.021,2
  096U20180111,  SR03,    17,  1,     11,     11,2,20180118,0124,-49.8912, 143.7983, 3668,   2199.4,   2.0582,  34.7397,2,  34.7404,2,    188.4,2,    188.6,2,    87.40,2,    30.84,2,     0.01,2,     2.13,2,    -0.01,2,    0.127,2,    0.060,2,     0.01,2,   2253.4,2,   2356.2,2,-999.0000,9,  -999.00,    18.78,2,   -157.8,2,      1.8,     0.51,2,   0.00035,2,   -0.001,2,    0.036,2,    0.000,2,  100.024,2
  096U20180111,  SR03,    17,  1,     10,     10,2,20180118,0124,-49.8912, 143.7983, 3668,   2400.0,   1.9125,  34.7435,2,  34.7443,2,    191.9,2,    191.6,2,    91.30,2,    30.78,2,     0.00,2,     2.13,2,    -0.01,2, -999.000,9, -999.000,9,     -999,9,   -999.0,9,   -999.0,9,-999.0000,9,  -999.00,  -999.00,9,   -999.0,9,   -999.0,  -999.00,9,   0.00034,2,   -0.001,2,    0.036,2,    0.000,2,  100.033,2
  096U20180111,  SR03,    17,  1,      9,      9,2,20180118,0124,-49.8912, 143.7983, 3668,   2599.5,   1.7139,  34.7418,2,  34.7422,2,    195.4,2,    195.8,2,    96.10,2,    30.82,2,     0.00,2,     2.13,2,    -0.01,2,    0.115,2,    0.054,2,        0,2,   2254.9,2,   2360.5,2,-999.0000,9,  -999.00,    18.10,2,   -158.2,2,      2.0,     0.52,2,   0.00034,2,   -0.001,2,    0.042,2,    0.000,2,  100.031,2
  096U20180111,  SR03,    17,  1,      8,      8,2,20180118,0124,-49.8912, 143.7983, 3668,   2800.1,   1.5061,  34.7359,2,  34.7367,2,    199.8,2,    200.0,2,   101.00,2,    30.95,2,     0.00,2,     2.13,2,    -0.01,2, -999.000,9, -999.000,9,     -999,9,   -999.0,9,   -999.0,9,-999.0000,9,  -999.00,  -999.00,9,   -999.0,9,   -999.0,  -999.00,9,   0.00031,2,   -0.002,2,    0.036,2,    0.000,2,  100.045,2
  096U20180111,  SR03,    17,  1,      7,      7,2,20180118,0124,-49.8912, 143.7983, 3668,   2974.6,   1.3615,  34.7299,2,  34.7308,2,    201.2,2,    200.9,2,   106.00,2,    31.22,2,     0.00,2,     2.15,2,    -0.01,2,    0.167,2,    0.077,2,    -0.01,2,   2257.3,2,   2362.6,2,-999.0000,9,  -999.00,    19.50,2,   -159.9,6,      1.4,     0.53,6,   0.00030,2,   -0.002,2,    0.042,2,    0.000,2,  100.047,2
  096U20180111,  SR03,    17,  1,      6,      6,2,20180118,0124,-49.8912, 143.7983, 3668,   3148.9,   1.1480,  34.7204,2,  34.7215,2,    203.6,2,    203.4,2,   112.90,2,    31.54,2,     0.00,2,     2.18,2,    -0.01,2, -999.000,9, -999.000,9,     -999,9,   -999.0,9,   -999.0,9,-999.0000,9,  -999.00,  -999.00,9,   -999.0,9,   -999.0,  -999.00,9,   0.00031,2,   -0.001,2,    0.042,2,    0.000,2,  100.027,2
  096U20180111,  SR03,    17,  1,      5,      5,2,20180118,0124,-49.8912, 143.7983, 3668,   3399.6,   1.0829,  34.7166,2,  34.7169,2,    204.4,2,    204.4,2,   115.70,2,    31.68,2,     0.00,2,     2.19,2,    -0.01,2,    0.200,2,    0.089,2,     0.02,2,   2262.3,2,   2366.5,2,-999.0000,9,  -999.00,    19.48,2,   -162.8,2,      1.8,     0.32,2,   0.00035,2,    0.000,2,    0.042,2,    0.000,2,   99.999,2
  096U20180111,  SR03,    17,  1,      4,      4,2,20180118,0124,-49.8912, 143.7983, 3668,   3549.7,   1.0695,  34.7152,2,  34.7155,2,    205.0,2,    204.7,2,   116.70,2,    31.76,2,     0.00,2,     2.20,2,    -0.01,2,    0.214,2,    0.100,2,     0.01,2,   -999.0,9,   -999.0,9,-999.0000,9,  -999.00,    20.29,2,   -999.0,9,   -999.0,  -999.00,9,   0.00035,2,    0.001,2,    0.042,2,    0.000,2,   99.977,2
  096U20180111,  SR03,    17,  1,      3,      3,2,20180118,0124,-49.8912, 143.7983, 3668,   3700.0,   1.0748,  34.7147,2,  34.7152,2,    204.9,2,    204.7,2,   117.00,2,    31.78,2,     0.01,2,     2.20,2,        0,2,    0.222,2,    0.099,2,     0.02,2,   -999.0,9,   -999.0,9,-999.0000,9,  -999.00,    18.97,2,   -999.0,9,   -999.0,  -999.00,9,   0.00035,2,    0.001,2,    0.042,2,    0.000,2,   99.966,2
  096U20180111,  SR03,    17,  1,      2,      2,2,20180118,0124,-49.8912, 143.7983, 3668,   3782.4,   1.0820,  34.7146,2,  34.7149,2,    205.1,2,    204.9,2,   117.10,2,    31.78,2,     0.00,2,     2.20,2,        0,2,    0.218,2,    0.098,2,     0.04,2,   2263.9,6,   2366.8,6,-999.0000,9,  -999.00,    19.82,2,   -162.7,2,      2.2,     0.33,2,   0.00037,2,    0.002,2,    0.042,2,    0.000,2,   99.957,2
  096U20180111,  SR03,    17,  1,      1,      1,2,20180118,0124,-49.8912, 143.7983, 3668,   3782.4,   1.0820,  34.7146,2,-999.0000,9,    205.1,2,   -999.0,9,  -999.00,9,  -999.00,9,  -999.00,9,  -999.00,9,     -999,9, -999.000,9, -999.000,9,     -999,9,   -999.0,9,   -999.0,9,-999.0000,9,  -999.00,  -999.00,9,   -999.0,9,   -999.0,  -999.00,9,   0.00037,2,    0.002,2,    0.036,2,    0.000,2,   99.957,2