BOTTLE,20230418CCHSIOENA
EXPOCODE,SECT_ID,STNNBR,CASTNO,SAMPNO,BTLNBR,BTLNBR_FLAG_W,DATE,TIME,LATITUDE,LONGITUDE,DEPTH,CTDPRS,CTDTMP,CTDSAL,CTDSAL_FLAG_W,SALNTY,SALNTY_FLAG_W,CTDOXY,CTDOXY_FLAG_W,OXYGEN,OXYGEN_FLAG_W,SILCAT,SILCAT_FLAG_W,NITRAT,NITRAT_FLAG_W,NITRIT,NITRIT_FLAG_W,PHSPHT,PHSPHT_FLAG_W,NH4,NH4_FLAG_W,CFC-11,CFC-11_FLAG_W,CFC-12,CFC-12_FLAG_W,SF6,SF6_FLAG_W,TCARBN,TCARBN_FLAG_W,ALKALI,ALKALI_FLAG_W,PH_TOT,PH_TOT_FLAG_W,PH_TMP,N2O,N2O_FLAG_W,DELC14,DELC14_FLAG_W,C14ERR,DELC13,DELC13_FLAG_W,CTDBETA700,CTDBETA700_FLAG_W,CTDBEAMCP,CTDBEAMCP_FLAG_W,CTDFLUOR,CTDFLUOR_FLAG_W,PAR,PAR_FLAG_W,CTDXMISS,CTDXMISS_FLAG_W
,,,,,,,,,,,METERS,DBAR,ITS-90,PSS-78,,PSS-78,,UMOL/KG,,UMOL/KG,,UMOL/KG,,UMOL/KG,,UMOL/KG,,UMOL/KG,,UMOL/KG,,PMOL/KG,,PMOL/KG,,FMOL/KG,,UMOL/KG,,UMOL/KG,,,,DEG C,NMOL/KG,,/MILLE,,/MILLE,/MILLE,,VOLTS,,1/M,,MG/M^3,,UMOL/M^2/SEC,,%TRANS,
  096U20180111,  SR03,   106,  1,     36,     36,2,20180216,1413,-56.9653, 132.1530, 4529,     10.8,   5.4621,  33.8968,2,  33.8984,2,    304.8,2,    305.0,2,     1.10,2,    23.44,2,     0.27,2,     1.61,2,     0.25,2,    4.383,2,    2.444,2,     3.05,2,   2131.3,6,   2279.2,6,-999.0000,9,  -999.00,    12.99,2,   -999.0,9,   -999.0,  -999.00,9,-999.00000,9,    0.075,2, -999.000,9,    1.220,2,   98.139,2
  096U20180111,  SR03,   106,  1,     35,     35,2,20180216,1413,-56.9653, 132.1530, 4529,     10.8,   5.4623,  33.8969,2,-999.0000,9,    304.8,2,   -999.0,9,  -999.00,9,  -999.00,9,  -999.00,9,  -999.00,9,     -999,9, -999.000,9, -999.000,9,     -999,9,   -999.0,9,   -999.0,9,-999.0000,9,  -999.00,  -999.00,9,   -999.0,9,   -999.0,  -999.00,9,-999.00000,9,    0.074,2, -999.000,9,    1.220,2,   98.158,2
  096U20180111,  SR03,   106,  1,     34,     34,2,20180216,1413,-56.9653, 132.1530, 4529,     40.5,   5.4660,  33.8969,2,  33.8977,2,    305.3,2,    304.9,2,     1.10,2,    23.45,2,     0.27,2,     1.61,2,     0.25,2, -999.000,9, -999.000,9,     -999,9,   2130.4,2,   2278.3,2,-999.0000,9,  -999.00,  -999.00,9,   -999.0,9,   -999.0,  -999.00,9,-999.00000,9,    0.073,2, -999.000,9,    0.027,2,   98.188,2
  096U20180111,  SR03,   106,  1,     33,     33,2,20180216,1413,-56.9653, 132.1530, 4529,     81.0,   4.6012,  33.9156,2,  33.9159,2,    313.5,2,    312.5,2,     2.80,2,    23.85,2,     0.26,2,     1.70,2,     0.48,2,    4.666,2,    2.560,2,     3.33,2,   2135.7,2,   2279.7,2,-999.0000,9,  -999.00,    13.69,2,   -999.0,9,   -999.0,  -999.00,9,-999.00000,9,    0.154,2, -999.000,9,    0.000,2,   96.225,2
  096U20180111,  SR03,   106,  1,     32,     32,2,20180216,1413,-56.9653, 132.1530, 4529,     81.0,   4.6032,  33.9156,2,-999.0000,9,    313.9,2,   -999.0,9,  -999.00,9,  -999.00,9,  -999.00,9,  -999.00,9,     -999,9, -999.000,9, -999.000,9,     -999,9,   -999.0,9,   -999.0,9,-999.0000,9,  -999.00,  -999.00,9,   -999.0,9,   -999.0,  -999.00,9,-999.00000,9,    0.166,2, -999.000,9,    0.000,2,   95.934,2
  096U20180111,  SR03,   106,  1,     31,     31,2,20180216,1413,-56.9653, 132.1530, 4529,    120.7,   2.7699,  33.9468,2,  33.9474,2,    316.1,2,    317.1,2,    13.10,2,    25.69,2,     0.79,2,     1.86,2,     0.27,2,    4.970,2,    2.751,2,     3.22,2,   2154.8,2,   2279.1,2,-999.0000,9,  -999.00,    14.04,2,   -999.0,9,   -999.0,  -999.00,9,-999.00000,9,    0.058,2, -999.000,9,    0.000,2,   98.560,2
  096U20180111,  SR03,   106,  1,     30,     30,2,20180216,1413,-56.9653, 132.1530, 4529,    180.3,   2.4866,  33.9533,2,  33.9534,2,    315.2,2,    315.9,2,    14.60,2,    26.90,2,     0.02,2,     1.85,2,    -0.01,2,    5.017,2,    2.734,2,     3.44,2,   -999.0,9,   -999.0,9,-999.0000,9,  -999.00,    14.43,2,   -999.0,9,   -999.0,  -999.00,9,-999.00000,9,    0.019,2, -999.000,9,    0.000,2,   99.532,2
  096U20180111,  SR03,   106,  1,     29,     29,2,20180216,1413,-56.9653, 132.1530, 4529,    240.7,   2.0506,  33.9571,2,  33.9586,2,    315.1,2,    312.8,2,    18.20,2,    27.86,2,     0.01,2,     1.92,2,    -0.01,2,    5.017,2,    2.735,2,      3.4,2,   2162.7,2,   2281.8,2,-999.0000,9,  -999.00,    14.74,2,   -999.0,9,   -999.0,  -999.00,9,-999.00000,9,    0.016,2, -999.000,9,    0.000,2,   99.610,2
  096U20180111,  SR03,   106,  1,     28,     28,2,20180216,1413,-56.9653, 132.1530, 4529,    300.8,   2.3048,  34.0423,2,  34.0475,2,    283.4,2,    283.9,2,    24.20,2,    29.45,2,     0.01,2,     2.02,2,    -0.01,2,    4.531,2,    2.462,2,     2.63,2,   2180.4,2,   2286.9,2,-999.0000,9,  -999.00,    16.85,2,   -999.0,9,   -999.0,  -999.00,9,-999.00000,9,    0.016,2, -999.000,9,    0.000,2,   99.593,2
  096U20180111,  SR03,   106,  1,     27,     27,2,20180216,1413,-56.9653, 132.1530, 4529,    400.8,   2.7192,  34.1993,2,  34.2008,2,    234.8,2,    235.6,2,    37.00,2,    31.96,2,     0.01,2,     2.20,2,    -0.01,2, -999.000,9, -999.000,9,     -999,9,   2204.7,2,   2296.8,2,-999.0000,9,  -999.00,  -999.00,9,   -999.0,9,   -999.0,  -999.00,9,-999.00000,9,    0.013,2, -999.000,9,    0.000,2,   99.672,2
  096U20180111,  SR03,   106,  1,     26,     26,2,20180216,1413,-56.9653, 132.1530, 4529,    500.9,   2.7495,  34.3110,2,  34.3120,2,    205.5,2,    205.9,2,    48.20,2,    33.61,2,     0.01,2,     2.31,2,    -0.01,2,    2.390,2,    1.250,2,     0.87,2,   2225.6,2,   2311.0,2,-999.0000,9,  -999.00,    22.47,2,   -999.0,9,   -999.0,  -999.00,9,-999.00000,9,    0.011,2, -999.000,9,    0.000,2,   99.717,2
  096U20180111,  SR03,   106,  1,     25,     25,2,20180216,1413,-56.9653, 132.1530, 4529,    650.6,   2.6632,  34.4450,2,  34.4448,2,    182.8,2,    181.8,2,    61.20,2,    34.56,2,     0.01,2,     2.39,2,    -0.01,2, -999.000,9, -999.000,9,     -999,9,   2243.9,2,   2323.9,6,-999.0000,9,  -999.00,  -999.00,9,   -999.0,9,   -999.0,  -999.00,9,-999.00000,9,    0.009,2, -999.000,9,    0.000,2,   99.767,2
  096U20180111,  SR03,   106,  1,     24,     24,2,20180216,1413,-56.9653, 132.1530, 4529,    800.9,   2.5459,  34.5353,2,  34.5341,2,    175.4,2,    174.9,2,    68.50,2,    34.29,2,     0.01,2,     2.38,2,    -0.01,2,    0.891,2,    0.453,2,      0.2,2,   2252.0,2,   2332.9,2,-999.0000,9,  -999.00,    23.72,2,   -999.0,9,   -999.0,  -999.00,9,-999.00000,9,    0.007,2, -999.000,9,    0.000,2,   99.819,2
  096U20180111,  SR03,   106,  1,     23,     23,2,20180216,1413,-56.9653, 132.1530, 4529,    950.6,   2.4621,  34.6031,2,  34.6028,2,    175.0,2,    174.9,2,    72.40,2,    33.61,2,     0.01,2,     2.32,2,    -0.01,2, -999.000,9, -999.000,9,     -999,9,   2251.6,2,   2338.2,2,-999.0000,9,  -999.00,  -999.00,9,   -999.0,9,   -999.0,  -999.00,9,-999.00000,9,    0.006,2, -999.000,9,    0.000,2,   99.854,2
  096U20180111,  SR03,   106,  1,     22,     22,2,20180216,1413,-56.9653, 132.1530, 4529,   1100.8,   2.3794,  34.6545,2,  34.6539,2,    177.5,2,    177.7,2,    75.30,2,    32.72,2,     0.01,2,     2.28,2,    -0.01,2,    0.425,2,    0.213,2,     0.16,2,   -999.0,9,   -999.0,9,-999.0000,9,  -999.00,    22.35,2,   -999.0,9,   -999.0,  -999.00,9,-999.00000,9,    0.005,2, -999.000,9,    0.000,2,   99.865,2
  096U20180111,  SR03,   106,  1,     21,     21,2,20180216,1413,-56.9653, 132.1530, 4529,   1250.7,   2.2952,  34.6956,2,  34.6952,2,    181.7,2,    182.9,2,    77.40,2,    31.85,2,     0.00,2,     2.21,2,    -0.01,2,    0.299,2,    0.157,2,        0,2,   2251.3,2,   2345.3,2,-999.0000,9,  -999.00,    21.37,2,   -999.0,9,   -999.0,  -999.00,9,-999.00000,9,    0.005,2, -999.000,9,    0.000,2,   99.869,2
  096U20180111,  SR03,   106,  1,     20,     20,2,20180216,1413,-56.9653, 132.1530, 4529,   1250.7,   2.2942,  34.6957,2,-999.0000,9,    181.7,2,   -999.0,9,  -999.00,9,  -999.00,9,  -999.00,9,  -999.00,9,     -999,9, -999.000,9, -999.000,9,     -999,9,   -999.0,9,   -999.0,9,-999.0000,9,  -999.00,  -999.00,9,   -999.0,9,   -999.0,  -999.00,9,-999.00000,9,    0.004,2, -999.000,9,    0.000,2,   99.887,2
  096U20180111,  SR03,   106,  1,     19,     19,2,20180216,1413,-56.9653, 132.1530, 4529,   1400.6,   2.1868,  34.7216,2,  34.7226,2,    186.3,2,    187.6,2,    79.70,2,    31.20,2,     0.00,2,     2.17,2,    -0.01,2, -999.000,9, -999.000,9,     -999,9,   2250.1,6,   2346.4,6,-999.0000,9,  -999.00,  -999.00,9,   -999.0,9,   -999.0,  -999.00,9,-999.00000,9,    0.004,2, -999.000,9,    0.000,2,   99.903,2
  096U20180111,  SR03,   106,  1,     18,     18,2,20180216,1413,-56.9653, 132.1530, 4529,   1600.6,   2.0513,  34.7401,2,  34.7440,4,    191.7,2,    192.1,2,    82.90,2,    30.66,2,     0.00,2,     2.13,2,    -0.01,2,    0.201,2,    0.107,2,     0.01,2,   2246.3,2,   2349.6,2,-999.0000,9,  -999.00,    20.16,2,   -999.0,9,   -999.0,  -999.00,9,-999.00000,9,    0.003,2, -999.000,9,    0.000,2,   99.917,2
  096U20180111,  SR03,   106,  1,     17,     17,2,20180216,1413,-56.9653, 132.1530, 4529,   1800.9,   1.8947,  34.7469,2,  34.7478,2,    195.8,2,    195.6,2,    86.90,2,    30.49,2,     0.00,2,     2.12,2,    -0.01,2,    0.173,2,    0.089,2,     0.01,2,   2249.5,2,   2352.3,2,-999.0000,9,  -999.00,    19.26,2,   -999.0,9,   -999.0,  -999.00,9,-999.00000,9,    0.004,2, -999.000,9,    0.000,2,   99.908,2
  096U20180111,  SR03,   106,  1,     16,     16,2,20180216,1413,-56.9653, 132.1530, 4529,   2051.0,   1.6653,  34.7447,2,  34.7445,2,    198.5,2,    198.8,2,    93.60,2,    30.66,2,     0.00,2,     2.13,2,    -0.01,2,    0.175,2,    0.086,2,    -0.01,2,   2251.7,2,   2353.9,2,-999.0000,9,  -999.00,    19.48,2,   -999.0,9,   -999.0,  -999.00,9,-999.00000,9,    0.002,2, -999.000,9,    0.000,2,   99.942,2
  096U20180111,  SR03,   106,  1,     15,     15,2,20180216,1413,-56.9653, 132.1530, 4529,   2301.1,   1.4440,  34.7374,2,  34.7380,2,    200.8,2,    201.6,2,   100.20,2,    30.96,2,     0.00,2,     2.16,2,    -0.01,2,    0.179,2,    0.092,2,     0.03,2,   -999.0,9,   -999.0,9,-999.0000,9,  -999.00,    18.72,2,   -999.0,9,   -999.0,  -999.00,9,-999.00000,9,    0.002,2, -999.000,9,    0.000,2,   99.956,2
  096U20180111,  SR03,   106,  1,     14,     14,2,20180216,1413,-56.9653, 132.1530, 4529,   2551.2,   1.2393,  34.7280,2,  34.7280,2,    203.2,2,    203.6,2,   106.40,2,    31.32,2,     0.00,2,     2.19,2,    -0.01,2,    0.205,2,    0.106,2,     0.04,2,   2256.4,2,   2360.2,6,-999.0000,9,  -999.00,    19.48,2,   -999.0,9,   -999.0,  -999.00,9,-999.00000,9,    0.002,2, -999.000,9,    0.000,2,   99.959,2
  096U20180111,  SR03,   106,  1,     13,     13,2,20180216,1413,-56.9653, 132.1530, 4529,   2800.8,   1.0324,  34.7173,2,  34.7171,2,    205.9,2,    206.1,2,   112.40,2,    31.68,2,     0.00,2,     2.21,2,    -0.01,2,    0.246,2,    0.120,2,     0.06,2,   -999.0,9,   -999.0,9,-999.0000,9,  -999.00,    19.17,2,   -999.0,9,   -999.0,  -999.00,9,-999.00000,9,    0.002,2, -999.000,9,    0.000,2,   99.962,2
  096U20180111,  SR03,   106,  1,     12,     12,2,20180216,1413,-56.9653, 132.1530, 4529,   3050.6,   0.8586,  34.7079,2,  34.7098,2,    208.7,2,    208.8,2,   117.60,2,    32.00,2,     0.00,2,     2.24,2,    -0.01,2,    0.308,2,    0.153,2,     0.06,2,   2260.2,2,   2361.5,2,-999.0000,9,  -999.00,    19.18,2,   -999.0,9,   -999.0,  -999.00,9,-999.00000,9,    0.002,2, -999.000,9,    0.000,2,   99.962,2
  096U20180111,  SR03,   106,  1,     11,     11,2,20180216,1413,-56.9653, 132.1530, 4529,   3301.2,   0.6692,  34.6982,2,  34.6985,2,    212.4,2,    212.7,2,   122.70,2,    32.21,2,     0.00,2,     2.26,2,    -0.01,2,    0.421,2,    0.209,2,    -0.01,2,   -999.0,9,   -999.0,9,-999.0000,9,  -999.00,    18.50,2,   -999.0,9,   -999.0,  -999.00,9,-999.00000,9,    0.001,2, -999.000,9,    0.000,2,   99.968,2
  096U20180111,  SR03,   106,  1,     10,     10,2,20180216,1413,-56.9653, 132.1530, 4529,   3301.2,   0.6665,  34.6981,2,-999.0000,9,    212.4,2,   -999.0,9,  -999.00,9,  -999.00,9,  -999.00,9,  -999.00,9,     -999,9, -999.000,9, -999.000,9,     -999,9,   -999.0,9,   -999.0,9,-999.0000,9,  -999.00,  -999.00,9,   -999.0,9,   -999.0,  -999.00,9,-999.00000,9,    0.001,2, -999.000,9,    0.000,2,   99.964,2
  096U20180111,  SR03,   106,  1,      9,      9,2,20180216,1413,-56.9653, 132.1530, 4529,   3600.7,   0.5032,  34.6899,2,  34.6908,2,    216.2,2,    217.1,2,   127.40,2,    32.39,2,     0.00,2,     2.27,2,    -0.01,2,    0.534,2,    0.264,2,     0.01,2,   2259.2,2,   2360.7,2,-999.0000,9,  -999.00,    18.65,2,   -999.0,9,   -999.0,  -999.00,9,-999.00000,9,    0.001,2, -999.000,9,    0.000,2,   99.969,2
  096U20180111,  SR03,   106,  1,      8,      8,2,20180216,1413,-56.9653, 132.1530, 4529,   3600.6,   0.5032,  34.6898,2,-999.0000,9,    216.2,2,   -999.0,9,  -999.00,9,  -999.00,9,  -999.00,9,  -999.00,9,     -999,9, -999.000,9, -999.000,9,     -999,9,   -999.0,9,   -999.0,9,-999.0000,9,  -999.00,  -999.00,9,   -999.0,9,   -999.0,  -999.00,9,-999.00000,9,    0.002,2, -999.000,9,    0.000,2,   99.964,2
  096U20180111,  SR03,   106,  1,      7,      7,2,20180216,1413,-56.9653, 132.1530, 4529,   3901.4,   0.3964,  34.6842,2,  34.6842,2,    219.6,2,    219.9,2,   131.00,2,    32.45,2,     0.00,2,     2.27,2,    -0.01,2,    0.659,2,    0.323,2,     0.04,2,   2261.4,2,   2361.0,2,-999.0000,9,  -999.00,    18.95,2,   -999.0,9,   -999.0,  -999.00,9,-999.00000,9,    0.002,2, -999.000,9,    0.000,2,   99.960,2
  096U20180111,  SR03,   106,  1,      6,      6,2,20180216,1413,-56.9653, 132.1530, 4529,   3901.2,   0.3962,  34.6842,2,-999.0000,9,    219.6,2,   -999.0,9,  -999.00,9,  -999.00,9,  -999.00,9,  -999.00,9,     -999,9, -999.000,9, -999.000,9,     -999,9,   -999.0,9,   -999.0,9,-999.0000,9,  -999.00,  -999.00,9,   -999.0,9,   -999.0,  -999.00,9,-999.00000,9,    0.002,2, -999.000,9,    0.000,2,   99.962,2
  096U20180111,  SR03,   106,  1,      5,      5,2,20180216,1413,-56.9653, 132.1530, 4529,   4200.8,   0.3040,  34.6790,2,  34.6784,2,    222.8,2,    223.3,2,   135.30,2,    32.51,2,     0.00,2,     2.28,2,    -0.01,2,    0.832,2,    0.405,2,     0.08,2,   2262.2,2,   2360.7,2,-999.0000,9,  -999.00,    18.88,2,   -999.0,9,   -999.0,  -999.00,9,-999.00000,9,    0.003,2, -999.000,9,    0.000,2,   99.927,2
  096U20180111,  SR03,   106,  1,      4,      4,2,20180216,1413,-56.9653, 132.1530, 4529,   4401.4,   0.2379,  34.6749,2,  34.6741,2,    225.2,2,    225.4,2,   136.40,2,    32.52,2,     0.00,2,     2.28,2,    -0.01,2,    0.988,2,    0.491,2,     0.16,2,   2260.1,2,   2359.7,2,-999.0000,9,  -999.00,    19.03,2,   -999.0,9,   -999.0,  -999.00,9,-999.00000,9,    0.004,2, -999.000,9,    0.000,2,   99.902,2
  096U20180111,  SR03,   106,  1,      3,      3,2,20180216,1413,-56.9653, 132.1530, 4529,   4581.3,   0.2134,  34.6725,2,  34.6714,2,    226.7,2,    226.8,2,   137.70,2,    32.53,2,     0.00,2,     2.28,2,    -0.01,2,    1.066,2,    0.523,2,     0.18,2,   2261.3,6,   2359.9,6,-999.0000,9,  -999.00,    18.92,2,   -999.0,9,   -999.0,  -999.00,9,-999.00000,9,    0.006,2, -999.000,9,    0.000,2,   99.862,2
  096U20180111,  SR03,   106,  1,      2,      2,2,20180216,1413,-56.9653, 132.1530, 4529,   4633.8,   0.2157,  34.6722,2,-999.0000,9,    227.1,2,   -999.0,9,  -999.00,9,  -999.00,9,  -999.00,9,  -999.00,9,     -999,9, -999.000,9, -999.000,9,     -999,9,   -999.0,9,   -999.0,9,-999.0000,9,  -999.00,  -999.00,9,   -999.0,9,   -999.0,  -999.00,9,-999.00000,9,    0.006,2, -999.000,9,    0.000,2,   99.840,2
  096U20180111,  SR03,   106,  1,      1,      1,2,20180216,1413,-56.9653, 132.1530, 4529,   4633.9,   0.2155,  34.6722,2,  34.6717,2,    227.1,2,    227.1,2,   137.90,2,    32.54,2,     0.01,2,     2.28,2,    -0.01,2,    1.088,2,    0.535,2,     0.46,2,   2260.4,2,   2360.4,2,-999.0000,9,  -999.00,    19.05,2,   -999.0,9,   -999.0,  -999.00,9,-999.00000,9,    0.007,2, -999.000,9,    0.000,2,   99.837,2