BOTTLE,20230418CCHSIOENA
EXPOCODE,SECT_ID,STNNBR,CASTNO,SAMPNO,BTLNBR,BTLNBR_FLAG_W,DATE,TIME,LATITUDE,LONGITUDE,DEPTH,CTDPRS,CTDTMP,CTDSAL,CTDSAL_FLAG_W,SALNTY,SALNTY_FLAG_W,CTDOXY,CTDOXY_FLAG_W,OXYGEN,OXYGEN_FLAG_W,SILCAT,SILCAT_FLAG_W,NITRAT,NITRAT_FLAG_W,NITRIT,NITRIT_FLAG_W,PHSPHT,PHSPHT_FLAG_W,NH4,NH4_FLAG_W,CFC-11,CFC-11_FLAG_W,CFC-12,CFC-12_FLAG_W,SF6,SF6_FLAG_W,TCARBN,TCARBN_FLAG_W,ALKALI,ALKALI_FLAG_W,PH_TOT,PH_TOT_FLAG_W,PH_TMP,N2O,N2O_FLAG_W,DELC14,DELC14_FLAG_W,C14ERR,DELC13,DELC13_FLAG_W,CTDBETA700,CTDBETA700_FLAG_W,CTDBEAMCP,CTDBEAMCP_FLAG_W,CTDFLUOR,CTDFLUOR_FLAG_W,PAR,PAR_FLAG_W,CTDXMISS,CTDXMISS_FLAG_W
,,,,,,,,,,,METERS,DBAR,ITS-90,PSS-78,,PSS-78,,UMOL/KG,,UMOL/KG,,UMOL/KG,,UMOL/KG,,UMOL/KG,,UMOL/KG,,UMOL/KG,,PMOL/KG,,PMOL/KG,,FMOL/KG,,UMOL/KG,,UMOL/KG,,,,DEG C,NMOL/KG,,/MILLE,,/MILLE,/MILLE,,VOLTS,,1/M,,MG/M^3,,UMOL/M^2/SEC,,%TRANS,
  096U20180111,  SR03,     4,  1,     36,     36,2,20180111,1841,-44.3802, 146.1893, 2321,      5.9,  15.2229,  35.1474,2,  35.1468,2,    256.4,2,    255.7,2,     0.10,2,     0.63,2,     0.10,2,     0.21,2,     0.21,2, -999.000,9, -999.000,9,     -999,9,   2074.0,2,   2322.2,2,-999.0000,9,  -999.00,  -999.00,9,   -999.0,9,   -999.0,  -999.00,9,   0.00247,2,    0.210,2,    0.702,2,  106.000,2,   94.893,2
  096U20180111,  SR03,     4,  1,     35,     35,2,20180111,1841,-44.3802, 146.1893, 2321,      6.0,  15.2205,  35.1473,2,-999.0000,9,    256.4,2,   -999.0,9,  -999.00,9,  -999.00,9,  -999.00,9,  -999.00,9,     -999,9, -999.000,9, -999.000,9,     -999,9,   -999.0,9,   -999.0,9,-999.0000,9,  -999.00,  -999.00,9,   -999.0,9,   -999.0,  -999.00,9,   0.00238,2,    0.206,2,    0.714,2,  106.000,2,   94.980,2
  096U20180111,  SR03,     4,  1,     34,     34,2,20180111,1841,-44.3802, 146.1893, 2321,     15.2,  15.1193,  35.1483,2,  35.1480,2,    250.6,2,    251.2,2,     0.10,2,     0.80,2,     0.15,2,     0.24,2,     0.39,2, -999.000,9, -999.000,9,     -999,9,   -999.0,9,   -999.0,9,-999.0000,9,  -999.00,  -999.00,9,   -999.0,9,   -999.0,  -999.00,9,   0.00212,2,    0.181,2,    0.714,2,   36.100,2,   95.568,2
  096U20180111,  SR03,     4,  1,     33,     33,2,20180111,1841,-44.3802, 146.1893, 2321,     15.3,  15.1081,  35.1483,2,-999.0000,9,    250.6,2,   -999.0,9,  -999.00,9,  -999.00,9,  -999.00,9,  -999.00,9,     -999,9, -999.000,9, -999.000,9,     -999,9,   -999.0,9,   -999.0,9,-999.0000,9,  -999.00,  -999.00,9,   -999.0,9,   -999.0,  -999.00,9,   0.00213,2,    0.173,2,    0.762,2,   38.100,2,   95.765,2
  096U20180111,  SR03,     4,  1,     32,     32,2,20180111,1841,-44.3802, 146.1893, 2321,     35.6,  14.4532,  35.1315,2,  35.1323,2,    255.4,2,    244.4,2,     0.30,2,     2.00,2,     0.29,2,     0.35,2,     0.79,2,    2.585,2,    1.539,2,     2.13,2,   2090.7,2,   2321.5,2,-999.0000,9,  -999.00,     8.52,2,   -999.0,9,   -999.0,  -999.00,9,   0.00109,2,    0.068,2,    0.324,2,    6.980,2,   98.310,2
  096U20180111,  SR03,     4,  1,     31,     31,2,20180111,1841,-44.3802, 146.1893, 2321,     35.5,  14.4521,  35.1315,2,-999.0000,9,    255.4,2,   -999.0,9,  -999.00,9,  -999.00,9,  -999.00,9,  -999.00,9,     -999,9, -999.000,9, -999.000,9,     -999,9,   -999.0,9,   -999.0,9,-999.0000,9,  -999.00,  -999.00,9,   -999.0,9,   -999.0,  -999.00,9,   0.00107,2,    0.068,2,    0.312,2,    6.920,2,   98.309,2
  096U20180111,  SR03,     4,  1,     30,     30,2,20180111,1841,-44.3802, 146.1893, 2321,     60.5,  13.9828,  35.1532,2,  35.1523,2,    242.1,2,    239.7,2,     0.70,2,     3.48,2,     0.42,2,     0.41,2,     0.34,2, -999.000,9, -999.000,9,     -999,9,   2099.8,6,   2320.3,6,-999.0000,9,  -999.00,  -999.00,9,   -999.0,9,   -999.0,  -999.00,9,   0.00082,2,    0.045,2,    0.144,2,    1.720,2,   98.883,2
  096U20180111,  SR03,     4,  1,     29,     29,2,20180111,1841,-44.3802, 146.1893, 2321,     60.5,  13.9862,  35.1521,2,-999.0000,9,    242.1,2,   -999.0,9,  -999.00,9,  -999.00,9,  -999.00,9,  -999.00,9,     -999,9, -999.000,9, -999.000,9,     -999,9,   -999.0,9,   -999.0,9,-999.0000,9,  -999.00,  -999.00,9,   -999.0,9,   -999.0,  -999.00,9,   0.00081,2,    0.045,2,    0.168,2,    1.670,2,   98.888,2
  096U20180111,  SR03,     4,  1,     28,     28,2,20180111,1841,-44.3802, 146.1893, 2321,    100.6,  13.2673,  35.2510,2,  35.2466,2,    220.3,2,    218.8,2,     2.90,2,     9.29,2,     0.06,2,     0.71,2,        0,2, -999.000,9, -999.000,9,     -999,9,   -999.0,9,   -999.0,9,-999.0000,9,  -999.00,  -999.00,9,   -999.0,9,   -999.0,  -999.00,9,   0.00075,2,    0.033,2,    0.114,2,    0.256,2,   99.185,2
  096U20180111,  SR03,     4,  1,     27,     27,2,20180111,1841,-44.3802, 146.1893, 2321,    100.6,  13.2714,  35.2513,2,-999.0000,9,    220.3,2,   -999.0,9,  -999.00,9,  -999.00,9,  -999.00,9,  -999.00,9,     -999,9, -999.000,9, -999.000,9,     -999,9,   -999.0,9,   -999.0,9,-999.0000,9,  -999.00,  -999.00,9,   -999.0,9,   -999.0,  -999.00,9,   0.00074,2,    0.032,2,    0.072,2,    0.261,2,   99.197,2
  096U20180111,  SR03,     4,  1,     26,     26,2,20180111,1841,-44.3802, 146.1893, 2321,    100.5,  13.2730,  35.2510,2,-999.0000,9,    220.3,2,   -999.0,9,  -999.00,9,  -999.00,9,  -999.00,9,  -999.00,9,     -999,9, -999.000,9, -999.000,9,     -999,9,   -999.0,9,   -999.0,9,-999.0000,9,  -999.00,  -999.00,9,   -999.0,9,   -999.0,  -999.00,9,   0.00076,2,    0.033,2,    0.072,2,    0.259,2,   99.167,2
  096U20180111,  SR03,     4,  1,     25,     25,2,20180111,1841,-44.3802, 146.1893, 2321,    100.5,  13.2698,  35.2509,2,-999.0000,9,    220.3,2,   -999.0,9,  -999.00,9,  -999.00,9,  -999.00,9,  -999.00,9,     -999,9, -999.000,9, -999.000,9,     -999,9,   -999.0,9,   -999.0,9,-999.0000,9,  -999.00,  -999.00,9,   -999.0,9,   -999.0,  -999.00,9,   0.00076,2,    0.032,2,    0.072,2,    0.248,2,   99.206,2
  096U20180111,  SR03,     4,  1,     24,     24,2,20180111,1841,-44.3802, 146.1893, 2321,    100.4,  13.2566,  35.2496,2,-999.0000,9,    220.3,2,   -999.0,9,  -999.00,9,  -999.00,9,  -999.00,9,  -999.00,9,     -999,9, -999.000,9, -999.000,9,     -999,9,   -999.0,9,   -999.0,9,-999.0000,9,  -999.00,  -999.00,9,   -999.0,9,   -999.0,  -999.00,9,   0.00073,2,    0.032,2,    0.066,2,    0.242,2,   99.212,2
  096U20180111,  SR03,     4,  1,     23,     23,2,20180111,1841,-44.3802, 146.1893, 2321,    100.5,  13.2398,  35.2485,2,-999.0000,9,    220.3,2,   -999.0,9,  -999.00,9,  -999.00,9,  -999.00,9,  -999.00,9,     -999,9, -999.000,9, -999.000,9,     -999,9,   -999.0,9,   -999.0,9,-999.0000,9,  -999.00,  -999.00,9,   -999.0,9,   -999.0,  -999.00,9,   0.00071,2,    0.032,2,    0.060,2,    0.241,2,   99.202,2
  096U20180111,  SR03,     4,  1,     22,     22,2,20180111,1841,-44.3802, 146.1893, 2321,    150.6,  12.1400,  35.1126,2,  35.1122,2,    224.7,2,    225.4,2,     3.40,2,    10.85,2,     0.02,2,     0.80,2,        0,2,    2.661,2,    1.561,2,     1.72,2,   2126.1,2,   2314.6,6,-999.0000,9,  -999.00,    10.83,2,   -999.0,9,   -999.0,  -999.00,9,   0.00063,2,    0.023,2,    0.048,2,    0.016,2,   99.438,2
  096U20180111,  SR03,     4,  1,     21,     21,2,20180111,1841,-44.3802, 146.1893, 2321,    150.5,  12.1319,  35.1121,2,-999.0000,9,    224.7,2,   -999.0,9,  -999.00,9,  -999.00,9,  -999.00,9,  -999.00,9,     -999,9, -999.000,9, -999.000,9,     -999,9,   -999.0,9,   -999.0,9,-999.0000,9,  -999.00,  -999.00,9,   -999.0,9,   -999.0,  -999.00,9,   0.00066,2,    0.023,2,    0.048,2,    0.018,2,   99.439,2
  096U20180111,  SR03,     4,  1,     20,     20,2,20180111,1841,-44.3802, 146.1893, 2321,    199.8,  11.4259,  35.0164,2,  35.0213,2,    237.4,3,    216.0,2,     4.30,2,    13.08,2,     0.01,2,     0.94,2,        0,2, -999.000,9, -999.000,9,     -999,9,   -999.0,9,   -999.0,9,-999.0000,9,  -999.00,  -999.00,9,   -999.0,9,   -999.0,  -999.00,9,   0.00048,2,    0.016,2,    0.042,2,    0.000,2,   99.588,2
  096U20180111,  SR03,     4,  1,     19,     19,2,20180111,1841,-44.3802, 146.1893, 2321,    199.8,  11.4097,  35.0143,2,-999.0000,9,    237.4,3,   -999.0,9,  -999.00,9,  -999.00,9,  -999.00,9,  -999.00,9,     -999,9, -999.000,9, -999.000,9,     -999,9,   -999.0,9,   -999.0,9,-999.0000,9,  -999.00,  -999.00,9,   -999.0,9,   -999.0,  -999.00,9,   0.00054,2,    0.016,2,    0.042,2,    0.000,2,   99.595,2
  096U20180111,  SR03,     4,  1,     18,     18,2,20180111,1841,-44.3802, 146.1893, 2321,    250.2,  10.9760,  34.9651,2,  34.9649,2,    242.8,3,    245.0,2,  -999.00,9,  -999.00,9,  -999.00,9,  -999.00,9,     -999,9, -999.000,9, -999.000,9,     -999,9,   -999.0,9,   -999.0,9,-999.0000,9,  -999.00,  -999.00,9,   -999.0,9,   -999.0,  -999.00,9,   0.00068,2,    0.020,2,    0.042,2,    0.000,2,   99.503,2
  096U20180111,  SR03,     4,  1,     17,     17,2,20180111,1841,-44.3802, 146.1893, 2321,    300.9,  10.1872,  34.8272,2,  34.8259,2,    248.2,3,    207.9,2,     6.30,2,    16.94,2,     0.01,2,     1.18,2,        0,2,    2.641,2,    1.501,2,     1.22,2,   2147.9,2,   2302.0,2,-999.0000,9,  -999.00,    13.47,2,   -999.0,9,   -999.0,  -999.00,9,   0.00053,2,    0.014,2,    0.042,2,    0.000,2,   99.641,2
  096U20180111,  SR03,     4,  1,     16,     16,2,20180111,1841,-44.3802, 146.1893, 2321,    400.8,   9.3627,  34.7047,2,  34.7031,2,    231.8,3,    219.1,2,     6.70,2,    18.09,2,     0.01,2,     1.26,2,        0,2, -999.000,9, -999.000,9,     -999,9,   -999.0,9,   -999.0,9,-999.0000,9,  -999.00,  -999.00,9,   -999.0,9,   -999.0,  -999.00,9,   0.00051,2,    0.013,2,    0.036,2,    0.000,2,   99.677,2
  096U20180111,  SR03,     4,  1,     15,     15,2,20180111,1841,-44.3802, 146.1893, 2321,    500.4,   8.7440,  34.6245,2,  34.6245,2,    234.4,3,    213.9,2,     8.30,2,    20.17,2,     0.01,2,     1.39,2,        0,2, -999.000,9, -999.000,9,     -999,9,   -999.0,9,   -999.0,9,-999.0000,9,  -999.00,  -999.00,9,   -999.0,9,   -999.0,  -999.00,9,   0.00049,2,    0.012,2,    0.036,2,    0.000,2,   99.712,2
  096U20180111,  SR03,     4,  1,     14,     14,2,20180111,1841,-44.3802, 146.1893, 2321,    601.0,   8.1123,  34.5664,2,  34.5661,2,    216.2,3,    202.6,2,    11.70,2,    22.62,2,     0.01,2,     1.55,2,    -0.01,2,    2.349,2,    1.283,2,     0.79,2,   2163.4,2,   2294.1,2,-999.0000,9,  -999.00,    15.62,2,   -999.0,9,   -999.0,  -999.00,9,   0.00048,2,    0.009,2,    0.036,2,    0.000,2,   99.765,2
  096U20180111,  SR03,     4,  1,     13,     13,2,20180111,1841,-44.3802, 146.1893, 2321,    700.1,   7.3106,  34.5029,2,  34.5038,2,    197.2,2,    197.7,2,    16.00,2,    24.86,2,     0.01,2,     1.69,2,    -0.01,2, -999.000,9, -999.000,9,     -999,9,   -999.0,9,   -999.0,9,-999.0000,9,  -999.00,  -999.00,9,   -999.0,9,   -999.0,  -999.00,9,   0.00048,2,    0.008,2,    0.036,2,    0.000,2,   99.809,2
  096U20180111,  SR03,     4,  1,     12,     12,2,20180111,1841,-44.3802, 146.1893, 2321,    800.4,   6.5686,  34.4660,2,  34.4652,2,    195.4,2,    193.5,2,    21.80,2,    26.81,2,     0.01,2,     1.83,2,        0,2,    1.589,2,    0.843,2,     0.51,2,   2182.3,2,   2298.3,2,-999.0000,9,  -999.00,    17.54,2,   -999.0,9,   -999.0,  -999.00,9,   0.00044,2,    0.007,2,    0.042,2,    0.000,2,   99.822,2
  096U20180111,  SR03,     4,  1,     11,     11,2,20180111,1841,-44.3802, 146.1893, 2321,    900.2,   5.7486,  34.4393,2,  34.4397,2,    188.1,2,    188.9,2,    30.00,2,    28.79,2,     0.00,2,     1.96,2,        0,2, -999.000,9, -999.000,9,     -999,9,   -999.0,9,   -999.0,9,-999.0000,9,  -999.00,  -999.00,9,   -999.0,9,   -999.0,  -999.00,9,   0.00043,2,    0.006,2,    0.036,2,    0.000,2,   99.856,2
  096U20180111,  SR03,     4,  1,     10,     10,2,20180111,1841,-44.3802, 146.1893, 2321,   1000.7,   5.0116,  34.4339,2,  34.4337,2,    184.1,2,    184.1,2,    39.50,2,    30.46,2,     0.00,2,     2.08,2,        0,2, -999.000,9, -999.000,9,     -999,9,   -999.0,9,   -999.0,9,-999.0000,9,  -999.00,  -999.00,9,   -999.0,9,   -999.0,  -999.00,9,   0.00041,2,    0.005,2,    0.042,2,    0.000,2,   99.877,2
  096U20180111,  SR03,     4,  1,      9,      9,2,20180111,1841,-44.3802, 146.1893, 2321,   1149.8,   3.8789,  34.4693,2,  34.4694,2,    172.8,2,    172.9,2,    58.10,2,    32.87,2,     0.00,2,     2.27,2,    -0.01,2,    0.691,6,    0.356,6,     0.08,6,   2237.5,2,   2331.2,2,-999.0000,9,  -999.00,    20.28,6,   -999.0,9,   -999.0,  -999.00,9,   0.00041,2,    0.005,2,    0.042,2,    0.000,2,   99.879,2
  096U20180111,  SR03,     4,  1,      8,      8,2,20180111,1841,-44.3802, 146.1893, 2321,   1300.6,   3.2886,  34.5129,2,  34.5141,2,    166.4,2,    165.8,2,    69.90,2,    33.98,2,     0.00,2,     2.35,2,    -0.01,2, -999.000,9, -999.000,9,     -999,9,   -999.0,9,   -999.0,9,-999.0000,9,  -999.00,  -999.00,9,   -999.0,9,   -999.0,  -999.00,9,   0.00042,2,    0.004,2,    0.048,2,    0.000,2,   99.913,2
  096U20180111,  SR03,     4,  1,      7,      7,2,20180111,1841,-44.3802, 146.1893, 2321,   1500.4,   2.8650,  34.5819,2,  34.5826,2,    160.1,2,    159.7,2,    82.10,2,    34.30,2,     0.00,2,     2.39,2,        0,2,    0.219,2,    0.102,2,     0.05,2,   2269.0,2,   2356.7,6,-999.0000,9,  -999.00,    21.12,2,   -999.0,9,   -999.0,  -999.00,9,   0.00040,2,    0.003,2,    0.048,2,    0.000,2,   99.923,2
  096U20180111,  SR03,     4,  1,      6,      6,2,20180111,1841,-44.3802, 146.1893, 2321,   1700.9,   2.5076,  34.6409,2,  34.6410,2,    168.7,2,    168.8,2,    81.10,2,    33.44,2,     0.00,2,     2.30,2,        0,2,    0.219,2,    0.104,2,     0.13,2,   2265.2,2,   2353.1,2,-999.0000,9,  -999.00,    20.45,2,   -999.0,9,   -999.0,  -999.00,9,   0.00040,2,    0.002,2,    0.048,2,    0.000,2,   99.940,2
  096U20180111,  SR03,     4,  1,      5,      5,2,20180111,1841,-44.3802, 146.1893, 2321,   1900.4,   2.3302,  34.6858,2,  34.6869,2,    172.8,2,    172.4,2,    86.20,2,    32.80,2,     0.00,2,     2.28,2,    -0.01,2,    0.120,2,    0.061,2,    -0.01,2,   2266.9,2,   2358.9,2,-999.0000,9,  -999.00,    19.83,2,   -999.0,9,   -999.0,  -999.00,9,   0.00039,2,    0.003,2,    0.048,2,    0.000,2,   99.930,2
  096U20180111,  SR03,     4,  1,      4,      4,2,20180111,1841,-44.3802, 146.1893, 2321,   2100.9,   2.1847,  34.7102,2,  34.7110,2,    174.6,2,    173.6,2,    92.60,2,    32.62,2,     0.01,2,     2.27,2,        0,2,    0.062,2,    0.025,2,        0,2,   2270.8,2,   2365.2,2,-999.0000,9,  -999.00,    19.37,2,   -999.0,9,   -999.0,  -999.00,9,   0.00044,2,    0.006,2,    0.048,2,    0.000,2,   99.851,2
  096U20180111,  SR03,     4,  1,      3,      3,2,20180111,1841,-44.3802, 146.1893, 2321,   2300.3,   2.0414,  34.7255,2,  34.7258,2,    177.2,2,    177.1,2,    97.60,2,    32.40,2,     0.01,2,     2.25,2,        0,2,    0.033,2,    0.010,2,        0,2,   2270.3,6,   2369.9,6,-999.0000,9,  -999.00,    18.97,2,   -999.0,9,   -999.0,  -999.00,9,   0.00042,2,    0.004,2,    0.048,2,    0.000,2,   99.890,2
  096U20180111,  SR03,     4,  1,      2,      2,2,20180111,1841,-44.3802, 146.1893, 2321,   2348.2,   2.0092,  34.7275,2,-999.0000,9,    177.7,2,   -999.0,9,  -999.00,9,  -999.00,9,  -999.00,9,  -999.00,9,     -999,9, -999.000,9, -999.000,9,     -999,9,   -999.0,9,   -999.0,9,-999.0000,9,  -999.00,  -999.00,9,   -999.0,9,   -999.0,  -999.00,9,   0.00043,2,    0.005,2,    0.048,2,    0.000,2,   99.864,2
  096U20180111,  SR03,     4,  1,      1,      1,2,20180111,1841,-44.3802, 146.1893, 2321,   2348.1,   2.0088,  34.7274,2,  34.7269,2,    177.7,2,    178.0,2,    98.60,2,    32.40,2,     0.01,2,     2.25,2,        0,2,    0.032,2,    0.010,2,        0,2,   2273.9,2,   2371.5,2,-999.0000,9,  -999.00,    18.88,2,   -999.0,9,   -999.0,  -999.00,9,   0.00046,2,    0.006,2,    0.048,2,    0.000,2,   99.856,2