BOTTLE,20230418CCHSIOENA
EXPOCODE,SECT_ID,STNNBR,CASTNO,SAMPNO,BTLNBR,BTLNBR_FLAG_W,DATE,TIME,LATITUDE,LONGITUDE,DEPTH,CTDPRS,CTDTMP,CTDSAL,CTDSAL_FLAG_W,SALNTY,SALNTY_FLAG_W,CTDOXY,CTDOXY_FLAG_W,OXYGEN,OXYGEN_FLAG_W,SILCAT,SILCAT_FLAG_W,NITRAT,NITRAT_FLAG_W,NITRIT,NITRIT_FLAG_W,PHSPHT,PHSPHT_FLAG_W,NH4,NH4_FLAG_W,CFC-11,CFC-11_FLAG_W,CFC-12,CFC-12_FLAG_W,SF6,SF6_FLAG_W,TCARBN,TCARBN_FLAG_W,ALKALI,ALKALI_FLAG_W,PH_TOT,PH_TOT_FLAG_W,PH_TMP,N2O,N2O_FLAG_W,DELC14,DELC14_FLAG_W,C14ERR,DELC13,DELC13_FLAG_W,CTDBETA700,CTDBETA700_FLAG_W,CTDBEAMCP,CTDBEAMCP_FLAG_W,CTDFLUOR,CTDFLUOR_FLAG_W,PAR,PAR_FLAG_W,CTDXMISS,CTDXMISS_FLAG_W
,,,,,,,,,,,METERS,DBAR,ITS-90,PSS-78,,PSS-78,,UMOL/KG,,UMOL/KG,,UMOL/KG,,UMOL/KG,,UMOL/KG,,UMOL/KG,,UMOL/KG,,PMOL/KG,,PMOL/KG,,FMOL/KG,,UMOL/KG,,UMOL/KG,,,,DEG C,NMOL/KG,,/MILLE,,/MILLE,/MILLE,,VOLTS,,1/M,,MG/M^3,,UMOL/M^2/SEC,,%TRANS,
  096U20180111,  SR03,    90,  1,     36,     36,2,20180211,0931,-63.0842, 132.1013, 4242,     15.9,   1.9673,  33.7871,2,-999.0000,9,    336.9,2,   -999.0,9,  -999.00,9,  -999.00,9,  -999.00,9,  -999.00,9,     -999,9, -999.000,9, -999.000,9,     -999,9,   -999.0,9,   -999.0,9,-999.0000,9,  -999.00,  -999.00,9,   -999.0,9,   -999.0,  -999.00,9,   0.00707,2,    0.550,2,    6.894,2,    0.215,2,   87.149,2
  096U20180111,  SR03,    90,  1,     35,     35,2,20180211,0931,-63.0842, 132.1013, 4242,     15.9,   1.9670,  33.7872,2,  33.7902,2,    336.9,2,    336.1,2,     9.10,2,    21.75,2,     0.29,2,     1.27,2,     0.07,2,    5.587,2,    2.920,2,     3.58,3,   2134.0,2,   2287.9,2,-999.0000,9,  -999.00,    14.97,2,   -999.0,9,   -999.0,  -999.00,9,   0.00660,2,    0.548,2,    6.948,2,    0.225,2,   87.193,2
  096U20180111,  SR03,    90,  1,     34,     34,2,20180211,0931,-63.0842, 132.1013, 4242,     36.4,   1.9194,  33.7941,2,  33.8026,2,    336.8,2,    336.3,2,    11.50,2,    22.33,2,     0.28,2,     1.36,2,     0.18,2, -999.000,9, -999.000,9,     -999,9,   -999.0,9,   -999.0,9,-999.0000,9,  -999.00,  -999.00,9,   -999.0,9,   -999.0,  -999.00,9,   0.00644,2,    0.534,2,    6.702,2,    0.000,2,   87.515,2
  096U20180111,  SR03,    90,  1,     33,     33,2,20180211,0931,-63.0842, 132.1013, 4242,     51.1,  -0.9452,  33.9166,2,  33.9203,2,    338.9,2,    339.0,2,    35.00,2,    28.39,2,     0.20,2,     2.09,2,     0.98,2, -999.000,9, -999.000,9,     -999,9,   -999.0,9,   -999.0,9,-999.0000,9,  -999.00,  -999.00,9,   -999.0,9,   -999.0,  -999.00,9,   0.00112,2,    0.065,2,    0.504,2,    0.000,2,   98.376,2
  096U20180111,  SR03,    90,  1,     32,     32,2,20180211,0931,-63.0842, 132.1013, 4242,     81.3,  -1.3395,  33.9990,2,-999.0000,9,    320.3,2,   -999.0,9,  -999.00,9,  -999.00,9,  -999.00,9,  -999.00,9,     -999,9, -999.000,9, -999.000,9,     -999,9,   -999.0,9,   -999.0,9,-999.0000,9,  -999.00,  -999.00,9,   -999.0,9,   -999.0,  -999.00,9,   0.00076,2,    0.028,2,    0.276,2,    0.000,2,   99.294,2
  096U20180111,  SR03,    90,  1,     31,     31,2,20180211,0931,-63.0842, 132.1013, 4242,     81.4,  -1.3315,  33.9991,2,  34.0024,2,    320.3,2,    323.1,2,    40.70,2,    29.87,2,     0.22,2,     2.12,2,     0.39,2,    5.679,2,    2.959,2,     3.38,3,   2192.1,2,   2294.8,2,-999.0000,9,  -999.00,    17.77,2,   -999.0,9,   -999.0,  -999.00,9,   0.00072,2,    0.028,2,    0.246,2,    0.000,2,   99.292,2
  096U20180111,  SR03,    90,  1,     30,     30,2,20180211,0931,-63.0842, 132.1013, 4242,    141.6,   1.0709,  34.3550,2,  34.3595,2,    211.7,2,    214.8,2,    63.90,2,    34.35,2,     0.02,2,     2.39,2,        0,2, -999.000,9, -999.000,9,     -999,9,   -999.0,9,   -999.0,9,-999.0000,9,  -999.00,  -999.00,9,   -999.0,9,   -999.0,  -999.00,9,   0.00052,2,    0.018,2,    0.090,2,    0.000,2,   99.554,2
  096U20180111,  SR03,    90,  1,     29,     29,2,20180211,0931,-63.0842, 132.1013, 4242,    191.0,   2.0276,  34.5289,2,  34.5353,2,    178.4,2,    176.7,2,    73.80,2,    34.91,2,     0.01,2,     2.42,2,        0,2,    1.145,2,    0.594,2,      0.6,3,   2255.2,2,   2329.1,2,-999.0000,9,  -999.00,    24.90,2,   -999.0,9,   -999.0,  -999.00,9,   0.00048,2,    0.016,2,    0.054,2,    0.000,2,   99.611,2
  096U20180111,  SR03,    90,  1,     28,     28,2,20180211,0931,-63.0842, 132.1013, 4242,    222.0,   2.0716,  34.5552,2,  34.5545,2,    177.0,2,    175.3,2,    75.00,2,    34.73,2,     0.01,2,     2.41,2,        0,2, -999.000,9, -999.000,9,     -999,9,   -999.0,9,   -999.0,9,-999.0000,9,  -999.00,  -999.00,9,   -999.0,9,   -999.0,  -999.00,9,   0.00046,2,    0.015,2,    0.048,2,    0.000,2,   99.622,2
  096U20180111,  SR03,    90,  1,     27,     27,2,20180211,0931,-63.0842, 132.1013, 4242,    321.1,   2.0545,  34.6273,2,  34.6282,2,    174.9,2,    175.0,2,    79.20,2,    33.75,2,     0.01,2,     2.34,2,        0,2,    0.699,2,    0.367,2,     0.39,3,   2255.7,2,   2337.8,2,-999.0000,9,  -999.00,    24.00,2,   -999.0,9,   -999.0,  -999.00,9,   0.00041,2,    0.007,2,    0.048,2,    0.000,2,   99.828,2
  096U20180111,  SR03,    90,  1,     26,     26,2,20180211,0931,-63.0842, 132.1013, 4242,    321.0,   2.0542,  34.6274,2,-999.0000,9,    174.8,2,   -999.0,9,  -999.00,9,  -999.00,9,  -999.00,9,  -999.00,9,     -999,9, -999.000,9, -999.000,9,     -999,9,   -999.0,9,   -999.0,9,-999.0000,9,  -999.00,  -999.00,9,   -999.0,9,   -999.0,  -999.00,9,   0.00037,2,    0.007,2,    0.042,2,    0.000,2,   99.835,2
  096U20180111,  SR03,    90,  1,     25,     25,2,20180211,0931,-63.0842, 132.1013, 4242,    411.3,   2.0251,  34.6666,2,  34.6671,2,    176.9,2,    177.3,2,    81.10,2,    33.06,2,     0.01,2,     2.29,2,        0,2,    0.541,2,    0.285,2,     0.28,3,   -999.0,9,   -999.0,9,-999.0000,9,  -999.00,    22.37,2,   -999.0,9,   -999.0,  -999.00,9,   0.00034,2,    0.004,2,    0.048,2,    0.000,2,   99.904,2
  096U20180111,  SR03,    90,  1,     24,     24,2,20180211,0931,-63.0842, 132.1013, 4242,    550.9,   1.9749,  34.7063,2,-999.0000,9,    181.8,2,   -999.0,9,  -999.00,9,  -999.00,9,  -999.00,9,  -999.00,9,     -999,9, -999.000,9, -999.000,9,     -999,9,   -999.0,9,   -999.0,9,-999.0000,9,  -999.00,  -999.00,9,   -999.0,9,   -999.0,  -999.00,9,   0.00034,2,    0.004,2,    0.042,2,    0.000,2,   99.910,2
  096U20180111,  SR03,    90,  1,     23,     23,2,20180211,0931,-63.0842, 132.1013, 4242,    550.7,   1.9744,  34.7065,2,  34.7075,2,    181.8,2,    182.6,2,    83.40,2,    32.12,2,     0.00,2,     2.23,2,        0,2, -999.000,9, -999.000,9,     -999,9,   2252.8,2,   2343.5,2,-999.0000,9,  -999.00,  -999.00,9,   -999.0,9,   -999.0,  -999.00,9,   0.00034,2,    0.003,2,    0.048,2,    0.000,2,   99.918,2
  096U20180111,  SR03,    90,  1,     22,     22,2,20180211,0931,-63.0842, 132.1013, 4242,    602.0,   1.9692,  34.7166,2,  34.7174,2,    184.0,2,    184.9,2,    83.80,2,    31.84,2,     0.01,2,     2.21,2,        0,2, -999.000,9, -999.000,9,     -999,9,   -999.0,9,   -999.0,9,-999.0000,9,  -999.00,  -999.00,9,   -999.0,9,   -999.0,  -999.00,9,   0.00034,2,    0.005,2,    0.048,2,    0.000,2,   99.877,2
  096U20180111,  SR03,    90,  1,     21,     21,2,20180211,0931,-63.0842, 132.1013, 4242,    751.0,   1.8656,  34.7298,2,  34.7312,2,    189.1,2,    189.2,2,    86.10,2,    31.40,2,     0.00,2,     2.18,2,        0,2,    0.299,2,    0.157,2,     0.03,3,   2250.0,2,   2347.4,2,-999.0000,9,  -999.00,    21.26,2,   -999.0,9,   -999.0,  -999.00,9,   0.00032,2,    0.003,2,    0.042,2,    0.000,2,   99.936,2
  096U20180111,  SR03,    90,  1,     20,     20,2,20180211,0931,-63.0842, 132.1013, 4242,    902.1,   1.7672,  34.7400,2,  34.7415,2,    193.1,2,    193.7,2,    88.80,2,    30.96,2,     0.00,2,     2.15,2,        0,2, -999.000,9, -999.000,9,     -999,9,   -999.0,9,   -999.0,9,-999.0000,9,  -999.00,  -999.00,9,   -999.0,9,   -999.0,  -999.00,9,   0.00030,2,    0.002,2,    0.048,2,    0.000,2,   99.953,2
  096U20180111,  SR03,    90,  1,     19,     19,2,20180211,0931,-63.0842, 132.1013, 4242,   1051.6,   1.6435,  34.7430,2,-999.0000,9,    196.5,2,   -999.0,9,  -999.00,9,  -999.00,9,  -999.00,9,  -999.00,9,     -999,9, -999.000,9, -999.000,9,     -999,9,   -999.0,9,   -999.0,9,-999.0000,9,  -999.00,  -999.00,9,   -999.0,9,   -999.0,  -999.00,9,   0.00029,2,    0.001,2,    0.042,2,    0.000,2,   99.983,2
  096U20180111,  SR03,    90,  1,     18,     18,2,20180211,0931,-63.0842, 132.1013, 4242,   1051.5,   1.6434,  34.7429,2,  34.7438,2,    196.5,2,    197.0,2,    92.20,2,    30.92,2,     0.00,2,     2.14,2,        0,2, -999.000,9, -999.000,9,     -999,9,   -999.0,9,   -999.0,9,-999.0000,9,  -999.00,  -999.00,9,   -999.0,9,   -999.0,  -999.00,9,   0.00030,2,    0.001,2,    0.036,2,    0.000,2,   99.976,2
  096U20180111,  SR03,    90,  1,     17,     17,2,20180211,0931,-63.0842, 132.1013, 4242,   1251.5,   1.4587,  34.7384,2,  34.7398,2,    199.4,2,    199.8,2,    97.00,2,    31.17,2,     0.00,2,     2.16,2,        0,2,    0.223,2,    0.115,2,     0.07,3,   2250.1,2,   2353.6,2,-999.0000,9,  -999.00,    19.34,2,   -999.0,9,   -999.0,  -999.00,9,   0.00028,2,   -0.001,2,    0.042,2,    0.000,2,  100.016,2
  096U20180111,  SR03,    90,  1,     16,     16,2,20180211,0931,-63.0842, 132.1013, 4242,   1451.1,   1.2820,  34.7319,2,  34.7328,2,    201.5,2,    201.6,2,   102.20,2,    31.42,2,     0.00,2,     2.18,2,        0,2, -999.000,9, -999.000,9,     -999,9,   -999.0,9,   -999.0,9,-999.0000,9,  -999.00,  -999.00,9,   -999.0,9,   -999.0,  -999.00,9,   0.00027,2,   -0.002,2,    0.042,2,    0.000,2,  100.042,2
  096U20180111,  SR03,    90,  1,     15,     15,2,20180211,0931,-63.0842, 132.1013, 4242,   1651.7,   1.1168,  34.7243,2,  34.7251,2,    203.9,2,    203.9,2,   107.30,2,    31.70,2,     0.00,2,     2.20,2,        0,2, -999.000,9, -999.000,9,     -999,9,   -999.0,9,   -999.0,9,-999.0000,9,  -999.00,  -999.00,9,   -999.0,9,   -999.0,  -999.00,9,   0.00027,2,   -0.002,2,    0.042,2,    0.000,2,  100.040,2
  096U20180111,  SR03,    90,  1,     14,     14,2,20180211,0931,-63.0842, 132.1013, 4242,   1851.7,   0.9612,  34.7168,2,  34.7177,2,    206.2,2,    206.2,2,   112.20,2,    31.93,2,     0.00,2,     2.22,2,        0,2,    0.244,2,    0.123,2,     0.02,3,   2257.3,6,   2358.2,6,-999.0000,9,  -999.00,    19.24,2,   -999.0,9,   -999.0,  -999.00,9,   0.00027,2,   -0.002,2,    0.042,2,    0.000,2,  100.043,2
  096U20180111,  SR03,    90,  1,     13,     13,2,20180211,0931,-63.0842, 132.1013, 4242,   2051.5,   0.8031,  34.7078,2,  34.7085,2,    208.0,2,    208.4,2,   116.00,2,    32.25,2,     0.00,2,     2.25,2,        0,2, -999.000,9, -999.000,9,     -999,9,   -999.0,9,   -999.0,9,-999.0000,9,  -999.00,  -999.00,9,   -999.0,9,   -999.0,  -999.00,9,   0.00027,2,   -0.002,2,    0.042,2,    0.000,2,  100.046,2
  096U20180111,  SR03,    90,  1,     12,     12,2,20180211,0931,-63.0842, 132.1013, 4242,   2301.7,   0.6364,  34.6991,2,  34.6998,2,    210.8,2,    210.7,2,   120.60,2,    32.49,2,     0.00,2,     2.26,2,        0,2, -999.000,9, -999.000,9,     -999,9,   -999.0,9,   -999.0,9,-999.0000,9,  -999.00,  -999.00,9,   -999.0,9,   -999.0,  -999.00,9,   0.00025,2,   -0.002,2,    0.042,2,    0.000,2,  100.051,2
  096U20180111,  SR03,    90,  1,     11,     11,2,20180211,0931,-63.0842, 132.1013, 4242,   2551.8,   0.4654,  34.6887,2,  34.6891,2,    214.8,2,    214.8,2,   122.50,2,    32.62,2,     0.00,2,     2.27,2,        0,2,    0.522,2,    0.259,2,     0.07,3,   2258.2,2,   2358.4,2,-999.0000,9,  -999.00,    18.89,2,   -999.0,9,   -999.0,  -999.00,9,   0.00025,2,   -0.002,2,    0.042,2,    0.000,2,  100.060,2
  096U20180111,  SR03,    90,  1,     10,     10,2,20180211,0931,-63.0842, 132.1013, 4242,   2800.9,   0.3491,  34.6848,2,  34.6851,2,    217.8,2,    217.8,2,   126.70,2,    32.71,2,     0.00,2,     2.28,2,        0,2, -999.000,9, -999.000,9,     -999,9,   -999.0,9,   -999.0,9,-999.0000,9,  -999.00,  -999.00,9,   -999.0,9,   -999.0,  -999.00,9,   0.00027,2,   -0.002,2,    0.042,2,    0.000,2,  100.052,2
  096U20180111,  SR03,    90,  1,      9,      9,2,20180211,0931,-63.0842, 132.1013, 4242,   3101.0,   0.2457,  34.6800,2,  34.6771,4,    221.1,2,    221.2,2,   129.50,2,    32.74,2,     0.00,2,     2.28,2,        0,2, -999.000,9, -999.000,9,     -999,9,   -999.0,9,   -999.0,9,-999.0000,9,  -999.00,  -999.00,9,   -999.0,9,   -999.0,  -999.00,9,   0.00024,2,   -0.002,2,    0.042,2,    0.000,2,  100.054,2
  096U20180111,  SR03,    90,  1,      8,      8,2,20180211,0931,-63.0842, 132.1013, 4242,   3403.0,   0.1438,  34.6744,2,  34.6739,2,    224.8,2,    224.8,2,   130.80,2,    32.71,2,     0.00,2,     2.28,2,        0,2,    0.932,2,    0.469,2,     0.32,3,   2258.5,2,   2358.2,6,-999.0000,9,  -999.00,    19.16,2,   -999.0,9,   -999.0,  -999.00,9,   0.00024,2,   -0.002,2,    0.042,2,    0.000,2,  100.046,2
  096U20180111,  SR03,    90,  1,      7,      7,2,20180211,0931,-63.0842, 132.1013, 4242,   3698.4,   0.0093,  34.6643,2,  34.6625,2,    230.0,2,    230.8,2,   125.70,2,    32.56,2,     0.00,2,     2.27,2,        0,2, -999.000,9, -999.000,9,     -999,9,   -999.0,9,   -999.0,9,-999.0000,9,  -999.00,  -999.00,9,   -999.0,9,   -999.0,  -999.00,9,   0.00025,2,   -0.001,2,    0.042,2,    0.000,2,  100.032,2
  096U20180111,  SR03,    90,  1,      6,      6,2,20180211,0931,-63.0842, 132.1013, 4242,   4000.6,  -0.1058,  34.6542,2,  34.6532,2,    236.3,2,    236.9,2,   119.30,2,    32.42,2,     0.00,2,     2.26,2,        0,2, -999.000,9, -999.000,9,     -999,9,   -999.0,9,   -999.0,9,-999.0000,9,  -999.00,  -999.00,9,   -999.0,9,   -999.0,  -999.00,9,   0.00027,2,    0.001,2,    0.042,2,    0.000,2,   99.969,2
  096U20180111,  SR03,    90,  1,      5,      5,2,20180211,0931,-63.0842, 132.1013, 4242,   4226.7,  -0.1845,  34.6489,2,  34.6480,2,    241.8,2,    242.5,2,   106.90,2,    32.21,2,     0.00,2,     2.24,2,        0,2, -999.000,9, -999.000,9,     -999,9,   -999.0,9,   -999.0,9,-999.0000,9,  -999.00,  -999.00,9,   -999.0,9,   -999.0,  -999.00,9,   0.00038,2,    0.007,2,    0.042,2,    0.000,2,   99.830,2
  096U20180111,  SR03,    90,  1,      4,      4,2,20180211,0931,-63.0842, 132.1013, 4242,   4277.0,  -0.1965,  34.6474,2,  34.6431,4,    242.6,2,    243.1,2,   107.10,2,    32.21,2,     0.00,2,     2.24,2,        0,2,    2.193,2,    1.173,2,     1.15,3,   2254.1,2,   2350.6,2,-999.0000,9,  -999.00,    18.70,2,   -999.0,9,   -999.0,  -999.00,9,   0.00041,2,    0.009,2,    0.042,2,    0.000,2,   99.783,2
  096U20180111,  SR03,    90,  1,      3,      3,2,20180211,0931,-63.0842, 132.1013, 4242,   4328.8,  -0.2235,  34.6461,2,-999.0000,9,    244.1,2,   -999.0,9,  -999.00,9,  -999.00,9,  -999.00,9,  -999.00,9,     -999,9, -999.000,9, -999.000,9,     -999,9,   -999.0,9,   -999.0,9,-999.0000,9,  -999.00,  -999.00,9,   -999.0,9,   -999.0,  -999.00,9,   0.00046,2,    0.012,2,    0.036,2,    0.000,2,   99.696,2
  096U20180111,  SR03,    90,  1,      2,      2,2,20180211,0931,-63.0842, 132.1013, 4242,   4328.9,  -0.2234,  34.6463,2,-999.0000,9,    244.1,2,   -999.0,9,  -999.00,9,  -999.00,9,  -999.00,9,  -999.00,9,     -999,9, -999.000,9, -999.000,9,     -999,9,   -999.0,9,   -999.0,9,-999.0000,9,  -999.00,  -999.00,9,   -999.0,9,   -999.0,  -999.00,9,   0.00047,2,    0.011,2,    0.042,2,    0.000,2,   99.725,2
  096U20180111,  SR03,    90,  1,      1,      1,2,20180211,0931,-63.0842, 132.1013, 4242,   4329.0,  -0.2172,  34.6462,2,  34.6455,2,    244.2,2,    244.6,2,   105.00,2,    32.11,2,     0.01,2,     2.23,2,        0,2,    2.298,2,    1.219,2,     1.14,3,   2253.6,2,   2350.1,2,-999.0000,9,  -999.00,    19.98,2,   -999.0,9,   -999.0,  -999.00,9,   0.00049,2,    0.011,2,    0.036,2,    0.000,2,   99.716,2