BOTTLE,20230418CCHSIOENA
EXPOCODE,SECT_ID,STNNBR,CASTNO,SAMPNO,BTLNBR,BTLNBR_FLAG_W,DATE,TIME,LATITUDE,LONGITUDE,DEPTH,CTDPRS,CTDTMP,CTDSAL,CTDSAL_FLAG_W,SALNTY,SALNTY_FLAG_W,CTDOXY,CTDOXY_FLAG_W,OXYGEN,OXYGEN_FLAG_W,SILCAT,SILCAT_FLAG_W,NITRAT,NITRAT_FLAG_W,NITRIT,NITRIT_FLAG_W,PHSPHT,PHSPHT_FLAG_W,NH4,NH4_FLAG_W,CFC-11,CFC-11_FLAG_W,CFC-12,CFC-12_FLAG_W,SF6,SF6_FLAG_W,TCARBN,TCARBN_FLAG_W,ALKALI,ALKALI_FLAG_W,PH_TOT,PH_TOT_FLAG_W,PH_TMP,N2O,N2O_FLAG_W,DELC14,DELC14_FLAG_W,C14ERR,DELC13,DELC13_FLAG_W,CTDBETA700,CTDBETA700_FLAG_W,CTDBEAMCP,CTDBEAMCP_FLAG_W,CTDFLUOR,CTDFLUOR_FLAG_W,PAR,PAR_FLAG_W,CTDXMISS,CTDXMISS_FLAG_W
,,,,,,,,,,,METERS,DBAR,ITS-90,PSS-78,,PSS-78,,UMOL/KG,,UMOL/KG,,UMOL/KG,,UMOL/KG,,UMOL/KG,,UMOL/KG,,UMOL/KG,,PMOL/KG,,PMOL/KG,,FMOL/KG,,UMOL/KG,,UMOL/KG,,,,DEG C,NMOL/KG,,/MILLE,,/MILLE,/MILLE,,VOLTS,,1/M,,MG/M^3,,UMOL/M^2/SEC,,%TRANS,
  096U20180111,  SR03,    31,  1,     36,     36,2,20180122,1937,-54.5278, 141.3293, 2769,     11.7,   4.7333,  33.8207,2,-999.0000,9,    314.9,2,   -999.0,9,  -999.00,9,  -999.00,9,  -999.00,9,  -999.00,9,     -999,9,    4.507,2,    2.448,2,     3.38,2,   -999.0,9,   -999.0,9,-999.0000,9,  -999.00,    12.25,2,   -999.0,9,   -999.0,  -999.00,9,   0.00197,2,    0.194,2,    1.206,2,   93.700,2,   95.267,2
  096U20180111,  SR03,    31,  1,     35,     35,2,20180122,1937,-54.5278, 141.3293, 2769,     11.7,   4.7333,  33.8207,2,  33.8204,2,    314.9,2,    315.2,2,     5.10,2,    24.45,2,     0.24,2,     1.52,2,     0.05,2, -999.000,9, -999.000,9,     -999,9,   2132.7,2,   2278.8,2,-999.0000,9,  -999.00,  -999.00,9,    -66.4,2,      2.0,     1.37,2,   0.00209,2,    0.194,2,    1.026,2,   93.000,2,   95.259,2
  096U20180111,  SR03,    31,  1,     34,     34,2,20180122,1937,-54.5278, 141.3293, 2769,     25.5,   4.7260,  33.8212,2,  33.8212,2,    315.1,2,    315.7,2,     5.20,2,    24.45,2,     0.24,2,     1.52,2,     0.05,2, -999.000,9, -999.000,9,     -999,9,   2132.8,2,   2279.0,2,-999.0000,9,  -999.00,  -999.00,9,   -999.0,9,   -999.0,  -999.00,9,   0.00207,2,    0.192,2,    1.674,2,   22.500,2,   95.317,2
  096U20180111,  SR03,    31,  1,     33,     33,2,20180122,1937,-54.5278, 141.3293, 2769,     51.4,   4.4227,  33.8247,2,  33.8261,2,    317.6,2,    318.1,2,     6.40,2,    24.71,2,     0.23,2,     1.54,2,     0.07,2,    4.592,2,    2.470,2,     3.36,2,   2133.7,2,   2278.9,2,-999.0000,9,  -999.00,    12.51,2,    -64.5,2,      2.1,     1.34,2,   0.00247,2,    0.235,2,    2.586,2,    3.440,2,   94.284,2
  096U20180111,  SR03,    31,  1,     32,     32,2,20180122,1937,-54.5278, 141.3293, 2769,     76.0,   3.3155,  33.8473,2,  33.8506,2,    320.9,2,    323.6,2,    11.40,2,    25.81,2,     0.20,2,     1.75,2,     0.28,2,    4.782,2,    2.498,2,     2.81,2,   2144.6,2,   2281.5,2,-999.0000,9,  -999.00,    13.24,2,   -999.0,9,   -999.0,  -999.00,9,   0.00260,2,    0.253,2,    4.176,2,    0.502,2,   93.865,2
  096U20180111,  SR03,    31,  1,     31,     31,2,20180122,1937,-54.5278, 141.3293, 2769,     75.9,   3.3143,  33.8471,2,-999.0000,9,    320.9,2,   -999.0,9,  -999.00,9,  -999.00,9,  -999.00,9,  -999.00,9,     -999,9, -999.000,9, -999.000,9,     -999,9,   -999.0,9,   -999.0,9,-999.0000,9,  -999.00,  -999.00,9,   -999.0,9,   -999.0,  -999.00,9,   0.00273,2,    0.257,2,    4.236,2,    0.497,2,   93.770,2
  096U20180111,  SR03,    31,  1,     30,     30,2,20180122,1937,-54.5278, 141.3293, 2769,    110.6,   1.2125,  33.9027,2,  33.9021,2,    329.1,2,    329.0,2,    18.60,2,    27.44,2,     0.26,2,     1.94,2,     0.47,2, -999.000,9, -999.000,9,     -999,9,   2160.9,2,   2284.3,2,-999.0000,9,  -999.00,  -999.00,9,    -72.1,2,      2.0,     1.35,2,   0.00097,2,    0.054,2,    0.684,2,    0.028,2,   98.659,2
  096U20180111,  SR03,    31,  1,     29,     29,2,20180122,1937,-54.5278, 141.3293, 2769,    110.5,   1.2117,  33.9027,2,  33.9033,2,    329.1,2,    329.3,2,    18.60,2,    27.46,2,     0.26,2,     1.93,2,     0.47,2,    5.156,2,    2.727,2,     3.74,2,   -999.0,9,   -999.0,9,-999.0000,9,  -999.00,    13.84,2,   -999.0,9,   -999.0,  -999.00,9,   0.00096,2,    0.050,2,    0.654,2,    0.032,2,   98.750,2
  096U20180111,  SR03,    31,  1,     28,     28,2,20180122,1937,-54.5278, 141.3293, 2769,    161.6,   0.9770,  33.9636,2,  33.9640,2,    311.0,2,    313.6,2,    23.90,2,    29.43,2,     0.03,2,     2.01,2,        0,2,    4.947,2,    2.628,2,     2.85,2,   2172.8,2,   2287.9,2,-999.0000,9,  -999.00,    15.00,2,    -75.5,2,      2.0,     1.21,2,   0.00069,2,    0.020,2,    0.108,2,    0.000,2,   99.500,2
  096U20180111,  SR03,    31,  1,     27,     27,2,20180122,1937,-54.5278, 141.3293, 2769,    201.2,   1.5782,  34.0880,2,  34.0876,2,    275.0,2,    272.5,2,    33.50,2,    31.37,2,     0.01,2,     2.15,2,        0,2,    4.066,6,    2.156,6,     2.24,6,   2194.6,6,   2294.8,6,-999.0000,9,  -999.00,    18.51,6,    -80.6,2,      2.2,     0.99,2,   0.00070,2,    0.016,2,    0.042,2,    0.000,2,   99.590,2
  096U20180111,  SR03,    31,  1,     26,     26,2,20180122,1937,-54.5278, 141.3293, 2769,    249.7,   1.9761,  34.2045,2,  34.2044,2,    240.3,2,    235.8,2,    43.80,2,    33.00,2,     0.01,2,     2.27,2,        0,2,    3.223,2,    1.720,2,     1.57,2,   2215.0,2,   2302.9,2,-999.0000,9,  -999.00,    21.89,2,    -91.4,2,      2.7,     0.79,2,   0.00074,2,    0.022,2,    0.036,2,    0.000,2,   99.464,2
  096U20180111,  SR03,    31,  1,     25,     25,2,20180122,1937,-54.5278, 141.3293, 2769,    349.7,   2.3984,  34.3614,2,  34.3621,2,    195.5,2,    193.8,2,    57.00,2,    34.68,2,     0.00,2,     2.38,2,        0,2,    2.032,2,    1.076,2,     1.03,2,   2238.0,2,   -999.0,9,-999.0000,9,  -999.00,    22.85,2,   -113.9,2,      1.9,     0.58,2,   0.00058,2,    0.013,2,    0.036,2,    0.000,2,   99.684,2
  096U20180111,  SR03,    31,  1,     24,     24,2,20180122,1937,-54.5278, 141.3293, 2769,    451.3,   2.4546,  34.4598,2,  34.4610,2,    177.5,2,    178.0,2,    65.00,2,    34.98,2,     0.00,2,     2.40,2,        0,2, -999.000,9, -999.000,9,     -999,9,   -999.0,9,   -999.0,9,-999.0000,9,  -999.00,  -999.00,9,   -999.0,9,   -999.0,  -999.00,9,   0.00048,2,    0.007,2,    0.036,2,    0.000,2,   99.826,2
  096U20180111,  SR03,    31,  1,     23,     23,2,20180122,1937,-54.5278, 141.3293, 2769,    551.4,   2.4608,  34.5230,2,  34.5229,2,    171.5,2,    172.6,2,    69.10,2,    34.71,2,     0.00,2,     2.39,2,        0,2,    0.984,2,    0.504,2,     0.04,2,   2251.5,2,   -999.0,9,-999.0000,9,  -999.00,    23.93,2,   -136.5,2,      2.1,     0.39,2,   0.00044,2,    0.006,2,    0.036,2,    0.000,2,   99.857,2
  096U20180111,  SR03,    31,  1,     22,     22,2,20180122,1937,-54.5278, 141.3293, 2769,    650.8,   2.4175,  34.5781,2,  34.5779,2,    170.3,2,    171.4,2,    72.70,2,    34.19,2,     0.00,2,     2.35,2,        0,2,    0.729,2,    0.384,2,     0.23,2,   2250.3,2,   2336.8,2,-999.0000,9,  -999.00,    22.74,2,   -148.4,2,      2.5,     0.39,2,   0.00038,2,    0.004,2,    0.042,2,    0.000,2,   99.894,2
  096U20180111,  SR03,    31,  1,     21,     21,2,20180122,1937,-54.5278, 141.3293, 2769,    751.3,   2.3739,  34.6285,2,  34.6281,2,    172.2,2,    173.1,2,    74.90,2,    33.50,2,     0.00,2,     2.30,2,        0,2,    0.516,2,    0.268,2,     0.37,2,   2253.3,2,   2339.4,2,-999.0000,9,  -999.00,    22.03,2,   -138.5,2,      2.1,     0.41,2,   0.00040,2,    0.003,2,    0.036,2,    0.000,2,   99.922,2
  096U20180111,  SR03,    31,  1,     20,     20,2,20180122,1937,-54.5278, 141.3293, 2769,    850.3,   2.3395,  34.6578,2,  34.6577,2,    175.4,2,    175.8,2,    75.90,2,    32.81,2,     0.00,2,     2.26,2,        0,2, -999.000,9, -999.000,9,     -999,9,   -999.0,9,   -999.0,9,-999.0000,9,  -999.00,  -999.00,9,   -999.0,9,   -999.0,  -999.00,9,   0.00038,2,    0.003,2,    0.042,2,    0.000,2,   99.926,2
  096U20180111,  SR03,    31,  1,     19,     19,2,20180122,1937,-54.5278, 141.3293, 2769,    850.2,   2.3395,  34.6577,2,  34.6585,2,    175.4,2,    175.8,2,    76.00,2,    32.82,2,     0.00,2,     2.27,2,        0,2,    0.417,2,    0.213,2,     0.08,2,   2252.0,2,   2341.2,2,-999.0000,9,  -999.00,    21.23,2,   -140.2,2,      2.4,     0.38,2,   0.00036,2,    0.003,2,    0.042,2,    0.000,2,   99.922,2
  096U20180111,  SR03,    31,  1,     18,     18,2,20180122,1937,-54.5278, 141.3293, 2769,    952.8,   2.2781,  34.6859,2,  34.6856,2,    178.9,2,    179.3,2,    77.30,2,    32.18,2,     0.00,2,     2.22,2,        0,2,    0.340,2,    0.169,2,      0.3,2,   2252.3,2,   2344.2,2,-999.0000,9,  -999.00,    21.18,2,   -145.6,2,      2.1,     0.41,2,   0.00036,2,    0.003,2,    0.042,2,    0.000,2,   99.936,2
  096U20180111,  SR03,    31,  1,     17,     17,2,20180122,1937,-54.5278, 141.3293, 2769,   1102.2,   2.1629,  34.7175,2,  34.7176,2,    184.6,2,    185.7,2,    79.90,2,    31.37,2,     0.00,2,     2.16,2,        0,2, -999.000,5, -999.000,5,     -999,5,   -999.0,9,   -999.0,9,-999.0000,9,  -999.00,  -999.00,5,   -999.0,9,   -999.0,  -999.00,9,   0.00037,2,    0.001,2,    0.036,2,    0.000,2,   99.967,2
  096U20180111,  SR03,    31,  1,     16,     16,2,20180122,1937,-54.5278, 141.3293, 2769,   1251.7,   2.0735,  34.7329,2,  34.7323,2,    189.5,2,    189.1,2,    81.80,2,    30.92,2,     0.00,2,     2.14,2,        0,2,    0.224,2,    0.119,2,     0.02,2,   2247.4,6,   2348.6,6,-999.0000,9,  -999.00,    19.77,2,   -148.8,2,      2.0,     0.45,2,   0.00033,2,    0.001,2,    0.036,2,    0.000,2,   99.970,2
  096U20180111,  SR03,    31,  1,     15,     15,2,20180122,1937,-54.5278, 141.3293, 2769,   1402.3,   1.9628,  34.7423,2,  34.7424,2,    193.0,2,    192.6,2,    84.60,2,    30.67,2,     0.00,2,     2.11,2,        0,2,    0.197,2,    0.107,2,     0.06,2,   2247.4,2,   2350.2,6,-999.0000,9,  -999.00,    18.95,2,   -154.2,2,      2.0,     0.46,2,   0.00034,2,    0.001,2,    0.042,2,    0.000,2,   99.987,2
  096U20180111,  SR03,    31,  1,     14,     14,2,20180122,1937,-54.5278, 141.3293, 2769,   1402.2,   1.9609,  34.7423,2,-999.0000,9,    193.0,2,   -999.0,9,  -999.00,9,  -999.00,9,  -999.00,9,  -999.00,9,     -999,9, -999.000,9, -999.000,9,     -999,9,   -999.0,9,   -999.0,9,-999.0000,9,  -999.00,  -999.00,9,   -999.0,9,   -999.0,  -999.00,9,   0.00035,2,    0.001,2,    0.042,2,    0.000,2,   99.981,2
  096U20180111,  SR03,    31,  1,     13,     13,2,20180122,1937,-54.5278, 141.3293, 2769,   1602.0,   1.7919,  34.7456,2,  34.7459,2,    195.9,2,    196.1,2,    89.40,2,    30.66,2,     0.00,2,     2.11,2,        0,2,    0.185,2,    0.093,2,    -0.07,2,   2249.5,2,   2354.6,2,-999.0000,9,  -999.00,    19.08,2,   -151.2,2,      1.8,     0.45,2,   0.00031,2,    0.000,2,    0.042,2,    0.000,2,  100.002,2
  096U20180111,  SR03,    31,  1,     12,     12,2,20180122,1937,-54.5278, 141.3293, 2769,   1602.1,   1.7903,  34.7457,2,-999.0000,9,    195.9,2,   -999.0,9,  -999.00,9,  -999.00,9,  -999.00,9,  -999.00,9,     -999,9, -999.000,9, -999.000,9,     -999,9,   -999.0,9,   -999.0,9,-999.0000,9,  -999.00,  -999.00,9,   -999.0,9,   -999.0,  -999.00,9,   0.00032,2,    0.000,2,    0.036,2,    0.000,2,  100.001,2
  096U20180111,  SR03,    31,  1,     11,     11,2,20180122,1937,-54.5278, 141.3293, 2769,   1800.6,   1.6159,  34.7432,2,  34.7432,2,    198.4,2,    198.1,2,    94.60,2,    30.79,2,     0.00,2,     2.13,2,        0,2,    0.175,2,    0.090,2,     0.03,2,   2249.9,2,   2357.0,2,-999.0000,9,  -999.00,    18.53,2,   -153.3,2,      2.0,     0.48,2,   0.00030,2,    0.000,2,    0.042,2,    0.000,2,  100.007,2
  096U20180111,  SR03,    31,  1,     10,     10,2,20180122,1937,-54.5278, 141.3293, 2769,   1800.5,   1.6150,  34.7431,2,-999.0000,9,    198.4,2,   -999.0,9,  -999.00,9,  -999.00,9,  -999.00,9,  -999.00,9,     -999,9, -999.000,9, -999.000,9,     -999,9,   -999.0,9,   -999.0,9,-999.0000,9,  -999.00,  -999.00,9,   -999.0,9,   -999.0,  -999.00,9,   0.00030,2,   -0.001,2,    0.042,2,    0.000,2,  100.014,2
  096U20180111,  SR03,    31,  1,      9,      9,2,20180122,1937,-54.5278, 141.3293, 2769,   2000.7,   1.4197,  34.7366,2,  34.7369,2,    200.6,2,    200.5,2,   100.40,2,    31.02,2,     0.00,2,     2.15,2,        0,2,    0.182,2,    0.093,2,     0.11,3,   2252.9,2,   2360.1,2,-999.0000,9,  -999.00,    18.33,2,   -157.4,2,      1.9,     0.51,2,   0.00030,2,   -0.001,2,    0.048,2,    0.000,2,  100.017,2
  096U20180111,  SR03,    31,  1,      8,      8,2,20180122,1937,-54.5278, 141.3293, 2769,   2000.6,   1.4194,  34.7368,2,-999.0000,9,    200.6,2,   -999.0,9,  -999.00,9,  -999.00,9,  -999.00,9,  -999.00,9,     -999,9, -999.000,9, -999.000,9,     -999,9,   -999.0,9,   -999.0,9,-999.0000,9,  -999.00,  -999.00,9,   -999.0,9,   -999.0,  -999.00,9,   0.00032,2,   -0.001,2,    0.042,2,    0.000,2,  100.022,2
  096U20180111,  SR03,    31,  1,      7,      7,2,20180122,1937,-54.5278, 141.3293, 2769,   2200.3,   1.2427,  34.7288,2,  34.7298,2,    202.6,2,    202.7,2,   105.90,2,    31.31,2,     0.00,2,     2.17,2,        0,2,    0.190,2,    0.096,2,     0.01,2,   2256.2,6,   2360.4,6,-999.0000,9,  -999.00,    18.10,2,   -160.4,2,      2.6,     0.41,2,   0.00030,2,   -0.001,2,    0.042,2,    0.000,2,  100.016,2
  096U20180111,  SR03,    31,  1,      6,      6,2,20180122,1937,-54.5278, 141.3293, 2769,   2400.6,   1.0754,  34.7205,2,  34.7208,2,    205.0,2,    204.8,2,   111.30,2,    31.61,2,     0.00,2,     2.20,2,        0,2,    0.226,2,    0.113,2,    -0.07,2,   2257.7,2,   2361.8,2,-999.0000,9,  -999.00,    18.59,2,   -159.9,2,      1.8,     0.44,2,   0.00029,2,   -0.001,2,    0.042,2,    0.000,2,  100.018,2
  096U20180111,  SR03,    31,  1,      5,      5,2,20180122,1937,-54.5278, 141.3293, 2769,   2599.8,   0.9086,  34.7120,2,  34.7148,4,    207.3,2,    207.7,2,   116.60,2,    31.87,2,     0.00,2,     2.22,2,        0,2,    0.280,2,    0.139,2,     0.06,2,   2258.6,2,   2359.4,2,-999.0000,9,  -999.00,    18.30,2,   -162.6,2,      1.9,     0.44,2,   0.00029,2,   -0.001,2,    0.042,2,    0.000,2,  100.018,2
  096U20180111,  SR03,    31,  1,      4,      4,2,20180122,1937,-54.5278, 141.3293, 2769,   2790.4,   0.7487,  34.7040,2,  34.7043,2,    210.2,2,    209.9,2,   123.10,2,    32.17,2,     0.00,2,     2.23,2,        0,2,    0.365,2,    0.191,2,     0.09,2,   2258.5,2,   2363.9,2,-999.0000,9,  -999.00,    17.74,2,   -162.4,6,      3.1,     0.36,6,   0.00031,2,    0.001,2,    0.042,2,    0.000,2,   99.978,2
  096U20180111,  SR03,    31,  1,      3,      3,2,20180122,1937,-54.5278, 141.3293, 2769,   2790.4,   0.7484,  34.7040,2,-999.0000,9,    210.2,2,   -999.0,9,  -999.00,9,  -999.00,9,  -999.00,9,  -999.00,9,     -999,9, -999.000,9, -999.000,9,     -999,9,   -999.0,9,   -999.0,9,-999.0000,9,  -999.00,  -999.00,9,   -999.0,9,   -999.0,  -999.00,9,   0.00031,2,    0.001,2,    0.042,2,    0.000,2,   99.978,2
  096U20180111,  SR03,    31,  1,      2,      2,2,20180122,1937,-54.5278, 141.3293, 2769,   2855.8,   0.7339,  34.7031,2,  34.7039,2,    210.6,2,    210.2,2,   123.80,2,    32.21,2,     0.00,2,     2.24,2,        0,2,    0.377,2,    0.187,2,    -0.02,2,   2260.2,2,   2362.4,2,-999.0000,9,  -999.00,    18.63,2,   -163.7,2,      1.8,     0.40,2,   0.00031,2,    0.002,2,    0.036,2,    0.000,2,   99.959,2
  096U20180111,  SR03,    31,  1,      1,      1,2,20180122,1937,-54.5278, 141.3293, 2769,   2856.0,   0.7342,  34.7030,2,-999.0000,9,    210.6,2,   -999.0,9,  -999.00,9,  -999.00,9,  -999.00,9,  -999.00,9,     -999,9, -999.000,9, -999.000,9,     -999,9,   -999.0,9,   -999.0,9,-999.0000,9,  -999.00,  -999.00,9,   -999.0,9,   -999.0,  -999.00,9,   0.00031,2,    0.001,2,    0.042,2,    0.000,2,   99.965,2