BOTTLE,20230418CCHSIOENA
EXPOCODE,SECT_ID,STNNBR,CASTNO,SAMPNO,BTLNBR,BTLNBR_FLAG_W,DATE,TIME,LATITUDE,LONGITUDE,DEPTH,CTDPRS,CTDTMP,CTDSAL,CTDSAL_FLAG_W,SALNTY,SALNTY_FLAG_W,CTDOXY,CTDOXY_FLAG_W,OXYGEN,OXYGEN_FLAG_W,SILCAT,SILCAT_FLAG_W,NITRAT,NITRAT_FLAG_W,NITRIT,NITRIT_FLAG_W,PHSPHT,PHSPHT_FLAG_W,NH4,NH4_FLAG_W,CFC-11,CFC-11_FLAG_W,CFC-12,CFC-12_FLAG_W,SF6,SF6_FLAG_W,TCARBN,TCARBN_FLAG_W,ALKALI,ALKALI_FLAG_W,PH_TOT,PH_TOT_FLAG_W,PH_TMP,N2O,N2O_FLAG_W,DELC14,DELC14_FLAG_W,C14ERR,DELC13,DELC13_FLAG_W,CTDBETA700,CTDBETA700_FLAG_W,CTDBEAMCP,CTDBEAMCP_FLAG_W,CTDFLUOR,CTDFLUOR_FLAG_W,PAR,PAR_FLAG_W,CTDXMISS,CTDXMISS_FLAG_W
,,,,,,,,,,,METERS,DBAR,ITS-90,PSS-78,,PSS-78,,UMOL/KG,,UMOL/KG,,UMOL/KG,,UMOL/KG,,UMOL/KG,,UMOL/KG,,UMOL/KG,,PMOL/KG,,PMOL/KG,,FMOL/KG,,UMOL/KG,,UMOL/KG,,,,DEG C,NMOL/KG,,/MILLE,,/MILLE,/MILLE,,VOLTS,,1/M,,MG/M^3,,UMOL/M^2/SEC,,%TRANS,
  096U20180111,  SR03,    56,  1,     36,     36,2,20180131,1005,-65.3992, 139.8528, 2390,     11.4,  -0.3181,  33.8483,2,  33.8488,2,    349.2,2,    349.6,2,    45.90,2,  -999.00,2,  -999.00,9,     1.75,2,     0.68,2,    5.674,2,    3.121,2,     3.58,2,   2167.4,2,   2290.7,2,-999.0000,9,  -999.00,    15.69,2,   -999.0,9,   -999.0,  -999.00,9,   0.00161,2,    0.182,2,    1.092,2,    1.180,2,   95.542,2
  096U20180111,  SR03,    56,  1,     35,     35,2,20180131,1005,-65.3992, 139.8528, 2390,     11.4,  -0.3190,  33.8484,2,-999.0000,9,    349.2,2,   -999.0,9,  -999.00,9,  -999.00,9,  -999.00,9,  -999.00,9,     -999,9, -999.000,9, -999.000,9,     -999,9,   -999.0,9,   -999.0,9,-999.0000,9,  -999.00,  -999.00,9,   -999.0,9,   -999.0,  -999.00,9,   0.00176,2,    0.182,2,    1.002,2,    1.220,2,   95.561,2
  096U20180111,  SR03,    56,  1,     34,     34,2,20180131,1005,-65.3992, 139.8528, 2390,     31.3,  -0.3160,  33.8483,2,  33.8495,2,    350.0,2,    349.8,2,    46.00,2,  -999.00,2,  -999.00,9,     1.76,2,     0.68,2,    5.680,2,    3.127,2,     3.73,2,   2168.3,2,   2293.1,2,-999.0000,9,  -999.00,    15.62,2,   -999.0,9,   -999.0,  -999.00,9,   0.00157,2,    0.176,2,    0.990,2,    0.071,2,   95.707,2
  096U20180111,  SR03,    56,  1,     33,     33,2,20180131,1005,-65.3992, 139.8528, 2390,     51.1,  -0.4210,  33.8624,2,-999.0000,9,    349.2,2,   -999.0,9,  -999.00,9,  -999.00,9,  -999.00,9,  -999.00,9,     -999,9, -999.000,9, -999.000,9,     -999,9,   -999.0,9,   -999.0,9,-999.0000,9,  -999.00,  -999.00,9,   -999.0,9,   -999.0,  -999.00,9,   0.00154,2,    0.182,2,    1.056,2,    0.013,2,   95.549,2
  096U20180111,  SR03,    56,  1,     32,     32,2,20180131,1005,-65.3992, 139.8528, 2390,     51.1,  -0.4249,  33.8626,2,  33.8641,2,    349.2,2,    349.5,2,    46.30,2,  -999.00,2,  -999.00,9,     1.76,2,     0.69,2,    5.633,6,    3.085,6,     3.78,6,   2170.0,6,   2293.9,6,-999.0000,9,  -999.00,    15.53,6,   -999.0,9,   -999.0,  -999.00,9,   0.00161,2,    0.177,2,    1.110,2,    0.013,2,   95.669,2
  096U20180111,  SR03,    56,  1,     31,     31,2,20180131,1005,-65.3992, 139.8528, 2390,     81.6,  -1.5377,  34.1083,2,  34.1189,2,    340.4,2,    341.2,2,    56.00,2,  -999.00,3,  -999.00,9,     1.96,2,     1.61,2, -999.000,9, -999.000,9,     -999,9,   2191.5,2,   2313.5,2,-999.0000,9,  -999.00,  -999.00,9,   -999.0,9,   -999.0,  -999.00,9,   0.00065,2,    0.049,2,    0.372,2,    0.000,2,   98.781,2
  096U20180111,  SR03,    56,  1,     30,     30,2,20180131,1005,-65.3992, 139.8528, 2390,    119.9,  -1.7907,  34.2554,2,-999.0000,9,    317.3,2,   -999.0,9,  -999.00,9,  -999.00,9,  -999.00,9,  -999.00,9,     -999,9, -999.000,9, -999.000,9,     -999,9,   -999.0,9,   -999.0,9,-999.0000,9,  -999.00,  -999.00,9,   -999.0,9,   -999.0,  -999.00,9,   0.00042,2,    0.013,2,    0.132,2,    0.000,2,   99.675,2
  096U20180111,  SR03,    56,  1,     29,     29,2,20180131,1005,-65.3992, 139.8528, 2390,    119.9,  -1.7910,  34.2554,2,  34.2597,2,    317.3,2,    320.0,2,    58.60,2,  -999.00,2,  -999.00,9,     2.10,2,     0.25,2,    4.952,2,    2.752,2,     3.13,2,   2212.6,2,   2319.1,2,-999.0000,9,  -999.00,    16.83,2,   -999.0,9,   -999.0,  -999.00,9,   0.00047,2,    0.013,2,    0.132,2,    0.000,2,   99.685,2
  096U20180111,  SR03,    56,  1,     28,     28,2,20180131,1005,-65.3992, 139.8528, 2390,    171.1,  -1.6603,  34.3657,2,-999.0000,9,    306.1,2,   -999.0,9,  -999.00,9,  -999.00,9,  -999.00,9,  -999.00,9,     -999,9, -999.000,9, -999.000,9,     -999,9,   -999.0,9,   -999.0,9,-999.0000,9,  -999.00,  -999.00,9,   -999.0,9,   -999.0,  -999.00,9,   0.00045,2,    0.009,2,    0.096,2,    0.000,2,   99.788,2
  096U20180111,  SR03,    56,  1,     27,     27,2,20180131,1005,-65.3992, 139.8528, 2390,    171.0,  -1.6445,  34.3706,2,  34.3720,2,    306.1,2,    305.4,2,    64.80,2,  -999.00,2,  -999.00,9,     2.14,2,     0.12,2,    4.505,2,    2.531,2,     2.73,2,   2223.5,2,   2325.7,2,-999.0000,9,  -999.00,    17.42,2,   -999.0,9,   -999.0,  -999.00,9,   0.00047,2,    0.009,2,    0.096,2,    0.000,2,   99.778,2
  096U20180111,  SR03,    56,  1,     26,     26,2,20180131,1005,-65.3992, 139.8528, 2390,    220.9,  -1.2712,  34.4402,2,-999.0000,9,    292.9,2,   -999.0,9,  -999.00,9,  -999.00,9,  -999.00,9,  -999.00,9,     -999,9, -999.000,9, -999.000,9,     -999,9,   -999.0,9,   -999.0,9,-999.0000,9,  -999.00,  -999.00,9,   -999.0,9,   -999.0,  -999.00,9,   0.00041,2,    0.005,2,    0.048,2,    0.000,2,   99.871,2
  096U20180111,  SR03,    56,  1,     25,     25,2,20180131,1005,-65.3992, 139.8528, 2390,    220.8,  -1.2263,  34.4436,2,  34.4437,2,    292.9,2,    286.3,2,    70.70,2,  -999.00,2,  -999.00,9,     2.16,2,        0,2,    3.896,2,    2.170,2,     2.39,2,   2231.2,2,   2331.2,2,-999.0000,9,  -999.00,    17.89,2,   -999.0,9,   -999.0,  -999.00,9,   0.00043,2,    0.006,2,    0.054,2,    0.000,2,   99.859,2
  096U20180111,  SR03,    56,  1,     24,     24,2,20180131,1005,-65.3992, 139.8528, 2390,    321.3,  -0.1608,  34.5763,2,  34.5775,2,    244.9,2,    243.6,2,    83.90,2,  -999.00,2,  -999.00,9,     2.18,2,        0,2,    2.370,2,    1.302,2,     1.45,2,   2245.0,2,   2341.9,6,-999.0000,9,  -999.00,    19.10,2,   -999.0,9,   -999.0,  -999.00,9,   0.00038,2,    0.003,2,    0.042,2,    0.000,2,   99.926,2
  096U20180111,  SR03,    56,  1,     23,     23,2,20180131,1005,-65.3992, 139.8528, 2390,    410.9,   0.3901,  34.6433,2,  34.6435,2,    224.1,2,    224.6,2,    91.90,2,  -999.00,2,  -999.00,9,     2.19,2,        0,2,    1.525,2,    0.840,2,     0.81,2,   -999.0,9,   -999.0,9,-999.0000,9,  -999.00,    19.02,2,   -999.0,9,   -999.0,  -999.00,9,   0.00036,2,    0.001,2,    0.042,2,    0.000,2,   99.973,2
  096U20180111,  SR03,    56,  1,     22,     22,2,20180131,1005,-65.3992, 139.8528, 2390,    491.3,   0.5279,  34.6667,2,  34.6666,2,    219.2,2,    218.2,2,    97.80,2,  -999.00,2,  -999.00,9,     2.20,2,        0,2,    1.162,2,    0.641,2,     0.66,2,   2252.6,2,   2352.4,2,-999.0000,9,  -999.00,    18.90,2,   -999.0,9,   -999.0,  -999.00,9,   0.00034,2,    0.000,2,    0.036,2,    0.000,2,   99.992,2
  096U20180111,  SR03,    56,  1,     21,     21,2,20180131,1005,-65.3992, 139.8528, 2390,    585.9,   0.6027,  34.6822,2,-999.0000,9,    212.6,2,   -999.0,9,  -999.00,9,  -999.00,9,  -999.00,9,  -999.00,9,     -999,9, -999.000,9, -999.000,9,     -999,9,   -999.0,9,   -999.0,9,-999.0000,9,  -999.00,  -999.00,9,   -999.0,9,   -999.0,  -999.00,9,   0.00035,2,   -0.001,2,    0.036,2,    0.000,2,  100.023,2
  096U20180111,  SR03,    56,  1,     20,     20,2,20180131,1005,-65.3992, 139.8528, 2390,    585.8,   0.5996,  34.6820,2,  34.6822,2,    212.6,2,    214.0,2,   103.80,2,  -999.00,2,  -999.00,9,     2.21,2,    -0.01,2,    0.882,2,    0.486,2,     0.45,2,   2255.1,2,   2354.8,2,-999.0000,9,  -999.00,    18.80,2,   -999.0,9,   -999.0,  -999.00,9,   0.00032,2,   -0.001,2,    0.036,2,    0.000,2,  100.034,2
  096U20180111,  SR03,    56,  1,     19,     19,2,20180131,1005,-65.3992, 139.8528, 2390,    670.5,   0.5217,  34.6824,2,  34.6827,2,    214.7,2,    213.9,2,   107.20,2,  -999.00,2,  -999.00,9,     2.22,2,        0,2,    0.825,2,    0.455,2,     0.37,2,   -999.0,9,   -999.0,9,-999.0000,9,  -999.00,    18.90,2,   -999.0,9,   -999.0,  -999.00,9,   0.00032,2,   -0.002,2,    0.036,2,    0.000,2,  100.042,2
  096U20180111,  SR03,    56,  1,     18,     18,2,20180131,1005,-65.3992, 139.8528, 2390,    751.0,   0.4962,  34.6849,2,  34.6858,2,    212.9,2,    212.6,2,   110.50,2,  -999.00,2,  -999.00,9,     2.23,2,        0,2,    0.736,2,    0.404,2,     0.41,2,   2257.7,2,   2358.6,2,-999.0000,9,  -999.00,    18.65,2,   -999.0,9,   -999.0,  -999.00,9,   0.00032,2,   -0.002,2,    0.030,2,    0.000,2,  100.058,2
  096U20180111,  SR03,    56,  1,     17,     17,2,20180131,1005,-65.3992, 139.8528, 2390,    850.1,   0.4054,  34.6816,2,  34.6832,2,    215.1,2,    214.8,2,   112.00,2,  -999.00,2,  -999.00,9,     2.24,2,    -0.01,2,    0.792,2,    0.432,2,     0.37,2,   -999.0,9,   -999.0,9,-999.0000,9,  -999.00,    18.80,2,   -999.0,9,   -999.0,  -999.00,9,   0.00035,2,   -0.002,2,    0.036,2,    0.000,2,  100.042,2
  096U20180111,  SR03,    56,  1,     16,     16,2,20180131,1005,-65.3992, 139.8528, 2390,   1001.4,   0.3069,  34.6787,2,-999.0000,9,    216.9,2,   -999.0,9,  -999.00,9,  -999.00,9,  -999.00,9,  -999.00,9,     -999,9, -999.000,9, -999.000,9,     -999,9,   -999.0,9,   -999.0,9,-999.0000,9,  -999.00,  -999.00,9,   -999.0,9,   -999.0,  -999.00,9,   0.00031,2,   -0.002,2,    0.036,2,    0.000,2,  100.042,2
  096U20180111,  SR03,    56,  1,     15,     15,2,20180131,1005,-65.3992, 139.8528, 2390,   1001.4,   0.3061,  34.6786,2,  34.6794,2,    216.9,2,    216.3,2,   113.40,2,  -999.00,2,  -999.00,9,     2.25,2,    -0.01,2,    0.877,2,    0.482,2,     0.47,2,   2259.8,2,   2356.8,2,-999.0000,9,  -999.00,    18.53,2,   -999.0,9,   -999.0,  -999.00,9,   0.00032,2,   -0.002,2,    0.036,2,    0.000,2,  100.040,2
  096U20180111,  SR03,    56,  1,     14,     14,2,20180131,1005,-65.3992, 139.8528, 2390,   1261.1,   0.1035,  34.6716,2,  34.6715,2,    223.0,2,    222.9,2,   112.50,2,  -999.00,2,  -999.00,9,     2.24,2,    -0.01,2,    1.186,2,    0.644,2,     0.69,2,   2257.7,2,   2355.8,2,-999.0000,9,  -999.00,    18.79,2,   -999.0,9,   -999.0,  -999.00,9,   0.00032,2,   -0.002,2,    0.030,2,    0.000,2,  100.053,2
  096U20180111,  SR03,    56,  1,     13,     13,2,20180131,1005,-65.3992, 139.8528, 2390,   1550.7,  -0.0612,  34.6654,2,-999.0000,9,    229.2,2,   -999.0,9,  -999.00,9,  -999.00,9,  -999.00,9,  -999.00,9,     -999,9, -999.000,9, -999.000,9,     -999,9,   -999.0,9,   -999.0,9,-999.0000,9,  -999.00,  -999.00,9,   -999.0,9,   -999.0,  -999.00,9,   0.00032,2,   -0.001,2,    0.036,2,    0.000,2,  100.036,2
  096U20180111,  SR03,    56,  1,     12,     12,2,20180131,1005,-65.3992, 139.8528, 2390,   1550.6,  -0.0605,  34.6654,2,  34.6651,2,    229.2,2,    229.5,2,   110.40,2,  -999.00,2,  -999.00,9,     2.23,2,        0,2,    1.495,2,    0.814,2,     0.74,2,   -999.0,9,   -999.0,9,-999.0000,9,  -999.00,    18.81,2,   -999.0,9,   -999.0,  -999.00,9,   0.00032,2,   -0.001,2,    0.036,2,    0.000,2,  100.019,2
  096U20180111,  SR03,    56,  1,     11,     11,2,20180131,1005,-65.3992, 139.8528, 2390,   1700.9,  -0.2508,  34.6492,2,-999.0000,9,    238.2,2,   -999.0,9,  -999.00,9,  -999.00,9,  -999.00,9,  -999.00,9,     -999,9, -999.000,9, -999.000,9,     -999,9,   -999.0,9,   -999.0,9,-999.0000,9,  -999.00,  -999.00,9,   -999.0,9,   -999.0,  -999.00,9,   0.00039,2,    0.003,2,    0.042,2,    0.000,2,   99.920,2
  096U20180111,  SR03,    56,  1,     10,     10,2,20180131,1005,-65.3992, 139.8528, 2390,   1700.7,  -0.2510,  34.6492,2,  34.6493,2,    238.2,2,    238.7,2,   104.20,2,  -999.00,2,  -999.00,9,     2.22,2,        0,2,    1.894,2,    1.032,2,     1.14,2,   2255.2,2,   2353.9,2,-999.0000,9,  -999.00,    18.57,2,   -999.0,9,   -999.0,  -999.00,9,   0.00039,2,    0.003,2,    0.042,2,    0.000,2,   99.916,2
  096U20180111,  SR03,    56,  1,      9,      9,2,20180131,1005,-65.3992, 139.8528, 2390,   1849.8,  -0.2944,  34.6516,2,  34.7035,4,    240.3,2,    239.8,2,   102.70,2,  -999.00,2,  -999.00,9,     2.22,2,        0,2,    2.038,2,    1.107,2,     1.07,2,   -999.0,9,   -999.0,9,-999.0000,9,  -999.00,    18.50,2,   -999.0,9,   -999.0,  -999.00,9,   0.00037,2,    0.003,2,    0.042,2,    0.000,2,   99.931,2
  096U20180111,  SR03,    56,  1,      8,      8,2,20180131,1005,-65.3992, 139.8528, 2390,   2000.3,  -0.3106,  34.6514,2,-999.0000,9,    241.0,2,   -999.0,9,  -999.00,9,  -999.00,9,  -999.00,9,  -999.00,9,     -999,9, -999.000,9, -999.000,9,     -999,9,   -999.0,9,   -999.0,9,-999.0000,9,  -999.00,  -999.00,9,   -999.0,9,   -999.0,  -999.00,9,   0.00038,2,    0.004,2,    0.042,2,    0.000,2,   99.909,2
  096U20180111,  SR03,    56,  1,      7,      7,2,20180131,1005,-65.3992, 139.8528, 2390,   2000.4,  -0.3120,  34.6513,2,  34.6502,2,    241.0,2,    240.9,2,   101.60,2,  -999.00,2,  -999.00,9,     2.22,2,        0,2,    2.113,2,    1.156,2,     1.12,2,   2254.5,6,   2352.8,6,-999.0000,9,  -999.00,    18.36,2,   -999.0,9,   -999.0,  -999.00,9,   0.00038,2,    0.004,2,    0.042,2,    0.000,2,   99.900,2
  096U20180111,  SR03,    56,  1,      6,      6,2,20180131,1005,-65.3992, 139.8528, 2390,   2102.1,  -0.3140,  34.6516,2,-999.0000,9,    240.3,2,    240.8,2,  -999.00,9,  -999.00,9,  -999.00,9,  -999.00,9,     -999,9, -999.000,9, -999.000,9,     -999,9,   -999.0,9,   -999.0,9,-999.0000,9,  -999.00,  -999.00,9,   -999.0,9,   -999.0,  -999.00,9,   0.00037,2,    0.004,2,    0.042,2,    0.000,2,   99.908,2
  096U20180111,  SR03,    56,  1,      5,      5,2,20180131,1005,-65.3992, 139.8528, 2390,   2102.1,  -0.3139,  34.6516,2,  34.6513,2,    240.3,2,    240.6,2,   101.40,2,  -999.00,2,  -999.00,9,     2.21,2,        0,2,    2.118,2,    1.165,2,     1.11,2,   2255.4,2,   2352.9,2,-999.0000,9,  -999.00,    18.23,2,   -999.0,9,   -999.0,  -999.00,9,   0.00039,2,    0.003,2,    0.042,2,    0.000,2,   99.915,2
  096U20180111,  SR03,    56,  1,      4,      4,2,20180131,1005,-65.3992, 139.8528, 2390,   2236.0,  -0.3150,  34.6511,2,  34.6509,2,    241.1,2,    241.1,2,   101.50,2,  -999.00,2,  -999.00,9,     2.22,2,        0,2,    2.109,2,    1.149,2,     1.25,2,   -999.0,9,   -999.0,9,-999.0000,9,  -999.00,    18.47,2,   -999.0,9,   -999.0,  -999.00,9,   0.00037,2,    0.004,2,    0.042,2,    0.000,2,   99.894,2
  096U20180111,  SR03,    56,  1,      3,      3,2,20180131,1005,-65.3992, 139.8528, 2390,   2371.3,  -0.3383,  34.6480,2,  34.6482,2,    242.7,2,    243.0,2,   101.10,2,  -999.00,2,  -999.00,9,     2.22,2,        0,2,    2.188,2,    1.192,2,     1.15,2,   2254.8,2,   2353.4,2,-999.0000,9,  -999.00,    18.47,2,   -999.0,9,   -999.0,  -999.00,9,   0.00046,2,    0.005,2,    0.042,2,    0.000,2,   99.885,2
  096U20180111,  SR03,    56,  1,      2,      2,2,20180131,1005,-65.3992, 139.8528, 2390,   2423.9,  -0.3331,  34.6488,2,-999.0000,9,    242.4,2,   -999.0,9,  -999.00,9,  -999.00,9,  -999.00,9,  -999.00,9,     -999,9, -999.000,9, -999.000,9,     -999,9,   -999.0,9,   -999.0,9,-999.0000,9,  -999.00,  -999.00,9,   -999.0,9,   -999.0,  -999.00,9,   0.00040,2,    0.005,2,    0.042,2,    0.000,2,   99.882,2
  096U20180111,  SR03,    56,  1,      1,      1,2,20180131,1005,-65.3992, 139.8528, 2390,   2423.9,  -0.3282,  34.6496,2,  34.6503,2,    242.4,2,    242.6,2,   101.40,2,    31.74,2,     0.02,2,     2.22,2,        0,2,    2.180,2,    1.198,2,     1.22,2,   2254.8,2,   2352.1,2,-999.0000,9,  -999.00,    18.34,2,   -999.0,9,   -999.0,  -999.00,9,   0.00038,2,    0.005,2,    0.042,2,    0.000,2,   99.879,2