BOTTLE,20230418CCHSIOENA
EXPOCODE,SECT_ID,STNNBR,CASTNO,SAMPNO,BTLNBR,BTLNBR_FLAG_W,DATE,TIME,LATITUDE,LONGITUDE,DEPTH,CTDPRS,CTDTMP,CTDSAL,CTDSAL_FLAG_W,SALNTY,SALNTY_FLAG_W,CTDOXY,CTDOXY_FLAG_W,OXYGEN,OXYGEN_FLAG_W,SILCAT,SILCAT_FLAG_W,NITRAT,NITRAT_FLAG_W,NITRIT,NITRIT_FLAG_W,PHSPHT,PHSPHT_FLAG_W,NH4,NH4_FLAG_W,CFC-11,CFC-11_FLAG_W,CFC-12,CFC-12_FLAG_W,SF6,SF6_FLAG_W,TCARBN,TCARBN_FLAG_W,ALKALI,ALKALI_FLAG_W,PH_TOT,PH_TOT_FLAG_W,PH_TMP,N2O,N2O_FLAG_W,DELC14,DELC14_FLAG_W,C14ERR,DELC13,DELC13_FLAG_W,CTDBETA700,CTDBETA700_FLAG_W,CTDBEAMCP,CTDBEAMCP_FLAG_W,CTDFLUOR,CTDFLUOR_FLAG_W,PAR,PAR_FLAG_W,CTDXMISS,CTDXMISS_FLAG_W
,,,,,,,,,,,METERS,DBAR,ITS-90,PSS-78,,PSS-78,,UMOL/KG,,UMOL/KG,,UMOL/KG,,UMOL/KG,,UMOL/KG,,UMOL/KG,,UMOL/KG,,PMOL/KG,,PMOL/KG,,FMOL/KG,,UMOL/KG,,UMOL/KG,,,,DEG C,NMOL/KG,,/MILLE,,/MILLE,/MILLE,,VOLTS,,1/M,,MG/M^3,,UMOL/M^2/SEC,,%TRANS,
  096U20180111,  SR03,    79,  1,     36,     36,2,20180206,2154,-63.1895, 147.8318, 3871,     10.7,   1.3842,  33.6629,2,-999.0000,9,    344.5,2,   -999.0,9,  -999.00,9,  -999.00,9,  -999.00,9,  -999.00,9,     -999,9, -999.000,9, -999.000,9,     -999,9,   -999.0,9,   -999.0,9,-999.0000,9,  -999.00,  -999.00,9,   -999.0,9,   -999.0,  -999.00,9,   0.00430,2,    0.442,2,    2.976,2,   29.600,2,   89.546,2
  096U20180111,  SR03,    79,  1,     35,     35,2,20180206,2154,-63.1895, 147.8318, 3871,     10.7,   1.3797,  33.6636,2,  33.6631,2,    344.5,2,    345.0,2,    19.50,2,    23.84,2,     0.25,2,     1.43,2,     0.06,2,    5.534,2,    3.028,2,      4.1,2,   2134.6,2,   2279.8,2,-999.0000,9,  -999.00,    14.73,2,   -999.0,9,   -999.0,  -999.00,9,   0.00416,2,    0.448,2,    2.826,2,   28.700,2,   89.399,2
  096U20180111,  SR03,    79,  1,     34,     34,2,20180206,2154,-63.1895, 147.8318, 3871,     40.2,   0.8956,  33.7407,2,-999.0000,9,    343.7,2,   -999.0,9,  -999.00,9,  -999.00,9,  -999.00,9,  -999.00,9,     -999,9, -999.000,9, -999.000,9,     -999,9,   -999.0,9,   -999.0,9,-999.0000,9,  -999.00,  -999.00,9,   -999.0,9,   -999.0,  -999.00,9,   0.00627,2,    0.596,2,    7.230,2,    1.160,2,   86.166,2
  096U20180111,  SR03,    79,  1,     33,     33,2,20180206,2154,-63.1895, 147.8318, 3871,     40.2,   0.8879,  33.7414,2,  33.8165,2,    343.7,2,    328.8,2,    32.60,2,    26.82,2,     0.22,2,     1.84,2,     0.58,2,    5.295,2,    2.920,2,     3.79,2,   2166.0,2,   2290.0,2,-999.0000,9,  -999.00,    16.17,2,   -999.0,9,   -999.0,  -999.00,9,   0.00627,2,    0.593,2,    7.284,2,    1.090,2,   86.221,2
  096U20180111,  SR03,    79,  1,     32,     32,2,20180206,2154,-63.1895, 147.8318, 3871,     60.4,  -0.6076,  34.1102,2,  34.1271,2,    277.2,2,    278.8,2,    50.10,2,    32.10,2,     0.15,2,     2.21,2,      0.1,2,    4.175,2,    2.319,2,     2.55,2,   2210.2,2,   2304.3,2,-999.0000,9,  -999.00,    20.03,2,   -999.0,9,   -999.0,  -999.00,9,   0.00092,2,    0.051,2,    0.432,2,    0.184,2,   98.743,2
  096U20180111,  SR03,    79,  1,     31,     31,2,20180206,2154,-63.1895, 147.8318, 3871,    112.8,   1.9482,  34.4969,2,  34.4988,2,    191.3,2,    181.0,2,    71.40,2,    35.04,2,     0.01,2,     2.40,2,        0,2,    1.354,2,    0.709,2,     0.55,2,   2252.2,2,   2329.1,2,-999.0000,9,  -999.00,    24.88,2,   -999.0,9,   -999.0,  -999.00,9,   0.00048,2,    0.014,2,    0.072,2,    0.002,2,   99.641,2
  096U20180111,  SR03,    79,  1,     30,     30,2,20180206,2154,-63.1895, 147.8318, 3871,    151.7,   2.1028,  34.5562,2,  34.5576,2,    177.2,2,    174.9,2,    74.50,2,    34.76,2,     0.01,2,     2.38,2,    -0.01,2, -999.000,9, -999.000,9,     -999,9,   2255.6,2,   2333.5,2,-999.0000,9,  -999.00,  -999.00,9,   -999.0,9,   -999.0,  -999.00,9,   0.00044,2,    0.012,2,    0.054,2,    0.000,2,   99.706,2
  096U20180111,  SR03,    79,  1,     29,     29,2,20180206,2154,-63.1895, 147.8318, 3871,    193.3,   2.0870,  34.5919,2,  34.5911,2,    174.3,2,    174.6,2,    76.60,2,    34.40,2,     0.00,2,     2.35,2,    -0.01,2,    0.845,2,    0.454,2,     0.28,2,   2256.3,2,   2335.6,2,-999.0000,9,  -999.00,    23.77,2,   -999.0,9,   -999.0,  -999.00,9,   0.00046,2,    0.011,2,    0.048,2,    0.000,2,   99.724,2
  096U20180111,  SR03,    79,  1,     28,     28,2,20180206,2154,-63.1895, 147.8318, 3871,    251.8,   2.1051,  34.6320,2,  34.6326,2,    175.0,2,    174.9,2,    78.40,2,    33.87,2,     0.00,2,     2.30,2,    -0.01,2, -999.000,9, -999.000,9,     -999,9,   -999.0,9,   -999.0,9,-999.0000,9,  -999.00,  -999.00,9,   -999.0,9,   -999.0,  -999.00,9,   0.00039,2,    0.007,2,    0.042,2,    0.000,2,   99.832,2
  096U20180111,  SR03,    79,  1,     27,     27,2,20180206,2154,-63.1895, 147.8318, 3871,    301.7,   2.0804,  34.6569,2,  34.6564,2,    176.6,2,    176.0,2,    79.50,2,    33.35,2,     0.00,2,     2.28,2,    -0.01,2,    0.556,2,    0.296,2,     0.26,2,   2255.4,6,   2340.7,6,-999.0000,9,  -999.00,    22.55,2,   -999.0,9,   -999.0,  -999.00,9,   0.00037,2,    0.004,2,    0.036,2,    0.000,2,   99.891,2
  096U20180111,  SR03,    79,  1,     26,     26,2,20180206,2154,-63.1895, 147.8318, 3871,    400.7,   1.9761,  34.6778,2,  34.6777,2,    179.7,2,    179.0,2,    81.90,2,    32.97,2,     0.00,2,     2.25,2,    -0.01,2,    0.516,2,    0.277,2,     0.22,2,   2254.7,2,   2343.5,6,-999.0000,9,  -999.00,    22.41,2,   -999.0,9,   -999.0,  -999.00,9,   0.00037,2,    0.004,2,    0.036,2,    0.000,2,   99.899,2
  096U20180111,  SR03,    79,  1,     25,     25,2,20180206,2154,-63.1895, 147.8318, 3871,    501.8,   2.0042,  34.7123,2,  34.7115,2,    185.4,2,    183.8,2,    82.50,2,    32.03,2,     0.00,2,     2.18,2,    -0.01,2, -999.000,9, -999.000,9,     -999,9,   2251.3,2,   2346.5,2,-999.0000,9,  -999.00,  -999.00,9,   -999.0,9,   -999.0,  -999.00,9,   0.00032,2,    0.002,2,    0.036,2,    0.000,2,   99.962,2
  096U20180111,  SR03,    79,  1,     24,     24,2,20180206,2154,-63.1895, 147.8318, 3871,    601.1,   1.9573,  34.7261,2,  34.7256,2,    188.4,2,    187.3,2,    83.70,2,    31.63,2,     0.00,2,     2.15,2,    -0.01,2,    0.293,2,    0.157,2,     0.01,2,   2250.2,2,   2348.5,2,-999.0000,9,  -999.00,    20.34,2,   -999.0,9,   -999.0,  -999.00,9,   0.00030,2,    0.001,2,    0.036,2,    0.000,2,   99.979,2
  096U20180111,  SR03,    79,  1,     23,     23,2,20180206,2154,-63.1895, 147.8318, 3871,    753.4,   1.8318,  34.7367,2,  34.7090,4,    192.6,2,    191.7,2,    86.70,2,    31.27,2,     0.00,2,     2.13,2,    -0.01,2,    0.267,2,    0.137,2,     0.02,2,   2249.7,2,   2349.5,2,-999.0000,9,  -999.00,    19.83,2,   -999.0,9,   -999.0,  -999.00,9,   0.00027,2,   -0.001,2,    0.036,2,    0.000,2,  100.016,2
  096U20180111,  SR03,    79,  1,     22,     22,2,20180206,2154,-63.1895, 147.8318, 3871,    902.7,   1.7163,  34.7421,2,  34.7413,2,    195.8,2,    195.4,2,    89.50,2,    31.06,2,     0.00,2,     2.12,2,    -0.01,2,    0.235,2,    0.122,2,     0.02,2,   2248.4,2,   2352.6,2,-999.0000,9,  -999.00,    19.27,2,   -999.0,9,   -999.0,  -999.00,9,   0.00029,2,   -0.002,2,    0.036,2,    0.000,2,  100.043,2
  096U20180111,  SR03,    79,  1,     21,     21,2,20180206,2154,-63.1895, 147.8318, 3871,   1051.8,   1.5915,  34.7415,2,-999.0000,9,    198.3,2,   -999.0,9,  -999.00,9,  -999.00,9,  -999.00,9,  -999.00,9,     -999,9, -999.000,9, -999.000,9,     -999,9,   -999.0,9,   -999.0,9,-999.0000,9,  -999.00,  -999.00,9,   -999.0,9,   -999.0,  -999.00,9,   0.00029,2,   -0.002,2,    0.036,2,    0.000,2,  100.048,2
  096U20180111,  SR03,    79,  1,     20,     20,2,20180206,2154,-63.1895, 147.8318, 3871,   1051.6,   1.5922,  34.7416,2,  34.7410,2,    198.3,2,    197.7,2,    92.90,2,    31.07,2,     0.00,2,     2.12,2,    -0.01,2,    0.229,2,    0.120,2,     0.01,2,   2251.5,2,   2354.3,2,-999.0000,9,  -999.00,    19.43,2,   -999.0,9,   -999.0,  -999.00,9,   0.00028,2,   -0.002,2,    0.036,2,    0.000,2,  100.037,2
  096U20180111,  SR03,    79,  1,     19,     19,2,20180206,2154,-63.1895, 147.8318, 3871,   1202.4,   1.4517,  34.7380,2,  34.7369,2,    199.6,2,    199.9,2,    96.60,2,    31.15,2,     0.00,2,     2.13,2,    -0.01,2, -999.000,9, -999.000,9,     -999,9,   -999.0,9,   -999.0,9,-999.0000,9,  -999.00,  -999.00,9,   -999.0,9,   -999.0,  -999.00,9,   0.00027,2,   -0.003,2,    0.030,2,    0.000,2,  100.067,2
  096U20180111,  SR03,    79,  1,     18,     18,2,20180206,2154,-63.1895, 147.8318, 3871,   1402.0,   1.2835,  34.7324,2,  34.7317,2,    201.7,2,    201.9,2,   101.50,2,    31.39,2,     0.00,2,     2.14,2,    -0.01,2,    0.231,2,    0.119,2,      0.1,2,   2253.9,6,   2357.1,6,-999.0000,9,  -999.00,    19.06,2,   -999.0,9,   -999.0,  -999.00,9,   0.00027,2,   -0.002,2,    0.036,2,    0.000,2,  100.063,2
  096U20180111,  SR03,    79,  1,     17,     17,2,20180206,2154,-63.1895, 147.8318, 3871,   1602.1,   1.1267,  34.7248,2,  34.7246,2,    203.8,2,    203.7,2,   106.00,2,    31.64,2,     0.00,2,     2.17,2,    -0.01,2,    0.249,2,    0.131,2,     0.06,2,   -999.0,9,   -999.0,9,-999.0000,9,  -999.00,    18.83,2,   -999.0,9,   -999.0,  -999.00,9,   0.00025,2,   -0.003,2,    0.036,2,    0.000,2,  100.072,2
  096U20180111,  SR03,    79,  1,     16,     16,2,20180206,2154,-63.1895, 147.8318, 3871,   1800.8,   0.9684,  34.7172,2,  34.7167,2,    205.8,2,    205.6,2,   110.70,2,    31.94,2,     0.00,2,     2.19,2,    -0.01,2,    0.255,2,    0.134,2,        0,2,   2257.0,2,   2359.0,2,-999.0000,9,  -999.00,    19.06,2,   -999.0,9,   -999.0,  -999.00,9,   0.00025,2,   -0.003,2,    0.036,2,    0.000,2,  100.075,2
  096U20180111,  SR03,    79,  1,     15,     15,2,20180206,2154,-63.1895, 147.8318, 3871,   2001.3,   0.8156,  34.7087,2,-999.0000,9,    207.8,2,   -999.0,9,  -999.00,9,  -999.00,9,  -999.00,9,  -999.00,9,     -999,9, -999.000,9, -999.000,9,     -999,9,   -999.0,9,   -999.0,9,-999.0000,9,  -999.00,  -999.00,9,   -999.0,9,   -999.0,  -999.00,9,   0.00024,2,   -0.003,2,    0.036,2,    0.000,2,  100.077,2
  096U20180111,  SR03,    79,  1,     14,     14,2,20180206,2154,-63.1895, 147.8318, 3871,   2001.2,   0.8153,  34.7088,2,  34.7077,2,    207.8,2,    208.2,2,   114.70,2,    32.14,2,     0.00,2,     2.21,2,    -0.01,2,    0.301,2,    0.153,2,     0.04,2,   2258.1,2,   2360.0,2,-999.0000,9,  -999.00,    19.31,2,   -999.0,9,   -999.0,  -999.00,9,   0.00025,2,   -0.003,2,    0.036,2,    0.000,2,  100.074,2
  096U20180111,  SR03,    79,  1,     13,     13,2,20180206,2154,-63.1895, 147.8318, 3871,   2251.1,   0.6283,  34.6991,2,  34.6983,2,    210.8,2,    211.0,2,   119.60,2,    32.42,2,     0.00,2,     2.23,2,    -0.01,2,    0.370,2,    0.192,2,     0.11,2,   2258.5,2,   2359.2,2,-999.0000,9,  -999.00,    18.89,2,   -999.0,9,   -999.0,  -999.00,9,   0.00025,2,   -0.003,2,    0.036,2,    0.000,2,  100.086,2
  096U20180111,  SR03,    79,  1,     12,     12,2,20180206,2154,-63.1895, 147.8318, 3871,   2500.8,   0.4847,  34.6915,2,  34.6913,2,    214.2,2,    214.3,2,   122.70,2,    32.53,2,     0.00,2,     2.24,2,    -0.01,2,    0.477,2,    0.247,2,     0.09,2,   2259.4,2,   2357.9,2,-999.0000,9,  -999.00,    19.02,2,   -999.0,9,   -999.0,  -999.00,9,   0.00024,2,   -0.003,2,    0.036,2,    0.000,2,  100.077,2
  096U20180111,  SR03,    79,  1,     11,     11,2,20180206,2154,-63.1895, 147.8318, 3871,   2751.5,   0.3543,  34.6855,2,-999.0000,9,    217.7,2,   -999.0,9,  -999.00,9,  -999.00,9,  -999.00,9,  -999.00,9,     -999,9, -999.000,9, -999.000,9,     -999,9,   -999.0,9,   -999.0,9,-999.0000,9,  -999.00,  -999.00,9,   -999.0,9,   -999.0,  -999.00,9,   0.00023,2,   -0.003,2,    0.036,2,    0.000,2,  100.078,2
  096U20180111,  SR03,    79,  1,     10,     10,2,20180206,2154,-63.1895, 147.8318, 3871,   2751.5,   0.3543,  34.6856,2,  34.6865,2,    217.7,2,    218.1,2,   125.30,2,    32.62,2,     0.00,2,     2.25,2,    -0.01,2,    0.606,2,    0.311,2,     0.13,2,   2258.8,2,   2359.5,2,-999.0000,9,  -999.00,    18.43,2,   -999.0,9,   -999.0,  -999.00,9,   0.00024,2,   -0.003,2,    0.036,2,    0.000,2,  100.085,2
  096U20180111,  SR03,    79,  1,      9,      9,2,20180206,2154,-63.1895, 147.8318, 3871,   2999.8,   0.2606,  34.6815,2,  34.6786,4,    221.2,2,    221.0,2,   128.20,2,    32.68,2,     0.00,2,     2.25,2,    -0.01,2,    0.719,2,    0.361,2,     0.21,2,   -999.0,9,   -999.0,9,-999.0000,9,  -999.00,    19.16,2,   -999.0,9,   -999.0,  -999.00,9,   0.00022,2,   -0.003,2,    0.030,2,    0.000,2,  100.086,2
  096U20180111,  SR03,    79,  1,      8,      8,2,20180206,2154,-63.1895, 147.8318, 3871,   3250.0,   0.1782,  34.6771,2,  34.6746,4,    224.6,2,    224.2,2,   129.90,2,    32.69,2,     0.00,2,     2.25,2,    -0.01,2,    0.883,2,    0.448,2,     0.23,2,   2259.7,2,   2359.1,2,-999.0000,9,  -999.00,    18.68,2,   -999.0,9,   -999.0,  -999.00,9,   0.00022,2,   -0.003,2,    0.036,2,    0.000,2,  100.085,2
  096U20180111,  SR03,    79,  1,      7,      7,2,20180206,2154,-63.1895, 147.8318, 3871,   3502.2,   0.0569,  34.6691,2,  34.6655,4,    229.4,2,    229.0,2,   127.60,2,    32.57,2,     0.00,2,     2.25,2,    -0.01,2,    1.247,6,    0.643,6,     0.26,6,   2258.9,6,   2358.0,6,-999.0000,9,  -999.00,    18.28,6,   -999.0,9,   -999.0,  -999.00,9,   0.00024,2,   -0.001,2,    0.036,2,    0.000,2,  100.031,2
  096U20180111,  SR03,    79,  1,      6,      6,2,20180206,2154,-63.1895, 147.8318, 3871,   3701.7,  -0.0192,  34.6636,2,-999.0000,9,    233.0,2,   -999.0,9,  -999.00,9,  -999.00,9,  -999.00,9,  -999.00,9,     -999,9, -999.000,9, -999.000,9,     -999,9,   -999.0,9,   -999.0,9,-999.0000,9,  -999.00,  -999.00,9,   -999.0,9,   -999.0,  -999.00,9,   0.00028,2,    0.001,2,    0.036,2,    0.000,2,   99.966,2
  096U20180111,  SR03,    79,  1,      5,      5,2,20180206,2154,-63.1895, 147.8318, 3871,   3701.5,  -0.0197,  34.6634,2,  34.6611,4,    233.0,2,    232.7,2,   122.90,2,    32.46,2,     0.00,2,     2.24,2,    -0.01,2,    1.548,2,    0.815,2,     0.56,2,   2258.0,2,   2356.7,6,-999.0000,9,  -999.00,    19.29,2,   -999.0,9,   -999.0,  -999.00,9,   0.00026,2,    0.001,2,    0.030,2,    0.000,2,   99.973,2
  096U20180111,  SR03,    79,  1,      4,      4,2,20180206,2154,-63.1895, 147.8318, 3871,   3891.3,  -0.0981,  34.6583,2,-999.0000,9,    236.9,2,   -999.0,9,  -999.00,9,  -999.00,9,  -999.00,9,  -999.00,9,     -999,9, -999.000,9, -999.000,9,     -999,9,   -999.0,9,   -999.0,9,-999.0000,9,  -999.00,  -999.00,9,   -999.0,9,   -999.0,  -999.00,9,   0.00033,2,    0.005,2,    0.036,2,    0.000,2,   99.864,2
  096U20180111,  SR03,    79,  1,      3,      3,2,20180206,2154,-63.1895, 147.8318, 3871,   3891.3,  -0.0975,  34.6584,2,  34.6552,4,    236.9,2,    236.6,2,   117.10,2,    32.36,2,     0.00,2,     2.23,2,    -0.01,2,    1.876,2,    1.015,2,     0.89,2,   2256.0,2,   2353.5,2,-999.0000,9,  -999.00,    18.83,2,   -999.0,9,   -999.0,  -999.00,9,   0.00042,2,    0.005,2,    0.030,2,    0.000,2,   99.867,2
  096U20180111,  SR03,    79,  1,      2,      2,2,20180206,2154,-63.1895, 147.8318, 3871,   3942.9,  -0.1938,  34.6544,2,-999.0000,9,    239.4,2,   -999.0,9,  -999.00,9,  -999.00,9,  -999.00,9,  -999.00,9,     -999,9, -999.000,9, -999.000,9,     -999,9,   -999.0,9,   -999.0,9,-999.0000,9,  -999.00,  -999.00,9,   -999.0,9,   -999.0,  -999.00,9,   0.00064,2,    0.024,2,    0.036,2,    0.000,2,   99.397,2
  096U20180111,  SR03,    79,  1,      1,      1,2,20180206,2154,-63.1895, 147.8318, 3871,   3942.9,  -0.1912,  34.6545,2,  34.6550,2,    239.4,2,    239.7,2,   113.20,2,    32.26,2,     0.01,2,     2.23,2,    -0.01,2,    2.100,2,    1.144,2,     1.15,2,   2255.5,2,   2353.4,2,-999.0000,9,  -999.00,    19.03,2,   -999.0,9,   -999.0,  -999.00,9,   0.00061,2,    0.024,2,    0.036,2,    0.000,2,   99.402,2