BOTTLE,20230418CCHSIOENA
EXPOCODE,SECT_ID,STNNBR,CASTNO,SAMPNO,BTLNBR,BTLNBR_FLAG_W,DATE,TIME,LATITUDE,LONGITUDE,DEPTH,CTDPRS,CTDTMP,CTDSAL,CTDSAL_FLAG_W,SALNTY,SALNTY_FLAG_W,CTDOXY,CTDOXY_FLAG_W,OXYGEN,OXYGEN_FLAG_W,SILCAT,SILCAT_FLAG_W,NITRAT,NITRAT_FLAG_W,NITRIT,NITRIT_FLAG_W,PHSPHT,PHSPHT_FLAG_W,NH4,NH4_FLAG_W,CFC-11,CFC-11_FLAG_W,CFC-12,CFC-12_FLAG_W,SF6,SF6_FLAG_W,TCARBN,TCARBN_FLAG_W,ALKALI,ALKALI_FLAG_W,PH_TOT,PH_TOT_FLAG_W,PH_TMP,N2O,N2O_FLAG_W,DELC14,DELC14_FLAG_W,C14ERR,DELC13,DELC13_FLAG_W,CTDBETA700,CTDBETA700_FLAG_W,CTDBEAMCP,CTDBEAMCP_FLAG_W,CTDFLUOR,CTDFLUOR_FLAG_W,PAR,PAR_FLAG_W,CTDXMISS,CTDXMISS_FLAG_W
,,,,,,,,,,,METERS,DBAR,ITS-90,PSS-78,,PSS-78,,UMOL/KG,,UMOL/KG,,UMOL/KG,,UMOL/KG,,UMOL/KG,,UMOL/KG,,UMOL/KG,,PMOL/KG,,PMOL/KG,,FMOL/KG,,UMOL/KG,,UMOL/KG,,,,DEG C,NMOL/KG,,/MILLE,,/MILLE,/MILLE,,VOLTS,,1/M,,MG/M^3,,UMOL/M^2/SEC,,%TRANS,
  096U20180111,  SR03,    16,  1,     36,     36,2,20180117,2024,-49.6085, 143.9307, 3654,      7.0,   9.2878,  34.0860,2,  34.0864,2,   -999.0,5,    289.8,2,     3.60,2,    16.55,2,     0.18,2,     1.14,2,     0.16,2,    3.378,2,    1.949,2,      2.7,2,   2099.8,2,   2281.0,2,-999.0000,9,  -999.00,    11.33,2,   -999.0,9,   -999.0,  -999.00,9,   0.00275,2,    0.270,2,    1.800,2,  181.000,2,   93.464,2
  096U20180111,  SR03,    16,  1,     35,     35,2,20180117,2024,-49.6085, 143.9307, 3654,     40.4,   9.2828,  34.0878,2,  34.0888,2,    289.3,2,    289.3,2,     3.60,2,    16.52,2,     0.18,2,     1.14,2,     0.17,2, -999.000,9, -999.000,9,     -999,9,   -999.0,9,   -999.0,9,-999.0000,9,  -999.00,  -999.00,9,   -999.0,9,   -999.0,  -999.00,9,   0.00252,2,    0.255,2,    2.982,2,    5.800,2,   93.823,2
  096U20180111,  SR03,    16,  1,     34,     34,2,20180117,2024,-49.6085, 143.9307, 3654,     40.2,   9.2823,  34.0878,2,-999.0000,9,    289.3,2,   -999.0,9,  -999.00,9,  -999.00,9,  -999.00,9,  -999.00,9,     -999,9, -999.000,9, -999.000,9,     -999,9,   -999.0,9,   -999.0,9,-999.0000,9,  -999.00,  -999.00,9,   -999.0,9,   -999.0,  -999.00,9,   0.00261,2,    0.252,2,    3.066,2,    6.010,2,   93.904,2
  096U20180111,  SR03,    16,  1,     33,     33,2,20180117,2024,-49.6085, 143.9307, 3654,     80.1,   8.7696,  34.0944,2,  34.0955,2,    282.8,2,    283.3,2,     5.40,2,    17.71,2,     0.19,2,     1.28,2,     0.57,2, -999.000,9, -999.000,9,     -999,9,   2111.2,6,   2281.2,6,-999.0000,9,  -999.00,  -999.00,9,   -999.0,9,   -999.0,  -999.00,9,   0.00142,2,    0.091,2,    1.122,2,    0.177,2,   97.743,2
  096U20180111,  SR03,    16,  1,     32,     32,2,20180117,2024,-49.6085, 143.9307, 3654,    119.8,   5.8312,  34.1010,2,  34.1015,2,    294.7,2,    295.0,2,     7.90,2,    21.48,2,     0.54,2,     1.56,2,     0.51,2, -999.000,9, -999.000,9,     -999,9,   -999.0,9,   -999.0,9,-999.0000,9,  -999.00,  -999.00,9,   -999.0,9,   -999.0,  -999.00,9,   0.00079,2,    0.032,2,    0.276,2,    0.000,2,   99.193,2
  096U20180111,  SR03,    16,  1,     31,     31,2,20180117,2024,-49.6085, 143.9307, 3654,    119.9,   5.8251,  34.1007,2,-999.0000,9,    294.7,2,   -999.0,9,  -999.00,9,  -999.00,9,  -999.00,9,  -999.00,9,     -999,9, -999.000,9, -999.000,9,     -999,9,   -999.0,9,   -999.0,9,-999.0000,9,  -999.00,  -999.00,9,   -999.0,9,   -999.0,  -999.00,9,   0.00081,2,    0.034,2,    0.264,2,    0.000,2,   99.154,2
  096U20180111,  SR03,    16,  1,     30,     30,2,20180117,2024,-49.6085, 143.9307, 3654,    152.1,   5.3549,  34.0910,2,  34.0911,2,    292.1,2,    293.0,2,     8.70,2,    23.37,2,     0.06,2,     1.61,2,        0,2,    4.026,2,    2.255,2,     2.92,2,   2140.5,2,   2279.6,2,-999.0000,9,  -999.00,    14.07,2,   -999.0,9,   -999.0,  -999.00,9,   0.00068,2,    0.015,2,    0.114,2,    0.000,2,   99.614,2
  096U20180111,  SR03,    16,  1,     29,     29,2,20180117,2024,-49.6085, 143.9307, 3654,    201.4,   4.9850,  34.1003,2,  34.1014,2,    287.1,2,    285.4,2,    10.30,2,    24.45,2,     0.01,2,     1.68,2,        0,2, -999.000,9, -999.000,9,     -999,9,   -999.0,9,   -999.0,9,-999.0000,9,  -999.00,  -999.00,9,   -999.0,9,   -999.0,  -999.00,9,   0.00058,2,    0.006,2,    0.036,2,    0.000,2,   99.859,2
  096U20180111,  SR03,    16,  1,     28,     28,2,20180117,2024,-49.6085, 143.9307, 3654,    201.2,   4.9847,  34.1001,2,-999.0000,9,    287.1,2,   -999.0,9,  -999.00,9,  -999.00,9,  -999.00,9,  -999.00,9,     -999,9, -999.000,9, -999.000,9,     -999,9,   -999.0,9,   -999.0,9,-999.0000,9,  -999.00,  -999.00,9,   -999.0,9,   -999.0,  -999.00,9,   0.00045,2,    0.006,2,    0.042,2,    0.000,2,   99.847,2
  096U20180111,  SR03,    16,  1,     27,     27,2,20180117,2024,-49.6085, 143.9307, 3654,    251.2,   4.7610,  34.0982,2,  34.1012,2,    281.3,2,    282.4,2,    11.30,2,    25.12,2,     0.01,2,     1.72,2,    -0.01,2, -999.000,9, -999.000,9,     -999,9,   -999.0,9,   -999.0,9,-999.0000,9,  -999.00,  -999.00,9,   -999.0,9,   -999.0,  -999.00,9,   0.00044,2,    0.005,2,    0.036,2,    0.000,2,   99.886,2
  096U20180111,  SR03,    16,  1,     26,     26,2,20180117,2024,-49.6085, 143.9307, 3654,    301.8,   4.6253,  34.1082,2,  34.1088,2,    271.9,2,    276.8,2,    13.00,2,    25.78,2,     0.01,2,     1.77,2,    -0.01,2, -999.000,9, -999.000,9,     -999,9,   -999.0,9,   -999.0,9,-999.0000,9,  -999.00,  -999.00,9,   -999.0,9,   -999.0,  -999.00,9,   0.00044,2,    0.005,2,    0.036,2,    0.000,2,   99.869,2
  096U20180111,  SR03,    16,  1,     25,     25,2,20180117,2024,-49.6085, 143.9307, 3654,    402.8,   4.5676,  34.1791,2,  34.1798,2,    257.6,2,    251.8,2,  -999.00,9,  -999.00,9,  -999.00,9,  -999.00,9,     -999,9,    3.678,2,    2.035,2,     2.07,2,   2171.6,2,   2285.4,2,-999.0000,9,  -999.00,    17.28,2,   -999.0,9,   -999.0,  -999.00,9,   0.00045,2,    0.004,2,    0.030,2,    0.000,2,   99.904,2
  096U20180111,  SR03,    16,  1,     24,     24,2,20180117,2024,-49.6085, 143.9307, 3654,    501.2,   4.3766,  34.2249,2,  34.2250,2,    233.5,2,    234.2,2,    22.50,2,    29.10,2,     0.00,2,     1.98,2,    -0.01,2, -999.000,9, -999.000,9,     -999,9,   -999.0,9,   -999.0,9,-999.0000,9,  -999.00,  -999.00,9,   -999.0,9,   -999.0,  -999.00,9,   0.00041,2,    0.004,2,    0.030,2,    0.000,2,   99.911,2
  096U20180111,  SR03,    16,  1,     23,     23,2,20180117,2024,-49.6085, 143.9307, 3654,    601.4,   4.0688,  34.2476,2,  34.2482,2,    226.1,2,    225.0,2,    27.40,2,    30.30,2,     0.00,2,     2.07,2,    -0.01,2, -999.000,9, -999.000,9,     -999,9,   -999.0,9,   -999.0,9,-999.0000,9,  -999.00,  -999.00,9,   -999.0,9,   -999.0,  -999.00,9,   0.00044,2,    0.002,2,    0.030,2,    0.000,2,   99.945,2
  096U20180111,  SR03,    16,  1,     22,     22,2,20180117,2024,-49.6085, 143.9307, 3654,    702.0,   3.6374,  34.2632,2,  34.2631,2,    217.6,2,    218.6,2,    33.40,2,    31.45,2,     0.00,2,     2.16,2,    -0.01,2,    2.804,2,    1.508,2,     1.42,2,   2201.3,2,   2297.8,2,-999.0000,9,  -999.00,    21.88,2,   -999.0,9,   -999.0,  -999.00,9,   0.00040,2,    0.002,2,    0.036,2,    0.000,2,   99.962,2
  096U20180111,  SR03,    16,  1,     21,     21,2,20180117,2024,-49.6085, 143.9307, 3654,    801.7,   3.3092,  34.2893,2,  34.2891,2,    209.9,2,    210.9,2,    39.70,2,    32.46,2,     0.00,2,     2.23,2,    -0.01,2, -999.000,9, -999.000,9,     -999,9,   -999.0,9,   -999.0,9,-999.0000,9,  -999.00,  -999.00,9,   -999.0,9,   -999.0,  -999.00,9,   0.00038,2,    0.002,2,    0.036,2,    0.000,2,   99.955,2
  096U20180111,  SR03,    16,  1,     20,     20,2,20180117,2024,-49.6085, 143.9307, 3654,    901.1,   3.1514,  34.3459,2,  34.3461,2,    195.8,2,    197.3,2,    47.00,2,    33.36,2,     0.00,2,     2.30,2,    -0.01,2, -999.000,9, -999.000,9,     -999,9,   -999.0,9,   -999.0,9,-999.0000,9,  -999.00,  -999.00,9,   -999.0,9,   -999.0,  -999.00,9,   0.00039,2,    0.001,2,    0.036,2,    0.000,2,   99.971,2
  096U20180111,  SR03,    16,  1,     19,     19,2,20180117,2024,-49.6085, 143.9307, 3654,   1001.6,   2.9600,  34.4168,2,  34.4171,2,    186.2,2,    184.8,2,    55.60,2,    34.11,2,     0.00,2,     2.35,2,    -0.01,2,    1.484,2,    0.770,2,     0.37,2,   2236.5,2,   2319.1,2,-999.0000,9,  -999.00,    26.09,2,   -999.0,9,   -999.0,  -999.00,9,   0.00039,2,    0.001,2,    0.036,2,    0.000,2,   99.978,2
  096U20180111,  SR03,    16,  1,     18,     18,2,20180117,2024,-49.6085, 143.9307, 3654,   1100.7,   2.7817,  34.4577,2,  34.4577,2,    179.7,2,    179.5,2,    61.00,2,    34.46,2,     0.00,2,     2.37,2,        0,2, -999.000,9, -999.000,9,     -999,9,   -999.0,9,   -999.0,9,-999.0000,9,  -999.00,  -999.00,9,   -999.0,9,   -999.0,  -999.00,9,   0.00038,2,    0.001,2,    0.036,2,    0.000,2,   99.982,2
  096U20180111,  SR03,    16,  1,     17,     17,2,20180117,2024,-49.6085, 143.9307, 3654,   1200.6,   2.6957,  34.5048,2,  34.5045,2,    176.7,2,    175.7,2,    65.20,2,    34.41,2,     0.00,2,     2.37,2,    -0.01,2, -999.000,9, -999.000,9,     -999,9,   -999.0,9,   -999.0,9,-999.0000,9,  -999.00,  -999.00,9,   -999.0,9,   -999.0,  -999.00,9,   0.00037,2,    0.000,2,    0.036,2,    0.000,2,   99.998,2
  096U20180111,  SR03,    16,  1,     16,     16,2,20180117,2024,-49.6085, 143.9307, 3654,   1400.4,   2.5506,  34.6005,2,  34.6003,2,    173.9,2,    173.3,2,    71.80,2,    33.63,2,     0.00,2,     2.31,2,        0,2,    0.554,2,    0.290,2,     0.03,2,   2251.9,2,   2337.9,2,-999.0000,9,  -999.00,    25.90,2,   -999.0,9,   -999.0,  -999.00,9,   0.00036,2,   -0.001,2,    0.036,2,    0.000,2,  100.016,2
  096U20180111,  SR03,    16,  1,     15,     15,2,20180117,2024,-49.6085, 143.9307, 3654,   1400.3,   2.5505,  34.6009,2,-999.0000,9,    173.9,2,   -999.0,9,  -999.00,9,  -999.00,9,  -999.00,9,  -999.00,9,     -999,9, -999.000,9, -999.000,9,     -999,9,   -999.0,9,   -999.0,9,-999.0000,9,  -999.00,  -999.00,9,   -999.0,9,   -999.0,  -999.00,9,   0.00035,2,   -0.001,2,    0.036,2,    0.000,2,  100.014,2
  096U20180111,  SR03,    16,  1,     14,     14,2,20180117,2024,-49.6085, 143.9307, 3654,   1600.5,   2.4563,  34.6652,2,  34.6651,2,    177.2,2,    177.5,2,    74.80,2,    32.49,2,     0.00,2,     2.24,2,    -0.01,2, -999.000,9, -999.000,9,     -999,9,   -999.0,9,   -999.0,9,-999.0000,9,  -999.00,  -999.00,9,   -999.0,9,   -999.0,  -999.00,9,   0.00036,2,    0.000,2,    0.042,2,    0.000,2,  100.009,2
  096U20180111,  SR03,    16,  1,     13,     13,2,20180117,2024,-49.6085, 143.9307, 3654,   1799.0,   2.3507,  34.7034,2,  34.7035,2,    182.1,2,    182.8,2,    77.50,2,    31.65,2,     0.00,2,     2.18,2,    -0.01,2,    0.234,2,    0.000,2,     0.03,2,   2249.1,6,   2346.3,6,-999.0000,9,  -999.00,    22.45,2,   -999.0,9,   -999.0,  -999.00,9,   0.00036,2,   -0.001,2,    0.042,2,    0.000,2,  100.015,2
  096U20180111,  SR03,    16,  1,     12,     12,2,20180117,2024,-49.6085, 143.9307, 3654,   1999.3,   2.2346,  34.7266,2,  34.7267,2,    184.7,2,    185.3,2,    81.90,2,    31.28,2,     0.00,2,     2.16,2,    -0.01,2, -999.000,9, -999.000,9,     -999,9,   -999.0,9,   -999.0,9,-999.0000,9,  -999.00,  -999.00,9,   -999.0,9,   -999.0,  -999.00,9,   0.00036,2,    0.000,2,    0.036,2,    0.000,2,  100.007,2
  096U20180111,  SR03,    16,  1,     11,     11,2,20180117,2024,-49.6085, 143.9307, 3654,   2100.2,   2.1538,  34.7362,2,  34.7370,2,    189.1,2,    188.9,2,    83.30,2,    30.94,2,     0.00,2,     2.13,2,    -0.01,2, -999.000,9, -999.000,9,     -999,9,   -999.0,9,   -999.0,9,-999.0000,9,  -999.00,  -999.00,9,   -999.0,9,   -999.0,  -999.00,9,   0.00042,2,    0.000,2,    0.042,2,    0.000,2,   99.988,2
  096U20180111,  SR03,    16,  1,     10,     10,2,20180117,2024,-49.6085, 143.9307, 3654,   2302.3,   1.9704,  34.7447,2,  34.7456,2,    192.6,2,    193.1,2,    88.10,2,    30.72,2,     0.00,2,     2.12,2,    -0.01,2,    0.134,2,    0.063,2,    -0.03,2,   2249.1,2,   2354.7,2,-999.0000,9,  -999.00,    21.49,2,   -999.0,9,   -999.0,  -999.00,9,   0.00038,2,    0.001,2,    0.042,2,    0.000,2,   99.988,2
  096U20180111,  SR03,    16,  1,      9,      9,2,20180117,2024,-49.6085, 143.9307, 3654,   2500.7,   1.7704,  34.7423,2,  34.7424,2,    192.5,2,    193.8,2,    95.90,2,    31.07,2,     0.00,2,     2.15,2,    -0.01,2, -999.000,9, -999.000,9,     -999,9,   -999.0,9,   -999.0,9,-999.0000,9,  -999.00,  -999.00,9,   -999.0,9,   -999.0,  -999.00,9,   0.00034,2,   -0.001,2,    0.042,2,    0.000,2,  100.035,2
  096U20180111,  SR03,    16,  1,      8,      8,2,20180117,2024,-49.6085, 143.9307, 3654,   2751.0,   1.5440,  34.7369,2,  34.7372,2,    198.9,2,    198.4,2,   101.20,2,    31.23,2,     0.00,2,     2.16,2,    -0.01,2, -999.000,9, -999.000,9,     -999,9,   -999.0,9,   -999.0,9,-999.0000,9,  -999.00,  -999.00,9,   -999.0,9,   -999.0,  -999.00,9,   0.00031,2,   -0.002,2,    0.042,2,    0.000,2,  100.052,2
  096U20180111,  SR03,    16,  1,      7,      7,2,20180117,2024,-49.6085, 143.9307, 3654,   3000.0,   1.3034,  34.7276,2,  34.7278,2,    202.2,2,    201.5,2,   108.20,2,    31.46,2,     0.00,2,     2.18,2,    -0.01,2,    0.159,2,    0.073,2,    -0.01,2,   2259.0,2,   2364.2,6,-999.0000,9,  -999.00,    21.36,2,   -999.0,9,   -999.0,  -999.00,9,   0.00031,2,   -0.002,2,    0.042,2,    0.000,2,  100.060,2
  096U20180111,  SR03,    16,  1,      6,      6,2,20180117,2024,-49.6085, 143.9307, 3654,   2999.8,   1.3031,  34.7275,2,-999.0000,9,    202.2,2,   -999.0,9,  -999.00,9,  -999.00,9,  -999.00,9,  -999.00,9,     -999,9, -999.000,9, -999.000,9,     -999,9,   -999.0,9,   -999.0,9,-999.0000,9,  -999.00,  -999.00,9,   -999.0,9,   -999.0,  -999.00,9,   0.00031,2,   -0.002,2,    0.042,2,    0.000,2,  100.056,2
  096U20180111,  SR03,    16,  1,      5,      5,2,20180117,2024,-49.6085, 143.9307, 3654,   3249.5,   1.1025,  34.7181,2,  34.7180,2,    203.8,2,    203.3,2,   115.50,2,    31.89,2,     0.00,2,     2.21,2,    -0.01,2,    0.162,2,    0.075,2,    -0.03,2,   -999.0,9,   -999.0,9,-999.0000,9,  -999.00,    21.29,2,   -999.0,9,   -999.0,  -999.00,9,   0.00032,2,   -0.001,2,    0.036,2,    0.000,2,  100.036,2
  096U20180111,  SR03,    16,  1,      4,      4,2,20180117,2024,-49.6085, 143.9307, 3654,   3500.7,   1.0709,  34.7156,2,  34.7157,2,    204.4,2,    203.9,2,   117.10,2,    32.05,2,     0.00,2,     2.22,2,    -0.01,2,    0.158,2,    0.073,2,     0.01,2,   2266.1,2,   2369.4,2,-999.0000,9,  -999.00,    19.25,2,   -999.0,9,   -999.0,  -999.00,9,   0.00033,2,    0.000,2,    0.042,2,    0.000,2,  100.011,2
  096U20180111,  SR03,    16,  1,      3,      3,2,20180117,2024,-49.6085, 143.9307, 3654,   3650.3,   1.0715,  34.7150,2,  34.7153,2,    204.6,2,    204.0,2,   117.50,2,    32.05,2,     0.00,2,     2.23,2,    -0.01,2,    0.169,2,    0.083,2,        0,2,   -999.0,9,   -999.0,9,-999.0000,9,  -999.00,    21.04,2,   -999.0,9,   -999.0,  -999.00,9,   0.00036,2,    0.000,2,    0.036,2,    0.000,2,   99.996,2
  096U20180111,  SR03,    16,  1,      2,      2,2,20180117,2024,-49.6085, 143.9307, 3654,   3748.3,   1.0758,  34.7147,2,  34.7143,2,    204.8,2,    203.7,2,   117.70,2,    32.09,2,     0.00,2,     2.23,2,        0,2,    0.159,2,    0.073,2,        0,2,   2264.6,2,   2370.6,2,-999.0000,9,  -999.00,    19.81,2,   -999.0,9,   -999.0,  -999.00,9,   0.00034,2,    0.001,2,    0.042,2,    0.000,2,   99.987,2
  096U20180111,  SR03,    16,  1,      1,      1,2,20180117,2024,-49.6085, 143.9307, 3654,   3748.3,   1.0757,  34.7147,2,-999.0000,9,    204.8,2,   -999.0,9,  -999.00,9,  -999.00,9,  -999.00,9,  -999.00,9,     -999,9, -999.000,9, -999.000,9,     -999,9,   -999.0,9,   -999.0,9,-999.0000,9,  -999.00,  -999.00,9,   -999.0,9,   -999.0,  -999.00,9,   0.00036,2,    0.000,2,    0.042,2,    0.000,2,   99.989,2