BOTTLE,20230418CCHSIOENA
EXPOCODE,SECT_ID,STNNBR,CASTNO,SAMPNO,BTLNBR,BTLNBR_FLAG_W,DATE,TIME,LATITUDE,LONGITUDE,DEPTH,CTDPRS,CTDTMP,CTDSAL,CTDSAL_FLAG_W,SALNTY,SALNTY_FLAG_W,CTDOXY,CTDOXY_FLAG_W,OXYGEN,OXYGEN_FLAG_W,SILCAT,SILCAT_FLAG_W,NITRAT,NITRAT_FLAG_W,NITRIT,NITRIT_FLAG_W,PHSPHT,PHSPHT_FLAG_W,NH4,NH4_FLAG_W,CFC-11,CFC-11_FLAG_W,CFC-12,CFC-12_FLAG_W,SF6,SF6_FLAG_W,TCARBN,TCARBN_FLAG_W,ALKALI,ALKALI_FLAG_W,PH_TOT,PH_TOT_FLAG_W,PH_TMP,N2O,N2O_FLAG_W,DELC14,DELC14_FLAG_W,C14ERR,DELC13,DELC13_FLAG_W,CTDBETA700,CTDBETA700_FLAG_W,CTDBEAMCP,CTDBEAMCP_FLAG_W,CTDFLUOR,CTDFLUOR_FLAG_W,PAR,PAR_FLAG_W,CTDXMISS,CTDXMISS_FLAG_W
,,,,,,,,,,,METERS,DBAR,ITS-90,PSS-78,,PSS-78,,UMOL/KG,,UMOL/KG,,UMOL/KG,,UMOL/KG,,UMOL/KG,,UMOL/KG,,UMOL/KG,,PMOL/KG,,PMOL/KG,,FMOL/KG,,UMOL/KG,,UMOL/KG,,,,DEG C,NMOL/KG,,/MILLE,,/MILLE,/MILLE,,VOLTS,,1/M,,MG/M^3,,UMOL/M^2/SEC,,%TRANS,
  096U20180111,  SR03,    24,  1,     36,     36,2,20180120,1413,-51.8105, 142.8403, 3688,     14.8,   9.1528,  34.1866,2,-999.0000,9,    286.5,2,   -999.0,9,  -999.00,9,  -999.00,9,  -999.00,9,  -999.00,9,     -999,9, -999.000,9, -999.000,9,     -999,9,   -999.0,9,   -999.0,9,-999.0000,9,  -999.00,  -999.00,9,   -999.0,9,   -999.0,  -999.00,9,   0.00265,2,    0.189,2,    1.926,2,    0.426,2,   95.376,2
  096U20180111,  SR03,    24,  1,     35,     35,2,20180120,1413,-51.8105, 142.8403, 3688,     15.1,   9.1509,  34.1864,2,  34.1864,2,    286.6,2,    284.7,2,     1.70,2,    15.00,2,     0.23,2,     1.07,2,     0.18,2,    3.427,2,    1.975,2,     2.65,2,   2101.0,2,   2280.2,2,-999.0000,9,  -999.00,    10.69,2,   -999.0,9,   -999.0,  -999.00,9,   0.00260,2,    0.190,2,    1.902,2,    0.409,2,   95.355,2
  096U20180111,  SR03,    24,  1,     34,     34,2,20180120,1413,-51.8105, 142.8403, 3688,     26.0,   9.1478,  34.1858,2,  34.1860,2,    287.2,2,    284.8,2,     1.70,2,    15.00,2,     0.23,2,     1.07,2,     0.18,2, -999.000,9, -999.000,9,     -999,9,   -999.0,9,   -999.0,9,-999.0000,9,  -999.00,  -999.00,9,   -999.0,9,   -999.0,  -999.00,9,   0.00238,2,    0.189,2,    2.040,2,    0.066,2,   95.393,2
  096U20180111,  SR03,    24,  1,     33,     33,2,20180120,1413,-51.8105, 142.8403, 3688,     50.2,   9.1567,  34.1919,2,  34.1925,2,    288.3,2,    284.5,2,     1.70,2,    15.00,2,     0.22,2,     1.08,2,      0.2,2, -999.000,9, -999.000,9,     -999,9,   -999.0,9,   -999.0,9,-999.0000,9,  -999.00,  -999.00,9,   -999.0,9,   -999.0,  -999.00,9,   0.00242,2,    0.183,2,    1.950,2,    0.000,2,   95.526,2
  096U20180111,  SR03,    24,  1,     32,     32,2,20180120,1413,-51.8105, 142.8403, 3688,     81.4,   8.4647,  34.4325,2,  34.4294,2,    269.3,2,    270.4,2,     3.90,2,    16.59,2,     0.04,2,     1.17,2,        0,2, -999.000,9, -999.000,9,     -999,9,   -999.0,9,   -999.0,9,-999.0000,9,  -999.00,  -999.00,9,   -999.0,9,   -999.0,  -999.00,9,   0.00095,2,    0.029,2,    0.216,2,    0.000,2,   99.273,2
  096U20180111,  SR03,    24,  1,     31,     31,2,20180120,1413,-51.8105, 142.8403, 3688,    121.9,   8.3028,  34.4345,2,  34.4327,2,    269.2,2,    269.8,2,     4.10,2,    16.83,2,     0.02,2,     1.19,2,        0,2, -999.000,9, -999.000,9,     -999,9,   -999.0,9,   -999.0,9,-999.0000,9,  -999.00,  -999.00,9,   -999.0,9,   -999.0,  -999.00,9,   0.00071,2,    0.021,2,    0.060,2,    0.000,2,   99.470,2
  096U20180111,  SR03,    24,  1,     30,     30,2,20180120,1413,-51.8105, 142.8403, 3688,    161.5,   7.9662,  34.3832,2,  34.3826,2,    268.5,2,    269.7,2,     4.50,2,    17.77,2,     0.01,2,     1.25,2,        0,2, -999.000,9, -999.000,9,     -999,9,   -999.0,9,   -999.0,9,-999.0000,9,  -999.00,  -999.00,9,   -999.0,9,   -999.0,  -999.00,9,   0.00065,2,    0.017,2,    0.036,2,    0.000,2,   99.587,2
  096U20180111,  SR03,    24,  1,     29,     29,2,20180120,1413,-51.8105, 142.8403, 3688,    201.9,   7.8892,  34.4002,2,-999.0000,9,    270.3,2,   -999.0,9,  -999.00,9,  -999.00,9,  -999.00,9,  -999.00,9,     -999,9, -999.000,9, -999.000,9,     -999,9,   -999.0,9,   -999.0,9,-999.0000,9,  -999.00,  -999.00,9,   -999.0,9,   -999.0,  -999.00,9,   0.00065,2,    0.013,2,    0.030,2,    0.000,2,   99.675,2
  096U20180111,  SR03,    24,  1,     28,     28,2,20180120,1413,-51.8105, 142.8403, 3688,    201.6,   7.8937,  34.4004,2,  34.3998,2,    270.3,2,    267.8,2,     4.70,2,    17.99,2,     0.01,2,     1.26,2,        0,2,    3.524,2,    1.990,2,     2.88,2,   2131.4,2,   2287.1,2,-999.0000,9,  -999.00,    11.90,2,   -999.0,9,   -999.0,  -999.00,9,   0.00064,2,    0.013,2,    0.036,2,    0.000,2,   99.669,2
  096U20180111,  SR03,    24,  1,     27,     27,2,20180120,1413,-51.8105, 142.8403, 3688,    250.6,   7.4378,  34.3525,2,  34.3525,2,    266.2,2,    271.0,2,     5.10,2,    18.91,2,     0.01,2,     1.32,2,        0,2, -999.000,9, -999.000,9,     -999,9,   -999.0,9,   -999.0,9,-999.0000,9,  -999.00,  -999.00,9,   -999.0,9,   -999.0,  -999.00,9,   0.00050,2,    0.009,2,    0.024,2,    0.000,2,   99.788,2
  096U20180111,  SR03,    24,  1,     26,     26,2,20180120,1413,-51.8105, 142.8403, 3688,    301.3,   7.3276,  34.3640,2,  34.3645,2,    264.4,2,    256.4,2,     6.80,2,    20.46,2,     0.01,2,     1.41,2,        0,2, -999.000,9, -999.000,9,     -999,9,   -999.0,9,   -999.0,9,-999.0000,9,  -999.00,  -999.00,9,   -999.0,9,   -999.0,  -999.00,9,   0.00051,2,    0.008,2,    0.024,2,    0.000,2,   99.793,2
  096U20180111,  SR03,    24,  1,     25,     25,2,20180120,1413,-51.8105, 142.8403, 3688,    400.7,   6.5879,  34.3478,2,  34.3461,2,    250.5,2,    233.6,2,    11.90,2,    24.10,2,     0.01,2,     1.63,2,        0,2, -999.000,9, -999.000,9,     -999,9,   -999.0,9,   -999.0,9,-999.0000,9,  -999.00,  -999.00,9,   -999.0,9,   -999.0,  -999.00,9,   0.00046,2,    0.006,2,    0.030,2,    0.000,2,   99.852,2
  096U20180111,  SR03,    24,  1,     24,     24,2,20180120,1413,-51.8105, 142.8403, 3688,    501.1,   5.5643,  34.3276,2,  34.3273,2,    222.6,2,    218.4,2,    19.20,2,    27.51,2,     0.01,2,     1.86,2,    -0.01,2,    3.027,2,    1.618,2,     1.45,2,   2176.9,2,   2288.8,2,-999.0000,9,  -999.00,    17.25,2,   -999.0,9,   -999.0,  -999.00,9,   0.00048,2,    0.006,2,    0.030,2,    0.000,2,   99.852,2
  096U20180111,  SR03,    24,  1,     23,     23,2,20180120,1413,-51.8105, 142.8403, 3688,    600.5,   4.7725,  34.2871,2,  34.2863,2,    217.2,2,    220.4,2,    23.40,2,    29.04,2,     0.00,2,     1.97,2,    -0.01,2, -999.000,9, -999.000,9,     -999,9,   -999.0,9,   -999.0,9,-999.0000,9,  -999.00,  -999.00,9,   -999.0,9,   -999.0,  -999.00,9,   0.00049,2,    0.006,2,    0.036,2,    0.000,2,   99.863,2
  096U20180111,  SR03,    24,  1,     22,     22,2,20180120,1413,-51.8105, 142.8403, 3688,    701.1,   4.2218,  34.2902,2,  34.2901,2,    213.9,2,    215.3,2,    29.40,2,    30.42,2,     0.00,2,     2.07,2,    -0.01,2, -999.000,9, -999.000,9,     -999,9,   -999.0,9,   -999.0,9,-999.0000,9,  -999.00,  -999.00,9,   -999.0,9,   -999.0,  -999.00,9,   0.00045,2,    0.004,2,    0.036,2,    0.000,2,   99.902,2
  096U20180111,  SR03,    24,  1,     21,     21,2,20180120,1413,-51.8105, 142.8403, 3688,    800.8,   3.5694,  34.2951,2,  34.2949,2,    211.4,2,    210.2,2,    37.00,2,    31.87,2,     0.00,2,     2.18,2,    -0.01,2,    2.528,2,    1.325,2,     0.95,2,   2207.1,6,   2301.8,6,-999.0000,9,  -999.00,    19.96,2,   -999.0,9,   -999.0,  -999.00,9,   0.00040,2,    0.003,2,    0.036,2,    0.000,2,   99.922,2
  096U20180111,  SR03,    24,  1,     20,     20,2,20180120,1413,-51.8105, 142.8403, 3688,    901.2,   3.2630,  34.3475,2,  34.3512,2,    198.1,2,    197.5,2,    45.60,2,    33.03,2,     0.00,2,     2.27,2,        0,2, -999.000,9, -999.000,9,     -999,9,   -999.0,9,   -999.0,9,-999.0000,9,  -999.00,  -999.00,9,   -999.0,9,   -999.0,  -999.00,9,   0.00040,2,    0.003,2,    0.036,2,    0.000,2,   99.929,2
  096U20180111,  SR03,    24,  1,     19,     19,2,20180120,1413,-51.8105, 142.8403, 3688,   1000.8,   2.9909,  34.3943,2,  34.3933,2,    187.1,2,    188.6,2,    52.90,2,    33.74,2,     0.00,2,     2.31,2,    -0.01,2, -999.000,9, -999.000,9,     -999,9,   -999.0,9,   -999.0,9,-999.0000,9,  -999.00,  -999.00,9,   -999.0,9,   -999.0,  -999.00,9,   0.00039,2,    0.003,2,    0.036,2,    0.000,2,   99.929,2
  096U20180111,  SR03,    24,  1,     18,     18,2,20180120,1413,-51.8105, 142.8403, 3688,   1102.6,   2.8422,  34.4501,2,  34.4497,2,    180.1,2,    180.7,2,    59.20,2,    34.06,2,     0.01,2,     2.34,2,    -0.01,2,    1.287,2,    0.655,2,     0.66,2,   -999.0,9,   -999.0,9,-999.0000,9,  -999.00,    22.58,2,   -999.0,9,   -999.0,  -999.00,9,   0.00039,2,    0.003,2,    0.036,2,    0.000,2,   99.933,2
  096U20180111,  SR03,    24,  1,     17,     17,2,20180120,1413,-51.8105, 142.8403, 3688,   1221.4,   2.7198,  34.5217,2,-999.0000,9,    173.3,2,   -999.0,9,  -999.00,9,  -999.00,9,  -999.00,9,  -999.00,9,     -999,9, -999.000,9, -999.000,9,     -999,9,   -999.0,9,   -999.0,9,-999.0000,9,  -999.00,  -999.00,9,   -999.0,9,   -999.0,  -999.00,9,   0.00036,2,    0.002,2,    0.036,2,    0.000,2,   99.962,2
  096U20180111,  SR03,    24,  1,     16,     16,2,20180120,1413,-51.8105, 142.8403, 3688,   1250.0,   2.7107,  34.5283,2,  34.5273,2,    172.8,2,    174.1,2,    65.90,2,    33.95,2,     0.01,2,     2.33,2,    -0.01,2,    0.832,2,    0.421,2,      0.4,2,   -999.0,9,   -999.0,9,-999.0000,9,  -999.00,    22.46,2,   -999.0,9,   -999.0,  -999.00,9,   0.00036,2,    0.002,2,    0.042,2,    0.000,2,   99.963,2
  096U20180111,  SR03,    24,  1,     15,     15,2,20180120,1413,-51.8105, 142.8403, 3688,   1400.6,   2.5642,  34.5898,2,  34.5891,2,    172.6,2,    173.1,2,    70.40,2,    33.48,2,     0.00,2,     2.30,2,    -0.01,2,    0.372,2,    0.186,2,     0.33,2,   -999.0,9,   -999.0,9,-999.0000,9,  -999.00,    21.10,2,   -999.0,9,   -999.0,  -999.00,9,   0.00036,2,    0.001,2,    0.036,2,    0.000,2,   99.969,2
  096U20180111,  SR03,    24,  1,     14,     14,2,20180120,1413,-51.8105, 142.8403, 3688,   1600.6,   2.4392,  34.6630,2,  34.6623,2,    176.8,2,    177.3,2,    74.30,2,    32.33,2,     0.00,2,     2.23,2,    -0.01,2, -999.000,9, -999.000,9,     -999,9,   2250.1,2,   2342.4,2,-999.0000,9,  -999.00,  -999.00,9,   -999.0,9,   -999.0,  -999.00,9,   0.00036,2,    0.001,2,    0.042,2,    0.000,2,   99.966,2
  096U20180111,  SR03,    24,  1,     13,     13,2,20180120,1413,-51.8105, 142.8403, 3688,   1799.1,   2.3148,  34.7076,2,  34.7071,2,    183.1,2,    183.2,2,    77.40,2,    31.32,2,     0.01,2,     2.16,2,    -0.01,2, -999.000,9, -999.000,9,     -999,9,   -999.0,9,   -999.0,9,-999.0000,9,  -999.00,  -999.00,9,   -999.0,9,   -999.0,  -999.00,9,   0.00035,2,    0.001,2,    0.042,2,    0.000,2,   99.985,2
  096U20180111,  SR03,    24,  1,     12,     12,2,20180120,1413,-51.8105, 142.8403, 3688,   1999.4,   2.1730,  34.7328,2,-999.0000,9,    189.6,2,   -999.0,9,  -999.00,9,  -999.00,9,  -999.00,9,  -999.00,9,     -999,9, -999.000,9, -999.000,9,     -999,9,   -999.0,9,   -999.0,9,-999.0000,9,  -999.00,  -999.00,9,   -999.0,9,   -999.0,  -999.00,9,   0.00034,2,    0.000,2,    0.042,2,    0.000,2,  100.003,2
  096U20180111,  SR03,    24,  1,     11,     11,2,20180120,1413,-51.8105, 142.8403, 3688,   1999.2,   2.1726,  34.7327,2,  34.7385,4,    189.6,2,    190.8,2,    85.00,2,    30.66,2,     0.00,2,     2.11,2,    -0.01,2,    0.163,2,    0.078,2,     0.05,2,   2250.6,2,   2354.4,2,-999.0000,9,  -999.00,    19.34,2,   -999.0,9,   -999.0,  -999.00,9,   0.00034,2,    0.000,2,    0.042,2,    0.000,2,  100.001,2
  096U20180111,  SR03,    24,  1,     10,     10,2,20180120,1413,-51.8105, 142.8403, 3688,   2200.7,   2.0382,  34.7424,2,  34.7576,4,    191.8,2,    190.9,2,    86.10,2,    30.65,2,     0.00,2,     2.11,2,    -0.01,2, -999.000,9, -999.000,9,     -999,9,   -999.0,9,   -999.0,9,-999.0000,9,  -999.00,  -999.00,9,   -999.0,9,   -999.0,  -999.00,9,   0.00033,2,   -0.001,2,    0.042,2,    0.000,2,  100.018,2
  096U20180111,  SR03,    24,  1,      9,      9,2,20180120,1413,-51.8105, 142.8403, 3688,   2399.1,   1.8545,  34.7441,2,  34.7440,2,    194.8,2,    193.4,2,    91.50,2,    30.67,2,     0.00,2,     2.12,2,    -0.01,2, -999.000,5, -999.000,5,     -999,5,   -999.0,9,   -999.0,9,-999.0000,9,  -999.00,  -999.00,5,   -999.0,9,   -999.0,  -999.00,9,   0.00032,2,   -0.001,2,    0.042,2,    0.000,2,  100.023,2
  096U20180111,  SR03,    24,  1,      8,      8,2,20180120,1413,-51.8105, 142.8403, 3688,   2601.5,   1.6771,  34.7415,2,  34.7415,2,    198.6,2,    197.3,2,    91.70,2,    30.73,2,     0.00,2,     2.12,2,    -0.01,2, -999.000,9, -999.000,9,     -999,9,   -999.0,9,   -999.0,9,-999.0000,9,  -999.00,  -999.00,9,   -999.0,9,   -999.0,  -999.00,9,   0.00031,2,   -0.002,2,    0.042,2,    0.000,2,  100.038,2
  096U20180111,  SR03,    24,  1,      7,      7,2,20180120,1413,-51.8105, 142.8403, 3688,   2801.6,   1.4836,  34.7357,2,  34.7355,2,    202.2,2,    201.1,2,   100.50,2,    30.86,2,     0.01,2,     2.13,2,    -0.01,2,    0.169,2,    0.075,2,     0.07,2,   2253.7,2,   2360.3,2,-999.0000,9,  -999.00,    18.36,2,   -999.0,9,   -999.0,  -999.00,9,   0.00029,2,   -0.002,2,    0.036,2,    0.000,2,  100.042,2
  096U20180111,  SR03,    24,  1,      6,      6,2,20180120,1413,-51.8105, 142.8403, 3688,   3000.9,   1.2855,  34.7266,2,  34.7266,2,    202.7,2,    201.4,2,   108.00,2,    31.06,2,     0.00,2,     2.17,2,    -0.01,2,    0.159,2,    0.078,2,     0.02,2,   -999.0,9,   -999.0,9,-999.0000,9,  -999.00,    18.49,2,   -999.0,9,   -999.0,  -999.00,9,   0.00030,2,   -0.001,2,    0.042,2,    0.000,2,  100.027,2
  096U20180111,  SR03,    24,  1,      5,      5,2,20180120,1413,-51.8105, 142.8403, 3688,   3201.4,   1.1460,  34.7199,2,  34.7206,2,    204.0,2,    203.0,2,   113.00,2,    31.58,2,     0.00,2,     2.19,2,    -0.01,2, -999.000,9, -999.000,9,     -999,9,   -999.0,9,   -999.0,9,-999.0000,9,  -999.00,  -999.00,9,   -999.0,9,   -999.0,  -999.00,9,   0.00031,2,    0.000,2,    0.042,2,    0.000,2,  100.008,2
  096U20180111,  SR03,    24,  1,      4,      4,2,20180120,1413,-51.8105, 142.8403, 3688,   3451.1,   1.0404,  34.7142,2,  34.7137,2,    205.6,2,    205.4,2,   116.40,2,    31.72,2,     0.00,2,     2.20,2,    -0.01,2,    0.224,2,    0.107,2,     0.06,2,   2262.5,2,   2368.0,2,-999.0000,9,  -999.00,    18.29,2,   -999.0,9,   -999.0,  -999.00,9,   0.00037,2,    0.002,2,    0.042,2,    0.000,2,   99.958,2
  096U20180111,  SR03,    24,  1,      3,      3,2,20180120,1413,-51.8105, 142.8403, 3688,   3672.0,   1.0438,  34.7133,2,  34.7132,2,    206.1,2,    205.6,2,   116.80,2,    31.73,2,     0.00,2,     2.20,2,    -0.01,2,    0.240,2,    0.115,2,     0.02,2,   -999.0,9,   -999.0,9,-999.0000,9,  -999.00,    18.57,2,   -999.0,9,   -999.0,  -999.00,9,   0.00037,2,    0.003,2,    0.036,2,    0.000,2,   99.935,2
  096U20180111,  SR03,    24,  1,      2,      2,2,20180120,1413,-51.8105, 142.8403, 3688,   3742.3,   1.0493,  34.7132,2,-999.0000,9,    206.2,2,   -999.0,9,  -999.00,9,  -999.00,9,  -999.00,9,  -999.00,9,     -999,9, -999.000,9, -999.000,9,     -999,9,   -999.0,9,   -999.0,9,-999.0000,9,  -999.00,  -999.00,9,   -999.0,9,   -999.0,  -999.00,9,   0.00039,2,    0.003,2,    0.042,2,    0.000,2,   99.929,2
  096U20180111,  SR03,    24,  1,      1,      1,2,20180120,1413,-51.8105, 142.8403, 3688,   3742.5,   1.0494,  34.7131,2,  34.7136,2,    206.2,2,    205.5,2,   117.00,2,    31.70,2,     0.00,2,     2.20,2,    -0.01,2,    0.243,2,    0.112,2,     0.06,2,   2260.7,2,   2367.7,2,-999.0000,9,  -999.00,    18.20,2,   -999.0,9,   -999.0,  -999.00,9,   0.00040,2,    0.002,2,    0.042,2,    0.000,2,   99.937,2