BOTTLE,20230418CCHSIOENA
EXPOCODE,SECT_ID,STNNBR,CASTNO,SAMPNO,BTLNBR,BTLNBR_FLAG_W,DATE,TIME,LATITUDE,LONGITUDE,DEPTH,CTDPRS,CTDTMP,CTDSAL,CTDSAL_FLAG_W,SALNTY,SALNTY_FLAG_W,CTDOXY,CTDOXY_FLAG_W,OXYGEN,OXYGEN_FLAG_W,SILCAT,SILCAT_FLAG_W,NITRAT,NITRAT_FLAG_W,NITRIT,NITRIT_FLAG_W,PHSPHT,PHSPHT_FLAG_W,NH4,NH4_FLAG_W,CFC-11,CFC-11_FLAG_W,CFC-12,CFC-12_FLAG_W,SF6,SF6_FLAG_W,TCARBN,TCARBN_FLAG_W,ALKALI,ALKALI_FLAG_W,PH_TOT,PH_TOT_FLAG_W,PH_TMP,N2O,N2O_FLAG_W,DELC14,DELC14_FLAG_W,C14ERR,DELC13,DELC13_FLAG_W,CTDBETA700,CTDBETA700_FLAG_W,CTDBEAMCP,CTDBEAMCP_FLAG_W,CTDFLUOR,CTDFLUOR_FLAG_W,PAR,PAR_FLAG_W,CTDXMISS,CTDXMISS_FLAG_W
,,,,,,,,,,,METERS,DBAR,ITS-90,PSS-78,,PSS-78,,UMOL/KG,,UMOL/KG,,UMOL/KG,,UMOL/KG,,UMOL/KG,,UMOL/KG,,UMOL/KG,,PMOL/KG,,PMOL/KG,,FMOL/KG,,UMOL/KG,,UMOL/KG,,,,DEG C,NMOL/KG,,/MILLE,,/MILLE,/MILLE,,VOLTS,,1/M,,MG/M^3,,UMOL/M^2/SEC,,%TRANS,
  096U20180111,  SR03,    95,  1,     36,     36,2,20180212,2029,-64.9793, 132.0645,  292,      7.9,  -1.0202,  33.6792,2,  33.6791,2,    345.5,2,    347.5,2,    50.00,2,    25.72,2,     0.13,2,     1.83,2,     0.91,2,    5.863,2,    3.026,2,     3.36,2,   2156.3,2,   2281.9,2,-999.0000,9,  -999.00,    16.56,2,   -999.0,9,   -999.0,  -999.00,9,   0.00112,2,    0.136,2,    0.810,2,   24.100,2,   96.656,2
  096U20180111,  SR03,    95,  1,     35,     35,2,20180212,2029,-64.9793, 132.0645,  292,      7.9,  -1.0204,  33.6791,2,-999.0000,9,    345.5,2,   -999.0,9,  -999.00,9,  -999.00,9,  -999.00,9,  -999.00,9,     -999,9, -999.000,9, -999.000,9,     -999,9,   -999.0,9,   -999.0,9,-999.0000,9,  -999.00,  -999.00,9,   -999.0,9,   -999.0,  -999.00,9,   0.00108,2,    0.136,2,    0.780,2,   23.900,2,   96.665,2
  096U20180111,  SR03,    95,  1,     34,     34,2,20180212,2029,-64.9793, 132.0645,  292,     39.6,  -1.0895,  33.7357,2,  33.7441,2,    347.6,2,    345.4,2,    50.60,2,    26.02,2,     0.13,2,     1.86,2,      0.9,2, -999.000,9, -999.000,9,     -999,9,   2162.0,2,   2284.0,2,-999.0000,9,  -999.00,  -999.00,9,   -999.0,9,   -999.0,  -999.00,9,   0.00103,2,    0.128,2,    0.762,2,    2.700,2,   96.861,2
  096U20180111,  SR03,    95,  1,     33,     33,2,20180212,2029,-64.9793, 132.0645,  292,     39.5,  -1.0913,  33.7365,2,-999.0000,9,    347.6,2,   -999.0,9,  -999.00,9,  -999.00,9,  -999.00,9,  -999.00,9,     -999,9, -999.000,9, -999.000,9,     -999,9,   -999.0,9,   -999.0,9,-999.0000,9,  -999.00,  -999.00,9,   -999.0,9,   -999.0,  -999.00,9,   0.00102,2,    0.129,2,    0.756,2,    2.720,2,   96.827,2
  096U20180111,  SR03,    95,  1,     32,     32,2,20180212,2029,-64.9793, 132.0645,  292,     91.2,  -1.6862,  34.1443,2,  34.1490,2,    328.1,2,    328.0,2,    55.50,2,    28.70,2,     0.11,2,     2.05,2,     0.68,2,    5.368,2,    2.869,2,     3.02,2,   2200.3,2,   2311.2,2,-999.0000,9,  -999.00,    17.58,2,   -999.0,9,   -999.0,  -999.00,9,   0.00064,2,    0.044,2,    0.408,2,    0.229,2,   98.898,2
  096U20180111,  SR03,    95,  1,     31,     31,2,20180212,2029,-64.9793, 132.0645,  292,     91.2,  -1.6869,  34.1448,2,-999.0000,9,    328.1,2,   -999.0,9,  -999.00,9,  -999.00,9,  -999.00,9,  -999.00,9,     -999,9, -999.000,9, -999.000,9,     -999,9,   -999.0,9,   -999.0,9,-999.0000,9,  -999.00,  -999.00,9,   -999.0,9,   -999.0,  -999.00,9,   0.00065,2,    0.044,2,    0.444,2,    0.227,2,   98.899,2
  096U20180111,  SR03,    95,  1,     30,     30,2,20180212,2029,-64.9793, 132.0645,  292,    121.5,  -1.7850,  34.2287,2,  34.2294,2,    319.7,2,    319.2,2,    56.90,2,    30.02,2,     0.12,2,     2.10,2,     0.12,2,    5.212,2,    2.734,2,     2.95,2,   2209.9,6,   2315.3,6,-999.0000,9,  -999.00,    18.08,2,   -999.0,9,   -999.0,  -999.00,9,   0.00045,2,    0.015,2,    0.180,2,    0.053,2,   99.615,2
  096U20180111,  SR03,    95,  1,     29,     29,2,20180212,2029,-64.9793, 132.0645,  292,    121.5,  -1.7843,  34.2293,2,-999.0000,9,    319.7,2,   -999.0,9,  -999.00,9,  -999.00,9,  -999.00,9,  -999.00,9,     -999,9, -999.000,9, -999.000,9,     -999,9,   -999.0,9,   -999.0,9,-999.0000,9,  -999.00,  -999.00,9,   -999.0,9,   -999.0,  -999.00,9,   0.00047,2,    0.016,2,    0.186,2,    0.052,2,   99.609,2
  096U20180111,  SR03,    95,  1,     28,     28,2,20180212,2029,-64.9793, 132.0645,  292,    121.5,  -1.7842,  34.2296,2,-999.0000,9,    319.7,2,   -999.0,9,  -999.00,9,  -999.00,9,  -999.00,9,  -999.00,9,     -999,9, -999.000,9, -999.000,9,     -999,9,   -999.0,9,   -999.0,9,-999.0000,9,  -999.00,  -999.00,9,   -999.0,9,   -999.0,  -999.00,9,   0.00048,2,    0.016,2,    0.180,2,    0.051,2,   99.596,2
  096U20180111,  SR03,    95,  1,     27,     27,2,20180212,2029,-64.9793, 132.0645,  292,    121.5,  -1.7843,  34.2298,2,-999.0000,9,    319.7,2,   -999.0,9,  -999.00,9,  -999.00,9,  -999.00,9,  -999.00,9,     -999,9, -999.000,9, -999.000,9,     -999,9,   -999.0,9,   -999.0,9,-999.0000,9,  -999.00,  -999.00,9,   -999.0,9,   -999.0,  -999.00,9,   0.00047,2,    0.016,2,    0.174,2,    0.052,2,   99.592,2
  096U20180111,  SR03,    95,  1,     26,     26,2,20180212,2029,-64.9793, 132.0645,  292,    121.4,  -1.7843,  34.2298,2,-999.0000,9,    319.7,2,   -999.0,9,  -999.00,9,  -999.00,9,  -999.00,9,  -999.00,9,     -999,9, -999.000,9, -999.000,9,     -999,9,   -999.0,9,   -999.0,9,-999.0000,9,  -999.00,  -999.00,9,   -999.0,9,   -999.0,  -999.00,9,   0.00046,2,    0.015,2,    0.168,2,    0.050,2,   99.628,2
  096U20180111,  SR03,    95,  1,     25,     25,2,20180212,2029,-64.9793, 132.0645,  292,    121.4,  -1.7843,  34.2296,2,-999.0000,9,    319.7,2,   -999.0,9,  -999.00,9,  -999.00,9,  -999.00,9,  -999.00,9,     -999,9, -999.000,9, -999.000,9,     -999,9,   -999.0,9,   -999.0,9,-999.0000,9,  -999.00,  -999.00,9,   -999.0,9,   -999.0,  -999.00,9,   0.00046,2,    0.015,2,    0.168,2,    0.047,2,   99.619,2
  096U20180111,  SR03,    95,  1,     24,     24,2,20180212,2029,-64.9793, 132.0645,  292,    121.4,  -1.7842,  34.2299,2,-999.0000,9,    319.7,2,   -999.0,9,  -999.00,9,  -999.00,9,  -999.00,9,  -999.00,9,     -999,9, -999.000,9, -999.000,9,     -999,9,   -999.0,9,   -999.0,9,-999.0000,9,  -999.00,  -999.00,9,   -999.0,9,   -999.0,  -999.00,9,   0.00046,2,    0.015,2,    0.168,2,    0.046,2,   99.624,2
  096U20180111,  SR03,    95,  1,     23,     23,2,20180212,2029,-64.9793, 132.0645,  292,    121.4,  -1.7835,  34.2307,2,-999.0000,9,    319.7,2,   -999.0,9,  -999.00,9,  -999.00,9,  -999.00,9,  -999.00,9,     -999,9, -999.000,9, -999.000,9,     -999,9,   -999.0,9,   -999.0,9,-999.0000,9,  -999.00,  -999.00,9,   -999.0,9,   -999.0,  -999.00,9,   0.00047,2,    0.015,2,    0.168,2,    0.045,2,   99.624,2
  096U20180111,  SR03,    95,  1,     22,     22,2,20180212,2029,-64.9793, 132.0645,  292,    121.3,  -1.7810,  34.2333,2,-999.0000,9,    319.7,2,   -999.0,9,  -999.00,9,  -999.00,9,  -999.00,9,  -999.00,9,     -999,9, -999.000,9, -999.000,9,     -999,9,   -999.0,9,   -999.0,9,-999.0000,9,  -999.00,  -999.00,9,   -999.0,9,   -999.0,  -999.00,9,   0.00049,2,    0.015,2,    0.186,2,    0.046,2,   99.631,2
  096U20180111,  SR03,    95,  1,     21,     21,2,20180212,2029,-64.9793, 132.0645,  292,    121.3,  -1.7797,  34.2350,2,-999.0000,9,    319.7,2,   -999.0,9,  -999.00,9,  -999.00,9,  -999.00,9,  -999.00,9,     -999,9, -999.000,9, -999.000,9,     -999,9,   -999.0,9,   -999.0,9,-999.0000,9,  -999.00,  -999.00,9,   -999.0,9,   -999.0,  -999.00,9,   0.00047,2,    0.015,2,    0.186,2,    0.047,2,   99.634,2
  096U20180111,  SR03,    95,  1,     20,     20,2,20180212,2029,-64.9793, 132.0645,  292,    161.0,  -1.7565,  34.2677,2,  34.2726,2,    313.8,2,    314.0,2,    59.60,2,    30.49,2,     0.07,2,     2.11,2,     0.03,2,    5.017,2,    2.640,2,     2.68,2,   2215.4,2,   2319.6,6,-999.0000,9,  -999.00,    17.91,2,   -999.0,9,   -999.0,  -999.00,9,   0.00041,2,    0.009,2,    0.108,2,    0.000,2,   99.762,2
  096U20180111,  SR03,    95,  1,     19,     19,2,20180212,2029,-64.9793, 132.0645,  292,    161.0,  -1.7571,  34.2673,2,-999.0000,9,    313.8,2,   -999.0,9,  -999.00,9,  -999.00,9,  -999.00,9,  -999.00,9,     -999,9, -999.000,9, -999.000,9,     -999,9,   -999.0,9,   -999.0,9,-999.0000,9,  -999.00,  -999.00,9,   -999.0,9,   -999.0,  -999.00,9,   0.00041,2,    0.009,2,    0.108,2,    0.000,2,   99.766,2
  096U20180111,  SR03,    95,  1,     18,     18,2,20180212,2029,-64.9793, 132.0645,  292,    161.0,  -1.7533,  34.2690,2,-999.0000,9,    313.8,2,   -999.0,9,  -999.00,9,  -999.00,9,  -999.00,9,  -999.00,9,     -999,9, -999.000,9, -999.000,9,     -999,9,   -999.0,9,   -999.0,9,-999.0000,9,  -999.00,  -999.00,9,   -999.0,9,   -999.0,  -999.00,9,   0.00043,2,    0.009,2,    0.108,2,    0.000,2,   99.764,2
  096U20180111,  SR03,    95,  1,     17,     17,2,20180212,2029,-64.9793, 132.0645,  292,    160.9,  -1.7517,  34.2700,2,-999.0000,9,    313.8,2,   -999.0,9,  -999.00,9,  -999.00,9,  -999.00,9,  -999.00,9,     -999,9, -999.000,9, -999.000,9,     -999,9,   -999.0,9,   -999.0,9,-999.0000,9,  -999.00,  -999.00,9,   -999.0,9,   -999.0,  -999.00,9,   0.00043,2,    0.009,2,    0.108,2,    0.000,2,   99.762,2
  096U20180111,  SR03,    95,  1,     16,     16,2,20180212,2029,-64.9793, 132.0645,  292,    160.9,  -1.7504,  34.2707,2,-999.0000,9,    313.8,2,   -999.0,9,  -999.00,9,  -999.00,9,  -999.00,9,  -999.00,9,     -999,9, -999.000,9, -999.000,9,     -999,9,   -999.0,9,   -999.0,9,-999.0000,9,  -999.00,  -999.00,9,   -999.0,9,   -999.0,  -999.00,9,   0.00042,2,    0.009,2,    0.108,2,    0.000,2,   99.775,2
  096U20180111,  SR03,    95,  1,     15,     15,2,20180212,2029,-64.9793, 132.0645,  292,    160.9,  -1.7513,  34.2704,2,-999.0000,9,    313.8,2,   -999.0,9,  -999.00,9,  -999.00,9,  -999.00,9,  -999.00,9,     -999,9, -999.000,9, -999.000,9,     -999,9,   -999.0,9,   -999.0,9,-999.0000,9,  -999.00,  -999.00,9,   -999.0,9,   -999.0,  -999.00,9,   0.00043,2,    0.009,2,    0.108,2,    0.000,2,   99.772,2
  096U20180111,  SR03,    95,  1,     14,     14,2,20180212,2029,-64.9793, 132.0645,  292,    160.8,  -1.7499,  34.2707,2,-999.0000,9,    313.8,2,   -999.0,9,  -999.00,9,  -999.00,9,  -999.00,9,  -999.00,9,     -999,9, -999.000,9, -999.000,9,     -999,9,   -999.0,9,   -999.0,9,-999.0000,9,  -999.00,  -999.00,9,   -999.0,9,   -999.0,  -999.00,9,   0.00042,2,    0.009,2,    0.096,2,    0.000,2,   99.773,2
  096U20180111,  SR03,    95,  1,     13,     13,2,20180212,2029,-64.9793, 132.0645,  292,    160.8,  -1.7366,  34.2777,2,-999.0000,9,    313.8,2,   -999.0,9,  -999.00,9,  -999.00,9,  -999.00,9,  -999.00,9,     -999,9, -999.000,9, -999.000,9,     -999,9,   -999.0,9,   -999.0,9,-999.0000,9,  -999.00,  -999.00,9,   -999.0,9,   -999.0,  -999.00,9,   0.00042,2,    0.009,2,    0.096,2,    0.000,2,   99.781,2
  096U20180111,  SR03,    95,  1,     12,     12,2,20180212,2029,-64.9793, 132.0645,  292,    230.0,  -1.4754,  34.4046,2,  34.4034,2,    301.8,2,    300.8,2,    67.30,2,    31.00,2,     0.03,2,     2.16,2,    -0.02,2,    4.565,2,    2.442,2,     2.64,2,   2227.4,2,   2325.5,2,-999.0000,9,  -999.00,    18.61,2,   -999.0,9,   -999.0,  -999.00,9,   0.00051,2,    0.012,2,    0.060,2,    0.000,2,   99.711,2
  096U20180111,  SR03,    95,  1,     11,     11,2,20180212,2029,-64.9793, 132.0645,  292,    230.0,  -1.4750,  34.4045,2,-999.0000,9,    301.8,2,   -999.0,9,  -999.00,9,  -999.00,9,  -999.00,9,  -999.00,9,     -999,9, -999.000,9, -999.000,9,     -999,9,   -999.0,9,   -999.0,9,-999.0000,9,  -999.00,  -999.00,9,   -999.0,9,   -999.0,  -999.00,9,   0.00048,2,    0.011,2,    0.054,2,    0.000,2,   99.722,2
  096U20180111,  SR03,    95,  1,     10,     10,2,20180212,2029,-64.9793, 132.0645,  292,    230.0,  -1.4751,  34.4047,2,-999.0000,9,    301.8,2,   -999.0,9,  -999.00,9,  -999.00,9,  -999.00,9,  -999.00,9,     -999,9, -999.000,9, -999.000,9,     -999,9,   -999.0,9,   -999.0,9,-999.0000,9,  -999.00,  -999.00,9,   -999.0,9,   -999.0,  -999.00,9,   0.00049,2,    0.011,2,    0.054,2,    0.000,2,   99.729,2
  096U20180111,  SR03,    95,  1,      9,      9,2,20180212,2029,-64.9793, 132.0645,  292,    230.0,  -1.4750,  34.4047,2,-999.0000,9,    301.8,2,   -999.0,9,  -999.00,9,  -999.00,9,  -999.00,9,  -999.00,9,     -999,9, -999.000,9, -999.000,9,     -999,9,   -999.0,9,   -999.0,9,-999.0000,9,  -999.00,  -999.00,9,   -999.0,9,   -999.0,  -999.00,9,   0.00051,2,    0.011,2,    0.054,2,    0.000,2,   99.726,2
  096U20180111,  SR03,    95,  1,      8,      8,2,20180212,2029,-64.9793, 132.0645,  292,    230.0,  -1.4750,  34.4047,2,-999.0000,9,    301.8,2,   -999.0,9,  -999.00,9,  -999.00,9,  -999.00,9,  -999.00,9,     -999,9, -999.000,9, -999.000,9,     -999,9,   -999.0,9,   -999.0,9,-999.0000,9,  -999.00,  -999.00,9,   -999.0,9,   -999.0,  -999.00,9,   0.00049,2,    0.011,2,    0.060,2,    0.000,2,   99.725,2
  096U20180111,  SR03,    95,  1,      7,      7,2,20180212,2029,-64.9793, 132.0645,  292,    230.0,  -1.4750,  34.4048,2,-999.0000,9,    301.8,2,   -999.0,9,  -999.00,9,  -999.00,9,  -999.00,9,  -999.00,9,     -999,9, -999.000,9, -999.000,9,     -999,9,   -999.0,9,   -999.0,9,-999.0000,9,  -999.00,  -999.00,9,   -999.0,9,   -999.0,  -999.00,9,   0.00048,2,    0.011,2,    0.054,2,    0.000,2,   99.715,2
  096U20180111,  SR03,    95,  1,      6,      6,2,20180212,2029,-64.9793, 132.0645,  292,    229.9,  -1.4752,  34.4047,2,-999.0000,9,    301.8,2,   -999.0,9,  -999.00,9,  -999.00,9,  -999.00,9,  -999.00,9,     -999,9, -999.000,9, -999.000,9,     -999,9,   -999.0,9,   -999.0,9,-999.0000,9,  -999.00,  -999.00,9,   -999.0,9,   -999.0,  -999.00,9,   0.00049,2,    0.011,2,    0.060,2,    0.000,2,   99.722,2
  096U20180111,  SR03,    95,  1,      5,      5,2,20180212,2029,-64.9793, 132.0645,  292,    229.9,  -1.4757,  34.4049,2,-999.0000,9,    301.8,2,   -999.0,9,  -999.00,9,  -999.00,9,  -999.00,9,  -999.00,9,     -999,9, -999.000,9, -999.000,9,     -999,9,   -999.0,9,   -999.0,9,-999.0000,9,  -999.00,  -999.00,9,   -999.0,9,   -999.0,  -999.00,9,   0.00049,2,    0.011,2,    0.054,2,    0.000,2,   99.725,2
  096U20180111,  SR03,    95,  1,      4,      4,2,20180212,2029,-64.9793, 132.0645,  292,    284.7,  -1.5997,  34.4473,2,  34.4479,2,    307.9,2,    308.9,2,    67.60,2,    31.10,2,     0.05,2,     2.16,2,        0,2,    4.891,2,    2.573,2,     2.81,2,   2229.8,2,   2331.7,2,-999.0000,9,  -999.00,    18.29,2,   -999.0,9,   -999.0,  -999.00,9,   0.00065,2,    0.020,2,    0.072,2,    0.000,2,   99.507,2
  096U20180111,  SR03,    95,  1,      3,      3,2,20180212,2029,-64.9793, 132.0645,  292,    284.7,  -1.5998,  34.4474,2,-999.0000,9,    307.9,2,   -999.0,9,  -999.00,9,  -999.00,9,  -999.00,9,  -999.00,9,     -999,9, -999.000,9, -999.000,9,     -999,9,   -999.0,9,   -999.0,9,-999.0000,9,  -999.00,  -999.00,9,   -999.0,9,   -999.0,  -999.00,9,   0.00067,2,    0.020,2,    0.072,2,    0.000,2,   99.510,2
  096U20180111,  SR03,    95,  1,      2,      2,2,20180212,2029,-64.9793, 132.0645,  292,    284.7,  -1.6000,  34.4473,2,-999.0000,9,    307.9,2,   -999.0,9,  -999.00,9,  -999.00,9,  -999.00,9,  -999.00,9,     -999,9, -999.000,9, -999.000,9,     -999,9,   -999.0,9,   -999.0,9,-999.0000,9,  -999.00,  -999.00,9,   -999.0,9,   -999.0,  -999.00,9,   0.00067,2,    0.020,2,    0.084,2,    0.000,2,   99.498,2
  096U20180111,  SR03,    95,  1,      1,      1,2,20180212,2029,-64.9793, 132.0645,  292,    284.7,  -1.6001,  34.4473,2,-999.0000,9,    307.9,2,   -999.0,9,  -999.00,9,  -999.00,9,  -999.00,9,  -999.00,9,     -999,9, -999.000,9, -999.000,9,     -999,9,   -999.0,9,   -999.0,9,-999.0000,9,  -999.00,  -999.00,9,   -999.0,9,   -999.0,  -999.00,9,   0.00069,2,    0.020,2,    0.078,2,    0.000,2,   99.495,2