BOTTLE,20230418CCHSIOENA
EXPOCODE,SECT_ID,STNNBR,CASTNO,SAMPNO,BTLNBR,BTLNBR_FLAG_W,DATE,TIME,LATITUDE,LONGITUDE,DEPTH,CTDPRS,CTDTMP,CTDSAL,CTDSAL_FLAG_W,SALNTY,SALNTY_FLAG_W,CTDOXY,CTDOXY_FLAG_W,OXYGEN,OXYGEN_FLAG_W,SILCAT,SILCAT_FLAG_W,NITRAT,NITRAT_FLAG_W,NITRIT,NITRIT_FLAG_W,PHSPHT,PHSPHT_FLAG_W,NH4,NH4_FLAG_W,CFC-11,CFC-11_FLAG_W,CFC-12,CFC-12_FLAG_W,SF6,SF6_FLAG_W,TCARBN,TCARBN_FLAG_W,ALKALI,ALKALI_FLAG_W,PH_TOT,PH_TOT_FLAG_W,PH_TMP,N2O,N2O_FLAG_W,DELC14,DELC14_FLAG_W,C14ERR,DELC13,DELC13_FLAG_W,CTDBETA700,CTDBETA700_FLAG_W,CTDBEAMCP,CTDBEAMCP_FLAG_W,CTDFLUOR,CTDFLUOR_FLAG_W,PAR,PAR_FLAG_W,CTDXMISS,CTDXMISS_FLAG_W
,,,,,,,,,,,METERS,DBAR,ITS-90,PSS-78,,PSS-78,,UMOL/KG,,UMOL/KG,,UMOL/KG,,UMOL/KG,,UMOL/KG,,UMOL/KG,,UMOL/KG,,PMOL/KG,,PMOL/KG,,FMOL/KG,,UMOL/KG,,UMOL/KG,,,,DEG C,NMOL/KG,,/MILLE,,/MILLE,/MILLE,,VOLTS,,1/M,,MG/M^3,,UMOL/M^2/SEC,,%TRANS,
  096U20180111,  SR03,    80,  1,     36,     36,2,20180207,0428,-63.0502, 146.4477, 3910,     10.9,   1.3666,  33.6791,2,-999.0000,9,    335.7,2,   -999.0,9,  -999.00,9,  -999.00,9,  -999.00,9,  -999.00,9,     -999,9, -999.000,9, -999.000,9,     -999,9,   -999.0,9,   -999.0,9,-999.0000,9,  -999.00,  -999.00,9,   -999.0,9,   -999.0,  -999.00,9,   0.00154,2,    0.183,2,    0.816,2,   62.800,2,   95.539,2
  096U20180111,  SR03,    80,  1,     35,     35,2,20180207,0428,-63.0502, 146.4477, 3910,     10.9,   1.3756,  33.6780,2,  33.6823,2,    335.7,2,    336.5,2,    10.70,2,    24.18,2,     0.25,2,     1.51,2,     0.39,2,    5.541,2,    3.036,2,     3.77,2,   2144.7,2,   2275.5,2,-999.0000,9,  -999.00,    14.54,2,   -999.0,9,   -999.0,  -999.00,9,   0.00150,2,    0.183,2,    0.792,2,   63.400,2,   95.518,2
  096U20180111,  SR03,    80,  1,     34,     34,2,20180207,0428,-63.0502, 146.4477, 3910,     21.2,   1.3080,  33.6882,2,  33.6891,2,    338.0,2,    336.7,2,    10.70,2,    24.25,2,     0.24,2,     1.51,2,      0.4,2, -999.000,9, -999.000,9,     -999,9,   -999.0,9,   -999.0,9,-999.0000,9,  -999.00,  -999.00,9,   -999.0,9,   -999.0,  -999.00,9,   0.00168,2,    0.197,2,    1.146,2,   28.000,2,   95.197,2
  096U20180111,  SR03,    80,  1,     33,     33,2,20180207,0428,-63.0502, 146.4477, 3910,     36.0,   1.2835,  33.6910,2,  33.6912,2,    339.8,2,    336.4,2,    10.70,2,    24.23,2,     0.24,2,     1.52,2,     0.43,2,    5.551,2,    3.034,2,     3.71,2,   2147.1,2,   2278.3,2,-999.0000,9,  -999.00,    14.50,2,   -999.0,9,   -999.0,  -999.00,9,   0.00176,2,    0.210,2,    1.464,2,   10.300,2,   94.882,2
  096U20180111,  SR03,    80,  1,     32,     32,2,20180207,0428,-63.0502, 146.4477, 3910,     55.3,   1.0591,  33.7108,2,  33.7541,2,    329.6,2,    331.1,2,    18.10,2,    25.44,2,     0.23,2,     1.72,2,     0.68,2, -999.000,9, -999.000,9,     -999,9,   -999.0,9,   -999.0,9,-999.0000,9,  -999.00,  -999.00,9,   -999.0,9,   -999.0,  -999.00,9,   0.00207,2,    0.221,2,    1.848,2,    3.240,2,   94.616,2
  096U20180111,  SR03,    80,  1,     31,     31,2,20180207,0428,-63.0502, 146.4477, 3910,     66.5,  -1.0586,  34.0025,2,-999.0000,9,    298.9,2,   -999.0,9,  -999.00,9,  -999.00,9,  -999.00,9,  -999.00,9,     -999,9, -999.000,9, -999.000,9,     -999,9,   -999.0,9,   -999.0,9,-999.0000,9,  -999.00,  -999.00,9,   -999.0,9,   -999.0,  -999.00,9,   0.00120,2,    0.090,2,    0.702,2,    1.640,2,   97.781,2
  096U20180111,  SR03,    80,  1,     30,     30,2,20180207,0428,-63.0502, 146.4477, 3910,     66.4,  -1.0533,  34.0048,2,  34.0404,2,    298.9,2,    299.1,2,    45.90,2,    30.66,2,     0.20,2,     2.21,2,     0.59,2,    4.666,2,    2.589,2,     2.83,2,   2199.3,2,   2299.1,2,-999.0000,9,  -999.00,    17.96,2,   -999.0,9,   -999.0,  -999.00,9,   0.00120,2,    0.075,2,    0.744,2,    1.690,2,   98.143,2
  096U20180111,  SR03,    80,  1,     29,     29,2,20180207,0428,-63.0502, 146.4477, 3910,    110.7,   1.1583,  34.3372,2,  34.3428,2,    211.6,2,    212.4,2,    62.00,2,    34.43,2,     0.05,2,     2.38,2,        0,2, -999.000,9, -999.000,9,     -999,9,   -999.0,9,   -999.0,9,-999.0000,9,  -999.00,  -999.00,9,   -999.0,9,   -999.0,  -999.00,9,   0.00049,2,    0.025,2,    0.132,2,    0.267,2,   99.370,2
  096U20180111,  SR03,    80,  1,     28,     28,2,20180207,0428,-63.0502, 146.4477, 3910,    170.8,   2.0248,  34.4954,2,  34.4999,2,    181.0,2,    179.0,2,    71.70,2,    35.09,2,     0.01,2,     2.42,2,        0,2, -999.000,9, -999.000,9,     -999,9,   -999.0,9,   -999.0,9,-999.0000,9,  -999.00,  -999.00,9,   -999.0,9,   -999.0,  -999.00,9,   0.00047,2,    0.019,2,    0.066,2,    0.014,2,   99.531,2
  096U20180111,  SR03,    80,  1,     27,     27,2,20180207,0428,-63.0502, 146.4477, 3910,    221.2,   2.1309,  34.5614,2,  34.5615,2,    174.3,2,    173.7,2,    74.90,2,    34.56,2,     0.01,2,     2.39,2,        0,2,    0.957,2,    0.509,2,     0.52,2,   2253.4,2,   2333.6,2,-999.0000,9,  -999.00,    23.87,2,   -999.0,9,   -999.0,  -999.00,9,   0.00056,2,    0.014,2,    0.048,2,    0.000,2,   99.648,2
  096U20180111,  SR03,    80,  1,     26,     26,2,20180207,0428,-63.0502, 146.4477, 3910,    271.3,   2.1550,  34.5998,2,  34.6003,2,    173.0,2,    172.8,2,    76.70,2,    34.14,2,     0.00,2,     2.36,2,    -0.01,2, -999.000,9, -999.000,9,     -999,9,   -999.0,9,   -999.0,9,-999.0000,9,  -999.00,  -999.00,9,   -999.0,9,   -999.0,  -999.00,9,   0.00038,2,    0.011,2,    0.042,2,    0.000,2,   99.736,2
  096U20180111,  SR03,    80,  1,     25,     25,2,20180207,0428,-63.0502, 146.4477, 3910,    320.9,   2.2008,  34.6323,2,  34.6326,2,    173.4,2,    173.0,2,    77.70,2,    33.61,2,     0.00,2,     2.32,2,    -0.01,2,    0.588,2,    0.311,2,     0.16,2,   2255.2,2,   2339.1,6,-999.0000,9,  -999.00,    22.66,2,   -999.0,9,   -999.0,  -999.00,9,   0.00037,2,    0.007,2,    0.036,2,    0.000,2,   99.822,2
  096U20180111,  SR03,    80,  1,     24,     24,2,20180207,0428,-63.0502, 146.4477, 3910,    365.8,   2.0795,  34.6382,2,  34.6387,2,    174.0,2,    173.3,2,    79.70,2,    33.71,2,     0.00,2,     2.32,2,    -0.01,2, -999.000,9, -999.000,9,     -999,9,   -999.0,9,   -999.0,9,-999.0000,9,  -999.00,  -999.00,9,   -999.0,9,   -999.0,  -999.00,9,   0.00036,2,    0.006,2,    0.042,2,    0.000,2,   99.843,2
  096U20180111,  SR03,    80,  1,     23,     23,2,20180207,0428,-63.0502, 146.4477, 3910,    471.3,   2.0861,  34.6840,2,  34.6833,2,    177.7,2,    178.5,2,    81.10,2,    32.59,2,     0.00,2,     2.25,2,    -0.01,2, -999.000,9, -999.000,9,     -999,9,   -999.0,9,   -999.0,9,-999.0000,9,  -999.00,  -999.00,9,   -999.0,9,   -999.0,  -999.00,9,   0.00036,2,    0.005,2,    0.042,2,    0.000,2,   99.877,2
  096U20180111,  SR03,    80,  1,     22,     22,2,20180207,0428,-63.0502, 146.4477, 3910,    571.1,   2.0460,  34.7106,2,  34.7096,2,    181.7,2,    182.9,2,    82.20,2,    31.88,2,     0.00,2,     2.20,2,    -0.01,2,    0.332,2,    0.174,2,     0.22,2,   2246.8,2,   2346.6,2,-999.0000,9,  -999.00,    21.04,2,   -999.0,9,   -999.0,  -999.00,9,   0.00033,2,    0.004,2,    0.036,2,    0.000,2,   99.912,2
  096U20180111,  SR03,    80,  1,     21,     21,2,20180207,0428,-63.0502, 146.4477, 3910,    671.6,   1.9773,  34.7231,2,  34.7224,2,    185.6,2,    185.8,2,    83.80,2,    31.46,2,     0.00,2,     2.18,2,    -0.01,2, -999.000,9, -999.000,9,     -999,9,   -999.0,9,   -999.0,9,-999.0000,9,  -999.00,  -999.00,9,   -999.0,9,   -999.0,  -999.00,9,   0.00031,2,    0.006,2,    0.036,2,    0.000,2,   99.860,2
  096U20180111,  SR03,    80,  1,     20,     20,2,20180207,0428,-63.0502, 146.4477, 3910,    781.3,   1.9302,  34.7355,2,  34.7352,2,    189.9,2,    189.8,2,    84.90,2,    31.03,2,     0.00,2,     2.15,2,    -0.01,2, -999.000,9, -999.000,9,     -999,9,   -999.0,9,   -999.0,9,-999.0000,9,  -999.00,  -999.00,9,   -999.0,9,   -999.0,  -999.00,9,   0.00028,2,    0.002,2,    0.036,2,    0.000,2,   99.952,2
  096U20180111,  SR03,    80,  1,     19,     19,2,20180207,0428,-63.0502, 146.4477, 3910,    901.2,   1.8496,  34.7421,2,  34.7415,2,    193.1,2,    192.8,2,    86.90,2,    30.77,2,     0.00,2,     2.13,2,    -0.01,2,    0.214,2,    0.113,2,     0.03,2,   2250.3,2,   2350.7,2,-999.0000,9,  -999.00,    19.44,2,   -999.0,9,   -999.0,  -999.00,9,   0.00038,2,    0.001,2,    0.036,2,    0.000,2,   99.976,2
  096U20180111,  SR03,    80,  1,     18,     18,2,20180207,0428,-63.0502, 146.4477, 3910,   1051.0,   1.7419,  34.7455,2,-999.0000,9,    196.0,2,   -999.0,9,  -999.00,9,  -999.00,9,  -999.00,9,  -999.00,9,     -999,9, -999.000,9, -999.000,9,     -999,9,   -999.0,9,   -999.0,9,-999.0000,9,  -999.00,  -999.00,9,   -999.0,9,   -999.0,  -999.00,9,   0.00028,2,    0.000,2,    0.036,2,    0.000,2,  100.003,2
  096U20180111,  SR03,    80,  1,     17,     17,2,20180207,0428,-63.0502, 146.4477, 3910,   1050.9,   1.7418,  34.7454,2,  34.7452,2,    196.0,2,    195.5,2,    89.70,2,    30.67,2,     0.00,2,     2.12,2,    -0.01,2, -999.000,9, -999.000,9,     -999,9,   -999.0,9,   -999.0,9,-999.0000,9,  -999.00,  -999.00,9,   -999.0,9,   -999.0,  -999.00,9,   0.00028,2,    0.000,2,    0.036,2,    0.000,2,  100.006,2
  096U20180111,  SR03,    80,  1,     16,     16,2,20180207,0428,-63.0502, 146.4477, 3910,   1201.0,   1.5937,  34.7441,2,  34.7438,2,    198.1,2,    198.1,2,    93.70,2,    30.70,2,     0.00,2,     2.13,2,    -0.01,2, -999.000,9, -999.000,9,     -999,9,   -999.0,9,   -999.0,9,-999.0000,9,  -999.00,  -999.00,9,   -999.0,9,   -999.0,  -999.00,9,   0.00028,2,   -0.001,2,    0.036,2,    0.000,2,  100.014,2
  096U20180111,  SR03,    80,  1,     15,     15,2,20180207,0428,-63.0502, 146.4477, 3910,   1300.4,   1.4994,  34.7416,2,  34.7417,2,    199.4,2,    199.3,2,    96.60,2,    30.81,2,     0.00,2,     2.14,2,    -0.01,2,    0.184,2,    0.094,2,     0.11,2,   2248.9,2,   2356.8,2,-999.0000,9,  -999.00,    18.44,2,   -999.0,9,   -999.0,  -999.00,9,   0.00027,2,   -0.001,2,    0.036,2,    0.000,2,  100.026,2
  096U20180111,  SR03,    80,  1,     14,     14,2,20180207,0428,-63.0502, 146.4477, 3910,   1510.2,   1.3447,  34.7359,2,  34.7356,2,    201.4,2,    201.2,2,   100.90,2,    30.98,2,     0.00,2,     2.15,2,    -0.01,2, -999.000,9, -999.000,9,     -999,9,   -999.0,9,   -999.0,9,-999.0000,9,  -999.00,  -999.00,9,   -999.0,9,   -999.0,  -999.00,9,   0.00028,2,   -0.002,2,    0.036,2,    0.000,2,  100.043,2
  096U20180111,  SR03,    80,  1,     13,     13,2,20180207,0428,-63.0502, 146.4477, 3910,   1721.0,   1.1412,  34.7265,2,  34.7263,2,    203.4,2,    203.4,2,   107.30,2,    31.39,2,     0.00,2,     2.18,2,    -0.01,2, -999.000,9, -999.000,9,     -999,9,   -999.0,9,   -999.0,9,-999.0000,9,  -999.00,  -999.00,9,   -999.0,9,   -999.0,  -999.00,9,   0.00026,2,   -0.002,2,    0.036,2,    0.000,2,  100.038,2
  096U20180111,  SR03,    80,  1,     12,     12,2,20180207,0428,-63.0502, 146.4477, 3910,   1930.4,   0.9628,  34.7169,2,  34.7167,2,    205.4,2,    205.6,2,   111.90,2,    31.69,2,     0.00,2,     2.20,2,    -0.01,2,    0.246,2,    0.127,2,     0.16,2,   2258.0,6,   2361.1,6,-999.0000,9,  -999.00,    18.64,2,   -999.0,9,   -999.0,  -999.00,9,   0.00025,2,   -0.002,2,    0.030,2,    0.000,2,  100.039,2
  096U20180111,  SR03,    80,  1,     11,     11,2,20180207,0428,-63.0502, 146.4477, 3910,   2180.6,   0.7676,  34.7064,2,  34.7096,4,    208.3,2,    208.5,2,   117.30,2,    32.06,2,     0.00,2,     2.23,2,    -0.01,2, -999.000,9, -999.000,9,     -999,9,   -999.0,9,   -999.0,9,-999.0000,9,  -999.00,  -999.00,9,   -999.0,9,   -999.0,  -999.00,9,   0.00025,2,   -0.002,2,    0.036,2,    0.000,2,  100.053,2
  096U20180111,  SR03,    80,  1,     10,     10,2,20180207,0428,-63.0502, 146.4477, 3910,   2431.4,   0.5951,  34.6975,2,-999.0000,9,    211.8,2,   -999.0,9,  -999.00,9,  -999.00,9,  -999.00,9,  -999.00,9,     -999,9, -999.000,9, -999.000,9,     -999,9,   -999.0,9,   -999.0,9,-999.0000,9,  -999.00,  -999.00,9,   -999.0,9,   -999.0,  -999.00,9,   0.00029,2,   -0.002,2,    0.036,2,    0.000,2,  100.063,2
  096U20180111,  SR03,    80,  1,      9,      9,2,20180207,0428,-63.0502, 146.4477, 3910,   2681.9,   0.4447,  34.6897,2,  34.6897,2,    215.3,2,    215.2,2,   124.40,2,    32.34,2,     0.00,2,     2.25,2,    -0.01,2,    0.507,2,    0.262,2,      0.2,2,   2261.0,2,   2360.3,2,-999.0000,9,  -999.00,    18.81,2,   -999.0,9,   -999.0,  -999.00,9,   0.00023,2,   -0.003,2,    0.036,2,    0.000,2,  100.071,2
  096U20180111,  SR03,    80,  1,      8,      8,2,20180207,0428,-63.0502, 146.4477, 3910,   2921.8,   0.3264,  34.6845,2,  34.6839,2,    218.7,2,    218.7,2,   127.20,2,    32.44,2,     0.00,2,     2.26,2,    -0.01,2, -999.000,9, -999.000,9,     -999,9,   -999.0,9,   -999.0,9,-999.0000,9,  -999.00,  -999.00,9,   -999.0,9,   -999.0,  -999.00,9,   0.00023,2,   -0.003,2,    0.036,2,    0.000,2,  100.070,2
  096U20180111,  SR03,    80,  1,      7,      7,2,20180207,0428,-63.0502, 146.4477, 3910,   3221.4,   0.2101,  34.6791,2,  34.6783,2,    222.2,2,    222.4,2,   130.60,2,    32.44,2,     0.00,2,     2.26,2,    -0.01,2,    0.809,2,    0.406,2,     0.34,2,   2256.9,2,   2360.5,2,-999.0000,9,  -999.00,    18.53,2,   -999.0,9,   -999.0,  -999.00,9,   0.00024,2,   -0.002,2,    0.036,2,    0.000,2,  100.055,2
  096U20180111,  SR03,    80,  1,      6,      6,2,20180207,0428,-63.0502, 146.4477, 3910,   3521.8,   0.0747,  34.6702,2,-999.0000,9,    227.8,2,   -999.0,9,  -999.00,9,  -999.00,9,  -999.00,9,  -999.00,9,     -999,9, -999.000,9, -999.000,9,     -999,9,   -999.0,9,   -999.0,9,-999.0000,9,  -999.00,  -999.00,9,   -999.0,9,   -999.0,  -999.00,9,   0.00022,2,   -0.002,2,    0.030,2,    0.000,2,  100.044,2
  096U20180111,  SR03,    80,  1,      5,      5,2,20180207,0428,-63.0502, 146.4477, 3910,   3781.4,  -0.0281,  34.6622,2,  34.6616,2,    232.4,2,    232.8,2,   123.20,2,    32.26,2,     0.00,2,     2.25,2,    -0.01,2,    1.591,2,    0.844,2,     0.71,2,   -999.0,9,   -999.0,9,-999.0000,9,  -999.00,    18.55,2,   -999.0,9,   -999.0,  -999.00,9,   0.00027,2,    0.002,2,    0.036,2,    0.000,2,   99.937,2
  096U20180111,  SR03,    80,  1,      4,      4,2,20180207,0428,-63.0502, 146.4477, 3910,   3880.9,  -0.0540,  34.6601,2,  34.6601,2,    234.0,2,    233.5,2,   121.00,2,    32.21,2,     0.00,2,     2.25,2,    -0.01,2, -999.000,9, -999.000,9,     -999,9,   -999.0,9,   -999.0,9,-999.0000,9,  -999.00,  -999.00,9,   -999.0,9,   -999.0,  -999.00,9,   0.00029,2,    0.004,2,    0.036,2,    0.000,2,   99.914,2
  096U20180111,  SR03,    80,  1,      3,      3,2,20180207,0428,-63.0502, 146.4477, 3910,   3932.5,  -0.0688,  34.6592,2,  34.6584,2,    234.8,2,    235.1,2,   120.00,2,    32.20,2,     0.00,2,     2.24,2,    -0.01,2,    1.777,2,    0.956,2,     0.73,2,   -999.0,9,   -999.0,9,-999.0000,9,  -999.00,    18.51,2,   -999.0,9,   -999.0,  -999.00,9,   0.00030,2,    0.005,2,    0.036,2,    0.000,2,   99.876,2
  096U20180111,  SR03,    80,  1,      2,      2,2,20180207,0428,-63.0502, 146.4477, 3910,   3983.3,  -0.0882,  34.6576,2,-999.0000,9,    235.9,2,   -999.0,9,  -999.00,9,  -999.00,9,  -999.00,9,  -999.00,9,     -999,9, -999.000,9, -999.000,9,     -999,9,   -999.0,9,   -999.0,9,-999.0000,9,  -999.00,  -999.00,9,   -999.0,9,   -999.0,  -999.00,9,   0.00064,2,    0.021,2,    0.036,2,    0.000,2,   99.490,2
  096U20180111,  SR03,    80,  1,      1,      1,2,20180207,0428,-63.0502, 146.4477, 3910,   3983.4,  -0.0883,  34.6577,2,  34.6567,2,    235.9,2,    235.8,2,   119.40,2,    32.17,2,     0.00,2,     2.25,2,    -0.01,2,    1.833,2,    0.986,2,     0.83,2,   2256.1,2,   2355.8,2,-999.0000,9,  -999.00,    18.47,2,   -999.0,9,   -999.0,  -999.00,9,   0.00059,2,    0.022,2,    0.036,2,    0.000,2,   99.455,2