BOTTLE,20230418CCHSIOENA
EXPOCODE,SECT_ID,STNNBR,CASTNO,SAMPNO,BTLNBR,BTLNBR_FLAG_W,DATE,TIME,LATITUDE,LONGITUDE,DEPTH,CTDPRS,CTDTMP,CTDSAL,CTDSAL_FLAG_W,SALNTY,SALNTY_FLAG_W,CTDOXY,CTDOXY_FLAG_W,OXYGEN,OXYGEN_FLAG_W,SILCAT,SILCAT_FLAG_W,NITRAT,NITRAT_FLAG_W,NITRIT,NITRIT_FLAG_W,PHSPHT,PHSPHT_FLAG_W,NH4,NH4_FLAG_W,CFC-11,CFC-11_FLAG_W,CFC-12,CFC-12_FLAG_W,SF6,SF6_FLAG_W,TCARBN,TCARBN_FLAG_W,ALKALI,ALKALI_FLAG_W,PH_TOT,PH_TOT_FLAG_W,PH_TMP,N2O,N2O_FLAG_W,DELC14,DELC14_FLAG_W,C14ERR,DELC13,DELC13_FLAG_W,CTDBETA700,CTDBETA700_FLAG_W,CTDBEAMCP,CTDBEAMCP_FLAG_W,CTDFLUOR,CTDFLUOR_FLAG_W,PAR,PAR_FLAG_W,CTDXMISS,CTDXMISS_FLAG_W
,,,,,,,,,,,METERS,DBAR,ITS-90,PSS-78,,PSS-78,,UMOL/KG,,UMOL/KG,,UMOL/KG,,UMOL/KG,,UMOL/KG,,UMOL/KG,,UMOL/KG,,PMOL/KG,,PMOL/KG,,FMOL/KG,,UMOL/KG,,UMOL/KG,,,,DEG C,NMOL/KG,,/MILLE,,/MILLE,/MILLE,,VOLTS,,1/M,,MG/M^3,,UMOL/M^2/SEC,,%TRANS,
  096U20180111,  SR03,    78,  1,     36,     36,2,20180206,0642,-62.0003, 149.9997, 3707,     11.0,   1.1165,  33.7510,2,  33.7513,2,    339.0,2,    339.8,2,    18.50,2,    24.75,2,     0.26,2,     1.57,2,     0.14,2,    5.406,2,    3.004,2,      3.7,2,   2147.3,6,   2285.5,6,   7.7151,   2,    25.00,    15.24,2,   -999.0,9,   -999.0,  -999.00,9,   0.00487,2,    0.415,2,    4.878,2,    3.260,2,   90.141,2
  096U20180111,  SR03,    78,  1,     35,     35,2,20180206,0642,-62.0003, 149.9997, 3707,     10.9,   1.1161,  33.7510,2,-999.0000,9,    339.0,2,   -999.0,9,  -999.00,9,  -999.00,9,  -999.00,9,  -999.00,9,     -999,9, -999.000,9, -999.000,9,     -999,9,   -999.0,9,   -999.0,9,-999.0000,9,  -999.00,  -999.00,9,   -999.0,9,   -999.0,  -999.00,9,   0.00520,2,    0.415,2,    4.878,2,    3.420,2,   90.153,2
  096U20180111,  SR03,    78,  1,     34,     34,2,20180206,0642,-62.0003, 149.9997, 3707,     21.0,   1.1153,  33.7509,2,  33.7516,2,    340.0,2,    339.6,2,    18.40,2,    24.66,2,     0.26,2,     1.58,2,     0.16,2, -999.000,9, -999.000,9,     -999,9,   -999.0,9,   -999.0,9,-999.0000,9,  -999.00,  -999.00,9,   -999.0,9,   -999.0,  -999.00,9,   0.00481,2,    0.413,2,    5.094,2,    1.080,2,   90.188,2
  096U20180111,  SR03,    78,  1,     33,     33,2,20180206,0642,-62.0003, 149.9997, 3707,     41.4,   1.0608,  33.7499,2,-999.0000,9,    338.8,2,   -999.0,9,  -999.00,9,  -999.00,9,  -999.00,9,  -999.00,9,     -999,9, -999.000,9, -999.000,9,     -999,9,   -999.0,9,   -999.0,9,-999.0000,9,  -999.00,  -999.00,9,   -999.0,9,   -999.0,  -999.00,9,   0.00530,2,    0.413,2,    5.238,2,    0.093,2,   90.196,2
  096U20180111,  SR03,    78,  1,     32,     32,2,20180206,0642,-62.0003, 149.9997, 3707,     41.2,   1.0586,  33.7499,2,  33.7525,2,    338.8,2,    338.2,2,    18.50,2,    24.67,2,     0.26,2,     1.59,2,     0.22,2,    5.354,6,    2.966,6,     3.84,6,   2147.5,2,   2285.0,2,   7.7127,   2,    25.00,    15.08,6,   -999.0,9,   -999.0,  -999.00,9,   0.00491,2,    0.410,2,    5.406,2,    0.096,2,   90.252,2
  096U20180111,  SR03,    78,  1,     31,     31,2,20180206,0642,-62.0003, 149.9997, 3707,     70.9,  -0.1983,  34.1797,2,  34.1836,2,    271.9,2,    264.0,2,    55.20,2,    32.23,2,     0.18,2,     2.26,2,     0.36,2, -999.000,9, -999.000,9,     -999,9,   2218.1,2,   2309.8,2,   7.5756,   6,    25.00,  -999.00,9,   -999.0,9,   -999.0,  -999.00,9,   0.00116,2,    0.067,2,    0.546,2,    0.000,2,   98.333,2
  096U20180111,  SR03,    78,  1,     30,     30,2,20180206,0642,-62.0003, 149.9997, 3707,    100.6,   1.2242,  34.3920,2,  34.3920,2,    216.5,2,    206.7,2,    66.40,2,    34.46,2,     0.12,2,     2.37,2,        0,2,    2.157,2,    1.156,2,     1.18,2,   2242.4,2,   2321.4,6,-999.0000,9,  -999.00,    23.60,2,   -999.0,9,   -999.0,  -999.00,9,   0.00074,2,    0.030,2,    0.210,2,    0.000,2,   99.245,2
  096U20180111,  SR03,    78,  1,     29,     29,2,20180206,0642,-62.0003, 149.9997, 3707,    130.5,   1.6190,  34.4657,2,  34.4736,2,    189.7,2,    188.2,2,    70.90,2,    35.02,2,     0.04,2,     2.40,2,        0,2,    1.604,2,    0.848,2,     0.74,2,   2252.0,2,   2328.3,2,   7.5317,   2,    25.00,    23.49,2,   -999.0,9,   -999.0,  -999.00,9,   0.00062,2,    0.022,2,    0.114,2,    0.000,2,   99.443,2
  096U20180111,  SR03,    78,  1,     28,     28,2,20180206,0642,-62.0003, 149.9997, 3707,    181.1,   1.9105,  34.5416,2,  34.5432,2,    176.1,2,    177.2,2,    75.10,2,    35.04,2,     0.01,2,     2.40,2,        0,2,    1.137,2,    0.614,2,     0.47,2,   2256.4,2,   2333.2,2,-999.0000,9,  -999.00,    25.12,2,   -999.0,9,   -999.0,  -999.00,9,   0.00058,2,    0.018,2,    0.060,2,    0.000,2,   99.561,2
  096U20180111,  SR03,    78,  1,     27,     27,2,20180206,0642,-62.0003, 149.9997, 3707,    231.2,   1.9792,  34.5930,2,  34.5922,2,    172.9,2,    174.0,2,    78.10,2,    34.57,2,     0.01,2,     2.37,2,        0,2,    0.879,2,    0.467,2,     0.46,2,   2257.6,2,   2336.8,2,   7.5362,   2,    25.00,    24.44,2,   -999.0,9,   -999.0,  -999.00,9,   0.00059,2,    0.015,2,    0.048,2,    0.000,2,   99.629,2
  096U20180111,  SR03,    78,  1,     26,     26,2,20180206,0642,-62.0003, 149.9997, 3707,    280.8,   2.0621,  34.6292,2,-999.0000,9,    172.8,2,   -999.0,9,  -999.00,9,  -999.00,9,  -999.00,9,  -999.00,9,     -999,9, -999.000,9, -999.000,9,     -999,9,   -999.0,9,   -999.0,9,-999.0000,9,  -999.00,  -999.00,9,   -999.0,9,   -999.0,  -999.00,9,   0.00050,2,    0.011,2,    0.036,2,    0.000,2,   99.736,2
  096U20180111,  SR03,    78,  1,     25,     25,2,20180206,0642,-62.0003, 149.9997, 3707,    280.7,   2.0612,  34.6290,2,  34.6282,2,    172.8,2,    173.1,2,    79.50,2,    33.99,2,     0.01,2,     2.33,2,        0,2,    0.682,2,    0.361,2,     0.34,2,   2256.5,2,   2340.1,2,   7.5454,   2,    25.00,    23.13,2,   -999.0,9,   -999.0,  -999.00,9,   0.00049,2,    0.010,2,    0.036,2,    0.000,2,   99.752,2
  096U20180111,  SR03,    78,  1,     24,     24,2,20180206,0642,-62.0003, 149.9997, 3707,    380.3,   2.0881,  34.6693,2,  34.6671,2,    176.5,2,    176.6,2,    80.40,2,    33.10,2,     0.00,2,     2.28,2,        0,2,    0.499,2,    0.273,2,     0.17,2,   2255.7,2,   2343.5,2,   7.5605,   2,    25.00,    22.59,2,   -999.0,9,   -999.0,  -999.00,9,   0.00034,2,    0.004,2,    0.036,2,    0.000,2,   99.913,2
  096U20180111,  SR03,    78,  1,     23,     23,2,20180206,0642,-62.0003, 149.9997, 3707,    491.2,   2.0318,  34.6972,2,  34.7574,4,    180.5,2,    180.8,2,    82.10,2,    32.42,2,     0.01,2,     2.23,2,        0,2,    0.404,2,    0.219,2,     0.15,2,   2254.3,2,   2346.6,2,   7.5714,   2,    25.00,    21.65,2,   -999.0,9,   -999.0,  -999.00,9,   0.00035,2,    0.003,2,    0.036,2,    0.000,2,   99.928,2
  096U20180111,  SR03,    78,  1,     22,     22,2,20180206,0642,-62.0003, 149.9997, 3707,    602.5,   1.9566,  34.7187,2,-999.0000,9,    184.4,2,   -999.0,9,    84.20,2,    31.83,2,     0.01,2,     2.19,2,        0,2, -999.000,9, -999.000,9,     -999,9,   -999.0,9,   -999.0,9,-999.0000,9,  -999.00,  -999.00,9,   -999.0,9,   -999.0,  -999.00,9,   0.00036,2,    0.003,2,    0.036,2,    0.000,2,   99.925,2
  096U20180111,  SR03,    78,  1,     21,     21,2,20180206,0642,-62.0003, 149.9997, 3707,    699.7,   1.8930,  34.7271,2,  34.7269,2,    187.3,2,    187.0,2,    85.70,2,    31.55,2,     0.00,2,     2.17,2,        0,2,    0.314,2,    0.165,2,    -0.01,2,   2252.2,2,   2350.3,2,-999.0000,9,  -999.00,    20.07,2,   -999.0,9,   -999.0,  -999.00,9,   0.00037,2,    0.002,2,    0.036,2,    0.000,2,   99.961,2
  096U20180111,  SR03,    78,  1,     20,     20,2,20180206,0642,-62.0003, 149.9997, 3707,    801.2,   1.8539,  34.7371,2,  34.7371,2,    191.4,2,    190.4,2,    86.80,2,    31.27,2,     0.00,2,     2.14,2,        0,2,    0.254,2,    0.136,2,     0.16,2,   2250.7,6,   2351.2,6,   7.5952,   2,    25.00,    20.06,2,   -999.0,9,   -999.0,  -999.00,9,   0.00033,2,    0.001,2,    0.036,2,    0.000,2,   99.978,2
  096U20180111,  SR03,    78,  1,     19,     19,2,20180206,0642,-62.0003, 149.9997, 3707,    900.3,   1.7751,  34.7409,2,  34.7474,4,    193.3,2,    193.4,2,    88.80,2,    31.09,2,     0.00,2,     2.13,2,        0,2,    0.240,2,    0.134,2,     0.05,2,   2250.0,2,   2352.5,2,-999.0000,9,  -999.00,    20.16,2,   -999.0,9,   -999.0,  -999.00,9,   0.00030,2,    0.001,2,    0.036,2,    0.000,2,   99.981,2
  096U20180111,  SR03,    78,  1,     18,     18,2,20180206,0642,-62.0003, 149.9997, 3707,   1000.9,   1.6792,  34.7405,2,  34.7860,4,    194.9,2,    194.5,2,    91.20,2,    31.14,2,     0.00,2,     2.14,2,        0,2,    0.251,2,    0.130,2,     0.01,2,   2252.7,2,   2353.9,2,   7.6000,   6,    25.00,    20.04,2,   -999.0,9,   -999.0,  -999.00,9,   0.00031,2,    0.000,2,    0.036,2,    0.000,2,   99.991,2
  096U20180111,  SR03,    78,  1,     17,     17,2,20180206,0642,-62.0003, 149.9997, 3707,   1201.6,   1.4990,  34.7403,2,  34.7395,2,    198.0,2,    198.4,2,    96.10,2,    31.10,2,     0.00,2,     2.14,2,        0,2,    0.226,2,    0.121,2,     0.05,2,   2252.0,2,   2357.9,2,-999.0000,9,  -999.00,    18.75,2,   -999.0,9,   -999.0,  -999.00,9,   0.00030,2,   -0.001,2,    0.036,2,    0.000,2,  100.016,2
  096U20180111,  SR03,    78,  1,     16,     16,2,20180206,0642,-62.0003, 149.9997, 3707,   1401.4,   1.3355,  34.7356,2,  34.7353,2,    200.6,2,    200.9,2,   101.40,2,    31.34,2,     0.00,2,     2.15,2,        0,2,    0.199,2,    0.109,2,     0.05,2,   2253.0,2,   2358.3,6,   7.6061,   2,    25.00,    18.72,2,   -999.0,9,   -999.0,  -999.00,9,   0.00027,2,   -0.002,2,    0.036,2,    0.000,2,  100.046,2
  096U20180111,  SR03,    78,  1,     15,     15,2,20180206,0642,-62.0003, 149.9997, 3707,   1600.6,   1.1789,  34.7284,2,  34.7290,2,    202.6,2,    202.5,2,   106.00,2,    31.59,2,     0.00,2,     2.17,2,        0,2, -999.000,9, -999.000,9,     -999,9,   -999.0,9,   -999.0,9,-999.0000,9,  -999.00,  -999.00,9,   -999.0,9,   -999.0,  -999.00,9,   0.00026,2,   -0.002,2,    0.036,2,    0.000,2,  100.054,2
  096U20180111,  SR03,    78,  1,     14,     14,2,20180206,0642,-62.0003, 149.9997, 3707,   1800.2,   1.0280,  34.7210,2,  34.7214,2,    204.6,2,    204.4,2,   110.60,2,    31.84,2,     0.00,2,     2.19,2,        0,2,    0.228,2,    0.110,2,     0.19,3,   2256.0,2,   2360.9,2,   7.6028,   2,    25.00,    18.86,2,   -999.0,9,   -999.0,  -999.00,9,   0.00029,2,   -0.003,2,    0.036,2,    0.000,2,  100.065,2
  096U20180111,  SR03,    78,  1,     13,     13,2,20180206,0642,-62.0003, 149.9997, 3707,   2000.7,   0.8812,  34.7131,2,  34.7132,2,    206.4,2,    206.5,2,   114.90,2,    32.11,2,     0.00,2,     2.21,2,        0,2,    0.260,2,    0.135,2,     0.02,2,   2258.0,2,   2361.2,2,-999.0000,9,  -999.00,    19.17,2,   -999.0,9,   -999.0,  -999.00,9,   0.00026,2,   -0.003,2,    0.036,2,    0.000,2,  100.068,2
  096U20180111,  SR03,    78,  1,     12,     12,2,20180206,0642,-62.0003, 149.9997, 3707,   2200.6,   0.7432,  34.7058,2,-999.0000,9,    208.5,2,   -999.0,9,  -999.00,9,  -999.00,9,  -999.00,9,  -999.00,9,     -999,9, -999.000,9, -999.000,9,     -999,9,   -999.0,9,   -999.0,9,-999.0000,9,  -999.00,  -999.00,9,   -999.0,9,   -999.0,  -999.00,9,   0.00025,2,   -0.003,2,    0.036,2,    0.000,2,  100.071,2
  096U20180111,  SR03,    78,  1,     11,     11,2,20180206,0642,-62.0003, 149.9997, 3707,   2200.4,   0.7426,  34.7057,2,  34.7067,2,    208.5,2,    208.6,2,   118.30,2,    32.24,2,     0.00,2,     2.23,2,        0,2, -999.000,9, -999.000,9,     -999,9,   -999.0,9,   -999.0,9,-999.0000,9,  -999.00,  -999.00,9,   -999.0,9,   -999.0,  -999.00,9,   0.00026,2,   -0.003,2,    0.036,2,    0.000,2,  100.073,2
  096U20180111,  SR03,    78,  1,     10,     10,2,20180206,0642,-62.0003, 149.9997, 3707,   2399.9,   0.5935,  34.6976,2,  34.6970,2,    211.4,2,    211.6,2,   119.30,2,    32.35,2,     0.00,2,     2.23,2,        0,2,    0.383,2,    0.197,2,     0.04,2,   2260.6,2,   2362.1,2,-999.0000,9,  -999.00,    19.09,2,   -999.0,9,   -999.0,  -999.00,9,   0.00024,2,   -0.003,2,    0.036,2,    0.000,2,  100.069,2
  096U20180111,  SR03,    78,  1,      9,      9,2,20180206,0642,-62.0003, 149.9997, 3707,   2599.8,   0.4731,  34.6922,2,  34.6924,2,    214.5,2,    214.4,2,   125.10,2,    32.61,2,     0.00,2,     2.26,2,        0,2,    0.456,2,    0.232,2,     0.01,2,   2261.1,2,   2362.2,2,-999.0000,9,  -999.00,    18.20,2,   -999.0,9,   -999.0,  -999.00,9,   0.00024,2,   -0.002,2,    0.036,2,    0.000,2,  100.062,2
  096U20180111,  SR03,    78,  1,      8,      8,2,20180206,0642,-62.0003, 149.9997, 3707,   2801.7,   0.3676,  34.6869,2,  34.6862,2,    217.3,2,    217.2,2,   127.20,2,    32.70,2,     0.00,2,     2.26,2,        0,2, -999.000,9, -999.000,9,     -999,9,   -999.0,9,   -999.0,9,-999.0000,9,  -999.00,  -999.00,9,   -999.0,9,   -999.0,  -999.00,9,   0.00055,2,   -0.003,2,    0.036,2,    0.000,2,  100.070,2
  096U20180111,  SR03,    78,  1,      7,      7,2,20180206,0642,-62.0003, 149.9997, 3707,   3001.5,   0.2902,  34.6830,2,  34.6829,2,    219.6,2,    219.5,2,   129.00,2,    32.74,2,     0.00,2,     2.26,2,        0,2,    0.667,2,    0.332,2,        0,2,   2259.8,2,   2360.5,2,-999.0000,9,  -999.00,    18.34,2,   -999.0,9,   -999.0,  -999.00,9,   0.00024,2,   -0.003,2,    0.036,2,    0.000,2,  100.068,2
  096U20180111,  SR03,    78,  1,      6,      6,2,20180206,0642,-62.0003, 149.9997, 3707,   3199.8,   0.2354,  34.6802,2,  34.6785,2,    221.2,2,    221.6,2,   131.10,2,    32.73,2,     0.00,2,     2.26,2,        0,2,    0.766,2,    0.403,2,     0.15,2,   -999.0,9,   -999.0,9,-999.0000,9,  -999.00,    18.98,2,   -999.0,9,   -999.0,  -999.00,9,   0.00023,2,   -0.002,2,    0.036,2,    0.000,2,  100.056,2
  096U20180111,  SR03,    78,  1,      5,      5,2,20180206,0642,-62.0003, 149.9997, 3707,   3400.3,   0.1732,  34.6762,2,  34.6774,2,    223.5,2,    224.1,2,   130.30,2,    32.67,2,     0.00,2,     2.26,2,        0,2, -999.000,9, -999.000,9,     -999,9,   -999.0,9,   -999.0,9,-999.0000,9,  -999.00,  -999.00,9,   -999.0,9,   -999.0,  -999.00,9,   0.00024,2,   -0.002,2,    0.036,2,    0.000,2,  100.057,2
  096U20180111,  SR03,    78,  1,      4,      4,2,20180206,0642,-62.0003, 149.9997, 3707,   3601.0,   0.0948,  34.6710,2,  34.6703,2,    226.8,2,    227.3,2,   129.40,2,    32.61,2,     0.00,2,     2.25,2,        0,2,    1.204,2,    0.624,2,     0.33,2,   2260.7,2,   2360.1,2,-999.0000,9,  -999.00,    19.15,2,   -999.0,9,   -999.0,  -999.00,9,   0.00026,2,    0.002,2,    0.036,2,    0.000,2,   99.961,2
  096U20180111,  SR03,    78,  1,      3,      3,2,20180206,0642,-62.0003, 149.9997, 3707,   3701.4,   0.0679,  34.6689,2,  34.6685,2,    227.8,2,    228.6,2,   127.70,2,    32.55,2,     0.00,2,     2.25,2,        0,2,    1.297,2,    0.667,2,     0.45,2,   -999.0,9,   -999.0,9,-999.0000,9,  -999.00,    18.36,2,   -999.0,9,   -999.0,  -999.00,9,   0.00029,2,    0.004,2,    0.036,2,    0.000,2,   99.910,2
  096U20180111,  SR03,    78,  1,      2,      2,2,20180206,0642,-62.0003, 149.9997, 3707,   3779.2,   0.0414,  34.6671,2,-999.0000,9,    229.4,2,   -999.0,9,  -999.00,9,  -999.00,9,  -999.00,9,  -999.00,9,     -999,9, -999.000,9, -999.000,9,     -999,9,   -999.0,9,   -999.0,9,-999.0000,9,  -999.00,  -999.00,9,   -999.0,9,   -999.0,  -999.00,9,   0.00037,2,    0.009,2,    0.042,2,    0.000,2,   99.781,2
  096U20180111,  SR03,    78,  1,      1,      1,2,20180206,0642,-62.0003, 149.9997, 3707,   3779.1,   0.0411,  34.6671,2,  34.6679,2,    229.4,2,    229.6,2,   126.90,2,    32.51,2,     0.00,2,     2.25,2,        0,2,    1.401,2,    0.727,2,     0.38,2,   2258.7,6,   2358.9,6,-999.0000,9,  -999.00,    18.24,2,   -999.0,9,   -999.0,  -999.00,9,   0.00039,2,    0.009,2,    0.036,2,    0.000,2,   99.780,2