BOTTLE,20230418CCHSIOENA
EXPOCODE,SECT_ID,STNNBR,CASTNO,SAMPNO,BTLNBR,BTLNBR_FLAG_W,DATE,TIME,LATITUDE,LONGITUDE,DEPTH,CTDPRS,CTDTMP,CTDSAL,CTDSAL_FLAG_W,SALNTY,SALNTY_FLAG_W,CTDOXY,CTDOXY_FLAG_W,OXYGEN,OXYGEN_FLAG_W,SILCAT,SILCAT_FLAG_W,NITRAT,NITRAT_FLAG_W,NITRIT,NITRIT_FLAG_W,PHSPHT,PHSPHT_FLAG_W,NH4,NH4_FLAG_W,CFC-11,CFC-11_FLAG_W,CFC-12,CFC-12_FLAG_W,SF6,SF6_FLAG_W,TCARBN,TCARBN_FLAG_W,ALKALI,ALKALI_FLAG_W,PH_TOT,PH_TOT_FLAG_W,PH_TMP,N2O,N2O_FLAG_W,DELC14,DELC14_FLAG_W,C14ERR,DELC13,DELC13_FLAG_W,CTDBETA700,CTDBETA700_FLAG_W,CTDBEAMCP,CTDBEAMCP_FLAG_W,CTDFLUOR,CTDFLUOR_FLAG_W,PAR,PAR_FLAG_W,CTDXMISS,CTDXMISS_FLAG_W
,,,,,,,,,,,METERS,DBAR,ITS-90,PSS-78,,PSS-78,,UMOL/KG,,UMOL/KG,,UMOL/KG,,UMOL/KG,,UMOL/KG,,UMOL/KG,,UMOL/KG,,PMOL/KG,,PMOL/KG,,FMOL/KG,,UMOL/KG,,UMOL/KG,,,,DEG C,NMOL/KG,,/MILLE,,/MILLE,/MILLE,,VOLTS,,1/M,,MG/M^3,,UMOL/M^2/SEC,,%TRANS,
  096U20180111,  SR03,    58,  1,     36,     36,2,20180201,0152,-65.5302, 139.8505, 1289,      7.8,  -0.5034,  33.8394,2,-999.0000,9,    352.3,2,   -999.0,9,  -999.00,9,  -999.00,9,  -999.00,9,  -999.00,9,     -999,9, -999.000,9, -999.000,9,     -999,9,   -999.0,9,   -999.0,9,-999.0000,9,  -999.00,  -999.00,9,   -999.0,9,   -999.0,  -999.00,9,   0.00166,2,    0.174,2,    0.132,2,  413.000,2,   95.755,2
  096U20180111,  SR03,    58,  1,     35,     35,2,20180201,0152,-65.5302, 139.8505, 1289,      7.8,  -0.5069,  33.8394,2,  33.8376,2,    352.3,2,    352.2,2,    45.60,2,    25.39,2,     0.15,2,     1.72,2,     0.83,2,    5.658,2,    3.086,2,     3.85,2,   2162.7,2,   2292.9,2,-999.0000,9,  -999.00,    15.14,2,   -999.0,9,   -999.0,  -999.00,9,   0.00168,2,    0.172,2,    0.138,2,  419.000,2,   95.778,2
  096U20180111,  SR03,    58,  1,     34,     34,2,20180201,0152,-65.5302, 139.8505, 1289,     30.5,  -0.5962,  33.8402,2,-999.0000,9,    352.0,2,   -999.0,9,  -999.00,9,  -999.00,9,  -999.00,9,  -999.00,9,     -999,9, -999.000,9, -999.000,9,     -999,9,   -999.0,9,   -999.0,9,-999.0000,9,  -999.00,  -999.00,9,   -999.0,9,   -999.0,  -999.00,9,   0.00188,2,    0.172,2,    0.498,2,   50.800,2,   95.782,2
  096U20180111,  SR03,    58,  1,     33,     33,2,20180201,0152,-65.5302, 139.8505, 1289,     30.6,  -0.6007,  33.8404,2,  33.8389,2,    352.0,2,    352.6,2,    45.80,2,    25.21,2,     0.15,2,     1.73,2,     0.91,2, -999.000,9, -999.000,9,     -999,9,   2162.8,2,   2294.5,2,-999.0000,9,  -999.00,  -999.00,9,   -999.0,9,   -999.0,  -999.00,9,   0.00172,2,    0.175,2,    0.642,2,   48.200,2,   95.715,2
  096U20180111,  SR03,    58,  1,     32,     32,2,20180201,0152,-65.5302, 139.8505, 1289,     60.7,  -0.6813,  33.8500,2,-999.0000,9,    349.7,2,   -999.0,9,  -999.00,9,  -999.00,9,  -999.00,9,  -999.00,9,     -999,9, -999.000,9, -999.000,9,     -999,9,   -999.0,9,   -999.0,9,-999.0000,9,  -999.00,  -999.00,9,   -999.0,9,   -999.0,  -999.00,9,   0.00165,2,    0.159,2,    1.170,2,   10.300,2,   96.099,2
  096U20180111,  SR03,    58,  1,     31,     31,2,20180201,0152,-65.5302, 139.8505, 1289,     60.7,  -0.6755,  33.8485,2,  33.8520,2,    349.7,2,    351.6,2,    46.20,2,    25.34,2,     0.14,2,     1.75,2,     1.01,2,    5.601,2,    3.186,2,     3.91,2,   2165.5,6,   2294.3,6,-999.0000,9,  -999.00,    15.36,2,   -999.0,9,   -999.0,  -999.00,9,   0.00170,2,    0.159,2,    1.182,2,   10.500,2,   96.093,2
  096U20180111,  SR03,    58,  1,     30,     30,2,20180201,0152,-65.5302, 139.8505, 1289,    101.1,  -1.4970,  34.0993,2,-999.0000,9,    334.8,2,   -999.0,9,  -999.00,9,  -999.00,9,  -999.00,9,  -999.00,9,     -999,9, -999.000,9, -999.000,9,     -999,9,   -999.0,9,   -999.0,9,-999.0000,9,  -999.00,  -999.00,9,   -999.0,9,   -999.0,  -999.00,9,   0.00078,2,    0.048,2,    0.390,2,    1.490,2,   98.801,2
  096U20180111,  SR03,    58,  1,     29,     29,2,20180201,0152,-65.5302, 139.8505, 1289,    101.1,  -1.5082,  34.1040,2,  34.1355,2,    334.8,2,    334.8,2,    54.90,2,    27.88,2,     0.11,2,     2.04,2,     1.12,2,    5.258,2,    3.004,2,     3.64,2,   2198.0,2,   2312.4,2,-999.0000,9,  -999.00,    16.00,2,   -999.0,9,   -999.0,  -999.00,9,   0.00074,2,    0.048,2,    0.414,2,    1.590,2,   98.815,2
  096U20180111,  SR03,    58,  1,     28,     28,2,20180201,0152,-65.5302, 139.8505, 1289,    140.8,  -1.7710,  34.2773,2,-999.0000,9,    317.6,2,   -999.0,9,  -999.00,9,  -999.00,9,  -999.00,9,  -999.00,9,     -999,9, -999.000,9, -999.000,9,     -999,9,   -999.0,9,   -999.0,9,-999.0000,9,  -999.00,  -999.00,9,   -999.0,9,   -999.0,  -999.00,9,   0.00049,2,    0.018,2,    0.132,2,    0.360,2,   99.544,2
  096U20180111,  SR03,    58,  1,     27,     27,2,20180201,0152,-65.5302, 139.8505, 1289,    140.8,  -1.7707,  34.2779,2,  34.2849,2,    317.6,2,    318.4,2,    60.40,2,    30.22,2,     0.11,2,     2.14,2,     0.28,2, -999.000,9, -999.000,9,     -999,9,   -999.0,9,   -999.0,9,-999.0000,9,  -999.00,  -999.00,9,   -999.0,9,   -999.0,  -999.00,9,   0.00049,2,    0.018,2,    0.132,2,    0.340,2,   99.562,2
  096U20180111,  SR03,    58,  1,     26,     26,2,20180201,0152,-65.5302, 139.8505, 1289,    190.9,  -1.6288,  34.3811,2,-999.0000,9,    305.7,2,   -999.0,9,  -999.00,9,  -999.00,9,  -999.00,9,  -999.00,9,     -999,9, -999.000,9, -999.000,9,     -999,9,   -999.0,9,   -999.0,9,-999.0000,9,  -999.00,  -999.00,9,   -999.0,9,   -999.0,  -999.00,9,   0.00044,2,    0.009,2,    0.072,2,    0.039,2,   99.768,2
  096U20180111,  SR03,    58,  1,     25,     25,2,20180201,0152,-65.5302, 139.8505, 1289,    190.9,  -1.6422,  34.3783,2,  34.3798,2,    305.7,2,    305.2,2,    66.00,2,    30.85,2,     0.07,2,     2.16,2,     0.09,2, -999.000,9, -999.000,9,     -999,9,   2224.9,2,   2326.7,2,-999.0000,9,  -999.00,  -999.00,9,   -999.0,9,   -999.0,  -999.00,9,   0.00046,2,    0.009,2,    0.066,2,    0.039,2,   99.776,2
  096U20180111,  SR03,    58,  1,     24,     24,2,20180201,0152,-65.5302, 139.8505, 1289,    231.7,  -1.3120,  34.4329,2,-999.0000,9,    294.1,2,   -999.0,9,  -999.00,9,  -999.00,9,  -999.00,9,  -999.00,9,     -999,9, -999.000,9, -999.000,9,     -999,9,   -999.0,9,   -999.0,9,-999.0000,9,  -999.00,  -999.00,9,   -999.0,9,   -999.0,  -999.00,9,   0.00052,2,    0.006,2,    0.048,2,    0.000,2,   99.848,2
  096U20180111,  SR03,    58,  1,     23,     23,2,20180201,0152,-65.5302, 139.8505, 1289,    231.6,  -1.3140,  34.4325,2,  34.4309,2,    294.1,2,    290.3,2,    70.40,2,    31.21,2,     0.04,2,     2.18,2,     0.03,2,    4.013,2,    2.235,2,     2.46,2,   2231.1,2,   2328.7,2,-999.0000,9,  -999.00,    17.30,2,   -999.0,9,   -999.0,  -999.00,9,   0.00042,2,    0.007,2,    0.048,2,    0.000,2,   99.823,2
  096U20180111,  SR03,    58,  1,     22,     22,2,20180201,0152,-65.5302, 139.8505, 1289,    301.9,  -0.9562,  34.5026,2,-999.0000,9,    276.3,2,   -999.0,9,  -999.00,9,  -999.00,9,  -999.00,9,  -999.00,9,     -999,9, -999.000,9, -999.000,9,     -999,9,   -999.0,9,   -999.0,9,-999.0000,9,  -999.00,  -999.00,9,   -999.0,9,   -999.0,  -999.00,9,   0.00046,2,    0.009,2,    0.054,2,    0.000,2,   99.770,2
  096U20180111,  SR03,    58,  1,     21,     21,2,20180201,0152,-65.5302, 139.8505, 1289,    301.5,  -0.9699,  34.5008,2,  34.4977,2,    276.3,2,    277.3,2,    76.10,2,    31.10,2,     0.07,2,     2.19,2,     0.08,2, -999.000,9, -999.000,9,     -999,9,   2236.2,2,   2334.4,2,-999.0000,9,  -999.00,  -999.00,9,   -999.0,9,   -999.0,  -999.00,9,   0.00047,2,    0.009,2,    0.054,2,    0.000,2,   99.782,2
  096U20180111,  SR03,    58,  1,     20,     20,2,20180201,0152,-65.5302, 139.8505, 1289,    400.9,  -0.3250,  34.5808,2,-999.0000,9,    246.7,2,   -999.0,9,  -999.00,9,  -999.00,9,  -999.00,9,  -999.00,9,     -999,9, -999.000,9, -999.000,9,     -999,9,   -999.0,9,   -999.0,9,-999.0000,9,  -999.00,  -999.00,9,   -999.0,9,   -999.0,  -999.00,9,   0.00045,2,    0.006,2,    0.042,2,    0.000,2,   99.847,2
  096U20180111,  SR03,    58,  1,     19,     19,2,20180201,0152,-65.5302, 139.8505, 1289,    400.8,  -0.3086,  34.5820,2,  34.5798,2,    246.7,2,    250.7,2,    85.60,2,    31.46,2,     0.04,2,     2.20,2,     0.01,2,    2.472,2,    1.369,2,     1.46,2,   2243.4,2,   2343.4,6,-999.0000,9,  -999.00,    18.07,2,   -999.0,9,   -999.0,  -999.00,9,   0.00043,2,    0.006,2,    0.048,2,    0.000,2,   99.851,2
  096U20180111,  SR03,    58,  1,     18,     18,2,20180201,0152,-65.5302, 139.8505, 1289,    500.9,  -0.1481,  34.6075,2,-999.0000,9,    251.6,2,   -999.0,9,  -999.00,9,  -999.00,9,  -999.00,9,  -999.00,9,     -999,9, -999.000,9, -999.000,9,     -999,9,   -999.0,9,   -999.0,9,-999.0000,9,  -999.00,  -999.00,9,   -999.0,9,   -999.0,  -999.00,9,   0.00043,2,    0.006,2,    0.042,2,    0.000,2,   99.858,2
  096U20180111,  SR03,    58,  1,     17,     17,2,20180201,0152,-65.5302, 139.8505, 1289,    500.8,  -0.1477,  34.6075,2,  34.6064,2,    251.6,2,    243.1,2,    91.10,2,    31.60,2,     0.03,2,     2.21,2,     0.01,2, -999.000,9, -999.000,9,     -999,9,   -999.0,9,   -999.0,9,-999.0000,9,  -999.00,  -999.00,9,   -999.0,9,   -999.0,  -999.00,9,   0.00045,2,    0.005,2,    0.042,2,    0.000,2,   99.872,2
  096U20180111,  SR03,    58,  1,     16,     16,2,20180201,0152,-65.5302, 139.8505, 1289,    600.3,  -0.3827,  34.6040,2,-999.0000,9,    249.0,2,   -999.0,9,  -999.00,9,  -999.00,9,  -999.00,9,  -999.00,9,     -999,9, -999.000,9, -999.000,9,     -999,9,   -999.0,9,   -999.0,9,-999.0000,9,  -999.00,  -999.00,9,   -999.0,9,   -999.0,  -999.00,9,   0.00055,2,    0.012,2,    0.060,2,    0.000,2,   99.697,2
  096U20180111,  SR03,    58,  1,     15,     15,2,20180201,0152,-65.5302, 139.8505, 1289,    600.2,  -0.3806,  34.6040,2,  34.6035,2,    249.0,2,    249.8,2,    91.80,2,    31.49,2,     0.05,2,     2.21,2,     0.04,2,    2.349,2,    1.293,2,     1.34,2,   2248.0,2,   2347.3,2,-999.0000,9,  -999.00,    17.95,2,   -999.0,9,   -999.0,  -999.00,9,   0.00054,2,    0.011,2,    0.054,2,    0.000,2,   99.718,2
  096U20180111,  SR03,    58,  1,     14,     14,2,20180201,0152,-65.5302, 139.8505, 1289,    701.3,  -0.1009,  34.6451,2,-999.0000,9,    236.6,2,   -999.0,9,  -999.00,9,  -999.00,9,  -999.00,9,  -999.00,9,     -999,9, -999.000,9, -999.000,9,     -999,9,   -999.0,9,   -999.0,9,-999.0000,9,  -999.00,  -999.00,9,   -999.0,9,   -999.0,  -999.00,9,   0.00049,2,    0.005,2,    0.042,2,    0.000,2,   99.868,2
  096U20180111,  SR03,    58,  1,     13,     13,2,20180201,0152,-65.5302, 139.8505, 1289,    701.3,  -0.1035,  34.6451,2,  34.6582,4,    236.6,2,    234.3,2,   103.00,2,    31.92,2,     0.03,2,     2.24,2,        0,2, -999.000,9, -999.000,9,     -999,9,   -999.0,9,   -999.0,9,-999.0000,9,  -999.00,  -999.00,9,   -999.0,9,   -999.0,  -999.00,9,   0.00044,2,    0.005,2,    0.048,2,    0.000,2,   99.876,2
  096U20180111,  SR03,    58,  1,     12,     12,2,20180201,0152,-65.5302, 139.8505, 1289,    801.0,  -0.0864,  34.6546,2,-999.0000,9,    232.7,2,   -999.0,9,  -999.00,9,  -999.00,9,  -999.00,9,  -999.00,9,     -999,9, -999.000,9, -999.000,9,     -999,9,   -999.0,9,   -999.0,9,-999.0000,9,  -999.00,  -999.00,9,   -999.0,9,   -999.0,  -999.00,9,   0.00038,2,    0.002,2,    0.036,2,    0.000,2,   99.947,2
  096U20180111,  SR03,    58,  1,     11,     11,2,20180201,0152,-65.5302, 139.8505, 1289,    800.9,  -0.0921,  34.6542,2,  34.6534,2,    232.7,2,    231.4,2,   107.20,2,    32.10,2,     0.02,2,     2.26,2,        0,2,    1.540,2,    0.840,2,     0.89,2,   2255.5,2,   2355.1,2,-999.0000,9,  -999.00,    17.89,2,   -999.0,9,   -999.0,  -999.00,9,   0.00038,2,    0.002,2,    0.036,2,    0.000,2,   99.940,2
  096U20180111,  SR03,    58,  1,     10,     10,2,20180201,0152,-65.5302, 139.8505, 1289,    901.0,  -0.1135,  34.6589,2,-999.0000,9,    232.1,2,   -999.0,9,  -999.00,9,  -999.00,9,  -999.00,9,  -999.00,9,     -999,9, -999.000,9, -999.000,9,     -999,9,   -999.0,9,   -999.0,9,-999.0000,9,  -999.00,  -999.00,9,   -999.0,9,   -999.0,  -999.00,9,   0.00038,2,    0.000,2,    0.036,2,    0.000,2,   99.992,2
  096U20180111,  SR03,    58,  1,      9,      9,2,20180201,0152,-65.5302, 139.8505, 1289,    900.9,  -0.1171,  34.6591,2,  34.6572,2,    232.3,2,    230.9,2,   109.00,2,    32.21,2,     0.02,2,     2.26,2,        0,2,    1.562,2,    0.829,2,     0.83,2,   -999.0,9,   -999.0,9,-999.0000,9,  -999.00,    18.02,2,   -999.0,9,   -999.0,  -999.00,9,   0.00037,2,    0.001,2,    0.042,2,    0.000,2,   99.983,2
  096U20180111,  SR03,    58,  1,      8,      8,2,20180201,0152,-65.5302, 139.8505, 1289,   1050.6,  -0.4531,  34.6296,2,-999.0000,9,    248.3,2,   -999.0,9,  -999.00,9,  -999.00,9,  -999.00,9,  -999.00,9,     -999,9, -999.000,9, -999.000,9,     -999,9,   -999.0,9,   -999.0,9,-999.0000,9,  -999.00,  -999.00,9,   -999.0,9,   -999.0,  -999.00,9,   0.00061,2,    0.009,2,    0.042,2,    0.000,2,   99.775,2
  096U20180111,  SR03,    58,  1,      7,      7,2,20180201,0152,-65.5302, 139.8505, 1289,   1050.6,  -0.4528,  34.6297,2,  34.6274,2,    248.3,2,    246.5,2,    99.50,2,    31.84,2,     0.04,2,     2.24,2,     0.02,2,    2.207,2,    1.227,2,     1.41,2,   2253.1,2,   2348.2,2,-999.0000,9,  -999.00,    18.12,2,   -999.0,9,   -999.0,  -999.00,9,   0.00054,2,    0.010,2,    0.042,2,    0.000,2,   99.761,2
  096U20180111,  SR03,    58,  1,      6,      6,2,20180201,0152,-65.5302, 139.8505, 1289,   1201.2,  -0.4863,  34.6263,2,-999.0000,9,    246.1,2,   -999.0,9,  -999.00,9,  -999.00,9,  -999.00,9,  -999.00,9,     -999,9, -999.000,9, -999.000,9,     -999,9,   -999.0,9,   -999.0,9,-999.0000,9,  -999.00,  -999.00,9,   -999.0,9,   -999.0,  -999.00,9,   0.00053,2,    0.011,2,    0.042,2,    0.000,2,   99.732,2
  096U20180111,  SR03,    58,  1,      5,      5,2,20180201,0152,-65.5302, 139.8505, 1289,   1201.1,  -0.4875,  34.6261,2,  34.6260,2,    246.1,2,    248.0,2,    98.90,2,    31.85,2,     0.04,2,     2.24,2,     0.02,2,    2.274,2,    1.232,2,      1.4,2,   2252.5,6,   2349.7,6,-999.0000,9,  -999.00,    17.78,2,   -999.0,9,   -999.0,  -999.00,9,   0.00054,2,    0.012,2,    0.048,2,    0.000,2,   99.704,2
  096U20180111,  SR03,    58,  1,      4,      4,2,20180201,0152,-65.5302, 139.8505, 1289,   1270.3,  -0.4709,  34.6275,2,  34.6250,2,    247.8,2,    247.7,2,    99.00,2,    31.85,2,     0.04,2,     2.24,2,     0.02,2,    2.257,2,    1.237,2,     1.35,2,   -999.0,9,   -999.0,9,-999.0000,9,  -999.00,    17.70,2,   -999.0,9,   -999.0,  -999.00,9,   0.00053,2,    0.010,2,    0.042,2,    0.000,2,   99.752,2
  096U20180111,  SR03,    58,  1,      3,      3,2,20180201,0152,-65.5302, 139.8505, 1289,   1323.5,  -0.4654,  34.6278,2,-999.0000,9,    247.8,2,   -999.0,9,  -999.00,9,  -999.00,9,  -999.00,9,  -999.00,9,     -999,9, -999.000,9, -999.000,9,     -999,9,   -999.0,9,   -999.0,9,-999.0000,9,  -999.00,  -999.00,9,   -999.0,9,   -999.0,  -999.00,9,   0.00057,2,    0.010,2,    0.048,2,    0.000,2,   99.752,2
  096U20180111,  SR03,    58,  1,      2,      2,2,20180201,0152,-65.5302, 139.8505, 1289,   1323.5,  -0.4639,  34.6279,2,-999.0000,9,    247.8,2,   -999.0,9,  -999.00,9,  -999.00,9,  -999.00,9,  -999.00,9,     -999,9, -999.000,9, -999.000,9,     -999,9,   -999.0,9,   -999.0,9,-999.0000,9,  -999.00,  -999.00,9,   -999.0,9,   -999.0,  -999.00,9,   0.00056,2,    0.010,2,    0.042,2,    0.000,2,   99.753,2
  096U20180111,  SR03,    58,  1,      1,      1,2,20180201,0152,-65.5302, 139.8505, 1289,   1323.5,  -0.4641,  34.6278,2,  34.6311,2,    247.8,2,    247.9,2,    99.30,2,    31.85,2,     0.04,2,     2.24,2,     0.02,2,    2.254,2,    1.221,2,     1.39,2,   2251.3,2,   2351.1,2,-999.0000,9,  -999.00,    17.78,2,   -999.0,9,   -999.0,  -999.00,9,   0.00055,2,    0.010,2,    0.042,2,    0.000,2,   99.747,2