BOTTLE,20230418CCHSIOENA
EXPOCODE,SECT_ID,STNNBR,CASTNO,SAMPNO,BTLNBR,BTLNBR_FLAG_W,DATE,TIME,LATITUDE,LONGITUDE,DEPTH,CTDPRS,CTDTMP,CTDSAL,CTDSAL_FLAG_W,SALNTY,SALNTY_FLAG_W,CTDOXY,CTDOXY_FLAG_W,OXYGEN,OXYGEN_FLAG_W,SILCAT,SILCAT_FLAG_W,NITRAT,NITRAT_FLAG_W,NITRIT,NITRIT_FLAG_W,PHSPHT,PHSPHT_FLAG_W,NH4,NH4_FLAG_W,CFC-11,CFC-11_FLAG_W,CFC-12,CFC-12_FLAG_W,SF6,SF6_FLAG_W,TCARBN,TCARBN_FLAG_W,ALKALI,ALKALI_FLAG_W,PH_TOT,PH_TOT_FLAG_W,PH_TMP,N2O,N2O_FLAG_W,DELC14,DELC14_FLAG_W,C14ERR,DELC13,DELC13_FLAG_W,CTDBETA700,CTDBETA700_FLAG_W,CTDBEAMCP,CTDBEAMCP_FLAG_W,CTDFLUOR,CTDFLUOR_FLAG_W,PAR,PAR_FLAG_W,CTDXMISS,CTDXMISS_FLAG_W
,,,,,,,,,,,METERS,DBAR,ITS-90,PSS-78,,PSS-78,,UMOL/KG,,UMOL/KG,,UMOL/KG,,UMOL/KG,,UMOL/KG,,UMOL/KG,,UMOL/KG,,PMOL/KG,,PMOL/KG,,FMOL/KG,,UMOL/KG,,UMOL/KG,,,,DEG C,NMOL/KG,,/MILLE,,/MILLE,/MILLE,,VOLTS,,1/M,,MG/M^3,,UMOL/M^2/SEC,,%TRANS,
  096U20180111,  SR03,    63,  1,     36,     36,2,20180202,0810,-66.3208, 144.3910,  432,     11.2,  -1.3013,  33.5231,2,-999.0000,9,    357.0,2,   -999.0,9,  -999.00,9,  -999.00,9,  -999.00,9,  -999.00,9,     -999,9, -999.000,9, -999.000,9,     -999,9,   -999.0,9,   -999.0,9,-999.0000,9,  -999.00,  -999.00,9,   -999.0,9,   -999.0,  -999.00,9,   0.00419,2,    0.400,2,    3.468,2,   17.100,2,   90.495,2
  096U20180111,  SR03,    63,  1,     35,     35,2,20180202,0810,-66.3208, 144.3910,  432,     11.2,  -1.2995,  33.5216,2,-999.0000,9,    357.0,2,   -999.0,9,  -999.00,9,  -999.00,9,  -999.00,9,  -999.00,9,     -999,9, -999.000,9, -999.000,9,     -999,9,   -999.0,9,   -999.0,9,-999.0000,9,  -999.00,  -999.00,9,   -999.0,9,   -999.0,  -999.00,9,   0.00384,2,    0.386,2,    3.342,2,   17.200,2,   90.811,2
  096U20180111,  SR03,    63,  1,     34,     34,2,20180202,0810,-66.3208, 144.3910,  432,     11.2,  -1.3031,  33.5242,2,  33.5303,2,    357.0,2,    360.6,2,    45.30,2,    24.90,2,     0.17,2,     1.59,2,     0.09,2,    5.679,2,    3.153,2,     4.03,2,   2138.1,2,   2271.9,6,-999.0000,9,  -999.00,    15.44,2,   -999.0,9,   -999.0,  -999.00,9,   0.00370,2,    0.390,2,    3.582,2,   16.700,2,   90.706,2
  096U20180111,  SR03,    63,  1,     33,     33,2,20180202,0810,-66.3208, 144.3910,  432,     26.2,  -1.2897,  33.5455,2,-999.0000,9,    359.9,2,   -999.0,9,  -999.00,9,  -999.00,9,  -999.00,9,  -999.00,9,     -999,9, -999.000,9, -999.000,9,     -999,9,   -999.0,9,   -999.0,9,-999.0000,9,  -999.00,  -999.00,9,   -999.0,9,   -999.0,  -999.00,9,   0.00662,2,    0.562,2,    6.840,2,    2.500,2,   86.906,2
  096U20180111,  SR03,    63,  1,     32,     32,2,20180202,0810,-66.3208, 144.3910,  432,     26.2,  -1.2909,  33.5449,2,-999.0000,9,    359.9,2,   -999.0,9,  -999.00,9,  -999.00,9,  -999.00,9,  -999.00,9,     -999,9, -999.000,9, -999.000,9,     -999,9,   -999.0,9,   -999.0,9,-999.0000,9,  -999.00,  -999.00,9,   -999.0,9,   -999.0,  -999.00,9,   0.00608,2,    0.552,2,    7.344,2,    2.500,2,   87.114,2
  096U20180111,  SR03,    63,  1,     31,     31,2,20180202,0810,-66.3208, 144.3910,  432,     26.2,  -1.2906,  33.5450,2,  33.5810,2,    359.9,2,    357.9,2,    46.10,2,    24.94,2,     0.16,2,     1.61,2,     0.16,2, -999.000,9, -999.000,9,     -999,9,   2143.6,2,   2276.9,2,-999.0000,9,  -999.00,  -999.00,9,   -999.0,9,   -999.0,  -999.00,9,   0.00615,2,    0.550,2,    6.810,2,    2.540,2,   87.156,2
  096U20180111,  SR03,    63,  1,     30,     30,2,20180202,0810,-66.3208, 144.3910,  432,     35.1,  -1.2377,  33.5957,2,-999.0000,9,    358.2,2,   -999.0,9,  -999.00,9,  -999.00,9,  -999.00,9,  -999.00,9,     -999,9, -999.000,9, -999.000,9,     -999,9,   -999.0,9,   -999.0,9,-999.0000,9,  -999.00,  -999.00,9,   -999.0,9,   -999.0,  -999.00,9,   0.00465,2,    0.418,2,    5.172,2,    0.736,2,   90.081,2
  096U20180111,  SR03,    63,  1,     29,     29,2,20180202,0810,-66.3208, 144.3910,  432,     35.1,  -1.2375,  33.5972,2,-999.0000,9,    358.2,2,   -999.0,9,  -999.00,9,  -999.00,9,  -999.00,9,  -999.00,9,     -999,9, -999.000,9, -999.000,9,     -999,9,   -999.0,9,   -999.0,9,-999.0000,9,  -999.00,  -999.00,9,   -999.0,9,   -999.0,  -999.00,9,   0.00441,2,    0.423,2,    4.968,2,    0.745,2,   89.971,2
  096U20180111,  SR03,    63,  1,     28,     28,2,20180202,0810,-66.3208, 144.3910,  432,     35.1,  -1.2347,  33.6001,2,  33.6177,2,    358.2,2,    356.8,2,    46.80,2,    24.77,2,     0.16,2,     1.61,2,     0.23,2, -999.000,9, -999.000,9,     -999,9,   -999.0,9,   -999.0,9,-999.0000,9,  -999.00,  -999.00,9,   -999.0,9,   -999.0,  -999.00,9,   0.00440,2,    0.393,2,    5.238,2,    0.745,2,   90.634,2
  096U20180111,  SR03,    63,  1,     27,     27,2,20180202,0810,-66.3208, 144.3910,  432,     50.6,  -1.1072,  33.8385,2,-999.0000,9,    347.8,2,   -999.0,9,  -999.00,9,  -999.00,9,  -999.00,9,  -999.00,9,     -999,9, -999.000,9, -999.000,9,     -999,9,   -999.0,9,   -999.0,9,-999.0000,9,  -999.00,  -999.00,9,   -999.0,9,   -999.0,  -999.00,9,   0.00401,2,    0.325,2,    4.548,2,    0.081,2,   92.189,2
  096U20180111,  SR03,    63,  1,     26,     26,2,20180202,0810,-66.3208, 144.3910,  432,     50.6,  -1.1070,  33.8425,2,-999.0000,9,    347.8,2,   -999.0,9,  -999.00,9,  -999.00,9,  -999.00,9,  -999.00,9,     -999,9, -999.000,9, -999.000,9,     -999,9,   -999.0,9,   -999.0,9,-999.0000,9,  -999.00,  -999.00,9,   -999.0,9,   -999.0,  -999.00,9,   0.00375,2,    0.322,2,    4.152,2,    0.078,2,   92.261,2
  096U20180111,  SR03,    63,  1,     25,     25,2,20180202,0810,-66.3208, 144.3910,  432,     50.5,  -1.1070,  33.8436,2,  33.9251,2,    347.8,2,    348.9,2,    52.90,2,    24.63,2,     0.14,2,     1.70,2,      0.8,2, -999.000,9, -999.000,9,     -999,9,   -999.0,9,   -999.0,9,-999.0000,9,  -999.00,  -999.00,9,   -999.0,9,   -999.0,  -999.00,9,   0.00374,2,    0.316,2,    4.170,2,    0.075,2,   92.398,2
  096U20180111,  SR03,    63,  1,     24,     24,2,20180202,0810,-66.3208, 144.3910,  432,     90.3,  -1.4449,  34.3775,2,-999.0000,9,    310.8,2,   -999.0,9,  -999.00,9,  -999.00,9,  -999.00,9,  -999.00,9,     -999,9, -999.000,9, -999.000,9,     -999,9,   -999.0,9,   -999.0,9,-999.0000,9,  -999.00,  -999.00,9,   -999.0,9,   -999.0,  -999.00,9,   0.00081,2,    0.042,2,    0.462,2,    0.000,2,   98.955,2
  096U20180111,  SR03,    63,  1,     23,     23,2,20180202,0810,-66.3208, 144.3910,  432,     90.3,  -1.4450,  34.3776,2,-999.0000,9,    310.8,2,   -999.0,9,  -999.00,9,  -999.00,9,  -999.00,9,  -999.00,9,     -999,9, -999.000,9, -999.000,9,     -999,9,   -999.0,9,   -999.0,9,-999.0000,9,  -999.00,  -999.00,9,   -999.0,9,   -999.0,  -999.00,9,   0.00087,2,    0.037,2,    0.558,2,    0.000,2,   99.072,2
  096U20180111,  SR03,    63,  1,     22,     22,2,20180202,0810,-66.3208, 144.3910,  432,     90.4,  -1.4455,  34.3782,2,  34.3782,2,    310.8,2,    304.0,2,    71.20,2,    28.84,2,     0.08,2,     2.10,2,     1.05,2, -999.000,9, -999.000,9,     -999,9,   -999.0,9,   -999.0,9,-999.0000,9,  -999.00,  -999.00,9,   -999.0,9,   -999.0,  -999.00,9,   0.00078,2,    0.051,2,    0.468,2,    0.000,2,   98.740,2
  096U20180111,  SR03,    63,  1,     21,     21,2,20180202,0810,-66.3208, 144.3910,  432,    141.4,  -1.6385,  34.4674,2,-999.0000,9,    297.8,2,   -999.0,9,  -999.00,9,  -999.00,9,  -999.00,9,  -999.00,9,     -999,9, -999.000,9, -999.000,9,     -999,9,   -999.0,9,   -999.0,9,-999.0000,9,  -999.00,  -999.00,9,   -999.0,9,   -999.0,  -999.00,9,   0.00055,2,    0.014,2,    0.132,2,    0.000,2,   99.638,2
  096U20180111,  SR03,    63,  1,     20,     20,2,20180202,0810,-66.3208, 144.3910,  432,    141.4,  -1.6340,  34.4675,2,-999.0000,9,    297.8,2,   -999.0,9,  -999.00,9,  -999.00,9,  -999.00,9,  -999.00,9,     -999,9, -999.000,9, -999.000,9,     -999,9,   -999.0,9,   -999.0,9,-999.0000,9,  -999.00,  -999.00,9,   -999.0,9,   -999.0,  -999.00,9,   0.00058,2,    0.012,2,    0.144,2,    0.000,2,   99.696,2
  096U20180111,  SR03,    63,  1,     19,     19,2,20180202,0810,-66.3208, 144.3910,  432,    141.3,  -1.6304,  34.4678,2,  34.4692,2,    297.8,2,    295.2,2,    76.40,2,    30.17,2,     0.07,2,     2.17,2,     0.59,2,    4.181,2,    2.306,2,     2.75,2,   2232.3,6,   2334.5,6,-999.0000,9,  -999.00,    17.15,2,   -999.0,9,   -999.0,  -999.00,9,   0.00077,2,    0.012,2,    0.144,2,    0.000,2,   99.692,2
  096U20180111,  SR03,    63,  1,     18,     18,2,20180202,0810,-66.3208, 144.3910,  432,    216.2,  -1.4861,  34.5195,2,-999.0000,9,    287.1,2,   -999.0,9,  -999.00,9,  -999.00,9,  -999.00,9,  -999.00,9,     -999,9, -999.000,9, -999.000,9,     -999,9,   -999.0,9,   -999.0,9,-999.0000,9,  -999.00,  -999.00,9,   -999.0,9,   -999.0,  -999.00,9,   0.00044,2,    0.007,2,    0.108,2,    0.000,2,   99.825,2
  096U20180111,  SR03,    63,  1,     17,     17,2,20180202,0810,-66.3208, 144.3910,  432,    216.2,  -1.4864,  34.5196,2,-999.0000,9,    287.1,2,   -999.0,9,  -999.00,9,  -999.00,9,  -999.00,9,  -999.00,9,     -999,9, -999.000,9, -999.000,9,     -999,9,   -999.0,9,   -999.0,9,-999.0000,9,  -999.00,  -999.00,9,   -999.0,9,   -999.0,  -999.00,9,   0.00046,2,    0.009,2,    0.108,2,    0.000,2,   99.785,2
  096U20180111,  SR03,    63,  1,     16,     16,2,20180202,0810,-66.3208, 144.3910,  432,    216.2,  -1.4880,  34.5196,2,  34.5206,2,    287.1,2,    287.7,2,    78.80,2,    30.97,2,     0.07,2,     2.18,2,     0.09,2, -999.000,9, -999.000,9,     -999,9,   -999.0,9,   -999.0,9,-999.0000,9,  -999.00,  -999.00,9,   -999.0,9,   -999.0,  -999.00,9,   0.00047,2,    0.007,2,    0.108,2,    0.000,2,   99.837,2
  096U20180111,  SR03,    63,  1,     15,     15,2,20180202,0810,-66.3208, 144.3910,  432,    250.3,  -1.7799,  34.5231,2,-999.0000,9,    297.4,2,   -999.0,9,  -999.00,9,  -999.00,9,  -999.00,9,  -999.00,9,     -999,9, -999.000,9, -999.000,9,     -999,9,   -999.0,9,   -999.0,9,-999.0000,9,  -999.00,  -999.00,9,   -999.0,9,   -999.0,  -999.00,9,   0.00046,2,    0.008,2,    0.126,2,    0.000,2,   99.807,2
  096U20180111,  SR03,    63,  1,     14,     14,2,20180202,0810,-66.3208, 144.3910,  432,    250.3,  -1.7804,  34.5233,2,-999.0000,9,    297.4,2,   -999.0,9,  -999.00,9,  -999.00,9,  -999.00,9,  -999.00,9,     -999,9, -999.000,9, -999.000,9,     -999,9,   -999.0,9,   -999.0,9,-999.0000,9,  -999.00,  -999.00,9,   -999.0,9,   -999.0,  -999.00,9,   0.00047,2,    0.007,2,    0.102,2,    0.000,2,   99.816,2
  096U20180111,  SR03,    63,  1,     13,     13,2,20180202,0810,-66.3208, 144.3910,  432,    250.3,  -1.7801,  34.5231,2,  34.5247,2,    297.4,2,    297.4,2,    76.70,2,    30.77,2,     0.06,2,     2.17,2,      0.1,2, -999.000,9, -999.000,9,     -999,9,   2235.2,2,   2337.1,2,-999.0000,9,  -999.00,  -999.00,9,   -999.0,9,   -999.0,  -999.00,9,   0.00044,2,    0.008,2,    0.132,2,    0.000,2,   99.796,2
  096U20180111,  SR03,    63,  1,     12,     12,2,20180202,0810,-66.3208, 144.3910,  432,    310.8,  -1.8707,  34.5552,2,-999.0000,9,    300.2,2,   -999.0,9,  -999.00,9,  -999.00,9,  -999.00,9,  -999.00,9,     -999,9, -999.000,9, -999.000,9,     -999,9,   -999.0,9,   -999.0,9,-999.0000,9,  -999.00,  -999.00,9,   -999.0,9,   -999.0,  -999.00,9,   0.00060,2,    0.012,2,    0.096,2,    0.000,2,   99.690,2
  096U20180111,  SR03,    63,  1,     11,     11,2,20180202,0810,-66.3208, 144.3910,  432,    310.8,  -1.8704,  34.5552,2,-999.0000,9,    300.2,2,   -999.0,9,  -999.00,9,  -999.00,9,  -999.00,9,  -999.00,9,     -999,9, -999.000,9, -999.000,9,     -999,9,   -999.0,9,   -999.0,9,-999.0000,9,  -999.00,  -999.00,9,   -999.0,9,   -999.0,  -999.00,9,   0.00060,2,    0.012,2,    0.090,2,    0.000,2,   99.706,2
  096U20180111,  SR03,    63,  1,     10,     10,2,20180202,0810,-66.3208, 144.3910,  432,    310.8,  -1.8707,  34.5553,2,-999.0000,9,    300.2,2,   -999.0,9,  -999.00,9,  -999.00,9,  -999.00,9,  -999.00,9,     -999,9, -999.000,9, -999.000,9,     -999,9,   -999.0,9,   -999.0,9,-999.0000,9,  -999.00,  -999.00,9,   -999.0,9,   -999.0,  -999.00,9,   0.00056,2,    0.013,2,    0.096,2,    0.000,2,   99.687,2
  096U20180111,  SR03,    63,  1,      9,      9,2,20180202,0810,-66.3208, 144.3910,  432,    310.7,  -1.8708,  34.5552,2,  34.5565,2,    300.2,2,    300.5,2,    76.30,2,    31.01,2,     0.05,2,     2.18,2,     0.02,2,    4.325,2,    2.427,2,     2.67,2,   2237.9,2,   2339.8,2,-999.0000,9,  -999.00,    17.39,2,   -999.0,9,   -999.0,  -999.00,9,   0.00054,2,    0.012,2,    0.096,2,    0.000,2,   99.698,2
  096U20180111,  SR03,    63,  1,      8,      8,2,20180202,0810,-66.3208, 144.3910,  432,    381.0,  -1.9136,  34.5830,2,-999.0000,9,    302.9,2,   -999.0,9,  -999.00,9,  -999.00,9,  -999.00,9,  -999.00,9,     -999,9, -999.000,9, -999.000,9,     -999,9,   -999.0,9,   -999.0,9,-999.0000,9,  -999.00,  -999.00,9,   -999.0,9,   -999.0,  -999.00,9,   0.00074,2,    0.018,2,    0.072,2,    0.000,2,   99.543,2
  096U20180111,  SR03,    63,  1,      7,      7,2,20180202,0810,-66.3208, 144.3910,  432,    380.9,  -1.9123,  34.5831,2,-999.0000,9,    302.9,2,   -999.0,9,  -999.00,9,  -999.00,9,  -999.00,9,  -999.00,9,     -999,9, -999.000,9, -999.000,9,     -999,9,   -999.0,9,   -999.0,9,-999.0000,9,  -999.00,  -999.00,9,   -999.0,9,   -999.0,  -999.00,9,   0.00072,2,    0.018,2,    0.072,2,    0.000,2,   99.563,2
  096U20180111,  SR03,    63,  1,      6,      6,2,20180202,0810,-66.3208, 144.3910,  432,    380.8,  -1.9119,  34.5830,2,-999.0000,9,    302.9,2,   -999.0,9,  -999.00,9,  -999.00,9,  -999.00,9,  -999.00,9,     -999,9, -999.000,9, -999.000,9,     -999,9,   -999.0,9,   -999.0,9,-999.0000,9,  -999.00,  -999.00,9,   -999.0,9,   -999.0,  -999.00,9,   0.00071,2,    0.017,2,    0.072,2,    0.000,2,   99.570,2
  096U20180111,  SR03,    63,  1,      5,      5,2,20180202,0810,-66.3208, 144.3910,  432,    380.7,  -1.9123,  34.5829,2,  34.5865,2,    302.9,2,    303.4,2,    76.00,2,    30.91,2,     0.04,2,     2.18,2,     0.02,2,    4.399,2,    2.464,2,     2.75,2,   -999.0,9,   -999.0,9,-999.0000,9,  -999.00,    17.24,2,   -999.0,9,   -999.0,  -999.00,9,   0.00070,2,    0.017,2,    0.078,2,    0.000,2,   99.568,2
  096U20180111,  SR03,    63,  1,      4,      4,2,20180202,0810,-66.3208, 144.3910,  432,    430.6,  -1.9268,  34.5963,2,-999.0000,9,    304.4,2,   -999.0,9,  -999.00,9,  -999.00,9,  -999.00,9,  -999.00,9,     -999,9, -999.000,9, -999.000,9,     -999,9,   -999.0,9,   -999.0,9,-999.0000,9,  -999.00,  -999.00,9,   -999.0,9,   -999.0,  -999.00,9,   0.00077,2,    0.021,2,    0.060,2,    0.000,2,   99.479,2
  096U20180111,  SR03,    63,  1,      3,      3,2,20180202,0810,-66.3208, 144.3910,  432,    430.5,  -1.9276,  34.5960,2,-999.0000,9,    304.4,2,   -999.0,9,  -999.00,9,  -999.00,9,  -999.00,9,  -999.00,9,     -999,9, -999.000,9, -999.000,9,     -999,9,   -999.0,9,   -999.0,9,-999.0000,9,  -999.00,  -999.00,9,   -999.0,9,   -999.0,  -999.00,9,   0.00079,2,    0.018,2,    0.060,2,    0.000,2,   99.545,2
  096U20180111,  SR03,    63,  1,      2,      2,2,20180202,0810,-66.3208, 144.3910,  432,    430.5,  -1.9276,  34.5960,2,-999.0000,9,    304.4,2,   -999.0,9,  -999.00,9,  -999.00,9,  -999.00,9,  -999.00,9,     -999,9, -999.000,9, -999.000,9,     -999,9,   -999.0,9,   -999.0,9,-999.0000,9,  -999.00,  -999.00,9,   -999.0,9,   -999.0,  -999.00,9,   0.00075,2,    0.019,2,    0.054,2,    0.000,2,   99.519,2
  096U20180111,  SR03,    63,  1,      1,      1,2,20180202,0810,-66.3208, 144.3910,  432,    430.2,  -1.9283,  34.5957,2,  34.5937,2,    304.4,2,    304.4,2,    75.80,2,    30.96,2,     0.03,2,     2.17,2,     0.01,2,    4.432,2,    2.483,2,     2.73,2,   2240.1,2,   2342.2,2,-999.0000,9,  -999.00,    17.31,2,   -999.0,9,   -999.0,  -999.00,9,   0.00084,2,    0.017,2,    0.054,2,    0.000,2,   99.568,2