BOTTLE,20230418CCHSIOENA
EXPOCODE,SECT_ID,STNNBR,CASTNO,SAMPNO,BTLNBR,BTLNBR_FLAG_W,DATE,TIME,LATITUDE,LONGITUDE,DEPTH,CTDPRS,CTDTMP,CTDSAL,CTDSAL_FLAG_W,SALNTY,SALNTY_FLAG_W,CTDOXY,CTDOXY_FLAG_W,OXYGEN,OXYGEN_FLAG_W,SILCAT,SILCAT_FLAG_W,NITRAT,NITRAT_FLAG_W,NITRIT,NITRIT_FLAG_W,PHSPHT,PHSPHT_FLAG_W,NH4,NH4_FLAG_W,CFC-11,CFC-11_FLAG_W,CFC-12,CFC-12_FLAG_W,SF6,SF6_FLAG_W,TCARBN,TCARBN_FLAG_W,ALKALI,ALKALI_FLAG_W,PH_TOT,PH_TOT_FLAG_W,PH_TMP,N2O,N2O_FLAG_W,DELC14,DELC14_FLAG_W,C14ERR,DELC13,DELC13_FLAG_W,CTDBETA700,CTDBETA700_FLAG_W,CTDBEAMCP,CTDBEAMCP_FLAG_W,CTDFLUOR,CTDFLUOR_FLAG_W,PAR,PAR_FLAG_W,CTDXMISS,CTDXMISS_FLAG_W
,,,,,,,,,,,METERS,DBAR,ITS-90,PSS-78,,PSS-78,,UMOL/KG,,UMOL/KG,,UMOL/KG,,UMOL/KG,,UMOL/KG,,UMOL/KG,,UMOL/KG,,PMOL/KG,,PMOL/KG,,FMOL/KG,,UMOL/KG,,UMOL/KG,,,,DEG C,NMOL/KG,,/MILLE,,/MILLE,/MILLE,,VOLTS,,1/M,,MG/M^3,,UMOL/M^2/SEC,,%TRANS,
  096U20180111,  SR03,    49,  1,     36,     36,2,20180129,0316,-62.8502, 139.8518, 3168,     12.7,   0.9923,  33.8101,2,-999.0000,9,    340.0,2,   -999.0,9,  -999.00,9,  -999.00,9,  -999.00,9,  -999.00,9,     -999,9, -999.000,9, -999.000,9,     -999,9,   -999.0,9,   -999.0,9,-999.0000,9,  -999.00,  -999.00,9,   -999.0,9,   -999.0,  -999.00,9,   0.00367,2,    0.333,2,    2.724,2,   24.000,2,   92.003,2
  096U20180111,  SR03,    49,  1,     35,     35,2,20180129,0316,-62.8502, 139.8518, 3168,     12.5,   0.9921,  33.8101,2,  33.8108,2,    340.0,2,    340.5,2,    36.20,2,    26.60,2,     0.23,2,     1.70,2,     0.05,2,    5.266,2,    2.879,2,     3.29,2,   2158.4,2,   2287.2,2,   7.6882,   2,    25.00,    14.65,2,   -999.0,9,   -999.0,  -999.00,9,   0.00342,2,    0.334,2,    2.616,2,   23.600,2,   91.997,2
  096U20180111,  SR03,    49,  1,     34,     34,2,20180129,0316,-62.8502, 139.8518, 3168,     24.8,   0.9889,  33.8104,2,  33.8107,2,    340.2,2,    340.4,2,    36.20,2,    26.62,2,     0.23,2,     1.72,2,     0.05,2, -999.000,9, -999.000,9,     -999,9,   -999.0,9,   -999.0,9,-999.0000,9,  -999.00,  -999.00,9,   -999.0,9,   -999.0,  -999.00,9,   0.00405,2,    0.333,2,    2.880,2,    7.600,2,   92.018,2
  096U20180111,  SR03,    49,  1,     33,     33,2,20180129,0316,-62.8502, 139.8518, 3168,     46.5,   0.0224,  33.9051,2,  33.8964,2,    321.7,2,    331.7,2,    41.40,2,    27.90,2,     0.18,2,     1.89,2,     0.11,2, -999.000,9, -999.000,9,     -999,9,   2172.5,6,   2293.1,6,   7.6653,   2,    25.00,  -999.00,9,   -999.0,9,   -999.0,  -999.00,9,   0.00552,2,    0.379,2,    5.940,2,    1.350,2,   90.955,2
  096U20180111,  SR03,    49,  1,     32,     32,2,20180129,0316,-62.8502, 139.8518, 3168,     46.5,   0.0390,  33.9031,2,-999.0000,9,    321.7,2,   -999.0,9,  -999.00,9,  -999.00,9,  -999.00,9,  -999.00,9,     -999,9, -999.000,9, -999.000,9,     -999,9,   -999.0,9,   -999.0,9,-999.0000,9,  -999.00,  -999.00,9,   -999.0,9,   -999.0,  -999.00,9,   0.00536,2,    0.398,2,    6.180,2,    1.400,2,   90.530,2
  096U20180111,  SR03,    49,  1,     31,     31,2,20180129,0316,-62.8502, 139.8518, 3168,     60.7,  -0.3533,  34.1613,2,  34.1813,2,    274.4,2,    277.2,2,    58.40,2,    30.85,2,     0.16,2,     2.16,2,     0.34,2, -999.000,9, -999.000,9,     -999,9,   -999.0,9,   -999.0,9,-999.0000,9,  -999.00,  -999.00,9,   -999.0,9,   -999.0,  -999.00,9,   0.00197,2,    0.126,2,    2.436,2,    0.335,2,   96.908,2
  096U20180111,  SR03,    49,  1,     30,     30,2,20180129,0316,-62.8502, 139.8518, 3168,     86.4,   0.8146,  34.4358,2,  34.4385,2,    216.1,2,    212.7,2,    71.30,2,    33.46,2,     0.17,2,     2.32,2,     0.02,2,    2.042,2,    1.100,2,      1.4,2,   2243.0,2,   2326.6,2,   7.5532,   2,    25.00,    21.54,2,   -999.0,9,   -999.0,  -999.00,9,   0.00068,2,    0.030,2,    0.330,2,    0.049,2,   99.259,2
  096U20180111,  SR03,    49,  1,     29,     29,2,20180129,0316,-62.8502, 139.8518, 3168,    130.7,   1.5269,  34.5660,2,  34.5699,2,    188.0,2,    186.2,2,    77.80,2,    33.85,2,     0.02,2,     2.33,2,        0,2, -999.000,9, -999.000,9,     -999,9,   2253.3,2,   2335.7,2,-999.0000,9,  -999.00,  -999.00,9,   -999.0,9,   -999.0,  -999.00,9,   0.00056,2,    0.012,2,    0.084,2,    0.000,2,   99.706,2
  096U20180111,  SR03,    49,  1,     28,     28,2,20180129,0316,-62.8502, 139.8518, 3168,    210.2,   1.8182,  34.6486,2,-999.0000,9,    179.4,2,   -999.0,9,  -999.00,9,  -999.00,9,  -999.00,9,  -999.00,9,     -999,9, -999.000,9, -999.000,9,     -999,9,   -999.0,9,   -999.0,9,-999.0000,9,  -999.00,  -999.00,9,   -999.0,9,   -999.0,  -999.00,9,   0.00057,2,    0.011,2,    0.042,2,    0.000,2,   99.734,2
  096U20180111,  SR03,    49,  1,     27,     27,2,20180129,0316,-62.8502, 139.8518, 3168,    210.3,   1.8265,  34.6510,2,  34.6633,2,    179.4,2,    181.0,2,    82.50,2,    32.96,2,     0.01,2,     2.28,2,        0,2,    0.653,2,    0.351,2,     0.14,2,   2256.2,2,   2341.9,2,   7.5614,   2,    25.00,    21.75,2,   -999.0,9,   -999.0,  -999.00,9,   0.00069,2,    0.010,2,    0.036,2,    0.000,2,   99.745,2
  096U20180111,  SR03,    49,  1,     26,     26,2,20180129,0316,-62.8502, 139.8518, 3168,    261.2,   1.8074,  34.6676,2,  34.6678,2,    179.8,2,    182.0,2,    82.70,2,    32.86,2,     0.01,2,     2.27,2,        0,2, -999.000,9, -999.000,9,     -999,9,   -999.0,9,   -999.0,9,-999.0000,9,  -999.00,  -999.00,9,   -999.0,9,   -999.0,  -999.00,9,   0.00053,2,    0.007,2,    0.042,2,    0.000,2,   99.824,2
  096U20180111,  SR03,    49,  1,     25,     25,2,20180129,0316,-62.8502, 139.8518, 3168,    360.9,   1.8836,  34.7068,2,  34.7129,4,    184.0,2,    183.8,2,    84.20,2,    32.07,2,     0.01,2,     2.22,2,        0,2, -999.000,9, -999.000,9,     -999,9,   2250.7,2,   2346.0,2,   7.5751,   2,    25.00,  -999.00,9,   -999.0,9,   -999.0,  -999.00,9,   0.00038,2,    0.000,2,    0.036,2,    0.000,2,   99.998,2
  096U20180111,  SR03,    49,  1,     24,     24,2,20180129,0316,-62.8502, 139.8518, 3168,    461.1,   1.8524,  34.7235,2,  34.7232,2,    187.6,2,    187.7,2,    85.30,2,    31.50,2,     0.01,2,     2.18,2,        0,2, -999.000,9, -999.000,9,     -999,9,   2251.7,2,   2347.8,2,-999.0000,9,  -999.00,  -999.00,9,   -999.0,9,   -999.0,  -999.00,9,   0.00038,2,   -0.001,2,    0.036,2,    0.000,2,  100.033,2
  096U20180111,  SR03,    49,  1,     23,     23,2,20180129,0316,-62.8502, 139.8518, 3168,    560.1,   1.7760,  34.7334,2,  34.7335,2,    190.4,2,    191.0,2,    87.30,2,    31.19,2,     0.01,2,     2.16,2,        0,2,    0.304,2,    0.162,2,     0.08,2,   2250.1,2,   2350.2,2,   7.5942,   6,    25.00,    19.37,2,   -999.0,9,   -999.0,  -999.00,9,   0.00034,2,   -0.002,2,    0.042,2,    0.000,2,  100.044,2
  096U20180111,  SR03,    49,  1,     22,     22,2,20180129,0316,-62.8502, 139.8518, 3168,    660.6,   1.6990,  34.7376,2,  34.7378,2,    193.3,2,    193.5,2,    89.30,2,    31.09,2,     0.01,2,     2.15,2,        0,2, -999.000,9, -999.000,9,     -999,9,   -999.0,9,   -999.0,9,-999.0000,9,  -999.00,  -999.00,9,   -999.0,9,   -999.0,  -999.00,9,   0.00032,2,   -0.002,2,    0.036,2,    0.000,2,  100.046,2
  096U20180111,  SR03,    49,  1,     21,     21,2,20180129,0316,-62.8502, 139.8518, 3168,    761.5,   1.5815,  34.7377,2,  34.7379,2,    195.6,2,    196.1,2,    92.10,2,    31.02,2,     0.01,2,     2.14,2,        0,2,    0.290,2,    0.157,2,     0.02,2,   2251.0,2,   2353.1,6,   7.5998,   2,    25.00,    18.83,2,   -999.0,9,   -999.0,  -999.00,9,   0.00031,2,   -0.003,2,    0.036,2,    0.000,2,  100.067,2
  096U20180111,  SR03,    49,  1,     20,     20,2,20180129,0316,-62.8502, 139.8518, 3168,    910.7,   1.4658,  34.7361,2,  34.7364,2,    197.8,2,    198.5,2,    94.80,2,    30.97,2,     0.01,2,     2.14,2,        0,2, -999.000,9, -999.000,9,     -999,9,   2251.0,2,   2354.5,2,   7.6024,   2,    25.00,  -999.00,9,   -999.0,9,   -999.0,  -999.00,9,   0.00030,2,   -0.003,2,    0.042,2,    0.000,2,  100.074,2
  096U20180111,  SR03,    49,  1,     19,     19,2,20180129,0316,-62.8502, 139.8518, 3168,   1051.0,   1.3584,  34.7357,2,  34.7360,2,    200.4,2,    200.4,2,    98.80,2,    31.01,2,     0.01,2,     2.15,2,        0,2, -999.000,9, -999.000,9,     -999,9,   -999.0,9,   -999.0,9,-999.0000,9,  -999.00,  -999.00,9,   -999.0,9,   -999.0,  -999.00,9,   0.00029,2,   -0.004,2,    0.042,2,    0.000,2,  100.094,2
  096U20180111,  SR03,    49,  1,     18,     18,2,20180129,0316,-62.8502, 139.8518, 3168,   1151.0,   1.2776,  34.7327,2,  34.7327,2,    201.5,2,    201.4,2,   101.20,2,    31.13,2,     0.01,2,     2.15,2,        0,2,    0.231,2,    0.121,2,    -0.04,2,   2253.0,2,   2358.5,2,   7.6063,   2,    25.00,    18.42,2,   -999.0,9,   -999.0,  -999.00,9,   0.00029,2,   -0.004,2,    0.042,2,    0.000,2,  100.094,2
  096U20180111,  SR03,    49,  1,     17,     17,2,20180129,0316,-62.8502, 139.8518, 3168,   1250.4,   1.1878,  34.7282,2,  34.7289,2,    202.6,2,    202.4,2,   103.50,2,    31.30,2,     0.01,2,     2.17,2,        0,2, -999.000,9, -999.000,9,     -999,9,   -999.0,9,   -999.0,9,-999.0000,9,  -999.00,  -999.00,9,   -999.0,9,   -999.0,  -999.00,9,   0.00029,2,   -0.004,2,    0.036,2,    0.000,2,  100.090,2
  096U20180111,  SR03,    49,  1,     16,     16,2,20180129,0316,-62.8502, 139.8518, 3168,   1351.2,   1.0949,  34.7232,2,  34.7226,2,    204.2,2,    203.7,2,   105.80,2,    31.40,2,     0.00,2,     2.18,2,        0,2, -999.000,9, -999.000,9,     -999,9,   2255.0,2,   2358.3,2,   7.6027,   2,    25.00,  -999.00,9,   -999.0,9,   -999.0,  -999.00,9,   0.00030,2,   -0.004,2,    0.042,2,    0.000,2,  100.094,2
  096U20180111,  SR03,    49,  1,     15,     15,2,20180129,0316,-62.8502, 139.8518, 3168,   1450.7,   1.0254,  34.7204,2,  34.7207,2,    205.0,2,    204.5,2,   108.10,2,    31.56,2,     0.00,2,     2.19,2,        0,2, -999.000,9, -999.000,9,     -999,9,   -999.0,9,   -999.0,9,-999.0000,9,  -999.00,  -999.00,9,   -999.0,9,   -999.0,  -999.00,9,   0.00028,2,   -0.004,2,    0.036,2,    0.000,2,  100.095,2
  096U20180111,  SR03,    49,  1,     14,     14,2,20180129,0316,-62.8502, 139.8518, 3168,   1601.4,   0.8865,  34.7133,2,  34.7131,2,    206.4,2,    206.2,2,   112.00,2,    31.78,2,     0.00,2,     2.21,2,        0,2,    0.281,2,    0.146,2,     0.02,2,   2255.7,2,   2359.6,2,   7.6008,   2,    25.00,    18.46,2,   -999.0,9,   -999.0,  -999.00,9,   0.00027,2,   -0.004,2,    0.036,2,    0.000,2,  100.099,2
  096U20180111,  SR03,    49,  1,     13,     13,2,20180129,0316,-62.8502, 139.8518, 3168,   1750.7,   0.7801,  34.7077,2,  34.7082,2,    208.0,2,    207.9,2,   115.00,2,    31.98,2,     0.00,2,     2.22,2,        0,2, -999.000,9, -999.000,9,     -999,9,   -999.0,9,   -999.0,9,-999.0000,9,  -999.00,  -999.00,9,   -999.0,9,   -999.0,  -999.00,9,   0.00026,2,   -0.004,2,    0.036,2,    0.000,2,  100.106,2
  096U20180111,  SR03,    49,  1,     12,     12,2,20180129,0316,-62.8502, 139.8518, 3168,   1852.1,   0.7108,  34.7038,2,  34.7041,2,    209.2,2,    209.0,2,   116.60,2,    32.02,2,     0.00,2,     2.23,2,        0,2, -999.000,9, -999.000,9,     -999,9,   2257.7,2,   2360.1,2,-999.0000,9,  -999.00,  -999.00,9,   -999.0,9,   -999.0,  -999.00,9,   0.00037,2,   -0.004,2,    0.036,2,    0.000,2,  100.101,2
  096U20180111,  SR03,    49,  1,     11,     11,2,20180129,0316,-62.8502, 139.8518, 3168,   2000.8,   0.5903,  34.6972,2,  34.6972,2,    211.4,2,    211.3,2,   119.20,2,    32.22,2,     0.00,2,     2.24,2,        0,2, -999.000,9, -999.000,9,     -999,9,   2259.0,2,   2359.2,2,-999.0000,9,  -999.00,  -999.00,9,   -999.0,9,   -999.0,  -999.00,9,   0.00027,2,   -0.004,2,    0.036,2,    0.000,2,  100.106,2
  096U20180111,  SR03,    49,  1,     10,     10,2,20180129,0316,-62.8502, 139.8518, 3168,   2200.4,   0.4519,  34.6900,2,  34.6903,2,    214.7,2,    214.4,2,   121.70,2,    32.25,2,     0.00,2,     2.25,2,        0,2,    0.516,2,    0.267,2,     0.22,2,   -999.0,9,   -999.0,9,-999.0000,9,  -999.00,    18.39,2,   -999.0,9,   -999.0,  -999.00,9,   0.00026,2,   -0.005,2,    0.036,2,    0.000,2,  100.115,2
  096U20180111,  SR03,    49,  1,      9,      9,2,20180129,0316,-62.8502, 139.8518, 3168,   2400.7,   0.3222,  34.6838,2,  34.6833,2,    218.2,2,    218.2,2,   123.70,2,    32.33,2,     0.00,2,     2.25,2,        0,2,    0.657,2,    0.343,2,     0.17,2,   2259.0,2,   2359.5,2,-999.0000,9,  -999.00,    18.30,2,   -999.0,9,   -999.0,  -999.00,9,   0.00025,2,   -0.004,2,    0.030,2,    0.000,2,  100.112,2
  096U20180111,  SR03,    49,  1,      8,      8,2,20180129,0316,-62.8502, 139.8518, 3168,   2600.2,   0.2175,  34.6800,2,  34.6800,2,    221.5,2,    221.1,2,   126.50,2,    32.35,2,     0.00,2,     2.25,2,        0,2, -999.000,9, -999.000,9,     -999,9,   -999.0,9,   -999.0,9,-999.0000,9,  -999.00,  -999.00,9,   -999.0,9,   -999.0,  -999.00,9,   0.00026,2,   -0.004,2,    0.042,2,    0.000,2,  100.103,2
  096U20180111,  SR03,    49,  1,      7,      7,2,20180129,0316,-62.8502, 139.8518, 3168,   2801.4,   0.1253,  34.6757,2,  34.6750,2,    224.9,2,    224.3,2,   127.50,2,    32.40,2,     0.00,2,     2.25,2,        0,2,    0.923,2,    0.467,2,     0.21,2,   -999.0,9,   -999.0,9,-999.0000,9,  -999.00,    17.84,2,   -999.0,9,   -999.0,  -999.00,9,   0.00024,2,   -0.004,2,    0.036,2,    0.000,2,  100.112,2
  096U20180111,  SR03,    49,  1,      6,      6,2,20180129,0316,-62.8502, 139.8518, 3168,   2999.9,   0.0158,  34.6688,2,  34.6684,2,    229.2,2,    228.8,2,   125.40,2,    32.33,2,     0.00,2,     2.24,2,        0,2,    1.224,2,    0.639,2,     0.46,2,   2256.9,6,   2357.8,6,-999.0000,9,  -999.00,    18.01,2,   -999.0,9,   -999.0,  -999.00,9,   0.00025,2,   -0.004,2,    0.036,2,    0.000,2,  100.098,2
  096U20180111,  SR03,    49,  1,      5,      5,2,20180129,0316,-62.8502, 139.8518, 3168,   3070.6,  -0.0251,  34.6662,2,  34.6663,2,    231.1,2,    230.4,2,   123.80,2,    32.27,2,     0.00,2,     2.24,2,        0,2, -999.000,9, -999.000,9,     -999,9,   -999.0,9,   -999.0,9,-999.0000,9,  -999.00,  -999.00,9,   -999.0,9,   -999.0,  -999.00,9,   0.00024,2,   -0.004,2,    0.036,2,    0.000,2,  100.088,2
  096U20180111,  SR03,    49,  1,      4,      4,2,20180129,0316,-62.8502, 139.8518, 3168,   3121.3,  -0.0610,  34.6636,2,  34.6634,2,    232.5,2,    232.2,2,   122.90,2,    32.21,2,     0.00,2,     2.24,2,        0,2,    1.473,2,    0.770,2,     0.27,2,   2258.4,2,   2356.2,2,-999.0000,9,  -999.00,    18.16,2,   -999.0,9,   -999.0,  -999.00,9,   0.00025,2,   -0.003,2,    0.036,2,    0.000,2,  100.075,2
  096U20180111,  SR03,    49,  1,      3,      3,2,20180129,0316,-62.8502, 139.8518, 3168,   3171.6,  -0.1106,  34.6602,2,  34.6596,2,    234.3,2,    233.9,2,   120.60,2,    32.14,2,     0.00,2,     2.24,2,        0,2,    1.633,2,    0.860,2,     0.53,2,   2256.0,2,   2356.1,6,-999.0000,9,  -999.00,    18.20,2,   -999.0,9,   -999.0,  -999.00,9,   0.00028,2,   -0.002,2,    0.036,2,    0.000,2,  100.042,2
  096U20180111,  SR03,    49,  1,      2,      2,2,20180129,0316,-62.8502, 139.8518, 3168,   3222.1,  -0.1605,  34.6565,2,  34.6609,4,    236.3,2,    236.6,2,   117.90,2,    32.13,2,     0.00,2,     2.24,2,        0,2,    1.785,2,    0.948,2,     0.57,2,   2255.9,2,   2354.2,2,-999.0000,9,  -999.00,    18.16,2,   -999.0,9,   -999.0,  -999.00,9,   0.00032,2,    0.001,2,    0.042,2,    0.000,2,   99.969,2
  096U20180111,  SR03,    49,  1,      1,      1,2,20180129,0316,-62.8502, 139.8518, 3168,   3222.3,  -0.1602,  34.6566,2,-999.0000,9,    236.3,2,   -999.0,9,  -999.00,9,  -999.00,9,  -999.00,9,  -999.00,9,     -999,9, -999.000,9, -999.000,9,     -999,9,   -999.0,9,   -999.0,9,-999.0000,9,  -999.00,  -999.00,9,   -999.0,9,   -999.0,  -999.00,9,   0.00033,2,    0.001,2,    0.036,2,    0.000,2,   99.974,2