BOTTLE,20230418CCHSIOENA
EXPOCODE,SECT_ID,STNNBR,CASTNO,SAMPNO,BTLNBR,BTLNBR_FLAG_W,DATE,TIME,LATITUDE,LONGITUDE,DEPTH,CTDPRS,CTDTMP,CTDSAL,CTDSAL_FLAG_W,SALNTY,SALNTY_FLAG_W,CTDOXY,CTDOXY_FLAG_W,OXYGEN,OXYGEN_FLAG_W,SILCAT,SILCAT_FLAG_W,NITRAT,NITRAT_FLAG_W,NITRIT,NITRIT_FLAG_W,PHSPHT,PHSPHT_FLAG_W,NH4,NH4_FLAG_W,CFC-11,CFC-11_FLAG_W,CFC-12,CFC-12_FLAG_W,SF6,SF6_FLAG_W,TCARBN,TCARBN_FLAG_W,ALKALI,ALKALI_FLAG_W,PH_TOT,PH_TOT_FLAG_W,PH_TMP,N2O,N2O_FLAG_W,DELC14,DELC14_FLAG_W,C14ERR,DELC13,DELC13_FLAG_W,CTDBETA700,CTDBETA700_FLAG_W,CTDBEAMCP,CTDBEAMCP_FLAG_W,CTDFLUOR,CTDFLUOR_FLAG_W,PAR,PAR_FLAG_W,CTDXMISS,CTDXMISS_FLAG_W
,,,,,,,,,,,METERS,DBAR,ITS-90,PSS-78,,PSS-78,,UMOL/KG,,UMOL/KG,,UMOL/KG,,UMOL/KG,,UMOL/KG,,UMOL/KG,,UMOL/KG,,PMOL/KG,,PMOL/KG,,FMOL/KG,,UMOL/KG,,UMOL/KG,,,,DEG C,NMOL/KG,,/MILLE,,/MILLE,/MILLE,,VOLTS,,1/M,,MG/M^3,,UMOL/M^2/SEC,,%TRANS,
  096U20180111,  SR03,   107,  1,     36,     36,2,20180218,0859,-56.5498, 141.4938, 3592,     10.8,   4.1080,  33.7953,2,-999.0000,9,    313.0,2,   -999.0,9,  -999.00,9,  -999.00,9,  -999.00,9,  -999.00,9,     -999,9, -999.000,9, -999.000,9,     -999,9,   -999.0,9,   -999.0,9,-999.0000,9,  -999.00,  -999.00,9,   -999.0,9,   -999.0,  -999.00,9,   0.00186,2,    0.180,2,    2.112,2,    2.520,2,   95.608,2
  096U20180111,  SR03,   107,  1,     35,     35,2,20180218,0859,-56.5498, 141.4938, 3592,     10.8,   4.1080,  33.7954,2,-999.0000,9,    313.0,2,   -999.0,9,  -999.00,9,  -999.00,9,  -999.00,9,  -999.00,9,     -999,9, -999.000,9, -999.000,9,     -999,9,   -999.0,9,   -999.0,9,-999.0000,9,  -999.00,  -999.00,9,   -999.0,9,   -999.0,  -999.00,9,   0.00190,2,    0.181,2,    2.142,2,    2.510,2,   95.582,2
  096U20180111,  SR03,   107,  1,     34,     34,2,20180218,0859,-56.5498, 141.4938, 3592,     11.0,   4.1080,  33.7955,2,  33.7958,2,    314.2,2,    316.6,2,     3.80,2,    24.73,2,     0.25,2,     1.51,2,     0.13,2, -999.000,9, -999.000,9,     -999,9,   -999.0,9,   -999.0,9,-999.0000,9,  -999.00,  -999.00,9,   -999.0,9,   -999.0,  -999.00,9,   0.00197,2,    0.176,2,    2.184,2,    2.440,2,   95.692,2
  096U20180111,  SR03,   107,  1,     33,     33,2,20180218,0859,-56.5498, 141.4938, 3592,     10.9,   4.1080,  33.7954,2,-999.0000,9,    313.0,2,   -999.0,9,  -999.00,9,  -999.00,9,  -999.00,9,  -999.00,9,     -999,9, -999.000,9, -999.000,9,     -999,9,   -999.0,9,   -999.0,9,-999.0000,9,  -999.00,  -999.00,9,   -999.0,9,   -999.0,  -999.00,9,   0.00203,2,    0.175,2,    2.142,2,    2.460,2,   95.714,2
  096U20180111,  SR03,   107,  1,     32,     32,2,20180218,0859,-56.5498, 141.4938, 3592,     10.9,   4.1081,  33.7953,2,-999.0000,9,    313.0,2,   -999.0,9,  -999.00,9,  -999.00,9,  -999.00,9,  -999.00,9,     -999,9, -999.000,9, -999.000,9,     -999,9,   -999.0,9,   -999.0,9,-999.0000,9,  -999.00,  -999.00,9,   -999.0,9,   -999.0,  -999.00,9,   0.00191,2,    0.176,2,    2.124,2,    2.460,2,   95.706,2
  096U20180111,  SR03,   107,  1,     31,     31,2,20180218,0859,-56.5498, 141.4938, 3592,     10.9,   4.1082,  33.7954,2,-999.0000,9,    313.0,2,   -999.0,9,  -999.00,9,  -999.00,9,  -999.00,9,  -999.00,9,     -999,9, -999.000,9, -999.000,9,     -999,9,   -999.0,9,   -999.0,9,-999.0000,9,  -999.00,  -999.00,9,   -999.0,9,   -999.0,  -999.00,9,   0.00184,2,    0.178,2,    2.028,2,    2.410,2,   95.644,2
  096U20180111,  SR03,   107,  1,     30,     30,2,20180218,0859,-56.5498, 141.4938, 3592,     10.9,   4.1084,  33.7954,2,-999.0000,9,    313.0,2,   -999.0,9,  -999.00,9,  -999.00,9,  -999.00,9,  -999.00,9,     -999,9, -999.000,9, -999.000,9,     -999,9,   -999.0,9,   -999.0,9,-999.0000,9,  -999.00,  -999.00,9,   -999.0,9,   -999.0,  -999.00,9,   0.00208,2,    0.178,2,    2.124,2,    2.530,2,   95.653,2
  096U20180111,  SR03,   107,  1,     29,     29,2,20180218,0859,-56.5498, 141.4938, 3592,     10.7,   4.1084,  33.7955,2,-999.0000,9,    313.0,2,   -999.0,9,  -999.00,9,  -999.00,9,  -999.00,9,  -999.00,9,     -999,9, -999.000,9, -999.000,9,     -999,9,   -999.0,9,   -999.0,9,-999.0000,9,  -999.00,  -999.00,9,   -999.0,9,   -999.0,  -999.00,9,   0.00191,2,    0.174,2,    2.124,2,    2.600,2,   95.751,2
  096U20180111,  SR03,   107,  1,     28,     28,2,20180218,0859,-56.5498, 141.4938, 3592,     10.8,   4.1083,  33.7954,2,-999.0000,9,    313.0,2,   -999.0,9,  -999.00,9,  -999.00,9,  -999.00,9,  -999.00,9,     -999,9, -999.000,9, -999.000,9,     -999,9,   -999.0,9,   -999.0,9,-999.0000,9,  -999.00,  -999.00,9,   -999.0,9,   -999.0,  -999.00,9,   0.00197,2,    0.176,2,    2.088,2,    2.590,2,   95.699,2
  096U20180111,  SR03,   107,  1,     27,     27,2,20180218,0859,-56.5498, 141.4938, 3592,     10.9,   4.1081,  33.7954,2,-999.0000,9,    313.0,2,   -999.0,9,  -999.00,9,  -999.00,9,  -999.00,9,  -999.00,9,     -999,9, -999.000,9, -999.000,9,     -999,9,   -999.0,9,   -999.0,9,-999.0000,9,  -999.00,  -999.00,9,   -999.0,9,   -999.0,  -999.00,9,   0.00184,2,    0.177,2,    2.100,2,    2.590,2,   95.679,2
  096U20180111,  SR03,   107,  1,     26,     26,2,20180218,0859,-56.5498, 141.4938, 3592,     10.8,   4.1079,  33.7956,2,-999.0000,9,    313.0,2,   -999.0,9,  -999.00,9,  -999.00,9,  -999.00,9,  -999.00,9,     -999,9, -999.000,9, -999.000,9,     -999,9,   -999.0,9,   -999.0,9,-999.0000,9,  -999.00,  -999.00,9,   -999.0,9,   -999.0,  -999.00,9,   0.00193,2,    0.178,2,    2.046,2,    2.550,2,   95.636,2
  096U20180111,  SR03,   107,  1,     25,     25,2,20180218,0859,-56.5498, 141.4938, 3592,     49.7,   4.1107,  33.7954,2,  33.7958,2,    318.1,2,    316.6,2,     3.70,2,    24.75,2,     0.26,2,     1.50,2,     0.13,2, -999.000,9, -999.000,9,     -999,9,   -999.0,9,   -999.0,9,-999.0000,9,  -999.00,  -999.00,9,   -999.0,9,   -999.0,  -999.00,9,   0.00182,2,    0.178,2,    2.148,2,    0.214,2,   95.648,2
  096U20180111,  SR03,   107,  1,     24,     24,2,20180218,0859,-56.5498, 141.4938, 3592,     49.5,   4.1103,  33.7955,2,-999.0000,9,    318.1,2,   -999.0,9,  -999.00,9,  -999.00,9,  -999.00,9,  -999.00,9,     -999,9, -999.000,9, -999.000,9,     -999,9,   -999.0,9,   -999.0,9,-999.0000,9,  -999.00,  -999.00,9,   -999.0,9,   -999.0,  -999.00,9,   0.00188,2,    0.173,2,    2.160,2,    0.217,2,   95.764,2
  096U20180111,  SR03,   107,  1,     23,     23,2,20180218,0859,-56.5498, 141.4938, 3592,     70.6,   4.0576,  33.7976,2,-999.0000,9,    320.6,2,   -999.0,9,  -999.00,9,  -999.00,9,  -999.00,9,  -999.00,9,     -999,9, -999.000,9, -999.000,9,     -999,9,   -999.0,9,   -999.0,9,-999.0000,9,  -999.00,  -999.00,9,   -999.0,9,   -999.0,  -999.00,9,   0.00195,2,    0.176,2,    2.292,2,    0.058,2,   95.687,2
  096U20180111,  SR03,   107,  1,     22,     22,2,20180218,0859,-56.5498, 141.4938, 3592,     70.5,   4.0804,  33.7966,2,-999.0000,9,    320.6,2,   -999.0,9,  -999.00,9,  -999.00,9,  -999.00,9,  -999.00,9,     -999,9, -999.000,9, -999.000,9,     -999,9,   -999.0,9,   -999.0,9,-999.0000,9,  -999.00,  -999.00,9,   -999.0,9,   -999.0,  -999.00,9,   0.00199,2,    0.181,2,    2.262,2,    0.060,2,   95.582,2
  096U20180111,  SR03,   107,  1,     21,     21,2,20180218,0859,-56.5498, 141.4938, 3592,     70.6,   4.0584,  33.7966,2,-999.0000,9,    320.6,2,   -999.0,9,  -999.00,9,  -999.00,9,  -999.00,9,  -999.00,9,     -999,9, -999.000,9, -999.000,9,     -999,9,   -999.0,9,   -999.0,9,-999.0000,9,  -999.00,  -999.00,9,   -999.0,9,   -999.0,  -999.00,9,   0.00202,2,    0.179,2,    2.220,2,    0.062,2,   95.624,2
  096U20180111,  SR03,   107,  1,     20,     20,2,20180218,0859,-56.5498, 141.4938, 3592,     90.3,   1.6377,  33.9121,2,-999.0000,9,    333.1,2,   -999.0,9,  -999.00,9,  -999.00,9,  -999.00,9,  -999.00,9,     -999,9, -999.000,9, -999.000,9,     -999,9,   -999.0,9,   -999.0,9,-999.0000,9,  -999.00,  -999.00,9,   -999.0,9,   -999.0,  -999.00,9,   0.00132,2,    0.094,2,    1.584,2,    0.004,2,   97.687,2
  096U20180111,  SR03,   107,  1,     19,     19,2,20180218,0859,-56.5498, 141.4938, 3592,     90.3,   1.6363,  33.9121,2,-999.0000,9,    333.1,2,   -999.0,9,  -999.00,9,  -999.00,9,  -999.00,9,  -999.00,9,     -999,9, -999.000,9, -999.000,9,     -999,9,   -999.0,9,   -999.0,9,-999.0000,9,  -999.00,  -999.00,9,   -999.0,9,   -999.0,  -999.00,9,   0.00131,2,    0.094,2,    1.752,2,    0.005,2,   97.679,2
  096U20180111,  SR03,   107,  1,     18,     18,2,20180218,0859,-56.5498, 141.4938, 3592,    101.1,   1.4791,  33.9149,2,  33.9145,2,    330.4,2,    326.5,2,    18.00,2,    27.51,2,     0.40,2,     1.98,2,     0.53,2, -999.000,9, -999.000,9,     -999,9,   -999.0,9,   -999.0,9,-999.0000,9,  -999.00,  -999.00,9,   -999.0,9,   -999.0,  -999.00,9,   0.00126,2,    0.082,2,    1.170,2,    0.000,2,   97.969,2
  096U20180111,  SR03,   107,  1,     17,     17,2,20180218,0859,-56.5498, 141.4938, 3592,    101.2,   1.4794,  33.9147,2,-999.0000,9,    330.4,2,   -999.0,9,  -999.00,9,  -999.00,9,  -999.00,9,  -999.00,9,     -999,9, -999.000,9, -999.000,9,     -999,9,   -999.0,9,   -999.0,9,-999.0000,9,  -999.00,  -999.00,9,   -999.0,9,   -999.0,  -999.00,9,   0.00119,2,    0.082,2,    1.122,2,    0.000,2,   97.963,2
  096U20180111,  SR03,   107,  1,     16,     16,2,20180218,0859,-56.5498, 141.4938, 3592,    101.1,   1.4780,  33.9149,2,-999.0000,9,    330.4,2,   -999.0,9,  -999.00,9,  -999.00,9,  -999.00,9,  -999.00,9,     -999,9, -999.000,9, -999.000,9,     -999,9,   -999.0,9,   -999.0,9,-999.0000,9,  -999.00,  -999.00,9,   -999.0,9,   -999.0,  -999.00,9,   0.00121,2,    0.081,2,    1.038,2,    0.000,2,   97.990,2
  096U20180111,  SR03,   107,  1,     15,     15,2,20180218,0859,-56.5498, 141.4938, 3592,    160.7,   0.9575,  33.9705,2,  33.9702,2,    309.1,2,    314.4,2,    24.40,2,    29.58,2,     0.07,2,     2.03,2,    -0.01,2, -999.000,9, -999.000,9,     -999,9,   -999.0,9,   -999.0,9,-999.0000,9,  -999.00,  -999.00,9,   -999.0,9,   -999.0,  -999.00,9,   0.00068,2,    0.027,2,    0.096,2,    0.000,2,   99.335,2
  096U20180111,  SR03,   107,  1,     14,     14,2,20180218,0859,-56.5498, 141.4938, 3592,    160.6,   0.9581,  33.9710,2,-999.0000,9,    309.1,2,   -999.0,9,  -999.00,9,  -999.00,9,  -999.00,9,  -999.00,9,     -999,9, -999.000,9, -999.000,9,     -999,9,   -999.0,9,   -999.0,9,-999.0000,9,  -999.00,  -999.00,9,   -999.0,9,   -999.0,  -999.00,9,   0.00070,2,    0.025,2,    0.090,2,    0.000,2,   99.365,2
  096U20180111,  SR03,   107,  1,     13,     13,2,20180218,0859,-56.5498, 141.4938, 3592,    399.5,   2.4519,  34.3982,2,  34.3960,2,    189.6,2,    188.6,2,    59.70,2,    35.01,2,     0.03,2,     2.40,2,    -0.01,2, -999.000,9, -999.000,9,     -999,9,   -999.0,9,   -999.0,9,-999.0000,9,  -999.00,  -999.00,9,   -999.0,9,   -999.0,  -999.00,9,   0.00049,2,    0.014,2,    0.036,2,    0.000,2,   99.662,2
  096U20180111,  SR03,   107,  1,     12,     12,2,20180218,0859,-56.5498, 141.4938, 3592,    650.5,   2.4230,  34.5787,2,  34.5775,2,    171.8,2,    171.7,2,    72.50,2,    34.38,2,     0.00,2,     2.36,2,    -0.01,2, -999.000,9, -999.000,9,     -999,9,   -999.0,9,   -999.0,9,-999.0000,9,  -999.00,  -999.00,9,   -999.0,9,   -999.0,  -999.00,9,   0.00040,2,    0.009,2,    0.036,2,    0.000,2,   99.785,2
  096U20180111,  SR03,   107,  1,     11,     11,2,20180218,0859,-56.5498, 141.4938, 3592,    750.0,   2.3883,  34.6299,2,-999.0000,9,    173.8,2,   -999.0,9,  -999.00,9,  -999.00,9,  -999.00,9,  -999.00,9,     -999,9, -999.000,9, -999.000,9,     -999,9,   -999.0,9,   -999.0,9,-999.0000,9,  -999.00,  -999.00,9,   -999.0,9,   -999.0,  -999.00,9,   0.00037,2,    0.007,2,    0.036,2,    0.000,2,   99.836,2
  096U20180111,  SR03,   107,  1,     10,     10,2,20180218,0859,-56.5498, 141.4938, 3592,    750.0,   2.3883,  34.6299,2,-999.0000,9,    173.8,2,   -999.0,9,  -999.00,9,  -999.00,9,  -999.00,9,  -999.00,9,     -999,9, -999.000,9, -999.000,9,     -999,9,   -999.0,9,   -999.0,9,-999.0000,9,  -999.00,  -999.00,9,   -999.0,9,   -999.0,  -999.00,9,   0.00035,2,    0.006,2,    0.036,2,    0.000,2,   99.843,2
  096U20180111,  SR03,   107,  1,      9,      9,2,20180218,0859,-56.5498, 141.4938, 3592,    749.9,   2.3884,  34.6298,2,-999.0000,9,    173.8,2,   -999.0,9,  -999.00,9,  -999.00,9,  -999.00,9,  -999.00,9,     -999,9, -999.000,9, -999.000,9,     -999,9,   -999.0,9,   -999.0,9,-999.0000,9,  -999.00,  -999.00,9,   -999.0,9,   -999.0,  -999.00,9,   0.00037,2,    0.006,2,    0.042,2,    0.000,2,   99.845,2
  096U20180111,  SR03,   107,  1,      8,      8,2,20180218,0859,-56.5498, 141.4938, 3592,    749.9,   2.3883,  34.6299,2,-999.0000,9,    173.8,2,   -999.0,9,  -999.00,9,  -999.00,9,  -999.00,9,  -999.00,9,     -999,9, -999.000,9, -999.000,9,     -999,9,   -999.0,9,   -999.0,9,-999.0000,9,  -999.00,  -999.00,9,   -999.0,9,   -999.0,  -999.00,9,   0.00036,2,    0.006,2,    0.036,2,    0.000,2,   99.841,2
  096U20180111,  SR03,   107,  1,      7,      7,2,20180218,0859,-56.5498, 141.4938, 3592,    749.9,   2.3883,  34.6298,2,-999.0000,9,    173.8,2,   -999.0,9,  -999.00,9,  -999.00,9,  -999.00,9,  -999.00,9,     -999,9, -999.000,9, -999.000,9,     -999,9,   -999.0,9,   -999.0,9,-999.0000,9,  -999.00,  -999.00,9,   -999.0,9,   -999.0,  -999.00,9,   0.00036,2,    0.007,2,    0.036,2,    0.000,2,   99.839,2
  096U20180111,  SR03,   107,  1,      6,      6,2,20180218,0859,-56.5498, 141.4938, 3592,    749.8,   2.3883,  34.6300,2,-999.0000,9,    173.8,2,   -999.0,9,  -999.00,9,  -999.00,9,  -999.00,9,  -999.00,9,     -999,9, -999.000,9, -999.000,9,     -999,9,   -999.0,9,   -999.0,9,-999.0000,9,  -999.00,  -999.00,9,   -999.0,9,   -999.0,  -999.00,9,   0.00038,2,    0.007,2,    0.042,2,    0.000,2,   99.838,2
  096U20180111,  SR03,   107,  1,      5,      5,2,20180218,0859,-56.5498, 141.4938, 3592,    749.8,   2.3881,  34.6300,2,-999.0000,9,    173.8,2,   -999.0,9,  -999.00,9,  -999.00,9,  -999.00,9,  -999.00,9,     -999,9, -999.000,9, -999.000,9,     -999,9,   -999.0,9,   -999.0,9,-999.0000,9,  -999.00,  -999.00,9,   -999.0,9,   -999.0,  -999.00,9,   0.00038,2,    0.006,2,    0.036,2,    0.000,2,   99.848,2
  096U20180111,  SR03,   107,  1,      4,      4,2,20180218,0859,-56.5498, 141.4938, 3592,    749.9,   2.3879,  34.6301,2,-999.0000,9,    173.8,2,   -999.0,9,  -999.00,9,  -999.00,9,  -999.00,9,  -999.00,9,     -999,9, -999.000,9, -999.000,9,     -999,9,   -999.0,9,   -999.0,9,-999.0000,9,  -999.00,  -999.00,9,   -999.0,9,   -999.0,  -999.00,9,   0.00039,2,    0.006,2,    0.036,2,    0.000,2,   99.845,2
  096U20180111,  SR03,   107,  1,      3,      3,2,20180218,0859,-56.5498, 141.4938, 3592,    825.2,   2.3507,  34.6544,2,  34.6593,4,    175.6,2,    175.8,2,    75.70,2,    33.11,2,     0.00,2,     2.28,2,        0,2, -999.000,9, -999.000,9,     -999,9,   -999.0,9,   -999.0,9,-999.0000,9,  -999.00,  -999.00,9,   -999.0,9,   -999.0,  -999.00,9,   0.00038,2,    0.006,2,    0.042,2,    0.000,2,   99.849,2
  096U20180111,  SR03,   107,  1,      2,      2,2,20180218,0859,-56.5498, 141.4938, 3592,   1001.2,   2.2386,  34.6977,2,  34.6976,2,    180.9,3,    190.6,3,    78.40,2,    32.16,2,     0.00,2,     2.21,2,    -0.01,2, -999.000,9, -999.000,9,     -999,9,   -999.0,9,   -999.0,9,-999.0000,9,  -999.00,  -999.00,9,   -999.0,9,   -999.0,  -999.00,9,   0.00036,2,    0.004,2,    0.036,2,    0.000,2,   99.887,2
  096U20180111,  SR03,   107,  1,      1,      1,2,20180218,0859,-56.5498, 141.4938, 3592,   1001.3,   2.2386,  34.6978,2,-999.0000,9,    180.9,3,   -999.0,9,  -999.00,9,  -999.00,9,  -999.00,9,  -999.00,9,     -999,9, -999.000,9, -999.000,9,     -999,9,   -999.0,9,   -999.0,9,-999.0000,9,  -999.00,  -999.00,9,   -999.0,9,   -999.0,  -999.00,9,   0.00034,2,    0.004,2,    0.036,2,    0.000,2,   99.887,2