BOTTLE,20230418CCHSIOENA
EXPOCODE,SECT_ID,STNNBR,CASTNO,SAMPNO,BTLNBR,BTLNBR_FLAG_W,DATE,TIME,LATITUDE,LONGITUDE,DEPTH,CTDPRS,CTDTMP,CTDSAL,CTDSAL_FLAG_W,SALNTY,SALNTY_FLAG_W,CTDOXY,CTDOXY_FLAG_W,OXYGEN,OXYGEN_FLAG_W,SILCAT,SILCAT_FLAG_W,NITRAT,NITRAT_FLAG_W,NITRIT,NITRIT_FLAG_W,PHSPHT,PHSPHT_FLAG_W,NH4,NH4_FLAG_W,CFC-11,CFC-11_FLAG_W,CFC-12,CFC-12_FLAG_W,SF6,SF6_FLAG_W,TCARBN,TCARBN_FLAG_W,ALKALI,ALKALI_FLAG_W,PH_TOT,PH_TOT_FLAG_W,PH_TMP,N2O,N2O_FLAG_W,DELC14,DELC14_FLAG_W,C14ERR,DELC13,DELC13_FLAG_W,CTDBETA700,CTDBETA700_FLAG_W,CTDBEAMCP,CTDBEAMCP_FLAG_W,CTDFLUOR,CTDFLUOR_FLAG_W,PAR,PAR_FLAG_W,CTDXMISS,CTDXMISS_FLAG_W
,,,,,,,,,,,METERS,DBAR,ITS-90,PSS-78,,PSS-78,,UMOL/KG,,UMOL/KG,,UMOL/KG,,UMOL/KG,,UMOL/KG,,UMOL/KG,,UMOL/KG,,PMOL/KG,,PMOL/KG,,FMOL/KG,,UMOL/KG,,UMOL/KG,,,,DEG C,NMOL/KG,,/MILLE,,/MILLE,/MILLE,,VOLTS,,1/M,,MG/M^3,,UMOL/M^2/SEC,,%TRANS,
  096U20180111,  SR03,    26,  1,     36,     36,2,20180121,0040,-52.3717, 142.5325, 3368,     12.0,   6.7856,  33.9015,2,-999.0000,9,    299.5,2,   -999.0,9,  -999.00,9,  -999.00,9,  -999.00,9,  -999.00,9,     -999,9, -999.000,9, -999.000,9,     -999,9,   -999.0,9,   -999.0,9,-999.0000,9,  -999.00,  -999.00,9,   -999.0,9,   -999.0,  -999.00,9,   0.00207,2,    0.148,2,    0.126,2,  402.000,2,   96.370,2
  096U20180111,  SR03,    26,  1,     35,     35,2,20180121,0040,-52.3717, 142.5325, 3368,     11.7,   6.7979,  33.9015,2,  33.9015,2,    299.5,2,    299.7,2,     4.70,2,    22.12,2,     0.25,2,     1.50,2,      0.3,2,    3.952,2,    2.219,2,      2.7,2,   2122.3,2,   2273.0,2,-999.0000,9,  -999.00,    11.67,2,   -999.0,9,   -999.0,  -999.00,9,   0.00214,2,    0.147,2,    0.114,2,  430.000,2,   96.388,2
  096U20180111,  SR03,    26,  1,     34,     34,2,20180121,0040,-52.3717, 142.5325, 3368,     31.0,   6.6639,  33.9003,2,  33.9000,2,    299.3,2,    299.8,2,     4.50,2,    22.27,2,     0.25,2,     1.50,2,      0.3,2, -999.000,9, -999.000,9,     -999,9,   -999.0,9,   -999.0,9,-999.0000,9,  -999.00,  -999.00,9,   -999.0,9,   -999.0,  -999.00,9,   0.00214,2,    0.152,2,    0.402,2,   75.900,2,   96.266,2
  096U20180111,  SR03,    26,  1,     33,     33,2,20180121,0040,-52.3717, 142.5325, 3368,     51.6,   6.4634,  33.8914,2,  33.8927,2,    299.8,2,    300.9,2,     4.30,2,    22.27,2,     0.25,2,     1.52,2,     0.33,2, -999.000,9, -999.000,9,     -999,9,   -999.0,9,   -999.0,9,-999.0000,9,  -999.00,  -999.00,9,   -999.0,9,   -999.0,  -999.00,9,   0.00205,2,    0.163,2,    0.840,2,   36.000,2,   95.994,2
  096U20180111,  SR03,    26,  1,     32,     32,2,20180121,0040,-52.3717, 142.5325, 3368,     80.5,   5.7409,  33.9191,2,-999.0000,9,    301.0,2,   -999.0,9,  -999.00,9,  -999.00,9,  -999.00,9,  -999.00,9,     -999,9, -999.000,9, -999.000,9,     -999,9,   -999.0,9,   -999.0,9,-999.0000,9,  -999.00,  -999.00,9,   -999.0,9,   -999.0,  -999.00,9,   0.00191,2,    0.119,2,    1.230,2,    8.340,2,   97.081,2
  096U20180111,  SR03,    26,  1,     31,     31,2,20180121,0040,-52.3717, 142.5325, 3368,     80.3,   5.7372,  33.9188,2,  33.9177,2,    301.0,2,    301.1,2,     4.90,2,    22.67,2,     0.26,2,     1.58,2,     0.55,2,    4.123,2,    2.320,2,     2.63,2,   2129.7,2,   2276.4,2,-999.0000,9,  -999.00,    11.97,2,   -999.0,9,   -999.0,  -999.00,9,   0.00188,2,    0.118,2,    1.224,2,   10.100,2,   97.093,2
  096U20180111,  SR03,    26,  1,     30,     30,2,20180121,0040,-52.3717, 142.5325, 3368,    120.5,   4.2531,  34.0192,2,-999.0000,9,    300.8,2,   -999.0,9,  -999.00,9,  -999.00,9,  -999.00,9,  -999.00,9,     -999,9, -999.000,9, -999.000,9,     -999,9,   -999.0,9,   -999.0,9,-999.0000,9,  -999.00,  -999.00,9,   -999.0,9,   -999.0,  -999.00,9,   0.00100,2,    0.050,2,    0.540,2,    1.210,2,   98.752,2
  096U20180111,  SR03,    26,  1,     29,     29,4,20180121,0040,-52.3717, 142.5325, 3368,    159.8,   3.6795,  34.0104,2,  34.4136,4,    301.2,2,    178.7,4,  -999.00,9,  -999.00,9,  -999.00,9,  -999.00,9,     -999,9, -999.000,9, -999.000,9,     -999,9,   -999.0,9,   -999.0,9,-999.0000,9,  -999.00,  -999.00,9,   -999.0,9,   -999.0,  -999.00,9,   0.00077,2,    0.023,2,    0.078,2,    0.187,2,   99.438,2
  096U20180111,  SR03,    26,  1,     28,     28,2,20180121,0040,-52.3717, 142.5325, 3368,    159.9,   3.6902,  34.0118,2,-999.0000,9,    301.2,2,   -999.0,9,  -999.00,9,  -999.00,9,  -999.00,9,  -999.00,9,     -999,9, -999.000,9, -999.000,9,     -999,9,   -999.0,9,   -999.0,9,-999.0000,9,  -999.00,  -999.00,9,   -999.0,9,   -999.0,  -999.00,9,   0.00074,2,    0.022,2,    0.078,2,    0.166,2,   99.446,2
  096U20180111,  SR03,    26,  1,     27,     27,2,20180121,0040,-52.3717, 142.5325, 3368,    199.3,   3.5767,  34.0292,2,  34.0292,2,    290.2,2,    293.0,2,    14.80,2,    26.70,2,     0.01,2,     1.81,2,        0,2, -999.000,9, -999.000,9,     -999,9,   -999.0,9,   -999.0,9,-999.0000,9,  -999.00,  -999.00,9,   -999.0,9,   -999.0,  -999.00,9,   0.00068,2,    0.020,2,    0.042,2,    0.038,2,   99.499,2
  096U20180111,  SR03,    26,  1,     26,     26,2,20180121,0040,-52.3717, 142.5325, 3368,    250.2,   3.8243,  34.0910,2,  34.0916,2,    278.3,2,    273.8,2,    17.30,2,    27.49,2,     0.01,2,     1.86,2,        0,2, -999.000,9, -999.000,9,     -999,9,   -999.0,9,   -999.0,9,-999.0000,9,  -999.00,  -999.00,9,   -999.0,9,   -999.0,  -999.00,9,   0.00063,2,    0.014,2,    0.036,2,    0.000,2,   99.638,2
  096U20180111,  SR03,    26,  1,     25,     25,4,20180121,0040,-52.3717, 142.5325, 3368,    301.1,   3.7245,  34.1155,2,  34.1733,4,    261.8,2,    230.4,4,  -999.00,9,  -999.00,9,  -999.00,9,  -999.00,9,     -999,9,    2.484,3,    1.349,3,     1.15,3,   2203.6,2,   2301.1,2,-999.0000,9,  -999.00,    18.29,3,   -999.0,9,   -999.0,  -999.00,9,   0.00059,2,    0.013,2,    0.030,2,    0.000,2,   99.666,2
  096U20180111,  SR03,    26,  1,     24,     24,2,20180121,0040,-52.3717, 142.5325, 3368,    399.7,   3.4765,  34.1704,2,  34.1694,2,    243.9,2,    245.0,2,    26.60,2,    30.12,2,     0.01,2,     2.04,2,        0,2, -999.000,9, -999.000,9,     -999,9,   -999.0,9,   -999.0,9,-999.0000,9,  -999.00,  -999.00,9,   -999.0,9,   -999.0,  -999.00,9,   0.00051,2,    0.009,2,    0.030,2,    0.000,2,   99.764,2
  096U20180111,  SR03,    26,  1,     23,     23,2,20180121,0040,-52.3717, 142.5325, 3368,    499.3,   3.1693,  34.2220,2,  34.2214,2,    225.8,2,    229.0,2,    34.60,2,    31.57,2,     0.01,2,     2.15,2,        0,2,    3.107,2,    1.663,2,     1.51,2,   2202.3,2,   2296.1,2,-999.0000,9,  -999.00,    19.04,2,   -999.0,9,   -999.0,  -999.00,9,   0.00045,2,    0.007,2,    0.030,2,    0.000,2,   99.813,2
  096U20180111,  SR03,    26,  1,     22,     22,2,20180121,0040,-52.3717, 142.5325, 3368,    600.2,   3.0433,  34.2966,2,-999.0000,9,    208.1,2,   -999.0,9,  -999.00,9,  -999.00,9,  -999.00,9,  -999.00,9,     -999,9, -999.000,9, -999.000,9,     -999,9,   -999.0,9,   -999.0,9,-999.0000,9,  -999.00,  -999.00,9,   -999.0,9,   -999.0,  -999.00,9,   0.00044,2,    0.006,2,    0.036,2,    0.000,2,   99.857,2
  096U20180111,  SR03,    26,  1,     21,     21,2,20180121,0040,-52.3717, 142.5325, 3368,    701.7,   2.9143,  34.3762,2,  34.3753,2,    192.2,2,    191.0,2,    52.50,2,    33.90,2,     0.01,2,     2.31,2,        0,2, -999.000,9, -999.000,9,     -999,9,   -999.0,9,   -999.0,9,-999.0000,9,  -999.00,  -999.00,9,   -999.0,9,   -999.0,  -999.00,9,   0.00041,2,    0.005,2,    0.036,2,    0.000,2,   99.881,2
  096U20180111,  SR03,    26,  1,     20,     20,2,20180121,0040,-52.3717, 142.5325, 3368,    800.6,   2.7477,  34.4325,2,-999.0000,9,    182.9,2,   -999.0,9,  -999.00,9,  -999.00,9,  -999.00,9,  -999.00,9,     -999,9, -999.000,9, -999.000,9,     -999,9,   -999.0,9,   -999.0,9,-999.0000,9,  -999.00,  -999.00,9,   -999.0,9,   -999.0,  -999.00,9,   0.00039,2,    0.003,2,    0.036,2,    0.000,2,   99.925,2
  096U20180111,  SR03,    26,  1,     19,     19,2,20180121,0040,-52.3717, 142.5325, 3368,    800.3,   2.7470,  34.4328,2,  34.4316,2,    182.9,2,    182.6,2,    59.20,2,    34.34,2,     0.01,2,     2.34,2,    -0.01,2,    1.441,2,    0.741,2,     0.66,2,   2240.3,2,   2320.1,2,-999.0000,9,  -999.00,    22.34,2,   -999.0,9,   -999.0,  -999.00,9,   0.00042,2,    0.003,2,    0.036,2,    0.000,2,   99.919,2
  096U20180111,  SR03,    26,  1,     18,     18,2,20180121,0040,-52.3717, 142.5325, 3368,    900.3,   2.6780,  34.4857,2,  34.4767,4,    177.4,2,    176.5,2,    64.20,2,    34.40,2,     0.00,2,     2.35,2,    -0.01,2, -999.000,9, -999.000,9,     -999,9,   -999.0,9,   -999.0,9,-999.0000,9,  -999.00,  -999.00,9,   -999.0,9,   -999.0,  -999.00,9,   0.00038,2,    0.002,2,    0.036,2,    0.000,2,   99.940,2
  096U20180111,  SR03,    26,  1,     17,     17,2,20180121,0040,-52.3717, 142.5325, 3368,   1000.4,   2.6430,  34.5422,2,  34.5420,2,    173.5,2,    173.3,2,    67.70,2,    34.02,2,     0.00,2,     2.33,2,    -0.01,2, -999.000,9, -999.000,9,     -999,9,   -999.0,9,   -999.0,9,-999.0000,9,  -999.00,  -999.00,9,   -999.0,9,   -999.0,  -999.00,9,   0.00039,2,    0.003,2,    0.042,2,    0.000,2,   99.930,2
  096U20180111,  SR03,    26,  1,     16,     16,2,20180121,0040,-52.3717, 142.5325, 3368,   1140.6,   2.5091,  34.5991,2,  34.5980,2,    172.6,2,    173.2,2,    72.00,2,    33.54,2,     0.00,2,     2.29,2,    -0.01,2,    0.589,2,    0.297,2,     0.23,2,   2251.1,2,   2335.1,2,-999.0000,9,  -999.00,    21.77,2,   -999.0,9,   -999.0,  -999.00,9,   0.00037,2,    0.003,2,    0.036,2,    0.000,2,   99.935,2
  096U20180111,  SR03,    26,  1,     15,     15,2,20180121,0040,-52.3717, 142.5325, 3368,   1300.0,   2.4376,  34.6594,2,  34.6585,2,    176.4,2,    176.6,2,    74.70,2,    32.51,2,     0.00,2,     2.23,2,        0,2, -999.000,9, -999.000,9,     -999,9,   -999.0,9,   -999.0,9,-999.0000,9,  -999.00,  -999.00,9,   -999.0,9,   -999.0,  -999.00,9,   0.00036,2,    0.002,2,    0.036,2,    0.000,2,   99.956,2
  096U20180111,  SR03,    26,  1,     14,     14,2,20180121,0040,-52.3717, 142.5325, 3368,   1450.1,   2.3924,  34.6860,2,  34.6856,2,    177.3,2,    176.4,2,    78.70,2,    32.21,2,     0.00,2,     2.22,2,    -0.01,2, -999.000,9, -999.000,9,     -999,9,   -999.0,9,   -999.0,9,-999.0000,9,  -999.00,  -999.00,9,   -999.0,9,   -999.0,  -999.00,9,   0.00037,2,    0.001,2,    0.042,2,    0.000,2,   99.968,2
  096U20180111,  SR03,    26,  1,     13,     13,2,20180121,0040,-52.3717, 142.5325, 3368,   1599.0,   2.2895,  34.7095,2,  34.7082,2,    176.4,2,    176.3,2,    84.80,2,    32.10,2,     0.00,2,     2.22,2,    -0.01,2,    0.124,2,    0.056,2,     0.04,2,   2258.7,6,   2355.6,6,-999.0000,9,  -999.00,    20.05,2,   -999.0,9,   -999.0,  -999.00,9,   0.00037,2,    0.001,2,    0.036,2,    0.000,2,   99.976,2
  096U20180111,  SR03,    26,  1,     12,     12,2,20180121,0040,-52.3717, 142.5325, 3368,   1800.2,   2.1566,  34.7319,2,  34.7315,2,    189.4,2,    188.2,2,    81.60,2,    30.89,2,     0.00,2,     2.12,2,    -0.01,2, -999.000,9, -999.000,9,     -999,9,   -999.0,9,   -999.0,9,-999.0000,9,  -999.00,  -999.00,9,   -999.0,9,   -999.0,  -999.00,9,   0.00033,2,   -0.001,2,    0.036,2,    0.000,2,  100.012,2
  096U20180111,  SR03,    26,  1,     11,     11,2,20180121,0040,-52.3717, 142.5325, 3368,   1999.5,   1.9966,  34.7432,2,  34.7436,2,    192.4,2,    193.5,2,    89.20,2,    30.64,2,     0.00,2,     2.10,2,    -0.01,2, -999.000,9, -999.000,9,     -999,9,   -999.0,9,   -999.0,9,-999.0000,9,  -999.00,  -999.00,9,   -999.0,9,   -999.0,  -999.00,9,   0.00033,2,   -0.001,2,    0.042,2,    0.000,2,  100.015,2
  096U20180111,  SR03,    26,  1,     10,     10,2,20180121,0040,-52.3717, 142.5325, 3368,   2198.2,   1.8037,  34.7458,2,  34.7454,2,    197.4,2,    196.6,2,    90.50,2,    30.51,2,     0.00,2,     2.09,2,    -0.01,2,    0.168,2,    0.076,2,     0.08,2,   2249.1,2,   2354.3,6,-999.0000,9,  -999.00,    18.43,2,   -999.0,9,   -999.0,  -999.00,9,   0.00032,2,   -0.001,2,    0.036,2,    0.000,2,  100.023,2
  096U20180111,  SR03,    26,  1,      9,      9,2,20180121,0040,-52.3717, 142.5325, 3368,   2400.0,   1.6048,  34.7407,2,  34.7409,2,    199.4,2,    198.6,2,    96.80,2,    30.80,2,     0.00,2,     2.11,2,    -0.01,2, -999.000,9, -999.000,9,     -999,9,   -999.0,9,   -999.0,9,-999.0000,9,  -999.00,  -999.00,9,   -999.0,9,   -999.0,  -999.00,9,   0.00035,2,   -0.001,2,    0.042,2,    0.000,2,  100.016,2
  096U20180111,  SR03,    26,  1,      8,      8,2,20180121,0040,-52.3717, 142.5325, 3368,   2600.9,   1.4072,  34.7335,2,  34.7332,2,    201.2,2,    201.0,2,   103.10,2,    31.08,2,     0.01,2,     2.14,2,    -0.01,2, -999.000,9, -999.000,9,     -999,9,   -999.0,9,   -999.0,9,-999.0000,9,  -999.00,  -999.00,9,   -999.0,9,   -999.0,  -999.00,9,   0.00032,2,   -0.001,2,    0.042,2,    0.000,2,  100.021,2
  096U20180111,  SR03,    26,  1,      7,      7,2,20180121,0040,-52.3717, 142.5325, 3368,   2800.3,   1.2319,  34.7256,2,  34.7246,2,    202.5,2,    202.6,2,   109.40,2,    31.42,2,     0.01,2,     2.17,2,    -0.01,2, -999.000,9, -999.000,9,     -999,9,   -999.0,9,   -999.0,9,-999.0000,9,  -999.00,  -999.00,9,   -999.0,9,   -999.0,  -999.00,9,   0.00031,2,   -0.001,2,    0.042,2,    0.000,2,  100.017,2
  096U20180111,  SR03,    26,  1,      6,      6,2,20180121,0040,-52.3717, 142.5325, 3368,   2998.8,   1.0966,  34.7191,2,  34.7182,2,    203.7,2,    204.0,2,   114.20,2,    31.70,2,     0.01,2,     2.19,2,    -0.01,2,    0.206,2,    0.098,2,     0.03,2,   2260.1,2,   2364.9,2,-999.0000,9,  -999.00,    18.02,2,   -999.0,9,   -999.0,  -999.00,9,   0.00032,2,    0.000,2,    0.036,2,    0.000,2,  100.000,2
  096U20180111,  SR03,    26,  1,      5,      5,2,20180121,0040,-52.3717, 142.5325, 3368,   3200.7,   1.0521,  34.7161,2,-999.0000,9,    204.9,2,   -999.0,9,  -999.00,9,  -999.00,9,  -999.00,9,  -999.00,9,     -999,9, -999.000,9, -999.000,9,     -999,9,   -999.0,9,   -999.0,9,-999.0000,9,  -999.00,  -999.00,9,   -999.0,9,   -999.0,  -999.00,9,   0.00032,2,    0.000,2,    0.042,2,    0.000,2,   99.990,2
  096U20180111,  SR03,    26,  1,      4,      4,2,20180121,0040,-52.3717, 142.5325, 3368,   3200.6,   1.0517,  34.7161,2,  34.7148,2,    204.9,2,    205.1,2,   115.90,2,    31.79,2,     0.00,2,     2.19,2,    -0.01,2, -999.000,9, -999.000,9,     -999,9,   -999.0,9,   -999.0,9,-999.0000,9,  -999.00,  -999.00,9,   -999.0,9,   -999.0,  -999.00,9,   0.00032,2,    0.000,2,    0.036,2,    0.000,2,   99.989,2
  096U20180111,  SR03,    26,  1,      3,      3,2,20180121,0040,-52.3717, 142.5325, 3368,   3420.8,   1.0043,  34.7131,2,  34.7119,2,    206.0,2,    206.8,2,   118.30,2,    31.87,2,     0.01,2,     2.20,2,        0,2,    0.250,2,    0.123,2,     0.04,2,   -999.0,9,   -999.0,9,-999.0000,9,  -999.00,    18.26,2,   -999.0,9,   -999.0,  -999.00,9,   0.00038,2,    0.002,2,    0.042,2,    0.000,2,   99.958,2
  096U20180111,  SR03,    26,  1,      2,      2,2,20180121,0040,-52.3717, 142.5325, 3368,   3473.2,   1.0087,  34.7129,2,-999.0000,9,    206.1,2,   -999.0,9,  -999.00,9,  -999.00,9,  -999.00,9,  -999.00,9,     -999,9, -999.000,9, -999.000,9,     -999,9,   -999.0,9,   -999.0,9,-999.0000,9,  -999.00,  -999.00,9,   -999.0,9,   -999.0,  -999.00,9,   0.00038,2,    0.002,2,    0.042,2,    0.000,2,   99.954,2
  096U20180111,  SR03,    26,  1,      1,      1,2,20180121,0040,-52.3717, 142.5325, 3368,   3473.1,   1.0088,  34.7130,2,  34.7137,2,    206.1,2,    205.9,2,   118.10,2,    31.88,2,     0.01,2,     2.20,2,        0,2,    0.249,2,    0.118,2,        0,2,   2261.6,2,   2365.3,2,-999.0000,9,  -999.00,    18.17,2,   -999.0,9,   -999.0,  -999.00,9,   0.00041,2,    0.002,2,    0.036,2,    0.000,2,   99.957,2