BOTTLE,20230418CCHSIOENA
EXPOCODE,SECT_ID,STNNBR,CASTNO,SAMPNO,BTLNBR,BTLNBR_FLAG_W,DATE,TIME,LATITUDE,LONGITUDE,DEPTH,CTDPRS,CTDTMP,CTDSAL,CTDSAL_FLAG_W,SALNTY,SALNTY_FLAG_W,CTDOXY,CTDOXY_FLAG_W,OXYGEN,OXYGEN_FLAG_W,SILCAT,SILCAT_FLAG_W,NITRAT,NITRAT_FLAG_W,NITRIT,NITRIT_FLAG_W,PHSPHT,PHSPHT_FLAG_W,NH4,NH4_FLAG_W,CFC-11,CFC-11_FLAG_W,CFC-12,CFC-12_FLAG_W,SF6,SF6_FLAG_W,TCARBN,TCARBN_FLAG_W,ALKALI,ALKALI_FLAG_W,PH_TOT,PH_TOT_FLAG_W,PH_TMP,N2O,N2O_FLAG_W,DELC14,DELC14_FLAG_W,C14ERR,DELC13,DELC13_FLAG_W,CTDBETA700,CTDBETA700_FLAG_W,CTDBEAMCP,CTDBEAMCP_FLAG_W,CTDFLUOR,CTDFLUOR_FLAG_W,PAR,PAR_FLAG_W,CTDXMISS,CTDXMISS_FLAG_W
,,,,,,,,,,,METERS,DBAR,ITS-90,PSS-78,,PSS-78,,UMOL/KG,,UMOL/KG,,UMOL/KG,,UMOL/KG,,UMOL/KG,,UMOL/KG,,UMOL/KG,,PMOL/KG,,PMOL/KG,,FMOL/KG,,UMOL/KG,,UMOL/KG,,,,DEG C,NMOL/KG,,/MILLE,,/MILLE,/MILLE,,VOLTS,,1/M,,MG/M^3,,UMOL/M^2/SEC,,%TRANS,
  096U20180111,  SR03,    93,  1,     36,     36,2,20180212,0637,-64.4488, 132.0767, 1465,     11.1,  -0.8375,  33.5150,2,  33.5147,2,    346.7,2,    350.0,2,    49.30,2,    24.74,2,     0.14,2,     1.76,2,     1.12,2,    6.029,2,    3.174,2,        4,2,   2143.4,2,   2272.8,2,-999.0000,9,  -999.00,    16.02,2,   -999.0,9,   -999.0,  -999.00,9,   0.00100,2,    0.138,2,    0.540,2,   29.500,2,   96.611,2
  096U20180111,  SR03,    93,  1,     35,     35,2,20180212,0637,-64.4488, 132.0767, 1465,     11.0,  -0.8375,  33.5152,2,-999.0000,9,    346.7,2,   -999.0,9,  -999.00,9,  -999.00,9,  -999.00,9,  -999.00,9,     -999,9, -999.000,9, -999.000,9,     -999,9,   -999.0,9,   -999.0,9,-999.0000,9,  -999.00,  -999.00,9,   -999.0,9,   -999.0,  -999.00,9,   0.00100,2,    0.138,2,    0.534,2,   29.300,2,   96.601,2
  096U20180111,  SR03,    93,  1,     34,     34,2,20180212,0637,-64.4488, 132.0767, 1465,     11.0,  -0.8329,  33.5148,2,-999.0000,9,    346.7,2,   -999.0,9,  -999.00,9,  -999.00,9,  -999.00,9,  -999.00,9,     -999,9, -999.000,9, -999.000,9,     -999,9,   -999.0,9,   -999.0,9,-999.0000,9,  -999.00,  -999.00,9,   -999.0,9,   -999.0,  -999.00,9,   0.00101,2,    0.138,2,    0.528,2,   27.500,2,   96.621,2
  096U20180111,  SR03,    93,  1,     33,     33,2,20180212,0637,-64.4488, 132.0767, 1465,     23.6,  -0.8643,  33.5188,2,  33.5198,2,    347.7,2,    349.8,2,    49.30,2,    24.71,2,     0.14,2,     1.77,2,     1.15,2, -999.000,9, -999.000,9,     -999,9,   2144.0,2,   2273.4,2,-999.0000,9,  -999.00,  -999.00,9,   -999.0,9,   -999.0,  -999.00,9,   0.00094,2,    0.135,2,    0.534,2,   13.400,2,   96.673,2
  096U20180111,  SR03,    93,  1,     32,     32,2,20180212,0637,-64.4488, 132.0767, 1465,     50.6,  -1.6629,  34.1243,2,-999.0000,9,    335.7,2,   -999.0,9,  -999.00,9,  -999.00,9,  -999.00,9,  -999.00,9,     -999,9, -999.000,9, -999.000,9,     -999,9,   -999.0,9,   -999.0,9,-999.0000,9,  -999.00,  -999.00,9,   -999.0,9,   -999.0,  -999.00,9,   0.00060,2,    0.054,2,    0.426,2,    4.190,2,   98.658,2
  096U20180111,  SR03,    93,  1,     31,     31,2,20180212,0637,-64.4488, 132.0767, 1465,     50.5,  -1.6637,  34.1256,2,  34.1278,2,    335.7,2,    330.2,2,    55.60,2,    28.05,2,     0.10,2,     2.02,2,     0.92,2,    5.424,2,    2.919,2,     3.43,2,   2196.0,2,   2310.6,6,-999.0000,9,  -999.00,    16.71,2,   -999.0,9,   -999.0,  -999.00,9,   0.00060,2,    0.052,2,    0.408,2,    4.250,2,   98.703,2
  096U20180111,  SR03,    93,  1,     30,     30,2,20180212,0637,-64.4488, 132.0767, 1465,     75.9,  -1.7848,  34.2135,2,  34.2121,2,    320.8,2,    317.8,2,    56.40,2,    29.90,2,     0.14,2,     2.09,2,     0.24,2, -999.000,9, -999.000,9,     -999,9,   -999.0,9,   -999.0,9,-999.0000,9,  -999.00,  -999.00,9,   -999.0,9,   -999.0,  -999.00,9,   0.00052,2,    0.023,2,    0.276,2,    1.060,2,   99.427,2
  096U20180111,  SR03,    93,  1,     29,     29,2,20180212,0637,-64.4488, 132.0767, 1465,    110.9,  -1.7933,  34.2457,2,-999.0000,9,    314.9,2,   -999.0,9,  -999.00,9,  -999.00,9,  -999.00,9,  -999.00,9,     -999,9, -999.000,9, -999.000,9,     -999,9,   -999.0,9,   -999.0,9,-999.0000,9,  -999.00,  -999.00,9,   -999.0,9,   -999.0,  -999.00,9,   0.00041,2,    0.010,2,    0.138,2,    0.299,2,   99.736,2
  096U20180111,  SR03,    93,  1,     28,     28,2,20180212,0637,-64.4488, 132.0767, 1465,    110.7,  -1.7944,  34.2453,2,-999.0000,9,    314.9,2,   -999.0,9,  -999.00,9,  -999.00,9,  -999.00,9,  -999.00,9,     -999,9, -999.000,9, -999.000,9,     -999,9,   -999.0,9,   -999.0,9,-999.0000,9,  -999.00,  -999.00,9,   -999.0,9,   -999.0,  -999.00,9,   0.00041,2,    0.012,2,    0.138,2,    0.302,2,   99.707,2
  096U20180111,  SR03,    93,  1,     27,     27,2,20180212,0637,-64.4488, 132.0767, 1465,    110.7,  -1.7942,  34.2452,2,  34.2453,2,    314.9,2,    317.1,2,    57.40,2,    30.41,2,     0.09,2,     2.10,2,        0,2,    5.168,2,    2.801,2,     3.55,2,   2212.2,2,   2316.6,2,-999.0000,9,  -999.00,    16.97,2,   -999.0,9,   -999.0,  -999.00,9,   0.00042,2,    0.010,2,    0.138,2,    0.310,2,   99.741,2
  096U20180111,  SR03,    93,  1,     26,     26,2,20180212,0637,-64.4488, 132.0767, 1465,    150.5,  -1.5564,  34.2954,2,  34.2940,2,    300.3,2,    298.9,2,    61.00,2,    31.10,2,     0.03,2,     2.14,2,        0,2, -999.000,9, -999.000,9,     -999,9,   -999.0,9,   -999.0,9,-999.0000,9,  -999.00,  -999.00,9,   -999.0,9,   -999.0,  -999.00,9,   0.00042,2,    0.008,2,    0.120,2,    0.077,2,   99.807,2
  096U20180111,  SR03,    93,  1,     25,     25,2,20180212,0637,-64.4488, 132.0767, 1465,    195.6,  -1.4450,  34.3672,2,  34.3677,2,    295.9,2,    296.8,2,    66.00,2,    31.06,2,     0.02,2,     2.15,2,        0,2,    4.500,2,    2.467,2,     2.84,2,   2223.7,2,   2325.5,2,-999.0000,9,  -999.00,    17.74,2,   -999.0,9,   -999.0,  -999.00,9,   0.00046,2,    0.010,2,    0.048,2,    0.003,2,   99.758,2
  096U20180111,  SR03,    93,  1,     24,     24,2,20180212,0637,-64.4488, 132.0767, 1465,    251.2,  -0.7014,  34.4771,2,  34.4757,2,    261.4,2,    266.2,2,    74.20,2,    31.56,2,     0.01,2,     2.19,2,        0,2, -999.000,9, -999.000,9,     -999,9,   -999.0,9,   -999.0,9,-999.0000,9,  -999.00,  -999.00,9,   -999.0,9,   -999.0,  -999.00,9,   0.00044,2,    0.007,2,    0.036,2,    0.000,2,   99.837,2
  096U20180111,  SR03,    93,  1,     23,     23,2,20180212,0637,-64.4488, 132.0767, 1465,    301.1,  -0.8628,  34.5086,2,-999.0000,9,    271.0,2,   -999.0,9,  -999.00,9,  -999.00,9,  -999.00,9,  -999.00,9,     -999,9, -999.000,9, -999.000,9,     -999,9,   -999.0,9,   -999.0,9,-999.0000,9,  -999.00,  -999.00,9,   -999.0,9,   -999.0,  -999.00,9,   0.00044,2,    0.007,2,    0.042,2,    0.000,2,   99.832,2
  096U20180111,  SR03,    93,  1,     22,     22,2,20180212,0637,-64.4488, 132.0767, 1465,    301.0,  -0.8616,  34.5087,2,-999.0000,9,    271.1,2,   -999.0,9,  -999.00,9,  -999.00,9,  -999.00,9,  -999.00,9,     -999,9, -999.000,9, -999.000,9,     -999,9,   -999.0,9,   -999.0,9,-999.0000,9,  -999.00,  -999.00,9,   -999.0,9,   -999.0,  -999.00,9,   0.00046,2,    0.007,2,    0.036,2,    0.000,2,   99.835,2
  096U20180111,  SR03,    93,  1,     21,     21,2,20180212,0637,-64.4488, 132.0767, 1465,    301.2,  -0.8597,  34.5090,2,  34.5077,2,    271.0,2,    270.5,2,    77.30,2,    31.46,2,     0.01,2,     2.19,2,        0,2,    3.490,2,    1.912,2,     1.96,2,   2236.3,2,   2336.1,2,-999.0000,9,  -999.00,    18.51,2,   -999.0,9,   -999.0,  -999.00,9,   0.00046,2,    0.007,2,    0.042,2,    0.000,2,   99.822,2
  096U20180111,  SR03,    93,  1,     20,     20,2,20180212,0637,-64.4488, 132.0767, 1465,    401.2,  -0.0144,  34.6062,2,  34.6060,2,    238.4,2,    240.1,2,    86.40,2,    31.47,2,     0.01,2,     2.19,2,        0,2, -999.000,9, -999.000,9,     -999,9,   -999.0,9,   -999.0,9,-999.0000,9,  -999.00,  -999.00,9,   -999.0,9,   -999.0,  -999.00,9,   0.00039,2,    0.005,2,    0.036,2,    0.000,2,   99.873,2
  096U20180111,  SR03,    93,  1,     19,     19,2,20180212,0637,-64.4488, 132.0767, 1465,    500.6,   0.1297,  34.6377,2,  34.6383,2,    232.3,2,    232.6,2,    94.70,2,    31.58,2,     0.01,2,     2.19,2,    -0.01,2, -999.000,9, -999.000,9,     -999,9,   -999.0,9,   -999.0,9,-999.0000,9,  -999.00,  -999.00,9,   -999.0,9,   -999.0,  -999.00,9,   0.00036,2,    0.003,2,    0.036,2,    0.000,2,   99.933,2
  096U20180111,  SR03,    93,  1,     18,     18,2,20180212,0637,-64.4488, 132.0767, 1465,    601.6,  -0.1379,  34.6235,2,-999.0000,9,    240.3,2,   -999.0,9,  -999.00,9,  -999.00,9,  -999.00,9,  -999.00,9,     -999,9, -999.000,9, -999.000,9,     -999,9,   -999.0,9,   -999.0,9,-999.0000,9,  -999.00,  -999.00,9,   -999.0,9,   -999.0,  -999.00,9,   0.00040,2,    0.005,2,    0.036,2,    0.000,2,   99.882,2
  096U20180111,  SR03,    93,  1,     17,     17,2,20180212,0637,-64.4488, 132.0767, 1465,    601.5,  -0.1424,  34.6231,2,  34.6226,2,    240.3,2,    240.1,2,    95.60,2,    31.68,2,     0.02,2,     2.20,2,        0,2,    2.001,2,    1.082,2,      0.9,2,   2249.3,6,   2349.3,6,-999.0000,9,  -999.00,    18.91,2,   -999.0,9,   -999.0,  -999.00,9,   0.00040,2,    0.005,2,    0.036,2,    0.000,2,   99.883,2
  096U20180111,  SR03,    93,  1,     16,     16,2,20180212,0637,-64.4488, 132.0767, 1465,    701.4,  -0.0142,  34.6430,2,  34.6431,2,    232.2,2,    231.7,2,   103.30,2,    31.99,2,     0.01,2,     2.22,2,        0,2, -999.000,9, -999.000,9,     -999,9,   -999.0,9,   -999.0,9,-999.0000,9,  -999.00,  -999.00,9,   -999.0,9,   -999.0,  -999.00,9,   0.00037,2,    0.002,2,    0.036,2,    0.000,2,   99.945,2
  096U20180111,  SR03,    93,  1,     15,     15,2,20180212,0637,-64.4488, 132.0767, 1465,    800.4,   0.0990,  34.6610,2,-999.0000,9,    225.9,2,   -999.0,9,  -999.00,9,  -999.00,9,  -999.00,9,  -999.00,9,     -999,9, -999.000,9, -999.000,9,     -999,9,   -999.0,9,   -999.0,9,-999.0000,9,  -999.00,  -999.00,9,   -999.0,9,   -999.0,  -999.00,9,   0.00031,2,    0.000,2,    0.036,2,    0.000,2,   99.996,2
  096U20180111,  SR03,    93,  1,     14,     14,2,20180212,0637,-64.4488, 132.0767, 1465,    800.3,   0.0985,  34.6610,2,  34.6611,2,    225.9,2,    225.2,2,   110.30,2,    32.24,2,     0.01,2,     2.24,2,    -0.01,2, -999.000,9, -999.000,9,     -999,9,   -999.0,9,   -999.0,9,-999.0000,9,  -999.00,  -999.00,9,   -999.0,9,   -999.0,  -999.00,9,   0.00030,2,    0.000,2,    0.036,2,    0.000,2,   99.993,2
  096U20180111,  SR03,    93,  1,     13,     13,2,20180212,0637,-64.4488, 132.0767, 1465,    900.8,   0.0392,  34.6628,2,  34.6656,2,    229.0,2,    224.9,2,   113.10,2,    32.26,2,     0.00,2,     2.25,2,    -0.01,2,    1.190,2,    0.639,2,     0.79,2,   2256.1,2,   2356.0,2,-999.0000,9,  -999.00,    18.86,2,   -999.0,9,   -999.0,  -999.00,9,   0.00031,2,    0.000,2,    0.036,2,    0.000,2,   99.994,2
  096U20180111,  SR03,    93,  1,     12,     12,2,20180212,0637,-64.4488, 132.0767, 1465,   1000.1,  -0.0003,  34.6642,2,-999.0000,9,    227.0,2,   -999.0,9,  -999.00,9,  -999.00,9,  -999.00,9,  -999.00,9,     -999,9, -999.000,9, -999.000,9,     -999,9,   -999.0,9,   -999.0,9,-999.0000,9,  -999.00,  -999.00,9,   -999.0,9,   -999.0,  -999.00,9,   0.00032,2,   -0.001,2,    0.036,2,    0.000,2,  100.011,2
  096U20180111,  SR03,    93,  1,     11,     11,2,20180212,0637,-64.4488, 132.0767, 1465,   1000.1,   0.0000,  34.6642,2,-999.0000,9,    227.0,2,   -999.0,9,  -999.00,9,  -999.00,9,  -999.00,9,  -999.00,9,     -999,9, -999.000,9, -999.000,9,     -999,9,   -999.0,9,   -999.0,9,-999.0000,9,  -999.00,  -999.00,9,   -999.0,9,   -999.0,  -999.00,9,   0.00030,2,    0.000,2,    0.036,2,    0.000,2,  100.006,2
  096U20180111,  SR03,    93,  1,     10,     10,2,20180212,0637,-64.4488, 132.0767, 1465,    999.8,   0.0017,  34.6647,2,  34.6642,2,    227.0,2,    226.9,2,   113.50,2,    32.27,2,     0.01,2,     2.25,2,    -0.01,2, -999.000,9, -999.000,9,     -999,9,   2256.2,2,   2355.5,6,-999.0000,9,  -999.00,  -999.00,9,   -999.0,9,   -999.0,  -999.00,9,   0.00033,2,    0.000,2,    0.036,2,    0.000,2,  100.011,2
  096U20180111,  SR03,    93,  1,      9,      9,2,20180212,0637,-64.4488, 132.0767, 1465,   1101.2,  -0.1491,  34.6556,2,  34.6571,2,    232.7,2,    232.7,2,   110.40,2,    32.10,2,     0.01,2,     2.24,2,    -0.01,2,    1.573,2,    0.859,2,     0.74,2,   -999.0,9,   -999.0,9,-999.0000,9,  -999.00,    18.34,2,   -999.0,9,   -999.0,  -999.00,9,   0.00037,2,    0.001,2,    0.036,2,    0.000,2,   99.971,2
  096U20180111,  SR03,    93,  1,      8,      8,2,20180212,0637,-64.4488, 132.0767, 1465,   1201.5,  -0.1976,  34.6574,2,-999.0000,9,    234.3,2,   -999.0,9,  -999.00,9,  -999.00,9,  -999.00,9,  -999.00,9,     -999,9, -999.000,9, -999.000,9,     -999,9,   -999.0,9,   -999.0,9,-999.0000,9,  -999.00,  -999.00,9,   -999.0,9,   -999.0,  -999.00,9,   0.00032,2,    0.001,2,    0.036,2,    0.000,2,   99.981,2
  096U20180111,  SR03,    93,  1,      7,      7,2,20180212,0637,-64.4488, 132.0767, 1465,   1201.5,  -0.1988,  34.6573,2,  34.6573,2,    234.3,2,    233.8,2,   110.40,2,    32.11,2,     0.01,2,     2.24,2,    -0.01,2,    1.669,2,    0.894,2,     0.88,2,   -999.0,9,   -999.0,9,-999.0000,9,  -999.00,    18.54,2,   -999.0,9,   -999.0,  -999.00,9,   0.00033,2,    0.001,2,    0.036,2,    0.000,2,   99.983,2
  096U20180111,  SR03,    93,  1,      6,      6,2,20180212,0637,-64.4488, 132.0767, 1465,   1285.9,  -0.2562,  34.6544,2,  34.6549,2,    235.0,2,    236.3,2,   108.70,2,    32.11,2,     0.01,2,     2.24,2,    -0.01,2,    1.807,2,    0.964,2,     0.84,2,   2255.0,2,   2354.2,2,-999.0000,9,  -999.00,    18.97,2,   -999.0,9,   -999.0,  -999.00,9,   0.00034,2,    0.001,2,    0.036,2,    0.000,2,   99.967,2
  096U20180111,  SR03,    93,  1,      5,      5,2,20180212,0637,-64.4488, 132.0767, 1465,   1375.9,  -0.3109,  34.6517,2,  34.6521,2,    238.1,2,    238.8,2,   106.80,2,    32.08,2,     0.01,2,     2.24,2,    -0.01,2,    1.935,2,    1.056,2,     1.09,2,   2254.6,2,   2354.2,2,-999.0000,9,  -999.00,    18.01,2,   -999.0,9,   -999.0,  -999.00,9,   0.00036,2,    0.002,2,    0.036,2,    0.000,2,   99.945,2
  096U20180111,  SR03,    93,  1,      4,      4,2,20180212,0637,-64.4488, 132.0767, 1465,   1426.2,  -0.3444,  34.6494,2,  34.6490,2,    239.9,2,    240.4,2,   105.90,2,    32.05,2,     0.01,2,     2.24,2,        0,2,    2.026,2,    1.105,2,     1.08,2,   -999.0,9,   -999.0,9,-999.0000,9,  -999.00,    18.79,2,   -999.0,9,   -999.0,  -999.00,9,   0.00041,2,    0.004,2,    0.036,2,    0.000,2,   99.888,2
  096U20180111,  SR03,    93,  1,      3,      3,2,20180212,0637,-64.4488, 132.0767, 1465,   1478.1,  -0.3607,  34.6489,2,-999.0000,9,    240.7,2,   -999.0,9,  -999.00,9,  -999.00,9,  -999.00,9,  -999.00,9,     -999,9, -999.000,9, -999.000,9,     -999,9,   -999.0,9,   -999.0,9,-999.0000,9,  -999.00,  -999.00,9,   -999.0,9,   -999.0,  -999.00,9,   0.00038,2,    0.004,2,    0.036,2,    0.000,2,   99.893,2
  096U20180111,  SR03,    93,  1,      2,      2,2,20180212,0637,-64.4488, 132.0767, 1465,   1478.0,  -0.3607,  34.6489,2,-999.0000,9,    240.7,2,   -999.0,9,  -999.00,9,  -999.00,9,  -999.00,9,  -999.00,9,     -999,9, -999.000,9, -999.000,9,     -999,9,   -999.0,9,   -999.0,9,-999.0000,9,  -999.00,  -999.00,9,   -999.0,9,   -999.0,  -999.00,9,   0.00041,2,    0.004,2,    0.036,2,    0.000,2,   99.889,2
  096U20180111,  SR03,    93,  1,      1,      1,2,20180212,0637,-64.4488, 132.0767, 1465,   1478.1,  -0.3605,  34.6489,2,  34.6484,2,    240.7,2,    241.4,2,   105.20,2,    31.99,2,     0.01,2,     2.23,2,        0,2,    2.076,2,    1.111,2,     0.89,2,   2253.6,2,   2351.4,2,-999.0000,9,  -999.00,    19.00,2,   -999.0,9,   -999.0,  -999.00,9,   0.00039,2,    0.005,2,    0.036,2,    0.000,2,   99.885,2