BOTTLE,20230418CCHSIOENA
EXPOCODE,SECT_ID,STNNBR,CASTNO,SAMPNO,BTLNBR,BTLNBR_FLAG_W,DATE,TIME,LATITUDE,LONGITUDE,DEPTH,CTDPRS,CTDTMP,CTDSAL,CTDSAL_FLAG_W,SALNTY,SALNTY_FLAG_W,CTDOXY,CTDOXY_FLAG_W,OXYGEN,OXYGEN_FLAG_W,SILCAT,SILCAT_FLAG_W,NITRAT,NITRAT_FLAG_W,NITRIT,NITRIT_FLAG_W,PHSPHT,PHSPHT_FLAG_W,NH4,NH4_FLAG_W,CFC-11,CFC-11_FLAG_W,CFC-12,CFC-12_FLAG_W,SF6,SF6_FLAG_W,TCARBN,TCARBN_FLAG_W,ALKALI,ALKALI_FLAG_W,PH_TOT,PH_TOT_FLAG_W,PH_TMP,N2O,N2O_FLAG_W,DELC14,DELC14_FLAG_W,C14ERR,DELC13,DELC13_FLAG_W,CTDBETA700,CTDBETA700_FLAG_W,CTDBEAMCP,CTDBEAMCP_FLAG_W,CTDFLUOR,CTDFLUOR_FLAG_W,PAR,PAR_FLAG_W,CTDXMISS,CTDXMISS_FLAG_W
,,,,,,,,,,,METERS,DBAR,ITS-90,PSS-78,,PSS-78,,UMOL/KG,,UMOL/KG,,UMOL/KG,,UMOL/KG,,UMOL/KG,,UMOL/KG,,UMOL/KG,,PMOL/KG,,PMOL/KG,,FMOL/KG,,UMOL/KG,,UMOL/KG,,,,DEG C,NMOL/KG,,/MILLE,,/MILLE,/MILLE,,VOLTS,,1/M,,MG/M^3,,UMOL/M^2/SEC,,%TRANS,
  096U20180111,  SR03,    41,  1,     36,     36,2,20180126,0236,-58.8457, 139.8397, 3860,     15.9,   3.5785,  33.7841,2,-999.0000,9,    322.9,2,   -999.0,9,  -999.00,9,  -999.00,9,  -999.00,9,  -999.00,9,     -999,9, -999.000,9, -999.000,9,     -999,9,   -999.0,9,   -999.0,9,-999.0000,9,  -999.00,  -999.00,9,   -999.0,9,   -999.0,  -999.00,9,   0.00206,2,    0.195,2,    0.744,2,   99.100,2,   95.242,2
  096U20180111,  SR03,    41,  1,     35,     35,2,20180126,0236,-58.8457, 139.8397, 3860,     15.9,   3.5790,  33.7841,2,-999.0000,9,    322.9,2,   -999.0,9,  -999.00,9,  -999.00,9,  -999.00,9,  -999.00,9,     -999,9, -999.000,9, -999.000,9,     -999,9,   -999.0,9,   -999.0,9,-999.0000,9,  -999.00,  -999.00,9,   -999.0,9,   -999.0,  -999.00,9,   0.00215,2,    0.198,2,    0.744,2,   96.300,2,   95.169,2
  096U20180111,  SR03,    41,  1,     34,     34,2,20180126,0236,-58.8457, 139.8397, 3860,     16.0,   3.5770,  33.7839,2,  33.7844,2,    322.9,2,    322.5,2,     8.90,2,    24.92,2,     0.24,2,     1.57,2,     0.14,2, -999.000,9, -999.000,9,     -999,9,   -999.0,9,   -999.0,9,-999.0000,9,  -999.00,  -999.00,9,   -999.0,9,   -999.0,  -999.00,9,   0.00221,2,    0.195,2,    0.768,2,   95.700,2,   95.247,2
  096U20180111,  SR03,    41,  1,     33,     33,2,20180126,0236,-58.8457, 139.8397, 3860,     51.0,   3.3216,  33.7911,2,-999.0000,9,    325.2,2,   -999.0,9,  -999.00,9,  -999.00,9,  -999.00,9,  -999.00,9,     -999,9, -999.000,9, -999.000,9,     -999,9,   -999.0,9,   -999.0,9,-999.0000,9,  -999.00,  -999.00,9,   -999.0,9,   -999.0,  -999.00,9,   0.00336,2,    0.302,2,    3.162,2,   11.800,2,   92.734,2
  096U20180111,  SR03,    41,  1,     32,     32,2,20180126,0236,-58.8457, 139.8397, 3860,     50.9,   3.3147,  33.7913,2,-999.0000,9,    325.2,2,   -999.0,9,  -999.00,9,  -999.00,9,  -999.00,9,  -999.00,9,     -999,9, -999.000,9, -999.000,9,     -999,9,   -999.0,9,   -999.0,9,-999.0000,9,  -999.00,  -999.00,9,   -999.0,9,   -999.0,  -999.00,9,   0.00305,2,    0.301,2,    3.156,2,   11.500,2,   92.747,2
  096U20180111,  SR03,    41,  1,     31,     31,2,20180126,0236,-58.8457, 139.8397, 3860,     50.2,   3.2811,  33.7927,2,  33.7930,2,    325.2,2,    325.3,2,     9.00,2,    25.11,2,     0.22,2,     1.63,2,     0.17,2, -999.000,9, -999.000,9,     -999,9,   -999.0,9,   -999.0,9,-999.0000,9,  -999.00,  -999.00,9,   -999.0,9,   -999.0,  -999.00,9,   0.00340,2,    0.302,2,    3.156,2,   12.300,2,   92.732,2
  096U20180111,  SR03,    41,  1,     30,     30,2,20180126,0236,-58.8457, 139.8397, 3860,     60.2,   2.4800,  33.8355,2,-999.0000,9,    330.2,2,   -999.0,9,  -999.00,9,  -999.00,9,  -999.00,9,  -999.00,9,     -999,9, -999.000,9, -999.000,9,     -999,9,   -999.0,9,   -999.0,9,-999.0000,9,  -999.00,  -999.00,9,   -999.0,9,   -999.0,  -999.00,9,   0.00293,2,    0.241,2,    3.546,2,    5.800,2,   94.154,2
  096U20180111,  SR03,    41,  1,     29,     29,2,20180126,0236,-58.8457, 139.8397, 3860,     60.2,   2.3014,  33.8492,2,  33.8448,2,    330.2,2,    332.8,2,    13.60,2,    26.10,2,     0.21,2,     1.82,2,     0.51,2, -999.000,9, -999.000,9,     -999,9,   -999.0,9,   -999.0,9,-999.0000,9,  -999.00,  -999.00,9,   -999.0,9,   -999.0,  -999.00,9,   0.00301,2,    0.243,2,    3.540,2,    5.810,2,   94.114,2
  096U20180111,  SR03,    41,  1,     28,     28,2,20180126,0236,-58.8457, 139.8397, 3860,     85.0,   1.1946,  33.8951,2,-999.0000,9,    335.5,2,   -999.0,9,  -999.00,9,  -999.00,9,  -999.00,9,  -999.00,9,     -999,9, -999.000,9, -999.000,9,     -999,9,   -999.0,9,   -999.0,9,-999.0000,9,  -999.00,  -999.00,9,   -999.0,9,   -999.0,  -999.00,9,   0.00107,2,    0.065,2,    0.912,2,    1.130,2,   98.397,2
  096U20180111,  SR03,    41,  1,     27,     27,2,20180126,0236,-58.8457, 139.8397, 3860,     85.0,   1.1964,  33.8968,2,-999.0000,9,    335.5,2,   -999.0,9,  -999.00,9,  -999.00,9,  -999.00,9,  -999.00,9,     -999,9, -999.000,9, -999.000,9,     -999,9,   -999.0,9,   -999.0,9,-999.0000,9,  -999.00,  -999.00,9,   -999.0,9,   -999.0,  -999.00,9,   0.00108,2,    0.066,2,    0.918,2,    1.130,2,   98.357,2
  096U20180111,  SR03,    41,  1,     26,     26,2,20180126,0236,-58.8457, 139.8397, 3860,     84.8,   1.1936,  33.8957,2,-999.0000,9,    335.5,2,   -999.0,9,  -999.00,9,  -999.00,9,  -999.00,9,  -999.00,9,     -999,9, -999.000,9, -999.000,9,     -999,9,   -999.0,9,   -999.0,9,-999.0000,9,  -999.00,  -999.00,9,   -999.0,9,   -999.0,  -999.00,9,   0.00107,2,    0.063,2,    0.894,2,    1.150,2,   98.435,2
  096U20180111,  SR03,    41,  1,     25,     25,2,20180126,0236,-58.8457, 139.8397, 3860,     84.9,   1.1996,  33.8948,2,-999.0000,9,    335.5,2,   -999.0,9,  -999.00,9,  -999.00,9,  -999.00,9,  -999.00,9,     -999,9, -999.000,9, -999.000,9,     -999,9,   -999.0,9,   -999.0,9,-999.0000,9,  -999.00,  -999.00,9,   -999.0,9,   -999.0,  -999.00,9,   0.00111,2,    0.059,2,    0.930,2,    1.100,2,   98.529,2
  096U20180111,  SR03,    41,  1,     24,     24,2,20180126,0236,-58.8457, 139.8397, 3860,     84.9,   1.1807,  33.9013,2,-999.0000,9,    335.5,2,   -999.0,9,  -999.00,9,  -999.00,9,  -999.00,9,  -999.00,9,     -999,9, -999.000,9, -999.000,9,     -999,9,   -999.0,9,   -999.0,9,-999.0000,9,  -999.00,  -999.00,9,   -999.0,9,   -999.0,  -999.00,9,   0.00107,2,    0.059,2,    0.918,2,    1.060,2,   98.546,2
  096U20180111,  SR03,    41,  1,     23,     23,2,20180126,0236,-58.8457, 139.8397, 3860,    100.2,   0.8739,  33.9346,2,-999.0000,9,    327.1,2,   -999.0,9,  -999.00,9,  -999.00,9,  -999.00,9,  -999.00,9,     -999,9, -999.000,9, -999.000,9,     -999,9,   -999.0,9,   -999.0,9,-999.0000,9,  -999.00,  -999.00,9,   -999.0,9,   -999.0,  -999.00,9,   0.00083,2,    0.031,2,    0.396,2,    0.542,2,   99.231,2
  096U20180111,  SR03,    41,  1,     22,     22,2,20180126,0236,-58.8457, 139.8397, 3860,     99.9,   0.8652,  33.9380,2,  33.9366,2,    327.1,2,   -999.0,9,    22.10,2,    28.49,2,     0.27,2,     2.00,2,     0.33,2, -999.000,9, -999.000,9,     -999,9,   -999.0,9,   -999.0,9,-999.0000,9,  -999.00,  -999.00,9,   -999.0,9,   -999.0,  -999.00,9,   0.00077,2,    0.031,2,    0.384,2,    0.544,2,   99.218,2
  096U20180111,  SR03,    41,  1,     21,     21,2,20180126,0236,-58.8457, 139.8397, 3860,    100.0,   0.8562,  33.9430,2,  33.9362,2,    327.1,2,    325.2,2,    22.20,2,    28.52,2,     0.27,2,     2.00,2,     0.32,2, -999.000,9, -999.000,9,     -999,9,   -999.0,9,   -999.0,9,-999.0000,9,  -999.00,  -999.00,9,   -999.0,9,   -999.0,  -999.00,9,   0.00074,2,    0.030,2,    0.360,2,    0.539,2,   99.244,2
  096U20180111,  SR03,    41,  1,     20,     20,2,20180126,0236,-58.8457, 139.8397, 3860,    130.8,   0.7993,  33.9926,2,-999.0000,9,    310.8,2,   -999.0,9,  -999.00,9,  -999.00,9,  -999.00,9,  -999.00,9,     -999,9, -999.000,9, -999.000,9,     -999,9,   -999.0,9,   -999.0,9,-999.0000,9,  -999.00,  -999.00,9,   -999.0,9,   -999.0,  -999.00,9,   0.00057,2,    0.015,2,    0.132,2,    0.181,2,   99.623,2
  096U20180111,  SR03,    41,  1,     19,     19,2,20180126,0236,-58.8457, 139.8397, 3860,    130.8,   0.7965,  33.9934,2,  33.9935,2,    310.8,2,    309.4,2,    27.80,2,    30.16,2,     0.07,2,     2.07,2,     0.02,2, -999.000,9, -999.000,9,     -999,9,   -999.0,9,   -999.0,9,-999.0000,9,  -999.00,  -999.00,9,   -999.0,9,   -999.0,  -999.00,9,   0.00058,2,    0.015,2,    0.138,2,    0.180,2,   99.633,2
  096U20180111,  SR03,    41,  1,     18,     18,2,20180126,0236,-58.8457, 139.8397, 3860,    160.3,   1.3624,  34.0936,2,-999.0000,9,    270.6,2,   -999.0,9,  -999.00,9,  -999.00,9,  -999.00,9,  -999.00,9,     -999,9, -999.000,9, -999.000,9,     -999,9,   -999.0,9,   -999.0,9,-999.0000,9,  -999.00,  -999.00,9,   -999.0,9,   -999.0,  -999.00,9,   0.00062,2,    0.014,2,    0.066,2,    0.056,2,   99.659,2
  096U20180111,  SR03,    41,  1,     17,     17,2,20180126,0236,-58.8457, 139.8397, 3860,    160.3,   1.3744,  34.0962,2,  34.0925,2,    270.6,2,    274.0,2,    35.30,2,    31.83,2,     0.02,2,     2.17,2,        0,2, -999.000,9, -999.000,9,     -999,9,   -999.0,9,   -999.0,9,-999.0000,9,  -999.00,  -999.00,9,   -999.0,9,   -999.0,  -999.00,9,   0.00058,2,    0.014,2,    0.072,2,    0.055,2,   99.656,2
  096U20180111,  SR03,    41,  1,     16,     16,2,20180126,0236,-58.8457, 139.8397, 3860,    202.0,   1.9035,  34.1894,2,-999.0000,9,    236.4,2,   -999.0,9,  -999.00,9,  -999.00,9,  -999.00,9,  -999.00,9,     -999,9, -999.000,9, -999.000,9,     -999,9,   -999.0,9,   -999.0,9,-999.0000,9,  -999.00,  -999.00,9,   -999.0,9,   -999.0,  -999.00,9,   0.00062,2,    0.014,2,    0.042,2,    0.000,2,   99.662,2
  096U20180111,  SR03,    41,  1,     15,     15,2,20180126,0236,-58.8457, 139.8397, 3860,    202.0,   1.9052,  34.1898,2,-999.0000,9,    236.4,2,   -999.0,9,  -999.00,9,  -999.00,9,  -999.00,9,  -999.00,9,     -999,9, -999.000,9, -999.000,9,     -999,9,   -999.0,9,   -999.0,9,-999.0000,9,  -999.00,  -999.00,9,   -999.0,9,   -999.0,  -999.00,9,   0.00063,2,    0.014,2,    0.048,2,    0.000,2,   99.658,2
  096U20180111,  SR03,    41,  1,     14,     14,2,20180126,0236,-58.8457, 139.8397, 3860,    202.1,   1.9043,  34.1897,2,  34.1884,2,    236.4,2,    241.3,2,    43.20,2,    33.21,2,     0.02,2,     2.27,2,        0,2, -999.000,9, -999.000,9,     -999,9,   -999.0,9,   -999.0,9,-999.0000,9,  -999.00,  -999.00,9,   -999.0,9,   -999.0,  -999.00,9,   0.00062,2,    0.014,2,    0.042,2,    0.000,2,   99.643,2
  096U20180111,  SR03,    41,  1,     13,     13,2,20180126,0236,-58.8457, 139.8397, 3860,    301.1,   2.3270,  34.3541,2,  34.3549,2,    195.3,2,    196.0,2,    57.20,2,    35.03,2,     0.01,2,     2.39,2,        0,2, -999.000,9, -999.000,9,     -999,9,   -999.0,9,   -999.0,9,-999.0000,9,  -999.00,  -999.00,9,   -999.0,9,   -999.0,  -999.00,9,   0.00058,2,    0.014,2,    0.042,2,    0.000,2,   99.658,2
  096U20180111,  SR03,    41,  1,     12,     12,2,20180126,0236,-58.8457, 139.8397, 3860,    400.9,   2.4333,  34.4727,2,  34.4688,4,    179.7,2,    178.4,2,    66.00,2,    35.19,2,     0.01,2,     2.41,2,        0,2, -999.000,9, -999.000,9,     -999,9,   -999.0,9,   -999.0,9,-999.0000,9,  -999.00,  -999.00,9,   -999.0,9,   -999.0,  -999.00,9,   0.00044,2,    0.004,2,    0.036,2,    0.000,2,   99.902,2
  096U20180111,  SR03,    41,  1,     11,     11,2,20180126,0236,-58.8457, 139.8397, 3860,    501.0,   2.4235,  34.5462,2,-999.0000,9,    173.7,2,   -999.0,9,  -999.00,9,  -999.00,9,  -999.00,9,  -999.00,9,     -999,9, -999.000,9, -999.000,9,     -999,9,   -999.0,9,   -999.0,9,-999.0000,9,  -999.00,  -999.00,9,   -999.0,9,   -999.0,  -999.00,9,   0.00038,2,    0.002,2,    0.036,2,    0.000,2,   99.947,2
  096U20180111,  SR03,    41,  1,     10,     10,2,20180126,0236,-58.8457, 139.8397, 3860,    501.0,   2.4234,  34.5463,2,-999.0000,9,    173.7,2,   -999.0,9,  -999.00,9,  -999.00,9,  -999.00,9,  -999.00,9,     -999,9, -999.000,9, -999.000,9,     -999,9,   -999.0,9,   -999.0,9,-999.0000,9,  -999.00,  -999.00,9,   -999.0,9,   -999.0,  -999.00,9,   0.00039,2,    0.002,2,    0.036,2,    0.000,2,   99.946,2
  096U20180111,  SR03,    41,  1,      9,      9,2,20180126,0236,-58.8457, 139.8397, 3860,    501.1,   2.4230,  34.5465,2,  34.5457,2,    173.7,2,    172.4,2,    71.10,2,    34.85,2,     0.01,2,     2.38,2,        0,2, -999.000,9, -999.000,9,     -999,9,   -999.0,9,   -999.0,9,-999.0000,9,  -999.00,  -999.00,9,   -999.0,9,   -999.0,  -999.00,9,   0.00039,2,    0.002,2,    0.036,2,    0.000,2,   99.946,2
  096U20180111,  SR03,    41,  1,      8,      8,2,20180126,0236,-58.8457, 139.8397, 3860,    601.4,   2.3790,  34.5968,2,  34.5962,2,    173.2,2,    171.8,2,    73.90,2,    34.30,2,     0.01,2,     2.34,2,        0,2, -999.000,9, -999.000,9,     -999,9,   -999.0,9,   -999.0,9,-999.0000,9,  -999.00,  -999.00,9,   -999.0,9,   -999.0,  -999.00,9,   0.00039,2,    0.002,2,    0.042,2,    0.000,2,   99.951,2
  096U20180111,  SR03,    41,  1,      7,      7,2,20180126,0236,-58.8457, 139.8397, 3860,    700.6,   2.3332,  34.6354,2,-999.0000,9,    173.9,2,   -999.0,9,  -999.00,9,  -999.00,9,  -999.00,9,  -999.00,9,     -999,9, -999.000,9, -999.000,9,     -999,9,   -999.0,9,   -999.0,9,-999.0000,9,  -999.00,  -999.00,9,   -999.0,9,   -999.0,  -999.00,9,   0.00038,2,    0.001,2,    0.042,2,    0.000,2,   99.978,2
  096U20180111,  SR03,    41,  1,      6,      6,2,20180126,0236,-58.8457, 139.8397, 3860,    700.7,   2.3323,  34.6363,2,  34.6350,2,    173.9,2,    174.0,2,    76.00,2,    33.66,2,     0.01,2,     2.30,2,        0,2, -999.000,9, -999.000,9,     -999,9,   -999.0,9,   -999.0,9,-999.0000,9,  -999.00,  -999.00,9,   -999.0,9,   -999.0,  -999.00,9,   0.00040,2,    0.000,2,    0.042,2,    0.000,2,   99.989,2
  096U20180111,  SR03,    41,  1,      5,      5,2,20180126,0236,-58.8457, 139.8397, 3860,    850.0,   2.2726,  34.6795,2,-999.0000,9,    178.2,2,   -999.0,9,  -999.00,9,  -999.00,9,  -999.00,9,  -999.00,9,     -999,9, -999.000,9, -999.000,9,     -999,9,   -999.0,9,   -999.0,9,-999.0000,9,  -999.00,  -999.00,9,   -999.0,9,   -999.0,  -999.00,9,   0.00036,2,    0.000,2,    0.042,2,    0.000,2,   99.991,2
  096U20180111,  SR03,    41,  1,      4,      4,2,20180126,0236,-58.8457, 139.8397, 3860,    850.0,   2.2720,  34.6800,2,  34.6787,2,    178.2,2,    178.8,2,    77.50,2,    32.68,2,     0.01,2,     2.24,2,        0,2, -999.000,9, -999.000,9,     -999,9,   -999.0,9,   -999.0,9,-999.0000,9,  -999.00,  -999.00,9,   -999.0,9,   -999.0,  -999.00,9,   0.00036,2,    0.000,2,    0.042,2,    0.000,2,   99.988,2
  096U20180111,  SR03,    41,  1,      3,      3,2,20180126,0236,-58.8457, 139.8397, 3860,   1002.2,   2.1947,  34.7101,2,-999.0000,9,    183.0,2,   -999.0,9,  -999.00,9,  -999.00,9,  -999.00,9,  -999.00,9,     -999,9, -999.000,9, -999.000,9,     -999,9,   -999.0,9,   -999.0,9,-999.0000,9,  -999.00,  -999.00,9,   -999.0,9,   -999.0,  -999.00,9,   0.00035,2,    0.000,2,    0.042,2,    0.000,2,  100.005,2
  096U20180111,  SR03,    41,  1,      2,      2,2,20180126,0236,-58.8457, 139.8397, 3860,   1002.3,   2.1945,  34.7101,2,-999.0000,9,    183.0,2,   -999.0,9,  -999.00,9,  -999.00,9,  -999.00,9,  -999.00,9,     -999,9, -999.000,9, -999.000,9,     -999,9,   -999.0,9,   -999.0,9,-999.0000,9,  -999.00,  -999.00,9,   -999.0,9,   -999.0,  -999.00,9,   0.00034,2,    0.000,2,    0.036,2,    0.000,2,  100.008,2
  096U20180111,  SR03,    41,  1,      1,      1,2,20180126,0236,-58.8457, 139.8397, 3860,   1002.4,   2.1942,  34.7095,2,  34.7088,2,    183.0,2,    183.8,2,    79.20,2,    31.92,2,     0.01,2,     2.19,2,        0,2, -999.000,9, -999.000,9,     -999,9,   -999.0,9,   -999.0,9,-999.0000,9,  -999.00,  -999.00,9,   -999.0,9,   -999.0,  -999.00,9,   0.00035,2,    0.000,2,    0.036,2,    0.000,2,  100.003,2