BOTTLE,20230418CCHSIOENA
EXPOCODE,SECT_ID,STNNBR,CASTNO,SAMPNO,BTLNBR,BTLNBR_FLAG_W,DATE,TIME,LATITUDE,LONGITUDE,DEPTH,CTDPRS,CTDTMP,CTDSAL,CTDSAL_FLAG_W,SALNTY,SALNTY_FLAG_W,CTDOXY,CTDOXY_FLAG_W,OXYGEN,OXYGEN_FLAG_W,SILCAT,SILCAT_FLAG_W,NITRAT,NITRAT_FLAG_W,NITRIT,NITRIT_FLAG_W,PHSPHT,PHSPHT_FLAG_W,NH4,NH4_FLAG_W,CFC-11,CFC-11_FLAG_W,CFC-12,CFC-12_FLAG_W,SF6,SF6_FLAG_W,TCARBN,TCARBN_FLAG_W,ALKALI,ALKALI_FLAG_W,PH_TOT,PH_TOT_FLAG_W,PH_TMP,N2O,N2O_FLAG_W,DELC14,DELC14_FLAG_W,C14ERR,DELC13,DELC13_FLAG_W,CTDBETA700,CTDBETA700_FLAG_W,CTDBEAMCP,CTDBEAMCP_FLAG_W,CTDFLUOR,CTDFLUOR_FLAG_W,PAR,PAR_FLAG_W,CTDXMISS,CTDXMISS_FLAG_W
,,,,,,,,,,,METERS,DBAR,ITS-90,PSS-78,,PSS-78,,UMOL/KG,,UMOL/KG,,UMOL/KG,,UMOL/KG,,UMOL/KG,,UMOL/KG,,UMOL/KG,,PMOL/KG,,PMOL/KG,,FMOL/KG,,UMOL/KG,,UMOL/KG,,,,DEG C,NMOL/KG,,/MILLE,,/MILLE,/MILLE,,VOLTS,,1/M,,MG/M^3,,UMOL/M^2/SEC,,%TRANS,
  096U20180111,  SR03,    60,  1,     36,     36,2,20180201,0739,-65.7117, 139.8615,  283,     10.9,  -0.5480,  33.8182,2,-999.0000,9,    355.2,2,   -999.0,9,  -999.00,9,  -999.00,9,  -999.00,9,  -999.00,9,     -999,9, -999.000,9, -999.000,9,     -999,9,   -999.0,9,   -999.0,9,-999.0000,9,  -999.00,  -999.00,9,   -999.0,9,   -999.0,  -999.00,9,   0.00143,2,    0.145,2,    0.324,2,  102.000,2,   96.448,2
  096U20180111,  SR03,    60,  1,     35,     35,2,20180201,0739,-65.7117, 139.8615,  283,     11.0,  -0.5597,  33.8190,2,-999.0000,9,    355.2,2,   -999.0,9,  -999.00,9,  -999.00,9,  -999.00,9,  -999.00,9,     -999,9, -999.000,9, -999.000,9,     -999,9,   -999.0,9,   -999.0,9,-999.0000,9,  -999.00,  -999.00,9,   -999.0,9,   -999.0,  -999.00,9,   0.00153,2,    0.143,2,    0.348,2,  101.000,2,   96.494,2
  096U20180111,  SR03,    60,  1,     34,     34,2,20180201,0739,-65.7117, 139.8615,  283,     10.9,  -0.5743,  33.8199,2,-999.0000,9,    355.2,2,   -999.0,9,  -999.00,9,  -999.00,9,  -999.00,9,  -999.00,9,     -999,9, -999.000,9, -999.000,9,     -999,9,   -999.0,9,   -999.0,9,-999.0000,9,  -999.00,  -999.00,9,   -999.0,9,   -999.0,  -999.00,9,   0.00152,2,    0.148,2,    0.348,2,   96.100,2,   96.369,2
  096U20180111,  SR03,    60,  1,     33,     33,2,20180201,0739,-65.7117, 139.8615,  283,     10.9,  -0.5902,  33.8224,2,-999.0000,9,    355.2,2,   -999.0,9,  -999.00,9,  -999.00,9,  -999.00,9,  -999.00,9,     -999,9, -999.000,9, -999.000,9,     -999,9,   -999.0,9,   -999.0,9,-999.0000,9,  -999.00,  -999.00,9,   -999.0,9,   -999.0,  -999.00,9,   0.00146,2,    0.148,2,    0.360,2,   82.400,2,   96.365,2
  096U20180111,  SR03,    60,  1,     32,     32,2,20180201,0739,-65.7117, 139.8615,  283,     10.9,  -0.5964,  33.8220,2,-999.0000,9,    355.2,2,   -999.0,9,  -999.00,9,  -999.00,9,  -999.00,9,  -999.00,9,     -999,9, -999.000,9, -999.000,9,     -999,9,   -999.0,9,   -999.0,9,-999.0000,9,  -999.00,  -999.00,9,   -999.0,9,   -999.0,  -999.00,9,   0.00141,2,    0.151,2,    0.354,2,   76.200,2,   96.305,2
  096U20180111,  SR03,    60,  1,     31,     31,2,20180201,0739,-65.7117, 139.8615,  283,     10.9,  -0.6241,  33.8264,2,  33.8265,2,    355.2,2,    354.6,2,    47.70,2,    24.75,2,     0.14,2,     1.70,2,     0.92,2,    5.668,2,    3.144,2,     3.88,2,   2160.8,2,   2293.9,2,-999.0000,9,  -999.00,    14.36,2,   -117.6,2,      2.1,     1.24,2,   0.00146,2,    0.159,2,    0.360,2,   81.200,2,   96.096,2
  096U20180111,  SR03,    60,  1,     30,     30,2,20180201,0739,-65.7117, 139.8615,  283,     35.8,  -0.8377,  33.8955,2,-999.0000,9,    351.1,2,   -999.0,9,  -999.00,9,  -999.00,9,  -999.00,9,  -999.00,9,     -999,9, -999.000,9, -999.000,9,     -999,9,   -999.0,9,   -999.0,9,-999.0000,9,  -999.00,  -999.00,9,   -999.0,9,   -999.0,  -999.00,9,   0.00196,2,    0.174,2,    1.212,2,   10.900,2,   95.751,2
  096U20180111,  SR03,    60,  1,     29,     29,2,20180201,0739,-65.7117, 139.8615,  283,     35.8,  -0.8357,  33.8946,2,-999.0000,9,    351.1,2,   -999.0,9,  -999.00,9,  -999.00,9,  -999.00,9,  -999.00,9,     -999,9, -999.000,9, -999.000,9,     -999,9,   -999.0,9,   -999.0,9,-999.0000,9,  -999.00,  -999.00,9,   -999.0,9,   -999.0,  -999.00,9,   0.00180,2,    0.169,2,    0.978,2,   11.200,2,   95.875,2
  096U20180111,  SR03,    60,  1,     28,     28,2,20180201,0739,-65.7117, 139.8615,  283,     35.7,  -0.8417,  33.8967,2,  33.9108,2,    351.1,2,    351.1,2,    49.70,2,    25.40,2,     0.12,2,     1.77,2,     0.93,2, -999.000,9, -999.000,9,     -999,9,   -999.0,9,   -999.0,9,-999.0000,9,  -999.00,  -999.00,9,   -999.0,9,   -999.0,  -999.00,9,   0.00178,2,    0.165,2,    0.990,2,   11.900,2,   95.955,2
  096U20180111,  SR03,    60,  1,     27,     27,2,20180201,0739,-65.7117, 139.8615,  283,     51.1,  -1.0711,  33.9932,2,-999.0000,9,    341.6,2,   -999.0,9,  -999.00,9,  -999.00,9,  -999.00,9,  -999.00,9,     -999,9, -999.000,9, -999.000,9,     -999,9,   -999.0,9,   -999.0,9,-999.0000,9,  -999.00,  -999.00,9,   -999.0,9,   -999.0,  -999.00,9,   0.00132,2,    0.144,2,    0.876,2,    4.980,2,   96.469,2
  096U20180111,  SR03,    60,  1,     26,     26,2,20180201,0739,-65.7117, 139.8615,  283,     51.0,  -1.0679,  33.9920,2,-999.0000,9,    341.6,2,   -999.0,9,  -999.00,9,  -999.00,9,  -999.00,9,  -999.00,9,     -999,9, -999.000,9, -999.000,9,     -999,9,   -999.0,9,   -999.0,9,-999.0000,9,  -999.00,  -999.00,9,   -999.0,9,   -999.0,  -999.00,9,   0.00133,2,    0.138,2,    0.906,2,    4.900,2,   96.599,2
  096U20180111,  SR03,    60,  1,     25,     25,2,20180201,0739,-65.7117, 139.8615,  283,     51.0,  -1.0736,  33.9942,2,  34.0172,2,    343.1,2,    343.4,2,    53.00,2,    26.36,2,     0.11,2,     1.86,2,     1.01,2, -999.000,9, -999.000,9,     -999,9,   2181.4,2,   2306.6,2,-999.0000,9,  -999.00,  -999.00,9,   -121.1,2,      2.4,     1.11,2,   0.00142,2,    0.138,2,    0.930,2,    4.890,2,   96.622,2
  096U20180111,  SR03,    60,  1,     24,     24,2,20180201,0739,-65.7117, 139.8615,  283,     76.4,  -1.5260,  34.2437,2,-999.0000,9,    320.4,2,   -999.0,9,  -999.00,9,  -999.00,9,  -999.00,9,  -999.00,9,     -999,9, -999.000,9, -999.000,9,     -999,9,   -999.0,9,   -999.0,9,-999.0000,9,  -999.00,  -999.00,9,   -999.0,9,   -999.0,  -999.00,9,   0.00075,2,    0.047,2,    0.318,2,    1.580,2,   98.839,2
  096U20180111,  SR03,    60,  1,     23,     23,2,20180201,0739,-65.7117, 139.8615,  283,     76.4,  -1.5206,  34.2401,2,-999.0000,9,    320.4,2,   -999.0,9,  -999.00,9,  -999.00,9,  -999.00,9,  -999.00,9,     -999,9,    5.337,2,    2.994,2,     3.61,2,   -999.0,9,   -999.0,9,-999.0000,9,  -999.00,    14.76,2,   -999.0,9,   -999.0,  -999.00,9,   0.00071,2,    0.047,2,    0.348,2,    1.620,2,   98.821,2
  096U20180111,  SR03,    60,  1,     22,     22,2,20180201,0739,-65.7117, 139.8615,  283,     76.4,  -1.5105,  34.2346,2,  34.2414,2,    320.4,2,    323.8,2,    60.40,2,    28.83,2,     0.10,2,     2.04,2,     0.83,2, -999.000,9, -999.000,9,     -999,9,   -999.0,9,   -999.0,9,-999.0000,9,  -999.00,  -999.00,9,   -999.0,9,   -999.0,  -999.00,9,   0.00074,2,    0.048,2,    0.366,2,    1.860,2,   98.804,2
  096U20180111,  SR03,    60,  1,     21,     21,2,20180201,0739,-65.7117, 139.8615,  283,     96.2,  -1.7119,  34.3045,2,-999.0000,9,    315.4,2,   -999.0,9,  -999.00,9,  -999.00,9,  -999.00,9,  -999.00,9,     -999,9, -999.000,9, -999.000,9,     -999,9,   -999.0,9,   -999.0,9,-999.0000,9,  -999.00,  -999.00,9,   -999.0,9,   -999.0,  -999.00,9,   0.00055,2,    0.020,2,    0.156,2,    0.866,2,   99.511,2
  096U20180111,  SR03,    60,  1,     20,     20,2,20180201,0739,-65.7117, 139.8615,  283,     96.2,  -1.7121,  34.3045,2,-999.0000,9,    315.4,2,   -999.0,9,  -999.00,9,  -999.00,9,  -999.00,9,  -999.00,9,     -999,9, -999.000,9, -999.000,9,     -999,9,   -999.0,9,   -999.0,9,-999.0000,9,  -999.00,  -999.00,9,   -999.0,9,   -999.0,  -999.00,9,   0.00050,2,    0.019,2,    0.150,2,    0.881,2,   99.524,2
  096U20180111,  SR03,    60,  1,     19,     19,2,20180201,0739,-65.7117, 139.8615,  283,     96.1,  -1.7128,  34.3041,2,  34.3054,2,    315.4,2,    316.3,2,    62.20,2,    30.16,2,     0.09,2,     2.12,2,     0.44,2,    4.767,2,    2.673,2,     3.05,2,   2216.3,2,   2321.4,2,-999.0000,9,  -999.00,    15.90,2,   -128.5,2,      1.8,     0.74,2,   0.00049,2,    0.020,2,    0.144,2,    0.899,2,   99.508,2
  096U20180111,  SR03,    60,  1,     18,     18,2,20180201,0739,-65.7117, 139.8615,  283,    130.9,  -1.5388,  34.3732,2,-999.0000,9,    311.2,2,   -999.0,9,  -999.00,9,  -999.00,9,  -999.00,9,  -999.00,9,     -999,9, -999.000,9, -999.000,9,     -999,9,   -999.0,9,   -999.0,9,-999.0000,9,  -999.00,  -999.00,9,   -999.0,9,   -999.0,  -999.00,9,   0.00061,2,    0.023,2,    0.138,2,    0.243,2,   99.419,2
  096U20180111,  SR03,    60,  1,     17,     17,2,20180201,0739,-65.7117, 139.8615,  283,    130.9,  -1.5382,  34.3733,2,-999.0000,9,    311.2,2,   -999.0,9,  -999.00,9,  -999.00,9,  -999.00,9,  -999.00,9,     -999,9, -999.000,9, -999.000,9,     -999,9,   -999.0,9,   -999.0,9,-999.0000,9,  -999.00,  -999.00,9,   -999.0,9,   -999.0,  -999.00,9,   0.00061,2,    0.023,2,    0.126,2,    0.244,2,   99.430,2
  096U20180111,  SR03,    60,  1,     16,     16,2,20180201,0739,-65.7117, 139.8615,  283,    130.8,  -1.5350,  34.3751,2,  34.3760,2,    311.2,2,    309.6,2,    67.80,2,    29.73,2,     0.09,2,     2.09,2,     0.67,2, -999.000,9, -999.000,9,     -999,9,   -999.0,9,   -999.0,9,-999.0000,9,  -999.00,  -999.00,9,   -999.0,9,   -999.0,  -999.00,9,   0.00056,2,    0.023,2,    0.132,2,    0.253,2,   99.436,2
  096U20180111,  SR03,    60,  1,     15,     15,2,20180201,0739,-65.7117, 139.8615,  283,    181.0,  -1.1502,  34.4816,2,-999.0000,9,    286.5,2,   -999.0,9,  -999.00,9,  -999.00,9,  -999.00,9,  -999.00,9,     -999,9, -999.000,9, -999.000,9,     -999,9,   -999.0,9,   -999.0,9,-999.0000,9,  -999.00,  -999.00,9,   -999.0,9,   -999.0,  -999.00,9,   0.00083,2,    0.017,2,    0.084,2,    0.014,2,   99.573,2
  096U20180111,  SR03,    60,  1,     14,     14,2,20180201,0739,-65.7117, 139.8615,  283,    181.0,  -1.1500,  34.4816,2,-999.0000,9,    287.2,2,   -999.0,9,  -999.00,9,  -999.00,9,  -999.00,9,  -999.00,9,     -999,9, -999.000,9, -999.000,9,     -999,9,   -999.0,9,   -999.0,9,-999.0000,9,  -999.00,  -999.00,9,   -999.0,9,   -999.0,  -999.00,9,   0.00063,2,    0.017,2,    0.096,2,    0.011,2,   99.584,2
  096U20180111,  SR03,    60,  1,     13,     13,2,20180201,0739,-65.7117, 139.8615,  283,    180.9,  -1.1448,  34.4826,2,  34.4808,2,    287.2,2,    282.0,2,    76.90,2,    30.86,2,     0.07,2,     2.15,2,     0.23,2,    3.639,2,    2.051,2,     2.22,2,   2234.4,2,   2336.3,2,-999.0000,9,  -999.00,    16.63,2,   -134.2,2,      2.0,     0.66,2,   0.00057,2,    0.016,2,    0.090,2,    0.013,2,   99.591,2
  096U20180111,  SR03,    60,  1,     12,     12,2,20180201,0739,-65.7117, 139.8615,  283,    230.8,  -1.1450,  34.5251,2,-999.0000,9,    275.5,2,   -999.0,9,  -999.00,9,  -999.00,9,  -999.00,9,  -999.00,9,     -999,9, -999.000,9, -999.000,9,     -999,9,   -999.0,9,   -999.0,9,-999.0000,9,  -999.00,  -999.00,9,   -999.0,9,   -999.0,  -999.00,9,   0.00090,2,    0.025,2,    0.084,2,    0.000,2,   99.373,2
  096U20180111,  SR03,    60,  1,     11,     11,2,20180201,0739,-65.7117, 139.8615,  283,    230.8,  -1.1510,  34.5257,2,-999.0000,9,    275.5,2,   -999.0,9,  -999.00,9,  -999.00,9,  -999.00,9,  -999.00,9,     -999,9, -999.000,9, -999.000,9,     -999,9,   -999.0,9,   -999.0,9,-999.0000,9,  -999.00,  -999.00,9,   -999.0,9,   -999.0,  -999.00,9,   0.00094,2,    0.026,2,    0.090,2,    0.000,2,   99.358,2
  096U20180111,  SR03,    60,  1,     10,     10,2,20180201,0739,-65.7117, 139.8615,  283,    230.8,  -1.1272,  34.5252,2,  34.5228,2,    275.5,2,    276.9,2,    80.10,2,    31.04,2,     0.07,2,     2.16,2,      0.2,2, -999.000,9, -999.000,9,     -999,9,   -999.0,9,   -999.0,9,-999.0000,9,  -999.00,  -999.00,9,   -999.0,9,   -999.0,  -999.00,9,   0.00076,2,    0.025,2,    0.078,2,    0.000,2,   99.385,2
  096U20180111,  SR03,    60,  1,      9,      9,2,20180201,0739,-65.7117, 139.8615,  283,    241.1,  -1.3728,  34.5285,2,-999.0000,9,    289.0,2,   -999.0,9,  -999.00,9,  -999.00,9,  -999.00,9,  -999.00,9,     -999,9, -999.000,9, -999.000,9,     -999,9,   -999.0,9,   -999.0,9,-999.0000,9,  -999.00,  -999.00,9,   -999.0,9,   -999.0,  -999.00,9,   0.00090,2,    0.032,2,    0.084,2,    0.000,2,   99.198,2
  096U20180111,  SR03,    60,  1,      8,      8,2,20180201,0739,-65.7117, 139.8615,  283,    241.1,  -1.3760,  34.5287,2,-999.0000,9,    289.0,2,   -999.0,9,  -999.00,9,  -999.00,9,  -999.00,9,  -999.00,9,     -999,9, -999.000,9, -999.000,9,     -999,9,   -999.0,9,   -999.0,9,-999.0000,9,  -999.00,  -999.00,9,   -999.0,9,   -999.0,  -999.00,9,   0.00105,2,    0.031,2,    0.090,2,    0.000,2,   99.235,2
  096U20180111,  SR03,    60,  1,      7,      7,2,20180201,0739,-65.7117, 139.8615,  283,    241.1,  -1.3788,  34.5288,2,-999.0000,9,    289.0,2,   -999.0,9,  -999.00,9,  -999.00,9,  -999.00,9,  -999.00,9,     -999,9, -999.000,9, -999.000,9,     -999,9,   -999.0,9,   -999.0,9,-999.0000,9,  -999.00,  -999.00,9,   -999.0,9,   -999.0,  -999.00,9,   0.00104,2,    0.033,2,    0.090,2,    0.000,2,   99.189,2
  096U20180111,  SR03,    60,  1,      6,      6,2,20180201,0739,-65.7117, 139.8615,  283,    241.0,  -1.3757,  34.5287,2,  34.5274,2,    289.0,2,    289.3,2,    78.70,2,    30.85,2,     0.07,2,     2.15,2,     0.29,2,    3.848,2,    2.166,2,     2.29,2,   2239.1,2,   2339.4,2,-999.0000,9,  -999.00,    16.32,2,   -136.5,2,      2.1,     0.62,2,   0.00098,2,    0.032,2,    0.120,2,    0.000,2,   99.216,2
  096U20180111,  SR03,    60,  1,      5,      5,2,20180201,0739,-65.7117, 139.8615,  283,    260.8,  -1.4092,  34.5298,2,-999.0000,9,    290.8,2,   -999.0,9,  -999.00,9,  -999.00,9,  -999.00,9,  -999.00,9,     -999,9, -999.000,9, -999.000,9,     -999,9,   -999.0,9,   -999.0,9,-999.0000,9,  -999.00,  -999.00,9,   -999.0,9,   -999.0,  -999.00,9,   0.00105,2,    0.033,2,    0.084,2,    0.000,2,   99.168,2
  096U20180111,  SR03,    60,  1,      4,      4,2,20180201,0739,-65.7117, 139.8615,  283,    260.7,  -1.4091,  34.5298,2,  34.5286,2,    290.8,2,    290.6,2,    78.70,2,    30.80,2,     0.07,2,     2.16,2,      0.3,2, -999.000,9, -999.000,9,     -999,9,   -999.0,9,   -999.0,9,-999.0000,9,  -999.00,  -999.00,9,   -999.0,9,   -999.0,  -999.00,9,   0.00094,2,    0.032,2,    0.102,2,    0.000,2,   99.191,2
  096U20180111,  SR03,    60,  1,      3,      3,2,20180201,0739,-65.7117, 139.8615,  283,    278.0,  -1.4139,  34.5297,2,-999.0000,9,    291.3,2,   -999.0,9,  -999.00,9,  -999.00,9,  -999.00,9,  -999.00,9,     -999,9, -999.000,9, -999.000,9,     -999,9,   -999.0,9,   -999.0,9,-999.0000,9,  -999.00,  -999.00,9,   -999.0,9,   -999.0,  -999.00,9,   0.00091,2,    0.032,2,    0.096,2,    0.000,2,   99.192,2
  096U20180111,  SR03,    60,  1,      2,      2,2,20180201,0739,-65.7117, 139.8615,  283,    278.0,  -1.4140,  34.5296,2,-999.0000,9,    291.3,2,   -999.0,9,  -999.00,9,  -999.00,9,  -999.00,9,  -999.00,9,     -999,9, -999.000,9, -999.000,9,     -999,9,   -999.0,9,   -999.0,9,-999.0000,9,  -999.00,  -999.00,9,   -999.0,9,   -999.0,  -999.00,9,   0.00093,2,    0.034,2,    0.090,2,    0.000,2,   99.157,2
  096U20180111,  SR03,    60,  1,      1,      1,2,20180201,0739,-65.7117, 139.8615,  283,    278.0,  -1.4130,  34.5297,2,  34.5286,2,    291.3,2,    291.0,2,    78.60,2,    30.81,2,     0.07,2,     2.16,2,      0.3,2,    3.903,2,    2.209,2,     2.37,2,   2239.0,6,   2339.8,6,-999.0000,9,  -999.00,    16.63,2,   -133.3,6,      1.4,     0.65,6,   0.00102,2,    0.032,2,    0.084,2,    0.000,2,   99.211,2