BOTTLE,20230418CCHSIOENA
EXPOCODE,SECT_ID,STNNBR,CASTNO,SAMPNO,BTLNBR,BTLNBR_FLAG_W,DATE,TIME,LATITUDE,LONGITUDE,DEPTH,CTDPRS,CTDTMP,CTDSAL,CTDSAL_FLAG_W,SALNTY,SALNTY_FLAG_W,CTDOXY,CTDOXY_FLAG_W,OXYGEN,OXYGEN_FLAG_W,SILCAT,SILCAT_FLAG_W,NITRAT,NITRAT_FLAG_W,NITRIT,NITRIT_FLAG_W,PHSPHT,PHSPHT_FLAG_W,NH4,NH4_FLAG_W,CFC-11,CFC-11_FLAG_W,CFC-12,CFC-12_FLAG_W,SF6,SF6_FLAG_W,TCARBN,TCARBN_FLAG_W,ALKALI,ALKALI_FLAG_W,PH_TOT,PH_TOT_FLAG_W,PH_TMP,N2O,N2O_FLAG_W,DELC14,DELC14_FLAG_W,C14ERR,DELC13,DELC13_FLAG_W,CTDBETA700,CTDBETA700_FLAG_W,CTDBEAMCP,CTDBEAMCP_FLAG_W,CTDFLUOR,CTDFLUOR_FLAG_W,PAR,PAR_FLAG_W,CTDXMISS,CTDXMISS_FLAG_W
,,,,,,,,,,,METERS,DBAR,ITS-90,PSS-78,,PSS-78,,UMOL/KG,,UMOL/KG,,UMOL/KG,,UMOL/KG,,UMOL/KG,,UMOL/KG,,UMOL/KG,,PMOL/KG,,PMOL/KG,,FMOL/KG,,UMOL/KG,,UMOL/KG,,,,DEG C,NMOL/KG,,/MILLE,,/MILLE,/MILLE,,VOLTS,,1/M,,MG/M^3,,UMOL/M^2/SEC,,%TRANS,
  096U20180111,  SR03,    14,  1,     36,     36,2,20180116,2109,-48.7812, 144.3188, 4130,      9.7,   9.9493,  34.3075,2,  34.3077,2,    286.8,2,    285.2,2,     0.40,2,    12.68,2,     0.21,2,     0.95,2,     0.09,2,    3.260,2,    1.898,2,     2.91,2,   2095.6,2,   2287.2,2,-999.0000,9,  -999.00,    10.16,2,   -999.0,9,   -999.0,  -999.00,9,   0.00251,2,    0.223,2,    0.924,2,  183.000,2,   94.586,2
  096U20180111,  SR03,    14,  1,     35,     35,2,20180116,2109,-48.7812, 144.3188, 4130,     32.4,   9.9355,  34.3074,2,  34.3070,2,    287.0,2,    285.1,2,     0.40,2,    12.70,2,     0.20,2,     0.96,2,     0.09,2, -999.000,9, -999.000,9,     -999,9,   -999.0,9,   -999.0,9,-999.0000,9,  -999.00,  -999.00,9,   -999.0,9,   -999.0,  -999.00,9,   0.00251,2,    0.224,2,    1.902,2,   27.900,2,   94.562,2
  096U20180111,  SR03,    14,  1,     34,     34,2,20180116,2109,-48.7812, 144.3188, 4130,     60.4,   9.7260,  34.3010,2,  34.3010,2,    281.0,2,    283.6,2,     0.40,2,    12.96,2,     0.22,2,     0.98,2,     0.23,2,    3.273,2,    1.906,2,     2.61,2,   2099.1,2,   2289.6,6,-999.0000,9,  -999.00,    10.64,2,   -999.0,9,   -999.0,  -999.00,9,   0.00231,2,    0.179,2,    2.148,2,    3.430,2,   95.612,2
  096U20180111,  SR03,    14,  1,     33,     33,2,20180116,2109,-48.7812, 144.3188, 4130,     91.5,   9.1508,  34.3079,2,  34.3083,2,    269.6,2,    277.4,2,     1.60,2,    13.95,2,     0.29,2,     1.08,2,     0.68,2, -999.000,9, -999.000,9,     -999,9,   -999.0,9,   -999.0,9,-999.0000,9,  -999.00,  -999.00,9,   -999.0,9,   -999.0,  -999.00,9,   0.00185,2,    0.096,2,    1.134,2,    0.319,2,   97.623,2
  096U20180111,  SR03,    14,  1,     32,     32,2,20180116,2109,-48.7812, 144.3188, 4130,    141.7,   8.8090,  34.5323,2,  34.5319,2,    268.6,2,    269.3,2,     3.80,2,    15.24,2,     0.02,2,     1.11,2,        0,2, -999.000,9, -999.000,9,     -999,9,   -999.0,9,   -999.0,9,-999.0000,9,  -999.00,  -999.00,9,   -999.0,9,   -999.0,  -999.00,9,   0.00084,2,    0.029,2,    0.168,2,    0.025,2,   99.276,2
  096U20180111,  SR03,    14,  1,     31,     31,2,20180116,2109,-48.7812, 144.3188, 4130,    200.5,   8.9927,  34.5838,2,  34.5845,2,    267.1,2,    268.8,2,     3.60,2,    14.61,2,     0.01,2,     1.06,2,        0,2, -999.000,9, -999.000,9,     -999,9,   -999.0,9,   -999.0,9,-999.0000,9,  -999.00,  -999.00,9,   -999.0,9,   -999.0,  -999.00,9,   0.00084,2,    0.021,2,    0.072,2,    0.000,2,   99.482,2
  096U20180111,  SR03,    14,  1,     30,     30,2,20180116,2109,-48.7812, 144.3188, 4130,    250.1,   9.5452,  34.7178,2,  34.7174,2,    264.3,2,    261.4,2,     3.60,2,    13.80,2,     0.02,2,     1.01,2,        0,2,    3.149,2,    1.847,2,     2.58,2,   2124.9,2,   2301.6,2,-999.0000,9,  -999.00,    10.83,2,   -999.0,9,   -999.0,  -999.00,9,   0.00079,2,    0.019,2,    0.042,2,    0.000,2,   99.527,2
  096U20180111,  SR03,    14,  1,     29,     29,2,20180116,2109,-48.7812, 144.3188, 4130,    300.6,   9.3436,  34.6889,2,-999.0000,9,    260.7,2,   -999.0,9,  -999.00,9,  -999.00,9,  -999.00,9,  -999.00,9,     -999,9, -999.000,9, -999.000,9,     -999,9,   -999.0,9,   -999.0,9,-999.0000,9,  -999.00,  -999.00,9,   -999.0,9,   -999.0,  -999.00,9,   0.00073,2,    0.018,2,    0.030,2,    0.000,2,   99.558,2
  096U20180111,  SR03,    14,  1,     28,     28,2,20180116,2109,-48.7812, 144.3188, 4130,    351.2,   9.1009,  34.6498,2,  34.6495,2,    263.9,2,    264.5,2,     3.70,2,    14.57,2,     0.01,2,     1.05,2,        0,2, -999.000,9, -999.000,9,     -999,9,   -999.0,9,   -999.0,9,-999.0000,9,  -999.00,  -999.00,9,   -999.0,9,   -999.0,  -999.00,9,   0.00061,2,    0.013,2,    0.024,2,    0.000,2,   99.687,2
  096U20180111,  SR03,    14,  1,     27,     27,2,20180116,2109,-48.7812, 144.3188, 4130,    398.0,   9.0617,  34.6448,2,  34.6456,2,    264.4,2,    266.8,2,     3.60,2,    14.46,2,     0.01,2,     1.05,2,        0,2, -999.000,9, -999.000,9,     -999,9,   -999.0,9,   -999.0,9,-999.0000,9,  -999.00,  -999.00,9,   -999.0,9,   -999.0,  -999.00,9,   0.00052,2,    0.010,2,    0.018,2,    0.000,2,   99.743,2
  096U20180111,  SR03,    14,  1,     26,     26,2,20180116,2109,-48.7812, 144.3188, 4130,    502.9,   8.8356,  34.6043,2,-999.0000,9,    257.4,2,    264.6,2,     3.90,2,    15.29,2,     0.01,2,     1.10,2,        0,2,    3.266,2,    1.892,2,     2.35,2,   2128.3,2,   2296.8,2,-999.0000,9,  -999.00,    11.04,2,   -999.0,9,   -999.0,  -999.00,9,   0.00051,2,    0.007,2,    0.024,2,    0.000,2,   99.814,2
  096U20180111,  SR03,    14,  1,     25,     25,2,20180116,2109,-48.7812, 144.3188, 4130,    602.0,   8.1260,  34.4971,2,  34.6043,4,    252.2,2,    250.4,2,     6.20,2,    18.68,2,     0.01,2,     1.31,2,        0,2, -999.000,9, -999.000,9,     -999,9,   -999.0,9,   -999.0,9,-999.0000,9,  -999.00,  -999.00,9,   -999.0,9,   -999.0,  -999.00,9,   0.00051,2,    0.007,2,    0.030,2,    0.000,2,   99.835,2
  096U20180111,  SR03,    14,  1,     24,     24,2,20180116,2109,-48.7812, 144.3188, 4130,    701.5,   7.3745,  34.4409,2,  34.4975,4,    226.3,2,    222.8,2,    11.10,2,    22.98,2,     0.00,2,     1.57,2,        0,2, -999.000,9, -999.000,9,     -999,9,   2158.1,2,   2293.7,2,-999.0000,9,  -999.00,  -999.00,9,   -999.0,9,   -999.0,  -999.00,9,   0.00049,2,    0.006,2,    0.036,2,    0.000,2,   99.850,2
  096U20180111,  SR03,    14,  1,     23,     23,2,20180116,2109,-48.7812, 144.3188, 4130,    701.2,   7.3728,  34.4405,2,-999.0000,9,    226.3,2,   -999.0,9,  -999.00,9,  -999.00,9,  -999.00,9,  -999.00,9,     -999,9, -999.000,9, -999.000,9,     -999,9,   -999.0,9,   -999.0,9,-999.0000,9,  -999.00,  -999.00,9,   -999.0,9,   -999.0,  -999.00,9,   0.00052,2,    0.006,2,    0.030,2,    0.000,2,   99.847,2
  096U20180111,  SR03,    14,  1,     22,     22,2,20180116,2109,-48.7812, 144.3188, 4130,    801.3,   6.4193,  34.3830,2,  34.3782,2,    213.6,2,    216.4,2,    15.80,2,    25.77,2,     0.00,2,     1.76,2,        0,2, -999.000,9, -999.000,9,     -999,9,   -999.0,9,   -999.0,9,-999.0000,9,  -999.00,  -999.00,9,   -999.0,9,   -999.0,  -999.00,9,   0.00048,2,    0.004,2,    0.036,2,    0.000,2,   99.888,2
  096U20180111,  SR03,    14,  1,     21,     21,2,20180116,2109,-48.7812, 144.3188, 4130,    900.6,   5.6873,  34.3646,2,  34.3649,2,    208.0,2,    206.4,2,    21.80,2,    27.95,2,     0.00,2,     1.91,2,        0,2,    2.564,2,    1.384,2,     0.75,2,   2181.0,6,   2296.3,6,-999.0000,9,  -999.00,    17.63,2,   -999.0,9,   -999.0,  -999.00,9,   0.00045,2,    0.003,2,    0.030,2,    0.000,2,   99.922,2
  096U20180111,  SR03,    14,  1,     20,     20,2,20180116,2109,-48.7812, 144.3188, 4130,   1000.9,   4.9324,  34.3349,2,  34.3357,2,    207.4,2,    207.1,2,    27.30,2,    29.44,2,     0.00,2,     2.02,2,        0,2, -999.000,9, -999.000,9,     -999,9,   -999.0,9,   -999.0,9,-999.0000,9,  -999.00,  -999.00,9,   -999.0,9,   -999.0,  -999.00,9,   0.00044,2,    0.002,2,    0.036,2,    0.000,2,   99.944,2
  096U20180111,  SR03,    14,  1,     19,     19,2,20180116,2109,-48.7812, 144.3188, 4130,   1151.5,   3.8738,  34.3202,2,  34.3194,2,    205.5,2,    205.7,2,    36.90,2,    31.51,2,     0.00,2,     2.18,2,        0,2,    2.295,2,    1.211,2,     0.85,2,   2206.0,2,   2307.1,2,-999.0000,9,  -999.00,    19.72,2,   -999.0,9,   -999.0,  -999.00,9,   0.00043,2,    0.002,2,    0.036,2,    0.000,2,   99.959,2
  096U20180111,  SR03,    14,  1,     18,     18,2,20180116,2109,-48.7812, 144.3188, 4130,   1301.5,   3.3995,  34.3882,2,  34.3875,2,    188.6,2,    189.2,2,    49.30,2,    32.97,2,     0.00,2,     2.30,2,        0,2, -999.000,9, -999.000,9,     -999,9,   -999.0,9,   -999.0,9,-999.0000,9,  -999.00,  -999.00,9,   -999.0,9,   -999.0,  -999.00,9,   0.00041,2,    0.001,2,    0.036,2,    0.000,2,   99.966,2
  096U20180111,  SR03,    14,  1,     17,     17,2,20180116,2109,-48.7812, 144.3188, 4130,   1449.4,   3.0464,  34.4587,2,  34.4574,2,    178.0,2,    179.0,2,    59.30,2,    33.68,2,     0.00,2,     2.35,2,        0,2, -999.000,9, -999.000,9,     -999,9,   -999.0,9,   -999.0,9,-999.0000,9,  -999.00,  -999.00,9,   -999.0,9,   -999.0,  -999.00,9,   0.00040,2,    0.001,2,    0.042,2,    0.000,2,   99.973,2
  096U20180111,  SR03,    14,  1,     16,     16,2,20180116,2109,-48.7812, 144.3188, 4130,   1600.6,   2.8752,  34.5457,2,  34.5462,2,    168.2,2,    167.7,2,    72.20,2,    33.75,2,     0.00,2,     2.38,2,        0,2, -999.000,9, -999.000,9,     -999,9,   2253.7,2,   2345.0,2,-999.0000,9,  -999.00,  -999.00,9,   -999.0,9,   -999.0,  -999.00,9,   0.00039,2,    0.001,2,    0.036,2,    0.000,2,   99.980,2
  096U20180111,  SR03,    14,  1,     15,     15,2,20180116,2109,-48.7812, 144.3188, 4130,   1800.6,   2.6170,  34.6141,2,  34.6133,2,    167.8,2,    168.7,2,    77.40,2,    33.11,2,     0.00,2,     2.34,2,        0,2,    0.303,2,    0.154,2,     0.03,2,   -999.0,9,   -999.0,9,-999.0000,9,  -999.00,    21.17,2,   -999.0,9,   -999.0,  -999.00,9,   0.00040,2,    0.000,2,    0.042,2,    0.000,2,   99.994,2
  096U20180111,  SR03,    14,  1,     14,     14,2,20180116,2109,-48.7812, 144.3188, 4130,   2001.0,   2.4568,  34.6650,2,  34.6645,2,    177.4,2,    177.6,2,    75.20,2,    32.02,2,     0.00,2,     2.25,2,        0,2, -999.000,9, -999.000,9,     -999,9,   -999.0,9,   -999.0,9,-999.0000,9,  -999.00,  -999.00,9,   -999.0,9,   -999.0,  -999.00,9,   0.00036,2,   -0.001,2,    0.042,2,    0.000,2,  100.015,2
  096U20180111,  SR03,    14,  1,     13,     13,2,20180116,2109,-48.7812, 144.3188, 4130,   2201.3,   2.3532,  34.7075,2,  34.7077,2,    183.8,2,    183.7,2,    77.70,2,    31.08,2,     0.00,2,     2.18,2,        0,2,    0.251,2,    0.130,2,     0.05,2,   2247.9,2,   2350.2,2,-999.0000,9,  -999.00,    20.12,2,   -999.0,9,   -999.0,  -999.00,9,   0.00035,2,   -0.001,2,    0.042,2,    0.000,2,  100.024,2
  096U20180111,  SR03,    14,  1,     12,     12,2,20180116,2109,-48.7812, 144.3188, 4130,   2399.4,   2.1988,  34.7336,2,  34.7333,2,    189.5,2,    189.7,2,    81.10,2,    30.34,2,     0.00,2,     2.13,2,        0,2, -999.000,9, -999.000,9,     -999,9,   -999.0,9,   -999.0,9,-999.0000,9,  -999.00,  -999.00,9,   -999.0,9,   -999.0,  -999.00,9,   0.00032,2,   -0.002,2,    0.042,2,    0.000,2,  100.040,2
  096U20180111,  SR03,    14,  1,     11,     11,2,20180116,2109,-48.7812, 144.3188, 4130,   2599.5,   2.0413,  34.7439,2,  34.7439,2,    193.0,2,    192.1,2,    86.90,2,    30.22,2,     0.00,2,     2.13,2,        0,2, -999.000,9, -999.000,9,     -999,9,   -999.0,9,   -999.0,9,-999.0000,9,  -999.00,  -999.00,9,   -999.0,9,   -999.0,  -999.00,9,   0.00035,2,   -0.001,2,    0.042,2,    0.000,2,  100.036,2
  096U20180111,  SR03,    14,  1,     10,     10,2,20180116,2109,-48.7812, 144.3188, 4130,   2800.1,   1.8538,  34.7450,2,  34.7452,2,    195.6,2,    195.7,2,    92.20,2,    30.25,2,     0.00,2,     2.13,2,        0,2,    0.133,2,    0.061,2,        0,2,   2250.6,2,   2362.1,2,-999.0000,9,  -999.00,    19.17,2,   -999.0,9,   -999.0,  -999.00,9,   0.00039,2,   -0.001,2,    0.042,2,    0.000,2,  100.019,2
  096U20180111,  SR03,    14,  1,      9,      9,2,20180116,2109,-48.7812, 144.3188, 4130,   2999.4,   1.5811,  34.7343,2,  34.7343,2,    192.6,2,    193.0,2,   106.00,2,    31.24,2,     0.00,2,     2.21,2,        0,2, -999.000,9, -999.000,9,     -999,9,   -999.0,9,   -999.0,9,-999.0000,9,  -999.00,  -999.00,9,   -999.0,9,   -999.0,  -999.00,9,   0.00034,2,   -0.002,2,    0.042,2,    0.000,2,  100.041,2
  096U20180111,  SR03,    14,  1,      8,      8,2,20180116,2109,-48.7812, 144.3188, 4130,   3200.4,   1.4346,  34.7302,2,  34.7262,4,    196.1,2,    196.1,2,   109.20,2,    31.25,2,     0.00,2,     2.21,2,        0,2, -999.000,9, -999.000,9,     -999,9,   -999.0,9,   -999.0,9,-999.0000,9,  -999.00,  -999.00,9,   -999.0,9,   -999.0,  -999.00,9,   0.00033,2,   -0.002,2,    0.042,2,    0.000,2,  100.047,2
  096U20180111,  SR03,    14,  1,      7,      7,2,20180116,2109,-48.7812, 144.3188, 4130,   3399.7,   1.3285,  34.7263,2,  34.7266,2,    199.0,2,    199.5,2,   111.40,2,    31.25,2,     0.00,2,     2.21,2,        0,2,    0.079,2,    0.039,2,     0.01,2,   2262.5,2,   2376.1,2,-999.0000,9,  -999.00,    18.13,2,   -999.0,9,   -999.0,  -999.00,9,   0.00032,2,   -0.002,2,    0.042,2,    0.000,2,  100.049,2
  096U20180111,  SR03,    14,  1,      6,      6,2,20180116,2109,-48.7812, 144.3188, 4130,   3600.6,   1.1499,  34.7185,2,  34.7187,2,    201.0,2,    201.6,2,   116.30,2,    31.51,2,     0.00,2,     2.23,2,        0,2, -999.000,9, -999.000,9,     -999,9,   -999.0,9,   -999.0,9,-999.0000,9,  -999.00,  -999.00,9,   -999.0,9,   -999.0,  -999.00,9,   0.00031,2,   -0.002,2,    0.042,2,    0.000,2,  100.038,2
  096U20180111,  SR03,    14,  1,      5,      5,2,20180116,2109,-48.7812, 144.3188, 4130,   3800.5,   1.0744,  34.7148,2,  34.7146,2,    202.5,2,    202.4,2,   118.80,2,    31.68,2,     0.00,2,     2.25,2,        0,2, -999.000,9, -999.000,9,     -999,9,   -999.0,9,   -999.0,9,-999.0000,9,  -999.00,  -999.00,9,   -999.0,9,   -999.0,  -999.00,9,   0.00037,2,    0.001,2,    0.036,2,    0.000,2,   99.985,2
  096U20180111,  SR03,    14,  1,      4,      4,2,20180116,2109,-48.7812, 144.3188, 4130,   3999.6,   1.0629,  34.7135,2,  34.7135,2,    202.6,2,    202.3,2,   119.80,2,    31.79,2,     0.00,2,     2.25,2,        0,2,    0.062,2,    0.037,2,     0.03,2,   2271.8,6,   2384.5,6,-999.0000,9,  -999.00,    17.73,2,   -999.0,9,   -999.0,  -999.00,9,   0.00049,2,    0.003,2,    0.042,2,    0.000,2,   99.933,2
  096U20180111,  SR03,    14,  1,      3,      3,2,20180116,2109,-48.7812, 144.3188, 4130,   4117.8,   1.0715,  34.7132,2,  34.7134,2,    203.2,2,    202.0,2,   120.10,2,    31.77,2,     0.00,2,     2.26,2,        0,2,    0.065,2,    0.031,2,        0,2,   -999.0,9,   -999.0,9,-999.0000,9,  -999.00,    17.95,2,   -999.0,9,   -999.0,  -999.00,9,   0.00041,2,    0.003,2,    0.042,2,    0.000,2,   99.930,2
  096U20180111,  SR03,    14,  1,      2,      2,2,20180116,2109,-48.7812, 144.3188, 4130,   4187.6,   1.0786,  34.7133,2,-999.0000,9,    203.4,2,   -999.0,9,  -999.00,9,  -999.00,9,  -999.00,9,  -999.00,9,     -999,9, -999.000,9, -999.000,9,     -999,9,   -999.0,9,   -999.0,9,-999.0000,9,  -999.00,  -999.00,9,   -999.0,9,   -999.0,  -999.00,9,   0.00044,2,    0.003,2,    0.042,2,    0.000,2,   99.922,2
  096U20180111,  SR03,    14,  1,      1,      1,2,20180116,2109,-48.7812, 144.3188, 4130,   4187.6,   1.0787,  34.7132,2,  34.7135,2,    203.4,2,    202.3,2,   120.00,2,    31.78,2,     0.00,2,     2.25,2,        0,2,    0.060,2,    0.032,2,        0,2,   2272.4,2,   2384.7,2,-999.0000,9,  -999.00,    17.75,2,   -999.0,9,   -999.0,  -999.00,9,   0.00041,2,    0.003,2,    0.042,2,    0.000,2,   99.928,2