BOTTLE,20230418CCHSIOENA
EXPOCODE,SECT_ID,STNNBR,CASTNO,SAMPNO,BTLNBR,BTLNBR_FLAG_W,DATE,TIME,LATITUDE,LONGITUDE,DEPTH,CTDPRS,CTDTMP,CTDSAL,CTDSAL_FLAG_W,SALNTY,SALNTY_FLAG_W,CTDOXY,CTDOXY_FLAG_W,OXYGEN,OXYGEN_FLAG_W,SILCAT,SILCAT_FLAG_W,NITRAT,NITRAT_FLAG_W,NITRIT,NITRIT_FLAG_W,PHSPHT,PHSPHT_FLAG_W,NH4,NH4_FLAG_W,CFC-11,CFC-11_FLAG_W,CFC-12,CFC-12_FLAG_W,SF6,SF6_FLAG_W,TCARBN,TCARBN_FLAG_W,ALKALI,ALKALI_FLAG_W,PH_TOT,PH_TOT_FLAG_W,PH_TMP,N2O,N2O_FLAG_W,DELC14,DELC14_FLAG_W,C14ERR,DELC13,DELC13_FLAG_W,CTDBETA700,CTDBETA700_FLAG_W,CTDBEAMCP,CTDBEAMCP_FLAG_W,CTDFLUOR,CTDFLUOR_FLAG_W,PAR,PAR_FLAG_W,CTDXMISS,CTDXMISS_FLAG_W
,,,,,,,,,,,METERS,DBAR,ITS-90,PSS-78,,PSS-78,,UMOL/KG,,UMOL/KG,,UMOL/KG,,UMOL/KG,,UMOL/KG,,UMOL/KG,,UMOL/KG,,PMOL/KG,,PMOL/KG,,FMOL/KG,,UMOL/KG,,UMOL/KG,,,,DEG C,NMOL/KG,,/MILLE,,/MILLE,/MILLE,,VOLTS,,1/M,,MG/M^3,,UMOL/M^2/SEC,,%TRANS,
  096U20180111,  SR03,    82,  1,     36,     36,2,20180207,2201,-62.7503, 143.6197, 4074,      9.2,   1.2131,  33.7684,2,-999.0000,9,    337.6,2,   -999.0,9,  -999.00,9,  -999.00,9,  -999.00,9,  -999.00,9,     -999,9, -999.000,9, -999.000,9,     -999,9,   -999.0,9,   -999.0,9,-999.0000,9,  -999.00,  -999.00,9,   -999.0,9,   -999.0,  -999.00,9,   0.00328,2,    0.332,2,    0.786,2,  149.000,2,   92.043,2
  096U20180111,  SR03,    82,  1,     35,     35,2,20180207,2201,-62.7503, 143.6197, 4074,      9.1,   1.2212,  33.7685,2,  33.7674,2,    337.6,2,    340.0,2,    25.90,2,    25.37,2,     0.25,2,     1.60,2,     0.06,2,    5.383,2,    3.000,2,     3.34,2,   2150.5,2,   2284.7,2,-999.0000,9,  -999.00,    14.48,2,   -999.0,9,   -999.0,  -999.00,9,   0.00356,2,    0.333,2,    0.738,2,  156.000,2,   92.001,2
  096U20180111,  SR03,    82,  1,     34,     34,2,20180207,2201,-62.7503, 143.6197, 4074,     36.4,   1.1851,  33.7687,2,  33.7814,2,    342.1,2,    339.0,2,    26.70,2,    25.73,2,     0.25,2,     1.66,2,     0.13,2, -999.000,9, -999.000,9,     -999,9,   -999.0,9,   -999.0,9,-999.0000,9,  -999.00,  -999.00,9,   -999.0,9,   -999.0,  -999.00,9,   0.00346,2,    0.335,2,    3.210,2,   12.600,2,   91.958,2
  096U20180111,  SR03,    82,  1,     33,     33,2,20180207,2201,-62.7503, 143.6197, 4074,     71.9,  -1.2038,  33.9768,2,-999.0000,9,    316.0,2,   -999.0,9,  -999.00,9,  -999.00,9,  -999.00,9,  -999.00,9,     -999,9, -999.000,9, -999.000,9,     -999,9,   -999.0,9,   -999.0,9,-999.0000,9,  -999.00,  -999.00,9,   -999.0,9,   -999.0,  -999.00,9,   0.00093,2,    0.053,2,    0.480,2,    1.090,2,   98.690,2
  096U20180111,  SR03,    82,  1,     32,     32,2,20180207,2201,-62.7503, 143.6197, 4074,     71.8,  -1.2014,  33.9779,2,  33.9789,2,    316.0,2,    318.5,2,    40.50,2,    29.81,2,     0.19,2,     2.12,2,     0.49,2,    5.136,2,    2.854,2,        3,2,   2193.1,2,   2295.2,2,-999.0000,9,  -999.00,    17.16,2,   -999.0,9,   -999.0,  -999.00,9,   0.00090,2,    0.053,2,    0.492,2,    1.100,2,   98.681,2
  096U20180111,  SR03,    82,  1,     31,     31,2,20180207,2201,-62.7503, 143.6197, 4074,    101.1,  -0.3763,  34.1304,2,  34.1329,2,    243.8,2,    276.8,2,    50.10,2,    31.95,2,     0.10,2,     2.22,2,     0.05,2, -999.000,9, -999.000,9,     -999,9,   2212.9,2,   2303.5,2,-999.0000,9,  -999.00,  -999.00,9,   -999.0,9,   -999.0,  -999.00,9,   0.00063,2,    0.030,2,    0.216,2,    0.307,2,   99.252,2
  096U20180111,  SR03,    82,  1,     30,     30,2,20180207,2201,-62.7503, 143.6197, 4074,    146.1,   2.0112,  34.4143,2,  34.4130,2,    186.9,2,    188.4,2,    65.00,2,    35.22,2,     0.02,2,     2.42,2,    -0.01,2, -999.000,9, -999.000,9,     -999,9,   2245.4,2,   2320.2,2,-999.0000,9,  -999.00,  -999.00,9,   -999.0,9,   -999.0,  -999.00,9,   0.00043,2,    0.016,2,    0.060,2,    0.036,2,   99.600,2
  096U20180111,  SR03,    82,  1,     29,     29,2,20180207,2201,-62.7503, 143.6197, 4074,    200.5,   2.2111,  34.5063,2,  34.5050,2,    174.4,2,    174.9,2,    71.10,2,    35.13,2,     0.01,2,     2.42,2,    -0.01,2, -999.000,9, -999.000,9,     -999,9,   -999.0,9,   -999.0,9,-999.0000,9,  -999.00,  -999.00,9,   -999.0,9,   -999.0,  -999.00,9,   0.00046,2,    0.014,2,    0.054,2,    0.000,2,   99.643,2
  096U20180111,  SR03,    82,  1,     28,     28,2,20180207,2201,-62.7503, 143.6197, 4074,    271.2,   2.2425,  34.5729,2,  34.5719,2,    171.9,2,    171.7,2,    74.60,2,    34.48,2,     0.01,2,     2.38,2,    -0.01,2,    0.831,2,    0.437,2,      0.2,2,   2256.0,2,   2332.0,2,-999.0000,9,  -999.00,    23.50,2,   -999.0,9,   -999.0,  -999.00,9,   0.00041,2,    0.010,2,    0.036,2,    0.000,2,   99.757,2
  096U20180111,  SR03,    82,  1,     27,     27,2,20180207,2201,-62.7503, 143.6197, 4074,    271.0,   2.2422,  34.5728,2,-999.0000,9,    171.9,2,   -999.0,9,  -999.00,9,  -999.00,9,  -999.00,9,  -999.00,9,     -999,9, -999.000,9, -999.000,9,     -999,9,   -999.0,9,   -999.0,9,-999.0000,9,  -999.00,  -999.00,9,   -999.0,9,   -999.0,  -999.00,9,   0.00044,2,    0.010,2,    0.036,2,    0.000,2,   99.752,2
  096U20180111,  SR03,    82,  1,     26,     26,2,20180207,2201,-62.7503, 143.6197, 4074,    351.2,   2.2327,  34.6198,2,  34.6185,2,    173.6,2,    173.2,2,    76.70,2,    33.71,2,     0.01,2,     2.33,2,    -0.01,2, -999.000,9, -999.000,9,     -999,9,   -999.0,9,   -999.0,9,-999.0000,9,  -999.00,  -999.00,9,   -999.0,9,   -999.0,  -999.00,9,   0.00034,2,    0.007,2,    0.036,2,    0.000,2,   99.838,2
  096U20180111,  SR03,    82,  1,     25,     25,2,20180207,2201,-62.7503, 143.6197, 4074,    450.7,   2.1956,  34.6674,2,  34.6664,2,    177.2,2,    177.3,2,    78.50,2,    32.83,2,     0.01,2,     2.26,2,    -0.01,2,    0.437,2,    0.233,2,     0.11,2,   2252.6,2,   2341.2,2,-999.0000,9,  -999.00,    22.04,2,   -999.0,9,   -999.0,  -999.00,9,   0.00035,2,    0.006,2,    0.036,2,    0.000,2,   99.856,2
  096U20180111,  SR03,    82,  1,     24,     24,2,20180207,2201,-62.7503, 143.6197, 4074,    550.4,   2.1181,  34.6937,2,  34.6927,2,    180.4,2,    180.7,2,    80.50,2,    32.15,2,     0.00,2,     2.22,2,    -0.01,2, -999.000,9, -999.000,9,     -999,9,   -999.0,9,   -999.0,9,-999.0000,9,  -999.00,  -999.00,9,   -999.0,9,   -999.0,  -999.00,9,   0.00031,2,    0.004,2,    0.036,2,    0.000,2,   99.907,2
  096U20180111,  SR03,    82,  1,     23,     23,2,20180207,2201,-62.7503, 143.6197, 4074,    650.9,   2.0644,  34.7124,2,  34.7106,2,    184.8,2,    184.0,2,    81.70,2,    31.64,2,     0.00,2,     2.19,2,    -0.01,2, -999.000,9, -999.000,9,     -999,9,   -999.0,9,   -999.0,9,-999.0000,9,  -999.00,  -999.00,9,   -999.0,9,   -999.0,  -999.00,9,   0.00030,2,    0.002,2,    0.036,2,    0.000,2,   99.957,2
  096U20180111,  SR03,    82,  1,     22,     22,2,20180207,2201,-62.7503, 143.6197, 4074,    801.0,   1.9492,  34.7316,2,  34.7297,2,    189.3,2,    189.7,2,    84.70,2,    31.16,2,     0.00,2,     2.15,2,    -0.01,2,    0.264,2,    0.146,2,     0.12,2,   2250.2,2,   2347.0,2,-999.0000,9,  -999.00,    20.16,2,   -999.0,9,   -999.0,  -999.00,9,   0.00030,2,    0.002,2,    0.036,2,    0.000,2,   99.953,2
  096U20180111,  SR03,    82,  1,     21,     21,2,20180207,2201,-62.7503, 143.6197, 4074,    950.8,   1.8572,  34.7420,2,  34.7408,2,    193.4,2,    193.5,2,    86.90,2,    30.59,2,     0.00,2,     2.13,2,    -0.01,2, -999.000,9, -999.000,9,     -999,9,   -999.0,9,   -999.0,9,-999.0000,9,  -999.00,  -999.00,9,   -999.0,9,   -999.0,  -999.00,9,   0.00030,2,    0.001,2,    0.036,2,    0.000,2,   99.983,2
  096U20180111,  SR03,    82,  1,     20,     20,2,20180207,2201,-62.7503, 143.6197, 4074,    950.6,   1.8571,  34.7410,2,-999.0000,9,    193.4,2,   -999.0,9,  -999.00,9,  -999.00,9,  -999.00,9,  -999.00,9,     -999,9, -999.000,9, -999.000,9,     -999,9,   -999.0,9,   -999.0,9,-999.0000,9,  -999.00,  -999.00,9,   -999.0,9,   -999.0,  -999.00,9,   0.00029,2,    0.001,2,    0.036,2,    0.000,2,   99.980,2
  096U20180111,  SR03,    82,  1,     19,     19,2,20180207,2201,-62.7503, 143.6197, 4074,   1100.7,   1.7449,  34.7441,2,  34.7445,2,    196.3,2,    196.0,2,    89.70,2,    30.58,2,     0.00,2,     2.12,2,    -0.01,2,    0.199,2,    0.102,2,        0,2,   -999.0,9,   -999.0,9,-999.0000,9,  -999.00,    19.34,2,   -999.0,9,   -999.0,  -999.00,9,   0.00036,2,    0.001,2,    0.036,2,    0.000,2,   99.972,2
  096U20180111,  SR03,    82,  1,     18,     18,2,20180207,2201,-62.7503, 143.6197, 4074,   1300.8,   1.5670,  34.7422,2,  34.7421,2,    198.5,2,    199.2,2,    94.60,2,    30.68,2,     0.00,2,     2.13,2,    -0.01,2, -999.000,9, -999.000,9,     -999,9,   -999.0,9,   -999.0,9,-999.0000,9,  -999.00,  -999.00,9,   -999.0,9,   -999.0,  -999.00,9,   0.00029,2,    0.000,2,    0.036,2,    0.000,2,   99.991,2
  096U20180111,  SR03,    82,  1,     17,     17,2,20180207,2201,-62.7503, 143.6197, 4074,   1501.1,   1.3744,  34.7361,2,  34.7362,2,    201.2,2,    201.7,2,   100.40,2,    30.93,2,     0.00,2,     2.15,2,    -0.01,2, -999.000,9, -999.000,9,     -999,9,   -999.0,9,   -999.0,9,-999.0000,9,  -999.00,  -999.00,9,   -999.0,9,   -999.0,  -999.00,9,   0.00027,2,    0.000,2,    0.036,2,    0.000,2,  100.010,2
  096U20180111,  SR03,    82,  1,     16,     16,2,20180207,2201,-62.7503, 143.6197, 4074,   1700.8,   1.2153,  34.7289,2,  34.7288,2,    203.1,2,    203.6,2,   105.00,2,    31.19,2,     0.00,2,     2.17,2,    -0.01,2,    0.200,2,    0.108,2,     0.01,2,   2256.7,2,   2357.6,2,-999.0000,9,  -999.00,    18.71,2,   -999.0,9,   -999.0,  -999.00,9,   0.00026,2,   -0.001,2,    0.036,2,    0.000,2,  100.036,2
  096U20180111,  SR03,    82,  1,     15,     15,2,20180207,2201,-62.7503, 143.6197, 4074,   1901.6,   1.0550,  34.7208,2,  34.7204,2,    205.4,2,    205.4,2,   109.70,2,    31.55,2,     0.00,2,     2.19,2,    -0.01,2, -999.000,9, -999.000,9,     -999,9,   -999.0,9,   -999.0,9,-999.0000,9,  -999.00,  -999.00,9,   -999.0,9,   -999.0,  -999.00,9,   0.00025,2,   -0.002,2,    0.036,2,    0.000,2,  100.046,2
  096U20180111,  SR03,    82,  1,     14,     14,2,20180207,2201,-62.7503, 143.6197, 4074,   2101.3,   0.8798,  34.7115,2,  34.7121,2,    207.5,2,    207.3,2,   114.60,2,    31.79,2,     0.00,2,     2.21,2,    -0.01,2, -999.000,9, -999.000,9,     -999,9,   -999.0,9,   -999.0,9,-999.0000,9,  -999.00,  -999.00,9,   -999.0,9,   -999.0,  -999.00,9,   0.00026,2,    0.002,2,    0.042,2,    0.000,2,   99.940,2
  096U20180111,  SR03,    82,  1,     13,     13,2,20180207,2201,-62.7503, 143.6197, 4074,   2301.2,   0.7471,  34.7042,2,  34.7038,2,    210.4,2,    209.3,2,   117.80,2,    31.98,2,     0.00,2,     2.23,2,    -0.01,2,    0.312,2,    0.157,2,    -0.01,2,   -999.0,9,   -999.0,9,-999.0000,9,  -999.00,    19.04,2,   -999.0,9,   -999.0,  -999.00,9,   0.00026,2,   -0.002,2,    0.036,2,    0.000,2,  100.042,2
  096U20180111,  SR03,    82,  1,     12,     12,2,20180207,2201,-62.7503, 143.6197, 4074,   2501.2,   0.5975,  34.6967,2,  34.6965,2,    212.9,2,    212.1,2,   121.70,2,    32.17,2,     0.00,2,     2.25,2,    -0.01,2, -999.000,9, -999.000,9,     -999,9,   -999.0,9,   -999.0,9,-999.0000,9,  -999.00,  -999.00,9,   -999.0,9,   -999.0,  -999.00,9,   0.00026,2,   -0.002,2,    0.036,2,    0.000,2,  100.045,2
  096U20180111,  SR03,    82,  1,     11,     11,2,20180207,2201,-62.7503, 143.6197, 4074,   2751.4,   0.4458,  34.6891,2,-999.0000,9,    216.2,2,   -999.0,9,  -999.00,9,  -999.00,9,  -999.00,9,  -999.00,9,     -999,9, -999.000,9, -999.000,9,     -999,9,   -999.0,9,   -999.0,9,-999.0000,9,  -999.00,  -999.00,9,   -999.0,9,   -999.0,  -999.00,9,   0.00024,2,   -0.002,2,    0.036,2,    0.000,2,  100.041,2
  096U20180111,  SR03,    82,  1,     10,     10,2,20180207,2201,-62.7503, 143.6197, 4074,   2751.1,   0.4458,  34.6892,2,  34.6883,2,    216.2,2,    216.3,2,   124.50,2,    32.29,2,     0.00,2,     2.25,2,    -0.01,2,    0.498,2,    0.255,2,     0.12,2,   2259.1,6,   2357.8,6,-999.0000,9,  -999.00,    18.26,2,   -999.0,9,   -999.0,  -999.00,9,   0.00023,2,   -0.002,2,    0.036,2,    0.000,2,  100.050,2
  096U20180111,  SR03,    82,  1,      9,      9,2,20180207,2201,-62.7503, 143.6197, 4074,   3001.1,   0.3409,  34.6841,2,  34.6832,2,    219.5,2,    219.0,2,   127.30,2,    32.34,2,     0.00,2,     2.26,2,    -0.01,2, -999.000,9, -999.000,9,     -999,9,   -999.0,9,   -999.0,9,-999.0000,9,  -999.00,  -999.00,9,   -999.0,9,   -999.0,  -999.00,9,   0.00024,2,   -0.002,2,    0.036,2,    0.000,2,  100.049,2
  096U20180111,  SR03,    82,  1,      8,      8,2,20180207,2201,-62.7503, 143.6197, 4074,   3251.5,   0.2533,  34.6797,2,  34.6787,2,    222.2,2,    222.0,2,   129.20,2,    32.34,2,     0.00,2,     2.26,2,    -0.01,2,    0.751,2,    0.380,2,     0.17,2,   -999.0,9,   -999.0,9,-999.0000,9,  -999.00,    18.77,2,   -999.0,9,   -999.0,  -999.00,9,   0.00023,2,   -0.002,2,    0.036,2,    0.000,2,  100.040,2
  096U20180111,  SR03,    82,  1,      7,      7,2,20180207,2201,-62.7503, 143.6197, 4074,   3501.2,   0.1670,  34.6748,2,  34.6738,2,    225.5,2,    225.5,2,   130.30,2,    32.29,2,     0.00,2,     2.26,2,    -0.01,2, -999.000,9, -999.000,9,     -999,9,   -999.0,9,   -999.0,9,-999.0000,9,  -999.00,  -999.00,9,   -999.0,9,   -999.0,  -999.00,9,   0.00023,2,   -0.001,2,    0.036,2,    0.000,2,  100.013,2
  096U20180111,  SR03,    82,  1,      6,      6,2,20180207,2201,-62.7503, 143.6197, 4074,   3751.4,   0.0613,  34.6674,2,  34.6671,2,    229.8,2,    229.1,2,   126.10,2,    32.23,2,     0.00,2,     2.25,2,    -0.01,2,    1.265,2,    0.655,2,     0.38,2,   2258.4,2,   2356.8,6,-999.0000,9,  -999.00,    18.15,2,   -999.0,9,   -999.0,  -999.00,9,   0.00023,2,   -0.001,2,    0.036,2,    0.000,2,  100.032,2
  096U20180111,  SR03,    82,  1,      5,      5,2,20180207,2201,-62.7503, 143.6197, 4074,   4001.0,  -0.0412,  34.6592,2,  34.6577,2,    235.0,2,    234.7,2,   121.20,2,    32.07,2,     0.00,2,     2.25,2,    -0.01,2,    1.703,2,    0.895,2,     0.58,2,   -999.0,9,   -999.0,9,-999.0000,9,  -999.00,    18.74,2,   -999.0,9,   -999.0,  -999.00,9,   0.00026,2,    0.001,2,    0.042,2,    0.000,2,   99.965,2
  096U20180111,  SR03,    82,  1,      4,      4,2,20180207,2201,-62.7503, 143.6197, 4074,   4100.3,  -0.1474,  34.6534,2,  34.6518,2,    239.1,2,    239.6,2,   114.10,2,    31.97,2,     0.01,2,     2.23,2,    -0.01,2, -999.000,9, -999.000,9,     -999,9,   2257.6,2,   2352.4,2,-999.0000,9,  -999.00,  -999.00,9,   -999.0,9,   -999.0,  -999.00,9,   0.00043,2,    0.014,2,    0.036,2,    0.000,2,   99.648,2
  096U20180111,  SR03,    82,  1,      3,      3,2,20180207,2201,-62.7503, 143.6197, 4074,   4154.3,  -0.2336,  34.6483,2,-999.0000,9,    244.4,2,   -999.0,9,  -999.00,9,  -999.00,9,  -999.00,9,  -999.00,9,     -999,9, -999.000,9, -999.000,9,     -999,9,   -999.0,9,   -999.0,9,-999.0000,9,  -999.00,  -999.00,9,   -999.0,9,   -999.0,  -999.00,9,   0.00086,2,    0.043,2,    0.036,2,    0.000,2,   98.929,2
  096U20180111,  SR03,    82,  1,      2,      2,2,20180207,2201,-62.7503, 143.6197, 4074,   4154.3,  -0.2337,  34.6483,2,-999.0000,9,    244.4,2,   -999.0,9,  -999.00,9,  -999.00,9,  -999.00,9,  -999.00,9,     -999,9, -999.000,9, -999.000,9,     -999,9,   -999.0,9,   -999.0,9,-999.0000,9,  -999.00,  -999.00,9,   -999.0,9,   -999.0,  -999.00,9,   0.00091,2,    0.044,2,    0.042,2,    0.000,2,   98.910,2
  096U20180111,  SR03,    82,  1,      1,      1,2,20180207,2201,-62.7503, 143.6197, 4074,   4154.2,  -0.2337,  34.6483,2,  34.6474,2,    244.4,2,    244.3,2,   106.50,2,    31.81,2,     0.01,2,     2.22,2,        0,2,    2.290,2,    1.255,2,     1.17,2,   2256.9,2,   2349.3,2,-999.0000,9,  -999.00,    18.10,2,   -999.0,9,   -999.0,  -999.00,9,   0.00095,2,    0.046,2,    0.036,2,    0.000,2,   98.865,2