BOTTLE,20230418CCHSIOENA
EXPOCODE,SECT_ID,STNNBR,CASTNO,SAMPNO,BTLNBR,BTLNBR_FLAG_W,DATE,TIME,LATITUDE,LONGITUDE,DEPTH,CTDPRS,CTDTMP,CTDSAL,CTDSAL_FLAG_W,SALNTY,SALNTY_FLAG_W,CTDOXY,CTDOXY_FLAG_W,OXYGEN,OXYGEN_FLAG_W,SILCAT,SILCAT_FLAG_W,NITRAT,NITRAT_FLAG_W,NITRIT,NITRIT_FLAG_W,PHSPHT,PHSPHT_FLAG_W,NH4,NH4_FLAG_W,CFC-11,CFC-11_FLAG_W,CFC-12,CFC-12_FLAG_W,SF6,SF6_FLAG_W,TCARBN,TCARBN_FLAG_W,ALKALI,ALKALI_FLAG_W,PH_TOT,PH_TOT_FLAG_W,PH_TMP,N2O,N2O_FLAG_W,DELC14,DELC14_FLAG_W,C14ERR,DELC13,DELC13_FLAG_W,CTDBETA700,CTDBETA700_FLAG_W,CTDBEAMCP,CTDBEAMCP_FLAG_W,CTDFLUOR,CTDFLUOR_FLAG_W,PAR,PAR_FLAG_W,CTDXMISS,CTDXMISS_FLAG_W
,,,,,,,,,,,METERS,DBAR,ITS-90,PSS-78,,PSS-78,,UMOL/KG,,UMOL/KG,,UMOL/KG,,UMOL/KG,,UMOL/KG,,UMOL/KG,,UMOL/KG,,PMOL/KG,,PMOL/KG,,FMOL/KG,,UMOL/KG,,UMOL/KG,,,,DEG C,NMOL/KG,,/MILLE,,/MILLE,/MILLE,,VOLTS,,1/M,,MG/M^3,,UMOL/M^2/SEC,,%TRANS,
  096U20180111,  SR03,    36,  1,     36,     36,2,20180124,1127,-56.9297, 139.8488, 4097,     10.6,   4.1415,  33.8461,2,-999.0000,9,    318.5,2,   -999.0,9,  -999.00,9,  -999.00,9,  -999.00,9,  -999.00,9,     -999,9, -999.000,9, -999.000,9,     -999,9,   -999.0,9,   -999.0,9,-999.0000,9,  -999.00,  -999.00,9,   -999.0,9,   -999.0,  -999.00,9,   0.00240,2,    0.200,2,    2.388,2,    1.050,2,   95.122,2
  096U20180111,  SR03,    36,  1,     35,     35,2,20180124,1127,-56.9297, 139.8488, 4097,     10.5,   4.1433,  33.8461,2,  33.8458,2,    318.5,2,    318.0,2,     4.40,2,    24.35,2,     0.25,2,     1.53,2,     0.06,2,    4.537,2,    2.474,2,     3.05,2,   2136.4,6,   2280.0,6,-999.0000,9,  -999.00,    13.01,2,   -999.0,9,   -999.0,  -999.00,9,   0.00241,2,    0.203,2,    2.358,2,    0.991,2,   95.051,2
  096U20180111,  SR03,    36,  1,     34,     34,2,20180124,1127,-56.9297, 139.8488, 4097,     31.0,   4.1384,  33.8460,2,  33.8464,2,    318.4,2,    318.5,2,     4.30,2,    24.46,2,     0.25,2,     1.51,2,     0.04,2, -999.000,9, -999.000,9,     -999,9,   -999.0,9,   -999.0,9,-999.0000,9,  -999.00,  -999.00,9,   -999.0,9,   -999.0,  -999.00,9,   0.00253,2,    0.205,2,    2.694,2,    0.044,2,   94.999,2
  096U20180111,  SR03,    36,  1,     33,     33,2,20180124,1127,-56.9297, 139.8488, 4097,     60.6,   3.9366,  33.8515,2,  33.8521,2,    318.4,2,    319.2,2,     4.70,2,    24.65,2,     0.24,2,     1.58,2,     0.11,2, -999.000,9, -999.000,9,     -999,9,   -999.0,9,   -999.0,9,-999.0000,9,  -999.00,  -999.00,9,   -999.0,9,   -999.0,  -999.00,9,   0.00299,2,    0.266,2,    3.858,2,    0.000,2,   93.562,2
  096U20180111,  SR03,    36,  1,     32,     32,2,20180124,1127,-56.9297, 139.8488, 4097,     70.7,   3.7531,  33.8567,2,  33.8623,2,    318.6,2,    320.7,2,     6.50,2,    24.94,2,     0.24,2,     1.67,2,     0.31,2, -999.000,9, -999.000,9,     -999,9,   2142.0,2,   2281.0,6,-999.0000,9,  -999.00,  -999.00,9,   -999.0,9,   -999.0,  -999.00,9,   0.00300,2,    0.259,2,    3.954,2,    0.000,2,   93.738,2
  096U20180111,  SR03,    36,  1,     31,     31,2,20180124,1127,-56.9297, 139.8488, 4097,     89.9,   2.0793,  33.9086,2,  33.9093,2,    326.2,2,    327.8,2,    15.40,2,    26.32,2,     0.22,2,     1.96,3,     0.94,2, -999.000,9, -999.000,9,     -999,9,   -999.0,9,   -999.0,9,-999.0000,9,  -999.00,  -999.00,9,   -999.0,9,   -999.0,  -999.00,9,   0.00132,2,    0.090,2,    1.512,2,    0.000,2,   97.773,2
  096U20180111,  SR03,    36,  1,     30,     30,2,20180124,1127,-56.9297, 139.8488, 4097,    110.4,   1.6137,  33.9194,2,  33.9198,2,    323.1,2,    325.9,2,    17.60,2,    27.01,2,     0.28,2,     1.95,2,      0.7,2,    4.991,2,    2.694,2,     3.37,2,   2161.5,2,   2283.0,2,-999.0000,9,  -999.00,    14.24,2,   -999.0,9,   -999.0,  -999.00,9,   0.00091,2,    0.047,2,    0.594,2,    0.000,2,   98.827,2
  096U20180111,  SR03,    36,  1,     29,     29,2,20180124,1127,-56.9297, 139.8488, 4097,    171.0,   1.1247,  33.9525,2,  33.9617,2,    316.2,2,    314.9,2,    22.60,2,    29.02,2,     0.03,2,     2.00,2,    -0.01,2, -999.000,9, -999.000,9,     -999,9,   -999.0,9,   -999.0,9,-999.0000,9,  -999.00,  -999.00,9,   -999.0,9,   -999.0,  -999.00,9,   0.00067,2,    0.021,2,    0.096,2,    0.000,2,   99.485,2
  096U20180111,  SR03,    36,  1,     28,     28,2,20180124,1127,-56.9297, 139.8488, 4097,    205.7,   1.1590,  34.0073,2,  34.0121,2,    297.8,2,    299.3,2,    27.30,2,    29.92,2,     0.02,2,     2.06,2,    -0.01,2, -999.000,9, -999.000,9,     -999,9,   -999.0,9,   -999.0,9,-999.0000,9,  -999.00,  -999.00,9,   -999.0,9,   -999.0,  -999.00,9,   0.00060,2,    0.017,2,    0.060,2,    0.000,2,   99.565,2
  096U20180111,  SR03,    36,  1,     27,     27,2,20180124,1127,-56.9297, 139.8488, 4097,    240.8,   2.0239,  34.1413,2,  34.1450,2,    257.8,2,    253.9,2,    36.80,2,    31.86,2,     0.01,2,     2.20,2,    -0.01,2,    3.641,2,    1.965,2,     1.79,2,   2203.2,2,   2296.6,2,-999.0000,9,  -999.00,    19.69,2,   -999.0,9,   -999.0,  -999.00,9,   0.00058,2,    0.016,2,    0.036,2,    0.000,2,   99.609,2
  096U20180111,  SR03,    36,  1,     26,     26,2,20180124,1127,-56.9297, 139.8488, 4097,    269.8,   2.1868,  34.1962,2,-999.0000,9,    239.2,2,   -999.0,9,  -999.00,9,  -999.00,9,  -999.00,9,  -999.00,9,     -999,9, -999.000,9, -999.000,9,     -999,9,   -999.0,9,   -999.0,9,-999.0000,9,  -999.00,  -999.00,9,   -999.0,9,   -999.0,  -999.00,9,   0.00061,2,    0.016,2,    0.042,2,    0.000,2,   99.599,2
  096U20180111,  SR03,    36,  1,     25,     25,2,20180124,1127,-56.9297, 139.8488, 4097,    320.4,   2.2539,  34.2520,2,  34.2503,2,    220.7,2,    222.4,2,    46.80,2,    33.43,2,     0.01,2,     2.31,2,    -0.01,2, -999.000,9, -999.000,9,     -999,9,   -999.0,9,   -999.0,9,-999.0000,9,  -999.00,  -999.00,9,   -999.0,9,   -999.0,  -999.00,9,   0.00055,2,    0.016,2,    0.042,2,    0.000,2,   99.607,2
  096U20180111,  SR03,    36,  1,     24,     24,2,20180124,1127,-56.9297, 139.8488, 4097,    370.8,   2.4459,  34.3267,2,  34.3271,2,    201.4,2,    202.1,2,    52.80,2,    34.16,2,     0.01,2,     2.35,2,    -0.01,2,    2.269,2,    1.190,2,     1.04,2,   2232.0,2,   2312.7,2,-999.0000,9,  -999.00,    22.52,2,   -999.0,9,   -999.0,  -999.00,9,   0.00050,2,    0.015,2,    0.042,2,    0.000,2,   99.623,2
  096U20180111,  SR03,    36,  1,     23,     23,2,20180124,1127,-56.9297, 139.8488, 4097,    476.1,   2.4378,  34.4337,2,  34.4345,2,    184.5,2,    182.8,2,    62.80,2,    34.76,2,     0.01,2,     2.40,2,    -0.01,2, -999.000,9, -999.000,9,     -999,9,   -999.0,9,   -999.0,9,-999.0000,9,  -999.00,  -999.00,9,   -999.0,9,   -999.0,  -999.00,9,   0.00047,2,    0.009,2,    0.036,2,    0.000,2,   99.767,2
  096U20180111,  SR03,    36,  1,     22,     22,2,20180124,1127,-56.9297, 139.8488, 4097,    585.9,   2.4511,  34.5170,2,  34.5155,2,    175.1,2,    174.1,2,    68.60,2,    34.54,2,     0.01,2,     2.39,2,    -0.01,2,    1.035,2,    0.543,2,     0.45,2,   2253.2,2,   2330.8,2,-999.0000,9,  -999.00,    23.40,2,   -999.0,9,   -999.0,  -999.00,9,   0.00040,2,    0.007,2,    0.042,2,    0.000,2,   99.812,2
  096U20180111,  SR03,    36,  1,     21,     21,2,20180124,1127,-56.9297, 139.8488, 4097,    700.7,   2.4425,  34.5865,2,-999.0000,9,    172.6,2,   -999.0,9,  -999.00,9,  -999.00,9,  -999.00,9,  -999.00,9,     -999,9, -999.000,9, -999.000,9,     -999,9,   -999.0,9,   -999.0,9,-999.0000,9,  -999.00,  -999.00,9,   -999.0,9,   -999.0,  -999.00,9,   0.00039,2,    0.006,2,    0.036,2,    0.000,2,   99.841,2
  096U20180111,  SR03,    36,  1,     20,     20,2,20180124,1127,-56.9297, 139.8488, 4097,    700.4,   2.4409,  34.5888,2,  34.5876,2,    172.6,2,    172.3,2,    72.30,2,    33.83,2,     0.01,2,     2.34,2,    -0.01,2,    0.663,2,    0.350,2,     0.19,2,   2254.6,2,   2336.8,2,-999.0000,9,  -999.00,    22.63,2,   -999.0,9,   -999.0,  -999.00,9,   0.00041,2,    0.006,2,    0.036,2,    0.000,2,   99.846,2
  096U20180111,  SR03,    36,  1,     19,     19,2,20180124,1127,-56.9297, 139.8488, 4097,    800.4,   2.3927,  34.6258,2,  34.6241,2,    173.9,2,    174.0,2,    74.10,2,    33.27,2,     0.01,2,     2.31,2,    -0.01,2, -999.000,9, -999.000,9,     -999,9,   -999.0,9,   -999.0,9,-999.0000,9,  -999.00,  -999.00,9,   -999.0,9,   -999.0,  -999.00,9,   0.00040,2,    0.006,2,    0.036,2,    0.000,2,   99.853,2
  096U20180111,  SR03,    36,  1,     18,     18,2,20180124,1127,-56.9297, 139.8488, 4097,    902.0,   2.3251,  34.6591,2,  34.6577,2,    175.8,2,    175.8,2,    76.20,2,    32.68,2,     0.01,2,     2.27,2,    -0.01,2,    0.430,2,    0.230,2,     0.12,2,   -999.0,9,   -999.0,9,-999.0000,9,  -999.00,    21.72,2,   -999.0,9,   -999.0,  -999.00,9,   0.00040,2,    0.006,2,    0.036,2,    0.000,2,   99.855,2
  096U20180111,  SR03,    36,  1,     17,     17,2,20180124,1127,-56.9297, 139.8488, 4097,   1001.3,   2.2706,  34.6858,2,  34.6855,2,    179.2,2,    179.6,2,    77.40,2,    32.01,2,     0.01,2,     2.23,2,    -0.01,2, -999.000,9, -999.000,9,     -999,9,   -999.0,9,   -999.0,9,-999.0000,9,  -999.00,  -999.00,9,   -999.0,9,   -999.0,  -999.00,9,   0.00036,2,    0.005,2,    0.036,2,    0.000,2,   99.873,2
  096U20180111,  SR03,    36,  1,     16,     16,2,20180124,1127,-56.9297, 139.8488, 4097,   1201.0,   2.1493,  34.7222,2,  34.7223,2,    185.3,2,    186.8,2,    80.00,2,    31.06,2,     0.01,2,     2.16,2,    -0.01,2,    0.257,2,    0.140,2,     0.09,2,   2247.4,2,   2348.2,2,-999.0000,9,  -999.00,    19.92,2,   -999.0,9,   -999.0,  -999.00,9,   0.00035,2,    0.003,2,    0.042,2,    0.000,2,   99.932,2
  096U20180111,  SR03,    36,  1,     15,     15,2,20180124,1127,-56.9297, 139.8488, 4097,   1402.2,   2.0159,  34.7394,2,  34.7387,2,    190.8,2,    191.2,2,    83.00,2,    30.58,2,     0.01,2,     2.12,2,    -0.01,2, -999.000,9, -999.000,9,     -999,9,   -999.0,9,   -999.0,9,-999.0000,9,  -999.00,  -999.00,9,   -999.0,9,   -999.0,  -999.00,9,   0.00036,2,    0.003,2,    0.042,2,    0.000,2,   99.935,2
  096U20180111,  SR03,    36,  1,     14,     14,2,20180124,1127,-56.9297, 139.8488, 4097,   1600.5,   1.8657,  34.7460,2,  34.7462,2,    194.7,2,    195.2,2,    87.20,2,    30.44,2,     0.02,2,     2.12,2,    -0.01,2, -999.000,9, -999.000,9,     -999,9,   -999.0,9,   -999.0,9,-999.0000,9,  -999.00,  -999.00,9,   -999.0,9,   -999.0,  -999.00,9,   0.00033,2,    0.002,2,    0.036,2,    0.000,2,   99.952,2
  096U20180111,  SR03,    36,  1,     13,     13,2,20180124,1127,-56.9297, 139.8488, 4097,   1802.5,   1.6963,  34.7457,2,  34.7460,2,    197.6,2,    197.9,2,    92.10,2,    30.49,2,     0.02,2,     2.12,2,    -0.01,2,    0.177,2,    0.089,2,      0.1,2,   2252.0,2,   2356.2,2,-999.0000,9,  -999.00,    18.72,2,   -999.0,9,   -999.0,  -999.00,9,   0.00034,2,    0.002,2,    0.036,2,    0.000,2,   99.958,2
  096U20180111,  SR03,    36,  1,     12,     12,2,20180124,1127,-56.9297, 139.8488, 4097,   2001.5,   1.5182,  34.7404,2,  34.7407,2,    199.6,2,    199.7,2,    97.10,2,    30.74,2,     0.02,2,     2.14,2,    -0.01,2, -999.000,9, -999.000,9,     -999,9,   -999.0,9,   -999.0,9,-999.0000,9,  -999.00,  -999.00,9,   -999.0,9,   -999.0,  -999.00,9,   0.00032,2,    0.002,2,    0.042,2,    0.000,2,   99.961,2
  096U20180111,  SR03,    36,  1,     11,     11,2,20180124,1127,-56.9297, 139.8488, 4097,   2251.5,   1.2921,  34.7313,2,  34.7313,2,    202.0,2,    202.1,2,   104.20,2,    31.08,2,     0.01,2,     2.16,2,    -0.01,2, -999.000,9, -999.000,9,     -999,9,   -999.0,9,   -999.0,9,-999.0000,9,  -999.00,  -999.00,9,   -999.0,9,   -999.0,  -999.00,9,   0.00030,2,    0.001,2,    0.042,2,    0.000,2,   99.972,2
  096U20180111,  SR03,    36,  1,     10,     10,2,20180124,1127,-56.9297, 139.8488, 4097,   2501.2,   1.1026,  34.7217,2,  34.7210,2,    204.4,2,    204.5,2,   110.00,2,    31.41,2,     0.01,2,     2.19,2,    -0.01,2,    0.228,2,    0.116,2,     0.06,2,   2257.2,2,   2361.2,2,-999.0000,9,  -999.00,    18.44,2,   -999.0,9,   -999.0,  -999.00,9,   0.00029,2,    0.000,2,    0.042,2,    0.000,2,   99.988,2
  096U20180111,  SR03,    36,  1,      9,      9,2,20180124,1127,-56.9297, 139.8488, 4097,   2750.6,   0.9073,  34.7114,2,  34.7112,2,    207.3,2,    207.3,2,   115.50,2,    31.76,2,     0.01,2,     2.22,2,    -0.01,2, -999.000,9, -999.000,9,     -999,9,   -999.0,9,   -999.0,9,-999.0000,9,  -999.00,  -999.00,9,   -999.0,9,   -999.0,  -999.00,9,   0.00028,2,    0.001,2,    0.036,2,    0.000,2,   99.985,2
  096U20180111,  SR03,    36,  1,      8,      8,2,20180124,1127,-56.9297, 139.8488, 4097,   3001.0,   0.7228,  34.7021,2,  34.7018,2,    210.8,2,    210.7,2,   120.70,2,    31.98,2,     0.01,2,     2.24,2,    -0.01,2, -999.000,9, -999.000,9,     -999,9,   -999.0,9,   -999.0,9,-999.0000,9,  -999.00,  -999.00,9,   -999.0,9,   -999.0,  -999.00,9,   0.00028,2,    0.000,2,    0.042,2,    0.000,2,   99.989,2
  096U20180111,  SR03,    36,  1,      7,      7,2,20180124,1127,-56.9297, 139.8488, 4097,   3249.9,   0.5649,  34.6940,2,  34.6937,2,    213.9,2,    213.8,2,   124.90,2,    32.16,2,     0.01,2,     2.25,2,    -0.01,2,    0.450,2,    0.229,2,     0.13,2,   2260.2,2,   2360.6,6,-999.0000,9,  -999.00,    18.40,2,   -999.0,9,   -999.0,  -999.00,9,   0.00028,2,    0.000,2,    0.042,2,    0.000,2,   99.989,2
  096U20180111,  SR03,    36,  1,      6,      6,2,20180124,1127,-56.9297, 139.8488, 4097,   3500.8,   0.4584,  34.6886,2,  34.6885,2,    216.7,2,    216.9,2,   128.60,2,    32.22,2,     0.01,2,     2.26,2,    -0.01,2, -999.000,9, -999.000,9,     -999,9,   -999.0,9,   -999.0,9,-999.0000,9,  -999.00,  -999.00,9,   -999.0,9,   -999.0,  -999.00,9,   0.00028,2,    0.001,2,    0.042,2,    0.000,2,   99.987,2
  096U20180111,  SR03,    36,  1,      5,      5,2,20180124,1127,-56.9297, 139.8488, 4097,   3799.7,   0.3594,  34.6834,2,  34.6833,2,    219.4,2,    219.5,2,   134.80,2,    32.19,2,     0.01,2,     2.27,2,    -0.01,2, -999.000,9, -999.000,9,     -999,9,   -999.0,9,   -999.0,9,-999.0000,9,  -999.00,  -999.00,9,   -999.0,9,   -999.0,  -999.00,9,   0.00026,2,    0.001,2,    0.036,2,    0.000,2,   99.982,2
  096U20180111,  SR03,    36,  1,      4,      4,2,20180124,1127,-56.9297, 139.8488, 4097,   4049.5,   0.3190,  34.6805,2,  34.6753,4,    221.1,2,    220.8,2,   138.60,2,    32.29,2,     0.01,2,     2.27,2,    -0.01,2,    0.768,2,    0.385,2,     0.17,2,   -999.0,9,   -999.0,9,-999.0000,9,  -999.00,    18.32,2,   -999.0,9,   -999.0,  -999.00,9,   0.00027,2,    0.002,2,    0.042,2,    0.000,2,   99.943,2
  096U20180111,  SR03,    36,  1,      3,      3,2,20180124,1127,-56.9297, 139.8488, 4097,   4139.9,   0.2969,  34.6790,2,  34.6789,2,    221.8,2,    221.4,2,   140.10,2,    32.32,2,     0.01,2,     2.27,2,    -0.01,2,    0.811,2,    0.406,2,     0.17,2,   -999.0,9,   -999.0,9,-999.0000,9,  -999.00,    18.26,2,   -999.0,9,   -999.0,  -999.00,9,   0.00029,2,    0.004,2,    0.042,2,    0.000,2,   99.912,2
  096U20180111,  SR03,    36,  1,      2,      2,2,20180124,1127,-56.9297, 139.8488, 4097,   4193.0,   0.3011,  34.6789,2,  34.6793,2,    222.1,2,    221.7,2,   140.20,2,    32.33,2,     0.01,2,     2.27,2,    -0.01,2,    0.815,2,    0.411,2,     0.25,2,   2263.2,2,   2362.8,2,-999.0000,9,  -999.00,    18.31,2,   -999.0,9,   -999.0,  -999.00,9,   0.00031,2,    0.004,2,    0.042,2,    0.000,2,   99.903,2
  096U20180111,  SR03,    36,  1,      1,      1,2,20180124,1127,-56.9297, 139.8488, 4097,   4192.9,   0.3011,  34.6790,2,-999.0000,9,    222.0,2,   -999.0,9,  -999.00,9,  -999.00,9,  -999.00,9,  -999.00,9,     -999,9, -999.000,9, -999.000,9,     -999,9,   -999.0,9,   -999.0,9,-999.0000,9,  -999.00,  -999.00,9,   -999.0,9,   -999.0,  -999.00,9,   0.00027,2,    0.004,2,    0.042,2,    0.000,2,   99.913,2