BOTTLE,20230418CCHSIOENA
EXPOCODE,SECT_ID,STNNBR,CASTNO,SAMPNO,BTLNBR,BTLNBR_FLAG_W,DATE,TIME,LATITUDE,LONGITUDE,DEPTH,CTDPRS,CTDTMP,CTDSAL,CTDSAL_FLAG_W,SALNTY,SALNTY_FLAG_W,CTDOXY,CTDOXY_FLAG_W,OXYGEN,OXYGEN_FLAG_W,SILCAT,SILCAT_FLAG_W,NITRAT,NITRAT_FLAG_W,NITRIT,NITRIT_FLAG_W,PHSPHT,PHSPHT_FLAG_W,NH4,NH4_FLAG_W,CFC-11,CFC-11_FLAG_W,CFC-12,CFC-12_FLAG_W,SF6,SF6_FLAG_W,TCARBN,TCARBN_FLAG_W,ALKALI,ALKALI_FLAG_W,PH_TOT,PH_TOT_FLAG_W,PH_TMP,N2O,N2O_FLAG_W,DELC14,DELC14_FLAG_W,C14ERR,DELC13,DELC13_FLAG_W,CTDBETA700,CTDBETA700_FLAG_W,CTDBEAMCP,CTDBEAMCP_FLAG_W,CTDFLUOR,CTDFLUOR_FLAG_W,PAR,PAR_FLAG_W,CTDXMISS,CTDXMISS_FLAG_W
,,,,,,,,,,,METERS,DBAR,ITS-90,PSS-78,,PSS-78,,UMOL/KG,,UMOL/KG,,UMOL/KG,,UMOL/KG,,UMOL/KG,,UMOL/KG,,UMOL/KG,,PMOL/KG,,PMOL/KG,,FMOL/KG,,UMOL/KG,,UMOL/KG,,,,DEG C,NMOL/KG,,/MILLE,,/MILLE,/MILLE,,VOLTS,,1/M,,MG/M^3,,UMOL/M^2/SEC,,%TRANS,
  096U20180111,  SR03,    73,  1,     36,     36,2,20180204,2239,-64.2995, 149.9997, 3525,     14.4,   0.9557,  33.6504,2,  33.6509,2,    337.4,2,    338.3,2,    29.60,2,    25.94,2,     0.22,2,     1.60,2,     0.28,2, -999.000,9, -999.000,9,     -999,9,   2147.1,2,   2279.6,2,-999.0000,9,  -999.00,  -999.00,9,   -999.0,9,   -999.0,  -999.00,9,   0.00268,2,    0.328,2,    0.498,2,  163.000,2,   92.125,2
  096U20180111,  SR03,    73,  1,     35,     35,2,20180204,2239,-64.2995, 149.9997, 3525,     14.4,   0.9556,  33.6504,2,-999.0000,9,    337.4,2,   -999.0,9,  -999.00,9,  -999.00,9,  -999.00,9,  -999.00,9,     -999,9,    5.271,2,    2.906,2,     3.55,2,   -999.0,9,   -999.0,9,-999.0000,9,  -999.00,    14.67,2,   -999.0,9,   -999.0,  -999.00,9,   0.00246,2,    0.331,2,    0.306,2,  137.000,2,   92.058,2
  096U20180111,  SR03,    73,  1,     34,     34,2,20180204,2239,-64.2995, 149.9997, 3525,     30.6,   0.9551,  33.6506,2,-999.0000,9,    338.8,2,   -999.0,9,  -999.00,9,  -999.00,9,  -999.00,9,  -999.00,9,     -999,9, -999.000,9, -999.000,9,     -999,9,   -999.0,9,   -999.0,9,-999.0000,9,  -999.00,  -999.00,9,   -999.0,9,   -999.0,  -999.00,9,   0.00269,2,    0.332,2,    1.800,2,   39.000,2,   92.033,2
  096U20180111,  SR03,    73,  1,     33,     33,2,20180204,2239,-64.2995, 149.9997, 3525,     30.6,   0.9555,  33.6508,2,  33.6529,2,    338.8,2,    337.7,2,    29.70,2,    25.94,2,     0.22,2,     1.60,2,      0.3,2, -999.000,9, -999.000,9,     -999,9,   -999.0,9,   -999.0,9,-999.0000,9,  -999.00,  -999.00,9,   -999.0,9,   -999.0,  -999.00,9,   0.00297,2,    0.335,2,    1.716,2,   23.500,2,   91.972,2
  096U20180111,  SR03,    73,  1,     32,     32,2,20180204,2239,-64.2995, 149.9997, 3525,     50.6,   0.4351,  34.3838,2,-999.0000,9,    268.1,2,   -999.0,9,  -999.00,9,  -999.00,9,  -999.00,9,  -999.00,9,     -999,9, -999.000,9, -999.000,9,     -999,9,   -999.0,9,   -999.0,9,-999.0000,9,  -999.00,  -999.00,9,   -999.0,9,   -999.0,  -999.00,9,   0.00180,2,    0.147,2,    2.310,2,    7.060,2,   96.387,2
  096U20180111,  SR03,    73,  1,     31,     31,2,20180204,2239,-64.2995, 149.9997, 3525,     50.7,   0.4463,  34.3854,2,  34.3846,2,    268.1,2,    233.4,2,    65.30,2,    32.08,2,     0.16,2,     2.27,2,     0.32,2,    2.483,2,    1.348,2,     1.41,2,   2232.5,2,   2323.6,2,-999.0000,9,  -999.00,    20.80,2,   -999.0,9,   -999.0,  -999.00,9,   0.00181,2,    0.150,2,    2.286,2,    7.930,2,   96.328,2
  096U20180111,  SR03,    73,  1,     30,     30,2,20180204,2239,-64.2995, 149.9997, 3525,     90.1,   1.5991,  34.5662,2,-999.0000,9,    182.6,2,   -999.0,9,  -999.00,9,  -999.00,9,  -999.00,9,  -999.00,9,     -999,9, -999.000,9, -999.000,9,     -999,9,   -999.0,9,   -999.0,9,-999.0000,9,  -999.00,  -999.00,9,   -999.0,9,   -999.0,  -999.00,9,   0.00065,2,    0.029,2,    0.306,2,    0.799,2,   99.285,2
  096U20180111,  SR03,    73,  1,     29,     29,2,20180204,2239,-64.2995, 149.9997, 3525,     90.1,   1.6061,  34.5667,2,  34.5691,2,    182.6,2,    183.0,2,    77.80,2,    33.75,2,     0.12,2,     2.35,2,     0.07,2, -999.000,9, -999.000,9,     -999,9,   -999.0,9,   -999.0,9,-999.0000,9,  -999.00,  -999.00,9,   -999.0,9,   -999.0,  -999.00,9,   0.00063,2,    0.027,2,    0.264,2,    0.503,2,   99.321,2
  096U20180111,  SR03,    73,  1,     28,     28,2,20180204,2239,-64.2995, 149.9997, 3525,    150.4,   1.8975,  34.6384,2,-999.0000,9,    177.1,2,   -999.0,9,  -999.00,9,  -999.00,9,  -999.00,9,  -999.00,9,     -999,9, -999.000,9, -999.000,9,     -999,9,   -999.0,9,   -999.0,9,-999.0000,9,  -999.00,  -999.00,9,   -999.0,9,   -999.0,  -999.00,9,   0.00062,2,    0.015,2,    0.048,2,    0.100,2,   99.624,2
  096U20180111,  SR03,    73,  1,     27,     27,2,20180204,2239,-64.2995, 149.9997, 3525,    150.4,   1.8977,  34.6386,2,  34.6390,2,    177.1,2,    177.6,2,    81.60,2,    33.30,2,     0.02,2,     2.30,2,        0,2,    0.709,2,    0.373,2,     0.47,2,   2256.9,2,   2340.7,2,-999.0000,9,  -999.00,    22.84,2,   -999.0,9,   -999.0,  -999.00,9,   0.00055,2,    0.015,2,    0.048,2,    0.094,2,   99.618,2
  096U20180111,  SR03,    73,  1,     26,     26,2,20180204,2239,-64.2995, 149.9997, 3525,    199.7,   1.9230,  34.6649,2,-999.0000,9,    177.6,2,   -999.0,9,  -999.00,9,  -999.00,9,  -999.00,9,  -999.00,9,     -999,9, -999.000,9, -999.000,9,     -999,9,   -999.0,9,   -999.0,9,-999.0000,9,  -999.00,  -999.00,9,   -999.0,9,   -999.0,  -999.00,9,   0.00071,2,    0.019,2,    0.042,2,    0.000,2,   99.533,2
  096U20180111,  SR03,    73,  1,     25,     25,2,20180204,2239,-64.2995, 149.9997, 3525,    199.6,   1.9221,  34.6647,2,  34.6650,2,    177.6,2,    177.4,2,    82.90,2,    32.80,2,     0.01,2,     2.28,2,        0,2, -999.000,9, -999.000,9,     -999,9,   -999.0,9,   -999.0,9,-999.0000,9,  -999.00,  -999.00,9,   -999.0,9,   -999.0,  -999.00,9,   0.00062,2,    0.019,2,    0.036,2,    0.000,2,   99.525,2
  096U20180111,  SR03,    73,  1,     24,     24,2,20180204,2239,-64.2995, 149.9997, 3525,    301.1,   1.9036,  34.6964,2,  34.6952,2,    181.8,2,    181.7,2,    84.40,2,    32.07,2,     0.01,2,     2.24,2,        0,2, -999.000,9, -999.000,9,     -999,9,   2253.8,2,   2345.1,6,-999.0000,9,  -999.00,  -999.00,9,   -999.0,9,   -999.0,  -999.00,9,   0.00057,2,    0.011,2,    0.042,2,    0.000,2,   99.734,2
  096U20180111,  SR03,    73,  1,     23,     23,2,20180204,2239,-64.2995, 149.9997, 3525,    400.2,   1.8582,  34.7159,2,  34.7144,2,    186.8,2,    186.1,2,    85.30,2,    31.46,2,     0.00,2,     2.20,2,        0,2, -999.000,9, -999.000,9,     -999,9,   -999.0,9,   -999.0,9,-999.0000,9,  -999.00,  -999.00,9,   -999.0,9,   -999.0,  -999.00,9,   0.00040,2,    0.004,2,    0.030,2,    0.000,2,   99.909,2
  096U20180111,  SR03,    73,  1,     22,     22,2,20180204,2239,-64.2995, 149.9997, 3525,    499.8,   1.7612,  34.7264,2,  34.7266,2,    189.8,2,    189.9,2,    87.30,2,    31.11,2,     0.01,2,     2.17,2,        0,2,    0.366,2,    0.193,2,     0.12,2,   2250.0,2,   2350.4,2,-999.0000,9,  -999.00,    19.61,2,   -999.0,9,   -999.0,  -999.00,9,   0.00037,2,    0.002,2,    0.036,2,    0.000,2,   99.953,2
  096U20180111,  SR03,    73,  1,     21,     21,2,20180204,2239,-64.2995, 149.9997, 3525,    600.6,   1.7265,  34.7364,2,  34.7362,2,    192.4,2,    192.4,2,    89.20,2,    30.82,2,     0.00,2,     2.15,2,        0,2, -999.000,9, -999.000,9,     -999,9,   -999.0,9,   -999.0,9,-999.0000,9,  -999.00,  -999.00,9,   -999.0,9,   -999.0,  -999.00,9,   0.00039,2,    0.003,2,    0.036,2,    0.000,2,   99.928,2
  096U20180111,  SR03,    73,  1,     20,     20,2,20180204,2239,-64.2995, 149.9997, 3525,    701.2,   1.6466,  34.7394,2,  34.7399,2,    195.0,2,    194.9,2,    91.10,2,    30.62,2,     0.00,2,     2.14,2,        0,2, -999.000,9, -999.000,9,     -999,9,   -999.0,9,   -999.0,9,-999.0000,9,  -999.00,  -999.00,9,   -999.0,9,   -999.0,  -999.00,9,   0.00031,2,    0.000,2,    0.030,2,    0.000,2,   99.992,2
  096U20180111,  SR03,    73,  1,     19,     19,2,20180204,2239,-64.2995, 149.9997, 3525,    801.5,   1.5658,  34.7399,2,-999.0000,9,    197.0,2,   -999.0,9,  -999.00,9,  -999.00,9,  -999.00,9,  -999.00,9,     -999,9, -999.000,9, -999.000,9,     -999,9,   -999.0,9,   -999.0,9,-999.0000,9,  -999.00,  -999.00,9,   -999.0,9,   -999.0,  -999.00,9,   0.00031,2,    0.001,2,    0.036,2,    0.000,2,   99.985,2
  096U20180111,  SR03,    73,  1,     18,     18,2,20180204,2239,-64.2995, 149.9997, 3525,    801.3,   1.5649,  34.7398,2,  34.7398,2,    197.0,2,    197.1,2,    93.30,2,    30.56,2,     0.01,2,     2.14,2,        0,2,    0.258,2,    0.140,2,     0.04,2,   2250.5,2,   2353.6,2,-999.0000,9,  -999.00,    18.90,2,   -999.0,9,   -999.0,  -999.00,9,   0.00032,2,    0.001,2,    0.036,2,    0.000,2,   99.966,2
  096U20180111,  SR03,    73,  1,     17,     17,2,20180204,2239,-64.2995, 149.9997, 3525,    950.7,   1.4318,  34.7370,2,  34.7364,2,    199.5,2,    199.4,2,    96.80,2,    30.63,2,     0.00,2,     2.14,2,    -0.01,2, -999.000,9, -999.000,9,     -999,9,   -999.0,9,   -999.0,9,-999.0000,9,  -999.00,  -999.00,9,   -999.0,9,   -999.0,  -999.00,9,   0.00033,2,    0.001,2,    0.030,2,    0.000,2,   99.976,2
  096U20180111,  SR03,    73,  1,     16,     16,2,20180204,2239,-64.2995, 149.9997, 3525,   1100.4,   1.2912,  34.7318,2,  34.7314,2,    201.3,2,    201.3,2,   100.40,2,    30.79,2,     0.00,2,     2.16,2,    -0.01,2, -999.000,9, -999.000,9,     -999,9,   -999.0,9,   -999.0,9,-999.0000,9,  -999.00,  -999.00,9,   -999.0,9,   -999.0,  -999.00,9,   0.00031,2,   -0.001,2,    0.030,2,    0.000,2,  100.012,2
  096U20180111,  SR03,    73,  1,     15,     15,2,20180204,2239,-64.2995, 149.9997, 3525,   1300.4,   1.1341,  34.7252,2,  34.7254,2,    203.3,2,    203.5,2,   104.90,2,    31.01,2,     0.00,2,     2.17,2,    -0.01,2,    0.271,2,    0.146,2,     0.21,2,   2254.7,2,   2359.3,2,-999.0000,9,  -999.00,    18.60,2,   -999.0,9,   -999.0,  -999.00,9,   0.00030,2,   -0.001,2,    0.030,2,    0.000,2,  100.012,2
  096U20180111,  SR03,    73,  1,     14,     14,2,20180204,2239,-64.2995, 149.9997, 3525,   1500.6,   0.9859,  34.7182,2,  34.7181,2,    205.0,2,    205.0,2,   109.40,2,    31.21,2,     0.01,2,     2.19,2,    -0.01,2, -999.000,9, -999.000,9,     -999,9,   -999.0,9,   -999.0,9,-999.0000,9,  -999.00,  -999.00,9,   -999.0,9,   -999.0,  -999.00,9,   0.00028,2,   -0.002,2,    0.036,2,    0.000,2,  100.042,2
  096U20180111,  SR03,    73,  1,     13,     13,2,20180204,2239,-64.2995, 149.9997, 3525,   1751.0,   0.7781,  34.7068,2,  34.7069,2,    208.5,2,    208.2,2,   114.80,2,    31.56,2,     0.00,2,     2.22,2,    -0.01,2,    0.342,2,    0.165,2,     0.13,2,   -999.0,9,   -999.0,9,-999.0000,9,  -999.00,    18.69,2,   -999.0,9,   -999.0,  -999.00,9,   0.00027,2,   -0.002,2,    0.036,2,    0.000,2,  100.053,2
  096U20180111,  SR03,    73,  1,     12,     12,2,20180204,2239,-64.2995, 149.9997, 3525,   2000.8,   0.6111,  34.6975,2,  34.6971,2,    211.3,2,    211.6,2,   118.20,2,    31.81,2,     0.00,2,     2.23,2,    -0.01,2, -999.000,9, -999.000,9,     -999,9,   -999.0,9,   -999.0,9,-999.0000,9,  -999.00,  -999.00,9,   -999.0,9,   -999.0,  -999.00,9,   0.00026,2,   -0.002,2,    0.036,2,    0.000,2,  100.056,2
  096U20180111,  SR03,    73,  1,     11,     11,2,20180204,2239,-64.2995, 149.9997, 3525,   2251.1,   0.4446,  34.6899,2,  34.6611,4,    215.3,2,    214.7,2,   121.90,2,    31.88,2,     0.00,2,     2.24,2,    -0.01,2,    0.532,2,    0.277,2,      0.3,2,   2259.4,2,   2360.5,2,-999.0000,9,  -999.00,    18.36,2,   -999.0,9,   -999.0,  -999.00,9,   0.00023,2,   -0.003,2,    0.036,2,    0.000,2,  100.073,2
  096U20180111,  SR03,    73,  1,     10,     10,2,20180204,2239,-64.2995, 149.9997, 3525,   2499.6,   0.3195,  34.6843,2,  34.6838,2,    218.4,2,    218.2,2,   123.80,2,    31.87,2,     0.00,2,     2.25,2,    -0.01,2, -999.000,9, -999.000,9,     -999,9,   -999.0,9,   -999.0,9,-999.0000,9,  -999.00,  -999.00,9,   -999.0,9,   -999.0,  -999.00,9,   0.00025,2,   -0.002,2,    0.036,2,    0.000,2,  100.063,2
  096U20180111,  SR03,    73,  1,      9,      9,2,20180204,2239,-64.2995, 149.9997, 3525,   2750.1,   0.2204,  34.6800,2,  34.6793,2,    221.2,2,    221.8,2,   125.70,2,    31.91,2,     0.00,2,     2.26,2,    -0.01,2,    0.814,2,    0.424,2,     0.23,2,   2257.3,2,   2359.1,2,-999.0000,9,  -999.00,    18.38,2,   -999.0,9,   -999.0,  -999.00,9,   0.00026,2,   -0.003,2,    0.036,2,    0.000,2,  100.067,2
  096U20180111,  SR03,    73,  1,      8,      8,2,20180204,2239,-64.2995, 149.9997, 3525,   3000.8,   0.1278,  34.6760,2,  34.6752,2,    224.7,2,    225.3,2,   118.40,2,    31.79,2,     0.00,2,     2.25,2,    -0.01,2,    1.213,2,    0.642,2,     0.71,2,   -999.0,9,   -999.0,9,-999.0000,9,  -999.00,    18.28,2,   -999.0,9,   -999.0,  -999.00,9,   0.00023,2,   -0.003,2,    0.036,2,    0.000,2,  100.071,2
  096U20180111,  SR03,    73,  1,      7,      7,2,20180204,2239,-64.2995, 149.9997, 3525,   3200.8,   0.0433,  34.6722,2,  34.6727,2,    228.3,2,    228.5,2,   118.20,2,    31.77,2,     0.00,2,     2.24,2,    -0.01,2,    1.432,2,    0.754,2,     0.55,2,   2257.2,6,   2357.4,6,-999.0000,9,  -999.00,    18.47,2,   -999.0,9,   -999.0,  -999.00,9,   0.00023,2,   -0.002,2,    0.030,2,    0.000,2,  100.062,2
  096U20180111,  SR03,    73,  1,      6,      6,2,20180204,2239,-64.2995, 149.9997, 3525,   3401.3,  -0.0284,  34.6696,2,-999.0000,9,    231.1,2,   -999.0,9,  -999.00,9,  -999.00,9,  -999.00,9,  -999.00,9,     -999,9, -999.000,9, -999.000,9,     -999,9,   -999.0,9,   -999.0,9,-999.0000,9,  -999.00,  -999.00,9,   -999.0,9,   -999.0,  -999.00,9,   0.00029,2,    0.001,2,    0.036,2,    0.000,2,   99.973,2
  096U20180111,  SR03,    73,  1,      5,      5,2,20180204,2239,-64.2995, 149.9997, 3525,   3401.1,  -0.0286,  34.6697,2,  34.6692,2,    231.1,2,    231.8,2,   118.20,2,    31.76,2,     0.00,2,     2.24,2,    -0.01,2,    1.640,2,    0.868,2,     0.75,2,   2257.1,2,   2357.3,2,-999.0000,9,  -999.00,    18.22,2,   -999.0,9,   -999.0,  -999.00,9,   0.00028,2,    0.001,2,    0.036,2,    0.000,2,   99.980,2
  096U20180111,  SR03,    73,  1,      4,      4,2,20180204,2239,-64.2995, 149.9997, 3525,   3550.4,  -0.0812,  34.6766,2,  34.6760,2,    233.9,2,    234.4,2,   110.60,2,    31.50,2,     0.01,2,     2.23,2,        0,2,    1.961,2,    1.058,2,     0.98,2,   -999.0,9,   -999.0,9,-999.0000,9,  -999.00,    18.34,2,   -999.0,9,   -999.0,  -999.00,9,   0.00046,2,    0.011,2,    0.036,2,    0.000,2,   99.722,2
  096U20180111,  SR03,    73,  1,      3,      3,2,20180204,2239,-64.2995, 149.9997, 3525,   3550.3,  -0.0829,  34.6767,2,-999.0000,9,    233.9,2,   -999.0,9,  -999.00,9,  -999.00,9,  -999.00,9,  -999.00,9,     -999,9, -999.000,9, -999.000,9,     -999,9,   -999.0,9,   -999.0,9,-999.0000,9,  -999.00,  -999.00,9,   -999.0,9,   -999.0,  -999.00,9,   0.00045,2,    0.012,2,    0.036,2,    0.000,2,   99.711,2
  096U20180111,  SR03,    73,  1,      2,      2,2,20180204,2239,-64.2995, 149.9997, 3525,   3599.0,  -0.1251,  34.6852,2,  34.6844,2,    236.6,2,    237.4,2,   106.10,2,    31.39,2,     0.01,2,     2.23,2,        0,2,    2.134,2,    1.156,2,     1.15,2,   2258.1,2,   2356.0,2,-999.0000,9,  -999.00,    18.29,2,   -999.0,9,   -999.0,  -999.00,9,   0.00063,2,    0.021,2,    0.036,2,    0.000,2,   99.487,2
  096U20180111,  SR03,    73,  1,      1,      1,2,20180204,2239,-64.2995, 149.9997, 3525,   3599.1,  -0.1243,  34.6851,2,-999.0000,9,    236.6,2,   -999.0,9,  -999.00,9,  -999.00,9,  -999.00,9,  -999.00,9,     -999,9, -999.000,9, -999.000,9,     -999,9,   -999.0,9,   -999.0,9,-999.0000,9,  -999.00,  -999.00,9,   -999.0,9,   -999.0,  -999.00,9,   0.00059,2,    0.020,2,    0.036,2,    0.000,2,   99.491,2