BOTTLE,20230418CCHSIOENA
# changed CTDBACKSCATTER and CTDBACKSCATTER_FLAG_W to CTDBETA700 and CTDBETA
# changed CTDBEAMATTN and CTDBEAMATTN_FLAG_W to CTDBEAMCP and CTDBEAMCP_FLAG
# changed CTDPAR and CTDPAR_FLAG_W to PAR and PAR_FLAG_W
# changed units of PAR from UEINSTEIN/M^2*SEC to UMOL/M^2/SEC
# BOTTLE,20210222PRINUNIVRMK
# 06/28/2017 Initialized README file  
# Data source: M.Rosenberg 10/2/18 final and public 
# SHIP: R/V Investigator 
# Cruise: SR03.2018; with bits of S04I and the old P11; IN2018_V01; in1801 
# Region: south of Tasmania; Hobart to Hobart 
# EXPOCODE: 096U20180111 
# DATES: 20180111 - 20180222 
# Chief Scientist: M. Rosenberg & S. Rintoul 
# 108 stations with 36 place Rosette 
# SOCCOM Biogeochemical floats deployed by  
#  No Sta   WMO_ID      Lat       Lon       Date	  FLID    Name                   Adopted_by 
#  1   13   5904846  -48.3333  144.5867   20180116    688   Illagannators          Seaside MS, Monterey, CA 
#  2   29   5905376  -53.5833  141.9300   20180122  12736   Kirk                   Princeton Day School, Princeton, NJ 
#  3   33   5905371  -55.4933  140.7200   20180123  12779   Polar Otter            Cal. State Univ., Monterey Bay 
#  4   39   5905372  -58.3533  139.9283   20180125  12784   Nightingale            Salinas HS, Salinas, CA 
#  5   44   5905373  -60.3267  139.8883   20180127  12769   Polar Pirate           Stevenson MS, Carmel, CA 
#  6   49   5905374  -62.8533  139.7517   20180129  12782   Leo the Lion           Albany H/JrH School, Albany, TX 
#  7   54   5905375  -64.8250  139.8467   20180130  12709   Jackattack             McKeown School, Newton, NJ 
#  8   68   5905379  -65.3733  149.9617   20180203  12702   Floatsam               Notre Dame HS, Salinas, CA 
#  9   78   5905377  -62.0183  149.9950   20180202  12741   SHS Ocean Defenders    Seaside HS, Monterey, CA 
# 10   91   5905378  -63.5567  132.1833   20180211  12748   Allure                 Princeton HS, Princeton, NJ 
# 11  103   5905103  -58.4983  131.8867   20180215  12370   Flotsam                Notre Dame HS, Salinas, CA 
# Supported by NSF Award PLR-1425989 to J.L. Sarmiento et al.  
# Shipboard contact Mark Rosenberg, E.van Wijk 
# CTD: Who - S.Rintoul; Status - final 
# 	Includes: CTDSAL, CTDOXY 
# Salinty: Who - S.Rintoul; Status - final 
# 	Notes: 	 
# Nutrients: Who - M.Rosenberg; Status - final 
# 	Includes: nitrate, nitrite, silicate, phopshpate, ammonium 
# 	NO3+NO2 converted to NITRATE by subtracting NITRITE 
# O2: Who - M.Rosenberg; Status - final 
# 	Notes: 
# TCO2: Who - B.Tilbrook; Status - final 
# 	Notes: submitted to GLODAP Mar. 2020 
# 	Merged 2/22/21 with QC 
# ALKALI: Who - B.Tilbrook; Status - final 
# 	Notes: submitted to GLODAP Mar. 2020 
# 	Adjustment applied by Tilbrook 
# 	Merged 2/22/21 with QC 
# 	A.Dickson ran a  subset of samples from SOCCOM stations that were returned to shore 
# pH: Who - A.Dickson; Status - final 
# 	Notes: total scale at 25C 
# 	Returned to shore for analysis. Samples from SOOCCOM float stations 
# CFC: Who - M.Warner; Status - final 
# 	Notes:  
# C14/C13: Who - R.Key,A.McNichol; Status - final 
# 	Notes: merged with QC 10/12/20 RMK 
# 	Craig Neill will run additional C13 with a new system for comparison 
# HPLC:  Who - E. Boss; Status - final 
# 	Notes: supported by NASA grant NNX14AP49G 
# POC/PON: Who - ; Status - final 
# 	Notes: not in this file 
#
# Please cite data as: 
# [Data providers of the parameter(s) used]. [Year of file access]. Bottle data from cruise [expocode], [format version used]. 
# Accessed from CCHDO [url of cruise data page]. Access date [date of download]. [Applicable CCHDO cruise DOI if provided].
# 
# For example: Swift, J. and Becker, S. 2019. CTD data from Cruise I09N, exchange version. 
# Accessed from CCHDO https://cchdo.ucsd.edu/cruise/33RR20160321. Access date 2019-08-21. CCHDO cruise DOI: 10.7942/C2008W
# 
# Information on the scientists who provided the different parameters can be found in the cruise report. Additionally, for US GO-SHIP cruises, 
# this information is usually in the comments section in the text headers of the Exchange bottle files.
#
# Users are also encouraged to acknowledge the funding program that supported the data collection in their publication. 
# For US GO-SHIP data this is the NSF/NOAA funded U.S Repeat Hydrography Program.
# 
# Rosenberg, M. and Rintoul, S. (unpublished) RV Investigator Marine Science Cruise IN1801 
# (CSIRO VOYAGE DESIGNATION IN2018_V01), SR3 PLUS EXTRA SOUTHERN TRANSECTS, oceanographic 
# field measurements and analysis. ACECRC, Hobart, 2018 unpublished report, 98 pp. 
EXPOCODE,SECT_ID,STNNBR,CASTNO,SAMPNO,BTLNBR,BTLNBR_FLAG_W,DATE,TIME,LATITUDE,LONGITUDE,DEPTH,CTDPRS,CTDTMP,CTDSAL,CTDSAL_FLAG_W,SALNTY,SALNTY_FLAG_W,CTDOXY,CTDOXY_FLAG_W,OXYGEN,OXYGEN_FLAG_W,SILCAT,SILCAT_FLAG_W,NITRAT,NITRAT_FLAG_W,NITRIT,NITRIT_FLAG_W,PHSPHT,PHSPHT_FLAG_W,NH4,NH4_FLAG_W,CFC-11,CFC-11_FLAG_W,CFC-12,CFC-12_FLAG_W,SF6,SF6_FLAG_W,TCARBN,TCARBN_FLAG_W,ALKALI,ALKALI_FLAG_W,PH_TOT,PH_TOT_FLAG_W,PH_TMP,N2O,N2O_FLAG_W,DELC14,DELC14_FLAG_W,C14ERR,DELC13,DELC13_FLAG_W,CTDBETA700,CTDBETA700_FLAG_W,CTDBEAMCP,CTDBEAMCP_FLAG_W,CTDFLUOR,CTDFLUOR_FLAG_W,PAR,PAR_FLAG_W,CTDXMISS,CTDXMISS_FLAG_W
,,,,,,,,,,,METERS,DBAR,ITS-90,PSS-78,,PSS-78,,UMOL/KG,,UMOL/KG,,UMOL/KG,,UMOL/KG,,UMOL/KG,,UMOL/KG,,UMOL/KG,,PMOL/KG,,PMOL/KG,,FMOL/KG,,UMOL/KG,,UMOL/KG,,,,DEG C,NMOL/KG,,/MILLE,,/MILLE,/MILLE,,VOLTS,,1/M,,MG/M^3,,UMOL/M^2/SEC,,%TRANS,
  096U20180111,  SR03,     1,  1,     36,     36,2,20180111,0816,-44.0015, 146.3207,  251,      5.3,  16.3215,  35.1716,2,-999.0000,9,    250.1,2,   -999.0,9,  -999.00,9,  -999.00,9,  -999.00,9,  -999.00,9,     -999,9, -999.000,9, -999.000,9,     -999,9,   -999.0,9,   -999.0,9,-999.0000,9,  -999.00,  -999.00,9,   -999.0,9,   -999.0,  -999.00,9,   0.00222,2,    0.311,2,    1.092,2,   45.400,2,   92.516,2
  096U20180111,  SR03,     1,  1,     35,     35,2,20180111,0816,-44.0015, 146.3207,  251,      5.3,  16.3200,  35.1716,2,-999.0000,9,    250.1,2,   -999.0,9,  -999.00,9,  -999.00,9,  -999.00,9,  -999.00,9,     -999,9, -999.000,9, -999.000,9,     -999,9,   -999.0,9,   -999.0,9,-999.0000,9,  -999.00,  -999.00,9,   -999.0,9,   -999.0,  -999.00,9,   0.00227,2,    0.312,2,    1.086,2,   47.500,2,   92.496,2
  096U20180111,  SR03,     1,  1,     34,     34,2,20180111,0816,-44.0015, 146.3207,  251,      5.2,  16.3201,  35.1715,2,-999.0000,9,    250.1,2,   -999.0,9,  -999.00,9,  -999.00,9,  -999.00,9,  -999.00,9,     -999,9, -999.000,9, -999.000,9,     -999,9,   -999.0,9,   -999.0,9,-999.0000,9,  -999.00,  -999.00,9,   -999.0,9,   -999.0,  -999.00,9,   0.00226,2,    0.312,2,    1.104,2,   53.600,2,   92.498,2
  096U20180111,  SR03,     1,  1,     33,     33,2,20180111,0816,-44.0015, 146.3207,  251,      5.2,  16.3227,  35.1714,2,  35.1716,2,    250.1,2,    255.0,3,     0.20,2,     0.29,2,     0.07,2,     0.19,2,     0.16,2,    2.490,2,    1.499,2,      1.9,2,   2070.1,6,   2323.1,6,-999.0000,9,  -999.00,     8.18,2,   -999.0,9,   -999.0,  -999.00,9,   0.00226,2,    0.310,2,    1.098,2,   50.600,2,   92.551,2
  096U20180111,  SR03,     1,  1,     32,     32,2,20180111,0816,-44.0015, 146.3207,  251,     15.4,  15.5947,  35.1691,2,-999.0000,9,    259.6,2,   -999.0,9,  -999.00,9,  -999.00,9,  -999.00,9,  -999.00,9,     -999,9, -999.000,9, -999.000,9,     -999,9,   -999.0,9,   -999.0,9,-999.0000,9,  -999.00,  -999.00,9,   -999.0,9,   -999.0,  -999.00,9,   0.00283,2,    0.392,2,    1.506,2,   16.600,2,   90.667,2
  096U20180111,  SR03,     1,  1,     31,     31,2,20180111,0816,-44.0015, 146.3207,  251,     15.4,  15.7002,  35.1709,2,-999.0000,9,    259.6,2,   -999.0,9,  -999.00,9,  -999.00,9,  -999.00,9,  -999.00,9,     -999,9, -999.000,9, -999.000,9,     -999,9,   -999.0,9,   -999.0,9,-999.0000,9,  -999.00,  -999.00,9,   -999.0,9,   -999.0,  -999.00,9,   0.00270,2,    0.377,2,    1.482,2,   15.500,2,   91.001,2
  096U20180111,  SR03,     1,  1,     30,     30,2,20180111,0816,-44.0015, 146.3207,  251,     15.4,  15.5605,  35.1691,2,-999.0000,9,    259.6,2,   -999.0,9,  -999.00,9,  -999.00,9,  -999.00,9,  -999.00,9,     -999,9, -999.000,9, -999.000,9,     -999,9,   -999.0,9,   -999.0,9,-999.0000,9,  -999.00,  -999.00,9,   -999.0,9,   -999.0,  -999.00,9,   0.00281,2,    0.399,2,    1.548,2,   17.400,2,   90.500,2
  096U20180111,  SR03,     1,  1,     29,     29,2,20180111,0816,-44.0015, 146.3207,  251,     15.5,  15.5705,  35.1689,2,  35.1660,2,    259.6,2,    261.0,2,     0.20,2,     0.23,2,     0.07,2,     0.18,2,     0.09,2,    2.516,2,    1.512,2,     1.75,2,   2066.6,2,   2322.2,2,-999.0000,9,  -999.00,     8.25,2,   -999.0,9,   -999.0,  -999.00,9,   0.00281,2,    0.399,2,    1.518,2,   16.800,2,   90.507,2
  096U20180111,  SR03,     1,  1,     28,     28,2,20180111,0816,-44.0015, 146.3207,  251,     30.6,  14.1416,  35.1584,2,-999.0000,9,    262.7,2,   -999.0,9,  -999.00,9,  -999.00,9,  -999.00,9,  -999.00,9,     -999,9, -999.000,9, -999.000,9,     -999,9,   -999.0,9,   -999.0,9,-999.0000,9,  -999.00,  -999.00,9,   -999.0,9,   -999.0,  -999.00,9,   0.00197,2,    0.264,2,    1.404,2,    3.620,2,   93.631,2
  096U20180111,  SR03,     1,  1,     27,     27,2,20180111,0816,-44.0015, 146.3207,  251,     30.3,  14.0968,  35.1702,2,-999.0000,9,    262.7,2,   -999.0,9,  -999.00,9,  -999.00,9,  -999.00,9,  -999.00,9,     -999,9, -999.000,9, -999.000,9,     -999,9,   -999.0,9,   -999.0,9,-999.0000,9,  -999.00,  -999.00,9,   -999.0,9,   -999.0,  -999.00,9,   0.00239,2,    0.165,2,    1.548,2,    3.490,2,   95.966,2
  096U20180111,  SR03,     1,  1,     26,     26,2,20180111,0816,-44.0015, 146.3207,  251,     30.6,  14.0879,  35.1731,2,-999.0000,9,    262.7,2,   -999.0,9,  -999.00,9,  -999.00,9,  -999.00,9,  -999.00,9,     -999,9, -999.000,9, -999.000,9,     -999,9,   -999.0,9,   -999.0,9,-999.0000,9,  -999.00,  -999.00,9,   -999.0,9,   -999.0,  -999.00,9,   0.00155,2,    0.133,2,    1.236,2,    3.150,2,   96.730,2
  096U20180111,  SR03,     1,  1,     25,     25,2,20180111,0816,-44.0015, 146.3207,  251,     30.5,  14.0862,  35.1761,2,  35.1791,2,    262.7,2,    248.0,2,     0.50,2,     2.73,2,     0.28,2,     0.37,2,     0.17,2,    2.684,2,    1.601,2,     2.33,2,   2093.0,2,   2321.4,2,-999.0000,9,  -999.00,     8.69,2,   -999.0,9,   -999.0,  -999.00,9,   0.00159,2,    0.139,2,    1.320,2,    3.150,2,   96.595,2
  096U20180111,  SR03,     1,  1,     24,     24,2,20180111,0816,-44.0015, 146.3207,  251,     50.2,  13.5330,  35.2236,2,-999.0000,9,    241.2,2,   -999.0,9,  -999.00,9,  -999.00,9,  -999.00,9,  -999.00,9,     -999,9, -999.000,9, -999.000,9,     -999,9,   -999.0,9,   -999.0,9,-999.0000,9,  -999.00,  -999.00,9,   -999.0,9,   -999.0,  -999.00,9,   0.00121,2,    0.080,2,    0.804,2,    0.733,2,   98.010,2
  096U20180111,  SR03,     1,  1,     23,     23,2,20180111,0816,-44.0015, 146.3207,  251,     50.4,  13.5402,  35.2234,2,-999.0000,9,    241.2,2,   -999.0,9,  -999.00,9,  -999.00,9,  -999.00,9,  -999.00,9,     -999,9, -999.000,9, -999.000,9,     -999,9,   -999.0,9,   -999.0,9,-999.0000,9,  -999.00,  -999.00,9,   -999.0,9,   -999.0,  -999.00,9,   0.00123,2,    0.079,2,    0.912,2,    0.720,2,   98.039,2
  096U20180111,  SR03,     1,  1,     22,     22,2,20180111,0816,-44.0015, 146.3207,  251,     50.5,  13.5301,  35.2233,2,-999.0000,9,    241.2,2,   -999.0,9,  -999.00,9,  -999.00,9,  -999.00,9,  -999.00,9,     -999,9, -999.000,9, -999.000,9,     -999,9,   -999.0,9,   -999.0,9,-999.0000,9,  -999.00,  -999.00,9,   -999.0,9,   -999.0,  -999.00,9,   0.00125,2,    0.083,2,    0.768,2,    0.744,2,   97.949,2
  096U20180111,  SR03,     1,  1,     21,     21,2,20180111,0816,-44.0015, 146.3207,  251,     50.2,  13.5066,  35.2232,2,  35.2232,2,    241.2,2,    241.7,2,     0.90,2,     4.17,2,     0.28,2,     0.44,2,     0.08,2, -999.000,9, -999.000,9,     -999,9,   -999.0,9,   -999.0,9,-999.0000,9,  -999.00,  -999.00,9,   -999.0,9,   -999.0,  -999.00,9,   0.00111,2,    0.083,2,    0.792,2,    0.722,2,   97.958,2
  096U20180111,  SR03,     1,  1,     20,     20,2,20180111,0816,-44.0015, 146.3207,  251,     60.7,  13.3966,  35.2221,2,-999.0000,9,    243.0,2,   -999.0,9,  -999.00,9,  -999.00,9,  -999.00,9,  -999.00,9,     -999,9, -999.000,9, -999.000,9,     -999,9,   -999.0,9,   -999.0,9,-999.0000,9,  -999.00,  -999.00,9,   -999.0,9,   -999.0,  -999.00,9,   0.00116,2,    0.074,2,    0.654,2,    0.353,2,   98.157,2
  096U20180111,  SR03,     1,  1,     19,     19,2,20180111,0816,-44.0015, 146.3207,  251,     60.4,  13.4144,  35.2210,2,-999.0000,9,    243.0,2,   -999.0,9,  -999.00,9,  -999.00,9,  -999.00,9,  -999.00,9,     -999,9, -999.000,9, -999.000,9,     -999,9,   -999.0,9,   -999.0,9,-999.0000,9,  -999.00,  -999.00,9,   -999.0,9,   -999.0,  -999.00,9,   0.00116,2,    0.072,2,    0.834,2,    0.365,2,   98.224,2
  096U20180111,  SR03,     1,  1,     18,     18,2,20180111,0816,-44.0015, 146.3207,  251,     60.9,  13.4078,  35.2207,2,  35.2207,2,    243.0,2,    242.2,2,     1.00,2,     4.45,2,     0.28,2,     0.46,2,      0.1,2,    2.759,2,    1.629,2,     1.87,2,   2107.4,2,   2324.1,2,-999.0000,9,  -999.00,     8.98,2,   -999.0,9,   -999.0,  -999.00,9,   0.00123,2,    0.073,2,    0.690,2,    0.362,2,   98.198,2
  096U20180111,  SR03,     1,  1,     17,     17,2,20180111,0816,-44.0015, 146.3207,  251,     60.3,  13.3950,  35.2206,2,-999.0000,9,    243.0,2,   -999.0,9,  -999.00,9,  -999.00,9,  -999.00,9,  -999.00,9,     -999,9, -999.000,9, -999.000,9,     -999,9,   -999.0,9,   -999.0,9,-999.0000,9,  -999.00,  -999.00,9,   -999.0,9,   -999.0,  -999.00,9,   0.00132,2,    0.075,2,    0.756,2,    0.365,2,   98.142,2
  096U20180111,  SR03,     1,  1,     16,     16,2,20180111,0816,-44.0015, 146.3207,  251,    100.9,  12.2522,  35.1813,2,-999.0000,9,    241.7,2,   -999.0,9,  -999.00,9,  -999.00,9,  -999.00,9,  -999.00,9,     -999,9, -999.000,9, -999.000,9,     -999,9,   -999.0,9,   -999.0,9,-999.0000,9,  -999.00,  -999.00,9,   -999.0,9,   -999.0,  -999.00,9,   0.00074,2,    0.022,2,    0.126,2,    0.025,2,   99.458,2
  096U20180111,  SR03,     1,  1,     15,     15,2,20180111,0816,-44.0015, 146.3207,  251,    100.7,  12.2514,  35.1812,2,-999.0000,9,    241.7,2,   -999.0,9,  -999.00,9,  -999.00,9,  -999.00,9,  -999.00,9,     -999,9, -999.000,9, -999.000,9,     -999,9,   -999.0,9,   -999.0,9,-999.0000,9,  -999.00,  -999.00,9,   -999.0,9,   -999.0,  -999.00,9,   0.00062,2,    0.024,2,    0.126,2,    0.025,2,   99.392,2
  096U20180111,  SR03,     1,  1,     14,     14,2,20180111,0816,-44.0015, 146.3207,  251,    100.9,  12.2522,  35.1812,2,  35.1815,2,    241.7,2,    243.4,2,     1.80,2,     7.42,2,     0.04,2,     0.61,2,        0,2,    2.807,2,    1.669,2,     2.11,2,   2119.1,2,   2321.7,2,-999.0000,9,  -999.00,     9.32,2,   -999.0,9,   -999.0,  -999.00,9,   0.00064,2,    0.021,2,    0.144,2,    0.025,2,   99.485,2
  096U20180111,  SR03,     1,  1,     13,     13,2,20180111,0816,-44.0015, 146.3207,  251,    100.8,  12.2471,  35.1808,2,-999.0000,9,    241.7,2,   -999.0,9,  -999.00,9,  -999.00,9,  -999.00,9,  -999.00,9,     -999,9, -999.000,9, -999.000,9,     -999,9,   -999.0,9,   -999.0,9,-999.0000,9,  -999.00,  -999.00,9,   -999.0,9,   -999.0,  -999.00,9,   0.00070,2,    0.023,2,    0.156,2,    0.026,2,   99.431,2
  096U20180111,  SR03,     1,  1,     12,     12,2,20180111,0816,-44.0015, 146.3207,  251,    142.1,  11.8964,  35.1310,2,-999.0000,9,    245.0,2,   -999.0,9,  -999.00,9,  -999.00,9,  -999.00,9,  -999.00,9,     -999,9, -999.000,9, -999.000,9,     -999,9,   -999.0,9,   -999.0,9,-999.0000,9,  -999.00,  -999.00,9,   -999.0,9,   -999.0,  -999.00,9,   0.00059,2,    0.016,2,    0.054,2,    0.000,2,   99.595,2
  096U20180111,  SR03,     1,  1,     11,     11,2,20180111,0816,-44.0015, 146.3207,  251,    142.6,  11.8926,  35.1302,2,-999.0000,9,    245.0,2,   -999.0,9,  -999.00,9,  -999.00,9,  -999.00,9,  -999.00,9,     -999,9, -999.000,9, -999.000,9,     -999,9,   -999.0,9,   -999.0,9,-999.0000,9,  -999.00,  -999.00,9,   -999.0,9,   -999.0,  -999.00,9,   0.00062,2,    0.016,2,    0.060,2,    0.000,2,   99.591,2
  096U20180111,  SR03,     1,  1,     10,     10,2,20180111,0816,-44.0015, 146.3207,  251,    141.7,  11.8836,  35.1287,2,-999.0000,9,    245.0,2,   -999.0,9,  -999.00,9,  -999.00,9,  -999.00,9,  -999.00,9,     -999,9, -999.000,9, -999.000,9,     -999,9,   -999.0,9,   -999.0,9,-999.0000,9,  -999.00,  -999.00,9,   -999.0,9,   -999.0,  -999.00,9,   0.00061,2,    0.016,2,    0.054,2,    0.000,2,   99.593,2
  096U20180111,  SR03,     1,  1,      9,      9,2,20180111,0816,-44.0015, 146.3207,  251,    142.5,  11.8793,  35.1279,2,  35.1277,2,    245.0,2,    246.2,2,     2.10,2,     8.16,2,     0.03,2,     0.66,2,        0,2,    2.832,2,    1.676,2,     2.26,2,   2120.5,2,   2319.2,2,-999.0000,9,  -999.00,     9.37,2,   -999.0,9,   -999.0,  -999.00,9,   0.00059,2,    0.016,2,    0.054,2,    0.000,2,   99.593,2
  096U20180111,  SR03,     1,  1,      8,      8,2,20180111,0816,-44.0015, 146.3207,  251,    181.4,  11.6580,  35.0913,2,-999.0000,9,    248.8,2,   -999.0,9,  -999.00,9,  -999.00,9,  -999.00,9,  -999.00,9,     -999,9, -999.000,9, -999.000,9,     -999,9,   -999.0,9,   -999.0,9,-999.0000,9,  -999.00,  -999.00,9,   -999.0,9,   -999.0,  -999.00,9,   0.00061,2,    0.015,2,    0.048,2,    0.000,2,   99.636,2
  096U20180111,  SR03,     1,  1,      7,      7,2,20180111,0816,-44.0015, 146.3207,  251,    181.2,  11.6576,  35.0914,2,-999.0000,9,    248.8,2,   -999.0,9,  -999.00,9,  -999.00,9,  -999.00,9,  -999.00,9,     -999,9, -999.000,9, -999.000,9,     -999,9,   -999.0,9,   -999.0,9,-999.0000,9,  -999.00,  -999.00,9,   -999.0,9,   -999.0,  -999.00,9,   0.00057,2,    0.015,2,    0.048,2,    0.000,2,   99.629,2
  096U20180111,  SR03,     1,  1,      6,      6,2,20180111,0816,-44.0015, 146.3207,  251,    181.3,  11.6524,  35.0907,2,-999.0000,9,    248.8,2,   -999.0,9,  -999.00,9,  -999.00,9,  -999.00,9,  -999.00,9,     -999,9, -999.000,9, -999.000,9,     -999,9,   -999.0,9,   -999.0,9,-999.0000,9,  -999.00,  -999.00,9,   -999.0,9,   -999.0,  -999.00,9,   0.00059,2,    0.019,2,    0.048,2,    0.000,2,   99.517,2
  096U20180111,  SR03,     1,  1,      5,      5,2,20180111,0816,-44.0015, 146.3207,  251,    180.9,  11.6468,  35.0897,2,  35.0909,2,    248.0,2,    247.5,2,     2.10,2,     8.81,2,     0.03,2,     0.69,2,     0.01,2,    2.787,2,    1.664,2,     2.43,2,   2120.4,2,   2316.9,2,-999.0000,9,  -999.00,     9.15,2,   -999.0,9,   -999.0,  -999.00,9,   0.00057,2,    0.014,2,    0.048,2,    0.000,2,   99.642,2
  096U20180111,  SR03,     1,  1,      4,      4,2,20180111,0816,-44.0015, 146.3207,  251,    243.3,  11.3537,  35.0423,2,-999.0000,9,    248.9,2,   -999.0,9,  -999.00,9,  -999.00,9,  -999.00,9,  -999.00,9,     -999,9, -999.000,9, -999.000,9,     -999,9,   -999.0,9,   -999.0,9,-999.0000,9,  -999.00,  -999.00,9,   -999.0,9,   -999.0,  -999.00,9,   0.00054,2,    0.013,2,    0.042,2,    0.000,2,   99.677,2
  096U20180111,  SR03,     1,  1,      3,      3,2,20180111,0816,-44.0015, 146.3207,  251,    243.0,  11.3548,  35.0425,2,-999.0000,9,    249.2,2,   -999.0,9,  -999.00,9,  -999.00,9,  -999.00,9,  -999.00,9,     -999,9, -999.000,9, -999.000,9,     -999,9,   -999.0,9,   -999.0,9,-999.0000,9,  -999.00,  -999.00,9,   -999.0,9,   -999.0,  -999.00,9,   0.00052,2,    0.013,2,    0.042,2,    0.000,2,   99.673,2
  096U20180111,  SR03,     1,  1,      2,      2,2,20180111,0816,-44.0015, 146.3207,  251,    243.0,  11.3578,  35.0429,2,-999.0000,9,    248.9,2,   -999.0,9,  -999.00,9,  -999.00,9,  -999.00,9,  -999.00,9,     -999,9, -999.000,9, -999.000,9,     -999,9,   -999.0,9,   -999.0,9,-999.0000,9,  -999.00,  -999.00,9,   -999.0,9,   -999.0,  -999.00,9,   0.00053,2,    0.013,2,    0.042,2,    0.000,2,   99.678,2