BOTTLE,20230418CCHSIOENA
EXPOCODE,SECT_ID,STNNBR,CASTNO,SAMPNO,BTLNBR,BTLNBR_FLAG_W,DATE,TIME,LATITUDE,LONGITUDE,DEPTH,CTDPRS,CTDTMP,CTDSAL,CTDSAL_FLAG_W,SALNTY,SALNTY_FLAG_W,CTDOXY,CTDOXY_FLAG_W,OXYGEN,OXYGEN_FLAG_W,SILCAT,SILCAT_FLAG_W,NITRAT,NITRAT_FLAG_W,NITRIT,NITRIT_FLAG_W,PHSPHT,PHSPHT_FLAG_W,NH4,NH4_FLAG_W,CFC-11,CFC-11_FLAG_W,CFC-12,CFC-12_FLAG_W,SF6,SF6_FLAG_W,TCARBN,TCARBN_FLAG_W,ALKALI,ALKALI_FLAG_W,PH_TOT,PH_TOT_FLAG_W,PH_TMP,N2O,N2O_FLAG_W,DELC14,DELC14_FLAG_W,C14ERR,DELC13,DELC13_FLAG_W,CTDBETA700,CTDBETA700_FLAG_W,CTDBEAMCP,CTDBEAMCP_FLAG_W,CTDFLUOR,CTDFLUOR_FLAG_W,PAR,PAR_FLAG_W,CTDXMISS,CTDXMISS_FLAG_W
,,,,,,,,,,,METERS,DBAR,ITS-90,PSS-78,,PSS-78,,UMOL/KG,,UMOL/KG,,UMOL/KG,,UMOL/KG,,UMOL/KG,,UMOL/KG,,UMOL/KG,,PMOL/KG,,PMOL/KG,,FMOL/KG,,UMOL/KG,,UMOL/KG,,,,DEG C,NMOL/KG,,/MILLE,,/MILLE,/MILLE,,VOLTS,,1/M,,MG/M^3,,UMOL/M^2/SEC,,%TRANS,
  096U20180111,  SR03,     8,  1,     36,     36,2,20180113,0107,-46.1693, 145.4722, 2713,     10.6,  15.5000,  35.3069,2,-999.0000,9,    253.5,2,   -999.0,9,  -999.00,9,  -999.00,9,  -999.00,9,  -999.00,9,     -999,9, -999.000,9, -999.000,9,     -999,9,   -999.0,9,   -999.0,9,-999.0000,9,  -999.00,  -999.00,9,   -999.0,9,   -999.0,  -999.00,9,   0.00220,2,    0.281,2,    0.906,2,  536.000,2,   93.209,2
  096U20180111,  SR03,     8,  1,     35,     35,2,20180113,0107,-46.1693, 145.4722, 2713,     10.5,  15.4948,  35.3069,2,  35.3081,2,    253.5,2,    255.5,2,     0.00,2,     0.09,2,     0.02,2,     0.14,2,     0.03,2,    2.446,2,    1.477,2,     1.81,2,   2062.2,6,   2327.3,6,-999.0000,9,  -999.00,     8.60,2,   -999.0,9,   -999.0,  -999.00,9,   0.00211,2,    0.279,2,    1.170,2,  590.000,2,   93.272,2
  096U20180111,  SR03,     8,  1,     34,     34,2,20180113,0107,-46.1693, 145.4722, 2713,     35.8,  15.1875,  35.3167,2,-999.0000,9,    254.2,2,   -999.0,9,  -999.00,9,  -999.00,9,  -999.00,9,  -999.00,9,     -999,9, -999.000,9, -999.000,9,     -999,9,   -999.0,9,   -999.0,9,-999.0000,9,  -999.00,  -999.00,9,   -999.0,9,   -999.0,  -999.00,9,   0.00247,2,    0.259,2,    3.198,2,    7.900,2,   93.719,2
  096U20180111,  SR03,     8,  1,     33,     33,2,20180113,0107,-46.1693, 145.4722, 2713,     35.7,  15.1865,  35.3169,2,  35.3178,2,    254.2,2,    254.7,2,     0.00,2,     0.79,2,     0.07,2,     0.20,2,     0.27,2,    2.460,6,    1.482,6,      1.9,6,   2070.6,2,   2329.4,2,-999.0000,9,  -999.00,     8.54,6,   -999.0,9,   -999.0,  -999.00,9,   0.00237,2,    0.260,2,    3.126,2,   16.300,2,   93.709,2
  096U20180111,  SR03,     8,  1,     32,     32,2,20180113,0107,-46.1693, 145.4722, 2713,     49.4,  15.0689,  35.3211,2,  35.3224,2,    252.1,2,    250.0,2,     0.20,2,     1.51,2,     0.11,2,     0.26,2,     0.52,2, -999.000,9, -999.000,9,     -999,9,   2076.6,2,   2329.3,2,-999.0000,9,  -999.00,  -999.00,9,   -999.0,9,   -999.0,  -999.00,9,   0.00203,2,    0.176,2,    2.256,2,    1.820,2,   95.690,2
  096U20180111,  SR03,     8,  1,     31,     31,2,20180113,0107,-46.1693, 145.4722, 2713,     75.4,  13.7863,  35.2703,2,  35.2676,2,    238.5,2,    234.0,2,     1.90,2,     6.67,2,     0.29,2,     0.58,2,      0.1,2,    2.579,2,    1.535,2,     1.95,2,   2102.6,2,   2322.9,2,-999.0000,9,  -999.00,     9.62,2,   -999.0,9,   -999.0,  -999.00,9,   0.00094,2,    0.048,2,    0.150,2,    1.210,2,   98.811,2
  096U20180111,  SR03,     8,  1,     30,     30,2,20180113,0107,-46.1693, 145.4722, 2713,    100.7,  12.8189,  35.2208,2,-999.0000,9,    233.4,2,   -999.0,9,  -999.00,9,  -999.00,9,  -999.00,9,  -999.00,9,     -999,9, -999.000,9, -999.000,9,     -999,9,   -999.0,9,   -999.0,9,-999.0000,9,  -999.00,  -999.00,9,   -999.0,9,   -999.0,  -999.00,9,   0.00076,2,    0.031,2,    0.078,2,    0.071,2,   99.223,2
  096U20180111,  SR03,     8,  1,     29,     29,2,20180113,0107,-46.1693, 145.4722, 2713,    100.7,  12.8272,  35.2213,2,  35.2118,2,    233.4,2,    230.8,2,     2.60,2,     8.95,2,     0.05,2,     0.69,2,    -0.01,2,    2.654,2,    1.586,2,     1.76,2,   2115.1,2,   2319.1,6,-999.0000,9,  -999.00,    10.39,2,   -999.0,9,   -999.0,  -999.00,9,   0.00071,2,    0.031,2,    0.072,2,    0.065,2,   99.233,2
  096U20180111,  SR03,     8,  1,     28,     28,2,20180113,0107,-46.1693, 145.4722, 2713,    150.5,  11.9300,  35.1089,2,-999.0000,9,    241.0,2,   -999.0,9,  -999.00,9,  -999.00,9,  -999.00,9,  -999.00,9,     -999,9, -999.000,9, -999.000,9,     -999,9,   -999.0,9,   -999.0,9,-999.0000,9,  -999.00,  -999.00,9,   -999.0,9,   -999.0,  -999.00,9,   0.00064,2,    0.026,2,    0.060,2,    0.031,2,   99.346,2
  096U20180111,  SR03,     8,  1,     27,     27,2,20180113,0107,-46.1693, 145.4722, 2713,    150.4,  11.9032,  35.1043,2,  35.1044,2,    241.0,2,    239.1,2,     2.70,2,     9.89,2,     0.03,2,     0.74,2,    -0.01,2,    2.781,2,    1.650,2,     1.94,2,   2120.8,2,   2315.5,2,-999.0000,9,  -999.00,    10.26,2,   -999.0,9,   -999.0,  -999.00,9,   0.00067,2,    0.026,2,    0.066,2,    0.032,2,   99.353,2
  096U20180111,  SR03,     8,  1,     26,     26,2,20180113,0107,-46.1693, 145.4722, 2713,    200.2,  11.1040,  34.9665,2,-999.0000,9,    248.6,2,   -999.0,9,  -999.00,9,  -999.00,9,  -999.00,9,  -999.00,9,     -999,9, -999.000,9, -999.000,9,     -999,9,   -999.0,9,   -999.0,9,-999.0000,9,  -999.00,  -999.00,9,   -999.0,9,   -999.0,  -999.00,9,   0.00071,2,    0.026,2,    0.048,2,    0.000,2,   99.360,2
  096U20180111,  SR03,     8,  1,     25,     25,2,20180113,0107,-46.1693, 145.4722, 2713,    200.0,  11.0989,  34.9657,2,  34.9677,2,    248.6,2,    251.6,2,     2.70,2,    10.73,2,     0.02,2,     0.79,2,    -0.01,2,    2.927,2,    1.738,2,     1.81,2,   2120.8,2,   2310.1,2,-999.0000,9,  -999.00,    10.05,2,   -999.0,9,   -999.0,  -999.00,9,   0.00075,2,    0.026,2,    0.042,2,    0.000,2,   99.349,2
  096U20180111,  SR03,     8,  1,     24,     24,2,20180113,0107,-46.1693, 145.4722, 2713,    250.2,  10.6213,  34.9010,2,-999.0000,9,    248.6,2,   -999.0,9,  -999.00,9,  -999.00,9,  -999.00,9,  -999.00,9,     -999,9, -999.000,9, -999.000,9,     -999,9,   -999.0,9,   -999.0,9,-999.0000,9,  -999.00,  -999.00,9,   -999.0,9,   -999.0,  -999.00,9,   0.00068,2,    0.021,2,    0.036,2,    0.000,2,   99.479,2
  096U20180111,  SR03,     8,  1,     23,     23,2,20180113,0107,-46.1693, 145.4722, 2713,    250.1,  10.6371,  34.9038,2,  34.9071,2,    248.6,2,    250.6,2,     3.10,2,    11.83,2,     0.02,2,     0.87,2,    -0.01,2,    2.959,2,    1.744,2,      2.2,2,   2122.9,6,   2306.0,6,-999.0000,9,  -999.00,    10.23,2,   -999.0,9,   -999.0,  -999.00,9,   0.00069,2,    0.021,2,    0.036,2,    0.000,2,   99.476,2
  096U20180111,  SR03,     8,  1,     22,     22,2,20180113,0107,-46.1693, 145.4722, 2713,    351.0,   9.6727,  34.7371,2,-999.0000,9,    251.1,2,   -999.0,9,  -999.00,9,  -999.00,9,  -999.00,9,  -999.00,9,     -999,9, -999.000,9, -999.000,9,     -999,9,   -999.0,9,   -999.0,9,-999.0000,9,  -999.00,  -999.00,9,   -999.0,9,   -999.0,  -999.00,9,   0.00056,2,    0.014,2,    0.036,2,    0.000,2,   99.645,2
  096U20180111,  SR03,     8,  1,     21,     21,2,20180113,0107,-46.1693, 145.4722, 2713,    350.9,   9.6718,  34.7371,2,  34.7362,2,    251.1,2,    250.0,2,     4.00,2,    14.59,2,     0.01,2,     1.04,2,    -0.01,2,    3.089,2,    1.804,2,     2.13,2,   2129.6,2,   2299.8,2,-999.0000,9,  -999.00,    11.12,2,   -999.0,9,   -999.0,  -999.00,9,   0.00053,2,    0.014,2,    0.030,2,    0.000,2,   99.642,2
  096U20180111,  SR03,     8,  1,     20,     20,2,20180113,0107,-46.1693, 145.4722, 2713,    449.6,   9.0315,  34.6327,2,  34.6340,2,    250.2,2,    254.0,2,     4.40,2,    15.88,2,     0.01,2,     1.11,2,    -0.01,2,    3.221,2,    1.859,2,     2.08,2,   2132.2,2,   2296.4,2,-999.0000,9,  -999.00,    11.36,2,   -999.0,9,   -999.0,  -999.00,9,   0.00054,2,    0.012,2,    0.024,2,    0.000,2,   99.694,2
  096U20180111,  SR03,     8,  1,     19,     19,2,20180113,0107,-46.1693, 145.4722, 2713,    550.2,   8.7674,  34.6007,2,  34.6010,2,    240.1,2,    241.9,2,     5.90,2,    17.77,2,     0.01,2,     1.23,2,    -0.01,2,    3.100,2,    1.773,2,     2.21,2,   2140.1,2,   2294.6,2,-999.0000,9,  -999.00,    12.37,2,   -999.0,9,   -999.0,  -999.00,9,   0.00050,2,    0.011,2,    0.030,2,    0.000,2,   99.723,2
  096U20180111,  SR03,     8,  1,     18,     18,2,20180113,0107,-46.1693, 145.4722, 2713,    650.4,   8.1487,  34.5302,2,  34.5311,2,    230.9,2,    227.8,2,     8.60,2,    20.62,2,     0.01,2,     1.42,2,    -0.01,2,    2.915,2,    1.640,2,     1.26,2,   2149.7,2,   2291.8,2,-999.0000,9,  -999.00,    13.82,2,   -999.0,9,   -999.0,  -999.00,9,   0.00044,2,    0.009,2,    0.030,2,    0.000,2,   99.779,2
  096U20180111,  SR03,     8,  1,     17,     17,2,20180113,0107,-46.1693, 145.4722, 2713,    750.5,   7.4792,  34.4970,2,  34.4982,2,    205.2,2,    204.9,2,    13.80,2,    24.02,2,     0.01,2,     1.63,2,    -0.01,2,    2.361,2,    1.281,2,     0.81,2,   2164.2,2,   2293.8,2,-999.0000,9,  -999.00,    16.03,2,   -999.0,9,   -999.0,  -999.00,9,   0.00045,2,    0.007,2,    0.030,2,    0.000,2,   99.829,2
  096U20180111,  SR03,     8,  1,     16,     16,2,20180113,0107,-46.1693, 145.4722, 2713,    850.9,   6.7475,  34.4732,2,  34.4742,2,    194.5,2,    194.0,2,    20.40,2,    26.39,2,     0.01,2,     1.79,2,        0,2,    1.649,2,    0.872,2,     0.54,2,   2178.1,2,   2297.4,2,-999.0000,9,  -999.00,    17.89,2,   -999.0,9,   -999.0,  -999.00,9,   0.00041,2,    0.006,2,    0.036,2,    0.000,2,   99.842,2
  096U20180111,  SR03,     8,  1,     15,     15,2,20180113,0107,-46.1693, 145.4722, 2713,   1000.4,   5.3405,  34.3927,2,-999.0000,9,    195.0,2,   -999.0,9,  -999.00,9,  -999.00,9,  -999.00,9,  -999.00,9,     -999,9, -999.000,9, -999.000,9,     -999,9,   -999.0,9,   -999.0,9,-999.0000,9,  -999.00,  -999.00,9,   -999.0,9,   -999.0,  -999.00,9,   0.00042,2,    0.005,2,    0.036,2,    0.000,2,   99.882,2
  096U20180111,  SR03,     8,  1,     14,     14,2,20180113,0107,-46.1693, 145.4722, 2713,   1000.5,   5.3303,  34.3927,2,  34.3940,2,    195.0,2,    195.6,2,    29.50,2,    29.36,2,     0.00,2,     1.99,2,    -0.01,2,    1.749,2,    0.910,2,     0.57,2,   2193.6,2,   2302.0,2,-999.0000,9,  -999.00,    18.62,2,   -999.0,9,   -999.0,  -999.00,9,   0.00040,2,    0.005,2,    0.036,2,    0.000,2,   99.884,2
  096U20180111,  SR03,     8,  1,     13,     13,2,20180113,0107,-46.1693, 145.4722, 2713,   1149.9,   4.4358,  34.4259,2,  34.4268,2,    181.2,2,    182.3,2,    45.70,2,    31.67,2,     0.00,2,     2.17,2,    -0.01,2,    1.058,2,    0.548,2,     0.14,2,   2219.0,2,   2318.5,2,-999.0000,9,  -999.00,    20.00,2,   -999.0,9,   -999.0,  -999.00,9,   0.00040,2,    0.004,2,    0.036,2,    0.000,2,   99.895,2
  096U20180111,  SR03,     8,  1,     12,     12,2,20180113,0107,-46.1693, 145.4722, 2713,   1300.8,   3.7410,  34.4770,2,  34.5248,4,    171.4,2,    170.6,2,    61.10,2,    33.22,2,     0.00,2,     2.30,2,    -0.01,2,    0.644,2,    0.330,2,      0.1,2,   2239.4,2,   2334.6,2,-999.0000,9,  -999.00,    20.94,2,   -999.0,9,   -999.0,  -999.00,9,   0.00038,2,    0.004,2,    0.036,2,    0.000,2,   99.912,2
  096U20180111,  SR03,     8,  1,     11,     11,2,20180113,0107,-46.1693, 145.4722, 2713,   1451.0,   3.1966,  34.5205,2,  34.5218,2,    165.4,2,    164.9,2,    71.30,2,    34.10,2,     0.00,2,     2.36,2,    -0.01,2, -999.000,5, -999.000,5,     -999,5,   2253.6,2,   2343.3,2,-999.0000,9,  -999.00,  -999.00,5,   -999.0,9,   -999.0,  -999.00,9,   0.00040,2,    0.003,2,    0.042,2,    0.000,2,   99.929,2
  096U20180111,  SR03,     8,  1,     10,     10,2,20180113,0107,-46.1693, 145.4722, 2713,   1600.6,   2.8239,  34.5763,2,  34.5772,2,    163.8,2,    163.7,2,    78.10,2,    34.09,2,     0.00,2,     2.35,2,    -0.01,2,    0.340,2,    0.171,2,     0.06,2,   2262.8,2,   2349.6,2,-999.0000,9,  -999.00,    21.60,2,   -999.0,9,   -999.0,  -999.00,9,   0.00037,2,    0.002,2,    0.048,2,    0.000,2,   99.939,2
  096U20180111,  SR03,     8,  1,      9,      9,2,20180113,0107,-46.1693, 145.4722, 2713,   1800.8,   2.5537,  34.6320,2,  34.6318,2,    167.8,2,    167.8,2,    81.00,2,    33.51,2,     0.00,2,     2.31,2,    -0.01,2,    0.244,2,    0.122,2,     0.01,2,   2262.2,2,   2351.7,2,-999.0000,9,  -999.00,    21.01,2,   -999.0,9,   -999.0,  -999.00,9,   0.00039,2,    0.002,2,    0.048,2,    0.000,2,   99.942,2
  096U20180111,  SR03,     8,  1,      8,      8,2,20180113,0107,-46.1693, 145.4722, 2713,   2000.5,   2.3769,  34.6757,2,  34.6765,2,    172.5,2,    172.6,2,    84.00,2,    32.80,2,     0.00,2,     2.27,2,    -0.01,2,    0.171,2,    0.086,2,        0,2,   2262.0,2,   2355.2,2,-999.0000,9,  -999.00,    20.47,2,   -999.0,9,   -999.0,  -999.00,9,   0.00038,2,    0.003,2,    0.042,2,    0.000,2,   99.935,2
  096U20180111,  SR03,     8,  1,      7,      7,2,20180113,0107,-46.1693, 145.4722, 2713,   2201.0,   2.2041,  34.7087,2,  34.7098,2,    176.0,2,    175.9,2,    90.10,2,    32.37,2,     0.00,2,     2.24,2,    -0.01,2,    0.099,2,    0.049,2,     0.02,2,   2263.2,2,   2361.3,6,-999.0000,9,  -999.00,    19.82,2,   -999.0,9,   -999.0,  -999.00,9,   0.00039,2,    0.003,2,    0.048,2,    0.000,2,   99.930,2
  096U20180111,  SR03,     8,  1,      6,      6,2,20180113,0107,-46.1693, 145.4722, 2713,   2400.6,   2.0332,  34.7247,2,  34.7260,2,    179.8,2,    179.5,2,    96.00,2,    32.11,2,     0.01,2,     2.23,2,    -0.01,2,    0.056,2,    0.023,2,    -0.01,2,   -999.0,9,   -999.0,9,-999.0000,9,  -999.00,    19.42,2,   -999.0,9,   -999.0,  -999.00,9,   0.00040,2,    0.003,2,    0.048,2,    0.000,2,   99.915,2
  096U20180111,  SR03,     8,  1,      5,      5,2,20180113,0107,-46.1693, 145.4722, 2713,   2550.1,   1.8600,  34.7306,2,  34.7323,2,    182.9,2,    182.8,2,   101.40,2,    32.06,2,     0.00,2,     2.22,2,    -0.01,2,    0.032,2,    0.015,2,    -0.01,2,   2268.4,2,   2370.5,2,-999.0000,9,  -999.00,    18.71,2,   -999.0,9,   -999.0,  -999.00,9,   0.00046,2,    0.005,2,    0.042,2,    0.000,2,   99.863,2
  096U20180111,  SR03,     8,  1,      4,      4,2,20180113,0107,-46.1693, 145.4722, 2713,   2700.9,   1.7210,  34.7325,2,  34.7338,2,    186.1,2,    185.6,2,   105.20,2,    31.98,2,     0.01,2,     2.22,2,    -0.01,2,    0.021,2,    0.009,2,     0.04,2,   2270.7,6,   2374.6,6,-999.0000,9,  -999.00,    18.50,2,   -999.0,9,   -999.0,  -999.00,9,   0.00079,2,    0.012,2,    0.042,2,    0.000,2,   99.694,2
  096U20180111,  SR03,     8,  1,      3,      3,2,20180113,0107,-46.1693, 145.4722, 2713,   2700.8,   1.7207,  34.7325,2,-999.0000,9,    186.1,2,   -999.0,9,  -999.00,9,  -999.00,9,  -999.00,9,  -999.00,9,     -999,9, -999.000,9, -999.000,9,     -999,9,   -999.0,9,   -999.0,9,-999.0000,9,  -999.00,  -999.00,9,   -999.0,9,   -999.0,  -999.00,9,   0.00082,2,    0.013,2,    0.042,2,    0.000,2,   99.689,2
  096U20180111,  SR03,     8,  1,      2,      2,2,20180113,0107,-46.1693, 145.4722, 2713,   2754.5,   1.6739,  34.7326,2,  34.7335,2,    187.6,2,    186.8,2,   105.90,2,    32.01,2,     0.00,2,     2.21,2,    -0.01,2,    0.023,2,    0.002,2,        0,2,   2269.3,2,   2374.7,2,-999.0000,9,  -999.00,    18.66,2,   -999.0,9,   -999.0,  -999.00,9,   0.00067,2,    0.010,2,    0.048,2,    0.000,2,   99.756,2
  096U20180111,  SR03,     8,  1,      1,      1,2,20180113,0107,-46.1693, 145.4722, 2713,   2754.6,   1.6740,  34.7327,2,-999.0000,9,    187.6,2,   -999.0,9,  -999.00,9,  -999.00,9,  -999.00,9,  -999.00,9,     -999,9, -999.000,9, -999.000,9,     -999,9,   -999.0,9,   -999.0,9,-999.0000,9,  -999.00,  -999.00,9,   -999.0,9,   -999.0,  -999.00,9,   0.00061,2,    0.010,2,    0.042,2,    0.000,2,   99.754,2