BOTTLE,20230418CCHSIOENA
EXPOCODE,SECT_ID,STNNBR,CASTNO,SAMPNO,BTLNBR,BTLNBR_FLAG_W,DATE,TIME,LATITUDE,LONGITUDE,DEPTH,CTDPRS,CTDTMP,CTDSAL,CTDSAL_FLAG_W,SALNTY,SALNTY_FLAG_W,CTDOXY,CTDOXY_FLAG_W,OXYGEN,OXYGEN_FLAG_W,SILCAT,SILCAT_FLAG_W,NITRAT,NITRAT_FLAG_W,NITRIT,NITRIT_FLAG_W,PHSPHT,PHSPHT_FLAG_W,NH4,NH4_FLAG_W,CFC-11,CFC-11_FLAG_W,CFC-12,CFC-12_FLAG_W,SF6,SF6_FLAG_W,TCARBN,TCARBN_FLAG_W,ALKALI,ALKALI_FLAG_W,PH_TOT,PH_TOT_FLAG_W,PH_TMP,N2O,N2O_FLAG_W,DELC14,DELC14_FLAG_W,C14ERR,DELC13,DELC13_FLAG_W,CTDBETA700,CTDBETA700_FLAG_W,CTDBEAMCP,CTDBEAMCP_FLAG_W,CTDFLUOR,CTDFLUOR_FLAG_W,PAR,PAR_FLAG_W,CTDXMISS,CTDXMISS_FLAG_W
,,,,,,,,,,,METERS,DBAR,ITS-90,PSS-78,,PSS-78,,UMOL/KG,,UMOL/KG,,UMOL/KG,,UMOL/KG,,UMOL/KG,,UMOL/KG,,UMOL/KG,,PMOL/KG,,PMOL/KG,,FMOL/KG,,UMOL/KG,,UMOL/KG,,,,DEG C,NMOL/KG,,/MILLE,,/MILLE,/MILLE,,VOLTS,,1/M,,MG/M^3,,UMOL/M^2/SEC,,%TRANS,
  096U20180111,  SR03,    11,  1,     36,     36,2,20180115,2020,-47.4698, 144.8993, 4389,     10.9,  10.9728,  34.4319,2,  34.4312,2,    277.9,2,    277.2,2,     0.40,2,    10.33,2,     0.24,2,     0.83,2,     0.14,2, -999.000,9, -999.000,9,     -999,9,   2090.3,2,   2291.3,2,-999.0000,9,  -999.00,  -999.00,9,      4.0,6,      2.4,     1.47,6,   0.00150,2,    0.180,2,    0.390,2,  389.000,2,   95.603,2
  096U20180111,  SR03,    11,  1,     35,     35,2,20180115,2020,-47.4698, 144.8993, 4389,     25.5,  10.9748,  34.4323,2,  34.4316,2,    277.8,2,    277.4,2,     0.40,2,    10.34,2,     0.24,2,     0.84,2,     0.14,2,    3.098,2,    1.788,2,     2.35,2,   2089.7,6,   2290.9,6,-999.0000,9,  -999.00,     9.76,2,   -999.0,9,   -999.0,  -999.00,9,   0.00139,2,    0.182,2,    0.918,2,  117.000,2,   95.559,2
  096U20180111,  SR03,    11,  1,     34,     34,2,20180115,2020,-47.4698, 144.8993, 4389,     39.0,  10.9358,  34.4290,2,-999.0000,9,    279.0,2,   -999.0,9,  -999.00,9,  -999.00,9,  -999.00,9,  -999.00,9,     -999,9, -999.000,9, -999.000,9,     -999,9,   -999.0,9,   -999.0,9,-999.0000,9,  -999.00,  -999.00,9,   -999.0,9,   -999.0,  -999.00,9,   0.00149,2,    0.181,2,    1.560,2,   50.300,2,   95.566,2
  096U20180111,  SR03,    11,  1,     33,     33,2,20180115,2020,-47.4698, 144.8993, 4389,     39.1,  10.9342,  34.4288,2,  34.4278,2,    278.7,2,    277.2,2,     0.40,2,    10.40,2,     0.24,2,     0.84,2,     0.18,2,    3.127,2,    1.815,2,     2.37,2,   2090.0,2,   2291.8,6,-999.0000,9,  -999.00,    10.20,2,      1.5,6,      1.8,     1.55,6,   0.00149,2,    0.182,2,    1.554,2,   47.400,2,   95.549,2
  096U20180111,  SR03,    11,  1,     32,     32,2,20180115,2020,-47.4698, 144.8993, 4389,     75.4,   9.2516,  34.4689,2,-999.0000,9,    271.4,2,   -999.0,9,  -999.00,9,  -999.00,9,  -999.00,9,  -999.00,9,     -999,9, -999.000,9, -999.000,9,     -999,9,   -999.0,9,   -999.0,9,-999.0000,9,  -999.00,  -999.00,9,   -999.0,9,   -999.0,  -999.00,9,   0.00127,2,    0.054,2,    0.702,2,    4.510,2,   98.668,2
  096U20180111,  SR03,    11,  1,     31,     31,2,20180115,2020,-47.4698, 144.8993, 4389,    100.5,   8.9056,  34.5520,2,  34.5515,2,    270.7,2,    270.0,2,     3.70,2,    15.05,2,     0.05,2,     1.09,2,    -0.01,2,    3.359,6,    1.922,6,     2.43,6,   2124.4,2,   2291.8,2,-999.0000,9,  -999.00,    10.85,6,     10.5,6,      3.8,     1.06,6,   0.00102,2,    0.031,2,    0.234,2,    1.410,2,   99.222,2
  096U20180111,  SR03,    11,  1,     30,     30,2,20180115,2020,-47.4698, 144.8993, 4389,    124.8,   8.8454,  34.5518,2,  34.5566,2,    270.9,2,    270.8,2,     3.70,2,    15.00,2,     0.03,2,     1.08,2,    -0.01,2, -999.000,9, -999.000,9,     -999,9,   -999.0,9,   -999.0,9,-999.0000,9,  -999.00,  -999.00,9,   -999.0,9,   -999.0,  -999.00,9,   0.00086,2,    0.024,2,    0.138,2,    0.633,2,   99.401,2
  096U20180111,  SR03,    11,  1,     29,     29,2,20180115,2020,-47.4698, 144.8993, 4389,    150.6,   8.8769,  34.5689,2,  34.5705,2,    268.3,2,    270.0,2,     3.70,2,    14.94,2,     0.03,2,     1.08,2,    -0.01,2, -999.000,9, -999.000,9,     -999,9,   -999.0,9,   -999.0,9,-999.0000,9,  -999.00,  -999.00,9,   -999.0,9,   -999.0,  -999.00,9,   0.00075,2,    0.020,2,    0.084,2,    0.257,2,   99.508,2
  096U20180111,  SR03,    11,  1,     28,     28,2,20180115,2020,-47.4698, 144.8993, 4389,    200.2,   9.1100,  34.6416,2,  34.6423,2,    265.7,2,    266.2,2,     3.60,2,    14.37,2,     0.02,2,     1.04,2,    -0.01,2,    3.280,2,    1.895,2,     2.52,2,   2127.2,2,   2295.0,2,-999.0000,9,  -999.00,    11.40,2,     15.5,6,      1.9,     1.02,6,   0.00067,2,    0.016,2,    0.036,2,    0.032,2,   99.588,2
  096U20180111,  SR03,    11,  1,     27,     27,2,20180115,2020,-47.4698, 144.8993, 4389,    249.6,   9.0558,  34.6388,2,  34.6377,2,    266.7,2,    266.3,2,     3.60,2,    14.56,2,     0.02,2,     1.05,2,    -0.01,2,    3.272,2,    1.874,2,     2.18,2,   2125.3,2,   2294.7,2,-999.0000,9,  -999.00,    10.94,2,     16.4,6,      1.7,     1.01,6,   0.00069,2,    0.014,2,    0.030,2,    0.000,2,   99.664,2
  096U20180111,  SR03,    11,  1,     26,     26,2,20180115,2020,-47.4698, 144.8993, 4389,    300.2,   9.0761,  34.6463,2,  34.6459,2,    266.6,2,    267.0,2,     3.70,2,    14.54,2,     0.02,2,     1.05,2,    -0.01,2, -999.000,9, -999.000,9,     -999,9,   -999.0,9,   -999.0,9,-999.0000,9,  -999.00,  -999.00,9,   -999.0,9,   -999.0,  -999.00,9,   0.00060,2,    0.013,2,    0.030,2,    0.000,2,   99.684,2
  096U20180111,  SR03,    11,  1,     25,     25,2,20180115,2020,-47.4698, 144.8993, 4389,    400.0,   8.9480,  34.6233,2,  34.6232,2,    267.3,2,    267.9,2,     3.70,2,    14.65,2,     0.02,2,     1.06,2,    -0.01,2,    3.299,2,    1.881,2,     2.23,2,   2126.7,6,   2294.8,6,-999.0000,9,  -999.00,    10.90,2,     20.5,2,      2.4,     1.05,2,   0.00054,2,    0.009,2,    0.036,2,    0.000,2,   99.763,2
  096U20180111,  SR03,    11,  1,     24,     24,2,20180115,2020,-47.4698, 144.8993, 4389,    500.0,   8.8019,  34.5965,2,  34.5976,2,    263.5,2,    266.0,2,     3.90,2,    15.25,2,     0.02,2,     1.10,2,    -0.01,2, -999.000,9, -999.000,9,     -999,9,   -999.0,9,   -999.0,9,-999.0000,9,  -999.00,  -999.00,9,   -999.0,9,   -999.0,  -999.00,9,   0.00055,2,    0.008,2,    0.030,2,    0.000,2,   99.791,2
  096U20180111,  SR03,    11,  1,     23,     23,2,20180115,2020,-47.4698, 144.8993, 4389,    600.3,   8.2420,  34.5150,2,  34.5179,2,    266.6,2,    267.6,2,     4.70,2,    16.86,2,     0.02,2,     1.20,2,    -0.01,2,    3.395,2,    1.928,2,     2.55,2,   2131.9,2,   2290.0,2,-999.0000,9,  -999.00,    11.45,2,     10.0,6,      1.7,     1.06,6,   0.00048,2,    0.006,2,    0.024,2,    0.000,2,   99.860,2
  096U20180111,  SR03,    11,  1,     22,     22,2,20180115,2020,-47.4698, 144.8993, 4389,    700.1,   7.3803,  34.3889,2,  34.3889,2,    262.0,2,    262.0,2,     6.60,2,    19.88,2,     0.02,2,     1.38,2,    -0.01,2, -999.000,9, -999.000,9,     -999,9,   -999.0,9,   -999.0,9,-999.0000,9,  -999.00,  -999.00,9,   -999.0,9,   -999.0,  -999.00,9,   0.00045,2,    0.005,2,    0.024,2,    0.000,2,   99.878,2
  096U20180111,  SR03,    11,  1,     21,     21,2,20180115,2020,-47.4698, 144.8993, 4389,    800.0,   6.8174,  34.3688,2,  34.3689,2,    234.6,2,    234.7,2,    11.60,2,    23.59,2,     0.01,2,     1.61,2,    -0.01,2,    3.129,2,    1.723,2,     1.52,2,   2157.1,2,   2288.2,2,-999.0000,9,  -999.00,    14.58,2,    -14.4,6,      1.9,     0.99,6,   0.00045,2,    0.004,2,    0.030,2,    0.000,2,   99.901,2
  096U20180111,  SR03,    11,  1,     20,     20,2,20180115,2020,-47.4698, 144.8993, 4389,    900.6,   6.1900,  34.3714,2,  34.3713,2,    217.5,2,    215.2,2,    17.70,2,    26.34,2,     0.01,2,     1.79,2,    -0.01,2, -999.000,9, -999.000,9,     -999,9,   -999.0,9,   -999.0,9,-999.0000,9,  -999.00,  -999.00,9,   -999.0,9,   -999.0,  -999.00,9,   0.00045,2,    0.004,2,    0.036,2,    0.000,2,   99.905,2
  096U20180111,  SR03,    11,  1,     19,     19,2,20180115,2020,-47.4698, 144.8993, 4389,   1001.7,   5.1602,  34.3250,2,  34.3240,2,    204.9,2,    213.0,2,    23.80,2,    28.84,2,     0.01,2,     1.96,2,    -0.01,2,    2.715,2,    1.439,2,     1.16,2,   2185.2,2,   2297.6,2,-999.0000,9,  -999.00,    18.08,2,   -999.0,9,   -999.0,  -999.00,9,   0.00048,2,    0.004,2,    0.036,2,    0.000,2,   99.906,2
  096U20180111,  SR03,    11,  1,     18,     18,2,20180115,2020,-47.4698, 144.8993, 4389,   1201.6,   3.9741,  34.3590,2,  34.3569,2,    200.8,2,    196.8,2,    41.00,2,    31.97,2,     0.01,2,     2.20,2,    -0.01,2, -999.000,9, -999.000,9,     -999,9,   -999.0,9,   -999.0,9,-999.0000,9,  -999.00,  -999.00,9,   -999.0,9,   -999.0,  -999.00,9,   0.00041,2,    0.002,2,    0.036,2,    0.000,2,   99.953,2
  096U20180111,  SR03,    11,  1,     17,     17,2,20180115,2020,-47.4698, 144.8993, 4389,   1401.1,   3.3081,  34.4311,2,  34.4297,2,    181.2,2,    181.4,2,    55.90,2,    33.71,2,     0.01,2,     2.32,2,    -0.01,2,    1.217,2,    0.636,2,     0.51,2,   2236.1,2,   2322.2,2,-999.0000,9,  -999.00,    22.14,2,   -115.0,2,      2.5,     0.57,2,   0.00039,2,    0.001,2,    0.042,2,    0.000,2,   99.976,2
  096U20180111,  SR03,    11,  1,     16,     16,2,20180115,2020,-47.4698, 144.8993, 4389,   1601.7,   2.9208,  34.5170,2,  34.5160,2,    170.9,2,    171.4,2,    67.40,2,    34.22,2,     0.01,2,     2.36,2,    -0.01,2,    0.692,2,    0.358,2,     0.12,2,   2249.5,2,   2336.3,2,-999.0000,9,  -999.00,    21.77,2,   -133.6,2,      2.2,     0.47,2,   0.00038,2,    0.000,2,    0.042,2,    0.000,2,   99.993,2
  096U20180111,  SR03,    11,  1,     15,     15,2,20180115,2020,-47.4698, 144.8993, 4389,   1801.4,   2.6676,  34.5939,2,-999.0000,9,    170.7,2,   -999.0,9,    73.10,2,    33.79,2,     0.01,2,     2.33,2,    -0.01,2, -999.000,9, -999.000,9,     -999,9,   -999.0,9,   -999.0,9,-999.0000,9,  -999.00,  -999.00,9,   -999.0,9,   -999.0,  -999.00,9,   0.00041,2,    0.000,2,    0.042,2,    0.000,2,   99.992,2
  096U20180111,  SR03,    11,  1,     14,     14,2,20180115,2020,-47.4698, 144.8993, 4389,   2001.4,   2.5173,  34.6601,2,  34.6596,2,    175.9,2,    176.5,2,    75.50,2,    32.60,2,     0.01,2,     2.25,2,    -0.01,2, -999.000,9, -999.000,9,     -999,9,   -999.0,9,   -999.0,9,-999.0000,9,  -999.00,  -999.00,9,   -999.0,9,   -999.0,  -999.00,9,   0.00040,2,    0.000,2,    0.042,2,    0.000,2,  100.009,2
  096U20180111,  SR03,    11,  1,     13,     13,2,20180115,2020,-47.4698, 144.8993, 4389,   2250.8,   2.3240,  34.7125,2,  34.7125,2,    177.6,2,    178.6,2,    84.30,2,    31.95,2,     0.01,2,     2.22,2,    -0.01,2,    0.138,2,    0.069,2,     0.03,2,   2257.5,2,   2353.8,2,-999.0000,9,  -999.00,    21.31,2,   -157.2,2,      2.2,     0.45,2,   0.00037,2,   -0.001,2,    0.042,2,    0.000,2,  100.016,2
  096U20180111,  SR03,    11,  1,     12,     12,2,20180115,2020,-47.4698, 144.8993, 4389,   2502.1,   2.1550,  34.7273,2,  34.7269,2,    178.5,2,    178.0,2,    93.50,2,    32.14,2,     0.01,2,     2.23,2,    -0.01,2,    0.060,2,    0.021,2,     0.03,2,   2266.2,2,   2364.0,6,-999.0000,9,  -999.00,    19.82,2,   -168.7,2,      2.1,     0.43,2,   0.00035,2,   -0.001,2,    0.042,2,    0.000,2,  100.022,2
  096U20180111,  SR03,    11,  1,     11,     11,2,20180115,2020,-47.4698, 144.8993, 4389,   2750.8,   1.9719,  34.7352,2,  34.7348,2,    182.8,2,    182.3,2,    98.70,2,    31.96,2,     0.01,2,     2.22,2,    -0.01,2,    0.038,2,    0.013,2,    -0.02,2,   2266.3,2,   2369.0,2,-999.0000,9,  -999.00,    19.80,2,   -166.7,2,      2.4,     0.40,2,   0.00035,2,   -0.001,2,    0.036,2,    0.000,2,  100.032,2
  096U20180111,  SR03,    11,  1,     10,     10,2,20180115,2020,-47.4698, 144.8993, 4389,   2988.2,   1.8000,  34.7385,2,  34.7376,2,    188.3,2,    189.2,2,   100.80,2,    31.60,2,     0.01,2,     2.19,2,    -0.01,2,    0.054,2,    0.027,2,     0.12,3,   2263.0,2,   2368.3,2,-999.0000,9,  -999.00,    19.20,2,   -167.7,2,      2.2,     0.43,2,   0.00034,2,   -0.002,2,    0.042,2,    0.000,2,  100.044,2
  096U20180111,  SR03,    11,  1,      9,      9,2,20180115,2020,-47.4698, 144.8993, 4389,   3250.4,   1.6158,  34.7352,2,  34.7352,2,    192.8,2,    193.5,2,   105.40,2,    31.62,2,     0.01,2,     2.20,2,    -0.01,2,    0.056,2,    0.022,2,    -0.02,2,   2264.7,2,   2370.1,2,-999.0000,9,  -999.00,    18.18,2,   -169.1,2,      2.5,     0.32,2,   0.00032,2,   -0.002,2,    0.042,2,    0.000,2,  100.044,2
  096U20180111,  SR03,    11,  1,      8,      8,2,20180115,2020,-47.4698, 144.8993, 4389,   3501.2,   1.4350,  34.7290,2,  34.7289,2,    195.7,2,    196.1,2,   111.00,2,    31.88,2,     0.01,2,     2.21,2,    -0.01,2,    0.043,2,    0.021,2,     0.07,2,   2267.6,2,   2373.1,2,-999.0000,9,  -999.00,    18.45,2,   -172.9,2,      1.6,     0.54,2,   0.00032,2,   -0.002,2,    0.036,2,    0.000,2,  100.044,2
  096U20180111,  SR03,    11,  1,      7,      7,2,20180115,2020,-47.4698, 144.8993, 4389,   3750.9,   1.3039,  34.7237,2,  34.7229,2,    198.6,2,    198.6,2,   114.30,2,    32.04,2,     0.01,2,     2.22,2,    -0.01,2,    0.053,2,    0.025,2,     0.03,2,   2269.3,2,   2375.3,2,-999.0000,9,  -999.00,    19.06,2,   -172.0,2,      1.7,     0.50,2,   0.00036,2,   -0.001,2,    0.042,2,    0.000,2,  100.026,2
  096U20180111,  SR03,    11,  1,      6,      6,2,20180115,2020,-47.4698, 144.8993, 4389,   3901.1,   1.0864,  34.7148,2,  34.7148,2,    202.0,2,    201.8,2,   119.80,2,    32.34,2,     0.01,2,     2.25,2,    -0.01,2,    0.056,2,    0.029,2,     0.04,2,   2271.5,2,   2380.0,2,-999.0000,9,  -999.00,    19.10,2,   -169.1,2,      2.1,     0.51,2,   0.00037,2,    0.001,2,    0.042,2,    0.000,2,   99.987,2
  096U20180111,  SR03,    11,  1,      5,      5,2,20180115,2020,-47.4698, 144.8993, 4389,   4001.2,   1.0333,  34.7123,2,  34.7122,2,    202.7,2,    202.2,2,   121.10,2,    32.44,2,     0.01,2,     2.25,2,    -0.01,2,    0.054,2,    0.027,2,     0.01,2,   2272.6,2,   2381.1,2,-999.0000,9,  -999.00,    17.78,2,   -168.0,2,      1.6,     0.49,2,   0.00036,2,    0.001,2,    0.042,2,    0.000,2,   99.978,2
  096U20180111,  SR03,    11,  1,      4,      4,2,20180115,2020,-47.4698, 144.8993, 4389,   4149.8,   1.0240,  34.7113,2,  34.7115,2,    203.0,2,    202.5,2,   121.60,2,    32.44,2,     0.01,2,     2.26,2,    -0.01,2,    0.057,2,    0.026,2,     0.06,2,   2274.0,2,   2381.8,2,-999.0000,9,  -999.00,    17.69,2,   -166.9,2,      1.6,     0.49,2,   0.00040,2,    0.003,2,    0.042,2,    0.000,2,   99.932,2
  096U20180111,  SR03,    11,  1,      3,      3,2,20180115,2020,-47.4698, 144.8993, 4389,   4350.1,   1.0405,  34.7110,2,  34.7112,2,    203.1,2,    202.5,2,   121.90,2,    32.47,2,     0.01,2,     2.26,2,        0,2,    0.057,2,    0.024,2,     0.14,2,   2273.5,6,   2382.4,6,-999.0000,9,  -999.00,    18.47,2,   -166.2,2,      1.7,     0.52,2,   0.00042,2,    0.004,2,    0.042,2,    0.000,2,   99.909,2
  096U20180111,  SR03,    11,  1,      2,      2,2,20180115,2020,-47.4698, 144.8993, 4389,   4472.2,   1.0549,  34.7110,2,-999.0000,9,    203.1,2,   -999.0,9,  -999.00,9,  -999.00,9,  -999.00,9,  -999.00,9,     -999,9, -999.000,9, -999.000,9,     -999,9,   -999.0,9,   -999.0,9,-999.0000,9,  -999.00,  -999.00,9,   -999.0,9,   -999.0,  -999.00,9,   0.00044,2,    0.004,2,    0.042,2,    0.000,2,   99.907,2
  096U20180111,  SR03,    11,  1,      1,      1,2,20180115,2020,-47.4698, 144.8993, 4389,   4472.2,   1.0548,  34.7109,2,  34.7109,2,    203.1,2,    203.3,2,   121.80,2,    32.46,2,     0.01,2,     2.25,2,    -0.01,2,    0.053,2,    0.028,2,     0.13,2,   2273.4,2,   2381.6,2,-999.0000,9,  -999.00,    18.21,2,   -170.6,2,      1.7,     0.51,2,   0.00042,2,    0.004,2,    0.036,2,    0.000,2,   99.907,2