BOTTLE,20230418CCHSIOENA
EXPOCODE,SECT_ID,STNNBR,CASTNO,SAMPNO,BTLNBR,BTLNBR_FLAG_W,DATE,TIME,LATITUDE,LONGITUDE,DEPTH,CTDPRS,CTDTMP,CTDSAL,CTDSAL_FLAG_W,SALNTY,SALNTY_FLAG_W,CTDOXY,CTDOXY_FLAG_W,OXYGEN,OXYGEN_FLAG_W,SILCAT,SILCAT_FLAG_W,NITRAT,NITRAT_FLAG_W,NITRIT,NITRIT_FLAG_W,PHSPHT,PHSPHT_FLAG_W,NH4,NH4_FLAG_W,CFC-11,CFC-11_FLAG_W,CFC-12,CFC-12_FLAG_W,SF6,SF6_FLAG_W,TCARBN,TCARBN_FLAG_W,ALKALI,ALKALI_FLAG_W,PH_TOT,PH_TOT_FLAG_W,PH_TMP,N2O,N2O_FLAG_W,DELC14,DELC14_FLAG_W,C14ERR,DELC13,DELC13_FLAG_W,CTDBETA700,CTDBETA700_FLAG_W,CTDBEAMCP,CTDBEAMCP_FLAG_W,CTDFLUOR,CTDFLUOR_FLAG_W,PAR,PAR_FLAG_W,CTDXMISS,CTDXMISS_FLAG_W
,,,,,,,,,,,METERS,DBAR,ITS-90,PSS-78,,PSS-78,,UMOL/KG,,UMOL/KG,,UMOL/KG,,UMOL/KG,,UMOL/KG,,UMOL/KG,,UMOL/KG,,PMOL/KG,,PMOL/KG,,FMOL/KG,,UMOL/KG,,UMOL/KG,,,,DEG C,NMOL/KG,,/MILLE,,/MILLE,/MILLE,,VOLTS,,1/M,,MG/M^3,,UMOL/M^2/SEC,,%TRANS,
  096U20180111,  SR03,    27,  1,     36,     36,2,20180121,0820,-52.6683, 142.3903, 3353,      9.9,   6.5079,  33.8912,2,  33.8917,2,    297.4,2,    301.9,2,     4.30,2,    22.62,2,     0.26,2,     1.55,2,      0.4,2,    4.128,2,    2.278,2,     3.21,2,   2129.4,6,   2274.6,6,-999.0000,9,  -999.00,    11.92,2,    -48.6,2,      2.0,     1.40,2,   0.00206,2,    0.128,2,    0.762,2,    1.190,2,   96.848,2
  096U20180111,  SR03,    27,  1,     35,     35,2,20180121,0820,-52.6683, 142.3903, 3353,     25.9,   6.3066,  33.8917,2,  33.8915,2,    301.4,2,    301.8,2,     4.30,2,    22.61,2,     0.26,2,     1.55,2,      0.4,2, -999.000,9, -999.000,9,     -999,9,   2127.6,2,   2274.7,2,-999.0000,9,  -999.00,  -999.00,9,    -49.6,2,      2.7,     1.39,2,   0.00214,2,    0.139,2,    0.822,2,    0.119,2,   96.593,2
  096U20180111,  SR03,    27,  1,     34,     34,2,20180121,0820,-52.6683, 142.3903, 3353,     52.5,   6.1814,  33.8885,2,  33.8886,2,    302.3,2,    302.4,2,     4.20,2,    22.71,2,     0.26,2,     1.57,2,     0.46,2,    4.185,2,    2.294,2,     2.67,2,   2129.9,2,   2274.7,2,-999.0000,9,  -999.00,    12.06,2,    -52.6,2,      2.1,     1.35,2,   0.00205,2,    0.135,2,    0.786,2,    0.000,2,   96.688,2
  096U20180111,  SR03,    27,  1,     33,     33,2,20180121,0820,-52.6683, 142.3903, 3353,     52.7,   6.1172,  33.8929,2,-999.0000,9,    302.3,2,   -999.0,9,  -999.00,9,  -999.00,9,  -999.00,9,  -999.00,9,     -999,9, -999.000,9, -999.000,9,     -999,9,   -999.0,9,   -999.0,9,-999.0000,9,  -999.00,  -999.00,9,   -999.0,9,   -999.0,  -999.00,9,   0.00215,2,    0.136,2,    0.810,2,    0.000,2,   96.662,2
  096U20180111,  SR03,    27,  1,     32,     32,2,20180121,0820,-52.6683, 142.3903, 3353,     74.9,   4.8786,  34.0072,2,  33.9969,2,    299.4,2,    298.9,2,     9.10,2,    23.60,2,     0.42,2,     1.67,2,     0.43,2,    4.303,2,    2.337,2,     2.79,2,   2143.8,2,   2278.6,2,-999.0000,9,  -999.00,    12.71,2,    -45.0,2,      3.0,     1.24,2,   0.00155,2,    0.103,2,    1.014,2,    0.000,2,   97.453,2
  096U20180111,  SR03,    27,  1,     31,     31,2,20180121,0820,-52.6683, 142.3903, 3353,     74.4,   4.9891,  33.9990,2,-999.0000,9,    299.4,2,   -999.0,9,  -999.00,9,  -999.00,9,  -999.00,9,  -999.00,9,     -999,9, -999.000,9, -999.000,9,     -999,9,   -999.0,9,   -999.0,9,-999.0000,9,  -999.00,  -999.00,9,   -999.0,9,   -999.0,  -999.00,9,   0.00160,2,    0.105,2,    1.014,2,    0.000,2,   97.420,2
  096U20180111,  SR03,    27,  1,     30,     30,2,20180121,0820,-52.6683, 142.3903, 3353,     99.4,   4.2766,  34.0401,2,  34.0405,2,    292.0,2,    294.7,2,    11.80,2,    25.09,2,     0.48,2,     1.75,2,        0,2,    4.336,2,    2.349,2,     3.14,2,   2154.2,2,   2279.8,2,-999.0000,9,  -999.00,    13.36,2,    -94.7,4,      2.2,    -0.48,4,   0.00123,2,    0.048,2,    0.504,2,    0.000,2,   98.801,2
  096U20180111,  SR03,    27,  1,     29,     29,2,20180121,0820,-52.6683, 142.3903, 3353,    140.2,   3.9319,  34.0433,2,  34.0437,2,    289.7,2,    289.2,2,    14.10,2,    26.32,2,     0.02,2,     1.80,2,        0,2,    4.343,6,    2.331,6,     2.39,2,   2160.4,2,   2280.6,6,-999.0000,9,  -999.00,    14.00,6,    -52.0,2,      2.4,     1.08,2,   0.00067,2,    0.019,2,    0.048,2,    0.000,2,   99.533,2
  096U20180111,  SR03,    27,  1,     28,     28,2,20180121,0820,-52.6683, 142.3903, 3353,    178.4,   3.6883,  34.0426,2,-999.0000,9,    278.4,2,   -999.0,9,  -999.00,9,  -999.00,9,  -999.00,9,  -999.00,9,     -999,9, -999.000,9, -999.000,9,     -999,9,   -999.0,9,   -999.0,9,-999.0000,9,  -999.00,  -999.00,9,   -999.0,9,   -999.0,  -999.00,9,   0.00063,2,    0.015,2,    0.036,2,    0.000,2,   99.636,2
  096U20180111,  SR03,    27,  1,     27,     27,2,20180121,0820,-52.6683, 142.3903, 3353,    218.2,   3.4374,  34.0466,2,  34.0462,2,    277.8,2,    284.1,2,    16.40,2,    27.46,2,     0.02,2,     1.88,2,        0,2,    4.331,2,    2.338,2,     2.14,2,   -999.0,9,   -999.0,9,-999.0000,9,  -999.00,    14.94,2,   -999.0,9,   -999.0,  -999.00,9,   0.00057,2,    0.013,2,    0.024,2,    0.000,2,   99.688,2
  096U20180111,  SR03,    27,  1,     26,     26,2,20180121,0820,-52.6683, 142.3903, 3353,    275.5,   3.4849,  34.1130,2,  34.1130,2,    262.7,2,    263.1,2,    21.40,2,    28.89,2,     0.01,2,     1.96,2,        0,2,    4.021,2,    2.124,2,     2.32,2,   2179.0,2,   2285.2,2,-999.0000,9,  -999.00,    16.35,2,    -52.8,2,      2.2,     0.88,2,   0.00052,2,    0.010,2,    0.030,2,    0.000,2,   99.737,2
  096U20180111,  SR03,    27,  1,     25,     25,2,20180121,0820,-52.6683, 142.3903, 3353,    325.9,   3.3308,  34.1356,2,  34.1355,2,    252.4,2,    255.8,2,    24.40,2,    29.63,2,     0.01,2,     2.02,2,        0,2,    3.842,2,    2.026,2,     2.34,2,   2186.2,2,   2287.8,2,-999.0000,9,  -999.00,    17.04,2,    -60.0,2,      2.1,     0.86,2,   0.00053,2,    0.009,2,    0.024,2,    0.000,2,   99.770,2
  096U20180111,  SR03,    27,  1,     24,     24,2,20180121,0820,-52.6683, 142.3903, 3353,    375.7,   3.3158,  34.1980,2,-999.0000,9,    237.1,2,   -999.0,9,  -999.00,9,  -999.00,9,  -999.00,9,  -999.00,9,     -999,9, -999.000,9, -999.000,9,     -999,9,   -999.0,9,   -999.0,9,-999.0000,9,  -999.00,  -999.00,9,   -999.0,9,   -999.0,  -999.00,9,   0.00046,2,    0.007,2,    0.036,2,    0.000,2,   99.816,2
  096U20180111,  SR03,    27,  1,     23,     23,2,20180121,0820,-52.6683, 142.3903, 3353,    449.4,   3.1203,  34.2415,2,  34.2414,2,    223.3,2,    223.6,2,    36.70,2,    32.01,2,     0.01,2,     2.19,2,        0,2,    2.962,2,    1.537,2,     1.01,2,   2208.5,6,   2298.7,6,-999.0000,9,  -999.00,    19.64,2,    -79.6,2,      2.0,     0.67,2,   0.00045,2,    0.006,2,    0.030,2,    0.000,2,   99.851,2
  096U20180111,  SR03,    27,  1,     22,     22,2,20180121,0820,-52.6683, 142.3903, 3353,    551.8,   2.9679,  34.3162,2,  34.3139,2,    206.2,2,    204.3,2,    45.70,2,    33.28,2,     0.01,2,     2.28,2,        0,2, -999.000,9, -999.000,9,     -999,9,   -999.0,9,   -999.0,9,-999.0000,9,  -999.00,  -999.00,9,   -999.0,9,   -999.0,  -999.00,9,   0.00041,2,    0.007,2,    0.036,2,    0.000,2,   99.834,2
  096U20180111,  SR03,    27,  1,     21,     21,2,20180121,0820,-52.6683, 142.3903, 3353,    649.9,   2.9173,  34.3954,2,  34.3942,2,    188.2,2,    188.5,2,    54.00,2,    34.01,2,     0.01,2,     2.33,2,        0,2,    1.672,2,    0.858,2,     0.54,2,   2235.6,2,   2315.5,2,-999.0000,9,  -999.00,    22.22,2,   -110.7,2,      2.2,     0.46,2,   0.00038,2,    0.003,2,    0.036,2,    0.000,2,   99.924,2
  096U20180111,  SR03,    27,  1,     20,     20,2,20180121,0820,-52.6683, 142.3903, 3353,    749.2,   2.8081,  34.4632,2,  34.4631,2,    179.1,2,    178.9,2,    60.70,2,    34.30,2,     0.01,2,     2.35,2,        0,2, -999.000,9, -999.000,9,     -999,9,   -999.0,9,   -999.0,9,-999.0000,9,  -999.00,  -999.00,9,   -999.0,9,   -999.0,  -999.00,9,   0.00037,2,    0.003,2,    0.042,2,    0.000,2,   99.935,2
  096U20180111,  SR03,    27,  1,     19,     19,2,20180121,0820,-52.6683, 142.3903, 3353,    851.0,   2.6140,  34.5096,2,  34.5095,2,    175.5,2,    175.2,2,    66.00,2,    34.38,2,     0.01,2,     2.36,2,        0,2,    1.006,2,    0.491,2,     0.25,2,   2250.7,2,   2328.0,2,-999.0000,9,  -999.00,    22.84,2,   -128.1,2,      1.9,     0.37,2,   0.00036,2,    0.002,2,    0.036,2,    0.000,2,   99.942,2
  096U20180111,  SR03,    27,  1,     18,     18,2,20180121,0820,-52.6683, 142.3903, 3353,    950.3,   2.5794,  34.5571,2,  34.5565,2,    173.4,2,    173.3,2,    69.10,2,    34.03,2,     0.00,2,     2.33,2,        0,2, -999.000,9, -999.000,9,     -999,9,   -999.0,9,   -999.0,9,-999.0000,9,  -999.00,  -999.00,9,   -999.0,9,   -999.0,  -999.00,9,   0.00036,2,    0.002,2,    0.042,2,    0.000,2,   99.955,2
  096U20180111,  SR03,    27,  1,     17,     17,2,20180121,0820,-52.6683, 142.3903, 3353,   1100.7,   2.4984,  34.6224,2,  34.6214,2,    173.8,2,    174.4,2,    72.60,2,    33.16,2,     0.00,2,     2.28,2,    -0.01,2,    0.477,2,    0.237,2,    -0.02,2,   2252.7,2,   2339.3,2,-999.0000,9,  -999.00,    21.98,2,   -144.0,2,      2.0,     0.30,2,   0.00034,2,    0.001,2,    0.036,2,    0.000,2,   99.967,2
  096U20180111,  SR03,    27,  1,     16,     16,2,20180121,0820,-52.6683, 142.3903, 3353,   1250.7,   2.4394,  34.6657,2,  34.6651,2,    175.1,2,    175.1,2,    76.70,2,    32.60,2,     0.00,2,     2.25,2,        0,2,    0.264,2,    0.127,2,     0.05,2,   2254.1,2,   2345.5,2,-999.0000,9,  -999.00,    21.25,2,   -149.0,2,      1.9,     0.27,2,   0.00037,2,    0.001,2,    0.036,2,    0.000,2,   99.972,2
  096U20180111,  SR03,    27,  1,     15,     15,2,20180121,0820,-52.6683, 142.3903, 3353,   1400.3,   2.3529,  34.6913,2,  34.6902,2,    174.9,2,    174.6,2,    81.90,2,    32.44,2,     0.00,2,     2.24,2,    -0.01,2,    0.155,2,    0.068,2,    -0.03,2,   -999.0,9,   -999.0,9,-999.0000,9,  -999.00,    20.79,2,   -999.0,9,   -999.0,  -999.00,9,   0.00037,2,    0.001,2,    0.036,2,    0.000,2,   99.981,2
  096U20180111,  SR03,    27,  1,     14,     14,2,20180121,0820,-52.6683, 142.3903, 3353,   1550.8,   2.2360,  34.7179,2,  34.7178,2,    184.6,2,    185.6,2,    78.90,2,    31.22,2,     0.00,2,     2.14,2,    -0.01,2,    0.242,2,    0.116,2,     0.19,2,   2251.1,2,   2347.4,2,-999.0000,9,  -999.00,    19.97,2,   -145.6,2,      2.0,     0.29,2,   0.00032,2,    0.000,2,    0.036,2,    0.000,2,  100.004,2
  096U20180111,  SR03,    27,  1,     13,     13,2,20180121,0820,-52.6683, 142.3903, 3353,   1700.9,   2.1297,  34.7343,2,  34.7342,2,    190.5,2,    189.4,2,    81.20,2,    30.83,2,     0.00,2,     2.11,2,    -0.01,2,    0.201,2,    0.099,2,     0.06,2,   2249.0,2,   2348.3,2,-999.0000,9,  -999.00,    19.11,2,   -145.8,2,      2.0,     0.36,2,   0.00031,2,   -0.001,2,    0.036,2,    0.000,2,  100.016,2
  096U20180111,  SR03,    27,  1,     12,     12,2,20180121,0820,-52.6683, 142.3903, 3353,   1851.1,   2.0243,  34.7420,2,  34.7420,2,    191.8,2,    191.6,2,    84.70,2,    30.71,2,     0.00,2,     2.11,2,        0,2,    0.171,2,    0.078,2,     0.02,2,   2250.9,2,   2352.3,2,-999.0000,9,  -999.00,    18.99,2,   -150.9,2,      2.2,     0.24,2,   0.00031,2,   -0.001,2,    0.042,2,    0.000,2,  100.016,2
  096U20180111,  SR03,    27,  1,     11,     11,2,20180121,0820,-52.6683, 142.3903, 3353,   2051.7,   1.8494,  34.7460,2,  34.7416,4,    197.2,2,    197.7,2,    94.70,2,    30.77,2,     0.00,2,     2.11,2,    -0.01,2,    0.161,2,    0.067,2,     0.07,2,   2254.0,2,   2357.4,2,-999.0000,9,  -999.00,    18.67,2,   -150.1,2,      2.2,     0.35,2,   0.00032,2,   -0.001,2,    0.042,2,    0.000,2,  100.018,2
  096U20180111,  SR03,    27,  1,     10,     10,2,20180121,0820,-52.6683, 142.3903, 3353,   2277.1,   1.6052,  34.7411,2,-999.0000,9,    200.1,2,   -999.0,9,  -999.00,9,  -999.00,9,  -999.00,9,  -999.00,9,     -999,9, -999.000,9, -999.000,9,     -999,9,   -999.0,9,   -999.0,9,-999.0000,9,  -999.00,  -999.00,9,   -999.0,9,   -999.0,  -999.00,9,   0.00034,2,    0.000,2,    0.036,2,    0.000,2,  100.007,2
  096U20180111,  SR03,    27,  1,      9,      9,2,20180121,0820,-52.6683, 142.3903, 3353,   2499.3,   1.3924,  34.7334,2,  34.7329,2,    202.2,2,    201.3,2,   102.70,2,    31.10,2,     0.00,2,     2.14,2,    -0.01,2,    0.175,2,    0.079,2,    -0.01,2,   2257.7,2,   2359.8,2,-999.0000,9,  -999.00,    18.44,2,   -156.0,2,      2.0,     0.36,2,   0.00031,2,   -0.001,2,    0.036,2,    0.000,2,  100.013,2
  096U20180111,  SR03,    27,  1,      8,      8,2,20180121,0820,-52.6683, 142.3903, 3353,   2700.4,   1.2121,  34.7252,2,  34.7253,2,    203.9,2,    203.1,2,   109.10,2,    31.48,2,     0.00,2,     2.16,2,        0,2, -999.000,9, -999.000,9,     -999,9,   -999.0,9,   -999.0,9,-999.0000,9,  -999.00,  -999.00,9,   -999.0,9,   -999.0,  -999.00,9,   0.00031,2,   -0.001,2,    0.036,2,    0.000,2,  100.018,2
  096U20180111,  SR03,    27,  1,      7,      7,2,20180121,0820,-52.6683, 142.3903, 3353,   2899.6,   1.1026,  34.7197,2,  34.7193,2,    204.6,2,    205.3,2,   113.10,2,    31.73,2,     0.00,2,     2.18,2,    -0.01,2,    0.201,2,    0.098,2,    -0.03,2,   2261.8,2,   2364.0,2,-999.0000,9,  -999.00,    18.37,2,   -999.0,5,   -999.0,  -999.00,5,   0.00032,2,    0.000,2,    0.042,2,    0.000,2,  100.009,2
  096U20180111,  SR03,    27,  1,      6,      6,2,20180121,0820,-52.6683, 142.3903, 3353,   3099.7,   1.0337,  34.7159,2,  34.7156,2,    205.5,2,    204.9,2,   116.00,2,    31.91,2,     0.01,2,     2.19,2,    -0.01,2,    0.212,2,    0.096,2,     0.09,2,   2263.1,2,   2364.7,2,-999.0000,9,  -999.00,    18.22,2,   -161.2,2,      1.9,     0.51,2,   0.00033,2,    0.000,2,    0.042,2,    0.000,2,   99.992,2
  096U20180111,  SR03,    27,  1,      5,      5,2,20180121,0820,-52.6683, 142.3903, 3353,   3224.8,   0.9845,  34.7130,2,  34.7127,2,    206.5,2,    205.9,2,   118.00,2,    31.98,2,     0.01,2,     2.20,2,    -0.01,2, -999.000,9, -999.000,9,     -999,9,   -999.0,9,   -999.0,9,-999.0000,9,  -999.00,  -999.00,9,   -999.0,9,   -999.0,  -999.00,9,   0.00040,2,    0.002,2,    0.036,2,    0.000,2,   99.944,2
  096U20180111,  SR03,    27,  1,      4,      4,2,20180121,0820,-52.6683, 142.3903, 3353,   3300.6,   0.9906,  34.7130,2,  34.7122,2,    206.7,2,    205.7,2,   118.10,2,    32.02,2,     0.01,2,     2.20,2,        0,2,    0.247,2,    0.115,2,    -0.01,2,   2263.8,6,   2365.8,6,-999.0000,9,  -999.00,    18.36,2,   -159.7,2,      1.9,     0.50,2,   0.00037,2,    0.002,2,    0.036,2,    0.000,2,   99.947,2
  096U20180111,  SR03,    27,  1,      3,      3,2,20180121,0820,-52.6683, 142.3903, 3353,   3379.6,   0.9976,  34.7130,2,  34.7132,2,    206.3,2,    206.0,2,   118.20,2,    31.96,2,     0.01,2,     2.20,2,        0,2,    0.243,2,    0.115,2,     0.23,2,   -999.0,9,   -999.0,9,-999.0000,9,  -999.00,    18.54,2,   -999.0,9,   -999.0,  -999.00,9,   0.00037,2,    0.002,2,    0.036,2,    0.000,2,   99.941,2
  096U20180111,  SR03,    27,  1,      2,      2,2,20180121,0820,-52.6683, 142.3903, 3353,   3433.6,   1.0027,  34.7130,2,  34.7118,2,    206.5,2,    206.2,2,   118.00,2,    31.99,2,     0.01,2,     2.20,2,        0,2,    0.248,2,    0.121,2,     0.63,3,   2263.6,2,   2365.2,2,-999.0000,9,  -999.00,    18.53,2,   -157.6,2,      2.1,     0.53,2,   0.00037,2,    0.002,2,    0.036,2,    0.000,2,   99.946,2
  096U20180111,  SR03,    27,  1,      1,      1,2,20180121,0820,-52.6683, 142.3903, 3353,   3433.3,   1.0028,  34.7129,2,-999.0000,9,    206.5,2,   -999.0,9,  -999.00,9,  -999.00,9,  -999.00,9,  -999.00,9,     -999,9, -999.000,9, -999.000,9,     -999,9,   -999.0,9,   -999.0,9,-999.0000,9,  -999.00,  -999.00,9,   -999.0,9,   -999.0,  -999.00,9,   0.00038,2,    0.002,2,    0.036,2,    0.000,2,   99.943,2