BOTTLE,20230418CCHSIOENA
EXPOCODE,SECT_ID,STNNBR,CASTNO,SAMPNO,BTLNBR,BTLNBR_FLAG_W,DATE,TIME,LATITUDE,LONGITUDE,DEPTH,CTDPRS,CTDTMP,CTDSAL,CTDSAL_FLAG_W,SALNTY,SALNTY_FLAG_W,CTDOXY,CTDOXY_FLAG_W,OXYGEN,OXYGEN_FLAG_W,SILCAT,SILCAT_FLAG_W,NITRAT,NITRAT_FLAG_W,NITRIT,NITRIT_FLAG_W,PHSPHT,PHSPHT_FLAG_W,NH4,NH4_FLAG_W,CFC-11,CFC-11_FLAG_W,CFC-12,CFC-12_FLAG_W,SF6,SF6_FLAG_W,TCARBN,TCARBN_FLAG_W,ALKALI,ALKALI_FLAG_W,PH_TOT,PH_TOT_FLAG_W,PH_TMP,N2O,N2O_FLAG_W,DELC14,DELC14_FLAG_W,C14ERR,DELC13,DELC13_FLAG_W,CTDBETA700,CTDBETA700_FLAG_W,CTDBEAMCP,CTDBEAMCP_FLAG_W,CTDFLUOR,CTDFLUOR_FLAG_W,PAR,PAR_FLAG_W,CTDXMISS,CTDXMISS_FLAG_W
,,,,,,,,,,,METERS,DBAR,ITS-90,PSS-78,,PSS-78,,UMOL/KG,,UMOL/KG,,UMOL/KG,,UMOL/KG,,UMOL/KG,,UMOL/KG,,UMOL/KG,,PMOL/KG,,PMOL/KG,,FMOL/KG,,UMOL/KG,,UMOL/KG,,,,DEG C,NMOL/KG,,/MILLE,,/MILLE,/MILLE,,VOLTS,,1/M,,MG/M^3,,UMOL/M^2/SEC,,%TRANS,
  096U20180111,  SR03,    39,  1,     36,     36,2,20180125,1032,-58.3518, 139.8523, 3953,     11.1,   3.9314,  33.8188,2,-999.0000,9,    319.8,2,   -999.0,9,  -999.00,9,  -999.00,9,  -999.00,9,  -999.00,9,     -999,9, -999.000,9, -999.000,9,     -999,9,   -999.0,9,   -999.0,9,-999.0000,9,  -999.00,  -999.00,9,   -999.0,9,   -999.0,  -999.00,9,   0.00192,2,    0.162,2,    1.830,2,    0.964,2,   96.032,2
  096U20180111,  SR03,    39,  1,     35,     35,2,20180125,1032,-58.3518, 139.8523, 3953,     11.0,   3.9323,  33.8188,2,  33.8238,2,    319.8,2,    320.3,2,     5.70,2,    24.59,2,     0.24,2,     1.50,2,     0.07,2,    4.730,2,    2.571,2,     3.48,2,   2137.6,2,   2280.5,2,   7.7311,   2,    25.00,    13.25,2,   -999.0,9,   -999.0,  -999.00,9,   0.00201,2,    0.166,2,    1.722,2,    0.871,2,   95.925,2
  096U20180111,  SR03,    39,  1,     34,     34,2,20180125,1032,-58.3518, 139.8523, 3953,     31.6,   3.8417,  33.8280,2,  33.8276,2,    320.6,2,    320.7,2,     5.40,2,    24.63,2,     0.24,2,     1.50,2,     0.07,2,    4.702,2,    2.570,2,     3.05,2,   2137.0,6,   2281.1,6,   7.7295,   2,    25.00,    13.16,2,   -999.0,9,   -999.0,  -999.00,9,   0.00290,2,    0.237,2,    3.372,2,    0.043,2,   94.238,2
  096U20180111,  SR03,    39,  1,     33,     33,2,20180125,1032,-58.3518, 139.8523, 3953,     31.6,   3.8399,  33.8277,2,-999.0000,9,    320.6,2,   -999.0,9,  -999.00,9,  -999.00,9,  -999.00,9,  -999.00,9,     -999,9, -999.000,9, -999.000,9,     -999,9,   -999.0,9,   -999.0,9,-999.0000,9,  -999.00,  -999.00,9,   -999.0,9,   -999.0,  -999.00,9,   0.00342,2,    0.235,2,    3.504,2,    0.039,2,   94.293,2
  096U20180111,  SR03,    39,  1,     32,     32,2,20180125,1032,-58.3518, 139.8523, 3953,     65.5,   1.9048,  33.8716,2,-999.0000,9,    336.8,2,   -999.0,9,  -999.00,9,  -999.00,9,  -999.00,9,  -999.00,9,     -999,9, -999.000,9, -999.000,9,     -999,9,   -999.0,9,   -999.0,9,-999.0000,9,  -999.00,  -999.00,9,   -999.0,9,   -999.0,  -999.00,9,   0.00275,2,    0.226,2,    3.726,2,    0.000,2,   94.497,2
  096U20180111,  SR03,    39,  1,     31,     31,2,20180125,1032,-58.3518, 139.8523, 3953,     65.4,   1.9011,  33.8715,2,  33.8739,2,    336.8,2,    335.8,2,    14.60,2,    26.23,2,     0.20,2,     1.88,2,     0.62,2,    5.257,2,    2.775,2,     3.64,2,   2153.4,2,   2284.4,2,-999.0000,9,  -999.00,    14.09,2,   -999.0,9,   -999.0,  -999.00,9,   0.00267,2,    0.218,2,    3.762,2,    0.000,2,   94.688,2
  096U20180111,  SR03,    39,  1,     30,     30,2,20180125,1032,-58.3518, 139.8523, 3953,     85.6,   1.4545,  33.8966,2,  33.9018,2,    331.6,2,    331.3,2,    18.60,2,    27.05,2,     0.24,2,     1.96,2,     0.72,2,    5.238,2,    2.772,2,     3.54,2,   -999.0,9,   -999.0,9,   7.6722,   6,    25.00,    14.21,2,   -999.0,9,   -999.0,  -999.00,9,   0.00119,2,    0.079,2,    1.320,2,    0.000,2,   98.039,2
  096U20180111,  SR03,    39,  1,     29,     29,2,20180125,1032,-58.3518, 139.8523, 3953,    110.7,   1.1427,  33.9343,2,  33.9351,2,    322.4,2,    323.7,2,    21.30,2,    28.15,2,     0.21,2,     1.99,2,     0.43,2,    5.124,2,    2.731,2,     3.42,2,   2168.7,2,   2286.1,2,-999.0000,9,  -999.00,    14.71,2,   -999.0,9,   -999.0,  -999.00,9,   0.00072,2,    0.033,2,    0.384,2,    0.000,2,   99.171,2
  096U20180111,  SR03,    39,  1,     28,     28,2,20180125,1032,-58.3518, 139.8523, 3953,    134.7,   0.8337,  33.9460,2,  33.9463,2,    321.6,2,    322.3,2,    22.70,2,    28.54,2,     0.23,2,     2.00,2,      0.3,2,    4.792,2,    2.497,2,     3.09,2,   2171.4,2,   2286.8,2,   7.5743,   2,    25.00,    14.50,2,   -999.0,9,   -999.0,  -999.00,9,   0.00060,2,    0.020,2,    0.186,2,    0.000,2,   99.506,2
  096U20180111,  SR03,    39,  1,     27,     27,2,20180125,1032,-58.3518, 139.8523, 3953,    181.6,   1.1807,  34.0308,2,  34.0356,2,    293.1,2,    293.3,2,    29.90,2,    30.50,2,     0.01,2,     2.10,2,        0,2, -999.000,9, -999.000,9,     -999,9,   -999.0,9,   -999.0,9,-999.0000,9,  -999.00,  -999.00,9,   -999.0,9,   -999.0,  -999.00,9,   0.00050,2,    0.012,2,    0.072,2,    0.000,2,   99.702,2
  096U20180111,  SR03,    39,  1,     26,     26,2,20180125,1032,-58.3518, 139.8523, 3953,    220.6,   1.8505,  34.1414,2,  34.1445,2,    249.8,2,    255.8,2,    38.00,2,    32.12,2,     0.02,2,     2.21,2,     0.01,2,    0.000,2,    0.000,2,        0,2,   2203.6,2,   -999.0,9,   7.5927,   3,    25.00,     0.00,2,   -999.0,9,   -999.0,  -999.00,9,   0.00057,2,    0.011,2,    0.042,2,    0.000,2,   99.721,2
  096U20180111,  SR03,    39,  1,     25,     25,2,20180125,1032,-58.3518, 139.8523, 3953,    270.8,   2.3779,  34.2512,2,  34.2521,2,    225.8,2,    221.9,2,    45.60,2,    33.41,2,     0.01,2,     2.31,2,        0,2, -999.000,9, -999.000,9,     -999,9,   -999.0,9,   -999.0,9,-999.0000,9,  -999.00,  -999.00,9,   -999.0,9,   -999.0,  -999.00,9,   0.00057,2,    0.011,2,    0.042,2,    0.000,2,   99.724,2
  096U20180111,  SR03,    39,  1,     24,     24,2,20180125,1032,-58.3518, 139.8523, 3953,    351.5,   2.4186,  34.3422,2,  34.3416,2,    199.8,2,    199.2,2,    54.70,2,    34.56,2,     0.01,2,     2.38,2,        0,2,    2.178,2,    1.136,2,     1.06,2,   2235.2,2,   2315.4,2,   7.5471,   2,    25.00,    22.61,2,   -999.0,9,   -999.0,  -999.00,9,   0.00051,2,    0.010,2,    0.036,2,    0.000,2,   99.760,2
  096U20180111,  SR03,    39,  1,     23,     23,2,20180125,1032,-58.3518, 139.8523, 3953,    451.7,   2.4948,  34.4523,2,  34.4521,2,    180.9,2,    180.0,2,    63.60,2,    34.92,2,     0.01,2,     2.41,2,        0,2, -999.000,9, -999.000,9,     -999,9,   -999.0,9,   -999.0,9,-999.0000,9,  -999.00,  -999.00,9,   -999.0,9,   -999.0,  -999.00,9,   0.00045,2,    0.005,2,    0.042,2,    0.000,2,   99.885,2
  096U20180111,  SR03,    39,  1,     22,     22,2,20180125,1032,-58.3518, 139.8523, 3953,    551.1,   2.5066,  34.5248,2,  34.5244,2,    173.8,2,    173.4,2,    68.40,2,    34.64,2,     0.01,2,     2.39,2,        0,2,    0.962,2,    0.493,2,     0.17,2,   2250.7,2,   2331.9,2,   7.5426,   2,    25.00,    23.15,2,   -999.0,9,   -999.0,  -999.00,9,   0.00045,2,    0.003,2,    0.036,2,    0.000,2,   99.919,2
  096U20180111,  SR03,    39,  1,     21,     21,2,20180125,1032,-58.3518, 139.8523, 3953,    648.6,   2.4132,  34.5723,2,  34.5713,2,    171.9,2,    172.4,2,    72.20,2,    34.36,2,     0.01,2,     2.37,2,        0,2,    0.771,2,    0.393,2,     0.25,2,   2253.7,2,   2334.6,2,   7.5437,   2,    25.00,    23.14,2,   -999.0,9,   -999.0,  -999.00,9,   0.00039,2,    0.005,2,    0.036,2,    0.000,2,   99.885,2
  096U20180111,  SR03,    39,  1,     20,     20,2,20180125,1032,-58.3518, 139.8523, 3953,    750.0,   2.3790,  34.6184,2,  34.6169,2,    172.5,2,    172.4,2,    74.50,2,    33.76,2,     0.01,2,     2.33,2,        0,2,    0.564,2,    0.300,2,     0.08,2,   2253.5,2,   2338.4,6,   7.5335,   3,    25.00,    22.22,2,   -999.0,9,   -999.0,  -999.00,9,   0.00038,2,    0.001,2,    0.036,2,    0.000,2,   99.966,2
  096U20180111,  SR03,    39,  1,     19,     19,2,20180125,1032,-58.3518, 139.8523, 3953,    850.3,   2.3278,  34.6561,2,  34.6549,2,    175.1,2,    175.4,2,    76.10,2,    33.04,2,     0.01,2,     2.28,2,        0,2,    0.441,2,    0.230,2,      0.1,2,   2253.2,2,   2339.8,2,-999.0000,9,  -999.00,    21.68,2,   -999.0,9,   -999.0,  -999.00,9,   0.00039,2,    0.001,2,    0.036,2,    0.000,2,   99.985,2
  096U20180111,  SR03,    39,  1,     18,     18,2,20180125,1032,-58.3518, 139.8523, 3953,    951.8,   2.2833,  34.6828,2,  34.6822,2,    178.3,2,    178.6,2,    77.20,2,    32.38,2,     0.01,2,     2.24,2,        0,2,    0.353,2,    0.184,2,     0.03,2,   2251.8,2,   2344.2,2,-999.0000,9,  -999.00,    20.94,2,   -999.0,9,   -999.0,  -999.00,9,   0.00042,2,    0.001,2,    0.042,2,    0.000,2,   99.977,2
  096U20180111,  SR03,    39,  1,     17,     17,2,20180125,1032,-58.3518, 139.8523, 3953,   1101.8,   2.2029,  34.7123,2,  34.7107,2,    183.5,2,    183.9,2,    79.00,2,    31.59,2,     0.00,2,     2.19,2,        0,2,    0.274,2,    0.144,2,     0.05,2,   2250.3,6,   2347.3,6,   7.5859,   2,    25.00,    20.29,2,   -999.0,9,   -999.0,  -999.00,9,   0.00035,2,    0.000,2,    0.036,2,    0.000,2,   99.999,2
  096U20180111,  SR03,    39,  1,     16,     16,2,20180125,1032,-58.3518, 139.8523, 3953,   1302.3,   2.0681,  34.7354,2,  34.7350,2,    189.4,2,    189.4,2,    81.90,2,    30.96,2,     0.00,2,     2.14,2,        0,2, -999.000,9, -999.000,9,     -999,9,   2247.9,2,   2349.8,2,   7.5986,   6,    25.00,  -999.00,9,   -999.0,9,   -999.0,  -999.00,9,   0.00036,2,   -0.001,2,    0.042,2,    0.000,2,  100.030,2
  096U20180111,  SR03,    39,  1,     15,     15,2,20180125,1032,-58.3518, 139.8523, 3953,   1500.6,   1.9071,  34.7445,2,  34.7437,2,    193.3,2,    193.4,2,    86.10,2,    30.75,2,     0.00,2,     2.13,2,        0,2,    0.199,2,    0.103,2,     0.15,3,   -999.0,9,   -999.0,9,-999.0000,9,  -999.00,    18.89,2,   -999.0,9,   -999.0,  -999.00,9,   0.00035,2,   -0.002,2,    0.036,2,    0.000,2,  100.063,2
  096U20180111,  SR03,    39,  1,     14,     14,2,20180125,1032,-58.3518, 139.8523, 3953,   1701.4,   1.7530,  34.7465,2,  34.7460,2,    196.6,2,    196.6,2,    90.40,2,    30.74,2,     0.00,2,     2.13,2,        0,2,    0.173,2,    0.094,2,     0.01,2,   2249.6,2,   2356.1,2,-999.0000,9,  -999.00,    18.68,2,   -999.0,9,   -999.0,  -999.00,9,   0.00030,2,   -0.003,2,    0.042,2,    0.000,2,  100.066,2
  096U20180111,  SR03,    39,  1,     13,     13,2,20180125,1032,-58.3518, 139.8523, 3953,   2100.7,   1.4023,  34.7362,2,  34.7356,2,    201.0,2,    200.8,2,   100.60,2,    31.16,2,     0.00,2,     2.17,2,        0,2, -999.000,9, -999.000,9,     -999,9,   -999.0,9,   -999.0,9,   7.6083,   2,    25.00,  -999.00,9,   -999.0,9,   -999.0,  -999.00,9,   0.00030,2,   -0.004,2,    0.036,2,    0.000,2,  100.088,2
  096U20180111,  SR03,    39,  1,     12,     12,2,20180125,1032,-58.3518, 139.8523, 3953,   2299.6,   1.2530,  34.7294,2,  34.7292,2,    202.6,2,    202.8,2,   105.50,2,    31.46,2,     0.00,2,     2.19,2,        0,2,    0.199,2,    0.095,2,     0.01,2,   2256.5,2,   2360.2,2,-999.0000,9,  -999.00,    18.19,2,   -999.0,9,   -999.0,  -999.00,9,   0.00031,2,   -0.003,2,    0.036,2,    0.000,2,  100.079,2
  096U20180111,  SR03,    39,  1,     11,     11,2,20180125,1032,-58.3518, 139.8523, 3953,   2500.6,   1.0723,  34.7200,2,  34.7201,2,    204.6,2,    204.6,2,   111.00,2,    31.77,2,     0.00,2,     2.21,2,        0,2,    0.231,2,    0.118,2,     0.01,2,   2257.8,2,   2361.0,2,-999.0000,9,  -999.00,    18.31,2,   -999.0,9,   -999.0,  -999.00,9,   0.00035,2,   -0.004,2,    0.042,2,    0.000,2,  100.093,2
  096U20180111,  SR03,    39,  1,     10,     10,2,20180125,1032,-58.3518, 139.8523, 3953,   2701.2,   0.9373,  34.7132,2,  34.7125,2,    206.5,2,    206.6,2,   114.70,2,    31.99,2,     0.00,2,     2.22,2,        0,2, -999.000,9, -999.000,9,     -999,9,   -999.0,9,   -999.0,9,-999.0000,9,  -999.00,  -999.00,9,   -999.0,9,   -999.0,  -999.00,9,   0.00028,2,   -0.004,2,    0.036,2,    0.000,2,  100.089,2
  096U20180111,  SR03,    39,  1,      9,      9,2,20180125,1032,-58.3518, 139.8523, 3953,   2899.6,   0.7864,  34.7051,2,  34.7047,2,    208.8,2,    209.0,2,   119.10,2,    32.24,2,     0.00,2,     2.24,2,        0,2,    0.338,2,    0.167,2,     0.05,2,   2260.2,2,   2362.1,2,-999.0000,9,  -999.00,    18.45,2,   -999.0,9,   -999.0,  -999.00,9,   0.00027,2,   -0.004,2,    0.042,2,    0.000,2,  100.088,2
  096U20180111,  SR03,    39,  1,      8,      8,2,20180125,1032,-58.3518, 139.8523, 3953,   3103.4,   0.6456,  34.6980,2,  34.6974,2,    211.3,2,    211.7,2,   122.80,2,    32.41,2,     0.00,2,     2.25,2,        0,2,    0.404,2,    0.206,2,     0.07,2,   2260.7,2,   2362.2,2,-999.0000,9,  -999.00,    18.41,2,   -999.0,9,   -999.0,  -999.00,9,   0.00028,2,   -0.003,2,    0.042,2,    0.000,2,  100.086,2
  096U20180111,  SR03,    39,  1,      7,      7,2,20180125,1032,-58.3518, 139.8523, 3953,   3400.8,   0.4759,  34.6897,2,  34.6893,2,    215.2,2,    215.8,2,   128.30,2,    32.61,2,     0.00,2,     2.27,2,        0,2, -999.000,9, -999.000,9,     -999,9,   -999.0,9,   -999.0,9,-999.0000,9,  -999.00,  -999.00,9,   -999.0,9,   -999.0,  -999.00,9,   0.00025,2,   -0.003,2,    0.036,2,    0.000,2,  100.076,2
  096U20180111,  SR03,    39,  1,      6,      6,2,20180125,1032,-58.3518, 139.8523, 3953,   3602.4,   0.3836,  34.6851,2,  34.6851,2,    217.7,2,    218.3,2,   131.10,2,    32.73,2,     0.00,2,     2.27,2,        0,2,    0.626,2,    0.319,2,     0.19,2,   2261.7,2,   2362.1,2,-999.0000,9,  -999.00,    18.00,2,   -999.0,9,   -999.0,  -999.00,9,   0.00027,2,   -0.004,2,    0.042,2,    0.000,2,  100.094,2
  096U20180111,  SR03,    39,  1,      5,      5,2,20180125,1032,-58.3518, 139.8523, 3953,   3851.2,   0.3076,  34.6811,2,  34.6804,2,    220.9,2,    220.6,2,   136.00,2,    32.81,2,     0.00,2,     2.28,2,        0,2,    0.753,2,    0.367,2,     0.18,2,   2261.7,2,   2362.6,2,-999.0000,9,  -999.00,    18.34,2,   -999.0,9,   -999.0,  -999.00,9,   0.00029,2,   -0.003,2,    0.042,2,    0.000,2,  100.083,2
  096U20180111,  SR03,    39,  1,      4,      4,2,20180125,1032,-58.3518, 139.8523, 3953,   3951.3,   0.2897,  34.6797,2,  34.6794,2,    221.7,2,    221.5,2,   136.40,2,    32.76,2,     0.00,2,     2.28,2,        0,2, -999.000,9, -999.000,9,     -999,9,   -999.0,9,   -999.0,9,-999.0000,9,  -999.00,  -999.00,9,   -999.0,9,   -999.0,  -999.00,9,   0.00030,2,   -0.003,2,    0.036,2,    0.000,2,  100.085,2
  096U20180111,  SR03,    39,  1,      3,      3,2,20180125,1032,-58.3518, 139.8523, 3953,   3999.6,   0.2731,  34.6786,2,-999.0000,9,    222.3,2,   -999.0,9,  -999.00,9,  -999.00,9,  -999.00,9,  -999.00,9,     -999,9, -999.000,9, -999.000,9,     -999,9,   -999.0,9,   -999.0,9,-999.0000,9,  -999.00,  -999.00,9,   -999.0,9,   -999.0,  -999.00,9,   0.00026,2,   -0.003,2,    0.036,2,    0.000,2,  100.074,2
  096U20180111,  SR03,    39,  1,      2,      2,2,20180125,1032,-58.3518, 139.8523, 3953,   3999.6,   0.2731,  34.6786,2,  34.6784,2,    222.3,2,    221.8,2,   138.10,2,    32.78,2,     0.00,2,     2.28,2,        0,2,    0.833,6,    0.412,6,     0.15,6,   2262.3,2,   2363.3,6,-999.0000,9,  -999.00,    18.21,6,   -999.0,9,   -999.0,  -999.00,9,   0.00027,2,   -0.003,2,    0.036,2,    0.000,2,  100.069,2
  096U20180111,  SR03,    39,  1,      1,      1,2,20180125,1032,-58.3518, 139.8523, 3953,   4058.9,   0.2744,  34.6784,2,  34.6788,2,    222.9,2,    221.8,2,   138.30,2,    32.75,2,     0.01,2,     2.29,2,        0,2,    0.834,2,    0.419,2,     0.12,2,   2261.8,6,   2362.9,6,-999.0000,9,  -999.00,    18.32,2,   -999.0,9,   -999.0,  -999.00,9,   0.00026,2,   -0.002,2,    0.036,2,    0.000,2,  100.044,2