BOTTLE,20230418CCHSIOENA
EXPOCODE,SECT_ID,STNNBR,CASTNO,SAMPNO,BTLNBR,BTLNBR_FLAG_W,DATE,TIME,LATITUDE,LONGITUDE,DEPTH,CTDPRS,CTDTMP,CTDSAL,CTDSAL_FLAG_W,SALNTY,SALNTY_FLAG_W,CTDOXY,CTDOXY_FLAG_W,OXYGEN,OXYGEN_FLAG_W,SILCAT,SILCAT_FLAG_W,NITRAT,NITRAT_FLAG_W,NITRIT,NITRIT_FLAG_W,PHSPHT,PHSPHT_FLAG_W,NH4,NH4_FLAG_W,CFC-11,CFC-11_FLAG_W,CFC-12,CFC-12_FLAG_W,SF6,SF6_FLAG_W,TCARBN,TCARBN_FLAG_W,ALKALI,ALKALI_FLAG_W,PH_TOT,PH_TOT_FLAG_W,PH_TMP,N2O,N2O_FLAG_W,DELC14,DELC14_FLAG_W,C14ERR,DELC13,DELC13_FLAG_W,CTDBETA700,CTDBETA700_FLAG_W,CTDBEAMCP,CTDBEAMCP_FLAG_W,CTDFLUOR,CTDFLUOR_FLAG_W,PAR,PAR_FLAG_W,CTDXMISS,CTDXMISS_FLAG_W
,,,,,,,,,,,METERS,DBAR,ITS-90,PSS-78,,PSS-78,,UMOL/KG,,UMOL/KG,,UMOL/KG,,UMOL/KG,,UMOL/KG,,UMOL/KG,,UMOL/KG,,PMOL/KG,,PMOL/KG,,FMOL/KG,,UMOL/KG,,UMOL/KG,,,,DEG C,NMOL/KG,,/MILLE,,/MILLE,/MILLE,,VOLTS,,1/M,,MG/M^3,,UMOL/M^2/SEC,,%TRANS,
  096U20180111,  SR03,    67,  1,     36,     36,2,20180202,2315,-64.9983, 145.4955, 3301,     10.9,   0.7073,  33.7406,2,-999.0000,9,    339.5,2,   -999.0,9,  -999.00,9,  -999.00,9,  -999.00,9,  -999.00,9,     -999,9, -999.000,9, -999.000,9,     -999,9,   2154.4,2,   2282.3,2,-999.0000,9,  -999.00,  -999.00,9,   -999.0,9,   -999.0,  -999.00,9,   0.00177,2,    0.188,2,    0.180,2,  183.000,2,   95.416,2
  096U20180111,  SR03,    67,  1,     35,     35,2,20180202,2315,-64.9983, 145.4955, 3301,     10.9,   0.7054,  33.7405,2,  33.7405,2,    339.5,2,    341.3,2,    36.40,2,    26.75,2,     0.22,2,     1.74,2,     0.31,2, -999.000,9, -999.000,9,     -999,9,   -999.0,9,   -999.0,9,-999.0000,9,  -999.00,  -999.00,9,   -999.0,9,   -999.0,  -999.00,9,   0.00180,2,    0.187,2,    0.180,2,  190.000,2,   95.428,2
  096U20180111,  SR03,    67,  1,     34,     34,2,20180202,2315,-64.9983, 145.4955, 3301,     31.3,   0.4250,  33.7376,2,  33.7497,2,    343.1,2,    341.6,2,    40.80,2,    27.15,2,     0.21,2,     1.78,2,     0.35,2, -999.000,9, -999.000,9,     -999,9,   -999.0,9,   -999.0,9,-999.0000,9,  -999.00,  -999.00,9,   -999.0,9,   -999.0,  -999.00,9,   0.00196,2,    0.202,2,    0.672,2,   52.300,2,   95.076,2
  096U20180111,  SR03,    67,  1,     33,     33,2,20180202,2315,-64.9983, 145.4955, 3301,     50.3,  -0.1541,  33.8705,2,  33.9394,2,    338.1,2,    323.2,2,    48.00,2,    28.57,2,     0.17,2,     1.94,2,     0.38,2, -999.000,9, -999.000,9,     -999,9,   -999.0,9,   -999.0,9,-999.0000,9,  -999.00,  -999.00,9,   -999.0,9,   -999.0,  -999.00,9,   0.00181,2,    0.177,2,    1.512,2,   19.700,2,   95.673,2
  096U20180111,  SR03,    67,  1,     32,     32,2,20180202,2315,-64.9983, 145.4955, 3301,     50.2,  -0.1585,  33.8725,2,-999.0000,9,    338.1,2,   -999.0,9,  -999.00,9,  -999.00,9,  -999.00,9,  -999.00,9,     -999,9, -999.000,9, -999.000,9,     -999,9,   -999.0,9,   -999.0,9,-999.0000,9,  -999.00,  -999.00,9,   -999.0,9,   -999.0,  -999.00,9,   0.00183,2,    0.180,2,    1.554,2,   20.000,2,   95.595,2
  096U20180111,  SR03,    67,  1,     31,     31,2,20180202,2315,-64.9983, 145.4955, 3301,     85.8,  -1.3870,  34.3139,2,  34.3248,2,    297.9,2,    287.8,2,    62.50,2,    31.21,2,     0.14,2,     2.17,2,      0.1,2, -999.000,9, -999.000,9,     -999,9,   -999.0,9,   -999.0,9,-999.0000,9,  -999.00,  -999.00,9,   -999.0,9,   -999.0,  -999.00,9,   0.00084,2,    0.049,2,    0.918,2,    2.670,2,   98.793,2
  096U20180111,  SR03,    67,  1,     30,     30,2,20180202,2315,-64.9983, 145.4955, 3301,    101.4,  -1.2932,  34.3461,2,  34.3534,2,    283.1,2,    284.7,2,    63.90,2,    31.43,2,     0.13,2,     2.18,2,     0.03,2, -999.000,9, -999.000,9,     -999,9,   -999.0,9,   -999.0,9,-999.0000,9,  -999.00,  -999.00,9,   -999.0,9,   -999.0,  -999.00,9,   0.00056,2,    0.027,2,    0.408,2,    1.250,2,   99.330,2
  096U20180111,  SR03,    67,  1,     29,     29,2,20180202,2315,-64.9983, 145.4955, 3301,    150.4,   0.0664,  34.5104,2,  34.5260,2,    228.5,2,    233.6,2,    76.40,2,    32.34,2,     0.02,2,     2.23,2,    -0.01,2, -999.000,9, -999.000,9,     -999,9,   -999.0,9,   -999.0,9,-999.0000,9,  -999.00,  -999.00,9,   -999.0,9,   -999.0,  -999.00,9,   0.00041,2,    0.008,2,    0.090,2,    0.173,2,   99.795,2
  096U20180111,  SR03,    67,  1,     28,     28,2,20180202,2315,-64.9983, 145.4955, 3301,    201.0,   0.4521,  34.5746,2,  34.5896,2,    197.6,2,    219.6,2,    81.00,2,    32.27,2,     0.02,2,     2.22,2,    -0.01,2, -999.000,9, -999.000,9,     -999,9,   -999.0,9,   -999.0,9,-999.0000,9,  -999.00,  -999.00,9,   -999.0,9,   -999.0,  -999.00,9,   0.00042,2,    0.007,2,    0.036,2,    0.010,2,   99.828,2
  096U20180111,  SR03,    67,  1,     27,     27,2,20180202,2315,-64.9983, 145.4955, 3301,    250.7,   1.3377,  34.6725,2,  34.6720,2,    194.8,2,    198.8,2,    85.60,2,    32.14,2,     0.02,2,     2.21,2,    -0.01,2, -999.000,9, -999.000,9,     -999,9,   -999.0,9,   -999.0,9,-999.0000,9,  -999.00,  -999.00,9,   -999.0,9,   -999.0,  -999.00,9,   0.00046,2,    0.007,2,    0.036,2,    0.000,2,   99.837,2
  096U20180111,  SR03,    67,  1,     26,     26,2,20180202,2315,-64.9983, 145.4955, 3301,    300.8,   1.3435,  34.6836,2,  34.6857,2,    195.8,2,    199.5,2,    86.80,2,    31.93,2,     0.01,2,     2.20,2,    -0.01,2, -999.000,9, -999.000,9,     -999,9,   -999.0,9,   -999.0,9,-999.0000,9,  -999.00,  -999.00,9,   -999.0,9,   -999.0,  -999.00,9,   0.00044,2,    0.006,2,    0.036,2,    0.000,2,   99.854,2
  096U20180111,  SR03,    67,  1,     25,     25,2,20180202,2315,-64.9983, 145.4955, 3301,    401.6,   1.5290,  34.7203,2,  34.7202,2,    197.3,2,    196.0,2,    90.20,2,    31.48,2,     0.01,2,     2.17,2,    -0.01,2, -999.000,9, -999.000,9,     -999,9,   -999.0,9,   -999.0,9,-999.0000,9,  -999.00,  -999.00,9,   -999.0,9,   -999.0,  -999.00,9,   0.00032,2,    0.000,2,    0.030,2,    0.000,2,  100.010,2
  096U20180111,  SR03,    67,  1,     24,     24,2,20180202,2315,-64.9983, 145.4955, 3301,    501.5,   1.4896,  34.7291,2,  34.7291,2,    199.4,2,    198.1,2,    92.80,2,    31.26,2,     0.01,2,     2.16,2,    -0.01,2, -999.000,9, -999.000,9,     -999,9,   -999.0,9,   -999.0,9,-999.0000,9,  -999.00,  -999.00,9,   -999.0,9,   -999.0,  -999.00,9,   0.00033,2,   -0.001,2,    0.030,2,    0.000,2,  100.021,2
  096U20180111,  SR03,    67,  1,     23,     23,2,20180202,2315,-64.9983, 145.4955, 3301,    601.9,   1.4424,  34.7332,2,  34.7334,2,    203.5,2,    199.1,2,    94.90,2,    31.21,2,     0.01,2,     2.15,2,        0,2, -999.000,9, -999.000,9,     -999,9,   -999.0,9,   -999.0,9,-999.0000,9,  -999.00,  -999.00,9,   -999.0,9,   -999.0,  -999.00,9,   0.00033,2,   -0.001,2,    0.030,2,    0.000,2,  100.032,2
  096U20180111,  SR03,    67,  1,     22,     22,2,20180202,2315,-64.9983, 145.4955, 3301,    700.9,   1.1897,  34.7143,2,  34.7144,2,    205.0,2,    204.2,2,    96.70,2,    31.41,2,     0.01,2,     2.17,2,    -0.01,2, -999.000,9, -999.000,9,     -999,9,   -999.0,9,   -999.0,9,-999.0000,9,  -999.00,  -999.00,9,   -999.0,9,   -999.0,  -999.00,9,   0.00031,2,   -0.001,2,    0.030,2,    0.000,2,  100.026,2
  096U20180111,  SR03,    67,  1,     21,     21,2,20180202,2315,-64.9983, 145.4955, 3301,    852.3,   1.1004,  34.7153,2,  34.7151,2,    205.2,2,    204.3,2,   100.80,2,    31.51,2,     0.01,2,     2.18,2,    -0.01,2, -999.000,9, -999.000,9,     -999,9,   -999.0,9,   -999.0,9,-999.0000,9,  -999.00,  -999.00,9,   -999.0,9,   -999.0,  -999.00,9,   0.00030,2,   -0.002,2,    0.030,2,    0.000,2,  100.039,2
  096U20180111,  SR03,    67,  1,     20,     20,2,20180202,2315,-64.9983, 145.4955, 3301,   1000.1,   1.0151,  34.7152,2,  34.7169,2,    205.7,2,    205.6,2,   105.00,2,    31.70,2,     0.01,2,     2.19,2,    -0.01,2, -999.000,9, -999.000,9,     -999,9,   -999.0,9,   -999.0,9,-999.0000,9,  -999.00,  -999.00,9,   -999.0,9,   -999.0,  -999.00,9,   0.00030,2,   -0.002,2,    0.030,2,    0.000,2,  100.055,2
  096U20180111,  SR03,    67,  1,     19,     19,2,20180202,2315,-64.9983, 145.4955, 3301,   1151.6,   0.9178,  34.7124,2,  34.7129,2,    206.3,2,    206.3,2,   109.00,2,    31.86,2,     0.01,2,     2.21,2,    -0.01,2, -999.000,9, -999.000,9,     -999,9,   -999.0,9,   -999.0,9,-999.0000,9,  -999.00,  -999.00,9,   -999.0,9,   -999.0,  -999.00,9,   0.00028,2,    0.002,2,    0.030,2,    0.000,2,   99.954,2
  096U20180111,  SR03,    67,  1,     18,     18,2,20180202,2315,-64.9983, 145.4955, 3301,   1301.5,   0.8105,  34.7072,2,  34.7083,2,    207.4,2,    208.1,2,   112.20,2,    32.03,2,     0.01,2,     2.22,2,    -0.01,2, -999.000,9, -999.000,9,     -999,9,   -999.0,9,   -999.0,9,-999.0000,9,  -999.00,  -999.00,9,   -999.0,9,   -999.0,  -999.00,9,   0.00027,2,   -0.003,2,    0.036,2,    0.000,2,  100.070,2
  096U20180111,  SR03,    67,  1,     17,     17,2,20180202,2315,-64.9983, 145.4955, 3301,   1451.0,   0.6770,  34.6994,2,  34.6997,2,    208.9,2,    209.4,2,   114.90,2,    32.24,2,     0.01,2,     2.24,2,    -0.01,2, -999.000,9, -999.000,9,     -999,9,   -999.0,9,   -999.0,9,-999.0000,9,  -999.00,  -999.00,9,   -999.0,9,   -999.0,  -999.00,9,   0.00027,2,   -0.004,2,    0.030,2,    0.000,2,  100.087,2
  096U20180111,  SR03,    67,  1,     16,     16,2,20180202,2315,-64.9983, 145.4955, 3301,   1601.0,   0.5628,  34.6939,2,  34.6943,2,    211.3,2,    211.2,2,   117.50,2,    32.34,2,     0.01,2,     2.25,2,    -0.01,2, -999.000,9, -999.000,9,     -999,9,   -999.0,9,   -999.0,9,-999.0000,9,  -999.00,  -999.00,9,   -999.0,9,   -999.0,  -999.00,9,   0.00026,2,   -0.003,2,    0.036,2,    0.000,2,  100.074,2
  096U20180111,  SR03,    67,  1,     15,     15,2,20180202,2315,-64.9983, 145.4955, 3301,   1600.7,   0.5609,  34.6938,2,-999.0000,9,    211.3,2,   -999.0,9,  -999.00,9,  -999.00,9,  -999.00,9,  -999.00,9,     -999,9, -999.000,9, -999.000,9,     -999,9,   -999.0,9,   -999.0,9,-999.0000,9,  -999.00,  -999.00,9,   -999.0,9,   -999.0,  -999.00,9,   0.00026,2,   -0.004,2,    0.030,2,    0.000,2,  100.087,2
  096U20180111,  SR03,    67,  1,     14,     14,2,20180202,2315,-64.9983, 145.4955, 3301,   1800.9,   0.4125,  34.6866,2,  34.7294,4,    214.6,2,    214.5,2,   118.80,2,    32.46,2,     0.01,2,     2.26,2,    -0.01,2, -999.000,9, -999.000,9,     -999,9,   -999.0,9,   -999.0,9,-999.0000,9,  -999.00,  -999.00,9,   -999.0,9,   -999.0,  -999.00,9,   0.00025,2,   -0.004,2,    0.030,2,    0.000,2,  100.088,2
  096U20180111,  SR03,    67,  1,     13,     13,2,20180202,2315,-64.9983, 145.4955, 3301,   1800.8,   0.4113,  34.6866,2,-999.0000,9,    214.6,2,   -999.0,9,  -999.00,9,  -999.00,9,  -999.00,9,  -999.00,9,     -999,9, -999.000,9, -999.000,9,     -999,9,   -999.0,9,   -999.0,9,-999.0000,9,  -999.00,  -999.00,9,   -999.0,9,   -999.0,  -999.00,9,   0.00026,2,   -0.004,2,    0.030,2,    0.000,2,  100.089,2
  096U20180111,  SR03,    67,  1,     12,     12,2,20180202,2315,-64.9983, 145.4955, 3301,   2001.1,   0.2854,  34.6808,2,  34.6815,2,    217.6,2,    218.2,2,   118.10,2,    32.45,2,     0.01,2,     2.26,2,    -0.01,2, -999.000,9, -999.000,9,     -999,9,   -999.0,9,   -999.0,9,-999.0000,9,  -999.00,  -999.00,9,   -999.0,9,   -999.0,  -999.00,9,   0.00025,2,   -0.004,2,    0.030,2,    0.000,2,  100.089,2
  096U20180111,  SR03,    67,  1,     11,     11,2,20180202,2315,-64.9983, 145.4955, 3301,   2001.1,   0.2854,  34.6807,2,-999.0000,9,    217.6,2,   -999.0,9,  -999.00,9,  -999.00,9,  -999.00,9,  -999.00,9,     -999,9, -999.000,9, -999.000,9,     -999,9,   -999.0,9,   -999.0,9,-999.0000,9,  -999.00,  -999.00,9,   -999.0,9,   -999.0,  -999.00,9,   0.00026,2,   -0.004,2,    0.036,2,    0.000,2,  100.093,2
  096U20180111,  SR03,    67,  1,     10,     10,2,20180202,2315,-64.9983, 145.4955, 3301,   2250.7,   0.2067,  34.6795,2,  34.6802,2,    221.0,2,    221.5,2,   121.40,2,    32.49,2,     0.01,2,     2.26,2,    -0.01,2,    0.920,2,    0.480,2,     0.46,2,   -999.0,9,   -999.0,9,-999.0000,9,  -999.00,    18.30,2,   -999.0,9,   -999.0,  -999.00,9,   0.00024,2,   -0.004,2,    0.030,2,    0.000,2,  100.101,2
  096U20180111,  SR03,    67,  1,      9,      9,2,20180202,2315,-64.9983, 145.4955, 3301,   2500.4,   0.1059,  34.6759,2,  34.6755,2,    225.1,2,    224.9,2,   123.70,2,    32.51,2,     0.01,2,     2.26,2,    -0.01,2,    1.060,2,    0.551,2,     0.45,2,   -999.0,9,   -999.0,9,-999.0000,9,  -999.00,    18.21,2,   -999.0,9,   -999.0,  -999.00,9,   0.00024,2,   -0.004,2,    0.030,2,    0.000,2,  100.096,2
  096U20180111,  SR03,    67,  1,      8,      8,2,20180202,2315,-64.9983, 145.4955, 3301,   2751.1,  -0.0031,  34.6698,2,  34.6689,2,    229.3,2,    229.2,2,   121.60,2,    32.37,2,     0.01,2,     2.26,2,    -0.01,2,    1.351,2,    0.707,2,     0.62,2,   -999.0,9,   -999.0,9,-999.0000,9,  -999.00,    18.06,2,   -999.0,9,   -999.0,  -999.00,9,   0.00025,2,   -0.004,2,    0.036,2,    0.000,2,  100.090,2
  096U20180111,  SR03,    67,  1,      7,      7,2,20180202,2315,-64.9983, 145.4955, 3301,   3000.7,  -0.1154,  34.6633,2,  34.6634,2,    234.2,2,    234.1,2,   116.90,2,    32.24,2,     0.01,2,     2.25,2,    -0.01,2,    1.737,2,    0.914,2,     0.87,2,   -999.0,9,   -999.0,9,-999.0000,9,  -999.00,    18.17,2,   -999.0,9,   -999.0,  -999.00,9,   0.00027,2,   -0.002,2,    0.036,2,    0.000,2,  100.050,2
  096U20180111,  SR03,    67,  1,      6,      6,2,20180202,2315,-64.9983, 145.4955, 3301,   3201.0,  -0.1625,  34.6739,2,  34.6734,2,    238.0,2,    237.2,2,   105.20,2,    31.98,2,     0.01,2,     2.23,2,    -0.01,2,    2.084,2,    1.132,2,     1.09,2,   -999.0,9,   -999.0,9,-999.0000,9,  -999.00,    18.12,2,   -999.0,9,   -999.0,  -999.00,9,   0.00033,2,    0.002,2,    0.036,2,    0.000,2,   99.953,2
  096U20180111,  SR03,    67,  1,      5,      5,2,20180202,2315,-64.9983, 145.4955, 3301,   3200.9,  -0.1625,  34.6738,2,-999.0000,9,    238.0,2,   -999.0,9,  -999.00,9,  -999.00,9,  -999.00,9,  -999.00,9,     -999,9, -999.000,9, -999.000,9,     -999,9,   -999.0,9,   -999.0,9,-999.0000,9,  -999.00,  -999.00,9,   -999.0,9,   -999.0,  -999.00,9,   0.00032,2,    0.002,2,    0.030,2,    0.000,2,   99.958,2
  096U20180111,  SR03,    67,  1,      4,      4,2,20180202,2315,-64.9983, 145.4955, 3301,   3310.9,  -0.2525,  34.6697,2,  34.6690,2,    241.2,2,    241.3,2,   104.70,2,    31.98,2,     0.02,2,     2.24,2,    -0.01,2,    2.273,2,    1.239,2,     1.24,2,   -999.0,9,   -999.0,9,-999.0000,9,  -999.00,    18.38,2,   -999.0,9,   -999.0,  -999.00,9,   0.00048,2,    0.011,2,    0.036,2,    0.000,2,   99.732,2
  096U20180111,  SR03,    67,  1,      3,      3,2,20180202,2315,-64.9983, 145.4955, 3301,   3310.7,  -0.2524,  34.6698,2,-999.0000,9,    241.2,2,   -999.0,9,  -999.00,9,  -999.00,9,  -999.00,9,  -999.00,9,     -999,9, -999.000,9, -999.000,9,     -999,9,   -999.0,9,   -999.0,9,-999.0000,9,  -999.00,  -999.00,9,   -999.0,9,   -999.0,  -999.00,9,   0.00057,2,    0.011,2,    0.030,2,    0.000,2,   99.734,2
  096U20180111,  SR03,    67,  1,      2,      2,2,20180202,2315,-64.9983, 145.4955, 3301,   3359.1,  -0.2610,  34.6694,2,-999.0000,9,    242.1,2,   -999.0,9,  -999.00,9,  -999.00,9,  -999.00,9,  -999.00,9,     -999,9, -999.000,9, -999.000,9,     -999,9,   -999.0,9,   -999.0,9,-999.0000,9,  -999.00,  -999.00,9,   -999.0,9,   -999.0,  -999.00,9,   0.00052,2,    0.012,2,    0.036,2,    0.000,2,   99.690,2
  096U20180111,  SR03,    67,  1,      1,      1,2,20180202,2315,-64.9983, 145.4955, 3301,   3359.1,  -0.2610,  34.6694,2,  34.6714,2,    242.1,2,    241.9,2,   104.20,2,    31.98,2,     0.02,2,     2.24,2,    -0.01,2,    2.277,2,    1.237,2,      1.2,2,   -999.0,9,   -999.0,9,-999.0000,9,  -999.00,    18.20,2,   -999.0,9,   -999.0,  -999.00,9,   0.00060,2,    0.013,2,    0.036,2,    0.000,2,   99.682,2