BOTTLE,20230418CCHSIOENA
EXPOCODE,SECT_ID,STNNBR,CASTNO,SAMPNO,BTLNBR,BTLNBR_FLAG_W,DATE,TIME,LATITUDE,LONGITUDE,DEPTH,CTDPRS,CTDTMP,CTDSAL,CTDSAL_FLAG_W,SALNTY,SALNTY_FLAG_W,CTDOXY,CTDOXY_FLAG_W,OXYGEN,OXYGEN_FLAG_W,SILCAT,SILCAT_FLAG_W,NITRAT,NITRAT_FLAG_W,NITRIT,NITRIT_FLAG_W,PHSPHT,PHSPHT_FLAG_W,NH4,NH4_FLAG_W,CFC-11,CFC-11_FLAG_W,CFC-12,CFC-12_FLAG_W,SF6,SF6_FLAG_W,TCARBN,TCARBN_FLAG_W,ALKALI,ALKALI_FLAG_W,PH_TOT,PH_TOT_FLAG_W,PH_TMP,N2O,N2O_FLAG_W,DELC14,DELC14_FLAG_W,C14ERR,DELC13,DELC13_FLAG_W,CTDBETA700,CTDBETA700_FLAG_W,CTDBEAMCP,CTDBEAMCP_FLAG_W,CTDFLUOR,CTDFLUOR_FLAG_W,PAR,PAR_FLAG_W,CTDXMISS,CTDXMISS_FLAG_W
,,,,,,,,,,,METERS,DBAR,ITS-90,PSS-78,,PSS-78,,UMOL/KG,,UMOL/KG,,UMOL/KG,,UMOL/KG,,UMOL/KG,,UMOL/KG,,UMOL/KG,,PMOL/KG,,PMOL/KG,,FMOL/KG,,UMOL/KG,,UMOL/KG,,,,DEG C,NMOL/KG,,/MILLE,,/MILLE,/MILLE,,VOLTS,,1/M,,MG/M^3,,UMOL/M^2/SEC,,%TRANS,
  096U20180111,  SR03,    32,  1,     36,     36,2,20180123,0415,-55.0213, 141.0212, 3139,     15.8,   4.6505,  33.8359,2,  33.8373,2,    316.4,2,    315.8,2,     3.60,2,    24.30,2,     0.24,2,     1.53,2,     0.05,2, -999.000,9, -999.000,9,     -999,9,   2132.6,2,   2276.2,2,-999.0000,9,  -999.00,  -999.00,9,   -999.0,9,   -999.0,  -999.00,9,   0.00239,2,    0.199,2,    0.948,2,   98.200,2,   95.146,2
  096U20180111,  SR03,    32,  1,     35,     35,2,20180123,0415,-55.0213, 141.0212, 3139,     30.6,   4.5982,  33.8350,2,-999.0000,9,    317.0,2,   -999.0,9,  -999.00,9,  -999.00,9,  -999.00,9,  -999.00,9,     -999,9, -999.000,9, -999.000,9,     -999,9,   -999.0,9,   -999.0,9,-999.0000,9,  -999.00,  -999.00,9,   -999.0,9,   -999.0,  -999.00,9,   0.00268,2,    0.208,2,    1.956,2,   26.100,2,   94.923,2
  096U20180111,  SR03,    32,  1,     34,     34,2,20180123,0415,-55.0213, 141.0212, 3139,     30.2,   4.5973,  33.8348,2,  33.8361,2,    317.0,2,    318.4,2,     3.80,2,    24.33,2,     0.24,2,     1.53,2,     0.05,2, -999.000,9, -999.000,9,     -999,9,   -999.0,9,   -999.0,9,-999.0000,9,  -999.00,  -999.00,9,   -999.0,9,   -999.0,  -999.00,9,   0.00255,2,    0.209,2,    1.818,2,   26.300,2,   94.905,2
  096U20180111,  SR03,    32,  1,     33,     33,2,20180123,0415,-55.0213, 141.0212, 3139,     50.2,   4.2788,  33.8301,2,  33.8321,2,    319.4,2,    319.8,2,     5.50,2,    24.78,2,     0.23,2,     1.54,2,     0.06,2, -999.000,9, -999.000,9,     -999,9,   2137.3,2,   2277.4,2,-999.0000,9,  -999.00,  -999.00,9,   -999.0,9,   -999.0,  -999.00,9,   0.00269,2,    0.260,2,    2.850,2,    6.820,2,   93.703,2
  096U20180111,  SR03,    32,  1,     32,     32,2,20180123,0415,-55.0213, 141.0212, 3139,     80.6,   3.2686,  33.8636,2,  33.8688,2,    319.0,2,    321.8,2,     9.80,2,    25.61,2,     0.22,2,     1.78,2,      0.5,2, -999.000,9, -999.000,9,     -999,9,   2145.3,2,   2279.1,6,-999.0000,9,  -999.00,  -999.00,9,   -999.0,9,   -999.0,  -999.00,9,   0.00296,2,    0.230,2,    3.402,2,    0.864,2,   94.419,2
  096U20180111,  SR03,    32,  1,     31,     31,2,20180123,0415,-55.0213, 141.0212, 3139,     91.7,   1.9320,  33.9216,2,-999.0000,9,    321.8,2,   -999.0,9,  -999.00,9,  -999.00,9,  -999.00,9,  -999.00,9,     -999,9, -999.000,9, -999.000,9,     -999,9,   -999.0,9,   -999.0,9,-999.0000,9,  -999.00,  -999.00,9,   -999.0,9,   -999.0,  -999.00,9,   0.00137,2,    0.101,2,    1.596,2,    0.387,2,   97.505,2
  096U20180111,  SR03,    32,  1,     30,     30,2,20180123,0415,-55.0213, 141.0212, 3139,     91.7,   1.9265,  33.9218,2,-999.0000,9,    321.8,2,   -999.0,9,  -999.00,9,  -999.00,9,  -999.00,9,  -999.00,9,     -999,9, -999.000,9, -999.000,9,     -999,9,   -999.0,9,   -999.0,9,-999.0000,9,  -999.00,  -999.00,9,   -999.0,9,   -999.0,  -999.00,9,   0.00137,2,    0.098,2,    1.410,2,    0.384,2,   97.577,2
  096U20180111,  SR03,    32,  1,     29,     29,2,20180123,0415,-55.0213, 141.0212, 3139,     91.7,   1.9177,  33.9217,2,-999.0000,9,    321.8,2,   -999.0,9,  -999.00,9,  -999.00,9,  -999.00,9,  -999.00,9,     -999,9, -999.000,9, -999.000,9,     -999,9,   -999.0,9,   -999.0,9,-999.0000,9,  -999.00,  -999.00,9,   -999.0,9,   -999.0,  -999.00,9,   0.00158,2,    0.101,2,    1.638,2,    0.384,2,   97.500,2
  096U20180111,  SR03,    32,  1,     28,     28,2,20180123,0415,-55.0213, 141.0212, 3139,     91.6,   1.9118,  33.9217,2,-999.0000,9,    321.8,2,   -999.0,9,  -999.00,9,  -999.00,9,  -999.00,9,  -999.00,9,     -999,9, -999.000,9, -999.000,9,     -999,9,   -999.0,9,   -999.0,9,-999.0000,9,  -999.00,  -999.00,9,   -999.0,9,   -999.0,  -999.00,9,   0.00142,2,    0.098,2,    1.464,2,    0.390,2,   97.578,2
  096U20180111,  SR03,    32,  1,     27,     27,2,20180123,0415,-55.0213, 141.0212, 3139,    121.1,   1.6645,  33.9328,2,  33.9343,2,    314.8,2,    319.4,2,    18.10,2,    27.88,2,     0.27,2,     1.92,2,     0.07,2, -999.000,9, -999.000,9,     -999,9,   2161.1,2,   2281.4,2,-999.0000,9,  -999.00,  -999.00,9,   -999.0,9,   -999.0,  -999.00,9,   0.00090,2,    0.032,2,    0.216,2,    0.110,2,   99.212,2
  096U20180111,  SR03,    32,  1,     26,     26,2,20180123,0415,-55.0213, 141.0212, 3139,    180.3,   1.6506,  34.0063,2,  34.0134,2,    300.4,2,    295.7,2,    25.00,2,    29.77,2,     0.01,2,     2.03,2,        0,2, -999.000,9, -999.000,9,     -999,9,   -999.0,9,   -999.0,9,-999.0000,9,  -999.00,  -999.00,9,   -999.0,9,   -999.0,  -999.00,9,   0.00060,2,    0.017,2,    0.060,2,    0.000,2,   99.585,2
  096U20180111,  SR03,    32,  1,     25,     25,2,20180123,0415,-55.0213, 141.0212, 3139,    271.6,   2.3129,  34.1998,2,  34.1963,2,    238.2,2,    237.6,2,    40.50,2,    32.67,2,     0.00,2,     2.23,2,        0,2, -999.000,9, -999.000,9,     -999,9,   2209.5,2,   2299.6,2,-999.0000,9,  -999.00,  -999.00,9,   -999.0,9,   -999.0,  -999.00,9,   0.00056,2,    0.014,2,    0.036,2,    0.000,2,   99.650,2
  096U20180111,  SR03,    32,  1,     24,     24,2,20180123,0415,-55.0213, 141.0212, 3139,    400.6,   2.6125,  34.3675,2,  34.3678,2,    191.1,2,    192.8,2,    55.00,2,    34.53,2,     0.00,2,     2.37,2,        0,2, -999.000,9, -999.000,9,     -999,9,   -999.0,9,   -999.0,9,-999.0000,9,  -999.00,  -999.00,9,   -999.0,9,   -999.0,  -999.00,9,   0.00050,2,    0.010,2,    0.042,2,    0.000,2,   99.756,2
  096U20180111,  SR03,    32,  1,     23,     23,2,20180123,0415,-55.0213, 141.0212, 3139,    500.6,   2.5722,  34.4513,2,  34.4493,2,    179.7,2,    179.8,2,    62.50,2,    34.88,2,     0.00,2,     2.40,2,        0,2, -999.000,9, -999.000,9,     -999,9,   2243.7,2,   2322.4,2,-999.0000,9,  -999.00,  -999.00,9,   -999.0,9,   -999.0,  -999.00,9,   0.00043,2,    0.008,2,    0.042,2,    0.000,2,   99.803,2
  096U20180111,  SR03,    32,  1,     22,     22,2,20180123,0415,-55.0213, 141.0212, 3139,    601.1,   2.5264,  34.5164,2,  34.5163,2,    174.2,2,    174.2,2,    67.70,2,    34.69,2,     0.00,2,     2.38,2,        0,2, -999.000,9, -999.000,9,     -999,9,   -999.0,9,   -999.0,9,-999.0000,9,  -999.00,  -999.00,9,   -999.0,9,   -999.0,  -999.00,9,   0.00047,2,    0.007,2,    0.036,2,    0.000,2,   99.818,2
  096U20180111,  SR03,    32,  1,     21,     21,2,20180123,0415,-55.0213, 141.0212, 3139,    701.4,   2.4658,  34.5749,2,  34.5747,2,    172.8,2,    172.6,2,    71.30,2,    34.17,2,     0.00,2,     2.34,2,        0,2, -999.000,9, -999.000,9,     -999,9,   2253.0,6,   2334.2,6,-999.0000,9,  -999.00,  -999.00,9,   -999.0,9,   -999.0,  -999.00,9,   0.00045,2,    0.006,2,    0.042,2,    0.000,2,   99.855,2
  096U20180111,  SR03,    32,  1,     20,     20,2,20180123,0415,-55.0213, 141.0212, 3139,    801.2,   2.3859,  34.6129,2,  34.6135,2,    172.2,2,    172.1,2,    74.40,2,    33.85,2,     0.00,2,     2.32,2,        0,2, -999.000,9, -999.000,9,     -999,9,   -999.0,9,   -999.0,9,-999.0000,9,  -999.00,  -999.00,9,   -999.0,9,   -999.0,  -999.00,9,   0.00040,2,    0.005,2,    0.042,2,    0.000,2,   99.877,2
  096U20180111,  SR03,    32,  1,     19,     19,2,20180123,0415,-55.0213, 141.0212, 3139,    899.8,   2.3510,  34.6506,2,  34.6517,2,    174.7,2,    175.1,2,    76.00,2,    33.12,2,     0.00,2,     2.28,2,        0,2, -999.000,9, -999.000,9,     -999,9,   -999.0,9,   -999.0,9,-999.0000,9,  -999.00,  -999.00,9,   -999.0,9,   -999.0,  -999.00,9,   0.00039,2,    0.004,2,    0.036,2,    0.000,2,   99.899,2
  096U20180111,  SR03,    32,  1,     18,     18,2,20180123,0415,-55.0213, 141.0212, 3139,   1001.5,   2.2971,  34.6744,2,-999.0000,9,    178.1,2,   -999.0,9,  -999.00,9,  -999.00,9,  -999.00,9,  -999.00,9,     -999,9, -999.000,9, -999.000,9,     -999,9,   -999.0,9,   -999.0,9,-999.0000,9,  -999.00,  -999.00,9,   -999.0,9,   -999.0,  -999.00,9,   0.00039,2,    0.004,2,    0.042,2,    0.000,2,   99.901,2
  096U20180111,  SR03,    32,  1,     17,     17,2,20180123,0415,-55.0213, 141.0212, 3139,   1001.3,   2.2959,  34.6750,2,  34.6750,2,    178.1,2,    177.7,2,    77.30,2,    32.66,2,     0.00,2,     2.24,2,        0,2, -999.000,9, -999.000,9,     -999,9,   2251.9,2,   2340.6,2,-999.0000,9,  -999.00,  -999.00,9,   -999.0,9,   -999.0,  -999.00,9,   0.00039,2,    0.004,2,    0.036,2,    0.000,2,   99.905,2
  096U20180111,  SR03,    32,  1,     16,     16,2,20180123,0415,-55.0213, 141.0212, 3139,   1201.2,   2.1720,  34.7185,2,  34.7183,2,    184.8,2,    185.2,2,    79.80,2,    31.47,2,     0.00,2,     2.17,2,        0,2, -999.000,9, -999.000,9,     -999,9,   -999.0,9,   -999.0,9,-999.0000,9,  -999.00,  -999.00,9,   -999.0,9,   -999.0,  -999.00,9,   0.00037,2,    0.002,2,    0.042,2,    0.000,2,   99.940,2
  096U20180111,  SR03,    32,  1,     15,     15,2,20180123,0415,-55.0213, 141.0212, 3139,   1451.4,   2.0039,  34.7404,2,-999.0000,9,    191.4,2,   -999.0,9,  -999.00,9,  -999.00,9,  -999.00,9,  -999.00,9,     -999,9, -999.000,9, -999.000,9,     -999,9,   -999.0,9,   -999.0,9,-999.0000,9,  -999.00,  -999.00,9,   -999.0,9,   -999.0,  -999.00,9,   0.00035,2,    0.002,2,    0.042,2,    0.000,2,   99.961,2
  096U20180111,  SR03,    32,  1,     14,     14,2,20180123,0415,-55.0213, 141.0212, 3139,   1451.5,   2.0011,  34.7404,2,  34.7410,2,    191.4,2,    191.7,2,    84.00,2,    30.84,2,     0.00,2,     2.12,2,        0,2, -999.000,9, -999.000,9,     -999,9,   -999.0,9,   -999.0,9,-999.0000,9,  -999.00,  -999.00,9,   -999.0,9,   -999.0,  -999.00,9,   0.00034,2,    0.002,2,    0.042,2,    0.000,2,   99.958,2
  096U20180111,  SR03,    32,  1,     13,     13,2,20180123,0415,-55.0213, 141.0212, 3139,   1701.0,   1.7855,  34.7460,2,  34.7470,2,    196.1,2,    196.2,2,    89.60,2,    30.70,2,     0.00,2,     2.12,2,        0,2, -999.000,9, -999.000,9,     -999,9,   -999.0,9,   -999.0,9,-999.0000,9,  -999.00,  -999.00,9,   -999.0,9,   -999.0,  -999.00,9,   0.00032,2,    0.001,2,    0.042,2,    0.000,2,   99.972,2
  096U20180111,  SR03,    32,  1,     12,     12,2,20180123,0415,-55.0213, 141.0212, 3139,   1951.1,   1.5546,  34.7417,2,-999.0000,9,    199.3,2,   -999.0,9,  -999.00,9,  -999.00,9,  -999.00,9,  -999.00,9,     -999,9, -999.000,9, -999.000,9,     -999,9,   -999.0,9,   -999.0,9,-999.0000,9,  -999.00,  -999.00,9,   -999.0,9,   -999.0,  -999.00,9,   0.00032,2,    0.000,2,    0.036,2,    0.000,2,   99.991,2
  096U20180111,  SR03,    32,  1,     11,     11,2,20180123,0415,-55.0213, 141.0212, 3139,   1951.0,   1.5525,  34.7416,2,  34.7420,2,    199.3,2,    199.4,2,    96.50,2,    30.91,2,     0.00,2,     2.13,2,        0,2, -999.000,9, -999.000,9,     -999,9,   2253.5,2,   2355.9,2,-999.0000,9,  -999.00,  -999.00,9,   -999.0,9,   -999.0,  -999.00,9,   0.00032,2,    0.000,2,    0.036,2,    0.000,2,   99.991,2
  096U20180111,  SR03,    32,  1,     10,     10,2,20180123,0415,-55.0213, 141.0212, 3139,   2201.4,   1.3239,  34.7324,2,-999.0000,9,    201.8,2,   -999.0,9,  -999.00,9,  -999.00,9,  -999.00,9,  -999.00,9,     -999,9, -999.000,9, -999.000,9,     -999,9,   -999.0,9,   -999.0,9,-999.0000,9,  -999.00,  -999.00,9,   -999.0,9,   -999.0,  -999.00,9,   0.00032,2,    0.000,2,    0.042,2,    0.000,2,   99.994,2
  096U20180111,  SR03,    32,  1,      9,      9,2,20180123,0415,-55.0213, 141.0212, 3139,   2201.3,   1.3231,  34.7323,2,  34.7332,2,    201.8,2,    202.2,2,   103.70,2,    31.28,2,     0.00,2,     2.16,2,        0,2, -999.000,9, -999.000,9,     -999,9,   -999.0,9,   -999.0,9,-999.0000,9,  -999.00,  -999.00,9,   -999.0,9,   -999.0,  -999.00,9,   0.00032,2,    0.000,2,    0.036,2,    0.000,2,   99.990,2
  096U20180111,  SR03,    32,  1,      8,      8,2,20180123,0415,-55.0213, 141.0212, 3139,   2500.4,   1.0695,  34.7198,2,-999.0000,9,    205.4,2,   -999.0,9,  -999.00,9,  -999.00,9,  -999.00,9,  -999.00,9,     -999,9, -999.000,9, -999.000,9,     -999,9,   -999.0,9,   -999.0,9,-999.0000,9,  -999.00,  -999.00,9,   -999.0,9,   -999.0,  -999.00,9,   0.00031,2,    0.000,2,    0.042,2,    0.000,2,  100.000,2
  096U20180111,  SR03,    32,  1,      7,      7,2,20180123,0415,-55.0213, 141.0212, 3139,   2500.3,   1.0694,  34.7198,2,  34.7208,2,    205.4,2,    204.9,2,   111.70,2,    31.75,2,     0.00,2,     2.20,2,        0,2, -999.000,9, -999.000,9,     -999,9,   -999.0,9,   -999.0,9,-999.0000,9,  -999.00,  -999.00,9,   -999.0,9,   -999.0,  -999.00,9,   0.00030,2,    0.000,2,    0.042,2,    0.000,2,   99.998,2
  096U20180111,  SR03,    32,  1,      6,      6,2,20180123,0415,-55.0213, 141.0212, 3139,   2802.5,   0.8090,  34.7066,2,-999.0000,9,    209.2,2,   -999.0,9,  -999.00,9,  -999.00,9,  -999.00,9,  -999.00,9,     -999,9, -999.000,9, -999.000,9,     -999,9,   -999.0,9,   -999.0,9,-999.0000,9,  -999.00,  -999.00,9,   -999.0,9,   -999.0,  -999.00,9,   0.00030,2,    0.000,2,    0.042,2,    0.000,2,   99.989,2
  096U20180111,  SR03,    32,  1,      5,      5,2,20180123,0415,-55.0213, 141.0212, 3139,   2802.6,   0.8064,  34.7065,2,  34.7072,2,    209.2,2,    209.0,2,   120.40,2,    32.15,2,     0.00,2,     2.23,2,        0,2, -999.000,9, -999.000,9,     -999,9,   -999.0,9,   -999.0,9,-999.0000,9,  -999.00,  -999.00,9,   -999.0,9,   -999.0,  -999.00,9,   0.00031,2,    0.000,2,    0.036,2,    0.000,2,   99.989,2
  096U20180111,  SR03,    32,  1,      4,      4,2,20180123,0415,-55.0213, 141.0212, 3139,   3099.7,   0.6842,  34.7000,2,  34.7000,2,    211.1,2,    211.0,2,   127.70,2,    32.37,2,     0.00,2,     2.25,2,        0,2, -999.000,9, -999.000,9,     -999,9,   -999.0,9,   -999.0,9,-999.0000,9,  -999.00,  -999.00,9,   -999.0,9,   -999.0,  -999.00,9,   0.00032,2,    0.002,2,    0.042,2,    0.000,2,   99.942,2
  096U20180111,  SR03,    32,  1,      3,      3,2,20180123,0415,-55.0213, 141.0212, 3139,   3300.4,   0.6926,  34.6995,2,  34.6998,2,    211.0,2,    211.1,2,   128.60,2,    32.39,2,     0.00,2,     2.25,2,        0,2, -999.000,9, -999.000,9,     -999,9,   2260.2,2,   2362.2,2,-999.0000,9,  -999.00,  -999.00,9,   -999.0,9,   -999.0,  -999.00,9,   0.00033,2,    0.003,2,    0.042,2,    0.000,2,   99.933,2
  096U20180111,  SR03,    32,  1,      2,      2,2,20180123,0415,-55.0213, 141.0212, 3139,   3360.8,   0.6971,  34.6993,2,-999.0000,9,    211.1,2,   -999.0,9,  -999.00,9,  -999.00,9,  -999.00,9,  -999.00,9,     -999,9, -999.000,9, -999.000,9,     -999,9,   -999.0,9,   -999.0,9,-999.0000,9,  -999.00,  -999.00,9,   -999.0,9,   -999.0,  -999.00,9,   0.00032,2,    0.003,2,    0.042,2,    0.000,2,   99.929,2
  096U20180111,  SR03,    32,  1,      1,      1,2,20180123,0415,-55.0213, 141.0212, 3139,   3360.9,   0.6972,  34.6993,2,  34.6991,2,    211.1,2,    211.3,2,   128.90,2,    32.37,2,     0.00,2,     2.25,2,        0,2, -999.000,9, -999.000,9,     -999,9,   -999.0,9,   -999.0,9,-999.0000,9,  -999.00,  -999.00,9,   -999.0,9,   -999.0,  -999.00,9,   0.00034,2,    0.003,2,    0.036,2,    0.000,2,   99.931,2