BOTTLE,20230418CCHSIOENA
EXPOCODE,SECT_ID,STNNBR,CASTNO,SAMPNO,BTLNBR,BTLNBR_FLAG_W,DATE,TIME,LATITUDE,LONGITUDE,DEPTH,CTDPRS,CTDTMP,CTDSAL,CTDSAL_FLAG_W,SALNTY,SALNTY_FLAG_W,CTDOXY,CTDOXY_FLAG_W,OXYGEN,OXYGEN_FLAG_W,SILCAT,SILCAT_FLAG_W,NITRAT,NITRAT_FLAG_W,NITRIT,NITRIT_FLAG_W,PHSPHT,PHSPHT_FLAG_W,NH4,NH4_FLAG_W,CFC-11,CFC-11_FLAG_W,CFC-12,CFC-12_FLAG_W,SF6,SF6_FLAG_W,TCARBN,TCARBN_FLAG_W,ALKALI,ALKALI_FLAG_W,PH_TOT,PH_TOT_FLAG_W,PH_TMP,N2O,N2O_FLAG_W,DELC14,DELC14_FLAG_W,C14ERR,DELC13,DELC13_FLAG_W,CTDBETA700,CTDBETA700_FLAG_W,CTDBEAMCP,CTDBEAMCP_FLAG_W,CTDFLUOR,CTDFLUOR_FLAG_W,PAR,PAR_FLAG_W,CTDXMISS,CTDXMISS_FLAG_W
,,,,,,,,,,,METERS,DBAR,ITS-90,PSS-78,,PSS-78,,UMOL/KG,,UMOL/KG,,UMOL/KG,,UMOL/KG,,UMOL/KG,,UMOL/KG,,UMOL/KG,,PMOL/KG,,PMOL/KG,,FMOL/KG,,UMOL/KG,,UMOL/KG,,,,DEG C,NMOL/KG,,/MILLE,,/MILLE,/MILLE,,VOLTS,,1/M,,MG/M^3,,UMOL/M^2/SEC,,%TRANS,
  096U20180111,  SR03,    35,  1,     36,     36,2,20180124,0509,-56.4303, 140.1008, 3843,     15.7,   4.3159,  33.8543,2,-999.0000,9,    318.2,2,   -999.0,9,  -999.00,9,  -999.00,9,  -999.00,9,  -999.00,9,     -999,9, -999.000,9, -999.000,9,     -999,9,   -999.0,9,   -999.0,9,-999.0000,9,  -999.00,  -999.00,9,   -999.0,9,   -999.0,  -999.00,9,   0.00224,2,    0.200,2,    1.086,2,   71.100,2,   95.118,2
  096U20180111,  SR03,    35,  1,     35,     35,2,20180124,0509,-56.4303, 140.1008, 3843,     15.9,   4.3147,  33.8542,2,  33.8549,2,    318.2,2,    317.4,2,     3.90,2,    24.08,2,     0.25,2,     1.53,2,     0.06,2,    4.552,2,    2.471,2,     2.99,2,   2135.3,2,   2279.7,2,-999.0000,9,  -999.00,    13.06,2,   -113.2,2,      2.0,    -0.39,4,   0.00232,2,    0.202,2,    1.230,2,   73.500,2,   95.066,2
  096U20180111,  SR03,    35,  1,     34,     34,2,20180124,0509,-56.4303, 140.1008, 3843,     39.5,   4.2034,  33.8546,2,  33.8553,2,    318.7,2,    318.5,2,     3.90,2,    24.32,2,     0.24,2,     1.55,2,     0.07,2,    4.538,2,    2.494,2,     3.12,2,   2136.5,6,   2281.2,6,-999.0000,9,  -999.00,    12.86,2,   -999.0,5,   -999.0,  -999.00,5,   0.00274,2,    0.233,2,    2.346,2,   15.200,2,   94.333,2
  096U20180111,  SR03,    35,  1,     33,     33,2,20180124,0509,-56.4303, 140.1008, 3843,     64.4,   3.8928,  33.8608,2,  33.8772,2,    319.2,2,    320.3,2,     5.90,2,    24.70,2,     0.24,2,     1.63,2,     0.29,2,    4.655,2,    2.519,2,     3.24,2,   2142.0,2,   2282.1,2,-999.0000,9,  -999.00,    13.48,2,    -69.2,2,      2.1,     1.56,2,   0.00343,2,    0.261,2,    3.798,2,    2.570,2,   93.673,2
  096U20180111,  SR03,    35,  1,     32,     32,2,20180124,0509,-56.4303, 140.1008, 3843,     88.2,   2.0242,  33.9091,2,  33.9109,2,    326.7,2,    328.2,2,    16.30,2,    26.42,2,     0.22,2,     1.95,2,     0.87,2,    5.040,2,    2.715,2,     3.17,2,   2159.2,2,   2284.7,6,-999.0000,9,  -999.00,    14.04,2,    -70.3,2,      1.9,     1.29,2,   0.00128,2,    0.083,2,    1.308,2,    0.477,2,   97.946,2
  096U20180111,  SR03,    35,  1,     31,     31,2,20180124,0509,-56.4303, 140.1008, 3843,    119.5,   1.3668,  33.9274,2,  33.9283,2,    323.2,2,    325.3,2,    19.10,2,    27.50,2,     0.31,2,     1.96,2,     0.41,2,    5.025,2,    2.731,2,     3.28,2,   2165.4,2,   2284.4,2,-999.0000,9,  -999.00,    14.25,2,    -69.0,2,      2.3,     1.24,2,   0.00103,2,    0.035,2,    0.354,2,    0.096,2,   99.129,2
  096U20180111,  SR03,    35,  1,     30,     30,2,20180124,0509,-56.4303, 140.1008, 3843,    159.2,   1.3460,  33.9694,2,  33.9684,2,    316.0,2,    312.3,2,    22.60,2,    28.93,2,     0.05,2,     2.01,2,        0,2, -999.000,9, -999.000,9,     -999,9,   2172.8,2,   2287.3,2,-999.0000,9,  -999.00,  -999.00,9,    -75.1,2,      2.1,     1.18,2,   0.00070,2,    0.023,2,    0.096,2,    0.005,2,   99.414,2
  096U20180111,  SR03,    35,  1,     29,     29,2,20180124,0509,-56.4303, 140.1008, 3843,    159.1,   1.3623,  33.9726,2,-999.0000,9,    316.0,2,   -999.0,9,  -999.00,9,  -999.00,9,  -999.00,9,  -999.00,9,     -999,9, -999.000,9, -999.000,9,     -999,9,   -999.0,9,   -999.0,9,-999.0000,9,  -999.00,  -999.00,9,   -999.0,9,   -999.0,  -999.00,9,   0.00071,2,    0.024,2,    0.096,2,    0.004,2,   99.398,2
  096U20180111,  SR03,    35,  1,     28,     28,2,20180124,0509,-56.4303, 140.1008, 3843,    220.2,   1.9204,  34.1057,2,  34.1124,2,    251.6,2,    264.4,2,    33.60,2,    31.24,2,     0.01,2,     2.17,2,        0,2,    3.897,2,    2.119,2,     2.13,2,   2197.4,2,   2294.7,2,-999.0000,9,  -999.00,    18.34,2,    -78.8,2,      2.1,     0.93,2,   0.00055,2,    0.016,2,    0.042,2,    0.000,2,   99.591,2
  096U20180111,  SR03,    35,  1,     27,     27,2,20180124,0509,-56.4303, 140.1008, 3843,    269.9,   2.2481,  34.2062,2,  34.2080,2,    233.0,2,    234.0,2,    42.20,2,    32.70,2,     0.01,2,     2.27,2,     0.01,2, -999.000,9, -999.000,9,     -999,9,   -999.0,9,   -999.0,9,-999.0000,9,  -999.00,  -999.00,9,   -999.0,9,   -999.0,  -999.00,9,   0.00058,2,    0.017,2,    0.036,2,    0.000,2,   99.575,2
  096U20180111,  SR03,    35,  1,     26,     26,2,20180124,0509,-56.4303, 140.1008, 3843,    318.7,   2.3279,  34.2765,2,  34.2769,2,    215.5,2,    214.9,2,    48.60,2,    33.61,2,     0.01,2,     2.33,2,        0,2,    2.669,2,    1.398,2,     1.29,2,   2225.4,2,   2308.4,2,-999.0000,9,  -999.00,    21.92,2,   -104.8,2,      2.3,     0.76,2,   0.00062,2,    0.016,2,    0.036,2,    0.000,2,   99.608,2
  096U20180111,  SR03,    35,  1,     25,     25,2,20180124,0509,-56.4303, 140.1008, 3843,    368.9,   2.4118,  34.3354,2,  34.3357,2,    200.0,2,    200.4,2,    53.90,2,    34.22,2,     0.01,2,     2.37,2,        0,2,    2.223,2,    1.154,2,     0.93,2,   2234.0,2,   2314.0,2,-999.0000,9,  -999.00,    22.46,2,   -111.0,2,      1.9,     0.46,2,   0.00058,2,    0.012,2,    0.036,2,    0.000,2,   99.694,2
  096U20180111,  SR03,    35,  1,     24,     24,2,20180124,0509,-56.4303, 140.1008, 3843,    419.2,   2.4442,  34.3948,2,  34.3935,2,    189.8,2,    188.9,2,    59.20,2,    34.58,2,     0.01,2,     2.40,2,        0,2, -999.000,9, -999.000,9,     -999,9,   -999.0,9,   -999.0,9,-999.0000,9,  -999.00,  -999.00,9,   -999.0,9,   -999.0,  -999.00,9,   0.00048,2,    0.010,2,    0.036,2,    0.000,2,   99.760,2
  096U20180111,  SR03,    35,  1,     23,     23,2,20180124,0509,-56.4303, 140.1008, 3843,    525.1,   2.4713,  34.4822,2,  34.4838,2,    177.0,2,    176.5,2,    66.10,2,    34.63,2,     0.01,2,     2.41,2,        0,2,    1.217,2,    0.626,2,      0.4,2,   2249.2,2,   2326.8,2,-999.0000,9,  -999.00,    23.21,2,   -129.8,2,      2.9,     0.31,2,   0.00044,2,    0.008,2,    0.036,2,    0.000,2,   99.807,2
  096U20180111,  SR03,    35,  1,     22,     22,2,20180124,0509,-56.4303, 140.1008, 3843,    624.8,   2.4537,  34.5422,2,  34.5416,2,    172.4,2,    172.3,2,    70.00,2,    34.31,2,     0.00,2,     2.39,2,        0,2,    0.884,2,    0.469,2,     0.24,2,   2253.1,2,   2332.7,2,-999.0000,9,  -999.00,    23.00,2,   -135.8,2,      1.8,     0.33,2,   0.00043,2,    0.007,2,    0.042,2,    0.000,2,   99.821,2
  096U20180111,  SR03,    35,  1,     21,     21,2,20180124,0509,-56.4303, 140.1008, 3843,    700.1,   2.4045,  34.5813,2,  34.5807,2,    171.6,2,    171.4,2,    72.60,2,    33.98,2,     0.01,2,     2.37,2,        0,2,    0.717,2,    0.382,2,     0.26,2,   2255.5,2,   2335.0,2,-999.0000,9,  -999.00,    22.91,2,   -139.0,2,      1.9,     0.25,2,   0.00042,2,    0.007,2,    0.042,2,    0.000,2,   99.832,2
  096U20180111,  SR03,    35,  1,     20,     20,2,20180124,0509,-56.4303, 140.1008, 3843,    799.5,   2.3722,  34.6274,2,  34.6248,2,    173.1,2,    173.1,2,    74.50,2,    33.30,2,     0.00,2,     2.32,2,        0,2,    0.535,2,    0.290,2,     0.18,2,   2255.7,6,   2339.2,6,-999.0000,9,  -999.00,    22.07,2,   -205.5,4,      1.7,    -2.06,4,   0.00037,2,    0.005,2,    0.042,2,    0.000,2,   99.869,2
  096U20180111,  SR03,    35,  1,     19,     19,2,20180124,0509,-56.4303, 140.1008, 3843,    900.7,   2.3270,  34.6616,2,  34.6606,2,    176.2,2,    175.9,2,    76.10,2,    32.56,2,     0.00,2,     2.28,2,        0,2, -999.000,9, -999.000,9,     -999,9,   -999.0,9,   -999.0,9,-999.0000,9,  -999.00,  -999.00,9,   -999.0,9,   -999.0,  -999.00,9,   0.00039,2,    0.005,2,    0.036,2,    0.000,2,   99.872,2
  096U20180111,  SR03,    35,  1,     18,     18,2,20180124,0509,-56.4303, 140.1008, 3843,   1025.1,   2.2601,  34.6918,2,  34.6908,2,    180.6,2,    180.2,2,    77.60,2,    31.86,2,     0.00,2,     2.23,2,        0,2,    0.336,2,    0.184,2,     0.07,2,   2251.4,2,   2344.8,2,-999.0000,9,  -999.00,    20.94,2,   -149.0,2,      1.8,     0.28,2,   0.00040,2,    0.004,2,    0.036,2,    0.000,2,   99.908,2
  096U20180111,  SR03,    35,  1,     17,     17,2,20180124,0509,-56.4303, 140.1008, 3843,   1226.5,   2.1370,  34.7248,2,  34.7250,2,    186.7,2,    186.8,2,    80.30,2,    30.95,2,     0.00,2,     2.17,2,        0,2,    0.248,2,    0.136,2,     0.04,2,   2250.8,2,   2348.1,2,-999.0000,9,  -999.00,    19.77,2,   -153.5,2,      1.9,     0.37,2,   0.00037,2,    0.003,2,    0.042,2,    0.000,2,   99.922,2
  096U20180111,  SR03,    35,  1,     16,     16,2,20180124,0509,-56.4303, 140.1008, 3843,   1451.0,   1.9878,  34.7424,2,  34.7418,2,    192.0,2,    192.3,2,    83.70,2,    30.43,2,     0.01,2,     2.13,2,        0,2,    0.197,2,    0.099,2,     0.06,2,   2248.0,2,   2351.6,2,-999.0000,9,  -999.00,    18.98,2,   -154.7,2,      1.8,     0.35,2,   0.00035,2,    0.003,2,    0.036,2,    0.000,2,   99.928,2
  096U20180111,  SR03,    35,  1,     15,     15,2,20180124,0509,-56.4303, 140.1008, 3843,   1649.2,   1.8151,  34.7469,2,  34.7473,2,    196.4,2,    196.0,2,    88.30,2,    30.34,2,     0.00,2,     2.12,2,        0,2, -999.000,9, -999.000,9,     -999,9,   2249.0,2,   2353.3,2,-999.0000,9,  -999.00,  -999.00,9,   -150.4,2,      1.9,     0.37,2,   0.00036,2,    0.002,2,    0.042,2,    0.000,2,   99.937,2
  096U20180111,  SR03,    35,  1,     14,     14,2,20180124,0509,-56.4303, 140.1008, 3843,   1850.9,   1.6303,  34.7440,2,  34.7453,2,    198.8,2,    198.4,2,    93.50,2,    30.51,2,     0.00,2,     2.14,2,        0,2,    0.181,2,    0.095,2,     0.03,2,   2252.1,2,   2357.1,2,-999.0000,9,  -999.00,    18.62,2,   -154.0,2,      2.3,     0.35,2,   0.00033,2,    0.002,2,    0.042,2,    0.000,2,   99.939,2
  096U20180111,  SR03,    35,  1,     13,     13,2,20180124,0509,-56.4303, 140.1008, 3843,   2050.7,   1.4495,  34.7378,2,  34.7384,2,    201.1,2,    200.5,2,    98.90,2,    30.75,2,     0.00,2,     2.16,2,        0,2, -999.000,9, -999.000,9,     -999,9,   -999.0,9,   -999.0,9,-999.0000,9,  -999.00,  -999.00,9,   -999.0,9,   -999.0,  -999.00,9,   0.00031,2,    0.002,2,    0.036,2,    0.000,2,   99.961,2
  096U20180111,  SR03,    35,  1,     12,     12,2,20180124,0509,-56.4303, 140.1008, 3843,   2249.2,   1.2955,  34.7313,2,  34.7308,2,    202.8,2,    202.5,2,   103.80,2,    30.96,2,     0.01,2,     2.17,2,        0,2,    0.196,2,    0.100,2,     0.05,2,   2255.7,2,   2360.2,2,-999.0000,9,  -999.00,    18.54,2,   -148.6,2,      2.0,     0.55,2,   0.00031,2,    0.001,2,    0.036,2,    0.000,2,   99.977,2
  096U20180111,  SR03,    35,  1,     11,     11,2,20180124,0509,-56.4303, 140.1008, 3843,   2452.0,   1.1052,  34.7220,2,  34.7241,2,    204.5,2,    204.4,2,   109.60,2,    31.32,2,     0.01,2,     2.20,2,        0,2, -999.000,9, -999.000,9,     -999,9,   -999.0,9,   -999.0,9,-999.0000,9,  -999.00,  -999.00,9,   -999.0,9,   -999.0,  -999.00,9,   0.00030,2,    0.001,2,    0.036,2,    0.000,2,   99.987,2
  096U20180111,  SR03,    35,  1,     10,     10,2,20180124,0509,-56.4303, 140.1008, 3843,   2651.0,   0.9563,  34.7142,2,  34.7141,2,    206.4,2,    206.4,2,   114.30,2,    31.58,2,     0.00,2,     2.22,2,        0,2,    0.257,2,    0.133,2,     0.02,2,   2259.5,2,   2360.8,2,-999.0000,9,  -999.00,    18.27,2,   -161.2,2,      1.8,     0.36,2,   0.00028,2,    0.000,2,    0.042,2,    0.000,2,   99.992,2
  096U20180111,  SR03,    35,  1,      9,      9,2,20180124,0509,-56.4303, 140.1008, 3843,   2850.5,   0.8020,  34.7060,2,  34.7063,2,    208.7,2,    208.9,2,   118.20,2,    31.79,2,     0.01,2,     2.24,2,        0,2, -999.000,9, -999.000,9,     -999,9,   -999.0,9,   -999.0,9,-999.0000,9,  -999.00,  -999.00,9,   -999.0,9,   -999.0,  -999.00,9,   0.00027,2,    0.000,2,    0.036,2,    0.000,2,   99.992,2
  096U20180111,  SR03,    35,  1,      8,      8,2,20180124,0509,-56.4303, 140.1008, 3843,   3050.5,   0.6362,  34.6977,2,-999.0000,9,    211.9,2,   -999.0,9,  -999.00,9,  -999.00,9,  -999.00,9,  -999.00,9,     -999,9, -999.000,9, -999.000,9,     -999,9,   -999.0,9,   -999.0,9,-999.0000,9,  -999.00,  -999.00,9,   -999.0,9,   -999.0,  -999.00,9,   0.00027,2,    0.001,2,    0.036,2,    0.000,2,   99.976,2
  096U20180111,  SR03,    35,  1,      7,      7,2,20180124,0509,-56.4303, 140.1008, 3843,   3249.3,   0.5445,  34.6934,2,  34.6933,2,    214.0,2,    214.2,2,   127.10,2,    32.12,2,     0.00,2,     2.26,2,        0,2,    0.492,2,    0.260,2,     0.07,2,   2262.1,2,   2362.4,2,-999.0000,9,  -999.00,    18.34,2,   -161.1,2,      1.9,     0.27,2,   0.00030,2,    0.001,2,    0.042,2,    0.000,2,   99.967,2
  096U20180111,  SR03,    35,  1,      6,      6,2,20180124,0509,-56.4303, 140.1008, 3843,   3451.0,   0.4964,  34.6909,2,  34.6915,2,    215.3,2,    215.6,2,   131.80,2,    32.20,2,     0.00,2,     2.27,2,        0,2,    0.558,2,    0.285,2,     0.24,3,   -999.0,9,   -999.0,9,-999.0000,9,  -999.00,    18.26,2,   -999.0,9,   -999.0,  -999.00,9,   0.00034,2,    0.004,2,    0.036,2,    0.000,2,   99.909,2
  096U20180111,  SR03,    35,  1,      5,      5,2,20180124,0509,-56.4303, 140.1008, 3843,   3586.5,   0.4567,  34.6882,2,  34.6883,2,    216.3,2,    216.6,2,   132.30,2,    32.19,2,     0.00,2,     2.28,2,        0,2,    0.587,2,    0.303,2,     0.03,2,   2262.8,2,   2362.8,2,-999.0000,9,  -999.00,    18.10,2,   -156.8,2,      2.0,     0.34,2,   0.00029,2,    0.002,2,    0.042,2,    0.000,2,   99.943,2
  096U20180111,  SR03,    35,  1,      4,      4,2,20180124,0509,-56.4303, 140.1008, 3843,   3721.0,   0.4225,  34.6864,2,  34.6876,2,    217.1,2,    217.5,2,   134.50,2,    32.25,2,     0.00,2,     2.28,2,        0,2,    0.629,6,    0.318,6,     0.14,6,   -999.0,9,   -999.0,9,-999.0000,9,  -999.00,    18.12,6,   -999.0,9,   -999.0,  -999.00,9,   0.00030,2,    0.003,2,    0.042,2,    0.000,2,   99.915,2
  096U20180111,  SR03,    35,  1,      3,      3,2,20180124,0509,-56.4303, 140.1008, 3843,   3930.5,   0.4261,  34.6856,2,  34.7077,4,    217.5,2,    218.1,2,   135.00,2,    32.25,2,     0.00,2,     2.28,2,        0,2,    0.648,2,    0.335,2,     0.07,2,   2262.7,6,   2363.2,6,-999.0000,9,  -999.00,    18.13,2,   -161.1,2,      1.8,     0.32,2,   0.00035,2,    0.004,2,    0.042,2,    0.000,2,   99.905,2
  096U20180111,  SR03,    35,  1,      2,      2,2,20180124,0509,-56.4303, 140.1008, 3843,   3986.9,   0.4137,  34.6846,2,-999.0000,9,    217.7,2,   -999.0,9,  -999.00,9,  -999.00,9,  -999.00,9,  -999.00,9,     -999,9, -999.000,9, -999.000,9,     -999,9,   -999.0,9,   -999.0,9,-999.0000,9,  -999.00,  -999.00,9,   -999.0,9,   -999.0,  -999.00,9,   0.00029,2,    0.004,2,    0.042,2,    0.000,2,   99.908,2
  096U20180111,  SR03,    35,  1,      1,      1,2,20180124,0509,-56.4303, 140.1008, 3843,   3986.7,   0.4150,  34.6848,2,  34.6849,2,    217.7,2,    218.4,2,   135.10,2,    32.24,2,     0.00,2,     2.28,2,        0,2,    0.664,2,    0.333,2,      0.1,2,   2261.8,2,   2363.4,2,-999.0000,9,  -999.00,    18.32,2,   -157.4,2,      2.0,     0.50,2,   0.00029,2,    0.004,2,    0.036,2,    0.000,2,   99.913,2