BOTTLE,20230418CCHSIOENA
EXPOCODE,SECT_ID,STNNBR,CASTNO,SAMPNO,BTLNBR,BTLNBR_FLAG_W,DATE,TIME,LATITUDE,LONGITUDE,DEPTH,CTDPRS,CTDTMP,CTDSAL,CTDSAL_FLAG_W,SALNTY,SALNTY_FLAG_W,CTDOXY,CTDOXY_FLAG_W,OXYGEN,OXYGEN_FLAG_W,SILCAT,SILCAT_FLAG_W,NITRAT,NITRAT_FLAG_W,NITRIT,NITRIT_FLAG_W,PHSPHT,PHSPHT_FLAG_W,NH4,NH4_FLAG_W,CFC-11,CFC-11_FLAG_W,CFC-12,CFC-12_FLAG_W,SF6,SF6_FLAG_W,TCARBN,TCARBN_FLAG_W,ALKALI,ALKALI_FLAG_W,PH_TOT,PH_TOT_FLAG_W,PH_TMP,N2O,N2O_FLAG_W,DELC14,DELC14_FLAG_W,C14ERR,DELC13,DELC13_FLAG_W,CTDBETA700,CTDBETA700_FLAG_W,CTDBEAMCP,CTDBEAMCP_FLAG_W,CTDFLUOR,CTDFLUOR_FLAG_W,PAR,PAR_FLAG_W,CTDXMISS,CTDXMISS_FLAG_W
,,,,,,,,,,,METERS,DBAR,ITS-90,PSS-78,,PSS-78,,UMOL/KG,,UMOL/KG,,UMOL/KG,,UMOL/KG,,UMOL/KG,,UMOL/KG,,UMOL/KG,,PMOL/KG,,PMOL/KG,,FMOL/KG,,UMOL/KG,,UMOL/KG,,,,DEG C,NMOL/KG,,/MILLE,,/MILLE,/MILLE,,VOLTS,,1/M,,MG/M^3,,UMOL/M^2/SEC,,%TRANS,
  096U20180111,  SR03,    84,  1,     36,     36,2,20180208,1619,-62.4802, 141.0293, 4124,      7.9,   1.3886,  33.7908,2,  33.7916,2,    336.5,2,    338.6,2,    30.50,2,    25.95,2,     0.25,2,     1.61,2,     0.04,2,    5.590,2,    2.924,2,     3.85,3,   2153.3,2,   2287.1,2,-999.0000,9,  -999.00,    15.54,2,   -999.0,9,   -999.0,  -999.00,9,   0.00369,2,    0.374,2,    3.552,2,   16.900,2,   91.075,2
  096U20180111,  SR03,    84,  1,     35,     35,2,20180208,1619,-62.4802, 141.0293, 4124,      7.9,   1.3871,  33.7911,2,-999.0000,9,    336.5,2,   -999.0,9,  -999.00,9,  -999.00,9,  -999.00,9,  -999.00,9,     -999,9, -999.000,9, -999.000,9,     -999,9,   -999.0,9,   -999.0,9,-999.0000,9,  -999.00,  -999.00,9,   -999.0,9,   -999.0,  -999.00,9,   0.00398,2,    0.369,2,    3.612,2,   16.300,2,   91.182,2
  096U20180111,  SR03,    84,  1,     34,     34,2,20180208,1619,-62.4802, 141.0293, 4124,     45.0,   1.0460,  33.8266,2,  33.8352,2,    335.2,2,    331.8,2,    33.80,2,    26.61,2,     0.23,2,     1.74,2,     0.22,2, -999.000,9, -999.000,9,     -999,9,   -999.0,9,   -999.0,9,-999.0000,9,  -999.00,  -999.00,9,   -999.0,9,   -999.0,  -999.00,9,   0.00447,2,    0.418,2,    4.824,2,    0.328,2,   90.085,2
  096U20180111,  SR03,    84,  1,     33,     33,2,20180208,1619,-62.4802, 141.0293, 4124,     44.9,   1.0196,  33.8307,2,-999.0000,9,    335.3,2,   -999.0,9,  -999.00,9,  -999.00,9,  -999.00,9,  -999.00,9,     -999,9, -999.000,9, -999.000,9,     -999,9,   -999.0,9,   -999.0,9,-999.0000,9,  -999.00,  -999.00,9,   -999.0,9,   -999.0,  -999.00,9,   0.00493,2,    0.424,2,    5.400,2,    0.329,2,   89.947,2
  096U20180111,  SR03,    84,  1,     32,     32,2,20180208,1619,-62.4802, 141.0293, 4124,     76.5,   0.1909,  34.2801,2,  34.2771,2,    247.3,2,    248.9,2,    62.90,2,    32.13,2,     0.20,2,     2.25,2,     0.35,2, -999.000,9, -999.000,9,     -999,9,   2223.2,2,   2316.7,2,-999.0000,9,  -999.00,  -999.00,9,   -999.0,9,   -999.0,  -999.00,9,   0.00138,2,    0.086,2,    0.858,2,    0.000,2,   97.867,2
  096U20180111,  SR03,    84,  1,     31,     31,2,20180208,1619,-62.4802, 141.0293, 4124,    110.4,   1.2938,  34.4962,2,  34.4962,2,    197.9,2,    195.3,2,    74.20,2,    34.15,2,     0.08,2,     2.34,2,    -0.01,2, -999.000,9, -999.000,9,     -999,9,   -999.0,9,   -999.0,9,-999.0000,9,  -999.00,  -999.00,9,   -999.0,9,   -999.0,  -999.00,9,   0.00064,2,    0.027,2,    0.222,2,    0.000,2,   99.335,2
  096U20180111,  SR03,    84,  1,     30,     30,2,20180208,1619,-62.4802, 141.0293, 4124,    161.1,   1.8067,  34.5937,2,  34.5972,2,    177.6,2,    179.1,2,    79.20,2,    34.07,2,     0.01,2,     2.33,2,    -0.01,2, -999.000,9, -999.000,9,     -999,9,   -999.0,9,   -999.0,9,-999.0000,9,  -999.00,  -999.00,9,   -999.0,9,   -999.0,  -999.00,9,   0.00047,2,    0.012,2,    0.048,2,    0.000,2,   99.697,2
  096U20180111,  SR03,    84,  1,     29,     29,2,20180208,1619,-62.4802, 141.0293, 4124,    200.6,   1.8880,  34.6272,2,  34.6305,2,    176.4,2,    177.5,2,    80.90,2,    33.68,2,     0.01,2,     2.31,2,    -0.01,2,    0.759,2,    0.403,2,     0.28,3,   2255.9,2,   2339.3,2,-999.0000,9,  -999.00,    24.05,2,   -999.0,9,   -999.0,  -999.00,9,   0.00052,2,    0.011,2,    0.036,2,    0.000,2,   99.730,2
  096U20180111,  SR03,    84,  1,     28,     28,2,20180208,1619,-62.4802, 141.0293, 4124,    250.6,   1.8654,  34.6496,2,  34.6493,2,    177.3,2,    179.0,2,    81.80,2,    33.38,2,     0.01,2,     2.29,2,    -0.01,2, -999.000,9, -999.000,9,     -999,9,   -999.0,9,   -999.0,9,-999.0000,9,  -999.00,  -999.00,9,   -999.0,9,   -999.0,  -999.00,9,   0.00049,2,    0.010,2,    0.036,2,    0.000,2,   99.753,2
  096U20180111,  SR03,    84,  1,     27,     27,2,20180208,1619,-62.4802, 141.0293, 4124,    300.7,   1.9505,  34.6794,2,  34.6804,2,    179.3,2,    179.0,2,    83.00,2,    32.86,2,     0.00,2,     2.25,2,    -0.01,2, -999.000,9, -999.000,9,     -999,9,   -999.0,9,   -999.0,9,-999.0000,9,  -999.00,  -999.00,9,   -999.0,9,   -999.0,  -999.00,9,   0.00039,2,    0.005,2,    0.036,2,    0.000,2,   99.879,2
  096U20180111,  SR03,    84,  1,     26,     26,2,20180208,1619,-62.4802, 141.0293, 4124,    401.0,   1.9222,  34.7047,2,  34.7061,2,    182.0,2,    183.4,2,    84.10,2,    32.19,2,     0.00,2,     2.21,2,    -0.01,2,    0.419,2,    0.223,2,    -0.03,3,   2251.8,2,   2346.8,2,-999.0000,9,  -999.00,    21.44,2,   -999.0,9,   -999.0,  -999.00,9,   0.00034,2,    0.002,2,    0.036,2,    0.000,2,   99.962,2
  096U20180111,  SR03,    84,  1,     25,     25,2,20180208,1619,-62.4802, 141.0293, 4124,    500.6,   1.8955,  34.7220,2,  34.7226,2,    186.7,2,    186.3,2,    85.50,2,    31.75,2,     0.00,2,     2.17,2,    -0.01,2, -999.000,9, -999.000,9,     -999,9,   -999.0,9,   -999.0,9,-999.0000,9,  -999.00,  -999.00,9,   -999.0,9,   -999.0,  -999.00,9,   0.00034,2,    0.001,2,    0.036,2,    0.000,2,   99.977,2
  096U20180111,  SR03,    84,  1,     24,     24,2,20180208,1619,-62.4802, 141.0293, 4124,    600.5,   1.8300,  34.7322,2,  34.7331,2,    190.6,2,    190.2,2,    87.00,2,    31.32,2,     0.00,2,     2.15,2,    -0.01,2, -999.000,9, -999.000,9,     -999,9,   -999.0,9,   -999.0,9,-999.0000,9,  -999.00,  -999.00,9,   -999.0,9,   -999.0,  -999.00,9,   0.00032,2,    0.000,2,    0.036,2,    0.000,2,   99.996,2
  096U20180111,  SR03,    84,  1,     23,     23,2,20180208,1619,-62.4802, 141.0293, 4124,    700.9,   1.7870,  34.7370,2,  34.7369,2,    193.4,2,    191.8,2,    88.40,2,    31.19,2,     0.00,2,     2.14,2,    -0.01,2, -999.000,9, -999.000,9,     -999,9,   -999.0,9,   -999.0,9,-999.0000,9,  -999.00,  -999.00,9,   -999.0,9,   -999.0,  -999.00,9,   0.00030,2,    0.000,2,    0.036,2,    0.000,2,  100.000,2
  096U20180111,  SR03,    84,  1,     22,     22,2,20180208,1619,-62.4802, 141.0293, 4124,    800.6,   1.7032,  34.7397,2,  34.7400,2,    195.7,2,    194.2,2,    90.50,2,    31.10,2,     0.00,2,     2.13,2,    -0.01,2,    0.256,2,    0.134,2,     0.01,3,   2249.9,6,   2352.0,6,-999.0000,9,  -999.00,    20.46,2,   -999.0,9,   -999.0,  -999.00,9,   0.00031,2,   -0.001,2,    0.036,2,    0.000,2,  100.011,2
  096U20180111,  SR03,    84,  1,     21,     21,2,20180208,1619,-62.4802, 141.0293, 4124,    980.9,   1.5361,  34.7388,2,  34.7395,2,    198.6,2,    197.8,2,    94.60,2,    31.06,2,     0.00,2,     2.13,2,    -0.01,2, -999.000,9, -999.000,9,     -999,9,   -999.0,9,   -999.0,9,-999.0000,9,  -999.00,  -999.00,9,   -999.0,9,   -999.0,  -999.00,9,   0.00030,2,   -0.001,2,    0.036,2,    0.000,2,  100.020,2
  096U20180111,  SR03,    84,  1,     20,     20,2,20180208,1619,-62.4802, 141.0293, 4124,   1151.0,   1.4082,  34.7363,2,  34.7372,2,    200.9,2,    199.9,2,    98.40,2,    31.16,2,     0.00,2,     2.14,2,    -0.01,2,    0.235,2,    0.119,2,     0.12,3,   2251.9,2,   2355.5,2,-999.0000,9,  -999.00,    19.57,2,   -999.0,9,   -999.0,  -999.00,9,   0.00029,2,   -0.002,2,    0.036,2,    0.000,2,  100.041,2
  096U20180111,  SR03,    84,  1,     19,     19,2,20180208,1619,-62.4802, 141.0293, 4124,   1300.9,   1.2960,  34.7326,2,  34.7326,2,    202.4,2,    201.2,2,   101.80,2,    31.29,2,     0.00,2,     2.15,2,    -0.01,2, -999.000,9, -999.000,9,     -999,9,   -999.0,9,   -999.0,9,-999.0000,9,  -999.00,  -999.00,9,   -999.0,9,   -999.0,  -999.00,9,   0.00027,2,   -0.002,2,    0.036,2,    0.000,2,  100.047,2
  096U20180111,  SR03,    84,  1,     18,     18,2,20180208,1619,-62.4802, 141.0293, 4124,   1450.2,   1.1594,  34.7264,2,  34.7268,2,    204.2,2,    203.2,2,   105.60,2,    31.50,2,     0.00,2,     2.17,2,    -0.01,2, -999.000,9, -999.000,9,     -999,9,   -999.0,9,   -999.0,9,-999.0000,9,  -999.00,  -999.00,9,   -999.0,9,   -999.0,  -999.00,9,   0.00027,2,   -0.002,2,    0.036,2,    0.000,2,  100.051,2
  096U20180111,  SR03,    84,  1,     17,     17,2,20180208,1619,-62.4802, 141.0293, 4124,   1600.8,   1.0561,  34.7210,2,  34.7213,2,    205.6,2,    204.5,2,   108.70,2,    31.71,2,     0.00,2,     2.18,2,    -0.01,2,    0.254,2,    0.134,2,    -0.04,3,   2255.1,2,   2359.7,2,-999.0000,9,  -999.00,    19.53,2,   -999.0,9,   -999.0,  -999.00,9,   0.00027,2,   -0.002,2,    0.036,2,    0.000,2,  100.060,2
  096U20180111,  SR03,    84,  1,     16,     16,2,20180208,1619,-62.4802, 141.0293, 4124,   1801.0,   0.9178,  34.7142,2,  34.7147,2,    207.8,2,    206.4,2,   113.10,2,    31.94,2,     0.00,2,     2.20,2,    -0.01,2, -999.000,9, -999.000,9,     -999,9,   -999.0,9,   -999.0,9,-999.0000,9,  -999.00,  -999.00,9,   -999.0,9,   -999.0,  -999.00,9,   0.00025,2,   -0.002,2,    0.036,2,    0.000,2,  100.062,2
  096U20180111,  SR03,    84,  1,     15,     15,2,20180208,1619,-62.4802, 141.0293, 4124,   2001.0,   0.7683,  34.7060,2,  34.7069,2,    209.6,2,    209.2,2,   116.90,2,    32.22,2,     0.00,2,     2.22,2,    -0.01,2,    0.311,2,    0.152,2,     0.06,3,   2258.7,2,   2361.1,2,-999.0000,9,  -999.00,    19.28,2,   -999.0,9,   -999.0,  -999.00,9,   0.00026,2,   -0.003,2,    0.036,2,    0.000,2,  100.073,2
  096U20180111,  SR03,    84,  1,     14,     14,2,20180208,1619,-62.4802, 141.0293, 4124,   2250.6,   0.6119,  34.6973,2,  34.7004,4,    211.6,2,    211.7,2,   120.30,2,    32.42,2,     0.00,2,     2.23,2,    -0.01,2, -999.000,9, -999.000,9,     -999,9,   -999.0,9,   -999.0,9,-999.0000,9,  -999.00,  -999.00,9,   -999.0,9,   -999.0,  -999.00,9,   0.00025,2,   -0.003,2,    0.036,2,    0.000,2,  100.071,2
  096U20180111,  SR03,    84,  1,     13,     13,2,20180208,1619,-62.4802, 141.0293, 4124,   2501.2,   0.4568,  34.6888,2,  34.6895,2,    215.2,2,    215.2,2,   122.90,2,    32.52,2,     0.00,2,     2.24,2,    -0.01,2,    0.536,2,    0.273,2,     0.16,3,   -999.0,9,   -999.0,9,-999.0000,9,  -999.00,    19.51,2,   -999.0,9,   -999.0,  -999.00,9,   0.00024,2,   -0.003,2,    0.036,2,    0.000,2,  100.073,2
  096U20180111,  SR03,    84,  1,     12,     12,2,20180208,1619,-62.4802, 141.0293, 4124,   2750.7,   0.3469,  34.6843,2,  34.6856,2,    218.3,2,    218.7,2,   126.00,2,    32.58,2,     0.00,2,     2.25,2,    -0.01,2, -999.000,9, -999.000,9,     -999,9,   -999.0,9,   -999.0,9,-999.0000,9,  -999.00,  -999.00,9,   -999.0,9,   -999.0,  -999.00,9,   0.00023,2,   -0.003,2,    0.036,2,    0.000,2,  100.073,2
  096U20180111,  SR03,    84,  1,     11,     11,2,20180208,1619,-62.4802, 141.0293, 4124,   3000.9,   0.2627,  34.6801,2,  34.6808,2,    221.7,2,    221.2,2,   127.00,2,    32.59,2,     0.00,2,     2.25,2,    -0.01,2,    0.764,2,    0.391,2,     0.13,3,   2258.5,2,   2360.4,2,-999.0000,9,  -999.00,    19.72,2,   -999.0,9,   -999.0,  -999.00,9,   0.00024,2,   -0.003,2,    0.030,2,    0.000,2,  100.073,2
  096U20180111,  SR03,    84,  1,     10,     10,2,20180208,1619,-62.4802, 141.0293, 4124,   3250.1,   0.1644,  34.6751,2,  34.6754,2,    225.3,2,    224.6,2,   127.90,2,    32.59,2,     0.00,2,     2.25,2,    -0.01,2, -999.000,9, -999.000,9,     -999,9,   -999.0,9,   -999.0,9,-999.0000,9,  -999.00,  -999.00,9,   -999.0,9,   -999.0,  -999.00,9,   0.00023,2,   -0.003,2,    0.036,2,    0.000,2,  100.072,2
  096U20180111,  SR03,    84,  1,      9,      9,2,20180208,1619,-62.4802, 141.0293, 4124,   3500.9,   0.0693,  34.6691,2,  34.6748,4,    229.6,2,    228.5,2,   126.20,2,    32.51,2,     0.00,2,     2.24,2,    -0.01,2,    1.236,2,    0.624,2,     0.46,3,   2258.3,2,   2360.0,2,-999.0000,9,  -999.00,    19.35,2,   -999.0,9,   -999.0,  -999.00,9,   0.00023,2,   -0.002,2,    0.036,2,    0.000,2,  100.055,2
  096U20180111,  SR03,    84,  1,      8,      8,2,20180208,1619,-62.4802, 141.0293, 4124,   3750.6,  -0.0430,  34.6612,2,  34.6611,2,    234.6,2,    234.0,2,   117.70,2,    32.29,2,     0.00,2,     2.23,2,    -0.01,2,    1.688,2,    0.887,2,     0.86,3,   -999.0,9,   -999.0,9,-999.0000,9,  -999.00,    18.90,2,   -999.0,9,   -999.0,  -999.00,9,   0.00025,2,   -0.001,2,    0.036,2,    0.000,2,  100.031,2
  096U20180111,  SR03,    84,  1,      7,      7,2,20180208,1619,-62.4802, 141.0293, 4124,   4001.0,  -0.1557,  34.6548,2,-999.0000,9,    240.5,2,   -999.0,9,  -999.00,9,  -999.00,9,  -999.00,9,  -999.00,9,     -999,9, -999.000,9, -999.000,9,     -999,9,   -999.0,9,   -999.0,9,-999.0000,9,  -999.00,  -999.00,9,   -999.0,9,   -999.0,  -999.00,9,   0.00030,2,    0.004,2,    0.036,2,    0.000,2,   99.913,2
  096U20180111,  SR03,    84,  1,      6,      6,2,20180208,1619,-62.4802, 141.0293, 4124,   4000.8,  -0.1554,  34.6549,2,  34.6560,2,    240.4,2,    239.8,2,   108.70,2,    32.16,2,     0.00,2,     2.22,2,    -0.01,2,    2.133,2,    1.139,2,     1.14,3,   2255.5,2,   2353.4,2,-999.0000,9,  -999.00,    19.67,2,   -999.0,9,   -999.0,  -999.00,9,   0.00029,2,    0.003,2,    0.036,2,    0.000,2,   99.935,2
  096U20180111,  SR03,    84,  1,      5,      5,2,20180208,1619,-62.4802, 141.0293, 4124,   4150.8,  -0.2565,  34.6510,2,-999.0000,9,    244.8,2,   -999.0,9,  -999.00,9,  -999.00,9,  -999.00,9,  -999.00,9,     -999,9, -999.000,9, -999.000,9,     -999,9,   -999.0,9,   -999.0,9,-999.0000,9,  -999.00,  -999.00,9,   -999.0,9,   -999.0,  -999.00,9,   0.00057,2,    0.017,2,    0.036,2,    0.000,2,   99.579,2
  096U20180111,  SR03,    84,  1,      4,      4,2,20180208,1619,-62.4802, 141.0293, 4124,   4150.6,  -0.2565,  34.6511,2,  34.6512,2,    244.8,2,    245.2,2,   103.50,2,    31.97,2,     0.00,2,     2.21,2,    -0.01,2,    2.378,2,    1.280,2,     1.55,3,   -999.0,9,   -999.0,9,-999.0000,9,  -999.00,    19.12,2,   -999.0,9,   -999.0,  -999.00,9,   0.00056,2,    0.017,2,    0.042,2,    0.000,2,   99.574,2
  096U20180111,  SR03,    84,  1,      3,      3,2,20180208,1619,-62.4802, 141.0293, 4124,   4206.9,  -0.2504,  34.6512,2,  34.6539,4,    245.4,2,    244.9,2,   103.40,2,    31.98,2,     0.01,2,     2.22,2,    -0.01,2,    2.364,2,    1.262,2,     1.47,3,   2254.0,2,   2351.8,6,-999.0000,9,  -999.00,    19.50,2,   -999.0,9,   -999.0,  -999.00,9,   0.00057,2,    0.018,2,    0.036,2,    0.000,2,   99.551,2
  096U20180111,  SR03,    84,  1,      2,      2,2,20180208,1619,-62.4802, 141.0293, 4124,   4207.0,  -0.2504,  34.6512,2,-999.0000,9,    245.4,2,   -999.0,9,  -999.00,9,  -999.00,9,  -999.00,9,  -999.00,9,     -999,9, -999.000,9, -999.000,9,     -999,9,   -999.0,9,   -999.0,9,-999.0000,9,  -999.00,  -999.00,9,   -999.0,9,   -999.0,  -999.00,9,   0.00056,2,    0.018,2,    0.036,2,    0.000,2,   99.563,2
  096U20180111,  SR03,    84,  1,      1,      1,2,20180208,1619,-62.4802, 141.0293, 4124,   4206.9,  -0.2506,  34.6512,2,-999.0000,9,    245.4,2,   -999.0,9,  -999.00,9,  -999.00,9,  -999.00,9,  -999.00,9,     -999,9, -999.000,9, -999.000,9,     -999,9,   -999.0,9,   -999.0,9,-999.0000,9,  -999.00,  -999.00,9,   -999.0,9,   -999.0,  -999.00,9,   0.00056,2,    0.017,2,    0.036,2,    0.000,2,   99.567,2