BOTTLE,20230418CCHSIOENA
EXPOCODE,SECT_ID,STNNBR,CASTNO,SAMPNO,BTLNBR,BTLNBR_FLAG_W,DATE,TIME,LATITUDE,LONGITUDE,DEPTH,CTDPRS,CTDTMP,CTDSAL,CTDSAL_FLAG_W,SALNTY,SALNTY_FLAG_W,CTDOXY,CTDOXY_FLAG_W,OXYGEN,OXYGEN_FLAG_W,SILCAT,SILCAT_FLAG_W,NITRAT,NITRAT_FLAG_W,NITRIT,NITRIT_FLAG_W,PHSPHT,PHSPHT_FLAG_W,NH4,NH4_FLAG_W,CFC-11,CFC-11_FLAG_W,CFC-12,CFC-12_FLAG_W,SF6,SF6_FLAG_W,TCARBN,TCARBN_FLAG_W,ALKALI,ALKALI_FLAG_W,PH_TOT,PH_TOT_FLAG_W,PH_TMP,N2O,N2O_FLAG_W,DELC14,DELC14_FLAG_W,C14ERR,DELC13,DELC13_FLAG_W,CTDBETA700,CTDBETA700_FLAG_W,CTDBEAMCP,CTDBEAMCP_FLAG_W,CTDFLUOR,CTDFLUOR_FLAG_W,PAR,PAR_FLAG_W,CTDXMISS,CTDXMISS_FLAG_W
,,,,,,,,,,,METERS,DBAR,ITS-90,PSS-78,,PSS-78,,UMOL/KG,,UMOL/KG,,UMOL/KG,,UMOL/KG,,UMOL/KG,,UMOL/KG,,UMOL/KG,,PMOL/KG,,PMOL/KG,,FMOL/KG,,UMOL/KG,,UMOL/KG,,,,DEG C,NMOL/KG,,/MILLE,,/MILLE,/MILLE,,VOLTS,,1/M,,MG/M^3,,UMOL/M^2/SEC,,%TRANS,
  096U20180111,  SR03,    48,  1,     36,     36,2,20180128,2035,-62.3602, 139.8397, 3908,     15.3,   1.3722,  33.6879,2,-999.0000,9,    341.3,2,    341.3,2,    15.00,2,    23.78,2,     0.27,2,     1.48,2,     0.08,2, -999.000,9, -999.000,9,     -999,9,   2137.0,2,   2279.8,2,-999.0000,9,  -999.00,  -999.00,9,   -999.0,9,   -999.0,  -999.00,9,   0.00390,2,    0.334,2,    2.406,2,   29.600,2,   91.982,2
  096U20180111,  SR03,    48,  1,     35,     35,2,20180128,2035,-62.3602, 139.8397, 3908,     15.1,   1.3721,  33.6878,2,-999.0000,9,    341.3,2,   -999.0,9,  -999.00,9,  -999.00,9,  -999.00,9,  -999.00,9,     -999,9,    5.440,2,    2.904,2,     3.66,2,   -999.0,9,   -999.0,9,-999.0000,9,  -999.00,    14.01,2,   -999.0,9,   -999.0,  -999.00,9,   0.00374,2,    0.334,2,    2.388,2,   30.500,2,   91.986,2
  096U20180111,  SR03,    48,  1,     34,     34,2,20180128,2035,-62.3602, 139.8397, 3908,     30.9,   1.3080,  33.6891,2,  33.6890,2,    342.3,2,    342.3,2,    15.10,2,    23.91,2,     0.27,2,     1.50,2,     0.09,2,    5.524,2,    2.871,2,      3.6,2,   2138.4,2,   2280.4,2,-999.0000,9,  -999.00,    14.50,2,   -999.0,9,   -999.0,  -999.00,9,   0.00359,2,    0.340,2,    3.204,2,    6.440,2,   91.839,2
  096U20180111,  SR03,    48,  1,     33,     33,2,20180128,2035,-62.3602, 139.8397, 3908,     30.8,   1.3138,  33.6888,2,-999.0000,9,    342.3,2,   -999.0,9,  -999.00,9,  -999.00,9,  -999.00,9,  -999.00,9,     -999,9, -999.000,9, -999.000,9,     -999,9,   -999.0,9,   -999.0,9,-999.0000,9,  -999.00,  -999.00,9,   -999.0,9,   -999.0,  -999.00,9,   0.00379,2,    0.335,2,    3.192,2,    6.160,2,   91.959,2
  096U20180111,  SR03,    48,  1,     32,     32,2,20180128,2035,-62.3602, 139.8397, 3908,     71.7,  -1.3737,  33.9748,2,  33.9786,2,    323.9,2,    323.5,2,    39.80,2,    29.93,2,     0.21,2,     2.11,2,     0.43,2,    5.207,2,    2.804,2,     3.17,2,   2188.8,2,   2295.3,2,-999.0000,9,  -999.00,    16.77,2,   -999.0,9,   -999.0,  -999.00,9,   0.00077,2,    0.045,2,    0.396,2,    0.172,2,   98.893,2
  096U20180111,  SR03,    48,  1,     31,     31,2,20180128,2035,-62.3602, 139.8397, 3908,    121.7,   1.4618,  34.3537,2,  34.3619,2,    213.9,2,    205.6,2,    62.20,2,    34.75,2,     0.02,2,     2.38,2,        0,2,    2.251,2,    1.220,2,     1.04,2,   2239.0,6,   2317.9,6,-999.0000,9,  -999.00,    23.70,2,   -999.0,9,   -999.0,  -999.00,9,   0.00048,2,    0.013,2,    0.078,2,    0.000,2,   99.672,2
  096U20180111,  SR03,    48,  1,     30,     30,2,20180128,2035,-62.3602, 139.8397, 3908,    161.6,   2.0823,  34.4699,2,  34.4715,2,    182.0,2,    180.6,2,    69.30,2,    35.27,2,     0.01,2,     2.42,2,        0,2,    1.456,6,    0.770,6,     0.61,6,   2250.6,2,   2326.2,6,-999.0000,9,  -999.00,    24.87,6,   -999.0,9,   -999.0,  -999.00,9,   0.00049,2,    0.012,2,    0.054,2,    0.000,2,   99.693,2
  096U20180111,  SR03,    48,  1,     29,     29,2,20180128,2035,-62.3602, 139.8397, 3908,    201.1,   2.1754,  34.5237,2,  34.5244,2,    175.6,2,    174.8,2,    72.40,2,    35.11,2,     0.01,2,     2.41,2,        0,2, -999.000,9, -999.000,9,     -999,9,   -999.0,9,   -999.0,9,-999.0000,9,  -999.00,  -999.00,9,   -999.0,9,   -999.0,  -999.00,9,   0.00046,2,    0.009,2,    0.048,2,    0.000,2,   99.781,2
  096U20180111,  SR03,    48,  1,     28,     28,2,20180128,2035,-62.3602, 139.8397, 3908,    250.4,   2.1957,  34.5701,2,  34.5721,2,    172.6,2,    172.6,2,    74.80,2,    34.59,2,     0.01,2,     2.37,2,        0,2,    0.877,2,    0.463,2,      0.4,2,   2255.2,2,   2335.1,2,-999.0000,9,  -999.00,    23.24,2,   -999.0,9,   -999.0,  -999.00,9,   0.00043,2,    0.006,2,    0.042,2,    0.000,2,   99.853,2
  096U20180111,  SR03,    48,  1,     27,     27,2,20180128,2035,-62.3602, 139.8397, 3908,    302.2,   2.1734,  34.6086,2,  34.6089,2,    172.6,2,    173.0,2,    76.80,2,    34.10,2,     0.00,2,     2.34,2,        0,2, -999.000,9, -999.000,9,     -999,9,   2255.7,2,   2337.6,2,-999.0000,9,  -999.00,  -999.00,9,   -999.0,9,   -999.0,  -999.00,9,   0.00038,2,    0.003,2,    0.042,2,    0.000,2,   99.931,2
  096U20180111,  SR03,    48,  1,     26,     26,2,20180128,2035,-62.3602, 139.8397, 3908,    351.5,   2.1732,  34.6378,2,  34.6381,2,    173.5,2,    174.2,2,    77.70,2,    33.59,2,     0.00,2,     2.30,2,        0,2,    0.593,2,    0.321,2,     0.17,2,   2255.0,2,   2339.7,2,-999.0000,9,  -999.00,    22.45,2,   -999.0,9,   -999.0,  -999.00,9,   0.00035,2,    0.001,2,    0.048,2,    0.000,2,   99.968,2
  096U20180111,  SR03,    48,  1,     25,     25,2,20180128,2035,-62.3602, 139.8397, 3908,    403.3,   2.1674,  34.6600,2,  34.6605,2,    175.2,2,    176.0,2,    78.80,2,    33.18,2,     0.00,2,     2.28,2,    -0.01,2, -999.000,9, -999.000,9,     -999,9,   -999.0,9,   -999.0,9,-999.0000,9,  -999.00,  -999.00,9,   -999.0,9,   -999.0,  -999.00,9,   0.00038,2,    0.003,2,    0.042,2,    0.000,2,   99.935,2
  096U20180111,  SR03,    48,  1,     24,     24,2,20180128,2035,-62.3602, 139.8397, 3908,    502.2,   2.0982,  34.6868,2,  34.6872,2,    179.0,2,    179.4,2,    80.40,2,    32.56,2,     0.00,2,     2.23,2,    -0.01,2,    0.423,2,    0.223,2,     0.06,2,   2251.3,2,   2343.5,2,-999.0000,9,  -999.00,    21.33,2,   -999.0,9,   -999.0,  -999.00,9,   0.00034,2,    0.002,2,    0.042,2,    0.000,2,   99.942,2
  096U20180111,  SR03,    48,  1,     23,     23,2,20180128,2035,-62.3602, 139.8397, 3908,    603.8,   2.0699,  34.7144,2,  34.7143,2,    183.5,2,    184.1,2,    81.50,2,    31.79,2,     0.00,2,     2.18,2,    -0.01,2, -999.000,9, -999.000,9,     -999,9,   2251.1,2,   2345.6,2,-999.0000,9,  -999.00,  -999.00,9,   -999.0,9,   -999.0,  -999.00,9,   0.00032,2,    0.001,2,    0.042,2,    0.000,2,   99.983,2
  096U20180111,  SR03,    48,  1,     22,     22,2,20180128,2035,-62.3602, 139.8397, 3908,    702.4,   2.0002,  34.7272,2,  34.7271,2,    186.7,2,    187.8,2,    82.80,2,    31.39,2,     0.00,2,     2.16,2,    -0.01,2,    0.312,2,    0.164,2,    -0.01,2,   -999.0,9,   -999.0,9,-999.0000,9,  -999.00,    20.61,2,   -999.0,9,   -999.0,  -999.00,9,   0.00034,2,    0.001,2,    0.042,2,    0.000,2,   99.977,2
  096U20180111,  SR03,    48,  1,     21,     21,2,20180128,2035,-62.3602, 139.8397, 3908,    803.0,   1.9241,  34.7360,2,  34.7362,2,    190.1,2,    191.0,2,    84.80,2,    31.09,2,     0.00,2,     2.14,2,    -0.01,2, -999.000,9, -999.000,9,     -999,9,   -999.0,9,   -999.0,9,-999.0000,9,  -999.00,  -999.00,9,   -999.0,9,   -999.0,  -999.00,9,   0.00034,2,    0.001,2,    0.042,2,    0.000,2,   99.976,2
  096U20180111,  SR03,    48,  1,     20,     20,2,20180128,2035,-62.3602, 139.8397, 3908,    951.1,   1.8047,  34.7431,2,  34.7439,2,    194.2,2,    194.2,2,    87.60,2,    30.78,2,     0.00,2,     2.12,2,    -0.01,2,    0.217,2,    0.106,2,     0.01,2,   2246.7,2,   2351.7,2,-999.0000,9,  -999.00,    19.10,2,   -999.0,9,   -999.0,  -999.00,9,   0.00031,2,   -0.001,2,    0.036,2,    0.000,2,  100.036,2
  096U20180111,  SR03,    48,  1,     19,     19,2,20180128,2035,-62.3602, 139.8397, 3908,   1100.7,   1.6750,  34.7441,2,  34.7446,2,    197.0,2,    196.8,2,    91.30,2,    30.77,2,     0.00,2,     2.12,2,    -0.01,2, -999.000,9, -999.000,9,     -999,9,   -999.0,9,   -999.0,9,-999.0000,9,  -999.00,  -999.00,9,   -999.0,9,   -999.0,  -999.00,9,   0.00029,2,   -0.002,2,    0.042,2,    0.000,2,  100.046,2
  096U20180111,  SR03,    48,  1,     18,     18,2,20180128,2035,-62.3602, 139.8397, 3908,   1252.3,   1.5256,  34.7413,2,  34.7420,2,    199.1,2,    199.0,2,    95.40,2,    30.90,2,     0.00,2,     2.13,2,    -0.01,2,    0.204,2,    0.100,2,     0.06,2,   2248.9,2,   2354.5,2,-999.0000,9,  -999.00,    18.49,2,   -999.0,9,   -999.0,  -999.00,9,   0.00029,2,   -0.002,2,    0.036,2,    0.000,2,  100.049,2
  096U20180111,  SR03,    48,  1,     17,     17,2,20180128,2035,-62.3602, 139.8397, 3908,   1400.1,   1.3915,  34.7370,2,  34.7373,2,    200.7,2,    200.5,2,    99.10,2,    31.07,2,     0.00,2,     2.14,2,    -0.01,2, -999.000,9, -999.000,9,     -999,9,   -999.0,9,   -999.0,9,-999.0000,9,  -999.00,  -999.00,9,   -999.0,9,   -999.0,  -999.00,9,   0.00029,2,   -0.003,2,    0.036,2,    0.000,2,  100.067,2
  096U20180111,  SR03,    48,  1,     16,     16,2,20180128,2035,-62.3602, 139.8397, 3908,   1602.1,   1.2199,  34.7293,2,  34.7303,2,    202.9,2,    202.4,2,   104.20,2,    31.35,2,     0.00,2,     2.16,2,    -0.01,2,    0.219,2,    0.111,2,    -0.01,2,   2253.4,2,   2359.1,2,-999.0000,9,  -999.00,    18.16,2,   -999.0,9,   -999.0,  -999.00,9,   0.00028,2,   -0.003,2,    0.036,2,    0.000,2,  100.073,2
  096U20180111,  SR03,    48,  1,     15,     15,2,20180128,2035,-62.3602, 139.8397, 3908,   1798.3,   1.0716,  34.7224,2,  34.7240,2,    205.2,2,    204.5,2,   108.70,2,    31.59,2,     0.00,2,     2.18,2,    -0.01,2, -999.000,9, -999.000,9,     -999,9,   -999.0,9,   -999.0,9,-999.0000,9,  -999.00,  -999.00,9,   -999.0,9,   -999.0,  -999.00,9,   0.00027,2,   -0.003,2,    0.036,2,    0.000,2,  100.082,2
  096U20180111,  SR03,    48,  1,     14,     14,2,20180128,2035,-62.3602, 139.8397, 3908,   2003.0,   0.8969,  34.7130,2,  34.7143,2,    207.1,2,    207.1,2,   113.20,2,    31.91,2,     0.00,2,     2.20,2,    -0.01,2,    0.276,2,    0.136,2,     0.13,2,   2257.2,2,   2361.0,2,-999.0000,9,  -999.00,    18.81,2,   -999.0,9,   -999.0,  -999.00,9,   0.00027,2,   -0.003,2,    0.036,2,    0.000,2,  100.085,2
  096U20180111,  SR03,    48,  1,     13,     13,2,20180128,2035,-62.3602, 139.8397, 3908,   2197.7,   0.7368,  34.7052,2,  34.7055,2,    209.6,2,    209.2,2,   118.10,2,    32.09,2,     0.00,2,     2.23,2,    -0.01,2,    0.306,2,    0.150,2,     0.14,2,   -999.0,9,   -999.0,9,-999.0000,9,  -999.00,    18.37,2,   -999.0,9,   -999.0,  -999.00,9,   0.00027,2,   -0.003,2,    0.036,2,    0.000,2,  100.078,2
  096U20180111,  SR03,    48,  1,     12,     12,2,20180128,2035,-62.3602, 139.8397, 3908,   2401.6,   0.5866,  34.6975,2,  34.6979,2,    212.8,2,    212.1,2,   122.00,2,    32.31,2,     0.00,2,     2.24,2,    -0.01,2,    0.387,2,    0.195,2,    -0.01,2,   2258.5,2,   2360.1,2,-999.0000,9,  -999.00,    18.49,2,   -999.0,9,   -999.0,  -999.00,9,   0.00039,2,   -0.003,2,    0.036,2,    0.000,2,  100.084,2
  096U20180111,  SR03,    48,  1,     11,     11,2,20180128,2035,-62.3602, 139.8397, 3908,   2600.1,   0.4431,  34.6903,2,  34.6910,2,    215.9,2,    215.6,2,   125.10,2,    32.42,2,     0.00,2,     2.25,2,    -0.01,2,    0.486,2,    0.245,2,     0.09,2,   2258.6,6,   2360.5,6,-999.0000,9,  -999.00,    18.44,2,   -999.0,9,   -999.0,  -999.00,9,   0.00025,2,   -0.004,2,    0.036,2,    0.000,2,  100.101,2
  096U20180111,  SR03,    48,  1,     10,     10,2,20180128,2035,-62.3602, 139.8397, 3908,   2801.3,   0.3436,  34.6857,2,  34.6859,2,    218.8,2,    218.3,2,   127.50,2,    32.43,2,     0.00,2,     2.25,2,    -0.01,2,    0.591,2,    0.305,2,     0.02,2,   2259.0,2,   2359.9,2,-999.0000,9,  -999.00,    18.27,2,   -999.0,9,   -999.0,  -999.00,9,   0.00026,2,   -0.003,2,    0.042,2,    0.000,2,  100.073,2
  096U20180111,  SR03,    48,  1,      9,      9,2,20180128,2035,-62.3602, 139.8397, 3908,   2998.1,   0.2743,  34.6825,2,  34.6823,2,    220.6,2,    220.3,2,   129.60,2,    32.53,2,     0.00,2,     2.26,2,    -0.01,2,    0.681,2,    0.334,2,     0.05,2,   2257.7,2,   2359.7,6,-999.0000,9,  -999.00,    18.44,2,   -999.0,9,   -999.0,  -999.00,9,   0.00024,2,   -0.004,2,    0.036,2,    0.000,2,  100.087,2
  096U20180111,  SR03,    48,  1,      8,      8,2,20180128,2035,-62.3602, 139.8397, 3908,   3249.8,   0.1545,  34.6757,2,  34.6759,2,    224.4,2,    224.4,2,   129.30,2,    32.46,2,     0.00,2,     2.25,2,    -0.01,2,    0.927,2,    0.479,2,     0.28,2,   2257.3,2,   2360.2,2,-999.0000,9,  -999.00,    18.14,2,   -999.0,9,   -999.0,  -999.00,9,   0.00026,2,   -0.003,2,    0.036,2,    0.000,2,  100.067,2
  096U20180111,  SR03,    48,  1,      7,      7,2,20180128,2035,-62.3602, 139.8397, 3908,   3500.2,   0.0233,  34.6672,2,  34.6672,2,    230.7,2,    229.8,2,   126.60,2,    32.36,2,     0.00,2,     2.25,2,    -0.01,2, -999.000,9, -999.000,9,     -999,9,   2256.9,2,   2358.2,2,-999.0000,9,  -999.00,  -999.00,9,   -999.0,9,   -999.0,  -999.00,9,   0.00027,2,   -0.002,2,    0.042,2,    0.000,2,  100.060,2
  096U20180111,  SR03,    48,  1,      6,      6,2,20180128,2035,-62.3602, 139.8397, 3908,   3500.4,   0.0231,  34.6671,2,-999.0000,9,    230.7,2,   -999.0,9,  -999.00,9,  -999.00,9,  -999.00,9,  -999.00,9,     -999,9,    1.310,2,    0.687,2,     0.47,2,   -999.0,9,   -999.0,9,-999.0000,9,  -999.00,    17.95,2,   -999.0,9,   -999.0,  -999.00,9,   0.00028,2,   -0.002,2,    0.036,2,    0.000,2,  100.050,2
  096U20180111,  SR03,    48,  1,      5,      5,2,20180128,2035,-62.3602, 139.8397, 3908,   3698.7,  -0.0170,  34.6634,2,  34.6636,2,    232.4,2,    231.9,2,   124.70,2,    32.32,2,     0.00,2,     2.24,2,    -0.01,2,    1.501,2,    0.776,2,     0.63,2,   2255.8,2,   2357.6,2,-999.0000,9,  -999.00,    18.26,2,   -999.0,9,   -999.0,  -999.00,9,   0.00027,2,   -0.001,2,    0.042,2,    0.000,2,  100.025,2
  096U20180111,  SR03,    48,  1,      4,      4,2,20180128,2035,-62.3602, 139.8397, 3908,   3828.5,  -0.0592,  34.6600,2,  34.6596,2,    234.6,2,    234.3,2,   122.10,2,    32.27,2,     0.00,2,     2.24,2,    -0.01,2,    1.673,2,    0.872,2,     0.47,2,   2256.7,2,   2357.1,2,-999.0000,9,  -999.00,    18.62,2,   -999.0,9,   -999.0,  -999.00,9,   0.00030,2,    0.000,2,    0.036,2,    0.000,2,   99.991,2
  096U20180111,  SR03,    48,  1,      3,      3,2,20180128,2035,-62.3602, 139.8397, 3908,   3928.6,  -0.0723,  34.6584,2,  34.6582,2,    235.6,2,    235.6,2,   121.00,2,    32.24,2,     0.00,2,     2.24,2,    -0.01,2,    1.750,2,    0.926,2,     0.55,2,   2257.3,2,   2356.3,2,-999.0000,9,  -999.00,    18.25,2,   -999.0,9,   -999.0,  -999.00,9,   0.00032,2,    0.001,2,    0.036,2,    0.000,2,   99.972,2
  096U20180111,  SR03,    48,  1,      2,      2,2,20180128,2035,-62.3602, 139.8397, 3908,   3980.5,  -0.0898,  34.6570,2,-999.0000,9,    236.3,2,   -999.0,9,  -999.00,9,  -999.00,9,  -999.00,9,  -999.00,9,     -999,9, -999.000,9, -999.000,9,     -999,9,   -999.0,9,   -999.0,9,-999.0000,9,  -999.00,  -999.00,9,   -999.0,9,   -999.0,  -999.00,9,   0.00036,2,    0.005,2,    0.042,2,    0.000,2,   99.880,2
  096U20180111,  SR03,    48,  1,      1,      1,2,20180128,2035,-62.3602, 139.8397, 3908,   3980.3,  -0.0896,  34.6570,2,  34.6579,2,    236.3,2,    236.6,2,   119.50,2,    32.18,2,     0.00,2,     2.23,2,    -0.01,2,    1.819,2,    0.965,2,     0.91,2,   2256.0,6,   2355.4,6,-999.0000,9,  -999.00,    18.29,2,   -999.0,9,   -999.0,  -999.00,9,   0.00036,2,    0.004,2,    0.036,2,    0.000,2,   99.891,2