BOTTLE,20230418CCHSIOENA
EXPOCODE,SECT_ID,STNNBR,CASTNO,SAMPNO,BTLNBR,BTLNBR_FLAG_W,DATE,TIME,LATITUDE,LONGITUDE,DEPTH,CTDPRS,CTDTMP,CTDSAL,CTDSAL_FLAG_W,SALNTY,SALNTY_FLAG_W,CTDOXY,CTDOXY_FLAG_W,OXYGEN,OXYGEN_FLAG_W,SILCAT,SILCAT_FLAG_W,NITRAT,NITRAT_FLAG_W,NITRIT,NITRIT_FLAG_W,PHSPHT,PHSPHT_FLAG_W,NH4,NH4_FLAG_W,CFC-11,CFC-11_FLAG_W,CFC-12,CFC-12_FLAG_W,SF6,SF6_FLAG_W,TCARBN,TCARBN_FLAG_W,ALKALI,ALKALI_FLAG_W,PH_TOT,PH_TOT_FLAG_W,PH_TMP,N2O,N2O_FLAG_W,DELC14,DELC14_FLAG_W,C14ERR,DELC13,DELC13_FLAG_W,CTDBETA700,CTDBETA700_FLAG_W,CTDBEAMCP,CTDBEAMCP_FLAG_W,CTDFLUOR,CTDFLUOR_FLAG_W,PAR,PAR_FLAG_W,CTDXMISS,CTDXMISS_FLAG_W
,,,,,,,,,,,METERS,DBAR,ITS-90,PSS-78,,PSS-78,,UMOL/KG,,UMOL/KG,,UMOL/KG,,UMOL/KG,,UMOL/KG,,UMOL/KG,,UMOL/KG,,PMOL/KG,,PMOL/KG,,FMOL/KG,,UMOL/KG,,UMOL/KG,,,,DEG C,NMOL/KG,,/MILLE,,/MILLE,/MILLE,,VOLTS,,1/M,,MG/M^3,,UMOL/M^2/SEC,,%TRANS,
  096U20180111,  SR03,     9,  1,     36,     36,2,20180114,2333,-46.6507, 145.2537, 3312,     14.9,  11.8383,  34.5392,2,  34.5392,2,    277.6,2,    278.0,2,    -0.10,2,     8.07,2,     0.20,2,     0.67,2,     0.16,2,    2.971,2,    1.719,2,     2.17,2,   2077.5,2,   2296.3,2,-999.0000,9,  -999.00,     9.69,2,   -999.0,9,   -999.0,  -999.00,9,   0.00224,2,    0.303,2,    2.064,2,  110.000,2,   92.708,2
  096U20180111,  SR03,     9,  1,     35,     35,2,20180114,2333,-46.6507, 145.2537, 3312,     14.8,  11.8385,  34.5393,2,-999.0000,9,    277.6,2,   -999.0,9,  -999.00,9,  -999.00,9,  -999.00,9,  -999.00,9,     -999,9, -999.000,9, -999.000,9,     -999,9,   -999.0,9,   -999.0,9,-999.0000,9,  -999.00,  -999.00,9,   -999.0,9,   -999.0,  -999.00,9,   0.00225,2,    0.301,2,    1.962,2,  103.000,2,   92.754,2
  096U20180111,  SR03,     9,  1,     34,     34,2,20180114,2333,-46.6507, 145.2537, 3312,     25.4,  11.8279,  34.5393,2,  34.5392,2,    277.1,2,    278.2,2,    -0.10,2,     8.06,2,     0.20,2,     0.67,2,     0.16,2,    3.010,2,    1.756,2,     2.17,2,   2078.1,6,   2297.0,6,-999.0000,9,  -999.00,     9.79,2,   -999.0,9,   -999.0,  -999.00,9,   0.00215,2,    0.301,2,    2.472,2,   27.200,2,   92.742,2
  096U20180111,  SR03,     9,  1,     33,     33,2,20180114,2333,-46.6507, 145.2537, 3312,     33.8,  11.7927,  34.5401,2,  34.5411,2,    276.8,2,    277.9,2,    -0.10,2,     8.11,2,     0.20,2,     0.67,2,     0.18,2,    2.988,2,    1.706,2,     2.31,2,   2077.3,2,   2296.7,2,-999.0000,9,  -999.00,     9.97,2,   -999.0,9,   -999.0,  -999.00,9,   0.00212,2,    0.303,2,    2.622,2,   14.400,2,   92.709,2
  096U20180111,  SR03,     9,  1,     32,     32,2,20180114,2333,-46.6507, 145.2537, 3312,     33.8,  11.7900,  34.5401,2,-999.0000,9,    276.8,2,   -999.0,9,  -999.00,9,  -999.00,9,  -999.00,9,  -999.00,9,     -999,9, -999.000,9, -999.000,9,     -999,9,   -999.0,9,   -999.0,9,-999.0000,9,  -999.00,  -999.00,9,   -999.0,9,   -999.0,  -999.00,9,   0.00208,2,    0.303,2,    2.688,2,   14.600,2,   92.694,2
  096U20180111,  SR03,     9,  1,     31,     31,2,20180114,2333,-46.6507, 145.2537, 3312,     50.4,  11.2073,  34.5714,2,  34.5768,2,    273.6,2,    271.7,2,     0.30,2,     9.23,2,     0.20,2,     0.76,2,     0.72,2,    3.040,2,    1.773,2,     2.24,2,   2092.6,2,   2300.4,2,-999.0000,9,  -999.00,     9.95,2,   -999.0,9,   -999.0,  -999.00,9,   0.00196,2,    0.168,2,    2.148,2,    4.720,2,   95.897,2
  096U20180111,  SR03,     9,  1,     30,     30,2,20180114,2333,-46.6507, 145.2537, 3312,     50.3,  11.2076,  34.5712,2,-999.0000,9,    273.6,2,   -999.0,9,  -999.00,9,  -999.00,9,  -999.00,9,  -999.00,9,     -999,9, -999.000,9, -999.000,9,     -999,9,   -999.0,9,   -999.0,9,-999.0000,9,  -999.00,  -999.00,9,   -999.0,9,   -999.0,  -999.00,9,   0.00191,2,    0.167,2,    2.184,2,    4.700,2,   95.918,2
  096U20180111,  SR03,     9,  1,     29,     29,2,20180114,2333,-46.6507, 145.2537, 3312,     75.5,  10.3291,  34.6401,2,  34.6512,2,    266.3,2,    265.6,2,     2.20,2,    11.54,2,     0.36,2,     0.92,2,     0.45,2,    3.141,2,    1.816,2,     2.17,2,   2112.2,2,   2298.2,2,-999.0000,9,  -999.00,    10.43,2,   -999.0,9,   -999.0,  -999.00,9,   0.00139,2,    0.082,2,    0.810,2,    0.715,2,   97.977,2
  096U20180111,  SR03,     9,  1,     28,     28,2,20180114,2333,-46.6507, 145.2537, 3312,     99.4,   9.5182,  34.6861,2,  34.6859,2,    263.8,2,    265.3,2,     3.40,2,    13.66,2,     0.05,2,     1.00,2,        0,2,    3.210,6,    1.835,6,     2.38,6,   2121.8,2,   2297.3,6,-999.0000,9,  -999.00,    10.75,6,   -999.0,9,   -999.0,  -999.00,9,   0.00104,2,    0.037,2,    0.312,2,    0.254,2,   99.068,2
  096U20180111,  SR03,     9,  1,     27,     27,2,20180114,2333,-46.6507, 145.2537, 3312,     99.1,   9.5092,  34.6857,2,-999.0000,9,    263.8,2,   -999.0,9,  -999.00,9,  -999.00,9,  -999.00,9,  -999.00,9,     -999,9, -999.000,9, -999.000,9,     -999,9,   -999.0,9,   -999.0,9,-999.0000,9,  -999.00,  -999.00,9,   -999.0,9,   -999.0,  -999.00,9,   0.00092,2,    0.035,2,    0.234,2,    0.267,2,   99.130,2
  096U20180111,  SR03,     9,  1,     26,     26,2,20180114,2333,-46.6507, 145.2537, 3312,    139.6,   9.3425,  34.6753,2,  34.6747,2,    264.2,2,    265.2,2,     3.40,2,    14.07,2,     0.02,2,     1.02,2,        0,2,    3.219,2,    1.834,2,     2.32,2,   2124.7,2,   2296.3,2,-999.0000,9,  -999.00,    11.04,2,   -999.0,9,   -999.0,  -999.00,9,   0.00089,2,    0.025,2,    0.174,2,    0.069,2,   99.367,2
  096U20180111,  SR03,     9,  1,     25,     25,2,20180114,2333,-46.6507, 145.2537, 3312,    200.5,   9.1730,  34.6656,2,  34.6649,2,    262.5,2,    264.0,2,     3.50,2,    14.43,2,     0.02,2,     1.04,2,        0,2,    3.201,2,    1.826,2,     2.32,2,   2124.8,2,   2297.5,2,-999.0000,9,  -999.00,    10.97,2,   -999.0,9,   -999.0,  -999.00,9,   0.00067,2,    0.016,2,    0.054,2,    0.000,2,   99.599,2
  096U20180111,  SR03,     9,  1,     24,     24,2,20180114,2333,-46.6507, 145.2537, 3312,    200.6,   9.1756,  34.6660,2,-999.0000,9,    262.5,2,   -999.0,9,  -999.00,9,  -999.00,9,  -999.00,9,  -999.00,9,     -999,9, -999.000,9, -999.000,9,     -999,9,   -999.0,9,   -999.0,9,-999.0000,9,  -999.00,  -999.00,9,   -999.0,9,   -999.0,  -999.00,9,   0.00064,2,    0.015,2,    0.066,2,    0.000,2,   99.618,2
  096U20180111,  SR03,     9,  1,     23,     23,2,20180114,2333,-46.6507, 145.2537, 3312,    350.4,   8.7943,  34.5984,2,  34.5985,2,    265.8,2,    266.3,2,     3.70,2,    15.26,2,     0.02,2,     1.09,2,        0,2,    3.308,2,    1.885,2,     2.25,2,   2126.9,6,   2294.8,6,-999.0000,9,  -999.00,    11.03,2,   -999.0,9,   -999.0,  -999.00,9,   0.00056,2,    0.010,2,    0.036,2,    0.000,2,   99.743,2
  096U20180111,  SR03,     9,  1,     22,     22,2,20180114,2333,-46.6507, 145.2537, 3312,    499.1,   8.2325,  34.5159,2,  34.5172,2,    265.0,2,    266.2,2,     4.70,2,    17.04,2,     0.01,2,     1.20,2,        0,2,    3.355,2,    1.915,2,     2.18,2,   2131.9,2,   2290.1,2,-999.0000,9,  -999.00,    11.22,2,   -999.0,9,   -999.0,  -999.00,9,   0.00051,2,    0.006,2,    0.030,2,    0.000,2,   99.845,2
  096U20180111,  SR03,     9,  1,     21,     21,2,20180114,2333,-46.6507, 145.2537, 3312,    499.2,   8.2158,  34.5135,2,-999.0000,9,    265.0,2,   -999.0,9,  -999.00,9,  -999.00,9,  -999.00,9,  -999.00,9,     -999,9, -999.000,9, -999.000,9,     -999,9,   -999.0,9,   -999.0,9,-999.0000,9,  -999.00,  -999.00,9,   -999.0,9,   -999.0,  -999.00,9,   0.00047,2,    0.006,2,    0.030,2,    0.000,2,   99.854,2
  096U20180111,  SR03,     9,  1,     20,     20,2,20180114,2333,-46.6507, 145.2537, 3312,    648.4,   7.4069,  34.4026,2,  34.4028,2,    251.9,2,    250.9,2,     7.50,2,    20.69,2,     0.01,2,     1.42,2,        0,2,    3.326,2,    1.841,2,     2.16,2,   2143.0,2,   2287.5,2,-999.0000,9,  -999.00,    12.75,2,   -999.0,9,   -999.0,  -999.00,9,   0.00048,2,    0.005,2,    0.030,2,    0.000,2,   99.876,2
  096U20180111,  SR03,     9,  1,     19,     19,2,20180114,2333,-46.6507, 145.2537, 3312,    800.4,   6.4653,  34.3669,2,  34.3676,2,    222.0,2,    223.3,2,    14.50,2,    25.10,2,     0.01,2,     1.70,2,        0,2,    2.916,2,    1.591,2,     1.34,2,   2165.3,2,   2288.0,2,-999.0000,9,  -999.00,    15.28,2,   -999.0,9,   -999.0,  -999.00,9,   0.00044,2,    0.003,2,    0.036,2,    0.000,2,   99.923,2
  096U20180111,  SR03,     9,  1,     18,     18,2,20180114,2333,-46.6507, 145.2537, 3312,   1000.7,   5.0099,  34.3446,2,  34.3451,2,    206.2,2,    205.5,2,    48.10,4,    32.83,4,     0.01,2,     2.26,4,        0,2,    2.299,2,    1.225,2,     0.65,2,   2191.3,2,   2296.4,2,-999.0000,9,  -999.00,    18.08,2,   -999.0,9,   -999.0,  -999.00,9,   0.00045,2,    0.002,2,    0.036,2,    0.000,2,   99.952,2
  096U20180111,  SR03,     9,  1,     17,     17,2,20180114,2333,-46.6507, 145.2537, 3312,   1000.6,   5.0038,  34.3443,2,-999.0000,9,    206.2,2,   -999.0,9,  -999.00,9,  -999.00,9,  -999.00,9,  -999.00,9,     -999,9, -999.000,9, -999.000,9,     -999,9,   -999.0,9,   -999.0,9,-999.0000,9,  -999.00,  -999.00,9,   -999.0,9,   -999.0,  -999.00,9,   0.00041,2,    0.002,2,    0.036,2,    0.000,2,   99.956,2
  096U20180111,  SR03,     9,  1,     16,     16,2,20180114,2333,-46.6507, 145.2537, 3312,   1249.5,   3.6476,  34.3911,2,  34.3913,2,    189.0,2,    188.1,2,    48.10,2,    32.83,2,     0.01,2,     2.26,2,        0,2,    1.504,6,    0.783,6,     0.41,6,   2222.8,2,   2315.8,2,-999.0000,9,  -999.00,    20.69,6,   -999.0,9,   -999.0,  -999.00,9,   0.00040,2,    0.001,2,    0.036,2,    0.000,2,   99.985,2
  096U20180111,  SR03,     9,  1,     15,     15,2,20180114,2333,-46.6507, 145.2537, 3312,   1499.0,   2.9943,  34.4963,2,  34.4947,2,    174.1,2,   -999.0,9,    64.50,2,    34.03,2,     0.00,2,     2.34,2,        0,2, -999.000,9, -999.000,9,     -999,9,   -999.0,9,   -999.0,9,-999.0000,9,  -999.00,  -999.00,9,   -999.0,9,   -999.0,  -999.00,9,   0.00042,2,    0.001,2,    0.036,2,    0.000,2,   99.968,2
  096U20180111,  SR03,     9,  1,     14,     14,2,20180114,2333,-46.6507, 145.2537, 3312,   1499.0,   2.9915,  34.4969,2,-999.0000,9,    174.1,2,   -999.0,9,    64.70,2,    34.05,2,     0.00,2,     2.35,2,        0,2, -999.000,9, -999.000,9,     -999,9,   -999.0,9,   -999.0,9,-999.0000,9,  -999.00,  -999.00,9,   -999.0,9,   -999.0,  -999.00,9,   0.00042,2,    0.001,2,    0.036,2,    0.000,2,   99.972,2
  096U20180111,  SR03,     9,  1,     13,     13,2,20180114,2333,-46.6507, 145.2537, 3312,   1750.8,   2.6221,  34.6016,2,  34.6008,2,    173.0,2,    172.7,2,    71.60,2,    33.38,2,     0.00,2,     2.29,2,        0,2,    0.508,2,    0.262,2,      0.1,2,   2250.9,2,   2337.3,2,-999.0000,9,  -999.00,    21.32,2,   -999.0,9,   -999.0,  -999.00,9,   0.00037,2,    0.000,2,    0.042,2,    0.000,2,  100.008,2
  096U20180111,  SR03,     9,  1,     12,     12,2,20180114,2333,-46.6507, 145.2537, 3312,   2000.5,   2.4499,  34.6734,2,  34.6736,2,    173.1,2,    172.8,2,    80.20,2,    32.59,2,     0.01,2,     2.26,2,        0,2,    0.196,2,    0.097,2,     0.01,2,   2256.4,2,   2350.0,2,-999.0000,9,  -999.00,    20.86,2,   -999.0,9,   -999.0,  -999.00,9,   0.00036,2,   -0.001,2,    0.042,2,    0.000,2,  100.014,2
  096U20180111,  SR03,     9,  1,     11,     11,2,20180114,2333,-46.6507, 145.2537, 3312,   2000.4,   2.4496,  34.6735,2,-999.0000,9,    173.1,2,   -999.0,9,  -999.00,9,  -999.00,9,  -999.00,9,  -999.00,9,     -999,9, -999.000,9, -999.000,9,     -999,9,   -999.0,9,   -999.0,9,-999.0000,9,  -999.00,  -999.00,9,   -999.0,9,   -999.0,  -999.00,9,   0.00036,2,   -0.001,2,    0.042,2,    0.000,2,  100.016,2
  096U20180111,  SR03,     9,  1,     10,     10,2,20180114,2333,-46.6507, 145.2537, 3312,   2249.0,   2.2728,  34.7138,2,  34.7142,2,    178.5,2,    178.5,2,    85.80,2,    31.88,2,     0.01,2,     2.21,2,        0,2,    0.123,2,    0.064,2,     0.05,2,   2258.4,2,   2357.2,2,-999.0000,9,  -999.00,    19.98,2,   -999.0,9,   -999.0,  -999.00,9,   0.00036,2,   -0.001,2,    0.042,2,    0.000,2,  100.020,2
  096U20180111,  SR03,     9,  1,      9,      9,2,20180114,2333,-46.6507, 145.2537, 3312,   2500.1,   2.0944,  34.7348,2,  34.7346,2,    184.0,2,    184.2,2,    90.60,2,    31.38,2,     0.01,2,     2.18,2,        0,2,    0.096,2,    0.047,2,        0,2,   2258.0,2,   2358.9,2,-999.0000,9,  -999.00,    18.74,2,   -999.0,9,   -999.0,  -999.00,9,   0.00034,2,   -0.001,2,    0.042,2,    0.000,2,  100.037,2
  096U20180111,  SR03,     9,  1,      8,      8,2,20180114,2333,-46.6507, 145.2537, 3312,   2500.1,   2.0925,  34.7348,2,-999.0000,9,    184.0,2,   -999.0,9,  -999.00,9,  -999.00,9,  -999.00,9,  -999.00,9,     -999,9, -999.000,9, -999.000,9,     -999,9,   -999.0,9,   -999.0,9,-999.0000,9,  -999.00,  -999.00,9,   -999.0,9,   -999.0,  -999.00,9,   0.00035,2,   -0.002,2,    0.048,2,    0.000,2,  100.044,2
  096U20180111,  SR03,     9,  1,      7,      7,2,20180114,2333,-46.6507, 145.2537, 3312,   2749.6,   1.7846,  34.7349,2,  34.7348,2,    187.3,2,    186.7,2,   102.00,2,    31.80,2,     0.00,2,     2.20,2,        0,2,    0.036,2,    0.017,2,     0.02,2,   2266.1,2,   2368.9,2,-999.0000,9,  -999.00,    18.16,2,   -999.0,9,   -999.0,  -999.00,9,   0.00041,2,    0.001,2,    0.042,2,    0.000,2,   99.966,2
  096U20180111,  SR03,     9,  1,      6,      6,2,20180114,2333,-46.6507, 145.2537, 3312,   3000.6,   1.5829,  34.7327,2,  34.7330,2,    191.0,2,    190.4,2,   107.50,2,    31.82,2,     0.01,2,     2.21,2,        0,2,    0.022,2,    0.011,2,     0.01,2,   2267.7,2,   2373.2,6,-999.0000,9,  -999.00,    18.79,2,   -999.0,9,   -999.0,  -999.00,9,   0.00039,2,    0.000,2,    0.042,2,    0.000,2,   99.997,2
  096U20180111,  SR03,     9,  1,      5,      5,2,20180114,2333,-46.6507, 145.2537, 3312,   3000.6,   1.5828,  34.7326,2,-999.0000,9,    191.0,2,   -999.0,9,  -999.00,9,  -999.00,9,  -999.00,9,  -999.00,9,     -999,9, -999.000,9, -999.000,9,     -999,9,   -999.0,9,   -999.0,9,-999.0000,9,  -999.00,  -999.00,9,   -999.0,9,   -999.0,  -999.00,9,   0.00035,2,    0.000,2,    0.042,2,    0.000,2,   99.999,2
  096U20180111,  SR03,     9,  1,      4,      4,2,20180114,2333,-46.6507, 145.2537, 3312,   3300.9,   1.4025,  34.7277,2,  34.7281,2,    194.2,2,    194.4,2,   112.10,2,    31.92,2,     0.01,2,     2.21,2,        0,2,    0.022,2,    0.012,2,        0,2,   2269.0,6,   2374.9,6,-999.0000,9,  -999.00,    18.75,2,   -999.0,9,   -999.0,  -999.00,9,   0.00039,2,    0.001,2,    0.042,2,    0.000,2,   99.981,2
  096U20180111,  SR03,     9,  1,      3,      3,2,20180114,2333,-46.6507, 145.2537, 3312,   3301.0,   1.4023,  34.7278,2,-999.0000,9,    194.2,2,   -999.0,9,  -999.00,9,  -999.00,9,  -999.00,9,  -999.00,9,     -999,9, -999.000,9, -999.000,9,     -999,9,   -999.0,9,   -999.0,9,-999.0000,9,  -999.00,  -999.00,9,   -999.0,9,   -999.0,  -999.00,9,   0.00040,2,    0.001,2,    0.042,2,    0.000,2,   99.977,2
  096U20180111,  SR03,     9,  1,      2,      2,2,20180114,2333,-46.6507, 145.2537, 3312,   3372.1,   1.3669,  34.7265,2,  34.7268,2,    194.4,2,    194.7,2,   113.20,2,    31.95,2,     0.01,2,     2.22,2,        0,2,    0.025,2,    0.011,2,     0.02,2,   2268.2,2,   2374.4,2,-999.0000,9,  -999.00,    17.53,2,   -999.0,9,   -999.0,  -999.00,9,   0.00057,2,    0.006,2,    0.042,2,    0.000,2,   99.859,2
  096U20180111,  SR03,     9,  1,      1,      1,2,20180114,2333,-46.6507, 145.2537, 3312,   3372.0,   1.3675,  34.7265,2,-999.0000,9,    194.4,2,   -999.0,9,  -999.00,9,  -999.00,9,  -999.00,9,  -999.00,9,     -999,9, -999.000,9, -999.000,9,     -999,9,   -999.0,9,   -999.0,9,-999.0000,9,  -999.00,  -999.00,9,   -999.0,9,   -999.0,  -999.00,9,   0.00052,2,    0.005,2,    0.042,2,    0.000,2,   99.868,2