BOTTLE,20230418CCHSIOENA
EXPOCODE,SECT_ID,STNNBR,CASTNO,SAMPNO,BTLNBR,BTLNBR_FLAG_W,DATE,TIME,LATITUDE,LONGITUDE,DEPTH,CTDPRS,CTDTMP,CTDSAL,CTDSAL_FLAG_W,SALNTY,SALNTY_FLAG_W,CTDOXY,CTDOXY_FLAG_W,OXYGEN,OXYGEN_FLAG_W,SILCAT,SILCAT_FLAG_W,NITRAT,NITRAT_FLAG_W,NITRIT,NITRIT_FLAG_W,PHSPHT,PHSPHT_FLAG_W,NH4,NH4_FLAG_W,CFC-11,CFC-11_FLAG_W,CFC-12,CFC-12_FLAG_W,SF6,SF6_FLAG_W,TCARBN,TCARBN_FLAG_W,ALKALI,ALKALI_FLAG_W,PH_TOT,PH_TOT_FLAG_W,PH_TMP,N2O,N2O_FLAG_W,DELC14,DELC14_FLAG_W,C14ERR,DELC13,DELC13_FLAG_W,CTDBETA700,CTDBETA700_FLAG_W,CTDBEAMCP,CTDBEAMCP_FLAG_W,CTDFLUOR,CTDFLUOR_FLAG_W,PAR,PAR_FLAG_W,CTDXMISS,CTDXMISS_FLAG_W
,,,,,,,,,,,METERS,DBAR,ITS-90,PSS-78,,PSS-78,,UMOL/KG,,UMOL/KG,,UMOL/KG,,UMOL/KG,,UMOL/KG,,UMOL/KG,,UMOL/KG,,PMOL/KG,,PMOL/KG,,FMOL/KG,,UMOL/KG,,UMOL/KG,,,,DEG C,NMOL/KG,,/MILLE,,/MILLE,/MILLE,,VOLTS,,1/M,,MG/M^3,,UMOL/M^2/SEC,,%TRANS,
  096U20180111,  SR03,   102,  1,     36,     36,2,20180215,1122,-58.9712, 132.0252, 4663,     11.7,   4.0822,  33.8650,2,-999.0000,9,    316.4,2,   -999.0,9,  -999.00,9,  -999.00,9,  -999.00,9,  -999.00,9,     -999,9, -999.000,9, -999.000,9,     -999,9,   -999.0,9,   -999.0,9,-999.0000,9,  -999.00,  -999.00,9,   -999.0,9,   -999.0,  -999.00,9,   0.00176,2,    0.148,2,    1.764,2,    0.959,2,   96.360,2
  096U20180111,  SR03,   102,  1,     35,     35,2,20180215,1122,-58.9712, 132.0252, 4663,     11.5,   4.0826,  33.8652,2,  33.8641,2,    316.4,2,    316.4,2,     5.40,2,    24.74,2,     0.25,2,     1.54,2,      0.1,2,    4.782,2,    2.666,2,     3.29,2,   2141.7,6,   2284.3,6,-999.0000,9,  -999.00,    14.31,2,   -999.0,9,   -999.0,  -999.00,9,   0.00176,2,    0.148,2,    1.740,2,    0.962,2,   96.357,2
  096U20180111,  SR03,   102,  1,     34,     34,2,20180215,1122,-58.9712, 132.0252, 4663,     30.6,   4.0869,  33.8649,2,  33.8648,2,    316.3,2,    316.8,2,     5.30,2,    24.78,2,     0.25,2,     1.55,2,      0.1,2,    4.795,2,    2.673,2,      3.6,2,   2140.5,2,   2284.1,2,-999.0000,9,  -999.00,    14.02,2,   -999.0,9,   -999.0,  -999.00,9,   0.00162,2,    0.146,2,    1.848,2,    0.070,2,   96.427,2
  096U20180111,  SR03,   102,  1,     33,     33,2,20180215,1122,-58.9712, 132.0252, 4663,     61.3,   3.6769,  33.8616,2,  33.8622,2,    321.8,2,    321.1,2,     4.80,2,    24.95,2,     0.24,2,     1.64,2,     0.19,2,    4.908,2,    2.700,2,     3.04,2,   2142.9,2,   2283.4,2,-999.0000,9,  -999.00,    15.48,2,   -999.0,9,   -999.0,  -999.00,9,   0.00249,2,    0.231,2,    3.552,2,    0.000,2,   94.381,2
  096U20180111,  SR03,   102,  1,     32,     32,2,20180215,1122,-58.9712, 132.0252, 4663,    101.4,   1.2320,  33.9011,2,  33.9011,2,    330.7,2,    331.2,2,    18.60,2,    26.77,2,     0.21,2,     2.02,3,     0.95,2, -999.000,9, -999.000,9,     -999,9,   -999.0,9,   -999.0,9,-999.0000,9,  -999.00,  -999.00,9,   -999.0,9,   -999.0,  -999.00,9,   0.00111,2,    0.072,2,    0.834,2,    0.000,2,   98.204,2
  096U20180111,  SR03,   102,  1,     31,     31,2,20180215,1122,-58.9712, 132.0252, 4663,    141.6,   0.6811,  33.9321,2,  33.9312,2,    324.5,2,    327.5,2,    22.20,2,    28.13,2,     0.34,2,     2.03,2,     0.45,2,    5.485,2,    2.994,2,     3.71,2,   2169.9,2,   2286.8,6,-999.0000,9,  -999.00,    15.98,2,   -999.0,9,   -999.0,  -999.00,9,   0.00093,2,    0.044,2,    0.312,2,    0.000,2,   98.912,2
  096U20180111,  SR03,   102,  1,     30,     30,2,20180215,1122,-58.9712, 132.0252, 4663,    141.6,   0.6805,  33.9322,2,-999.0000,9,    324.5,2,   -999.0,9,  -999.00,9,  -999.00,9,  -999.00,9,  -999.00,9,     -999,9, -999.000,9, -999.000,9,     -999,9,   -999.0,9,   -999.0,9,-999.0000,9,  -999.00,  -999.00,9,   -999.0,9,   -999.0,  -999.00,9,   0.00092,2,    0.044,2,    0.294,2,    0.000,2,   98.909,2
  096U20180111,  SR03,   102,  1,     29,     29,2,20180215,1122,-58.9712, 132.0252, 4663,    200.6,   0.7973,  34.0342,2,  34.0295,2,    303.5,2,    297.5,2,    31.50,2,    30.69,2,     0.01,2,     2.13,2,    -0.01,2,    4.805,2,    2.632,2,     2.88,2,   2189.0,2,   2292.9,2,-999.0000,9,  -999.00,    18.14,2,   -999.0,9,   -999.0,  -999.00,9,   0.00063,2,    0.019,2,    0.066,2,    0.000,2,   99.523,2
  096U20180111,  SR03,   102,  1,     28,     28,2,20180215,1122,-58.9712, 132.0252, 4663,    251.8,   1.7203,  34.1894,2,  34.1912,2,    243.2,2,    244.0,2,    43.50,2,    32.75,2,     0.01,2,     2.28,2,    -0.01,2,    3.472,2,    1.834,2,     1.82,2,   2212.3,2,   2304.1,2,-999.0000,9,  -999.00,    21.94,2,   -999.0,9,   -999.0,  -999.00,9,   0.00053,2,    0.017,2,    0.036,2,    0.000,2,   99.568,2
  096U20180111,  SR03,   102,  1,     27,     27,2,20180215,1122,-58.9712, 132.0252, 4663,    351.3,   2.3002,  34.3598,2,  34.3584,2,    199.3,2,    199.3,2,    57.00,2,    34.39,2,     0.01,2,     2.38,2,    -0.01,2, -999.000,9, -999.000,9,     -999,9,   -999.0,9,   -999.0,9,-999.0000,9,  -999.00,  -999.00,9,   -999.0,9,   -999.0,  -999.00,9,   0.00048,2,    0.014,2,    0.036,2,    0.000,2,   99.642,2
  096U20180111,  SR03,   102,  1,     26,     26,2,20180215,1122,-58.9712, 132.0252, 4663,    452.4,   2.5029,  34.4772,2,  34.4787,2,    179.4,2,    179.2,2,    65.10,2,    34.68,2,     0.00,2,     2.40,2,    -0.01,2,    1.241,2,    0.641,2,     0.48,2,   2247.0,6,   2327.1,6,-999.0000,9,  -999.00,    24.51,2,   -999.0,9,   -999.0,  -999.00,9,   0.00044,2,    0.010,2,    0.036,2,    0.000,2,   99.743,2
  096U20180111,  SR03,   102,  1,     25,     25,2,20180215,1122,-58.9712, 132.0252, 4663,    552.7,   2.4763,  34.5414,2,  34.5408,2,    174.8,2,    175.1,2,    69.00,2,    34.23,2,     0.01,2,     2.38,2,    -0.01,2,    0.888,2,    0.459,2,     0.36,2,   2249.4,2,   2332.6,2,-999.0000,9,  -999.00,    24.12,2,   -999.0,9,   -999.0,  -999.00,9,   0.00051,2,    0.009,2,    0.036,2,    0.000,2,   99.776,2
  096U20180111,  SR03,   102,  1,     24,     24,2,20180215,1122,-58.9712, 132.0252, 4663,    652.8,   2.4304,  34.5892,2,-999.0000,9,    173.8,2,   -999.0,9,  -999.00,9,  -999.00,9,  -999.00,9,  -999.00,9,     -999,9,    0.669,2,    0.348,2,     0.14,2,   -999.0,9,   -999.0,9,-999.0000,9,  -999.00,    23.82,2,   -999.0,9,   -999.0,  -999.00,9,   0.00040,2,    0.008,2,    0.036,2,    0.000,2,   99.808,2
  096U20180111,  SR03,   102,  1,     23,     23,2,20180215,1122,-58.9712, 132.0252, 4663,    652.7,   2.4301,  34.5894,2,  34.5874,2,    173.8,2,    174.3,2,    72.00,2,    33.96,2,     0.00,2,     2.34,2,    -0.01,2, -999.000,9, -999.000,9,     -999,9,   2249.3,2,   2335.5,2,-999.0000,9,  -999.00,  -999.00,9,   -999.0,9,   -999.0,  -999.00,9,   0.00041,2,    0.008,2,    0.036,2,    0.000,2,   99.807,2
  096U20180111,  SR03,   102,  1,     22,     22,2,20180215,1122,-58.9712, 132.0252, 4663,    754.3,   2.3589,  34.6324,2,  34.6320,2,    175.6,2,    175.6,2,    74.20,2,    33.34,2,     0.00,2,     2.30,2,    -0.01,2,    0.530,2,    0.278,2,     0.27,2,   2252.1,2,   2340.6,2,-999.0000,9,  -999.00,    23.28,2,   -999.0,9,   -999.0,  -999.00,9,   0.00038,2,    0.007,2,    0.036,2,    0.000,2,   99.836,2
  096U20180111,  SR03,   102,  1,     21,     21,2,20180215,1122,-58.9712, 132.0252, 4663,    854.2,   2.2937,  34.6652,2,  34.6642,2,    178.0,2,    178.3,2,    76.20,2,    32.70,2,     0.01,2,     2.26,2,    -0.01,2,    0.426,2,    0.222,2,        0,2,   2250.4,2,   2341.8,2,-999.0000,9,  -999.00,    22.33,2,   -999.0,9,   -999.0,  -999.00,9,   0.00037,2,    0.006,2,    0.036,2,    0.000,2,   99.850,2
  096U20180111,  SR03,   102,  1,     20,     20,2,20180215,1122,-58.9712, 132.0252, 4663,    949.3,   2.2604,  34.6890,2,  34.7025,4,    180.8,2,    204.5,4,    88.00,2,  -999.00,9,     0.01,2,     2.19,2,     0.01,2,    0.454,2,    0.232,2,     0.01,2,   2250.3,2,   2349.7,6,-999.0000,9,  -999.00,    19.94,3,   -999.0,9,   -999.0,  -999.00,9,   0.00037,2,    0.005,2,    0.036,2,    0.000,2,   99.868,2
  096U20180111,  SR03,   102,  1,     19,     19,2,20180215,1122,-58.9712, 132.0252, 4663,   1152.5,   2.1258,  34.7233,2,  34.7234,2,    186.5,2,    187.0,2,    80.50,2,    31.36,2,     0.00,2,     2.17,2,    -0.01,2,    0.258,2,    0.135,2,    -0.02,2,   2249.4,2,   2347.6,6,-999.0000,9,  -999.00,    21.09,2,   -999.0,9,   -999.0,  -999.00,9,   0.00032,2,    0.004,2,    0.036,2,    0.000,2,   99.894,2
  096U20180111,  SR03,   102,  1,     18,     18,2,20180215,1122,-58.9712, 132.0252, 4663,   1352.6,   1.9729,  34.7415,2,  34.7410,2,    191.9,2,    192.8,2,    84.20,2,    30.80,2,     0.00,2,     2.13,2,    -0.01,2,    0.204,2,    0.111,2,     0.18,3,   2246.8,2,   2350.9,2,-999.0000,9,  -999.00,    21.11,2,   -999.0,9,   -999.0,  -999.00,9,   0.00032,2,    0.003,2,    0.036,2,    0.000,2,   99.916,2
  096U20180111,  SR03,   102,  1,     17,     17,2,20180215,1122,-58.9712, 132.0252, 4663,   1553.0,   1.8163,  34.7467,2,-999.0000,9,    195.6,2,   -999.0,9,  -999.00,9,  -999.00,9,  -999.00,9,  -999.00,9,     -999,9, -999.000,9, -999.000,9,     -999,9,   -999.0,9,   -999.0,9,-999.0000,9,  -999.00,  -999.00,9,   -999.0,9,   -999.0,  -999.00,9,   0.00035,2,    0.003,2,    0.036,2,    0.000,2,   99.926,2
  096U20180111,  SR03,   102,  1,     16,     16,2,20180215,1122,-58.9712, 132.0252, 4663,   1552.9,   1.8151,  34.7468,2,  34.7465,2,    195.6,2,    196.6,2,    88.20,2,    30.66,2,     0.00,2,     2.13,2,    -0.01,2, -999.000,9, -999.000,9,     -999,9,   -999.0,9,   -999.0,9,-999.0000,9,  -999.00,  -999.00,9,   -999.0,9,   -999.0,  -999.00,9,   0.00031,2,    0.002,2,    0.036,2,    0.000,2,   99.939,2
  096U20180111,  SR03,   102,  1,     15,     15,2,20180215,1122,-58.9712, 132.0252, 4663,   1751.2,   1.6389,  34.7446,2,  34.7445,2,    198.9,2,    199.2,2,    93.20,2,    30.80,2,     0.00,2,     2.14,2,    -0.01,2,    0.185,2,    0.092,2,        0,2,   2250.6,2,   2356.0,2,-999.0000,9,  -999.00,    19.92,2,   -999.0,9,   -999.0,  -999.00,9,   0.00030,2,    0.002,2,    0.036,2,    0.000,2,   99.945,2
  096U20180111,  SR03,   102,  1,     14,     14,2,20180215,1122,-58.9712, 132.0252, 4663,   2001.0,   1.4177,  34.7371,2,  34.7360,2,    201.2,2,    201.4,2,    99.60,2,    31.11,2,     0.00,2,     2.16,2,    -0.01,2,    0.196,2,    0.096,2,    -0.01,2,   2252.5,2,   2358.8,2,-999.0000,9,  -999.00,    19.81,2,   -999.0,9,   -999.0,  -999.00,9,   0.00030,2,    0.001,2,    0.042,2,    0.000,2,   99.969,2
  096U20180111,  SR03,   102,  1,     13,     13,2,20180215,1122,-58.9712, 132.0252, 4663,   2301.2,   1.1554,  34.7247,2,  34.7251,2,    203.5,2,    204.3,2,   107.00,2,    31.57,2,     0.00,2,     2.19,2,    -0.01,2,    0.236,2,    0.122,2,     0.05,2,   2254.2,2,   2359.9,2,-999.0000,9,  -999.00,    19.93,2,   -999.0,9,   -999.0,  -999.00,9,   0.00026,2,    0.001,2,    0.036,2,    0.000,2,   99.981,2
  096U20180111,  SR03,   102,  1,     12,     12,2,20180215,1122,-58.9712, 132.0252, 4663,   2600.5,   0.9320,  34.7132,2,  34.7127,2,    206.7,2,    207.4,2,   114.10,2,    31.93,2,     0.00,2,     2.23,2,    -0.01,2,    0.271,2,    0.139,2,        0,2,   2257.1,2,   2360.1,2,-999.0000,9,  -999.00,    20.10,2,   -999.0,9,   -999.0,  -999.00,9,   0.00028,2,    0.001,2,    0.042,2,    0.000,2,   99.982,2
  096U20180111,  SR03,   102,  1,     11,     11,2,20180215,1122,-58.9712, 132.0252, 4663,   2901.8,   0.7087,  34.7015,2,  34.7011,2,    210.4,2,    211.1,2,   120.00,2,    32.27,2,     0.00,2,     2.25,2,    -0.01,2, -999.000,9, -999.000,9,     -999,9,   2259.0,2,   2360.9,2,-999.0000,9,  -999.00,  -999.00,9,   -999.0,9,   -999.0,  -999.00,9,   0.00026,2,    0.001,2,    0.042,2,    0.000,2,   99.986,2
  096U20180111,  SR03,   102,  1,     10,     10,2,20180215,1122,-58.9712, 132.0252, 4663,   3199.6,   0.5251,  34.6916,2,-999.0000,9,    214.3,2,   -999.0,9,  -999.00,9,  -999.00,9,  -999.00,9,  -999.00,9,     -999,9, -999.000,9, -999.000,9,     -999,9,   -999.0,9,   -999.0,9,-999.0000,9,  -999.00,  -999.00,9,   -999.0,9,   -999.0,  -999.00,9,   0.00024,2,    0.000,2,    0.042,2,    0.000,2,   99.991,2
  096U20180111,  SR03,   102,  1,      9,      9,2,20180215,1122,-58.9712, 132.0252, 4663,   3199.3,   0.5242,  34.6916,2,  34.6909,2,    214.3,2,    214.9,2,   124.20,2,    32.52,2,     0.00,2,     2.27,2,    -0.01,2,    0.483,2,    0.240,2,     0.05,2,   2258.4,2,   2360.6,2,-999.0000,9,  -999.00,    19.99,2,   -999.0,9,   -999.0,  -999.00,9,   0.00025,2,    0.000,2,    0.042,2,    0.000,2,   99.989,2
  096U20180111,  SR03,   102,  1,      8,      8,2,20180215,1122,-58.9712, 132.0252, 4663,   3497.9,   0.3978,  34.6853,2,  34.6851,2,    217.9,2,    218.5,2,   127.80,2,    32.58,2,     0.00,2,     2.28,2,    -0.01,2,    0.613,2,    0.304,2,     0.13,2,   2260.9,2,   2360.5,2,-999.0000,9,  -999.00,    19.85,2,   -999.0,9,   -999.0,  -999.00,9,   0.00023,2,    0.001,2,    0.036,2,    0.000,2,   99.985,2
  096U20180111,  SR03,   102,  1,      7,      7,2,20180215,1122,-58.9712, 132.0252, 4663,   3799.7,   0.3070,  34.6805,2,  34.6799,2,    221.1,2,    221.5,2,   130.60,2,    32.61,2,     0.00,2,     2.28,2,    -0.01,2, -999.000,9, -999.000,9,     -999,9,   -999.0,9,   -999.0,9,-999.0000,9,  -999.00,  -999.00,9,   -999.0,9,   -999.0,  -999.00,9,   0.00023,2,    0.001,2,    0.036,2,    0.000,2,   99.973,2
  096U20180111,  SR03,   102,  1,      6,      6,2,20180215,1122,-58.9712, 132.0252, 4663,   4100.0,   0.2210,  34.6756,2,  34.6754,2,    224.4,2,    224.9,2,   132.30,2,    32.60,2,     0.00,2,     2.28,2,    -0.01,2,    0.923,2,    0.453,2,     0.19,2,   2258.6,2,   2359.8,2,-999.0000,9,  -999.00,    19.95,2,   -999.0,9,   -999.0,  -999.00,9,   0.00023,2,    0.001,2,    0.036,2,    0.000,2,   99.977,2
  096U20180111,  SR03,   102,  1,      5,      5,2,20180215,1122,-58.9712, 132.0252, 4663,   4401.2,   0.1368,  34.6698,2,  34.6689,2,    228.0,2,    228.7,2,   133.90,2,    32.64,2,     0.00,2,     2.28,2,    -0.01,2, -999.000,9, -999.000,9,     -999,9,   -999.0,9,   -999.0,9,-999.0000,9,  -999.00,  -999.00,9,   -999.0,9,   -999.0,  -999.00,9,   0.00024,2,    0.002,2,    0.042,2,    0.000,2,   99.945,2
  096U20180111,  SR03,   102,  1,      4,      4,2,20180215,1122,-58.9712, 132.0252, 4663,   4599.0,   0.0951,  34.6658,2,  34.6653,2,    230.0,2,    230.1,2,   136.20,2,    32.57,2,     0.00,2,     2.28,2,    -0.01,2,    1.352,2,    0.683,2,     0.63,2,   2258.8,2,   2361.2,2,-999.0000,9,  -999.00,    19.78,2,   -999.0,9,   -999.0,  -999.00,9,   0.00030,2,    0.005,2,    0.042,2,    0.000,2,   99.883,2
  096U20180111,  SR03,   102,  1,      3,      3,2,20180215,1122,-58.9712, 132.0252, 4663,   4698.4,   0.0434,  34.6611,2,  34.6609,2,    232.2,2,    232.8,2,   134.00,2,    32.51,2,     0.00,2,     2.27,2,    -0.01,2,    1.566,2,    0.791,2,      0.5,2,   -999.0,9,   -999.0,9,-999.0000,9,  -999.00,    19.52,2,   -999.0,9,   -999.0,  -999.00,9,   0.00024,2,    0.004,2,    0.042,2,    0.000,2,   99.912,2
  096U20180111,  SR03,   102,  1,      2,      2,2,20180215,1122,-58.9712, 132.0252, 4663,   4761.9,  -0.0145,  34.6548,2,-999.0000,9,    234.6,2,   -999.0,9,  -999.00,9,  -999.00,9,  -999.00,9,  -999.00,9,     -999,9, -999.000,9, -999.000,9,     -999,9,   -999.0,9,   -999.0,9,-999.0000,9,  -999.00,  -999.00,9,   -999.0,9,   -999.0,  -999.00,9,   0.00038,2,    0.011,2,    0.042,2,    0.000,2,   99.729,2
  096U20180111,  SR03,   102,  1,      1,      1,2,20180215,1122,-58.9712, 132.0252, 4663,   4762.1,  -0.0146,  34.6548,2,  34.6549,2,    234.6,2,    234.9,2,   136.50,2,    32.46,2,     0.00,2,     2.28,2,    -0.01,2,    1.799,2,    0.931,2,     0.64,2,   2257.4,6,   2358.3,6,-999.0000,9,  -999.00,    19.42,2,   -999.0,9,   -999.0,  -999.00,9,   0.00039,2,    0.011,2,    0.042,2,    0.000,2,   99.729,2