BOTTLE,20230418CCHSIOENA
EXPOCODE,SECT_ID,STNNBR,CASTNO,SAMPNO,BTLNBR,BTLNBR_FLAG_W,DATE,TIME,LATITUDE,LONGITUDE,DEPTH,CTDPRS,CTDTMP,CTDSAL,CTDSAL_FLAG_W,SALNTY,SALNTY_FLAG_W,CTDOXY,CTDOXY_FLAG_W,OXYGEN,OXYGEN_FLAG_W,SILCAT,SILCAT_FLAG_W,NITRAT,NITRAT_FLAG_W,NITRIT,NITRIT_FLAG_W,PHSPHT,PHSPHT_FLAG_W,NH4,NH4_FLAG_W,CFC-11,CFC-11_FLAG_W,CFC-12,CFC-12_FLAG_W,SF6,SF6_FLAG_W,TCARBN,TCARBN_FLAG_W,ALKALI,ALKALI_FLAG_W,PH_TOT,PH_TOT_FLAG_W,PH_TMP,N2O,N2O_FLAG_W,DELC14,DELC14_FLAG_W,C14ERR,DELC13,DELC13_FLAG_W,CTDBETA700,CTDBETA700_FLAG_W,CTDBEAMCP,CTDBEAMCP_FLAG_W,CTDFLUOR,CTDFLUOR_FLAG_W,PAR,PAR_FLAG_W,CTDXMISS,CTDXMISS_FLAG_W
,,,,,,,,,,,METERS,DBAR,ITS-90,PSS-78,,PSS-78,,UMOL/KG,,UMOL/KG,,UMOL/KG,,UMOL/KG,,UMOL/KG,,UMOL/KG,,UMOL/KG,,PMOL/KG,,PMOL/KG,,FMOL/KG,,UMOL/KG,,UMOL/KG,,,,DEG C,NMOL/KG,,/MILLE,,/MILLE,/MILLE,,VOLTS,,1/M,,MG/M^3,,UMOL/M^2/SEC,,%TRANS,
  096U20180111,  SR03,     6,  1,     36,     36,2,20180112,1237,-45.2218, 145.8523, 2847,      9.8,  14.9826,  35.2742,2,-999.0000,9,   -999.0,5,   -999.0,9,  -999.00,9,  -999.00,9,  -999.00,9,  -999.00,9,     -999,9, -999.000,9, -999.000,9,     -999,9,   -999.0,9,   -999.0,9,-999.0000,9,  -999.00,  -999.00,9,   -999.0,9,   -999.0,  -999.00,9,   0.00246,2,    0.250,2,    1.758,2,    1.010,2,   93.934,2
  096U20180111,  SR03,     6,  1,     35,     35,2,20180112,1237,-45.2218, 145.8523, 2847,      9.8,  14.9846,  35.2740,2,  35.2731,2,   -999.0,5,    258.5,2,     0.00,2,     0.29,2,     0.04,2,     0.20,2,     0.26,2,    2.531,2,    1.536,2,     1.89,2,   2065.6,2,   2327.3,2,-999.0000,9,  -999.00,     8.87,2,   -999.0,9,   -999.0,  -999.00,9,   0.00255,2,    0.249,2,    1.782,2,    0.955,2,   93.969,2
  096U20180111,  SR03,     6,  1,     34,     34,2,20180112,1237,-45.2218, 145.8523, 2847,     24.6,  14.9911,  35.2742,2,  35.2734,2,    261.4,2,    258.5,2,     0.00,2,     0.30,2,     0.04,2,     0.20,2,     0.27,2, -999.000,9, -999.000,9,     -999,9,   -999.0,9,   -999.0,9,-999.0000,9,  -999.00,  -999.00,9,   -999.0,9,   -999.0,  -999.00,9,   0.00257,2,    0.251,2,    1.752,2,    0.046,2,   93.925,2
  096U20180111,  SR03,     6,  1,     33,     33,2,20180112,1237,-45.2218, 145.8523, 2847,     41.8,  14.9579,  35.2757,2,  35.2793,2,    256.0,2,    257.2,2,     0.00,2,     0.38,2,     0.04,2,     0.21,2,     0.38,2,    2.463,2,    1.472,2,     1.62,2,   2066.5,6,   2327.7,6,-999.0000,9,  -999.00,     8.64,2,   -999.0,9,   -999.0,  -999.00,9,   0.00249,2,    0.234,2,    1.740,2,    0.000,2,   94.325,2
  096U20180111,  SR03,     6,  1,     32,     32,2,20180112,1237,-45.2218, 145.8523, 2847,     60.8,  14.7273,  35.3307,2,-999.0000,9,    249.6,2,   -999.0,9,  -999.00,9,  -999.00,9,  -999.00,9,  -999.00,9,     -999,9, -999.000,9, -999.000,9,     -999,9,   -999.0,9,   -999.0,9,-999.0000,9,  -999.00,  -999.00,9,   -999.0,9,   -999.0,  -999.00,9,   0.00151,2,    0.123,2,    0.936,2,    0.000,2,   96.975,2
  096U20180111,  SR03,     6,  1,     31,     31,2,20180112,1237,-45.2218, 145.8523, 2847,     60.7,  14.7263,  35.3313,2,  35.3307,2,    249.6,2,    249.1,2,     0.10,2,     0.59,2,     0.07,2,     0.26,2,     0.89,2, -999.000,9, -999.000,9,     -999,9,   -999.0,9,   -999.0,9,-999.0000,9,  -999.00,  -999.00,9,   -999.0,9,   -999.0,  -999.00,9,   0.00148,2,    0.120,2,    0.912,2,    0.000,2,   97.038,2
  096U20180111,  SR03,     6,  1,     30,     30,2,20180112,1237,-45.2218, 145.8523, 2847,     80.9,  14.6674,  35.3388,2,  35.3305,2,    247.0,2,    246.7,2,     0.30,2,     1.04,2,     0.10,2,     0.31,2,     1.02,2, -999.000,9, -999.000,9,     -999,9,   -999.0,9,   -999.0,9,-999.0000,9,  -999.00,  -999.00,9,   -999.0,9,   -999.0,  -999.00,9,   0.00132,2,    0.099,2,    0.588,2,    0.000,2,   97.545,2
  096U20180111,  SR03,     6,  1,     29,     29,2,20180112,1237,-45.2218, 145.8523, 2847,    111.1,  12.8935,  35.1368,2,-999.0000,9,    249.4,2,   -999.0,9,  -999.00,9,  -999.00,9,  -999.00,9,  -999.00,9,     -999,9, -999.000,9, -999.000,9,     -999,9,   -999.0,9,   -999.0,9,-999.0000,9,  -999.00,  -999.00,9,   -999.0,9,   -999.0,  -999.00,9,   0.00095,2,    0.061,2,    0.228,2,    0.000,2,   98.489,2
  096U20180111,  SR03,     6,  1,     28,     28,2,20180112,1237,-45.2218, 145.8523, 2847,    110.6,  13.0968,  35.1571,2,  35.1608,2,    247.4,2,    245.9,2,     1.10,2,     5.38,2,     0.27,2,     0.56,2,     0.59,2,    2.712,2,    1.633,2,      2.1,2,   2101.1,2,   2319.8,2,-999.0000,9,  -999.00,     9.55,2,   -999.0,9,   -999.0,  -999.00,9,   0.00101,2,    0.060,2,    0.234,2,    0.000,2,   98.510,2
  096U20180111,  SR03,     6,  1,     27,     27,2,20180112,1237,-45.2218, 145.8523, 2847,    161.6,  11.1513,  34.9973,2,  34.9970,2,    253.4,2,    251.1,2,     2.60,2,    10.58,2,     0.03,2,     0.80,2,    -0.02,2, -999.000,9, -999.000,9,     -999,9,   -999.0,9,   -999.0,9,-999.0000,9,  -999.00,  -999.00,9,   -999.0,9,   -999.0,  -999.00,9,   0.00069,2,    0.026,2,    0.072,2,    0.000,2,   99.357,2
  096U20180111,  SR03,     6,  1,     26,     26,2,20180112,1237,-45.2218, 145.8523, 2847,    210.1,  10.5800,  34.8929,2,  34.8931,2,    253.6,2,    253.7,2,     3.10,2,    11.87,2,     0.02,2,     0.88,2,    -0.02,2,    3.020,2,    1.800,2,     2.52,2,   2123.9,2,   2305.2,6,-999.0000,9,  -999.00,    10.30,2,   -999.0,9,   -999.0,  -999.00,9,   0.00070,2,    0.025,2,    0.054,2,    0.000,2,   99.382,2
  096U20180111,  SR03,     6,  1,     25,     25,2,20180112,1237,-45.2218, 145.8523, 2847,    269.1,  10.1345,  34.8238,2,  34.8235,2,    257.0,2,    247.4,2,     3.60,2,    13.44,2,     0.02,2,     0.98,2,    -0.02,2, -999.000,9, -999.000,9,     -999,9,   -999.0,9,   -999.0,9,-999.0000,9,  -999.00,  -999.00,9,   -999.0,9,   -999.0,  -999.00,9,   0.00063,2,    0.019,2,    0.042,2,    0.000,2,   99.535,2
  096U20180111,  SR03,     6,  1,     24,     24,2,20180112,1237,-45.2218, 145.8523, 2847,    323.1,   9.6891,  34.7456,2,  34.7453,2,    253.6,2,    253.8,2,     3.80,2,    14.12,2,     0.02,2,     1.03,2,    -0.02,2,    3.159,2,    1.860,2,     1.91,2,   2127.9,2,   2299.4,2,-999.0000,9,  -999.00,    10.98,2,   -999.0,9,   -999.0,  -999.00,9,   0.00071,2,    0.020,2,    0.054,2,    0.000,2,   99.506,2
  096U20180111,  SR03,     6,  1,     23,     23,2,20180112,1237,-45.2218, 145.8523, 2847,    422.9,   8.9745,  34.6258,2,  34.6252,2,    248.8,2,    248.0,2,     4.80,2,    16.56,2,     0.01,2,     1.17,2,    -0.02,2, -999.000,9, -999.000,9,     -999,9,   -999.0,9,   -999.0,9,-999.0000,9,  -999.00,  -999.00,9,   -999.0,9,   -999.0,  -999.00,9,   0.00051,2,    0.013,2,    0.036,2,    0.000,2,   99.667,2
  096U20180111,  SR03,     6,  1,     22,     22,2,20180112,1237,-45.2218, 145.8523, 2847,    521.5,   8.4660,  34.5618,2,  34.5612,2,    233.6,2,    235.3,2,     6.80,2,    19.13,2,     0.01,2,     1.33,2,    -0.02,2,    3.098,2,    1.760,2,     1.49,2,   2144.6,2,   2292.5,2,-999.0000,9,  -999.00,    13.16,2,   -999.0,9,   -999.0,  -999.00,9,   0.00048,2,    0.012,2,    0.030,2,    0.000,2,   99.710,2
  096U20180111,  SR03,     6,  1,     21,     21,2,20180112,1237,-45.2218, 145.8523, 2847,    620.1,   7.8347,  34.5203,2,  34.5197,2,    210.7,2,    212.5,2,    11.30,2,    22.54,2,     0.01,2,     1.55,2,    -0.02,2,    2.603,2,    1.439,2,     1.01,2,   2158.2,2,   2293.1,2,-999.0000,9,  -999.00,    15.34,2,   -999.0,9,   -999.0,  -999.00,9,   0.00048,2,    0.009,2,    0.036,2,    0.000,2,   99.763,2
  096U20180111,  SR03,     6,  1,     20,     20,2,20180112,1237,-45.2218, 145.8523, 2847,    720.6,   6.9914,  34.4715,2,-999.0000,9,    200.8,2,   -999.0,9,  -999.00,9,  -999.00,9,  -999.00,9,  -999.00,9,     -999,9, -999.000,9, -999.000,9,     -999,9,   -999.0,9,   -999.0,9,-999.0000,9,  -999.00,  -999.00,9,   -999.0,9,   -999.0,  -999.00,9,   0.00044,2,    0.007,2,    0.030,2,    0.000,2,   99.814,2
  096U20180111,  SR03,     6,  1,     19,     19,2,20180112,1237,-45.2218, 145.8523, 2847,    821.0,   6.0880,  34.4262,2,  34.4252,2,    196.3,2,    196.1,2,    23.60,2,    27.65,2,     0.00,2,     1.89,2,        0,2, -999.000,9, -999.000,9,     -999,9,   -999.0,9,   -999.0,9,-999.0000,9,  -999.00,  -999.00,9,   -999.0,9,   -999.0,  -999.00,9,   0.00045,2,    0.006,2,    0.036,2,    0.000,2,   99.845,2
  096U20180111,  SR03,     6,  1,     18,     18,2,20180112,1237,-45.2218, 145.8523, 2847,    919.8,   5.3014,  34.4159,2,  34.4160,2,    190.7,2,    190.5,2,    32.70,2,    29.51,2,     0.01,2,     2.02,2,        0,2,    1.420,2,    0.759,2,     0.59,2,   2195.2,2,   2305.5,2,-999.0000,9,  -999.00,    19.09,2,   -999.0,9,   -999.0,  -999.00,9,   0.00041,2,    0.006,2,    0.036,2,    0.000,2,   99.859,2
  096U20180111,  SR03,     6,  1,     17,     17,2,20180112,1237,-45.2218, 145.8523, 2847,   1019.1,   4.6051,  34.4280,2,  34.4286,2,    186.2,2,    183.0,2,    43.80,2,    31.15,2,     0.00,2,     2.15,2,    -0.02,2, -999.000,9, -999.000,9,     -999,9,   -999.0,9,   -999.0,9,-999.0000,9,  -999.00,  -999.00,9,   -999.0,9,   -999.0,  -999.00,9,   0.00040,2,    0.005,2,    0.036,2,    0.000,2,   99.876,2
  096U20180111,  SR03,     6,  1,     16,     16,2,20180112,1237,-45.2218, 145.8523, 2847,   1119.1,   3.8976,  34.4355,2,  34.4358,2,    179.4,2,    179.0,2,    52.60,2,    32.57,2,     0.00,2,     2.26,2,    -0.01,2, -999.000,9, -999.000,9,     -999,9,   -999.0,9,   -999.0,9,-999.0000,9,  -999.00,  -999.00,9,   -999.0,9,   -999.0,  -999.00,9,   0.00041,2,    0.004,2,    0.036,2,    0.000,2,   99.890,2
  096U20180111,  SR03,     6,  1,     15,     15,2,20180112,1237,-45.2218, 145.8523, 2847,   1270.0,   3.3135,  34.5011,2,  34.5008,2,    168.2,2,    167.9,2,    67.40,2,    33.75,2,     0.00,2,     2.35,2,    -0.02,2,    0.581,2,    0.301,2,     0.41,2,   2250.4,6,   2338.9,6,-999.0000,9,  -999.00,    21.42,2,   -999.0,9,   -999.0,  -999.00,9,   0.00038,2,    0.004,2,    0.042,2,    0.000,2,   99.903,2
  096U20180111,  SR03,     6,  1,     14,     14,2,20180112,1237,-45.2218, 145.8523, 2847,   1419.8,   2.9149,  34.5559,2,  34.5551,2,    164.2,2,    164.2,2,    75.60,2,    34.09,2,     0.00,2,     2.37,2,    -0.01,2, -999.000,9, -999.000,9,     -999,9,   -999.0,9,   -999.0,9,-999.0000,9,  -999.00,  -999.00,9,   -999.0,9,   -999.0,  -999.00,9,   0.00038,2,    0.004,2,    0.042,2,    0.000,2,   99.909,2
  096U20180111,  SR03,     6,  1,     13,     13,2,20180112,1237,-45.2218, 145.8523, 2847,   1569.9,   2.6542,  34.6034,2,  34.6029,2,    166.1,2,    165.6,2,    78.50,2,    33.74,2,     0.00,2,     2.35,2,    -0.02,2, -999.000,9, -999.000,9,     -999,9,   -999.0,9,   -999.0,9,-999.0000,9,  -999.00,  -999.00,9,   -999.0,9,   -999.0,  -999.00,9,   0.00037,2,    0.003,2,    0.042,2,    0.000,2,   99.929,2
  096U20180111,  SR03,     6,  1,     12,     12,2,20180112,1237,-45.2218, 145.8523, 2847,   1769.8,   2.4524,  34.6562,2,  34.6557,2,    169.0,2,    169.7,2,    82.70,2,    33.14,2,     0.00,2,     2.30,2,    -0.02,2,    0.175,2,    0.079,2,     0.03,2,   2261.7,2,   2354.1,2,-999.0000,9,  -999.00,    20.88,2,   -999.0,9,   -999.0,  -999.00,9,   0.00038,2,    0.003,2,    0.042,2,    0.000,2,   99.936,2
  096U20180111,  SR03,     6,  1,     11,     11,2,20180112,1237,-45.2218, 145.8523, 2847,   2001.1,   2.2866,  34.6950,2,-999.0000,9,    177.0,2,   -999.0,9,  -999.00,9,  -999.00,9,  -999.00,9,  -999.00,9,     -999,9, -999.000,9, -999.000,9,     -999,9,   -999.0,9,   -999.0,9,-999.0000,9,  -999.00,  -999.00,9,   -999.0,9,   -999.0,  -999.00,9,   0.00038,2,    0.003,2,    0.048,2,    0.000,2,   99.915,2
  096U20180111,  SR03,     6,  1,     10,     10,2,20180112,1237,-45.2218, 145.8523, 2847,   2001.0,   2.2864,  34.6949,2,  34.6947,2,    177.0,2,    177.2,2,    84.50,2,    32.21,2,     0.00,2,     2.24,2,    -0.02,2,    0.167,2,    0.075,2,    -0.04,2,   2259.3,2,   2354.3,2,-999.0000,9,  -999.00,    19.95,2,   -999.0,9,   -999.0,  -999.00,9,   0.00038,2,    0.003,2,    0.042,2,    0.000,2,   99.933,2
  096U20180111,  SR03,     6,  1,      9,      9,2,20180112,1237,-45.2218, 145.8523, 2847,   2172.7,   2.2061,  34.7150,2,-999.0000,9,    173.4,2,   -999.0,9,  -999.00,9,  -999.00,9,  -999.00,9,  -999.00,9,     -999,9, -999.000,9, -999.000,9,     -999,9,   -999.0,9,   -999.0,9,-999.0000,9,  -999.00,  -999.00,9,   -999.0,9,   -999.0,  -999.00,9,   0.00036,2,    0.002,2,    0.042,2,    0.000,2,   99.942,2
  096U20180111,  SR03,     6,  1,      8,      8,2,20180112,1237,-45.2218, 145.8523, 2847,   2172.9,   2.2063,  34.7148,2,  34.7148,2,    173.4,2,    174.3,2,    92.80,2,    32.47,2,     0.00,2,     2.27,2,    -0.01,2,    0.052,2,    0.016,2,     0.02,2,   2282.7,4,   2364.9,2,-999.0000,9,  -999.00,    20.12,2,   -999.0,9,   -999.0,  -999.00,9,   0.00036,2,    0.002,2,    0.048,2,    0.000,2,   99.941,2
  096U20180111,  SR03,     6,  1,      7,      7,2,20180112,1237,-45.2218, 145.8523, 2847,   2374.4,   2.0413,  34.7278,2,  34.7276,2,    175.7,2,    175.8,2,    99.30,2,    32.38,2,     0.00,2,     2.26,2,    -0.02,2,    0.019,2,    0.009,2,     0.03,2,   2269.3,2,   2372.1,6,-999.0000,9,  -999.00,    19.62,2,   -999.0,9,   -999.0,  -999.00,9,   0.00036,2,    0.002,2,    0.048,2,    0.000,2,   99.937,2
  096U20180111,  SR03,     6,  1,      6,      6,2,20180112,1237,-45.2218, 145.8523, 2847,   2576.6,   1.9237,  34.7328,2,-999.0000,9,    179.8,2,   -999.0,9,  -999.00,9,  -999.00,9,  -999.00,9,  -999.00,9,     -999,9, -999.000,9, -999.000,9,     -999,9,   -999.0,9,   -999.0,9,-999.0000,9,  -999.00,  -999.00,9,   -999.0,9,   -999.0,  -999.00,9,   0.00035,2,    0.002,2,    0.048,2,    0.000,2,   99.942,2
  096U20180111,  SR03,     6,  1,      5,      5,2,20180112,1237,-45.2218, 145.8523, 2847,   2576.3,   1.9244,  34.7329,2,  34.7323,2,    179.8,2,    179.5,2,   102.20,2,    32.20,2,     0.00,2,     2.25,2,    -0.02,2,    0.013,2,    0.003,2,    -0.01,2,   2273.7,2,   2374.1,2,-999.0000,9,  -999.00,    19.27,2,   -999.0,9,   -999.0,  -999.00,9,   0.00035,2,    0.002,2,    0.048,2,    0.000,2,   99.953,2
  096U20180111,  SR03,     6,  1,      4,      4,2,20180112,1237,-45.2218, 145.8523, 2847,   2775.6,   1.7201,  34.7326,2,-999.0000,9,    185.1,2,   -999.0,9,  -999.00,9,  -999.00,9,  -999.00,9,  -999.00,9,     -999,9, -999.000,9, -999.000,9,     -999,9,   -999.0,9,   -999.0,9,-999.0000,9,  -999.00,  -999.00,9,   -999.0,9,   -999.0,  -999.00,9,   0.00046,2,    0.006,2,    0.042,2,    0.000,2,   99.847,2
  096U20180111,  SR03,     6,  1,      3,      3,2,20180112,1237,-45.2218, 145.8523, 2847,   2775.4,   1.7202,  34.7328,2,  34.7320,2,    185.1,2,    185.4,2,   105.90,2,    32.10,2,     0.01,2,     2.23,2,     0.02,2,    0.015,2,    0.004,2,     0.02,2,   2269.8,2,   -999.0,9,-999.0000,9,  -999.00,    18.77,2,   -999.0,9,   -999.0,  -999.00,9,   0.00046,2,    0.006,2,    0.048,2,    0.000,2,   99.842,2
  096U20180111,  SR03,     6,  1,      2,      2,2,20180112,1237,-45.2218, 145.8523, 2847,   2875.9,   1.6186,  34.7320,2,  34.7316,2,    187.8,2,    187.4,2,   108.40,2,    32.03,2,     0.00,2,     2.23,2,    -0.02,2,    0.011,2,    0.000,2,     0.05,2,   2268.9,2,   -999.0,9,-999.0000,9,  -999.00,    18.55,2,   -999.0,9,   -999.0,  -999.00,9,   0.00058,2,    0.009,2,    0.042,2,    0.000,2,   99.762,2
  096U20180111,  SR03,     6,  1,      1,      1,2,20180112,1237,-45.2218, 145.8523, 2847,   2876.0,   1.6199,  34.7320,2,-999.0000,9,    187.8,2,   -999.0,9,  -999.00,9,  -999.00,9,  -999.00,9,  -999.00,9,     -999,9, -999.000,9, -999.000,9,     -999,9,   -999.0,9,   -999.0,9,-999.0000,9,  -999.00,  -999.00,9,   -999.0,9,   -999.0,  -999.00,9,   0.00066,2,    0.009,2,    0.036,2,    0.000,2,   99.772,2