BOTTLE,20230418CCHSIOENA
EXPOCODE,SECT_ID,STNNBR,CASTNO,SAMPNO,BTLNBR,BTLNBR_FLAG_W,DATE,TIME,LATITUDE,LONGITUDE,DEPTH,CTDPRS,CTDTMP,CTDSAL,CTDSAL_FLAG_W,SALNTY,SALNTY_FLAG_W,CTDOXY,CTDOXY_FLAG_W,OXYGEN,OXYGEN_FLAG_W,SILCAT,SILCAT_FLAG_W,NITRAT,NITRAT_FLAG_W,NITRIT,NITRIT_FLAG_W,PHSPHT,PHSPHT_FLAG_W,NH4,NH4_FLAG_W,CFC-11,CFC-11_FLAG_W,CFC-12,CFC-12_FLAG_W,SF6,SF6_FLAG_W,TCARBN,TCARBN_FLAG_W,ALKALI,ALKALI_FLAG_W,PH_TOT,PH_TOT_FLAG_W,PH_TMP,N2O,N2O_FLAG_W,DELC14,DELC14_FLAG_W,C14ERR,DELC13,DELC13_FLAG_W,CTDBETA700,CTDBETA700_FLAG_W,CTDBEAMCP,CTDBEAMCP_FLAG_W,CTDFLUOR,CTDFLUOR_FLAG_W,PAR,PAR_FLAG_W,CTDXMISS,CTDXMISS_FLAG_W
,,,,,,,,,,,METERS,DBAR,ITS-90,PSS-78,,PSS-78,,UMOL/KG,,UMOL/KG,,UMOL/KG,,UMOL/KG,,UMOL/KG,,UMOL/KG,,UMOL/KG,,PMOL/KG,,PMOL/KG,,FMOL/KG,,UMOL/KG,,UMOL/KG,,,,DEG C,NMOL/KG,,/MILLE,,/MILLE,/MILLE,,VOLTS,,1/M,,MG/M^3,,UMOL/M^2/SEC,,%TRANS,
  096U20180111,  SR03,    10,  1,     36,     36,2,20180115,1431,-47.1492, 144.9107, 4796,     11.0,  11.1329,  34.4242,2,  34.4358,2,    278.8,2,    278.1,2,     0.10,2,     9.88,2,     0.22,2,     0.80,2,      0.1,2, -999.000,9, -999.000,9,     -999,9,   2088.9,6,   2291.6,6,-999.0000,9,  -999.00,  -999.00,9,   -999.0,9,   -999.0,  -999.00,9,   0.00134,2,    0.228,2,    2.430,2,    0.908,2,   94.450,2
  096U20180111,  SR03,    10,  1,     35,     35,2,20180115,1431,-47.1492, 144.9107, 4796,     26.0,  11.1331,  34.4238,2,  34.4232,2,    278.3,2,    278.2,2,     0.10,2,     9.91,2,     0.22,2,     0.80,2,      0.1,2, -999.000,9, -999.000,9,     -999,9,   -999.0,9,   -999.0,9,-999.0000,9,  -999.00,  -999.00,9,   -999.0,9,   -999.0,  -999.00,9,   0.00130,2,    0.229,2,    2.412,2,    0.080,2,   94.426,2
  096U20180111,  SR03,    10,  1,     34,     34,2,20180115,1431,-47.1492, 144.9107, 4796,     40.9,  11.0359,  34.4181,2,  34.4137,2,    278.3,2,    278.0,2,     0.20,2,    10.27,2,     0.22,2,     0.83,2,     0.27,2, -999.000,9, -999.000,9,     -999,9,   2090.8,2,   2292.3,2,-999.0000,9,  -999.00,  -999.00,9,   -999.0,9,   -999.0,  -999.00,9,   0.00141,2,    0.220,2,    2.454,2,    0.000,2,   94.654,2
  096U20180111,  SR03,    10,  1,     33,     33,2,20180115,1431,-47.1492, 144.9107, 4796,     74.3,   9.2828,  34.4960,2,  34.5217,2,    270.7,2,    269.8,2,     3.40,2,    13.91,2,     0.49,2,     1.08,2,     0.31,2, -999.000,9, -999.000,9,     -999,9,   -999.0,9,   -999.0,9,-999.0000,9,  -999.00,  -999.00,9,   -999.0,9,   -999.0,  -999.00,9,   0.00137,2,    0.074,2,    0.684,2,    0.000,2,   98.158,2
  096U20180111,  SR03,    10,  1,     32,     32,2,20180115,1431,-47.1492, 144.9107, 4796,    100.6,   9.5151,  34.6756,2,  34.6682,2,    270.3,2,    267.2,2,     3.60,2,    13.80,2,     0.05,2,     1.02,2,        0,2,    3.259,2,    1.878,2,     2.28,2,   2131.9,2,   2297.1,2,-999.0000,9,  -999.00,    10.61,2,   -999.0,9,   -999.0,  -999.00,9,   0.00104,2,    0.035,2,    0.192,2,    0.000,2,   99.121,2
  096U20180111,  SR03,    10,  1,     31,     31,2,20180115,1431,-47.1492, 144.9107, 4796,    123.6,   9.1689,  34.6187,2,  34.6182,2,    269.6,2,    268.8,2,     3.60,2,    14.38,2,     0.04,2,     1.05,2,        0,2, -999.000,9, -999.000,9,     -999,9,   -999.0,9,   -999.0,9,-999.0000,9,  -999.00,  -999.00,9,   -999.0,9,   -999.0,  -999.00,9,   0.00087,2,    0.026,2,    0.150,2,    0.000,2,   99.356,2
  096U20180111,  SR03,    10,  1,     30,     30,2,20180115,1431,-47.1492, 144.9107, 4796,    149.7,   9.1331,  34.6184,2,  34.5827,2,    268.5,2,    269.4,2,     3.60,2,    14.85,2,     0.03,2,     1.07,2,     0.01,2, -999.000,9, -999.000,9,     -999,9,   -999.0,9,   -999.0,9,-999.0000,9,  -999.00,  -999.00,9,   -999.0,9,   -999.0,  -999.00,9,   0.00071,2,    0.021,2,    0.090,2,    0.000,2,   99.473,2
  096U20180111,  SR03,    10,  1,     29,     29,2,20180115,1431,-47.1492, 144.9107, 4796,    199.9,   8.9758,  34.6130,2,  34.6205,2,    266.4,2,    266.8,2,     3.60,2,    14.64,2,     0.02,2,     1.06,2,        0,2, -999.000,9, -999.000,9,     -999,9,   -999.0,9,   -999.0,9,-999.0000,9,  -999.00,  -999.00,9,   -999.0,9,   -999.0,  -999.00,9,   0.00064,2,    0.017,2,    0.054,2,    0.000,2,   99.573,2
  096U20180111,  SR03,    10,  1,     28,     28,2,20180115,1431,-47.1492, 144.9107, 4796,    249.1,   9.0113,  34.6299,2,  34.6288,2,    265.0,2,    266.0,2,     3.60,2,    14.57,2,     0.01,2,     1.05,2,        0,2,    3.284,2,    1.878,2,     2.46,2,   2129.1,2,   2295.1,2,-999.0000,9,  -999.00,    10.82,2,   -999.0,9,   -999.0,  -999.00,9,   0.00064,2,    0.013,2,    0.036,2,    0.000,2,   99.666,2
  096U20180111,  SR03,    10,  1,     27,     27,2,20180115,1431,-47.1492, 144.9107, 4796,    299.2,   8.9713,  34.6252,2,  34.6251,2,    264.4,2,    267.0,2,     3.50,2,    14.53,2,     0.01,2,     1.05,2,        0,2, -999.000,9, -999.000,9,     -999,9,   -999.0,9,   -999.0,9,-999.0000,9,  -999.00,  -999.00,9,   -999.0,9,   -999.0,  -999.00,9,   0.00066,2,    0.012,2,    0.030,2,    0.000,2,   99.693,2
  096U20180111,  SR03,    10,  1,     26,     26,2,20180115,1431,-47.1492, 144.9107, 4796,    399.7,   8.8871,  34.6118,2,  34.6110,2,    266.2,2,    266.1,2,     3.70,2,    14.95,2,     0.02,2,     1.08,2,        0,2, -999.000,9, -999.000,9,     -999,9,   -999.0,9,   -999.0,9,-999.0000,9,  -999.00,  -999.00,9,   -999.0,9,   -999.0,  -999.00,9,   0.00056,2,    0.009,2,    0.024,2,    0.000,2,   99.786,2
  096U20180111,  SR03,    10,  1,     25,     25,2,20180115,1431,-47.1492, 144.9107, 4796,    500.9,   8.5930,  34.5681,2,  34.5694,2,    264.6,2,    265.6,2,     4.30,2,    16.02,2,     0.01,2,     1.14,2,        0,2,    3.314,2,    1.883,2,     2.43,2,   2131.7,2,   2293.2,2,-999.0000,9,  -999.00,    11.35,2,   -999.0,9,   -999.0,  -999.00,9,   0.00054,2,    0.008,2,    0.030,2,    0.000,2,   99.806,2
  096U20180111,  SR03,    10,  1,     24,     24,2,20180115,1431,-47.1492, 144.9107, 4796,    599.1,   8.0180,  34.4836,2,  34.4825,2,    261.5,2,    261.7,2,     5.50,2,    18.03,2,     0.01,2,     1.27,2,        0,2, -999.000,9, -999.000,9,     -999,9,   -999.0,9,   -999.0,9,-999.0000,9,  -999.00,  -999.00,9,   -999.0,9,   -999.0,  -999.00,9,   0.00051,2,    0.006,2,    0.030,2,    0.000,2,   99.863,2
  096U20180111,  SR03,    10,  1,     23,     23,2,20180115,1431,-47.1492, 144.9107, 4796,    700.1,   7.2849,  34.3820,2,  34.3826,2,    255.6,2,    255.1,2,     7.50,2,    20.62,2,     0.01,2,     1.44,2,        0,2, -999.000,9, -999.000,9,     -999,9,   2150.2,2,   2287.6,6,-999.0000,9,  -999.00,  -999.00,9,   -999.0,9,   -999.0,  -999.00,9,   0.00047,2,    0.006,2,    0.024,2,    0.000,2,   99.855,2
  096U20180111,  SR03,    10,  1,     22,     22,2,20180115,1431,-47.1492, 144.9107, 4796,    800.9,   6.9761,  34.4215,2,  34.4219,2,    222.4,2,    216.8,2,    13.50,2,    24.28,2,     0.00,2,     1.66,2,        0,2, -999.000,9, -999.000,9,     -999,9,   -999.0,9,   -999.0,9,-999.0000,9,  -999.00,  -999.00,9,   -999.0,9,   -999.0,  -999.00,9,   0.00045,2,    0.004,2,    0.030,2,    0.000,2,   99.889,2
  096U20180111,  SR03,    10,  1,     21,     21,2,20180115,1431,-47.1492, 144.9107, 4796,    899.5,   6.1365,  34.3914,2,  34.3923,2,    205.7,2,    206.0,2,    19.60,2,    26.98,2,     0.00,2,     1.85,2,        0,2, -999.000,9, -999.000,9,     -999,9,   -999.0,9,   -999.0,9,-999.0000,9,  -999.00,  -999.00,9,   -999.0,9,   -999.0,  -999.00,9,   0.00046,2,    0.003,2,    0.036,2,    0.000,2,   99.922,2
  096U20180111,  SR03,    10,  1,     20,     20,2,20180115,1431,-47.1492, 144.9107, 4796,   1001.4,   5.2957,  34.3583,2,  34.3579,2,    203.9,2,    204.3,2,    26.20,2,    28.92,2,     0.00,2,     1.98,2,        0,2,    2.269,2,    1.197,2,     0.73,2,   2192.6,2,   2296.4,2,-999.0000,9,  -999.00,    18.41,2,   -999.0,9,   -999.0,  -999.00,9,   0.00043,2,    0.006,2,    0.036,2,    0.000,2,   99.840,2
  096U20180111,  SR03,    10,  1,     19,     19,2,20180115,1431,-47.1492, 144.9107, 4796,   1101.1,   4.5367,  34.3590,2,  34.3584,2,    199.4,2,    198.9,2,    34.80,2,    30.59,2,     0.00,2,     2.11,2,        0,2, -999.000,9, -999.000,9,     -999,9,   -999.0,9,   -999.0,9,-999.0000,9,  -999.00,  -999.00,9,   -999.0,9,   -999.0,  -999.00,9,   0.00040,2,    0.002,2,    0.036,2,    0.000,2,   99.960,2
  096U20180111,  SR03,    10,  1,     18,     18,2,20180115,1431,-47.1492, 144.9107, 4796,   1200.7,   4.0752,  34.3763,2,  34.3753,2,    192.8,2,    192.4,2,    42.30,2,    31.70,2,     0.00,2,     2.20,2,        0,2, -999.000,9, -999.000,9,     -999,9,   -999.0,9,   -999.0,9,-999.0000,9,  -999.00,  -999.00,9,   -999.0,9,   -999.0,  -999.00,9,   0.00043,2,    0.001,2,    0.036,2,    0.000,2,   99.968,2
  096U20180111,  SR03,    10,  1,     17,     17,2,20180115,1431,-47.1492, 144.9107, 4796,   1351.4,   3.4324,  34.4164,2,  34.4164,2,    183.6,2,    183.0,2,    53.30,2,    33.18,2,     0.00,2,     2.31,2,        0,2, -999.000,9, -999.000,9,     -999,9,   -999.0,9,   -999.0,9,-999.0000,9,  -999.00,  -999.00,9,   -999.0,9,   -999.0,  -999.00,9,   0.00043,2,    0.001,2,    0.042,2,    0.000,2,   99.981,2
  096U20180111,  SR03,    10,  1,     16,     16,2,20180115,1431,-47.1492, 144.9107, 4796,   1501.1,   3.0097,  34.4760,2,  34.4745,2,    176.0,2,    176.0,2,    61.60,2,    33.82,2,     0.00,2,     2.36,2,        0,2,    0.974,2,    0.507,2,      0.2,2,   2245.3,2,   2328.2,2,-999.0000,9,  -999.00,    22.73,2,   -999.0,9,   -999.0,  -999.00,9,   0.00042,2,    0.001,2,    0.042,2,    0.000,2,   99.985,2
  096U20180111,  SR03,    10,  1,     15,     15,2,20180115,1431,-47.1492, 144.9107, 4796,   1650.1,   2.7897,  34.5447,2,  34.5443,2,    171.6,2,    171.6,2,    68.50,2,    33.68,2,     0.00,2,     2.35,2,        0,2, -999.000,9, -999.000,9,     -999,9,   -999.0,9,   -999.0,9,-999.0000,9,  -999.00,  -999.00,9,   -999.0,9,   -999.0,  -999.00,9,   0.00042,2,    0.000,2,    0.042,2,    0.000,2,   99.990,2
  096U20180111,  SR03,    10,  1,     14,     14,2,20180115,1431,-47.1492, 144.9107, 4796,   1800.2,   2.6407,  34.6029,2,  34.6025,2,    172.1,2,    173.1,2,    71.90,2,    33.09,2,     0.00,2,     2.31,2,        0,2,    0.469,2,    0.245,2,     0.04,2,   2255.2,2,   2339.7,2,-999.0000,9,  -999.00,    22.47,2,   -999.0,9,   -999.0,  -999.00,9,   0.00039,2,    0.000,2,    0.042,2,    0.000,2,   99.999,2
  096U20180111,  SR03,    10,  1,     13,     13,2,20180115,1431,-47.1492, 144.9107, 4796,   2001.4,   2.4723,  34.6653,2,  34.6646,2,    173.7,2,    174.4,2,    78.60,2,    32.36,2,     0.00,2,     2.27,2,        0,2,    0.248,2,    0.122,2,    -0.02,2,   2258.6,2,   2347.2,2,-999.0000,9,  -999.00,    21.08,2,   -999.0,9,   -999.0,  -999.00,9,   0.00038,2,    0.000,2,    0.042,2,    0.000,2,  100.008,2
  096U20180111,  SR03,    10,  1,     12,     12,2,20180115,1431,-47.1492, 144.9107, 4796,   2251.2,   2.3117,  34.7054,2,  34.7053,2,    176.7,2,    176.9,2,    85.20,2,    31.76,2,     0.00,2,     2.24,2,        0,2, -999.000,9, -999.000,9,     -999,9,   -999.0,9,   -999.0,9,-999.0000,9,  -999.00,  -999.00,9,   -999.0,9,   -999.0,  -999.00,9,   0.00035,2,   -0.001,2,    0.048,2,    0.000,2,  100.011,2
  096U20180111,  SR03,    10,  1,     11,     11,2,20180115,1431,-47.1492, 144.9107, 4796,   2501.1,   2.1321,  34.7268,2,  34.7265,2,    178.8,2,    179.3,2,    93.30,2,    31.66,2,     0.00,2,     2.24,2,        0,2,    0.060,2,    0.028,2,     0.07,2,   2266.4,2,   2364.5,2,-999.0000,9,  -999.00,    20.16,2,   -999.0,9,   -999.0,  -999.00,9,   0.00035,2,   -0.001,2,    0.042,2,    0.000,2,  100.015,2
  096U20180111,  SR03,    10,  1,     10,     10,2,20180115,1431,-47.1492, 144.9107, 4796,   2750.5,   1.9737,  34.7373,2,  34.7372,2,    184.5,2,    184.7,2,    96.50,2,    31.29,2,     0.00,2,     2.21,2,        0,2, -999.000,9, -999.000,9,     -999,9,   -999.0,9,   -999.0,9,-999.0000,9,  -999.00,  -999.00,9,   -999.0,9,   -999.0,  -999.00,9,   0.00038,2,   -0.001,2,    0.042,2,    0.000,2,  100.035,2
  096U20180111,  SR03,    10,  1,      9,      9,2,20180115,1431,-47.1492, 144.9107, 4796,   3001.2,   1.7655,  34.7365,2,  34.7371,2,    188.3,2,    188.4,2,   102.20,2,    31.30,2,     0.00,2,     2.21,2,        0,2,    0.038,2,    0.020,2,     0.05,2,   2267.9,2,   2370.5,2,-999.0000,9,  -999.00,    19.39,2,   -999.0,9,   -999.0,  -999.00,9,   0.00034,2,   -0.001,2,    0.042,2,    0.000,2,  100.034,2
  096U20180111,  SR03,    10,  1,      8,      8,2,20180115,1431,-47.1492, 144.9107, 4796,   3252.0,   1.5593,  34.7332,2,  34.7329,2,    193.2,2,    193.0,2,   107.10,2,    31.37,2,     0.00,2,     2.20,2,        0,2, -999.000,9, -999.000,9,     -999,9,   -999.0,9,   -999.0,9,-999.0000,9,  -999.00,  -999.00,9,   -999.0,9,   -999.0,  -999.00,9,   0.00033,2,   -0.002,2,    0.042,2,    0.000,2,  100.042,2
  096U20180111,  SR03,    10,  1,      7,      7,2,20180115,1431,-47.1492, 144.9107, 4796,   3501.8,   1.3976,  34.7278,2,  34.7280,2,    196.2,2,    196.6,2,   111.30,2,    31.46,2,     0.00,2,     2.21,2,        0,2,    0.042,2,    0.024,2,     0.06,2,   2269.6,2,   2373.7,2,-999.0000,9,  -999.00,    18.23,2,   -999.0,9,   -999.0,  -999.00,9,   0.00031,2,   -0.002,2,    0.042,2,    0.000,2,  100.046,2
  096U20180111,  SR03,    10,  1,      6,      6,2,20180115,1431,-47.1492, 144.9107, 4796,   3750.4,   1.2500,  34.7216,2,  34.7219,2,    199.0,2,    199.1,2,   115.80,2,    31.61,2,     0.00,2,     2.23,2,        0,2,    0.041,2,    0.018,2,    -0.02,2,   2272.4,2,   2377.0,2,-999.0000,9,  -999.00,    18.79,2,   -999.0,9,   -999.0,  -999.00,9,   0.00031,2,   -0.002,2,    0.036,2,    0.000,2,  100.040,2
  096U20180111,  SR03,    10,  1,      5,      5,2,20180115,1431,-47.1492, 144.9107, 4796,   4001.5,   1.1063,  34.7151,2,  34.7150,2,    201.2,2,    200.8,2,   119.40,2,    31.77,2,     0.00,2,     2.25,2,        0,2,    0.036,2,    0.019,2,        0,2,   2275.2,2,   2381.4,2,-999.0000,9,  -999.00,    18.15,2,   -999.0,9,   -999.0,  -999.00,9,   0.00034,2,   -0.001,2,    0.036,2,    0.000,2,  100.014,2
  096U20180111,  SR03,    10,  1,      4,      4,2,20180115,1431,-47.1492, 144.9107, 4796,   4250.1,   1.0601,  34.7122,2,  34.7122,2,    202.4,2,    202.4,2,   120.80,2,    31.92,2,     0.00,2,     2.25,2,        0,2,    0.050,2,    0.021,2,        0,2,   2276.9,2,   2380.5,2,-999.0000,9,  -999.00,    18.09,2,   -999.0,9,   -999.0,  -999.00,9,   0.00038,2,    0.002,2,    0.042,2,    0.000,2,   99.962,2
  096U20180111,  SR03,    10,  1,      3,      3,2,20180115,1431,-47.1492, 144.9107, 4796,   4546.1,   1.0590,  34.7107,2,  34.7110,2,    202.6,2,    202.7,2,   121.70,2,    31.97,2,     0.00,2,     2.26,2,        0,2,    0.052,2,    0.025,2,     0.04,2,   2275.1,6,   2383.0,6,-999.0000,9,  -999.00,    18.40,2,   -999.0,9,   -999.0,  -999.00,9,   0.00053,2,    0.006,2,    0.048,2,    0.000,2,   99.853,2
  096U20180111,  SR03,    10,  1,      2,      2,2,20180115,1431,-47.1492, 144.9107, 4796,   4799.3,   1.0842,  34.7103,2,  34.7108,2,    202.5,2,    202.5,2,   121.60,2,    31.95,2,     0.00,2,     2.25,2,        0,2,    0.063,2,    0.028,2,    -0.01,2,   -999.0,9,   -999.0,9,-999.0000,9,  -999.00,    17.96,2,   -999.0,9,   -999.0,  -999.00,9,   0.00049,2,    0.006,2,    0.042,2,    0.000,2,   99.842,2
  096U20180111,  SR03,    10,  1,      1,      1,2,20180115,1431,-47.1492, 144.9107, 4796,   4893.8,   1.0934,  34.7102,2,  34.7099,2,    202.6,2,    202.5,2,   121.70,2,    31.97,2,     0.00,2,     2.26,2,        0,2,    0.053,2,    0.026,2,    -0.01,2,   2276.0,2,   2382.1,2,-999.0000,9,  -999.00,    18.01,2,   -999.0,9,   -999.0,  -999.00,9,   0.00057,2,    0.007,2,    0.042,2,    0.000,2,   99.819,2