BOTTLE,20230418CCHSIOENA
EXPOCODE,SECT_ID,STNNBR,CASTNO,SAMPNO,BTLNBR,BTLNBR_FLAG_W,DATE,TIME,LATITUDE,LONGITUDE,DEPTH,CTDPRS,CTDTMP,CTDSAL,CTDSAL_FLAG_W,SALNTY,SALNTY_FLAG_W,CTDOXY,CTDOXY_FLAG_W,OXYGEN,OXYGEN_FLAG_W,SILCAT,SILCAT_FLAG_W,NITRAT,NITRAT_FLAG_W,NITRIT,NITRIT_FLAG_W,PHSPHT,PHSPHT_FLAG_W,NH4,NH4_FLAG_W,CFC-11,CFC-11_FLAG_W,CFC-12,CFC-12_FLAG_W,SF6,SF6_FLAG_W,TCARBN,TCARBN_FLAG_W,ALKALI,ALKALI_FLAG_W,PH_TOT,PH_TOT_FLAG_W,PH_TMP,N2O,N2O_FLAG_W,DELC14,DELC14_FLAG_W,C14ERR,DELC13,DELC13_FLAG_W,CTDBETA700,CTDBETA700_FLAG_W,CTDBEAMCP,CTDBEAMCP_FLAG_W,CTDFLUOR,CTDFLUOR_FLAG_W,PAR,PAR_FLAG_W,CTDXMISS,CTDXMISS_FLAG_W
,,,,,,,,,,,METERS,DBAR,ITS-90,PSS-78,,PSS-78,,UMOL/KG,,UMOL/KG,,UMOL/KG,,UMOL/KG,,UMOL/KG,,UMOL/KG,,UMOL/KG,,PMOL/KG,,PMOL/KG,,FMOL/KG,,UMOL/KG,,UMOL/KG,,,,DEG C,NMOL/KG,,/MILLE,,/MILLE,/MILLE,,VOLTS,,1/M,,MG/M^3,,UMOL/M^2/SEC,,%TRANS,
  096U20180111,  SR03,    30,  1,     36,     36,2,20180122,0647,-54.0710, 141.5978, 2496,     11.2,   4.4823,  33.8080,2,-999.0000,9,    318.6,2,   -999.0,9,  -999.00,9,  -999.00,9,  -999.00,9,  -999.00,9,     -999,9, -999.000,9, -999.000,9,     -999,9,   -999.0,9,   -999.0,9,-999.0000,9,  -999.00,  -999.00,9,   -999.0,9,   -999.0,  -999.00,9,   0.00172,2,    0.181,2,    1.098,2,   35.100,2,   95.583,2
  096U20180111,  SR03,    30,  1,     35,     35,2,20180122,0647,-54.0710, 141.5978, 2496,     11.0,   4.4785,  33.8082,2,  33.8089,2,    318.6,2,    318.5,2,    11.10,2,    25.34,2,     0.22,2,     1.67,2,     0.06,2,    4.751,2,    2.535,2,     3.48,2,   2137.7,2,   2278.7,2,-999.0000,9,  -999.00,    12.56,2,   -999.0,9,   -999.0,  -999.00,9,   0.00172,2,    0.182,2,    1.098,2,   36.000,2,   95.564,2
  096U20180111,  SR03,    30,  1,     34,     34,2,20180122,0647,-54.0710, 141.5978, 2496,     31.5,   4.4159,  33.8090,2,  33.8102,2,    320.4,2,    319.1,2,    11.30,2,    25.33,2,     0.22,2,     1.66,2,     0.06,2,    4.774,2,    2.542,2,     3.38,2,   2140.3,2,   2278.2,2,-999.0000,9,  -999.00,    12.51,2,   -999.0,9,   -999.0,  -999.00,9,   0.00175,2,    0.190,2,    1.344,2,   10.400,2,   95.373,2
  096U20180111,  SR03,    30,  1,     33,     33,2,20180122,0647,-54.0710, 141.5978, 2496,     51.1,   4.1084,  33.8133,2,-999.0000,9,    321.6,2,   -999.0,9,  -999.00,9,  -999.00,9,  -999.00,9,  -999.00,9,     -999,9, -999.000,9, -999.000,9,     -999,9,   -999.0,9,   -999.0,9,-999.0000,9,  -999.00,  -999.00,9,   -999.0,9,   -999.0,  -999.00,9,   0.00236,2,    0.224,2,    2.424,2,    3.600,2,   94.551,2
  096U20180111,  SR03,    30,  1,     32,     32,2,20180122,0647,-54.0710, 141.5978, 2496,     51.1,   4.0992,  33.8134,2,  33.8143,2,    321.6,2,    320.6,2,    11.60,2,    25.46,2,     0.21,2,     1.67,2,     0.08,2, -999.000,9, -999.000,9,     -999,9,   -999.0,9,   -999.0,9,-999.0000,9,  -999.00,  -999.00,9,   -999.0,9,   -999.0,  -999.00,9,   0.00231,2,    0.223,2,    2.286,2,    3.620,2,   94.584,2
  096U20180111,  SR03,    30,  1,     31,     31,2,20180122,0647,-54.0710, 141.5978, 2496,     76.0,   2.0644,  33.8756,2,  33.8724,2,    322.6,2,    331.0,2,    16.20,2,    26.58,2,     0.20,2,     1.86,2,      0.4,2,    5.246,2,    2.751,2,     3.49,2,   2154.3,2,   2282.3,2,-999.0000,9,  -999.00,    13.49,2,   -999.0,9,   -999.0,  -999.00,9,   0.00216,2,    0.168,2,    2.562,2,    0.673,2,   95.897,2
  096U20180111,  SR03,    30,  1,     30,     30,2,20180122,0647,-54.0710, 141.5978, 2496,    111.2,   0.5590,  33.9130,2,-999.0000,9,    341.1,2,   -999.0,9,  -999.00,9,  -999.00,9,  -999.00,9,  -999.00,9,     -999,9, -999.000,9, -999.000,9,     -999,9,   -999.0,9,   -999.0,9,-999.0000,9,  -999.00,  -999.00,9,   -999.0,9,   -999.0,  -999.00,9,   0.00105,2,    0.055,2,    0.744,2,    0.067,2,   98.644,2
  096U20180111,  SR03,    30,  1,     29,     29,2,20180122,0647,-54.0710, 141.5978, 2496,    111.1,   0.5440,  33.9135,2,-999.0000,9,    341.1,2,   -999.0,9,    22.30,2,    28.01,2,     0.21,2,     1.99,2,     0.46,2, -999.000,9, -999.000,9,     -999,9,   -999.0,9,   -999.0,9,-999.0000,9,  -999.00,  -999.00,9,   -999.0,9,   -999.0,  -999.00,9,   0.00089,2,    0.049,2,    0.750,2,    0.066,2,   98.771,2
  096U20180111,  SR03,    30,  1,     28,     28,2,20180122,0647,-54.0710, 141.5978, 2496,    166.3,  -0.1142,  33.9448,2,-999.0000,9,    330.7,2,   -999.0,9,  -999.00,9,  -999.00,9,  -999.00,9,  -999.00,9,     -999,9, -999.000,9, -999.000,9,     -999,9,   -999.0,9,   -999.0,9,-999.0000,9,  -999.00,  -999.00,9,   -999.0,9,   -999.0,  -999.00,9,   0.00052,2,    0.018,2,    0.174,2,    0.000,2,   99.563,2
  096U20180111,  SR03,    30,  1,     27,     27,2,20180122,0647,-54.0710, 141.5978, 2496,    166.2,  -0.1140,  33.9452,2,  33.9456,2,    330.7,2,    331.1,2,    26.20,2,    28.98,2,     0.26,2,     2.05,2,     0.31,2,    5.550,2,    2.880,2,     3.68,2,   2175.7,2,   2290.1,2,-999.0000,9,  -999.00,    15.08,2,   -999.0,9,   -999.0,  -999.00,9,   0.00069,2,    0.017,2,    0.174,2,    0.000,2,   99.587,2
  096U20180111,  SR03,    30,  1,     26,     26,2,20180122,0647,-54.0710, 141.5978, 2496,    211.6,   1.5275,  34.1497,2,-999.0000,9,    270.2,2,   -999.0,9,  -999.00,9,  -999.00,9,  -999.00,9,  -999.00,9,     -999,9, -999.000,9, -999.000,9,     -999,9,   -999.0,9,   -999.0,9,-999.0000,9,  -999.00,  -999.00,9,   -999.0,9,   -999.0,  -999.00,9,   0.00073,2,    0.014,2,    0.042,2,    0.000,2,   99.641,2
  096U20180111,  SR03,    30,  1,     25,     25,2,20180122,0647,-54.0710, 141.5978, 2496,    211.3,   1.5429,  34.1526,2,  34.1401,2,    270.2,2,    257.8,2,    39.50,2,    32.26,2,     0.01,2,     2.23,2,        0,2, -999.000,9, -999.000,9,     -999,9,   -999.0,9,   -999.0,9,-999.0000,9,  -999.00,  -999.00,9,   -999.0,9,   -999.0,  -999.00,9,   0.00059,2,    0.014,2,    0.036,2,    0.000,2,   99.641,2
  096U20180111,  SR03,    30,  1,     24,     24,2,20180122,0647,-54.0710, 141.5978, 2496,    301.4,   2.3432,  34.3446,2,  34.3447,2,    198.5,2,    197.0,2,    56.10,2,    34.60,2,     0.01,2,     2.39,2,    -0.01,2,    2.178,2,    1.154,2,     0.79,2,   2235.8,2,   2315.6,2,-999.0000,9,  -999.00,    22.93,2,   -999.0,9,   -999.0,  -999.00,9,   0.00067,2,    0.015,2,    0.036,2,    0.000,2,   99.630,2
  096U20180111,  SR03,    30,  1,     23,     23,2,20180122,0647,-54.0710, 141.5978, 2496,    400.4,   2.3913,  34.4324,2,  34.4321,2,    181.3,2,    181.4,2,    63.60,2,    34.98,2,     0.00,2,     2.42,2,    -0.01,2, -999.000,9, -999.000,9,     -999,9,   -999.0,9,   -999.0,9,-999.0000,9,  -999.00,  -999.00,9,   -999.0,9,   -999.0,  -999.00,9,   0.00047,2,    0.010,2,    0.042,2,    0.000,2,   99.749,2
  096U20180111,  SR03,    30,  1,     22,     22,2,20180122,0647,-54.0710, 141.5978, 2496,    501.1,   2.4274,  34.5166,2,-999.0000,9,    171.7,2,   -999.0,9,  -999.00,9,  -999.00,9,  -999.00,9,  -999.00,9,     -999,9, -999.000,9, -999.000,9,     -999,9,   -999.0,9,   -999.0,9,-999.0000,9,  -999.00,  -999.00,9,   -999.0,9,   -999.0,  -999.00,9,   0.00042,2,    0.005,2,    0.036,2,    0.000,2,   99.866,2
  096U20180111,  SR03,    30,  1,     21,     21,2,20180122,0647,-54.0710, 141.5978, 2496,    501.1,   2.4266,  34.5174,2,  34.5165,2,    171.7,2,    172.4,2,    69.40,2,    34.77,2,     0.00,2,     2.41,2,    -0.01,2, -999.000,9, -999.000,9,     -999,9,   -999.0,9,   -999.0,9,-999.0000,9,  -999.00,  -999.00,9,   -999.0,9,   -999.0,  -999.00,9,   0.00045,2,    0.005,2,    0.036,2,    0.000,2,   99.869,2
  096U20180111,  SR03,    30,  1,     20,     20,2,20180122,0647,-54.0710, 141.5978, 2496,    600.3,   2.4033,  34.5769,2,  34.5754,2,    170.3,2,    170.8,2,    72.70,2,    34.21,2,     0.00,2,     2.37,2,    -0.01,2,    0.742,2,    0.390,2,     0.26,2,   2253.2,2,   2336.0,2,-999.0000,9,  -999.00,    22.45,2,   -999.0,9,   -999.0,  -999.00,9,   0.00042,2,    0.004,2,    0.036,2,    0.000,2,   99.897,2
  096U20180111,  SR03,    30,  1,     19,     19,2,20180122,0647,-54.0710, 141.5978, 2496,    750.5,   2.3176,  34.6411,2,-999.0000,9,    172.8,2,   -999.0,9,  -999.00,9,  -999.00,9,  -999.00,9,  -999.00,9,     -999,9, -999.000,9, -999.000,9,     -999,9,   -999.0,9,   -999.0,9,-999.0000,9,  -999.00,  -999.00,9,   -999.0,9,   -999.0,  -999.00,9,   0.00035,2,    0.003,2,    0.036,2,    0.000,2,   99.915,2
  096U20180111,  SR03,    30,  1,     18,     18,2,20180122,0647,-54.0710, 141.5978, 2496,    750.2,   2.3174,  34.6412,2,  34.6417,2,    172.8,2,    173.6,2,    76.30,2,    33.25,2,     0.00,2,     2.29,2,    -0.01,2, -999.000,9, -999.000,9,     -999,9,   -999.0,9,   -999.0,9,-999.0000,9,  -999.00,  -999.00,9,   -999.0,9,   -999.0,  -999.00,9,   0.00037,2,    0.004,2,    0.036,2,    0.000,2,   99.913,2
  096U20180111,  SR03,    30,  1,     17,     17,2,20180122,0647,-54.0710, 141.5978, 2496,    875.9,   2.2607,  34.6747,2,  34.6747,2,    176.8,2,    176.9,2,    77.80,2,    32.52,2,     0.00,2,     2.25,2,    -0.01,2,    0.399,2,    0.192,2,     0.09,2,   2252.6,6,   2342.6,6,-999.0000,9,  -999.00,    20.88,2,   -999.0,9,   -999.0,  -999.00,9,   0.00035,2,    0.002,2,    0.042,2,    0.000,2,   99.954,2
  096U20180111,  SR03,    30,  1,     16,     16,2,20180122,0647,-54.0710, 141.5978, 2496,   1001.6,   2.1755,  34.7052,2,-999.0000,9,    181.4,2,   -999.0,9,  -999.00,9,  -999.00,9,  -999.00,9,  -999.00,9,     -999,9, -999.000,9, -999.000,9,     -999,9,   -999.0,9,   -999.0,9,-999.0000,9,  -999.00,  -999.00,9,   -999.0,9,   -999.0,  -999.00,9,   0.00034,2,    0.001,2,    0.036,2,    0.000,2,   99.973,2
  096U20180111,  SR03,    30,  1,     15,     15,2,20180122,0647,-54.0710, 141.5978, 2496,   1001.6,   2.1737,  34.7057,2,  34.7055,2,    181.4,2,    182.1,2,    79.80,2,    31.75,2,     0.00,2,     2.20,2,    -0.01,2, -999.000,9, -999.000,9,     -999,9,   -999.0,9,   -999.0,9,-999.0000,9,  -999.00,  -999.00,9,   -999.0,9,   -999.0,  -999.00,9,   0.00034,2,    0.001,2,    0.036,2,    0.000,2,   99.967,2
  096U20180111,  SR03,    30,  1,     14,     14,2,20180122,0647,-54.0710, 141.5978, 2496,   1250.2,   2.0361,  34.7363,2,-999.0000,9,    189.9,2,    190.0,2,    82.80,2,    30.79,2,     0.00,2,     2.14,2,        0,2,    0.211,2,    0.102,2,     0.13,2,   2248.1,2,   2351.5,2,-999.0000,9,  -999.00,    18.91,2,   -999.0,9,   -999.0,  -999.00,9,   0.00032,2,    0.000,2,    0.042,2,    0.000,2,   99.996,2
  096U20180111,  SR03,    30,  1,     13,     13,2,20180122,0647,-54.0710, 141.5978, 2496,   1501.6,   1.8300,  34.7461,2,-999.0000,9,    195.2,2,   -999.0,9,  -999.00,9,  -999.00,9,  -999.00,9,  -999.00,9,     -999,9, -999.000,9, -999.000,9,     -999,9,   -999.0,9,   -999.0,9,-999.0000,9,  -999.00,  -999.00,9,   -999.0,9,   -999.0,  -999.00,9,   0.00030,2,    0.001,2,    0.036,2,    0.000,2,   99.980,2
  096U20180111,  SR03,    30,  1,     12,     12,2,20180122,0647,-54.0710, 141.5978, 2496,   1501.4,   1.8297,  34.7461,2,  34.7462,2,    195.2,2,    195.0,2,    88.10,2,    30.52,2,     0.00,2,     2.11,2,    -0.01,2, -999.000,9, -999.000,9,     -999,9,   -999.0,9,   -999.0,9,-999.0000,9,  -999.00,  -999.00,9,   -999.0,9,   -999.0,  -999.00,9,   0.00031,2,    0.000,2,    0.036,2,    0.000,2,  100.006,2
  096U20180111,  SR03,    30,  1,     11,     11,2,20180122,0647,-54.0710, 141.5978, 2496,   1701.5,   1.6530,  34.7444,2,-999.0000,9,    197.6,2,    197.4,2,    93.50,2,    30.66,2,     0.00,2,     2.13,2,    -0.01,2,    0.171,2,    0.077,2,     0.04,2,   -999.0,9,   -999.0,9,-999.0000,9,  -999.00,    18.16,2,   -999.0,9,   -999.0,  -999.00,9,   0.00031,2,    0.000,2,    0.036,2,    0.000,2,  100.003,2
  096U20180111,  SR03,    30,  1,     10,     10,2,20180122,0647,-54.0710, 141.5978, 2496,   1899.3,   1.4660,  34.7383,2,-999.0000,9,    199.5,2,   -999.0,9,  -999.00,9,  -999.00,9,  -999.00,9,  -999.00,9,     -999,9, -999.000,9, -999.000,9,     -999,9,   -999.0,9,   -999.0,9,-999.0000,9,  -999.00,  -999.00,9,   -999.0,9,   -999.0,  -999.00,9,   0.00030,2,   -0.001,2,    0.036,2,    0.000,2,  100.012,2
  096U20180111,  SR03,    30,  1,      9,      9,2,20180122,0647,-54.0710, 141.5978, 2496,   1899.3,   1.4650,  34.7381,2,  34.7388,2,    199.5,2,    199.4,2,    99.50,2,    30.92,2,     0.00,2,     2.15,2,    -0.01,2,    0.166,2,    0.074,2,     0.02,2,   -999.0,9,   -999.0,9,-999.0000,9,  -999.00,    18.07,2,   -999.0,9,   -999.0,  -999.00,9,   0.00035,2,   -0.001,2,    0.036,2,    0.000,2,  100.012,2
  096U20180111,  SR03,    30,  1,      8,      8,2,20180122,0647,-54.0710, 141.5978, 2496,   2099.3,   1.2527,  34.7292,2,  34.7298,2,    201.7,2,    201.9,2,   106.20,2,    31.28,2,     0.00,2,     2.18,2,    -0.01,2,    0.174,2,    0.078,2,     0.15,3,   2255.3,2,   2362.4,2,-999.0000,9,  -999.00,    18.10,2,   -999.0,9,   -999.0,  -999.00,9,   0.00031,2,   -0.001,2,    0.042,2,    0.000,2,  100.012,2
  096U20180111,  SR03,    30,  1,      7,      7,2,20180122,0647,-54.0710, 141.5978, 2496,   2249.9,   1.1470,  34.7237,2,-999.0000,9,    202.4,2,   -999.0,9,  -999.00,9,  -999.00,9,  -999.00,9,  -999.00,9,     -999,9, -999.000,9, -999.000,9,     -999,9,   -999.0,9,   -999.0,9,-999.0000,9,  -999.00,  -999.00,9,   -999.0,9,   -999.0,  -999.00,9,   0.00030,2,    0.000,2,    0.036,2,    0.000,2,  100.010,2
  096U20180111,  SR03,    30,  1,      6,      6,2,20180122,0647,-54.0710, 141.5978, 2496,   2250.0,   1.1464,  34.7237,2,  34.7245,2,    202.4,2,    202.6,2,   110.20,2,    31.52,2,     0.00,2,     2.20,2,    -0.01,2, -999.000,9, -999.000,9,     -999,9,   -999.0,9,   -999.0,9,-999.0000,9,  -999.00,  -999.00,9,   -999.0,9,   -999.0,  -999.00,9,   0.00032,2,    0.000,2,    0.042,2,    0.000,2,  100.009,2
  096U20180111,  SR03,    30,  1,      5,      5,2,20180122,0647,-54.0710, 141.5978, 2496,   2502.1,   0.8889,  34.7113,2,-999.0000,9,    206.1,2,   -999.0,9,  -999.00,9,  -999.00,9,  -999.00,9,  -999.00,9,     -999,9, -999.000,9, -999.000,9,     -999,9,   -999.0,9,   -999.0,9,-999.0000,9,  -999.00,  -999.00,9,   -999.0,9,   -999.0,  -999.00,9,   0.00037,2,    0.003,2,    0.036,2,    0.000,2,   99.915,2
  096U20180111,  SR03,    30,  1,      4,      4,2,20180122,0647,-54.0710, 141.5978, 2496,   2502.1,   0.8881,  34.7113,2,-999.0000,9,    206.1,2,   -999.0,9,  -999.00,9,  -999.00,9,  -999.00,9,  -999.00,9,     -999,9, -999.000,9, -999.000,9,     -999,9,   -999.0,9,   -999.0,9,-999.0000,9,  -999.00,  -999.00,9,   -999.0,9,   -999.0,  -999.00,9,   0.00040,2,    0.004,2,    0.036,2,    0.000,2,   99.913,2
  096U20180111,  SR03,    30,  1,      3,      3,2,20180122,0647,-54.0710, 141.5978, 2496,   2502.1,   0.8879,  34.7113,2,  34.7119,2,    206.1,2,    206.2,2,   119.60,2,    31.94,2,     0.00,2,     2.23,2,    -0.01,2,    0.262,2,    0.120,2,     0.09,2,   2261.2,2,   2367.0,6,-999.0000,9,  -999.00,    17.81,2,   -999.0,9,   -999.0,  -999.00,9,   0.00037,2,    0.003,2,    0.036,2,    0.000,2,   99.915,2
  096U20180111,  SR03,    30,  1,      2,      2,2,20180122,0647,-54.0710, 141.5978, 2496,   2559.7,   0.8791,  34.7105,2,-999.0000,9,    206.4,2,   -999.0,9,  -999.00,9,  -999.00,9,  -999.00,9,  -999.00,9,     -999,9, -999.000,9, -999.000,9,     -999,9,   -999.0,9,   -999.0,9,-999.0000,9,  -999.00,  -999.00,9,   -999.0,9,   -999.0,  -999.00,9,   0.00038,2,    0.003,2,    0.036,2,    0.000,2,   99.914,2
  096U20180111,  SR03,    30,  1,      1,      1,2,20180122,0647,-54.0710, 141.5978, 2496,   2559.7,   0.8788,  34.7105,2,  34.7108,2,    206.4,2,    206.5,2,   120.20,2,    31.96,2,     0.00,2,     2.23,2,    -0.01,2,    0.276,2,    0.126,2,     0.01,2,   -999.0,9,   -999.0,9,-999.0000,9,  -999.00,    18.00,2,   -999.0,9,   -999.0,  -999.00,9,   0.00040,2,    0.003,2,    0.042,2,    0.000,2,   99.920,2