BOTTLE,20230418CCHSIOENA
EXPOCODE,SECT_ID,STNNBR,CASTNO,SAMPNO,BTLNBR,BTLNBR_FLAG_W,DATE,TIME,LATITUDE,LONGITUDE,DEPTH,CTDPRS,CTDTMP,CTDSAL,CTDSAL_FLAG_W,SALNTY,SALNTY_FLAG_W,CTDOXY,CTDOXY_FLAG_W,OXYGEN,OXYGEN_FLAG_W,SILCAT,SILCAT_FLAG_W,NITRAT,NITRAT_FLAG_W,NITRIT,NITRIT_FLAG_W,PHSPHT,PHSPHT_FLAG_W,NH4,NH4_FLAG_W,CFC-11,CFC-11_FLAG_W,CFC-12,CFC-12_FLAG_W,SF6,SF6_FLAG_W,TCARBN,TCARBN_FLAG_W,ALKALI,ALKALI_FLAG_W,PH_TOT,PH_TOT_FLAG_W,PH_TMP,N2O,N2O_FLAG_W,DELC14,DELC14_FLAG_W,C14ERR,DELC13,DELC13_FLAG_W,CTDBETA700,CTDBETA700_FLAG_W,CTDBEAMCP,CTDBEAMCP_FLAG_W,CTDFLUOR,CTDFLUOR_FLAG_W,PAR,PAR_FLAG_W,CTDXMISS,CTDXMISS_FLAG_W
,,,,,,,,,,,METERS,DBAR,ITS-90,PSS-78,,PSS-78,,UMOL/KG,,UMOL/KG,,UMOL/KG,,UMOL/KG,,UMOL/KG,,UMOL/KG,,UMOL/KG,,PMOL/KG,,PMOL/KG,,FMOL/KG,,UMOL/KG,,UMOL/KG,,,,DEG C,NMOL/KG,,/MILLE,,/MILLE,/MILLE,,VOLTS,,1/M,,MG/M^3,,UMOL/M^2/SEC,,%TRANS,
  096U20180111,  SR03,    69,  1,     36,     36,2,20180203,1713,-65.5915, 149.9978, 2478,     15.6,   0.2538,  33.7879,2,  33.7924,2,    344.1,2,    343.3,2,    50.60,2,    26.39,2,     0.19,2,     1.75,2,     0.67,2, -999.000,9, -999.000,9,     -999,9,   2166.3,2,   2288.8,2,-999.0000,9,  -999.00,  -999.00,9,   -999.0,9,   -999.0,  -999.00,9,   0.00155,2,    0.200,2,    0.816,2,   12.200,2,   95.130,2
  096U20180111,  SR03,    69,  1,     35,     35,2,20180203,1713,-65.5915, 149.9978, 2478,     15.6,   0.2542,  33.7874,2,-999.0000,9,    344.1,2,   -999.0,9,  -999.00,9,  -999.00,9,  -999.00,9,  -999.00,9,     -999,9, -999.000,9, -999.000,9,     -999,9,   -999.0,9,   -999.0,9,-999.0000,9,  -999.00,  -999.00,9,   -999.0,9,   -999.0,  -999.00,9,   0.00163,2,    0.200,2,    0.840,2,   12.500,2,   95.131,2
  096U20180111,  SR03,    69,  1,     34,     34,2,20180203,1713,-65.5915, 149.9978, 2478,     15.6,   0.2506,  33.7880,2,-999.0000,9,    344.1,2,   -999.0,9,  -999.00,9,  -999.00,9,  -999.00,9,  -999.00,9,     -999,9, -999.000,9, -999.000,9,     -999,9,   -999.0,9,   -999.0,9,-999.0000,9,  -999.00,  -999.00,9,   -999.0,9,   -999.0,  -999.00,9,   0.00159,2,    0.200,2,    0.840,2,   12.500,2,   95.133,2
  096U20180111,  SR03,    69,  1,     33,     33,2,20180203,1713,-65.5915, 149.9978, 2478,     30.6,   0.0294,  33.8333,2,  33.8665,2,    345.3,2,    342.9,2,    55.70,2,    26.52,2,     0.16,2,     1.81,2,      0.9,2, -999.000,9, -999.000,9,     -999,9,   2173.0,2,   2295.0,2,-999.0000,9,  -999.00,  -999.00,9,   -999.0,9,   -999.0,  -999.00,9,   0.00121,2,    0.168,2,    0.714,2,    4.990,2,   95.896,2
  096U20180111,  SR03,    69,  1,     32,     32,2,20180203,1713,-65.5915, 149.9978, 2478,     30.8,   0.0150,  33.8360,2,-999.0000,9,    345.3,2,   -999.0,9,  -999.00,9,  -999.00,9,  -999.00,9,  -999.00,9,     -999,9, -999.000,9, -999.000,9,     -999,9,   -999.0,9,   -999.0,9,-999.0000,9,  -999.00,  -999.00,9,   -999.0,9,   -999.0,  -999.00,9,   0.00118,2,    0.173,2,    0.714,2,    5.040,2,   95.778,2
  096U20180111,  SR03,    69,  1,     31,     31,2,20180203,1713,-65.5915, 149.9978, 2478,     51.3,  -1.5099,  34.2448,2,  34.2600,2,    321.7,2,    320.5,2,    71.60,2,    28.97,2,     0.09,2,     2.03,2,     0.56,2, -999.000,9, -999.000,9,     -999,9,   -999.0,9,   -999.0,9,-999.0000,9,  -999.00,  -999.00,9,   -999.0,9,   -999.0,  -999.00,9,   0.00125,2,    0.148,2,    1.158,2,    1.550,2,   96.360,2
  096U20180111,  SR03,    69,  1,     30,     30,2,20180203,1713,-65.5915, 149.9978, 2478,     51.3,  -1.5184,  34.2476,2,-999.0000,9,    321.7,2,   -999.0,9,  -999.00,9,  -999.00,9,  -999.00,9,  -999.00,9,     -999,9, -999.000,9, -999.000,9,     -999,9,   -999.0,9,   -999.0,9,-999.0000,9,  -999.00,  -999.00,9,   -999.0,9,   -999.0,  -999.00,9,   0.00127,2,    0.144,2,    1.146,2,    1.550,2,   96.477,2
  096U20180111,  SR03,    69,  1,     29,     29,2,20180203,1713,-65.5915, 149.9978, 2478,     51.2,  -1.5180,  34.2474,2,-999.0000,9,    321.7,2,   -999.0,9,  -999.00,9,  -999.00,9,  -999.00,9,  -999.00,9,     -999,9, -999.000,9, -999.000,9,     -999,9,   -999.0,9,   -999.0,9,-999.0000,9,  -999.00,  -999.00,9,   -999.0,9,   -999.0,  -999.00,9,   0.00119,2,    0.144,2,    1.146,2,    1.580,2,   96.475,2
  096U20180111,  SR03,    69,  1,     28,     28,2,20180203,1713,-65.5915, 149.9978, 2478,     75.4,  -1.7840,  34.3668,2,  34.3667,2,    305.6,2,    308.7,2,    76.00,2,    30.20,2,     0.11,2,     2.09,2,     0.14,2, -999.000,9, -999.000,9,     -999,9,   2224.7,2,   2328.1,2,-999.0000,9,  -999.00,  -999.00,9,   -999.0,9,   -999.0,  -999.00,9,   0.00055,2,    0.037,2,    0.510,2,    0.451,2,   99.087,2
  096U20180111,  SR03,    69,  1,     27,     27,2,20180203,1713,-65.5915, 149.9978, 2478,     75.4,  -1.7836,  34.3665,2,-999.0000,9,    305.6,2,   -999.0,9,  -999.00,9,  -999.00,9,  -999.00,9,  -999.00,9,     -999,9, -999.000,9, -999.000,9,     -999,9,   -999.0,9,   -999.0,9,-999.0000,9,  -999.00,  -999.00,9,   -999.0,9,   -999.0,  -999.00,9,   0.00056,2,    0.038,2,    0.504,2,    0.442,2,   99.060,2
  096U20180111,  SR03,    69,  1,     26,     26,2,20180203,1713,-65.5915, 149.9978, 2478,     91.3,  -1.8083,  34.3811,2,  34.3818,2,    306.9,2,    305.7,2,    76.50,2,    30.42,2,     0.10,2,     2.10,2,     0.02,2, -999.000,9, -999.000,9,     -999,9,   -999.0,9,   -999.0,9,-999.0000,9,  -999.00,  -999.00,9,   -999.0,9,   -999.0,  -999.00,9,   0.00048,2,    0.022,2,    0.360,2,    0.202,2,   99.461,2
  096U20180111,  SR03,    69,  1,     25,     25,2,20180203,1713,-65.5915, 149.9978, 2478,     91.3,  -1.8081,  34.3810,2,-999.0000,9,    306.9,2,   -999.0,9,  -999.00,9,  -999.00,9,  -999.00,9,  -999.00,9,     -999,9, -999.000,9, -999.000,9,     -999,9,   -999.0,9,   -999.0,9,-999.0000,9,  -999.00,  -999.00,9,   -999.0,9,   -999.0,  -999.00,9,   0.00046,2,    0.022,2,    0.348,2,    0.191,2,   99.452,2
  096U20180111,  SR03,    69,  1,     24,     24,2,20180203,1713,-65.5915, 149.9978, 2478,    131.1,  -1.8276,  34.3910,2,  34.3904,2,    306.0,2,    305.0,2,    76.50,2,    30.57,2,     0.03,2,     2.10,2,    -0.01,2, -999.000,9, -999.000,9,     -999,9,   2227.9,6,   2329.0,6,-999.0000,9,  -999.00,  -999.00,9,   -999.0,9,   -999.0,  -999.00,9,   0.00036,2,    0.005,2,    0.138,2,    0.026,2,   99.867,2
  096U20180111,  SR03,    69,  1,     23,     23,2,20180203,1713,-65.5915, 149.9978, 2478,    131.1,  -1.8283,  34.3909,2,-999.0000,9,    306.0,2,   -999.0,9,  -999.00,9,  -999.00,9,  -999.00,9,  -999.00,9,     -999,9, -999.000,9, -999.000,9,     -999,9,   -999.0,9,   -999.0,9,-999.0000,9,  -999.00,  -999.00,9,   -999.0,9,   -999.0,  -999.00,9,   0.00036,2,    0.005,2,    0.132,2,    0.026,2,   99.878,2
  096U20180111,  SR03,    69,  1,     22,     22,2,20180203,1713,-65.5915, 149.9978, 2478,    131.0,  -1.8278,  34.3909,2,-999.0000,9,    306.0,2,   -999.0,9,  -999.00,9,  -999.00,9,  -999.00,9,  -999.00,9,     -999,9, -999.000,9, -999.000,9,     -999,9,   -999.0,9,   -999.0,9,-999.0000,9,  -999.00,  -999.00,9,   -999.0,9,   -999.0,  -999.00,9,   0.00056,2,    0.005,2,    0.138,2,    0.025,2,   99.868,2
  096U20180111,  SR03,    69,  1,     21,     21,2,20180203,1713,-65.5915, 149.9978, 2478,    202.5,  -1.6103,  34.4199,2,  34.4209,2,    297.2,2,    296.2,2,    77.70,2,    30.79,2,     0.01,2,     2.12,2,    -0.01,2,    4.218,2,    2.330,2,     2.63,2,   2230.1,2,   2331.4,2,-999.0000,9,  -999.00,    17.13,2,   -999.0,9,   -999.0,  -999.00,9,   0.00032,2,   -0.001,2,    0.036,2,    0.000,2,  100.031,2
  096U20180111,  SR03,    69,  1,     20,     20,2,20180203,1713,-65.5915, 149.9978, 2478,    302.0,  -0.7901,  34.5096,2,  34.5102,2,    261.1,2,    260.5,2,    83.80,2,    31.37,2,     0.01,2,     2.17,2,    -0.01,2, -999.000,9, -999.000,9,     -999,9,   2242.0,2,   2337.3,2,-999.0000,9,  -999.00,  -999.00,9,   -999.0,9,   -999.0,  -999.00,9,   0.00031,2,   -0.001,2,    0.024,2,    0.000,2,  100.027,2
  096U20180111,  SR03,    69,  1,     19,     19,2,20180203,1713,-65.5915, 149.9978, 2478,    301.9,  -0.7812,  34.5103,2,-999.0000,9,    261.1,2,   -999.0,9,  -999.00,9,  -999.00,9,  -999.00,9,  -999.00,9,     -999,9, -999.000,9, -999.000,9,     -999,9,   -999.0,9,   -999.0,9,-999.0000,9,  -999.00,  -999.00,9,   -999.0,9,   -999.0,  -999.00,9,   0.00032,2,   -0.001,2,    0.024,2,    0.000,2,  100.020,2
  096U20180111,  SR03,    69,  1,     18,     18,2,20180203,1713,-65.5915, 149.9978, 2478,    401.4,  -0.1352,  34.5856,2,  34.5855,2,    236.4,2,    235.8,2,    90.40,2,    31.82,2,     0.01,2,     2.20,2,    -0.01,2, -999.000,9, -999.000,9,     -999,9,   2247.2,2,   2342.9,2,-999.0000,9,  -999.00,  -999.00,9,   -999.0,9,   -999.0,  -999.00,9,   0.00032,2,    0.000,2,    0.024,2,    0.000,2,  100.010,2
  096U20180111,  SR03,    69,  1,     17,     17,2,20180203,1713,-65.5915, 149.9978, 2478,    501.7,   0.1891,  34.6267,2,  34.6259,2,    218.8,2,    223.6,2,    95.00,2,    31.95,2,     0.01,2,     2.22,2,    -0.01,2, -999.000,9, -999.000,9,     -999,9,   2252.7,2,   2346.5,2,-999.0000,9,  -999.00,  -999.00,9,   -999.0,9,   -999.0,  -999.00,9,   0.00030,2,   -0.001,2,    0.024,2,    0.000,2,  100.020,2
  096U20180111,  SR03,    69,  1,     16,     16,2,20180203,1713,-65.5915, 149.9978, 2478,    602.8,   0.5116,  34.6666,2,  34.6659,2,    212.1,2,    212.6,2,   102.00,2,    32.09,2,     0.01,2,     2.23,2,    -0.01,2, -999.000,9, -999.000,9,     -999,9,   2256.9,2,   2351.4,6,-999.0000,9,  -999.00,  -999.00,9,   -999.0,9,   -999.0,  -999.00,9,   0.00028,2,   -0.001,2,    0.030,2,    0.000,2,  100.031,2
  096U20180111,  SR03,    69,  1,     15,     15,2,20180203,1713,-65.5915, 149.9978, 2478,    602.5,   0.5083,  34.6664,2,-999.0000,9,    212.1,2,   -999.0,9,  -999.00,9,  -999.00,9,  -999.00,9,  -999.00,9,     -999,9, -999.000,9, -999.000,9,     -999,9,   -999.0,9,   -999.0,9,-999.0000,9,  -999.00,  -999.00,9,   -999.0,9,   -999.0,  -999.00,9,   0.00030,2,   -0.002,2,    0.024,2,    0.000,2,  100.053,2
  096U20180111,  SR03,    69,  1,     14,     14,2,20180203,1713,-65.5915, 149.9978, 2478,    850.8,   0.5251,  34.6858,2,  34.6852,2,    219.1,2,    210.0,2,   112.00,2,    32.36,2,     0.00,2,     2.25,2,    -0.01,2,    0.691,2,    0.380,2,     0.46,2,   2260.4,6,   2356.9,6,-999.0000,9,  -999.00,    18.58,2,   -999.0,9,   -999.0,  -999.00,9,   0.00027,2,   -0.003,2,    0.030,2,    0.000,2,  100.081,2
  096U20180111,  SR03,    69,  1,     13,     13,2,20180203,1713,-65.5915, 149.9978, 2478,   1001.7,   0.3675,  34.6789,2,  34.6787,2,    216.6,2,    214.8,2,   113.20,2,    32.34,2,     0.00,2,     2.25,2,    -0.01,2, -999.000,9, -999.000,9,     -999,9,   2259.7,2,   2357.2,2,-999.0000,9,  -999.00,  -999.00,9,   -999.0,9,   -999.0,  -999.00,9,   0.00027,2,   -0.003,2,    0.030,2,    0.000,2,  100.078,2
  096U20180111,  SR03,    69,  1,     12,     12,2,20180203,1713,-65.5915, 149.9978, 2478,   1201.6,   0.3422,  34.6844,2,  34.6843,2,    215.2,2,    214.7,2,   117.50,2,    32.42,2,     0.00,2,     2.26,2,    -0.01,2,    0.733,2,    0.400,2,      0.4,2,   2259.7,2,   2358.4,2,-999.0000,9,  -999.00,    18.30,2,   -999.0,9,   -999.0,  -999.00,9,   0.00025,2,   -0.003,2,    0.024,2,    0.000,2,  100.085,2
  096U20180111,  SR03,    69,  1,     11,     11,2,20180203,1713,-65.5915, 149.9978, 2478,   1403.0,   0.2470,  34.6824,2,  34.6823,2,    217.5,2,    218.0,2,   118.00,2,    32.42,2,     0.01,2,     2.26,2,    -0.01,2, -999.000,9, -999.000,9,     -999,9,   2259.6,2,   2358.4,2,-999.0000,9,  -999.00,  -999.00,9,   -999.0,9,   -999.0,  -999.00,9,   0.00026,2,   -0.004,2,    0.030,2,    0.000,2,  100.106,2
  096U20180111,  SR03,    69,  1,     10,     10,2,20180203,1713,-65.5915, 149.9978, 2478,   1402.5,   0.2473,  34.6824,2,-999.0000,9,    217.5,2,   -999.0,9,  -999.00,9,  -999.00,9,  -999.00,9,  -999.00,9,     -999,9, -999.000,9, -999.000,9,     -999,9,   -999.0,9,   -999.0,9,-999.0000,9,  -999.00,  -999.00,9,   -999.0,9,   -999.0,  -999.00,9,   0.00027,2,   -0.004,2,    0.030,2,    0.000,2,  100.106,2
  096U20180111,  SR03,    69,  1,      9,      9,2,20180203,1713,-65.5915, 149.9978, 2478,   1552.5,   0.1751,  34.6802,2,  34.6790,2,    219.9,2,    220.4,2,   114.60,2,    32.39,2,     0.00,2,     2.25,2,    -0.01,2, -999.000,9, -999.000,9,     -999,9,   -999.0,9,   -999.0,9,-999.0000,9,  -999.00,  -999.00,9,   -999.0,9,   -999.0,  -999.00,9,   0.00026,2,   -0.004,2,    0.030,2,    0.000,2,  100.092,2
  096U20180111,  SR03,    69,  1,      8,      8,2,20180203,1713,-65.5915, 149.9978, 2478,   1703.1,   0.0938,  34.6777,2,  34.6770,2,    223.3,2,    223.5,2,   110.90,2,    32.25,2,     0.00,2,     2.25,2,    -0.01,2,    1.321,2,    0.727,2,     0.64,2,   2259.9,2,   2355.2,2,-999.0000,9,  -999.00,    18.34,2,   -999.0,9,   -999.0,  -999.00,9,   0.00027,2,   -0.003,2,    0.030,2,    0.000,2,  100.083,2
  096U20180111,  SR03,    69,  1,      7,      7,2,20180203,1713,-65.5915, 149.9978, 2478,   1899.1,   0.0229,  34.6768,2,  34.6763,2,    226.9,2,    226.3,2,   109.30,2,    32.19,2,     0.00,2,     2.24,2,    -0.01,2,    1.510,2,    0.822,2,     0.76,2,   2259.1,2,   2355.4,2,-999.0000,9,  -999.00,    18.37,2,   -999.0,9,   -999.0,  -999.00,9,   0.00026,2,   -0.003,2,    0.036,2,    0.000,2,  100.078,2
  096U20180111,  SR03,    69,  1,      6,      6,2,20180203,1713,-65.5915, 149.9978, 2478,   1899.4,   0.0226,  34.6767,2,-999.0000,9,    226.9,2,   -999.0,9,  -999.00,9,  -999.00,9,  -999.00,9,  -999.00,9,     -999,9, -999.000,9, -999.000,9,     -999,9,   -999.0,9,   -999.0,9,-999.0000,9,  -999.00,  -999.00,9,   -999.0,9,   -999.0,  -999.00,9,   0.00027,2,   -0.003,2,    0.024,2,    0.000,2,  100.076,2
  096U20180111,  SR03,    69,  1,      5,      5,2,20180203,1713,-65.5915, 149.9978, 2478,   2099.9,  -0.0597,  34.6764,2,  34.6762,2,    230.4,2,    229.8,2,   110.10,2,    32.17,2,     0.00,2,     2.24,2,    -0.01,2,    1.647,2,    0.896,2,     0.96,2,   2258.3,2,   2355.1,2,-999.0000,9,  -999.00,    18.05,2,   -999.0,9,   -999.0,  -999.00,9,   0.00026,2,   -0.003,2,    0.030,2,    0.000,2,  100.083,2
  096U20180111,  SR03,    69,  1,      4,      4,2,20180203,1713,-65.5915, 149.9978, 2478,   2302.7,  -0.1519,  34.6838,2,  34.6827,2,    234.2,2,    234.2,2,   103.90,2,    31.97,2,     0.01,2,     2.23,2,    -0.01,2,    1.976,2,    1.085,2,     1.13,2,   2259.8,2,   2354.9,2,-999.0000,9,  -999.00,    18.22,2,   -999.0,9,   -999.0,  -999.00,9,   0.00028,2,   -0.002,2,    0.030,2,    0.000,2,  100.040,2
  096U20180111,  SR03,    69,  1,      3,      3,2,20180203,1713,-65.5915, 149.9978, 2478,   2462.8,  -0.2410,  34.6895,2,  34.6893,2,    237.8,2,    237.3,2,   101.70,2,    31.94,2,     0.01,2,     2.23,2,    -0.01,2,    2.181,2,    1.197,2,     1.11,2,   2259.3,2,   2355.0,2,-999.0000,9,  -999.00,    18.30,2,   -999.0,9,   -999.0,  -999.00,9,   0.00041,2,    0.005,2,    0.030,2,    0.000,2,   99.883,2
  096U20180111,  SR03,    69,  1,      2,      2,2,20180203,1713,-65.5915, 149.9978, 2478,   2521.7,  -0.2322,  34.6911,2,-999.0000,9,    236.9,2,   -999.0,9,  -999.00,9,  -999.00,9,  -999.00,9,  -999.00,9,     -999,9, -999.000,9, -999.000,9,     -999,9,   -999.0,9,   -999.0,9,-999.0000,9,  -999.00,  -999.00,9,   -999.0,9,   -999.0,  -999.00,9,   0.00042,2,    0.006,2,    0.030,2,    0.000,2,   99.861,2
  096U20180111,  SR03,    69,  1,      1,      1,2,20180203,1713,-65.5915, 149.9978, 2478,   2521.4,  -0.2322,  34.6911,2,  34.7555,4,    236.9,2,    237.0,2,   102.00,2,    31.87,2,     0.01,2,     2.23,2,    -0.01,2,    2.170,2,    1.191,2,     1.19,2,   2259.1,2,   2354.7,6,-999.0000,9,  -999.00,    18.18,2,   -999.0,9,   -999.0,  -999.00,9,   0.00055,2,    0.006,2,    0.036,2,    0.000,2,   99.850,2