BOTTLE,20230418CCHSIOENA
EXPOCODE,SECT_ID,STNNBR,CASTNO,SAMPNO,BTLNBR,BTLNBR_FLAG_W,DATE,TIME,LATITUDE,LONGITUDE,DEPTH,CTDPRS,CTDTMP,CTDSAL,CTDSAL_FLAG_W,SALNTY,SALNTY_FLAG_W,CTDOXY,CTDOXY_FLAG_W,OXYGEN,OXYGEN_FLAG_W,SILCAT,SILCAT_FLAG_W,NITRAT,NITRAT_FLAG_W,NITRIT,NITRIT_FLAG_W,PHSPHT,PHSPHT_FLAG_W,NH4,NH4_FLAG_W,CFC-11,CFC-11_FLAG_W,CFC-12,CFC-12_FLAG_W,SF6,SF6_FLAG_W,TCARBN,TCARBN_FLAG_W,ALKALI,ALKALI_FLAG_W,PH_TOT,PH_TOT_FLAG_W,PH_TMP,N2O,N2O_FLAG_W,DELC14,DELC14_FLAG_W,C14ERR,DELC13,DELC13_FLAG_W,CTDBETA700,CTDBETA700_FLAG_W,CTDBEAMCP,CTDBEAMCP_FLAG_W,CTDFLUOR,CTDFLUOR_FLAG_W,PAR,PAR_FLAG_W,CTDXMISS,CTDXMISS_FLAG_W
,,,,,,,,,,,METERS,DBAR,ITS-90,PSS-78,,PSS-78,,UMOL/KG,,UMOL/KG,,UMOL/KG,,UMOL/KG,,UMOL/KG,,UMOL/KG,,UMOL/KG,,PMOL/KG,,PMOL/KG,,FMOL/KG,,UMOL/KG,,UMOL/KG,,,,DEG C,NMOL/KG,,/MILLE,,/MILLE,/MILLE,,VOLTS,,1/M,,MG/M^3,,UMOL/M^2/SEC,,%TRANS,
  096U20180111,  SR03,    89,  1,     36,     36,2,20180211,0138,-62.4997, 132.0497, 4427,     10.5,   1.9351,  33.6352,2,-999.0000,9,    333.6,2,    334.0,2,     5.20,2,    23.91,2,     0.24,2,     1.42,2,     0.24,2,    5.536,2,    2.911,2,     3.77,2,   2137.4,2,   2274.9,2,-999.0000,9,  -999.00,    14.47,2,    -83.6,2,      2.1,     1.31,2,   0.00183,2,    0.228,2,    0.756,2,   95.600,2,   94.454,2
  096U20180111,  SR03,    89,  1,     35,     35,2,20180211,0138,-62.4997, 132.0497, 4427,     10.7,   1.9335,  33.6353,2,-999.0000,9,    333.6,2,   -999.0,9,  -999.00,9,  -999.00,9,  -999.00,9,  -999.00,9,     -999,9, -999.000,9, -999.000,9,     -999,9,   -999.0,9,   -999.0,9,-999.0000,9,  -999.00,  -999.00,9,   -999.0,9,   -999.0,  -999.00,9,   0.00192,2,    0.226,2,    0.798,2,   93.800,2,   94.499,2
  096U20180111,  SR03,    89,  1,     34,     34,2,20180211,0138,-62.4997, 132.0497, 4427,     36.1,   1.9045,  33.6358,2,  33.6355,2,    333.6,2,    334.4,2,     5.30,2,    23.78,2,     0.24,2,     1.43,2,     0.26,2,    5.604,2,    2.993,2,     3.53,2,   2136.5,6,   2274.9,6,-999.0000,9,  -999.00,    14.17,2,   -999.0,9,   -999.0,  -999.00,9,   0.00201,2,    0.238,2,    1.758,2,   15.200,2,   94.223,2
  096U20180111,  SR03,    89,  1,     33,     33,2,20180211,0138,-62.4997, 132.0497, 4427,     61.3,  -0.9897,  33.7386,2,-999.0000,9,    348.8,2,   -999.0,9,  -999.00,9,  -999.00,9,  -999.00,9,  -999.00,9,     -999,9, -999.000,9, -999.000,9,     -999,9,   -999.0,9,   -999.0,9,-999.0000,9,  -999.00,  -999.00,9,   -999.0,9,   -999.0,  -999.00,9,   0.00149,2,    0.166,2,    1.572,2,    2.850,2,   95.943,2
  096U20180111,  SR03,    89,  1,     32,     32,2,20180211,0138,-62.4997, 132.0497, 4427,     61.3,  -0.9677,  33.7375,2,  33.7394,2,    348.8,2,    351.3,2,    23.60,2,    27.01,2,     0.19,2,     2.03,2,     1.04,2, -999.000,9, -999.000,9,     -999,9,   -999.0,9,   -999.0,9,-999.0000,9,  -999.00,  -999.00,9,   -999.0,9,   -999.0,  -999.00,9,   0.00147,2,    0.171,2,    1.674,2,    2.900,2,   95.812,2
  096U20180111,  SR03,    89,  1,     31,     31,2,20180211,0138,-62.4997, 132.0497, 4427,     90.7,  -1.4377,  33.8761,2,  33.8749,2,    336.4,2,    338.6,2,    31.90,2,    29.25,2,     0.22,2,     2.10,2,     0.49,2,    5.962,2,    3.099,2,     3.84,2,   2177.3,2,   2287.3,2,-999.0000,9,  -999.00,    16.25,2,    -93.6,2,      2.0,     0.98,2,   0.00066,2,    0.034,2,    0.336,2,    0.684,2,   99.156,2
  096U20180111,  SR03,    89,  1,     30,     30,2,20180211,0138,-62.4997, 132.0497, 4427,    151.0,   0.4565,  34.1434,2,  34.1427,2,    272.7,2,    266.1,2,    45.50,2,    32.84,2,     0.02,2,     2.29,2,        0,2,    4.063,2,    2.119,2,     2.53,2,   2212.2,2,   2302.2,2,-999.0000,9,  -999.00,    20.47,2,   -999.0,9,   -999.0,  -999.00,9,   0.00043,2,    0.014,2,    0.084,2,    0.060,2,   99.651,2
  096U20180111,  SR03,    89,  1,     29,     29,2,20180211,0138,-62.4997, 132.0497, 4427,    201.4,   1.9591,  34.3852,2,  34.3860,2,    203.0,2,    193.8,2,    62.70,2,    35.36,2,     0.01,2,     2.45,2,        0,2,    2.046,2,    1.059,2,     0.96,2,   2244.5,2,   2318.6,2,-999.0000,9,  -999.00,    25.88,2,   -999.0,9,   -999.0,  -999.00,9,   0.00041,2,    0.014,2,    0.054,2,    0.000,2,   99.647,2
  096U20180111,  SR03,    89,  1,     28,     28,2,20180211,0138,-62.4997, 132.0497, 4427,    251.7,   2.0613,  34.4450,2,  34.4449,2,    184.1,2,    184.0,2,    67.40,2,    35.55,2,     0.01,2,     2.46,2,        0,2,    1.630,2,    0.849,2,     0.61,2,   2249.6,2,   2324.5,2,-999.0000,9,  -999.00,    26.61,2,   -999.0,9,   -999.0,  -999.00,9,   0.00044,2,    0.015,2,    0.048,2,    0.000,2,   99.622,2
  096U20180111,  SR03,    89,  1,     27,     27,2,20180211,0138,-62.4997, 132.0497, 4427,    341.6,   2.1828,  34.5435,2,  34.5440,2,    172.4,2,    173.6,2,    73.40,2,    35.04,2,     0.01,2,     2.42,2,        0,2,    1.022,6,    0.535,6,     0.29,6,   2256.1,2,   2332.2,2,-999.0000,9,  -999.00,    24.58,6,   -999.0,9,   -999.0,  -999.00,9,   0.00044,2,    0.014,2,    0.048,2,    0.000,2,   99.642,2
  096U20180111,  SR03,    89,  1,     26,     26,2,20180211,0138,-62.4997, 132.0497, 4427,    431.0,   2.2491,  34.6060,2,  34.6062,2,    171.7,2,    171.8,2,    76.10,2,    34.28,2,     0.00,2,     2.37,2,        0,2, -999.000,9, -999.000,9,     -999,9,   2256.5,2,   2336.8,2,-999.0000,9,  -999.00,  -999.00,9,   -139.2,2,      2.4,     0.29,2,   0.00037,2,    0.007,2,    0.048,2,    0.000,2,   99.829,2
  096U20180111,  SR03,    89,  1,     25,     25,2,20180211,0138,-62.4997, 132.0497, 4427,    551.9,   2.1575,  34.6550,2,  34.6539,2,    175.1,2,    175.6,2,    78.80,2,    33.46,2,     0.00,2,     2.30,2,        0,2,    0.524,2,    0.274,2,     0.25,2,   2255.0,2,   2341.6,2,-999.0000,9,  -999.00,    22.99,2,   -999.0,9,   -999.0,  -999.00,9,   0.00037,2,    0.006,2,    0.048,2,    0.000,2,   99.855,2
  096U20180111,  SR03,    89,  1,     24,     24,2,20180211,0138,-62.4997, 132.0497, 4427,    651.3,   2.0917,  34.6778,2,  34.6765,2,    177.7,2,    178.2,2,    80.60,2,    32.97,2,     0.00,2,     2.28,2,        0,2,    0.465,2,    0.244,2,     0.15,2,   2255.7,6,   2342.8,6,-999.0000,9,  -999.00,    22.32,2,   -999.0,9,   -999.0,  -999.00,9,   0.00035,2,    0.006,2,    0.048,2,    0.000,2,   99.856,2
  096U20180111,  SR03,    89,  1,     23,     23,2,20180211,0138,-62.4997, 132.0497, 4427,    751.2,   2.0492,  34.7038,2,  34.7028,2,    181.7,2,    182.0,2,    81.90,2,    32.32,2,     0.00,2,     2.24,2,        0,2, -999.000,9, -999.000,9,     -999,9,   -999.0,9,   -999.0,9,-999.0000,9,  -999.00,  -999.00,9,   -999.0,9,   -999.0,  -999.00,9,   0.00037,2,    0.005,2,    0.042,2,    0.000,2,   99.872,2
  096U20180111,  SR03,    89,  1,     22,     22,2,20180211,0138,-62.4997, 132.0497, 4427,    901.3,   1.9869,  34.7287,2,  34.7281,2,    187.0,2,    187.8,2,    83.70,2,    31.47,2,     0.00,2,     2.18,2,        0,2,    0.266,2,    0.140,2,     0.01,2,   2249.1,2,   2346.4,2,-999.0000,9,  -999.00,    20.52,2,   -999.0,9,   -999.0,  -999.00,9,   0.00031,2,    0.002,2,    0.042,2,    0.000,2,   99.948,2
  096U20180111,  SR03,    89,  1,     21,     21,2,20180211,0138,-62.4997, 132.0497, 4427,   1051.7,   1.8828,  34.7388,2,  34.7342,4,    191.2,2,    191.6,2,    86.30,2,    31.22,2,     0.00,2,     2.16,2,        0,2,    0.229,2,    0.123,2,     0.05,2,   2251.0,2,   2350.9,6,-999.0000,9,  -999.00,    20.12,2,   -999.0,9,   -999.0,  -999.00,9,   0.00031,2,    0.001,2,    0.042,2,    0.000,2,   99.973,2
  096U20180111,  SR03,    89,  1,     20,     20,2,20180211,0138,-62.4997, 132.0497, 4427,   1200.8,   1.7778,  34.7433,2,-999.0000,9,    194.8,2,   -999.0,9,  -999.00,9,  -999.00,9,  -999.00,9,  -999.00,9,     -999,9, -999.000,9, -999.000,9,     -999,9,   -999.0,9,   -999.0,9,-999.0000,9,  -999.00,  -999.00,9,   -999.0,9,   -999.0,  -999.00,9,   0.00029,2,    0.000,2,    0.042,2,    0.000,2,  100.002,2
  096U20180111,  SR03,    89,  1,     19,     19,2,20180211,0138,-62.4997, 132.0497, 4427,   1200.9,   1.7773,  34.7435,2,  34.7432,2,    194.8,2,    194.8,2,    88.80,2,    31.00,2,     0.00,2,     2.14,2,        0,2,    0.206,2,    0.106,2,     0.02,2,   2250.4,2,   2352.9,2,-999.0000,9,  -999.00,    19.75,2,   -149.5,2,      2.5,     0.41,2,   0.00030,2,    0.000,2,    0.042,2,    0.000,2,  100.004,2
  096U20180111,  SR03,    89,  1,     18,     18,2,20180211,0138,-62.4997, 132.0497, 4427,   1400.8,   1.5957,  34.7420,2,  34.7434,2,    198.0,2,    197.8,2,    93.70,2,    31.07,2,     0.00,2,     2.15,2,        0,2,    0.203,2,    0.102,2,     0.08,2,   2252.4,2,   2355.0,2,-999.0000,9,  -999.00,    19.48,2,   -999.0,9,   -999.0,  -999.00,9,   0.00029,2,   -0.001,2,    0.042,2,    0.000,2,  100.011,2
  096U20180111,  SR03,    89,  1,     17,     17,2,20180211,0138,-62.4997, 132.0497, 4427,   1600.5,   1.4321,  34.7377,2,  34.7384,2,    200.4,2,    200.4,2,    98.60,2,    31.23,2,     0.00,2,     2.16,2,        0,2,    0.200,2,    0.103,2,    -0.01,2,   2251.8,2,   2357.8,2,-999.0000,9,  -999.00,    19.09,2,   -999.0,9,   -999.0,  -999.00,9,   0.00027,2,   -0.001,2,    0.042,2,    0.000,2,  100.025,2
  096U20180111,  SR03,    89,  1,     16,     16,2,20180211,0138,-62.4997, 132.0497, 4427,   1801.0,   1.2685,  34.7309,2,  34.7327,2,    202.4,2,    202.4,2,   103.20,2,    31.51,2,     0.00,2,     2.18,2,        0,2, -999.000,9, -999.000,9,     -999,9,   -999.0,9,   -999.0,9,-999.0000,9,  -999.00,  -999.00,9,   -999.0,9,   -999.0,  -999.00,9,   0.00028,2,   -0.001,2,    0.042,2,    0.000,2,  100.026,2
  096U20180111,  SR03,    89,  1,     15,     15,2,20180211,0138,-62.4997, 132.0497, 4427,   2051.6,   1.0600,  34.7199,2,  34.7196,2,    205.0,2,    204.7,2,   109.30,2,    31.90,2,     0.00,2,     2.21,2,        0,2,    0.242,2,    0.127,2,     0.07,2,   2257.9,2,   2359.2,2,-999.0000,9,  -999.00,    19.33,2,   -155.4,2,      1.9,     0.33,2,   0.00027,2,   -0.001,2,    0.042,2,    0.000,2,  100.033,2
  096U20180111,  SR03,    89,  1,     14,     14,2,20180211,0138,-62.4997, 132.0497, 4427,   2300.9,   0.8784,  34.7108,2,  34.7118,2,    207.2,2,    207.4,2,   114.70,2,    32.19,2,     0.00,2,     2.24,2,        0,2,    0.275,2,    0.135,2,     0.04,2,   2256.1,2,   2360.5,2,-999.0000,9,  -999.00,    18.96,2,   -999.0,9,   -999.0,  -999.00,9,   0.00027,2,   -0.002,2,    0.042,2,    0.000,2,  100.039,2
  096U20180111,  SR03,    89,  1,     13,     13,2,20180211,0138,-62.4997, 132.0497, 4427,   2552.0,   0.7128,  34.7019,2,  34.7016,2,    210.0,2,    210.0,2,   119.00,2,    32.49,2,     0.00,2,     2.25,2,        0,2, -999.000,9, -999.000,9,     -999,9,   -999.0,9,   -999.0,9,-999.0000,9,  -999.00,  -999.00,9,   -999.0,9,   -999.0,  -999.00,9,   0.00029,2,   -0.002,2,    0.048,2,    0.000,2,  100.047,2
  096U20180111,  SR03,    89,  1,     12,     12,2,20180211,0138,-62.4997, 132.0497, 4427,   2802.3,   0.5502,  34.6939,2,-999.0000,9,    213.3,2,   -999.0,9,  -999.00,9,  -999.00,9,  -999.00,9,  -999.00,9,     -999,9, -999.000,9, -999.000,9,     -999,9,   -999.0,9,   -999.0,9,-999.0000,9,  -999.00,  -999.00,9,   -999.0,9,   -999.0,  -999.00,9,   0.00025,2,   -0.002,2,    0.036,2,    0.000,2,  100.040,2
  096U20180111,  SR03,    89,  1,     11,     11,2,20180211,0138,-62.4997, 132.0497, 4427,   2802.3,   0.5481,  34.6937,2,  34.6944,2,    213.3,2,    213.6,2,   123.30,2,    32.67,2,     0.00,2,     2.26,2,        0,2,    0.434,2,    0.213,2,     0.07,2,   2259.2,2,   2360.5,2,-999.0000,9,  -999.00,    18.98,2,   -158.3,6,      1.5,     0.34,6,   0.00026,2,   -0.002,2,    0.036,2,    0.000,2,  100.038,2
  096U20180111,  SR03,    89,  1,     10,     10,2,20180211,0138,-62.4997, 132.0497, 4427,   3051.6,   0.4274,  34.6878,2,  34.6862,2,    216.3,2,    216.3,2,   126.30,2,    32.79,2,     0.00,2,     2.28,2,        0,2,    0.530,2,    0.264,2,     0.03,2,   2261.4,2,   2360.3,2,-999.0000,9,  -999.00,    18.93,2,   -160.7,2,      2.2,     0.30,2,   0.00023,2,   -0.002,2,    0.042,2,    0.000,2,  100.041,2
  096U20180111,  SR03,    89,  1,      9,      9,2,20180211,0138,-62.4997, 132.0497, 4427,   3302.3,   0.3347,  34.6833,2,  34.6839,2,    219.2,2,    219.2,2,   128.70,2,    32.86,2,     0.00,2,     2.28,2,        0,2, -999.000,9, -999.000,9,     -999,9,   -999.0,9,   -999.0,9,-999.0000,9,  -999.00,  -999.00,9,   -999.0,9,   -999.0,  -999.00,9,   0.00036,2,   -0.002,2,    0.042,2,    0.000,2,  100.038,2
  096U20180111,  SR03,    89,  1,      8,      8,2,20180211,0138,-62.4997, 132.0497, 4427,   3551.1,   0.2613,  34.6794,2,  34.6779,2,    221.9,2,    221.8,2,   130.80,2,    32.88,2,     0.00,2,     2.28,2,        0,2,    0.744,2,    0.367,2,     0.21,2,   2259.3,2,   2359.8,2,-999.0000,9,  -999.00,    18.63,2,   -154.1,2,      1.9,     0.32,2,   0.00025,2,   -0.002,2,    0.042,2,    0.000,2,  100.043,2
  096U20180111,  SR03,    89,  1,      7,      7,2,20180211,0138,-62.4997, 132.0497, 4427,   3802.1,   0.1845,  34.6751,2,  34.6753,2,    224.8,2,    224.7,2,   131.60,2,    32.86,2,     0.00,2,     2.28,2,        0,2,    0.900,2,    0.439,2,     0.19,2,   2260.5,6,   2359.3,6,-999.0000,9,  -999.00,    18.84,2,   -999.0,9,   -999.0,  -999.00,9,   0.00023,2,   -0.002,2,    0.042,2,    0.000,2,  100.044,2
  096U20180111,  SR03,    89,  1,      6,      6,2,20180211,0138,-62.4997, 132.0497, 4427,   4052.0,   0.1026,  34.6692,2,-999.0000,9,    228.3,2,   -999.0,9,  -999.00,9,  -999.00,9,  -999.00,9,  -999.00,9,     -999,9, -999.000,9, -999.000,9,     -999,9,   -999.0,9,   -999.0,9,-999.0000,9,  -999.00,  -999.00,9,   -999.0,9,   -999.0,  -999.00,9,   0.00022,2,   -0.002,2,    0.036,2,    0.000,2,  100.040,2
  096U20180111,  SR03,    89,  1,      5,      5,2,20180211,0138,-62.4997, 132.0497, 4427,   4051.8,   0.1021,  34.6691,2,  34.6690,2,    228.3,2,    228.2,2,   130.40,2,    32.85,2,     0.00,2,     2.27,2,        0,2,    1.172,2,    0.586,2,     0.58,2,   2259.2,2,   2358.3,6,-999.0000,9,  -999.00,    19.01,2,   -154.3,2,      2.2,     0.34,2,   0.00023,2,   -0.001,2,    0.042,2,    0.000,2,  100.032,2
  096U20180111,  SR03,    89,  1,      4,      4,2,20180211,0138,-62.4997, 132.0497, 4427,   4301.5,   0.0166,  34.6620,2,  34.6613,2,    232.1,2,    232.5,2,   129.80,2,    32.70,2,     0.00,2,     2.27,2,        0,2,    1.516,2,    0.762,2,     0.63,2,   2259.6,2,   2358.6,2,-999.0000,9,  -999.00,    18.96,2,   -151.7,2,      2.2,     0.40,2,   0.00024,2,    0.000,2,    0.042,2,    0.000,2,  100.010,2
  096U20180111,  SR03,    89,  1,      3,      3,2,20180211,0138,-62.4997, 132.0497, 4427,   4463.5,  -0.0873,  34.6518,2,  34.6514,2,    236.7,2,    237.2,2,   124.00,2,    32.60,2,     0.00,2,     2.26,2,        0,2,    1.969,2,    1.051,2,     0.77,2,   -999.0,9,   -999.0,9,-999.0000,9,  -999.00,    18.88,2,   -999.0,9,   -999.0,  -999.00,9,   0.00030,2,    0.004,2,    0.042,2,    0.000,2,   99.896,2
  096U20180111,  SR03,    89,  1,      2,      2,2,20180211,0138,-62.4997, 132.0497, 4427,   4519.8,  -0.1646,  34.6457,2,-999.0000,9,    241.0,2,   -999.0,9,  -999.00,9,  -999.00,9,  -999.00,9,  -999.00,9,     -999,9, -999.000,9, -999.000,9,     -999,9,   -999.0,9,   -999.0,9,-999.0000,9,  -999.00,  -999.00,9,   -999.0,9,   -999.0,  -999.00,9,   0.00044,2,    0.013,2,    0.042,2,    0.000,2,   99.677,2
  096U20180111,  SR03,    89,  1,      1,      1,2,20180211,0138,-62.4997, 132.0497, 4427,   4519.9,  -0.1652,  34.6457,2,  34.6473,2,    241.0,2,    241.0,2,   116.60,2,    32.48,2,     0.01,2,     2.25,2,        0,2,    2.144,2,    1.136,2,     0.92,2,   2255.5,2,   2355.3,2,-999.0000,9,  -999.00,    19.08,2,   -157.0,2,      3.6,     0.36,2,   0.00047,2,    0.013,2,    0.042,2,    0.000,2,   99.683,2