BOTTLE,20230418CCHSIOENA
EXPOCODE,SECT_ID,STNNBR,CASTNO,SAMPNO,BTLNBR,BTLNBR_FLAG_W,DATE,TIME,LATITUDE,LONGITUDE,DEPTH,CTDPRS,CTDTMP,CTDSAL,CTDSAL_FLAG_W,SALNTY,SALNTY_FLAG_W,CTDOXY,CTDOXY_FLAG_W,OXYGEN,OXYGEN_FLAG_W,SILCAT,SILCAT_FLAG_W,NITRAT,NITRAT_FLAG_W,NITRIT,NITRIT_FLAG_W,PHSPHT,PHSPHT_FLAG_W,NH4,NH4_FLAG_W,CFC-11,CFC-11_FLAG_W,CFC-12,CFC-12_FLAG_W,SF6,SF6_FLAG_W,TCARBN,TCARBN_FLAG_W,ALKALI,ALKALI_FLAG_W,PH_TOT,PH_TOT_FLAG_W,PH_TMP,N2O,N2O_FLAG_W,DELC14,DELC14_FLAG_W,C14ERR,DELC13,DELC13_FLAG_W,CTDBETA700,CTDBETA700_FLAG_W,CTDBEAMCP,CTDBEAMCP_FLAG_W,CTDFLUOR,CTDFLUOR_FLAG_W,PAR,PAR_FLAG_W,CTDXMISS,CTDXMISS_FLAG_W
,,,,,,,,,,,METERS,DBAR,ITS-90,PSS-78,,PSS-78,,UMOL/KG,,UMOL/KG,,UMOL/KG,,UMOL/KG,,UMOL/KG,,UMOL/KG,,UMOL/KG,,PMOL/KG,,PMOL/KG,,FMOL/KG,,UMOL/KG,,UMOL/KG,,,,DEG C,NMOL/KG,,/MILLE,,/MILLE,/MILLE,,VOLTS,,1/M,,MG/M^3,,UMOL/M^2/SEC,,%TRANS,
  096U20180111,  SR03,    61,  1,     36,     36,2,20180201,2340,-66.4267, 145.0698,  423,      5.2,  -1.1307,  33.5960,2,  33.5955,2,    359.0,2,    362.9,2,    45.70,2,    24.16,2,     0.16,2,     1.53,2,     0.06,2,    5.651,2,    3.041,2,     3.75,2,   2141.1,2,   2277.5,2,-999.0000,9,  -999.00,    15.30,2,   -999.0,9,   -999.0,  -999.00,9,   0.00404,2,    0.388,2,    0.882,2,  148.000,2,   90.746,2
  096U20180111,  SR03,    61,  1,     35,     35,2,20180201,2340,-66.4267, 145.0698,  423,      5.1,  -1.1317,  33.5959,2,-999.0000,9,    359.0,2,   -999.0,9,  -999.00,9,  -999.00,9,  -999.00,9,  -999.00,9,     -999,9, -999.000,9, -999.000,9,     -999,9,   -999.0,9,   -999.0,9,-999.0000,9,  -999.00,  -999.00,9,   -999.0,9,   -999.0,  -999.00,9,   0.00409,2,    0.393,2,    1.008,2,  150.000,2,   90.647,2
  096U20180111,  SR03,    61,  1,     34,     34,2,20180201,2340,-66.4267, 145.0698,  423,      5.2,  -1.1312,  33.5961,2,-999.0000,9,    359.0,2,   -999.0,9,  -999.00,9,  -999.00,9,  -999.00,9,  -999.00,9,     -999,9, -999.000,9, -999.000,9,     -999,9,   -999.0,9,   -999.0,9,-999.0000,9,  -999.00,  -999.00,9,   -999.0,9,   -999.0,  -999.00,9,   0.00405,2,    0.397,2,    0.942,2,  145.000,2,   90.554,2
  096U20180111,  SR03,    61,  1,     33,     33,2,20180201,2340,-66.4267, 145.0698,  423,     30.8,  -1.0527,  33.6266,2,  33.6358,2,    358.9,2,    358.2,2,    47.60,2,    24.33,2,     0.16,2,     1.57,2,     0.11,2,    5.596,2,    3.035,2,     3.86,2,   2145.8,2,   2279.2,2,-999.0000,9,  -999.00,    15.23,2,   -999.0,9,   -999.0,  -999.00,9,   0.00468,2,    0.411,2,    4.488,2,    5.400,2,   90.242,2
  096U20180111,  SR03,    61,  1,     32,     32,2,20180201,2340,-66.4267, 145.0698,  423,     30.7,  -1.0492,  33.6271,2,-999.0000,9,    358.9,2,   -999.0,9,  -999.00,9,  -999.00,9,  -999.00,9,  -999.00,9,     -999,9, -999.000,9, -999.000,9,     -999,9,   -999.0,9,   -999.0,9,-999.0000,9,  -999.00,  -999.00,9,   -999.0,9,   -999.0,  -999.00,9,   0.00458,2,    0.412,2,    4.794,2,    5.410,2,   90.210,2
  096U20180111,  SR03,    61,  1,     31,     31,2,20180201,2340,-66.4267, 145.0698,  423,     30.7,  -1.0482,  33.6275,2,-999.0000,9,    358.9,2,   -999.0,9,  -999.00,9,  -999.00,9,  -999.00,9,  -999.00,9,     -999,9, -999.000,9, -999.000,9,     -999,9,   -999.0,9,   -999.0,9,-999.0000,9,  -999.00,  -999.00,9,   -999.0,9,   -999.0,  -999.00,9,   0.00380,2,    0.408,2,    4.212,2,    5.420,2,   90.306,2
  096U20180111,  SR03,    61,  1,     30,     30,2,20180201,2340,-66.4267, 145.0698,  423,     45.4,  -1.1655,  33.7130,2,  33.7993,2,    354.1,2,    350.1,2,    51.10,2,    25.06,2,     0.14,2,     1.69,2,     0.43,2, -999.000,9, -999.000,9,     -999,9,   2161.5,2,   2291.6,2,-999.0000,9,  -999.00,  -999.00,9,   -999.0,9,   -999.0,  -999.00,9,   0.00460,2,    0.405,2,    5.460,2,    0.883,2,   90.374,2
  096U20180111,  SR03,    61,  1,     29,     29,2,20180201,2340,-66.4267, 145.0698,  423,     45.3,  -1.1657,  33.7147,2,-999.0000,9,    354.1,2,   -999.0,9,  -999.00,9,  -999.00,9,  -999.00,9,  -999.00,9,     -999,9, -999.000,9, -999.000,9,     -999,9,   -999.0,9,   -999.0,9,-999.0000,9,  -999.00,  -999.00,9,   -999.0,9,   -999.0,  -999.00,9,   0.00437,2,    0.394,2,    5.004,2,    0.891,2,   90.629,2
  096U20180111,  SR03,    61,  1,     28,     28,2,20180201,2340,-66.4267, 145.0698,  423,     45.3,  -1.1653,  33.7106,2,-999.0000,9,    354.1,2,   -999.0,9,  -999.00,9,  -999.00,9,  -999.00,9,  -999.00,9,     -999,9, -999.000,9, -999.000,9,     -999,9,   -999.0,9,   -999.0,9,-999.0000,9,  -999.00,  -999.00,9,   -999.0,9,   -999.0,  -999.00,9,   0.00448,2,    0.378,2,    5.190,2,    0.883,2,   90.974,2
  096U20180111,  SR03,    61,  1,     27,     27,2,20180201,2340,-66.4267, 145.0698,  423,     75.5,  -1.3717,  34.2603,2,  34.3010,2,    327.2,2,    311.2,2,    67.90,2,    28.31,2,     0.09,2,     2.05,2,     0.94,2,    4.521,2,    2.521,2,     3.15,2,   2213.0,2,   2324.2,2,-999.0000,9,  -999.00,    16.64,2,   -999.0,9,   -999.0,  -999.00,9,   0.00097,2,    0.059,2,    0.744,2,    0.043,2,   98.534,2
  096U20180111,  SR03,    61,  1,     26,     26,2,20180201,2340,-66.4267, 145.0698,  423,     75.5,  -1.3727,  34.2610,2,-999.0000,9,    327.2,2,   -999.0,9,  -999.00,9,  -999.00,9,  -999.00,9,  -999.00,9,     -999,9, -999.000,9, -999.000,9,     -999,9,   -999.0,9,   -999.0,9,-999.0000,9,  -999.00,  -999.00,9,   -999.0,9,   -999.0,  -999.00,9,   0.00106,2,    0.068,2,    0.792,2,    0.041,2,   98.315,2
  096U20180111,  SR03,    61,  1,     25,     25,2,20180201,2340,-66.4267, 145.0698,  423,     75.5,  -1.3793,  34.2661,2,-999.0000,9,    327.2,2,   -999.0,9,  -999.00,9,  -999.00,9,  -999.00,9,  -999.00,9,     -999,9, -999.000,9, -999.000,9,     -999,9,   -999.0,9,   -999.0,9,-999.0000,9,  -999.00,  -999.00,9,   -999.0,9,   -999.0,  -999.00,9,   0.00108,2,    0.063,2,    1.068,2,    0.039,2,   98.447,2
  096U20180111,  SR03,    61,  1,     24,     24,2,20180201,2340,-66.4267, 145.0698,  423,    105.5,  -1.5623,  34.3986,2,  34.3972,2,    298.1,2,    296.6,2,    74.00,2,    30.08,2,     0.10,2,     2.14,2,     0.27,2, -999.000,9, -999.000,9,     -999,9,   2227.7,2,   2328.9,2,-999.0000,9,  -999.00,  -999.00,9,   -999.0,9,   -999.0,  -999.00,9,   0.00048,2,    0.012,2,    0.126,2,    0.000,2,   99.713,2
  096U20180111,  SR03,    61,  1,     23,     23,2,20180201,2340,-66.4267, 145.0698,  423,    105.5,  -1.5622,  34.3987,2,-999.0000,9,    298.1,2,   -999.0,9,  -999.00,9,  -999.00,9,  -999.00,9,  -999.00,9,     -999,9, -999.000,9, -999.000,9,     -999,9,   -999.0,9,   -999.0,9,-999.0000,9,  -999.00,  -999.00,9,   -999.0,9,   -999.0,  -999.00,9,   0.00052,2,    0.014,2,    0.126,2,    0.000,2,   99.655,2
  096U20180111,  SR03,    61,  1,     22,     22,2,20180201,2340,-66.4267, 145.0698,  423,    105.5,  -1.5620,  34.3986,2,-999.0000,9,    298.1,2,   -999.0,9,  -999.00,9,  -999.00,9,  -999.00,9,  -999.00,9,     -999,9, -999.000,9, -999.000,9,     -999,9,   -999.0,9,   -999.0,9,-999.0000,9,  -999.00,  -999.00,9,   -999.0,9,   -999.0,  -999.00,9,   0.00054,2,    0.012,2,    0.138,2,    0.000,2,   99.707,2
  096U20180111,  SR03,    61,  1,     21,     21,2,20180201,2340,-66.4267, 145.0698,  423,    150.4,  -1.2911,  34.4435,2,  34.4424,2,    281.6,2,    281.8,2,    76.60,2,    30.60,2,     0.09,2,     2.17,2,      0.1,2,    3.778,2,    2.108,2,     2.35,2,   2232.1,2,   2331.0,2,-999.0000,9,  -999.00,    17.53,2,   -999.0,9,   -999.0,  -999.00,9,   0.00044,2,    0.007,2,    0.084,2,    0.000,2,   99.814,2
  096U20180111,  SR03,    61,  1,     20,     20,2,20180201,2340,-66.4267, 145.0698,  423,    150.4,  -1.2907,  34.4437,2,-999.0000,9,    281.6,2,   -999.0,9,  -999.00,9,  -999.00,9,  -999.00,9,  -999.00,9,     -999,9, -999.000,9, -999.000,9,     -999,9,   -999.0,9,   -999.0,9,-999.0000,9,  -999.00,  -999.00,9,   -999.0,9,   -999.0,  -999.00,9,   0.00044,2,    0.007,2,    0.078,2,    0.000,2,   99.819,2
  096U20180111,  SR03,    61,  1,     19,     19,2,20180201,2340,-66.4267, 145.0698,  423,    150.3,  -1.2881,  34.4443,2,-999.0000,9,    281.6,2,   -999.0,9,  -999.00,9,  -999.00,9,  -999.00,9,  -999.00,9,     -999,9, -999.000,9, -999.000,9,     -999,9,   -999.0,9,   -999.0,9,-999.0000,9,  -999.00,  -999.00,9,   -999.0,9,   -999.0,  -999.00,9,   0.00043,2,    0.006,2,    0.072,2,    0.000,2,   99.839,2
  096U20180111,  SR03,    61,  1,     18,     18,2,20180201,2340,-66.4267, 145.0698,  423,    200.6,  -0.8641,  34.5094,2,  34.5112,2,    264.0,2,    264.9,2,    80.80,2,    31.00,2,     0.10,2,     2.20,2,     0.04,2,    3.186,2,    1.747,2,     1.94,2,   2239.9,6,   2336.7,6,-999.0000,9,  -999.00,    18.21,2,   -999.0,9,   -999.0,  -999.00,9,   0.00047,2,    0.006,2,    0.060,2,    0.000,2,   99.843,2
  096U20180111,  SR03,    61,  1,     17,     17,2,20180201,2340,-66.4267, 145.0698,  423,    200.6,  -0.8749,  34.5095,2,-999.0000,9,    264.0,2,   -999.0,9,  -999.00,9,  -999.00,9,  -999.00,9,  -999.00,9,     -999,9, -999.000,9, -999.000,9,     -999,9,   -999.0,9,   -999.0,9,-999.0000,9,  -999.00,  -999.00,9,   -999.0,9,   -999.0,  -999.00,9,   0.00044,2,    0.007,2,    0.066,2,    0.000,2,   99.825,2
  096U20180111,  SR03,    61,  1,     16,     16,2,20180201,2340,-66.4267, 145.0698,  423,    200.5,  -0.9308,  34.5078,2,-999.0000,9,    264.0,2,   -999.0,9,  -999.00,9,  -999.00,9,  -999.00,9,  -999.00,9,     -999,9, -999.000,9, -999.000,9,     -999,9,   -999.0,9,   -999.0,9,-999.0000,9,  -999.00,  -999.00,9,   -999.0,9,   -999.0,  -999.00,9,   0.00041,2,    0.008,2,    0.060,2,    0.000,2,   99.794,2
  096U20180111,  SR03,    61,  1,     15,     15,2,20180201,2340,-66.4267, 145.0698,  423,    250.7,  -1.1853,  34.5258,2,  34.5239,2,    273.7,2,    272.8,2,    82.10,2,    30.96,2,     0.10,2,     2.20,2,     0.06,2,    3.461,2,    1.891,2,     1.98,2,   2240.3,2,   2337.4,2,-999.0000,9,  -999.00,    17.85,2,   -999.0,9,   -999.0,  -999.00,9,   0.00052,2,    0.011,2,    0.078,2,    0.000,2,   99.728,2
  096U20180111,  SR03,    61,  1,     14,     14,2,20180201,2340,-66.4267, 145.0698,  423,    250.6,  -1.1853,  34.5257,2,-999.0000,9,    273.7,2,   -999.0,9,  -999.00,9,  -999.00,9,  -999.00,9,  -999.00,9,     -999,9, -999.000,9, -999.000,9,     -999,9,   -999.0,9,   -999.0,9,-999.0000,9,  -999.00,  -999.00,9,   -999.0,9,   -999.0,  -999.00,9,   0.00051,2,    0.010,2,    0.072,2,    0.000,2,   99.737,2
  096U20180111,  SR03,    61,  1,     13,     13,2,20180201,2340,-66.4267, 145.0698,  423,    250.6,  -1.1851,  34.5260,2,-999.0000,9,    273.7,2,   -999.0,9,  -999.00,9,  -999.00,9,  -999.00,9,  -999.00,9,     -999,9, -999.000,9, -999.000,9,     -999,9,   -999.0,9,   -999.0,9,-999.0000,9,  -999.00,  -999.00,9,   -999.0,9,   -999.0,  -999.00,9,   0.00052,2,    0.010,2,    0.072,2,    0.000,2,   99.741,2
  096U20180111,  SR03,    61,  1,     12,     12,2,20180201,2340,-66.4267, 145.0698,  423,    310.7,  -1.5920,  34.5293,2,  34.5259,2,    288.6,2,    289.8,2,    78.10,2,    30.68,2,     0.07,2,     2.19,2,     0.11,2,    3.926,2,    2.190,2,     2.34,2,   2239.2,2,   2337.7,2,-999.0000,9,  -999.00,    17.22,2,   -999.0,9,   -999.0,  -999.00,9,   0.00054,2,    0.012,2,    0.114,2,    0.000,2,   99.702,2
  096U20180111,  SR03,    61,  1,     11,     11,2,20180201,2340,-66.4267, 145.0698,  423,    310.7,  -1.5914,  34.5292,2,-999.0000,9,    288.6,2,   -999.0,9,  -999.00,9,  -999.00,9,  -999.00,9,  -999.00,9,     -999,9, -999.000,9, -999.000,9,     -999,9,   -999.0,9,   -999.0,9,-999.0000,9,  -999.00,  -999.00,9,   -999.0,9,   -999.0,  -999.00,9,   0.00053,2,    0.012,2,    0.102,2,    0.000,2,   99.693,2
  096U20180111,  SR03,    61,  1,     10,     10,2,20180201,2340,-66.4267, 145.0698,  423,    310.6,  -1.5915,  34.5292,2,-999.0000,9,    288.6,2,   -999.0,9,  -999.00,9,  -999.00,9,  -999.00,9,  -999.00,9,     -999,9, -999.000,9, -999.000,9,     -999,9,   -999.0,9,   -999.0,9,-999.0000,9,  -999.00,  -999.00,9,   -999.0,9,   -999.0,  -999.00,9,   0.00055,2,    0.013,2,    0.102,2,    0.000,2,   99.685,2
  096U20180111,  SR03,    61,  1,      9,      9,2,20180201,2340,-66.4267, 145.0698,  423,    380.7,  -1.8918,  34.6094,2,  34.6073,2,    300.6,2,    300.4,2,    77.50,2,    30.72,2,     0.06,2,     2.21,2,      0.2,2,    4.390,2,    2.444,2,     2.59,2,   2244.7,2,   2343.2,2,-999.0000,9,  -999.00,    17.46,2,   -999.0,9,   -999.0,  -999.00,9,   0.00152,2,    0.061,2,    0.144,2,    0.000,2,   98.483,2
  096U20180111,  SR03,    61,  1,      8,      8,2,20180201,2340,-66.4267, 145.0698,  423,    380.7,  -1.8921,  34.6094,2,-999.0000,9,    300.6,2,   -999.0,9,  -999.00,9,  -999.00,9,  -999.00,9,  -999.00,9,     -999,9, -999.000,9, -999.000,9,     -999,9,   -999.0,9,   -999.0,9,-999.0000,9,  -999.00,  -999.00,9,   -999.0,9,   -999.0,  -999.00,9,   0.00159,2,    0.064,2,    0.150,2,    0.000,2,   98.400,2
  096U20180111,  SR03,    61,  1,      7,      7,2,20180201,2340,-66.4267, 145.0698,  423,    380.6,  -1.8921,  34.6096,2,-999.0000,9,    300.6,2,   -999.0,9,  -999.00,9,  -999.00,9,  -999.00,9,  -999.00,9,     -999,9, -999.000,9, -999.000,9,     -999,9,   -999.0,9,   -999.0,9,-999.0000,9,  -999.00,  -999.00,9,   -999.0,9,   -999.0,  -999.00,9,   0.00133,2,    0.068,2,    0.144,2,    0.000,2,   98.328,2
  096U20180111,  SR03,    61,  1,      6,      6,2,20180201,2340,-66.4267, 145.0698,  423,    380.6,  -1.8923,  34.6097,2,-999.0000,9,    300.6,2,   -999.0,9,  -999.00,9,  -999.00,9,  -999.00,9,  -999.00,9,     -999,9, -999.000,9, -999.000,9,     -999,9,   -999.0,9,   -999.0,9,-999.0000,9,  -999.00,  -999.00,9,   -999.0,9,   -999.0,  -999.00,9,   0.00168,2,    0.068,2,    0.150,2,    0.000,2,   98.311,2
  096U20180111,  SR03,    61,  1,      5,      5,2,20180201,2340,-66.4267, 145.0698,  423,    380.6,  -1.8925,  34.6098,2,-999.0000,9,    300.6,2,   -999.0,9,  -999.00,9,  -999.00,9,  -999.00,9,  -999.00,9,     -999,9, -999.000,9, -999.000,9,     -999,9,   -999.0,9,   -999.0,9,-999.0000,9,  -999.00,  -999.00,9,   -999.0,9,   -999.0,  -999.00,9,   0.00155,2,    0.061,2,    0.150,2,    0.000,2,   98.483,2
  096U20180111,  SR03,    61,  1,      4,      4,2,20180201,2340,-66.4267, 145.0698,  423,    380.5,  -1.8927,  34.6099,2,-999.0000,9,    300.6,2,   -999.0,9,  -999.00,9,  -999.00,9,  -999.00,9,  -999.00,9,     -999,9, -999.000,9, -999.000,9,     -999,9,   -999.0,9,   -999.0,9,-999.0000,9,  -999.00,  -999.00,9,   -999.0,9,   -999.0,  -999.00,9,   0.00144,2,    0.067,2,    0.156,2,    0.000,2,   98.338,2
  096U20180111,  SR03,    61,  1,      3,      3,2,20180201,2340,-66.4267, 145.0698,  423,    418.1,  -1.8915,  34.6111,2,  34.6099,2,    301.2,2,    300.4,2,    77.70,2,    30.71,2,     0.06,2,     2.21,2,     0.21,2,    4.398,2,    2.451,2,     2.74,2,   2245.0,2,   2342.4,2,-999.0000,9,  -999.00,    17.48,2,   -999.0,9,   -999.0,  -999.00,9,   0.00206,2,    0.078,2,    0.168,2,    0.000,2,   98.076,2
  096U20180111,  SR03,    61,  1,      2,      2,2,20180201,2340,-66.4267, 145.0698,  423,    418.1,  -1.8916,  34.6111,2,-999.0000,9,    301.2,2,   -999.0,9,  -999.00,9,  -999.00,9,  -999.00,9,  -999.00,9,     -999,9, -999.000,9, -999.000,9,     -999,9,   -999.0,9,   -999.0,9,-999.0000,9,  -999.00,  -999.00,9,   -999.0,9,   -999.0,  -999.00,9,   0.00199,2,    0.076,2,    0.150,2,    0.000,2,   98.107,2
  096U20180111,  SR03,    61,  1,      1,      1,2,20180201,2340,-66.4267, 145.0698,  423,    418.1,  -1.8918,  34.6111,2,-999.0000,9,    301.2,2,   -999.0,9,  -999.00,9,  -999.00,9,  -999.00,9,  -999.00,9,     -999,9, -999.000,9, -999.000,9,     -999,9,   -999.0,9,   -999.0,9,-999.0000,9,  -999.00,  -999.00,9,   -999.0,9,   -999.0,  -999.00,9,   0.00178,2,    0.076,2,    0.168,2,    0.000,2,   98.120,2