BOTTLE,20230418CCHSIOENA
EXPOCODE,SECT_ID,STNNBR,CASTNO,SAMPNO,BTLNBR,BTLNBR_FLAG_W,DATE,TIME,LATITUDE,LONGITUDE,DEPTH,CTDPRS,CTDTMP,CTDSAL,CTDSAL_FLAG_W,SALNTY,SALNTY_FLAG_W,CTDOXY,CTDOXY_FLAG_W,OXYGEN,OXYGEN_FLAG_W,SILCAT,SILCAT_FLAG_W,NITRAT,NITRAT_FLAG_W,NITRIT,NITRIT_FLAG_W,PHSPHT,PHSPHT_FLAG_W,NH4,NH4_FLAG_W,CFC-11,CFC-11_FLAG_W,CFC-12,CFC-12_FLAG_W,SF6,SF6_FLAG_W,TCARBN,TCARBN_FLAG_W,ALKALI,ALKALI_FLAG_W,PH_TOT,PH_TOT_FLAG_W,PH_TMP,N2O,N2O_FLAG_W,DELC14,DELC14_FLAG_W,C14ERR,DELC13,DELC13_FLAG_W,CTDBETA700,CTDBETA700_FLAG_W,CTDBEAMCP,CTDBEAMCP_FLAG_W,CTDFLUOR,CTDFLUOR_FLAG_W,PAR,PAR_FLAG_W,CTDXMISS,CTDXMISS_FLAG_W
,,,,,,,,,,,METERS,DBAR,ITS-90,PSS-78,,PSS-78,,UMOL/KG,,UMOL/KG,,UMOL/KG,,UMOL/KG,,UMOL/KG,,UMOL/KG,,UMOL/KG,,PMOL/KG,,PMOL/KG,,FMOL/KG,,UMOL/KG,,UMOL/KG,,,,DEG C,NMOL/KG,,/MILLE,,/MILLE,/MILLE,,VOLTS,,1/M,,MG/M^3,,UMOL/M^2/SEC,,%TRANS,
  096U20180111,  SR03,    22,  1,     36,     36,2,20180119,1720,-51.2612, 143.1325, 3740,     12.6,   9.5051,  34.2622,2,  34.2622,2,    283.4,2,    282.4,2,     1.40,2,    13.94,2,     0.22,2,     1.01,2,     0.16,2,    3.315,2,    1.882,2,     2.43,2,   2100.0,2,   2284.2,2,-999.0000,9,  -999.00,    11.14,2,   -999.0,9,   -999.0,  -999.00,9,   0.00229,2,    0.185,2,    1.758,2,   34.600,2,   95.488,2
  096U20180111,  SR03,    22,  1,     35,     35,2,20180119,1720,-51.2612, 143.1325, 3740,     41.1,   9.5076,  34.2623,2,  34.2628,2,    284.1,2,    282.4,2,     1.40,2,    13.92,2,     0.21,2,     1.01,2,     0.18,2, -999.000,9, -999.000,9,     -999,9,   -999.0,9,   -999.0,9,-999.0000,9,  -999.00,  -999.00,9,   -999.0,9,   -999.0,  -999.00,9,   0.00225,2,    0.183,2,    1.800,2,    3.360,2,   95.537,2
  096U20180111,  SR03,    22,  1,     34,     34,2,20180119,1720,-51.2612, 143.1325, 3740,     71.2,   9.4799,  34.4845,2,-999.0000,9,    284.4,2,   -999.0,9,  -999.00,9,  -999.00,9,  -999.00,9,  -999.00,9,     -999,9, -999.000,9, -999.000,9,     -999,9,   -999.0,9,   -999.0,9,-999.0000,9,  -999.00,  -999.00,9,   -999.0,9,   -999.0,  -999.00,9,   0.00170,2,    0.088,2,    0.894,2,    0.404,2,   97.821,2
  096U20180111,  SR03,    22,  1,     33,     33,2,20180119,1720,-51.2612, 143.1325, 3740,     71.1,   9.4801,  34.4843,2,  34.4847,2,    284.4,2,    274.9,2,     3.00,2,    13.15,2,     0.25,2,     1.00,2,     0.53,2, -999.000,9, -999.000,9,     -999,9,   -999.0,9,   -999.0,9,-999.0000,9,  -999.00,  -999.00,9,   -999.0,9,   -999.0,  -999.00,9,   0.00166,2,    0.094,2,    0.876,2,    0.418,2,   97.687,2
  096U20180111,  SR03,    22,  1,     32,     32,2,20180119,1720,-51.2612, 143.1325, 3740,     96.7,   9.2788,  34.4749,2,-999.0000,9,    275.8,2,   -999.0,9,  -999.00,9,  -999.00,9,  -999.00,9,  -999.00,9,     -999,9, -999.000,9, -999.000,9,     -999,9,   -999.0,9,   -999.0,9,-999.0000,9,  -999.00,  -999.00,9,   -999.0,9,   -999.0,  -999.00,9,   0.00128,2,    0.059,2,    0.438,2,    0.135,2,   98.547,2
  096U20180111,  SR03,    22,  1,     31,     31,2,20180119,1720,-51.2612, 143.1325, 3740,    120.9,   8.8843,  34.4818,2,  34.4800,2,    275.8,2,    274.5,2,     3.60,2,    15.05,2,     0.26,2,     1.09,2,     0.12,2, -999.000,9, -999.000,9,     -999,9,   -999.0,9,   -999.0,9,-999.0000,9,  -999.00,  -999.00,9,   -999.0,9,   -999.0,  -999.00,9,   0.00093,2,    0.041,2,    0.258,2,    0.021,2,   98.987,2
  096U20180111,  SR03,    22,  1,     30,     30,2,20180119,1720,-51.2612, 143.1325, 3740,    160.8,   7.9738,  34.4058,2,  34.4129,2,    272.2,2,    271.7,2,     4.50,2,    17.51,2,     0.02,2,     1.23,2,        0,2, -999.000,9, -999.000,9,     -999,9,   2129.0,6,   2288.0,6,-999.0000,9,  -999.00,  -999.00,9,   -999.0,9,   -999.0,  -999.00,9,   0.00065,2,    0.017,2,    0.066,2,    0.000,2,   99.572,2
  096U20180111,  SR03,    22,  1,     29,     29,2,20180119,1720,-51.2612, 143.1325, 3740,    201.1,   8.4816,  34.5235,2,  34.5283,2,    269.8,2,    271.7,2,     3.90,2,    16.04,2,     0.02,2,     1.14,2,        0,2, -999.000,9, -999.000,9,     -999,9,   -999.0,9,   -999.0,9,-999.0000,9,  -999.00,  -999.00,9,   -999.0,9,   -999.0,  -999.00,9,   0.00057,2,    0.015,2,    0.066,2,    0.000,2,   99.618,2
  096U20180111,  SR03,    22,  1,     28,     28,2,20180119,1720,-51.2612, 143.1325, 3740,    241.4,   8.5493,  34.5460,2,  34.5468,2,    270.2,2,    269.8,2,     3.90,2,    15.94,2,     0.02,2,     1.12,2,     0.01,2, -999.000,9, -999.000,9,     -999,9,   -999.0,9,   -999.0,9,-999.0000,9,  -999.00,  -999.00,9,   -999.0,9,   -999.0,  -999.00,9,   0.00051,2,    0.010,2,    0.042,2,    0.000,2,   99.746,2
  096U20180111,  SR03,    22,  1,     27,     27,2,20180119,1720,-51.2612, 143.1325, 3740,    291.2,   8.2272,  34.4935,2,  34.4945,2,    270.0,2,    270.6,2,     4.20,2,    16.82,2,     0.02,2,     1.17,2,        0,2, -999.000,9, -999.000,9,     -999,9,   -999.0,9,   -999.0,9,-999.0000,9,  -999.00,  -999.00,9,   -999.0,9,   -999.0,  -999.00,9,   0.00048,2,    0.007,2,    0.036,2,    0.000,2,   99.824,2
  096U20180111,  SR03,    22,  1,     26,     26,2,20180119,1720,-51.2612, 143.1325, 3740,    341.1,   7.8357,  34.4321,2,  34.4328,2,    269.1,2,    271.3,2,     4.70,2,    17.87,2,     0.01,2,     1.24,2,        0,2, -999.000,9, -999.000,9,     -999,9,   -999.0,9,   -999.0,9,-999.0000,9,  -999.00,  -999.00,9,   -999.0,9,   -999.0,  -999.00,9,   0.00042,2,    0.006,2,    0.030,2,    0.000,2,   99.852,2
  096U20180111,  SR03,    22,  1,     25,     25,2,20180119,1720,-51.2612, 143.1325, 3740,    389.3,   7.6186,  34.4011,2,  34.4014,2,    270.9,2,    269.5,2,     5.20,2,    18.61,2,     0.01,2,     1.29,2,        0,2,    3.504,2,    1.980,2,     2.11,2,   2133.8,2,   2288.5,2,-999.0000,9,  -999.00,    12.34,2,   -999.0,9,   -999.0,  -999.00,9,   0.00047,2,    0.006,2,    0.030,2,    0.000,2,   99.860,2
  096U20180111,  SR03,    22,  1,     24,     24,2,20180119,1720,-51.2612, 143.1325, 3740,    441.1,   7.4725,  34.3891,2,  34.3900,2,    265.1,2,    264.1,2,     6.00,2,    19.48,2,     0.01,2,     1.35,2,    -0.01,2, -999.000,9, -999.000,9,     -999,9,   -999.0,9,   -999.0,9,-999.0000,9,  -999.00,  -999.00,9,   -999.0,9,   -999.0,  -999.00,9,   0.00041,2,    0.005,2,    0.024,2,    0.000,2,   99.870,2
  096U20180111,  SR03,    22,  1,     23,     23,2,20180119,1720,-51.2612, 143.1325, 3740,    496.7,   7.0814,  34.3410,2,  34.3415,2,    261.4,2,    263.4,2,     6.90,2,    20.65,2,     0.01,2,     1.42,2,    -0.01,2, -999.000,9, -999.000,9,     -999,9,   -999.0,9,   -999.0,9,-999.0000,9,  -999.00,  -999.00,9,   -999.0,9,   -999.0,  -999.00,9,   0.00041,2,    0.005,2,    0.024,2,    0.000,2,   99.881,2
  096U20180111,  SR03,    22,  1,     22,     22,2,20180119,1720,-51.2612, 143.1325, 3740,    598.5,   6.8279,  34.3946,2,  34.3944,2,    221.6,2,    222.1,2,    13.20,2,    24.51,2,     0.01,2,     1.65,2,    -0.01,2, -999.000,9, -999.000,9,     -999,9,   2163.7,2,   2289.7,6,-999.0000,9,  -999.00,  -999.00,9,   -999.0,9,   -999.0,  -999.00,9,   0.00047,2,    0.006,2,    0.030,2,    0.000,2,   99.839,2
  096U20180111,  SR03,    22,  1,     21,     21,2,20180119,1720,-51.2612, 143.1325, 3740,    700.5,   5.6008,  34.3440,2,  34.3473,2,    213.2,2,    213.5,2,    20.50,2,    27.94,2,     0.00,2,     1.88,2,    -0.01,2, -999.000,9, -999.000,9,     -999,9,   -999.0,9,   -999.0,9,-999.0000,9,  -999.00,  -999.00,9,   -999.0,9,   -999.0,  -999.00,9,   0.00045,2,    0.004,2,    0.036,2,    0.000,2,   99.888,2
  096U20180111,  SR03,    22,  1,     20,     20,2,20180119,1720,-51.2612, 143.1325, 3740,    801.3,   4.7004,  34.2940,2,-999.0000,9,    217.1,2,   -999.0,9,  -999.00,9,  -999.00,9,  -999.00,9,  -999.00,9,     -999,9, -999.000,9, -999.000,9,     -999,9,   -999.0,9,   -999.0,9,-999.0000,9,  -999.00,  -999.00,9,   -999.0,9,   -999.0,  -999.00,9,   0.00046,2,    0.005,2,    0.030,2,    0.000,2,   99.882,2
  096U20180111,  SR03,    22,  1,     19,     19,2,20180119,1720,-51.2612, 143.1325, 3740,    801.2,   4.6954,  34.2940,2,  34.2946,2,    217.1,2,    218.4,2,    25.10,2,    29.46,2,     0.01,2,     1.99,2,    -0.01,2,    2.887,2,    1.515,2,     0.93,2,   2187.8,2,   2294.0,2,-999.0000,9,  -999.00,    19.44,2,   -999.0,9,   -999.0,  -999.00,9,   0.00046,2,    0.005,2,    0.036,2,    0.000,2,   99.880,2
  096U20180111,  SR03,    22,  1,     18,     18,2,20180119,1720,-51.2612, 143.1325, 3740,    902.6,   4.1883,  34.3060,2,  34.3060,2,    210.7,2,    211.1,2,    31.70,2,    30.83,2,     0.01,2,     2.08,2,    -0.01,2, -999.000,9, -999.000,9,     -999,9,   -999.0,9,   -999.0,9,-999.0000,9,  -999.00,  -999.00,9,   -999.0,9,   -999.0,  -999.00,9,   0.00042,2,    0.003,2,    0.036,2,    0.000,2,   99.926,2
  096U20180111,  SR03,    22,  1,     17,     17,2,20180119,1720,-51.2612, 143.1325, 3740,   1050.9,   3.5572,  34.3523,2,  34.3525,2,    198.1,2,    197.2,2,    43.90,2,    32.65,2,     0.01,2,     2.22,2,    -0.01,2, -999.000,9, -999.000,9,     -999,9,   -999.0,9,   -999.0,9,-999.0000,9,  -999.00,  -999.00,9,   -999.0,9,   -999.0,  -999.00,9,   0.00042,2,    0.002,2,    0.036,2,    0.000,2,   99.940,2
  096U20180111,  SR03,    22,  1,     16,     16,2,20180119,1720,-51.2612, 143.1325, 3740,   1200.8,   3.2590,  34.4290,2,  34.4288,2,    181.0,2,    181.8,2,    55.70,2,    33.66,2,     0.01,2,     2.31,2,    -0.01,2, -999.000,9, -999.000,9,     -999,9,   -999.0,9,   -999.0,9,-999.0000,9,  -999.00,  -999.00,9,   -999.0,9,   -999.0,  -999.00,9,   0.00041,2,    0.002,2,    0.036,2,    0.000,2,   99.953,2
  096U20180111,  SR03,    22,  1,     15,     15,2,20180119,1720,-51.2612, 143.1325, 3740,   1349.9,   2.9174,  34.4986,2,  34.4966,2,    174.8,2,    174.8,2,    64.10,2,    34.07,2,     0.00,2,     2.33,2,    -0.01,2, -999.000,9, -999.000,9,     -999,9,   -999.0,9,   -999.0,9,-999.0000,9,  -999.00,  -999.00,9,   -999.0,9,   -999.0,  -999.00,9,   0.00038,2,    0.002,2,    0.036,2,    0.000,2,   99.964,2
  096U20180111,  SR03,    22,  1,     14,     14,2,20180119,1720,-51.2612, 143.1325, 3740,   1500.2,   2.7356,  34.5581,2,-999.0000,9,    171.3,2,   -999.0,9,  -999.00,9,  -999.00,9,  -999.00,9,  -999.00,9,     -999,9, -999.000,9, -999.000,9,     -999,9,   -999.0,9,   -999.0,9,-999.0000,9,  -999.00,  -999.00,9,   -999.0,9,   -999.0,  -999.00,9,   0.00039,2,    0.001,2,    0.048,2,    0.000,2,   99.970,2
  096U20180111,  SR03,    22,  1,     13,     13,2,20180119,1720,-51.2612, 143.1325, 3740,   1499.9,   2.7346,  34.5585,2,  34.5663,4,    171.3,2,    171.7,2,    69.80,2,    33.84,2,     0.00,2,     2.33,2,    -0.01,2,    0.581,2,    0.289,2,     0.07,2,   2251.5,2,   2337.8,2,-999.0000,9,  -999.00,    23.27,2,   -999.0,9,   -999.0,  -999.00,9,   0.00037,2,    0.001,2,    0.042,2,    0.000,2,   99.966,2
  096U20180111,  SR03,    22,  1,     12,     12,2,20180119,1720,-51.2612, 143.1325, 3740,   1701.4,   2.5495,  34.6324,2,  34.6314,2,    174.3,2,    175.2,2,    73.00,2,    32.94,2,     0.01,2,     2.26,2,    -0.01,2, -999.000,9, -999.000,9,     -999,9,   -999.0,9,   -999.0,9,-999.0000,9,  -999.00,  -999.00,9,   -999.0,9,   -999.0,  -999.00,9,   0.00037,2,    0.001,2,    0.042,2,    0.000,2,   99.966,2
  096U20180111,  SR03,    22,  1,     11,     11,2,20180119,1720,-51.2612, 143.1325, 3740,   1901.8,   2.4112,  34.6876,2,  34.6879,2,    179.6,2,    180.7,2,    76.70,2,    31.87,2,     0.01,2,     2.19,2,    -0.01,2, -999.000,9, -999.000,9,     -999,9,   -999.0,9,   -999.0,9,-999.0000,9,  -999.00,  -999.00,9,   -999.0,9,   -999.0,  -999.00,9,   0.00036,2,    0.001,2,    0.042,2,    0.000,2,   99.986,2
  096U20180111,  SR03,    22,  1,     10,     10,2,20180119,1720,-51.2612, 143.1325, 3740,   2101.6,   2.2857,  34.7225,2,  34.7228,2,    186.8,2,    186.5,2,    79.20,2,    31.05,2,     0.01,2,     2.12,2,    -0.01,2, -999.000,9, -999.000,9,     -999,9,   -999.0,9,   -999.0,9,-999.0000,9,  -999.00,  -999.00,9,   -999.0,9,   -999.0,  -999.00,9,   0.00036,2,    0.000,2,    0.042,2,    0.000,2,   99.994,2
  096U20180111,  SR03,    22,  1,      9,      9,2,20180119,1720,-51.2612, 143.1325, 3740,   2351.1,   2.1135,  34.7402,2,  34.7403,2,    192.5,2,    191.9,2,    83.10,2,    30.56,2,     0.01,2,     2.08,2,    -0.01,2, -999.000,9, -999.000,9,     -999,9,   -999.0,9,   -999.0,9,-999.0000,9,  -999.00,  -999.00,9,   -999.0,9,   -999.0,  -999.00,9,   0.00037,2,    0.000,2,    0.036,2,    0.000,2,  100.002,2
  096U20180111,  SR03,    22,  1,      8,      8,2,20180119,1720,-51.2612, 143.1325, 3740,   2600.7,   1.8791,  34.7457,2,-999.0000,9,    196.8,2,   -999.0,9,  -999.00,9,  -999.00,9,  -999.00,9,  -999.00,9,     -999,9, -999.000,9, -999.000,9,     -999,9,   -999.0,9,   -999.0,9,-999.0000,9,  -999.00,  -999.00,9,   -999.0,9,   -999.0,  -999.00,9,   0.00034,2,   -0.001,2,    0.042,2,    0.000,2,  100.014,2
  096U20180111,  SR03,    22,  1,      7,      7,2,20180119,1720,-51.2612, 143.1325, 3740,   2600.5,   1.8784,  34.7457,2,  34.7465,2,    196.8,2,    196.2,2,    89.80,2,    30.58,2,     0.01,2,     2.08,2,    -0.01,2,    0.158,2,    0.071,2,    -0.03,2,   2249.6,2,   2355.7,2,-999.0000,9,  -999.00,    19.87,2,   -999.0,9,   -999.0,  -999.00,9,   0.00034,2,    0.000,2,    0.042,2,    0.000,2,  100.009,2
  096U20180111,  SR03,    22,  1,      6,      6,2,20180119,1720,-51.2612, 143.1325, 3740,   2851.0,   1.5901,  34.7386,2,  34.7392,2,    200.0,2,    199.3,2,    99.30,2,    30.89,2,     0.01,2,     2.12,2,    -0.01,2, -999.000,9, -999.000,9,     -999,9,   -999.0,9,   -999.0,9,-999.0000,9,  -999.00,  -999.00,9,   -999.0,9,   -999.0,  -999.00,9,   0.00031,2,   -0.001,2,    0.042,2,    0.000,2,  100.015,2
  096U20180111,  SR03,    22,  1,      5,      5,2,20180119,1720,-51.2612, 143.1325, 3740,   3099.9,   1.3176,  34.7277,2,  34.7286,2,    202.9,2,    202.3,2,   108.00,2,    31.32,2,     0.01,2,     2.16,2,    -0.01,2,    0.167,2,    0.076,2,     0.01,2,   -999.0,9,   -999.0,9,-999.0000,9,  -999.00,    19.15,2,   -999.0,9,   -999.0,  -999.00,9,   0.00031,2,   -0.001,2,    0.042,2,    0.000,2,  100.019,2
  096U20180111,  SR03,    22,  1,      4,      4,2,20180119,1720,-51.2612, 143.1325, 3740,   3350.1,   1.1378,  34.7190,2,  34.7191,2,    204.9,2,    205.8,2,   113.60,2,    31.62,2,     0.00,2,     2.18,2,    -0.01,2, -999.000,9, -999.000,9,     -999,9,   -999.0,9,   -999.0,9,-999.0000,9,  -999.00,  -999.00,9,   -999.0,9,   -999.0,  -999.00,9,   0.00030,2,   -0.001,2,    0.036,2,    0.000,2,  100.014,2
  096U20180111,  SR03,    22,  1,      3,      3,2,20180119,1720,-51.2612, 143.1325, 3740,   3589.4,   1.0513,  34.7142,2,  34.7130,2,    206.0,2,    206.0,2,   117.20,2,    31.76,2,     0.01,2,     2.19,2,    -0.01,2,    0.238,2,    0.107,2,    -0.04,2,   2261.6,2,   2368.1,2,-999.0000,9,  -999.00,    19.44,2,   -999.0,9,   -999.0,  -999.00,9,   0.00037,2,    0.002,2,    0.042,2,    0.000,2,   99.959,2
  096U20180111,  SR03,    22,  1,      2,      2,2,20180119,1720,-51.2612, 143.1325, 3740,   3799.9,   1.0487,  34.7131,2,  34.7155,2,    206.1,2,    206.2,2,   117.90,2,    31.74,2,     0.01,2,     2.20,2,    -0.01,2, -999.000,9, -999.000,9,     -999,9,   -999.0,9,   -999.0,9,-999.0000,9,  -999.00,  -999.00,9,   -999.0,9,   -999.0,  -999.00,9,   0.00042,2,    0.004,2,    0.042,2,    0.000,2,   99.891,2
  096U20180111,  SR03,    22,  1,      1,      1,2,20180119,1720,-51.2612, 143.1325, 3740,   3843.6,   1.0529,  34.7130,2,  34.7133,2,    205.8,2,    206.2,2,   118.00,2,    31.81,2,     0.01,2,     2.19,2,    -0.01,2,    0.250,2,    0.115,2,    -0.04,2,   2261.5,2,   2367.3,2,-999.0000,9,  -999.00,    19.72,2,   -999.0,9,   -999.0,  -999.00,9,   0.00042,2,    0.005,2,    0.042,2,    0.000,2,   99.885,2