BOTTLE,20230418CCHSIOENA
EXPOCODE,SECT_ID,STNNBR,CASTNO,SAMPNO,BTLNBR,BTLNBR_FLAG_W,DATE,TIME,LATITUDE,LONGITUDE,DEPTH,CTDPRS,CTDTMP,CTDSAL,CTDSAL_FLAG_W,SALNTY,SALNTY_FLAG_W,CTDOXY,CTDOXY_FLAG_W,OXYGEN,OXYGEN_FLAG_W,SILCAT,SILCAT_FLAG_W,NITRAT,NITRAT_FLAG_W,NITRIT,NITRIT_FLAG_W,PHSPHT,PHSPHT_FLAG_W,NH4,NH4_FLAG_W,CFC-11,CFC-11_FLAG_W,CFC-12,CFC-12_FLAG_W,SF6,SF6_FLAG_W,TCARBN,TCARBN_FLAG_W,ALKALI,ALKALI_FLAG_W,PH_TOT,PH_TOT_FLAG_W,PH_TMP,N2O,N2O_FLAG_W,DELC14,DELC14_FLAG_W,C14ERR,DELC13,DELC13_FLAG_W,CTDBETA700,CTDBETA700_FLAG_W,CTDBEAMCP,CTDBEAMCP_FLAG_W,CTDFLUOR,CTDFLUOR_FLAG_W,PAR,PAR_FLAG_W,CTDXMISS,CTDXMISS_FLAG_W
,,,,,,,,,,,METERS,DBAR,ITS-90,PSS-78,,PSS-78,,UMOL/KG,,UMOL/KG,,UMOL/KG,,UMOL/KG,,UMOL/KG,,UMOL/KG,,UMOL/KG,,PMOL/KG,,PMOL/KG,,FMOL/KG,,UMOL/KG,,UMOL/KG,,,,DEG C,NMOL/KG,,/MILLE,,/MILLE,/MILLE,,VOLTS,,1/M,,MG/M^3,,UMOL/M^2/SEC,,%TRANS,
  096U20180111,  SR03,   105,  1,     36,     36,2,20180216,0711,-57.5172, 132.0025, 4656,     11.0,   4.9541,  33.8538,2,-999.0000,9,    307.3,2,   -999.0,9,  -999.00,9,  -999.00,9,  -999.00,9,  -999.00,9,     -999,9, -999.000,9, -999.000,9,     -999,9,   -999.0,9,   -999.0,9,-999.0000,9,  -999.00,  -999.00,9,   -999.0,9,   -999.0,  -999.00,9,   0.00157,2,    0.139,2,    1.392,2,    0.732,2,   96.593,2
  096U20180111,  SR03,   105,  1,     35,     35,2,20180216,0711,-57.5172, 132.0025, 4656,     11.0,   4.9546,  33.8536,2,  33.8553,2,    307.3,2,    309.9,2,     1.70,2,    24.24,2,     0.26,2,     1.41,2,     0.07,2,    4.669,2,    2.562,2,     2.89,3,   2133.4,2,   2281.0,2,-999.0000,9,  -999.00,    13.01,2,   -999.0,9,   -999.0,  -999.00,9,   0.00148,2,    0.140,2,    1.410,2,    0.750,2,   96.549,2
  096U20180111,  SR03,   105,  1,     34,     34,2,20180216,0711,-57.5172, 132.0025, 4656,     31.9,   4.9443,  33.8579,2,-999.0000,9,    311.2,2,   -999.0,9,  -999.00,9,  -999.00,9,  -999.00,9,  -999.00,9,     -999,9, -999.000,9, -999.000,9,     -999,9,   -999.0,9,   -999.0,9,-999.0000,9,  -999.00,  -999.00,9,   -999.0,9,   -999.0,  -999.00,9,   0.00197,2,    0.157,2,    1.662,2,    0.240,2,   96.161,2
  096U20180111,  SR03,   105,  1,     33,     33,2,20180216,0711,-57.5172, 132.0025, 4656,     31.9,   4.9443,  33.8579,2,  33.8591,2,    311.2,2,    310.6,2,     1.80,2,    24.20,2,     0.26,2,     1.41,2,     0.07,2, -999.000,9, -999.000,9,     -999,9,   -999.0,9,   -999.0,9,-999.0000,9,  -999.00,  -999.00,9,   -999.0,9,   -999.0,  -999.00,9,   0.00188,2,    0.155,2,    1.614,2,    0.247,2,   96.198,2
  096U20180111,  SR03,   105,  1,     32,     32,2,20180216,0711,-57.5172, 132.0025, 4656,     66.6,   4.7089,  33.8689,2,-999.0000,9,    319.4,2,   -999.0,9,  -999.00,9,  -999.00,9,  -999.00,9,  -999.00,9,     -999,9, -999.000,9, -999.000,9,     -999,9,   -999.0,9,   -999.0,9,-999.0000,9,  -999.00,  -999.00,9,   -999.0,9,   -999.0,  -999.00,9,   0.00293,2,    0.251,2,    3.360,2,    0.031,2,   93.912,2
  096U20180111,  SR03,   105,  1,     31,     31,2,20180216,0711,-57.5172, 132.0025, 4656,     66.7,   4.7179,  33.8686,2,  33.8698,2,    319.4,2,    313.5,2,     1.60,2,    24.37,2,     0.26,2,     1.51,2,     0.14,2,    4.792,2,    2.605,2,     3.08,3,   2134.8,2,   2282.0,2,-999.0000,9,  -999.00,    13.78,2,   -999.0,9,   -999.0,  -999.00,9,   0.00320,2,    0.247,2,    3.300,2,    0.031,2,   94.003,2
  096U20180111,  SR03,   105,  1,     30,     30,2,20180216,0711,-57.5172, 132.0025, 4656,     96.6,   2.0075,  33.9039,2,  33.9034,2,    331.6,2,    329.4,2,    14.70,2,    26.37,2,     0.27,2,     1.94,2,     0.89,2, -999.000,9, -999.000,9,     -999,9,   -999.0,9,   -999.0,9,-999.0000,9,  -999.00,  -999.00,9,   -999.0,9,   -999.0,  -999.00,9,   0.00183,2,    0.136,2,    2.640,2,    0.000,2,   96.656,2
  096U20180111,  SR03,   105,  1,     29,     29,2,20180216,0711,-57.5172, 132.0025, 4656,    131.0,   1.4852,  33.9264,2,  33.9263,2,    328.4,2,    323.8,2,    19.60,2,    27.70,2,     0.25,2,     1.97,2,     0.49,2, -999.000,9, -999.000,9,     -999,9,   -999.0,9,   -999.0,9,-999.0000,9,  -999.00,  -999.00,9,   -999.0,9,   -999.0,  -999.00,9,   0.00092,2,    0.044,2,    0.396,2,    0.000,2,   98.897,2
  096U20180111,  SR03,   105,  1,     28,     28,2,20180216,0711,-57.5172, 132.0025, 4656,    191.6,   0.7865,  33.9525,2,  33.9522,2,    320.0,2,    321.9,2,    23.50,2,    29.19,2,     0.10,2,     2.00,2,        0,2,    5.531,2,    2.908,2,     3.54,3,   2172.5,2,   2285.4,2,-999.0000,9,  -999.00,    15.02,2,   -999.0,9,   -999.0,  -999.00,9,   0.00060,2,    0.021,2,    0.078,2,    0.000,2,   99.468,2
  096U20180111,  SR03,   105,  1,     27,     27,2,20180216,0711,-57.5172, 132.0025, 4656,    272.0,   1.9099,  34.1681,2,  34.1673,2,    247.6,2,    248.7,2,    40.30,2,    32.56,2,     0.00,2,     2.23,2,    -0.01,2, -999.000,9, -999.000,9,     -999,9,   -999.0,9,   -999.0,9,-999.0000,9,  -999.00,  -999.00,9,   -999.0,9,   -999.0,  -999.00,9,   0.00052,2,    0.018,2,    0.042,2,    0.000,2,   99.562,2
  096U20180111,  SR03,   105,  1,     26,     26,2,20180216,0711,-57.5172, 132.0025, 4656,    271.9,   1.9098,  34.1679,2,-999.0000,9,    247.6,2,   -999.0,9,  -999.00,9,  -999.00,9,  -999.00,9,  -999.00,9,     -999,9, -999.000,9, -999.000,9,     -999,9,   -999.0,9,   -999.0,9,-999.0000,9,  -999.00,  -999.00,9,   -999.0,9,   -999.0,  -999.00,9,   0.00056,2,    0.017,2,    0.048,2,    0.000,2,   99.575,2
  096U20180111,  SR03,   105,  1,     25,     25,2,20180216,0711,-57.5172, 132.0025, 4656,    372.1,   2.2904,  34.3156,2,  34.3159,2,    202.9,2,    206.8,2,    53.30,2,    34.37,2,     0.00,2,     2.35,2,    -0.01,2,    2.472,2,    1.290,2,        1,3,   2230.5,2,   2310.3,2,-999.0000,9,  -999.00,    23.31,2,   -999.0,9,   -999.0,  -999.00,9,   0.00048,2,    0.016,2,    0.036,2,    0.000,2,   99.589,2
  096U20180111,  SR03,   105,  1,     24,     24,2,20180216,0711,-57.5172, 132.0025, 4656,    482.1,   2.4414,  34.4378,2,  34.4382,2,    183.5,2,    182.4,2,    63.30,2,    35.01,2,     0.00,2,     2.40,2,     0.05,2, -999.000,9, -999.000,9,     -999,9,   -999.0,9,   -999.0,9,-999.0000,9,  -999.00,  -999.00,9,   -999.0,9,   -999.0,  -999.00,9,   0.00047,2,    0.012,2,    0.042,2,    0.000,2,   99.702,2
  096U20180111,  SR03,   105,  1,     23,     23,2,20180216,0711,-57.5172, 132.0025, 4656,    592.2,   2.4407,  34.5226,2,  34.5223,2,    175.8,2,    174.4,2,    69.10,2,    34.75,2,     0.00,2,     2.38,2,    -0.01,2, -999.000,9, -999.000,9,     -999,9,   -999.0,9,   -999.0,9,-999.0000,9,  -999.00,  -999.00,9,   -999.0,9,   -999.0,  -999.00,9,   0.00042,2,    0.010,2,    0.036,2,    0.000,2,   99.744,2
  096U20180111,  SR03,   105,  1,     22,     22,2,20180216,0711,-57.5172, 132.0025, 4656,    701.4,   2.3966,  34.5840,2,  34.5826,2,    173.4,2,    172.8,2,    72.90,2,    34.17,2,     0.00,2,     2.35,2,    -0.01,2,    0.726,2,    0.367,2,      0.1,3,   2253.0,2,   2333.8,2,-999.0000,9,  -999.00,    23.10,2,   -999.0,9,   -999.0,  -999.00,9,   0.00050,2,    0.010,2,    0.036,2,    0.000,2,   99.754,2
  096U20180111,  SR03,   105,  1,     21,     21,2,20180216,0711,-57.5172, 132.0025, 4656,    851.9,   2.3289,  34.6456,2,  34.6453,2,    175.3,2,    175.0,2,    75.80,2,    33.25,2,     0.00,2,     2.29,2,    -0.01,2, -999.000,9, -999.000,9,     -999,9,   -999.0,9,   -999.0,9,-999.0000,9,  -999.00,  -999.00,9,   -999.0,9,   -999.0,  -999.00,9,   0.00037,2,    0.006,2,    0.036,2,    0.000,2,   99.839,2
  096U20180111,  SR03,   105,  1,     20,     20,2,20180216,0711,-57.5172, 132.0025, 4656,   1011.8,   2.2393,  34.6912,2,  34.6910,2,    179.6,2,    180.0,2,    78.40,2,    32.29,2,     0.00,2,     2.22,2,    -0.01,2,    0.340,2,    0.178,2,     0.05,3,   2251.0,2,   2341.4,2,-999.0000,9,  -999.00,    21.26,2,   -999.0,9,   -999.0,  -999.00,9,   0.00037,2,    0.006,2,    0.036,2,    0.000,2,   99.862,2
  096U20180111,  SR03,   105,  1,     19,     19,2,20180216,0711,-57.5172, 132.0025, 4656,   1211.2,   2.1450,  34.7231,2,  34.7233,2,    185.8,2,    186.5,2,    80.30,2,    31.37,2,     0.00,2,     2.16,2,    -0.01,2, -999.000,9, -999.000,9,     -999,9,   -999.0,9,   -999.0,9,-999.0000,9,  -999.00,  -999.00,9,   -999.0,9,   -999.0,  -999.00,9,   0.00033,2,    0.005,2,    0.036,2,    0.000,2,   99.884,2
  096U20180111,  SR03,   105,  1,     18,     18,2,20180216,0711,-57.5172, 132.0025, 4656,   1421.2,   1.9805,  34.7414,2,  34.7427,2,    191.8,2,    192.1,2,    84.40,2,    30.93,2,     0.00,2,     2.12,2,    -0.01,2, -999.000,9, -999.000,9,     -999,9,   -999.0,9,   -999.0,9,-999.0000,9,  -999.00,  -999.00,9,   -999.0,9,   -999.0,  -999.00,9,   0.00037,2,    0.003,2,    0.036,2,    0.000,2,   99.917,2
  096U20180111,  SR03,   105,  1,     17,     17,2,20180216,0711,-57.5172, 132.0025, 4656,   1671.6,   1.7824,  34.7463,2,-999.0000,9,    196.2,2,   -999.0,9,  -999.00,9,  -999.00,9,  -999.00,9,  -999.00,9,     -999,9, -999.000,9, -999.000,9,     -999,9,   -999.0,9,   -999.0,9,-999.0000,9,  -999.00,  -999.00,9,   -999.0,9,   -999.0,  -999.00,9,   0.00030,2,    0.003,2,    0.036,2,    0.000,2,   99.929,2
  096U20180111,  SR03,   105,  1,     16,     16,2,20180216,0711,-57.5172, 132.0025, 4656,   1671.7,   1.7821,  34.7464,2,  34.7463,2,    196.2,2,    196.1,2,    89.70,2,    30.74,2,     0.00,2,     2.12,2,    -0.01,2,    0.175,2,    0.094,2,     0.01,3,   2249.1,2,   2351.3,2,-999.0000,9,  -999.00,    18.86,2,   -999.0,9,   -999.0,  -999.00,9,   0.00030,2,    0.003,2,    0.036,2,    0.000,2,   99.933,2
  096U20180111,  SR03,   105,  1,     15,     15,2,20180216,0711,-57.5172, 132.0025, 4656,   1921.1,   1.5507,  34.7418,2,  34.7412,2,    199.4,2,    199.6,2,    96.20,2,    30.94,2,     0.00,2,     2.13,2,    -0.01,2, -999.000,9, -999.000,9,     -999,9,   -999.0,9,   -999.0,9,-999.0000,9,  -999.00,  -999.00,9,   -999.0,9,   -999.0,  -999.00,9,   0.00029,2,    0.002,2,    0.036,2,    0.000,2,   99.945,2
  096U20180111,  SR03,   105,  1,     14,     14,2,20180216,0711,-57.5172, 132.0025, 4656,   2170.6,   1.3370,  34.7334,2,  34.7335,2,    202.1,2,    202.1,2,   102.60,2,    31.31,2,     0.00,2,     2.16,2,    -0.01,2,    0.188,2,    0.097,2,     0.02,3,   2254.3,6,   2357.1,6,-999.0000,9,  -999.00,    18.57,2,   -999.0,9,   -999.0,  -999.00,9,   0.00031,2,    0.002,2,    0.042,2,    0.000,2,   99.954,2
  096U20180111,  SR03,   105,  1,     13,     13,2,20180216,0711,-57.5172, 132.0025, 4656,   2321.6,   1.2072,  34.7271,2,  34.7273,2,    203.4,2,    203.5,2,   106.30,2,    31.54,2,     0.00,2,     2.18,2,    -0.01,2, -999.000,9, -999.000,9,     -999,9,   -999.0,9,   -999.0,9,-999.0000,9,  -999.00,  -999.00,9,   -999.0,9,   -999.0,  -999.00,9,   0.00027,2,    0.001,2,    0.036,2,    0.000,2,   99.969,2
  096U20180111,  SR03,   105,  1,     12,     12,2,20180216,0711,-57.5172, 132.0025, 4656,   2571.2,   1.0223,  34.7175,2,  34.7175,2,    205.7,2,    205.6,2,   112.00,2,    31.90,2,     0.00,2,     2.21,2,    -0.01,2, -999.000,9, -999.000,9,     -999,9,   -999.0,9,   -999.0,9,-999.0000,9,  -999.00,  -999.00,9,   -999.0,9,   -999.0,  -999.00,9,   0.00028,2,    0.001,2,    0.042,2,    0.000,2,   99.965,2
  096U20180111,  SR03,   105,  1,     11,     11,2,20180216,0711,-57.5172, 132.0025, 4656,   2821.8,   0.8113,  34.7062,2,  34.7059,2,    208.9,2,    208.7,2,   117.80,2,    32.27,2,     0.00,2,     2.23,2,    -0.01,2, -999.000,9, -999.000,9,     -999,9,   -999.0,9,   -999.0,9,-999.0000,9,  -999.00,  -999.00,9,   -999.0,9,   -999.0,  -999.00,9,   0.00027,2,    0.001,2,    0.036,2,    0.000,2,   99.977,2
  096U20180111,  SR03,   105,  1,     10,     10,2,20180216,0711,-57.5172, 132.0025, 4656,   3122.3,   0.6231,  34.6962,2,  34.6956,2,    213.3,2,    212.2,2,   122.70,2,    32.47,2,     0.00,2,     2.25,2,    -0.01,2,    0.410,2,    0.202,2,     0.06,3,   2259.3,2,   2358.5,2,-999.0000,9,  -999.00,    18.65,2,   -999.0,9,   -999.0,  -999.00,9,   0.00027,2,    0.001,2,    0.036,2,    0.000,2,   99.985,2
  096U20180111,  SR03,   105,  1,      9,      9,2,20180216,0711,-57.5172, 132.0025, 4656,   3423.0,   0.4502,  34.6877,2,-999.0000,9,    217.8,2,   -999.0,9,  -999.00,9,  -999.00,9,  -999.00,9,  -999.00,9,     -999,9, -999.000,9, -999.000,9,     -999,9,   -999.0,9,   -999.0,9,-999.0000,9,  -999.00,  -999.00,9,   -999.0,9,   -999.0,  -999.00,9,   0.00023,2,    0.001,2,    0.036,2,    0.000,2,   99.988,2
  096U20180111,  SR03,   105,  1,      8,      8,2,20180216,0711,-57.5172, 132.0025, 4656,   3422.9,   0.4504,  34.6876,2,  34.6878,2,    217.8,2,    216.7,2,   126.90,2,    32.65,2,     0.00,2,     2.26,2,    -0.01,2, -999.000,9, -999.000,9,     -999,9,   -999.0,9,   -999.0,9,-999.0000,9,  -999.00,  -999.00,9,   -999.0,9,   -999.0,  -999.00,9,   0.00024,2,    0.001,2,    0.036,2,    0.000,2,   99.981,2
  096U20180111,  SR03,   105,  1,      7,      7,2,20180216,0711,-57.5172, 132.0025, 4656,   3720.6,   0.3529,  34.6826,2,  34.6825,2,    220.6,2,    219.7,2,   129.80,2,    32.69,2,     0.00,2,     2.26,2,    -0.01,2, -999.000,9, -999.000,9,     -999,9,   -999.0,9,   -999.0,9,-999.0000,9,  -999.00,  -999.00,9,   -999.0,9,   -999.0,  -999.00,9,   0.00025,2,    0.001,2,    0.036,2,    0.000,2,   99.967,2
  096U20180111,  SR03,   105,  1,      6,      6,2,20180216,0711,-57.5172, 132.0025, 4656,   4020.7,   0.2608,  34.6775,2,  34.6773,2,    223.7,2,    223.2,2,   131.70,2,    32.69,2,     0.00,2,     2.27,2,    -0.01,2,    0.849,2,    0.410,2,        0,3,   2260.2,2,   2356.6,6,-999.0000,9,  -999.00,    18.28,2,   -999.0,9,   -999.0,  -999.00,9,   0.00025,2,    0.001,2,    0.036,2,    0.000,2,   99.971,2
  096U20180111,  SR03,   105,  1,      5,      5,2,20180216,0711,-57.5172, 132.0025, 4656,   4320.9,   0.1574,  34.6715,2,  34.6711,2,    227.8,2,    227.0,2,   133.50,2,    32.68,2,     0.00,2,     2.26,2,    -0.01,2, -999.000,9, -999.000,9,     -999,9,   -999.0,9,   -999.0,9,-999.0000,9,  -999.00,  -999.00,9,   -999.0,9,   -999.0,  -999.00,9,   0.00024,2,    0.002,2,    0.042,2,    0.000,2,   99.957,2
  096U20180111,  SR03,   105,  1,      4,      4,2,20180216,0711,-57.5172, 132.0025, 4656,   4622.2,   0.0780,  34.6646,2,  34.6640,2,    231.1,2,    230.7,2,   136.10,2,    32.66,2,     0.00,2,     2.26,2,    -0.01,2, -999.000,9, -999.000,9,     -999,9,   -999.0,9,   -999.0,9,-999.0000,9,  -999.00,  -999.00,9,   -999.0,9,   -999.0,  -999.00,9,   0.00028,2,    0.004,2,    0.042,2,    0.000,2,   99.896,2
  096U20180111,  SR03,   105,  1,      3,      3,2,20180216,0711,-57.5172, 132.0025, 4656,   4711.7,   0.0627,  34.6626,2,  34.6627,2,    231.4,2,    231.4,2,   137.60,2,    32.64,2,     0.00,2,     2.27,2,    -0.01,2,    1.480,2,    0.744,2,     0.52,3,   -999.0,9,   -999.0,9,-999.0000,9,  -999.00,    18.79,2,   -999.0,9,   -999.0,  -999.00,9,   0.00030,2,    0.007,2,    0.042,2,    0.000,2,   99.830,2
  096U20180111,  SR03,   105,  1,      2,      2,2,20180216,0711,-57.5172, 132.0025, 4656,   4756.0,   0.0634,  34.6620,2,-999.0000,9,    231.7,2,   -999.0,9,  -999.00,9,  -999.00,9,  -999.00,9,  -999.00,9,     -999,9, -999.000,9, -999.000,9,     -999,9,   -999.0,9,   -999.0,9,-999.0000,9,  -999.00,  -999.00,9,   -999.0,9,   -999.0,  -999.00,9,   0.00031,2,    0.007,2,    0.042,2,    0.000,2,   99.824,2
  096U20180111,  SR03,   105,  1,      1,      1,2,20180216,0711,-57.5172, 132.0025, 4656,   4755.9,   0.0633,  34.6622,2,  34.6616,2,    231.7,2,    231.8,2,   138.10,2,    32.66,2,     0.00,2,     2.26,2,    -0.01,2,    1.506,2,    0.760,2,     0.35,3,   2259.2,2,   2355.5,2,-999.0000,9,  -999.00,    18.62,2,   -999.0,9,   -999.0,  -999.00,9,   0.00031,2,    0.007,2,    0.042,2,    0.000,2,   99.821,2