BOTTLE,20230418CCHSIOENA
EXPOCODE,SECT_ID,STNNBR,CASTNO,SAMPNO,BTLNBR,BTLNBR_FLAG_W,DATE,TIME,LATITUDE,LONGITUDE,DEPTH,CTDPRS,CTDTMP,CTDSAL,CTDSAL_FLAG_W,SALNTY,SALNTY_FLAG_W,CTDOXY,CTDOXY_FLAG_W,OXYGEN,OXYGEN_FLAG_W,SILCAT,SILCAT_FLAG_W,NITRAT,NITRAT_FLAG_W,NITRIT,NITRIT_FLAG_W,PHSPHT,PHSPHT_FLAG_W,NH4,NH4_FLAG_W,CFC-11,CFC-11_FLAG_W,CFC-12,CFC-12_FLAG_W,SF6,SF6_FLAG_W,TCARBN,TCARBN_FLAG_W,ALKALI,ALKALI_FLAG_W,PH_TOT,PH_TOT_FLAG_W,PH_TMP,N2O,N2O_FLAG_W,DELC14,DELC14_FLAG_W,C14ERR,DELC13,DELC13_FLAG_W,CTDBETA700,CTDBETA700_FLAG_W,CTDBEAMCP,CTDBEAMCP_FLAG_W,CTDFLUOR,CTDFLUOR_FLAG_W,PAR,PAR_FLAG_W,CTDXMISS,CTDXMISS_FLAG_W
,,,,,,,,,,,METERS,DBAR,ITS-90,PSS-78,,PSS-78,,UMOL/KG,,UMOL/KG,,UMOL/KG,,UMOL/KG,,UMOL/KG,,UMOL/KG,,UMOL/KG,,PMOL/KG,,PMOL/KG,,FMOL/KG,,UMOL/KG,,UMOL/KG,,,,DEG C,NMOL/KG,,/MILLE,,/MILLE,/MILLE,,VOLTS,,1/M,,MG/M^3,,UMOL/M^2/SEC,,%TRANS,
  096U20180111,  SR03,    51,  1,     36,     36,2,20180129,2113,-63.8647, 139.8657, 3686,     10.6,   0.4445,  33.8060,2,-999.0000,9,    337.4,2,   -999.0,9,  -999.00,9,  -999.00,9,  -999.00,9,  -999.00,9,     -999,9, -999.000,9, -999.000,9,     -999,9,   -999.0,9,   -999.0,9,-999.0000,9,  -999.00,  -999.00,9,   -999.0,9,   -999.0,  -999.00,9,   0.00147,2,    0.157,2,    0.288,2,   56.300,2,   96.155,2
  096U20180111,  SR03,    51,  1,     35,     35,2,20180129,2113,-63.8647, 139.8657, 3686,     10.4,   0.4430,  33.8059,2,  33.8063,2,    337.4,2,    337.8,2,    36.50,2,    26.66,2,     0.21,2,     1.79,2,     0.55,2,    5.172,2,    2.856,2,     3.17,2,   2163.6,2,   2287.1,2,-999.0000,9,  -999.00,    14.68,2,   -999.0,9,   -999.0,  -999.00,9,   0.00154,2,    0.152,2,    0.330,2,   57.300,2,   96.272,2
  096U20180111,  SR03,    51,  1,     34,     34,2,20180129,2113,-63.8647, 139.8657, 3686,     51.0,   0.2963,  33.8115,2,-999.0000,9,    340.7,2,   -999.0,9,  -999.00,9,  -999.00,9,  -999.00,9,  -999.00,9,     -999,9, -999.000,9, -999.000,9,     -999,9,   -999.0,9,   -999.0,9,-999.0000,9,  -999.00,  -999.00,9,   -999.0,9,   -999.0,  -999.00,9,   0.00171,2,    0.160,2,    1.128,2,   14.700,2,   96.078,2
  096U20180111,  SR03,    51,  1,     33,     33,2,20180129,2113,-63.8647, 139.8657, 3686,     51.0,   0.3007,  33.8113,2,  33.8134,2,    340.6,2,    338.3,2,    37.50,2,    26.77,2,     0.20,2,     1.80,2,     0.55,2, -999.000,9, -999.000,9,     -999,9,   -999.0,9,   -999.0,9,-999.0000,9,  -999.00,  -999.00,9,   -999.0,9,   -999.0,  -999.00,9,   0.00157,2,    0.161,2,    1.194,2,   14.700,2,   96.051,2
  096U20180111,  SR03,    51,  1,     32,     32,2,20180129,2113,-63.8647, 139.8657, 3686,     91.1,  -0.9428,  34.1722,2,  34.1755,2,    297.1,2,    295.1,2,    56.70,2,    30.13,2,     0.15,2,     2.11,2,      0.4,2,    3.966,2,    2.164,2,     2.52,2,   2208.0,2,   2311.9,2,-999.0000,9,  -999.00,    17.93,2,   -999.0,9,   -999.0,  -999.00,9,   0.00108,2,    0.089,2,    1.140,2,    2.320,2,   97.810,2
  096U20180111,  SR03,    51,  1,     31,     31,2,20180129,2113,-63.8647, 139.8657, 3686,    101.2,  -1.0675,  34.2009,2,-999.0000,9,    285.7,2,   -999.0,9,  -999.00,9,  -999.00,9,  -999.00,9,  -999.00,9,     -999,9, -999.000,9, -999.000,9,     -999,9,   -999.0,9,   -999.0,9,-999.0000,9,  -999.00,  -999.00,9,   -999.0,9,   -999.0,  -999.00,9,   0.00094,2,    0.062,2,    0.942,2,    1.340,2,   98.467,2
  096U20180111,  SR03,    51,  1,     30,     30,2,20180129,2113,-63.8647, 139.8657, 3686,    101.0,  -1.0640,  34.2017,2,  34.2128,2,    285.7,2,    287.9,2,    59.10,2,    30.63,2,     0.15,2,     2.14,2,     0.33,2, -999.000,9, -999.000,9,     -999,9,   -999.0,9,   -999.0,9,-999.0000,9,  -999.00,  -999.00,9,   -999.0,9,   -999.0,  -999.00,9,   0.00087,2,    0.062,2,    0.840,2,    1.390,2,   98.469,2
  096U20180111,  SR03,    51,  1,     29,     29,2,20180129,2113,-63.8647, 139.8657, 3686,    150.7,   0.3070,  34.4589,2,  34.4707,2,    225.4,2,    224.6,2,    72.70,2,    32.83,2,     0.05,2,     2.27,2,        0,2,    2.201,2,    1.213,2,     1.34,2,   2241.5,2,   2328.8,2,-999.0000,9,  -999.00,    20.21,2,   -999.0,9,   -999.0,  -999.00,9,   0.00049,2,    0.013,2,    0.156,2,    0.132,2,   99.667,2
  096U20180111,  SR03,    51,  1,     28,     28,2,20180129,2113,-63.8647, 139.8657, 3686,    200.8,   1.0401,  34.5713,2,-999.0000,9,    198.5,2,   -999.0,9,  -999.00,9,  -999.00,9,  -999.00,9,  -999.00,9,     -999,9, -999.000,9, -999.000,9,     -999,9,   -999.0,9,   -999.0,9,-999.0000,9,  -999.00,  -999.00,9,   -999.0,9,   -999.0,  -999.00,9,   0.00053,2,    0.011,2,    0.066,2,    0.008,2,   99.722,2
  096U20180111,  SR03,    51,  1,     27,     27,2,20180129,2113,-63.8647, 139.8657, 3686,    200.6,   1.0300,  34.5704,2,  34.5713,2,    198.5,2,    204.4,2,    78.20,2,    32.95,2,     0.03,2,     2.28,2,     0.02,2, -999.000,9, -999.000,9,     -999,9,   -999.0,9,   -999.0,9,-999.0000,9,  -999.00,  -999.00,9,   -999.0,9,   -999.0,  -999.00,9,   0.00051,2,    0.011,2,    0.072,2,    0.011,2,   99.728,2
  096U20180111,  SR03,    51,  1,     26,     26,2,20180129,2113,-63.8647, 139.8657, 3686,    301.0,   1.4723,  34.6638,2,  34.6624,2,    195.0,2,    194.2,2,    82.90,2,    32.36,2,     0.01,2,     2.23,2,        0,2,    0.903,2,    0.501,2,     0.47,2,   2251.0,2,   2343.3,2,-999.0000,9,  -999.00,    20.91,2,   -999.0,9,   -999.0,  -999.00,9,   0.00050,2,    0.007,2,    0.042,2,    0.000,2,   99.824,2
  096U20180111,  SR03,    51,  1,     25,     25,2,20180129,2113,-63.8647, 139.8657, 3686,    400.5,   1.3551,  34.6785,2,  34.6781,2,    202.7,2,    199.2,2,    84.90,2,    31.90,2,     0.01,2,     2.20,2,    -0.01,2, -999.000,9, -999.000,9,     -999,9,   -999.0,9,   -999.0,9,-999.0000,9,  -999.00,  -999.00,9,   -999.0,9,   -999.0,  -999.00,9,   0.00045,2,    0.004,2,    0.042,2,    0.000,2,   99.892,2
  096U20180111,  SR03,    51,  1,     24,     24,2,20180129,2113,-63.8647, 139.8657, 3686,    501.3,   1.1852,  34.6774,2,-999.0000,9,    196.9,2,   -999.0,9,  -999.00,9,  -999.00,9,  -999.00,9,  -999.00,9,     -999,9, -999.000,9, -999.000,9,     -999,9,   -999.0,9,   -999.0,9,-999.0000,9,  -999.00,  -999.00,9,   -999.0,9,   -999.0,  -999.00,9,   0.00041,2,    0.004,2,    0.042,2,    0.000,2,   99.912,2
  096U20180111,  SR03,    51,  1,     23,     23,2,20180129,2113,-63.8647, 139.8657, 3686,    501.0,   1.1875,  34.6777,2,  34.7278,4,    196.8,2,    205.0,2,    85.90,2,    31.61,2,     0.01,2,     2.19,2,    -0.01,2,    0.991,2,    0.542,2,      0.5,2,   2250.4,6,   2346.0,6,-999.0000,9,  -999.00,    20.06,2,   -999.0,9,   -999.0,  -999.00,9,   0.00040,2,    0.003,2,    0.048,2,    0.000,2,   99.921,2
  096U20180111,  SR03,    51,  1,     22,     22,2,20180129,2113,-63.8647, 139.8657, 3686,    650.4,   1.2869,  34.7060,2,  34.7063,2,    197.8,2,    202.7,2,    89.80,2,    31.30,2,     0.01,2,     2.16,2,    -0.01,2, -999.000,9, -999.000,9,     -999,9,   -999.0,9,   -999.0,9,-999.0000,9,  -999.00,  -999.00,9,   -999.0,9,   -999.0,  -999.00,9,   0.00032,2,   -0.001,2,    0.036,2,    0.000,2,  100.032,2
  096U20180111,  SR03,    51,  1,     21,     21,2,20180129,2113,-63.8647, 139.8657, 3686,    800.8,   1.2856,  34.7178,2,  34.7171,2,    202.9,2,    202.5,2,    93.50,2,    31.17,2,     0.00,2,     2.16,2,    -0.01,2, -999.000,9, -999.000,9,     -999,9,   2251.1,2,   2352.0,2,-999.0000,9,  -999.00,  -999.00,9,   -999.0,9,   -999.0,  -999.00,9,   0.00032,2,   -0.002,2,    0.036,2,    0.000,2,  100.039,2
  096U20180111,  SR03,    51,  1,     20,     20,2,20180129,2113,-63.8647, 139.8657, 3686,   1002.6,   1.2164,  34.7254,2,-999.0000,9,    201.8,2,   -999.0,9,  -999.00,9,  -999.00,9,  -999.00,9,  -999.00,9,     -999,9, -999.000,9, -999.000,9,     -999,9,   -999.0,9,   -999.0,9,-999.0000,9,  -999.00,  -999.00,9,   -999.0,9,   -999.0,  -999.00,9,   0.00044,2,   -0.002,2,    0.036,2,    0.000,2,  100.060,2
  096U20180111,  SR03,    51,  1,     19,     19,2,20180129,2113,-63.8647, 139.8657, 3686,   1002.2,   1.2166,  34.7254,2,  34.7249,2,    201.8,2,    202.5,2,    99.40,2,    31.24,2,     0.00,2,     2.16,2,    -0.01,2,    0.392,2,    0.215,2,     0.16,2,   -999.0,9,   -999.0,9,-999.0000,9,  -999.00,    18.50,2,   -999.0,9,   -999.0,  -999.00,9,   0.00035,2,   -0.003,2,    0.036,2,    0.000,2,  100.073,2
  096U20180111,  SR03,    51,  1,     18,     18,2,20180129,2113,-63.8647, 139.8657, 3686,   1250.4,   1.0120,  34.7162,2,  34.7168,2,    205.5,2,    206.0,2,   104.80,2,    31.50,2,     0.00,2,     2.18,2,    -0.01,2, -999.000,9, -999.000,9,     -999,9,   2254.8,2,   2357.2,2,-999.0000,9,  -999.00,  -999.00,9,   -999.0,9,   -999.0,  -999.00,9,   0.00029,2,   -0.003,2,    0.036,2,    0.000,2,  100.079,2
  096U20180111,  SR03,    51,  1,     17,     17,2,20180129,2113,-63.8647, 139.8657, 3686,   1501.1,   0.8003,  34.7041,2,-999.0000,9,    208.8,2,   -999.0,9,  -999.00,9,  -999.00,9,  -999.00,9,  -999.00,9,     -999,9, -999.000,9, -999.000,9,     -999,9,   -999.0,9,   -999.0,9,-999.0000,9,  -999.00,  -999.00,9,   -999.0,9,   -999.0,  -999.00,9,   0.00027,2,   -0.004,2,    0.036,2,    0.000,2,  100.096,2
  096U20180111,  SR03,    51,  1,     16,     16,2,20180129,2113,-63.8647, 139.8657, 3686,   1501.0,   0.7995,  34.7041,2,  34.7042,2,    209.0,2,    209.4,2,   109.60,2,    31.85,2,     0.00,2,     2.21,2,    -0.01,2,    0.455,2,    0.245,2,     0.06,2,   2256.6,2,   2359.2,6,-999.0000,9,  -999.00,    18.20,2,   -999.0,9,   -999.0,  -999.00,9,   0.00027,2,   -0.004,2,    0.036,2,    0.000,2,  100.087,2
  096U20180111,  SR03,    51,  1,     15,     15,2,20180129,2113,-63.8647, 139.8657, 3686,   1750.5,   0.6307,  34.6982,2,-999.0000,9,    211.3,2,    210.7,2,   116.40,2,    32.18,2,     0.00,2,     2.23,2,    -0.01,2, -999.000,9, -999.000,9,     -999,9,   -999.0,9,   -999.0,9,-999.0000,9,  -999.00,  -999.00,9,   -999.0,9,   -999.0,  -999.00,9,   0.00025,2,   -0.004,2,    0.036,2,    0.000,2,  100.113,2
  096U20180111,  SR03,    51,  1,     14,     14,2,20180129,2113,-63.8647, 139.8657, 3686,   2000.6,   0.4471,  34.6867,2,  34.6983,4,    214.8,2,   -999.0,9,  -999.00,9,  -999.00,9,  -999.00,9,  -999.00,9,     -999,9, -999.000,9, -999.000,9,     -999,9,   -999.0,9,   -999.0,9,-999.0000,9,  -999.00,  -999.00,9,   -999.0,9,   -999.0,  -999.00,9,   0.00027,2,   -0.004,2,    0.036,2,    0.000,2,  100.112,2
  096U20180111,  SR03,    51,  1,     13,     13,2,20180129,2113,-63.8647, 139.8657, 3686,   2000.4,   0.4474,  34.6867,2,  34.6869,2,    214.8,2,    215.0,2,   117.60,2,    32.27,2,     0.00,2,     2.24,2,    -0.01,2,    0.635,2,    0.343,2,     0.19,2,   2258.9,2,   2358.1,2,-999.0000,9,  -999.00,    18.04,2,   -999.0,9,   -999.0,  -999.00,9,   0.00026,2,   -0.004,2,    0.036,2,    0.000,2,  100.112,2
  096U20180111,  SR03,    51,  1,     12,     12,2,20180129,2113,-63.8647, 139.8657, 3686,   2251.0,   0.3189,  34.6820,2,  34.6829,2,    218.5,2,    218.3,2,   119.60,2,    32.34,2,     0.00,2,     2.25,2,    -0.01,2, -999.000,9, -999.000,9,     -999,9,   -999.0,9,   -999.0,9,-999.0000,9,  -999.00,  -999.00,9,   -999.0,9,   -999.0,  -999.00,9,   0.00028,2,   -0.005,2,    0.036,2,    0.000,2,  100.118,2
  096U20180111,  SR03,    51,  1,     11,     11,2,20180129,2113,-63.8647, 139.8657, 3686,   2501.1,   0.2399,  34.6808,2,-999.0000,9,    220.7,2,   -999.0,9,  -999.00,9,  -999.00,9,  -999.00,9,  -999.00,9,     -999,9, -999.000,9, -999.000,9,     -999,9,   -999.0,9,   -999.0,9,-999.0000,9,  -999.00,  -999.00,9,   -999.0,9,   -999.0,  -999.00,9,   0.00024,2,   -0.005,2,    0.036,2,    0.000,2,  100.122,2
  096U20180111,  SR03,    51,  1,     10,     10,2,20180129,2113,-63.8647, 139.8657, 3686,   2501.0,   0.2396,  34.6807,2,  34.6807,2,    220.7,2,    220.8,2,   125.20,2,    32.41,2,     0.00,2,     2.25,2,    -0.01,2,    0.767,2,    0.401,2,     0.19,2,   2258.7,2,   2359.1,2,-999.0000,9,  -999.00,    18.53,2,   -999.0,9,   -999.0,  -999.00,9,   0.00025,2,   -0.004,2,    0.036,2,    0.000,2,  100.110,2
  096U20180111,  SR03,    51,  1,      9,      9,2,20180129,2113,-63.8647, 139.8657, 3686,   2751.1,   0.1348,  34.6752,2,  34.6753,2,    225.0,2,    224.6,2,   124.50,2,    32.37,2,     0.01,2,     2.25,2,    -0.01,2,    0.998,2,    0.521,2,     0.23,2,   2258.4,2,   2358.0,2,-999.0000,9,  -999.00,    17.94,2,   -999.0,9,   -999.0,  -999.00,9,   0.00024,2,   -0.005,2,    0.036,2,    0.000,2,  100.116,2
  096U20180111,  SR03,    51,  1,      8,      8,2,20180129,2113,-63.8647, 139.8657, 3686,   3000.9,   0.0468,  34.6709,2,-999.0000,9,    228.2,2,   -999.0,9,  -999.00,9,  -999.00,9,  -999.00,9,  -999.00,9,     -999,9, -999.000,9, -999.000,9,     -999,9,   -999.0,9,   -999.0,9,-999.0000,9,  -999.00,  -999.00,9,   -999.0,9,   -999.0,  -999.00,9,   0.00024,2,   -0.004,2,    0.036,2,    0.000,2,  100.105,2
  096U20180111,  SR03,    51,  1,      7,      7,2,20180129,2113,-63.8647, 139.8657, 3686,   3000.8,   0.0470,  34.6709,2,  34.6701,2,    228.2,2,    227.9,2,   127.20,2,    32.30,2,     0.01,2,     2.25,2,    -0.01,2,    1.154,2,    0.601,2,     0.27,2,   2257.5,2,   2358.5,2,-999.0000,9,  -999.00,    18.29,2,   -999.0,9,   -999.0,  -999.00,9,   0.00024,2,   -0.004,2,    0.036,2,    0.000,2,  100.106,2
  096U20180111,  SR03,    51,  1,      6,      6,2,20180129,2113,-63.8647, 139.8657, 3686,   3276.0,  -0.0694,  34.6625,2,  34.6619,2,    233.5,2,    233.3,2,   122.30,2,    32.29,2,     0.01,2,     2.25,2,    -0.01,2,    1.526,2,    0.807,2,     0.62,2,   2257.3,2,   2356.3,2,-999.0000,9,  -999.00,    17.79,2,   -999.0,9,   -999.0,  -999.00,9,   0.00027,2,   -0.003,2,    0.036,2,    0.000,2,  100.080,2
  096U20180111,  SR03,    51,  1,      5,      5,2,20180129,2113,-63.8647, 139.8657, 3686,   3580.9,  -0.2199,  34.6512,2,-999.0000,9,    241.2,2,   -999.0,9,  -999.00,9,  -999.00,9,  -999.00,9,  -999.00,9,     -999,9, -999.000,9, -999.000,9,     -999,9,   -999.0,9,   -999.0,9,-999.0000,9,  -999.00,  -999.00,9,   -999.0,9,   -999.0,  -999.00,9,   0.00037,2,    0.004,2,    0.036,2,    0.000,2,   99.910,2
  096U20180111,  SR03,    51,  1,      4,      4,2,20180129,2113,-63.8647, 139.8657, 3686,   3580.9,  -0.2199,  34.6512,2,  34.6504,2,    241.2,2,    241.8,2,   107.70,2,    31.99,2,     0.01,2,     2.23,2,    -0.01,2,    2.084,2,    1.123,2,     1.08,2,   2253.4,2,   2353.0,2,-999.0000,9,  -999.00,    18.52,2,   -999.0,9,   -999.0,  -999.00,9,   0.00035,2,    0.003,2,    0.036,2,    0.000,2,   99.922,2
  096U20180111,  SR03,    51,  1,      3,      3,2,20180129,2113,-63.8647, 139.8657, 3686,   3710.5,  -0.3274,  34.6475,2,  34.6465,2,    247.2,2,    246.9,2,   101.00,2,    31.82,2,     0.02,2,     2.22,2,        0,2,    2.347,2,    1.274,2,     1.23,2,   2252.3,6,   2350.7,6,-999.0000,9,  -999.00,    18.11,2,   -999.0,9,   -999.0,  -999.00,9,   0.00069,2,    0.020,2,    0.030,2,    0.000,2,   99.503,2
  096U20180111,  SR03,    51,  1,      2,      2,2,20180129,2113,-63.8647, 139.8657, 3686,   3760.3,  -0.3222,  34.6489,2,-999.0000,9,    247.2,2,   -999.0,9,  -999.00,9,  -999.00,9,  -999.00,9,  -999.00,9,     -999,9, -999.000,9, -999.000,9,     -999,9,   -999.0,9,   -999.0,9,-999.0000,9,  -999.00,  -999.00,9,   -999.0,9,   -999.0,  -999.00,9,   0.00099,2,    0.028,2,    0.030,2,    0.000,2,   99.310,2
  096U20180111,  SR03,    51,  1,      1,      1,2,20180129,2113,-63.8647, 139.8657, 3686,   3760.3,  -0.3222,  34.6488,2,  34.6481,2,    247.2,2,    246.7,2,   100.80,2,    31.83,2,     0.02,2,     2.22,2,        0,2,    2.343,2,    1.283,2,     1.25,2,   2251.6,2,   2350.7,2,-999.0000,9,  -999.00,    17.97,2,   -999.0,9,   -999.0,  -999.00,9,   0.00090,2,    0.027,2,    0.036,2,    0.000,2,   99.315,2