BOTTLE,20230418CCHSIOENA
EXPOCODE,SECT_ID,STNNBR,CASTNO,SAMPNO,BTLNBR,BTLNBR_FLAG_W,DATE,TIME,LATITUDE,LONGITUDE,DEPTH,CTDPRS,CTDTMP,CTDSAL,CTDSAL_FLAG_W,SALNTY,SALNTY_FLAG_W,CTDOXY,CTDOXY_FLAG_W,OXYGEN,OXYGEN_FLAG_W,SILCAT,SILCAT_FLAG_W,NITRAT,NITRAT_FLAG_W,NITRIT,NITRIT_FLAG_W,PHSPHT,PHSPHT_FLAG_W,NH4,NH4_FLAG_W,CFC-11,CFC-11_FLAG_W,CFC-12,CFC-12_FLAG_W,SF6,SF6_FLAG_W,TCARBN,TCARBN_FLAG_W,ALKALI,ALKALI_FLAG_W,PH_TOT,PH_TOT_FLAG_W,PH_TMP,N2O,N2O_FLAG_W,DELC14,DELC14_FLAG_W,C14ERR,DELC13,DELC13_FLAG_W,CTDBETA700,CTDBETA700_FLAG_W,CTDBEAMCP,CTDBEAMCP_FLAG_W,CTDFLUOR,CTDFLUOR_FLAG_W,PAR,PAR_FLAG_W,CTDXMISS,CTDXMISS_FLAG_W
,,,,,,,,,,,METERS,DBAR,ITS-90,PSS-78,,PSS-78,,UMOL/KG,,UMOL/KG,,UMOL/KG,,UMOL/KG,,UMOL/KG,,UMOL/KG,,UMOL/KG,,PMOL/KG,,PMOL/KG,,FMOL/KG,,UMOL/KG,,UMOL/KG,,,,DEG C,NMOL/KG,,/MILLE,,/MILLE,/MILLE,,VOLTS,,1/M,,MG/M^3,,UMOL/M^2/SEC,,%TRANS,
  096U20180111,  SR03,    83,  1,     36,     36,2,20180208,0922,-62.6002, 142.2005, 4090,     10.8,   1.2808,  33.7579,2,-999.0000,9,    340.5,2,   -999.0,9,  -999.00,9,  -999.00,9,  -999.00,9,  -999.00,9,     -999,9, -999.000,9, -999.000,9,     -999,9,   -999.0,9,   -999.0,9,-999.0000,9,  -999.00,  -999.00,9,   -999.0,9,   -999.0,  -999.00,9,   0.00442,2,    0.424,2,    4.734,2,    0.693,2,   89.948,2
  096U20180111,  SR03,    83,  1,     35,     35,2,20180208,0922,-62.6002, 142.2005, 4090,     10.8,   1.2798,  33.7580,2,  33.7582,2,    340.5,2,    343.0,2,    29.00,2,    25.78,2,     0.25,2,     1.58,2,     0.03,2,    5.450,2,    2.919,2,     3.72,2,   2150.9,2,   2284.2,2,-999.0000,9,  -999.00,    15.62,2,   -999.0,9,   -999.0,  -999.00,9,   0.00488,2,    0.423,2,    4.734,2,    0.674,2,   89.972,2
  096U20180111,  SR03,    83,  1,     34,     34,2,20180208,0922,-62.6002, 142.2005, 4090,     24.8,   1.1858,  33.7698,2,  33.7721,2,    343.8,2,    343.4,2,    29.00,2,    25.67,2,     0.24,2,     1.58,2,     0.03,2,    5.422,2,    2.861,2,     3.67,2,   2153.1,6,   2284.4,6,-999.0000,9,  -999.00,    16.43,2,   -999.0,9,   -999.0,  -999.00,9,   0.00450,2,    0.413,2,    4.962,2,    0.041,2,   90.199,2
  096U20180111,  SR03,    83,  1,     33,     33,2,20180208,0922,-62.6002, 142.2005, 4090,     39.7,   1.1548,  33.7730,2,  33.7752,2,    343.1,2,    342.5,2,    29.40,2,    25.74,2,     0.24,2,     1.59,2,     0.05,2, -999.000,9, -999.000,9,     -999,9,   -999.0,9,   -999.0,9,-999.0000,9,  -999.00,  -999.00,9,   -999.0,9,   -999.0,  -999.00,9,   0.00441,2,    0.399,2,    4.806,2,    0.000,2,   90.497,2
  096U20180111,  SR03,    83,  1,     32,     32,2,20180208,0922,-62.6002, 142.2005, 4090,     55.0,   0.8935,  33.8086,2,  33.8234,2,    333.4,2,    331.6,2,    33.30,2,    26.55,2,     0.23,2,     1.75,2,     0.32,2,    5.242,6,    2.797,6,     3.37,6,   2165.8,2,   2288.2,2,-999.0000,9,  -999.00,    16.81,6,   -999.0,9,   -999.0,  -999.00,9,   0.00687,2,    0.525,2,    6.540,2,    0.000,2,   87.702,2
  096U20180111,  SR03,    83,  1,     31,     31,2,20180208,0922,-62.6002, 142.2005, 4090,     78.3,  -0.0802,  34.1336,2,  34.1465,2,    262.4,2,    276.6,2,    55.50,2,    30.76,2,     0.16,2,     2.16,2,     0.49,2, -999.000,9, -999.000,9,     -999,9,   -999.0,9,   -999.0,9,-999.0000,9,  -999.00,  -999.00,9,   -999.0,9,   -999.0,  -999.00,9,   0.00166,2,    0.127,2,    1.488,2,    0.000,2,   96.863,2
  096U20180111,  SR03,    83,  1,     30,     30,2,20180208,0922,-62.6002, 142.2005, 4090,    110.3,   0.8003,  34.4261,2,  34.4380,2,    208.5,2,    210.4,2,    70.90,2,    33.69,2,     0.17,2,     2.32,2,        0,2,    2.057,2,    1.111,2,     1.17,2,   2244.1,2,   2324.1,2,-999.0000,9,  -999.00,    22.88,2,   -999.0,9,   -999.0,  -999.00,9,   0.00065,2,    0.033,2,    0.288,2,    0.000,2,   99.173,2
  096U20180111,  SR03,    83,  1,     29,     29,2,20180208,0922,-62.6002, 142.2005, 4090,    150.9,   1.6314,  34.5599,2,  34.5627,2,    184.5,2,    183.7,2,    77.20,2,    34.21,2,     0.02,2,     2.34,2,        0,2,    1.160,2,    0.616,2,     0.71,2,   2253.9,2,   2332.1,2,-999.0000,9,  -999.00,    24.21,2,   -999.0,9,   -999.0,  -999.00,9,   0.00055,2,    0.013,2,    0.084,2,    0.000,2,   99.666,2
  096U20180111,  SR03,    83,  1,     28,     28,2,20180208,0922,-62.6002, 142.2005, 4090,    210.1,   1.8453,  34.6168,2,  34.6179,2,    177.2,2,    178.0,2,    80.20,2,    33.79,2,     0.01,2,     2.31,2,    -0.01,2,    0.829,2,    0.440,2,     0.28,2,   2255.8,2,   2336.0,2,-999.0000,9,  -999.00,    24.34,2,   -999.0,9,   -999.0,  -999.00,9,   0.00049,2,    0.013,2,    0.036,2,    0.000,2,   99.677,2
  096U20180111,  SR03,    83,  1,     27,     27,2,20180208,0922,-62.6002, 142.2005, 4090,    271.1,   1.8645,  34.6491,2,-999.0000,9,    175.9,2,   -999.0,9,  -999.00,9,  -999.00,9,  -999.00,9,  -999.00,9,     -999,9, -999.000,9, -999.000,9,     -999,9,   -999.0,9,   -999.0,9,-999.0000,9,  -999.00,  -999.00,9,   -999.0,9,   -999.0,  -999.00,9,   0.00042,2,    0.009,2,    0.036,2,    0.000,2,   99.782,2
  096U20180111,  SR03,    83,  1,     26,     26,2,20180208,0922,-62.6002, 142.2005, 4090,    271.0,   1.8662,  34.6494,2,  34.6493,2,    175.9,2,    179.1,2,    81.40,2,    33.27,2,     0.01,2,     2.28,2,    -0.01,2,    0.690,2,    0.366,2,     0.23,2,   2256.6,2,   2338.9,2,-999.0000,9,  -999.00,    23.67,2,   -999.0,9,   -999.0,  -999.00,9,   0.00042,2,    0.009,2,    0.036,2,    0.000,2,   99.774,2
  096U20180111,  SR03,    83,  1,     25,     25,2,20180208,0922,-62.6002, 142.2005, 4090,    370.1,   1.9640,  34.6883,2,  34.6890,2,    179.2,2,    179.6,2,    83.00,2,    32.64,2,     0.00,2,     2.24,2,    -0.01,2,    0.475,2,    0.247,2,     0.15,2,   2253.9,2,   2342.2,2,-999.0000,9,  -999.00,    22.05,2,   -999.0,9,   -999.0,  -999.00,9,   0.00035,2,    0.004,2,    0.036,2,    0.000,2,   99.910,2
  096U20180111,  SR03,    83,  1,     24,     24,2,20180208,0922,-62.6002, 142.2005, 4090,    470.3,   1.9076,  34.7094,2,  34.7101,2,    183.4,2,    183.8,2,    84.30,2,    32.02,2,     0.00,2,     2.20,2,    -0.01,2,    0.406,2,    0.209,2,      0.2,2,   2253.1,6,   2344.6,6,-999.0000,9,  -999.00,    21.81,2,   -999.0,9,   -999.0,  -999.00,9,   0.00033,2,    0.001,2,    0.036,2,    0.000,2,   99.965,2
  096U20180111,  SR03,    83,  1,     23,     23,2,20180208,0922,-62.6002, 142.2005, 4090,    571.1,   1.8616,  34.7239,2,  34.7248,2,    187.1,2,    187.2,2,    85.80,2,    31.61,2,     0.00,2,     2.18,2,    -0.01,2,    0.334,2,    0.181,2,        0,2,   2253.2,2,   2345.6,2,-999.0000,9,  -999.00,    21.19,2,   -999.0,9,   -999.0,  -999.00,9,   0.00031,2,    0.000,2,    0.030,2,    0.000,2,   99.989,2
  096U20180111,  SR03,    83,  1,     22,     22,2,20180208,0922,-62.6002, 142.2005, 4090,    670.8,   1.7953,  34.7298,2,  34.7333,4,    189.4,2,    189.8,2,    87.30,2,    31.43,2,     0.00,2,     2.16,2,    -0.01,2,    0.323,2,    0.172,2,     0.05,2,   2252.5,2,   2347.8,2,-999.0000,9,  -999.00,    20.35,2,   -999.0,9,   -999.0,  -999.00,9,   0.00031,2,    0.000,2,    0.036,2,    0.000,2,   99.989,2
  096U20180111,  SR03,    83,  1,     21,     21,2,20180208,0922,-62.6002, 142.2005, 4090,    770.2,   1.7371,  34.7365,2,  34.7378,2,    192.7,2,    192.5,2,    89.00,2,    31.16,2,     0.00,2,     2.14,2,    -0.01,2,    0.277,2,    0.146,2,     0.04,2,   2252.3,2,   2349.8,2,-999.0000,9,  -999.00,    20.68,2,   -999.0,9,   -999.0,  -999.00,9,   0.00028,2,   -0.001,2,    0.036,2,    0.000,2,  100.024,2
  096U20180111,  SR03,    83,  1,     20,     20,2,20180208,0922,-62.6002, 142.2005, 4090,    870.4,   1.6661,  34.7389,2,  34.7397,2,    194.3,2,    194.6,2,    90.70,2,    31.05,2,     0.00,2,     2.13,2,    -0.01,2, -999.000,9, -999.000,9,     -999,9,   2251.7,2,   2352.6,6,-999.0000,9,  -999.00,  -999.00,9,   -999.0,9,   -999.0,  -999.00,9,   0.00028,2,   -0.001,2,    0.036,2,    0.000,2,  100.014,2
  096U20180111,  SR03,    83,  1,     19,     19,2,20180208,0922,-62.6002, 142.2005, 4090,    999.8,   1.5642,  34.7396,2,-999.0000,9,    197.4,2,   -999.0,9,  -999.00,9,  -999.00,9,  -999.00,9,  -999.00,9,     -999,9, -999.000,9, -999.000,9,     -999,9,   -999.0,9,   -999.0,9,-999.0000,9,  -999.00,  -999.00,9,   -999.0,9,   -999.0,  -999.00,9,   0.00028,2,   -0.001,2,    0.036,2,    0.000,2,  100.034,2
  096U20180111,  SR03,    83,  1,     18,     18,2,20180208,0922,-62.6002, 142.2005, 4090,    999.7,   1.5642,  34.7397,2,  34.7404,2,    197.4,2,    196.8,2,    93.50,2,    31.05,2,     0.00,2,     2.13,2,    -0.01,2,    0.247,2,    0.128,2,    -0.02,2,   2251.8,2,   2353.2,2,-999.0000,9,  -999.00,    19.61,2,   -999.0,9,   -999.0,  -999.00,9,   0.00027,2,   -0.001,2,    0.036,2,    0.000,2,  100.036,2
  096U20180111,  SR03,    83,  1,     17,     17,2,20180208,0922,-62.6002, 142.2005, 4090,   1143.7,   1.4585,  34.7377,2,  34.7581,4,    199.1,2,    198.9,2,    96.50,2,    31.09,2,     0.00,2,     2.14,2,    -0.01,2,    0.235,2,    0.120,2,     0.04,2,   2251.2,2,   2355.5,2,-999.0000,9,  -999.00,    19.83,2,   -999.0,9,   -999.0,  -999.00,9,   0.00028,2,   -0.002,2,    0.030,2,    0.000,2,  100.038,2
  096U20180111,  SR03,    83,  1,     16,     16,2,20180208,0922,-62.6002, 142.2005, 4090,   1299.5,   1.3414,  34.7343,2,  34.7352,2,    200.8,2,    200.7,2,   100.10,2,    31.24,2,     0.00,2,     2.15,2,    -0.01,2, -999.000,9, -999.000,9,     -999,9,   -999.0,9,   -999.0,9,-999.0000,9,  -999.00,  -999.00,9,   -999.0,9,   -999.0,  -999.00,9,   0.00026,2,   -0.002,2,    0.036,2,    0.000,2,  100.057,2
  096U20180111,  SR03,    83,  1,     15,     15,2,20180208,0922,-62.6002, 142.2005, 4090,   1500.4,   1.1782,  34.7266,2,  34.7280,2,    203.0,2,    202.4,2,   104.30,2,    31.46,2,     0.00,2,     2.16,2,        0,2,    0.249,2,    0.130,2,    -0.02,2,   2255.3,2,   2358.8,2,-999.0000,9,  -999.00,    19.94,2,   -999.0,9,   -999.0,  -999.00,9,   0.00025,2,   -0.002,2,    0.036,2,    0.000,2,  100.055,2
  096U20180111,  SR03,    83,  1,     14,     14,2,20180208,0922,-62.6002, 142.2005, 4090,   1700.7,   0.9937,  34.7161,2,  34.7167,2,    205.1,2,    205.1,2,   108.70,2,    31.80,2,     0.00,2,     2.20,2,    -0.01,2,    0.304,2,    0.156,2,     0.08,2,   2256.2,2,   2357.9,2,-999.0000,9,  -999.00,    20.26,2,   -999.0,9,   -999.0,  -999.00,9,   0.00025,2,   -0.002,2,    0.036,2,    0.000,2,  100.055,2
  096U20180111,  SR03,    83,  1,     13,     13,2,20180208,0922,-62.6002, 142.2005, 4090,   1949.9,   0.8393,  34.7091,2,  34.7101,2,    207.3,2,    207.0,2,   114.10,2,    32.12,2,     0.00,2,     2.22,2,    -0.01,2, -999.000,9, -999.000,9,     -999,9,   -999.0,9,   -999.0,9,-999.0000,9,  -999.00,  -999.00,9,   -999.0,9,   -999.0,  -999.00,9,   0.00027,2,    0.001,2,    0.036,2,    0.000,2,   99.969,2
  096U20180111,  SR03,    83,  1,     12,     12,2,20180208,0922,-62.6002, 142.2005, 4090,   2149.4,   0.6792,  34.7007,2,  34.7016,2,    209.0,2,    209.6,2,   118.00,2,    32.33,2,     0.00,2,     2.24,2,    -0.01,2,    0.360,2,    0.183,2,    -0.01,2,   2258.3,2,   2360.1,2,-999.0000,9,  -999.00,    19.16,2,   -999.0,9,   -999.0,  -999.00,9,   0.00024,2,   -0.003,2,    0.036,2,    0.000,2,  100.072,2
  096U20180111,  SR03,    83,  1,     11,     11,2,20180208,0922,-62.6002, 142.2005, 4090,   2400.2,   0.5247,  34.6922,2,  34.6927,2,    212.8,2,    213.0,2,   121.00,2,    32.47,2,     0.00,2,     2.25,2,    -0.01,2,    0.472,2,    0.234,2,     0.14,2,   2261.9,2,   2359.8,2,-999.0000,9,  -999.00,    19.66,2,   -999.0,9,   -999.0,  -999.00,9,   0.00024,2,   -0.003,2,    0.036,2,    0.000,2,  100.074,2
  096U20180111,  SR03,    83,  1,     10,     10,2,20180208,0922,-62.6002, 142.2005, 4090,   2650.9,   0.3932,  34.6860,2,  34.6864,2,    216.2,2,    216.6,2,   123.60,2,    32.57,2,     0.00,2,     2.26,2,    -0.01,2, -999.000,9, -999.000,9,     -999,9,   -999.0,9,   -999.0,9,-999.0000,9,  -999.00,  -999.00,9,   -999.0,9,   -999.0,  -999.00,9,   0.00023,2,   -0.003,2,    0.036,2,    0.000,2,  100.074,2
  096U20180111,  SR03,    83,  1,      9,      9,2,20180208,0922,-62.6002, 142.2005, 4090,   2951.9,   0.2749,  34.6806,2,  34.6811,2,    219.8,2,    220.2,2,   126.10,2,    32.61,2,     0.00,2,     2.26,2,    -0.01,2,    0.745,2,    0.374,2,     0.19,2,   2260.1,2,   2360.3,2,-999.0000,9,  -999.00,    19.67,2,   -999.0,9,   -999.0,  -999.00,9,   0.00023,2,   -0.003,2,    0.036,2,    0.000,2,  100.075,2
  096U20180111,  SR03,    83,  1,      8,      8,2,20180208,0922,-62.6002, 142.2005, 4090,   3247.6,   0.1604,  34.6746,2,  34.6755,2,    224.0,2,    224.2,2,   126.20,2,    32.56,2,     0.00,2,     2.26,2,    -0.01,2,    0.977,2,    0.497,2,     0.21,2,   2259.2,2,   2358.2,2,-999.0000,9,  -999.00,    18.85,2,   -999.0,9,   -999.0,  -999.00,9,   0.00024,2,   -0.003,2,    0.036,2,    0.000,2,  100.066,2
  096U20180111,  SR03,    83,  1,      7,      7,2,20180208,0922,-62.6002, 142.2005, 4090,   3550.8,   0.0481,  34.6681,2,  34.6676,2,    228.9,2,    228.9,2,   126.70,2,    32.55,2,     0.00,2,     2.26,2,    -0.01,2,    1.264,2,    0.645,2,     0.53,2,   2257.9,2,   2356.5,2,-999.0000,9,  -999.00,    20.20,2,   -999.0,9,   -999.0,  -999.00,9,   0.00024,2,   -0.002,2,    0.036,2,    0.000,2,  100.054,2
  096U20180111,  SR03,    83,  1,      6,      6,2,20180208,0922,-62.6002, 142.2005, 4090,   3851.6,  -0.1139,  34.6557,2,-999.0000,9,    236.0,2,   -999.0,9,  -999.00,9,  -999.00,9,  -999.00,9,  -999.00,9,     -999,9, -999.000,9, -999.000,9,     -999,9,   -999.0,9,   -999.0,9,-999.0000,9,  -999.00,  -999.00,9,   -999.0,9,   -999.0,  -999.00,9,   0.00031,2,    0.002,2,    0.036,2,    0.000,2,   99.946,2
  096U20180111,  SR03,    83,  1,      5,      5,2,20180208,0922,-62.6002, 142.2005, 4090,   4050.4,  -0.1853,  34.6501,2,-999.0000,9,    241.3,2,   -999.0,9,  -999.00,9,  -999.00,9,  -999.00,9,  -999.00,9,     -999,9, -999.000,9, -999.000,9,     -999,9,   -999.0,9,   -999.0,9,-999.0000,9,  -999.00,  -999.00,9,   -999.0,9,   -999.0,  -999.00,9,   0.00037,2,    0.007,2,    0.036,2,    0.000,2,   99.830,2
  096U20180111,  SR03,    83,  1,      4,      4,2,20180208,0922,-62.6002, 142.2005, 4090,   4050.4,  -0.1856,  34.6502,2,  34.6506,2,    241.3,2,    241.2,2,   108.60,2,    32.17,2,     0.00,2,     2.23,2,    -0.01,2,    2.129,2,    1.142,2,     1.13,2,   2256.0,6,   2351.0,6,-999.0000,9,  -999.00,    19.01,2,   -999.0,9,   -999.0,  -999.00,9,   0.00038,2,    0.007,2,    0.036,2,    0.000,2,   99.814,2
  096U20180111,  SR03,    83,  1,      3,      3,2,20180208,0922,-62.6002, 142.2005, 4090,   4120.5,  -0.2103,  34.6482,2,  34.6480,2,    242.7,2,    242.6,2,   107.10,2,    32.12,2,     0.00,2,     2.23,2,    -0.01,2,    2.183,2,    1.176,2,      0.9,2,   -999.0,9,   -999.0,9,-999.0000,9,  -999.00,    19.55,2,   -999.0,9,   -999.0,  -999.00,9,   0.00048,2,    0.013,2,    0.036,2,    0.000,2,   99.671,2
  096U20180111,  SR03,    83,  1,      2,      2,2,20180208,0922,-62.6002, 142.2005, 4090,   4169.0,  -0.2107,  34.6488,2,-999.0000,9,    243.0,2,   -999.0,9,  -999.00,9,  -999.00,9,  -999.00,9,  -999.00,9,     -999,9, -999.000,9, -999.000,9,     -999,9,   -999.0,9,   -999.0,9,-999.0000,9,  -999.00,  -999.00,9,   -999.0,9,   -999.0,  -999.00,9,   0.00052,2,    0.016,2,    0.036,2,    0.000,2,   99.598,2
  096U20180111,  SR03,    83,  1,      1,      1,2,20180208,0922,-62.6002, 142.2005, 4090,   4169.0,  -0.2110,  34.6487,2,  34.6495,2,    243.0,2,    242.8,2,   106.70,2,    32.12,2,     0.00,2,     2.23,2,    -0.01,2,    2.255,2,    1.263,2,      2.2,3,   2253.7,2,   2351.2,6,-999.0000,9,  -999.00,    20.08,2,   -999.0,9,   -999.0,  -999.00,9,   0.00057,2,    0.016,2,    0.036,2,    0.000,2,   99.605,2