BOTTLE,20230418CCHSIOENA
EXPOCODE,SECT_ID,STNNBR,CASTNO,SAMPNO,BTLNBR,BTLNBR_FLAG_W,DATE,TIME,LATITUDE,LONGITUDE,DEPTH,CTDPRS,CTDTMP,CTDSAL,CTDSAL_FLAG_W,SALNTY,SALNTY_FLAG_W,CTDOXY,CTDOXY_FLAG_W,OXYGEN,OXYGEN_FLAG_W,SILCAT,SILCAT_FLAG_W,NITRAT,NITRAT_FLAG_W,NITRIT,NITRIT_FLAG_W,PHSPHT,PHSPHT_FLAG_W,NH4,NH4_FLAG_W,CFC-11,CFC-11_FLAG_W,CFC-12,CFC-12_FLAG_W,SF6,SF6_FLAG_W,TCARBN,TCARBN_FLAG_W,ALKALI,ALKALI_FLAG_W,PH_TOT,PH_TOT_FLAG_W,PH_TMP,N2O,N2O_FLAG_W,DELC14,DELC14_FLAG_W,C14ERR,DELC13,DELC13_FLAG_W,CTDBETA700,CTDBETA700_FLAG_W,CTDBEAMCP,CTDBEAMCP_FLAG_W,CTDFLUOR,CTDFLUOR_FLAG_W,PAR,PAR_FLAG_W,CTDXMISS,CTDXMISS_FLAG_W
,,,,,,,,,,,METERS,DBAR,ITS-90,PSS-78,,PSS-78,,UMOL/KG,,UMOL/KG,,UMOL/KG,,UMOL/KG,,UMOL/KG,,UMOL/KG,,UMOL/KG,,PMOL/KG,,PMOL/KG,,FMOL/KG,,UMOL/KG,,UMOL/KG,,,,DEG C,NMOL/KG,,/MILLE,,/MILLE,/MILLE,,VOLTS,,1/M,,MG/M^3,,UMOL/M^2/SEC,,%TRANS,
  096U20180111,  SR03,     5,  1,     36,     36,2,20180111,2314,-44.7200, 146.0428, 3205,     10.3,  15.6845,  35.2357,2,  35.2347,2,    256.3,2,    256.0,2,     0.00,2,     0.01,2,     0.02,2,     0.14,2,     0.02,2,    2.524,2,    1.535,2,     2.13,2,   2062.1,2,   2327.0,2,-999.0000,9,  -999.00,     8.65,2,     30.4,2,      2.1,     1.33,2,   0.00255,2,    0.203,2,    0.432,2,   76.100,2,   95.051,2
  096U20180111,  SR03,     5,  1,     35,     35,2,20180111,2314,-44.7200, 146.0428, 3205,     10.3,  15.6831,  35.2357,2,-999.0000,9,    256.3,2,   -999.0,9,  -999.00,9,  -999.00,9,  -999.00,9,  -999.00,9,     -999,9, -999.000,9, -999.000,9,     -999,9,   -999.0,9,   -999.0,9,-999.0000,9,  -999.00,  -999.00,9,   -999.0,9,   -999.0,  -999.00,9,   0.00260,2,    0.202,2,    0.438,2,   75.500,2,   95.068,2
  096U20180111,  SR03,     5,  1,     34,     34,2,20180111,2314,-44.7200, 146.0428, 3205,     20.7,  15.6441,  35.2338,2,  35.2316,2,    257.5,2,    256.7,2,     0.00,2,     0.02,2,     0.02,2,     0.15,2,     0.03,2,    2.519,2,    1.499,2,     2.14,2,   2060.0,2,   2326.7,2,-999.0000,9,  -999.00,     8.60,2,     34.4,2,      2.0,     1.34,2,   0.00261,2,    0.202,2,    0.432,2,   24.700,2,   95.075,2
  096U20180111,  SR03,     5,  1,     33,     33,2,20180111,2314,-44.7200, 146.0428, 3205,     35.7,  14.6409,  35.1930,2,  35.1884,2,    257.8,2,    256.5,2,     0.00,2,     0.55,2,     0.06,2,     0.23,2,     0.33,2,    2.502,2,    1.540,2,     1.98,2,   2069.7,2,   2324.2,6,-999.0000,9,  -999.00,     8.53,2,    -24.2,4,      2.0,    -0.81,4,   0.00256,2,    0.222,2,    1.650,2,    4.580,2,   94.592,2
  096U20180111,  SR03,     5,  1,     32,     32,2,20180111,2314,-44.7200, 146.0428, 3205,     35.7,  14.6396,  35.1929,2,-999.0000,9,    257.8,2,   -999.0,9,  -999.00,9,  -999.00,9,  -999.00,9,  -999.00,9,     -999,9, -999.000,9, -999.000,9,     -999,9,   -999.0,9,   -999.0,9,-999.0000,9,  -999.00,  -999.00,9,   -999.0,9,   -999.0,  -999.00,9,   0.00248,2,    0.223,2,    1.494,2,    4.340,2,   94.577,2
  096U20180111,  SR03,     5,  1,     31,     31,2,20180111,2314,-44.7200, 146.0428, 3205,     49.4,  14.2286,  35.1513,2,-999.0000,9,    255.3,2,   -999.0,9,  -999.00,9,  -999.00,9,  -999.00,9,  -999.00,9,     -999,9, -999.000,9, -999.000,9,     -999,9,   -999.0,9,   -999.0,9,-999.0000,9,  -999.00,  -999.00,9,   -999.0,9,   -999.0,  -999.00,9,   0.00156,2,    0.120,2,    1.116,2,    0.997,2,   97.043,2
  096U20180111,  SR03,     5,  1,     30,     30,2,20180111,2314,-44.7200, 146.0428, 3205,     74.4,  13.7115,  35.1296,2,  35.1324,2,    245.5,2,    246.8,2,     0.60,2,     3.55,2,     0.22,2,     0.47,2,      0.8,2,    2.703,2,    1.582,2,     1.86,2,   2092.4,2,   2320.1,2,-999.0000,9,  -999.00,     9.31,2,     31.8,2,      2.1,     1.04,2,   0.00173,2,    0.115,2,    1.050,2,    0.160,2,   97.173,2
  096U20180111,  SR03,     5,  1,     29,     29,2,20180111,2314,-44.7200, 146.0428, 3205,     99.9,  12.0516,  35.1353,2,  35.1342,2,    238.3,3,    246.6,2,     1.90,2,     8.49,2,     0.10,2,     0.67,2,     0.01,2,    2.673,6,    1.712,6,     2.37,6,   2114.3,2,   2317.0,2,-999.0000,9,  -999.00,     9.77,6,     34.5,2,      2.1,     0.78,2,   0.00086,2,    0.047,2,    0.366,2,    0.008,2,   98.829,2
  096U20180111,  SR03,     5,  1,     28,     28,2,20180111,2314,-44.7200, 146.0428, 3205,     99.9,  12.0536,  35.1354,2,-999.0000,9,    238.3,3,   -999.0,9,  -999.00,9,  -999.00,9,  -999.00,9,  -999.00,9,     -999,9, -999.000,9, -999.000,9,     -999,9,   -999.0,9,   -999.0,9,-999.0000,9,  -999.00,  -999.00,9,   -999.0,9,   -999.0,  -999.00,9,   0.00091,2,    0.047,2,    0.402,2,    0.010,2,   98.824,2
  096U20180111,  SR03,     5,  1,     27,     27,2,20180111,2314,-44.7200, 146.0428, 3205,    151.1,  11.5171,  35.0598,2,-999.0000,9,    246.7,3,   -999.0,9,  -999.00,9,  -999.00,9,  -999.00,9,  -999.00,9,     -999,9,    2.932,2,    1.716,2,     1.95,2,   -999.0,9,   -999.0,9,-999.0000,9,  -999.00,     9.87,2,   -999.0,9,   -999.0,  -999.00,9,   0.00056,2,    0.021,2,    0.084,2,    0.000,2,   99.485,2
  096U20180111,  SR03,     5,  1,     26,     26,2,20180111,2314,-44.7200, 146.0428, 3205,    151.1,  11.5149,  35.0593,2,  35.0570,2,    246.7,3,    251.6,2,     2.20,2,     9.48,2,     0.04,2,     0.73,2,        0,2, -999.000,9, -999.000,9,     -999,9,   2117.8,2,   2313.5,2,-999.0000,9,  -999.00,  -999.00,9,     28.7,2,      2.3,     0.81,2,   0.00078,2,    0.022,2,    0.090,2,    0.000,2,   99.464,2
  096U20180111,  SR03,     5,  1,     25,     25,2,20180111,2314,-44.7200, 146.0428, 3205,    200.4,  11.2482,  35.0161,2,  35.0164,2,    247.0,3,    252.2,2,     2.50,2,    10.10,2,     0.03,2,     0.76,2,        0,2,    2.945,2,    1.699,2,     2.27,2,   2117.8,6,   2310.8,6,-999.0000,9,  -999.00,    10.71,2,     25.3,2,      2.1,     0.83,2,   0.00076,2,    0.020,2,    0.060,2,    0.000,2,   99.500,2
  096U20180111,  SR03,     5,  1,     24,     24,2,20180111,2314,-44.7200, 146.0428, 3205,    200.3,  11.2513,  35.0167,2,-999.0000,9,    247.0,3,   -999.0,9,  -999.00,9,  -999.00,9,  -999.00,9,  -999.00,9,     -999,9, -999.000,9, -999.000,9,     -999,9,   -999.0,9,   -999.0,9,-999.0000,9,  -999.00,  -999.00,9,   -999.0,9,   -999.0,  -999.00,9,   0.00066,2,    0.019,2,    0.072,2,    0.000,2,   99.533,2
  096U20180111,  SR03,     5,  1,     23,     23,2,20180111,2314,-44.7200, 146.0428, 3205,    250.4,  10.8870,  34.9535,2,  34.9561,2,    234.7,3,    241.9,2,     3.40,2,    12.01,2,     0.02,2,     0.87,2,        0,2, -999.000,9, -999.000,9,     -999,9,   -999.0,9,   -999.0,9,-999.0000,9,  -999.00,  -999.00,9,   -999.0,9,   -999.0,  -999.00,9,   0.00060,2,    0.021,2,    0.042,2,    0.000,2,   99.482,2
  096U20180111,  SR03,     5,  1,     22,     22,2,20180111,2314,-44.7200, 146.0428, 3205,    250.1,  10.8954,  34.9548,2,-999.0000,9,    234.7,3,   -999.0,9,  -999.00,9,  -999.00,9,  -999.00,9,  -999.00,9,     -999,9, -999.000,9, -999.000,9,     -999,9,   -999.0,9,   -999.0,9,-999.0000,9,  -999.00,  -999.00,9,   -999.0,9,   -999.0,  -999.00,9,   0.00061,2,    0.020,2,    0.042,2,    0.000,2,   99.502,2
  096U20180111,  SR03,     5,  1,     21,     21,2,20180111,2314,-44.7200, 146.0428, 3205,    298.6,  10.2132,  34.8336,2,  34.8336,2,    228.4,3,    220.6,2,     5.40,2,    15.76,2,     0.02,2,     1.09,2,        0,2,    2.776,2,    1.644,2,      1.6,2,   2138.1,2,   2303.4,2,-999.0000,9,  -999.00,    12.39,2,     24.8,2,      3.1,     0.73,2,   0.00053,2,    0.018,2,    0.036,2,    0.000,2,   99.558,2
  096U20180111,  SR03,     5,  1,     20,     20,2,20180111,2314,-44.7200, 146.0428, 3205,    400.7,   9.4464,  34.7155,2,  34.7149,2,    263.0,3,    222.5,2,     6.20,2,    17.64,2,     0.02,2,     1.22,2,        0,2,    2.879,2,    1.646,2,     1.37,2,   2142.5,2,   2298.1,2,-999.0000,9,  -999.00,    13.01,2,    -44.0,4,      1.9,    -1.24,4,   0.00050,2,    0.014,2,    0.036,2,    0.000,2,   99.661,2
  096U20180111,  SR03,     5,  1,     19,     19,2,20180111,2314,-44.7200, 146.0428, 3205,    500.5,   9.0607,  34.6604,2,  34.6597,2,    254.5,3,    225.5,2,     7.10,2,    18.79,2,     0.02,2,     1.29,2,        0,2,    2.852,2,    1.557,2,     1.08,2,   2144.6,2,   2295.1,2,-999.0000,9,  -999.00,    14.05,2,     13.8,2,      2.6,     0.83,2,   0.00048,2,    0.012,2,    0.036,2,    0.000,2,   99.692,2
  096U20180111,  SR03,     5,  1,     18,     18,2,20180111,2314,-44.7200, 146.0428, 3205,    599.0,   8.4810,  34.5992,2,  34.5990,2,    232.8,3,    213.2,2,     9.90,2,    21.35,2,     0.02,2,     1.46,2,     0.01,2,    2.548,2,    1.406,2,     1.17,2,   2157.5,2,   2293.7,2,-999.0000,9,  -999.00,    14.84,2,     10.5,2,      2.2,     0.86,2,   0.00046,2,    0.010,2,    0.036,2,    0.000,2,   99.738,2
  096U20180111,  SR03,     5,  1,     17,     17,2,20180111,2314,-44.7200, 146.0428, 3205,    699.9,   7.4203,  34.4701,2,  34.4698,2,    216.5,2,    219.8,2,    12.40,2,    23.45,2,     0.02,2,     1.58,2,    -0.01,2, -999.000,9, -999.000,9,     -999,9,   2159.5,2,   2290.1,2,-999.0000,9,  -999.00,  -999.00,9,    -11.2,2,      2.0,     0.84,2,   0.00043,2,    0.008,2,    0.036,2,    0.000,2,   99.810,2
  096U20180111,  SR03,     5,  1,     16,     16,2,20180111,2314,-44.7200, 146.0428, 3205,    799.5,   6.6480,  34.4505,2,  34.4501,2,    202.5,2,    198.8,2,    19.50,2,    26.38,2,     0.02,2,     1.78,2,     0.01,2, -999.000,9, -999.000,9,     -999,9,   -999.0,9,   -999.0,9,-999.0000,9,  -999.00,  -999.00,9,   -999.0,9,   -999.0,  -999.00,9,   0.00043,2,    0.007,2,    0.036,2,    0.000,2,   99.828,2
  096U20180111,  SR03,     5,  1,     15,     15,2,20180111,2314,-44.7200, 146.0428, 3205,    900.9,   5.7459,  34.4241,2,  34.4239,2,    194.7,2,    196.0,2,    28.20,2,    28.71,2,     0.02,2,     1.94,2,        0,2,    1.535,2,    0.804,2,     0.38,2,   2188.7,6,   2299.1,6,-999.0000,9,  -999.00,    18.63,2,   -999.0,9,   -999.0,  -999.00,9,   0.00043,2,    0.007,2,    0.036,2,    0.000,2,   99.833,2
  096U20180111,  SR03,     5,  1,     14,     14,2,20180111,2314,-44.7200, 146.0428, 3205,   1001.2,   4.9144,  34.4111,2,  34.4107,2,    190.5,2,    188.3,2,    37.30,2,    30.48,2,     0.02,2,     2.07,2,        0,2, -999.000,9, -999.000,9,     -999,9,   -999.0,9,   -999.0,9,-999.0000,9,  -999.00,  -999.00,9,    -59.4,2,      2.4,     0.82,2,   0.00040,2,    0.004,2,    0.036,2,    0.000,2,   99.890,2
  096U20180111,  SR03,     5,  1,     13,     13,2,20180111,2314,-44.7200, 146.0428, 3205,   1200.1,   3.8413,  34.4481,2,  34.4475,2,    177.1,2,    176.0,2,    55.50,2,    32.92,2,     0.02,2,     2.26,2,        0,2,    0.877,2,    0.460,2,        0,2,   2231.7,2,   2324.7,2,-999.0000,9,  -999.00,    21.20,2,   -119.0,2,      2.0,     0.56,2,   0.00039,2,    0.004,2,    0.036,2,    0.000,2,   99.912,2
  096U20180111,  SR03,     5,  1,     12,     12,2,20180111,2314,-44.7200, 146.0428, 3205,   1399.3,   3.1076,  34.5184,2,  34.5188,2,    167.0,2,    166.8,2,    70.10,2,    34.12,2,     0.02,2,     2.34,2,        0,2,    0.555,2,    0.276,2,     0.18,2,   2252.7,2,   2340.7,2,-999.0000,9,  -999.00,    21.22,2,   -146.6,2,      2.2,     0.37,2,   0.00039,2,    0.003,2,    0.042,2,    0.000,2,   99.930,2
  096U20180111,  SR03,     5,  1,     11,     11,2,20180111,2314,-44.7200, 146.0428, 3205,   1571.6,   2.7332,  34.5871,2,  34.5862,2,    164.0,2,    165.5,2,    77.40,2,    33.96,2,     0.01,2,     2.33,2,    -0.01,2,    0.331,2,    0.163,2,     0.11,2,   2259.2,2,   2347.7,2,-999.0000,9,  -999.00,    22.27,2,   -156.1,2,      1.9,     0.32,2,   0.00038,2,    0.002,2,    0.042,2,    0.000,2,   99.937,2
  096U20180111,  SR03,     5,  1,     10,     10,2,20180111,2314,-44.7200, 146.0428, 3205,   1800.5,   2.4649,  34.6534,2,  34.6529,2,    169.0,2,    170.0,2,    82.10,2,    33.18,2,     0.01,2,     2.28,2,        0,2,    0.189,2,    0.094,2,     0.03,2,   2260.1,2,   2352.5,2,-999.0000,9,  -999.00,    20.95,2,   -161.5,2,      3.0,     0.25,2,   0.00039,2,    0.002,2,    0.042,2,    0.000,2,   99.944,2
  096U20180111,  SR03,     5,  1,      9,      9,2,20180111,2314,-44.7200, 146.0428, 3205,   2000.0,   2.3039,  34.6965,2,  34.6964,2,    171.7,2,    171.9,2,    87.90,2,    32.66,2,     0.02,2,     2.25,2,        0,2,    0.090,2,    0.039,2,     0.05,2,   2263.1,2,   2359.6,2,-999.0000,9,  -999.00,    19.75,2,   -165.2,2,      1.8,     0.51,2,   0.00037,2,    0.002,2,    0.042,2,    0.000,2,   99.949,2
  096U20180111,  SR03,     5,  1,      8,      8,2,20180111,2314,-44.7200, 146.0428, 3205,   2249.5,   2.1538,  34.7192,2,  34.7188,2,    175.1,2,    175.0,2,    94.00,2,    32.39,2,     0.01,2,     2.24,2,        0,2,    0.043,2,    0.020,2,     0.01,2,   2267.4,2,   2365.8,2,-999.0000,9,  -999.00,    19.82,2,   -173.3,2,      1.8,     0.83,3,   0.00036,2,    0.002,2,    0.042,2,    0.000,2,   99.938,2
  096U20180111,  SR03,     5,  1,      7,      7,2,20180111,2314,-44.7200, 146.0428, 3205,   2500.8,   1.9889,  34.7305,2,  34.7303,2,    178.2,2,    177.8,2,   100.40,2,    32.30,2,     0.02,2,     2.23,2,        0,2,    0.018,2,    0.003,2,    -0.04,2,   2268.4,2,   2372.4,6,-999.0000,9,  -999.00,    19.87,2,   -177.6,2,      2.0,     0.39,2,   0.00036,2,    0.002,2,    0.042,2,    0.000,2,   99.937,2
  096U20180111,  SR03,     5,  1,      6,      6,2,20180111,2314,-44.7200, 146.0428, 3205,   2750.3,   1.8333,  34.7332,2,  34.7337,2,    182.4,2,    182.0,2,   104.30,2,    32.17,2,     0.02,2,     2.22,2,     0.02,2,    0.010,2,    0.003,2,     0.06,2,   2271.6,2,   2375.6,2,-999.0000,9,  -999.00,    18.77,2,   -175.3,2,      2.2,     0.46,2,   0.00037,2,    0.003,2,    0.048,2,    0.000,2,   99.928,2
  096U20180111,  SR03,     5,  1,      5,      5,2,20180111,2314,-44.7200, 146.0428, 3205,   3000.0,   1.6716,  34.7326,2,  34.7322,2,    186.8,2,    186.7,2,   107.60,2,    32.12,2,     0.02,2,     2.22,2,        0,2,    0.008,2,    0.003,2,    -0.04,2,   2271.3,2,   2376.4,2,-999.0000,9,  -999.00,    19.09,2,   -175.6,6,      3.2,     0.45,6,   0.00045,2,    0.006,2,    0.042,2,    0.000,2,   99.860,2
  096U20180111,  SR03,     5,  1,      4,      4,2,20180111,2314,-44.7200, 146.0428, 3205,   3100.6,   1.6010,  34.7319,2,  34.7320,2,    188.6,2,    188.3,2,   109.20,2,    32.07,2,     0.02,2,     2.21,2,        0,2,    0.006,2,    0.001,2,    -0.01,2,   2268.2,6,   2378.2,6,-999.0000,9,  -999.00,    17.91,2,   -178.3,2,      2.5,     0.48,2,   0.00038,2,    0.004,2,    0.042,2,    0.000,2,   99.901,2
  096U20180111,  SR03,     5,  1,      3,      3,2,20180111,2314,-44.7200, 146.0428, 3205,   3100.5,   1.6010,  34.7319,2,-999.0000,9,    188.6,2,   -999.0,9,  -999.00,9,  -999.00,9,  -999.00,9,  -999.00,9,     -999,9, -999.000,9, -999.000,9,     -999,9,   -999.0,9,   -999.0,9,-999.0000,9,  -999.00,  -999.00,9,   -999.0,9,   -999.0,  -999.00,9,   0.00048,2,    0.004,2,    0.042,2,    0.000,2,   99.900,2
  096U20180111,  SR03,     5,  1,      2,      2,2,20180111,2314,-44.7200, 146.0428, 3205,   3260.1,   1.4680,  34.7290,2,  34.7291,2,    191.7,2,    191.2,2,   112.00,2,    32.01,2,     0.02,2,     2.20,2,        0,2,    0.004,2,    0.002,2,     0.02,2,   2272.7,2,   2378.8,2,-999.0000,9,  -999.00,    18.15,2,   -179.6,2,      1.9,     0.50,2,   0.00055,2,    0.009,2,    0.042,2,    0.000,2,   99.775,2
  096U20180111,  SR03,     5,  1,      1,      1,2,20180111,2314,-44.7200, 146.0428, 3205,   3260.2,   1.4682,  34.7289,2,-999.0000,9,    191.7,2,   -999.0,9,  -999.00,9,  -999.00,9,  -999.00,9,  -999.00,9,     -999,9, -999.000,9, -999.000,9,     -999,9,   -999.0,9,   -999.0,9,-999.0000,9,  -999.00,  -999.00,9,   -999.0,9,   -999.0,  -999.00,9,   0.00052,2,    0.009,2,    0.048,2,    0.000,2,   99.772,2