BOTTLE,20230418CCHSIOENA
EXPOCODE,SECT_ID,STNNBR,CASTNO,SAMPNO,BTLNBR,BTLNBR_FLAG_W,DATE,TIME,LATITUDE,LONGITUDE,DEPTH,CTDPRS,CTDTMP,CTDSAL,CTDSAL_FLAG_W,SALNTY,SALNTY_FLAG_W,CTDOXY,CTDOXY_FLAG_W,OXYGEN,OXYGEN_FLAG_W,SILCAT,SILCAT_FLAG_W,NITRAT,NITRAT_FLAG_W,NITRIT,NITRIT_FLAG_W,PHSPHT,PHSPHT_FLAG_W,NH4,NH4_FLAG_W,CFC-11,CFC-11_FLAG_W,CFC-12,CFC-12_FLAG_W,SF6,SF6_FLAG_W,TCARBN,TCARBN_FLAG_W,ALKALI,ALKALI_FLAG_W,PH_TOT,PH_TOT_FLAG_W,PH_TMP,N2O,N2O_FLAG_W,DELC14,DELC14_FLAG_W,C14ERR,DELC13,DELC13_FLAG_W,CTDBETA700,CTDBETA700_FLAG_W,CTDBEAMCP,CTDBEAMCP_FLAG_W,CTDFLUOR,CTDFLUOR_FLAG_W,PAR,PAR_FLAG_W,CTDXMISS,CTDXMISS_FLAG_W
,,,,,,,,,,,METERS,DBAR,ITS-90,PSS-78,,PSS-78,,UMOL/KG,,UMOL/KG,,UMOL/KG,,UMOL/KG,,UMOL/KG,,UMOL/KG,,UMOL/KG,,PMOL/KG,,PMOL/KG,,FMOL/KG,,UMOL/KG,,UMOL/KG,,,,DEG C,NMOL/KG,,/MILLE,,/MILLE,/MILLE,,VOLTS,,1/M,,MG/M^3,,UMOL/M^2/SEC,,%TRANS,
  096U20180111,  SR03,    40,  1,     36,     36,2,20180125,1846,-58.8500, 139.8388, 3879,     10.0,   3.6280,  33.7942,2,  33.7935,2,    321.0,2,    320.8,2,     8.90,2,    24.98,2,     0.23,2,     1.57,2,     0.12,2,    4.789,2,    2.554,2,     3.14,2,   2139.6,2,   2279.7,2,-999.0000,9,  -999.00,    13.08,2,   -999.0,9,   -999.0,  -999.00,9,   0.00202,2,    0.184,2,    1.392,2,   32.000,2,   95.512,2
  096U20180111,  SR03,    40,  1,     35,     35,2,20180125,1846,-58.8500, 139.8388, 3879,     61.9,   2.2488,  33.8644,2,  33.8732,2,    326.2,2,    334.2,2,    13.90,2,    26.31,2,     0.19,2,     1.84,2,     0.44,2, -999.000,9, -999.000,9,     -999,9,   -999.0,9,   -999.0,9,-999.0000,9,  -999.00,  -999.00,9,   -999.0,9,   -999.0,  -999.00,9,   0.00312,2,    0.278,2,    4.182,2,    0.938,2,   93.276,2
  096U20180111,  SR03,    40,  1,     34,     34,2,20180125,1846,-58.8500, 139.8388, 3879,    102.5,   1.0654,  33.9144,2,  33.9193,2,    327.3,2,    328.8,2,    20.40,2,    27.81,2,     0.25,2,     1.98,2,     0.56,2, -999.000,9, -999.000,9,     -999,9,   -999.0,9,   -999.0,9,-999.0000,9,  -999.00,  -999.00,9,   -999.0,9,   -999.0,  -999.00,9,   0.00085,2,    0.041,2,    0.564,2,    0.068,2,   98.970,2
  096U20180111,  SR03,    40,  1,     33,     33,2,20180125,1846,-58.8500, 139.8388, 3879,    141.1,   0.8583,  33.9965,2,  34.0030,2,    307.5,2,    304.6,2,    28.20,2,    30.27,2,     0.05,2,     2.07,2,     0.01,2,    4.823,2,    2.569,2,     3.07,2,   2182.4,2,   2290.4,2,-999.0000,9,  -999.00,    16.46,2,   -999.0,9,   -999.0,  -999.00,9,   0.00064,2,    0.016,2,    0.126,2,    0.000,2,   99.606,2
  096U20180111,  SR03,    40,  1,     32,     32,2,20180125,1846,-58.8500, 139.8388, 3879,    201.6,   2.0073,  34.2139,2,  34.2191,2,    246.1,2,    230.6,2,    45.70,2,    33.57,2,     0.01,2,     2.29,2,    -0.01,2, -999.000,9, -999.000,9,     -999,9,   -999.0,9,   -999.0,9,-999.0000,9,  -999.00,  -999.00,9,   -999.0,9,   -999.0,  -999.00,9,   0.00063,2,    0.015,2,    0.042,2,    0.000,2,   99.627,2
  096U20180111,  SR03,    40,  1,     31,     31,2,20180125,1846,-58.8500, 139.8388, 3879,    301.3,   2.3603,  34.3763,2,  34.3795,2,    193.6,2,    191.2,2,    59.20,2,    35.14,2,     0.01,2,     2.39,2,    -0.01,2, -999.000,9, -999.000,9,     -999,9,   2239.1,2,   2318.1,2,-999.0000,9,  -999.00,  -999.00,9,   -999.0,9,   -999.0,  -999.00,9,   0.00057,2,    0.011,2,    0.036,2,    0.000,2,   99.727,2
  096U20180111,  SR03,    40,  1,     30,     30,2,20180125,1846,-58.8500, 139.8388, 3879,    402.5,   2.4266,  34.4659,2,  34.4675,2,    179.1,2,    178.6,2,    65.60,2,    35.16,2,     0.00,2,     2.41,2,    -0.01,2, -999.000,9, -999.000,9,     -999,9,   -999.0,9,   -999.0,9,-999.0000,9,  -999.00,  -999.00,9,   -999.0,9,   -999.0,  -999.00,9,   0.00045,2,    0.004,2,    0.036,2,    0.000,2,   99.898,2
  096U20180111,  SR03,    40,  1,     29,     29,2,20180125,1846,-58.8500, 139.8388, 3879,    551.5,   2.4066,  34.5665,2,  34.5673,2,    171.4,2,    171.6,2,    72.20,2,    34.58,2,     0.01,2,     2.37,2,    -0.01,2,    0.783,2,    0.408,2,     0.13,2,   2253.2,6,   2334.8,6,-999.0000,9,  -999.00,    23.26,2,   -999.0,9,   -999.0,  -999.00,9,   0.00039,2,    0.002,2,    0.036,2,    0.000,2,   99.954,2
  096U20180111,  SR03,    40,  1,     28,     28,2,20180125,1846,-58.8500, 139.8388, 3879,    700.4,   2.3304,  34.6379,2,  34.6381,2,    172.2,2,    174.5,2,    75.70,2,    33.44,2,     0.01,2,     2.29,2,    -0.01,2, -999.000,9, -999.000,9,     -999,9,   -999.0,9,   -999.0,9,-999.0000,9,  -999.00,  -999.00,9,   -999.0,9,   -999.0,  -999.00,9,   0.00036,2,    0.001,2,    0.036,2,    0.000,2,   99.981,2
  096U20180111,  SR03,    40,  1,     27,     27,2,20180125,1846,-58.8500, 139.8388, 3879,    850.0,   2.2678,  34.6827,2,  34.6831,2,    178.2,2,    179.1,2,    77.30,2,    32.48,2,     0.01,2,     2.23,2,    -0.01,2, -999.000,9, -999.000,9,     -999,9,   -999.0,9,   -999.0,9,-999.0000,9,  -999.00,  -999.00,9,   -999.0,9,   -999.0,  -999.00,9,   0.00038,2,    0.000,2,    0.036,2,    0.000,2,   99.995,2
  096U20180111,  SR03,    40,  1,     26,     26,2,20180125,1846,-58.8500, 139.8388, 3879,   1000.0,   2.1848,  34.7121,2,  34.7125,2,    183.0,2,    184.1,2,    79.20,2,    31.76,2,     0.00,2,     2.18,2,    -0.01,2,    0.282,2,    0.146,2,    -0.02,2,   2248.3,2,   2346.4,2,-999.0000,9,  -999.00,    20.18,2,   -999.0,9,   -999.0,  -999.00,9,   0.00035,2,   -0.001,2,    0.042,2,    0.000,2,  100.019,2
  096U20180111,  SR03,    40,  1,     25,     25,2,20180125,1846,-58.8500, 139.8388, 3879,   1251.7,   1.9937,  34.7375,2,  34.7384,2,    190.5,2,    190.8,2,    83.90,2,    31.02,2,     0.00,2,     2.13,2,    -0.01,2, -999.000,9, -999.000,9,     -999,9,   -999.0,9,   -999.0,9,-999.0000,9,  -999.00,  -999.00,9,   -999.0,9,   -999.0,  -999.00,9,   0.00031,2,   -0.003,2,    0.036,2,    0.000,2,  100.064,2
  096U20180111,  SR03,    40,  1,     24,     24,2,20180125,1846,-58.8500, 139.8388, 3879,   1503.1,   1.7879,  34.7455,2,-999.0000,9,    196.5,2,   -999.0,9,  -999.00,9,  -999.00,9,  -999.00,9,  -999.00,9,     -999,9, -999.000,9, -999.000,9,     -999,9,   -999.0,9,   -999.0,9,-999.0000,9,  -999.00,  -999.00,9,   -999.0,9,   -999.0,  -999.00,9,   0.00030,2,   -0.003,2,    0.042,2,    0.000,2,  100.076,2
  096U20180111,  SR03,    40,  1,     23,     23,2,20180125,1846,-58.8500, 139.8388, 3879,   1503.2,   1.7872,  34.7456,2,-999.0000,9,    196.5,2,   -999.0,9,  -999.00,9,  -999.00,9,  -999.00,9,  -999.00,9,     -999,9, -999.000,9, -999.000,9,     -999,9,   -999.0,9,   -999.0,9,-999.0000,9,  -999.00,  -999.00,9,   -999.0,9,   -999.0,  -999.00,9,   0.00031,2,   -0.003,2,    0.036,2,    0.000,2,  100.076,2
  096U20180111,  SR03,    40,  1,     22,     22,2,20180125,1846,-58.8500, 139.8388, 3879,   1503.1,   1.7851,  34.7454,2,  34.7461,2,    196.5,2,    196.4,2,    89.30,2,    30.82,2,     0.01,2,     2.12,2,    -0.01,2,    0.200,2,    0.104,2,     0.08,2,   2250.4,2,   2353.9,2,-999.0000,9,  -999.00,    18.85,2,   -999.0,9,   -999.0,  -999.00,9,   0.00032,2,   -0.004,2,    0.042,2,    0.000,2,  100.092,2
  096U20180111,  SR03,    40,  1,     21,     21,2,20180125,1846,-58.8500, 139.8388, 3879,   1752.2,   1.5611,  34.7422,2,  34.7450,4,    199.4,2,    199.3,2,    95.40,2,    31.04,2,     0.00,2,     2.12,2,    -0.01,2,    0.191,2,    0.093,2,     0.02,2,   2252.9,2,   2364.2,2,-999.0000,9,  -999.00,    18.60,2,   -999.0,9,   -999.0,  -999.00,9,   0.00032,2,   -0.004,2,    0.036,2,    0.000,2,  100.100,2
  096U20180111,  SR03,    40,  1,     20,     20,2,20180125,1846,-58.8500, 139.8388, 3879,   1998.8,   1.3580,  34.7347,2,-999.0000,9,    201.8,2,   -999.0,9,  -999.00,9,  -999.00,9,  -999.00,9,  -999.00,9,     -999,9, -999.000,9, -999.000,9,     -999,9,   -999.0,9,   -999.0,9,-999.0000,9,  -999.00,  -999.00,9,   -999.0,9,   -999.0,  -999.00,9,   0.00028,2,   -0.004,2,    0.036,2,    0.000,2,  100.098,2
  096U20180111,  SR03,    40,  1,     19,     19,2,20180125,1846,-58.8500, 139.8388, 3879,   1999.0,   1.3580,  34.7346,2,-999.0000,9,    201.8,2,   -999.0,9,  -999.00,9,  -999.00,9,  -999.00,9,  -999.00,9,     -999,9, -999.000,9, -999.000,9,     -999,9,   -999.0,9,   -999.0,9,-999.0000,9,  -999.00,  -999.00,9,   -999.0,9,   -999.0,  -999.00,9,   0.00029,2,   -0.004,2,    0.042,2,    0.000,2,  100.109,2
  096U20180111,  SR03,    40,  1,     18,     18,2,20180125,1846,-58.8500, 139.8388, 3879,   1998.9,   1.3542,  34.7345,2,  34.7350,2,    201.8,2,    201.6,2,   101.80,2,    31.33,2,     0.01,2,     2.15,2,    -0.01,2, -999.000,9, -999.000,9,     -999,9,   -999.0,9,   -999.0,9,-999.0000,9,  -999.00,  -999.00,9,   -999.0,9,   -999.0,  -999.00,9,   0.00027,2,   -0.004,2,    0.042,2,    0.000,2,  100.100,2
  096U20180111,  SR03,    40,  1,     17,     17,2,20180125,1846,-58.8500, 139.8388, 3879,   2252.7,   1.1604,  34.7252,2,  34.7254,2,    203.9,2,    204.0,2,   107.80,2,    31.66,2,     0.00,2,     2.17,2,    -0.01,2, -999.000,9, -999.000,9,     -999,9,   -999.0,9,   -999.0,9,-999.0000,9,  -999.00,  -999.00,9,   -999.0,9,   -999.0,  -999.00,9,   0.00027,2,   -0.004,2,    0.042,2,    0.000,2,  100.111,2
  096U20180111,  SR03,    40,  1,     16,     16,2,20180125,1846,-58.8500, 139.8388, 3879,   2497.7,   0.9732,  34.7154,2,-999.0000,9,    206.2,2,   -999.0,9,  -999.00,9,  -999.00,9,  -999.00,9,  -999.00,9,     -999,9, -999.000,9, -999.000,9,     -999,9,   -999.0,9,   -999.0,9,-999.0000,9,  -999.00,  -999.00,9,   -999.0,9,   -999.0,  -999.00,9,   0.00027,2,   -0.004,2,    0.036,2,    0.000,2,  100.112,2
  096U20180111,  SR03,    40,  1,     15,     15,2,20180125,1846,-58.8500, 139.8388, 3879,   2497.6,   0.9717,  34.7154,2,-999.0000,9,    206.2,2,   -999.0,9,  -999.00,9,  -999.00,9,  -999.00,9,  -999.00,9,     -999,9, -999.000,9, -999.000,9,     -999,9,   -999.0,9,   -999.0,9,-999.0000,9,  -999.00,  -999.00,9,   -999.0,9,   -999.0,  -999.00,9,   0.00026,2,   -0.004,2,    0.036,2,    0.000,2,  100.110,2
  096U20180111,  SR03,    40,  1,     14,     14,2,20180125,1846,-58.8500, 139.8388, 3879,   2497.7,   0.9710,  34.7153,2,  34.7160,2,    206.2,2,    206.1,2,   113.50,2,    31.97,2,     0.01,2,     2.21,2,    -0.01,2,    0.258,2,    0.129,2,     0.01,2,   2260.5,2,   2362.6,6,-999.0000,9,  -999.00,    18.45,2,   -999.0,9,   -999.0,  -999.00,9,   0.00029,2,   -0.005,2,    0.036,2,    0.000,2,  100.119,2
  096U20180111,  SR03,    40,  1,     13,     13,2,20180125,1846,-58.8500, 139.8388, 3879,   2751.2,   0.7954,  34.7058,2,  34.7076,2,    208.8,2,    208.9,2,   118.40,2,    32.31,2,     0.00,2,     2.23,2,    -0.01,2,    0.327,2,    0.159,2,     0.15,2,   -999.0,9,   -999.0,9,-999.0000,9,  -999.00,    18.37,2,   -999.0,9,   -999.0,  -999.00,9,   0.00026,2,   -0.005,2,    0.042,2,    0.000,2,  100.116,2
  096U20180111,  SR03,    40,  1,     12,     12,2,20180125,1846,-58.8500, 139.8388, 3879,   3001.6,   0.6213,  34.6968,2,-999.0000,9,    211.8,2,   -999.0,9,  -999.00,9,  -999.00,9,  -999.00,9,  -999.00,9,     -999,9, -999.000,9, -999.000,9,     -999,9,   -999.0,9,   -999.0,9,-999.0000,9,  -999.00,  -999.00,9,   -999.0,9,   -999.0,  -999.00,9,   0.00026,2,   -0.005,2,    0.042,2,    0.000,2,  100.116,2
  096U20180111,  SR03,    40,  1,     11,     11,2,20180125,1846,-58.8500, 139.8388, 3879,   3001.4,   0.6205,  34.6968,2,-999.0000,9,    211.8,2,   -999.0,9,  -999.00,9,  -999.00,9,  -999.00,9,  -999.00,9,     -999,9, -999.000,9, -999.000,9,     -999,9,   -999.0,9,   -999.0,9,-999.0000,9,  -999.00,  -999.00,9,   -999.0,9,   -999.0,  -999.00,9,   0.00025,2,   -0.005,2,    0.036,2,    0.000,2,  100.115,2
  096U20180111,  SR03,    40,  1,     10,     10,2,20180125,1846,-58.8500, 139.8388, 3879,   3001.4,   0.6199,  34.6968,2,  34.6969,2,    211.8,2,    212.1,2,   122.80,2,    32.56,2,     0.00,2,     2.24,2,    -0.01,2,    0.406,2,    0.197,2,     0.06,2,   2260.1,2,   2361.3,2,-999.0000,9,  -999.00,    18.53,2,   -999.0,9,   -999.0,  -999.00,9,   0.00025,2,   -0.005,2,    0.042,2,    0.000,2,  100.119,2
  096U20180111,  SR03,    40,  1,      9,      9,2,20180125,1846,-58.8500, 139.8388, 3879,   3248.1,   0.4917,  34.6903,2,  34.6898,2,    215.0,2,    215.5,2,   126.50,2,    32.66,2,     0.01,2,     2.25,2,    -0.01,2,    0.502,2,    0.257,2,    -0.01,2,   2261.9,2,   2362.5,2,-999.0000,9,  -999.00,    18.40,2,   -999.0,9,   -999.0,  -999.00,9,   0.00025,2,   -0.005,2,    0.036,2,    0.000,2,  100.119,2
  096U20180111,  SR03,    40,  1,      8,      8,2,20180125,1846,-58.8500, 139.8388, 3879,   3497.4,   0.3913,  34.6858,2,-999.0000,9,    218.3,2,   -999.0,9,  -999.00,9,  -999.00,9,  -999.00,9,  -999.00,9,     -999,9, -999.000,9, -999.000,9,     -999,9,   -999.0,9,   -999.0,9,-999.0000,9,  -999.00,  -999.00,9,   -999.0,9,   -999.0,  -999.00,9,   0.00025,2,   -0.004,2,    0.036,2,    0.000,2,  100.109,2
  096U20180111,  SR03,    40,  1,      7,      7,2,20180125,1846,-58.8500, 139.8388, 3879,   3497.5,   0.3911,  34.6857,2,-999.0000,9,    218.3,2,   -999.0,9,  -999.00,9,  -999.00,9,  -999.00,9,  -999.00,9,     -999,9, -999.000,9, -999.000,9,     -999,9,   -999.0,9,   -999.0,9,-999.0000,9,  -999.00,  -999.00,9,   -999.0,9,   -999.0,  -999.00,9,   0.00025,2,   -0.004,2,    0.036,2,    0.000,2,  100.109,2
  096U20180111,  SR03,    40,  1,      6,      6,2,20180125,1846,-58.8500, 139.8388, 3879,   3497.4,   0.3898,  34.6856,2,  34.6895,4,    218.3,2,    218.5,2,   130.60,2,    32.74,2,     0.00,2,     2.26,2,    -0.01,2,    0.610,2,    0.299,2,     0.18,2,   2262.5,2,   2362.4,2,-999.0000,9,  -999.00,    18.29,2,   -999.0,9,   -999.0,  -999.00,9,   0.00024,2,   -0.004,2,    0.042,2,    0.000,2,  100.110,2
  096U20180111,  SR03,    40,  1,      5,      5,2,20180125,1846,-58.8500, 139.8388, 3879,   3699.6,   0.3346,  34.6826,2,  34.6827,2,    220.4,2,    219.9,2,   132.80,2,    32.80,2,     0.01,2,     2.26,2,    -0.01,2,    0.693,2,    0.344,2,     0.27,2,   2260.2,2,   2362.9,2,-999.0000,9,  -999.00,    18.24,2,   -999.0,9,   -999.0,  -999.00,9,   0.00025,2,   -0.004,2,    0.036,2,    0.000,2,  100.113,2
  096U20180111,  SR03,    40,  1,      4,      4,2,20180125,1846,-58.8500, 139.8388, 3879,   3881.9,   0.2843,  34.6796,2,  34.6793,2,    222.7,2,    221.6,2,   135.70,2,    32.84,2,     0.00,2,     2.26,2,    -0.01,2, -999.000,9, -999.000,9,     -999,9,   -999.0,9,   -999.0,9,-999.0000,9,  -999.00,  -999.00,9,   -999.0,9,   -999.0,  -999.00,9,   0.00025,2,   -0.004,2,    0.042,2,    0.000,2,  100.092,2
  096U20180111,  SR03,    40,  1,      3,      3,2,20180125,1846,-58.8500, 139.8388, 3879,   3955.2,   0.2650,  34.6784,2,-999.0000,9,    223.5,2,   -999.0,9,  -999.00,9,  -999.00,9,  -999.00,9,  -999.00,9,     -999,9, -999.000,9, -999.000,9,     -999,9,   -999.0,9,   -999.0,9,-999.0000,9,  -999.00,  -999.00,9,   -999.0,9,   -999.0,  -999.00,9,   0.00024,2,   -0.003,2,    0.036,2,    0.000,2,  100.080,2
  096U20180111,  SR03,    40,  1,      2,      2,2,20180125,1846,-58.8500, 139.8388, 3879,   3955.2,   0.2652,  34.6784,2,-999.0000,9,    223.5,2,   -999.0,9,  -999.00,9,  -999.00,9,  -999.00,9,  -999.00,9,     -999,9, -999.000,9, -999.000,9,     -999,9,   -999.0,9,   -999.0,9,-999.0000,9,  -999.00,  -999.00,9,   -999.0,9,   -999.0,  -999.00,9,   0.00026,2,   -0.003,2,    0.036,2,    0.000,2,  100.082,2
  096U20180111,  SR03,    40,  1,      1,      1,2,20180125,1846,-58.8500, 139.8388, 3879,   3955.1,   0.2656,  34.6784,2,  34.6797,2,    223.5,2,    222.6,2,   136.40,2,    32.82,2,     0.00,2,     2.26,2,    -0.01,2,    0.828,2,    0.409,2,     0.22,2,   2259.9,2,   2362.4,2,-999.0000,9,  -999.00,    18.16,2,   -999.0,9,   -999.0,  -999.00,9,   0.00025,2,   -0.004,2,    0.036,2,    0.000,2,  100.087,2