BOTTLE,20230418CCHSIOENA
EXPOCODE,SECT_ID,STNNBR,CASTNO,SAMPNO,BTLNBR,BTLNBR_FLAG_W,DATE,TIME,LATITUDE,LONGITUDE,DEPTH,CTDPRS,CTDTMP,CTDSAL,CTDSAL_FLAG_W,SALNTY,SALNTY_FLAG_W,CTDOXY,CTDOXY_FLAG_W,OXYGEN,OXYGEN_FLAG_W,SILCAT,SILCAT_FLAG_W,NITRAT,NITRAT_FLAG_W,NITRIT,NITRIT_FLAG_W,PHSPHT,PHSPHT_FLAG_W,NH4,NH4_FLAG_W,CFC-11,CFC-11_FLAG_W,CFC-12,CFC-12_FLAG_W,SF6,SF6_FLAG_W,TCARBN,TCARBN_FLAG_W,ALKALI,ALKALI_FLAG_W,PH_TOT,PH_TOT_FLAG_W,PH_TMP,N2O,N2O_FLAG_W,DELC14,DELC14_FLAG_W,C14ERR,DELC13,DELC13_FLAG_W,CTDBETA700,CTDBETA700_FLAG_W,CTDBEAMCP,CTDBEAMCP_FLAG_W,CTDFLUOR,CTDFLUOR_FLAG_W,PAR,PAR_FLAG_W,CTDXMISS,CTDXMISS_FLAG_W
,,,,,,,,,,,METERS,DBAR,ITS-90,PSS-78,,PSS-78,,UMOL/KG,,UMOL/KG,,UMOL/KG,,UMOL/KG,,UMOL/KG,,UMOL/KG,,UMOL/KG,,PMOL/KG,,PMOL/KG,,FMOL/KG,,UMOL/KG,,UMOL/KG,,,,DEG C,NMOL/KG,,/MILLE,,/MILLE,/MILLE,,VOLTS,,1/M,,MG/M^3,,UMOL/M^2/SEC,,%TRANS,
  096U20180111,  SR03,    97,  1,     36,     36,2,20180214,0200,-61.4998, 131.9998, 4521,      9.7,   2.4430,  33.6588,2,  33.6535,2,    330.1,2,    330.0,2,     5.20,2,    22.94,2,     0.26,2,     1.33,2,     0.19,2,    5.402,2,    2.940,2,     3.35,2,   2137.8,2,   2276.9,2,-999.0000,9,  -999.00,    14.64,2,   -999.0,9,   -999.0,  -999.00,9,   0.00258,2,    0.289,2,    0.834,2,   68.400,2,   93.031,2
  096U20180111,  SR03,    97,  1,     35,     35,2,20180214,0200,-61.4998, 131.9998, 4521,     10.0,   2.4448,  33.6587,2,-999.0000,9,    330.1,2,   -999.0,9,  -999.00,9,  -999.00,9,  -999.00,9,  -999.00,9,     -999,9, -999.000,9, -999.000,9,     -999,9,   -999.0,9,   -999.0,9,-999.0000,9,  -999.00,  -999.00,9,   -999.0,9,   -999.0,  -999.00,9,   0.00265,2,    0.287,2,    0.870,2,   65.900,2,   93.077,2
  096U20180111,  SR03,    97,  1,     34,     34,2,20180214,0200,-61.4998, 131.9998, 4521,     41.4,   2.1403,  33.6740,2,  33.6789,2,    332.9,2,    333.0,2,     8.00,2,    23.23,2,     0.25,2,     1.43,2,     0.32,2,    5.498,2,    2.992,2,     3.65,2,   2135.4,2,   2278.8,2,-999.0000,9,  -999.00,    14.77,2,   -999.0,9,   -999.0,  -999.00,9,   0.00336,2,    0.337,2,    2.820,2,    7.320,2,   91.910,2
  096U20180111,  SR03,    97,  1,     33,     33,2,20180214,0200,-61.4998, 131.9998, 4521,     55.6,  -1.1904,  33.7868,2,  33.7883,2,    335.8,2,    345.2,2,    30.80,2,    27.82,2,     0.19,2,     2.07,2,     1.46,2, -999.000,9, -999.000,9,     -999,9,   -999.0,9,   -999.0,9,-999.0000,9,  -999.00,  -999.00,9,   -999.0,9,   -999.0,  -999.00,9,   0.00152,2,    0.122,2,    1.224,2,    3.550,2,   96.996,2
  096U20180111,  SR03,    97,  1,     32,     32,2,20180214,0200,-61.4998, 131.9998, 4521,     55.6,  -1.2123,  33.7895,2,-999.0000,9,    335.8,2,   -999.0,9,  -999.00,9,  -999.00,9,  -999.00,9,  -999.00,9,     -999,9, -999.000,9, -999.000,9,     -999,9,   -999.0,9,   -999.0,9,-999.0000,9,  -999.00,  -999.00,9,   -999.0,9,   -999.0,  -999.00,9,   0.00139,2,    0.119,2,    1.104,2,    3.660,2,   97.063,2
  096U20180111,  SR03,    97,  1,     31,     31,2,20180214,0200,-61.4998, 131.9998, 4521,     80.9,  -0.3454,  33.9427,2,  33.9422,2,    322.7,2,    340.7,2,    31.50,2,    28.31,2,     0.21,2,     2.04,2,     0.81,2,    5.887,2,    3.154,2,     3.89,2,   2177.0,2,   2292.2,2,-999.0000,9,  -999.00,    15.91,2,   -999.0,9,   -999.0,  -999.00,9,   0.00085,2,    0.058,2,    0.654,2,    1.120,2,   98.573,2
  096U20180111,  SR03,    97,  1,     30,     30,2,20180214,0200,-61.4998, 131.9998, 4521,    141.1,  -0.0775,  34.1138,2,  34.1278,2,    283.4,2,    278.5,2,    46.60,2,    32.32,2,     0.02,2,     2.23,2,        0,2,    4.342,2,    2.374,2,     2.65,2,   2208.8,6,   2302.0,6,-999.0000,9,  -999.00,    19.99,2,   -999.0,9,   -999.0,  -999.00,9,   0.00049,2,    0.018,2,    0.102,2,    0.156,2,   99.548,2
  096U20180111,  SR03,    97,  1,     29,     29,2,20180214,0200,-61.4998, 131.9998, 4521,    201.8,   2.0121,  34.4231,2,  34.4209,2,    187.5,2,    188.0,2,    65.90,2,    35.40,2,     0.01,2,     2.44,2,        0,2, -999.000,9, -999.000,9,     -999,9,   -999.0,9,   -999.0,9,-999.0000,9,  -999.00,  -999.00,9,   -999.0,9,   -999.0,  -999.00,9,   0.00043,2,    0.017,2,    0.042,2,    0.000,2,   99.580,2
  096U20180111,  SR03,    97,  1,     28,     28,2,20180214,0200,-61.4998, 131.9998, 4521,    251.4,   2.2109,  34.5025,2,  34.5021,2,    175.3,2,    174.5,2,    71.10,2,    35.38,2,     0.01,2,     2.44,2,        0,2,    1.237,2,    0.640,2,     0.53,2,   2253.5,2,   2327.9,2,-999.0000,9,  -999.00,    25.42,2,   -999.0,9,   -999.0,  -999.00,9,   0.00043,2,    0.016,2,    0.042,2,    0.000,2,   99.589,2
  096U20180111,  SR03,    97,  1,     27,     27,2,20180214,0200,-61.4998, 131.9998, 4521,    352.3,   2.2437,  34.5776,2,  34.5766,2,    171.3,2,    171.1,2,    75.00,2,    34.64,2,     0.01,2,     2.38,2,        0,2, -999.000,9, -999.000,9,     -999,9,   -999.0,9,   -999.0,9,-999.0000,9,  -999.00,  -999.00,9,   -999.0,9,   -999.0,  -999.00,9,   0.00036,2,    0.009,2,    0.036,2,    0.000,2,   99.781,2
  096U20180111,  SR03,    97,  1,     26,     26,2,20180214,0200,-61.4998, 131.9998, 4521,    451.3,   2.2274,  34.6283,2,  34.6277,2,    172.9,2,    172.6,2,    77.20,2,    33.87,2,     0.00,2,     2.33,2,        0,2, -999.000,9, -999.000,9,     -999,9,   -999.0,9,   -999.0,9,-999.0000,9,  -999.00,  -999.00,9,   -999.0,9,   -999.0,  -999.00,9,   0.00034,2,    0.006,2,    0.036,2,    0.000,2,   99.843,2
  096U20180111,  SR03,    97,  1,     25,     25,2,20180214,0200,-61.4998, 131.9998, 4521,    551.0,   2.1411,  34.6658,2,  34.6666,2,    175.9,2,    176.4,2,    79.50,2,    33.08,2,     0.00,2,     2.29,2,        0,2,    0.481,2,    0.251,2,     0.19,2,   2254.0,2,   2341.2,2,-999.0000,9,  -999.00,    22.71,2,   -999.0,9,   -999.0,  -999.00,9,   0.00037,2,    0.006,2,    0.036,2,    0.000,2,   99.845,2
  096U20180111,  SR03,    97,  1,     24,     24,2,20180214,0200,-61.4998, 131.9998, 4521,    650.9,   2.0979,  34.6936,2,  34.6917,2,    179.8,2,    180.1,2,    80.90,2,    32.40,2,     0.00,2,     2.24,2,        0,2, -999.000,9, -999.000,9,     -999,9,   -999.0,9,   -999.0,9,-999.0000,9,  -999.00,  -999.00,9,   -999.0,9,   -999.0,  -999.00,9,   0.00031,2,    0.004,2,    0.036,2,    0.000,2,   99.893,2
  096U20180111,  SR03,    97,  1,     23,     23,2,20180214,0200,-61.4998, 131.9998, 4521,    651.0,   2.0979,  34.6936,2,-999.0000,9,    179.9,2,   -999.0,9,  -999.00,9,  -999.00,9,  -999.00,9,  -999.00,9,     -999,9, -999.000,9, -999.000,9,     -999,9,   -999.0,9,   -999.0,9,-999.0000,9,  -999.00,  -999.00,9,   -999.0,9,   -999.0,  -999.00,9,   0.00032,2,    0.004,2,    0.042,2,    0.000,2,   99.900,2
  096U20180111,  SR03,    97,  1,     22,     22,2,20180214,0200,-61.4998, 131.9998, 4521,    751.2,   2.0469,  34.7118,2,-999.0000,9,    183.8,2,   -999.0,9,  -999.00,9,  -999.00,9,  -999.00,9,  -999.00,9,     -999,9, -999.000,9, -999.000,9,     -999,9,   -999.0,9,   -999.0,9,-999.0000,9,  -999.00,  -999.00,9,   -999.0,9,   -999.0,  -999.00,9,   0.00033,2,    0.003,2,    0.036,2,    0.000,2,   99.925,2
  096U20180111,  SR03,    97,  1,     21,     21,2,20180214,0200,-61.4998, 131.9998, 4521,    901.4,   1.9754,  34.7297,2,  34.7289,2,    188.6,2,    187.8,2,    84.20,2,    31.36,2,     0.00,2,     2.17,2,        0,2,    0.266,2,    0.138,2,     0.08,2,   2250.1,2,   2348.2,2,-999.0000,9,  -999.00,    20.37,2,   -999.0,9,   -999.0,  -999.00,9,   0.00034,2,    0.003,2,    0.036,2,    0.000,2,   99.916,2
  096U20180111,  SR03,    97,  1,     20,     20,2,20180214,0200,-61.4998, 131.9998, 4521,   1051.3,   1.8836,  34.7417,2,  34.7378,4,    192.8,2,    192.6,2,    86.10,2,    30.90,2,     0.00,2,     2.14,2,        0,2, -999.000,9, -999.000,9,     -999,9,   -999.0,9,   -999.0,9,-999.0000,9,  -999.00,  -999.00,9,   -999.0,9,   -999.0,  -999.00,9,   0.00030,2,    0.002,2,    0.036,2,    0.000,2,   99.945,2
  096U20180111,  SR03,    97,  1,     19,     19,2,20180214,0200,-61.4998, 131.9998, 4521,   1201.3,   1.7614,  34.7444,2,  34.7448,2,    195.2,2,    195.4,2,    89.50,2,    30.84,2,     0.00,2,     2.13,2,        0,2,    0.196,2,    0.111,2,     0.11,2,   2248.8,2,   2352.4,2,-999.0000,9,  -999.00,    19.55,2,   -999.0,9,   -999.0,  -999.00,9,   0.00028,2,    0.001,2,    0.036,2,    0.000,2,   99.976,2
  096U20180111,  SR03,    97,  1,     18,     18,2,20180214,0200,-61.4998, 131.9998, 4521,   1400.7,   1.5897,  34.7431,2,  34.7429,2,    198.4,2,    198.3,2,    94.20,2,    30.87,2,     0.00,2,     2.14,2,        0,2, -999.000,9, -999.000,9,     -999,9,   -999.0,9,   -999.0,9,-999.0000,9,  -999.00,  -999.00,9,   -999.0,9,   -999.0,  -999.00,9,   0.00028,2,    0.001,2,    0.036,2,    0.000,2,   99.988,2
  096U20180111,  SR03,    97,  1,     17,     17,2,20180214,0200,-61.4998, 131.9998, 4521,   1600.8,   1.4311,  34.7380,2,  34.7383,2,    200.4,2,    200.4,2,    98.60,2,    31.09,2,     0.00,2,     2.16,2,        0,2, -999.000,9, -999.000,9,     -999,9,   -999.0,9,   -999.0,9,-999.0000,9,  -999.00,  -999.00,9,   -999.0,9,   -999.0,  -999.00,9,   0.00028,2,    0.000,2,    0.036,2,    0.000,2,   99.992,2
  096U20180111,  SR03,    97,  1,     16,     16,2,20180214,0200,-61.4998, 131.9998, 4521,   1801.4,   1.2711,  34.7317,2,  34.7317,2,    202.4,2,    202.2,2,   103.60,2,    31.32,2,     0.00,2,     2.18,2,        0,2,    0.196,2,    0.095,2,     0.08,2,   2254.4,2,   2358.7,6,-999.0000,9,  -999.00,    18.98,2,   -999.0,9,   -999.0,  -999.00,9,   0.00027,2,    0.000,2,    0.036,2,    0.000,2,  100.006,2
  096U20180111,  SR03,    97,  1,     15,     15,2,20180214,0200,-61.4998, 131.9998, 4521,   2000.9,   1.1111,  34.7234,2,  34.7244,2,    204.1,2,    204.1,2,   108.30,2,    31.62,2,     0.00,2,     2.20,2,        0,2, -999.000,9, -999.000,9,     -999,9,   -999.0,9,   -999.0,9,-999.0000,9,  -999.00,  -999.00,9,   -999.0,9,   -999.0,  -999.00,9,   0.00027,2,   -0.001,2,    0.042,2,    0.000,2,  100.012,2
  096U20180111,  SR03,    97,  1,     14,     14,2,20180214,0200,-61.4998, 131.9998, 4521,   2250.5,   0.9320,  34.7141,2,  34.7154,2,    206.1,2,    206.3,2,   113.90,2,    31.93,2,     0.00,2,     2.23,2,        0,2, -999.000,9, -999.000,9,     -999,9,   -999.0,9,   -999.0,9,-999.0000,9,  -999.00,  -999.00,9,   -999.0,9,   -999.0,  -999.00,9,   0.00025,2,   -0.001,2,    0.036,2,    0.000,2,  100.023,2
  096U20180111,  SR03,    97,  1,     13,     13,2,20180214,0200,-61.4998, 131.9998, 4521,   2500.8,   0.7558,  34.7047,2,  34.7050,2,    209.0,2,    208.8,2,   118.70,2,    32.21,2,     0.00,2,     2.25,2,        0,2,    0.303,2,    0.156,2,        0,2,   2258.3,2,   2361.5,2,-999.0000,9,  -999.00,    19.46,2,   -999.0,9,   -999.0,  -999.00,9,   0.00026,2,   -0.001,2,    0.042,2,    0.000,2,  100.019,2
  096U20180111,  SR03,    97,  1,     12,     12,2,20180214,0200,-61.4998, 131.9998, 4521,   2751.6,   0.6030,  34.6967,2,  34.6981,2,    212.5,2,    212.0,2,   122.50,2,    32.40,2,     0.00,2,     2.26,2,        0,2, -999.000,9, -999.000,9,     -999,9,   -999.0,9,   -999.0,9,-999.0000,9,  -999.00,  -999.00,9,   -999.0,9,   -999.0,  -999.00,9,   0.00024,2,   -0.001,2,    0.036,2,    0.000,2,  100.022,2
  096U20180111,  SR03,    97,  1,     11,     11,2,20180214,0200,-61.4998, 131.9998, 4521,   2751.4,   0.6027,  34.6969,2,-999.0000,9,    212.5,2,   -999.0,9,  -999.00,9,  -999.00,9,  -999.00,9,  -999.00,9,     -999,9, -999.000,9, -999.000,9,     -999,9,   -999.0,9,   -999.0,9,-999.0000,9,  -999.00,  -999.00,9,   -999.0,9,   -999.0,  -999.00,9,   0.00024,2,   -0.001,2,    0.042,2,    0.000,2,  100.025,2
  096U20180111,  SR03,    97,  1,     10,     10,2,20180214,0200,-61.4998, 131.9998, 4521,   3001.6,   0.4680,  34.6904,2,  34.6897,2,    216.3,2,    215.3,2,   126.00,2,    32.55,2,     0.00,2,     2.27,2,        0,2, -999.000,9, -999.000,9,     -999,9,   -999.0,9,   -999.0,9,-999.0000,9,  -999.00,  -999.00,9,   -999.0,9,   -999.0,  -999.00,9,   0.00024,2,   -0.001,2,    0.036,2,    0.000,2,  100.030,2
  096U20180111,  SR03,    97,  1,      9,      9,2,20180214,0200,-61.4998, 131.9998, 4521,   3251.9,   0.3682,  34.6853,2,  34.6856,2,    218.8,2,    218.2,2,   128.60,2,    32.58,2,     0.00,2,     2.28,2,        0,2,    0.597,2,    0.288,2,     0.14,2,   2260.6,2,   2360.7,2,-999.0000,9,  -999.00,    19.08,2,   -999.0,9,   -999.0,  -999.00,9,   0.00023,2,   -0.001,2,    0.036,2,    0.000,2,  100.031,2
  096U20180111,  SR03,    97,  1,      8,      8,2,20180214,0200,-61.4998, 131.9998, 4521,   3501.0,   0.2894,  34.6812,2,  34.6805,2,    220.8,2,    221.0,2,   130.60,2,    32.63,2,     0.00,2,     2.28,2,        0,2, -999.000,9, -999.000,9,     -999,9,   -999.0,9,   -999.0,9,-999.0000,9,  -999.00,  -999.00,9,   -999.0,9,   -999.0,  -999.00,9,   0.00023,2,   -0.001,2,    0.042,2,    0.000,2,  100.023,2
  096U20180111,  SR03,    97,  1,      7,      7,2,20180214,0200,-61.4998, 131.9998, 4521,   3751.5,   0.2226,  34.6775,2,  34.6767,2,    223.0,2,    223.5,2,   131.70,2,    32.62,2,     0.00,2,     2.28,2,        0,2, -999.000,9, -999.000,9,     -999,9,   -999.0,9,   -999.0,9,-999.0000,9,  -999.00,  -999.00,9,   -999.0,9,   -999.0,  -999.00,9,   0.00022,2,   -0.001,2,    0.042,2,    0.000,2,  100.020,2
  096U20180111,  SR03,    97,  1,      6,      6,2,20180214,0200,-61.4998, 131.9998, 4521,   4049.9,   0.1355,  34.6719,2,  34.6739,2,    226.3,2,    284.6,4,   132.40,2,    32.62,2,     0.00,2,     2.28,2,        0,2,    1.065,2,    0.527,2,     0.16,2,   2258.8,2,   2359.4,2,-999.0000,9,  -999.00,    18.52,2,   -999.0,9,   -999.0,  -999.00,9,   0.00021,2,   -0.001,2,    0.042,2,    0.000,2,  100.020,2
  096U20180111,  SR03,    97,  1,      5,      5,2,20180214,0200,-61.4998, 131.9998, 4521,   4049.6,   0.1356,  34.6719,2,-999.0000,9,    226.3,2,   -999.0,9,  -999.00,9,  -999.00,9,  -999.00,9,  -999.00,9,     -999,9, -999.000,9, -999.000,9,     -999,9,   -999.0,9,   -999.0,9,-999.0000,9,  -999.00,  -999.00,9,   -999.0,9,   -999.0,  -999.00,9,   0.00027,2,   -0.001,2,    0.036,2,    0.000,2,  100.032,2
  096U20180111,  SR03,    97,  1,      4,      4,2,20180214,0200,-61.4998, 131.9998, 4521,   4352.4,   0.0531,  34.6647,2,  34.6643,2,    229.6,2,    227.8,2,   131.50,2,    32.54,2,     0.00,2,     2.27,2,        0,2, -999.000,9, -999.000,9,     -999,9,   -999.0,9,   -999.0,9,-999.0000,9,  -999.00,  -999.00,9,   -999.0,9,   -999.0,  -999.00,9,   0.00023,2,    0.000,2,    0.042,2,    0.000,2,   99.992,2
  096U20180111,  SR03,    97,  1,      3,      3,2,20180214,0200,-61.4998, 131.9998, 4521,   4550.7,  -0.0485,  34.6544,2,  34.6589,2,    235.3,2,    235.7,2,   129.60,2,    32.44,2,     0.00,2,     2.27,2,        0,2,    1.837,2,    0.953,2,     0.74,2,   -999.0,9,   -999.0,9,-999.0000,9,  -999.00,    19.06,2,   -999.0,9,   -999.0,  -999.00,9,   0.00036,2,    0.006,2,    0.036,2,    0.000,2,   99.852,2
  096U20180111,  SR03,    97,  1,      2,      2,2,20180214,0200,-61.4998, 131.9998, 4521,   4615.9,  -0.0975,  34.6503,2,  34.6500,2,    238.6,2,    238.5,2,   125.30,2,    32.33,2,     0.01,2,     2.26,2,        0,2,    2.027,2,    1.065,2,     0.95,2,   2257.4,2,   2355.0,2,-999.0000,9,  -999.00,    19.06,2,   -999.0,9,   -999.0,  -999.00,9,   0.00082,2,    0.036,2,    0.042,2,    0.000,2,   99.117,2
  096U20180111,  SR03,    97,  1,      1,      1,2,20180214,0200,-61.4998, 131.9998, 4521,   4615.6,  -0.0975,  34.6503,2,-999.0000,9,    238.6,2,   -999.0,9,  -999.00,9,  -999.00,9,  -999.00,9,  -999.00,9,     -999,9, -999.000,9, -999.000,9,     -999,9,   -999.0,9,   -999.0,9,-999.0000,9,  -999.00,  -999.00,9,   -999.0,9,   -999.0,  -999.00,9,   0.00081,2,    0.036,2,    0.042,2,    0.000,2,   99.110,2