BOTTLE,20230418CCHSIOENA
EXPOCODE,SECT_ID,STNNBR,CASTNO,SAMPNO,BTLNBR,BTLNBR_FLAG_W,DATE,TIME,LATITUDE,LONGITUDE,DEPTH,CTDPRS,CTDTMP,CTDSAL,CTDSAL_FLAG_W,SALNTY,SALNTY_FLAG_W,CTDOXY,CTDOXY_FLAG_W,OXYGEN,OXYGEN_FLAG_W,SILCAT,SILCAT_FLAG_W,NITRAT,NITRAT_FLAG_W,NITRIT,NITRIT_FLAG_W,PHSPHT,PHSPHT_FLAG_W,NH4,NH4_FLAG_W,CFC-11,CFC-11_FLAG_W,CFC-12,CFC-12_FLAG_W,SF6,SF6_FLAG_W,TCARBN,TCARBN_FLAG_W,ALKALI,ALKALI_FLAG_W,PH_TOT,PH_TOT_FLAG_W,PH_TMP,N2O,N2O_FLAG_W,DELC14,DELC14_FLAG_W,C14ERR,DELC13,DELC13_FLAG_W,CTDBETA700,CTDBETA700_FLAG_W,CTDBEAMCP,CTDBEAMCP_FLAG_W,CTDFLUOR,CTDFLUOR_FLAG_W,PAR,PAR_FLAG_W,CTDXMISS,CTDXMISS_FLAG_W
,,,,,,,,,,,METERS,DBAR,ITS-90,PSS-78,,PSS-78,,UMOL/KG,,UMOL/KG,,UMOL/KG,,UMOL/KG,,UMOL/KG,,UMOL/KG,,UMOL/KG,,PMOL/KG,,PMOL/KG,,FMOL/KG,,UMOL/KG,,UMOL/KG,,,,DEG C,NMOL/KG,,/MILLE,,/MILLE,/MILLE,,VOLTS,,1/M,,MG/M^3,,UMOL/M^2/SEC,,%TRANS,
  096U20180111,  SR03,    34,  1,     36,     36,2,20180123,2003,-55.9302, 140.4093, 3569,     11.7,   4.8732,  33.8312,2,  33.8319,2,    312.3,2,    312.4,2,     2.50,2,    23.87,2,     0.24,2,     1.58,2,     0.08,2,    4.400,2,    2.413,2,     3.17,2,   2129.5,2,   2276.2,2,-999.0000,9,  -999.00,    12.81,2,   -999.0,9,   -999.0,  -999.00,9,   0.00219,2,    0.178,2,    0.834,2,  107.000,2,   95.650,2
  096U20180111,  SR03,    34,  1,     35,     35,2,20180123,2003,-55.9302, 140.4093, 3569,     11.8,   4.8729,  33.8314,2,-999.0000,9,    312.3,2,   -999.0,9,  -999.00,9,  -999.00,9,  -999.00,9,  -999.00,9,     -999,9, -999.000,9, -999.000,9,     -999,9,   -999.0,9,   -999.0,9,-999.0000,9,  -999.00,  -999.00,9,   -999.0,9,   -999.0,  -999.00,9,   0.00236,2,    0.177,2,    0.852,2,  106.000,2,   95.677,2
  096U20180111,  SR03,    34,  1,     34,     34,2,20180123,2003,-55.9302, 140.4093, 3569,     31.1,   4.8627,  33.8318,2,  33.9115,4,    312.7,2,    312.9,2,     2.40,2,    23.85,2,     0.24,2,     1.58,2,     0.09,2, -999.000,9, -999.000,9,     -999,9,   -999.0,9,   -999.0,9,-999.0000,9,  -999.00,  -999.00,9,   -999.0,9,   -999.0,  -999.00,9,   0.00261,2,    0.185,2,    1.698,2,   24.300,2,   95.480,2
  096U20180111,  SR03,    34,  1,     33,     33,2,20180123,2003,-55.9302, 140.4093, 3569,     66.1,   4.6530,  33.8425,2,  33.8487,2,    314.9,2,    313.6,2,     3.30,2,    24.04,2,     0.23,2,     1.66,2,     0.29,2, -999.000,9, -999.000,9,     -999,9,   -999.0,9,   -999.0,9,-999.0000,9,  -999.00,  -999.00,9,   -999.0,9,   -999.0,  -999.00,9,   0.00306,2,    0.202,2,    2.904,2,    1.990,2,   95.065,2
  096U20180111,  SR03,    34,  1,     32,     32,2,20180123,2003,-55.9302, 140.4093, 3569,     66.1,   4.5559,  33.8445,2,-999.0000,9,    314.9,2,   -999.0,9,  -999.00,9,  -999.00,9,  -999.00,9,  -999.00,9,     -999,9, -999.000,9, -999.000,9,     -999,9,   -999.0,9,   -999.0,9,-999.0000,9,  -999.00,  -999.00,9,   -999.0,9,   -999.0,  -999.00,9,   0.00309,2,    0.199,2,    3.066,2,    1.990,2,   95.142,2
  096U20180111,  SR03,    34,  1,     31,     31,2,20180123,2003,-55.9302, 140.4093, 3569,     91.8,   2.2635,  33.9221,2,  33.9247,2,    322.2,2,    319.8,2,    15.50,2,    26.62,2,     0.35,2,     1.92,2,     0.59,2, -999.000,9, -999.000,9,     -999,9,   2157.5,2,   2281.8,2,-999.0000,9,  -999.00,  -999.00,9,   -999.0,9,   -999.0,  -999.00,9,   0.00112,2,    0.053,2,    0.522,2,    0.480,2,   98.692,2
  096U20180111,  SR03,    34,  1,     30,     30,2,20180123,2003,-55.9302, 140.4093, 3569,    131.1,   1.9508,  33.9354,2,  33.9365,2,    316.9,2,    317.7,2,    17.20,2,    27.56,2,     0.31,2,     1.92,2,     0.05,2, -999.000,9, -999.000,9,     -999,9,   -999.0,9,   -999.0,9,-999.0000,9,  -999.00,  -999.00,9,   -999.0,9,   -999.0,  -999.00,9,   0.00086,2,    0.030,2,    0.144,2,    0.116,2,   99.247,2
  096U20180111,  SR03,    34,  1,     29,     29,2,20180123,2003,-55.9302, 140.4093, 3569,    181.4,   1.8353,  33.9692,2,  33.9729,2,    309.3,2,    308.0,2,    20.30,2,    28.53,2,     0.01,2,     1.96,2,        0,2,    4.723,2,    2.520,2,     2.94,2,   2167.3,2,   2286.2,2,-999.0000,9,  -999.00,    15.11,2,   -999.0,9,   -999.0,  -999.00,9,   0.00065,2,    0.020,2,    0.048,2,    0.000,2,   99.509,2
  096U20180111,  SR03,    34,  1,     28,     28,2,20180123,2003,-55.9302, 140.4093, 3569,    240.0,   2.2857,  34.0809,2,  34.0820,2,    267.2,2,    271.9,2,    28.30,2,    30.35,2,     0.01,2,     2.09,2,        0,2, -999.000,9, -999.000,9,     -999,9,   -999.0,9,   -999.0,9,-999.0000,9,  -999.00,  -999.00,9,   -999.0,9,   -999.0,  -999.00,9,   0.00058,2,    0.015,2,    0.036,2,    0.000,2,   99.628,2
  096U20180111,  SR03,    34,  1,     27,     27,2,20180123,2003,-55.9302, 140.4093, 3569,    301.7,   2.4377,  34.1699,2,  34.1706,2,    244.2,2,    245.6,2,    36.40,2,    31.83,2,     0.01,2,     2.19,2,        0,2, -999.000,9, -999.000,9,     -999,9,   -999.0,9,   -999.0,9,-999.0000,9,  -999.00,  -999.00,9,   -999.0,9,   -999.0,  -999.00,9,   0.00058,2,    0.015,2,    0.036,2,    0.000,2,   99.637,2
  096U20180111,  SR03,    34,  1,     26,     26,2,20180123,2003,-55.9302, 140.4093, 3569,    400.5,   2.6023,  34.3018,2,  34.3035,2,    209.2,2,    207.6,2,    48.80,2,    33.71,2,     0.00,2,     2.32,2,        0,2, -999.000,9, -999.000,9,     -999,9,   2224.2,2,   2310.0,2,-999.0000,9,  -999.00,  -999.00,9,   -999.0,9,   -999.0,  -999.00,9,   0.00055,2,    0.013,2,    0.036,2,    0.000,2,   99.683,2
  096U20180111,  SR03,    34,  1,     25,     25,2,20180123,2003,-55.9302, 140.4093, 3569,    500.4,   2.6716,  34.4023,2,  34.4038,2,    187.3,2,    188.1,2,    57.50,2,    34.35,2,     0.00,2,     2.37,2,        0,2,    1.668,2,    0.868,2,     0.77,2,   2237.4,2,   2320.4,2,-999.0000,9,  -999.00,    22.76,2,   -999.0,9,   -999.0,  -999.00,9,   0.00050,2,    0.010,2,    0.036,2,    0.000,2,   99.744,2
  096U20180111,  SR03,    34,  1,     24,     24,2,20180123,2003,-55.9302, 140.4093, 3569,    500.5,   2.6631,  34.4021,2,-999.0000,9,    187.3,2,   -999.0,9,  -999.00,9,  -999.00,9,  -999.00,9,  -999.00,9,     -999,9, -999.000,9, -999.000,9,     -999,9,   -999.0,9,   -999.0,9,-999.0000,9,  -999.00,  -999.00,9,   -999.0,9,   -999.0,  -999.00,9,   0.00050,2,    0.014,2,    0.036,2,    0.000,2,   99.663,2
  096U20180111,  SR03,    34,  1,     23,     23,2,20180123,2003,-55.9302, 140.4093, 3569,    600.8,   2.5710,  34.4739,2,  34.4737,2,    178.9,2,    177.2,2,    64.50,2,    34.64,2,     0.00,2,     2.39,2,    -0.01,2, -999.000,9, -999.000,9,     -999,9,   -999.0,9,   -999.0,9,-999.0000,9,  -999.00,  -999.00,9,   -999.0,9,   -999.0,  -999.00,9,   0.00045,2,    0.009,2,    0.036,2,    0.000,2,   99.768,2
  096U20180111,  SR03,    34,  1,     22,     22,2,20180123,2003,-55.9302, 140.4093, 3569,    701.0,   2.5280,  34.5353,2,  34.5342,2,    173.5,2,    172.8,2,    68.80,2,    34.35,2,     0.00,2,     2.38,2,        0,2, -999.000,9, -999.000,9,     -999,9,   -999.0,9,   -999.0,9,-999.0000,9,  -999.00,  -999.00,9,   -999.0,9,   -999.0,  -999.00,9,   0.00044,2,    0.008,2,    0.042,2,    0.000,2,   99.793,2
  096U20180111,  SR03,    34,  1,     21,     21,2,20180123,2003,-55.9302, 140.4093, 3569,    801.0,   2.4692,  34.5815,2,  34.5826,2,    172.0,2,    171.9,2,    71.90,2,    33.92,2,     0.00,2,     2.34,2,    -0.01,2,    0.682,2,    0.355,2,      0.2,2,   2252.4,2,   2336.7,2,-999.0000,9,  -999.00,    22.83,2,   -999.0,9,   -999.0,  -999.00,9,   0.00042,2,    0.007,2,    0.036,2,    0.000,2,   99.825,2
  096U20180111,  SR03,    34,  1,     20,     20,2,20180123,2003,-55.9302, 140.4093, 3569,    900.3,   2.4072,  34.6263,2,  34.6355,4,    173.3,2,    173.4,2,    74.30,2,    33.26,2,     0.00,2,     2.30,2,    -0.01,2, -999.000,9, -999.000,9,     -999,9,   -999.0,9,   -999.0,9,-999.0000,9,  -999.00,  -999.00,9,   -999.0,9,   -999.0,  -999.00,9,   0.00043,2,    0.006,2,    0.042,2,    0.000,2,   99.851,2
  096U20180111,  SR03,    34,  1,     19,     19,2,20180123,2003,-55.9302, 140.4093, 3569,   1000.4,   2.3608,  34.6563,2,  34.6565,2,    176.4,2,    176.3,2,    75.70,2,    32.67,2,     0.01,2,     2.27,2,        0,2, -999.000,9, -999.000,9,     -999,9,   -999.0,9,   -999.0,9,-999.0000,9,  -999.00,  -999.00,9,   -999.0,9,   -999.0,  -999.00,9,   0.00045,2,    0.005,2,    0.042,2,    0.000,2,   99.868,2
  096U20180111,  SR03,    34,  1,     18,     18,2,20180123,2003,-55.9302, 140.4093, 3569,   1099.9,   2.3100,  34.6838,2,  34.6840,2,    179.4,2,    179.7,2,    76.90,2,    32.05,2,     0.01,2,     2.23,2,    -0.01,2,    0.343,2,    0.177,2,      0.3,2,   2249.9,2,   2344.8,2,-999.0000,9,  -999.00,    21.37,2,   -999.0,9,   -999.0,  -999.00,9,   0.00038,2,    0.004,2,    0.042,2,    0.000,2,   99.890,2
  096U20180111,  SR03,    34,  1,     17,     17,2,20180123,2003,-55.9302, 140.4093, 3569,   1301.7,   2.1969,  34.7175,2,  34.7177,2,    185.9,2,    185.6,2,    79.20,2,    31.24,2,     0.01,2,     2.16,2,    -0.01,2, -999.000,9, -999.000,9,     -999,9,   -999.0,9,   -999.0,9,-999.0000,9,  -999.00,  -999.00,9,   -999.0,9,   -999.0,  -999.00,9,   0.00036,2,    0.004,2,    0.042,2,    0.000,2,   99.899,2
  096U20180111,  SR03,    34,  1,     16,     16,2,20180123,2003,-55.9302, 140.4093, 3569,   1500.5,   2.0487,  34.7381,2,  34.7392,2,    190.9,2,    190.9,2,    82.70,2,    30.72,2,     0.00,2,     2.13,2,        0,2, -999.000,9, -999.000,9,     -999,9,   -999.0,9,   -999.0,9,-999.0000,9,  -999.00,  -999.00,9,   -999.0,9,   -999.0,  -999.00,9,   0.00035,2,    0.003,2,    0.036,2,    0.000,2,   99.919,2
  096U20180111,  SR03,    34,  1,     15,     15,2,20180123,2003,-55.9302, 140.4093, 3569,   1500.4,   2.0475,  34.7380,2,-999.0000,9,    190.9,2,   -999.0,9,  -999.00,9,  -999.00,9,  -999.00,9,  -999.00,9,     -999,9, -999.000,9, -999.000,9,     -999,9,   -999.0,9,   -999.0,9,-999.0000,9,  -999.00,  -999.00,9,   -999.0,9,   -999.0,  -999.00,9,   0.00038,2,    0.003,2,    0.042,2,    0.000,2,   99.931,2
  096U20180111,  SR03,    34,  1,     14,     14,2,20180123,2003,-55.9302, 140.4093, 3569,   1701.3,   1.8792,  34.7466,2,  34.7469,2,    195.4,2,    195.5,2,    87.20,2,    30.48,2,     0.01,2,     2.12,2,    -0.01,2,    0.180,2,    0.096,2,     0.03,2,   2247.2,2,   2352.7,2,-999.0000,9,  -999.00,    18.84,2,   -999.0,9,   -999.0,  -999.00,9,   0.00041,2,    0.002,2,    0.042,2,    0.000,2,   99.936,2
  096U20180111,  SR03,    34,  1,     13,     13,2,20180123,2003,-55.9302, 140.4093, 3569,   1900.7,   1.7012,  34.7456,2,  34.7486,4,    198.6,2,    198.1,2,    92.00,2,    30.53,2,     0.01,2,     2.12,2,    -0.01,2, -999.000,9, -999.000,9,     -999,9,   -999.0,9,   -999.0,9,-999.0000,9,  -999.00,  -999.00,9,   -999.0,9,   -999.0,  -999.00,9,   0.00035,2,    0.002,2,    0.036,2,    0.000,2,   99.938,2
  096U20180111,  SR03,    34,  1,     12,     12,2,20180123,2003,-55.9302, 140.4093, 3569,   2100.8,   1.5031,  34.7399,2,  34.7408,2,    200.9,2,    200.7,2,    97.90,2,    30.84,2,     0.01,2,     2.15,2,        0,2,    0.179,2,    0.091,2,     0.04,2,   -999.0,9,   -999.0,9,-999.0000,9,  -999.00,    18.63,2,   -999.0,9,   -999.0,  -999.00,9,   0.00033,2,    0.002,2,    0.042,2,    0.000,2,   99.955,2
  096U20180111,  SR03,    34,  1,     11,     11,2,20180123,2003,-55.9302, 140.4093, 3569,   2100.6,   1.5028,  34.7400,2,-999.0000,9,    200.9,2,   -999.0,9,  -999.00,9,  -999.00,9,  -999.00,9,  -999.00,9,     -999,9, -999.000,9, -999.000,9,     -999,9,   -999.0,9,   -999.0,9,-999.0000,9,  -999.00,  -999.00,9,   -999.0,9,   -999.0,  -999.00,9,   0.00033,2,    0.002,2,    0.042,2,    0.000,2,   99.957,2
  096U20180111,  SR03,    34,  1,     10,     10,2,20180123,2003,-55.9302, 140.4093, 3569,   2348.9,   1.2842,  34.7304,2,  34.7311,2,    203.3,2,    202.5,2,   104.70,2,    31.21,2,     0.01,2,     2.17,2,        0,2,    0.192,2,    0.094,2,        0,2,   2254.8,6,   2360.2,6,-999.0000,9,  -999.00,    18.44,2,   -999.0,9,   -999.0,  -999.00,9,   0.00031,2,    0.001,2,    0.042,2,    0.000,2,   99.969,2
  096U20180111,  SR03,    34,  1,      9,      9,2,20180123,2003,-55.9302, 140.4093, 3569,   2599.5,   1.0853,  34.7205,2,  34.7213,2,    205.5,2,    205.0,2,   111.10,2,    31.54,2,     0.01,2,     2.20,2,    -0.01,2, -999.000,9, -999.000,9,     -999,9,   -999.0,9,   -999.0,9,-999.0000,9,  -999.00,  -999.00,9,   -999.0,9,   -999.0,  -999.00,9,   0.00030,2,    0.001,2,    0.036,2,    0.000,2,   99.971,2
  096U20180111,  SR03,    34,  1,      8,      8,2,20180123,2003,-55.9302, 140.4093, 3569,   2850.5,   0.9059,  34.7110,2,  34.7144,4,    207.9,2,    209.2,2,   116.60,2,    31.87,2,     0.01,2,     2.22,2,    -0.01,2,    0.294,2,    0.146,2,     0.04,2,   -999.0,9,   -999.0,9,-999.0000,9,  -999.00,    18.71,2,   -999.0,9,   -999.0,  -999.00,9,   0.00029,2,    0.002,2,    0.042,2,    0.000,2,   99.961,2
  096U20180111,  SR03,    34,  1,      7,      7,2,20180123,2003,-55.9302, 140.4093, 3569,   2850.5,   0.9056,  34.7111,2,-999.0000,9,    207.9,2,   -999.0,9,  -999.00,9,  -999.00,9,  -999.00,9,  -999.00,9,     -999,9, -999.000,9, -999.000,9,     -999,9,   -999.0,9,   -999.0,9,-999.0000,9,  -999.00,  -999.00,9,   -999.0,9,   -999.0,  -999.00,9,   0.00029,2,    0.001,2,    0.042,2,    0.000,2,   99.972,2
  096U20180111,  SR03,    34,  1,      6,      6,2,20180123,2003,-55.9302, 140.4093, 3569,   3100.2,   0.7153,  34.7015,2,  34.7017,2,    211.4,2,    211.2,2,   123.00,2,    32.12,2,     0.01,2,     2.24,2,    -0.01,2, -999.000,9, -999.000,9,     -999,9,   2260.3,2,   2362.7,2,-999.0000,9,  -999.00,  -999.00,9,   -999.0,9,   -999.0,  -999.00,9,   0.00031,2,    0.002,2,    0.042,2,    0.000,2,   99.964,2
  096U20180111,  SR03,    34,  1,      5,      5,2,20180123,2003,-55.9302, 140.4093, 3569,   3301.1,   0.6101,  34.6961,2,  34.6966,2,    213.4,2,    213.0,2,   126.90,2,    32.23,2,     0.01,2,     2.25,2,        0,2,    0.387,2,    0.197,2,     0.05,2,   -999.0,9,   -999.0,9,-999.0000,9,  -999.00,    18.19,2,   -999.0,9,   -999.0,  -999.00,9,   0.00031,2,    0.002,2,    0.036,2,    0.000,2,   99.951,2
  096U20180111,  SR03,    34,  1,      4,      4,2,20180123,2003,-55.9302, 140.4093, 3569,   3501.6,   0.5415,  34.6925,2,  34.6931,2,    214.6,2,    214.6,2,   130.60,2,    32.29,2,     0.00,2,     2.26,2,    -0.01,2, -999.000,9, -999.000,9,     -999,9,   -999.0,9,   -999.0,9,-999.0000,9,  -999.00,  -999.00,9,   -999.0,9,   -999.0,  -999.00,9,   0.00033,2,    0.003,2,    0.042,2,    0.000,2,   99.922,2
  096U20180111,  SR03,    34,  1,      3,      3,2,20180123,2003,-55.9302, 140.4093, 3569,   3640.5,   0.5175,  34.6908,2,  34.6909,2,    214.9,2,    215.2,2,   131.80,2,    32.38,2,     0.00,2,     2.26,2,        0,2,    0.553,2,    0.277,2,     0.23,3,   -999.0,9,   -999.0,9,-999.0000,9,  -999.00,    18.60,2,   -999.0,9,   -999.0,  -999.00,9,   0.00034,2,    0.004,2,    0.042,2,    0.000,2,   99.900,2
  096U20180111,  SR03,    34,  1,      2,      2,2,20180123,2003,-55.9302, 140.4093, 3569,   3708.7,   0.5182,  34.6904,2,-999.0000,9,    214.6,2,   -999.0,9,  -999.00,9,  -999.00,9,  -999.00,9,  -999.00,9,     -999,9, -999.000,9, -999.000,9,     -999,9,   -999.0,9,   -999.0,9,-999.0000,9,  -999.00,  -999.00,9,   -999.0,9,   -999.0,  -999.00,9,   0.00035,2,    0.005,2,    0.036,2,    0.000,2,   99.885,2
  096U20180111,  SR03,    34,  1,      1,      1,2,20180123,2003,-55.9302, 140.4093, 3569,   3708.6,   0.5183,  34.6904,2,  34.6906,2,    214.6,2,    215.5,2,   132.10,2,    32.35,2,     0.01,2,     2.27,2,    -0.01,2,    0.559,2,    0.278,2,     0.03,2,   2261.5,2,   2364.0,6,-999.0000,9,  -999.00,    18.36,2,   -999.0,9,   -999.0,  -999.00,9,   0.00034,2,    0.004,2,    0.042,2,    0.000,2,   99.888,2