BOTTLE,20230418CCHSIOENA
EXPOCODE,SECT_ID,STNNBR,CASTNO,SAMPNO,BTLNBR,BTLNBR_FLAG_W,DATE,TIME,LATITUDE,LONGITUDE,DEPTH,CTDPRS,CTDTMP,CTDSAL,CTDSAL_FLAG_W,SALNTY,SALNTY_FLAG_W,CTDOXY,CTDOXY_FLAG_W,OXYGEN,OXYGEN_FLAG_W,SILCAT,SILCAT_FLAG_W,NITRAT,NITRAT_FLAG_W,NITRIT,NITRIT_FLAG_W,PHSPHT,PHSPHT_FLAG_W,NH4,NH4_FLAG_W,CFC-11,CFC-11_FLAG_W,CFC-12,CFC-12_FLAG_W,SF6,SF6_FLAG_W,TCARBN,TCARBN_FLAG_W,ALKALI,ALKALI_FLAG_W,PH_TOT,PH_TOT_FLAG_W,PH_TMP,N2O,N2O_FLAG_W,DELC14,DELC14_FLAG_W,C14ERR,DELC13,DELC13_FLAG_W,CTDBETA700,CTDBETA700_FLAG_W,CTDBEAMCP,CTDBEAMCP_FLAG_W,CTDFLUOR,CTDFLUOR_FLAG_W,PAR,PAR_FLAG_W,CTDXMISS,CTDXMISS_FLAG_W
,,,,,,,,,,,METERS,DBAR,ITS-90,PSS-78,,PSS-78,,UMOL/KG,,UMOL/KG,,UMOL/KG,,UMOL/KG,,UMOL/KG,,UMOL/KG,,UMOL/KG,,PMOL/KG,,PMOL/KG,,FMOL/KG,,UMOL/KG,,UMOL/KG,,,,DEG C,NMOL/KG,,/MILLE,,/MILLE,/MILLE,,VOLTS,,1/M,,MG/M^3,,UMOL/M^2/SEC,,%TRANS,
  096U20180111,  SR03,    12,  1,     36,     36,2,20180116,0446,-48.0000, 144.6702, 4338,     10.2,  10.8552,  34.4277,2,  34.4276,2,    276.5,2,    278.1,2,     0.30,2,    10.90,2,     0.26,2,     0.86,2,     0.08,2,    3.140,2,    1.820,2,     2.39,2,   2093.7,2,   2291.3,2,-999.0000,9,  -999.00,    10.54,2,   -999.0,9,   -999.0,  -999.00,9,   0.00141,2,    0.181,2,    1.212,2,   50.400,2,   95.571,2
  096U20180111,  SR03,    12,  1,     35,     35,2,20180116,0446,-48.0000, 144.6702, 4338,     29.9,  10.7307,  34.4202,2,  34.4205,2,    276.7,2,    278.6,2,     0.30,2,    10.90,2,     0.25,2,     0.86,2,     0.07,2, -999.000,9, -999.000,9,     -999,9,   -999.0,9,   -999.0,9,-999.0000,9,  -999.00,  -999.00,9,   -999.0,9,   -999.0,  -999.00,9,   0.00155,2,    0.191,2,    1.566,2,   12.000,2,   95.329,2
  096U20180111,  SR03,    12,  1,     34,     34,2,20180116,0446,-48.0000, 144.6702, 4338,     50.5,  10.6716,  34.4335,2,-999.0000,9,    276.8,2,   -999.0,9,  -999.00,9,  -999.00,9,  -999.00,9,  -999.00,9,     -999,9, -999.000,9, -999.000,9,     -999,9,   -999.0,9,   -999.0,9,-999.0000,9,  -999.00,  -999.00,9,   -999.0,9,   -999.0,  -999.00,9,   0.00138,2,    0.162,2,    1.668,2,    3.860,2,   96.030,2
  096U20180111,  SR03,    12,  1,     33,     33,2,20180116,0446,-48.0000, 144.6702, 4338,     70.0,  10.5720,  34.5493,2,  34.5488,2,    272.1,2,    270.0,2,     0.60,2,    10.19,2,     0.30,2,     0.86,2,     0.71,2,    3.040,2,    1.742,2,     2.49,2,   2101.8,6,   2296.4,6,-999.0000,9,  -999.00,    10.57,2,   -999.0,9,   -999.0,  -999.00,9,   0.00095,2,    0.075,2,    1.098,2,    1.280,2,   98.156,2
  096U20180111,  SR03,    12,  1,     32,     32,2,20180116,0446,-48.0000, 144.6702, 4338,     90.2,  10.2765,  34.5512,2,  34.5493,2,    267.7,2,    267.4,2,     1.20,2,    11.00,2,     0.37,2,     0.92,2,     0.81,2, -999.000,9, -999.000,9,     -999,9,   -999.0,9,   -999.0,9,-999.0000,9,  -999.00,  -999.00,9,   -999.0,9,   -999.0,  -999.00,9,   0.00088,2,    0.051,2,    0.618,2,    0.463,2,   98.744,2
  096U20180111,  SR03,    12,  1,     31,     31,2,20180116,0446,-48.0000, 144.6702, 4338,    110.3,   8.9488,  34.4938,2,  34.4938,2,    267.0,2,    268.5,2,     3.40,2,    15.06,2,     0.37,2,     1.12,2,     0.02,2,    3.344,2,    1.883,2,     2.59,2,   2123.7,2,   2290.5,2,-999.0000,9,  -999.00,    10.88,2,   -999.0,9,   -999.0,  -999.00,9,   0.00089,2,    0.037,2,    0.306,2,    0.184,2,   99.073,2
  096U20180111,  SR03,    12,  1,     30,     30,2,20180116,0446,-48.0000, 144.6702, 4338,    110.0,   8.9391,  34.4944,2,-999.0000,9,    267.0,2,   -999.0,9,  -999.00,9,  -999.00,9,  -999.00,9,  -999.00,9,     -999,9, -999.000,9, -999.000,9,     -999,9,   -999.0,9,   -999.0,9,-999.0000,9,  -999.00,  -999.00,9,   -999.0,9,   -999.0,  -999.00,9,   0.00107,2,    0.036,2,    0.270,2,    0.184,2,   99.113,2
  096U20180111,  SR03,    12,  1,     29,     29,2,20180116,0446,-48.0000, 144.6702, 4338,    110.3,   8.9330,  34.4946,2,-999.0000,9,    267.0,2,   -999.0,9,  -999.00,9,  -999.00,9,  -999.00,9,  -999.00,9,     -999,9, -999.000,9, -999.000,9,     -999,9,   -999.0,9,   -999.0,9,-999.0000,9,  -999.00,  -999.00,9,   -999.0,9,   -999.0,  -999.00,9,   0.00096,2,    0.036,2,    0.276,2,    0.181,2,   99.104,2
  096U20180111,  SR03,    12,  1,     28,     28,2,20180116,0446,-48.0000, 144.6702, 4338,    159.1,   8.7047,  34.5163,2,  34.5157,2,    270.7,2,    271.5,2,     3.60,2,    15.50,2,     0.04,2,     1.11,2,        0,2, -999.000,9, -999.000,9,     -999,9,   -999.0,9,   -999.0,9,-999.0000,9,  -999.00,  -999.00,9,   -999.0,9,   -999.0,  -999.00,9,   0.00070,2,    0.021,2,    0.126,2,    0.006,2,   99.484,2
  096U20180111,  SR03,    12,  1,     27,     27,2,20180116,0446,-48.0000, 144.6702, 4338,    210.0,   8.8045,  34.5495,2,  34.5495,2,    267.7,2,    270.8,2,     3.60,2,    15.11,2,     0.02,2,     1.09,2,        0,2, -999.000,9, -999.000,9,     -999,9,   -999.0,9,   -999.0,9,-999.0000,9,  -999.00,  -999.00,9,   -999.0,9,   -999.0,  -999.00,9,   0.00076,2,    0.021,2,    0.060,2,    0.000,2,   99.483,2
  096U20180111,  SR03,    12,  1,     26,     26,2,20180116,0446,-48.0000, 144.6702, 4338,    260.9,   9.2860,  34.6689,2,  34.6685,2,    264.8,2,    265.1,2,     3.60,2,    14.07,2,     0.02,2,     1.03,2,     0.01,2,    3.227,2,    1.835,2,     2.07,2,   2126.5,2,   2295.7,2,-999.0000,9,  -999.00,    10.72,2,   -999.0,9,   -999.0,  -999.00,9,   0.00074,2,    0.019,2,    0.036,2,    0.000,2,   99.519,2
  096U20180111,  SR03,    12,  1,     25,     25,2,20180116,0446,-48.0000, 144.6702, 4338,    310.7,   9.0160,  34.6257,2,  34.6271,2,    264.5,2,    264.6,2,     3.70,2,    14.77,2,     0.02,2,     1.06,2,        0,2, -999.000,9, -999.000,9,     -999,9,   -999.0,9,   -999.0,9,-999.0000,9,  -999.00,  -999.00,9,   -999.0,9,   -999.0,  -999.00,9,   0.00065,2,    0.014,2,    0.030,2,    0.000,2,   99.644,2
  096U20180111,  SR03,    12,  1,     24,     24,2,20180116,0446,-48.0000, 144.6702, 4338,    360.7,   8.9890,  34.6247,2,  34.6230,2,    266.4,2,    266.6,2,     3.60,2,    14.75,2,     0.02,2,     1.06,2,        0,2, -999.000,9, -999.000,9,     -999,9,   -999.0,9,   -999.0,9,-999.0000,9,  -999.00,  -999.00,9,   -999.0,9,   -999.0,  -999.00,9,   0.00065,2,    0.012,2,    0.036,2,    0.000,2,   99.692,2
  096U20180111,  SR03,    12,  1,     23,     23,2,20180116,0446,-48.0000, 144.6702, 4338,    409.4,   8.9623,  34.6223,2,  34.6217,2,    267.6,2,    266.7,2,     3.60,2,    14.73,2,     0.02,2,     1.06,2,        0,2, -999.000,9, -999.000,9,     -999,9,   -999.0,9,   -999.0,9,-999.0000,9,  -999.00,  -999.00,9,   -999.0,9,   -999.0,  -999.00,9,   0.00061,2,    0.010,2,    0.024,2,    0.000,2,   99.744,2
  096U20180111,  SR03,    12,  1,     22,     22,2,20180116,0446,-48.0000, 144.6702, 4338,    500.3,   8.8919,  34.6098,2,  34.6108,2,    267.7,2,    266.9,2,     3.70,2,    14.90,2,     0.02,2,     1.07,2,        0,2,    3.278,2,    1.899,2,     2.23,2,   2127.7,2,   2294.5,2,-999.0000,9,  -999.00,    10.89,2,   -999.0,9,   -999.0,  -999.00,9,   0.00057,2,    0.009,2,    0.024,2,    0.000,2,   99.784,2
  096U20180111,  SR03,    12,  1,     21,     21,2,20180116,0446,-48.0000, 144.6702, 4338,    599.5,   8.4695,  34.5352,2,  34.5396,2,    258.9,2,    259.5,2,     4.80,2,    16.85,2,     0.01,2,     1.19,2,        0,2, -999.000,9, -999.000,9,     -999,9,   -999.0,9,   -999.0,9,-999.0000,9,  -999.00,  -999.00,9,   -999.0,9,   -999.0,  -999.00,9,   0.00055,2,    0.007,2,    0.024,2,    0.000,2,   99.831,2
  096U20180111,  SR03,    12,  1,     20,     20,2,20180116,0446,-48.0000, 144.6702, 4338,    701.0,   7.9695,  34.4740,2,  34.4747,2,    245.7,2,    246.7,2,     6.70,2,    19.49,2,     0.01,2,     1.35,2,        0,2,    3.251,2,    1.820,2,     1.82,2,   2143.1,2,   2290.5,2,-999.0000,9,  -999.00,    12.64,2,   -999.0,9,   -999.0,  -999.00,9,   0.00052,2,    0.006,2,    0.030,2,    0.000,2,   99.856,2
  096U20180111,  SR03,    12,  1,     19,     19,2,20180116,0446,-48.0000, 144.6702, 4338,    800.4,   7.4184,  34.4486,2,  34.4492,2,    219.8,2,    221.8,2,    11.00,2,    22.99,2,     0.01,2,     1.56,2,        0,2, -999.000,9, -999.000,9,     -999,9,   -999.0,9,   -999.0,9,-999.0000,9,  -999.00,  -999.00,9,   -999.0,9,   -999.0,  -999.00,9,   0.00049,2,    0.005,2,    0.030,2,    0.000,2,   99.875,2
  096U20180111,  SR03,    12,  1,     18,     18,2,20180116,0446,-48.0000, 144.6702, 4338,    903.0,   6.4916,  34.4032,2,  34.4052,2,    211.4,2,    209.2,2,    17.00,2,    26.05,2,     0.01,2,     1.77,2,        0,2, -999.000,9, -999.000,9,     -999,9,   -999.0,9,   -999.0,9,-999.0000,9,  -999.00,  -999.00,9,   -999.0,9,   -999.0,  -999.00,9,   0.00049,2,    0.004,2,    0.036,2,    0.000,2,   99.897,2
  096U20180111,  SR03,    12,  1,     17,     17,2,20180116,0446,-48.0000, 144.6702, 4338,    999.2,   5.7026,  34.3690,2,  34.3691,2,    206.3,2,    205.9,2,    22.40,2,    28.15,2,     0.01,2,     1.90,2,        0,2,    2.416,2,    1.283,2,     1.04,2,   2183.4,2,   2294.8,2,-999.0000,9,  -999.00,    17.63,2,   -999.0,9,   -999.0,  -999.00,9,   0.00046,2,    0.003,2,    0.036,2,    0.000,2,   99.917,2
  096U20180111,  SR03,    12,  1,     16,     16,2,20180116,0446,-48.0000, 144.6702, 4338,   1099.7,   4.5971,  34.3059,2,  34.2984,2,    214.8,2,    214.9,2,    27.30,2,    29.88,2,     0.01,2,     2.04,2,        0,2, -999.000,9, -999.000,9,     -999,9,   -999.0,9,   -999.0,9,-999.0000,9,  -999.00,  -999.00,9,   -999.0,9,   -999.0,  -999.00,9,   0.00048,2,    0.003,2,    0.036,2,    0.000,2,   99.920,2
  096U20180111,  SR03,    12,  1,     15,     15,2,20180116,0446,-48.0000, 144.6702, 4338,   1199.1,   4.3694,  34.3689,2,  34.3687,2,    195.8,2,    195.2,2,    38.20,2,    31.28,2,     0.00,2,     2.15,2,        0,2,    1.754,2,    0.915,2,     0.61,2,   2209.0,6,   2307.7,6,-999.0000,9,  -999.00,    19.65,2,   -999.0,9,   -999.0,  -999.00,9,   0.00045,2,    0.002,2,    0.036,2,    0.000,2,   99.957,2
  096U20180111,  SR03,    12,  1,     14,     14,2,20180116,0446,-48.0000, 144.6702, 4338,   1298.8,   3.8287,  34.3909,2,  34.3902,2,    188.5,2,    188.2,2,    46.80,2,    32.54,2,     0.00,2,     2.25,2,    -0.01,2, -999.000,9, -999.000,9,     -999,9,   -999.0,9,   -999.0,9,-999.0000,9,  -999.00,  -999.00,9,   -999.0,9,   -999.0,  -999.00,9,   0.00044,2,    0.001,2,    0.036,2,    0.000,2,   99.966,2
  096U20180111,  SR03,    12,  1,     13,     13,2,20180116,0446,-48.0000, 144.6702, 4338,   1401.4,   3.6039,  34.4317,2,  34.4312,2,    180.0,2,    179.8,2,    54.80,2,    33.20,2,     0.00,2,     2.31,2,    -0.01,2, -999.000,9, -999.000,9,     -999,9,   -999.0,9,   -999.0,9,-999.0000,9,  -999.00,  -999.00,9,   -999.0,9,   -999.0,  -999.00,9,   0.00042,2,    0.001,2,    0.036,2,    0.000,2,   99.968,2
  096U20180111,  SR03,    12,  1,     12,     12,2,20180116,0446,-48.0000, 144.6702, 4338,   1649.2,   2.9735,  34.5288,2,  34.5267,2,    166.8,2,    167.8,2,    70.30,2,    34.11,2,     0.00,2,     2.37,2,        0,2,    0.571,2,    0.298,2,     0.03,2,   2254.1,2,   2339.5,6,-999.0000,9,  -999.00,    22.19,2,   -999.0,9,   -999.0,  -999.00,9,   0.00039,2,    0.001,2,    0.042,2,    0.000,2,   99.978,2
  096U20180111,  SR03,    12,  1,     11,     11,2,20180116,0446,-48.0000, 144.6702, 4338,   1903.4,   2.6242,  34.6139,2,  34.6129,2,    173.0,2,    172.9,2,    72.50,2,    33.24,2,     0.00,2,     2.30,2,        0,2, -999.000,9, -999.000,9,     -999,9,   -999.0,9,   -999.0,9,-999.0000,9,  -999.00,  -999.00,9,   -999.0,9,   -999.0,  -999.00,9,   0.00047,2,    0.000,2,    0.042,2,    0.000,2,   99.998,2
  096U20180111,  SR03,    12,  1,     10,     10,2,20180116,0446,-48.0000, 144.6702, 4338,   2150.8,   2.4224,  34.6875,2,  34.6859,2,    174.6,2,    175.5,2,    80.90,2,    32.30,2,     0.00,2,     2.25,2,        0,2,    0.189,2,    0.089,2,     0.19,3,   2258.0,2,   2351.3,2,-999.0000,9,  -999.00,    20.46,2,   -999.0,9,   -999.0,  -999.00,9,   0.00037,2,   -0.001,2,    0.048,2,    0.000,2,  100.015,2
  096U20180111,  SR03,    12,  1,      9,      9,2,20180116,0446,-48.0000, 144.6702, 4338,   2448.7,   2.2286,  34.7252,2,  34.7244,2,    179.2,2,    178.5,2,    89.90,2,    31.86,2,     0.00,2,     2.23,2,        0,2, -999.000,9, -999.000,9,     -999,9,   -999.0,9,   -999.0,9,-999.0000,9,  -999.00,  -999.00,9,   -999.0,9,   -999.0,  -999.00,9,   0.00042,2,   -0.001,2,    0.048,2,    0.000,2,  100.019,2
  096U20180111,  SR03,    12,  1,      8,      8,2,20180116,0446,-48.0000, 144.6702, 4338,   2750.1,   2.0347,  34.7432,2,  34.7421,2,    190.4,2,    189.4,2,    90.00,2,    30.91,2,     0.00,2,     2.15,2,        0,2, -999.000,9, -999.000,9,     -999,9,   -999.0,9,   -999.0,9,-999.0000,9,  -999.00,  -999.00,9,   -999.0,9,   -999.0,  -999.00,9,   0.00035,2,   -0.002,2,    0.042,2,    0.000,2,  100.040,2
  096U20180111,  SR03,    12,  1,      7,      7,2,20180116,0446,-48.0000, 144.6702, 4338,   3049.7,   1.7167,  34.7415,2,  34.7410,2,    194.7,2,    195.4,2,    98.00,2,    30.96,2,     0.00,2,     2.16,2,        0,2,    0.114,2,    0.052,2,    -0.02,2,   2257.5,2,   2361.3,2,-999.0000,9,  -999.00,    18.42,2,   -999.0,9,   -999.0,  -999.00,9,   0.00036,2,   -0.002,2,    0.042,2,    0.000,2,  100.063,2
  096U20180111,  SR03,    12,  1,      6,      6,2,20180116,0446,-48.0000, 144.6702, 4338,   3449.2,   1.3762,  34.7287,2,  34.7275,2,    198.6,2,    198.1,2,   110.40,2,    31.63,2,     0.00,2,     2.21,2,        0,2, -999.000,9, -999.000,9,     -999,9,   -999.0,9,   -999.0,9,-999.0000,9,  -999.00,  -999.00,9,   -999.0,9,   -999.0,  -999.00,9,   0.00032,2,   -0.002,2,    0.042,2,    0.000,2,  100.050,2
  096U20180111,  SR03,    12,  1,      5,      5,2,20180116,0446,-48.0000, 144.6702, 4338,   3749.6,   1.1570,  34.7191,2,  34.7181,2,    201.5,2,    200.3,2,   117.50,2,    32.03,2,     0.00,2,     2.24,2,        0,2,    0.053,2,    0.021,2,    -0.05,2,   -999.0,9,   -999.0,9,-999.0000,9,  -999.00,    17.95,2,   -999.0,9,   -999.0,  -999.00,9,   0.00032,2,   -0.002,2,    0.042,2,    0.000,2,  100.052,2
  096U20180111,  SR03,    12,  1,      4,      4,2,20180116,0446,-48.0000, 144.6702, 4338,   4050.0,   1.0402,  34.7133,2,  34.7124,2,    203.0,2,    201.9,2,   120.60,2,    32.26,2,     0.00,2,     2.25,2,        0,2, -999.000,9, -999.000,9,     -999,9,   -999.0,9,   -999.0,9,-999.0000,9,  -999.00,  -999.00,9,   -999.0,9,   -999.0,  -999.00,9,   0.00035,2,    0.001,2,    0.042,2,    0.000,2,   99.986,2
  096U20180111,  SR03,    12,  1,      3,      3,2,20180116,0446,-48.0000, 144.6702, 4338,   4352.0,   1.0409,  34.7119,2,  34.7122,2,    203.0,2,    202.4,2,   121.50,2,    32.30,2,     0.00,2,     2.26,2,        0,2,    0.054,2,    0.021,2,     0.03,2,   -999.0,9,   -999.0,9,-999.0000,9,  -999.00,    17.69,2,   -999.0,9,   -999.0,  -999.00,9,   0.00042,2,    0.004,2,    0.042,2,    0.000,2,   99.912,2
  096U20180111,  SR03,    12,  1,      2,      2,2,20180116,0446,-48.0000, 144.6702, 4338,   4444.7,   1.0503,  34.7116,2,  34.7108,2,    202.9,2,    202.4,2,   121.60,2,    32.27,2,     0.00,2,     2.26,2,        0,2,    0.056,2,    0.027,2,     0.05,2,   2274.5,6,   2383.4,6,-999.0000,9,  -999.00,    18.01,2,   -999.0,9,   -999.0,  -999.00,9,   0.00042,2,    0.004,2,    0.042,2,    0.000,2,   99.905,2
  096U20180111,  SR03,    12,  1,      1,      1,2,20180116,0446,-48.0000, 144.6702, 4338,   4453.0,   1.0503,  34.7116,2,  34.7111,2,    202.9,2,    202.4,2,   121.60,2,    32.28,2,     0.00,2,     2.27,2,        0,2, -999.000,9, -999.000,9,     -999,9,   -999.0,9,   -999.0,9,-999.0000,9,  -999.00,  -999.00,9,   -999.0,9,   -999.0,  -999.00,9,   0.00041,2,    0.004,2,    0.042,2,    0.000,2,   99.913,2