BOTTLE,20230418CCHSIOENA
EXPOCODE,SECT_ID,STNNBR,CASTNO,SAMPNO,BTLNBR,BTLNBR_FLAG_W,DATE,TIME,LATITUDE,LONGITUDE,DEPTH,CTDPRS,CTDTMP,CTDSAL,CTDSAL_FLAG_W,SALNTY,SALNTY_FLAG_W,CTDOXY,CTDOXY_FLAG_W,OXYGEN,OXYGEN_FLAG_W,SILCAT,SILCAT_FLAG_W,NITRAT,NITRAT_FLAG_W,NITRIT,NITRIT_FLAG_W,PHSPHT,PHSPHT_FLAG_W,NH4,NH4_FLAG_W,CFC-11,CFC-11_FLAG_W,CFC-12,CFC-12_FLAG_W,SF6,SF6_FLAG_W,TCARBN,TCARBN_FLAG_W,ALKALI,ALKALI_FLAG_W,PH_TOT,PH_TOT_FLAG_W,PH_TMP,N2O,N2O_FLAG_W,DELC14,DELC14_FLAG_W,C14ERR,DELC13,DELC13_FLAG_W,CTDBETA700,CTDBETA700_FLAG_W,CTDBEAMCP,CTDBEAMCP_FLAG_W,CTDFLUOR,CTDFLUOR_FLAG_W,PAR,PAR_FLAG_W,CTDXMISS,CTDXMISS_FLAG_W
,,,,,,,,,,,METERS,DBAR,ITS-90,PSS-78,,PSS-78,,UMOL/KG,,UMOL/KG,,UMOL/KG,,UMOL/KG,,UMOL/KG,,UMOL/KG,,UMOL/KG,,PMOL/KG,,PMOL/KG,,FMOL/KG,,UMOL/KG,,UMOL/KG,,,,DEG C,NMOL/KG,,/MILLE,,/MILLE,/MILLE,,VOLTS,,1/M,,MG/M^3,,UMOL/M^2/SEC,,%TRANS,
  096U20180111,  SR03,   104,  1,     36,     36,2,20180216,0025,-58.0000, 131.9997, 4656,     12.7,   4.1107,  33.8377,2,  33.8390,2,    317.5,2,    317.1,2,  -999.00,9,  -999.00,9,  -999.00,9,  -999.00,9,     -999,9,    4.949,2,    2.685,2,     3.09,3,   2139.9,2,   2282.9,2,-999.0000,9,  -999.00,    13.37,2,   -999.0,9,   -999.0,  -999.00,9,   0.00142,2,    0.156,2,    0.744,2,   70.000,2,   96.179,2
  096U20180111,  SR03,   104,  1,     35,     35,2,20180216,0025,-58.0000, 131.9997, 4656,     12.9,   4.1078,  33.8375,2,-999.0000,9,    317.5,2,   -999.0,9,  -999.00,9,  -999.00,9,  -999.00,9,  -999.00,9,     -999,9, -999.000,9, -999.000,9,     -999,9,   -999.0,9,   -999.0,9,-999.0000,9,  -999.00,  -999.00,9,   -999.0,9,   -999.0,  -999.00,9,   0.00146,2,    0.162,2,    0.924,2,   68.100,2,   96.042,2
  096U20180111,  SR03,   104,  1,     34,     34,2,20180216,0025,-58.0000, 131.9997, 4656,     41.0,   4.0954,  33.8375,2,  33.8383,2,    316.9,2,    317.4,2,     4.50,2,    24.69,2,     0.25,2,     1.47,2,     0.11,2,    4.913,2,    2.654,2,     3.34,3,   2139.8,6,   2284.9,6,-999.0000,9,  -999.00,    13.26,2,   -999.0,9,   -999.0,  -999.00,9,   0.00188,2,    0.180,2,    1.686,2,   12.800,2,   95.606,2
  096U20180111,  SR03,   104,  1,     33,     33,2,20180216,0025,-58.0000, 131.9997, 4656,     70.6,   3.1165,  33.8766,2,-999.0000,9,    327.5,2,   -999.0,9,  -999.00,9,  -999.00,9,  -999.00,9,  -999.00,9,     -999,9, -999.000,9, -999.000,9,     -999,9,   -999.0,9,   -999.0,9,-999.0000,9,  -999.00,  -999.00,9,   -999.0,9,   -999.0,  -999.00,9,   0.00267,2,    0.275,2,    4.230,2,    1.760,2,   93.347,2
  096U20180111,  SR03,   104,  1,     32,     32,2,20180216,0025,-58.0000, 131.9997, 4656,     70.4,   3.1494,  33.8761,2,  33.8730,2,    327.5,2,    324.8,2,     7.80,2,    25.34,2,     0.24,2,     1.66,2,     0.33,2,    5.206,2,    2.771,2,     4.11,3,   2146.9,2,   2285.5,2,-999.0000,9,  -999.00,    14.79,2,   -999.0,9,   -999.0,  -999.00,9,   0.00296,2,    0.275,2,    4.284,2,    1.790,2,   93.364,2
  096U20180111,  SR03,   104,  1,     31,     31,2,20180216,0025,-58.0000, 131.9997, 4656,    118.3,   1.1362,  33.9372,2,  33.9361,2,    322.7,2,    325.0,2,    21.80,2,    28.19,2,     0.27,2,     2.00,2,     0.38,2,    5.523,2,    2.973,2,     3.98,3,   2169.6,2,   2287.1,2,-999.0000,9,  -999.00,    14.77,2,   -999.0,9,   -999.0,  -999.00,9,   0.00087,2,    0.047,2,    0.378,2,    0.064,2,   98.824,2
  096U20180111,  SR03,   104,  1,     30,     30,2,20180216,0025,-58.0000, 131.9997, 4656,    180.9,   1.1458,  34.0334,2,  34.0306,2,    283.8,2,    296.0,2,    30.20,2,    30.54,2,     0.01,2,     2.10,2,        0,2, -999.000,9, -999.000,9,     -999,9,   -999.0,9,   -999.0,9,-999.0000,9,  -999.00,  -999.00,9,   -999.0,9,   -999.0,  -999.00,9,   0.00052,2,    0.018,2,    0.048,2,    0.000,2,   99.556,2
  096U20180111,  SR03,   104,  1,     29,     29,2,20180216,0025,-58.0000, 131.9997, 4656,    242.1,   2.0328,  34.2185,2,  34.2174,2,    238.0,2,    235.0,2,    45.00,2,    33.16,2,     0.01,2,     2.28,2,    -0.01,2,    3.340,2,    1.787,2,     1.77,3,   2216.2,2,   2304.7,2,-999.0000,9,  -999.00,    21.36,2,   -999.0,9,   -999.0,  -999.00,9,   0.00054,2,    0.018,2,    0.036,2,    0.000,2,   99.563,2
  096U20180111,  SR03,   104,  1,     28,     28,2,20180216,0025,-58.0000, 131.9997, 4656,    352.7,   2.3384,  34.3801,2,  34.3800,2,    195.2,2,    193.3,2,    59.00,2,    34.81,2,     0.01,2,     2.39,2,    -0.01,2,    1.985,2,    1.035,2,     0.65,3,   2239.7,2,   2319.3,6,-999.0000,9,  -999.00,    24.45,2,   -999.0,9,   -999.0,  -999.00,9,   0.00049,2,    0.019,2,    0.042,2,    0.000,2,   99.538,2
  096U20180111,  SR03,   104,  1,     27,     27,2,20180216,0025,-58.0000, 131.9997, 4656,    451.2,   2.4105,  34.4796,2,  34.4803,2,    177.5,2,    177.9,2,    66.50,2,    35.02,2,     0.01,2,     2.41,2,    -0.01,2,    1.280,2,    0.661,2,     0.48,3,   2248.6,2,   2328.3,2,-999.0000,9,  -999.00,    23.95,2,   -999.0,9,   -999.0,  -999.00,9,   0.00043,2,    0.010,2,    0.036,2,    0.000,2,   99.745,2
  096U20180111,  SR03,   104,  1,     26,     26,2,20180216,0025,-58.0000, 131.9997, 4656,    551.9,   2.4092,  34.5476,2,  34.5366,4,    172.6,2,    172.8,2,    70.80,2,    34.52,2,     0.01,2,     2.38,2,    -0.01,2,    0.894,2,    0.456,2,      0.2,3,   2252.3,2,   2334.1,2,-999.0000,9,  -999.00,    23.63,2,   -999.0,9,   -999.0,  -999.00,9,   0.00041,2,    0.010,2,    0.042,2,    0.000,2,   99.751,2
  096U20180111,  SR03,   104,  1,     25,     25,2,20180216,0025,-58.0000, 131.9997, 4656,    653.0,   2.3749,  34.5927,2,  34.5923,2,    171.5,2,    172.4,2,    73.50,2,    34.10,2,     0.00,2,     2.35,2,    -0.01,2,    0.674,2,    0.346,2,      0.3,3,   2253.8,2,   2335.8,2,-999.0000,9,  -999.00,    23.07,2,   -999.0,9,   -999.0,  -999.00,9,   0.00039,2,    0.007,2,    0.036,2,    0.000,2,   99.813,2
  096U20180111,  SR03,   104,  1,     24,     24,2,20180216,0025,-58.0000, 131.9997, 4656,    801.0,   2.3175,  34.6479,2,-999.0000,9,    175.2,2,   -999.0,9,  -999.00,9,  -999.00,9,  -999.00,9,  -999.00,9,     -999,9, -999.000,9, -999.000,9,     -999,9,   -999.0,9,   -999.0,9,-999.0000,9,  -999.00,  -999.00,9,   -999.0,9,   -999.0,  -999.00,9,   0.00037,2,    0.006,2,    0.036,2,    0.000,2,   99.853,2
  096U20180111,  SR03,   104,  1,     23,     23,2,20180216,0025,-58.0000, 131.9997, 4656,    800.5,   2.3171,  34.6477,2,  34.6486,2,    175.2,2,    175.1,2,    76.00,2,    33.15,2,     0.00,2,     2.29,2,    -0.01,2,    0.479,2,    0.248,2,      0.4,3,   2253.0,2,   2342.2,2,-999.0000,9,  -999.00,    22.00,2,   -999.0,9,   -999.0,  -999.00,9,   0.00035,2,    0.006,2,    0.036,2,    0.000,2,   99.857,2
  096U20180111,  SR03,   104,  1,     22,     22,2,20180216,0025,-58.0000, 131.9997, 4656,    952.7,   2.2456,  34.6887,2,  34.6885,2,    179.4,2,    179.5,2,    78.00,2,    32.29,2,     0.00,2,     2.23,2,    -0.01,2,    0.338,2,    0.172,2,      0.1,3,   2251.4,2,   2345.0,2,-999.0000,9,  -999.00,    21.47,2,   -999.0,9,   -999.0,  -999.00,9,   0.00035,2,    0.006,2,    0.036,2,    0.000,2,   99.859,2
  096U20180111,  SR03,   104,  1,     21,     21,2,20180216,0025,-58.0000, 131.9997, 4656,   1100.1,   2.1561,  34.7156,2,  34.7157,2,    183.7,2,    184.6,2,    80.00,2,    31.58,2,     0.00,2,     2.18,2,    -0.01,2,    0.272,2,    0.141,2,     0.06,3,   2249.2,2,   2347.9,2,-999.0000,9,  -999.00,    20.52,2,   -999.0,9,   -999.0,  -999.00,9,   0.00031,2,    0.004,2,    0.036,2,    0.000,2,   99.897,2
  096U20180111,  SR03,   104,  1,     20,     20,2,20180216,0025,-58.0000, 131.9997, 4656,   1301.9,   2.0378,  34.7356,2,  34.7358,2,    189.5,2,    189.9,2,    82.90,2,    30.98,2,     0.00,2,     2.14,2,    -0.01,2,    0.218,2,    0.114,2,     0.06,3,   2247.9,2,   2351.1,2,-999.0000,9,  -999.00,    19.64,2,   -999.0,9,   -999.0,  -999.00,9,   0.00033,2,    0.003,2,    0.036,2,    0.000,2,   99.919,2
  096U20180111,  SR03,   104,  1,     19,     19,2,20180216,0025,-58.0000, 131.9997, 4656,   1501.1,   1.8904,  34.7460,2,  34.7462,2,    193.8,2,    194.7,2,    86.50,2,    30.67,2,     0.00,2,     2.12,2,    -0.01,2, -999.000,9, -999.000,9,     -999,9,   -999.0,9,   -999.0,9,-999.0000,9,  -999.00,  -999.00,9,   -999.0,9,   -999.0,  -999.00,9,   0.00032,2,    0.003,2,    0.036,2,    0.000,2,   99.928,2
  096U20180111,  SR03,   104,  1,     18,     18,2,20180216,0025,-58.0000, 131.9997, 4656,   1701.5,   1.7280,  34.7465,2,  34.7470,2,    196.8,2,    197.3,2,    91.00,2,    30.72,2,     0.00,2,     2.12,2,    -0.01,2,    0.167,2,    0.089,2,    -0.04,3,   2250.1,2,   2354.6,6,-999.0000,9,  -999.00,    18.95,2,   -999.0,9,   -999.0,  -999.00,9,   0.00031,2,    0.002,2,    0.036,2,    0.000,2,   99.939,2
  096U20180111,  SR03,   104,  1,     17,     17,2,20180216,0025,-58.0000, 131.9997, 4656,   1901.2,   1.5519,  34.7422,2,  34.7426,2,    199.2,2,    199.9,2,    96.10,2,    30.87,2,     0.00,2,     2.13,2,    -0.01,2,    0.170,2,    0.086,2,     0.07,3,   2252.4,2,   2358.1,2,-999.0000,9,  -999.00,    18.89,2,   -999.0,9,   -999.0,  -999.00,9,   0.00031,2,    0.002,2,    0.036,2,    0.000,2,   99.951,2
  096U20180111,  SR03,   104,  1,     16,     16,2,20180216,0025,-58.0000, 131.9997, 4656,   2101.2,   1.3607,  34.7348,2,  34.7345,2,    201.4,2,    201.8,2,   101.60,2,    31.15,2,     0.00,2,     2.16,2,    -0.01,2, -999.000,9, -999.000,9,     -999,9,   -999.0,9,   -999.0,9,-999.0000,9,  -999.00,  -999.00,9,   -999.0,9,   -999.0,  -999.00,9,   0.00029,2,    0.002,2,    0.036,2,    0.000,2,   99.960,2
  096U20180111,  SR03,   104,  1,     15,     15,2,20180216,0025,-58.0000, 131.9997, 4656,   2351.6,   1.1799,  34.7260,2,  34.7261,2,    204.0,2,    204.0,2,   107.50,2,    31.49,2,     0.00,2,     2.19,2,    -0.01,2,    0.206,2,    0.103,2,     0.17,3,   2255.8,2,   2361.8,2,-999.0000,9,  -999.00,    18.87,2,   -999.0,9,   -999.0,  -999.00,9,   0.00028,2,    0.001,2,    0.042,2,    0.000,2,   99.964,2
  096U20180111,  SR03,   104,  1,     14,     14,2,20180216,0025,-58.0000, 131.9997, 4656,   2600.9,   0.9947,  34.7164,2,  34.7162,2,    206.4,2,    206.4,2,   113.40,2,    31.81,2,     0.00,2,     2.21,2,    -0.01,2,    0.245,2,    0.121,2,     0.01,3,   2258.0,6,   2362.8,6,-999.0000,9,  -999.00,    18.55,2,   -999.0,9,   -999.0,  -999.00,9,   0.00029,2,    0.002,2,    0.042,2,    0.000,2,   99.960,2
  096U20180111,  SR03,   104,  1,     13,     13,2,20180216,0025,-58.0000, 131.9997, 4656,   2851.0,   0.8241,  34.7073,2,  34.7069,2,    209.2,2,    208.9,2,   118.10,2,    32.10,2,     0.00,2,     2.23,2,    -0.01,2, -999.000,9, -999.000,9,     -999,9,   -999.0,9,   -999.0,9,-999.0000,9,  -999.00,  -999.00,9,   -999.0,9,   -999.0,  -999.00,9,   0.00027,2,    0.001,2,    0.036,2,    0.000,2,   99.966,2
  096U20180111,  SR03,   104,  1,     12,     12,2,20180216,0025,-58.0000, 131.9997, 4656,   3100.2,   0.6529,  34.6982,2,  34.6981,2,    212.4,2,    212.2,2,   122.20,2,    32.31,2,     0.00,2,     2.25,2,    -0.01,2, -999.000,9, -999.000,9,     -999,9,   2259.4,2,   2361.7,2,-999.0000,9,  -999.00,  -999.00,9,   -999.0,9,   -999.0,  -999.00,9,   0.00026,2,    0.001,2,    0.036,2,    0.000,2,   99.965,2
  096U20180111,  SR03,   104,  1,     11,     11,2,20180216,0025,-58.0000, 131.9997, 4656,   3100.0,   0.6507,  34.6981,2,-999.0000,9,    212.4,2,   -999.0,9,  -999.00,9,  -999.00,9,  -999.00,9,  -999.00,9,     -999,9, -999.000,9, -999.000,9,     -999,9,   -999.0,9,   -999.0,9,-999.0000,9,  -999.00,  -999.00,9,   -999.0,9,   -999.0,  -999.00,9,   0.00028,2,    0.001,2,    0.042,2,    0.000,2,   99.973,2
  096U20180111,  SR03,   104,  1,     10,     10,2,20180216,0025,-58.0000, 131.9997, 4656,   3400.5,   0.5005,  34.6901,2,  34.6915,2,    215.9,2,    215.7,2,   126.30,2,    32.51,2,     0.00,2,     2.27,2,    -0.01,2,    0.519,2,    0.252,2,    -0.02,3,   2260.5,2,   2362.1,2,-999.0000,9,  -999.00,    18.51,2,   -999.0,9,   -999.0,  -999.00,9,   0.00025,2,    0.001,2,    0.042,2,    0.000,2,   99.966,2
  096U20180111,  SR03,   104,  1,      9,      9,2,20180216,0025,-58.0000, 131.9997, 4656,   3400.2,   0.4999,  34.6902,2,-999.0000,9,    215.9,2,   -999.0,9,  -999.00,9,  -999.00,9,  -999.00,9,  -999.00,9,     -999,9, -999.000,9, -999.000,9,     -999,9,   -999.0,9,   -999.0,9,-999.0000,9,  -999.00,  -999.00,9,   -999.0,9,   -999.0,  -999.00,9,   0.00025,2,    0.001,2,    0.042,2,    0.000,2,   99.968,2
  096U20180111,  SR03,   104,  1,      8,      8,2,20180216,0025,-58.0000, 131.9997, 4656,   3700.8,   0.3957,  34.6847,2,-999.0000,9,    219.3,2,    218.6,2,  -999.00,9,  -999.00,9,  -999.00,9,  -999.00,9,     -999,9, -999.000,9, -999.000,9,     -999,9,   -999.0,9,   -999.0,9,-999.0000,9,  -999.00,  -999.00,9,   -999.0,9,   -999.0,  -999.00,9,   0.00024,2,    0.001,2,    0.036,2,    0.000,2,   99.974,2
  096U20180111,  SR03,   104,  1,      7,      7,2,20180216,0025,-58.0000, 131.9997, 4656,   3700.6,   0.3954,  34.6847,2,  34.6839,2,    219.3,2,    218.8,2,   129.10,2,    32.55,2,     0.00,2,     2.27,2,    -0.01,2,    0.643,2,    0.316,2,     0.08,3,   2261.1,2,   2361.3,6,-999.0000,9,  -999.00,    18.40,2,   -999.0,9,   -999.0,  -999.00,9,   0.00025,2,    0.001,2,    0.042,2,    0.000,2,   99.974,2
  096U20180111,  SR03,   104,  1,      6,      6,2,20180216,0025,-58.0000, 131.9997, 4656,   4001.0,   0.3073,  34.6799,2,  34.6793,2,    222.3,2,    221.6,2,   132.30,2,    32.64,2,     0.00,2,     2.27,2,    -0.01,2,    0.778,2,    0.379,2,     0.06,3,   2259.8,2,   2361.6,2,-999.0000,9,  -999.00,    18.70,2,   -999.0,9,   -999.0,  -999.00,9,   0.00025,2,    0.002,2,    0.042,2,    0.000,2,   99.962,2
  096U20180111,  SR03,   104,  1,      5,      5,2,20180216,0025,-58.0000, 131.9997, 4656,   4251.0,   0.2315,  34.6753,2,  34.6749,2,    225.1,2,    224.7,2,   134.10,2,    32.62,2,     0.00,2,     2.27,2,    -0.01,2, -999.000,9, -999.000,9,     -999,9,   -999.0,9,   -999.0,9,-999.0000,9,  -999.00,  -999.00,9,   -999.0,9,   -999.0,  -999.00,9,   0.00027,2,    0.003,2,    0.042,2,    0.000,2,   99.921,2
  096U20180111,  SR03,   104,  1,      4,      4,2,20180216,0025,-58.0000, 131.9997, 4656,   4500.5,   0.1667,  34.6704,2,  34.6705,2,    227.8,2,    227.2,2,   136.90,2,    32.55,2,     0.00,2,     2.27,2,    -0.01,2,    1.139,2,    0.567,2,     0.15,3,   2259.8,6,   2361.2,6,-999.0000,9,  -999.00,    18.60,2,   -999.0,9,   -999.0,  -999.00,9,   0.00031,2,    0.006,2,    0.036,2,    0.000,2,   99.843,2
  096U20180111,  SR03,   104,  1,      3,      3,2,20180216,0025,-58.0000, 131.9997, 4656,   4700.5,   0.1437,  34.6678,2,  34.6672,2,    229.6,2,    228.6,2,   137.10,2,    32.66,2,     0.00,2,     2.27,2,    -0.01,2,    1.246,2,    0.613,2,      0.5,3,   2259.5,2,   2360.7,2,-999.0000,9,  -999.00,    18.56,2,   -999.0,9,   -999.0,  -999.00,9,   0.00036,2,    0.010,2,    0.042,2,    0.000,2,   99.751,2
  096U20180111,  SR03,   104,  1,      2,      2,2,20180216,0025,-58.0000, 131.9997, 4656,   4753.4,   0.1302,  34.6665,2,-999.0000,9,    230.8,2,   -999.0,9,  -999.00,9,  -999.00,9,  -999.00,9,  -999.00,9,     -999,9, -999.000,9, -999.000,9,     -999,9,   -999.0,9,   -999.0,9,-999.0000,9,  -999.00,  -999.00,9,   -999.0,9,   -999.0,  -999.00,9,   0.00038,2,    0.011,2,    0.036,2,    0.000,2,   99.725,2
  096U20180111,  SR03,   104,  1,      1,      1,2,20180216,0025,-58.0000, 131.9997, 4656,   4753.3,   0.1308,  34.6667,2,  34.6668,2,    230.8,2,    229.6,2,   136.70,2,    32.63,2,     0.00,2,     2.27,2,    -0.01,2,    1.318,2,    0.662,2,     0.43,3,   2259.6,2,   2359.6,2,-999.0000,9,  -999.00,    18.40,2,   -999.0,9,   -999.0,  -999.00,9,   0.00040,2,    0.011,2,    0.042,2,    0.000,2,   99.726,2