BOTTLE,20230418CCHSIOENA
EXPOCODE,SECT_ID,STNNBR,CASTNO,SAMPNO,BTLNBR,BTLNBR_FLAG_W,DATE,TIME,LATITUDE,LONGITUDE,DEPTH,CTDPRS,CTDTMP,CTDSAL,CTDSAL_FLAG_W,SALNTY,SALNTY_FLAG_W,CTDOXY,CTDOXY_FLAG_W,OXYGEN,OXYGEN_FLAG_W,SILCAT,SILCAT_FLAG_W,NITRAT,NITRAT_FLAG_W,NITRIT,NITRIT_FLAG_W,PHSPHT,PHSPHT_FLAG_W,NH4,NH4_FLAG_W,CFC-11,CFC-11_FLAG_W,CFC-12,CFC-12_FLAG_W,SF6,SF6_FLAG_W,TCARBN,TCARBN_FLAG_W,ALKALI,ALKALI_FLAG_W,PH_TOT,PH_TOT_FLAG_W,PH_TMP,N2O,N2O_FLAG_W,DELC14,DELC14_FLAG_W,C14ERR,DELC13,DELC13_FLAG_W,CTDBETA700,CTDBETA700_FLAG_W,CTDBEAMCP,CTDBEAMCP_FLAG_W,CTDFLUOR,CTDFLUOR_FLAG_W,PAR,PAR_FLAG_W,CTDXMISS,CTDXMISS_FLAG_W
,,,,,,,,,,,METERS,DBAR,ITS-90,PSS-78,,PSS-78,,UMOL/KG,,UMOL/KG,,UMOL/KG,,UMOL/KG,,UMOL/KG,,UMOL/KG,,UMOL/KG,,PMOL/KG,,PMOL/KG,,FMOL/KG,,UMOL/KG,,UMOL/KG,,,,DEG C,NMOL/KG,,/MILLE,,/MILLE,/MILLE,,VOLTS,,1/M,,MG/M^3,,UMOL/M^2/SEC,,%TRANS,
  096U20180111,  SR03,   100,  1,     36,     36,2,20180214,2223,-60.0323, 132.2167, 4648,      9.4,   3.1515,  33.7596,2,  33.7609,2,    320.9,2,    323.8,2,     7.70,2,    24.50,2,     0.25,2,     1.48,2,     0.17,2,    5.038,2,    2.793,2,     3.45,2,   2141.9,2,   2281.4,2,-999.0000,9,  -999.00,    14.14,2,   -999.0,9,   -999.0,  -999.00,9,   0.00161,2,    0.184,2,    0.156,2,  482.000,2,   95.505,2
  096U20180111,  SR03,   100,  1,     35,     35,2,20180214,2223,-60.0323, 132.2167, 4648,      9.5,   3.1506,  33.7596,2,-999.0000,9,    320.9,2,   -999.0,9,  -999.00,9,  -999.00,9,  -999.00,9,  -999.00,9,     -999,9, -999.000,9, -999.000,9,     -999,9,   -999.0,9,   -999.0,9,-999.0000,9,  -999.00,  -999.00,9,   -999.0,9,   -999.0,  -999.00,9,   0.00163,2,    0.186,2,    0.156,2,  474.000,2,   95.464,2
  096U20180111,  SR03,   100,  1,     34,     34,2,20180214,2223,-60.0323, 132.2167, 4648,     31.2,   3.1106,  33.7623,2,  33.7627,2,    324.6,2,    323.9,2,     7.50,2,    24.55,2,     0.25,2,     1.50,2,     0.18,2, -999.000,9, -999.000,9,     -999,9,   2141.9,6,   2281.9,6,-999.0000,9,  -999.00,  -999.00,9,   -999.0,9,   -999.0,  -999.00,9,   0.00219,2,    0.238,2,    1.050,2,   88.700,2,   94.228,2
  096U20180111,  SR03,   100,  1,     33,     33,2,20180214,2223,-60.0323, 132.2167, 4648,     60.9,   2.5899,  33.7647,2,  33.7681,2,    328.4,2,    328.8,2,     9.10,2,    24.86,2,     0.24,2,     1.57,2,     0.29,2, -999.000,9, -999.000,9,     -999,9,   2146.6,2,   2283.6,2,-999.0000,9,  -999.00,  -999.00,9,   -999.0,9,   -999.0,  -999.00,9,   0.00306,2,    0.308,2,    3.324,2,    9.750,2,   92.583,2
  096U20180111,  SR03,   100,  1,     32,     32,2,20180214,2223,-60.0323, 132.2167, 4648,    101.6,   0.3755,  33.9331,2,  33.9319,2,    337.0,2,    332.1,2,    24.90,2,    28.59,2,     0.35,2,     2.02,2,     0.26,2,    5.495,2,    3.039,2,     3.37,2,   2172.4,2,   2289.2,2,-999.0000,9,  -999.00,    16.17,2,   -999.0,9,   -999.0,  -999.00,9,   0.00088,2,    0.044,2,    0.444,2,    0.320,2,   98.902,2
  096U20180111,  SR03,   100,  1,     31,     31,2,20180214,2223,-60.0323, 132.2167, 4648,    150.3,  -0.1026,  33.9771,2,  33.9761,2,    321.0,2,    322.5,2,    30.70,2,    30.10,2,     0.10,2,     2.08,2,        0,2,    5.350,2,    2.913,2,      3.6,2,   2181.8,2,   2291.0,2,-999.0000,9,  -999.00,    16.93,2,   -999.0,9,   -999.0,  -999.00,9,   0.00049,2,    0.019,2,    0.138,2,    0.143,2,   99.528,2
  096U20180111,  SR03,   100,  1,     30,     30,2,20180214,2223,-60.0323, 132.2167, 4648,    200.3,   0.6992,  34.1289,2,  34.1268,2,    259.8,2,    272.6,2,    42.30,2,    32.29,2,     0.01,2,     2.23,2,        0,2, -999.000,9, -999.000,9,     -999,9,   2206.3,2,   2301.9,6,-999.0000,9,  -999.00,  -999.00,9,   -999.0,9,   -999.0,  -999.00,9,   0.00045,2,    0.015,2,    0.060,2,    0.011,2,   99.624,2
  096U20180111,  SR03,   100,  1,     29,     29,2,20180214,2223,-60.0323, 132.2167, 4648,    250.6,   1.9724,  34.3491,2,  34.3504,2,    201.7,2,    202.3,2,    58.40,2,    34.89,2,     0.01,2,     2.40,2,        0,2, -999.000,9, -999.000,9,     -999,9,   -999.0,9,   -999.0,9,-999.0000,9,  -999.00,  -999.00,9,   -999.0,9,   -999.0,  -999.00,9,   0.00051,2,    0.017,2,    0.042,2,    0.000,2,   99.574,2
  096U20180111,  SR03,   100,  1,     28,     28,2,20180214,2223,-60.0323, 132.2167, 4648,    301.3,   2.1715,  34.4239,2,  34.4250,2,    185.6,2,    186.1,2,    64.40,2,    35.36,2,     0.01,2,     2.43,2,        0,2,    1.744,2,    0.910,2,     0.79,2,   2246.6,2,   2323.0,2,-999.0000,9,  -999.00,    26.29,2,   -999.0,9,   -999.0,  -999.00,9,   0.00051,2,    0.018,2,    0.042,2,    0.000,2,   99.555,2
  096U20180111,  SR03,   100,  1,     27,     27,2,20180214,2223,-60.0323, 132.2167, 4648,    401.0,   2.2913,  34.5194,2,  34.5203,2,    176.1,2,    174.5,2,    70.50,2,    35.02,2,     0.01,2,     2.42,2,        0,2, -999.000,9, -999.000,9,     -999,9,   2253.1,2,   2331.1,2,-999.0000,9,  -999.00,  -999.00,9,   -999.0,9,   -999.0,  -999.00,9,   0.00042,2,    0.012,2,    0.036,2,    0.000,2,   99.697,2
  096U20180111,  SR03,   100,  1,     26,     26,2,20180214,2223,-60.0323, 132.2167, 4648,    500.9,   2.3242,  34.5890,2,  34.5884,2,    171.9,2,    171.6,2,    74.10,2,    34.38,2,     0.00,2,     2.37,2,    -0.01,2,    0.727,2,    0.383,2,      0.1,2,   2256.7,2,   2336.7,2,-999.0000,9,  -999.00,    24.16,2,   -999.0,9,   -999.0,  -999.00,9,   0.00037,2,    0.008,2,    0.036,2,    0.000,2,   99.810,2
  096U20180111,  SR03,   100,  1,     25,     25,2,20180214,2223,-60.0323, 132.2167, 4648,    601.2,   2.2859,  34.6335,2,  34.6338,2,    174.0,2,    174.2,2,    76.00,2,    33.54,2,     0.00,2,     2.31,2,    -0.01,2,    0.542,2,    0.287,2,     0.11,2,   2255.8,2,   2339.0,2,-999.0000,9,  -999.00,    23.12,2,   -999.0,9,   -999.0,  -999.00,9,   0.00037,2,    0.008,2,    0.036,2,    0.000,2,   99.806,2
  096U20180111,  SR03,   100,  1,     24,     24,2,20180214,2223,-60.0323, 132.2167, 4648,    701.1,   2.2342,  34.6649,2,  34.6669,2,    176.4,2,    177.3,2,    77.80,2,    32.99,2,     0.00,2,     2.28,2,        0,2, -999.000,9, -999.000,9,     -999,9,   -999.0,9,   -999.0,9,-999.0000,9,  -999.00,  -999.00,9,   -999.0,9,   -999.0,  -999.00,9,   0.00035,2,    0.006,2,    0.036,2,    0.000,2,   99.849,2
  096U20180111,  SR03,   100,  1,     23,     23,2,20180214,2223,-60.0323, 132.2167, 4648,    800.2,   2.1821,  34.6907,2,  34.6910,2,    179.9,2,    180.5,2,    79.00,2,    32.31,2,     0.00,2,     2.23,2,    -0.01,2,    0.364,2,    0.194,2,     0.15,2,   2252.3,2,   2344.7,2,-999.0000,9,  -999.00,    21.87,2,   -999.0,9,   -999.0,  -999.00,9,   0.00032,2,    0.005,2,    0.036,2,    0.000,2,   99.868,2
  096U20180111,  SR03,   100,  1,     22,     22,2,20180214,2223,-60.0323, 132.2167, 4648,    952.3,   2.0983,  34.7172,2,  34.7170,2,    185.0,2,    185.6,2,    80.90,2,    31.61,2,     0.00,2,     2.19,2,    -0.01,2, -999.000,9, -999.000,9,     -999,9,   -999.0,9,   -999.0,9,-999.0000,9,  -999.00,  -999.00,9,   -999.0,9,   -999.0,  -999.00,9,   0.00031,2,    0.005,2,    0.042,2,    0.000,2,   99.883,2
  096U20180111,  SR03,   100,  1,     21,     21,2,20180214,2223,-60.0323, 132.2167, 4648,   1100.1,   2.0039,  34.7330,2,  34.7345,2,    189.6,2,    190.8,2,    83.10,2,    31.13,2,     0.00,2,     2.15,2,    -0.01,2,    0.246,2,    0.130,2,     0.01,2,   2249.4,2,   2348.4,2,-999.0000,9,  -999.00,    20.18,2,   -999.0,9,   -999.0,  -999.00,9,   0.00029,2,    0.003,2,    0.042,2,    0.000,2,   99.925,2
  096U20180111,  SR03,   100,  1,     20,     20,2,20180214,2223,-60.0323, 132.2167, 4648,   1301.7,   1.8687,  34.7444,2,  34.7451,2,    194.1,2,    194.5,2,    86.40,2,    30.71,2,     0.00,2,     2.13,2,    -0.01,2,    0.198,2,    0.105,2,     0.05,2,   2248.6,2,   2353.1,2,-999.0000,9,  -999.00,    19.81,2,   -999.0,9,   -999.0,  -999.00,9,   0.00030,2,    0.002,2,    0.042,2,    0.000,2,   99.951,2
  096U20180111,  SR03,   100,  1,     19,     19,2,20180214,2223,-60.0323, 132.2167, 4648,   1501.2,   1.6968,  34.7452,2,  34.7455,2,    197.3,2,    197.9,2,    91.00,2,    30.71,2,     0.00,2,     2.13,2,    -0.01,2,    0.194,2,    0.105,2,        0,2,   2250.0,2,   2355.2,2,-999.0000,9,  -999.00,    19.48,2,   -999.0,9,   -999.0,  -999.00,9,   0.00028,2,    0.002,2,    0.042,2,    0.000,2,   99.959,2
  096U20180111,  SR03,   100,  1,     18,     18,2,20180214,2223,-60.0323, 132.2167, 4648,   1752.7,   1.4807,  34.7400,2,  34.7400,2,    200.8,2,    200.8,2,    97.30,2,    30.93,2,     0.00,2,     2.15,2,    -0.01,2,    0.196,2,    0.104,2,     0.08,2,   2252.5,2,   2357.4,2,-999.0000,9,  -999.00,    19.24,2,   -999.0,9,   -999.0,  -999.00,9,   0.00028,2,    0.001,2,    0.042,2,    0.000,2,   99.982,2
  096U20180111,  SR03,   100,  1,     17,     17,2,20180214,2223,-60.0323, 132.2167, 4648,   2001.1,   1.2783,  34.7315,2,  34.7316,2,    203.2,2,    203.0,2,   103.40,2,    31.27,2,     0.00,2,     2.17,2,    -0.01,2,    0.204,2,    0.098,2,     0.04,2,   2253.5,2,   2361.6,2,-999.0000,9,  -999.00,    19.41,2,   -999.0,9,   -999.0,  -999.00,9,   0.00027,2,    0.000,2,    0.042,2,    0.000,2,   99.990,2
  096U20180111,  SR03,   100,  1,     16,     16,2,20180214,2223,-60.0323, 132.2167, 4648,   2250.8,   1.0968,  34.7225,2,  34.7271,4,    205.1,2,    204.8,2,   108.90,2,    31.54,2,     0.00,2,     2.20,2,    -0.01,2,    0.226,2,    0.115,2,     0.08,2,   -999.0,9,   -999.0,9,-999.0000,9,  -999.00,    19.13,2,   -999.0,9,   -999.0,  -999.00,9,   0.00026,2,    0.000,2,    0.042,2,    0.000,2,   99.998,2
  096U20180111,  SR03,   100,  1,     15,     15,2,20180214,2223,-60.0323, 132.2167, 4648,   2501.0,   0.9055,  34.7121,2,  34.7121,2,    207.3,2,    207.6,2,   114.30,2,    31.87,2,     0.00,2,     2.23,2,    -0.01,2,    0.274,2,    0.139,2,     0.05,2,   2258.9,6,   2362.4,6,-999.0000,9,  -999.00,    19.62,2,   -999.0,9,   -999.0,  -999.00,9,   0.00026,2,    0.000,2,    0.036,2,    0.000,2,  100.003,2
  096U20180111,  SR03,   100,  1,     14,     14,2,20180214,2223,-60.0323, 132.2167, 4648,   2500.9,   0.9051,  34.7121,2,-999.0000,9,    207.3,2,   -999.0,9,  -999.00,9,  -999.00,9,  -999.00,9,  -999.00,9,     -999,9, -999.000,9, -999.000,9,     -999,9,   -999.0,9,   -999.0,9,-999.0000,9,  -999.00,  -999.00,9,   -999.0,9,   -999.0,  -999.00,9,   0.00025,2,    0.000,2,    0.042,2,    0.000,2,  100.008,2
  096U20180111,  SR03,   100,  1,     13,     13,2,20180214,2223,-60.0323, 132.2167, 4648,   2800.5,   0.6972,  34.7008,2,  34.7004,2,    210.6,2,    211.3,2,   119.80,2,    32.19,2,     0.00,2,     2.25,2,    -0.01,2,    0.355,2,    0.183,2,      0.1,2,   2260.3,2,   2361.3,2,-999.0000,9,  -999.00,    19.30,2,   -999.0,9,   -999.0,  -999.00,9,   0.00025,2,    0.000,2,    0.042,2,    0.000,2,  100.003,2
  096U20180111,  SR03,   100,  1,     12,     12,2,20180214,2223,-60.0323, 132.2167, 4648,   2800.6,   0.6970,  34.7010,2,-999.0000,9,    210.6,2,   -999.0,9,  -999.00,9,  -999.00,9,  -999.00,9,  -999.00,9,     -999,9, -999.000,9, -999.000,9,     -999,9,   -999.0,9,   -999.0,9,-999.0000,9,  -999.00,  -999.00,9,   -999.0,9,   -999.0,  -999.00,9,   0.00025,2,    0.000,2,    0.042,2,    0.000,2,  100.008,2
  096U20180111,  SR03,   100,  1,     11,     11,2,20180214,2223,-60.0323, 132.2167, 4648,   3101.5,   0.5120,  34.6916,2,  34.6912,2,    214.4,2,    215.1,2,   124.30,2,    32.38,2,     0.00,2,     2.27,2,        0,2,    0.478,2,    0.244,2,      0.1,2,   2259.9,2,   2361.7,2,-999.0000,9,  -999.00,    19.24,2,   -999.0,9,   -999.0,  -999.00,9,   0.00024,2,    0.000,2,    0.042,2,    0.000,2,  100.003,2
  096U20180111,  SR03,   100,  1,     10,     10,2,20180214,2223,-60.0323, 132.2167, 4648,   3101.5,   0.5120,  34.6915,2,-999.0000,9,    214.4,2,   -999.0,9,  -999.00,9,  -999.00,9,  -999.00,9,  -999.00,9,     -999,9, -999.000,9, -999.000,9,     -999,9,   -999.0,9,   -999.0,9,-999.0000,9,  -999.00,  -999.00,9,   -999.0,9,   -999.0,  -999.00,9,   0.00023,2,    0.000,2,    0.042,2,    0.000,2,  100.000,2
  096U20180111,  SR03,   100,  1,      9,      9,2,20180214,2223,-60.0323, 132.2167, 4648,   3350.4,   0.4086,  34.6866,2,  34.6862,2,    217.4,2,    218.2,2,   127.50,2,    32.45,2,     0.00,2,     2.27,2,    -0.01,2,    0.591,2,    0.292,2,     0.15,2,   -999.0,9,   -999.0,9,-999.0000,9,  -999.00,    19.15,2,   -999.0,9,   -999.0,  -999.00,9,   0.00026,2,    0.000,2,    0.036,2,    0.000,2,  100.009,2
  096U20180111,  SR03,   100,  1,      8,      8,2,20180214,2223,-60.0323, 132.2167, 4648,   3600.4,   0.3265,  34.6821,2,  34.6826,2,    220.4,2,    220.7,2,   129.40,2,    32.53,2,     0.00,2,     2.28,2,    -0.01,2,    0.723,2,    0.358,2,     0.09,2,   2260.8,2,   2359.9,2,-999.0000,9,  -999.00,    19.47,2,   -999.0,9,   -999.0,  -999.00,9,   0.00024,2,    0.000,2,    0.042,2,    0.000,2,   99.993,2
  096U20180111,  SR03,   100,  1,      7,      7,2,20180214,2223,-60.0323, 132.2167, 4648,   3850.7,   0.2499,  34.6773,2,  34.6766,2,    223.7,2,    222.6,2,   129.20,2,    32.52,2,     0.00,2,     2.27,2,    -0.01,2,    0.835,2,    0.418,2,     0.03,2,   -999.0,9,   -999.0,9,-999.0000,9,  -999.00,    19.04,2,   -999.0,9,   -999.0,  -999.00,9,   0.00022,2,    0.000,2,    0.042,2,    0.000,2,  100.007,2
  096U20180111,  SR03,   100,  1,      6,      6,2,20180214,2223,-60.0323, 132.2167, 4648,   4100.5,   0.1713,  34.6725,2,  34.6717,2,    227.1,2,    227.1,2,   129.30,2,    32.50,2,     0.00,2,     2.27,2,    -0.01,2,    1.035,2,    0.534,2,     0.13,2,   2258.3,2,   2358.0,2,-999.0000,9,  -999.00,    18.89,2,   -999.0,9,   -999.0,  -999.00,9,   0.00021,2,    0.000,2,    0.042,2,    0.000,2,  100.005,2
  096U20180111,  SR03,   100,  1,      5,      5,2,20180214,2223,-60.0323, 132.2167, 4648,   4297.9,   0.1150,  34.6688,2,  34.6689,2,    230.0,2,    229.5,2,   129.80,2,    32.52,2,     0.00,2,     2.27,2,    -0.01,2,    1.198,2,    0.598,2,     0.28,2,   -999.0,9,   -999.0,9,-999.0000,9,  -999.00,    18.87,2,   -999.0,9,   -999.0,  -999.00,9,   0.00021,2,    0.000,2,    0.042,2,    0.000,2,  100.001,2
  096U20180111,  SR03,   100,  1,      4,      4,2,20180214,2223,-60.0323, 132.2167, 4648,   4498.6,   0.0502,  34.6631,2,  34.6634,2,    233.3,2,    232.7,2,   127.70,2,    32.41,2,     0.00,2,     2.27,2,    -0.01,2,    1.471,6,    0.753,6,     0.31,2,   2258.9,6,   2358.4,6,-999.0000,9,  -999.00,    19.16,6,   -999.0,9,   -999.0,  -999.00,9,   0.00022,2,    0.000,2,    0.042,2,    0.000,2,   99.991,2
  096U20180111,  SR03,   100,  1,      3,      3,2,20180214,2223,-60.0323, 132.2167, 4648,   4699.1,  -0.0634,  34.6515,2,  34.6514,2,    237.7,2,    237.7,2,   130.50,2,    32.33,2,     0.00,2,     2.26,2,    -0.01,2,    1.942,2,    1.016,2,     0.77,2,   2257.1,2,   2356.0,2,-999.0000,9,  -999.00,    19.33,2,   -999.0,9,   -999.0,  -999.00,9,   0.00030,2,    0.006,2,    0.042,2,    0.000,2,   99.852,2
  096U20180111,  SR03,   100,  1,      2,      2,2,20180214,2223,-60.0323, 132.2167, 4648,   4747.4,  -0.0877,  34.6487,2,-999.0000,9,    239.3,2,   -999.0,9,  -999.00,9,  -999.00,9,  -999.00,9,  -999.00,9,     -999,9, -999.000,9, -999.000,9,     -999,9,   -999.0,9,   -999.0,9,-999.0000,9,  -999.00,  -999.00,9,   -999.0,9,   -999.0,  -999.00,9,   0.00040,2,    0.011,2,    0.036,2,    0.000,2,   99.728,2
  096U20180111,  SR03,   100,  1,      1,      1,2,20180214,2223,-60.0323, 132.2167, 4648,   4747.4,  -0.0874,  34.6486,2,  34.6491,2,    239.3,2,    238.7,2,   128.00,2,    32.32,2,     0.00,2,     2.26,2,    -0.01,2,    2.043,2,    1.079,2,     0.99,2,   2257.4,2,   2355.3,2,-999.0000,9,  -999.00,    19.41,2,   -999.0,9,   -999.0,  -999.00,9,   0.00038,2,    0.011,2,    0.036,2,    0.000,2,   99.733,2