BOTTLE,20230418CCHSIOENA
EXPOCODE,SECT_ID,STNNBR,CASTNO,SAMPNO,BTLNBR,BTLNBR_FLAG_W,DATE,TIME,LATITUDE,LONGITUDE,DEPTH,CTDPRS,CTDTMP,CTDSAL,CTDSAL_FLAG_W,SALNTY,SALNTY_FLAG_W,CTDOXY,CTDOXY_FLAG_W,OXYGEN,OXYGEN_FLAG_W,SILCAT,SILCAT_FLAG_W,NITRAT,NITRAT_FLAG_W,NITRIT,NITRIT_FLAG_W,PHSPHT,PHSPHT_FLAG_W,NH4,NH4_FLAG_W,CFC-11,CFC-11_FLAG_W,CFC-12,CFC-12_FLAG_W,SF6,SF6_FLAG_W,TCARBN,TCARBN_FLAG_W,ALKALI,ALKALI_FLAG_W,PH_TOT,PH_TOT_FLAG_W,PH_TMP,N2O,N2O_FLAG_W,DELC14,DELC14_FLAG_W,C14ERR,DELC13,DELC13_FLAG_W,CTDBETA700,CTDBETA700_FLAG_W,CTDBEAMCP,CTDBEAMCP_FLAG_W,CTDFLUOR,CTDFLUOR_FLAG_W,PAR,PAR_FLAG_W,CTDXMISS,CTDXMISS_FLAG_W
,,,,,,,,,,,METERS,DBAR,ITS-90,PSS-78,,PSS-78,,UMOL/KG,,UMOL/KG,,UMOL/KG,,UMOL/KG,,UMOL/KG,,UMOL/KG,,UMOL/KG,,PMOL/KG,,PMOL/KG,,FMOL/KG,,UMOL/KG,,UMOL/KG,,,,DEG C,NMOL/KG,,/MILLE,,/MILLE,/MILLE,,VOLTS,,1/M,,MG/M^3,,UMOL/M^2/SEC,,%TRANS,
  096U20180111,  SR03,    15,  1,     36,     36,2,20180117,0539,-49.2705, 144.0913, 4227,     11.3,   9.6749,  34.3053,2,  34.3069,2,    286.8,2,    287.2,2,     1.40,2,    13.51,2,     0.23,2,     0.94,2,     0.08,2,    3.251,2,    1.906,2,     2.37,2,   2098.2,6,   2285.8,6,-999.0000,9,  -999.00,    10.84,2,   -999.0,9,   -999.0,  -999.00,9,   0.00359,2,    0.329,2,    3.516,2,    7.950,2,   92.112,2
  096U20180111,  SR03,    15,  1,     35,     35,2,20180117,0539,-49.2705, 144.0913, 4227,     11.1,   9.6780,  34.3056,2,-999.0000,9,    286.8,2,   -999.0,9,  -999.00,9,  -999.00,9,  -999.00,9,  -999.00,9,     -999,9, -999.000,9, -999.000,9,     -999,9,   -999.0,9,   -999.0,9,-999.0000,9,  -999.00,  -999.00,9,   -999.0,9,   -999.0,  -999.00,9,   0.00358,2,    0.328,2,    3.648,2,    8.430,2,   92.136,2
  096U20180111,  SR03,    15,  1,     34,     34,2,20180117,0539,-49.2705, 144.0913, 4227,     55.4,   9.6128,  34.2942,2,-999.0000,9,    286.3,2,   -999.0,9,  -999.00,9,  -999.00,9,  -999.00,9,  -999.00,9,     -999,9,    3.287,2,    1.916,2,     2.44,2,   -999.0,9,   -999.0,9,-999.0000,9,  -999.00,    10.75,2,   -999.0,9,   -999.0,  -999.00,9,   0.00352,2,    0.292,2,    3.510,2,    0.067,2,   92.957,2
  096U20180111,  SR03,    15,  1,     33,     33,2,20180117,0539,-49.2705, 144.0913, 4227,     55.4,   9.6112,  34.2938,2,  34.2937,2,    286.3,2,    285.6,2,     1.90,2,    13.87,2,     0.23,2,     0.98,2,     0.16,2, -999.000,9, -999.000,9,     -999,9,   2100.8,2,   2287.5,2,-999.0000,9,  -999.00,  -999.00,9,   -999.0,9,   -999.0,  -999.00,9,   0.00355,2,    0.287,2,    3.498,2,    0.067,2,   93.084,2
  096U20180111,  SR03,    15,  1,     32,     32,2,20180117,0539,-49.2705, 144.0913, 4227,     90.6,   9.3715,  34.3631,2,-999.0000,9,    279.5,2,   -999.0,9,  -999.00,9,  -999.00,9,  -999.00,9,  -999.00,9,     -999,9, -999.000,9, -999.000,9,     -999,9,   -999.0,9,   -999.0,9,-999.0000,9,  -999.00,  -999.00,9,   -999.0,9,   -999.0,  -999.00,9,   0.00210,2,    0.106,2,    0.918,2,    0.000,2,   97.385,2
  096U20180111,  SR03,    15,  1,     31,     31,2,20180117,0539,-49.2705, 144.0913, 4227,     90.6,   9.3822,  34.3656,2,-999.0000,9,    279.5,2,   -999.0,9,  -999.00,9,  -999.00,9,  -999.00,9,  -999.00,9,     -999,9, -999.000,9, -999.000,9,     -999,9,   -999.0,9,   -999.0,9,-999.0000,9,  -999.00,  -999.00,9,   -999.0,9,   -999.0,  -999.00,9,   0.00210,2,    0.105,2,    0.930,2,    0.000,2,   97.399,2
  096U20180111,  SR03,    15,  1,     30,     30,2,20180117,0539,-49.2705, 144.0913, 4227,     90.4,   9.3759,  34.3642,2,-999.0000,9,    279.5,2,   -999.0,9,  -999.00,9,  -999.00,9,  -999.00,9,  -999.00,9,     -999,9, -999.000,9, -999.000,9,     -999,9,   -999.0,9,   -999.0,9,-999.0000,9,  -999.00,  -999.00,9,   -999.0,9,   -999.0,  -999.00,9,   0.00203,2,    0.103,2,    0.948,2,    0.000,2,   97.454,2
  096U20180111,  SR03,    15,  1,     29,     29,2,20180117,0539,-49.2705, 144.0913, 4227,     90.6,   9.4085,  34.3728,2,-999.0000,9,    279.5,2,   -999.0,9,  -999.00,9,  -999.00,9,  -999.00,9,  -999.00,9,     -999,9, -999.000,9, -999.000,9,     -999,9,   -999.0,9,   -999.0,9,-999.0000,9,  -999.00,  -999.00,9,   -999.0,9,   -999.0,  -999.00,9,   0.00202,2,    0.104,2,    0.900,2,    0.000,2,   97.438,2
  096U20180111,  SR03,    15,  1,     28,     28,2,20180117,0539,-49.2705, 144.0913, 4227,     90.6,   9.4583,  34.3866,2,-999.0000,9,    279.5,2,   -999.0,9,  -999.00,9,  -999.00,9,  -999.00,9,  -999.00,9,     -999,9, -999.000,9, -999.000,9,     -999,9,   -999.0,9,   -999.0,9,-999.0000,9,  -999.00,  -999.00,9,   -999.0,9,   -999.0,  -999.00,9,   0.00196,2,    0.101,2,    0.930,2,    0.000,2,   97.508,2
  096U20180111,  SR03,    15,  1,     27,     27,2,20180117,0539,-49.2705, 144.0913, 4227,     90.5,   9.4631,  34.3878,2,  34.3878,2,    279.5,2,    276.8,2,     2.60,2,    13.59,2,     0.25,2,     1.03,2,     0.54,2,    3.272,2,    1.927,2,     2.68,2,   2226.6,4,   2289.8,2,-999.0000,9,  -999.00,    11.37,2,   -999.0,9,   -999.0,  -999.00,9,   0.00192,2,    0.103,2,    0.942,2,    0.000,2,   97.468,2
  096U20180111,  SR03,    15,  1,     26,     26,2,20180117,0539,-49.2705, 144.0913, 4227,    204.0,   7.5983,  34.3460,2,-999.0000,9,    275.2,2,   -999.0,9,  -999.00,9,  -999.00,9,  -999.00,9,  -999.00,9,     -999,9, -999.000,9, -999.000,9,     -999,9,   -999.0,9,   -999.0,9,-999.0000,9,  -999.00,  -999.00,9,   -999.0,9,   -999.0,  -999.00,9,   0.00058,2,    0.012,2,    0.060,2,    0.000,2,   99.704,2
  096U20180111,  SR03,    15,  1,     25,     25,2,20180117,0539,-49.2705, 144.0913, 4227,    203.7,   7.5503,  34.3366,2,  34.3344,2,    275.2,2,    275.7,2,     4.90,2,    18.50,2,     0.02,2,     1.30,2,        0,2,    3.563,2,    2.051,2,      2.6,2,   2131.3,6,   2285.8,6,-999.0000,9,  -999.00,    12.12,2,   -999.0,9,   -999.0,  -999.00,9,   0.00058,2,    0.012,2,    0.060,2,    0.000,2,   99.693,2
  096U20180111,  SR03,    15,  1,     24,     24,2,20180117,0539,-49.2705, 144.0913, 4227,    322.2,   7.4005,  34.3603,2,  34.3610,2,    271.7,2,    268.5,2,     5.80,2,    19.21,2,     0.02,2,     1.35,2,        0,2,    3.489,2,    1.965,2,     2.28,2,   2136.4,2,   2286.6,6,-999.0000,9,  -999.00,    10.99,2,   -999.0,9,   -999.0,  -999.00,9,   0.00049,2,    0.005,2,    0.024,2,    0.000,2,   99.867,2
  096U20180111,  SR03,    15,  1,     23,     23,2,20180117,0539,-49.2705, 144.0913, 4227,    401.5,   7.0772,  34.3446,2,  34.3456,2,    265.0,2,    251.2,2,     8.50,2,    21.63,2,     0.01,2,     1.48,2,        0,2,    3.450,6,    1.955,6,     2.09,6,   2147.9,2,   2286.9,2,-999.0000,9,  -999.00,    13.87,6,   -999.0,9,   -999.0,  -999.00,9,   0.00045,2,    0.005,2,    0.024,2,    0.000,2,   99.881,2
  096U20180111,  SR03,    15,  1,     22,     22,2,20180117,0539,-49.2705, 144.0913, 4227,    499.0,   6.0535,  34.2646,2,  34.2637,2,    243.9,2,    249.9,2,    11.80,2,    24.30,2,     0.01,2,     1.66,2,        0,2,    3.515,2,    1.944,2,     1.94,2,   2158.2,2,   2286.3,2,-999.0000,9,  -999.00,    13.23,2,   -999.0,9,   -999.0,  -999.00,9,   0.00042,2,    0.004,2,    0.030,2,    0.000,2,   99.897,2
  096U20180111,  SR03,    15,  1,     21,     21,2,20180117,0539,-49.2705, 144.0913, 4227,    499.2,   6.0512,  34.2641,2,-999.0000,9,    243.6,2,   -999.0,9,  -999.00,9,  -999.00,9,  -999.00,9,  -999.00,9,     -999,9, -999.000,9, -999.000,9,     -999,9,   -999.0,9,   -999.0,9,-999.0000,9,  -999.00,  -999.00,9,   -999.0,9,   -999.0,  -999.00,9,   0.00043,2,    0.004,2,    0.030,2,    0.000,2,   99.903,2
  096U20180111,  SR03,    15,  1,     20,     20,2,20180117,0539,-49.2705, 144.0913, 4227,    699.9,   4.6619,  34.2534,2,  34.2569,2,    226.2,2,    228.8,2,    22.30,2,    28.74,2,     0.01,2,     1.96,2,        0,2,    3.168,2,    1.714,2,     1.68,2,   2182.5,2,   2291.0,2,-999.0000,9,  -999.00,    15.99,2,   -999.0,9,   -999.0,  -999.00,9,   0.00043,2,    0.004,2,    0.030,2,    0.000,2,   99.913,2
  096U20180111,  SR03,    15,  1,     19,     19,2,20180117,0539,-49.2705, 144.0913, 4227,    950.6,   3.5389,  34.3195,2,  34.3201,2,    206.6,2,    204.1,2,    40.30,2,    32.34,2,     0.00,2,     2.23,2,        0,2,    2.263,2,    1.199,2,     0.76,2,   2212.3,2,   2306.1,2,-999.0000,9,  -999.00,    21.82,2,   -999.0,9,   -999.0,  -999.00,9,   0.00040,2,    0.002,2,    0.036,2,    0.000,2,   99.960,2
  096U20180111,  SR03,    15,  1,     18,     18,2,20180117,0539,-49.2705, 144.0913, 4227,    950.6,   3.5392,  34.3195,2,-999.0000,9,    206.6,2,   -999.0,9,  -999.00,9,  -999.00,9,  -999.00,9,  -999.00,9,     -999,9, -999.000,9, -999.000,9,     -999,9,   -999.0,9,   -999.0,9,-999.0000,9,  -999.00,  -999.00,9,   -999.0,9,   -999.0,  -999.00,9,   0.00042,2,    0.001,2,    0.036,2,    0.000,2,   99.965,2
  096U20180111,  SR03,    15,  1,     17,     17,2,20180117,0539,-49.2705, 144.0913, 4227,   1100.1,   3.1399,  34.3744,2,  34.3744,2,    192.2,2,    192.0,2,    50.10,2,    33.57,2,     0.00,2,     2.31,2,        0,2,    1.804,2,    0.947,2,     0.49,2,   -999.0,9,   2314.3,2,-999.0000,9,  -999.00,    22.82,2,   -999.0,9,   -999.0,  -999.00,9,   0.00039,2,    0.001,2,    0.036,2,    0.000,2,   99.978,2
  096U20180111,  SR03,    15,  1,     16,     16,2,20180117,0539,-49.2705, 144.0913, 4227,   1300.5,   2.8463,  34.4808,2,  34.4813,2,    175.7,2,    176.8,2,    62.50,2,    34.20,2,     0.00,2,     2.35,2,        0,2,    1.049,2,    0.545,2,     0.22,2,   2244.5,2,   2327.4,2,-999.0000,9,  -999.00,    21.99,2,   -999.0,9,   -999.0,  -999.00,9,   0.00036,2,    0.001,2,    0.036,2,    0.000,2,   99.986,2
  096U20180111,  SR03,    15,  1,     15,     15,2,20180117,0539,-49.2705, 144.0913, 4227,   1450.8,   2.7609,  34.5597,2,-999.0000,9,    170.5,2,   -999.0,9,  -999.00,9,  -999.00,9,  -999.00,9,  -999.00,9,     -999,9,    0.525,2,    0.260,2,     0.09,2,   -999.0,9,   -999.0,9,-999.0000,9,  -999.00,    22.82,2,   -999.0,9,   -999.0,  -999.00,9,   0.00036,2,    0.001,2,    0.042,2,    0.000,2,   99.983,2
  096U20180111,  SR03,    15,  1,     14,     14,2,20180117,0539,-49.2705, 144.0913, 4227,   1601.4,   2.5834,  34.6160,2,  34.6162,2,    174.1,2,    173.3,2,    72.80,2,    33.29,2,     0.00,2,     2.29,2,    -0.01,2,    1.346,4,    0.890,4,     1.62,4,   2252.7,2,   2338.4,2,-999.0000,9,  -999.00,    24.32,4,   -999.0,9,   -999.0,  -999.00,9,   0.00037,2,    0.000,2,    0.042,2,    0.000,2,   99.994,2
  096U20180111,  SR03,    15,  1,     13,     13,2,20180117,0539,-49.2705, 144.0913, 4227,   1803.2,   2.4685,  34.6716,2,  34.6721,2,    177.5,2,    177.4,2,    75.90,2,    32.32,2,     0.00,2,     2.23,2,    -0.01,2,    0.296,2,    0.144,2,    -0.01,2,   2252.6,2,   2343.1,2,-999.0000,9,  -999.00,    22.83,2,   -999.0,9,   -999.0,  -999.00,9,   0.00037,2,    0.000,2,    0.042,2,    0.000,2,  100.001,2
  096U20180111,  SR03,    15,  1,     12,     12,2,20180117,0539,-49.2705, 144.0913, 4227,   2001.4,   2.3204,  34.7148,2,-999.0000,9,    183.7,2,   -999.0,9,  -999.00,9,  -999.00,2,  -999.00,9,     2.19,2,        0,2, -999.000,9, -999.000,9,     -999,9,   -999.0,9,   -999.0,9,-999.0000,9,  -999.00,  -999.00,9,   -999.0,9,   -999.0,  -999.00,9,   0.00036,2,   -0.001,2,    0.042,2,    0.000,2,  100.017,2
  096U20180111,  SR03,    15,  1,     11,     11,2,20180117,0539,-49.2705, 144.0913, 4227,   2201.4,   2.1803,  34.7351,2,  34.7362,2,    187.6,2,    188.5,2,    82.50,2,    30.86,2,     0.00,2,     2.13,2,        0,2,    0.172,2,    0.080,2,     0.01,2,   2109.0,4,   2351.1,2,-999.0000,9,  -999.00,    18.04,2,   -999.0,9,   -999.0,  -999.00,9,   0.00041,2,    0.000,2,    0.042,2,    0.000,2,   99.997,2
  096U20180111,  SR03,    15,  1,     10,     10,2,20180117,0539,-49.2705, 144.0913, 4227,   2400.4,   1.9963,  34.7426,2,  34.7435,2,    189.4,2,    190.3,2,    89.80,2,    30.91,2,     0.00,2,     2.14,2,        0,2,    0.118,2,    0.054,2,     0.06,2,   2254.5,2,   2358.1,2,-999.0000,9,  -999.00,    18.40,2,   -999.0,9,   -999.0,  -999.00,9,   0.00035,2,   -0.001,2,    0.042,2,    0.000,2,  100.027,2
  096U20180111,  SR03,    15,  1,      9,      9,2,20180117,0539,-49.2705, 144.0913, 4227,   2600.8,   1.7867,  34.7406,2,  34.7416,2,    192.3,2,    191.2,2,    98.20,2,    31.27,2,     0.00,2,     2.17,2,        0,2,    0.069,2,    0.032,2,    -0.02,2,   2259.5,2,   2364.2,6,-999.0000,9,  -999.00,    20.48,2,   -999.0,9,   -999.0,  -999.00,9,   0.00034,2,   -0.002,2,    0.036,2,    0.000,2,  100.038,2
  096U20180111,  SR03,    15,  1,      8,      8,2,20180117,0539,-49.2705, 144.0913, 4227,   2800.7,   1.5900,  34.7368,2,  34.7375,2,    193.1,2,    195.3,2,   103.00,2,    31.35,2,     0.00,2,     2.17,2,        0,2,    0.084,2,    0.035,2,     0.02,2,   2261.3,2,   2364.4,2,-999.0000,9,  -999.00,    17.90,2,   -999.0,9,   -999.0,  -999.00,9,   0.00032,2,   -0.002,2,    0.042,2,    0.000,2,  100.043,2
  096U20180111,  SR03,    15,  1,      7,      7,2,20180117,0539,-49.2705, 144.0913, 4227,   2999.7,   1.4091,  34.7314,2,-999.0000,9,    199.4,2,   -999.0,9,  -999.00,9,  -999.00,9,  -999.00,9,  -999.00,9,     -999,9, -999.000,9, -999.000,9,     -999,9,   -999.0,9,   -999.0,9,-999.0000,9,  -999.00,  -999.00,9,   -999.0,9,   -999.0,  -999.00,9,   0.00031,2,   -0.002,2,    0.042,2,    0.000,2,  100.046,2
  096U20180111,  SR03,    15,  1,      6,      6,2,20180117,0539,-49.2705, 144.0913, 4227,   3300.0,   1.1854,  34.7214,2,  34.7221,2,    202.1,2,    202.5,2,   113.50,2,    31.73,2,     0.00,2,     2.20,2,        0,2,    0.161,2,    0.075,2,     0.14,3,   2263.5,6,   2366.7,6,-999.0000,9,  -999.00,    19.28,2,   -999.0,9,   -999.0,  -999.00,9,   0.00032,2,   -0.002,2,    0.042,2,    0.000,2,  100.047,2
  096U20180111,  SR03,    15,  1,      5,      5,2,20180117,0539,-49.2705, 144.0913, 4227,   3600.6,   1.0981,  34.7163,2,-999.0000,9,    204.4,2,   -999.0,9,  -999.00,9,  -999.00,9,  -999.00,9,  -999.00,9,     -999,9,    0.221,2,    0.099,2,    -0.04,3,   -999.0,9,   -999.0,9,-999.0000,9,  -999.00,    16.67,2,   -999.0,9,   -999.0,  -999.00,9,   0.00035,2,    0.000,2,    0.036,2,    0.000,2,   99.997,2
  096U20180111,  SR03,    15,  1,      4,      4,2,20180117,0539,-49.2705, 144.0913, 4227,   3899.2,   1.1068,  34.7153,2,  34.7156,2,    204.2,2,    204.4,2,   117.30,2,    31.90,2,     0.01,2,     2.21,2,        0,2,    0.208,2,    0.099,2,     0.11,3,   2263.1,2,   2367.0,2,-999.0000,9,  -999.00,    17.82,2,   -999.0,9,   -999.0,  -999.00,9,   0.00036,2,    0.001,2,    0.036,2,    0.000,2,   99.971,2
  096U20180111,  SR03,    15,  1,      3,      3,2,20180117,0539,-49.2705, 144.0913, 4227,   4149.2,   1.1342,  34.7151,2,  34.7157,2,    204.1,2,    204.1,2,   117.40,2,    31.93,2,     0.01,2,     2.21,2,        0,2,    0.211,2,    0.097,2,     0.16,3,   2263.0,2,   2367.4,2,-999.0000,9,  -999.00,    16.62,2,   -999.0,9,   -999.0,  -999.00,9,   0.00037,2,    0.001,2,    0.042,2,    0.000,2,   99.966,2
  096U20180111,  SR03,    15,  1,      2,      2,2,20180117,0539,-49.2705, 144.0913, 4227,   4401.3,   1.1624,  34.7151,2,-999.0000,9,    203.8,2,   -999.0,9,  -999.00,9,  -999.00,9,  -999.00,9,  -999.00,9,     -999,9, -999.000,9, -999.000,9,     -999,9,   -999.0,9,   -999.0,9,-999.0000,9,  -999.00,  -999.00,9,   -999.0,9,   -999.0,  -999.00,9,   0.00035,2,    0.002,2,    0.042,2,    0.000,2,   99.962,2
  096U20180111,  SR03,    15,  1,      1,      1,2,20180117,0539,-49.2705, 144.0913, 4227,   4450.3,   1.1684,  34.7150,2,  34.7206,4,    203.9,2,    204.5,2,   117.20,2,    31.94,2,     0.00,2,     2.21,2,        0,2,    0.211,2,    0.103,2,     0.02,3,   2262.7,2,   2367.2,2,-999.0000,9,  -999.00,    17.75,2,   -999.0,9,   -999.0,  -999.00,9,   0.00033,2,    0.002,2,    0.042,2,    0.000,2,   99.954,2