BOTTLE,20230418CCHSIOENA
EXPOCODE,SECT_ID,STNNBR,CASTNO,SAMPNO,BTLNBR,BTLNBR_FLAG_W,DATE,TIME,LATITUDE,LONGITUDE,DEPTH,CTDPRS,CTDTMP,CTDSAL,CTDSAL_FLAG_W,SALNTY,SALNTY_FLAG_W,CTDOXY,CTDOXY_FLAG_W,OXYGEN,OXYGEN_FLAG_W,SILCAT,SILCAT_FLAG_W,NITRAT,NITRAT_FLAG_W,NITRIT,NITRIT_FLAG_W,PHSPHT,PHSPHT_FLAG_W,NH4,NH4_FLAG_W,CFC-11,CFC-11_FLAG_W,CFC-12,CFC-12_FLAG_W,SF6,SF6_FLAG_W,TCARBN,TCARBN_FLAG_W,ALKALI,ALKALI_FLAG_W,PH_TOT,PH_TOT_FLAG_W,PH_TMP,N2O,N2O_FLAG_W,DELC14,DELC14_FLAG_W,C14ERR,DELC13,DELC13_FLAG_W,CTDBETA700,CTDBETA700_FLAG_W,CTDBEAMCP,CTDBEAMCP_FLAG_W,CTDFLUOR,CTDFLUOR_FLAG_W,PAR,PAR_FLAG_W,CTDXMISS,CTDXMISS_FLAG_W
,,,,,,,,,,,METERS,DBAR,ITS-90,PSS-78,,PSS-78,,UMOL/KG,,UMOL/KG,,UMOL/KG,,UMOL/KG,,UMOL/KG,,UMOL/KG,,UMOL/KG,,PMOL/KG,,PMOL/KG,,FMOL/KG,,UMOL/KG,,UMOL/KG,,,,DEG C,NMOL/KG,,/MILLE,,/MILLE,/MILLE,,VOLTS,,1/M,,MG/M^3,,UMOL/M^2/SEC,,%TRANS,
  096U20180111,  SR03,    99,  1,     36,     36,2,20180214,1604,-60.5257, 132.1292, 4612,      9.0,   3.5103,  33.8494,2,  33.8497,2,    320.1,2,    320.4,2,     3.90,2,    24.72,2,     0.25,2,     1.45,2,     0.08,2,    4.857,2,    2.728,2,     3.26,2,   2140.0,2,   2281.3,2,-999.0000,9,  -999.00,    14.35,2,   -999.0,9,   -999.0,  -999.00,9,   0.00201,2,    0.200,2,    2.286,2,    1.810,2,   95.126,2
  096U20180111,  SR03,    99,  1,     35,     35,2,20180214,1604,-60.5257, 132.1292, 4612,      9.0,   3.5094,  33.8492,2,-999.0000,9,    320.1,2,   -999.0,9,  -999.00,9,  -999.00,9,  -999.00,9,  -999.00,9,     -999,9, -999.000,9, -999.000,9,     -999,9,   -999.0,9,   -999.0,9,-999.0000,9,  -999.00,  -999.00,9,   -999.0,9,   -999.0,  -999.00,9,   0.00207,2,    0.201,2,    2.328,2,    1.760,2,   95.088,2
  096U20180111,  SR03,    99,  1,     34,     34,2,20180214,1604,-60.5257, 132.1292, 4612,     40.7,   3.4846,  33.8494,2,  33.8498,2,    320.1,2,    320.6,2,     3.90,2,    24.72,2,     0.25,2,     1.45,2,     0.08,2, -999.000,9, -999.000,9,     -999,9,   -999.0,9,   -999.0,9,-999.0000,9,  -999.00,  -999.00,9,   -999.0,9,   -999.0,  -999.00,9,   0.00215,2,    0.213,2,    2.652,2,    0.041,2,   94.816,2
  096U20180111,  SR03,    99,  1,     33,     33,2,20180214,1604,-60.5257, 132.1292, 4612,     71.3,   1.5656,  33.8993,2,  33.9004,2,    321.8,2,    333.3,2,    17.00,2,    26.68,2,     0.22,2,     1.95,2,     0.84,2, -999.000,9, -999.000,9,     -999,9,   -999.0,9,   -999.0,9,-999.0000,9,  -999.00,  -999.00,9,   -999.0,9,   -999.0,  -999.00,9,   0.00185,2,    0.154,2,    2.544,2,    0.000,2,   96.233,2
  096U20180111,  SR03,    99,  1,     32,     32,2,20180214,1604,-60.5257, 132.1292, 4612,     71.1,   1.5555,  33.8998,2,-999.0000,9,    321.8,2,   -999.0,9,  -999.00,9,  -999.00,9,  -999.00,9,  -999.00,9,     -999,9, -999.000,9, -999.000,9,     -999,9,   -999.0,9,   -999.0,9,-999.0000,9,  -999.00,  -999.00,9,   -999.0,9,   -999.0,  -999.00,9,   0.00166,2,    0.152,2,    2.502,2,    0.000,2,   96.266,2
  096U20180111,  SR03,    99,  1,     31,     31,2,20180214,1604,-60.5257, 132.1292, 4612,    109.6,   0.7306,  33.9329,2,  33.9336,2,    327.4,2,    329.1,2,    21.40,2,    28.14,2,     0.37,2,     1.99,2,     0.36,2, -999.000,9, -999.000,9,     -999,9,   -999.0,9,   -999.0,9,-999.0000,9,  -999.00,  -999.00,9,   -999.0,9,   -999.0,  -999.00,9,   0.00079,2,    0.042,2,    0.462,2,    0.000,2,   98.962,2
  096U20180111,  SR03,    99,  1,     30,     30,2,20180214,1604,-60.5257, 132.1292, 4612,    150.5,   0.6114,  33.9616,2,  33.9627,2,    321.6,2,    320.4,2,    24.80,2,    29.47,2,     0.01,2,     2.02,2,        0,2,    5.240,2,    2.877,2,     3.23,2,   2174.1,2,   2286.7,2,-999.0000,9,  -999.00,    16.38,2,   -999.0,9,   -999.0,  -999.00,9,   0.00061,2,    0.024,2,    0.138,2,    0.000,2,   99.400,2
  096U20180111,  SR03,    99,  1,     29,     29,2,20180214,1604,-60.5257, 132.1292, 4612,    201.4,   1.4892,  34.1249,2,  34.1302,2,    273.0,2,    263.3,2,    38.10,2,    32.08,2,     0.01,2,     2.20,2,    -0.01,2, -999.000,9, -999.000,9,     -999,9,   -999.0,9,   -999.0,9,-999.0000,9,  -999.00,  -999.00,9,   -999.0,9,   -999.0,  -999.00,9,   0.00051,2,    0.016,2,    0.048,2,    0.000,2,   99.590,2
  096U20180111,  SR03,    99,  1,     28,     28,2,20180214,1604,-60.5257, 132.1292, 4612,    251.7,   2.1578,  34.2578,2,  34.2591,2,    226.0,2,    222.0,2,    47.80,2,    33.71,2,     0.01,2,     2.31,2,    -0.01,2, -999.000,9, -999.000,9,     -999,9,   2220.6,2,   2305.7,2,-999.0000,9,  -999.00,  -999.00,9,   -999.0,9,   -999.0,  -999.00,9,   0.00053,2,    0.018,2,    0.042,2,    0.000,2,   99.546,2
  096U20180111,  SR03,    99,  1,     27,     27,2,20180214,1604,-60.5257, 132.1292, 4612,    301.5,   2.2940,  34.3329,2,  34.3326,2,    201.4,2,    202.3,2,    54.70,2,    34.53,2,     0.01,2,     2.36,2,    -0.01,2, -999.000,9, -999.000,9,     -999,9,   -999.0,9,   -999.0,9,-999.0000,9,  -999.00,  -999.00,9,   -999.0,9,   -999.0,  -999.00,9,   0.00052,2,    0.017,2,    0.036,2,    0.000,2,   99.568,2
  096U20180111,  SR03,    99,  1,     26,     26,2,20180214,1604,-60.5257, 132.1292, 4612,    400.5,   2.3672,  34.4481,2,  34.4470,2,    182.7,2,    182.0,2,    64.50,2,    35.02,2,     0.01,2,     2.41,2,    -0.01,2, -999.000,9, -999.000,9,     -999,9,   2246.7,2,   2323.3,2,-999.0000,9,  -999.00,  -999.00,9,   -999.0,9,   -999.0,  -999.00,9,   0.00048,2,    0.012,2,    0.036,2,    0.000,2,   99.708,2
  096U20180111,  SR03,    99,  1,     25,     25,2,20180214,1604,-60.5257, 132.1292, 4612,    501.0,   2.4136,  34.5310,2,  34.5283,2,    172.7,2,    173.6,2,    69.60,2,    34.75,2,     0.00,2,     2.39,2,    -0.01,2, -999.000,9, -999.000,9,     -999,9,   -999.0,9,   -999.0,9,-999.0000,9,  -999.00,  -999.00,9,   -999.0,9,   -999.0,  -999.00,9,   0.00044,2,    0.009,2,    0.036,2,    0.000,2,   99.782,2
  096U20180111,  SR03,    99,  1,     24,     24,2,20180214,1604,-60.5257, 132.1292, 4612,    600.7,   2.3727,  34.5885,2,  34.5877,2,    172.2,2,    172.6,2,    72.90,2,    34.14,2,     0.00,2,     2.35,2,    -0.01,2,    0.696,2,    0.364,2,     0.14,2,   2254.5,2,   2334.5,2,-999.0000,9,  -999.00,    24.15,2,   -999.0,9,   -999.0,  -999.00,9,   0.00038,2,    0.007,2,    0.036,2,    0.000,2,   99.816,2
  096U20180111,  SR03,    99,  1,     23,     23,2,20180214,1604,-60.5257, 132.1292, 4612,    700.9,   2.3128,  34.6364,2,  34.6349,2,    173.7,2,    174.4,2,    75.20,2,    33.35,2,     0.00,2,     2.29,2,    -0.01,2, -999.000,9, -999.000,9,     -999,9,   -999.0,9,   -999.0,9,-999.0000,9,  -999.00,  -999.00,9,   -999.0,9,   -999.0,  -999.00,9,   0.00035,2,    0.006,2,    0.036,2,    0.000,2,   99.859,2
  096U20180111,  SR03,    99,  1,     22,     22,2,20180214,1604,-60.5257, 132.1292, 4612,    850.0,   2.2358,  34.6877,2,  34.6860,2,    179.2,2,    179.5,2,    77.70,2,    32.35,2,     0.00,2,     2.23,2,    -0.01,2, -999.000,9, -999.000,9,     -999,9,   -999.0,9,   -999.0,9,-999.0000,9,  -999.00,  -999.00,9,   -999.0,9,   -999.0,  -999.00,9,   0.00035,2,    0.007,2,    0.036,2,    0.000,2,   99.837,2
  096U20180111,  SR03,    99,  1,     21,     21,2,20180214,1604,-60.5257, 132.1292, 4612,   1000.9,   2.1495,  34.7167,2,  34.7173,2,    184.7,2,    185.5,2,    79.60,2,    31.52,2,     0.00,2,     2.17,2,    -0.01,2,    0.270,2,    0.151,2,     0.02,2,   2249.7,6,   2345.1,6,-999.0000,9,  -999.00,    21.35,2,   -999.0,9,   -999.0,  -999.00,9,   0.00035,2,    0.004,2,    0.042,2,    0.000,2,   99.914,2
  096U20180111,  SR03,    99,  1,     20,     20,2,20180214,1604,-60.5257, 132.1292, 4612,   1201.2,   2.0248,  34.7365,2,  34.7377,2,    190.4,2,    190.7,2,    82.30,2,    30.92,2,     0.01,2,     2.13,2,    -0.01,2, -999.000,9, -999.000,9,     -999,9,   -999.0,9,   -999.0,9,-999.0000,9,  -999.00,  -999.00,9,   -999.0,9,   -999.0,  -999.00,9,   0.00036,2,    0.002,2,    0.042,2,    0.000,2,   99.944,2
  096U20180111,  SR03,    99,  1,     19,     19,2,20180214,1604,-60.5257, 132.1292, 4612,   1400.8,   1.8716,  34.7456,2,  34.7450,2,    194.4,2,    195.2,2,    86.20,2,    30.64,2,     0.00,2,     2.11,2,    -0.01,2,    0.189,2,    0.098,2,     0.07,2,   2248.9,2,   2350.7,2,-999.0000,9,  -999.00,    20.25,2,   -999.0,9,   -999.0,  -999.00,9,   0.00031,2,    0.002,2,    0.036,2,    0.000,2,   99.958,2
  096U20180111,  SR03,    99,  1,     18,     18,2,20180214,1604,-60.5257, 132.1292, 4612,   1601.1,   1.6803,  34.7456,2,  34.7365,4,    198.0,2,    198.7,2,    91.60,2,    30.67,2,     0.00,2,     2.11,2,    -0.01,2, -999.000,9, -999.000,9,     -999,9,   -999.0,9,   -999.0,9,-999.0000,9,  -999.00,  -999.00,9,   -999.0,9,   -999.0,  -999.00,9,   0.00030,2,    0.002,2,    0.042,2,    0.000,2,   99.963,2
  096U20180111,  SR03,    99,  1,     17,     17,2,20180214,1604,-60.5257, 132.1292, 4612,   1800.8,   1.4898,  34.7403,2,  34.7415,2,    200.9,2,    201.1,2,    97.30,2,    30.91,2,     0.01,2,     2.13,2,    -0.01,2, -999.000,9, -999.000,9,     -999,9,   -999.0,9,   -999.0,9,-999.0000,9,  -999.00,  -999.00,9,   -999.0,9,   -999.0,  -999.00,9,   0.00028,2,    0.001,2,    0.036,2,    0.000,2,   99.981,2
  096U20180111,  SR03,    99,  1,     16,     16,2,20180214,1604,-60.5257, 132.1292, 4612,   2001.2,   1.3221,  34.7334,2,  34.7339,2,    203.1,2,    202.7,2,   102.10,2,    31.17,2,     0.00,2,     2.15,2,    -0.01,2,    0.222,2,    0.115,2,     0.07,2,   2255.2,2,   2358.1,6,-999.0000,9,  -999.00,    20.25,2,   -999.0,9,   -999.0,  -999.00,9,   0.00030,2,    0.001,2,    0.036,2,    0.000,2,   99.986,2
  096U20180111,  SR03,    99,  1,     15,     15,2,20180214,1604,-60.5257, 132.1292, 4612,   2201.6,   1.1538,  34.7251,2,  34.7262,2,    204.6,2,    204.4,2,   107.20,2,    31.55,2,     0.00,2,     2.18,2,    -0.01,2, -999.000,9, -999.000,9,     -999,9,   -999.0,9,   -999.0,9,-999.0000,9,  -999.00,  -999.00,9,   -999.0,9,   -999.0,  -999.00,9,   0.00027,2,    0.000,2,    0.042,2,    0.000,2,   99.989,2
  096U20180111,  SR03,    99,  1,     14,     14,2,20180214,1604,-60.5257, 132.1292, 4612,   2401.4,   1.0072,  34.7174,2,  34.7179,2,    206.4,2,    206.4,2,   111.40,2,    31.76,2,     0.00,2,     2.20,2,    -0.01,2,    0.243,2,    0.122,2,     0.05,2,   -999.0,9,   -999.0,9,-999.0000,9,  -999.00,    19.69,2,   -999.0,9,   -999.0,  -999.00,9,   0.00027,2,    0.000,2,    0.042,2,    0.000,2,   99.996,2
  096U20180111,  SR03,    99,  1,     13,     13,2,20180214,1604,-60.5257, 132.1292, 4612,   2650.9,   0.8238,  34.7077,2,  34.7027,4,    208.8,2,    208.8,2,   116.60,2,    31.94,2,     0.01,2,     2.23,2,    -0.01,2, -999.000,9, -999.000,9,     -999,9,   -999.0,9,   -999.0,9,-999.0000,9,  -999.00,  -999.00,9,   -999.0,9,   -999.0,  -999.00,9,   0.00026,2,    0.000,2,    0.042,2,    0.000,2,  100.001,2
  096U20180111,  SR03,    99,  1,     12,     12,2,20180214,1604,-60.5257, 132.1292, 4612,   2901.1,   0.6439,  34.6978,2,  34.6979,2,    211.9,2,    211.9,2,   120.80,2,    32.26,2,     0.01,2,     2.24,2,    -0.01,2,    0.377,2,    0.192,2,     0.11,2,   2258.8,2,   2359.6,2,-999.0000,9,  -999.00,    19.76,2,   -999.0,9,   -999.0,  -999.00,9,   0.00026,2,    0.000,2,    0.042,2,    0.000,2,  100.003,2
  096U20180111,  SR03,    99,  1,     11,     11,2,20180214,1604,-60.5257, 132.1292, 4612,   2900.9,   0.6427,  34.6978,2,-999.0000,9,    211.8,2,   -999.0,9,  -999.00,9,  -999.00,9,  -999.00,9,  -999.00,9,     -999,9, -999.000,9, -999.000,9,     -999,9,   -999.0,9,   -999.0,9,-999.0000,9,  -999.00,  -999.00,9,   -999.0,9,   -999.0,  -999.00,9,   0.00024,2,    0.000,2,    0.036,2,    0.000,2,  100.003,2
  096U20180111,  SR03,    99,  1,     10,     10,2,20180214,1604,-60.5257, 132.1292, 4612,   3201.1,   0.4695,  34.6894,2,  34.6857,4,    215.8,2,    216.2,2,   125.20,2,    32.42,2,     0.00,2,     2.25,2,    -0.01,2, -999.000,9, -999.000,9,     -999,9,   -999.0,9,   -999.0,9,-999.0000,9,  -999.00,  -999.00,9,   -999.0,9,   -999.0,  -999.00,9,   0.00024,2,    0.000,2,    0.042,2,    0.000,2,  100.007,2
  096U20180111,  SR03,    99,  1,      9,      9,2,20180214,1604,-60.5257, 132.1292, 4612,   3201.0,   0.4695,  34.6893,2,-999.0000,9,    215.8,2,   -999.0,9,  -999.00,9,  -999.00,9,  -999.00,9,  -999.00,9,     -999,9, -999.000,9, -999.000,9,     -999,9,   -999.0,9,   -999.0,9,-999.0000,9,  -999.00,  -999.00,9,   -999.0,9,   -999.0,  -999.00,9,   0.00024,2,    0.000,2,    0.036,2,    0.000,2,  100.001,2
  096U20180111,  SR03,    99,  1,      8,      8,2,20180214,1604,-60.5257, 132.1292, 4612,   3500.6,   0.3495,  34.6834,2,  34.6820,2,    219.7,2,    219.6,2,   128.80,2,    32.50,2,     0.00,2,     2.26,2,    -0.01,2,    0.649,2,    0.321,2,     0.14,2,   2259.2,2,   2359.7,2,-999.0000,9,  -999.00,    19.42,2,   -999.0,9,   -999.0,  -999.00,9,   0.00023,2,    0.000,2,    0.042,2,    0.000,2,  100.005,2
  096U20180111,  SR03,    99,  1,      7,      7,2,20180214,1604,-60.5257, 132.1292, 4612,   3751.4,   0.2805,  34.6796,2,  34.6791,2,    222.6,2,    222.0,2,   130.50,2,    32.56,2,     0.00,2,     2.26,2,    -0.01,2, -999.000,9, -999.000,9,     -999,9,   -999.0,9,   -999.0,9,-999.0000,9,  -999.00,  -999.00,9,   -999.0,9,   -999.0,  -999.00,9,   0.00025,2,    0.000,2,    0.036,2,    0.000,2,   99.992,2
  096U20180111,  SR03,    99,  1,      6,      6,2,20180214,1604,-60.5257, 132.1292, 4612,   4001.5,   0.2082,  34.6753,2,  34.6753,2,    225.9,2,    225.1,2,   130.70,2,    32.58,2,     0.00,2,     2.27,2,    -0.01,2,    0.910,2,    0.455,2,     0.08,2,   2260.2,2,   2354.9,2,-999.0000,9,  -999.00,    19.47,2,   -999.0,9,   -999.0,  -999.00,9,   0.00022,2,    0.000,2,    0.036,2,    0.000,2,   99.996,2
  096U20180111,  SR03,    99,  1,      5,      5,2,20180214,1604,-60.5257, 132.1292, 4612,   4250.8,   0.1455,  34.6713,2,  34.6716,2,    229.2,2,    227.8,2,   133.00,2,    32.57,2,     0.00,2,     2.27,2,    -0.01,2, -999.000,9, -999.000,9,     -999,9,   -999.0,9,   -999.0,9,-999.0000,9,  -999.00,  -999.00,9,   -999.0,9,   -999.0,  -999.00,9,   0.00024,2,    0.001,2,    0.042,2,    0.000,2,   99.965,2
  096U20180111,  SR03,    99,  1,      4,      4,2,20180214,1604,-60.5257, 132.1292, 4612,   4501.1,   0.1026,  34.6672,2,  34.6653,2,    232.3,2,    230.2,2,   132.10,2,    32.51,2,     0.00,2,     2.26,2,    -0.01,2, -999.000,9, -999.000,9,     -999,9,   -999.0,9,   -999.0,9,-999.0000,9,  -999.00,  -999.00,9,   -999.0,9,   -999.0,  -999.00,9,   0.00023,2,    0.002,2,    0.036,2,    0.000,2,   99.961,2
  096U20180111,  SR03,    99,  1,      3,      3,2,20180214,1604,-60.5257, 132.1292, 4612,   4649.7,  -0.0869,  34.6500,2,  34.6471,2,    238.1,2,    238.7,2,   127.70,2,    32.34,2,     0.00,2,     2.25,2,    -0.01,2,    1.999,2,    1.044,2,     0.78,2,   2256.3,2,   2354.3,2,-999.0000,9,  -999.00,    19.69,2,   -999.0,9,   -999.0,  -999.00,9,   0.00040,2,    0.011,2,    0.036,2,    0.000,2,   99.723,2
  096U20180111,  SR03,    99,  1,      2,      2,2,20180214,1604,-60.5257, 132.1292, 4612,   4709.5,  -0.0860,  34.6493,2,-999.0000,9,    239.2,2,   -999.0,9,  -999.00,9,  -999.00,9,  -999.00,9,  -999.00,9,     -999,9, -999.000,9, -999.000,9,     -999,9,   -999.0,9,   -999.0,9,-999.0000,9,  -999.00,  -999.00,9,   -999.0,9,   -999.0,  -999.00,9,   0.00051,2,    0.016,2,    0.042,2,    0.000,2,   99.605,2
  096U20180111,  SR03,    99,  1,      1,      1,2,20180214,1604,-60.5257, 132.1292, 4612,   4709.5,  -0.0861,  34.6493,2,  34.6502,2,    239.2,2,    238.4,2,   127.30,2,    32.33,2,     0.00,2,     2.25,2,    -0.01,2,    2.010,2,    1.066,2,     0.65,2,   2258.5,6,   2355.1,6,-999.0000,9,  -999.00,    19.16,2,   -999.0,9,   -999.0,  -999.00,9,   0.00051,2,    0.016,2,    0.036,2,    0.000,2,   99.606,2