BOTTLE,20230418CCHSIOENA
EXPOCODE,SECT_ID,STNNBR,CASTNO,SAMPNO,BTLNBR,BTLNBR_FLAG_W,DATE,TIME,LATITUDE,LONGITUDE,DEPTH,CTDPRS,CTDTMP,CTDSAL,CTDSAL_FLAG_W,SALNTY,SALNTY_FLAG_W,CTDOXY,CTDOXY_FLAG_W,OXYGEN,OXYGEN_FLAG_W,SILCAT,SILCAT_FLAG_W,NITRAT,NITRAT_FLAG_W,NITRIT,NITRIT_FLAG_W,PHSPHT,PHSPHT_FLAG_W,NH4,NH4_FLAG_W,CFC-11,CFC-11_FLAG_W,CFC-12,CFC-12_FLAG_W,SF6,SF6_FLAG_W,TCARBN,TCARBN_FLAG_W,ALKALI,ALKALI_FLAG_W,PH_TOT,PH_TOT_FLAG_W,PH_TMP,N2O,N2O_FLAG_W,DELC14,DELC14_FLAG_W,C14ERR,DELC13,DELC13_FLAG_W,CTDBETA700,CTDBETA700_FLAG_W,CTDBEAMCP,CTDBEAMCP_FLAG_W,CTDFLUOR,CTDFLUOR_FLAG_W,PAR,PAR_FLAG_W,CTDXMISS,CTDXMISS_FLAG_W
,,,,,,,,,,,METERS,DBAR,ITS-90,PSS-78,,PSS-78,,UMOL/KG,,UMOL/KG,,UMOL/KG,,UMOL/KG,,UMOL/KG,,UMOL/KG,,UMOL/KG,,PMOL/KG,,PMOL/KG,,FMOL/KG,,UMOL/KG,,UMOL/KG,,,,DEG C,NMOL/KG,,/MILLE,,/MILLE,/MILLE,,VOLTS,,1/M,,MG/M^3,,UMOL/M^2/SEC,,%TRANS,
  096U20180111,  SR03,    77,  1,     36,     36,2,20180206,0028,-62.5002, 150.0002, 3834,     11.3,   1.3406,  33.7123,2,  33.7135,2,    342.4,2,    342.4,2,    14.10,2,    23.36,2,     0.27,2,     1.43,2,     0.09,2,    5.308,2,    2.916,2,     3.61,2,   2138.6,2,   2282.8,2,-999.0000,9,  -999.00,    14.36,2,   -999.0,9,   -999.0,  -999.00,9,   0.00637,2,    0.503,2,    2.268,2,  105.000,2,   88.179,2
  096U20180111,  SR03,    77,  1,     35,     35,2,20180206,0028,-62.5002, 150.0002, 3834,     11.3,   1.3411,  33.7123,2,-999.0000,9,    342.4,2,   -999.0,9,  -999.00,9,  -999.00,9,  -999.00,9,  -999.00,9,     -999,9, -999.000,9, -999.000,9,     -999,9,   -999.0,9,   -999.0,9,-999.0000,9,  -999.00,  -999.00,9,   -999.0,9,   -999.0,  -999.00,9,   0.00545,2,    0.508,2,    2.460,2,  101.000,2,   88.064,2
  096U20180111,  SR03,    77,  1,     34,     34,2,20180206,0028,-62.5002, 150.0002, 3834,     31.0,   1.3059,  33.7167,2,-999.0000,9,    342.1,2,   -999.0,9,  -999.00,9,  -999.00,9,  -999.00,9,  -999.00,9,     -999,9, -999.000,9, -999.000,9,     -999,9,   -999.0,9,   -999.0,9,-999.0000,9,  -999.00,  -999.00,9,   -999.0,9,   -999.0,  -999.00,9,   0.00597,2,    0.509,2,    6.096,2,    7.310,2,   88.043,2
  096U20180111,  SR03,    77,  1,     33,     33,2,20180206,0028,-62.5002, 150.0002, 3834,     30.9,   1.3047,  33.7166,2,  33.7185,2,    342.1,2,    341.8,2,    14.60,2,    23.41,2,     0.28,2,     1.45,2,     0.11,2, -999.000,9, -999.000,9,     -999,9,   -999.0,9,   -999.0,9,-999.0000,9,  -999.00,  -999.00,9,   -999.0,9,   -999.0,  -999.00,9,   0.00589,2,    0.509,2,    6.084,2,    7.060,2,   88.050,2
  096U20180111,  SR03,    77,  1,     32,     32,2,20180206,0028,-62.5002, 150.0002, 3834,     66.1,  -0.6679,  33.9673,2,-999.0000,9,    299.3,2,   -999.0,9,  -999.00,9,  -999.00,9,  -999.00,9,  -999.00,9,     -999,9,    4.716,2,    2.583,2,     3.25,2,   2195.9,2,   2297.3,2,-999.0000,9,  -999.00,    18.01,2,   -999.0,9,   -999.0,  -999.00,9,   0.00362,2,    0.238,2,    2.520,2,    0.094,2,   94.218,2
  096U20180111,  SR03,    77,  1,     31,     31,2,20180206,0028,-62.5002, 150.0002, 3834,     66.1,  -0.6337,  33.9799,2,  34.0183,2,    299.3,2,    298.4,2,    45.80,2,    30.38,2,     0.18,2,     2.21,2,     0.92,2, -999.000,9, -999.000,9,     -999,9,   -999.0,9,   -999.0,9,-999.0000,9,  -999.00,  -999.00,9,   -999.0,9,   -999.0,  -999.00,9,   0.00349,2,    0.219,2,    2.382,2,    0.091,2,   94.684,2
  096U20180111,  SR03,    77,  1,     30,     30,2,20180206,0028,-62.5002, 150.0002, 3834,    101.2,   1.4177,  34.3862,2,  34.3849,2,    212.2,2,    203.1,2,    64.70,2,    34.86,2,     0.04,2,     2.40,2,        0,2,    2.174,2,    1.177,2,     1.18,2,   2240.8,2,   2318.8,2,-999.0000,9,  -999.00,    23.23,2,   -999.0,9,   -999.0,  -999.00,9,   0.00067,2,    0.028,2,    0.192,2,    0.000,2,   99.310,2
  096U20180111,  SR03,    77,  1,     29,     29,2,20180206,0028,-62.5002, 150.0002, 3834,    150.7,   1.9607,  34.5011,2,-999.0000,9,    181.8,2,   -999.0,9,  -999.00,9,  -999.00,9,  -999.00,9,  -999.00,9,     -999,9, -999.000,9, -999.000,9,     -999,9,   -999.0,9,   -999.0,9,-999.0000,9,  -999.00,  -999.00,9,   -999.0,9,   -999.0,  -999.00,9,   0.00060,2,    0.017,2,    0.084,2,    0.000,2,   99.570,2
  096U20180111,  SR03,    77,  1,     28,     28,2,20180206,0028,-62.5002, 150.0002, 3834,    150.6,   1.9610,  34.5013,2,  34.5023,2,    181.8,2,    179.7,2,    71.90,2,    35.16,2,     0.01,2,     2.41,2,        0,2,    1.349,2,    0.717,2,     0.65,2,   2251.4,2,   2328.9,2,-999.0000,9,  -999.00,    24.73,2,   -999.0,9,   -999.0,  -999.00,9,   0.00055,2,    0.017,2,    0.084,2,    0.000,2,   99.574,2
  096U20180111,  SR03,    77,  1,     27,     27,2,20180206,0028,-62.5002, 150.0002, 3834,    201.2,   2.0875,  34.5589,2,  34.5594,2,    173.9,2,    173.4,2,    75.20,2,    34.96,2,     0.01,2,     2.39,2,        0,2, -999.000,9, -999.000,9,     -999,9,   -999.0,9,   -999.0,9,-999.0000,9,  -999.00,  -999.00,9,   -999.0,9,   -999.0,  -999.00,9,   0.00049,2,    0.015,2,    0.066,2,    0.000,2,   99.634,2
  096U20180111,  SR03,    77,  1,     26,     26,2,20180206,0028,-62.5002, 150.0002, 3834,    251.5,   2.1212,  34.6009,2,-999.0000,9,    172.3,2,   -999.0,9,  -999.00,9,  -999.00,9,  -999.00,9,  -999.00,9,     -999,9, -999.000,9, -999.000,9,     -999,9,   -999.0,9,   -999.0,9,-999.0000,9,  -999.00,  -999.00,9,   -999.0,9,   -999.0,  -999.00,9,   0.00044,2,    0.010,2,    0.042,2,    0.000,2,   99.752,2
  096U20180111,  SR03,    77,  1,     25,     25,2,20180206,0028,-62.5002, 150.0002, 3834,    251.4,   2.1157,  34.6013,2,  34.6007,2,    172.3,2,    172.3,2,    77.10,2,    34.47,2,     0.01,2,     2.36,2,        0,2, -999.000,9, -999.000,9,     -999,9,   -999.0,9,   -999.0,9,-999.0000,9,  -999.00,  -999.00,9,   -999.0,9,   -999.0,  -999.00,9,   0.00044,2,    0.012,2,    0.054,2,    0.000,2,   99.701,2
  096U20180111,  SR03,    77,  1,     24,     24,2,20180206,0028,-62.5002, 150.0002, 3834,    303.0,   2.1236,  34.6389,2,  34.6359,2,    173.5,2,    173.9,2,    78.50,2,    33.86,2,     0.00,2,     2.31,2,        0,2,    0.618,2,    0.333,2,     0.21,2,   2258.2,2,   2339.2,2,-999.0000,9,  -999.00,    22.49,2,   -999.0,9,   -999.0,  -999.00,9,   0.00054,2,    0.006,2,    0.048,2,    0.000,2,   99.848,2
  096U20180111,  SR03,    77,  1,     23,     23,2,20180206,0028,-62.5002, 150.0002, 3834,    400.6,   2.0389,  34.6677,2,  34.6673,2,    176.4,2,    176.7,2,    81.10,2,    33.28,2,     0.00,2,     2.28,2,        0,2, -999.000,9, -999.000,9,     -999,9,   -999.0,9,   -999.0,9,-999.0000,9,  -999.00,  -999.00,9,   -999.0,9,   -999.0,  -999.00,9,   0.00038,2,    0.004,2,    0.048,2,    0.000,2,   99.899,2
  096U20180111,  SR03,    77,  1,     22,     22,2,20180206,0028,-62.5002, 150.0002, 3834,    501.2,   2.0083,  34.6944,2,  34.6943,2,    179.7,2,    180.2,2,    82.30,2,    32.64,2,     0.00,2,     2.23,2,        0,2,    0.433,2,    0.234,2,     0.13,2,   2253.8,2,   2344.4,6,-999.0000,9,  -999.00,    21.16,2,   -999.0,9,   -999.0,  -999.00,9,   0.00035,2,    0.002,2,    0.036,2,    0.000,2,   99.941,2
  096U20180111,  SR03,    77,  1,     21,     21,2,20180206,0028,-62.5002, 150.0002, 3834,    600.5,   2.0140,  34.7162,2,  34.7160,2,    182.4,2,    183.9,2,    83.10,2,    32.06,2,     0.00,2,     2.19,2,        0,2, -999.000,9, -999.000,9,     -999,9,   -999.0,9,   -999.0,9,-999.0000,9,  -999.00,  -999.00,9,   -999.0,9,   -999.0,  -999.00,9,   0.00036,2,    0.002,2,    0.036,2,    0.000,2,   99.939,2
  096U20180111,  SR03,    77,  1,     20,     20,2,20180206,0028,-62.5002, 150.0002, 3834,    700.5,   1.9244,  34.7271,2,  34.7273,2,    186.9,2,    186.7,2,    85.30,2,    31.74,2,     0.00,2,     2.17,2,        0,2, -999.000,9, -999.000,9,     -999,9,   -999.0,9,   -999.0,9,-999.0000,9,  -999.00,  -999.00,9,   -999.0,9,   -999.0,  -999.00,9,   0.00032,2,    0.002,2,    0.036,2,    0.000,2,   99.957,2
  096U20180111,  SR03,    77,  1,     19,     19,2,20180206,0028,-62.5002, 150.0002, 3834,    851.4,   1.7685,  34.7326,2,  34.7334,2,    191.5,2,    191.8,2,    88.00,2,    31.44,2,     0.00,2,     2.16,2,        0,2,    0.322,2,    0.172,2,     0.05,2,   2250.4,2,   2349.8,2,-999.0000,9,  -999.00,    19.79,2,   -999.0,9,   -999.0,  -999.00,9,   0.00033,2,    0.000,2,    0.036,2,    0.000,2,   99.996,2
  096U20180111,  SR03,    77,  1,     18,     18,2,20180206,0028,-62.5002, 150.0002, 3834,   1000.5,   1.6842,  34.7418,2,  34.7418,2,    194.8,2,    195.2,2,    91.00,2,    31.13,2,     0.00,2,     2.14,2,        0,2, -999.000,9, -999.000,9,     -999,9,   -999.0,9,   -999.0,9,-999.0000,9,  -999.00,  -999.00,9,   -999.0,9,   -999.0,  -999.00,9,   0.00030,2,    0.000,2,    0.036,2,    0.000,2,  100.004,2
  096U20180111,  SR03,    77,  1,     17,     17,2,20180206,0028,-62.5002, 150.0002, 3834,   1000.5,   1.6840,  34.7418,2,-999.0000,9,    194.8,2,   -999.0,9,  -999.00,9,  -999.00,9,  -999.00,9,  -999.00,9,     -999,9, -999.000,9, -999.000,9,     -999,9,   -999.0,9,   -999.0,9,-999.0000,9,  -999.00,  -999.00,9,   -999.0,9,   -999.0,  -999.00,9,   0.00030,2,    0.000,2,    0.036,2,    0.000,2,  100.006,2
  096U20180111,  SR03,    77,  1,     16,     16,2,20180206,0028,-62.5002, 150.0002, 3834,   1125.8,   1.5864,  34.7423,2,  34.7425,2,    197.2,2,    197.0,2,    93.70,2,    31.14,2,     0.00,2,     2.13,2,        0,2, -999.000,9, -999.000,9,     -999,9,   -999.0,9,   -999.0,9,-999.0000,9,  -999.00,  -999.00,9,   -999.0,9,   -999.0,  -999.00,9,   0.00030,2,    0.000,2,    0.036,2,    0.000,2,   99.998,2
  096U20180111,  SR03,    77,  1,     15,     15,2,20180206,0028,-62.5002, 150.0002, 3834,   1301.1,   1.4357,  34.7380,2,  34.8274,4,    199.8,2,    199.1,2,    98.00,2,    31.33,2,     0.00,2,     2.15,2,        0,2,    0.232,2,    0.123,2,     0.08,2,   2253.4,2,   2355.9,2,-999.0000,9,  -999.00,    18.93,2,   -999.0,9,   -999.0,  -999.00,9,   0.00030,2,    0.000,2,    0.036,2,    0.000,2,  100.006,2
  096U20180111,  SR03,    77,  1,     14,     14,2,20180206,0028,-62.5002, 150.0002, 3834,   1500.5,   1.2667,  34.7321,2,  34.7326,2,    201.8,2,    201.6,2,   103.30,2,    31.55,2,     0.00,2,     2.17,2,        0,2, -999.000,9, -999.000,9,     -999,9,   -999.0,9,   -999.0,9,-999.0000,9,  -999.00,  -999.00,9,   -999.0,9,   -999.0,  -999.00,9,   0.00029,2,   -0.002,2,    0.036,2,    0.000,2,  100.041,2
  096U20180111,  SR03,    77,  1,     13,     13,2,20180206,0028,-62.5002, 150.0002, 3834,   1751.2,   1.0572,  34.7215,2,  34.7230,2,    203.9,2,    204.2,2,   109.20,2,    31.91,2,     0.00,2,     2.20,2,        0,2, -999.000,9, -999.000,9,     -999,9,   -999.0,9,   -999.0,9,-999.0000,9,  -999.00,  -999.00,9,   -999.0,9,   -999.0,  -999.00,9,   0.00027,2,   -0.002,2,    0.036,2,    0.000,2,  100.049,2
  096U20180111,  SR03,    77,  1,     12,     12,2,20180206,0028,-62.5002, 150.0002, 3834,   2001.7,   0.8670,  34.7123,2,  34.7129,2,    206.3,2,    206.6,2,   115.20,2,    32.29,2,     0.00,2,     2.23,2,        0,2,    0.271,2,    0.140,2,     0.03,2,   2259.0,6,   2359.7,6,-999.0000,9,  -999.00,    18.41,2,   -999.0,9,   -999.0,  -999.00,9,   0.00025,2,   -0.003,2,    0.036,2,    0.000,2,  100.069,2
  096U20180111,  SR03,    77,  1,     11,     11,2,20180206,0028,-62.5002, 150.0002, 3834,   2250.6,   0.6888,  34.7023,2,  34.7032,2,    209.0,2,    209.4,2,   119.50,2,    32.52,2,     0.00,2,     2.25,2,        0,2, -999.000,9, -999.000,9,     -999,9,   -999.0,9,   -999.0,9,-999.0000,9,  -999.00,  -999.00,9,   -999.0,9,   -999.0,  -999.00,9,   0.00025,2,   -0.003,2,    0.036,2,    0.000,2,  100.067,2
  096U20180111,  SR03,    77,  1,     10,     10,2,20180206,0028,-62.5002, 150.0002, 3834,   2501.0,   0.5142,  34.6932,2,  34.6935,2,    212.3,2,    213.2,2,   123.40,2,    32.71,2,     0.00,2,     2.26,2,        0,2, -999.000,9, -999.000,9,     -999,9,   -999.0,9,   -999.0,9,-999.0000,9,  -999.00,  -999.00,9,   -999.0,9,   -999.0,  -999.00,9,   0.00024,2,   -0.003,2,    0.036,2,    0.000,2,  100.068,2
  096U20180111,  SR03,    77,  1,      9,      9,2,20180206,0028,-62.5002, 150.0002, 3834,   2744.7,   0.3967,  34.6876,2,  34.6886,2,    215.7,2,    216.3,2,   125.80,2,    32.79,2,     0.00,2,     2.27,2,        0,2,    0.560,2,    0.289,2,     0.16,2,   2261.7,2,   2359.4,2,-999.0000,9,  -999.00,    18.29,2,   -999.0,9,   -999.0,  -999.00,9,   0.00030,2,   -0.003,2,    0.036,2,    0.000,2,  100.065,2
  096U20180111,  SR03,    77,  1,      8,      8,2,20180206,0028,-62.5002, 150.0002, 3834,   3001.0,   0.2886,  34.6826,2,  34.6833,2,    219.2,2,    219.4,2,   128.20,2,    32.91,2,     0.00,2,     2.27,2,        0,2, -999.000,9, -999.000,9,     -999,9,   -999.0,9,   -999.0,9,-999.0000,9,  -999.00,  -999.00,9,   -999.0,9,   -999.0,  -999.00,9,   0.00024,2,   -0.003,2,    0.036,2,    0.000,2,  100.065,2
  096U20180111,  SR03,    77,  1,      7,      7,2,20180206,0028,-62.5002, 150.0002, 3834,   3251.3,   0.2027,  34.6782,2,  34.6782,2,    222.3,2,    222.6,2,   130.30,2,    32.91,2,     0.00,2,     2.27,2,        0,2, -999.000,9, -999.000,9,     -999,9,   -999.0,9,   -999.0,9,-999.0000,9,  -999.00,  -999.00,9,   -999.0,9,   -999.0,  -999.00,9,   0.00023,2,   -0.002,2,    0.036,2,    0.000,2,  100.051,2
  096U20180111,  SR03,    77,  1,      6,      6,2,20180206,0028,-62.5002, 150.0002, 3834,   3502.2,   0.1258,  34.6734,2,  34.6753,2,    225.9,2,    226.0,2,   129.40,2,    32.83,2,     0.01,2,     2.27,2,        0,2,    1.092,2,    0.564,2,     0.38,2,   2260.9,2,   2359.0,2,-999.0000,9,  -999.00,    18.51,2,   -999.0,9,   -999.0,  -999.00,9,   0.00027,2,   -0.001,2,    0.036,2,    0.000,2,  100.017,2
  096U20180111,  SR03,    77,  1,      5,      5,2,20180206,0028,-62.5002, 150.0002, 3834,   3502.2,   0.1258,  34.6734,2,-999.0000,9,    225.9,2,   -999.0,9,  -999.00,9,  -999.00,9,  -999.00,9,  -999.00,9,     -999,9, -999.000,9, -999.000,9,     -999,9,   -999.0,9,   -999.0,9,-999.0000,9,  -999.00,  -999.00,9,   -999.0,9,   -999.0,  -999.00,9,   0.00024,2,   -0.001,2,    0.036,2,    0.000,2,  100.022,2
  096U20180111,  SR03,    77,  1,      4,      4,2,20180206,0028,-62.5002, 150.0002, 3834,   3701.2,   0.0600,  34.6689,2,  34.6689,2,    229.1,2,    228.7,2,   127.50,2,    32.80,2,     0.01,2,     2.27,2,        0,2, -999.000,9, -999.000,9,     -999,9,   -999.0,9,   -999.0,9,-999.0000,9,  -999.00,  -999.00,9,   -999.0,9,   -999.0,  -999.00,9,   0.00030,2,    0.003,2,    0.042,2,    0.000,2,   99.916,2
  096U20180111,  SR03,    77,  1,      3,      3,2,20180206,0028,-62.5002, 150.0002, 3834,   3861.5,  -0.0337,  34.6653,2,  34.6654,2,    232.7,2,    232.8,2,   121.20,2,    32.66,2,     0.01,2,     2.26,2,        0,2,    1.730,2,    0.915,2,     0.69,2,   -999.0,9,   -999.0,9,-999.0000,9,  -999.00,    18.47,2,   -999.0,9,   -999.0,  -999.00,9,   0.00037,2,    0.008,2,    0.036,2,    0.000,2,   99.808,2
  096U20180111,  SR03,    77,  1,      2,      2,2,20180206,0028,-62.5002, 150.0002, 3834,   3911.6,  -0.0575,  34.6675,2,  34.6680,2,    234.1,2,    234.0,2,   117.60,2,    32.62,2,     0.01,2,     2.26,2,        0,2,    1.867,2,    1.000,2,     0.81,2,   2256.5,2,   2355.2,2,-999.0000,9,  -999.00,    18.43,2,   -999.0,9,   -999.0,  -999.00,9,   0.00054,2,    0.021,2,    0.036,2,    0.000,2,   99.473,2
  096U20180111,  SR03,    77,  1,      1,      1,2,20180206,0028,-62.5002, 150.0002, 3834,   3911.5,  -0.0575,  34.6675,2,-999.0000,9,    234.1,2,   -999.0,9,  -999.00,9,  -999.00,9,  -999.00,9,  -999.00,9,     -999,9, -999.000,9, -999.000,9,     -999,9,   -999.0,9,   -999.0,9,-999.0000,9,  -999.00,  -999.00,9,   -999.0,9,   -999.0,  -999.00,9,   0.00057,2,    0.023,2,    0.036,2,    0.000,2,   99.436,2