BOTTLE,20230418CCHSIOENA
EXPOCODE,SECT_ID,STNNBR,CASTNO,SAMPNO,BTLNBR,BTLNBR_FLAG_W,DATE,TIME,LATITUDE,LONGITUDE,DEPTH,CTDPRS,CTDTMP,CTDSAL,CTDSAL_FLAG_W,SALNTY,SALNTY_FLAG_W,CTDOXY,CTDOXY_FLAG_W,OXYGEN,OXYGEN_FLAG_W,SILCAT,SILCAT_FLAG_W,NITRAT,NITRAT_FLAG_W,NITRIT,NITRIT_FLAG_W,PHSPHT,PHSPHT_FLAG_W,NH4,NH4_FLAG_W,CFC-11,CFC-11_FLAG_W,CFC-12,CFC-12_FLAG_W,SF6,SF6_FLAG_W,TCARBN,TCARBN_FLAG_W,ALKALI,ALKALI_FLAG_W,PH_TOT,PH_TOT_FLAG_W,PH_TMP,N2O,N2O_FLAG_W,DELC14,DELC14_FLAG_W,C14ERR,DELC13,DELC13_FLAG_W,CTDBETA700,CTDBETA700_FLAG_W,CTDBEAMCP,CTDBEAMCP_FLAG_W,CTDFLUOR,CTDFLUOR_FLAG_W,PAR,PAR_FLAG_W,CTDXMISS,CTDXMISS_FLAG_W
,,,,,,,,,,,METERS,DBAR,ITS-90,PSS-78,,PSS-78,,UMOL/KG,,UMOL/KG,,UMOL/KG,,UMOL/KG,,UMOL/KG,,UMOL/KG,,UMOL/KG,,PMOL/KG,,PMOL/KG,,FMOL/KG,,UMOL/KG,,UMOL/KG,,,,DEG C,NMOL/KG,,/MILLE,,/MILLE,/MILLE,,VOLTS,,1/M,,MG/M^3,,UMOL/M^2/SEC,,%TRANS,
  096U20180111,  SR03,    50,  1,     36,     36,2,20180129,1305,-63.3498, 139.8278, 3759,     10.8,   0.5779,  33.7868,2,-999.0000,9,    333.6,2,   -999.0,9,  -999.00,9,  -999.00,9,  -999.00,9,  -999.00,9,     -999,9, -999.000,9, -999.000,9,     -999,9,   -999.0,9,   -999.0,9,-999.0000,9,  -999.00,  -999.00,9,   -999.0,9,   -999.0,  -999.00,9,   0.00200,2,    0.173,2,    1.572,2,    0.952,2,   95.761,2
  096U20180111,  SR03,    50,  1,     35,     35,2,20180129,1305,-63.3498, 139.8278, 3759,     10.9,   0.5773,  33.7863,2,  33.7878,2,    333.6,2,    334.4,2,    27.00,2,    25.87,2,     0.23,2,     1.77,2,     0.49,2,    5.190,2,    2.814,2,     3.37,2,   2159.5,2,   2286.0,2,-999.0000,9,  -999.00,    15.02,2,   -107.8,2,      2.1,     1.30,2,   0.00189,2,    0.173,2,    1.626,2,    0.969,2,   95.759,2
  096U20180111,  SR03,    50,  1,     34,     34,2,20180129,1305,-63.3498, 139.8278, 3759,     30.7,   0.5495,  33.7913,2,  33.7955,2,    335.0,2,    333.8,2,    27.80,2,    26.12,2,     0.23,2,     1.78,2,     0.51,2, -999.000,9, -999.000,9,     -999,9,   -999.0,9,   -999.0,9,-999.0000,9,  -999.00,  -999.00,9,   -999.0,9,   -999.0,  -999.00,9,   0.00191,2,    0.175,2,    1.626,2,    0.051,2,   95.715,2
  096U20180111,  SR03,    50,  1,     33,     33,2,20180129,1305,-63.3498, 139.8278, 3759,     50.3,  -0.5504,  33.9228,2,  33.9548,2,    328.0,2,    315.8,2,    39.90,2,    28.66,2,     0.20,2,     2.06,2,     0.66,2,    4.842,2,    2.621,2,     2.82,2,   2186.9,2,   2295.4,2,-999.0000,9,  -999.00,    17.14,2,   -999.0,9,   -999.0,  -999.00,9,   0.00178,2,    0.139,2,    1.566,2,    0.000,2,   96.584,2
  096U20180111,  SR03,    50,  1,     32,     32,2,20180129,1305,-63.3498, 139.8278, 3759,     60.9,  -0.6524,  34.1115,2,  34.1171,2,    294.4,2,    283.2,2,    50.70,2,    31.12,2,     0.17,2,     2.24,2,     0.42,2,    4.068,2,    2.224,2,     2.54,2,   2210.2,2,   2304.8,2,-999.0000,9,  -999.00,    18.78,2,   -112.4,2,      2.1,     0.84,2,   0.00084,2,    0.050,2,    0.666,2,    0.000,2,   98.761,2
  096U20180111,  SR03,    50,  1,     31,     31,2,20180129,1305,-63.3498, 139.8278, 3759,     80.6,   0.1822,  34.2317,2,  34.2294,2,    252.0,2,    250.4,2,    56.80,2,    32.57,2,     0.12,2,     2.32,2,      0.2,2,    3.303,2,    1.802,2,     1.87,2,   -999.0,9,   -999.0,9,-999.0000,9,  -999.00,    20.59,2,   -999.0,9,   -999.0,  -999.00,9,   0.00065,2,    0.026,2,    0.234,2,    0.000,2,   99.345,2
  096U20180111,  SR03,    50,  1,     30,     30,2,20180129,1305,-63.3498, 139.8278, 3759,    100.9,   0.7871,  34.3170,2,  34.3258,2,    220.7,2,    223.8,2,    62.00,2,    33.62,2,     0.07,2,     2.37,2,     0.06,2, -999.000,9, -999.000,9,     -999,9,   -999.0,9,   -999.0,9,-999.0000,9,  -999.00,  -999.00,9,   -999.0,9,   -999.0,  -999.00,9,   0.00058,2,    0.023,2,    0.186,2,    0.000,2,   99.434,2
  096U20180111,  SR03,    50,  1,     29,     29,2,20180129,1305,-63.3498, 139.8278, 3759,    120.3,   1.5410,  34.4323,2,  34.4335,2,    196.3,2,    196.6,2,    68.20,2,    34.34,2,     0.03,2,     2.41,2,        0,2,    1.832,2,    0.974,2,     0.93,2,   2247.1,2,   2324.0,2,-999.0000,9,  -999.00,    23.44,2,   -123.1,2,      2.2,     0.42,2,   0.00070,2,    0.016,2,    0.114,2,    0.000,2,   99.590,2
  096U20180111,  SR03,    50,  1,     28,     28,2,20180129,1305,-63.3498, 139.8278, 3759,    161.0,   1.8777,  34.5108,2,  34.5139,2,    180.3,2,    181.6,2,    73.10,2,    34.42,2,     0.02,2,     2.41,2,     0.01,2, -999.000,9, -999.000,9,     -999,9,   -999.0,9,   -999.0,9,-999.0000,9,  -999.00,  -999.00,9,   -999.0,9,   -999.0,  -999.00,9,   0.00058,2,    0.016,2,    0.066,2,    0.000,2,   99.593,2
  096U20180111,  SR03,    50,  1,     27,     27,2,20180129,1305,-63.3498, 139.8278, 3759,    200.6,   2.0319,  34.5761,2,  34.6080,4,    177.5,2,    175.4,2,    78.00,2,    33.77,2,     0.01,2,     2.36,2,        0,2,    0.785,2,    0.419,2,     0.32,2,   2257.2,2,   2337.0,2,-999.0000,9,  -999.00,    23.40,2,   -139.1,2,      2.2,     0.36,2,   0.00060,2,    0.015,2,    0.042,2,    0.000,2,   99.622,2
  096U20180111,  SR03,    50,  1,     26,     26,2,20180129,1305,-63.3498, 139.8278, 3759,    250.9,   2.0611,  34.6176,2,-999.0000,9,    174.7,2,   -999.0,9,  -999.00,9,  -999.00,9,  -999.00,9,  -999.00,9,     -999,9, -999.000,9, -999.000,9,     -999,9,   -999.0,9,   -999.0,9,-999.0000,9,  -999.00,  -999.00,9,   -999.0,9,   -999.0,  -999.00,9,   0.00052,2,    0.010,2,    0.042,2,    0.000,2,   99.752,2
  096U20180111,  SR03,    50,  1,     25,     25,2,20180129,1305,-63.3498, 139.8278, 3759,    250.8,   2.0606,  34.6177,2,  34.6189,2,    174.7,2,    174.9,2,    78.50,2,    33.58,2,     0.01,2,     2.35,2,        0,2,    0.734,2,    0.393,2,     0.34,2,   2257.6,2,   2338.3,2,-999.0000,9,  -999.00,    22.92,2,   -144.3,2,      2.0,     0.26,2,   0.00050,2,    0.009,2,    0.042,2,    0.000,2,   99.774,2
  096U20180111,  SR03,    50,  1,     24,     24,2,20180129,1305,-63.3498, 139.8278, 3759,    301.0,   2.0410,  34.6438,2,  34.6437,2,    175.8,2,    176.5,2,    79.90,2,    33.12,2,     0.00,2,     2.31,2,        0,2,    0.633,2,    0.342,2,     0.14,2,   2256.4,6,   2339.6,6,-999.0000,9,  -999.00,    22.45,2,   -142.4,2,      2.2,     0.32,2,   0.00048,2,    0.007,2,    0.042,2,    0.000,2,   99.817,2
  096U20180111,  SR03,    50,  1,     23,     23,2,20180129,1305,-63.3498, 139.8278, 3759,    350.4,   2.0213,  34.6666,2,  34.6668,2,    178.0,2,    178.6,2,    80.90,2,    32.81,2,     0.01,2,     2.29,2,        0,2, -999.000,9, -999.000,9,     -999,9,   -999.0,9,   -999.0,9,-999.0000,9,  -999.00,  -999.00,9,   -999.0,9,   -999.0,  -999.00,9,   0.00077,2,    0.004,2,    0.048,2,    0.000,2,   99.894,2
  096U20180111,  SR03,    50,  1,     22,     22,2,20180129,1305,-63.3498, 139.8278, 3759,    400.4,   2.0232,  34.6821,2,  34.6823,2,    180.1,2,    180.0,2,    81.40,2,    32.36,2,     0.00,2,     2.27,2,        0,2,    0.489,2,    0.260,2,     0.14,2,   2255.2,2,   2342.0,2,-999.0000,9,  -999.00,    21.49,2,   -142.9,2,      2.2,     0.37,2,   0.00061,2,    0.004,2,    0.036,2,    0.000,2,   99.891,2
  096U20180111,  SR03,    50,  1,     21,     21,2,20180129,1305,-63.3498, 139.8278, 3759,    500.7,   1.9808,  34.7077,2,  34.7071,2,    183.7,2,    183.7,2,    83.20,2,    31.76,2,     0.00,2,     2.22,2,        0,2,    0.386,2,    0.210,2,     0.11,2,   2252.5,2,   2345.4,2,-999.0000,9,  -999.00,    20.92,2,   -147.1,2,      1.9,     0.41,2,   0.00046,2,    0.002,2,    0.042,2,    0.000,2,   99.947,2
  096U20180111,  SR03,    50,  1,     20,     20,2,20180129,1305,-63.3498, 139.8278, 3759,    599.9,   1.9184,  34.7216,2,  34.7212,2,    187.3,2,    187.0,2,    84.80,2,    31.30,2,     0.00,2,     2.20,2,        0,2, -999.000,9, -999.000,9,     -999,9,   -999.0,9,   -999.0,9,-999.0000,9,  -999.00,  -999.00,9,   -999.0,9,   -999.0,  -999.00,9,   0.00035,2,    0.001,2,    0.036,2,    0.000,2,   99.982,2
  096U20180111,  SR03,    50,  1,     19,     19,2,20180129,1305,-63.3498, 139.8278, 3759,    700.6,   1.8324,  34.7306,2,  34.7309,2,    190.8,2,    190.2,2,    86.80,2,    30.99,2,     0.00,2,     2.18,2,        0,2,    0.318,2,    0.172,2,     0.13,2,   2249.5,2,   2349.4,2,-999.0000,9,  -999.00,    20.05,2,   -151.6,2,      2.3,     0.40,2,   0.00039,2,    0.000,2,    0.036,2,    0.000,2,   99.989,2
  096U20180111,  SR03,    50,  1,     18,     18,2,20180129,1305,-63.3498, 139.8278, 3759,    800.6,   1.7540,  34.7372,2,  34.7374,2,    194.0,2,    193.8,2,    88.70,2,    30.73,2,     0.00,2,     2.15,2,        0,2, -999.000,9, -999.000,9,     -999,9,   -999.0,9,   -999.0,9,-999.0000,9,  -999.00,  -999.00,9,   -999.0,9,   -999.0,  -999.00,9,   0.00051,2,    0.003,2,    0.042,2,    0.000,2,   99.915,2
  096U20180111,  SR03,    50,  1,     17,     17,2,20180129,1305,-63.3498, 139.8278, 3759,    900.9,   1.6768,  34.7411,2,  34.7414,2,    196.3,2,    196.1,2,    90.80,2,    30.67,2,     0.00,2,     2.15,2,    -0.01,2,    0.256,2,    0.137,2,     0.13,2,   2251.0,2,   2352.2,2,-999.0000,9,  -999.00,    18.90,2,   -154.0,2,      2.1,     0.42,2,   0.00033,2,   -0.002,2,    0.036,2,    0.000,2,  100.053,2
  096U20180111,  SR03,    50,  1,     16,     16,2,20180129,1305,-63.3498, 139.8278, 3759,   1000.9,   1.5983,  34.7424,2,  34.7438,2,    198.3,2,    197.7,2,    93.20,2,    30.56,2,     0.00,2,     2.15,2,        0,2, -999.000,9, -999.000,9,     -999,9,   2250.1,2,   2354.2,2,-999.0000,9,  -999.00,  -999.00,9,   -151.8,2,      3.0,     0.42,2,   0.00030,2,   -0.003,2,    0.036,2,    0.000,2,  100.070,2
  096U20180111,  SR03,    50,  1,     15,     15,2,20180129,1305,-63.3498, 139.8278, 3759,   1251.1,   1.3470,  34.7357,2,  34.7357,2,    201.4,2,    201.4,2,   100.00,2,    30.89,2,     0.01,2,     2.17,2,        0,2,    0.224,2,    0.114,2,     0.04,2,   -999.0,9,   -999.0,9,-999.0000,9,  -999.00,    19.00,2,   -999.0,9,   -999.0,  -999.00,9,   0.00046,2,   -0.003,2,    0.036,2,    0.000,2,  100.079,2
  096U20180111,  SR03,    50,  1,     14,     14,2,20180129,1305,-63.3498, 139.8278, 3759,   1500.3,   1.1344,  34.7258,2,  34.7261,2,    203.7,2,    203.7,2,   106.20,2,    31.18,2,     0.00,2,     2.20,2,    -0.01,2,    0.248,2,    0.130,2,        0,2,   2256.3,6,   2358.6,6,-999.0000,9,  -999.00,    18.62,2,   -157.7,2,      2.2,     0.38,2,   0.00028,2,   -0.003,2,    0.036,2,    0.000,2,  100.076,2
  096U20180111,  SR03,    50,  1,     13,     13,2,20180129,1305,-63.3498, 139.8278, 3759,   1750.8,   0.9391,  34.7159,2,  34.7165,2,    206.1,2,    206.1,2,   112.10,2,    31.48,2,     0.01,2,     2.23,2,    -0.01,2,    0.270,2,    0.135,2,     0.05,2,   2258.0,2,   2359.7,6,-999.0000,9,  -999.00,    18.55,2,   -156.2,2,      2.2,     0.36,2,   0.00028,2,   -0.004,2,    0.036,2,    0.000,2,  100.096,2
  096U20180111,  SR03,    50,  1,     12,     12,2,20180129,1305,-63.3498, 139.8278, 3759,   2001.0,   0.7365,  34.7052,2,  34.7061,2,    209.3,2,    209.1,2,   117.60,2,    31.80,2,     0.01,2,     2.25,2,        0,2,    0.324,2,    0.168,2,     0.09,2,   2259.9,2,   2360.2,2,-999.0000,9,  -999.00,    18.65,2,   -158.2,2,      1.9,     0.32,2,   0.00027,2,   -0.004,2,    0.042,2,    0.000,2,  100.097,2
  096U20180111,  SR03,    50,  1,     11,     11,2,20180129,1305,-63.3498, 139.8278, 3759,   2250.7,   0.5585,  34.6959,2,  34.6961,2,    213.1,2,    213.1,2,   121.70,2,    32.05,2,     0.01,2,     2.27,2,    -0.01,2,    0.411,2,    0.214,2,     0.13,2,   2259.9,2,   2358.9,2,-999.0000,9,  -999.00,    18.34,2,   -160.3,2,      2.0,     0.39,2,   0.00025,2,   -0.003,2,    0.036,2,    0.000,2,  100.085,2
  096U20180111,  SR03,    50,  1,     10,     10,2,20180129,1305,-63.3498, 139.8278, 3759,   2500.8,   0.4047,  34.6882,2,  34.6888,2,    216.8,2,    216.7,2,   124.80,2,    32.22,2,     0.01,2,     2.28,2,    -0.01,2,    0.542,2,    0.278,2,     0.08,2,   2261.2,2,   2359.5,2,-999.0000,9,  -999.00,    18.24,2,   -159.9,2,      2.6,     0.47,2,   0.00025,2,   -0.004,2,    0.036,2,    0.000,2,  100.101,2
  096U20180111,  SR03,    50,  1,      9,      9,2,20180129,1305,-63.3498, 139.8278, 3759,   2751.4,   0.2822,  34.6827,2,  34.6825,2,    220.9,2,    220.3,2,   127.80,2,    32.16,2,     0.01,2,     2.28,2,    -0.01,2,    0.674,2,    0.344,2,     0.37,2,   2261.2,2,   2358.9,2,-999.0000,9,  -999.00,    18.47,2,   -159.1,2,      2.2,     0.44,2,   0.00024,2,   -0.004,2,    0.036,2,    0.000,2,  100.096,2
  096U20180111,  SR03,    50,  1,      8,      8,2,20180129,1305,-63.3498, 139.8278, 3759,   3001.6,   0.1412,  34.6730,2,  34.6728,2,    225.2,2,    225.3,2,   123.30,2,    32.11,2,     0.01,2,     2.27,2,    -0.01,2, -999.000,9, -999.000,9,     -999,9,   -999.0,9,   -999.0,9,-999.0000,9,  -999.00,  -999.00,9,   -999.0,9,   -999.0,  -999.00,9,   0.00025,2,   -0.003,2,    0.042,2,    0.000,2,  100.082,2
  096U20180111,  SR03,    50,  1,      7,      7,2,20180129,1305,-63.3498, 139.8278, 3759,   3251.5,   0.0502,  34.6699,2,  34.6706,2,    229.8,2,    229.6,2,   126.60,2,    32.06,2,     0.00,2,     2.27,2,        0,2,    1.195,6,    0.616,6,     0.45,6,   2258.6,2,   2357.6,2,-999.0000,9,  -999.00,    18.45,6,   -150.9,2,      1.7,     0.78,3,   0.00026,2,   -0.004,2,    0.036,2,    0.000,2,  100.090,2
  096U20180111,  SR03,    50,  1,      6,      6,2,20180129,1305,-63.3498, 139.8278, 3759,   3500.7,  -0.1013,  34.6591,2,  34.6595,2,    236.4,2,    235.9,2,   119.40,2,    32.01,2,     0.01,2,     2.26,2,    -0.01,2, -999.000,9, -999.000,9,     -999,9,   2258.6,2,   2355.1,2,-999.0000,9,  -999.00,  -999.00,9,   -150.5,2,      2.3,     0.53,2,   0.00027,2,   -0.001,2,    0.036,2,    0.000,2,  100.036,2
  096U20180111,  SR03,    50,  1,      5,      5,2,20180129,1305,-63.3498, 139.8278, 3759,   3601.2,  -0.1630,  34.6544,2,  34.6546,2,    239.3,2,    238.7,2,   115.10,2,    31.78,2,     0.01,2,     2.25,2,        0,2,    1.926,2,    1.025,2,     0.86,2,   2257.6,2,   2354.3,2,-999.0000,9,  -999.00,    18.37,2,   -155.5,2,      2.0,     0.53,2,   0.00033,2,    0.001,2,    0.036,2,    0.000,2,   99.970,2
  096U20180111,  SR03,    50,  1,      4,      4,2,20180129,1305,-63.3498, 139.8278, 3759,   3721.3,  -0.2944,  34.6469,2,  34.6468,2,    245.0,2,    245.9,2,   102.40,2,    31.52,2,     0.01,2,     2.23,2,        0,2,    2.277,2,    1.232,2,     1.13,2,   2255.4,6,   2351.3,6,-999.0000,9,  -999.00,    18.76,2,   -148.2,2,      2.3,     0.52,2,   0.00054,2,    0.013,2,    0.036,2,    0.000,2,   99.683,2
  096U20180111,  SR03,    50,  1,      3,      3,2,20180129,1305,-63.3498, 139.8278, 3759,   3771.2,  -0.2911,  34.6473,2,  34.6628,4,    246.2,2,    246.2,2,   102.20,2,    31.52,2,     0.01,2,     2.23,2,        0,2,    2.277,2,    1.229,2,     1.04,2,   2253.9,2,   2350.6,2,-999.0000,9,  -999.00,    18.25,2,   -149.0,2,      2.0,     0.57,2,   0.00078,2,    0.020,2,    0.030,2,    0.000,2,   99.506,2
  096U20180111,  SR03,    50,  1,      2,      2,2,20180129,1305,-63.3498, 139.8278, 3759,   3835.8,  -0.2842,  34.6475,2,-999.0000,9,    246.9,2,   -999.0,9,  -999.00,9,  -999.00,9,  -999.00,9,  -999.00,9,     -999,9, -999.000,9, -999.000,9,     -999,9,   -999.0,9,   -999.0,9,-999.0000,9,  -999.00,  -999.00,9,   -999.0,9,   -999.0,  -999.00,9,   0.00085,2,    0.026,2,    0.036,2,    0.000,2,   99.352,2
  096U20180111,  SR03,    50,  1,      1,      1,2,20180129,1305,-63.3498, 139.8278, 3759,   3835.7,  -0.2842,  34.6474,2,  34.6475,2,    246.9,2,    246.5,2,   102.20,2,    31.58,2,     0.01,2,     2.23,2,        0,2,    2.278,2,    1.228,2,     1.18,2,   2253.4,2,   2351.1,2,-999.0000,9,  -999.00,    18.31,2,   -150.7,2,      2.1,     0.56,2,   0.00088,2,    0.025,2,    0.036,2,    0.000,2,   99.387,2