BOTTLE,20230418CCHSIOENA
EXPOCODE,SECT_ID,STNNBR,CASTNO,SAMPNO,BTLNBR,BTLNBR_FLAG_W,DATE,TIME,LATITUDE,LONGITUDE,DEPTH,CTDPRS,CTDTMP,CTDSAL,CTDSAL_FLAG_W,SALNTY,SALNTY_FLAG_W,CTDOXY,CTDOXY_FLAG_W,OXYGEN,OXYGEN_FLAG_W,SILCAT,SILCAT_FLAG_W,NITRAT,NITRAT_FLAG_W,NITRIT,NITRIT_FLAG_W,PHSPHT,PHSPHT_FLAG_W,NH4,NH4_FLAG_W,CFC-11,CFC-11_FLAG_W,CFC-12,CFC-12_FLAG_W,SF6,SF6_FLAG_W,TCARBN,TCARBN_FLAG_W,ALKALI,ALKALI_FLAG_W,PH_TOT,PH_TOT_FLAG_W,PH_TMP,N2O,N2O_FLAG_W,DELC14,DELC14_FLAG_W,C14ERR,DELC13,DELC13_FLAG_W,CTDBETA700,CTDBETA700_FLAG_W,CTDBEAMCP,CTDBEAMCP_FLAG_W,CTDFLUOR,CTDFLUOR_FLAG_W,PAR,PAR_FLAG_W,CTDXMISS,CTDXMISS_FLAG_W
,,,,,,,,,,,METERS,DBAR,ITS-90,PSS-78,,PSS-78,,UMOL/KG,,UMOL/KG,,UMOL/KG,,UMOL/KG,,UMOL/KG,,UMOL/KG,,UMOL/KG,,PMOL/KG,,PMOL/KG,,FMOL/KG,,UMOL/KG,,UMOL/KG,,,,DEG C,NMOL/KG,,/MILLE,,/MILLE,/MILLE,,VOLTS,,1/M,,MG/M^3,,UMOL/M^2/SEC,,%TRANS,
  096U20180111,  SR03,   108,  1,     36,     36,2,20180219,0455,-53.6288, 142.9797, 2999,     10.3,   5.0639,  33.7897,2,-999.0000,9,    312.6,2,   -999.0,9,  -999.00,9,  -999.00,9,  -999.00,9,  -999.00,9,     -999,9, -999.000,9, -999.000,9,     -999,9,   -999.0,9,   -999.0,9,-999.0000,9,  -999.00,  -999.00,9,   -999.0,9,   -999.0,  -999.00,9,   0.00167,2,    0.188,2,    0.414,2,  292.000,2,   95.414,2
  096U20180111,  SR03,   108,  1,     35,     35,2,20180219,0455,-53.6288, 142.9797, 2999,     10.3,   5.0678,  33.7899,2,-999.0000,9,    312.6,2,   -999.0,9,  -999.00,9,  -999.00,9,  -999.00,9,  -999.00,9,     -999,9, -999.000,9, -999.000,9,     -999,9,   -999.0,9,   -999.0,9,-999.0000,9,  -999.00,  -999.00,9,   -999.0,9,   -999.0,  -999.00,9,   0.00188,2,    0.188,2,    0.486,2,  299.000,2,   95.406,2
  096U20180111,  SR03,   108,  1,     34,     34,2,20180219,0455,-53.6288, 142.9797, 2999,     10.3,   5.0670,  33.7900,2,-999.0000,9,    312.6,2,   -999.0,9,  -999.00,9,  -999.00,9,  -999.00,9,  -999.00,9,     -999,9, -999.000,9, -999.000,9,     -999,9,   -999.0,9,   -999.0,9,-999.0000,9,  -999.00,  -999.00,9,   -999.0,9,   -999.0,  -999.00,9,   0.00164,2,    0.182,2,    0.438,2,  295.000,2,   95.549,2
  096U20180111,  SR03,   108,  1,     33,     33,2,20180219,0455,-53.6288, 142.9797, 2999,     10.3,   5.1015,  33.7897,2,  33.7908,2,    312.6,2,    312.9,2,     5.70,2,    24.42,2,     0.23,2,     1.54,2,     0.14,2, -999.000,9, -999.000,9,     -999,9,   -999.0,9,   -999.0,9,-999.0000,9,  -999.00,  -999.00,9,   -999.0,9,   -999.0,  -999.00,9,   0.00161,2,    0.180,2,    0.408,2,  301.000,2,   95.609,2
  096U20180111,  SR03,   108,  1,     32,     32,2,20180219,0455,-53.6288, 142.9797, 2999,     50.5,   4.9808,  33.7898,2,-999.0000,9,    312.8,2,   -999.0,9,  -999.00,9,  -999.00,9,  -999.00,9,  -999.00,9,     -999,9, -999.000,9, -999.000,9,     -999,9,   -999.0,9,   -999.0,9,-999.0000,9,  -999.00,  -999.00,9,   -999.0,9,   -999.0,  -999.00,9,   0.00197,2,    0.225,2,    2.916,2,   15.400,2,   94.522,2
  096U20180111,  SR03,   108,  1,     31,     31,2,20180219,0455,-53.6288, 142.9797, 2999,     50.4,   4.9816,  33.7898,2,-999.0000,9,    312.8,2,   -999.0,9,  -999.00,9,  -999.00,9,  -999.00,9,  -999.00,9,     -999,9, -999.000,9, -999.000,9,     -999,9,   -999.0,9,   -999.0,9,-999.0000,9,  -999.00,  -999.00,9,   -999.0,9,   -999.0,  -999.00,9,   0.00201,2,    0.226,2,    2.790,2,   15.400,2,   94.508,2
  096U20180111,  SR03,   108,  1,     30,     30,2,20180219,0455,-53.6288, 142.9797, 2999,     50.4,   4.9816,  33.7897,2,  33.7900,2,    312.8,2,    312.6,2,     5.70,2,    24.43,2,     0.22,2,     1.53,2,     0.14,2, -999.000,9, -999.000,9,     -999,9,   -999.0,9,   -999.0,9,-999.0000,9,  -999.00,  -999.00,9,   -999.0,9,   -999.0,  -999.00,9,   0.00207,2,    0.236,2,    3.120,2,   15.400,2,   94.262,2
  096U20180111,  SR03,   108,  1,     29,     29,2,20180219,0455,-53.6288, 142.9797, 2999,     75.5,   4.8893,  33.7911,2,-999.0000,9,    312.3,2,   -999.0,9,  -999.00,9,  -999.00,9,  -999.00,9,  -999.00,9,     -999,9, -999.000,9, -999.000,9,     -999,9,   -999.0,9,   -999.0,9,-999.0000,9,  -999.00,  -999.00,9,   -999.0,9,   -999.0,  -999.00,9,   0.00255,2,    0.255,2,    3.828,2,    2.440,2,   93.829,2
  096U20180111,  SR03,   108,  1,     28,     28,2,20180219,0455,-53.6288, 142.9797, 2999,     75.5,   4.8915,  33.7908,2,-999.0000,9,    312.3,2,   -999.0,9,  -999.00,9,  -999.00,9,  -999.00,9,  -999.00,9,     -999,9, -999.000,9, -999.000,9,     -999,9,   -999.0,9,   -999.0,9,-999.0000,9,  -999.00,  -999.00,9,   -999.0,9,   -999.0,  -999.00,9,   0.00254,2,    0.259,2,    4.080,2,    2.430,2,   93.741,2
  096U20180111,  SR03,   108,  1,     27,     27,2,20180219,0455,-53.6288, 142.9797, 2999,     75.5,   4.8851,  33.7906,2,-999.0000,9,    312.3,2,   -999.0,9,  -999.00,9,  -999.00,9,  -999.00,9,  -999.00,9,     -999,9, -999.000,9, -999.000,9,     -999,9,   -999.0,9,   -999.0,9,-999.0000,9,  -999.00,  -999.00,9,   -999.0,9,   -999.0,  -999.00,9,   0.00234,2,    0.259,2,    3.768,2,    2.430,2,   93.729,2
  096U20180111,  SR03,   108,  1,     26,     26,2,20180219,0455,-53.6288, 142.9797, 2999,     75.5,   4.9030,  33.7899,2,-999.0000,9,    312.3,2,   -999.0,9,  -999.00,9,  -999.00,9,  -999.00,9,  -999.00,9,     -999,9, -999.000,9, -999.000,9,     -999,9,   -999.0,9,   -999.0,9,-999.0000,9,  -999.00,  -999.00,9,   -999.0,9,   -999.0,  -999.00,9,   0.00270,2,    0.257,2,    3.654,2,    2.320,2,   93.768,2
  096U20180111,  SR03,   108,  1,     25,     25,2,20180219,0455,-53.6288, 142.9797, 2999,     90.3,   1.8209,  33.8875,2,-999.0000,9,    330.4,2,   -999.0,9,  -999.00,9,  -999.00,9,  -999.00,9,  -999.00,9,     -999,9, -999.000,9, -999.000,9,     -999,9,   -999.0,9,   -999.0,9,-999.0000,9,  -999.00,  -999.00,9,   -999.0,9,   -999.0,  -999.00,9,   0.00209,2,    0.187,2,    2.892,2,    0.701,2,   95.432,2
  096U20180111,  SR03,   108,  1,     24,     24,2,20180219,0455,-53.6288, 142.9797, 2999,     90.3,   1.8234,  33.8883,2,-999.0000,9,    330.4,2,   -999.0,9,  -999.00,9,  -999.00,9,  -999.00,9,  -999.00,9,     -999,9, -999.000,9, -999.000,9,     -999,9,   -999.0,9,   -999.0,9,-999.0000,9,  -999.00,  -999.00,9,   -999.0,9,   -999.0,  -999.00,9,   0.00198,2,    0.184,2,    2.832,2,    0.681,2,   95.516,2
  096U20180111,  SR03,   108,  1,     23,     23,2,20180219,0455,-53.6288, 142.9797, 2999,     90.2,   1.8586,  33.8871,2,-999.0000,9,    330.4,2,   -999.0,9,  -999.00,9,  -999.00,9,  -999.00,9,  -999.00,9,     -999,9, -999.000,9, -999.000,9,     -999,9,   -999.0,9,   -999.0,9,-999.0000,9,  -999.00,  -999.00,9,   -999.0,9,   -999.0,  -999.00,9,   0.00219,2,    0.188,2,    3.024,2,    0.687,2,   95.409,2
  096U20180111,  SR03,   108,  1,     22,     22,2,20180219,0455,-53.6288, 142.9797, 2999,    110.4,   0.9200,  33.9117,2,-999.0000,9,    332.6,2,   -999.0,9,  -999.00,9,  -999.00,9,  -999.00,9,  -999.00,9,     -999,9, -999.000,9, -999.000,9,     -999,9,   -999.0,9,   -999.0,9,-999.0000,9,  -999.00,  -999.00,9,   -999.0,9,   -999.0,  -999.00,9,   0.00128,2,    0.095,2,    1.044,2,    0.170,2,   97.650,2
  096U20180111,  SR03,   108,  1,     21,     21,2,20180219,0455,-53.6288, 142.9797, 2999,    110.4,   0.9228,  33.9115,2,-999.0000,9,    332.6,2,   -999.0,9,  -999.00,9,  -999.00,9,  -999.00,9,  -999.00,9,     -999,9, -999.000,9, -999.000,9,     -999,9,   -999.0,9,   -999.0,9,-999.0000,9,  -999.00,  -999.00,9,   -999.0,9,   -999.0,  -999.00,9,   0.00119,2,    0.096,2,    1.092,2,    0.171,2,   97.625,2
  096U20180111,  SR03,   108,  1,     20,     20,2,20180219,0455,-53.6288, 142.9797, 2999,    110.4,   0.9317,  33.9116,2,-999.0000,9,    332.6,2,   -999.0,9,  -999.00,9,  -999.00,9,  -999.00,9,  -999.00,9,     -999,9, -999.000,9, -999.000,9,     -999,9,   -999.0,9,   -999.0,9,-999.0000,9,  -999.00,  -999.00,9,   -999.0,9,   -999.0,  -999.00,9,   0.00155,2,    0.098,2,    1.092,2,    0.170,2,   97.567,2
  096U20180111,  SR03,   108,  1,     19,     19,2,20180219,0455,-53.6288, 142.9797, 2999,    110.4,   0.9451,  33.9115,2,-999.0000,9,    332.6,2,   -999.0,9,  -999.00,9,  -999.00,9,  -999.00,9,  -999.00,9,     -999,9, -999.000,9, -999.000,9,     -999,9,   -999.0,9,   -999.0,9,-999.0000,9,  -999.00,  -999.00,9,   -999.0,9,   -999.0,  -999.00,9,   0.00132,2,    0.107,2,    1.110,2,    0.170,2,   97.356,2
  096U20180111,  SR03,   108,  1,     18,     18,2,20180219,0455,-53.6288, 142.9797, 2999,    140.4,   0.6639,  33.9551,2,-999.0000,9,    321.6,2,   -999.0,9,  -999.00,9,  -999.00,9,  -999.00,9,  -999.00,9,     -999,9, -999.000,9, -999.000,9,     -999,9,   -999.0,9,   -999.0,9,-999.0000,9,  -999.00,  -999.00,9,   -999.0,9,   -999.0,  -999.00,9,   0.00067,2,    0.034,2,    0.198,2,    0.027,2,   99.144,2
  096U20180111,  SR03,   108,  1,     17,     17,2,20180219,0455,-53.6288, 142.9797, 2999,    140.4,   0.6629,  33.9556,2,  33.9543,2,    321.6,2,    321.6,2,    24.40,2,    29.30,2,     0.18,2,     2.03,2,        0,2, -999.000,9, -999.000,9,     -999,9,   -999.0,9,   -999.0,9,-999.0000,9,  -999.00,  -999.00,9,   -999.0,9,   -999.0,  -999.00,9,   0.00072,2,    0.034,2,    0.198,2,    0.026,2,   99.156,2
  096U20180111,  SR03,   108,  1,     16,     16,2,20180219,0455,-53.6288, 142.9797, 2999,    250.9,   2.1199,  34.2368,2,-999.0000,9,    226.9,2,   -999.0,9,  -999.00,9,  -999.00,9,  -999.00,9,  -999.00,9,     -999,9, -999.000,9, -999.000,9,     -999,9,   -999.0,9,   -999.0,9,-999.0000,9,  -999.00,  -999.00,9,   -999.0,9,   -999.0,  -999.00,9,   0.00059,2,    0.022,2,    0.042,2,    0.000,2,   99.458,2
  096U20180111,  SR03,   108,  1,     15,     15,2,20180219,0455,-53.6288, 142.9797, 2999,    250.9,   2.1200,  34.2369,2,-999.0000,9,    226.9,2,   -999.0,9,  -999.00,9,  -999.00,9,  -999.00,9,  -999.00,9,     -999,9, -999.000,9, -999.000,9,     -999,9,   -999.0,9,   -999.0,9,-999.0000,9,  -999.00,  -999.00,9,   -999.0,9,   -999.0,  -999.00,9,   0.00061,2,    0.022,2,    0.042,2,    0.000,2,   99.456,2
  096U20180111,  SR03,   108,  1,     14,     14,2,20180219,0455,-53.6288, 142.9797, 2999,    250.9,   2.1203,  34.2369,2,  34.2366,2,    226.9,2,    225.5,2,    46.00,2,    33.53,2,     0.01,2,     2.31,2,    -0.01,2, -999.000,9, -999.000,9,     -999,9,   -999.0,9,   -999.0,9,-999.0000,9,  -999.00,  -999.00,9,   -999.0,9,   -999.0,  -999.00,9,   0.00061,2,    0.022,2,    0.042,2,    0.000,2,   99.445,2
  096U20180111,  SR03,   108,  1,     13,     13,2,20180219,0455,-53.6288, 142.9797, 2999,    450.9,   2.4116,  34.4684,2,-999.0000,9,    176.5,2,   -999.0,9,  -999.00,9,  -999.00,9,  -999.00,9,  -999.00,9,     -999,9, -999.000,9, -999.000,9,     -999,9,   -999.0,9,   -999.0,9,-999.0000,9,  -999.00,  -999.00,9,   -999.0,9,   -999.0,  -999.00,9,   0.00040,2,    0.010,2,    0.036,2,    0.000,2,   99.749,2
  096U20180111,  SR03,   108,  1,     12,     12,2,20180219,0455,-53.6288, 142.9797, 2999,    450.8,   2.4115,  34.4685,2,-999.0000,9,    176.5,2,   -999.0,9,  -999.00,9,  -999.00,9,  -999.00,9,  -999.00,9,     -999,9, -999.000,9, -999.000,9,     -999,9,   -999.0,9,   -999.0,9,-999.0000,9,  -999.00,  -999.00,9,   -999.0,9,   -999.0,  -999.00,9,   0.00040,2,    0.010,2,    0.042,2,    0.000,2,   99.752,2
  096U20180111,  SR03,   108,  1,     11,     11,2,20180219,0455,-53.6288, 142.9797, 2999,    450.9,   2.4116,  34.4684,2,  34.4673,2,    176.5,2,    177.4,2,    65.80,2,    35.09,2,     0.00,2,     2.42,2,    -0.01,2, -999.000,9, -999.000,9,     -999,9,   -999.0,9,   -999.0,9,-999.0000,9,  -999.00,  -999.00,9,   -999.0,9,   -999.0,  -999.00,9,   0.00042,2,    0.010,2,    0.036,2,    0.000,2,   99.747,2
  096U20180111,  SR03,   108,  1,     10,     10,2,20180219,0455,-53.6288, 142.9797, 2999,    600.1,   2.4235,  34.5708,2,-999.0000,9,    171.1,2,   -999.0,9,  -999.00,9,  -999.00,9,  -999.00,9,  -999.00,9,     -999,9, -999.000,9, -999.000,9,     -999,9,   -999.0,9,   -999.0,9,-999.0000,9,  -999.00,  -999.00,9,   -999.0,9,   -999.0,  -999.00,9,   0.00046,2,    0.007,2,    0.036,2,    0.000,2,   99.812,2
  096U20180111,  SR03,   108,  1,      9,      9,2,20180219,0455,-53.6288, 142.9797, 2999,    600.1,   2.4236,  34.5708,2,-999.0000,9,    171.1,2,   -999.0,9,  -999.00,9,  -999.00,9,  -999.00,9,  -999.00,9,     -999,9, -999.000,9, -999.000,9,     -999,9,   -999.0,9,   -999.0,9,-999.0000,9,  -999.00,  -999.00,9,   -999.0,9,   -999.0,  -999.00,9,   0.00037,2,    0.009,2,    0.036,2,    0.000,2,   99.766,2
  096U20180111,  SR03,   108,  1,      8,      8,2,20180219,0455,-53.6288, 142.9797, 2999,    600.0,   2.4236,  34.5708,2,  34.5709,2,    171.1,2,    171.5,2,    71.70,2,    34.30,2,     0.00,2,     2.37,2,    -0.01,2, -999.000,9, -999.000,9,     -999,9,   -999.0,9,   -999.0,9,-999.0000,9,  -999.00,  -999.00,9,   -999.0,9,   -999.0,  -999.00,9,   0.00035,2,    0.007,2,    0.036,2,    0.000,2,   99.819,2
  096U20180111,  SR03,   108,  1,      7,      7,2,20180219,0455,-53.6288, 142.9797, 2999,    800.5,   2.3264,  34.6495,2,-999.0000,9,    174.4,2,   -999.0,9,  -999.00,9,  -999.00,9,  -999.00,9,  -999.00,9,     -999,9, -999.000,9, -999.000,9,     -999,9,   -999.0,9,   -999.0,9,-999.0000,9,  -999.00,  -999.00,9,   -999.0,9,   -999.0,  -999.00,9,   0.00039,2,    0.008,2,    0.036,2,    0.000,2,   99.806,2
  096U20180111,  SR03,   108,  1,      6,      6,2,20180219,0455,-53.6288, 142.9797, 2999,    800.4,   2.3265,  34.6496,2,-999.0000,9,    174.4,2,   -999.0,9,  -999.00,9,  -999.00,9,  -999.00,9,  -999.00,9,     -999,9, -999.000,9, -999.000,9,     -999,9,   -999.0,9,   -999.0,9,-999.0000,9,  -999.00,  -999.00,9,   -999.0,9,   -999.0,  -999.00,9,   0.00037,2,    0.007,2,    0.036,2,    0.000,2,   99.819,2
  096U20180111,  SR03,   108,  1,      5,      5,2,20180219,0455,-53.6288, 142.9797, 2999,    800.3,   2.3262,  34.6497,2,  34.6504,2,    174.4,2,    174.7,2,    75.70,2,    33.10,2,     0.00,2,     2.29,2,        0,2, -999.000,9, -999.000,9,     -999,9,   -999.0,9,   -999.0,9,-999.0000,9,  -999.00,  -999.00,9,   -999.0,9,   -999.0,  -999.00,9,   0.00034,2,    0.006,2,    0.036,2,    0.000,2,   99.844,2
  096U20180111,  SR03,   108,  1,      4,      4,2,20180219,0455,-53.6288, 142.9797, 2999,   1001.3,   2.2222,  34.6986,2,-999.0000,9,    181.8,2,   -999.0,9,  -999.00,9,  -999.00,9,  -999.00,9,  -999.00,9,     -999,9, -999.000,9, -999.000,9,     -999,9,   -999.0,9,   -999.0,9,-999.0000,9,  -999.00,  -999.00,9,   -999.0,9,   -999.0,  -999.00,9,   0.00032,2,    0.006,2,    0.036,2,    0.000,2,   99.858,2
  096U20180111,  SR03,   108,  1,      3,      3,2,20180219,0455,-53.6288, 142.9797, 2999,   1001.3,   2.2220,  34.6987,2,-999.0000,9,    181.8,2,   -999.0,9,  -999.00,9,  -999.00,9,  -999.00,9,  -999.00,9,     -999,9, -999.000,9, -999.000,9,     -999,9,   -999.0,9,   -999.0,9,-999.0000,9,  -999.00,  -999.00,9,   -999.0,9,   -999.0,  -999.00,9,   0.00033,2,    0.006,2,    0.042,2,    0.000,2,   99.855,2
  096U20180111,  SR03,   108,  1,      2,      2,2,20180219,0455,-53.6288, 142.9797, 2999,   1001.3,   2.2219,  34.6988,2,-999.0000,9,    181.8,2,   -999.0,9,  -999.00,9,  -999.00,9,  -999.00,9,  -999.00,9,     -999,9, -999.000,9, -999.000,9,     -999,9,   -999.0,9,   -999.0,9,-999.0000,9,  -999.00,  -999.00,9,   -999.0,9,   -999.0,  -999.00,9,   0.00032,2,    0.006,2,    0.036,2,    0.000,2,   99.845,2
  096U20180111,  SR03,   108,  1,      1,      1,2,20180219,0455,-53.6288, 142.9797, 2999,   1001.3,   2.2221,  34.6987,2,  34.6980,2,    181.8,2,    181.3,2,    78.10,2,    32.00,2,     0.00,2,     2.22,2,    -0.01,2, -999.000,9, -999.000,9,     -999,9,   -999.0,9,   -999.0,9,-999.0000,9,  -999.00,  -999.00,9,   -999.0,9,   -999.0,  -999.00,9,   0.00033,2,    0.006,2,    0.036,2,    0.000,2,   99.855,2