BOTTLE,20230418CCHSIOENA
EXPOCODE,SECT_ID,STNNBR,CASTNO,SAMPNO,BTLNBR,BTLNBR_FLAG_W,DATE,TIME,LATITUDE,LONGITUDE,DEPTH,CTDPRS,CTDTMP,CTDSAL,CTDSAL_FLAG_W,SALNTY,SALNTY_FLAG_W,CTDOXY,CTDOXY_FLAG_W,OXYGEN,OXYGEN_FLAG_W,SILCAT,SILCAT_FLAG_W,NITRAT,NITRAT_FLAG_W,NITRIT,NITRIT_FLAG_W,PHSPHT,PHSPHT_FLAG_W,NH4,NH4_FLAG_W,CFC-11,CFC-11_FLAG_W,CFC-12,CFC-12_FLAG_W,SF6,SF6_FLAG_W,TCARBN,TCARBN_FLAG_W,ALKALI,ALKALI_FLAG_W,PH_TOT,PH_TOT_FLAG_W,PH_TMP,N2O,N2O_FLAG_W,DELC14,DELC14_FLAG_W,C14ERR,DELC13,DELC13_FLAG_W,CTDBETA700,CTDBETA700_FLAG_W,CTDBEAMCP,CTDBEAMCP_FLAG_W,CTDFLUOR,CTDFLUOR_FLAG_W,PAR,PAR_FLAG_W,CTDXMISS,CTDXMISS_FLAG_W
,,,,,,,,,,,METERS,DBAR,ITS-90,PSS-78,,PSS-78,,UMOL/KG,,UMOL/KG,,UMOL/KG,,UMOL/KG,,UMOL/KG,,UMOL/KG,,UMOL/KG,,PMOL/KG,,PMOL/KG,,FMOL/KG,,UMOL/KG,,UMOL/KG,,,,DEG C,NMOL/KG,,/MILLE,,/MILLE,/MILLE,,VOLTS,,1/M,,MG/M^3,,UMOL/M^2/SEC,,%TRANS,
  096U20180111,  SR03,    86,  1,     36,     36,2,20180209,2155,-61.9988, 137.0007, 3846,     11.8,   1.5444,  33.7451,2,  33.7442,2,    332.7,2,    335.3,2,    12.70,2,    23.77,2,     0.24,2,     1.50,2,     0.36,2,    5.554,2,    3.047,2,      4.3,3,   2145.6,2,   2283.7,2,-999.0000,9,  -999.00,    14.23,2,   -999.0,9,   -999.0,  -999.00,9,   0.00298,2,    0.288,2,    1.104,2,   42.700,2,   93.049,2
  096U20180111,  SR03,    86,  1,     35,     35,2,20180209,2155,-61.9988, 137.0007, 3846,     11.9,   1.5472,  33.7449,2,-999.0000,9,    332.7,2,   -999.0,9,  -999.00,9,  -999.00,9,  -999.00,9,  -999.00,9,     -999,9, -999.000,9, -999.000,9,     -999,9,   -999.0,9,   -999.0,9,-999.0000,9,  -999.00,  -999.00,9,   -999.0,9,   -999.0,  -999.00,9,   0.00274,2,    0.290,2,    1.104,2,   41.800,2,   93.003,2
  096U20180111,  SR03,    86,  1,     34,     34,2,20180209,2155,-61.9988, 137.0007, 3846,     31.6,   1.5494,  33.7448,2,  33.7441,2,    331.8,2,    335.8,2,    12.60,2,    23.78,2,     0.24,2,     1.50,2,     0.38,2, -999.000,9, -999.000,9,     -999,9,   -999.0,9,   -999.0,9,-999.0000,9,  -999.00,  -999.00,9,   -999.0,9,   -999.0,  -999.00,9,   0.00297,2,    0.288,2,    1.896,2,    8.720,2,   93.062,2
  096U20180111,  SR03,    86,  1,     33,     33,2,20180209,2155,-61.9988, 137.0007, 3846,     46.1,   1.4703,  33.7481,2,  33.7487,2,    335.2,2,    336.0,2,    13.30,2,    23.91,2,     0.24,2,     1.52,2,     0.39,2,    5.560,2,    2.970,2,     4.06,3,   2146.7,6,   2284.3,6,-999.0000,9,  -999.00,    14.19,2,   -999.0,9,   -999.0,  -999.00,9,   0.00306,2,    0.298,2,    2.268,2,   16.700,2,   92.827,2
  096U20180111,  SR03,    86,  1,     32,     32,2,20180209,2155,-61.9988, 137.0007, 3846,     46.0,   1.4656,  33.7481,2,-999.0000,9,    335.2,2,   -999.0,9,  -999.00,9,  -999.00,9,  -999.00,9,  -999.00,9,     -999,9, -999.000,9, -999.000,9,     -999,9,   -999.0,9,   -999.0,9,-999.0000,9,  -999.00,  -999.00,9,   -999.0,9,   -999.0,  -999.00,9,   0.00306,2,    0.294,2,    2.268,2,   17.100,2,   92.902,2
  096U20180111,  SR03,    86,  1,     31,     31,2,20180209,2155,-61.9988, 137.0007, 3846,     82.0,  -1.1643,  33.9240,2,  33.9236,2,    334.1,2,    334.4,2,    34.40,2,    29.17,2,     0.19,2,     2.08,2,     0.55,2, -999.000,9, -999.000,9,     -999,9,   2181.9,2,   2290.2,2,-999.0000,9,  -999.00,  -999.00,9,   -999.0,9,   -999.0,  -999.00,9,   0.00083,2,    0.051,2,    0.534,2,    1.710,2,   98.729,2
  096U20180111,  SR03,    86,  1,     30,     30,2,20180209,2155,-61.9988, 137.0007, 3846,    127.9,  -0.5957,  34.0658,2,  34.0592,2,    287.1,2,    301.2,2,    43.00,2,    31.27,2,     0.11,2,     2.16,2,     0.03,2,    4.831,2,    2.645,2,     3.35,3,   2201.6,2,   2299.3,2,-999.0000,9,  -999.00,    18.13,2,   -999.0,9,   -999.0,  -999.00,9,   0.00054,2,    0.024,2,    0.174,2,    0.249,2,   99.409,2
  096U20180111,  SR03,    86,  1,     29,     29,2,20180209,2155,-61.9988, 137.0007, 3846,    176.2,   1.9394,  34.4050,2,  34.4041,2,    193.2,2,    191.1,2,    64.80,2,    35.27,2,     0.01,2,     2.42,2,        0,2,    1.910,2,    1.008,2,     0.89,3,   2245.9,2,   2319.3,2,-999.0000,9,  -999.00,    25.47,2,   -999.0,9,   -999.0,  -999.00,9,   0.00046,2,    0.017,2,    0.060,2,    0.025,2,   99.580,2
  096U20180111,  SR03,    86,  1,     28,     28,2,20180209,2155,-61.9988, 137.0007, 3846,    250.6,   2.2274,  34.5230,2,  34.5208,2,    174.5,2,    173.6,2,    72.20,2,    35.20,2,     0.00,2,     2.41,2,        0,2, -999.000,9, -999.000,9,     -999,9,   -999.0,9,   -999.0,9,-999.0000,9,  -999.00,  -999.00,9,   -999.0,9,   -999.0,  -999.00,9,   0.00046,2,    0.014,2,    0.048,2,    0.000,2,   99.642,2
  096U20180111,  SR03,    86,  1,     27,     27,2,20180209,2155,-61.9988, 137.0007, 3846,    350.2,   2.2350,  34.5986,2,  34.5984,2,    172.0,2,    172.3,2,    76.10,2,    34.26,2,     0.00,2,     2.35,2,    -0.01,2,    0.718,2,    0.371,2,        0,3,   2255.0,2,   2337.0,2,-999.0000,9,  -999.00,    23.49,2,   -999.0,9,   -999.0,  -999.00,9,   0.00036,2,    0.007,2,    0.036,2,    0.000,2,   99.829,2
  096U20180111,  SR03,    86,  1,     26,     26,2,20180209,2155,-61.9988, 137.0007, 3846,    350.1,   2.2349,  34.5986,2,-999.0000,9,    172.0,2,   -999.0,9,  -999.00,9,  -999.00,9,  -999.00,9,  -999.00,9,     -999,9, -999.000,9, -999.000,9,     -999,9,   -999.0,9,   -999.0,9,-999.0000,9,  -999.00,  -999.00,9,   -999.0,9,   -999.0,  -999.00,9,   0.00037,2,    0.007,2,    0.036,2,    0.000,2,   99.827,2
  096U20180111,  SR03,    86,  1,     25,     25,2,20180209,2155,-61.9988, 137.0007, 3846,    451.4,   2.2017,  34.6446,2,  34.6442,2,    174.1,2,    174.4,2,    78.10,2,    33.44,2,     0.00,2,     2.29,2,        0,2,    0.534,2,    0.282,2,    -0.05,3,   -999.0,9,   -999.0,9,-999.0000,9,  -999.00,    22.96,2,   -999.0,9,   -999.0,  -999.00,9,   0.00032,2,    0.004,2,    0.036,2,    0.000,2,   99.906,2
  096U20180111,  SR03,    86,  1,     24,     24,2,20180209,2155,-61.9988, 137.0007, 3846,    550.9,   2.1436,  34.6761,2,  34.6753,2,    177.2,2,    177.7,2,    79.80,2,    32.73,2,     0.00,2,     2.26,2,        0,2,    0.442,2,    0.233,2,     0.11,3,   2255.3,2,   2343.3,2,-999.0000,9,  -999.00,    21.62,2,   -999.0,9,   -999.0,  -999.00,9,   0.00033,2,    0.004,2,    0.036,2,    0.000,2,   99.901,2
  096U20180111,  SR03,    86,  1,     23,     23,2,20180209,2155,-61.9988, 137.0007, 3846,    653.6,   2.0870,  34.7018,2,  34.7016,2,    181.5,2,    181.6,2,    81.30,2,    32.09,2,     0.00,2,     2.21,2,    -0.01,2,    0.356,2,    0.186,2,    -0.03,3,   2253.1,2,   2345.4,6,-999.0000,9,  -999.00,    21.17,2,   -999.0,9,   -999.0,  -999.00,9,   0.00033,2,    0.003,2,    0.030,2,    0.000,2,   99.928,2
  096U20180111,  SR03,    86,  1,     22,     22,2,20180209,2155,-61.9988, 137.0007, 3846,    803.3,   1.9819,  34.7258,2,  34.7256,2,    186.9,2,    186.9,2,    84.00,2,    31.44,2,     0.00,2,     2.16,2,    -0.01,2,    0.282,2,    0.146,2,     0.15,3,   2251.4,2,   2345.8,2,-999.0000,9,  -999.00,    20.47,2,   -999.0,9,   -999.0,  -999.00,9,   0.00030,2,    0.002,2,    0.030,2,    0.000,2,   99.941,2
  096U20180111,  SR03,    86,  1,     21,     21,2,20180209,2155,-61.9988, 137.0007, 3846,    950.6,   1.8731,  34.7392,2,  34.7394,2,    191.3,2,    191.8,2,    86.40,2,    30.95,2,     0.00,2,     2.13,2,        0,2,    0.234,2,    0.119,2,     0.01,3,   2250.4,2,   2350.4,2,-999.0000,9,  -999.00,    19.90,2,   -999.0,9,   -999.0,  -999.00,9,   0.00031,2,    0.002,2,    0.030,2,    0.000,2,   99.963,2
  096U20180111,  SR03,    86,  1,     20,     20,2,20180209,2155,-61.9988, 137.0007, 3846,   1102.6,   1.7590,  34.7428,2,  34.7428,2,    194.7,2,    195.1,2,    89.20,2,    30.82,2,     0.00,2,     2.12,2,    -0.01,2,    0.214,2,    0.117,2,     0.02,3,   2249.6,6,   2352.5,6,-999.0000,9,  -999.00,    18.99,2,   -999.0,9,   -999.0,  -999.00,9,   0.00030,2,    0.001,2,    0.036,2,    0.000,2,   99.986,2
  096U20180111,  SR03,    86,  1,     19,     19,2,20180209,2155,-61.9988, 137.0007, 3846,   1303.3,   1.5587,  34.7402,2,  34.7401,2,    198.1,2,    198.1,2,    94.30,2,    30.92,2,     0.00,2,     2.13,2,    -0.01,2,    0.225,2,    0.114,2,        0,3,   2250.6,2,   2354.0,2,-999.0000,9,  -999.00,    18.87,2,   -999.0,9,   -999.0,  -999.00,9,   0.00028,2,   -0.001,2,    0.036,2,    0.000,2,  100.018,2
  096U20180111,  SR03,    86,  1,     18,     18,2,20180209,2155,-61.9988, 137.0007, 3846,   1503.6,   1.3796,  34.7353,2,  34.7345,2,    200.5,2,    200.5,2,    99.50,2,    31.08,2,     0.00,2,     2.15,2,    -0.01,2,    0.224,2,    0.113,2,     0.07,3,   2252.9,2,   2356.5,2,-999.0000,9,  -999.00,    18.83,2,   -999.0,9,   -999.0,  -999.00,9,   0.00027,2,   -0.001,2,    0.036,2,    0.000,2,  100.024,2
  096U20180111,  SR03,    86,  1,     17,     17,2,20180209,2155,-61.9988, 137.0007, 3846,   1751.9,   1.1836,  34.7270,2,  34.7271,2,    203.1,2,    203.7,2,   105.60,2,    31.36,2,     0.00,2,     2.17,2,    -0.01,2,    0.218,2,    0.114,2,     0.04,3,   2255.8,2,   2360.2,2,-999.0000,9,  -999.00,    18.44,2,   -999.0,9,   -999.0,  -999.00,9,   0.00028,2,   -0.002,2,    0.036,2,    0.000,2,  100.042,2
  096U20180111,  SR03,    86,  1,     16,     16,2,20180209,2155,-61.9988, 137.0007, 3846,   2001.7,   0.9809,  34.7167,2,  34.7162,2,    205.7,2,    205.4,2,   111.50,2,    31.79,2,     0.00,2,     2.20,2,    -0.01,2,    0.246,2,    0.128,2,    -0.02,3,   2257.3,2,   2358.0,2,-999.0000,9,  -999.00,    18.58,2,   -999.0,9,   -999.0,  -999.00,9,   0.00024,2,   -0.002,2,    0.036,2,    0.000,2,  100.054,2
  096U20180111,  SR03,    86,  1,     15,     15,2,20180209,2155,-61.9988, 137.0007, 3846,   2251.1,   0.7925,  34.7070,2,  34.7086,2,    208.4,2,    208.2,2,   117.10,2,    32.10,2,     0.00,2,     2.23,2,    -0.01,2,    0.299,2,    0.150,2,     0.06,3,   2260.9,2,   2359.8,6,-999.0000,9,  -999.00,    18.64,2,   -999.0,9,   -999.0,  -999.00,9,   0.00025,2,   -0.002,2,    0.036,2,    0.000,2,  100.057,2
  096U20180111,  SR03,    86,  1,     14,     14,2,20180209,2155,-61.9988, 137.0007, 3846,   2501.2,   0.6129,  34.6978,2,  34.6974,2,    211.5,2,    211.5,2,   121.70,2,    32.31,2,     0.00,2,     2.25,2,    -0.01,2,    0.369,2,    0.189,2,     0.05,3,   2259.2,2,   2360.3,2,-999.0000,9,  -999.00,    18.44,2,   -999.0,9,   -999.0,  -999.00,9,   0.00025,2,   -0.003,2,    0.036,2,    0.000,2,  100.066,2
  096U20180111,  SR03,    86,  1,     13,     13,2,20180209,2155,-61.9988, 137.0007, 3846,   2500.9,   0.6118,  34.6977,2,-999.0000,9,    211.5,2,   -999.0,9,  -999.00,9,  -999.00,9,  -999.00,9,  -999.00,9,     -999,9, -999.000,9, -999.000,9,     -999,9,   -999.0,9,   -999.0,9,-999.0000,9,  -999.00,  -999.00,9,   -999.0,9,   -999.0,  -999.00,9,   0.00024,2,   -0.002,2,    0.036,2,    0.000,2,  100.061,2
  096U20180111,  SR03,    86,  1,     12,     12,2,20180209,2155,-61.9988, 137.0007, 3846,   2750.2,   0.4662,  34.6901,2,  34.7117,4,    215.2,2,    215.0,2,   125.00,2,    32.47,2,     0.00,2,     2.25,2,        0,2,    0.480,2,    0.238,2,    -0.02,3,   2260.0,2,   2360.9,2,-999.0000,9,  -999.00,    18.33,2,   -999.0,9,   -999.0,  -999.00,9,   0.00023,2,   -0.003,2,    0.036,2,    0.000,2,  100.066,2
  096U20180111,  SR03,    86,  1,     11,     11,2,20180209,2155,-61.9988, 137.0007, 3846,   2750.0,   0.4659,  34.6903,2,-999.0000,9,    215.2,2,   -999.0,9,  -999.00,9,  -999.00,9,  -999.00,9,  -999.00,9,     -999,9, -999.000,9, -999.000,9,     -999,9,   -999.0,9,   -999.0,9,-999.0000,9,  -999.00,  -999.00,9,   -999.0,9,   -999.0,  -999.00,9,   0.00024,2,   -0.003,2,    0.036,2,    0.000,2,  100.069,2
  096U20180111,  SR03,    86,  1,     10,     10,2,20180209,2155,-61.9988, 137.0007, 3846,   3000.9,   0.3523,  34.6844,2,  34.6835,2,    218.2,2,    218.5,2,   127.00,2,    32.51,2,     0.00,2,     2.26,2,    -0.01,2,    0.615,2,    0.312,2,    -0.01,3,   2259.7,2,   2360.4,2,-999.0000,9,  -999.00,    18.44,2,   -999.0,9,   -999.0,  -999.00,9,   0.00023,2,   -0.003,2,    0.036,2,    0.000,2,  100.064,2
  096U20180111,  SR03,    86,  1,      9,      9,2,20180209,2155,-61.9988, 137.0007, 3846,   3248.8,   0.2720,  34.6810,2,  34.6802,2,    220.7,2,    220.8,2,   129.80,2,    32.54,2,     0.00,2,     2.26,2,        0,2,    0.708,2,    0.344,2,     0.02,3,   2259.2,2,   2361.8,2,-999.0000,9,  -999.00,    18.73,2,   -999.0,9,   -999.0,  -999.00,9,   0.00022,2,   -0.002,2,    0.036,2,    0.000,2,  100.063,2
  096U20180111,  SR03,    86,  1,      8,      8,2,20180209,2155,-61.9988, 137.0007, 3846,   3500.1,   0.1880,  34.6755,2,  34.6747,2,    223.3,2,    224.0,2,   128.40,2,    32.51,2,     0.00,2,     2.26,2,        0,2,    0.925,6,    0.467,6,     0.08,3,   -999.0,9,   -999.0,9,-999.0000,9,  -999.00,    18.59,6,   -999.0,9,   -999.0,  -999.00,9,   0.00022,2,   -0.002,2,    0.036,2,    0.000,2,  100.060,2
  096U20180111,  SR03,    86,  1,      7,      7,2,20180209,2155,-61.9988, 137.0007, 3846,   3500.0,   0.1881,  34.6754,2,-999.0000,9,    223.3,2,   -999.0,9,  -999.00,9,  -999.00,9,  -999.00,9,  -999.00,9,     -999,9, -999.000,9, -999.000,9,     -999,9,   2259.5,2,   2360.2,2,-999.0000,9,  -999.00,  -999.00,9,   -999.0,9,   -999.0,  -999.00,9,   0.00022,2,   -0.002,2,    0.036,2,    0.000,2,  100.057,2
  096U20180111,  SR03,    86,  1,      6,      6,2,20180209,2155,-61.9988, 137.0007, 3846,   3700.1,   0.1103,  34.6702,2,  34.6702,2,    226.8,2,    227.4,2,   126.20,2,    32.45,2,     0.00,2,     2.25,2,    -0.01,2,    1.161,2,    0.591,2,      0.1,3,   2259.8,6,   2358.5,6,-999.0000,9,  -999.00,    18.85,2,   -999.0,9,   -999.0,  -999.00,9,   0.00021,2,   -0.002,2,    0.036,2,    0.000,2,  100.053,2
  096U20180111,  SR03,    86,  1,      5,      5,2,20180209,2155,-61.9988, 137.0007, 3846,   3699.8,   0.1102,  34.6701,2,-999.0000,9,    226.8,2,   -999.0,9,  -999.00,9,  -999.00,9,  -999.00,9,  -999.00,9,     -999,9, -999.000,9, -999.000,9,     -999,9,   -999.0,9,   -999.0,9,-999.0000,9,  -999.00,  -999.00,9,   -999.0,9,   -999.0,  -999.00,9,   0.00024,2,   -0.002,2,    0.036,2,    0.000,2,  100.051,2
  096U20180111,  SR03,    86,  1,      4,      4,2,20180209,2155,-61.9988, 137.0007, 3846,   3874.3,   0.0361,  34.6652,2,  34.6643,2,    230.1,2,    230.4,2,   126.50,2,    32.42,2,     0.00,2,     2.25,2,    -0.01,2,    1.378,2,    0.709,2,     0.26,3,   2257.2,2,   2357.6,2,-999.0000,9,  -999.00,    18.71,2,   -999.0,9,   -999.0,  -999.00,9,   0.00023,2,   -0.002,2,    0.030,2,    0.000,2,  100.037,2
  096U20180111,  SR03,    86,  1,      3,      3,2,20180209,2155,-61.9988, 137.0007, 3846,   3874.3,   0.0358,  34.6653,2,-999.0000,9,    230.1,2,   -999.0,9,  -999.00,9,  -999.00,9,  -999.00,9,  -999.00,9,     -999,9, -999.000,9, -999.000,9,     -999,9,   -999.0,9,   -999.0,9,-999.0000,9,  -999.00,  -999.00,9,   -999.0,9,   -999.0,  -999.00,9,   0.00023,2,   -0.001,2,    0.036,2,    0.000,2,  100.033,2
  096U20180111,  SR03,    86,  1,      2,      2,2,20180209,2155,-61.9988, 137.0007, 3846,   3925.3,   0.0192,  34.6639,2,  34.6634,2,    231.3,2,    231.2,2,   126.10,2,    32.43,2,     0.00,2,     2.25,2,    -0.01,2,    1.435,2,    0.738,2,     0.58,3,   2258.1,2,   2357.4,2,-999.0000,9,  -999.00,    18.69,2,   -999.0,9,   -999.0,  -999.00,9,   0.00024,2,   -0.001,2,    0.036,2,    0.000,2,  100.013,2
  096U20180111,  SR03,    86,  1,      1,      1,2,20180209,2155,-61.9988, 137.0007, 3846,   3925.6,   0.0192,  34.6639,2,-999.0000,9,    231.3,2,   -999.0,9,  -999.00,9,  -999.00,9,  -999.00,9,  -999.00,9,     -999,9, -999.000,9, -999.000,9,     -999,9,   -999.0,9,   -999.0,9,-999.0000,9,  -999.00,  -999.00,9,   -999.0,9,   -999.0,  -999.00,9,   0.00023,2,   -0.001,2,    0.036,2,    0.000,2,  100.019,2