BOTTLE,20230418CCHSIOENA
EXPOCODE,SECT_ID,STNNBR,CASTNO,SAMPNO,BTLNBR,BTLNBR_FLAG_W,DATE,TIME,LATITUDE,LONGITUDE,DEPTH,CTDPRS,CTDTMP,CTDSAL,CTDSAL_FLAG_W,SALNTY,SALNTY_FLAG_W,CTDOXY,CTDOXY_FLAG_W,OXYGEN,OXYGEN_FLAG_W,SILCAT,SILCAT_FLAG_W,NITRAT,NITRAT_FLAG_W,NITRIT,NITRIT_FLAG_W,PHSPHT,PHSPHT_FLAG_W,NH4,NH4_FLAG_W,CFC-11,CFC-11_FLAG_W,CFC-12,CFC-12_FLAG_W,SF6,SF6_FLAG_W,TCARBN,TCARBN_FLAG_W,ALKALI,ALKALI_FLAG_W,PH_TOT,PH_TOT_FLAG_W,PH_TMP,N2O,N2O_FLAG_W,DELC14,DELC14_FLAG_W,C14ERR,DELC13,DELC13_FLAG_W,CTDBETA700,CTDBETA700_FLAG_W,CTDBEAMCP,CTDBEAMCP_FLAG_W,CTDFLUOR,CTDFLUOR_FLAG_W,PAR,PAR_FLAG_W,CTDXMISS,CTDXMISS_FLAG_W
,,,,,,,,,,,METERS,DBAR,ITS-90,PSS-78,,PSS-78,,UMOL/KG,,UMOL/KG,,UMOL/KG,,UMOL/KG,,UMOL/KG,,UMOL/KG,,UMOL/KG,,PMOL/KG,,PMOL/KG,,FMOL/KG,,UMOL/KG,,UMOL/KG,,,,DEG C,NMOL/KG,,/MILLE,,/MILLE,/MILLE,,VOLTS,,1/M,,MG/M^3,,UMOL/M^2/SEC,,%TRANS,
  096U20180111,  SR03,    71,  1,     36,     36,2,20180204,0936,-64.9993, 149.9958, 3254,     15.6,   0.7022,  33.7367,2,-999.0000,9,    338.2,2,   -999.0,9,  -999.00,9,  -999.00,9,  -999.00,9,  -999.00,9,     -999,9, -999.000,9, -999.000,9,     -999,9,   -999.0,9,   -999.0,9,-999.0000,9,  -999.00,  -999.00,9,   -999.0,9,   -999.0,  -999.00,9,   0.00137,2,    0.171,2,    1.062,2,    0.509,2,   95.812,2
  096U20180111,  SR03,    71,  1,     35,     35,2,20180204,0936,-64.9993, 149.9958, 3254,     15.8,   0.7039,  33.7365,2,  33.7368,2,    338.2,2,    337.8,2,    36.80,2,    26.97,2,     0.22,2,     1.78,2,     0.66,2,    5.424,2,    2.992,2,     3.91,2,   2158.8,2,   2281.8,2,-999.0000,9,  -999.00,    14.69,2,   -999.0,9,   -999.0,  -999.00,9,   0.00128,2,    0.172,2,    1.074,2,    0.522,2,   95.792,2
  096U20180111,  SR03,    71,  1,     34,     34,2,20180204,0936,-64.9993, 149.9958, 3254,     31.2,   0.7084,  33.7389,2,-999.0000,9,    337.7,2,   -999.0,9,  -999.00,9,  -999.00,9,  -999.00,9,  -999.00,9,     -999,9, -999.000,9, -999.000,9,     -999,9,   -999.0,9,   -999.0,9,-999.0000,9,  -999.00,  -999.00,9,   -999.0,9,   -999.0,  -999.00,9,   0.00133,2,    0.169,2,    1.056,2,    0.064,2,   95.863,2
  096U20180111,  SR03,    71,  1,     33,     33,2,20180204,0936,-64.9993, 149.9958, 3254,     31.3,   0.7090,  33.7403,2,  33.7428,2,    337.7,2,    337.0,2,    36.90,2,    26.94,2,     0.22,2,     1.79,2,     0.67,2,    5.422,2,    3.016,2,     3.55,2,   2160.6,2,   2283.4,2,-999.0000,9,  -999.00,    14.68,2,   -999.0,9,   -999.0,  -999.00,9,   0.00132,2,    0.168,2,    1.038,2,    0.064,2,   95.898,2
  096U20180111,  SR03,    71,  1,     32,     32,2,20180204,0936,-64.9993, 149.9958, 3254,     55.6,  -0.2250,  34.2212,2,-999.0000,9,    265.5,2,   -999.0,9,  -999.00,9,  -999.00,9,  -999.00,9,  -999.00,9,     -999,9, -999.000,9, -999.000,9,     -999,9,   -999.0,9,   -999.0,9,-999.0000,9,  -999.00,  -999.00,9,   -999.0,9,   -999.0,  -999.00,9,   0.00141,2,    0.117,2,    1.500,2,    0.000,2,   97.113,2
  096U20180111,  SR03,    71,  1,     31,     31,2,20180204,0936,-64.9993, 149.9958, 3254,     55.7,  -0.2191,  34.2282,2,  34.2326,2,    265.5,2,    266.1,2,    59.30,2,    31.10,2,     0.15,2,     2.17,2,     0.45,2, -999.000,9, -999.000,9,     -999,9,   2216.2,2,   2314.6,2,-999.0000,9,  -999.00,  -999.00,9,   -999.0,9,   -999.0,  -999.00,9,   0.00122,2,    0.115,2,    1.482,2,    0.000,2,   97.165,2
  096U20180111,  SR03,    71,  1,     30,     30,2,20180204,0936,-64.9993, 149.9958, 3254,     81.4,   0.4884,  34.4247,2,  34.4237,2,    216.0,2,    224.8,2,    70.20,2,    32.81,2,     0.19,2,     2.29,2,     0.16,2,    2.340,2,    1.272,2,     1.25,2,   2237.8,2,   2326.0,2,-999.0000,9,  -999.00,    20.56,2,   -999.0,9,   -999.0,  -999.00,9,   0.00087,2,    0.063,2,    0.768,2,    0.000,2,   98.447,2
  096U20180111,  SR03,    71,  1,     29,     29,2,20180204,0936,-64.9993, 149.9958, 3254,    110.6,   1.1726,  34.5349,2,  34.5330,2,    200.1,2,    197.3,2,    76.60,2,    33.54,2,     0.07,2,     2.32,2,     0.03,2, -999.000,9, -999.000,9,     -999,9,   -999.0,9,   -999.0,9,-999.0000,9,  -999.00,  -999.00,9,   -999.0,9,   -999.0,  -999.00,9,   0.00119,2,    0.018,2,    0.192,2,    0.000,2,   99.555,2
  096U20180111,  SR03,    71,  1,     28,     28,2,20180204,0936,-64.9993, 149.9958, 3254,    161.0,   1.6113,  34.6244,2,  34.6248,2,    182.6,2,    184.4,2,    81.70,2,    33.23,2,     0.01,2,     2.29,2,     0.01,2,    0.937,2,    0.507,2,     0.41,2,   2254.8,2,   2339.8,6,-999.0000,9,  -999.00,    22.24,2,   -999.0,9,   -999.0,  -999.00,9,   0.00055,2,    0.014,2,    0.042,2,    0.000,2,   99.655,2
  096U20180111,  SR03,    71,  1,     27,     27,2,20180204,0936,-64.9993, 149.9958, 3254,    211.6,   1.8291,  34.6728,2,  34.6720,2,    181.6,2,    180.9,2,    83.60,2,    32.73,2,     0.01,2,     2.26,2,        0,2,    0.614,2,    0.331,2,     0.26,2,   2254.5,2,   2343.4,2,-999.0000,9,  -999.00,    21.71,2,   -999.0,9,   -999.0,  -999.00,9,   0.00064,2,    0.017,2,    0.036,2,    0.000,2,   99.576,2
  096U20180111,  SR03,    71,  1,     26,     26,2,20180204,0936,-64.9993, 149.9958, 3254,    211.6,   1.8289,  34.6728,2,-999.0000,9,    181.6,2,   -999.0,9,  -999.00,9,  -999.00,9,  -999.00,9,  -999.00,9,     -999,9, -999.000,9, -999.000,9,     -999,9,   -999.0,9,   -999.0,9,-999.0000,9,  -999.00,  -999.00,9,   -999.0,9,   -999.0,  -999.00,9,   0.00066,2,    0.017,2,    0.036,2,    0.000,2,   99.583,2
  096U20180111,  SR03,    71,  1,     25,     25,2,20180204,0936,-64.9993, 149.9958, 3254,    301.7,   1.8629,  34.7069,2,-999.0000,9,    185.2,2,   -999.0,9,  -999.00,9,  -999.00,9,  -999.00,9,  -999.00,9,     -999,9, -999.000,9, -999.000,9,     -999,9,   -999.0,9,   -999.0,9,-999.0000,9,  -999.00,  -999.00,9,   -999.0,9,   -999.0,  -999.00,9,   0.00042,2,    0.006,2,    0.036,2,    0.000,2,   99.844,2
  096U20180111,  SR03,    71,  1,     24,     24,2,20180204,0936,-64.9993, 149.9958, 3254,    301.3,   1.8624,  34.7068,2,  34.7053,2,    185.2,2,    184.3,2,    85.10,2,    32.00,2,     0.01,2,     2.21,2,        0,2, -999.000,9, -999.000,9,     -999,9,   -999.0,9,   -999.0,9,-999.0000,9,  -999.00,  -999.00,9,   -999.0,9,   -999.0,  -999.00,9,   0.00063,2,    0.006,2,    0.036,2,    0.000,2,   99.848,2
  096U20180111,  SR03,    71,  1,     23,     23,2,20180204,0936,-64.9993, 149.9958, 3254,    401.0,   1.7115,  34.7185,2,  34.7180,2,    189.6,2,    190.4,2,    87.00,2,    31.48,2,     0.00,2,     2.17,2,        0,2,    0.442,2,    0.244,2,      0.1,2,   2251.1,2,   2348.7,2,-999.0000,9,  -999.00,    19.84,2,   -999.0,9,   -999.0,  -999.00,9,   0.00036,2,    0.002,2,    0.036,2,    0.000,2,   99.946,2
  096U20180111,  SR03,    71,  1,     22,     22,2,20180204,0936,-64.9993, 149.9958, 3254,    500.8,   1.6818,  34.7327,2,-999.0000,9,    192.2,2,   -999.0,9,  -999.00,9,  -999.00,9,  -999.00,9,  -999.00,9,     -999,9, -999.000,9, -999.000,9,     -999,9,   -999.0,9,   -999.0,9,-999.0000,9,  -999.00,  -999.00,9,   -999.0,9,   -999.0,  -999.00,9,   0.00034,2,    0.002,2,    0.036,2,    0.000,2,   99.955,2
  096U20180111,  SR03,    71,  1,     21,     21,2,20180204,0936,-64.9993, 149.9958, 3254,    601.3,   1.6060,  34.7366,2,  34.7353,2,    194.6,2,    195.1,2,    91.30,2,    30.92,2,     0.00,2,     2.14,2,        0,2, -999.000,9, -999.000,9,     -999,9,   -999.0,9,   -999.0,9,-999.0000,9,  -999.00,  -999.00,9,   -999.0,9,   -999.0,  -999.00,9,   0.00035,2,    0.001,2,    0.036,2,    0.000,2,   99.972,2
  096U20180111,  SR03,    71,  1,     20,     20,2,20180204,0936,-64.9993, 149.9958, 3254,    701.5,   1.5199,  34.7374,2,-999.0000,9,    196.7,2,   -999.0,9,  -999.00,9,  -999.00,9,  -999.00,9,  -999.00,9,     -999,9, -999.000,9, -999.000,9,     -999,9,   -999.0,9,   -999.0,9,-999.0000,9,  -999.00,  -999.00,9,   -999.0,9,   -999.0,  -999.00,9,   0.00034,2,    0.001,2,    0.030,2,    0.000,2,   99.985,2
  096U20180111,  SR03,    71,  1,     19,     19,2,20180204,0936,-64.9993, 149.9958, 3254,    701.3,   1.5216,  34.7374,2,  34.7368,2,    196.7,2,    197.3,2,    93.80,2,    30.89,2,     0.00,2,     2.14,2,        0,2, -999.000,9, -999.000,9,     -999,9,   -999.0,9,   -999.0,9,-999.0000,9,  -999.00,  -999.00,9,   -999.0,9,   -999.0,  -999.00,9,   0.00034,2,    0.000,2,    0.036,2,    0.000,2,   99.994,2
  096U20180111,  SR03,    71,  1,     18,     18,2,20180204,0936,-64.9993, 149.9958, 3254,    801.6,   1.4367,  34.7372,2,  34.7368,2,    198.8,2,    198.9,2,    96.50,2,    30.88,2,     0.00,2,     2.14,2,        0,2,    0.260,2,    0.139,2,     0.02,2,   2250.7,6,   2355.2,6,-999.0000,9,  -999.00,    18.60,2,   -999.0,9,   -999.0,  -999.00,9,   0.00034,2,    0.000,2,    0.036,2,    0.000,2,  100.000,2
  096U20180111,  SR03,    71,  1,     17,     17,2,20180204,0936,-64.9993, 149.9958, 3254,    901.1,   1.3465,  34.7346,2,  34.7346,2,    200.0,2,    200.4,2,    99.00,2,    31.00,2,     0.00,2,     2.15,2,        0,2, -999.000,9, -999.000,9,     -999,9,   -999.0,9,   -999.0,9,-999.0000,9,  -999.00,  -999.00,9,   -999.0,9,   -999.0,  -999.00,9,   0.00037,2,    0.000,2,    0.030,2,    0.000,2,  100.010,2
  096U20180111,  SR03,    71,  1,     16,     16,2,20180204,0936,-64.9993, 149.9958, 3254,   1000.8,   1.2519,  34.7307,2,  34.7304,2,    201.9,2,    201.6,2,   101.50,2,    31.03,2,     0.00,2,     2.16,2,        0,2, -999.000,9, -999.000,9,     -999,9,   -999.0,9,   -999.0,9,-999.0000,9,  -999.00,  -999.00,9,   -999.0,9,   -999.0,  -999.00,9,   0.00033,2,   -0.001,2,    0.036,2,    0.000,2,  100.023,2
  096U20180111,  SR03,    71,  1,     15,     15,2,20180204,0936,-64.9993, 149.9958, 3254,   1200.2,   1.0456,  34.7199,2,  34.7196,2,    204.7,2,    204.3,2,   106.40,2,    31.38,2,     0.00,2,     2.19,2,        0,2, -999.000,9, -999.000,9,     -999,9,   -999.0,9,   -999.0,9,-999.0000,9,  -999.00,  -999.00,9,   -999.0,9,   -999.0,  -999.00,9,   0.00029,2,   -0.002,2,    0.036,2,    0.000,2,  100.043,2
  096U20180111,  SR03,    71,  1,     14,     14,2,20180204,0936,-64.9993, 149.9958, 3254,   1401.0,   0.8897,  34.7138,2,  34.7132,2,    206.4,2,    206.1,2,   112.20,2,    31.69,2,     0.00,2,     2.20,2,        0,2,    0.292,2,    0.160,2,     0.15,2,   2256.8,2,   2360.4,2,-999.0000,9,  -999.00,    18.30,2,   -999.0,9,   -999.0,  -999.00,9,   0.00027,2,   -0.002,2,    0.036,2,    0.000,2,  100.053,2
  096U20180111,  SR03,    71,  1,     13,     13,2,20180204,0936,-64.9993, 149.9958, 3254,   1602.3,   0.7236,  34.7049,2,  34.7044,2,    208.7,2,    208.2,2,   116.50,2,    31.92,2,     0.00,2,     2.23,2,        0,2, -999.000,9, -999.000,9,     -999,9,   -999.0,9,   -999.0,9,-999.0000,9,  -999.00,  -999.00,9,   -999.0,9,   -999.0,  -999.00,9,   0.00029,2,   -0.003,2,    0.030,2,    0.000,2,  100.065,2
  096U20180111,  SR03,    71,  1,     12,     12,2,20180204,0936,-64.9993, 149.9958, 3254,   1802.0,   0.5378,  34.6954,2,  34.6950,2,    212.0,2,    211.9,2,   120.40,2,    32.12,2,     0.00,2,     2.24,2,        0,2, -999.000,9, -999.000,9,     -999,9,   -999.0,9,   -999.0,9,-999.0000,9,  -999.00,  -999.00,9,   -999.0,9,   -999.0,  -999.00,9,   0.00027,2,   -0.003,2,    0.030,2,    0.000,2,  100.064,2
  096U20180111,  SR03,    71,  1,     11,     11,2,20180204,0936,-64.9993, 149.9958, 3254,   1999.1,   0.4089,  34.6895,2,  34.6890,2,    215.5,2,    214.8,2,   123.00,2,    32.24,2,     0.00,2,     2.25,2,        0,2, -999.000,9, -999.000,9,     -999,9,   -999.0,9,   -999.0,9,-999.0000,9,  -999.00,  -999.00,9,   -999.0,9,   -999.0,  -999.00,9,   0.00025,2,   -0.003,2,    0.036,2,    0.000,2,  100.085,2
  096U20180111,  SR03,    71,  1,     10,     10,2,20180204,0936,-64.9993, 149.9958, 3254,   2202.2,   0.3039,  34.6848,2,  34.6838,2,    218.3,2,    217.8,2,   125.20,2,    32.26,2,     0.00,2,     2.26,2,        0,2,    0.638,2,    0.329,2,      0.1,2,   2258.1,2,   2359.6,2,-999.0000,9,  -999.00,    18.09,2,   -999.0,9,   -999.0,  -999.00,9,   0.00025,2,   -0.003,2,    0.036,2,    0.000,2,  100.074,2
  096U20180111,  SR03,    71,  1,      9,      9,2,20180204,0936,-64.9993, 149.9958, 3254,   2402.3,   0.2175,  34.6810,2,  34.6805,2,    220.8,2,    220.4,2,   126.60,2,    32.21,2,     0.00,2,     2.26,2,        0,2, -999.000,9, -999.000,9,     -999,9,   -999.0,9,   -999.0,9,-999.0000,9,  -999.00,  -999.00,9,   -999.0,9,   -999.0,  -999.00,9,   0.00025,2,   -0.004,2,    0.036,2,    0.000,2,  100.089,2
  096U20180111,  SR03,    71,  1,      8,      8,2,20180204,0936,-64.9993, 149.9958, 3254,   2601.3,   0.1462,  34.6776,2,  34.6770,2,    223.5,2,    223.0,2,   125.80,2,    32.20,2,     0.00,2,     2.25,2,        0,2, -999.000,9, -999.000,9,     -999,9,   -999.0,9,   -999.0,9,-999.0000,9,  -999.00,  -999.00,9,   -999.0,9,   -999.0,  -999.00,9,   0.00024,2,   -0.003,2,    0.036,2,    0.000,2,  100.085,2
  096U20180111,  SR03,    71,  1,      7,      7,2,20180204,0936,-64.9993, 149.9958, 3254,   2801.2,   0.0394,  34.6722,2,  34.6710,2,    227.1,2,    227.5,2,   124.00,2,    32.10,2,     0.00,2,     2.25,2,        0,2, -999.000,9, -999.000,9,     -999,9,   -999.0,9,   -999.0,9,-999.0000,9,  -999.00,  -999.00,9,   -999.0,9,   -999.0,  -999.00,9,   0.00024,2,   -0.003,2,    0.030,2,    0.000,2,  100.068,2
  096U20180111,  SR03,    71,  1,      6,      6,2,20180204,0936,-64.9993, 149.9958, 3254,   2901.3,   0.0168,  34.6716,2,  34.6709,2,    228.8,2,    228.4,2,   120.80,2,    32.05,2,     0.00,2,     2.24,2,        0,2, -999.000,9, -999.000,9,     -999,9,   -999.0,9,   -999.0,9,-999.0000,9,  -999.00,  -999.00,9,   -999.0,9,   -999.0,  -999.00,9,   0.00025,2,   -0.002,2,    0.030,2,    0.000,2,  100.063,2
  096U20180111,  SR03,    71,  1,      5,      5,2,20180204,0936,-64.9993, 149.9958, 3254,   3002.1,  -0.0387,  34.6704,2,  34.6691,2,    231.3,2,    230.7,2,   117.00,2,    31.94,2,     0.00,2,     2.24,2,        0,2,    1.604,2,    0.854,2,     0.77,2,   2256.1,2,   2356.1,2,-999.0000,9,  -999.00,    18.18,2,   -999.0,9,   -999.0,  -999.00,9,   0.00025,2,   -0.001,2,    0.036,2,    0.000,2,  100.034,2
  096U20180111,  SR03,    71,  1,      4,      4,2,20180204,0936,-64.9993, 149.9958, 3254,   3136.4,  -0.0828,  34.6734,2,  34.6723,2,    233.1,2,    233.0,2,   110.90,2,    31.82,2,     0.00,2,     2.23,2,        0,2, -999.000,9, -999.000,9,     -999,9,   -999.0,9,   -999.0,9,-999.0000,9,  -999.00,  -999.00,9,   -999.0,9,   -999.0,  -999.00,9,   0.00028,2,    0.001,2,    0.036,2,    0.000,2,   99.987,2
  096U20180111,  SR03,    71,  1,      3,      3,2,20180204,0936,-64.9993, 149.9958, 3254,   3271.4,  -0.1370,  34.6817,2,  34.6815,2,    236.2,2,    235.8,2,   105.60,2,    31.67,2,     0.00,2,     2.23,2,        0,2,    2.074,2,    1.147,2,     1.03,2,   -999.0,9,   -999.0,9,-999.0000,9,  -999.00,    18.20,2,   -999.0,9,   -999.0,  -999.00,9,   0.00043,2,    0.007,2,    0.030,2,    0.000,2,   99.815,2
  096U20180111,  SR03,    71,  1,      2,      2,2,20180204,0936,-64.9993, 149.9958, 3254,   3321.0,  -0.1372,  34.6824,2,-999.0000,9,    236.4,2,   -999.0,9,  -999.00,9,  -999.00,9,  -999.00,9,  -999.00,9,     -999,9, -999.000,9, -999.000,9,     -999,9,   -999.0,9,   -999.0,9,-999.0000,9,  -999.00,  -999.00,9,   -999.0,9,   -999.0,  -999.00,9,   0.00046,2,    0.009,2,    0.030,2,    0.000,2,   99.775,2
  096U20180111,  SR03,    71,  1,      1,      1,2,20180204,0936,-64.9993, 149.9958, 3254,   3320.9,  -0.1373,  34.6824,2,  34.6817,2,    236.4,2,    236.1,2,   105.40,2,    31.66,2,     0.00,2,     2.22,2,        0,2,    2.084,2,    1.140,2,     0.94,2,   2257.3,2,   2354.9,2,-999.0000,9,  -999.00,    18.21,2,   -999.0,9,   -999.0,  -999.00,9,   0.00045,2,    0.009,2,    0.030,2,    0.000,2,   99.783,2