BOTTLE,20230418CCHSIOENA
EXPOCODE,SECT_ID,STNNBR,CASTNO,SAMPNO,BTLNBR,BTLNBR_FLAG_W,DATE,TIME,LATITUDE,LONGITUDE,DEPTH,CTDPRS,CTDTMP,CTDSAL,CTDSAL_FLAG_W,SALNTY,SALNTY_FLAG_W,CTDOXY,CTDOXY_FLAG_W,OXYGEN,OXYGEN_FLAG_W,SILCAT,SILCAT_FLAG_W,NITRAT,NITRAT_FLAG_W,NITRIT,NITRIT_FLAG_W,PHSPHT,PHSPHT_FLAG_W,NH4,NH4_FLAG_W,CFC-11,CFC-11_FLAG_W,CFC-12,CFC-12_FLAG_W,SF6,SF6_FLAG_W,TCARBN,TCARBN_FLAG_W,ALKALI,ALKALI_FLAG_W,PH_TOT,PH_TOT_FLAG_W,PH_TMP,N2O,N2O_FLAG_W,DELC14,DELC14_FLAG_W,C14ERR,DELC13,DELC13_FLAG_W,CTDBETA700,CTDBETA700_FLAG_W,CTDBEAMCP,CTDBEAMCP_FLAG_W,CTDFLUOR,CTDFLUOR_FLAG_W,PAR,PAR_FLAG_W,CTDXMISS,CTDXMISS_FLAG_W
,,,,,,,,,,,METERS,DBAR,ITS-90,PSS-78,,PSS-78,,UMOL/KG,,UMOL/KG,,UMOL/KG,,UMOL/KG,,UMOL/KG,,UMOL/KG,,UMOL/KG,,PMOL/KG,,PMOL/KG,,FMOL/KG,,UMOL/KG,,UMOL/KG,,,,DEG C,NMOL/KG,,/MILLE,,/MILLE,/MILLE,,VOLTS,,1/M,,MG/M^3,,UMOL/M^2/SEC,,%TRANS,
  096U20180111,  SR03,    87,  1,     36,     36,2,20180210,0539,-62.0000, 135.5812, 4286,     16.3,   1.6769,  33.7230,2,  33.7230,2,    339.0,2,    337.9,2,    13.60,2,    23.55,2,     0.27,2,     1.46,2,     0.15,2,    5.499,2,    2.982,2,     4.44,2,   2140.8,2,   2283.5,2,-999.0000,9,  -999.00,    14.43,2,   -999.0,9,   -999.0,  -999.00,9,   0.00369,2,    0.318,2,    2.670,2,   14.900,2,   92.354,2
  096U20180111,  SR03,    87,  1,     35,     35,2,20180210,0539,-62.0000, 135.5812, 4286,     16.3,   1.6752,  33.7231,2,-999.0000,9,    339.0,2,   -999.0,9,  -999.00,9,  -999.00,9,  -999.00,9,  -999.00,9,     -999,9, -999.000,9, -999.000,9,     -999,9,   -999.0,9,   -999.0,9,-999.0000,9,  -999.00,  -999.00,9,   -999.0,9,   -999.0,  -999.00,9,   0.00372,2,    0.316,2,    2.682,2,   14.700,2,   92.412,2
  096U20180111,  SR03,    87,  1,     34,     34,2,20180210,0539,-62.0000, 135.5812, 4286,     35.7,   1.5713,  33.7237,2,  33.7251,2,    340.0,2,    338.5,2,    14.50,2,    23.70,2,     0.27,2,     1.50,2,     0.16,2, -999.000,9, -999.000,9,     -999,9,   -999.0,9,   -999.0,9,-999.0000,9,  -999.00,  -999.00,9,   -999.0,9,   -999.0,  -999.00,9,   0.00384,2,    0.334,2,    3.378,2,    3.290,2,   91.986,2
  096U20180111,  SR03,    87,  1,     33,     33,2,20180210,0539,-62.0000, 135.5812, 4286,     55.6,   1.3505,  33.7359,2,  33.7455,2,    336.8,2,    337.8,2,    17.60,2,    24.35,2,     0.26,2,     1.60,2,      0.4,2, -999.000,9, -999.000,9,     -999,9,   2147.7,2,   2284.8,2,-999.0000,9,  -999.00,  -999.00,9,   -999.0,9,   -999.0,  -999.00,9,   0.00411,2,    0.353,2,    4.014,2,    0.717,2,   91.544,2
  096U20180111,  SR03,    87,  1,     32,     32,2,20180210,0539,-62.0000, 135.5812, 4286,     87.0,  -1.1123,  34.0379,2,  34.0331,2,    299.0,2,    305.2,2,    45.70,2,    30.61,2,     0.19,2,     2.18,2,      0.5,2,    4.835,2,    2.659,2,     3.38,2,   2199.1,2,   2299.2,2,-999.0000,9,  -999.00,    17.16,2,   -999.0,9,   -999.0,  -999.00,9,   0.00091,2,    0.049,2,    0.390,2,    0.076,2,   98.793,2
  096U20180111,  SR03,    87,  1,     31,     31,2,20180210,0539,-62.0000, 135.5812, 4286,    121.3,  -0.0704,  34.1956,2,  34.1951,2,    260.8,2,    259.0,2,    55.00,2,    32.92,2,     0.09,2,     2.29,2,        0,2, -999.000,9, -999.000,9,     -999,9,   -999.0,9,   -999.0,9,-999.0000,9,  -999.00,  -999.00,9,   -999.0,9,   -999.0,  -999.00,9,   0.00061,2,    0.030,2,    0.192,2,    0.002,2,   99.250,2
  096U20180111,  SR03,    87,  1,     30,     30,2,20180210,0539,-62.0000, 135.5812, 4286,    161.2,   1.2314,  34.3866,2,  34.3869,2,    212.6,2,    206.8,2,    65.90,2,    34.61,2,     0.03,2,     2.41,2,        0,2,    2.195,2,    1.171,2,     1.09,2,   2241.6,2,   2321.3,2,-999.0000,9,  -999.00,    22.92,2,   -999.0,9,   -999.0,  -999.00,9,   0.00055,2,    0.023,2,    0.108,2,    0.000,2,   99.434,2
  096U20180111,  SR03,    87,  1,     29,     29,2,20180210,0539,-62.0000, 135.5812, 4286,    211.3,   1.8071,  34.4999,2,  34.5000,2,    188.3,2,    183.5,2,    72.80,2,    34.98,2,     0.02,2,     2.43,2,        0,2, -999.000,9, -999.000,9,     -999,9,   -999.0,9,   -999.0,9,-999.0000,9,  -999.00,  -999.00,9,   -999.0,9,   -999.0,  -999.00,9,   0.00052,2,    0.020,2,    0.060,2,    0.000,2,   99.501,2
  096U20180111,  SR03,    87,  1,     28,     28,2,20180210,0539,-62.0000, 135.5812, 4286,    261.7,   1.7757,  34.5390,2,  34.5399,2,    177.9,2,    180.1,2,    75.80,2,    34.73,2,     0.01,2,     2.41,2,        0,2, -999.000,9, -999.000,9,     -999,9,   -999.0,9,   -999.0,9,-999.0000,9,  -999.00,  -999.00,9,   -999.0,9,   -999.0,  -999.00,9,   0.00051,2,    0.020,2,    0.066,2,    0.000,2,   99.508,2
  096U20180111,  SR03,    87,  1,     27,     27,2,20180210,0539,-62.0000, 135.5812, 4286,    341.2,   2.1031,  34.6334,2,  34.6337,2,    176.0,2,    175.1,2,    78.60,2,    33.75,2,     0.00,2,     2.34,2,        0,2,    0.646,2,    0.340,2,     0.12,2,   2255.0,2,   2338.5,6,-999.0000,9,  -999.00,    22.45,2,   -999.0,9,   -999.0,  -999.00,9,   0.00036,2,    0.009,2,    0.042,2,    0.000,2,   99.762,2
  096U20180111,  SR03,    87,  1,     26,     26,2,20180210,0539,-62.0000, 135.5812, 4286,    421.6,   2.0798,  34.6631,2,  34.6635,2,    177.5,2,    177.1,2,    80.10,2,    33.18,2,     0.01,2,     2.30,2,        0,2, -999.000,9, -999.000,9,     -999,9,   2253.9,2,   2342.7,2,-999.0000,9,  -999.00,  -999.00,9,   -999.0,9,   -999.0,  -999.00,9,   0.00038,2,    0.006,2,    0.042,2,    0.000,2,   99.840,2
  096U20180111,  SR03,    87,  1,     25,     25,2,20180210,0539,-62.0000, 135.5812, 4286,    501.6,   2.0286,  34.6836,2,  34.6841,2,    179.6,2,    179.2,2,    81.50,2,    32.75,2,     0.01,2,     2.28,2,        0,2, -999.000,9, -999.000,9,     -999,9,   -999.0,9,   -999.0,9,-999.0000,9,  -999.00,  -999.00,9,   -999.0,9,   -999.0,  -999.00,9,   0.00034,2,    0.006,2,    0.036,2,    0.000,2,   99.850,2
  096U20180111,  SR03,    87,  1,     24,     24,2,20180210,0539,-62.0000, 135.5812, 4286,    601.9,   1.9810,  34.7044,2,  34.7053,2,    182.7,2,    182.2,2,    83.30,2,    32.25,2,     0.01,2,     2.24,2,        0,2,    0.389,2,    0.213,2,     0.06,2,   2252.5,2,   2346.7,2,-999.0000,9,  -999.00,    20.59,2,   -999.0,9,   -999.0,  -999.00,9,   0.00034,2,    0.005,2,    0.042,2,    0.000,2,   99.869,2
  096U20180111,  SR03,    87,  1,     23,     23,2,20180210,0539,-62.0000, 135.5812, 4286,    701.3,   1.9434,  34.7220,2,  34.7198,2,    186.9,2,    186.1,2,    84.60,2,    31.75,2,     0.01,2,     2.20,2,        0,2, -999.000,9, -999.000,9,     -999,9,   -999.0,9,   -999.0,9,-999.0000,9,  -999.00,  -999.00,9,   -999.0,9,   -999.0,  -999.00,9,   0.00031,2,    0.002,2,    0.036,2,    0.000,2,   99.945,2
  096U20180111,  SR03,    87,  1,     22,     22,2,20180210,0539,-62.0000, 135.5812, 4286,    801.3,   1.8915,  34.7307,2,  34.7313,2,    190.0,2,    188.6,2,    85.60,2,    31.43,2,     0.01,2,     2.18,2,        0,2, -999.000,9, -999.000,9,     -999,9,   -999.0,9,   -999.0,9,-999.0000,9,  -999.00,  -999.00,9,   -999.0,9,   -999.0,  -999.00,9,   0.00030,2,    0.001,2,    0.036,2,    0.000,2,   99.970,2
  096U20180111,  SR03,    87,  1,     21,     21,2,20180210,0539,-62.0000, 135.5812, 4286,    901.0,   1.8139,  34.7359,2,  34.7361,2,    191.7,2,    191.2,2,    87.70,2,    31.24,2,     0.00,2,     2.17,2,        0,2,    0.264,2,    0.143,2,     0.06,2,   2250.4,6,   2350.6,6,-999.0000,9,  -999.00,    19.31,2,   -999.0,9,   -999.0,  -999.00,9,   0.00031,2,    0.002,2,    0.036,2,    0.000,2,   99.963,2
  096U20180111,  SR03,    87,  1,     20,     20,2,20180210,0539,-62.0000, 135.5812, 4286,   1000.0,   1.7333,  34.7392,2,  34.7401,2,    193.8,2,    193.6,2,    89.50,2,    31.16,2,     0.00,2,     2.16,2,        0,2, -999.000,9, -999.000,9,     -999,9,   -999.0,9,   -999.0,9,-999.0000,9,  -999.00,  -999.00,9,   -999.0,9,   -999.0,  -999.00,9,   0.00030,2,    0.001,2,    0.036,2,    0.000,2,   99.986,2
  096U20180111,  SR03,    87,  1,     19,     19,2,20180210,0539,-62.0000, 135.5812, 4286,   1101.8,   1.6396,  34.7406,2,  34.7416,2,    196.0,2,    195.8,2,    92.00,2,    31.07,2,     0.01,2,     2.16,2,    -0.01,2, -999.000,9, -999.000,9,     -999,9,   -999.0,9,   -999.0,9,-999.0000,9,  -999.00,  -999.00,9,   -999.0,9,   -999.0,  -999.00,9,   0.00028,2,    0.000,2,    0.030,2,    0.000,2,  100.004,2
  096U20180111,  SR03,    87,  1,     18,     18,2,20180210,0539,-62.0000, 135.5812, 4286,   1200.8,   1.5749,  34.7403,2,  34.7406,2,    197.8,2,    197.4,2,    93.70,2,    31.03,2,     0.01,2,     2.17,2,        0,2,    0.230,2,    0.117,2,     0.17,3,   2250.4,2,   2354.5,2,-999.0000,9,  -999.00,    18.74,2,   -999.0,9,   -999.0,  -999.00,9,   0.00026,2,   -0.001,2,    0.036,2,    0.000,2,  100.021,2
  096U20180111,  SR03,    87,  1,     17,     17,2,20180210,0539,-62.0000, 135.5812, 4286,   1401.5,   1.4117,  34.7363,2,  34.7375,2,    200.0,2,    199.9,2,    98.20,2,    31.20,2,     0.01,2,     2.18,2,    -0.01,2, -999.000,9, -999.000,9,     -999,9,   -999.0,9,   -999.0,9,-999.0000,9,  -999.00,  -999.00,9,   -999.0,9,   -999.0,  -999.00,9,   0.00026,2,   -0.001,2,    0.036,2,    0.000,2,  100.025,2
  096U20180111,  SR03,    87,  1,     16,     16,2,20180210,0539,-62.0000, 135.5812, 4286,   1601.4,   1.2303,  34.7293,2,  34.7310,2,    202.2,2,    202.4,2,   104.30,2,    31.51,2,     0.01,2,     2.20,2,        0,2, -999.000,9, -999.000,9,     -999,9,   -999.0,9,   -999.0,9,-999.0000,9,  -999.00,  -999.00,9,   -999.0,9,   -999.0,  -999.00,9,   0.00026,2,   -0.002,2,    0.030,2,    0.000,2,  100.053,2
  096U20180111,  SR03,    87,  1,     15,     15,2,20180210,0539,-62.0000, 135.5812, 4286,   1802.5,   1.0683,  34.7218,2,  34.7219,2,    204.0,2,    204.4,2,   109.10,2,    31.72,2,     0.01,2,     2.22,2,        0,2, -999.000,9, -999.000,9,     -999,9,   -999.0,9,   -999.0,9,-999.0000,9,  -999.00,  -999.00,9,   -999.0,9,   -999.0,  -999.00,9,   0.00026,2,   -0.002,2,    0.036,2,    0.000,2,  100.054,2
  096U20180111,  SR03,    87,  1,     14,     14,2,20180210,0539,-62.0000, 135.5812, 4286,   2000.5,   0.9278,  34.7144,2,  34.7238,4,    206.2,2,    206.0,2,   113.20,2,    32.01,2,     0.01,2,     2.23,2,        0,2,    0.254,2,    0.125,2,        0,2,   2257.0,2,   2360.6,2,-999.0000,9,  -999.00,    18.73,2,   -999.0,9,   -999.0,  -999.00,9,   0.00025,2,   -0.002,2,    0.042,2,    0.000,2,  100.058,2
  096U20180111,  SR03,    87,  1,     13,     13,2,20180210,0539,-62.0000, 135.5812, 4286,   2200.9,   0.7710,  34.7059,2,  34.7050,2,    208.6,2,    208.5,2,   117.40,2,    32.27,2,     0.01,2,     2.25,2,    -0.01,2, -999.000,9, -999.000,9,     -999,9,   -999.0,9,   -999.0,9,-999.0000,9,  -999.00,  -999.00,9,   -999.0,9,   -999.0,  -999.00,9,   0.00024,2,   -0.003,2,    0.036,2,    0.000,2,  100.064,2
  096U20180111,  SR03,    87,  1,     12,     12,2,20180210,0539,-62.0000, 135.5812, 4286,   2403.8,   0.6228,  34.6979,2,  34.6974,2,    211.4,2,    210.9,2,   120.90,2,    32.46,2,     0.00,2,     2.26,2,    -0.01,2, -999.000,9, -999.000,9,     -999,9,   -999.0,9,   -999.0,9,-999.0000,9,  -999.00,  -999.00,9,   -999.0,9,   -999.0,  -999.00,9,   0.00024,2,   -0.002,2,    0.036,2,    0.000,2,  100.062,2
  096U20180111,  SR03,    87,  1,     11,     11,2,20180210,0539,-62.0000, 135.5812, 4286,   2601.6,   0.5122,  34.6923,2,  34.6928,2,    214.0,2,    213.5,2,   123.40,2,    32.56,2,     0.00,2,     2.28,2,    -0.01,2,    0.433,2,    0.218,2,     0.13,2,   2259.8,2,   2360.7,2,-999.0000,9,  -999.00,    18.16,2,   -999.0,9,   -999.0,  -999.00,9,   0.00023,2,   -0.002,2,    0.036,2,    0.000,2,  100.055,2
  096U20180111,  SR03,    87,  1,     10,     10,2,20180210,0539,-62.0000, 135.5812, 4286,   2800.5,   0.4013,  34.6865,2,  34.6862,2,    216.6,2,    216.6,2,   125.30,2,    32.68,2,     0.00,2,     2.28,2,    -0.01,2, -999.000,9, -999.000,9,     -999,9,   -999.0,9,   -999.0,9,-999.0000,9,  -999.00,  -999.00,9,   -999.0,9,   -999.0,  -999.00,9,   0.00023,2,   -0.002,2,    0.036,2,    0.000,2,  100.057,2
  096U20180111,  SR03,    87,  1,      9,      9,2,20180210,0539,-62.0000, 135.5812, 4286,   3101.5,   0.2882,  34.6810,2,  34.6805,2,    220.5,2,    220.1,2,   128.10,2,    32.70,2,     0.00,2,     2.29,2,    -0.01,2, -999.000,9, -999.000,9,     -999,9,   -999.0,9,   -999.0,9,-999.0000,9,  -999.00,  -999.00,9,   -999.0,9,   -999.0,  -999.00,9,   0.00023,2,   -0.002,2,    0.030,2,    0.000,2,  100.060,2
  096U20180111,  SR03,    87,  1,      8,      8,2,20180210,0539,-62.0000, 135.5812, 4286,   3400.6,   0.1889,  34.6765,2,  34.6771,2,    223.6,2,    223.5,2,   130.70,2,    32.76,2,     0.00,2,     2.29,2,    -0.01,2,    0.848,2,    0.424,2,     0.15,2,   2259.0,2,   2359.6,2,-999.0000,9,  -999.00,    18.31,2,   -999.0,9,   -999.0,  -999.00,9,   0.00023,2,   -0.002,2,    0.036,2,    0.000,2,  100.062,2
  096U20180111,  SR03,    87,  1,      7,      7,2,20180210,0539,-62.0000, 135.5812, 4286,   3704.3,   0.0800,  34.6703,2,  34.6706,2,    227.4,2,    227.8,2,   131.60,2,    32.68,2,     0.00,2,     2.28,2,    -0.01,2, -999.000,9, -999.000,9,     -999,9,   -999.0,9,   -999.0,9,-999.0000,9,  -999.00,  -999.00,9,   -999.0,9,   -999.0,  -999.00,9,   0.00022,2,   -0.002,2,    0.036,2,    0.000,2,  100.042,2
  096U20180111,  SR03,    87,  1,      6,      6,2,20180210,0539,-62.0000, 135.5812, 4286,   4002.4,  -0.0237,  34.6610,2,  34.6620,2,    232.2,2,    233.0,2,   127.20,2,    32.54,2,     0.00,2,     2.27,2,    -0.01,2,    1.532,2,    0.798,2,     0.35,2,   -999.0,9,   -999.0,9,-999.0000,9,  -999.00,    18.73,2,   -999.0,9,   -999.0,  -999.00,9,   0.00023,2,   -0.001,2,    0.036,2,    0.000,2,  100.029,2
  096U20180111,  SR03,    87,  1,      5,      5,2,20180210,0539,-62.0000, 135.5812, 4286,   4271.6,  -0.1488,  34.6483,2,  34.6484,2,    240.7,2,    240.1,2,   113.30,2,    32.29,2,     0.00,2,     2.25,2,        0,2, -999.000,9, -999.000,9,     -999,9,   -999.0,9,   -999.0,9,-999.0000,9,  -999.00,  -999.00,9,   -999.0,9,   -999.0,  -999.00,9,   0.00030,2,    0.003,2,    0.036,2,    0.000,2,   99.927,2
  096U20180111,  SR03,    87,  1,      4,      4,2,20180210,0539,-62.0000, 135.5812, 4286,   4321.1,  -0.1657,  34.6469,2,  34.6472,2,    241.7,2,    240.9,2,   112.30,2,    32.25,2,     0.00,2,     2.25,2,    -0.01,2,    2.121,2,    1.139,2,     1.01,2,   2254.4,2,   2353.3,2,-999.0000,9,  -999.00,    18.90,2,   -999.0,9,   -999.0,  -999.00,9,   0.00033,2,    0.005,2,    0.036,2,    0.000,2,   99.878,2
  096U20180111,  SR03,    87,  1,      3,      3,2,20180210,0539,-62.0000, 135.5812, 4286,   4370.4,  -0.2065,  34.6438,2,-999.0000,9,    244.4,2,   -999.0,9,  -999.00,9,  -999.00,9,  -999.00,9,  -999.00,9,     -999,9, -999.000,9, -999.000,9,     -999,9,   -999.0,9,   -999.0,9,-999.0000,9,  -999.00,  -999.00,9,   -999.0,9,   -999.0,  -999.00,9,   0.00053,2,    0.015,2,    0.036,2,    0.000,2,   99.628,2
  096U20180111,  SR03,    87,  1,      2,      2,2,20180210,0539,-62.0000, 135.5812, 4286,   4370.4,  -0.2067,  34.6438,2,-999.0000,9,    244.4,2,   -999.0,9,  -999.00,9,  -999.00,9,  -999.00,9,  -999.00,9,     -999,9, -999.000,9, -999.000,9,     -999,9,   -999.0,9,   -999.0,9,-999.0000,9,  -999.00,  -999.00,9,   -999.0,9,   -999.0,  -999.00,9,   0.00048,2,    0.015,2,    0.030,2,    0.000,2,   99.618,2
  096U20180111,  SR03,    87,  1,      1,      1,2,20180210,0539,-62.0000, 135.5812, 4286,   4370.3,  -0.2074,  34.6438,2,  34.6442,2,    244.4,2,    243.8,2,   108.60,2,    32.17,2,     0.00,2,     2.25,2,        0,2,    2.205,2,    1.214,2,     1.22,2,   -999.0,9,   -999.0,9,-999.0000,9,  -999.00,    18.69,2,   -999.0,9,   -999.0,  -999.00,9,   0.00050,2,    0.017,2,    0.036,2,    0.000,2,   99.576,2