BOTTLE,20230418CCHSIOENA
EXPOCODE,SECT_ID,STNNBR,CASTNO,SAMPNO,BTLNBR,BTLNBR_FLAG_W,DATE,TIME,LATITUDE,LONGITUDE,DEPTH,CTDPRS,CTDTMP,CTDSAL,CTDSAL_FLAG_W,SALNTY,SALNTY_FLAG_W,CTDOXY,CTDOXY_FLAG_W,OXYGEN,OXYGEN_FLAG_W,SILCAT,SILCAT_FLAG_W,NITRAT,NITRAT_FLAG_W,NITRIT,NITRIT_FLAG_W,PHSPHT,PHSPHT_FLAG_W,NH4,NH4_FLAG_W,CFC-11,CFC-11_FLAG_W,CFC-12,CFC-12_FLAG_W,SF6,SF6_FLAG_W,TCARBN,TCARBN_FLAG_W,ALKALI,ALKALI_FLAG_W,PH_TOT,PH_TOT_FLAG_W,PH_TMP,N2O,N2O_FLAG_W,DELC14,DELC14_FLAG_W,C14ERR,DELC13,DELC13_FLAG_W,CTDBETA700,CTDBETA700_FLAG_W,CTDBEAMCP,CTDBEAMCP_FLAG_W,CTDFLUOR,CTDFLUOR_FLAG_W,PAR,PAR_FLAG_W,CTDXMISS,CTDXMISS_FLAG_W
,,,,,,,,,,,METERS,DBAR,ITS-90,PSS-78,,PSS-78,,UMOL/KG,,UMOL/KG,,UMOL/KG,,UMOL/KG,,UMOL/KG,,UMOL/KG,,UMOL/KG,,PMOL/KG,,PMOL/KG,,FMOL/KG,,UMOL/KG,,UMOL/KG,,,,DEG C,NMOL/KG,,/MILLE,,/MILLE,/MILLE,,VOLTS,,1/M,,MG/M^3,,UMOL/M^2/SEC,,%TRANS,
  096U20180111,  SR03,    91,  1,     36,     36,2,20180211,1735,-63.4998, 132.0802, 4015,      9.3,   1.7052,  33.8202,2,  33.8193,2,    338.4,2,    336.2,2,    17.50,2,    23.03,2,     0.27,2,     1.38,2,     0.06,2,    5.507,2,    2.917,2,     3.61,3,   2147.5,2,   2290.9,6,   7.7412,   6,    25.00,    14.56,2,   -999.0,9,   -999.0,  -999.00,9,   0.00407,2,    0.405,2,    3.846,2,   20.400,2,   90.374,2
  096U20180111,  SR03,    91,  1,     35,     35,2,20180211,1735,-63.4998, 132.0802, 4015,      9.2,   1.7051,  33.8201,2,-999.0000,9,    338.4,2,   -999.0,9,  -999.00,9,  -999.00,9,  -999.00,9,  -999.00,9,     -999,9, -999.000,9, -999.000,9,     -999,9,   -999.0,9,   -999.0,9,-999.0000,9,  -999.00,  -999.00,9,   -999.0,9,   -999.0,  -999.00,9,   0.00418,2,    0.404,2,    3.828,2,   20.400,2,   90.388,2
  096U20180111,  SR03,    91,  1,     34,     34,2,20180211,1735,-63.4998, 132.0802, 4015,     30.2,   1.6816,  33.8278,2,  33.8367,2,    337.1,2,    336.5,2,    18.50,2,    23.07,2,     0.27,2,     1.40,2,     0.14,2,    5.651,2,    2.941,2,     3.74,3,   2148.7,2,   2293.0,2,-999.0000,9,  -999.00,    15.86,2,   -999.0,9,   -999.0,  -999.00,9,   0.00418,2,    0.409,2,    4.314,2,    2.060,2,   90.290,2
  096U20180111,  SR03,    91,  1,     33,     33,2,20180211,1735,-63.4998, 132.0802, 4015,     46.3,  -0.4504,  33.9741,2,-999.0000,9,    325.4,2,   -999.0,9,  -999.00,9,  -999.00,9,  -999.00,9,  -999.00,9,     -999,9, -999.000,9, -999.000,9,     -999,9,   -999.0,9,   -999.0,9,-999.0000,9,  -999.00,  -999.00,9,   -999.0,9,   -999.0,  -999.00,9,   0.00568,2,    0.507,2,    7.260,2,    0.306,2,   88.100,2
  096U20180111,  SR03,    91,  1,     32,     32,2,20180211,1735,-63.4998, 132.0802, 4015,     46.2,  -0.5665,  33.9808,2,  33.9867,2,    325.4,2,    328.1,2,    40.80,2,    27.72,2,     0.20,2,     2.03,2,     0.91,2,    5.436,2,    2.846,2,     3.19,3,   2189.8,2,   2302.0,2,-999.0000,9,  -999.00,    18.03,2,   -999.0,9,   -999.0,  -999.00,9,   0.00525,2,    0.486,2,    6.708,2,    0.301,2,   88.548,2
  096U20180111,  SR03,    91,  1,     31,     31,2,20180211,1735,-63.4998, 132.0802, 4015,     55.9,  -1.2771,  34.0855,2,  34.0822,2,    309.6,2,    309.3,2,    50.50,2,    29.98,2,     0.18,2,     2.18,2,     0.85,2, -999.000,9, -999.000,9,     -999,9,   2207.8,2,   2305.0,2,   7.6122,   2,    25.00,  -999.00,9,   -999.0,9,   -999.0,  -999.00,9,   0.00222,2,    0.164,2,    2.160,2,    0.093,2,   95.993,2
  096U20180111,  SR03,    91,  1,     30,     30,2,20180211,1735,-63.4998, 132.0802, 4015,    100.8,   0.5630,  34.3711,2,  34.3761,2,    228.3,2,    222.3,2,    68.10,2,    33.70,2,     0.03,2,     2.34,2,     0.01,2, -999.000,9, -999.000,9,     -999,9,   2243.8,2,   2320.8,2,   7.5517,   2,    25.00,  -999.00,9,   -999.0,9,   -999.0,  -999.00,9,   0.00079,2,    0.038,2,    0.216,2,    0.000,2,   99.065,2
  096U20180111,  SR03,    91,  1,     29,     29,2,20180211,1735,-63.4998, 132.0802, 4015,    151.2,   1.5804,  34.5449,2,  34.5468,2,    187.6,2,    185.6,2,    77.50,2,    34.25,2,     0.01,2,     2.37,2,        0,2,    1.253,2,    0.667,2,     0.52,3,   2258.5,2,   2333.3,2,   7.5397,   2,    25.00,    24.91,2,   -999.0,9,   -999.0,  -999.00,9,   0.00061,2,    0.021,2,    0.084,2,    0.000,2,   99.467,2
  096U20180111,  SR03,    91,  1,     28,     28,2,20180211,1735,-63.4998, 132.0802, 4015,    201.1,   1.7584,  34.6039,2,  34.6032,2,    177.7,2,    180.3,2,    80.50,2,    33.94,2,     0.01,2,     2.34,2,        0,2, -999.000,9, -999.000,9,     -999,9,   2260.3,6,   2337.2,6,-999.0000,9,  -999.00,  -999.00,9,   -999.0,9,   -999.0,  -999.00,9,   0.00059,2,    0.018,2,    0.066,2,    0.000,2,   99.564,2
  096U20180111,  SR03,    91,  1,     27,     27,2,20180211,1735,-63.4998, 132.0802, 4015,    250.9,   1.9280,  34.6480,2,  34.6489,2,    176.5,2,    176.9,2,    82.10,2,    33.54,2,     0.01,2,     2.31,2,    -0.01,2,    0.658,2,    0.340,2,     0.13,3,   2262.0,2,   2341.0,2,   7.5521,   2,    25.00,    23.77,2,   -999.0,9,   -999.0,  -999.00,9,   0.00061,2,    0.014,2,    0.060,2,    0.000,2,   99.640,2
  096U20180111,  SR03,    91,  1,     26,     26,2,20180211,1735,-63.4998, 132.0802, 4015,    311.1,   1.9504,  34.6748,2,-999.0000,9,    177.7,2,   -999.0,9,  -999.00,9,  -999.00,9,  -999.00,9,  -999.00,9,     -999,9, -999.000,9, -999.000,9,     -999,9,   -999.0,9,   -999.0,9,-999.0000,9,  -999.00,  -999.00,9,   -999.0,9,   -999.0,  -999.00,9,   0.00057,2,    0.007,2,    0.048,2,    0.000,2,   99.831,2
  096U20180111,  SR03,    91,  1,     25,     25,2,20180211,1735,-63.4998, 132.0802, 4015,    311.0,   1.9505,  34.6747,2,  34.6742,2,    177.6,2,    178.9,2,    83.20,2,    33.01,2,     0.01,2,     2.28,2,    -0.01,2, -999.000,9, -999.000,9,     -999,9,   -999.0,9,   -999.0,9,-999.0000,9,  -999.00,  -999.00,9,   -999.0,9,   -999.0,  -999.00,9,   0.00044,2,    0.007,2,    0.048,2,    0.000,2,   99.832,2
  096U20180111,  SR03,    91,  1,     24,     24,2,20180211,1735,-63.4998, 132.0802, 4015,    400.7,   1.9474,  34.7030,2,  34.7024,2,    181.8,2,    182.8,2,    84.20,2,    32.29,2,     0.00,2,     2.23,2,    -0.01,2,    0.410,2,    0.215,2,     0.24,3,   2257.9,2,   2345.4,2,   7.5736,   2,    25.00,    22.39,2,   -999.0,9,   -999.0,  -999.00,9,   0.00039,2,    0.004,2,    0.042,2,    0.000,2,   99.893,2
  096U20180111,  SR03,    91,  1,     23,     23,2,20180211,1735,-63.4998, 132.0802, 4015,    501.1,   1.8892,  34.7213,2,  34.7212,2,    185.8,2,    186.4,2,    85.80,2,    31.77,2,     0.00,2,     2.20,2,    -0.01,2, -999.000,9, -999.000,9,     -999,9,   -999.0,9,   -999.0,9,-999.0000,9,  -999.00,  -999.00,9,   -999.0,9,   -999.0,  -999.00,9,   0.00038,2,    0.004,2,    0.042,2,    0.000,2,   99.908,2
  096U20180111,  SR03,    91,  1,     22,     22,2,20180211,1735,-63.4998, 132.0802, 4015,    601.0,   1.8110,  34.7292,2,  34.7291,2,    189.0,2,    189.5,2,    87.50,2,    31.49,2,     0.00,2,     2.17,2,    -0.01,2,    0.316,2,    0.170,2,     0.01,3,   2257.0,2,   2349.2,2,   7.5909,   2,    25.00,    20.18,2,   -999.0,9,   -999.0,  -999.00,9,   0.00037,2,    0.003,2,    0.036,2,    0.000,2,   99.931,2
  096U20180111,  SR03,    91,  1,     21,     21,2,20180211,1735,-63.4998, 132.0802, 4015,    701.1,   1.7433,  34.7357,2,  34.7352,2,    192.1,2,    192.3,2,    89.10,2,    31.25,2,     0.00,2,     2.16,2,    -0.01,2,    0.289,2,    0.155,2,     0.03,3,   -999.0,9,   -999.0,9,-999.0000,9,  -999.00,    20.85,2,   -999.0,9,   -999.0,  -999.00,9,   0.00085,2,    0.002,2,    0.060,2,    0.000,2,   99.952,2
  096U20180111,  SR03,    91,  1,     20,     20,2,20180211,1735,-63.4998, 132.0802, 4015,    850.7,   1.6197,  34.7401,2,  34.7406,2,    195.7,2,    196.3,2,    92.40,2,    31.04,2,     0.00,2,     2.14,2,    -0.01,2,    0.252,2,    0.138,2,    -0.04,3,   2254.3,2,   2351.6,2,   7.6028,   2,    25.00,    20.11,2,   -999.0,9,   -999.0,  -999.00,9,   0.00034,2,    0.001,2,    0.042,2,    0.000,2,   99.988,2
  096U20180111,  SR03,    91,  1,     19,     19,2,20180211,1735,-63.4998, 132.0802, 4015,   1001.1,   1.4909,  34.7388,2,  34.7380,2,    198.0,2,    198.7,2,    95.90,2,    31.10,2,     0.00,2,     2.15,2,    -0.01,2,    0.239,2,    0.122,2,        0,3,   2256.2,6,   2354.7,6,   7.6046,   2,    25.00,    19.20,2,   -999.0,9,   -999.0,  -999.00,9,   0.00031,2,    0.000,2,    0.036,2,    0.000,2,  100.005,2
  096U20180111,  SR03,    91,  1,     18,     18,2,20180211,1735,-63.4998, 132.0802, 4015,   1201.3,   1.3186,  34.7337,2,  34.7340,2,    201.2,2,    201.3,2,   100.90,2,    31.25,2,     0.01,2,     2.16,2,    -0.01,2, -999.000,9, -999.000,9,     -999,9,   -999.0,9,   -999.0,9,-999.0000,9,  -999.00,  -999.00,9,   -999.0,9,   -999.0,  -999.00,9,   0.00029,2,   -0.001,2,    0.042,2,    0.000,2,  100.027,2
  096U20180111,  SR03,    91,  1,     17,     17,2,20180211,1735,-63.4998, 132.0802, 4015,   1400.8,   1.1533,  34.7267,2,  34.7267,2,    203.3,2,    203.4,2,   105.80,2,    31.53,2,     0.01,2,     2.18,2,    -0.01,2,    0.235,2,    0.121,2,     0.04,3,   2259.2,2,   2357.8,6,   7.6048,   2,    25.00,    18.96,2,   -999.0,9,   -999.0,  -999.00,9,   0.00031,2,   -0.001,2,    0.036,2,    0.000,2,  100.027,2
  096U20180111,  SR03,    91,  1,     16,     16,2,20180211,1735,-63.4998, 132.0802, 4015,   1651.2,   0.9539,  34.7165,2,  34.7155,2,    205.9,2,    205.4,2,   111.60,2,    31.90,2,     0.01,2,     2.21,2,    -0.01,2,    0.264,2,    0.139,2,     0.01,3,   2260.2,2,   2358.8,2,   7.6018,   2,    25.00,    19.87,2,   -999.0,9,   -999.0,  -999.00,9,   0.00028,2,   -0.002,2,    0.036,2,    0.000,2,  100.043,2
  096U20180111,  SR03,    91,  1,     15,     15,2,20180211,1735,-63.4998, 132.0802, 4015,   1901.5,   0.7735,  34.7066,2,-999.0000,9,    208.7,2,   -999.0,9,  -999.00,9,  -999.00,9,  -999.00,9,  -999.00,9,     -999,9, -999.000,9, -999.000,9,     -999,9,   -999.0,9,   -999.0,9,-999.0000,9,  -999.00,  -999.00,9,   -999.0,9,   -999.0,  -999.00,9,   0.00025,2,   -0.002,2,    0.036,2,    0.000,2,  100.055,2
  096U20180111,  SR03,    91,  1,     14,     14,2,20180211,1735,-63.4998, 132.0802, 4015,   1901.4,   0.7733,  34.7067,2,  34.7067,2,    208.7,2,    208.3,2,   116.40,2,    32.22,2,     0.01,2,     2.23,2,    -0.01,2,    0.302,2,    0.159,2,     0.04,3,   2262.4,2,   2360.6,2,   7.5992,   6,    25.00,    19.38,2,   -999.0,9,   -999.0,  -999.00,9,   0.00026,2,   -0.002,2,    0.036,2,    0.000,2,  100.052,2
  096U20180111,  SR03,    91,  1,     13,     13,2,20180211,1735,-63.4998, 132.0802, 4015,   2151.5,   0.5911,  34.6967,2,  34.6963,2,    211.8,2,    211.7,2,   120.50,2,    32.42,2,     0.01,2,     2.25,2,    -0.01,2,    0.387,2,    0.197,2,     0.05,3,   2260.5,2,   2360.2,2,-999.0000,9,  -999.00,    19.86,2,   -999.0,9,   -999.0,  -999.00,9,   0.00026,2,   -0.002,2,    0.042,2,    0.000,2,  100.056,2
  096U20180111,  SR03,    91,  1,     12,     12,2,20180211,1735,-63.4998, 132.0802, 4015,   2400.8,   0.4413,  34.6891,2,  34.6890,2,    215.3,2,    215.2,2,   123.70,2,    32.60,2,     0.00,2,     2.26,2,    -0.01,2,    0.499,2,    0.257,2,     0.08,3,   2265.2,2,   2360.5,2,-999.0000,9,  -999.00,    19.41,2,   -999.0,9,   -999.0,  -999.00,9,   0.00024,2,   -0.002,2,    0.042,2,    0.000,2,  100.053,2
  096U20180111,  SR03,    91,  1,     11,     11,2,20180211,1735,-63.4998, 132.0802, 4015,   2651.1,   0.3037,  34.6810,2,  34.6801,2,    220.5,2,    219.7,2,   124.10,2,    32.57,2,     0.00,2,     2.26,2,    -0.01,2,    0.724,2,    0.369,2,     0.04,3,   2263.2,2,   2358.9,2,-999.0000,9,  -999.00,    19.50,2,   -999.0,9,   -999.0,  -999.00,9,   0.00024,2,   -0.002,2,    0.042,2,    0.000,2,  100.052,2
  096U20180111,  SR03,    91,  1,     10,     10,2,20180211,1735,-63.4998, 132.0802, 4015,   2901.2,   0.2189,  34.6776,2,-999.0000,9,    222.8,2,   -999.0,9,  -999.00,9,  -999.00,9,  -999.00,9,  -999.00,9,     -999,9, -999.000,9, -999.000,9,     -999,9,   -999.0,9,   -999.0,9,-999.0000,9,  -999.00,  -999.00,9,   -999.0,9,   -999.0,  -999.00,9,   0.00024,2,   -0.002,2,    0.036,2,    0.000,2,  100.055,2
  096U20180111,  SR03,    91,  1,      9,      9,2,20180211,1735,-63.4998, 132.0802, 4015,   2901.0,   0.2189,  34.6774,2,  34.6761,2,    222.8,2,    222.3,2,   126.30,2,    32.57,2,     0.00,2,     2.26,2,    -0.01,2,    0.834,6,    0.432,6,      0.2,3,   -999.0,9,   -999.0,9,-999.0000,9,  -999.00,    19.15,6,   -999.0,9,   -999.0,  -999.00,9,   0.00025,2,   -0.002,2,    0.036,2,    0.000,2,  100.056,2
  096U20180111,  SR03,    91,  1,      8,      8,2,20180211,1735,-63.4998, 132.0802, 4015,   3151.2,   0.1496,  34.6748,2,  34.6736,2,    224.7,2,    224.9,2,   128.30,2,    32.64,2,     0.00,2,     2.26,2,    -0.01,2,    0.937,2,    0.470,2,     0.37,3,   2263.8,6,   2359.4,6,-999.0000,9,  -999.00,    19.47,2,   -999.0,9,   -999.0,  -999.00,9,   0.00025,2,   -0.002,2,    0.036,2,    0.000,2,  100.045,2
  096U20180111,  SR03,    91,  1,      7,      7,2,20180211,1735,-63.4998, 132.0802, 4015,   3401.4,   0.0679,  34.6700,2,  34.6608,4,    227.5,2,    227.8,2,   128.50,2,    32.61,2,     0.00,2,     2.26,2,    -0.01,2,    1.129,2,    0.578,2,      0.3,3,   -999.0,9,   -999.0,9,-999.0000,9,  -999.00,    18.66,2,   -999.0,9,   -999.0,  -999.00,9,   0.00023,2,   -0.002,2,    0.036,2,    0.000,2,  100.040,2
  096U20180111,  SR03,    91,  1,      6,      6,2,20180211,1735,-63.4998, 132.0802, 4015,   3650.9,  -0.0408,  34.6617,2,-999.0000,9,    232.5,2,    233.1,2,   124.50,2,    32.52,2,     0.00,2,     2.25,2,    -0.01,2,    1.529,2,    0.786,2,     0.53,3,   2261.1,2,   2355.8,2,-999.0000,9,  -999.00,    19.38,2,   -999.0,9,   -999.0,  -999.00,9,   0.00025,2,   -0.001,2,    0.036,2,    0.000,2,  100.020,2
  096U20180111,  SR03,    91,  1,      5,      5,2,20180211,1735,-63.4998, 132.0802, 4015,   3900.4,  -0.1737,  34.6509,2,  34.6498,2,    241.6,2,    241.0,2,   110.90,2,    32.25,2,     0.00,2,     2.23,2,    -0.01,2,    2.079,2,    1.102,2,     1.05,3,   2259.2,2,   2353.2,2,-999.0000,9,  -999.00,    19.02,2,   -999.0,9,   -999.0,  -999.00,9,   0.00032,2,    0.004,2,    0.036,2,    0.000,2,   99.887,2
  096U20180111,  SR03,    91,  1,      4,      4,2,20180211,1735,-63.4998, 132.0802, 4015,   4050.9,  -0.2152,  34.6471,2,-999.0000,9,    243.7,2,   -999.0,9,  -999.00,9,  -999.00,9,  -999.00,9,  -999.00,9,     -999,9, -999.000,9, -999.000,9,     -999,9,   -999.0,9,   -999.0,9,-999.0000,9,  -999.00,  -999.00,9,   -999.0,9,   -999.0,  -999.00,9,   0.00039,2,    0.009,2,    0.042,2,    0.000,2,   99.770,2
  096U20180111,  SR03,    91,  1,      3,      3,2,20180211,1735,-63.4998, 132.0802, 4015,   4050.8,  -0.2159,  34.6471,2,  34.6457,2,    243.7,2,    243.4,2,   108.60,2,    32.15,2,     0.00,2,     2.23,2,    -0.01,2,    2.214,2,    1.168,2,      1.1,3,   2258.7,2,   2352.4,6,-999.0000,9,  -999.00,    20.01,2,   -999.0,9,   -999.0,  -999.00,9,   0.00040,2,    0.009,2,    0.036,2,    0.000,2,   99.778,2
  096U20180111,  SR03,    91,  1,      2,      2,2,20180211,1735,-63.4998, 132.0802, 4015,   4094.9,  -0.2368,  34.6454,2,-999.0000,9,    245.8,2,   -999.0,9,  -999.00,9,  -999.00,9,  -999.00,9,  -999.00,9,     -999,9, -999.000,9, -999.000,9,     -999,9,   -999.0,9,   -999.0,9,-999.0000,9,  -999.00,  -999.00,9,   -999.0,9,   -999.0,  -999.00,9,   0.00084,2,    0.025,2,    0.042,2,    0.000,2,   99.387,2
  096U20180111,  SR03,    91,  1,      1,      1,2,20180211,1735,-63.4998, 132.0802, 4015,   4094.9,  -0.2367,  34.6454,2,  34.6447,2,    245.8,2,    244.5,2,   107.30,2,    32.06,2,     0.00,2,     2.22,2,        0,2,    2.299,2,    1.197,2,     1.14,3,   2257.8,2,   2352.1,2,-999.0000,9,  -999.00,    20.39,2,   -999.0,9,   -999.0,  -999.00,9,   0.00071,2,    0.022,2,    0.042,2,    0.000,2,   99.443,2