BOTTLE,20230418CCHSIOENA
EXPOCODE,SECT_ID,STNNBR,CASTNO,SAMPNO,BTLNBR,BTLNBR_FLAG_W,DATE,TIME,LATITUDE,LONGITUDE,DEPTH,CTDPRS,CTDTMP,CTDSAL,CTDSAL_FLAG_W,SALNTY,SALNTY_FLAG_W,CTDOXY,CTDOXY_FLAG_W,OXYGEN,OXYGEN_FLAG_W,SILCAT,SILCAT_FLAG_W,NITRAT,NITRAT_FLAG_W,NITRIT,NITRIT_FLAG_W,PHSPHT,PHSPHT_FLAG_W,NH4,NH4_FLAG_W,CFC-11,CFC-11_FLAG_W,CFC-12,CFC-12_FLAG_W,SF6,SF6_FLAG_W,TCARBN,TCARBN_FLAG_W,ALKALI,ALKALI_FLAG_W,PH_TOT,PH_TOT_FLAG_W,PH_TMP,N2O,N2O_FLAG_W,DELC14,DELC14_FLAG_W,C14ERR,DELC13,DELC13_FLAG_W,CTDBETA700,CTDBETA700_FLAG_W,CTDBEAMCP,CTDBEAMCP_FLAG_W,CTDFLUOR,CTDFLUOR_FLAG_W,PAR,PAR_FLAG_W,CTDXMISS,CTDXMISS_FLAG_W
,,,,,,,,,,,METERS,DBAR,ITS-90,PSS-78,,PSS-78,,UMOL/KG,,UMOL/KG,,UMOL/KG,,UMOL/KG,,UMOL/KG,,UMOL/KG,,UMOL/KG,,PMOL/KG,,PMOL/KG,,FMOL/KG,,UMOL/KG,,UMOL/KG,,,,DEG C,NMOL/KG,,/MILLE,,/MILLE,/MILLE,,VOLTS,,1/M,,MG/M^3,,UMOL/M^2/SEC,,%TRANS,
  096U20180111,  SR03,    20,  1,     36,     36,2,20180119,0337,-50.6782, 143.4173, 3471,     16.1,   9.1711,  34.2500,2,-999.0000,9,    284.4,2,   -999.0,9,  -999.00,9,  -999.00,9,  -999.00,9,  -999.00,9,     -999,9, -999.000,9, -999.000,9,     -999,9,   -999.0,9,   -999.0,9,-999.0000,9,  -999.00,  -999.00,9,   -999.0,9,   -999.0,  -999.00,9,   0.00222,2,    0.180,2,    1.596,2,  119.000,2,   95.609,2
  096U20180111,  SR03,    20,  1,     35,     35,2,20180119,0337,-50.6782, 143.4173, 3471,     16.0,   9.1687,  34.2500,2,  34.2497,2,    284.4,2,    285.2,2,     1.10,2,    14.32,2,     0.22,2,     1.03,2,     0.18,2,    3.290,2,    1.853,2,     2.19,2,   2102.5,6,   2283.2,6,-999.0000,9,  -999.00,    10.56,2,   -999.0,9,   -999.0,  -999.00,9,   0.00228,2,    0.181,2,    1.626,2,  106.000,2,   95.582,2
  096U20180111,  SR03,    20,  1,     34,     34,2,20180119,0337,-50.6782, 143.4173, 3471,     31.2,   9.1700,  34.2497,2,-999.0000,9,    284.7,2,   -999.0,9,  -999.00,9,  -999.00,9,  -999.00,9,  -999.00,9,     -999,9, -999.000,9, -999.000,9,     -999,9,   -999.0,9,   -999.0,9,-999.0000,9,  -999.00,  -999.00,9,   -999.0,9,   -999.0,  -999.00,9,   0.00238,2,    0.181,2,    1.914,2,   39.400,2,   95.582,2
  096U20180111,  SR03,    20,  1,     33,     33,2,20180119,0337,-50.6782, 143.4173, 3471,     31.2,   9.1665,  34.2495,2,  34.2499,2,    284.7,2,    285.2,2,     1.10,2,    14.34,2,     0.21,2,     1.03,2,     0.18,2, -999.000,9, -999.000,9,     -999,9,   2100.9,2,   2284.1,2,-999.0000,9,  -999.00,  -999.00,9,   -999.0,9,   -999.0,  -999.00,9,   0.00215,2,    0.182,2,    1.956,2,   36.600,2,   95.554,2
  096U20180111,  SR03,    20,  1,     32,     32,2,20180119,0337,-50.6782, 143.4173, 3471,     65.6,   9.1012,  34.2531,2,-999.0000,9,    285.7,2,   -999.0,9,  -999.00,9,  -999.00,9,  -999.00,9,  -999.00,9,     -999,9, -999.000,9, -999.000,9,     -999,9,   -999.0,9,   -999.0,9,-999.0000,9,  -999.00,  -999.00,9,   -999.0,9,   -999.0,  -999.00,9,   0.00214,2,    0.159,2,    1.896,2,    2.780,2,   96.105,2
  096U20180111,  SR03,    20,  1,     31,     31,2,20180119,0337,-50.6782, 143.4173, 3471,     65.5,   9.1017,  34.2517,2,  34.2519,2,    285.7,2,    284.0,2,     1.30,2,    14.43,2,     0.21,2,     1.04,2,     0.23,2,    3.342,2,    1.928,2,     1.97,2,   2104.3,2,   2284.8,2,-999.0000,9,  -999.00,    10.65,2,   -999.0,9,   -999.0,  -999.00,9,   0.00203,2,    0.161,2,    1.908,2,    3.780,2,   96.052,2
  096U20180111,  SR03,    20,  1,     30,     30,2,20180119,0337,-50.6782, 143.4173, 3471,     85.6,   8.8667,  34.3786,2,-999.0000,9,    285.0,2,   -999.0,9,  -999.00,9,  -999.00,9,  -999.00,9,  -999.00,9,     -999,9, -999.000,9, -999.000,9,     -999,9,   -999.0,9,   -999.0,9,-999.0000,9,  -999.00,  -999.00,9,   -999.0,9,   -999.0,  -999.00,9,   0.00194,2,    0.103,2,    0.978,2,    0.707,2,   97.469,2
  096U20180111,  SR03,    20,  1,     29,     29,2,20180119,0337,-50.6782, 143.4173, 3471,     85.4,   8.8569,  34.3818,2,  34.3897,2,    285.0,2,    275.6,2,     3.20,2,    15.12,2,     0.19,2,     1.11,2,     0.33,2, -999.000,9, -999.000,9,     -999,9,   -999.0,9,   -999.0,9,-999.0000,9,  -999.00,  -999.00,9,   -999.0,9,   -999.0,  -999.00,9,   0.00167,2,    0.095,2,    0.978,2,    0.716,2,   97.645,2
  096U20180111,  SR03,    20,  1,     28,     28,2,20180119,0337,-50.6782, 143.4173, 3471,    118.6,   8.2252,  34.4203,2,  34.4205,2,    275.2,2,    273.1,2,     3.80,2,    16.54,2,     0.02,2,     1.18,2,        0,2, -999.000,9, -999.000,9,     -999,9,   -999.0,9,   -999.0,9,-999.0000,9,  -999.00,  -999.00,9,   -999.0,9,   -999.0,  -999.00,9,   0.00082,2,    0.028,2,    0.174,2,    0.202,2,   99.309,2
  096U20180111,  SR03,    20,  1,     27,     27,2,20180119,0337,-50.6782, 143.4173, 3471,    159.6,   8.1256,  34.4078,2,  34.4078,2,    273.2,2,    273.1,2,     3.90,2,    16.91,2,     0.01,2,     1.20,2,        0,2,    3.420,2,    1.989,2,     1.96,2,   2125.8,2,   2287.5,6,-999.0000,9,  -999.00,    11.13,2,   -999.0,9,   -999.0,  -999.00,9,   0.00072,2,    0.022,2,    0.090,2,    0.016,2,   99.456,2
  096U20180111,  SR03,    20,  1,     26,     26,2,20180119,0337,-50.6782, 143.4173, 3471,    221.1,   7.9759,  34.3967,2,  34.3916,2,    272.1,2,    272.8,2,     4.20,2,    17.36,2,     0.01,2,     1.23,2,        0,2, -999.000,9, -999.000,9,     -999,9,   -999.0,9,   -999.0,9,-999.0000,9,  -999.00,  -999.00,9,   -999.0,9,   -999.0,  -999.00,9,   0.00067,2,    0.016,2,    0.054,2,    0.000,2,   99.592,2
  096U20180111,  SR03,    20,  1,     25,     25,2,20180119,0337,-50.6782, 143.4173, 3471,    270.4,   8.4491,  34.5210,2,  34.5210,2,    270.0,2,    269.2,2,     4.10,2,    16.18,2,     0.01,2,     1.15,2,        0,2, -999.000,9, -999.000,9,     -999,9,   -999.0,9,   -999.0,9,-999.0000,9,  -999.00,  -999.00,9,   -999.0,9,   -999.0,  -999.00,9,   0.00065,2,    0.014,2,    0.072,2,    0.000,2,   99.637,2
  096U20180111,  SR03,    20,  1,     24,     24,2,20180119,0337,-50.6782, 143.4173, 3471,    320.5,   8.5841,  34.5609,2,  34.5612,2,    272.3,2,    270.8,2,     3.90,2,    15.68,2,     0.01,2,     1.12,2,        0,2,    3.273,4,    1.752,4,        0,4,   2128.7,2,   2291.9,2,-999.0000,9,  -999.00,    11.47,4,   -999.0,9,   -999.0,  -999.00,9,   0.00048,2,    0.009,2,    0.036,2,    0.000,2,   99.781,2
  096U20180111,  SR03,    20,  1,     23,     23,2,20180119,0337,-50.6782, 143.4173, 3471,    400.1,   7.6280,  34.3901,2,  34.3900,2,    264.9,2,    267.8,2,     5.20,2,    18.59,2,     0.01,2,     1.30,2,        0,2, -999.000,9, -999.000,9,     -999,9,   -999.0,9,   -999.0,9,-999.0000,9,  -999.00,  -999.00,9,   -999.0,9,   -999.0,  -999.00,9,   0.00050,2,    0.009,2,    0.030,2,    0.000,2,   99.785,2
  096U20180111,  SR03,    20,  1,     22,     22,2,20180119,0337,-50.6782, 143.4173, 3471,    500.5,   7.1976,  34.3497,2,  34.3506,2,    264.2,2,    270.1,2,     5.80,2,    19.61,2,     0.01,2,     1.37,2,        0,2, -999.000,9, -999.000,9,     -999,9,   -999.0,9,   -999.0,9,-999.0000,9,  -999.00,  -999.00,9,   -999.0,9,   -999.0,  -999.00,9,   0.00044,2,    0.005,2,    0.024,2,    0.000,2,   99.878,2
  096U20180111,  SR03,    20,  1,     21,     21,2,20180119,0337,-50.6782, 143.4173, 3471,    601.1,   6.7540,  34.3542,2,  34.3529,2,    232.1,2,    237.4,2,    10.90,2,    23.35,2,     0.00,2,     1.59,2,        0,2,    3.251,2,    1.793,2,     1.65,2,   2156.3,2,   2288.1,2,-999.0000,9,  -999.00,    15.07,2,   -999.0,9,   -999.0,  -999.00,9,   0.00047,2,    0.005,2,    0.030,2,    0.000,2,   99.881,2
  096U20180111,  SR03,    20,  1,     20,     20,2,20180119,0337,-50.6782, 143.4173, 3471,    700.4,   6.0606,  34.3454,2,  34.3465,2,    219.1,2,    220.9,2,    16.40,2,    26.20,2,     0.00,2,     1.77,2,        0,2, -999.000,9, -999.000,9,     -999,9,   -999.0,9,   -999.0,9,-999.0000,9,  -999.00,  -999.00,9,   -999.0,9,   -999.0,  -999.00,9,   0.00045,2,    0.005,2,    0.030,2,    0.000,2,   99.876,2
  096U20180111,  SR03,    20,  1,     19,     19,2,20180119,0337,-50.6782, 143.4173, 3471,    800.9,   4.9771,  34.2972,2,  34.2980,2,    218.7,2,    219.4,2,    22.50,2,    28.69,2,     0.00,2,     1.94,2,        0,2, -999.000,9, -999.000,9,     -999,9,   -999.0,9,   -999.0,9,-999.0000,9,  -999.00,  -999.00,9,   -999.0,9,   -999.0,  -999.00,9,   0.00044,2,    0.005,2,    0.030,2,    0.000,2,   99.885,2
  096U20180111,  SR03,    20,  1,     18,     18,2,20180119,0337,-50.6782, 143.4173, 3471,    900.9,   4.3217,  34.3088,2,  34.3090,2,    211.4,2,    209.8,2,    30.70,2,    30.55,2,     0.00,2,     2.08,2,        0,2,    2.299,4,    1.295,4,        0,4,   2198.4,2,   2298.2,2,-999.0000,9,  -999.00,    15.62,4,   -999.0,9,   -999.0,  -999.00,9,   0.00043,2,    0.004,2,    0.036,2,    0.000,2,   99.908,2
  096U20180111,  SR03,    20,  1,     17,     17,2,20180119,0337,-50.6782, 143.4173, 3471,   1000.8,   3.7994,  34.3140,2,  34.3139,2,    205.1,2,    206.5,2,    36.70,2,    31.72,2,     0.00,2,     2.17,2,        0,2,    2.339,2,    1.228,2,      0.6,2,   2206.5,2,   2303.4,2,-999.0000,9,  -999.00,    20.03,2,   -999.0,9,   -999.0,  -999.00,9,   0.00043,2,    0.003,2,    0.036,2,    0.000,2,   99.936,2
  096U20180111,  SR03,    20,  1,     16,     16,2,20180119,0337,-50.6782, 143.4173, 3471,   1199.8,   3.3313,  34.4022,2,  34.4020,2,    185.1,2,    186.0,2,    51.20,2,    33.43,2,     0.00,2,     2.30,2,        0,2, -999.000,9, -999.000,9,     -999,9,   -999.0,9,   -999.0,9,-999.0000,9,  -999.00,  -999.00,9,   -999.0,9,   -999.0,  -999.00,9,   0.00044,2,    0.002,2,    0.042,2,    0.000,2,   99.943,2
  096U20180111,  SR03,    20,  1,     15,     15,2,20180119,0337,-50.6782, 143.4173, 3471,   1454.1,   2.9180,  34.5259,2,  34.5258,2,    169.1,2,    169.6,2,    68.70,2,    34.11,2,     0.00,2,     2.35,2,        0,2,    0.627,2,    0.317,2,     0.11,2,   2251.7,2,   2337.8,2,-999.0000,9,  -999.00,    23.13,2,   -999.0,9,   -999.0,  -999.00,9,   0.00037,2,    0.001,2,    0.042,2,    0.000,2,   99.965,2
  096U20180111,  SR03,    20,  1,     14,     14,2,20180119,0337,-50.6782, 143.4173, 3471,   1453.9,   2.9188,  34.5258,2,-999.0000,9,    169.1,2,   -999.0,9,  -999.00,9,  -999.00,9,  -999.00,9,  -999.00,9,     -999,9, -999.000,9, -999.000,9,     -999,9,   -999.0,9,   -999.0,9,-999.0000,9,  -999.00,  -999.00,9,   -999.0,9,   -999.0,  -999.00,9,   0.00040,2,    0.002,2,    0.042,2,    0.000,2,   99.961,2
  096U20180111,  SR03,    20,  1,     13,     13,2,20180119,0337,-50.6782, 143.4173, 3471,   1699.9,   2.6139,  34.6126,2,  34.6121,2,    172.7,2,    172.7,2,    72.20,2,    33.29,2,     0.00,2,     2.29,2,        0,2,    0.425,2,    0.213,2,    -0.01,2,   2251.0,2,   2340.5,2,-999.0000,9,  -999.00,    22.53,2,   -999.0,9,   -999.0,  -999.00,9,   0.00041,2,    0.001,2,    0.036,2,    0.000,2,   99.983,2
  096U20180111,  SR03,    20,  1,     12,     12,2,20180119,0337,-50.6782, 143.4173, 3471,   1948.8,   2.4447,  34.6827,2,  34.6822,2,    177.5,2,    177.7,2,    77.00,2,    32.11,2,     0.00,2,     2.21,2,        0,2, -999.000,9, -999.000,9,     -999,9,   -999.0,9,   -999.0,9,-999.0000,9,  -999.00,  -999.00,9,   -999.0,9,   -999.0,  -999.00,9,   0.00037,2,    0.001,2,    0.036,2,    0.000,2,   99.983,2
  096U20180111,  SR03,    20,  1,     11,     11,2,20180119,0337,-50.6782, 143.4173, 3471,   2201.9,   2.2520,  34.7265,2,  34.7215,4,    187.5,2,    187.2,2,    79.60,2,    30.96,2,     0.00,2,     2.12,2,        0,2,    0.201,2,    0.101,2,    -0.07,2,   2249.0,6,   2349.3,6,-999.0000,9,  -999.00,    19.97,2,   -999.0,9,   -999.0,  -999.00,9,   0.00040,2,    0.000,2,    0.042,2,    0.000,2,  100.003,2
  096U20180111,  SR03,    20,  1,     10,     10,2,20180119,0337,-50.6782, 143.4173, 3471,   2451.7,   2.0462,  34.7431,2,  34.7429,2,    193.0,2,    192.6,2,    84.50,2,    30.52,2,     0.00,2,     2.09,2,        0,2, -999.000,9, -999.000,9,     -999,9,   -999.0,9,   -999.0,9,-999.0000,9,  -999.00,  -999.00,9,   -999.0,9,   -999.0,  -999.00,9,   0.00033,2,   -0.001,2,    0.042,2,    0.000,2,  100.016,2
  096U20180111,  SR03,    20,  1,      9,      9,2,20180119,0337,-50.6782, 143.4173, 3471,   2651.5,   1.8509,  34.7456,2,  34.7458,2,    197.2,2,    196.4,2,    89.90,2,    30.50,2,     0.00,2,     2.09,2,        0,2,    0.167,2,    0.082,2,    -0.04,2,   2250.3,2,   2354.1,2,-999.0000,9,  -999.00,    18.75,2,   -999.0,9,   -999.0,  -999.00,9,   0.00033,2,   -0.001,2,    0.042,2,    0.000,2,  100.020,2
  096U20180111,  SR03,    20,  1,      8,      8,2,20180119,0337,-50.6782, 143.4173, 3471,   2848.6,   1.6407,  34.7404,2,  34.7407,2,    199.2,2,    198.2,2,    96.60,2,    30.79,2,     0.00,2,     2.12,2,        0,2, -999.000,9, -999.000,9,     -999,9,   -999.0,9,   -999.0,9,-999.0000,9,  -999.00,  -999.00,9,   -999.0,9,   -999.0,  -999.00,9,   0.00031,2,   -0.001,2,    0.042,2,    0.000,2,  100.024,2
  096U20180111,  SR03,    20,  1,      7,      7,2,20180119,0337,-50.6782, 143.4173, 3471,   3046.9,   1.4509,  34.7329,2,  34.7329,2,    200.4,2,    200.0,2,   103.30,2,    31.13,2,     0.00,2,     2.15,2,    -0.01,2,    0.150,2,    0.070,2,    -0.02,2,   -999.0,9,   -999.0,9,-999.0000,9,  -999.00,    18.85,2,   -999.0,9,   -999.0,  -999.00,9,   0.00032,2,   -0.001,2,    0.036,2,    0.000,2,  100.029,2
  096U20180111,  SR03,    20,  1,      6,      6,2,20180119,0337,-50.6782, 143.4173, 3471,   3250.8,   1.2530,  34.7242,2,  34.7253,2,    202.8,2,    202.1,2,   110.20,2,    31.53,2,     0.00,2,     2.17,2,        0,2, -999.000,9, -999.000,9,     -999,9,   -999.0,9,   -999.0,9,-999.0000,9,  -999.00,  -999.00,9,   -999.0,9,   -999.0,  -999.00,9,   0.00034,2,   -0.001,2,    0.042,2,    0.000,2,  100.022,2
  096U20180111,  SR03,    20,  1,      5,      5,2,20180119,0337,-50.6782, 143.4173, 3471,   3468.7,   1.0849,  34.7164,2,  34.7159,2,    204.1,2,    204.1,2,   115.70,2,    31.86,2,     0.00,2,     2.20,2,        0,2,    0.195,2,    0.085,2,    -0.05,2,   2263.1,2,   2367.7,2,-999.0000,9,  -999.00,    18.65,2,   -999.0,9,   -999.0,  -999.00,9,   0.00037,2,    0.001,2,    0.042,2,    0.000,2,   99.974,2
  096U20180111,  SR03,    20,  1,      4,      4,2,20180119,0337,-50.6782, 143.4173, 3471,   3468.7,   1.0859,  34.7163,2,-999.0000,9,    204.1,2,   -999.0,9,  -999.00,9,  -999.00,9,  -999.00,9,  -999.00,9,     -999,9, -999.000,9, -999.000,9,     -999,9,   -999.0,9,   -999.0,9,-999.0000,9,  -999.00,  -999.00,9,   -999.0,9,   -999.0,  -999.00,9,   0.00034,2,    0.001,2,    0.036,2,    0.000,2,   99.984,2
  096U20180111,  SR03,    20,  1,      3,      3,2,20180119,0337,-50.6782, 143.4173, 3471,   3468.6,   1.0862,  34.7164,2,-999.0000,9,    204.1,2,   -999.0,9,  -999.00,9,  -999.00,9,  -999.00,9,  -999.00,9,     -999,9, -999.000,9, -999.000,9,     -999,9,   -999.0,9,   -999.0,9,-999.0000,9,  -999.00,  -999.00,9,   -999.0,9,   -999.0,  -999.00,9,   0.00042,2,    0.001,2,    0.042,2,    0.000,2,   99.983,2
  096U20180111,  SR03,    20,  1,      2,      2,2,20180119,0337,-50.6782, 143.4173, 3471,   3528.7,   1.0649,  34.7150,2,-999.0000,9,    204.8,2,   -999.0,9,  -999.00,9,  -999.00,9,  -999.00,9,  -999.00,9,     -999,9, -999.000,9, -999.000,9,     -999,9,   -999.0,9,   -999.0,9,-999.0000,9,  -999.00,  -999.00,9,   -999.0,9,   -999.0,  -999.00,9,   0.00036,2,    0.002,2,    0.042,2,    0.000,2,   99.963,2
  096U20180111,  SR03,    20,  1,      1,      1,2,20180119,0337,-50.6782, 143.4173, 3471,   3528.4,   1.0653,  34.7152,2,  34.7145,2,    204.8,2,    204.6,2,   116.30,2,    31.87,2,     0.00,2,     2.20,2,        0,2,    0.212,2,    0.104,2,        0,2,   2263.8,2,   2368.1,2,-999.0000,9,  -999.00,    18.31,2,   -999.0,9,   -999.0,  -999.00,9,   0.00037,2,    0.001,2,    0.042,2,    0.000,2,   99.966,2