BOTTLE,20230418CCHSIOENA
EXPOCODE,SECT_ID,STNNBR,CASTNO,SAMPNO,BTLNBR,BTLNBR_FLAG_W,DATE,TIME,LATITUDE,LONGITUDE,DEPTH,CTDPRS,CTDTMP,CTDSAL,CTDSAL_FLAG_W,SALNTY,SALNTY_FLAG_W,CTDOXY,CTDOXY_FLAG_W,OXYGEN,OXYGEN_FLAG_W,SILCAT,SILCAT_FLAG_W,NITRAT,NITRAT_FLAG_W,NITRIT,NITRIT_FLAG_W,PHSPHT,PHSPHT_FLAG_W,NH4,NH4_FLAG_W,CFC-11,CFC-11_FLAG_W,CFC-12,CFC-12_FLAG_W,SF6,SF6_FLAG_W,TCARBN,TCARBN_FLAG_W,ALKALI,ALKALI_FLAG_W,PH_TOT,PH_TOT_FLAG_W,PH_TMP,N2O,N2O_FLAG_W,DELC14,DELC14_FLAG_W,C14ERR,DELC13,DELC13_FLAG_W,CTDBETA700,CTDBETA700_FLAG_W,CTDBEAMCP,CTDBEAMCP_FLAG_W,CTDFLUOR,CTDFLUOR_FLAG_W,PAR,PAR_FLAG_W,CTDXMISS,CTDXMISS_FLAG_W
,,,,,,,,,,,METERS,DBAR,ITS-90,PSS-78,,PSS-78,,UMOL/KG,,UMOL/KG,,UMOL/KG,,UMOL/KG,,UMOL/KG,,UMOL/KG,,UMOL/KG,,PMOL/KG,,PMOL/KG,,FMOL/KG,,UMOL/KG,,UMOL/KG,,,,DEG C,NMOL/KG,,/MILLE,,/MILLE,/MILLE,,VOLTS,,1/M,,MG/M^3,,UMOL/M^2/SEC,,%TRANS,
  096U20180111,  SR03,    21,  1,     36,     36,2,20180119,1122,-51.0093, 143.2718, 3787,     15.2,   9.4126,  34.2782,2,  34.2780,2,    282.7,2,    283.6,2,     1.10,2,    13.69,2,     0.22,2,     1.00,2,     0.14,2, -999.000,9, -999.000,9,     -999,9,   2100.3,2,   2283.8,2,-999.0000,9,  -999.00,  -999.00,9,   -999.0,9,   -999.0,  -999.00,9,   0.00215,2,    0.160,2,    2.022,2,    0.370,2,   96.071,2
  096U20180111,  SR03,    21,  1,     35,     35,2,20180119,1122,-51.0093, 143.2718, 3787,     15.4,   9.4128,  34.2782,2,-999.0000,9,    282.7,2,   -999.0,9,  -999.00,9,  -999.00,9,  -999.00,9,  -999.00,9,     -999,9, -999.000,9, -999.000,9,     -999,9,   -999.0,9,   -999.0,9,-999.0000,9,  -999.00,  -999.00,9,   -999.0,9,   -999.0,  -999.00,9,   0.00200,2,    0.164,2,    2.106,2,    0.308,2,   95.987,2
  096U20180111,  SR03,    21,  1,     34,     34,2,20180119,1122,-51.0093, 143.2718, 3787,     41.2,   9.4139,  34.2783,2,  34.2782,2,    284.6,2,    284.3,2,     1.00,2,    13.71,2,     0.22,2,     0.99,2,     0.14,2,    3.335,2,    1.920,2,     2.49,2,   2100.0,6,   2284.4,6,-999.0000,9,  -999.00,    11.47,2,   -999.0,9,   -999.0,  -999.00,9,   0.00208,2,    0.159,2,    1.914,2,    0.000,2,   96.107,2
  096U20180111,  SR03,    21,  1,     33,     33,2,20180119,1122,-51.0093, 143.2718, 3787,     66.4,   9.3992,  34.2820,2,  34.2831,2,    285.7,2,    283.4,2,     1.10,2,    13.71,2,     0.22,2,     1.00,2,     0.17,2,    3.317,2,    1.923,2,     2.53,2,   2115.9,2,   2285.6,6,-999.0000,9,  -999.00,    11.21,2,   -999.0,9,   -999.0,  -999.00,9,   0.00213,2,    0.162,2,    2.040,2,    0.000,2,   96.042,2
  096U20180111,  SR03,    21,  1,     32,     32,2,20180119,1122,-51.0093, 143.2718, 3787,     66.5,   9.4005,  34.2818,2,-999.0000,9,    285.7,2,   -999.0,9,  -999.00,9,  -999.00,9,  -999.00,9,  -999.00,9,     -999,9, -999.000,9, -999.000,9,     -999,9,   -999.0,9,   -999.0,9,-999.0000,9,  -999.00,  -999.00,9,   -999.0,9,   -999.0,  -999.00,9,   0.00211,2,    0.160,2,    1.860,2,    0.000,2,   96.079,2
  096U20180111,  SR03,    21,  1,     31,     31,2,20180119,1122,-51.0093, 143.2718, 3787,    100.3,   9.3341,  34.4520,2,  34.4523,2,    277.7,2,    276.3,2,     3.20,2,    13.45,2,     0.25,2,     1.02,2,     0.42,2,    3.295,2,    1.899,2,     2.66,2,   2111.0,2,   2291.2,2,-999.0000,9,  -999.00,    11.40,2,   -999.0,9,   -999.0,  -999.00,9,   0.00179,2,    0.094,2,    1.062,2,    0.000,2,   97.670,2
  096U20180111,  SR03,    21,  1,     30,     30,2,20180119,1122,-51.0093, 143.2718, 3787,    100.2,   9.3339,  34.4521,2,-999.0000,9,    277.7,2,   -999.0,9,  -999.00,9,  -999.00,9,  -999.00,9,  -999.00,9,     -999,9, -999.000,9, -999.000,9,     -999,9,   -999.0,9,   -999.0,9,-999.0000,9,  -999.00,  -999.00,9,   -999.0,9,   -999.0,  -999.00,9,   0.00171,2,    0.094,2,    1.038,2,    0.000,2,   97.680,2
  096U20180111,  SR03,    21,  1,     29,     29,2,20180119,1122,-51.0093, 143.2718, 3787,    140.8,   8.4736,  34.4714,2,  34.4703,2,    274.6,2,    274.2,2,     4.00,2,    16.05,2,     0.09,2,     1.15,2,    -0.04,2,    3.421,2,    1.967,2,     2.38,2,   2124.4,2,   2289.6,2,-999.0000,9,  -999.00,    12.18,2,   -999.0,9,   -999.0,  -999.00,9,   0.00116,2,    0.038,2,    0.288,2,    0.000,2,   99.042,2
  096U20180111,  SR03,    21,  1,     28,     28,2,20180119,1122,-51.0093, 143.2718, 3787,    190.9,   8.6091,  34.5573,2,  34.5573,2,    269.8,2,    269.6,2,     3.90,2,    15.64,2,     0.02,2,     1.11,2,    -0.05,2, -999.000,9, -999.000,9,     -999,9,   -999.0,9,   -999.0,9,-999.0000,9,  -999.00,  -999.00,9,   -999.0,9,   -999.0,  -999.00,9,   0.00078,2,    0.018,2,    0.096,2,    0.000,2,   99.562,2
  096U20180111,  SR03,    21,  1,     27,     27,2,20180119,1122,-51.0093, 143.2718, 3787,    240.7,   8.5438,  34.5506,2,  34.5517,2,    271.5,2,    271.2,2,     4.00,2,    15.80,2,     0.01,2,     1.11,2,    -0.05,2,    3.367,2,    1.948,2,     2.31,2,   2127.0,2,   2291.8,2,-999.0000,9,  -999.00,    11.93,2,   -999.0,9,   -999.0,  -999.00,9,   0.00056,2,    0.013,2,    0.048,2,    0.000,2,   99.671,2
  096U20180111,  SR03,    21,  1,     26,     26,2,20180119,1122,-51.0093, 143.2718, 3787,    280.6,   8.5786,  34.5613,2,  34.5622,2,    272.1,2,    271.5,2,     4.00,2,    15.69,2,     0.01,2,     1.11,2,    -0.05,2,    3.376,2,    1.942,2,     2.62,2,   2125.5,2,   2291.4,2,-999.0000,9,  -999.00,    12.05,2,   -999.0,9,   -999.0,  -999.00,9,   0.00059,2,    0.013,2,    0.042,2,    0.000,2,   99.682,2
  096U20180111,  SR03,    21,  1,     25,     25,2,20180119,1122,-51.0093, 143.2718, 3787,    319.0,   8.1863,  34.4956,2,  34.4956,2,    269.7,2,    270.4,2,     4.50,2,    16.85,2,     0.01,2,     1.19,2,        0,2, -999.000,9, -999.000,9,     -999,9,   -999.0,9,   -999.0,9,-999.0000,9,  -999.00,  -999.00,9,   -999.0,9,   -999.0,  -999.00,9,   0.00056,2,    0.010,2,    0.036,2,    0.000,2,   99.741,2
  096U20180111,  SR03,    21,  1,     24,     24,4,20180119,1122,-51.0093, 143.2718, 3787,    370.1,   7.7855,  34.4299,2,  34.3745,4,    270.7,2,    244.8,4,  -999.00,9,  -999.00,9,  -999.00,9,  -999.00,9,     -999,9,    3.203,2,    1.796,2,     1.93,2,   2154.7,3,   2289.7,2,-999.0000,9,  -999.00,    15.74,2,   -999.0,9,   -999.0,  -999.00,9,   0.00049,2,    0.008,2,    0.030,2,    0.000,2,   99.811,2
  096U20180111,  SR03,    21,  1,     23,     23,2,20180119,1122,-51.0093, 143.2718, 3787,    420.4,   7.5393,  34.3946,2,  34.3946,2,    266.5,2,    267.5,2,     5.60,2,    18.95,2,     0.01,2,     1.32,2,    -0.05,2, -999.000,9, -999.000,9,     -999,9,   2136.6,2,   2287.6,2,-999.0000,9,  -999.00,  -999.00,9,   -999.0,9,   -999.0,  -999.00,9,   0.00044,2,    0.005,2,    0.024,2,    0.000,2,   99.864,2
  096U20180111,  SR03,    21,  1,     22,     22,2,20180119,1122,-51.0093, 143.2718, 3787,    521.9,   7.1017,  34.3668,2,  34.3675,2,    247.8,2,    246.8,2,     8.80,2,    21.83,2,     0.01,2,     1.49,2,    -0.05,2,    3.373,2,    1.866,2,     1.96,2,   2149.5,2,   2287.0,2,-999.0000,9,  -999.00,    14.39,2,   -999.0,9,   -999.0,  -999.00,9,   0.00041,2,    0.005,2,    0.030,2,    0.000,2,   99.880,2
  096U20180111,  SR03,    21,  1,     21,     21,2,20180119,1122,-51.0093, 143.2718, 3787,    620.8,   6.4366,  34.3374,2,  34.3386,2,    234.9,2,    233.7,2,    12.80,2,    24.47,2,     0.01,2,     1.66,2,    -0.05,2, -999.000,9, -999.000,9,     -999,9,   2162.7,6,   2287.4,6,-999.0000,9,  -999.00,  -999.00,9,   -999.0,9,   -999.0,  -999.00,9,   0.00489,2,    0.005,2,    0.042,2,    0.000,2,   99.866,2
  096U20180111,  SR03,    21,  1,     20,     20,2,20180119,1122,-51.0093, 143.2718, 3787,    720.6,   5.7562,  34.3400,2,  34.3400,2,    216.5,2,    217.1,2,    19.10,2,    27.24,2,     0.01,2,     1.84,2,    -0.05,2,    3.209,2,    1.774,2,     1.55,2,   -999.0,9,   -999.0,9,-999.0000,9,  -999.00,    16.21,2,   -999.0,9,   -999.0,  -999.00,9,   0.00044,2,    0.005,2,    0.030,2,    0.000,2,   99.880,2
  096U20180111,  SR03,    21,  1,     19,     19,2,20180119,1122,-51.0093, 143.2718, 3787,    820.9,   5.0606,  34.3256,2,  34.3253,2,    213.5,2,    212.0,2,    24.80,2,    29.04,2,     0.01,2,     1.96,2,    -0.05,2, -999.000,9, -999.000,9,     -999,9,   -999.0,9,   -999.0,9,-999.0000,9,  -999.00,  -999.00,9,   -999.0,9,   -999.0,  -999.00,9,   0.00043,2,    0.004,2,    0.036,2,    0.000,2,   99.905,2
  096U20180111,  SR03,    21,  1,     18,     18,2,20180119,1122,-51.0093, 143.2718, 3787,    920.3,   4.5270,  34.3326,2,  34.3321,2,    204.8,2,    205.8,2,    31.60,2,    30.42,2,     0.01,2,     2.06,2,    -0.05,2,    2.280,2,    1.203,2,     0.75,2,   2198.7,2,   2299.3,2,-999.0000,9,  -999.00,    20.93,2,   -999.0,9,   -999.0,  -999.00,9,   0.00041,2,    0.003,2,    0.036,2,    0.000,2,   99.931,2
  096U20180111,  SR03,    21,  1,     17,     17,2,20180119,1122,-51.0093, 143.2718, 3787,   1101.7,   3.7023,  34.3787,2,  34.3799,2,    193.0,2,    191.6,2,    45.90,2,    32.60,2,     0.00,2,     2.23,2,    -0.05,2,    1.621,2,    0.834,2,     0.47,2,   2221.0,2,   2313.0,2,-999.0000,9,  -999.00,    22.19,2,   -999.0,9,   -999.0,  -999.00,9,   0.00039,2,    0.002,2,    0.036,2,    0.000,2,   99.940,2
  096U20180111,  SR03,    21,  1,     16,     16,2,20180119,1122,-51.0093, 143.2718, 3787,   1302.2,   3.0353,  34.4416,2,  34.4533,2,    178.4,2,    181.5,2,    57.40,2,    33.99,2,     0.00,2,     2.32,2,    -0.05,2,    1.246,2,    0.645,2,     0.18,2,   2237.5,2,   2321.8,2,-999.0000,9,  -999.00,    23.57,2,   -999.0,9,   -999.0,  -999.00,9,   0.00040,2,    0.002,2,    0.036,2,    0.000,2,   99.961,2
  096U20180111,  SR03,    21,  1,     15,     15,2,20180119,1122,-51.0093, 143.2718, 3787,   1449.8,   2.8849,  34.5219,2,  34.5210,2,    172.5,2,    170.8,2,    67.50,2,    34.09,2,     0.00,2,     2.34,2,    -0.05,2,    0.683,2,    0.338,2,     0.22,2,   2250.4,2,   2333.6,2,-999.0000,9,  -999.00,    24.21,2,   -999.0,9,   -999.0,  -999.00,9,   0.00037,2,    0.002,2,    0.036,2,    0.000,2,   99.964,2
  096U20180111,  SR03,    21,  1,     14,     14,2,20180119,1122,-51.0093, 143.2718, 3787,   1603.9,   2.6625,  34.5832,2,  34.5831,2,    172.8,2,    172.9,2,    70.20,2,    33.55,2,     0.00,2,     2.30,2,    -0.05,2,    0.537,2,    0.268,2,     0.03,2,   2251.3,2,   2336.1,2,-999.0000,9,  -999.00,    22.62,2,   -999.0,9,   -999.0,  -999.00,9,   0.00039,2,    0.002,2,    0.042,2,    0.000,2,   99.961,2
  096U20180111,  SR03,    21,  1,     13,     13,2,20180119,1122,-51.0093, 143.2718, 3787,   1603.8,   2.6621,  34.5833,2,-999.0000,9,    172.8,2,   -999.0,9,  -999.00,9,  -999.00,9,  -999.00,9,  -999.00,9,     -999,9, -999.000,9, -999.000,9,     -999,9,   -999.0,9,   -999.0,9,-999.0000,9,  -999.00,  -999.00,9,   -999.0,9,   -999.0,  -999.00,9,   0.00038,2,    0.002,2,    0.042,2,    0.000,2,   99.963,2
  096U20180111,  SR03,    21,  1,     12,     12,2,20180119,1122,-51.0093, 143.2718, 3787,   1750.6,   2.5518,  34.6369,2,  34.6366,2,    174.2,2,    174.5,2,    73.70,2,    32.90,2,     0.00,2,     2.26,2,    -0.05,2,    0.367,2,    0.185,2,     0.17,3,   2252.1,2,   2341.4,2,-999.0000,9,  -999.00,    23.42,2,   -999.0,9,   -999.0,  -999.00,9,   0.00038,2,    0.001,2,    0.042,2,    0.000,2,   99.965,2
  096U20180111,  SR03,    21,  1,     11,     11,2,20180119,1122,-51.0093, 143.2718, 3787,   1902.0,   2.4444,  34.6779,2,  34.6774,2,    178.3,2,    179.0,2,    76.10,2,    32.14,2,     0.00,2,     2.20,2,    -0.05,2, -999.000,9, -999.000,9,     -999,9,   -999.0,9,   -999.0,9,-999.0000,9,  -999.00,  -999.00,9,   -999.0,9,   -999.0,  -999.00,9,   0.00037,2,    0.001,2,    0.042,2,    0.000,2,   99.980,2
  096U20180111,  SR03,    21,  1,     10,     10,2,20180119,1122,-51.0093, 143.2718, 3787,   2100.6,   2.3069,  34.7155,2,  34.7153,2,    184.7,2,    185.4,2,    78.40,2,    31.19,2,     0.00,2,     2.13,2,    -0.05,2,    0.228,2,    0.119,2,     0.02,2,   2248.1,2,   2347.0,2,-999.0000,9,  -999.00,    21.74,2,   -999.0,9,   -999.0,  -999.00,9,   0.00035,2,    0.000,2,    0.042,2,    0.000,2,  100.002,2
  096U20180111,  SR03,    21,  1,      9,      9,2,20180119,1122,-51.0093, 143.2718, 3787,   2349.7,   2.1422,  34.7384,2,  34.7377,2,    191.4,2,    191.4,2,    81.90,2,    30.58,2,     0.00,2,     2.09,2,    -0.05,2, -999.000,9, -999.000,9,     -999,9,   2247.0,2,   2350.2,2,-999.0000,9,  -999.00,  -999.00,9,   -999.0,9,   -999.0,  -999.00,9,   0.00033,2,   -0.001,2,    0.042,2,    0.000,2,  100.013,2
  096U20180111,  SR03,    21,  1,      8,      8,2,20180119,1122,-51.0093, 143.2718, 3787,   2599.7,   1.9111,  34.7461,2,  34.7452,2,    196.3,2,    195.8,2,    88.50,2,    30.44,2,     0.01,2,     2.08,2,    -0.05,2,    0.172,2,    0.086,2,    -0.01,2,   2247.5,2,   2354.0,2,-999.0000,9,  -999.00,    20.32,2,   -999.0,9,   -999.0,  -999.00,9,   0.00031,2,   -0.001,2,    0.042,2,    0.000,2,  100.020,2
  096U20180111,  SR03,    21,  1,      7,      7,2,20180119,1122,-51.0093, 143.2718, 3787,   2851.4,   1.6531,  34.7410,2,  34.7415,2,    199.7,2,    198.9,2,    96.50,2,    30.74,2,     0.00,2,     2.10,2,    -0.05,2,    0.159,6,    0.076,6,    -0.03,6,   -999.0,9,   -999.0,9,-999.0000,9,  -999.00,    19.46,6,   -999.0,9,   -999.0,  -999.00,9,   0.00031,2,   -0.001,2,    0.042,2,    0.000,2,  100.024,2
  096U20180111,  SR03,    21,  1,      6,      6,2,20180119,1122,-51.0093, 143.2718, 3787,   3098.8,   1.4234,  34.7319,2,  34.7310,2,    202.5,2,    201.1,2,   104.70,2,    31.21,2,     0.00,2,     2.14,2,    -0.05,2,    0.158,2,    0.073,2,     0.08,2,   2256.0,2,   2362.1,6,-999.0000,9,  -999.00,    18.74,2,   -999.0,9,   -999.0,  -999.00,9,   0.00031,2,   -0.001,2,    0.042,2,    0.000,2,  100.019,2
  096U20180111,  SR03,    21,  1,      5,      5,2,20180119,1122,-51.0093, 143.2718, 3787,   3298.6,   1.2138,  34.7225,2,  34.7224,2,    204.2,2,    202.8,2,   111.40,2,    31.50,2,     0.00,2,     2.17,2,    -0.05,2,    0.173,2,    0.082,2,     0.06,2,   -999.0,9,   -999.0,9,-999.0000,9,  -999.00,    19.97,2,   -999.0,9,   -999.0,  -999.00,9,   0.00031,2,   -0.001,2,    0.042,2,    0.000,2,  100.013,2
  096U20180111,  SR03,    21,  1,      4,      4,2,20180119,1122,-51.0093, 143.2718, 3787,   3498.4,   1.0941,  34.7165,2,  34.7160,2,    204.5,2,    204.6,2,   115.80,2,    31.74,2,     0.00,2,     2.19,2,    -0.05,2,    0.196,2,    0.095,2,    -0.04,2,   2261.5,4,   2366.5,4,-999.0000,9,  -999.00,    20.05,2,   -999.0,9,   -999.0,  -999.00,9,   0.00034,2,    0.001,2,    0.042,2,    0.000,2,   99.972,2
  096U20180111,  SR03,    21,  1,      3,      3,2,20180119,1122,-51.0093, 143.2718, 3787,   3650.2,   1.0660,  34.7146,2,  34.7143,2,    203.9,3,    205.1,2,   117.10,2,    31.81,2,     0.00,2,     2.19,2,    -0.05,2,    0.213,2,    0.102,2,     0.01,2,   -999.0,9,   -999.0,9,-999.0000,9,  -999.00,    19.71,2,   -999.0,9,   -999.0,  -999.00,9,   0.00039,2,    0.002,2,    0.036,2,    0.000,2,   99.959,2
  096U20180111,  SR03,    21,  1,      2,      2,2,20180119,1122,-51.0093, 143.2718, 3787,   3753.0,   1.0623,  34.7138,2,  34.7132,2,    203.1,3,    203.7,3,   117.50,2,    31.83,2,     0.00,2,     2.19,2,    -0.05,2,    0.227,2,    0.105,2,     0.05,2,   -999.0,9,   -999.0,9,-999.0000,9,  -999.00,    18.93,2,   -999.0,9,   -999.0,  -999.00,9,   0.00036,2,    0.003,2,    0.042,2,    0.000,2,   99.932,2
  096U20180111,  SR03,    21,  1,      1,      1,2,20180119,1122,-51.0093, 143.2718, 3787,   3853.6,   1.0642,  34.7135,2,  34.7131,2,    202.3,3,   -999.0,9,   117.50,2,    31.70,2,     0.00,2,     2.19,2,    -0.05,2,    0.232,2,    0.109,2,    -0.01,2,   2262.3,6,   2367.0,6,-999.0000,9,  -999.00,    19.81,2,   -999.0,9,   -999.0,  -999.00,9,   0.00039,2,    0.004,2,    0.042,2,    0.000,2,   99.912,2