BOTTLE,20230418CCHSIOENA
EXPOCODE,SECT_ID,STNNBR,CASTNO,SAMPNO,BTLNBR,BTLNBR_FLAG_W,DATE,TIME,LATITUDE,LONGITUDE,DEPTH,CTDPRS,CTDTMP,CTDSAL,CTDSAL_FLAG_W,SALNTY,SALNTY_FLAG_W,CTDOXY,CTDOXY_FLAG_W,OXYGEN,OXYGEN_FLAG_W,SILCAT,SILCAT_FLAG_W,NITRAT,NITRAT_FLAG_W,NITRIT,NITRIT_FLAG_W,PHSPHT,PHSPHT_FLAG_W,NH4,NH4_FLAG_W,CFC-11,CFC-11_FLAG_W,CFC-12,CFC-12_FLAG_W,SF6,SF6_FLAG_W,TCARBN,TCARBN_FLAG_W,ALKALI,ALKALI_FLAG_W,PH_TOT,PH_TOT_FLAG_W,PH_TMP,N2O,N2O_FLAG_W,DELC14,DELC14_FLAG_W,C14ERR,DELC13,DELC13_FLAG_W,CTDBETA700,CTDBETA700_FLAG_W,CTDBEAMCP,CTDBEAMCP_FLAG_W,CTDFLUOR,CTDFLUOR_FLAG_W,PAR,PAR_FLAG_W,CTDXMISS,CTDXMISS_FLAG_W
,,,,,,,,,,,METERS,DBAR,ITS-90,PSS-78,,PSS-78,,UMOL/KG,,UMOL/KG,,UMOL/KG,,UMOL/KG,,UMOL/KG,,UMOL/KG,,UMOL/KG,,PMOL/KG,,PMOL/KG,,FMOL/KG,,UMOL/KG,,UMOL/KG,,,,DEG C,NMOL/KG,,/MILLE,,/MILLE,/MILLE,,VOLTS,,1/M,,MG/M^3,,UMOL/M^2/SEC,,%TRANS,
  096U20180111,  SR03,    28,  1,     36,     36,2,20180121,1422,-53.1293, 142.1403, 3082,     10.6,   5.1364,  33.8506,2,-999.0000,9,    312.3,2,   -999.0,9,  -999.00,9,  -999.00,9,  -999.00,9,  -999.00,9,     -999,9, -999.000,9, -999.000,9,     -999,9,   -999.0,9,   -999.0,9,-999.0000,9,  -999.00,  -999.00,9,   -999.0,9,   -999.0,  -999.00,9,   0.00197,2,    0.133,2,    1.134,2,    0.962,2,   96.739,2
  096U20180111,  SR03,    28,  1,     35,     35,2,20180121,1422,-53.1293, 142.1403, 3082,     10.4,   5.1456,  33.8496,2,  33.8501,2,    312.3,2,    311.4,2,     2.10,2,    23.65,2,     0.26,2,     1.59,2,     0.21,2,    4.458,2,    2.373,2,     3.02,2,   2130.5,2,   2278.1,2,-999.0000,9,  -999.00,    12.88,2,   -999.0,9,   -999.0,  -999.00,9,   0.00192,2,    0.135,2,    1.116,2,    0.923,2,   96.692,2
  096U20180111,  SR03,    28,  1,     34,     34,2,20180121,1422,-53.1293, 142.1403, 3082,     30.8,   4.9195,  33.8560,2,  33.8559,2,    312.4,2,    313.1,2,     2.10,2,    23.71,2,     0.25,2,     1.58,2,     0.11,2, -999.000,9, -999.000,9,     -999,9,   -999.0,9,   -999.0,9,-999.0000,9,  -999.00,  -999.00,9,   -999.0,9,   -999.0,  -999.00,9,   0.00308,2,    0.180,2,    1.824,2,    0.052,2,   95.600,2
  096U20180111,  SR03,    28,  1,     33,     33,2,20180121,1422,-53.1293, 142.1403, 3082,     50.3,   4.8977,  33.8560,2,  33.8576,2,    311.7,2,    312.8,2,     2.10,2,    23.74,2,     0.25,2,     1.60,2,     0.14,2, -999.000,9, -999.000,9,     -999,9,   -999.0,9,   -999.0,9,-999.0000,9,  -999.00,  -999.00,9,   -999.0,9,   -999.0,  -999.00,9,   0.00291,2,    0.173,2,    1.818,2,    0.000,2,   95.763,2
  096U20180111,  SR03,    28,  1,     32,     32,2,20180121,1422,-53.1293, 142.1403, 3082,     80.4,   3.7550,  33.9035,2,-999.0000,9,    311.9,2,   -999.0,9,  -999.00,9,  -999.00,9,  -999.00,9,  -999.00,9,     -999,9, -999.000,9, -999.000,9,     -999,9,   -999.0,9,   -999.0,9,-999.0000,9,  -999.00,  -999.00,9,   -999.0,9,   -999.0,  -999.00,9,   0.00295,2,    0.159,2,    2.574,2,    0.000,2,   96.114,2
  096U20180111,  SR03,    28,  1,     31,     31,2,20180121,1422,-53.1293, 142.1403, 3082,     80.5,   3.7165,  33.9046,2,  33.9123,2,    311.9,2,    313.8,2,     8.50,2,    25.07,2,     0.28,2,     1.78,2,      0.5,2, -999.000,9, -999.000,9,     -999,9,   2146.8,6,   2281.2,6,-999.0000,9,  -999.00,  -999.00,9,   -999.0,9,   -999.0,  -999.00,9,   0.00249,2,    0.151,2,    2.340,2,    0.000,2,   96.299,2
  096U20180111,  SR03,    28,  1,     30,     30,2,20180121,1422,-53.1293, 142.1403, 3082,    121.1,   2.4170,  33.9605,2,  33.9624,2,    307.9,2,    310.9,2,    16.30,2,    27.76,2,     0.32,2,     1.88,2,     0.04,2, -999.000,9, -999.000,9,     -999,9,   -999.0,9,   -999.0,9,-999.0000,9,  -999.00,  -999.00,9,   -999.0,9,   -999.0,  -999.00,9,   0.00108,2,    0.036,2,    0.204,2,    0.000,2,   99.117,2
  096U20180111,  SR03,    28,  1,     29,     29,2,20180121,1422,-53.1293, 142.1403, 3082,    180.3,   2.0268,  33.9788,2,  33.9744,2,    308.0,2,    305.1,2,    19.60,2,  -999.00,9,     0.02,2,     1.92,2,    -0.01,2,    4.780,2,    2.521,2,     3.15,2,   2166.7,2,   2282.7,2,-999.0000,9,  -999.00,    14.76,2,   -999.0,9,   -999.0,  -999.00,9,   0.00071,2,    0.019,2,    0.054,2,    0.000,2,   99.523,2
  096U20180111,  SR03,    28,  1,     28,     28,2,20180121,1422,-53.1293, 142.1403, 3082,    240.6,   1.9337,  34.0214,2,-999.0000,9,    291.5,2,   -999.0,9,  -999.00,9,  -999.00,9,  -999.00,9,  -999.00,9,     -999,9, -999.000,9, -999.000,9,     -999,9,   -999.0,9,   -999.0,9,-999.0000,9,  -999.00,  -999.00,9,   -999.0,9,   -999.0,  -999.00,9,   0.00065,2,    0.014,2,    0.042,2,    0.000,2,   99.639,2
  096U20180111,  SR03,    28,  1,     27,     27,2,20180121,1422,-53.1293, 142.1403, 3082,    240.6,   1.9327,  34.0213,2,  34.0252,2,    291.5,2,    291.7,2,    24.00,2,    29.37,2,     0.01,2,     1.99,2,    -0.01,2, -999.000,9, -999.000,9,     -999,9,   -999.0,9,   -999.0,9,-999.0000,9,  -999.00,  -999.00,9,   -999.0,9,   -999.0,  -999.00,9,   0.00059,2,    0.013,2,    0.042,2,    0.000,2,   99.672,2
  096U20180111,  SR03,    28,  1,     26,     26,2,20180121,1422,-53.1293, 142.1403, 3082,    300.7,   2.2754,  34.1323,2,  34.1315,2,    255.3,2,    256.4,2,    33.60,2,    31.25,2,     0.01,2,     2.13,2,    -0.01,2, -999.000,9, -999.000,9,     -999,9,   -999.0,9,   -999.0,9,-999.0000,9,  -999.00,  -999.00,9,   -999.0,9,   -999.0,  -999.00,9,   0.00064,2,    0.015,2,    0.036,2,    0.000,2,   99.625,2
  096U20180111,  SR03,    28,  1,     25,     25,2,20180121,1422,-53.1293, 142.1403, 3082,    400.6,   2.6527,  34.2983,2,  34.2965,2,    209.0,2,    208.8,2,    47.30,2,    33.42,2,     0.01,2,     2.29,2,    -0.02,2,    2.491,2,    1.298,2,     1.22,2,   2222.1,2,   2307.7,2,-999.0000,9,  -999.00,    21.39,2,   -999.0,9,   -999.0,  -999.00,9,   0.00114,2,    0.010,2,    0.042,2,    0.000,2,   99.751,2
  096U20180111,  SR03,    28,  1,     24,     24,2,20180121,1422,-53.1293, 142.1403, 3082,    500.6,   2.6390,  34.3806,2,  34.3782,2,    190.6,2,    190.5,2,    55.70,2,    34.22,2,     0.01,2,     2.34,2,    -0.02,2, -999.000,9, -999.000,9,     -999,9,   -999.0,9,   -999.0,9,-999.0000,9,  -999.00,  -999.00,9,   -999.0,9,   -999.0,  -999.00,9,   0.00050,2,    0.010,2,    0.036,2,    0.000,2,   99.753,2
  096U20180111,  SR03,    28,  1,     23,     23,2,20180121,1422,-53.1293, 142.1403, 3082,    600.8,   2.5926,  34.4556,2,  34.4545,2,    178.9,2,    179.6,2,    62.50,2,    34.51,2,     0.01,2,     2.37,2,    -0.02,2, -999.000,9, -999.000,9,     -999,9,   -999.0,9,   -999.0,9,-999.0000,9,  -999.00,  -999.00,9,   -999.0,9,   -999.0,  -999.00,9,   0.00047,2,    0.007,2,    0.036,2,    0.000,2,   99.821,2
  096U20180111,  SR03,    28,  1,     22,     22,2,20180121,1422,-53.1293, 142.1403, 3082,    700.8,   2.5401,  34.5213,2,  34.5234,2,    174.3,2,    174.2,2,    67.80,2,    34.36,2,     0.01,2,     2.35,2,    -0.02,2, -999.000,9, -999.000,9,     -999,9,   -999.0,9,   -999.0,9,-999.0000,9,  -999.00,  -999.00,9,   -999.0,9,   -999.0,  -999.00,9,   0.00045,2,    0.007,2,    0.036,2,    0.000,2,   99.833,2
  096U20180111,  SR03,    28,  1,     21,     21,2,20180121,1422,-53.1293, 142.1403, 3082,    800.3,   2.4706,  34.5685,2,  34.5696,2,    172.3,2,    171.8,2,    71.30,2,    34.07,2,     0.00,2,     2.33,2,    -0.02,2,    0.745,2,    0.377,2,     0.06,2,   2253.6,2,   2333.3,2,-999.0000,9,  -999.00,    22.97,2,   -999.0,9,   -999.0,  -999.00,9,   0.00045,2,    0.005,2,    0.036,2,    0.000,2,   99.882,2
  096U20180111,  SR03,    28,  1,     20,     20,2,20180121,1422,-53.1293, 142.1403, 3082,    900.6,   2.4136,  34.6150,2,  34.6144,2,    173.6,2,    173.0,2,    73.50,2,    33.49,2,     0.01,2,     2.29,2,    -0.02,2, -999.000,9, -999.000,9,     -999,9,   -999.0,9,   -999.0,9,-999.0000,9,  -999.00,  -999.00,9,   -999.0,9,   -999.0,  -999.00,9,   0.00039,2,    0.004,2,    0.042,2,    0.000,2,   99.902,2
  096U20180111,  SR03,    28,  1,     19,     19,2,20180121,1422,-53.1293, 142.1403, 3082,   1000.2,   2.3520,  34.6548,2,  34.6546,2,    176.1,2,    175.9,2,    75.60,2,    32.78,2,     0.00,2,     2.25,2,    -0.02,2, -999.000,9, -999.000,9,     -999,9,   -999.0,9,   -999.0,9,-999.0000,9,  -999.00,  -999.00,9,   -999.0,9,   -999.0,  -999.00,9,   0.00039,2,    0.003,2,    0.036,2,    0.000,2,   99.921,2
  096U20180111,  SR03,    28,  1,     18,     18,2,20180121,1422,-53.1293, 142.1403, 3082,   1149.5,   2.2766,  34.6926,2,  34.6925,2,    181.2,2,    181.2,2,    77.30,2,    31.86,2,     0.00,2,     2.19,2,    -0.02,2,    0.323,2,    0.158,2,     0.11,2,   2248.6,2,   2344.0,6,-999.0000,9,  -999.00,    20.64,2,   -999.0,9,   -999.0,  -999.00,9,   0.00037,2,    0.002,2,    0.042,2,    0.000,2,   99.945,2
  096U20180111,  SR03,    28,  1,     17,     17,2,20180121,1422,-53.1293, 142.1403, 3082,   1300.2,   2.1717,  34.7185,2,  34.7188,2,    185.9,2,    185.5,2,    79.60,2,    31.29,2,     0.00,2,     2.15,2,    -0.02,2, -999.000,9, -999.000,9,     -999,9,   -999.0,9,   -999.0,9,-999.0000,9,  -999.00,  -999.00,9,   -999.0,9,   -999.0,  -999.00,9,   0.00037,2,    0.001,2,    0.042,2,    0.000,2,   99.964,2
  096U20180111,  SR03,    28,  1,     16,     16,2,20180121,1422,-53.1293, 142.1403, 3082,   1401.3,   2.0944,  34.7322,2,  34.7326,2,    188.6,2,    189.1,2,    81.20,2,    30.85,2,     0.01,2,     2.12,2,    -0.02,2, -999.000,9, -999.000,9,     -999,9,   -999.0,9,   -999.0,9,-999.0000,9,  -999.00,  -999.00,9,   -999.0,9,   -999.0,  -999.00,9,   0.00036,2,    0.001,2,    0.042,2,    0.000,2,   99.964,2
  096U20180111,  SR03,    28,  1,     15,     15,2,20180121,1422,-53.1293, 142.1403, 3082,   1500.8,   2.0407,  34.7381,2,  34.7327,4,    191.5,2,    191.0,2,    82.30,2,    30.70,2,     0.00,2,     2.11,2,    -0.02,2,    0.215,2,    0.106,2,     0.02,2,   2249.0,2,   2349.5,2,-999.0000,9,  -999.00,    19.55,2,   -999.0,9,   -999.0,  -999.00,9,   0.00037,2,    0.001,2,    0.042,2,    0.000,2,   99.983,2
  096U20180111,  SR03,    28,  1,     14,     14,2,20180121,1422,-53.1293, 142.1403, 3082,   1600.1,   1.9668,  34.7434,2,  34.7443,2,    193.3,2,    193.0,2,    84.30,2,    30.52,2,     0.00,2,     2.10,2,    -0.02,2, -999.000,9, -999.000,9,     -999,9,   -999.0,9,   -999.0,9,-999.0000,9,  -999.00,  -999.00,9,   -999.0,9,   -999.0,  -999.00,9,   0.00033,2,    0.001,2,    0.042,2,    0.000,2,   99.988,2
  096U20180111,  SR03,    28,  1,     13,     13,2,20180121,1422,-53.1293, 142.1403, 3082,   1751.0,   1.8488,  34.7460,2,  34.7466,2,    195.3,2,    195.7,2,    87.40,2,    30.49,2,     0.00,2,     2.09,2,    -0.02,2,    0.179,2,    0.086,2,     0.02,2,   -999.0,9,   -999.0,9,-999.0000,9,  -999.00,    18.90,2,   -999.0,9,   -999.0,  -999.00,9,   0.00033,2,    0.000,2,    0.042,2,    0.000,2,   99.994,2
  096U20180111,  SR03,    28,  1,     12,     12,2,20180121,1422,-53.1293, 142.1403, 3082,   1875.1,   1.7201,  34.7450,2,  34.7462,2,    196.9,2,    197.5,2,    91.50,2,    30.53,2,     0.00,2,     2.11,2,    -0.02,2, -999.000,9, -999.000,9,     -999,9,   -999.0,9,   -999.0,9,-999.0000,9,  -999.00,  -999.00,9,   -999.0,9,   -999.0,  -999.00,9,   0.00033,2,    0.000,2,    0.036,2,    0.000,2,  100.003,2
  096U20180111,  SR03,    28,  1,     11,     11,2,20180121,1422,-53.1293, 142.1403, 3082,   1999.7,   1.5961,  34.7416,2,  34.7420,2,    197.8,2,    198.5,2,    96.10,2,    30.80,2,     0.00,2,     2.12,2,    -0.02,2,    0.151,2,    0.070,2,        0,2,   2253.8,2,   2358.2,2,-999.0000,9,  -999.00,    18.52,2,   -999.0,9,   -999.0,  -999.00,9,   0.00033,2,    0.000,2,    0.036,2,    0.000,2,  100.000,2
  096U20180111,  SR03,    28,  1,     10,     10,2,20180121,1422,-53.1293, 142.1403, 3082,   2250.6,   1.3550,  34.7329,2,-999.0000,9,    200.8,2,   -999.0,9,  -999.00,9,  -999.00,9,  -999.00,9,  -999.00,9,     -999,9, -999.000,9, -999.000,9,     -999,9,   -999.0,9,   -999.0,9,-999.0000,9,  -999.00,  -999.00,9,   -999.0,9,   -999.0,  -999.00,9,   0.00032,2,    0.000,2,    0.036,2,    0.000,2,  100.003,2
  096U20180111,  SR03,    28,  1,      9,      9,2,20180121,1422,-53.1293, 142.1403, 3082,   2250.5,   1.3542,  34.7328,2,  34.7334,2,    200.8,2,    201.5,2,   103.10,2,    31.07,2,     0.00,2,     2.15,2,    -0.02,2, -999.000,9, -999.000,9,     -999,9,   -999.0,9,   -999.0,9,-999.0000,9,  -999.00,  -999.00,9,   -999.0,9,   -999.0,  -999.00,9,   0.00032,2,    0.000,2,    0.036,2,    0.000,2,  100.002,2
  096U20180111,  SR03,    28,  1,      8,      8,2,20180121,1422,-53.1293, 142.1403, 3082,   2500.9,   1.0934,  34.7206,2,-999.0000,9,    202.7,2,   -999.0,9,  -999.00,9,  -999.00,9,  -999.00,9,  -999.00,9,     -999,9, -999.000,9, -999.000,9,     -999,9,   -999.0,9,   -999.0,9,-999.0000,9,  -999.00,  -999.00,9,   -999.0,9,   -999.0,  -999.00,9,   0.00031,2,    0.001,2,    0.042,2,    0.000,2,   99.978,2
  096U20180111,  SR03,    28,  1,      7,      7,2,20180121,1422,-53.1293, 142.1403, 3082,   2500.8,   1.0922,  34.7207,2,  34.7209,2,    202.7,2,    203.5,2,   112.80,2,    31.66,2,     0.00,2,     2.19,2,    -0.02,2,    0.175,2,    0.080,2,     0.04,2,   2262.7,2,   2367.5,2,-999.0000,9,  -999.00,    18.38,2,   -999.0,9,   -999.0,  -999.00,9,   0.00035,2,    0.001,2,    0.042,2,    0.000,2,   99.973,2
  096U20180111,  SR03,    28,  1,      6,      6,2,20180121,1422,-53.1293, 142.1403, 3082,   2750.7,   0.9977,  34.7157,2,  34.7164,2,    204.8,2,    205.0,2,   115.60,2,    31.80,2,     0.00,2,     2.20,2,    -0.02,2,    0.219,2,    0.104,2,     0.08,3,   -999.0,9,   -999.0,9,-999.0000,9,  -999.00,    18.43,2,   -999.0,9,   -999.0,  -999.00,9,   0.00036,2,    0.002,2,    0.036,2,    0.000,2,   99.958,2
  096U20180111,  SR03,    28,  1,      5,      5,2,20180121,1422,-53.1293, 142.1403, 3082,   2999.8,   0.9069,  34.7104,2,  34.7108,2,    207.0,2,    207.2,2,   118.90,2,    31.91,2,     0.00,2,     2.21,2,    -0.02,2,    0.282,2,    0.132,2,    -0.01,2,   -999.0,9,   -999.0,9,-999.0000,9,  -999.00,    18.03,2,   -999.0,9,   -999.0,  -999.00,9,   0.00039,2,    0.003,2,    0.036,2,    0.000,2,   99.924,2
  096U20180111,  SR03,    28,  1,      4,      4,2,20180121,1422,-53.1293, 142.1403, 3082,   3100.5,   0.8603,  34.7078,2,  34.7084,2,    208.2,2,    208.2,2,   120.60,2,    31.90,2,     0.00,2,     2.22,2,    -0.02,2, -999.000,9, -999.000,9,     -999,9,   -999.0,9,   -999.0,9,-999.0000,9,  -999.00,  -999.00,9,   -999.0,9,   -999.0,  -999.00,9,   0.00047,2,    0.007,2,    0.036,2,    0.000,2,   99.815,2
  096U20180111,  SR03,    28,  1,      3,      3,2,20180121,1422,-53.1293, 142.1403, 3082,   3141.6,   0.8611,  34.7077,2,-999.0000,9,    208.7,2,   -999.0,9,  -999.00,9,  -999.00,9,  -999.00,9,  -999.00,9,     -999,9, -999.000,9, -999.000,9,     -999,9,   -999.0,9,   -999.0,9,-999.0000,9,  -999.00,  -999.00,9,   -999.0,9,   -999.0,  -999.00,9,   0.00050,2,    0.009,2,    0.042,2,    0.000,2,   99.776,2
  096U20180111,  SR03,    28,  1,      2,      2,2,20180121,1422,-53.1293, 142.1403, 3082,   3141.7,   0.8612,  34.7076,2,-999.0000,9,    208.7,2,   -999.0,9,  -999.00,9,  -999.00,9,  -999.00,9,  -999.00,9,     -999,9, -999.000,9, -999.000,9,     -999,9,   -999.0,9,   -999.0,9,-999.0000,9,  -999.00,  -999.00,9,   -999.0,9,   -999.0,  -999.00,9,   0.00081,2,    0.009,2,    0.036,2,    0.000,2,   99.775,2
  096U20180111,  SR03,    28,  1,      1,      1,2,20180121,1422,-53.1293, 142.1403, 3082,   3141.7,   0.8612,  34.7076,2,  34.7081,2,    208.7,2,    208.2,2,   120.80,2,    31.79,2,     0.00,2,     2.22,2,    -0.02,2,    0.324,2,    0.146,2,    -0.01,2,   2261.7,2,   2365.6,2,-999.0000,9,  -999.00,    18.36,2,   -999.0,9,   -999.0,  -999.00,9,   0.00051,2,    0.009,2,    0.036,2,    0.000,2,   99.785,2