BOTTLE,20230418CCHSIOENA
EXPOCODE,SECT_ID,STNNBR,CASTNO,SAMPNO,BTLNBR,BTLNBR_FLAG_W,DATE,TIME,LATITUDE,LONGITUDE,DEPTH,CTDPRS,CTDTMP,CTDSAL,CTDSAL_FLAG_W,SALNTY,SALNTY_FLAG_W,CTDOXY,CTDOXY_FLAG_W,OXYGEN,OXYGEN_FLAG_W,SILCAT,SILCAT_FLAG_W,NITRAT,NITRAT_FLAG_W,NITRIT,NITRIT_FLAG_W,PHSPHT,PHSPHT_FLAG_W,NH4,NH4_FLAG_W,CFC-11,CFC-11_FLAG_W,CFC-12,CFC-12_FLAG_W,SF6,SF6_FLAG_W,TCARBN,TCARBN_FLAG_W,ALKALI,ALKALI_FLAG_W,PH_TOT,PH_TOT_FLAG_W,PH_TMP,N2O,N2O_FLAG_W,DELC14,DELC14_FLAG_W,C14ERR,DELC13,DELC13_FLAG_W,CTDBETA700,CTDBETA700_FLAG_W,CTDBEAMCP,CTDBEAMCP_FLAG_W,CTDFLUOR,CTDFLUOR_FLAG_W,PAR,PAR_FLAG_W,CTDXMISS,CTDXMISS_FLAG_W
,,,,,,,,,,,METERS,DBAR,ITS-90,PSS-78,,PSS-78,,UMOL/KG,,UMOL/KG,,UMOL/KG,,UMOL/KG,,UMOL/KG,,UMOL/KG,,UMOL/KG,,PMOL/KG,,PMOL/KG,,FMOL/KG,,UMOL/KG,,UMOL/KG,,,,DEG C,NMOL/KG,,/MILLE,,/MILLE,/MILLE,,VOLTS,,1/M,,MG/M^3,,UMOL/M^2/SEC,,%TRANS,
  096U20180111,  SR03,     3,  1,     36,     36,2,20180111,1359,-44.1198, 146.2202, 1019,      6.1,  14.9972,  35.1391,2,-999.0000,9,    265.0,2,   -999.0,9,  -999.00,9,  -999.00,9,  -999.00,9,  -999.00,9,     -999,9, -999.000,9, -999.000,9,     -999,9,   -999.0,9,   -999.0,9,-999.0000,9,  -999.00,  -999.00,9,   -999.0,9,   -999.0,  -999.00,9,   0.00293,2,    0.502,2,    0.954,2,    2.210,2,   88.218,2
  096U20180111,  SR03,     3,  1,     35,     35,2,20180111,1359,-44.1198, 146.2202, 1019,      6.2,  14.9946,  35.1392,2,-999.0000,9,    265.0,2,   -999.0,9,  -999.00,9,  -999.00,9,  -999.00,9,  -999.00,9,     -999,9, -999.000,9, -999.000,9,     -999,9,   -999.0,9,   -999.0,9,-999.0000,9,  -999.00,  -999.00,9,   -999.0,9,   -999.0,  -999.00,9,   0.00288,2,    0.380,2,    0.960,2,    2.260,2,   90.932,2
  096U20180111,  SR03,     3,  1,     34,     34,2,20180111,1359,-44.1198, 146.2202, 1019,      6.1,  14.9956,  35.1394,2,  35.1396,2,    265.0,2,    261.9,2,     0.10,2,     1.41,2,     0.08,2,     0.26,2,     0.09,2,    2.576,2,    1.565,2,     2.06,2,   2070.7,6,   2321.3,6,-999.0000,9,  -999.00,     8.31,2,   -999.0,9,   -999.0,  -999.00,9,   0.00276,2,    0.379,2,    0.978,2,    2.300,2,   90.970,2
  096U20180111,  SR03,     3,  1,     33,     33,2,20180111,1359,-44.1198, 146.2202, 1019,     15.8,  14.9010,  35.1433,2,-999.0000,9,    265.7,2,   -999.0,9,  -999.00,9,  -999.00,9,  -999.00,9,  -999.00,9,     -999,9, -999.000,9, -999.000,9,     -999,9,   -999.0,9,   -999.0,9,-999.0000,9,  -999.00,  -999.00,9,   -999.0,9,   -999.0,  -999.00,9,   0.00275,2,    0.233,2,    1.140,2,    0.385,2,   94.351,2
  096U20180111,  SR03,     3,  1,     32,     32,2,20180111,1359,-44.1198, 146.2202, 1019,     15.8,  14.8993,  35.1437,2,-999.0000,9,    265.7,2,   -999.0,9,  -999.00,9,  -999.00,9,  -999.00,9,  -999.00,9,     -999,9, -999.000,9, -999.000,9,     -999,9,   -999.0,9,   -999.0,9,-999.0000,9,  -999.00,  -999.00,9,   -999.0,9,   -999.0,  -999.00,9,   0.00281,2,    0.236,2,    1.116,2,    0.384,2,   94.260,2
  096U20180111,  SR03,     3,  1,     31,     31,2,20180111,1359,-44.1198, 146.2202, 1019,     15.8,  14.9057,  35.1422,2,  35.1450,2,    265.7,2,    263.8,2,     0.00,2,     1.57,2,     0.10,2,     0.29,2,     0.26,2, -999.000,9, -999.000,9,     -999,9,   -999.0,9,   -999.0,9,-999.0000,9,  -999.00,  -999.00,9,   -999.0,9,   -999.0,  -999.00,9,   0.00274,2,    0.235,2,    1.062,2,    0.371,2,   94.292,2
  096U20180111,  SR03,     3,  1,     30,     30,2,20180111,1359,-44.1198, 146.2202, 1019,     40.5,  14.2594,  35.1458,2,-999.0000,9,    258.8,2,   -999.0,9,  -999.00,9,  -999.00,9,  -999.00,9,  -999.00,9,     -999,9, -999.000,9, -999.000,9,     -999,9,   -999.0,9,   -999.0,9,-999.0000,9,  -999.00,  -999.00,9,   -999.0,9,   -999.0,  -999.00,9,   0.00247,2,    0.222,2,    2.346,2,    0.000,2,   94.596,2
  096U20180111,  SR03,     3,  1,     29,     29,2,20180111,1359,-44.1198, 146.2202, 1019,     40.5,  14.2610,  35.1455,2,  35.1454,2,    258.8,2,    259.9,2,     0.00,2,     1.57,2,     0.10,2,     0.29,2,     0.26,2, -999.000,9, -999.000,9,     -999,9,   2071.9,2,   2321.2,2,-999.0000,9,  -999.00,  -999.00,9,   -999.0,9,   -999.0,  -999.00,9,   0.00246,2,    0.227,2,    2.448,2,    0.000,2,   94.483,2
  096U20180111,  SR03,     3,  1,     28,     28,2,20180111,1359,-44.1198, 146.2202, 1019,     40.7,  14.2606,  35.1459,2,-999.0000,9,    258.8,2,   -999.0,9,  -999.00,9,  -999.00,9,  -999.00,9,  -999.00,9,     -999,9, -999.000,9, -999.000,9,     -999,9,   -999.0,9,   -999.0,9,-999.0000,9,  -999.00,  -999.00,9,   -999.0,9,   -999.0,  -999.00,9,   0.00256,2,    0.220,2,    2.496,2,    0.000,2,   94.640,2
  096U20180111,  SR03,     3,  1,     27,     27,2,20180111,1359,-44.1198, 146.2202, 1019,     55.9,  14.1569,  35.1412,2,  35.1402,2,    253.0,2,    254.4,2,     0.10,2,     1.87,2,     0.12,2,     0.33,2,      0.6,2, -999.000,9, -999.000,9,     -999,9,   -999.0,9,   -999.0,9,-999.0000,9,  -999.00,  -999.00,9,   -999.0,9,   -999.0,  -999.00,9,   0.00213,2,    0.158,2,    1.638,2,    0.000,2,   96.122,2
  096U20180111,  SR03,     3,  1,     26,     26,2,20180111,1359,-44.1198, 146.2202, 1019,     55.8,  14.1552,  35.1410,2,-999.0000,9,    253.0,2,   -999.0,9,  -999.00,9,  -999.00,9,  -999.00,9,  -999.00,9,     -999,9, -999.000,9, -999.000,9,     -999,9,   -999.0,9,   -999.0,9,-999.0000,9,  -999.00,  -999.00,9,   -999.0,9,   -999.0,  -999.00,9,   0.00184,2,    0.153,2,    1.674,2,    0.000,2,   96.255,2
  096U20180111,  SR03,     3,  1,     25,     25,2,20180111,1359,-44.1198, 146.2202, 1019,     75.5,  13.2119,  35.1249,2,  35.1258,2,    247.3,2,    247.3,2,     1.00,2,     5.15,2,     0.25,2,     0.53,2,     0.41,2, -999.000,9, -999.000,9,     -999,9,   2099.5,2,   2318.9,2,-999.0000,9,  -999.00,  -999.00,9,   -999.0,9,   -999.0,  -999.00,9,   0.00176,2,    0.096,2,    0.858,2,    0.000,2,   97.620,2
  096U20180111,  SR03,     3,  1,     24,     24,2,20180111,1359,-44.1198, 146.2202, 1019,     75.5,  13.1727,  35.1240,2,-999.0000,9,    247.3,2,   -999.0,9,  -999.00,9,  -999.00,9,  -999.00,9,  -999.00,9,     -999,9, -999.000,9, -999.000,9,     -999,9,   -999.0,9,   -999.0,9,-999.0000,9,  -999.00,  -999.00,9,   -999.0,9,   -999.0,  -999.00,9,   0.00164,2,    0.093,2,    0.804,2,    0.000,2,   97.711,2
  096U20180111,  SR03,     3,  1,     23,     23,2,20180111,1359,-44.1198, 146.2202, 1019,    101.1,  12.1153,  35.1364,2,-999.0000,9,    245.5,2,   -999.0,9,  -999.00,9,  -999.00,9,  -999.00,9,  -999.00,9,     -999,9, -999.000,9, -999.000,9,     -999,9,   -999.0,9,   -999.0,9,-999.0000,9,  -999.00,  -999.00,9,   -999.0,9,   -999.0,  -999.00,9,   0.00068,2,    0.030,2,    0.156,2,    0.000,2,   99.243,2
  096U20180111,  SR03,     3,  1,     22,     22,2,20180111,1359,-44.1198, 146.2202, 1019,    101.1,  12.1159,  35.1364,2,-999.0000,9,    245.5,2,   -999.0,9,  -999.00,9,  -999.00,9,  -999.00,9,  -999.00,9,     -999,9, -999.000,9, -999.000,9,     -999,9,   -999.0,9,   -999.0,9,-999.0000,9,  -999.00,  -999.00,9,   -999.0,9,   -999.0,  -999.00,9,   0.00064,2,    0.031,2,    0.174,2,    0.000,2,   99.239,2
  096U20180111,  SR03,     3,  1,     21,     21,2,20180111,1359,-44.1198, 146.2202, 1019,    101.1,  12.1124,  35.1368,2,  35.1358,2,    245.5,2,    247.0,2,     1.70,2,     8.09,2,     0.06,2,     0.64,2,        0,2,    2.838,2,    1.675,2,     2.29,2,   2115.4,2,   2315.8,2,-999.0000,9,  -999.00,     9.39,2,   -999.0,9,   -999.0,  -999.00,9,   0.00070,2,    0.031,2,    0.198,2,    0.000,2,   99.232,2
  096U20180111,  SR03,     3,  1,     20,     20,2,20180111,1359,-44.1198, 146.2202, 1019,    226.2,  11.1987,  35.0189,2,-999.0000,9,    250.5,2,   -999.0,9,  -999.00,9,  -999.00,9,  -999.00,9,  -999.00,9,     -999,9, -999.000,9, -999.000,9,     -999,9,   -999.0,9,   -999.0,9,-999.0000,9,  -999.00,  -999.00,9,   -999.0,9,   -999.0,  -999.00,9,   0.00061,2,    0.021,2,    0.048,2,    0.000,2,   99.469,2
  096U20180111,  SR03,     3,  1,     19,     19,2,20180111,1359,-44.1198, 146.2202, 1019,    226.1,  11.1969,  35.0187,2,-999.0000,9,    250.5,2,   -999.0,9,  -999.00,9,  -999.00,9,  -999.00,9,  -999.00,9,     -999,9, -999.000,9, -999.000,9,     -999,9,   -999.0,9,   -999.0,9,-999.0000,9,  -999.00,  -999.00,9,   -999.0,9,   -999.0,  -999.00,9,   0.00061,2,    0.020,2,    0.042,2,    0.000,2,   99.490,2
  096U20180111,  SR03,     3,  1,     18,     18,2,20180111,1359,-44.1198, 146.2202, 1019,    351.4,  10.2520,  34.8474,2,-999.0000,9,    248.3,2,   -999.0,9,  -999.00,9,  -999.00,9,  -999.00,9,  -999.00,9,     -999,9, -999.000,9, -999.000,9,     -999,9,   -999.0,9,   -999.0,9,-999.0000,9,  -999.00,  -999.00,9,   -999.0,9,   -999.0,  -999.00,9,   0.00054,2,    0.017,2,    0.030,2,    0.000,2,   99.580,2
  096U20180111,  SR03,     3,  1,     17,     17,2,20180111,1359,-44.1198, 146.2202, 1019,    351.3,  10.2543,  34.8477,2,  34.8457,2,    248.3,2,    247.0,2,     3.60,2,    13.19,2,     0.02,2,     0.94,2,        0,2,    3.016,6,    1.791,6,     2.26,2,   2127.6,2,   2303.6,2,-999.0000,9,  -999.00,    10.45,6,   -999.0,9,   -999.0,  -999.00,9,   0.00055,2,    0.017,2,    0.036,2,    0.000,2,   99.579,2
  096U20180111,  SR03,     3,  1,     16,     16,2,20180111,1359,-44.1198, 146.2202, 1019,    450.9,   9.3409,  34.6842,2,-999.0000,9,    245.0,2,   -999.0,9,  -999.00,9,  -999.00,9,  -999.00,9,  -999.00,9,     -999,9, -999.000,9, -999.000,9,     -999,9,   -999.0,9,   -999.0,9,-999.0000,9,  -999.00,  -999.00,9,   -999.0,9,   -999.0,  -999.00,9,   0.00051,2,    0.014,2,    0.036,2,    0.000,2,   99.652,2
  096U20180111,  SR03,     3,  1,     15,     15,2,20180111,1359,-44.1198, 146.2202, 1019,    450.7,   9.3392,  34.6838,2,-999.0000,9,    245.0,2,   -999.0,9,  -999.00,9,  -999.00,9,  -999.00,9,  -999.00,9,     -999,9, -999.000,9, -999.000,9,     -999,9,   -999.0,9,   -999.0,9,-999.0000,9,  -999.00,  -999.00,9,   -999.0,9,   -999.0,  -999.00,9,   0.00052,2,    0.013,2,    0.036,2,    0.000,2,   99.679,2
  096U20180111,  SR03,     3,  1,     14,     14,2,20180111,1359,-44.1198, 146.2202, 1019,    551.0,   8.8828,  34.6177,2,-999.0000,9,    241.7,2,   -999.0,9,  -999.00,9,  -999.00,9,  -999.00,9,  -999.00,9,     -999,9, -999.000,9, -999.000,9,     -999,9,   -999.0,9,   -999.0,9,-999.0000,9,  -999.00,  -999.00,9,   -999.0,9,   -999.0,  -999.00,9,   0.00048,2,    0.012,2,    0.036,2,    0.000,2,   99.711,2
  096U20180111,  SR03,     3,  1,     13,     13,2,20180111,1359,-44.1198, 146.2202, 1019,    551.0,   8.8830,  34.6178,2,  34.6174,2,    241.4,2,    243.1,2,     5.70,2,    17.55,2,     0.01,2,     1.21,2,        0,2,    3.094,2,    1.789,2,     2.11,2,   2140.5,2,   2294.1,2,-999.0000,9,  -999.00,    11.86,2,   -999.0,9,   -999.0,  -999.00,9,   0.00051,2,    0.012,2,    0.036,2,    0.000,2,   99.710,2
  096U20180111,  SR03,     3,  1,     12,     12,2,20180111,1359,-44.1198, 146.2202, 1019,    625.5,   8.3577,  34.5925,2,-999.0000,9,    211.9,2,   -999.0,9,  -999.00,9,  -999.00,9,  -999.00,9,  -999.00,9,     -999,9, -999.000,9, -999.000,9,     -999,9,   -999.0,9,   -999.0,9,-999.0000,9,  -999.00,  -999.00,9,   -999.0,9,   -999.0,  -999.00,9,   0.00050,2,    0.012,2,    0.036,2,    0.000,2,   99.712,2
  096U20180111,  SR03,     3,  1,     11,     11,2,20180111,1359,-44.1198, 146.2202, 1019,    625.3,   8.3479,  34.5918,2,  34.5905,2,    211.9,2,    212.9,2,    10.40,2,    21.16,2,     0.01,2,     1.45,2,    -0.01,2,    2.573,2,    1.451,2,     1.14,2,   2156.3,2,   2292.0,6,-999.0000,9,  -999.00,    14.44,2,   -999.0,9,   -999.0,  -999.00,9,   0.00048,2,    0.012,2,    0.036,2,    0.000,2,   99.712,2
  096U20180111,  SR03,     3,  1,     10,     10,2,20180111,1359,-44.1198, 146.2202, 1019,    700.8,   7.9283,  34.5596,2,-999.0000,9,    202.2,2,   -999.0,9,  -999.00,9,  -999.00,9,  -999.00,9,  -999.00,9,     -999,9, -999.000,9, -999.000,9,     -999,9,   -999.0,9,   -999.0,9,-999.0000,9,  -999.00,  -999.00,9,   -999.0,9,   -999.0,  -999.00,9,   0.00047,2,    0.010,2,    0.036,2,    0.000,2,   99.749,2
  096U20180111,  SR03,     3,  1,      9,      9,2,20180111,1359,-44.1198, 146.2202, 1019,    700.8,   7.9219,  34.5590,2,  34.5578,2,    202.2,2,    200.4,2,    13.30,2,    23.22,2,     0.01,2,     1.57,2,    -0.01,2,    2.198,2,    1.191,2,     0.74,2,   2162.9,2,   2292.6,2,-999.0000,9,  -999.00,    15.74,2,   -999.0,9,   -999.0,  -999.00,9,   0.00045,2,    0.010,2,    0.042,2,    0.000,2,   99.740,2
  096U20180111,  SR03,     3,  1,      8,      8,2,20180111,1359,-44.1198, 146.2202, 1019,    800.5,   6.7032,  34.4707,2,-999.0000,9,    195.8,2,   -999.0,9,  -999.00,9,  -999.00,9,  -999.00,9,  -999.00,9,     -999,9, -999.000,9, -999.000,9,     -999,9,   -999.0,9,   -999.0,9,-999.0000,9,  -999.00,  -999.00,9,   -999.0,9,   -999.0,  -999.00,9,   0.00048,2,    0.008,2,    0.042,2,    0.000,2,   99.807,2
  096U20180111,  SR03,     3,  1,      7,      7,2,20180111,1359,-44.1198, 146.2202, 1019,    800.6,   6.7075,  34.4709,2,  34.4712,2,    195.8,2,    194.8,2,    20.70,2,    26.42,2,     0.01,2,     1.79,2,    -0.01,2,    1.714,2,    0.913,2,     0.45,2,   2177.3,2,   2296.2,2,-999.0000,9,  -999.00,    17.22,2,   -999.0,9,   -999.0,  -999.00,9,   0.00047,2,    0.008,2,    0.036,2,    0.000,2,   99.811,2
  096U20180111,  SR03,     3,  1,      6,      6,2,20180111,1359,-44.1198, 146.2202, 1019,    900.8,   5.3129,  34.4460,2,-999.0000,9,    185.1,2,   -999.0,9,  -999.00,9,  -999.00,9,  -999.00,9,  -999.00,9,     -999,9, -999.000,9, -999.000,9,     -999,9,   -999.0,9,   -999.0,9,-999.0000,9,  -999.00,  -999.00,9,   -999.0,9,   -999.0,  -999.00,9,   0.00045,2,    0.007,2,    0.042,2,    0.000,2,   99.821,2
  096U20180111,  SR03,     3,  1,      5,      5,2,20180111,1359,-44.1198, 146.2202, 1019,    900.9,   5.2917,  34.4461,2,  34.4459,2,    185.1,2,    184.8,2,    37.20,2,    29.85,2,     0.01,2,     2.03,2,        0,2,    1.078,2,    0.574,2,     0.26,2,   2203.4,2,   2311.5,2,-999.0000,9,  -999.00,    18.41,2,   -999.0,9,   -999.0,  -999.00,9,   0.00044,2,    0.007,2,    0.042,2,    0.000,2,   99.818,2
  096U20180111,  SR03,     3,  1,      4,      4,2,20180111,1359,-44.1198, 146.2202, 1019,    975.4,   4.5872,  34.4476,2,  34.4467,2,    179.6,2,    180.2,2,    46.30,2,    31.36,2,     0.02,2,     2.15,2,    -0.01,2,    0.933,2,    0.494,2,     0.28,2,   2218.3,2,   2320.2,2,-999.0000,9,  -999.00,    19.43,2,   -999.0,9,   -999.0,  -999.00,9,   0.00045,2,    0.007,2,    0.048,2,    0.000,2,   99.825,2
  096U20180111,  SR03,     3,  1,      3,      3,2,20180111,1359,-44.1198, 146.2202, 1019,    975.4,   4.5860,  34.4476,2,-999.0000,9,    179.6,2,   -999.0,9,  -999.00,9,  -999.00,9,  -999.00,9,  -999.00,9,     -999,9, -999.000,9, -999.000,9,     -999,9,   -999.0,9,   -999.0,9,-999.0000,9,  -999.00,  -999.00,9,   -999.0,9,   -999.0,  -999.00,9,   0.00042,2,    0.007,2,    0.048,2,    0.000,2,   99.827,2
  096U20180111,  SR03,     3,  1,      2,      2,2,20180111,1359,-44.1198, 146.2202, 1019,   1027.9,   4.2202,  34.4602,2,-999.0000,9,    175.2,2,   -999.0,9,  -999.00,9,  -999.00,9,  -999.00,9,  -999.00,9,     -999,9, -999.000,9, -999.000,9,     -999,9,   -999.0,9,   -999.0,9,-999.0000,9,  -999.00,  -999.00,9,   -999.0,9,   -999.0,  -999.00,9,   0.00039,2,    0.006,2,    0.048,2,    0.000,2,   99.840,2
  096U20180111,  SR03,     3,  1,      1,      1,2,20180111,1359,-44.1198, 146.2202, 1019,   1027.8,   4.2206,  34.4602,2,  34.4593,2,    175.2,2,    176.2,2,    52.40,2,    32.22,2,     0.01,2,     2.21,2,        0,2,    0.776,2,    0.409,2,     0.19,2,   2227.0,6,   2325.1,6,-999.0000,9,  -999.00,    19.74,2,   -999.0,9,   -999.0,  -999.00,9,   0.00040,2,    0.006,2,    0.042,2,    0.000,2,   99.839,2