BOTTLE,20230418CCHSIOENA
EXPOCODE,SECT_ID,STNNBR,CASTNO,SAMPNO,BTLNBR,BTLNBR_FLAG_W,DATE,TIME,LATITUDE,LONGITUDE,DEPTH,CTDPRS,CTDTMP,CTDSAL,CTDSAL_FLAG_W,SALNTY,SALNTY_FLAG_W,CTDOXY,CTDOXY_FLAG_W,OXYGEN,OXYGEN_FLAG_W,SILCAT,SILCAT_FLAG_W,NITRAT,NITRAT_FLAG_W,NITRIT,NITRIT_FLAG_W,PHSPHT,PHSPHT_FLAG_W,NH4,NH4_FLAG_W,CFC-11,CFC-11_FLAG_W,CFC-12,CFC-12_FLAG_W,SF6,SF6_FLAG_W,TCARBN,TCARBN_FLAG_W,ALKALI,ALKALI_FLAG_W,PH_TOT,PH_TOT_FLAG_W,PH_TMP,N2O,N2O_FLAG_W,DELC14,DELC14_FLAG_W,C14ERR,DELC13,DELC13_FLAG_W,CTDBETA700,CTDBETA700_FLAG_W,CTDBEAMCP,CTDBEAMCP_FLAG_W,CTDFLUOR,CTDFLUOR_FLAG_W,PAR,PAR_FLAG_W,CTDXMISS,CTDXMISS_FLAG_W
,,,,,,,,,,,METERS,DBAR,ITS-90,PSS-78,,PSS-78,,UMOL/KG,,UMOL/KG,,UMOL/KG,,UMOL/KG,,UMOL/KG,,UMOL/KG,,UMOL/KG,,PMOL/KG,,PMOL/KG,,FMOL/KG,,UMOL/KG,,UMOL/KG,,,,DEG C,NMOL/KG,,/MILLE,,/MILLE,/MILLE,,VOLTS,,1/M,,MG/M^3,,UMOL/M^2/SEC,,%TRANS,
  096U20180111,  SR03,    92,  1,     36,     36,2,20180211,2318,-63.9747, 132.1063, 3204,     10.5,   1.3053,  33.8521,2,  33.8534,2,    332.5,2,    332.6,2,    40.80,2,    26.21,2,     0.24,2,     1.71,2,     0.44,2,    5.493,2,    2.891,2,     3.41,3,   2163.4,2,   2290.2,2,-999.0000,9,  -999.00,    14.37,2,   -126.5,2,      1.8,     0.85,2,   0.00160,2,    0.191,2,    0.282,2,  121.000,2,   95.327,2
  096U20180111,  SR03,    92,  1,     35,     35,2,20180211,2318,-63.9747, 132.1063, 3204,     10.8,   1.3043,  33.8522,2,-999.0000,9,    332.5,2,   -999.0,9,  -999.00,9,  -999.00,9,  -999.00,9,  -999.00,9,     -999,9, -999.000,9, -999.000,9,     -999,9,   -999.0,9,   -999.0,9,-999.0000,9,  -999.00,  -999.00,9,   -999.0,9,   -999.0,  -999.00,9,   0.00174,2,    0.193,2,    0.300,2,  120.000,2,   95.290,2
  096U20180111,  SR03,    92,  1,     34,     34,2,20180211,2318,-63.9747, 132.1063, 3204,     28.9,   1.2770,  33.8536,2,  33.8553,2,    333.5,2,    332.8,2,    40.90,2,    26.17,2,     0.24,2,     1.72,2,     0.45,2, -999.000,9, -999.000,9,     -999,9,   -999.0,9,   -999.0,9,-999.0000,9,  -999.00,  -999.00,9,   -999.0,9,   -999.0,  -999.00,9,   0.00150,2,    0.192,2,    0.894,2,   39.600,2,   95.322,2
  096U20180111,  SR03,    92,  1,     33,     33,2,20180211,2318,-63.9747, 132.1063, 3204,     49.8,  -1.0093,  34.1106,2,-999.0000,9,    313.1,2,   -999.0,9,  -999.00,9,  -999.00,9,  -999.00,9,  -999.00,9,     -999,9, -999.000,9, -999.000,9,     -999,9,   -999.0,9,   -999.0,9,-999.0000,9,  -999.00,  -999.00,9,   -999.0,9,   -999.0,  -999.00,9,   0.00161,2,    0.154,2,    1.392,2,   11.700,2,   96.221,2
  096U20180111,  SR03,    92,  1,     32,     32,2,20180211,2318,-63.9747, 132.1063, 3204,     49.8,  -1.0190,  34.1119,2,  34.1213,2,    313.1,2,    313.3,2,    53.10,2,    28.74,2,     0.14,2,     2.09,2,     0.77,2, -999.000,9, -999.000,9,     -999,9,   -999.0,9,   -999.0,9,-999.0000,9,  -999.00,  -999.00,9,   -999.0,9,   -999.0,  -999.00,9,   0.00163,2,    0.152,2,    1.368,2,   11.600,2,   96.278,2
  096U20180111,  SR03,    92,  1,     31,     31,2,20180211,2318,-63.9747, 132.1063, 3204,     80.7,  -0.3036,  34.3817,2,  34.3896,2,    273.3,2,    245.5,2,    69.70,2,    32.11,2,     0.17,2,     2.26,2,     0.03,2,    2.918,2,    1.557,2,     1.62,3,   2233.3,6,   2323.4,6,-999.0000,9,  -999.00,    20.05,2,   -999.0,9,   -999.0,  -999.00,9,   0.00067,2,    0.033,2,    0.354,2,    2.130,2,   99.173,2
  096U20180111,  SR03,    92,  1,     30,     30,2,20180211,2318,-63.9747, 132.1063, 3204,    131.0,   1.3808,  34.6036,2,  34.6028,2,    194.7,2,    190.3,2,    81.30,2,    33.18,2,     0.02,2,     2.30,2,        0,2, -999.000,9, -999.000,9,     -999,9,   2253.3,2,   2338.3,2,-999.0000,9,  -999.00,  -999.00,9,   -999.0,9,   -999.0,  -999.00,9,   0.00061,2,    0.019,2,    0.090,2,    0.287,2,   99.521,2
  096U20180111,  SR03,    92,  1,     29,     29,2,20180211,2318,-63.9747, 132.1063, 3204,    130.9,   1.3834,  34.6042,2,-999.0000,9,    194.7,2,   -999.0,9,  -999.00,9,  -999.00,9,  -999.00,9,  -999.00,9,     -999,9, -999.000,9, -999.000,9,     -999,9,   -999.0,9,   -999.0,9,-999.0000,9,  -999.00,  -999.00,9,   -999.0,9,   -999.0,  -999.00,9,   0.00061,2,    0.020,2,    0.084,2,    0.285,2,   99.513,2
  096U20180111,  SR03,    92,  1,     28,     28,2,20180211,2318,-63.9747, 132.1063, 3204,    191.5,   1.6869,  34.6769,2,  34.6772,2,    185.5,2,    190.1,3,    84.90,2,    32.50,2,     0.01,2,     2.27,2,        0,2, -999.000,9, -999.000,9,     -999,9,   -999.0,9,   -999.0,9,-999.0000,9,  -999.00,  -999.00,9,   -999.0,9,   -999.0,  -999.00,9,   0.00059,2,    0.012,2,    0.048,2,    0.016,2,   99.710,2
  096U20180111,  SR03,    92,  1,     27,     27,2,20180211,2318,-63.9747, 132.1063, 3204,    261.3,   1.7026,  34.7024,2,  34.7031,2,    187.2,2,    186.3,2,    86.70,2,    32.01,2,     0.01,2,     2.23,2,    -0.01,2, -999.000,9, -999.000,9,     -999,9,   2253.9,2,   2345.5,2,-999.0000,9,  -999.00,  -999.00,9,   -148.3,2,      1.7,     0.06,2,   0.00048,2,    0.009,2,    0.042,2,    0.000,2,   99.775,2
  096U20180111,  SR03,    92,  1,     26,     26,2,20180211,2318,-63.9747, 132.1063, 3204,    350.3,   1.5959,  34.7121,2,  34.7123,2,    191.2,2,    190.7,2,    88.50,2,    31.66,2,     0.01,2,     2.20,2,    -0.01,2, -999.000,9, -999.000,9,     -999,9,   -999.0,9,   -999.0,9,-999.0000,9,  -999.00,  -999.00,9,   -999.0,9,   -999.0,  -999.00,9,   0.00041,2,    0.005,2,    0.036,2,    0.000,2,   99.884,2
  096U20180111,  SR03,    92,  1,     25,     25,2,20180211,2318,-63.9747, 132.1063, 3204,    350.3,   1.5959,  34.7122,2,-999.0000,9,    191.2,2,   -999.0,9,  -999.00,9,  -999.00,9,  -999.00,9,  -999.00,9,     -999,9, -999.000,9, -999.000,9,     -999,9,   -999.0,9,   -999.0,9,-999.0000,9,  -999.00,  -999.00,9,   -999.0,9,   -999.0,  -999.00,9,   0.00042,2,    0.005,2,    0.042,2,    0.000,2,   99.882,2
  096U20180111,  SR03,    92,  1,     24,     24,2,20180211,2318,-63.9747, 132.1063, 3204,    449.8,   1.5251,  34.7212,2,  34.7199,2,    194.5,2,    194.4,2,    90.40,2,    31.32,2,     0.00,2,     2.18,2,    -0.01,2, -999.000,9, -999.000,9,     -999,9,   2252.5,2,   2349.9,6,-999.0000,9,  -999.00,  -999.00,9,   -149.2,2,      2.2,     0.21,2,   0.00038,2,    0.003,2,    0.036,2,    0.000,2,   99.930,2
  096U20180111,  SR03,    92,  1,     23,     23,2,20180211,2318,-63.9747, 132.1063, 3204,    550.6,   1.4964,  34.7294,2,  34.7278,2,    196.2,2,    195.4,2,    92.90,2,    31.20,2,     0.00,2,     2.17,2,    -0.01,2, -999.000,9, -999.000,9,     -999,9,   -999.0,9,   -999.0,9,-999.0000,9,  -999.00,  -999.00,9,   -999.0,9,   -999.0,  -999.00,9,   0.00034,2,    0.002,2,    0.036,2,    0.000,2,   99.954,2
  096U20180111,  SR03,    92,  1,     22,     22,2,20180211,2318,-63.9747, 132.1063, 3204,    650.9,   1.3690,  34.7269,2,  34.7266,2,    199.1,2,    198.8,2,    95.20,2,    31.21,2,     0.00,2,     2.17,2,        0,2, -999.000,9, -999.000,9,     -999,9,   -999.0,9,   -999.0,9,-999.0000,9,  -999.00,  -999.00,9,   -999.0,9,   -999.0,  -999.00,9,   0.00042,2,    0.002,2,    0.036,2,    0.000,2,   99.950,2
  096U20180111,  SR03,    92,  1,     21,     21,2,20180211,2318,-63.9747, 132.1063, 3204,    751.5,   1.3179,  34.7296,2,  34.7293,2,    199.8,2,    199.6,2,    97.90,2,    31.24,2,     0.00,2,     2.17,2,    -0.01,2, -999.000,9, -999.000,9,     -999,9,   2252.6,2,   2354.8,2,-999.0000,9,  -999.00,  -999.00,9,   -153.8,2,      1.8,     0.35,2,   0.00032,2,    0.001,2,    0.036,2,    0.000,2,   99.980,2
  096U20180111,  SR03,    92,  1,     20,     20,2,20180211,2318,-63.9747, 132.1063, 3204,    751.6,   1.3179,  34.7297,2,-999.0000,9,    199.8,2,   -999.0,9,  -999.00,9,  -999.00,9,  -999.00,9,  -999.00,9,     -999,9, -999.000,9, -999.000,9,     -999,9,   -999.0,9,   -999.0,9,-999.0000,9,  -999.00,  -999.00,9,   -999.0,9,   -999.0,  -999.00,9,   0.00033,2,    0.001,2,    0.036,2,    0.000,2,   99.973,2
  096U20180111,  SR03,    92,  1,     19,     19,2,20180211,2318,-63.9747, 132.1063, 3204,    851.8,   1.2359,  34.7294,2,  34.7297,2,    201.0,2,    201.0,2,   101.50,2,    31.31,2,     0.00,2,     2.17,2,    -0.01,2, -999.000,9, -999.000,9,     -999,9,   -999.0,9,   -999.0,9,-999.0000,9,  -999.00,  -999.00,9,   -999.0,9,   -999.0,  -999.00,9,   0.00032,2,    0.001,2,    0.036,2,    0.000,2,   99.978,2
  096U20180111,  SR03,    92,  1,     18,     18,2,20180211,2318,-63.9747, 132.1063, 3204,    851.7,   1.2350,  34.7294,2,-999.0000,9,    201.0,2,   -999.0,9,  -999.00,9,  -999.00,9,  -999.00,9,  -999.00,9,     -999,9, -999.000,9, -999.000,9,     -999,9,   -999.0,9,   -999.0,9,-999.0000,9,  -999.00,  -999.00,9,   -999.0,9,   -999.0,  -999.00,9,   0.00032,2,    0.000,2,    0.036,2,    0.000,2,   99.990,2
  096U20180111,  SR03,    92,  1,     17,     17,2,20180211,2318,-63.9747, 132.1063, 3204,   1000.8,   1.0522,  34.7191,2,  34.7204,2,    203.2,2,    204.1,2,   104.80,2,    31.55,2,     0.00,2,     2.19,2,    -0.01,2, -999.000,9, -999.000,9,     -999,9,   -999.0,9,   -999.0,9,-999.0000,9,  -999.00,  -999.00,9,   -999.0,9,   -999.0,  -999.00,9,   0.00030,2,    0.000,2,    0.036,2,    0.000,2,   99.995,2
  096U20180111,  SR03,    92,  1,     16,     16,2,20180211,2318,-63.9747, 132.1063, 3204,   1000.9,   1.0510,  34.7191,2,-999.0000,9,    203.2,2,   -999.0,9,  -999.00,9,  -999.00,9,  -999.00,9,  -999.00,9,     -999,9, -999.000,9, -999.000,9,     -999,9,   -999.0,9,   -999.0,9,-999.0000,9,  -999.00,  -999.00,9,   -999.0,9,   -999.0,  -999.00,9,   0.00036,2,    0.000,2,    0.036,2,    0.000,2,   99.996,2
  096U20180111,  SR03,    92,  1,     15,     15,2,20180211,2318,-63.9747, 132.1063, 3204,   1199.4,   0.8932,  34.7129,2,  34.7130,2,    205.4,2,    206.0,2,   109.90,2,    31.80,2,     0.00,2,     2.21,2,    -0.01,2,    0.333,2,    0.170,2,     0.07,3,   2256.7,2,   2359.2,2,-999.0000,9,  -999.00,    18.62,2,   -160.0,2,      1.7,     0.28,2,   0.00030,2,   -0.001,2,    0.036,2,    0.000,2,  100.018,2
  096U20180111,  SR03,    92,  1,     14,     14,2,20180211,2318,-63.9747, 132.1063, 3204,   1401.1,   0.7296,  34.7051,2,  34.7061,2,    207.8,2,    208.0,2,   115.20,2,    32.07,2,     0.00,2,     2.24,2,    -0.01,2, -999.000,9, -999.000,9,     -999,9,   -999.0,9,   -999.0,9,-999.0000,9,  -999.00,  -999.00,9,   -999.0,9,   -999.0,  -999.00,9,   0.00026,2,   -0.001,2,    0.036,2,    0.000,2,  100.036,2
  096U20180111,  SR03,    92,  1,     13,     13,2,20180211,2318,-63.9747, 132.1063, 3204,   1601.2,   0.5654,  34.6962,2,  34.6967,2,    212.2,2,    211.1,2,   118.80,2,    32.31,2,     0.00,2,     2.25,2,    -0.01,2,    0.415,2,    0.213,2,     0.06,3,   -999.0,9,   -999.0,9,-999.0000,9,  -999.00,    18.99,2,   -999.0,9,   -999.0,  -999.00,9,   0.00029,2,   -0.001,2,    0.036,2,    0.000,2,  100.035,2
  096U20180111,  SR03,    92,  1,     12,     12,2,20180211,2318,-63.9747, 132.1063, 3204,   1800.2,   0.3973,  34.6881,2,  34.6882,2,    213.5,2,    215.1,2,   121.90,2,    32.33,2,     0.00,2,     2.26,2,    -0.01,2,    0.538,2,    0.273,2,     0.06,3,   2260.0,2,   2359.0,2,-999.0000,9,  -999.00,    18.44,2,   -158.6,2,      1.6,     0.29,2,   0.00025,2,   -0.002,2,    0.036,2,    0.000,2,  100.062,2
  096U20180111,  SR03,    92,  1,     11,     11,2,20180211,2318,-63.9747, 132.1063, 3204,   1800.1,   0.3969,  34.6883,2,-999.0000,9,    213.5,2,   -999.0,9,  -999.00,9,  -999.00,9,  -999.00,9,  -999.00,9,     -999,9, -999.000,9, -999.000,9,     -999,9,   -999.0,9,   -999.0,9,-999.0000,9,  -999.00,  -999.00,9,   -999.0,9,   -999.0,  -999.00,9,   0.00025,2,   -0.002,2,    0.036,2,    0.000,2,  100.060,2
  096U20180111,  SR03,    92,  1,     10,     10,2,20180211,2318,-63.9747, 132.1063, 3204,   2051.2,   0.2158,  34.6791,2,  34.6790,2,    218.8,2,    220.3,2,   123.70,2,    32.47,2,     0.00,2,     2.26,2,    -0.01,2,    0.785,2,    0.400,2,     0.23,3,   -999.0,9,   -999.0,9,-999.0000,9,  -999.00,    18.62,2,   -999.0,9,   -999.0,  -999.00,9,   0.00026,2,   -0.002,2,    0.042,2,    0.000,2,  100.050,2
  096U20180111,  SR03,    92,  1,      9,      9,2,20180211,2318,-63.9747, 132.1063, 3204,   2300.9,   0.1254,  34.6762,2,  34.6762,2,    222.0,2,    223.2,2,   126.60,2,    32.54,2,     0.00,2,     2.26,2,    -0.01,2,    0.892,2,    0.447,2,     0.18,3,   2259.8,6,   2359.4,6,-999.0000,9,  -999.00,    18.88,2,   -155.5,2,      1.7,     0.40,2,   0.00026,2,   -0.002,2,    0.042,2,    0.000,2,  100.052,2
  096U20180111,  SR03,    92,  1,      8,      8,2,20180211,2318,-63.9747, 132.1063, 3204,   2550.9,   0.0094,  34.6703,2,  34.6691,2,    226.3,2,    227.4,2,   126.60,2,    32.52,2,     0.00,2,     2.26,2,    -0.01,2,    1.142,2,    0.588,2,     0.48,3,   -999.0,9,   -999.0,9,-999.0000,9,  -999.00,    18.33,2,   -999.0,9,   -999.0,  -999.00,9,   0.00025,2,   -0.002,2,    0.036,2,    0.000,2,  100.050,2
  096U20180111,  SR03,    92,  1,      7,      7,2,20180211,2318,-63.9747, 132.1063, 3204,   2801.5,  -0.1300,  34.6609,2,  34.6601,2,    232.6,2,    233.1,2,   122.80,2,    32.36,2,     0.00,2,     2.25,2,    -0.01,2,    1.585,2,    0.813,2,     0.72,3,   2258.1,2,   2356.5,2,-999.0000,9,  -999.00,    19.07,2,   -152.2,2,      1.7,     0.42,2,   0.00028,2,   -0.001,2,    0.030,2,    0.000,2,  100.023,2
  096U20180111,  SR03,    92,  1,      6,      6,2,20180211,2318,-63.9747, 132.1063, 3204,   3051.4,-999.0000,-999.0000,9,  34.6505,2,    240.0,2,   -999.0,9,  -999.00,9,  -999.00,9,     0.00,2,  -999.00,9,    -0.01,2,    2.084,2,    1.115,2,     0.98,3,   -999.0,9,   -999.0,9,-999.0000,9,  -999.00,    18.82,2,   -999.0,9,   -999.0,  -999.00,9,-999.00000,9,    0.005,2,    0.036,2,    0.000,2,   99.869,2
  096U20180111,  SR03,    92,  1,      5,      5,2,20180211,2318,-63.9747, 132.1063, 3204,   3200.8,  -0.3215,  34.6476,2,  34.6474,2,    245.7,2,    244.1,2,   105.60,2,    32.02,2,     0.00,2,     2.23,2,    -0.01,2,    2.259,2,    1.194,2,        1,3,   2254.4,2,   2353.3,2,-999.0000,9,  -999.00,    18.68,2,   -999.0,9,   -999.0,  -999.00,9,   0.00050,2,    0.014,2,    0.036,2,    0.000,2,   99.646,2
  096U20180111,  SR03,    92,  1,      4,      4,2,20180211,2318,-63.9747, 132.1063, 3204,   3200.7,  -0.3214,  34.6476,2,-999.0000,9,    245.7,2,   -999.0,9,  -999.00,9,  -999.00,9,  -999.00,9,  -999.00,9,     -999,9, -999.000,9, -999.000,9,     -999,9,   -999.0,9,   -999.0,9,-999.0000,9,  -999.00,  -999.00,9,   -999.0,9,   -999.0,  -999.00,9,   0.00054,2,    0.014,2,    0.042,2,    0.000,2,   99.651,2
  096U20180111,  SR03,    92,  1,      3,      3,2,20180211,2318,-63.9747, 132.1063, 3204,   3263.0,  -0.3154,  34.6483,2,-999.0000,9,    246.2,2,   -999.0,9,  -999.00,9,  -999.00,9,  -999.00,9,  -999.00,9,     -999,9, -999.000,9, -999.000,9,     -999,9,   -999.0,9,   -999.0,9,-999.0000,9,  -999.00,  -999.00,9,   -999.0,9,   -999.0,  -999.00,9,   0.00053,2,    0.014,2,    0.036,2,    0.000,2,   99.664,2
  096U20180111,  SR03,    92,  1,      2,      2,2,20180211,2318,-63.9747, 132.1063, 3204,   3263.0,  -0.3154,  34.6483,2,-999.0000,9,    246.2,2,   -999.0,9,  -999.00,9,  -999.00,9,  -999.00,9,  -999.00,9,     -999,9, -999.000,9, -999.000,9,     -999,9,   -999.0,9,   -999.0,9,-999.0000,9,  -999.00,  -999.00,9,   -999.0,9,   -999.0,  -999.00,9,   0.00055,2,    0.014,2,    0.042,2,    0.000,2,   99.646,2
  096U20180111,  SR03,    92,  1,      1,      1,2,20180211,2318,-63.9747, 132.1063, 3204,   3263.0,  -0.3154,  34.6483,2,  34.6479,2,    246.2,2,    244.3,2,   105.20,2,    32.03,2,     0.00,2,     2.23,2,        0,2,    2.265,2,    1.206,2,     1.18,3,   2254.2,2,   2352.1,2,-999.0000,9,  -999.00,    18.81,2,   -148.4,6,      1.3,     0.45,6,   0.00054,2,    0.015,2,    0.036,2,    0.000,2,   99.631,2