BOTTLE,20230418CCHSIOENA
EXPOCODE,SECT_ID,STNNBR,CASTNO,SAMPNO,BTLNBR,BTLNBR_FLAG_W,DATE,TIME,LATITUDE,LONGITUDE,DEPTH,CTDPRS,CTDTMP,CTDSAL,CTDSAL_FLAG_W,SALNTY,SALNTY_FLAG_W,CTDOXY,CTDOXY_FLAG_W,OXYGEN,OXYGEN_FLAG_W,SILCAT,SILCAT_FLAG_W,NITRAT,NITRAT_FLAG_W,NITRIT,NITRIT_FLAG_W,PHSPHT,PHSPHT_FLAG_W,NH4,NH4_FLAG_W,CFC-11,CFC-11_FLAG_W,CFC-12,CFC-12_FLAG_W,SF6,SF6_FLAG_W,TCARBN,TCARBN_FLAG_W,ALKALI,ALKALI_FLAG_W,PH_TOT,PH_TOT_FLAG_W,PH_TMP,N2O,N2O_FLAG_W,DELC14,DELC14_FLAG_W,C14ERR,DELC13,DELC13_FLAG_W,CTDBETA700,CTDBETA700_FLAG_W,CTDBEAMCP,CTDBEAMCP_FLAG_W,CTDFLUOR,CTDFLUOR_FLAG_W,PAR,PAR_FLAG_W,CTDXMISS,CTDXMISS_FLAG_W
,,,,,,,,,,,METERS,DBAR,ITS-90,PSS-78,,PSS-78,,UMOL/KG,,UMOL/KG,,UMOL/KG,,UMOL/KG,,UMOL/KG,,UMOL/KG,,UMOL/KG,,PMOL/KG,,PMOL/KG,,FMOL/KG,,UMOL/KG,,UMOL/KG,,,,DEG C,NMOL/KG,,/MILLE,,/MILLE,/MILLE,,VOLTS,,1/M,,MG/M^3,,UMOL/M^2/SEC,,%TRANS,
  096U20180111,  SR03,   101,  1,     36,     36,2,20180215,0458,-59.5000, 132.1002, 4672,     11.9,   3.8854,  33.8327,2,  33.8332,2,    318.0,2,    318.8,2,     4.50,2,    24.68,2,     0.26,2,     1.43,2,     0.11,2,    4.838,2,    2.706,2,     3.33,2,   2139.7,2,   2282.2,2,-999.0000,9,  -999.00,    13.66,2,   -999.0,9,   -999.0,  -999.00,9,   0.00150,2,    0.161,2,    0.918,2,   31.800,2,   96.065,2
  096U20180111,  SR03,   101,  1,     35,     35,2,20180215,0458,-59.5000, 132.1002, 4672,     36.2,   3.8002,  33.8315,2,  33.8347,2,    318.6,2,    320.1,2,     4.50,2,    24.72,2,     0.25,2,     1.44,2,     0.11,2, -999.000,9, -999.000,9,     -999,9,   -999.0,9,   -999.0,9,-999.0000,9,  -999.00,  -999.00,9,   -999.0,9,   -999.0,  -999.00,9,   0.00188,2,    0.198,2,    1.782,2,   12.400,2,   95.168,2
  096U20180111,  SR03,   101,  1,     34,     34,2,20180215,0458,-59.5000, 132.1002, 4672,     59.8,   1.9191,  33.9097,2,  33.9093,2,    320.5,2,    329.6,2,    16.50,2,    26.80,2,     0.35,2,     1.89,2,     0.39,2, -999.000,9, -999.000,9,     -999,9,   -999.0,9,   -999.0,9,-999.0000,9,  -999.00,  -999.00,9,   -999.0,9,   -999.0,  -999.00,9,   0.00227,2,    0.210,2,    3.012,2,    2.690,2,   94.887,2
  096U20180111,  SR03,   101,  1,     33,     33,2,20180215,0458,-59.5000, 132.1002, 4672,     86.4,   1.2976,  33.9360,2,  33.9360,2,    320.9,2,    324.0,2,    23.40,2,    28.46,2,     0.28,2,     1.98,2,     0.03,2,    5.300,2,    2.930,2,     3.51,2,   2168.9,6,   2286.8,6,-999.0000,9,  -999.00,    15.86,2,   -999.0,9,   -999.0,  -999.00,9,   0.00110,2,    0.067,2,    0.900,2,    0.530,2,   98.329,2
  096U20180111,  SR03,   101,  1,     32,     32,2,20180215,0458,-59.5000, 132.1002, 4672,    160.5,   0.4314,  33.9728,2,  33.9744,2,    319.7,2,    320.9,2,    28.40,2,    29.86,2,     0.03,2,     2.05,2,        0,2, -999.000,9, -999.000,9,     -999,9,   -999.0,9,   -999.0,9,-999.0000,9,  -999.00,  -999.00,9,   -999.0,9,   -999.0,  -999.00,9,   0.00072,2,    0.020,2,    0.084,2,    0.018,2,   99.496,2
  096U20180111,  SR03,   101,  1,     31,     31,2,20180215,0458,-59.5000, 132.1002, 4672,    210.7,   1.6670,  34.1886,2,  34.1810,2,    260.4,2,    249.0,2,    43.70,2,    32.75,2,     0.01,2,     2.25,2,        0,2,    3.592,2,    1.940,2,     1.83,2,   2213.1,2,   2302.9,2,-999.0000,9,  -999.00,    20.98,2,   -999.0,9,   -999.0,  -999.00,9,   0.00054,2,    0.018,2,    0.036,2,    0.000,2,   99.548,2
  096U20180111,  SR03,   101,  1,     30,     30,2,20180215,0458,-59.5000, 132.1002, 4672,    250.8,   2.0488,  34.3025,2,  34.3032,2,    235.4,2,    213.6,2,    53.60,2,    34.23,2,     0.01,2,     2.34,2,        0,2, -999.000,9, -999.000,9,     -999,9,   -999.0,9,   -999.0,9,-999.0000,9,  -999.00,  -999.00,9,   -999.0,9,   -999.0,  -999.00,9,   0.00058,2,    0.020,2,    0.036,2,    0.000,2,   99.504,2
  096U20180111,  SR03,   101,  1,     29,     29,2,20180215,0458,-59.5000, 132.1002, 4672,    301.2,   2.2726,  34.3760,2,  34.3750,2,    198.2,2,    195.3,2,    59.00,2,    34.71,2,     0.00,2,     2.38,2,        0,2,    2.036,2,    1.063,2,     0.86,2,   2239.1,2,   2315.7,2,-999.0000,9,  -999.00,    24.33,2,   -999.0,9,   -999.0,  -999.00,9,   0.00056,2,    0.018,2,    0.036,2,    0.000,2,   99.562,2
  096U20180111,  SR03,   101,  1,     28,     28,2,20180215,0458,-59.5000, 132.1002, 4672,    400.1,   2.4045,  34.4747,2,  34.4733,2,    178.2,2,    178.1,2,    66.10,2,    34.97,2,     0.00,2,     2.40,2,        0,2, -999.000,9, -999.000,9,     -999,9,   -999.0,9,   -999.0,9,-999.0000,9,  -999.00,  -999.00,9,   -999.0,9,   -999.0,  -999.00,9,   0.00047,2,    0.011,2,    0.030,2,    0.000,2,   99.730,2
  096U20180111,  SR03,   101,  1,     27,     27,2,20180215,0458,-59.5000, 132.1002, 4672,    501.8,   2.3756,  34.5425,2,  34.5415,2,    172.6,2,    172.9,2,    70.80,2,    34.61,2,     0.00,2,     2.38,2,        0,2,    0.935,2,    0.483,2,     0.26,2,   2252.1,2,   2333.6,2,-999.0000,9,  -999.00,    24.45,2,   -999.0,9,   -999.0,  -999.00,9,   0.00042,2,    0.009,2,    0.036,2,    0.000,2,   99.764,2
  096U20180111,  SR03,   101,  1,     26,     26,2,20180215,0458,-59.5000, 132.1002, 4672,    601.1,   2.3639,  34.5979,2,-999.0000,9,    171.6,2,   -999.0,9,  -999.00,9,  -999.00,9,  -999.00,9,  -999.00,9,     -999,9, -999.000,9, -999.000,9,     -999,9,   -999.0,9,   -999.0,9,-999.0000,9,  -999.00,  -999.00,9,   -999.0,9,   -999.0,  -999.00,9,   0.00040,2,    0.008,2,    0.036,2,    0.000,2,   99.797,2
  096U20180111,  SR03,   101,  1,     25,     25,2,20180215,0458,-59.5000, 132.1002, 4672,    601.0,   2.3642,  34.5985,2,  34.5980,2,    171.6,2,    172.1,2,    73.50,2,    33.90,2,     0.00,2,     2.34,2,        0,2, -999.000,9, -999.000,9,     -999,9,   -999.0,9,   -999.0,9,-999.0000,9,  -999.00,  -999.00,9,   -999.0,9,   -999.0,  -999.00,9,   0.00043,2,    0.008,2,    0.036,2,    0.000,2,   99.793,2
  096U20180111,  SR03,   101,  1,     24,     24,2,20180215,0458,-59.5000, 132.1002, 4672,    750.9,   2.3114,  34.6520,2,  34.6528,2,    174.9,2,    175.8,2,    75.70,2,    32.99,2,     0.00,2,     2.28,2,        0,2, -999.000,9, -999.000,9,     -999,9,   -999.0,9,   -999.0,9,-999.0000,9,  -999.00,  -999.00,9,   -999.0,9,   -999.0,  -999.00,9,   0.00035,2,    0.005,2,    0.036,2,    0.000,2,   99.864,2
  096U20180111,  SR03,   101,  1,     23,     23,2,20180215,0458,-59.5000, 132.1002, 4672,    901.6,   2.2240,  34.6950,2,  34.6940,2,    180.0,2,    180.8,2,    78.20,2,    32.01,2,     0.00,2,     2.22,2,        0,2,    0.323,2,    0.176,2,      0.1,2,   2251.0,2,   2343.8,2,-999.0000,9,  -999.00,    21.97,2,   -999.0,9,   -999.0,  -999.00,9,   0.00035,2,    0.005,2,    0.042,2,    0.000,2,   99.871,2
  096U20180111,  SR03,   101,  1,     22,     22,2,20180215,0458,-59.5000, 132.1002, 4672,   1051.2,   2.1303,  34.7177,2,  34.7164,2,    185.3,2,    185.5,2,    80.10,2,    31.45,2,     0.00,2,     2.17,2,        0,2, -999.000,9, -999.000,9,     -999,9,   -999.0,9,   -999.0,9,-999.0000,9,  -999.00,  -999.00,9,   -999.0,9,   -999.0,  -999.00,9,   0.00033,2,    0.004,2,    0.036,2,    0.000,2,   99.897,2
  096U20180111,  SR03,   101,  1,     21,     21,2,20180215,0458,-59.5000, 132.1002, 4672,   1251.4,   1.9972,  34.7386,2,  34.7385,2,    191.0,2,    191.1,2,    83.30,2,    30.77,2,     0.00,2,     2.13,2,        0,2, -999.000,9, -999.000,9,     -999,9,   -999.0,9,   -999.0,9,-999.0000,9,  -999.00,  -999.00,9,   -999.0,9,   -999.0,  -999.00,9,   0.00031,2,    0.003,2,    0.036,2,    0.000,2,   99.925,2
  096U20180111,  SR03,   101,  1,     20,     20,2,20180215,0458,-59.5000, 132.1002, 4672,   1501.5,   1.8135,  34.7469,2,  34.7476,2,    195.4,2,    196.0,2,    88.10,2,    30.49,2,     0.00,2,     2.11,2,        0,2,    0.175,2,    0.093,2,     0.04,2,   2247.7,2,   2354.5,2,-999.0000,9,  -999.00,    19.33,2,   -999.0,9,   -999.0,  -999.00,9,   0.00031,2,    0.002,2,    0.036,2,    0.000,2,   99.938,2
  096U20180111,  SR03,   101,  1,     19,     19,2,20180215,0458,-59.5000, 132.1002, 4672,   1701.5,   1.6242,  34.7445,2,  34.7449,2,    198.4,2,    198.8,2,    93.40,2,    30.70,2,     0.00,2,     2.13,2,        0,2, -999.000,9, -999.000,9,     -999,9,   -999.0,9,   -999.0,9,-999.0000,9,  -999.00,  -999.00,9,   -999.0,9,   -999.0,  -999.00,9,   0.00030,2,    0.002,2,    0.042,2,    0.000,2,   99.939,2
  096U20180111,  SR03,   101,  1,     18,     18,2,20180215,0458,-59.5000, 132.1002, 4672,   1901.5,   1.4374,  34.7384,2,  34.7383,2,    200.7,2,    201.0,2,    98.90,2,    30.91,2,     0.00,2,     2.15,2,        0,2, -999.000,9, -999.000,9,     -999,9,   -999.0,9,   -999.0,9,-999.0000,9,  -999.00,  -999.00,9,   -999.0,9,   -999.0,  -999.00,9,   0.00029,2,    0.002,2,    0.042,2,    0.000,2,   99.964,2
  096U20180111,  SR03,   101,  1,     17,     17,2,20180215,0458,-59.5000, 132.1002, 4672,   2101.5,   1.2728,  34.7310,2,  34.7309,2,    202.4,2,    202.8,2,   103.60,2,    31.22,2,     0.00,2,     2.17,2,        0,2,    0.195,2,    0.102,2,    -0.01,2,   2255.8,2,   2360.5,2,-999.0000,9,  -999.00,    19.49,2,   -999.0,9,   -999.0,  -999.00,9,   0.00028,2,    0.001,2,    0.042,2,    0.000,2,   99.970,2
  096U20180111,  SR03,   101,  1,     16,     16,2,20180215,0458,-59.5000, 132.1002, 4672,   2301.4,   1.1185,  34.7232,2,  34.7228,2,    204.0,2,    204.5,2,   108.60,2,    31.47,2,     0.00,2,     2.19,2,        0,2, -999.000,9, -999.000,9,     -999,9,   -999.0,9,   -999.0,9,-999.0000,9,  -999.00,  -999.00,9,   -999.0,9,   -999.0,  -999.00,9,   0.00027,2,    0.001,2,    0.042,2,    0.000,2,   99.979,2
  096U20180111,  SR03,   101,  1,     15,     15,2,20180215,0458,-59.5000, 132.1002, 4672,   2500.8,   0.9786,  34.7158,2,-999.0000,9,    206.0,2,   -999.0,9,  -999.00,9,  -999.00,9,  -999.00,9,  -999.00,9,     -999,9, -999.000,9, -999.000,9,     -999,9,   -999.0,9,   -999.0,9,-999.0000,9,  -999.00,  -999.00,9,   -999.0,9,   -999.0,  -999.00,9,   0.00028,2,    0.001,2,    0.036,2,    0.000,2,   99.975,2
  096U20180111,  SR03,   101,  1,     14,     14,2,20180215,0458,-59.5000, 132.1002, 4672,   2500.6,   0.9770,  34.7158,2,  34.7158,2,    206.0,2,    206.1,2,   112.70,2,    31.76,2,     0.00,2,     2.21,2,        0,2, -999.000,9, -999.000,9,     -999,9,   -999.0,9,   -999.0,9,-999.0000,9,  -999.00,  -999.00,9,   -999.0,9,   -999.0,  -999.00,9,   0.00028,2,    0.001,2,    0.036,2,    0.000,2,   99.979,2
  096U20180111,  SR03,   101,  1,     13,     13,2,20180215,0458,-59.5000, 132.1002, 4672,   2701.8,   0.8249,  34.7073,2,  34.7074,2,    208.6,2,    208.4,2,   116.70,2,    32.01,2,     0.00,2,     2.23,2,        0,2,    0.309,2,    0.152,2,     0.04,2,   2258.0,2,   2362.3,6,-999.0000,9,  -999.00,    19.47,2,   -999.0,9,   -999.0,  -999.00,9,   0.00027,2,    0.001,2,    0.036,2,    0.000,2,   99.976,2
  096U20180111,  SR03,   101,  1,     12,     12,2,20180215,0458,-59.5000, 132.1002, 4672,   2901.4,   0.6869,  34.7002,2,  34.6997,2,    211.2,2,    211.0,2,   120.50,2,    32.22,2,     0.00,2,     2.25,2,        0,2, -999.000,9, -999.000,9,     -999,9,   -999.0,9,   -999.0,9,-999.0000,9,  -999.00,  -999.00,9,   -999.0,9,   -999.0,  -999.00,9,   0.00026,2,    0.001,2,    0.042,2,    0.000,2,   99.981,2
  096U20180111,  SR03,   101,  1,     11,     11,2,20180215,0458,-59.5000, 132.1002, 4672,   3101.0,   0.5645,  34.6939,2,-999.0000,9,    214.2,2,   -999.0,9,  -999.00,9,  -999.00,9,  -999.00,9,  -999.00,9,     -999,9, -999.000,9, -999.000,9,     -999,9,   -999.0,9,   -999.0,9,-999.0000,9,  -999.00,  -999.00,9,   -999.0,9,   -999.0,  -999.00,9,   0.00026,2,    0.001,2,    0.042,2,    0.000,2,   99.978,2
  096U20180111,  SR03,   101,  1,     10,     10,2,20180215,0458,-59.5000, 132.1002, 4672,   3100.9,   0.5643,  34.6942,2,  34.6930,2,    214.2,2,    213.6,2,   123.80,2,    32.32,2,     0.00,2,     2.26,2,        0,2, -999.000,9, -999.000,9,     -999,9,   -999.0,9,   -999.0,9,-999.0000,9,  -999.00,  -999.00,9,   -999.0,9,   -999.0,  -999.00,9,   0.00026,2,    0.001,2,    0.036,2,    0.000,2,   99.980,2
  096U20180111,  SR03,   101,  1,      9,      9,2,20180215,0458,-59.5000, 132.1002, 4672,   3401.7,   0.4203,  34.6867,2,  34.6864,2,    218.1,2,    217.4,2,   127.40,2,    32.49,2,     0.00,2,     2.27,2,        0,2, -999.000,9, -999.000,9,     -999,9,   -999.0,9,   -999.0,9,-999.0000,9,  -999.00,  -999.00,9,   -999.0,9,   -999.0,  -999.00,9,   0.00024,2,    0.001,2,    0.042,2,    0.000,2,   99.982,2
  096U20180111,  SR03,   101,  1,      8,      8,2,20180215,0458,-59.5000, 132.1002, 4672,   3701.3,   0.3227,  34.6814,2,  34.6810,2,    221.4,2,    220.5,2,   130.10,2,    32.49,2,     0.00,2,     2.27,2,        0,2,    0.698,2,    0.355,2,      0.2,2,   2260.8,2,   2362.5,2,-999.0000,9,  -999.00,    18.97,2,   -999.0,9,   -999.0,  -999.00,9,   0.00024,2,    0.001,2,    0.042,2,    0.000,2,   99.983,2
  096U20180111,  SR03,   101,  1,      7,      7,2,20180215,0458,-59.5000, 132.1002, 4672,   4001.3,   0.2431,  34.6771,2,-999.0000,9,    223.8,2,   -999.0,9,  -999.00,9,  -999.00,9,  -999.00,9,  -999.00,9,     -999,9, -999.000,9, -999.000,9,     -999,9,   -999.0,9,   -999.0,9,-999.0000,9,  -999.00,  -999.00,9,   -999.0,9,   -999.0,  -999.00,9,   0.00023,2,    0.000,2,    0.042,2,    0.000,2,   99.989,2
  096U20180111,  SR03,   101,  1,      6,      6,2,20180215,0458,-59.5000, 132.1002, 4672,   4001.3,   0.2422,  34.6771,2,  34.6770,2,    223.8,2,    223.4,2,   131.90,2,    32.52,2,     0.00,2,     2.27,2,        0,2, -999.000,9, -999.000,9,     -999,9,   -999.0,9,   -999.0,9,-999.0000,9,  -999.00,  -999.00,9,   -999.0,9,   -999.0,  -999.00,9,   0.00023,2,    0.001,2,    0.042,2,    0.000,2,   99.981,2
  096U20180111,  SR03,   101,  1,      5,      5,2,20180215,0458,-59.5000, 132.1002, 4672,   4301.2,   0.1573,  34.6715,2,  34.6712,2,    227.2,2,    227.2,2,   132.80,2,    32.48,2,     0.00,2,     2.27,2,        0,2, -999.000,9, -999.000,9,     -999,9,   2258.7,2,   2361.1,2,-999.0000,9,  -999.00,  -999.00,9,   -999.0,9,   -999.0,  -999.00,9,   0.00025,2,    0.002,2,    0.042,2,    0.000,2,   99.954,2
  096U20180111,  SR03,   101,  1,      4,      4,2,20180215,0458,-59.5000, 132.1002, 4672,   4571.6,   0.0924,  34.6662,2,  34.6657,2,    229.8,2,    230.0,2,   134.90,2,    32.46,2,     0.00,2,     2.27,2,        0,2, -999.000,9, -999.000,9,     -999,9,   -999.0,9,   -999.0,9,-999.0000,9,  -999.00,  -999.00,9,   -999.0,9,   -999.0,  -999.00,9,   0.00026,2,    0.003,2,    0.042,2,    0.000,2,   99.926,2
  096U20180111,  SR03,   101,  1,      3,      3,2,20180215,0458,-59.5000, 132.1002, 4672,   4721.1,   0.0307,  34.6596,2,  34.6589,2,    232.6,2,    232.6,2,   139.10,2,    32.46,2,     0.00,2,     2.27,2,        0,2,    1.602,2,    0.813,2,      0.6,2,   -999.0,9,   -999.0,9,-999.0000,9,  -999.00,    19.25,2,   -999.0,9,   -999.0,  -999.00,9,   0.00041,2,    0.011,2,    0.042,2,    0.000,2,   99.718,2
  096U20180111,  SR03,   101,  1,      2,      2,2,20180215,0458,-59.5000, 132.1002, 4672,   4769.1,   0.0165,  34.6576,2,-999.0000,9,    233.3,2,   -999.0,9,  -999.00,9,  -999.00,9,  -999.00,9,  -999.00,9,     -999,9, -999.000,9, -999.000,9,     -999,9,   -999.0,9,   -999.0,9,-999.0000,9,  -999.00,  -999.00,9,   -999.0,9,   -999.0,  -999.00,9,   0.00038,2,    0.012,2,    0.042,2,    0.000,2,   99.707,2
  096U20180111,  SR03,   101,  1,      1,      1,2,20180215,0458,-59.5000, 132.1002, 4672,   4768.9,   0.0163,  34.6578,2,  34.6577,2,    233.1,2,    233.2,2,   139.60,2,    32.43,2,     0.00,2,     2.26,2,        0,2,    1.665,2,    0.850,2,     0.52,2,   2259.1,2,   2360.6,2,-999.0000,9,  -999.00,    19.47,2,   -999.0,9,   -999.0,  -999.00,9,   0.00041,2,    0.012,2,    0.036,2,    0.000,2,   99.703,2