BOTTLE,20230418CCHSIOENA
EXPOCODE,SECT_ID,STNNBR,CASTNO,SAMPNO,BTLNBR,BTLNBR_FLAG_W,DATE,TIME,LATITUDE,LONGITUDE,DEPTH,CTDPRS,CTDTMP,CTDSAL,CTDSAL_FLAG_W,SALNTY,SALNTY_FLAG_W,CTDOXY,CTDOXY_FLAG_W,OXYGEN,OXYGEN_FLAG_W,SILCAT,SILCAT_FLAG_W,NITRAT,NITRAT_FLAG_W,NITRIT,NITRIT_FLAG_W,PHSPHT,PHSPHT_FLAG_W,NH4,NH4_FLAG_W,CFC-11,CFC-11_FLAG_W,CFC-12,CFC-12_FLAG_W,SF6,SF6_FLAG_W,TCARBN,TCARBN_FLAG_W,ALKALI,ALKALI_FLAG_W,PH_TOT,PH_TOT_FLAG_W,PH_TMP,N2O,N2O_FLAG_W,DELC14,DELC14_FLAG_W,C14ERR,DELC13,DELC13_FLAG_W,CTDBETA700,CTDBETA700_FLAG_W,CTDBEAMCP,CTDBEAMCP_FLAG_W,CTDFLUOR,CTDFLUOR_FLAG_W,PAR,PAR_FLAG_W,CTDXMISS,CTDXMISS_FLAG_W
,,,,,,,,,,,METERS,DBAR,ITS-90,PSS-78,,PSS-78,,UMOL/KG,,UMOL/KG,,UMOL/KG,,UMOL/KG,,UMOL/KG,,UMOL/KG,,UMOL/KG,,PMOL/KG,,PMOL/KG,,FMOL/KG,,UMOL/KG,,UMOL/KG,,,,DEG C,NMOL/KG,,/MILLE,,/MILLE,/MILLE,,VOLTS,,1/M,,MG/M^3,,UMOL/M^2/SEC,,%TRANS,
  096U20180111,  SR03,    62,  1,     36,     36,2,20180202,0631,-66.3473, 144.6588,  414,      9.2,  -1.1290,  33.6125,2,-999.0000,9,    359.7,2,   -999.0,9,  -999.00,9,  -999.00,9,  -999.00,9,  -999.00,9,     -999,9, -999.000,9, -999.000,9,     -999,9,   -999.0,9,   -999.0,9,-999.0000,9,  -999.00,  -999.00,9,   -999.0,9,   -999.0,  -999.00,9,   0.00373,2,    0.388,2,    2.448,2,   48.700,2,   90.763,2
  096U20180111,  SR03,    62,  1,     35,     35,2,20180202,0631,-66.3473, 144.6588,  414,      9.2,  -1.1294,  33.6123,2,-999.0000,9,    359.7,2,   -999.0,9,  -999.00,9,  -999.00,9,  -999.00,9,  -999.00,9,     -999,9, -999.000,9, -999.000,9,     -999,9,   -999.0,9,   -999.0,9,-999.0000,9,  -999.00,  -999.00,9,   -999.0,9,   -999.0,  -999.00,9,   0.00367,2,    0.373,2,    2.340,2,   48.700,2,   91.102,2
  096U20180111,  SR03,    62,  1,     34,     34,2,20180202,0631,-66.3473, 144.6588,  414,      9.2,  -1.1293,  33.6124,2,  33.6172,2,    359.7,2,    361.6,2,    47.40,2,    24.27,2,     0.17,2,     1.55,2,     0.08,2,    5.662,2,    3.126,2,     3.93,2,   2142.5,2,   2278.8,2,-999.0000,9,  -999.00,    15.38,2,   -999.0,9,   -999.0,  -999.00,9,   0.00425,2,    0.382,2,    2.364,2,   49.500,2,   90.894,2
  096U20180111,  SR03,    62,  1,     33,     33,2,20180202,0631,-66.3473, 144.6588,  414,     31.1,  -1.1502,  33.6286,2,-999.0000,9,    357.4,2,   -999.0,9,  -999.00,9,  -999.00,9,  -999.00,9,  -999.00,9,     -999,9, -999.000,9, -999.000,9,     -999,9,   -999.0,9,   -999.0,9,-999.0000,9,  -999.00,  -999.00,9,   -999.0,9,   -999.0,  -999.00,9,   0.00430,2,    0.377,2,    4.434,2,    3.800,2,   91.007,2
  096U20180111,  SR03,    62,  1,     32,     32,2,20180202,0631,-66.3473, 144.6588,  414,     31.1,  -1.1500,  33.6285,2,-999.0000,9,    357.4,2,   -999.0,9,  -999.00,9,  -999.00,9,  -999.00,9,  -999.00,9,     -999,9, -999.000,9, -999.000,9,     -999,9,   -999.0,9,   -999.0,9,-999.0000,9,  -999.00,  -999.00,9,   -999.0,9,   -999.0,  -999.00,9,   0.00459,2,    0.389,2,    4.800,2,    3.860,2,   90.730,2
  096U20180111,  SR03,    62,  1,     31,     31,2,20180202,0631,-66.3473, 144.6588,  414,     31.1,  -1.1506,  33.6283,2,-999.0000,9,    357.4,2,   -999.0,9,  -999.00,9,  -999.00,9,  -999.00,9,  -999.00,9,     -999,9, -999.000,9, -999.000,9,     -999,9,   -999.0,9,   -999.0,9,-999.0000,9,  -999.00,  -999.00,9,   -999.0,9,   -999.0,  -999.00,9,   0.00401,2,    0.412,2,    4.530,2,    3.890,2,   90.204,2
  096U20180111,  SR03,    62,  1,     30,     30,2,20180202,0631,-66.3473, 144.6588,  414,     31.0,  -1.1507,  33.6283,2,-999.0000,9,    357.4,2,   -999.0,9,  -999.00,9,  -999.00,9,  -999.00,9,  -999.00,9,     -999,9, -999.000,9, -999.000,9,     -999,9,   -999.0,9,   -999.0,9,-999.0000,9,  -999.00,  -999.00,9,   -999.0,9,   -999.0,  -999.00,9,   0.00471,2,    0.403,2,    4.842,2,    3.900,2,   90.418,2
  096U20180111,  SR03,    62,  1,     29,     29,2,20180202,0631,-66.3473, 144.6588,  414,     31.0,  -1.1513,  33.6286,2,  33.6452,2,    357.7,2,    358.1,2,    52.40,2,    25.12,2,     0.14,2,     1.70,2,     0.56,2, -999.000,9, -999.000,9,     -999,9,   2145.7,2,   2280.4,6,-999.0000,9,  -999.00,  -999.00,9,   -999.0,9,   -999.0,  -999.00,9,   0.00405,2,    0.384,2,    4.254,2,    4.100,2,   90.846,2
  096U20180111,  SR03,    62,  1,     28,     28,2,20180202,0631,-66.3473, 144.6588,  414,     46.4,  -1.1335,  33.8059,2,-999.0000,9,    349.9,2,   -999.0,9,  -999.00,9,  -999.00,9,  -999.00,9,  -999.00,9,     -999,9, -999.000,9, -999.000,9,     -999,9,   -999.0,9,   -999.0,9,-999.0000,9,  -999.00,  -999.00,9,   -999.0,9,   -999.0,  -999.00,9,   0.00415,2,    0.351,2,    4.758,2,    0.580,2,   91.602,2
  096U20180111,  SR03,    62,  1,     27,     27,2,20180202,0631,-66.3473, 144.6588,  414,     46.4,  -1.1370,  33.8011,2,-999.0000,9,    349.9,2,   -999.0,9,  -999.00,9,  -999.00,9,  -999.00,9,  -999.00,9,     -999,9, -999.000,9, -999.000,9,     -999,9,   -999.0,9,   -999.0,9,-999.0000,9,  -999.00,  -999.00,9,   -999.0,9,   -999.0,  -999.00,9,   0.00394,2,    0.344,2,    4.920,2,    0.554,2,   91.762,2
  096U20180111,  SR03,    62,  1,     26,     26,2,20180202,0631,-66.3473, 144.6588,  414,     46.3,  -1.1389,  33.7991,2,-999.0000,9,    349.9,2,   -999.0,9,  -999.00,9,  -999.00,9,  -999.00,9,  -999.00,9,     -999,9, -999.000,9, -999.000,9,     -999,9,   -999.0,9,   -999.0,9,-999.0000,9,  -999.00,  -999.00,9,   -999.0,9,   -999.0,  -999.00,9,   0.00397,2,    0.350,2,    4.782,2,    0.542,2,   91.631,2
  096U20180111,  SR03,    62,  1,     25,     25,2,20180202,0631,-66.3473, 144.6588,  414,     46.4,  -1.1417,  33.7922,2,-999.0000,9,    349.9,2,    349.9,2,    52.50,2,    24.95,2,     0.13,2,     1.70,2,     0.61,2,    5.445,2,    2.996,2,     3.56,2,   2164.9,2,   2298.3,2,-999.0000,9,  -999.00,    15.67,2,   -999.0,9,   -999.0,  -999.00,9,   0.00385,2,    0.340,2,    4.728,2,    0.515,2,   91.842,2
  096U20180111,  SR03,    62,  1,     24,     24,2,20180202,0631,-66.3473, 144.6588,  414,     91.2,  -1.5424,  34.3616,2,-999.0000,9,    301.1,2,   -999.0,9,  -999.00,9,  -999.00,9,  -999.00,9,  -999.00,9,     -999,9, -999.000,9, -999.000,9,     -999,9,   -999.0,9,   -999.0,9,-999.0000,9,  -999.00,  -999.00,9,   -999.0,9,   -999.0,  -999.00,9,   0.00066,2,    0.026,2,    0.258,2,    0.000,2,   99.359,2
  096U20180111,  SR03,    62,  1,     23,     23,2,20180202,0631,-66.3473, 144.6588,  414,     91.1,  -1.5416,  34.3619,2,  33.9039,4,    301.1,2,   -999.0,9,  -999.00,9,  -999.00,9,  -999.00,9,  -999.00,9,     -999,9, -999.000,9, -999.000,9,     -999,9,   -999.0,9,   -999.0,9,-999.0000,9,  -999.00,  -999.00,9,   -999.0,9,   -999.0,  -999.00,9,   0.00064,2,    0.029,2,    0.294,2,    0.000,2,   99.270,2
  096U20180111,  SR03,    62,  1,     22,     22,2,20180202,0631,-66.3473, 144.6588,  414,     91.1,  -1.5396,  34.3623,2,  34.3675,2,    301.1,2,    301.1,2,    71.40,2,    29.81,2,     0.10,2,     2.13,2,     0.54,2, -999.000,9, -999.000,9,     -999,9,   -999.0,9,   -999.0,9,-999.0000,9,  -999.00,  -999.00,9,   -999.0,9,   -999.0,  -999.00,9,   0.00064,2,    0.026,2,    0.276,2,    0.000,2,   99.360,2
  096U20180111,  SR03,    62,  1,     21,     21,2,20180202,0631,-66.3473, 144.6588,  414,    130.6,  -1.3351,  34.4346,2,-999.0000,9,    286.0,2,   -999.0,9,  -999.00,9,  -999.00,9,  -999.00,9,  -999.00,9,     -999,9, -999.000,9, -999.000,9,     -999,9,   -999.0,9,   -999.0,9,-999.0000,9,  -999.00,  -999.00,9,   -999.0,9,   -999.0,  -999.00,9,   0.00054,2,    0.011,2,    0.108,2,    0.000,2,   99.715,2
  096U20180111,  SR03,    62,  1,     20,     20,2,20180202,0631,-66.3473, 144.6588,  414,    130.6,  -1.3362,  34.4343,2,-999.0000,9,    286.0,2,   -999.0,9,  -999.00,9,  -999.00,9,  -999.00,9,  -999.00,9,     -999,9, -999.000,9, -999.000,9,     -999,9,   -999.0,9,   -999.0,9,-999.0000,9,  -999.00,  -999.00,9,   -999.0,9,   -999.0,  -999.00,9,   0.00057,2,    0.011,2,    0.120,2,    0.000,2,   99.714,2
  096U20180111,  SR03,    62,  1,     19,     19,2,20180202,0631,-66.3473, 144.6588,  414,    130.5,  -1.3365,  34.4342,2,  34.4341,2,    286.0,2,    286.2,2,    75.10,2,    30.63,2,     0.08,2,     2.17,2,      0.3,2, -999.000,9, -999.000,9,     -999,9,   2230.7,2,   2330.3,2,-999.0000,9,  -999.00,  -999.00,9,   -999.0,9,   -999.0,  -999.00,9,   0.00046,2,    0.012,2,    0.096,2,    0.000,2,   99.705,2
  096U20180111,  SR03,    62,  1,     18,     18,2,20180202,0631,-66.3473, 144.6588,  414,    173.1,  -0.9694,  34.4892,2,-999.0000,9,    268.2,2,   -999.0,9,  -999.00,9,  -999.00,9,  -999.00,9,  -999.00,9,     -999,9, -999.000,9, -999.000,9,     -999,9,   -999.0,9,   -999.0,9,-999.0000,9,  -999.00,  -999.00,9,   -999.0,9,   -999.0,  -999.00,9,   0.00044,2,    0.006,2,    0.066,2,    0.000,2,   99.863,2
  096U20180111,  SR03,    62,  1,     17,     17,2,20180202,0631,-66.3473, 144.6588,  414,    173.0,  -0.9737,  34.4904,2,-999.0000,9,    268.2,2,   -999.0,9,  -999.00,9,  -999.00,9,  -999.00,9,  -999.00,9,     -999,9, -999.000,9, -999.000,9,     -999,9,   -999.0,9,   -999.0,9,-999.0000,9,  -999.00,  -999.00,9,   -999.0,9,   -999.0,  -999.00,9,   0.00041,2,    0.005,2,    0.060,2,    0.000,2,   99.876,2
  096U20180111,  SR03,    62,  1,     16,     16,2,20180202,0631,-66.3473, 144.6588,  414,    173.0,  -0.9879,  34.4913,2,  34.4929,2,    268.7,2,    269.0,2,    79.60,2,    31.21,2,     0.09,2,     2.19,2,     0.08,2,    0.000,4,    0.000,4,        0,4,   2235.5,2,   2334.6,2,-999.0000,9,  -999.00,     0.00,4,   -999.0,9,   -999.0,  -999.00,9,   0.00041,2,    0.005,2,    0.066,2,    0.000,2,   99.864,2
  096U20180111,  SR03,    62,  1,     15,     15,2,20180202,0631,-66.3473, 144.6588,  414,    221.0,  -1.2425,  34.5046,2,-999.0000,9,    279.0,2,   -999.0,9,  -999.00,9,  -999.00,9,  -999.00,9,  -999.00,9,     -999,9, -999.000,9, -999.000,9,     -999,9,   -999.0,9,   -999.0,9,-999.0000,9,  -999.00,  -999.00,9,   -999.0,9,   -999.0,  -999.00,9,   0.00043,2,    0.006,2,    0.072,2,    0.000,2,   99.840,2
  096U20180111,  SR03,    62,  1,     14,     14,2,20180202,0631,-66.3473, 144.6588,  414,    220.9,  -1.2461,  34.5042,2,-999.0000,9,    279.0,2,   -999.0,9,  -999.00,9,  -999.00,9,  -999.00,9,  -999.00,9,     -999,9, -999.000,9, -999.000,9,     -999,9,   -999.0,9,   -999.0,9,-999.0000,9,  -999.00,  -999.00,9,   -999.0,9,   -999.0,  -999.00,9,   0.00042,2,    0.008,2,    0.072,2,    0.000,2,   99.806,2
  096U20180111,  SR03,    62,  1,     13,     13,2,20180202,0631,-66.3473, 144.6588,  414,    220.9,  -1.2458,  34.5046,2,  34.5821,4,    279.0,2,    277.8,2,    79.50,2,    30.99,2,     0.08,2,     2.19,2,     0.19,2, -999.000,9, -999.000,9,     -999,9,   -999.0,9,   -999.0,9,-999.0000,9,  -999.00,  -999.00,9,   -999.0,9,   -999.0,  -999.00,9,   0.00044,2,    0.006,2,    0.072,2,    0.000,2,   99.840,2
  096U20180111,  SR03,    62,  1,     12,     12,2,20180202,0631,-66.3473, 144.6588,  414,    270.3,  -1.4652,  34.5176,2,-999.0000,9,    285.6,2,   -999.0,9,  -999.00,9,  -999.00,9,  -999.00,9,  -999.00,9,     -999,9, -999.000,9, -999.000,9,     -999,9,   -999.0,9,   -999.0,9,-999.0000,9,  -999.00,  -999.00,9,   -999.0,9,   -999.0,  -999.00,9,   0.00042,2,    0.006,2,    0.078,2,    0.000,2,   99.850,2
  096U20180111,  SR03,    62,  1,     11,     11,2,20180202,0631,-66.3473, 144.6588,  414,    270.2,  -1.4656,  34.5177,2,-999.0000,9,    285.6,2,   -999.0,9,  -999.00,9,  -999.00,9,  -999.00,9,  -999.00,9,     -999,9, -999.000,9, -999.000,9,     -999,9,   -999.0,9,   -999.0,9,-999.0000,9,  -999.00,  -999.00,9,   -999.0,9,   -999.0,  -999.00,9,   0.00044,2,    0.006,2,    0.090,2,    0.000,2,   99.843,2
  096U20180111,  SR03,    62,  1,     10,     10,2,20180202,0631,-66.3473, 144.6588,  414,    270.2,  -1.4652,  34.5184,2,  34.5184,2,    285.6,2,    285.6,2,    78.50,2,    30.84,2,     0.08,2,     2.18,2,     0.16,2,    3.868,2,    2.155,2,     2.36,2,   2236.1,2,   2337.1,2,-999.0000,9,  -999.00,    17.61,2,   -999.0,9,   -999.0,  -999.00,9,   0.00042,2,    0.006,2,    0.084,2,    0.000,2,   99.851,2
  096U20180111,  SR03,    62,  1,      9,      9,2,20180202,0631,-66.3473, 144.6588,  414,    320.8,  -1.4748,  34.5292,2,-999.0000,9,    284.4,2,   -999.0,9,  -999.00,9,  -999.00,9,  -999.00,9,  -999.00,9,     -999,9, -999.000,9, -999.000,9,     -999,9,   -999.0,9,   -999.0,9,-999.0000,9,  -999.00,  -999.00,9,   -999.0,9,   -999.0,  -999.00,9,   0.00046,2,    0.005,2,    0.090,2,    0.000,2,   99.874,2
  096U20180111,  SR03,    62,  1,      8,      8,2,20180202,0631,-66.3473, 144.6588,  414,    320.7,  -1.4804,  34.5287,2,-999.0000,9,    284.4,2,   -999.0,9,  -999.00,9,  -999.00,9,  -999.00,9,  -999.00,9,     -999,9, -999.000,9, -999.000,9,     -999,9,   -999.0,9,   -999.0,9,-999.0000,9,  -999.00,  -999.00,9,   -999.0,9,   -999.0,  -999.00,9,   0.00040,2,    0.006,2,    0.072,2,    0.000,2,   99.855,2
  096U20180111,  SR03,    62,  1,      7,      7,2,20180202,0631,-66.3473, 144.6588,  414,    320.7,  -1.4828,  34.5288,2,  34.5281,2,    284.4,2,    288.2,2,    78.10,2,    30.85,2,     0.08,2,     2.19,2,     0.11,2, -999.000,9, -999.000,9,     -999,9,   -999.0,9,   -999.0,9,-999.0000,9,  -999.00,  -999.00,9,   -999.0,9,   -999.0,  -999.00,9,   0.00054,2,    0.005,2,    0.084,2,    0.000,2,   99.885,2
  096U20180111,  SR03,    62,  1,      6,      6,2,20180202,0631,-66.3473, 144.6588,  414,    370.8,  -1.6364,  34.5502,2,-999.0000,9,    293.0,2,   -999.0,9,  -999.00,9,  -999.00,9,  -999.00,9,  -999.00,9,     -999,9, -999.000,9, -999.000,9,     -999,9,   -999.0,9,   -999.0,9,-999.0000,9,  -999.00,  -999.00,9,   -999.0,9,   -999.0,  -999.00,9,   0.00051,2,    0.013,2,    0.108,2,    0.000,2,   99.666,2
  096U20180111,  SR03,    62,  1,      5,      5,2,20180202,0631,-66.3473, 144.6588,  414,    370.8,  -1.6377,  34.5506,2,  34.5561,2,    293.0,2,    290.1,2,    78.30,2,    31.04,2,     0.08,2,     2.19,2,     0.05,2,    4.029,2,    2.240,2,     2.35,2,   2240.4,6,   2338.2,6,-999.0000,9,  -999.00,    17.54,2,   -999.0,9,   -999.0,  -999.00,9,   0.00052,2,    0.013,2,    0.084,2,    0.000,2,   99.682,2
  096U20180111,  SR03,    62,  1,      4,      4,2,20180202,0631,-66.3473, 144.6588,  414,    370.8,  -1.6381,  34.5505,2,-999.0000,9,    293.0,2,   -999.0,9,  -999.00,9,  -999.00,9,  -999.00,9,  -999.00,9,     -999,9, -999.000,9, -999.000,9,     -999,9,   -999.0,9,   -999.0,9,-999.0000,9,  -999.00,  -999.00,9,   -999.0,9,   -999.0,  -999.00,9,   0.00057,2,    0.012,2,    0.078,2,    0.000,2,   99.693,2
  096U20180111,  SR03,    62,  1,      3,      3,2,20180202,0631,-66.3473, 144.6588,  414,    410.8,  -1.8210,  34.5975,2,-999.0000,9,    295.7,2,   -999.0,9,  -999.00,9,  -999.00,9,  -999.00,9,  -999.00,9,     -999,9, -999.000,9, -999.000,9,     -999,9,   -999.0,9,   -999.0,9,-999.0000,9,  -999.00,  -999.00,9,   -999.0,9,   -999.0,  -999.00,9,   0.00169,2,    0.062,2,    0.120,2,    0.000,2,   98.459,2
  096U20180111,  SR03,    62,  1,      2,      2,2,20180202,0631,-66.3473, 144.6588,  414,    410.8,  -1.8214,  34.5974,2,-999.0000,9,    295.7,2,   -999.0,9,  -999.00,9,  -999.00,9,  -999.00,9,  -999.00,9,     -999,9, -999.000,9, -999.000,9,     -999,9,   -999.0,9,   -999.0,9,-999.0000,9,  -999.00,  -999.00,9,   -999.0,9,   -999.0,  -999.00,9,   0.00148,2,    0.058,2,    0.132,2,    0.000,2,   98.568,2
  096U20180111,  SR03,    62,  1,      1,      1,2,20180202,0631,-66.3473, 144.6588,  414,    410.8,  -1.8209,  34.5976,2,  34.5941,2,    295.7,2,    296.1,2,    78.20,2,    31.08,2,     0.08,2,     2.21,2,     0.14,2,    4.285,2,    2.375,2,     2.47,2,   2243.5,2,   2342.1,2,-999.0000,9,  -999.00,    17.66,2,   -999.0,9,   -999.0,  -999.00,9,   0.00157,2,    0.063,2,    0.144,2,    0.000,2,   98.429,2