BOTTLE,20230418CCHSIOENA
EXPOCODE,SECT_ID,STNNBR,CASTNO,SAMPNO,BTLNBR,BTLNBR_FLAG_W,DATE,TIME,LATITUDE,LONGITUDE,DEPTH,CTDPRS,CTDTMP,CTDSAL,CTDSAL_FLAG_W,SALNTY,SALNTY_FLAG_W,CTDOXY,CTDOXY_FLAG_W,OXYGEN,OXYGEN_FLAG_W,SILCAT,SILCAT_FLAG_W,NITRAT,NITRAT_FLAG_W,NITRIT,NITRIT_FLAG_W,PHSPHT,PHSPHT_FLAG_W,NH4,NH4_FLAG_W,CFC-11,CFC-11_FLAG_W,CFC-12,CFC-12_FLAG_W,SF6,SF6_FLAG_W,TCARBN,TCARBN_FLAG_W,ALKALI,ALKALI_FLAG_W,PH_TOT,PH_TOT_FLAG_W,PH_TMP,N2O,N2O_FLAG_W,DELC14,DELC14_FLAG_W,C14ERR,DELC13,DELC13_FLAG_W,CTDBETA700,CTDBETA700_FLAG_W,CTDBEAMCP,CTDBEAMCP_FLAG_W,CTDFLUOR,CTDFLUOR_FLAG_W,PAR,PAR_FLAG_W,CTDXMISS,CTDXMISS_FLAG_W
,,,,,,,,,,,METERS,DBAR,ITS-90,PSS-78,,PSS-78,,UMOL/KG,,UMOL/KG,,UMOL/KG,,UMOL/KG,,UMOL/KG,,UMOL/KG,,UMOL/KG,,PMOL/KG,,PMOL/KG,,FMOL/KG,,UMOL/KG,,UMOL/KG,,,,DEG C,NMOL/KG,,/MILLE,,/MILLE,/MILLE,,VOLTS,,1/M,,MG/M^3,,UMOL/M^2/SEC,,%TRANS,
  096U20180111,  SR03,    59,  1,     36,     36,2,20180201,0515,-65.5698, 139.8530,  800,     10.6,  -0.4641,  33.8355,2,-999.0000,9,    346.8,2,   -999.0,9,  -999.00,9,  -999.00,9,  -999.00,9,  -999.00,9,     -999,9, -999.000,9, -999.000,9,     -999,9,   -999.0,9,   -999.0,9,-999.0000,9,  -999.00,  -999.00,9,   -999.0,9,   -999.0,  -999.00,9,   0.00179,2,    0.185,2,    0.144,2,  324.000,2,   95.477,2
  096U20180111,  SR03,    59,  1,     35,     35,2,20180201,0515,-65.5698, 139.8530,  800,     10.6,  -0.4655,  33.8355,2,  33.8347,2,    346.8,2,    352.0,2,    45.60,2,    25.49,2,     0.15,2,     1.73,2,      0.8,2,    5.612,2,    3.103,2,      3.9,2,   2164.0,2,   2293.4,2,-999.0000,9,  -999.00,    14.34,2,   -999.0,9,   -999.0,  -999.00,9,   0.00190,2,    0.177,2,    0.162,2,  320.000,2,   95.665,2
  096U20180111,  SR03,    59,  1,     34,     34,2,20180201,0515,-65.5698, 139.8530,  800,     31.0,  -0.4916,  33.8452,2,-999.0000,9,    351.0,2,   -999.0,9,  -999.00,9,  -999.00,9,  -999.00,9,  -999.00,9,     -999,9, -999.000,9, -999.000,9,     -999,9,   -999.0,9,   -999.0,9,-999.0000,9,  -999.00,  -999.00,9,   -999.0,9,   -999.0,  -999.00,9,   0.00171,2,    0.179,2,    0.666,2,   60.700,2,   95.615,2
  096U20180111,  SR03,    59,  1,     33,     33,2,20180201,0515,-65.5698, 139.8530,  800,     30.9,  -0.4908,  33.8453,2,  33.8461,2,    351.0,2,    351.2,2,    45.90,2,    25.67,2,     0.16,2,     1.74,2,     0.82,2, -999.000,9, -999.000,9,     -999,9,   -999.0,9,   -999.0,9,-999.0000,9,  -999.00,  -999.00,9,   -999.0,9,   -999.0,  -999.00,9,   0.00182,2,    0.182,2,    0.690,2,   58.700,2,   95.564,2
  096U20180111,  SR03,    59,  1,     32,     32,2,20180201,0515,-65.5698, 139.8530,  800,     51.2,  -0.4692,  33.8574,2,-999.0000,9,    351.4,2,   -999.0,9,  -999.00,9,  -999.00,9,  -999.00,9,  -999.00,9,     -999,9, -999.000,9, -999.000,9,     -999,9,   -999.0,9,   -999.0,9,-999.0000,9,  -999.00,  -999.00,9,   -999.0,9,   -999.0,  -999.00,9,   0.00160,2,    0.176,2,    1.044,2,   16.200,2,   95.700,2
  096U20180111,  SR03,    59,  1,     31,     31,2,20180201,0515,-65.5698, 139.8530,  800,     51.2,  -0.4697,  33.8574,2,  33.8561,2,    351.4,2,    349.2,2,    46.40,2,    26.09,2,     0.16,2,     1.77,2,     0.82,2, -999.000,9, -999.000,9,     -999,9,   2170.2,2,   2294.5,2,-999.0000,9,  -999.00,  -999.00,9,   -999.0,9,   -999.0,  -999.00,9,   0.00164,2,    0.173,2,    1.032,2,   15.900,2,   95.757,2
  096U20180111,  SR03,    59,  1,     30,     30,2,20180201,0515,-65.5698, 139.8530,  800,     75.8,  -0.4768,  33.8765,2,-999.0000,9,    348.2,2,   -999.0,9,  -999.00,9,  -999.00,9,  -999.00,9,  -999.00,9,     -999,9, -999.000,9, -999.000,9,     -999,9,   -999.0,9,   -999.0,9,-999.0000,9,  -999.00,  -999.00,9,   -999.0,9,   -999.0,  -999.00,9,   0.00155,2,    0.143,2,    1.146,2,    3.650,2,   96.480,2
  096U20180111,  SR03,    59,  1,     29,     29,2,20180201,0515,-65.5698, 139.8530,  800,     75.7,  -0.5497,  33.8898,2,  33.9204,2,    348.2,2,    346.1,2,    48.70,2,    26.47,2,     0.15,2,     1.84,2,     0.99,2, -999.000,9, -999.000,9,     -999,9,   -999.0,9,   -999.0,9,-999.0000,9,  -999.00,  -999.00,9,   -999.0,9,   -999.0,  -999.00,9,   0.00144,2,    0.134,2,    1.146,2,    3.650,2,   96.693,2
  096U20180111,  SR03,    59,  1,     28,     28,2,20180201,0515,-65.5698, 139.8530,  800,     90.8,  -1.4898,  34.0998,2,-999.0000,9,    336.1,2,   -999.0,9,  -999.00,9,  -999.00,9,  -999.00,9,  -999.00,9,     -999,9, -999.000,9, -999.000,9,     -999,9,   -999.0,9,   -999.0,9,-999.0000,9,  -999.00,  -999.00,9,   -999.0,9,   -999.0,  -999.00,9,   0.00078,2,    0.053,2,    0.462,2,    1.650,2,   98.689,2
  096U20180111,  SR03,    59,  1,     27,     27,2,20180201,0515,-65.5698, 139.8530,  800,     90.8,  -1.4889,  34.0995,2,  34.1188,2,    336.1,2,    336.8,2,    55.40,2,    27.30,2,     0.10,2,     2.00,2,     1.29,2, -999.000,9, -999.000,9,     -999,9,   2195.2,2,   2312.6,2,-999.0000,9,  -999.00,  -999.00,9,   -999.0,9,   -999.0,  -999.00,9,   0.00082,2,    0.049,2,    0.438,2,    1.680,2,   98.784,2
  096U20180111,  SR03,    59,  1,     26,     26,2,20180201,0515,-65.5698, 139.8530,  800,    120.4,  -1.6608,  34.2672,2,-999.0000,9,    322.3,2,   -999.0,9,  -999.00,9,  -999.00,9,  -999.00,9,  -999.00,9,     -999,9, -999.000,9, -999.000,9,     -999,9,   -999.0,9,   -999.0,9,-999.0000,9,  -999.00,  -999.00,9,   -999.0,9,   -999.0,  -999.00,9,   0.00056,2,    0.028,2,    0.186,2,    0.522,2,   99.309,2
  096U20180111,  SR03,    59,  1,     25,     25,2,20180201,0515,-65.5698, 139.8530,  800,    120.3,  -1.6612,  34.2677,2,  34.2704,2,    322.3,2,    321.3,2,    61.10,2,    29.28,2,     0.09,2,     2.11,2,     0.75,2, -999.000,9, -999.000,9,     -999,9,   -999.0,9,   -999.0,9,-999.0000,9,  -999.00,  -999.00,9,   -999.0,9,   -999.0,  -999.00,9,   0.00056,2,    0.027,2,    0.192,2,    0.504,2,   99.333,2
  096U20180111,  SR03,    59,  1,     24,     24,2,20180201,0515,-65.5698, 139.8530,  800,    166.0,  -1.6653,  34.3453,2,-999.0000,9,    309.9,2,   -999.0,9,  -999.00,9,  -999.00,9,  -999.00,9,  -999.00,9,     -999,9, -999.000,9, -999.000,9,     -999,9,   -999.0,9,   -999.0,9,-999.0000,9,  -999.00,  -999.00,9,   -999.0,9,   -999.0,  -999.00,9,   0.00045,2,    0.014,2,    0.108,2,    0.077,2,   99.641,2
  096U20180111,  SR03,    59,  1,     23,     23,2,20180201,0515,-65.5698, 139.8530,  800,    166.0,  -1.6617,  34.3451,2,  34.3747,2,    309.9,2,    310.3,2,    65.30,2,    30.17,2,     0.08,2,     2.15,2,     0.44,2,    4.559,2,    2.570,2,     2.97,2,   2221.2,6,   2325.9,6,-999.0000,9,  -999.00,    16.70,2,   -999.0,9,   -999.0,  -999.00,9,   0.00046,2,    0.015,2,    0.114,2,    0.075,2,   99.622,2
  096U20180111,  SR03,    59,  1,     22,     22,2,20180201,0515,-65.5698, 139.8530,  800,    210.7,  -1.4364,  34.4241,2,-999.0000,9,    296.1,2,   -999.0,9,  -999.00,9,  -999.00,9,  -999.00,9,  -999.00,9,     -999,9, -999.000,9, -999.000,9,     -999,9,   -999.0,9,   -999.0,9,-999.0000,9,  -999.00,  -999.00,9,   -999.0,9,   -999.0,  -999.00,9,   0.00049,2,    0.010,2,    0.060,2,    0.000,2,   99.748,2
  096U20180111,  SR03,    59,  1,     21,     21,2,20180201,0515,-65.5698, 139.8530,  800,    210.7,  -1.4556,  34.4193,2,  34.4208,2,    296.1,2,    297.0,2,    70.10,2,    30.68,2,     0.08,2,     2.16,2,     0.22,2, -999.000,9, -999.000,9,     -999,9,   -999.0,9,   -999.0,9,-999.0000,9,  -999.00,  -999.00,9,   -999.0,9,   -999.0,  -999.00,9,   0.00047,2,    0.011,2,    0.066,2,    0.000,2,   99.731,2
  096U20180111,  SR03,    59,  1,     20,     20,2,20180201,0515,-65.5698, 139.8530,  800,    261.4,  -1.3172,  34.4492,2,-999.0000,9,    287.5,2,   -999.0,9,  -999.00,9,  -999.00,9,  -999.00,9,  -999.00,9,     -999,9, -999.000,9, -999.000,9,     -999,9,   -999.0,9,   -999.0,9,-999.0000,9,  -999.00,  -999.00,9,   -999.0,9,   -999.0,  -999.00,9,   0.00048,2,    0.010,2,    0.060,2,    0.000,2,   99.748,2
  096U20180111,  SR03,    59,  1,     19,     19,2,20180201,0515,-65.5698, 139.8530,  800,    261.3,  -1.3163,  34.4493,2,  34.4468,2,    287.5,2,    290.8,2,    72.00,2,    30.85,2,     0.08,2,     2.17,2,     0.14,2,    3.956,2,    2.231,2,     2.49,2,   2231.2,2,   2330.9,2,-999.0000,9,  -999.00,    17.36,2,   -999.0,9,   -999.0,  -999.00,9,   0.00047,2,    0.009,2,    0.066,2,    0.000,2,   99.766,2
  096U20180111,  SR03,    59,  1,     18,     18,2,20180201,0515,-65.5698, 139.8530,  800,    310.6,  -0.9786,  34.5084,2,-999.0000,9,    280.0,2,   -999.0,9,  -999.00,9,  -999.00,9,  -999.00,9,  -999.00,9,     -999,9, -999.000,9, -999.000,9,     -999,9,   -999.0,9,   -999.0,9,-999.0000,9,  -999.00,  -999.00,9,   -999.0,9,   -999.0,  -999.00,9,   0.00052,2,    0.010,2,    0.054,2,    0.000,2,   99.749,2
  096U20180111,  SR03,    59,  1,     17,     17,2,20180201,0515,-65.5698, 139.8530,  800,    310.6,  -0.9780,  34.5087,2,  34.5073,2,    280.0,2,    276.4,2,    77.50,2,    31.02,2,     0.07,2,     2.18,2,     0.06,2, -999.000,9, -999.000,9,     -999,9,   -999.0,9,   -999.0,9,-999.0000,9,  -999.00,  -999.00,9,   -999.0,9,   -999.0,  -999.00,9,   0.00049,2,    0.011,2,    0.060,2,    0.000,2,   99.723,2
  096U20180111,  SR03,    59,  1,     16,     16,2,20180201,0515,-65.5698, 139.8530,  800,    371.2,  -0.7314,  34.5439,2,-999.0000,9,    269.2,2,   -999.0,9,  -999.00,9,  -999.00,9,  -999.00,9,  -999.00,9,     -999,9, -999.000,9, -999.000,9,     -999,9,   -999.0,9,   -999.0,9,-999.0000,9,  -999.00,  -999.00,9,   -999.0,9,   -999.0,  -999.00,9,   0.00052,2,    0.011,2,    0.054,2,    0.000,2,   99.729,2
  096U20180111,  SR03,    59,  1,     15,     15,2,20180201,0515,-65.5698, 139.8530,  800,    371.1,  -0.7318,  34.5437,2,  34.5407,2,    269.2,2,    266.5,2,    81.60,2,    31.09,2,     0.05,2,     2.18,2,     0.06,2,    3.037,2,    1.682,2,     1.89,2,   2240.9,2,   2340.0,2,-999.0000,9,  -999.00,    16.89,2,   -999.0,9,   -999.0,  -999.00,9,   0.00051,2,    0.011,2,    0.060,2,    0.000,2,   99.733,2
  096U20180111,  SR03,    59,  1,     14,     14,2,20180201,0515,-65.5698, 139.8530,  800,    420.8,  -0.4985,  34.5812,2,-999.0000,9,    256.0,2,   -999.0,9,  -999.00,9,  -999.00,9,  -999.00,9,  -999.00,9,     -999,9, -999.000,9, -999.000,9,     -999,9,   -999.0,9,   -999.0,9,-999.0000,9,  -999.00,  -999.00,9,   -999.0,9,   -999.0,  -999.00,9,   0.00054,2,    0.012,2,    0.054,2,    0.000,2,   99.711,2
  096U20180111,  SR03,    59,  1,     13,     13,2,20180201,0515,-65.5698, 139.8530,  800,    420.7,  -0.4991,  34.5805,2,  34.5756,2,    256.0,2,    256.5,2,    86.90,2,    31.24,2,     0.04,2,     2.19,2,     0.06,2,    2.656,2,    1.469,2,     1.72,2,   2245.7,2,   2344.6,2,-999.0000,9,  -999.00,    17.57,2,   -999.0,9,   -999.0,  -999.00,9,   0.00055,2,    0.011,2,    0.054,2,    0.000,2,   99.715,2
  096U20180111,  SR03,    59,  1,     12,     12,2,20180201,0515,-65.5698, 139.8530,  800,    501.4,  -0.2497,  34.6166,2,-999.0000,9,    248.6,2,   -999.0,9,  -999.00,9,  -999.00,9,  -999.00,9,  -999.00,9,     -999,9, -999.000,9, -999.000,9,     -999,9,   -999.0,9,   -999.0,9,-999.0000,9,  -999.00,  -999.00,9,   -999.0,9,   -999.0,  -999.00,9,   0.00051,2,    0.010,2,    0.054,2,    0.000,2,   99.756,2
  096U20180111,  SR03,    59,  1,     11,     11,2,20180201,0515,-65.5698, 139.8530,  800,    501.3,  -0.2580,  34.6159,2,  34.6139,2,    248.6,2,    244.2,2,    94.40,2,    31.67,2,     0.04,2,     2.22,2,     0.04,2,    2.155,2,    1.183,2,     1.43,2,   2248.7,2,   2348.5,2,-999.0000,9,  -999.00,    17.94,2,   -999.0,9,   -999.0,  -999.00,9,   0.00052,2,    0.009,2,    0.054,2,    0.000,2,   99.762,2
  096U20180111,  SR03,    59,  1,     10,     10,2,20180201,0515,-65.5698, 139.8530,  800,    600.7,  -0.4995,  34.6107,2,-999.0000,9,    253.8,2,   -999.0,9,  -999.00,9,  -999.00,9,  -999.00,9,  -999.00,9,     -999,9, -999.000,9, -999.000,9,     -999,9,   -999.0,9,   -999.0,9,-999.0000,9,  -999.00,  -999.00,9,   -999.0,9,   -999.0,  -999.00,9,   0.00063,2,    0.014,2,    0.054,2,    0.000,2,   99.661,2
  096U20180111,  SR03,    59,  1,      9,      9,2,20180201,0515,-65.5698, 139.8530,  800,    600.7,  -0.5002,  34.6107,2,  34.6082,2,    253.8,2,    251.0,2,    93.90,2,    31.56,2,     0.05,2,     2.22,2,     0.04,2,    2.392,2,    1.353,2,     1.41,2,   -999.0,9,   -999.0,9,-999.0000,9,  -999.00,    17.94,2,   -999.0,9,   -999.0,  -999.00,9,   0.00064,2,    0.014,2,    0.060,2,    0.000,2,   99.664,2
  096U20180111,  SR03,    59,  1,      8,      8,2,20180201,0515,-65.5698, 139.8530,  800,    701.5,  -0.6489,  34.6009,2,-999.0000,9,    253.7,2,   -999.0,9,  -999.00,9,  -999.00,9,  -999.00,9,  -999.00,9,     -999,9, -999.000,9, -999.000,9,     -999,9,   -999.0,9,   -999.0,9,-999.0000,9,  -999.00,  -999.00,9,   -999.0,9,   -999.0,  -999.00,9,   0.00080,2,    0.018,2,    0.054,2,    0.000,2,   99.555,2
  096U20180111,  SR03,    59,  1,      7,      7,2,20180201,0515,-65.5698, 139.8530,  800,    701.5,  -0.6453,  34.6012,2,  34.5971,2,    253.7,2,    257.1,2,    91.80,2,    31.43,2,     0.06,2,     2.21,2,     0.06,2,    2.636,2,    1.453,2,     1.53,2,   2248.2,2,   2347.6,6,-999.0000,9,  -999.00,    17.39,2,   -999.0,9,   -999.0,  -999.00,9,   0.00073,2,    0.017,2,    0.054,2,    0.000,2,   99.570,2
  096U20180111,  SR03,    59,  1,      6,      6,2,20180201,0515,-65.5698, 139.8530,  800,    745.9,  -0.7072,  34.5959,2,-999.0000,9,    257.8,2,   -999.0,9,  -999.00,9,  -999.00,9,  -999.00,9,  -999.00,9,     -999,9, -999.000,9, -999.000,9,     -999,9,   -999.0,9,   -999.0,9,-999.0000,9,  -999.00,  -999.00,9,   -999.0,9,   -999.0,  -999.00,9,   0.00072,2,    0.019,2,    0.054,2,    0.000,2,   99.527,2
  096U20180111,  SR03,    59,  1,      5,      5,2,20180201,0515,-65.5698, 139.8530,  800,    745.8,  -0.7076,  34.5958,2,  34.5944,2,    257.8,2,    259.9,2,    90.50,2,    31.40,2,     0.05,2,     2.21,2,     0.07,2,    2.759,2,    1.524,2,     1.71,2,   -999.0,9,   -999.0,9,-999.0000,9,  -999.00,    17.78,2,   -999.0,9,   -999.0,  -999.00,9,   0.00078,2,    0.018,2,    0.060,2,    0.000,2,   99.555,2
  096U20180111,  SR03,    59,  1,      4,      4,2,20180201,0515,-65.5698, 139.8530,  800,    771.1,  -0.7544,  34.5917,2,-999.0000,9,    260.2,2,   -999.0,9,  -999.00,9,  -999.00,9,  -999.00,9,  -999.00,9,     -999,9, -999.000,9, -999.000,9,     -999,9,   -999.0,9,   -999.0,9,-999.0000,9,  -999.00,  -999.00,9,   -999.0,9,   -999.0,  -999.00,9,   0.00072,2,    0.020,2,    0.060,2,    0.000,2,   99.499,2
  096U20180111,  SR03,    59,  1,      3,      3,2,20180201,0515,-65.5698, 139.8530,  800,    771.1,  -0.7550,  34.5916,2,  34.5918,2,    260.2,2,    261.3,2,    90.10,2,    31.44,2,     0.06,2,     2.21,2,     0.08,2,    2.800,2,    1.552,2,     1.84,2,   2247.3,2,   2344.0,2,-999.0000,9,  -999.00,    17.60,2,   -999.0,9,   -999.0,  -999.00,9,   0.00071,2,    0.020,2,    0.060,2,    0.000,2,   99.508,2
  096U20180111,  SR03,    59,  1,      2,      2,2,20180201,0515,-65.5698, 139.8530,  800,    817.9,  -0.8159,  34.5877,2,-999.0000,9,    265.3,2,   -999.0,9,  -999.00,9,  -999.00,9,  -999.00,9,  -999.00,9,     -999,9, -999.000,9, -999.000,9,     -999,9,   -999.0,9,   -999.0,9,-999.0000,9,  -999.00,  -999.00,9,   -999.0,9,   -999.0,  -999.00,9,   0.00073,2,    0.021,2,    0.060,2,    0.000,2,   99.486,2
  096U20180111,  SR03,    59,  1,      1,      1,2,20180201,0515,-65.5698, 139.8530,  800,    817.8,  -0.8152,  34.5878,2,  34.5887,2,    265.3,2,    263.0,2,    89.40,2,    31.34,2,     0.06,2,     2.21,2,     0.08,2,    2.884,2,    1.570,2,     1.73,2,   2246.5,2,   2343.7,2,-999.0000,9,  -999.00,    17.54,2,   -999.0,9,   -999.0,  -999.00,9,   0.00079,2,    0.021,2,    0.066,2,    0.000,2,   99.481,2