BOTTLE,20230418CCHSIOENA
EXPOCODE,SECT_ID,STNNBR,CASTNO,SAMPNO,BTLNBR,BTLNBR_FLAG_W,DATE,TIME,LATITUDE,LONGITUDE,DEPTH,CTDPRS,CTDTMP,CTDSAL,CTDSAL_FLAG_W,SALNTY,SALNTY_FLAG_W,CTDOXY,CTDOXY_FLAG_W,OXYGEN,OXYGEN_FLAG_W,SILCAT,SILCAT_FLAG_W,NITRAT,NITRAT_FLAG_W,NITRIT,NITRIT_FLAG_W,PHSPHT,PHSPHT_FLAG_W,NH4,NH4_FLAG_W,CFC-11,CFC-11_FLAG_W,CFC-12,CFC-12_FLAG_W,SF6,SF6_FLAG_W,TCARBN,TCARBN_FLAG_W,ALKALI,ALKALI_FLAG_W,PH_TOT,PH_TOT_FLAG_W,PH_TMP,N2O,N2O_FLAG_W,DELC14,DELC14_FLAG_W,C14ERR,DELC13,DELC13_FLAG_W,CTDBETA700,CTDBETA700_FLAG_W,CTDBEAMCP,CTDBEAMCP_FLAG_W,CTDFLUOR,CTDFLUOR_FLAG_W,PAR,PAR_FLAG_W,CTDXMISS,CTDXMISS_FLAG_W
,,,,,,,,,,,METERS,DBAR,ITS-90,PSS-78,,PSS-78,,UMOL/KG,,UMOL/KG,,UMOL/KG,,UMOL/KG,,UMOL/KG,,UMOL/KG,,UMOL/KG,,PMOL/KG,,PMOL/KG,,FMOL/KG,,UMOL/KG,,UMOL/KG,,,,DEG C,NMOL/KG,,/MILLE,,/MILLE,/MILLE,,VOLTS,,1/M,,MG/M^3,,UMOL/M^2/SEC,,%TRANS,
  096U20180111,  SR03,     1,  1,      1,      1,2,20180111,0816,-44.0015, 146.3207,  251,    242.8,  11.3637,  35.0436,2,  35.0429,2,    249.2,2,    249.3,2,     2.50,2,     9.79,2,     0.03,2,     0.75,2,     0.01,2,    3.011,2,    1.752,2,     2.46,2,   2120.0,2,   2313.1,2,-999.0000,9,  -999.00,     9.99,2,   -999.0,9,   -999.0,  -999.00,9,   0.00052,2,    0.013,2,    0.036,2,    0.000,2,   99.669,2
  096U20180111,  SR03,     2,  1,     36,     36,2,20180111,1130,-44.0497, 146.2902,  561,      6.3,  15.2510,  35.1169,2,-999.0000,9,    262.3,2,   -999.0,9,  -999.00,9,  -999.00,9,  -999.00,9,  -999.00,9,     -999,9, -999.000,9, -999.000,9,     -999,9,   -999.0,9,   -999.0,9,-999.0000,9,  -999.00,  -999.00,9,   -999.0,9,   -999.0,  -999.00,9,   0.00286,2,    0.492,2,    0.918,2,    1.820,2,   88.432,2
  096U20180111,  SR03,     2,  1,     35,     35,2,20180111,1130,-44.0497, 146.2902,  561,      6.1,  15.2466,  35.1170,2,  35.1178,2,    262.3,2,    265.7,2,     0.10,2,     1.27,2,     0.09,2,     0.25,2,     0.09,2,    2.575,2,    1.543,2,     1.92,2,   2067.9,2,   2319.9,2,-999.0000,9,  -999.00,     8.39,2,   -999.0,9,   -999.0,  -999.00,9,   0.00291,2,    0.465,2,    0.894,2,    1.930,2,   89.026,2
  096U20180111,  SR03,     2,  1,     34,     34,2,20180111,1130,-44.0497, 146.2902,  561,     14.4,  15.1357,  35.1173,2,-999.0000,9,    264.9,2,   -999.0,9,  -999.00,9,  -999.00,9,  -999.00,9,  -999.00,9,     -999,9, -999.000,9, -999.000,9,     -999,9,   -999.0,9,   -999.0,9,-999.0000,9,  -999.00,  -999.00,9,   -999.0,9,   -999.0,  -999.00,9,   0.00291,2,    0.290,2,    0.912,2,    0.431,2,   93.011,2
  096U20180111,  SR03,     2,  1,     33,     33,2,20180111,1130,-44.0497, 146.2902,  561,     14.3,  15.0830,  35.1169,2,-999.0000,9,    264.9,2,   -999.0,9,  -999.00,9,  -999.00,9,  -999.00,9,  -999.00,9,     -999,9, -999.000,9, -999.000,9,     -999,9,   -999.0,9,   -999.0,9,-999.0000,9,  -999.00,  -999.00,9,   -999.0,9,   -999.0,  -999.00,9,   0.00281,2,    0.278,2,    0.942,2,    0.442,2,   93.280,2
  096U20180111,  SR03,     2,  1,     32,     32,2,20180111,1130,-44.0497, 146.2902,  561,     34.3,  14.2371,  35.1217,2,-999.0000,9,    267.2,2,   -999.0,9,  -999.00,9,  -999.00,9,  -999.00,9,  -999.00,9,     -999,9, -999.000,9, -999.000,9,     -999,9,   -999.0,9,   -999.0,9,-999.0000,9,  -999.00,  -999.00,9,   -999.0,9,   -999.0,  -999.00,9,   0.00263,2,    0.205,2,    1.248,2,    0.000,2,   95.007,2
  096U20180111,  SR03,     2,  1,     31,     31,2,20180111,1130,-44.0497, 146.2902,  561,     34.4,  14.2370,  35.1218,2,  35.1235,2,    267.2,2,    265.5,2,     0.10,2,     1.90,2,     0.11,2,     0.31,2,      0.2,2, -999.000,9, -999.000,9,     -999,9,   -999.0,9,   -999.0,9,-999.0000,9,  -999.00,  -999.00,9,   -999.0,9,   -999.0,  -999.00,9,   0.00264,2,    0.207,2,    1.206,2,    0.000,2,   94.965,2
  096U20180111,  SR03,     2,  1,     30,     30,2,20180111,1130,-44.0497, 146.2902,  561,     68.0,  14.0043,  35.1161,2,-999.0000,9,    256.7,2,   -999.0,9,  -999.00,9,  -999.00,9,  -999.00,9,  -999.00,9,     -999,9, -999.000,9, -999.000,9,     -999,9,   -999.0,9,   -999.0,9,-999.0000,9,  -999.00,  -999.00,9,   -999.0,9,   -999.0,  -999.00,9,   0.00194,2,    0.131,2,    1.032,2,    0.000,2,   96.781,2
  096U20180111,  SR03,     2,  1,     29,     29,2,20180111,1130,-44.0497, 146.2902,  561,     67.8,  13.9779,  35.1153,2,  35.1133,2,    256.7,2,    259.0,2,     0.60,2,     4.28,2,     0.21,2,     0.48,2,     0.64,2, -999.000,9, -999.000,9,     -999,9,   -999.0,9,   -999.0,9,-999.0000,9,  -999.00,  -999.00,9,   -999.0,9,   -999.0,  -999.00,9,   0.00193,2,    0.127,2,    1.008,2,    0.000,2,   96.879,2
  096U20180111,  SR03,     2,  1,     28,     28,2,20180111,1130,-44.0497, 146.2902,  561,     99.9,  12.1619,  35.1322,2,-999.0000,9,    256.5,2,   -999.0,9,  -999.00,9,  -999.00,9,  -999.00,9,  -999.00,9,     -999,9, -999.000,9, -999.000,9,     -999,9,   -999.0,9,   -999.0,9,-999.0000,9,  -999.00,  -999.00,9,   -999.0,9,   -999.0,  -999.00,9,   0.00073,2,    0.036,2,    0.234,2,    0.000,2,   99.096,2
  096U20180111,  SR03,     2,  1,     27,     27,2,20180111,1130,-44.0497, 146.2902,  561,     99.6,  12.1589,  35.1321,2,  35.1322,2,    256.5,2,    257.4,2,     1.70,2,     7.96,2,     0.08,2,     0.65,2,        0,2, -999.000,9, -999.000,9,     -999,9,   -999.0,9,   -999.0,9,-999.0000,9,  -999.00,  -999.00,9,   -999.0,9,   -999.0,  -999.00,9,   0.00068,2,    0.037,2,    0.228,2,    0.000,2,   99.090,2
  096U20180111,  SR03,     2,  1,     26,     26,2,20180111,1130,-44.0497, 146.2902,  561,    198.5,  11.4659,  35.0661,2,-999.0000,9,    260.7,2,   -999.0,9,  -999.00,9,  -999.00,9,  -999.00,9,  -999.00,9,     -999,9, -999.000,9, -999.000,9,     -999,9,   -999.0,9,   -999.0,9,-999.0000,9,  -999.00,  -999.00,9,   -999.0,9,   -999.0,  -999.00,9,   0.00052,2,    0.019,2,    0.042,2,    0.000,2,   99.524,2
  096U20180111,  SR03,     2,  1,     25,     25,2,20180111,1130,-44.0497, 146.2902,  561,    198.4,  11.4664,  35.0661,2,-999.0000,9,    260.7,2,   -999.0,9,  -999.00,9,  -999.00,9,  -999.00,9,  -999.00,9,     -999,9, -999.000,9, -999.000,9,     -999,9,   -999.0,9,   -999.0,9,-999.0000,9,  -999.00,  -999.00,9,   -999.0,9,   -999.0,  -999.00,9,   0.00052,2,    0.019,2,    0.048,2,    0.000,2,   99.526,2
  096U20180111,  SR03,     2,  1,     24,     24,2,20180111,1130,-44.0497, 146.2902,  561,    198.3,  11.4678,  35.0663,2,-999.0000,9,    260.7,2,   -999.0,9,  -999.00,9,  -999.00,9,  -999.00,9,  -999.00,9,     -999,9, -999.000,9, -999.000,9,     -999,9,   -999.0,9,   -999.0,9,-999.0000,9,  -999.00,  -999.00,9,   -999.0,9,   -999.0,  -999.00,9,   0.00051,2,    0.020,2,    0.048,2,    0.000,2,   99.507,2
  096U20180111,  SR03,     2,  1,     23,     23,2,20180111,1130,-44.0497, 146.2902,  561,    198.3,  11.4677,  35.0663,2,  35.0669,2,    260.7,2,    260.5,2,     2.40,2,     9.83,2,     0.03,2,     0.76,2,     0.02,2,    2.866,2,    1.693,2,     1.93,2,   2118.0,6,   2313.0,6,-999.0000,9,  -999.00,     9.57,2,   -999.0,9,   -999.0,  -999.00,9,   0.00056,2,    0.019,2,    0.048,2,    0.000,2,   99.523,2
  096U20180111,  SR03,     2,  1,     22,     22,2,20180111,1130,-44.0497, 146.2902,  561,    268.6,  11.1538,  35.0103,2,-999.0000,9,    255.8,2,   -999.0,9,  -999.00,9,  -999.00,9,  -999.00,9,  -999.00,9,     -999,9, -999.000,9, -999.000,9,     -999,9,   -999.0,9,   -999.0,9,-999.0000,9,  -999.00,  -999.00,9,   -999.0,9,   -999.0,  -999.00,9,   0.00055,2,    0.019,2,    0.042,2,    0.000,2,   99.517,2
  096U20180111,  SR03,     2,  1,     21,     21,2,20180111,1130,-44.0497, 146.2902,  561,    268.4,  11.1483,  35.0092,2,-999.0000,9,    255.8,2,   -999.0,9,  -999.00,9,  -999.00,9,  -999.00,9,  -999.00,9,     -999,9, -999.000,9, -999.000,9,     -999,9,   -999.0,9,   -999.0,9,-999.0000,9,  -999.00,  -999.00,9,   -999.0,9,   -999.0,  -999.00,9,   0.00058,2,    0.020,2,    0.042,2,    0.000,2,   99.502,2
  096U20180111,  SR03,     2,  1,     20,     20,2,20180111,1130,-44.0497, 146.2902,  561,    268.5,  11.1559,  35.0105,2,-999.0000,9,    255.8,2,   -999.0,9,  -999.00,9,  -999.00,9,  -999.00,9,  -999.00,9,     -999,9, -999.000,9, -999.000,9,     -999,9,   -999.0,9,   -999.0,9,-999.0000,9,  -999.00,  -999.00,9,   -999.0,9,   -999.0,  -999.00,9,   0.00058,2,    0.020,2,    0.036,2,    0.000,2,   99.491,2
  096U20180111,  SR03,     2,  1,     19,     19,2,20180111,1130,-44.0497, 146.2902,  561,    268.3,  11.1289,  35.0056,2,  35.0098,2,    255.8,2,    247.4,2,     2.80,2,    10.65,2,     0.03,2,     0.81,2,     0.02,2, -999.000,9, -999.000,9,     -999,9,   -999.0,9,   -999.0,9,-999.0000,9,  -999.00,  -999.00,9,   -999.0,9,   -999.0,  -999.00,9,   0.00068,2,    0.023,2,    0.048,2,    0.000,2,   99.424,2
  096U20180111,  SR03,     2,  1,     18,     18,2,20180111,1130,-44.0497, 146.2902,  561,    348.3,  10.3280,  34.8600,2,-999.0000,9,    254.0,2,   -999.0,9,  -999.00,9,  -999.00,9,  -999.00,9,  -999.00,9,     -999,9, -999.000,9, -999.000,9,     -999,9,   -999.0,9,   -999.0,9,-999.0000,9,  -999.00,  -999.00,9,   -999.0,9,   -999.0,  -999.00,9,   0.00056,2,    0.020,2,    0.036,2,    0.000,2,   99.491,2
  096U20180111,  SR03,     2,  1,     17,     17,2,20180111,1130,-44.0497, 146.2902,  561,    348.4,  10.3297,  34.8602,2,-999.0000,9,    254.0,2,   -999.0,9,  -999.00,9,  -999.00,9,  -999.00,9,  -999.00,9,     -999,9, -999.000,9, -999.000,9,     -999,9,   -999.0,9,   -999.0,9,-999.0000,9,  -999.00,  -999.00,9,   -999.0,9,   -999.0,  -999.00,9,   0.00056,2,    0.020,2,    0.036,2,    0.000,2,   99.496,2
  096U20180111,  SR03,     2,  1,     16,     16,2,20180111,1130,-44.0497, 146.2902,  561,    348.4,  10.3274,  34.8598,2,-999.0000,9,    254.0,2,   -999.0,9,  -999.00,9,  -999.00,9,  -999.00,9,  -999.00,9,     -999,9, -999.000,9, -999.000,9,     -999,9,   -999.0,9,   -999.0,9,-999.0000,9,  -999.00,  -999.00,9,   -999.0,9,   -999.0,  -999.00,9,   0.00057,2,    0.020,2,    0.036,2,    0.000,2,   99.503,2
  096U20180111,  SR03,     2,  1,     15,     15,2,20180111,1130,-44.0497, 146.2902,  561,    348.4,  10.3263,  34.8596,2,  34.8603,2,    254.0,2,    250.4,2,     3.50,2,    13.05,2,     0.04,2,     0.95,2,     0.01,2,    2.995,2,    1.753,2,     2.05,2,   2127.6,2,   2304.6,2,-999.0000,9,  -999.00,    10.45,2,   -999.0,9,   -999.0,  -999.00,9,   0.00056,2,    0.020,2,    0.036,2,    0.000,2,   99.493,2
  096U20180111,  SR03,     2,  1,     14,     14,2,20180111,1130,-44.0497, 146.2902,  561,    418.3,   9.7854,  34.7633,2,-999.0000,9,    248.8,2,   -999.0,9,  -999.00,9,  -999.00,9,  -999.00,9,  -999.00,9,     -999,9, -999.000,9, -999.000,9,     -999,9,   -999.0,9,   -999.0,9,-999.0000,9,  -999.00,  -999.00,9,   -999.0,9,   -999.0,  -999.00,9,   0.00054,2,    0.018,2,    0.036,2,    0.000,2,   99.547,2
  096U20180111,  SR03,     2,  1,     13,     13,2,20180111,1130,-44.0497, 146.2902,  561,    418.3,   9.7837,  34.7629,2,-999.0000,9,    248.8,2,   -999.0,9,  -999.00,9,  -999.00,9,  -999.00,9,  -999.00,9,     -999,9, -999.000,9, -999.000,9,     -999,9,   -999.0,9,   -999.0,9,-999.0000,9,  -999.00,  -999.00,9,   -999.0,9,   -999.0,  -999.00,9,   0.00061,2,    0.019,2,    0.030,2,    0.000,2,   99.538,2
  096U20180111,  SR03,     2,  1,     12,     12,2,20180111,1130,-44.0497, 146.2902,  561,    418.3,   9.7748,  34.7614,2,-999.0000,9,    248.8,2,   -999.0,9,  -999.00,9,  -999.00,9,  -999.00,9,  -999.00,9,     -999,9, -999.000,9, -999.000,9,     -999,9,   -999.0,9,   -999.0,9,-999.0000,9,  -999.00,  -999.00,9,   -999.0,9,   -999.0,  -999.00,9,   0.00056,2,    0.019,2,    0.030,2,    0.000,2,   99.519,2
  096U20180111,  SR03,     2,  1,     11,     11,2,20180111,1130,-44.0497, 146.2902,  561,    418.3,   9.7569,  34.7580,2,  34.7630,2,    248.8,2,    252.2,2,     4.20,2,    14.77,2,     0.10,2,     1.05,2,     0.04,2,    3.060,2,    1.796,2,     2.14,2,   2131.8,2,   2299.1,2,-999.0000,9,  -999.00,    11.03,2,   -999.0,9,   -999.0,  -999.00,9,   0.00053,2,    0.019,2,    0.030,2,    0.000,2,   99.538,2
  096U20180111,  SR03,     2,  1,     10,     10,2,20180111,1130,-44.0497, 146.2902,  561,    469.4,   9.3954,  34.7024,2,-999.0000,9,    247.7,2,   -999.0,9,  -999.00,9,  -999.00,9,  -999.00,9,  -999.00,9,     -999,9, -999.000,9, -999.000,9,     -999,9,   -999.0,9,   -999.0,9,-999.0000,9,  -999.00,  -999.00,9,   -999.0,9,   -999.0,  -999.00,9,   0.00055,2,    0.017,2,    0.036,2,    0.000,2,   99.567,2
  096U20180111,  SR03,     2,  1,      9,      9,2,20180111,1130,-44.0497, 146.2902,  561,    469.2,   9.3941,  34.7022,2,-999.0000,9,    247.7,2,   -999.0,9,  -999.00,9,  -999.00,9,  -999.00,9,  -999.00,9,     -999,9, -999.000,9, -999.000,9,     -999,9,   -999.0,9,   -999.0,9,-999.0000,9,  -999.00,  -999.00,9,   -999.0,9,   -999.0,  -999.00,9,   0.00052,2,    0.018,2,    0.036,2,    0.000,2,   99.562,2
  096U20180111,  SR03,     2,  1,      8,      8,2,20180111,1130,-44.0497, 146.2902,  561,    469.2,   9.3942,  34.7021,2,-999.0000,9,    247.7,2,   -999.0,9,  -999.00,9,  -999.00,9,  -999.00,9,  -999.00,9,     -999,9, -999.000,9, -999.000,9,     -999,9,   -999.0,9,   -999.0,9,-999.0000,9,  -999.00,  -999.00,9,   -999.0,9,   -999.0,  -999.00,9,   0.00054,2,    0.017,2,    0.036,2,    0.000,2,   99.573,2
  096U20180111,  SR03,     2,  1,      7,      7,2,20180111,1130,-44.0497, 146.2902,  561,    469.3,   9.3943,  34.7020,2,  34.7015,2,    247.7,2,    248.5,2,     5.00,2,    15.95,2,     0.07,2,     1.14,2,     0.03,2,    3.038,2,    1.775,2,     1.59,2,   2134.7,2,   2297.3,2,-999.0000,9,  -999.00,    11.25,2,   -999.0,9,   -999.0,  -999.00,9,   0.00052,2,    0.017,2,    0.036,2,    0.000,2,   99.566,2
  096U20180111,  SR03,     2,  1,      6,      6,2,20180111,1130,-44.0497, 146.2902,  561,    519.9,   9.2214,  34.6792,2,-999.0000,9,    241.7,2,   -999.0,9,  -999.00,9,  -999.00,9,  -999.00,9,  -999.00,9,     -999,9, -999.000,9, -999.000,9,     -999,9,   -999.0,9,   -999.0,9,-999.0000,9,  -999.00,  -999.00,9,   -999.0,9,   -999.0,  -999.00,9,   0.00053,2,    0.017,2,    0.036,2,    0.000,2,   99.569,2
  096U20180111,  SR03,     2,  1,      5,      5,2,20180111,1130,-44.0497, 146.2902,  561,    520.0,   9.2577,  34.6840,2,-999.0000,9,    241.7,2,   -999.0,9,  -999.00,9,  -999.00,9,  -999.00,9,  -999.00,9,     -999,9, -999.000,9, -999.000,9,     -999,9,   -999.0,9,   -999.0,9,-999.0000,9,  -999.00,  -999.00,9,   -999.0,9,   -999.0,  -999.00,9,   0.00053,2,    0.018,2,    0.036,2,    0.000,2,   99.564,2
  096U20180111,  SR03,     2,  1,      4,      4,2,20180111,1130,-44.0497, 146.2902,  561,    520.0,   9.2466,  34.6824,2,  34.6761,2,    241.7,2,    239.1,2,     5.70,2,    16.72,2,     0.06,2,     1.20,2,     0.02,2,    3.017,2,    1.740,2,     1.65,2,   2135.0,2,   2295.6,2,-999.0000,9,  -999.00,    11.74,2,   -999.0,9,   -999.0,  -999.00,9,   0.00051,2,    0.017,2,    0.036,2,    0.000,2,   99.569,2
  096U20180111,  SR03,     2,  1,      3,      3,2,20180111,1130,-44.0497, 146.2902,  561,    519.9,   9.2295,  34.6806,2,-999.0000,9,    241.7,2,   -999.0,9,  -999.00,9,  -999.00,9,  -999.00,9,  -999.00,9,     -999,9, -999.000,9, -999.000,9,     -999,9,   -999.0,9,   -999.0,9,-999.0000,9,  -999.00,  -999.00,9,   -999.0,9,   -999.0,  -999.00,9,   0.00054,2,    0.018,2,    0.036,2,    0.000,2,   99.564,2
  096U20180111,  SR03,     2,  1,      2,      2,2,20180111,1130,-44.0497, 146.2902,  561,    565.2,   8.8876,  34.6326,2,-999.0000,9,    235.9,2,   -999.0,9,  -999.00,9,  -999.00,9,  -999.00,9,  -999.00,9,     -999,9, -999.000,9, -999.000,9,     -999,9,   -999.0,9,   -999.0,9,-999.0000,9,  -999.00,  -999.00,9,   -999.0,9,   -999.0,  -999.00,9,   0.00050,2,    0.016,2,    0.036,2,    0.000,2,   99.595,2
  096U20180111,  SR03,     2,  1,      1,      1,2,20180111,1130,-44.0497, 146.2902,  561,    565.1,   8.8974,  34.6339,2,  34.6387,2,    235.9,2,    236.5,2,     6.30,2,    17.69,2,     0.04,2,     1.26,2,     0.07,2,    2.976,2,    1.718,2,     1.62,2,   2141.0,2,   2295.7,2,-999.0000,9,  -999.00,    11.99,2,   -999.0,9,   -999.0,  -999.00,9,   0.00050,2,    0.017,2,    0.036,2,    0.000,2,   99.566,2