BOTTLE,20230418CCHSIOENA
EXPOCODE,SECT_ID,STNNBR,CASTNO,SAMPNO,BTLNBR,BTLNBR_FLAG_W,DATE,TIME,LATITUDE,LONGITUDE,DEPTH,CTDPRS,CTDTMP,CTDSAL,CTDSAL_FLAG_W,SALNTY,SALNTY_FLAG_W,CTDOXY,CTDOXY_FLAG_W,OXYGEN,OXYGEN_FLAG_W,SILCAT,SILCAT_FLAG_W,NITRAT,NITRAT_FLAG_W,NITRIT,NITRIT_FLAG_W,PHSPHT,PHSPHT_FLAG_W,NH4,NH4_FLAG_W,CFC-11,CFC-11_FLAG_W,CFC-12,CFC-12_FLAG_W,SF6,SF6_FLAG_W,TCARBN,TCARBN_FLAG_W,ALKALI,ALKALI_FLAG_W,PH_TOT,PH_TOT_FLAG_W,PH_TMP,N2O,N2O_FLAG_W,DELC14,DELC14_FLAG_W,C14ERR,DELC13,DELC13_FLAG_W,CTDBETA700,CTDBETA700_FLAG_W,CTDBEAMCP,CTDBEAMCP_FLAG_W,CTDFLUOR,CTDFLUOR_FLAG_W,PAR,PAR_FLAG_W,CTDXMISS,CTDXMISS_FLAG_W
,,,,,,,,,,,METERS,DBAR,ITS-90,PSS-78,,PSS-78,,UMOL/KG,,UMOL/KG,,UMOL/KG,,UMOL/KG,,UMOL/KG,,UMOL/KG,,UMOL/KG,,PMOL/KG,,PMOL/KG,,FMOL/KG,,UMOL/KG,,UMOL/KG,,,,DEG C,NMOL/KG,,/MILLE,,/MILLE,/MILLE,,VOLTS,,1/M,,MG/M^3,,UMOL/M^2/SEC,,%TRANS,
  096U20180111,  SR03,    45,  1,     36,     36,2,20180127,0920,-60.8497, 139.8490, 4366,     16.4,   1.7142,  33.6380,2,-999.0000,9,    339.3,2,   -999.0,9,  -999.00,9,  -999.00,9,  -999.00,9,  -999.00,9,     -999,9, -999.000,9, -999.000,9,     -999,9,   -999.0,9,   -999.0,9,-999.0000,9,  -999.00,  -999.00,9,   -999.0,9,   -999.0,  -999.00,9,   0.00240,2,    0.231,2,    2.172,2,    0.353,2,   94.395,2
  096U20180111,  SR03,    45,  1,     35,     35,2,20180127,0920,-60.8497, 139.8490, 4366,     16.3,   1.7138,  33.6378,2,  33.6317,2,    339.3,2,    340.0,2,    11.60,2,    24.06,2,     0.25,2,     1.47,2,     0.26,2,    5.440,2,    2.864,2,     3.72,2,   2138.8,2,   2275.6,2,-999.0000,9,  -999.00,    14.12,2,   -999.0,9,   -999.0,  -999.00,9,   0.00219,2,    0.233,2,    2.148,2,    0.364,2,   94.337,2
  096U20180111,  SR03,    45,  1,     34,     34,2,20180127,0920,-60.8497, 139.8490, 4366,     34.5,   1.0515,  33.6897,2,  33.6906,2,    347.7,2,    344.9,2,    16.90,2,    24.77,2,     0.25,2,     1.60,2,     0.21,2, -999.000,9, -999.000,9,     -999,9,   -999.0,9,   -999.0,9,-999.0000,9,  -999.00,  -999.00,9,   -999.0,9,   -999.0,  -999.00,9,   0.00271,2,    0.231,2,    2.436,2,    0.016,2,   94.395,2
  096U20180111,  SR03,    45,  1,     33,     33,2,20180127,0920,-60.8497, 139.8490, 4366,     55.2,   0.5756,  33.6984,2,-999.0000,9,    348.1,2,   -999.0,9,  -999.00,9,  -999.00,9,  -999.00,9,  -999.00,9,     -999,9, -999.000,9, -999.000,9,     -999,9,   -999.0,9,   -999.0,9,-999.0000,9,  -999.00,  -999.00,9,   -999.0,9,   -999.0,  -999.00,9,   0.00336,2,    0.280,2,    3.750,2,    0.000,2,   93.251,2
  096U20180111,  SR03,    45,  1,     32,     32,2,20180127,0920,-60.8497, 139.8490, 4366,     55.0,   0.3916,  33.7059,2,  33.7244,2,    348.1,2,    348.1,2,    22.30,2,    26.16,2,     0.22,2,     1.84,2,     0.62,2,    5.654,2,    2.998,2,     3.55,2,   2156.6,6,   2280.5,6,-999.0000,9,  -999.00,    15.04,2,   -999.0,9,   -999.0,  -999.00,9,   0.00327,2,    0.269,2,    3.642,2,    0.000,2,   93.500,2
  096U20180111,  SR03,    45,  1,     31,     31,2,20180127,0920,-60.8497, 139.8490, 4366,     74.6,  -1.5260,  33.8269,2,  33.8440,2,    340.1,2,    343.4,2,    31.70,2,    28.77,2,     0.21,2,     2.06,2,     0.63,2, -999.000,9, -999.000,9,     -999,9,   -999.0,9,   -999.0,9,-999.0000,9,  -999.00,  -999.00,9,   -999.0,9,   -999.0,  -999.00,9,   0.00096,2,    0.052,2,    0.540,2,    0.000,2,   98.705,2
  096U20180111,  SR03,    45,  1,     30,     30,2,20180127,0920,-60.8497, 139.8490, 4366,    110.3,  -0.8335,  33.9717,2,-999.0000,9,    319.9,2,   -999.0,9,  -999.00,9,  -999.00,9,  -999.00,9,  -999.00,9,     -999,9, -999.000,9, -999.000,9,     -999,9,   -999.0,9,   -999.0,9,-999.0000,9,  -999.00,  -999.00,9,   -999.0,9,   -999.0,  -999.00,9,   0.00054,2,    0.019,2,    0.204,2,    0.000,2,   99.526,2
  096U20180111,  SR03,    45,  1,     29,     29,2,20180127,0920,-60.8497, 139.8490, 4366,    110.2,  -0.8725,  33.9679,2,  33.9854,2,    319.9,2,    314.7,2,    36.40,2,    30.86,2,     0.05,2,     2.12,2,     0.01,2,    5.013,2,    2.683,2,     3.08,2,   2190.6,2,   2292.9,2,-999.0000,9,  -999.00,    16.91,2,   -999.0,9,   -999.0,  -999.00,9,   0.00052,2,    0.019,2,    0.180,2,    0.000,2,   99.525,2
  096U20180111,  SR03,    45,  1,     28,     28,2,20180127,0920,-60.8497, 139.8490, 4366,    159.8,   1.4281,  34.2969,2,  34.2888,2,    245.0,2,    219.2,2,    56.70,2,    34.41,2,     0.02,2,     2.36,2,        0,2, -999.000,9, -999.000,9,     -999,9,   -999.0,9,   -999.0,9,-999.0000,9,  -999.00,  -999.00,9,   -999.0,9,   -999.0,  -999.00,9,   0.00041,2,    0.010,2,    0.072,2,    0.000,2,   99.743,2
  096U20180111,  SR03,    45,  1,     27,     27,2,20180127,0920,-60.8497, 139.8490, 4366,    211.3,   2.1228,  34.4385,2,  34.4399,2,    183.8,2,    182.7,2,    66.50,2,    35.51,2,     0.01,2,     2.43,2,        0,2,    1.627,2,    0.857,2,     0.62,2,   -999.0,9,   -999.0,9,-999.0000,9,  -999.00,    25.16,2,   -999.0,9,   -999.0,  -999.00,9,   0.00046,2,    0.009,2,    0.048,2,    0.000,2,   99.764,2
  096U20180111,  SR03,    45,  1,     26,     26,2,20180127,0920,-60.8497, 139.8490, 4366,    280.4,   2.2808,  34.5124,2,  34.5121,2,    173.3,2,    173.7,2,    70.70,2,    35.18,2,     0.00,2,     2.41,2,        0,2,    1.131,2,    0.586,2,     0.44,2,   2254.1,2,   2327.4,2,-999.0000,9,  -999.00,    24.42,2,   -999.0,9,   -999.0,  -999.00,9,   0.00043,2,    0.010,2,    0.048,2,    0.000,2,   99.736,2
  096U20180111,  SR03,    45,  1,     25,     25,2,20180127,0920,-60.8497, 139.8490, 4366,    350.0,   2.2721,  34.5708,2,-999.0000,9,    171.2,2,   -999.0,9,  -999.00,9,  -999.00,9,  -999.00,9,  -999.00,9,     -999,9, -999.000,9, -999.000,9,     -999,9,   -999.0,9,   -999.0,9,-999.0000,9,  -999.00,  -999.00,9,   -999.0,9,   -999.0,  -999.00,9,   0.00036,2,    0.005,2,    0.042,2,    0.000,2,   99.881,2
  096U20180111,  SR03,    45,  1,     24,     24,2,20180127,0920,-60.8497, 139.8490, 4366,    350.0,   2.2722,  34.5707,2,  34.5698,2,    171.2,2,    171.4,2,    73.90,2,    34.65,2,     0.00,2,     2.38,2,        0,2,    0.839,2,    0.438,2,     0.25,2,   -999.0,9,   -999.0,9,-999.0000,9,  -999.00,    23.00,2,   -999.0,9,   -999.0,  -999.00,9,   0.00038,2,    0.004,2,    0.042,2,    0.000,2,   99.888,2
  096U20180111,  SR03,    45,  1,     23,     23,2,20180127,0920,-60.8497, 139.8490, 4366,    500.7,   2.2285,  34.6435,2,-999.0000,9,    173.9,2,   -999.0,9,  -999.00,9,  -999.00,9,  -999.00,9,  -999.00,9,     -999,9, -999.000,9, -999.000,9,     -999,9,   -999.0,9,   -999.0,9,-999.0000,9,  -999.00,  -999.00,9,   -999.0,9,   -999.0,  -999.00,9,   0.00034,2,    0.002,2,    0.042,2,    0.000,2,   99.957,2
  096U20180111,  SR03,    45,  1,     22,     22,2,20180127,0920,-60.8497, 139.8490, 4366,    500.7,   2.2284,  34.6435,2,  34.6426,2,    173.9,2,    174.1,2,    77.40,2,    33.50,2,     0.00,2,     2.30,2,        0,2,    0.536,2,    0.280,2,     0.25,2,   2254.2,2,   2340.8,6,-999.0000,9,  -999.00,    22.28,2,   -999.0,9,   -999.0,  -999.00,9,   0.00032,2,    0.002,2,    0.042,2,    0.000,2,   99.953,2
  096U20180111,  SR03,    45,  1,     21,     21,2,20180127,0920,-60.8497, 139.8490, 4366,    650.5,   2.1444,  34.6869,2,  34.6870,2,    178.5,2,    179.3,2,    79.90,2,    32.60,2,     0.00,2,     2.24,2,        0,2, -999.000,9, -999.000,9,     -999,9,   -999.0,9,   -999.0,9,-999.0000,9,  -999.00,  -999.00,9,   -999.0,9,   -999.0,  -999.00,9,   0.00033,2,    0.000,2,    0.042,2,    0.000,2,   99.988,2
  096U20180111,  SR03,    45,  1,     20,     20,2,20180127,0920,-60.8497, 139.8490, 4366,    801.1,   2.0513,  34.7129,2,  34.7132,2,    183.9,2,    184.2,2,    82.10,2,    31.92,2,     0.00,2,     2.19,2,        0,2,    0.334,2,    0.179,2,     0.16,2,   -999.0,9,   -999.0,9,-999.0000,9,  -999.00,    20.45,2,   -999.0,9,   -999.0,  -999.00,9,   0.00032,2,   -0.001,2,    0.036,2,    0.000,2,  100.027,2
  096U20180111,  SR03,    45,  1,     19,     19,2,20180127,0920,-60.8497, 139.8490, 4366,   1001.5,   1.9268,  34.7351,2,-999.0000,9,    190.2,2,   -999.0,9,  -999.00,9,  -999.00,9,  -999.00,9,  -999.00,9,     -999,9, -999.000,9, -999.000,9,     -999,9,   -999.0,9,   -999.0,9,-999.0000,9,  -999.00,  -999.00,9,   -999.0,9,   -999.0,  -999.00,9,   0.00029,2,   -0.002,2,    0.036,2,    0.000,2,  100.063,2
  096U20180111,  SR03,    45,  1,     18,     18,2,20180127,0920,-60.8497, 139.8490, 4366,   1001.5,   1.9267,  34.7351,2,  34.7352,2,    190.2,2,    190.4,2,    85.10,2,    31.13,2,     0.00,2,     2.15,2,        0,2,    0.260,2,    0.132,2,     0.04,2,   2250.0,2,   2349.2,2,-999.0000,9,  -999.00,    19.66,2,   -999.0,9,   -999.0,  -999.00,9,   0.00029,2,   -0.003,2,    0.042,2,    0.000,2,  100.068,2
  096U20180111,  SR03,    45,  1,     17,     17,2,20180127,0920,-60.8497, 139.8490, 4366,   1300.6,   1.6944,  34.7432,2,  34.7436,2,    196.3,2,    196.5,2,    90.70,2,    30.88,2,    -0.01,2,     2.13,2,        0,2, -999.000,9, -999.000,9,     -999,9,   -999.0,9,   -999.0,9,-999.0000,9,  -999.00,  -999.00,9,   -999.0,9,   -999.0,  -999.00,9,   0.00028,2,   -0.003,2,    0.042,2,    0.000,2,  100.084,2
  096U20180111,  SR03,    45,  1,     16,     16,2,20180127,0920,-60.8497, 139.8490, 4366,   1599.2,   1.4359,  34.7380,2,-999.0000,9,    200.2,2,   -999.0,9,  -999.00,9,  -999.00,9,  -999.00,9,  -999.00,9,     -999,9, -999.000,9, -999.000,9,     -999,9,   -999.0,9,   -999.0,9,-999.0000,9,  -999.00,  -999.00,9,   -999.0,9,   -999.0,  -999.00,9,   0.00027,2,   -0.004,2,    0.036,2,    0.000,2,  100.100,2
  096U20180111,  SR03,    45,  1,     15,     15,2,20180127,0920,-60.8497, 139.8490, 4366,   1598.9,   1.4349,  34.7380,2,  34.7381,2,    200.2,2,    200.9,2,    98.10,2,    31.04,2,     0.00,2,     2.14,2,        0,2, -999.000,9, -999.000,9,     -999,9,   -999.0,9,   -999.0,9,-999.0000,9,  -999.00,  -999.00,9,   -999.0,9,   -999.0,  -999.00,9,   0.00027,2,   -0.004,2,    0.042,2,    0.000,2,  100.102,2
  096U20180111,  SR03,    45,  1,     14,     14,2,20180127,0920,-60.8497, 139.8490, 4366,   1900.2,   1.1876,  34.7273,2,  34.7273,2,    202.9,2,    203.2,2,   105.30,2,    31.46,2,     0.00,2,     2.17,2,        0,2,    0.228,2,    0.117,2,    -0.01,2,   2256.0,2,   2360.0,2,-999.0000,9,  -999.00,    18.47,2,   -999.0,9,   -999.0,  -999.00,9,   0.00027,2,   -0.004,2,    0.036,2,    0.000,2,  100.107,2
  096U20180111,  SR03,    45,  1,     13,     13,2,20180127,0920,-60.8497, 139.8490, 4366,   2101.7,   1.0450,  34.7198,2,-999.0000,9,    204.4,2,   -999.0,9,  -999.00,9,  -999.00,9,  -999.00,9,  -999.00,9,     -999,9, -999.000,9, -999.000,9,     -999,9,   -999.0,9,   -999.0,9,-999.0000,9,  -999.00,  -999.00,9,   -999.0,9,   -999.0,  -999.00,9,   0.00025,2,   -0.004,2,    0.036,2,    0.000,2,  100.102,2
  096U20180111,  SR03,    45,  1,     12,     12,2,20180127,0920,-60.8497, 139.8490, 4366,   2101.8,   1.0455,  34.7197,2,  34.7189,2,    204.4,2,    205.0,2,  -999.00,9,  -999.00,9,  -999.00,9,  -999.00,9,     -999,9, -999.000,9, -999.000,9,     -999,9,   -999.0,9,   -999.0,9,-999.0000,9,  -999.00,  -999.00,9,   -999.0,9,   -999.0,  -999.00,9,   0.00025,2,   -0.004,2,    0.036,2,    0.000,2,  100.109,2
  096U20180111,  SR03,    45,  1,     11,     11,2,20180127,0920,-60.8497, 139.8490, 4366,   2500.9,   0.7537,  34.7045,2,  34.7043,2,    208.9,2,    209.2,2,   117.90,2,    32.21,2,     0.00,2,     2.23,2,        0,2,    0.319,2,    0.158,2,     0.07,2,   2259.2,2,   2362.9,2,-999.0000,9,  -999.00,    18.30,2,   -999.0,9,   -999.0,  -999.00,9,   0.00025,2,   -0.005,2,    0.036,2,    0.000,2,  100.114,2
  096U20180111,  SR03,    45,  1,     10,     10,2,20180127,0920,-60.8497, 139.8490, 4366,   2900.3,   0.4972,  34.6916,2,-999.0000,9,    214.6,2,   -999.0,9,  -999.00,9,  -999.00,9,  -999.00,9,  -999.00,9,     -999,9, -999.000,9, -999.000,9,     -999,9,   -999.0,9,   -999.0,9,-999.0000,9,  -999.00,  -999.00,9,   -999.0,9,   -999.0,  -999.00,9,   0.00024,2,   -0.005,2,    0.036,2,    0.000,2,  100.113,2
  096U20180111,  SR03,    45,  1,      9,      9,2,20180127,0920,-60.8497, 139.8490, 4366,   2900.3,   0.4968,  34.6916,2,  34.6909,2,    214.6,2,    214.8,2,   124.20,2,    32.47,2,     0.00,2,     2.25,2,        0,2, -999.000,9, -999.000,9,     -999,9,   -999.0,9,   -999.0,9,-999.0000,9,  -999.00,  -999.00,9,   -999.0,9,   -999.0,  -999.00,9,   0.00024,2,   -0.005,2,    0.036,2,    0.000,2,  100.114,2
  096U20180111,  SR03,    45,  1,      8,      8,2,20180127,0920,-60.8497, 139.8490, 4366,   3300.8,   0.3258,  34.6830,2,  34.6828,2,    219.8,2,    219.9,2,   128.20,2,    32.50,2,    -0.01,2,     2.26,2,        0,2,    0.657,2,    0.327,2,     0.25,2,   2260.4,2,   2362.4,2,-999.0000,9,  -999.00,    18.51,2,   -999.0,9,   -999.0,  -999.00,9,   0.00024,2,   -0.004,2,    0.036,2,    0.000,2,  100.108,2
  096U20180111,  SR03,    45,  1,      7,      7,2,20180127,0920,-60.8497, 139.8490, 4366,   3700.7,   0.2009,  34.6765,2,-999.0000,9,    224.9,2,   -999.0,9,  -999.00,9,  -999.00,9,  -999.00,9,  -999.00,9,     -999,9, -999.000,9, -999.000,9,     -999,9,   -999.0,9,   -999.0,9,-999.0000,9,  -999.00,  -999.00,9,   -999.0,9,   -999.0,  -999.00,9,   0.00023,2,   -0.004,2,    0.042,2,    0.000,2,  100.109,2
  096U20180111,  SR03,    45,  1,      6,      6,2,20180127,0920,-60.8497, 139.8490, 4366,   3700.7,   0.2008,  34.6765,2,  34.7002,4,    224.9,2,    224.8,2,   130.50,2,    32.51,2,    -0.01,2,     2.25,2,        0,2, -999.000,9, -999.000,9,     -999,9,   -999.0,9,   -999.0,9,-999.0000,9,  -999.00,  -999.00,9,   -999.0,9,   -999.0,  -999.00,9,   0.00024,2,   -0.004,2,    0.042,2,    0.000,2,  100.108,2
  096U20180111,  SR03,    45,  1,      5,      5,2,20180127,0920,-60.8497, 139.8490, 4366,   4100.8,   0.0604,  34.6666,2,-999.0000,9,    230.9,2,   -999.0,9,  -999.00,9,  -999.00,9,  -999.00,9,  -999.00,9,     -999,9, -999.000,9, -999.000,9,     -999,9,   -999.0,9,   -999.0,9,-999.0000,9,  -999.00,  -999.00,9,   -999.0,9,   -999.0,  -999.00,9,   0.00024,2,   -0.003,2,    0.036,2,    0.000,2,  100.086,2
  096U20180111,  SR03,    45,  1,      4,      4,2,20180127,0920,-60.8497, 139.8490, 4366,   4100.8,   0.0600,  34.6665,2,  34.6666,2,    230.9,2,    230.4,2,   129.30,2,    32.38,2,    -0.01,2,     2.25,2,        0,2,    1.321,2,    0.674,2,     0.44,2,   -999.0,9,   -999.0,9,-999.0000,9,  -999.00,    18.22,2,   -999.0,9,   -999.0,  -999.00,9,   0.00023,2,   -0.003,2,    0.036,2,    0.000,2,  100.080,2
  096U20180111,  SR03,    45,  1,      3,      3,2,20180127,0920,-60.8497, 139.8490, 4366,   4400.7,  -0.0375,  34.6568,2,  34.6565,2,    235.9,2,    235.4,2,   124.40,2,    32.30,2,     0.00,2,     2.24,2,        0,2,    1.742,2,    0.918,2,     0.62,2,   2259.3,2,   2357.3,2,-999.0000,9,  -999.00,    18.11,2,   -999.0,9,   -999.0,  -999.00,9,   0.00031,2,    0.001,2,    0.042,2,    0.000,2,   99.986,2
  096U20180111,  SR03,    45,  1,      2,      2,2,20180127,0920,-60.8497, 139.8490, 4366,   4453.4,  -0.0755,  34.6535,2,-999.0000,9,    237.4,2,   -999.0,9,  -999.00,9,  -999.00,9,  -999.00,9,  -999.00,9,     -999,9, -999.000,9, -999.000,9,     -999,9,   -999.0,9,   -999.0,9,-999.0000,9,  -999.00,  -999.00,9,   -999.0,9,   -999.0,  -999.00,9,   0.00041,2,    0.007,2,    0.042,2,    0.000,2,   99.812,2
  096U20180111,  SR03,    45,  1,      1,      1,2,20180127,0920,-60.8497, 139.8490, 4366,   4453.5,  -0.0763,  34.6536,2,  34.6538,2,    237.4,2,    237.1,2,   123.20,2,    32.25,2,     0.00,2,     2.24,2,        0,2,    1.917,2,    1.014,2,      0.7,2,   -999.0,9,   -999.0,9,-999.0000,9,  -999.00,    18.43,2,   -999.0,9,   -999.0,  -999.00,9,   0.00041,2,    0.007,2,    0.042,2,    0.000,2,   99.814,2