BOTTLE,20230418CCHSIOENA
EXPOCODE,SECT_ID,STNNBR,CASTNO,SAMPNO,BTLNBR,BTLNBR_FLAG_W,DATE,TIME,LATITUDE,LONGITUDE,DEPTH,CTDPRS,CTDTMP,CTDSAL,CTDSAL_FLAG_W,SALNTY,SALNTY_FLAG_W,CTDOXY,CTDOXY_FLAG_W,OXYGEN,OXYGEN_FLAG_W,SILCAT,SILCAT_FLAG_W,NITRAT,NITRAT_FLAG_W,NITRIT,NITRIT_FLAG_W,PHSPHT,PHSPHT_FLAG_W,NH4,NH4_FLAG_W,CFC-11,CFC-11_FLAG_W,CFC-12,CFC-12_FLAG_W,SF6,SF6_FLAG_W,TCARBN,TCARBN_FLAG_W,ALKALI,ALKALI_FLAG_W,PH_TOT,PH_TOT_FLAG_W,PH_TMP,N2O,N2O_FLAG_W,DELC14,DELC14_FLAG_W,C14ERR,DELC13,DELC13_FLAG_W,CTDBETA700,CTDBETA700_FLAG_W,CTDBEAMCP,CTDBEAMCP_FLAG_W,CTDFLUOR,CTDFLUOR_FLAG_W,PAR,PAR_FLAG_W,CTDXMISS,CTDXMISS_FLAG_W
,,,,,,,,,,,METERS,DBAR,ITS-90,PSS-78,,PSS-78,,UMOL/KG,,UMOL/KG,,UMOL/KG,,UMOL/KG,,UMOL/KG,,UMOL/KG,,UMOL/KG,,PMOL/KG,,PMOL/KG,,FMOL/KG,,UMOL/KG,,UMOL/KG,,,,DEG C,NMOL/KG,,/MILLE,,/MILLE,/MILLE,,VOLTS,,1/M,,MG/M^3,,UMOL/M^2/SEC,,%TRANS,
  096U20180111,  SR03,    72,  1,     36,     36,2,20180204,1447,-64.5998, 150.0002, 3423,     10.4,   0.7920,  33.6340,2,-999.0000,9,    337.7,2,   -999.0,9,  -999.00,9,  -999.00,9,  -999.00,9,  -999.00,9,     -999,9, -999.000,9, -999.000,9,     -999,9,   -999.0,9,   -999.0,9,-999.0000,9,  -999.00,  -999.00,9,   -999.0,9,   -999.0,  -999.00,9,   0.00278,2,    0.329,2,    2.478,2,    1.620,2,   92.101,2
  096U20180111,  SR03,    72,  1,     35,     35,2,20180204,1447,-64.5998, 150.0002, 3423,     10.4,   0.7920,  33.6339,2,  33.6340,2,    337.7,2,    339.4,2,    32.20,2,    26.40,2,     0.21,2,     1.64,2,     0.31,2,    5.334,2,    2.920,2,     3.34,2,   2151.7,2,   2274.1,2,-999.0000,9,  -999.00,    14.72,2,   -999.0,9,   -999.0,  -999.00,9,   0.00264,2,    0.325,2,    2.466,2,    1.570,2,   92.191,2
  096U20180111,  SR03,    72,  1,     34,     34,2,20180204,1447,-64.5998, 150.0002, 3423,     35.5,   0.7705,  33.6410,2,-999.0000,9,    337.1,2,   -999.0,9,  -999.00,9,  -999.00,9,  -999.00,9,  -999.00,9,     -999,9, -999.000,9, -999.000,9,     -999,9,   -999.0,9,   -999.0,9,-999.0000,9,  -999.00,  -999.00,9,   -999.0,9,   -999.0,  -999.00,9,   0.00280,2,    0.328,2,    2.538,2,    0.056,2,   92.123,2
  096U20180111,  SR03,    72,  1,     33,     33,2,20180204,1447,-64.5998, 150.0002, 3423,     35.6,   0.7552,  33.6456,2,  33.6747,2,    337.1,2,    335.2,2,    33.80,2,    26.72,2,     0.21,2,     1.70,2,     0.32,2,    5.218,2,    2.888,2,     3.39,2,   2156.8,2,   2277.3,2,-999.0000,9,  -999.00,    15.07,2,   -999.0,9,   -999.0,  -999.00,9,   0.00296,2,    0.329,2,    2.478,2,    0.051,2,   92.114,2
  096U20180111,  SR03,    72,  1,     32,     32,2,20180204,1447,-64.5998, 150.0002, 3423,     55.3,   0.2359,  34.3089,2,-999.0000,9,    242.8,2,   -999.0,9,  -999.00,9,  -999.00,9,  -999.00,9,  -999.00,9,     -999,9, -999.000,9, -999.000,9,     -999,9,   -999.0,9,   -999.0,9,-999.0000,9,  -999.00,  -999.00,9,   -999.0,9,   -999.0,  -999.00,9,   0.00155,2,    0.145,2,    2.124,2,    0.000,2,   96.445,2
  096U20180111,  SR03,    72,  1,     31,     31,2,20180204,1447,-64.5998, 150.0002, 3423,     55.3,   0.2546,  34.3126,2,  34.3414,2,    242.8,2,    241.7,2,    62.70,2,    31.88,2,     0.14,2,     2.25,2,     0.31,2,    2.655,2,    1.444,2,     1.37,2,   2228.9,6,   2318.4,6,-999.0000,9,  -999.00,    20.36,2,   -999.0,9,   -999.0,  -999.00,9,   0.00145,2,    0.143,2,    2.118,2,    0.000,2,   96.493,2
  096U20180111,  SR03,    72,  1,     30,     30,2,20180204,1447,-64.5998, 150.0002, 3423,     90.9,   1.4036,  34.5581,2,-999.0000,9,    184.6,2,   -999.0,9,  -999.00,9,  -999.00,9,  -999.00,9,  -999.00,9,     -999,9, -999.000,9, -999.000,9,     -999,9,   -999.0,9,   -999.0,9,-999.0000,9,  -999.00,  -999.00,9,   -999.0,9,   -999.0,  -999.00,9,   0.00056,2,    0.027,2,    0.258,2,    0.000,2,   99.318,2
  096U20180111,  SR03,    72,  1,     29,     29,2,20180204,1447,-64.5998, 150.0002, 3423,     90.8,   1.3963,  34.5575,2,  34.5644,2,    184.6,2,    187.8,2,    78.20,2,    33.86,2,     0.11,2,     2.34,2,     0.01,2,    1.235,2,    0.670,2,     0.58,2,   2254.7,2,   2332.9,2,-999.0000,9,  -999.00,    22.81,2,   -999.0,9,   -999.0,  -999.00,9,   0.00058,2,    0.027,2,    0.264,2,    0.000,2,   99.317,2
  096U20180111,  SR03,    72,  1,     28,     28,2,20180204,1447,-64.5998, 150.0002, 3423,    140.6,   1.8016,  34.6354,2,-999.0000,9,    179.1,2,   -999.0,9,  -999.00,9,  -999.00,9,  -999.00,9,  -999.00,9,     -999,9, -999.000,9, -999.000,9,     -999,9,   -999.0,9,   -999.0,9,-999.0000,9,  -999.00,  -999.00,9,   -999.0,9,   -999.0,  -999.00,9,   0.00051,2,    0.015,2,    0.048,2,    0.000,2,   99.632,2
  096U20180111,  SR03,    72,  1,     27,     27,2,20180204,1447,-64.5998, 150.0002, 3423,    140.6,   1.8154,  34.6385,2,  34.6387,2,    179.1,2,    178.7,2,    82.10,2,    33.42,2,     0.02,2,     2.31,2,        0,2,    0.747,6,    0.405,6,     0.25,6,   2256.5,2,   2338.7,2,-999.0000,9,  -999.00,    22.39,6,   -999.0,9,   -999.0,  -999.00,9,   0.00051,2,    0.013,2,    0.048,2,    0.000,2,   99.671,2
  096U20180111,  SR03,    72,  1,     26,     26,2,20180204,1447,-64.5998, 150.0002, 3423,    200.5,   1.8694,  34.6778,2,  34.6784,2,    182.1,2,    180.6,2,    83.80,2,    32.75,2,     0.01,2,     2.27,2,        0,2, -999.000,9, -999.000,9,     -999,9,   -999.0,9,   -999.0,9,-999.0000,9,  -999.00,  -999.00,9,   -999.0,9,   -999.0,  -999.00,9,   0.00067,2,    0.016,2,    0.036,2,    0.000,2,   99.596,2
  096U20180111,  SR03,    72,  1,     25,     25,2,20180204,1447,-64.5998, 150.0002, 3423,    250.6,   1.8747,  34.6925,2,  34.6925,2,    181.7,2,    181.9,2,    84.70,2,    32.42,2,     0.01,2,     2.25,2,        0,2,    0.506,2,    0.274,2,     0.02,2,   2254.9,2,   2343.1,6,-999.0000,9,  -999.00,    21.10,2,   -999.0,9,   -999.0,  -999.00,9,   0.00058,2,    0.013,2,    0.036,2,    0.000,2,   99.673,2
  096U20180111,  SR03,    72,  1,     24,     24,2,20180204,1447,-64.5998, 150.0002, 3423,    350.0,   1.8067,  34.7115,2,  34.7109,2,    186.2,2,    186.3,2,    86.10,2,    31.84,2,     0.01,2,     2.21,2,        0,2, -999.000,9, -999.000,9,     -999,9,   2253.5,2,   2344.9,2,-999.0000,9,  -999.00,  -999.00,9,   -999.0,9,   -999.0,  -999.00,9,   0.00040,2,    0.005,2,    0.036,2,    0.000,2,   99.872,2
  096U20180111,  SR03,    72,  1,     23,     23,2,20180204,1447,-64.5998, 150.0002, 3423,    450.4,   1.7504,  34.7253,2,  34.7249,2,    190.3,2,    190.5,2,    87.90,2,    31.40,2,     0.01,2,     2.18,2,        0,2,    0.376,2,    0.199,2,     0.13,2,   2147.8,4,   2348.2,2,-999.0000,9,  -999.00,    20.04,2,   -999.0,9,   -999.0,  -999.00,9,   0.00039,2,    0.002,2,    0.036,2,    0.000,2,   99.943,2
  096U20180111,  SR03,    72,  1,     22,     22,2,20180204,1447,-64.5998, 150.0002, 3423,    550.5,   1.7073,  34.7340,2,  34.7336,2,    193.2,2,    192.6,2,    89.40,2,    31.10,2,     0.01,2,     2.16,2,        0,2,    0.315,2,    0.175,2,     0.23,2,   2252.3,2,   2347.9,2,-999.0000,9,  -999.00,    19.33,2,   -999.0,9,   -999.0,  -999.00,9,   0.00039,2,    0.005,2,    0.036,2,    0.000,2,   99.886,2
  096U20180111,  SR03,    72,  1,     21,     21,2,20180204,1447,-64.5998, 150.0002, 3423,    650.9,   1.6335,  34.7376,2,  34.7380,2,    195.6,2,    195.1,2,    91.20,2,    30.89,2,     0.01,2,     2.15,2,        0,2, -999.000,9, -999.000,9,     -999,9,   -999.0,9,   -999.0,9,-999.0000,9,  -999.00,  -999.00,9,   -999.0,9,   -999.0,  -999.00,9,   0.00036,2,    0.002,2,    0.036,2,    0.000,2,   99.955,2
  096U20180111,  SR03,    72,  1,     20,     20,2,20180204,1447,-64.5998, 150.0002, 3423,    751.0,   1.5375,  34.7387,2,  34.7383,2,    198.0,2,    197.1,2,    93.70,2,    30.84,2,     0.00,2,     2.15,2,        0,2,    0.272,2,    0.148,2,     0.08,2,   2251.2,2,   2352.1,2,-999.0000,9,  -999.00,    18.68,2,   -999.0,9,   -999.0,  -999.00,9,   0.00032,2,    0.001,2,    0.030,2,    0.000,2,   99.979,2
  096U20180111,  SR03,    72,  1,     19,     19,2,20180204,1447,-64.5998, 150.0002, 3423,    850.6,   1.4582,  34.7381,2,  34.7379,2,    199.4,2,    198.9,2,    96.40,2,    30.89,2,     0.00,2,     2.15,2,        0,2,    0.254,2,    0.139,2,     0.13,2,   -999.0,9,   -999.0,9,-999.0000,9,  -999.00,    18.79,2,   -999.0,9,   -999.0,  -999.00,9,   0.00030,2,   -0.001,2,    0.030,2,    0.000,2,  100.012,2
  096U20180111,  SR03,    72,  1,     18,     18,2,20180204,1447,-64.5998, 150.0002, 3423,   1000.2,   1.3053,  34.7333,2,  34.7337,2,    201.3,2,    201.0,2,   100.30,2,    31.02,2,     0.00,2,     2.16,2,        0,2,    0.259,2,    0.137,2,      0.1,2,   2254.2,2,   2354.2,2,-999.0000,9,  -999.00,    18.85,2,   -999.0,9,   -999.0,  -999.00,9,   0.00030,2,   -0.001,2,    0.030,2,    0.000,2,  100.017,2
  096U20180111,  SR03,    72,  1,     17,     17,2,20180204,1447,-64.5998, 150.0002, 3423,   1150.1,   1.1600,  34.7265,2,  34.7262,2,    202.6,2,    203.2,2,   104.50,2,    31.20,2,     0.01,2,     2.18,2,        0,2, -999.000,9, -999.000,9,     -999,9,   -999.0,9,   -999.0,9,-999.0000,9,  -999.00,  -999.00,9,   -999.0,9,   -999.0,  -999.00,9,   0.00029,2,   -0.001,2,    0.036,2,    0.000,2,  100.020,2
  096U20180111,  SR03,    72,  1,     16,     16,2,20180204,1447,-64.5998, 150.0002, 3423,   1300.4,   1.0447,  34.7204,2,  34.7194,2,    204.3,2,    204.6,2,   107.40,2,    31.39,2,     0.01,2,     2.20,2,        0,2,    0.300,2,    0.153,2,     0.08,2,   2256.2,2,   2355.5,2,-999.0000,9,  -999.00,    18.55,2,   -999.0,9,   -999.0,  -999.00,9,   0.00028,2,   -0.002,2,    0.036,2,    0.000,2,  100.039,2
  096U20180111,  SR03,    72,  1,     15,     15,2,20180204,1447,-64.5998, 150.0002, 3423,   1500.6,   0.8679,  34.7116,2,  34.7114,2,    206.4,2,    206.6,2,   112.40,2,    31.69,2,     0.00,2,     2.22,2,        0,2,    0.324,2,    0.176,2,     0.08,2,   -999.0,9,   -999.0,9,-999.0000,9,  -999.00,    18.40,2,   -999.0,9,   -999.0,  -999.00,9,   0.00027,2,   -0.002,2,    0.030,2,    0.000,2,  100.057,2
  096U20180111,  SR03,    72,  1,     14,     14,2,20180204,1447,-64.5998, 150.0002, 3423,   1700.6,   0.7020,  34.7024,2,  34.7021,2,    209.2,2,    209.0,2,   116.20,2,    31.96,2,     0.00,2,     2.24,2,        0,2,    0.384,2,    0.202,2,     0.02,2,   2260.0,2,   2357.8,6,-999.0000,9,  -999.00,    18.32,2,   -999.0,9,   -999.0,  -999.00,9,   0.00028,2,   -0.003,2,    0.036,2,    0.000,2,  100.066,2
  096U20180111,  SR03,    72,  1,     13,     13,2,20180204,1447,-64.5998, 150.0002, 3423,   1900.5,   0.5590,  34.6953,2,  34.7132,4,    211.9,2,    211.5,2,   119.50,2,    32.16,2,     0.00,2,     2.25,2,        0,2,    0.452,2,    0.239,2,     0.07,2,   -999.0,9,   -999.0,9,-999.0000,9,  -999.00,    18.24,2,   -999.0,9,   -999.0,  -999.00,9,   0.00025,2,   -0.003,2,    0.036,2,    0.000,2,  100.069,2
  096U20180111,  SR03,    72,  1,     12,     12,2,20180204,1447,-64.5998, 150.0002, 3423,   2100.8,   0.4303,  34.6896,2,  34.6895,2,    214.9,2,    214.9,2,   122.30,2,    32.19,2,     0.00,2,     2.26,2,        0,2,    0.536,2,    0.276,2,     0.03,2,   2262.2,2,   2358.2,2,-999.0000,9,  -999.00,    18.73,3,   -999.0,9,   -999.0,  -999.00,9,   0.00025,2,   -0.003,2,    0.036,2,    0.000,2,  100.070,2
  096U20180111,  SR03,    72,  1,     11,     11,2,20180204,1447,-64.5998, 150.0002, 3423,   2350.4,   0.2965,  34.6845,2,  34.6843,2,    218.4,2,    218.5,2,   125.40,2,    32.25,2,     0.01,2,     2.26,2,        0,2,    0.646,2,    0.330,2,     0.17,2,   2260.5,6,   2358.6,6,-999.0000,9,  -999.00,    18.02,2,   -999.0,9,   -999.0,  -999.00,9,   0.00024,2,   -0.003,2,    0.036,2,    0.000,2,  100.081,2
  096U20180111,  SR03,    72,  1,     10,     10,2,20180204,1447,-64.5998, 150.0002, 3423,   2600.8,   0.1898,  34.6795,2,  34.6790,2,    221.7,2,    221.9,2,   126.60,2,    32.25,2,     0.01,2,     2.27,2,        0,2,    0.822,2,    0.427,2,      0.2,2,   2260.9,2,   2357.8,2,-999.0000,9,  -999.00,    18.19,2,   -999.0,9,   -999.0,  -999.00,9,   0.00025,2,   -0.003,2,    0.036,2,    0.000,2,  100.086,2
  096U20180111,  SR03,    72,  1,      9,      9,2,20180204,1447,-64.5998, 150.0002, 3423,   2850.9,   0.0868,  34.6742,2,  34.6736,2,    225.8,2,    225.8,2,   124.50,2,    32.14,2,     0.00,2,     2.26,2,        0,2,    1.117,2,    0.581,2,     0.54,2,   2259.6,2,   2356.7,2,-999.0000,9,  -999.00,    18.24,2,   -999.0,9,   -999.0,  -999.00,9,   0.00024,2,   -0.003,2,    0.036,2,    0.000,2,  100.073,2
  096U20180111,  SR03,    72,  1,      8,      8,2,20180204,1447,-64.5998, 150.0002, 3423,   3099.7,  -0.0160,  34.6699,2,-999.0000,9,    230.1,2,   -999.0,9,  -999.00,9,  -999.00,9,  -999.00,9,  -999.00,9,     -999,9, -999.000,9, -999.000,9,     -999,9,   -999.0,9,   -999.0,9,-999.0000,9,  -999.00,  -999.00,9,   -999.0,9,   -999.0,  -999.00,9,   0.00024,2,   -0.002,2,    0.036,2,    0.000,2,  100.051,2
  096U20180111,  SR03,    72,  1,      7,      7,2,20180204,1447,-64.5998, 150.0002, 3423,   3099.6,  -0.0158,  34.6699,2,  34.6690,2,    230.1,2,    230.2,2,   119.50,2,    31.96,2,     0.00,2,     2.25,2,        0,2,    1.522,2,    0.800,2,     0.61,2,   2259.9,2,   2353.9,2,-999.0000,9,  -999.00,    18.41,2,   -999.0,9,   -999.0,  -999.00,9,   0.00025,2,   -0.002,2,    0.036,2,    0.000,2,  100.056,2
  096U20180111,  SR03,    72,  1,      6,      6,2,20180204,1447,-64.5998, 150.0002, 3423,   3301.1,  -0.0883,  34.6770,2,-999.0000,9,    234.2,2,   -999.0,9,  -999.00,9,  -999.00,9,  -999.00,9,  -999.00,9,     -999,9, -999.000,9, -999.000,9,     -999,9,   -999.0,9,   -999.0,9,-999.0000,9,  -999.00,  -999.00,9,   -999.0,9,   -999.0,  -999.00,9,   0.00029,2,    0.001,2,    0.036,2,    0.000,2,   99.972,2
  096U20180111,  SR03,    72,  1,      5,      5,2,20180204,1447,-64.5998, 150.0002, 3423,   3301.1,  -0.0886,  34.6769,2,  34.6760,2,    234.2,2,    234.2,2,   106.90,2,    31.79,2,     0.00,2,     2.24,2,        0,2,    1.957,2,    1.056,2,     0.96,2,   2258.7,2,   2354.2,2,-999.0000,9,  -999.00,    18.08,2,   -999.0,9,   -999.0,  -999.00,9,   0.00029,2,    0.001,2,    0.036,2,    0.000,2,   99.974,2
  096U20180111,  SR03,    72,  1,      4,      4,2,20180204,1447,-64.5998, 150.0002, 3423,   3430.4,  -0.1490,  34.6862,2,-999.0000,9,    237.5,2,   -999.0,9,  -999.00,9,  -999.00,9,  -999.00,9,  -999.00,9,     -999,9, -999.000,9, -999.000,9,     -999,9,   -999.0,9,   -999.0,9,-999.0000,9,  -999.00,  -999.00,9,   -999.0,9,   -999.0,  -999.00,9,   0.00044,2,    0.009,2,    0.036,2,    0.000,2,   99.774,2
  096U20180111,  SR03,    72,  1,      3,      3,2,20180204,1447,-64.5998, 150.0002, 3423,   3430.3,  -0.1495,  34.6863,2,  34.6860,2,    237.5,2,    237.2,2,   102.70,2,    31.63,2,     0.01,2,     2.23,2,        0,2,    2.179,2,    1.190,2,     1.13,2,   2258.2,2,   2353.1,2,-999.0000,9,  -999.00,    18.41,2,   -999.0,9,   -999.0,  -999.00,9,   0.00045,2,    0.009,2,    0.036,2,    0.000,2,   99.767,2
  096U20180111,  SR03,    72,  1,      2,      2,2,20180204,1447,-64.5998, 150.0002, 3423,   3482.7,  -0.1495,  34.6877,2,-999.0000,9,    237.4,2,   -999.0,9,  -999.00,9,  -999.00,9,  -999.00,9,  -999.00,9,     -999,9, -999.000,9, -999.000,9,     -999,9,   -999.0,9,   -999.0,9,-999.0000,9,  -999.00,  -999.00,9,   -999.0,9,   -999.0,  -999.00,9,   0.00055,2,    0.013,2,    0.036,2,    0.000,2,   99.679,2
  096U20180111,  SR03,    72,  1,      1,      1,2,20180204,1447,-64.5998, 150.0002, 3423,   3482.8,  -0.1496,  34.6878,2,  34.6863,2,    237.4,2,    237.4,2,   102.50,2,    31.62,2,     0.01,2,     2.22,2,        0,2,    2.191,2,    1.197,2,     1.25,2,   2258.4,6,   2353.6,6,-999.0000,9,  -999.00,    18.33,2,   -999.0,9,   -999.0,  -999.00,9,   0.00053,2,    0.012,2,    0.042,2,    0.000,2,   99.692,2