BOTTLE,20230418CCHSIOENA
EXPOCODE,SECT_ID,STNNBR,CASTNO,SAMPNO,BTLNBR,BTLNBR_FLAG_W,DATE,TIME,LATITUDE,LONGITUDE,DEPTH,CTDPRS,CTDTMP,CTDSAL,CTDSAL_FLAG_W,SALNTY,SALNTY_FLAG_W,CTDOXY,CTDOXY_FLAG_W,OXYGEN,OXYGEN_FLAG_W,SILCAT,SILCAT_FLAG_W,NITRAT,NITRAT_FLAG_W,NITRIT,NITRIT_FLAG_W,PHSPHT,PHSPHT_FLAG_W,NH4,NH4_FLAG_W,CFC-11,CFC-11_FLAG_W,CFC-12,CFC-12_FLAG_W,SF6,SF6_FLAG_W,TCARBN,TCARBN_FLAG_W,ALKALI,ALKALI_FLAG_W,PH_TOT,PH_TOT_FLAG_W,PH_TMP,N2O,N2O_FLAG_W,DELC14,DELC14_FLAG_W,C14ERR,DELC13,DELC13_FLAG_W,CTDBETA700,CTDBETA700_FLAG_W,CTDBEAMCP,CTDBEAMCP_FLAG_W,CTDFLUOR,CTDFLUOR_FLAG_W,PAR,PAR_FLAG_W,CTDXMISS,CTDXMISS_FLAG_W
,,,,,,,,,,,METERS,DBAR,ITS-90,PSS-78,,PSS-78,,UMOL/KG,,UMOL/KG,,UMOL/KG,,UMOL/KG,,UMOL/KG,,UMOL/KG,,UMOL/KG,,PMOL/KG,,PMOL/KG,,FMOL/KG,,UMOL/KG,,UMOL/KG,,,,DEG C,NMOL/KG,,/MILLE,,/MILLE,/MILLE,,VOLTS,,1/M,,MG/M^3,,UMOL/M^2/SEC,,%TRANS,
  096U20180111,  SR03,    66,  1,     36,     36,2,20180202,1458,-65.9998, 143.6407,  424,      5.3,  -1.3941,  33.4506,2,  33.4516,2,    360.8,2,    360.9,2,    45.40,2,    25.04,2,     0.17,2,     1.59,2,      0.1,2,    5.774,2,    3.120,2,      3.5,2,   2134.3,2,   2266.7,2,-999.0000,9,  -999.00,    15.50,2,   -999.0,9,   -999.0,  -999.00,9,   0.00413,2,    0.383,2,    3.936,2,    2.010,2,   90.860,2
  096U20180111,  SR03,    66,  1,     35,     35,2,20180202,1458,-65.9998, 143.6407,  424,      5.4,  -1.3938,  33.4505,2,-999.0000,9,    360.8,2,   -999.0,9,  -999.00,9,  -999.00,9,  -999.00,9,  -999.00,9,     -999,9, -999.000,9, -999.000,9,     -999,9,   -999.0,9,   -999.0,9,-999.0000,9,  -999.00,  -999.00,9,   -999.0,9,   -999.0,  -999.00,9,   0.00395,2,    0.377,2,    3.930,2,    1.910,2,   90.994,2
  096U20180111,  SR03,    66,  1,     34,     34,2,20180202,1458,-65.9998, 143.6407,  424,      5.4,  -1.3933,  33.4506,2,-999.0000,9,    360.8,2,   -999.0,9,  -999.00,9,  -999.00,9,  -999.00,9,  -999.00,9,     -999,9, -999.000,9, -999.000,9,     -999,9,   -999.0,9,   -999.0,9,-999.0000,9,  -999.00,  -999.00,9,   -999.0,9,   -999.0,  -999.00,9,   0.00402,2,    0.373,2,    4.032,2,    2.020,2,   91.091,2
  096U20180111,  SR03,    66,  1,     33,     33,2,20180202,1458,-65.9998, 143.6407,  424,     30.7,  -1.3879,  33.4654,2,  33.4991,2,    356.6,2,    357.6,2,    46.40,2,    25.15,2,     0.17,2,     1.64,2,     0.17,2, -999.000,9, -999.000,9,     -999,9,   -999.0,9,   -999.0,9,-999.0000,9,  -999.00,  -999.00,9,   -999.0,9,   -999.0,  -999.00,9,   0.00445,2,    0.388,2,    4.800,2,    0.000,2,   90.761,2
  096U20180111,  SR03,    66,  1,     32,     32,2,20180202,1458,-65.9998, 143.6407,  424,     30.7,  -1.3872,  33.4658,2,-999.0000,9,    356.6,2,   -999.0,9,  -999.00,9,  -999.00,9,  -999.00,9,  -999.00,9,     -999,9, -999.000,9, -999.000,9,     -999,9,   -999.0,9,   -999.0,9,-999.0000,9,  -999.00,  -999.00,9,   -999.0,9,   -999.0,  -999.00,9,   0.00418,2,    0.388,2,    4.320,2,    0.000,2,   90.750,2
  096U20180111,  SR03,    66,  1,     31,     31,2,20180202,1458,-65.9998, 143.6407,  424,     30.6,  -1.3878,  33.4656,2,-999.0000,9,    356.6,2,   -999.0,9,  -999.00,9,  -999.00,9,  -999.00,9,  -999.00,9,     -999,9, -999.000,9, -999.000,9,     -999,9,   -999.0,9,   -999.0,9,-999.0000,9,  -999.00,  -999.00,9,   -999.0,9,   -999.0,  -999.00,9,   0.00400,2,    0.396,2,    4.158,2,    0.000,2,   90.573,2
  096U20180111,  SR03,    66,  1,     30,     30,2,20180202,1458,-65.9998, 143.6407,  424,     45.9,  -1.3650,  33.6064,2,  33.7544,2,    352.9,2,    348.1,2,    51.90,2,    25.54,2,     0.15,2,     1.73,2,     0.55,2, -999.000,9, -999.000,9,     -999,9,   2160.3,2,   2289.2,2,-999.0000,9,  -999.00,  -999.00,9,   -999.0,9,   -999.0,  -999.00,9,   0.00366,2,    0.322,2,    3.618,2,    0.000,2,   92.270,2
  096U20180111,  SR03,    66,  1,     29,     29,2,20180202,1458,-65.9998, 143.6407,  424,     45.8,  -1.3643,  33.6077,2,-999.0000,9,    352.9,2,   -999.0,9,  -999.00,9,  -999.00,9,  -999.00,9,  -999.00,9,     -999,9, -999.000,9, -999.000,9,     -999,9,   -999.0,9,   -999.0,9,-999.0000,9,  -999.00,  -999.00,9,   -999.0,9,   -999.0,  -999.00,9,   0.00366,2,    0.322,2,    3.510,2,    0.000,2,   92.263,2
  096U20180111,  SR03,    66,  1,     28,     28,2,20180202,1458,-65.9998, 143.6407,  424,     45.8,  -1.3634,  33.6105,2,-999.0000,9,    352.9,2,   -999.0,9,  -999.00,9,  -999.00,9,  -999.00,9,  -999.00,9,     -999,9, -999.000,9, -999.000,9,     -999,9,   -999.0,9,   -999.0,9,-999.0000,9,  -999.00,  -999.00,9,   -999.0,9,   -999.0,  -999.00,9,   0.00402,2,    0.329,2,    3.600,2,    0.000,2,   92.102,2
  096U20180111,  SR03,    66,  1,     27,     27,2,20180202,1458,-65.9998, 143.6407,  424,     80.7,  -1.5187,  34.3104,2,  34.3219,2,    308.4,2,    307.3,2,    69.30,2,    29.63,2,     0.11,2,     2.09,2,     0.53,2, -999.000,9, -999.000,9,     -999,9,   -999.0,9,   -999.0,9,-999.0000,9,  -999.00,  -999.00,9,   -999.0,9,   -999.0,  -999.00,9,   0.00121,2,    0.063,2,    0.858,2,    0.000,2,   98.442,2
  096U20180111,  SR03,    66,  1,     26,     26,2,20180202,1458,-65.9998, 143.6407,  424,     80.7,  -1.5197,  34.3128,2,-999.0000,9,    308.4,2,   -999.0,9,  -999.00,9,  -999.00,9,  -999.00,9,  -999.00,9,     -999,9, -999.000,9, -999.000,9,     -999,9,   -999.0,9,   -999.0,9,-999.0000,9,  -999.00,  -999.00,9,   -999.0,9,   -999.0,  -999.00,9,   0.00118,2,    0.069,2,    0.894,2,    0.000,2,   98.287,2
  096U20180111,  SR03,    66,  1,     25,     25,2,20180202,1458,-65.9998, 143.6407,  424,     80.7,  -1.5200,  34.3129,2,-999.0000,9,    308.4,2,   -999.0,9,  -999.00,9,  -999.00,9,  -999.00,9,  -999.00,9,     -999,9, -999.000,9, -999.000,9,     -999,9,   -999.0,9,   -999.0,9,-999.0000,9,  -999.00,  -999.00,9,   -999.0,9,   -999.0,  -999.00,9,   0.00130,2,    0.065,2,    0.750,2,    0.000,2,   98.379,2
  096U20180111,  SR03,    66,  1,     24,     24,2,20180202,1458,-65.9998, 143.6407,  424,    110.7,  -1.6802,  34.3934,2,  34.3943,2,    299.9,2,    299.6,2,    74.80,2,    30.66,2,     0.08,2,     2.13,2,     0.06,2,    4.388,2,    2.411,2,     2.75,2,   2227.0,2,   2329.2,2,-999.0000,9,  -999.00,    17.17,2,   -999.0,9,   -999.0,  -999.00,9,   0.00046,2,    0.010,2,    0.108,2,    0.000,2,   99.746,2
  096U20180111,  SR03,    66,  1,     23,     23,2,20180202,1458,-65.9998, 143.6407,  424,    110.6,  -1.6793,  34.3935,2,-999.0000,9,    299.9,2,   -999.0,9,  -999.00,9,  -999.00,9,  -999.00,9,  -999.00,9,     -999,9, -999.000,9, -999.000,9,     -999,9,   -999.0,9,   -999.0,9,-999.0000,9,  -999.00,  -999.00,9,   -999.0,9,   -999.0,  -999.00,9,   0.00053,2,    0.011,2,    0.288,2,    0.000,2,   99.735,2
  096U20180111,  SR03,    66,  1,     22,     22,2,20180202,1458,-65.9998, 143.6407,  424,    110.6,  -1.6799,  34.3936,2,-999.0000,9,    299.9,2,   -999.0,9,  -999.00,9,  -999.00,9,  -999.00,9,  -999.00,9,     -999,9, -999.000,9, -999.000,9,     -999,9,   -999.0,9,   -999.0,9,-999.0000,9,  -999.00,  -999.00,9,   -999.0,9,   -999.0,  -999.00,9,   0.00054,2,    0.011,2,    0.282,2,    0.000,2,   99.721,2
  096U20180111,  SR03,    66,  1,     21,     21,2,20180202,1458,-65.9998, 143.6407,  424,    160.8,  -1.2003,  34.4504,2,  34.4525,2,    269.6,2,    277.3,2,    77.90,2,    31.03,2,     0.06,2,     2.16,2,     0.08,2, -999.000,9, -999.000,9,     -999,9,   2232.5,2,   2333.3,2,-999.0000,9,  -999.00,  -999.00,9,   -999.0,9,   -999.0,  -999.00,9,   0.00045,2,    0.007,2,    0.072,2,    0.000,2,   99.834,2
  096U20180111,  SR03,    66,  1,     20,     20,2,20180202,1458,-65.9998, 143.6407,  424,    160.8,  -1.2039,  34.4501,2,-999.0000,9,    269.6,2,   -999.0,9,  -999.00,9,  -999.00,9,  -999.00,9,  -999.00,9,     -999,9, -999.000,9, -999.000,9,     -999,9,   -999.0,9,   -999.0,9,-999.0000,9,  -999.00,  -999.00,9,   -999.0,9,   -999.0,  -999.00,9,   0.00044,2,    0.007,2,    0.072,2,    0.000,2,   99.822,2
  096U20180111,  SR03,    66,  1,     19,     19,2,20180202,1458,-65.9998, 143.6407,  424,    160.8,  -1.2089,  34.4496,2,-999.0000,9,    269.6,2,   -999.0,9,  -999.00,9,  -999.00,9,  -999.00,9,  -999.00,9,     -999,9, -999.000,9, -999.000,9,     -999,9,   -999.0,9,   -999.0,9,-999.0000,9,  -999.00,  -999.00,9,   -999.0,9,   -999.0,  -999.00,9,   0.00045,2,    0.007,2,    0.072,2,    0.000,2,   99.821,2
  096U20180111,  SR03,    66,  1,     18,     18,2,20180202,1458,-65.9998, 143.6407,  424,    201.0,  -0.6545,  34.5147,2,  34.5139,2,    257.2,2,    259.9,2,    81.80,2,    31.37,2,     0.06,2,     2.18,2,     0.09,2,    3.034,2,    1.656,2,     1.68,2,   2239.4,2,   2338.6,2,-999.0000,9,  -999.00,    18.43,2,   -999.0,9,   -999.0,  -999.00,9,   0.00042,2,    0.007,2,    0.060,2,    0.000,2,   99.816,2
  096U20180111,  SR03,    66,  1,     17,     17,2,20180202,1458,-65.9998, 143.6407,  424,    200.9,  -0.6656,  34.5144,2,-999.0000,9,    257.2,2,   -999.0,9,  -999.00,9,  -999.00,9,  -999.00,9,  -999.00,9,     -999,9, -999.000,9, -999.000,9,     -999,9,   -999.0,9,   -999.0,9,-999.0000,9,  -999.00,  -999.00,9,   -999.0,9,   -999.0,  -999.00,9,   0.00042,2,    0.009,2,    0.060,2,    0.000,2,   99.788,2
  096U20180111,  SR03,    66,  1,     16,     16,2,20180202,1458,-65.9998, 143.6407,  424,    200.9,  -0.6729,  34.5141,2,-999.0000,9,    257.2,2,   -999.0,9,  -999.00,9,  -999.00,9,  -999.00,9,  -999.00,9,     -999,9, -999.000,9, -999.000,9,     -999,9,   -999.0,9,   -999.0,9,-999.0000,9,  -999.00,  -999.00,9,   -999.0,9,   -999.0,  -999.00,9,   0.00043,2,    0.008,2,    0.060,2,    0.000,2,   99.793,2
  096U20180111,  SR03,    66,  1,     15,     15,2,20180202,1458,-65.9998, 143.6407,  424,    251.0,  -0.0410,  34.5838,2,  34.5864,2,    250.0,2,    235.4,2,    86.70,2,    31.72,2,     0.04,2,     2.20,2,    -0.01,2, -999.000,9, -999.000,9,     -999,9,   -999.0,9,   -999.0,9,-999.0000,9,  -999.00,  -999.00,9,   -999.0,9,   -999.0,  -999.00,9,   0.00042,2,    0.006,2,    0.054,2,    0.000,2,   99.839,2
  096U20180111,  SR03,    66,  1,     14,     14,2,20180202,1458,-65.9998, 143.6407,  424,    250.9,  -0.0254,  34.5846,2,-999.0000,9,    250.0,2,   -999.0,9,  -999.00,9,  -999.00,9,  -999.00,9,  -999.00,9,     -999,9, -999.000,9, -999.000,9,     -999,9,   -999.0,9,   -999.0,9,-999.0000,9,  -999.00,  -999.00,9,   -999.0,9,   -999.0,  -999.00,9,   0.00045,2,    0.007,2,    0.054,2,    0.000,2,   99.837,2
  096U20180111,  SR03,    66,  1,     13,     13,2,20180202,1458,-65.9998, 143.6407,  424,    250.9,  -0.0049,  34.5861,2,-999.0000,9,    250.0,2,   -999.0,9,  -999.00,9,  -999.00,9,  -999.00,9,  -999.00,9,     -999,9, -999.000,9, -999.000,9,     -999,9,   -999.0,9,   -999.0,9,-999.0000,9,  -999.00,  -999.00,9,   -999.0,9,   -999.0,  -999.00,9,   0.00045,2,    0.006,2,    0.054,2,    0.000,2,   99.856,2
  096U20180111,  SR03,    66,  1,     12,     12,2,20180202,1458,-65.9998, 143.6407,  424,    300.8,  -0.4872,  34.5698,2,  34.5703,2,    253.5,2,    251.0,2,    87.50,2,    31.62,2,     0.08,2,     2.20,2,     0.03,2,    2.619,2,    1.427,2,     1.47,2,   2245.0,2,   2341.9,2,-999.0000,9,  -999.00,    18.51,2,   -999.0,9,   -999.0,  -999.00,9,   0.00046,2,    0.009,2,    0.060,2,    0.000,2,   99.779,2
  096U20180111,  SR03,    66,  1,     11,     11,2,20180202,1458,-65.9998, 143.6407,  424,    300.8,  -0.4864,  34.5700,2,-999.0000,9,    253.5,2,   -999.0,9,  -999.00,9,  -999.00,9,  -999.00,9,  -999.00,9,     -999,9, -999.000,9, -999.000,9,     -999,9,   -999.0,9,   -999.0,9,-999.0000,9,  -999.00,  -999.00,9,   -999.0,9,   -999.0,  -999.00,9,   0.00048,2,    0.008,2,    0.060,2,    0.000,2,   99.804,2
  096U20180111,  SR03,    66,  1,     10,     10,2,20180202,1458,-65.9998, 143.6407,  424,    300.7,  -0.4884,  34.5702,2,-999.0000,9,    253.5,2,   -999.0,9,  -999.00,9,  -999.00,9,  -999.00,9,  -999.00,9,     -999,9, -999.000,9, -999.000,9,     -999,9,   -999.0,9,   -999.0,9,-999.0000,9,  -999.00,  -999.00,9,   -999.0,9,   -999.0,  -999.00,9,   0.00047,2,    0.008,2,    0.066,2,    0.000,2,   99.792,2
  096U20180111,  SR03,    66,  1,      9,      9,2,20180202,1458,-65.9998, 143.6407,  424,    300.7,  -0.4877,  34.5700,2,-999.0000,9,    253.5,2,   -999.0,9,  -999.00,9,  -999.00,9,  -999.00,9,  -999.00,9,     -999,9, -999.000,9, -999.000,9,     -999,9,   -999.0,9,   -999.0,9,-999.0000,9,  -999.00,  -999.00,9,   -999.0,9,   -999.0,  -999.00,9,   0.00047,2,    0.008,2,    0.060,2,    0.000,2,   99.796,2
  096U20180111,  SR03,    66,  1,      8,      8,2,20180202,1458,-65.9998, 143.6407,  424,    300.6,  -0.4926,  34.5705,2,-999.0000,9,    253.5,2,   -999.0,9,  -999.00,9,  -999.00,9,  -999.00,9,  -999.00,9,     -999,9, -999.000,9, -999.000,9,     -999,9,   -999.0,9,   -999.0,9,-999.0000,9,  -999.00,  -999.00,9,   -999.0,9,   -999.0,  -999.00,9,   0.00047,2,    0.008,2,    0.054,2,    0.000,2,   99.796,2
  096U20180111,  SR03,    66,  1,      7,      7,2,20180202,1458,-65.9998, 143.6407,  424,    380.8,  -1.7186,  34.6079,2,  34.6079,2,    295.3,2,    295.8,2,    79.20,2,    31.27,2,     0.07,2,     2.19,2,     0.05,2,    4.229,2,    2.354,2,     2.53,2,   2242.6,2,   2344.2,6,-999.0000,9,  -999.00,    17.59,2,   -999.0,9,   -999.0,  -999.00,9,   0.00215,2,    0.071,2,    0.090,2,    0.000,2,   98.253,2
  096U20180111,  SR03,    66,  1,      6,      6,2,20180202,1458,-65.9998, 143.6407,  424,    380.8,  -1.7181,  34.6079,2,-999.0000,9,    295.3,2,   -999.0,9,  -999.00,9,  -999.00,9,  -999.00,9,  -999.00,9,     -999,9, -999.000,9, -999.000,9,     -999,9,   -999.0,9,   -999.0,9,-999.0000,9,  -999.00,  -999.00,9,   -999.0,9,   -999.0,  -999.00,9,   0.00228,2,    0.073,2,    0.084,2,    0.000,2,   98.180,2
  096U20180111,  SR03,    66,  1,      5,      5,2,20180202,1458,-65.9998, 143.6407,  424,    380.8,  -1.7233,  34.6077,2,-999.0000,9,    295.3,2,   -999.0,9,  -999.00,9,  -999.00,9,  -999.00,9,  -999.00,9,     -999,9, -999.000,9, -999.000,9,     -999,9,   -999.0,9,   -999.0,9,-999.0000,9,  -999.00,  -999.00,9,   -999.0,9,   -999.0,  -999.00,9,   0.00245,2,    0.072,2,    0.090,2,    0.000,2,   98.229,2
  096U20180111,  SR03,    66,  1,      4,      4,2,20180202,1458,-65.9998, 143.6407,  424,    417.5,  -1.7591,  34.6073,2,-999.0000,9,    297.0,2,   -999.0,9,  -999.00,9,  -999.00,9,  -999.00,9,  -999.00,9,     -999,9, -999.000,9, -999.000,9,     -999,9,   -999.0,9,   -999.0,9,-999.0000,9,  -999.00,  -999.00,9,   -999.0,9,   -999.0,  -999.00,9,   0.00266,2,    0.080,2,    0.090,2,    0.000,2,   98.024,2
  096U20180111,  SR03,    66,  1,      3,      3,2,20180202,1458,-65.9998, 143.6407,  424,    417.4,  -1.7586,  34.6073,2,-999.0000,9,    297.0,2,   -999.0,9,  -999.00,9,  -999.00,9,  -999.00,9,  -999.00,9,     -999,9, -999.000,9, -999.000,9,     -999,9,   -999.0,9,   -999.0,9,-999.0000,9,  -999.00,  -999.00,9,   -999.0,9,   -999.0,  -999.00,9,   0.00243,2,    0.083,2,    0.108,2,    0.000,2,   97.953,2
  096U20180111,  SR03,    66,  1,      2,      2,2,20180202,1458,-65.9998, 143.6407,  424,    417.4,  -1.7516,  34.6075,2,-999.0000,9,    297.0,2,   -999.0,9,  -999.00,9,  -999.00,9,  -999.00,9,  -999.00,9,     -999,9, -999.000,9, -999.000,9,     -999,9,   -999.0,9,   -999.0,9,-999.0000,9,  -999.00,  -999.00,9,   -999.0,9,   -999.0,  -999.00,9,   0.00239,2,    0.079,2,    0.102,2,    0.000,2,   98.037,2
  096U20180111,  SR03,    66,  1,      1,      1,2,20180202,1458,-65.9998, 143.6407,  424,    417.4,  -1.7557,  34.6074,2,  34.6096,2,    297.0,2,    296.5,2,    78.90,2,    31.29,2,     0.07,2,     2.19,2,     0.05,2,    4.244,2,    2.342,2,     2.32,2,   2242.4,6,   2342.8,6,-999.0000,9,  -999.00,    17.44,2,   -999.0,9,   -999.0,  -999.00,9,   0.00253,2,    0.083,2,    0.102,2,    0.000,2,   97.948,2