BOTTLE,20230418CCHSIOENA
EXPOCODE,SECT_ID,STNNBR,CASTNO,SAMPNO,BTLNBR,BTLNBR_FLAG_W,DATE,TIME,LATITUDE,LONGITUDE,DEPTH,CTDPRS,CTDTMP,CTDSAL,CTDSAL_FLAG_W,SALNTY,SALNTY_FLAG_W,CTDOXY,CTDOXY_FLAG_W,OXYGEN,OXYGEN_FLAG_W,SILCAT,SILCAT_FLAG_W,NITRAT,NITRAT_FLAG_W,NITRIT,NITRIT_FLAG_W,PHSPHT,PHSPHT_FLAG_W,NH4,NH4_FLAG_W,CFC-11,CFC-11_FLAG_W,CFC-12,CFC-12_FLAG_W,SF6,SF6_FLAG_W,TCARBN,TCARBN_FLAG_W,ALKALI,ALKALI_FLAG_W,PH_TOT,PH_TOT_FLAG_W,PH_TMP,N2O,N2O_FLAG_W,DELC14,DELC14_FLAG_W,C14ERR,DELC13,DELC13_FLAG_W,CTDBETA700,CTDBETA700_FLAG_W,CTDBEAMCP,CTDBEAMCP_FLAG_W,CTDFLUOR,CTDFLUOR_FLAG_W,PAR,PAR_FLAG_W,CTDXMISS,CTDXMISS_FLAG_W
,,,,,,,,,,,METERS,DBAR,ITS-90,PSS-78,,PSS-78,,UMOL/KG,,UMOL/KG,,UMOL/KG,,UMOL/KG,,UMOL/KG,,UMOL/KG,,UMOL/KG,,PMOL/KG,,PMOL/KG,,FMOL/KG,,UMOL/KG,,UMOL/KG,,,,DEG C,NMOL/KG,,/MILLE,,/MILLE,/MILLE,,VOLTS,,1/M,,MG/M^3,,UMOL/M^2/SEC,,%TRANS,
  096U20180111,  SR03,    18,  1,     36,     36,2,20180118,0826,-50.1593, 143.6577, 3657,     15.4,   9.9316,  34.3876,2,  34.3873,2,    285.4,2,    286.2,2,     0.50,2,    12.07,2,     0.21,2,     0.83,2,     0.08,2,    3.304,2,    1.946,2,      2.6,2,   2095.7,2,   2288.6,2,-999.0000,9,  -999.00,    10.13,2,   -999.0,9,   -999.0,  -999.00,9,   0.00354,2,    0.344,2,    4.458,2,    0.289,2,   91.756,2
  096U20180111,  SR03,    18,  1,     35,     35,2,20180118,0826,-50.1593, 143.6577, 3657,     15.6,   9.9320,  34.3875,2,-999.0000,9,    285.4,2,   -999.0,9,  -999.00,9,  -999.00,9,  -999.00,9,  -999.00,9,     -999,9, -999.000,9, -999.000,9,     -999,9,   -999.0,9,   -999.0,9,-999.0000,9,  -999.00,  -999.00,9,   -999.0,9,   -999.0,  -999.00,9,   0.00357,2,    0.346,2,    4.500,2,    0.299,2,   91.715,2
  096U20180111,  SR03,    18,  1,     34,     34,2,20180118,0826,-50.1593, 143.6577, 3657,     30.7,   9.9251,  34.3916,2,  34.3933,2,    285.8,2,    286.3,2,     0.50,2,    12.09,2,     0.21,2,     0.83,2,     0.09,2, -999.000,9, -999.000,9,     -999,9,   -999.0,9,   -999.0,9,-999.0000,9,  -999.00,  -999.00,9,   -999.0,9,   -999.0,  -999.00,9,   0.00339,2,    0.341,2,    4.434,2,    0.000,2,   91.838,2
  096U20180111,  SR03,    18,  1,     33,     33,2,20180118,0826,-50.1593, 143.6577, 3657,     30.5,   9.9180,  34.3941,2,-999.0000,9,    285.8,2,   -999.0,9,  -999.00,9,  -999.00,9,  -999.00,9,  -999.00,9,     -999,9, -999.000,9, -999.000,9,     -999,9,   -999.0,9,   -999.0,9,-999.0000,9,  -999.00,  -999.00,9,   -999.0,9,   -999.0,  -999.00,9,   0.00350,2,    0.336,2,    4.230,2,    0.000,2,   91.936,2
  096U20180111,  SR03,    18,  1,     32,     32,2,20180118,0826,-50.1593, 143.6577, 3657,     59.7,   9.8547,  34.4033,2,  34.4044,2,    283.4,2,    283.0,2,     0.80,2,    12.40,2,     0.22,2,     0.88,2,     0.25,2, -999.000,9, -999.000,9,     -999,9,   2099.5,2,   2290.1,2,-999.0000,9,  -999.00,  -999.00,9,   -999.0,9,   -999.0,  -999.00,9,   0.00312,2,    0.254,2,    2.958,2,    0.000,2,   93.859,2
  096U20180111,  SR03,    18,  1,     31,     31,2,20180118,0826,-50.1593, 143.6577, 3657,     89.8,   9.1238,  34.3157,2,  34.3196,2,    278.7,2,    278.4,2,     3.30,2,    14.75,2,     0.28,2,     1.09,2,     0.56,2, -999.000,9, -999.000,9,     -999,9,   -999.0,9,   -999.0,9,-999.0000,9,  -999.00,  -999.00,9,   -999.0,9,   -999.0,  -999.00,9,   0.00179,2,    0.094,2,    0.990,2,    0.000,2,   97.665,2
  096U20180111,  SR03,    18,  1,     30,     30,2,20180118,0826,-50.1593, 143.6577, 3657,    110.2,   8.7725,  34.3408,2,  34.3398,2,    278.1,2,    277.8,2,     3.70,2,    15.39,2,     0.39,2,     1.14,2,     0.41,2, -999.000,9, -999.000,9,     -999,9,   -999.0,9,   -999.0,9,-999.0000,9,  -999.00,  -999.00,9,   -999.0,9,   -999.0,  -999.00,9,   0.00139,2,    0.060,2,    0.432,2,    0.000,2,   98.525,2
  096U20180111,  SR03,    18,  1,     29,     29,2,20180118,0826,-50.1593, 143.6577, 3657,    159.6,   7.6465,  34.3406,2,  34.3398,2,    277.7,2,    278.1,2,     4.50,2,    18.07,2,     0.02,2,     1.26,2,        0,2, -999.000,9, -999.000,9,     -999,9,   2128.2,2,   2284.5,2,-999.0000,9,  -999.00,  -999.00,9,   -999.0,9,   -999.0,  -999.00,9,   0.00066,2,    0.018,2,    0.114,2,    0.000,2,   99.561,2
  096U20180111,  SR03,    18,  1,     28,     28,2,20180118,0826,-50.1593, 143.6577, 3657,    210.7,   7.6941,  34.3871,2,  34.3883,2,    273.2,2,    271.7,2,     4.80,2,    18.10,2,     0.01,2,     1.26,2,        0,2, -999.000,9, -999.000,9,     -999,9,   -999.0,9,   -999.0,9,-999.0000,9,  -999.00,  -999.00,9,   -999.0,9,   -999.0,  -999.00,9,   0.00049,2,    0.011,2,    0.042,2,    0.000,2,   99.724,2
  096U20180111,  SR03,    18,  1,     27,     27,2,20180118,0826,-50.1593, 143.6577, 3657,    249.1,   7.5230,  34.3689,2,  34.3686,2,    272.2,2,    271.7,2,     5.10,2,    18.60,2,     0.01,2,     1.30,2,        0,2, -999.000,9, -999.000,9,     -999,9,   -999.0,9,   -999.0,9,-999.0000,9,  -999.00,  -999.00,9,   -999.0,9,   -999.0,  -999.00,9,   0.00052,2,    0.008,2,    0.030,2,    0.000,2,   99.792,2
  096U20180111,  SR03,    18,  1,     26,     26,2,20180118,0826,-50.1593, 143.6577, 3657,    301.1,   7.3757,  34.3548,2,  34.3549,2,    271.4,2,    272.5,2,     5.20,2,    18.89,2,     0.02,2,     1.32,2,        0,2,    3.597,2,    2.015,2,      2.4,2,   2133.2,6,   2286.3,6,-999.0000,9,  -999.00,    11.77,2,   -999.0,9,   -999.0,  -999.00,9,   0.00045,2,    0.006,2,    0.030,2,    0.000,2,   99.844,2
  096U20180111,  SR03,    18,  1,     25,     25,2,20180118,0826,-50.1593, 143.6577, 3657,    399.0,   6.7999,  34.3021,2,  34.3024,2,    254.3,2,    257.2,2,     8.40,2,    21.85,2,     0.01,2,     1.49,2,        0,2, -999.000,9, -999.000,9,     -999,9,   -999.0,9,   -999.0,9,-999.0000,9,  -999.00,  -999.00,9,   -999.0,9,   -999.0,  -999.00,9,   0.00044,2,    0.004,2,    0.024,2,    0.000,2,   99.892,2
  096U20180111,  SR03,    18,  1,     24,     24,2,20180118,0826,-50.1593, 143.6577, 3657,    448.0,   6.6800,  34.3123,2,  34.3064,2,    251.6,2,    250.1,2,     9.80,2,    22.79,2,     0.01,2,     1.55,2,        0,2, -999.000,9, -999.000,9,     -999,9,   -999.0,9,   -999.0,9,-999.0000,9,  -999.00,  -999.00,9,   -999.0,9,   -999.0,  -999.00,9,   0.00044,2,    0.005,2,    0.030,2,    0.000,2,   99.886,2
  096U20180111,  SR03,    18,  1,     23,     23,2,20180118,0826,-50.1593, 143.6577, 3657,    549.9,   5.8386,  34.2825,2,  34.2807,2,    240.8,2,    238.5,2,    14.50,2,    25.56,2,     0.00,2,     1.74,2,        0,2, -999.000,9, -999.000,9,     -999,9,   -999.0,9,   -999.0,9,-999.0000,9,  -999.00,  -999.00,9,   -999.0,9,   -999.0,  -999.00,9,   0.00045,2,    0.005,2,    0.024,2,    0.000,2,   99.880,2
  096U20180111,  SR03,    18,  1,     22,     22,2,20180118,0826,-50.1593, 143.6577, 3657,    649.5,   5.4261,  34.3046,2,  34.3043,2,    224.7,2,    223.0,2,    19.30,2,    27.49,2,     0.01,2,     1.87,2,        0,2,    3.117,2,    1.646,2,     1.33,2,   2176.9,2,   2290.3,2,-999.0000,9,  -999.00,    16.96,2,   -999.0,9,   -999.0,  -999.00,9,   0.00044,2,    0.004,2,    0.030,2,    0.000,2,   99.893,2
  096U20180111,  SR03,    18,  1,     21,     21,2,20180118,0826,-50.1593, 143.6577, 3657,    748.5,   4.6136,  34.2921,2,  34.2917,2,    214.8,2,    217.6,2,    26.20,2,    29.57,2,     0.01,2,     2.01,2,        0,2, -999.000,9, -999.000,9,     -999,9,   -999.0,9,   -999.0,9,-999.0000,9,  -999.00,  -999.00,9,   -999.0,9,   -999.0,  -999.00,9,   0.00043,2,    0.004,2,    0.036,2,    0.000,2,   99.915,2
  096U20180111,  SR03,    18,  1,     20,     20,2,20180118,0826,-50.1593, 143.6577, 3657,    849.2,   3.9179,  34.2846,2,-999.0000,9,    214.7,2,   -999.0,9,  -999.00,9,  -999.00,9,  -999.00,9,  -999.00,9,     -999,9, -999.000,9, -999.000,9,     -999,9,   -999.0,9,   -999.0,9,-999.0000,9,  -999.00,  -999.00,9,   -999.0,9,   -999.0,  -999.00,9,   0.00041,2,    0.003,2,    0.030,2,    0.000,2,   99.930,2
  096U20180111,  SR03,    18,  1,     19,     19,2,20180118,0826,-50.1593, 143.6577, 3657,    948.0,   3.6278,  34.3200,2,  34.3193,2,    203.7,2,    204.8,2,    39.30,2,    32.15,2,     0.00,2,     2.20,2,        0,2,    2.275,2,    1.168,2,     0.81,2,   2211.5,2,   2304.6,2,-999.0000,9,  -999.00,    20.22,2,   -999.0,9,   -999.0,  -999.00,9,   0.00039,2,    0.003,2,    0.030,2,    0.000,2,   99.922,2
  096U20180111,  SR03,    18,  1,     18,     18,2,20180118,0826,-50.1593, 143.6577, 3657,   1048.7,   3.2481,  34.3549,2,  34.3526,2,    195.7,2,    195.8,2,    46.80,2,    33.18,2,     0.00,2,     2.28,2,        0,2, -999.000,9, -999.000,9,     -999,9,   -999.0,9,   -999.0,9,-999.0000,9,  -999.00,  -999.00,9,   -999.0,9,   -999.0,  -999.00,9,   0.00040,2,    0.002,2,    0.036,2,    0.000,2,   99.963,2
  096U20180111,  SR03,    18,  1,     17,     17,2,20180118,0826,-50.1593, 143.6577, 3657,   1149.3,   3.2085,  34.4348,2,  34.4332,2,    182.4,2,    180.7,2,    56.20,2,    33.72,2,     0.01,2,     2.32,2,        0,2, -999.000,9, -999.000,9,     -999,9,   -999.0,9,   -999.0,9,-999.0000,9,  -999.00,  -999.00,9,   -999.0,9,   -999.0,  -999.00,9,   0.00040,2,    0.002,2,    0.036,2,    0.000,2,   99.963,2
  096U20180111,  SR03,    18,  1,     16,     16,2,20180118,0826,-50.1593, 143.6577, 3657,   1247.4,   2.9203,  34.4750,2,  34.4743,2,    177.4,2,    176.8,2,    61.20,2,    34.08,2,     0.01,2,     2.34,2,        0,2,    1.029,2,    0.539,2,     0.22,2,   2241.6,2,   2327.0,2,-999.0000,9,  -999.00,    23.32,2,   -999.0,9,   -999.0,  -999.00,9,   0.00039,2,    0.002,2,    0.036,2,    0.000,2,   99.960,2
  096U20180111,  SR03,    18,  1,     15,     15,2,20180118,0826,-50.1593, 143.6577, 3657,   1349.3,   2.7603,  34.5131,2,  34.5132,2,    175.0,2,    174.8,2,    65.10,2,    34.13,2,     0.00,2,     2.34,2,        0,2, -999.000,9, -999.000,9,     -999,9,   -999.0,9,   -999.0,9,-999.0000,9,  -999.00,  -999.00,9,   -999.0,9,   -999.0,  -999.00,9,   0.00037,2,    0.001,2,    0.042,2,    0.000,2,   99.970,2
  096U20180111,  SR03,    18,  1,     14,     14,2,20180118,0826,-50.1593, 143.6577, 3657,   1450.8,   2.6949,  34.5625,2,  34.5601,2,    173.1,2,    171.5,2,    69.70,2,    33.86,2,     0.01,2,     2.32,2,        0,2, -999.000,9, -999.000,9,     -999,9,   -999.0,9,   -999.0,9,-999.0000,9,  -999.00,  -999.00,9,   -999.0,9,   -999.0,  -999.00,9,   0.00038,2,    0.001,2,    0.036,2,    0.000,2,   99.973,2
  096U20180111,  SR03,    18,  1,     13,     13,2,20180118,0826,-50.1593, 143.6577, 3657,   1599.7,   2.5695,  34.6201,2,  34.6192,2,    172.4,2,    172.8,2,    73.20,2,    33.21,2,     0.01,2,     2.29,2,        0,2,    0.406,2,    0.199,2,     0.24,2,   2252.2,2,   2340.1,2,-999.0000,9,  -999.00,    22.41,2,   -999.0,9,   -999.0,  -999.00,9,   0.00036,2,    0.001,2,    0.036,2,    0.000,2,   99.986,2
  096U20180111,  SR03,    18,  1,     12,     12,2,20180118,0826,-50.1593, 143.6577, 3657,   1599.7,   2.5685,  34.6205,2,-999.0000,9,    172.4,2,   -999.0,9,  -999.00,9,  -999.00,9,  -999.00,9,  -999.00,9,     -999,9, -999.000,9, -999.000,9,     -999,9,   -999.0,9,   -999.0,9,-999.0000,9,  -999.00,  -999.00,9,   -999.0,9,   -999.0,  -999.00,9,   0.00036,2,    0.000,2,    0.036,2,    0.000,2,   99.989,2
  096U20180111,  SR03,    18,  1,     11,     11,2,20180118,0826,-50.1593, 143.6577, 3657,   1824.0,   2.4449,  34.6718,2,  34.6716,2,    177.6,2,    177.4,2,    76.20,2,    32.32,2,     0.01,2,     2.22,2,        0,2, -999.000,9, -999.000,9,     -999,9,   -999.0,9,   -999.0,9,-999.0000,9,  -999.00,  -999.00,9,   -999.0,9,   -999.0,  -999.00,9,   0.00036,2,    0.000,2,    0.042,2,    0.000,2,   99.998,2
  096U20180111,  SR03,    18,  1,     10,     10,2,20180118,0826,-50.1593, 143.6577, 3657,   2048.3,   2.2753,  34.7175,2,  34.7177,2,    182.3,2,    182.3,2,    82.10,2,    31.49,2,     0.01,2,     2.17,2,        0,2,    0.164,2,    0.080,2,     0.09,2,   2255.4,2,   2352.3,6,-999.0000,9,  -999.00,    20.63,2,   -999.0,9,   -999.0,  -999.00,9,   0.00035,2,   -0.001,2,    0.042,2,    0.000,2,  100.013,2
  096U20180111,  SR03,    18,  1,      9,      9,2,20180118,0826,-50.1593, 143.6577, 3657,   2249.1,   2.1301,  34.7352,2,  34.7350,2,    187.3,2,    187.7,2,    84.60,2,    30.95,2,     0.01,2,     2.13,2,        0,2, -999.000,9, -999.000,9,     -999,9,   -999.0,9,   -999.0,9,-999.0000,9,  -999.00,  -999.00,9,   -999.0,9,   -999.0,  -999.00,9,   0.00033,2,   -0.001,2,    0.042,2,    0.000,2,  100.018,2
  096U20180111,  SR03,    18,  1,      8,      8,2,20180118,0826,-50.1593, 143.6577, 3657,   2500.7,   1.9048,  34.7450,2,  34.7450,2,    194.7,2,    194.7,2,    89.30,2,    30.60,2,     0.00,2,     2.10,2,        0,2, -999.000,9, -999.000,9,     -999,9,   -999.0,9,   -999.0,9,-999.0000,9,  -999.00,  -999.00,9,   -999.0,9,   -999.0,  -999.00,9,   0.00031,2,   -0.002,2,    0.036,2,    0.000,2,  100.045,2
  096U20180111,  SR03,    18,  1,      7,      7,2,20180118,0826,-50.1593, 143.6577, 3657,   2749.0,   1.6595,  34.7412,2,  34.7406,2,    198.9,2,    198.1,2,    96.00,2,    30.79,2,     0.01,2,     2.12,2,        0,2,    0.156,2,    0.066,2,     0.03,2,   2252.8,2,   2359.4,2,-999.0000,9,  -999.00,    18.40,2,   -999.0,9,   -999.0,  -999.00,9,   0.00030,2,   -0.002,2,    0.042,2,    0.000,2,  100.044,2
  096U20180111,  SR03,    18,  1,      6,      6,2,20180118,0826,-50.1593, 143.6577, 3657,   3000.9,   1.3856,  34.7309,2,  34.7307,2,    201.9,2,    201.2,2,   104.80,2,    31.22,2,     0.00,2,     2.15,2,        0,2, -999.000,9, -999.000,9,     -999,9,   -999.0,9,   -999.0,9,-999.0000,9,  -999.00,  -999.00,9,   -999.0,9,   -999.0,  -999.00,9,   0.00031,2,   -0.002,2,    0.042,2,    0.000,2,  100.046,2
  096U20180111,  SR03,    18,  1,      5,      5,2,20180118,0826,-50.1593, 143.6577, 3657,   3249.5,   1.2073,  34.7224,2,  34.7222,2,    203.6,2,    203.1,2,   111.50,2,    31.62,2,     0.01,2,     2.18,2,        0,2, -999.000,9, -999.000,9,     -999,9,   -999.0,9,   -999.0,9,-999.0000,9,  -999.00,  -999.00,9,   -999.0,9,   -999.0,  -999.00,9,   0.00031,2,   -0.001,2,    0.036,2,    0.000,2,  100.034,2
  096U20180111,  SR03,    18,  1,      4,      4,2,20180118,0826,-50.1593, 143.6577, 3657,   3499.6,   1.0757,  34.7156,2,  34.7160,2,    205.2,2,    204.6,2,   116.10,2,    31.85,2,     0.01,2,     2.20,2,        0,2,    0.210,2,    0.096,2,        0,2,   2261.8,6,   2367.8,6,-999.0000,9,  -999.00,    17.97,2,   -999.0,9,   -999.0,  -999.00,9,   0.00035,2,    0.001,2,    0.036,2,    0.000,2,   99.978,2
  096U20180111,  SR03,    18,  1,      3,      3,2,20180118,0826,-50.1593, 143.6577, 3657,   3650.0,   1.0790,  34.7151,2,  34.7156,2,    205.2,2,    204.7,2,   116.50,2,    31.84,2,     0.01,2,     2.20,2,        0,2, -999.000,9, -999.000,9,     -999,9,   -999.0,9,   -999.0,9,-999.0000,9,  -999.00,  -999.00,9,   -999.0,9,   -999.0,  -999.00,9,   0.00037,2,    0.002,2,    0.036,2,    0.000,2,   99.954,2
  096U20180111,  SR03,    18,  1,      2,      2,2,20180118,0826,-50.1593, 143.6577, 3657,   3825.3,   1.0929,  34.7148,2,  34.7148,2,    205.5,2,    204.8,2,   116.70,2,    31.86,2,     0.01,2,     2.21,2,        0,2, -999.000,9, -999.000,9,     -999,9,   -999.0,9,   -999.0,9,-999.0000,9,  -999.00,  -999.00,9,   -999.0,9,   -999.0,  -999.00,9,   0.00038,2,    0.002,2,    0.036,2,    0.000,2,   99.955,2
  096U20180111,  SR03,    18,  1,      1,      1,2,20180118,0826,-50.1593, 143.6577, 3657,   3873.3,   1.0921,  34.7145,2,  34.7149,2,    205.6,2,    205.0,2,   116.80,2,    31.88,2,     0.01,2,     2.21,2,        0,2,    0.212,2,    0.101,2,     0.03,2,   2262.4,2,   2369.0,2,-999.0000,9,  -999.00,    18.48,2,   -999.0,9,   -999.0,  -999.00,9,   0.00039,2,    0.002,2,    0.042,2,    0.000,2,   99.937,2