BOTTLE,20230418CCHSIOENA
EXPOCODE,SECT_ID,STNNBR,CASTNO,SAMPNO,BTLNBR,BTLNBR_FLAG_W,DATE,TIME,LATITUDE,LONGITUDE,DEPTH,CTDPRS,CTDTMP,CTDSAL,CTDSAL_FLAG_W,SALNTY,SALNTY_FLAG_W,CTDOXY,CTDOXY_FLAG_W,OXYGEN,OXYGEN_FLAG_W,SILCAT,SILCAT_FLAG_W,NITRAT,NITRAT_FLAG_W,NITRIT,NITRIT_FLAG_W,PHSPHT,PHSPHT_FLAG_W,NH4,NH4_FLAG_W,CFC-11,CFC-11_FLAG_W,CFC-12,CFC-12_FLAG_W,SF6,SF6_FLAG_W,TCARBN,TCARBN_FLAG_W,ALKALI,ALKALI_FLAG_W,PH_TOT,PH_TOT_FLAG_W,PH_TMP,N2O,N2O_FLAG_W,DELC14,DELC14_FLAG_W,C14ERR,DELC13,DELC13_FLAG_W,CTDBETA700,CTDBETA700_FLAG_W,CTDBEAMCP,CTDBEAMCP_FLAG_W,CTDFLUOR,CTDFLUOR_FLAG_W,PAR,PAR_FLAG_W,CTDXMISS,CTDXMISS_FLAG_W
,,,,,,,,,,,METERS,DBAR,ITS-90,PSS-78,,PSS-78,,UMOL/KG,,UMOL/KG,,UMOL/KG,,UMOL/KG,,UMOL/KG,,UMOL/KG,,UMOL/KG,,PMOL/KG,,PMOL/KG,,FMOL/KG,,UMOL/KG,,UMOL/KG,,,,DEG C,NMOL/KG,,/MILLE,,/MILLE,/MILLE,,VOLTS,,1/M,,MG/M^3,,UMOL/M^2/SEC,,%TRANS,
  096U20180111,  SR03,     7,  1,     36,     36,2,20180112,1819,-45.7040, 145.6563, 2043,     13.5,  14.9517,  35.2450,2,-999.0000,9,    255.8,2,   -999.0,9,  -999.00,9,  -999.00,9,  -999.00,9,  -999.00,9,     -999,9, -999.000,9, -999.000,9,     -999,9,   -999.0,9,   -999.0,9,-999.0000,9,  -999.00,  -999.00,9,   -999.0,9,   -999.0,  -999.00,9,   0.00230,2,    0.230,2,    1.602,2,   43.500,2,   94.405,2
  096U20180111,  SR03,     7,  1,     35,     35,2,20180112,1819,-45.7040, 145.6563, 2043,     14.2,  14.9535,  35.2451,2,  35.2445,2,    255.8,2,    254.9,2,     0.00,2,     0.77,2,     0.10,2,     0.20,2,     0.19,2, -999.000,9, -999.000,9,     -999,9,   2069.2,2,   2323.5,2,-999.0000,9,  -999.00,  -999.00,9,   -999.0,9,   -999.0,  -999.00,9,   0.00237,2,    0.229,2,    1.686,2,   36.700,2,   94.430,2
  096U20180111,  SR03,     7,  1,     34,     34,2,20180112,1819,-45.7040, 145.6563, 2043,     25.7,  14.9506,  35.2444,2,-999.0000,9,    255.1,2,   -999.0,9,  -999.00,9,  -999.00,9,  -999.00,9,  -999.00,9,     -999,9, -999.000,9, -999.000,9,     -999,9,   -999.0,9,   -999.0,9,-999.0000,9,  -999.00,  -999.00,9,   -999.0,9,   -999.0,  -999.00,9,   0.00239,2,    0.225,2,    1.686,2,   11.900,2,   94.525,2
  096U20180111,  SR03,     7,  1,     33,     33,2,20180112,1819,-45.7040, 145.6563, 2043,     25.7,  14.9484,  35.2449,2,  35.2445,2,    255.1,2,    255.1,2,    -0.10,2,     0.79,2,     0.10,2,     0.20,2,      0.2,2, -999.000,9, -999.000,9,     -999,9,   2068.8,2,   2324.3,2,-999.0000,9,  -999.00,  -999.00,9,   -999.0,9,   -999.0,  -999.00,9,   0.00226,2,    0.226,2,    1.704,2,   11.200,2,   94.507,2
  096U20180111,  SR03,     7,  1,     32,     32,2,20180112,1819,-45.7040, 145.6563, 2043,     40.4,  14.9512,  35.2488,2,-999.0000,9,    254.5,2,   -999.0,9,  -999.00,9,  -999.00,9,  -999.00,9,  -999.00,9,     -999,9, -999.000,9, -999.000,9,     -999,9,   -999.0,9,   -999.0,9,-999.0000,9,  -999.00,  -999.00,9,   -999.0,9,   -999.0,  -999.00,9,   0.00243,2,    0.224,2,    1.722,2,    2.850,2,   94.558,2
  096U20180111,  SR03,     7,  1,     31,     31,2,20180112,1819,-45.7040, 145.6563, 2043,     40.3,  14.9520,  35.2490,2,  35.2494,2,    254.5,2,    254.8,2,     0.00,2,     0.84,2,     0.09,2,     0.20,2,     0.23,2,    2.531,2,    1.530,2,     1.87,2,   2070.8,2,   2325.2,6,-999.0000,9,  -999.00,     8.68,2,   -999.0,9,   -999.0,  -999.00,9,   0.00241,2,    0.224,2,    1.698,2,    2.740,2,   94.558,2
  096U20180111,  SR03,     7,  1,     30,     30,2,20180112,1819,-45.7040, 145.6563, 2043,     67.5,  14.7484,  35.2894,2,-999.0000,9,    245.4,2,   -999.0,9,  -999.00,9,  -999.00,9,  -999.00,9,  -999.00,9,     -999,9, -999.000,9, -999.000,9,     -999,9,   -999.0,9,   -999.0,9,-999.0000,9,  -999.00,  -999.00,9,   -999.0,9,   -999.0,  -999.00,9,   0.00171,2,    0.130,2,    0.912,2,    0.173,2,   96.796,2
  096U20180111,  SR03,     7,  1,     29,     29,2,20180112,1819,-45.7040, 145.6563, 2043,     67.7,  14.7487,  35.2894,2,  35.2893,2,    245.4,2,    249.8,2,     0.30,2,     1.64,2,     0.12,2,     0.29,2,     0.66,2, -999.000,9, -999.000,9,     -999,9,   2076.8,2,   2326.4,2,-999.0000,9,  -999.00,  -999.00,9,   -999.0,9,   -999.0,  -999.00,9,   0.00160,2,    0.134,2,    0.846,2,    0.147,2,   96.706,2
  096U20180111,  SR03,     7,  1,     28,     28,2,20180112,1819,-45.7040, 145.6563, 2043,     81.8,  14.2747,  35.2528,2,  35.2534,2,    234.2,2,    241.8,2,     0.90,2,     3.74,2,     0.28,2,     0.42,2,     0.44,2, -999.000,9, -999.000,9,     -999,9,   2090.8,2,   2323.1,2,-999.0000,9,  -999.00,  -999.00,9,   -999.0,9,   -999.0,  -999.00,9,   0.00115,2,    0.064,2,    0.264,2,    0.030,2,   98.402,2
  096U20180111,  SR03,     7,  1,     27,     27,2,20180112,1819,-45.7040, 145.6563, 2043,     81.7,  14.2805,  35.2542,2,-999.0000,9,    234.2,2,   -999.0,9,  -999.00,9,  -999.00,9,  -999.00,9,  -999.00,9,     -999,9, -999.000,9, -999.000,9,     -999,9,   -999.0,9,   -999.0,9,-999.0000,9,  -999.00,  -999.00,9,   -999.0,9,   -999.0,  -999.00,9,   0.00123,2,    0.063,2,    0.270,2,    0.034,2,   98.432,2
  096U20180111,  SR03,     7,  1,     26,     26,2,20180112,1819,-45.7040, 145.6563, 2043,    101.5,  13.4577,  35.2292,2,-999.0000,9,    226.0,2,   -999.0,9,  -999.00,9,  -999.00,9,  -999.00,9,  -999.00,9,     -999,9, -999.000,9, -999.000,9,     -999,9,   -999.0,9,   -999.0,9,-999.0000,9,  -999.00,  -999.00,9,   -999.0,9,   -999.0,  -999.00,9,   0.00076,2,    0.035,2,    0.084,2,    0.000,2,   99.121,2
  096U20180111,  SR03,     7,  1,     25,     25,2,20180112,1819,-45.7040, 145.6563, 2043,    101.3,  13.4605,  35.2288,2,  35.2292,2,    226.0,2,    227.5,2,     2.00,2,     7.28,2,     0.07,2,     0.58,2,        0,2,    2.623,6,    1.576,6,     1.95,6,   2111.3,2,   2320.4,2,-999.0000,9,  -999.00,     9.86,6,   -999.0,9,   -999.0,  -999.00,9,   0.00086,2,    0.038,2,    0.096,2,    0.000,2,   99.062,2
  096U20180111,  SR03,     7,  1,     24,     24,2,20180112,1819,-45.7040, 145.6563, 2043,    149.9,  12.2880,  35.1662,2,-999.0000,9,    247.4,2,   -999.0,9,  -999.00,9,  -999.00,9,  -999.00,9,  -999.00,9,     -999,9, -999.000,9, -999.000,9,     -999,9,   -999.0,9,   -999.0,9,-999.0000,9,  -999.00,  -999.00,9,   -999.0,9,   -999.0,  -999.00,9,   0.00064,2,    0.028,2,    0.090,2,    0.000,2,   99.292,2
  096U20180111,  SR03,     7,  1,     23,     23,2,20180112,1819,-45.7040, 145.6563, 2043,    149.7,  12.2893,  35.1663,2,  35.1664,2,    247.4,2,    241.5,2,     1.80,2,     8.01,2,     0.05,2,     0.63,2,        0,2, -999.000,9, -999.000,9,     -999,9,   2119.1,2,   2319.4,2,-999.0000,9,  -999.00,  -999.00,9,   -999.0,9,   -999.0,  -999.00,9,   0.00062,2,    0.030,2,    0.090,2,    0.000,2,   99.255,2
  096U20180111,  SR03,     7,  1,     22,     22,2,20180112,1819,-45.7040, 145.6563, 2043,    201.0,  11.6060,  35.0767,2,  35.0781,2,    245.0,2,    242.9,2,     2.60,2,    10.01,2,     0.03,2,     0.75,2,    -0.01,2, -999.000,9, -999.000,9,     -999,9,   -999.0,9,   -999.0,9,-999.0000,9,  -999.00,  -999.00,9,   -999.0,9,   -999.0,  -999.00,9,   0.00063,2,    0.024,2,    0.048,2,    0.000,2,   99.401,2
  096U20180111,  SR03,     7,  1,     21,     21,2,20180112,1819,-45.7040, 145.6563, 2043,    231.3,  11.2000,  35.0025,2,  35.0031,2,    244.3,2,    236.9,2,     3.40,2,    11.71,2,     0.03,2,     0.85,2,    -0.01,2, -999.000,9, -999.000,9,     -999,9,   2124.2,2,   2308.2,2,-999.0000,9,  -999.00,  -999.00,9,   -999.0,9,   -999.0,  -999.00,9,   0.00065,2,    0.023,2,    0.036,2,    0.000,2,   99.415,2
  096U20180111,  SR03,     7,  1,     20,     20,2,20180112,1819,-45.7040, 145.6563, 2043,    231.2,  11.1968,  35.0020,2,-999.0000,9,    244.3,2,   -999.0,9,  -999.00,9,  -999.00,9,  -999.00,9,  -999.00,9,     -999,9, -999.000,9, -999.000,9,     -999,9,   -999.0,9,   -999.0,9,-999.0000,9,  -999.00,  -999.00,9,   -999.0,9,   -999.0,  -999.00,9,   0.00067,2,    0.023,2,    0.036,2,    0.000,2,   99.436,2
  096U20180111,  SR03,     7,  1,     19,     19,2,20180112,1819,-45.7040, 145.6563, 2043,    301.5,  10.7236,  34.9280,2,  34.9310,2,    244.5,2,    244.4,2,     3.30,2,    12.16,2,     0.02,2,     0.87,2,    -0.01,2,    2.921,2,    1.718,2,     1.86,2,   2124.5,6,   2306.1,6,-999.0000,9,  -999.00,    10.64,2,   -999.0,9,   -999.0,  -999.00,9,   0.00055,2,    0.019,2,    0.036,2,    0.000,2,   99.523,2
  096U20180111,  SR03,     7,  1,     18,     18,2,20180112,1819,-45.7040, 145.6563, 2043,    401.0,   9.5607,  34.7249,2,  34.7255,2,    247.9,2,    234.0,2,     5.20,2,    16.30,2,     0.02,2,     1.13,2,        0,2, -999.000,9, -999.000,9,     -999,9,   -999.0,9,   -999.0,9,-999.0000,9,  -999.00,  -999.00,9,   -999.0,9,   -999.0,  -999.00,9,   0.00057,2,    0.019,2,    0.030,2,    0.000,2,   99.538,2
  096U20180111,  SR03,     7,  1,     17,     17,2,20180112,1819,-45.7040, 145.6563, 2043,    520.8,   8.7378,  34.5969,2,  34.5968,2,    234.1,2,    241.6,2,     5.80,2,    17.88,2,     0.02,2,     1.23,2,    -0.01,2, -999.000,9, -999.000,9,     -999,9,   2139.6,2,   2293.3,2,-999.0000,9,  -999.00,  -999.00,9,   -999.0,9,   -999.0,  -999.00,9,   0.00046,2,    0.012,2,    0.030,2,    0.000,2,   99.694,2
  096U20180111,  SR03,     7,  1,     16,     16,2,20180112,1819,-45.7040, 145.6563, 2043,    599.5,   8.4628,  34.5843,2,  34.5865,2,    216.1,2,    219.2,2,     8.70,2,    20.44,2,     0.01,2,     1.40,2,        0,2, -999.000,9, -999.000,9,     -999,9,   -999.0,9,   -999.0,9,-999.0000,9,  -999.00,  -999.00,9,   -999.0,9,   -999.0,  -999.00,9,   0.00049,2,    0.011,2,    0.036,2,    0.000,2,   99.729,2
  096U20180111,  SR03,     7,  1,     15,     15,2,20180112,1819,-45.7040, 145.6563, 2043,    700.5,   7.7403,  34.5292,2,  34.5305,2,    204.8,2,    202.7,2,    13.20,2,    23.52,2,     0.01,2,     1.59,2,    -0.01,2, -999.000,9, -999.000,9,     -999,9,   2162.6,2,   2292.5,2,-999.0000,9,  -999.00,  -999.00,9,   -999.0,9,   -999.0,  -999.00,9,   0.00042,2,    0.009,2,    0.036,2,    0.000,2,   99.781,2
  096U20180111,  SR03,     7,  1,     14,     14,2,20180112,1819,-45.7040, 145.6563, 2043,    799.4,   6.6845,  34.4458,2,  34.4489,2,    202.3,2,    200.8,2,    18.40,2,    26.08,2,     0.01,2,     1.76,2,    -0.01,2, -999.000,9, -999.000,9,     -999,9,   -999.0,9,   -999.0,9,-999.0000,9,  -999.00,  -999.00,9,   -999.0,9,   -999.0,  -999.00,9,   0.00043,2,    0.007,2,    0.036,2,    0.000,2,   99.825,2
  096U20180111,  SR03,     7,  1,     13,     13,2,20180112,1819,-45.7040, 145.6563, 2043,    899.8,   5.7607,  34.4047,2,  34.4044,2,    194.8,2,    197.8,2,    25.50,2,    28.33,2,     0.01,2,     1.91,2,    -0.01,2,    1.877,2,    1.006,2,     0.53,2,   2185.4,2,   2298.6,2,-999.0000,9,  -999.00,    18.09,2,   -999.0,9,   -999.0,  -999.00,9,   0.00045,2,    0.007,2,    0.036,2,    0.000,2,   99.832,2
  096U20180111,  SR03,     7,  1,     12,     12,2,20180112,1819,-45.7040, 145.6563, 2043,   1001.5,   5.2411,  34.4501,2,-999.0000,9,    183.0,2,   -999.0,9,  -999.00,9,  -999.00,9,  -999.00,9,  -999.00,9,     -999,9, -999.000,9, -999.000,9,     -999,9,   -999.0,9,   -999.0,9,-999.0000,9,  -999.00,  -999.00,9,   -999.0,9,   -999.0,  -999.00,9,   0.00044,2,    0.007,2,    0.036,2,    0.000,2,   99.828,2
  096U20180111,  SR03,     7,  1,     11,     11,2,20180112,1819,-45.7040, 145.6563, 2043,   1001.6,   5.2274,  34.4497,2,  34.4514,2,    183.0,2,    183.4,2,    38.20,2,    29.89,2,     0.01,2,     2.04,2,    -0.01,2, -999.000,9, -999.000,9,     -999,9,   -999.0,9,   -999.0,9,-999.0000,9,  -999.00,  -999.00,9,   -999.0,9,   -999.0,  -999.00,9,   0.00043,2,    0.008,2,    0.036,2,    0.000,2,   99.792,2
  096U20180111,  SR03,     7,  1,     10,     10,2,20180112,1819,-45.7040, 145.6563, 2043,   1148.5,   4.0549,  34.4827,2,  34.4833,2,    171.2,2,    171.1,2,    58.60,2,    32.50,2,     0.01,2,     2.24,2,    -0.01,2,    0.555,2,    0.285,2,     0.04,2,   2234.1,2,   2332.4,2,-999.0000,9,  -999.00,    20.70,2,   -999.0,9,   -999.0,  -999.00,9,   0.00045,2,    0.006,2,    0.042,2,    0.000,2,   99.851,2
  096U20180111,  SR03,     7,  1,      9,      9,2,20180112,1819,-45.7040, 145.6563, 2043,   1301.2,   3.3030,  34.5339,2,  34.5348,2,    163.4,2,    162.2,2,    73.70,2,    33.92,2,     0.01,2,     2.35,2,    -0.01,2, -999.000,9, -999.000,9,     -999,9,   -999.0,9,   -999.0,9,-999.0000,9,  -999.00,  -999.00,9,   -999.0,9,   -999.0,  -999.00,9,   0.00040,2,    0.005,2,    0.042,2,    0.000,2,   99.879,2
  096U20180111,  SR03,     7,  1,      8,      8,2,20180112,1819,-45.7040, 145.6563, 2043,   1451.4,   2.8134,  34.5741,2,  34.5740,2,    164.0,2,    163.2,2,    78.30,2,    34.20,2,     0.01,2,     2.36,2,    -0.01,2,    0.345,2,    0.166,2,     0.04,2,   2261.0,2,   2349.4,2,-999.0000,9,  -999.00,    21.84,2,   -999.0,9,   -999.0,  -999.00,9,   0.00037,2,    0.003,2,    0.042,2,    0.000,2,   99.922,2
  096U20180111,  SR03,     7,  1,      7,      7,2,20180112,1819,-45.7040, 145.6563, 2043,   1602.0,   2.5826,  34.6215,2,  34.6223,2,    167.7,2,    167.1,2,    80.20,2,    33.67,2,     0.01,2,     2.31,2,        0,2, -999.000,9, -999.000,9,     -999,9,   2261.1,2,   2350.5,2,-999.0000,9,  -999.00,  -999.00,9,   -999.0,9,   -999.0,  -999.00,9,   0.00038,2,    0.003,2,    0.042,2,    0.000,2,   99.925,2
  096U20180111,  SR03,     7,  1,      6,      6,2,20180112,1819,-45.7040, 145.6563, 2043,   1799.8,   2.3533,  34.6808,2,  34.6833,2,    173.1,2,    172.2,2,    84.80,2,    32.77,2,     0.01,2,     2.26,2,    -0.01,2,    0.139,2,    0.064,2,     0.23,3,   2260.5,2,   2356.0,2,-999.0000,9,  -999.00,    20.43,2,   -999.0,9,   -999.0,  -999.00,9,   0.00038,2,    0.003,2,    0.048,2,    0.000,2,   99.925,2
  096U20180111,  SR03,     7,  1,      5,      5,2,20180112,1819,-45.7040, 145.6563, 2043,   1950.4,   2.3064,  34.6938,2,-999.0000,9,    172.7,2,   -999.0,9,  -999.00,9,  -999.00,9,  -999.00,9,  -999.00,9,     -999,9, -999.000,9, -999.000,9,     -999,9,   -999.0,9,   -999.0,9,-999.0000,9,  -999.00,  -999.00,9,   -999.0,9,   -999.0,  -999.00,9,   0.00037,2,    0.003,2,    0.048,2,    0.000,2,   99.925,2
  096U20180111,  SR03,     7,  1,      4,      4,2,20180112,1819,-45.7040, 145.6563, 2043,   1950.3,   2.3063,  34.6939,2,  34.6945,2,    172.7,2,    172.7,2,    87.20,2,    32.67,2,     0.00,2,     2.26,2,    -0.01,2,    0.101,2,    0.046,2,     0.06,2,   2263.2,2,   2359.5,6,-999.0000,9,  -999.00,    20.39,2,   -999.0,9,   -999.0,  -999.00,9,   0.00037,2,    0.003,2,    0.042,2,    0.000,2,   99.927,2
  096U20180111,  SR03,     7,  1,      3,      3,2,20180112,1819,-45.7040, 145.6563, 2043,   2100.0,   2.2558,  34.7045,2,  34.7051,2,    174.6,2,    174.3,2,    89.10,2,    32.46,2,     0.01,2,     2.24,2,    -0.01,2, -999.000,9, -999.000,9,     -999,9,   2263.6,6,   2360.6,6,-999.0000,9,  -999.00,  -999.00,9,   -999.0,9,   -999.0,  -999.00,9,   0.00039,2,    0.003,2,    0.042,2,    0.000,2,   99.915,2
  096U20180111,  SR03,     7,  1,      2,      2,2,20180112,1819,-45.7040, 145.6563, 2043,   2159.7,   2.2378,  34.7075,2,  34.7087,2,    175.1,2,    174.5,2,    89.90,2,    32.44,2,     0.01,2,     2.24,2,     0.01,2,    0.084,2,    0.038,2,     0.01,2,   2263.6,2,   2362.2,2,-999.0000,9,  -999.00,    19.93,2,   -999.0,9,   -999.0,  -999.00,9,   0.00037,2,    0.003,2,    0.042,2,    0.000,2,   99.920,2
  096U20180111,  SR03,     7,  1,      1,      1,2,20180112,1819,-45.7040, 145.6563, 2043,   2159.4,   2.2379,  34.7077,2,-999.0000,9,    175.1,2,   -999.0,9,  -999.00,9,  -999.00,9,  -999.00,9,  -999.00,9,     -999,9, -999.000,9, -999.000,9,     -999,9,   -999.0,9,   -999.0,9,-999.0000,9,  -999.00,  -999.00,9,   -999.0,9,   -999.0,  -999.00,9,   0.00037,2,    0.003,2,    0.042,2,    0.000,2,   99.917,2