BOTTLE,20230418CCHSIOENA
EXPOCODE,SECT_ID,STNNBR,CASTNO,SAMPNO,BTLNBR,BTLNBR_FLAG_W,DATE,TIME,LATITUDE,LONGITUDE,DEPTH,CTDPRS,CTDTMP,CTDSAL,CTDSAL_FLAG_W,SALNTY,SALNTY_FLAG_W,CTDOXY,CTDOXY_FLAG_W,OXYGEN,OXYGEN_FLAG_W,SILCAT,SILCAT_FLAG_W,NITRAT,NITRAT_FLAG_W,NITRIT,NITRIT_FLAG_W,PHSPHT,PHSPHT_FLAG_W,NH4,NH4_FLAG_W,CFC-11,CFC-11_FLAG_W,CFC-12,CFC-12_FLAG_W,SF6,SF6_FLAG_W,TCARBN,TCARBN_FLAG_W,ALKALI,ALKALI_FLAG_W,PH_TOT,PH_TOT_FLAG_W,PH_TMP,N2O,N2O_FLAG_W,DELC14,DELC14_FLAG_W,C14ERR,DELC13,DELC13_FLAG_W,CTDBETA700,CTDBETA700_FLAG_W,CTDBEAMCP,CTDBEAMCP_FLAG_W,CTDFLUOR,CTDFLUOR_FLAG_W,PAR,PAR_FLAG_W,CTDXMISS,CTDXMISS_FLAG_W
,,,,,,,,,,,METERS,DBAR,ITS-90,PSS-78,,PSS-78,,UMOL/KG,,UMOL/KG,,UMOL/KG,,UMOL/KG,,UMOL/KG,,UMOL/KG,,UMOL/KG,,PMOL/KG,,PMOL/KG,,FMOL/KG,,UMOL/KG,,UMOL/KG,,,,DEG C,NMOL/KG,,/MILLE,,/MILLE,/MILLE,,VOLTS,,1/M,,MG/M^3,,UMOL/M^2/SEC,,%TRANS,
  096U20180111,  SR03,    96,  1,     36,     36,2,20180213,1805,-61.9950, 132.0033, 4466,     11.0,   2.3276,  33.6590,2,  33.6592,2,    329.5,2,    329.5,2,     5.90,2,    23.49,2,     0.24,2,     1.44,2,     0.29,2,    5.441,2,    2.895,2,     3.33,2,   2138.5,6,   2276.8,6,-999.0000,9,  -999.00,    14.60,2,   -999.0,9,   -999.0,  -999.00,9,   0.00190,2,    0.236,2,    0.822,2,   76.600,2,   94.264,2
  096U20180111,  SR03,    96,  1,     35,     35,2,20180213,1805,-61.9950, 132.0033, 4466,     11.1,   2.3275,  33.6591,2,-999.0000,9,    329.5,2,   -999.0,9,  -999.00,9,  -999.00,9,  -999.00,9,  -999.00,9,     -999,9, -999.000,9, -999.000,9,     -999,9,   -999.0,9,   -999.0,9,-999.0000,9,  -999.00,  -999.00,9,   -999.0,9,   -999.0,  -999.00,9,   0.00189,2,    0.236,2,    0.840,2,   76.500,2,   94.272,2
  096U20180111,  SR03,    96,  1,     34,     34,2,20180213,1805,-61.9950, 132.0033, 4466,     11.1,   2.3278,  33.6591,2,-999.0000,9,    329.5,2,   -999.0,9,  -999.00,9,  -999.00,9,  -999.00,9,  -999.00,9,     -999,9, -999.000,9, -999.000,9,     -999,9,   -999.0,9,   -999.0,9,-999.0000,9,  -999.00,  -999.00,9,   -999.0,9,   -999.0,  -999.00,9,   0.00192,2,    0.238,2,    0.834,2,   75.200,2,   94.228,2
  096U20180111,  SR03,    96,  1,     33,     33,2,20180213,1805,-61.9950, 132.0033, 4466,     40.5,   2.3316,  33.6878,2,  33.6920,2,    330.4,2,    330.8,2,     6.90,2,    23.59,2,     0.24,2,     1.47,2,      0.3,2, -999.000,9, -999.000,9,     -999,9,   2139.5,2,   2279.8,2,-999.0000,9,  -999.00,  -999.00,9,   -999.0,9,   -999.0,  -999.00,9,   0.00245,2,    0.262,2,    2.178,2,    6.660,2,   93.655,2
  096U20180111,  SR03,    96,  1,     32,     32,2,20180213,1805,-61.9950, 132.0033, 4466,     90.7,  -1.0404,  33.9303,2,  33.9318,2,    336.3,2,    333.9,2,    32.80,2,    29.36,2,     0.22,2,     2.09,2,     0.38,2,    5.853,2,    3.136,2,     3.81,2,   2182.9,2,   2290.6,2,-999.0000,9,  -999.00,    16.28,2,   -999.0,9,   -999.0,  -999.00,9,   0.00057,2,    0.031,2,    0.264,2,    0.362,2,   99.228,2
  096U20180111,  SR03,    96,  1,     31,     31,2,20180213,1805,-61.9950, 132.0033, 4466,    150.5,   0.1405,  34.1172,2,  34.1216,2,    291.5,2,    277.2,2,    44.80,2,    32.16,2,     0.02,2,     2.23,2,        0,2,    4.331,6,    2.334,6,     2.37,6,   2207.9,2,   2301.6,2,-999.0000,9,  -999.00,    20.55,6,   -999.0,9,   -999.0,  -999.00,9,   0.00041,2,    0.016,2,    0.102,2,    0.020,2,   99.597,2
  096U20180111,  SR03,    96,  1,     30,     30,2,20180213,1805,-61.9950, 132.0033, 4466,    200.5,   2.0217,  34.4063,2,  34.4096,2,    202.0,2,    190.2,2,    64.50,2,    35.19,2,     0.01,2,     2.44,2,        0,2, -999.000,9, -999.000,9,     -999,9,   2245.4,2,   2320.7,2,-999.0000,9,  -999.00,  -999.00,9,   -999.0,9,   -999.0,  -999.00,9,   0.00041,2,    0.014,2,    0.042,2,    0.000,2,   99.644,2
  096U20180111,  SR03,    96,  1,     29,     29,2,20180213,1805,-61.9950, 132.0033, 4466,    250.6,   2.1556,  34.4702,2,  34.4765,2,    182.3,2,    179.3,2,    69.20,2,    35.18,2,     0.01,2,     2.44,2,    -0.01,2,    1.422,2,    0.730,2,     0.68,2,   2252.5,2,   2326.6,6,-999.0000,9,  -999.00,    27.21,2,   -999.0,9,   -999.0,  -999.00,9,   0.00043,2,    0.019,2,    0.036,2,    0.000,2,   99.519,2
  096U20180111,  SR03,    96,  1,     28,     28,2,20180213,1805,-61.9950, 132.0033, 4466,    300.7,   2.1913,  34.5279,2,  34.5281,2,    176.3,2,    175.4,2,    72.50,2,    34.79,2,     0.00,2,     2.42,2,    -0.01,2, -999.000,9, -999.000,9,     -999,9,   2254.5,2,   2331.4,2,-999.0000,9,  -999.00,  -999.00,9,   -999.0,9,   -999.0,  -999.00,9,   0.00045,2,    0.017,2,    0.042,2,    0.000,2,   99.571,2
  096U20180111,  SR03,    96,  1,     27,     27,2,20180213,1805,-61.9950, 132.0033, 4466,    401.0,   2.2245,  34.5990,2,  34.5986,2,    172.2,2,    172.8,2,    75.90,2,    34.04,2,     0.01,2,     2.36,2,    -0.01,2,    0.740,2,    0.379,2,     0.24,2,   2255.5,2,   2336.4,2,-999.0000,9,  -999.00,    24.01,2,   -999.0,9,   -999.0,  -999.00,9,   0.00038,2,    0.011,2,    0.036,2,    0.000,2,   99.734,2
  096U20180111,  SR03,    96,  1,     26,     26,2,20180213,1805,-61.9950, 132.0033, 4466,    500.9,   2.1785,  34.6449,2,  34.6442,2,    174.4,2,    175.1,2,    78.20,2,    33.25,2,     0.00,2,     2.30,2,    -0.01,2, -999.000,9, -999.000,9,     -999,9,   -999.0,9,   -999.0,9,-999.0000,9,  -999.00,  -999.00,9,   -999.0,9,   -999.0,  -999.00,9,   0.00036,2,    0.009,2,    0.036,2,    0.000,2,   99.778,2
  096U20180111,  SR03,    96,  1,     25,     25,2,20180213,1805,-61.9950, 132.0033, 4466,    600.7,   2.1452,  34.6814,2,  34.6800,2,    178.2,2,    179.6,2,    79.80,2,    32.42,2,     0.00,2,     2.26,2,    -0.01,2,    0.424,2,    0.220,2,     0.22,2,   2254.2,2,   2343.0,2,-999.0000,9,  -999.00,    23.23,2,   -999.0,9,   -999.0,  -999.00,9,   0.00035,2,    0.008,2,    0.036,2,    0.000,2,   99.806,2
  096U20180111,  SR03,    96,  1,     24,     24,2,20180213,1805,-61.9950, 132.0033, 4466,    700.6,   2.0975,  34.7037,2,  34.7035,2,    182.1,2,    182.5,2,    81.10,2,    31.83,2,     0.00,2,     2.22,2,    -0.01,2,    0.346,2,    0.182,2,     0.15,2,   2252.7,2,   2345.0,2,-999.0000,9,  -999.00,    21.35,2,   -999.0,9,   -999.0,  -999.00,9,   0.00035,2,    0.006,2,    0.042,2,    0.000,2,   99.840,2
  096U20180111,  SR03,    96,  1,     23,     23,2,20180213,1805,-61.9950, 132.0033, 4466,    801.4,   2.0165,  34.7182,2,  34.7166,2,    184.8,2,    185.8,2,    83.10,2,    31.39,2,     0.01,2,     2.18,2,        0,2, -999.000,9, -999.000,9,     -999,9,   -999.0,9,   -999.0,9,-999.0000,9,  -999.00,  -999.00,9,   -999.0,9,   -999.0,  -999.00,9,   0.00031,2,    0.004,2,    0.036,2,    0.000,2,   99.897,2
  096U20180111,  SR03,    96,  1,     22,     22,2,20180213,1805,-61.9950, 132.0033, 4466,    900.9,   1.9740,  34.7316,2,  34.7328,2,    188.4,2,    189.2,2,    84.10,2,    30.95,2,     0.00,2,     2.16,2,    -0.01,2,    0.260,2,    0.135,2,     0.03,2,   2248.8,2,   2348.4,2,-999.0000,9,  -999.00,    21.12,2,   -999.0,9,   -999.0,  -999.00,9,   0.00031,2,    0.004,2,    0.036,2,    0.000,2,   99.911,2
  096U20180111,  SR03,    96,  1,     21,     21,2,20180213,1805,-61.9950, 132.0033, 4466,   1050.3,   1.8659,  34.7405,2,  34.7407,2,    192.1,2,    192.6,2,    86.50,2,    30.70,2,     0.00,2,     2.14,2,    -0.01,2, -999.000,9, -999.000,9,     -999,9,   -999.0,9,   -999.0,9,-999.0000,9,  -999.00,  -999.00,9,   -999.0,9,   -999.0,  -999.00,9,   0.00029,2,    0.002,2,    0.036,2,    0.000,2,   99.947,2
  096U20180111,  SR03,    96,  1,     20,     20,2,20180213,1805,-61.9950, 132.0033, 4466,   1200.7,   1.7558,  34.7434,2,  34.7447,2,    195.7,2,    196.0,2,    89.40,2,    30.55,2,     0.00,2,     2.14,2,    -0.01,2,    0.223,2,    0.118,2,     0.02,2,   2249.4,2,   2352.3,2,-999.0000,9,  -999.00,    19.50,2,   -999.0,9,   -999.0,  -999.00,9,   0.00028,2,    0.001,2,    0.036,2,    0.000,2,   99.972,2
  096U20180111,  SR03,    96,  1,     19,     19,2,20180213,1805,-61.9950, 132.0033, 4466,   1400.8,   1.6009,  34.7426,2,  34.7439,2,    198.6,2,    198.4,2,    93.50,2,    30.62,2,     0.00,2,     2.13,2,    -0.01,2,    0.210,2,    0.112,2,     0.13,2,   2251.3,2,   2355.0,2,-999.0000,9,  -999.00,    20.12,2,   -999.0,9,   -999.0,  -999.00,9,   0.00027,2,    0.000,2,    0.036,2,    0.000,2,   99.992,2
  096U20180111,  SR03,    96,  1,     18,     18,2,20180213,1805,-61.9950, 132.0033, 4466,   1601.1,   1.4180,  34.7374,2,  34.7378,2,    201.2,2,    200.9,2,    98.80,2,    30.79,2,     0.00,2,     2.15,2,    -0.01,2,    0.201,2,    0.103,2,     0.08,2,   2252.7,2,   2357.0,2,-999.0000,9,  -999.00,    19.55,2,   -999.0,9,   -999.0,  -999.00,9,   0.00028,2,    0.000,2,    0.042,2,    0.000,2,  100.004,2
  096U20180111,  SR03,    96,  1,     17,     17,2,20180213,1805,-61.9950, 132.0033, 4466,   1801.4,   1.2473,  34.7301,2,  34.7305,2,    203.3,2,    203.1,2,   104.00,2,    31.08,2,     0.00,2,     2.17,2,    -0.01,2,    0.211,2,    0.105,2,     0.11,2,   2255.3,2,   2359.4,2,-999.0000,9,  -999.00,    19.50,2,   -999.0,9,   -999.0,  -999.00,9,   0.00028,2,   -0.001,2,    0.042,2,    0.000,2,  100.023,2
  096U20180111,  SR03,    96,  1,     16,     16,2,20180213,1805,-61.9950, 132.0033, 4466,   2001.3,   1.0997,  34.7230,2,  34.7208,2,    204.9,2,    205.0,2,   108.60,2,    31.27,2,     0.00,2,     2.19,2,    -0.01,2,    0.225,2,    0.116,2,     0.08,2,   2257.0,6,   2360.2,6,-999.0000,9,  -999.00,    18.82,2,   -999.0,9,   -999.0,  -999.00,9,   0.00027,2,   -0.001,2,    0.036,2,    0.000,2,  100.031,2
  096U20180111,  SR03,    96,  1,     15,     15,2,20180213,1805,-61.9950, 132.0033, 4466,   2001.4,   1.0996,  34.7231,2,-999.0000,9,    204.9,2,   -999.0,9,  -999.00,9,  -999.00,9,  -999.00,9,  -999.00,9,     -999,9, -999.000,9, -999.000,9,     -999,9,   -999.0,9,   -999.0,9,-999.0000,9,  -999.00,  -999.00,9,   -999.0,9,   -999.0,  -999.00,9,   0.00027,2,   -0.001,2,    0.042,2,    0.000,2,  100.032,2
  096U20180111,  SR03,    96,  1,     14,     14,2,20180213,1805,-61.9950, 132.0033, 4466,   2001.4,   1.0997,  34.7231,2,-999.0000,9,    204.9,2,   -999.0,9,  -999.00,9,  -999.00,9,  -999.00,9,  -999.00,9,     -999,9, -999.000,9, -999.000,9,     -999,9,   -999.0,9,   -999.0,9,-999.0000,9,  -999.00,  -999.00,9,   -999.0,9,   -999.0,  -999.00,9,   0.00026,2,   -0.001,2,    0.036,2,    0.000,2,  100.032,2
  096U20180111,  SR03,    96,  1,     13,     13,2,20180213,1805,-61.9950, 132.0033, 4466,   2250.1,   0.9117,  34.7130,2,  34.7137,2,    206.8,2,    207.2,2,   114.10,2,    31.65,2,     0.00,2,     2.22,2,    -0.01,2,    0.268,2,    0.135,2,     0.02,2,   2259.8,2,   2361.1,2,-999.0000,9,  -999.00,    20.31,2,   -999.0,9,   -999.0,  -999.00,9,   0.00026,2,   -0.001,2,    0.042,2,    0.000,2,  100.030,2
  096U20180111,  SR03,    96,  1,     12,     12,2,20180213,1805,-61.9950, 132.0033, 4466,   2500.6,   0.7308,  34.7032,2,  34.7029,2,    209.7,2,    209.8,2,   118.70,2,    31.92,2,     0.00,2,     2.25,2,    -0.01,2,    0.327,2,    0.162,2,     0.11,2,   2260.0,2,   2361.1,2,-999.0000,9,  -999.00,    19.36,2,   -999.0,9,   -999.0,  -999.00,9,   0.00026,2,   -0.002,2,    0.036,2,    0.000,2,  100.038,2
  096U20180111,  SR03,    96,  1,     11,     11,2,20180213,1805,-61.9950, 132.0033, 4466,   2750.7,   0.5604,  34.6948,2,  34.6949,2,    213.2,2,    213.4,2,   123.10,2,    32.15,2,     0.00,2,     2.26,2,    -0.01,2,    0.419,2,    0.208,2,     0.02,2,   -999.0,9,   -999.0,9,-999.0000,9,  -999.00,    19.85,2,   -999.0,9,   -999.0,  -999.00,9,   0.00024,2,   -0.001,2,    0.042,2,    0.000,2,  100.032,2
  096U20180111,  SR03,    96,  1,     10,     10,2,20180213,1805,-61.9950, 132.0033, 4466,   3001.3,   0.4315,  34.6885,2,  34.6898,2,    216.7,2,    216.8,2,   126.60,2,    32.25,2,     0.00,2,     2.27,2,    -0.01,2,    0.534,2,    0.261,2,     0.08,2,   2259.8,2,   2360.5,2,-999.0000,9,  -999.00,    20.00,2,   -999.0,9,   -999.0,  -999.00,9,   0.00024,2,   -0.001,2,    0.036,2,    0.000,2,  100.033,2
  096U20180111,  SR03,    96,  1,      9,      9,2,20180213,1805,-61.9950, 132.0033, 4466,   3251.4,   0.3370,  34.6837,2,  34.6838,2,    219.6,2,    219.6,2,   128.90,2,    32.26,2,     0.00,2,     2.27,2,    -0.01,2,    0.638,2,    0.313,2,     0.08,2,   -999.0,9,   -999.0,9,-999.0000,9,  -999.00,    19.55,2,   -999.0,9,   -999.0,  -999.00,9,   0.00023,2,   -0.001,2,    0.042,2,    0.000,2,  100.036,2
  096U20180111,  SR03,    96,  1,      8,      8,2,20180213,1805,-61.9950, 132.0033, 4466,   3501.1,   0.2670,  34.6799,2,  34.6797,2,    222.2,2,    222.6,2,   130.30,2,    32.28,2,     0.00,2,     2.28,2,    -0.01,2,    0.743,2,    0.364,2,      0.1,2,   2261.0,2,   2360.4,2,-999.0000,9,  -999.00,    19.29,2,   -999.0,9,   -999.0,  -999.00,9,   0.00022,2,   -0.001,2,    0.042,2,    0.000,2,  100.036,2
  096U20180111,  SR03,    96,  1,      7,      7,2,20180213,1805,-61.9950, 132.0033, 4466,   3751.7,   0.1922,  34.6758,2,  34.6787,4,    225.3,2,    225.3,2,   131.20,2,    32.26,2,     0.00,2,     2.28,2,    -0.01,2,    0.899,2,    0.450,2,     0.21,2,   -999.0,9,   -999.0,9,-999.0000,9,  -999.00,    18.55,2,   -999.0,9,   -999.0,  -999.00,9,   0.00023,2,   -0.001,2,    0.042,2,    0.000,2,  100.033,2
  096U20180111,  SR03,    96,  1,      6,      6,2,20180213,1805,-61.9950, 132.0033, 4466,   3751.7,   0.1921,  34.6758,2,-999.0000,9,    225.3,2,   -999.0,9,  -999.00,9,  -999.00,9,  -999.00,9,  -999.00,9,     -999,9, -999.000,9, -999.000,9,     -999,9,   -999.0,9,   -999.0,9,-999.0000,9,  -999.00,  -999.00,9,   -999.0,9,   -999.0,  -999.00,9,   0.00023,2,   -0.001,2,    0.036,2,    0.000,2,  100.026,2
  096U20180111,  SR03,    96,  1,      5,      5,2,20180213,1805,-61.9950, 132.0033, 4466,   4051.3,   0.0986,  34.6699,2,  34.6695,2,    229.4,2,    229.2,2,   132.30,2,    32.18,2,     0.00,2,     2.27,2,    -0.01,2,    1.163,2,    0.574,2,     0.19,2,   2259.5,6,   2359.0,6,-999.0000,9,  -999.00,    19.58,2,   -999.0,9,   -999.0,  -999.00,9,   0.00023,2,   -0.001,2,    0.042,2,    0.000,2,  100.019,2
  096U20180111,  SR03,    96,  1,      4,      4,2,20180213,1805,-61.9950, 132.0033, 4466,   4301.5,   0.0127,  34.6619,2,  34.6612,2,    233.6,2,    233.4,2,   129.70,2,    32.11,2,     0.00,2,     2.26,2,    -0.01,2,    1.539,2,    0.790,2,     0.47,2,   2258.6,2,   2357.1,2,-999.0000,9,  -999.00,    19.13,2,   -999.0,9,   -999.0,  -999.00,9,   0.00023,2,    0.000,2,    0.042,2,    0.000,2,  100.002,2
  096U20180111,  SR03,    96,  1,      3,      3,2,20180213,1805,-61.9950, 132.0033, 4466,   4500.5,  -0.1051,  34.6503,2,  34.6483,2,    239.6,2,    239.1,2,   122.60,2,    31.94,2,     0.00,2,     2.26,2,    -0.01,2,    2.054,2,    1.085,2,     1.15,2,   2257.4,2,   2352.9,2,-999.0000,9,  -999.00,    20.00,2,   -999.0,9,   -999.0,  -999.00,9,   0.00035,2,    0.008,2,    0.036,2,    0.000,2,   99.806,2
  096U20180111,  SR03,    96,  1,      2,      2,2,20180213,1805,-61.9950, 132.0033, 4466,   4558.6,  -0.1954,  34.6436,2,-999.0000,9,    245.2,2,   -999.0,9,  -999.00,9,  -999.00,9,  -999.00,9,  -999.00,9,     -999,9, -999.000,9, -999.000,9,     -999,9,   -999.0,9,   -999.0,9,-999.0000,9,  -999.00,  -999.00,9,   -999.0,9,   -999.0,  -999.00,9,   0.00062,2,    0.020,2,    0.042,2,    0.000,2,   99.498,2
  096U20180111,  SR03,    96,  1,      1,      1,2,20180213,1805,-61.9950, 132.0033, 4466,   4558.5,  -0.1953,  34.6437,2,  34.6444,2,    245.2,2,    245.0,2,   107.40,2,    31.62,2,     0.01,2,     2.24,2,    -0.01,2,    2.266,2,    1.214,2,     1.14,2,   2254.1,2,   2351.9,2,-999.0000,9,  -999.00,    19.23,2,   -999.0,9,   -999.0,  -999.00,9,   0.00061,2,    0.021,2,    0.042,2,    0.000,2,   99.482,2