BOTTLE,20230418CCHSIOENA
EXPOCODE,SECT_ID,STNNBR,CASTNO,SAMPNO,BTLNBR,BTLNBR_FLAG_W,DATE,TIME,LATITUDE,LONGITUDE,DEPTH,CTDPRS,CTDTMP,CTDSAL,CTDSAL_FLAG_W,SALNTY,SALNTY_FLAG_W,CTDOXY,CTDOXY_FLAG_W,OXYGEN,OXYGEN_FLAG_W,SILCAT,SILCAT_FLAG_W,NITRAT,NITRAT_FLAG_W,NITRIT,NITRIT_FLAG_W,PHSPHT,PHSPHT_FLAG_W,NH4,NH4_FLAG_W,CFC-11,CFC-11_FLAG_W,CFC-12,CFC-12_FLAG_W,SF6,SF6_FLAG_W,TCARBN,TCARBN_FLAG_W,ALKALI,ALKALI_FLAG_W,PH_TOT,PH_TOT_FLAG_W,PH_TMP,N2O,N2O_FLAG_W,DELC14,DELC14_FLAG_W,C14ERR,DELC13,DELC13_FLAG_W,CTDBETA700,CTDBETA700_FLAG_W,CTDBEAMCP,CTDBEAMCP_FLAG_W,CTDFLUOR,CTDFLUOR_FLAG_W,PAR,PAR_FLAG_W,CTDXMISS,CTDXMISS_FLAG_W
,,,,,,,,,,,METERS,DBAR,ITS-90,PSS-78,,PSS-78,,UMOL/KG,,UMOL/KG,,UMOL/KG,,UMOL/KG,,UMOL/KG,,UMOL/KG,,UMOL/KG,,PMOL/KG,,PMOL/KG,,FMOL/KG,,UMOL/KG,,UMOL/KG,,,,DEG C,NMOL/KG,,/MILLE,,/MILLE,/MILLE,,VOLTS,,1/M,,MG/M^3,,UMOL/M^2/SEC,,%TRANS,
  096U20180111,  SR03,    64,  1,     36,     36,2,20180202,1103,-66.2417, 144.0222,  439,     11.1,  -1.3697,  33.4714,2,-999.0000,9,    358.8,2,   -999.0,9,  -999.00,9,  -999.00,9,  -999.00,9,  -999.00,9,     -999,9, -999.000,9, -999.000,9,     -999,9,   -999.0,9,   -999.0,9,-999.0000,9,  -999.00,  -999.00,9,   -999.0,9,   -999.0,  -999.00,9,   0.00395,2,    0.381,2,    4.044,2,    0.906,2,   90.921,2
  096U20180111,  SR03,    64,  1,     35,     35,2,20180202,1103,-66.2417, 144.0222,  439,     11.1,  -1.3717,  33.4707,2,-999.0000,9,    358.8,2,   -999.0,9,  -999.00,9,  -999.00,9,  -999.00,9,  -999.00,9,     -999,9, -999.000,9, -999.000,9,     -999,9,   -999.0,9,   -999.0,9,-999.0000,9,  -999.00,  -999.00,9,   -999.0,9,   -999.0,  -999.00,9,   0.00383,2,    0.376,2,    3.462,2,    0.940,2,   91.034,2
  096U20180111,  SR03,    64,  1,     34,     34,2,20180202,1103,-66.2417, 144.0222,  439,     11.1,  -1.3726,  33.4707,2,  33.4925,2,    358.8,2,    359.0,2,    46.50,2,    24.94,2,     0.16,2,     1.63,2,      0.1,2, -999.000,9, -999.000,9,     -999,9,   2139.0,6,   2269.7,6,-999.0000,9,  -999.00,  -999.00,9,   -999.0,9,   -999.0,  -999.00,9,   0.00389,2,    0.385,2,    3.630,2,    0.946,2,   90.829,2
  096U20180111,  SR03,    64,  1,     33,     33,2,20180202,1103,-66.2417, 144.0222,  439,     11.2,  -1.3727,  33.4708,2,-999.0000,9,    358.8,2,   -999.0,9,  -999.00,9,  -999.00,9,  -999.00,9,  -999.00,9,     -999,9, -999.000,9, -999.000,9,     -999,9,   -999.0,9,   -999.0,9,-999.0000,9,  -999.00,  -999.00,9,   -999.0,9,   -999.0,  -999.00,9,   0.00403,2,    0.377,2,    3.780,2,    0.946,2,   91.009,2
  096U20180111,  SR03,    64,  1,     32,     32,2,20180202,1103,-66.2417, 144.0222,  439,     35.7,  -1.2985,  33.6087,2,-999.0000,9,    360.6,2,   -999.0,9,  -999.00,9,  -999.00,9,  -999.00,9,  -999.00,9,     -999,9, -999.000,9, -999.000,9,     -999,9,   -999.0,9,   -999.0,9,-999.0000,9,  -999.00,  -999.00,9,   -999.0,9,   -999.0,  -999.00,9,   0.00378,2,    0.333,2,    3.978,2,    0.041,2,   92.009,2
  096U20180111,  SR03,    64,  1,     31,     31,2,20180202,1103,-66.2417, 144.0222,  439,     35.6,  -1.3251,  33.6135,2,  33.7102,2,    360.6,2,    349.7,2,    51.40,2,    25.34,2,     0.14,2,     1.71,2,     0.39,2, -999.000,9, -999.000,9,     -999,9,   2155.8,2,   2285.8,2,-999.0000,9,  -999.00,  -999.00,9,   -999.0,9,   -999.0,  -999.00,9,   0.00372,2,    0.337,2,    3.918,2,    0.042,2,   91.915,2
  096U20180111,  SR03,    64,  1,     30,     30,2,20180202,1103,-66.2417, 144.0222,  439,     35.6,  -1.3334,  33.6153,2,-999.0000,9,    360.6,2,   -999.0,9,  -999.00,9,  -999.00,9,  -999.00,9,  -999.00,9,     -999,9, -999.000,9, -999.000,9,     -999,9,   -999.0,9,   -999.0,9,-999.0000,9,  -999.00,  -999.00,9,   -999.0,9,   -999.0,  -999.00,9,   0.00376,2,    0.344,2,    4.008,2,    0.043,2,   91.768,2
  096U20180111,  SR03,    64,  1,     29,     29,2,20180202,1103,-66.2417, 144.0222,  439,     60.4,  -1.3569,  34.2092,2,-999.0000,9,    333.6,2,   -999.0,9,  -999.00,9,  -999.00,9,  -999.00,9,  -999.00,9,     -999,9, -999.000,9, -999.000,9,     -999,9,   -999.0,9,   -999.0,9,-999.0000,9,  -999.00,  -999.00,9,   -999.0,9,   -999.0,  -999.00,9,   0.00136,2,    0.085,2,    0.852,2,    0.000,2,   97.909,2
  096U20180111,  SR03,    64,  1,     28,     28,2,20180202,1103,-66.2417, 144.0222,  439,     60.4,  -1.3588,  34.2117,2,  34.2282,2,    333.6,2,    320.8,2,    64.80,2,    27.90,2,     0.10,2,     2.00,2,     1.05,2, -999.000,9, -999.000,9,     -999,9,   -999.0,9,   -999.0,9,-999.0000,9,  -999.00,  -999.00,9,   -999.0,9,   -999.0,  -999.00,9,   0.00135,2,    0.084,2,    1.062,2,    0.000,2,   97.922,2
  096U20180111,  SR03,    64,  1,     27,     27,2,20180202,1103,-66.2417, 144.0222,  439,     60.3,  -1.3583,  34.2113,2,-999.0000,9,    333.6,2,   -999.0,9,  -999.00,9,  -999.00,9,  -999.00,9,  -999.00,9,     -999,9, -999.000,9, -999.000,9,     -999,9,   -999.0,9,   -999.0,9,-999.0000,9,  -999.00,  -999.00,9,   -999.0,9,   -999.0,  -999.00,9,   0.00130,2,    0.077,2,    0.948,2,    0.000,2,   98.099,2
  096U20180111,  SR03,    64,  1,     26,     26,2,20180202,1103,-66.2417, 144.0222,  439,     85.9,  -1.4901,  34.3868,2,-999.0000,9,    299.7,2,   -999.0,9,  -999.00,9,  -999.00,9,  -999.00,9,  -999.00,9,     -999,9, -999.000,9, -999.000,9,     -999,9,   -999.0,9,   -999.0,9,-999.0000,9,  -999.00,  -999.00,9,   -999.0,9,   -999.0,  -999.00,9,   0.00066,2,    0.025,2,    0.198,2,    0.000,2,   99.364,2
  096U20180111,  SR03,    64,  1,     25,     25,2,20180202,1103,-66.2417, 144.0222,  439,     85.9,  -1.4970,  34.3825,2,  34.3817,2,    299.7,2,    298.2,2,    72.20,2,    30.10,2,     0.10,2,     2.13,2,     0.49,2, -999.000,9, -999.000,9,     -999,9,   2224.1,2,   2328.0,6,-999.0000,9,  -999.00,  -999.00,9,   -999.0,9,   -999.0,  -999.00,9,   0.00064,2,    0.023,2,    0.186,2,    0.000,2,   99.440,2
  096U20180111,  SR03,    64,  1,     24,     24,2,20180202,1103,-66.2417, 144.0222,  439,     85.9,  -1.4982,  34.3803,2,-999.0000,9,    299.7,2,   -999.0,9,  -999.00,9,  -999.00,9,  -999.00,9,  -999.00,9,     -999,9, -999.000,9, -999.000,9,     -999,9,   -999.0,9,   -999.0,9,-999.0000,9,  -999.00,  -999.00,9,   -999.0,9,   -999.0,  -999.00,9,   0.00069,2,    0.024,2,    0.198,2,    0.000,2,   99.398,2
  096U20180111,  SR03,    64,  1,     23,     23,2,20180202,1103,-66.2417, 144.0222,  439,    120.8,  -1.1961,  34.4567,2,-999.0000,9,    276.2,2,   -999.0,9,  -999.00,9,  -999.00,9,  -999.00,9,  -999.00,9,     -999,9, -999.000,9, -999.000,9,     -999,9,   -999.0,9,   -999.0,9,-999.0000,9,  -999.00,  -999.00,9,   -999.0,9,   -999.0,  -999.00,9,   0.00040,2,    0.007,2,    0.066,2,    0.000,2,   99.829,2
  096U20180111,  SR03,    64,  1,     22,     22,2,20180202,1103,-66.2417, 144.0222,  439,    120.8,  -1.1966,  34.4566,2,  34.4595,2,    276.2,2,    277.5,2,    77.50,2,    31.15,2,     0.09,2,     2.18,2,      0.1,2, -999.000,9, -999.000,9,     -999,9,   -999.0,9,   -999.0,9,-999.0000,9,  -999.00,  -999.00,9,   -999.0,9,   -999.0,  -999.00,9,   0.00043,2,    0.007,2,    0.078,2,    0.000,2,   99.836,2
  096U20180111,  SR03,    64,  1,     21,     21,2,20180202,1103,-66.2417, 144.0222,  439,    120.7,  -1.1970,  34.4567,2,-999.0000,9,    276.2,2,   -999.0,9,  -999.00,9,  -999.00,9,  -999.00,9,  -999.00,9,     -999,9, -999.000,9, -999.000,9,     -999,9,   -999.0,9,   -999.0,9,-999.0000,9,  -999.00,  -999.00,9,   -999.0,9,   -999.0,  -999.00,9,   0.00044,2,    0.007,2,    0.078,2,    0.000,2,   99.838,2
  096U20180111,  SR03,    64,  1,     20,     20,2,20180202,1103,-66.2417, 144.0222,  439,    141.2,  -1.2807,  34.4698,2,-999.0000,9,    274.0,2,   -999.0,9,  -999.00,9,  -999.00,9,  -999.00,9,  -999.00,9,     -999,9, -999.000,9, -999.000,9,     -999,9,   -999.0,9,   -999.0,9,-999.0000,9,  -999.00,  -999.00,9,   -999.0,9,   -999.0,  -999.00,9,   0.00051,2,    0.008,2,    0.078,2,    0.000,2,   99.797,2
  096U20180111,  SR03,    64,  1,     19,     19,2,20180202,1103,-66.2417, 144.0222,  439,    141.2,  -1.2838,  34.4692,2,  34.4702,2,    274.0,2,    281.0,2,    77.60,2,    30.86,2,     0.08,2,     2.18,2,     0.28,2, -999.000,9, -999.000,9,     -999,9,   2235.6,2,   2335.4,2,-999.0000,9,  -999.00,  -999.00,9,   -999.0,9,   -999.0,  -999.00,9,   0.00045,2,    0.009,2,    0.078,2,    0.000,2,   99.780,2
  096U20180111,  SR03,    64,  1,     18,     18,2,20180202,1103,-66.2417, 144.0222,  439,    141.1,  -1.2774,  34.4692,2,-999.0000,9,    274.0,2,   -999.0,9,  -999.00,9,  -999.00,9,  -999.00,9,  -999.00,9,     -999,9, -999.000,9, -999.000,9,     -999,9,   -999.0,9,   -999.0,9,-999.0000,9,  -999.00,  -999.00,9,   -999.0,9,   -999.0,  -999.00,9,   0.00046,2,    0.009,2,    0.084,2,    0.000,2,   99.784,2
  096U20180111,  SR03,    64,  1,     17,     17,2,20180202,1103,-66.2417, 144.0222,  439,    226.1,  -0.9039,  34.5352,2,-999.0000,9,    265.0,2,   -999.0,9,  -999.00,9,  -999.00,9,  -999.00,9,  -999.00,9,     -999,9, -999.000,9, -999.000,9,     -999,9,   -999.0,9,   -999.0,9,-999.0000,9,  -999.00,  -999.00,9,   -999.0,9,   -999.0,  -999.00,9,   0.00050,2,    0.009,2,    0.066,2,    0.000,2,   99.789,2
  096U20180111,  SR03,    64,  1,     16,     16,2,20180202,1103,-66.2417, 144.0222,  439,    226.1,  -0.9041,  34.5356,2,  34.5406,2,    265.0,2,    264.0,2,    83.10,2,    31.48,2,     0.09,2,     2.20,2,     0.06,2, -999.000,9, -999.000,9,     -999,9,   -999.0,9,   -999.0,9,-999.0000,9,  -999.00,  -999.00,9,   -999.0,9,   -999.0,  -999.00,9,   0.00048,2,    0.009,2,    0.066,2,    0.000,2,   99.788,2
  096U20180111,  SR03,    64,  1,     15,     15,2,20180202,1103,-66.2417, 144.0222,  439,    226.1,  -0.9048,  34.5357,2,-999.0000,9,    265.0,2,   -999.0,9,  -999.00,9,  -999.00,9,  -999.00,9,  -999.00,9,     -999,9, -999.000,9, -999.000,9,     -999,9,   -999.0,9,   -999.0,9,-999.0000,9,  -999.00,  -999.00,9,   -999.0,9,   -999.0,  -999.00,9,   0.00050,2,    0.008,2,    0.066,2,    0.000,2,   99.795,2
  096U20180111,  SR03,    64,  1,     14,     14,2,20180202,1103,-66.2417, 144.0222,  439,    271.2,  -1.2401,  34.5381,2,-999.0000,9,    273.6,2,   -999.0,9,  -999.00,9,  -999.00,9,  -999.00,9,  -999.00,9,     -999,9, -999.000,9, -999.000,9,     -999,9,   -999.0,9,   -999.0,9,-999.0000,9,  -999.00,  -999.00,9,   -999.0,9,   -999.0,  -999.00,9,   0.00056,2,    0.008,2,    0.078,2,    0.000,2,   99.810,2
  096U20180111,  SR03,    64,  1,     13,     13,2,20180202,1103,-66.2417, 144.0222,  439,    271.2,  -1.2364,  34.5321,2,  34.5401,2,    273.6,2,    275.1,2,    81.60,2,    31.28,2,     0.09,2,     2.19,2,     0.06,2, -999.000,9, -999.000,9,     -999,9,   2238.2,2,   2339.1,2,-999.0000,9,  -999.00,  -999.00,9,   -999.0,9,   -999.0,  -999.00,9,   0.00051,2,    0.008,2,    0.102,2,    0.000,2,   99.798,2
  096U20180111,  SR03,    64,  1,     12,     12,2,20180202,1103,-66.2417, 144.0222,  439,    271.1,  -1.2617,  34.5368,2,-999.0000,9,    273.6,2,   -999.0,9,  -999.00,9,  -999.00,9,  -999.00,9,  -999.00,9,     -999,9, -999.000,9, -999.000,9,     -999,9,   -999.0,9,   -999.0,9,-999.0000,9,  -999.00,  -999.00,9,   -999.0,9,   -999.0,  -999.00,9,   0.00048,2,    0.009,2,    0.072,2,    0.000,2,   99.787,2
  096U20180111,  SR03,    64,  1,     11,     11,2,20180202,1103,-66.2417, 144.0222,  439,    321.1,  -1.7520,  34.5396,2,-999.0000,9,    292.6,2,   -999.0,9,  -999.00,9,  -999.00,9,  -999.00,9,  -999.00,9,     -999,9, -999.000,9, -999.000,9,     -999,9,   -999.0,9,   -999.0,9,-999.0000,9,  -999.00,  -999.00,9,   -999.0,9,   -999.0,  -999.00,9,   0.00047,2,    0.009,2,    0.090,2,    0.000,2,   99.763,2
  096U20180111,  SR03,    64,  1,     10,     10,2,20180202,1103,-66.2417, 144.0222,  439,    321.1,  -1.7546,  34.5387,2,  34.5399,2,    292.6,2,    294.5,2,    77.40,2,    31.09,2,     0.07,2,     2.25,2,     0.14,2, -999.000,9, -999.000,9,     -999,9,   -999.0,9,   -999.0,9,-999.0000,9,  -999.00,  -999.00,9,   -999.0,9,   -999.0,  -999.00,9,   0.00048,2,    0.010,2,    0.090,2,    0.000,2,   99.748,2
  096U20180111,  SR03,    64,  1,      9,      9,2,20180202,1103,-66.2417, 144.0222,  439,    321.1,  -1.7562,  34.5389,2,-999.0000,9,    292.6,2,   -999.0,9,  -999.00,9,  -999.00,9,  -999.00,9,  -999.00,9,     -999,9, -999.000,9, -999.000,9,     -999,9,   -999.0,9,   -999.0,9,-999.0000,9,  -999.00,  -999.00,9,   -999.0,9,   -999.0,  -999.00,9,   0.00048,2,    0.010,2,    0.090,2,    0.000,2,   99.746,2
  096U20180111,  SR03,    64,  1,      8,      8,2,20180202,1103,-66.2417, 144.0222,  439,    385.3,  -1.9097,  34.6076,2,-999.0000,9,    302.6,2,   -999.0,9,  -999.00,9,  -999.00,9,  -999.00,9,  -999.00,9,     -999,9, -999.000,9, -999.000,9,     -999,9,   -999.0,9,   -999.0,9,-999.0000,9,  -999.00,  -999.00,9,   -999.0,9,   -999.0,  -999.00,9,   0.00090,2,    0.027,2,    0.078,2,    0.000,2,   99.315,2
  096U20180111,  SR03,    64,  1,      7,      7,2,20180202,1103,-66.2417, 144.0222,  439,    385.3,  -1.9099,  34.6076,2,-999.0000,9,    302.6,2,   -999.0,9,  -999.00,9,  -999.00,9,  -999.00,9,  -999.00,9,     -999,9, -999.000,9, -999.000,9,     -999,9,   -999.0,9,   -999.0,9,-999.0000,9,  -999.00,  -999.00,9,   -999.0,9,   -999.0,  -999.00,9,   0.00084,2,    0.027,2,    0.078,2,    0.000,2,   99.330,2
  096U20180111,  SR03,    64,  1,      6,      6,2,20180202,1103,-66.2417, 144.0222,  439,    385.3,  -1.9102,  34.6079,2,  34.6079,2,    302.6,2,    303.4,2,    76.40,2,    31.12,2,     0.04,2,     2.18,2,     0.06,2, -999.000,9, -999.000,9,     -999,9,   -999.0,9,   -999.0,9,-999.0000,9,  -999.00,  -999.00,9,   -999.0,9,   -999.0,  -999.00,9,   0.00086,2,    0.027,2,    0.078,2,    0.000,2,   99.336,2
  096U20180111,  SR03,    64,  1,      5,      5,2,20180202,1103,-66.2417, 144.0222,  439,    385.2,  -1.9102,  34.6080,2,-999.0000,9,    302.6,2,   -999.0,9,  -999.00,9,  -999.00,9,  -999.00,9,  -999.00,9,     -999,9, -999.000,9, -999.000,9,     -999,9,   -999.0,9,   -999.0,9,-999.0000,9,  -999.00,  -999.00,9,   -999.0,9,   -999.0,  -999.00,9,   0.00083,2,    0.027,2,    0.072,2,    0.000,2,   99.321,2
  096U20180111,  SR03,    64,  1,      4,      4,2,20180202,1103,-66.2417, 144.0222,  439,    436.2,  -1.9079,  34.6105,2,-999.0000,9,    304.9,2,   -999.0,9,  -999.00,9,  -999.00,9,  -999.00,9,  -999.00,9,     -999,9, -999.000,9, -999.000,9,     -999,9,   -999.0,9,   -999.0,9,-999.0000,9,  -999.00,  -999.00,9,   -999.0,9,   -999.0,  -999.00,9,   0.00135,2,    0.039,2,    0.078,2,    0.000,2,   99.029,2
  096U20180111,  SR03,    64,  1,      3,      3,2,20180202,1103,-66.2417, 144.0222,  439,    436.2,  -1.9078,  34.6105,2,-999.0000,9,    304.9,2,   -999.0,9,  -999.00,9,  -999.00,9,  -999.00,9,  -999.00,9,     -999,9, -999.000,9, -999.000,9,     -999,9,   -999.0,9,   -999.0,9,-999.0000,9,  -999.00,  -999.00,9,   -999.0,9,   -999.0,  -999.00,9,   0.00136,2,    0.040,2,    0.084,2,    0.000,2,   99.016,2
  096U20180111,  SR03,    64,  1,      2,      2,2,20180202,1103,-66.2417, 144.0222,  439,    436.3,  -1.9081,  34.6104,2,  34.6124,2,    304.9,2,    303.4,2,    76.50,2,    31.07,2,     0.05,2,     2.18,2,     0.07,2, -999.000,9, -999.000,9,     -999,9,   2241.6,2,   2343.1,2,-999.0000,9,  -999.00,  -999.00,9,   -999.0,9,   -999.0,  -999.00,9,   0.00114,2,    0.042,2,    0.096,2,    0.000,2,   98.956,2
  096U20180111,  SR03,    64,  1,      1,      1,2,20180202,1103,-66.2417, 144.0222,  439,    436.4,  -1.9083,  34.6103,2,-999.0000,9,    304.9,2,   -999.0,9,  -999.00,9,  -999.00,9,  -999.00,9,  -999.00,9,     -999,9, -999.000,9, -999.000,9,     -999,9,   -999.0,9,   -999.0,9,-999.0000,9,  -999.00,  -999.00,9,   -999.0,9,   -999.0,  -999.00,9,   0.00127,2,    0.038,2,    0.096,2,    0.000,2,   99.062,2