BOTTLE,20230418CCHSIOENA
EXPOCODE,SECT_ID,STNNBR,CASTNO,SAMPNO,BTLNBR,BTLNBR_FLAG_W,DATE,TIME,LATITUDE,LONGITUDE,DEPTH,CTDPRS,CTDTMP,CTDSAL,CTDSAL_FLAG_W,SALNTY,SALNTY_FLAG_W,CTDOXY,CTDOXY_FLAG_W,OXYGEN,OXYGEN_FLAG_W,SILCAT,SILCAT_FLAG_W,NITRAT,NITRAT_FLAG_W,NITRIT,NITRIT_FLAG_W,PHSPHT,PHSPHT_FLAG_W,NH4,NH4_FLAG_W,CFC-11,CFC-11_FLAG_W,CFC-12,CFC-12_FLAG_W,SF6,SF6_FLAG_W,TCARBN,TCARBN_FLAG_W,ALKALI,ALKALI_FLAG_W,PH_TOT,PH_TOT_FLAG_W,PH_TMP,N2O,N2O_FLAG_W,DELC14,DELC14_FLAG_W,C14ERR,DELC13,DELC13_FLAG_W,CTDBETA700,CTDBETA700_FLAG_W,CTDBEAMCP,CTDBEAMCP_FLAG_W,CTDFLUOR,CTDFLUOR_FLAG_W,PAR,PAR_FLAG_W,CTDXMISS,CTDXMISS_FLAG_W
,,,,,,,,,,,METERS,DBAR,ITS-90,PSS-78,,PSS-78,,UMOL/KG,,UMOL/KG,,UMOL/KG,,UMOL/KG,,UMOL/KG,,UMOL/KG,,UMOL/KG,,PMOL/KG,,PMOL/KG,,FMOL/KG,,UMOL/KG,,UMOL/KG,,,,DEG C,NMOL/KG,,/MILLE,,/MILLE,/MILLE,,VOLTS,,1/M,,MG/M^3,,UMOL/M^2/SEC,,%TRANS,
  096U20180111,  SR03,    37,  1,     36,     36,2,20180124,2050,-57.3507, 139.8847, 4090,      7.0,   4.3007,  33.8364,2,-999.0000,9,    316.0,2,   -999.0,9,  -999.00,9,  -999.00,9,  -999.00,9,  -999.00,9,     -999,9, -999.000,9, -999.000,9,     -999,9,   -999.0,9,   -999.0,9,-999.0000,9,  -999.00,  -999.00,9,   -999.0,9,   -999.0,  -999.00,9,   0.00192,2,    0.178,2,    0.162,2,  404.000,2,   95.657,2
  096U20180111,  SR03,    37,  1,     35,     35,2,20180124,2050,-57.3507, 139.8847, 4090,      7.0,   4.3032,  33.8365,2,  33.8364,2,    315.6,2,    316.0,2,     3.30,2,    24.41,2,     0.25,2,     1.58,2,     0.07,2,    4.485,2,    2.479,2,     3.44,2,   2133.6,2,   2276.6,2,-999.0000,9,  -999.00,    12.78,2,   -999.0,9,   -999.0,  -999.00,9,   0.00201,2,    0.178,2,    0.162,2,  530.000,2,   95.645,2
  096U20180111,  SR03,    37,  1,     34,     34,2,20180124,2050,-57.3507, 139.8847, 4090,     31.0,   4.2678,  33.8362,2,  33.8359,2,    317.2,2,    316.2,2,     3.30,2,    24.42,2,     0.24,2,     1.59,2,     0.08,2, -999.000,9, -999.000,9,     -999,9,   2133.5,2,   2276.9,2,-999.0000,9,  -999.00,  -999.00,9,   -999.0,9,   -999.0,  -999.00,9,   0.00221,2,    0.188,2,    1.014,2,   99.000,2,   95.410,2
  096U20180111,  SR03,    37,  1,     33,     33,2,20180124,2050,-57.3507, 139.8847, 4090,     65.5,   4.0312,  33.8389,2,-999.0000,9,    318.2,2,   -999.0,9,  -999.00,9,  -999.00,9,  -999.00,9,  -999.00,9,     -999,9,    4.599,2,    2.503,2,     3.25,2,   -999.0,9,   -999.0,9,-999.0000,9,  -999.00,    13.23,2,   -999.0,9,   -999.0,  -999.00,9,   0.00273,2,    0.229,2,    2.916,2,    9.380,2,   94.425,2
  096U20180111,  SR03,    37,  1,     32,     32,2,20180124,2050,-57.3507, 139.8847, 4090,     65.5,   4.0212,  33.8382,2,  33.8458,2,    318.2,2,    318.7,2,     5.00,2,    24.75,2,     0.24,2,     1.68,2,     0.31,2, -999.000,9, -999.000,9,     -999,9,   2139.4,2,   2278.8,2,-999.0000,9,  -999.00,  -999.00,9,   -999.0,9,   -999.0,  -999.00,9,   0.00248,2,    0.227,2,    2.820,2,    9.370,2,   94.473,2
  096U20180111,  SR03,    37,  1,     31,     31,2,20180124,2050,-57.3507, 139.8847, 4090,    100.9,   1.9181,  33.8976,2,  33.8981,2,    325.0,2,    327.2,2,    16.10,2,    26.70,2,     0.24,2,     1.95,2,     0.77,2, -999.000,9, -999.000,9,     -999,9,   2159.7,2,   2282.5,2,-999.0000,9,  -999.00,  -999.00,9,   -999.0,9,   -999.0,  -999.00,9,   0.00121,2,    0.069,2,    0.840,2,    0.982,2,   98.297,2
  096U20180111,  SR03,    37,  1,     30,     30,2,20180124,2050,-57.3507, 139.8847, 4090,    150.6,   1.3029,  33.9273,2,  33.9291,2,    320.6,2,    323.3,2,    19.60,2,    28.04,2,     0.24,2,     1.96,2,     0.16,2,    4.957,2,    2.700,2,      3.5,2,   2165.1,6,   2284.1,6,-999.0000,9,  -999.00,    14.24,2,   -999.0,9,   -999.0,  -999.00,9,   0.00074,2,    0.029,2,    0.174,2,    0.119,2,   99.276,2
  096U20180111,  SR03,    37,  1,     29,     29,2,20180124,2050,-57.3507, 139.8847, 4090,    201.2,   1.6708,  34.0258,2,  34.0300,2,    292.5,2,    288.5,2,    26.80,2,    30.08,2,     0.01,2,     2.08,2,        0,2, -999.000,9, -999.000,9,     -999,9,   -999.0,9,   -999.0,9,-999.0000,9,  -999.00,  -999.00,9,   -999.0,9,   -999.0,  -999.00,9,   0.00056,2,    0.018,2,    0.048,2,    0.005,2,   99.542,2
  096U20180111,  SR03,    37,  1,     28,     28,2,20180124,2050,-57.3507, 139.8847, 4090,    250.7,   2.1099,  34.1272,2,  34.1333,2,    263.1,2,    255.0,2,    34.60,2,    31.63,2,     0.01,2,     2.18,2,        0,2,    3.736,2,    2.038,2,     1.89,2,   2199.7,2,   2295.5,2,-999.0000,9,  -999.00,    19.54,2,   -999.0,9,   -999.0,  -999.00,9,   0.00060,2,    0.020,2,    0.042,2,    0.000,2,   99.514,2
  096U20180111,  SR03,    37,  1,     27,     27,2,20180124,2050,-57.3507, 139.8847, 4090,    349.6,   2.4590,  34.2709,2,  34.2714,2,    216.3,2,    215.7,2,    47.10,2,    33.56,2,     0.01,2,     2.32,2,        0,2, -999.000,9, -999.000,9,     -999,9,   2222.0,2,   2306.9,2,-999.0000,9,  -999.00,  -999.00,9,   -999.0,9,   -999.0,  -999.00,9,   0.00057,2,    0.017,2,    0.036,2,    0.000,2,   99.568,2
  096U20180111,  SR03,    37,  1,     26,     26,2,20180124,2050,-57.3507, 139.8847, 4090,    450.9,   2.4928,  34.3729,2,  34.3713,2,    192.6,2,    192.6,2,    56.80,2,    34.50,2,     0.01,2,     2.39,2,        0,2,    1.914,2,    1.002,2,     0.74,2,   2237.8,2,   2315.8,2,-999.0000,9,  -999.00,    22.49,2,   -999.0,9,   -999.0,  -999.00,9,   0.00047,2,    0.012,2,    0.036,2,    0.000,2,   99.706,2
  096U20180111,  SR03,    37,  1,     25,     25,2,20180124,2050,-57.3507, 139.8847, 4090,    550.1,   2.5262,  34.4646,2,  34.4652,2,    179.3,2,    179.2,2,    64.10,2,    34.67,2,     0.00,2,     2.41,2,        0,2, -999.000,9, -999.000,9,     -999,9,   2247.4,2,   2325.6,2,-999.0000,9,  -999.00,  -999.00,9,   -999.0,9,   -999.0,  -999.00,9,   0.00040,2,    0.010,2,    0.036,2,    0.000,2,   99.758,2
  096U20180111,  SR03,    37,  1,     24,     24,2,20180124,2050,-57.3507, 139.8847, 4090,    650.4,   2.4791,  34.5271,2,  34.5268,2,    174.8,2,    174.2,2,    68.90,2,    34.45,2,     0.01,2,     2.39,2,        0,2,    0.961,2,    0.501,2,     0.36,2,   2251.1,2,   2330.7,2,-999.0000,9,  -999.00,    23.09,2,   -999.0,9,   -999.0,  -999.00,9,   0.00045,2,    0.009,2,    0.036,2,    0.000,2,   99.774,2
  096U20180111,  SR03,    37,  1,     23,     23,2,20180124,2050,-57.3507, 139.8847, 4090,    770.6,   2.4382,  34.5935,2,  34.5927,2,    173.0,2,    172.7,2,    72.50,2,    33.76,2,     0.01,2,     2.34,2,        0,2, -999.000,9, -999.000,9,     -999,9,   2253.8,2,   2335.8,2,-999.0000,9,  -999.00,  -999.00,9,   -999.0,9,   -999.0,  -999.00,9,   0.00037,2,    0.008,2,    0.036,2,    0.000,2,   99.811,2
  096U20180111,  SR03,    37,  1,     22,     22,2,20180124,2050,-57.3507, 139.8847, 4090,    851.2,   2.3720,  34.6248,2,  34.6249,2,    173.4,2,    173.8,2,    74.80,2,    33.41,2,     0.00,2,     2.31,2,        0,2,    0.542,2,    0.294,2,     0.08,2,   2253.7,2,   2338.5,6,-999.0000,9,  -999.00,    22.20,2,   -999.0,9,   -999.0,  -999.00,9,   0.00038,2,    0.007,2,    0.036,2,    0.000,2,   99.824,2
  096U20180111,  SR03,    37,  1,     21,     21,2,20180124,2050,-57.3507, 139.8847, 4090,    951.1,   2.3479,  34.6599,2,  34.6601,2,    176.3,2,    176.8,2,    75.80,2,    32.63,2,     0.01,2,     2.27,2,        0,2, -999.000,9, -999.000,9,     -999,9,   2252.8,2,   2340.9,2,-999.0000,9,  -999.00,  -999.00,9,   -999.0,9,   -999.0,  -999.00,9,   0.00053,2,    0.009,2,    0.042,2,    0.000,2,   99.765,2
  096U20180111,  SR03,    37,  1,     20,     20,2,20180124,2050,-57.3507, 139.8847, 4090,   1100.9,   2.2599,  34.6963,2,  34.6967,2,    181.7,2,    181.7,2,    77.80,2,    31.83,2,     0.00,2,     2.21,2,        0,2,    0.301,2,    0.163,2,     0.08,2,   2251.2,6,   2345.6,6,-999.0000,9,  -999.00,    20.32,2,   -999.0,9,   -999.0,  -999.00,9,   0.00036,2,    0.005,2,    0.036,2,    0.000,2,   99.882,2
  096U20180111,  SR03,    37,  1,     19,     19,2,20180124,2050,-57.3507, 139.8847, 4090,   1250.8,   2.1674,  34.7199,2,  34.7201,2,    185.5,2,    186.0,2,    79.90,2,    31.21,2,     0.00,2,     2.17,2,        0,2,    0.256,2,    0.139,2,     0.14,2,   2249.1,2,   2347.9,2,-999.0000,9,  -999.00,    19.78,2,   -999.0,9,   -999.0,  -999.00,9,   0.00033,2,    0.004,2,    0.036,2,    0.000,2,   99.898,2
  096U20180111,  SR03,    37,  1,     18,     18,2,20180124,2050,-57.3507, 139.8847, 4090,   1402.3,   2.0621,  34.7355,2,  34.7355,2,    189.5,2,    190.2,2,    82.10,2,    30.76,2,     0.00,2,     2.14,2,        0,2,    0.219,2,    0.120,2,     0.11,2,   2248.9,2,   2350.2,2,-999.0000,9,  -999.00,    19.22,2,   -999.0,9,   -999.0,  -999.00,9,   0.00034,2,    0.004,2,    0.036,2,    0.000,2,   99.908,2
  096U20180111,  SR03,    37,  1,     17,     17,2,20180124,2050,-57.3507, 139.8847, 4090,   1600.0,   1.9194,  34.7439,2,  34.7442,2,    193.3,2,    194.2,2,    85.80,2,    30.55,2,     0.00,2,     2.13,2,        0,2, -999.000,9, -999.000,9,     -999,9,   -999.0,9,   -999.0,9,-999.0000,9,  -999.00,  -999.00,9,   -999.0,9,   -999.0,  -999.00,9,   0.00033,2,    0.003,2,    0.036,2,    0.000,2,   99.928,2
  096U20180111,  SR03,    37,  1,     16,     16,2,20180124,2050,-57.3507, 139.8847, 4090,   1800.8,   1.7522,  34.7464,2,  34.7462,2,    197.2,2,    197.5,2,    90.40,2,    30.51,2,     0.00,2,     2.12,2,        0,2,    0.179,2,    0.093,2,     0.13,2,   2249.5,2,   2353.8,2,-999.0000,9,  -999.00,    18.43,2,   -999.0,9,   -999.0,  -999.00,9,   0.00031,2,    0.003,2,    0.042,2,    0.000,2,   99.925,2
  096U20180111,  SR03,    37,  1,     15,     15,2,20180124,2050,-57.3507, 139.8847, 4090,   2001.4,   1.5687,  34.7423,2,  34.7418,2,    199.7,2,    199.8,2,    95.80,2,    30.70,2,     0.00,2,     2.14,2,        0,2,    0.179,2,    0.090,2,     0.06,2,   -999.0,9,   -999.0,9,-999.0000,9,  -999.00,    18.31,2,   -999.0,9,   -999.0,  -999.00,9,   0.00031,2,    0.002,2,    0.036,2,    0.000,2,   99.938,2
  096U20180111,  SR03,    37,  1,     14,     14,2,20180124,2050,-57.3507, 139.8847, 4090,   2199.2,   1.3887,  34.7354,2,  34.7357,2,    202.0,2,    201.7,2,   101.10,2,    30.97,2,     0.00,2,     2.16,2,        0,2,    0.189,2,    0.094,2,     0.03,2,   2255.2,2,   2358.2,2,-999.0000,9,  -999.00,    18.50,2,   -999.0,9,   -999.0,  -999.00,9,   0.00031,2,    0.002,2,    0.036,2,    0.000,2,   99.940,2
  096U20180111,  SR03,    37,  1,     13,     13,2,20180124,2050,-57.3507, 139.8847, 4090,   2401.3,   1.2319,  34.7280,2,  34.7275,2,    203.6,2,    203.3,2,   106.00,2,    31.23,2,     0.00,2,     2.18,2,        0,2,    0.202,2,    0.105,2,      0.1,2,   -999.0,9,   -999.0,9,-999.0000,9,  -999.00,    18.39,2,   -999.0,9,   -999.0,  -999.00,9,   0.00030,2,    0.002,2,    0.036,2,    0.000,2,   99.952,2
  096U20180111,  SR03,    37,  1,     12,     12,2,20180124,2050,-57.3507, 139.8847, 4090,   2600.5,   1.0551,  34.7190,2,  34.7188,2,    205.6,2,    205.9,2,   111.60,2,    31.57,2,     0.01,2,     2.21,2,        0,2,    0.241,2,    0.125,2,    -0.03,2,   2257.8,2,   2362.5,2,-999.0000,9,  -999.00,    18.38,2,   -999.0,9,   -999.0,  -999.00,9,   0.00029,2,    0.002,2,    0.042,2,    0.000,2,   99.955,2
  096U20180111,  SR03,    37,  1,     11,     11,2,20180124,2050,-57.3507, 139.8847, 4090,   2800.3,   0.9275,  34.7121,2,  34.7121,2,    207.4,2,    207.1,2,   115.30,2,    31.80,2,     0.00,2,     2.22,2,        0,2,    0.275,2,    0.141,2,     0.19,3,   -999.0,9,   -999.0,9,-999.0000,9,  -999.00,    18.18,2,   -999.0,9,   -999.0,  -999.00,9,   0.00028,2,    0.002,2,    0.036,2,    0.000,2,   99.956,2
  096U20180111,  SR03,    37,  1,     10,     10,2,20180124,2050,-57.3507, 139.8847, 4090,   3000.4,   0.7651,  34.7038,2,  34.7026,2,    210.0,2,    209.8,2,   119.90,2,    32.04,2,     0.00,2,     2.24,2,        0,2,    0.346,6,    0.179,6,     0.11,6,   2259.8,6,   2362.0,6,-999.0000,9,  -999.00,    18.37,6,   -999.0,9,   -999.0,  -999.00,9,   0.00028,2,    0.002,2,    0.036,2,    0.000,2,   99.959,2
  096U20180111,  SR03,    37,  1,      9,      9,2,20180124,2050,-57.3507, 139.8847, 4090,   3200.8,   0.6399,  34.6975,2,  34.6964,2,    212.3,2,    212.6,2,   123.30,2,    32.20,2,     0.00,2,     2.25,2,        0,2,    0.411,2,    0.216,2,      0.1,2,   -999.0,9,   -999.0,9,-999.0000,9,  -999.00,    18.27,2,   -999.0,9,   -999.0,  -999.00,9,   0.00032,2,    0.002,2,    0.036,2,    0.000,2,   99.958,2
  096U20180111,  SR03,    37,  1,      8,      8,2,20180124,2050,-57.3507, 139.8847, 4090,   3401.0,   0.5309,  34.6921,2,  34.6915,2,    215.1,2,    215.1,2,   126.70,2,    32.32,2,     0.00,2,     2.27,2,        0,2, -999.000,9, -999.000,9,     -999,9,   -999.0,9,   -999.0,9,-999.0000,9,  -999.00,  -999.00,9,   -999.0,9,   -999.0,  -999.00,9,   0.00027,2,    0.001,2,    0.036,2,    0.000,2,   99.965,2
  096U20180111,  SR03,    37,  1,      7,      7,2,20180124,2050,-57.3507, 139.8847, 4090,   3401.0,   0.5289,  34.6920,2,  34.6967,4,    215.1,2,    215.4,2,   126.50,2,    32.32,2,     0.00,2,     2.26,2,        0,2,    0.493,2,    0.252,2,     0.23,3,   2260.2,2,   2361.4,6,-999.0000,9,  -999.00,    18.20,2,   -999.0,9,   -999.0,  -999.00,9,   0.00027,2,    0.001,2,    0.036,2,    0.000,2,   99.966,2
  096U20180111,  SR03,    37,  1,      6,      6,2,20180124,2050,-57.3507, 139.8847, 4090,   3601.0,   0.4358,  34.6872,2,  34.6870,2,    217.6,2,    217.8,2,   129.90,2,    32.38,2,     0.00,2,     2.27,2,        0,2,    0.575,2,    0.293,2,     0.15,2,   -999.0,9,   -999.0,9,-999.0000,9,  -999.00,    18.01,2,   -999.0,9,   -999.0,  -999.00,9,   0.00026,2,    0.002,2,    0.042,2,    0.000,2,   99.963,2
  096U20180111,  SR03,    37,  1,      5,      5,2,20180124,2050,-57.3507, 139.8847, 4090,   3800.9,   0.3580,  34.6834,2,  34.6823,2,    220.1,2,    219.5,2,   133.50,2,    32.47,2,     0.00,2,     2.28,2,        0,2,    0.681,2,    0.340,2,     0.22,3,   -999.0,9,   -999.0,9,-999.0000,9,  -999.00,    18.18,2,   -999.0,9,   -999.0,  -999.00,9,   0.00026,2,    0.002,2,    0.036,2,    0.000,2,   99.955,2
  096U20180111,  SR03,    37,  1,      4,      4,2,20180124,2050,-57.3507, 139.8847, 4090,   3950.2,   0.3158,  34.6808,2,  34.6807,2,    221.9,2,    221.0,2,   136.50,2,    32.48,2,     0.00,2,     2.28,2,        0,2,    0.756,2,    0.389,2,     0.06,2,   2261.4,2,   2363.2,2,-999.0000,9,  -999.00,    18.20,2,   -999.0,9,   -999.0,  -999.00,9,   0.00026,2,    0.003,2,    0.042,2,    0.000,2,   99.933,2
  096U20180111,  SR03,    37,  1,      3,      3,2,20180124,2050,-57.3507, 139.8847, 4090,   4100.1,   0.3176,  34.6800,2,  34.6797,2,    223.0,2,    222.3,2,   137.90,2,    32.46,2,     0.00,2,     2.28,2,        0,2,    0.764,2,    0.390,2,     0.34,2,   2261.3,2,   2361.9,2,-999.0000,9,  -999.00,    17.99,2,   -999.0,9,   -999.0,  -999.00,9,   0.00026,2,    0.003,2,    0.036,2,    0.000,2,   99.919,2
  096U20180111,  SR03,    37,  1,      2,      2,2,20180124,2050,-57.3507, 139.8847, 4090,   4162.4,   0.3088,  34.6796,2,-999.0000,9,    223.6,2,   -999.0,9,  -999.00,9,  -999.00,9,  -999.00,9,  -999.00,9,     -999,9, -999.000,9, -999.000,9,     -999,9,   -999.0,9,   -999.0,9,-999.0000,9,  -999.00,  -999.00,9,   -999.0,9,   -999.0,  -999.00,9,   0.00034,2,    0.004,2,    0.042,2,    0.000,2,   99.910,2
  096U20180111,  SR03,    37,  1,      1,      1,2,20180124,2050,-57.3507, 139.8847, 4090,   4162.3,   0.3088,  34.6796,2,  34.6791,2,    223.6,2,    222.1,2,   138.00,2,    32.47,2,     0.00,2,     2.28,2,        0,2,    0.795,2,    0.403,2,     0.21,2,   2261.7,2,   2363.3,2,-999.0000,9,  -999.00,    18.02,2,   -999.0,9,   -999.0,  -999.00,9,   0.00027,2,    0.003,2,    0.042,2,    0.000,2,   99.920,2