BOTTLE,20230418CCHSIOENA
EXPOCODE,SECT_ID,STNNBR,CASTNO,SAMPNO,BTLNBR,BTLNBR_FLAG_W,DATE,TIME,LATITUDE,LONGITUDE,DEPTH,CTDPRS,CTDTMP,CTDSAL,CTDSAL_FLAG_W,SALNTY,SALNTY_FLAG_W,CTDOXY,CTDOXY_FLAG_W,OXYGEN,OXYGEN_FLAG_W,SILCAT,SILCAT_FLAG_W,NITRAT,NITRAT_FLAG_W,NITRIT,NITRIT_FLAG_W,PHSPHT,PHSPHT_FLAG_W,NH4,NH4_FLAG_W,CFC-11,CFC-11_FLAG_W,CFC-12,CFC-12_FLAG_W,SF6,SF6_FLAG_W,TCARBN,TCARBN_FLAG_W,ALKALI,ALKALI_FLAG_W,PH_TOT,PH_TOT_FLAG_W,PH_TMP,N2O,N2O_FLAG_W,DELC14,DELC14_FLAG_W,C14ERR,DELC13,DELC13_FLAG_W,CTDBETA700,CTDBETA700_FLAG_W,CTDBEAMCP,CTDBEAMCP_FLAG_W,CTDFLUOR,CTDFLUOR_FLAG_W,PAR,PAR_FLAG_W,CTDXMISS,CTDXMISS_FLAG_W
,,,,,,,,,,,METERS,DBAR,ITS-90,PSS-78,,PSS-78,,UMOL/KG,,UMOL/KG,,UMOL/KG,,UMOL/KG,,UMOL/KG,,UMOL/KG,,UMOL/KG,,PMOL/KG,,PMOL/KG,,FMOL/KG,,UMOL/KG,,UMOL/KG,,,,DEG C,NMOL/KG,,/MILLE,,/MILLE,/MILLE,,VOLTS,,1/M,,MG/M^3,,UMOL/M^2/SEC,,%TRANS,
  096U20180111,  SR03,    54,  1,     36,     36,2,20180130,2138,-64.8110, 139.8603, 2556,      8.8,   0.1907,  33.8475,2,  33.8486,2,    338.8,2,    340.1,2,    41.60,2,    27.13,2,     0.20,2,     1.82,2,     0.49,2,    5.352,2,    2.936,2,     3.45,2,   2169.7,2,   2291.3,2,   7.6696,   2,    25.00,    14.84,2,   -124.5,2,      2.0,     1.19,2,   0.00144,2,    0.182,2,    0.348,2,  114.000,2,   95.558,2
  096U20180111,  SR03,    54,  1,     35,     35,2,20180130,2138,-64.8110, 139.8603, 2556,      8.7,   0.1927,  33.8476,2,-999.0000,9,    338.8,2,   -999.0,9,  -999.00,9,  -999.00,9,  -999.00,9,  -999.00,9,     -999,9, -999.000,9, -999.000,9,     -999,9,   -999.0,9,   -999.0,9,-999.0000,9,  -999.00,  -999.00,9,   -999.0,9,   -999.0,  -999.00,9,   0.00135,2,    0.184,2,    0.348,2,  114.000,2,   95.496,2
  096U20180111,  SR03,    54,  1,     34,     34,2,20180130,2138,-64.8110, 139.8603, 2556,     25.7,   0.1409,  33.8488,2,-999.0000,9,    338.6,2,   -999.0,9,  -999.00,9,  -999.00,9,  -999.00,9,  -999.00,9,     -999,9, -999.000,9, -999.000,9,     -999,9,   -999.0,9,   -999.0,9,-999.0000,9,  -999.00,  -999.00,9,   -999.0,9,   -999.0,  -999.00,9,   0.00157,2,    0.183,2,    0.942,2,   39.000,2,   95.538,2
  096U20180111,  SR03,    54,  1,     33,     33,2,20180130,2138,-64.8110, 139.8603, 2556,     25.8,   0.1131,  33.8510,2,  33.8507,2,    338.6,2,    340.1,2,    41.80,2,    27.13,2,     0.19,2,     1.84,2,      0.5,2,    5.341,2,    2.923,2,     3.33,2,   2169.5,2,   2292.6,2,-999.0000,9,  -999.00,    14.90,2,   -999.0,9,   -999.0,  -999.00,9,   0.00141,2,    0.185,2,    0.918,2,   38.200,2,   95.489,2
  096U20180111,  SR03,    54,  1,     32,     32,2,20180130,2138,-64.8110, 139.8603, 2556,     45.8,  -0.0772,  33.8704,2,-999.0000,9,    338.9,2,   -999.0,9,  -999.00,9,  -999.00,9,  -999.00,9,  -999.00,9,     -999,9, -999.000,9, -999.000,9,     -999,9,   -999.0,9,   -999.0,9,-999.0000,9,  -999.00,  -999.00,9,   -999.0,9,   -999.0,  -999.00,9,   0.00173,2,    0.178,2,    1.266,2,   11.600,2,   95.657,2
  096U20180111,  SR03,    54,  1,     31,     31,2,20180130,2138,-64.8110, 139.8603, 2556,     45.8,  -0.1356,  33.8812,2,  33.9284,2,    338.9,2,    337.4,2,    45.50,2,    27.58,2,     0.16,2,     1.90,2,     0.55,2,    5.225,2,    2.857,2,     3.23,2,   2177.7,2,   2296.0,6,   7.6605,   2,    25.00,    15.11,2,   -124.5,2,      1.8,     1.09,2,   0.00155,2,    0.177,2,    1.362,2,   11.900,2,   95.663,2
  096U20180111,  SR03,    54,  1,     30,     30,2,20180130,2138,-64.8110, 139.8603, 2556,     75.4,  -1.7430,  34.2366,2,-999.0000,9,    321.7,2,   -999.0,9,  -999.00,9,  -999.00,9,  -999.00,9,  -999.00,9,     -999,9, -999.000,9, -999.000,9,     -999,9,   -999.0,9,   -999.0,9,-999.0000,9,  -999.00,  -999.00,9,   -999.0,9,   -999.0,  -999.00,9,   0.00058,2,    0.033,2,    0.282,2,    2.810,2,   99.190,2
  096U20180111,  SR03,    54,  1,     29,     29,2,20180130,2138,-64.8110, 139.8603, 2556,     75.4,  -1.7312,  34.2339,2,  34.2407,2,    321.7,2,    321.7,2,    57.40,2,    30.06,2,     0.11,2,     2.10,2,     0.24,2,    5.058,2,    2.766,2,     3.17,2,   2212.9,2,   2316.0,2,-999.0000,9,  -999.00,    16.38,2,   -999.0,9,   -999.0,  -999.00,9,   0.00058,2,    0.024,2,    0.258,2,    2.720,2,   99.391,2
  096U20180111,  SR03,    54,  1,     28,     28,2,20180130,2138,-64.8110, 139.8603, 2556,    100.6,  -1.7937,  34.2762,2,-999.0000,9,    316.0,2,   -999.0,9,  -999.00,9,  -999.00,9,  -999.00,9,  -999.00,9,     -999,9, -999.000,9, -999.000,9,     -999,9,   -999.0,9,   -999.0,9,-999.0000,9,  -999.00,  -999.00,9,   -999.0,9,   -999.0,  -999.00,9,   0.00046,2,    0.013,2,    0.132,2,    1.080,2,   99.688,2
  096U20180111,  SR03,    54,  1,     27,     27,2,20180130,2138,-64.8110, 139.8603, 2556,    100.6,  -1.7942,  34.2761,2,  34.2782,2,    316.0,2,    316.7,2,    59.00,2,    30.45,2,     0.10,2,     2.12,2,     0.12,2,    4.844,2,    2.669,2,     2.83,2,   2214.4,2,   2317.5,2,   7.6141,   2,    25.00,    16.43,2,   -119.7,2,      1.9,     0.81,2,   0.00044,2,    0.013,2,    0.132,2,    1.140,2,   99.672,2
  096U20180111,  SR03,    54,  1,     26,     26,2,20180130,2138,-64.8110, 139.8603, 2556,    120.3,  -1.7704,  34.3101,2,-999.0000,9,    312.5,2,   -999.0,9,  -999.00,9,  -999.00,9,  -999.00,9,  -999.00,9,     -999,9, -999.000,9, -999.000,9,     -999,9,   -999.0,9,   -999.0,9,-999.0000,9,  -999.00,  -999.00,9,   -999.0,9,   -999.0,  -999.00,9,   0.00051,2,    0.013,2,    0.198,2,    0.591,2,   99.671,2
  096U20180111,  SR03,    54,  1,     25,     25,2,20180130,2138,-64.8110, 139.8603, 2556,    120.3,  -1.7711,  34.3095,2,  34.3157,2,    312.5,2,    311.2,2,    60.50,2,    30.68,2,     0.12,2,     2.14,2,     0.11,2,    4.656,2,    2.576,2,      2.8,2,   2219.4,6,   2321.2,6,-999.0000,9,  -999.00,    16.69,2,   -999.0,9,   -999.0,  -999.00,9,   0.00049,2,    0.013,2,    0.210,2,    0.568,2,   99.666,2
  096U20180111,  SR03,    54,  1,     24,     24,2,20180130,2138,-64.8110, 139.8603, 2556,    150.2,  -1.6993,  34.3518,2,  34.3550,2,    303.3,2,    305.9,2,    62.70,2,    30.95,2,     0.08,2,     2.15,2,        0,2, -999.000,9, -999.000,9,     -999,9,   2222.6,2,   2323.5,2,   7.6046,   6,    25.00,  -999.00,9,   -122.3,2,      2.1,     0.77,2,   0.00048,2,    0.009,2,    0.102,2,    0.174,2,   99.777,2
  096U20180111,  SR03,    54,  1,     23,     23,2,20180130,2138,-64.8110, 139.8603, 2556,    200.3,  -1.4471,  34.4048,2,  34.4051,2,    295.8,2,    293.6,2,    67.40,2,    31.16,2,     0.04,2,     2.17,2,    -0.01,2,    4.535,2,    2.502,2,     2.78,2,   -999.0,9,   -999.0,9,-999.0000,9,  -999.00,    16.97,2,   -999.0,9,   -999.0,  -999.00,9,   0.00044,2,    0.006,2,    0.066,2,    0.012,2,   99.844,2
  096U20180111,  SR03,    54,  1,     22,     22,2,20180130,2138,-64.8110, 139.8603, 2556,    250.7,  -0.6257,  34.4878,2,  34.4880,2,    264.6,2,    263.4,2,    74.50,2,    31.52,2,     0.02,2,     2.20,2,    -0.01,2,    3.184,2,    1.777,2,     1.89,2,   2235.8,2,   2333.6,2,   7.5903,   2,    25.00,    18.33,2,   -133.1,2,      2.2,     0.65,2,   0.00041,2,    0.006,2,    0.060,2,    0.000,2,   99.848,2
  096U20180111,  SR03,    54,  1,     21,     21,2,20180130,2138,-64.8110, 139.8603, 2556,    300.7,   0.0614,  34.5725,2,  34.5726,2,    235.1,2,    238.0,2,    81.40,2,    31.64,2,     0.02,2,     2.20,2,    -0.01,2, -999.000,9, -999.000,9,     -999,9,   2244.5,2,   2339.7,2,   7.5874,   2,    25.00,  -999.00,9,   -141.2,2,      2.0,     0.53,2,   0.00041,2,    0.005,2,    0.054,2,    0.000,2,   99.872,2
  096U20180111,  SR03,    54,  1,     20,     20,2,20180130,2138,-64.8110, 139.8603, 2556,    400.5,   0.5996,  34.6470,2,  34.6474,2,    222.3,2,    219.5,2,    89.40,2,    31.59,2,     0.01,2,     2.19,2,    -0.01,2,    1.408,2,    0.778,2,     0.71,2,   2249.2,2,   2346.9,2,   7.5890,   2,    25.00,    19.09,2,   -144.6,2,      1.9,     0.52,2,   0.00041,2,    0.003,2,    0.048,2,    0.000,2,   99.921,2
  096U20180111,  SR03,    54,  1,     19,     19,2,20180130,2138,-64.8110, 139.8603, 2556,    400.4,   0.6128,  34.6487,2,-999.0000,9,    222.3,2,   -999.0,9,  -999.00,9,  -999.00,9,  -999.00,9,  -999.00,9,     -999,9, -999.000,9, -999.000,9,     -999,9,   -999.0,9,   -999.0,9,-999.0000,9,  -999.00,  -999.00,9,   -999.0,9,   -999.0,  -999.00,9,   0.00039,2,    0.003,2,    0.048,2,    0.000,2,   99.925,2
  096U20180111,  SR03,    54,  1,     18,     18,2,20180130,2138,-64.8110, 139.8603, 2556,    500.6,   0.8244,  34.6803,2,  34.6793,2,    210.9,2,    212.3,2,    94.50,2,    31.52,2,     0.01,2,     2.19,2,    -0.01,2,    0.990,2,    0.543,2,      0.4,2,   2251.5,2,   2351.2,2,   7.5923,   2,    25.00,    18.96,2,   -144.6,2,      2.1,     0.53,2,   0.00036,2,    0.001,2,    0.042,2,    0.000,2,   99.981,2
  096U20180111,  SR03,    54,  1,     17,     17,2,20180130,2138,-64.8110, 139.8603, 2556,    600.6,   0.8510,  34.6914,2,  34.6918,2,    209.6,2,    210.2,2,    98.60,2,    31.64,2,     0.00,2,     2.20,2,    -0.01,2,    0.800,2,    0.437,2,      0.2,2,   2253.8,2,   2354.1,2,-999.0000,9,  -999.00,    18.95,2,   -152.4,2,      1.9,     0.56,2,   0.00033,2,   -0.001,2,    0.036,2,    0.000,2,  100.023,2
  096U20180111,  SR03,    54,  1,     16,     16,2,20180130,2138,-64.8110, 139.8603, 2556,    701.0,   0.8192,  34.6957,2,  34.6964,2,    211.2,2,    208.9,2,   102.70,2,    31.73,2,     0.01,2,     2.21,2,    -0.01,2, -999.000,9, -999.000,9,     -999,9,   -999.0,9,   -999.0,9,-999.0000,9,  -999.00,  -999.00,9,   -999.0,9,   -999.0,  -999.00,9,   0.00033,2,   -0.002,2,    0.042,2,    0.000,2,  100.037,2
  096U20180111,  SR03,    54,  1,     15,     15,2,20180130,2138,-64.8110, 139.8603, 2556,    800.5,   0.7423,  34.6946,2,  34.7104,4,    210.2,2,    210.4,2,   106.10,2,    31.86,2,     0.01,2,     2.22,2,    -0.01,2,    0.656,2,    0.360,2,     0.28,2,   2256.8,2,   2357.9,2,   7.5935,   2,    25.00,    18.85,2,   -154.8,2,      1.8,     0.49,2,   0.00030,2,   -0.002,2,    0.036,2,    0.000,2,  100.058,2
  096U20180111,  SR03,    54,  1,     14,     14,2,20180130,2138,-64.8110, 139.8603, 2556,    900.6,   0.6698,  34.6939,2,  34.6938,2,    209.9,2,    209.7,2,   109.50,2,    32.01,2,     0.01,2,     2.23,2,    -0.01,2, -999.000,9, -999.000,9,     -999,9,   -999.0,9,   -999.0,9,-999.0000,9,  -999.00,  -999.00,9,   -999.0,9,   -999.0,  -999.00,9,   0.00031,2,   -0.002,2,    0.036,2,    0.000,2,  100.057,2
  096U20180111,  SR03,    54,  1,     13,     13,2,20180130,2138,-64.8110, 139.8603, 2556,   1049.9,   0.4949,  34.6842,2,  34.6847,2,    212.0,2,    212.2,2,   111.80,2,    32.21,2,     0.01,2,     2.25,2,    -0.01,2,    0.736,2,    0.410,2,      0.4,2,   2258.6,6,   2357.2,6,-999.0000,9,  -999.00,    18.48,2,   -157.4,2,      1.7,     0.49,2,   0.00031,2,   -0.002,2,    0.036,2,    0.000,2,  100.060,2
  096U20180111,  SR03,    54,  1,     12,     12,2,20180130,2138,-64.8110, 139.8603, 2556,   1200.9,   0.3709,  34.6810,2,  34.6814,2,    214.6,2,    214.8,2,   114.00,2,    32.31,2,     0.01,2,     2.25,2,    -0.01,2,    0.807,2,    0.444,2,     0.29,2,   2259.6,2,   2356.9,2,   7.5884,   2,    25.00,    18.42,2,   -157.2,2,      1.7,     0.46,2,   0.00030,2,   -0.003,2,    0.036,2,    0.000,2,  100.077,2
  096U20180111,  SR03,    54,  1,     11,     11,2,20180130,2138,-64.8110, 139.8603, 2556,   1399.8,   0.2712,  34.6802,2,  34.6807,2,    217.3,2,    217.2,2,   116.80,2,    32.40,2,     0.00,2,     2.26,2,    -0.01,2,    0.773,4,    0.412,4,     0.37,4,   2260.2,2,   2356.4,2,-999.0000,9,  -999.00,    16.56,4,   -160.6,2,      1.7,     0.51,2,   0.00029,2,   -0.004,2,    0.036,2,    0.000,2,  100.088,2
  096U20180111,  SR03,    54,  1,     10,     10,2,20180130,2138,-64.8110, 139.8603, 2556,   1600.3,   0.1794,  34.6775,2,-999.0000,9,    220.7,2,   -999.0,9,  -999.00,9,  -999.00,9,  -999.00,9,  -999.00,9,     -999,9, -999.000,9, -999.000,9,     -999,9,   -999.0,9,   -999.0,9,-999.0000,9,  -999.00,  -999.00,9,   -999.0,9,   -999.0,  -999.00,9,   0.00029,2,   -0.004,2,    0.036,2,    0.000,2,  100.104,2
  096U20180111,  SR03,    54,  1,      9,      9,2,20180130,2138,-64.8110, 139.8603, 2556,   1600.1,   0.1806,  34.6774,2,  34.6773,2,    220.7,2,    220.8,2,   117.00,2,    32.36,2,     0.01,2,     2.26,2,    -0.01,2,    1.003,2,    0.537,2,     0.46,2,   2259.4,2,   2358.0,2,   7.5895,   6,    25.00,    18.26,2,   -158.8,2,      2.1,     0.46,2,   0.00027,2,   -0.004,2,    0.036,2,    0.000,2,  100.095,2
  096U20180111,  SR03,    54,  1,      8,      8,2,20180130,2138,-64.8110, 139.8603, 2556,   1800.8,   0.1041,  34.6764,2,  34.6771,2,    223.4,2,    223.2,2,   121.80,2,    32.37,2,     0.01,2,     2.26,2,    -0.01,2,    0.997,6,    0.528,6,     0.46,6,   2258.8,2,   2358.0,2,-999.0000,9,  -999.00,    18.07,6,   -156.9,2,      1.6,     0.55,2,   0.00049,2,   -0.005,2,    0.036,2,    0.000,2,  100.117,2
  096U20180111,  SR03,    54,  1,      7,      7,2,20180130,2138,-64.8110, 139.8603, 2556,   2001.1,   0.0030,  34.6720,2,-999.0000,9,    227.7,2,   -999.0,9,  -999.00,9,  -999.00,9,  -999.00,9,  -999.00,9,     -999,9, -999.000,9, -999.000,9,     -999,9,   -999.0,9,   -999.0,9,-999.0000,9,  -999.00,  -999.00,9,   -999.0,9,   -999.0,  -999.00,9,   0.00072,2,   -0.004,2,    0.030,2,    0.000,2,  100.110,2
  096U20180111,  SR03,    54,  1,      6,      6,2,20180130,2138,-64.8110, 139.8603, 2556,   2001.0,   0.0033,  34.6720,2,  34.6716,2,    227.7,2,    227.3,2,   117.60,2,    32.26,2,     0.00,2,     2.25,2,    -0.01,2,    1.321,2,    0.704,2,     0.48,2,   2259.0,2,   2357.9,6,   7.5893,   2,    25.00,    18.27,2,   -147.9,2,      1.8,     0.47,2,   0.00124,2,   -0.004,2,    0.036,2,    0.000,2,  100.099,2
  096U20180111,  SR03,    54,  1,      5,      5,2,20180130,2138,-64.8110, 139.8603, 2556,   2250.0,  -0.1110,  34.6673,2,  34.6673,2,    232.4,2,    231.8,2,   115.30,2,    32.16,2,     0.01,2,     2.25,2,    -0.01,2,    1.611,2,    0.860,2,     0.93,2,   2258.2,2,   2356.7,2,-999.0000,9,  -999.00,    17.83,2,   -155.1,2,      1.7,     0.51,2,   0.00028,2,   -0.003,2,    0.036,2,    0.000,2,  100.086,2
  096U20180111,  SR03,    54,  1,      4,      4,2,20180130,2138,-64.8110, 139.8603, 2556,   2450.6,  -0.2360,  34.6645,2,  34.6642,2,    238.0,2,    237.6,2,   103.00,2,    31.90,2,     0.01,2,     2.23,2,        0,2,    2.042,2,    1.108,2,     0.96,2,   2256.7,2,   2354.0,2,-999.0000,9,  -999.00,    18.39,2,   -150.1,2,      1.7,     0.52,2,   0.00034,2,    0.001,2,    0.036,2,    0.000,2,   99.964,2
  096U20180111,  SR03,    54,  1,      3,      3,2,20180130,2138,-64.8110, 139.8603, 2556,   2550.8,  -0.2880,  34.6599,2,  34.6600,2,    240.9,2,    240.4,2,   102.90,2,    31.87,2,     0.01,2,     2.23,2,        0,2,    2.146,2,    1.176,2,      1.1,2,   2255.9,2,   2353.4,2,-999.0000,9,  -999.00,    18.17,2,   -152.2,2,      1.9,     0.48,2,   0.00042,2,    0.003,2,    0.036,2,    0.000,2,   99.925,2
  096U20180111,  SR03,    54,  1,      2,      2,2,20180130,2138,-64.8110, 139.8603, 2556,   2595.4,  -0.2815,  34.6603,2,-999.0000,9,    241.1,2,   -999.0,9,  -999.00,9,  -999.00,9,  -999.00,9,  -999.00,9,     -999,9, -999.000,9, -999.000,9,     -999,9,   -999.0,9,   -999.0,9,-999.0000,9,  -999.00,  -999.00,9,   -999.0,9,   -999.0,  -999.00,9,   0.00038,2,    0.003,2,    0.036,2,    0.000,2,   99.916,2
  096U20180111,  SR03,    54,  1,      1,      1,2,20180130,2138,-64.8110, 139.8603, 2556,   2595.5,  -0.2819,  34.6603,2,  34.6605,2,    241.1,2,    240.5,2,   102.90,2,    31.88,2,     0.01,2,     2.23,2,        0,2,    2.161,2,    1.171,2,     1.12,2,   2256.2,6,   2352.7,6,-999.0000,9,  -999.00,    18.29,2,   -151.3,2,      2.3,     0.44,2,   0.00038,2,    0.003,2,    0.036,2,    0.000,2,   99.917,2