BOTTLE,20230418CCHSIOENA
EXPOCODE,SECT_ID,STNNBR,CASTNO,SAMPNO,BTLNBR,BTLNBR_FLAG_W,DATE,TIME,LATITUDE,LONGITUDE,DEPTH,CTDPRS,CTDTMP,CTDSAL,CTDSAL_FLAG_W,SALNTY,SALNTY_FLAG_W,CTDOXY,CTDOXY_FLAG_W,OXYGEN,OXYGEN_FLAG_W,SILCAT,SILCAT_FLAG_W,NITRAT,NITRAT_FLAG_W,NITRIT,NITRIT_FLAG_W,PHSPHT,PHSPHT_FLAG_W,NH4,NH4_FLAG_W,CFC-11,CFC-11_FLAG_W,CFC-12,CFC-12_FLAG_W,SF6,SF6_FLAG_W,TCARBN,TCARBN_FLAG_W,ALKALI,ALKALI_FLAG_W,PH_TOT,PH_TOT_FLAG_W,PH_TMP,N2O,N2O_FLAG_W,DELC14,DELC14_FLAG_W,C14ERR,DELC13,DELC13_FLAG_W,CTDBETA700,CTDBETA700_FLAG_W,CTDBEAMCP,CTDBEAMCP_FLAG_W,CTDFLUOR,CTDFLUOR_FLAG_W,PAR,PAR_FLAG_W,CTDXMISS,CTDXMISS_FLAG_W
,,,,,,,,,,,METERS,DBAR,ITS-90,PSS-78,,PSS-78,,UMOL/KG,,UMOL/KG,,UMOL/KG,,UMOL/KG,,UMOL/KG,,UMOL/KG,,UMOL/KG,,PMOL/KG,,PMOL/KG,,FMOL/KG,,UMOL/KG,,UMOL/KG,,,,DEG C,NMOL/KG,,/MILLE,,/MILLE,/MILLE,,VOLTS,,1/M,,MG/M^3,,UMOL/M^2/SEC,,%TRANS,
  096U20180111,  SR03,    44,  1,     36,     36,2,20180127,0103,-60.3508, 139.8522, 4404,     10.6,   2.0145,  33.5822,2,-999.0000,9,    337.3,2,   -999.0,9,  -999.00,9,  -999.00,9,  -999.00,9,  -999.00,9,     -999,9, -999.000,9, -999.000,9,     -999,9,   -999.0,9,   -999.0,9,   7.7176,   2,    25.00,  -999.00,9,   -999.0,9,   -999.0,  -999.00,9,   0.00194,2,    0.231,2,    0.450,2,  167.000,2,   94.383,2
  096U20180111,  SR03,    44,  1,     35,     35,2,20180127,0103,-60.3508, 139.8522, 4404,     10.5,   2.0130,  33.5824,2,  33.5840,2,    337.3,2,    336.4,2,     8.10,2,    23.99,2,     0.22,2,     1.40,2,     0.14,2,    5.277,6,    2.851,6,     3.38,6,   2131.5,6,   2270.4,6,-999.0000,9,  -999.00,    13.69,6,   -999.0,9,   -999.0,  -999.00,9,   0.00184,2,    0.235,2,    0.480,2,  163.000,2,   94.289,2
  096U20180111,  SR03,    44,  1,     34,     34,2,20180127,0103,-60.3508, 139.8522, 4404,     29.4,   1.7714,  33.6046,2,  33.6065,2,    338.8,2,    338.6,2,     8.00,2,    24.13,2,     0.21,2,     1.42,2,     0.17,2,    5.305,2,    2.865,2,     3.19,2,   2133.2,2,   2273.4,2,   7.7151,   2,    25.00,    13.73,2,   -999.0,9,   -999.0,  -999.00,9,   0.00251,2,    0.301,2,    1.932,2,   58.600,2,   92.763,2
  096U20180111,  SR03,    44,  1,     33,     33,2,20180127,0103,-60.3508, 139.8522, 4404,     53.8,  -0.7135,  33.7681,2,-999.0000,9,    339.6,2,   -999.0,9,  -999.00,9,  -999.00,9,  -999.00,9,  -999.00,9,     -999,9, -999.000,9, -999.000,9,     -999,9,   -999.0,9,   -999.0,9,-999.0000,9,  -999.00,  -999.00,9,   -999.0,9,   -999.0,  -999.00,9,   0.00183,2,    0.189,2,    2.514,2,    7.020,2,   95.377,2
  096U20180111,  SR03,    44,  1,     32,     32,2,20180127,0103,-60.3508, 139.8522, 4404,     53.8,  -0.7574,  33.7770,2,  33.7842,2,    339.6,2,    349.6,2,    23.90,2,    27.58,2,     0.19,2,     1.98,2,     0.66,2, -999.000,9, -999.000,9,     -999,9,   2161.4,2,   2282.6,2,   7.6619,   2,    25.00,  -999.00,9,   -999.0,9,   -999.0,  -999.00,9,   0.00212,2,    0.176,2,    2.502,2,    6.190,2,   95.692,2
  096U20180111,  SR03,    44,  1,     31,     31,2,20180127,0103,-60.3508, 139.8522, 4404,     79.9,  -0.6250,  33.8920,2,  33.8940,2,    335.7,2,    337.1,2,    27.80,2,    28.85,2,     0.27,2,     2.05,2,     0.48,2,    5.454,2,    2.947,2,     3.68,2,   2184.2,2,   2292.2,2,   7.6445,   2,    25.00,    15.14,2,   -999.0,9,   -999.0,  -999.00,9,   0.00078,2,    0.036,2,    0.468,2,    1.380,2,   99.117,2
  096U20180111,  SR03,    44,  1,     30,     30,2,20180127,0103,-60.3508, 139.8522, 4404,    130.4,  -0.4888,  33.9722,2,  33.9805,2,    318.5,2,    316.7,2,    34.40,2,    30.64,2,     0.02,2,     2.11,2,        0,2, -999.000,9, -999.000,9,     -999,9,   2185.5,2,   2291.1,2,-999.0000,9,  -999.00,  -999.00,9,   -999.0,9,   -999.0,  -999.00,9,   0.00041,2,    0.012,2,    0.144,2,    0.210,2,   99.713,2
  096U20180111,  SR03,    44,  1,     29,     29,2,20180127,0103,-60.3508, 139.8522, 4404,    179.6,   1.2833,  34.2271,2,  34.2461,2,    233.8,2,    232.2,2,    51.30,2,    33.90,2,     0.02,2,     2.32,2,        0,2,    3.035,2,    1.625,2,     1.49,2,   2222.4,2,   2308.4,6,   7.5591,   2,    25.00,    21.26,2,   -999.0,9,   -999.0,  -999.00,9,   0.00037,2,    0.008,2,    0.054,2,    0.022,2,   99.795,2
  096U20180111,  SR03,    44,  1,     28,     28,2,20180127,0103,-60.3508, 139.8522, 4404,    230.6,   2.0318,  34.3816,2,  34.3826,2,    192.4,2,    193.8,2,    61.90,2,    35.28,2,     0.01,2,     2.41,2,        0,2, -999.000,9, -999.000,9,     -999,9,   -999.0,9,   -999.0,9,-999.0000,9,  -999.00,  -999.00,9,   -999.0,9,   -999.0,  -999.00,9,   0.00039,2,    0.008,2,    0.042,2,    0.000,2,   99.797,2
  096U20180111,  SR03,    44,  1,     27,     27,2,20180127,0103,-60.3508, 139.8522, 4404,    280.0,   2.1907,  34.4482,2,  34.4502,2,    180.8,2,    181.1,2,    67.00,2,    35.50,2,     0.01,2,     2.42,2,        0,2,    1.549,2,    0.808,2,     0.54,2,   2247.8,2,   2324.4,2,   7.5266,   2,    25.00,    24.53,2,   -999.0,9,   -999.0,  -999.00,9,   0.00042,2,    0.010,2,    0.042,2,    0.000,2,   99.740,2
  096U20180111,  SR03,    44,  1,     26,     26,2,20180127,0103,-60.3508, 139.8522, 4404,    330.9,   2.2934,  34.5105,2,  34.5103,2,    175.2,2,    174.1,2,    70.50,2,    35.30,2,     0.01,2,     2.41,2,        0,2, -999.000,9, -999.000,9,     -999,9,   -999.0,9,   -999.0,9,-999.0000,9,  -999.00,  -999.00,9,   -999.0,9,   -999.0,  -999.00,9,   0.00042,2,    0.008,2,    0.042,2,    0.000,2,   99.799,2
  096U20180111,  SR03,    44,  1,     25,     25,2,20180127,0103,-60.3508, 139.8522, 4404,    380.6,   2.2987,  34.5476,2,-999.0000,9,    172.8,2,    172.0,2,    72.70,2,    34.92,2,     0.00,2,     2.40,2,    -0.01,2,    0.939,2,    0.493,2,     0.21,2,   2253.5,2,   2331.7,2,   7.5344,   2,    25.00,    23.28,2,   -999.0,9,   -999.0,  -999.00,9,   0.00038,2,    0.005,2,    0.042,2,    0.000,2,   99.872,2
  096U20180111,  SR03,    44,  1,     24,     24,2,20180127,0103,-60.3508, 139.8522, 4404,    451.3,   2.2924,  34.5906,2,  34.5902,2,    171.0,2,    171.7,2,    74.70,2,    34.39,2,     0.01,2,     2.36,2,        0,2,    0.743,2,    0.394,2,     0.21,2,   2253.2,2,   2336.4,2,   7.5424,   6,    25.00,    22.88,2,   -999.0,9,   -999.0,  -999.00,9,   0.00038,2,    0.003,2,    0.042,2,    0.000,2,   99.922,2
  096U20180111,  SR03,    44,  1,     23,     23,2,20180127,0103,-60.3508, 139.8522, 4404,    548.7,   2.2494,  34.6358,2,  34.6348,2,    172.5,2,    173.3,2,    77.10,2,    33.71,2,     0.01,2,     2.29,2,        0,2, -999.000,9, -999.000,9,     -999,9,   -999.0,9,   -999.0,9,-999.0000,9,  -999.00,  -999.00,9,   -999.0,9,   -999.0,  -999.00,9,   0.00035,2,    0.002,2,    0.042,2,    0.000,2,   99.948,2
  096U20180111,  SR03,    44,  1,     22,     22,2,20180127,0103,-60.3508, 139.8522, 4404,    648.7,   2.2143,  34.6673,2,  34.6661,2,    175.8,2,    176.2,2,    78.50,2,    33.07,2,     0.01,2,     2.27,2,        0,2,    0.459,2,    0.241,2,      0.1,2,   2251.6,6,   2343.2,6,-999.0000,9,  -999.00,    21.35,2,   -999.0,9,   -999.0,  -999.00,9,   0.00034,2,    0.002,2,    0.042,2,    0.000,2,   99.961,2
  096U20180111,  SR03,    44,  1,     21,     21,2,20180127,0103,-60.3508, 139.8522, 4404,    749.4,   2.1552,  34.6903,2,  34.6898,2,    180.0,2,    179.2,2,    80.10,2,    32.54,2,     0.01,2,     2.23,2,        0,2,    0.381,2,    0.204,2,     0.17,2,   2251.6,2,   2344.3,2,   7.5721,   2,    25.00,    20.97,2,   -999.0,9,   -999.0,  -999.00,9,   0.00032,2,    0.001,2,    0.036,2,    0.000,2,   99.987,2
  096U20180111,  SR03,    44,  1,     20,     20,2,20180127,0103,-60.3508, 139.8522, 4404,    850.2,   2.1159,  34.7105,2,  34.7106,2,    183.2,2,    183.2,2,    80.90,2,    31.93,2,     0.01,2,     2.19,2,        0,2,    0.316,2,    0.169,2,     0.08,2,   -999.0,9,   -999.0,9,-999.0000,9,  -999.00,    20.24,2,   -999.0,9,   -999.0,  -999.00,9,   0.00033,2,    0.000,2,    0.036,2,    0.000,2,  100.005,2
  096U20180111,  SR03,    44,  1,     19,     19,2,20180127,0103,-60.3508, 139.8522, 4404,    950.5,   2.0603,  34.7243,2,  34.7233,2,    186.5,2,    186.8,2,    82.00,2,    31.52,2,     0.01,2,     2.16,2,        0,2, -999.000,9, -999.000,9,     -999,9,   2246.9,2,   2346.4,2,-999.0000,9,  -999.00,  -999.00,9,   -999.0,9,   -999.0,  -999.00,9,   0.00034,2,    0.000,2,    0.036,2,    0.000,2,   99.999,2
  096U20180111,  SR03,    44,  1,     18,     18,2,20180127,0103,-60.3508, 139.8522, 4404,   1050.5,   1.9974,  34.7345,2,  34.7314,4,    189.8,2,    189.9,2,    83.50,2,    31.14,2,     0.01,2,     2.14,2,    -0.01,2,    0.241,2,    0.130,2,    -0.01,2,   2247.7,2,   2347.1,2,   7.5974,   2,    25.00,    19.25,2,   -999.0,9,   -999.0,  -999.00,9,   0.00034,2,   -0.001,2,    0.042,2,    0.000,2,  100.021,2
  096U20180111,  SR03,    44,  1,     17,     17,2,20180127,0103,-60.3508, 139.8522, 4404,   1150.7,   1.9147,  34.7416,2,  34.7413,2,    192.5,2,    192.4,2,    85.40,2,    30.90,2,     0.00,2,     2.12,2,    -0.01,2,    0.220,2,    0.116,2,        0,2,   -999.0,9,   -999.0,9,-999.0000,9,  -999.00,    19.05,2,   -999.0,9,   -999.0,  -999.00,9,   0.00030,2,   -0.001,2,    0.036,2,    0.000,2,  100.028,2
  096U20180111,  SR03,    44,  1,     16,     16,2,20180127,0103,-60.3508, 139.8522, 4404,   1300.6,   1.8040,  34.7455,2,  34.7453,2,    195.4,2,    195.5,2,    88.30,2,    30.78,2,     0.00,2,     2.12,2,    -0.01,2,    0.203,2,    0.102,2,     0.05,2,   2247.7,2,   2352.1,2,-999.0000,9,  -999.00,    18.58,2,   -999.0,9,   -999.0,  -999.00,9,   0.00030,2,   -0.002,2,    0.036,2,    0.000,2,  100.054,2
  096U20180111,  SR03,    44,  1,     15,     15,2,20180127,0103,-60.3508, 139.8522, 4404,   1500.6,   1.6176,  34.7440,2,  34.7440,2,    198.4,2,    198.5,2,    93.50,2,    30.90,2,     0.00,2,     2.13,2,    -0.01,2, -999.000,9, -999.000,9,     -999,9,   2248.0,2,   2355.1,2,-999.0000,9,  -999.00,  -999.00,9,   -999.0,9,   -999.0,  -999.00,9,   0.00028,2,   -0.003,2,    0.042,2,    0.000,2,  100.074,2
  096U20180111,  SR03,    44,  1,     14,     14,2,20180127,0103,-60.3508, 139.8522, 4404,   1700.1,   1.4326,  34.7384,2,  34.7387,2,    200.7,2,    200.7,2,    98.90,2,    31.08,2,     0.00,2,     2.14,2,        0,2,    0.199,2,    0.099,2,     0.03,2,   2250.8,2,   2358.5,2,   7.6076,   2,    25.00,    18.27,2,   -999.0,9,   -999.0,  -999.00,9,   0.00028,2,   -0.004,2,    0.036,2,    0.000,2,  100.095,2
  096U20180111,  SR03,    44,  1,     13,     13,2,20180127,0103,-60.3508, 139.8522, 4404,   1900.4,   1.2763,  34.7317,2,  34.7312,2,    202.8,2,    202.8,2,   103.60,2,    31.30,2,     0.00,2,     2.16,2,    -0.01,2,    0.206,2,    0.103,2,     0.01,2,   2253.2,2,   2358.3,2,-999.0000,9,  -999.00,    18.33,2,   -999.0,9,   -999.0,  -999.00,9,   0.00028,2,   -0.004,2,    0.036,2,    0.000,2,  100.098,2
  096U20180111,  SR03,    44,  1,     12,     12,2,20180127,0103,-60.3508, 139.8522, 4404,   2100.7,   1.1257,  34.7242,2,  34.7237,2,    204.3,2,    204.4,2,   108.30,2,    31.58,2,     0.00,2,     2.18,2,    -0.01,2, -999.000,9, -999.000,9,     -999,9,   -999.0,9,   -999.0,9,-999.0000,9,  -999.00,  -999.00,9,   -999.0,9,   -999.0,  -999.00,9,   0.00027,2,   -0.004,2,    0.036,2,    0.000,2,  100.100,2
  096U20180111,  SR03,    44,  1,     11,     11,2,20180127,0103,-60.3508, 139.8522, 4404,   2299.4,   0.9930,  34.7171,2,  34.7165,2,    206.1,2,    206.1,2,   112.20,2,    31.82,2,     0.00,2,     2.19,2,    -0.01,2,    0.245,2,    0.124,2,     0.05,2,   2255.7,2,   2359.9,2,-999.0000,9,  -999.00,    18.30,2,   -999.0,9,   -999.0,  -999.00,9,   0.00026,2,   -0.004,2,    0.042,2,    0.000,2,  100.107,2
  096U20180111,  SR03,    44,  1,     10,     10,2,20180127,0103,-60.3508, 139.8522, 4404,   2501.5,   0.8420,  34.7092,2,  34.7037,4,    208.5,2,    208.0,2,   116.50,2,    32.04,2,     0.00,2,     2.22,2,    -0.01,2,    0.294,2,    0.153,2,     0.01,2,   2257.6,2,   2362.4,6,-999.0000,9,  -999.00,    18.22,2,   -999.0,9,   -999.0,  -999.00,9,   0.00026,2,   -0.005,2,    0.042,2,    0.000,2,  100.116,2
  096U20180111,  SR03,    44,  1,      9,      9,2,20180127,0103,-60.3508, 139.8522, 4404,   2748.8,   0.6554,  34.6992,2,  34.6982,2,    212.1,2,    211.4,2,   121.20,2,    32.31,2,     0.00,2,     2.23,2,    -0.01,2, -999.000,9, -999.000,9,     -999,9,   -999.0,9,   -999.0,9,-999.0000,9,  -999.00,  -999.00,9,   -999.0,9,   -999.0,  -999.00,9,   0.00025,2,   -0.004,2,    0.036,2,    0.000,2,  100.108,2
  096U20180111,  SR03,    44,  1,      8,      8,2,20180127,0103,-60.3508, 139.8522, 4404,   2999.9,   0.5045,  34.6915,2,  34.6914,2,    215.8,2,    214.8,2,   124.90,2,    32.48,2,     0.00,2,     2.25,2,    -0.01,2,    0.475,2,    0.240,2,     0.11,2,   2257.4,2,   2361.0,2,-999.0000,9,  -999.00,    18.16,2,   -999.0,9,   -999.0,  -999.00,9,   0.00024,2,   -0.004,2,    0.042,2,    0.000,2,  100.111,2
  096U20180111,  SR03,    44,  1,      7,      7,2,20180127,0103,-60.3508, 139.8522, 4404,   3250.5,   0.3956,  34.6863,2,  34.6831,4,    218.6,2,    218.4,2,   127.80,2,    32.55,2,     0.00,2,     2.25,2,        0,2,    0.577,2,    0.291,2,        0,2,   -999.0,9,   -999.0,9,-999.0000,9,  -999.00,    18.02,2,   -999.0,9,   -999.0,  -999.00,9,   0.00034,2,   -0.004,2,    0.042,2,    0.000,2,  100.102,2
  096U20180111,  SR03,    44,  1,      6,      6,2,20180127,0103,-60.3508, 139.8522, 4404,   3500.3,   0.3199,  34.6823,2,  34.6822,2,    220.7,2,    220.4,2,   129.70,2,    32.61,2,     0.00,2,     2.26,2,        0,2,    0.669,2,    0.336,2,      0.1,2,   2258.3,2,   2361.3,2,-999.0000,9,  -999.00,    18.02,2,   -999.0,9,   -999.0,  -999.00,9,   0.00023,2,   -0.004,2,    0.036,2,    0.000,2,  100.097,2
  096U20180111,  SR03,    44,  1,      5,      5,2,20180127,0103,-60.3508, 139.8522, 4404,   3750.6,   0.2369,  34.6782,2,-999.0000,9,    223.2,2,   -999.0,9,  -999.00,9,  -999.00,9,  -999.00,9,  -999.00,9,     -999,9, -999.000,9, -999.000,9,     -999,9,   -999.0,9,   -999.0,9,-999.0000,9,  -999.00,  -999.00,9,   -999.0,9,   -999.0,  -999.00,9,   0.00023,2,   -0.004,2,    0.036,2,    0.000,2,  100.104,2
  096U20180111,  SR03,    44,  1,      4,      4,2,20180127,0103,-60.3508, 139.8522, 4404,   4000.8,   0.1665,  34.6737,2,  34.6733,2,    225.6,2,    225.9,2,   133.40,2,    32.57,2,     0.00,2,     2.25,2,    -0.01,2,    0.990,2,    0.500,2,     0.19,2,   2257.7,6,   2360.8,6,-999.0000,9,  -999.00,    18.15,2,   -999.0,9,   -999.0,  -999.00,9,   0.00023,2,   -0.004,2,    0.036,2,    0.000,2,  100.100,2
  096U20180111,  SR03,    44,  1,      3,      3,2,20180127,0103,-60.3508, 139.8522, 4404,   4251.6,   0.0996,  34.6685,2,  34.6675,2,    228.6,2,    229.2,2,   131.80,2,    32.48,2,     0.00,2,     2.25,2,    -0.01,2,    1.226,2,    0.619,2,     0.21,2,   -999.0,9,   -999.0,9,-999.0000,9,  -999.00,    17.69,2,   -999.0,9,   -999.0,  -999.00,9,   0.00024,2,   -0.004,2,    0.042,2,    0.000,2,  100.088,2
  096U20180111,  SR03,    44,  1,      2,      2,2,20180127,0103,-60.3508, 139.8522, 4404,   4450.6,  -0.0094,  34.6586,2,  34.6577,2,    233.9,2,    234.1,2,   129.80,2,    32.38,2,     0.00,2,     2.24,2,    -0.01,2,    1.665,2,    0.867,2,     0.51,2,   2255.6,2,   2359.5,2,-999.0000,9,  -999.00,    17.88,2,   -999.0,9,   -999.0,  -999.00,9,   0.00028,2,   -0.001,2,    0.036,2,    0.000,2,  100.014,2
  096U20180111,  SR03,    44,  1,      1,      1,2,20180127,0103,-60.3508, 139.8522, 4404,   4493.3,  -0.0247,  34.6568,2,  34.6573,2,    235.1,2,    234.7,2,   130.80,2,    32.38,2,     0.00,2,     2.24,2,        0,2,    1.730,2,    0.900,2,     0.73,2,   2256.1,2,   2355.8,6,-999.0000,9,  -999.00,    18.11,2,   -999.0,9,   -999.0,  -999.00,9,   0.00032,2,    0.002,2,    0.036,2,    0.000,2,   99.953,2