BOTTLE,20230418CCHSIOENA
EXPOCODE,SECT_ID,STNNBR,CASTNO,SAMPNO,BTLNBR,BTLNBR_FLAG_W,DATE,TIME,LATITUDE,LONGITUDE,DEPTH,CTDPRS,CTDTMP,CTDSAL,CTDSAL_FLAG_W,SALNTY,SALNTY_FLAG_W,CTDOXY,CTDOXY_FLAG_W,OXYGEN,OXYGEN_FLAG_W,SILCAT,SILCAT_FLAG_W,NITRAT,NITRAT_FLAG_W,NITRIT,NITRIT_FLAG_W,PHSPHT,PHSPHT_FLAG_W,NH4,NH4_FLAG_W,CFC-11,CFC-11_FLAG_W,CFC-12,CFC-12_FLAG_W,SF6,SF6_FLAG_W,TCARBN,TCARBN_FLAG_W,ALKALI,ALKALI_FLAG_W,PH_TOT,PH_TOT_FLAG_W,PH_TMP,N2O,N2O_FLAG_W,DELC14,DELC14_FLAG_W,C14ERR,DELC13,DELC13_FLAG_W,CTDBETA700,CTDBETA700_FLAG_W,CTDBEAMCP,CTDBEAMCP_FLAG_W,CTDFLUOR,CTDFLUOR_FLAG_W,PAR,PAR_FLAG_W,CTDXMISS,CTDXMISS_FLAG_W
,,,,,,,,,,,METERS,DBAR,ITS-90,PSS-78,,PSS-78,,UMOL/KG,,UMOL/KG,,UMOL/KG,,UMOL/KG,,UMOL/KG,,UMOL/KG,,UMOL/KG,,PMOL/KG,,PMOL/KG,,FMOL/KG,,UMOL/KG,,UMOL/KG,,,,DEG C,NMOL/KG,,/MILLE,,/MILLE,/MILLE,,VOLTS,,1/M,,MG/M^3,,UMOL/M^2/SEC,,%TRANS,
  096U20180111,  SR03,    38,  1,     36,     36,2,20180125,0248,-57.8498, 139.8503, 3971,     10.4,   4.3613,  33.8213,2,  33.8222,2,    318.4,2,    316.6,2,     2.10,2,    24.34,2,     0.25,2,     1.57,2,     0.04,2,    4.542,2,    2.494,2,     3.09,2,   2134.0,2,   2275.1,2,-999.0000,9,  -999.00,    12.87,2,   -999.0,9,   -999.0,  -999.00,9,   0.00225,2,    0.175,2,    0.546,2,   62.300,2,   95.719,2
  096U20180111,  SR03,    38,  1,     35,     35,2,20180125,0248,-57.8498, 139.8503, 3971,     30.9,   4.2059,  33.8209,2,  33.8210,2,    317.8,2,    317.3,2,     2.50,2,    24.33,2,     0.25,2,     1.55,2,     0.05,2, -999.000,9, -999.000,9,     -999,9,   -999.0,9,   -999.0,9,-999.0000,9,  -999.00,  -999.00,9,   -999.0,9,   -999.0,  -999.00,9,   0.00253,2,    0.199,2,    1.494,2,   25.900,2,   95.137,2
  096U20180111,  SR03,    38,  1,     34,     34,2,20180125,0248,-57.8498, 139.8503, 3971,     55.3,   4.1379,  33.8211,2,  33.8259,2,    317.5,2,    318.4,2,     3.30,2,    24.56,2,     0.24,2,     1.60,2,     0.14,2,    4.584,2,    2.467,2,     2.98,2,   2136.8,2,   2276.9,2,-999.0000,9,  -999.00,    13.25,2,   -999.0,9,   -999.0,  -999.00,9,   0.00243,2,    0.222,2,    2.094,2,   12.600,2,   94.590,2
  096U20180111,  SR03,    38,  1,     33,     33,2,20180125,0248,-57.8498, 139.8503, 3971,     75.4,   2.7337,  33.8636,2,  33.8683,2,    327.2,2,    327.0,2,    10.70,2,    25.66,2,     0.22,2,     1.87,2,     0.76,2, -999.000,9, -999.000,9,     -999,9,   -999.0,9,   -999.0,9,-999.0000,9,  -999.00,  -999.00,9,   -999.0,9,   -999.0,  -999.00,9,   0.00269,2,    0.203,2,    3.138,2,    2.530,2,   95.050,2
  096U20180111,  SR03,    38,  1,     32,     32,2,20180125,0248,-57.8498, 139.8503, 3971,     90.9,   2.4079,  33.8737,2,  33.8753,2,    327.2,2,    327.4,2,    12.70,2,    25.98,2,     0.22,2,     1.91,2,     0.85,2, -999.000,9, -999.000,9,     -999,9,   -999.0,9,   -999.0,9,-999.0000,9,  -999.00,  -999.00,9,   -999.0,9,   -999.0,  -999.00,9,   0.00144,2,    0.081,2,    1.344,2,    0.885,2,   97.991,2
  096U20180111,  SR03,    38,  1,     31,     31,2,20180125,0248,-57.8498, 139.8503, 3971,    121.0,   1.7497,  33.8838,2,  33.8854,2,    327.0,2,    326.7,2,    14.90,2,    26.57,2,     0.27,2,     1.92,2,      0.7,2,    5.010,2,    2.712,2,     3.66,2,   2157.3,2,   2280.1,2,-999.0000,9,  -999.00,    13.71,2,   -999.0,9,   -999.0,  -999.00,9,   0.00100,2,    0.045,2,    0.534,2,    0.216,2,   98.881,2
  096U20180111,  SR03,    38,  1,     30,     30,2,20180125,0248,-57.8498, 139.8503, 3971,    180.2,   1.3897,  33.9145,2,  33.9182,2,    320.6,2,    321.3,2,    18.10,2,    28.14,2,     0.09,2,     1.95,2,     0.01,2, -999.000,9, -999.000,9,     -999,9,   -999.0,9,   -999.0,9,-999.0000,9,  -999.00,  -999.00,9,   -999.0,9,   -999.0,  -999.00,9,   0.00068,2,    0.018,2,    0.090,2,    0.005,2,   99.559,2
  096U20180111,  SR03,    38,  1,     29,     29,2,20180125,0248,-57.8498, 139.8503, 3971,    250.4,   1.5839,  34.0258,2,  34.0322,2,    291.1,2,    289.1,2,    27.00,2,    30.19,2,     0.01,2,     2.08,2,        0,2,    4.428,2,    2.405,2,      2.7,2,   2184.4,2,   2289.4,2,-999.0000,9,  -999.00,    16.75,2,   -999.0,9,   -999.0,  -999.00,9,   0.00058,2,    0.012,2,    0.042,2,    0.000,2,   99.700,2
  096U20180111,  SR03,    38,  1,     28,     28,2,20180125,0248,-57.8498, 139.8503, 3971,    325.6,   2.5091,  34.1972,2,  34.1994,2,    232.4,2,    233.3,2,    39.00,2,    32.55,2,     0.01,2,     2.24,2,        0,2, -999.000,9, -999.000,9,     -999,9,   -999.0,9,   -999.0,9,-999.0000,9,  -999.00,  -999.00,9,   -999.0,9,   -999.0,  -999.00,9,   0.00060,2,    0.013,2,    0.048,2,    0.000,2,   99.666,2
  096U20180111,  SR03,    38,  1,     27,     27,2,20180125,0248,-57.8498, 139.8503, 3971,    400.3,   2.6041,  34.2937,2,  34.2939,2,    208.9,2,    208.2,2,    47.90,2,    33.83,2,     0.01,2,     2.32,2,        0,2,    2.494,2,    1.305,2,        1,2,   2223.3,2,   2309.0,2,-999.0000,9,  -999.00,    21.68,2,   -999.0,9,   -999.0,  -999.00,9,   0.00054,2,    0.009,2,    0.042,2,    0.000,2,   99.764,2
  096U20180111,  SR03,    38,  1,     26,     26,2,20180125,0248,-57.8498, 139.8503, 3971,    500.9,   2.5675,  34.3921,2,  34.3925,2,    188.2,2,    188.2,2,    57.70,2,    34.72,2,     0.01,2,     2.39,2,        0,2, -999.000,9, -999.000,9,     -999,9,   -999.0,9,   -999.0,9,-999.0000,9,  -999.00,  -999.00,9,   -999.0,9,   -999.0,  -999.00,9,   0.00051,2,    0.006,2,    0.042,2,    0.000,2,   99.845,2
  096U20180111,  SR03,    38,  1,     25,     25,2,20180125,0248,-57.8498, 139.8503, 3971,    600.1,   2.5412,  34.4730,2,  34.4725,2,    178.2,2,    177.7,2,    64.40,2,    34.81,2,     0.01,2,     2.40,2,        0,2,    1.238,2,    0.641,2,     0.43,2,   2247.9,2,   2325.6,2,-999.0000,9,  -999.00,    23.33,2,   -999.0,9,   -999.0,  -999.00,9,   0.00046,2,    0.004,2,    0.042,2,    0.000,2,   99.898,2
  096U20180111,  SR03,    38,  1,     24,     24,2,20180125,0248,-57.8498, 139.8503, 3971,    700.5,   2.4832,  34.5335,2,  34.5338,2,    173.3,2,    173.2,2,    69.00,2,    34.60,2,     0.01,2,     2.39,2,        0,2, -999.000,9, -999.000,9,     -999,9,   -999.0,9,   -999.0,9,-999.0000,9,  -999.00,  -999.00,9,   -999.0,9,   -999.0,  -999.00,9,   0.00047,2,    0.004,2,    0.042,2,    0.000,2,   99.891,2
  096U20180111,  SR03,    38,  1,     23,     23,2,20180125,0248,-57.8498, 139.8503, 3971,    801.2,   2.4485,  34.5862,2,  34.5856,2,    172.4,2,    172.3,2,    72.20,2,    34.10,2,     0.01,2,     2.35,2,        0,2, -999.000,9, -999.000,9,     -999,9,   -999.0,9,   -999.0,9,-999.0000,9,  -999.00,  -999.00,9,   -999.0,9,   -999.0,  -999.00,9,   0.00039,2,    0.003,2,    0.036,2,    0.000,2,   99.936,2
  096U20180111,  SR03,    38,  1,     22,     22,2,20180125,0248,-57.8498, 139.8503, 3971,    901.1,   2.4088,  34.6301,2,  34.6306,2,    174.0,2,    174.2,2,    74.10,2,    33.44,2,     0.01,2,     2.30,2,        0,2,    0.499,2,    0.267,2,     0.05,2,   2253.6,2,   2339.5,6,-999.0000,9,  -999.00,    21.83,2,   -999.0,9,   -999.0,  -999.00,9,   0.00039,2,    0.001,2,    0.042,2,    0.000,2,   99.970,2
  096U20180111,  SR03,    38,  1,     21,     21,2,20180125,0248,-57.8498, 139.8503, 3971,   1000.9,   2.3521,  34.6625,2,  34.6632,2,    176.5,2,    177.0,2,    75.70,2,    32.80,2,     0.01,2,     2.26,2,        0,2, -999.000,9, -999.000,9,     -999,9,   -999.0,9,   -999.0,9,-999.0000,9,  -999.00,  -999.00,9,   -999.0,9,   -999.0,  -999.00,9,   0.00041,2,    0.000,2,    0.042,2,    0.000,2,   99.989,2
  096U20180111,  SR03,    38,  1,     20,     20,2,20180125,0248,-57.8498, 139.8503, 3971,   1201.7,   2.2347,  34.7062,2,  34.7060,2,    182.9,2,    183.0,2,    78.30,2,    31.80,2,     0.00,2,     2.20,2,        0,2, -999.000,9, -999.000,9,     -999,9,   -999.0,9,   -999.0,9,-999.0000,9,  -999.00,  -999.00,9,   -999.0,9,   -999.0,  -999.00,9,   0.00035,2,   -0.001,2,    0.042,2,    0.000,2,  100.013,2
  096U20180111,  SR03,    38,  1,     19,     19,2,20180125,0248,-57.8498, 139.8503, 3971,   1401.2,   2.0935,  34.7327,2,  34.7334,2,    188.3,2,    188.8,2,    81.50,2,    31.06,2,     0.00,2,     2.14,2,        0,2,    0.227,2,    0.114,2,        0,2,   2248.6,6,   2349.2,6,-999.0000,9,  -999.00,    19.64,2,   -999.0,9,   -999.0,  -999.00,9,   0.00035,2,   -0.002,2,    0.042,2,    0.000,2,  100.038,2
  096U20180111,  SR03,    38,  1,     18,     18,2,20180125,0248,-57.8498, 139.8503, 3971,   1600.9,   1.9635,  34.7442,2,  34.7437,2,    193.6,2,    193.1,2,    84.60,2,    30.74,2,     0.00,2,     2.12,2,        0,2, -999.000,9, -999.000,9,     -999,9,   -999.0,9,   -999.0,9,-999.0000,9,  -999.00,  -999.00,9,   -999.0,9,   -999.0,  -999.00,9,   0.00037,2,   -0.001,2,    0.042,2,    0.000,2,  100.036,2
  096U20180111,  SR03,    38,  1,     17,     17,2,20180125,0248,-57.8498, 139.8503, 3971,   1801.1,   1.7818,  34.7457,2,  34.7464,2,    196.5,2,    196.3,2,    89.70,2,    30.74,2,     0.00,2,     2.13,2,        0,2, -999.000,9, -999.000,9,     -999,9,   -999.0,9,   -999.0,9,-999.0000,9,  -999.00,  -999.00,9,   -999.0,9,   -999.0,  -999.00,9,   0.00039,2,   -0.002,2,    0.042,2,    0.000,2,  100.042,2
  096U20180111,  SR03,    38,  1,     16,     16,2,20180125,0248,-57.8498, 139.8503, 3971,   2000.6,   1.5950,  34.7430,2,  34.7436,2,    199.2,2,    198.9,2,    95.40,2,    30.88,2,     0.01,2,     2.14,2,        0,2,    0.176,2,    0.090,2,     0.03,2,   2252.4,2,   2358.4,2,-999.0000,9,  -999.00,    18.44,2,   -999.0,9,   -999.0,  -999.00,9,   0.00035,2,   -0.002,2,    0.042,2,    0.000,2,  100.058,2
  096U20180111,  SR03,    38,  1,     15,     15,2,20180125,0248,-57.8498, 139.8503, 3971,   2201.5,   1.4212,  34.7367,2,  34.7368,2,    201.4,2,    201.3,2,   100.30,2,    31.09,2,     0.00,2,     2.16,2,        0,2, -999.000,9, -999.000,9,     -999,9,   -999.0,9,   -999.0,9,-999.0000,9,  -999.00,  -999.00,9,   -999.0,9,   -999.0,  -999.00,9,   0.00030,2,   -0.003,2,    0.042,2,    0.000,2,  100.082,2
  096U20180111,  SR03,    38,  1,     14,     14,2,20180125,0248,-57.8498, 139.8503, 3971,   2401.6,   1.2730,  34.7298,2,  34.7301,2,    202.8,2,    202.6,2,   105.00,2,    31.35,2,     0.00,2,     2.18,2,        0,2, -999.000,9, -999.000,9,     -999,9,   -999.0,9,   -999.0,9,-999.0000,9,  -999.00,  -999.00,9,   -999.0,9,   -999.0,  -999.00,9,   0.00030,2,   -0.004,2,    0.042,2,    0.000,2,  100.090,2
  096U20180111,  SR03,    38,  1,     13,     13,2,20180125,0248,-57.8498, 139.8503, 3971,   2602.0,   1.1128,  34.7219,2,  34.7223,2,    205.2,2,    204.6,2,   110.00,2,    31.67,2,     0.00,2,     2.20,2,        0,2,    0.227,2,    0.114,2,    -0.01,2,   2256.3,2,   2361.6,2,-999.0000,9,  -999.00,    18.22,2,   -999.0,9,   -999.0,  -999.00,9,   0.00029,2,   -0.002,2,    0.036,2,    0.000,2,  100.060,2
  096U20180111,  SR03,    38,  1,     12,     12,2,20180125,0248,-57.8498, 139.8503, 3971,   2800.4,   0.9493,  34.7132,2,  34.7131,2,    207.1,2,    206.8,2,   114.80,2,    31.95,2,     0.00,2,     2.22,2,        0,2, -999.000,9, -999.000,9,     -999,9,   -999.0,9,   -999.0,9,-999.0000,9,  -999.00,  -999.00,9,   -999.0,9,   -999.0,  -999.00,9,   0.00032,2,   -0.004,2,    0.042,2,    0.000,2,  100.089,2
  096U20180111,  SR03,    38,  1,     11,     11,2,20180125,0248,-57.8498, 139.8503, 3971,   3002.3,   0.7905,  34.7049,2,  34.7050,2,    210.0,2,    209.2,2,   119.20,2,    32.19,2,     0.01,2,     2.24,2,        0,2, -999.000,9, -999.000,9,     -999,9,   -999.0,9,   -999.0,9,-999.0000,9,  -999.00,  -999.00,9,   -999.0,9,   -999.0,  -999.00,9,   0.00029,2,   -0.004,2,    0.042,2,    0.000,2,  100.089,2
  096U20180111,  SR03,    38,  1,     10,     10,2,20180125,0248,-57.8498, 139.8503, 3971,   3201.9,   0.6574,  34.6982,2,  34.6978,2,    212.6,2,    212.1,2,   122.90,2,    32.38,2,     0.00,2,     2.26,2,        0,2,    0.400,2,    0.204,2,      0.1,2,   2261.7,2,   2363.1,2,-999.0000,9,  -999.00,    18.11,2,   -999.0,9,   -999.0,  -999.00,9,   0.00027,2,   -0.004,2,    0.042,2,    0.000,2,  100.095,2
  096U20180111,  SR03,    38,  1,      9,      9,2,20180125,0248,-57.8498, 139.8503, 3971,   3500.2,   0.4872,  34.6898,2,  34.6897,2,    216.7,2,    216.0,2,   128.20,2,    32.53,2,     0.00,2,     2.27,2,        0,2, -999.000,9, -999.000,9,     -999,9,   -999.0,9,   -999.0,9,-999.0000,9,  -999.00,  -999.00,9,   -999.0,9,   -999.0,  -999.00,9,   0.00027,2,   -0.004,2,    0.042,2,    0.000,2,  100.099,2
  096U20180111,  SR03,    38,  1,      8,      8,2,20180125,0248,-57.8498, 139.8503, 3971,   3799.7,   0.3630,  34.6836,2,-999.0000,9,    219.9,2,   -999.0,9,  -999.00,9,  -999.00,9,  -999.00,9,  -999.00,9,     -999,9, -999.000,9, -999.000,9,     -999,9,   -999.0,9,   -999.0,9,-999.0000,9,  -999.00,  -999.00,9,   -999.0,9,   -999.0,  -999.00,9,   0.00026,2,   -0.004,2,    0.042,2,    0.000,2,  100.097,2
  096U20180111,  SR03,    38,  1,      7,      7,2,20180125,0248,-57.8498, 139.8503, 3971,   3799.7,   0.3628,  34.6836,2,-999.0000,9,    219.9,2,   -999.0,9,  -999.00,9,  -999.00,9,  -999.00,9,  -999.00,9,     -999,9, -999.000,9, -999.000,9,     -999,9,   -999.0,9,   -999.0,9,-999.0000,9,  -999.00,  -999.00,9,   -999.0,9,   -999.0,  -999.00,9,   0.00038,2,   -0.004,2,    0.042,2,    0.000,2,  100.095,2
  096U20180111,  SR03,    38,  1,      6,      6,2,20180125,0248,-57.8498, 139.8503, 3971,   3799.7,   0.3627,  34.6836,2,-999.0000,9,    219.9,2,   -999.0,9,  -999.00,9,  -999.00,9,  -999.00,9,  -999.00,9,     -999,9, -999.000,9, -999.000,9,     -999,9,   -999.0,9,   -999.0,9,-999.0000,9,  -999.00,  -999.00,9,   -999.0,9,   -999.0,  -999.00,9,   0.00025,2,   -0.004,2,    0.042,2,    0.000,2,  100.099,2
  096U20180111,  SR03,    38,  1,      5,      5,2,20180125,0248,-57.8498, 139.8503, 3971,   3799.7,   0.3623,  34.6835,2,-999.0000,9,    219.9,2,   -999.0,9,  -999.00,9,  -999.00,9,  -999.00,9,  -999.00,9,     -999,9, -999.000,9, -999.000,9,     -999,9,   -999.0,9,   -999.0,9,-999.0000,9,  -999.00,  -999.00,9,   -999.0,9,   -999.0,  -999.00,9,   0.00025,2,   -0.003,2,    0.036,2,    0.000,2,  100.086,2
  096U20180111,  SR03,    38,  1,      4,      4,2,20180125,0248,-57.8498, 139.8503, 3971,   3799.6,   0.3617,  34.6836,2,  34.6835,2,    219.9,2,    219.2,2,   133.40,2,    32.66,2,     0.00,2,     2.28,2,        0,2,    0.681,2,    0.342,2,     0.08,2,   2262.6,2,   2364.0,2,-999.0000,9,  -999.00,    18.07,2,   -999.0,9,   -999.0,  -999.00,9,   0.00025,2,   -0.004,2,    0.042,2,    0.000,2,  100.097,2
  096U20180111,  SR03,    38,  1,      3,      3,2,20180125,0248,-57.8498, 139.8503, 3971,   3951.1,   0.3069,  34.6806,2,  34.6804,2,    220.9,2,    221.1,2,   136.70,2,    32.62,2,     0.01,2,     2.28,2,        0,2, -999.000,9, -999.000,9,     -999,9,   -999.0,9,   -999.0,9,-999.0000,9,  -999.00,  -999.00,9,   -999.0,9,   -999.0,  -999.00,9,   0.00025,2,   -0.003,2,    0.042,2,    0.000,2,  100.079,2
  096U20180111,  SR03,    38,  1,      2,      2,2,20180125,0248,-57.8498, 139.8503, 3971,   4000.5,   0.3022,  34.6800,2,  34.6801,2,    221.0,2,    220.8,2,   136.90,2,    32.61,2,     0.01,2,     2.28,2,        0,2,    0.782,2,    0.386,2,     0.15,3,   -999.0,9,   -999.0,9,-999.0000,9,  -999.00,    18.04,2,   -999.0,9,   -999.0,  -999.00,9,   0.00027,2,   -0.003,2,    0.036,2,    0.000,2,  100.079,2
  096U20180111,  SR03,    38,  1,      1,      1,2,20180125,0248,-57.8498, 139.8503, 3971,   4054.3,   0.2945,  34.6794,2,  34.6792,2,    221.5,2,    221.6,2,   136.70,2,    32.68,2,     0.00,2,     2.28,2,        0,2,    0.805,2,    0.400,2,     0.08,2,   -999.0,9,   -999.0,9,-999.0000,9,  -999.00,    18.12,2,   -999.0,9,   -999.0,  -999.00,9,   0.00026,2,   -0.003,2,    0.042,2,    0.000,2,  100.070,2