BOTTLE,20230418CCHSIOENA
EXPOCODE,SECT_ID,STNNBR,CASTNO,SAMPNO,BTLNBR,BTLNBR_FLAG_W,DATE,TIME,LATITUDE,LONGITUDE,DEPTH,CTDPRS,CTDTMP,CTDSAL,CTDSAL_FLAG_W,SALNTY,SALNTY_FLAG_W,CTDOXY,CTDOXY_FLAG_W,OXYGEN,OXYGEN_FLAG_W,SILCAT,SILCAT_FLAG_W,NITRAT,NITRAT_FLAG_W,NITRIT,NITRIT_FLAG_W,PHSPHT,PHSPHT_FLAG_W,NH4,NH4_FLAG_W,CFC-11,CFC-11_FLAG_W,CFC-12,CFC-12_FLAG_W,SF6,SF6_FLAG_W,TCARBN,TCARBN_FLAG_W,ALKALI,ALKALI_FLAG_W,PH_TOT,PH_TOT_FLAG_W,PH_TMP,N2O,N2O_FLAG_W,DELC14,DELC14_FLAG_W,C14ERR,DELC13,DELC13_FLAG_W,CTDBETA700,CTDBETA700_FLAG_W,CTDBEAMCP,CTDBEAMCP_FLAG_W,CTDFLUOR,CTDFLUOR_FLAG_W,PAR,PAR_FLAG_W,CTDXMISS,CTDXMISS_FLAG_W
,,,,,,,,,,,METERS,DBAR,ITS-90,PSS-78,,PSS-78,,UMOL/KG,,UMOL/KG,,UMOL/KG,,UMOL/KG,,UMOL/KG,,UMOL/KG,,UMOL/KG,,PMOL/KG,,PMOL/KG,,FMOL/KG,,UMOL/KG,,UMOL/KG,,,,DEG C,NMOL/KG,,/MILLE,,/MILLE,/MILLE,,VOLTS,,1/M,,MG/M^3,,UMOL/M^2/SEC,,%TRANS,
  096U20180111,  SR03,    19,  1,     36,     36,2,20180118,1345,-50.4008, 143.5282, 3542,     11.4,   9.0934,  34.2363,2,-999.0000,9,    285.8,2,   -999.0,9,  -999.00,9,  -999.00,9,  -999.00,9,  -999.00,9,     -999,9, -999.000,9, -999.000,9,     -999,9,   -999.0,9,   -999.0,9,-999.0000,9,  -999.00,  -999.00,9,   -999.0,9,   -999.0,  -999.00,9,   0.00267,2,    0.212,2,    2.592,2,    0.852,2,   94.841,2
  096U20180111,  SR03,    19,  1,     35,     35,2,20180118,1345,-50.4008, 143.5282, 3542,     11.0,   9.0957,  34.2363,2,  34.2355,2,    285.8,2,    286.4,2,     1.40,2,    14.56,2,     0.21,2,     1.03,2,     0.11,2,    3.427,2,    1.977,2,     2.45,2,   2103.4,2,   2284.5,2,-999.0000,9,  -999.00,    10.60,2,   -999.0,9,   -999.0,  -999.00,9,   0.00266,2,    0.213,2,    2.628,2,    0.846,2,   94.812,2
  096U20180111,  SR03,    19,  1,     34,     34,2,20180118,1345,-50.4008, 143.5282, 3542,     25.0,   9.1008,  34.2361,2,  34.2320,2,    287.0,2,    286.4,2,     1.40,2,    14.57,2,     0.21,2,     1.03,2,     0.12,2, -999.000,9, -999.000,9,     -999,9,   2103.3,6,   2283.8,6,-999.0000,9,  -999.00,  -999.00,9,   -999.0,9,   -999.0,  -999.00,9,   0.00255,2,    0.223,2,    2.586,2,    0.050,2,   94.578,2
  096U20180111,  SR03,    19,  1,     33,     33,2,20180118,1345,-50.4008, 143.5282, 3542,     51.2,   9.0998,  34.2361,2,  34.2313,2,    284.3,2,    286.1,2,     1.40,2,    14.60,2,     0.21,2,     1.03,2,     0.15,2,    3.407,2,    1.970,2,     2.27,2,   2104.0,2,   2284.6,2,-999.0000,9,  -999.00,    10.46,2,   -999.0,9,   -999.0,  -999.00,9,   0.00270,2,    0.219,2,    2.634,2,    0.000,2,   94.683,2
  096U20180111,  SR03,    19,  1,     32,     32,2,20180118,1345,-50.4008, 143.5282, 3542,     76.3,   9.1556,  34.2939,2,  34.2933,2,    282.5,2,    283.4,2,     1.40,2,    14.21,2,     0.21,2,     1.03,2,     0.33,2, -999.000,9, -999.000,9,     -999,9,   2106.3,2,   2288.1,2,-999.0000,9,  -999.00,  -999.00,9,   -999.0,9,   -999.0,  -999.00,9,   0.00225,2,    0.160,2,    1.866,2,    0.000,2,   96.079,2
  096U20180111,  SR03,    19,  1,     31,     31,2,20180118,1345,-50.4008, 143.5282, 3542,     99.5,   9.2321,  34.4001,2,  34.4011,2,    275.9,2,    276.4,2,     2.30,2,    13.84,2,     0.21,2,     1.03,2,     0.47,2,    3.340,2,    1.928,2,     2.49,2,   2111.3,2,   2289.6,2,-999.0000,9,  -999.00,    10.60,2,   -999.0,9,   -999.0,  -999.00,9,   0.00222,2,    0.120,2,    1.314,2,    0.000,2,   97.044,2
  096U20180111,  SR03,    19,  1,     30,     30,2,20180118,1345,-50.4008, 143.5282, 3542,    150.2,   8.1539,  34.3892,2,  34.3963,2,    274.8,2,    273.3,2,     4.00,2,    17.05,2,     0.04,2,     1.21,2,        0,2,    3.477,2,    2.014,2,     2.57,2,   2127.5,2,   2287.4,2,-999.0000,9,  -999.00,    11.35,2,   -999.0,9,   -999.0,  -999.00,9,   0.00080,2,    0.033,2,    0.168,2,    0.000,2,   99.174,2
  096U20180111,  SR03,    19,  1,     29,     29,2,20180118,1345,-50.4008, 143.5282, 3542,    220.6,   7.8050,  34.3712,2,  34.3650,4,    271.9,2,    272.2,2,     4.60,2,    18.05,2,     0.02,2,     1.27,2,        0,2,    3.562,2,    2.034,2,     2.41,2,   -999.0,9,   -999.0,9,-999.0000,9,  -999.00,    11.60,2,   -999.0,9,   -999.0,  -999.00,9,   0.00068,2,    0.015,2,    0.048,2,    0.000,2,   99.635,2
  096U20180111,  SR03,    19,  1,     28,     28,2,20180118,1345,-50.4008, 143.5282, 3542,    270.7,   8.4008,  34.5106,2,  34.5079,2,    267.6,2,    269.1,2,     4.10,2,    16.32,2,     0.01,2,     1.16,2,        0,2,    3.404,2,    1.965,2,     2.09,2,   2129.6,2,   2291.3,6,-999.0000,9,  -999.00,    11.25,2,   -999.0,9,   -999.0,  -999.00,9,   0.00053,2,    0.012,2,    0.042,2,    0.000,2,   99.701,2
  096U20180111,  SR03,    19,  1,     27,     27,2,20180118,1345,-50.4008, 143.5282, 3542,    321.2,   8.3880,  34.5234,2,  34.5253,2,    268.7,2,    269.4,2,     4.20,2,    16.33,2,     0.01,2,     1.16,2,    -0.01,2,    3.415,2,    1.962,2,     2.32,2,   -999.0,9,   -999.0,9,-999.0000,9,  -999.00,    11.43,2,   -999.0,9,   -999.0,  -999.00,9,   0.00055,2,    0.009,2,    0.024,2,    0.000,2,   99.774,2
  096U20180111,  SR03,    19,  1,     26,     26,2,20180118,1345,-50.4008, 143.5282, 3542,    421.3,   7.4770,  34.3969,2,  34.3961,2,    264.9,2,    253.4,2,     6.90,2,    20.27,2,     0.01,2,     1.40,2,    -0.01,2,    3.412,2,    1.950,2,     2.16,2,   2144.9,2,   2287.8,2,-999.0000,9,  -999.00,    13.02,2,   -999.0,9,   -999.0,  -999.00,9,   0.00043,2,    0.006,2,    0.018,2,    0.000,2,   99.856,2
  096U20180111,  SR03,    19,  1,     25,     25,2,20180118,1345,-50.4008, 143.5282, 3542,    521.9,   6.6111,  34.3176,2,  34.3162,2,    245.6,2,    246.2,2,    10.20,2,    23.13,2,     0.01,2,     1.58,2,        0,2,    3.402,2,    1.899,2,     1.89,2,   2154.1,2,   2286.8,2,-999.0000,9,  -999.00,    14.36,2,   -999.0,9,   -999.0,  -999.00,9,   0.00043,2,    0.006,2,    0.024,2,    0.000,2,   99.858,2
  096U20180111,  SR03,    19,  1,     24,     24,2,20180118,1345,-50.4008, 143.5282, 3542,    621.1,   6.2757,  34.3432,2,  34.3315,2,    227.7,2,    220.2,4,    18.60,2,    27.08,2,     0.01,2,     1.84,2,    -0.01,2,    2.996,2,    1.645,2,     1.24,2,   2178.1,2,   2290.4,2,-999.0000,9,  -999.00,    17.25,2,   -999.0,9,   -999.0,  -999.00,9,   0.00044,2,    0.006,2,    0.030,2,    0.000,2,   99.862,2
  096U20180111,  SR03,    19,  1,     23,     23,2,20180118,1345,-50.4008, 143.5282, 3542,    720.9,   5.4756,  34.3160,2,  34.3156,2,    217.9,2,    219.7,2,    19.60,2,    27.70,2,     0.01,2,     1.88,2,    -0.01,2,    3.062,6,    1.659,6,     1.23,6,   2179.6,2,   2290.4,2,-999.0000,9,  -999.00,    17.34,6,   -999.0,9,   -999.0,  -999.00,9,   0.00047,2,    0.005,2,    0.030,2,    0.000,2,   99.877,2
  096U20180111,  SR03,    19,  1,     22,     22,2,20180118,1345,-50.4008, 143.5282, 3542,    821.2,   4.7198,  34.2926,2,  34.2919,2,    217.1,2,    218.6,2,    24.80,2,    29.42,2,     0.00,2,     1.99,2,    -0.01,2,    2.909,2,    1.560,2,     1.29,2,   2188.5,2,   2292.9,2,-999.0000,9,  -999.00,    18.49,2,   -999.0,9,   -999.0,  -999.00,9,   0.00042,2,    0.004,2,    0.030,2,    0.000,2,   99.907,2
  096U20180111,  SR03,    19,  1,     21,     21,2,20180118,1345,-50.4008, 143.5282, 3542,    900.9,   4.2939,  34.3076,2,  34.3077,2,    210.1,2,    210.7,2,    30.90,2,    30.73,2,     0.01,2,     2.09,2,    -0.01,2,    2.513,2,    1.345,2,     0.76,2,   2198.2,2,   2299.0,2,-999.0000,9,  -999.00,    19.30,2,   -999.0,9,   -999.0,  -999.00,9,   0.00042,2,    0.003,2,    0.036,2,    0.000,2,   99.917,2
  096U20180111,  SR03,    19,  1,     20,     20,2,20180118,1345,-50.4008, 143.5282, 3542,   1001.9,   3.7243,  34.3246,2,-999.0000,9,    202.5,2,   -999.0,9,  -999.00,9,  -999.00,9,  -999.00,9,  -999.00,9,     -999,9, -999.000,9, -999.000,9,     -999,9,   -999.0,9,   -999.0,9,-999.0000,9,  -999.00,  -999.00,9,   -999.0,9,   -999.0,  -999.00,9,   0.00042,2,    0.003,2,    0.036,2,    0.000,2,   99.934,2
  096U20180111,  SR03,    19,  1,     19,     19,2,20180118,1345,-50.4008, 143.5282, 3542,   1100.6,   3.5195,  34.3816,2,-999.0000,9,    189.1,2,   -999.0,9,  -999.00,9,  -999.00,9,  -999.00,9,  -999.00,9,     -999,9, -999.000,9, -999.000,9,     -999,9,   -999.0,9,   -999.0,9,-999.0000,9,  -999.00,  -999.00,9,   -999.0,9,   -999.0,  -999.00,9,   0.00039,2,    0.002,2,    0.036,2,    0.000,2,   99.951,2
  096U20180111,  SR03,    19,  1,     18,     18,2,20180118,1345,-50.4008, 143.5282, 3542,   1100.6,   3.5168,  34.3819,2,  34.3829,2,    189.1,2,    190.0,2,    47.60,2,    33.03,2,     0.01,2,     2.27,2,    -0.01,2,    1.606,2,    0.826,2,      0.4,2,   2224.5,6,   2314.6,6,-999.0000,9,  -999.00,    21.52,2,   -999.0,9,   -999.0,  -999.00,9,   0.00039,2,    0.002,2,    0.036,2,    0.000,2,   99.956,2
  096U20180111,  SR03,    19,  1,     17,     17,2,20180118,1345,-50.4008, 143.5282, 3542,   1201.5,   3.2137,  34.4243,2,  34.4230,2,    183.9,2,    182.9,2,    54.70,2,    33.81,2,     0.00,2,     2.31,2,    -0.01,2,    1.304,2,    0.666,2,     0.28,2,   2234.1,2,   2321.1,2,-999.0000,9,  -999.00,    22.35,2,   -999.0,9,   -999.0,  -999.00,9,   0.00040,2,    0.002,2,    0.036,2,    0.000,2,   99.950,2
  096U20180111,  SR03,    19,  1,     16,     16,2,20180118,1345,-50.4008, 143.5282, 3542,   1300.9,   3.1656,  34.4832,2,  34.4798,2,    174.0,2,    172.2,2,    63.70,2,    34.06,2,     0.00,2,     2.34,2,    -0.01,2,    0.800,2,    0.403,2,     0.19,2,   2247.3,2,   2333.2,2,-999.0000,9,  -999.00,    22.66,2,   -999.0,9,   -999.0,  -999.00,9,   0.00038,2,    0.002,2,    0.036,2,    0.000,2,   99.960,2
  096U20180111,  SR03,    19,  1,     15,     15,2,20180118,1345,-50.4008, 143.5282, 3542,   1401.1,   2.8991,  34.5119,2,  34.5102,2,    173.0,2,    172.6,2,    65.60,2,    34.19,2,     0.00,2,     2.35,2,    -0.01,2, -999.000,9, -999.000,9,     -999,9,   -999.0,9,   -999.0,9,-999.0000,9,  -999.00,  -999.00,9,   -999.0,9,   -999.0,  -999.00,9,   0.00038,2,    0.001,2,    0.036,2,    0.000,2,   99.969,2
  096U20180111,  SR03,    19,  1,     14,     14,2,20180118,1345,-50.4008, 143.5282, 3542,   1501.3,   2.7782,  34.5536,2,  34.5518,2,    169.5,2,    169.8,2,    70.20,2,    34.07,2,     0.00,2,     2.34,2,    -0.01,2,    0.537,2,    0.266,2,        0,2,   2254.5,2,   2339.2,2,-999.0000,9,  -999.00,    22.64,2,   -999.0,9,   -999.0,  -999.00,9,   0.00039,2,    0.001,2,    0.036,2,    0.000,2,   99.976,2
  096U20180111,  SR03,    19,  1,     13,     13,2,20180118,1345,-50.4008, 143.5282, 3542,   1601.4,   2.6527,  34.5916,2,  34.5905,2,    172.0,2,    171.9,2,    71.20,2,    33.63,2,     0.00,2,     2.31,2,    -0.01,2, -999.000,9, -999.000,9,     -999,9,   -999.0,9,   -999.0,9,-999.0000,9,  -999.00,  -999.00,9,   -999.0,9,   -999.0,  -999.00,9,   0.00037,2,    0.001,2,    0.036,2,    0.000,2,   99.983,2
  096U20180111,  SR03,    19,  1,     12,     12,2,20180118,1345,-50.4008, 143.5282, 3542,   1701.5,   2.5767,  34.6261,2,-999.0000,9,    173.5,2,   -999.0,9,  -999.00,9,  -999.00,9,  -999.00,9,  -999.00,9,     -999,9, -999.000,9, -999.000,9,     -999,9,   -999.0,9,   -999.0,9,-999.0000,9,  -999.00,  -999.00,9,   -999.0,9,   -999.0,  -999.00,9,   0.00036,2,    0.001,2,    0.042,2,    0.000,2,   99.979,2
  096U20180111,  SR03,    19,  1,     11,     11,2,20180118,1345,-50.4008, 143.5282, 3542,   1701.3,   2.5764,  34.6263,2,  34.6252,2,    173.5,2,    173.6,2,    73.00,2,    33.19,2,     0.00,2,     2.28,2,    -0.01,2,    0.381,2,    0.189,2,     0.03,2,   2252.9,2,   2341.4,2,-999.0000,9,  -999.00,    21.88,2,   -999.0,9,   -999.0,  -999.00,9,   0.00035,2,    0.001,2,    0.042,2,    0.000,2,   99.983,2
  096U20180111,  SR03,    19,  1,     10,     10,2,20180118,1345,-50.4008, 143.5282, 3542,   1902.2,   2.4347,  34.6846,2,  34.6840,2,    178.8,2,    180.0,2,    75.80,2,    32.02,2,     0.01,2,     2.20,2,    -0.01,2, -999.000,9, -999.000,9,     -999,9,   -999.0,9,   -999.0,9,-999.0000,9,  -999.00,  -999.00,9,   -999.0,9,   -999.0,  -999.00,9,   0.00037,2,    0.000,2,    0.042,2,    0.000,2,   99.992,2
  096U20180111,  SR03,    19,  1,      9,      9,2,20180118,1345,-50.4008, 143.5282, 3542,   2101.4,   2.2878,  34.7194,2,  34.7189,2,    185.5,2,    186.0,2,    78.50,2,    31.16,2,     0.01,2,     2.14,2,    -0.01,2,    0.215,2,    0.103,2,     0.01,2,   2248.3,2,   2348.6,2,-999.0000,9,  -999.00,    20.03,2,   -999.0,9,   -999.0,  -999.00,9,   0.00035,2,    0.000,2,    0.036,2,    0.000,2,  100.005,2
  096U20180111,  SR03,    19,  1,      8,      8,2,20180118,1345,-50.4008, 143.5282, 3542,   2300.8,   2.1167,  34.7392,2,  34.7390,2,    190.9,2,    191.3,2,    82.50,2,    30.69,2,     0.00,2,     2.11,2,    -0.01,2, -999.000,9, -999.000,9,     -999,9,   -999.0,9,   -999.0,9,-999.0000,9,  -999.00,  -999.00,9,   -999.0,9,   -999.0,  -999.00,9,   0.00032,2,   -0.001,2,    0.036,2,    0.000,2,  100.016,2
  096U20180111,  SR03,    19,  1,      7,      7,2,20180118,1345,-50.4008, 143.5282, 3542,   2501.6,   1.9449,  34.7455,2,  34.7440,2,    195.1,2,    195.4,2,    86.80,2,    30.54,2,     0.00,2,     2.09,2,    -0.01,2,    0.175,2,    0.082,2,     0.09,2,   2250.5,2,   2354.8,2,-999.0000,9,  -999.00,    18.59,2,   -999.0,9,   -999.0,  -999.00,9,   0.00032,2,   -0.001,2,    0.042,2,    0.000,2,  100.021,2
  096U20180111,  SR03,    19,  1,      6,      6,2,20180118,1345,-50.4008, 143.5282, 3542,   2701.8,   1.7525,  34.7433,2,  34.7393,2,    197.3,2,    197.1,2,    93.60,2,    30.83,2,     0.00,2,     2.11,2,    -0.01,2, -999.000,9, -999.000,9,     -999,9,   -999.0,9,   -999.0,9,-999.0000,9,  -999.00,  -999.00,9,   -999.0,9,   -999.0,  -999.00,9,   0.00032,2,   -0.001,2,    0.036,2,    0.000,2,  100.036,2
  096U20180111,  SR03,    19,  1,      5,      5,2,20180118,1345,-50.4008, 143.5282, 3542,   2902.4,   1.5606,  34.7375,2,  34.7371,2,    199.9,2,    199.9,2,    99.10,2,    30.98,2,     0.00,2,     2.13,2,    -0.01,2,    0.161,2,    0.077,2,     0.02,2,   2254.3,2,   2361.0,2,-999.0000,9,  -999.00,    18.94,2,   -999.0,9,   -999.0,  -999.00,9,   0.00030,2,   -0.002,2,    0.036,2,    0.000,2,  100.041,2
  096U20180111,  SR03,    19,  1,      4,      4,2,20180118,1345,-50.4008, 143.5282, 3542,   3100.8,   1.2871,  34.7263,2,  34.7257,2,    201.6,2,    201.9,2,   108.50,2,    31.52,2,     0.00,2,     2.17,2,    -0.01,2, -999.000,9, -999.000,9,     -999,9,   -999.0,9,   -999.0,9,-999.0000,9,  -999.00,  -999.00,9,   -999.0,9,   -999.0,  -999.00,9,   0.00030,2,   -0.001,2,    0.036,2,    0.000,2,  100.034,2
  096U20180111,  SR03,    19,  1,      3,      3,2,20180118,1345,-50.4008, 143.5282, 3542,   3301.0,   1.1436,  34.7194,2,  34.7190,2,    203.8,2,    203.7,2,   113.30,2,    31.74,2,     0.00,2,     2.19,2,    -0.01,2,    0.183,2,    0.086,2,        0,2,   2263.8,6,   2367.8,6,-999.0000,9,  -999.00,    18.65,2,   -999.0,9,   -999.0,  -999.00,9,   0.00034,2,   -0.001,2,    0.036,2,    0.000,2,  100.013,2
  096U20180111,  SR03,    19,  1,      2,      2,2,20180118,1345,-50.4008, 143.5282, 3542,   3481.2,   1.0921,  34.7165,2,  34.7154,2,    205.0,2,    204.8,2,   115.40,2,    31.87,2,     0.00,2,     2.20,2,    -0.01,2,    0.201,2,    0.097,2,     0.18,2,   -999.0,9,   -999.0,9,-999.0000,9,  -999.00,    18.30,2,   -999.0,9,   -999.0,  -999.00,9,   0.00034,2,    0.001,2,    0.036,2,    0.000,2,   99.982,2
  096U20180111,  SR03,    19,  1,      1,      1,2,20180118,1345,-50.4008, 143.5282, 3542,   3558.0,   1.0971,  34.7161,2,  34.7156,2,    205.4,2,    204.8,2,   115.30,2,    31.87,2,     0.00,2,     2.20,2,    -0.01,2,    0.202,2,    0.094,2,     0.15,2,   2263.4,2,   2366.7,2,-999.0000,9,  -999.00,    18.45,2,   -999.0,9,   -999.0,  -999.00,9,   0.00033,2,    0.001,2,    0.042,2,    0.000,2,   99.969,2