BOTTLE,20230418CCHSIOENA
EXPOCODE,SECT_ID,STNNBR,CASTNO,SAMPNO,BTLNBR,BTLNBR_FLAG_W,DATE,TIME,LATITUDE,LONGITUDE,DEPTH,CTDPRS,CTDTMP,CTDSAL,CTDSAL_FLAG_W,SALNTY,SALNTY_FLAG_W,CTDOXY,CTDOXY_FLAG_W,OXYGEN,OXYGEN_FLAG_W,SILCAT,SILCAT_FLAG_W,NITRAT,NITRAT_FLAG_W,NITRIT,NITRIT_FLAG_W,PHSPHT,PHSPHT_FLAG_W,NH4,NH4_FLAG_W,CFC-11,CFC-11_FLAG_W,CFC-12,CFC-12_FLAG_W,SF6,SF6_FLAG_W,TCARBN,TCARBN_FLAG_W,ALKALI,ALKALI_FLAG_W,PH_TOT,PH_TOT_FLAG_W,PH_TMP,N2O,N2O_FLAG_W,DELC14,DELC14_FLAG_W,C14ERR,DELC13,DELC13_FLAG_W,CTDBETA700,CTDBETA700_FLAG_W,CTDBEAMCP,CTDBEAMCP_FLAG_W,CTDFLUOR,CTDFLUOR_FLAG_W,PAR,PAR_FLAG_W,CTDXMISS,CTDXMISS_FLAG_W
,,,,,,,,,,,METERS,DBAR,ITS-90,PSS-78,,PSS-78,,UMOL/KG,,UMOL/KG,,UMOL/KG,,UMOL/KG,,UMOL/KG,,UMOL/KG,,UMOL/KG,,PMOL/KG,,PMOL/KG,,FMOL/KG,,UMOL/KG,,UMOL/KG,,,,DEG C,NMOL/KG,,/MILLE,,/MILLE,/MILLE,,VOLTS,,1/M,,MG/M^3,,UMOL/M^2/SEC,,%TRANS,
  096U20180111,  SR03,    68,  1,     36,     36,2,20180203,1220,-65.3998, 150.0008, 2853,      8.2,  -0.2742,  33.8159,2,-999.0000,9,    343.7,2,   -999.0,9,  -999.00,9,  -999.00,9,  -999.00,9,  -999.00,9,     -999,9, -999.000,9, -999.000,9,     -999,9,   -999.0,9,   -999.0,9,-999.0000,9,  -999.00,  -999.00,9,   -999.0,9,   -999.0,  -999.00,9,   0.00137,2,    0.173,2,    0.804,2,    1.370,2,   95.776,2
  096U20180111,  SR03,    68,  1,     35,     35,2,20180203,1220,-65.3998, 150.0008, 2853,      8.2,  -0.2734,  33.8162,2,-999.0000,9,    343.7,2,   -999.0,9,  -999.00,9,  -999.00,9,  -999.00,9,  -999.00,9,     -999,9, -999.000,9, -999.000,9,     -999,9,   -999.0,9,   -999.0,9,-999.0000,9,  -999.00,  -999.00,9,   -999.0,9,   -999.0,  -999.00,9,   0.00133,2,    0.175,2,    0.822,2,    1.330,2,   95.728,2
  096U20180111,  SR03,    68,  1,     34,     34,2,20180203,1220,-65.3998, 150.0008, 2853,      8.2,  -0.2733,  33.8161,2,  33.8160,2,    343.7,2,    346.0,2,    57.30,2,    26.34,2,     0.16,2,     1.79,2,     0.84,2,    5.625,2,    3.071,2,      3.9,2,   2169.6,6,   2291.6,6,   7.6703,   6,    25.00,    15.29,2,   -999.0,9,   -999.0,  -999.00,9,   0.00125,2,    0.175,2,    0.804,2,    1.400,2,   95.712,2
  096U20180111,  SR03,    68,  1,     33,     33,2,20180203,1220,-65.3998, 150.0008, 2853,     21.6,  -0.2739,  33.8170,2,-999.0000,9,    348.2,2,   -999.0,9,  -999.00,9,  -999.00,9,  -999.00,9,  -999.00,9,     -999,9, -999.000,9, -999.000,9,     -999,9,   -999.0,9,   -999.0,9,-999.0000,9,  -999.00,  -999.00,9,   -999.0,9,   -999.0,  -999.00,9,   0.00133,2,    0.173,2,    0.846,2,    0.214,2,   95.771,2
  096U20180111,  SR03,    68,  1,     32,     32,2,20180203,1220,-65.3998, 150.0008, 2853,     21.7,  -0.2746,  33.8171,2,  33.8217,2,    348.2,2,    345.1,2,    57.40,2,    26.35,2,     0.16,2,     1.80,2,     0.84,2, -999.000,9, -999.000,9,     -999,9,   -999.0,9,   -999.0,9,-999.0000,9,  -999.00,  -999.00,9,   -999.0,9,   -999.0,  -999.00,9,   0.00131,2,    0.175,2,    0.816,2,    0.215,2,   95.722,2
  096U20180111,  SR03,    68,  1,     31,     31,2,20180203,1220,-65.3998, 150.0008, 2853,     61.5,  -1.5730,  34.3103,2,-999.0000,9,    308.6,2,   -999.0,9,  -999.00,9,  -999.00,9,  -999.00,9,  -999.00,9,     -999,9, -999.000,9, -999.000,9,     -999,9,   -999.0,9,   -999.0,9,-999.0000,9,  -999.00,  -999.00,9,   -999.0,9,   -999.0,  -999.00,9,   0.00105,2,    0.093,2,    1.110,2,    0.000,2,   97.692,2
  096U20180111,  SR03,    68,  1,     30,     30,2,20180203,1220,-65.3998, 150.0008, 2853,     61.4,  -1.5799,  34.3149,2,  34.3281,2,    308.6,2,    304.9,2,    70.00,2,    30.22,2,     0.11,2,     2.11,2,     0.26,2,    4.453,2,    2.463,2,     2.97,2,   2219.3,2,   2322.9,2,   7.4688,   3,    25.00,    17.55,2,   -999.0,9,   -999.0,  -999.00,9,   0.00103,2,    0.093,2,    0.990,2,    0.000,2,   97.713,2
  096U20180111,  SR03,    68,  1,     29,     29,2,20180203,1220,-65.3998, 150.0008, 2853,    101.0,  -1.7835,  34.3792,2,  34.3791,2,    300.5,2,    302.6,2,    75.90,2,    30.51,2,     0.06,2,     2.10,2,     0.01,2,    4.433,2,    2.409,2,     2.96,2,   2227.1,2,   2328.2,2,   7.6046,   2,    25.00,    17.14,2,   -999.0,9,   -999.0,  -999.00,9,   0.00044,2,    0.016,2,    0.324,2,    0.000,2,   99.588,2
  096U20180111,  SR03,    68,  1,     28,     28,2,20180203,1220,-65.3998, 150.0008, 2853,    141.7,  -1.8162,  34.3920,2,-999.0000,9,    303.3,2,   -999.0,9,  -999.00,9,  -999.00,9,  -999.00,9,  -999.00,9,     -999,9, -999.000,9, -999.000,9,     -999,9,   -999.0,9,   -999.0,9,-999.0000,9,  -999.00,  -999.00,9,   -999.0,9,   -999.0,  -999.00,9,   0.00041,2,    0.004,2,    0.132,2,    0.000,2,   99.902,2
  096U20180111,  SR03,    68,  1,     27,     27,2,20180203,1220,-65.3998, 150.0008, 2853,    141.5,  -1.8149,  34.3923,2,  34.3918,2,    303.3,2,    305.1,2,    76.70,2,    30.53,2,     0.02,2,     2.10,2,        0,2,    4.533,2,    2.498,2,      3.1,2,   2226.8,2,   2329.1,2,   7.6050,   2,    25.00,    16.96,2,   -999.0,9,   -999.0,  -999.00,9,   0.00034,2,    0.004,2,    0.120,2,    0.000,2,   99.899,2
  096U20180111,  SR03,    68,  1,     26,     26,2,20180203,1220,-65.3998, 150.0008, 2853,    220.4,  -1.2934,  34.4522,2,  34.4487,2,    290.4,2,    284.1,2,    79.70,2,    30.96,2,     0.00,2,     2.13,2,        0,2, -999.000,9, -999.000,9,     -999,9,   -999.0,9,   -999.0,9,-999.0000,9,  -999.00,  -999.00,9,   -999.0,9,   -999.0,  -999.00,9,   0.00031,2,   -0.001,2,    0.036,2,    0.000,2,  100.020,2
  096U20180111,  SR03,    68,  1,     25,     25,2,20180203,1220,-65.3998, 150.0008, 2853,    300.8,   0.3082,  34.5900,2,  34.5871,2,    234.4,2,    227.6,2,    84.90,2,    31.78,2,     0.00,2,     2.20,2,        0,2,    1.968,2,    1.077,2,     1.19,2,   2247.2,2,   2339.0,2,   7.5822,   2,    25.00,    19.82,2,   -999.0,9,   -999.0,  -999.00,9,   0.00037,2,    0.002,2,    0.024,2,    0.000,2,   99.950,2
  096U20180111,  SR03,    68,  1,     24,     24,2,20180203,1220,-65.3998, 150.0008, 2853,    401.8,   0.4793,  34.6361,2,  34.6366,2,    217.3,2,    216.0,2,    92.80,2,    31.94,2,     0.00,2,     2.21,2,        0,2,    1.417,2,    0.767,2,     0.93,2,   2251.1,2,   2346.7,2,   7.5822,   2,    25.00,    19.39,2,   -999.0,9,   -999.0,  -999.00,9,   0.00033,2,    0.001,2,    0.030,2,    0.000,2,   99.983,2
  096U20180111,  SR03,    68,  1,     23,     23,2,20180203,1220,-65.3998, 150.0008, 2853,    501.3,   0.8702,  34.6871,2,  34.6864,2,    204.0,2,    203.9,2,    99.20,2,    32.01,2,     0.00,2,     2.23,2,    -0.01,2,    0.782,6,    0.427,6,     0.42,6,   2257.4,2,   2351.4,6,   7.5843,   2,    25.00,    19.32,6,   -999.0,9,   -999.0,  -999.00,9,   0.00030,2,   -0.001,2,    0.024,2,    0.000,2,  100.032,2
  096U20180111,  SR03,    68,  1,     22,     22,2,20180203,1220,-65.3998, 150.0008, 2853,    580.1,   0.8605,  34.6943,2,  34.6935,2,    201.7,2,    202.2,2,   103.30,2,    32.14,2,     0.00,2,     2.23,2,    -0.01,2,    0.648,2,    0.350,2,     0.35,2,   2257.2,2,   2353.2,2,-999.0000,9,  -999.00,    19.26,2,   -999.0,9,   -999.0,  -999.00,9,   0.00029,2,   -0.002,2,    0.030,2,    0.000,2,  100.043,2
  096U20180111,  SR03,    68,  1,     21,     21,2,20180203,1220,-65.3998, 150.0008, 2853,    661.6,   0.8434,  34.6968,2,-999.0000,9,    201.8,2,   -999.0,9,  -999.00,9,  -999.00,9,  -999.00,9,  -999.00,9,     -999,9, -999.000,9, -999.000,9,     -999,9,   -999.0,9,   -999.0,9,-999.0000,9,  -999.00,  -999.00,9,   -999.0,9,   -999.0,  -999.00,9,   0.00029,2,   -0.002,2,    0.024,2,    0.000,2,  100.049,2
  096U20180111,  SR03,    68,  1,     20,     20,2,20180203,1220,-65.3998, 150.0008, 2853,    661.6,   0.8434,  34.6966,2,  34.6961,2,    201.8,2,    202.4,2,   105.50,2,    32.22,2,     0.00,2,     2.23,2,    -0.01,2,    0.595,2,    0.321,2,     0.39,2,   2259.9,2,   2353.4,2,   7.5886,   2,    25.00,    19.45,2,   -999.0,9,   -999.0,  -999.00,9,   0.00030,2,   -0.002,2,    0.030,2,    0.000,2,  100.045,2
  096U20180111,  SR03,    68,  1,     19,     19,2,20180203,1220,-65.3998, 150.0008, 2853,    782.5,   0.7853,  34.6989,2,  34.6985,2,    203.1,2,    204.5,2,   108.90,2,    32.18,2,     0.00,2,     2.23,2,    -0.01,2, -999.000,9, -999.000,9,     -999,9,   2260.5,2,   2355.6,2,   7.5900,   6,    25.00,  -999.00,9,   -999.0,9,   -999.0,  -999.00,9,   0.00028,2,   -0.002,2,    0.024,2,    0.000,2,  100.050,2
  096U20180111,  SR03,    68,  1,     18,     18,2,20180203,1220,-65.3998, 150.0008, 2853,    902.3,   0.7325,  34.7000,2,-999.0000,9,    205.4,2,   -999.0,9,  -999.00,9,  -999.00,9,  -999.00,9,  -999.00,9,     -999,9, -999.000,9, -999.000,9,     -999,9,   -999.0,9,   -999.0,9,-999.0000,9,  -999.00,  -999.00,9,   -999.0,9,   -999.0,  -999.00,9,   0.00029,2,   -0.003,2,    0.024,2,    0.000,2,  100.078,2
  096U20180111,  SR03,    68,  1,     17,     17,2,20180203,1220,-65.3998, 150.0008, 2853,    902.2,   0.7326,  34.7000,2,  34.6992,2,    205.4,2,    206.6,2,   111.40,2,    32.10,2,     0.00,2,     2.23,2,    -0.01,2,    0.491,2,    0.258,2,      0.1,2,   2259.8,2,   2356.0,2,-999.0000,9,  -999.00,    18.86,2,   -999.0,9,   -999.0,  -999.00,9,   0.00028,2,   -0.003,2,    0.030,2,    0.000,2,  100.068,2
  096U20180111,  SR03,    68,  1,     16,     16,2,20180203,1220,-65.3998, 150.0008, 2853,   1002.1,   0.6444,  34.6964,2,  34.6954,2,    207.2,2,    207.9,2,   113.80,2,    32.24,2,     0.00,2,     2.24,2,    -0.01,2,    0.504,2,    0.272,2,     0.15,2,   2259.5,2,   2357.8,2,   7.5913,   2,    25.00,    18.65,2,   -999.0,9,   -999.0,  -999.00,9,   0.00027,2,   -0.003,2,    0.024,2,    0.000,2,  100.071,2
  096U20180111,  SR03,    68,  1,     15,     15,2,20180203,1220,-65.3998, 150.0008, 2853,   1202.6,   0.5184,  34.6917,2,  34.6913,2,    210.4,2,    210.9,2,   116.50,2,    32.33,2,     0.00,2,     2.25,2,        0,2, -999.000,9, -999.000,9,     -999,9,   -999.0,9,   -999.0,9,-999.0000,9,  -999.00,  -999.00,9,   -999.0,9,   -999.0,  -999.00,9,   0.00026,2,   -0.004,2,    0.024,2,    0.000,2,  100.093,2
  096U20180111,  SR03,    68,  1,     14,     14,2,20180203,1220,-65.3998, 150.0008, 2853,   1402.5,   0.3637,  34.6852,2,  34.6842,2,    214.7,2,    214.6,2,   117.60,2,    32.40,2,     0.00,2,     2.25,2,        0,2,    0.721,2,    0.386,2,     0.32,2,   2261.9,2,   2358.7,2,   7.5896,   2,    25.00,    18.50,2,   -999.0,9,   -999.0,  -999.00,9,   0.00024,2,   -0.004,2,    0.024,2,    0.000,2,  100.102,2
  096U20180111,  SR03,    68,  1,     13,     13,2,20180203,1220,-65.3998, 150.0008, 2853,   1602.6,   0.2680,  34.6831,2,  34.6820,2,    218.0,2,    217.7,2,   118.60,2,    32.46,2,     0.00,2,     2.26,2,        0,2,    0.836,2,    0.441,2,     0.45,2,   -999.0,9,   -999.0,9,-999.0000,9,  -999.00,    18.53,2,   -999.0,9,   -999.0,  -999.00,9,   0.00024,2,   -0.004,2,    0.024,2,    0.000,2,  100.102,2
  096U20180111,  SR03,    68,  1,     12,     12,2,20180203,1220,-65.3998, 150.0008, 2853,   1800.1,   0.1836,  34.6807,2,  34.6800,2,    220.5,2,    220.7,2,   117.70,2,    32.40,2,     0.00,2,     2.25,2,        0,2, -999.000,9, -999.000,9,     -999,9,   2260.1,2,   2357.2,2,   7.5890,   2,    25.00,  -999.00,9,   -999.0,9,   -999.0,  -999.00,9,   0.00024,2,   -0.004,2,    0.030,2,    0.000,2,  100.103,2
  096U20180111,  SR03,    68,  1,     11,     11,2,20180203,1220,-65.3998, 150.0008, 2853,   2000.3,   0.0770,  34.6769,2,  34.6764,2,    224.6,2,    224.2,2,   120.30,2,    32.39,2,     0.00,2,     2.26,2,    -0.01,2,    1.132,2,    0.598,2,     0.59,2,   -999.0,9,   -999.0,9,-999.0000,9,  -999.00,    18.40,2,   -999.0,9,   -999.0,  -999.00,9,   0.00023,2,   -0.004,2,    0.030,2,    0.000,2,  100.104,2
  096U20180111,  SR03,    68,  1,     10,     10,2,20180203,1220,-65.3998, 150.0008, 2853,   2201.7,  -0.0046,  34.6741,2,  34.6738,2,    227.7,2,    227.7,2,   118.50,2,    32.32,2,     0.00,2,     2.25,2,    -0.01,2,    1.377,2,    0.723,2,     0.56,2,   2260.6,2,   2355.9,6,-999.0000,9,  -999.00,    18.53,2,   -999.0,9,   -999.0,  -999.00,9,   0.00024,2,   -0.004,2,    0.030,2,    0.000,2,  100.091,2
  096U20180111,  SR03,    68,  1,      9,      9,2,20180203,1220,-65.3998, 150.0008, 2853,   2400.8,  -0.0431,  34.6729,2,  34.6751,2,    229.9,2,    229.6,2,   118.10,2,    32.29,2,     0.00,2,     2.25,2,    -0.01,2, -999.000,9, -999.000,9,     -999,9,   -999.0,9,   -999.0,9,-999.0000,9,  -999.00,  -999.00,9,   -999.0,9,   -999.0,  -999.00,9,   0.00025,2,   -0.003,2,    0.030,2,    0.000,2,  100.067,2
  096U20180111,  SR03,    68,  1,      8,      8,2,20180203,1220,-65.3998, 150.0008, 2853,   2603.0,  -0.0793,  34.6748,2,  34.6740,2,    231.7,2,    231.5,2,   113.50,2,    32.17,2,     0.00,2,     2.24,2,        0,2,    1.693,2,    0.915,2,     0.78,2,   2256.9,2,   2355.6,2,-999.0000,9,  -999.00,    18.24,2,   -999.0,9,   -999.0,  -999.00,9,   0.00033,2,   -0.001,2,    0.030,2,    0.000,2,  100.021,2
  096U20180111,  SR03,    68,  1,      7,      7,2,20180203,1220,-65.3998, 150.0008, 2853,   2700.9,  -0.0963,  34.6830,2,  34.6825,2,    233.0,2,    232.9,2,   103.60,2,    31.99,2,     0.00,2,     2.23,2,        0,2,    1.939,2,    1.041,2,     0.96,2,   -999.0,9,   -999.0,9,-999.0000,9,  -999.00,    18.69,2,   -999.0,9,   -999.0,  -999.00,9,   0.00026,2,   -0.002,2,    0.024,2,    0.000,2,  100.038,2
  096U20180111,  SR03,    68,  1,      6,      6,2,20180203,1220,-65.3998, 150.0008, 2853,   2861.4,  -0.2034,  34.6919,2,-999.0000,9,    237.7,2,   -999.0,9,  -999.00,9,  -999.00,9,  -999.00,9,  -999.00,9,     -999,9, -999.000,9, -999.000,9,     -999,9,   -999.0,9,   -999.0,9,-999.0000,9,  -999.00,  -999.00,9,   -999.0,9,   -999.0,  -999.00,9,   0.00044,2,    0.007,2,    0.024,2,    0.000,2,   99.837,2
  096U20180111,  SR03,    68,  1,      5,      5,2,20180203,1220,-65.3998, 150.0008, 2853,   2861.3,  -0.2035,  34.6918,2,  34.6918,2,    237.7,2,    237.1,2,   102.20,2,    31.90,2,     0.01,2,     2.22,2,        0,2,    2.164,2,    1.173,2,     1.17,2,   2259.6,2,   2354.8,2,-999.0000,9,  -999.00,    18.49,2,   -999.0,9,   -999.0,  -999.00,9,   0.00046,2,    0.007,2,    0.030,2,    0.000,2,   99.830,2
  096U20180111,  SR03,    68,  1,      4,      4,2,20180203,1220,-65.3998, 150.0008, 2853,   2907.5,  -0.2012,  34.6919,2,-999.0000,9,    237.7,2,   -999.0,9,  -999.00,9,  -999.00,9,  -999.00,9,  -999.00,9,     -999,9, -999.000,9, -999.000,9,     -999,9,   -999.0,9,   -999.0,9,-999.0000,9,  -999.00,  -999.00,9,   -999.0,9,   -999.0,  -999.00,9,   0.00041,2,    0.007,2,    0.036,2,    0.000,2,   99.830,2
  096U20180111,  SR03,    68,  1,      3,      3,2,20180203,1220,-65.3998, 150.0008, 2853,   2907.5,  -0.2012,  34.6919,2,-999.0000,9,    237.7,2,   -999.0,9,  -999.00,9,  -999.00,9,  -999.00,9,  -999.00,9,     -999,9, -999.000,9, -999.000,9,     -999,9,   -999.0,9,   -999.0,9,-999.0000,9,  -999.00,  -999.00,9,   -999.0,9,   -999.0,  -999.00,9,   0.00043,2,    0.007,2,    0.030,2,    0.000,2,   99.823,2
  096U20180111,  SR03,    68,  1,      2,      2,2,20180203,1220,-65.3998, 150.0008, 2853,   2907.3,  -0.2010,  34.6918,2,  34.6910,2,    237.7,2,    237.1,2,   102.00,2,    31.90,2,     0.01,2,     2.23,2,        0,2,    2.182,2,    1.189,2,     1.22,2,   2258.9,6,   2354.5,6,-999.0000,9,  -999.00,    18.37,2,   -999.0,9,   -999.0,  -999.00,9,   0.00042,2,    0.007,2,    0.036,2,    0.000,2,   99.831,2
  096U20180111,  SR03,    68,  1,      1,      1,2,20180203,1220,-65.3998, 150.0008, 2853,   2907.3,  -0.2011,  34.6919,2,-999.0000,9,    237.7,2,   -999.0,9,  -999.00,9,  -999.00,9,  -999.00,9,  -999.00,9,     -999,9, -999.000,9, -999.000,9,     -999,9,   -999.0,9,   -999.0,9,-999.0000,9,  -999.00,  -999.00,9,   -999.0,9,   -999.0,  -999.00,9,   0.00043,2,    0.007,2,    0.024,2,    0.000,2,   99.825,2