BOTTLE,20230418CCHSIOENA
EXPOCODE,SECT_ID,STNNBR,CASTNO,SAMPNO,BTLNBR,BTLNBR_FLAG_W,DATE,TIME,LATITUDE,LONGITUDE,DEPTH,CTDPRS,CTDTMP,CTDSAL,CTDSAL_FLAG_W,SALNTY,SALNTY_FLAG_W,CTDOXY,CTDOXY_FLAG_W,OXYGEN,OXYGEN_FLAG_W,SILCAT,SILCAT_FLAG_W,NITRAT,NITRAT_FLAG_W,NITRIT,NITRIT_FLAG_W,PHSPHT,PHSPHT_FLAG_W,NH4,NH4_FLAG_W,CFC-11,CFC-11_FLAG_W,CFC-12,CFC-12_FLAG_W,SF6,SF6_FLAG_W,TCARBN,TCARBN_FLAG_W,ALKALI,ALKALI_FLAG_W,PH_TOT,PH_TOT_FLAG_W,PH_TMP,N2O,N2O_FLAG_W,DELC14,DELC14_FLAG_W,C14ERR,DELC13,DELC13_FLAG_W,CTDBETA700,CTDBETA700_FLAG_W,CTDBEAMCP,CTDBEAMCP_FLAG_W,CTDFLUOR,CTDFLUOR_FLAG_W,PAR,PAR_FLAG_W,CTDXMISS,CTDXMISS_FLAG_W
,,,,,,,,,,,METERS,DBAR,ITS-90,PSS-78,,PSS-78,,UMOL/KG,,UMOL/KG,,UMOL/KG,,UMOL/KG,,UMOL/KG,,UMOL/KG,,UMOL/KG,,PMOL/KG,,PMOL/KG,,FMOL/KG,,UMOL/KG,,UMOL/KG,,,,DEG C,NMOL/KG,,/MILLE,,/MILLE,/MILLE,,VOLTS,,1/M,,MG/M^3,,UMOL/M^2/SEC,,%TRANS,
  096U20180111,  SR03,    94,  1,     36,     36,2,20180212,1829,-64.8378, 132.0902,  862,      7.8,  -1.1046,  33.6035,2,  33.6027,2,    349.6,2,    349.7,2,    49.90,2,    25.32,2,     0.13,2,     1.80,2,     0.97,2,    5.967,2,    3.099,2,     3.48,2,   2153.7,2,   2277.1,2,-999.0000,9,  -999.00,    16.80,2,   -118.7,2,      2.2,     1.16,2,   0.00112,2,    0.138,2,    0.684,2,    3.680,2,   96.611,2
  096U20180111,  SR03,    94,  1,     35,     35,2,20180212,1829,-64.8378, 132.0902,  862,      7.9,  -1.1047,  33.6033,2,-999.0000,9,    349.6,2,   -999.0,9,  -999.00,9,  -999.00,9,  -999.00,9,  -999.00,9,     -999,9, -999.000,9, -999.000,9,     -999,9,   -999.0,9,   -999.0,9,-999.0000,9,  -999.00,  -999.00,9,   -999.0,9,   -999.0,  -999.00,9,   0.00111,2,    0.138,2,    0.690,2,    3.590,2,   96.600,2
  096U20180111,  SR03,    94,  1,     34,     34,2,20180212,1829,-64.8378, 132.0902,  862,     26.0,  -1.1107,  33.6693,2,  33.6807,2,    347.1,2,    347.9,2,    50.30,2,    25.65,2,     0.13,2,     1.84,2,     0.95,2, -999.000,9, -999.000,9,     -999,9,   2157.5,2,   2282.6,2,-999.0000,9,  -999.00,  -999.00,9,   -999.0,9,   -999.0,  -999.00,9,   0.00109,2,    0.134,2,    0.768,2,    0.924,2,   96.716,2
  096U20180111,  SR03,    94,  1,     33,     33,2,20180212,1829,-64.8378, 132.0902,  862,     26.0,  -1.1111,  33.6694,2,-999.0000,9,    347.1,2,   -999.0,9,  -999.00,9,  -999.00,9,  -999.00,9,  -999.00,9,     -999,9, -999.000,9, -999.000,9,     -999,9,   -999.0,9,   -999.0,9,-999.0000,9,  -999.00,  -999.00,9,   -999.0,9,   -999.0,  -999.00,9,   0.00103,2,    0.134,2,    0.750,2,    0.925,2,   96.700,2
  096U20180111,  SR03,    94,  1,     32,     32,2,20180212,1829,-64.8378, 132.0902,  862,     60.2,  -1.7352,  34.1608,2,  34.1680,2,    327.5,2,    325.7,2,    55.90,2,    28.92,2,     0.13,2,     2.07,2,      0.6,2,    5.307,2,    2.797,2,     3.27,2,   2204.7,2,   2312.0,2,-999.0000,9,  -999.00,    17.31,2,   -999.0,9,   -999.0,  -999.00,9,   0.00053,2,    0.031,2,    0.294,2,    0.142,2,   99.235,2
  096U20180111,  SR03,    94,  1,     31,     31,2,20180212,1829,-64.8378, 132.0902,  862,     60.2,  -1.7391,  34.1643,2,-999.0000,9,    327.5,2,   -999.0,9,  -999.00,9,  -999.00,9,  -999.00,9,  -999.00,9,     -999,9, -999.000,9, -999.000,9,     -999,9,   -999.0,9,   -999.0,9,-999.0000,9,  -999.00,  -999.00,9,   -999.0,9,   -999.0,  -999.00,9,   0.00053,2,    0.032,2,    0.270,2,    0.143,2,   99.208,2
  096U20180111,  SR03,    94,  1,     30,     30,2,20180212,1829,-64.8378, 132.0902,  862,    119.6,  -1.8036,  34.2335,2,  34.2319,2,    319.4,2,    320.1,2,    57.00,2,    29.96,2,     0.10,2,     2.09,2,     0.03,2, -999.000,9, -999.000,9,     -999,9,   2209.7,2,   2315.1,6,-999.0000,9,  -999.00,  -999.00,9,   -124.5,2,      1.8,     0.75,2,   0.00042,2,    0.010,2,    0.114,2,    0.000,2,   99.737,2
  096U20180111,  SR03,    94,  1,     29,     29,2,20180212,1829,-64.8378, 132.0902,  862,    119.6,  -1.8045,  34.2352,2,-999.0000,9,    319.4,2,   -999.0,9,  -999.00,9,  -999.00,9,  -999.00,9,  -999.00,9,     -999,9, -999.000,9, -999.000,9,     -999,9,   -999.0,9,   -999.0,9,-999.0000,9,  -999.00,  -999.00,9,   -999.0,9,   -999.0,  -999.00,9,   0.00042,2,    0.011,2,    0.120,2,    0.000,2,   99.727,2
  096U20180111,  SR03,    94,  1,     28,     28,2,20180212,1829,-64.8378, 132.0902,  862,    181.6,  -1.7070,  34.2931,2,  34.2934,2,    309.4,2,    311.3,2,    60.90,2,    30.43,2,     0.04,2,     2.13,2,    -0.01,2,    4.946,2,    2.666,2,     2.63,2,   -999.0,9,   -999.0,9,-999.0000,9,  -999.00,    18.46,2,   -999.0,9,   -999.0,  -999.00,9,   0.00041,2,    0.008,2,    0.066,2,    0.000,2,   99.809,2
  096U20180111,  SR03,    94,  1,     27,     27,2,20180212,1829,-64.8378, 132.0902,  862,    181.7,  -1.7073,  34.2932,2,-999.0000,9,    309.4,2,   -999.0,9,  -999.00,9,  -999.00,9,  -999.00,9,  -999.00,9,     -999,9, -999.000,9, -999.000,9,     -999,9,   -999.0,9,   -999.0,9,-999.0000,9,  -999.00,  -999.00,9,   -999.0,9,   -999.0,  -999.00,9,   0.00039,2,    0.008,2,    0.078,2,    0.000,2,   99.807,2
  096U20180111,  SR03,    94,  1,     26,     26,2,20180212,1829,-64.8378, 132.0902,  862,    246.9,  -1.3505,  34.3898,2,  34.3922,2,    307.2,2,    292.8,2,    67.70,2,    30.97,2,     0.03,2,     2.17,2,    -0.01,2, -999.000,9, -999.000,9,     -999,9,   2228.6,2,   2325.2,2,-999.0000,9,  -999.00,  -999.00,9,   -129.0,2,      1.7,     0.67,2,   0.00044,2,    0.009,2,    0.060,2,    0.000,2,   99.776,2
  096U20180111,  SR03,    94,  1,     25,     25,2,20180212,1829,-64.8378, 132.0902,  862,    246.7,  -1.3486,  34.3899,2,-999.0000,9,    307.2,2,   -999.0,9,  -999.00,9,  -999.00,9,  -999.00,9,  -999.00,9,     -999,9, -999.000,9, -999.000,9,     -999,9,   -999.0,9,   -999.0,9,-999.0000,9,  -999.00,  -999.00,9,   -999.0,9,   -999.0,  -999.00,9,   0.00044,2,    0.010,2,    0.060,2,    0.000,2,   99.756,2
  096U20180111,  SR03,    94,  1,     24,     24,2,20180212,1829,-64.8378, 132.0902,  862,    351.2,  -0.9733,  34.4856,2,  34.4856,2,    279.9,2,    277.7,2,    74.00,2,    31.22,2,     0.01,2,     2.18,2,    -0.02,2,    3.739,2,    1.988,2,      2.1,2,   2234.3,2,   2333.9,2,-999.0000,9,  -999.00,    19.85,2,   -999.0,9,   -999.0,  -999.00,9,   0.00045,2,    0.008,2,    0.048,2,    0.000,2,   99.811,2
  096U20180111,  SR03,    94,  1,     23,     23,2,20180212,1829,-64.8378, 132.0902,  862,    351.1,  -0.9657,  34.4859,2,-999.0000,9,    279.9,2,   -999.0,9,  -999.00,9,  -999.00,9,  -999.00,9,  -999.00,9,     -999,9, -999.000,9, -999.000,9,     -999,9,   -999.0,9,   -999.0,9,-999.0000,9,  -999.00,  -999.00,9,   -999.0,9,   -999.0,  -999.00,9,   0.00044,2,    0.008,2,    0.042,2,    0.000,2,   99.807,2
  096U20180111,  SR03,    94,  1,     22,     22,2,20180212,1829,-64.8378, 132.0902,  862,    351.0,  -0.9584,  34.4863,2,-999.0000,9,    279.9,2,   -999.0,9,  -999.00,9,  -999.00,9,  -999.00,9,  -999.00,9,     -999,9, -999.000,9, -999.000,9,     -999,9,   -999.0,9,   -999.0,9,-999.0000,9,  -999.00,  -999.00,9,   -999.0,9,   -999.0,  -999.00,9,   0.00045,2,    0.007,2,    0.042,2,    0.000,2,   99.812,2
  096U20180111,  SR03,    94,  1,     21,     21,2,20180212,1829,-64.8378, 132.0902,  862,    350.9,  -0.9510,  34.4867,2,-999.0000,9,    279.9,2,   -999.0,9,  -999.00,9,  -999.00,9,  -999.00,9,  -999.00,9,     -999,9, -999.000,9, -999.000,9,     -999,9,   -999.0,9,   -999.0,9,-999.0000,9,  -999.00,  -999.00,9,   -999.0,9,   -999.0,  -999.00,9,   0.00045,2,    0.008,2,    0.042,2,    0.000,2,   99.808,2
  096U20180111,  SR03,    94,  1,     20,     20,2,20180212,1829,-64.8378, 132.0902,  862,    350.8,  -0.9470,  34.4872,2,-999.0000,9,    279.9,2,   -999.0,9,  -999.00,9,  -999.00,9,  -999.00,9,  -999.00,9,     -999,9, -999.000,9, -999.000,9,     -999,9,   -999.0,9,   -999.0,9,-999.0000,9,  -999.00,  -999.00,9,   -999.0,9,   -999.0,  -999.00,9,   0.00045,2,    0.008,2,    0.042,2,    0.000,2,   99.797,2
  096U20180111,  SR03,    94,  1,     19,     19,2,20180212,1829,-64.8378, 132.0902,  862,    350.8,  -0.9512,  34.4883,2,-999.0000,9,    279.9,2,   -999.0,9,  -999.00,9,  -999.00,9,  -999.00,9,  -999.00,9,     -999,9, -999.000,9, -999.000,9,     -999,9,   -999.0,9,   -999.0,9,-999.0000,9,  -999.00,  -999.00,9,   -999.0,9,   -999.0,  -999.00,9,   0.00044,2,    0.008,2,    0.042,2,    0.000,2,   99.797,2
  096U20180111,  SR03,    94,  1,     18,     18,2,20180212,1829,-64.8378, 132.0902,  862,    451.2,  -0.5041,  34.5575,2,  34.5552,2,    262.4,2,    260.5,2,    80.90,2,    31.32,2,     0.01,2,     2.19,2,    -0.02,2,    3.023,2,    1.618,2,      1.5,2,   2241.3,2,   2340.3,2,-999.0000,9,  -999.00,    19.84,2,   -139.3,2,      2.0,     0.57,2,   0.00044,2,    0.007,2,    0.042,2,    0.000,2,   99.819,2
  096U20180111,  SR03,    94,  1,     17,     17,2,20180212,1829,-64.8378, 132.0902,  862,    451.2,  -0.5047,  34.5574,2,-999.0000,9,    262.4,2,   -999.0,9,  -999.00,9,  -999.00,9,  -999.00,9,  -999.00,9,     -999,9, -999.000,9, -999.000,9,     -999,9,   -999.0,9,   -999.0,9,-999.0000,9,  -999.00,  -999.00,9,   -999.0,9,   -999.0,  -999.00,9,   0.00044,2,    0.007,2,    0.042,2,    0.000,2,   99.819,2
  096U20180111,  SR03,    94,  1,     16,     16,2,20180212,1829,-64.8378, 132.0902,  862,    451.0,  -0.5078,  34.5573,2,-999.0000,9,    262.3,2,   -999.0,9,  -999.00,9,  -999.00,9,  -999.00,9,  -999.00,9,     -999,9, -999.000,9, -999.000,9,     -999,9,   -999.0,9,   -999.0,9,-999.0000,9,  -999.00,  -999.00,9,   -999.0,9,   -999.0,  -999.00,9,   0.00043,2,    0.007,2,    0.042,2,    0.000,2,   99.818,2
  096U20180111,  SR03,    94,  1,     15,     15,2,20180212,1829,-64.8378, 132.0902,  862,    450.8,  -0.5076,  34.5574,2,-999.0000,9,    262.3,2,   -999.0,9,  -999.00,9,  -999.00,9,  -999.00,9,  -999.00,9,     -999,9, -999.000,9, -999.000,9,     -999,9,   -999.0,9,   -999.0,9,-999.0000,9,  -999.00,  -999.00,9,   -999.0,9,   -999.0,  -999.00,9,   0.00044,2,    0.007,2,    0.048,2,    0.000,2,   99.820,2
  096U20180111,  SR03,    94,  1,     14,     14,2,20180212,1829,-64.8378, 132.0902,  862,    450.6,  -0.5100,  34.5571,2,-999.0000,9,    262.3,2,   -999.0,9,  -999.00,9,  -999.00,9,  -999.00,9,  -999.00,9,     -999,9, -999.000,9, -999.000,9,     -999,9,   -999.0,9,   -999.0,9,-999.0000,9,  -999.00,  -999.00,9,   -999.0,9,   -999.0,  -999.00,9,   0.00044,2,    0.007,2,    0.042,2,    0.000,2,   99.817,2
  096U20180111,  SR03,    94,  1,     13,     13,2,20180212,1829,-64.8378, 132.0902,  862,    450.5,  -0.4881,  34.5604,2,-999.0000,9,    262.3,2,   -999.0,9,  -999.00,9,  -999.00,9,  -999.00,9,  -999.00,9,     -999,9, -999.000,9, -999.000,9,     -999,9,   -999.0,9,   -999.0,9,-999.0000,9,  -999.00,  -999.00,9,   -999.0,9,   -999.0,  -999.00,9,   0.00044,2,    0.007,2,    0.036,2,    0.000,2,   99.822,2
  096U20180111,  SR03,    94,  1,     12,     12,2,20180212,1829,-64.8378, 132.0902,  862,    551.5,  -0.0699,  34.6209,2,  34.6164,2,    240.9,2,    242.8,2,    91.30,2,    31.44,2,     0.01,2,     2.20,2,    -0.02,2,    2.150,2,    1.154,2,     1.26,2,   2248.7,6,   2347.3,6,-999.0000,9,  -999.00,    19.57,2,   -999.0,9,   -999.0,  -999.00,9,   0.00040,2,    0.005,2,    0.036,2,    0.000,2,   99.877,2
  096U20180111,  SR03,    94,  1,     11,     11,2,20180212,1829,-64.8378, 132.0902,  862,    551.4,  -0.0787,  34.6200,2,-999.0000,9,    240.9,2,   -999.0,9,  -999.00,9,  -999.00,9,  -999.00,9,  -999.00,9,     -999,9, -999.000,9, -999.000,9,     -999,9,   -999.0,9,   -999.0,9,-999.0000,9,  -999.00,  -999.00,9,   -999.0,9,   -999.0,  -999.00,9,   0.00039,2,    0.005,2,    0.036,2,    0.000,2,   99.881,2
  096U20180111,  SR03,    94,  1,     10,     10,2,20180212,1829,-64.8378, 132.0902,  862,    661.0,  -0.0345,  34.6444,2,  34.6446,2,    231.6,2,    232.0,2,   104.70,2,    31.87,2,     0.01,2,     2.23,2,    -0.02,2,    1.574,2,    0.833,2,     0.76,2,   2252.3,2,   2352.3,2,-999.0000,9,  -999.00,    19.87,2,   -151.3,2,      1.7,     0.48,2,   0.00034,2,    0.002,2,    0.042,2,    0.000,2,   99.948,2
  096U20180111,  SR03,    94,  1,      9,      9,2,20180212,1829,-64.8378, 132.0902,  862,    660.9,  -0.0339,  34.6444,2,-999.0000,9,    231.8,2,   -999.0,9,  -999.00,9,  -999.00,9,  -999.00,9,  -999.00,9,     -999,9, -999.000,9, -999.000,9,     -999,9,   -999.0,9,   -999.0,9,-999.0000,9,  -999.00,  -999.00,9,   -999.0,9,   -999.0,  -999.00,9,   0.00035,2,    0.002,2,    0.036,2,    0.000,2,   99.946,2
  096U20180111,  SR03,    94,  1,      8,      8,2,20180212,1829,-64.8378, 132.0902,  862,    772.0,  -0.0617,  34.6563,2,  34.6559,2,    229.6,2,    229.9,2,   110.00,2,    32.17,2,     0.01,2,     2.25,2,    -0.02,2,    1.454,2,    0.770,2,     0.79,2,   2257.7,2,   2353.9,2,-999.0000,9,  -999.00,    19.64,2,   -999.0,9,   -999.0,  -999.00,9,   0.00036,2,    0.002,2,    0.036,2,    0.000,2,   99.941,2
  096U20180111,  SR03,    94,  1,      7,      7,2,20180212,1829,-64.8378, 132.0902,  862,    772.0,  -0.0621,  34.6562,2,-999.0000,9,    229.6,2,   -999.0,9,  -999.00,9,  -999.00,9,  -999.00,9,  -999.00,9,     -999,9, -999.000,9, -999.000,9,     -999,9,   -999.0,9,   -999.0,9,-999.0000,9,  -999.00,  -999.00,9,   -999.0,9,   -999.0,  -999.00,9,   0.00036,2,    0.002,2,    0.036,2,    0.000,2,   99.944,2
  096U20180111,  SR03,    94,  1,      6,      6,2,20180212,1829,-64.8378, 132.0902,  862,    771.8,  -0.0631,  34.6562,2,-999.0000,9,    229.6,2,   -999.0,9,  -999.00,9,  -999.00,9,  -999.00,9,  -999.00,9,     -999,9, -999.000,9, -999.000,9,     -999,9,   -999.0,9,   -999.0,9,-999.0000,9,  -999.00,  -999.00,9,   -999.0,9,   -999.0,  -999.00,9,   0.00035,2,    0.002,2,    0.036,2,    0.000,2,   99.944,2
  096U20180111,  SR03,    94,  1,      5,      5,2,20180212,1829,-64.8378, 132.0902,  862,    771.7,  -0.0636,  34.6561,2,-999.0000,9,    229.6,2,   -999.0,9,  -999.00,9,  -999.00,9,  -999.00,9,  -999.00,9,     -999,9, -999.000,9, -999.000,9,     -999,9,   -999.0,9,   -999.0,9,-999.0000,9,  -999.00,  -999.00,9,   -999.0,9,   -999.0,  -999.00,9,   0.00035,2,    0.002,2,    0.036,2,    0.000,2,   99.943,2
  096U20180111,  SR03,    94,  1,      4,      4,2,20180212,1829,-64.8378, 132.0902,  862,    865.2,  -0.1070,  34.6559,2,  34.6554,2,    231.3,2,    231.0,2,   110.30,2,    32.15,2,     0.02,2,     2.25,2,    -0.01,2,    1.536,2,    0.829,2,     0.65,2,   2255.1,2,   2352.6,2,-999.0000,9,  -999.00,    20.11,2,   -154.5,2,      1.7,     0.52,2,   0.00041,2,    0.006,2,    0.036,2,    0.000,2,   99.863,2
  096U20180111,  SR03,    94,  1,      3,      3,2,20180212,1829,-64.8378, 132.0902,  862,    865.2,  -0.1071,  34.6559,2,-999.0000,9,    231.3,2,   -999.0,9,  -999.00,9,  -999.00,9,  -999.00,9,  -999.00,9,     -999,9, -999.000,9, -999.000,9,     -999,9,   -999.0,9,   -999.0,9,-999.0000,9,  -999.00,  -999.00,9,   -999.0,9,   -999.0,  -999.00,9,   0.00041,2,    0.006,2,    0.036,2,    0.000,2,   99.856,2
  096U20180111,  SR03,    94,  1,      2,      2,2,20180212,1829,-64.8378, 132.0902,  862,    865.1,  -0.1071,  34.6559,2,-999.0000,9,    231.3,2,   -999.0,9,  -999.00,9,  -999.00,9,  -999.00,9,  -999.00,9,     -999,9, -999.000,9, -999.000,9,     -999,9,   -999.0,9,   -999.0,9,-999.0000,9,  -999.00,  -999.00,9,   -999.0,9,   -999.0,  -999.00,9,   0.00041,2,    0.006,2,    0.036,2,    0.000,2,   99.847,2
  096U20180111,  SR03,    94,  1,      1,      1,2,20180212,1829,-64.8378, 132.0902,  862,    865.0,  -0.1072,  34.6560,2,-999.0000,9,    231.3,2,   -999.0,9,  -999.00,9,  -999.00,9,  -999.00,9,  -999.00,9,     -999,9, -999.000,9, -999.000,9,     -999,9,   -999.0,9,   -999.0,9,-999.0000,9,  -999.00,  -999.00,9,   -999.0,9,   -999.0,  -999.00,9,   0.00041,2,    0.006,2,    0.036,2,    0.000,2,   99.847,2