BOTTLE,20230418CCHSIOENA
EXPOCODE,SECT_ID,STNNBR,CASTNO,SAMPNO,BTLNBR,BTLNBR_FLAG_W,DATE,TIME,LATITUDE,LONGITUDE,DEPTH,CTDPRS,CTDTMP,CTDSAL,CTDSAL_FLAG_W,SALNTY,SALNTY_FLAG_W,CTDOXY,CTDOXY_FLAG_W,OXYGEN,OXYGEN_FLAG_W,SILCAT,SILCAT_FLAG_W,NITRAT,NITRAT_FLAG_W,NITRIT,NITRIT_FLAG_W,PHSPHT,PHSPHT_FLAG_W,NH4,NH4_FLAG_W,CFC-11,CFC-11_FLAG_W,CFC-12,CFC-12_FLAG_W,SF6,SF6_FLAG_W,TCARBN,TCARBN_FLAG_W,ALKALI,ALKALI_FLAG_W,PH_TOT,PH_TOT_FLAG_W,PH_TMP,N2O,N2O_FLAG_W,DELC14,DELC14_FLAG_W,C14ERR,DELC13,DELC13_FLAG_W,CTDBETA700,CTDBETA700_FLAG_W,CTDBEAMCP,CTDBEAMCP_FLAG_W,CTDFLUOR,CTDFLUOR_FLAG_W,PAR,PAR_FLAG_W,CTDXMISS,CTDXMISS_FLAG_W
,,,,,,,,,,,METERS,DBAR,ITS-90,PSS-78,,PSS-78,,UMOL/KG,,UMOL/KG,,UMOL/KG,,UMOL/KG,,UMOL/KG,,UMOL/KG,,UMOL/KG,,PMOL/KG,,PMOL/KG,,FMOL/KG,,UMOL/KG,,UMOL/KG,,,,DEG C,NMOL/KG,,/MILLE,,/MILLE,/MILLE,,VOLTS,,1/M,,MG/M^3,,UMOL/M^2/SEC,,%TRANS,
  096U20180111,  SR03,    43,  1,     36,     36,2,20180126,1647,-59.8493, 139.8598, 4441,     10.8,   2.2381,  33.6253,2,  33.6260,2,    333.1,2,    333.5,2,     7.60,2,    24.12,2,     0.20,2,     1.42,2,     0.14,2,    5.093,2,    2.764,2,      3.6,2,   2134.5,2,   2272.7,2,-999.0000,9,  -999.00,    13.77,2,   -999.0,9,   -999.0,  -999.00,9,   0.00195,2,    0.234,2,    1.356,2,   55.100,2,   94.329,2
  096U20180111,  SR03,    43,  1,     35,     35,2,20180126,1647,-59.8493, 139.8598, 4441,     26.0,   2.2402,  33.6329,2,  33.6376,2,    333.2,2,    333.6,2,    10.40,2,    24.83,2,     0.19,2,     1.57,2,     0.31,2, -999.000,9, -999.000,9,     -999,9,   -999.0,9,   -999.0,9,-999.0000,9,  -999.00,  -999.00,9,   -999.0,9,   -999.0,  -999.00,9,   0.00216,2,    0.267,2,    2.214,2,   15.100,2,   93.537,2
  096U20180111,  SR03,    43,  1,     34,     34,2,20180126,1647,-59.8493, 139.8598, 4441,     46.8,   1.0252,  33.7048,2,  33.6746,2,    333.6,2,    338.8,2,    10.40,2,    24.86,2,     0.18,2,     1.57,2,      0.3,2, -999.000,9, -999.000,9,     -999,9,   -999.0,9,   -999.0,9,-999.0000,9,  -999.00,  -999.00,9,   -999.0,9,   -999.0,  -999.00,9,   0.00273,2,    0.273,2,    3.408,2,    2.570,2,   93.413,2
  096U20180111,  SR03,    43,  1,     33,     33,2,20180126,1647,-59.8493, 139.8598, 4441,     60.6,  -0.2345,  33.8384,2,  33.8416,2,    341.9,2,    342.4,2,    26.40,2,    28.03,2,     0.19,2,     2.06,2,     0.89,2, -999.000,9, -999.000,9,     -999,9,   2171.2,2,   2284.7,2,-999.0000,9,  -999.00,  -999.00,9,   -999.0,9,   -999.0,  -999.00,9,   0.00138,2,    0.087,2,    1.254,2,    0.892,2,   97.842,2
  096U20180111,  SR03,    43,  1,     32,     32,2,20180126,1647,-59.8493, 139.8598, 4441,    120.1,  -0.4911,  33.9580,2,  33.9606,2,    323.1,2,    324.3,2,    31.40,2,    30.13,2,     0.12,2,     2.09,2,     0.06,2, -999.000,9, -999.000,9,     -999,9,   -999.0,9,   -999.0,9,-999.0000,9,  -999.00,  -999.00,9,   -999.0,9,   -999.0,  -999.00,9,   0.00046,2,    0.013,2,    0.162,2,    0.061,2,   99.675,2
  096U20180111,  SR03,    43,  1,     31,     31,2,20180126,1647,-59.8493, 139.8598, 4441,    180.8,   1.7429,  34.2684,2,  34.2768,2,    251.6,2,    219.4,2,    52.60,2,    34.27,2,     0.01,2,     2.35,2,        0,2, -999.000,9, -999.000,9,     -999,9,   -999.0,9,   -999.0,9,-999.0000,9,  -999.00,  -999.00,9,   -999.0,9,   -999.0,  -999.00,9,   0.00042,2,    0.010,2,    0.042,2,    0.000,2,   99.751,2
  096U20180111,  SR03,    43,  1,     30,     30,2,20180126,1647,-59.8493, 139.8598, 4441,    240.7,   2.2346,  34.3931,2,  34.3940,2,    194.9,2,    190.0,2,    61.60,2,    35.19,2,     0.01,2,     2.41,2,        0,2,    1.869,2,    0.968,2,     0.72,2,   2244.2,2,   2317.8,2,-999.0000,9,  -999.00,    25.22,2,   -999.0,9,   -999.0,  -999.00,9,   0.00048,2,    0.014,2,    0.036,2,    0.000,2,   99.656,2
  096U20180111,  SR03,    43,  1,     29,     29,2,20180126,1647,-59.8493, 139.8598, 4441,    299.7,   2.3052,  34.4515,2,  34.4518,2,    181.0,2,    180.2,2,    66.00,2,    35.35,2,     0.00,2,     2.41,2,    -0.01,2, -999.000,9, -999.000,9,     -999,9,   -999.0,9,   -999.0,9,-999.0000,9,  -999.00,  -999.00,9,   -999.0,9,   -999.0,  -999.00,9,   0.00046,2,    0.012,2,    0.042,2,    0.000,2,   99.689,2
  096U20180111,  SR03,    43,  1,     28,     28,2,20180126,1647,-59.8493, 139.8598, 4441,    376.2,   2.3427,  34.5215,2,  34.5233,2,    173.3,2,    172.8,2,    70.70,2,    35.01,2,     0.00,2,     2.40,2,    -0.01,2, -999.000,9, -999.000,9,     -999,9,   -999.0,9,   -999.0,9,-999.0000,9,  -999.00,  -999.00,9,   -999.0,9,   -999.0,  -999.00,9,   0.00037,2,    0.006,2,    0.036,2,    0.000,2,   99.841,2
  096U20180111,  SR03,    43,  1,     27,     27,2,20180126,1647,-59.8493, 139.8598, 4441,    450.4,   2.3400,  34.5738,2,  34.5741,2,    171.5,2,    171.6,2,    73.60,2,    34.54,2,     0.00,2,     2.37,2,    -0.01,2,    0.781,2,    0.413,2,     0.28,2,   2254.8,2,   2333.1,2,-999.0000,9,  -999.00,    23.20,2,   -999.0,9,   -999.0,  -999.00,9,   0.00037,2,    0.004,2,    0.042,2,    0.000,2,   99.913,2
  096U20180111,  SR03,    43,  1,     26,     26,2,20180126,1647,-59.8493, 139.8598, 4441,    525.3,   2.3008,  34.6070,2,  34.6084,2,    171.7,2,    172.5,2,    75.50,2,    34.09,2,     0.00,2,     2.33,2,    -0.01,2, -999.000,9, -999.000,9,     -999,9,   -999.0,9,   -999.0,9,-999.0000,9,  -999.00,  -999.00,9,   -999.0,9,   -999.0,  -999.00,9,   0.00033,2,    0.002,2,    0.042,2,    0.000,2,   99.944,2
  096U20180111,  SR03,    43,  1,     25,     25,2,20180126,1647,-59.8493, 139.8598, 4441,    600.5,   2.2774,  34.6401,2,  34.6390,2,    173.7,2,    174.1,2,    76.90,2,    33.52,2,     0.00,2,     2.29,2,    -0.01,2, -999.000,9, -999.000,9,     -999,9,   -999.0,9,   -999.0,9,-999.0000,9,  -999.00,  -999.00,9,   -999.0,9,   -999.0,  -999.00,9,   0.00035,2,    0.002,2,    0.036,2,    0.000,2,   99.945,2
  096U20180111,  SR03,    43,  1,     24,     24,2,20180126,1647,-59.8493, 139.8598, 4441,    700.8,   2.2358,  34.6729,2,  34.6748,2,    177.1,2,    178.4,2,    78.10,2,    32.79,2,     0.00,2,     2.25,2,    -0.01,2, -999.000,9, -999.000,9,     -999,9,   -999.0,9,   -999.0,9,-999.0000,9,  -999.00,  -999.00,9,   -999.0,9,   -999.0,  -999.00,9,   0.00034,2,    0.000,2,    0.036,2,    0.000,2,   99.989,2
  096U20180111,  SR03,    43,  1,     23,     23,2,20180126,1647,-59.8493, 139.8598, 4441,    799.9,   2.1817,  34.6974,2,  34.6986,2,    180.6,2,    181.6,2,    79.40,2,    32.15,2,     0.00,2,     2.21,2,    -0.01,2,    0.341,2,    0.179,2,     0.04,2,   2252.0,6,   2345.4,6,-999.0000,9,  -999.00,    20.87,2,   -999.0,9,   -999.0,  -999.00,9,   0.00033,2,    0.000,2,    0.042,2,    0.000,2,  100.005,2
  096U20180111,  SR03,    43,  1,     22,     22,2,20180126,1647,-59.8493, 139.8598, 4441,    900.5,   2.1269,  34.7149,2,  34.7175,4,    184.2,2,    185.0,2,    80.60,2,    31.64,2,     0.00,2,     2.18,2,    -0.01,2, -999.000,9, -999.000,9,     -999,9,   -999.0,9,   -999.0,9,-999.0000,9,  -999.00,  -999.00,9,   -999.0,9,   -999.0,  -999.00,9,   0.00035,2,    0.000,2,    0.036,2,    0.000,2,  100.006,2
  096U20180111,  SR03,    43,  1,     21,     21,2,20180126,1647,-59.8493, 139.8598, 4441,   1000.2,   2.0635,  34.7265,2,  34.7302,4,    187.0,2,    187.6,2,    81.90,2,    31.27,2,     0.00,2,     2.15,2,    -0.01,2, -999.000,9, -999.000,9,     -999,9,   -999.0,9,   -999.0,9,-999.0000,9,  -999.00,  -999.00,9,   -999.0,9,   -999.0,  -999.00,9,   0.00031,2,   -0.001,2,    0.036,2,    0.000,2,  100.021,2
  096U20180111,  SR03,    43,  1,     20,     20,2,20180126,1647,-59.8493, 139.8598, 4441,   1101.0,   2.0018,  34.7354,2,  34.7358,2,    190.2,2,    190.5,2,    83.50,2,    31.03,2,     0.00,2,     2.13,2,    -0.01,2, -999.000,9, -999.000,9,     -999,9,   -999.0,9,   -999.0,9,-999.0000,9,  -999.00,  -999.00,9,   -999.0,9,   -999.0,  -999.00,9,   0.00030,2,   -0.002,2,    0.036,2,    0.000,2,  100.045,2
  096U20180111,  SR03,    43,  1,     19,     19,2,20180126,1647,-59.8493, 139.8598, 4441,   1200.0,   1.9327,  34.7404,2,  34.7401,2,    192.7,2,    193.0,2,    85.00,2,    30.90,2,     0.00,2,     2.12,2,    -0.01,2, -999.000,9, -999.000,9,     -999,9,   -999.0,9,   -999.0,9,-999.0000,9,  -999.00,  -999.00,9,   -999.0,9,   -999.0,  -999.00,9,   0.00030,2,   -0.002,2,    0.036,2,    0.000,2,  100.052,2
  096U20180111,  SR03,    43,  1,     18,     18,2,20180126,1647,-59.8493, 139.8598, 4441,   1399.6,   1.7698,  34.7449,2,  34.7444,2,    196.5,2,    196.3,2,    89.30,2,    30.75,2,     0.00,2,     2.11,2,    -0.01,2,    0.211,2,    0.113,2,    -0.03,2,   2249.7,2,   2354.2,2,-999.0000,9,  -999.00,    18.93,2,   -999.0,9,   -999.0,  -999.00,9,   0.00029,2,   -0.003,2,    0.042,2,    0.000,2,  100.072,2
  096U20180111,  SR03,    43,  1,     17,     17,2,20180126,1647,-59.8493, 139.8598, 4441,   1600.8,   1.5921,  34.7430,2,  34.7797,4,    199.4,2,    199.2,2,    94.20,2,    30.83,2,     0.00,2,     2.12,2,    -0.01,2, -999.000,9, -999.000,9,     -999,9,   -999.0,9,   -999.0,9,-999.0000,9,  -999.00,  -999.00,9,   -999.0,9,   -999.0,  -999.00,9,   0.00030,2,   -0.003,2,    0.042,2,    0.000,2,  100.086,2
  096U20180111,  SR03,    43,  1,     16,     16,2,20180126,1647,-59.8493, 139.8598, 4441,   1800.3,   1.4122,  34.7371,2,  34.7373,2,    201.6,2,    201.5,2,    99.50,2,    31.08,2,     0.00,2,     2.14,2,    -0.01,2, -999.000,9, -999.000,9,     -999,9,   -999.0,9,   -999.0,9,-999.0000,9,  -999.00,  -999.00,9,   -999.0,9,   -999.0,  -999.00,9,   0.00029,2,   -0.004,2,    0.036,2,    0.000,2,  100.095,2
  096U20180111,  SR03,    43,  1,     15,     15,2,20180126,1647,-59.8493, 139.8598, 4441,   2000.5,   1.2545,  34.7300,2,  34.7299,2,    203.7,2,    203.0,2,   104.00,2,    31.33,2,     0.00,2,     2.16,2,        0,2, -999.000,9, -999.000,9,     -999,9,   -999.0,9,   -999.0,9,-999.0000,9,  -999.00,  -999.00,9,   -999.0,9,   -999.0,  -999.00,9,   0.00027,2,   -0.004,2,    0.036,2,    0.000,2,  100.103,2
  096U20180111,  SR03,    43,  1,     14,     14,2,20180126,1647,-59.8493, 139.8598, 4441,   2201.4,   1.0995,  34.7223,2,  34.7224,2,    205.2,2,    204.8,2,   108.90,2,    31.60,2,     0.00,2,     2.18,2,    -0.01,2,    0.239,2,    0.123,2,     0.04,2,   2256.8,2,   2362.0,2,-999.0000,9,  -999.00,    18.42,2,   -999.0,9,   -999.0,  -999.00,9,   0.00026,2,   -0.005,2,    0.036,2,    0.000,2,  100.116,2
  096U20180111,  SR03,    43,  1,     13,     13,2,20180126,1647,-59.8493, 139.8598, 4441,   2400.5,   0.9280,  34.7133,2,  34.7138,2,    207.1,2,    206.7,2,   113.70,2,    31.89,2,     0.00,2,     2.20,2,    -0.01,2, -999.000,9, -999.000,9,     -999,9,   -999.0,9,   -999.0,9,-999.0000,9,  -999.00,  -999.00,9,   -999.0,9,   -999.0,  -999.00,9,   0.00026,2,   -0.005,2,    0.036,2,    0.000,2,  100.114,2
  096U20180111,  SR03,    43,  1,     12,     12,2,20180126,1647,-59.8493, 139.8598, 4441,   2600.8,   0.7726,  34.7053,2,  34.7047,2,    209.2,2,    209.3,2,   118.30,2,    32.16,2,     0.00,2,     2.22,2,    -0.01,2, -999.000,9, -999.000,9,     -999,9,   -999.0,9,   -999.0,9,-999.0000,9,  -999.00,  -999.00,9,   -999.0,9,   -999.0,  -999.00,9,   0.00026,2,   -0.005,2,    0.036,2,    0.000,2,  100.117,2
  096U20180111,  SR03,    43,  1,     11,     11,2,20180126,1647,-59.8493, 139.8598, 4441,   2801.9,   0.6427,  34.6985,2,  34.6984,2,    211.7,2,    212.2,2,   121.60,2,    32.36,2,     0.00,2,     2.23,2,    -0.01,2,    0.381,2,    0.192,2,     0.07,2,   2259.7,2,   2361.4,2,-999.0000,9,  -999.00,    18.47,2,   -999.0,9,   -999.0,  -999.00,9,   0.00026,2,   -0.005,2,    0.042,2,    0.000,2,  100.114,2
  096U20180111,  SR03,    43,  1,     10,     10,2,20180126,1647,-59.8493, 139.8598, 4441,   3001.4,   0.5153,  34.6923,2,  34.6975,4,    214.4,2,    214.7,2,   124.80,2,    32.47,2,     0.00,2,     2.25,2,    -0.01,2, -999.000,9, -999.000,9,     -999,9,   -999.0,9,   -999.0,9,-999.0000,9,  -999.00,  -999.00,9,   -999.0,9,   -999.0,  -999.00,9,   0.00026,2,   -0.005,2,    0.042,2,    0.000,2,  100.118,2
  096U20180111,  SR03,    43,  1,      9,      9,2,20180126,1647,-59.8493, 139.8598, 4441,   3249.9,   0.4133,  34.6871,2,  34.6869,2,    217.4,2,    217.8,2,   127.60,2,    32.56,2,     0.00,2,     2.25,2,    -0.01,2,    0.558,2,    0.276,2,      0.1,2,   2259.7,2,   2360.0,2,-999.0000,9,  -999.00,    18.21,2,   -999.0,9,   -999.0,  -999.00,9,   0.00025,2,   -0.005,2,    0.036,2,    0.000,2,  100.114,2
  096U20180111,  SR03,    43,  1,      8,      8,2,20180126,1647,-59.8493, 139.8598, 4441,   3501.1,   0.3198,  34.6824,2,  34.6828,2,    220.4,2,    220.4,2,   129.90,2,    32.55,2,     0.00,2,     2.26,2,    -0.01,2, -999.000,9, -999.000,9,     -999,9,   -999.0,9,   -999.0,9,-999.0000,9,  -999.00,  -999.00,9,   -999.0,9,   -999.0,  -999.00,9,   0.00023,2,   -0.005,2,    0.036,2,    0.000,2,  100.117,2
  096U20180111,  SR03,    43,  1,      7,      7,2,20180126,1647,-59.8493, 139.8598, 4441,   3701.3,   0.2546,  34.6792,2,  34.6790,2,    223.1,2,    222.9,2,   131.30,2,    32.58,2,     0.00,2,     2.25,2,    -0.01,2,    0.775,2,    0.386,2,     0.14,2,   2260.8,2,   2361.8,6,-999.0000,9,  -999.00,    18.23,2,   -999.0,9,   -999.0,  -999.00,9,   0.00023,2,   -0.004,2,    0.036,2,    0.000,2,  100.109,2
  096U20180111,  SR03,    43,  1,      6,      6,2,20180126,1647,-59.8493, 139.8598, 4441,   3901.0,   0.1979,  34.6757,2,  34.6749,2,    225.6,2,    224.8,2,   131.80,2,    32.55,2,     0.00,2,     2.25,2,    -0.01,2, -999.000,9, -999.000,9,     -999,9,   -999.0,9,   -999.0,9,-999.0000,9,  -999.00,  -999.00,9,   -999.0,9,   -999.0,  -999.00,9,   0.00023,2,   -0.004,2,    0.036,2,    0.000,2,  100.108,2
  096U20180111,  SR03,    43,  1,      5,      5,2,20180126,1647,-59.8493, 139.8598, 4441,   4101.3,   0.1318,  34.6711,2,  34.6714,2,    228.7,2,    228.2,2,   131.70,2,    32.55,2,     0.00,2,     2.25,2,    -0.01,2,    1.115,2,    0.560,2,      0.3,2,   -999.0,9,   -999.0,9,-999.0000,9,  -999.00,    18.18,2,   -999.0,9,   -999.0,  -999.00,9,   0.00023,2,   -0.004,2,    0.036,2,    0.000,2,  100.109,2
  096U20180111,  SR03,    43,  1,      4,      4,2,20180126,1647,-59.8493, 139.8598, 4441,   4299.9,   0.0604,  34.6654,2,  34.6645,2,    231.9,2,    231.3,2,   130.80,2,    32.47,2,     0.00,2,     2.25,2,    -0.01,2,    1.365,2,    0.692,2,     0.41,2,   2260.1,2,   2358.9,2,-999.0000,9,  -999.00,    18.24,2,   -999.0,9,   -999.0,  -999.00,9,   0.00029,2,   -0.004,2,    0.036,2,    0.000,2,  100.090,2
  096U20180111,  SR03,    43,  1,      3,      3,2,20180126,1647,-59.8493, 139.8598, 4441,   4480.8,  -0.0324,  34.6563,2,  34.6557,2,    235.9,2,    235.4,2,   129.10,2,    32.41,2,     0.00,2,     2.25,2,    -0.01,2, -999.000,9, -999.000,9,     -999,9,   -999.0,9,   -999.0,9,-999.0000,9,  -999.00,  -999.00,9,   -999.0,9,   -999.0,  -999.00,9,   0.00034,2,    0.003,2,    0.042,2,    0.000,2,   99.934,2
  096U20180111,  SR03,    43,  1,      2,      2,2,20180126,1647,-59.8493, 139.8598, 4441,   4533.0,  -0.0327,  34.6558,2,-999.0000,9,    236.7,2,   -999.0,9,  -999.00,9,  -999.00,9,  -999.00,9,  -999.00,9,     -999,9, -999.000,9, -999.000,9,     -999,9,   -999.0,9,   -999.0,9,-999.0000,9,  -999.00,  -999.00,9,   -999.0,9,   -999.0,  -999.00,9,   0.00036,2,    0.004,2,    0.042,2,    0.000,2,   99.908,2
  096U20180111,  SR03,    43,  1,      1,      1,2,20180126,1647,-59.8493, 139.8598, 4441,   4532.9,  -0.0328,  34.6558,2,  34.6816,4,    236.6,2,    235.3,2,   129.50,2,    32.44,2,     0.00,2,     2.24,2,    -0.01,2,    1.770,2,    0.918,2,     0.76,2,   2259.2,2,   2358.4,2,-999.0000,9,  -999.00,    18.21,2,   -999.0,9,   -999.0,  -999.00,9,   0.00035,2,    0.004,2,    0.036,2,    0.000,2,   99.907,2