BOTTLE,20230418CCHSIOENA
EXPOCODE,SECT_ID,STNNBR,CASTNO,SAMPNO,BTLNBR,BTLNBR_FLAG_W,DATE,TIME,LATITUDE,LONGITUDE,DEPTH,CTDPRS,CTDTMP,CTDSAL,CTDSAL_FLAG_W,SALNTY,SALNTY_FLAG_W,CTDOXY,CTDOXY_FLAG_W,OXYGEN,OXYGEN_FLAG_W,SILCAT,SILCAT_FLAG_W,NITRAT,NITRAT_FLAG_W,NITRIT,NITRIT_FLAG_W,PHSPHT,PHSPHT_FLAG_W,NH4,NH4_FLAG_W,CFC-11,CFC-11_FLAG_W,CFC-12,CFC-12_FLAG_W,SF6,SF6_FLAG_W,TCARBN,TCARBN_FLAG_W,ALKALI,ALKALI_FLAG_W,PH_TOT,PH_TOT_FLAG_W,PH_TMP,N2O,N2O_FLAG_W,DELC14,DELC14_FLAG_W,C14ERR,DELC13,DELC13_FLAG_W,CTDBETA700,CTDBETA700_FLAG_W,CTDBEAMCP,CTDBEAMCP_FLAG_W,CTDFLUOR,CTDFLUOR_FLAG_W,PAR,PAR_FLAG_W,CTDXMISS,CTDXMISS_FLAG_W
,,,,,,,,,,,METERS,DBAR,ITS-90,PSS-78,,PSS-78,,UMOL/KG,,UMOL/KG,,UMOL/KG,,UMOL/KG,,UMOL/KG,,UMOL/KG,,UMOL/KG,,PMOL/KG,,PMOL/KG,,FMOL/KG,,UMOL/KG,,UMOL/KG,,,,DEG C,NMOL/KG,,/MILLE,,/MILLE,/MILLE,,VOLTS,,1/M,,MG/M^3,,UMOL/M^2/SEC,,%TRANS,
  096U20180111,  SR03,    76,  1,     36,     36,2,20180205,1840,-62.9998, 150.0003, 3807,     10.5,   1.0173,  33.6568,2,  33.6580,2,    341.0,2,    343.9,2,    25.90,2,    25.45,2,     0.24,2,     1.54,2,     0.05,2,    5.342,2,    3.008,2,     3.67,2,   2143.1,2,   2277.8,2,-999.0000,9,  -999.00,    14.66,2,   -999.0,9,   -999.0,  -999.00,9,   0.00477,2,    0.426,2,    2.436,2,   69.900,2,   89.888,2
  096U20180111,  SR03,    76,  1,     35,     35,2,20180205,1840,-62.9998, 150.0003, 3807,     10.6,   1.0172,  33.6567,2,-999.0000,9,    341.0,2,   -999.0,9,  -999.00,9,  -999.00,9,  -999.00,9,  -999.00,9,     -999,9, -999.000,9, -999.000,9,     -999,9,   -999.0,9,   -999.0,9,-999.0000,9,  -999.00,  -999.00,9,   -999.0,9,   -999.0,  -999.00,9,   0.00445,2,    0.425,2,    2.322,2,   68.300,2,   89.910,2
  096U20180111,  SR03,    76,  1,     34,     34,2,20180205,1840,-62.9998, 150.0003, 3807,     41.1,   0.9157,  33.6776,2,-999.0000,9,    341.4,2,   -999.0,9,  -999.00,9,  -999.00,9,  -999.00,9,  -999.00,9,     -999,9, -999.000,9, -999.000,9,     -999,9,   -999.0,9,   -999.0,9,-999.0000,9,  -999.00,  -999.00,9,   -999.0,9,   -999.0,  -999.00,9,   0.00498,2,    0.417,2,    4.548,2,    2.240,2,   90.106,2
  096U20180111,  SR03,    76,  1,     33,     33,2,20180205,1840,-62.9998, 150.0003, 3807,     41.0,   0.7545,  33.7137,2,  33.7489,2,    341.4,2,    333.4,2,    31.60,2,    26.64,2,     0.22,2,     1.72,2,     0.19,2,    5.167,2,    2.851,2,     3.23,2,   2157.2,2,   2283.4,2,-999.0000,9,  -999.00,    15.91,2,   -999.0,9,   -999.0,  -999.00,9,   0.00499,2,    0.403,2,    4.554,2,    2.360,2,   90.411,2
  096U20180111,  SR03,    76,  1,     32,     32,2,20180205,1840,-62.9998, 150.0003, 3807,     60.6,  -0.1946,  34.2223,2,-999.0000,9,    269.4,2,   -999.0,9,  -999.00,9,  -999.00,9,  -999.00,9,  -999.00,9,     -999,9, -999.000,9, -999.000,9,     -999,9,   -999.0,9,   -999.0,9,-999.0000,9,  -999.00,  -999.00,9,   -999.0,9,   -999.0,  -999.00,9,   0.00196,2,    0.103,2,    1.650,2,    0.410,2,   97.450,2
  096U20180111,  SR03,    76,  1,     31,     31,2,20180205,1840,-62.9998, 150.0003, 3807,     60.5,  -0.2634,  34.2182,2,  34.2340,2,    269.4,2,    260.7,2,    59.00,2,    32.04,2,     0.16,2,     2.28,2,     0.52,2, -999.000,9, -999.000,9,     -999,9,   2221.8,2,   2312.7,2,-999.0000,9,  -999.00,  -999.00,9,   -999.0,9,   -999.0,  -999.00,9,   0.00196,2,    0.094,2,    1.662,2,    0.404,2,   97.675,2
  096U20180111,  SR03,    76,  1,     30,     30,2,20180205,1840,-62.9998, 150.0003, 3807,     80.5,   1.0807,  34.4336,2,  34.4608,2,    215.8,2,    198.5,2,    71.30,2,    34.08,2,     0.20,2,     2.37,2,        0,2,    1.812,2,    0.982,2,      0.9,2,   2248.6,2,   2326.4,2,-999.0000,9,  -999.00,    23.09,2,   -999.0,9,   -999.0,  -999.00,9,   0.00071,2,    0.036,2,    0.372,2,    0.091,2,   99.114,2
  096U20180111,  SR03,    76,  1,     29,     29,2,20180205,1840,-62.9998, 150.0003, 3807,    120.6,   1.8607,  34.5696,2,  34.5732,2,    176.0,2,    177.2,2,    77.40,2,    34.46,2,     0.02,2,     2.37,2,    -0.01,2, -999.000,9, -999.000,9,     -999,9,   2256.6,6,   2334.6,6,-999.0000,9,  -999.00,  -999.00,9,   -999.0,9,   -999.0,  -999.00,9,   0.00050,2,    0.013,2,    0.060,2,    0.000,2,   99.671,2
  096U20180111,  SR03,    76,  1,     28,     28,2,20180205,1840,-62.9998, 150.0003, 3807,    160.8,   1.9612,  34.6014,2,  34.6033,2,    172.4,2,    173.6,2,    79.20,2,    34.02,2,     0.01,2,     2.35,2,    -0.01,2,    0.840,6,    0.451,6,     0.43,6,   2258.4,2,   2336.9,2,-999.0000,9,  -999.00,    23.94,6,   -999.0,9,   -999.0,  -999.00,9,   0.00046,2,    0.011,2,    0.048,2,    0.000,2,   99.729,2
  096U20180111,  SR03,    76,  1,     27,     27,2,20180205,1840,-62.9998, 150.0003, 3807,    220.8,   2.0626,  34.6450,2,  34.6465,2,    174.3,2,    175.0,2,    80.30,2,    33.19,2,     0.02,2,     2.29,2,    -0.01,2,    0.599,2,    0.321,2,      0.1,2,   2256.3,2,   2341.1,2,-999.0000,9,  -999.00,    22.90,2,   -999.0,9,   -999.0,  -999.00,9,   0.00047,2,    0.009,2,    0.042,2,    0.000,2,   99.766,2
  096U20180111,  SR03,    76,  1,     26,     26,2,20180205,1840,-62.9998, 150.0003, 3807,    300.5,   2.0726,  34.6759,2,  34.6762,2,    177.6,2,    177.5,2,    81.20,2,    32.48,2,     0.01,2,     2.26,2,    -0.01,2,    0.469,2,    0.255,2,     0.19,2,   2255.2,2,   2343.1,2,-999.0000,9,  -999.00,    21.77,2,   -999.0,9,   -999.0,  -999.00,9,   0.00037,2,    0.005,2,    0.036,2,    0.000,2,   99.878,2
  096U20180111,  SR03,    76,  1,     25,     25,2,20180205,1840,-62.9998, 150.0003, 3807,    400.7,   2.0291,  34.7029,2,  34.7028,2,    182.5,2,    182.7,2,    82.60,2,    31.83,2,     0.01,2,     2.21,2,    -0.01,2, -999.000,9, -999.000,9,     -999,9,   2252.7,2,   2344.5,2,-999.0000,9,  -999.00,  -999.00,9,   -999.0,9,   -999.0,  -999.00,9,   0.00035,2,    0.002,2,    0.036,2,    0.000,2,   99.941,2
  096U20180111,  SR03,    76,  1,     24,     24,2,20180205,1840,-62.9998, 150.0003, 3807,    500.9,   1.9712,  34.7201,2,  34.7211,2,    186.3,2,    185.8,2,    84.30,2,    31.36,2,     0.00,2,     2.18,2,    -0.01,2,    0.318,2,    0.173,2,     0.04,2,   2250.6,2,   2346.5,2,-999.0000,9,  -999.00,    20.77,2,   -999.0,9,   -999.0,  -999.00,9,   0.00039,2,    0.003,2,    0.042,2,    0.000,2,   99.935,2
  096U20180111,  SR03,    76,  1,     23,     23,2,20180205,1840,-62.9998, 150.0003, 3807,    600.6,   1.8909,  34.7288,2,  34.7285,2,    190.2,2,    188.6,2,    85.90,2,    31.13,2,     0.01,2,     2.16,2,    -0.01,2,    0.305,2,    0.172,2,     0.11,2,   2249.6,2,   2348.4,2,-999.0000,9,  -999.00,    20.19,2,   -999.0,9,   -999.0,  -999.00,9,   0.00034,2,    0.001,2,    0.036,2,    0.000,2,   99.975,2
  096U20180111,  SR03,    76,  1,     22,     22,2,20180205,1840,-62.9998, 150.0003, 3807,    700.4,   1.8226,  34.7364,2,  34.7365,2,    193.0,2,    191.3,2,    87.60,2,    30.75,2,     0.00,2,     2.14,2,    -0.01,2,    0.270,2,    0.144,2,     0.11,2,   2246.9,2,   2350.0,2,-999.0000,9,  -999.00,    19.42,2,   -999.0,9,   -999.0,  -999.00,9,   0.00031,2,   -0.001,2,    0.030,2,    0.000,2,  100.011,2
  096U20180111,  SR03,    76,  1,     21,     21,2,20180205,1840,-62.9998, 150.0003, 3807,    850.6,   1.7012,  34.7407,2,-999.0000,9,    195.9,2,   -999.0,9,  -999.00,9,  -999.00,9,  -999.00,9,  -999.00,9,     -999,9, -999.000,9, -999.000,9,     -999,9,   -999.0,9,   -999.0,9,-999.0000,9,  -999.00,  -999.00,9,   -999.0,9,   -999.0,  -999.00,9,   0.00030,2,    0.000,2,    0.030,2,    0.000,2,  100.009,2
  096U20180111,  SR03,    76,  1,     20,     20,2,20180205,1840,-62.9998, 150.0003, 3807,    850.6,   1.6992,  34.7407,2,  34.7413,2,    195.9,2,    194.8,2,    90.60,2,    30.58,2,     0.00,2,     2.13,2,    -0.01,2,    0.253,2,    0.134,2,     0.07,2,   2250.8,2,   2351.2,2,-999.0000,9,  -999.00,    19.58,2,   -999.0,9,   -999.0,  -999.00,9,   0.00032,2,    0.000,2,    0.036,2,    0.000,2,  100.002,2
  096U20180111,  SR03,    76,  1,     19,     19,2,20180205,1840,-62.9998, 150.0003, 3807,   1000.6,   1.5823,  34.7410,2,  34.7409,2,    198.5,2,    197.0,2,    93.60,2,    30.50,2,     0.01,2,     2.12,2,    -0.01,2,    0.244,2,    0.129,2,      0.1,2,   2250.6,6,   2353.7,6,-999.0000,9,  -999.00,    19.11,2,   -999.0,9,   -999.0,  -999.00,9,   0.00030,2,   -0.001,2,    0.036,2,    0.000,2,  100.021,2
  096U20180111,  SR03,    76,  1,     18,     18,2,20180205,1840,-62.9998, 150.0003, 3807,   1200.3,   1.4191,  34.7381,2,  34.7383,2,    200.8,2,    200.3,2,    98.50,2,    30.59,2,     0.01,2,     2.14,2,    -0.01,2, -999.000,9, -999.000,9,     -999,9,   2251.7,2,   2356.3,2,-999.0000,9,  -999.00,  -999.00,9,   -999.0,9,   -999.0,  -999.00,9,   0.00029,2,   -0.002,2,    0.036,2,    0.000,2,  100.047,2
  096U20180111,  SR03,    76,  1,     17,     17,2,20180205,1840,-62.9998, 150.0003, 3807,   1400.4,   1.2394,  34.7314,2,  34.7316,2,    202.0,2,    202.6,2,   103.80,2,    30.83,2,     0.01,2,     2.16,2,    -0.01,2,    0.224,2,    0.115,2,     0.01,2,   -999.0,9,   -999.0,9,-999.0000,9,  -999.00,    19.19,2,   -999.0,9,   -999.0,  -999.00,9,   0.00026,2,   -0.003,2,    0.036,2,    0.000,2,  100.068,2
  096U20180111,  SR03,    76,  1,     16,     16,2,20180205,1840,-62.9998, 150.0003, 3807,   1601.1,   1.0774,  34.7231,2,  34.7232,2,    204.0,2,    204.3,2,   108.20,2,    31.09,2,     0.01,2,     2.17,2,    -0.01,2,    0.240,2,    0.126,2,     0.04,2,   -999.0,9,   -999.0,9,-999.0000,9,  -999.00,    18.63,2,   -999.0,9,   -999.0,  -999.00,9,   0.00026,2,   -0.003,2,    0.036,2,    0.000,2,  100.074,2
  096U20180111,  SR03,    76,  1,     15,     15,2,20180205,1840,-62.9998, 150.0003, 3807,   1801.1,   0.9440,  34.7161,2,  34.7168,2,    205.9,2,    206.0,2,   112.20,2,    31.37,2,     0.01,2,     2.20,2,    -0.01,2,    0.262,2,    0.000,2,    -0.01,2,   2256.9,2,   2360.0,2,-999.0000,9,  -999.00,    19.09,2,   -999.0,9,   -999.0,  -999.00,9,   0.00025,2,   -0.003,2,    0.036,2,    0.000,2,  100.080,2
  096U20180111,  SR03,    76,  1,     14,     14,2,20180205,1840,-62.9998, 150.0003, 3807,   2001.2,   0.8117,  34.7089,2,  34.7088,2,    208.0,2,    207.9,2,   116.00,2,    31.59,2,     0.01,2,     2.22,2,    -0.01,2,    0.296,2,    0.151,2,     0.13,2,   -999.0,9,   -999.0,9,-999.0000,9,  -999.00,    18.59,2,   -999.0,9,   -999.0,  -999.00,9,   0.00025,2,   -0.003,2,    0.036,2,    0.000,2,  100.079,2
  096U20180111,  SR03,    76,  1,     13,     13,2,20180205,1840,-62.9998, 150.0003, 3807,   2251.2,   0.6187,  34.6989,2,  34.6996,2,    211.3,2,    211.5,2,   120.80,2,    31.82,2,     0.00,2,     2.23,2,    -0.01,2,    0.376,2,    0.198,2,     0.07,2,   2259.4,2,   2360.6,2,-999.0000,9,  -999.00,    19.11,2,   -999.0,9,   -999.0,  -999.00,9,   0.00024,2,   -0.003,2,    0.036,2,    0.000,2,  100.084,2
  096U20180111,  SR03,    76,  1,     12,     12,2,20180205,1840,-62.9998, 150.0003, 3807,   2499.4,   0.4591,  34.6909,2,  34.6906,2,    215.4,2,    215.0,2,   124.10,2,    31.92,2,     0.01,2,     2.24,2,    -0.01,2,    0.494,2,    0.255,2,     0.13,2,   -999.0,9,   -999.0,9,-999.0000,9,  -999.00,    18.87,2,   -999.0,9,   -999.0,  -999.00,9,   0.00023,2,   -0.003,2,    0.036,2,    0.000,2,  100.087,2
  096U20180111,  SR03,    76,  1,     11,     11,2,20180205,1840,-62.9998, 150.0003, 3807,   2499.3,   0.4585,  34.6908,2,-999.0000,9,    215.4,2,   -999.0,9,  -999.00,9,  -999.00,9,  -999.00,9,  -999.00,9,     -999,9, -999.000,9, -999.000,9,     -999,9,   -999.0,9,   -999.0,9,-999.0000,9,  -999.00,  -999.00,9,   -999.0,9,   -999.0,  -999.00,9,   0.00024,2,   -0.004,2,    0.036,2,    0.000,2,  100.088,2
  096U20180111,  SR03,    76,  1,     10,     10,2,20180205,1840,-62.9998, 150.0003, 3807,   2750.9,   0.3432,  34.6854,2,  34.6855,2,    218.6,2,    218.5,2,   126.50,2,    32.00,2,     0.01,2,     2.25,2,    -0.01,2,    0.615,2,    0.310,2,      0.2,2,   2259.9,2,   2359.4,2,-999.0000,9,  -999.00,    18.51,2,   -999.0,9,   -999.0,  -999.00,9,   0.00023,2,   -0.003,2,    0.036,2,    0.000,2,  100.076,2
  096U20180111,  SR03,    76,  1,      9,      9,2,20180205,1840,-62.9998, 150.0003, 3807,   3000.9,   0.2528,  34.6812,2,  34.6816,2,    221.2,2,    221.7,2,   128.50,2,    32.01,2,     0.01,2,     2.25,2,    -0.01,2,    0.737,2,    0.384,2,     0.13,2,   2260.0,6,   2359.5,6,-999.0000,9,  -999.00,    18.90,2,   -999.0,9,   -999.0,  -999.00,9,   0.00024,2,   -0.003,2,    0.030,2,    0.000,2,  100.077,2
  096U20180111,  SR03,    76,  1,      8,      8,2,20180205,1840,-62.9998, 150.0003, 3807,   3251.0,   0.1609,  34.6763,2,  34.6759,2,    224.4,2,    224.8,2,   129.10,2,    31.98,2,     0.01,2,     2.24,2,    -0.01,2,    0.924,2,    0.474,2,     0.26,2,   2259.5,2,   2358.8,6,-999.0000,9,  -999.00,    18.24,2,   -999.0,9,   -999.0,  -999.00,9,   0.00023,2,   -0.003,2,    0.036,2,    0.000,2,  100.068,2
  096U20180111,  SR03,    76,  1,      7,      7,2,20180205,1840,-62.9998, 150.0003, 3807,   3250.9,   0.1601,  34.6763,2,-999.0000,9,    224.3,2,   -999.0,9,  -999.00,9,  -999.00,9,  -999.00,9,  -999.00,9,     -999,9, -999.000,9, -999.000,9,     -999,9,   -999.0,9,   -999.0,9,-999.0000,9,  -999.00,  -999.00,9,   -999.0,9,   -999.0,  -999.00,9,   0.00023,2,   -0.003,2,    0.036,2,    0.000,2,  100.072,2
  096U20180111,  SR03,    76,  1,      6,      6,2,20180205,1840,-62.9998, 150.0003, 3807,   3501.1,   0.0501,  34.6693,2,  34.6683,2,    228.7,2,    229.2,2,   126.20,2,    31.90,2,     0.01,2,     2.24,2,    -0.01,2,    1.293,2,    0.667,2,     0.52,2,   2258.3,2,   2357.2,2,-999.0000,9,  -999.00,    18.74,2,   -999.0,9,   -999.0,  -999.00,9,   0.00025,2,   -0.001,2,    0.030,2,    0.000,2,  100.031,2
  096U20180111,  SR03,    76,  1,      5,      5,2,20180205,1840,-62.9998, 150.0003, 3807,   3701.1,  -0.0139,  34.6654,2,  34.6648,2,    231.8,2,    232.5,2,   122.60,2,    31.84,2,     0.01,2,     2.24,2,    -0.01,2,    1.591,2,    0.841,2,      0.7,2,   -999.0,9,   -999.0,9,-999.0000,9,  -999.00,    18.42,2,   -999.0,9,   -999.0,  -999.00,9,   0.00028,2,    0.002,2,    0.036,2,    0.000,2,   99.950,2
  096U20180111,  SR03,    76,  1,      4,      4,2,20180205,1840,-62.9998, 150.0003, 3807,   3830.4,  -0.0539,  34.6699,2,  34.6691,2,    233.5,2,    234.7,2,   114.70,2,    31.66,2,     0.01,2,     2.23,2,    -0.01,2,    1.875,2,    1.008,2,     0.72,2,   2258.1,2,   2354.8,6,-999.0000,9,  -999.00,    19.07,2,   -999.0,9,   -999.0,  -999.00,9,   0.00031,2,    0.006,2,    0.036,2,    0.000,2,   99.859,2
  096U20180111,  SR03,    76,  1,      3,      3,2,20180205,1840,-62.9998, 150.0003, 3807,   3830.4,  -0.0553,  34.6700,2,-999.0000,9,    233.5,2,   -999.0,9,  -999.00,9,  -999.00,9,  -999.00,9,  -999.00,9,     -999,9, -999.000,9, -999.000,9,     -999,9,   -999.0,9,   -999.0,9,-999.0000,9,  -999.00,  -999.00,9,   -999.0,9,   -999.0,  -999.00,9,   0.00033,2,    0.006,2,    0.036,2,    0.000,2,   99.850,2
  096U20180111,  SR03,    76,  1,      2,      2,2,20180205,1840,-62.9998, 150.0003, 3807,   3877.0,  -0.1086,  34.6680,2,  34.6673,2,    237.5,2,    237.6,2,   113.10,2,    31.58,2,     0.02,2,     2.22,2,        0,2,    2.055,2,    1.121,2,     1.06,2,   2258.1,2,   2354.4,2,-999.0000,9,  -999.00,    18.45,2,   -999.0,9,   -999.0,  -999.00,9,   0.00068,2,    0.024,2,    0.036,2,    0.000,2,   99.403,2
  096U20180111,  SR03,    76,  1,      1,      1,2,20180205,1840,-62.9998, 150.0003, 3807,   3877.0,  -0.1078,  34.6680,2,-999.0000,9,    237.6,2,   -999.0,9,  -999.00,9,  -999.00,9,  -999.00,9,  -999.00,9,     -999,9, -999.000,9, -999.000,9,     -999,9,   -999.0,9,   -999.0,9,-999.0000,9,  -999.00,  -999.00,9,   -999.0,9,   -999.0,  -999.00,9,   0.00065,2,    0.023,2,    0.042,2,    0.000,2,   99.417,2