BOTTLE,20230418CCHSIOENA
EXPOCODE,SECT_ID,STNNBR,CASTNO,SAMPNO,BTLNBR,BTLNBR_FLAG_W,DATE,TIME,LATITUDE,LONGITUDE,DEPTH,CTDPRS,CTDTMP,CTDSAL,CTDSAL_FLAG_W,SALNTY,SALNTY_FLAG_W,CTDOXY,CTDOXY_FLAG_W,OXYGEN,OXYGEN_FLAG_W,SILCAT,SILCAT_FLAG_W,NITRAT,NITRAT_FLAG_W,NITRIT,NITRIT_FLAG_W,PHSPHT,PHSPHT_FLAG_W,NH4,NH4_FLAG_W,CFC-11,CFC-11_FLAG_W,CFC-12,CFC-12_FLAG_W,SF6,SF6_FLAG_W,TCARBN,TCARBN_FLAG_W,ALKALI,ALKALI_FLAG_W,PH_TOT,PH_TOT_FLAG_W,PH_TMP,N2O,N2O_FLAG_W,DELC14,DELC14_FLAG_W,C14ERR,DELC13,DELC13_FLAG_W,CTDBETA700,CTDBETA700_FLAG_W,CTDBEAMCP,CTDBEAMCP_FLAG_W,CTDFLUOR,CTDFLUOR_FLAG_W,PAR,PAR_FLAG_W,CTDXMISS,CTDXMISS_FLAG_W
,,,,,,,,,,,METERS,DBAR,ITS-90,PSS-78,,PSS-78,,UMOL/KG,,UMOL/KG,,UMOL/KG,,UMOL/KG,,UMOL/KG,,UMOL/KG,,UMOL/KG,,PMOL/KG,,PMOL/KG,,FMOL/KG,,UMOL/KG,,UMOL/KG,,,,DEG C,NMOL/KG,,/MILLE,,/MILLE,/MILLE,,VOLTS,,1/M,,MG/M^3,,UMOL/M^2/SEC,,%TRANS,
  096U20180111,  SR03,    81,  1,     36,     36,2,20180207,1506,-62.9000, 145.0298, 3982,      8.3,   1.2639,  33.7770,2,-999.0000,9,    343.1,2,   -999.0,9,  -999.00,9,  -999.00,9,  -999.00,9,  -999.00,9,     -999,9, -999.000,9, -999.000,9,     -999,9,   -999.0,9,   -999.0,9,-999.0000,9,  -999.00,  -999.00,9,   -999.0,9,   -999.0,  -999.00,9,   0.00424,2,    0.401,2,    4.452,2,    1.640,2,   90.457,2
  096U20180111,  SR03,    81,  1,     35,     35,2,20180207,1506,-62.9000, 145.0298, 3982,      8.3,   1.2636,  33.7769,2,  33.7771,2,    343.1,2,    343.1,2,    27.70,2,    25.15,2,     0.26,2,     1.56,2,     0.03,2,    5.418,2,    2.960,2,     3.52,2,   2150.2,2,   2286.7,2,-999.0000,9,  -999.00,    15.44,2,   -999.0,9,   -999.0,  -999.00,9,   0.00423,2,    0.401,2,    4.416,2,    1.560,2,   90.467,2
  096U20180111,  SR03,    81,  1,     34,     34,2,20180207,1506,-62.9000, 145.0298, 3982,     29.8,   1.2551,  33.7772,2,-999.0000,9,    343.4,2,   -999.0,9,  -999.00,9,  -999.00,9,  -999.00,9,  -999.00,9,     -999,9, -999.000,9, -999.000,9,     -999,9,   -999.0,9,   -999.0,9,-999.0000,9,  -999.00,  -999.00,9,   -999.0,9,   -999.0,  -999.00,9,   0.00412,2,    0.398,2,    4.374,2,    0.049,2,   90.527,2
  096U20180111,  SR03,    81,  1,     33,     33,2,20180207,1506,-62.9000, 145.0298, 3982,     29.7,   1.2495,  33.7775,2,  33.7813,2,    343.4,2,    342.9,2,    28.20,2,    25.28,2,     0.26,2,     1.59,2,     0.05,2,    5.368,2,    2.951,2,     3.41,2,   2149.3,2,   2287.6,2,-999.0000,9,  -999.00,    15.19,2,   -999.0,9,   -999.0,  -999.00,9,   0.00439,2,    0.400,2,    4.416,2,    0.049,2,   90.490,2
  096U20180111,  SR03,    81,  1,     32,     32,2,20180207,1506,-62.9000, 145.0298, 3982,     60.4,  -0.1746,  33.9841,2,  34.0099,2,    308.8,2,    306.4,2,    46.80,2,    29.45,2,     0.18,2,     2.10,2,     0.44,2, -999.000,9, -999.000,9,     -999,9,   2191.8,2,   2300.4,6,-999.0000,9,  -999.00,  -999.00,9,   -999.0,9,   -999.0,  -999.00,9,   0.00489,2,    0.309,2,    5.070,2,    0.000,2,   92.571,2
  096U20180111,  SR03,    81,  1,     31,     31,2,20180207,1506,-62.9000, 145.0298, 3982,     80.4,   0.0649,  34.2608,2,  34.2892,2,    264.0,2,    244.0,2,    63.10,2,    32.59,2,     0.20,2,     2.29,2,     0.26,2,    2.998,2,    1.655,2,     1.61,2,   2227.8,2,   2316.6,2,-999.0000,9,  -999.00,    21.32,2,   -999.0,9,   -999.0,  -999.00,9,   0.00119,2,    0.066,2,    0.816,2,    0.000,2,   98.365,2
  096U20180111,  SR03,    81,  1,     30,     30,2,20180207,1506,-62.9000, 145.0298, 3982,    130.2,   1.4782,  34.5106,2,  34.5165,2,    194.7,2,    188.5,2,    74.90,2,    34.43,2,     0.03,2,     2.37,2,    -0.01,2, -999.000,9, -999.000,9,     -999,9,   2252.4,2,   2330.7,2,-999.0000,9,  -999.00,  -999.00,9,   -999.0,9,   -999.0,  -999.00,9,   0.00052,2,    0.016,2,    0.120,2,    0.000,2,   99.600,2
  096U20180111,  SR03,    81,  1,     29,     29,2,20180207,1506,-62.9000, 145.0298, 3982,    180.6,   1.7930,  34.5813,2,  34.5823,2,    178.9,2,    179.3,2,    78.50,2,    34.23,2,     0.01,2,     2.36,2,    -0.01,2,    1.002,2,    0.535,2,     0.44,2,   2256.1,6,   2335.7,6,-999.0000,9,  -999.00,    24.70,2,   -999.0,9,   -999.0,  -999.00,9,   0.00049,2,    0.012,2,    0.048,2,    0.000,2,   99.713,2
  096U20180111,  SR03,    81,  1,     28,     28,2,20180207,1506,-62.9000, 145.0298, 3982,    240.7,   1.8191,  34.6170,2,  34.6171,2,    178.6,2,    179.2,2,    80.40,2,    33.80,2,     0.01,2,     2.33,2,    -0.01,2,    0.856,2,    0.463,2,     0.37,2,   2256.6,2,   2338.2,2,-999.0000,9,  -999.00,    24.30,2,   -999.0,9,   -999.0,  -999.00,9,   0.00048,2,    0.011,2,    0.042,2,    0.000,2,   99.721,2
  096U20180111,  SR03,    81,  1,     27,     27,2,20180207,1506,-62.9000, 145.0298, 3982,    300.1,   1.9683,  34.6616,2,  34.6610,2,    178.4,2,    177.5,2,    82.00,2,    33.30,2,     0.00,2,     2.29,2,    -0.01,2,    0.588,2,    0.311,2,     0.16,2,   2256.5,2,   2341.8,2,-999.0000,9,  -999.00,    23.27,2,   -999.0,9,   -999.0,  -999.00,9,   0.00042,2,    0.007,2,    0.036,2,    0.000,2,   99.831,2
  096U20180111,  SR03,    81,  1,     26,     26,2,20180207,1506,-62.9000, 145.0298, 3982,    401.0,   1.9517,  34.6925,2,-999.0000,9,    182.6,2,   -999.0,9,  -999.00,9,  -999.00,9,  -999.00,9,  -999.00,9,     -999,9, -999.000,9, -999.000,9,     -999,9,   -999.0,9,   -999.0,9,-999.0000,9,  -999.00,  -999.00,9,   -999.0,9,   -999.0,  -999.00,9,   0.00036,2,    0.002,2,    0.036,2,    0.000,2,   99.962,2
  096U20180111,  SR03,    81,  1,     25,     25,2,20180207,1506,-62.9000, 145.0298, 3982,    400.6,   1.9512,  34.6923,2,  34.6931,2,    182.3,2,    180.9,2,    83.00,2,    32.58,2,     0.00,2,     2.25,2,    -0.01,2,    0.455,2,    0.246,2,     0.25,2,   2254.8,2,   2344.7,2,-999.0000,9,  -999.00,    21.54,2,   -999.0,9,   -999.0,  -999.00,9,   0.00032,2,    0.002,2,    0.030,2,    0.000,2,   99.957,2
  096U20180111,  SR03,    81,  1,     24,     24,2,20180207,1506,-62.9000, 145.0298, 3982,    480.0,   1.8799,  34.7035,2,  34.7037,2,    184.9,2,    184.0,2,    84.60,2,    32.18,2,     0.00,2,     2.22,2,    -0.01,2, -999.000,9, -999.000,9,     -999,9,   2252.8,2,   2346.1,2,-999.0000,9,  -999.00,  -999.00,9,   -999.0,9,   -999.0,  -999.00,9,   0.00032,2,    0.001,2,    0.036,2,    0.000,2,   99.969,2
  096U20180111,  SR03,    81,  1,     23,     23,2,20180207,1506,-62.9000, 145.0298, 3982,    601.4,   1.8681,  34.7251,2,  34.7258,2,    189.4,2,    187.8,2,    85.90,2,    31.66,2,     0.00,2,     2.19,2,    -0.01,2,    0.327,2,    0.176,2,     0.01,2,   2250.6,2,   2347.0,2,-999.0000,9,  -999.00,    20.95,2,   -999.0,9,   -999.0,  -999.00,9,   0.00030,2,    0.002,2,    0.030,2,    0.000,2,   99.946,2
  096U20180111,  SR03,    81,  1,     22,     22,2,20180207,1506,-62.9000, 145.0298, 3982,    751.2,   1.7687,  34.7342,2,  34.7350,2,    193.6,2,    192.0,2,    88.40,2,    31.22,2,     0.00,2,     2.16,2,    -0.01,2,    0.293,2,    0.155,2,     0.09,2,   2250.5,2,   2349.8,6,-999.0000,9,  -999.00,    20.70,2,   -999.0,9,   -999.0,  -999.00,9,   0.00029,2,   -0.001,2,    0.030,2,    0.000,2,  100.021,2
  096U20180111,  SR03,    81,  1,     21,     21,2,20180207,1506,-62.9000, 145.0298, 3982,    902.0,   1.6393,  34.7362,2,  34.7368,2,    196.6,2,    195.2,2,    91.10,2,    31.13,2,     0.00,2,     2.15,2,    -0.01,2, -999.000,9, -999.000,9,     -999,9,   2251.3,2,   2351.8,2,-999.0000,9,  -999.00,  -999.00,9,   -999.0,9,   -999.0,  -999.00,9,   0.00028,2,   -0.001,2,    0.030,2,    0.000,2,  100.031,2
  096U20180111,  SR03,    81,  1,     20,     20,2,20180207,1506,-62.9000, 145.0298, 3982,   1051.8,   1.5461,  34.7395,2,  34.7403,2,    199.4,2,    197.9,2,    94.40,2,    30.96,2,     0.00,2,     2.15,2,    -0.01,2,    0.240,2,    0.129,2,     0.03,2,   -999.0,9,   -999.0,9,-999.0000,9,  -999.00,    19.73,2,   -999.0,9,   -999.0,  -999.00,9,   0.00029,2,   -0.002,2,    0.036,2,    0.000,2,  100.055,2
  096U20180111,  SR03,    81,  1,     19,     19,2,20180207,1506,-62.9000, 145.0298, 3982,   1201.0,   1.4555,  34.7386,2,  34.7395,2,    200.8,2,    199.6,2,    97.40,2,    31.08,2,     0.00,2,     2.15,2,    -0.01,2,    0.209,2,    0.111,2,     0.15,2,   2252.1,6,   2355.6,6,-999.0000,9,  -999.00,    19.51,2,   -999.0,9,   -999.0,  -999.00,9,   0.00025,2,   -0.003,2,    0.036,2,    0.000,2,  100.068,2
  096U20180111,  SR03,    81,  1,     18,     18,2,20180207,1506,-62.9000, 145.0298, 3982,   1401.0,   1.2688,  34.7309,2,  34.7313,2,    202.1,2,    202.0,2,   102.30,2,    31.24,2,     0.00,2,     2.17,2,    -0.01,2,    0.239,2,    0.122,2,     0.08,2,   -999.0,9,   -999.0,9,-999.0000,9,  -999.00,    19.93,2,   -999.0,9,   -999.0,  -999.00,9,   0.00025,2,   -0.002,2,    0.036,2,    0.000,2,  100.063,2
  096U20180111,  SR03,    81,  1,     17,     17,2,20180207,1506,-62.9000, 145.0298, 3982,   1600.7,   1.0862,  34.7222,2,-999.0000,9,    203.9,2,   -999.0,9,  -999.00,9,  -999.00,9,  -999.00,9,  -999.00,9,     -999,9, -999.000,9, -999.000,9,     -999,9,   -999.0,9,   -999.0,9,-999.0000,9,  -999.00,  -999.00,9,   -999.0,9,   -999.0,  -999.00,9,   0.00027,2,   -0.002,2,    0.036,2,    0.000,2,  100.061,2
  096U20180111,  SR03,    81,  1,     16,     16,2,20180207,1506,-62.9000, 145.0298, 3982,   1600.6,   1.0852,  34.7221,2,  34.7227,2,    203.9,2,    204.2,2,   107.50,2,    31.56,2,     0.00,2,     2.19,2,    -0.01,2,    0.254,6,    0.132,6,        0,6,   2255.2,2,   2359.4,2,-999.0000,9,  -999.00,    19.69,6,   -999.0,9,   -999.0,  -999.00,9,   0.00026,2,   -0.002,2,    0.036,2,    0.000,2,  100.059,2
  096U20180111,  SR03,    81,  1,     15,     15,2,20180207,1506,-62.9000, 145.0298, 3982,   1850.7,   0.9285,  34.7142,2,-999.0000,9,    205.8,2,   -999.0,9,  -999.00,9,  -999.00,9,  -999.00,9,  -999.00,9,     -999,9, -999.000,9, -999.000,9,     -999,9,   -999.0,9,   -999.0,9,-999.0000,9,  -999.00,  -999.00,9,   -999.0,9,   -999.0,  -999.00,9,   0.00024,2,   -0.003,2,    0.030,2,    0.000,2,  100.070,2
  096U20180111,  SR03,    81,  1,     14,     14,2,20180207,1506,-62.9000, 145.0298, 3982,   1850.8,   0.9284,  34.7142,2,  34.7147,2,    205.8,2,    206.0,2,   112.60,2,    31.87,2,     0.00,2,     2.21,2,    -0.01,2,    0.263,2,    0.138,2,     0.07,2,   2258.3,2,   2359.6,2,-999.0000,9,  -999.00,    19.39,2,   -999.0,9,   -999.0,  -999.00,9,   0.00025,2,   -0.003,2,    0.030,2,    0.000,2,  100.077,2
  096U20180111,  SR03,    81,  1,     13,     13,2,20180207,1506,-62.9000, 145.0298, 3982,   2096.7,   0.7378,  34.7047,2,  34.7049,2,    208.5,2,    209.0,2,   117.90,2,    32.16,2,     0.01,2,     2.24,2,    -0.01,2,    0.308,2,    0.158,2,     0.02,2,   2259.0,2,   2360.9,2,-999.0000,9,  -999.00,    18.71,2,   -999.0,9,   -999.0,  -999.00,9,   0.00024,2,   -0.003,2,    0.036,2,    0.000,2,  100.084,2
  096U20180111,  SR03,    81,  1,     12,     12,2,20180207,1506,-62.9000, 145.0298, 3982,   2349.3,   0.5935,  34.6973,2,  34.6977,2,    211.8,2,    212.1,2,   122.00,2,    32.36,2,     0.00,2,     2.25,2,    -0.01,2,    0.372,2,    0.193,2,     0.09,2,   -999.0,9,   -999.0,9,-999.0000,9,  -999.00,    18.83,2,   -999.0,9,   -999.0,  -999.00,9,   0.00024,2,   -0.003,2,    0.036,2,    0.000,2,  100.075,2
  096U20180111,  SR03,    81,  1,     11,     11,2,20180207,1506,-62.9000, 145.0298, 3982,   2600.9,   0.4348,  34.6895,2,  34.6898,2,    215.0,2,    215.7,2,   125.40,2,    32.52,2,     0.01,2,     2.26,2,    -0.01,2,    0.489,2,    0.247,2,     0.07,2,   2260.0,2,   2360.4,2,-999.0000,9,  -999.00,    19.44,2,   -999.0,9,   -999.0,  -999.00,9,   0.00023,2,   -0.003,2,    0.036,2,    0.000,2,  100.076,2
  096U20180111,  SR03,    81,  1,     10,     10,2,20180207,1506,-62.9000, 145.0298, 3982,   2850.7,   0.3322,  34.6846,2,-999.0000,9,    218.2,2,   -999.0,9,  -999.00,9,  -999.00,9,  -999.00,9,  -999.00,9,     -999,9, -999.000,9, -999.000,9,     -999,9,   -999.0,9,   -999.0,9,-999.0000,9,  -999.00,  -999.00,9,   -999.0,9,   -999.0,  -999.00,9,   0.00023,2,   -0.003,2,    0.036,2,    0.000,2,  100.073,2
  096U20180111,  SR03,    81,  1,      9,      9,2,20180207,1506,-62.9000, 145.0298, 3982,   2850.7,   0.3321,  34.6846,2,  34.6849,2,    218.2,2,    218.6,2,   128.10,2,    32.56,2,     0.00,2,     2.27,2,    -0.01,2,    0.597,2,    0.303,2,     0.12,2,   2259.0,6,   2359.5,6,-999.0000,9,  -999.00,    19.17,2,   -999.0,9,   -999.0,  -999.00,9,   0.00025,2,   -0.003,2,    0.030,2,    0.000,2,  100.073,2
  096U20180111,  SR03,    81,  1,      8,      8,2,20180207,1506,-62.9000, 145.0298, 3982,   3100.5,   0.2405,  34.6801,2,  34.6800,2,    220.7,2,    221.5,2,   130.00,2,    32.60,2,     0.00,2,     2.27,2,    -0.01,2,    0.731,2,    0.365,2,      0.2,2,   -999.0,9,   -999.0,9,-999.0000,9,  -999.00,    19.18,2,   -999.0,9,   -999.0,  -999.00,9,   0.00023,2,   -0.003,2,    0.030,2,    0.000,2,  100.070,2
  096U20180111,  SR03,    81,  1,      7,      7,2,20180207,1506,-62.9000, 145.0298, 3982,   3352.5,   0.1239,  34.6711,2,  34.6715,2,    226.0,2,    226.3,2,   124.10,3,    32.43,2,     0.01,2,     2.26,2,    -0.01,2,    1.115,2,    0.585,2,     0.38,2,   2258.3,2,   2357.4,2,-999.0000,9,  -999.00,    18.96,2,   -999.0,9,   -999.0,  -999.00,9,   0.00025,2,   -0.002,2,    0.030,2,    0.000,2,  100.050,2
  096U20180111,  SR03,    81,  1,      6,      6,2,20180207,1506,-62.9000, 145.0298, 3982,   3601.1,   0.0288,  34.6661,2,-999.0000,9,    229.8,2,   -999.0,9,  -999.00,9,  -999.00,9,  -999.00,9,  -999.00,9,     -999,9, -999.000,9, -999.000,9,     -999,9,   -999.0,9,   -999.0,9,-999.0000,9,  -999.00,  -999.00,9,   -999.0,9,   -999.0,  -999.00,9,   0.00024,2,   -0.001,2,    0.036,2,    0.000,2,  100.018,2
  096U20180111,  SR03,    81,  1,      5,      5,2,20180207,1506,-62.9000, 145.0298, 3982,   3601.0,   0.0284,  34.6662,2,  34.6666,2,    229.7,2,    229.9,2,   126.20,2,    32.39,2,     0.00,2,     2.26,2,    -0.01,2,    1.359,2,    0.706,2,     0.58,2,   2258.3,2,   2356.4,6,-999.0000,9,  -999.00,    19.30,2,   -999.0,9,   -999.0,  -999.00,9,   0.00024,2,   -0.001,2,    0.036,2,    0.000,2,  100.032,2
  096U20180111,  SR03,    81,  1,      4,      4,2,20180207,1506,-62.9000, 145.0298, 3982,   3849.9,  -0.0868,  34.6571,2,  34.6577,2,    235.2,2,    234.8,2,   119.50,2,    32.29,2,     0.01,2,     2.25,2,    -0.01,2,    1.762,2,    0.952,2,     0.92,2,   2255.3,2,   2354.8,2,-999.0000,9,  -999.00,    19.03,2,   -999.0,9,   -999.0,  -999.00,9,   0.00026,2,    0.001,2,    0.030,2,    0.000,2,   99.968,2
  096U20180111,  SR03,    81,  1,      3,      3,2,20180207,1506,-62.9000, 145.0298, 3982,   4011.4,  -0.2264,  34.6485,2,  34.6480,2,    243.5,2,    243.1,2,   106.30,2,    31.99,2,     0.01,2,     2.23,2,    -0.01,2,    2.229,2,    1.203,2,     1.07,2,   2255.0,2,   2351.1,2,-999.0000,9,  -999.00,    19.94,2,   -999.0,9,   -999.0,  -999.00,9,   0.00040,2,    0.009,2,    0.036,2,    0.000,2,   99.778,2
  096U20180111,  SR03,    81,  1,      2,      2,2,20180207,1506,-62.9000, 145.0298, 3982,   4060.4,  -0.2449,  34.6523,2,-999.0000,9,    245.1,2,   -999.0,9,  -999.00,9,  -999.00,9,  -999.00,9,  -999.00,9,     -999,9, -999.000,9, -999.000,9,     -999,9,   -999.0,9,   -999.0,9,-999.0000,9,  -999.00,  -999.00,9,   -999.0,9,   -999.0,  -999.00,9,   0.00045,2,    0.013,2,    0.036,2,    0.000,2,   99.678,2
  096U20180111,  SR03,    81,  1,      1,      1,2,20180207,1506,-62.9000, 145.0298, 3982,   4060.4,  -0.2448,  34.6523,2,  34.6512,2,    245.1,2,    244.5,2,   104.00,2,    31.94,2,     0.01,2,     2.22,2,    -0.01,2,    2.303,2,    1.262,2,     1.12,2,   2255.3,2,   2351.1,2,-999.0000,9,  -999.00,    19.54,2,   -999.0,9,   -999.0,  -999.00,9,   0.00044,2,    0.013,2,    0.036,2,    0.000,2,   99.681,2