BOTTLE,20230418CCHSIOENA
EXPOCODE,SECT_ID,STNNBR,CASTNO,SAMPNO,BTLNBR,BTLNBR_FLAG_W,DATE,TIME,LATITUDE,LONGITUDE,DEPTH,CTDPRS,CTDTMP,CTDSAL,CTDSAL_FLAG_W,SALNTY,SALNTY_FLAG_W,CTDOXY,CTDOXY_FLAG_W,OXYGEN,OXYGEN_FLAG_W,SILCAT,SILCAT_FLAG_W,NITRAT,NITRAT_FLAG_W,NITRIT,NITRIT_FLAG_W,PHSPHT,PHSPHT_FLAG_W,NH4,NH4_FLAG_W,CFC-11,CFC-11_FLAG_W,CFC-12,CFC-12_FLAG_W,SF6,SF6_FLAG_W,TCARBN,TCARBN_FLAG_W,ALKALI,ALKALI_FLAG_W,PH_TOT,PH_TOT_FLAG_W,PH_TMP,N2O,N2O_FLAG_W,DELC14,DELC14_FLAG_W,C14ERR,DELC13,DELC13_FLAG_W,CTDBETA700,CTDBETA700_FLAG_W,CTDBEAMCP,CTDBEAMCP_FLAG_W,CTDFLUOR,CTDFLUOR_FLAG_W,PAR,PAR_FLAG_W,CTDXMISS,CTDXMISS_FLAG_W
,,,,,,,,,,,METERS,DBAR,ITS-90,PSS-78,,PSS-78,,UMOL/KG,,UMOL/KG,,UMOL/KG,,UMOL/KG,,UMOL/KG,,UMOL/KG,,UMOL/KG,,PMOL/KG,,PMOL/KG,,FMOL/KG,,UMOL/KG,,UMOL/KG,,,,DEG C,NMOL/KG,,/MILLE,,/MILLE,/MILLE,,VOLTS,,1/M,,MG/M^3,,UMOL/M^2/SEC,,%TRANS,
  096U20180111,  SR03,    52,  1,     36,     36,2,20180130,1159,-64.2135, 139.8365, 3482,     10.5,   0.0794,  33.8527,2,-999.0000,9,    335.2,2,   -999.0,9,  -999.00,9,  -999.00,9,  -999.00,9,  -999.00,9,     -999,9, -999.000,9, -999.000,9,     -999,9,   -999.0,9,   -999.0,9,-999.0000,9,  -999.00,  -999.00,9,   -999.0,9,   -999.0,  -999.00,9,   0.00186,2,    0.191,2,    1.470,2,    1.110,2,   95.326,2
  096U20180111,  SR03,    52,  1,     35,     35,2,20180130,1159,-64.2135, 139.8365, 3482,     10.6,   0.0739,  33.8526,2,  33.8535,2,    335.2,2,    337.9,2,    43.90,2,    27.32,2,     0.18,2,     1.83,2,     0.32,2,    5.280,2,    2.875,2,     3.37,2,   2169.6,6,   2291.2,6,-999.0000,9,  -999.00,    15.66,2,   -999.0,9,   -999.0,  -999.00,9,   0.00185,2,    0.192,2,    1.500,2,    1.150,2,   95.304,2
  096U20180111,  SR03,    52,  1,     34,     34,2,20180130,1159,-64.2135, 139.8365, 3482,     30.3,  -0.1319,  33.8554,2,  33.8587,2,    335.8,2,    337.0,2,    44.50,2,    27.43,2,     0.17,2,     1.84,2,      0.3,2, -999.000,9, -999.000,9,     -999,9,   2168.5,2,   2292.2,2,-999.0000,9,  -999.00,  -999.00,9,   -999.0,9,   -999.0,  -999.00,9,   0.00214,2,    0.213,2,    1.728,2,    0.056,2,   94.813,2
  096U20180111,  SR03,    52,  1,     33,     33,2,20180130,1159,-64.2135, 139.8365, 3482,     55.3,  -0.1979,  33.9075,2,  33.9093,2,    330.4,2,    328.2,2,    46.10,2,    27.89,2,     0.17,2,     1.90,2,     0.31,2,    5.002,2,    2.733,2,     3.32,2,   2176.9,2,   2294.2,2,-999.0000,9,  -999.00,    16.24,2,   -999.0,9,   -999.0,  -999.00,9,   0.00187,2,    0.187,2,    1.728,2,    0.000,2,   95.440,2
  096U20180111,  SR03,    52,  1,     32,     32,2,20180130,1159,-64.2135, 139.8365, 3482,     80.3,  -0.1207,  34.2563,2,  34.2828,2,    272.3,2,    256.1,2,    63.00,2,    31.85,2,     0.14,2,     2.23,2,     0.13,2,    3.151,6,    1.723,6,     1.79,6,   2221.3,2,   2316.5,2,-999.0000,9,  -999.00,    20.01,6,   -999.0,9,   -999.0,  -999.00,9,   0.00092,2,    0.069,2,    0.906,2,    0.000,2,   98.288,2
  096U20180111,  SR03,    52,  1,     31,     31,2,20180130,1159,-64.2135, 139.8365, 3482,    100.5,   0.3001,  34.3893,2,  34.4100,2,    285.1,2,    228.0,2,    69.80,2,    32.84,2,     0.08,2,     2.30,2,     0.03,2, -999.000,9, -999.000,9,     -999,9,   -999.0,9,   -999.0,9,-999.0000,9,  -999.00,  -999.00,9,   -999.0,9,   -999.0,  -999.00,9,   0.00063,2,    0.031,2,    0.438,2,    0.000,2,   99.231,2
  096U20180111,  SR03,    52,  1,     30,     30,2,20180130,1159,-64.2135, 139.8365, 3482,    130.7,  -0.0641,  34.4456,2,  34.4541,2,    235.6,2,    240.9,2,    71.20,2,    32.30,2,     0.04,2,     2.25,2,        0,2,    2.686,2,    1.464,2,     1.44,2,   2234.2,2,   2328.3,2,-999.0000,9,  -999.00,    20.16,2,   -999.0,9,   -999.0,  -999.00,9,   0.00062,2,    0.013,2,    0.168,2,    0.000,2,   99.671,2
  096U20180111,  SR03,    52,  1,     29,     29,2,20180130,1159,-64.2135, 139.8365, 3482,    180.7,   1.1110,  34.5835,2,  34.5886,2,    199.0,2,    201.8,2,    79.20,2,    32.72,2,     0.02,2,     2.28,2,        0,2,    1.398,2,    0.765,2,     0.78,2,   2247.7,2,   2337.3,2,-999.0000,9,  -999.00,    21.53,2,   -999.0,9,   -999.0,  -999.00,9,   0.00050,2,    0.010,2,    0.060,2,    0.000,2,   99.750,2
  096U20180111,  SR03,    52,  1,     28,     28,2,20180130,1159,-64.2135, 139.8365, 3482,    240.7,   1.4300,  34.6541,2,  34.6564,2,    203.8,2,    194.4,2,    83.30,2,    32.37,2,     0.01,2,     2.25,2,        0,2,    0.947,2,    0.520,2,     0.44,2,   2250.4,2,   2342.2,6,-999.0000,9,  -999.00,    21.81,2,   -999.0,9,   -999.0,  -999.00,9,   0.00054,2,    0.009,2,    0.042,2,    0.000,2,   99.782,2
  096U20180111,  SR03,    52,  1,     27,     27,2,20180130,1159,-64.2135, 139.8365, 3482,    290.0,   1.5513,  34.6804,2,  34.6866,2,    195.4,2,    191.5,2,    85.10,2,    32.01,2,     0.01,2,     2.22,2,        0,2,    0.711,2,    0.389,2,     0.27,2,   2251.0,2,   2345.2,2,-999.0000,9,  -999.00,    21.11,2,   -999.0,9,   -999.0,  -999.00,9,   0.00052,2,    0.006,2,    0.036,2,    0.000,2,   99.862,2
  096U20180111,  SR03,    52,  1,     26,     26,2,20180130,1159,-64.2135, 139.8365, 3482,    341.0,   1.7504,  34.7176,2,-999.0000,9,    189.4,2,   -999.0,9,  -999.00,9,  -999.00,9,  -999.00,9,  -999.00,9,     -999,9, -999.000,9, -999.000,9,     -999,9,   -999.0,9,   -999.0,9,-999.0000,9,  -999.00,  -999.00,9,   -999.0,9,   -999.0,  -999.00,9,   0.00037,2,    0.000,2,    0.036,2,    0.000,2,   99.998,2
  096U20180111,  SR03,    52,  1,     25,     25,2,20180130,1159,-64.2135, 139.8365, 3482,    341.0,   1.7603,  34.7183,2,  34.7506,4,    189.4,2,    189.6,2,    86.30,2,    31.52,2,     0.01,2,     2.19,2,    -0.01,2,    0.423,2,    0.227,2,     0.09,2,   2252.8,2,   2347.8,2,-999.0000,9,  -999.00,    20.45,2,   -999.0,9,   -999.0,  -999.00,9,   0.00035,2,    0.000,2,    0.036,2,    0.000,2,  100.000,2
  096U20180111,  SR03,    52,  1,     24,     24,2,20180130,1159,-64.2135, 139.8365, 3482,    410.6,   1.6321,  34.7170,2,  34.7187,2,    192.9,2,    193.0,2,    87.70,2,    31.41,2,     0.01,2,     2.18,2,        0,2,    0.483,2,    0.265,2,     0.21,2,   2249.4,2,   2347.4,2,-999.0000,9,  -999.00,    19.81,2,   -999.0,9,   -999.0,  -999.00,9,   0.00036,2,   -0.001,2,    0.036,2,    0.000,2,  100.022,2
  096U20180111,  SR03,    52,  1,     23,     23,2,20180130,1159,-64.2135, 139.8365, 3482,    500.9,   1.5962,  34.7277,2,  34.7283,2,    195.7,2,    195.2,2,    89.70,2,    31.15,2,     0.00,2,     2.16,2,        0,2, -999.000,9, -999.000,9,     -999,9,   -999.0,9,   -999.0,9,-999.0000,9,  -999.00,  -999.00,9,   -999.0,9,   -999.0,  -999.00,9,   0.00031,2,   -0.002,2,    0.036,2,    0.000,2,  100.037,2
  096U20180111,  SR03,    52,  1,     22,     22,2,20180130,1159,-64.2135, 139.8365, 3482,    575.6,   1.5853,  34.7356,2,  34.7353,2,    196.9,2,    196.4,2,    91.30,2,    30.96,2,     0.00,2,     2.15,2,    -0.01,2,    0.319,2,    0.170,2,     0.14,2,   2248.0,2,   2352.4,2,-999.0000,9,  -999.00,    19.65,2,   -999.0,9,   -999.0,  -999.00,9,   0.00038,2,   -0.002,2,    0.030,2,    0.000,2,  100.053,2
  096U20180111,  SR03,    52,  1,     21,     21,2,20180130,1159,-64.2135, 139.8365, 3482,    650.8,   1.4827,  34.7336,2,  34.7343,2,    197.8,2,    198.3,2,    93.40,2,    30.93,2,     0.01,2,     2.15,2,    -0.01,2, -999.000,9, -999.000,9,     -999,9,   -999.0,9,   -999.0,9,-999.0000,9,  -999.00,  -999.00,9,   -999.0,9,   -999.0,  -999.00,9,   0.00106,2,   -0.002,2,    0.036,2,    0.000,2,  100.045,2
  096U20180111,  SR03,    52,  1,     20,     20,2,20180130,1159,-64.2135, 139.8365, 3482,    751.0,   1.3989,  34.7324,2,  34.7320,2,    199.8,2,    200.0,2,    95.80,2,    31.01,2,     0.01,2,     2.15,2,    -0.01,2,    0.331,2,    0.178,2,        0,2,   2252.3,2,   2353.4,2,-999.0000,9,  -999.00,    18.89,2,   -999.0,9,   -999.0,  -999.00,9,   0.00030,2,   -0.002,2,    0.036,2,    0.000,2,  100.051,2
  096U20180111,  SR03,    52,  1,     19,     19,2,20180130,1159,-64.2135, 139.8365, 3482,    850.1,   1.3099,  34.7271,2,  34.7275,2,    200.8,2,    202.1,2,    97.20,2,    31.08,2,     0.00,2,     2.16,2,    -0.01,2,    0.382,2,    0.207,2,     0.13,2,   2253.4,6,   2353.8,6,-999.0000,9,  -999.00,    19.41,2,   -999.0,9,   -999.0,  -999.00,9,   0.00029,2,   -0.002,2,    0.030,2,    0.000,2,  100.052,2
  096U20180111,  SR03,    52,  1,     18,     18,2,20180130,1159,-64.2135, 139.8365, 3482,    951.2,   1.1699,  34.7225,2,  34.7233,2,    202.5,2,    203.5,2,   100.50,2,    31.22,2,     0.00,2,     2.17,2,        0,2, -999.000,9, -999.000,9,     -999,9,   -999.0,9,   -999.0,9,-999.0000,9,  -999.00,  -999.00,9,   -999.0,9,   -999.0,  -999.00,9,   0.00029,2,   -0.003,2,    0.030,2,    0.000,2,  100.083,2
  096U20180111,  SR03,    52,  1,     17,     17,2,20180130,1159,-64.2135, 139.8365, 3482,   1051.4,   1.1204,  34.7208,2,  34.7200,2,    204.0,2,    205.5,2,   102.20,2,    31.32,2,     0.00,2,     2.17,2,    -0.01,2,    0.382,2,    0.206,2,      0.1,2,   2255.9,2,   2355.0,2,-999.0000,9,  -999.00,    19.01,2,   -999.0,9,   -999.0,  -999.00,9,   0.00031,2,   -0.003,2,    0.030,2,    0.000,2,  100.068,2
  096U20180111,  SR03,    52,  1,     16,     16,2,20180130,1159,-64.2135, 139.8365, 3482,   1151.7,   1.0203,  34.7180,2,  34.7179,2,    205.0,2,    205.1,2,   106.10,2,    31.42,2,     0.00,2,     2.19,2,        0,2, -999.000,9, -999.000,9,     -999,9,   -999.0,9,   -999.0,9,-999.0000,9,  -999.00,  -999.00,9,   -999.0,9,   -999.0,  -999.00,9,   0.00029,2,   -0.003,2,    0.036,2,    0.000,2,  100.084,2
  096U20180111,  SR03,    52,  1,     15,     15,2,20180130,1159,-64.2135, 139.8365, 3482,   1301.7,   0.9188,  34.7141,2,  34.7139,2,    206.9,2,    206.6,2,   109.80,2,    31.64,2,     0.00,2,     2.20,2,    -0.01,2,    0.326,2,    0.172,2,     0.13,2,   2254.3,2,   2359.7,2,-999.0000,9,  -999.00,    18.94,2,   -999.0,9,   -999.0,  -999.00,9,   0.00028,2,   -0.003,2,    0.030,2,    0.000,2,  100.082,2
  096U20180111,  SR03,    52,  1,     14,     14,2,20180130,1159,-64.2135, 139.8365, 3482,   1501.4,   0.7331,  34.7057,2,  34.7062,2,    209.7,2,    209.0,2,   115.80,2,    31.90,2,     0.00,2,     2.23,2,    -0.01,2,    0.333,2,    0.176,2,     0.04,2,   2259.2,2,   2358.1,2,-999.0000,9,  -999.00,    18.65,2,   -999.0,9,   -999.0,  -999.00,9,   0.00028,2,   -0.004,2,    0.030,2,    0.000,2,  100.108,2
  096U20180111,  SR03,    52,  1,     13,     13,2,20180130,1159,-64.2135, 139.8365, 3482,   1701.1,   0.5709,  34.6953,2,  34.6964,2,    211.2,2,    211.8,2,   117.80,2,    32.09,2,     0.00,2,     2.24,2,    -0.01,2, -999.000,9, -999.000,9,     -999,9,   -999.0,9,   -999.0,9,-999.0000,9,  -999.00,  -999.00,9,   -999.0,9,   -999.0,  -999.00,9,   0.00026,2,   -0.004,2,    0.036,2,    0.000,2,  100.100,2
  096U20180111,  SR03,    52,  1,     12,     12,2,20180130,1159,-64.2135, 139.8365, 3482,   1900.6,   0.4400,  34.6884,2,  34.6882,2,    214.4,2,    214.8,2,   119.40,2,    32.20,2,     0.00,2,     2.25,2,    -0.01,2,    0.590,2,    0.316,2,     0.16,2,   2259.6,2,   2358.9,2,-999.0000,9,  -999.00,    18.82,2,   -999.0,9,   -999.0,  -999.00,9,   0.00025,2,   -0.004,2,    0.030,2,    0.000,2,  100.090,2
  096U20180111,  SR03,    52,  1,     11,     11,2,20180130,1159,-64.2135, 139.8365, 3482,   2101.4,   0.3384,  34.6844,2,  34.6847,2,    217.2,2,    217.8,2,   122.00,2,    32.24,2,     0.01,2,     2.25,2,    -0.01,2, -999.000,9, -999.000,9,     -999,9,   -999.0,9,   -999.0,9,-999.0000,9,  -999.00,  -999.00,9,   -999.0,9,   -999.0,  -999.00,9,   0.00028,2,   -0.005,2,    0.036,2,    0.000,2,  100.113,2
  096U20180111,  SR03,    52,  1,     10,     10,2,20180130,1159,-64.2135, 139.8365, 3482,   2301.3,   0.2439,  34.6809,2,  34.6815,2,    220.3,2,    220.6,2,   123.20,2,    32.28,2,     0.01,2,     2.25,2,    -0.01,2,    0.786,2,    0.413,2,     0.24,2,   2260.6,2,   2359.0,2,-999.0000,9,  -999.00,    18.77,2,   -999.0,9,   -999.0,  -999.00,9,   0.00025,2,   -0.005,2,    0.036,2,    0.000,2,  100.116,2
  096U20180111,  SR03,    52,  1,      9,      9,2,20180130,1159,-64.2135, 139.8365, 3482,   2501.1,   0.1610,  34.6772,2,  34.6769,2,    223.7,2,    223.3,2,   123.60,2,    32.29,2,     0.01,2,     2.25,2,        0,2,    0.938,2,    0.489,2,     0.39,2,   2260.2,2,   2356.9,2,-999.0000,9,  -999.00,    18.67,2,   -999.0,9,   -999.0,  -999.00,9,   0.00024,2,   -0.005,2,    0.036,2,    0.000,2,  100.119,2
  096U20180111,  SR03,    52,  1,      8,      8,2,20180130,1159,-64.2135, 139.8365, 3482,   2701.3,   0.0683,  34.6726,2,  34.6724,2,    227.5,2,    226.5,2,   124.40,2,    32.29,2,     0.01,2,     2.26,2,    -0.01,2, -999.000,9, -999.000,9,     -999,9,   -999.0,9,   -999.0,9,-999.0000,9,  -999.00,  -999.00,9,   -999.0,9,   -999.0,  -999.00,9,   0.00024,2,   -0.005,2,    0.030,2,    0.000,2,  100.116,2
  096U20180111,  SR03,    52,  1,      7,      7,2,20180130,1159,-64.2135, 139.8365, 3482,   2901.4,  -0.0283,  34.6670,2,  34.6663,2,    230.9,2,    231.0,2,   120.90,2,    32.19,2,     0.01,2,     2.25,2,        0,2,    1.417,2,    0.745,2,     0.57,2,   2258.8,2,   2356.2,2,-999.0000,9,  -999.00,    18.78,2,   -999.0,9,   -999.0,  -999.00,9,   0.00025,2,   -0.004,2,    0.042,2,    0.000,2,  100.099,2
  096U20180111,  SR03,    52,  1,      6,      6,2,20180130,1159,-64.2135, 139.8365, 3482,   3101.2,  -0.1212,  34.6603,2,  34.6604,2,    235.0,2,    234.9,2,   118.10,2,    32.15,2,     0.01,2,     2.24,2,    -0.01,2,    1.709,2,    0.910,2,     0.71,2,   -999.0,9,   -999.0,9,-999.0000,9,  -999.00,    18.34,2,   -999.0,9,   -999.0,  -999.00,9,   0.00027,2,   -0.003,2,    0.030,2,    0.000,2,  100.067,2
  096U20180111,  SR03,    52,  1,      5,      5,2,20180130,1159,-64.2135, 139.8365, 3482,   3300.0,  -0.2314,  34.6564,2,  34.6567,2,    240.6,2,    240.7,2,   105.70,2,    31.84,2,     0.01,2,     2.23,2,        0,2,    2.131,2,    1.158,2,     1.13,2,   2252.5,2,   2352.6,2,-999.0000,9,  -999.00,    18.73,2,   -999.0,9,   -999.0,  -999.00,9,   0.00032,2,    0.001,2,    0.030,2,    0.000,2,   99.988,2
  096U20180111,  SR03,    52,  1,      4,      4,2,20180130,1159,-64.2135, 139.8365, 3482,   3450.9,  -0.3409,  34.6506,2,  34.6501,2,    246.1,2,    246.4,2,   101.10,2,    31.70,2,     0.01,2,     2.22,2,        0,2,    2.362,2,    1.284,2,     1.25,2,   2255.1,2,   2351.1,6,-999.0000,9,  -999.00,    18.23,2,   -999.0,9,   -999.0,  -999.00,9,   0.00075,2,    0.023,2,    0.036,2,    0.000,2,   99.435,2
  096U20180111,  SR03,    52,  1,      3,      3,2,20180130,1159,-64.2135, 139.8365, 3482,   3500.3,  -0.3330,  34.6513,2,  34.6514,2,    246.1,2,    246.5,2,   101.10,2,    31.69,2,     0.01,2,     2.22,2,        0,2,    2.357,2,    1.283,2,     1.12,2,   2254.3,6,   2350.9,6,-999.0000,9,  -999.00,    18.56,2,   -999.0,9,   -999.0,  -999.00,9,   0.00086,2,    0.027,2,    0.036,2,    0.000,2,   99.315,2
  096U20180111,  SR03,    52,  1,      2,      2,2,20180130,1159,-64.2135, 139.8365, 3482,   3548.4,  -0.3247,  34.6521,2,-999.0000,9,    246.6,2,   -999.0,9,  -999.00,9,  -999.00,9,  -999.00,9,  -999.00,9,     -999,9, -999.000,9, -999.000,9,     -999,9,   -999.0,9,   -999.0,9,-999.0000,9,  -999.00,  -999.00,9,   -999.0,9,   -999.0,  -999.00,9,   0.00090,2,    0.029,2,    0.036,2,    0.000,2,   99.271,2
  096U20180111,  SR03,    52,  1,      1,      1,2,20180130,1159,-64.2135, 139.8365, 3482,   3548.3,  -0.3254,  34.6517,2,  34.6515,2,    246.6,2,    246.9,2,   101.20,2,    31.68,2,     0.01,2,     2.22,2,        0,2,    2.351,2,    1.282,2,     1.21,2,   2251.6,2,   2351.2,2,-999.0000,9,  -999.00,    18.84,2,   -999.0,9,   -999.0,  -999.00,9,   0.00089,2,    0.031,2,    0.030,2,    0.000,2,   99.240,2