BOTTLE,20230418CCHSIOENA
EXPOCODE,SECT_ID,STNNBR,CASTNO,SAMPNO,BTLNBR,BTLNBR_FLAG_W,DATE,TIME,LATITUDE,LONGITUDE,DEPTH,CTDPRS,CTDTMP,CTDSAL,CTDSAL_FLAG_W,SALNTY,SALNTY_FLAG_W,CTDOXY,CTDOXY_FLAG_W,OXYGEN,OXYGEN_FLAG_W,SILCAT,SILCAT_FLAG_W,NITRAT,NITRAT_FLAG_W,NITRIT,NITRIT_FLAG_W,PHSPHT,PHSPHT_FLAG_W,NH4,NH4_FLAG_W,CFC-11,CFC-11_FLAG_W,CFC-12,CFC-12_FLAG_W,SF6,SF6_FLAG_W,TCARBN,TCARBN_FLAG_W,ALKALI,ALKALI_FLAG_W,PH_TOT,PH_TOT_FLAG_W,PH_TMP,N2O,N2O_FLAG_W,DELC14,DELC14_FLAG_W,C14ERR,DELC13,DELC13_FLAG_W,CTDBETA700,CTDBETA700_FLAG_W,CTDBEAMCP,CTDBEAMCP_FLAG_W,CTDFLUOR,CTDFLUOR_FLAG_W,PAR,PAR_FLAG_W,CTDXMISS,CTDXMISS_FLAG_W
,,,,,,,,,,,METERS,DBAR,ITS-90,PSS-78,,PSS-78,,UMOL/KG,,UMOL/KG,,UMOL/KG,,UMOL/KG,,UMOL/KG,,UMOL/KG,,UMOL/KG,,PMOL/KG,,PMOL/KG,,FMOL/KG,,UMOL/KG,,UMOL/KG,,,,DEG C,NMOL/KG,,/MILLE,,/MILLE,/MILLE,,VOLTS,,1/M,,MG/M^3,,UMOL/M^2/SEC,,%TRANS,
  096U20180111,  SR03,    33,  1,     36,     36,2,20180123,1347,-55.4995, 140.7302, 4048,     11.1,   4.9324,  33.8373,2,  33.9082,4,    310.8,2,    310.9,2,     2.00,2,    23.81,2,     0.24,2,     1.58,2,     0.09,2,    4.393,2,    2.407,2,     2.88,2,   2130.2,2,   2277.3,2,   7.7433,   2,    25.00,    12.75,2,   -999.0,9,   -999.0,  -999.00,9,   0.00230,2,    0.162,2,    1.644,2,    0.935,2,   96.024,2
  096U20180111,  SR03,    33,  1,     35,     35,2,20180123,1347,-55.4995, 140.7302, 4048,     11.1,   4.9329,  33.8371,2,-999.0000,9,    310.8,2,   -999.0,9,  -999.00,9,  -999.00,9,  -999.00,9,  -999.00,9,     -999,9, -999.000,9, -999.000,9,     -999,9,   -999.0,9,   -999.0,9,-999.0000,9,  -999.00,  -999.00,9,   -999.0,9,   -999.0,  -999.00,9,   0.00229,2,    0.163,2,    1.596,2,    0.960,2,   96.000,2
  096U20180111,  SR03,    33,  1,     34,     34,2,20180123,1347,-55.4995, 140.7302, 4048,     30.9,   4.9330,  33.8366,2,  33.8373,2,    311.4,2,    311.2,2,     2.00,2,    23.80,2,     0.24,2,     1.60,2,     0.09,2, -999.000,9, -999.000,9,     -999,9,   -999.0,9,   -999.0,9,-999.0000,9,  -999.00,  -999.00,9,   -999.0,9,   -999.0,  -999.00,9,   0.00242,2,    0.166,2,    1.764,2,    0.047,2,   95.945,2
  096U20180111,  SR03,    33,  1,     33,     33,2,20180123,1347,-55.4995, 140.7302, 4048,     49.9,   4.7145,  33.8367,2,  33.8374,2,    312.7,2,    313.8,2,     2.70,2,    24.03,2,     0.24,2,     1.61,2,      0.1,2,    4.478,2,    2.409,2,     3.09,2,   2130.3,2,   2278.7,2,-999.0000,9,  -999.00,    13.00,2,   -999.0,9,   -999.0,  -999.00,9,   0.00268,2,    0.182,2,    2.244,2,    0.000,2,   95.563,2
  096U20180111,  SR03,    33,  1,     32,     32,2,20180123,1347,-55.4995, 140.7302, 4048,     81.0,   3.9592,  33.8508,2,  33.8543,2,    309.9,2,    318.3,2,     5.70,2,    24.75,2,     0.24,2,     1.67,2,     0.27,2, -999.000,9, -999.000,9,     -999,9,   2138.2,2,   2280.2,2,   7.7222,   6,    25.00,  -999.00,9,   -999.0,9,   -999.0,  -999.00,9,   0.00293,2,    0.213,2,    2.784,2,    0.000,2,   94.826,2
  096U20180111,  SR03,    33,  1,     31,     31,2,20180123,1347,-55.4995, 140.7302, 4048,     81.2,   3.9236,  33.8506,2,-999.0000,9,    310.4,2,   -999.0,9,  -999.00,9,  -999.00,9,  -999.00,9,  -999.00,9,     -999,9, -999.000,9, -999.000,9,     -999,9,   -999.0,9,   -999.0,9,-999.0000,9,  -999.00,  -999.00,9,   -999.0,9,   -999.0,  -999.00,9,   0.00310,2,    0.212,2,    2.850,2,    0.000,2,   94.828,2
  096U20180111,  SR03,    33,  1,     30,     30,2,20180123,1347,-55.4995, 140.7302, 4048,    110.9,   2.1287,  33.9330,2,  33.9331,2,    314.5,2,    318.2,2,    16.20,2,    27.00,2,     0.40,2,     1.92,2,     0.28,2,    4.877,2,    2.614,2,     3.27,2,   2159.3,2,   2283.2,2,-999.0000,9,  -999.00,    14.26,2,   -999.0,9,   -999.0,  -999.00,9,   0.00099,2,    0.041,2,    0.324,2,    0.000,2,   98.969,2
  096U20180111,  SR03,    33,  1,     29,     29,2,20180123,1347,-55.4995, 140.7302, 4048,    111.0,   2.1276,  33.9330,2,-999.0000,9,    314.0,2,   -999.0,9,  -999.00,9,  -999.00,9,  -999.00,9,  -999.00,9,     -999,9, -999.000,9, -999.000,9,     -999,9,   -999.0,9,   -999.0,9,-999.0000,9,  -999.00,  -999.00,9,   -999.0,9,   -999.0,  -999.00,9,   0.00092,2,    0.041,2,    0.294,2,    0.000,2,   98.975,2
  096U20180111,  SR03,    33,  1,     28,     28,2,20180123,1347,-55.4995, 140.7302, 4048,    111.1,   2.1261,  33.9329,2,-999.0000,9,    314.0,2,   -999.0,9,  -999.00,9,  -999.00,9,  -999.00,9,  -999.00,9,     -999,9, -999.000,9, -999.000,9,     -999,9,   -999.0,9,   -999.0,9,-999.0000,9,  -999.00,  -999.00,9,   -999.0,9,   -999.0,  -999.00,9,   0.00110,2,    0.041,2,    0.264,2,    0.000,2,   98.974,2
  096U20180111,  SR03,    33,  1,     27,     27,2,20180123,1347,-55.4995, 140.7302, 4048,    111.0,   2.1225,  33.9331,2,-999.0000,9,    314.5,2,   -999.0,9,  -999.00,9,  -999.00,9,  -999.00,9,  -999.00,9,     -999,9, -999.000,9, -999.000,9,     -999,9,   -999.0,9,   -999.0,9,-999.0000,9,  -999.00,  -999.00,9,   -999.0,9,   -999.0,  -999.00,9,   0.00095,2,    0.041,2,    0.282,2,    0.000,2,   98.976,2
  096U20180111,  SR03,    33,  1,     26,     26,2,20180123,1347,-55.4995, 140.7302, 4048,    110.8,   2.1185,  33.9333,2,-999.0000,9,    314.5,2,   -999.0,9,  -999.00,9,  -999.00,9,  -999.00,9,  -999.00,9,     -999,9, -999.000,9, -999.000,9,     -999,9,   -999.0,9,   -999.0,9,-999.0000,9,  -999.00,  -999.00,9,   -999.0,9,   -999.0,  -999.00,9,   0.00094,2,    0.040,2,    0.336,2,    0.000,2,   98.997,2
  096U20180111,  SR03,    33,  1,     25,     25,2,20180123,1347,-55.4995, 140.7302, 4048,    110.9,   2.1123,  33.9337,2,-999.0000,9,    314.5,2,   -999.0,9,  -999.00,9,  -999.00,9,  -999.00,9,  -999.00,9,     -999,9, -999.000,9, -999.000,9,     -999,9,   -999.0,9,   -999.0,9,-999.0000,9,  -999.00,  -999.00,9,   -999.0,9,   -999.0,  -999.00,9,   0.00105,2,    0.040,2,    0.288,2,    0.000,2,   99.004,2
  096U20180111,  SR03,    33,  1,     24,     24,2,20180123,1347,-55.4995, 140.7302, 4048,    140.4,   1.8754,  33.9507,2,  33.9511,2,    309.8,2,    313.7,2,    18.50,2,    28.17,2,     0.06,2,     1.94,2,    -0.01,2, -999.000,5, -999.000,5,     -999,5,   2164.0,2,   2283.6,2,   7.6648,   2,    25.00,  -999.00,5,   -999.0,9,   -999.0,  -999.00,9,   0.00078,2,    0.027,2,    0.084,2,    0.000,2,   99.329,2
  096U20180111,  SR03,    33,  1,     23,     23,2,20180123,1347,-55.4995, 140.7302, 4048,    180.7,   1.8821,  33.9867,2,  33.9870,2,    305.0,2,    302.3,2,    21.40,2,    28.87,2,     0.02,2,     1.99,2,    -0.01,2,    4.665,2,    2.458,2,     2.64,2,   2171.8,6,   2285.8,6,   7.6507,   2,    25.00,    15.40,2,   -999.0,9,   -999.0,  -999.00,9,   0.00063,2,    0.018,2,    0.048,2,    0.000,2,   99.554,2
  096U20180111,  SR03,    33,  1,     22,     22,2,20180123,1347,-55.4995, 140.7302, 4048,    230.1,   2.1557,  34.0736,2,  34.0712,2,    276.7,2,    274.6,2,    28.30,2,    30.37,2,     0.01,2,     2.09,2,    -0.01,2, -999.000,9, -999.000,9,     -999,9,   -999.0,9,   -999.0,9,-999.0000,9,  -999.00,  -999.00,9,   -999.0,9,   -999.0,  -999.00,9,   0.00059,2,    0.016,2,    0.036,2,    0.000,2,   99.602,2
  096U20180111,  SR03,    33,  1,     21,     21,2,20180123,1347,-55.4995, 140.7302, 4048,    270.0,   2.3929,  34.1467,2,  34.1453,2,    253.2,2,    251.8,2,    34.30,2,    31.55,2,     0.01,2,     2.17,2,    -0.01,2,    3.671,2,    1.934,2,        2,2,   2198.2,2,   2296.2,6,   7.5985,   2,    25.00,    19.22,2,   -999.0,9,   -999.0,  -999.00,9,   0.00063,2,    0.017,2,    0.036,2,    0.000,2,   99.578,2
  096U20180111,  SR03,    33,  1,     20,     20,2,20180123,1347,-55.4995, 140.7302, 4048,    351.9,   2.5348,  34.2619,2,  34.2604,2,    222.3,2,    218.8,2,    45.00,2,    33.23,2,     0.01,2,     2.29,2,    -0.01,2,    2.789,2,    1.454,2,     1.44,2,   2217.8,2,   2305.7,2,   7.5691,   2,    25.00,    21.39,2,   -999.0,9,   -999.0,  -999.00,9,   0.00061,2,    0.016,2,    0.036,2,    0.000,2,   99.590,2
  096U20180111,  SR03,    33,  1,     19,     19,2,20180123,1347,-55.4995, 140.7302, 4048,    400.8,   2.6129,  34.3253,2,  34.3237,2,    204.8,2,    202.0,2,    50.90,2,    34.04,2,     0.01,2,     2.34,2,    -0.01,2, -999.000,9, -999.000,9,     -999,9,   -999.0,9,   -999.0,9,-999.0000,9,  -999.00,  -999.00,9,   -999.0,9,   -999.0,  -999.00,9,   0.00050,2,    0.012,2,    0.036,2,    0.000,2,   99.691,2
  096U20180111,  SR03,    33,  1,     18,     18,2,20180123,1347,-55.4995, 140.7302, 4048,    500.7,   2.6070,  34.4141,2,  34.4130,2,    185.0,2,    185.3,2,    59.20,2,    34.67,2,     0.01,2,     2.39,2,    -0.01,2,    1.602,2,    0.832,2,     0.51,2,   2240.1,2,   2321.0,2,   7.5449,   2,    25.00,    23.12,2,   -999.0,9,   -999.0,  -999.00,9,   0.00051,2,    0.011,2,    0.036,2,    0.000,2,   99.725,2
  096U20180111,  SR03,    33,  1,     17,     17,2,20180123,1347,-55.4995, 140.7302, 4048,    599.9,   2.5743,  34.4803,2,  34.4771,2,    175.8,2,    176.6,2,    64.90,2,    34.74,2,     0.01,2,     2.40,2,    -0.01,2, -999.000,9, -999.000,9,     -999,9,   2247.0,2,   2327.2,2,   7.5417,   2,    25.00,  -999.00,9,   -999.0,9,   -999.0,  -999.00,9,   0.00048,2,    0.009,2,    0.036,2,    0.000,2,   99.771,2
  096U20180111,  SR03,    33,  1,     16,     16,2,20180123,1347,-55.4995, 140.7302, 4048,    700.4,   2.5114,  34.5402,2,  34.5398,2,    172.3,2,    172.7,2,    69.30,2,    34.46,2,     0.01,2,     2.37,2,    -0.01,2,    0.863,2,    0.445,2,     0.42,2,   2251.3,2,   2332.5,2,   7.5453,   2,    25.00,    23.23,2,   -999.0,9,   -999.0,  -999.00,9,   0.00042,2,    0.008,2,    0.042,2,    0.000,2,   99.793,2
  096U20180111,  SR03,    33,  1,     15,     15,2,20180123,1347,-55.4995, 140.7302, 4048,    800.3,   2.4659,  34.5927,2,  34.5905,2,    172.3,2,    172.5,2,    72.40,2,    33.91,2,     0.01,2,     2.33,2,    -0.01,2, -999.000,9, -999.000,9,     -999,9,   -999.0,9,   -999.0,9,-999.0000,9,  -999.00,  -999.00,9,   -999.0,9,   -999.0,  -999.00,9,   0.00041,2,    0.006,2,    0.036,2,    0.000,2,   99.845,2
  096U20180111,  SR03,    33,  1,     14,     14,2,20180123,1347,-55.4995, 140.7302, 4048,    901.5,   2.4317,  34.6315,2,  34.6306,2,    174.3,2,    174.8,2,    73.90,2,    33.24,2,     0.00,2,     2.29,2,    -0.01,2,    0.483,2,    0.247,2,     0.08,2,   2253.0,6,   2338.8,6,   7.5626,   2,    25.00,    22.25,2,   -999.0,9,   -999.0,  -999.00,9,   0.00040,2,    0.006,2,    0.042,2,    0.000,2,   99.846,2
  096U20180111,  SR03,    33,  1,     13,     13,2,20180123,1347,-55.4995, 140.7302, 4048,   1101.4,   2.2941,  34.6855,2,  34.6857,2,    178.3,2,    179.6,2,    77.30,2,    32.25,2,     0.00,2,     2.23,2,    -0.01,2,    0.346,2,    0.177,2,     0.06,2,   2252.5,2,   2343.4,2,-999.0000,9,  -999.00,    21.18,2,   -999.0,9,   -999.0,  -999.00,9,   0.00036,2,    0.004,2,    0.042,2,    0.000,2,   99.897,2
  096U20180111,  SR03,    33,  1,     12,     12,2,20180123,1347,-55.4995, 140.7302, 4048,   1350.5,   2.1226,  34.7274,2,  34.7261,2,    186.4,2,    187.9,2,    81.00,2,    31.13,2,     0.00,2,     2.16,2,    -0.01,2,    0.244,2,    0.123,2,     0.03,2,   2249.0,2,   2348.2,2,   7.5944,   2,    25.00,    20.04,2,   -999.0,9,   -999.0,  -999.00,9,   0.00036,2,    0.003,2,    0.042,2,    0.000,2,   99.921,2
  096U20180111,  SR03,    33,  1,     11,     11,2,20180123,1347,-55.4995, 140.7302, 4048,   1601.3,   1.9358,  34.7441,2,  34.7436,2,    192.5,2,    193.8,2,    85.80,2,    30.67,2,     0.00,2,     2.12,2,    -0.01,2,    0.200,6,    0.097,6,     0.02,6,   2248.9,2,   2350.6,2,-999.0000,9,  -999.00,    19.24,6,   -999.0,9,   -999.0,  -999.00,9,   0.00032,2,    0.003,2,    0.036,2,    0.000,2,   99.935,2
  096U20180111,  SR03,    33,  1,     10,     10,2,20180123,1347,-55.4995, 140.7302, 4048,   1801.5,   1.7789,  34.7467,2,  34.7562,4,    196.2,2,    196.7,2,    89.90,2,    30.62,2,     0.00,2,     2.12,2,    -0.01,2,    0.183,2,    0.088,2,      0.1,2,   2250.6,2,   2354.3,2,   7.6080,   6,    25.00,    19.02,2,   -999.0,9,   -999.0,  -999.00,9,   0.00033,2,    0.002,2,    0.042,2,    0.000,2,   99.942,2
  096U20180111,  SR03,    33,  1,      9,      9,2,20180123,1347,-55.4995, 140.7302, 4048,   2100.5,   1.5075,  34.7401,2,  34.7402,2,    200.4,2,    200.3,2,    98.10,2,    30.92,2,     0.00,2,     2.15,2,    -0.01,2,    0.187,2,    0.094,2,     0.03,2,   2252.6,2,   2355.5,2,-999.0000,9,  -999.00,    18.87,2,   -999.0,9,   -999.0,  -999.00,9,   0.00030,2,    0.002,2,    0.042,2,    0.000,2,   99.955,2
  096U20180111,  SR03,    33,  1,      8,      8,2,20180123,1347,-55.4995, 140.7302, 4048,   2474.9,   1.1899,  34.7260,2,  34.7250,2,    203.8,2,    204.0,2,   107.80,2,    31.47,2,     0.00,2,     2.19,2,    -0.01,2, -999.000,9, -999.000,9,     -999,9,   -999.0,9,   -999.0,9,-999.0000,9,  -999.00,  -999.00,9,   -999.0,9,   -999.0,  -999.00,9,   0.00031,2,    0.002,2,    0.042,2,    0.000,2,   99.961,2
  096U20180111,  SR03,    33,  1,      7,      7,2,20180123,1347,-55.4995, 140.7302, 4048,   2801.5,   0.9301,  34.7126,2,  34.7125,2,    207.4,2,    207.7,2,   116.20,2,    31.87,2,     0.01,2,     2.22,2,    -0.01,2,    0.283,2,    0.137,2,     0.02,2,   2259.9,2,   2360.8,2,-999.0000,9,  -999.00,    18.73,2,   -999.0,9,   -999.0,  -999.00,9,   0.00032,2,    0.002,2,    0.036,2,    0.000,2,   99.963,2
  096U20180111,  SR03,    33,  1,      6,      6,2,20180123,1347,-55.4995, 140.7302, 4048,   3126.0,   0.6964,  34.7010,2,  34.7002,2,    211.6,2,    211.4,2,   124.40,2,    32.24,2,     0.00,2,     2.24,2,    -0.01,2,    0.406,2,    0.204,2,        0,2,   -999.0,9,   -999.0,9,-999.0000,9,  -999.00,    18.50,2,   -999.0,9,   -999.0,  -999.00,9,   0.00030,2,    0.002,2,    0.036,2,    0.000,2,   99.945,2
  096U20180111,  SR03,    33,  1,      5,      5,2,20180123,1347,-55.4995, 140.7302, 4048,   3425.9,   0.6032,  34.6957,2,  34.6959,2,    213.7,2,    213.7,2,   129.30,2,    32.35,2,     0.01,2,     2.26,2,    -0.01,2,    0.478,2,    0.239,2,    -0.03,2,   2261.1,2,   2363.5,2,-999.0000,9,  -999.00,    18.58,2,   -999.0,9,   -999.0,  -999.00,9,   0.00033,2,    0.004,2,    0.042,2,    0.000,2,   99.911,2
  096U20180111,  SR03,    33,  1,      4,      4,2,20180123,1347,-55.4995, 140.7302, 4048,   3726.8,   0.5235,  34.6909,2,  34.6900,2,    216.0,2,    215.9,2,   132.20,2,    32.47,2,     0.00,2,     2.26,2,    -0.01,2,    0.554,2,    0.275,2,     0.04,2,   2261.4,6,   2363.2,6,-999.0000,9,  -999.00,    18.59,2,   -999.0,9,   -999.0,  -999.00,9,   0.00032,2,    0.004,2,    0.042,2,    0.000,2,   99.913,2
  096U20180111,  SR03,    33,  1,      3,      3,2,20180123,1347,-55.4995, 140.7302, 4048,   3975.9,   0.4935,  34.6884,2,  34.6889,2,    217.1,2,    216.7,2,   133.80,2,    32.48,2,     0.00,2,     2.26,2,    -0.01,2,    0.589,2,    0.285,2,     0.08,2,   2261.3,2,   2363.1,6,-999.0000,9,  -999.00,    18.49,2,   -999.0,9,   -999.0,  -999.00,9,   0.00031,2,    0.004,2,    0.036,2,    0.000,2,   99.906,2
  096U20180111,  SR03,    33,  1,      2,      2,2,20180123,1347,-55.4995, 140.7302, 4048,   4176.6,   0.4801,  34.6869,2,  34.6868,2,    218.0,2,    217.7,2,   135.40,2,    32.54,2,     0.01,2,     2.27,2,    -0.01,2,    0.616,2,    0.302,2,     0.06,2,   2263.0,2,   2363.3,2,-999.0000,9,  -999.00,    18.38,2,   -999.0,9,   -999.0,  -999.00,9,   0.00034,2,    0.006,2,    0.036,2,    0.000,2,   99.846,2
  096U20180111,  SR03,    33,  1,      1,      1,2,20180123,1347,-55.4995, 140.7302, 4048,   4243.4,   0.4812,  34.6867,2,  34.6868,2,    218.4,2,    217.8,2,   135.60,2,    32.55,2,     0.00,2,     2.27,2,    -0.01,2,    0.622,2,    0.307,2,     0.06,2,   2261.4,2,   2363.0,2,-999.0000,9,  -999.00,    18.60,2,   -999.0,9,   -999.0,  -999.00,9,   0.00036,2,    0.006,2,    0.042,2,    0.000,2,   99.845,2