BOTTLE,20230418CCHSIOENA
EXPOCODE,SECT_ID,STNNBR,CASTNO,SAMPNO,BTLNBR,BTLNBR_FLAG_W,DATE,TIME,LATITUDE,LONGITUDE,DEPTH,CTDPRS,CTDTMP,CTDSAL,CTDSAL_FLAG_W,SALNTY,SALNTY_FLAG_W,CTDOXY,CTDOXY_FLAG_W,OXYGEN,OXYGEN_FLAG_W,SILCAT,SILCAT_FLAG_W,NITRAT,NITRAT_FLAG_W,NITRIT,NITRIT_FLAG_W,PHSPHT,PHSPHT_FLAG_W,NH4,NH4_FLAG_W,CFC-11,CFC-11_FLAG_W,CFC-12,CFC-12_FLAG_W,SF6,SF6_FLAG_W,TCARBN,TCARBN_FLAG_W,ALKALI,ALKALI_FLAG_W,PH_TOT,PH_TOT_FLAG_W,PH_TMP,N2O,N2O_FLAG_W,DELC14,DELC14_FLAG_W,C14ERR,DELC13,DELC13_FLAG_W,CTDBETA700,CTDBETA700_FLAG_W,CTDBEAMCP,CTDBEAMCP_FLAG_W,CTDFLUOR,CTDFLUOR_FLAG_W,PAR,PAR_FLAG_W,CTDXMISS,CTDXMISS_FLAG_W
,,,,,,,,,,,METERS,DBAR,ITS-90,PSS-78,,PSS-78,,UMOL/KG,,UMOL/KG,,UMOL/KG,,UMOL/KG,,UMOL/KG,,UMOL/KG,,UMOL/KG,,PMOL/KG,,PMOL/KG,,FMOL/KG,,UMOL/KG,,UMOL/KG,,,,DEG C,NMOL/KG,,/MILLE,,/MILLE,/MILLE,,VOLTS,,1/M,,MG/M^3,,UMOL/M^2/SEC,,%TRANS,
  096U20180111,  SR03,    70,  1,     36,     36,2,20180204,0347,-65.6387, 150.0152, 2328,     10.9,   0.3508,  33.7690,2,-999.0000,9,    344.3,2,   -999.0,9,  -999.00,9,  -999.00,9,  -999.00,9,  -999.00,9,     -999,9, -999.000,9, -999.000,9,     -999,9,   -999.0,9,   -999.0,9,-999.0000,9,  -999.00,  -999.00,9,   -999.0,9,   -999.0,  -999.00,9,   0.00187,2,    0.250,2,    0.228,2,  131.000,2,   93.933,2
  096U20180111,  SR03,    70,  1,     35,     35,2,20180204,0347,-65.6387, 150.0152, 2328,     10.8,   0.3489,  33.7691,2,  33.7718,2,    344.3,2,    343.4,2,    48.20,2,    26.47,2,     0.19,2,     1.73,2,     0.44,2,    5.501,2,    3.054,2,     3.81,2,   2162.7,2,   2286.1,2,-999.0000,9,  -999.00,    14.71,2,   -999.0,9,   -999.0,  -999.00,9,   0.00190,2,    0.252,2,    0.246,2,  131.000,2,   93.886,2
  096U20180111,  SR03,    70,  1,     34,     34,2,20180204,0347,-65.6387, 150.0152, 2328,     10.9,   0.3476,  33.7691,2,-999.0000,9,    344.3,2,   -999.0,9,  -999.00,9,  -999.00,9,  -999.00,9,  -999.00,9,     -999,9, -999.000,9, -999.000,9,     -999,9,   -999.0,9,   -999.0,9,-999.0000,9,  -999.00,  -999.00,9,   -999.0,9,   -999.0,  -999.00,9,   0.00183,2,    0.248,2,    0.240,2,  125.000,2,   93.989,2
  096U20180111,  SR03,    70,  1,     33,     33,2,20180204,0347,-65.6387, 150.0152, 2328,     31.2,  -0.0831,  33.8500,2,  33.8557,2,    344.9,2,    343.6,2,    54.80,2,    26.48,2,     0.16,2,     1.81,2,     0.79,2, -999.000,9, -999.000,9,     -999,9,   -999.0,9,   -999.0,9,-999.0000,9,  -999.00,  -999.00,9,   -999.0,9,   -999.0,  -999.00,9,   0.00140,2,    0.212,2,    0.636,2,   47.600,2,   94.833,2
  096U20180111,  SR03,    70,  1,     32,     32,2,20180204,0347,-65.6387, 150.0152, 2328,     31.1,  -0.0366,  33.8433,2,-999.0000,9,    344.9,2,   -999.0,9,  -999.00,9,  -999.00,9,  -999.00,9,  -999.00,9,     -999,9, -999.000,9, -999.000,9,     -999,9,   -999.0,9,   -999.0,9,-999.0000,9,  -999.00,  -999.00,9,   -999.0,9,   -999.0,  -999.00,9,   0.00131,2,    0.213,2,    0.624,2,   58.700,2,   94.801,2
  096U20180111,  SR03,    70,  1,     31,     31,2,20180204,0347,-65.6387, 150.0152, 2328,     56.3,  -1.3349,  34.1904,2,  34.1902,2,    325.8,2,    325.8,2,    67.00,2,    28.49,2,     0.09,2,     1.99,2,     0.52,2,    4.824,2,    2.634,2,     3.29,2,   2204.2,2,   2316.8,6,-999.0000,9,  -999.00,    16.34,2,   -999.0,9,   -999.0,  -999.00,9,   0.00123,2,    0.172,2,    1.314,2,    5.140,2,   95.794,2
  096U20180111,  SR03,    70,  1,     30,     30,2,20180204,0347,-65.6387, 150.0152, 2328,     56.5,  -1.3123,  34.1825,2,-999.0000,9,    325.8,2,   -999.0,9,  -999.00,9,  -999.00,9,  -999.00,9,  -999.00,9,     -999,9, -999.000,9, -999.000,9,     -999,9,   -999.0,9,   -999.0,9,-999.0000,9,  -999.00,  -999.00,9,   -999.0,9,   -999.0,  -999.00,9,   0.00139,2,    0.178,2,    1.320,2,    5.220,2,   95.638,2
  096U20180111,  SR03,    70,  1,     29,     29,2,20180204,0347,-65.6387, 150.0152, 2328,     75.8,  -1.7882,  34.3693,2,  34.3692,2,    312.1,2,    308.2,2,    75.70,2,    30.11,2,     0.11,2,     2.10,2,     0.15,2, -999.000,9, -999.000,9,     -999,9,   -999.0,9,   -999.0,9,-999.0000,9,  -999.00,  -999.00,9,   -999.0,9,   -999.0,  -999.00,9,   0.00061,2,    0.042,2,    0.606,2,    3.330,2,   98.954,2
  096U20180111,  SR03,    70,  1,     28,     28,2,20180204,0347,-65.6387, 150.0152, 2328,    121.9,  -1.8244,  34.3896,2,  34.3896,2,    306.9,2,    305.4,2,    76.30,2,    30.49,2,     0.03,2,     2.10,2,        0,2,    4.466,2,    2.458,2,     2.76,2,   2227.2,2,   2328.2,2,-999.0000,9,  -999.00,    16.54,2,   -999.0,9,   -999.0,  -999.00,9,   0.00039,2,    0.009,2,    0.198,2,    0.314,2,   99.771,2
  096U20180111,  SR03,    70,  1,     27,     27,2,20180204,0347,-65.6387, 150.0152, 2328,    121.7,  -1.8245,  34.3896,2,-999.0000,9,    306.9,2,   -999.0,9,  -999.00,9,  -999.00,9,  -999.00,9,  -999.00,9,     -999,9, -999.000,9, -999.000,9,     -999,9,   -999.0,9,   -999.0,9,-999.0000,9,  -999.00,  -999.00,9,   -999.0,9,   -999.0,  -999.00,9,   0.00038,2,    0.010,2,    0.192,2,    0.334,2,   99.755,2
  096U20180111,  SR03,    70,  1,     26,     26,2,20180204,0347,-65.6387, 150.0152, 2328,    173.1,  -1.7289,  34.4083,2,  34.4089,2,    301.5,2,    301.8,2,    76.50,2,    30.59,2,     0.04,2,     2.11,2,        0,2, -999.000,9, -999.000,9,     -999,9,   -999.0,9,   -999.0,9,-999.0000,9,  -999.00,  -999.00,9,   -999.0,9,   -999.0,  -999.00,9,   0.00032,2,    0.001,2,    0.036,2,    0.048,2,   99.988,2
  096U20180111,  SR03,    70,  1,     25,     25,2,20180204,0347,-65.6387, 150.0152, 2328,    211.2,  -1.5297,  34.4349,2,  34.4358,2,    289.4,2,    293.3,2,    77.90,2,    30.83,2,     0.00,2,     2.13,2,     0.02,2,    4.112,2,    2.264,2,     2.65,2,   -999.0,9,   -999.0,9,-999.0000,9,  -999.00,    17.30,2,   -999.0,9,   -999.0,  -999.00,9,   0.00031,2,   -0.001,2,    0.030,2,    0.000,2,  100.035,2
  096U20180111,  SR03,    70,  1,     24,     24,2,20180204,0347,-65.6387, 150.0152, 2328,    262.7,  -1.1226,  34.4769,2,  34.4761,2,    275.2,2,    275.1,2,    81.10,2,    31.07,2,     0.00,2,     2.16,2,        0,2, -999.000,9, -999.000,9,     -999,9,   -999.0,9,   -999.0,9,-999.0000,9,  -999.00,  -999.00,9,   -999.0,9,   -999.0,  -999.00,9,   0.00032,2,   -0.001,2,    0.024,2,    0.000,2,  100.019,2
  096U20180111,  SR03,    70,  1,     23,     23,2,20180204,0347,-65.6387, 150.0152, 2328,    355.0,  -0.0422,  34.5906,2,  34.5876,2,    234.9,2,    232.8,2,    90.20,2,    31.77,2,     0.00,2,     2.22,2,        0,2,    2.086,2,    1.138,2,     1.16,2,   -999.0,9,   -999.0,9,-999.0000,9,  -999.00,    18.69,2,   -999.0,9,   -999.0,  -999.00,9,   0.00031,2,    0.000,2,    0.030,2,    0.000,2,   99.993,2
  096U20180111,  SR03,    70,  1,     22,     22,2,20180204,0347,-65.6387, 150.0152, 2328,    451.2,   0.6635,  34.6702,2,  34.6694,2,    209.9,2,    207.8,2,    99.10,2,    32.10,2,     0.00,2,     2.24,2,        0,2, -999.000,9, -999.000,9,     -999,9,   -999.0,9,   -999.0,9,-999.0000,9,  -999.00,  -999.00,9,   -999.0,9,   -999.0,  -999.00,9,   0.00029,2,   -0.001,2,    0.024,2,    0.000,2,  100.013,2
  096U20180111,  SR03,    70,  1,     21,     21,2,20180204,0347,-65.6387, 150.0152, 2328,    550.8,   0.8842,  34.7021,2,  34.7010,2,    203.7,2,    203.2,2,   104.40,2,    31.94,2,     0.00,2,     2.23,2,    -0.01,2,    0.549,2,    0.307,2,     0.33,2,   2256.2,2,   2354.3,2,-999.0000,9,  -999.00,    18.90,2,   -999.0,9,   -999.0,  -999.00,9,   0.00032,2,   -0.002,2,    0.024,2,    0.000,2,  100.048,2
  096U20180111,  SR03,    70,  1,     20,     20,2,20180204,0347,-65.6387, 150.0152, 2328,    551.3,   0.8833,  34.7020,2,-999.0000,9,    203.5,2,   -999.0,9,  -999.00,9,  -999.00,9,  -999.00,9,  -999.00,9,     -999,9, -999.000,9, -999.000,9,     -999,9,   -999.0,9,   -999.0,9,-999.0000,9,  -999.00,  -999.00,9,   -999.0,9,   -999.0,  -999.00,9,   0.00028,2,   -0.002,2,    0.024,2,    0.000,2,  100.041,2
  096U20180111,  SR03,    70,  1,     19,     19,2,20180204,0347,-65.6387, 150.0152, 2328,    652.3,   0.8227,  34.7032,2,  34.7036,2,    204.7,2,    204.1,2,   108.00,2,    32.01,2,     0.00,2,     2.24,2,    -0.01,2,    0.490,2,    0.270,2,     0.14,2,   -999.0,9,   -999.0,9,-999.0000,9,  -999.00,    18.69,2,   -999.0,9,   -999.0,  -999.00,9,   0.00027,2,   -0.002,2,    0.018,2,    0.000,2,  100.046,2
  096U20180111,  SR03,    70,  1,     18,     18,2,20180204,0347,-65.6387, 150.0152, 2328,    757.7,   0.7198,  34.7000,2,  34.7016,2,    205.9,2,    205.6,2,   111.30,2,    32.14,2,     0.00,2,     2.25,2,        0,2, -999.000,9, -999.000,9,     -999,9,   -999.0,9,   -999.0,9,-999.0000,9,  -999.00,  -999.00,9,   -999.0,9,   -999.0,  -999.00,9,   0.00028,2,   -0.002,2,    0.024,2,    0.000,2,  100.063,2
  096U20180111,  SR03,    70,  1,     17,     17,2,20180204,0347,-65.6387, 150.0152, 2328,    856.5,   0.6166,  34.6957,2,  34.6959,2,    207.3,2,    207.3,2,   113.70,2,    32.22,2,     0.00,2,     2.26,2,    -0.01,2, -999.000,9, -999.000,9,     -999,9,   -999.0,9,   -999.0,9,-999.0000,9,  -999.00,  -999.00,9,   -999.0,9,   -999.0,  -999.00,9,   0.00026,2,   -0.003,2,    0.018,2,    0.000,2,  100.070,2
  096U20180111,  SR03,    70,  1,     16,     16,2,20180204,0347,-65.6387, 150.0152, 2328,    956.3,   0.4889,  34.6877,2,  34.6868,2,    209.4,2,    210.1,2,   114.30,2,    32.27,2,     0.00,2,     2.27,2,    -0.01,2,    0.663,2,    0.361,2,     0.28,2,   2260.9,6,   2357.4,6,-999.0000,9,  -999.00,    18.51,2,   -999.0,9,   -999.0,  -999.00,9,   0.00027,2,   -0.002,2,    0.018,2,    0.000,2,  100.058,2
  096U20180111,  SR03,    70,  1,     15,     15,2,20180204,0347,-65.6387, 150.0152, 2328,   1050.8,   0.4475,  34.6877,2,  34.6872,2,    211.5,2,    211.3,2,   115.90,2,    32.29,2,     0.00,2,     2.27,2,        0,2, -999.000,9, -999.000,9,     -999,9,   -999.0,9,   -999.0,9,-999.0000,9,  -999.00,  -999.00,9,   -999.0,9,   -999.0,  -999.00,9,   0.00026,2,   -0.003,2,    0.018,2,    0.000,2,  100.070,2
  096U20180111,  SR03,    70,  1,     14,     14,2,20180204,0347,-65.6387, 150.0152, 2328,   1251.6,   0.3254,  34.6848,2,  34.6845,2,    215.0,2,    214.7,2,   117.80,2,    32.32,2,     0.00,2,     2.27,2,        0,2, -999.000,9, -999.000,9,     -999,9,   -999.0,9,   -999.0,9,-999.0000,9,  -999.00,  -999.00,9,   -999.0,9,   -999.0,  -999.00,9,   0.00025,2,   -0.004,2,    0.024,2,    0.000,2,  100.087,2
  096U20180111,  SR03,    70,  1,     13,     13,2,20180204,0347,-65.6387, 150.0152, 2328,   1453.3,   0.2137,  34.6818,2,  34.6817,2,    219.0,2,    217.8,2,   115.00,2,    32.29,2,     0.00,2,     2.27,2,        0,2,    1.004,2,    0.545,2,     0.58,2,   -999.0,9,   -999.0,9,-999.0000,9,  -999.00,    18.37,2,   -999.0,9,   -999.0,  -999.00,9,   0.00024,2,   -0.004,2,    0.024,2,    0.000,2,  100.088,2
  096U20180111,  SR03,    70,  1,     12,     12,2,20180204,0347,-65.6387, 150.0152, 2328,   1647.2,  -0.0078,  34.6638,2,-999.0000,9,    226.9,2,   -999.0,9,  -999.00,9,  -999.00,9,  -999.00,9,  -999.00,9,     -999,9, -999.000,9, -999.000,9,     -999,9,   -999.0,9,   -999.0,9,-999.0000,9,  -999.00,  -999.00,9,   -999.0,9,   -999.0,  -999.00,9,   0.00030,2,   -0.001,2,    0.024,2,    0.000,2,  100.013,2
  096U20180111,  SR03,    70,  1,     11,     11,2,20180204,0347,-65.6387, 150.0152, 2328,   1648.9,  -0.0078,  34.6638,2,  34.6637,2,    226.9,2,    227.2,2,   105.90,2,    32.02,2,     0.00,2,     2.25,2,    -0.01,2, -999.000,9, -999.000,9,     -999,9,   -999.0,9,   -999.0,9,-999.0000,9,  -999.00,  -999.00,9,   -999.0,9,   -999.0,  -999.00,9,   0.00033,2,   -0.001,2,    0.030,2,    0.000,2,  100.012,2
  096U20180111,  SR03,    70,  1,     10,     10,2,20180204,0347,-65.6387, 150.0152, 2328,   1851.2,   0.0277,  34.6765,2,  34.6775,2,    225.6,2,    225.3,2,   108.60,2,    32.07,2,     0.00,2,     2.26,2,    -0.01,2,    1.487,2,    0.808,2,     0.86,2,   2257.9,2,   2355.8,2,-999.0000,9,  -999.00,    18.28,2,   -999.0,9,   -999.0,  -999.00,9,   0.00025,2,   -0.003,2,    0.024,2,    0.000,2,  100.075,2
  096U20180111,  SR03,    70,  1,      9,      9,2,20180204,0347,-65.6387, 150.0152, 2328,   2038.4,  -0.0501,  34.6792,2,  34.6790,2,    228.6,2,    228.6,2,   105.50,2,    31.98,2,     0.00,2,     2.25,2,    -0.01,2, -999.000,9, -999.000,9,     -999,9,   -999.0,9,   -999.0,9,-999.0000,9,  -999.00,  -999.00,9,   -999.0,9,   -999.0,  -999.00,9,   0.00025,2,   -0.003,2,    0.024,2,    0.000,2,  100.067,2
  096U20180111,  SR03,    70,  1,      8,      8,2,20180204,0347,-65.6387, 150.0152, 2328,   2147.1,  -0.1047,  34.6817,2,  34.6827,2,    231.1,2,    231.2,2,   105.50,2,    31.92,2,     0.00,2,     2.25,2,    -0.01,2,    1.834,2,    1.003,2,     1.02,2,   -999.0,9,   -999.0,9,-999.0000,9,  -999.00,    18.46,2,   -999.0,9,   -999.0,  -999.00,9,   0.00027,2,   -0.003,2,    0.030,2,    0.000,2,  100.064,2
  096U20180111,  SR03,    70,  1,      7,      7,2,20180204,0347,-65.6387, 150.0152, 2328,   2248.4,  -0.2173,  34.6824,2,  34.6827,2,    235.5,2,    235.7,2,   101.90,2,    31.85,2,     0.00,2,     2.24,2,        0,2,    2.099,2,    1.143,2,     1.18,2,   -999.0,9,   -999.0,9,-999.0000,9,  -999.00,    18.15,2,   -999.0,9,   -999.0,  -999.00,9,   0.00031,2,    0.000,2,    0.024,2,    0.000,2,   99.992,2
  096U20180111,  SR03,    70,  1,      6,      6,2,20180204,0347,-65.6387, 150.0152, 2328,   2320.7,  -0.2763,  34.6776,2,-999.0000,9,    238.4,2,   -999.0,9,  -999.00,9,  -999.00,9,  -999.00,9,  -999.00,9,     -999,9, -999.000,9, -999.000,9,     -999,9,   -999.0,9,   -999.0,9,-999.0000,9,  -999.00,  -999.00,9,   -999.0,9,   -999.0,  -999.00,9,   0.00035,2,    0.003,2,    0.024,2,    0.000,2,   99.930,2
  096U20180111,  SR03,    70,  1,      5,      5,2,20180204,0347,-65.6387, 150.0152, 2328,   2320.7,  -0.2749,  34.6778,2,  34.6778,2,    238.4,2,    237.9,2,   100.50,2,    31.80,2,     0.00,2,     2.24,2,        0,2,    2.199,2,    1.196,2,     1.25,2,   -999.0,9,   -999.0,9,-999.0000,9,  -999.00,    18.26,2,   -999.0,9,   -999.0,  -999.00,9,   0.00033,2,    0.002,2,    0.024,2,    0.000,2,   99.944,2
  096U20180111,  SR03,    70,  1,      4,      4,2,20180204,0347,-65.6387, 150.0152, 2328,   2370.6,  -0.2781,  34.6764,2,-999.0000,9,    238.8,2,   -999.0,9,  -999.00,9,  -999.00,9,  -999.00,9,  -999.00,9,     -999,9, -999.000,9, -999.000,9,     -999,9,   -999.0,9,   -999.0,9,-999.0000,9,  -999.00,  -999.00,9,   -999.0,9,   -999.0,  -999.00,9,   0.00034,2,    0.002,2,    0.030,2,    0.000,2,   99.945,2
  096U20180111,  SR03,    70,  1,      3,      3,2,20180204,0347,-65.6387, 150.0152, 2328,   2370.3,  -0.2780,  34.6764,2,-999.0000,9,    238.8,2,   -999.0,9,  -999.00,9,  -999.00,9,  -999.00,9,  -999.00,9,     -999,9, -999.000,9, -999.000,9,     -999,9,   -999.0,9,   -999.0,9,-999.0000,9,  -999.00,  -999.00,9,   -999.0,9,   -999.0,  -999.00,9,   0.00036,2,    0.003,2,    0.024,2,    0.000,2,   99.934,2
  096U20180111,  SR03,    70,  1,      2,      2,2,20180204,0347,-65.6387, 150.0152, 2328,   2370.0,  -0.2781,  34.6765,2,-999.0000,9,    238.8,2,   -999.0,9,  -999.00,9,  -999.00,9,  -999.00,9,  -999.00,9,     -999,9, -999.000,9, -999.000,9,     -999,9,   -999.0,9,   -999.0,9,-999.0000,9,  -999.00,  -999.00,9,   -999.0,9,   -999.0,  -999.00,9,   0.00033,2,    0.002,2,    0.024,2,    0.000,2,   99.938,2
  096U20180111,  SR03,    70,  1,      1,      1,2,20180204,0347,-65.6387, 150.0152, 2328,   2369.5,  -0.2783,  34.6763,2,  34.6773,2,    238.8,2,    238.3,2,   100.30,2,    31.80,2,     0.00,2,     2.23,2,        0,2,    2.204,2,    1.211,2,     1.25,2,   2256.7,2,   2354.1,2,-999.0000,9,  -999.00,    18.33,2,   -999.0,9,   -999.0,  -999.00,9,   0.00034,2,    0.003,2,    0.030,2,    0.000,2,   99.933,2