BOTTLE,20230418CCHSIOENA
EXPOCODE,SECT_ID,STNNBR,CASTNO,SAMPNO,BTLNBR,BTLNBR_FLAG_W,DATE,TIME,LATITUDE,LONGITUDE,DEPTH,CTDPRS,CTDTMP,CTDSAL,CTDSAL_FLAG_W,SALNTY,SALNTY_FLAG_W,CTDOXY,CTDOXY_FLAG_W,OXYGEN,OXYGEN_FLAG_W,SILCAT,SILCAT_FLAG_W,NITRAT,NITRAT_FLAG_W,NITRIT,NITRIT_FLAG_W,PHSPHT,PHSPHT_FLAG_W,NH4,NH4_FLAG_W,CFC-11,CFC-11_FLAG_W,CFC-12,CFC-12_FLAG_W,SF6,SF6_FLAG_W,TCARBN,TCARBN_FLAG_W,ALKALI,ALKALI_FLAG_W,PH_TOT,PH_TOT_FLAG_W,PH_TMP,N2O,N2O_FLAG_W,DELC14,DELC14_FLAG_W,C14ERR,DELC13,DELC13_FLAG_W,CTDBETA700,CTDBETA700_FLAG_W,CTDBEAMCP,CTDBEAMCP_FLAG_W,CTDFLUOR,CTDFLUOR_FLAG_W,PAR,PAR_FLAG_W,CTDXMISS,CTDXMISS_FLAG_W
,,,,,,,,,,,METERS,DBAR,ITS-90,PSS-78,,PSS-78,,UMOL/KG,,UMOL/KG,,UMOL/KG,,UMOL/KG,,UMOL/KG,,UMOL/KG,,UMOL/KG,,PMOL/KG,,PMOL/KG,,FMOL/KG,,UMOL/KG,,UMOL/KG,,,,DEG C,NMOL/KG,,/MILLE,,/MILLE,/MILLE,,VOLTS,,1/M,,MG/M^3,,UMOL/M^2/SEC,,%TRANS,
  096U20180111,  SR03,    29,  1,     36,     36,2,20180121,2331,-53.5792, 141.8622, 2495,     11.5,   4.8751,  33.8091,2,-999.0000,9,    315.4,2,   -999.0,9,  -999.00,9,  -999.00,9,  -999.00,9,  -999.00,9,     -999,9, -999.000,9, -999.000,9,     -999,9,   -999.0,9,   -999.0,9,-999.0000,9,  -999.00,  -999.00,9,   -999.0,9,   -999.0,  -999.00,9,   0.00178,2,    0.182,2,    0.162,2,  588.000,2,   95.549,2
  096U20180111,  SR03,    29,  1,     35,     35,2,20180121,2331,-53.5792, 141.8622, 2495,     11.5,   4.8747,  33.8092,2,  33.8091,2,    315.4,2,    315.4,2,     4.70,2,    24.22,2,     0.25,2,     1.54,2,     0.06,2,    3.936,4,    2.425,4,        3,4,   2130.4,2,   2275.5,2,   7.7372,   2,    25.00,     8.81,4,   -999.0,9,   -999.0,  -999.00,9,   0.00198,2,    0.179,2,    0.162,2,  570.000,2,   95.619,2
  096U20180111,  SR03,    29,  1,     34,     34,2,20180121,2331,-53.5792, 141.8622, 2495,     25.4,   4.7953,  33.8093,2,  33.8098,2,    316.1,2,    316.1,2,     4.90,2,    24.26,2,     0.24,2,     1.52,2,     0.06,2,    4.600,2,    2.524,2,     3.35,2,   2131.5,2,   2277.8,2,-999.0000,9,  -999.00,    12.51,2,   -999.0,9,   -999.0,  -999.00,9,   0.00196,2,    0.191,2,    0.468,2,  218.000,2,   95.338,2
  096U20180111,  SR03,    29,  1,     33,     33,2,20180121,2331,-53.5792, 141.8622, 2495,     49.9,   4.5793,  33.8140,2,  33.8164,2,    316.4,2,    316.8,2,    14.10,2,    26.11,2,     0.19,2,     1.84,2,     0.57,2,    4.661,2,    2.571,2,     3.36,2,   2134.5,2,   2278.7,2,-999.0000,9,  -999.00,    12.79,2,   -999.0,9,   -999.0,  -999.00,9,   0.00299,2,    0.266,2,    2.886,2,   43.600,2,   93.569,2
  096U20180111,  SR03,    29,  1,     32,     32,2,20180121,2331,-53.5792, 141.8622, 2495,     71.3,   2.6778,  33.8640,2,-999.0000,9,    320.3,2,   -999.0,9,  -999.00,9,  -999.00,9,  -999.00,9,  -999.00,9,     -999,9, -999.000,9, -999.000,9,     -999,9,   -999.0,9,   -999.0,9,-999.0000,9,  -999.00,  -999.00,9,   -999.0,9,   -999.0,  -999.00,9,   0.00312,2,    0.230,2,    3.804,2,    5.930,2,   94.412,2
  096U20180111,  SR03,    29,  1,     31,     31,2,20180121,2331,-53.5792, 141.8622, 2495,     71.2,   2.6720,  33.8648,2,  33.8726,2,    320.3,2,    329.4,2,    14.50,2,    26.17,2,     0.19,2,     1.84,2,     0.59,2,    5.195,2,    2.723,2,     3.29,2,   2152.9,2,   2282.9,2,   7.6913,   2,    25.00,    13.53,2,   -999.0,9,   -999.0,  -999.00,9,   0.00305,2,    0.235,2,    3.870,2,    6.370,2,   94.287,2
  096U20180111,  SR03,    29,  1,     30,     30,2,20180121,2331,-53.5792, 141.8622, 2495,    101.4,   1.4717,  33.9013,2,  33.9018,2,    329.4,2,    329.8,2,    17.50,2,    26.93,2,     0.21,2,     1.92,2,     0.61,2, -999.000,9, -999.000,9,     -999,9,   -999.0,9,   -999.0,9,-999.0000,9,  -999.00,  -999.00,9,   -999.0,9,   -999.0,  -999.00,9,   0.00111,2,    0.056,2,    0.708,2,    1.010,2,   98.600,2
  096U20180111,  SR03,    29,  1,     29,     29,2,20180121,2331,-53.5792, 141.8622, 2495,    121.4,   1.1791,  33.9039,2,-999.0000,9,    327.5,2,   -999.0,9,  -999.00,9,  -999.00,9,  -999.00,9,  -999.00,9,     -999,9, -999.000,9, -999.000,9,     -999,9,   -999.0,9,   -999.0,9,-999.0000,9,  -999.00,  -999.00,9,   -999.0,9,   -999.0,  -999.00,9,   0.00088,2,    0.035,2,    0.348,2,    0.356,2,   99.122,2
  096U20180111,  SR03,    29,  1,     28,     28,2,20180121,2331,-53.5792, 141.8622, 2495,    121.3,   1.1770,  33.9042,2,  33.9046,2,    327.5,2,    328.7,2,    18.70,2,    27.38,2,     0.25,2,     1.92,2,     0.52,2,    5.343,2,    2.838,2,     3.43,2,   2162.4,6,   2284.2,6,-999.0000,9,  -999.00,    14.13,2,   -999.0,9,   -999.0,  -999.00,9,   0.00089,2,    0.034,2,    0.336,2,    0.343,2,   99.140,2
  096U20180111,  SR03,    29,  1,     27,     27,2,20180121,2331,-53.5792, 141.8622, 2495,    151.1,   1.0369,  33.9397,2,-999.0000,9,    320.0,2,   -999.0,9,  -999.00,9,  -999.00,9,  -999.00,9,  -999.00,9,     -999,9, -999.000,9, -999.000,9,     -999,9,   -999.0,9,   -999.0,9,-999.0000,9,  -999.00,  -999.00,9,   -999.0,9,   -999.0,  -999.00,9,   0.00076,2,    0.023,2,    0.144,2,    0.080,2,   99.421,2
  096U20180111,  SR03,    29,  1,     26,     26,2,20180121,2331,-53.5792, 141.8622, 2495,    151.0,   1.0401,  33.9404,2,  33.9403,2,    321.0,2,    318.9,2,    21.60,2,    28.72,2,     0.15,2,     1.98,2,        0,2, -999.000,9, -999.000,9,     -999,9,   2169.2,2,   2284.4,6,   7.6526,   6,    25.00,  -999.00,9,   -999.0,9,   -999.0,  -999.00,9,   0.00077,2,    0.022,2,    0.138,2,    0.093,2,   99.446,2
  096U20180111,  SR03,    29,  1,     25,     25,2,20180121,2331,-53.5792, 141.8622, 2495,    200.6,   1.6147,  34.0635,2,  34.0597,2,    291.7,2,    282.2,2,    30.00,2,    30.54,2,     0.01,2,     2.08,2,        0,2,    4.355,2,    2.319,2,     2.31,2,   2188.4,2,   2291.4,2,   7.6205,   2,    25.00,    17.61,2,   -999.0,9,   -999.0,  -999.00,9,   0.00074,2,    0.016,2,    0.042,2,    0.000,2,   99.596,2
  096U20180111,  SR03,    29,  1,     24,     24,2,20180121,2331,-53.5792, 141.8622, 2495,    251.3,   2.0257,  34.1590,2,  34.1583,2,    257.4,2,    248.9,2,    38.10,2,    32.05,2,     0.02,2,     2.19,2,    -0.01,2,    3.656,2,    1.932,2,     1.83,2,   2204.9,2,   2297.5,2,-999.0000,9,  -999.00,    19.98,2,   -999.0,9,   -999.0,  -999.00,9,   0.00078,2,    0.018,2,    0.036,2,    0.000,2,   99.546,2
  096U20180111,  SR03,    29,  1,     23,     23,2,20180121,2331,-53.5792, 141.8622, 2495,    351.1,   2.2403,  34.2974,2,  34.2965,2,    209.8,2,    209.2,2,    51.80,2,    34.10,2,     0.01,2,     2.33,2,    -0.01,2,    2.563,2,    1.372,2,     1.23,2,   2228.1,2,   2309.8,2,   7.5504,   2,    25.00,    23.06,2,   -999.0,9,   -999.0,  -999.00,9,   0.00068,2,    0.018,2,    0.030,2,    0.000,2,   99.545,2
  096U20180111,  SR03,    29,  1,     22,     22,2,20180121,2331,-53.5792, 141.8622, 2495,    451.5,   2.4538,  34.4119,2,  34.4074,2,    184.8,2,    185.0,2,    60.80,2,    34.76,2,     0.01,2,     2.38,2,    -0.01,2,    1.658,2,    0.875,2,      0.5,2,   2240.9,2,   2319.0,2,-999.0000,9,  -999.00,    22.54,2,   -999.0,9,   -999.0,  -999.00,9,   0.00047,2,    0.009,2,    0.036,2,    0.000,2,   99.784,2
  096U20180111,  SR03,    29,  1,     21,     21,2,20180121,2331,-53.5792, 141.8622, 2495,    551.1,   2.4808,  34.5028,2,  34.4999,2,    173.3,2,    173.6,2,    67.50,2,    34.78,2,     0.01,2,     2.38,2,    -0.01,2,    1.123,2,    0.594,2,     0.35,2,   2249.5,2,   2327.8,2,   7.5379,   2,    25.00,    24.81,2,   -999.0,9,   -999.0,  -999.00,9,   0.00044,2,    0.006,2,    0.036,2,    0.000,2,   99.844,2
  096U20180111,  SR03,    29,  1,     20,     20,2,20180121,2331,-53.5792, 141.8622, 2495,    661.4,   2.4346,  34.5748,2,-999.0000,9,    170.5,2,   -999.0,9,  -999.00,9,  -999.00,9,  -999.00,9,  -999.00,9,     -999,9, -999.000,9, -999.000,9,     -999,9,   -999.0,9,   -999.0,9,-999.0000,9,  -999.00,  -999.00,9,   -999.0,9,   -999.0,  -999.00,9,   0.00044,2,    0.006,2,    0.036,2,    0.000,2,   99.863,2
  096U20180111,  SR03,    29,  1,     19,     19,2,20180121,2331,-53.5792, 141.8622, 2495,    661.3,   2.4344,  34.5748,2,  34.5836,4,    170.5,2,    171.3,2,    72.10,2,    34.01,2,     0.01,2,     2.34,2,    -0.01,2,    0.728,2,    0.362,2,     0.24,2,   2252.8,2,   2335.6,2,   7.5451,   2,    25.00,    22.72,2,   -999.0,9,   -999.0,  -999.00,9,   0.00040,2,    0.005,2,    0.036,2,    0.000,2,   99.871,2
  096U20180111,  SR03,    29,  1,     18,     18,2,20180121,2331,-53.5792, 141.8622, 2495,    780.2,   2.3846,  34.6234,2,  34.6220,2,    172.6,2,    172.7,2,    74.30,2,    33.35,2,     0.01,2,     2.29,2,    -0.01,2,    0.541,2,    0.270,2,     0.01,2,   2253.6,6,   2339.7,6,-999.0000,9,  -999.00,    22.89,2,   -999.0,9,   -999.0,  -999.00,9,   0.00040,2,    0.004,2,    0.036,2,    0.000,2,   99.911,2
  096U20180111,  SR03,    29,  1,     17,     17,2,20180121,2331,-53.5792, 141.8622, 2495,    901.8,   2.3150,  34.6607,2,  34.6597,2,    176.2,2,    175.9,2,    76.40,2,    32.65,2,     0.01,2,     2.25,2,    -0.01,2,    0.427,2,    0.209,2,     0.12,3,   2252.0,2,   2342.8,2,   7.5642,   2,    25.00,    21.72,2,   -999.0,9,   -999.0,  -999.00,9,   0.00036,2,    0.003,2,    0.036,2,    0.000,2,   99.930,2
  096U20180111,  SR03,    29,  1,     16,     16,2,20180121,2331,-53.5792, 141.8622, 2495,   1000.4,   2.2571,  34.6880,2,  34.6874,2,    179.7,2,    179.6,2,    77.70,2,    32.00,2,     0.00,2,     2.20,2,    -0.01,2, -999.000,9, -999.000,9,     -999,9,   -999.0,9,   -999.0,9,-999.0000,9,  -999.00,  -999.00,9,   -999.0,9,   -999.0,  -999.00,9,   0.00035,2,    0.002,2,    0.036,2,    0.000,2,   99.949,2
  096U20180111,  SR03,    29,  1,     15,     15,2,20180121,2331,-53.5792, 141.8622, 2495,   1000.3,   2.2568,  34.6881,2,  34.6879,2,    179.7,2,    179.6,2,    77.70,2,    32.01,2,     0.01,2,     2.20,2,    -0.01,2,    0.345,6,    0.172,6,    -0.01,6,   -999.0,9,   -999.0,9,-999.0000,9,  -999.00,    20.84,6,   -999.0,9,   -999.0,  -999.00,9,   0.00036,2,    0.002,2,    0.036,2,    0.000,2,   99.949,2
  096U20180111,  SR03,    29,  1,     14,     14,2,20180121,2331,-53.5792, 141.8622, 2495,   1100.9,   2.1973,  34.7078,2,  34.7073,2,    183.2,2,    183.1,2,    78.90,2,    31.46,2,     0.01,2,     2.17,2,    -0.01,2,    0.297,2,    0.142,2,     0.12,3,   2250.2,2,   2347.1,2,   7.5865,   2,    25.00,    20.64,2,   -999.0,9,   -999.0,  -999.00,9,   0.00034,2,    0.001,2,    0.036,2,    0.000,2,   99.968,2
  096U20180111,  SR03,    29,  1,     13,     13,2,20180121,2331,-53.5792, 141.8622, 2495,   1251.1,   2.1096,  34.7280,2,  34.7275,2,    187.7,2,    187.6,2,    80.80,2,    30.89,2,     0.01,2,     2.13,2,    -0.01,2,    0.227,3,    0.112,3,    -0.03,3,   2247.8,2,   2349.2,2,-999.0000,9,  -999.00,    16.84,3,   -999.0,9,   -999.0,  -999.00,9,   0.00034,2,    0.000,2,    0.036,2,    0.000,2,   99.989,2
  096U20180111,  SR03,    29,  1,     12,     12,2,20180121,2331,-53.5792, 141.8622, 2495,   1400.9,   1.9785,  34.7412,2,  34.7407,2,    191.9,2,    192.2,2,    83.80,2,    30.54,2,     0.00,2,     2.10,2,    -0.01,2,    0.205,2,    0.098,2,     0.01,2,   2248.9,2,   2351.9,2,   7.6027,   2,    25.00,    19.98,2,   -999.0,9,   -999.0,  -999.00,9,   0.00031,2,    0.000,2,    0.036,2,    0.000,2,  100.000,2
  096U20180111,  SR03,    29,  1,     11,     11,2,20180121,2331,-53.5792, 141.8622, 2495,   1600.7,   1.8248,  34.7459,2,  34.7456,2,    195.6,2,    195.4,2,    87.90,2,    30.39,2,     0.01,2,     2.09,2,    -0.01,2, -999.000,9, -999.000,9,     -999,9,   -999.0,9,   -999.0,9,-999.0000,9,  -999.00,  -999.00,9,   -999.0,9,   -999.0,  -999.00,9,   0.00033,2,    0.000,2,    0.036,2,    0.000,2,   99.990,2
  096U20180111,  SR03,    29,  1,     10,     10,2,20180121,2331,-53.5792, 141.8622, 2495,   1600.7,   1.8217,  34.7459,2,  34.7460,2,    195.6,2,    195.8,2,    87.80,2,    30.42,2,     0.00,2,     2.09,2,    -0.01,2,    0.180,2,    0.085,2,     0.03,2,   2249.1,2,   2355.3,2,   7.6085,   2,    25.00,    18.49,3,   -999.0,9,   -999.0,  -999.00,9,   0.00032,2,    0.000,2,    0.036,2,    0.000,2,   99.999,2
  096U20180111,  SR03,    29,  1,      9,      9,2,20180121,2331,-53.5792, 141.8622, 2495,   1801.4,   1.6314,  34.7439,2,-999.0000,9,    198.7,2,   -999.0,9,  -999.00,9,  -999.00,9,  -999.00,9,  -999.00,9,     -999,9, -999.000,9, -999.000,9,     -999,9,   -999.0,9,   -999.0,9,-999.0000,9,  -999.00,  -999.00,9,   -999.0,9,   -999.0,  -999.00,9,   0.00030,2,    0.000,2,    0.042,2,    0.000,2,  100.007,2
  096U20180111,  SR03,    29,  1,      8,      8,2,20180121,2331,-53.5792, 141.8622, 2495,   1801.4,   1.6299,  34.7438,2,  34.7437,2,    198.7,2,    198.9,2,    93.50,2,    30.54,2,     0.00,2,     2.10,2,    -0.01,2,    0.178,2,    0.080,2,     0.02,2,   2249.5,6,   2355.8,6,-999.0000,9,  -999.00,    19.53,2,   -999.0,9,   -999.0,  -999.00,9,   0.00031,2,    0.000,2,    0.036,2,    0.000,2,  100.008,2
  096U20180111,  SR03,    29,  1,      7,      7,2,20180121,2331,-53.5792, 141.8622, 2495,   2001.0,   1.4497,  34.7375,2,-999.0000,9,    200.7,2,   -999.0,9,  -999.00,9,  -999.00,9,  -999.00,9,  -999.00,9,     -999,9, -999.000,9, -999.000,9,     -999,9,   -999.0,9,   -999.0,9,-999.0000,9,  -999.00,  -999.00,9,   -999.0,9,   -999.0,  -999.00,9,   0.00032,2,   -0.001,2,    0.036,2,    0.000,2,  100.012,2
  096U20180111,  SR03,    29,  1,      6,      6,2,20180121,2331,-53.5792, 141.8622, 2495,   2000.8,   1.4467,  34.7374,2,  34.7394,2,    200.7,2,    200.6,2,    99.50,2,    30.82,2,     0.01,2,     2.13,2,    -0.01,2,    0.176,2,    0.077,2,    -0.02,2,   2253.5,2,   2359.7,2,   7.6098,   6,    25.00,    19.21,2,   -999.0,9,   -999.0,  -999.00,9,   0.00031,2,    0.000,2,    0.042,2,    0.000,2,  100.010,2
  096U20180111,  SR03,    29,  1,      5,      5,2,20180121,2331,-53.5792, 141.8622, 2495,   2201.1,   1.2812,  34.7303,2,  34.7301,2,    202.3,2,    202.4,2,   104.60,2,    31.10,2,     0.01,2,     2.15,2,    -0.01,2,    0.180,2,    0.097,2,        0,2,   2254.1,2,   2360.7,6,-999.0000,9,  -999.00,    18.26,2,   -999.0,9,   -999.0,  -999.00,9,   0.00029,2,   -0.001,2,    0.036,2,    0.000,2,  100.016,2
  096U20180111,  SR03,    29,  1,      4,      4,2,20180121,2331,-53.5792, 141.8622, 2495,   2350.9,   1.1474,  34.7237,2,  34.7235,2,    203.2,2,    203.6,2,   109.00,2,    31.37,2,     0.01,2,     2.17,2,    -0.01,2,    0.198,2,    0.093,2,    -0.03,2,   2254.9,2,   2362.2,2,-999.0000,9,  -999.00,    17.68,2,   -999.0,9,   -999.0,  -999.00,9,   0.00029,2,   -0.001,2,    0.036,2,    0.000,2,  100.027,2
  096U20180111,  SR03,    29,  1,      3,      3,2,20180121,2331,-53.5792, 141.8622, 2495,   2471.1,   0.9474,  34.7140,2,  34.7168,4,    206.4,2,    206.3,2,   115.90,2,    31.60,2,     0.01,2,     2.19,2,    -0.01,2,    0.000,4,    0.000,4,     0.12,4,   2257.6,2,   2362.2,2,-999.0000,9,  -999.00,     0.00,4,   -999.0,9,   -999.0,  -999.00,9,   0.00028,2,   -0.001,2,    0.036,2,    0.000,2,  100.023,2
  096U20180111,  SR03,    29,  1,      2,      2,2,20180121,2331,-53.5792, 141.8622, 2495,   2513.2,   0.9166,  34.7122,2,-999.0000,9,    206.9,2,   -999.0,9,  -999.00,9,  -999.00,9,  -999.00,9,  -999.00,9,     -999,9, -999.000,9, -999.000,9,     -999,9,   -999.0,9,   -999.0,9,-999.0000,9,  -999.00,  -999.00,9,   -999.0,9,   -999.0,  -999.00,9,   0.00031,2,    0.000,2,    0.036,2,    0.000,2,   99.996,2
  096U20180111,  SR03,    29,  1,      1,      1,2,20180121,2331,-53.5792, 141.8622, 2495,   2513.2,   0.9158,  34.7121,2,  34.7126,2,    206.9,2,    206.8,2,   117.90,2,    31.73,2,     0.01,2,     2.20,2,    -0.01,2,    0.271,2,    0.126,2,     0.04,2,   2258.6,2,   2364.0,6,-999.0000,9,  -999.00,    18.05,2,   -999.0,9,   -999.0,  -999.00,9,   0.00125,2,    0.000,2,    0.036,2,    0.000,2,   99.991,2