BOTTLE,20230418CCHSIOENA
EXPOCODE,SECT_ID,STNNBR,CASTNO,SAMPNO,BTLNBR,BTLNBR_FLAG_W,DATE,TIME,LATITUDE,LONGITUDE,DEPTH,CTDPRS,CTDTMP,CTDSAL,CTDSAL_FLAG_W,SALNTY,SALNTY_FLAG_W,CTDOXY,CTDOXY_FLAG_W,OXYGEN,OXYGEN_FLAG_W,SILCAT,SILCAT_FLAG_W,NITRAT,NITRAT_FLAG_W,NITRIT,NITRIT_FLAG_W,PHSPHT,PHSPHT_FLAG_W,NH4,NH4_FLAG_W,CFC-11,CFC-11_FLAG_W,CFC-12,CFC-12_FLAG_W,SF6,SF6_FLAG_W,TCARBN,TCARBN_FLAG_W,ALKALI,ALKALI_FLAG_W,PH_TOT,PH_TOT_FLAG_W,PH_TMP,N2O,N2O_FLAG_W,DELC14,DELC14_FLAG_W,C14ERR,DELC13,DELC13_FLAG_W,CTDBETA700,CTDBETA700_FLAG_W,CTDBEAMCP,CTDBEAMCP_FLAG_W,CTDFLUOR,CTDFLUOR_FLAG_W,PAR,PAR_FLAG_W,CTDXMISS,CTDXMISS_FLAG_W
,,,,,,,,,,,METERS,DBAR,ITS-90,PSS-78,,PSS-78,,UMOL/KG,,UMOL/KG,,UMOL/KG,,UMOL/KG,,UMOL/KG,,UMOL/KG,,UMOL/KG,,PMOL/KG,,PMOL/KG,,FMOL/KG,,UMOL/KG,,UMOL/KG,,,,DEG C,NMOL/KG,,/MILLE,,/MILLE,/MILLE,,VOLTS,,1/M,,MG/M^3,,UMOL/M^2/SEC,,%TRANS,
  096U20180111,  SR03,    23,  1,     36,     36,2,20180120,0033,-51.5520, 143.0005, 3632,     10.6,   9.1268,  34.1741,2,  34.1733,2,    286.2,2,    285.9,2,     1.10,2,    14.96,2,     0.23,2,     1.05,2,     0.13,2,    3.430,2,    1.961,2,      2.4,2,   2099.8,2,   2282.1,2,-999.0000,9,  -999.00,    10.73,3,    -14.9,2,      2.0,     1.53,2,   0.00248,2,    0.225,2,    0.408,2,  496.000,2,   94.540,2
  096U20180111,  SR03,    23,  1,     35,     35,2,20180120,0033,-51.5520, 143.0005, 3632,     11.1,   9.1143,  34.1736,2,-999.0000,9,    286.1,2,   -999.0,9,  -999.00,9,  -999.00,9,  -999.00,9,  -999.00,9,     -999,9, -999.000,9, -999.000,9,     -999,9,   -999.0,9,   -999.0,9,-999.0000,9,  -999.00,  -999.00,9,   -999.0,9,   -999.0,  -999.00,9,   0.00251,2,    0.227,2,    0.486,2,  498.000,2,   94.488,2
  096U20180111,  SR03,    23,  1,     34,     34,2,20180120,0033,-51.5520, 143.0005, 3632,     30.4,   9.1204,  34.1738,2,  34.1739,2,    286.2,2,    285.8,2,     1.10,2,    14.94,2,     0.23,2,     1.05,2,     0.13,2,    3.423,2,    1.955,2,     3.25,2,   2100.2,6,   2282.1,6,-999.0000,9,  -999.00,    10.72,3,   -999.0,9,   -999.0,  -999.00,9,   0.00256,2,    0.225,2,    1.620,2,   96.200,2,   94.534,2
  096U20180111,  SR03,    23,  1,     33,     33,2,20180120,0033,-51.5520, 143.0005, 3632,     48.9,   9.1060,  34.1733,2,  34.1713,2,    285.7,2,    285.8,2,     1.10,2,    15.03,2,     0.22,2,     1.06,2,     0.13,2,    3.431,2,    1.963,2,     2.38,2,   2099.4,2,   2281.7,2,-999.0000,9,  -999.00,    10.68,3,    -13.0,2,      2.0,     1.49,2,   0.00254,2,    0.224,2,    2.154,2,   21.900,2,   94.549,2
  096U20180111,  SR03,    23,  1,     32,     32,2,20180120,0033,-51.5520, 143.0005, 3632,     48.9,   9.0706,  34.1714,2,-999.0000,9,    285.7,2,   -999.0,9,  -999.00,9,  -999.00,9,  -999.00,9,  -999.00,9,     -999,9, -999.000,9, -999.000,9,     -999,9,   -999.0,9,   -999.0,9,-999.0000,9,  -999.00,  -999.00,9,   -999.0,9,   -999.0,  -999.00,9,   0.00255,2,    0.223,2,    2.358,2,   22.100,2,   94.575,2
  096U20180111,  SR03,    23,  1,     31,     31,2,20180120,0033,-51.5520, 143.0005, 3632,     74.7,   9.0181,  34.1701,2,  34.1687,2,    284.6,2,    285.2,2,     1.20,2,    15.14,2,     0.22,2,     1.06,2,     0.17,2,    3.443,2,    1.957,2,      2.4,2,   2101.1,2,   2282.4,2,-999.0000,9,  -999.00,    10.80,3,    -15.5,2,      2.5,     1.42,2,   0.00281,2,    0.212,2,    2.400,2,    2.650,2,   94.836,2
  096U20180111,  SR03,    23,  1,     30,     30,2,20180120,0033,-51.5520, 143.0005, 3632,     99.4,   9.2131,  34.3584,2,  34.3538,2,    276.9,2,    275.8,2,     2.30,2,    14.20,2,     0.23,2,     1.05,2,     0.54,2,    3.315,2,    1.927,2,     2.48,2,   2111.0,2,   2288.3,2,-999.0000,9,  -999.00,    11.61,3,     -6.1,2,      2.3,     1.24,2,   0.00167,2,    0.100,2,    0.978,2,    0.436,2,   97.534,2
  096U20180111,  SR03,    23,  1,     29,     29,2,20180120,0033,-51.5520, 143.0005, 3632,     99.1,   9.2124,  34.3575,2,-999.0000,9,    276.9,2,   -999.0,9,  -999.00,9,  -999.00,9,  -999.00,9,  -999.00,9,     -999,9, -999.000,9, -999.000,9,     -999,9,   -999.0,9,   -999.0,9,-999.0000,9,  -999.00,  -999.00,9,   -999.0,9,   -999.0,  -999.00,9,   0.00174,2,    0.098,2,    0.972,2,    0.460,2,   97.590,2
  096U20180111,  SR03,    23,  1,     28,     28,2,20180120,0033,-51.5520, 143.0005, 3632,    120.4,   8.2282,  34.3702,2,-999.0000,9,    271.4,2,   -999.0,9,  -999.00,9,  -999.00,9,  -999.00,9,  -999.00,9,     -999,9, -999.000,9, -999.000,9,     -999,9,   -999.0,9,   -999.0,9,-999.0000,9,  -999.00,  -999.00,9,   -999.0,9,   -999.0,  -999.00,9,   0.00094,2,    0.039,2,    0.258,2,    0.143,2,   99.038,2
  096U20180111,  SR03,    23,  1,     27,     27,2,20180120,0033,-51.5520, 143.0005, 3632,    150.6,   8.0425,  34.3939,2,  34.3818,2,    269.1,2,    273.7,2,     4.00,2,    17.23,2,     0.03,2,     1.20,2,        0,2,    3.478,6,    2.012,6,     2.27,6,   2126.3,2,   2287.6,2,-999.0000,9,  -999.00,    11.90,3,      0.2,2,      2.3,     0.97,2,   0.00081,2,    0.023,2,    0.126,2,    0.029,2,   99.432,2
  096U20180111,  SR03,    23,  1,     26,     26,2,20180120,0033,-51.5520, 143.0005, 3632,    201.6,   7.8113,  34.3643,2,  34.3647,2,    268.9,2,    275.8,2,     4.20,2,    17.75,2,     0.02,2,     1.24,2,        0,2, -999.000,5, -999.000,5,     -999,5,   2127.0,2,   2286.4,2,-999.0000,9,  -999.00,  -999.00,5,     -7.4,2,      1.9,     1.05,2,   0.00081,2,    0.019,2,    0.084,2,    0.000,2,   99.539,2
  096U20180111,  SR03,    23,  1,     25,     25,2,20180120,0033,-51.5520, 143.0005, 3632,    201.3,   7.8101,  34.3638,2,-999.0000,9,    268.9,2,   -999.0,9,  -999.00,9,  -999.00,9,  -999.00,9,  -999.00,9,     -999,9, -999.000,9, -999.000,9,     -999,9,   -999.0,9,   -999.0,9,-999.0000,9,  -999.00,  -999.00,9,   -999.0,9,   -999.0,  -999.00,9,   0.00071,2,    0.017,2,    0.072,2,    0.000,2,   99.568,2
  096U20180111,  SR03,    23,  1,     24,     24,4,20180120,0033,-51.5520, 143.0005, 3632,    299.7,   7.3799,  34.3441,2,  34.3926,4,    262.2,2,    202.7,4,  -999.00,9,  -999.00,9,  -999.00,9,  -999.00,9,     -999,9,    0.245,4,    0.121,4,     0.23,4,   2199.9,3,   2301.5,6,-999.0000,9,  -999.00,    19.69,3,    -52.9,4,      2.1,     0.95,2,   0.00060,2,    0.010,2,    0.036,2,    0.000,2,   99.742,2
  096U20180111,  SR03,    23,  1,     23,     23,2,20180120,0033,-51.5520, 143.0005, 3632,    500.7,   6.1781,  34.3105,2,  34.3104,2,    238.0,2,    234.5,2,    13.40,2,    24.97,2,     0.01,2,     1.69,2,        0,2,    3.405,2,    1.860,2,     1.75,2,   2163.5,2,   2288.5,2,-999.0000,9,  -999.00,    15.47,3,    -19.5,2,      2.2,     1.02,2,   0.00049,2,    0.007,2,    0.030,2,    0.000,2,   99.831,2
  096U20180111,  SR03,    23,  1,     22,     22,2,20180120,0033,-51.5520, 143.0005, 3632,    500.6,   6.1776,  34.3104,2,-999.0000,9,    238.0,2,   -999.0,9,  -999.00,9,  -999.00,9,  -999.00,9,  -999.00,9,     -999,9, -999.000,9, -999.000,9,     -999,9,   -999.0,9,   -999.0,9,-999.0000,9,  -999.00,  -999.00,9,   -999.0,9,   -999.0,  -999.00,9,   0.00051,2,    0.007,2,    0.030,2,    0.000,2,   99.814,2
  096U20180111,  SR03,    23,  1,     21,     21,2,20180120,0033,-51.5520, 143.0005, 3632,    650.8,   5.2734,  34.3215,2,  34.3216,2,    215.4,2,    215.5,2,    21.50,2,    28.23,2,     0.01,2,     1.91,2,    -0.01,2,    2.946,2,    1.554,2,     1.38,2,   2182.1,6,   2291.6,6,-999.0000,9,  -999.00,    17.64,3,    -38.4,2,      2.1,     0.94,2,   0.00047,2,    0.005,2,    0.030,2,    0.000,2,   99.871,2
  096U20180111,  SR03,    23,  1,     20,     20,2,20180120,0033,-51.5520, 143.0005, 3632,    801.8,   4.2273,  34.3021,2,  34.3013,2,    209.1,2,    211.3,2,    30.90,2,    30.52,2,     0.01,2,     2.08,2,        0,2,    2.538,2,    1.358,2,     0.62,2,   2196.4,2,   2299.9,2,-999.0000,9,  -999.00,    20.84,3,    -65.6,2,      2.6,     0.86,2,   0.00045,2,    0.004,2,    0.036,2,    0.000,2,   99.896,2
  096U20180111,  SR03,    23,  1,     19,     19,2,20180120,0033,-51.5520, 143.0005, 3632,   1001.3,   3.4535,  34.3693,2,  34.3689,2,    191.1,2,    192.7,2,    46.10,2,    32.78,2,     0.01,2,     2.25,2,        0,2,    1.777,2,    0.908,2,      0.8,2,   2220.0,2,   2312.2,2,-999.0000,9,  -999.00,    22.18,3,   -101.2,2,      3.2,     0.70,2,   0.00042,2,    0.003,2,    0.036,2,    0.000,2,   99.931,2
  096U20180111,  SR03,    23,  1,     18,     18,2,20180120,0033,-51.5520, 143.0005, 3632,   1001.2,   3.4530,  34.3694,2,-999.0000,9,    191.1,2,   -999.0,9,  -999.00,9,  -999.00,9,  -999.00,9,  -999.00,9,     -999,9, -999.000,9, -999.000,9,     -999,9,   -999.0,9,   -999.0,9,-999.0000,9,  -999.00,  -999.00,9,   -999.0,9,   -999.0,  -999.00,9,   0.00042,2,    0.003,2,    0.036,2,    0.000,2,   99.934,2
  096U20180111,  SR03,    23,  1,     17,     17,2,20180120,0033,-51.5520, 143.0005, 3632,   1250.2,   2.9327,  34.4802,2,  34.4800,2,    176.7,2,    176.0,2,    61.50,2,    33.88,2,     0.00,2,     2.32,2,        0,2,    0.990,2,    0.510,2,     0.26,2,   2242.9,2,   2328.3,2,-999.0000,9,  -999.00,    24.08,3,   -131.2,2,      2.1,     0.54,2,   0.00041,2,    0.002,2,    0.036,2,    0.000,2,   99.957,2
  096U20180111,  SR03,    23,  1,     16,     16,2,20180120,0033,-51.5520, 143.0005, 3632,   1501.0,   2.6449,  34.5892,2,  34.5882,2,    172.0,2,    172.0,2,    70.50,2,    33.35,2,     0.00,2,     2.30,2,        0,2,    0.515,2,    0.247,2,        0,2,   2250.4,2,   2341.9,2,-999.0000,9,  -999.00,    21.89,3,   -141.7,2,      2.1,     0.48,2,   0.00040,2,    0.001,2,    0.036,2,    0.000,2,   99.966,2
  096U20180111,  SR03,    23,  1,     15,     15,2,20180120,0033,-51.5520, 143.0005, 3632,   1501.0,   2.6437,  34.5896,2,-999.0000,9,    172.0,2,   -999.0,9,  -999.00,9,  -999.00,9,  -999.00,9,  -999.00,9,     -999,9, -999.000,9, -999.000,9,     -999,9,   -999.0,9,   -999.0,9,-999.0000,9,  -999.00,  -999.00,9,   -999.0,9,   -999.0,  -999.00,9,   0.00040,2,    0.001,2,    0.042,2,    0.000,2,   99.968,2
  096U20180111,  SR03,    23,  1,     14,     14,2,20180120,0033,-51.5520, 143.0005, 3632,   1751.6,   2.4713,  34.6688,2,  34.6669,2,    176.8,2,    176.7,2,    74.90,2,    32.15,2,     0.00,2,     2.21,2,        0,2,    0.315,2,    0.158,2,     0.06,2,   2249.6,2,   2344.0,2,-999.0000,9,  -999.00,    20.86,3,   -148.9,2,      1.9,     0.44,2,   0.00036,2,    0.001,2,    0.042,2,    0.000,2,   99.973,2
  096U20180111,  SR03,    23,  1,     13,     13,2,20180120,0033,-51.5520, 143.0005, 3632,   2000.9,   2.3006,  34.7181,2,  34.7178,2,    185.4,2,    185.2,2,    78.10,2,    30.96,2,     0.01,2,     2.13,2,    -0.01,2,    0.220,2,    0.112,2,     0.03,2,   2248.5,2,   2346.9,2,-999.0000,9,  -999.00,    20.28,3,   -149.8,2,      2.0,     0.54,2,   0.00036,2,    0.000,2,    0.036,2,    0.000,2,   99.992,2
  096U20180111,  SR03,    23,  1,     12,     12,2,20180120,0033,-51.5520, 143.0005, 3632,   2000.6,   2.3014,  34.7179,2,-999.0000,9,    185.4,2,   -999.0,9,  -999.00,9,  -999.00,9,  -999.00,9,  -999.00,9,     -999,9, -999.000,9, -999.000,9,     -999,9,   -999.0,9,   -999.0,9,-999.0000,9,  -999.00,  -999.00,9,   -999.0,9,   -999.0,  -999.00,9,   0.00036,2,    0.000,2,    0.042,2,    0.000,2,   99.994,2
  096U20180111,  SR03,    23,  1,     11,     11,2,20180120,0033,-51.5520, 143.0005, 3632,   2250.2,   2.1043,  34.7415,2,  34.7416,2,    191.9,2,    191.4,2,    82.90,2,    30.32,2,     0.01,2,     2.08,2,    -0.01,2,    0.167,2,    0.081,2,     0.18,2,   2246.0,2,   2352.5,2,-999.0000,9,  -999.00,    18.17,3,   -151.0,2,      1.9,     0.42,2,   0.00035,2,    0.000,2,    0.042,2,    0.000,2,   99.997,2
  096U20180111,  SR03,    23,  1,     10,     10,2,20180120,0033,-51.5520, 143.0005, 3632,   2501.0,   1.8388,  34.7456,2,  34.7456,2,    197.1,2,    196.3,2,    90.10,2,    30.29,2,     0.01,2,     2.08,2,        0,2,    0.159,2,    0.075,2,        0,2,   2249.8,2,   2355.7,2,-999.0000,9,  -999.00,    21.51,3,   -153.9,2,      1.8,     0.40,2,   0.00035,2,   -0.001,2,    0.036,2,    0.000,2,  100.018,2
  096U20180111,  SR03,    23,  1,      9,      9,2,20180120,0033,-51.5520, 143.0005, 3632,   2500.9,   1.8379,  34.7456,2,-999.0000,9,    197.0,2,   -999.0,9,  -999.00,9,  -999.00,9,  -999.00,9,  -999.00,9,     -999,9, -999.000,9, -999.000,9,     -999,9,   -999.0,9,   -999.0,9,-999.0000,9,  -999.00,  -999.00,9,   -999.0,9,   -999.0,  -999.00,9,   0.00036,2,   -0.001,2,    0.036,2,    0.000,2,  100.018,2
  096U20180111,  SR03,    23,  1,      8,      8,2,20180120,0033,-51.5520, 143.0005, 3632,   2749.8,   1.5734,  34.7391,2,  34.7389,2,    200.4,2,    199.3,2,    98.20,2,    30.62,2,     0.01,2,     2.11,2,    -0.01,2,    0.166,2,    0.080,2,     0.01,2,   2252.1,2,   2358.1,2,-999.0000,9,  -999.00,    19.82,3,   -156.0,2,      1.8,     0.41,2,   0.00030,2,   -0.001,2,    0.042,2,    0.000,2,  100.032,2
  096U20180111,  SR03,    23,  1,      7,      7,2,20180120,0033,-51.5520, 143.0005, 3632,   3000.9,   1.3131,  34.7282,2,  34.7281,2,    202.6,2,    201.6,2,   107.00,2,    31.07,2,     0.01,2,     2.15,2,    -0.01,2,    0.179,2,    0.083,2,     0.07,2,   2256.6,6,   2363.2,6,-999.0000,9,  -999.00,    19.13,3,   -166.2,2,      1.9,     0.36,2,   0.00031,2,   -0.001,2,    0.042,2,    0.000,2,  100.024,2
  096U20180111,  SR03,    23,  1,      6,      6,2,20180120,0033,-51.5520, 143.0005, 3632,   3000.7,   1.3106,  34.7280,2,-999.0000,9,    202.6,2,   -999.0,9,  -999.00,9,  -999.00,9,  -999.00,9,  -999.00,9,     -999,9, -999.000,9, -999.000,9,     -999,9,   -999.0,9,   -999.0,9,-999.0000,9,  -999.00,  -999.00,9,   -999.0,9,   -999.0,  -999.00,9,   0.00031,2,   -0.001,2,    0.042,2,    0.000,2,  100.019,2
  096U20180111,  SR03,    23,  1,      5,      5,2,20180120,0033,-51.5520, 143.0005, 3632,   3249.8,   1.1368,  34.7194,2,  34.7190,2,    204.3,2,    203.4,2,   113.60,2,    31.49,2,     0.01,2,     2.18,2,        0,2,    0.185,2,    0.084,2,     0.03,2,   2260.6,2,   2368.3,2,-999.0000,9,  -999.00,    18.83,3,   -161.8,2,      1.9,     0.41,2,   0.00031,2,    0.000,2,    0.042,2,    0.000,2,  100.008,2
  096U20180111,  SR03,    23,  1,      4,      4,2,20180120,0033,-51.5520, 143.0005, 3632,   3499.8,   1.0319,  34.7138,2,  34.7133,2,    205.7,2,    205.4,2,   117.30,2,    31.60,2,     0.00,2,     2.19,2,        0,2,    0.238,2,    0.115,2,     0.02,2,   2262.6,2,   2368.1,2,-999.0000,9,  -999.00,    18.30,3,   -160.3,2,      1.9,     0.35,2,   0.00033,2,    0.001,2,    0.042,2,    0.000,2,   99.975,2
  096U20180111,  SR03,    23,  1,      3,      3,2,20180120,0033,-51.5520, 143.0005, 3632,   3499.7,   1.0314,  34.7139,2,-999.0000,9,    205.7,2,   -999.0,9,  -999.00,9,  -999.00,9,  -999.00,9,  -999.00,9,     -999,9, -999.000,9, -999.000,9,     -999,9,   -999.0,9,   -999.0,9,-999.0000,9,  -999.00,  -999.00,9,   -999.0,9,   -999.0,  -999.00,9,   0.00034,2,    0.001,2,    0.042,2,    0.000,2,   99.977,2
  096U20180111,  SR03,    23,  1,      2,      2,2,20180120,0033,-51.5520, 143.0005, 3632,   3661.8,   1.0365,  34.7132,2,  34.7130,2,    206.0,2,    205.7,2,   117.80,2,    31.60,2,     0.01,2,     2.19,2,        0,2,    0.238,2,    0.115,2,     0.08,2,   2262.4,2,   2366.9,6,-999.0000,9,  -999.00,    19.50,3,   -160.1,2,      2.1,     0.36,2,   0.00035,2,    0.002,2,    0.036,2,    0.000,2,   99.962,2
  096U20180111,  SR03,    23,  1,      1,      1,2,20180120,0033,-51.5520, 143.0005, 3632,   3661.9,   1.0364,  34.7133,2,-999.0000,9,    206.0,2,   -999.0,9,  -999.00,9,  -999.00,9,  -999.00,9,  -999.00,9,     -999,9, -999.000,9, -999.000,9,     -999,9,   -999.0,9,   -999.0,9,-999.0000,9,  -999.00,  -999.00,9,   -999.0,9,   -999.0,  -999.00,9,   0.00036,2,    0.002,2,    0.042,2,    0.000,2,   99.956,2