BOTTLE,20230418CCHSIOENA
EXPOCODE,SECT_ID,STNNBR,CASTNO,SAMPNO,BTLNBR,BTLNBR_FLAG_W,DATE,TIME,LATITUDE,LONGITUDE,DEPTH,CTDPRS,CTDTMP,CTDSAL,CTDSAL_FLAG_W,SALNTY,SALNTY_FLAG_W,CTDOXY,CTDOXY_FLAG_W,OXYGEN,OXYGEN_FLAG_W,SILCAT,SILCAT_FLAG_W,NITRAT,NITRAT_FLAG_W,NITRIT,NITRIT_FLAG_W,PHSPHT,PHSPHT_FLAG_W,NH4,NH4_FLAG_W,CFC-11,CFC-11_FLAG_W,CFC-12,CFC-12_FLAG_W,SF6,SF6_FLAG_W,TCARBN,TCARBN_FLAG_W,ALKALI,ALKALI_FLAG_W,PH_TOT,PH_TOT_FLAG_W,PH_TMP,N2O,N2O_FLAG_W,DELC14,DELC14_FLAG_W,C14ERR,DELC13,DELC13_FLAG_W,CTDBETA700,CTDBETA700_FLAG_W,CTDBEAMCP,CTDBEAMCP_FLAG_W,CTDFLUOR,CTDFLUOR_FLAG_W,PAR,PAR_FLAG_W,CTDXMISS,CTDXMISS_FLAG_W
,,,,,,,,,,,METERS,DBAR,ITS-90,PSS-78,,PSS-78,,UMOL/KG,,UMOL/KG,,UMOL/KG,,UMOL/KG,,UMOL/KG,,UMOL/KG,,UMOL/KG,,PMOL/KG,,PMOL/KG,,FMOL/KG,,UMOL/KG,,UMOL/KG,,,,DEG C,NMOL/KG,,/MILLE,,/MILLE,/MILLE,,VOLTS,,1/M,,MG/M^3,,UMOL/M^2/SEC,,%TRANS,
  096U20180111,  SR03,    98,  1,     36,     36,2,20180214,0910,-60.9990, 132.0028, 4572,     11.2,   2.9609,  33.7307,2,-999.0000,9,    324.5,2,   -999.0,9,  -999.00,9,  -999.00,9,  -999.00,9,  -999.00,9,     -999,9, -999.000,9, -999.000,9,     -999,9,   -999.0,9,   -999.0,9,-999.0000,9,  -999.00,  -999.00,9,   -999.0,9,   -999.0,  -999.00,9,   0.00197,2,    0.211,2,    1.974,2,    0.940,2,   94.871,2
  096U20180111,  SR03,    98,  1,     35,     35,2,20180214,0910,-60.9990, 132.0028, 4572,     11.1,   2.9610,  33.7307,2,  33.7299,2,    324.5,2,    324.8,2,  -999.00,9,  -999.00,9,  -999.00,9,  -999.00,9,     -999,9,    5.152,2,    2.841,2,     3.22,2,   2140.2,2,   2280.1,2,-999.0000,9,  -999.00,    14.78,2,   -999.0,9,   -999.0,  -999.00,9,   0.00191,2,    0.211,2,    1.980,2,    0.900,2,   94.873,2
  096U20180111,  SR03,    98,  1,     34,     34,2,20180214,0910,-60.9990, 132.0028, 4572,     26.2,   2.8990,  33.7256,2,  33.7253,2,    325.1,2,    325.0,2,  -999.00,9,  -999.00,9,  -999.00,9,  -999.00,9,     -999,9,    5.170,2,    2.825,2,     3.24,2,   2141.0,6,   2279.9,6,-999.0000,9,  -999.00,    14.58,2,   -999.0,9,   -999.0,  -999.00,9,   0.00202,2,    0.221,2,    2.076,2,    0.099,2,   94.621,2
  096U20180111,  SR03,    98,  1,     33,     33,2,20180214,0910,-60.9990, 132.0028, 4572,     46.4,   2.6796,  33.7234,2,-999.0000,9,    325.0,2,   -999.0,9,  -999.00,9,  -999.00,9,  -999.00,9,  -999.00,9,     -999,9, -999.000,9, -999.000,9,     -999,9,   -999.0,9,   -999.0,9,-999.0000,9,  -999.00,  -999.00,9,   -999.0,9,   -999.0,  -999.00,9,   0.00280,2,    0.306,2,    3.318,2,    0.000,2,   92.633,2
  096U20180111,  SR03,    98,  1,     32,     32,2,20180214,0910,-60.9990, 132.0028, 4572,     46.5,   2.6927,  33.7233,2,  33.7228,2,    325.0,2,    327.1,2,     7.70,2,    24.07,2,     0.24,2,     1.47,2,     0.17,2,    5.189,2,    2.866,2,     3.33,2,   2140.0,2,   2280.8,2,-999.0000,9,  -999.00,    14.66,2,   -999.0,9,   -999.0,  -999.00,9,   0.00295,2,    0.303,2,    3.234,2,    0.000,2,   92.709,2
  096U20180111,  SR03,    98,  1,     31,     31,2,20180214,0910,-60.9990, 132.0028, 4572,     76.1,   0.4957,  33.8000,2,  33.8017,2,    341.8,2,    346.8,2,    17.50,2,    26.42,2,     0.21,2,     1.87,2,     0.51,2,    5.857,2,    3.166,2,     3.77,2,   2157.0,2,   2283.9,6,-999.0000,9,  -999.00,    16.18,2,   -999.0,9,   -999.0,  -999.00,9,   0.00281,2,    0.284,2,    3.546,2,    0.000,2,   93.153,2
  096U20180111,  SR03,    98,  1,     30,     30,2,20180214,0910,-60.9990, 132.0028, 4572,    121.4,  -0.3000,  33.9510,2,-999.0000,9,    336.4,2,   -999.0,9,  -999.00,9,  -999.00,9,  -999.00,9,  -999.00,9,     -999,9, -999.000,9, -999.000,9,     -999,9,   -999.0,9,   -999.0,9,-999.0000,9,  -999.00,  -999.00,9,   -999.0,9,   -999.0,  -999.00,9,   0.00053,2,    0.024,2,    0.228,2,    0.000,2,   99.395,2
  096U20180111,  SR03,    98,  1,     29,     29,2,20180214,0910,-60.9990, 132.0028, 4572,    121.6,  -0.3023,  33.9516,2,  33.9434,2,    336.4,2,    332.0,2,    28.90,2,    29.32,2,     0.29,2,     2.05,2,     0.13,2,    5.642,6,    3.070,6,     3.22,6,   2178.2,2,   2289.8,2,-999.0000,9,  -999.00,    17.19,6,   -999.0,9,   -999.0,  -999.00,9,   0.00050,2,    0.024,2,    0.210,2,    0.000,2,   99.411,2
  096U20180111,  SR03,    98,  1,     28,     28,2,20180214,0910,-60.9990, 132.0028, 4572,    171.8,   0.3982,  34.0800,2,  34.0788,2,    285.1,2,    289.2,2,    39.20,2,    31.63,2,     0.01,2,     2.18,2,        0,2,    4.573,2,    2.513,2,     2.65,2,   2198.7,2,   2297.3,2,-999.0000,9,  -999.00,    19.23,2,   -999.0,9,   -999.0,  -999.00,9,   0.00048,2,    0.014,2,    0.060,2,    0.000,2,   99.660,2
  096U20180111,  SR03,    98,  1,     27,     27,2,20180214,0910,-60.9990, 132.0028, 4572,    222.7,   1.9708,  34.3391,2,  34.3324,2,    205.3,2,    205.8,2,    57.40,2,    34.77,2,     0.01,2,     2.38,2,        0,2,    2.417,2,    1.278,2,        1,2,   2234.3,2,   2315.4,2,-999.0000,9,  -999.00,    24.99,2,   -999.0,9,   -999.0,  -999.00,9,   0.00044,2,    0.015,2,    0.036,2,    0.000,2,   99.622,2
  096U20180111,  SR03,    98,  1,     26,     26,2,20180214,0910,-60.9990, 132.0028, 4572,    322.5,   2.2377,  34.4684,2,  34.4659,2,    177.5,2,    178.4,2,    67.90,2,    35.43,2,     0.01,2,     2.43,2,        0,2,    1.438,2,    0.738,2,     0.46,2,   2249.9,2,   2325.8,2,-999.0000,9,  -999.00,    26.33,2,   -999.0,9,   -999.0,  -999.00,9,   0.00044,2,    0.016,2,    0.036,2,    0.000,2,   99.605,2
  096U20180111,  SR03,    98,  1,     25,     25,2,20180214,0910,-60.9990, 132.0028, 4572,    422.0,   2.3340,  34.5576,2,-999.0000,9,    172.4,2,   -999.0,9,  -999.00,9,  -999.00,9,  -999.00,9,  -999.00,9,     -999,9, -999.000,9, -999.000,9,     -999,9,   -999.0,9,   -999.0,9,-999.0000,9,  -999.00,  -999.00,9,   -999.0,9,   -999.0,  -999.00,9,   0.00038,2,    0.010,2,    0.036,2,    0.000,2,   99.759,2
  096U20180111,  SR03,    98,  1,     24,     24,2,20180214,0910,-60.9990, 132.0028, 4572,    422.0,   2.3385,  34.5583,2,  34.5566,2,    172.4,2,    172.5,2,    72.60,2,    34.62,2,     0.01,2,     2.38,2,        0,2,    0.879,2,    0.450,2,     0.32,2,   2252.5,2,   2332.7,2,-999.0000,9,  -999.00,    25.06,2,   -999.0,9,   -999.0,  -999.00,9,   0.00038,2,    0.009,2,    0.036,2,    0.000,2,   99.788,2
  096U20180111,  SR03,    98,  1,     23,     23,2,20180214,0910,-60.9990, 132.0028, 4572,    522.0,   2.2578,  34.6051,2,  34.6034,2,    172.2,2,    172.3,2,    75.90,2,    34.13,2,     0.01,2,     2.35,2,        0,2,    0.681,2,    0.352,2,     0.12,2,   2253.5,2,   2336.3,2,-999.0000,9,  -999.00,    24.57,2,   -999.0,9,   -999.0,  -999.00,9,   0.00039,2,    0.008,2,    0.036,2,    0.000,2,   99.806,2
  096U20180111,  SR03,    98,  1,     22,     22,2,20180214,0910,-60.9990, 132.0028, 4572,    621.4,   2.2355,  34.6480,2,  34.6469,2,    175.8,2,    174.7,2,    77.50,2,    33.34,2,     0.00,2,     2.29,2,        0,2, -999.000,9, -999.000,9,     -999,9,   -999.0,9,   -999.0,9,-999.0000,9,  -999.00,  -999.00,9,   -999.0,9,   -999.0,  -999.00,9,   0.00034,2,    0.008,2,    0.042,2,    0.000,2,   99.803,2
  096U20180111,  SR03,    98,  1,     21,     21,2,20180214,0910,-60.9990, 132.0028, 4572,    721.7,   2.1939,  34.6845,2,  34.6830,2,    177.8,2,    178.8,2,    79.00,2,    32.48,2,     0.00,2,     2.24,2,    -0.01,2,    0.381,2,    0.200,2,     0.01,2,   2251.2,6,   2342.6,6,-999.0000,9,  -999.00,    22.88,2,   -999.0,9,   -999.0,  -999.00,9,   0.00034,2,    0.006,2,    0.042,2,    0.000,2,   99.858,2
  096U20180111,  SR03,    98,  1,     20,     20,2,20180214,0910,-60.9990, 132.0028, 4572,    822.1,   2.1318,  34.7059,2,  34.7054,2,    181.3,2,    182.3,2,    80.50,2,    31.94,2,     0.00,2,     2.20,2,        0,2,    0.322,2,    0.170,2,     0.16,2,   2250.7,2,   2343.7,2,-999.0000,9,  -999.00,    21.86,2,   -999.0,9,   -999.0,  -999.00,9,   0.00032,2,    0.005,2,    0.036,2,    0.000,2,   99.885,2
  096U20180111,  SR03,    98,  1,     19,     19,2,20180214,0910,-60.9990, 132.0028, 4572,    922.0,   2.0719,  34.7188,2,  34.7182,2,    184.3,2,    185.2,2,    81.90,2,    31.60,2,     0.00,2,     2.18,2,        0,2, -999.000,9, -999.000,9,     -999,9,   -999.0,9,   -999.0,9,-999.0000,9,  -999.00,  -999.00,9,   -999.0,9,   -999.0,  -999.00,9,   0.00030,2,    0.004,2,    0.036,2,    0.000,2,   99.895,2
  096U20180111,  SR03,    98,  1,     18,     18,2,20180214,0910,-60.9990, 132.0028, 4572,   1052.3,   1.9714,  34.7324,2,  34.7311,2,    189.2,2,    189.1,2,    84.20,2,    31.14,2,     0.00,2,     2.15,2,        0,2,    0.252,2,    0.135,2,      0.1,2,   2248.4,2,   2347.8,2,-999.0000,9,  -999.00,    20.69,2,   -999.0,9,   -999.0,  -999.00,9,   0.00028,2,    0.003,2,    0.036,2,    0.000,2,   99.924,2
  096U20180111,  SR03,    98,  1,     17,     17,2,20180214,0910,-60.9990, 132.0028, 4572,   1251.4,   1.8404,  34.7446,2,  34.7444,2,    193.3,2,    194.5,2,    87.30,2,    30.71,2,     0.00,2,     2.13,2,        0,2,    0.197,2,    0.102,2,        0,2,   2248.9,2,   2351.1,2,-999.0000,9,  -999.00,    20.02,2,   -999.0,9,   -999.0,  -999.00,9,   0.00028,2,    0.002,2,    0.036,2,    0.000,2,   99.961,2
  096U20180111,  SR03,    98,  1,     16,     16,2,20180214,0910,-60.9990, 132.0028, 4572,   1451.4,   1.6763,  34.7447,2,-999.0000,9,    196.7,2,   -999.0,9,  -999.00,9,  -999.00,9,  -999.00,9,  -999.00,9,     -999,9, -999.000,9, -999.000,9,     -999,9,   -999.0,9,   -999.0,9,-999.0000,9,  -999.00,  -999.00,9,   -999.0,9,   -999.0,  -999.00,9,   0.00028,2,    0.001,2,    0.036,2,    0.000,2,   99.970,2
  096U20180111,  SR03,    98,  1,     15,     15,2,20180214,0910,-60.9990, 132.0028, 4572,   1451.2,   1.6756,  34.7446,2,  34.7438,2,    196.7,2,    197.6,2,    91.90,2,    30.72,2,     0.00,2,     2.13,2,    -0.01,2, -999.000,9, -999.000,9,     -999,9,   2248.6,2,   2352.9,2,-999.0000,9,  -999.00,  -999.00,9,   -999.0,9,   -999.0,  -999.00,9,   0.00028,2,    0.001,2,    0.036,2,    0.000,2,   99.978,2
  096U20180111,  SR03,    98,  1,     14,     14,2,20180214,0910,-60.9990, 132.0028, 4572,   1651.5,   1.5101,  34.7413,2,  34.7373,4,    199.5,2,    200.3,2,    96.80,2,    30.83,2,     0.00,2,     2.14,2,        0,2,    0.182,2,    0.091,2,     0.06,2,   2250.4,2,   2356.5,6,-999.0000,9,  -999.00,    19.94,2,   -999.0,9,   -999.0,  -999.00,9,   0.00030,2,    0.001,2,    0.036,2,    0.000,2,   99.981,2
  096U20180111,  SR03,    98,  1,     13,     13,2,20180214,0910,-60.9990, 132.0028, 4572,   1851.3,   1.3523,  34.7350,2,  34.7350,2,    201.7,2,    202.0,2,   101.50,2,    31.08,2,     0.00,2,     2.16,2,        0,2, -999.000,9, -999.000,9,     -999,9,   -999.0,9,   -999.0,9,-999.0000,9,  -999.00,  -999.00,9,   -999.0,9,   -999.0,  -999.00,9,   0.00027,2,    0.000,2,    0.042,2,    0.000,2,   99.997,2
  096U20180111,  SR03,    98,  1,     12,     12,2,20180214,0910,-60.9990, 132.0028, 4572,   2050.6,   1.1936,  34.7277,2,  34.7278,2,    203.8,2,    203.8,2,   106.50,2,    31.39,2,     0.00,2,     2.18,2,    -0.01,2,    0.202,2,    0.101,2,     0.04,2,   2256.0,2,   2358.6,2,-999.0000,9,  -999.00,    19.31,2,   -999.0,9,   -999.0,  -999.00,9,   0.00027,2,    0.000,2,    0.036,2,    0.000,2,   99.995,2
  096U20180111,  SR03,    98,  1,     11,     11,2,20180214,0910,-60.9990, 132.0028, 4572,   2301.1,   1.0108,  34.7180,2,  34.7177,2,    206.4,2,    205.8,2,   112.10,2,    31.69,2,     0.00,2,     2.21,2,    -0.01,2,    0.246,2,    0.125,2,     0.08,2,   2257.5,2,   2359.9,2,-999.0000,9,  -999.00,    19.78,2,   -999.0,9,   -999.0,  -999.00,9,   0.00026,2,    0.000,2,    0.042,2,    0.000,2,  100.000,2
  096U20180111,  SR03,    98,  1,     10,     10,2,20180214,0910,-60.9990, 132.0028, 4572,   2651.7,   0.7333,  34.7034,2,  34.6966,4,    210.4,2,    210.0,2,   119.60,2,    32.22,2,     0.00,2,     2.24,2,        0,2,    0.348,2,    0.177,2,        0,2,   2258.2,2,   2360.3,2,-999.0000,9,  -999.00,    19.83,2,   -999.0,9,   -999.0,  -999.00,9,   0.00026,2,    0.000,2,    0.036,2,    0.000,2,   99.997,2
  096U20180111,  SR03,    98,  1,      9,      9,2,20180214,0910,-60.9990, 132.0028, 4572,   3000.1,   0.5115,  34.6920,2,-999.0000,9,    214.9,2,   -999.0,9,  -999.00,9,  -999.00,9,  -999.00,9,  -999.00,9,     -999,9, -999.000,9, -999.000,9,     -999,9,   -999.0,9,   -999.0,9,-999.0000,9,  -999.00,  -999.00,9,   -999.0,9,   -999.0,  -999.00,9,   0.00026,2,    0.000,2,    0.042,2,    0.000,2,  100.007,2
  096U20180111,  SR03,    98,  1,      8,      8,2,20180214,0910,-60.9990, 132.0028, 4572,   3000.2,   0.5116,  34.6920,2,  34.6925,2,    214.9,2,    214.7,2,   125.10,2,    32.44,2,     0.00,2,     2.26,2,        0,2,    0.470,2,    0.237,2,     0.02,2,   2259.3,2,   2359.5,2,-999.0000,9,  -999.00,    19.79,2,   -999.0,9,   -999.0,  -999.00,9,   0.00023,2,    0.000,2,    0.036,2,    0.000,2,  100.009,2
  096U20180111,  SR03,    98,  1,      7,      7,2,20180214,0910,-60.9990, 132.0028, 4572,   3351.5,   0.3717,  34.6850,2,  34.6802,4,    219.0,2,    218.6,2,   129.50,2,    32.51,2,     0.00,2,     2.27,2,        0,2,    0.628,2,    0.308,2,        0,2,   2258.4,2,   2360.2,2,-999.0000,9,  -999.00,    19.47,2,   -999.0,9,   -999.0,  -999.00,9,   0.00024,2,    0.000,2,    0.036,2,    0.000,2,   99.991,2
  096U20180111,  SR03,    98,  1,      6,      6,2,20180214,0910,-60.9990, 132.0028, 4572,   3701.2,   0.2729,  34.6794,2,  34.6784,2,    222.7,2,    221.9,2,   130.80,2,    32.60,2,     0.00,2,     2.27,2,        0,2, -999.000,9, -999.000,9,     -999,9,   -999.0,9,   -999.0,9,-999.0000,9,  -999.00,  -999.00,9,   -999.0,9,   -999.0,  -999.00,9,   0.00022,2,    0.000,2,    0.042,2,    0.000,2,  100.006,2
  096U20180111,  SR03,    98,  1,      5,      5,2,20180214,0910,-60.9990, 132.0028, 4572,   4051.8,   0.1777,  34.6737,2,  34.6731,2,    226.5,2,    225.9,2,   131.90,2,    32.49,2,     0.00,2,     2.27,2,        0,2,    0.982,2,    0.488,2,     0.12,2,   2258.7,2,   2358.0,2,-999.0000,9,  -999.00,    19.34,2,   -999.0,9,   -999.0,  -999.00,9,   0.00023,2,    0.000,2,    0.042,2,    0.000,2,   99.998,2
  096U20180111,  SR03,    98,  1,      4,      4,2,20180214,0910,-60.9990, 132.0028, 4572,   4401.4,   0.0928,  34.6673,2,  34.6654,2,    230.6,2,    230.1,2,   134.00,2,    32.46,2,     0.00,2,     2.27,2,    -0.01,2,    1.274,2,    0.632,2,     0.24,2,   -999.0,9,   -999.0,9,-999.0000,9,  -999.00,    19.59,2,   -999.0,9,   -999.0,  -999.00,9,   0.00025,2,    0.002,2,    0.042,2,    0.000,2,   99.952,2
  096U20180111,  SR03,    98,  1,      3,      3,2,20180214,0910,-60.9990, 132.0028, 4572,   4514.6,   0.0548,  34.6639,2,  34.6618,2,    232.3,2,    231.9,2,   133.40,2,    32.46,2,     0.00,2,     2.27,2,        0,2,    1.433,2,    0.715,2,     0.33,2,   2258.9,6,   2357.3,6,-999.0000,9,  -999.00,    19.59,2,   -999.0,9,   -999.0,  -999.00,9,   0.00027,2,    0.003,2,    0.042,2,    0.000,2,   99.925,2
  096U20180111,  SR03,    98,  1,      2,      2,2,20180214,0910,-60.9990, 132.0028, 4572,   4664.2,  -0.0397,  34.6537,2,-999.0000,9,    236.2,2,   -999.0,9,  -999.00,9,  -999.00,9,  -999.00,9,  -999.00,9,     -999,9, -999.000,9, -999.000,9,     -999,9,   -999.0,9,   -999.0,9,-999.0000,9,  -999.00,  -999.00,9,   -999.0,9,   -999.0,  -999.00,9,   0.00035,2,    0.009,2,    0.036,2,    0.000,2,   99.785,2
  096U20180111,  SR03,    98,  1,      1,      1,2,20180214,0910,-60.9990, 132.0028, 4572,   4664.3,  -0.0396,  34.6537,2,  34.6497,2,    236.2,2,    235.5,2,   135.50,2,    32.40,2,     0.00,2,     2.26,2,        0,2,    1.839,2,    0.946,2,     0.41,2,   2256.1,2,   2356.2,2,-999.0000,9,  -999.00,    19.36,2,   -999.0,9,   -999.0,  -999.00,9,   0.00035,2,    0.009,2,    0.042,2,    0.000,2,   99.773,2