BOTTLE,20230418CCHSIOENA
EXPOCODE,SECT_ID,STNNBR,CASTNO,SAMPNO,BTLNBR,BTLNBR_FLAG_W,DATE,TIME,LATITUDE,LONGITUDE,DEPTH,CTDPRS,CTDTMP,CTDSAL,CTDSAL_FLAG_W,SALNTY,SALNTY_FLAG_W,CTDOXY,CTDOXY_FLAG_W,OXYGEN,OXYGEN_FLAG_W,SILCAT,SILCAT_FLAG_W,NITRAT,NITRAT_FLAG_W,NITRIT,NITRIT_FLAG_W,PHSPHT,PHSPHT_FLAG_W,NH4,NH4_FLAG_W,CFC-11,CFC-11_FLAG_W,CFC-12,CFC-12_FLAG_W,SF6,SF6_FLAG_W,TCARBN,TCARBN_FLAG_W,ALKALI,ALKALI_FLAG_W,PH_TOT,PH_TOT_FLAG_W,PH_TMP,N2O,N2O_FLAG_W,DELC14,DELC14_FLAG_W,C14ERR,DELC13,DELC13_FLAG_W,CTDBETA700,CTDBETA700_FLAG_W,CTDBEAMCP,CTDBEAMCP_FLAG_W,CTDFLUOR,CTDFLUOR_FLAG_W,PAR,PAR_FLAG_W,CTDXMISS,CTDXMISS_FLAG_W
,,,,,,,,,,,METERS,DBAR,ITS-90,PSS-78,,PSS-78,,UMOL/KG,,UMOL/KG,,UMOL/KG,,UMOL/KG,,UMOL/KG,,UMOL/KG,,UMOL/KG,,PMOL/KG,,PMOL/KG,,FMOL/KG,,UMOL/KG,,UMOL/KG,,,,DEG C,NMOL/KG,,/MILLE,,/MILLE,/MILLE,,VOLTS,,1/M,,MG/M^3,,UMOL/M^2/SEC,,%TRANS,
  096U20180111,  SR03,    85,  1,     36,     36,2,20180209,1411,-62.1718, 138.4095, 3948,     15.7,   1.3417,  33.7195,2,  33.7192,2,    338.8,2,    337.8,2,    14.60,2,    24.19,2,     0.26,2,     1.54,2,     0.28,2,    5.627,2,    2.985,2,     3.75,3,   2145.1,2,   2281.7,2,-999.0000,9,  -999.00,    14.91,2,   -999.0,9,   -999.0,  -999.00,9,   0.00354,2,    0.297,2,    3.030,2,    0.306,2,   92.849,2
  096U20180111,  SR03,    85,  1,     35,     35,2,20180209,1411,-62.1718, 138.4095, 3948,     15.8,   1.3415,  33.7195,2,-999.0000,9,    338.8,2,   -999.0,9,  -999.00,9,  -999.00,9,  -999.00,9,  -999.00,9,     -999,9, -999.000,9, -999.000,9,     -999,9,   -999.0,9,   -999.0,9,-999.0000,9,  -999.00,  -999.00,9,   -999.0,9,   -999.0,  -999.00,9,   0.00328,2,    0.299,2,    3.012,2,    0.319,2,   92.805,2
  096U20180111,  SR03,    85,  1,     34,     34,2,20180209,1411,-62.1718, 138.4095, 3948,     31.1,   1.3414,  33.7193,2,  33.7208,2,    338.9,2,    337.6,2,    14.80,2,    24.20,2,     0.26,2,     1.54,2,     0.29,2, -999.000,9, -999.000,9,     -999,9,   -999.0,9,   -999.0,9,-999.0000,9,  -999.00,  -999.00,9,   -999.0,9,   -999.0,  -999.00,9,   0.00339,2,    0.297,2,    3.012,2,    0.016,2,   92.838,2
  096U20180111,  SR03,    85,  1,     33,     33,2,20180209,1411,-62.1718, 138.4095, 3948,     31.2,   1.3387,  33.7201,2,-999.0000,9,    338.9,2,   -999.0,9,  -999.00,9,  -999.00,9,  -999.00,9,  -999.00,9,     -999,9, -999.000,9, -999.000,9,     -999,9,   -999.0,9,   -999.0,9,-999.0000,9,  -999.00,  -999.00,9,   -999.0,9,   -999.0,  -999.00,9,   0.00350,2,    0.296,2,    3.012,2,    0.016,2,   92.862,2
  096U20180111,  SR03,    85,  1,     32,     32,2,20180209,1411,-62.1718, 138.4095, 3948,     65.3,  -1.1427,  33.9255,2,  33.9204,2,    331.6,2,    330.7,2,    37.20,2,    28.69,2,     0.20,2,     2.12,2,     1.14,2,    5.712,2,    2.968,2,     3.55,3,   2184.7,2,   2292.9,2,-999.0000,9,  -999.00,    16.77,2,   -999.0,9,   -999.0,  -999.00,9,   0.00169,2,    0.118,2,    0.918,2,    0.000,2,   97.098,2
  096U20180111,  SR03,    85,  1,     31,     31,2,20180209,1411,-62.1718, 138.4095, 3948,     65.2,  -1.1430,  33.9255,2,-999.0000,9,    331.6,2,   -999.0,9,  -999.00,9,  -999.00,9,  -999.00,9,  -999.00,9,     -999,9, -999.000,9, -999.000,9,     -999,9,   -999.0,9,   -999.0,9,-999.0000,9,  -999.00,  -999.00,9,   -999.0,9,   -999.0,  -999.00,9,   0.00163,2,    0.112,2,    0.912,2,    0.000,2,   97.249,2
  096U20180111,  SR03,    85,  1,     30,     30,2,20180209,1411,-62.1718, 138.4095, 3948,    121.6,   0.3945,  34.2473,2,  34.2460,2,    255.1,2,    244.2,2,    56.90,2,    33.38,2,     0.04,2,     2.29,2,    -0.02,2,    3.284,2,    1.740,2,     1.87,3,   2227.7,2,   2312.0,2,-999.0000,9,  -999.00,    21.83,2,   -999.0,9,   -999.0,  -999.00,9,   0.00063,2,    0.026,2,    0.108,2,    0.000,2,   99.349,2
  096U20180111,  SR03,    85,  1,     29,     29,2,20180209,1411,-62.1718, 138.4095, 3948,    170.8,   1.6231,  34.4475,2,  34.4481,2,    193.1,2,    193.0,2,    69.10,2,    34.87,2,     0.02,2,     2.39,2,    -0.02,2, -999.000,9, -999.000,9,     -999,9,   -999.0,9,   -999.0,9,-999.0000,9,  -999.00,  -999.00,9,   -999.0,9,   -999.0,  -999.00,9,   0.00055,2,    0.020,2,    0.060,2,    0.000,2,   99.511,2
  096U20180111,  SR03,    85,  1,     28,     28,2,20180209,1411,-62.1718, 138.4095, 3948,    240.8,   2.1087,  34.5753,2,  34.5755,2,    175.7,2,    174.8,2,    75.50,2,    34.57,2,     0.01,2,     2.38,2,    -0.02,2,    0.909,2,    0.475,2,     0.31,3,   2255.4,2,   2334.6,2,-999.0000,9,  -999.00,    24.07,2,   -999.0,9,   -999.0,  -999.00,9,   0.00048,2,    0.013,2,    0.042,2,    0.000,2,   99.671,2
  096U20180111,  SR03,    85,  1,     27,     27,2,20180209,1411,-62.1718, 138.4095, 3948,    332.5,   2.1399,  34.6397,2,  34.6391,2,    175.9,2,    175.5,2,    78.40,2,    33.67,2,     0.01,2,     2.30,2,    -0.02,2, -999.000,9, -999.000,9,     -999,9,   -999.0,9,   -999.0,9,-999.0000,9,  -999.00,  -999.00,9,   -999.0,9,   -999.0,  -999.00,9,   0.00043,2,    0.007,2,    0.036,2,    0.000,2,   99.834,2
  096U20180111,  SR03,    85,  1,     26,     26,2,20180209,1411,-62.1718, 138.4095, 3948,    401.3,   2.0518,  34.6630,2,  34.6633,2,    178.0,2,    177.5,2,    80.30,2,    33.22,2,     0.01,2,     2.29,2,    -0.02,2, -999.000,9, -999.000,9,     -999,9,   -999.0,9,   -999.0,9,-999.0000,9,  -999.00,  -999.00,9,   -999.0,9,   -999.0,  -999.00,9,   0.00036,2,    0.005,2,    0.036,2,    0.000,2,   99.884,2
  096U20180111,  SR03,    85,  1,     25,     25,2,20180209,1411,-62.1718, 138.4095, 3948,    401.1,   2.0518,  34.6633,2,-999.0000,9,    178.0,2,   -999.0,9,  -999.00,9,  -999.00,9,  -999.00,9,  -999.00,9,     -999,9, -999.000,9, -999.000,9,     -999,9,   -999.0,9,   -999.0,9,-999.0000,9,  -999.00,  -999.00,9,   -999.0,9,   -999.0,  -999.00,9,   0.00035,2,    0.005,2,    0.036,2,    0.000,2,   99.873,2
  096U20180111,  SR03,    85,  1,     24,     24,2,20180209,1411,-62.1718, 138.4095, 3948,    501.9,   2.0626,  34.6996,2,  34.6996,2,    182.2,2,    182.8,2,    80.80,2,    32.22,2,     0.00,2,     2.22,2,    -0.02,2, -999.000,9, -999.000,9,     -999,9,   -999.0,9,   -999.0,9,-999.0000,9,  -999.00,  -999.00,9,   -999.0,9,   -999.0,  -999.00,9,   0.00031,2,    0.003,2,    0.036,2,    0.000,2,   99.922,2
  096U20180111,  SR03,    85,  1,     23,     23,2,20180209,1411,-62.1718, 138.4095, 3948,    603.7,   1.9905,  34.7164,2,  34.7165,2,    185.0,2,    185.5,2,    82.90,2,    31.81,2,     0.01,2,     2.19,2,    -0.02,2,    0.327,2,    0.172,2,        0,3,   2252.3,2,   2347.3,2,-999.0000,9,  -999.00,    21.31,2,   -999.0,9,   -999.0,  -999.00,9,   0.00037,2,    0.002,2,    0.036,2,    0.000,2,   99.946,2
  096U20180111,  SR03,    85,  1,     22,     22,2,20180209,1411,-62.1718, 138.4095, 3948,    703.1,   1.9054,  34.7270,2,  34.7269,2,    188.1,2,    187.9,2,    85.10,2,    31.51,2,     0.01,2,     2.17,2,    -0.02,2, -999.000,9, -999.000,9,     -999,9,   -999.0,9,   -999.0,9,-999.0000,9,  -999.00,  -999.00,9,   -999.0,9,   -999.0,  -999.00,9,   0.00029,2,    0.000,2,    0.030,2,    0.000,2,   99.999,2
  096U20180111,  SR03,    85,  1,     21,     21,2,20180209,1411,-62.1718, 138.4095, 3948,    803.3,   1.8588,  34.7382,2,  34.7377,2,    191.1,2,    192.3,2,    86.20,2,    31.06,2,     0.00,2,     2.13,2,    -0.02,2, -999.000,9, -999.000,9,     -999,9,   -999.0,9,   -999.0,9,-999.0000,9,  -999.00,  -999.00,9,   -999.0,9,   -999.0,  -999.00,9,   0.00029,2,   -0.001,2,    0.036,2,    0.000,2,  100.013,2
  096U20180111,  SR03,    85,  1,     20,     20,2,20180209,1411,-62.1718, 138.4095, 3948,    952.4,   1.7428,  34.7429,2,  34.7437,2,    195.2,2,    195.8,2,    89.20,2,    30.86,2,     0.01,2,     2.12,2,    -0.02,2,    0.214,2,    0.113,2,     0.17,3,   2249.8,2,   2353.5,2,-999.0000,9,  -999.00,    19.85,2,   -999.0,9,   -999.0,  -999.00,9,   0.00028,2,   -0.001,2,    0.030,2,    0.000,2,  100.012,2
  096U20180111,  SR03,    85,  1,     19,     19,2,20180209,1411,-62.1718, 138.4095, 3948,   1101.6,   1.6127,  34.7415,2,  34.7407,2,    197.0,2,    198.0,2,    92.80,2,    30.95,2,     0.01,2,     2.13,2,    -0.02,2, -999.000,9, -999.000,9,     -999,9,   -999.0,9,   -999.0,9,-999.0000,9,  -999.00,  -999.00,9,   -999.0,9,   -999.0,  -999.00,9,   0.00026,2,    0.001,2,    0.030,2,    0.000,2,   99.989,2
  096U20180111,  SR03,    85,  1,     18,     18,2,20180209,1411,-62.1718, 138.4095, 3948,   1101.8,   1.6124,  34.7417,2,-999.0000,9,    197.0,2,   -999.0,9,  -999.00,9,  -999.00,9,  -999.00,9,  -999.00,9,     -999,9, -999.000,9, -999.000,9,     -999,9,   -999.0,9,   -999.0,9,-999.0000,9,  -999.00,  -999.00,9,   -999.0,9,   -999.0,  -999.00,9,   0.00026,2,   -0.002,2,    0.030,2,    0.000,2,  100.043,2
  096U20180111,  SR03,    85,  1,     17,     17,2,20180209,1411,-62.1718, 138.4095, 3948,   1301.9,   1.4199,  34.7368,2,  34.7363,2,    199.8,2,    200.3,2,    97.60,2,    31.10,2,     0.01,2,     2.15,2,    -0.02,2,    0.227,2,    0.119,2,     0.11,3,   2251.5,2,   2356.4,2,-999.0000,9,  -999.00,    19.73,2,   -999.0,9,   -999.0,  -999.00,9,   0.00027,2,   -0.002,2,    0.036,2,    0.000,2,  100.050,2
  096U20180111,  SR03,    85,  1,     16,     16,2,20180209,1411,-62.1718, 138.4095, 3948,   1552.2,   1.2218,  34.7293,2,  34.7296,2,    202.7,2,    203.0,2,   104.00,2,    31.42,2,     0.01,2,     2.17,2,    -0.02,2, -999.000,9, -999.000,9,     -999,9,   -999.0,9,   -999.0,9,-999.0000,9,  -999.00,  -999.00,9,   -999.0,9,   -999.0,  -999.00,9,   0.00026,2,   -0.002,2,    0.030,2,    0.000,2,  100.059,2
  096U20180111,  SR03,    85,  1,     15,     15,2,20180209,1411,-62.1718, 138.4095, 3948,   1801.5,   1.0299,  34.7199,2,  34.7176,2,    205.3,2,    205.6,2,   109.90,2,    31.79,2,     0.01,2,     2.20,2,    -0.02,2,    0.232,2,    0.117,2,      0.1,3,   2257.6,2,   2360.1,6,-999.0000,9,  -999.00,    19.35,2,   -999.0,9,   -999.0,  -999.00,9,   0.00027,2,   -0.002,2,    0.030,2,    0.000,2,  100.061,2
  096U20180111,  SR03,    85,  1,     14,     14,2,20180209,1411,-62.1718, 138.4095, 3948,   2051.3,   0.8486,  34.7100,2,  34.7100,2,    207.9,2,    207.7,2,   114.70,2,    32.11,2,     0.01,2,     2.22,2,    -0.02,2, -999.000,9, -999.000,9,     -999,9,   -999.0,9,   -999.0,9,-999.0000,9,  -999.00,  -999.00,9,   -999.0,9,   -999.0,  -999.00,9,   0.00024,2,   -0.003,2,    0.036,2,    0.000,2,  100.070,2
  096U20180111,  SR03,    85,  1,     13,     13,2,20180209,1411,-62.1718, 138.4095, 3948,   2300.7,   0.6573,  34.7000,2,  34.6998,2,    210.5,2,    210.7,2,   119.80,2,    32.43,2,     0.01,2,     2.25,2,    -0.02,2,    0.351,2,    0.176,2,     -0.1,3,   2260.7,2,   2360.2,2,-999.0000,9,  -999.00,    19.00,2,   -999.0,9,   -999.0,  -999.00,9,   0.00025,2,   -0.002,2,    0.030,2,    0.000,2,  100.056,2
  096U20180111,  SR03,    85,  1,     12,     12,2,20180209,1411,-62.1718, 138.4095, 3948,   2550.2,   0.4989,  34.6921,2,  34.6918,2,    213.9,2,    214.5,2,   123.30,2,    32.56,2,     0.01,2,     2.26,2,    -0.02,2, -999.000,9, -999.000,9,     -999,9,   -999.0,9,   -999.0,9,-999.0000,9,  -999.00,  -999.00,9,   -999.0,9,   -999.0,  -999.00,9,   0.00024,2,   -0.003,2,    0.036,2,    0.000,2,  100.066,2
  096U20180111,  SR03,    85,  1,     11,     11,2,20180209,1411,-62.1718, 138.4095, 3948,   2800.8,   0.3762,  34.6860,2,  34.6869,2,    217.2,2,    217.9,2,   125.90,2,    32.64,2,     0.01,2,     2.27,2,    -0.02,2,    0.569,2,    0.283,2,     0.08,3,   2260.0,2,   2360.9,2,-999.0000,9,  -999.00,    18.61,2,   -999.0,9,   -999.0,  -999.00,9,   0.00024,2,   -0.002,2,    0.036,2,    0.000,2,  100.057,2
  096U20180111,  SR03,    85,  1,     10,     10,2,20180209,1411,-62.1718, 138.4095, 3948,   3050.3,   0.2714,  34.6811,2,  34.6809,2,    220.5,2,    220.8,2,   128.10,2,    32.67,2,     0.01,2,     2.26,2,    -0.02,2, -999.000,9, -999.000,9,     -999,9,   -999.0,9,   -999.0,9,-999.0000,9,  -999.00,  -999.00,9,   -999.0,9,   -999.0,  -999.00,9,   0.00023,2,   -0.002,2,    0.036,2,    0.000,2,  100.060,2
  096U20180111,  SR03,    85,  1,      9,      9,2,20180209,1411,-62.1718, 138.4095, 3948,   3301.5,   0.1869,  34.6765,2,  34.6761,2,    224.1,2,    224.0,2,   129.80,2,    32.63,2,     0.01,2,     2.26,2,    -0.02,2,    0.875,2,    0.433,2,     0.32,3,   -999.0,9,   -999.0,9,-999.0000,9,  -999.00,    19.13,2,   -999.0,9,   -999.0,  -999.00,9,   0.00022,2,   -0.003,2,    0.036,2,    0.000,2,  100.068,2
  096U20180111,  SR03,    85,  1,      8,      8,2,20180209,1411,-62.1718, 138.4095, 3948,   3554.3,   0.0902,  34.6703,2,-999.0000,9,    228.2,2,   -999.0,9,  -999.00,9,  -999.00,9,  -999.00,9,  -999.00,9,     -999,9, -999.000,9, -999.000,9,     -999,9,   -999.0,9,   -999.0,9,-999.0000,9,  -999.00,  -999.00,9,   -999.0,9,   -999.0,  -999.00,9,   0.00024,2,   -0.002,2,    0.036,2,    0.000,2,  100.062,2
  096U20180111,  SR03,    85,  1,      7,      7,2,20180209,1411,-62.1718, 138.4095, 3948,   3554.2,   0.0896,  34.6702,2,  34.6697,2,    228.2,2,    227.8,2,   127.70,2,    32.61,2,     0.01,2,     2.26,2,    -0.02,2,    1.160,2,    0.589,2,     0.16,3,   -999.0,9,   -999.0,9,-999.0000,9,  -999.00,    19.23,2,   -999.0,9,   -999.0,  -999.00,9,   0.00023,2,   -0.002,2,    0.030,2,    0.000,2,  100.056,2
  096U20180111,  SR03,    85,  1,      6,      6,2,20180209,1411,-62.1718, 138.4095, 3948,   3798.3,  -0.0176,  34.6623,2,  34.6621,2,    232.9,2,    232.9,2,   124.70,2,    32.48,2,     0.01,2,     2.25,2,    -0.02,2,    1.527,2,    0.779,2,     0.43,3,   2257.5,2,   2358.2,2,-999.0000,9,  -999.00,    19.34,2,   -999.0,9,   -999.0,  -999.00,9,   0.00024,2,   -0.001,2,    0.030,2,    0.000,2,  100.023,2
  096U20180111,  SR03,    85,  1,      5,      5,2,20180209,1411,-62.1718, 138.4095, 3948,   3798.5,  -0.0175,  34.6622,2,-999.0000,9,    232.9,2,   -999.0,9,  -999.00,9,  -999.00,9,  -999.00,9,  -999.00,9,     -999,9, -999.000,9, -999.000,9,     -999,9,   -999.0,9,   -999.0,9,-999.0000,9,  -999.00,  -999.00,9,   -999.0,9,   -999.0,  -999.00,9,   0.00024,2,   -0.001,2,    0.036,2,    0.000,2,  100.033,2
  096U20180111,  SR03,    85,  1,      4,      4,2,20180209,1411,-62.1718, 138.4095, 3948,   3970.5,  -0.0861,  34.6565,2,-999.0000,9,    236.6,2,   -999.0,9,  -999.00,9,  -999.00,9,  -999.00,9,  -999.00,9,     -999,9, -999.000,9, -999.000,9,     -999,9,   -999.0,9,   -999.0,9,-999.0000,9,  -999.00,  -999.00,9,   -999.0,9,   -999.0,  -999.00,9,   0.00031,2,    0.003,2,    0.030,2,    0.000,2,   99.927,2
  096U20180111,  SR03,    85,  1,      3,      3,2,20180209,1411,-62.1718, 138.4095, 3948,   3970.5,  -0.0863,  34.6565,2,  34.6558,2,    236.6,2,    236.8,2,   121.00,2,    32.42,2,     0.01,2,     2.25,2,    -0.02,2,    1.823,2,    0.948,2,     0.79,3,   -999.0,9,   -999.0,9,-999.0000,9,  -999.00,    18.96,2,   -999.0,9,   -999.0,  -999.00,9,   0.00030,2,    0.003,2,    0.036,2,    0.000,2,   99.931,2
  096U20180111,  SR03,    85,  1,      2,      2,2,20180209,1411,-62.1718, 138.4095, 3948,   4022.4,  -0.1542,  34.6523,2,-999.0000,9,    238.7,2,   -999.0,9,  -999.00,9,  -999.00,9,  -999.00,9,  -999.00,9,     -999,9, -999.000,9, -999.000,9,     -999,9,   -999.0,9,   -999.0,9,-999.0000,9,  -999.00,  -999.00,9,   -999.0,9,   -999.0,  -999.00,9,   0.00049,2,    0.014,2,    0.036,2,    0.000,2,   99.646,2
  096U20180111,  SR03,    85,  1,      1,      1,2,20180209,1411,-62.1718, 138.4095, 3948,   4022.2,  -0.1531,  34.6524,2,  34.6523,2,    238.7,2,    239.4,2,   115.70,2,    32.28,2,     0.01,2,     2.23,2,    -0.02,2,    1.996,2,    1.062,2,     0.87,3,   2257.1,6,   2353.8,6,-999.0000,9,  -999.00,    19.24,2,   -999.0,9,   -999.0,  -999.00,9,   0.00050,2,    0.014,2,    0.036,2,    0.000,2,   99.639,2