BOTTLE,20230418CCHSIOENA
EXPOCODE,SECT_ID,STNNBR,CASTNO,SAMPNO,BTLNBR,BTLNBR_FLAG_W,DATE,TIME,LATITUDE,LONGITUDE,DEPTH,CTDPRS,CTDTMP,CTDSAL,CTDSAL_FLAG_W,SALNTY,SALNTY_FLAG_W,CTDOXY,CTDOXY_FLAG_W,OXYGEN,OXYGEN_FLAG_W,SILCAT,SILCAT_FLAG_W,NITRAT,NITRAT_FLAG_W,NITRIT,NITRIT_FLAG_W,PHSPHT,PHSPHT_FLAG_W,NH4,NH4_FLAG_W,CFC-11,CFC-11_FLAG_W,CFC-12,CFC-12_FLAG_W,SF6,SF6_FLAG_W,TCARBN,TCARBN_FLAG_W,ALKALI,ALKALI_FLAG_W,PH_TOT,PH_TOT_FLAG_W,PH_TMP,N2O,N2O_FLAG_W,DELC14,DELC14_FLAG_W,C14ERR,DELC13,DELC13_FLAG_W,CTDBETA700,CTDBETA700_FLAG_W,CTDBEAMCP,CTDBEAMCP_FLAG_W,CTDFLUOR,CTDFLUOR_FLAG_W,PAR,PAR_FLAG_W,CTDXMISS,CTDXMISS_FLAG_W
,,,,,,,,,,,METERS,DBAR,ITS-90,PSS-78,,PSS-78,,UMOL/KG,,UMOL/KG,,UMOL/KG,,UMOL/KG,,UMOL/KG,,UMOL/KG,,UMOL/KG,,PMOL/KG,,PMOL/KG,,FMOL/KG,,UMOL/KG,,UMOL/KG,,,,DEG C,NMOL/KG,,/MILLE,,/MILLE,/MILLE,,VOLTS,,1/M,,MG/M^3,,UMOL/M^2/SEC,,%TRANS,
  096U20180111,  SR03,    42,  1,     36,     36,2,20180126,1018,-59.3503, 139.8503, 4125,     11.6,   2.7547,  33.6840,2,  33.6846,2,    331.2,2,    328.8,2,     7.30,2,    24.72,2,     0.22,2,     1.50,2,     0.17,2,    5.029,2,    2.750,2,     3.51,2,   2138.2,2,   2275.7,2,-999.0000,9,  -999.00,    13.50,2,    -78.8,2,      2.3,     1.27,2,   0.00191,2,    0.235,2,    2.130,2,    0.866,2,   94.282,2
  096U20180111,  SR03,    42,  1,     35,     35,2,20180126,1018,-59.3503, 139.8503, 4125,     30.3,   2.7037,  33.6910,2,  33.6960,2,    331.6,2,    330.1,2,     7.10,2,    24.75,2,     0.22,2,     1.50,2,     0.18,2,    5.047,2,    2.741,2,     3.26,2,   2139.7,6,   2276.4,6,-999.0000,9,  -999.00,    13.67,2,    -82.4,2,      3.0,     1.36,2,   0.00215,2,    0.259,2,    2.508,2,    0.054,2,   93.737,2
  096U20180111,  SR03,    42,  1,     34,     34,2,20180126,1018,-59.3503, 139.8503, 4125,     51.3,   2.1690,  33.7219,2,  33.7505,2,    336.2,2,    339.2,2,    10.90,2,    25.59,2,     0.21,2,     1.68,2,     0.39,2,    5.297,2,    2.854,2,     3.56,2,   2150.3,2,   2280.0,2,-999.0000,9,  -999.00,    14.29,2,    -84.7,2,      2.6,     1.24,2,   0.00295,2,    0.311,2,    3.720,2,    0.000,2,   92.518,2
  096U20180111,  SR03,    42,  1,     33,     33,2,20180126,1018,-59.3503, 139.8503, 4125,     70.9,   0.3726,  33.8609,2,-999.0000,9,    339.5,2,   -999.0,9,  -999.00,9,  -999.00,9,  -999.00,9,  -999.00,9,     -999,9, -999.000,9, -999.000,9,     -999,9,   -999.0,9,   -999.0,9,-999.0000,9,  -999.00,  -999.00,9,   -999.0,9,   -999.0,  -999.00,9,   0.00141,2,    0.075,2,    0.888,2,    0.000,2,   98.152,2
  096U20180111,  SR03,    42,  1,     32,     32,2,20180126,1018,-59.3503, 139.8503, 4125,     71.0,   0.3744,  33.8607,2,-999.0000,9,    339.5,2,   -999.0,9,  -999.00,9,  -999.00,9,  -999.00,9,  -999.00,9,     -999,9, -999.000,9, -999.000,9,     -999,9,   -999.0,9,   -999.0,9,-999.0000,9,  -999.00,  -999.00,9,   -999.0,9,   -999.0,  -999.00,9,   0.00107,2,    0.075,2,    0.894,2,    0.000,2,   98.130,2
  096U20180111,  SR03,    42,  1,     31,     31,2,20180126,1018,-59.3503, 139.8503, 4125,     70.8,   0.3733,  33.8606,2,-999.0000,9,    339.5,2,   -999.0,9,  -999.00,9,  -999.00,9,  -999.00,9,  -999.00,9,     -999,9, -999.000,9, -999.000,9,     -999,9,   -999.0,9,   -999.0,9,-999.0000,9,  -999.00,  -999.00,9,   -999.0,9,   -999.0,  -999.00,9,   0.00109,2,    0.075,2,    0.882,2,    0.000,2,   98.147,2
  096U20180111,  SR03,    42,  1,     30,     30,2,20180126,1018,-59.3503, 139.8503, 4125,     71.0,   0.3710,  33.8607,2,-999.0000,9,    339.5,2,   -999.0,9,  -999.00,9,  -999.00,9,  -999.00,9,  -999.00,9,     -999,9, -999.000,9, -999.000,9,     -999,9,   -999.0,9,   -999.0,9,-999.0000,9,  -999.00,  -999.00,9,   -999.0,9,   -999.0,  -999.00,9,   0.00109,2,    0.075,2,    0.876,2,    0.000,2,   98.146,2
  096U20180111,  SR03,    42,  1,     29,     29,2,20180126,1018,-59.3503, 139.8503, 4125,     71.0,   0.3552,  33.8623,2,-999.0000,9,    339.5,2,   -999.0,9,  -999.00,9,  -999.00,9,  -999.00,9,  -999.00,9,     -999,9, -999.000,9, -999.000,9,     -999,9,   -999.0,9,   -999.0,9,-999.0000,9,  -999.00,  -999.00,9,   -999.0,9,   -999.0,  -999.00,9,   0.00107,2,    0.074,2,    0.888,2,    0.000,2,   98.169,2
  096U20180111,  SR03,    42,  1,     28,     28,2,20180126,1018,-59.3503, 139.8503, 4125,     70.9,   0.2681,  33.8705,2,  33.8720,2,    339.5,2,    340.9,2,    23.30,2,    27.66,2,     0.20,2,     1.99,2,     0.82,2,    5.485,2,    2.969,2,     3.51,2,   2168.0,2,   2286.1,2,-999.0000,9,  -999.00,    14.73,2,    -80.5,2,      3.0,     1.00,2,   0.00121,2,    0.068,2,    0.870,2,    0.000,2,   98.305,2
  096U20180111,  SR03,    42,  1,     27,     27,2,20180126,1018,-59.3503, 139.8503, 4125,    135.7,  -0.2542,  33.9849,2,  33.9847,2,    324.6,2,    322.7,2,    30.90,2,    30.20,2,     0.18,2,     2.10,2,     0.15,2,    5.130,6,    2.756,6,     3.08,6,   2185.6,2,   2291.4,2,-999.0000,9,  -999.00,    16.27,6,    -85.0,2,      2.6,     0.86,2,   0.00046,2,    0.013,2,    0.144,2,    0.000,2,   99.675,2
  096U20180111,  SR03,    42,  1,     26,     26,2,20180126,1018,-59.3503, 139.8503, 4125,    180.5,   1.1958,  34.1832,2,  34.1815,2,    266.7,2,    250.5,2,    45.10,2,    33.24,2,     0.02,2,     2.28,2,        0,2, -999.000,9, -999.000,9,     -999,9,   2212.7,2,   2302.9,2,-999.0000,9,  -999.00,  -999.00,9,    -96.8,2,      5.2,     0.54,2,   0.00040,2,    0.008,2,    0.054,2,    0.000,2,   99.795,2
  096U20180111,  SR03,    42,  1,     25,     25,2,20180126,1018,-59.3503, 139.8503, 4125,    220.4,   1.9720,  34.3107,2,  34.3130,2,    209.0,2,    208.2,2,    55.40,2,    34.77,2,     0.01,2,     2.37,2,        0,2,    2.476,2,    1.310,2,     1.23,2,   2233.1,2,   2312.0,2,-999.0000,9,  -999.00,    23.96,2,   -110.2,2,      2.1,     0.49,2,   0.00041,2,    0.008,2,    0.042,2,    0.000,2,   99.795,2
  096U20180111,  SR03,    42,  1,     24,     24,2,20180126,1018,-59.3503, 139.8503, 4125,    300.5,   2.3128,  34.4476,2,  34.4453,2,    181.2,2,    180.9,2,    65.50,2,    35.38,2,     0.01,2,     2.41,2,        0,2,    1.522,2,    0.801,2,     0.62,2,   2248.9,2,   2325.1,2,-999.0000,9,  -999.00,    24.40,2,   -125.1,2,      2.9,     0.24,2,   0.00046,2,    0.013,2,    0.036,2,    0.000,2,   99.684,2
  096U20180111,  SR03,    42,  1,     23,     23,2,20180126,1018,-59.3503, 139.8503, 4125,    401.0,   2.3609,  34.5255,2,  34.5249,2,    173.0,2,    173.1,2,    70.50,2,    35.05,2,     0.01,2,     2.39,2,        0,2,    1.028,2,    0.540,2,     0.42,2,   2253.2,2,   2330.5,2,-999.0000,9,  -999.00,    23.91,2,   -134.4,2,      2.7,     0.28,2,   0.00038,2,    0.005,2,    0.036,2,    0.000,2,   99.883,2
  096U20180111,  SR03,    42,  1,     22,     22,2,20180126,1018,-59.3503, 139.8503, 4125,    500.2,   2.3524,  34.5769,2,  34.5702,4,    171.1,2,    171.1,2,    73.50,2,    34.62,2,     0.01,2,     2.36,2,    -0.01,2, -999.000,9, -999.000,9,     -999,9,   2256.2,2,   2334.3,2,-999.0000,9,  -999.00,  -999.00,9,   -141.0,2,      2.2,     0.26,2,   0.00037,2,    0.002,2,    0.036,2,    0.000,2,   99.937,2
  096U20180111,  SR03,    42,  1,     21,     21,2,20180126,1018,-59.3503, 139.8503, 4125,    601.6,   2.3131,  34.6262,2,  34.6256,2,    172.8,2,    172.7,2,    75.90,2,    33.82,2,     0.01,2,     2.30,2,    -0.01,2,    0.568,2,    0.297,2,        0,2,   2254.8,2,   2339.7,2,-999.0000,9,  -999.00,    22.38,2,   -138.9,2,      2.0,     0.43,2,   0.00034,2,    0.001,2,    0.036,2,    0.000,2,   99.967,2
  096U20180111,  SR03,    42,  1,     20,     20,2,20180126,1018,-59.3503, 139.8503, 4125,    700.1,   2.2518,  34.6637,2,  34.6633,2,    176.1,2,    175.7,2,    77.70,2,    33.08,2,     0.01,2,     2.27,2,    -0.01,2,    0.447,2,    0.236,2,      0.1,2,   2253.4,6,   2340.8,6,-999.0000,9,  -999.00,    21.72,2,   -141.0,2,      2.1,     0.43,2,   0.00032,2,    0.000,2,    0.036,2,    0.000,2,   99.993,2
  096U20180111,  SR03,    42,  1,     19,     19,2,20180126,1018,-59.3503, 139.8503, 4125,    801.1,   2.1978,  34.6906,2,  34.6911,2,    179.4,2,    179.9,2,    79.10,2,    32.45,2,     0.01,2,     2.22,2,    -0.01,2, -999.000,9, -999.000,9,     -999,9,   -999.0,9,   -999.0,9,-999.0000,9,  -999.00,  -999.00,9,   -999.0,9,   -999.0,  -999.00,9,   0.00032,2,    0.000,2,    0.036,2,    0.000,2,  100.010,2
  096U20180111,  SR03,    42,  1,     18,     18,2,20180126,1018,-59.3503, 139.8503, 4125,    899.8,   2.1341,  34.7082,2,  34.7083,2,    182.1,2,    182.7,2,    80.60,2,    31.99,2,     0.01,2,     2.19,2,    -0.01,2,    0.322,2,    0.176,2,     0.06,2,   2250.5,2,   2346.5,6,-999.0000,9,  -999.00,    20.60,2,   -142.3,2,      2.1,     0.44,2,   0.00031,2,   -0.001,2,    0.036,2,    0.000,2,  100.022,2
  096U20180111,  SR03,    42,  1,     17,     17,2,20180126,1018,-59.3503, 139.8503, 4125,   1001.3,   2.0732,  34.7215,2,  34.7220,2,    185.9,2,    185.8,2,    81.90,2,    31.67,2,     0.01,2,     2.16,2,    -0.01,2,    0.288,2,    0.150,2,     0.05,2,   2249.2,2,   2347.3,2,-999.0000,9,  -999.00,    20.30,2,   -143.2,2,      1.9,     0.42,2,   0.00030,2,   -0.002,2,    0.036,2,    0.000,2,  100.039,2
  096U20180111,  SR03,    42,  1,     16,     16,2,20180126,1018,-59.3503, 139.8503, 4125,   1200.8,   1.9502,  34.7398,2,  34.7395,2,    191.7,2,    191.5,2,    85.00,2,    30.96,2,     0.01,2,     2.12,2,    -0.01,2, -999.000,9, -999.000,9,     -999,9,   2248.3,2,   2351.0,2,-999.0000,9,  -999.00,  -999.00,9,   -150.2,2,      2.1,     0.49,2,   0.00030,2,   -0.003,2,    0.042,2,    0.000,2,  100.066,2
  096U20180111,  SR03,    42,  1,     15,     15,2,20180126,1018,-59.3503, 139.8503, 4125,   1400.4,   1.7994,  34.7458,2,  34.7461,2,    195.5,2,    195.4,2,    88.70,2,    30.78,2,     0.01,2,     2.11,2,    -0.01,2,    0.202,2,    0.106,2,    -0.06,2,   2249.1,2,   2354.7,2,-999.0000,9,  -999.00,    18.89,2,   -149.1,2,      2.0,     0.52,2,   0.00029,2,   -0.004,2,    0.036,2,    0.000,2,  100.090,2
  096U20180111,  SR03,    42,  1,     14,     14,2,20180126,1018,-59.3503, 139.8503, 4125,   1600.9,   1.6336,  34.7445,2,  34.7446,2,    198.3,2,    198.2,2,    93.40,2,    30.86,2,     0.01,2,     2.12,2,    -0.01,2,    0.190,2,    0.105,2,     0.08,2,   2249.8,2,   2356.8,2,-999.0000,9,  -999.00,    18.67,2,   -156.0,2,      2.0,     0.51,2,   0.00028,2,   -0.004,2,    0.036,2,    0.000,2,  100.100,2
  096U20180111,  SR03,    42,  1,     13,     13,2,20180126,1018,-59.3503, 139.8503, 4125,   1801.6,   1.4514,  34.7389,2,  34.7393,2,    200.8,2,    200.7,2,    98.50,2,    31.08,2,     0.01,2,     2.13,2,    -0.01,2, -999.000,9, -999.000,9,     -999,9,   -999.0,9,   -999.0,9,-999.0000,9,  -999.00,  -999.00,9,   -999.0,9,   -999.0,  -999.00,9,   0.00031,2,   -0.004,2,    0.036,2,    0.000,2,  100.103,2
  096U20180111,  SR03,    42,  1,     12,     12,2,20180126,1018,-59.3503, 139.8503, 4125,   2000.3,   1.2970,  34.7323,2,  34.7329,2,    202.6,2,    202.4,2,   103.50,2,    31.33,2,     0.01,2,     2.15,2,    -0.01,2,    0.199,2,    0.105,2,     0.11,2,   2254.4,2,   2360.6,2,-999.0000,9,  -999.00,    18.44,2,   -156.7,2,      2.7,     0.51,2,   0.00029,2,   -0.004,2,    0.036,2,    0.000,2,  100.107,2
  096U20180111,  SR03,    42,  1,     11,     11,2,20180126,1018,-59.3503, 139.8503, 4125,   2249.8,   1.0902,  34.7220,2,  34.7223,2,    204.5,2,    205.0,2,   109.60,2,    31.74,2,     0.01,2,     2.18,2,    -0.01,2,    0.229,2,    0.124,2,     0.07,2,   2256.5,2,   2360.4,2,-999.0000,9,  -999.00,    18.39,2,   -156.4,2,      2.8,     0.39,2,   0.00028,2,   -0.004,2,    0.036,2,    0.000,2,  100.106,2
  096U20180111,  SR03,    42,  1,     10,     10,2,20180126,1018,-59.3503, 139.8503, 4125,   2500.6,   0.8919,  34.7112,2,  34.7118,2,    206.9,2,    207.4,2,   114.90,2,    32.10,2,     0.01,2,     2.21,2,    -0.01,2,    0.294,2,    0.148,2,     0.18,2,   2260.0,2,   2361.1,2,-999.0000,9,  -999.00,    18.46,2,   -158.9,2,      2.7,     0.34,2,   0.00027,2,   -0.003,2,    0.042,2,    0.000,2,  100.071,2
  096U20180111,  SR03,    42,  1,      9,      9,2,20180126,1018,-59.3503, 139.8503, 4125,   2750.8,   0.7220,  34.7022,2,  34.7027,2,    209.8,2,    209.7,2,   119.60,2,    32.30,2,     0.01,2,     2.22,2,    -0.01,2,    0.345,2,    0.180,2,     0.07,2,   -999.0,9,   -999.0,9,-999.0000,9,  -999.00,    18.71,2,   -999.0,9,   -999.0,  -999.00,9,   0.00026,2,   -0.005,2,    0.036,2,    0.000,2,  100.116,2
  096U20180111,  SR03,    42,  1,      8,      8,2,20180126,1018,-59.3503, 139.8503, 4125,   2999.4,   0.5636,  34.6940,2,  34.6941,2,    212.9,2,    213.5,2,   123.70,2,    32.43,2,     0.01,2,     2.24,2,    -0.01,2,    0.446,2,    0.228,2,      0.1,2,   2261.5,2,   2361.4,6,-999.0000,9,  -999.00,    18.51,2,   -159.1,2,      2.8,     0.32,2,   0.00025,2,   -0.005,2,    0.036,2,    0.000,2,  100.117,2
  096U20180111,  SR03,    42,  1,      7,      7,2,20180126,1018,-59.3503, 139.8503, 4125,   3299.3,   0.4062,  34.6864,2,  34.6857,2,    216.8,2,    217.5,2,   127.80,2,    32.61,2,     0.01,2,     2.25,2,    -0.01,2, -999.000,9, -999.000,9,     -999,9,   -999.0,9,   -999.0,9,-999.0000,9,  -999.00,  -999.00,9,   -999.0,9,   -999.0,  -999.00,9,   0.00026,2,   -0.005,2,    0.042,2,    0.000,2,  100.121,2
  096U20180111,  SR03,    42,  1,      6,      6,2,20180126,1018,-59.3503, 139.8503, 4125,   3602.4,   0.3146,  34.6820,2,  34.6818,2,    220.4,2,    220.5,2,   131.30,2,    32.72,2,     0.00,2,     2.26,2,    -0.01,2,    0.690,2,    0.353,2,     0.31,2,   2260.0,2,   2361.3,2,-999.0000,9,  -999.00,    18.27,2,   -159.2,2,      2.3,     0.35,2,   0.00024,2,   -0.004,2,    0.036,2,    0.000,2,  100.112,2
  096U20180111,  SR03,    42,  1,      5,      5,2,20180126,1018,-59.3503, 139.8503, 4125,   3901.5,   0.2170,  34.6766,2,  34.6795,4,    224.3,2,    223.9,2,   134.50,2,    32.74,2,     0.00,2,     2.26,2,    -0.01,2,    0.886,2,    0.438,2,     0.34,2,   -999.0,9,   -999.0,9,-999.0000,9,  -999.00,    18.14,2,   -999.0,9,   -999.0,  -999.00,9,   0.00024,2,   -0.004,2,    0.042,2,    0.000,2,  100.102,2
  096U20180111,  SR03,    42,  1,      4,      4,2,20180126,1018,-59.3503, 139.8503, 4125,   4079.7,   0.1381,  34.6714,2,  34.6721,2,    227.0,2,    227.1,2,   134.60,2,    32.72,2,     0.01,2,     2.26,2,    -0.01,2,    1.100,2,    0.555,2,     0.39,2,   2261.2,6,   2360.5,6,-999.0000,9,  -999.00,    18.43,2,   -151.9,2,      2.4,     0.37,2,   0.00024,2,   -0.004,2,    0.036,2,    0.000,2,  100.093,2
  096U20180111,  SR03,    42,  1,      3,      3,2,20180126,1018,-59.3503, 139.8503, 4125,   4180.5,   0.0856,  34.6674,2,  34.6674,2,    229.1,2,    229.1,2,   134.10,2,    32.72,2,     0.01,2,     2.25,2,    -0.01,2,    1.268,2,    0.640,2,     0.36,2,   -999.0,9,   -999.0,9,-999.0000,9,  -999.00,    18.24,2,   -999.0,9,   -999.0,  -999.00,9,   0.00024,2,   -0.003,2,    0.042,2,    0.000,2,  100.067,2
  096U20180111,  SR03,    42,  1,      2,      2,2,20180126,1018,-59.3503, 139.8503, 4125,   4235.1,   0.0762,  34.6663,2,  34.6667,2,    230.3,2,    229.8,2,   133.60,2,    32.66,2,     0.01,2,     2.25,2,    -0.01,2,    1.314,2,    0.669,2,     0.52,2,   2259.1,2,   2360.0,2,-999.0000,9,  -999.00,    18.03,2,   -155.1,2,      2.5,     0.35,2,   0.00025,2,   -0.002,2,    0.036,2,    0.000,2,  100.059,2
  096U20180111,  SR03,    42,  1,      1,      1,2,20180126,1018,-59.3503, 139.8503, 4125,   4235.1,   0.0764,  34.6664,2,-999.0000,9,    230.3,2,   -999.0,9,  -999.00,9,  -999.00,9,  -999.00,9,  -999.00,9,     -999,9, -999.000,9, -999.000,9,     -999,9,   -999.0,9,   -999.0,9,-999.0000,9,  -999.00,  -999.00,9,   -999.0,9,   -999.0,  -999.00,9,   0.00024,2,   -0.002,2,    0.042,2,    0.000,2,  100.061,2