BOTTLE,20230418CCHSIOENA
EXPOCODE,SECT_ID,STNNBR,CASTNO,SAMPNO,BTLNBR,BTLNBR_FLAG_W,DATE,TIME,LATITUDE,LONGITUDE,DEPTH,CTDPRS,CTDTMP,CTDSAL,CTDSAL_FLAG_W,SALNTY,SALNTY_FLAG_W,CTDOXY,CTDOXY_FLAG_W,OXYGEN,OXYGEN_FLAG_W,SILCAT,SILCAT_FLAG_W,NITRAT,NITRAT_FLAG_W,NITRIT,NITRIT_FLAG_W,PHSPHT,PHSPHT_FLAG_W,NH4,NH4_FLAG_W,CFC-11,CFC-11_FLAG_W,CFC-12,CFC-12_FLAG_W,SF6,SF6_FLAG_W,TCARBN,TCARBN_FLAG_W,ALKALI,ALKALI_FLAG_W,PH_TOT,PH_TOT_FLAG_W,PH_TMP,N2O,N2O_FLAG_W,DELC14,DELC14_FLAG_W,C14ERR,DELC13,DELC13_FLAG_W,CTDBETA700,CTDBETA700_FLAG_W,CTDBEAMCP,CTDBEAMCP_FLAG_W,CTDFLUOR,CTDFLUOR_FLAG_W,PAR,PAR_FLAG_W,CTDXMISS,CTDXMISS_FLAG_W
,,,,,,,,,,,METERS,DBAR,ITS-90,PSS-78,,PSS-78,,UMOL/KG,,UMOL/KG,,UMOL/KG,,UMOL/KG,,UMOL/KG,,UMOL/KG,,UMOL/KG,,PMOL/KG,,PMOL/KG,,FMOL/KG,,UMOL/KG,,UMOL/KG,,,,DEG C,NMOL/KG,,/MILLE,,/MILLE,/MILLE,,VOLTS,,1/M,,MG/M^3,,UMOL/M^2/SEC,,%TRANS,
  096U20180111,  SR03,    57,  1,     36,     36,2,20180131,2122,-65.4297, 139.8510, 1797,      7.6,  -0.6721,  33.8518,2,-999.0000,9,    351.3,2,   -999.0,9,  -999.00,9,  -999.00,9,  -999.00,9,  -999.00,9,     -999,9, -999.000,9, -999.000,9,     -999,9,   -999.0,9,   -999.0,9,-999.0000,9,  -999.00,  -999.00,9,   -999.0,9,   -999.0,  -999.00,9,   0.00160,2,    0.156,2,    0.528,2,   93.500,2,   96.180,2
  096U20180111,  SR03,    57,  1,     35,     35,2,20180131,2122,-65.4297, 139.8510, 1797,      7.6,  -0.6729,  33.8519,2,  33.8501,2,    351.3,2,    353.3,2,    46.60,2,    25.15,2,     0.14,2,     1.70,2,     0.96,2,    5.608,2,    3.108,2,     3.76,2,   2163.7,2,   2293.8,2,-999.0000,9,  -999.00,    15.33,2,   -120.7,2,      2.1,     1.11,2,   0.00177,2,    0.161,2,    0.564,2,   93.100,2,   96.058,2
  096U20180111,  SR03,    57,  1,     34,     34,2,20180131,2122,-65.4297, 139.8510, 1797,     31.1,  -0.6776,  33.8523,2,-999.0000,9,    353.6,2,   -999.0,9,  -999.00,9,  -999.00,9,  -999.00,9,  -999.00,9,     -999,9, -999.000,9, -999.000,9,     -999,9,   -999.0,9,   -999.0,9,-999.0000,9,  -999.00,  -999.00,9,   -999.0,9,   -999.0,  -999.00,9,   0.00168,2,    0.157,2,    0.912,2,   17.100,2,   96.142,2
  096U20180111,  SR03,    57,  1,     33,     33,2,20180131,2122,-65.4297, 139.8510, 1797,     31.0,  -0.6778,  33.8523,2,  33.8515,2,    353.6,2,    352.7,2,    46.60,2,    25.13,2,     0.14,2,     1.71,2,     0.98,2, -999.000,9, -999.000,9,     -999,9,   -999.0,9,   -999.0,9,-999.0000,9,  -999.00,  -999.00,9,   -999.0,9,   -999.0,  -999.00,9,   0.00173,2,    0.159,2,    0.996,2,   17.000,2,   96.095,2
  096U20180111,  SR03,    57,  1,     32,     32,2,20180131,2122,-65.4297, 139.8510, 1797,     61.1,  -0.7889,  33.8768,2,-999.0000,9,    353.6,2,   -999.0,9,  -999.00,9,  -999.00,9,  -999.00,9,  -999.00,9,     -999,9, -999.000,9, -999.000,9,     -999,9,   -999.0,9,   -999.0,9,-999.0000,9,  -999.00,  -999.00,9,   -999.0,9,   -999.0,  -999.00,9,   0.00147,2,    0.141,2,    1.038,2,    3.060,2,   96.529,2
  096U20180111,  SR03,    57,  1,     31,     31,2,20180131,2122,-65.4297, 139.8510, 1797,     61.0,  -0.7709,  33.8713,2,  33.9224,2,    353.6,2,    349.8,2,    47.60,2,    25.53,2,     0.13,2,     1.77,2,     1.18,2,    5.598,2,    3.092,2,     3.78,2,   2169.9,2,   2298.5,2,-999.0000,9,  -999.00,    15.90,2,   -999.0,9,   -999.0,  -999.00,9,   0.00148,2,    0.138,2,    1.032,2,    3.040,2,   96.609,2
  096U20180111,  SR03,    57,  1,     30,     30,2,20180131,2122,-65.4297, 139.8510, 1797,    101.1,  -1.5723,  34.2056,2,-999.0000,9,    324.7,2,   -999.0,9,  -999.00,9,  -999.00,9,  -999.00,9,  -999.00,9,     -999,9, -999.000,9, -999.000,9,     -999,9,   -999.0,9,   -999.0,9,-999.0000,9,  -999.00,  -999.00,9,   -999.0,9,   -999.0,  -999.00,9,   0.00070,2,    0.040,2,    0.396,2,    0.422,2,   99.001,2
  096U20180111,  SR03,    57,  1,     29,     29,2,20180131,2122,-65.4297, 139.8510, 1797,    101.0,  -1.5698,  34.2014,2,  34.2003,2,    324.7,2,    325.4,2,    57.50,2,    28.72,2,     0.11,2,     2.05,2,     0.87,2, -999.000,9, -999.000,9,     -999,9,   -999.0,9,   -999.0,9,-999.0000,9,  -999.00,  -999.00,9,   -999.0,9,   -999.0,  -999.00,9,   0.00067,2,    0.037,2,    0.336,2,    0.421,2,   99.073,2
  096U20180111,  SR03,    57,  1,     28,     28,2,20180131,2122,-65.4297, 139.8510, 1797,    151.2,  -1.6932,  34.3587,2,-999.0000,9,    300.8,2,   -999.0,9,  -999.00,9,  -999.00,9,  -999.00,9,  -999.00,9,     -999,9, -999.000,9, -999.000,9,     -999,9,   -999.0,9,   -999.0,9,-999.0000,9,  -999.00,  -999.00,9,   -999.0,9,   -999.0,  -999.00,9,   0.00048,2,    0.011,2,    0.090,2,    0.050,2,   99.716,2
  096U20180111,  SR03,    57,  1,     27,     27,2,20180131,2122,-65.4297, 139.8510, 1797,    151.1,  -1.7024,  34.3558,2,  34.3581,2,    300.8,2,    310.6,2,    64.40,2,    30.49,2,     0.09,2,     2.12,2,     0.15,2,    4.534,2,    2.571,2,     2.77,2,   2220.3,6,   2325.1,6,-999.0000,9,  -999.00,    16.61,2,   -132.7,2,      2.1,     0.63,2,   0.00047,2,    0.011,2,    0.078,2,    0.051,2,   99.714,2
  096U20180111,  SR03,    57,  1,     26,     26,2,20180131,2122,-65.4297, 139.8510, 1797,    201.0,  -1.3743,  34.4238,2,-999.0000,9,    290.4,2,   -999.0,9,  -999.00,9,  -999.00,9,  -999.00,9,  -999.00,9,     -999,9, -999.000,9, -999.000,9,     -999,9,   -999.0,9,   -999.0,9,-999.0000,9,  -999.00,  -999.00,9,   -999.0,9,   -999.0,  -999.00,9,   0.00043,2,    0.006,2,    0.054,2,    0.000,2,   99.846,2
  096U20180111,  SR03,    57,  1,     25,     25,2,20180131,2122,-65.4297, 139.8510, 1797,    200.9,  -1.3660,  34.4249,2,  34.4268,2,    290.4,2,    288.9,2,    69.50,2,    31.01,2,     0.04,2,     2.15,2,        0,2, -999.000,9, -999.000,9,     -999,9,   -999.0,9,   -999.0,9,-999.0000,9,  -999.00,  -999.00,9,   -999.0,9,   -999.0,  -999.00,9,   0.00041,2,    0.006,2,    0.060,2,    0.000,2,   99.852,2
  096U20180111,  SR03,    57,  1,     24,     24,2,20180131,2122,-65.4297, 139.8510, 1797,    250.1,  -0.8407,  34.4892,2,  34.4931,2,    266.9,2,    268.0,2,    75.90,2,    31.26,2,     0.01,2,     2.16,2,        0,2,    3.285,2,    1.821,2,     1.97,2,   2234.8,2,   2334.3,2,-999.0000,9,  -999.00,    18.15,2,   -140.0,2,      2.1,     0.48,2,   0.00039,2,    0.004,2,    0.042,2,    0.000,2,   99.894,2
  096U20180111,  SR03,    57,  1,     23,     23,2,20180131,2122,-65.4297, 139.8510, 1797,    299.4,  -0.0331,  34.5817,2,  34.5839,2,    248.3,2,    239.1,2,    84.40,2,    31.33,2,     0.01,2,     2.18,2,        0,2, -999.000,9, -999.000,9,     -999,9,   -999.0,9,   -999.0,9,-999.0000,9,  -999.00,  -999.00,9,   -999.0,9,   -999.0,  -999.00,9,   0.00039,2,    0.003,2,    0.048,2,    0.000,2,   99.919,2
  096U20180111,  SR03,    57,  1,     22,     22,2,20180131,2122,-65.4297, 139.8510, 1797,    401.2,   0.3438,  34.6394,2,  34.6371,2,    228.7,2,    226.9,2,    92.00,2,    31.40,2,     0.00,2,     2.18,2,        0,2, -999.000,9, -999.000,9,     -999,9,   -999.0,9,   -999.0,9,-999.0000,9,  -999.00,  -999.00,9,   -999.0,9,   -999.0,  -999.00,9,   0.00035,2,    0.001,2,    0.042,2,    0.000,2,   99.968,2
  096U20180111,  SR03,    57,  1,     21,     21,2,20180131,2122,-65.4297, 139.8510, 1797,    501.6,   0.5021,  34.6649,2,  34.6647,2,    220.6,2,    220.0,2,    97.80,2,    31.46,2,     0.00,2,     2.19,2,    -0.01,2,    1.201,2,    0.658,2,     0.65,2,   2250.4,2,   2351.5,2,-999.0000,9,  -999.00,    19.20,2,   -999.0,9,   -999.0,  -999.00,9,   0.00034,2,    0.000,2,    0.036,2,    0.000,2,  100.000,2
  096U20180111,  SR03,    57,  1,     20,     20,2,20180131,2122,-65.4297, 139.8510, 1797,    602.1,   0.6186,  34.6855,2,  34.6846,2,    212.6,2,    212.2,2,   105.70,2,    31.76,2,     0.01,2,     2.21,2,    -0.01,2,    0.794,2,    0.439,2,      0.5,2,   2256.4,2,   2354.7,2,-999.0000,9,  -999.00,    18.84,2,   -155.3,2,      2.1,     0.32,2,   0.00033,2,   -0.002,2,    0.042,2,    0.000,2,  100.038,2
  096U20180111,  SR03,    57,  1,     19,     19,2,20180131,2122,-65.4297, 139.8510, 1797,    602.1,   0.6177,  34.6856,2,-999.0000,9,    212.6,2,   -999.0,9,  -999.00,9,  -999.00,9,  -999.00,9,  -999.00,9,     -999,9, -999.000,9, -999.000,9,     -999,9,   -999.0,9,   -999.0,9,-999.0000,9,  -999.00,  -999.00,9,   -999.0,9,   -999.0,  -999.00,9,   0.00032,2,   -0.002,2,    0.036,2,    0.000,2,  100.038,2
  096U20180111,  SR03,    57,  1,     18,     18,2,20180131,2122,-65.4297, 139.8510, 1797,    701.6,   0.5025,  34.6813,2,  34.6805,2,    213.5,2,    214.9,2,   108.10,2,    31.84,2,     0.00,2,     2.22,2,    -0.01,2, -999.000,9, -999.000,9,     -999,9,   -999.0,9,   -999.0,9,-999.0000,9,  -999.00,  -999.00,9,   -999.0,9,   -999.0,  -999.00,9,   0.00034,2,   -0.001,2,    0.036,2,    0.000,2,  100.036,2
  096U20180111,  SR03,    57,  1,     17,     17,2,20180131,2122,-65.4297, 139.8510, 1797,    800.3,   0.4497,  34.6828,2,  34.6828,2,    214.2,2,    214.0,2,   111.50,2,    31.95,2,     0.00,2,     2.23,2,    -0.01,2,    0.775,2,    0.429,2,      0.4,2,   2257.2,2,   2358.0,2,-999.0000,9,  -999.00,    18.43,2,   -999.0,9,   -999.0,  -999.00,9,   0.00032,2,   -0.002,2,    0.030,2,    0.000,2,  100.046,2
  096U20180111,  SR03,    57,  1,     16,     16,2,20180131,2122,-65.4297, 139.8510, 1797,    952.2,   0.3204,  34.6790,2,-999.0000,9,    216.4,2,   -999.0,9,  -999.00,9,  -999.00,9,  -999.00,9,  -999.00,9,     -999,9, -999.000,9, -999.000,9,     -999,9,   -999.0,9,   -999.0,9,-999.0000,9,  -999.00,  -999.00,9,   -999.0,9,   -999.0,  -999.00,9,   0.00032,2,   -0.002,2,    0.036,2,    0.000,2,  100.039,2
  096U20180111,  SR03,    57,  1,     15,     15,2,20180131,2122,-65.4297, 139.8510, 1797,    952.1,   0.3194,  34.6790,2,  34.6785,2,    216.4,2,    216.8,2,   113.90,2,    32.09,2,     0.00,2,     2.24,2,    -0.01,2,    0.859,2,    0.471,2,     0.46,2,   2255.8,2,   2357.8,2,-999.0000,9,  -999.00,    18.42,2,   -159.4,2,      1.9,     0.30,2,   0.00033,2,   -0.002,2,    0.030,2,    0.000,2,  100.042,2
  096U20180111,  SR03,    57,  1,     14,     14,2,20180131,2122,-65.4297, 139.8510, 1797,   1100.6,   0.2115,  34.6759,2,-999.0000,9,    219.3,2,   -999.0,9,  -999.00,9,  -999.00,9,  -999.00,9,  -999.00,9,     -999,9, -999.000,9, -999.000,9,     -999,9,   -999.0,9,   -999.0,9,-999.0000,9,  -999.00,  -999.00,9,   -999.0,9,   -999.0,  -999.00,9,   0.00030,2,   -0.002,2,    0.030,2,    0.000,2,  100.045,2
  096U20180111,  SR03,    57,  1,     13,     13,2,20180131,2122,-65.4297, 139.8510, 1797,   1100.6,   0.2104,  34.6758,2,  34.6752,2,    219.3,2,    219.5,2,   114.00,2,    32.15,2,     0.01,2,     2.24,2,    -0.01,2,    1.008,2,    0.549,2,     0.52,2,   2257.0,2,   2358.8,2,-999.0000,9,  -999.00,    18.96,2,   -999.0,9,   -999.0,  -999.00,9,   0.00031,2,   -0.002,2,    0.030,2,    0.000,2,  100.051,2
  096U20180111,  SR03,    57,  1,     12,     12,2,20180131,2122,-65.4297, 139.8510, 1797,   1250.3,   0.0596,  34.6700,2,-999.0000,9,    224.2,2,   -999.0,9,  -999.00,9,  -999.00,9,  -999.00,9,  -999.00,9,     -999,9, -999.000,9, -999.000,9,     -999,9,   -999.0,9,   -999.0,9,-999.0000,9,  -999.00,  -999.00,9,   -999.0,9,   -999.0,  -999.00,9,   0.00031,2,   -0.002,2,    0.030,2,    0.000,2,  100.046,2
  096U20180111,  SR03,    57,  1,     11,     11,2,20180131,2122,-65.4297, 139.8510, 1797,   1250.2,   0.0568,  34.6698,2,  34.6693,2,    224.2,2,    225.2,2,   112.60,2,    32.09,2,     0.01,2,     2.24,2,    -0.01,2,    1.252,2,    0.680,2,     0.58,2,   2255.7,2,   2356.5,2,-999.0000,9,  -999.00,    18.37,2,   -158.3,2,      2.2,     0.34,2,   0.00030,2,   -0.002,2,    0.036,2,    0.000,2,  100.046,2
  096U20180111,  SR03,    57,  1,     10,     10,2,20180131,2122,-65.4297, 139.8510, 1797,   1374.0,  -0.2481,  34.6443,2,-999.0000,9,    237.4,2,   -999.0,9,  -999.00,9,  -999.00,9,  -999.00,9,  -999.00,9,     -999,9, -999.000,9, -999.000,9,     -999,9,   -999.0,9,   -999.0,9,-999.0000,9,  -999.00,  -999.00,9,   -999.0,9,   -999.0,  -999.00,9,   0.00045,2,    0.005,2,    0.036,2,    0.000,2,   99.880,2
  096U20180111,  SR03,    57,  1,      9,      9,2,20180131,2122,-65.4297, 139.8510, 1797,   1373.9,  -0.2552,  34.6438,2,  34.6432,2,    237.4,2,    239.4,2,   103.80,2,    31.77,2,     0.03,2,     2.21,2,        0,2,    1.886,2,    1.035,2,     1.01,2,   2253.4,2,   2353.5,2,-999.0000,9,  -999.00,    18.37,2,   -999.0,9,   -999.0,  -999.00,9,   0.00044,2,    0.005,2,    0.042,2,    0.000,2,   99.884,2
  096U20180111,  SR03,    57,  1,      8,      8,2,20180131,2122,-65.4297, 139.8510, 1797,   1501.7,  -0.2759,  34.6480,2,-999.0000,9,    239.5,2,   -999.0,9,  -999.00,9,  -999.00,9,  -999.00,9,  -999.00,9,     -999,9, -999.000,9, -999.000,9,     -999,9,   -999.0,9,   -999.0,9,-999.0000,9,  -999.00,  -999.00,9,   -999.0,9,   -999.0,  -999.00,9,   0.00040,2,    0.005,2,    0.036,2,    0.000,2,   99.884,2
  096U20180111,  SR03,    57,  1,      7,      7,2,20180131,2122,-65.4297, 139.8510, 1797,   1501.7,  -0.2757,  34.6481,2,  34.6479,2,    239.5,2,    239.8,2,   104.20,2,    31.76,2,     0.02,2,     2.21,2,        0,2,    1.903,2,    1.046,2,     1.04,2,   2252.8,2,   2353.0,2,-999.0000,9,  -999.00,    18.19,2,   -152.8,2,      2.3,     0.36,2,   0.00042,2,    0.004,2,    0.036,2,    0.000,2,   99.909,2
  096U20180111,  SR03,    57,  1,      6,      6,2,20180131,2122,-65.4297, 139.8510, 1797,   1701.3,  -0.4359,  34.6370,2,-999.0000,9,    247.0,2,   -999.0,9,  -999.00,9,  -999.00,9,  -999.00,9,  -999.00,9,     -999,9, -999.000,9, -999.000,9,     -999,9,   -999.0,9,   -999.0,9,-999.0000,9,  -999.00,  -999.00,9,   -999.0,9,   -999.0,  -999.00,9,   0.00050,2,    0.006,2,    0.042,2,    0.000,2,   99.861,2
  096U20180111,  SR03,    57,  1,      5,      5,2,20180131,2122,-65.4297, 139.8510, 1797,   1701.3,  -0.4333,  34.6372,2,  34.6375,2,    247.0,2,    246.4,2,   100.30,2,    31.64,2,     0.02,2,     2.20,2,        0,2,    2.242,2,    1.232,2,     1.29,2,   2251.8,2,   2350.3,6,-999.0000,9,  -999.00,    18.45,2,   -148.2,2,      2.1,     0.41,2,   0.00043,2,    0.007,2,    0.042,2,    0.000,2,   99.821,2
  096U20180111,  SR03,    57,  1,      4,      4,2,20180131,2122,-65.4297, 139.8510, 1797,   1890.2,  -0.4167,  34.6390,2,-999.0000,9,    247.7,2,   -999.0,9,  -999.00,9,  -999.00,9,  -999.00,9,  -999.00,9,     -999,9, -999.000,9, -999.000,9,     -999,9,   -999.0,9,   -999.0,9,-999.0000,9,  -999.00,  -999.00,9,   -999.0,9,   -999.0,  -999.00,9,   0.00045,2,    0.006,2,    0.042,2,    0.000,2,   99.841,2
  096U20180111,  SR03,    57,  1,      3,      3,2,20180131,2122,-65.4297, 139.8510, 1797,   1890.1,  -0.4169,  34.6390,2,  34.6382,2,    247.7,2,    246.2,2,   100.30,2,    31.65,2,     0.02,2,     2.21,2,        0,2,    0.000,4,    0.000,4,        0,4,   2250.5,6,   2350.9,6,-999.0000,9,  -999.00,    16.81,4,   -153.4,2,      2.0,     0.38,2,   0.00043,2,    0.006,2,    0.036,2,    0.000,2,   99.844,2
  096U20180111,  SR03,    57,  1,      2,      2,2,20180131,2122,-65.4297, 139.8510, 1797,   1952.6,  -0.4012,  34.6402,2,-999.0000,9,    247.7,2,   -999.0,9,  -999.00,9,  -999.00,9,  -999.00,9,  -999.00,9,     -999,9, -999.000,9, -999.000,9,     -999,9,   -999.0,9,   -999.0,9,-999.0000,9,  -999.00,  -999.00,9,   -999.0,9,   -999.0,  -999.00,9,   0.00044,2,    0.007,2,    0.036,2,    0.000,2,   99.825,2
  096U20180111,  SR03,    57,  1,      1,      1,2,20180131,2122,-65.4297, 139.8510, 1797,   1952.6,  -0.4007,  34.6403,2,  34.6395,2,    247.7,2,    246.2,2,   100.40,2,    31.67,2,     0.02,2,     2.21,2,        0,2,    2.218,2,    1.217,2,     1.23,2,   2252.3,2,   2351.8,2,-999.0000,9,  -999.00,    18.48,2,   -150.0,2,      1.8,     0.57,2,   0.00044,2,    0.006,2,    0.042,2,    0.000,2,   99.840,2