BOTTLE,20230418CCHSIOENA
EXPOCODE,SECT_ID,STNNBR,CASTNO,SAMPNO,BTLNBR,BTLNBR_FLAG_W,DATE,TIME,LATITUDE,LONGITUDE,DEPTH,CTDPRS,CTDTMP,CTDSAL,CTDSAL_FLAG_W,SALNTY,SALNTY_FLAG_W,CTDOXY,CTDOXY_FLAG_W,OXYGEN,OXYGEN_FLAG_W,SILCAT,SILCAT_FLAG_W,NITRAT,NITRAT_FLAG_W,NITRIT,NITRIT_FLAG_W,PHSPHT,PHSPHT_FLAG_W,NH4,NH4_FLAG_W,CFC-11,CFC-11_FLAG_W,CFC-12,CFC-12_FLAG_W,SF6,SF6_FLAG_W,TCARBN,TCARBN_FLAG_W,ALKALI,ALKALI_FLAG_W,PH_TOT,PH_TOT_FLAG_W,PH_TMP,N2O,N2O_FLAG_W,DELC14,DELC14_FLAG_W,C14ERR,DELC13,DELC13_FLAG_W,CTDBETA700,CTDBETA700_FLAG_W,CTDBEAMCP,CTDBEAMCP_FLAG_W,CTDFLUOR,CTDFLUOR_FLAG_W,PAR,PAR_FLAG_W,CTDXMISS,CTDXMISS_FLAG_W
,,,,,,,,,,,METERS,DBAR,ITS-90,PSS-78,,PSS-78,,UMOL/KG,,UMOL/KG,,UMOL/KG,,UMOL/KG,,UMOL/KG,,UMOL/KG,,UMOL/KG,,PMOL/KG,,PMOL/KG,,FMOL/KG,,UMOL/KG,,UMOL/KG,,,,DEG C,NMOL/KG,,/MILLE,,/MILLE,/MILLE,,VOLTS,,1/M,,MG/M^3,,UMOL/M^2/SEC,,%TRANS,
  096U20180111,  SR03,    53,  1,     36,     36,2,20180130,1728,-64.5513, 139.8502, 3039,      8.6,   0.2724,  33.8497,2,  33.8505,2,    336.4,2,    335.6,2,    40.30,2,    27.26,2,     0.20,2,     1.83,2,     0.45,2, -999.000,9, -999.000,9,     -999,9,   2170.5,2,   2290.2,2,-999.0000,9,  -999.00,  -999.00,9,   -999.0,9,   -999.0,  -999.00,9,   0.00170,2,    0.157,2,    0.972,2,   38.600,2,   96.143,2
  096U20180111,  SR03,    53,  1,     35,     35,2,20180130,1728,-64.5513, 139.8502, 3039,      8.6,   0.2737,  33.8497,2,-999.0000,9,    336.4,2,   -999.0,9,  -999.00,9,  -999.00,9,  -999.00,9,  -999.00,9,     -999,9,    5.290,2,    2.894,2,     3.35,2,   -999.0,9,   -999.0,9,-999.0000,9,  -999.00,    15.46,2,   -999.0,9,   -999.0,  -999.00,9,   0.00155,2,    0.156,2,    0.936,2,   38.700,2,   96.169,2
  096U20180111,  SR03,    53,  1,     34,     34,2,20180130,1728,-64.5513, 139.8502, 3039,     40.7,   0.1842,  33.8529,2,-999.0000,9,    334.1,2,   -999.0,9,  -999.00,9,  -999.00,9,  -999.00,9,  -999.00,9,     -999,9, -999.000,9, -999.000,9,     -999,9,   -999.0,9,   -999.0,9,-999.0000,9,  -999.00,  -999.00,9,   -999.0,9,   -999.0,  -999.00,9,   0.00166,2,    0.160,2,    1.212,2,    4.640,2,   96.080,2
  096U20180111,  SR03,    53,  1,     33,     33,2,20180130,1728,-64.5513, 139.8502, 3039,     40.6,   0.1719,  33.8546,2,  33.8576,2,    334.1,2,    334.5,2,    40.20,2,    27.33,2,     0.19,2,     1.85,2,     0.46,2, -999.000,9, -999.000,9,     -999,9,   -999.0,9,   -999.0,9,-999.0000,9,  -999.00,  -999.00,9,   -999.0,9,   -999.0,  -999.00,9,   0.00199,2,    0.160,2,    1.218,2,    4.700,2,   96.080,2
  096U20180111,  SR03,    53,  1,     32,     32,2,20180130,1728,-64.5513, 139.8502, 3039,     70.4,  -1.0389,  34.2549,2,-999.0000,9,    273.5,2,   -999.0,9,  -999.00,9,  -999.00,9,  -999.00,9,  -999.00,9,     -999,9, -999.000,9, -999.000,9,     -999,9,   -999.0,9,   -999.0,9,-999.0000,9,  -999.00,  -999.00,9,   -999.0,9,   -999.0,  -999.00,9,   0.00104,2,    0.086,2,    1.536,2,    0.790,2,   97.882,2
  096U20180111,  SR03,    53,  1,     31,     31,2,20180130,1728,-64.5513, 139.8502, 3039,     70.4,  -1.0378,  34.2554,2,-999.0000,9,    273.5,2,   -999.0,9,  -999.00,9,  -999.00,9,  -999.00,9,  -999.00,9,     -999,9, -999.000,9, -999.000,9,     -999,9,   -999.0,9,   -999.0,9,-999.0000,9,  -999.00,  -999.00,9,   -999.0,9,   -999.0,  -999.00,9,   0.00101,2,    0.080,2,    1.518,2,    0.794,2,   98.019,2
  096U20180111,  SR03,    53,  1,     30,     30,2,20180130,1728,-64.5513, 139.8502, 3039,     70.4,  -1.0139,  34.2594,2,-999.0000,9,    273.5,2,   -999.0,9,  -999.00,9,  -999.00,9,  -999.00,9,  -999.00,9,     -999,9, -999.000,9, -999.000,9,     -999,9,   -999.0,9,   -999.0,9,-999.0000,9,  -999.00,  -999.00,9,   -999.0,9,   -999.0,  -999.00,9,   0.00108,2,    0.076,2,    1.476,2,    0.800,2,   98.107,2
  096U20180111,  SR03,    53,  1,     29,     29,2,20180130,1728,-64.5513, 139.8502, 3039,     70.4,  -0.9998,  34.2647,2,-999.0000,9,    273.5,2,   -999.0,9,  -999.00,9,  -999.00,9,  -999.00,9,  -999.00,9,     -999,9, -999.000,9, -999.000,9,     -999,9,   -999.0,9,   -999.0,9,-999.0000,9,  -999.00,  -999.00,9,   -999.0,9,   -999.0,  -999.00,9,   0.00104,2,    0.073,2,    1.548,2,    0.823,2,   98.181,2
  096U20180111,  SR03,    53,  1,     28,     28,2,20180130,1728,-64.5513, 139.8502, 3039,     70.4,  -0.9938,  34.2661,2,-999.0000,9,    273.5,2,   -999.0,9,  -999.00,9,  -999.00,9,  -999.00,9,  -999.00,9,     -999,9, -999.000,9, -999.000,9,     -999,9,   -999.0,9,   -999.0,9,-999.0000,9,  -999.00,  -999.00,9,   -999.0,9,   -999.0,  -999.00,9,   0.00104,2,    0.071,2,    1.614,2,    0.822,2,   98.239,2
  096U20180111,  SR03,    53,  1,     27,     27,2,20180130,1728,-64.5513, 139.8502, 3039,     70.3,  -0.9674,  34.2666,2,  34.2854,2,    273.5,2,    274.4,2,    63.10,2,    31.47,2,     0.14,2,     2.18,2,     0.07,2,    3.571,2,    1.974,2,     2.15,2,   2221.6,6,   2316.5,6,-999.0000,9,  -999.00,    18.37,2,   -999.0,9,   -999.0,  -999.00,9,   0.00115,2,    0.068,2,    1.632,2,    0.828,2,   98.316,2
  096U20180111,  SR03,    53,  1,     26,     26,2,20180130,1728,-64.5513, 139.8502, 3039,    100.8,   0.3036,  34.4581,2,  34.4731,2,    226.2,2,    224.8,2,    73.30,2,    32.91,2,     0.05,2,     2.28,2,    -0.02,2, -999.000,9, -999.000,9,     -999,9,   2242.8,2,   2329.1,2,-999.0000,9,  -999.00,  -999.00,9,   -999.0,9,   -999.0,  -999.00,9,   0.00059,2,    0.016,2,    0.276,2,    0.161,2,   99.593,2
  096U20180111,  SR03,    53,  1,     25,     25,2,20180130,1728,-64.5513, 139.8502, 3039,    150.4,   1.3898,  34.6215,2,  34.6218,2,    192.0,2,    193.4,2,    81.60,2,    32.99,2,     0.02,2,     2.28,2,    -0.02,2, -999.000,9, -999.000,9,     -999,9,   -999.0,9,   -999.0,9,-999.0000,9,  -999.00,  -999.00,9,   -999.0,9,   -999.0,  -999.00,9,   0.00086,2,    0.009,2,    0.072,2,    0.004,2,   99.778,2
  096U20180111,  SR03,    53,  1,     24,     24,2,20180130,1728,-64.5513, 139.8502, 3039,    190.7,   1.5840,  34.6624,2,  34.6653,2,    185.9,2,    188.2,2,    83.90,2,    32.73,2,     0.01,2,     2.25,2,    -0.02,2, -999.000,9, -999.000,9,     -999,9,   2254.2,2,   2343.3,2,-999.0000,9,  -999.00,  -999.00,9,   -999.0,9,   -999.0,  -999.00,9,   0.00053,2,    0.009,2,    0.042,2,    0.000,2,   99.780,2
  096U20180111,  SR03,    53,  1,     23,     23,2,20180130,1728,-64.5513, 139.8502, 3039,    251.0,   1.6119,  34.6865,2,  34.6873,2,    191.1,2,    190.4,2,    85.30,2,    32.30,2,     0.01,2,     2.22,2,    -0.02,2, -999.000,9, -999.000,9,     -999,9,   -999.0,9,   -999.0,9,-999.0000,9,  -999.00,  -999.00,9,   -999.0,9,   -999.0,  -999.00,9,   0.00050,2,    0.007,2,    0.036,2,    0.000,2,   99.820,2
  096U20180111,  SR03,    53,  1,     22,     22,2,20180130,1728,-64.5513, 139.8502, 3039,    300.5,   1.5940,  34.7034,2,  34.7037,2,    193.4,2,    192.8,2,    86.80,2,    31.90,2,     0.01,2,     2.20,2,     0.01,2, -999.000,9, -999.000,9,     -999,9,   2252.8,2,   2347.7,6,-999.0000,9,  -999.00,  -999.00,9,   -999.0,9,   -999.0,  -999.00,9,   0.00037,2,    0.001,2,    0.036,2,    0.000,2,   99.969,2
  096U20180111,  SR03,    53,  1,     21,     21,2,20180130,1728,-64.5513, 139.8502, 3039,    400.9,   1.5527,  34.7203,2,  34.7204,2,    196.0,2,    195.2,2,    89.30,2,    31.49,2,     0.00,2,     2.16,2,    -0.02,2, -999.000,9, -999.000,9,     -999,9,   -999.0,9,   -999.0,9,-999.0000,9,  -999.00,  -999.00,9,   -999.0,9,   -999.0,  -999.00,9,   0.00032,2,   -0.001,2,    0.036,2,    0.000,2,  100.037,2
  096U20180111,  SR03,    53,  1,     20,     20,2,20180130,1728,-64.5513, 139.8502, 3039,    500.6,   1.4784,  34.7270,2,  34.7273,2,    198.6,2,    197.6,2,    91.90,2,    31.26,2,     0.00,2,     2.16,2,    -0.02,2, -999.000,9, -999.000,9,     -999,9,   2251.6,2,   2353.3,2,-999.0000,9,  -999.00,  -999.00,9,   -999.0,9,   -999.0,  -999.00,9,   0.00032,2,   -0.002,2,    0.036,2,    0.000,2,  100.045,2
  096U20180111,  SR03,    53,  1,     19,     19,2,20180130,1728,-64.5513, 139.8502, 3039,    600.7,   1.3830,  34.7281,2,-999.0000,9,    200.6,2,   -999.0,9,  -999.00,9,  -999.00,9,  -999.00,9,  -999.00,9,     -999,9, -999.000,9, -999.000,9,     -999,9,   -999.0,9,   -999.0,9,-999.0000,9,  -999.00,  -999.00,9,   -999.0,9,   -999.0,  -999.00,9,   0.00031,2,   -0.002,2,    0.036,2,    0.000,2,  100.044,2
  096U20180111,  SR03,    53,  1,     18,     18,2,20180130,1728,-64.5513, 139.8502, 3039,    700.4,   1.2895,  34.7268,2,  34.7263,2,    202.8,2,    202.0,2,    97.60,2,    31.27,2,     0.00,2,     2.16,2,    -0.02,2, -999.000,9, -999.000,9,     -999,9,   -999.0,9,   -999.0,9,-999.0000,9,  -999.00,  -999.00,9,   -999.0,9,   -999.0,  -999.00,9,   0.00030,2,   -0.002,2,    0.036,2,    0.000,2,  100.057,2
  096U20180111,  SR03,    53,  1,     17,     17,2,20180130,1728,-64.5513, 139.8502, 3039,    800.7,   1.1938,  34.7246,2,  34.7247,2,    203.6,2,    203.0,2,   100.40,2,    31.32,2,     0.00,2,     2.17,2,    -0.02,2, -999.000,9, -999.000,9,     -999,9,   2254.0,2,   2356.3,2,-999.0000,9,  -999.00,  -999.00,9,   -999.0,9,   -999.0,  -999.00,9,   0.00031,2,   -0.003,2,    0.030,2,    0.000,2,  100.067,2
  096U20180111,  SR03,    53,  1,     16,     16,2,20180130,1728,-64.5513, 139.8502, 3039,    950.6,   1.0267,  34.7166,2,  34.7163,2,    205.5,2,    206.0,2,   104.40,2,    31.55,2,     0.00,2,     2.19,2,    -0.02,2, -999.000,9, -999.000,9,     -999,9,   -999.0,9,   -999.0,9,-999.0000,9,  -999.00,  -999.00,9,   -999.0,9,   -999.0,  -999.00,9,   0.00029,2,   -0.003,2,    0.036,2,    0.000,2,  100.077,2
  096U20180111,  SR03,    53,  1,     15,     15,2,20180130,1728,-64.5513, 139.8502, 3039,   1101.0,   0.9052,  34.7115,2,  34.7118,2,    206.9,2,    207.0,2,   108.10,2,    31.71,2,     0.00,2,     2.20,2,    -0.02,2, -999.000,9, -999.000,9,     -999,9,   -999.0,9,   -999.0,9,-999.0000,9,  -999.00,  -999.00,9,   -999.0,9,   -999.0,  -999.00,9,   0.00028,2,   -0.004,2,    0.036,2,    0.000,2,  100.087,2
  096U20180111,  SR03,    53,  1,     14,     14,2,20180130,1728,-64.5513, 139.8502, 3039,   1250.7,   0.7932,  34.7067,2,  34.7099,4,    208.9,2,    208.5,2,   112.10,2,    31.96,2,     0.00,2,     2.22,2,    -0.02,2,    0.385,2,    0.201,2,     0.02,2,   2258.5,2,   2360.1,2,-999.0000,9,  -999.00,    18.70,2,   -999.0,9,   -999.0,  -999.00,9,   0.00028,2,   -0.004,2,    0.036,2,    0.000,2,  100.097,2
  096U20180111,  SR03,    53,  1,     13,     13,2,20180130,1728,-64.5513, 139.8502, 3039,   1400.9,   0.6800,  34.7043,2,  34.7045,2,    209.1,2,    209.9,2,   117.70,2,    32.21,2,     0.00,2,     2.24,2,    -0.02,2, -999.000,9, -999.000,9,     -999,9,   -999.0,9,   -999.0,9,-999.0000,9,  -999.00,  -999.00,9,   -999.0,9,   -999.0,  -999.00,9,   0.00026,2,   -0.005,2,    0.036,2,    0.000,2,  100.118,2
  096U20180111,  SR03,    53,  1,     12,     12,2,20180130,1728,-64.5513, 139.8502, 3039,   1600.2,   0.5294,  34.6962,2,  34.6962,2,    212.4,2,    212.2,2,   121.10,2,    32.36,2,     0.00,2,     2.25,2,    -0.02,2, -999.000,9, -999.000,9,     -999,9,   -999.0,9,   -999.0,9,-999.0000,9,  -999.00,  -999.00,9,   -999.0,9,   -999.0,  -999.00,9,   0.00027,2,   -0.004,2,    0.036,2,    0.000,2,  100.107,2
  096U20180111,  SR03,    53,  1,     11,     11,2,20180130,1728,-64.5513, 139.8502, 3039,   1800.9,   0.3331,  34.6827,2,  34.6831,2,    216.8,2,    218.2,2,   120.10,2,    32.39,2,     0.00,2,     2.26,2,    -0.02,2, -999.000,9, -999.000,9,     -999,9,   2260.2,2,   2359.1,2,-999.0000,9,  -999.00,  -999.00,9,   -999.0,9,   -999.0,  -999.00,9,   0.00026,2,   -0.004,2,    0.036,2,    0.000,2,  100.113,2
  096U20180111,  SR03,    53,  1,     10,     10,2,20180130,1728,-64.5513, 139.8502, 3039,   2000.7,   0.2566,  34.6834,2,  34.6842,2,    219.4,2,    219.7,2,   126.60,2,    32.55,2,     0.00,2,     2.26,2,    -0.02,2, -999.000,9, -999.000,9,     -999,9,   -999.0,9,   -999.0,9,-999.0000,9,  -999.00,  -999.00,9,   -999.0,9,   -999.0,  -999.00,9,   0.00026,2,   -0.005,2,    0.030,2,    0.000,2,  100.119,2
  096U20180111,  SR03,    53,  1,      9,      9,2,20180130,1728,-64.5513, 139.8502, 3039,   2200.7,   0.1631,  34.6783,2,  34.6782,2,    222.5,2,    222.8,2,   126.00,2,    32.52,2,     0.00,2,     2.26,2,    -0.02,2,    0.837,2,    0.438,2,     0.24,2,   2259.8,2,   2359.4,2,-999.0000,9,  -999.00,    18.31,2,   -999.0,9,   -999.0,  -999.00,9,   0.00025,2,   -0.004,2,    0.036,2,    0.000,2,  100.110,2
  096U20180111,  SR03,    53,  1,      8,      8,2,20180130,1728,-64.5513, 139.8502, 3039,   2400.8,   0.0460,  34.6722,2,  34.6729,2,    226.4,2,    226.7,2,   124.80,2,    32.46,2,     0.00,2,     2.26,2,    -0.02,2, -999.000,9, -999.000,9,     -999,9,   -999.0,9,   -999.0,9,-999.0000,9,  -999.00,  -999.00,9,   -999.0,9,   -999.0,  -999.00,9,   0.00028,2,   -0.004,2,    0.036,2,    0.000,2,  100.100,2
  096U20180111,  SR03,    53,  1,      7,      7,2,20180130,1728,-64.5513, 139.8502, 3039,   2600.6,  -0.0559,  34.6668,2,  34.6664,2,    230.7,2,    230.9,2,   122.10,2,    32.33,2,     0.00,2,     2.25,2,    -0.02,2,    1.407,2,    0.749,2,     0.51,2,   2258.8,6,   2357.3,6,-999.0000,9,  -999.00,    18.33,2,   -999.0,9,   -999.0,  -999.00,9,   0.00025,2,   -0.004,2,    0.036,2,    0.000,2,  100.100,2
  096U20180111,  SR03,    53,  1,      6,      6,2,20180130,1728,-64.5513, 139.8502, 3039,   2800.7,  -0.1637,  34.6615,2,  34.6614,2,    235.7,2,    236.1,2,   113.20,2,    32.14,2,     0.00,2,     2.24,2,    -0.02,2, -999.000,9, -999.000,9,     -999,9,   -999.0,9,   -999.0,9,-999.0000,9,  -999.00,  -999.00,9,   -999.0,9,   -999.0,  -999.00,9,   0.00029,2,   -0.002,2,    0.036,2,    0.000,2,  100.046,2
  096U20180111,  SR03,    53,  1,      5,      5,2,20180130,1728,-64.5513, 139.8502, 3039,   2960.2,  -0.1885,  34.6682,2,  34.6670,2,    237.9,2,    237.7,2,   106.40,2,    31.96,2,     0.00,2,     2.23,2,    -0.02,2,    2.056,2,    1.108,2,     0.96,2,   2257.7,2,   2354.4,2,-999.0000,9,  -999.00,    18.34,2,   -999.0,9,   -999.0,  -999.00,9,   0.00033,2,    0.001,2,    0.036,2,    0.000,2,   99.970,2
  096U20180111,  SR03,    53,  1,      4,      4,2,20180130,1728,-64.5513, 139.8502, 3039,   3040.1,  -0.2343,  34.6691,2,-999.0000,9,    240.2,2,   -999.0,9,  -999.00,9,  -999.00,9,  -999.00,9,  -999.00,9,     -999,9, -999.000,9, -999.000,9,     -999,9,   -999.0,9,   -999.0,9,-999.0000,9,  -999.00,  -999.00,9,   -999.0,9,   -999.0,  -999.00,9,   0.00043,2,    0.005,2,    0.036,2,    0.000,2,   99.866,2
  096U20180111,  SR03,    53,  1,      3,      3,2,20180130,1728,-64.5513, 139.8502, 3039,   3040.1,  -0.2355,  34.6688,2,  34.6685,2,    240.2,2,    240.4,2,   103.50,2,    31.92,2,     0.01,2,     2.22,2,    -0.02,2,    2.185,2,    1.189,2,     1.09,2,   2257.3,2,   2354.1,2,-999.0000,9,  -999.00,    18.49,2,   -999.0,9,   -999.0,  -999.00,9,   0.00041,2,    0.006,2,    0.036,2,    0.000,2,   99.856,2
  096U20180111,  SR03,    53,  1,      2,      2,2,20180130,1728,-64.5513, 139.8502, 3039,   3092.1,  -0.2709,  34.6650,2,-999.0000,9,    241.8,2,   -999.0,9,  -999.00,9,  -999.00,9,  -999.00,9,  -999.00,9,     -999,9, -999.000,9, -999.000,9,     -999,9,   -999.0,9,   -999.0,9,-999.0000,9,  -999.00,  -999.00,9,   -999.0,9,   -999.0,  -999.00,9,   0.00050,2,    0.009,2,    0.036,2,    0.000,2,   99.773,2
  096U20180111,  SR03,    53,  1,      1,      1,2,20180130,1728,-64.5513, 139.8502, 3039,   3092.2,  -0.2708,  34.6649,2,  34.6654,2,    241.8,2,    241.2,2,   102.80,2,    31.92,2,     0.01,2,     2.21,2,    -0.02,2,    2.232,2,    1.214,2,     1.19,2,   2257.3,2,   2354.1,2,-999.0000,9,  -999.00,    18.20,2,   -999.0,9,   -999.0,  -999.00,9,   0.00051,2,    0.010,2,    0.036,2,    0.000,2,   99.759,2