BOTTLE,20230418CCHSIOENA
EXPOCODE,SECT_ID,STNNBR,CASTNO,SAMPNO,BTLNBR,BTLNBR_FLAG_W,DATE,TIME,LATITUDE,LONGITUDE,DEPTH,CTDPRS,CTDTMP,CTDSAL,CTDSAL_FLAG_W,SALNTY,SALNTY_FLAG_W,CTDOXY,CTDOXY_FLAG_W,OXYGEN,OXYGEN_FLAG_W,SILCAT,SILCAT_FLAG_W,NITRAT,NITRAT_FLAG_W,NITRIT,NITRIT_FLAG_W,PHSPHT,PHSPHT_FLAG_W,NH4,NH4_FLAG_W,CFC-11,CFC-11_FLAG_W,CFC-12,CFC-12_FLAG_W,SF6,SF6_FLAG_W,TCARBN,TCARBN_FLAG_W,ALKALI,ALKALI_FLAG_W,PH_TOT,PH_TOT_FLAG_W,PH_TMP,N2O,N2O_FLAG_W,DELC14,DELC14_FLAG_W,C14ERR,DELC13,DELC13_FLAG_W,CTDBETA700,CTDBETA700_FLAG_W,CTDBEAMCP,CTDBEAMCP_FLAG_W,CTDFLUOR,CTDFLUOR_FLAG_W,PAR,PAR_FLAG_W,CTDXMISS,CTDXMISS_FLAG_W
,,,,,,,,,,,METERS,DBAR,ITS-90,PSS-78,,PSS-78,,UMOL/KG,,UMOL/KG,,UMOL/KG,,UMOL/KG,,UMOL/KG,,UMOL/KG,,UMOL/KG,,PMOL/KG,,PMOL/KG,,FMOL/KG,,UMOL/KG,,UMOL/KG,,,,DEG C,NMOL/KG,,/MILLE,,/MILLE,/MILLE,,VOLTS,,1/M,,MG/M^3,,UMOL/M^2/SEC,,%TRANS,
  096U20180111,  SR03,    13,  1,     36,     36,2,20180116,1046,-48.3207, 144.5298, 4022,     11.7,  10.7105,  34.4503,2,-999.0000,9,    274.3,2,   -999.0,9,  -999.00,9,  -999.00,9,  -999.00,9,  -999.00,9,     -999,9, -999.000,9, -999.000,9,     -999,9,   -999.0,9,   -999.0,9,-999.0000,9,  -999.00,  -999.00,9,   -999.0,9,   -999.0,  -999.00,9,   0.00124,2,    0.148,2,    1.470,2,    0.767,2,   96.378,2
  096U20180111,  SR03,    13,  1,     35,     35,2,20180116,1046,-48.3207, 144.5298, 4022,     11.8,  10.7108,  34.4503,2,  34.4505,2,    274.3,2,    277.5,2,     0.70,2,    11.04,2,     0.27,2,     0.88,2,     0.08,2,    3.116,2,    1.823,2,     2.23,2,   2095.2,2,   2291.8,2,   7.8476,   6,    25.00,     9.94,2,   -999.0,9,   -999.0,  -999.00,9,   0.00126,2,    0.148,2,    1.452,2,    0.870,2,   96.372,2
  096U20180111,  SR03,    13,  1,     34,     34,2,20180116,1046,-48.3207, 144.5298, 4022,     28.9,  10.7118,  34.4503,2,  34.4500,2,    274.5,2,    277.5,2,     0.70,2,    11.05,2,     0.27,2,     0.87,2,     0.08,2,    3.127,2,    1.834,2,     2.74,2,   2096.9,2,   2292.4,2,-999.0000,9,  -999.00,    10.00,2,   -999.0,9,   -999.0,  -999.00,9,   0.00130,2,    0.149,2,    1.410,2,    0.073,2,   96.340,2
  096U20180111,  SR03,    13,  1,     33,     33,2,20180116,1046,-48.3207, 144.5298, 4022,     51.6,  10.6862,  34.4739,2,-999.0000,9,    273.4,2,   -999.0,9,  -999.00,9,  -999.00,9,  -999.00,9,  -999.00,9,     -999,9, -999.000,9, -999.000,9,     -999,9,   -999.0,9,   -999.0,9,-999.0000,9,  -999.00,  -999.00,9,   -999.0,9,   -999.0,  -999.00,9,   0.00128,2,    0.148,2,    1.728,2,    0.000,2,   96.367,2
  096U20180111,  SR03,    13,  1,     32,     32,4,20180116,1046,-48.3207, 144.5298, 4022,     50.6,  10.7091,  34.4862,2,  34.5888,4,    273.4,2,    267.5,4,     2.00,2,    11.72,2,     0.18,2,     0.92,2,     0.25,2,    3.228,2,    1.870,2,     2.31,2,   2117.7,2,   2297.2,2,   7.7922,   3,    25.00,    10.47,2,   -999.0,9,   -999.0,  -999.00,9,   0.00124,2,    0.145,2,    1.704,2,    0.000,2,   96.448,2
  096U20180111,  SR03,    13,  1,     31,     31,2,20180116,1046,-48.3207, 144.5298, 4022,     80.9,  10.8784,  34.6950,2,  34.6955,2,    265.7,2,    264.9,2,     1.20,2,     9.22,2,     0.30,2,     0.81,2,      0.8,2,    3.052,2,    1.779,2,     2.55,2,   2104.5,6,   2301.1,6,-999.0000,9,  -999.00,    10.09,2,   -999.0,9,   -999.0,  -999.00,9,   0.00104,2,    0.062,2,    0.480,2,    0.000,2,   98.463,2
  096U20180111,  SR03,    13,  1,     30,     30,2,20180116,1046,-48.3207, 144.5298, 4022,     98.5,   9.8634,  34.6574,2,  34.6530,2,    262.9,2,    265.6,2,     3.10,2,    12.78,2,     0.22,2,     0.98,2,     0.17,2,    3.213,2,    1.873,2,     2.23,2,   2119.3,2,   2295.9,6,   7.8020,   2,    25.00,    10.92,2,   -999.0,9,   -999.0,  -999.00,9,   0.00105,2,    0.047,2,    0.252,2,    0.000,2,   98.841,2
  096U20180111,  SR03,    13,  1,     29,     29,2,20180116,1046,-48.3207, 144.5298, 4022,    121.2,   9.3093,  34.6470,2,  34.6502,2,    265.7,2,    267.0,2,     3.70,2,    14.06,2,     0.05,2,     1.03,2,        0,2, -999.000,9, -999.000,9,     -999,9,   -999.0,9,   -999.0,9,-999.0000,9,  -999.00,  -999.00,9,   -999.0,9,   -999.0,  -999.00,9,   0.00083,2,    0.029,2,    0.120,2,    0.000,2,   99.268,2
  096U20180111,  SR03,    13,  1,     28,     28,2,20180116,1046,-48.3207, 144.5298, 4022,    169.4,   9.5266,  34.7189,2,  34.7187,2,    266.4,2,    266.6,2,     3.60,2,    13.42,2,     0.03,2,     0.99,2,        0,2,    3.897,3,    2.360,3,     3.82,3,   2123.9,2,   2298.1,2,   7.7942,   2,    25.00,    12.84,3,   -999.0,9,   -999.0,  -999.00,9,   0.00077,2,    0.022,2,    0.060,2,    0.000,2,   99.444,2
  096U20180111,  SR03,    13,  1,     27,     27,2,20180116,1046,-48.3207, 144.5298, 4022,    233.1,   9.2707,  34.6851,2,  34.6864,2,    264.6,2,    266.0,2,     3.70,2,    14.04,2,     0.02,2,     1.03,2,        0,2,    3.202,2,    1.866,2,     1.93,2,   2126.4,2,   2297.0,2,-999.0000,9,  -999.00,    10.08,2,   -999.0,9,   -999.0,  -999.00,9,   0.00070,2,    0.015,2,    0.036,2,    0.000,2,   99.633,2
  096U20180111,  SR03,    13,  1,     26,     26,2,20180116,1046,-48.3207, 144.5298, 4022,    301.8,   9.2630,  34.6859,2,  34.6856,2,    265.7,2,    266.5,2,     3.50,2,    13.95,2,     0.02,2,     1.02,2,    -0.01,2,    3.236,2,    1.908,2,     2.56,2,   2126.4,2,   2297.5,2,   7.7893,   2,    25.00,    10.31,2,   -999.0,9,   -999.0,  -999.00,9,   0.00057,2,    0.011,2,    0.024,2,    0.000,2,   99.719,2
  096U20180111,  SR03,    13,  1,     25,     25,2,20180116,1046,-48.3207, 144.5298, 4022,    400.2,   9.0987,  34.6542,2,  34.6538,2,    265.9,2,    267.5,2,     3.60,2,    14.30,2,     0.02,2,     1.04,2,    -0.01,2,    3.250,2,    1.903,2,     2.24,2,   2126.6,2,   2296.0,2,-999.0000,9,  -999.00,    10.12,2,   -999.0,9,   -999.0,  -999.00,9,   0.00051,2,    0.009,2,    0.024,2,    0.000,2,   99.787,2
  096U20180111,  SR03,    13,  1,     24,     24,2,20180116,1046,-48.3207, 144.5298, 4022,    500.5,   8.9455,  34.6228,2,-999.0000,9,    266.0,2,    262.8,2,     4.40,2,    15.99,2,     0.01,2,     1.13,2,        0,2,    3.276,2,    1.894,2,     2.06,2,   2130.1,2,   2293.2,2,   7.7709,   2,    25.00,    11.52,2,   -999.0,9,   -999.0,  -999.00,9,   0.00046,2,    0.007,2,    0.024,2,    0.000,2,   99.818,2
  096U20180111,  SR03,    13,  1,     23,     23,2,20180116,1046,-48.3207, 144.5298, 4022,    599.7,   8.6350,  34.5670,2,  34.5655,2,    259.1,2,    259.9,2,     4.70,2,    16.48,2,     0.01,2,     1.16,2,        0,2, -999.000,9, -999.000,9,     -999,9,   -999.0,9,   -999.0,9,-999.0000,9,  -999.00,  -999.00,9,   -999.0,9,   -999.0,  -999.00,9,   0.00054,2,    0.007,2,    0.024,2,    0.000,2,   99.832,2
  096U20180111,  SR03,    13,  1,     22,     22,2,20180116,1046,-48.3207, 144.5298, 4022,    701.6,   8.0279,  34.4811,2,  34.4812,2,    251.9,2,    253.0,2,     6.30,2,    18.81,2,     0.01,2,     1.31,2,        0,2, -999.000,9, -999.000,9,     -999,9,   -999.0,9,   -999.0,9,-999.0000,9,  -999.00,  -999.00,9,   -999.0,9,   -999.0,  -999.00,9,   0.00043,2,    0.005,2,    0.024,2,    0.000,2,   99.877,2
  096U20180111,  SR03,    13,  1,     21,     21,2,20180116,1046,-48.3207, 144.5298, 4022,    801.8,   7.6063,  34.4611,2,  34.4608,2,    225.9,2,    225.7,2,    10.30,2,    22.27,2,     0.01,2,     1.51,2,     0.01,2,    2.970,2,    1.659,2,     1.56,2,   2156.3,2,   2290.0,2,   7.7008,   2,    25.00,    14.62,2,   -999.0,9,   -999.0,  -999.00,9,   0.00043,2,    0.004,2,    0.030,2,    0.000,2,   99.895,2
  096U20180111,  SR03,    13,  1,     20,     20,2,20180116,1046,-48.3207, 144.5298, 4022,    950.1,   6.3240,  34.4017,2,  34.4025,2,    206.6,2,    206.8,2,    18.90,2,    26.65,2,     0.00,2,     1.81,2,        0,2, -999.000,9, -999.000,9,     -999,9,   -999.0,9,   -999.0,9,-999.0000,9,  -999.00,  -999.00,9,   -999.0,9,   -999.0,  -999.00,9,   0.00041,2,    0.003,2,    0.030,2,    0.000,2,   99.930,2
  096U20180111,  SR03,    13,  1,     19,     19,2,20180116,1046,-48.3207, 144.5298, 4022,   1051.5,   5.3512,  34.3609,2,  34.3613,2,    203.5,2,    204.7,2,    25.80,2,    28.87,2,     0.01,2,     1.96,2,     0.01,2,    2.257,2,    1.216,2,     0.95,2,   2189.3,2,   2295.8,2,   7.6286,   2,    25.00,    18.10,2,   -999.0,9,   -999.0,  -999.00,9,   0.00058,2,    0.002,2,    0.036,2,    0.000,2,   99.943,2
  096U20180111,  SR03,    13,  1,     18,     18,2,20180116,1046,-48.3207, 144.5298, 4022,   1150.3,   4.5167,  34.3313,2,  34.3301,2,    206.2,2,    205.9,2,    31.60,2,    30.47,2,     0.00,2,     2.08,2,        0,2, -999.000,9, -999.000,9,     -999,9,   -999.0,9,   -999.0,9,-999.0000,9,  -999.00,  -999.00,9,   -999.0,9,   -999.0,  -999.00,9,   0.00039,2,    0.002,2,    0.036,2,    0.000,2,   99.962,2
  096U20180111,  SR03,    13,  1,     17,     17,2,20180116,1046,-48.3207, 144.5298, 4022,   1251.3,   4.1253,  34.3782,2,  34.3775,2,    193.0,2,    192.2,2,    42.30,2,    31.78,2,     0.00,2,     2.19,2,        0,2,    1.608,2,    0.843,2,     0.45,2,   2213.6,6,   2310.6,6,   7.5964,   2,    25.00,    20.59,2,   -999.0,9,   -999.0,  -999.00,9,   0.00040,2,    0.001,2,    0.036,2,    0.000,2,   99.966,2
  096U20180111,  SR03,    13,  1,     16,     16,2,20180116,1046,-48.3207, 144.5298, 4022,   1351.6,   3.7755,  34.4180,2,  34.4177,2,    183.2,2,    183.0,2,    51.50,2,    32.74,2,     0.00,2,     2.27,2,        0,2, -999.000,9, -999.000,9,     -999,9,   -999.0,9,   -999.0,9,-999.0000,9,  -999.00,  -999.00,9,   -999.0,9,   -999.0,  -999.00,9,   0.00041,2,    0.002,2,    0.036,2,    0.000,2,   99.961,2
  096U20180111,  SR03,    13,  1,     15,     15,2,20180116,1046,-48.3207, 144.5298, 4022,   1451.2,   3.2217,  34.4281,2,  34.4275,2,    180.9,2,    181.9,2,    55.90,2,    33.65,2,     0.00,2,     2.32,2,        0,2,    1.264,2,    0.665,2,     0.53,2,   2234.8,2,   2320.8,2,   7.5666,   2,    25.00,    21.39,2,   -999.0,9,   -999.0,  -999.00,9,   0.00042,2,    0.002,2,    0.036,2,    0.000,2,   99.963,2
  096U20180111,  SR03,    13,  1,     14,     14,2,20180116,1046,-48.3207, 144.5298, 4022,   1549.1,   3.1271,  34.4981,2,  34.4969,2,    172.8,2,    170.6,2,    66.40,2,    33.92,2,     0.00,2,     2.35,2,     0.02,2, -999.000,9, -999.000,9,     -999,9,   -999.0,9,   -999.0,9,-999.0000,9,  -999.00,  -999.00,9,   -999.0,9,   -999.0,  -999.00,9,   0.00039,2,    0.001,2,    0.042,2,    0.000,2,   99.983,2
  096U20180111,  SR03,    13,  1,     13,     13,2,20180116,1046,-48.3207, 144.5298, 4022,   1651.3,   2.9390,  34.5366,2,  34.5362,2,    167.5,2,    167.6,2,    71.60,2,    34.01,2,     0.00,2,     2.37,2,        0,2,    0.537,2,    0.273,2,     0.09,2,   2253.6,2,   2340.7,2,   7.5607,   2,    25.00,    23.33,2,   -999.0,9,   -999.0,  -999.00,9,   0.00038,2,    0.000,2,    0.036,2,    0.000,2,   99.989,2
  096U20180111,  SR03,    13,  1,     12,     12,2,20180116,1046,-48.3207, 144.5298, 4022,   1750.1,   2.7588,  34.5787,2,  34.5764,2,    166.7,2,    167.0,2,    75.70,2,    33.84,2,     0.00,2,     2.35,2,        0,2, -999.000,9, -999.000,9,     -999,9,   -999.0,9,   -999.0,9,-999.0000,9,  -999.00,  -999.00,9,   -999.0,9,   -999.0,  -999.00,9,   0.00037,2,    0.000,2,    0.048,2,    0.000,2,   99.995,2
  096U20180111,  SR03,    13,  1,     11,     11,2,20180116,1046,-48.3207, 144.5298, 4022,   1851.5,   2.6160,  34.6157,2,  34.6148,2,    168.7,2,    169.6,2,    77.00,2,    33.32,2,     0.00,2,     2.32,2,        0,2,    0.323,2,    0.164,2,        0,2,   2258.0,2,   2345.9,2,-999.0000,9,  -999.00,    22.12,2,   -999.0,9,   -999.0,  -999.00,9,   0.00038,2,    0.000,2,    0.042,2,    0.000,2,  100.008,2
  096U20180111,  SR03,    13,  1,     10,     10,2,20180116,1046,-48.3207, 144.5298, 4022,   1949.9,   2.5332,  34.6448,2,  34.6442,2,    170.7,2,    171.0,2,    78.90,2,    32.94,2,     0.00,2,     2.29,2,     0.03,2,    0.251,2,    0.124,2,     0.02,2,   2257.8,2,   2348.2,6,   7.5696,   6,    25.00,    21.29,2,   -999.0,9,   -999.0,  -999.00,9,   0.00037,2,    0.000,2,    0.042,2,    0.000,2,  100.010,2
  096U20180111,  SR03,    13,  1,      9,      9,2,20180116,1046,-48.3207, 144.5298, 4022,   2150.1,   2.3951,  34.6907,2,  34.6902,2,    178.3,2,    174.6,2,    83.10,2,    32.21,2,     0.00,2,     2.25,2,     0.01,2, -999.000,9, -999.000,9,     -999,9,   -999.0,9,   -999.0,9,-999.0000,9,  -999.00,  -999.00,9,   -999.0,9,   -999.0,  -999.00,9,   0.00036,2,   -0.001,2,    0.048,2,    0.000,2,  100.015,2
  096U20180111,  SR03,    13,  1,      8,      8,2,20180116,1046,-48.3207, 144.5298, 4022,   2300.2,   2.2884,  34.7149,2,  34.7140,2,    175.1,2,    176.2,2,    88.10,2,    31.99,2,     0.00,2,     2.24,2,     0.01,2,    0.095,2,    0.042,2,     0.04,2,   2262.9,2,   2360.6,2,-999.0000,9,  -999.00,    20.95,2,   -999.0,9,   -999.0,  -999.00,9,   0.00035,2,   -0.001,2,    0.042,2,    0.000,2,  100.022,2
  096U20180111,  SR03,    13,  1,      7,      7,2,20180116,1046,-48.3207, 144.5298, 4022,   2553.0,   2.1226,  34.7287,2,  34.7284,2,    177.8,2,    177.5,2,    95.80,2,    31.98,2,     0.00,2,     2.24,2,     0.01,2,    0.040,2,    0.023,2,    -0.06,2,   2266.6,2,   2367.6,2,-999.0000,9,  -999.00,    19.48,2,   -999.0,9,   -999.0,  -999.00,9,   0.00035,2,   -0.001,2,    0.042,2,    0.000,2,  100.018,2
  096U20180111,  SR03,    13,  1,      6,      6,2,20180116,1046,-48.3207, 144.5298, 4022,   2800.3,   1.9363,  34.7371,2,  34.7399,2,    183.1,2,    183.6,2,    99.80,2,    31.64,2,     0.00,2,     2.22,2,        0,2,    0.032,2,    0.012,2,     0.07,2,   2266.0,2,   2370.4,2,-999.0000,9,  -999.00,    19.33,2,   -999.0,9,   -999.0,  -999.00,9,   0.00036,2,   -0.001,2,    0.048,2,    0.000,2,  100.027,2
  096U20180111,  SR03,    13,  1,      5,      5,2,20180116,1046,-48.3207, 144.5298, 4022,   3050.5,   1.7436,  34.7365,2,  34.7357,2,    187.4,2,    187.7,2,   104.80,2,    31.60,2,     0.00,2,     2.21,2,        0,2,    0.021,2,    0.007,2,     0.05,2,   2266.5,6,   2372.5,6,-999.0000,9,  -999.00,    19.58,2,   -999.0,9,   -999.0,  -999.00,9,   0.00036,2,   -0.001,2,    0.042,2,    0.000,2,  100.036,2
  096U20180111,  SR03,    13,  1,      4,      4,2,20180116,1046,-48.3207, 144.5298, 4022,   3352.4,   1.4884,  34.7321,2,-999.0000,9,    195.1,2,   -999.0,9,  -999.00,9,  -999.00,9,  -999.00,9,  -999.00,9,     -999,9, -999.000,9, -999.000,9,     -999,9,   -999.0,9,   -999.0,9,-999.0000,9,  -999.00,  -999.00,9,   -999.0,9,   -999.0,  -999.00,9,   0.00031,2,   -0.002,2,    0.048,2,    0.000,2,  100.042,2
  096U20180111,  SR03,    13,  1,      3,      3,2,20180116,1046,-48.3207, 144.5298, 4022,   3704.8,   1.3672,  34.7272,2,  34.7262,2,    198.8,2,    198.8,2,   111.40,2,    31.51,2,     0.00,2,     2.20,2,        0,2,    0.084,6,    0.037,6,     0.01,6,   2271.3,2,   2371.0,2,-999.0000,9,  -999.00,    18.09,6,   -999.0,9,   -999.0,  -999.00,9,   0.00030,2,   -0.002,2,    0.042,2,    0.000,2,  100.043,2
  096U20180111,  SR03,    13,  1,      2,      2,2,20180116,1046,-48.3207, 144.5298, 4022,   4039.6,   1.1192,  34.7163,2,  34.7155,2,    202.1,2,    202.0,2,   118.80,2,    31.90,2,     0.00,2,     2.23,2,        0,2,    0.087,2,    0.045,2,     0.16,2,   2268.5,2,   2377.2,2,-999.0000,9,  -999.00,    17.92,2,   -999.0,9,   -999.0,  -999.00,9,   0.00033,2,    0.000,2,    0.048,2,    0.000,2,   99.996,2
  096U20180111,  SR03,    13,  1,      1,      1,2,20180116,1046,-48.3207, 144.5298, 4022,   4140.7,   1.0852,  34.7143,2,  34.7134,2,    202.0,2,    201.8,2,   120.10,2,    32.04,2,     0.00,2,     2.24,2,     0.01,2,    0.067,2,    0.032,2,     0.09,2,   2270.2,2,   2379.3,2,-999.0000,9,  -999.00,    18.32,2,   -999.0,9,   -999.0,  -999.00,9,   0.00052,2,    0.004,2,    0.042,2,    0.000,2,   99.901,2