BOTTLE,20230418CCHSIOENA
EXPOCODE,SECT_ID,STNNBR,CASTNO,SAMPNO,BTLNBR,BTLNBR_FLAG_W,DATE,TIME,LATITUDE,LONGITUDE,DEPTH,CTDPRS,CTDTMP,CTDSAL,CTDSAL_FLAG_W,SALNTY,SALNTY_FLAG_W,CTDOXY,CTDOXY_FLAG_W,OXYGEN,OXYGEN_FLAG_W,SILCAT,SILCAT_FLAG_W,NITRAT,NITRAT_FLAG_W,NITRIT,NITRIT_FLAG_W,PHSPHT,PHSPHT_FLAG_W,NH4,NH4_FLAG_W,CFC-11,CFC-11_FLAG_W,CFC-12,CFC-12_FLAG_W,SF6,SF6_FLAG_W,TCARBN,TCARBN_FLAG_W,ALKALI,ALKALI_FLAG_W,PH_TOT,PH_TOT_FLAG_W,PH_TMP,N2O,N2O_FLAG_W,DELC14,DELC14_FLAG_W,C14ERR,DELC13,DELC13_FLAG_W,CTDBETA700,CTDBETA700_FLAG_W,CTDBEAMCP,CTDBEAMCP_FLAG_W,CTDFLUOR,CTDFLUOR_FLAG_W,PAR,PAR_FLAG_W,CTDXMISS,CTDXMISS_FLAG_W
,,,,,,,,,,,METERS,DBAR,ITS-90,PSS-78,,PSS-78,,UMOL/KG,,UMOL/KG,,UMOL/KG,,UMOL/KG,,UMOL/KG,,UMOL/KG,,UMOL/KG,,PMOL/KG,,PMOL/KG,,FMOL/KG,,UMOL/KG,,UMOL/KG,,,,DEG C,NMOL/KG,,/MILLE,,/MILLE,/MILLE,,VOLTS,,1/M,,MG/M^3,,UMOL/M^2/SEC,,%TRANS,
  096U20180111,  SR03,    25,  1,     36,     36,2,20180120,1918,-52.0810, 142.7113, 3472,     14.6,   6.9326,  33.9263,2,-999.0000,9,    292.8,2,   -999.0,9,  -999.00,9,  -999.00,9,  -999.00,9,  -999.00,9,     -999,9, -999.000,9, -999.000,9,     -999,9,   -999.0,9,   -999.0,9,-999.0000,9,  -999.00,  -999.00,9,   -999.0,9,   -999.0,  -999.00,9,-999.00000,9,    0.116,2, -999.000,9,  117.000,2,   97.146,2
  096U20180111,  SR03,    25,  1,     35,     35,2,20180120,1918,-52.0810, 142.7113, 3472,     14.7,   6.9323,  33.9264,2,  33.9260,2,    292.8,2,    297.7,2,     2.50,2,    20.91,2,     0.24,2,     1.43,2,     0.26,2,    3.882,2,    2.199,2,     2.74,2,   2119.6,2,   2275.4,2,-999.0000,9,  -999.00,    11.69,2,   -999.0,9,   -999.0,  -999.00,9,-999.00000,9,    0.116,2, -999.000,9,  107.000,2,   97.137,2
  096U20180111,  SR03,    25,  1,     34,     34,2,20180120,1918,-52.0810, 142.7113, 3472,     40.6,   6.9274,  33.9265,2,  33.9260,2,    292.9,2,    297.4,2,     2.50,2,    20.88,2,     0.24,2,     1.44,2,     0.26,2, -999.000,9, -999.000,9,     -999,9,   2119.0,6,   2276.3,6,-999.0000,9,  -999.00,  -999.00,9,   -999.0,9,   -999.0,  -999.00,9,-999.00000,9,    0.118,2, -999.000,9,   15.400,2,   97.090,2
  096U20180111,  SR03,    25,  1,     33,     33,2,20180120,1918,-52.0810, 142.7113, 3472,     71.2,   7.0506,  34.0597,2,  34.0552,2,    291.8,2,    290.7,2,     4.30,2,    20.00,2,     0.29,2,     1.40,2,     0.21,2,    3.801,2,    2.128,2,     2.78,2,   2124.3,2,   2279.0,2,-999.0000,9,  -999.00,    11.70,2,   -999.0,9,   -999.0,  -999.00,9,-999.00000,9,    0.102,2, -999.000,9,    5.080,2,   97.472,2
  096U20180111,  SR03,    25,  1,     32,     32,2,20180120,1918,-52.0810, 142.7113, 3472,    100.9,   6.2671,  34.1694,2,  34.1691,2,    284.3,2,    282.4,2,     6.90,2,    21.43,2,     0.14,2,     1.48,2,    -0.01,2, -999.000,9, -999.000,9,     -999,9,   2138.5,2,   2281.2,2,-999.0000,9,  -999.00,  -999.00,9,   -999.0,9,   -999.0,  -999.00,9,-999.00000,9,    0.021,2, -999.000,9,    1.770,2,   99.476,2
  096U20180111,  SR03,    25,  1,     31,     31,2,20180120,1918,-52.0810, 142.7113, 3472,    129.9,   5.9897,  34.1601,2,  34.1597,2,    281.6,2,    280.1,2,     8.10,2,    22.43,2,     0.14,2,     1.54,2,    -0.01,2,    3.850,2,    2.162,2,     3.04,2,   2142.6,2,   2281.3,6,-999.0000,9,  -999.00,    12.53,2,   -999.0,9,   -999.0,  -999.00,9,-999.00000,9,    0.013,2, -999.000,9,    0.661,2,   99.676,2
  096U20180111,  SR03,    25,  1,     30,     30,2,20180120,1918,-52.0810, 142.7113, 3472,    160.2,   5.7444,  34.1487,2,  34.1482,2,    275.8,2,    279.4,2,     8.80,2,    23.06,2,     0.02,2,     1.57,2,    -0.01,2, -999.000,9, -999.000,9,     -999,9,   -999.0,9,   -999.0,9,-999.0000,9,  -999.00,  -999.00,9,   -999.0,9,   -999.0,  -999.00,9,-999.00000,9,    0.008,2, -999.000,9,    0.215,2,   99.792,2
  096U20180111,  SR03,    25,  1,     29,     29,4,20180120,1918,-52.0810, 142.7113, 3472,    160.0,   5.7450,  34.1489,2,  34.1952,4,    275.8,2,    181.4,4,  -999.00,9,  -999.00,9,  -999.00,9,  -999.00,9,     -999,9,    0.412,4,    0.209,4,      0.2,4,   2233.8,4,   2298.4,4,-999.0000,9,  -999.00,    20.70,4,   -999.0,9,   -999.0,  -999.00,9,-999.00000,9,    0.009,2, -999.000,9,    0.206,2,   99.785,2
  096U20180111,  SR03,    25,  1,     28,     28,2,20180120,1918,-52.0810, 142.7113, 3472,    200.8,   5.6091,  34.1606,2,  34.1608,2,    274.7,2,    273.5,2,     9.70,2,    23.68,2,     0.02,2,     1.61,2,    -0.01,2,    3.870,2,    2.165,2,     2.68,2,   2149.2,2,   2281.5,2,-999.0000,9,  -999.00,    13.35,2,   -999.0,9,   -999.0,  -999.00,9,-999.00000,9,    0.007,2, -999.000,9,    0.043,2,   99.829,2
  096U20180111,  SR03,    25,  1,     27,     27,2,20180120,1918,-52.0810, 142.7113, 3472,    252.4,   5.1911,  34.1277,2,  34.1274,2,    275.8,2,    278.8,2,    10.40,2,    24.22,2,     0.02,2,     1.65,2,    -0.01,2, -999.000,9, -999.000,9,     -999,9,   -999.0,9,   -999.0,9,-999.0000,9,  -999.00,  -999.00,9,   -999.0,9,   -999.0,  -999.00,9,-999.00000,9,    0.005,2, -999.000,9,    0.000,2,   99.883,2
  096U20180111,  SR03,    25,  1,     26,     26,2,20180120,1918,-52.0810, 142.7113, 3472,    252.0,   5.1914,  34.1278,2,  34.1278,2,    275.8,2,    278.8,2,    10.40,2,    24.20,2,     0.02,2,     1.65,2,    -0.01,2, -999.000,9, -999.000,9,     -999,9,   -999.0,9,   -999.0,9,-999.0000,9,  -999.00,  -999.00,9,   -999.0,9,   -999.0,  -999.00,9,-999.00000,9,    0.005,2, -999.000,9,    0.000,2,   99.884,2
  096U20180111,  SR03,    25,  1,     25,     25,4,20180120,1918,-52.0810, 142.7113, 3472,    300.8,   4.9806,  34.1332,2,  34.1684,4,    273.6,2,    254.1,4,  -999.00,9,  -999.00,9,  -999.00,9,  -999.00,9,     -999,9,    3.531,2,    1.951,2,     1.84,2,   2171.6,2,   2286.8,2,-999.0000,9,  -999.00,    15.97,2,   -999.0,9,   -999.0,  -999.00,9,-999.00000,9,    0.005,2, -999.000,9,    0.000,2,   99.873,2
  096U20180111,  SR03,    25,  1,     24,     24,2,20180120,1918,-52.0810, 142.7113, 3472,    300.2,   4.9826,  34.1337,2,  34.1338,2,    273.6,2,    272.7,2,    12.10,2,    25.11,2,     0.02,2,     1.71,2,    -0.01,2, -999.000,9, -999.000,9,     -999,9,   -999.0,9,   -999.0,9,-999.0000,9,  -999.00,  -999.00,9,   -999.0,9,   -999.0,  -999.00,9,-999.00000,9,    0.005,2, -999.000,9,    0.000,2,   99.873,2
  096U20180111,  SR03,    25,  1,     23,     23,2,20180120,1918,-52.0810, 142.7113, 3472,    401.2,   4.6110,  34.1794,2,  34.1763,2,    253.6,2,    252.2,2,    17.20,2,    27.22,2,     0.01,2,     1.85,2,    -0.01,2,    3.729,2,    2.043,2,     2.23,2,   2170.7,2,   2285.1,2,-999.0000,9,  -999.00,    15.93,2,   -999.0,9,   -999.0,  -999.00,9,-999.00000,9,    0.004,2, -999.000,9,    0.000,2,   99.887,2
  096U20180111,  SR03,    25,  1,     22,     22,2,20180120,1918,-52.0810, 142.7113, 3472,    500.9,   4.2036,  34.2285,2,  34.2280,2,    234.4,2,   -999.0,9,    24.50,2,    29.46,2,     0.01,2,     2.00,2,    -0.01,2, -999.000,9, -999.000,9,     -999,9,   2187.0,2,   2289.9,2,-999.0000,9,  -999.00,  -999.00,9,   -999.0,9,   -999.0,  -999.00,9,-999.00000,9,    0.005,2, -999.000,9,    0.000,2,   99.881,2
  096U20180111,  SR03,    25,  1,     21,     21,2,20180120,1918,-52.0810, 142.7113, 3472,    600.5,   3.6821,  34.2511,2,  34.2518,2,    224.0,2,    222.7,2,    31.70,2,    30.91,2,     0.01,2,     2.11,2,    -0.01,2,    2.941,2,    1.571,2,     1.32,2,   2198.6,2,   2294.5,2,-999.0000,9,  -999.00,    18.80,2,   -999.0,9,   -999.0,  -999.00,9,-999.00000,9,    0.005,2, -999.000,9,    0.000,2,   99.884,2
  096U20180111,  SR03,    25,  1,     20,     20,2,20180120,1918,-52.0810, 142.7113, 3472,    701.3,   3.4179,  34.3119,2,  34.3112,2,    206.3,2,    207.2,2,    40.60,2,    32.21,2,     0.01,2,     2.21,2,    -0.01,2, -999.000,9, -999.000,9,     -999,9,   -999.0,9,   -999.0,9,-999.0000,9,  -999.00,  -999.00,9,   -999.0,9,   -999.0,  -999.00,9,-999.00000,9,    0.003,2, -999.000,9,    0.000,2,   99.915,2
  096U20180111,  SR03,    25,  1,     19,     19,2,20180120,1918,-52.0810, 142.7113, 3472,    799.8,   3.1645,  34.3666,2,  34.3660,2,    193.3,2,    193.7,2,    48.90,2,    33.20,2,     0.01,2,     2.29,2,    -0.01,2,    1.864,2,    0.976,2,     0.51,2,   2225.1,2,   2310.5,2,-999.0000,9,  -999.00,    21.50,2,   -999.0,9,   -999.0,  -999.00,9,-999.00000,9,    0.003,2, -999.000,9,    0.000,2,   99.917,2
  096U20180111,  SR03,    25,  1,     18,     18,2,20180120,1918,-52.0810, 142.7113, 3472,    902.8,   2.8995,  34.4155,2,  34.4153,2,    185.2,2,    185.2,2,    56.50,2,    33.86,2,     0.01,2,     2.33,2,    -0.01,2, -999.000,9, -999.000,9,     -999,9,   2235.3,2,   2319.2,2,-999.0000,9,  -999.00,  -999.00,9,   -999.0,9,   -999.0,  -999.00,9,-999.00000,9,    0.004,2, -999.000,9,    0.000,2,   99.906,2
  096U20180111,  SR03,    25,  1,     17,     17,2,20180120,1918,-52.0810, 142.7113, 3472,   1001.2,   2.7652,  34.4688,2,  34.4682,2,    178.5,2,    179.1,2,    62.20,2,    34.11,2,     0.01,2,     2.34,2,    -0.01,2,    1.169,2,    0.600,2,     0.31,2,   -999.0,9,   -999.0,9,-999.0000,9,  -999.00,    22.43,2,   -999.0,9,   -999.0,  -999.00,9,-999.00000,9,    0.003,2, -999.000,9,    0.000,2,   99.924,2
  096U20180111,  SR03,    25,  1,     16,     16,2,20180120,1918,-52.0810, 142.7113, 3472,   1099.8,   2.6447,  34.5200,2,  34.5186,2,    174.3,2,    174.6,2,    67.10,2,    34.05,2,     0.01,2,     2.34,2,    -0.01,2,    0.924,2,    0.467,2,      0.1,2,   2247.8,2,   2330.5,6,-999.0000,9,  -999.00,    22.72,2,   -999.0,9,   -999.0,  -999.00,9,-999.00000,9,    0.003,2, -999.000,9,    0.000,2,   99.931,2
  096U20180111,  SR03,    25,  1,     15,     15,2,20180120,1918,-52.0810, 142.7113, 3472,   1099.8,   2.6445,  34.5205,2,  34.5188,2,    174.3,2,    174.5,2,    66.90,2,    34.08,2,     0.01,2,     2.33,2,    -0.01,2, -999.000,9, -999.000,9,     -999,9,   -999.0,9,   -999.0,9,-999.0000,9,  -999.00,  -999.00,9,   -999.0,9,   -999.0,  -999.00,9,-999.00000,9,    0.003,2, -999.000,9,    0.000,2,   99.932,2
  096U20180111,  SR03,    25,  1,     14,     14,2,20180120,1918,-52.0810, 142.7113, 3472,   1251.0,   2.5584,  34.5849,2,  34.5842,2,    172.2,2,    173.0,2,    71.10,2,    33.41,2,     0.00,2,     2.30,2,    -0.01,2,    0.628,2,    0.327,2,     0.07,2,   2251.1,2,   2335.6,2,-999.0000,9,  -999.00,    22.12,2,   -999.0,9,   -999.0,  -999.00,9,-999.00000,9,    0.002,2, -999.000,9,    0.000,2,   99.945,2
  096U20180111,  SR03,    25,  1,     13,     13,2,20180120,1918,-52.0810, 142.7113, 3472,   1401.1,   2.4641,  34.6356,2,  34.6349,2,    174.1,2,    174.8,2,    74.10,2,    32.79,2,     0.00,2,     2.26,2,    -0.01,2,    0.467,2,    0.233,2,     0.09,2,   2251.4,2,   2339.5,2,-999.0000,9,  -999.00,    21.36,2,   -999.0,9,   -999.0,  -999.00,9,-999.00000,9,    0.002,2, -999.000,9,    0.000,2,   99.945,2
  096U20180111,  SR03,    25,  1,     12,     12,2,20180120,1918,-52.0810, 142.7113, 3472,   1600.6,   2.3450,  34.6902,2,  34.6898,2,    180.9,2,    180.6,2,    77.00,2,    31.65,2,     0.00,2,     2.18,2,    -0.01,2,    0.316,2,    0.157,2,     0.12,3,   2250.4,2,   2342.4,2,-999.0000,9,  -999.00,    20.67,2,   -999.0,9,   -999.0,  -999.00,9,-999.00000,9,    0.001,2, -999.000,9,    0.000,2,   99.970,2
  096U20180111,  SR03,    25,  1,     11,     11,2,20180120,1918,-52.0810, 142.7113, 3472,   1801.1,   2.2460,  34.7226,2,  34.7306,4,    187.1,2,    188.6,2,    82.30,2,    30.72,2,     0.00,2,     2.12,2,    -0.01,2,    0.192,2,    0.092,2,     0.01,2,   -999.0,9,   -999.0,9,-999.0000,9,  -999.00,    19.36,2,   -999.0,9,   -999.0,  -999.00,9,-999.00000,9,    0.001,2, -999.000,9,    0.000,2,   99.979,2
  096U20180111,  SR03,    25,  1,     10,     10,2,20180120,1918,-52.0810, 142.7113, 3472,   2000.9,   2.1084,  34.7388,2,  34.7388,2,    190.9,2,    190.9,2,    82.70,2,    30.30,2,     0.00,2,     2.10,2,    -0.01,2,    0.184,2,    0.087,2,     0.07,2,   2248.0,6,   2349.9,6,-999.0000,9,  -999.00,    19.04,2,   -999.0,9,   -999.0,  -999.00,9,-999.00000,9,    0.000,2, -999.000,9,    0.000,2,   99.999,2
  096U20180111,  SR03,    25,  1,      9,      9,2,20180120,1918,-52.0810, 142.7113, 3472,   2201.5,   1.9441,  34.7447,2,  34.7443,2,    192.0,2,    192.7,2,    89.30,2,    30.48,2,     0.00,2,     2.10,2,    -0.01,2,    0.126,2,    0.059,2,     0.12,3,   2251.1,2,   2356.8,2,-999.0000,9,  -999.00,    18.78,2,   -999.0,9,   -999.0,  -999.00,9,-999.00000,9,   -0.001,2, -999.000,9,    0.000,2,  100.012,2
  096U20180111,  SR03,    25,  1,      8,      8,2,20180120,1918,-52.0810, 142.7113, 3472,   2399.2,   1.7347,  34.7430,2,  34.7436,2,    195.8,2,    195.8,2,    95.00,2,    30.62,2,     0.00,2,     2.11,2,    -0.01,2,    0.132,2,    0.057,2,    -0.04,2,   2254.3,2,   2358.9,2,-999.0000,9,  -999.00,    18.69,2,   -999.0,9,   -999.0,  -999.00,9,-999.00000,9,   -0.001,2, -999.000,9,    0.000,2,  100.017,2
  096U20180111,  SR03,    25,  1,      7,      7,2,20180120,1918,-52.0810, 142.7113, 3472,   2599.2,   1.5261,  34.7382,2,  34.7381,2,    200.1,2,    200.5,2,    99.60,2,    30.72,2,     0.01,2,     2.12,2,    -0.01,2,    0.171,2,    0.080,2,     0.01,2,   -999.0,9,   -999.0,9,-999.0000,9,  -999.00,    18.28,2,   -999.0,9,   -999.0,  -999.00,9,-999.00000,9,   -0.001,2, -999.000,9,    0.000,2,  100.036,2
  096U20180111,  SR03,    25,  1,      6,      6,2,20180120,1918,-52.0810, 142.7113, 3472,   2799.7,   1.2993,  34.7282,2,  34.7267,2,    201.7,2,    201.5,2,   107.90,2,    31.19,2,     0.01,2,     2.16,2,    -0.01,2,    0.164,6,    0.073,6,     0.05,6,   2259.1,2,   2363.2,6,-999.0000,9,  -999.00,    18.23,6,   -999.0,9,   -999.0,  -999.00,9,-999.00000,9,   -0.002,2, -999.000,9,    0.000,2,  100.037,2
  096U20180111,  SR03,    25,  1,      5,      5,2,20180120,1918,-52.0810, 142.7113, 3472,   3048.8,   1.1557,  34.7213,2,  34.7211,2,    203.4,2,    203.0,2,   113.10,2,    31.40,2,     0.01,2,     2.18,2,    -0.01,2,    0.178,2,    0.086,2,     0.12,2,   -999.0,9,   -999.0,9,-999.0000,9,  -999.00,    18.39,2,   -999.0,9,   -999.0,  -999.00,9,-999.00000,9,   -0.001,2, -999.000,9,    0.000,2,  100.017,2
  096U20180111,  SR03,    25,  1,      4,      4,2,20180120,1918,-52.0810, 142.7113, 3472,   3299.8,   1.0217,  34.7143,2,  34.7136,2,    205.8,2,    205.1,2,   117.70,2,    31.69,2,     0.01,2,     2.20,2,    -0.01,2,    0.227,2,    0.105,2,     0.03,2,   2261.5,2,   2366.5,2,-999.0000,9,  -999.00,    18.02,2,   -999.0,9,   -999.0,  -999.00,9,-999.00000,9,    0.002,2, -999.000,9,    0.000,2,   99.961,2
  096U20180111,  SR03,    25,  1,      3,      3,2,20180120,1918,-52.0810, 142.7113, 3472,   3449.5,   1.0266,  34.7138,2,  34.7141,2,    206.4,2,    205.4,2,   117.90,2,    31.71,2,     0.01,2,     2.20,2,    -0.01,2,    0.242,2,    0.111,2,     0.13,2,   -999.0,9,   -999.0,9,-999.0000,9,  -999.00,    18.15,2,   -999.0,9,   -999.0,  -999.00,9,-999.00000,9,    0.002,2, -999.000,9,    0.000,2,   99.952,2
  096U20180111,  SR03,    25,  1,      2,      2,2,20180120,1918,-52.0810, 142.7113, 3472,   3507.0,   1.0326,  34.7138,2,  34.7140,2,    206.6,2,    206.6,2,   117.90,2,    31.68,2,     0.01,2,     2.20,2,    -0.01,2,    0.243,2,    0.123,2,      0.1,2,   2262.0,6,   2364.8,6,-999.0000,9,  -999.00,    18.14,2,   -999.0,9,   -999.0,  -999.00,9,-999.00000,9,    0.002,2, -999.000,9,    0.000,2,   99.956,2
  096U20180111,  SR03,    25,  1,      1,      1,2,20180120,1918,-52.0810, 142.7113, 3472,   3506.4,   1.0325,  34.7140,2,-999.0000,9,    206.6,2,   -999.0,9,  -999.00,9,  -999.00,9,  -999.00,9,  -999.00,9,     -999,9, -999.000,9, -999.000,9,     -999,9,   -999.0,9,   -999.0,9,-999.0000,9,  -999.00,  -999.00,9,   -999.0,9,   -999.0,  -999.00,9,-999.00000,9,    0.002,2, -999.000,9,    0.000,2,   99.947,2