BOTTLE,20230418CCHSIOENA
EXPOCODE,SECT_ID,STNNBR,CASTNO,SAMPNO,BTLNBR,BTLNBR_FLAG_W,DATE,TIME,LATITUDE,LONGITUDE,DEPTH,CTDPRS,CTDTMP,CTDSAL,CTDSAL_FLAG_W,SALNTY,SALNTY_FLAG_W,CTDOXY,CTDOXY_FLAG_W,OXYGEN,OXYGEN_FLAG_W,SILCAT,SILCAT_FLAG_W,NITRAT,NITRAT_FLAG_W,NITRIT,NITRIT_FLAG_W,PHSPHT,PHSPHT_FLAG_W,NH4,NH4_FLAG_W,CFC-11,CFC-11_FLAG_W,CFC-12,CFC-12_FLAG_W,SF6,SF6_FLAG_W,TCARBN,TCARBN_FLAG_W,ALKALI,ALKALI_FLAG_W,PH_TOT,PH_TOT_FLAG_W,PH_TMP,N2O,N2O_FLAG_W,DELC14,DELC14_FLAG_W,C14ERR,DELC13,DELC13_FLAG_W,CTDBETA700,CTDBETA700_FLAG_W,CTDBEAMCP,CTDBEAMCP_FLAG_W,CTDFLUOR,CTDFLUOR_FLAG_W,PAR,PAR_FLAG_W,CTDXMISS,CTDXMISS_FLAG_W
,,,,,,,,,,,METERS,DBAR,ITS-90,PSS-78,,PSS-78,,UMOL/KG,,UMOL/KG,,UMOL/KG,,UMOL/KG,,UMOL/KG,,UMOL/KG,,UMOL/KG,,PMOL/KG,,PMOL/KG,,FMOL/KG,,UMOL/KG,,UMOL/KG,,,,DEG C,NMOL/KG,,/MILLE,,/MILLE,/MILLE,,VOLTS,,1/M,,MG/M^3,,UMOL/M^2/SEC,,%TRANS,
  096U20180111,  SR03,    74,  1,     36,     36,2,20180205,0343,-63.9002, 150.0005, 3628,     11.8,   0.9722,  33.6309,2,  33.6326,2,    341.0,2,    340.9,2,    28.60,2,    25.87,2,     0.23,2,     1.59,2,      0.2,2,    5.341,2,    2.910,2,     3.52,2,   2146.7,6,   2277.5,6,-999.0000,9,  -999.00,    14.82,2,   -999.0,9,   -999.0,  -999.00,9,   0.00326,2,    0.340,2,    2.094,2,   55.800,2,   91.844,2
  096U20180111,  SR03,    74,  1,     35,     35,2,20180205,0343,-63.9002, 150.0005, 3628,     11.7,   0.9720,  33.6309,2,-999.0000,9,    341.0,2,   -999.0,9,  -999.00,9,  -999.00,9,  -999.00,9,  -999.00,9,     -999,9, -999.000,9, -999.000,9,     -999,9,   -999.0,9,   -999.0,9,-999.0000,9,  -999.00,  -999.00,9,   -999.0,9,   -999.0,  -999.00,9,   0.00327,2,    0.344,2,    2.010,2,   57.700,2,   91.753,2
  096U20180111,  SR03,    74,  1,     34,     34,2,20180205,0343,-63.9002, 150.0005, 3628,     35.4,   0.9691,  33.6315,2,  33.6338,2,    340.7,2,    340.7,2,    28.70,2,    25.79,2,     0.23,2,     1.60,2,      0.2,2, -999.000,9, -999.000,9,     -999,9,   2146.1,2,   2278.4,6,-999.0000,9,  -999.00,  -999.00,9,   -999.0,9,   -999.0,  -999.00,9,   0.00316,2,    0.342,2,    2.670,2,    7.320,2,   91.805,2
  096U20180111,  SR03,    74,  1,     33,     33,2,20180205,0343,-63.9002, 150.0005, 3628,     35.4,   0.9688,  33.6313,2,-999.0000,9,    340.7,2,   -999.0,9,  -999.00,9,  -999.00,9,  -999.00,9,  -999.00,9,     -999,9, -999.000,9, -999.000,9,     -999,9,   -999.0,9,   -999.0,9,-999.0000,9,  -999.00,  -999.00,9,   -999.0,9,   -999.0,  -999.00,9,   0.00326,2,    0.336,2,    2.478,2,    7.430,2,   91.946,2
  096U20180111,  SR03,    74,  1,     32,     32,2,20180205,0343,-63.9002, 150.0005, 3628,     51.4,  -0.2053,  34.1587,2,  34.1640,2,    274.6,2,    274.6,2,    52.90,2,    30.52,2,     0.12,2,     2.15,2,     0.45,2,    3.483,2,    1.911,2,     2.24,2,   2208.9,2,   2310.3,2,-999.0000,9,  -999.00,    19.14,2,   -999.0,9,   -999.0,  -999.00,9,   0.00257,2,    0.245,2,    2.964,2,    2.440,2,   94.056,2
  096U20180111,  SR03,    74,  1,     31,     31,2,20180205,0343,-63.9002, 150.0005, 3628,     51.4,  -0.2378,  34.1664,2,-999.0000,9,    274.6,2,   -999.0,9,  -999.00,9,  -999.00,9,  -999.00,9,  -999.00,9,     -999,9, -999.000,9, -999.000,9,     -999,9,   -999.0,9,   -999.0,9,-999.0000,9,  -999.00,  -999.00,9,   -999.0,9,   -999.0,  -999.00,9,   0.00232,2,    0.240,2,    2.610,2,    2.460,2,   94.181,2
  096U20180111,  SR03,    74,  1,     30,     30,2,20180205,0343,-63.9002, 150.0005, 3628,     70.3,   1.2101,  34.4989,2,  34.5110,2,    211.6,2,    195.9,2,    73.90,2,    33.53,2,     0.23,2,     2.36,2,     0.12,2, -999.000,9, -999.000,9,     -999,9,   2250.5,2,   2331.6,2,-999.0000,9,  -999.00,  -999.00,9,   -999.0,9,   -999.0,  -999.00,9,   0.00131,2,    0.104,2,    1.452,2,    0.576,2,   97.438,2
  096U20180111,  SR03,    74,  1,     29,     29,2,20180205,0343,-63.9002, 150.0005, 3628,     96.3,   1.7056,  34.5840,2,  34.5887,2,    181.1,2,    179.4,2,    78.90,2,    33.90,2,     0.09,2,     2.35,2,    -0.01,2,    1.003,2,    0.538,2,     0.38,2,   2256.5,2,   2336.3,2,-999.0000,9,  -999.00,    22.84,2,   -999.0,9,   -999.0,  -999.00,9,   0.00060,2,    0.022,2,    0.210,2,    0.136,2,   99.440,2
  096U20180111,  SR03,    74,  1,     28,     28,2,20180205,0343,-63.9002, 150.0005, 3628,    120.6,   1.8218,  34.6170,2,  34.6168,2,    176.8,2,    176.8,2,    80.50,2,    33.71,2,     0.04,2,     2.33,2,    -0.01,2,    0.837,6,    0.448,6,     0.47,6,   2258.0,2,   2339.6,2,-999.0000,9,  -999.00,    23.07,6,   -999.0,9,   -999.0,  -999.00,9,   0.00055,2,    0.015,2,    0.072,2,    0.038,2,   99.637,2
  096U20180111,  SR03,    74,  1,     27,     27,2,20180205,0343,-63.9002, 150.0005, 3628,    150.5,   1.8927,  34.6471,2,-999.0000,9,    176.8,2,   -999.0,9,  -999.00,9,  -999.00,9,  -999.00,9,  -999.00,9,     -999,9, -999.000,9, -999.000,9,     -999,9,   -999.0,9,   -999.0,9,-999.0000,9,  -999.00,  -999.00,9,   -999.0,9,   -999.0,  -999.00,9,   0.00058,2,    0.014,2,    0.042,2,    0.000,2,   99.646,2
  096U20180111,  SR03,    74,  1,     26,     26,2,20180205,0343,-63.9002, 150.0005, 3628,    150.4,   1.8903,  34.6480,2,  34.6466,2,    176.8,2,    176.6,2,    81.90,2,    33.28,2,     0.02,2,     2.30,2,    -0.01,2,    0.683,2,    0.367,2,     0.39,2,   2256.4,2,   2341.2,2,-999.0000,9,  -999.00,    22.76,2,   -999.0,9,   -999.0,  -999.00,9,   0.00056,2,    0.014,2,    0.036,2,    0.000,2,   99.645,2
  096U20180111,  SR03,    74,  1,     25,     25,2,20180205,0343,-63.9002, 150.0005, 3628,    201.7,   1.9171,  34.6690,2,  34.6695,2,    178.0,2,    177.4,2,    83.10,2,    32.87,2,     0.02,2,     2.28,2,    -0.01,2,    0.586,2,    0.316,2,     0.22,2,   2256.7,2,   2343.8,2,-999.0000,9,  -999.00,    22.28,2,   -999.0,9,   -999.0,  -999.00,9,   0.00063,2,    0.016,2,    0.036,2,    0.000,2,   99.604,2
  096U20180111,  SR03,    74,  1,     24,     24,2,20180205,0343,-63.9002, 150.0005, 3628,    300.7,   1.8617,  34.6944,2,  34.6949,2,    182.0,2,    182.3,2,    84.40,2,    32.16,2,     0.01,2,     2.24,2,    -0.01,2,    0.503,2,    0.272,2,      0.2,2,   2255.3,2,   2345.5,2,-999.0000,9,  -999.00,    21.26,2,   -999.0,9,   -999.0,  -999.00,9,   0.00056,2,    0.013,2,    0.036,2,    0.000,2,   99.683,2
  096U20180111,  SR03,    74,  1,     23,     23,2,20180205,0343,-63.9002, 150.0005, 3628,    401.1,   1.7716,  34.7090,2,  34.7091,2,    186.8,2,    187.0,2,    85.80,2,    31.65,2,     0.01,2,     2.21,2,    -0.01,2,    0.478,2,    0.261,2,     0.28,2,   2252.2,2,   2347.8,2,-999.0000,9,  -999.00,    20.61,2,   -999.0,9,   -999.0,  -999.00,9,   0.00037,2,    0.004,2,    0.036,2,    0.000,2,   99.908,2
  096U20180111,  SR03,    74,  1,     22,     22,2,20180205,0343,-63.9002, 150.0005, 3628,    500.9,   1.6866,  34.7185,2,  34.7181,2,    190.9,2,    190.5,2,    87.30,2,    31.13,2,     0.01,2,     2.18,2,    -0.01,2,    0.458,2,    0.248,2,     0.12,2,   2252.8,2,   2349.1,2,-999.0000,9,  -999.00,    20.02,2,   -999.0,9,   -999.0,  -999.00,9,   0.00046,2,    0.002,2,    0.036,2,    0.000,2,   99.940,2
  096U20180111,  SR03,    74,  1,     21,     21,2,20180205,0343,-63.9002, 150.0005, 3628,    600.4,   1.6694,  34.7301,2,  34.7304,2,    194.0,2,    193.0,2,    89.00,2,    30.94,2,     0.01,2,     2.16,2,    -0.01,2,    0.374,2,    0.200,2,     0.16,2,   2252.0,2,   2352.1,2,-999.0000,9,  -999.00,    19.43,2,   -999.0,9,   -999.0,  -999.00,9,   0.00038,2,    0.002,2,    0.036,2,    0.000,2,   99.942,2
  096U20180111,  SR03,    74,  1,     20,     20,2,20180205,0343,-63.9002, 150.0005, 3628,    701.2,   1.6313,  34.7377,2,  34.7382,2,    196.0,2,    194.7,2,    91.00,2,    30.69,2,     0.01,2,     2.14,2,    -0.01,2, -999.000,9, -999.000,9,     -999,9,   -999.0,9,   -999.0,9,-999.0000,9,  -999.00,  -999.00,9,   -999.0,9,   -999.0,  -999.00,9,   0.00037,2,    0.003,2,    0.036,2,    0.000,2,   99.921,2
  096U20180111,  SR03,    74,  1,     19,     19,2,20180205,0343,-63.9002, 150.0005, 3628,    800.2,   1.5273,  34.7366,2,  34.7369,2,    197.5,2,    197.0,2,    93.50,2,    30.72,2,     0.01,2,     2.15,2,    -0.01,2,    0.302,2,    0.168,2,     0.02,2,   2251.1,6,   2354.7,6,-999.0000,9,  -999.00,    19.06,2,   -999.0,9,   -999.0,  -999.00,9,   0.00034,2,    0.002,2,    0.036,2,    0.000,2,   99.947,2
  096U20180111,  SR03,    74,  1,     18,     18,2,20180205,0343,-63.9002, 150.0005, 3628,    900.0,   1.4572,  34.7369,2,  34.7374,2,    199.0,2,    198.2,2,    95.90,2,    30.76,2,     0.01,2,     2.14,2,    -0.01,2,    0.281,2,    0.143,2,     0.14,2,   2251.0,2,   2356.1,2,-999.0000,9,  -999.00,    18.90,2,   -999.0,9,   -999.0,  -999.00,9,   0.00034,2,    0.001,2,    0.036,2,    0.000,2,   99.982,2
  096U20180111,  SR03,    74,  1,     17,     17,2,20180205,0343,-63.9002, 150.0005, 3628,   1001.1,   1.3735,  34.7344,2,  34.7351,2,    200.3,2,    199.7,2,    97.90,2,    30.80,2,     0.01,2,     2.15,2,    -0.01,2,    0.275,2,    0.149,2,     0.21,2,   2253.1,2,   2356.7,2,-999.0000,9,  -999.00,    18.77,2,   -999.0,9,   -999.0,  -999.00,9,   0.00033,2,    0.000,2,    0.036,2,    0.000,2,   99.989,2
  096U20180111,  SR03,    74,  1,     16,     16,2,20180205,0343,-63.9002, 150.0005, 3628,   1001.1,   1.3730,  34.7344,2,-999.0000,9,    200.3,2,   -999.0,9,  -999.00,9,  -999.00,9,  -999.00,9,  -999.00,9,     -999,9, -999.000,9, -999.000,9,     -999,9,   -999.0,9,   -999.0,9,-999.0000,9,  -999.00,  -999.00,9,   -999.0,9,   -999.0,  -999.00,9,   0.00034,2,    0.000,2,    0.036,2,    0.000,2,   99.993,2
  096U20180111,  SR03,    74,  1,     15,     15,2,20180205,0343,-63.9002, 150.0005, 3628,   1150.7,   1.2410,  34.7289,2,  34.7290,2,    202.0,2,    202.0,2,   101.60,2,    30.97,2,     0.01,2,     2.16,2,    -0.01,2,    0.290,2,    0.155,2,     0.12,2,   2254.6,2,   2358.3,2,-999.0000,9,  -999.00,    18.63,2,   -999.0,9,   -999.0,  -999.00,9,   0.00031,2,   -0.001,2,    0.036,2,    0.000,2,  100.013,2
  096U20180111,  SR03,    74,  1,     14,     14,2,20180205,0343,-63.9002, 150.0005, 3628,   1300.4,   1.1275,  34.7244,2,  34.7303,4,    202.9,2,    203.0,2,   104.80,2,    31.10,2,     0.01,2,     2.17,2,    -0.01,2,    0.284,2,    0.151,2,     0.08,2,   -999.0,9,   -999.0,9,-999.0000,9,  -999.00,    18.71,2,   -999.0,9,   -999.0,  -999.00,9,   0.00031,2,   -0.001,2,    0.036,2,    0.000,2,  100.012,2
  096U20180111,  SR03,    74,  1,     13,     13,2,20180205,0343,-63.9002, 150.0005, 3628,   1451.2,   1.0131,  34.7191,2,  34.7194,2,    204.3,2,    204.6,2,   108.60,2,    31.34,2,     0.01,2,     2.19,2,    -0.01,2, -999.000,9, -999.000,9,     -999,9,   2255.7,2,   2358.9,2,-999.0000,9,  -999.00,  -999.00,9,   -999.0,9,   -999.0,  -999.00,9,   0.00028,2,   -0.002,2,    0.036,2,    0.000,2,  100.050,2
  096U20180111,  SR03,    74,  1,     12,     12,2,20180205,0343,-63.9002, 150.0005, 3628,   1600.9,   0.9098,  34.7146,2,  34.7458,4,    205.6,2,    205.7,2,   112.10,2,    31.48,2,     0.01,2,     2.21,2,    -0.01,2,    0.276,2,    0.140,2,     0.12,2,   2257.5,2,   2361.6,2,-999.0000,9,  -999.00,    18.12,2,   -999.0,9,   -999.0,  -999.00,9,   0.00032,2,   -0.001,2,    0.036,2,    0.000,2,  100.033,2
  096U20180111,  SR03,    74,  1,     11,     11,2,20180205,0343,-63.9002, 150.0005, 3628,   1750.7,   0.8107,  34.7100,2,  34.7101,2,    207.2,2,    207.1,2,   115.10,2,    31.66,2,     0.01,2,     2.22,2,    -0.01,2,    0.288,2,    0.146,2,      0.1,2,   2258.5,2,   2360.5,2,-999.0000,9,  -999.00,    18.51,2,   -999.0,9,   -999.0,  -999.00,9,   0.00027,2,   -0.003,2,    0.036,2,    0.000,2,  100.065,2
  096U20180111,  SR03,    74,  1,     10,     10,2,20180205,0343,-63.9002, 150.0005, 3628,   2000.6,   0.6070,  34.6976,2,  34.6986,2,    210.4,2,    210.8,2,   118.50,2,    31.94,2,     0.01,2,     2.24,2,    -0.01,2, -999.000,9, -999.000,9,     -999,9,   -999.0,9,   -999.0,9,-999.0000,9,  -999.00,  -999.00,9,   -999.0,9,   -999.0,  -999.00,9,   0.00025,2,   -0.003,2,    0.030,2,    0.000,2,  100.068,2
  096U20180111,  SR03,    74,  1,      9,      9,2,20180205,0343,-63.9002, 150.0005, 3628,   2251.3,   0.4440,  34.6890,2,  34.6891,2,    213.9,2,    214.5,2,   121.20,2,    32.05,2,     0.01,2,     2.25,2,    -0.01,2,    0.562,2,    0.292,2,     0.19,2,   2259.3,2,   2360.8,2,-999.0000,9,  -999.00,    18.35,2,   -999.0,9,   -999.0,  -999.00,9,   0.00028,2,   -0.003,2,    0.036,2,    0.000,2,  100.071,2
  096U20180111,  SR03,    74,  1,      8,      8,2,20180205,0343,-63.9002, 150.0005, 3628,   2500.1,   0.3338,  34.6851,2,  34.6857,2,    216.9,2,    217.6,2,   124.20,2,    32.15,2,     0.01,2,     2.25,2,    -0.01,2,    0.640,2,    0.328,2,      0.1,2,   2259.8,2,   2360.9,2,-999.0000,9,  -999.00,    18.36,2,   -999.0,9,   -999.0,  -999.00,9,   0.00027,2,   -0.003,2,    0.036,2,    0.000,2,  100.074,2
  096U20180111,  SR03,    74,  1,      7,      7,2,20180205,0343,-63.9002, 150.0005, 3628,   2749.0,   0.2287,  34.6804,2,  34.6811,2,    220.3,2,    220.8,2,   125.80,2,    32.15,2,     0.00,2,     2.26,2,    -0.01,2, -999.000,9, -999.000,9,     -999,9,   -999.0,9,   -999.0,9,-999.0000,9,  -999.00,  -999.00,9,   -999.0,9,   -999.0,  -999.00,9,   0.00025,2,   -0.003,2,    0.036,2,    0.000,2,  100.070,2
  096U20180111,  SR03,    74,  1,      6,      6,2,20180205,0343,-63.9002, 150.0005, 3628,   3001.3,   0.1398,  34.6762,2,  34.6765,2,    223.9,2,    224.3,2,   125.90,2,    32.06,2,     0.01,2,     2.25,2,    -0.01,2,    0.999,2,    0.516,2,     0.51,2,   2258.7,2,   2359.0,2,-999.0000,9,  -999.00,    18.26,2,   -999.0,9,   -999.0,  -999.00,9,   0.00024,2,   -0.003,2,    0.036,2,    0.000,2,  100.065,2
  096U20180111,  SR03,    74,  1,      5,      5,2,20180205,0343,-63.9002, 150.0005, 3628,   3250.2,   0.0438,  34.6704,2,  34.6704,2,    228.0,2,    228.0,2,   125.40,2,    32.01,2,     0.01,2,     2.25,2,    -0.01,2,    1.260,2,    0.653,2,     0.46,2,   -999.0,9,   -999.0,9,-999.0000,9,  -999.00,    18.52,2,   -999.0,9,   -999.0,  -999.00,9,   0.00023,2,   -0.002,2,    0.036,2,    0.000,2,  100.062,2
  096U20180111,  SR03,    74,  1,      4,      4,2,20180205,0343,-63.9002, 150.0005, 3628,   3450.4,  -0.0007,  34.6733,2,  34.6741,2,    231.4,2,    231.4,2,   110.10,2,    31.76,2,     0.01,2,     2.23,2,    -0.01,2,    1.733,2,    0.927,2,     0.81,2,   2258.3,6,   2356.1,6,-999.0000,9,  -999.00,    18.25,2,   -999.0,9,   -999.0,  -999.00,9,   0.00025,2,   -0.001,2,    0.036,2,    0.000,2,  100.035,2
  096U20180111,  SR03,    74,  1,      3,      3,2,20180205,0343,-63.9002, 150.0005, 3628,   3600.8,  -0.0745,  34.6751,2,  34.6756,2,    234.4,2,    234.7,2,   108.10,2,    31.67,2,     0.01,2,     2.23,2,    -0.01,2,    1.996,2,    1.088,2,        1,2,   -999.0,9,   -999.0,9,-999.0000,9,  -999.00,    18.72,2,   -999.0,9,   -999.0,  -999.00,9,   0.00031,2,    0.003,2,    0.036,2,    0.000,2,   99.925,2
  096U20180111,  SR03,    74,  1,      2,      2,2,20180205,0343,-63.9002, 150.0005, 3628,   3693.8,  -0.1213,  34.6864,2,-999.0000,9,    236.7,2,   -999.0,9,  -999.00,9,  -999.00,9,  -999.00,9,  -999.00,9,     -999,9, -999.000,9, -999.000,9,     -999,9,   -999.0,9,   -999.0,9,-999.0000,9,  -999.00,  -999.00,9,   -999.0,9,   -999.0,  -999.00,9,   0.00044,2,    0.011,2,    0.042,2,    0.000,2,   99.729,2
  096U20180111,  SR03,    74,  1,      1,      1,2,20180205,0343,-63.9002, 150.0005, 3628,   3693.8,  -0.1208,  34.6862,2,  34.6850,2,    236.7,2,    237.0,2,   104.20,2,    31.52,2,     0.01,2,     2.23,2,    -0.01,2,    2.152,2,    1.177,2,     1.12,2,   2258.5,2,   2355.4,2,-999.0000,9,  -999.00,    18.41,2,   -999.0,9,   -999.0,  -999.00,9,   0.00050,2,    0.011,2,    0.036,2,    0.000,2,   99.733,2