BOTTLE,20230418CCHSIOENA
EXPOCODE,SECT_ID,STNNBR,CASTNO,SAMPNO,BTLNBR,BTLNBR_FLAG_W,DATE,TIME,LATITUDE,LONGITUDE,DEPTH,CTDPRS,CTDTMP,CTDSAL,CTDSAL_FLAG_W,SALNTY,SALNTY_FLAG_W,CTDOXY,CTDOXY_FLAG_W,OXYGEN,OXYGEN_FLAG_W,SILCAT,SILCAT_FLAG_W,NITRAT,NITRAT_FLAG_W,NITRIT,NITRIT_FLAG_W,PHSPHT,PHSPHT_FLAG_W,NH4,NH4_FLAG_W,CFC-11,CFC-11_FLAG_W,CFC-12,CFC-12_FLAG_W,SF6,SF6_FLAG_W,TCARBN,TCARBN_FLAG_W,ALKALI,ALKALI_FLAG_W,PH_TOT,PH_TOT_FLAG_W,PH_TMP,N2O,N2O_FLAG_W,DELC14,DELC14_FLAG_W,C14ERR,DELC13,DELC13_FLAG_W,CTDBETA700,CTDBETA700_FLAG_W,CTDBEAMCP,CTDBEAMCP_FLAG_W,CTDFLUOR,CTDFLUOR_FLAG_W,PAR,PAR_FLAG_W,CTDXMISS,CTDXMISS_FLAG_W
,,,,,,,,,,,METERS,DBAR,ITS-90,PSS-78,,PSS-78,,UMOL/KG,,UMOL/KG,,UMOL/KG,,UMOL/KG,,UMOL/KG,,UMOL/KG,,UMOL/KG,,PMOL/KG,,PMOL/KG,,FMOL/KG,,UMOL/KG,,UMOL/KG,,,,DEG C,NMOL/KG,,/MILLE,,/MILLE,/MILLE,,VOLTS,,1/M,,MG/M^3,,UMOL/M^2/SEC,,%TRANS,
  096U20180111,  SR03,    55,  1,     36,     36,2,20180131,0418,-65.0698, 139.8593, 2458,     11.4,  -0.2314,  33.7897,2,  33.7910,2,    346.9,2,    346.6,2,    46.10,2,    27.06,2,     0.17,2,     1.82,2,     0.49,2,    5.518,2,    3.042,2,     3.55,2,   2166.6,6,   2286.9,6,-999.0000,9,  -999.00,    15.11,2,   -999.0,9,   -999.0,  -999.00,9,   0.00164,2,    0.220,2,    0.570,2,   79.400,2,   94.660,2
  096U20180111,  SR03,    55,  1,     35,     35,2,20180131,0418,-65.0698, 139.8593, 2458,     11.4,  -0.2317,  33.7899,2,-999.0000,9,    346.9,2,   -999.0,9,  -999.00,9,  -999.00,9,  -999.00,9,  -999.00,9,     -999,9, -999.000,9, -999.000,9,     -999,9,   -999.0,9,   -999.0,9,-999.0000,9,  -999.00,  -999.00,9,   -999.0,9,   -999.0,  -999.00,9,   0.00159,2,    0.221,2,    0.534,2,   87.200,2,   94.634,2
  096U20180111,  SR03,    55,  1,     34,     34,2,20180131,0418,-65.0698, 139.8593, 2458,     30.7,  -0.2624,  33.7935,2,  33.7951,2,    346.8,2,    346.1,2,    46.40,2,    27.13,2,     0.16,2,     1.84,2,     0.53,2, -999.000,9, -999.000,9,     -999,9,   -999.0,9,   -999.0,9,-999.0000,9,  -999.00,  -999.00,9,   -999.0,9,   -999.0,  -999.00,9,   0.00150,2,    0.217,2,    0.882,2,   28.600,2,   94.711,2
  096U20180111,  SR03,    55,  1,     33,     33,2,20180131,0418,-65.0698, 139.8593, 2458,     51.1,  -0.4141,  33.8001,2,  33.8030,2,    345.7,2,    345.8,2,    46.60,2,    27.16,2,     0.16,2,     1.86,2,     0.58,2, -999.000,9, -999.000,9,     -999,9,   2168.2,2,   2288.2,2,-999.0000,9,  -999.00,  -999.00,9,   -999.0,9,   -999.0,  -999.00,9,   0.00157,2,    0.211,2,    1.272,2,    8.300,2,   94.869,2
  096U20180111,  SR03,    55,  1,     32,     32,2,20180131,0418,-65.0698, 139.8593, 2458,     61.3,  -0.5657,  33.8407,2,  34.0256,2,    344.5,2,    334.3,2,    52.30,2,    28.41,2,     0.14,2,     1.99,2,     0.61,2, -999.000,9, -999.000,9,     -999,9,   -999.0,9,   -999.0,9,-999.0000,9,  -999.00,  -999.00,9,   -999.0,9,   -999.0,  -999.00,9,   0.00157,2,    0.185,2,    1.404,2,    4.450,2,   95.480,2
  096U20180111,  SR03,    55,  1,     31,     31,2,20180131,0418,-65.0698, 139.8593, 2458,     75.9,  -1.7164,  34.2594,2,  34.3228,2,    323.8,2,    318.6,2,    58.70,2,    30.04,2,     0.13,2,     2.13,2,     0.42,2,    4.851,2,    2.697,2,     2.96,2,   2213.9,2,   2318.4,2,-999.0000,9,  -999.00,    16.69,2,   -999.0,9,   -999.0,  -999.00,9,   0.00073,2,    0.044,2,    0.522,2,    2.080,2,   98.895,2
  096U20180111,  SR03,    55,  1,     30,     30,2,20180131,0418,-65.0698, 139.8593, 2458,    111.6,  -1.7607,  34.3395,2,-999.0000,9,    307.4,2,   -999.0,9,  -999.00,9,  -999.00,9,  -999.00,9,  -999.00,9,     -999,9, -999.000,9, -999.000,9,     -999,9,   -999.0,9,   -999.0,9,-999.0000,9,  -999.00,  -999.00,9,   -999.0,9,   -999.0,  -999.00,9,   0.00049,2,    0.012,2,    0.144,2,    0.493,2,   99.691,2
  096U20180111,  SR03,    55,  1,     29,     29,2,20180131,0418,-65.0698, 139.8593, 2458,    111.6,  -1.7610,  34.3394,2,  34.3434,2,    307.4,2,    309.1,2,    61.60,2,    30.81,2,     0.11,2,     2.15,2,     0.03,2, -999.000,9, -999.000,9,     -999,9,   2221.0,2,   2321.7,2,-999.0000,9,  -999.00,  -999.00,9,   -999.0,9,   -999.0,  -999.00,9,   0.00046,2,    0.011,2,    0.144,2,    0.489,2,   99.721,2
  096U20180111,  SR03,    55,  1,     28,     28,2,20180131,0418,-65.0698, 139.8593, 2458,    161.6,  -1.5662,  34.3865,2,  34.3929,2,    294.7,2,    297.1,2,    65.50,2,    31.15,2,     0.03,2,     2.16,2,        0,2, -999.000,9, -999.000,9,     -999,9,   -999.0,9,   -999.0,9,-999.0000,9,  -999.00,  -999.00,9,   -999.0,9,   -999.0,  -999.00,9,   0.00044,2,    0.007,2,    0.078,2,    0.068,2,   99.837,2
  096U20180111,  SR03,    55,  1,     27,     27,2,20180131,0418,-65.0698, 139.8593, 2458,    211.3,  -0.7599,  34.4821,2,  34.4863,2,    260.5,2,    264.3,2,    74.60,2,    31.55,2,     0.02,2,     2.19,2,        0,2, -999.000,9, -999.000,9,     -999,9,   -999.0,9,   -999.0,9,-999.0000,9,  -999.00,  -999.00,9,   -999.0,9,   -999.0,  -999.00,9,   0.00040,2,    0.005,2,    0.054,2,    0.000,2,   99.867,2
  096U20180111,  SR03,    55,  1,     26,     26,2,20180131,0418,-65.0698, 139.8593, 2458,    261.4,   0.1040,  34.5836,2,  34.5849,2,    231.5,2,    234.3,2,    82.90,2,    31.73,2,     0.01,2,     2.20,2,        0,2, -999.000,9, -999.000,9,     -999,9,   2245.6,2,   2340.9,2,-999.0000,9,  -999.00,  -999.00,9,   -999.0,9,   -999.0,  -999.00,9,   0.00041,2,    0.006,2,    0.054,2,    0.000,2,   99.847,2
  096U20180111,  SR03,    55,  1,     25,     25,2,20180131,0418,-65.0698, 139.8593, 2458,    311.1,   0.5877,  34.6395,2,  34.6408,2,    220.2,2,    219.5,2,    87.80,2,    31.61,2,     0.00,2,     2.20,2,        0,2, -999.000,9, -999.000,9,     -999,9,   -999.0,9,   -999.0,9,-999.0000,9,  -999.00,  -999.00,9,   -999.0,9,   -999.0,  -999.00,9,   0.00041,2,    0.005,2,    0.054,2,    0.000,2,   99.865,2
  096U20180111,  SR03,    55,  1,     24,     24,2,20180131,0418,-65.0698, 139.8593, 2458,    361.3,   0.7275,  34.6627,2,-999.0000,9,    215.8,2,    215.0,2,    91.20,2,    31.56,2,     0.00,2,     2.19,2,    -0.01,2,    1.191,2,    0.652,2,     0.63,2,   2251.0,2,   2349.2,6,-999.0000,9,  -999.00,    19.36,2,   -999.0,9,   -999.0,  -999.00,9,   0.00038,2,    0.003,2,    0.054,2,    0.000,2,   99.924,2
  096U20180111,  SR03,    55,  1,     23,     23,2,20180131,0418,-65.0698, 139.8593, 2458,    410.8,   0.8427,  34.6807,2,  34.6805,2,    213.2,2,    211.9,2,    93.80,2,    31.47,2,     0.00,2,     2.19,2,    -0.01,2, -999.000,9, -999.000,9,     -999,9,   -999.0,9,   -999.0,9,-999.0000,9,  -999.00,  -999.00,9,   -999.0,9,   -999.0,  -999.00,9,   0.00041,2,    0.001,2,    0.042,2,    0.000,2,   99.980,2
  096U20180111,  SR03,    55,  1,     22,     22,2,20180131,0418,-65.0698, 139.8593, 2458,    521.4,   0.8722,  34.6955,2,  34.6959,2,    208.5,2,    208.6,2,    99.40,2,    31.59,2,     0.00,2,     2.20,2,    -0.01,2, -999.000,9, -999.000,9,     -999,9,   -999.0,9,   -999.0,9,-999.0000,9,  -999.00,  -999.00,9,   -999.0,9,   -999.0,  -999.00,9,   0.00032,2,   -0.001,2,    0.042,2,    0.000,2,  100.011,2
  096U20180111,  SR03,    55,  1,     21,     21,2,20180131,0418,-65.0698, 139.8593, 2458,    626.2,   0.8150,  34.6990,2,  34.6999,2,    208.0,2,    207.9,2,   104.10,2,    31.75,2,     0.00,2,     2.21,2,    -0.01,2,    0.620,2,    0.335,2,     0.27,2,   2255.9,2,   2355.9,2,-999.0000,9,  -999.00,    18.63,2,   -999.0,9,   -999.0,  -999.00,9,   0.00030,2,   -0.001,2,    0.036,2,    0.000,2,  100.029,2
  096U20180111,  SR03,    55,  1,     20,     20,2,20180131,0418,-65.0698, 139.8593, 2458,    736.6,   0.8162,  34.7061,2,  34.7057,2,    207.8,2,    207.4,2,   108.20,2,    31.82,2,     0.00,2,     2.21,2,    -0.01,2, -999.000,9, -999.000,9,     -999,9,   -999.0,9,   -999.0,9,-999.0000,9,  -999.00,  -999.00,9,   -999.0,9,   -999.0,  -999.00,9,   0.00036,2,   -0.002,2,    0.036,2,    0.000,2,  100.063,2
  096U20180111,  SR03,    55,  1,     19,     19,2,20180131,0418,-65.0698, 139.8593, 2458,    736.5,   0.8163,  34.7061,2,-999.0000,9,    207.8,2,   -999.0,9,  -999.00,9,  -999.00,9,  -999.00,9,  -999.00,9,     -999,9, -999.000,9, -999.000,9,     -999,9,   -999.0,9,   -999.0,9,-999.0000,9,  -999.00,  -999.00,9,   -999.0,9,   -999.0,  -999.00,9,   0.00030,2,   -0.002,2,    0.036,2,    0.000,2,  100.051,2
  096U20180111,  SR03,    55,  1,     18,     18,2,20180131,0418,-65.0698, 139.8593, 2458,    846.9,   0.7395,  34.7031,2,  34.7033,2,    208.5,2,    208.5,2,   111.00,2,    31.92,2,    -0.01,2,     2.23,2,    -0.01,2, -999.000,9, -999.000,9,     -999,9,   -999.0,9,   -999.0,9,-999.0000,9,  -999.00,  -999.00,9,   -999.0,9,   -999.0,  -999.00,9,   0.00028,2,   -0.002,2,    0.036,2,    0.000,2,  100.057,2
  096U20180111,  SR03,    55,  1,     17,     17,2,20180131,0418,-65.0698, 139.8593, 2458,    950.9,   0.6328,  34.6960,2,  34.7001,4,    209.7,2,    209.7,2,   112.20,2,    32.02,2,    -0.01,2,     2.23,2,    -0.01,2,    0.532,2,    0.288,2,     0.17,2,   2258.2,2,   2357.5,2,-999.0000,9,  -999.00,    18.27,2,   -999.0,9,   -999.0,  -999.00,9,   0.00031,2,   -0.002,2,    0.036,2,    0.000,2,  100.062,2
  096U20180111,  SR03,    55,  1,     16,     16,2,20180131,0418,-65.0698, 139.8593, 2458,   1050.9,   0.4918,  34.6864,2,  34.6870,2,    212.0,2,    211.7,2,   112.90,2,    32.24,2,    -0.01,2,     2.25,2,    -0.01,2,    0.689,2,    0.377,2,     0.23,2,   -999.0,9,   -999.0,9,-999.0000,9,  -999.00,    18.59,2,   -999.0,9,   -999.0,  -999.00,9,   0.00031,2,   -0.002,2,    0.036,2,    0.000,2,  100.048,2
  096U20180111,  SR03,    55,  1,     15,     15,2,20180131,0418,-65.0698, 139.8593, 2458,   1150.7,   0.4149,  34.6847,2,  34.7078,4,    214.0,2,    213.6,2,   114.90,2,    32.32,2,    -0.01,2,     2.26,2,    -0.01,2, -999.000,9, -999.000,9,     -999,9,   -999.0,9,   -999.0,9,-999.0000,9,  -999.00,  -999.00,9,   -999.0,9,   -999.0,  -999.00,9,   0.00030,2,   -0.002,2,    0.036,2,    0.000,2,  100.056,2
  096U20180111,  SR03,    55,  1,     14,     14,2,20180131,0418,-65.0698, 139.8593, 2458,   1250.4,   0.3342,  34.6818,2,  34.6815,2,    215.5,2,    215.6,2,   115.40,2,    32.28,2,     0.00,2,     2.26,2,    -0.01,2, -999.000,9, -999.000,9,     -999,9,   -999.0,9,   -999.0,9,-999.0000,9,  -999.00,  -999.00,9,   -999.0,9,   -999.0,  -999.00,9,   0.00031,2,   -0.003,2,    0.030,2,    0.000,2,  100.078,2
  096U20180111,  SR03,    55,  1,     13,     13,2,20180131,0418,-65.0698, 139.8593, 2458,   1350.2,   0.2904,  34.6806,2,  34.6807,2,    217.3,2,    217.2,2,   116.00,2,    32.31,2,     0.00,2,     2.26,2,    -0.01,2,    0.842,2,    0.458,2,     0.38,2,   2259.6,2,   2358.8,2,-999.0000,9,  -999.00,    18.54,2,   -999.0,9,   -999.0,  -999.00,9,   0.00028,2,   -0.004,2,    0.036,2,    0.000,2,  100.087,2
  096U20180111,  SR03,    55,  1,     12,     12,2,20180131,0418,-65.0698, 139.8593, 2458,   1451.2,   0.2377,  34.6813,2,  34.6809,2,    219.0,2,    218.6,2,   119.10,2,    32.33,2,     0.00,2,     2.26,2,    -0.01,2, -999.000,9, -999.000,9,     -999,9,   -999.0,9,   -999.0,9,-999.0000,9,  -999.00,  -999.00,9,   -999.0,9,   -999.0,  -999.00,9,   0.00063,2,   -0.004,2,    0.030,2,    0.000,2,  100.101,2
  096U20180111,  SR03,    55,  1,     11,     11,2,20180131,0418,-65.0698, 139.8593, 2458,   1649.7,   0.1300,  34.6778,2,  34.6775,2,    222.0,2,    222.2,2,   120.20,2,    32.38,2,    -0.01,2,     2.26,2,    -0.01,2, -999.000,9, -999.000,9,     -999,9,   -999.0,9,   -999.0,9,-999.0000,9,  -999.00,  -999.00,9,   -999.0,9,   -999.0,  -999.00,9,   0.00025,2,   -0.005,2,    0.036,2,    0.000,2,  100.114,2
  096U20180111,  SR03,    55,  1,     10,     10,2,20180131,0418,-65.0698, 139.8593, 2458,   1850.3,  -0.0044,  34.6712,2,  34.6713,2,    227.4,2,    227.3,2,   118.70,2,    32.26,2,    -0.01,2,     2.25,2,    -0.01,2, -999.000,9, -999.000,9,     -999,9,   -999.0,9,   -999.0,9,-999.0000,9,  -999.00,  -999.00,9,   -999.0,9,   -999.0,  -999.00,9,   0.00030,2,   -0.004,2,    0.036,2,    0.000,2,  100.105,2
  096U20180111,  SR03,    55,  1,      9,      9,2,20180131,0418,-65.0698, 139.8593, 2458,   2050.1,  -0.0402,  34.6700,2,  34.6698,2,    227.8,2,    228.6,2,   122.70,2,    32.30,2,    -0.01,2,     2.26,2,    -0.01,2,    1.258,2,    0.655,2,     0.48,2,   2258.7,2,   2356.8,2,-999.0000,9,  -999.00,    18.21,2,   -999.0,9,   -999.0,  -999.00,9,   0.00026,2,   -0.004,2,    0.036,2,    0.000,2,  100.111,2
  096U20180111,  SR03,    55,  1,      8,      8,2,20180131,0418,-65.0698, 139.8593, 2458,   2150.7,  -0.1222,  34.6672,2,  34.6670,2,    232.7,2,    232.5,2,   114.30,2,    32.08,2,     0.00,2,     2.25,2,    -0.01,2, -999.000,9, -999.000,9,     -999,9,   -999.0,9,   -999.0,9,-999.0000,9,  -999.00,  -999.00,9,   -999.0,9,   -999.0,  -999.00,9,   0.00028,2,   -0.003,2,    0.036,2,    0.000,2,  100.066,2
  096U20180111,  SR03,    55,  1,      7,      7,2,20180131,0418,-65.0698, 139.8593, 2458,   2251.6,  -0.1663,  34.6652,2,  34.6647,2,    234.5,2,    234.4,2,   110.90,2,    32.04,2,     0.00,2,     2.24,2,    -0.01,2, -999.000,9, -999.000,9,     -999,9,   -999.0,9,   -999.0,9,-999.0000,9,  -999.00,  -999.00,9,   -999.0,9,   -999.0,  -999.00,9,   0.00058,2,   -0.001,2,    0.036,2,    0.000,2,  100.031,2
  096U20180111,  SR03,    55,  1,      6,      6,2,20180131,0418,-65.0698, 139.8593, 2458,   2351.2,  -0.2381,  34.6636,2,  34.6632,2,    237.8,2,    237.7,2,   106.20,2,    31.92,2,     0.00,2,     2.23,2,    -0.01,2,    2.005,2,    1.095,2,     1.07,2,   2256.9,2,   2352.8,2,-999.0000,9,  -999.00,    18.10,2,   -999.0,9,   -999.0,  -999.00,9,   0.00033,2,    0.001,2,    0.036,2,    0.000,2,   99.972,2
  096U20180111,  SR03,    55,  1,      5,      5,2,20180131,0418,-65.0698, 139.8593, 2458,   2400.6,  -0.2599,  34.6623,2,-999.0000,9,    238.3,2,   -999.0,9,  -999.00,9,  -999.00,9,  -999.00,9,  -999.00,9,     -999,9, -999.000,9, -999.000,9,     -999,9,   -999.0,9,   -999.0,9,-999.0000,9,  -999.00,  -999.00,9,   -999.0,9,   -999.0,  -999.00,9,   0.00036,2,    0.002,2,    0.036,2,    0.000,2,   99.956,2
  096U20180111,  SR03,    55,  1,      4,      4,2,20180131,0418,-65.0698, 139.8593, 2458,   2400.5,  -0.2586,  34.6625,2,  34.6629,2,    238.3,2,    238.9,2,   104.90,2,    31.93,2,     0.00,2,     2.23,2,        0,2,    2.068,2,    1.131,2,     1.12,2,   2257.2,2,   2352.8,2,-999.0000,9,  -999.00,    18.46,2,   -999.0,9,   -999.0,  -999.00,9,   0.00035,2,    0.002,2,    0.036,2,    0.000,2,   99.958,2
  096U20180111,  SR03,    55,  1,      3,      3,2,20180131,0418,-65.0698, 139.8593, 2458,   2450.8,  -0.2724,  34.6620,2,  34.6622,2,    239.6,2,    239.3,2,   104.50,2,    31.88,2,     0.00,2,     2.23,2,        0,2,    2.099,2,    1.137,2,     1.09,2,   -999.0,9,   -999.0,9,-999.0000,9,  -999.00,    18.17,2,   -999.0,9,   -999.0,  -999.00,9,   0.00042,2,    0.003,2,    0.036,2,    0.000,2,   99.935,2
  096U20180111,  SR03,    55,  1,      2,      2,2,20180131,0418,-65.0698, 139.8593, 2458,   2502.3,  -0.2560,  34.6647,2,-999.0000,9,    238.9,2,   -999.0,9,  -999.00,9,  -999.00,9,  -999.00,9,  -999.00,9,     -999,9, -999.000,9, -999.000,9,     -999,9,   -999.0,9,   -999.0,9,-999.0000,9,  -999.00,  -999.00,9,   -999.0,9,   -999.0,  -999.00,9,   0.00036,2,    0.003,2,    0.030,2,    0.000,2,   99.929,2
  096U20180111,  SR03,    55,  1,      1,      1,2,20180131,0418,-65.0698, 139.8593, 2458,   2502.4,  -0.2563,  34.6645,2,  34.6635,2,    238.9,2,    238.7,2,   105.00,2,    31.88,2,     0.00,2,     2.23,2,        0,2,    2.105,2,    1.142,2,     1.07,2,   2256.0,2,   2354.4,2,-999.0000,9,  -999.00,    18.25,2,   -999.0,9,   -999.0,  -999.00,9,   0.00036,2,    0.002,2,    0.036,2,    0.000,2,   99.942,2