BOTTLE,20230418CCHSIOENA
EXPOCODE,SECT_ID,STNNBR,CASTNO,SAMPNO,BTLNBR,BTLNBR_FLAG_W,DATE,TIME,LATITUDE,LONGITUDE,DEPTH,CTDPRS,CTDTMP,CTDSAL,CTDSAL_FLAG_W,SALNTY,SALNTY_FLAG_W,CTDOXY,CTDOXY_FLAG_W,OXYGEN,OXYGEN_FLAG_W,SILCAT,SILCAT_FLAG_W,NITRAT,NITRAT_FLAG_W,NITRIT,NITRIT_FLAG_W,PHSPHT,PHSPHT_FLAG_W,NH4,NH4_FLAG_W,CFC-11,CFC-11_FLAG_W,CFC-12,CFC-12_FLAG_W,SF6,SF6_FLAG_W,TCARBN,TCARBN_FLAG_W,ALKALI,ALKALI_FLAG_W,PH_TOT,PH_TOT_FLAG_W,PH_TMP,N2O,N2O_FLAG_W,DELC14,DELC14_FLAG_W,C14ERR,DELC13,DELC13_FLAG_W,CTDBETA700,CTDBETA700_FLAG_W,CTDBEAMCP,CTDBEAMCP_FLAG_W,CTDFLUOR,CTDFLUOR_FLAG_W,PAR,PAR_FLAG_W,CTDXMISS,CTDXMISS_FLAG_W
,,,,,,,,,,,METERS,DBAR,ITS-90,PSS-78,,PSS-78,,UMOL/KG,,UMOL/KG,,UMOL/KG,,UMOL/KG,,UMOL/KG,,UMOL/KG,,UMOL/KG,,PMOL/KG,,PMOL/KG,,FMOL/KG,,UMOL/KG,,UMOL/KG,,,,DEG C,NMOL/KG,,/MILLE,,/MILLE,/MILLE,,VOLTS,,1/M,,MG/M^3,,UMOL/M^2/SEC,,%TRANS,
  096U20180111,  SR03,    47,  1,     36,     36,2,20180128,0637,-61.8508, 139.8385, 4253,     11.2,   1.5979,  33.6483,2,-999.0000,9,    338.5,2,   -999.0,9,  -999.00,9,  -999.00,9,  -999.00,9,  -999.00,9,     -999,9, -999.000,9, -999.000,9,     -999,9,   -999.0,9,   -999.0,9,-999.0000,9,  -999.00,  -999.00,9,   -999.0,9,   -999.0,  -999.00,9,   0.00204,2,    0.234,2,    1.728,2,    6.740,2,   94.318,2
  096U20180111,  SR03,    47,  1,     35,     35,2,20180128,0637,-61.8508, 139.8385, 4253,     11.1,   1.5976,  33.6484,2,  33.6494,2,    338.5,2,    338.8,2,     7.30,2,    23.56,2,     0.24,2,     1.38,2,     0.24,2,    5.693,2,    2.930,2,     3.76,3,   2138.5,2,   2279.1,2,-999.0000,9,  -999.00,    13.86,2,   -999.0,9,   -999.0,  -999.00,9,   0.00210,2,    0.231,2,    1.710,2,    6.440,2,   94.396,2
  096U20180111,  SR03,    47,  1,     34,     34,2,20180128,0637,-61.8508, 139.8385, 4253,     25.6,   1.5774,  33.6550,2,  33.6555,2,    338.9,2,    338.9,2,     7.50,2,    23.64,2,     0.24,2,     1.40,2,     0.25,2, -999.000,9, -999.000,9,     -999,9,   -999.0,9,   -999.0,9,-999.0000,9,  -999.00,  -999.00,9,   -999.0,9,   -999.0,  -999.00,9,   0.00221,2,    0.241,2,    1.938,2,    2.180,2,   94.145,2
  096U20180111,  SR03,    47,  1,     33,     33,2,20180128,0637,-61.8508, 139.8385, 4253,     55.4,   0.2689,  33.7356,2,  33.7672,2,    339.3,2,    341.3,2,    22.20,2,    26.24,2,     0.21,2,     1.89,2,     1.04,2, -999.000,9, -999.000,9,     -999,9,   -999.0,9,   -999.0,9,-999.0000,9,  -999.00,  -999.00,9,   -999.0,9,   -999.0,  -999.00,9,   0.00215,2,    0.235,2,    2.604,2,    0.274,2,   94.305,2
  096U20180111,  SR03,    47,  1,     32,     32,2,20180128,0637,-61.8508, 139.8385, 4253,     81.4,  -1.2344,  33.9447,2,  33.9504,2,    325.8,2,    326.7,2,    36.30,2,    29.71,2,     0.18,2,     2.11,2,     0.52,2,    5.666,2,    2.889,2,     4.01,3,   2187.4,2,   2292.8,2,-999.0000,9,  -999.00,    15.99,2,   -999.0,9,   -999.0,  -999.00,9,   0.00080,2,    0.043,2,    0.306,2,    0.059,2,   98.922,2
  096U20180111,  SR03,    47,  1,     31,     31,2,20180128,0637,-61.8508, 139.8385, 4253,    122.1,   0.3435,  34.1777,2,  34.1810,2,    238.2,2,    255.6,2,    50.70,2,    32.97,2,     0.05,2,     2.29,2,        0,2, -999.000,9, -999.000,9,     -999,9,   -999.0,9,   -999.0,9,-999.0000,9,  -999.00,  -999.00,9,   -999.0,9,   -999.0,  -999.00,9,   0.00059,2,    0.024,2,    0.150,2,    0.000,2,   99.403,2
  096U20180111,  SR03,    47,  1,     30,     30,2,20180128,0637,-61.8508, 139.8385, 4253,    181.3,   1.8922,  34.4118,2,  34.4163,2,    187.5,2,    189.6,2,    65.60,2,    35.08,2,     0.02,2,     2.42,2,        0,2, -999.000,9, -999.000,9,     -999,9,   -999.0,9,   -999.0,9,-999.0000,9,  -999.00,  -999.00,9,   -999.0,9,   -999.0,  -999.00,9,   0.00053,2,    0.013,2,    0.066,2,    0.000,2,   99.674,2
  096U20180111,  SR03,    47,  1,     29,     29,2,20180128,0637,-61.8508, 139.8385, 4253,    251.8,   2.2382,  34.5184,2,  34.6289,4,    174.8,2,    173.1,2,    71.80,2,    34.95,2,     0.01,2,     2.42,2,        0,2,    1.127,2,    0.598,2,     0.46,3,   2255.6,2,   2330.3,2,-999.0000,9,  -999.00,    23.65,2,   -999.0,9,   -999.0,  -999.00,9,   0.00059,2,    0.014,2,    0.048,2,    0.000,2,   99.662,2
  096U20180111,  SR03,    47,  1,     28,     28,2,20180128,0637,-61.8508, 139.8385, 4253,    321.5,   2.2442,  34.5778,2,  34.5745,2,    171.8,2,    171.5,2,    74.80,2,    34.36,2,     0.01,2,     2.37,2,        0,2, -999.000,9, -999.000,9,     -999,9,   -999.0,9,   -999.0,9,-999.0000,9,  -999.00,  -999.00,9,   -999.0,9,   -999.0,  -999.00,9,   0.00038,2,    0.007,2,    0.036,2,    0.000,2,   99.817,2
  096U20180111,  SR03,    47,  1,     27,     27,2,20180128,0637,-61.8508, 139.8385, 4253,    401.7,   2.2148,  34.6126,2,  34.6126,2,    171.9,2,    172.3,2,    76.60,2,    33.89,2,     0.01,2,     2.34,2,        0,2, -999.000,9, -999.000,9,     -999,9,   -999.0,9,   -999.0,9,-999.0000,9,  -999.00,  -999.00,9,   -999.0,9,   -999.0,  -999.00,9,   0.00036,2,    0.004,2,    0.048,2,    0.000,2,   99.906,2
  096U20180111,  SR03,    47,  1,     26,     26,2,20180128,0637,-61.8508, 139.8385, 4253,    502.2,   2.1917,  34.6515,2,  34.7489,4,    174.6,2,    174.5,2,    78.50,2,    33.16,2,     0.01,2,     2.28,2,        0,2,    0.527,2,    0.283,2,    -0.07,3,   2255.8,2,   2341.4,2,-999.0000,9,  -999.00,    21.42,2,   -999.0,9,   -999.0,  -999.00,9,   0.00036,2,    0.004,2,    0.042,2,    0.000,2,   99.903,2
  096U20180111,  SR03,    47,  1,     25,     25,2,20180128,0637,-61.8508, 139.8385, 4253,    602.3,   2.1315,  34.6793,2,  34.6794,2,    178.3,2,    178.1,2,    80.20,2,    32.54,2,     0.01,2,     2.25,2,        0,2, -999.000,9, -999.000,9,     -999,9,   -999.0,9,   -999.0,9,-999.0000,9,  -999.00,  -999.00,9,   -999.0,9,   -999.0,  -999.00,9,   0.00035,2,    0.005,2,    0.036,2,    0.000,2,   99.870,2
  096U20180111,  SR03,    47,  1,     24,     24,2,20180128,0637,-61.8508, 139.8385, 4253,    701.8,   2.0782,  34.6999,2,  34.6997,2,    181.5,2,    181.6,2,    81.60,2,    32.06,2,     0.01,2,     2.21,2,        0,2, -999.000,9, -999.000,9,     -999,9,   -999.0,9,   -999.0,9,-999.0000,9,  -999.00,  -999.00,9,   -999.0,9,   -999.0,  -999.00,9,   0.00036,2,    0.001,2,    0.042,2,    0.000,2,   99.965,2
  096U20180111,  SR03,    47,  1,     23,     23,2,20180128,0637,-61.8508, 139.8385, 4253,    801.5,   2.0246,  34.7165,2,  34.7161,2,    185.1,2,    184.8,2,    82.80,2,    31.61,2,     0.01,2,     2.18,2,        0,2, -999.000,9, -999.000,9,     -999,9,   -999.0,9,   -999.0,9,-999.0000,9,  -999.00,  -999.00,9,   -999.0,9,   -999.0,  -999.00,9,   0.00032,2,    0.002,2,    0.036,2,    0.000,2,   99.942,2
  096U20180111,  SR03,    47,  1,     22,     22,2,20180128,0637,-61.8508, 139.8385, 4253,    901.9,   1.9606,  34.7288,2,  34.7294,2,    187.7,2,    188.1,2,    84.30,2,    31.20,2,     0.01,2,     2.15,2,        0,2,    0.285,2,    0.158,2,     0.16,3,   2249.6,6,   -999.0,6,-999.0000,9,  -999.00,    19.58,2,   -999.0,9,   -999.0,  -999.00,9,   0.00032,2,    0.001,2,    0.042,2,    0.000,2,   99.974,2
  096U20180111,  SR03,    47,  1,     21,     21,2,20180128,0637,-61.8508, 139.8385, 4253,   1001.4,   1.8925,  34.7361,2,  34.7355,2,    190.8,2,    190.9,2,    85.90,2,    30.92,2,     0.01,2,     2.13,2,        0,2, -999.000,9, -999.000,9,     -999,9,   -999.0,9,   -999.0,9,-999.0000,9,  -999.00,  -999.00,9,   -999.0,9,   -999.0,  -999.00,9,   0.00032,2,    0.001,2,    0.042,2,    0.000,2,   99.984,2
  096U20180111,  SR03,    47,  1,     20,     20,2,20180128,0637,-61.8508, 139.8385, 4253,   1102.1,   1.8193,  34.7409,2,  34.7403,2,    192.8,2,    193.0,2,    87.80,2,    30.75,2,     0.01,2,     2.13,2,        0,2, -999.000,9, -999.000,9,     -999,9,   -999.0,9,   -999.0,9,-999.0000,9,  -999.00,  -999.00,9,   -999.0,9,   -999.0,  -999.00,9,   0.00033,2,    0.000,2,    0.036,2,    0.000,2,  100.004,2
  096U20180111,  SR03,    47,  1,     19,     19,2,20180128,0637,-61.8508, 139.8385, 4253,   1201.3,   1.7382,  34.7430,2,  34.7430,2,    195.3,2,    195.4,2,    89.70,2,    30.63,2,     0.01,2,     2.12,2,        0,2, -999.000,9, -999.000,9,     -999,9,   -999.0,9,   -999.0,9,-999.0000,9,  -999.00,  -999.00,9,   -999.0,9,   -999.0,  -999.00,9,   0.00032,2,   -0.001,2,    0.036,2,    0.000,2,  100.012,2
  096U20180111,  SR03,    47,  1,     18,     18,2,20180128,0637,-61.8508, 139.8385, 4253,   1301.5,   1.6665,  34.7435,2,  34.7435,2,    196.9,2,    197.2,2,    91.80,2,    30.68,2,     0.01,2,     2.12,2,        0,2, -999.000,9, -999.000,9,     -999,9,   -999.0,9,   -999.0,9,-999.0000,9,  -999.00,  -999.00,9,   -999.0,9,   -999.0,  -999.00,9,   0.00031,2,   -0.001,2,    0.042,2,    0.000,2,  100.025,2
  096U20180111,  SR03,    47,  1,     17,     17,2,20180128,0637,-61.8508, 139.8385, 4253,   1401.6,   1.5874,  34.7425,2,  34.7434,2,    198.1,2,    198.6,2,    94.10,2,    30.63,2,     0.01,2,     2.12,2,        0,2,    0.205,2,    0.106,2,     0.19,3,   2250.8,2,   2356.5,2,-999.0000,9,  -999.00,    18.06,2,   -999.0,9,   -999.0,  -999.00,9,   0.00030,2,   -0.002,2,    0.036,2,    0.000,2,  100.044,2
  096U20180111,  SR03,    47,  1,     16,     16,2,20180128,0637,-61.8508, 139.8385, 4253,   1550.9,   1.4611,  34.7391,2,  34.7387,2,    199.9,2,    200.3,2,    97.60,2,    30.78,2,     0.01,2,     2.13,2,        0,2, -999.000,9, -999.000,9,     -999,9,   -999.0,9,   -999.0,9,-999.0000,9,  -999.00,  -999.00,9,   -999.0,9,   -999.0,  -999.00,9,   0.00033,2,   -0.001,2,    0.036,2,    0.000,2,  100.036,2
  096U20180111,  SR03,    47,  1,     15,     15,2,20180128,0637,-61.8508, 139.8385, 4253,   1701.2,   1.3429,  34.7345,2,  34.7341,2,    201.7,2,    201.4,2,   101.30,2,    30.96,2,     0.01,2,     2.15,2,        0,2, -999.000,9, -999.000,9,     -999,9,   -999.0,9,   -999.0,9,-999.0000,9,  -999.00,  -999.00,9,   -999.0,9,   -999.0,  -999.00,9,   0.00028,2,   -0.003,2,    0.042,2,    0.000,2,  100.065,2
  096U20180111,  SR03,    47,  1,     14,     14,2,20180128,0637,-61.8508, 139.8385, 4253,   1901.6,   1.1785,  34.7269,2,  34.7280,2,    203.5,2,    203.3,2,   106.00,2,    31.26,2,     0.01,2,     2.17,2,        0,2,    0.218,2,    0.106,2,    -0.04,3,   2255.8,2,   2360.6,2,-999.0000,9,  -999.00,    18.21,2,   -999.0,9,   -999.0,  -999.00,9,   0.00028,2,   -0.003,2,    0.036,2,    0.000,2,  100.072,2
  096U20180111,  SR03,    47,  1,     13,     13,2,20180128,0637,-61.8508, 139.8385, 4253,   2151.7,   0.9882,  34.7171,2,  34.7165,2,    205.7,2,    205.6,2,   112.00,2,    31.61,2,     0.01,2,     2.20,2,        0,2, -999.000,9, -999.000,9,     -999,9,   -999.0,9,   -999.0,9,-999.0000,9,  -999.00,  -999.00,9,   -999.0,9,   -999.0,  -999.00,9,   0.00027,2,   -0.003,2,    0.042,2,    0.000,2,  100.072,2
  096U20180111,  SR03,    47,  1,     12,     12,2,20180128,0637,-61.8508, 139.8385, 4253,   2370.6,   0.8339,  34.7089,2,  34.7076,2,    207.7,2,    207.7,2,   116.20,2,    31.83,2,     0.01,2,     2.22,2,        0,2, -999.000,9, -999.000,9,     -999,9,   -999.0,9,   -999.0,9,-999.0000,9,  -999.00,  -999.00,9,   -999.0,9,   -999.0,  -999.00,9,   0.00026,2,   -0.004,2,    0.042,2,    0.000,2,  100.087,2
  096U20180111,  SR03,    47,  1,     11,     11,2,20180128,0637,-61.8508, 139.8385, 4253,   2621.3,   0.6610,  34.6996,2,  34.6976,2,    210.7,2,    211.0,2,   120.70,2,    32.13,2,     0.01,2,     2.24,2,        0,2, -999.000,9, -999.000,9,     -999,9,   -999.0,9,   -999.0,9,-999.0000,9,  -999.00,  -999.00,9,   -999.0,9,   -999.0,  -999.00,9,   0.00025,2,   -0.004,2,    0.036,2,    0.000,2,  100.091,2
  096U20180111,  SR03,    47,  1,     10,     10,2,20180128,0637,-61.8508, 139.8385, 4253,   2872.2,   0.5222,  34.6925,2,  34.6923,2,    213.8,2,    213.9,2,   124.10,2,    32.27,2,     0.01,2,     2.25,2,        0,2,    0.447,2,    0.229,2,     0.05,3,   2261.2,2,   2360.7,2,-999.0000,9,  -999.00,    17.79,2,   -999.0,9,   -999.0,  -999.00,9,   0.00030,2,   -0.004,2,    0.042,2,    0.000,2,  100.097,2
  096U20180111,  SR03,    47,  1,      9,      9,2,20180128,0637,-61.8508, 139.8385, 4253,   3119.3,   0.4004,  34.6865,2,  34.6845,2,    217.0,2,    217.4,2,   126.60,2,    32.35,2,     0.01,2,     2.25,2,        0,2, -999.000,9, -999.000,9,     -999,9,   -999.0,9,   -999.0,9,-999.0000,9,  -999.00,  -999.00,9,   -999.0,9,   -999.0,  -999.00,9,   0.00024,2,   -0.004,2,    0.042,2,    0.000,2,  100.093,2
  096U20180111,  SR03,    47,  1,      8,      8,2,20180128,0637,-61.8508, 139.8385, 4253,   3372.1,   0.3204,  34.6828,2,  34.6812,2,    220.1,2,    219.9,2,   129.70,2,    32.37,2,     0.01,2,     2.26,2,        0,2,    0.668,2,    0.336,2,    -0.01,3,   -999.0,9,   -999.0,9,-999.0000,9,  -999.00,    17.79,2,   -999.0,9,   -999.0,  -999.00,9,   0.00025,2,   -0.004,2,    0.042,2,    0.000,2,  100.098,2
  096U20180111,  SR03,    47,  1,      7,      7,2,20180128,0637,-61.8508, 139.8385, 4253,   3623.6,   0.2470,  34.6782,2,  34.6774,2,    223.5,2,    222.7,2,   129.70,2,    32.32,2,     0.01,2,     2.26,2,        0,2, -999.000,9, -999.000,9,     -999,9,   -999.0,9,   -999.0,9,-999.0000,9,  -999.00,  -999.00,9,   -999.0,9,   -999.0,  -999.00,9,   0.00023,2,   -0.004,2,    0.036,2,    0.000,2,  100.096,2
  096U20180111,  SR03,    47,  1,      6,      6,2,20180128,0637,-61.8508, 139.8385, 4253,   3873.8,   0.1634,  34.6730,2,  34.6720,2,    227.3,2,    225.9,2,   129.70,2,    32.41,2,     0.01,2,     2.25,2,     0.01,2,    1.027,2,    0.526,2,     0.15,3,   -999.0,9,   -999.0,9,-999.0000,9,  -999.00,    17.43,2,   -999.0,9,   -999.0,  -999.00,9,   0.00023,2,   -0.004,2,    0.042,2,    0.000,2,  100.087,2
  096U20180111,  SR03,    47,  1,      5,      5,2,20180128,0637,-61.8508, 139.8385, 4253,   4131.4,   0.0400,  34.6638,2,  34.6619,2,    232.2,2,    231.6,2,   125.10,2,    32.26,2,     0.01,2,     2.24,2,        0,2, -999.000,9, -999.000,9,     -999,9,   -999.0,9,   -999.0,9,-999.0000,9,  -999.00,  -999.00,9,   -999.0,9,   -999.0,  -999.00,9,   0.00026,2,   -0.001,2,    0.042,2,    0.000,2,  100.024,2
  096U20180111,  SR03,    47,  1,      4,      4,2,20180128,0637,-61.8508, 139.8385, 4253,   4232.1,  -0.0370,  34.6584,2,  34.6559,2,    235.4,2,    235.1,2,   120.90,2,    32.12,2,     0.01,2,     2.24,2,        0,2, -999.000,9, -999.000,9,     -999,9,   -999.0,9,   -999.0,9,-999.0000,9,  -999.00,  -999.00,9,   -999.0,9,   -999.0,  -999.00,9,   0.00034,2,    0.004,2,    0.036,2,    0.000,2,   99.890,2
  096U20180111,  SR03,    47,  1,      3,      3,2,20180128,0637,-61.8508, 139.8385, 4253,   4281.5,  -0.0536,  34.6570,2,  34.6583,2,    236.4,2,    235.9,2,   119.60,2,    32.13,2,     0.01,2,     2.23,2,        0,2,    1.820,2,    0.959,2,     0.96,3,   2256.9,2,   2355.4,6,-999.0000,9,  -999.00,    17.81,2,   -999.0,9,   -999.0,  -999.00,9,   0.00047,2,    0.010,2,    0.036,2,    0.000,2,   99.761,2
  096U20180111,  SR03,    47,  1,      2,      2,2,20180128,0637,-61.8508, 139.8385, 4253,   4337.6,  -0.0928,  34.6542,2,-999.0000,9,    238.2,2,   -999.0,9,  -999.00,9,  -999.00,9,  -999.00,9,  -999.00,9,     -999,9, -999.000,9, -999.000,9,     -999,9,   -999.0,9,   -999.0,9,-999.0000,9,  -999.00,  -999.00,9,   -999.0,9,   -999.0,  -999.00,9,   0.00116,2,    0.043,2,    0.042,2,    0.000,2,   98.918,2
  096U20180111,  SR03,    47,  1,      1,      1,2,20180128,0637,-61.8508, 139.8385, 4253,   4337.5,  -0.0900,  34.6544,2,  34.6533,2,    238.2,2,    237.7,2,   117.10,2,    32.08,2,     0.01,2,     2.23,2,        0,2,    1.914,2,    1.034,2,     0.99,3,   2256.8,2,   2356.3,2,-999.0000,9,  -999.00,    18.26,2,   -999.0,9,   -999.0,  -999.00,9,   0.00105,2,    0.041,2,    0.042,2,    0.000,2,   98.988,2