BOTTLE,20230418CCHSIOENA
EXPOCODE,SECT_ID,STNNBR,CASTNO,SAMPNO,BTLNBR,BTLNBR_FLAG_W,DATE,TIME,LATITUDE,LONGITUDE,DEPTH,CTDPRS,CTDTMP,CTDSAL,CTDSAL_FLAG_W,SALNTY,SALNTY_FLAG_W,CTDOXY,CTDOXY_FLAG_W,OXYGEN,OXYGEN_FLAG_W,SILCAT,SILCAT_FLAG_W,NITRAT,NITRAT_FLAG_W,NITRIT,NITRIT_FLAG_W,PHSPHT,PHSPHT_FLAG_W,NH4,NH4_FLAG_W,CFC-11,CFC-11_FLAG_W,CFC-12,CFC-12_FLAG_W,SF6,SF6_FLAG_W,TCARBN,TCARBN_FLAG_W,ALKALI,ALKALI_FLAG_W,PH_TOT,PH_TOT_FLAG_W,PH_TMP,N2O,N2O_FLAG_W,DELC14,DELC14_FLAG_W,C14ERR,DELC13,DELC13_FLAG_W,CTDBETA700,CTDBETA700_FLAG_W,CTDBEAMCP,CTDBEAMCP_FLAG_W,CTDFLUOR,CTDFLUOR_FLAG_W,PAR,PAR_FLAG_W,CTDXMISS,CTDXMISS_FLAG_W
,,,,,,,,,,,METERS,DBAR,ITS-90,PSS-78,,PSS-78,,UMOL/KG,,UMOL/KG,,UMOL/KG,,UMOL/KG,,UMOL/KG,,UMOL/KG,,UMOL/KG,,PMOL/KG,,PMOL/KG,,FMOL/KG,,UMOL/KG,,UMOL/KG,,,,DEG C,NMOL/KG,,/MILLE,,/MILLE,/MILLE,,VOLTS,,1/M,,MG/M^3,,UMOL/M^2/SEC,,%TRANS,
  096U20180111,  SR03,   103,  1,     36,     36,2,20180215,1747,-58.4995, 132.0078, 4655,     11.2,   3.9386,  33.8445,2,-999.0000,9,    315.8,2,   -999.0,9,  -999.00,9,  -999.00,9,  -999.00,9,  -999.00,9,     -999,9, -999.000,9, -999.000,9,     -999,9,   -999.0,9,   -999.0,9,-999.0000,9,  -999.00,  -999.00,9,   -999.0,9,   -999.0,  -999.00,9,   0.00232,2,    0.174,2,    1.710,2,   34.100,2,   95.749,2
  096U20180111,  SR03,   103,  1,     35,     35,2,20180215,1747,-58.4995, 132.0078, 4655,     11.2,   3.9387,  33.8445,2,  33.8469,2,    315.8,2,    317.8,2,     2.30,2,    24.64,2,     0.26,2,     1.48,2,     0.07,2,    4.870,2,    2.670,2,     3.06,2,   2137.7,2,   2279.8,2,   7.7300,   2,    25.00,    14.39,2,   -999.0,9,   -999.0,  -999.00,9,   0.00199,2,    0.174,2,    1.686,2,   34.900,2,   95.743,2
  096U20180111,  SR03,   103,  1,     34,     34,2,20180215,1747,-58.4995, 132.0078, 4655,     30.5,   3.9375,  33.8444,2,  33.8457,2,    317.8,2,    317.7,2,     2.30,2,    24.57,2,     0.26,2,     1.49,2,     0.07,2, -999.000,9, -999.000,9,     -999,9,   -999.0,9,   -999.0,9,-999.0000,9,  -999.00,  -999.00,9,   -999.0,9,   -999.0,  -999.00,9,   0.00217,2,    0.176,2,    1.920,2,    9.140,2,   95.696,2
  096U20180111,  SR03,   103,  1,     33,     33,2,20180215,1747,-58.4995, 132.0078, 4655,     55.2,   3.9199,  33.8438,2,  33.8470,2,    318.1,2,    318.2,2,     2.70,2,    24.68,2,     0.26,2,     1.51,2,      0.1,2, -999.000,9, -999.000,9,     -999,9,   -999.0,9,   -999.0,9,-999.0000,9,  -999.00,  -999.00,9,   -999.0,9,   -999.0,  -999.00,9,   0.00200,2,    0.189,2,    2.190,2,    2.280,2,   95.387,2
  096U20180111,  SR03,   103,  1,     32,     32,2,20180215,1747,-58.4995, 132.0078, 4655,     76.6,   3.2869,  33.8638,2,-999.0000,9,    320.4,2,   -999.0,9,  -999.00,9,  -999.00,9,  -999.00,9,  -999.00,9,     -999,9, -999.000,9, -999.000,9,     -999,9,   -999.0,9,   -999.0,9,-999.0000,9,  -999.00,  -999.00,9,   -999.0,9,   -999.0,  -999.00,9,   0.00255,2,    0.227,2,    3.498,2,    0.562,2,   94.495,2
  096U20180111,  SR03,   103,  1,     31,     31,2,20180215,1747,-58.4995, 132.0078, 4655,     76.6,   3.2758,  33.8635,2,  33.8677,2,    320.4,2,    322.2,2,     6.10,2,    25.28,2,     0.24,2,     1.71,2,      0.4,2, -999.000,9, -999.000,9,     -999,9,   2145.4,2,   2282.8,2,   7.7130,   2,    25.00,  -999.00,9,   -999.0,9,   -999.0,  -999.00,9,   0.00276,2,    0.231,2,    3.480,2,    0.562,2,   94.385,2
  096U20180111,  SR03,   103,  1,     30,     30,2,20180215,1747,-58.4995, 132.0078, 4655,    115.6,   1.1489,  33.9204,2,  33.9227,2,    330.9,2,    328.7,2,    19.80,2,    27.58,2,     0.28,2,     2.01,2,      0.8,2, -999.000,9, -999.000,9,     -999,9,   -999.0,9,   -999.0,9,-999.0000,9,  -999.00,  -999.00,9,   -999.0,9,   -999.0,  -999.00,9,   0.00101,2,    0.056,2,    0.504,2,    0.040,2,   98.606,2
  096U20180111,  SR03,   103,  1,     29,     29,2,20180215,1747,-58.4995, 132.0078, 4655,    161.0,   0.6175,  33.9433,2,  33.9446,2,    322.2,2,    323.4,2,    23.60,2,    29.07,2,     0.30,2,     2.03,2,        0,2,    5.435,2,    2.943,2,     3.48,2,   2173.1,2,   2286.2,2,   7.6494,   6,    25.00,    16.01,2,   -999.0,9,   -999.0,  -999.00,9,   0.00070,2,    0.032,2,    0.156,2,    0.000,2,   99.203,2
  096U20180111,  SR03,   103,  1,     28,     28,2,20180215,1747,-58.4995, 132.0078, 4655,    233.1,   1.3052,  34.0880,2,  34.0887,2,    272.2,2,    276.3,2,    35.00,2,    31.57,2,     0.01,2,     2.16,2,    -0.01,2, -999.000,9, -999.000,9,     -999,9,   2195.3,2,   2295.0,2,   7.6057,   2,    25.00,  -999.00,9,   -999.0,9,   -999.0,  -999.00,9,   0.00052,2,    0.018,2,    0.054,2,    0.000,2,   99.549,2
  096U20180111,  SR03,   103,  1,     27,     27,2,20180215,1747,-58.4995, 132.0078, 4655,    301.8,   1.8050,  34.2266,2,  34.2276,2,    233.8,2,    233.3,2,    47.00,2,    33.53,2,     0.01,2,     2.30,2,    -0.01,2, -999.000,9, -999.000,9,     -999,9,   2219.7,2,   2305.4,2,   7.5671,   2,    25.00,  -999.00,9,   -999.0,9,   -999.0,  -999.00,9,   0.00051,2,    0.016,2,    0.042,2,    0.000,2,   99.591,2
  096U20180111,  SR03,   103,  1,     26,     26,2,20180215,1747,-58.4995, 132.0078, 4655,    410.9,   2.3143,  34.4007,2,  34.4008,2,    189.5,2,    189.5,2,    61.40,2,    35.13,2,     0.01,2,     2.40,2,    -0.01,2, -999.000,9, -999.000,9,     -999,9,   2243.7,2,   2320.3,2,   7.5362,   2,    25.00,  -999.00,9,   -999.0,9,   -999.0,  -999.00,9,   0.00052,2,    0.016,2,    0.036,2,    0.000,2,   99.589,2
  096U20180111,  SR03,   103,  1,     25,     25,2,20180215,1747,-58.4995, 132.0078, 4655,    521.2,   2.3638,  34.5029,2,  34.5036,2,    176.2,2,    176.0,2,    69.00,2,    35.03,2,     0.01,2,     2.40,2,    -0.01,2, -999.000,9, -999.000,9,     -999,9,   2251.7,2,   2329.2,2,   7.5343,   2,    25.00,  -999.00,9,   -999.0,9,   -999.0,  -999.00,9,   0.00040,2,    0.010,2,    0.036,2,    0.000,2,   99.758,2
  096U20180111,  SR03,   103,  1,     24,     24,2,20180215,1747,-58.4995, 132.0078, 4655,    631.4,   2.3524,  34.5719,2,  34.5714,2,    172.9,2,    172.5,2,    73.20,2,    34.51,2,     0.01,2,     2.37,2,    -0.01,2,    1.163,2,    0.601,2,     0.45,2,   -999.0,9,   -999.0,9,-999.0000,9,  -999.00,    24.88,2,   -999.0,9,   -999.0,  -999.00,9,   0.00044,2,    0.010,2,    0.036,2,    0.000,2,   99.761,2
  096U20180111,  SR03,   103,  1,     23,     23,2,20180215,1747,-58.4995, 132.0078, 4655,    750.7,   2.3315,  34.6279,2,  34.6283,2,    174.5,2,    174.2,2,    75.50,2,    33.72,2,     0.01,2,     2.31,2,    -0.01,2, -999.000,9, -999.000,9,     -999,9,   2254.4,6,   2339.7,6,   7.5554,   2,    25.00,  -999.00,9,   -999.0,9,   -999.0,  -999.00,9,   0.00035,2,    0.007,2,    0.042,2,    0.000,2,   99.836,2
  096U20180111,  SR03,   103,  1,     22,     22,2,20180215,1747,-58.4995, 132.0078, 4655,    901.4,   2.2674,  34.6783,2,  34.6780,2,    178.2,2,    178.8,2,    78.00,2,    32.64,2,     0.01,2,     2.24,2,    -0.01,2, -999.000,9, -999.000,9,     -999,9,   -999.0,9,   -999.0,9,-999.0000,9,  -999.00,  -999.00,9,   -999.0,9,   -999.0,  -999.00,9,   0.00035,2,    0.005,2,    0.036,2,    0.000,2,   99.878,2
  096U20180111,  SR03,   103,  1,     21,     21,2,20180215,1747,-58.4995, 132.0078, 4655,   1102.9,   2.1532,  34.7168,2,  34.7175,2,    185.6,2,    185.8,2,    80.30,2,    31.64,2,     0.00,2,     2.17,2,    -0.01,2,    0.266,2,    0.144,2,     0.05,2,   2249.4,2,   2347.0,6,   7.5889,   2,    25.00,    21.53,2,   -999.0,9,   -999.0,  -999.00,9,   0.00032,2,    0.003,2,    0.036,2,    0.000,2,   99.916,2
  096U20180111,  SR03,   103,  1,     20,     20,2,20180215,1747,-58.4995, 132.0078, 4655,   1303.3,   2.0200,  34.7368,2,  34.7382,2,    190.8,2,    191.0,2,    83.40,2,    31.08,2,     0.00,2,     2.14,2,    -0.01,2, -999.000,9, -999.000,9,     -999,9,   2249.3,2,   2349.7,2,   7.6005,   2,    25.00,  -999.00,9,   -999.0,9,   -999.0,  -999.00,9,   0.00031,2,    0.003,2,    0.036,2,    0.000,2,   99.930,2
  096U20180111,  SR03,   103,  1,     19,     19,2,20180215,1747,-58.4995, 132.0078, 4655,   1501.0,   1.8745,  34.7456,2,  34.7480,2,    195.2,2,    195.2,2,    87.00,2,    30.76,2,     0.00,2,     2.12,2,    -0.01,2,    0.185,2,    0.100,2,        0,2,   2248.5,2,   2353.6,2,   7.6082,   2,    25.00,    20.15,2,   -999.0,9,   -999.0,  -999.00,9,   0.00030,2,    0.002,2,    0.042,2,    0.000,2,   99.943,2
  096U20180111,  SR03,   103,  1,     18,     18,2,20180215,1747,-58.4995, 132.0078, 4655,   1700.6,   1.7121,  34.7462,2,  34.7474,2,    198.1,2,    198.4,2,    91.80,2,    30.78,2,     0.01,2,     2.12,2,    -0.01,2, -999.000,9, -999.000,9,     -999,9,   -999.0,9,   -999.0,9,-999.0000,9,  -999.00,  -999.00,9,   -999.0,9,   -999.0,  -999.00,9,   0.00029,2,    0.002,2,    0.042,2,    0.000,2,   99.951,2
  096U20180111,  SR03,   103,  1,     17,     17,2,20180215,1747,-58.4995, 132.0078, 4655,   1900.0,   1.5185,  34.7410,2,  34.7425,2,    200.4,2,    200.7,2,    97.30,2,    31.01,2,     0.00,2,     2.14,2,    -0.01,2,    0.182,2,    0.097,2,     0.01,2,   2251.6,2,   2355.9,2,   7.6104,   6,    25.00,    19.60,2,   -999.0,9,   -999.0,  -999.00,9,   0.00028,2,    0.001,2,    0.036,2,    0.000,2,   99.964,2
  096U20180111,  SR03,   103,  1,     16,     16,2,20180215,1747,-58.4995, 132.0078, 4655,   2149.7,   1.3111,  34.7325,2,  34.7335,2,    203.0,2,    203.0,2,   103.30,2,    31.33,2,     0.00,2,     2.16,2,    -0.01,2, -999.000,9, -999.000,9,     -999,9,   -999.0,9,   -999.0,9,-999.0000,9,  -999.00,  -999.00,9,   -999.0,9,   -999.0,  -999.00,9,   0.00028,2,    0.001,2,    0.036,2,    0.000,2,   99.967,2
  096U20180111,  SR03,   103,  1,     15,     15,2,20180215,1747,-58.4995, 132.0078, 4655,   2401.0,   1.1024,  34.7222,2,-999.0000,9,    205.1,2,   -999.0,9,  -999.00,9,  -999.00,9,  -999.00,9,  -999.00,9,     -999,9, -999.000,9, -999.000,9,     -999,9,   -999.0,9,   -999.0,9,-999.0000,9,  -999.00,  -999.00,9,   -999.0,9,   -999.0,  -999.00,9,   0.00027,2,    0.001,2,    0.042,2,    0.000,2,   99.966,2
  096U20180111,  SR03,   103,  1,     14,     14,2,20180215,1747,-58.4995, 132.0078, 4655,   2400.9,   1.1023,  34.7223,2,  34.7226,2,    205.0,2,    205.5,2,   109.90,2,    31.72,2,     0.00,2,     2.19,2,    -0.01,2,    0.227,2,    0.115,2,    -0.03,2,   2258.5,2,   2361.0,2,-999.0000,9,  -999.00,    19.95,2,   -999.0,9,   -999.0,  -999.00,9,   0.00027,2,    0.001,2,    0.042,2,    0.000,2,   99.967,2
  096U20180111,  SR03,   103,  1,     13,     13,2,20180215,1747,-58.4995, 132.0078, 4655,   2700.6,   0.8998,  34.7108,2,-999.0000,9,    207.7,2,   -999.0,9,  -999.00,9,  -999.00,9,  -999.00,9,  -999.00,9,     -999,9, -999.000,9, -999.000,9,     -999,9,   -999.0,9,   -999.0,9,-999.0000,9,  -999.00,  -999.00,9,   -999.0,9,   -999.0,  -999.00,9,   0.00025,2,    0.001,2,    0.042,2,    0.000,2,   99.986,2
  096U20180111,  SR03,   103,  1,     12,     12,2,20180215,1747,-58.4995, 132.0078, 4655,   2700.6,   0.8997,  34.7108,2,  34.7116,2,    207.7,2,    208.0,2,   115.00,2,    32.14,2,     0.00,2,     2.22,2,    -0.01,2, -999.000,9, -999.000,9,     -999,9,   -999.0,9,   -999.0,9,-999.0000,9,  -999.00,  -999.00,9,   -999.0,9,   -999.0,  -999.00,9,   0.00028,2,    0.001,2,    0.042,2,    0.000,2,   99.981,2
  096U20180111,  SR03,   103,  1,     11,     11,2,20180215,1747,-58.4995, 132.0078, 4655,   3000.8,   0.6919,  34.7000,2,-999.0000,9,    211.0,2,   -999.0,9,  -999.00,9,  -999.00,9,  -999.00,9,  -999.00,9,     -999,9, -999.000,9, -999.000,9,     -999,9,   -999.0,9,   -999.0,9,-999.0000,9,  -999.00,  -999.00,9,   -999.0,9,   -999.0,  -999.00,9,   0.00026,2,    0.000,2,    0.042,2,    0.000,2,   99.990,2
  096U20180111,  SR03,   103,  1,     10,     10,2,20180215,1747,-58.4995, 132.0078, 4655,   3000.8,   0.6916,  34.6999,2,  34.7006,2,    211.0,2,    212.0,2,   121.20,2,    32.42,2,     0.00,2,     2.25,2,    -0.01,2, -999.000,9, -999.000,9,     -999,9,   -999.0,9,   -999.0,9,-999.0000,9,  -999.00,  -999.00,9,   -999.0,9,   -999.0,  -999.00,9,   0.00025,2,    0.000,2,    0.042,2,    0.000,2,   99.993,2
  096U20180111,  SR03,   103,  1,      9,      9,2,20180215,1747,-58.4995, 132.0078, 4655,   3301.9,   0.4950,  34.6903,2,  34.6901,2,    215.1,2,    216.0,2,   126.10,2,    32.61,2,     0.00,2,     2.26,2,    -0.01,2,    0.520,2,    0.261,2,     0.11,2,   2260.7,2,   2361.4,2,-999.0000,9,  -999.00,    19.55,2,   -999.0,9,   -999.0,  -999.00,9,   0.00025,2,    0.000,2,    0.036,2,    0.000,2,   99.990,2
  096U20180111,  SR03,   103,  1,      8,      8,2,20180215,1747,-58.4995, 132.0078, 4655,   3550.8,   0.3895,  34.6848,2,  34.6846,2,    218.3,2,    219.3,2,   128.60,2,    32.70,2,     0.00,2,     2.27,2,    -0.01,2, -999.000,9, -999.000,9,     -999,9,   -999.0,9,   -999.0,9,-999.0000,9,  -999.00,  -999.00,9,   -999.0,9,   -999.0,  -999.00,9,   0.00026,2,    0.000,2,    0.036,2,    0.000,2,   99.989,2
  096U20180111,  SR03,   103,  1,      7,      7,2,20180215,1747,-58.4995, 132.0078, 4655,   3799.8,   0.3182,  34.6809,2,  34.6811,2,    221.2,2,    221.6,2,   130.40,2,    32.70,2,     0.00,2,     2.27,2,    -0.01,2,    0.718,2,    0.349,2,     0.08,2,   -999.0,9,   -999.0,9,-999.0000,9,  -999.00,    19.18,2,   -999.0,9,   -999.0,  -999.00,9,   0.00023,2,    0.001,2,    0.036,2,    0.000,2,   99.987,2
  096U20180111,  SR03,   103,  1,      6,      6,2,20180215,1747,-58.4995, 132.0078, 4655,   4049.8,   0.2523,  34.6773,2,  34.6780,2,    224.1,2,    224.3,2,   131.70,2,    32.74,2,     0.00,2,     2.27,2,    -0.01,2, -999.000,9, -999.000,9,     -999,9,   -999.0,9,   -999.0,9,-999.0000,9,  -999.00,  -999.00,9,   -999.0,9,   -999.0,  -999.00,9,   0.00023,2,    0.001,2,    0.036,2,    0.000,2,   99.987,2
  096U20180111,  SR03,   103,  1,      5,      5,2,20180215,1747,-58.4995, 132.0078, 4655,   4299.7,   0.1670,  34.6720,2,  34.6726,2,    227.5,2,    227.7,2,   132.30,2,    32.67,2,     0.00,2,     2.27,2,    -0.01,2,    1.070,2,    0.530,2,     0.03,2,   2260.0,2,   2361.3,2,-999.0000,9,  -999.00,    19.08,2,   -999.0,9,   -999.0,  -999.00,9,   0.00023,2,    0.001,2,    0.036,2,    0.000,2,   99.966,2
  096U20180111,  SR03,   103,  1,      4,      4,2,20180215,1747,-58.4995, 132.0078, 4655,   4550.8,   0.1043,  34.6670,2,  34.6673,2,    230.9,2,    230.7,2,   133.70,2,    32.56,2,     0.00,2,     2.26,2,    -0.01,2, -999.000,9, -999.000,9,     -999,9,   -999.0,9,   -999.0,9,-999.0000,9,  -999.00,  -999.00,9,   -999.0,9,   -999.0,  -999.00,9,   0.00023,2,    0.003,2,    0.036,2,    0.000,2,   99.935,2
  096U20180111,  SR03,   103,  1,      3,      3,2,20180215,1747,-58.4995, 132.0078, 4655,   4701.5,   0.0039,  34.6574,2,  34.6583,2,    234.7,2,    234.6,2,   133.80,2,    32.54,2,     0.01,2,     2.26,2,    -0.01,2,    1.699,2,    0.870,2,     0.56,2,   -999.0,9,   -999.0,9,-999.0000,9,  -999.00,    19.63,2,   -999.0,9,   -999.0,  -999.00,9,   0.00040,2,    0.007,2,    0.036,2,    0.000,2,   99.817,2
  096U20180111,  SR03,   103,  1,      2,      2,2,20180215,1747,-58.4995, 132.0078, 4655,   4752.6,   0.0026,  34.6567,2,-999.0000,9,    235.3,2,   -999.0,9,  -999.00,9,  -999.00,9,  -999.00,9,  -999.00,9,     -999,9, -999.000,9, -999.000,9,     -999,9,   -999.0,9,   -999.0,9,-999.0000,9,  -999.00,  -999.00,9,   -999.0,9,   -999.0,  -999.00,9,   0.00034,2,    0.010,2,    0.042,2,    0.000,2,   99.758,2
  096U20180111,  SR03,   103,  1,      1,      1,2,20180215,1747,-58.4995, 132.0078, 4655,   4752.5,   0.0026,  34.6567,2,  34.6581,2,    235.3,2,    235.1,2,   135.00,2,    32.55,2,     0.01,2,     2.26,2,    -0.01,2,    1.723,2,    0.887,2,     0.74,2,   2258.7,6,   2358.9,6,-999.0000,9,  -999.00,    18.94,2,   -999.0,9,   -999.0,  -999.00,9,   0.00033,2,    0.010,2,    0.042,2,    0.000,2,   99.759,2