BOTTLE,20230418CCHSIOENA
EXPOCODE,SECT_ID,STNNBR,CASTNO,SAMPNO,BTLNBR,BTLNBR_FLAG_W,DATE,TIME,LATITUDE,LONGITUDE,DEPTH,CTDPRS,CTDTMP,CTDSAL,CTDSAL_FLAG_W,SALNTY,SALNTY_FLAG_W,CTDOXY,CTDOXY_FLAG_W,OXYGEN,OXYGEN_FLAG_W,SILCAT,SILCAT_FLAG_W,NITRAT,NITRAT_FLAG_W,NITRIT,NITRIT_FLAG_W,PHSPHT,PHSPHT_FLAG_W,NH4,NH4_FLAG_W,CFC-11,CFC-11_FLAG_W,CFC-12,CFC-12_FLAG_W,SF6,SF6_FLAG_W,TCARBN,TCARBN_FLAG_W,ALKALI,ALKALI_FLAG_W,PH_TOT,PH_TOT_FLAG_W,PH_TMP,N2O,N2O_FLAG_W,DELC14,DELC14_FLAG_W,C14ERR,DELC13,DELC13_FLAG_W,CTDBETA700,CTDBETA700_FLAG_W,CTDBEAMCP,CTDBEAMCP_FLAG_W,CTDFLUOR,CTDFLUOR_FLAG_W,PAR,PAR_FLAG_W,CTDXMISS,CTDXMISS_FLAG_W
,,,,,,,,,,,METERS,DBAR,ITS-90,PSS-78,,PSS-78,,UMOL/KG,,UMOL/KG,,UMOL/KG,,UMOL/KG,,UMOL/KG,,UMOL/KG,,UMOL/KG,,PMOL/KG,,PMOL/KG,,FMOL/KG,,UMOL/KG,,UMOL/KG,,,,DEG C,NMOL/KG,,/MILLE,,/MILLE,/MILLE,,VOLTS,,1/M,,MG/M^3,,UMOL/M^2/SEC,,%TRANS,
  096U20180111,  SR03,    46,  1,     36,     36,2,20180128,0025,-61.3502, 139.8407, 4305,     11.5,   1.9814,  33.6599,2,  33.6600,2,    337.4,2,    336.8,2,     8.60,2,    22.93,2,     0.27,2,     1.38,2,     0.17,2,    5.774,2,    2.857,2,     3.87,3,   2135.2,2,   2278.1,2,-999.0000,9,  -999.00,    13.67,2,    -96.9,6,      3.1,     1.56,6,   0.00268,2,    0.258,2,    0.534,2,  172.000,2,   93.761,2
  096U20180111,  SR03,    46,  1,     35,     35,2,20180128,0025,-61.3502, 139.8407, 4305,     11.5,   1.9809,  33.6598,2,-999.0000,9,    337.4,2,   -999.0,9,  -999.00,9,  -999.00,9,  -999.00,9,  -999.00,9,     -999,9, -999.000,9, -999.000,9,     -999,9,   -999.0,9,   -999.0,9,-999.0000,9,  -999.00,  -999.00,9,   -999.0,9,   -999.0,  -999.00,9,   0.00259,2,    0.263,2,    0.492,2,  171.000,2,   93.637,2
  096U20180111,  SR03,    46,  1,     34,     34,2,20180128,0025,-61.3502, 139.8407, 4305,     30.9,   1.9385,  33.6627,2,  33.6633,2,    336.8,2,    337.4,2,     9.00,2,    22.98,2,     0.26,2,     1.40,2,     0.22,2,    5.970,2,    2.978,2,     4.49,3,   2136.2,6,   2280.0,6,-999.0000,9,  -999.00,    14.01,2,   -999.0,9,   -999.0,  -999.00,9,   0.00248,2,    0.260,2,    1.542,2,   35.600,2,   93.704,2
  096U20180111,  SR03,    46,  1,     33,     33,2,20180128,0025,-61.3502, 139.8407, 4305,     51.5,  -0.3472,  33.7368,2,-999.0000,9,    338.3,2,   -999.0,9,  -999.00,9,  -999.00,9,  -999.00,9,  -999.00,9,     -999,9, -999.000,9, -999.000,9,     -999,9,   -999.0,9,   -999.0,9,-999.0000,9,  -999.00,  -999.00,9,   -999.0,9,   -999.0,  -999.00,9,   0.00265,2,    0.211,2,    1.974,2,    8.180,2,   94.852,2
  096U20180111,  SR03,    46,  1,     32,     32,2,20180128,0025,-61.3502, 139.8407, 4305,     51.5,  -0.3987,  33.7392,2,  33.7382,2,    338.3,2,    347.0,2,    27.80,2,    25.89,2,     0.21,2,     1.94,2,     1.48,2,    6.265,2,    3.055,2,     4.19,3,   2163.5,2,   2281.6,2,-999.0000,9,  -999.00,    15.17,2,   -999.0,9,   -999.0,  -999.00,9,   0.00247,2,    0.209,2,    1.896,2,    8.040,2,   94.912,2
  096U20180111,  SR03,    46,  1,     31,     31,2,20180128,0025,-61.3502, 139.8407, 4305,     80.3,  -1.3913,  33.8887,2,  33.8913,2,    323.1,2,    331.5,2,    37.80,2,    28.96,2,     0.18,2,     2.10,2,     0.91,2,    6.062,2,    3.038,2,     4.51,3,   2184.9,2,   2290.7,2,-999.0000,9,  -999.00,    16.55,2,   -101.0,2,      2.8,     1.03,2,   0.00147,2,    0.060,2,    0.552,2,    1.570,2,   98.523,2
  096U20180111,  SR03,    46,  1,     30,     30,2,20180128,0025,-61.3502, 139.8407, 4305,    121.0,  -0.5622,  34.0867,2,  34.0813,2,    275.0,2,    289.6,2,    46.30,2,    31.57,2,     0.14,2,     2.20,2,     0.12,2,    4.635,2,    2.347,2,     2.08,3,   2206.5,2,   2300.7,2,-999.0000,9,  -999.00,    18.23,2,   -114.6,2,      2.1,     0.80,2,   0.00073,2,    0.032,2,    0.228,2,    0.219,2,   99.209,2
  096U20180111,  SR03,    46,  1,     29,     29,2,20180128,0025,-61.3502, 139.8407, 4305,    151.3,   0.8481,  34.2692,2,  34.3065,2,    224.8,2,    231.8,2,    56.90,2,    33.85,2,     0.03,2,     2.34,2,        0,2,    3.103,2,    1.631,2,     2.63,3,   2229.0,2,   2311.6,6,-999.0000,9,  -999.00,    22.75,2,   -120.2,2,      2.1,     0.64,2,   0.00059,2,    0.020,2,    0.138,2,    0.054,2,   99.510,2
  096U20180111,  SR03,    46,  1,     28,     28,2,20180128,0025,-61.3502, 139.8407, 4305,    251.1,   2.0567,  34.5117,2,  34.5289,2,    177.9,2,    177.6,2,    72.50,2,    34.98,2,     0.02,2,     2.42,2,        0,2,    1.247,2,    0.660,2,     0.56,3,   2255.8,2,   2330.6,2,-999.0000,9,  -999.00,    24.71,2,   -139.0,2,      2.0,     0.37,2,   0.00062,2,    0.015,2,    0.060,2,    0.000,2,   99.618,2
  096U20180111,  SR03,    46,  1,     27,     27,2,20180128,0025,-61.3502, 139.8407, 4305,    351.2,   2.1556,  34.5946,2,  34.5934,2,    173.8,2,    172.7,2,    76.60,2,    34.30,2,     0.01,2,     2.37,2,        0,2,    0.798,2,    0.405,2,     0.29,3,   2257.0,2,   2336.9,2,-999.0000,9,  -999.00,    22.77,2,   -145.6,2,      2.3,     0.32,2,   0.00046,2,    0.007,2,    0.048,2,    0.000,2,   99.815,2
  096U20180111,  SR03,    46,  1,     26,     26,2,20180128,0025,-61.3502, 139.8407, 4305,    449.7,   2.1588,  34.6401,2,  34.6395,2,    175.0,2,    173.9,2,    78.30,2,    33.53,2,     0.01,2,     2.32,2,        0,2,    0.594,2,    0.295,2,     0.06,3,   2256.8,2,   2340.6,2,-999.0000,9,  -999.00,    22.62,2,   -144.3,2,      2.4,     0.38,2,   0.00040,2,    0.005,2,    0.048,2,    0.000,2,   99.884,2
  096U20180111,  SR03,    46,  1,     25,     25,2,20180128,0025,-61.3502, 139.8407, 4305,    551.1,   2.1252,  34.6763,2,  34.6761,2,    178.6,2,    177.6,2,    79.90,2,    32.73,2,     0.01,2,     2.27,2,        0,2,    0.462,2,    0.232,2,        0,3,   2256.2,2,   2343.5,2,-999.0000,9,  -999.00,    21.90,2,   -145.1,2,      1.7,     0.35,2,   0.00035,2,    0.002,2,    0.042,2,    0.000,2,   99.939,2
  096U20180111,  SR03,    46,  1,     24,     24,2,20180128,0025,-61.3502, 139.8407, 4305,    651.9,   2.0961,  34.7042,2,  34.7038,2,    182.4,2,    182.1,2,    81.10,2,    32.01,2,     0.01,2,     2.22,2,        0,2,    0.361,2,    0.178,2,     0.12,3,   2252.6,2,   2345.0,2,-999.0000,9,  -999.00,    20.99,2,   -149.2,2,      1.8,     0.41,2,   0.00034,2,    0.001,2,    0.036,2,    0.000,2,   99.970,2
  096U20180111,  SR03,    46,  1,     23,     23,2,20180128,0025,-61.3502, 139.8407, 4305,    750.5,   2.0665,  34.7200,2,  34.7195,2,    185.9,2,    185.3,2,    81.70,2,    31.52,2,     0.00,2,     2.18,2,        0,2,    0.290,6,    0.144,2,    -0.15,3,   2250.9,2,   2346.4,2,-999.0000,9,  -999.00,    20.31,6,   -144.9,2,      1.8,     0.35,2,   0.00034,2,    0.001,2,    0.042,2,    0.000,2,   99.975,2
  096U20180111,  SR03,    46,  1,     22,     22,2,20180128,0025,-61.3502, 139.8407, 4305,    850.0,   2.0224,  34.7296,2,  34.7294,2,    188.4,2,    188.1,2,    82.80,2,    31.19,2,     0.00,2,     2.16,2,        0,2,    0.251,2,    0.129,2,    -0.14,3,   2249.1,2,   2349.0,2,-999.0000,9,  -999.00,    19.15,2,   -145.9,2,      2.0,     0.46,2,   0.00033,2,    0.001,2,    0.036,2,    0.000,2,   99.984,2
  096U20180111,  SR03,    46,  1,     21,     21,2,20180128,0025,-61.3502, 139.8407, 4305,    950.1,   1.9183,  34.7346,2,  34.7346,2,    190.4,2,    189.8,2,    85.30,2,    31.11,2,     0.00,2,     2.15,2,        0,2, -999.000,9, -999.000,9,     -999,9,   -999.0,9,   -999.0,9,-999.0000,9,  -999.00,  -999.00,9,   -999.0,9,   -999.0,  -999.00,9,   0.00034,2,    0.000,2,    0.042,2,    0.000,2,  100.005,2
  096U20180111,  SR03,    46,  1,     20,     20,2,20180128,0025,-61.3502, 139.8407, 4305,   1051.0,   1.8453,  34.7401,2,  34.7400,2,    192.8,2,    192.3,2,    87.30,2,    30.95,2,     0.00,2,     2.14,2,        0,2,    0.240,2,    0.117,2,    -0.04,3,   2252.2,2,   2351.5,2,-999.0000,9,  -999.00,    19.57,2,   -152.0,2,      1.7,     0.47,2,   0.00031,2,   -0.001,2,    0.036,2,    0.000,2,  100.031,2
  096U20180111,  SR03,    46,  1,     19,     19,2,20180128,0025,-61.3502, 139.8407, 4305,   1201.0,   1.7290,  34.7438,2,  34.7430,2,    195.6,2,    195.7,2,    90.10,2,    30.75,2,     0.00,2,     2.13,2,        0,2, -999.000,9, -999.000,9,     -999,9,   -999.0,9,   -999.0,9,-999.0000,9,  -999.00,  -999.00,9,   -999.0,9,   -999.0,  -999.00,9,   0.00031,2,   -0.002,2,    0.036,2,    0.000,2,  100.041,2
  096U20180111,  SR03,    46,  1,     18,     18,2,20180128,0025,-61.3502, 139.8407, 4305,   1350.3,   1.6170,  34.7429,2,  34.7421,2,    197.4,2,    197.5,2,    93.40,2,    30.80,2,     0.00,2,     2.14,2,        0,2,    0.217,2,    0.100,2,    -0.01,3,   2251.4,2,   2355.2,2,-999.0000,9,  -999.00,    19.24,2,   -148.1,2,      2.0,     0.45,2,   0.00031,2,   -0.001,2,    0.036,2,    0.000,2,  100.032,2
  096U20180111,  SR03,    46,  1,     17,     17,2,20180128,0025,-61.3502, 139.8407, 4305,   1500.5,   1.4880,  34.7399,2,  34.7402,2,    199.2,2,    199.5,2,    97.20,2,    30.87,2,     0.00,2,     2.15,2,        0,2, -999.000,9, -999.000,9,     -999,9,   -999.0,9,   -999.0,9,-999.0000,9,  -999.00,  -999.00,9,   -999.0,9,   -999.0,  -999.00,9,   0.00028,2,   -0.003,2,    0.036,2,    0.000,2,  100.080,2
  096U20180111,  SR03,    46,  1,     16,     16,2,20180128,0025,-61.3502, 139.8407, 4305,   1702.4,   1.3155,  34.7335,2,  34.7339,2,    201.5,2,    201.6,2,   102.20,2,    31.07,2,     0.00,2,     2.17,2,        0,2,    0.206,2,    0.095,2,        0,3,   2253.2,2,   2359.2,2,-999.0000,9,  -999.00,    18.75,2,   -157.6,2,      1.6,     0.42,2,   0.00029,2,   -0.003,2,    0.042,2,    0.000,2,  100.078,2
  096U20180111,  SR03,    46,  1,     15,     15,2,20180128,0025,-61.3502, 139.8407, 4305,   1951.7,   1.1352,  34.7247,2,  34.7246,2,    203.6,2,    203.8,2,   107.60,2,    31.44,2,     0.00,2,     2.19,2,        0,2, -999.000,9, -999.000,9,     -999,9,   -999.0,9,   -999.0,9,-999.0000,9,  -999.00,  -999.00,9,   -999.0,9,   -999.0,  -999.00,9,   0.00027,2,   -0.003,2,    0.036,2,    0.000,2,  100.084,2
  096U20180111,  SR03,    46,  1,     14,     14,2,20180128,0025,-61.3502, 139.8407, 4305,   2202.5,   0.9417,  34.7145,2,  34.7146,2,    206.1,2,    206.3,2,   113.10,2,    31.80,2,     0.00,2,     2.21,2,        0,2,    0.265,2,    0.123,2,        0,3,   2258.0,6,   2360.9,6,-999.0000,9,  -999.00,    19.04,2,   -158.3,2,      2.1,     0.44,2,   0.00028,2,   -0.004,2,    0.036,2,    0.000,2,  100.099,2
  096U20180111,  SR03,    46,  1,     13,     13,2,20180128,0025,-61.3502, 139.8407, 4305,   2452.3,   0.7776,  34.7058,2,  34.7058,2,    208.7,2,    208.7,2,   117.90,2,    32.09,2,     0.00,2,     2.24,2,        0,2, -999.000,9, -999.000,9,     -999,9,   -999.0,9,   -999.0,9,-999.0000,9,  -999.00,  -999.00,9,   -999.0,9,   -999.0,  -999.00,9,   0.00025,2,   -0.004,2,    0.042,2,    0.000,2,  100.106,2
  096U20180111,  SR03,    46,  1,     12,     12,2,20180128,0025,-61.3502, 139.8407, 4305,   2700.1,   0.6113,  34.6972,2,  34.6967,2,    211.6,2,    211.8,2,   122.00,2,    32.27,2,     0.00,2,     2.25,2,        0,2,    0.389,2,    0.177,2,     0.05,3,   2260.7,2,   2361.4,2,-999.0000,9,  -999.00,    18.76,2,   -155.3,2,      2.3,     0.41,2,   0.00025,2,   -0.004,2,    0.036,2,    0.000,2,  100.113,2
  096U20180111,  SR03,    46,  1,     11,     11,2,20180128,0025,-61.3502, 139.8407, 4305,   2954.6,   0.4676,  34.6900,2,  34.6895,2,    214.9,2,    215.2,2,   125.50,2,    32.40,2,     0.00,2,     2.26,2,        0,2, -999.000,9, -999.000,9,     -999,9,   -999.0,9,   -999.0,9,-999.0000,9,  -999.00,  -999.00,9,   -999.0,9,   -999.0,  -999.00,9,   0.00024,2,   -0.005,2,    0.042,2,    0.000,2,  100.116,2
  096U20180111,  SR03,    46,  1,     10,     10,2,20180128,0025,-61.3502, 139.8407, 4305,   3202.2,   0.3687,  34.6851,2,  34.6850,2,    217.9,2,    218.4,2,   128.00,2,    32.43,2,     0.00,2,     2.27,2,    -0.01,2,    0.605,2,    0.294,2,     0.02,3,   2260.5,2,   2361.0,2,-999.0000,9,  -999.00,    17.93,2,   -160.8,2,      2.1,     0.36,2,   0.00023,2,   -0.005,2,    0.042,2,    0.000,2,  100.116,2
  096U20180111,  SR03,    46,  1,      9,      9,2,20180128,0025,-61.3502, 139.8407, 4305,   3451.1,   0.2771,  34.6803,2,  34.6798,2,    221.3,2,    221.3,2,   129.50,2,    32.40,2,     0.01,2,     2.27,2,        0,2, -999.000,9, -999.000,9,     -999,9,   -999.0,9,   -999.0,9,-999.0000,9,  -999.00,  -999.00,9,   -999.0,9,   -999.0,  -999.00,9,   0.00023,2,   -0.005,2,    0.036,2,    0.000,2,  100.117,2
  096U20180111,  SR03,    46,  1,      8,      8,2,20180128,0025,-61.3502, 139.8407, 4305,   3702.2,   0.1962,  34.6756,2,  34.6760,2,    224.6,2,    224.3,2,   130.20,2,    32.47,2,     0.01,2,     2.27,2,        0,2,    0.920,2,    0.455,2,     0.19,3,   2260.8,2,   2360.3,2,-999.0000,9,  -999.00,    18.58,2,   -157.5,6,      2.8,     0.37,6,   0.00022,2,   -0.004,2,    0.036,2,    0.000,2,  100.110,2
  096U20180111,  SR03,    46,  1,      7,      7,2,20180128,0025,-61.3502, 139.8407, 4305,   3900.6,   0.1233,  34.6710,2,  34.6705,2,    227.8,2,    227.2,2,   130.10,2,    32.41,2,     0.01,2,     2.27,2,        0,2, -999.000,9, -999.000,9,     -999,9,   -999.0,9,   -999.0,9,-999.0000,9,  -999.00,  -999.00,9,   -999.0,9,   -999.0,  -999.00,9,   0.00023,2,   -0.004,2,    0.036,2,    0.000,2,  100.100,2
  096U20180111,  SR03,    46,  1,      6,      6,2,20180128,0025,-61.3502, 139.8407, 4305,   4101.2,   0.0602,  34.6662,2,  34.6656,2,    230.8,2,    230.2,2,   129.00,2,    32.40,2,     0.00,2,     2.27,2,        0,2,    1.340,2,    0.693,2,     0.33,3,   2260.7,2,   2358.2,2,-999.0000,9,  -999.00,    18.36,2,   -154.5,2,      1.9,     0.39,2,   0.00024,2,   -0.003,2,    0.042,2,    0.000,2,  100.081,2
  096U20180111,  SR03,    46,  1,      5,      5,2,20180128,0025,-61.3502, 139.8407, 4305,   4249.1,  -0.0231,  34.6590,2,  34.6586,2,    234.2,2,    234.1,2,   126.50,2,    32.30,2,     0.01,2,     2.26,2,        0,2,    1.668,2,    0.873,2,     0.59,3,   2258.8,2,   2356.8,6,-999.0000,9,  -999.00,    18.54,2,   -154.5,2,      1.9,     0.38,2,   0.00028,2,   -0.001,2,    0.036,2,    0.000,2,  100.025,2
  096U20180111,  SR03,    46,  1,      4,      4,2,20180128,0025,-61.3502, 139.8407, 4305,   4351.0,  -0.0828,  34.6535,2,  34.6528,2,    236.9,2,    236.8,2,   124.90,2,    32.23,2,     0.01,2,     2.26,2,        0,2,    1.933,2,    1.018,2,      0.9,3,   2259.0,6,   2356.3,6,-999.0000,9,  -999.00,    18.26,2,   -150.8,2,      2.1,     0.47,2,   0.00047,2,    0.011,2,    0.042,2,    0.000,2,   99.718,2
  096U20180111,  SR03,    46,  1,      3,      3,2,20180128,0025,-61.3502, 139.8407, 4305,   4350.9,  -0.0831,  34.6535,2,-999.0000,9,    236.9,2,   -999.0,9,  -999.00,9,  -999.00,9,  -999.00,9,  -999.00,9,     -999,9, -999.000,9, -999.000,9,     -999,9,   -999.0,9,   -999.0,9,-999.0000,9,  -999.00,  -999.00,9,   -999.0,9,   -999.0,  -999.00,9,   0.00048,2,    0.012,2,    0.036,2,    0.000,2,   99.709,2
  096U20180111,  SR03,    46,  1,      2,      2,2,20180128,0025,-61.3502, 139.8407, 4305,   4390.5,  -0.0836,  34.6533,2,-999.0000,9,    237.4,2,   -999.0,9,  -999.00,9,  -999.00,9,  -999.00,9,  -999.00,9,     -999,9, -999.000,9, -999.000,9,     -999,9,   -999.0,9,   -999.0,9,-999.0000,9,  -999.00,  -999.00,9,   -999.0,9,   -999.0,  -999.00,9,   0.00089,2,    0.032,2,    0.042,2,    0.000,2,   99.191,2
  096U20180111,  SR03,    46,  1,      1,      1,2,20180128,0025,-61.3502, 139.8407, 4305,   4390.4,  -0.0835,  34.6531,2,  34.6535,2,    237.4,2,    237.0,2,   124.70,2,    32.19,2,     0.01,2,     2.26,2,        0,2,    1.962,2,    1.052,2,     0.93,3,   2258.9,2,   2357.0,2,-999.0000,9,  -999.00,    18.59,2,   -149.5,2,      2.1,     0.37,2,   0.00092,2,    0.033,2,    0.048,2,    0.000,2,   99.187,2