BOTTLE,20230418CCHSIOENA
EXPOCODE,SECT_ID,STNNBR,CASTNO,SAMPNO,BTLNBR,BTLNBR_FLAG_W,DATE,TIME,LATITUDE,LONGITUDE,DEPTH,CTDPRS,CTDTMP,CTDSAL,CTDSAL_FLAG_W,SALNTY,SALNTY_FLAG_W,CTDOXY,CTDOXY_FLAG_W,OXYGEN,OXYGEN_FLAG_W,SILCAT,SILCAT_FLAG_W,NITRAT,NITRAT_FLAG_W,NITRIT,NITRIT_FLAG_W,PHSPHT,PHSPHT_FLAG_W,NH4,NH4_FLAG_W,CFC-11,CFC-11_FLAG_W,CFC-12,CFC-12_FLAG_W,SF6,SF6_FLAG_W,TCARBN,TCARBN_FLAG_W,ALKALI,ALKALI_FLAG_W,PH_TOT,PH_TOT_FLAG_W,PH_TMP,N2O,N2O_FLAG_W,DELC14,DELC14_FLAG_W,C14ERR,DELC13,DELC13_FLAG_W,CTDBETA700,CTDBETA700_FLAG_W,CTDBEAMCP,CTDBEAMCP_FLAG_W,CTDFLUOR,CTDFLUOR_FLAG_W,PAR,PAR_FLAG_W,CTDXMISS,CTDXMISS_FLAG_W
,,,,,,,,,,,METERS,DBAR,ITS-90,PSS-78,,PSS-78,,UMOL/KG,,UMOL/KG,,UMOL/KG,,UMOL/KG,,UMOL/KG,,UMOL/KG,,UMOL/KG,,PMOL/KG,,PMOL/KG,,FMOL/KG,,UMOL/KG,,UMOL/KG,,,,DEG C,NMOL/KG,,/MILLE,,/MILLE,/MILLE,,VOLTS,,1/M,,MG/M^3,,UMOL/M^2/SEC,,%TRANS,
  096U20180111,  SR03,    88,  1,     36,     36,2,20180210,1630,-62.0198, 134.1712, 4327,     10.4,   2.0591,  33.7406,2,  33.7410,2,    332.3,2,    333.6,2,    10.80,2,    21.85,2,     0.26,2,     1.30,2,     0.24,2,    5.416,2,    2.929,2,     3.44,2,   2138.8,2,   2286.2,2,-999.0000,9,  -999.00,    14.21,2,   -999.0,9,   -999.0,  -999.00,9,   0.00408,2,    0.349,2,    3.576,2,    3.230,2,   91.649,2
  096U20180111,  SR03,    88,  1,     35,     35,2,20180210,1630,-62.0198, 134.1712, 4327,     10.4,   2.0588,  33.7407,2,-999.0000,9,    332.3,2,   -999.0,9,  -999.00,9,  -999.00,9,  -999.00,9,  -999.00,9,     -999,9, -999.000,9, -999.000,9,     -999,9,   -999.0,9,   -999.0,9,-999.0000,9,  -999.00,  -999.00,9,   -999.0,9,   -999.0,  -999.00,9,   0.00400,2,    0.351,2,    3.582,2,    3.220,2,   91.593,2
  096U20180111,  SR03,    88,  1,     34,     34,2,20180210,1630,-62.0198, 134.1712, 4327,     35.3,   2.0552,  33.7408,2,  33.7403,2,    332.0,2,    333.5,2,    10.90,2,    21.91,2,     0.26,2,     1.33,2,     0.25,2, -999.000,9, -999.000,9,     -999,9,   2137.4,6,   2285.9,6,-999.0000,9,  -999.00,  -999.00,9,   -999.0,9,   -999.0,  -999.00,9,   0.00402,2,    0.354,2,    3.588,2,    0.164,2,   91.535,2
  096U20180111,  SR03,    88,  1,     33,     33,2,20180210,1630,-62.0198, 134.1712, 4327,     50.3,   1.6374,  33.7650,2,  33.7717,2,    330.9,2,    330.6,2,    17.30,2,    22.90,2,     0.25,2,     1.50,2,     0.63,2,    5.458,2,    2.877,2,     3.72,2,   2147.6,2,   2288.5,2,-999.0000,9,  -999.00,    15.22,2,   -999.0,9,   -999.0,  -999.00,9,   0.00416,2,    0.350,2,    3.870,2,    0.021,2,   91.634,2
  096U20180111,  SR03,    88,  1,     32,     32,2,20180210,1630,-62.0198, 134.1712, 4327,     50.3,   1.6048,  33.7678,2,-999.0000,9,    330.9,2,   -999.0,9,  -999.00,9,  -999.00,9,  -999.00,9,  -999.00,9,     -999,9, -999.000,9, -999.000,9,     -999,9,   -999.0,9,   -999.0,9,-999.0000,9,  -999.00,  -999.00,9,   -999.0,9,   -999.0,  -999.00,9,   0.00421,2,    0.349,2,    3.846,2,    0.021,2,   91.657,2
  096U20180111,  SR03,    88,  1,     31,     31,2,20180210,1630,-62.0198, 134.1712, 4327,     70.6,  -1.0715,  34.0633,2,  34.0687,2,    301.6,2,    298.3,2,    50.20,2,    29.65,2,     0.17,2,     2.20,2,     0.83,2,    4.612,6,    2.503,6,     2.83,6,   2204.9,2,   2304.1,2,-999.0000,9,  -999.00,    18.22,6,   -999.0,9,   -999.0,  -999.00,9,   0.00180,2,    0.109,2,    0.870,2,    0.000,2,   97.301,2
  096U20180111,  SR03,    88,  1,     30,     30,2,20180210,1630,-62.0198, 134.1712, 4327,    120.8,   0.2240,  34.3118,2,  34.3154,2,    226.9,2,    235.4,2,    63.80,2,    32.84,2,     0.08,2,     2.31,2,        0,2, -999.000,9, -999.000,9,     -999,9,   2232.6,2,   2317.2,2,-999.0000,9,  -999.00,  -999.00,9,   -999.0,9,   -999.0,  -999.00,9,   0.00076,2,    0.036,2,    0.228,2,    0.000,2,   99.095,2
  096U20180111,  SR03,    88,  1,     29,     29,2,20180210,1630,-62.0198, 134.1712, 4327,    171.0,   1.6637,  34.5296,2,  34.5254,2,    186.1,2,    185.4,2,    75.30,2,    34.08,2,     0.02,2,     2.39,2,        0,2, -999.000,9, -999.000,9,     -999,9,   2256.2,2,   2331.9,2,-999.0000,9,  -999.00,  -999.00,9,   -999.0,9,   -999.0,  -999.00,9,   0.00058,2,    0.020,2,    0.108,2,    0.000,2,   99.505,2
  096U20180111,  SR03,    88,  1,     28,     28,2,20180210,1630,-62.0198, 134.1712, 4327,    260.5,   1.9835,  34.6266,2,  34.6261,2,    176.8,2,    175.1,2,    79.80,2,    33.52,2,     0.01,2,     2.34,2,        0,2,    0.728,2,    0.383,2,     0.32,2,   2259.1,2,   2339.5,2,-999.0000,9,  -999.00,    23.53,2,   -999.0,9,   -999.0,  -999.00,9,   0.00043,2,    0.010,2,    0.066,2,    0.000,2,   99.752,2
  096U20180111,  SR03,    88,  1,     27,     27,2,20180210,1630,-62.0198, 134.1712, 4327,    360.5,   2.0094,  34.6682,2,  34.6670,2,    178.3,2,    177.4,2,    81.50,2,    32.76,2,     0.00,2,     2.29,2,        0,2,    0.537,2,    0.287,2,     0.15,2,   2255.7,2,   2341.9,6,-999.0000,9,  -999.00,    22.72,2,   -999.0,9,   -999.0,  -999.00,9,   0.00040,2,    0.006,2,    0.060,2,    0.000,2,   99.842,2
  096U20180111,  SR03,    88,  1,     26,     26,2,20180210,1630,-62.0198, 134.1712, 4327,    450.4,   1.9861,  34.6945,2,  34.6940,2,    180.9,2,    181.0,2,    82.50,2,    32.18,2,     0.00,2,     2.24,2,    -0.01,2, -999.000,9, -999.000,9,     -999,9,   -999.0,9,   -999.0,9,-999.0000,9,  -999.00,  -999.00,9,   -999.0,9,   -999.0,  -999.00,9,   0.00038,2,    0.005,2,    0.054,2,    0.000,2,   99.880,2
  096U20180111,  SR03,    88,  1,     25,     25,2,20180210,1630,-62.0198, 134.1712, 4327,    550.2,   1.9495,  34.7122,2,  34.7098,2,    184.3,2,    184.4,2,    83.70,2,    31.72,2,     0.00,2,     2.21,2,    -0.01,2,    0.369,2,    0.189,2,      0.1,2,   2253.1,2,   2347.7,2,-999.0000,9,  -999.00,    20.50,2,   -999.0,9,   -999.0,  -999.00,9,   0.00038,2,    0.004,2,    0.060,2,    0.000,2,   99.903,2
  096U20180111,  SR03,    88,  1,     24,     24,2,20180210,1630,-62.0198, 134.1712, 4327,    651.0,   1.9063,  34.7230,2,-999.0000,9,    187.4,2,   -999.0,9,  -999.00,9,  -999.00,9,  -999.00,9,  -999.00,9,     -999,9, -999.000,9, -999.000,9,     -999,9,   -999.0,9,   -999.0,9,-999.0000,9,  -999.00,  -999.00,9,   -999.0,9,   -999.0,  -999.00,9,   0.00035,2,    0.003,2,    0.048,2,    0.000,2,   99.931,2
  096U20180111,  SR03,    88,  1,     23,     23,2,20180210,1630,-62.0198, 134.1712, 4327,    650.9,   1.9063,  34.7230,2,  34.7227,2,    187.4,2,    187.4,2,    84.80,2,    31.40,2,     0.00,2,     2.19,2,    -0.01,2, -999.000,9, -999.000,9,     -999,9,   -999.0,9,   -999.0,9,-999.0000,9,  -999.00,  -999.00,9,   -999.0,9,   -999.0,  -999.00,9,   0.00035,2,    0.003,2,    0.054,2,    0.000,2,   99.926,2
  096U20180111,  SR03,    88,  1,     22,     22,2,20180210,1630,-62.0198, 134.1712, 4327,    750.3,   1.8449,  34.7318,2,  34.7319,2,    190.1,2,    189.8,2,    86.40,2,    31.17,2,     0.00,2,     2.17,2,    -0.01,2,    0.298,2,    0.149,2,    -0.07,2,   2252.7,2,   2349.8,2,-999.0000,9,  -999.00,    20.43,2,   -999.0,9,   -999.0,  -999.00,9,   0.00034,2,    0.002,2,    0.048,2,    0.000,2,   99.943,2
  096U20180111,  SR03,    88,  1,     21,     21,2,20180210,1630,-62.0198, 134.1712, 4327,    900.5,   1.7395,  34.7396,2,  34.7405,2,    194.3,2,    194.8,2,    89.10,2,    30.76,2,     0.00,2,     2.15,2,    -0.01,2, -999.000,9, -999.000,9,     -999,9,   2249.6,2,   2351.6,2,-999.0000,9,  -999.00,  -999.00,9,   -999.0,9,   -999.0,  -999.00,9,   0.00033,2,    0.002,2,    0.048,2,    0.000,2,   99.957,2
  096U20180111,  SR03,    88,  1,     20,     20,2,20180210,1630,-62.0198, 134.1712, 4327,   1050.6,   1.6357,  34.7410,2,  34.7413,2,    196.5,2,    196.4,2,    92.00,2,    30.90,2,     0.00,2,     2.14,2,    -0.01,2,    0.236,2,    0.119,2,    -0.02,2,   2250.6,2,   2353.7,2,-999.0000,9,  -999.00,    18.81,2,   -999.0,9,   -999.0,  -999.00,9,   0.00033,2,    0.001,2,    0.048,2,    0.000,2,   99.987,2
  096U20180111,  SR03,    88,  1,     19,     19,2,20180210,1630,-62.0198, 134.1712, 4327,   1201.3,   1.5138,  34.7387,2,  34.7366,2,    198.4,2,    199.0,2,    95.40,2,    30.97,2,     0.00,2,     2.15,2,    -0.01,2, -999.000,9, -999.000,9,     -999,9,   -999.0,9,   -999.0,9,-999.0000,9,  -999.00,  -999.00,9,   -999.0,9,   -999.0,  -999.00,9,   0.00032,2,    0.000,2,    0.048,2,    0.000,2,   99.990,2
  096U20180111,  SR03,    88,  1,     18,     18,2,20180210,1630,-62.0198, 134.1712, 4327,   1201.2,   1.5125,  34.7385,2,-999.0000,9,    198.4,2,   -999.0,9,  -999.00,9,  -999.00,9,  -999.00,9,  -999.00,9,     -999,9, -999.000,9, -999.000,9,     -999,9,   2251.3,2,   2354.1,2,-999.0000,9,  -999.00,  -999.00,9,   -999.0,9,   -999.0,  -999.00,9,   0.00032,2,    0.000,2,    0.042,2,    0.000,2,   99.989,2
  096U20180111,  SR03,    88,  1,     17,     17,2,20180210,1630,-62.0198, 134.1712, 4327,   1400.1,   1.3621,  34.7351,2,  34.7348,2,    201.2,2,    201.9,2,    99.60,2,    31.11,2,     0.00,2,     2.16,2,    -0.01,2, -999.000,9, -999.000,9,     -999,9,   2252.3,2,   2357.3,2,-999.0000,9,  -999.00,  -999.00,9,   -999.0,9,   -999.0,  -999.00,9,   0.00032,2,    0.000,2,    0.048,2,    0.000,2,  100.005,2
  096U20180111,  SR03,    88,  1,     16,     16,2,20180210,1630,-62.0198, 134.1712, 4327,   1600.5,   1.2155,  34.7289,2,  34.7263,2,    203.0,2,    203.4,2,   104.10,2,    31.34,2,     0.00,2,     2.18,2,    -0.01,2,    0.221,2,    0.110,2,     0.14,2,   -999.0,9,   -999.0,9,-999.0000,9,  -999.00,    19.02,2,   -999.0,9,   -999.0,  -999.00,9,   0.00029,2,   -0.001,2,    0.042,2,    0.000,2,  100.023,2
  096U20180111,  SR03,    88,  1,     15,     15,2,20180210,1630,-62.0198, 134.1712, 4327,   1800.5,   1.0726,  34.7216,2,  34.7216,2,    204.6,2,    204.7,2,   108.30,2,    31.57,2,     0.00,2,     2.20,2,    -0.01,2,    0.234,2,    0.119,2,     0.21,2,   2257.2,6,   2359.2,6,-999.0000,9,  -999.00,    18.67,2,   -999.0,9,   -999.0,  -999.00,9,   0.00029,2,   -0.001,2,    0.042,2,    0.000,2,  100.017,2
  096U20180111,  SR03,    88,  1,     14,     14,2,20180210,1630,-62.0198, 134.1712, 4327,   2000.9,   0.9298,  34.7141,2,-999.0000,9,    206.8,2,   -999.0,9,  -999.00,9,  -999.00,9,  -999.00,9,  -999.00,9,     -999,9, -999.000,9, -999.000,9,     -999,9,   -999.0,9,   -999.0,9,-999.0000,9,  -999.00,  -999.00,9,   -999.0,9,   -999.0,  -999.00,9,   0.00027,2,   -0.002,2,    0.042,2,    0.000,2,  100.039,2
  096U20180111,  SR03,    88,  1,     13,     13,2,20180210,1630,-62.0198, 134.1712, 4327,   2000.9,   0.9283,  34.7140,2,  34.7137,2,    206.8,2,    206.5,2,   112.40,2,    31.90,2,     0.00,2,     2.22,2,    -0.01,2,    0.259,2,    0.125,2,    -0.08,2,   2258.6,2,   2361.1,2,-999.0000,9,  -999.00,    19.68,2,   -999.0,9,   -999.0,  -999.00,9,   0.00028,2,   -0.002,2,    0.042,2,    0.000,2,  100.039,2
  096U20180111,  SR03,    88,  1,     12,     12,2,20180210,1630,-62.0198, 134.1712, 4327,   2200.1,   0.7879,  34.7064,2,  34.7060,2,    208.6,2,    208.6,2,   116.20,2,    32.15,2,     0.00,2,     2.24,2,    -0.01,2, -999.000,9, -999.000,9,     -999,9,   2258.7,2,   2360.6,2,-999.0000,9,  -999.00,  -999.00,9,   -999.0,9,   -999.0,  -999.00,9,   0.00026,2,   -0.002,2,    0.042,2,    0.000,2,  100.037,2
  096U20180111,  SR03,    88,  1,     11,     11,2,20180210,1630,-62.0198, 134.1712, 4327,   2450.7,   0.6231,  34.6977,2,  34.6973,2,    211.6,2,    211.5,2,   120.50,2,    32.37,2,     0.00,2,     2.26,2,    -0.01,2,    0.376,2,    0.187,2,     0.13,2,   -999.0,9,   -999.0,9,-999.0000,9,  -999.00,    18.66,2,   -999.0,9,   -999.0,  -999.00,9,   0.00028,2,   -0.002,2,    0.042,2,    0.000,2,  100.043,2
  096U20180111,  SR03,    88,  1,     10,     10,2,20180210,1630,-62.0198, 134.1712, 4327,   2700.1,   0.4811,  34.6899,2,  34.6868,4,    215.2,2,    215.0,2,   123.20,2,    32.44,2,     0.00,2,     2.26,2,    -0.01,2,    0.490,2,    0.245,2,     0.05,2,   2261.9,2,   2359.9,2,-999.0000,9,  -999.00,    18.23,2,   -999.0,9,   -999.0,  -999.00,9,   0.00027,2,   -0.001,2,    0.042,2,    0.000,2,  100.032,2
  096U20180111,  SR03,    88,  1,      9,      9,2,20180210,1630,-62.0198, 134.1712, 4327,   2951.0,   0.3600,  34.6841,2,  34.6837,2,    218.4,2,    218.2,2,   125.50,2,    32.50,2,     0.00,2,     2.27,2,    -0.01,2,    0.620,2,    0.310,2,     0.03,2,   -999.0,9,   -999.0,9,-999.0000,9,  -999.00,    18.62,2,   -999.0,9,   -999.0,  -999.00,9,   0.00025,2,   -0.002,2,    0.042,2,    0.000,2,  100.039,2
  096U20180111,  SR03,    88,  1,      8,      8,2,20180210,1630,-62.0198, 134.1712, 4327,   3200.7,   0.2847,  34.6813,2,  34.6814,2,    221.5,2,    220.7,2,   128.80,2,    32.58,2,     0.00,2,     2.27,2,    -0.01,2,    0.699,2,    0.346,2,     0.03,2,   2260.8,2,   2359.6,6,-999.0000,9,  -999.00,    18.19,2,   -999.0,9,   -999.0,  -999.00,9,   0.00026,2,   -0.001,2,    0.042,2,    0.000,2,  100.034,2
  096U20180111,  SR03,    88,  1,      7,      7,2,20180210,1630,-62.0198, 134.1712, 4327,   3450.5,   0.2106,  34.6775,2,  34.6769,2,    224.2,2,    223.2,2,   130.00,2,    32.63,2,     0.00,2,     2.28,2,    -0.01,2,    0.830,2,    0.407,2,     0.28,2,   -999.0,9,   -999.0,9,-999.0000,9,  -999.00,    18.63,2,   -999.0,9,   -999.0,  -999.00,9,   0.00026,2,   -0.001,2,    0.048,2,    0.000,2,  100.023,2
  096U20180111,  SR03,    88,  1,      6,      6,2,20180210,1630,-62.0198, 134.1712, 4327,   3700.8,   0.1296,  34.6722,2,  34.6708,2,    227.7,2,    226.8,2,   129.70,2,    32.60,2,     0.00,2,     2.28,2,    -0.01,2,    1.044,2,    0.525,2,     0.07,2,   2258.8,6,   2359.6,6,-999.0000,9,  -999.00,    18.08,2,   -999.0,9,   -999.0,  -999.00,9,   0.00024,2,   -0.002,2,    0.042,2,    0.000,2,  100.039,2
  096U20180111,  SR03,    88,  1,      5,      5,2,20180210,1630,-62.0198, 134.1712, 4327,   3950.7,   0.0472,  34.6663,2,  34.6643,2,    231.8,2,    230.6,2,   128.00,2,    32.51,2,     0.01,2,     2.27,2,    -0.01,2,    1.331,2,    0.631,2,     0.47,2,   2258.4,2,   2357.2,2,-999.0000,9,  -999.00,    19.19,2,   -999.0,9,   -999.0,  -999.00,9,   0.00025,2,   -0.001,2,    0.042,2,    0.000,2,  100.019,2
  096U20180111,  SR03,    88,  1,      4,      4,2,20180210,1630,-62.0198, 134.1712, 4327,   4200.9,  -0.0668,  34.6559,2,  34.6544,2,    237.6,2,    236.7,2,   118.80,2,    32.32,2,     0.00,2,     2.25,2,    -0.01,2,    1.814,2,    0.956,2,     0.72,2,   2258.0,2,   2355.2,2,-999.0000,9,  -999.00,    18.11,2,   -999.0,9,   -999.0,  -999.00,9,   0.00030,2,    0.004,2,    0.042,2,    0.000,2,   99.910,2
  096U20180111,  SR03,    88,  1,      3,      3,2,20180210,1630,-62.0198, 134.1712, 4327,   4349.8,  -0.1703,  34.6482,2,  34.6472,2,    242.2,2,    242.2,2,   110.20,2,    32.18,2,     0.00,2,     2.24,2,    -0.01,2,    2.152,2,    1.153,2,     0.88,2,   2255.5,2,   2352.2,2,-999.0000,9,  -999.00,    19.19,2,   -999.0,9,   -999.0,  -999.00,9,   0.00055,2,    0.018,2,    0.042,2,    0.000,2,   99.549,2
  096U20180111,  SR03,    88,  1,      2,      2,2,20180210,1630,-62.0198, 134.1712, 4327,   4413.7,  -0.2037,  34.6449,2,-999.0000,9,    245.2,2,   -999.0,9,  -999.00,9,  -999.00,9,  -999.00,9,  -999.00,9,     -999,9, -999.000,9, -999.000,9,     -999,9,   -999.0,9,   -999.0,9,-999.0000,9,  -999.00,  -999.00,9,   -999.0,9,   -999.0,  -999.00,9,   0.00096,2,    0.035,2,    0.042,2,    0.000,2,   99.121,2
  096U20180111,  SR03,    88,  1,      1,      1,2,20180210,1630,-62.0198, 134.1712, 4327,   4413.7,  -0.2037,  34.6449,2,  34.6449,2,    245.2,2,    243.9,2,   108.20,2,    32.10,2,     0.01,2,     2.24,2,        0,2,    2.244,2,    1.210,2,     0.97,2,   2255.6,2,   2352.1,2,-999.0000,9,  -999.00,    18.35,2,   -999.0,9,   -999.0,  -999.00,9,   0.00091,2,    0.035,2,    0.042,2,    0.000,2,   99.137,2