BOTTLE,20230413CCHSIOENA
EXPOCODE,SECT_ID,STNNBR,CASTNO,SAMPNO,BTLNBR,BTLNBR_FLAG_W,DATE,TIME,LATITUDE,LONGITUDE,DEPTH,CTDPRS,CTDTMP,CTDSAL,CTDSAL_FLAG_W,SALNTY,SALNTY_FLAG_W,CTDOXY,CTDOXY_FLAG_W,OXYGEN,OXYGEN_FLAG_W,SILCAT,SILCAT_FLAG_W,NITRAT,NITRAT_FLAG_W,NITRIT,NITRIT_FLAG_W,PHSPHT,PHSPHT_FLAG_W,CFC-11,CFC-11_FLAG_W,CFC-12,CFC-12_FLAG_W,SF6,SF6_FLAG_W,TCARBN,TCARBN_FLAG_W,ALKALI,ALKALI_FLAG_W,PH_TOT,PH_TOT_FLAG_W,PH_TMP,HELIUM,HELIUM_FLAG_W,DELHE3,DELHE3_FLAG_W,DELC13,DELC13_FLAG_W,DELC14,DELC14_FLAG_W,C14ERR,POC,POC_FLAG_W,PON,PON_FLAG_W,CHLORA,CHLORA_FLAG_W,PPHYTN,PPHYTN_FLAG_W,THETA,DELHER
,,,,,,,,,,,METERS,DBAR,ITS-90,PSS-78,,PSS-78,,UMOL/KG,,UMOL/KG,,UMOL/KG,,UMOL/KG,,UMOL/KG,,UMOL/KG,,PMOL/KG,,PMOL/KG,,FMOL/KG,,UMOL/KG,,UMOL/KG,,,,DEG C,NMOL/KG,,PERCNT,,/MILLE,,/MILLE,,/MILLE,UG/KG,,UG/KG,,UG/KG,,UG/KG,,DEG C,PERCNT
096U20160426,       P15S,      33,          1,         36,       2036,2,20160518,       0143,   -51.0004,  -170.0160,       5246,    10.7,   7.9210,  34.2710,2,  34.2711,2,    284.9,2,   284.8,2,    2.79,2,   15.47,2,    0.26,2,    1.14,2,   3.661,2,   2.136,2,   2.506,2,  2111.6,2,  2279.0,2,-999.0000,9,  -999.00,-999.0000,9, -999.00,9, -999.00,9,  -999.0,9,  -999.0, -999.00,9, -999.00,9,    0.91,2,   -0.19,3,   7.9199, -999.00
096U20160426,       P15S,      33,          1,         35,       2035,2,20160518,       0143,   -51.0004,  -170.0160,       5246,    19.6,   7.9260,  34.2710,2,  34.2714,2,    285.0,2,   285.1,2,    2.77,2,   15.50,2,    0.26,2,    1.14,2,-999.000,9,-999.000,9,-999.000,9,  -999.0,9,  -999.0,9,-999.0000,9,  -999.00,-999.0000,9, -999.00,9, -999.00,9,  -999.0,9,  -999.0, -999.00,9, -999.00,9, -999.00,9, -999.00,9,   7.9241, -999.00
096U20160426,       P15S,      33,          1,         34,       2034,2,20160518,       0143,   -51.0004,  -170.0160,       5246,    39.4,   7.9390,  34.2740,2,  34.2751,2,    284.4,2,   284.6,2,    2.74,2,   15.50,2,    0.26,2,    1.14,2,   3.659,6,   2.134,6,   2.505,6,  2112.0,2,  2280.7,2,-999.0000,9,  -999.00,   1.7440,2,   -1.75,2, -999.00,9,  -999.0,9,  -999.0, -999.00,9, -999.00,9,    0.42,2,    0.12,3,   7.9351,    0.45
096U20160426,       P15S,      33,          1,         33,       2033,2,20160518,       0143,   -51.0004,  -170.0160,       5246,    62.8,   7.9440,  34.2750,2,  34.2752,2,    284.1,2,   284.7,2,    2.74,2,   15.50,2,    0.26,2,    1.14,2,-999.000,9,-999.000,9,-999.000,9,  -999.0,9,  -999.0,9,-999.0000,9,  -999.00,-999.0000,9, -999.00,9, -999.00,9,  -999.0,9,  -999.0, -999.00,9, -999.00,9,    0.50,2,    0.12,3,   7.9378, -999.00
096U20160426,       P15S,      33,          1,         32,       2032,2,20160518,       0143,   -51.0004,  -170.0160,       5246,    90.5,   7.9690,  34.2810,2,  34.2815,2,    283.4,2,   283.7,2,    2.75,2,   15.46,2,    0.26,2,    1.14,2,   3.643,2,   2.132,2,   2.415,2,  2114.2,6,  2280.2,6,-999.0000,9,  -999.00,-999.0000,9, -999.00,9, -999.00,9,  -999.0,9,  -999.0, -999.00,9, -999.00,9,    0.54,2,    0.01,3,   7.9600, -999.00
096U20160426,       P15S,      33,          1,         31,       2031,2,20160518,       0143,   -51.0004,  -170.0160,       5246,   133.0,   7.5640,  34.3070,2,  34.3092,2,    276.0,2,   275.7,2,    4.02,2,   17.93,2,    0.11,2,    1.26,2,   3.732,2,   2.164,2,   2.414,2,  2125.4,2,  2280.3,2,-999.0000,9,  -999.00,-999.0000,9, -999.00,9, -999.00,9,  -999.0,9,  -999.0, -999.00,9, -999.00,9,    0.18,2,   -0.03,3,   7.5512, -999.00
096U20160426,       P15S,      33,          1,         30,       2030,2,20160518,       0143,   -51.0004,  -170.0160,       5246,   184.6,   7.7380,  34.4020,2,  34.4019,2,    265.1,2,   265.5,2,    4.71,2,   18.36,2,    0.01,4,    1.28,2,   3.698,2,   2.138,2,   2.319,2,  2133.4,2,  2282.3,2,-999.0000,9,  -999.00,-999.0000,9, -999.00,9, -999.00,9,  -999.0,9,  -999.0, -999.00,9, -999.00,9, -999.00,9, -999.00,9,   7.7199, -999.00
096U20160426,       P15S,      33,          1,         29,       2029,2,20160518,       0143,   -51.0004,  -170.0160,       5246,   235.5,   7.3620,  34.3770,2,  34.3775,2,    267.3,2,   267.6,2,    5.60,2,   19.24,2,    0.00,4,    1.34,2,   3.747,2,   2.161,2,   2.245,2,  2135.9,2,  2284.3,2,-999.0000,9,  -999.00,-999.0000,9, -999.00,9, -999.00,9,  -999.0,9,  -999.0, -999.00,9, -999.00,9, -999.00,9, -999.00,9,   7.3395, -999.00
096U20160426,       P15S,      33,          1,         28,       2028,2,20160518,       0143,   -51.0004,  -170.0160,       5246,   285.7,   7.1610,  34.3640,2,  34.3649,2,    269.0,2,   269.6,2,    6.03,2,   19.47,2,    0.00,4,    1.36,2,   3.753,2,   2.167,2,   2.309,2,  2136.6,2,  2284.3,2,-999.0000,9,  -999.00,-999.0000,9, -999.00,9, -999.00,9,  -999.0,9,  -999.0, -999.00,9, -999.00,9, -999.00,9, -999.00,9,   7.1340, -999.00
096U20160426,       P15S,      33,          1,         27,       2027,2,20160518,       0143,   -51.0004,  -170.0160,       5246,   331.6,   6.9810,  34.3490,2,  34.3489,2,    270.2,2,   271.0,2,    6.38,2,   19.83,2,    0.00,4,    1.38,2,   3.768,2,   2.152,2,   2.251,2,  2137.0,2,  2282.1,2,-999.0000,9,  -999.00,-999.0000,9, -999.00,9, -999.00,9,  -999.0,9,  -999.0, -999.00,9, -999.00,9, -999.00,9, -999.00,9,   6.9500, -999.00
096U20160426,       P15S,      33,          1,         26,       2026,2,20160518,       0143,   -51.0004,  -170.0160,       5246,   383.5,   6.6910,  34.3150,2,  34.3101,2,    269.1,2,   269.6,2,    7.15,2,   20.68,2,    0.00,4,    1.44,2,   3.583,4,   2.043,4,   2.059,4,  2140.3,2,  2280.8,2,-999.0000,9,  -999.00,-999.0000,9, -999.00,9, -999.00,9,  -999.0,9,  -999.0, -999.00,9, -999.00,9, -999.00,9, -999.00,9,   6.6559, -999.00
096U20160426,       P15S,      33,          1,         25,       2025,2,20160518,       0143,   -51.0004,  -170.0160,       5246,   464.8,   6.2660,  34.2760,2,  34.2739,2,    264.9,2,   265.7,2,    8.82,2,   22.17,2,    0.00,4,    1.52,2,   3.792,2,   2.143,2,   2.118,2,  2145.0,2,  2281.6,2,-999.0000,9,  -999.00,-999.0000,9, -999.00,9, -999.00,9,  -999.0,9,  -999.0, -999.00,9, -999.00,9, -999.00,9, -999.00,9,   6.2247, -999.00
096U20160426,       P15S,      33,          1,         24,       2024,2,20160518,       0143,   -51.0004,  -170.0160,       5246,   565.3,   5.8000,  34.2510,2,  34.2497,2,    256.6,2,   257.5,2,   11.57,2,   24.03,2,    0.00,4,    1.65,2,   3.692,2,   2.070,2,   1.895,2,  2154.2,2,  2283.1,2,-999.0000,9,  -999.00,-999.0000,9, -999.00,9, -999.00,9,  -999.0,9,  -999.0, -999.00,9, -999.00,9, -999.00,9, -999.00,9,   5.7514, -999.00
096U20160426,       P15S,      33,          1,         23,       2023,2,20160518,       0143,   -51.0004,  -170.0160,       5246,   664.4,   5.4530,  34.2780,2,  34.2806,2,    232.5,2,   232.6,2,   17.38,2,   26.72,2,    0.00,4,    1.82,2,   3.301,2,   1.792,2,   1.389,2,  2170.8,2,  2287.7,2,-999.0000,9,  -999.00,   1.7900,2,    0.47,2, -999.00,9,  -999.0,9,  -999.0, -999.00,9, -999.00,9, -999.00,9, -999.00,9,   5.3972,    0.43
096U20160426,       P15S,      33,          1,         22,       2022,2,20160518,       0143,   -51.0004,  -170.0160,       5246,   762.0,   4.9390,  34.2970,2,  34.2979,2,    217.4,2,   218.0,2,   23.80,2,   28.99,2,    0.00,4,    1.97,2,   2.917,6,   1.558,6,   1.044,6,  2184.9,2,  2290.9,2,-999.0000,9,  -999.00,-999.0000,9, -999.00,9, -999.00,9,  -999.0,9,  -999.0, -999.00,9, -999.00,9, -999.00,9, -999.00,9,   4.8774, -999.00
096U20160426,       P15S,      33,          1,         21,       2021,2,20160518,       0143,   -51.0004,  -170.0160,       5246,   865.8,   4.3540,  34.3040,2,  34.3046,2,    210.9,2,   211.2,2,   30.65,2,   30.63,2,    0.00,4,    2.09,2,-999.000,9,-999.000,9,-999.000,9,  -999.0,9,  -999.0,9,-999.0000,9,  -999.00,-999.0000,9, -999.00,9, -999.00,9,  -999.0,9,  -999.0, -999.00,9, -999.00,9, -999.00,9, -999.00,9,   4.2873, -999.00
096U20160426,       P15S,      33,          1,         20,       2020,2,20160518,       0143,   -51.0004,  -170.0160,       5246,   964.7,   3.8970,  34.3210,2,  34.3219,2,    205.3,2,   205.5,2,   37.14,2,   31.78,2,    0.00,4,    2.18,2,   2.302,2,   1.216,2,   0.752,2,  2207.2,6,  2302.4,6,-999.0000,9,  -999.00,-999.0000,9, -999.00,9, -999.00,9,  -999.0,9,  -999.0, -999.00,9, -999.00,9, -999.00,9, -999.00,9,   3.8253, -999.00
096U20160426,       P15S,      33,          1,         19,       2019,2,20160518,       0143,   -51.0004,  -170.0160,       5246,  1064.7,   3.4310,  34.3530,2,  34.3535,2,    197.3,2,   197.0,2,   45.16,2,   32.88,2,    0.00,4,    2.26,2,   1.955,2,   1.018,2,   0.602,2,  2219.7,2,  2308.8,2,-999.0000,9,  -999.00,-999.0000,9, -999.00,9, -999.00,9,  -999.0,9,  -999.0, -999.00,9, -999.00,9, -999.00,9, -999.00,9,   3.3549, -999.00
096U20160426,       P15S,      33,          1,         18,       2018,2,20160518,       0143,   -51.0004,  -170.0160,       5246,  1165.6,   3.1620,  34.4030,2,  34.4054,2,    188.6,2,   188.0,2,   53.31,2,   33.64,2,    0.00,4,    2.32,2,   1.507,2,   0.781,2,   0.433,2,  2231.6,2,  2316.2,2,-999.0000,9,  -999.00,-999.0000,9, -999.00,9, -999.00,9,  -999.0,9,  -999.0, -999.00,9, -999.00,9, -999.00,9, -999.00,9,   3.0801, -999.00
096U20160426,       P15S,      33,          1,         17,       2017,2,20160518,       0143,   -51.0004,  -170.0160,       5246,  1266.4,   3.0130,  34.4450,2,  34.4446,2,    182.7,2,   182.3,2,   58.69,2,   33.84,2,    0.00,4,    2.34,2,   1.216,2,   0.620,2,   0.367,2,  2238.9,2,  2321.5,2,-999.0000,9,  -999.00,-999.0000,9, -999.00,9, -999.00,9,  -999.0,9,  -999.0, -999.00,9, -999.00,9, -999.00,9, -999.00,9,   2.9244, -999.00
096U20160426,       P15S,      33,          1,         16,       2016,2,20160518,       0143,   -51.0004,  -170.0160,       5246,  1363.0,   2.8810,  34.4810,2,  34.4824,2,    178.0,2,   177.4,2,   63.91,2,   34.10,2,    0.00,4,    2.37,2,   0.974,2,   0.496,2,     0.3,2,  2245.4,2,  2328.8,2,-999.0000,9,  -999.00,   1.8390,2,    7.89,2, -999.00,9,  -999.0,9,  -999.0, -999.00,9, -999.00,9, -999.00,9, -999.00,9,   2.7859,    0.44
096U20160426,       P15S,      33,          1,         15,       2015,2,20160518,       0143,   -51.0004,  -170.0160,       5246,  1535.5,   2.6740,  34.5500,2,  34.5487,2,    173.1,2,   172.6,2,   71.96,2,   34.05,2,    0.00,4,    2.37,2,-999.000,9,-999.000,9,-999.000,9,  2253.3,2,  2336.9,2,-999.0000,9,  -999.00,-999.0000,9, -999.00,9, -999.00,9,  -999.0,9,  -999.0, -999.00,9, -999.00,9, -999.00,9, -999.00,9,   2.5671, -999.00
096U20160426,       P15S,      33,          1,         14,       2014,2,20160518,       0143,   -51.0004,  -170.0160,       5246,  1736.4,   2.4810,  34.6170,2,  34.6183,2,    172.3,2,   172.0,2,   78.61,2,   33.53,2,    0.00,4,    2.33,2,   0.384,2,   0.198,2,   0.124,2,  2259.1,2,  2343.7,2,-999.0000,9,  -999.00,-999.0000,9, -999.00,9, -999.00,9,  -999.0,9,  -999.0, -999.00,9, -999.00,9, -999.00,9, -999.00,9,   2.3598, -999.00
096U20160426,       P15S,      33,          1,         13,       2013,2,20160518,       0143,   -51.0004,  -170.0160,       5246,  1932.4,   2.3600,  34.6630,2,  34.6629,2,    176.1,2,   176.1,2,   79.98,2,   32.77,2,    0.00,4,    2.28,2,   0.291,2,   0.151,2,   0.097,2,  2257.0,2,  2346.1,2,-999.0000,9,  -999.00,   1.8650,2,    9.94,2, -999.00,9,  -999.0,9,  -999.0, -999.00,9, -999.00,9, -999.00,9, -999.00,9,   2.2238,    0.97
096U20160426,       P15S,      33,          1,         12,       2012,2,20160518,       0143,   -51.0004,  -170.0160,       5246,  2166.1,   2.2200,  34.7030,2,  34.7027,2,    181.4,2,   181.9,2,   82.83,2,   31.97,2,    0.00,4,    2.22,2,   0.207,2,   0.106,2,   0.027,2,  2256.2,2,  2348.1,2,-999.0000,9,  -999.00,-999.0000,9, -999.00,9, -999.00,9,  -999.0,9,  -999.0, -999.00,9, -999.00,9, -999.00,9, -999.00,9,   2.0656, -999.00
096U20160426,       P15S,      33,          1,         11,       2011,2,20160518,       0143,   -51.0004,  -170.0160,       5246,  2413.2,   2.0560,  34.7280,2,  34.7277,2,    187.0,2,   187.9,2,   86.27,2,   31.34,2,    0.00,4,    2.17,2,   0.158,2,   0.081,2,       0,2,  2254.3,2,  2349.4,2,-999.0000,9,  -999.00,   1.8520,2,    9.81,2, -999.00,9,  -999.0,9,  -999.0, -999.00,9, -999.00,9, -999.00,9, -999.00,9,   1.8822,    0.63
096U20160426,       P15S,      33,          1,         10,       2010,2,20160518,       0143,   -51.0004,  -170.0160,       5246,  2665.0,   1.8790,  34.7360,2,  34.7364,2,    190.8,2,   192.5,2,   91.25,2,   31.11,2,    0.00,4,    2.16,2,-999.000,9,-999.000,9,-999.000,9,  -999.0,9,  -999.0,9,-999.0000,9,  -999.00,-999.0000,9, -999.00,9, -999.00,9,  -999.0,9,  -999.0, -999.00,9, -999.00,9, -999.00,9, -999.00,9,   1.6855, -999.00
096U20160426,       P15S,      33,          1,          9,       2009,2,20160518,       0143,   -51.0004,  -170.0160,       5246,  2918.6,   1.6670,  34.7360,2,  34.7359,2,    194.6,2,   196.0,2,   97.29,2,   31.19,2,    0.00,4,    2.17,2,   0.122,2,   0.062,2,       0,2,  2254.4,2,  2357.4,2,-999.0000,9,  -999.00,   1.8650,2,   10.34,2, -999.00,9,  -999.0,9,  -999.0, -999.00,9, -999.00,9, -999.00,9, -999.00,9,   1.4540,    0.41
096U20160426,       P15S,      33,          1,          8,       2008,2,20160518,       0143,   -51.0004,  -170.0160,       5246,  3299.2,   1.4040,  34.7290,2,  34.7290,2,    198.3,2,   200.5,2,  105.37,2,   31.45,2,    0.00,4,    2.19,2,   0.133,2,   0.068,2,       0,2,  2259.7,2,  2363.4,6,-999.0000,9,  -999.00,   1.8870,2,    9.85,2, -999.00,9,  -999.0,9,  -999.0, -999.00,9, -999.00,9, -999.00,9, -999.00,9,   1.1601,    0.40
096U20160426,       P15S,      33,          1,          7,       2007,2,20160518,       0143,   -51.0004,  -170.0160,       5246,  3665.0,   1.1920,  34.7200,2,  34.7193,2,    202.0,2,   203.6,2,  112.02,2,   31.77,2,    0.00,4,    2.21,2,   0.162,2,   0.082,2,       0,2,  2261.9,2,  2365.3,2,-999.0000,9,  -999.00,   1.8980,2,    9.72,2, -999.00,9,  -999.0,9,  -999.0, -999.00,9, -999.00,9, -999.00,9, -999.00,9,   0.9166,    0.97
096U20160426,       P15S,      33,          1,          6,       2006,2,20160518,       0143,   -51.0004,  -170.0160,       5246,  4063.8,   1.0440,  34.7120,2,  34.7119,2,    205.4,2,   206.7,2,  116.98,2,   31.98,2,   -0.01,4,    2.23,2,-999.000,9,-999.000,9,-999.000,9,  2262.3,2,  2366.2,2,-999.0000,9,  -999.00,   1.9000,2,    9.58,2, -999.00,9,  -999.0,9,  -999.0, -999.00,9, -999.00,9, -999.00,9, -999.00,9,   0.7309,    0.57
096U20160426,       P15S,      33,          1,          5,       2005,2,20160518,       0143,   -51.0004,  -170.0160,       5246,  4365.8,   0.9890,  34.7080,2,  34.7081,2,    206.9,2,   207.9,2,  119.59,2,   32.11,2,   -0.01,4,    2.24,2,   0.226,2,   0.115,2,   0.068,2,  2260.0,2,  2364.7,6,-999.0000,9,  -999.00,   1.8840,2,    9.80,2, -999.00,9,  -999.0,9,  -999.0, -999.00,9, -999.00,9, -999.00,9, -999.00,9,   0.6447,    0.67
096U20160426,       P15S,      33,          1,          4,       2004,2,20160518,       0143,   -51.0004,  -170.0160,       5246,  4765.9,   0.9800,  34.7060,2,  34.7060,2,    208.3,2,   208.4,2,  121.09,2,   32.19,2,   -0.01,4,    2.24,2,   0.248,2,   0.126,2,   0.057,2,  2263.2,2,  2365.8,2,-999.0000,9,  -999.00,   1.8750,2,    9.43,2, -999.00,9,  -999.0,9,  -999.0, -999.00,9, -999.00,9, -999.00,9, -999.00,9,   0.5907,    0.71
096U20160426,       P15S,      33,          1,          3,       2003,2,20160518,       0143,   -51.0004,  -170.0160,       5246,  5138.9,   1.0030,  34.7040,2,  34.7050,2,    209.1,2,   209.7,2,  121.77,2,   32.19,2,    0.00,4,    2.24,2,   0.268,2,   0.139,2,       0,2,  2264.3,2,  2366.2,2,-999.0000,9,  -999.00,   1.8810,2,    9.27,2, -999.00,9,  -999.0,9,  -999.0, -999.00,9, -999.00,9, -999.00,9, -999.00,9,   0.5688,    0.62
096U20160426,       P15S,      33,          1,          2,       2002,2,20160518,       0143,   -51.0004,  -170.0160,       5246,  5237.2,   1.0150,  34.7040,2,  34.7052,2,    209.1,2,   209.2,2,  121.85,2,   32.16,2,    0.00,4,    2.24,2,   0.270,2,   0.137,2,    0.06,2,  2264.8,2,  2365.6,2,-999.0000,9,  -999.00,   1.8880,2,    8.92,2, -999.00,9,  -999.0,9,  -999.0, -999.00,9, -999.00,9, -999.00,9, -999.00,9,   0.5684,    0.60
096U20160426,       P15S,      33,          1,          1,       2001,2,20160518,       0143,   -51.0004,  -170.0160,       5246,  5320.8,   1.0250,  34.7040,2,  34.7055,2,    209.3,2,   208.8,2,  122.02,2,   32.23,2,    0.00,4,    2.25,2,   0.274,2,   0.137,2,   0.064,2,  2263.8,6,  2364.4,6,-999.0000,9,  -999.00,-999.0000,9, -999.00,9, -999.00,9,  -999.0,9,  -999.0, -999.00,9, -999.00,9, -999.00,9, -999.00,9,   0.5678, -999.00