BOTTLE,20230413CCHSIOENA
EXPOCODE,SECT_ID,STNNBR,CASTNO,SAMPNO,BTLNBR,BTLNBR_FLAG_W,DATE,TIME,LATITUDE,LONGITUDE,DEPTH,CTDPRS,CTDTMP,CTDSAL,CTDSAL_FLAG_W,SALNTY,SALNTY_FLAG_W,CTDOXY,CTDOXY_FLAG_W,OXYGEN,OXYGEN_FLAG_W,SILCAT,SILCAT_FLAG_W,NITRAT,NITRAT_FLAG_W,NITRIT,NITRIT_FLAG_W,PHSPHT,PHSPHT_FLAG_W,CFC-11,CFC-11_FLAG_W,CFC-12,CFC-12_FLAG_W,SF6,SF6_FLAG_W,TCARBN,TCARBN_FLAG_W,ALKALI,ALKALI_FLAG_W,PH_TOT,PH_TOT_FLAG_W,PH_TMP,HELIUM,HELIUM_FLAG_W,DELHE3,DELHE3_FLAG_W,DELC13,DELC13_FLAG_W,DELC14,DELC14_FLAG_W,C14ERR,POC,POC_FLAG_W,PON,PON_FLAG_W,CHLORA,CHLORA_FLAG_W,PPHYTN,PPHYTN_FLAG_W,THETA,DELHER
,,,,,,,,,,,METERS,DBAR,ITS-90,PSS-78,,PSS-78,,UMOL/KG,,UMOL/KG,,UMOL/KG,,UMOL/KG,,UMOL/KG,,UMOL/KG,,PMOL/KG,,PMOL/KG,,FMOL/KG,,UMOL/KG,,UMOL/KG,,,,DEG C,NMOL/KG,,PERCNT,,/MILLE,,/MILLE,,/MILLE,UG/KG,,UG/KG,,UG/KG,,UG/KG,,DEG C,PERCNT
096U20160426,       P15S,      30,          1,         36,       2036,2,20160517,       0429,   -52.5031,  -169.9822,       5131,     4.9,   7.4690,  34.2170,2,  34.2174,2,    287.4,2,   287.7,2,    3.42,2,   16.91,2,    0.27,2,    1.23,2,-999.000,9,-999.000,9,-999.000,9,  2115.2,2,  2277.5,2,-999.0000,9,  -999.00,-999.0000,9, -999.00,9, -999.00,9,  -999.0,9,  -999.0, -999.00,9, -999.00,9,    0.24,2,    0.27,3,   7.4685, -999.00
096U20160426,       P15S,      30,          1,         35,       2035,2,20160517,       0429,   -52.5031,  -169.9822,       5131,    20.7,   7.4690,  34.2230,2,  34.2220,2,    287.2,2,   287.6,2,    3.41,2,   16.93,2,    0.27,2,    1.23,2,-999.000,9,-999.000,9,-999.000,9,  -999.0,9,  -999.0,9,-999.0000,9,  -999.00,-999.0000,9, -999.00,9, -999.00,9,  -999.0,9,  -999.0, -999.00,9, -999.00,9, -999.00,9, -999.00,9,   7.4670, -999.00
096U20160426,       P15S,      30,          1,         34,       2034,2,20160517,       0429,   -52.5031,  -169.9822,       5131,    41.1,   7.3380,  34.2130,2,  34.2100,2,    288.0,2,   288.9,2,    3.60,2,   17.37,2,    0.26,2,    1.25,2,-999.000,9,-999.000,9,-999.000,9,  -999.0,9,  -999.0,9,-999.0000,9,  -999.00,-999.0000,9, -999.00,9, -999.00,9,  -999.0,9,  -999.0, -999.00,9, -999.00,9,    0.25,2,    0.35,3,   7.3341, -999.00
096U20160426,       P15S,      30,          1,         33,       2033,2,20160517,       0429,   -52.5031,  -169.9822,       5131,    65.0,   7.0490,  34.1870,2,  34.1898,2,    290.4,2,   290.4,2,    3.94,2,   18.03,2,    0.25,2,    1.29,2,-999.000,9,-999.000,9,-999.000,9,  -999.0,9,  -999.0,9,-999.0000,9,  -999.00,-999.0000,9, -999.00,9, -999.00,9,  -999.0,9,  -999.0, -999.00,9, -999.00,9,    0.17,2,    0.35,3,   7.0430, -999.00
096U20160426,       P15S,      30,          1,         32,       2032,2,20160517,       0429,   -52.5031,  -169.9822,       5131,    90.7,   7.1330,  34.2250,2,  34.2237,2,    285.6,2,   286.3,2,    4.08,2,   18.23,2,    0.24,2,    1.30,2,-999.000,9,-999.000,9,-999.000,9,  2121.2,2,  2278.5,2,-999.0000,9,  -999.00,-999.0000,9, -999.00,9, -999.00,9,  -999.0,9,  -999.0, -999.00,9, -999.00,9, -999.00,9, -999.00,9,   7.1246, -999.00
096U20160426,       P15S,      30,          1,         31,       2031,2,20160517,       0429,   -52.5031,  -169.9822,       5131,   136.8,   7.0830,  34.2520,2,  34.2588,2,    281.3,2,   280.6,2,    4.66,2,   18.96,2,    0.16,2,    1.35,2,-999.000,9,-999.000,9,-999.000,9,  -999.0,9,  -999.0,9,-999.0000,9,  -999.00,-999.0000,9, -999.00,9, -999.00,9,  -999.0,9,  -999.0, -999.00,9, -999.00,9,    0.08,2,    0.14,3,   7.0703, -999.00
096U20160426,       P15S,      30,          1,         30,       2030,2,20160517,       0429,   -52.5031,  -169.9822,       5131,   184.6,   7.0240,  34.3420,2,  34.3420,2,    271.8,2,   272.5,2,    6.17,2,   19.81,2,    0.01,4,    1.37,2,-999.000,9,-999.000,9,-999.000,9,  -999.0,9,  -999.0,9,-999.0000,9,  -999.00,-999.0000,9, -999.00,9, -999.00,9,  -999.0,9,  -999.0, -999.00,9, -999.00,9,    0.02,2,    0.08,3,   7.0069, -999.00
096U20160426,       P15S,      30,          1,         29,       2029,2,20160517,       0429,   -52.5031,  -169.9822,       5131,   234.9,   6.6700,  34.3050,2,  34.3047,2,    274.5,2,   275.4,2,    6.70,2,   20.45,2,    0.01,4,    1.42,2,-999.000,9,-999.000,9,-999.000,9,  -999.0,9,  -999.0,9,-999.0000,9,  -999.00,-999.0000,9, -999.00,9, -999.00,9,  -999.0,9,  -999.0, -999.00,9, -999.00,9, -999.00,9, -999.00,9,   6.6488, -999.00
096U20160426,       P15S,      30,          1,         28,       2028,2,20160517,       0429,   -52.5031,  -169.9822,       5131,   284.3,   6.2610,  34.2610,2,  34.2589,2,    276.1,2,   276.9,2,    7.52,2,   21.30,2,    0.01,4,    1.47,2,-999.000,9,-999.000,9,-999.000,9,  2137.8,2,  2278.8,2,-999.0000,9,  -999.00,-999.0000,9, -999.00,9, -999.00,9,  -999.0,9,  -999.0, -999.00,9, -999.00,9, -999.00,9, -999.00,9,   6.2361, -999.00
096U20160426,       P15S,      30,          1,         27,       2027,2,20160517,       0429,   -52.5031,  -169.9822,       5131,   334.5,   5.8410,  34.2170,2,  34.2129,2,    276.1,2,   276.8,2,    8.68,2,   22.48,2,    0.01,4,    1.55,2,-999.000,9,-999.000,9,-999.000,9,  -999.0,9,  -999.0,9,-999.0000,9,  -999.00,-999.0000,9, -999.00,9, -999.00,9,  -999.0,9,  -999.0, -999.00,9, -999.00,9, -999.00,9, -999.00,9,   5.8127, -999.00
096U20160426,       P15S,      30,          1,         26,       2026,2,20160517,       0429,   -52.5031,  -169.9822,       5131,   385.3,   5.5290,  34.2060,2,  34.2031,2,    268.4,2,   269.6,2,   10.67,2,   23.81,2,    0.01,4,    1.63,2,-999.000,9,-999.000,9,-999.000,9,  -999.0,9,  -999.0,9,-999.0000,9,  -999.00,-999.0000,9, -999.00,9, -999.00,9,  -999.0,9,  -999.0, -999.00,9, -999.00,9, -999.00,9, -999.00,9,   5.4972, -999.00
096U20160426,       P15S,      30,          1,         25,       2025,2,20160517,       0429,   -52.5031,  -169.9822,       5131,   466.0,   5.3170,  34.2210,2,  34.2262,2,    254.3,2,   253.3,2,   14.07,2,   25.48,2,    0.01,4,    1.73,2,-999.000,9,-999.000,9,-999.000,9,  -999.0,9,  -999.0,9,-999.0000,9,  -999.00,-999.0000,9, -999.00,9, -999.00,9,  -999.0,9,  -999.0, -999.00,9, -999.00,9, -999.00,9, -999.00,9,   5.2791, -999.00
096U20160426,       P15S,      30,          1,         24,       2024,2,20160517,       0429,   -52.5031,  -169.9822,       5131,   564.7,   5.2220,  34.2840,2,  34.2874,2,    226.5,2,   225.8,2,   20.35,2,   27.86,2,    0.00,4,    1.89,2,-999.000,9,-999.000,9,-999.000,9,  2175.9,6,  2285.1,6,-999.0000,9,  -999.00,-999.0000,9, -999.00,9, -999.00,9,  -999.0,9,  -999.0, -999.00,9, -999.00,9, -999.00,9, -999.00,9,   5.1760, -999.00
096U20160426,       P15S,      30,          1,         23,       2023,2,20160517,       0429,   -52.5031,  -169.9822,       5131,   664.7,   4.6520,  34.2750,2,  34.2724,2,    220.8,2,   221.5,2,   25.12,2,   29.49,2,    0.00,4,    2.00,2,-999.000,9,-999.000,9,-999.000,9,  -999.0,9,  -999.0,9,-999.0000,9,  -999.00,-999.0000,9, -999.00,9, -999.00,9,  -999.0,9,  -999.0, -999.00,9, -999.00,9, -999.00,9, -999.00,9,   4.6003, -999.00
096U20160426,       P15S,      30,          1,         22,       2022,2,20160517,       0429,   -52.5031,  -169.9822,       5131,   765.6,   4.0660,  34.2640,2,  34.2634,2,    218.4,2,   220.3,2,   29.68,2,   30.69,2,    0.00,4,    2.09,2,-999.000,9,-999.000,9,-999.000,9,  -999.0,9,  -999.0,9,-999.0000,9,  -999.00,-999.0000,9, -999.00,9, -999.00,9,  -999.0,9,  -999.0, -999.00,9, -999.00,9, -999.00,9, -999.00,9,   4.0093, -999.00
096U20160426,       P15S,      30,          1,         21,       2021,2,20160517,       0429,   -52.5031,  -169.9822,       5131,   865.6,   3.7190,  34.3080,2,  34.3080,2,    207.1,2,   207.3,2,   37.65,2,   32.06,2,    0.00,4,    2.19,2,-999.000,9,-999.000,9,-999.000,9,  -999.0,9,  -999.0,9,-999.0000,9,  -999.00,-999.0000,9, -999.00,9, -999.00,9,  -999.0,9,  -999.0, -999.00,9, -999.00,9, -999.00,9, -999.00,9,   3.6566, -999.00
096U20160426,       P15S,      30,          1,         20,       2020,2,20160517,       0429,   -52.5031,  -169.9822,       5131,   964.4,   3.3550,  34.3510,2,  34.3499,2,    197.5,2,  -999.0,9,   45.73,2,   33.12,2,    0.00,4,    2.27,2,-999.000,9,-999.000,9,-999.000,9,  2219.2,2,  2309.1,2,-999.0000,9,  -999.00,-999.0000,9, -999.00,9, -999.00,9,  -999.0,9,  -999.0, -999.00,9, -999.00,9, -999.00,9, -999.00,9,   3.2874, -999.00
096U20160426,       P15S,      30,          1,         19,       2019,2,20160517,       0429,   -52.5031,  -169.9822,       5131,  1067.2,   3.1490,  34.4010,2,  34.3991,2,    189.0,2,   189.2,2,   52.61,2,   33.73,2,    0.00,4,    2.32,2,-999.000,9,-999.000,9,-999.000,9,  -999.0,9,  -999.0,9,-999.0000,9,  -999.00,-999.0000,9, -999.00,9, -999.00,9,  -999.0,9,  -999.0, -999.00,9, -999.00,9, -999.00,9, -999.00,9,   3.0749, -999.00
096U20160426,       P15S,      30,          1,         18,       2018,2,20160517,       0429,   -52.5031,  -169.9822,       5131,  1165.2,   2.9460,  34.4360,2,  34.4358,2,    183.5,3,   183.5,2,   58.40,2,   34.20,2,    0.00,4,    2.35,2,-999.000,9,-999.000,9,-999.000,9,  -999.0,9,  -999.0,9,-999.0000,9,  -999.00,-999.0000,9, -999.00,9, -999.00,9,  -999.0,9,  -999.0, -999.00,9, -999.00,9, -999.00,9, -999.00,9,   2.8660, -999.00
096U20160426,       P15S,      30,          1,         17,       2017,2,20160517,       0429,   -52.5031,  -169.9822,       5131,  1265.5,   2.7860,  34.4830,2,  34.4840,2,    178.6,2,   178.4,2,   63.77,2,   34.39,2,    0.00,4,    2.37,2,-999.000,9,-999.000,9,-999.000,9,  -999.0,9,  -999.0,9,-999.0000,9,  -999.00,-999.0000,9, -999.00,9, -999.00,9,  -999.0,9,  -999.0, -999.00,9, -999.00,9, -999.00,9, -999.00,9,   2.6996, -999.00
096U20160426,       P15S,      30,          1,         16,       2016,2,20160517,       0429,   -52.5031,  -169.9822,       5131,  1365.1,   2.7020,  34.5270,2,  34.5272,2,    175.0,2,   174.4,2,   68.75,2,   34.28,2,    0.00,4,    2.36,2,-999.000,9,-999.000,9,-999.000,9,  -999.0,9,  -999.0,9,-999.0000,9,  -999.00,-999.0000,9, -999.00,9, -999.00,9,  -999.0,9,  -999.0, -999.00,9, -999.00,9, -999.00,9, -999.00,9,   2.6085, -999.00
096U20160426,       P15S,      30,          1,         15,       2015,2,20160517,       0429,   -52.5031,  -169.9822,       5131,  1534.9,   2.5280,  34.5910,2,  34.5907,2,    173.7,2,   173.4,2,   73.72,2,   33.90,2,    0.00,4,    2.33,2,-999.000,9,-999.000,9,-999.000,9,  2252.6,2,  2338.2,6,-999.0000,9,  -999.00,-999.0000,9, -999.00,9, -999.00,9,  -999.0,9,  -999.0, -999.00,9, -999.00,9, -999.00,9, -999.00,9,   2.4227, -999.00
096U20160426,       P15S,      30,          1,         14,       2014,2,20160517,       0429,   -52.5031,  -169.9822,       5131,  1735.7,   2.3860,  34.6520,2,  34.6517,2,    175.5,2,   175.7,2,   78.74,2,   33.12,2,    0.00,4,    2.28,2,-999.000,9,-999.000,9,-999.000,9,  -999.0,9,  -999.0,9,-999.0000,9,  -999.00,-999.0000,9, -999.00,9, -999.00,9,  -999.0,9,  -999.0, -999.00,9, -999.00,9, -999.00,9, -999.00,9,   2.2660, -999.00
096U20160426,       P15S,      30,          1,         13,       2013,2,20160517,       0429,   -52.5031,  -169.9822,       5131,  1935.4,   2.2670,  34.6890,2,  34.6874,2,    179.0,2,   179.4,2,   81.86,2,   32.47,2,    0.00,4,    2.23,2,-999.000,9,-999.000,9,-999.000,9,  -999.0,9,  -999.0,9,-999.0000,9,  -999.00,-999.0000,9, -999.00,9, -999.00,9,  -999.0,9,  -999.0, -999.00,9, -999.00,9, -999.00,9, -999.00,9,   2.1318, -999.00
096U20160426,       P15S,      30,          1,         12,       2012,2,20160517,       0429,   -52.5031,  -169.9822,       5131,  2165.8,   2.1350,  34.7170,2,  34.7162,2,    183.8,2,   185.0,2,   84.79,2,   31.82,2,    0.00,4,    2.19,2,-999.000,9,-999.000,9,-999.000,9,  -999.0,9,  -999.0,9,-999.0000,9,  -999.00,-999.0000,9, -999.00,9, -999.00,9,  -999.0,9,  -999.0, -999.00,9, -999.00,9, -999.00,9, -999.00,9,   1.9819, -999.00
096U20160426,       P15S,      30,          1,         11,       2011,2,20160517,       0429,   -52.5031,  -169.9822,       5131,  2415.8,   1.9740,  34.7330,2,  34.7318,2,    188.2,2,   189.3,2,   88.57,2,   31.40,2,    0.00,4,    2.16,2,-999.000,9,-999.000,9,-999.000,9,  -999.0,9,  -999.0,9,-999.0000,9,  -999.00,-999.0000,9, -999.00,9, -999.00,9,  -999.0,9,  -999.0, -999.00,9, -999.00,9, -999.00,9, -999.00,9,   1.8015, -999.00
096U20160426,       P15S,      30,          1,         10,       2010,2,20160517,       0429,   -52.5031,  -169.9822,       5131,  2664.3,   1.7800,  34.7380,2,  34.7372,2,    192.3,2,   194.0,2,   93.92,2,   31.29,2,    0.01,4,    2.16,2,-999.000,9,-999.000,9,-999.000,9,  2253.3,2,  2355.7,2,-999.0000,9,  -999.00,-999.0000,9, -999.00,9, -999.00,9,  -999.0,9,  -999.0, -999.00,9, -999.00,9, -999.00,9, -999.00,9,   1.5885, -999.00
096U20160426,       P15S,      30,          1,          9,       2009,2,20160517,       0429,   -52.5031,  -169.9822,       5131,  2915.9,   1.6060,  34.7360,2,  34.7350,2,    195.0,2,   196.8,2,   99.17,2,   31.40,2,    0.00,4,    2.17,2,-999.000,9,-999.000,9,-999.000,9,  -999.0,9,  -999.0,9,-999.0000,9,  -999.00,-999.0000,9, -999.00,9, -999.00,9,  -999.0,9,  -999.0, -999.00,9, -999.00,9, -999.00,9, -999.00,9,   1.3945, -999.00
096U20160426,       P15S,      30,          1,          8,       2008,2,20160517,       0429,   -52.5031,  -169.9822,       5131,  3200.3,   1.3720,  34.7280,2,  34.7273,2,    198.4,2,   200.2,2,  106.26,2,   31.71,2,    0.00,4,    2.19,2,-999.000,9,-999.000,9,-999.000,9,  -999.0,9,  -999.0,9,-999.0000,9,  -999.00,-999.0000,9, -999.00,9, -999.00,9,  -999.0,9,  -999.0, -999.00,9, -999.00,9, -999.00,9, -999.00,9,   1.1385, -999.00
096U20160426,       P15S,      30,          1,          7,       2007,2,20160517,       0429,   -52.5031,  -169.9822,       5131,  3500.6,   1.1920,  34.7200,2,  34.7198,2,    201.6,2,   203.2,2,  111.93,2,   31.96,2,    0.00,4,    2.20,2,-999.000,9,-999.000,9,-999.000,9,  -999.0,9,  -999.0,9,-999.0000,9,  -999.00,-999.0000,9, -999.00,9, -999.00,9,  -999.0,9,  -999.0, -999.00,9, -999.00,9, -999.00,9, -999.00,9,   0.9333, -999.00
096U20160426,       P15S,      30,          1,          6,       2006,2,20160517,       0429,   -52.5031,  -169.9822,       5131,  3800.1,   1.0840,  34.7150,2,  34.7144,2,    203.9,2,   205.1,2,  115.49,2,   32.09,2,    0.00,4,    2.22,2,-999.000,9,-999.000,9,-999.000,9,  2260.6,2,  2361.1,2,-999.0000,9,  -999.00,-999.0000,9, -999.00,9, -999.00,9,  -999.0,9,  -999.0, -999.00,9, -999.00,9, -999.00,9, -999.00,9,   0.7976, -999.00
096U20160426,       P15S,      30,          1,          5,       2005,2,20160517,       0429,   -52.5031,  -169.9822,       5131,  4200.3,   0.9700,  34.7080,2,  34.7081,2,    206.9,2,   207.6,2,  119.68,2,   32.29,2,    0.00,4,    2.23,2,-999.000,9,-999.000,9,-999.000,9,  -999.0,9,  -999.0,9,-999.0000,9,  -999.00,-999.0000,9, -999.00,9, -999.00,9,  -999.0,9,  -999.0, -999.00,9, -999.00,9, -999.00,9, -999.00,9,   0.6444, -999.00
096U20160426,       P15S,      30,          1,          4,       2004,2,20160517,       0429,   -52.5031,  -169.9822,       5131,  4600.8,   0.9460,  34.7050,2,  34.7053,2,    208.4,2,   208.9,2,  121.43,2,   32.35,2,    0.00,4,    2.24,2,-999.000,9,-999.000,9,-999.000,9,  -999.0,9,  -999.0,9,-999.0000,9,  -999.00,-999.0000,9, -999.00,9, -999.00,9,  -999.0,9,  -999.0, -999.00,9, -999.00,9, -999.00,9, -999.00,9,   0.5767, -999.00
096U20160426,       P15S,      30,          1,          3,       2003,2,20160517,       0429,   -52.5031,  -169.9822,       5131,  4851.5,   0.9510,  34.7040,2,  34.7038,2,    209.1,2,   209.2,2,  122.38,2,   32.38,2,    0.00,4,    2.24,2,-999.000,9,-999.000,9,-999.000,9,  2260.0,2,  2362.2,2,-999.0000,9,  -999.00,-999.0000,9, -999.00,9, -999.00,9,  -999.0,9,  -999.0, -999.00,9, -999.00,9, -999.00,9, -999.00,9,   0.5527, -999.00
096U20160426,       P15S,      30,          1,          2,       2002,2,20160517,       0429,   -52.5031,  -169.9822,       5131,  5151.8,   0.9690,  34.7020,2,  34.7031,2,    209.9,2,   209.1,2,  123.14,2,   32.41,2,    0.00,4,    2.24,2,-999.000,9,-999.000,9,-999.000,9,  -999.0,9,  -999.0,9,-999.0000,9,  -999.00,-999.0000,9, -999.00,9, -999.00,9,  -999.0,9,  -999.0, -999.00,9, -999.00,9, -999.00,9, -999.00,9,   0.5344, -999.00
096U20160426,       P15S,      30,          1,          1,       2001,2,20160517,       0429,   -52.5031,  -169.9822,       5131,  5245.1,   0.9810,  34.7020,2,  34.7031,2,    209.6,2,   209.1,2,  123.19,2,   32.44,2,    0.00,4,    2.24,2,-999.000,9,-999.000,9,-999.000,9,  2261.4,2,  2358.6,2,-999.0000,9,  -999.00,-999.0000,9, -999.00,9, -999.00,9,  -999.0,9,  -999.0, -999.00,9, -999.00,9, -999.00,9, -999.00,9,   0.5347, -999.00