BOTTLE,20230413CCHSIOENA
EXPOCODE,SECT_ID,STNNBR,CASTNO,SAMPNO,BTLNBR,BTLNBR_FLAG_W,DATE,TIME,LATITUDE,LONGITUDE,DEPTH,CTDPRS,CTDTMP,CTDSAL,CTDSAL_FLAG_W,SALNTY,SALNTY_FLAG_W,CTDOXY,CTDOXY_FLAG_W,OXYGEN,OXYGEN_FLAG_W,SILCAT,SILCAT_FLAG_W,NITRAT,NITRAT_FLAG_W,NITRIT,NITRIT_FLAG_W,PHSPHT,PHSPHT_FLAG_W,CFC-11,CFC-11_FLAG_W,CFC-12,CFC-12_FLAG_W,SF6,SF6_FLAG_W,TCARBN,TCARBN_FLAG_W,ALKALI,ALKALI_FLAG_W,PH_TOT,PH_TOT_FLAG_W,PH_TMP,HELIUM,HELIUM_FLAG_W,DELHE3,DELHE3_FLAG_W,DELC13,DELC13_FLAG_W,DELC14,DELC14_FLAG_W,C14ERR,POC,POC_FLAG_W,PON,PON_FLAG_W,CHLORA,CHLORA_FLAG_W,PPHYTN,PPHYTN_FLAG_W,THETA,DELHER
,,,,,,,,,,,METERS,DBAR,ITS-90,PSS-78,,PSS-78,,UMOL/KG,,UMOL/KG,,UMOL/KG,,UMOL/KG,,UMOL/KG,,UMOL/KG,,PMOL/KG,,PMOL/KG,,FMOL/KG,,UMOL/KG,,UMOL/KG,,,,DEG C,NMOL/KG,,PERCNT,,/MILLE,,/MILLE,,/MILLE,UG/KG,,UG/KG,,UG/KG,,UG/KG,,DEG C,PERCNT
096U20160426,       P15S,      73,          1,         36,       2036,2,20160604,       0132,   -32.9951,  -170.0026,       5604,     5.5,  19.8720,  35.8070,2,  35.8066,2,    226.0,2,   226.2,2,   -0.06,4,    0.01,4,    0.00,4,    0.06,2,-999.000,9,-999.000,9,-999.000,9,  2057.8,2,  2347.3,2,-999.0000,9,  -999.00,-999.0000,9, -999.00,9, -999.00,9,  -999.0,9,  -999.0, -999.00,9, -999.00,9, -999.00,9, -999.00,9,  19.8710, -999.00
096U20160426,       P15S,      73,          1,         35,       2035,2,20160604,       0132,   -32.9951,  -170.0026,       5604,    22.2,  19.8660,  35.8040,2,  35.8055,2,    226.6,2,   226.2,2,   -0.06,4,    0.01,4,    0.00,4,    0.06,2,-999.000,9,-999.000,9,-999.000,9,  -999.0,9,  -999.0,9,-999.0000,9,  -999.00,-999.0000,9, -999.00,9, -999.00,9,  -999.0,9,  -999.0, -999.00,9, -999.00,9, -999.00,9, -999.00,9,  19.8619, -999.00
096U20160426,       P15S,      73,          1,         34,       2034,2,20160604,       0132,   -32.9951,  -170.0026,       5604,    48.6,  19.8840,  35.8070,2,  35.7991,2,    226.1,2,   226.2,2,   -0.07,4,    0.00,4,    0.01,4,    0.06,2,-999.000,9,-999.000,9,-999.000,9,  -999.0,9,  -999.0,9,-999.0000,9,  -999.00,-999.0000,9, -999.00,9, -999.00,9,  -999.0,9,  -999.0, -999.00,9, -999.00,9, -999.00,9, -999.00,9,  19.8750, -999.00
096U20160426,       P15S,      73,          1,         33,       2033,2,20160604,       0132,   -32.9951,  -170.0026,       5604,    83.8,  19.7800,  35.7850,2,  35.7109,2,    223.6,2,   229.6,2,   -0.02,4,    0.02,4,    0.00,4,    0.08,2,-999.000,9,-999.000,9,-999.000,9,  -999.0,9,  -999.0,9,-999.0000,9,  -999.00,-999.0000,9, -999.00,9, -999.00,9,  -999.0,9,  -999.0, -999.00,9, -999.00,9, -999.00,9, -999.00,9,  19.7646, -999.00
096U20160426,       P15S,      73,          1,         32,       2032,2,20160604,       0132,   -32.9951,  -170.0026,       5604,    96.1,  17.3220,  35.5130,2,  35.5130,2,    239.1,2,   233.6,2,    0.25,2,    0.49,2,    0.07,2,    0.18,2,-999.000,9,-999.000,9,-999.000,9,  -999.0,9,  -999.0,9,-999.0000,9,  -999.00,-999.0000,9, -999.00,9, -999.00,9,  -999.0,9,  -999.0, -999.00,9, -999.00,9, -999.00,9, -999.00,9,  17.3059, -999.00
096U20160426,       P15S,      73,          1,         31,       2031,2,20160604,       0132,   -32.9951,  -170.0026,       5604,   150.0,  15.3750,  35.4130,2,  35.4020,2,    212.6,2,   212.7,2,    1.03,2,    5.09,2,    0.01,4,    0.45,2,-999.000,9,-999.000,9,-999.000,9,  -999.0,9,  -999.0,9,-999.0000,9,  -999.00,-999.0000,9, -999.00,9, -999.00,9,  -999.0,9,  -999.0, -999.00,9, -999.00,9, -999.00,9, -999.00,9,  15.3519, -999.00
096U20160426,       P15S,      73,          1,         30,       2030,2,20160604,       0132,   -32.9951,  -170.0026,       5604,   198.8,  14.6170,  35.3160,2,  35.3058,2,    212.5,2,   212.3,2,    1.37,2,    6.34,2,    0.01,4,    0.52,2,-999.000,9,-999.000,9,-999.000,9,  -999.0,9,  -999.0,9,-999.0000,9,  -999.00,-999.0000,9, -999.00,9, -999.00,9,  -999.0,9,  -999.0, -999.00,9, -999.00,9, -999.00,9, -999.00,9,  14.5873, -999.00
096U20160426,       P15S,      73,          1,         29,       2029,2,20160604,       0132,   -32.9951,  -170.0026,       5604,   249.8,  13.4560,  35.1470,2,  35.1328,2,    208.7,2,   208.2,2,    1.86,2,    8.67,2,    0.01,4,    0.67,2,-999.000,9,-999.000,9,-999.000,9,  -999.0,9,  -999.0,9,-999.0000,9,  -999.00,-999.0000,9, -999.00,9, -999.00,9,  -999.0,9,  -999.0, -999.00,9, -999.00,9, -999.00,9, -999.00,9,  13.4207, -999.00
096U20160426,       P15S,      73,          1,         28,       2028,2,20160604,       0132,   -32.9951,  -170.0026,       5604,   301.1,  12.3240,  35.0010,2,  35.0030,2,    209.0,2,   208.3,2,    2.39,2,   10.77,2,    0.01,4,    0.80,2,-999.000,9,-999.000,9,-999.000,9,  -999.0,9,  -999.0,9,-999.0000,9,  -999.00,-999.0000,9, -999.00,9, -999.00,9,  -999.0,9,  -999.0, -999.00,9, -999.00,9, -999.00,9, -999.00,9,  12.2839, -999.00
096U20160426,       P15S,      73,          1,         27,       2027,2,20160604,       0132,   -32.9951,  -170.0026,       5604,   350.3,  11.6310,  34.9260,2,  34.9163,2,    218.0,2,   216.2,2,    2.62,2,   11.73,2,    0.01,4,    0.86,2,-999.000,9,-999.000,9,-999.000,9,  -999.0,9,  -999.0,9,-999.0000,9,  -999.00,-999.0000,9, -999.00,9, -999.00,9,  -999.0,9,  -999.0, -999.00,9, -999.00,9, -999.00,9, -999.00,9,  11.5860, -999.00
096U20160426,       P15S,      73,          1,         26,       2026,2,20160604,       0132,   -32.9951,  -170.0026,       5604,   400.2,  10.1180,  34.7150,2,  34.7243,2,    210.2,2,   210.8,2,    3.51,2,   15.66,2,    0.00,4,    1.11,2,-999.000,9,-999.000,9,-999.000,9,  -999.0,9,  -999.0,9,-999.0000,9,  -999.00,-999.0000,9, -999.00,9, -999.00,9,  -999.0,9,  -999.0, -999.00,9, -999.00,9, -999.00,9, -999.00,9,  10.0709, -999.00
096U20160426,       P15S,      73,          1,         25,       2025,2,20160604,       0132,   -32.9951,  -170.0026,       5604,   500.9,   8.5170,  34.5290,2,  34.5267,2,    226.0,2,   227.2,2,    4.33,2,   18.71,2,    0.01,4,    1.30,2,-999.000,9,-999.000,9,-999.000,9,  -999.0,9,  -999.0,9,-999.0000,9,  -999.00,-999.0000,9, -999.00,9, -999.00,9,  -999.0,9,  -999.0, -999.00,9, -999.00,9, -999.00,9, -999.00,9,   8.4637, -999.00
096U20160426,       P15S,      73,          1,         24,       2024,2,20160604,       0132,   -32.9951,  -170.0026,       5604,   625.3,   7.2320,  34.4020,2,  34.4062,2,    235.0,2,   235.8,2,    6.13,2,   21.71,2,    0.00,4,    1.49,2,-999.000,9,-999.000,9,-999.000,9,  -999.0,9,  -999.0,9,-999.0000,9,  -999.00,-999.0000,9, -999.00,9, -999.00,9,  -999.0,9,  -999.0, -999.00,9, -999.00,9, -999.00,9, -999.00,9,   7.1711, -999.00
096U20160426,       P15S,      73,          1,         23,       2023,2,20160604,       0132,   -32.9951,  -170.0026,       5604,   702.0,   6.8850,  34.3760,2,  34.3761,2,    234.8,2,   235.9,2,    7.32,2,   22.77,2,    0.00,4,    1.56,2,   3.310,2,   1.723,2,    0.79,2,  2145.6,2,  2280.8,6,-999.0000,9,  -999.00,-999.0000,9, -999.00,9, -999.00,9,  -999.0,9,  -999.0, -999.00,9, -999.00,9, -999.00,9, -999.00,9,   6.8181, -999.00
096U20160426,       P15S,      73,          1,         22,       2022,2,20160604,       0132,   -32.9951,  -170.0026,       5604,   800.9,   6.3440,  34.3420,2,  34.3431,2,    230.1,2,   231.7,2,    9.88,2,   24.46,2,    0.00,4,    1.66,2,-999.000,9,-999.000,9,-999.000,9,  -999.0,9,  -999.0,9,-999.0000,9,  -999.00,-999.0000,9, -999.00,9, -999.00,9,  -999.0,9,  -999.0, -999.00,9, -999.00,9, -999.00,9, -999.00,9,   6.2705, -999.00
096U20160426,       P15S,      73,          1,         21,       2021,2,20160604,       0132,   -32.9951,  -170.0026,       5604,   901.8,   5.8780,  34.3240,2,  34.3236,2,    223.0,2,   224.1,2,   13.46,2,   26.15,2,    0.00,4,    1.78,2,-999.000,9,-999.000,9,-999.000,9,  -999.0,9,  -999.0,9,-999.0000,9,  -999.00,-999.0000,9, -999.00,9, -999.00,9,  -999.0,9,  -999.0, -999.00,9, -999.00,9, -999.00,9, -999.00,9,   5.7978, -999.00
096U20160426,       P15S,      73,          1,         20,       2020,2,20160604,       0132,   -32.9951,  -170.0026,       5604,  1002.3,   5.2580,  34.3190,2,  34.3192,2,    210.7,2,   211.6,2,   20.26,2,   28.45,2,    0.00,4,    1.95,2,-999.000,9,-999.000,9,-999.000,9,  -999.0,9,  -999.0,9,-999.0000,9,  -999.00,-999.0000,9, -999.00,9, -999.00,9,  -999.0,9,  -999.0, -999.00,9, -999.00,9, -999.00,9, -999.00,9,   5.1728, -999.00
096U20160426,       P15S,      73,          1,         19,       2019,2,20160604,       0132,   -32.9951,  -170.0026,       5604,  1100.9,   4.6160,  34.3330,2,  34.3338,2,    198.6,2,   199.5,2,   29.23,2,   30.49,2,    0.00,4,    2.10,2,-999.000,9,-999.000,9,-999.000,9,  -999.0,9,  -999.0,9,-999.0000,9,  -999.00,-999.0000,9, -999.00,9, -999.00,9,  -999.0,9,  -999.0, -999.00,9, -999.00,9, -999.00,9, -999.00,9,   4.5270, -999.00
096U20160426,       P15S,      73,          1,         18,       2018,2,20160604,       0132,   -32.9951,  -170.0026,       5604,  1202.5,   4.0330,  34.3630,2,  34.3615,2,    189.0,2,   190.3,2,   38.92,2,   32.06,2,    0.00,4,    2.21,2,-999.000,9,-999.000,9,-999.000,9,  -999.0,9,  -999.0,9,-999.0000,9,  -999.00,-999.0000,9, -999.00,9, -999.00,9,  -999.0,9,  -999.0, -999.00,9, -999.00,9, -999.00,9, -999.00,9,   3.9402, -999.00
096U20160426,       P15S,      73,          1,         17,       2017,2,20160604,       0132,   -32.9951,  -170.0026,       5604,  1350.5,   3.3110,  34.4320,2,  34.4322,2,    176.8,2,   177.2,2,   55.76,2,   33.65,2,    0.00,4,    2.34,2,-999.000,9,-999.000,9,-999.000,9,  -999.0,9,  -999.0,9,-999.0000,9,  -999.00,-999.0000,9, -999.00,9, -999.00,9,  -999.0,9,  -999.0, -999.00,9, -999.00,9, -999.00,9, -999.00,9,   3.2125, -999.00
096U20160426,       P15S,      73,          1,         16,       2016,2,20160604,       0132,   -32.9951,  -170.0026,       5604,  1501.3,   2.9090,  34.5090,2,  34.5091,2,    165.9,2,   166.0,2,   71.66,2,   34.35,2,    0.00,4,    2.40,2,-999.000,9,-999.000,9,-999.000,9,  -999.0,9,  -999.0,9,-999.0000,9,  -999.00,-999.0000,9, -999.00,9, -999.00,9,  -999.0,9,  -999.0, -999.00,9, -999.00,9, -999.00,9, -999.00,9,   2.8023, -999.00
096U20160426,       P15S,      73,          1,         15,       2015,2,20160604,       0132,   -32.9951,  -170.0026,       5604,  1701.6,   2.5990,  34.5780,2,  34.5778,2,    157.0,2,   157.3,2,   89.31,2,   34.78,2,    0.00,4,    2.43,2,-999.000,9,-999.000,9,-999.000,9,  -999.0,9,  -999.0,9,-999.0000,9,  -999.00,-999.0000,9, -999.00,9, -999.00,9,  -999.0,9,  -999.0, -999.00,9, -999.00,9, -999.00,9, -999.00,9,   2.4792, -999.00
096U20160426,       P15S,      73,          1,         14,       2014,2,20160604,       0132,   -32.9951,  -170.0026,       5604,  1900.4,   2.3880,  34.6120,2,  34.6120,2,    152.0,2,   152.3,2,  102.02,2,   35.16,2,    0.00,4,    2.47,2,-999.000,9,-999.000,9,-999.000,9,  -999.0,9,  -999.0,9,-999.0000,9,  -999.00,-999.0000,9, -999.00,9, -999.00,9,  -999.0,9,  -999.0, -999.00,9, -999.00,9, -999.00,9, -999.00,9,   2.2543, -999.00
096U20160426,       P15S,      73,          1,         13,       2013,2,20160604,       0132,   -32.9951,  -170.0026,       5604,  2151.0,   2.2050,  34.6330,2,  34.6325,2,    148.7,2,   148.9,2,  111.59,2,   35.44,2,    0.00,4,    2.49,2,-999.000,9,-999.000,9,-999.000,9,  -999.0,9,  -999.0,9,-999.0000,9,  -999.00,-999.0000,9, -999.00,9, -999.00,9,  -999.0,9,  -999.0, -999.00,9, -999.00,9, -999.00,9, -999.00,9,   2.0524, -999.00
096U20160426,       P15S,      73,          1,         12,       2012,2,20160604,       0132,   -32.9951,  -170.0026,       5604,  2401.1,   2.0680,  34.6460,2,  34.6444,2,    146.9,2,   147.0,2,  118.77,2,   35.73,2,    0.00,4,    2.51,2,-999.000,9,-999.000,9,-999.000,9,  -999.0,9,  -999.0,9,-999.0000,9,  -999.00,-999.0000,9, -999.00,9, -999.00,9,  -999.0,9,  -999.0, -999.00,9, -999.00,9, -999.00,9, -999.00,9,   1.8954, -999.00
096U20160426,       P15S,      73,          1,         11,       2011,2,20160604,       0132,   -32.9951,  -170.0026,       5604,  2651.6,   1.9560,  34.6560,2,  34.6562,2,    147.6,2,   147.7,2,  122.67,2,   35.72,2,    0.00,4,    2.51,2,   0.000,6,   0.001,6,       0,6,  2312.2,6,  2401.7,6,-999.0000,9,  -999.00,-999.0000,9, -999.00,9, -999.00,9,  -999.0,9,  -999.0, -999.00,9, -999.00,9, -999.00,9, -999.00,9,   1.7625, -999.00
096U20160426,       P15S,      73,          1,         10,       2010,2,20160604,       0132,   -32.9951,  -170.0026,       5604,  2901.1,   1.8510,  34.6670,2,  34.6669,2,    150.9,2,   151.3,2,  124.80,2,   35.49,2,    0.00,4,    2.49,2,-999.000,9,-999.000,9,-999.000,9,  -999.0,9,  -999.0,9,-999.0000,9,  -999.00,-999.0000,9, -999.00,9, -999.00,9,  -999.0,9,  -999.0, -999.00,9, -999.00,9, -999.00,9, -999.00,9,   1.6361, -999.00
096U20160426,       P15S,      73,          1,          9,       2009,2,20160604,       0132,   -32.9951,  -170.0026,       5604,  3176.6,   1.7460,  34.6820,2,  34.6823,2,    159.5,2,   160.2,2,  121.87,2,   34.73,2,    0.00,4,    2.42,2,   0.006,2,   0.005,2,       0,2,  -999.0,9,  -999.0,9,-999.0000,9,  -999.00,-999.0000,9, -999.00,9, -999.00,9,  -999.0,9,  -999.0, -999.00,9, -999.00,9, -999.00,9, -999.00,9,   1.5064, -999.00
096U20160426,       P15S,      73,          1,          8,       2008,2,20160604,       0132,   -32.9951,  -170.0026,       5604,  3475.2,   1.6170,  34.7070,2,  34.7061,2,    179.3,2,   181.2,2,  110.70,2,   32.82,2,    0.00,4,    2.28,2,-999.000,9,-999.000,9,-999.000,9,  -999.0,9,  -999.0,9,-999.0000,9,  -999.00,-999.0000,9, -999.00,9, -999.00,9,  -999.0,9,  -999.0, -999.00,9, -999.00,9, -999.00,9, -999.00,9,   1.3503, -999.00
096U20160426,       P15S,      73,          1,          7,       2007,2,20160604,       0132,   -32.9951,  -170.0026,       5604,  3825.5,   1.3980,  34.7190,2,  34.7178,2,    193.9,2,   196.4,2,  108.40,2,   31.88,2,    0.00,4,    2.20,2,-999.000,9,-999.000,9,-999.000,9,  -999.0,9,  -999.0,9,-999.0000,9,  -999.00,-999.0000,9, -999.00,9, -999.00,9,  -999.0,9,  -999.0, -999.00,9, -999.00,9, -999.00,9, -999.00,9,   1.1004, -999.00
096U20160426,       P15S,      73,          1,          6,       2006,2,20160604,       0132,   -32.9951,  -170.0026,       5604,  4225.5,   1.1710,  34.7160,2,  34.7144,2,    201.4,2,   203.2,2,  108.52,2,   31.92,2,    0.00,4,    2.21,2,   0.064,2,   0.037,2,       0,2,  -999.0,9,  -999.0,9,-999.0000,9,  -999.00,-999.0000,9, -999.00,9, -999.00,9,  -999.0,9,  -999.0, -999.00,9, -999.00,9, -999.00,9, -999.00,9,   0.8367, -999.00
096U20160426,       P15S,      73,          1,          5,       2005,2,20160604,       0132,   -32.9951,  -170.0026,       5604,  4626.3,   1.0620,  34.7110,2,  34.7099,2,    204.8,2,   205.8,2,  116.98,2,   32.00,2,    0.00,4,    2.21,2,-999.000,9,-999.000,9,-999.000,9,  -999.0,9,  -999.0,9,-999.0000,9,  -999.00,-999.0000,9, -999.00,9, -999.00,9,  -999.0,9,  -999.0, -999.00,9, -999.00,9, -999.00,9, -999.00,9,   0.6861, -999.00
096U20160426,       P15S,      73,          1,          4,       2004,2,20160604,       0132,   -32.9951,  -170.0026,       5604,  5025.3,   1.0570,  34.7090,2,  34.7085,2,    206.3,2,   206.3,2,  118.38,2,   32.05,2,    0.00,4,    2.21,2,   0.108,2,   0.056,2,       0,2,  -999.0,9,  -999.0,9,-999.0000,9,  -999.00,-999.0000,9, -999.00,9, -999.00,9,  -999.0,9,  -999.0, -999.00,9, -999.00,9, -999.00,9, -999.00,9,   0.6345, -999.00
096U20160426,       P15S,      73,          1,          3,       2003,2,20160604,       0132,   -32.9951,  -170.0026,       5604,  5400.6,   1.0940,  34.7080,2,  34.7075,2,    207.0,2,   206.1,2,  118.77,2,   32.10,2,    0.00,4,    2.21,2,-999.000,9,-999.000,9,-999.000,9,  -999.0,9,  -999.0,9,-999.0000,9,  -999.00,-999.0000,9, -999.00,9, -999.00,9,  -999.0,9,  -999.0, -999.00,9, -999.00,9, -999.00,9, -999.00,9,   0.6244, -999.00
096U20160426,       P15S,      73,          1,          2,       2002,2,20160604,       0132,   -32.9951,  -170.0026,       5604,  5552.7,   1.1130,  34.7080,2,  34.7076,2,    207.0,2,   206.2,2,  118.70,2,   32.12,2,    0.00,4,    2.21,2,   0.093,2,   0.051,2,       0,2,  2265.0,2,  2366.9,2,-999.0000,9,  -999.00,-999.0000,9, -999.00,9, -999.00,9,  -999.0,9,  -999.0, -999.00,9, -999.00,9, -999.00,9, -999.00,9,   0.6237, -999.00
096U20160426,       P15S,      73,          1,          1,       2001,2,20160604,       0132,   -32.9951,  -170.0026,       5604,  5685.3,   1.1310,  34.7080,2,  34.7078,2,    207.2,2,   206.0,2,  118.77,2,   32.10,2,    0.00,4,    2.21,2,-999.000,9,-999.000,9,-999.000,9,  -999.0,9,  -999.0,9,-999.0000,9,  -999.00,-999.0000,9, -999.00,9, -999.00,9,  -999.0,9,  -999.0, -999.00,9, -999.00,9, -999.00,9, -999.00,9,   0.6242, -999.00