BOTTLE,20230413CCHSIOENA
EXPOCODE,SECT_ID,STNNBR,CASTNO,SAMPNO,BTLNBR,BTLNBR_FLAG_W,DATE,TIME,LATITUDE,LONGITUDE,DEPTH,CTDPRS,CTDTMP,CTDSAL,CTDSAL_FLAG_W,SALNTY,SALNTY_FLAG_W,CTDOXY,CTDOXY_FLAG_W,OXYGEN,OXYGEN_FLAG_W,SILCAT,SILCAT_FLAG_W,NITRAT,NITRAT_FLAG_W,NITRIT,NITRIT_FLAG_W,PHSPHT,PHSPHT_FLAG_W,CFC-11,CFC-11_FLAG_W,CFC-12,CFC-12_FLAG_W,SF6,SF6_FLAG_W,TCARBN,TCARBN_FLAG_W,ALKALI,ALKALI_FLAG_W,PH_TOT,PH_TOT_FLAG_W,PH_TMP,HELIUM,HELIUM_FLAG_W,DELHE3,DELHE3_FLAG_W,DELC13,DELC13_FLAG_W,DELC14,DELC14_FLAG_W,C14ERR,POC,POC_FLAG_W,PON,PON_FLAG_W,CHLORA,CHLORA_FLAG_W,PPHYTN,PPHYTN_FLAG_W,THETA,DELHER
,,,,,,,,,,,METERS,DBAR,ITS-90,PSS-78,,PSS-78,,UMOL/KG,,UMOL/KG,,UMOL/KG,,UMOL/KG,,UMOL/KG,,UMOL/KG,,PMOL/KG,,PMOL/KG,,FMOL/KG,,UMOL/KG,,UMOL/KG,,,,DEG C,NMOL/KG,,PERCNT,,/MILLE,,/MILLE,,/MILLE,UG/KG,,UG/KG,,UG/KG,,UG/KG,,DEG C,PERCNT
096U20160426,       P15S,      87,          1,         36,       2036,2,20160609,       1512,   -25.4911,  -170.0026,       5805,     3.4,  23.4810,  35.6890,2,  35.6878,2,    212.5,2,   211.5,2,    0.36,2,   -0.03,4,    0.01,4,    0.05,2,-999.000,9,-999.000,9,-999.000,9,  2012.7,2,  2341.3,2,-999.0000,9,  -999.00,-999.0000,9, -999.00,9, -999.00,9,  -999.0,9,  -999.0, -999.00,9, -999.00,9,    0.39,2,    0.00,3,  23.4803, -999.00
096U20160426,       P15S,      87,          1,         35,       2035,2,20160609,       1512,   -25.4911,  -170.0026,       5805,    27.7,  23.4940,  35.6890,2,  35.6872,2,    212.6,2,   211.4,2,    0.35,2,   -0.02,4,    0.00,4,    0.05,2,-999.000,9,-999.000,9,-999.000,9,  -999.0,9,  -999.0,9,-999.0000,9,  -999.00,-999.0000,9, -999.00,9, -999.00,9,  -999.0,9,  -999.0, -999.00,9, -999.00,9, -999.00,9, -999.00,9,  23.4882, -999.00
096U20160426,       P15S,      87,          1,         34,       2034,2,20160609,       1512,   -25.4911,  -170.0026,       5805,    52.0,  23.4970,  35.6890,2,  35.6882,2,    212.3,2,   211.5,2,    0.31,2,   -0.02,4,    0.00,4,    0.05,2,-999.000,9,-999.000,9,-999.000,9,  -999.0,9,  -999.0,9,-999.0000,9,  -999.00,-999.0000,9, -999.00,9, -999.00,9,  -999.0,9,  -999.0, -999.00,9, -999.00,9,    0.51,2,   -0.08,3,  23.4862, -999.00
096U20160426,       P15S,      87,          1,         33,       2033,2,20160609,       1512,   -25.4911,  -170.0026,       5805,    76.3,  23.4990,  35.6910,2,  35.6886,2,    212.1,2,   211.3,2,    0.30,2,   -0.02,4,    0.00,4,    0.05,2,-999.000,9,-999.000,9,-999.000,9,  -999.0,9,  -999.0,9,-999.0000,9,  -999.00,-999.0000,9, -999.00,9, -999.00,9,  -999.0,9,  -999.0, -999.00,9, -999.00,9,    0.41,2,   -0.04,3,  23.4831, -999.00
096U20160426,       P15S,      87,          1,         32,       2032,2,20160609,       1512,   -25.4911,  -170.0026,       5805,   102.6,  23.0930,  35.7340,2,  35.7413,2,    209.3,2,   209.9,2,    0.35,2,    0.05,2,    0.06,2,    0.09,2,-999.000,9,-999.000,9,-999.000,9,  -999.0,9,  -999.0,9,-999.0000,9,  -999.00,-999.0000,9, -999.00,9, -999.00,9,  -999.0,9,  -999.0, -999.00,9, -999.00,9,    0.94,2,   -0.02,3,  23.0719, -999.00
096U20160426,       P15S,      87,          1,         31,       2031,2,20160609,       1512,   -25.4911,  -170.0026,       5805,   152.4,  20.1360,  35.6980,2,  35.6869,2,    196.8,2,   196.1,2,    0.47,2,    2.01,2,    0.02,2,    0.22,2,-999.000,9,-999.000,9,-999.000,9,  2065.6,2,  2338.6,2,-999.0000,9,  -999.00,-999.0000,9, -999.00,9, -999.00,9,  -999.0,9,  -999.0, -999.00,9, -999.00,9,    0.10,2,    0.04,3,  20.1076, -999.00
096U20160426,       P15S,      87,          1,         30,       2030,2,20160609,       1512,   -25.4911,  -170.0026,       5805,   201.7,  18.9210,  35.6380,2,  35.6381,2,    203.5,2,   203.7,2,    0.50,2,    2.00,2,    0.02,4,    0.21,2,-999.000,9,-999.000,9,-999.000,9,  -999.0,9,  -999.0,9,-999.0000,9,  -999.00,-999.0000,9, -999.00,9, -999.00,9,  -999.0,9,  -999.0, -999.00,9, -999.00,9, -999.00,9, -999.00,9,  18.8850, -999.00
096U20160426,       P15S,      87,          1,         29,       2029,2,20160609,       1512,   -25.4911,  -170.0026,       5805,   251.1,  18.0280,  35.5830,2,  35.5735,2,    203.3,2,   202.9,2,    0.68,2,    2.97,2,    0.01,4,    0.27,2,-999.000,9,-999.000,9,-999.000,9,  -999.0,9,  -999.0,9,-999.0000,9,  -999.00,-999.0000,9, -999.00,9, -999.00,9,  -999.0,9,  -999.0, -999.00,9, -999.00,9, -999.00,9, -999.00,9,  17.9846, -999.00
096U20160426,       P15S,      87,          1,         28,       2028,2,20160609,       1512,   -25.4911,  -170.0026,       5805,   300.8,  16.8210,  35.4210,2,  35.3842,2,    195.9,2,   193.8,2,    1.31,2,    5.54,2,    0.01,4,    0.46,2,-999.000,9,-999.000,9,-999.000,9,  -999.0,9,  -999.0,9,-999.0000,9,  -999.00,-999.0000,9, -999.00,9, -999.00,9,  -999.0,9,  -999.0, -999.00,9, -999.00,9, -999.00,9, -999.00,9,  16.7714, -999.00
096U20160426,       P15S,      87,          1,         27,       2027,2,20160609,       1512,   -25.4911,  -170.0026,       5805,   350.4,  15.3270,  35.2420,2,  35.2315,2,    191.7,2,   191.5,2,    2.05,2,    7.87,2,    0.01,4,    0.62,2,-999.000,9,-999.000,9,-999.000,9,  -999.0,9,  -999.0,9,-999.0000,9,  -999.00,-999.0000,9, -999.00,9, -999.00,9,  -999.0,9,  -999.0, -999.00,9, -999.00,9, -999.00,9, -999.00,9,  15.2728, -999.00
096U20160426,       P15S,      87,          1,         26,       2026,2,20160609,       1512,   -25.4911,  -170.0026,       5805,   400.5,  13.8010,  35.0750,2,  35.0271,2,    190.4,2,   189.8,2,    2.99,2,   10.93,2,    0.01,4,    0.82,2,-999.000,9,-999.000,9,-999.000,9,  -999.0,9,  -999.0,9,-999.0000,9,  -999.00,-999.0000,9, -999.00,9, -999.00,9,  -999.0,9,  -999.0, -999.00,9, -999.00,9, -999.00,9, -999.00,9,  13.7433, -999.00
096U20160426,       P15S,      87,          1,         25,       2025,2,20160609,       1512,   -25.4911,  -170.0026,       5805,   502.2,  10.8840,  34.7820,2,  34.7530,2,    202.2,2,   204.6,2,    3.97,2,   15.34,2,    0.01,4,    1.09,2,-999.000,9,-999.000,9,-999.000,9,  -999.0,9,  -999.0,9,-999.0000,9,  -999.00,-999.0000,9, -999.00,9, -999.00,9,  -999.0,9,  -999.0, -999.00,9, -999.00,9, -999.00,9, -999.00,9,  10.8218, -999.00
096U20160426,       P15S,      87,          1,         24,       2024,2,20160609,       1512,   -25.4911,  -170.0026,       5805,   600.4,   8.3420,  34.5030,2,  34.4876,2,    220.0,2,   223.2,2,    5.62,2,   19.80,2,    0.01,4,    1.37,2,-999.000,9,-999.000,9,-999.000,9,  -999.0,9,  -999.0,9,-999.0000,9,  -999.00,-999.0000,9, -999.00,9, -999.00,9,  -999.0,9,  -999.0, -999.00,9, -999.00,9, -999.00,9, -999.00,9,   8.2786, -999.00
096U20160426,       P15S,      87,          1,         23,       2023,2,20160609,       1512,   -25.4911,  -170.0026,       5805,   701.0,   6.9830,  34.3810,2,  34.3779,2,    230.3,2,   233.1,2,    7.63,2,   22.56,2,    0.01,4,    1.54,2,-999.000,9,-999.000,9,-999.000,9,  -999.0,9,  -999.0,9,-999.0000,9,  -999.00,-999.0000,9, -999.00,9, -999.00,9,  -999.0,9,  -999.0, -999.00,9, -999.00,9, -999.00,9, -999.00,9,   6.9157, -999.00
096U20160426,       P15S,      87,          1,         22,       2022,2,20160609,       1512,   -25.4911,  -170.0026,       5805,   799.7,   6.2520,  34.3330,2,  34.3301,2,    227.5,2,   230.4,2,   10.64,2,   24.62,2,    0.01,4,    1.68,2,-999.000,9,-999.000,9,-999.000,9,  2151.8,2,  2280.7,2,-999.0000,9,  -999.00,-999.0000,9, -999.00,9, -999.00,9,  -999.0,9,  -999.0, -999.00,9, -999.00,9, -999.00,9, -999.00,9,   6.1791, -999.00
096U20160426,       P15S,      87,          1,         21,       2021,2,20160609,       1512,   -25.4911,  -170.0026,       5805,   900.2,   5.6090,  34.3230,2,  34.3214,2,    210.7,2,   212.8,2,   17.75,2,   27.55,2,    0.01,4,    1.89,2,-999.000,9,-999.000,9,-999.000,9,  -999.0,9,  -999.0,9,-999.0000,9,  -999.00,-999.0000,9, -999.00,9, -999.00,9,  -999.0,9,  -999.0, -999.00,9, -999.00,9, -999.00,9, -999.00,9,   5.5307, -999.00
096U20160426,       P15S,      87,          1,         20,       2020,2,20160609,       1512,   -25.4911,  -170.0026,       5805,  1000.0,   4.9160,  34.3360,2,  34.3339,2,    193.9,2,   196.6,2,   27.32,2,   30.07,2,    0.00,4,    2.07,2,-999.000,9,-999.000,9,-999.000,9,  -999.0,9,  -999.0,9,-999.0000,9,  -999.00,-999.0000,9, -999.00,9, -999.00,9,  -999.0,9,  -999.0, -999.00,9, -999.00,9, -999.00,9, -999.00,9,   4.8336, -999.00
096U20160426,       P15S,      87,          1,         19,       2019,2,20160609,       1512,   -25.4911,  -170.0026,       5805,  1099.5,   4.3430,  34.3590,2,  34.3592,2,    184.3,2,   185.9,2,   37.54,2,   31.76,2,    0.00,4,    2.19,2,-999.000,9,-999.000,9,-999.000,9,  -999.0,9,  -999.0,9,-999.0000,9,  -999.00,-999.0000,9, -999.00,9, -999.00,9,  -999.0,9,  -999.0, -999.00,9, -999.00,9, -999.00,9, -999.00,9,   4.2564, -999.00
096U20160426,       P15S,      87,          1,         18,       2018,2,20160609,       1512,   -25.4911,  -170.0026,       5805,  1200.6,   3.7740,  34.4070,2,  34.4053,2,    174.1,2,   175.7,2,   49.94,2,   33.08,2,    0.00,4,    2.29,2,-999.000,9,-999.000,9,-999.000,9,  -999.0,9,  -999.0,9,-999.0000,9,  -999.00,-999.0000,9, -999.00,9, -999.00,9,  -999.0,9,  -999.0, -999.00,9, -999.00,9, -999.00,9, -999.00,9,   3.6836, -999.00
096U20160426,       P15S,      87,          1,         17,       2017,2,20160609,       1512,   -25.4911,  -170.0026,       5805,  1350.7,   3.1570,  34.4820,2,  34.4805,2,    164.7,2,   165.8,2,   68.09,2,   34.10,2,    0.00,4,    2.37,2,-999.000,9,-999.000,9,-999.000,9,  -999.0,9,  -999.0,9,-999.0000,9,  -999.00,-999.0000,9, -999.00,9, -999.00,9,  -999.0,9,  -999.0, -999.00,9, -999.00,9, -999.00,9, -999.00,9,   3.0600, -999.00
096U20160426,       P15S,      87,          1,         16,       2016,2,20160609,       1512,   -25.4911,  -170.0026,       5805,  1501.3,   2.8150,  34.5360,2,  34.5330,2,    159.0,2,   160.2,2,   80.73,2,   34.45,2,    0.00,4,    2.41,2,-999.000,9,-999.000,9,-999.000,9,  -999.0,9,  -999.0,9,-999.0000,9,  -999.00,-999.0000,9, -999.00,9, -999.00,9,  -999.0,9,  -999.0, -999.00,9, -999.00,9, -999.00,9, -999.00,9,   2.7093, -999.00
096U20160426,       P15S,      87,          1,         15,       2015,2,20160609,       1512,   -25.4911,  -170.0026,       5805,  1700.5,   2.5330,  34.5890,2,  34.5869,2,    152.4,2,   152.7,2,   96.77,2,   34.92,2,    0.00,4,    2.45,2,-999.000,9,-999.000,9,-999.000,9,  -999.0,9,  -999.0,9,-999.0000,9,  -999.00,-999.0000,9, -999.00,9, -999.00,9,  -999.0,9,  -999.0, -999.00,9, -999.00,9, -999.00,9, -999.00,9,   2.4141, -999.00
096U20160426,       P15S,      87,          1,         14,       2014,2,20160609,       1512,   -25.4911,  -170.0026,       5805,  1900.8,   2.3490,  34.6170,2,  34.6155,2,    147.3,2,   148.5,2,  107.94,2,   35.30,2,    0.00,4,    2.48,2,-999.000,9,-999.000,9,-999.000,9,  -999.0,9,  -999.0,9,-999.0000,9,  -999.00,-999.0000,9, -999.00,9, -999.00,9,  -999.0,9,  -999.0, -999.00,9, -999.00,9, -999.00,9, -999.00,9,   2.2158, -999.00
096U20160426,       P15S,      87,          1,         13,       2013,2,20160609,       1512,   -25.4911,  -170.0026,       5805,  2150.9,   2.1760,  34.6360,2,  34.6340,2,    145.6,2,   146.4,2,  116.05,2,   35.63,2,    0.00,4,    2.50,2,-999.000,9,-999.000,9,-999.000,9,  -999.0,9,  -999.0,9,-999.0000,9,  -999.00,-999.0000,9, -999.00,9, -999.00,9,  -999.0,9,  -999.0, -999.00,9, -999.00,9, -999.00,9, -999.00,9,   2.0238, -999.00
096U20160426,       P15S,      87,          1,         12,       2012,2,20160609,       1512,   -25.4911,  -170.0026,       5805,  2400.6,   2.0520,  34.6470,2,  34.6453,2,    145.6,2,   146.1,2,  120.85,2,   35.62,2,    0.00,4,    2.50,2,-999.000,9,-999.000,9,-999.000,9,  2311.4,6,  2398.3,6,-999.0000,9,  -999.00,-999.0000,9, -999.00,9, -999.00,9,  -999.0,9,  -999.0, -999.00,9, -999.00,9, -999.00,9, -999.00,9,   1.8798, -999.00
096U20160426,       P15S,      87,          1,         11,       2011,2,20160609,       1512,   -25.4911,  -170.0026,       5805,  2650.3,   1.9360,  34.6580,2,  34.6556,2,    146.2,2,   146.4,2,  125.30,2,   35.66,2,    0.00,4,    2.50,2,-999.000,9,-999.000,9,-999.000,9,  -999.0,9,  -999.0,9,-999.0000,9,  -999.00,-999.0000,9, -999.00,9, -999.00,9,  -999.0,9,  -999.0, -999.00,9, -999.00,9, -999.00,9, -999.00,9,   1.7431, -999.00
096U20160426,       P15S,      87,          1,         10,       2010,2,20160609,       1512,   -25.4911,  -170.0026,       5805,  2901.1,   1.8210,  34.6680,2,  34.6666,2,    148.1,2,   148.8,2,  128.77,2,   35.54,2,    0.00,4,    2.49,2,-999.000,9,-999.000,9,-999.000,9,  -999.0,9,  -999.0,9,-999.0000,9,  -999.00,-999.0000,9, -999.00,9, -999.00,9,  -999.0,9,  -999.0, -999.00,9, -999.00,9, -999.00,9, -999.00,9,   1.6067, -999.00
096U20160426,       P15S,      87,          1,          9,       2009,2,20160609,       1512,   -25.4911,  -170.0026,       5805,  3175.3,   1.7060,  34.6790,2,  34.6761,2,    154.1,2,   154.9,2,  128.85,2,   35.08,2,    0.01,4,    2.46,2,-999.000,9,-999.000,9,-999.000,9,  -999.0,9,  -999.0,9,-999.0000,9,  -999.00,-999.0000,9, -999.00,9, -999.00,9,  -999.0,9,  -999.0, -999.00,9, -999.00,9, -999.00,9, -999.00,9,   1.4675, -999.00
096U20160426,       P15S,      87,          1,          8,       2008,2,20160609,       1512,   -25.4911,  -170.0026,       5805,  3475.5,   1.5920,  34.6960,2,  34.6943,2,    168.6,2,   170.4,2,  121.76,2,   33.76,2,    0.00,4,    2.36,2,-999.000,9,-999.000,9,-999.000,9,  -999.0,9,  -999.0,9,-999.0000,9,  -999.00,-999.0000,9, -999.00,9, -999.00,9,  -999.0,9,  -999.0, -999.00,9, -999.00,9, -999.00,9, -999.00,9,   1.3259, -999.00
096U20160426,       P15S,      87,          1,          7,       2007,2,20160609,       1512,   -25.4911,  -170.0026,       5805,  3826.0,   1.4250,  34.7190,2,  34.7179,2,    190.9,2,   194.6,2,  109.53,2,   31.72,2,    0.01,4,    2.20,2,-999.000,9,-999.000,9,-999.000,9,  -999.0,9,  -999.0,9,-999.0000,9,  -999.00,-999.0000,9, -999.00,9, -999.00,9,  -999.0,9,  -999.0, -999.00,9, -999.00,9, -999.00,9, -999.00,9,   1.1266, -999.00
096U20160426,       P15S,      87,          1,          6,       2006,2,20160609,       1512,   -25.4911,  -170.0026,       5805,  4226.0,   1.1930,  34.7170,2,  34.7158,2,    199.6,2,   202.7,2,  113.52,2,   31.61,2,    0.00,4,    2.19,2,-999.000,9,-999.000,9,-999.000,9,  -999.0,9,  -999.0,9,-999.0000,9,  -999.00,-999.0000,9, -999.00,9, -999.00,9,  -999.0,9,  -999.0, -999.00,9, -999.00,9, -999.00,9, -999.00,9,   0.8580, -999.00
096U20160426,       P15S,      87,          1,          5,       2005,2,20160609,       1512,   -25.4911,  -170.0026,       5805,  4626.0,   1.0880,  34.7120,2,  34.7114,2,    203.3,2,   205.4,2,  117.27,2,   31.78,2,    0.00,4,    2.19,2,-999.000,9,-999.000,9,-999.000,9,  -999.0,9,  -999.0,9,-999.0000,9,  -999.00,-999.0000,9, -999.00,9, -999.00,9,  -999.0,9,  -999.0, -999.00,9, -999.00,9, -999.00,9, -999.00,9,   0.7113, -999.00
096U20160426,       P15S,      87,          1,          4,       2004,2,20160609,       1512,   -25.4911,  -170.0026,       5805,  5028.0,   1.0670,  34.7100,2,  34.7094,2,    205.8,2,   206.1,2,  118.97,2,   31.86,2,    0.01,4,    2.20,2,-999.000,9,-999.000,9,-999.000,9,  -999.0,9,  -999.0,9,-999.0000,9,  -999.00,-999.0000,9, -999.00,9, -999.00,9,  -999.0,9,  -999.0, -999.00,9, -999.00,9, -999.00,9, -999.00,9,   0.6439, -999.00
096U20160426,       P15S,      87,          1,          3,       2003,2,20160609,       1512,   -25.4911,  -170.0026,       5805,  5402.7,   1.1020,  34.7090,2,  34.7079,2,    207.5,2,   206.2,2,  119.27,2,   31.86,2,    0.01,4,    2.20,2,-999.000,9,-999.000,9,-999.000,9,  -999.0,9,  -999.0,9,-999.0000,9,  -999.00,-999.0000,9, -999.00,9, -999.00,9,  -999.0,9,  -999.0, -999.00,9, -999.00,9, -999.00,9, -999.00,9,   0.6319, -999.00
096U20160426,       P15S,      87,          1,          2,       2002,2,20160609,       1512,   -25.4911,  -170.0026,       5805,  5651.9,   1.1320,  34.7090,2,  34.7081,2,    208.2,2,   206.3,2,  119.42,2,   31.83,2,    0.01,4,    2.20,2,-999.000,9,-999.000,9,-999.000,9,  -999.0,9,  -999.0,9,-999.0000,9,  -999.00,-999.0000,9, -999.00,9, -999.00,9,  -999.0,9,  -999.0, -999.00,9, -999.00,9, -999.00,9, -999.00,9,   0.6294, -999.00
096U20160426,       P15S,      87,          1,          1,       2001,2,20160609,       1512,   -25.4911,  -170.0026,       5805,  5933.9,   1.1660,  34.7080,2,  34.7079,2,    208.9,2,   206.3,2,  119.66,2,   31.85,2,    0.01,4,    2.20,2,-999.000,9,-999.000,9,-999.000,9,  2263.6,2,  2366.5,2,-999.0000,9,  -999.00,-999.0000,9, -999.00,9, -999.00,9,  -999.0,9,  -999.0, -999.00,9, -999.00,9, -999.00,9, -999.00,9,   0.6256, -999.00