BOTTLE,20230413CCHSIOENA
EXPOCODE,SECT_ID,STNNBR,CASTNO,SAMPNO,BTLNBR,BTLNBR_FLAG_W,DATE,TIME,LATITUDE,LONGITUDE,DEPTH,CTDPRS,CTDTMP,CTDSAL,CTDSAL_FLAG_W,SALNTY,SALNTY_FLAG_W,CTDOXY,CTDOXY_FLAG_W,OXYGEN,OXYGEN_FLAG_W,SILCAT,SILCAT_FLAG_W,NITRAT,NITRAT_FLAG_W,NITRIT,NITRIT_FLAG_W,PHSPHT,PHSPHT_FLAG_W,CFC-11,CFC-11_FLAG_W,CFC-12,CFC-12_FLAG_W,SF6,SF6_FLAG_W,TCARBN,TCARBN_FLAG_W,ALKALI,ALKALI_FLAG_W,PH_TOT,PH_TOT_FLAG_W,PH_TMP,HELIUM,HELIUM_FLAG_W,DELHE3,DELHE3_FLAG_W,DELC13,DELC13_FLAG_W,DELC14,DELC14_FLAG_W,C14ERR,POC,POC_FLAG_W,PON,PON_FLAG_W,CHLORA,CHLORA_FLAG_W,PPHYTN,PPHYTN_FLAG_W,THETA,DELHER
,,,,,,,,,,,METERS,DBAR,ITS-90,PSS-78,,PSS-78,,UMOL/KG,,UMOL/KG,,UMOL/KG,,UMOL/KG,,UMOL/KG,,UMOL/KG,,PMOL/KG,,PMOL/KG,,FMOL/KG,,UMOL/KG,,UMOL/KG,,,,DEG C,NMOL/KG,,PERCNT,,/MILLE,,/MILLE,,/MILLE,UG/KG,,UG/KG,,UG/KG,,UG/KG,,DEG C,PERCNT
096U20160426,       P15S,     131,          1,         36,       2036,2,20160621,       2148,    -4.5003,  -168.7502,       5638,     4.7,  30.2580,  34.8610,2,  34.8490,2,    185.4,2,   193.8,2,    0.70,2,   -0.02,4,    0.00,4,    0.18,2,-999.000,9,-999.000,9,-999.000,9,  1959.0,2,  2292.1,2,-999.0000,9,  -999.00,-999.0000,9, -999.00,9, -999.00,9,  -999.0,9,  -999.0, -999.00,9, -999.00,9,    0.50,2,   -0.07,3,  30.2568, -999.00
096U20160426,       P15S,     131,          1,         35,       2035,2,20160621,       2148,    -4.5003,  -168.7502,       5638,    20.8,  30.1500,  34.8560,2,  34.8563,2,    187.2,2,   194.0,2,    0.70,2,   -0.02,4,    0.00,4,    0.18,2,-999.000,9,-999.000,9,-999.000,9,  -999.0,9,  -999.0,9,-999.0000,9,  -999.00,-999.0000,9, -999.00,9, -999.00,9,  -999.0,9,  -999.0, -999.00,9, -999.00,9,    0.38,2,    0.02,3,  30.1448, -999.00
096U20160426,       P15S,     131,          1,         34,       2034,2,20160621,       2148,    -4.5003,  -168.7502,       5638,    40.7,  30.1360,  34.8560,2,  34.8561,2,    187.3,2,   193.8,2,    0.70,2,   -0.02,4,    0.00,4,    0.18,2,-999.000,9,-999.000,9,-999.000,9,  -999.0,9,  -999.0,9,-999.0000,9,  -999.00,-999.0000,9, -999.00,9, -999.00,9,  -999.0,9,  -999.0, -999.00,9, -999.00,9,    0.40,2,    0.01,3,  30.1259, -999.00
096U20160426,       P15S,     131,          1,         33,       2033,2,20160621,       2148,    -4.5003,  -168.7502,       5638,    66.3,  30.1400,  34.8500,2,  34.8761,2,    187.0,2,   193.4,2,    0.70,2,   -0.02,4,    0.00,4,    0.18,2,-999.000,9,-999.000,9,-999.000,9,  1959.8,2,  2294.2,2,-999.0000,9,  -999.00,-999.0000,9, -999.00,9, -999.00,9,  -999.0,9,  -999.0, -999.00,9, -999.00,9,    0.48,2,    0.01,3,  30.1235, -999.00
096U20160426,       P15S,     131,          1,         32,       2032,2,20160621,       2148,    -4.5003,  -168.7502,       5638,    91.7,  29.7330,  35.7670,2,  35.9066,2,    183.4,2,   177.6,2,    1.51,2,    1.30,2,    0.57,2,    0.40,2,-999.000,9,-999.000,9,-999.000,9,  -999.0,9,  -999.0,9,-999.0000,9,  -999.00,-999.0000,9, -999.00,9, -999.00,9,  -999.0,9,  -999.0, -999.00,9, -999.00,9,    0.96,2,   -0.06,3,  29.7104, -999.00
096U20160426,       P15S,     131,          1,         31,       2031,2,20160621,       2148,    -4.5003,  -168.7502,       5638,   125.9,  24.7010,  36.1580,2,  36.0694,2,    150.4,2,   152.2,2,    2.16,2,    6.49,2,    0.50,2,    0.74,2,-999.000,9,-999.000,9,-999.000,9,  2110.5,2,  2374.8,2,-999.0000,9,  -999.00,-999.0000,9, -999.00,9, -999.00,9,  -999.0,9,  -999.0, -999.00,9, -999.00,9, -999.00,9, -999.00,9,  24.6738, -999.00
096U20160426,       P15S,     131,          1,         30,       2030,2,20160621,       2148,    -4.5003,  -168.7502,       5638,   186.2,  16.0740,  35.2660,2,  35.2411,2,    101.3,2,   100.9,2,   10.33,2,   18.47,2,    0.00,4,    1.48,2,-999.000,9,-999.000,9,-999.000,9,  2180.3,2,  2322.2,2,-999.0000,9,  -999.00,-999.0000,9, -999.00,9, -999.00,9,  -999.0,9,  -999.0, -999.00,9, -999.00,9, -999.00,9, -999.00,9,  16.0444, -999.00
096U20160426,       P15S,     131,          1,         29,       2029,2,20160621,       2148,    -4.5003,  -168.7502,       5638,   235.2,  13.6310,  35.0330,2,  34.9769,2,    109.3,2,    99.4,2,   15.05,2,   22.65,2,    0.00,4,    1.69,2,-999.000,9,-999.000,9,-999.000,9,  2189.9,2,  2308.9,6,-999.0000,9,  -999.00,-999.0000,9, -999.00,9, -999.00,9,  -999.0,9,  -999.0, -999.00,9, -999.00,9, -999.00,9, -999.00,9,  13.5976, -999.00
096U20160426,       P15S,     131,          1,         28,       2028,2,20160621,       2148,    -4.5003,  -168.7502,       5638,   286.1,  10.7700,  34.7990,2,  34.7920,2,     97.4,2,    97.5,2,   20.70,2,   26.96,2,    0.00,4,    1.92,2,-999.000,9,-999.000,9,-999.000,9,  -999.0,9,  -999.0,9,-999.0000,9,  -999.00,-999.0000,9, -999.00,9, -999.00,9,  -999.0,9,  -999.0, -999.00,9, -999.00,9, -999.00,9, -999.00,9,  10.7351, -999.00
096U20160426,       P15S,     131,          1,         27,       2027,2,20160621,       2148,    -4.5003,  -168.7502,       5638,   335.4,   9.8180,  34.7250,2,  34.7218,2,    100.9,2,    99.9,2,   23.62,2,   28.55,2,    0.00,4,    2.01,2,-999.000,9,-999.000,9,-999.000,9,  2210.3,2,  2300.9,2,-999.0000,9,  -999.00,-999.0000,9, -999.00,9, -999.00,9,  -999.0,9,  -999.0, -999.00,9, -999.00,9, -999.00,9, -999.00,9,   9.7794, -999.00
096U20160426,       P15S,     131,          1,         26,       2026,2,20160621,       2148,    -4.5003,  -168.7502,       5638,   376.2,   9.4870,  34.7020,2,  34.7000,2,    105.3,2,   103.2,2,   24.34,2,   28.96,2,    0.00,4,    2.03,2,-999.000,9,-999.000,9,-999.000,9,  -999.0,9,  -999.0,9,-999.0000,9,  -999.00,-999.0000,9, -999.00,9, -999.00,9,  -999.0,9,  -999.0, -999.00,9, -999.00,9, -999.00,9, -999.00,9,   9.4445, -999.00
096U20160426,       P15S,     131,          1,         25,       2025,2,20160621,       2148,    -4.5003,  -168.7502,       5638,   465.2,   8.6480,  34.6440,2,  34.6415,2,    104.8,2,   104.4,2,   27.74,2,   30.60,2,    0.00,4,    2.13,2,-999.000,9,-999.000,9,-999.000,9,  -999.0,9,  -999.0,9,-999.0000,9,  -999.00,-999.0000,9, -999.00,9, -999.00,9,  -999.0,9,  -999.0, -999.00,9, -999.00,9, -999.00,9, -999.00,9,   8.5981, -999.00
096U20160426,       P15S,     131,          1,         24,       2024,2,20160621,       2148,    -4.5003,  -168.7502,       5638,   565.7,   7.4830,  34.5780,2,  34.5723,2,    110.8,2,   111.3,2,   33.53,2,   32.44,2,    0.00,4,    2.25,2,-999.000,9,-999.000,9,-999.000,9,  2225.6,6,  2304.2,6,-999.0000,9,  -999.00,-999.0000,9, -999.00,9, -999.00,9,  -999.0,9,  -999.0, -999.00,9, -999.00,9, -999.00,9, -999.00,9,   7.4269, -999.00
096U20160426,       P15S,     131,          1,         23,       2023,2,20160621,       2148,    -4.5003,  -168.7502,       5638,   664.9,   6.4290,  34.5370,2,  34.5356,2,    113.1,2,   113.1,2,   43.03,2,   34.32,2,    0.00,4,    2.40,2,-999.000,9,-999.000,9,-999.000,9,  -999.0,9,  -999.0,9,-999.0000,9,  -999.00,-999.0000,9, -999.00,9, -999.00,9,  -999.0,9,  -999.0, -999.00,9, -999.00,9, -999.00,9, -999.00,9,   6.3679, -999.00
096U20160426,       P15S,     131,          1,         22,       2022,2,20160621,       2148,    -4.5003,  -168.7502,       5638,   726.0,   5.8200,  34.5240,2,  34.5215,2,    116.7,2,   114.3,2,   50.85,2,   35.20,2,    0.00,4,    2.47,2,-999.000,9,-999.000,9,-999.000,9,  2247.1,2,  2320.6,2,-999.0000,9,  -999.00,-999.0000,9, -999.00,9, -999.00,9,  -999.0,9,  -999.0, -999.00,9, -999.00,9, -999.00,9, -999.00,9,   5.7564, -999.00
096U20160426,       P15S,     131,          1,         21,       2021,2,20160621,       2148,    -4.5003,  -168.7502,       5638,   865.7,   4.9790,  34.5410,2,  34.5403,2,     92.4,2,    89.4,2,   70.11,2,   38.56,2,    0.00,4,    2.74,2,-999.000,9,-999.000,9,-999.000,9,  -999.0,9,  -999.0,9,-999.0000,9,  -999.00,-999.0000,9, -999.00,9, -999.00,9,  -999.0,9,  -999.0, -999.00,9, -999.00,9, -999.00,9, -999.00,9,   4.9078, -999.00
096U20160426,       P15S,     131,          1,         20,       2020,2,20160621,       2148,    -4.5003,  -168.7502,       5638,   966.8,   4.4440,  34.5450,2,  34.5437,2,    101.6,2,    99.2,2,   77.94,2,   38.28,2,    0.00,4,    2.72,2,-999.000,9,-999.000,9,-999.000,9,  -999.0,9,  -999.0,9,-999.0000,9,  -999.00,-999.0000,9, -999.00,9, -999.00,9,  -999.0,9,  -999.0, -999.00,9, -999.00,9, -999.00,9, -999.00,9,   4.3677, -999.00
096U20160426,       P15S,     131,          1,         19,       2019,2,20160621,       2148,    -4.5003,  -168.7502,       5638,  1066.6,   4.1070,  34.5540,2,  34.5540,2,    102.2,2,    99.9,2,   85.38,2,   38.45,2,    0.00,4,    2.74,2,-999.000,9,-999.000,9,-999.000,9,  -999.0,9,  -999.0,9,-999.0000,9,  -999.00,-999.0000,9, -999.00,9, -999.00,9,  -999.0,9,  -999.0, -999.00,9, -999.00,9, -999.00,9, -999.00,9,   4.0248, -999.00
096U20160426,       P15S,     131,          1,         18,       2018,2,20160621,       2148,    -4.5003,  -168.7502,       5638,  1161.7,   3.8200,  34.5660,2,  34.5653,2,    103.1,2,   100.7,2,   93.41,2,   38.44,2,    0.00,4,    2.74,2,-999.000,9,-999.000,9,-999.000,9,  -999.0,9,  -999.0,9,-999.0000,9,  -999.00,-999.0000,9, -999.00,9, -999.00,9,  -999.0,9,  -999.0, -999.00,9, -999.00,9, -999.00,9, -999.00,9,   3.7322, -999.00
096U20160426,       P15S,     131,          1,         17,       2017,2,20160621,       2148,    -4.5003,  -168.7502,       5638,  1301.9,   3.5400,  34.5760,2,  34.5746,2,    105.4,2,   103.5,2,   99.79,2,   38.43,2,    0.00,4,    2.74,2,-999.000,9,-999.000,9,-999.000,9,  -999.0,9,  -999.0,9,-999.0000,9,  -999.00,-999.0000,9, -999.00,9, -999.00,9,  -999.0,9,  -999.0, -999.00,9, -999.00,9, -999.00,9, -999.00,9,   3.4430, -999.00
096U20160426,       P15S,     131,          1,         16,       2016,2,20160621,       2148,    -4.5003,  -168.7502,       5638,  1441.7,   3.1550,  34.5890,2,  34.5894,2,    112.0,2,   110.6,2,  106.92,2,   38.14,2,    0.00,4,    2.71,2,-999.000,9,-999.000,9,-999.000,9,  -999.0,9,  -999.0,9,-999.0000,9,  -999.00,-999.0000,9, -999.00,9, -999.00,9,  -999.0,9,  -999.0, -999.00,9, -999.00,9, -999.00,9, -999.00,9,   3.0502, -999.00
096U20160426,       P15S,     131,          1,         15,       2015,2,20160621,       2148,    -4.5003,  -168.7502,       5638,  1635.5,   2.7400,  34.6110,2,  34.6118,2,    114.3,2,   112.4,2,  117.67,2,   38.04,2,    0.00,4,    2.70,2,-999.000,9,-999.000,9,-999.000,9,  -999.0,9,  -999.0,9,-999.0000,9,  -999.00,-999.0000,9, -999.00,9, -999.00,9,  -999.0,9,  -999.0, -999.00,9, -999.00,9, -999.00,9, -999.00,9,   2.6239, -999.00
096U20160426,       P15S,     131,          1,         14,       2014,2,20160621,       2148,    -4.5003,  -168.7502,       5638,  1827.4,   2.4550,  34.6270,2,  34.6263,2,    117.6,2,   116.1,2,  125.19,2,   37.96,2,    0.00,4,    2.69,2,-999.000,9,-999.000,9,-999.000,9,  -999.0,9,  -999.0,9,-999.0000,9,  -999.00,-999.0000,9, -999.00,9, -999.00,9,  -999.0,9,  -999.0, -999.00,9, -999.00,9, -999.00,9, -999.00,9,   2.3265, -999.00
096U20160426,       P15S,     131,          1,         13,       2013,2,20160621,       2148,    -4.5003,  -168.7502,       5638,  2065.9,   2.1450,  34.6450,2,  34.6435,2,    123.1,2,   122.5,2,  132.50,2,   37.64,2,    0.00,4,    2.66,2,-999.000,9,-999.000,9,-999.000,9,  -999.0,9,  -999.0,9,-999.0000,9,  -999.00,-999.0000,9, -999.00,9, -999.00,9,  -999.0,9,  -999.0, -999.00,9, -999.00,9, -999.00,9, -999.00,9,   2.0007, -999.00
096U20160426,       P15S,     131,          1,         12,       2012,2,20160621,       2148,    -4.5003,  -168.7502,       5638,  2315.8,   1.9970,  34.6540,2,  34.6542,2,    126.9,2,   126.5,2,  136.07,2,   37.45,2,    0.00,4,    2.64,2,-999.000,9,-999.000,9,-999.000,9,  -999.0,9,  -999.0,9,-999.0000,9,  -999.00,-999.0000,9, -999.00,9, -999.00,9,  -999.0,9,  -999.0, -999.00,9, -999.00,9, -999.00,9, -999.00,9,   1.8333, -999.00
096U20160426,       P15S,     131,          1,         11,       2011,2,20160621,       2148,    -4.5003,  -168.7502,       5638,  2565.0,   1.8680,  34.6620,2,  34.6616,2,    132.5,2,   132.4,2,  137.37,2,   37.10,2,    0.00,4,    2.60,2,-999.000,9,-999.000,9,-999.000,9,  -999.0,9,  -999.0,9,-999.0000,9,  -999.00,-999.0000,9, -999.00,9, -999.00,9,  -999.0,9,  -999.0, -999.00,9, -999.00,9, -999.00,9, -999.00,9,   1.6842, -999.00
096U20160426,       P15S,     131,          1,         10,       2010,2,20160621,       2148,    -4.5003,  -168.7502,       5638,  2815.0,   1.7550,  34.6700,2,  34.6693,2,    139.1,2,   139.9,2,  138.09,2,   36.64,2,    0.00,4,    2.56,2,-999.000,9,-999.000,9,-999.000,9,  -999.0,9,  -999.0,9,-999.0000,9,  -999.00,-999.0000,9, -999.00,9, -999.00,9,  -999.0,9,  -999.0, -999.00,9, -999.00,9, -999.00,9, -999.00,9,   1.5502, -999.00
096U20160426,       P15S,     131,          1,          9,       2009,2,20160621,       2148,    -4.5003,  -168.7502,       5638,  3080.7,   1.6540,  34.6770,2,  34.6784,2,    146.7,2,   147.8,2,  136.78,2,   36.00,2,    0.00,4,    2.51,2,-999.000,9,-999.000,9,-999.000,9,  -999.0,9,  -999.0,9,-999.0000,9,  -999.00,-999.0000,9, -999.00,9, -999.00,9,  -999.0,9,  -999.0, -999.00,9, -999.00,9, -999.00,9, -999.00,9,   1.4260, -999.00
096U20160426,       P15S,     131,          1,          8,       2008,2,20160621,       2148,    -4.5003,  -168.7502,       5638,  3365.3,   1.5530,  34.6840,2,  34.6827,2,    154.3,2,   156.4,2,  135.94,2,   35.50,2,    0.00,4,    2.47,2,-999.000,9,-999.000,9,-999.000,9,  -999.0,9,  -999.0,9,-999.0000,9,  -999.00,-999.0000,9, -999.00,9, -999.00,9,  -999.0,9,  -999.0, -999.00,9, -999.00,9, -999.00,9, -999.00,9,   1.2991, -999.00
096U20160426,       P15S,     131,          1,          7,       2007,2,20160621,       2148,    -4.5003,  -168.7502,       5638,  3700.6,   1.4680,  34.6890,2,  34.6887,2,    161.0,2,   163.0,2,  135.41,2,   35.03,2,    0.00,4,    2.43,2,-999.000,9,-999.000,9,-999.000,9,  -999.0,9,  -999.0,9,-999.0000,9,  -999.00,-999.0000,9, -999.00,9, -999.00,9,  -999.0,9,  -999.0, -999.00,9, -999.00,9, -999.00,9, -999.00,9,   1.1819, -999.00
096U20160426,       P15S,     131,          1,          6,       2006,2,20160621,       2148,    -4.5003,  -168.7502,       5638,  4090.8,   1.3620,  34.6960,2,  34.6956,2,    170.9,2,   172.5,2,  133.44,2,   34.45,2,    0.00,4,    2.38,2,-999.000,9,-999.000,9,-999.000,9,  -999.0,9,  -999.0,9,-999.0000,9,  -999.00,-999.0000,9, -999.00,9, -999.00,9,  -999.0,9,  -999.0, -999.00,9, -999.00,9, -999.00,9, -999.00,9,   1.0370, -999.00
096U20160426,       P15S,     131,          1,          5,       2005,2,20160621,       2148,    -4.5003,  -168.7502,       5638,  4491.1,   1.3210,  34.7000,2,  34.6999,2,    179.2,2,   180.9,2,  129.34,2,   33.84,2,    0.00,4,    2.33,2,-999.000,9,-999.000,9,-999.000,9,  -999.0,9,  -999.0,9,-999.0000,9,  -999.00,-999.0000,9, -999.00,9, -999.00,9,  -999.0,9,  -999.0, -999.00,9, -999.00,9, -999.00,9, -999.00,9,   0.9524, -999.00
096U20160426,       P15S,     131,          1,          4,       2004,2,20160621,       2148,    -4.5003,  -168.7502,       5638,  4895.7,   1.2190,  34.7060,2,  34.7055,2,    193.2,2,   195.2,2,  122.22,2,   32.78,2,    0.00,4,    2.26,2,-999.000,9,-999.000,9,-999.000,9,  -999.0,9,  -999.0,9,-999.0000,9,  -999.00,-999.0000,9, -999.00,9, -999.00,9,  -999.0,9,  -999.0, -999.00,9, -999.00,9, -999.00,9, -999.00,9,   0.8065, -999.00
096U20160426,       P15S,     131,          1,          3,       2003,2,20160621,       2148,    -4.5003,  -168.7502,       5638,  5296.5,   1.2220,  34.7070,2,  34.7072,2,    197.9,3,   199.1,2,  120.59,2,   32.48,2,    0.00,4,    2.24,2,-999.000,9,-999.000,9,-999.000,9,  -999.0,9,  -999.0,9,-999.0000,9,  -999.00,-999.0000,9, -999.00,9, -999.00,9,  -999.0,9,  -999.0, -999.00,9, -999.00,9, -999.00,9, -999.00,9,   0.7608, -999.00
096U20160426,       P15S,     131,          1,          2,       2002,2,20160621,       2148,    -4.5003,  -168.7502,       5638,  5501.4,   1.2480,  34.7070,2,  34.7076,2,    198.4,2,   199.2,2,  120.62,2,   32.50,2,    0.00,4,    2.24,2,-999.000,9,-999.000,9,-999.000,9,  -999.0,9,  -999.0,9,-999.0000,9,  -999.00,-999.0000,9, -999.00,9, -999.00,9,  -999.0,9,  -999.0, -999.00,9, -999.00,9, -999.00,9, -999.00,9,   0.7602, -999.00
096U20160426,       P15S,     131,          1,          1,       2001,2,20160621,       2148,    -4.5003,  -168.7502,       5638,  5637.3,   1.2650,  34.7070,2,  34.7072,2,    199.4,2,   199.4,2,  120.55,2,   32.51,2,    0.00,4,    2.24,2,-999.000,9,-999.000,9,-999.000,9,  -999.0,9,  -999.0,9,-999.0000,9,  -999.00,-999.0000,9, -999.00,9, -999.00,9,  -999.0,9,  -999.0, -999.00,9, -999.00,9, -999.00,9, -999.00,9,   0.7593, -999.00