BOTTLE,20230413CCHSIOENA
EXPOCODE,SECT_ID,STNNBR,CASTNO,SAMPNO,BTLNBR,BTLNBR_FLAG_W,DATE,TIME,LATITUDE,LONGITUDE,DEPTH,CTDPRS,CTDTMP,CTDSAL,CTDSAL_FLAG_W,SALNTY,SALNTY_FLAG_W,CTDOXY,CTDOXY_FLAG_W,OXYGEN,OXYGEN_FLAG_W,SILCAT,SILCAT_FLAG_W,NITRAT,NITRAT_FLAG_W,NITRIT,NITRIT_FLAG_W,PHSPHT,PHSPHT_FLAG_W,CFC-11,CFC-11_FLAG_W,CFC-12,CFC-12_FLAG_W,SF6,SF6_FLAG_W,TCARBN,TCARBN_FLAG_W,ALKALI,ALKALI_FLAG_W,PH_TOT,PH_TOT_FLAG_W,PH_TMP,HELIUM,HELIUM_FLAG_W,DELHE3,DELHE3_FLAG_W,DELC13,DELC13_FLAG_W,DELC14,DELC14_FLAG_W,C14ERR,POC,POC_FLAG_W,PON,PON_FLAG_W,CHLORA,CHLORA_FLAG_W,PPHYTN,PPHYTN_FLAG_W,THETA,DELHER
,,,,,,,,,,,METERS,DBAR,ITS-90,PSS-78,,PSS-78,,UMOL/KG,,UMOL/KG,,UMOL/KG,,UMOL/KG,,UMOL/KG,,UMOL/KG,,PMOL/KG,,PMOL/KG,,FMOL/KG,,UMOL/KG,,UMOL/KG,,,,DEG C,NMOL/KG,,PERCNT,,/MILLE,,/MILLE,,/MILLE,UG/KG,,UG/KG,,UG/KG,,UG/KG,,DEG C,PERCNT
096U20160426,       P15S,      80,          1,         36,       2036,2,20160606,       0403,   -29.4990,  -169.9957,       5133,     5.4,  21.3740,  35.8750,2,  35.8747,2,    219.7,2,   220.3,2,    0.31,2,    0.01,4,    0.01,4,    0.04,2,   1.924,2,   1.179,2,   1.519,2,  2045.6,6,  2351.6,6,-999.0000,9,  -999.00,-999.0000,9, -999.00,9, -999.00,9,  -999.0,9,  -999.0, -999.00,9, -999.00,9, -999.00,9, -999.00,9,  21.3730, -999.00
096U20160426,       P15S,      80,          1,         35,       2035,2,20160606,       0403,   -29.4990,  -169.9957,       5133,    35.4,  21.0160,  35.8770,2,  35.8766,2,    220.7,2,   221.8,2,    0.34,2,    0.00,4,    0.01,4,    0.05,2,   1.933,2,   1.200,2,   1.527,2,  2049.5,2,  2351.8,2,-999.0000,9,  -999.00,-999.0000,9, -999.00,9, -999.00,9,  -999.0,9,  -999.0, -999.00,9, -999.00,9, -999.00,9, -999.00,9,  21.0092, -999.00
096U20160426,       P15S,      80,          1,         34,       2034,2,20160606,       0403,   -29.4990,  -169.9957,       5133,    61.2,  20.9790,  35.8790,2,  35.8778,2,    221.1,2,   221.7,2,    0.35,2,    0.00,4,    0.01,4,    0.05,2,-999.000,9,-999.000,9,-999.000,9,  -999.0,9,  -999.0,9,-999.0000,9,  -999.00,-999.0000,9, -999.00,9, -999.00,9,  -999.0,9,  -999.0, -999.00,9, -999.00,9, -999.00,9, -999.00,9,  20.9673, -999.00
096U20160426,       P15S,      80,          1,         33,       2033,2,20160606,       0403,   -29.4990,  -169.9957,       5133,    85.1,  20.9850,  35.8680,2,  35.8106,2,    222.2,2,   224.1,2,    0.40,2,    0.02,2,    0.02,2,    0.07,2,   2.003,2,   1.240,2,    1.54,2,  2056.4,2,  2347.8,2,-999.0000,9,  -999.00,-999.0000,9, -999.00,9, -999.00,9,  -999.0,9,  -999.0, -999.00,9, -999.00,9, -999.00,9, -999.00,9,  20.9687, -999.00
096U20160426,       P15S,      80,          1,         32,       2032,2,20160606,       0403,   -29.4990,  -169.9957,       5133,   115.3,  17.9790,  35.6230,2,  35.6084,2,    207.7,2,   206.9,2,    0.86,2,    2.98,2,    0.03,2,    0.30,2,   2.276,2,   1.375,2,    1.48,2,  2080.7,2,  2332.0,2,-999.0000,9,  -999.00,-999.0000,9, -999.00,9, -999.00,9,  -999.0,9,  -999.0, -999.00,9, -999.00,9, -999.00,9, -999.00,9,  17.9592, -999.00
096U20160426,       P15S,      80,          1,         31,       2031,2,20160606,       0403,   -29.4990,  -169.9957,       5133,   166.9,  16.9490,  35.5410,2,  35.5382,2,    203.3,2,   204.1,2,    1.12,2,    4.25,2,    0.02,2,    0.38,2,   2.422,2,   1.413,2,   1.534,2,  2087.4,2,  2329.4,2,-999.0000,9,  -999.00,-999.0000,9, -999.00,9, -999.00,9,  -999.0,9,  -999.0, -999.00,9, -999.00,9, -999.00,9, -999.00,9,  16.9214, -999.00
096U20160426,       P15S,      80,          1,         30,       2030,2,20160606,       0403,   -29.4990,  -169.9957,       5133,   216.4,  15.9890,  35.4310,2,  35.4270,2,    201.6,2,   201.9,2,    1.47,2,    5.61,2,    0.02,4,    0.48,2,   2.503,2,   1.449,2,   1.379,2,  2095.6,2,  2322.1,2,-999.0000,9,  -999.00,-999.0000,9, -999.00,9, -999.00,9,  -999.0,9,  -999.0, -999.00,9, -999.00,9, -999.00,9, -999.00,9,  15.9546, -999.00
096U20160426,       P15S,      80,          1,         29,       2029,2,20160606,       0403,   -29.4990,  -169.9957,       5133,   265.1,  15.1170,  35.3450,2,  35.3379,2,    202.5,2,   202.9,2,    1.92,2,    6.88,2,    0.02,4,    0.56,2,   2.539,2,   1.491,2,   1.386,2,  2104.3,2,  2317.6,2,-999.0000,9,  -999.00,-999.0000,9, -999.00,9, -999.00,9,  -999.0,9,  -999.0, -999.00,9, -999.00,9, -999.00,9, -999.00,9,  15.0764, -999.00
096U20160426,       P15S,      80,          1,         28,       2028,2,20160606,       0403,   -29.4990,  -169.9957,       5133,   316.6,  14.1590,  35.2330,2,  35.2412,2,    201.8,2,   204.5,2,    2.42,2,    8.29,2,    0.01,4,    0.65,2,   2.729,2,   1.526,2,   1.445,2,  2110.9,2,  2313.7,2,-999.0000,9,  -999.00,-999.0000,9, -999.00,9, -999.00,9,  -999.0,9,  -999.0, -999.00,9, -999.00,9, -999.00,9, -999.00,9,  14.1126, -999.00
096U20160426,       P15S,      80,          1,         27,       2027,2,20160606,       0403,   -29.4990,  -169.9957,       5133,   365.7,  13.4110,  35.1650,2,  35.1511,2,    205.9,2,   206.5,2,    2.78,2,    9.33,2,    0.02,4,    0.72,2,   2.716,2,   1.565,2,   1.399,2,  2115.6,2,  2309.5,2,-999.0000,9,  -999.00,-999.0000,9, -999.00,9, -999.00,9,  -999.0,9,  -999.0, -999.00,9, -999.00,9, -999.00,9, -999.00,9,  13.3593, -999.00
096U20160426,       P15S,      80,          1,         26,       2026,2,20160606,       0403,   -29.4990,  -169.9957,       5133,   435.6,  11.4030,  34.8890,2,  34.8841,2,    200.9,2,   201.8,2,    4.11,2,   14.15,2,    0.01,4,    1.02,2,   3.007,2,   1.614,2,   1.148,2,  2131.1,2,  2298.4,2,-999.0000,9,  -999.00,-999.0000,9, -999.00,9, -999.00,9,  -999.0,9,  -999.0, -999.00,9, -999.00,9, -999.00,9, -999.00,9,  11.3475, -999.00
096U20160426,       P15S,      80,          1,         25,       2025,2,20160606,       0403,   -29.4990,  -169.9957,       5133,   536.9,   8.7930,  34.5550,2,  34.5540,2,    215.4,2,   216.8,2,    5.32,2,   18.88,2,    0.01,4,    1.32,2,   3.328,2,   1.712,2,   0.948,2,  2140.2,2,  2285.5,2,-999.0000,9,  -999.00,-999.0000,9, -999.00,9, -999.00,9,  -999.0,9,  -999.0, -999.00,9, -999.00,9, -999.00,9, -999.00,9,   8.7347, -999.00
096U20160426,       P15S,      80,          1,         24,       2024,2,20160606,       0403,   -29.4990,  -169.9957,       5133,   635.5,   7.7320,  34.4600,2,  34.4584,2,    224.9,2,   226.5,2,    6.68,2,   21.11,2,    0.01,4,    1.45,2,   3.450,2,   1.722,2,   0.891,2,  2144.4,2,  2283.6,2,-999.0000,9,  -999.00,-999.0000,9, -999.00,9, -999.00,9,  -999.0,9,  -999.0, -999.00,9, -999.00,9, -999.00,9, -999.00,9,   7.6676, -999.00
096U20160426,       P15S,      80,          1,         23,       2023,2,20160606,       0403,   -29.4990,  -169.9957,       5133,   735.9,   7.0200,  34.3890,2,  34.3892,2,    230.8,2,   232.6,2,    7.77,2,   22.62,2,    0.01,4,    1.54,2,   3.401,2,   1.653,2,   0.781,2,  2147.1,2,  2281.5,2,-999.0000,9,  -999.00,-999.0000,9, -999.00,9, -999.00,9,  -999.0,9,  -999.0, -999.00,9, -999.00,9, -999.00,9, -999.00,9,   6.9490, -999.00
096U20160426,       P15S,      80,          1,         22,       2022,2,20160606,       0403,   -29.4990,  -169.9957,       5133,   836.0,   6.3710,  34.3560,2,  34.3568,2,    224.4,2,  -999.0,9,   11.68,2,   24.79,2,    0.01,4,    1.69,2,-999.000,9,-999.000,9,-999.000,9,  -999.0,9,  -999.0,9,-999.0000,9,  -999.00,-999.0000,9, -999.00,9, -999.00,9,  -999.0,9,  -999.0, -999.00,9, -999.00,9, -999.00,9, -999.00,9,   6.2938, -999.00
096U20160426,       P15S,      80,          1,         21,       2021,2,20160606,       0403,   -29.4990,  -169.9957,       5133,   935.4,   5.7020,  34.3270,2,  34.3266,2,    215.9,2,   218.5,2,   16.22,2,   26.94,2,    0.01,4,    1.84,2,   1.771,6,   0.862,6,   0.298,6,  2165.0,2,  2286.4,6,-999.0000,9,  -999.00,-999.0000,9, -999.00,9, -999.00,9,  -999.0,9,  -999.0, -999.00,9, -999.00,9, -999.00,9, -999.00,9,   5.6198, -999.00
096U20160426,       P15S,      80,          1,         20,       2020,2,20160606,       0403,   -29.4990,  -169.9957,       5133,  1035.6,   5.0900,  34.3370,2,  34.3358,2,    202.3,2,   204.9,2,   24.21,2,   29.09,2,    0.01,4,    2.00,2,   1.103,2,   0.543,2,   0.179,2,  2182.4,2,  2291.9,2,-999.0000,9,  -999.00,-999.0000,9, -999.00,9, -999.00,9,  -999.0,9,  -999.0, -999.00,9, -999.00,9, -999.00,9, -999.00,9,   5.0030, -999.00
096U20160426,       P15S,      80,          1,         19,       2019,2,20160606,       0403,   -29.4990,  -169.9957,       5133,  1135.5,   4.4250,  34.3410,2,  34.3417,2,    194.6,2,   196.1,2,   32.83,2,   31.13,2,    0.01,4,    2.14,2,-999.000,9,-999.000,9,-999.000,9,  -999.0,9,  -999.0,9,-999.0000,9,  -999.00,-999.0000,9, -999.00,9, -999.00,9,  -999.0,9,  -999.0, -999.00,9, -999.00,9, -999.00,9, -999.00,9,   4.3345, -999.00
096U20160426,       P15S,      80,          1,         18,       2018,2,20160606,       0403,   -29.4990,  -169.9957,       5133,  1235.4,   3.8690,  34.3860,2,  34.3843,2,    182.2,2,   183.7,2,   44.68,2,   32.59,2,    0.01,4,    2.25,2,   0.302,2,   0.162,2,   0.029,2,  2216.0,2,  2311.7,2,-999.0000,9,  -999.00,-999.0000,9, -999.00,9, -999.00,9,  -999.0,9,  -999.0, -999.00,9, -999.00,9, -999.00,9, -999.00,9,   3.7748, -999.00
096U20160426,       P15S,      80,          1,         17,       2017,2,20160606,       0403,   -29.4990,  -169.9957,       5133,  1335.7,   3.4650,  34.4270,2,  34.4271,2,    175.0,2,   176.1,2,   55.08,2,   33.47,2,    0.01,4,    2.32,2,-999.000,9,-999.000,9,-999.000,9,  -999.0,9,  -999.0,9,-999.0000,9,  -999.00,-999.0000,9, -999.00,9, -999.00,9,  -999.0,9,  -999.0, -999.00,9, -999.00,9, -999.00,9, -999.00,9,   3.3662, -999.00
096U20160426,       P15S,      80,          1,         16,       2016,2,20160606,       0403,   -29.4990,  -169.9957,       5133,  1465.5,   3.0530,  34.4880,2,  34.4940,2,    166.5,2,   166.8,2,   69.73,2,   34.16,2,    0.01,4,    2.38,2,   0.050,2,   0.032,2,       0,2,  2250.4,2,  2337.7,2,-999.0000,9,  -999.00,-999.0000,9, -999.00,9, -999.00,9,  -999.0,9,  -999.0, -999.00,9, -999.00,9, -999.00,9, -999.00,9,   2.9476, -999.00
096U20160426,       P15S,      80,          1,         15,       2015,2,20160606,       0403,   -29.4990,  -169.9957,       5133,  1663.7,   2.6500,  34.5700,2,  34.5684,2,    156.0,2,   156.9,2,   89.37,2,   34.77,2,    0.01,4,    2.43,2,   0.011,2,   0.009,2,   0.016,3,  2275.0,6,  2362.5,6,-999.0000,9,  -999.00,-999.0000,9, -999.00,9, -999.00,9,  -999.0,9,  -999.0, -999.00,9, -999.00,9, -999.00,9, -999.00,9,   2.5328, -999.00
096U20160426,       P15S,      80,          1,         14,       2014,2,20160606,       0403,   -29.4990,  -169.9957,       5133,  1864.8,   2.4380,  34.6050,2,  34.6043,2,    150.8,2,   151.2,2,  102.16,2,   35.16,2,    0.01,4,    2.47,2,   0.005,2,   0.005,2,       0,2,  2290.1,2,  2378.0,2,-999.0000,9,  -999.00,-999.0000,9, -999.00,9, -999.00,9,  -999.0,9,  -999.0, -999.00,9, -999.00,9, -999.00,9, -999.00,9,   2.3066, -999.00
096U20160426,       P15S,      80,          1,         13,       2013,2,20160606,       0403,   -29.4990,  -169.9957,       5133,  2086.6,   2.2540,  34.6280,2,  34.6275,2,    147.7,2,   148.3,2,  111.67,2,   35.51,2,    0.01,4,    2.50,2,   0.003,2,   0.003,2,       0,2,  2300.8,2,  2389.3,2,-999.0000,9,  -999.00,-999.0000,9, -999.00,9, -999.00,9,  -999.0,9,  -999.0, -999.00,9, -999.00,9, -999.00,9, -999.00,9,   2.1062, -999.00
096U20160426,       P15S,      80,          1,         12,       2012,2,20160606,       0403,   -29.4990,  -169.9957,       5133,  2335.9,   2.0940,  34.6430,2,  34.6422,2,    146.4,2,   146.6,2,  118.68,2,   35.70,2,    0.01,4,    2.51,2,   0.002,2,   0.004,2,       0,2,  2308.4,2,  2396.7,2,-999.0000,9,  -999.00,-999.0000,9, -999.00,9, -999.00,9,  -999.0,9,  -999.0, -999.00,9, -999.00,9, -999.00,9, -999.00,9,   1.9269, -999.00
096U20160426,       P15S,      80,          1,         11,       2011,2,20160606,       0403,   -29.4990,  -169.9957,       5133,  2586.2,   1.9680,  34.6550,2,  34.6537,2,    146.8,2,   146.9,2,  123.68,2,   35.75,2,    0.01,4,    2.51,2,   0.002,6,   0.001,6,       0,6,  2313.8,2,  2402.2,2,-999.0000,9,  -999.00,-999.0000,9, -999.00,9, -999.00,9,  -999.0,9,  -999.0, -999.00,9, -999.00,9, -999.00,9, -999.00,9,   1.7804, -999.00
096U20160426,       P15S,      80,          1,         10,       2010,2,20160606,       0403,   -29.4990,  -169.9957,       5133,  2835.4,   1.8370,  34.6660,2,  34.6664,2,    149.4,2,   149.9,2,  127.09,2,   35.56,2,    0.01,4,    2.50,2,-999.000,9,-999.000,9,-999.000,9,  2313.6,2,  2403.6,2,-999.0000,9,  -999.00,-999.0000,9, -999.00,9, -999.00,9,  -999.0,9,  -999.0, -999.00,9, -999.00,9, -999.00,9, -999.00,9,   1.6286, -999.00
096U20160426,       P15S,      80,          1,          9,       2009,2,20160606,       0403,   -29.4990,  -169.9957,       5133,  3100.6,   1.7290,  34.6810,2,  34.6809,2,    158.0,2,   158.6,2,  124.23,2,   34.78,2,    0.01,4,    2.44,2,   0.007,2,   0.006,2,       0,2,  2305.6,2,  2399.0,2,-999.0000,9,  -999.00,-999.0000,9, -999.00,9, -999.00,9,  -999.0,9,  -999.0, -999.00,9, -999.00,9, -999.00,9, -999.00,9,   1.4973, -999.00
096U20160426,       P15S,      80,          1,          8,       2008,2,20160606,       0403,   -29.4990,  -169.9957,       5133,  3400.8,   1.5870,  34.7070,2,  34.7059,2,    178.5,2,   180.5,2,  112.76,2,   32.90,2,    0.01,4,    2.29,2,-999.000,9,-999.000,9,-999.000,9,  -999.0,9,  -999.0,9,-999.0000,9,  -999.00,-999.0000,9, -999.00,9, -999.00,9,  -999.0,9,  -999.0, -999.00,9, -999.00,9, -999.00,9, -999.00,9,   1.3286, -999.00
096U20160426,       P15S,      80,          1,          7,       2007,2,20160606,       0403,   -29.4990,  -169.9957,       5133,  3700.7,   1.3680,  34.7190,2,  34.7186,2,    194.2,2,   196.5,2,  109.72,2,   31.82,2,    0.01,4,    2.21,2,   0.043,2,   0.026,2,       0,2,  2265.1,2,  2364.8,2,-999.0000,9,  -999.00,-999.0000,9, -999.00,9, -999.00,9,  -999.0,9,  -999.0, -999.00,9, -999.00,9, -999.00,9, -999.00,9,   1.0843, -999.00
096U20160426,       P15S,      80,          1,          6,       2006,2,20160606,       0403,   -29.4990,  -169.9957,       5133,  4000.7,   1.2100,  34.7170,2,  34.7161,2,    199.5,2,   201.6,2,  112.77,2,   31.81,2,    0.01,4,    2.20,2,-999.000,9,-999.000,9,-999.000,9,  -999.0,9,  -999.0,9,-999.0000,9,  -999.00,-999.0000,9, -999.00,9, -999.00,9,  -999.0,9,  -999.0, -999.00,9, -999.00,9, -999.00,9, -999.00,9,   0.8989, -999.00
096U20160426,       P15S,      80,          1,          5,       2005,2,20160606,       0403,   -29.4990,  -169.9957,       5133,  4300.0,   1.0680,  34.7120,2,  34.7122,2,    203.1,2,   204.9,2,  116.74,2,   31.93,2,    0.01,4,    2.21,2,   0.081,2,   0.045,2,       0,2,  2262.5,2,  2365.6,2,-999.0000,9,  -999.00,-999.0000,9, -999.00,9, -999.00,9,  -999.0,9,  -999.0, -999.00,9, -999.00,9, -999.00,9, -999.00,9,   0.7286, -999.00
096U20160426,       P15S,      80,          1,          4,       2004,2,20160606,       0403,   -29.4990,  -169.9957,       5133,  4634.8,   1.0390,  34.7100,2,  34.7100,2,    204.7,2,   206.0,2,  118.53,2,   32.01,2,    0.01,4,    2.22,2,   0.092,2,   0.051,2,       0,2,  2262.6,2,  2366.6,2,-999.0000,9,  -999.00,-999.0000,9, -999.00,9, -999.00,9,  -999.0,9,  -999.0, -999.00,9, -999.00,9, -999.00,9, -999.00,9,   0.6628, -999.00
096U20160426,       P15S,      80,          1,          3,       2003,2,20160606,       0403,   -29.4990,  -169.9957,       5133,  5035.0,   1.0530,  34.7080,2,  34.7091,2,    205.7,2,   205.8,2,  119.51,2,   32.03,2,    0.01,4,    2.22,2,   0.096,2,   0.052,2,   0.059,2,  2263.2,6,  2367.6,6,-999.0000,9,  -999.00,-999.0000,9, -999.00,9, -999.00,9,  -999.0,9,  -999.0, -999.00,9, -999.00,9, -999.00,9, -999.00,9,   0.6295, -999.00
096U20160426,       P15S,      80,          1,          2,       2002,2,20160606,       0403,   -29.4990,  -169.9957,       5133,  5148.7,   1.0660,  34.7080,2,  34.7081,2,    205.8,2,   205.8,2,  119.71,2,   32.08,2,    0.01,4,    2.22,2,-999.000,9,-999.000,9,-999.000,9,  -999.0,9,  -999.0,9,-999.0000,9,  -999.00,-999.0000,9, -999.00,9, -999.00,9,  -999.0,9,  -999.0, -999.00,9, -999.00,9, -999.00,9, -999.00,9,   0.6284, -999.00
096U20160426,       P15S,      80,          1,          1,       2001,2,20160606,       0403,   -29.4990,  -169.9957,       5133,  5281.4,   1.0810,  34.7080,2,  34.7085,2,    205.8,2,   206.0,2,  119.74,2,   32.11,2,    0.01,4,    2.22,2,   0.094,2,   0.052,2,   0.014,2,  2263.5,2,  2366.5,2,-999.0000,9,  -999.00,-999.0000,9, -999.00,9, -999.00,9,  -999.0,9,  -999.0, -999.00,9, -999.00,9, -999.00,9, -999.00,9,   0.6266, -999.00