BOTTLE,20230413CCHSIOENA
EXPOCODE,SECT_ID,STNNBR,CASTNO,SAMPNO,BTLNBR,BTLNBR_FLAG_W,DATE,TIME,LATITUDE,LONGITUDE,DEPTH,CTDPRS,CTDTMP,CTDSAL,CTDSAL_FLAG_W,SALNTY,SALNTY_FLAG_W,CTDOXY,CTDOXY_FLAG_W,OXYGEN,OXYGEN_FLAG_W,SILCAT,SILCAT_FLAG_W,NITRAT,NITRAT_FLAG_W,NITRIT,NITRIT_FLAG_W,PHSPHT,PHSPHT_FLAG_W,CFC-11,CFC-11_FLAG_W,CFC-12,CFC-12_FLAG_W,SF6,SF6_FLAG_W,TCARBN,TCARBN_FLAG_W,ALKALI,ALKALI_FLAG_W,PH_TOT,PH_TOT_FLAG_W,PH_TMP,HELIUM,HELIUM_FLAG_W,DELHE3,DELHE3_FLAG_W,DELC13,DELC13_FLAG_W,DELC14,DELC14_FLAG_W,C14ERR,POC,POC_FLAG_W,PON,PON_FLAG_W,CHLORA,CHLORA_FLAG_W,PPHYTN,PPHYTN_FLAG_W,THETA,DELHER
,,,,,,,,,,,METERS,DBAR,ITS-90,PSS-78,,PSS-78,,UMOL/KG,,UMOL/KG,,UMOL/KG,,UMOL/KG,,UMOL/KG,,UMOL/KG,,PMOL/KG,,PMOL/KG,,FMOL/KG,,UMOL/KG,,UMOL/KG,,,,DEG C,NMOL/KG,,PERCNT,,/MILLE,,/MILLE,,/MILLE,UG/KG,,UG/KG,,UG/KG,,UG/KG,,DEG C,PERCNT
096U20160426,       P15S,       2,          1,         36,       2036,2,20160504,       1146,   -66.3330,  -169.9982,       3308,     5.8,  -1.5040,  34.0710,2,  34.0868,2,    355.4,2,   345.6,2,   63.77,2,   28.40,2,    0.22,2,    1.98,2,   6.080,2,   3.230,2,   3.559,2,  2195.3,2,  2303.6,2,   7.6429,2,    25.00,-999.0000,9, -999.00,9, -999.00,9,  -999.0,9,  -999.0,   23.46,2,    5.55,2,    0.50,2,   -0.01,3,  -1.5041, -999.00
096U20160426,       P15S,       2,          1,         35,       2035,2,20160504,       1146,   -66.3330,  -169.9982,       3308,    20.3,  -1.5030,  34.0710,2,  34.0767,2,    355.1,2,   345.4,2,   63.74,2,   28.40,2,    0.22,2,    1.98,2,-999.000,9,-999.000,9,-999.000,9,  2193.2,2,  2303.6,2,   7.6434,2,    25.00,-999.0000,9, -999.00,9, -999.00,9,  -999.0,9,  -999.0, -999.00,9, -999.00,9,    0.68,2,    0.04,3,  -1.5034, -999.00
096U20160426,       P15S,       2,          1,         34,       2034,2,20160504,       1146,   -66.3330,  -169.9982,       3308,    40.5,  -1.4910,  34.0700,2,  34.0875,2,    355.2,2,   345.8,2,   63.75,2,   28.37,2,    0.22,2,    1.98,2,   6.049,2,   3.233,2,   3.516,2,  2195.5,2,  2304.8,2,   7.6423,2,    25.00,-999.0000,9, -999.00,9, -999.00,9,  -999.0,9,  -999.0, -999.00,9, -999.00,9,    0.68,2,    0.04,3,  -1.4919, -999.00
096U20160426,       P15S,       2,          1,         33,       2033,2,20160504,       1146,   -66.3330,  -169.9982,       3308,    65.0,  -1.4880,  34.0700,2,  34.0942,2,    354.6,2,   345.7,2,   63.75,2,   28.39,2,    0.22,2,    1.98,2,   6.098,6,   3.241,6,   3.581,6,  2196.2,2,  2305.4,2,   7.6423,2,    25.00,-999.0000,9, -999.00,9, -999.00,9,  -999.0,9,  -999.0,   23.55,6,    5.94,6,    0.71,2,   -0.01,3,  -1.4894, -999.00
096U20160426,       P15S,       2,          1,         32,       2032,2,20160504,       1146,   -66.3330,  -169.9982,       3308,    90.5,  -1.4910,  34.0700,2,  34.0911,2,    354.6,2,   345.9,2,   63.72,2,   28.35,2,    0.22,2,    1.98,2,   6.036,2,   3.226,2,   3.583,2,  2193.8,2,  2304.7,2,   7.6412,2,    25.00,-999.0000,9, -999.00,9, -999.00,9,  -999.0,9,  -999.0, -999.00,9, -999.00,9, -999.00,9, -999.00,9,  -1.4930, -999.00
096U20160426,       P15S,       2,          1,         31,       2031,2,20160504,       1146,   -66.3330,  -169.9982,       3308,   115.8,  -1.3690,  34.0980,2,  34.3071,3,    332.2,2,   278.7,3,   72.56,2,   30.83,2,    0.11,2,    2.14,2,   3.978,2,   2.088,2,   2.208,2,  2220.6,2,  2315.9,6,   7.5977,2,    25.00,-999.0000,9, -999.00,9, -999.00,9,  -999.0,9,  -999.0, -999.00,9, -999.00,9,    0.42,2,    0.04,3,  -1.3717, -999.00
096U20160426,       P15S,       2,          1,         30,       2030,2,20160504,       1146,   -66.3330,  -169.9982,       3308,   140.8,   0.3860,  34.5400,2,  34.5626,2,    226.4,2,   213.0,2,   83.87,2,   32.56,2,    0.02,4,    2.25,2,   1.731,2,   0.900,2,   0.901,2,  2248.0,6,  2333.1,6,   7.5691,2,    25.00,-999.0000,9, -999.00,9, -999.00,9,  -999.0,9,  -999.0, -999.00,9, -999.00,9, -999.00,9, -999.00,9,   0.3804, -999.00
096U20160426,       P15S,       2,          1,         29,       2029,2,20160504,       1146,   -66.3330,  -169.9982,       3308,   186.3,   1.1530,  34.6480,2,  34.6514,2,    202.2,2,   194.2,2,   88.12,2,   32.64,2,    0.01,4,    2.26,2,   1.013,2,   0.523,2,   0.462,2,  2254.0,2,  2340.2,2,   7.5673,2,    25.00,-999.0000,9, -999.00,9, -999.00,9,  -999.0,9,  -999.0, -999.00,9, -999.00,9, -999.00,9, -999.00,9,   1.1443, -999.00
096U20160426,       P15S,       2,          1,         28,       2028,2,20160504,       1146,   -66.3330,  -169.9982,       3308,   235.8,   1.3760,  34.6900,2,  34.6915,2,    198.7,2,   191.4,2,   90.59,2,   32.31,2,    0.01,4,    2.24,2,   0.710,2,   0.357,2,   0.306,2,  2255.5,2,  2344.0,2,   7.5756,2,    25.00,-999.0000,9, -999.00,9, -999.00,9,  -999.0,9,  -999.0, -999.00,9, -999.00,9, -999.00,9, -999.00,9,   1.3645, -999.00
096U20160426,       P15S,       2,          1,         27,       2027,2,20160504,       1146,   -66.3330,  -169.9982,       3308,   285.6,   1.4450,  34.7110,2,  34.7114,2,    195.9,2,   189.3,2,   93.35,2,   32.22,2,    0.01,4,    2.23,2,   0.498,2,   0.254,2,    0.23,2,  2257.4,2,  2346.5,2,   7.5826,2,    25.00,-999.0000,9, -999.00,9, -999.00,9,  -999.0,9,  -999.0, -999.00,9, -999.00,9, -999.00,9, -999.00,9,   1.4307, -999.00
096U20160426,       P15S,       2,          1,         26,       2026,2,20160504,       1146,   -66.3330,  -169.9982,       3308,   335.5,   1.4270,  34.7170,2,  34.7177,2,    197.1,2,   190.4,2,   94.66,2,   32.09,2,    0.00,4,    2.22,2,   0.435,2,   0.228,2,   0.185,2,  2257.2,2,  2347.7,2,   7.5815,2,    25.00,-999.0000,9, -999.00,9, -999.00,9,  -999.0,9,  -999.0, -999.00,9, -999.00,9, -999.00,9, -999.00,9,   1.4102, -999.00
096U20160426,       P15S,       2,          1,         25,       2025,2,20160504,       1146,   -66.3330,  -169.9982,       3308,   385.2,   1.4020,  34.7200,2,  34.7210,2,    198.6,2,   192.6,2,   95.68,2,   31.96,2,    0.00,4,    2.22,2,   0.397,2,   0.209,2,   0.143,2,  2257.0,2,  2348.3,2,   7.5837,2,    25.00,-999.0000,9, -999.00,9, -999.00,9,  -999.0,9,  -999.0, -999.00,9, -999.00,9, -999.00,9, -999.00,9,   1.3826, -999.00
096U20160426,       P15S,       2,          1,         24,       2024,2,20160504,       1146,   -66.3330,  -169.9982,       3308,   435.6,   1.3840,  34.7240,2,  34.7243,2,    198.1,2,   191.6,2,   97.67,2,   31.97,2,    0.01,4,    2.22,2,   0.335,2,   0.179,2,   0.117,2,  2258.8,2,  2351.2,3,   7.5853,2,    25.00,-999.0000,9, -999.00,9, -999.00,9,  -999.0,9,  -999.0, -999.00,9, -999.00,9, -999.00,9, -999.00,9,   1.3619, -999.00
096U20160426,       P15S,       2,          1,         23,       2023,2,20160504,       1146,   -66.3330,  -169.9982,       3308,   485.9,   1.3610,  34.7260,2,  34.7259,2,    198.1,2,   191.5,2,   99.28,2,   31.99,2,    0.01,4,    2.22,2,   0.307,2,   0.154,2,   0.129,2,  2258.1,2,  2349.9,2,   7.5843,2,    25.00,-999.0000,9, -999.00,9, -999.00,9,  -999.0,9,  -999.0, -999.00,9, -999.00,9, -999.00,9, -999.00,9,   1.3362, -999.00
096U20160426,       P15S,       2,          1,         22,       2022,2,20160504,       1146,   -66.3330,  -169.9982,       3308,   566.0,   1.3170,  34.7280,2,  34.7283,2,    197.7,2,   191.5,2,  102.30,2,   32.12,2,    0.01,4,    2.23,2,   0.241,2,   0.124,2,   0.093,2,  2259.2,2,  2352.0,2,   7.5851,2,    25.00,-999.0000,9, -999.00,9, -999.00,9,  -999.0,9,  -999.0, -999.00,9, -999.00,9, -999.00,9, -999.00,9,   1.2880, -999.00
096U20160426,       P15S,       2,          1,         21,       2021,2,20160504,       1146,   -66.3330,  -169.9982,       3308,   666.0,   1.2430,  34.7280,2,  34.7273,2,    199.0,2,   193.3,2,  105.17,2,   32.13,2,    0.01,4,    2.23,2,   0.219,2,   0.109,2,   0.112,2,  2260.5,2,  2354.6,2,   7.5860,2,    25.00,-999.0000,9, -999.00,9, -999.00,9,  -999.0,9,  -999.0, -999.00,9, -999.00,9, -999.00,9, -999.00,9,   1.2087, -999.00
096U20160426,       P15S,       2,          1,         20,       2020,2,20160504,       1146,   -66.3330,  -169.9982,       3308,   764.2,   1.1570,  34.7250,2,  34.7255,2,    201.5,2,   195.5,2,  107.51,2,   32.03,3,    0.01,4,    2.23,2,   0.199,2,   0.104,2,   0.105,2,  2259.2,2,  2355.9,2,   7.5884,6,    25.00,-999.0000,9, -999.00,9, -999.00,9,  -999.0,9,  -999.0, -999.00,9, -999.00,9, -999.00,9, -999.00,9,   1.1175, -999.00
096U20160426,       P15S,       2,          1,         19,       2019,2,20160504,       1146,   -66.3330,  -169.9982,       3308,   866.0,   1.0950,  34.7230,2,  34.7232,2,    202.4,2,   196.6,2,  109.84,2,   32.13,2,    0.01,4,    2.24,2,   0.191,2,   0.095,2,   0.052,2,  2261.1,2,  2356.9,6,   7.5901,2,    25.00,-999.0000,9, -999.00,9, -999.00,9,  -999.0,9,  -999.0, -999.00,9, -999.00,9, -999.00,9, -999.00,9,   1.0499, -999.00
096U20160426,       P15S,       2,          1,         18,       2018,2,20160504,       1146,   -66.3330,  -169.9982,       3308,   965.2,   1.0320,  34.7210,2,  34.7214,2,    203.7,2,   197.9,2,  111.96,2,   32.24,2,    0.01,4,    2.25,2,   0.182,2,   0.087,2,   0.087,2,  2261.5,6,  2357.5,6,   7.5910,2,    25.00,-999.0000,9, -999.00,9, -999.00,9,  -999.0,9,  -999.0, -999.00,9, -999.00,9, -999.00,9, -999.00,9,   0.9814, -999.00
096U20160426,       P15S,       2,          1,         17,       2017,2,20160504,       1146,   -66.3330,  -169.9982,       3308,  1065.8,   0.9630,  34.7180,2,  34.7182,2,    205.8,2,   200.2,2,  113.52,2,   32.20,2,    0.01,4,    2.24,2,   0.195,2,   0.103,2,       0,2,  2261.3,2,  2358.0,2,   7.5941,2,    25.00,-999.0000,9, -999.00,9, -999.00,9,  -999.0,9,  -999.0, -999.00,9, -999.00,9, -999.00,9, -999.00,9,   0.9069, -999.00
096U20160426,       P15S,       2,          1,         16,       2016,2,20160504,       1146,   -66.3330,  -169.9982,       3308,  1166.1,   0.8960,  34.7150,2,  34.7154,2,    207.8,2,   202.3,2,  115.03,2,   32.22,2,    0.00,4,    2.25,2,   0.218,2,   0.113,2,   0.055,2,  2260.8,2,  2357.8,2,   7.5911,2,    25.00,-999.0000,9, -999.00,9, -999.00,9,  -999.0,9,  -999.0, -999.00,9, -999.00,9, -999.00,9, -999.00,9,   0.8342, -999.00
096U20160426,       P15S,       2,          1,         15,       2015,2,20160504,       1146,   -66.3330,  -169.9982,       3308,  1265.7,   0.8370,  34.7130,2,  34.7136,2,    209.0,2,   202.6,2,  116.74,2,   32.23,2,    0.01,4,    2.25,2,   0.222,2,   0.112,2,   0.048,2,  2262.2,2,  2359.5,2,   7.5933,6,    25.00,-999.0000,9, -999.00,9, -999.00,9,  -999.0,9,  -999.0, -999.00,9, -999.00,9, -999.00,9, -999.00,9,   0.7695, -999.00
096U20160426,       P15S,       2,          1,         14,       2014,2,20160504,       1146,   -66.3330,  -169.9982,       3308,  1365.8,   0.7810,  34.7110,2,  34.7109,2,    209.7,2,   203.9,2,  118.43,2,   32.37,2,    0.01,4,    2.26,2,   0.239,2,   0.121,2,       0,2,  2261.8,2,  2356.8,2,   7.5962,2,    25.00,-999.0000,9, -999.00,9, -999.00,9,  -999.0,9,  -999.0, -999.00,9, -999.00,9, -999.00,9, -999.00,9,   0.7076, -999.00
096U20160426,       P15S,       2,          1,         13,       2013,2,20160504,       1146,   -66.3330,  -169.9982,       3308,  1466.9,   0.7240,  34.7090,2,  34.7088,2,    210.8,2,   205.1,2,  120.30,2,   32.44,2,    0.01,4,    2.26,2,   0.247,6,   0.128,6,   0.072,6,  2262.2,2,  2358.1,2,   7.5941,2,    25.00,-999.0000,9, -999.00,9, -999.00,9,  -999.0,9,  -999.0, -999.00,9, -999.00,9, -999.00,9, -999.00,9,   0.6446, -999.00
096U20160426,       P15S,       2,          1,         12,       2012,2,20160504,       1146,   -66.3330,  -169.9982,       3308,  1565.2,   0.6780,  34.7070,2,  34.7070,2,    211.5,2,   205.9,2,  121.97,2,   32.48,2,    0.01,4,    2.27,2,   0.257,2,   0.133,2,   0.068,2,  2262.6,2,  2359.9,2,   7.5931,2,    25.00,-999.0000,9, -999.00,9, -999.00,9,  -999.0,9,  -999.0, -999.00,9, -999.00,9, -999.00,9, -999.00,9,   0.5925, -999.00
096U20160426,       P15S,       2,          1,         11,       2011,2,20160504,       1146,   -66.3330,  -169.9982,       3308,  1664.7,   0.6310,  34.7050,2,  34.7049,2,    212.2,2,   206.2,2,  123.18,2,   32.54,2,    0.01,4,    2.27,2,-999.000,9,-999.000,9,-999.000,9,  2264.2,2,  2359.2,2,   7.5935,2,    25.00,-999.0000,9, -999.00,9, -999.00,9,  -999.0,9,  -999.0, -999.00,9, -999.00,9, -999.00,9, -999.00,9,   0.5393, -999.00
096U20160426,       P15S,       2,          1,         10,       2010,2,20160504,       1146,   -66.3330,  -169.9982,       3308,  1766.0,   0.5840,  34.7040,2,  34.7042,2,    213.0,2,   207.0,2,  124.33,2,   32.60,2,    0.01,4,    2.28,2,   0.299,2,   0.148,2,   0.097,2,  2261.2,2,  2358.9,2,   7.5912,2,    25.00,-999.0000,9, -999.00,9, -999.00,9,  -999.0,9,  -999.0, -999.00,9, -999.00,9, -999.00,9, -999.00,9,   0.4859, -999.00
096U20160426,       P15S,       2,          1,          9,       2009,2,20160504,       1146,   -66.3330,  -169.9982,       3308,  1936.7,   0.5150,  34.7020,2,  34.7022,2,    214.5,2,   209.0,2,  125.43,2,   32.62,2,    0.01,4,    2.28,2,   0.331,2,   0.164,2,   0.138,2,  2263.1,2,  2359.6,6,   7.5923,2,    25.00,-999.0000,9, -999.00,9, -999.00,9,  -999.0,9,  -999.0, -999.00,9, -999.00,9, -999.00,9, -999.00,9,   0.4057, -999.00
096U20160426,       P15S,       2,          1,          8,       2008,2,20160504,       1146,   -66.3330,  -169.9982,       3308,  2136.0,   0.4460,  34.6990,2,  34.6985,2,    216.1,2,   210.2,2,  125.88,2,   32.63,2,    0.01,4,    2.28,2,   0.420,2,   0.211,2,   0.185,2,  2261.9,2,  2359.8,2,-999.0000,9,  -999.00,-999.0000,9, -999.00,9, -999.00,9,  -999.0,9,  -999.0, -999.00,9, -999.00,9, -999.00,9, -999.00,9,   0.3231, -999.00
096U20160426,       P15S,       2,          1,          7,       2007,2,20160504,       1146,   -66.3330,  -169.9982,       3308,  2333.7,   0.3960,  34.6980,2,  34.6975,2,    217.5,2,   212.2,2,  126.50,2,   32.71,2,    0.00,4,    2.28,2,   0.448,2,   0.235,2,   0.163,2,  2261.5,2,  2359.1,2,-999.0000,9,  -999.00,-999.0000,9, -999.00,9, -999.00,9,  -999.0,9,  -999.0, -999.00,9, -999.00,9, -999.00,9, -999.00,9,   0.2589, -999.00
096U20160426,       P15S,       2,          1,          6,       2006,2,20160504,       1146,   -66.3330,  -169.9982,       3308,  2535.5,   0.3490,  34.6950,2,  34.6954,2,    219.2,2,   213.9,2,  125.89,2,   32.69,2,    0.00,4,    2.28,2,-999.000,9,-999.000,9,-999.000,9,  2261.2,2,  2359.0,2,-999.0000,9,  -999.00,-999.0000,9, -999.00,9, -999.00,9,  -999.0,9,  -999.0, -999.00,9, -999.00,9, -999.00,9, -999.00,9,   0.1968, -999.00
096U20160426,       P15S,       2,          1,          5,       2005,2,20160504,       1146,   -66.3330,  -169.9982,       3308,  2734.4,   0.3150,  34.6930,2,  34.6922,2,    220.4,2,   215.3,2,  125.70,2,   32.70,2,    0.00,4,    2.28,2,   0.688,2,   0.346,2,   0.239,2,  2262.4,2,  2353.4,4,-999.0000,9,  -999.00,-999.0000,9, -999.00,9, -999.00,9,  -999.0,9,  -999.0, -999.00,9, -999.00,9, -999.00,9, -999.00,9,   0.1471, -999.00
096U20160426,       P15S,       2,          1,          4,       2004,2,20160504,       1146,   -66.3330,  -169.9982,       3308,  2934.5,   0.3130,  34.6920,2,  34.6930,2,    220.8,2,   216.3,2,  125.68,2,   32.67,2,    0.01,4,    2.28,2,   0.718,2,   0.363,2,   0.273,2,  2262.8,2,  2358.4,2,-999.0000,9,  -999.00,-999.0000,9, -999.00,9, -999.00,9,  -999.0,9,  -999.0, -999.00,9, -999.00,9, -999.00,9, -999.00,9,   0.1281, -999.00
096U20160426,       P15S,       2,          1,          3,       2003,2,20160504,       1146,   -66.3330,  -169.9982,       3308,  3149.9,   0.3220,  34.6920,2,  34.6918,2,    220.7,2,   215.9,2,  125.77,2,   32.66,2,    0.00,4,    2.28,2,   0.745,2,   0.367,2,   0.227,2,  2262.3,6,  2358.8,6,-999.0000,9,  -999.00,-999.0000,9, -999.00,9, -999.00,9,  -999.0,9,  -999.0, -999.00,9, -999.00,9, -999.00,9, -999.00,9,   0.1180, -999.00
096U20160426,       P15S,       2,          1,          2,       2002,2,20160504,       1146,   -66.3330,  -169.9982,       3308,  3250.8,   0.3250,  34.6920,2,  34.6923,2,    220.8,2,   216.4,2,  125.77,2,   32.69,2,    0.01,4,    2.28,2,-999.000,9,-999.000,9,-999.000,9,  2262.7,2,  2358.2,2,-999.0000,9,  -999.00,-999.0000,9, -999.00,9, -999.00,9,  -999.0,9,  -999.0, -999.00,9, -999.00,9, -999.00,9, -999.00,9,   0.1118, -999.00
096U20160426,       P15S,       2,          1,          1,       2001,2,20160504,       1146,   -66.3330,  -169.9982,       3308,  3329.9,   0.3310,  34.6920,2,  34.6925,2,    220.7,2,   216.5,2,  126.01,2,   32.71,2,    0.00,4,    2.29,2,   0.723,6,   0.369,6,   0.264,6,  2261.2,2,  2358.6,2,-999.0000,9,  -999.00,-999.0000,9, -999.00,9, -999.00,9,  -999.0,9,  -999.0, -999.00,9, -999.00,9, -999.00,9, -999.00,9,   0.1104, -999.00