BOTTLE,20230413CCHSIOENA
EXPOCODE,SECT_ID,STNNBR,CASTNO,SAMPNO,BTLNBR,BTLNBR_FLAG_W,DATE,TIME,LATITUDE,LONGITUDE,DEPTH,CTDPRS,CTDTMP,CTDSAL,CTDSAL_FLAG_W,SALNTY,SALNTY_FLAG_W,CTDOXY,CTDOXY_FLAG_W,OXYGEN,OXYGEN_FLAG_W,SILCAT,SILCAT_FLAG_W,NITRAT,NITRAT_FLAG_W,NITRIT,NITRIT_FLAG_W,PHSPHT,PHSPHT_FLAG_W,CFC-11,CFC-11_FLAG_W,CFC-12,CFC-12_FLAG_W,SF6,SF6_FLAG_W,TCARBN,TCARBN_FLAG_W,ALKALI,ALKALI_FLAG_W,PH_TOT,PH_TOT_FLAG_W,PH_TMP,HELIUM,HELIUM_FLAG_W,DELHE3,DELHE3_FLAG_W,DELC13,DELC13_FLAG_W,DELC14,DELC14_FLAG_W,C14ERR,POC,POC_FLAG_W,PON,PON_FLAG_W,CHLORA,CHLORA_FLAG_W,PPHYTN,PPHYTN_FLAG_W,THETA,DELHER
,,,,,,,,,,,METERS,DBAR,ITS-90,PSS-78,,PSS-78,,UMOL/KG,,UMOL/KG,,UMOL/KG,,UMOL/KG,,UMOL/KG,,UMOL/KG,,PMOL/KG,,PMOL/KG,,FMOL/KG,,UMOL/KG,,UMOL/KG,,,,DEG C,NMOL/KG,,PERCNT,,/MILLE,,/MILLE,,/MILLE,UG/KG,,UG/KG,,UG/KG,,UG/KG,,DEG C,PERCNT
096U20160426,       P15S,     109,          1,         36,       2036,2,20160615,       2331,   -14.6644,  -169.9982,       3348,     5.6,  28.4050,  34.9790,2,  34.9787,2,    197.0,2,   196.0,2,    0.41,2,   -0.03,4,    0.00,4,    0.18,2,-999.000,9,-999.000,9,-999.000,9,  1956.4,2,  2300.2,2,-999.0000,9,  -999.00,-999.0000,9, -999.00,9, -999.00,9,  -999.0,9,  -999.0, -999.00,9, -999.00,9,    0.35,2,   -0.04,3,  28.4037, -999.00
096U20160426,       P15S,     109,          1,         35,       2035,2,20160615,       2331,   -14.6644,  -169.9982,       3348,    35.1,  27.9790,  35.0680,2,  35.0625,2,    198.4,2,   197.6,2,    0.46,2,   -0.03,4,    0.00,4,    0.17,2,-999.000,9,-999.000,9,-999.000,9,  -999.0,9,  -999.0,9,-999.0000,9,  -999.00,-999.0000,9, -999.00,9, -999.00,9,  -999.0,9,  -999.0, -999.00,9, -999.00,9,    0.50,2,   -0.07,3,  27.9707, -999.00
096U20160426,       P15S,     109,          1,         34,       2034,2,20160615,       2331,   -14.6644,  -169.9982,       3348,    61.2,  26.9920,  35.9180,2,  35.9645,2,    193.2,2,   189.1,2,    0.53,2,    0.10,2,    0.04,2,    0.27,2,-999.000,9,-999.000,9,-999.000,9,  -999.0,9,  -999.0,9,-999.0000,9,  -999.00,-999.0000,9, -999.00,9, -999.00,9,  -999.0,9,  -999.0, -999.00,9, -999.00,9,    0.75,2,    0.08,3,  26.9779, -999.00
096U20160426,       P15S,     109,          1,         33,       2033,2,20160615,       2331,   -14.6644,  -169.9982,       3348,    81.3,  25.7360,  36.0710,2,  36.0919,2,    158.6,2,   156.9,2,    0.84,2,    3.99,2,    0.30,2,    0.53,2,-999.000,9,-999.000,9,-999.000,9,  -999.0,9,  -999.0,9,-999.0000,9,  -999.00,-999.0000,9, -999.00,9, -999.00,9,  -999.0,9,  -999.0, -999.00,9, -999.00,9,    0.94,2,    0.20,3,  25.7179, -999.00
096U20160426,       P15S,     109,          1,         32,       2032,2,20160615,       2331,   -14.6644,  -169.9982,       3348,   109.8,  24.2760,  36.1070,2,  36.1287,2,    153.6,2,   152.2,2,    0.78,2,    5.39,2,    0.03,2,    0.59,2,-999.000,9,-999.000,9,-999.000,9,  2100.3,6,  2375.7,6,-999.0000,9,  -999.00,-999.0000,9, -999.00,9, -999.00,9,  -999.0,9,  -999.0, -999.00,9, -999.00,9, -999.00,9, -999.00,9,  24.2526, -999.00
096U20160426,       P15S,     109,          1,         31,       2031,2,20160615,       2331,   -14.6644,  -169.9982,       3348,   135.1,  23.2260,  36.1210,2,  36.1072,2,    152.3,2,   152.1,2,    0.73,2,    5.95,2,    0.02,4,    0.61,2,-999.000,9,-999.000,9,-999.000,9,  -999.0,9,  -999.0,9,-999.0000,9,  -999.00,-999.0000,9, -999.00,9, -999.00,9,  -999.0,9,  -999.0, -999.00,9, -999.00,9,    0.34,2,    0.19,3,  23.1981, -999.00
096U20160426,       P15S,     109,          1,         30,       2030,2,20160615,       2331,   -14.6644,  -169.9982,       3348,   163.6,  22.5300,  36.0650,2,  35.9788,2,    152.4,2,   152.0,2,    0.99,2,    6.67,2,    0.01,4,    0.67,2,-999.000,9,-999.000,9,-999.000,9,  -999.0,9,  -999.0,9,-999.0000,9,  -999.00,-999.0000,9, -999.00,9, -999.00,9,  -999.0,9,  -999.0, -999.00,9, -999.00,9, -999.00,9, -999.00,9,  22.4969, -999.00
096U20160426,       P15S,     109,          1,         29,       2029,2,20160615,       2331,   -14.6644,  -169.9982,       3348,   220.2,  19.9430,  35.7370,2,  35.6850,2,    151.8,2,   150.6,2,    1.86,2,    8.32,2,    0.01,4,    0.79,2,-999.000,9,-999.000,9,-999.000,9,  2128.4,2,  2349.9,2,-999.0000,9,  -999.00,-999.0000,9, -999.00,9, -999.00,9,  -999.0,9,  -999.0, -999.00,9, -999.00,9, -999.00,9, -999.00,9,  19.9022, -999.00
096U20160426,       P15S,     109,          1,         28,       2028,2,20160615,       2331,   -14.6644,  -169.9982,       3348,   270.0,  17.0630,  35.3500,2,  35.2925,2,    142.5,2,   136.4,2,    4.43,2,   12.42,2,    0.00,4,    1.10,2,-999.000,9,-999.000,9,-999.000,9,  -999.0,9,  -999.0,9,-999.0000,9,  -999.00,-999.0000,9, -999.00,9, -999.00,9,  -999.0,9,  -999.0, -999.00,9, -999.00,9, -999.00,9, -999.00,9,  17.0181, -999.00
096U20160426,       P15S,     109,          1,         27,       2027,2,20160615,       2331,   -14.6644,  -169.9982,       3348,   318.9,  14.5750,  35.0310,2,  34.9666,2,    133.2,2,   129.5,2,    7.29,2,   16.31,2,    0.00,4,    1.36,2,-999.000,9,-999.000,9,-999.000,9,  2158.7,2,  2306.7,6,-999.0000,9,  -999.00,-999.0000,9, -999.00,9, -999.00,9,  -999.0,9,  -999.0, -999.00,9, -999.00,9, -999.00,9, -999.00,9,  14.5275, -999.00
096U20160426,       P15S,     109,          1,         26,       2026,2,20160615,       2331,   -14.6644,  -169.9982,       3348,   368.9,  11.3680,  34.7290,2,  34.7159,2,    123.8,2,   124.0,2,   11.99,2,   21.41,2,    0.00,4,    1.68,2,-999.000,9,-999.000,9,-999.000,9,  -999.0,9,  -999.0,9,-999.0000,9,  -999.00,-999.0000,9, -999.00,9, -999.00,9,  -999.0,9,  -999.0, -999.00,9, -999.00,9, -999.00,9, -999.00,9,  11.3213, -999.00
096U20160426,       P15S,     109,          1,         25,       2025,2,20160615,       2331,   -14.6644,  -169.9982,       3348,   418.9,   9.5770,  34.5910,2,  34.5897,2,    132.5,2,   130.9,2,   15.58,2,   24.58,2,    0.00,4,    1.85,2,-999.000,9,-999.000,9,-999.000,9,  -999.0,9,  -999.0,9,-999.0000,9,  -999.00,-999.0000,9, -999.00,9, -999.00,9,  -999.0,9,  -999.0, -999.00,9, -999.00,9, -999.00,9, -999.00,9,   9.5294, -999.00
096U20160426,       P15S,     109,          1,         24,       2024,2,20160615,       2331,   -14.6644,  -169.9982,       3348,   469.9,   8.1490,  34.5170,2,  34.5137,2,    139.5,2,   139.3,2,   19.93,2,   27.34,2,    0.00,4,    1.99,2,-999.000,9,-999.000,9,-999.000,9,  2194.8,2,  2293.3,2,-999.0000,9,  -999.00,-999.0000,9, -999.00,9, -999.00,9,  -999.0,9,  -999.0, -999.00,9, -999.00,9, -999.00,9, -999.00,9,   8.1004, -999.00
096U20160426,       P15S,     109,          1,         23,       2023,2,20160615,       2331,   -14.6644,  -169.9982,       3348,   538.6,   7.0220,  34.4510,2,  34.4352,2,    158.1,2,   161.8,2,   22.14,2,   28.47,2,    0.00,4,    2.02,2,-999.000,9,-999.000,9,-999.000,9,  -999.0,9,  -999.0,9,-999.0000,9,  -999.00,-999.0000,9, -999.00,9, -999.00,9,  -999.0,9,  -999.0, -999.00,9, -999.00,9, -999.00,9, -999.00,9,   6.9707, -999.00
096U20160426,       P15S,     109,          1,         22,       2022,2,20160615,       2331,   -14.6644,  -169.9982,       3348,   638.3,   5.6640,  34.4090,2,  34.4090,2,    167.5,2,   166.6,2,   31.53,2,   30.68,2,    0.00,4,    2.15,2,-999.000,9,-999.000,9,-999.000,9,  2205.5,2,  2300.3,2,-999.0000,9,  -999.00,-999.0000,9, -999.00,9, -999.00,9,  -999.0,9,  -999.0, -999.00,9, -999.00,9, -999.00,9, -999.00,9,   5.6093, -999.00
096U20160426,       P15S,     109,          1,         21,       2021,2,20160615,       2331,   -14.6644,  -169.9982,       3348,   739.2,   5.0940,  34.4500,2,  34.4522,2,    153.2,2,   151.8,2,   45.30,2,   32.70,2,    0.00,4,    2.29,2,-999.000,9,-999.000,9,-999.000,9,  -999.0,9,  -999.0,9,-999.0000,9,  -999.00,-999.0000,9, -999.00,9, -999.00,9,  -999.0,9,  -999.0, -999.00,9, -999.00,9, -999.00,9, -999.00,9,   5.0333, -999.00
096U20160426,       P15S,     109,          1,         20,       2020,2,20160615,       2331,   -14.6644,  -169.9982,       3348,   837.9,   4.6630,  34.4750,2,  34.4744,2,    146.8,2,   145.4,2,   54.20,2,   33.69,2,    0.00,4,    2.37,2,-999.000,9,-999.000,9,-999.000,9,  2239.1,2,  2323.4,2,-999.0000,9,  -999.00,-999.0000,9, -999.00,9, -999.00,9,  -999.0,9,  -999.0, -999.00,9, -999.00,9, -999.00,9, -999.00,9,   4.5964, -999.00
096U20160426,       P15S,     109,          1,         19,       2019,2,20160615,       2331,   -14.6644,  -169.9982,       3348,   938.7,   4.2720,  34.4940,2,  34.4925,2,    143.8,2,   142.3,2,   62.78,2,   34.35,2,    0.00,4,    2.42,2,-999.000,9,-999.000,9,-999.000,9,  -999.0,9,  -999.0,9,-999.0000,9,  -999.00,-999.0000,9, -999.00,9, -999.00,9,  -999.0,9,  -999.0, -999.00,9, -999.00,9, -999.00,9, -999.00,9,   4.1994, -999.00
096U20160426,       P15S,     109,          1,         18,       2018,2,20160615,       2331,   -14.6644,  -169.9982,       3348,  1038.2,   4.0370,  34.5120,2,  34.5123,2,    138.8,2,   137.4,2,   70.02,2,   35.05,2,    0.00,4,    2.47,2,-999.000,9,-999.000,9,-999.000,9,  -999.0,9,  -999.0,9,-999.0000,9,  -999.00,-999.0000,9, -999.00,9, -999.00,9,  -999.0,9,  -999.0, -999.00,9, -999.00,9, -999.00,9, -999.00,9,   3.9578, -999.00
096U20160426,       P15S,     109,          1,         17,       2017,2,20160615,       2331,   -14.6644,  -169.9982,       3348,  1137.6,   3.6470,  34.5320,2,  34.5303,2,    139.8,2,   138.5,2,   77.70,2,   35.23,2,    0.00,4,    2.49,2,-999.000,9,-999.000,9,-999.000,9,  -999.0,9,  -999.0,9,-999.0000,9,  -999.00,-999.0000,9, -999.00,9, -999.00,9,  -999.0,9,  -999.0, -999.00,9, -999.00,9, -999.00,9, -999.00,9,   3.5628, -999.00
096U20160426,       P15S,     109,          1,         16,       2016,2,20160615,       2331,   -14.6644,  -169.9982,       3348,  1237.0,   3.3900,  34.5470,2,  34.5472,2,    139.2,2,   137.9,2,   83.92,2,   35.49,2,    0.00,4,    2.51,2,-999.000,9,-999.000,9,-999.000,9,  -999.0,9,  -999.0,9,-999.0000,9,  -999.00,-999.0000,9, -999.00,9, -999.00,9,  -999.0,9,  -999.0, -999.00,9, -999.00,9, -999.00,9, -999.00,9,   3.2999, -999.00
096U20160426,       P15S,     109,          1,         15,       2015,2,20160615,       2331,   -14.6644,  -169.9982,       3348,  1336.4,   3.1130,  34.5660,2,  34.5623,2,    139.9,2,   138.3,2,   90.07,2,   35.64,2,    0.00,4,    2.52,2,-999.000,9,-999.000,9,-999.000,9,  -999.0,9,  -999.0,9,-999.0000,9,  -999.00,-999.0000,9, -999.00,9, -999.00,9,  -999.0,9,  -999.0, -999.00,9, -999.00,9, -999.00,9, -999.00,9,   3.0175, -999.00
096U20160426,       P15S,     109,          1,         14,       2014,2,20160615,       2331,   -14.6644,  -169.9982,       3348,  1436.7,   2.8940,  34.5790,2,  34.5795,2,    141.4,2,   141.2,2,   95.34,2,   35.62,2,    0.00,4,    2.52,2,-999.000,9,-999.000,9,-999.000,9,  -999.0,9,  -999.0,9,-999.0000,9,  -999.00,-999.0000,9, -999.00,9, -999.00,9,  -999.0,9,  -999.0, -999.00,9, -999.00,9, -999.00,9, -999.00,9,   2.7926, -999.00
096U20160426,       P15S,     109,          1,         13,       2013,2,20160615,       2331,   -14.6644,  -169.9982,       3348,  1536.1,   2.6920,  34.5940,2,  34.5963,2,    143.3,2,   142.0,2,   99.91,2,   35.54,2,    0.00,4,    2.51,2,-999.000,9,-999.000,9,-999.000,9,  -999.0,9,  -999.0,9,-999.0000,9,  -999.00,-999.0000,9, -999.00,9, -999.00,9,  -999.0,9,  -999.0, -999.00,9, -999.00,9, -999.00,9, -999.00,9,   2.5847, -999.00
096U20160426,       P15S,     109,          1,         12,       2012,2,20160615,       2331,   -14.6644,  -169.9982,       3348,  1636.4,   2.5830,  34.6020,2,  34.6008,2,    144.1,2,   143.2,2,  102.73,2,   35.51,2,    0.00,4,    2.51,2,-999.000,9,-999.000,9,-999.000,9,  -999.0,9,  -999.0,9,-999.0000,9,  -999.00,-999.0000,9, -999.00,9, -999.00,9,  -999.0,9,  -999.0, -999.00,9, -999.00,9, -999.00,9, -999.00,9,   2.4688, -999.00
096U20160426,       P15S,     109,          1,         11,       2011,2,20160615,       2331,   -14.6644,  -169.9982,       3348,  1735.6,   2.4410,  34.6130,2,  34.6114,2,    145.4,2,   145.3,2,  106.29,2,   35.46,2,    0.00,4,    2.50,2,-999.000,9,-999.000,9,-999.000,9,  -999.0,9,  -999.0,9,-999.0000,9,  -999.00,-999.0000,9, -999.00,9, -999.00,9,  -999.0,9,  -999.0, -999.00,9, -999.00,9, -999.00,9, -999.00,9,   2.3204, -999.00
096U20160426,       P15S,     109,          1,         10,       2010,2,20160615,       2331,   -14.6644,  -169.9982,       3348,  1865.7,   2.2950,  34.6240,2,  34.6252,2,    147.2,2,   146.3,2,  110.06,2,   35.43,2,    0.00,4,    2.50,2,-999.000,9,-999.000,9,-999.000,9,  -999.0,9,  -999.0,9,-999.0000,9,  -999.00,-999.0000,9, -999.00,9, -999.00,9,  -999.0,9,  -999.0, -999.00,9, -999.00,9, -999.00,9, -999.00,9,   2.1655, -999.00
096U20160426,       P15S,     109,          1,          9,       2009,2,20160615,       2331,   -14.6644,  -169.9982,       3348,  2065.4,   2.1170,  34.6390,2,  34.6383,2,    149.1,2,   148.0,2,  114.24,2,   35.35,2,    0.00,4,    2.49,2,-999.000,9,-999.000,9,-999.000,9,  -999.0,9,  -999.0,9,-999.0000,9,  -999.00,-999.0000,9, -999.00,9, -999.00,9,  -999.0,9,  -999.0, -999.00,9, -999.00,9, -999.00,9, -999.00,9,   1.9732, -999.00
096U20160426,       P15S,     109,          1,          8,       2008,2,20160615,       2331,   -14.6644,  -169.9982,       3348,  2266.0,   1.9660,  34.6520,2,  34.6507,2,    150.1,2,   149.3,2,  119.72,2,   35.26,2,    0.00,4,    2.48,2,-999.000,9,-999.000,9,-999.000,9,  -999.0,9,  -999.0,9,-999.0000,9,  -999.00,-999.0000,9, -999.00,9, -999.00,9,  -999.0,9,  -999.0, -999.00,9, -999.00,9, -999.00,9, -999.00,9,   1.8072, -999.00
096U20160426,       P15S,     109,          1,          7,       2007,2,20160615,       2331,   -14.6644,  -169.9982,       3348,  2465.7,   1.8780,  34.6610,2,  34.6592,2,    151.2,2,   150.3,2,  122.95,2,   35.21,2,    0.00,4,    2.48,2,-999.000,9,-999.000,9,-999.000,9,  -999.0,9,  -999.0,9,-999.0000,9,  -999.00,-999.0000,9, -999.00,9, -999.00,9,  -999.0,9,  -999.0, -999.00,9, -999.00,9, -999.00,9, -999.00,9,   1.7030, -999.00
096U20160426,       P15S,     109,          1,          6,       2006,2,20160615,       2331,   -14.6644,  -169.9982,       3348,  2666.1,   1.7940,  34.6670,2,  34.6674,2,    152.4,2,   152.0,2,  125.33,2,   35.14,2,    0.00,4,    2.47,2,-999.000,9,-999.000,9,-999.000,9,  -999.0,9,  -999.0,9,-999.0000,9,  -999.00,-999.0000,9, -999.00,9, -999.00,9,  -999.0,9,  -999.0, -999.00,9, -999.00,9, -999.00,9, -999.00,9,   1.6023, -999.00
096U20160426,       P15S,     109,          1,          5,       2005,2,20160615,       2331,   -14.6644,  -169.9982,       3348,  2866.0,   1.7220,  34.6730,2,  34.6716,2,    155.1,2,   154.5,2,  126.73,2,   35.01,2,    0.00,4,    2.46,2,-999.000,9,-999.000,9,-999.000,9,  -999.0,9,  -999.0,9,-999.0000,9,  -999.00,-999.0000,9, -999.00,9, -999.00,9,  -999.0,9,  -999.0, -999.00,9, -999.00,9, -999.00,9, -999.00,9,   1.5131, -999.00
096U20160426,       P15S,     109,          1,          4,       2004,2,20160615,       2331,   -14.6644,  -169.9982,       3348,  3066.3,   1.6670,  34.6770,2,  34.6752,2,    157.3,2,   156.8,2,  127.80,2,   34.85,2,    0.00,4,    2.45,2,-999.000,9,-999.000,9,-999.000,9,  -999.0,9,  -999.0,9,-999.0000,9,  -999.00,-999.0000,9, -999.00,9, -999.00,9,  -999.0,9,  -999.0, -999.00,9, -999.00,9, -999.00,9, -999.00,9,   1.4401, -999.00
096U20160426,       P15S,     109,          1,          3,       2003,2,20160615,       2331,   -14.6644,  -169.9982,       3348,  3255.6,   1.6090,  34.6810,2,  34.6804,2,    160.5,2,   160.0,2,  128.01,2,   34.66,2,    0.00,4,    2.43,2,-999.000,9,-999.000,9,-999.000,9,  -999.0,9,  -999.0,9,-999.0000,9,  -999.00,-999.0000,9, -999.00,9, -999.00,9,  -999.0,9,  -999.0, -999.00,9, -999.00,9, -999.00,9, -999.00,9,   1.3648, -999.00
096U20160426,       P15S,     109,          1,          2,       2002,2,20160615,       2331,   -14.6644,  -169.9982,       3348,  3323.2,   1.5780,  34.6840,2,  34.6822,2,    162.7,2,   162.4,2,  127.57,2,   34.51,2,    0.00,4,    2.42,2,-999.000,9,-999.000,9,-999.000,9,  -999.0,9,  -999.0,9,-999.0000,9,  -999.00,-999.0000,9, -999.00,9, -999.00,9,  -999.0,9,  -999.0, -999.00,9, -999.00,9, -999.00,9, -999.00,9,   1.3278, -999.00
096U20160426,       P15S,     109,          1,          1,       2001,2,20160615,       2331,   -14.6644,  -169.9982,       3348,  3359.0,   1.5690,  34.6840,2,  34.6829,2,    163.5,2,   163.0,2,  127.39,2,   34.46,2,    0.00,4,    2.42,2,-999.000,9,-999.000,9,-999.000,9,  -999.0,9,  -999.0,9,-999.0000,9,  -999.00,-999.0000,9, -999.00,9, -999.00,9,  -999.0,9,  -999.0, -999.00,9, -999.00,9, -999.00,9, -999.00,9,   1.3154, -999.00