BOTTLE,20230413CCHSIOENA
EXPOCODE,SECT_ID,STNNBR,CASTNO,SAMPNO,BTLNBR,BTLNBR_FLAG_W,DATE,TIME,LATITUDE,LONGITUDE,DEPTH,CTDPRS,CTDTMP,CTDSAL,CTDSAL_FLAG_W,SALNTY,SALNTY_FLAG_W,CTDOXY,CTDOXY_FLAG_W,OXYGEN,OXYGEN_FLAG_W,SILCAT,SILCAT_FLAG_W,NITRAT,NITRAT_FLAG_W,NITRIT,NITRIT_FLAG_W,PHSPHT,PHSPHT_FLAG_W,CFC-11,CFC-11_FLAG_W,CFC-12,CFC-12_FLAG_W,SF6,SF6_FLAG_W,TCARBN,TCARBN_FLAG_W,ALKALI,ALKALI_FLAG_W,PH_TOT,PH_TOT_FLAG_W,PH_TMP,HELIUM,HELIUM_FLAG_W,DELHE3,DELHE3_FLAG_W,DELC13,DELC13_FLAG_W,DELC14,DELC14_FLAG_W,C14ERR,POC,POC_FLAG_W,PON,PON_FLAG_W,CHLORA,CHLORA_FLAG_W,PPHYTN,PPHYTN_FLAG_W,THETA,DELHER
,,,,,,,,,,,METERS,DBAR,ITS-90,PSS-78,,PSS-78,,UMOL/KG,,UMOL/KG,,UMOL/KG,,UMOL/KG,,UMOL/KG,,UMOL/KG,,PMOL/KG,,PMOL/KG,,FMOL/KG,,UMOL/KG,,UMOL/KG,,,,DEG C,NMOL/KG,,PERCNT,,/MILLE,,/MILLE,,/MILLE,UG/KG,,UG/KG,,UG/KG,,UG/KG,,DEG C,PERCNT
096U20160426,       P15S,       9,          1,         36,       2036,2,20160508,       0911,   -62.4988,  -169.9979,       2592,     5.0,   0.6940,  34.0580,2,  34.0585,2,    338.0,2,   327.1,2,   42.52,2,   29.43,2,    0.30,2,    2.07,2,-999.000,9,-999.000,9,-999.000,9,  2188.4,2,  2298.9,2,-999.0000,9,  -999.00,-999.0000,9, -999.00,9, -999.00,9,  -999.0,9,  -999.0, -999.00,9, -999.00,9,    0.43,2,    0.25,3,   0.6938, -999.00
096U20160426,       P15S,       9,          1,         35,       2035,2,20160508,       0911,   -62.4988,  -169.9979,       2592,    19.2,   0.6850,  34.0590,2,  34.0584,2,    337.9,2,   326.4,2,   42.59,2,   29.44,2,    0.30,2,    2.07,2,-999.000,9,-999.000,9,-999.000,9,  -999.0,9,  -999.0,9,-999.0000,9,  -999.00,-999.0000,9, -999.00,9, -999.00,9,  -999.0,9,  -999.0, -999.00,9, -999.00,9,    0.17,2,    0.18,3,   0.6842, -999.00
096U20160426,       P15S,       9,          1,         34,       2034,2,20160508,       0911,   -62.4988,  -169.9979,       2592,    41.3,   0.6870,  34.0590,2,  34.0592,2,    337.7,2,   326.2,2,   42.56,2,   29.42,2,    0.30,2,    2.07,2,-999.000,9,-999.000,9,-999.000,9,  -999.0,9,  -999.0,9,-999.0000,9,  -999.00,-999.0000,9, -999.00,9, -999.00,9,  -999.0,9,  -999.0, -999.00,9, -999.00,9, -999.00,9, -999.00,9,   0.6853, -999.00
096U20160426,       P15S,       9,          1,         33,       2033,2,20160508,       0911,   -62.4988,  -169.9979,       2592,    64.7,   0.7020,  34.0610,2,  34.0610,2,    336.8,2,   325.7,2,   42.69,2,   29.47,2,    0.29,2,    2.08,2,-999.000,9,-999.000,9,-999.000,9,  -999.0,9,  -999.0,9,-999.0000,9,  -999.00,   1.9330,2,   -1.85,2, -999.00,9,  -999.0,9,  -999.0, -999.00,9, -999.00,9,    0.09,2,    0.24,3,   0.6994,    1.04
096U20160426,       P15S,       9,          1,         32,       2032,2,20160508,       0911,   -62.4988,  -169.9979,       2592,    90.1,   0.7080,  34.0630,2,  34.0632,2,    336.1,2,   325.0,2,   42.87,2,   29.50,2,    0.29,2,    2.08,2,-999.000,9,-999.000,9,-999.000,9,  -999.0,9,  -999.0,9,-999.0000,9,  -999.00,-999.0000,9, -999.00,9, -999.00,9,  -999.0,9,  -999.0, -999.00,9, -999.00,9,    0.16,2,    0.21,3,   0.7043, -999.00
096U20160426,       P15S,       9,          1,         31,       2031,2,20160508,       0911,   -62.4988,  -169.9979,       2592,   116.3,   0.8130,  34.0910,2,  34.0987,2,    340.4,2,   313.3,3,   45.05,2,   30.24,2,    0.25,2,    2.12,2,-999.000,9,-999.000,9,-999.000,9,  -999.0,9,  -999.0,9,-999.0000,9,  -999.00,-999.0000,9, -999.00,9, -999.00,9,  -999.0,9,  -999.0, -999.00,9, -999.00,9, -999.00,9, -999.00,9,   0.8081, -999.00
096U20160426,       P15S,       9,          1,         30,       2030,2,20160508,       0911,   -62.4988,  -169.9979,       2592,   139.4,   1.5330,  34.3120,2,  34.3142,2,    243.8,2,   234.8,2,   57.66,2,   34.29,2,    0.02,2,    2.37,2,-999.000,9,-999.000,9,-999.000,9,  -999.0,9,  -999.0,9,-999.0000,9,  -999.00,-999.0000,9, -999.00,9, -999.00,9,  -999.0,9,  -999.0, -999.00,9, -999.00,9,    0.09,2,    0.01,3,   1.5262, -999.00
096U20160426,       P15S,       9,          1,         29,       2029,2,20160508,       0911,   -62.4988,  -169.9979,       2592,   165.1,   1.6120,  34.3450,2,  34.3483,2,    234.4,2,   224.2,2,   60.16,2,   34.53,2,    0.02,4,    2.38,2,-999.000,9,-999.000,9,-999.000,9,  -999.0,9,  -999.0,9,-999.0000,9,  -999.00,-999.0000,9, -999.00,9, -999.00,9,  -999.0,9,  -999.0, -999.00,9, -999.00,9, -999.00,9, -999.00,9,   1.6038, -999.00
096U20160426,       P15S,       9,          1,         28,       2028,2,20160508,       0911,   -62.4988,  -169.9979,       2592,   191.1,   1.8320,  34.3880,2,  34.4012,2,    218.2,2,   206.0,2,   63.22,2,   34.74,2,    0.01,4,    2.40,2,-999.000,9,-999.000,9,-999.000,9,  -999.0,9,  -999.0,9,-999.0000,9,  -999.00,-999.0000,9, -999.00,9, -999.00,9,  -999.0,9,  -999.0, -999.00,9, -999.00,9, -999.00,9, -999.00,9,   1.8221, -999.00
096U20160426,       P15S,       9,          1,         27,       2027,2,20160508,       0911,   -62.4988,  -169.9979,       2592,   215.2,   1.8930,  34.4200,2,  34.4234,2,    211.5,2,   202.3,2,   65.11,2,   34.81,2,    0.01,4,    2.40,2,-999.000,9,-999.000,9,-999.000,9,  -999.0,9,  -999.0,9,-999.0000,9,  -999.00,-999.0000,9, -999.00,9, -999.00,9,  -999.0,9,  -999.0, -999.00,9, -999.00,9, -999.00,9, -999.00,9,   1.8817, -999.00
096U20160426,       P15S,       9,          1,         26,       2026,2,20160508,       0911,   -62.4988,  -169.9979,       2592,   240.5,   1.9060,  34.4460,2,  34.4605,2,    205.9,2,   194.8,2,   67.83,2,   34.87,2,    0.01,4,    2.41,2,-999.000,9,-999.000,9,-999.000,9,  -999.0,9,  -999.0,9,-999.0000,9,  -999.00,-999.0000,9, -999.00,9, -999.00,9,  -999.0,9,  -999.0, -999.00,9, -999.00,9, -999.00,9, -999.00,9,   1.8933, -999.00
096U20160426,       P15S,       9,          1,         25,       2025,2,20160508,       0911,   -62.4988,  -169.9979,       2592,   284.4,   2.0810,  34.5090,2,  34.5101,2,    193.1,2,   184.3,2,   70.84,2,   34.79,2,    0.01,4,    2.40,2,-999.000,9,-999.000,9,-999.000,9,  -999.0,9,  -999.0,9,-999.0000,9,  -999.00,-999.0000,9, -999.00,9, -999.00,9,  -999.0,9,  -999.0, -999.00,9, -999.00,9, -999.00,9, -999.00,9,   2.0654, -999.00
096U20160426,       P15S,       9,          1,         24,       2024,2,20160508,       0911,   -62.4988,  -169.9979,       2592,   336.0,   2.1420,  34.5510,2,  34.5506,2,    186.3,2,   177.8,2,   73.53,2,   34.63,2,    0.01,4,    2.39,2,-999.000,9,-999.000,9,-999.000,9,  -999.0,9,  -999.0,9,-999.0000,9,  -999.00,-999.0000,9, -999.00,9, -999.00,9,  -999.0,9,  -999.0, -999.00,9, -999.00,9, -999.00,9, -999.00,9,   2.1233, -999.00
096U20160426,       P15S,       9,          1,         23,       2023,2,20160508,       0911,   -62.4988,  -169.9979,       2592,   385.4,   2.1240,  34.5760,2,  34.5787,2,    185.7,2,   177.3,2,   75.60,2,   34.26,2,    0.01,4,    2.37,2,-999.000,9,-999.000,9,-999.000,9,  -999.0,9,  -999.0,9,-999.0000,9,  -999.00,-999.0000,9, -999.00,9, -999.00,9,  -999.0,9,  -999.0, -999.00,9, -999.00,9, -999.00,9, -999.00,9,   2.1024, -999.00
096U20160426,       P15S,       9,          1,         22,       2022,2,20160508,       0911,   -62.4988,  -169.9979,       2592,   434.4,   2.0690,  34.5950,2,  34.5935,2,    186.0,2,   177.8,2,   76.75,2,   34.01,2,    0.01,4,    2.35,2,-999.000,9,-999.000,9,-999.000,9,  -999.0,9,  -999.0,9,-999.0000,9,  -999.00,-999.0000,9, -999.00,9, -999.00,9,  -999.0,9,  -999.0, -999.00,9, -999.00,9, -999.00,9, -999.00,9,   2.0446, -999.00
096U20160426,       P15S,       9,          1,         21,       2021,2,20160508,       0911,   -62.4988,  -169.9979,       2592,   486.3,   2.2090,  34.6390,2,  34.6398,2,    183.0,2,   174.8,2,   78.18,2,   33.43,2,    0.01,4,    2.31,2,-999.000,9,-999.000,9,-999.000,9,  -999.0,9,  -999.0,9,-999.0000,9,  -999.00,-999.0000,9, -999.00,9, -999.00,9,  -999.0,9,  -999.0, -999.00,9, -999.00,9, -999.00,9, -999.00,9,   2.1809, -999.00
096U20160426,       P15S,       9,          1,         20,       2020,2,20160508,       0911,   -62.4988,  -169.9979,       2592,   567.1,   2.1820,  34.6690,2,  34.6691,2,    184.8,2,   176.9,2,   79.79,2,   32.90,2,    0.01,4,    2.28,2,-999.000,9,-999.000,9,-999.000,9,  -999.0,9,  -999.0,9,-999.0000,9,  -999.00,   1.5890,3,    8.98,2, -999.00,9,  -999.0,9,  -999.0, -999.00,9, -999.00,9, -999.00,9, -999.00,9,   2.1490,    1.06
096U20160426,       P15S,       9,          1,         19,       2019,2,20160508,       0911,   -62.4988,  -169.9979,       2592,   666.5,   2.1090,  34.6920,2,  34.6917,2,    187.3,2,   179.4,2,   81.77,2,   32.32,2,    0.01,4,    2.24,2,-999.000,9,-999.000,9,-999.000,9,  -999.0,9,  -999.0,9,-999.0000,9,  -999.00,-999.0000,9, -999.00,9, -999.00,9,  -999.0,9,  -999.0, -999.00,9, -999.00,9, -999.00,9, -999.00,9,   2.0700, -999.00
096U20160426,       P15S,       9,          1,         18,       2018,2,20160508,       0911,   -62.4988,  -169.9979,       2592,   765.2,   2.0370,  34.7080,2,  34.7077,2,    190.2,2,   182.5,2,   83.64,2,   32.06,2,    0.01,4,    2.22,2,-999.000,9,-999.000,9,-999.000,9,  -999.0,9,  -999.0,9,-999.0000,9,  -999.00,-999.0000,9, -999.00,9, -999.00,9,  -999.0,9,  -999.0, -999.00,9, -999.00,9, -999.00,9, -999.00,9,   1.9920, -999.00
096U20160426,       P15S,       9,          1,         17,       2017,2,20160508,       0911,   -62.4988,  -169.9979,       2592,   865.6,   1.9900,  34.7220,2,  34.7221,2,    192.9,2,   185.3,2,   85.28,2,   31.67,2,    0.01,4,    2.19,2,-999.000,9,-999.000,9,-999.000,9,  -999.0,9,  -999.0,9,-999.0000,9,  -999.00,-999.0000,9, -999.00,9, -999.00,9,  -999.0,9,  -999.0, -999.00,9, -999.00,9, -999.00,9, -999.00,9,   1.9387, -999.00
096U20160426,       P15S,       9,          1,         16,       2016,2,20160508,       0911,   -62.4988,  -169.9979,       2592,   966.4,   1.9360,  34.7280,2,  34.7281,2,    194.4,2,   187.1,2,   86.50,2,   31.52,2,    0.01,4,    2.18,2,-999.000,9,-999.000,9,-999.000,9,  -999.0,9,  -999.0,9,-999.0000,9,  -999.00,-999.0000,9, -999.00,9, -999.00,9,  -999.0,9,  -999.0, -999.00,9, -999.00,9, -999.00,9, -999.00,9,   1.8784, -999.00
096U20160426,       P15S,       9,          1,         15,       2015,2,20160508,       0911,   -62.4988,  -169.9979,       2592,  1065.5,   1.8690,  34.7330,2,  34.7343,2,    196.4,2,   189.2,2,   88.42,2,   31.34,2,    0.01,4,    2.17,2,-999.000,9,-999.000,9,-999.000,9,  -999.0,9,  -999.0,9,-999.0000,9,  -999.00,   1.8580,2,    8.78,2, -999.00,9,  -999.0,9,  -999.0, -999.00,9, -999.00,9, -999.00,9, -999.00,9,   1.8051,    1.04
096U20160426,       P15S,       9,          1,         14,       2014,2,20160508,       0911,   -62.4988,  -169.9979,       2592,  1165.3,   1.7950,  34.7380,2,  34.7380,2,    198.4,2,   191.4,2,   90.65,2,   31.24,2,    0.00,4,    2.16,2,-999.000,9,-999.000,9,-999.000,9,  -999.0,9,  -999.0,9,-999.0000,9,  -999.00,-999.0000,9, -999.00,9, -999.00,9,  -999.0,9,  -999.0, -999.00,9, -999.00,9, -999.00,9, -999.00,9,   1.7249, -999.00
096U20160426,       P15S,       9,          1,         13,       2013,2,20160508,       0911,   -62.4988,  -169.9979,       2592,  1264.6,   1.7090,  34.7390,2,  34.7391,2,    200.1,2,   193.1,2,   92.92,2,   31.20,2,    0.01,4,    2.16,2,-999.000,9,-999.000,9,-999.000,9,  -999.0,9,  -999.0,9,-999.0000,9,  -999.00,-999.0000,9, -999.00,9, -999.00,9,  -999.0,9,  -999.0, -999.00,9, -999.00,9, -999.00,9, -999.00,9,   1.6327, -999.00
096U20160426,       P15S,       9,          1,         12,       2012,2,20160508,       0911,   -62.4988,  -169.9979,       2592,  1365.5,   1.6050,  34.7390,2,  34.7383,2,    201.7,2,   194.7,2,   96.17,2,   31.25,2,    0.01,4,    2.16,2,-999.000,9,-999.000,9,-999.000,9,  -999.0,9,  -999.0,9,-999.0000,9,  -999.00,-999.0000,9, -999.00,9, -999.00,9,  -999.0,9,  -999.0, -999.00,9, -999.00,9, -999.00,9, -999.00,9,   1.5227, -999.00
096U20160426,       P15S,       9,          1,         11,       2011,2,20160508,       0911,   -62.4988,  -169.9979,       2592,  1466.3,   1.5220,  34.7360,2,  34.7368,2,    202.9,2,   196.1,2,   98.15,2,   31.31,2,    0.00,4,    2.17,2,-999.000,9,-999.000,9,-999.000,9,  -999.0,9,  -999.0,9,-999.0000,9,  -999.00,   1.8590,2,    9.44,2, -999.00,9,  -999.0,9,  -999.0, -999.00,9, -999.00,9, -999.00,9, -999.00,9,   1.4333,    1.06
096U20160426,       P15S,       9,          1,         10,       2010,2,20160508,       0911,   -62.4988,  -169.9979,       2592,  1564.5,   1.4340,  34.7340,2,  34.7337,2,    204.0,2,   197.3,2,  100.52,2,   31.40,2,    0.01,4,    2.17,2,-999.000,9,-999.000,9,-999.000,9,  -999.0,9,  -999.0,9,-999.0000,9,  -999.00,-999.0000,9, -999.00,9, -999.00,9,  -999.0,9,  -999.0, -999.00,9, -999.00,9, -999.00,9, -999.00,9,   1.3392, -999.00
096U20160426,       P15S,       9,          1,          9,       2009,2,20160508,       0911,   -62.4988,  -169.9979,       2592,  1665.5,   1.3620,  34.7320,2,  34.7318,2,    204.9,2,   198.4,2,  102.59,2,   31.50,2,    0.00,4,    2.18,2,-999.000,9,-999.000,9,-999.000,9,  -999.0,9,  -999.0,9,-999.0000,9,  -999.00,-999.0000,9, -999.00,9, -999.00,9,  -999.0,9,  -999.0, -999.00,9, -999.00,9, -999.00,9, -999.00,9,   1.2607, -999.00
096U20160426,       P15S,       9,          1,          8,       2008,2,20160508,       0911,   -62.4988,  -169.9979,       2592,  1765.8,   1.2940,  34.7290,2,  34.7291,2,    205.7,2,   199.4,2,  104.68,2,   31.57,2,    0.01,4,    2.19,2,-999.000,9,-999.000,9,-999.000,9,  -999.0,9,  -999.0,9,-999.0000,9,  -999.00,   1.9730,2,    9.27,2, -999.00,9,  -999.0,9,  -999.0, -999.00,9, -999.00,9, -999.00,9, -999.00,9,   1.1861,    1.04
096U20160426,       P15S,       9,          1,          7,       2007,2,20160508,       0911,   -62.4988,  -169.9979,       2592,  1864.9,   1.1990,  34.7250,2,  34.7255,2,    206.7,2,   200.6,2,  107.60,2,   31.66,2,    0.01,4,    2.20,2,-999.000,9,-999.000,9,-999.000,9,  -999.0,9,  -999.0,9,-999.0000,9,  -999.00,-999.0000,9, -999.00,9, -999.00,9,  -999.0,9,  -999.0, -999.00,9, -999.00,9, -999.00,9, -999.00,9,   1.0849, -999.00
096U20160426,       P15S,       9,          1,          6,       2006,2,20160508,       0911,   -62.4988,  -169.9979,       2592,  1965.2,   1.1130,  34.7220,2,  34.7220,2,    207.8,2,   201.8,2,  110.42,2,   31.83,2,    0.01,4,    2.21,2,-999.000,9,-999.000,9,-999.000,9,  -999.0,9,  -999.0,9,-999.0000,9,  -999.00,-999.0000,9, -999.00,9, -999.00,9,  -999.0,9,  -999.0, -999.00,9, -999.00,9, -999.00,9, -999.00,9,   0.9925, -999.00
096U20160426,       P15S,       9,          1,          5,       2005,2,20160508,       0911,   -62.4988,  -169.9979,       2592,  2086.3,   1.0460,  34.7190,2,  34.7194,2,    208.9,2,   204.6,2,  112.72,2,   31.93,2,    0.01,4,    2.22,2,-999.000,9,-999.000,9,-999.000,9,  -999.0,9,  -999.0,9,-999.0000,9,  -999.00,-999.0000,9, -999.00,9, -999.00,9,  -999.0,9,  -999.0, -999.00,9, -999.00,9, -999.00,9, -999.00,9,   0.9171, -999.00
096U20160426,       P15S,       9,          1,          4,       2004,2,20160508,       0911,   -62.4988,  -169.9979,       2592,  2210.6,   0.9510,  34.7150,2,  34.7144,2,    210.1,2,   206.2,2,  115.88,2,   32.08,2,    0.01,4,    2.23,2,-999.000,9,-999.000,9,-999.000,9,  -999.0,9,  -999.0,9,-999.0000,9,  -999.00,-999.0000,9, -999.00,9, -999.00,9,  -999.0,9,  -999.0, -999.00,9, -999.00,9, -999.00,9, -999.00,9,   0.8139, -999.00
096U20160426,       P15S,       9,          1,          3,       2003,2,20160508,       0911,   -62.4988,  -169.9979,       2592,  2334.6,   0.8950,  34.7120,2,  34.7121,2,    210.7,2,   205.4,2,  118.30,2,   32.18,2,    0.01,4,    2.23,2,-999.000,9,-999.000,9,-999.000,9,  -999.0,9,  -999.0,9,-999.0000,9,  -999.00,   1.8810,2,   10.25,2, -999.00,9,  -999.0,9,  -999.0, -999.00,9, -999.00,9, -999.00,9, -999.00,9,   0.7488,    1.06
096U20160426,       P15S,       9,          1,          2,       2002,2,20160508,       0911,   -62.4988,  -169.9979,       2592,  2467.2,   0.8230,  34.7090,2,  34.7092,2,    211.2,2,   206.1,2,  123.11,2,   32.34,2,    0.01,4,    2.25,2,-999.000,9,-999.000,9,-999.000,9,  -999.0,9,  -999.0,9,-999.0000,9,  -999.00,   1.8420,2,   10.17,2, -999.00,9,  -999.0,9,  -999.0, -999.00,9, -999.00,9, -999.00,9, -999.00,9,   0.6673,    1.06
096U20160426,       P15S,       9,          1,          1,       2001,2,20160508,       0911,   -62.4988,  -169.9979,       2592,  2568.8,   0.8010,  34.7080,2,  34.7087,2,    211.2,2,   206.1,2,  126.52,2,   32.42,2,    0.01,4,    2.25,2,-999.000,9,-999.000,9,-999.000,9,  2265.0,2,  2362.0,2,-999.0000,9,  -999.00,-999.0000,9, -999.00,9, -999.00,9,  -999.0,9,  -999.0, -999.00,9, -999.00,9, -999.00,9, -999.00,9,   0.6372, -999.00