BOTTLE,20230413CCHSIOENA
EXPOCODE,SECT_ID,STNNBR,CASTNO,SAMPNO,BTLNBR,BTLNBR_FLAG_W,DATE,TIME,LATITUDE,LONGITUDE,DEPTH,CTDPRS,CTDTMP,CTDSAL,CTDSAL_FLAG_W,SALNTY,SALNTY_FLAG_W,CTDOXY,CTDOXY_FLAG_W,OXYGEN,OXYGEN_FLAG_W,SILCAT,SILCAT_FLAG_W,NITRAT,NITRAT_FLAG_W,NITRIT,NITRIT_FLAG_W,PHSPHT,PHSPHT_FLAG_W,CFC-11,CFC-11_FLAG_W,CFC-12,CFC-12_FLAG_W,SF6,SF6_FLAG_W,TCARBN,TCARBN_FLAG_W,ALKALI,ALKALI_FLAG_W,PH_TOT,PH_TOT_FLAG_W,PH_TMP,HELIUM,HELIUM_FLAG_W,DELHE3,DELHE3_FLAG_W,DELC13,DELC13_FLAG_W,DELC14,DELC14_FLAG_W,C14ERR,POC,POC_FLAG_W,PON,PON_FLAG_W,CHLORA,CHLORA_FLAG_W,PPHYTN,PPHYTN_FLAG_W,THETA,DELHER
,,,,,,,,,,,METERS,DBAR,ITS-90,PSS-78,,PSS-78,,UMOL/KG,,UMOL/KG,,UMOL/KG,,UMOL/KG,,UMOL/KG,,UMOL/KG,,PMOL/KG,,PMOL/KG,,FMOL/KG,,UMOL/KG,,UMOL/KG,,,,DEG C,NMOL/KG,,PERCNT,,/MILLE,,/MILLE,,/MILLE,UG/KG,,UG/KG,,UG/KG,,UG/KG,,DEG C,PERCNT
096U20160426,       P15S,     118,          1,         36,       2036,2,20160618,       0430,   -10.9975,  -169.9994,       5133,     4.5,  29.6570,  34.6950,2,  34.6941,2,    188.3,2,   192.7,2,    0.40,2,   -0.05,4,    0.01,4,    0.16,2,   1.392,2,   0.898,2,   1.214,2,  1935.2,2,  2281.3,2,-999.0000,9,  -999.00,-999.0000,9, -999.00,9,    1.19,2,    35.7,2,     2.0, -999.00,9, -999.00,9,    0.10,2,    0.06,3,  29.6559, -999.00
096U20160426,       P15S,     118,          1,         35,       2035,2,20160618,       0430,   -10.9975,  -169.9994,       5133,    39.7,  29.6770,  34.6460,2,  34.8041,2,    187.9,2,   193.2,2,    0.40,2,   -0.05,4,    0.01,4,    0.16,2,-999.000,9,-999.000,9,-999.000,9,  1942.7,6,  2289.4,6,-999.0000,9,  -999.00,-999.0000,9, -999.00,9,    1.23,2,    38.5,2,     2.0, -999.00,9, -999.00,9,    0.10,2,    0.06,3,  29.6672, -999.00
096U20160426,       P15S,     118,          1,         34,       2034,2,20160618,       0430,   -10.9975,  -169.9994,       5133,    60.2,  28.4370,  35.7930,2,  35.8604,2,    180.2,2,   174.1,2,    0.82,2,    1.86,2,    0.42,2,    0.41,2,-999.000,9,-999.000,9,-999.000,9,  -999.0,9,  -999.0,9,-999.0000,9,  -999.00,-999.0000,9, -999.00,9, -999.00,9,  -999.0,9,  -999.0, -999.00,9, -999.00,9,    0.35,2,    0.09,3,  28.4226, -999.00
096U20160426,       P15S,     118,          1,         33,       2033,2,20160618,       0430,   -10.9975,  -169.9994,       5133,    85.8,  26.8110,  36.0400,2,  36.1087,2,    149.0,2,   153.7,2,    1.00,2,    3.87,2,    0.89,2,    0.58,2,   1.595,2,   1.034,2,   1.197,2,  2082.2,2,  2375.6,6,-999.0000,9,  -999.00,-999.0000,9, -999.00,9,    0.94,2,    45.8,2,     2.0, -999.00,9, -999.00,9,    0.40,2,    0.18,3,  26.7913, -999.00
096U20160426,       P15S,     118,          1,         32,       2032,2,20160618,       0430,   -10.9975,  -169.9994,       5133,   110.2,  25.9210,  36.2370,2,  36.2427,2,    152.6,2,   153.3,2,    0.90,2,    3.95,2,    0.80,2,    0.58,2,-999.000,9,-999.000,9,-999.000,9,  2093.9,2,  2385.0,2,-999.0000,9,  -999.00,-999.0000,9, -999.00,9,    0.93,2,    39.0,2,     2.0, -999.00,9, -999.00,9,    0.45,2,    0.22,3,  25.8964, -999.00
096U20160426,       P15S,     118,          1,         31,       2031,2,20160618,       0430,   -10.9975,  -169.9994,       5133,   165.0,  22.8320,  36.1130,2,  36.0365,2,    146.9,2,   150.5,2,    1.04,2,    6.82,2,    0.03,2,    0.70,2,   1.912,2,   1.203,2,   1.138,2,  2124.9,2,  2371.9,2,-999.0000,9,  -999.00,-999.0000,9, -999.00,9,    0.81,2,    44.4,2,     2.0, -999.00,9, -999.00,9, -999.00,9, -999.00,9,  22.7983, -999.00
096U20160426,       P15S,     118,          1,         30,       2030,2,20160618,       0430,   -10.9975,  -169.9994,       5133,   215.0,  19.6000,  35.6950,2,  35.5921,2,    138.9,2,   139.7,2,    2.82,2,   10.15,2,    0.02,4,    0.96,2,-999.000,9,-999.000,9,-999.000,9,  2142.1,2,  2344.5,2,-999.0000,9,  -999.00,-999.0000,9, -999.00,9,    0.69,2,    46.8,2,     2.0, -999.00,9, -999.00,9, -999.00,9, -999.00,9,  19.5606, -999.00
096U20160426,       P15S,     118,          1,         29,       2029,2,20160618,       0430,   -10.9975,  -169.9994,       5133,   265.1,  16.0460,  35.2350,2,  35.2122,2,    118.1,2,   116.0,2,    6.55,2,   15.25,2,    0.01,4,    1.34,2,   1.969,2,   1.174,2,   0.891,2,  2168.1,2,  2320.3,2,-999.0000,9,  -999.00,-999.0000,9, -999.00,9,    0.57,2,    40.7,2,     2.0, -999.00,9, -999.00,9, -999.00,9, -999.00,9,  16.0038, -999.00
096U20160426,       P15S,     118,          1,         28,       2028,2,20160618,       0430,   -10.9975,  -169.9994,       5133,   300.3,  14.6870,  35.0820,2,  35.0025,2,    104.6,2,    99.1,2,   10.24,2,   19.38,2,    0.01,4,    1.62,2,-999.000,9,-999.000,9,-999.000,9,  2184.7,2,  2309.2,2,-999.0000,9,  -999.00,-999.0000,9, -999.00,9,    0.47,2,    24.4,2,     2.0, -999.00,9, -999.00,9, -999.00,9, -999.00,9,  14.6420, -999.00
096U20160426,       P15S,     118,          1,         27,       2027,2,20160618,       0430,   -10.9975,  -169.9994,       5133,   349.8,  11.9380,  34.8250,2,  34.8118,2,     93.6,2,    91.5,2,   15.23,2,   23.88,2,    0.01,4,    1.88,2,   1.327,2,   0.746,2,   0.433,2,  2201.6,2,  2302.4,2,-999.0000,9,  -999.00,-999.0000,9, -999.00,9,    0.47,2,    -0.7,2,     2.0, -999.00,9, -999.00,9, -999.00,9, -999.00,9,  11.8923, -999.00
096U20160426,       P15S,     118,          1,         26,       2026,2,20160618,       0430,   -10.9975,  -169.9994,       5133,   435.6,   9.3230,  34.6610,2,  34.6476,2,    104.5,2,   104.4,2,   23.56,2,   28.91,2,    0.01,4,    2.09,2,-999.000,9,-999.000,9,-999.000,9,  2213.2,2,  2300.7,2,-999.0000,9,  -999.00,-999.0000,9, -999.00,9,    0.58,2,   -42.6,2,     2.0, -999.00,9, -999.00,9, -999.00,9, -999.00,9,   9.2742, -999.00
096U20160426,       P15S,     118,          1,         25,       2025,2,20160618,       0430,   -10.9975,  -169.9994,       5133,   536.5,   7.3800,  34.5660,2,  34.5614,2,    118.9,2,   115.7,2,   32.46,2,   31.93,2,    0.01,4,    2.24,2,   0.421,2,   0.222,2,   0.038,2,  2223.2,2,  2304.2,2,-999.0000,9,  -999.00,-999.0000,9, -999.00,9,    0.59,2,   -80.5,2,     2.0, -999.00,9, -999.00,9, -999.00,9, -999.00,9,   7.3273, -999.00
096U20160426,       P15S,     118,          1,         24,       2024,2,20160618,       0430,   -10.9975,  -169.9994,       5133,   651.0,   6.2400,  34.5220,2,  34.5217,2,    120.5,2,   119.5,2,   41.97,2,   33.76,2,    0.01,4,    2.37,2,-999.000,9,-999.000,9,-999.000,9,  2233.4,2,  2310.5,2,-999.0000,9,  -999.00,-999.0000,9, -999.00,9, -999.00,9,  -999.0,9,  -999.0, -999.00,9, -999.00,9, -999.00,9, -999.00,9,   6.1812, -999.00
096U20160426,       P15S,     118,          1,         23,       2023,2,20160618,       0430,   -10.9975,  -169.9994,       5133,   735.5,   5.7610,  34.5150,2,  34.5142,2,    120.9,2,   118.7,2,   48.20,2,   34.67,2,    0.01,4,    2.44,2,   0.173,6,   0.094,6,   0.032,6,  2241.4,2,  2317.2,2,-999.0000,9,  -999.00,-999.0000,9, -999.00,9,    0.35,2,  -126.0,2,     2.0, -999.00,9, -999.00,9, -999.00,9, -999.00,9,   5.6968, -999.00
096U20160426,       P15S,     118,          1,         22,       2022,2,20160618,       0430,   -10.9975,  -169.9994,       5133,   836.6,   5.2890,  34.5160,2,  34.5146,2,    119.3,2,   117.4,2,   55.51,2,   35.51,2,    0.01,4,    2.50,2,-999.000,9,-999.000,9,-999.000,9,  -999.0,9,  -999.0,9,-999.0000,9,  -999.00,-999.0000,9, -999.00,9, -999.00,9,  -999.0,9,  -999.0, -999.00,9, -999.00,9, -999.00,9, -999.00,9,   5.2184, -999.00
096U20160426,       P15S,     118,          1,         21,       2021,2,20160618,       0430,   -10.9975,  -169.9994,       5133,   937.6,   4.8840,  34.5200,2,  34.5194,2,    117.3,2,   115.2,2,   63.03,2,   36.26,2,    0.01,4,    2.56,2,   0.055,2,   0.034,2,       0,2,  2261.9,2,  2331.4,6,-999.0000,9,  -999.00,-999.0000,9, -999.00,9,    0.49,2,  -149.6,2,     2.0, -999.00,9, -999.00,9, -999.00,9, -999.00,9,   4.8071, -999.00
096U20160426,       P15S,     118,          1,         20,       2020,2,20160618,       0430,   -10.9975,  -169.9994,       5133,  1035.9,   4.4100,  34.5280,2,  34.5279,2,    117.6,2,   115.1,2,   71.45,2,   36.77,2,    0.01,4,    2.60,2,-999.000,9,-999.000,9,-999.000,9,  -999.0,9,  -999.0,9,-999.0000,9,  -999.00,-999.0000,9, -999.00,9, -999.00,9,  -999.0,9,  -999.0, -999.00,9, -999.00,9, -999.00,9, -999.00,9,   4.3280, -999.00
096U20160426,       P15S,     118,          1,         19,       2019,2,20160618,       0430,   -10.9975,  -169.9994,       5133,  1136.7,   4.0430,  34.5390,2,  34.5390,2,    119.1,2,   116.9,2,   78.60,2,   36.97,2,    0.01,4,    2.62,2,   0.015,2,   0.009,2,       0,2,  2280.9,6,  2348.4,6,-999.0000,9,  -999.00,-999.0000,9, -999.00,9,    0.44,2,  -178.0,2,     2.0, -999.00,9, -999.00,9, -999.00,9, -999.00,9,   3.9554, -999.00
096U20160426,       P15S,     118,          1,         18,       2018,2,20160618,       0430,   -10.9975,  -169.9994,       5133,  1235.7,   3.7590,  34.5510,2,  34.5508,2,    119.2,2,   117.6,2,   85.33,2,   37.16,2,    0.01,4,    2.63,2,-999.000,9,-999.000,9,-999.000,9,  -999.0,9,  -999.0,9,-999.0000,9,  -999.00,-999.0000,9, -999.00,9, -999.00,9,  -999.0,9,  -999.0, -999.00,9, -999.00,9, -999.00,9, -999.00,9,   3.6655, -999.00
096U20160426,       P15S,     118,          1,         17,       2017,2,20160618,       0430,   -10.9975,  -169.9994,       5133,  1336.8,   3.4720,  34.5600,2,  34.5602,2,    124.8,2,   123.0,2,   90.14,2,   36.90,2,    0.01,4,    2.61,2,   0.007,2,   0.004,2,       0,2,  2290.1,2,  2362.9,2,-999.0000,9,  -999.00,-999.0000,9, -999.00,9,    0.26,2,  -191.1,2,     2.0, -999.00,9, -999.00,9, -999.00,9, -999.00,9,   3.3727, -999.00
096U20160426,       P15S,     118,          1,         16,       2016,2,20160618,       0430,   -10.9975,  -169.9994,       5133,  1466.4,   3.1580,  34.5750,2,  34.5758,2,    128.0,2,   126.8,2,   96.38,2,   36.81,2,    0.01,4,    2.60,2,-999.000,9,-999.000,9,-999.000,9,  -999.0,9,  -999.0,9,-999.0000,9,  -999.00,-999.0000,9, -999.00,9, -999.00,9,  -999.0,9,  -999.0, -999.00,9, -999.00,9, -999.00,9, -999.00,9,   3.0512, -999.00
096U20160426,       P15S,     118,          1,         15,       2015,2,20160618,       0430,   -10.9975,  -169.9994,       5133,  1665.1,   2.6140,  34.6050,2,  34.6035,2,    137.2,2,   136.8,2,  106.55,2,   36.29,2,    0.01,4,    2.56,2,  -0.002,2,   0.000,2,       0,2,  2301.6,2,  2378.6,2,-999.0000,9,  -999.00,-999.0000,9, -999.00,9,    0.26,2,  -209.6,2,     2.0, -999.00,9, -999.00,9, -999.00,9, -999.00,9,   2.4970, -999.00
096U20160426,       P15S,     118,          1,         14,       2014,2,20160618,       0430,   -10.9975,  -169.9994,       5133,  1865.8,   2.3460,  34.6230,2,  34.6238,2,    140.7,2,   140.6,2,  113.07,2,   36.02,2,    0.01,4,    2.54,2,-999.000,9,-999.000,9,-999.000,9,  -999.0,9,  -999.0,9,-999.0000,9,  -999.00,-999.0000,9, -999.00,9, -999.00,9,  -999.0,9,  -999.0, -999.00,9, -999.00,9, -999.00,9, -999.00,9,   2.2158, -999.00
096U20160426,       P15S,     118,          1,         13,       2013,2,20160618,       0430,   -10.9975,  -169.9994,       5133,  2085.7,   2.1070,  34.6420,2,  34.6409,2,    142.8,2,   143.1,2,  120.02,2,   35.98,2,    0.01,4,    2.52,2,-999.000,9,-999.000,9,-999.000,9,  2311.3,2,  2396.0,2,-999.0000,9,  -999.00,-999.0000,9, -999.00,9, -999.00,9,  -999.0,9,  -999.0, -999.00,9, -999.00,9, -999.00,9, -999.00,9,   1.9616, -999.00
096U20160426,       P15S,     118,          1,         12,       2012,2,20160618,       0430,   -10.9975,  -169.9994,       5133,  2335.4,   1.9190,  34.6580,2,  34.6570,2,    144.9,2,   145.2,2,  126.14,2,   35.87,2,    0.01,4,    2.51,2,-999.000,9,-999.000,9,-999.000,9,  -999.0,9,  -999.0,9,-999.0000,9,  -999.00,-999.0000,9, -999.00,9, -999.00,9,  -999.0,9,  -999.0, -999.00,9, -999.00,9, -999.00,9, -999.00,9,   1.7549, -999.00
096U20160426,       P15S,     118,          1,         11,       2011,2,20160618,       0430,   -10.9975,  -169.9994,       5133,  2585.7,   1.8140,  34.6670,2,  34.6668,2,    145.5,2,   145.6,2,  130.70,2,   35.88,2,    0.01,4,    2.51,2,   0.000,6,   0.001,6,       0,6,  2322.0,2,  2408.7,2,-999.0000,9,  -999.00,-999.0000,9, -999.00,9, -999.00,9,  -999.0,9,  -999.0, -999.00,9, -999.00,9, -999.00,9, -999.00,9,   1.6293, -999.00
096U20160426,       P15S,     118,          1,         10,       2010,2,20160618,       0430,   -10.9975,  -169.9994,       5133,  2835.8,   1.7180,  34.6740,2,  34.6737,2,    149.2,2,   149.6,2,  132.12,2,   35.63,2,    0.01,4,    2.50,2,-999.000,9,-999.000,9,-999.000,9,  -999.0,9,  -999.0,9,-999.0000,9,  -999.00,-999.0000,9, -999.00,9, -999.00,9,  -999.0,9,  -999.0, -999.00,9, -999.00,9, -999.00,9, -999.00,9,   1.5120, -999.00
096U20160426,       P15S,     118,          1,          9,       2009,2,20160618,       0430,   -10.9975,  -169.9994,       5133,  3100.3,   1.6470,  34.6790,2,  34.6785,2,    152.8,2,   153.0,2,  133.19,2,   35.43,2,    0.01,4,    2.48,2,-999.000,9,-999.000,9,-999.000,9,  2315.9,2,  2409.9,2,-999.0000,9,  -999.00,-999.0000,9, -999.00,9, -999.00,9,  -999.0,9,  -999.0, -999.00,9, -999.00,9, -999.00,9, -999.00,9,   1.4172, -999.00
096U20160426,       P15S,     118,          1,          8,       2008,2,20160618,       0430,   -10.9975,  -169.9994,       5133,  3399.9,   1.5670,  34.6840,2,  34.6836,2,    157.1,2,   157.6,2,  133.74,2,   35.15,2,    0.01,4,    2.46,2,-999.000,9,-999.000,9,-999.000,9,  -999.0,9,  -999.0,9,-999.0000,9,  -999.00,-999.0000,9, -999.00,9, -999.00,9,  -999.0,9,  -999.0, -999.00,9, -999.00,9, -999.00,9, -999.00,9,   1.3093, -999.00
096U20160426,       P15S,     118,          1,          7,       2007,2,20160618,       0430,   -10.9975,  -169.9994,       5133,  3701.5,   1.5070,  34.6880,2,  34.6873,2,    163.1,2,   163.6,2,  132.91,2,   34.78,2,    0.01,4,    2.43,2,   0.001,2,   0.003,2,       0,2,  2312.2,2,  2405.5,2,-999.0000,9,  -999.00,-999.0000,9, -999.00,9, -999.00,9,  -999.0,9,  -999.0, -999.00,9, -999.00,9, -999.00,9, -999.00,9,   1.2197, -999.00
096U20160426,       P15S,     118,          1,          6,       2006,2,20160618,       0430,   -10.9975,  -169.9994,       5133,  4001.7,   1.4280,  34.6940,2,  34.6932,2,    170.7,2,   171.4,2,  130.68,2,   34.25,2,    0.01,4,    2.38,2,-999.000,9,-999.000,9,-999.000,9,  -999.0,9,  -999.0,9,-999.0000,9,  -999.00,-999.0000,9, -999.00,9, -999.00,9,  -999.0,9,  -999.0, -999.00,9, -999.00,9, -999.00,9, -999.00,9,   1.1108, -999.00
096U20160426,       P15S,     118,          1,          5,       2005,2,20160618,       0430,   -10.9975,  -169.9994,       5133,  4361.3,   1.2140,  34.7060,2,  34.7046,2,    191.9,2,   193.9,2,  120.88,2,   32.60,2,    0.01,4,    2.26,2,   0.023,2,   0.015,2,       0,2,  2274.7,2,  2375.9,2,-999.0000,9,  -999.00,-999.0000,9, -999.00,9, -999.00,9,  -999.0,9,  -999.0, -999.00,9, -999.00,9, -999.00,9, -999.00,9,   0.8634, -999.00
096U20160426,       P15S,     118,          1,          4,       2004,2,20160618,       0430,   -10.9975,  -169.9994,       5133,  4636.5,   1.0880,  34.7090,2,  34.7082,2,    200.5,2,   203.0,2,  119.06,2,   32.04,2,    0.01,4,    2.22,2,-999.000,9,-999.000,9,-999.000,9,  -999.0,9,  -999.0,9,-999.0000,9,  -999.00,-999.0000,9, -999.00,9, -999.00,9,  -999.0,9,  -999.0, -999.00,9, -999.00,9, -999.00,9, -999.00,9,   0.7101, -999.00
096U20160426,       P15S,     118,          1,          3,       2003,2,20160618,       0430,   -10.9975,  -169.9994,       5133,  5036.8,   1.0970,  34.7090,2,  34.7088,2,    203.5,2,   204.7,2,  118.82,2,   31.92,2,    0.01,4,    2.21,2,   0.043,2,   0.024,2,   0.008,2,  2264.1,6,  2366.4,6,-999.0000,9,  -999.00,-999.0000,9, -999.00,9, -999.00,9,  -999.0,9,  -999.0, -999.00,9, -999.00,9, -999.00,9, -999.00,9,   0.6718, -999.00
096U20160426,       P15S,     118,          1,          2,       2002,2,20160618,       0430,   -10.9975,  -169.9994,       5133,  5132.3,   1.1090,  34.7090,2,  34.7089,2,    203.6,2,   205.0,2,  118.81,2,   31.93,2,    0.01,4,    2.21,2,-999.000,9,-999.000,9,-999.000,9,  -999.0,9,  -999.0,9,-999.0000,9,  -999.00,-999.0000,9, -999.00,9, -999.00,9,  -999.0,9,  -999.0, -999.00,9, -999.00,9, -999.00,9, -999.00,9,   0.6719, -999.00
096U20160426,       P15S,     118,          1,          1,       2001,2,20160618,       0430,   -10.9975,  -169.9994,       5133,  5206.6,   1.1170,  34.7090,2,  34.7082,2,    204.0,2,   204.8,2,  118.96,2,   31.94,2,    0.01,4,    2.21,2,   0.042,2,   0.024,2,       0,2,  2263.5,2,  2364.8,2,-999.0000,9,  -999.00,-999.0000,9, -999.00,9, -999.00,9,  -999.0,9,  -999.0, -999.00,9, -999.00,9, -999.00,9, -999.00,9,   0.6705, -999.00