BOTTLE,20230413CCHSIOENA
EXPOCODE,SECT_ID,STNNBR,CASTNO,SAMPNO,BTLNBR,BTLNBR_FLAG_W,DATE,TIME,LATITUDE,LONGITUDE,DEPTH,CTDPRS,CTDTMP,CTDSAL,CTDSAL_FLAG_W,SALNTY,SALNTY_FLAG_W,CTDOXY,CTDOXY_FLAG_W,OXYGEN,OXYGEN_FLAG_W,SILCAT,SILCAT_FLAG_W,NITRAT,NITRAT_FLAG_W,NITRIT,NITRIT_FLAG_W,PHSPHT,PHSPHT_FLAG_W,CFC-11,CFC-11_FLAG_W,CFC-12,CFC-12_FLAG_W,SF6,SF6_FLAG_W,TCARBN,TCARBN_FLAG_W,ALKALI,ALKALI_FLAG_W,PH_TOT,PH_TOT_FLAG_W,PH_TMP,HELIUM,HELIUM_FLAG_W,DELHE3,DELHE3_FLAG_W,DELC13,DELC13_FLAG_W,DELC14,DELC14_FLAG_W,C14ERR,POC,POC_FLAG_W,PON,PON_FLAG_W,CHLORA,CHLORA_FLAG_W,PPHYTN,PPHYTN_FLAG_W,THETA,DELHER
,,,,,,,,,,,METERS,DBAR,ITS-90,PSS-78,,PSS-78,,UMOL/KG,,UMOL/KG,,UMOL/KG,,UMOL/KG,,UMOL/KG,,UMOL/KG,,PMOL/KG,,PMOL/KG,,FMOL/KG,,UMOL/KG,,UMOL/KG,,,,DEG C,NMOL/KG,,PERCNT,,/MILLE,,/MILLE,,/MILLE,UG/KG,,UG/KG,,UG/KG,,UG/KG,,DEG C,PERCNT
096U20160426,       P15S,      29,          1,         36,       2036,2,20160516,       2118,   -53.0035,  -170.0136,       5214,    12.3,   7.1140,  34.1800,2,  34.1814,2,    290.9,2,   290.2,2,    3.87,2,   17.91,2,    0.28,2,    1.29,2,   3.735,3,   2.223,2,   2.671,2,  2115.9,2,  2275.2,2,-999.0000,9,  -999.00,-999.0000,9, -999.00,9,    1.41,2,    -6.1,2,     2.0, -999.00,9, -999.00,9,    0.92,2,    0.03,3,   7.1129, -999.00
096U20160426,       P15S,      29,          1,         35,       2035,2,20160516,       2118,   -53.0035,  -170.0136,       5214,    35.9,   7.1020,  34.1800,2,  34.1816,2,    290.7,2,   290.3,2,    3.87,2,   17.90,2,    0.28,2,    1.29,2,-999.000,9,-999.000,9,-999.000,9,  -999.0,9,  -999.0,9,-999.0000,9,  -999.00,-999.0000,9, -999.00,9,    1.40,2,   -13.8,2,     2.0, -999.00,9, -999.00,9,    0.43,2,    0.06,3,   7.0987, -999.00
096U20160426,       P15S,      29,          1,         34,       2034,2,20160516,       2118,   -53.0035,  -170.0136,       5214,    61.0,   7.1030,  34.1810,2,  34.1813,2,    290.4,2,   290.1,2,    3.90,2,   17.90,2,    0.28,2,    1.29,2,   3.741,3,   2.229,6,   2.622,6,  2115.8,2,  2276.6,2,-999.0000,9,  -999.00,-999.0000,9, -999.00,9, -999.00,9,  -999.0,9,  -999.0, -999.00,9, -999.00,9,    0.39,2,    0.06,3,   7.0974, -999.00
096U20160426,       P15S,      29,          1,         33,       2033,2,20160516,       2118,   -53.0035,  -170.0136,       5214,    84.8,   7.1000,  34.1810,2,  34.1807,2,    290.5,2,   290.1,2,    3.81,2,   17.92,2,    0.28,2,    1.29,2,-999.000,9,-999.000,9,-999.000,9,  -999.0,9,  -999.0,9,-999.0000,9,  -999.00,-999.0000,9, -999.00,9, -999.00,9,  -999.0,9,  -999.0, -999.00,9, -999.00,9, -999.00,9, -999.00,9,   7.0922, -999.00
096U20160426,       P15S,      29,          1,         32,       2032,2,20160516,       2118,   -53.0035,  -170.0136,       5214,   114.8,   7.0940,  34.1810,2,  34.1801,2,    290.1,2,   290.1,2,    3.90,2,   17.93,2,    0.28,2,    1.29,2,   3.739,3,   2.224,2,   2.611,2,  2117.0,6,  2275.6,6,-999.0000,9,  -999.00,-999.0000,9, -999.00,9,    1.40,2,    -7.9,2,     2.0, -999.00,9, -999.00,9,    0.39,2,    0.08,3,   7.0834, -999.00
096U20160426,       P15S,      29,          1,         31,       2031,2,20160516,       2118,   -53.0035,  -170.0136,       5214,   165.6,   7.0090,  34.2110,2,  34.2062,2,    285.8,2,   286.4,2,    4.38,2,   18.61,2,    0.23,2,    1.32,2,   3.768,3,   2.233,2,   2.598,2,  2121.8,2,  2277.6,2,-999.0000,9,  -999.00,-999.0000,9, -999.00,9, -999.00,9,  -999.0,9,  -999.0, -999.00,9, -999.00,9,    0.18,2,    0.10,3,   6.9937, -999.00
096U20160426,       P15S,      29,          1,         30,       2030,2,20160516,       2118,   -53.0035,  -170.0136,       5214,   215.0,   6.5060,  34.2850,2,  34.2852,2,    275.1,2,   275.1,2,    6.96,2,   20.77,2,    0.01,4,    1.43,2,   3.806,3,   2.224,2,   2.423,2,  2136.5,2,  2278.9,2,-999.0000,9,  -999.00,-999.0000,9, -999.00,9,    1.18,2,    -1.3,2,     2.0, -999.00,9, -999.00,9, -999.00,9, -999.00,9,   6.4869, -999.00
096U20160426,       P15S,      29,          1,         29,       2029,2,20160516,       2118,   -53.0035,  -170.0136,       5214,   264.7,   6.1160,  34.2430,2,  34.2440,2,    275.4,2,   275.7,2,    7.86,2,   21.70,2,    0.01,4,    1.49,2,   3.832,3,   2.246,2,   2.365,2,  2139.9,2,  2279.2,2,-999.0000,9,  -999.00,-999.0000,9, -999.00,9,    1.17,2,    -8.4,2,     2.0, -999.00,9, -999.00,9, -999.00,9, -999.00,9,   6.0932, -999.00
096U20160426,       P15S,      29,          1,         28,       2028,2,20160516,       2118,   -53.0035,  -170.0136,       5214,   316.2,   5.8140,  34.2220,2,  34.2215,2,    271.2,2,   271.6,2,    9.27,2,   22.84,2,    0.01,4,    1.56,2,   3.819,3,   2.215,2,   2.286,2,  2143.9,2,  2278.5,2,-999.0000,9,  -999.00,-999.0000,9, -999.00,9,    1.16,2,   -17.2,2,     2.0, -999.00,9, -999.00,9, -999.00,9, -999.00,9,   5.7874, -999.00
096U20160426,       P15S,      29,          1,         27,       2027,2,20160516,       2118,   -53.0035,  -170.0136,       5214,   364.5,   5.4440,  34.1920,2,  34.1912,2,    271.0,2,   272.9,2,   10.11,2,   23.61,2,    0.01,4,    1.61,2,   3.886,3,   2.237,2,   2.327,2,  2148.6,2,  2278.3,2,-999.0000,9,  -999.00,-999.0000,9, -999.00,9,    1.16,2,   -26.7,2,     2.0, -999.00,9, -999.00,9, -999.00,9, -999.00,9,   5.4142, -999.00
096U20160426,       P15S,      29,          1,         26,       2026,2,20160516,       2118,   -53.0035,  -170.0136,       5214,   434.6,   5.1020,  34.1810,2,  34.1811,2,    265.7,2,   266.5,2,   12.54,2,   24.92,2,    0.01,4,    1.69,2,   3.816,3,   2.185,2,    2.17,2,  2153.5,2,  2279.1,2,-999.0000,9,  -999.00,-999.0000,9, -999.00,9,    1.05,2,   -41.2,2,     2.0, -999.00,9, -999.00,9, -999.00,9, -999.00,9,   5.0675, -999.00
096U20160426,       P15S,      29,          1,         25,       2025,2,20160516,       2118,   -53.0035,  -170.0136,       5214,   535.8,   4.7930,  34.2040,2,  34.2040,2,    245.1,2,   245.8,2,   17.65,2,   27.23,2,    0.01,4,    1.84,2,   3.553,3,   1.998,2,   1.689,2,  2167.6,2,  2283.4,2,-999.0000,9,  -999.00,-999.0000,9, -999.00,9,    0.94,2,   -53.4,2,     2.0, -999.00,9, -999.00,9, -999.00,9, -999.00,9,   4.7513, -999.00
096U20160426,       P15S,      29,          1,         24,       2024,2,20160516,       2118,   -53.0035,  -170.0136,       5214,   635.3,   4.4320,  34.2670,2,  34.2668,2,    221.3,2,   221.5,2,   26.18,2,   29.80,2,    0.01,4,    2.01,2,-999.000,9,-999.000,9,-999.000,9,  -999.0,9,  -999.0,9,-999.0000,9,  -999.00,-999.0000,9, -999.00,9, -999.00,9,  -999.0,9,  -999.0, -999.00,9, -999.00,9, -999.00,9, -999.00,9,   4.3838, -999.00
096U20160426,       P15S,      29,          1,         23,       2023,2,20160516,       2118,   -53.0035,  -170.0136,       5214,   735.4,   3.9980,  34.2750,2,  34.2765,2,    216.5,2,   216.0,2,   31.69,2,   31.05,2,    0.01,4,    2.11,2,   2.767,3,   1.487,2,   1.022,2,  2195.7,2,  2293.5,2,-999.0000,9,  -999.00,-999.0000,9, -999.00,9,    0.87,2,   -64.8,2,     2.0, -999.00,9, -999.00,9, -999.00,9, -999.00,9,   3.9441, -999.00
096U20160426,       P15S,      29,          1,         22,       2022,2,20160516,       2118,   -53.0035,  -170.0136,       5214,   834.9,   3.6550,  34.3170,2,  34.3178,2,    205.1,2,   204.6,2,   39.39,2,   32.28,2,    0.00,4,    2.19,2,   2.304,3,   1.194,2,   0.725,2,  2209.1,6,  2300.0,6,-999.0000,9,  -999.00,-999.0000,9, -999.00,9,    0.77,2,   -85.7,2,     2.0, -999.00,9, -999.00,9, -999.00,9, -999.00,9,   3.5954, -999.00
096U20160426,       P15S,      29,          1,         21,       2021,2,20160516,       2118,   -53.0035,  -170.0136,       5214,   934.3,   3.3760,  34.3580,2,  34.3559,2,    196.1,2,   196.2,2,   46.13,2,   33.11,2,    0.01,4,    2.26,2,   1.922,3,   0.994,2,   0.578,2,  2220.0,2,  2308.7,2,-999.0000,9,  -999.00,-999.0000,9, -999.00,9,    0.63,2,   -96.5,2,     2.0, -999.00,9, -999.00,9, -999.00,9, -999.00,9,   3.3105, -999.00
096U20160426,       P15S,      29,          1,         20,       2020,2,20160516,       2118,   -53.0035,  -170.0136,       5214,  1034.8,   3.1430,  34.3980,2,  34.3985,2,    189.0,2,   188.5,2,   52.89,2,   33.76,2,    0.01,4,    2.31,2,   1.572,3,   0.813,2,   0.433,2,  2228.8,2,  2314.5,2,-999.0000,9,  -999.00,-999.0000,9, -999.00,9,    0.65,2,  -110.1,2,     2.0, -999.00,9, -999.00,9, -999.00,9, -999.00,9,   3.0715, -999.00
096U20160426,       P15S,      29,          1,         19,       2019,2,20160516,       2118,   -53.0035,  -170.0136,       5214,  1136.6,   2.9240,  34.4470,2,  34.4467,2,    182.2,2,   181.3,2,   59.74,2,   34.25,2,    0.00,4,    2.34,2,-999.000,9,-999.000,9,-999.000,9,  -999.0,9,  -999.0,9,-999.0000,9,  -999.00,-999.0000,9, -999.00,9,    0.57,2,  -119.7,2,     2.0, -999.00,9, -999.00,9, -999.00,9, -999.00,9,   2.8464, -999.00
096U20160426,       P15S,      29,          1,         18,       2018,2,20160516,       2118,   -53.0035,  -170.0136,       5214,  1234.9,   2.7790,  34.4930,2,  34.4936,2,    177.7,2,   176.6,2,   65.19,2,   34.35,2,    0.00,4,    2.35,2,   0.963,3,   0.483,2,   0.273,2,  2244.9,2,  2326.3,2,-999.0000,9,  -999.00,-999.0000,9, -999.00,9,    0.53,2,  -122.4,2,     2.0, -999.00,9, -999.00,9, -999.00,9, -999.00,9,   2.6950, -999.00
096U20160426,       P15S,      29,          1,         17,       2017,2,20160516,       2118,   -53.0035,  -170.0136,       5214,  1334.3,   2.6620,  34.5340,2,  34.5361,2,    174.9,2,   173.8,2,   69.63,2,   34.29,2,    0.00,4,    2.35,2,-999.000,9,-999.000,9,-999.000,9,  -999.0,9,  -999.0,9,-999.0000,9,  -999.00,-999.0000,9, -999.00,9,    0.47,2,  -139.0,2,     2.0, -999.00,9, -999.00,9, -999.00,9, -999.00,9,   2.5713, -999.00
096U20160426,       P15S,      29,          1,         16,       2016,2,20160516,       2118,   -53.0035,  -170.0136,       5214,  1465.5,   2.5700,  34.5760,2,  34.5766,2,    173.1,2,   172.6,2,   73.50,2,   34.03,2,    0.00,4,    2.33,2,   0.577,2,   0.294,2,   0.145,2,  2252.8,2,  2334.7,2,-999.0000,9,  -999.00,-999.0000,9, -999.00,9,    0.44,2,  -145.8,2,     2.0, -999.00,9, -999.00,9, -999.00,9, -999.00,9,   2.4699, -999.00
096U20160426,       P15S,      29,          1,         15,       2015,2,20160516,       2118,   -53.0035,  -170.0136,       5214,  1666.0,   2.4270,  34.6350,2,  34.6365,2,    174.1,2,   173.8,2,   78.33,2,   33.39,2,    0.00,4,    2.29,2,   0.375,2,   0.188,2,   0.074,2,  2254.8,2,  2341.8,2,-999.0000,9,  -999.00,-999.0000,9, -999.00,9,    0.41,2,  -152.4,2,     2.0, -999.00,9, -999.00,9, -999.00,9, -999.00,9,   2.3122, -999.00
096U20160426,       P15S,      29,          1,         14,       2014,2,20160516,       2118,   -53.0035,  -170.0136,       5214,  1865.0,   2.3060,  34.6800,2,  34.6801,2,    178.2,2,   178.1,2,   80.38,2,   32.58,2,    0.01,4,    2.23,2,   0.269,2,   0.138,2,   0.092,2,  2252.9,2,  2343.2,2,-999.0000,9,  -999.00,-999.0000,9, -999.00,9,    0.36,2,  -153.7,2,     2.0, -999.00,9, -999.00,9, -999.00,9, -999.00,9,   2.1762, -999.00
096U20160426,       P15S,      29,          1,         13,       2013,2,20160516,       2118,   -53.0035,  -170.0136,       5214,  2086.2,   2.1750,  34.7140,2,  34.7148,2,    183.4,2,   184.0,2,   83.12,2,   31.77,2,    0.01,4,    2.18,2,   0.188,2,   0.100,2,   0.082,2,  2249.9,2,  2347.1,2,-999.0000,9,  -999.00,-999.0000,9, -999.00,9,    0.46,2,  -154.3,2,     2.0, -999.00,9, -999.00,9, -999.00,9, -999.00,9,   2.0282, -999.00
096U20160426,       P15S,      29,          1,         12,       2012,2,20160516,       2118,   -53.0035,  -170.0136,       5214,  2334.2,   2.0000,  34.7330,2,  34.7326,2,    188.1,2,   189.1,2,   87.91,2,   31.37,2,    0.00,4,    2.15,2,   0.152,2,   0.080,2,    0.09,2,  2251.4,2,  2350.2,6,-999.0000,9,  -999.00,-999.0000,9, -999.00,9,    0.44,2,  -159.3,2,     2.0, -999.00,9, -999.00,9, -999.00,9, -999.00,9,   1.8343, -999.00
096U20160426,       P15S,      29,          1,         11,       2011,2,20160516,       2118,   -53.0035,  -170.0136,       5214,  2586.0,   1.7920,  34.7370,2,  34.7368,2,    191.8,2,   193.2,2,   93.53,2,   31.30,2,    0.01,4,    2.14,2,   0.124,2,   0.064,2,       0,2,  2254.4,2,  2353.4,2,-999.0000,9,  -999.00,-999.0000,9, -999.00,9,    0.44,2,  -158.5,2,     2.0, -999.00,9, -999.00,9, -999.00,9, -999.00,9,   1.6074, -999.00
096U20160426,       P15S,      29,          1,         10,       2010,2,20160516,       2118,   -53.0035,  -170.0136,       5214,  2834.0,   1.6040,  34.7350,2,  34.7348,2,    194.8,2,   196.3,2,   99.26,2,   31.41,2,    0.01,4,    2.15,2,   0.120,6,   0.060,6,   0.028,6,  2254.5,2,  2357.1,2,-999.0000,9,  -999.00,-999.0000,9, -999.00,9,    0.45,2,  -160.3,2,     2.0, -999.00,9, -999.00,9, -999.00,9, -999.00,9,   1.4003, -999.00
096U20160426,       P15S,      29,          1,          9,       2009,2,20160516,       2118,   -53.0035,  -170.0136,       5214,  3100.3,   1.4160,  34.7300,2,  34.7301,2,    197.5,2,   199.1,2,  105.00,2,   31.62,2,    0.01,4,    2.17,2,-999.000,9,-999.000,9,-999.000,9,  -999.0,9,  -999.0,9,-999.0000,9,  -999.00,-999.0000,9, -999.00,9,    0.47,2,  -169.9,2,     2.0, -999.00,9, -999.00,9, -999.00,9, -999.00,9,   1.1912, -999.00
096U20160426,       P15S,      29,          1,          8,       2008,2,20160516,       2118,   -53.0035,  -170.0136,       5214,  3400.3,   1.2330,  34.7220,2,  34.7226,2,    200.2,2,   202.1,2,  110.73,2,   31.86,2,    0.01,4,    2.19,2,   0.143,2,   0.075,2,    0.04,2,  2258.9,6,  2361.0,6,-999.0000,9,  -999.00,-999.0000,9, -999.00,9,    0.46,2,  -164.7,2,     2.0, -999.00,9, -999.00,9, -999.00,9, -999.00,9,   0.9833, -999.00
096U20160426,       P15S,      29,          1,          7,       2007,2,20160516,       2118,   -53.0035,  -170.0136,       5214,  3700.2,   1.1110,  34.7160,2,  34.7169,2,    202.9,2,   204.2,2,  114.50,2,   32.05,2,    0.01,4,    2.20,2,   0.169,2,   0.088,2,   0.057,2,  2260.3,2,  2360.8,2,-999.0000,9,  -999.00,-999.0000,9, -999.00,9,    0.48,2,  -163.4,2,     2.0, -999.00,9, -999.00,9, -999.00,9, -999.00,9,   0.8342, -999.00
096U20160426,       P15S,      29,          1,          6,       2006,2,20160516,       2118,   -53.0035,  -170.0136,       5214,  4033.0,   1.0080,  34.7110,2,  34.7120,2,    205.4,2,   206.5,2,  118.50,2,   32.21,2,    0.01,4,    2.21,2,   0.211,2,   0.107,2,   0.068,2,  2260.3,2,  2361.6,2,-999.0000,9,  -999.00,-999.0000,9, -999.00,9,    0.50,2,  -166.2,2,     2.0, -999.00,9, -999.00,9, -999.00,9, -999.00,9,   0.6993, -999.00
096U20160426,       P15S,      29,          1,          5,       2005,2,20160516,       2118,   -53.0035,  -170.0136,       5214,  4434.5,   0.9530,  34.7060,2,  34.7068,2,    207.5,2,   207.7,2,  121.12,2,   32.34,2,    0.01,4,    2.22,2,   0.243,2,   0.123,2,   0.064,2,  2261.8,2,  2361.9,2,-999.0000,9,  -999.00,-999.0000,9, -999.00,9,    0.45,2,  -159.8,2,     2.0, -999.00,9, -999.00,9, -999.00,9, -999.00,9,   0.6022, -999.00
096U20160426,       P15S,      29,          1,          4,       2004,2,20160516,       2118,   -53.0035,  -170.0136,       5214,  4835.5,   0.9620,  34.7040,2,  34.7052,2,    208.8,2,   208.4,2,  122.66,2,   32.39,2,    0.01,4,    2.22,2,   0.271,2,   0.134,2,   0.054,2,  2261.8,2,  2363.5,6,-999.0000,9,  -999.00,-999.0000,9, -999.00,9,    0.45,2,  -165.5,2,     2.0, -999.00,9, -999.00,9, -999.00,9, -999.00,9,   0.5652, -999.00
096U20160426,       P15S,      29,          1,          3,       2003,2,20160516,       2118,   -53.0035,  -170.0136,       5214,  5100.6,   0.9750,  34.7030,2,  34.7041,2,    209.6,2,   208.5,2,  123.18,2,   32.44,2,    0.01,4,    2.23,2,   0.291,2,   0.147,2,   0.095,2,  2262.4,2,  2363.0,2,-999.0000,9,  -999.00,-999.0000,9, -999.00,9,    0.45,2,  -163.1,2,     2.0, -999.00,9, -999.00,9, -999.00,9, -999.00,9,   0.5464, -999.00
096U20160426,       P15S,      29,          1,          2,       2002,2,20160516,       2118,   -53.0035,  -170.0136,       5214,  5200.9,   0.9810,  34.7020,2,  34.7038,2,    209.8,2,   209.0,2,  123.46,2,   32.46,2,    0.01,4,    2.23,2,   0.290,2,   0.149,2,   0.045,2,  2262.1,2,  2363.4,2,-999.0000,9,  -999.00,-999.0000,9, -999.00,9,    0.47,2,  -159.2,2,     2.0, -999.00,9, -999.00,9, -999.00,9, -999.00,9,   0.5400, -999.00
096U20160426,       P15S,      29,          1,          1,       2001,2,20160516,       2118,   -53.0035,  -170.0136,       5214,  5313.8,   0.9920,  34.7020,2,  34.7075,2,    210.1,2,   208.8,2,  123.51,2,   32.47,2,    0.01,4,    2.23,2,   0.305,2,   0.153,2,   0.078,2,  2263.1,2,  2365.0,2,-999.0000,9,  -999.00,-999.0000,9, -999.00,9,    0.28,4,  -160.3,2,     2.0, -999.00,9, -999.00,9, -999.00,9, -999.00,9,   0.5368, -999.00