BOTTLE,20230413CCHSIOENA
EXPOCODE,SECT_ID,STNNBR,CASTNO,SAMPNO,BTLNBR,BTLNBR_FLAG_W,DATE,TIME,LATITUDE,LONGITUDE,DEPTH,CTDPRS,CTDTMP,CTDSAL,CTDSAL_FLAG_W,SALNTY,SALNTY_FLAG_W,CTDOXY,CTDOXY_FLAG_W,OXYGEN,OXYGEN_FLAG_W,SILCAT,SILCAT_FLAG_W,NITRAT,NITRAT_FLAG_W,NITRIT,NITRIT_FLAG_W,PHSPHT,PHSPHT_FLAG_W,CFC-11,CFC-11_FLAG_W,CFC-12,CFC-12_FLAG_W,SF6,SF6_FLAG_W,TCARBN,TCARBN_FLAG_W,ALKALI,ALKALI_FLAG_W,PH_TOT,PH_TOT_FLAG_W,PH_TMP,HELIUM,HELIUM_FLAG_W,DELHE3,DELHE3_FLAG_W,DELC13,DELC13_FLAG_W,DELC14,DELC14_FLAG_W,C14ERR,POC,POC_FLAG_W,PON,PON_FLAG_W,CHLORA,CHLORA_FLAG_W,PPHYTN,PPHYTN_FLAG_W,THETA,DELHER
,,,,,,,,,,,METERS,DBAR,ITS-90,PSS-78,,PSS-78,,UMOL/KG,,UMOL/KG,,UMOL/KG,,UMOL/KG,,UMOL/KG,,UMOL/KG,,PMOL/KG,,PMOL/KG,,FMOL/KG,,UMOL/KG,,UMOL/KG,,,,DEG C,NMOL/KG,,PERCNT,,/MILLE,,/MILLE,,/MILLE,UG/KG,,UG/KG,,UG/KG,,UG/KG,,DEG C,PERCNT
096U20160426,       P15S,      50,          1,         36,       2036,2,20160523,       1955,   -42.7517,  -174.6462,       1591,     5.8,  14.2830,  35.0420,2,  35.0450,2,    253.8,2,   248.2,2,    0.78,2,    1.57,2,    0.21,2,    0.28,2,   2.624,6,   1.563,6,   1.931,6,  2079.1,2,  2311.4,2,-999.0000,9,  -999.00,-999.0000,9, -999.00,9, -999.00,9,  -999.0,9,  -999.0, -999.00,9, -999.00,9,    0.95,2,   -0.08,3,  14.2822, -999.00
096U20160426,       P15S,      50,          1,         35,       2035,2,20160523,       1955,   -42.7517,  -174.6462,       1591,    23.4,  14.2300,  35.0370,2,  35.0385,2,    253.9,2,   248.5,2,    0.80,2,    1.65,2,    0.22,2,    0.29,2,   2.645,2,   1.573,2,   1.914,2,  2079.1,6,  2312.1,6,-999.0000,9,  -999.00,-999.0000,9, -999.00,9, -999.00,9,  -999.0,9,  -999.0, -999.00,9, -999.00,9,    0.81,2,    0.05,3,  14.2266, -999.00
096U20160426,       P15S,      50,          1,         34,       2034,2,20160523,       1955,   -42.7517,  -174.6462,       1591,    50.7,  14.2080,  35.0340,2,  35.0353,2,    254.1,2,   248.8,2,    0.77,2,    1.69,2,    0.22,2,    0.29,2,   2.671,2,   1.572,2,   1.991,2,  2079.2,2,  2309.8,2,-999.0000,9,  -999.00,   1.8360,2,   -1.47,2, -999.00,9,  -999.0,9,  -999.0, -999.00,9, -999.00,9,    0.90,2,   -0.10,3,  14.2006,    0.45
096U20160426,       P15S,      50,          1,         33,       2033,2,20160523,       1955,   -42.7517,  -174.6462,       1591,    74.1,  14.1200,  35.0240,2,  35.0256,2,    253.2,2,   247.8,2,    0.77,2,    1.85,2,    0.25,2,    0.31,2,   2.685,2,   1.587,2,   1.933,2,  2080.7,2,  2312.8,2,-999.0000,9,  -999.00,-999.0000,9, -999.00,9, -999.00,9,  -999.0,9,  -999.0, -999.00,9, -999.00,9,    0.75,2,   -0.17,3,  14.1093, -999.00
096U20160426,       P15S,      50,          1,         31,       2031,2,20160523,       1955,   -42.7517,  -174.6462,       1591,   101.4,  13.6610,  35.0150,2,  35.0049,2,    239.9,2,   232.5,2,    1.53,2,    6.21,2,    0.05,2,    0.54,2,   2.820,2,   1.661,2,   1.911,2,  2101.8,2,  2305.7,2,-999.0000,9,  -999.00,-999.0000,9, -999.00,9, -999.00,9,  -999.0,9,  -999.0, -999.00,9, -999.00,9,    0.14,2,    0.00,3,  13.6466, -999.00
096U20160426,       P15S,      50,          1,         32,       2032,2,20160523,       1955,   -42.7517,  -174.6462,       1591,   102.0,  13.6710,  35.0180,2,-999.0000,9,    242.0,2,  -999.0,9, -999.00,9, -999.00,9, -999.00,9, -999.00,9,-999.000,9,-999.000,9,-999.000,9,  -999.0,9,  -999.0,9,-999.0000,9,  -999.00,-999.0000,9, -999.00,9, -999.00,9,  -999.0,9,  -999.0, -999.00,9, -999.00,9, -999.00,9, -999.00,9,  13.6565, -999.00
096U20160426,       P15S,      50,          1,         30,       2030,2,20160523,       1955,   -42.7517,  -174.6462,       1591,   125.3,  12.5080,  34.9730,2,  34.9738,2,    237.8,2,   232.5,2,    1.83,2,    8.06,2,    0.02,2,    0.65,2,   2.938,2,   1.712,2,   1.967,2,  2109.7,2,  2302.4,2,-999.0000,9,  -999.00,-999.0000,9, -999.00,9, -999.00,9,  -999.0,9,  -999.0, -999.00,9, -999.00,9, -999.00,9, -999.00,9,  12.4913, -999.00
096U20160426,       P15S,      50,          1,         29,       2029,2,20160523,       1955,   -42.7517,  -174.6462,       1591,   149.2,  12.2100,  34.9730,2,-999.0000,9,    237.7,2,   232.6,2, -999.00,9, -999.00,9, -999.00,9, -999.00,9,-999.000,9,-999.000,9,-999.000,9,  -999.0,9,  -999.0,9,-999.0000,9,  -999.00,-999.0000,9, -999.00,9, -999.00,9,  -999.0,9,  -999.0, -999.00,9, -999.00,9, -999.00,9, -999.00,9,  12.1904, -999.00
096U20160426,       P15S,      50,          1,         28,       2028,2,20160523,       1955,   -42.7517,  -174.6462,       1591,   151.4,  12.1730,  34.9740,2,  34.9786,2,    237.7,2,  -999.0,9,    2.13,2,    9.00,2,    0.02,4,    0.70,2,   2.974,2,   1.731,2,   1.951,2,  2115.1,2,  2304.4,2,-999.0000,9,  -999.00,-999.0000,9, -999.00,9, -999.00,9,  -999.0,9,  -999.0, -999.00,9, -999.00,9, -999.00,9, -999.00,9,  12.1531, -999.00
096U20160426,       P15S,      50,          1,         27,       2027,2,20160523,       1955,   -42.7517,  -174.6462,       1591,   175.2,  11.8940,  34.9850,2,  34.9834,2,    236.7,2,   231.8,2,    2.55,2,    9.70,2,    0.02,4,    0.74,2,   2.960,2,   1.722,2,    1.98,2,  2116.6,2,  2303.6,2,-999.0000,9,  -999.00,-999.0000,9, -999.00,9, -999.00,9,  -999.0,9,  -999.0, -999.00,9, -999.00,9, -999.00,9, -999.00,9,  11.8713, -999.00
096U20160426,       P15S,      50,          1,         25,       2025,2,20160523,       1955,   -42.7517,  -174.6462,       1591,   199.9,  11.5720,  34.9500,2,  34.9553,2,    233.8,2,   228.0,2,    3.23,2,   10.97,2,    0.02,4,    0.81,2,   2.974,2,   1.720,2,   1.819,2,  2121.6,2,  2303.3,2,-999.0000,9,  -999.00,-999.0000,9, -999.00,9, -999.00,9,  -999.0,9,  -999.0, -999.00,9, -999.00,9, -999.00,9, -999.00,9,  11.5465, -999.00
096U20160426,       P15S,      50,          1,         26,       2026,2,20160523,       1955,   -42.7517,  -174.6462,       1591,   200.3,  11.6030,  34.9550,2,-999.0000,9,    233.7,2,  -999.0,9, -999.00,9, -999.00,9, -999.00,9, -999.00,9,-999.000,9,-999.000,9,-999.000,9,  -999.0,9,  -999.0,9,-999.0000,9,  -999.00,-999.0000,9, -999.00,9, -999.00,9,  -999.0,9,  -999.0, -999.00,9, -999.00,9, -999.00,9, -999.00,9,  11.5774, -999.00
096U20160426,       P15S,      50,          1,         23,       2023,2,20160523,       1955,   -42.7517,  -174.6462,       1591,   248.7,  10.8960,  34.8520,2,  34.8548,2,    231.1,2,   225.3,2,    3.84,2,   13.02,2,    0.01,4,    0.94,2,   3.008,2,   1.720,2,   1.769,2,  2129.9,2,  2297.1,2,-999.0000,9,  -999.00,-999.0000,9, -999.00,9, -999.00,9,  -999.0,9,  -999.0, -999.00,9, -999.00,9, -999.00,9, -999.00,9,  10.8655, -999.00
096U20160426,       P15S,      50,          1,         24,       2024,2,20160523,       1955,   -42.7517,  -174.6462,       1591,   251.5,  10.8940,  34.8510,2,-999.0000,9,    230.6,2,  -999.0,9, -999.00,9, -999.00,9, -999.00,9, -999.00,9,-999.000,9,-999.000,9,-999.000,9,  -999.0,9,  -999.0,9,-999.0000,9,  -999.00,-999.0000,9, -999.00,9, -999.00,9,  -999.0,9,  -999.0, -999.00,9, -999.00,9, -999.00,9, -999.00,9,  10.8632, -999.00
096U20160426,       P15S,      50,          1,         22,       2022,2,20160523,       1955,   -42.7517,  -174.6462,       1591,   300.2,  10.6500,  34.8230,2,-999.0000,9,    239.5,2,  -999.0,9, -999.00,9, -999.00,9, -999.00,9, -999.00,9,-999.000,9,-999.000,9,-999.000,9,  -999.0,9,  -999.0,9,-999.0000,9,  -999.00,-999.0000,9, -999.00,9, -999.00,9,  -999.0,9,  -999.0, -999.00,9, -999.00,9, -999.00,9, -999.00,9,  10.6136, -999.00
096U20160426,       P15S,      50,          1,         21,       2021,2,20160523,       1955,   -42.7517,  -174.6462,       1591,   300.5,  10.6430,  34.8220,2,  34.8222,2,    239.5,2,   234.5,2,    3.43,2,   12.62,2,    0.01,4,    0.91,2,   3.091,2,   1.787,2,   1.865,2,  2126.0,2,  2298.0,6,-999.0000,9,  -999.00,   1.7570,2,   -0.89,2, -999.00,9,  -999.0,9,  -999.0, -999.00,9, -999.00,9, -999.00,9, -999.00,9,  10.6066,    0.54
096U20160426,       P15S,      50,          1,         20,       2020,2,20160523,       1955,   -42.7517,  -174.6462,       1591,   348.4,  10.0640,  34.7420,2,-999.0000,9,    239.4,2,  -999.0,9, -999.00,9, -999.00,9, -999.00,9, -999.00,9,-999.000,9,-999.000,9,-999.000,9,  -999.0,9,  -999.0,9,-999.0000,9,  -999.00,-999.0000,9, -999.00,9, -999.00,9,  -999.0,9,  -999.0, -999.00,9, -999.00,9, -999.00,9, -999.00,9,  10.0232, -999.00
096U20160426,       P15S,      50,          1,         19,       2019,2,20160523,       1955,   -42.7517,  -174.6462,       1591,   350.1,  10.0650,  34.7420,2,  34.7455,2,    239.2,2,   234.1,2,    3.86,2,   13.98,2,    0.01,4,    1.00,2,   3.170,2,   1.815,2,    1.86,2,  2129.6,2,  2296.8,2,-999.0000,9,  -999.00,-999.0000,9, -999.00,9, -999.00,9,  -999.0,9,  -999.0, -999.00,9, -999.00,9, -999.00,9, -999.00,9,  10.0240, -999.00
096U20160426,       P15S,      50,          1,         17,       2017,2,20160523,       1955,   -42.7517,  -174.6462,       1591,   399.9,   9.5860,  34.6820,2,  34.6860,2,    230.2,2,   225.2,2,    5.10,2,   16.38,2,    0.01,4,    1.15,2,   3.170,2,   1.788,2,   1.613,2,  2137.7,2,  2292.2,2,-999.0000,9,  -999.00,-999.0000,9, -999.00,9, -999.00,9,  -999.0,9,  -999.0, -999.00,9, -999.00,9, -999.00,9, -999.00,9,   9.5405, -999.00
096U20160426,       P15S,      50,          1,         18,       2018,2,20160523,       1955,   -42.7517,  -174.6462,       1591,   401.1,   9.5900,  34.6830,2,-999.0000,9,    230.2,2,  -999.0,9, -999.00,9, -999.00,9, -999.00,9, -999.00,9,-999.000,9,-999.000,9,-999.000,9,  -999.0,9,  -999.0,9,-999.0000,9,  -999.00,-999.0000,9, -999.00,9, -999.00,9,  -999.0,9,  -999.0, -999.00,9, -999.00,9, -999.00,9, -999.00,9,   9.5443, -999.00
096U20160426,       P15S,      50,          1,         15,       2015,2,20160523,       1955,   -42.7517,  -174.6462,       1591,   449.8,   9.1410,  34.6290,2,  34.6303,2,    226.7,2,   222.2,2,    5.97,2,   18.04,2,    0.01,4,    1.25,2,   3.173,2,   1.766,2,   1.453,2,  2140.8,2,  2291.3,2,-999.0000,9,  -999.00,-999.0000,9, -999.00,9, -999.00,9,  -999.0,9,  -999.0, -999.00,9, -999.00,9, -999.00,9, -999.00,9,   9.0912, -999.00
096U20160426,       P15S,      50,          1,         16,       2016,2,20160523,       1955,   -42.7517,  -174.6462,       1591,   450.1,   9.1500,  34.6300,2,-999.0000,9,    226.7,2,  -999.0,9, -999.00,9, -999.00,9, -999.00,9, -999.00,9,-999.000,9,-999.000,9,-999.000,9,  -999.0,9,  -999.0,9,-999.0000,9,  -999.00,-999.0000,9, -999.00,9, -999.00,9,  -999.0,9,  -999.0, -999.00,9, -999.00,9, -999.00,9, -999.00,9,   9.1001, -999.00
096U20160426,       P15S,      50,          1,         13,       2013,2,20160523,       1955,   -42.7517,  -174.6462,       1591,   499.6,   8.6800,  34.5780,2,  34.5775,2,    226.5,2,   221.5,2,    6.89,2,   19.45,2,    0.01,4,    1.34,2,   3.179,2,   1.748,2,   1.441,2,  2144.9,2,  2286.2,2,-999.0000,9,  -999.00,   1.7600,2,   -0.29,2, -999.00,9,  -999.0,9,  -999.0, -999.00,9, -999.00,9, -999.00,9, -999.00,9,   8.6262,    0.40
096U20160426,       P15S,      50,          1,         14,       2014,2,20160523,       1955,   -42.7517,  -174.6462,       1591,   501.6,   8.7000,  34.5800,2,-999.0000,9,    225.8,2,  -999.0,9, -999.00,9, -999.00,9, -999.00,9, -999.00,9,-999.000,9,-999.000,9,-999.000,9,  -999.0,9,  -999.0,9,-999.0000,9,  -999.00,-999.0000,9, -999.00,9, -999.00,9,  -999.0,9,  -999.0, -999.00,9, -999.00,9, -999.00,9, -999.00,9,   8.6459, -999.00
096U20160426,       P15S,      50,          1,         11,       2011,2,20160523,       1955,   -42.7517,  -174.6462,       1591,   600.5,   7.9430,  34.5020,2,  34.5029,2,    228.7,2,   223.2,2,    8.39,2,   21.24,2,    0.01,4,    1.45,2,   3.145,2,   1.689,2,   1.165,2,  2147.6,2,  2284.5,2,-999.0000,9,  -999.00,-999.0000,9, -999.00,9, -999.00,9,  -999.0,9,  -999.0, -999.00,9, -999.00,9, -999.00,9, -999.00,9,   7.8813, -999.00
096U20160426,       P15S,      50,          1,         12,       2012,2,20160523,       1955,   -42.7517,  -174.6462,       1591,   604.2,   7.9580,  34.5020,2,-999.0000,9,    228.7,2,  -999.0,9, -999.00,9, -999.00,9, -999.00,9, -999.00,9,-999.000,9,-999.000,9,-999.000,9,  -999.0,9,  -999.0,9,-999.0000,9,  -999.00,-999.0000,9, -999.00,9, -999.00,9,  -999.0,9,  -999.0, -999.00,9, -999.00,9, -999.00,9, -999.00,9,   7.8959, -999.00
096U20160426,       P15S,      50,          1,          9,       2009,2,20160523,       1955,   -42.7517,  -174.6462,       1591,   798.1,   6.8050,  34.4300,2,  34.4315,2,    218.1,2,   213.7,2,   14.31,2,   24.81,2,    0.00,4,    1.68,2,   2.351,2,   1.200,2,   0.585,2,  2160.5,2,  2285.3,6,-999.0000,9,  -999.00,   1.7790,2,    1.70,2, -999.00,9,  -999.0,9,  -999.0, -999.00,9, -999.00,9, -999.00,9, -999.00,9,   6.7289,    0.43
096U20160426,       P15S,      50,          1,         10,       2010,2,20160523,       1955,   -42.7517,  -174.6462,       1591,   798.1,   6.8190,  34.4310,2,-999.0000,9,    218.4,2,  -999.0,9, -999.00,9, -999.00,9, -999.00,9, -999.00,9,-999.000,9,-999.000,9,-999.000,9,  -999.0,9,  -999.0,9,-999.0000,9,  -999.00,-999.0000,9, -999.00,9, -999.00,9,  -999.0,9,  -999.0, -999.00,9, -999.00,9, -999.00,9, -999.00,9,   6.7428, -999.00
096U20160426,       P15S,      50,          1,          8,       2008,2,20160523,       1955,   -42.7517,  -174.6462,       1591,   949.3,   5.8810,  34.4060,2,  34.4078,2,    206.8,2,   202.5,2,   23.24,2,   27.56,2,    0.00,4,    1.87,2,   1.530,2,   0.761,2,   0.316,2,  2177.4,2,  2292.9,2,-999.0000,9,  -999.00,-999.0000,9, -999.00,9, -999.00,9,  -999.0,9,  -999.0, -999.00,9, -999.00,9, -999.00,9, -999.00,9,   5.7961, -999.00
096U20160426,       P15S,      50,          1,          6,       2006,2,20160523,       1955,   -42.7517,  -174.6462,       1591,  1103.2,   5.0000,  34.4170,2,  34.4165,2,    194.8,2,   190.7,2,   35.97,2,   30.01,2,    0.00,4,    2.05,2,   0.914,2,   0.457,2,   0.177,2,  2199.4,2,  2303.9,6,-999.0000,9,  -999.00,   1.8160,2,    6.11,2, -999.00,9,  -999.0,9,  -999.0, -999.00,9, -999.00,9, -999.00,9, -999.00,9,   4.9074,    0.41
096U20160426,       P15S,      50,          1,          7,       2007,2,20160523,       1955,   -42.7517,  -174.6462,       1591,  1103.7,   5.0360,  34.4160,2,-999.0000,9,    195.4,2,  -999.0,9, -999.00,9, -999.00,9, -999.00,9, -999.00,9,-999.000,9,-999.000,9,-999.000,9,  -999.0,9,  -999.0,9,-999.0000,9,  -999.00,-999.0000,9, -999.00,9, -999.00,9,  -999.0,9,  -999.0, -999.00,9, -999.00,9, -999.00,9, -999.00,9,   4.9431, -999.00
096U20160426,       P15S,      50,          1,          5,       2005,2,20160523,       1955,   -42.7517,  -174.6462,       1591,  1250.2,   4.4840,  34.4350,2,  34.4383,2,    187.7,2,   183.2,2,   45.90,2,   31.36,2,    0.00,4,    2.15,2,   0.608,6,   0.310,6,   0.158,6,  2215.5,2,  2314.0,2,-999.0000,9,  -999.00,-999.0000,9, -999.00,9, -999.00,9,  -999.0,9,  -999.0, -999.00,9, -999.00,9, -999.00,9, -999.00,9,   4.3826, -999.00
096U20160426,       P15S,      50,          1,          4,       2004,2,20160523,       1955,   -42.7517,  -174.6462,       1591,  1401.1,   3.8480,  34.4800,2,  34.4816,2,    177.6,2,   173.3,2,   60.81,2,   32.77,2,    0.00,4,    2.26,2,-999.000,9,-999.000,9,-999.000,9,  2237.4,2,  2329.7,2,-999.0000,9,  -999.00,   1.8430,2,   10.86,2, -999.00,9,  -999.0,9,  -999.0, -999.00,9, -999.00,9, -999.00,9, -999.00,9,   3.7395,    0.43
096U20160426,       P15S,      50,          1,          3,       2003,2,20160523,       1955,   -42.7517,  -174.6462,       1591,  1401.9,   3.8420,  34.4810,2,-999.0000,9,    177.2,2,  -999.0,9, -999.00,9, -999.00,9, -999.00,9, -999.00,9,   0.352,2,   0.184,2,   0.062,2,  -999.0,9,  -999.0,9,-999.0000,9,  -999.00,-999.0000,9, -999.00,9, -999.00,9,  -999.0,9,  -999.0, -999.00,9, -999.00,9, -999.00,9, -999.00,9,   3.7335, -999.00
096U20160426,       P15S,      50,          1,          2,       2002,2,20160523,       1955,   -42.7517,  -174.6462,       1591,  1497.4,   3.4900,  34.5140,2,  34.5163,2,    171.8,2,   167.3,2,   71.30,2,   33.41,2,    0.01,4,    2.31,2,   0.238,2,   0.126,2,    0.07,2,  2250.1,2,  2342.7,2,-999.0000,9,  -999.00,   1.8530,2,   12.37,2, -999.00,9,  -999.0,9,  -999.0, -999.00,9, -999.00,9, -999.00,9, -999.00,9,   3.3769,    0.43
096U20160426,       P15S,      50,          1,          1,       2001,2,20160523,       1955,   -42.7517,  -174.6462,       1591,  1585.0,   3.0030,  34.5630,2,  34.5592,2,    165.0,2,   161.1,2,   84.69,2,   34.15,2,    0.01,4,    2.37,2,   0.131,2,   0.072,2,   0.068,2,  2267.1,2,  2355.9,2,-999.0000,9,  -999.00,-999.0000,9, -999.00,9, -999.00,9,  -999.0,9,  -999.0, -999.00,9, -999.00,9, -999.00,9, -999.00,9,   2.8880, -999.00