BOTTLE,20230413CCHSIOENA
EXPOCODE,SECT_ID,STNNBR,CASTNO,SAMPNO,BTLNBR,BTLNBR_FLAG_W,DATE,TIME,LATITUDE,LONGITUDE,DEPTH,CTDPRS,CTDTMP,CTDSAL,CTDSAL_FLAG_W,SALNTY,SALNTY_FLAG_W,CTDOXY,CTDOXY_FLAG_W,OXYGEN,OXYGEN_FLAG_W,SILCAT,SILCAT_FLAG_W,NITRAT,NITRAT_FLAG_W,NITRIT,NITRIT_FLAG_W,PHSPHT,PHSPHT_FLAG_W,CFC-11,CFC-11_FLAG_W,CFC-12,CFC-12_FLAG_W,SF6,SF6_FLAG_W,TCARBN,TCARBN_FLAG_W,ALKALI,ALKALI_FLAG_W,PH_TOT,PH_TOT_FLAG_W,PH_TMP,HELIUM,HELIUM_FLAG_W,DELHE3,DELHE3_FLAG_W,DELC13,DELC13_FLAG_W,DELC14,DELC14_FLAG_W,C14ERR,POC,POC_FLAG_W,PON,PON_FLAG_W,CHLORA,CHLORA_FLAG_W,PPHYTN,PPHYTN_FLAG_W,THETA,DELHER
,,,,,,,,,,,METERS,DBAR,ITS-90,PSS-78,,PSS-78,,UMOL/KG,,UMOL/KG,,UMOL/KG,,UMOL/KG,,UMOL/KG,,UMOL/KG,,PMOL/KG,,PMOL/KG,,FMOL/KG,,UMOL/KG,,UMOL/KG,,,,DEG C,NMOL/KG,,PERCNT,,/MILLE,,/MILLE,,/MILLE,UG/KG,,UG/KG,,UG/KG,,UG/KG,,DEG C,PERCNT
096U20160426,       P15S,      38,          1,         36,       2036,2,20160519,       1313,   -48.5082,  -170.0036,       5306,     6.7,  10.6320,  34.5400,2,  34.5393,2,    267.5,2,   268.6,2,    1.37,2,    9.04,2,    0.27,2,    0.76,2,-999.000,9,-999.000,9,-999.000,9,  2094.0,2,  2290.9,2,-999.0000,9,  -999.00,-999.0000,9, -999.00,9, -999.00,9,  -999.0,9,  -999.0, -999.00,9, -999.00,9,    0.36,2,    0.39,3,  10.6312, -999.00
096U20160426,       P15S,      38,          1,         35,       2035,2,20160519,       1313,   -48.5082,  -170.0036,       5306,    34.6,  10.5750,  34.5310,2,  34.5342,2,    268.0,2,   268.5,2,    1.42,2,    9.16,2,    0.27,2,    0.76,2,-999.000,9,-999.000,9,-999.000,9,  -999.0,9,  -999.0,9,-999.0000,9,  -999.00,-999.0000,9, -999.00,9, -999.00,9,  -999.0,9,  -999.0, -999.00,9, -999.00,9,    0.21,2,    0.59,3,  10.5709, -999.00
096U20160426,       P15S,      38,          1,         34,       2034,2,20160519,       1313,   -48.5082,  -170.0036,       5306,    60.2,  10.2960,  34.4830,2,  34.4847,2,    269.6,2,   270.5,2,    1.54,2,   10.15,2,    0.27,2,    0.82,2,-999.000,9,-999.000,9,-999.000,9,  -999.0,9,  -999.0,9,-999.0000,9,  -999.00,-999.0000,9, -999.00,9, -999.00,9,  -999.0,9,  -999.0, -999.00,9, -999.00,9,    0.22,2,    0.58,3,  10.2890, -999.00
096U20160426,       P15S,      38,          1,         33,       2033,2,20160519,       1313,   -48.5082,  -170.0036,       5306,    84.0,  10.2280,  34.4740,2,  34.4918,2,    269.3,2,   267.7,2,    1.74,2,   10.84,2,    0.24,2,    0.86,2,-999.000,9,-999.000,9,-999.000,9,  -999.0,9,  -999.0,9,-999.0000,9,  -999.00,-999.0000,9, -999.00,9, -999.00,9,  -999.0,9,  -999.0, -999.00,9, -999.00,9, -999.00,9, -999.00,9,  10.2182, -999.00
096U20160426,       P15S,      38,          1,         32,       2032,2,20160519,       1313,   -48.5082,  -170.0036,       5306,   113.0,   9.8350,  34.6040,2,  34.6273,2,    254.6,2,   252.9,2,    2.77,2,   13.12,2,    0.04,2,    0.97,2,-999.000,9,-999.000,9,-999.000,9,  2118.2,2,  2290.0,2,-999.0000,9,  -999.00,-999.0000,9, -999.00,9, -999.00,9,  -999.0,9,  -999.0, -999.00,9, -999.00,9,    0.02,2,    0.11,3,   9.8221, -999.00
096U20160426,       P15S,      38,          1,         31,       2031,2,20160519,       1313,   -48.5082,  -170.0036,       5306,   164.9,   9.8140,  34.7070,2,  34.7065,2,    245.9,2,   246.4,2,    3.18,2,   13.25,2,    0.01,4,    0.97,2,-999.000,9,-999.000,9,-999.000,9,  -999.0,9,  -999.0,9,-999.0000,9,  -999.00,-999.0000,9, -999.00,9, -999.00,9,  -999.0,9,  -999.0, -999.00,9, -999.00,9,    0.06,2,   -0.01,3,   9.7952, -999.00
096U20160426,       P15S,      38,          1,         30,       2030,2,20160519,       1313,   -48.5082,  -170.0036,       5306,   214.6,   9.3560,  34.6460,2,  34.6480,2,    247.9,2,   248.4,2,    3.58,2,   14.52,2,    0.01,4,    1.04,2,-999.000,9,-999.000,9,-999.000,9,  -999.0,9,  -999.0,9,-999.0000,9,  -999.00,-999.0000,9, -999.00,9, -999.00,9,  -999.0,9,  -999.0, -999.00,9, -999.00,9, -999.00,9, -999.00,9,   9.3322, -999.00
096U20160426,       P15S,      38,          1,         29,       2029,2,20160519,       1313,   -48.5082,  -170.0036,       5306,   263.5,   8.9160,  34.5890,2,  34.5865,2,    250.5,2,   251.3,2,    3.98,2,   15.75,2,    0.01,4,    1.12,2,-999.000,9,-999.000,9,-999.000,9,  2131.3,2,  2287.5,2,-999.0000,9,  -999.00,-999.0000,9, -999.00,9, -999.00,9,  -999.0,9,  -999.0, -999.00,9, -999.00,9, -999.00,9, -999.00,9,   8.8876, -999.00
096U20160426,       P15S,      38,          1,         28,       2028,2,20160519,       1313,   -48.5082,  -170.0036,       5306,   316.8,   8.3690,  34.5120,2,  34.5088,2,    248.8,2,   249.8,2,    4.82,2,   17.71,2,    0.01,4,    1.24,2,-999.000,9,-999.000,9,-999.000,9,  -999.0,9,  -999.0,9,-999.0000,9,  -999.00,-999.0000,9, -999.00,9, -999.00,9,  -999.0,9,  -999.0, -999.00,9, -999.00,9, -999.00,9, -999.00,9,   8.3360, -999.00
096U20160426,       P15S,      38,          1,         27,       2027,2,20160519,       1313,   -48.5082,  -170.0036,       5306,   364.5,   8.0780,  34.4740,2,  34.4744,2,    249.8,2,   250.5,2,    5.25,2,   18.51,2,    0.01,4,    1.29,2,-999.000,9,-999.000,9,-999.000,9,  -999.0,9,  -999.0,9,-999.0000,9,  -999.00,-999.0000,9, -999.00,9, -999.00,9,  -999.0,9,  -999.0, -999.00,9, -999.00,9, -999.00,9, -999.00,9,   8.0408, -999.00
096U20160426,       P15S,      38,          1,         26,       2026,2,20160519,       1313,   -48.5082,  -170.0036,       5306,   435.4,   7.6680,  34.4230,2,  34.4231,2,    255.9,2,   256.8,2,    5.68,2,   19.22,2,    0.01,4,    1.34,2,-999.000,9,-999.000,9,-999.000,9,  2136.1,2,  2283.6,2,-999.0000,9,  -999.00,-999.0000,9, -999.00,9, -999.00,9,  -999.0,9,  -999.0, -999.00,9, -999.00,9, -999.00,9, -999.00,9,   7.6247, -999.00
096U20160426,       P15S,      38,          1,         25,       2025,2,20160519,       1313,   -48.5082,  -170.0036,       5306,   534.4,   7.4180,  34.4080,2,  34.4019,2,    255.3,2,   259.1,2,    6.46,2,   19.80,2,    0.01,4,    1.38,2,-999.000,9,-999.000,9,-999.000,9,  -999.0,9,  -999.0,9,-999.0000,9,  -999.00,-999.0000,9, -999.00,9, -999.00,9,  -999.0,9,  -999.0, -999.00,9, -999.00,9, -999.00,9, -999.00,9,   7.3655, -999.00
096U20160426,       P15S,      38,          1,         24,       2024,2,20160519,       1313,   -48.5082,  -170.0036,       5306,   635.8,   7.1350,  34.3890,2,  34.3832,2,    255.7,2,   258.5,2,    7.46,2,   20.55,2,    0.00,4,    1.42,2,-999.000,9,-999.000,9,-999.000,9,  -999.0,9,  -999.0,9,-999.0000,9,  -999.00,-999.0000,9, -999.00,9, -999.00,9,  -999.0,9,  -999.0, -999.00,9, -999.00,9, -999.00,9, -999.00,9,   7.0735, -999.00
096U20160426,       P15S,      38,          1,         23,       2023,2,20160519,       1313,   -48.5082,  -170.0036,       5306,   736.9,   6.6960,  34.3530,2,  34.3489,2,    242.3,2,   247.7,2,    9.88,2,   22.59,2,    0.00,4,    1.55,2,-999.000,9,-999.000,9,-999.000,9,  2148.3,2,  2282.8,6,-999.0000,9,  -999.00,-999.0000,9, -999.00,9, -999.00,9,  -999.0,9,  -999.0, -999.00,9, -999.00,9, -999.00,9, -999.00,9,   6.6267, -999.00
096U20160426,       P15S,      38,          1,         22,       2022,2,20160519,       1313,   -48.5082,  -170.0036,       5306,   836.2,   6.1360,  34.3220,2,  34.3205,2,    233.6,2,   235.5,2,   14.25,2,   24.91,2,    0.00,4,    1.70,2,-999.000,9,-999.000,9,-999.000,9,  -999.0,9,  -999.0,9,-999.0000,9,  -999.00,-999.0000,9, -999.00,9, -999.00,9,  -999.0,9,  -999.0, -999.00,9, -999.00,9, -999.00,9, -999.00,9,   6.0604, -999.00
096U20160426,       P15S,      38,          1,         21,       2021,2,20160519,       1313,   -48.5082,  -170.0036,       5306,   936.5,   5.8850,  34.3610,2,  34.3608,2,    212.4,2,   213.5,2,   19.79,2,   27.19,2,    0.00,4,    1.85,2,-999.000,9,-999.000,9,-999.000,9,  -999.0,9,  -999.0,9,-999.0000,9,  -999.00,-999.0000,9, -999.00,9, -999.00,9,  -999.0,9,  -999.0, -999.00,9, -999.00,9, -999.00,9, -999.00,9,   5.8013, -999.00
096U20160426,       P15S,      38,          1,         20,       2020,2,20160519,       1313,   -48.5082,  -170.0036,       5306,  1035.7,   5.2760,  34.3440,2,  34.3436,2,    207.9,2,   209.5,2,   24.86,2,   28.77,2,    0.00,4,    1.96,2,-999.000,9,-999.000,9,-999.000,9,  -999.0,9,  -999.0,9,-999.0000,9,  -999.00,-999.0000,9, -999.00,9, -999.00,9,  -999.0,9,  -999.0, -999.00,9, -999.00,9, -999.00,9, -999.00,9,   5.1875, -999.00
096U20160426,       P15S,      38,          1,         19,       2019,2,20160519,       1313,   -48.5082,  -170.0036,       5306,  1136.3,   4.6880,  34.3600,2,  34.3592,2,    199.5,2,   199.8,2,   33.64,2,   30.55,2,    0.00,4,    2.09,2,-999.000,9,-999.000,9,-999.000,9,  2197.3,2,  2300.5,2,-999.0000,9,  -999.00,-999.0000,9, -999.00,9, -999.00,9,  -999.0,9,  -999.0, -999.00,9, -999.00,9, -999.00,9, -999.00,9,   4.5952, -999.00
096U20160426,       P15S,      38,          1,         18,       2018,2,20160519,       1313,   -48.5082,  -170.0036,       5306,  1234.9,   4.0340,  34.3450,2,  34.3457,2,    199.6,2,   200.2,2,   38.83,2,   31.78,2,    0.00,4,    2.18,2,-999.000,9,-999.000,9,-999.000,9,  -999.0,9,  -999.0,9,-999.0000,9,  -999.00,-999.0000,9, -999.00,9, -999.00,9,  -999.0,9,  -999.0, -999.00,9, -999.00,9, -999.00,9, -999.00,9,   3.9384, -999.00
096U20160426,       P15S,      38,          1,         17,       2017,2,20160519,       1313,   -48.5082,  -170.0036,       5306,  1335.8,   3.6920,  34.3620,2,  34.3620,2,    195.1,2,   195.9,2,   44.31,2,   32.59,2,    0.00,4,    2.24,2,-999.000,9,-999.000,9,-999.000,9,  -999.0,9,  -999.0,9,-999.0000,9,  -999.00,-999.0000,9, -999.00,9, -999.00,9,  -999.0,9,  -999.0, -999.00,9, -999.00,9, -999.00,9, -999.00,9,   3.5910, -999.00
096U20160426,       P15S,      38,          1,         16,       2016,2,20160519,       1313,   -48.5082,  -170.0036,       5306,  1466.3,   3.3420,  34.4130,2,  34.4127,2,    185.5,2,   186.0,2,   53.74,2,   33.49,2,    0.00,4,    2.30,2,-999.000,9,-999.000,9,-999.000,9,  2229.5,2,  2316.6,2,-999.0000,9,  -999.00,-999.0000,9, -999.00,9, -999.00,9,  -999.0,9,  -999.0, -999.00,9, -999.00,9, -999.00,9, -999.00,9,   3.2335, -999.00
096U20160426,       P15S,      38,          1,         15,       2015,2,20160519,       1313,   -48.5082,  -170.0036,       5306,  1666.9,   2.9630,  34.4900,2,  34.4923,2,    175.3,2,   175.3,2,   66.35,2,   34.16,2,    0.00,4,    2.36,2,-999.000,9,-999.000,9,-999.000,9,  -999.0,9,  -999.0,9,-999.0000,9,  -999.00,-999.0000,9, -999.00,9, -999.00,9,  -999.0,9,  -999.0, -999.00,9, -999.00,9, -999.00,9, -999.00,9,   2.8417, -999.00
096U20160426,       P15S,      38,          1,         14,       2014,2,20160519,       1313,   -48.5082,  -170.0036,       5306,  1864.0,   2.6570,  34.5690,2,  34.5687,2,    170.6,2,   170.8,2,   75.18,2,   34.20,2,    0.00,4,    2.36,2,-999.000,9,-999.000,9,-999.000,9,  -999.0,9,  -999.0,9,-999.0000,9,  -999.00,-999.0000,9, -999.00,9, -999.00,9,  -999.0,9,  -999.0, -999.00,9, -999.00,9, -999.00,9, -999.00,9,   2.5227, -999.00
096U20160426,       P15S,      38,          1,         13,       2013,2,20160519,       1313,   -48.5082,  -170.0036,       5306,  2083.6,   2.4690,  34.6300,2,  34.6293,2,    170.6,2,   170.8,2,   81.34,2,   33.63,2,    0.00,4,    2.33,2,-999.000,9,-999.000,9,-999.000,9,  -999.0,9,  -999.0,9,-999.0000,9,  -999.00,-999.0000,9, -999.00,9, -999.00,9,  -999.0,9,  -999.0, -999.00,9, -999.00,9, -999.00,9, -999.00,9,   2.3181, -999.00
096U20160426,       P15S,      38,          1,         12,       2012,2,20160519,       1313,   -48.5082,  -170.0036,       5306,  2335.2,   2.2880,  34.6800,2,  34.6792,2,    174.3,2,   175.1,2,   86.25,2,   32.86,2,    0.00,4,    2.28,2,-999.000,9,-999.000,9,-999.000,9,  -999.0,9,  -999.0,9,-999.0000,9,  -999.00,-999.0000,9, -999.00,9, -999.00,9,  -999.0,9,  -999.0, -999.00,9, -999.00,9, -999.00,9, -999.00,9,   2.1174, -999.00
096U20160426,       P15S,      38,          1,         11,       2011,2,20160519,       1313,   -48.5082,  -170.0036,       5306,  2584.8,   2.1480,  34.7140,2,  34.7132,2,    182.0,2,  -999.0,9,   86.46,2,   31.92,2,    0.00,4,    2.20,2,-999.000,9,-999.000,9,-999.000,9,  -999.0,9,  -999.0,9,-999.0000,9,  -999.00,-999.0000,9, -999.00,9, -999.00,9,  -999.0,9,  -999.0, -999.00,9, -999.00,9, -999.00,9, -999.00,9,   1.9568, -999.00
096U20160426,       P15S,      38,          1,         10,       2010,2,20160519,       1313,   -48.5082,  -170.0036,       5306,  2834.2,   1.9840,  34.7320,2,  34.7317,2,    188.1,2,   189.7,2,   89.49,2,   31.37,2,    0.00,4,    2.16,2,-999.000,9,-999.000,9,-999.000,9,  -999.0,9,  -999.0,9,-999.0000,9,  -999.00,-999.0000,9, -999.00,9, -999.00,9,  -999.0,9,  -999.0, -999.00,9, -999.00,9, -999.00,9, -999.00,9,   1.7724, -999.00
096U20160426,       P15S,      38,          1,          9,       2009,2,20160519,       1313,   -48.5082,  -170.0036,       5306,  3101.5,   1.7860,  34.7370,2,  34.7339,2,    192.1,2,   194.0,2,   95.04,2,   31.31,2,    0.00,4,    2.16,2,-999.000,9,-999.000,9,-999.000,9,  2255.1,6,  2354.5,6,-999.0000,9,  -999.00,-999.0000,9, -999.00,9, -999.00,9,  -999.0,9,  -999.0, -999.00,9, -999.00,9, -999.00,9, -999.00,9,   1.5527, -999.00
096U20160426,       P15S,      38,          1,          8,       2008,2,20160519,       1313,   -48.5082,  -170.0036,       5306,  3400.5,   1.5520,  34.7330,2,  34.7317,2,    195.9,2,   197.7,2,  101.94,2,   31.47,2,    0.00,4,    2.17,2,-999.000,9,-999.000,9,-999.000,9,  -999.0,9,  -999.0,9,-999.0000,9,  -999.00,-999.0000,9, -999.00,9, -999.00,9,  -999.0,9,  -999.0, -999.00,9, -999.00,9, -999.00,9, -999.00,9,   1.2943, -999.00
096U20160426,       P15S,      38,          1,          7,       2007,2,20160519,       1313,   -48.5082,  -170.0036,       5306,  3700.4,   1.3400,  34.7250,2,  34.7258,2,    199.4,2,   201.4,2,  108.30,2,   31.71,2,    0.00,4,    2.19,2,-999.000,9,-999.000,9,-999.000,9,  -999.0,9,  -999.0,9,-999.0000,9,  -999.00,-999.0000,9, -999.00,9, -999.00,9,  -999.0,9,  -999.0, -999.00,9, -999.00,9, -999.00,9, -999.00,9,   1.0570, -999.00
096U20160426,       P15S,      38,          1,          6,       2006,2,20160519,       1313,   -48.5082,  -170.0036,       5306,  4035.6,   1.1560,  34.7170,2,  34.7169,2,    203.0,2,   204.4,2,  114.25,2,   32.00,2,    0.00,4,    2.21,2,-999.000,9,-999.000,9,-999.000,9,  -999.0,9,  -999.0,9,-999.0000,9,  -999.00,-999.0000,9, -999.00,9, -999.00,9,  -999.0,9,  -999.0, -999.00,9, -999.00,9, -999.00,9, -999.00,9,   0.8427, -999.00
096U20160426,       P15S,      38,          1,          5,       2005,2,20160519,       1313,   -48.5082,  -170.0036,       5306,  4434.8,   1.0330,  34.7100,2,  34.7096,2,    205.8,2,   206.9,2,  118.56,2,   32.17,2,    0.00,4,    2.23,2,-999.000,9,-999.000,9,-999.000,9,  -999.0,9,  -999.0,9,-999.0000,9,  -999.00,-999.0000,9, -999.00,9, -999.00,9,  -999.0,9,  -999.0, -999.00,9, -999.00,9, -999.00,9, -999.00,9,   0.6797, -999.00
096U20160426,       P15S,      38,          1,          4,       2004,2,20160519,       1313,   -48.5082,  -170.0036,       5306,  4834.3,   1.0020,  34.7060,2,  34.7069,2,    207.4,2,   208.1,2,  120.88,2,   32.31,2,    0.00,4,    2.24,2,-999.000,9,-999.000,9,-999.000,9,  2261.7,2,  2362.9,2,-999.0000,9,  -999.00,-999.0000,9, -999.00,9, -999.00,9,  -999.0,9,  -999.0, -999.00,9, -999.00,9, -999.00,9, -999.00,9,   0.6040, -999.00
096U20160426,       P15S,      38,          1,          3,       2003,2,20160519,       1313,   -48.5082,  -170.0036,       5306,  5190.9,   1.0110,  34.7040,2,  34.7056,2,    208.5,2,   208.3,2,  121.92,2,   32.32,2,    0.00,4,    2.24,2,-999.000,9,-999.000,9,-999.000,9,  -999.0,9,  -999.0,9,-999.0000,9,  -999.00,-999.0000,9, -999.00,9, -999.00,9,  -999.0,9,  -999.0, -999.00,9, -999.00,9, -999.00,9, -999.00,9,   0.5702, -999.00
096U20160426,       P15S,      38,          1,          2,       2002,2,20160519,       1313,   -48.5082,  -170.0036,       5306,  5290.2,   1.0210,  34.7040,2,  34.7044,2,    208.6,2,   208.7,2,  121.90,2,   32.35,2,    0.00,4,    2.24,2,-999.000,9,-999.000,9,-999.000,9,  -999.0,9,  -999.0,9,-999.0000,9,  -999.00,-999.0000,9, -999.00,9, -999.00,9,  -999.0,9,  -999.0, -999.00,9, -999.00,9, -999.00,9, -999.00,9,   0.5677, -999.00
096U20160426,       P15S,      38,          1,          1,       2001,2,20160519,       1313,   -48.5082,  -170.0036,       5306,  5390.5,   1.0330,  34.7040,2,  34.7048,2,    209.1,2,   208.5,2,  122.10,2,   32.35,2,    0.00,4,    2.24,2,-999.000,9,-999.000,9,-999.000,9,  2262.1,2,  2364.2,2,-999.0000,9,  -999.00,-999.0000,9, -999.00,9, -999.00,9,  -999.0,9,  -999.0, -999.00,9, -999.00,9, -999.00,9, -999.00,9,   0.5669, -999.00