BOTTLE,20230413CCHSIOENA
EXPOCODE,SECT_ID,STNNBR,CASTNO,SAMPNO,BTLNBR,BTLNBR_FLAG_W,DATE,TIME,LATITUDE,LONGITUDE,DEPTH,CTDPRS,CTDTMP,CTDSAL,CTDSAL_FLAG_W,SALNTY,SALNTY_FLAG_W,CTDOXY,CTDOXY_FLAG_W,OXYGEN,OXYGEN_FLAG_W,SILCAT,SILCAT_FLAG_W,NITRAT,NITRAT_FLAG_W,NITRIT,NITRIT_FLAG_W,PHSPHT,PHSPHT_FLAG_W,CFC-11,CFC-11_FLAG_W,CFC-12,CFC-12_FLAG_W,SF6,SF6_FLAG_W,TCARBN,TCARBN_FLAG_W,ALKALI,ALKALI_FLAG_W,PH_TOT,PH_TOT_FLAG_W,PH_TMP,HELIUM,HELIUM_FLAG_W,DELHE3,DELHE3_FLAG_W,DELC13,DELC13_FLAG_W,DELC14,DELC14_FLAG_W,C14ERR,POC,POC_FLAG_W,PON,PON_FLAG_W,CHLORA,CHLORA_FLAG_W,PPHYTN,PPHYTN_FLAG_W,THETA,DELHER
,,,,,,,,,,,METERS,DBAR,ITS-90,PSS-78,,PSS-78,,UMOL/KG,,UMOL/KG,,UMOL/KG,,UMOL/KG,,UMOL/KG,,UMOL/KG,,PMOL/KG,,PMOL/KG,,FMOL/KG,,UMOL/KG,,UMOL/KG,,,,DEG C,NMOL/KG,,PERCNT,,/MILLE,,/MILLE,,/MILLE,UG/KG,,UG/KG,,UG/KG,,UG/KG,,DEG C,PERCNT
096U20160426,       P15S,     136,          1,         36,       2036,2,20160623,       0520,    -2.0011,  -168.7501,       3382,     7.8,  29.1260,  35.3170,2,  35.3173,2,    190.2,2,   196.9,2,    1.54,2,    1.25,2,    0.08,2,    0.30,2,   1.436,6,   0.915,6,   1.251,6,  1998.7,2,  2323.0,2,-999.0000,9,  -999.00,-999.0000,9, -999.00,9, -999.00,9,  -999.0,9,  -999.0, -999.00,9, -999.00,9,    0.59,2,   -0.10,3,  29.1241, -999.00
096U20160426,       P15S,     136,          1,         35,       2035,2,20160623,       0520,    -2.0011,  -168.7501,       3382,    46.6,  28.9720,  35.3490,2,  35.3740,2,    190.6,2,   198.0,2,    1.46,2,    1.77,2,    0.17,2,    0.34,2,-999.000,9,-999.000,9,-999.000,9,  -999.0,9,  -999.0,9,-999.0000,9,  -999.00,-999.0000,9, -999.00,9, -999.00,9,  -999.0,9,  -999.0, -999.00,9, -999.00,9,    0.81,2,   -0.03,3,  28.9607, -999.00
096U20160426,       P15S,     136,          1,         34,       2034,2,20160623,       0520,    -2.0011,  -168.7501,       3382,    66.6,  28.7320,  35.4040,2,  35.4013,2,    189.3,2,   196.6,2,    1.63,2,    2.10,2,    0.24,2,    0.37,2,   1.477,2,   0.936,2,    1.24,2,  2013.4,6,  2327.4,6,-999.0000,9,  -999.00,-999.0000,9, -999.00,9, -999.00,9,  -999.0,9,  -999.0, -999.00,9, -999.00,9,    0.88,2,   -0.03,3,  28.7160, -999.00
096U20160426,       P15S,     136,          1,         33,       2033,2,20160623,       0520,    -2.0011,  -168.7501,       3382,    87.1,  28.4930,  35.3730,2,  35.5242,2,    189.2,2,   181.4,2,    1.75,2,    2.65,2,    0.61,2,    0.47,2,   1.494,2,   0.959,2,   1.232,2,  2030.7,2,  2334.7,6,-999.0000,9,  -999.00,-999.0000,9, -999.00,9, -999.00,9,  -999.0,9,  -999.0, -999.00,9, -999.00,9,    0.65,2,    0.17,3,  28.4722, -999.00
096U20160426,       P15S,     136,          1,         32,       2032,2,20160623,       0520,    -2.0011,  -168.7501,       3382,   107.0,  24.4470,  35.8030,2,  35.8085,2,    143.0,2,   141.4,2,    3.11,2,    8.89,2,    0.33,2,    0.85,2,   1.721,2,   1.096,2,   1.223,2,  2114.6,2,  2355.9,2,-999.0000,9,  -999.00,-999.0000,9, -999.00,9, -999.00,9,  -999.0,9,  -999.0, -999.00,9, -999.00,9,    0.38,2,    0.24,3,  24.4241, -999.00
096U20160426,       P15S,     136,          1,         31,       2031,2,20160623,       0520,    -2.0011,  -168.7501,       3382,   151.2,  16.5370,  35.3070,2,  35.2175,2,    100.0,2,    98.6,2,   10.84,2,   19.29,2,    0.01,4,    1.48,2,   1.695,2,   1.010,2,    0.78,2,  2180.8,2,  2321.2,2,-999.0000,9,  -999.00,-999.0000,9, -999.00,9, -999.00,9,  -999.0,9,  -999.0, -999.00,9, -999.00,9, -999.00,9, -999.00,9,  16.5125, -999.00
096U20160426,       P15S,     136,          1,         30,       2030,2,20160623,       0520,    -2.0011,  -168.7501,       3382,   176.6,  12.9540,  34.9640,2,  34.9130,2,    121.1,2,   118.8,2,   16.01,2,   21.44,2,    0.00,4,    1.54,2,   1.605,2,   0.913,2,   0.573,2,  2178.9,2,  2306.1,2,-999.0000,9,  -999.00,-999.0000,9, -999.00,9, -999.00,9,  -999.0,9,  -999.0, -999.00,9, -999.00,9, -999.00,9, -999.00,9,  12.9298, -999.00
096U20160426,       P15S,     136,          1,         29,       2029,2,20160623,       0520,    -2.0011,  -168.7501,       3382,   226.6,  11.6640,  34.8290,2,  34.8285,2,     68.3,2,    68.6,2,   23.20,2,   27.96,2,    0.00,4,    1.95,2,   1.178,2,   0.662,2,   0.329,2,  2214.1,2,  2302.7,2,-999.0000,9,  -999.00,-999.0000,9, -999.00,9, -999.00,9,  -999.0,9,  -999.0, -999.00,9, -999.00,9, -999.00,9, -999.00,9,  11.6350, -999.00
096U20160426,       P15S,     136,          1,         28,       2028,2,20160623,       0520,    -2.0011,  -168.7501,       3382,   266.8,  11.4870,  34.8240,2,  34.8220,2,     76.1,2,    72.6,2,   23.04,2,   27.90,2,    0.00,4,    1.95,2,   1.170,2,   0.650,2,    0.29,2,  2214.6,2,  2303.1,2,-999.0000,9,  -999.00,-999.0000,9, -999.00,9, -999.00,9,  -999.0,9,  -999.0, -999.00,9, -999.00,9, -999.00,9, -999.00,9,  11.4531, -999.00
096U20160426,       P15S,     136,          1,         27,       2027,2,20160623,       0520,    -2.0011,  -168.7501,       3382,   316.7,  11.1260,  34.8010,2,  34.7980,2,     81.7,2,    79.3,2,   23.29,2,   27.92,2,    0.00,4,    1.94,2,   1.138,2,   0.635,2,   0.347,2,  2212.6,2,  2301.6,2,-999.0000,9,  -999.00,-999.0000,9, -999.00,9, -999.00,9,  -999.0,9,  -999.0, -999.00,9, -999.00,9, -999.00,9, -999.00,9,  11.0865, -999.00
096U20160426,       P15S,     136,          1,         26,       2026,2,20160623,       0520,    -2.0011,  -168.7501,       3382,   367.0,  10.6500,  34.7710,2,  34.7681,2,     83.6,2,    82.4,2,   24.08,2,   28.58,2,    0.00,4,    1.98,2,   1.068,2,   0.585,2,    0.25,2,  -999.0,9,  -999.0,9,-999.0000,9,  -999.00,-999.0000,9, -999.00,9, -999.00,9,  -999.0,9,  -999.0, -999.00,9, -999.00,9, -999.00,9, -999.00,9,  10.6054, -999.00
096U20160426,       P15S,     136,          1,         25,       2025,2,20160623,       0520,    -2.0011,  -168.7501,       3382,   416.8,  10.3300,  34.7530,2,  34.7354,2,     81.6,2,    78.5,2,   25.78,2,   30.08,2,    0.00,4,    2.09,2,   0.879,2,   0.482,2,   0.164,2,  2219.1,2,  2301.8,2,-999.0000,9,  -999.00,-999.0000,9, -999.00,9, -999.00,9,  -999.0,9,  -999.0, -999.00,9, -999.00,9, -999.00,9, -999.00,9,  10.2803, -999.00
096U20160426,       P15S,     136,          1,         24,       2024,2,20160623,       0520,    -2.0011,  -168.7501,       3382,   466.0,   8.9810,  34.6760,2,  34.6638,2,     55.0,2,    65.6,2,   31.62,2,   33.89,2,    0.00,4,    2.34,2,   0.522,2,   0.283,2,   0.112,2,  -999.0,9,  -999.0,9,-999.0000,9,  -999.00,-999.0000,9, -999.00,9, -999.00,9,  -999.0,9,  -999.0, -999.00,9, -999.00,9, -999.00,9, -999.00,9,   8.9299, -999.00
096U20160426,       P15S,     136,          1,         23,       2023,2,20160623,       0520,    -2.0011,  -168.7501,       3382,   522.2,   7.7070,  34.6040,2,  34.6012,2,     70.7,2,    65.8,2,   38.77,2,   36.42,2,    0.00,4,    2.51,2,   0.299,2,   0.163,2,    0.06,2,  2257.3,2,  2306.0,2,-999.0000,9,  -999.00,-999.0000,9, -999.00,9, -999.00,9,  -999.0,9,  -999.0, -999.00,9, -999.00,9, -999.00,9, -999.00,9,   7.6545, -999.00
096U20160426,       P15S,     136,          1,         22,       2022,2,20160623,       0520,    -2.0011,  -168.7501,       3382,   637.2,   6.4370,  34.5580,2,  34.5568,2,     74.6,2,    70.6,2,   53.01,2,   38.05,2,    0.00,4,    2.66,2,   0.119,2,   0.068,2,       0,2,  2269.8,2,  2318.9,2,-999.0000,9,  -999.00,-999.0000,9, -999.00,9, -999.00,9,  -999.0,9,  -999.0, -999.00,9, -999.00,9, -999.00,9, -999.00,9,   6.3785, -999.00
096U20160426,       P15S,     136,          1,         21,       2021,2,20160623,       0520,    -2.0011,  -168.7501,       3382,   736.2,   5.9530,  34.5450,2,  34.5450,2,     86.2,2,    81.6,2,   57.71,2,   37.76,2,    0.00,4,    2.63,2,   0.112,2,   0.062,2,   0.026,2,  2270.3,6,  2324.3,6,-999.0000,9,  -999.00,-999.0000,9, -999.00,9, -999.00,9,  -999.0,9,  -999.0, -999.00,9, -999.00,9, -999.00,9, -999.00,9,   5.8877, -999.00
096U20160426,       P15S,     136,          1,         20,       2020,2,20160623,       0520,    -2.0011,  -168.7501,       3382,   846.9,   5.0580,  34.5400,2,  34.5394,2,     99.1,2,    95.9,2,   70.16,2,   37.41,2,    0.00,4,    2.62,2,   0.078,2,   0.045,2,       0,2,  2276.7,2,  2338.3,2,-999.0000,9,  -999.00,-999.0000,9, -999.00,9, -999.00,9,  -999.0,9,  -999.0, -999.00,9, -999.00,9, -999.00,9, -999.00,9,   4.9879, -999.00
096U20160426,       P15S,     136,          1,         19,       2019,2,20160623,       0520,    -2.0011,  -168.7501,       3382,   936.5,   4.6240,  34.5490,2,  34.5487,2,     96.2,2,    92.6,2,   79.57,2,   38.13,2,    0.00,4,    2.69,2,   0.039,2,   0.023,2,       0,2,  2287.7,2,  2347.9,6,-999.0000,9,  -999.00,-999.0000,9, -999.00,9, -999.00,9,  -999.0,9,  -999.0, -999.00,9, -999.00,9, -999.00,9, -999.00,9,   4.5490, -999.00
096U20160426,       P15S,     136,          1,         18,       2018,2,20160623,       0520,    -2.0011,  -168.7501,       3382,  1036.0,   4.2890,  34.5560,2,  34.5561,2,     96.1,2,    92.7,2,   86.42,2,   38.55,2,    0.00,4,    2.72,2,   0.017,2,   0.012,2,       0,2,  2296.8,2,  2355.8,2,-999.0000,9,  -999.00,-999.0000,9, -999.00,9, -999.00,9,  -999.0,9,  -999.0, -999.00,9, -999.00,9, -999.00,9, -999.00,9,   4.2079, -999.00
096U20160426,       P15S,     136,          1,         17,       2017,2,20160623,       0520,    -2.0011,  -168.7501,       3382,  1136.6,   3.7840,  34.5710,2,  34.5695,2,     98.6,2,    94.9,2,   97.49,2,   38.77,2,    0.00,4,    2.73,2,-999.000,9,-999.000,9,-999.000,9,  -999.0,9,  -999.0,9,-999.0000,9,  -999.00,-999.0000,9, -999.00,9, -999.00,9,  -999.0,9,  -999.0, -999.00,9, -999.00,9, -999.00,9, -999.00,9,   3.6986, -999.00
096U20160426,       P15S,     136,          1,         16,       2016,2,20160623,       0520,    -2.0011,  -168.7501,       3382,  1236.2,   3.4710,  34.5830,2,  34.5833,2,     99.8,2,    96.8,2,  104.95,2,   38.85,2,    0.00,4,    2.74,2,   0.006,2,   0.002,2,       0,2,  2313.6,2,  2376.2,2,-999.0000,9,  -999.00,-999.0000,9, -999.00,9, -999.00,9,  -999.0,9,  -999.0, -999.00,9, -999.00,9, -999.00,9, -999.00,9,   3.3801, -999.00
096U20160426,       P15S,     136,          1,         15,       2015,2,20160623,       0520,    -2.0011,  -168.7501,       3382,  1336.9,   3.3230,  34.5910,2,  34.5914,2,     96.9,2,  -999.0,9,  110.46,2,   39.15,2,    0.00,4,    2.77,2,-999.000,9,-999.000,9,-999.000,9,  -999.0,9,  -999.0,9,-999.0000,9,  -999.00,-999.0000,9, -999.00,9, -999.00,9,  -999.0,9,  -999.0, -999.00,9, -999.00,9, -999.00,9, -999.00,9,   3.2252, -999.00
096U20160426,       P15S,     136,          1,         14,       2014,2,20160623,       0520,    -2.0011,  -168.7501,       3382,  1436.1,   3.1580,  34.5940,2,  34.5954,2,    105.1,3,  -999.0,9,  111.03,2,   38.53,2,    0.00,4,    2.71,2,-999.000,9,-999.000,9,-999.000,9,  -999.0,9,  -999.0,9,-999.0000,9,  -999.00,-999.0000,9, -999.00,9, -999.00,9,  -999.0,9,  -999.0, -999.00,9, -999.00,9, -999.00,9, -999.00,9,   3.0537, -999.00
096U20160426,       P15S,     136,          1,         13,       2013,2,20160623,       0520,    -2.0011,  -168.7501,       3382,  1535.7,   2.8620,  34.6070,2,  34.6078,2,    108.3,2,   105.1,2,  118.63,2,   38.48,2,    0.00,4,    2.71,2,   0.001,6,   0.001,6,       0,6,  2324.7,2,  2390.7,2,-999.0000,9,  -999.00,-999.0000,9, -999.00,9, -999.00,9,  -999.0,9,  -999.0, -999.00,9, -999.00,9, -999.00,9, -999.00,9,   2.7527, -999.00
096U20160426,       P15S,     136,          1,         12,       2012,2,20160623,       0520,    -2.0011,  -168.7501,       3382,  1635.6,   2.6670,  34.6180,2,  34.6180,2,    108.6,2,   105.1,2,  124.35,2,   38.57,2,    0.00,4,    2.71,2,-999.000,9,-999.000,9,-999.000,9,  -999.0,9,  -999.0,9,-999.0000,9,  -999.00,-999.0000,9, -999.00,9, -999.00,9,  -999.0,9,  -999.0, -999.00,9, -999.00,9, -999.00,9, -999.00,9,   2.5517, -999.00
096U20160426,       P15S,     136,          1,         11,       2011,2,20160623,       0520,    -2.0011,  -168.7501,       3382,  1736.6,   2.5500,  34.6240,2,  34.6240,2,    109.7,2,   106.4,2,  127.52,2,   38.60,2,    0.00,4,    2.70,2,  -0.001,2,   0.000,2,       0,2,  2334.4,2,  2401.2,2,-999.0000,9,  -999.00,-999.0000,9, -999.00,9, -999.00,9,  -999.0,9,  -999.0, -999.00,9, -999.00,9, -999.00,9, -999.00,9,   2.4278, -999.00
096U20160426,       P15S,     136,          1,         10,       2010,2,20160623,       0520,    -2.0011,  -168.7501,       3382,  1866.2,   2.4280,  34.6310,2,  34.6314,2,    112.3,2,   109.2,2,  130.36,2,   38.38,2,    0.00,4,    2.69,2,-999.000,9,-999.000,9,-999.000,9,  2335.0,2,  2405.7,2,-999.0000,9,  -999.00,-999.0000,9, -999.00,9, -999.00,9,  -999.0,9,  -999.0, -999.00,9, -999.00,9, -999.00,9, -999.00,9,   2.2965, -999.00
096U20160426,       P15S,     136,          1,          9,       2009,2,20160623,       0520,    -2.0011,  -168.7501,       3382,  2066.0,   2.2150,  34.6430,2,  34.6445,2,    116.0,2,   113.0,2,  135.82,2,   38.22,2,    0.00,4,    2.66,2,   0.001,2,   0.000,2,       0,2,  -999.0,9,  -999.0,9,-999.0000,9,  -999.00,-999.0000,9, -999.00,9, -999.00,9,  -999.0,9,  -999.0, -999.00,9, -999.00,9, -999.00,9, -999.00,9,   2.0696, -999.00
096U20160426,       P15S,     136,          1,          8,       2008,2,20160623,       0520,    -2.0011,  -168.7501,       3382,  2265.8,   2.0520,  34.6510,2,  34.6514,2,    122.7,2,   120.1,2,  135.67,2,   38.15,2,    0.00,4,    2.65,2,-999.000,9,-999.000,9,-999.000,9,  -999.0,9,  -999.0,9,-999.0000,9,  -999.00,-999.0000,9, -999.00,9, -999.00,9,  -999.0,9,  -999.0, -999.00,9, -999.00,9, -999.00,9, -999.00,9,   1.8918, -999.00
096U20160426,       P15S,     136,          1,          7,       2007,2,20160623,       0520,    -2.0011,  -168.7501,       3382,  2465.6,   1.9240,  34.6580,2,  34.6581,2,    127.3,2,   125.4,2,  140.66,2,   37.17,2,    0.00,4,    2.57,2,  -0.001,2,   0.000,2,   0.027,2,  2336.6,2,  2415.5,2,-999.0000,9,  -999.00,-999.0000,9, -999.00,9, -999.00,9,  -999.0,9,  -999.0, -999.00,9, -999.00,9, -999.00,9, -999.00,9,   1.7482, -999.00
096U20160426,       P15S,     136,          1,          6,       2006,2,20160623,       0520,    -2.0011,  -168.7501,       3382,  2665.1,   1.8350,  34.6630,2,  34.6629,2,    131.2,2,   129.6,2,  140.78,2,   37.16,2,    0.00,4,    2.57,2,-999.000,9,-999.000,9,-999.000,9,  -999.0,9,  -999.0,9,-999.0000,9,  -999.00,-999.0000,9, -999.00,9, -999.00,9,  -999.0,9,  -999.0, -999.00,9, -999.00,9, -999.00,9, -999.00,9,   1.6426, -999.00
096U20160426,       P15S,     136,          1,          5,       2005,2,20160623,       0520,    -2.0011,  -168.7501,       3382,  2865.9,   1.7420,  34.6670,2,  34.6672,2,    136.1,2,   134.4,2,  141.86,2,   36.85,2,    0.00,4,    2.55,2,   0.001,2,   0.000,2,       0,2,  2334.5,2,  2417.0,2,-999.0000,9,  -999.00,-999.0000,9, -999.00,9, -999.00,9,  -999.0,9,  -999.0, -999.00,9, -999.00,9, -999.00,9, -999.00,9,   1.5327, -999.00
096U20160426,       P15S,     136,          1,          4,       2004,2,20160623,       0520,    -2.0011,  -168.7501,       3382,  3064.9,   1.6500,  34.6730,2,  34.6728,2,    140.4,2,   139.3,2,  142.52,2,   36.53,2,    0.00,4,    2.52,2,-999.000,9,-999.000,9,-999.000,9,  -999.0,9,  -999.0,9,-999.0000,9,  -999.00,-999.0000,9, -999.00,9, -999.00,9,  -999.0,9,  -999.0, -999.00,9, -999.00,9, -999.00,9, -999.00,9,   1.4236, -999.00
096U20160426,       P15S,     136,          1,          3,       2003,2,20160623,       0520,    -2.0011,  -168.7501,       3382,  3265.1,   1.6010,  34.6770,2,  34.6766,2,    145.0,2,   144.1,2,  141.82,2,   36.22,2,    0.00,4,    2.50,2,   0.001,2,   0.002,2,       0,2,  2329.8,6,  2417.3,6,-999.0000,9,  -999.00,-999.0000,9, -999.00,9, -999.00,9,  -999.0,9,  -999.0, -999.00,9, -999.00,9, -999.00,9, -999.00,9,   1.3560, -999.00
096U20160426,       P15S,     136,          1,          2,       2002,2,20160623,       0520,    -2.0011,  -168.7501,       3382,  3366.2,   1.5480,  34.6810,2,  34.6816,2,    149.9,2,   149.4,2,  140.72,2,   35.86,2,    0.00,4,    2.47,2,-999.000,9,-999.000,9,-999.000,9,  -999.0,9,  -999.0,9,-999.0000,9,  -999.00,-999.0000,9, -999.00,9, -999.00,9,  -999.0,9,  -999.0, -999.00,9, -999.00,9, -999.00,9, -999.00,9,   1.2942, -999.00
096U20160426,       P15S,     136,          1,          1,       2001,2,20160623,       0520,    -2.0011,  -168.7501,       3382,  3451.8,   1.5300,  34.6820,2,  34.6827,2,    152.1,2,   152.6,2,  139.97,2,   35.68,2,    0.00,4,    2.45,2,   0.000,2,   0.000,2,       0,2,  2322.5,2,  2415.1,2,-999.0000,9,  -999.00,-999.0000,9, -999.00,9, -999.00,9,  -999.0,9,  -999.0, -999.00,9, -999.00,9, -999.00,9, -999.00,9,   1.2680, -999.00