BOTTLE,20230413CCHSIOENA
EXPOCODE,SECT_ID,STNNBR,CASTNO,SAMPNO,BTLNBR,BTLNBR_FLAG_W,DATE,TIME,LATITUDE,LONGITUDE,DEPTH,CTDPRS,CTDTMP,CTDSAL,CTDSAL_FLAG_W,SALNTY,SALNTY_FLAG_W,CTDOXY,CTDOXY_FLAG_W,OXYGEN,OXYGEN_FLAG_W,SILCAT,SILCAT_FLAG_W,NITRAT,NITRAT_FLAG_W,NITRIT,NITRIT_FLAG_W,PHSPHT,PHSPHT_FLAG_W,CFC-11,CFC-11_FLAG_W,CFC-12,CFC-12_FLAG_W,SF6,SF6_FLAG_W,TCARBN,TCARBN_FLAG_W,ALKALI,ALKALI_FLAG_W,PH_TOT,PH_TOT_FLAG_W,PH_TMP,HELIUM,HELIUM_FLAG_W,DELHE3,DELHE3_FLAG_W,DELC13,DELC13_FLAG_W,DELC14,DELC14_FLAG_W,C14ERR,POC,POC_FLAG_W,PON,PON_FLAG_W,CHLORA,CHLORA_FLAG_W,PPHYTN,PPHYTN_FLAG_W,THETA,DELHER
,,,,,,,,,,,METERS,DBAR,ITS-90,PSS-78,,PSS-78,,UMOL/KG,,UMOL/KG,,UMOL/KG,,UMOL/KG,,UMOL/KG,,UMOL/KG,,PMOL/KG,,PMOL/KG,,FMOL/KG,,UMOL/KG,,UMOL/KG,,,,DEG C,NMOL/KG,,PERCNT,,/MILLE,,/MILLE,,/MILLE,UG/KG,,UG/KG,,UG/KG,,UG/KG,,DEG C,PERCNT
096U20160426,       P15S,     119,          1,         36,       2036,2,20160618,       1048,   -10.4981,  -169.9985,       4881,     5.7,  29.7660,  34.5540,2,  34.5534,2,    187.9,2,   192.7,2,    0.31,2,   -0.05,4,    0.01,4,    0.15,2,-999.000,9,-999.000,9,-999.000,9,  1927.6,2,  2272.2,2,-999.0000,9,  -999.00,-999.0000,9, -999.00,9, -999.00,9,  -999.0,9,  -999.0, -999.00,9, -999.00,9,    0.11,2,    0.06,3,  29.7646, -999.00
096U20160426,       P15S,     119,          1,         35,       2035,2,20160618,       1048,   -10.4981,  -169.9985,       4881,    19.4,  29.7700,  34.5540,2,  34.5547,2,    188.1,2,   192.7,2,    0.32,2,   -0.05,4,    0.01,4,    0.15,2,-999.000,9,-999.000,9,-999.000,9,  -999.0,9,  -999.0,9,-999.0000,9,  -999.00,-999.0000,9, -999.00,9, -999.00,9,  -999.0,9,  -999.0, -999.00,9, -999.00,9, -999.00,9, -999.00,9,  29.7652, -999.00
096U20160426,       P15S,     119,          1,         34,       2034,2,20160618,       1048,   -10.4981,  -169.9985,       4881,    33.3,  29.7720,  34.5400,2,  34.5754,2,    187.8,2,   192.5,2,    0.30,2,   -0.05,4,    0.01,4,    0.15,2,-999.000,9,-999.000,9,-999.000,9,  1927.1,2,  2273.8,2,-999.0000,9,  -999.00,-999.0000,9, -999.00,9, -999.00,9,  -999.0,9,  -999.0, -999.00,9, -999.00,9,    0.13,2,    0.04,3,  29.7638, -999.00
096U20160426,       P15S,     119,          1,         33,       2033,2,20160618,       1048,   -10.4981,  -169.9985,       4881,    65.5,  29.1020,  35.7400,2,  35.7611,2,    178.7,2,   180.6,2,    0.82,2,    1.85,2,    0.64,2,    0.41,2,-999.000,9,-999.000,9,-999.000,9,  -999.0,9,  -999.0,9,-999.0000,9,  -999.00,-999.0000,9, -999.00,9, -999.00,9,  -999.0,9,  -999.0, -999.00,9, -999.00,9,    0.25,2,    0.12,3,  29.0861, -999.00
096U20160426,       P15S,     119,          1,         32,       2032,2,20160618,       1048,   -10.4981,  -169.9985,       4881,   100.6,  26.3840,  36.1660,2,  36.1771,2,    151.5,2,   152.4,2,    0.83,2,    4.06,2,    0.93,2,    0.59,2,-999.000,9,-999.000,9,-999.000,9,  -999.0,9,  -999.0,9,-999.0000,9,  -999.00,-999.0000,9, -999.00,9, -999.00,9,  -999.0,9,  -999.0, -999.00,9, -999.00,9,    0.37,2,    0.25,3,  26.3612, -999.00
096U20160426,       P15S,     119,          1,         31,       2031,2,20160618,       1048,   -10.4981,  -169.9985,       4881,   130.7,  24.8560,  36.2710,2,  36.2112,2,    148.3,2,   148.2,2,    0.79,2,    5.82,2,    0.41,2,    0.66,2,-999.000,9,-999.000,9,-999.000,9,  2110.1,6,  2381.5,6,-999.0000,9,  -999.00,-999.0000,9, -999.00,9, -999.00,9,  -999.0,9,  -999.0, -999.00,9, -999.00,9,    0.30,2,    0.20,3,  24.8276, -999.00
096U20160426,       P15S,     119,          1,         30,       2030,2,20160618,       1048,   -10.4981,  -169.9985,       4881,   185.2,  21.9790,  35.9960,2,  35.9039,2,    144.8,2,   145.7,2,    1.39,2,    8.03,2,    0.02,4,    0.79,2,-999.000,9,-999.000,9,-999.000,9,  -999.0,9,  -999.0,9,-999.0000,9,  -999.00,-999.0000,9, -999.00,9, -999.00,9,  -999.0,9,  -999.0, -999.00,9, -999.00,9, -999.00,9, -999.00,9,  21.9422, -999.00
096U20160426,       P15S,     119,          1,         29,       2029,2,20160618,       1048,   -10.4981,  -169.9985,       4881,   236.1,  17.6420,  35.4380,2,  35.4160,2,    130.7,2,   130.7,2,    3.98,2,   12.18,2,    0.01,4,    1.10,2,-999.000,9,-999.000,9,-999.000,9,  2150.6,2,  2333.0,6,-999.0000,9,  -999.00,-999.0000,9, -999.00,9, -999.00,9,  -999.0,9,  -999.0, -999.00,9, -999.00,9, -999.00,9, -999.00,9,  17.6019, -999.00
096U20160426,       P15S,     119,          1,         28,       2028,2,20160618,       1048,   -10.4981,  -169.9985,       4881,   286.4,  14.6790,  35.0900,2,  35.0558,2,    103.7,2,    99.8,2,    9.57,2,   19.00,2,    0.01,4,    1.57,2,-999.000,9,-999.000,9,-999.000,9,  -999.0,9,  -999.0,9,-999.0000,9,  -999.00,-999.0000,9, -999.00,9, -999.00,9,  -999.0,9,  -999.0, -999.00,9, -999.00,9, -999.00,9, -999.00,9,  14.6361, -999.00
096U20160426,       P15S,     119,          1,         27,       2027,2,20160618,       1048,   -10.4981,  -169.9985,       4881,   325.3,  12.8760,  34.9260,2,  34.9012,2,     94.0,2,    91.9,2,   13.21,2,   22.51,2,    0.01,4,    1.77,2,-999.000,9,-999.000,9,-999.000,9,  2193.8,2,  2305.4,2,-999.0000,9,  -999.00,-999.0000,9, -999.00,9, -999.00,9,  -999.0,9,  -999.0, -999.00,9, -999.00,9, -999.00,9, -999.00,9,  12.8314, -999.00
096U20160426,       P15S,     119,          1,         26,       2026,2,20160618,       1048,   -10.4981,  -169.9985,       4881,   385.4,  10.8930,  34.7720,2,  34.7504,2,     98.4,2,    96.6,2,   17.87,2,   25.94,2,    0.01,4,    1.94,2,-999.000,9,-999.000,9,-999.000,9,  -999.0,9,  -999.0,9,-999.0000,9,  -999.00,-999.0000,9, -999.00,9, -999.00,9,  -999.0,9,  -999.0, -999.00,9, -999.00,9, -999.00,9, -999.00,9,  10.8455, -999.00
096U20160426,       P15S,     119,          1,         25,       2025,2,20160618,       1048,   -10.4981,  -169.9985,       4881,   466.6,   8.4160,  34.6180,2,  34.6062,2,    114.9,2,   113.6,2,   26.55,2,   30.09,2,    0.01,4,    2.12,2,-999.000,9,-999.000,9,-999.000,9,  -999.0,9,  -999.0,9,-999.0000,9,  -999.00,-999.0000,9, -999.00,9, -999.00,9,  -999.0,9,  -999.0, -999.00,9, -999.00,9, -999.00,9, -999.00,9,   8.3668, -999.00
096U20160426,       P15S,     119,          1,         24,       2024,2,20160618,       1048,   -10.4981,  -169.9985,       4881,   566.3,   6.9730,  34.5460,2,  34.5431,2,    123.9,2,   122.1,2,   34.77,2,   32.12,2,    0.01,4,    2.24,2,-999.000,9,-999.000,9,-999.000,9,  2221.9,2,  2307.9,2,-999.0000,9,  -999.00,-999.0000,9, -999.00,9, -999.00,9,  -999.0,9,  -999.0, -999.00,9, -999.00,9, -999.00,9, -999.00,9,   6.9190, -999.00
096U20160426,       P15S,     119,          1,         23,       2023,2,20160618,       1048,   -10.4981,  -169.9985,       4881,   666.3,   6.0960,  34.5200,2,  34.5175,2,    121.5,2,   119.3,2,   43.90,2,   34.06,2,    0.01,4,    2.38,2,-999.000,9,-999.000,9,-999.000,9,  -999.0,9,  -999.0,9,-999.0000,9,  -999.00,-999.0000,9, -999.00,9, -999.00,9,  -999.0,9,  -999.0, -999.00,9, -999.00,9, -999.00,9, -999.00,9,   6.0365, -999.00
096U20160426,       P15S,     119,          1,         22,       2022,2,20160618,       1048,   -10.4981,  -169.9985,       4881,   766.0,   5.4960,  34.5140,2,  34.5128,2,    120.2,2,   118.6,2,   51.54,2,   35.05,2,    0.01,4,    2.46,2,-999.000,9,-999.000,9,-999.000,9,  -999.0,9,  -999.0,9,-999.0000,9,  -999.00,-999.0000,9, -999.00,9, -999.00,9,  -999.0,9,  -999.0, -999.00,9, -999.00,9, -999.00,9, -999.00,9,   5.4306, -999.00
096U20160426,       P15S,     119,          1,         21,       2021,2,20160618,       1048,   -10.4981,  -169.9985,       4881,   867.4,   5.0140,  34.5170,2,  34.5166,2,    119.0,2,   116.8,2,   59.64,2,   35.85,2,    0.01,4,    2.52,2,-999.000,9,-999.000,9,-999.000,9,  -999.0,9,  -999.0,9,-999.0000,9,  -999.00,-999.0000,9, -999.00,9, -999.00,9,  -999.0,9,  -999.0, -999.00,9, -999.00,9, -999.00,9, -999.00,9,   4.9424, -999.00
096U20160426,       P15S,     119,          1,         20,       2020,2,20160618,       1048,   -10.4981,  -169.9985,       4881,   966.5,   4.6710,  34.5240,2,  34.5221,2,    117.4,2,   114.9,2,   65.88,2,   36.42,2,    0.01,4,    2.57,2,-999.000,9,-999.000,9,-999.000,9,  2266.9,2,  2336.0,2,-999.0000,9,  -999.00,-999.0000,9, -999.00,9, -999.00,9,  -999.0,9,  -999.0, -999.00,9, -999.00,9, -999.00,9, -999.00,9,   4.5931, -999.00
096U20160426,       P15S,     119,          1,         19,       2019,2,20160618,       1048,   -10.4981,  -169.9985,       4881,  1065.9,   4.3050,  34.5330,2,  34.5328,2,    116.3,2,   114.0,2,   73.60,2,   36.92,2,    0.01,4,    2.61,2,-999.000,9,-999.000,9,-999.000,9,  -999.0,9,  -999.0,9,-999.0000,9,  -999.00,-999.0000,9, -999.00,9, -999.00,9,  -999.0,9,  -999.0, -999.00,9, -999.00,9, -999.00,9, -999.00,9,   4.2213, -999.00
096U20160426,       P15S,     119,          1,         18,       2018,2,20160618,       1048,   -10.4981,  -169.9985,       4881,  1166.7,   3.9580,  34.5460,2,  34.5445,2,    117.2,2,   114.8,2,   81.06,2,   37.13,2,    0.01,4,    2.63,2,-999.000,9,-999.000,9,-999.000,9,  -999.0,9,  -999.0,9,-999.0000,9,  -999.00,-999.0000,9, -999.00,9, -999.00,9,  -999.0,9,  -999.0, -999.00,9, -999.00,9, -999.00,9, -999.00,9,   3.8686, -999.00
096U20160426,       P15S,     119,          1,         17,       2017,2,20160618,       1048,   -10.4981,  -169.9985,       4881,  1265.8,   3.5860,  34.5600,2,  34.5592,2,    119.6,2,   117.5,2,   89.39,2,   37.19,2,    0.01,4,    2.63,2,-999.000,9,-999.000,9,-999.000,9,  -999.0,9,  -999.0,9,-999.0000,9,  -999.00,-999.0000,9, -999.00,9, -999.00,9,  -999.0,9,  -999.0, -999.00,9, -999.00,9, -999.00,9, -999.00,9,   3.4916, -999.00
096U20160426,       P15S,     119,          1,         16,       2016,2,20160618,       1048,   -10.4981,  -169.9985,       4881,  1366.5,   3.3390,  34.5700,2,  34.5682,2,    123.6,2,   121.8,2,   93.55,2,   36.97,2,    0.01,4,    2.61,2,-999.000,9,-999.000,9,-999.000,9,  -999.0,9,  -999.0,9,-999.0000,9,  -999.00,-999.0000,9, -999.00,9, -999.00,9,  -999.0,9,  -999.0, -999.00,9, -999.00,9, -999.00,9, -999.00,9,   3.2386, -999.00
096U20160426,       P15S,     119,          1,         15,       2015,2,20160618,       1048,   -10.4981,  -169.9985,       4881,  1535.3,   3.0080,  34.5850,2,  34.5835,2,    129.0,2,   127.6,2,   99.78,2,   36.72,2,    0.01,4,    2.59,2,-999.000,9,-999.000,9,-999.000,9,  -999.0,9,  -999.0,9,-999.0000,9,  -999.00,-999.0000,9, -999.00,9, -999.00,9,  -999.0,9,  -999.0, -999.00,9, -999.00,9, -999.00,9, -999.00,9,   2.8971, -999.00
096U20160426,       P15S,     119,          1,         14,       2014,2,20160618,       1048,   -10.4981,  -169.9985,       4881,  1735.6,   2.5590,  34.6080,2,  34.6084,2,    138.3,2,   137.8,2,  107.33,2,   36.07,2,    0.01,4,    2.53,2,-999.000,9,-999.000,9,-999.000,9,  -999.0,9,  -999.0,9,-999.0000,9,  -999.00,-999.0000,9, -999.00,9, -999.00,9,  -999.0,9,  -999.0, -999.00,9, -999.00,9, -999.00,9, -999.00,9,   2.4368, -999.00
096U20160426,       P15S,     119,          1,         13,       2013,2,20160618,       1048,   -10.4981,  -169.9985,       4881,  1935.6,   2.2190,  34.6330,2,-999.0000,9,    142.0,2,  -999.0,9, -999.00,9, -999.00,9, -999.00,9, -999.00,9,-999.000,9,-999.000,9,-999.000,9,  -999.0,9,  -999.0,9,-999.0000,9,  -999.00,-999.0000,9, -999.00,9, -999.00,9,  -999.0,9,  -999.0, -999.00,9, -999.00,9, -999.00,9, -999.00,9,   2.0847, -999.00
096U20160426,       P15S,     119,          1,         12,       2012,2,20160618,       1048,   -10.4981,  -169.9985,       4881,  2166.4,   2.0310,  34.6480,2,  34.6472,2,    142.3,2,   142.3,2,  122.98,2,   35.97,2,    0.01,4,    2.52,2,-999.000,9,-999.000,9,-999.000,9,  -999.0,9,  -999.0,9,-999.0000,9,  -999.00,-999.0000,9, -999.00,9, -999.00,9,  -999.0,9,  -999.0, -999.00,9, -999.00,9, -999.00,9, -999.00,9,   1.8798, -999.00
096U20160426,       P15S,     119,          1,         11,       2011,2,20160618,       1048,   -10.4981,  -169.9985,       4881,  2414.7,   1.8960,  34.6600,2,  34.6590,2,    143.0,2,   142.9,2,  128.45,2,   35.98,2,    0.01,4,    2.52,2,-999.000,9,-999.000,9,-999.000,9,  -999.0,9,  -999.0,9,-999.0000,9,  -999.00,-999.0000,9, -999.00,9, -999.00,9,  -999.0,9,  -999.0, -999.00,9, -999.00,9, -999.00,9, -999.00,9,   1.7253, -999.00
096U20160426,       P15S,     119,          1,         10,       2010,2,20160618,       1048,   -10.4981,  -169.9985,       4881,  2665.2,   1.7770,  34.6690,2,  34.6691,2,    145.7,2,   145.5,2,  131.64,2,   35.83,2,    0.01,4,    2.50,2,-999.000,9,-999.000,9,-999.000,9,  -999.0,9,  -999.0,9,-999.0000,9,  -999.00,-999.0000,9, -999.00,9, -999.00,9,  -999.0,9,  -999.0, -999.00,9, -999.00,9, -999.00,9, -999.00,9,   1.5857, -999.00
096U20160426,       P15S,     119,          1,          9,       2009,2,20160618,       1048,   -10.4981,  -169.9985,       4881,  2916.7,   1.6900,  34.6740,2,  34.6744,2,    148.0,2,   147.6,2,  134.24,2,   35.73,2,    0.01,4,    2.49,2,-999.000,9,-999.000,9,-999.000,9,  -999.0,9,  -999.0,9,-999.0000,9,  -999.00,-999.0000,9, -999.00,9, -999.00,9,  -999.0,9,  -999.0, -999.00,9, -999.00,9, -999.00,9, -999.00,9,   1.4770, -999.00
096U20160426,       P15S,     119,          1,          8,       2008,2,20160618,       1048,   -10.4981,  -169.9985,       4881,  3200.1,   1.6190,  34.6800,2,  34.6797,2,    153.3,2,   153.0,2,  133.88,2,   35.36,2,    0.01,4,    2.46,2,-999.000,9,-999.000,9,-999.000,9,  -999.0,9,  -999.0,9,-999.0000,9,  -999.00,-999.0000,9, -999.00,9, -999.00,9,  -999.0,9,  -999.0, -999.00,9, -999.00,9, -999.00,9, -999.00,9,   1.3801, -999.00
096U20160426,       P15S,     119,          1,          7,       2007,2,20160618,       1048,   -10.4981,  -169.9985,       4881,  3499.9,   1.5530,  34.6850,2,  34.6839,2,    159.2,2,   159.1,2,  133.63,2,   34.98,2,    0.01,4,    2.44,2,-999.000,9,-999.000,9,-999.000,9,  -999.0,9,  -999.0,9,-999.0000,9,  -999.00,-999.0000,9, -999.00,9, -999.00,9,  -999.0,9,  -999.0, -999.00,9, -999.00,9, -999.00,9, -999.00,9,   1.2855, -999.00
096U20160426,       P15S,     119,          1,          6,       2006,2,20160618,       1048,   -10.4981,  -169.9985,       4881,  3799.7,   1.4900,  34.6900,2,  34.6885,2,    164.9,2,   164.7,2,  132.42,2,   34.64,2,    0.01,4,    2.41,2,-999.000,9,-999.000,9,-999.000,9,  -999.0,9,  -999.0,9,-999.0000,9,  -999.00,-999.0000,9, -999.00,9, -999.00,9,  -999.0,9,  -999.0, -999.00,9, -999.00,9, -999.00,9, -999.00,9,   1.1928, -999.00
096U20160426,       P15S,     119,          1,          5,       2005,2,20160618,       1048,   -10.4981,  -169.9985,       4881,  4100.4,   1.4080,  34.6950,2,  34.6943,2,    173.0,2,   173.8,2,  129.43,2,   33.98,2,    0.01,4,    2.36,2,-999.000,9,-999.000,9,-999.000,9,  -999.0,9,  -999.0,9,-999.0000,9,  -999.00,-999.0000,9, -999.00,9, -999.00,9,  -999.0,9,  -999.0, -999.00,9, -999.00,9, -999.00,9, -999.00,9,   1.0806, -999.00
096U20160426,       P15S,     119,          1,          4,       2004,2,20160618,       1048,   -10.4981,  -169.9985,       4881,  4400.0,   1.1710,  34.7080,2,  34.7066,2,    195.0,2,   197.3,2,  119.27,2,   32.28,2,    0.01,4,    2.23,2,-999.000,9,-999.000,9,-999.000,9,  -999.0,9,  -999.0,9,-999.0000,9,  -999.00,-999.0000,9, -999.00,9, -999.00,9,  -999.0,9,  -999.0, -999.00,9, -999.00,9, -999.00,9, -999.00,9,   0.8173, -999.00
096U20160426,       P15S,     119,          1,          3,       2003,2,20160618,       1048,   -10.4981,  -169.9985,       4881,  4699.6,   1.0780,  34.7090,2,  34.7087,2,    201.8,2,   204.0,2,  118.40,2,   31.91,2,    0.01,4,    2.20,2,-999.000,9,-999.000,9,-999.000,9,  -999.0,9,  -999.0,9,-999.0000,9,  -999.00,-999.0000,9, -999.00,9, -999.00,9,  -999.0,9,  -999.0, -999.00,9, -999.00,9, -999.00,9, -999.00,9,   0.6931, -999.00
096U20160426,       P15S,     119,          1,          2,       2002,2,20160618,       1048,   -10.4981,  -169.9985,       4881,  4812.8,   1.0740,  34.7100,2,  34.7083,2,    202.8,2,   204.5,2,  118.32,2,   31.87,2,    0.01,4,    2.20,2,-999.000,9,-999.000,9,-999.000,9,  -999.0,9,  -999.0,9,-999.0000,9,  -999.00,-999.0000,9, -999.00,9, -999.00,9,  -999.0,9,  -999.0, -999.00,9, -999.00,9, -999.00,9, -999.00,9,   0.6761, -999.00
096U20160426,       P15S,     119,          1,          1,       2001,2,20160618,       1048,   -10.4981,  -169.9985,       4881,  4934.3,   1.0850,  34.7090,2,  34.7085,2,    203.4,2,   204.9,2,  118.27,2,   31.85,2,    0.01,4,    2.20,2,-999.000,9,-999.000,9,-999.000,9,  -999.0,9,  -999.0,9,-999.0000,9,  -999.00,-999.0000,9, -999.00,9, -999.00,9,  -999.0,9,  -999.0, -999.00,9, -999.00,9, -999.00,9, -999.00,9,   0.6724, -999.00