BOTTLE,20230413CCHSIOENA
EXPOCODE,SECT_ID,STNNBR,CASTNO,SAMPNO,BTLNBR,BTLNBR_FLAG_W,DATE,TIME,LATITUDE,LONGITUDE,DEPTH,CTDPRS,CTDTMP,CTDSAL,CTDSAL_FLAG_W,SALNTY,SALNTY_FLAG_W,CTDOXY,CTDOXY_FLAG_W,OXYGEN,OXYGEN_FLAG_W,SILCAT,SILCAT_FLAG_W,NITRAT,NITRAT_FLAG_W,NITRIT,NITRIT_FLAG_W,PHSPHT,PHSPHT_FLAG_W,CFC-11,CFC-11_FLAG_W,CFC-12,CFC-12_FLAG_W,SF6,SF6_FLAG_W,TCARBN,TCARBN_FLAG_W,ALKALI,ALKALI_FLAG_W,PH_TOT,PH_TOT_FLAG_W,PH_TMP,HELIUM,HELIUM_FLAG_W,DELHE3,DELHE3_FLAG_W,DELC13,DELC13_FLAG_W,DELC14,DELC14_FLAG_W,C14ERR,POC,POC_FLAG_W,PON,PON_FLAG_W,CHLORA,CHLORA_FLAG_W,PPHYTN,PPHYTN_FLAG_W,THETA,DELHER
,,,,,,,,,,,METERS,DBAR,ITS-90,PSS-78,,PSS-78,,UMOL/KG,,UMOL/KG,,UMOL/KG,,UMOL/KG,,UMOL/KG,,UMOL/KG,,PMOL/KG,,PMOL/KG,,FMOL/KG,,UMOL/KG,,UMOL/KG,,,,DEG C,NMOL/KG,,PERCNT,,/MILLE,,/MILLE,,/MILLE,UG/KG,,UG/KG,,UG/KG,,UG/KG,,DEG C,PERCNT
096U20160426,       P15S,     132,          1,         36,       2036,2,20160622,       0427,    -3.9944,  -168.7519,       5078,     6.3,  30.1830,  34.9090,2,  34.9090,2,    186.8,2,   193.0,2,    0.80,2,   -0.02,4,    0.00,4,    0.17,2,   1.377,2,   0.883,2,   1.197,2,  1957.7,6,  2294.6,6,-999.0000,9,  -999.00,-999.0000,9, -999.00,9, -999.00,9,  -999.0,9,  -999.0, -999.00,9, -999.00,9,    0.33,2,   -0.01,3,  30.1814, -999.00
096U20160426,       P15S,     132,          1,         35,       2035,2,20160622,       0427,    -3.9944,  -168.7519,       5078,    27.1,  30.1920,  34.9090,2,  34.9088,2,    186.3,2,   192.7,2,    0.79,2,   -0.02,4,    0.00,4,    0.17,2,-999.000,9,-999.000,9,-999.000,9,  -999.0,9,  -999.0,9,-999.0000,9,  -999.00,-999.0000,9, -999.00,9, -999.00,9,  -999.0,9,  -999.0, -999.00,9, -999.00,9,    0.26,2,    0.03,3,  30.1852, -999.00
096U20160426,       P15S,     132,          1,         34,       2034,2,20160622,       0427,    -3.9944,  -168.7519,       5078,    51.6,  30.1700,  34.9090,2,  34.9091,2,    186.1,2,   193.1,2,    0.78,2,   -0.02,4,    0.00,4,    0.17,2,   1.377,2,   0.883,2,   1.235,2,  1960.0,2,  2295.5,2,-999.0000,9,  -999.00,-999.0000,9, -999.00,9, -999.00,9,  -999.0,9,  -999.0, -999.00,9, -999.00,9,    0.41,2,   -0.05,3,  30.1572, -999.00
096U20160426,       P15S,     132,          1,         33,       2033,2,20160622,       0427,    -3.9944,  -168.7519,       5078,    75.6,  30.1640,  34.9080,2,  34.9968,2,    186.5,2,   192.4,2,    0.74,2,   -0.01,4,    0.01,4,    0.18,2,   1.382,2,   0.875,2,   1.253,2,  1963.9,2,  2300.9,2,-999.0000,9,  -999.00,-999.0000,9, -999.00,9, -999.00,9,  -999.0,9,  -999.0, -999.00,9, -999.00,9,    0.46,2,    0.00,3,  30.1452, -999.00
096U20160426,       P15S,     132,          1,         32,       2032,2,20160622,       0427,    -3.9944,  -168.7519,       5078,   115.0,  27.4720,  36.0130,2,  36.1420,2,    164.0,2,   165.0,2,    1.45,2,    2.98,2,    1.02,2,    0.54,2,   1.551,2,   1.008,2,   1.281,2,  2071.0,2,  2377.9,2,-999.0000,9,  -999.00,-999.0000,9, -999.00,9, -999.00,9,  -999.0,9,  -999.0, -999.00,9, -999.00,9,    0.47,2,    0.21,3,  27.4452, -999.00
096U20160426,       P15S,     132,          1,         31,       2031,2,20160622,       0427,    -3.9944,  -168.7519,       5078,   149.9,  20.0970,  35.6810,2,  35.6091,2,    128.6,2,   125.8,2,    5.22,2,   12.48,2,    0.06,2,    1.11,2,   1.872,2,   1.158,2,   1.171,2,  2151.3,2,  2345.7,2,-999.0000,9,  -999.00,-999.0000,9, -999.00,9, -999.00,9,  -999.0,9,  -999.0, -999.00,9, -999.00,9, -999.00,9, -999.00,9,  20.0691, -999.00
096U20160426,       P15S,     132,          1,         30,       2030,2,20160622,       0427,    -3.9944,  -168.7519,       5078,   199.9,  14.5420,  35.1170,2,  35.0620,2,    109.4,2,   111.8,2,   12.27,2,   20.17,2,    0.01,4,    1.52,2,   1.669,2,   0.966,2,   0.594,2,  2176.7,2,  2312.8,2,-999.0000,9,  -999.00,-999.0000,9, -999.00,9, -999.00,9,  -999.0,9,  -999.0, -999.00,9, -999.00,9, -999.00,9, -999.00,9,  14.5123, -999.00
096U20160426,       P15S,     132,          1,         29,       2029,2,20160622,       0427,    -3.9944,  -168.7519,       5078,   250.2,  11.0900,  34.8140,2,  34.7940,2,    102.1,2,    92.0,2,   21.60,2,   27.09,2,    0.00,4,    1.92,2,   1.191,2,   0.656,2,   0.324,2,  2208.1,2,  2303.0,2,-999.0000,9,  -999.00,-999.0000,9, -999.00,9, -999.00,9,  -999.0,9,  -999.0, -999.00,9, -999.00,9, -999.00,9, -999.00,9,  11.0590, -999.00
096U20160426,       P15S,     132,          1,         28,       2028,2,20160622,       0427,    -3.9944,  -168.7519,       5078,   299.8,  10.3900,  34.7590,2,  34.7555,2,     86.1,2,    83.0,2,   24.12,2,   29.07,2,    0.00,4,    2.04,2,   1.012,2,   0.554,2,    0.29,2,  2217.2,2,  2302.2,6,-999.0000,9,  -999.00,-999.0000,9, -999.00,9, -999.00,9,  -999.0,9,  -999.0, -999.00,9, -999.00,9, -999.00,9, -999.00,9,  10.3543, -999.00
096U20160426,       P15S,     132,          1,         27,       2027,2,20160622,       0427,    -3.9944,  -168.7519,       5078,   350.8,   9.8720,  34.7270,2,  34.7237,2,     82.9,2,    78.6,2,   26.00,2,   30.49,2,    0.00,4,    2.13,2,   0.853,2,   0.463,2,   0.158,2,  2223.8,2,  2301.8,2,-999.0000,9,  -999.00,-999.0000,9, -999.00,9, -999.00,9,  -999.0,9,  -999.0, -999.00,9, -999.00,9, -999.00,9, -999.00,9,   9.8314, -999.00
096U20160426,       P15S,     132,          1,         26,       2026,2,20160622,       0427,    -3.9944,  -168.7519,       5078,   401.1,   9.3710,  34.6940,2,  34.6914,2,     85.4,2,    85.9,2,   26.80,2,   30.82,2,    0.00,4,    2.15,2,-999.000,9,-999.000,9,-999.000,9,  2221.9,2,  2301.5,2,-999.0000,9,  -999.00,-999.0000,9, -999.00,9, -999.00,9,  -999.0,9,  -999.0, -999.00,9, -999.00,9, -999.00,9, -999.00,9,   9.3260, -999.00
096U20160426,       P15S,     132,          1,         25,       2025,2,20160622,       0427,    -3.9944,  -168.7519,       5078,   500.4,   8.4330,  34.6320,2,  34.6245,2,    103.3,2,   101.9,2,   29.39,2,   31.52,2,    0.00,4,    2.20,2,   0.675,2,   0.360,2,   0.184,2,  2222.5,2,  2302.2,2,-999.0000,9,  -999.00,-999.0000,9, -999.00,9, -999.00,9,  -999.0,9,  -999.0, -999.00,9, -999.00,9, -999.00,9, -999.00,9,   8.3800, -999.00
096U20160426,       P15S,     132,          1,         24,       2024,2,20160622,       0427,    -3.9944,  -168.7519,       5078,   600.4,   6.9420,  34.5540,2,  34.5532,2,    110.6,2,   108.9,2,   38.61,2,   33.68,2,    0.00,4,    2.36,2,   0.402,2,   0.213,2,   0.052,2,  2233.2,2,  2308.2,2,-999.0000,9,  -999.00,-999.0000,9, -999.00,9, -999.00,9,  -999.0,9,  -999.0, -999.00,9, -999.00,9, -999.00,9, -999.00,9,   6.8848, -999.00
096U20160426,       P15S,     132,          1,         23,       2023,2,20160622,       0427,    -3.9944,  -168.7519,       5078,   710.3,   5.6710,  34.5380,2,  34.5370,2,     92.1,2,    88.8,2,   58.19,2,   37.72,2,    0.00,4,    2.68,2,   0.092,2,   0.051,2,       0,2,  2268.8,2,  2324.9,2,-999.0000,9,  -999.00,-999.0000,9, -999.00,9, -999.00,9,  -999.0,9,  -999.0, -999.00,9, -999.00,9, -999.00,9, -999.00,9,   5.6096, -999.00
096U20160426,       P15S,     132,          1,         22,       2022,2,20160622,       0427,    -3.9944,  -168.7519,       5078,   799.9,   5.3320,  34.5440,2,  34.5431,2,     84.0,2,    80.8,2,   66.27,2,   38.97,2,    0.00,4,    2.77,2,   0.039,2,   0.023,2,       0,2,  2283.6,2,  2333.6,2,-999.0000,9,  -999.00,-999.0000,9, -999.00,9, -999.00,9,  -999.0,9,  -999.0, -999.00,9, -999.00,9, -999.00,9, -999.00,9,   5.2644, -999.00
096U20160426,       P15S,     132,          1,         21,       2021,2,20160622,       0427,    -3.9944,  -168.7519,       5078,   900.3,   4.7240,  34.5480,2,  34.5475,2,     88.9,2,    84.9,2,   76.89,2,   39.10,2,    0.00,4,    2.79,2,   0.015,2,   0.012,2,       0,2,  2291.8,2,  2345.2,2,-999.0000,9,  -999.00,-999.0000,9, -999.00,9, -999.00,9,  -999.0,9,  -999.0, -999.00,9, -999.00,9, -999.00,9, -999.00,9,   4.6515, -999.00
096U20160426,       P15S,     132,          1,         20,       2020,2,20160622,       0427,    -3.9944,  -168.7519,       5078,  1000.5,   4.4760,  34.5510,2,  34.5500,2,     93.3,2,    89.7,2,   81.05,2,   38.91,2,    0.00,4,    2.78,2,   0.014,2,   0.009,2,       0,2,  2295.5,2,  2349.9,6,-999.0000,9,  -999.00,-999.0000,9, -999.00,9, -999.00,9,  -999.0,9,  -999.0, -999.00,9, -999.00,9, -999.00,9, -999.00,9,   4.3966, -999.00
096U20160426,       P15S,     132,          1,         19,       2019,2,20160622,       0427,    -3.9944,  -168.7519,       5078,  1100.2,   4.1340,  34.5590,2,  34.5594,2,     96.3,2,    92.5,2,   89.20,2,   38.90,2,    0.00,4,    2.78,2,   0.010,2,   0.006,2,       0,2,  2303.1,2,  2359.0,2,-999.0000,9,  -999.00,-999.0000,9, -999.00,9, -999.00,9,  -999.0,9,  -999.0, -999.00,9, -999.00,9, -999.00,9, -999.00,9,   4.0487, -999.00
096U20160426,       P15S,     132,          1,         18,       2018,2,20160622,       0427,    -3.9944,  -168.7519,       5078,  1202.0,   3.8000,  34.5680,2,  34.5676,2,    101.8,2,    98.5,2,   94.89,2,   38.61,2,    0.00,4,    2.76,2,   0.009,6,   0.006,6,       0,6,  2306.5,2,  2365.8,2,-999.0000,9,  -999.00,-999.0000,9, -999.00,9, -999.00,9,  -999.0,9,  -999.0, -999.00,9, -999.00,9, -999.00,9, -999.00,9,   3.7089, -999.00
096U20160426,       P15S,     132,          1,         17,       2017,2,20160622,       0427,    -3.9944,  -168.7519,       5078,  1297.4,   3.5490,  34.5770,2,  34.5778,2,    103.1,2,    98.4,2,  101.81,2,   38.79,2,    0.00,4,    2.78,2,-999.000,9,-999.000,9,-999.000,9,  -999.0,9,  -999.0,9,-999.0000,9,  -999.00,-999.0000,9, -999.00,9, -999.00,9,  -999.0,9,  -999.0, -999.00,9, -999.00,9, -999.00,9, -999.00,9,   3.4523, -999.00
096U20160426,       P15S,     132,          1,         16,       2016,2,20160622,       0427,    -3.9944,  -168.7519,       5078,  1400.6,   3.2300,  34.5910,2,  34.5907,2,    103.8,2,   101.1,2,  108.94,2,   38.76,2,    0.00,4,    2.77,2,   0.003,2,   0.002,2,       0,2,  2320.4,6,  2381.8,6,-999.0000,9,  -999.00,-999.0000,9, -999.00,9, -999.00,9,  -999.0,9,  -999.0, -999.00,9, -999.00,9, -999.00,9, -999.00,9,   3.1279, -999.00
096U20160426,       P15S,     132,          1,         15,       2015,2,20160622,       0427,    -3.9944,  -168.7519,       5078,  1601.4,   2.7880,  34.6090,2,  34.6107,2,    112.5,2,   110.4,2,  117.18,2,   38.22,2,    0.00,4,    2.72,2,   0.003,2,   0.002,2,       0,2,  2324.0,2,  2391.2,2,-999.0000,9,  -999.00,-999.0000,9, -999.00,9, -999.00,9,  -999.0,9,  -999.0, -999.00,9, -999.00,9, -999.00,9, -999.00,9,   2.6741, -999.00
096U20160426,       P15S,     132,          1,         14,       2014,2,20160622,       0427,    -3.9944,  -168.7519,       5078,  1801.2,   2.4910,  34.6250,2,  34.6258,2,    117.7,3,   115.9,2,  124.29,2,   37.93,2,    0.00,4,    2.69,2,-999.000,9,-999.000,9,-999.000,9,  -999.0,9,  -999.0,9,-999.0000,9,  -999.00,-999.0000,9, -999.00,9, -999.00,9,  -999.0,9,  -999.0, -999.00,9, -999.00,9, -999.00,9, -999.00,9,   2.3642, -999.00
096U20160426,       P15S,     132,          1,         13,       2013,2,20160622,       0427,    -3.9944,  -168.7519,       5078,  2001.2,   2.2980,  34.6370,2,  34.6376,2,    118.0,2,   116.2,2,  131.05,2,   38.05,2,    0.00,4,    2.70,2,-999.000,9,-999.000,9,-999.000,9,  2335.3,2,  2406.3,2,-999.0000,9,  -999.00,-999.0000,9, -999.00,9, -999.00,9,  -999.0,9,  -999.0, -999.00,9, -999.00,9, -999.00,9, -999.00,9,   2.1569, -999.00
096U20160426,       P15S,     132,          1,         12,       2012,2,20160622,       0427,    -3.9944,  -168.7519,       5078,  2251.3,   2.0780,  34.6510,2,  34.6503,2,    122.8,2,   121.4,2,  136.08,2,   37.79,2,    0.00,4,    2.67,2,   0.000,2,   0.000,2,       0,2,  2337.3,2,  2412.8,2,-999.0000,9,  -999.00,-999.0000,9, -999.00,9, -999.00,9,  -999.0,9,  -999.0, -999.00,9, -999.00,9, -999.00,9, -999.00,9,   1.9186, -999.00
096U20160426,       P15S,     132,          1,         11,       2011,2,20160622,       0427,    -3.9944,  -168.7519,       5078,  2500.6,   1.9230,  34.6590,2,  34.6581,2,    130.7,2,   129.7,2,  136.70,2,   37.21,2,    0.00,4,    2.62,2,-999.000,9,-999.000,9,-999.000,9,  2332.8,2,  2414.5,2,-999.0000,9,  -999.00,-999.0000,9, -999.00,9, -999.00,9,  -999.0,9,  -999.0, -999.00,9, -999.00,9, -999.00,9, -999.00,9,   1.7440, -999.00
096U20160426,       P15S,     132,          1,         10,       2010,2,20160622,       0427,    -3.9944,  -168.7519,       5078,  2751.8,   1.7880,  34.6690,2,  34.6674,2,    136.3,2,   135.9,2,  138.78,2,   36.81,2,    0.00,4,    2.58,2,-999.000,9,-999.000,9,-999.000,9,  -999.0,9,  -999.0,9,-999.0000,9,  -999.00,-999.0000,9, -999.00,9, -999.00,9,  -999.0,9,  -999.0, -999.00,9, -999.00,9, -999.00,9, -999.00,9,   1.5885, -999.00
096U20160426,       P15S,     132,          1,          9,       2009,2,20160622,       0427,    -3.9944,  -168.7519,       5078,  3001.6,   1.6630,  34.6770,2,  34.6766,2,    145.3,2,   146.2,2,  137.32,2,   36.14,2,    0.00,4,    2.52,2,   0.002,2,   0.002,2,       0,2,  2327.1,2,  2416.1,2,-999.0000,9,  -999.00,-999.0000,9, -999.00,9, -999.00,9,  -999.0,9,  -999.0, -999.00,9, -999.00,9, -999.00,9, -999.00,9,   1.4424, -999.00
096U20160426,       P15S,     132,          1,          8,       2008,2,20160622,       0427,    -3.9944,  -168.7519,       5078,  3300.5,   1.5520,  34.6830,2,  34.6823,2,    152.7,2,   154.0,2,  137.32,2,   35.69,2,    0.00,4,    2.48,2,-999.000,9,-999.000,9,-999.000,9,  -999.0,9,  -999.0,9,-999.0000,9,  -999.00,-999.0000,9, -999.00,9, -999.00,9,  -999.0,9,  -999.0, -999.00,9, -999.00,9, -999.00,9, -999.00,9,   1.3047, -999.00
096U20160426,       P15S,     132,          1,          7,       2007,2,20160622,       0427,    -3.9944,  -168.7519,       5078,  3601.0,   1.4800,  34.6880,2,  34.6874,2,    158.8,2,   159.6,2,  137.01,2,   35.33,2,    0.00,4,    2.45,2,   0.001,6,   0.001,6,       0,6,  2316.4,2,  2414.0,2,-999.0000,9,  -999.00,-999.0000,9, -999.00,9, -999.00,9,  -999.0,9,  -999.0, -999.00,9, -999.00,9, -999.00,9, -999.00,9,   1.2039, -999.00
096U20160426,       P15S,     132,          1,          6,       2006,2,20160622,       0427,    -3.9944,  -168.7519,       5078,  3900.9,   1.4100,  34.6930,2,  34.6930,2,    164.0,2,   165.4,2,  136.79,2,   34.95,2,    0.00,4,    2.42,2,-999.000,9,-999.000,9,-999.000,9,  -999.0,9,  -999.0,9,-999.0000,9,  -999.00,-999.0000,9, -999.00,9, -999.00,9,  -999.0,9,  -999.0, -999.00,9, -999.00,9, -999.00,9, -999.00,9,   1.1042, -999.00
096U20160426,       P15S,     132,          1,          5,       2005,2,20160622,       0427,    -3.9944,  -168.7519,       5078,  4298.9,   1.3380,  34.6980,2,  34.6986,2,    175.1,2,   176.7,2,  131.72,2,   34.18,2,    0.00,4,    2.36,2,   0.025,2,   0.003,2,       0,2,  2300.0,2,  2402.2,2,-999.0000,9,  -999.00,-999.0000,9, -999.00,9, -999.00,9,  -999.0,9,  -999.0, -999.00,9, -999.00,9, -999.00,9, -999.00,9,   0.9907, -999.00
096U20160426,       P15S,     132,          1,          4,       2004,2,20160622,       0427,    -3.9944,  -168.7519,       5078,  4700.2,   1.2440,  34.7040,2,  34.7042,2,    188.7,2,   190.6,2,  124.61,2,   33.13,2,    0.01,4,    2.28,2,-999.000,9,-999.000,9,-999.000,9,  -999.0,9,  -999.0,9,-999.0000,9,  -999.00,-999.0000,9, -999.00,9, -999.00,9,  -999.0,9,  -999.0, -999.00,9, -999.00,9, -999.00,9, -999.00,9,   0.8537, -999.00
096U20160426,       P15S,     132,          1,          3,       2003,2,20160622,       0427,    -3.9944,  -168.7519,       5078,  5101.5,   1.2140,  34.7070,2,  34.7066,2,    196.0,2,   197.6,2,  121.32,2,   32.63,2,    0.00,4,    2.25,2,   0.042,2,   0.023,2,       0,2,  2273.8,6,  2373.7,6,-999.0000,9,  -999.00,-999.0000,9, -999.00,9, -999.00,9,  -999.0,9,  -999.0, -999.00,9, -999.00,9, -999.00,9, -999.00,9,   0.7770, -999.00
096U20160426,       P15S,     132,          1,          2,       2002,2,20160622,       0427,    -3.9944,  -168.7519,       5078,  5231.0,   1.2150,  34.7070,2,  34.7070,2,    197.7,2,   199.1,2,  120.80,2,   32.54,2,    0.00,4,    2.24,2,-999.000,9,-999.000,9,-999.000,9,  -999.0,9,  -999.0,9,-999.0000,9,  -999.00,-999.0000,9, -999.00,9, -999.00,9,  -999.0,9,  -999.0, -999.00,9, -999.00,9, -999.00,9, -999.00,9,   0.7621, -999.00
096U20160426,       P15S,     132,          1,          1,       2001,2,20160622,       0427,    -3.9944,  -168.7519,       5078,  5323.4,   1.2270,  34.7070,2,  34.7067,2,    198.1,2,   199.1,2,  120.83,2,   32.52,2,    0.00,4,    2.24,2,   0.047,2,   0.029,2,       0,2,  2269.7,2,  2372.6,2,-999.0000,9,  -999.00,-999.0000,9, -999.00,9, -999.00,9,  -999.0,9,  -999.0, -999.00,9, -999.00,9, -999.00,9, -999.00,9,   0.7623, -999.00