BOTTLE,20230413CCHSIOENA
EXPOCODE,SECT_ID,STNNBR,CASTNO,SAMPNO,BTLNBR,BTLNBR_FLAG_W,DATE,TIME,LATITUDE,LONGITUDE,DEPTH,CTDPRS,CTDTMP,CTDSAL,CTDSAL_FLAG_W,SALNTY,SALNTY_FLAG_W,CTDOXY,CTDOXY_FLAG_W,OXYGEN,OXYGEN_FLAG_W,SILCAT,SILCAT_FLAG_W,NITRAT,NITRAT_FLAG_W,NITRIT,NITRIT_FLAG_W,PHSPHT,PHSPHT_FLAG_W,CFC-11,CFC-11_FLAG_W,CFC-12,CFC-12_FLAG_W,SF6,SF6_FLAG_W,TCARBN,TCARBN_FLAG_W,ALKALI,ALKALI_FLAG_W,PH_TOT,PH_TOT_FLAG_W,PH_TMP,HELIUM,HELIUM_FLAG_W,DELHE3,DELHE3_FLAG_W,DELC13,DELC13_FLAG_W,DELC14,DELC14_FLAG_W,C14ERR,POC,POC_FLAG_W,PON,PON_FLAG_W,CHLORA,CHLORA_FLAG_W,PPHYTN,PPHYTN_FLAG_W,THETA,DELHER
,,,,,,,,,,,METERS,DBAR,ITS-90,PSS-78,,PSS-78,,UMOL/KG,,UMOL/KG,,UMOL/KG,,UMOL/KG,,UMOL/KG,,UMOL/KG,,PMOL/KG,,PMOL/KG,,FMOL/KG,,UMOL/KG,,UMOL/KG,,,,DEG C,NMOL/KG,,PERCNT,,/MILLE,,/MILLE,,/MILLE,UG/KG,,UG/KG,,UG/KG,,UG/KG,,DEG C,PERCNT
096U20160426,       P15S,      58,          1,         36,       2036,2,20160530,       1613,   -39.5154,  -172.4141,       4770,     6.1,  16.2200,  35.3020,2,  35.3019,2,    237.3,2,   238.7,2,    0.26,2,    0.11,2,    0.06,2,    0.13,2,-999.000,9,-999.000,9,-999.000,9,  2072.4,2,  2323.6,2,-999.0000,9,  -999.00,-999.0000,9, -999.00,9, -999.00,9,  -999.0,9,  -999.0, -999.00,9, -999.00,9,    0.99,2,    0.08,3,  16.2190, -999.00
096U20160426,       P15S,      58,          1,         35,       2035,2,20160530,       1613,   -39.5154,  -172.4141,       4770,    24.9,  16.2200,  35.3020,2,  35.3021,2,    237.3,2,   238.7,2,    0.25,2,    0.11,2,    0.06,2,    0.13,2,-999.000,9,-999.000,9,-999.000,9,  -999.0,9,  -999.0,9,-999.0000,9,  -999.00,-999.0000,9, -999.00,9, -999.00,9,  -999.0,9,  -999.0, -999.00,9, -999.00,9,    0.99,2,    0.07,3,  16.2160, -999.00
096U20160426,       P15S,      58,          1,         34,       2034,2,20160530,       1613,   -39.5154,  -172.4141,       4770,    51.7,  16.2250,  35.3020,2,  35.3015,2,    237.3,2,   238.7,2,    0.24,2,    0.10,2,    0.06,2,    0.13,2,-999.000,9,-999.000,9,-999.000,9,  -999.0,9,  -999.0,9,-999.0000,9,  -999.00,-999.0000,9, -999.00,9, -999.00,9,  -999.0,9,  -999.0, -999.00,9, -999.00,9,    0.95,2,    0.11,3,  16.2168, -999.00
096U20160426,       P15S,      58,          1,         33,       2033,2,20160530,       1613,   -39.5154,  -172.4141,       4770,    74.3,  16.2220,  35.2980,2,  35.2974,2,    237.2,2,   238.7,2,    0.27,2,    0.12,2,    0.05,2,    0.13,2,-999.000,9,-999.000,9,-999.000,9,  2071.4,6,  2322.6,6,-999.0000,9,  -999.00,-999.0000,9, -999.00,9, -999.00,9,  -999.0,9,  -999.0, -999.00,9, -999.00,9,    1.03,2,    0.07,3,  16.2101, -999.00
096U20160426,       P15S,      58,          1,         32,       2032,2,20160530,       1613,   -39.5154,  -172.4141,       4770,   101.6,  15.2890,  35.2180,2,  35.2030,2,    226.8,2,   228.1,2,    0.74,2,    2.76,2,    0.06,2,    0.34,2,-999.000,9,-999.000,9,-999.000,9,  -999.0,9,  -999.0,9,-999.0000,9,  -999.00,-999.0000,9, -999.00,9, -999.00,9,  -999.0,9,  -999.0, -999.00,9, -999.00,9,    0.25,2,    0.11,3,  15.2734, -999.00
096U20160426,       P15S,      58,          1,         31,       2031,2,20160530,       1613,   -39.5154,  -172.4141,       4770,   149.2,  12.8180,  35.1120,2,  35.1095,2,    224.8,2,   226.0,2,    1.63,2,    7.61,2,    0.02,4,    0.61,2,-999.000,9,-999.000,9,-999.000,9,  -999.0,9,  -999.0,9,-999.0000,9,  -999.00,-999.0000,9, -999.00,9, -999.00,9,  -999.0,9,  -999.0, -999.00,9, -999.00,9, -999.00,9, -999.00,9,  12.7977, -999.00
096U20160426,       P15S,      58,          1,         30,       2030,2,20160530,       1613,   -39.5154,  -172.4141,       4770,   201.0,  12.1460,  35.0290,2,  35.0440,2,    229.6,2,   232.6,2,    1.85,2,    8.38,2,    0.02,4,    0.66,2,-999.000,9,-999.000,9,-999.000,9,  -999.0,9,  -999.0,9,-999.0000,9,  -999.00,-999.0000,9, -999.00,9, -999.00,9,  -999.0,9,  -999.0, -999.00,9, -999.00,9, -999.00,9, -999.00,9,  12.1195, -999.00
096U20160426,       P15S,      58,          1,         29,       2029,2,20160530,       1613,   -39.5154,  -172.4141,       4770,   249.9,  11.7730,  34.9880,2,  34.9885,2,    230.1,2,   232.2,2,    2.20,2,    9.64,2,    0.01,4,    0.73,2,-999.000,9,-999.000,9,-999.000,9,  -999.0,9,  2302.7,2,-999.0000,9,  -999.00,-999.0000,9, -999.00,9, -999.00,9,  -999.0,9,  -999.0, -999.00,9, -999.00,9, -999.00,9, -999.00,9,  11.7407, -999.00
096U20160426,       P15S,      58,          1,         28,       2028,2,20160530,       1613,   -39.5154,  -172.4141,       4770,   301.3,  11.3150,  34.9250,2,  34.9220,2,    230.0,2,   231.5,2,    2.59,2,   10.93,2,    0.01,4,    0.81,2,-999.000,9,-999.000,9,-999.000,9,  -999.0,9,  -999.0,9,-999.0000,9,  -999.00,-999.0000,9, -999.00,9, -999.00,9,  -999.0,9,  -999.0, -999.00,9, -999.00,9, -999.00,9, -999.00,9,  11.2770, -999.00
096U20160426,       P15S,      58,          1,         27,       2027,2,20160530,       1613,   -39.5154,  -172.4141,       4770,   351.0,  10.4570,  34.7920,2,  34.7873,2,    220.9,2,   222.1,2,    3.57,2,   14.14,2,    0.01,4,    1.01,2,-999.000,9,-999.000,9,-999.000,9,  -999.0,9,  -999.0,9,-999.0000,9,  -999.00,-999.0000,9, -999.00,9, -999.00,9,  -999.0,9,  -999.0, -999.00,9, -999.00,9, -999.00,9, -999.00,9,  10.4149, -999.00
096U20160426,       P15S,      58,          1,         26,       2026,2,20160530,       1613,   -39.5154,  -172.4141,       4770,   399.7,   9.5860,  34.6710,2,  34.6657,2,    216.4,2,   217.3,2,    4.43,2,   17.02,2,    0.01,4,    1.18,2,-999.000,9,-999.000,9,-999.000,9,  -999.0,9,  -999.0,9,-999.0000,9,  -999.00,-999.0000,9, -999.00,9, -999.00,9,  -999.0,9,  -999.0, -999.00,9, -999.00,9, -999.00,9, -999.00,9,   9.5405, -999.00
096U20160426,       P15S,      58,          1,         25,       2025,2,20160530,       1613,   -39.5154,  -172.4141,       4770,   500.8,   8.7040,  34.5830,2,  34.5812,2,    215.6,2,   217.0,2,    6.15,2,   19.62,2,    0.01,4,    1.35,2,-999.000,9,-999.000,9,-999.000,9,  -999.0,9,  -999.0,9,-999.0000,9,  -999.00,-999.0000,9, -999.00,9, -999.00,9,  -999.0,9,  -999.0, -999.00,9, -999.00,9, -999.00,9, -999.00,9,   8.6500, -999.00
096U20160426,       P15S,      58,          1,         24,       2024,2,20160530,       1613,   -39.5154,  -172.4141,       4770,   602.1,   7.9070,  34.5000,2,  34.4983,2,    219.8,2,   221.2,2,    7.53,2,   21.37,2,    0.01,4,    1.46,2,-999.000,9,-999.000,9,-999.000,9,  2150.1,2,  2284.6,2,-999.0000,9,  -999.00,-999.0000,9, -999.00,9, -999.00,9,  -999.0,9,  -999.0, -999.00,9, -999.00,9, -999.00,9, -999.00,9,   7.8453, -999.00
096U20160426,       P15S,      58,          1,         23,       2023,2,20160530,       1613,   -39.5154,  -172.4141,       4770,   698.6,   7.3190,  34.4450,2,  34.4450,2,    220.2,2,   222.2,2,    9.03,2,   22.85,2,    0.01,4,    1.55,2,-999.000,9,-999.000,9,-999.000,9,  -999.0,9,  -999.0,9,-999.0000,9,  -999.00,-999.0000,9, -999.00,9, -999.00,9,  -999.0,9,  -999.0, -999.00,9, -999.00,9, -999.00,9, -999.00,9,   7.2501, -999.00
096U20160426,       P15S,      58,          1,         22,       2022,2,20160530,       1613,   -39.5154,  -172.4141,       4770,   798.2,   6.7300,  34.3930,2,  34.3942,2,    220.6,2,   222.4,2,   11.10,2,   24.31,2,    0.01,4,    1.65,2,-999.000,9,-999.000,9,-999.000,9,  -999.0,9,  -999.0,9,-999.0000,9,  -999.00,-999.0000,9, -999.00,9, -999.00,9,  -999.0,9,  -999.0, -999.00,9, -999.00,9, -999.00,9, -999.00,9,   6.6543, -999.00
096U20160426,       P15S,      58,          1,         21,       2021,2,20160530,       1613,   -39.5154,  -172.4141,       4770,   896.6,   6.3580,  34.3940,2,  34.3942,2,    211.5,2,   213.2,2,   15.38,2,   25.80,2,    0.01,4,    1.76,2,-999.000,9,-999.000,9,-999.000,9,  -999.0,9,  -999.0,9,-999.0000,9,  -999.00,-999.0000,9, -999.00,9, -999.00,9,  -999.0,9,  -999.0, -999.00,9, -999.00,9, -999.00,9, -999.00,9,   6.2749, -999.00
096U20160426,       P15S,      58,          1,         20,       2020,2,20160530,       1613,   -39.5154,  -172.4141,       4770,   997.9,   5.7590,  34.3760,2,  34.3756,2,    204.7,2,   205.9,2,   20.93,2,   27.70,2,    0.01,4,    1.89,2,-999.000,9,-999.000,9,-999.000,9,  2175.3,2,  2291.9,2,-999.0000,9,  -999.00,-999.0000,9, -999.00,9, -999.00,9,  -999.0,9,  -999.0, -999.00,9, -999.00,9, -999.00,9, -999.00,9,   5.6703, -999.00
096U20160426,       P15S,      58,          1,         19,       2019,2,20160530,       1613,   -39.5154,  -172.4141,       4770,  1100.9,   5.2030,  34.3770,2,  34.3771,2,    197.0,2,   198.1,2,   27.76,2,   29.31,2,    0.01,4,    2.00,2,-999.000,9,-999.000,9,-999.000,9,  -999.0,9,  -999.0,9,-999.0000,9,  -999.00,-999.0000,9, -999.00,9, -999.00,9,  -999.0,9,  -999.0, -999.00,9, -999.00,9, -999.00,9, -999.00,9,   5.1090, -999.00
096U20160426,       P15S,      58,          1,         18,       2018,2,20160530,       1613,   -39.5154,  -172.4141,       4770,  1199.9,   4.8000,  34.4100,2,  34.4119,2,    188.2,2,   189.6,2,   37.38,2,   30.46,2,    0.01,4,    2.09,2,-999.000,9,-999.000,9,-999.000,9,  -999.0,9,  -999.0,9,-999.0000,9,  -999.00,-999.0000,9, -999.00,9, -999.00,9,  -999.0,9,  -999.0, -999.00,9, -999.00,9, -999.00,9, -999.00,9,   4.7003, -999.00
096U20160426,       P15S,      58,          1,         17,       2017,2,20160530,       1613,   -39.5154,  -172.4141,       4770,  1301.6,   4.2310,  34.4340,2,  34.4334,2,    180.7,2,   181.4,2,   47.46,2,   31.82,2,    0.01,4,    2.19,2,-999.000,9,-999.000,9,-999.000,9,  -999.0,9,  -999.0,9,-999.0000,9,  -999.00,-999.0000,9, -999.00,9, -999.00,9,  -999.0,9,  -999.0, -999.00,9, -999.00,9, -999.00,9, -999.00,9,   4.1274, -999.00
096U20160426,       P15S,      58,          1,         16,       2016,2,20160530,       1613,   -39.5154,  -172.4141,       4770,  1400.0,   3.8090,  34.4610,2,  34.4622,2,    174.8,2,   175.2,2,   56.78,2,   32.69,2,    0.01,4,    2.26,2,-999.000,9,-999.000,9,-999.000,9,  -999.0,9,  -999.0,9,-999.0000,9,  -999.00,-999.0000,9, -999.00,9, -999.00,9,  -999.0,9,  -999.0, -999.00,9, -999.00,9, -999.00,9, -999.00,9,   3.7010, -999.00
096U20160426,       P15S,      58,          1,         15,       2015,2,20160530,       1613,   -39.5154,  -172.4141,       4770,  1500.6,   3.4690,  34.5010,2,  34.5015,2,    168.3,2,   169.0,2,   67.36,2,   33.39,2,    0.01,4,    2.32,2,-999.000,9,-999.000,9,-999.000,9,  -999.0,9,  -999.0,9,-999.0000,9,  -999.00,-999.0000,9, -999.00,9, -999.00,9,  -999.0,9,  -999.0, -999.00,9, -999.00,9, -999.00,9, -999.00,9,   3.3559, -999.00
096U20160426,       P15S,      58,          1,         14,       2014,2,20160530,       1613,   -39.5154,  -172.4141,       4770,  1596.1,   3.2070,  34.5290,2,  34.5287,2,    164.3,2,   164.4,2,   75.29,2,   33.87,2,    0.01,4,    2.36,2,-999.000,9,-999.000,9,-999.000,9,  -999.0,9,  -999.0,9,-999.0000,9,  -999.00,-999.0000,9, -999.00,9, -999.00,9,  -999.0,9,  -999.0, -999.00,9, -999.00,9, -999.00,9, -999.00,9,   3.0887, -999.00
096U20160426,       P15S,      58,          1,         13,       2013,2,20160530,       1613,   -39.5154,  -172.4141,       4770,  1801.4,   2.7730,  34.5750,2,  34.5746,2,    157.6,2,   157.5,2,   89.13,2,   34.58,2,    0.01,4,    2.42,2,-999.000,9,-999.000,9,-999.000,9,  2279.4,2,  2365.0,2,-999.0000,9,  -999.00,-999.0000,9, -999.00,9, -999.00,9,  -999.0,9,  -999.0, -999.00,9, -999.00,9, -999.00,9, -999.00,9,   2.6424, -999.00
096U20160426,       P15S,      58,          1,         12,       2012,2,20160530,       1613,   -39.5154,  -172.4141,       4770,  2000.8,   2.5260,  34.6080,2,  34.6080,2,    154.0,2,   153.8,2,  100.15,2,   34.97,2,    0.01,4,    2.45,2,-999.000,9,-999.000,9,-999.000,9,  -999.0,9,  -999.0,9,-999.0000,9,  -999.00,-999.0000,9, -999.00,9, -999.00,9,  -999.0,9,  -999.0, -999.00,9, -999.00,9, -999.00,9, -999.00,9,   2.3816, -999.00
096U20160426,       P15S,      58,          1,         11,       2011,2,20160530,       1613,   -39.5154,  -172.4141,       4770,  2250.1,   2.3170,  34.6310,2,  34.6303,2,    152.5,2,   152.2,2,  107.40,2,   35.10,2,    0.01,4,    2.46,2,-999.000,9,-999.000,9,-999.000,9,  -999.0,9,  -999.0,9,-999.0000,9,  -999.00,-999.0000,9, -999.00,9, -999.00,9,  -999.0,9,  -999.0, -999.00,9, -999.00,9, -999.00,9, -999.00,9,   2.1538, -999.00
096U20160426,       P15S,      58,          1,         10,       2010,2,20160530,       1613,   -39.5154,  -172.4141,       4770,  2501.9,   2.1480,  34.6510,2,  34.6508,2,    154.4,2,   154.1,2,  110.81,2,   34.97,2,    0.01,4,    2.45,2,-999.000,9,-999.000,9,-999.000,9,  -999.0,9,  -999.0,9,-999.0000,9,  -999.00,-999.0000,9, -999.00,9, -999.00,9,  -999.0,9,  -999.0, -999.00,9, -999.00,9, -999.00,9, -999.00,9,   1.9648, -999.00
096U20160426,       P15S,      58,          1,          9,       2009,2,20160530,       1613,   -39.5154,  -172.4141,       4770,  2751.3,   1.9920,  34.6820,2,  34.6821,2,    164.6,2,   164.8,2,  107.05,2,   33.90,2,    0.01,4,    2.37,2,-999.000,9,-999.000,9,-999.000,9,  -999.0,9,  -999.0,9,-999.0000,9,  -999.00,-999.0000,9, -999.00,9, -999.00,9,  -999.0,9,  -999.0, -999.00,9, -999.00,9, -999.00,9, -999.00,9,   1.7883, -999.00
096U20160426,       P15S,      58,          1,          8,       2008,2,20160530,       1613,   -39.5154,  -172.4141,       4770,  2998.6,   1.8130,  34.7080,2,  34.7071,2,    177.4,2,   178.5,2,  103.50,2,   32.71,2,    0.01,4,    2.28,2,-999.000,9,-999.000,9,-999.000,9,  2275.3,2,  2370.8,2,-999.0000,9,  -999.00,-999.0000,9, -999.00,9, -999.00,9,  -999.0,9,  -999.0, -999.00,9, -999.00,9, -999.00,9, -999.00,9,   1.5893, -999.00
096U20160426,       P15S,      58,          1,          7,       2007,2,20160530,       1613,   -39.5154,  -172.4141,       4770,  3301.6,   1.6060,  34.7270,2,  34.7266,2,    191.4,2,   193.2,2,  100.97,2,   31.63,2,    0.01,4,    2.19,2,-999.000,9,-999.000,9,-999.000,9,  -999.0,9,  -999.0,9,-999.0000,9,  -999.00,-999.0000,9, -999.00,9, -999.00,9,  -999.0,9,  -999.0, -999.00,9, -999.00,9, -999.00,9, -999.00,9,   1.3570, -999.00
096U20160426,       P15S,      58,          1,          6,       2006,2,20160530,       1613,   -39.5154,  -172.4141,       4770,  3598.5,   1.3810,  34.7250,2,  34.7240,2,    197.5,2,   199.2,2,  105.81,2,   31.68,2,    0.01,4,    2.19,2,-999.000,9,-999.000,9,-999.000,9,  -999.0,9,  -999.0,9,-999.0000,9,  -999.00,-999.0000,9, -999.00,9, -999.00,9,  -999.0,9,  -999.0, -999.00,9, -999.00,9, -999.00,9, -999.00,9,   1.1075, -999.00
096U20160426,       P15S,      58,          1,          5,       2005,2,20160530,       1613,   -39.5154,  -172.4141,       4770,  3900.9,   1.1760,  34.7180,2,  34.7175,2,    202.1,2,   203.4,2,  111.49,2,   31.88,2,    0.01,4,    2.20,2,-999.000,9,-999.000,9,-999.000,9,  -999.0,9,  -999.0,9,-999.0000,9,  -999.00,-999.0000,9, -999.00,9, -999.00,9,  -999.0,9,  -999.0, -999.00,9, -999.00,9, -999.00,9, -999.00,9,   0.8765, -999.00
096U20160426,       P15S,      58,          1,          4,       2004,2,20160530,       1613,   -39.5154,  -172.4141,       4770,  4200.4,   1.0550,  34.7120,2,  34.7121,2,    204.4,2,   205.5,2,  115.64,2,   32.05,2,    0.01,4,    2.21,2,-999.000,9,-999.000,9,-999.000,9,  -999.0,9,  -999.0,9,-999.0000,9,  -999.00,-999.0000,9, -999.00,9, -999.00,9,  -999.0,9,  -999.0, -999.00,9, -999.00,9, -999.00,9, -999.00,9,   0.7269, -999.00
096U20160426,       P15S,      58,          1,          3,       2003,2,20160530,       1613,   -39.5154,  -172.4141,       4770,  4500.3,   1.0000,  34.7090,2,  34.7091,2,    206.1,2,   206.7,2,  118.05,2,   32.11,2,    0.01,4,    2.22,2,-999.000,9,-999.000,9,-999.000,9,  -999.0,9,  -999.0,9,-999.0000,9,  -999.00,-999.0000,9, -999.00,9, -999.00,9,  -999.0,9,  -999.0, -999.00,9, -999.00,9, -999.00,9, -999.00,9,   0.6403, -999.00
096U20160426,       P15S,      58,          1,          2,       2002,2,20160530,       1613,   -39.5154,  -172.4141,       4770,  4699.5,   0.9750,  34.7070,2,  34.7063,2,    207.0,2,   207.5,2,  119.51,2,   32.17,2,    0.01,4,    2.23,2,-999.000,9,-999.000,9,-999.000,9,  2264.1,2,  2365.7,2,-999.0000,9,  -999.00,-999.0000,9, -999.00,9, -999.00,9,  -999.0,9,  -999.0, -999.00,9, -999.00,9, -999.00,9, -999.00,9,   0.5935, -999.00
096U20160426,       P15S,      58,          1,          1,       2001,2,20160530,       1613,   -39.5154,  -172.4141,       4770,  4838.5,   0.9890,  34.7060,2,  34.7065,2,    207.0,2,   207.8,2,  119.63,2,   32.26,2,    0.01,4,    2.23,2,-999.000,9,-999.000,9,-999.000,9,  -999.0,9,  -999.0,9,-999.0000,9,  -999.00,-999.0000,9, -999.00,9, -999.00,9,  -999.0,9,  -999.0, -999.00,9, -999.00,9, -999.00,9, -999.00,9,   0.5909, -999.00