BOTTLE,20230413CCHSIOENA
EXPOCODE,SECT_ID,STNNBR,CASTNO,SAMPNO,BTLNBR,BTLNBR_FLAG_W,DATE,TIME,LATITUDE,LONGITUDE,DEPTH,CTDPRS,CTDTMP,CTDSAL,CTDSAL_FLAG_W,SALNTY,SALNTY_FLAG_W,CTDOXY,CTDOXY_FLAG_W,OXYGEN,OXYGEN_FLAG_W,SILCAT,SILCAT_FLAG_W,NITRAT,NITRAT_FLAG_W,NITRIT,NITRIT_FLAG_W,PHSPHT,PHSPHT_FLAG_W,CFC-11,CFC-11_FLAG_W,CFC-12,CFC-12_FLAG_W,SF6,SF6_FLAG_W,TCARBN,TCARBN_FLAG_W,ALKALI,ALKALI_FLAG_W,PH_TOT,PH_TOT_FLAG_W,PH_TMP,HELIUM,HELIUM_FLAG_W,DELHE3,DELHE3_FLAG_W,DELC13,DELC13_FLAG_W,DELC14,DELC14_FLAG_W,C14ERR,POC,POC_FLAG_W,PON,PON_FLAG_W,CHLORA,CHLORA_FLAG_W,PPHYTN,PPHYTN_FLAG_W,THETA,DELHER
,,,,,,,,,,,METERS,DBAR,ITS-90,PSS-78,,PSS-78,,UMOL/KG,,UMOL/KG,,UMOL/KG,,UMOL/KG,,UMOL/KG,,UMOL/KG,,PMOL/KG,,PMOL/KG,,FMOL/KG,,UMOL/KG,,UMOL/KG,,,,DEG C,NMOL/KG,,PERCNT,,/MILLE,,/MILLE,,/MILLE,UG/KG,,UG/KG,,UG/KG,,UG/KG,,DEG C,PERCNT
096U20160426,       P15S,     121,          1,         36,       2036,2,20160619,       0248,    -9.4990,  -168.9992,       5355,     5.3,  29.9780,  34.5950,2,  34.5933,2,    187.2,2,   192.6,2,    0.27,2,   -0.05,4,    0.01,4,    0.15,2,-999.000,9,-999.000,9,-999.000,9,  -999.0,9,  -999.0,9,-999.0000,9,  -999.00,-999.0000,9, -999.00,9, -999.00,9,  -999.0,9,  -999.0, -999.00,9, -999.00,9, -999.00,9, -999.00,9,  29.9767, -999.00
096U20160426,       P15S,     121,          1,         35,       2035,2,20160619,       0248,    -9.4990,  -168.9992,       5355,    35.9,  29.9050,  34.5910,2,  34.5931,2,    187.6,2,   192.6,2,    0.28,2,   -0.05,4,    0.01,4,    0.15,2,   1.376,2,   0.888,2,   1.238,2,  1929.2,6,  2276.5,6,-999.0000,9,  -999.00,-999.0000,9, -999.00,9,    1.37,2,    39.9,2,     2.0, -999.00,9, -999.00,9, -999.00,9, -999.00,9,  29.8961, -999.00
096U20160426,       P15S,     121,          1,         34,       2034,2,20160619,       0248,    -9.4990,  -168.9992,       5355,    62.1,  29.9640,  35.2100,2,  35.4737,2,    190.9,2,   190.0,2,    0.51,2,    0.59,2,    0.18,2,    0.29,2,-999.000,9,-999.000,9,-999.000,9,  -999.0,9,  -999.0,9,-999.0000,9,  -999.00,-999.0000,9, -999.00,9, -999.00,9,  -999.0,9,  -999.0, -999.00,9, -999.00,9, -999.00,9, -999.00,9,  29.9486, -999.00
096U20160426,       P15S,     121,          1,         33,       2033,2,20160619,       0248,    -9.4990,  -168.9992,       5355,    91.3,  27.6100,  35.9310,2,  36.0071,2,    155.3,2,   153.1,2,    0.94,2,    4.05,2,    1.18,2,    0.60,2,-999.000,9,-999.000,9,-999.000,9,  -999.0,9,  -999.0,9,-999.0000,9,  -999.00,-999.0000,9, -999.00,9, -999.00,9,  -999.0,9,  -999.0, -999.00,9, -999.00,9, -999.00,9, -999.00,9,  27.5886, -999.00
096U20160426,       P15S,     121,          1,         32,       2032,2,20160619,       0248,    -9.4990,  -168.9992,       5355,   130.7,  24.3850,  36.2220,2,  36.1632,2,    144.2,2,   145.8,2,    0.88,2,    6.60,2,    0.18,2,    0.70,2,   1.772,2,   1.142,2,   1.187,2,  2118.5,2,  2378.6,2,-999.0000,9,  -999.00,-999.0000,9, -999.00,9,    0.91,2,    46.6,2,     2.0, -999.00,9, -999.00,9, -999.00,9, -999.00,9,  24.3570, -999.00
096U20160426,       P15S,     121,          1,         31,       2031,2,20160619,       0248,    -9.4990,  -168.9992,       5355,   165.5,  22.0840,  36.0110,2,  35.9202,2,    143.8,2,   145.5,2,    1.33,2,    8.02,2,    0.02,2,    0.79,2,-999.000,9,-999.000,9,-999.000,9,  2131.3,2,  2364.7,2,-999.0000,9,  -999.00,-999.0000,9, -999.00,9,    0.86,2,    48.9,2,     2.0, -999.00,9, -999.00,9, -999.00,9, -999.00,9,  22.0510, -999.00
096U20160426,       P15S,     121,          1,         30,       2030,2,20160619,       0248,    -9.4990,  -168.9992,       5355,   214.2,  19.6910,  35.6950,2,  35.5934,2,    138.2,2,   138.1,2,    2.75,2,   10.88,2,    0.02,4,    0.97,2,   2.043,2,   1.259,2,   1.082,2,  2145.6,2,  2344.0,6,-999.0000,9,  -999.00,-999.0000,9, -999.00,9,    0.78,2,    47.6,2,     2.0, -999.00,9, -999.00,9, -999.00,9, -999.00,9,  19.6517, -999.00
096U20160426,       P15S,     121,          1,         29,       2029,2,20160619,       0248,    -9.4990,  -168.9992,       5355,   265.4,  15.1800,  35.1290,2,  35.0626,2,    109.7,2,   102.5,2,    9.07,2,   18.47,2,    0.01,4,    1.55,2,-999.000,9,-999.000,9,-999.000,9,  -999.0,9,  -999.0,9,-999.0000,9,  -999.00,-999.0000,9, -999.00,9, -999.00,9,  -999.0,9,  -999.0, -999.00,9, -999.00,9, -999.00,9, -999.00,9,  15.1394, -999.00
096U20160426,       P15S,     121,          1,         28,       2028,2,20160619,       0248,    -9.4990,  -168.9992,       5355,   315.6,  12.5530,  34.8990,2,  34.8728,2,     94.9,2,    93.6,2,   14.14,2,   23.29,2,    0.01,4,    1.80,2,   1.367,2,   0.778,2,   0.443,2,  2196.2,2,  2305.2,2,-999.0000,9,  -999.00,-999.0000,9, -999.00,9,    0.54,2,     6.2,2,     2.0, -999.00,9, -999.00,9, -999.00,9, -999.00,9,  12.5104, -999.00
096U20160426,       P15S,     121,          1,         27,       2027,2,20160619,       0248,    -9.4990,  -168.9992,       5355,   367.0,  10.4200,  34.7500,2,  34.7449,2,    107.1,2,   105.5,2,   18.33,2,   26.02,2,    0.01,4,    1.91,2,-999.000,9,-999.000,9,-999.000,9,  -999.0,9,  -999.0,9,-999.0000,9,  -999.00,-999.0000,9, -999.00,9, -999.00,9,  -999.0,9,  -999.0, -999.00,9, -999.00,9, -999.00,9, -999.00,9,  10.3761, -999.00
096U20160426,       P15S,     121,          1,         26,       2026,2,20160619,       0248,    -9.4990,  -168.9992,       5355,   436.8,   9.1170,  34.6660,2,  34.6613,2,    118.8,2,   118.4,2,   22.07,2,   27.72,2,    0.01,4,    1.98,2,   0.901,6,   0.488,6,   0.205,6,  2203.4,2,  2301.0,2,-999.0000,9,  -999.00,-999.0000,9, -999.00,9,    0.65,2,   -43.6,2,     2.0, -999.00,9, -999.00,9, -999.00,9, -999.00,9,   9.0687, -999.00
096U20160426,       P15S,     121,          1,         25,       2025,2,20160619,       0248,    -9.4990,  -168.9992,       5355,   536.9,   7.0300,  34.5490,2,  34.5470,2,    126.2,2,   125.0,2,   33.38,2,   31.60,2,    0.01,4,    2.21,2,-999.000,9,-999.000,9,-999.000,9,  -999.0,9,  -999.0,9,-999.0000,9,  -999.00,-999.0000,9, -999.00,9, -999.00,9,  -999.0,9,  -999.0, -999.00,9, -999.00,9, -999.00,9, -999.00,9,   6.9787, -999.00
096U20160426,       P15S,     121,          1,         24,       2024,2,20160619,       0248,    -9.4990,  -168.9992,       5355,   637.0,   6.1620,  34.5230,2,  34.5222,2,    122.6,2,   121.4,2,   41.96,2,   33.58,2,    0.01,4,    2.35,2,   0.264,2,   0.141,2,       0,2,  2235.6,2,  2313.0,2,-999.0000,9,  -999.00,-999.0000,9, -999.00,9,    0.62,2,  -109.0,2,     2.0, -999.00,9, -999.00,9, -999.00,9, -999.00,9,   6.1049, -999.00
096U20160426,       P15S,     121,          1,         23,       2023,2,20160619,       0248,    -9.4990,  -168.9992,       5355,   736.5,   5.6690,  34.5140,2,  34.5125,2,    121.9,2,   120.1,2,   48.85,2,   34.63,2,    0.01,4,    2.43,2,-999.000,9,-999.000,9,-999.000,9,  -999.0,9,  -999.0,9,-999.0000,9,  -999.00,-999.0000,9, -999.00,9, -999.00,9,  -999.0,9,  -999.0, -999.00,9, -999.00,9, -999.00,9, -999.00,9,   5.6053, -999.00
096U20160426,       P15S,     121,          1,         22,       2022,2,20160619,       0248,    -9.4990,  -168.9992,       5355,   835.2,   5.1000,  34.5160,2,  34.5154,2,    120.3,2,   118.6,2,   58.22,2,   35.56,2,    0.01,4,    2.51,2,   0.096,2,   0.054,2,       0,2,  2254.3,2,  2327.9,2,-999.0000,9,  -999.00,-999.0000,9, -999.00,9,    0.49,2,  -145.6,2,     2.0, -999.00,9, -999.00,9, -999.00,9, -999.00,9,   5.0307, -999.00
096U20160426,       P15S,     121,          1,         21,       2021,2,20160619,       0248,    -9.4990,  -168.9992,       5355,   935.3,   4.6620,  34.5250,2,  34.5248,2,    116.5,2,   114.6,2,   66.86,2,   36.55,2,    0.01,4,    2.58,2,-999.000,9,-999.000,9,-999.000,9,  -999.0,9,  -999.0,9,-999.0000,9,  -999.00,-999.0000,9, -999.00,9, -999.00,9,  -999.0,9,  -999.0, -999.00,9, -999.00,9, -999.00,9, -999.00,9,   4.5869, -999.00
096U20160426,       P15S,     121,          1,         20,       2020,2,20160619,       0248,    -9.4990,  -168.9992,       5355,  1035.5,   4.2730,  34.5360,2,  34.5340,2,    114.7,2,   112.4,2,   74.77,2,   37.11,2,    0.01,4,    2.63,2,-999.000,9,-999.000,9,-999.000,9,  -999.0,9,  -999.0,9,-999.0000,9,  -999.00,-999.0000,9, -999.00,9, -999.00,9,  -999.0,9,  -999.0, -999.00,9, -999.00,9, -999.00,9, -999.00,9,   4.1921, -999.00
096U20160426,       P15S,     121,          1,         19,       2019,2,20160619,       0248,    -9.4990,  -168.9992,       5355,  1136.8,   3.9060,  34.5520,2,  34.5510,2,    112.3,2,   110.1,2,   84.07,2,   37.63,2,    0.01,4,    2.67,2,   0.008,2,   0.009,2,   0.086,3,  2290.5,2,  2355.6,2,-999.0000,9,  -999.00,-999.0000,9, -999.00,9,    0.28,2,  -181.8,2,     2.0, -999.00,9, -999.00,9, -999.00,9, -999.00,9,   3.8195, -999.00
096U20160426,       P15S,     121,          1,         18,       2018,2,20160619,       0248,    -9.4990,  -168.9992,       5355,  1236.3,   3.5780,  34.5650,2,  34.5638,2,    115.4,2,   113.2,2,   91.24,2,   37.55,2,    0.01,4,    2.67,2,-999.000,9,-999.000,9,-999.000,9,  -999.0,9,  -999.0,9,-999.0000,9,  -999.00,-999.0000,9, -999.00,9, -999.00,9,  -999.0,9,  -999.0, -999.00,9, -999.00,9, -999.00,9, -999.00,9,   3.4861, -999.00
096U20160426,       P15S,     121,          1,         17,       2017,2,20160619,       0248,    -9.4990,  -168.9992,       5355,  1335.6,   3.3100,  34.5760,2,  34.5758,2,    118.3,2,   116.4,2,   97.29,2,   37.45,2,    0.01,4,    2.66,2,-999.000,9,-999.000,9,-999.000,9,  -999.0,9,  -999.0,9,-999.0000,9,  -999.00,-999.0000,9, -999.00,9, -999.00,9,  -999.0,9,  -999.0, -999.00,9, -999.00,9, -999.00,9, -999.00,9,   3.2125, -999.00
096U20160426,       P15S,     121,          1,         16,       2016,2,20160619,       0248,    -9.4990,  -168.9992,       5355,  1466.1,   3.0300,  34.5890,2,  34.5880,2,    122.7,2,   121.1,2,  103.07,2,   37.17,2,    0.01,4,    2.63,2,   0.004,2,   0.004,2,       0,2,  2306.3,2,  2378.3,2,-999.0000,9,  -999.00,-999.0000,9, -999.00,9,    0.24,2,  -203.4,2,     2.0, -999.00,9, -999.00,9, -999.00,9, -999.00,9,   2.9246, -999.00
096U20160426,       P15S,     121,          1,         15,       2015,2,20160619,       0248,    -9.4990,  -168.9992,       5355,  1666.0,   2.6150,  34.6120,2,  34.6117,2,    128.1,2,   127.3,2,  112.62,2,   36.90,2,    0.01,4,    2.61,2,-999.000,9,-999.000,9,-999.000,9,  -999.0,9,  -999.0,9,-999.0000,9,  -999.00,-999.0000,9, -999.00,9, -999.00,9,  -999.0,9,  -999.0, -999.00,9, -999.00,9, -999.00,9, -999.00,9,   2.4979, -999.00
096U20160426,       P15S,     121,          1,         14,       2014,2,20160619,       0248,    -9.4990,  -168.9992,       5355,  1865.6,   2.3610,  34.6270,2,  34.6278,2,    131.9,2,   131.3,2,  118.12,2,   36.64,2,    0.01,4,    2.58,2,-999.000,9,-999.000,9,-999.000,9,  -999.0,9,  -999.0,9,-999.0000,9,  -999.00,-999.0000,9, -999.00,9, -999.00,9,  -999.0,9,  -999.0, -999.00,9, -999.00,9, -999.00,9, -999.00,9,   2.2305, -999.00
096U20160426,       P15S,     121,          1,         13,       2013,2,20160619,       0248,    -9.4990,  -168.9992,       5355,  2086.1,   2.1510,  34.6410,2,  34.6393,2,    136.8,2,   136.9,2,  122.34,2,   36.33,2,    0.01,4,    2.55,2,-999.000,9,-999.000,9,-999.000,9,  -999.0,9,  -999.0,9,-999.0000,9,  -999.00,-999.0000,9, -999.00,9, -999.00,9,  -999.0,9,  -999.0, -999.00,9, -999.00,9, -999.00,9, -999.00,9,   2.0049, -999.00
096U20160426,       P15S,     121,          1,         12,       2012,2,20160619,       0248,    -9.4990,  -168.9992,       5355,  2336.4,   1.9340,  34.6570,2,  34.6560,2,    138.5,2,   138.7,2,  129.57,2,   36.29,2,    0.01,4,    2.55,2,   0.000,2,   0.001,2,   0.015,2,  2325.5,2,  2407.3,2,-999.0000,9,  -999.00,-999.0000,9, -999.00,9,    0.15,2,  -221.5,2,     2.0, -999.00,9, -999.00,9, -999.00,9, -999.00,9,   1.7696, -999.00
096U20160426,       P15S,     121,          1,         11,       2011,2,20160619,       0248,    -9.4990,  -168.9992,       5355,  2585.3,   1.8240,  34.6650,2,  34.6638,2,    141.7,2,   142.1,2,  132.10,2,   36.14,2,    0.01,4,    2.53,2,-999.000,9,-999.000,9,-999.000,9,  -999.0,9,  -999.0,9,-999.0000,9,  -999.00,-999.0000,9, -999.00,9, -999.00,9,  -999.0,9,  -999.0, -999.00,9, -999.00,9, -999.00,9, -999.00,9,   1.6392, -999.00
096U20160426,       P15S,     121,          1,         10,       2010,2,20160619,       0248,    -9.4990,  -168.9992,       5355,  2836.3,   1.7440,  34.6720,2,  34.6722,2,    145.9,2,   146.2,2,  132.67,2,   35.85,2,    0.01,4,    2.51,2,-999.000,9,-999.000,9,-999.000,9,  2324.4,2,  2411.6,6,-999.0000,9,  -999.00,-999.0000,9, -999.00,9,    0.27,2,  -221.2,2,     2.0, -999.00,9, -999.00,9, -999.00,9, -999.00,9,   1.5375, -999.00
096U20160426,       P15S,     121,          1,          9,       2009,2,20160619,       0248,    -9.4990,  -168.9992,       5355,  3101.2,   1.6640,  34.6770,2,  34.6764,2,    150.0,2,   149.9,2,  132.87,2,   35.60,2,    0.01,4,    2.49,2,   0.007,2,   0.006,2,    0.02,3,  2319.2,2,  2410.9,2,-999.0000,9,  -999.00,-999.0000,9, -999.00,9,    0.20,2,  -220.3,2,     2.0, -999.00,9, -999.00,9, -999.00,9, -999.00,9,   1.4337, -999.00
096U20160426,       P15S,     121,          1,          8,       2008,2,20160619,       0248,    -9.4990,  -168.9992,       5355,  3400.5,   1.5870,  34.6830,2,  34.6813,2,    156.2,2,   156.6,2,  133.09,2,   35.15,2,    0.01,4,    2.45,2,-999.000,9,-999.000,9,-999.000,9,  -999.0,9,  -999.0,9,-999.0000,9,  -999.00,-999.0000,9, -999.00,9, -999.00,9,  -999.0,9,  -999.0, -999.00,9, -999.00,9, -999.00,9, -999.00,9,   1.3288, -999.00
096U20160426,       P15S,     121,          1,          7,       2007,2,20160619,       0248,    -9.4990,  -168.9992,       5355,  3701.3,   1.4960,  34.6890,2,  34.6877,2,    163.3,2,   164.0,2,  132.18,2,   34.72,2,    0.01,4,    2.42,2,   0.004,2,   0.002,2,   0.018,2,  2309.6,2,  2407.0,2,-999.0000,9,  -999.00,-999.0000,9, -999.00,9,    0.21,2,  -205.8,2,     2.0, -999.00,9, -999.00,9, -999.00,9, -999.00,9,   1.2090, -999.00
096U20160426,       P15S,     121,          1,          6,       2006,2,20160619,       0248,    -9.4990,  -168.9992,       5355,  4034.6,   1.4180,  34.6940,2,  34.6935,2,    170.5,2,   171.8,2,  130.27,2,   34.18,2,    0.01,4,    2.38,2,-999.000,9,-999.000,9,-999.000,9,  -999.0,9,  -999.0,9,-999.0000,9,  -999.00,-999.0000,9, -999.00,9, -999.00,9,  -999.0,9,  -999.0, -999.00,9, -999.00,9, -999.00,9, -999.00,9,   1.0975, -999.00
096U20160426,       P15S,     121,          1,          5,       2005,2,20160619,       0248,    -9.4990,  -168.9992,       5355,  4435.0,   1.1420,  34.7100,2,  34.7094,2,    197.4,2,   200.4,2,  117.57,2,   32.06,2,    0.01,4,    2.22,2,   0.044,2,   0.025,2,       0,2,  2267.8,2,  2370.8,2,-999.0000,9,  -999.00,-999.0000,9, -999.00,9,    0.43,2,  -171.3,2,     2.0, -999.00,9, -999.00,9, -999.00,9, -999.00,9,   0.7853, -999.00
096U20160426,       P15S,     121,          1,          4,       2004,2,20160619,       0248,    -9.4990,  -168.9992,       5355,  4834.9,   1.0870,  34.7100,2,  34.7095,2,    202.3,2,   204.1,2,  117.76,2,   31.86,2,    0.01,4,    2.20,2,-999.000,9,-999.000,9,-999.000,9,  2265.3,2,  2367.1,2,-999.0000,9,  -999.00,-999.0000,9, -999.00,9,    0.55,2,  -167.8,2,     2.0, -999.00,9, -999.00,9, -999.00,9, -999.00,9,   0.6861, -999.00
096U20160426,       P15S,     121,          1,          3,       2003,2,20160619,       0248,    -9.4990,  -168.9992,       5355,  5236.4,   1.1240,  34.7100,2,  34.7100,2,    203.8,2,   205.0,2,  118.16,2,   31.84,2,    0.01,4,    2.20,2,   0.060,2,   0.034,2,       0,2,  2264.0,6,  2365.7,6,-999.0000,9,  -999.00,-999.0000,9, -999.00,9,    0.45,2,  -168.7,2,     2.0, -999.00,9, -999.00,9, -999.00,9, -999.00,9,   0.6736, -999.00
096U20160426,       P15S,     121,          1,          2,       2002,2,20160619,       0248,    -9.4990,  -168.9992,       5355,  5360.3,   1.1400,  34.7090,2,  34.7091,2,    204.0,2,   204.8,2,  118.15,2,   31.88,2,    0.01,4,    2.21,2,-999.000,9,-999.000,9,-999.000,9,  -999.0,9,  -999.0,9,-999.0000,9,  -999.00,-999.0000,9, -999.00,9, -999.00,9,  -999.0,9,  -999.0, -999.00,9, -999.00,9, -999.00,9, -999.00,9,   0.6738, -999.00
096U20160426,       P15S,     121,          1,          1,       2001,2,20160619,       0248,    -9.4990,  -168.9992,       5355,  5429.8,   1.1490,  34.7090,2,  34.7094,2,    204.2,2,   205.2,2,  118.17,2,   31.87,2,    0.01,4,    2.20,2,   0.061,2,   0.034,2,       0,2,  2264.5,2,  2365.4,2,-999.0000,9,  -999.00,-999.0000,9, -999.00,9,    0.41,2,  -170.9,2,     2.0, -999.00,9, -999.00,9, -999.00,9, -999.00,9,   0.6738, -999.00