BOTTLE,20230413CCHSIOENA
EXPOCODE,SECT_ID,STNNBR,CASTNO,SAMPNO,BTLNBR,BTLNBR_FLAG_W,DATE,TIME,LATITUDE,LONGITUDE,DEPTH,CTDPRS,CTDTMP,CTDSAL,CTDSAL_FLAG_W,SALNTY,SALNTY_FLAG_W,CTDOXY,CTDOXY_FLAG_W,OXYGEN,OXYGEN_FLAG_W,SILCAT,SILCAT_FLAG_W,NITRAT,NITRAT_FLAG_W,NITRIT,NITRIT_FLAG_W,PHSPHT,PHSPHT_FLAG_W,CFC-11,CFC-11_FLAG_W,CFC-12,CFC-12_FLAG_W,SF6,SF6_FLAG_W,TCARBN,TCARBN_FLAG_W,ALKALI,ALKALI_FLAG_W,PH_TOT,PH_TOT_FLAG_W,PH_TMP,HELIUM,HELIUM_FLAG_W,DELHE3,DELHE3_FLAG_W,DELC13,DELC13_FLAG_W,DELC14,DELC14_FLAG_W,C14ERR,POC,POC_FLAG_W,PON,PON_FLAG_W,CHLORA,CHLORA_FLAG_W,PPHYTN,PPHYTN_FLAG_W,THETA,DELHER
,,,,,,,,,,,METERS,DBAR,ITS-90,PSS-78,,PSS-78,,UMOL/KG,,UMOL/KG,,UMOL/KG,,UMOL/KG,,UMOL/KG,,UMOL/KG,,PMOL/KG,,PMOL/KG,,FMOL/KG,,UMOL/KG,,UMOL/KG,,,,DEG C,NMOL/KG,,PERCNT,,/MILLE,,/MILLE,,/MILLE,UG/KG,,UG/KG,,UG/KG,,UG/KG,,DEG C,PERCNT
096U20160426,       P15S,     134,          1,         36,       2036,2,20160622,       1725,    -2.9995,  -168.7514,       5387,     4.8,  29.9300,  34.8350,2,  34.8390,2,    188.8,2,   194.1,2,    0.69,2,    0.02,2,    0.01,4,    0.18,2,   1.388,2,   0.882,2,   1.268,2,  1958.6,2,  2291.6,2,-999.0000,9,  -999.00,-999.0000,9, -999.00,9,    1.25,2,    37.2,2,     2.0, -999.00,9, -999.00,9,    0.49,2,    0.00,3,  29.9288, -999.00
096U20160426,       P15S,     134,          1,         35,       2035,2,20160622,       1725,    -2.9995,  -168.7514,       5387,    20.1,  29.9690,  34.8440,2,  34.8447,2,    187.4,2,   194.1,2,    0.71,2,    0.02,2,    0.01,4,    0.19,2,   1.385,2,   0.879,2,   1.182,2,  1959.0,6,  2291.2,6,-999.0000,9,  -999.00,-999.0000,9, -999.00,9, -999.00,9,  -999.0,9,  -999.0, -999.00,9, -999.00,9,    0.47,2,    0.01,3,  29.9640, -999.00
096U20160426,       P15S,     134,          1,         34,       2034,2,20160622,       1725,    -2.9995,  -168.7514,       5387,    40.8,  29.9720,  34.8440,2,  34.8453,2,    187.4,2,   193.2,2,    0.69,2,    0.02,2,    0.01,4,    0.18,2,-999.000,9,-999.000,9,-999.000,9,  -999.0,9,  -999.0,9,-999.0000,9,  -999.00,-999.0000,9, -999.00,9, -999.00,9,  -999.0,9,  -999.0, -999.00,9, -999.00,9,    0.45,2,    0.04,3,  29.9619, -999.00
096U20160426,       P15S,     134,          1,         33,       2033,2,20160622,       1725,    -2.9995,  -168.7514,       5387,    81.0,  29.6410,  35.5740,2,  35.5694,2,    177.2,2,   177.7,2,    1.37,2,    1.55,2,    0.27,2,    0.43,2,   1.454,2,   0.927,2,   1.237,2,  2024.9,2,  2342.1,2,-999.0000,9,  -999.00,-999.0000,9, -999.00,9,    1.13,2,    31.4,2,     2.0, -999.00,9, -999.00,9,    0.72,2,    0.15,3,  29.6211, -999.00
096U20160426,       P15S,     134,          1,         32,       2032,2,20160622,       1725,    -2.9995,  -168.7514,       5387,   111.0,  25.6830,  36.0110,2,  35.9491,2,    150.6,2,   152.4,2,    2.32,2,    6.03,2,    1.12,2,    0.73,2,   1.657,2,   1.061,2,   1.229,2,  2094.3,2,  2365.1,2,-999.0000,9,  -999.00,-999.0000,9, -999.00,9,    0.93,2,    32.0,2,     2.0, -999.00,9, -999.00,9,    0.51,2,    0.11,3,  25.6584, -999.00
096U20160426,       P15S,     134,          1,         31,       2031,2,20160622,       1725,    -2.9995,  -168.7514,       5387,   137.2,  19.2040,  35.5500,2,  35.4748,2,    117.2,2,   113.5,2,    7.17,2,   15.11,2,    0.03,2,    1.23,2,   1.798,2,   1.091,2,   0.961,2,  2158.7,2,  2335.5,2,-999.0000,9,  -999.00,-999.0000,9, -999.00,9,    0.58,2,    35.3,2,     2.0, -999.00,9, -999.00,9, -999.00,9, -999.00,9,  19.1793, -999.00
096U20160426,       P15S,     134,          1,         30,       2030,2,20160622,       1725,    -2.9995,  -168.7514,       5387,   186.7,  12.9410,  34.9750,2,  34.9262,2,    106.9,2,   108.6,2,   15.87,2,   22.68,2,    0.01,4,    1.64,2,-999.000,9,-999.000,9,-999.000,9,  2184.7,2,  2305.8,2,-999.0000,9,  -999.00,-999.0000,9, -999.00,9,    0.50,2,     3.3,2,     2.0, -999.00,9, -999.00,9, -999.00,9, -999.00,9,  12.9154, -999.00
096U20160426,       P15S,     134,          1,         29,       2029,2,20160622,       1725,    -2.9995,  -168.7514,       5387,   236.7,  11.3280,  34.8270,2,  34.8194,2,    125.9,2,   120.4,2,   17.99,2,   23.61,2,    0.01,4,    1.67,2,   1.478,2,   0.821,2,   0.436,2,  2184.1,2,  2302.2,2,-999.0000,9,  -999.00,-999.0000,9, -999.00,9,    0.54,2,    -1.7,2,     2.0, -999.00,9, -999.00,9, -999.00,9, -999.00,9,  11.2983, -999.00
096U20160426,       P15S,     134,          1,         28,       2028,2,20160622,       1725,    -2.9995,  -168.7514,       5387,   285.9,  10.8200,  34.7840,2,  34.7828,2,     77.1,2,    86.5,2,   23.05,2,   27.77,2,    0.00,4,    1.93,2,   1.134,2,   0.627,2,   0.263,2,  2210.4,2,  2302.8,2,-999.0000,9,  -999.00,-999.0000,9, -999.00,9,    0.43,2,   -20.0,2,     2.0, -999.00,9, -999.00,9, -999.00,9, -999.00,9,  10.7851, -999.00
096U20160426,       P15S,     134,          1,         27,       2027,2,20160622,       1725,    -2.9995,  -168.7514,       5387,   335.4,  10.4630,  34.7610,2,  34.7580,2,     88.4,2,    85.0,2,   24.32,2,   28.73,2,    0.00,4,    1.99,2,   1.041,2,   0.572,2,   0.272,2,  2213.1,2,  2301.6,6,-999.0000,9,  -999.00,-999.0000,9, -999.00,9, -999.00,9,  -999.0,9,  -999.0, -999.00,9, -999.00,9, -999.00,9, -999.00,9,  10.4228, -999.00
096U20160426,       P15S,     134,          1,         26,       2026,2,20160622,       1725,    -2.9995,  -168.7514,       5387,   376.1,   9.9880,  34.7300,2,  34.7295,2,     77.6,2,    74.7,2,   26.76,2,   30.65,2,    0.00,4,    2.12,2,   0.848,2,   0.458,2,   0.171,2,  2224.2,2,  2301.8,2,-999.0000,9,  -999.00,-999.0000,9, -999.00,9,    0.33,2,   -37.1,2,     2.0, -999.00,9, -999.00,9, -999.00,9, -999.00,9,   9.9441, -999.00
096U20160426,       P15S,     134,          1,         25,       2025,2,20160622,       1725,    -2.9995,  -168.7514,       5387,   486.9,   8.4670,  34.6430,2,  34.6365,2,     64.1,2,    62.2,2,   34.77,2,   35.40,2,    0.00,4,    2.44,2,   0.396,6,   0.215,6,    0.07,6,  2247.4,2,  2302.6,2,-999.0000,9,  -999.00,-999.0000,9, -999.00,9,    0.28,2,   -79.1,2,     2.0, -999.00,9, -999.00,9, -999.00,9, -999.00,9,   8.4154, -999.00
096U20160426,       P15S,     134,          1,         24,       2024,2,20160622,       1725,    -2.9995,  -168.7514,       5387,   564.1,   7.3370,  34.5890,2,  34.5885,2,     65.5,2,    60.9,2,   42.86,2,   37.73,2,    0.00,4,    2.61,2,   0.194,2,   0.104,2,   0.016,2,  2259.8,2,  2309.6,2,-999.0000,9,  -999.00,-999.0000,9, -999.00,9,    0.28,2,  -107.4,2,     2.0, -999.00,9, -999.00,9, -999.00,9, -999.00,9,   7.2817, -999.00
096U20160426,       P15S,     134,          1,         23,       2023,2,20160622,       1725,    -2.9995,  -168.7514,       5387,   666.6,   6.3790,  34.5590,2,  34.5564,2,     68.6,2,    65.0,2,   53.76,2,   39.28,2,    0.00,4,    2.73,2,   0.077,2,   0.043,2,       0,2,  2272.3,2,  2318.7,2,-999.0000,9,  -999.00,-999.0000,9, -999.00,9,    0.23,2,  -130.0,2,     2.0, -999.00,9, -999.00,9, -999.00,9, -999.00,9,   6.3180, -999.00
096U20160426,       P15S,     134,          1,         22,       2022,2,20160622,       1725,    -2.9995,  -168.7514,       5387,   765.9,   5.4450,  34.5450,2,  34.5452,2,     80.3,2,    76.0,2,   64.93,2,   39.26,2,    0.00,4,    2.74,2,   0.036,2,   0.021,2,       0,2,  2283.0,2,  2330.7,2,-999.0000,9,  -999.00,-999.0000,9, -999.00,9,    0.27,2,  -153.4,2,     2.0, -999.00,9, -999.00,9, -999.00,9, -999.00,9,   5.3798, -999.00
096U20160426,       P15S,     134,          1,         21,       2021,2,20160622,       1725,    -2.9995,  -168.7514,       5387,   866.3,   4.9030,  34.5470,2,  34.5458,2,     86.0,2,    82.0,2,   73.69,2,   39.19,2,    0.00,4,    2.75,2,   0.019,2,   0.012,2,       0,2,  2288.4,2,  2340.5,2,-999.0000,9,  -999.00,-999.0000,9, -999.00,9,    0.23,2,  -164.3,2,     2.0, -999.00,9, -999.00,9, -999.00,9, -999.00,9,   4.8322, -999.00
096U20160426,       P15S,     134,          1,         20,       2020,2,20160622,       1725,    -2.9995,  -168.7514,       5387,   965.5,   4.5750,  34.5500,2,  34.5505,2,     91.6,2,    88.1,2,   79.87,2,   38.93,2,    0.00,4,    2.74,2,   0.015,2,   0.008,2,       0,2,  2292.8,2,  2348.5,2,-999.0000,9,  -999.00,-999.0000,9, -999.00,9, -999.00,9,  -999.0,9,  -999.0, -999.00,9, -999.00,9, -999.00,9, -999.00,9,   4.4978, -999.00
096U20160426,       P15S,     134,          1,         19,       2019,2,20160622,       1725,    -2.9995,  -168.7514,       5387,  1066.3,   4.2390,  34.5560,2,  34.5565,2,     95.4,2,    93.1,2,   86.67,2,   38.75,2,    0.00,4,    2.73,2,   0.010,2,   0.005,2,       0,2,  2299.2,2,  2356.6,2,-999.0000,9,  -999.00,-999.0000,9, -999.00,9,    0.11,2,  -182.2,2,     2.0, -999.00,9, -999.00,9, -999.00,9, -999.00,9,   4.1557, -999.00
096U20160426,       P15S,     134,          1,         18,       2018,2,20160622,       1725,    -2.9995,  -168.7514,       5387,  1161.5,   3.9140,  34.5690,2,  34.5688,2,     92.7,2,    88.9,2,   95.69,2,   39.30,2,    0.00,4,    2.77,2,   0.004,2,   0.002,2,       0,2,  2308.8,2,  2365.6,2,-999.0000,9,  -999.00,-999.0000,9, -999.00,9,    0.19,2,  -192.4,2,     2.0, -999.00,9, -999.00,9, -999.00,9, -999.00,9,   3.8253, -999.00
096U20160426,       P15S,     134,          1,         17,       2017,2,20160622,       1725,    -2.9995,  -168.7514,       5387,  1301.8,   3.4650,  34.5820,2,  34.5811,2,    100.7,2,    97.6,2,  103.62,2,   38.86,2,    0.00,4,    2.74,2,   0.002,2,   0.002,2,       0,2,  2313.1,2,  2375.3,2,-999.0000,9,  -999.00,-999.0000,9, -999.00,9,    0.08,2,  -203.0,2,     2.0, -999.00,9, -999.00,9, -999.00,9, -999.00,9,   3.3687, -999.00
096U20160426,       P15S,     134,          1,         16,       2016,2,20160622,       1725,    -2.9995,  -168.7514,       5387,  1440.6,   3.2030,  34.5930,2,  34.5932,2,    102.2,2,    99.7,2,  110.62,2,   38.85,2,    0.00,4,    2.73,2,-999.000,9,-999.000,9,-999.000,9,  2320.1,6,  2383.2,6,-999.0000,9,  -999.00,-999.0000,9, -999.00,9, -999.00,9,  -999.0,9,  -999.0, -999.00,9, -999.00,9, -999.00,9, -999.00,9,   3.0978, -999.00
096U20160426,       P15S,     134,          1,         15,       2015,2,20160622,       1725,    -2.9995,  -168.7514,       5387,  1636.2,   2.7780,  34.6110,2,  34.6122,2,    109.2,2,   107.7,2,  120.28,2,   38.36,2,    0.00,4,    2.70,2,-999.000,9,-999.000,9,-999.000,9,  -999.0,9,  -999.0,9,-999.0000,9,  -999.00,-999.0000,9, -999.00,9, -999.00,9,  -999.0,9,  -999.0, -999.00,9, -999.00,9, -999.00,9, -999.00,9,   2.6613, -999.00
096U20160426,       P15S,     134,          1,         14,       2014,2,20160622,       1725,    -2.9995,  -168.7514,       5387,  1827.1,   2.5450,  34.6240,2,  34.6257,2,    112.1,2,   109.9,2,  125.98,2,   38.30,2,    0.00,4,    2.69,2,   0.005,2,   0.002,2,       0,2,  2331.0,2,  2400.6,6,-999.0000,9,  -999.00,-999.0000,9, -999.00,9, -999.00,9,  -999.0,9,  -999.0, -999.00,9, -999.00,9, -999.00,9, -999.00,9,   2.4152, -999.00
096U20160426,       P15S,     134,          1,         13,       2013,2,20160622,       1725,    -2.9995,  -168.7514,       5387,  2065.7,   2.2240,  34.6420,2,  34.6425,2,    118.9,2,   118.2,2,  132.95,2,   37.82,2,    0.00,4,    2.65,2,   0.002,2,   0.003,2,       0,2,  2334.2,2,  2408.7,2,-999.0000,9,  -999.00,-999.0000,9, -999.00,9, -999.00,9,  -999.0,9,  -999.0, -999.00,9, -999.00,9, -999.00,9, -999.00,9,   2.0785, -999.00
096U20160426,       P15S,     134,          1,         12,       2012,2,20160622,       1725,    -2.9995,  -168.7514,       5387,  2315.7,   2.0200,  34.6540,2,  34.6532,2,    125.1,2,   124.2,2,  136.58,2,   37.53,2,    0.00,4,    2.61,2,  -0.001,2,   0.000,2,       0,2,  2336.2,2,  2412.7,2,-999.0000,9,  -999.00,-999.0000,9, -999.00,9, -999.00,9,  -999.0,9,  -999.0, -999.00,9, -999.00,9, -999.00,9, -999.00,9,   1.8559, -999.00
096U20160426,       P15S,     134,          1,         11,       2011,2,20160622,       1725,    -2.9995,  -168.7514,       5387,  2565.6,   1.8520,  34.6620,2,-999.0000,9,    129.2,2,  -999.0,9, -999.00,9, -999.00,9, -999.00,9, -999.00,9,-999.000,9,-999.000,9,-999.000,9,  -999.0,9,  -999.0,9,-999.0000,9,  -999.00,-999.0000,9, -999.00,9, -999.00,9,  -999.0,9,  -999.0, -999.00,9, -999.00,9, -999.00,9, -999.00,9,   1.6685, -999.00
096U20160426,       P15S,     134,          1,         10,       2010,2,20160622,       1725,    -2.9995,  -168.7514,       5387,  2814.8,   1.7270,  34.6700,2,  34.6712,2,    138.1,2,   138.7,2,  139.90,2,   36.62,2,    0.00,4,    2.53,2,   0.000,2,   0.000,2,       0,2,  2330.4,2,  2416.3,2,-999.0000,9,  -999.00,-999.0000,9, -999.00,9, -999.00,9,  -999.0,9,  -999.0, -999.00,9, -999.00,9, -999.00,9, -999.00,9,   1.5228, -999.00
096U20160426,       P15S,     134,          1,          9,       2009,2,20160622,       1725,    -2.9995,  -168.7514,       5387,  3079.2,   1.6270,  34.6770,2,  34.6803,2,    145.3,2,   146.5,2,  139.10,2,   36.02,2,    0.00,4,    2.48,2,-999.000,9,-999.000,9,-999.000,9,  -999.0,9,  -999.0,9,-999.0000,9,  -999.00,-999.0000,9, -999.00,9, -999.00,9,  -999.0,9,  -999.0, -999.00,9, -999.00,9, -999.00,9, -999.00,9,   1.3997, -999.00
096U20160426,       P15S,     134,          1,          8,       2008,2,20160622,       1725,    -2.9995,  -168.7514,       5387,  3365.0,   1.5320,  34.6830,2,  34.6827,2,    151.4,2,   152.4,2,  139.62,2,   35.73,2,    0.00,4,    2.45,2,   0.000,2,   0.000,2,       0,2,  2323.5,2,  2415.1,2,-999.0000,9,  -999.00,-999.0000,9, -999.00,9, -999.00,9,  -999.0,9,  -999.0, -999.00,9, -999.00,9, -999.00,9, -999.00,9,   1.2787, -999.00
096U20160426,       P15S,     134,          1,          7,       2007,2,20160622,       1725,    -2.9995,  -168.7514,       5387,  3699.4,   1.4430,  34.6900,2,  34.6906,2,    159.8,2,   161.1,2,  138.09,2,   35.14,2,    0.00,4,    2.40,2,-999.000,9,-999.000,9,-999.000,9,  -999.0,9,  -999.0,9,-999.0000,9,  -999.00,-999.0000,9, -999.00,9, -999.00,9,  -999.0,9,  -999.0, -999.00,9, -999.00,9, -999.00,9, -999.00,9,   1.1576, -999.00
096U20160426,       P15S,     134,          1,          6,       2006,2,20160622,       1725,    -2.9995,  -168.7514,       5387,  4090.3,   1.3840,  34.6950,2,  34.6960,2,    168.2,2,   169.3,2,  135.71,2,   34.57,2,    0.00,4,    2.35,2,   0.003,2,   0.000,2,       0,2,  2307.5,2,  2409.3,2,-999.0000,9,  -999.00,-999.0000,9, -999.00,9, -999.00,9,  -999.0,9,  -999.0, -999.00,9, -999.00,9, -999.00,9, -999.00,9,   1.0584, -999.00
096U20160426,       P15S,     134,          1,          5,       2005,2,20160622,       1725,    -2.9995,  -168.7514,       5387,  4489.4,   1.2800,  34.7020,2,  34.7017,2,    183.3,2,   185.7,2,  126.87,2,   33.42,2,    0.00,4,    2.27,2,   0.009,2,   0.006,2,       0,2,  2288.3,2,  2389.9,2,-999.0000,9,  -999.00,-999.0000,9, -999.00,9, -999.00,9,  -999.0,9,  -999.0, -999.00,9, -999.00,9, -999.00,9, -999.00,9,   0.9129, -999.00
096U20160426,       P15S,     134,          1,          4,       2004,2,20160622,       1725,    -2.9995,  -168.7514,       5387,  4894.2,   1.2250,  34.7050,2,  34.7071,2,    192.9,2,   194.7,2,  122.66,2,   32.69,2,    0.00,4,    2.22,2,   0.035,2,   0.018,2,       0,2,  2276.5,2,  2377.4,2,-999.0000,9,  -999.00,-999.0000,9, -999.00,9, -999.00,9,  -999.0,9,  -999.0, -999.00,9, -999.00,9, -999.00,9, -999.00,9,   0.8125, -999.00
096U20160426,       P15S,     134,          1,          3,       2003,2,20160622,       1725,    -2.9995,  -168.7514,       5387,  5295.5,   1.2250,  34.7070,2,  34.7066,2,    197.3,2,   198.5,2,  121.18,2,   32.43,2,    0.00,4,    2.21,2,   0.042,6,   0.022,6,   0.008,6,  2269.3,2,  2372.8,2,-999.0000,9,  -999.00,-999.0000,9, -999.00,9, -999.00,9,  -999.0,9,  -999.0, -999.00,9, -999.00,9, -999.00,9, -999.00,9,   0.7638, -999.00
096U20160426,       P15S,     134,          1,          2,       2002,2,20160622,       1725,    -2.9995,  -168.7514,       5387,  5380.5,   1.2360,  34.7060,2,  34.7077,2,    197.6,2,   198.4,2,  121.15,2,   32.42,2,    0.00,4,    2.21,2,-999.000,9,-999.000,9,-999.000,9,  -999.0,9,  -999.0,9,-999.0000,9,  -999.00,-999.0000,9, -999.00,9, -999.00,9,  -999.0,9,  -999.0, -999.00,9, -999.00,9, -999.00,9, -999.00,9,   0.7638, -999.00
096U20160426,       P15S,     134,          1,          1,       2001,2,20160622,       1725,    -2.9995,  -168.7514,       5387,  5461.0,   1.2460,  34.7070,2,  34.7066,2,    197.4,2,   198.5,2,  121.15,2,   32.43,2,    0.00,4,    2.21,2,   0.043,2,   0.023,2,       0,2,  2271.7,6,  2373.3,6,-999.0000,9,  -999.00,-999.0000,9, -999.00,9, -999.00,9,  -999.0,9,  -999.0, -999.00,9, -999.00,9, -999.00,9, -999.00,9,   0.7634, -999.00