BOTTLE,20230413CCHSIOENA
EXPOCODE,SECT_ID,STNNBR,CASTNO,SAMPNO,BTLNBR,BTLNBR_FLAG_W,DATE,TIME,LATITUDE,LONGITUDE,DEPTH,CTDPRS,CTDTMP,CTDSAL,CTDSAL_FLAG_W,SALNTY,SALNTY_FLAG_W,CTDOXY,CTDOXY_FLAG_W,OXYGEN,OXYGEN_FLAG_W,SILCAT,SILCAT_FLAG_W,NITRAT,NITRAT_FLAG_W,NITRIT,NITRIT_FLAG_W,PHSPHT,PHSPHT_FLAG_W,CFC-11,CFC-11_FLAG_W,CFC-12,CFC-12_FLAG_W,SF6,SF6_FLAG_W,TCARBN,TCARBN_FLAG_W,ALKALI,ALKALI_FLAG_W,PH_TOT,PH_TOT_FLAG_W,PH_TMP,HELIUM,HELIUM_FLAG_W,DELHE3,DELHE3_FLAG_W,DELC13,DELC13_FLAG_W,DELC14,DELC14_FLAG_W,C14ERR,POC,POC_FLAG_W,PON,PON_FLAG_W,CHLORA,CHLORA_FLAG_W,PPHYTN,PPHYTN_FLAG_W,THETA,DELHER
,,,,,,,,,,,METERS,DBAR,ITS-90,PSS-78,,PSS-78,,UMOL/KG,,UMOL/KG,,UMOL/KG,,UMOL/KG,,UMOL/KG,,UMOL/KG,,PMOL/KG,,PMOL/KG,,FMOL/KG,,UMOL/KG,,UMOL/KG,,,,DEG C,NMOL/KG,,PERCNT,,/MILLE,,/MILLE,,/MILLE,UG/KG,,UG/KG,,UG/KG,,UG/KG,,DEG C,PERCNT
096U20160426,       P15S,     104,          1,         36,       2036,2,20160614,       1651,   -17.0013,  -170.0012,       5012,     6.1,  26.5700,  35.4470,2,  35.4458,2,    202.6,2,   201.7,2,    0.45,2,   -0.05,4,    0.01,4,    0.16,2,   1.554,2,   0.995,2,    1.32,2,  1985.9,2,  2333.2,2,-999.0000,9,  -999.00,-999.0000,9, -999.00,9, -999.00,9,  -999.0,9,  -999.0, -999.00,9, -999.00,9,    0.12,2,    0.03,3,  26.5686, -999.00
096U20160426,       P15S,     104,          1,         35,       2035,2,20160614,       1651,   -17.0013,  -170.0012,       5012,    20.6,  26.5800,  35.4470,2,  35.4459,2,    203.0,2,   201.6,2,    0.45,2,   -0.05,4,    0.01,4,    0.16,2,-999.000,9,-999.000,9,-999.000,9,  -999.0,9,  -999.0,9,-999.0000,9,  -999.00,-999.0000,9, -999.00,9, -999.00,9,  -999.0,9,  -999.0, -999.00,9, -999.00,9,    0.17,2,   -0.02,3,  26.5753, -999.00
096U20160426,       P15S,     104,          1,         34,       2034,2,20160614,       1651,   -17.0013,  -170.0012,       5012,    41.0,  26.5850,  35.4470,2,  35.4458,2,    202.8,2,   201.6,2,    0.45,2,   -0.05,4,    0.01,4,    0.16,2,-999.000,9,-999.000,9,-999.000,9,  1988.6,6,  2333.2,6,-999.0000,9,  -999.00,-999.0000,9, -999.00,9, -999.00,9,  -999.0,9,  -999.0, -999.00,9, -999.00,9, -999.00,9, -999.00,9,  26.5757, -999.00
096U20160426,       P15S,     104,          1,         33,       2033,2,20160614,       1651,   -17.0013,  -170.0012,       5012,    65.7,  26.5990,  35.4370,2,  35.4802,2,    202.1,2,   201.7,2,    0.45,2,   -0.05,4,    0.01,4,    0.16,2,   1.559,2,   0.998,2,   1.314,2,  1990.1,2,  2336.5,2,-999.0000,9,  -999.00,-999.0000,9, -999.00,9, -999.00,9,  -999.0,9,  -999.0, -999.00,9, -999.00,9,    0.16,2,    0.03,3,  26.5841, -999.00
096U20160426,       P15S,     104,          1,         32,       2032,2,20160614,       1651,   -17.0013,  -170.0012,       5012,    90.6,  26.3780,  35.8390,2,  35.8826,2,    203.4,2,   200.8,2,    0.47,2,   -0.05,4,    0.01,4,    0.18,2,   1.672,2,   1.067,2,   1.307,2,  2028.8,2,  2361.7,2,-999.0000,9,  -999.00,-999.0000,9, -999.00,9, -999.00,9,  -999.0,9,  -999.0, -999.00,9, -999.00,9,    0.48,2,   -0.10,3,  26.3575, -999.00
096U20160426,       P15S,     104,          1,         31,       2031,2,20160614,       1651,   -17.0013,  -170.0012,       5012,   131.1,  23.9180,  35.9420,2,  35.9239,2,    188.6,2,   184.6,2,    0.48,2,    0.90,2,    0.30,2,    0.27,2,   1.801,2,   1.155,2,   1.353,2,  2064.7,2,  2361.7,2,-999.0000,9,  -999.00,-999.0000,9, -999.00,9, -999.00,9,  -999.0,9,  -999.0, -999.00,9, -999.00,9,    0.72,2,    0.00,3,  23.8904, -999.00
096U20160426,       P15S,     104,          1,         30,       2030,2,20160614,       1651,   -17.0013,  -170.0012,       5012,   185.7,  21.9060,  35.9090,2,  35.9020,2,    174.5,2,   173.3,2,    0.56,2,    3.37,2,    0.02,2,    0.39,2,   1.896,2,   1.228,2,   1.318,2,  2087.8,2,  2356.6,6,-999.0000,9,  -999.00,-999.0000,9, -999.00,9, -999.00,9,  -999.0,9,  -999.0, -999.00,9, -999.00,9, -999.00,9, -999.00,9,  21.8692, -999.00
096U20160426,       P15S,     104,          1,         29,       2029,2,20160614,       1651,   -17.0013,  -170.0012,       5012,   235.3,  20.8040,  35.8180,2,  35.7862,2,    173.3,2,   172.3,2,    0.72,2,    4.38,2,    0.01,4,    0.45,2,   2.028,2,   1.283,2,   1.263,2,  2099.4,2,  2351.9,2,-999.0000,9,  -999.00,-999.0000,9, -999.00,9, -999.00,9,  -999.0,9,  -999.0, -999.00,9, -999.00,9, -999.00,9, -999.00,9,  20.7590, -999.00
096U20160426,       P15S,     104,          1,         28,       2028,2,20160614,       1651,   -17.0013,  -170.0012,       5012,   286.6,  18.3080,  35.4990,2,  35.4547,2,    169.9,2,   168.3,2,    1.73,2,    7.18,2,    0.01,4,    0.66,2,   2.229,2,   1.359,2,   1.137,2,  2114.1,2,  2331.1,2,-999.0000,9,  -999.00,-999.0000,9, -999.00,9, -999.00,9,  -999.0,9,  -999.0, -999.00,9, -999.00,9, -999.00,9, -999.00,9,  18.2579, -999.00
096U20160426,       P15S,     104,          1,         27,       2027,2,20160614,       1651,   -17.0013,  -170.0012,       5012,   335.9,  16.1440,  35.2360,2,  35.1595,2,    177.1,2,   178.7,2,    2.48,2,    8.82,2,    0.01,4,    0.73,2,   2.403,2,   1.423,2,   1.065,2,  2113.0,2,  2312.2,2,-999.0000,9,  -999.00,-999.0000,9, -999.00,9, -999.00,9,  -999.0,9,  -999.0, -999.00,9, -999.00,9, -999.00,9, -999.00,9,  16.0902, -999.00
096U20160426,       P15S,     104,          1,         26,       2026,2,20160614,       1651,   -17.0013,  -170.0012,       5012,   385.7,  13.0100,  34.9130,2,  34.8946,2,    179.5,2,   179.2,2,    4.12,2,   12.87,2,    0.01,4,    0.99,2,   2.528,2,   1.431,2,   0.876,2,  2127.3,2,  2298.0,2,-999.0000,9,  -999.00,-999.0000,9, -999.00,9, -999.00,9,  -999.0,9,  -999.0, -999.00,9, -999.00,9, -999.00,9, -999.00,9,  12.9566, -999.00
096U20160426,       P15S,     104,          1,         25,       2025,2,20160614,       1651,   -17.0013,  -170.0012,       5012,   465.5,   9.7630,  34.5800,2,  34.5617,2,    163.9,2,   163.6,2,   10.77,2,   21.78,2,    0.01,4,    1.60,2,   2.039,2,   1.084,2,   0.462,2,  2163.9,2,  2286.4,2,-999.0000,9,  -999.00,-999.0000,9, -999.00,9, -999.00,9,  -999.0,9,  -999.0, -999.00,9, -999.00,9, -999.00,9, -999.00,9,   9.7093, -999.00
096U20160426,       P15S,     104,          1,         24,       2024,2,20160614,       1651,   -17.0013,  -170.0012,       5012,   565.8,   7.0160,  34.4290,2,  34.4215,2,    168.2,2,   167.9,2,   19.83,2,   27.97,2,    0.01,4,    1.96,2,   1.231,2,   0.637,2,   0.201,2,  2187.1,2,  2289.2,2,-999.0000,9,  -999.00,-999.0000,9, -999.00,9, -999.00,9,  -999.0,9,  -999.0, -999.00,9, -999.00,9, -999.00,9, -999.00,9,   6.9620, -999.00
096U20160426,       P15S,     104,          1,         23,       2023,2,20160614,       1651,   -17.0013,  -170.0012,       5012,   665.5,   5.6310,  34.3990,2,  34.3985,2,    169.9,2,   171.3,2,   29.43,2,   30.50,2,    0.01,4,    2.11,2,   0.587,2,   0.308,2,    0.01,2,  2199.0,2,  2298.5,2,-999.0000,9,  -999.00,-999.0000,9, -999.00,9, -999.00,9,  -999.0,9,  -999.0, -999.00,9, -999.00,9, -999.00,9, -999.00,9,   5.5741, -999.00
096U20160426,       P15S,     104,          1,         22,       2022,2,20160614,       1651,   -17.0013,  -170.0012,       5012,   765.8,   5.0710,  34.4440,2,  34.4439,2,    154.6,2,   154.4,2,   44.10,2,   32.78,2,    0.01,4,    2.27,2,   0.202,2,   0.113,2,   0.016,2,  2226.9,2,  2314.2,2,-999.0000,9,  -999.00,-999.0000,9, -999.00,9, -999.00,9,  -999.0,9,  -999.0, -999.00,9, -999.00,9, -999.00,9, -999.00,9,   5.0081, -999.00
096U20160426,       P15S,     104,          1,         21,       2021,2,20160614,       1651,   -17.0013,  -170.0012,       5012,   865.8,   4.4400,  34.4670,2,  34.4645,2,    151.3,2,   150.4,2,   55.30,2,   33.90,2,    0.01,4,    2.35,2,   0.115,2,   0.068,2,       0,2,  2239.6,2,  2324.7,2,-999.0000,9,  -999.00,-999.0000,9, -999.00,9, -999.00,9,  -999.0,9,  -999.0, -999.00,9, -999.00,9, -999.00,9, -999.00,9,   4.3725, -999.00
096U20160426,       P15S,     104,          1,         20,       2020,2,20160614,       1651,   -17.0013,  -170.0012,       5012,   966.3,   3.9850,  34.4900,2,  34.4893,2,    148.3,2,   147.2,2,   65.63,2,   34.62,2,    0.01,4,    2.41,2,   0.068,2,   0.039,2,       0,2,  2253.4,2,  2335.2,2,-999.0000,9,  -999.00,-999.0000,9, -999.00,9, -999.00,9,  -999.0,9,  -999.0, -999.00,9, -999.00,9, -999.00,9, -999.00,9,   3.9123, -999.00
096U20160426,       P15S,     104,          1,         19,       2019,2,20160614,       1651,   -17.0013,  -170.0012,       5012,  1066.8,   3.6030,  34.5030,2,  34.5004,2,    150.1,2,   149.6,2,   71.14,2,   34.82,2,    0.00,4,    2.42,2,   0.044,2,   0.024,2,       0,2,  2258.8,2,  2341.0,2,-999.0000,9,  -999.00,-999.0000,9, -999.00,9, -999.00,9,  -999.0,9,  -999.0, -999.00,9, -999.00,9, -999.00,9, -999.00,9,   3.5250, -999.00
096U20160426,       P15S,     104,          1,         18,       2018,2,20160614,       1651,   -17.0013,  -170.0012,       5012,  1165.7,   3.3050,  34.5290,2,  34.5275,2,    148.0,2,   148.4,2,   79.80,2,   35.15,2,    0.01,4,    2.45,2,   0.021,2,   0.018,2,       0,2,  2267.4,2,  2352.5,2,-999.0000,9,  -999.00,-999.0000,9, -999.00,9, -999.00,9,  -999.0,9,  -999.0, -999.00,9, -999.00,9, -999.00,9, -999.00,9,   3.2215, -999.00
096U20160426,       P15S,     104,          1,         17,       2017,2,20160614,       1651,   -17.0013,  -170.0012,       5012,  1265.7,   3.0940,  34.5460,2,  34.5452,2,    147.4,2,   146.9,2,   85.44,2,   35.30,2,    0.01,4,    2.46,2,   0.014,6,   0.010,6,       0,6,  2277.2,2,  2358.7,2,-999.0000,9,  -999.00,-999.0000,9, -999.00,9, -999.00,9,  -999.0,9,  -999.0, -999.00,9, -999.00,9, -999.00,9, -999.00,9,   3.0044, -999.00
096U20160426,       P15S,     104,          1,         16,       2016,2,20160614,       1651,   -17.0013,  -170.0012,       5012,  1366.1,   2.9270,  34.5640,2,  34.5633,2,    146.1,2,   145.3,2,   91.29,2,   35.49,2,    0.01,4,    2.47,2,-999.000,9,-999.000,9,-999.000,9,  2282.4,2,  2365.4,6,-999.0000,9,  -999.00,-999.0000,9, -999.00,9, -999.00,9,  -999.0,9,  -999.0, -999.00,9, -999.00,9, -999.00,9, -999.00,9,   2.8310, -999.00
096U20160426,       P15S,     104,          1,         15,       2015,2,20160614,       1651,   -17.0013,  -170.0012,       5012,  1535.6,   2.6850,  34.5880,2,  34.5853,2,    145.8,2,   145.8,2,   98.61,2,   35.59,2,    0.01,4,    2.48,2,   0.001,2,   0.002,2,       0,2,  2288.1,2,  2374.2,2,-999.0000,9,  -999.00,-999.0000,9, -999.00,9, -999.00,9,  -999.0,9,  -999.0, -999.00,9, -999.00,9, -999.00,9, -999.00,9,   2.5779, -999.00
096U20160426,       P15S,     104,          1,         14,       2014,2,20160614,       1651,   -17.0013,  -170.0012,       5012,  1736.1,   2.4330,  34.6110,2,  34.6089,2,    146.1,2,   145.7,2,  106.63,2,   35.63,2,    0.01,4,    2.49,2,-999.000,9,-999.000,9,-999.000,9,  -999.0,9,  -999.0,9,-999.0000,9,  -999.00,-999.0000,9, -999.00,9, -999.00,9,  -999.0,9,  -999.0, -999.00,9, -999.00,9, -999.00,9, -999.00,9,   2.3124, -999.00
096U20160426,       P15S,     104,          1,         13,       2013,2,20160614,       1651,   -17.0013,  -170.0012,       5012,  1935.8,   2.2780,  34.6250,2,  34.6237,2,    146.9,2,   146.6,2,  111.42,2,   35.62,2,    0.01,4,    2.49,2,   0.003,2,   0.002,2,       0,2,  2300.5,6,  2387.6,6,-999.0000,9,  -999.00,-999.0000,9, -999.00,9, -999.00,9,  -999.0,9,  -999.0, -999.00,9, -999.00,9, -999.00,9, -999.00,9,   2.1428, -999.00
096U20160426,       P15S,     104,          1,         12,       2012,2,20160614,       1651,   -17.0013,  -170.0012,       5012,  2165.6,   2.1070,  34.6400,2,  34.6382,2,    147.6,2,   147.5,2,  117.21,2,   35.64,2,    0.01,4,    2.48,2,   0.001,2,   0.001,2,       0,2,  2306.6,2,  2393.4,2,-999.0000,9,  -999.00,-999.0000,9, -999.00,9, -999.00,9,  -999.0,9,  -999.0, -999.00,9, -999.00,9, -999.00,9, -999.00,9,   1.9547, -999.00
096U20160426,       P15S,     104,          1,         11,       2011,2,20160614,       1651,   -17.0013,  -170.0012,       5012,  2415.3,   1.9390,  34.6540,2,  34.6524,2,    150.3,2,   150.1,2,  121.49,2,   35.48,2,    0.01,4,    2.47,2,-999.000,9,-999.000,9,-999.000,9,  -999.0,9,  -999.0,9,-999.0000,9,  -999.00,-999.0000,9, -999.00,9, -999.00,9,  -999.0,9,  -999.0, -999.00,9, -999.00,9, -999.00,9, -999.00,9,   1.7675, -999.00
096U20160426,       P15S,     104,          1,         10,       2010,2,20160614,       1651,   -17.0013,  -170.0012,       5012,  2666.3,   1.8190,  34.6640,2,  34.6626,2,    153.1,2,   152.7,2,  124.55,2,   35.29,2,    0.01,4,    2.46,2,   0.000,2,   0.001,2,       0,2,  2308.8,2,  2399.8,2,-999.0000,9,  -999.00,-999.0000,9, -999.00,9, -999.00,9,  -999.0,9,  -999.0, -999.00,9, -999.00,9, -999.00,9, -999.00,9,   1.6268, -999.00
096U20160426,       P15S,     104,          1,          9,       2009,2,20160614,       1651,   -17.0013,  -170.0012,       5012,  2915.2,   1.7160,  34.6730,2,  34.6713,2,    156.4,2,   156.1,2,  126.57,2,   35.09,2,    0.00,4,    2.44,2,   0.003,2,   0.002,2,       0,2,  2309.7,2,  2404.3,2,-999.0000,9,  -999.00,-999.0000,9, -999.00,9, -999.00,9,  -999.0,9,  -999.0, -999.00,9, -999.00,9, -999.00,9, -999.00,9,   1.5026, -999.00
096U20160426,       P15S,     104,          1,          8,       2008,2,20160614,       1651,   -17.0013,  -170.0012,       5012,  3199.9,   1.6390,  34.6790,2,  34.6770,2,    160.2,2,   160.0,2,  127.53,2,   34.86,2,    0.01,4,    2.42,2,   0.003,6,   0.002,6,       0,6,  2309.8,2,  2401.6,2,-999.0000,9,  -999.00,-999.0000,9, -999.00,9, -999.00,9,  -999.0,9,  -999.0, -999.00,9, -999.00,9, -999.00,9, -999.00,9,   1.3996, -999.00
096U20160426,       P15S,     104,          1,          7,       2007,2,20160614,       1651,   -17.0013,  -170.0012,       5012,  3501.5,   1.5730,  34.6850,2,  34.6832,2,    163.3,2,   163.2,2,  128.80,2,   34.66,2,    0.01,4,    2.41,2,-999.000,9,-999.000,9,-999.000,9,  -999.0,9,  -999.0,9,-999.0000,9,  -999.00,-999.0000,9, -999.00,9, -999.00,9,  -999.0,9,  -999.0, -999.00,9, -999.00,9, -999.00,9, -999.00,9,   1.3048, -999.00
096U20160426,       P15S,     104,          1,          6,       2006,2,20160614,       1651,   -17.0013,  -170.0012,       5012,  3800.3,   1.4300,  34.7020,2,  34.7006,2,    180.5,2,   181.5,2,  120.16,2,   33.17,2,    0.00,4,    2.29,2,   0.025,2,   0.015,2,       0,2,  2283.7,2,  2383.4,2,-999.0000,9,  -999.00,-999.0000,9, -999.00,9, -999.00,9,  -999.0,9,  -999.0, -999.00,9, -999.00,9, -999.00,9, -999.00,9,   1.1343, -999.00
096U20160426,       P15S,     104,          1,          5,       2005,2,20160614,       1651,   -17.0013,  -170.0012,       5012,  4100.3,   1.2560,  34.7130,2,  34.7123,2,    195.9,2,   197.4,2,  114.67,2,   32.02,2,    0.01,4,    2.21,2,-999.000,9,-999.000,9,-999.000,9,  -999.0,9,  -999.0,9,-999.0000,9,  -999.00,-999.0000,9, -999.00,9, -999.00,9,  -999.0,9,  -999.0, -999.00,9, -999.00,9, -999.00,9, -999.00,9,   0.9329, -999.00
096U20160426,       P15S,     104,          1,          4,       2004,2,20160614,       1651,   -17.0013,  -170.0012,       5012,  4475.8,   1.0850,  34.7110,2,  34.7111,2,    203.0,2,   203.6,2,  117.08,2,   31.83,2,    0.01,4,    2.19,2,   0.054,2,   0.031,2,   0.013,2,  2262.4,2,  2366.7,2,-999.0000,9,  -999.00,-999.0000,9, -999.00,9, -999.00,9,  -999.0,9,  -999.0, -999.00,9, -999.00,9, -999.00,9, -999.00,9,   0.7254, -999.00
096U20160426,       P15S,     104,          1,          3,       2003,2,20160614,       1651,   -17.0013,  -170.0012,       5012,  4850.1,   1.0740,  34.7100,2,  34.7096,2,    204.9,2,   205.6,2,  118.25,2,   31.88,2,    0.01,4,    2.19,2,-999.000,9,-999.000,9,-999.000,9,  -999.0,9,  -999.0,9,-999.0000,9,  -999.00,-999.0000,9, -999.00,9, -999.00,9,  -999.0,9,  -999.0, -999.00,9, -999.00,9, -999.00,9, -999.00,9,   0.6717, -999.00
096U20160426,       P15S,     104,          1,          2,       2002,2,20160614,       1651,   -17.0013,  -170.0012,       5012,  4970.8,   1.0790,  34.7100,2,  34.7083,2,    205.3,2,   205.6,2,  118.37,2,   31.84,2,    0.01,4,    2.19,2,   0.080,2,   0.045,2,       0,2,  2263.0,6,  2366.0,6,-999.0000,9,  -999.00,-999.0000,9, -999.00,9, -999.00,9,  -999.0,9,  -999.0, -999.00,9, -999.00,9, -999.00,9, -999.00,9,   0.6623, -999.00
096U20160426,       P15S,     104,          1,          1,       2001,2,20160614,       1651,   -17.0013,  -170.0012,       5012,  5071.6,   1.0880,  34.7100,2,  34.7089,2,    205.7,2,   205.7,2,  118.52,2,   31.84,2,    0.01,4,    2.19,2,   0.093,2,   0.051,2,       0,2,  2261.4,2,  2365.5,2,-999.0000,9,  -999.00,-999.0000,9, -999.00,9, -999.00,9,  -999.0,9,  -999.0, -999.00,9, -999.00,9, -999.00,9, -999.00,9,   0.6589, -999.00