BOTTLE,20230413CCHSIOENA
EXPOCODE,SECT_ID,STNNBR,CASTNO,SAMPNO,BTLNBR,BTLNBR_FLAG_W,DATE,TIME,LATITUDE,LONGITUDE,DEPTH,CTDPRS,CTDTMP,CTDSAL,CTDSAL_FLAG_W,SALNTY,SALNTY_FLAG_W,CTDOXY,CTDOXY_FLAG_W,OXYGEN,OXYGEN_FLAG_W,SILCAT,SILCAT_FLAG_W,NITRAT,NITRAT_FLAG_W,NITRIT,NITRIT_FLAG_W,PHSPHT,PHSPHT_FLAG_W,CFC-11,CFC-11_FLAG_W,CFC-12,CFC-12_FLAG_W,SF6,SF6_FLAG_W,TCARBN,TCARBN_FLAG_W,ALKALI,ALKALI_FLAG_W,PH_TOT,PH_TOT_FLAG_W,PH_TMP,HELIUM,HELIUM_FLAG_W,DELHE3,DELHE3_FLAG_W,DELC13,DELC13_FLAG_W,DELC14,DELC14_FLAG_W,C14ERR,POC,POC_FLAG_W,PON,PON_FLAG_W,CHLORA,CHLORA_FLAG_W,PPHYTN,PPHYTN_FLAG_W,THETA,DELHER
,,,,,,,,,,,METERS,DBAR,ITS-90,PSS-78,,PSS-78,,UMOL/KG,,UMOL/KG,,UMOL/KG,,UMOL/KG,,UMOL/KG,,UMOL/KG,,PMOL/KG,,PMOL/KG,,FMOL/KG,,UMOL/KG,,UMOL/KG,,,,DEG C,NMOL/KG,,PERCNT,,/MILLE,,/MILLE,,/MILLE,UG/KG,,UG/KG,,UG/KG,,UG/KG,,DEG C,PERCNT
096U20160426,       P15S,      61,          1,         36,       2036,2,20160531,       1455,   -38.1902,  -171.5002,       4948,     5.0,  17.0450,  35.3210,2,  35.3225,2,    234.1,2,   236.6,2,    0.40,2,    0.02,4,    0.00,4,    0.11,2,   2.309,2,   1.402,2,   1.761,2,  2067.0,2,  2322.8,2,   7.9508,2,    25.00,-999.0000,9, -999.00,9,    1.44,2,    43.2,2,     2.0, -999.00,9, -999.00,9,    0.47,2,    0.03,3,  17.0442, -999.00
096U20160426,       P15S,      61,          1,         35,       2035,2,20160531,       1455,   -38.1902,  -171.5002,       4948,    25.2,  17.0410,  35.3220,2,  35.3223,2,    233.8,2,   236.7,2,    0.40,2,    0.01,4,    0.01,4,    0.11,2,   2.286,6,   1.398,6,   1.746,6,  2068.2,6,  2322.8,6,   7.9522,2,    25.00,-999.0000,9, -999.00,9,    1.45,2,    38.8,2,     2.0, -999.00,9, -999.00,9,    0.30,2,    0.01,3,  17.0368, -999.00
096U20160426,       P15S,      61,          1,         34,       2034,2,20160531,       1455,   -38.1902,  -171.5002,       4948,    50.0,  17.0420,  35.3220,2,  35.3222,2,    234.0,2,   236.8,2,    0.39,2,    0.01,4,    0.00,4,    0.11,2,-999.000,9,-999.000,9,-999.000,9,  -999.0,9,  -999.0,9,   7.9531,2,    25.00,-999.0000,9, -999.00,9, -999.00,9,  -999.0,9,  -999.0, -999.00,9, -999.00,9,    0.43,2,    0.06,3,  17.0337, -999.00
096U20160426,       P15S,      61,          1,         33,       2033,2,20160531,       1455,   -38.1902,  -171.5002,       4948,    74.9,  17.0810,  35.3240,2,  35.3206,2,    233.7,2,   236.7,2,    0.40,2,    0.02,2,    0.01,4,    0.11,2,-999.000,9,-999.000,9,-999.000,9,  2068.1,2,  2321.8,2,   7.9534,2,    25.00,-999.0000,9, -999.00,9,    1.42,2,    42.6,2,     2.0, -999.00,9, -999.00,9,    0.47,2,    0.03,3,  17.0686, -999.00
096U20160426,       P15S,      61,          1,         32,       2032,2,20160531,       1455,   -38.1902,  -171.5002,       4948,   100.0,  14.6970,  35.2150,2,  35.1789,2,    235.3,2,   237.5,2,    0.85,2,    2.25,2,    0.31,2,    0.32,2,   2.661,2,   1.602,2,   1.742,2,  2090.6,2,  2311.3,2,   7.8928,2,    25.00,-999.0000,9, -999.00,9,    1.16,2,    48.4,2,     2.0, -999.00,9, -999.00,9,    0.35,2,    0.13,3,  14.6821, -999.00
096U20160426,       P15S,      61,          1,         31,       2031,2,20160531,       1455,   -38.1902,  -171.5002,       4948,   150.4,  12.9400,  35.0890,2,  35.0835,2,    225.4,2,   228.0,2,    1.62,2,    6.80,2,    0.01,4,    0.55,2,   2.838,2,   1.670,2,   1.915,2,  2109.6,2,  2306.2,2,   7.8471,2,    25.00,-999.0000,9, -999.00,9,    1.03,2,    43.2,2,     2.0, -999.00,9, -999.00,9, -999.00,9, -999.00,9,  12.9194, -999.00
096U20160426,       P15S,      61,          1,         30,       2030,2,20160531,       1455,   -38.1902,  -171.5002,       4948,   200.9,  12.0560,  35.0300,2,  35.0317,2,    231.4,2,   234.3,2,    2.16,2,    8.47,2,    0.01,4,    0.65,2,   2.903,2,   1.726,2,   1.889,2,  2115.5,2,  2304.4,6,   7.8296,2,    25.00,-999.0000,9, -999.00,9,    1.06,2,    36.8,2,     2.0, -999.00,9, -999.00,9, -999.00,9, -999.00,9,  12.0297, -999.00
096U20160426,       P15S,      61,          1,         29,       2029,2,20160531,       1455,   -38.1902,  -171.5002,       4948,   250.4,  11.8360,  35.0160,2,  35.0137,2,    235.8,2,   238.0,2,    2.38,2,    8.94,2,    0.01,4,    0.68,2,   2.989,2,   1.719,2,   1.875,2,  2116.2,2,  2303.4,2,   7.8114,2,    25.00,-999.0000,9, -999.00,9,    0.99,2,    35.2,2,     2.0, -999.00,9, -999.00,9, -999.00,9, -999.00,9,  11.8035, -999.00
096U20160426,       P15S,      61,          1,         28,       2028,2,20160531,       1455,   -38.1902,  -171.5002,       4948,   300.1,  11.4860,  34.9610,2,  34.9552,2,    234.3,2,   236.4,2,    2.80,2,   10.17,2,    0.00,4,    0.75,2,   3.006,2,   1.745,2,   1.951,2,  2118.8,2,  2301.3,2,   7.8140,2,    25.00,-999.0000,9, -999.00,9,    1.08,2,    39.3,2,     2.0, -999.00,9, -999.00,9, -999.00,9, -999.00,9,  11.4478, -999.00
096U20160426,       P15S,      61,          1,         27,       2027,2,20160531,       1455,   -38.1902,  -171.5002,       4948,   350.7,  10.8320,  34.8550,2,  34.8463,2,    228.0,2,   230.3,2,    3.33,2,   12.31,2,    0.01,4,    0.88,2,   3.128,4,   1.808,4,   2.136,4,  2125.5,2,  2296.8,2,   7.7908,2,    25.00,-999.0000,9, -999.00,9,    0.85,3,    31.8,2,     2.0, -999.00,9, -999.00,9, -999.00,9, -999.00,9,  10.7889, -999.00
096U20160426,       P15S,      61,          1,         26,       2026,2,20160531,       1455,   -38.1902,  -171.5002,       4948,   400.3,  10.0380,  34.7320,2,  34.7160,2,    220.8,2,   222.2,2,    4.09,2,   15.25,2,    0.00,4,    1.06,2,   3.177,2,   1.796,2,   1.599,2,  2134.1,2,  2290.8,2,   7.7576,6,    25.00,-999.0000,9, -999.00,9,    0.99,2,    30.3,2,     2.0, -999.00,9, -999.00,9, -999.00,9, -999.00,9,   9.9911, -999.00
096U20160426,       P15S,      61,          1,         25,       2025,2,20160531,       1455,   -38.1902,  -171.5002,       4948,   499.8,   8.5990,  34.5430,2,  34.5348,2,    226.8,2,   229.6,2,    4.64,2,   18.48,2,    0.00,4,    1.25,2,   3.466,2,   1.938,2,   1.382,2,  2140.6,2,  2284.7,2,   7.7308,2,    25.00,-999.0000,9, -999.00,9,    1.05,2,    29.8,2,     2.0, -999.00,9, -999.00,9, -999.00,9, -999.00,9,   8.5456, -999.00
096U20160426,       P15S,      61,          1,         24,       2024,2,20160531,       1455,   -38.1902,  -171.5002,       4948,   600.4,   7.7740,  34.4610,2,  34.4598,2,    229.5,2,   231.5,2,    6.12,2,   20.78,2,    0.00,4,    1.39,2,   3.548,2,   1.906,2,   1.232,2,  2144.2,2,  2283.6,2,   7.7154,2,    25.00,-999.0000,9, -999.00,9,    1.11,2,    21.0,2,     2.0, -999.00,9, -999.00,9, -999.00,9, -999.00,9,   7.7131, -999.00
096U20160426,       P15S,      61,          1,         23,       2023,2,20160531,       1455,   -38.1902,  -171.5002,       4948,   699.4,   7.1910,  34.4010,2,  34.4019,2,    232.7,2,   235.1,2,    7.19,2,   22.13,2,    0.00,4,    1.48,2,   3.518,2,   1.844,2,   1.002,2,  2147.1,2,  2282.9,2,   7.7084,2,    25.00,-999.0000,9, -999.00,9,    1.11,2,    10.7,2,     2.0, -999.00,9, -999.00,9, -999.00,9, -999.00,9,   7.1228, -999.00
096U20160426,       P15S,      61,          1,         22,       2022,2,20160531,       1455,   -38.1902,  -171.5002,       4948,   800.4,   6.8240,  34.3890,2,  34.3869,2,    224.1,2,   227.0,2,   10.01,2,   23.74,2,    0.00,4,    1.59,2,   2.950,2,   1.515,2,   0.687,2,  2151.8,2,  2284.4,2,   7.6945,2,    25.00,-999.0000,9, -999.00,9,    1.00,3,     0.6,2,     2.0, -999.00,9, -999.00,9, -999.00,9, -999.00,9,   6.7476, -999.00
096U20160426,       P15S,      61,          1,         21,       2021,2,20160531,       1455,   -38.1902,  -171.5002,       4948,   899.0,   6.3200,  34.3600,2,  34.3598,2,    219.5,2,   222.2,2,   12.78,2,   25.24,2,    0.00,4,    1.69,2,   2.505,2,   1.259,2,   0.512,2,  2159.1,2,  2284.8,2,   7.6806,2,    25.00,-999.0000,9, -999.00,9,    1.28,2,   -14.6,2,     2.0, -999.00,9, -999.00,9, -999.00,9, -999.00,9,   6.2370, -999.00
096U20160426,       P15S,      61,          1,         20,       2020,2,20160531,       1455,   -38.1902,  -171.5002,       4948,   999.1,   5.7320,  34.3430,2,  34.3435,2,    210.3,2,   213.4,2,   17.96,2,   27.25,2,    0.00,4,    1.82,2,   1.967,2,   1.008,2,   0.828,3,  2169.1,6,  2289.0,6,   7.6624,2,    25.00,-999.0000,9, -999.00,9,    1.25,2,   -38.4,2,     2.0, -999.00,9, -999.00,9, -999.00,9, -999.00,9,   5.6435, -999.00
096U20160426,       P15S,      61,          1,         19,       2019,2,20160531,       1455,   -38.1902,  -171.5002,       4948,  1099.1,   5.1490,  34.3500,2,  34.3508,2,    200.0,2,   209.8,3,   25.62,2,   29.17,2,    0.00,4,    1.96,2,   1.330,2,   0.662,2,   0.234,2,  2183.8,2,  2293.8,2,   7.6353,2,    25.00,-999.0000,9, -999.00,9,    1.00,2,   -70.8,2,     2.0, -999.00,9, -999.00,9, -999.00,9, -999.00,9,   5.0557, -999.00
096U20160426,       P15S,      61,          1,         18,       2018,2,20160531,       1455,   -38.1902,  -171.5002,       4948,  1199.5,   4.6060,  34.3710,2,  34.3738,2,    191.4,2,   192.8,2,   35.20,2,   30.84,2,    0.00,4,    2.08,2,   0.897,2,   0.445,2,    0.17,2,  2199.8,2,  2304.3,2,   7.6173,2,    25.00,-999.0000,9, -999.00,9,    0.86,2,   -89.5,2,     2.0, -999.00,9, -999.00,9, -999.00,9, -999.00,9,   4.5082, -999.00
096U20160426,       P15S,      61,          1,         17,       2017,2,20160531,       1455,   -38.1902,  -171.5002,       4948,  1299.4,   4.1760,  34.4100,2,  34.4112,2,    183.1,2,   184.6,2,   45.22,2,   31.83,2,    0.00,4,    2.16,2,   0.627,2,   0.321,2,    0.08,2,  2215.7,2,  2314.7,2,   7.6031,2,    25.00,-999.0000,9, -999.00,9,    0.76,2,  -113.5,2,     2.0, -999.00,9, -999.00,9, -999.00,9, -999.00,9,   4.0732, -999.00
096U20160426,       P15S,      61,          1,         16,       2016,2,20160531,       1455,   -38.1902,  -171.5002,       4948,  1382.2,   3.8180,  34.4410,2,  34.4424,2,    176.4,2,   177.9,2,   53.60,2,   32.63,2,    0.00,4,    2.22,2,   0.382,2,   0.198,2,   0.063,2,  2227.8,2,  2323.4,6,   7.5940,6,    25.00,-999.0000,9, -999.00,9,    0.69,2,  -124.8,2,     2.0, -999.00,9, -999.00,9, -999.00,9, -999.00,9,   3.7115, -999.00
096U20160426,       P15S,      61,          1,         15,       2015,2,20160531,       1455,   -38.1902,  -171.5002,       4948,  1599.9,   3.1180,  34.5200,2,  34.5228,2,    163.9,2,   164.5,2,   74.79,2,   33.97,2,    0.00,4,    2.33,2,   0.102,2,   0.054,2,   0.031,2,  2255.1,2,  2347.2,2,   7.5784,2,    25.00,-999.0000,9, -999.00,9,    0.44,2,  -163.4,2,     2.0, -999.00,9, -999.00,9, -999.00,9, -999.00,9,   3.0004, -999.00
096U20160426,       P15S,      61,          1,         14,       2014,2,20160531,       1455,   -38.1902,  -171.5002,       4948,  1800.4,   2.7020,  34.5790,2,  34.5789,2,    156.1,2,   156.6,2,   90.96,2,   34.58,2,    0.00,4,    2.38,2,-999.000,9,-999.000,9,-999.000,9,  2275.3,2,  2368.3,2,   7.5714,2,    25.00,-999.0000,9, -999.00,9,    0.44,2,  -179.8,2,     2.0, -999.00,9, -999.00,9, -999.00,9, -999.00,9,   2.5725, -999.00
096U20160426,       P15S,      61,          1,         13,       2013,2,20160531,       1455,   -38.1902,  -171.5002,       4948,  1999.6,   2.5000,  34.6060,2,  34.6054,2,    152.3,2,   152.7,2,  100.45,2,   34.94,2,    0.00,4,    2.41,2,   0.020,6,   0.013,6,       0,6,  2288.9,2,  2379.8,2,   7.5404,2,    25.00,-999.0000,9, -999.00,9,    0.38,2,  -198.6,2,     2.0, -999.00,9, -999.00,9, -999.00,9, -999.00,9,   2.3561, -999.00
096U20160426,       P15S,      61,          1,         12,       2012,2,20160531,       1455,   -38.1902,  -171.5002,       4948,  2249.5,   2.3270,  34.6260,2,  34.6258,2,    150.1,2,   150.4,2,  108.36,2,   35.16,2,    0.00,4,    2.43,2,-999.000,9,-999.000,9,-999.000,9,  -999.0,9,  -999.0,9,-999.0000,9,  -999.00,-999.0000,9, -999.00,9, -999.00,9,  -999.0,9,  -999.0, -999.00,9, -999.00,9, -999.00,9, -999.00,9,   2.1637, -999.00
096U20160426,       P15S,      61,          1,         11,       2011,2,20160531,       1455,   -38.1902,  -171.5002,       4948,  2499.1,   2.1870,  34.6410,2,  34.6414,2,    149.4,2,   149.8,2,  114.07,2,   35.29,2,    0.00,4,    2.44,2,   0.008,2,   0.006,2,   0.007,2,  2303.5,2,  2395.0,2,-999.0000,9,  -999.00,-999.0000,9, -999.00,9,    0.28,2,  -200.9,2,     2.0, -999.00,9, -999.00,9, -999.00,9, -999.00,9,   2.0033, -999.00
096U20160426,       P15S,      61,          1,         10,       2010,2,20160531,       1455,   -38.1902,  -171.5002,       4948,  2726.3,   2.0470,  34.6570,2,  34.6574,2,    151.9,2,   151.8,2,  116.85,2,   35.14,2,    0.00,4,    2.43,2,-999.000,9,-999.000,9,-999.000,9,  -999.0,9,  -999.0,9,-999.0000,9,  -999.00,-999.0000,9, -999.00,9, -999.00,9,  -999.0,9,  -999.0, -999.00,9, -999.00,9, -999.00,9, -999.00,9,   1.8447, -999.00
096U20160426,       P15S,      61,          1,          9,       2009,2,20160531,       1455,   -38.1902,  -171.5002,       4948,  2999.7,   1.9000,  34.6910,2,  34.6916,2,    167.6,2,   169.3,2,  108.56,2,   33.48,2,    0.00,4,    2.30,2,   0.034,2,   0.020,2,    0.05,3,  2286.5,2,  2382.2,2,-999.0000,9,  -999.00,-999.0000,9, -999.00,9,    0.35,2,  -186.0,2,     2.0, -999.00,9, -999.00,9, -999.00,9, -999.00,9,   1.6743, -999.00
096U20160426,       P15S,      61,          1,          8,       2008,2,20160531,       1455,   -38.1902,  -171.5002,       4948,  3300.7,   1.7230,  34.7230,2,  34.7232,2,    186.4,2,   188.6,2,  100.52,2,   31.75,2,    0.00,4,    2.16,2,-999.000,9,-999.000,9,-999.000,9,  -999.0,9,  -999.0,9,-999.0000,9,  -999.00,-999.0000,9, -999.00,9, -999.00,9,  -999.0,9,  -999.0, -999.00,9, -999.00,9, -999.00,9, -999.00,9,   1.4713, -999.00
096U20160426,       P15S,      61,          1,          7,       2007,2,20160531,       1455,   -38.1902,  -171.5002,       4948,  3599.6,   1.4590,  34.7260,2,  34.7261,2,    195.2,2,   197.8,2,  104.37,2,   31.41,2,    0.00,4,    2.14,2,   0.081,2,   0.043,2,   0.006,2,  2261.3,2,  2364.1,2,-999.0000,9,  -999.00,-999.0000,9, -999.00,9,    0.52,2,  -159.2,2,     2.0, -999.00,9, -999.00,9, -999.00,9, -999.00,9,   1.1834, -999.00
096U20160426,       P15S,      61,          1,          6,       2006,2,20160531,       1455,   -38.1902,  -171.5002,       4948,  3900.4,   1.2500,  34.7200,2,  34.7201,2,    199.8,2,   202.2,2,  110.09,2,   31.60,2,    0.00,4,    2.15,2,-999.000,9,-999.000,9,-999.000,9,  2259.9,2,  2364.4,2,-999.0000,9,  -999.00,-999.0000,9, -999.00,9, -999.00,9,  -999.0,9,  -999.0, -999.00,9, -999.00,9, -999.00,9, -999.00,9,   0.9485, -999.00
096U20160426,       P15S,      61,          1,          5,       2005,2,20160531,       1455,   -38.1902,  -171.5002,       4948,  4201.2,   1.0870,  34.7140,2,  34.7130,2,    203.1,2,   205.0,2,  115.20,2,   31.79,2,    0.00,4,    2.17,2,   0.136,2,   0.070,2,   0.028,2,  2261.1,2,  2366.4,2,-999.0000,9,  -999.00,-999.0000,9, -999.00,9,    0.50,2,  -169.6,2,     2.0, -999.00,9, -999.00,9, -999.00,9, -999.00,9,   0.7578, -999.00
096U20160426,       P15S,      61,          1,          4,       2004,2,20160531,       1455,   -38.1902,  -171.5002,       4948,  4500.8,   1.0140,  34.7090,2,  34.7087,2,    205.0,2,   206.4,2,  118.06,2,   31.94,2,    0.00,4,    2.18,2,   0.172,2,   0.087,2,       0,2,  2262.1,2,  2366.2,2,-999.0000,9,  -999.00,-999.0000,9, -999.00,9,    0.55,2,  -163.7,2,     2.0, -999.00,9, -999.00,9, -999.00,9, -999.00,9,   0.6539, -999.00
096U20160426,       P15S,      61,          1,          3,       2003,2,20160531,       1455,   -38.1902,  -171.5002,       4948,  4800.2,   1.0040,  34.7070,2,  34.7075,2,    206.3,2,   207.2,2,  119.41,2,   31.98,2,    0.00,4,    2.18,2,   0.214,2,   0.107,2,   0.101,2,  2262.5,2,  2365.3,6,-999.0000,9,  -999.00,-999.0000,9, -999.00,9,    0.44,2,  -166.1,2,     2.0, -999.00,9, -999.00,9, -999.00,9, -999.00,9,   0.6099, -999.00
096U20160426,       P15S,      61,          1,          2,       2002,2,20160531,       1455,   -38.1902,  -171.5002,       4948,  4900.6,   1.0060,  34.7070,2,  34.7069,2,    206.5,2,   207.4,2,  119.79,2,   32.05,2,    0.00,4,    2.18,2,   0.225,2,   0.112,2,   0.094,2,  2262.6,6,  2366.6,6,-999.0000,9,  -999.00,-999.0000,9, -999.00,9,    0.42,2,  -158.3,2,     2.0, -999.00,9, -999.00,9, -999.00,9, -999.00,9,   0.6001, -999.00
096U20160426,       P15S,      61,          1,          1,       2001,2,20160531,       1455,   -38.1902,  -171.5002,       4948,  5017.8,   1.0140,  34.7060,2,  34.7066,2,    206.4,2,   207.3,2,  119.96,2,   32.06,2,    0.00,4,    2.18,2,   0.231,2,   0.116,2,   0.046,2,  2263.0,2,  2365.3,2,-999.0000,9,  -999.00,-999.0000,9, -999.00,9,    0.43,2,  -167.2,2,     2.0, -999.00,9, -999.00,9, -999.00,9, -999.00,9,   0.5939, -999.00