BOTTLE,20230413CCHSIOENA
EXPOCODE,SECT_ID,STNNBR,CASTNO,SAMPNO,BTLNBR,BTLNBR_FLAG_W,DATE,TIME,LATITUDE,LONGITUDE,DEPTH,CTDPRS,CTDTMP,CTDSAL,CTDSAL_FLAG_W,SALNTY,SALNTY_FLAG_W,CTDOXY,CTDOXY_FLAG_W,OXYGEN,OXYGEN_FLAG_W,SILCAT,SILCAT_FLAG_W,NITRAT,NITRAT_FLAG_W,NITRIT,NITRIT_FLAG_W,PHSPHT,PHSPHT_FLAG_W,CFC-11,CFC-11_FLAG_W,CFC-12,CFC-12_FLAG_W,SF6,SF6_FLAG_W,TCARBN,TCARBN_FLAG_W,ALKALI,ALKALI_FLAG_W,PH_TOT,PH_TOT_FLAG_W,PH_TMP,HELIUM,HELIUM_FLAG_W,DELHE3,DELHE3_FLAG_W,DELC13,DELC13_FLAG_W,DELC14,DELC14_FLAG_W,C14ERR,POC,POC_FLAG_W,PON,PON_FLAG_W,CHLORA,CHLORA_FLAG_W,PPHYTN,PPHYTN_FLAG_W,THETA,DELHER
,,,,,,,,,,,METERS,DBAR,ITS-90,PSS-78,,PSS-78,,UMOL/KG,,UMOL/KG,,UMOL/KG,,UMOL/KG,,UMOL/KG,,UMOL/KG,,PMOL/KG,,PMOL/KG,,FMOL/KG,,UMOL/KG,,UMOL/KG,,,,DEG C,NMOL/KG,,PERCNT,,/MILLE,,/MILLE,,/MILLE,UG/KG,,UG/KG,,UG/KG,,UG/KG,,DEG C,PERCNT
096U20160426,       P15S,     133,          1,         36,       2036,2,20160622,       1053,    -3.5013,  -168.7506,       5025,     6.3,  29.9620,  34.8210,2,  34.8213,2,    187.6,2,   194.2,2,    0.91,2,    0.03,2,    0.01,4,    0.18,2,-999.000,9,-999.000,9,-999.000,9,  1960.3,2,  2290.2,2,-999.0000,9,  -999.00,-999.0000,9, -999.00,9, -999.00,9,  -999.0,9,  -999.0, -999.00,9, -999.00,9,    0.52,2,   -0.06,3,  29.9604, -999.00
096U20160426,       P15S,     133,          1,         35,       2035,2,20160622,       1053,    -3.5013,  -168.7506,       5025,    35.6,  29.9710,  34.8240,2,  34.8210,2,    187.6,2,   194.3,2,    0.89,2,    0.03,2,    0.01,4,    0.18,2,-999.000,9,-999.000,9,-999.000,9,  -999.0,9,  -999.0,9,-999.0000,9,  -999.00,-999.0000,9, -999.00,9, -999.00,9,  -999.0,9,  -999.0, -999.00,9, -999.00,9,    0.54,2,   -0.06,3,  29.9622, -999.00
096U20160426,       P15S,     133,          1,         34,       2034,2,20160622,       1053,    -3.5013,  -168.7506,       5025,    69.8,  29.3820,  35.1600,2,  35.1756,2,    187.2,2,   192.9,2,    1.32,2,    1.14,2,    0.05,2,    0.29,2,-999.000,9,-999.000,9,-999.000,9,  1993.6,2,  2313.6,2,-999.0000,9,  -999.00,-999.0000,9, -999.00,9, -999.00,9,  -999.0,9,  -999.0, -999.00,9, -999.00,9,    0.77,2,   -0.03,3,  29.3649, -999.00
096U20160426,       P15S,     133,          1,         33,       2033,2,20160622,       1053,    -3.5013,  -168.7506,       5025,    90.6,  29.2900,  35.6830,2,  35.7804,2,    173.1,2,   177.4,2,    1.24,2,    1.43,2,    0.48,2,    0.39,2,-999.000,9,-999.000,9,-999.000,9,  -999.0,9,  -999.0,9,-999.0000,9,  -999.00,-999.0000,9, -999.00,9, -999.00,9,  -999.0,9,  -999.0, -999.00,9, -999.00,9,    0.78,2,    0.16,3,  29.2679, -999.00
096U20160426,       P15S,     133,          1,         32,       2032,2,20160622,       1053,    -3.5013,  -168.7506,       5025,   114.4,  26.5860,  36.1170,2,  36.0850,2,    155.3,2,   155.4,2,    1.79,2,    5.61,2,    1.00,2,    0.67,2,-999.000,9,-999.000,9,-999.000,9,  2089.1,2,  2375.3,2,-999.0000,9,  -999.00,-999.0000,9, -999.00,9, -999.00,9,  -999.0,9,  -999.0, -999.00,9, -999.00,9,    0.48,2,    0.16,3,  26.5600, -999.00
096U20160426,       P15S,     133,          1,         31,       2031,2,20160622,       1053,    -3.5013,  -168.7506,       5025,   165.0,  17.0470,  35.3470,2,  35.2736,2,    106.7,2,   104.8,2,    9.45,2,   18.69,2,    0.01,4,    1.43,2,-999.000,9,-999.000,9,-999.000,9,  2175.8,2,  2324.5,6,-999.0000,9,  -999.00,-999.0000,9, -999.00,9, -999.00,9,  -999.0,9,  -999.0, -999.00,9, -999.00,9, -999.00,9, -999.00,9,  17.0197, -999.00
096U20160426,       P15S,     133,          1,         30,       2030,2,20160622,       1053,    -3.5013,  -168.7506,       5025,   226.1,  12.8030,  34.9620,2,  34.9374,2,    108.5,2,   112.2,2,   14.99,2,   22.76,2,    0.00,4,    1.63,2,-999.000,9,-999.000,9,-999.000,9,  2184.2,6,  2307.5,6,-999.0000,9,  -999.00,-999.0000,9, -999.00,9, -999.00,9,  -999.0,9,  -999.0, -999.00,9, -999.00,9, -999.00,9, -999.00,9,  12.7722, -999.00
096U20160426,       P15S,     133,          1,         29,       2029,2,20160622,       1053,    -3.5013,  -168.7506,       5025,   265.9,  11.0970,  34.8160,2,  34.8090,2,    109.9,2,   102.9,2,   20.00,2,   26.23,2,    0.00,4,    1.84,2,-999.000,9,-999.000,9,-999.000,9,  -999.0,9,  -999.0,9,-999.0000,9,  -999.00,-999.0000,9, -999.00,9, -999.00,9,  -999.0,9,  -999.0, -999.00,9, -999.00,9, -999.00,9, -999.00,9,  11.0640, -999.00
096U20160426,       P15S,     133,          1,         28,       2028,2,20160622,       1053,    -3.5013,  -168.7506,       5025,   316.2,  10.3280,  34.7550,2,  34.7418,2,     79.4,2,    75.6,2,   25.67,2,   30.60,2,    0.00,4,    2.12,2,-999.000,9,-999.000,9,-999.000,9,  2224.0,2,  2302.2,2,-999.0000,9,  -999.00,-999.0000,9, -999.00,9, -999.00,9,  -999.0,9,  -999.0, -999.00,9, -999.00,9, -999.00,9, -999.00,9,  10.2904, -999.00
096U20160426,       P15S,     133,          1,         27,       2027,2,20160622,       1053,    -3.5013,  -168.7506,       5025,   365.3,   9.6600,  34.7130,2,  34.7097,2,     79.6,2,    74.0,2,   27.35,2,   31.80,2,    0.00,4,    2.21,2,-999.000,9,-999.000,9,-999.000,9,  -999.0,9,  -999.0,9,-999.0000,9,  -999.00,-999.0000,9, -999.00,9, -999.00,9,  -999.0,9,  -999.0, -999.00,9, -999.00,9, -999.00,9, -999.00,9,   9.6183, -999.00
096U20160426,       P15S,     133,          1,         26,       2026,2,20160622,       1053,    -3.5013,  -168.7506,       5025,   420.8,   8.9320,  34.6630,2,  34.6567,2,    102.3,2,   102.6,2,   26.89,2,   30.75,2,    0.00,4,    2.11,2,-999.000,9,-999.000,9,-999.000,9,  2215.9,2,  2301.4,2,-999.0000,9,  -999.00,-999.0000,9, -999.00,9, -999.00,9,  -999.0,9,  -999.0, -999.00,9, -999.00,9, -999.00,9, -999.00,9,   8.8861, -999.00
096U20160426,       P15S,     133,          1,         25,       2025,2,20160622,       1053,    -3.5013,  -168.7506,       5025,   499.8,   7.9220,  34.6180,2,  34.6142,2,     51.9,2,    44.7,2,   40.59,2,   38.60,2,    0.00,4,    2.68,2,-999.000,9,-999.000,9,-999.000,9,  -999.0,9,  -999.0,9,-999.0000,9,  -999.00,-999.0000,9, -999.00,9, -999.00,9,  -999.0,9,  -999.0, -999.00,9, -999.00,9, -999.00,9, -999.00,9,   7.8710, -999.00
096U20160426,       P15S,     133,          1,         24,       2024,2,20160622,       1053,    -3.5013,  -168.7506,       5025,   564.9,   7.4210,  34.5960,2,  34.5945,2,     56.7,2,    52.0,2,   43.22,2,   38.81,2,    0.00,4,    2.70,2,-999.000,9,-999.000,9,-999.000,9,  2267.3,2,  2309.1,2,-999.0000,9,  -999.00,-999.0000,9, -999.00,9, -999.00,9,  -999.0,9,  -999.0, -999.00,9, -999.00,9, -999.00,9, -999.00,9,   7.3652, -999.00
096U20160426,       P15S,     133,          1,         23,       2023,2,20160622,       1053,    -3.5013,  -168.7506,       5025,   765.7,   5.6020,  34.5440,2,  34.5440,2,     80.7,2,    76.6,2,   62.90,2,   39.41,2,    0.00,4,    2.78,2,-999.000,9,-999.000,9,-999.000,9,  -999.0,9,  -999.0,9,-999.0000,9,  -999.00,-999.0000,9, -999.00,9, -999.00,9,  -999.0,9,  -999.0, -999.00,9, -999.00,9, -999.00,9, -999.00,9,   5.5359, -999.00
096U20160426,       P15S,     133,          1,         22,       2022,2,20160622,       1053,    -3.5013,  -168.7506,       5025,   835.3,   5.0810,  34.5440,2,  34.5438,2,     85.8,2,    81.9,2,   70.63,2,   39.43,2,    0.00,4,    2.79,2,-999.000,9,-999.000,9,-999.000,9,  -999.0,9,  -999.0,9,-999.0000,9,  -999.00,-999.0000,9, -999.00,9, -999.00,9,  -999.0,9,  -999.0, -999.00,9, -999.00,9, -999.00,9, -999.00,9,   5.0118, -999.00
096U20160426,       P15S,     133,          1,         21,       2021,2,20160622,       1053,    -3.5013,  -168.7506,       5025,   937.1,   4.6540,  34.5490,2,  34.5482,2,     90.0,2,    86.2,2,   78.39,2,   39.39,2,    0.00,4,    2.80,2,-999.000,9,-999.000,9,-999.000,9,  -999.0,9,  -999.0,9,-999.0000,9,  -999.00,-999.0000,9, -999.00,9, -999.00,9,  -999.0,9,  -999.0, -999.00,9, -999.00,9, -999.00,9, -999.00,9,   4.5788, -999.00
096U20160426,       P15S,     133,          1,         20,       2020,2,20160622,       1053,    -3.5013,  -168.7506,       5025,  1036.9,   4.2520,  34.5580,2,  34.5566,2,     93.0,2,    89.8,2,   86.44,2,   39.30,2,    0.00,4,    2.80,2,-999.000,9,-999.000,9,-999.000,9,  -999.0,9,  -999.0,9,-999.0000,9,  -999.00,-999.0000,9, -999.00,9, -999.00,9,  -999.0,9,  -999.0, -999.00,9, -999.00,9, -999.00,9, -999.00,9,   4.1712, -999.00
096U20160426,       P15S,     133,          1,         19,       2019,2,20160622,       1053,    -3.5013,  -168.7506,       5025,  1135.9,   3.9660,  34.5640,2,  34.5632,2,     96.8,2,    93.6,2,   92.14,2,   39.16,2,    0.00,4,    2.79,2,-999.000,9,-999.000,9,-999.000,9,  -999.0,9,  -999.0,9,-999.0000,9,  -999.00,-999.0000,9, -999.00,9, -999.00,9,  -999.0,9,  -999.0, -999.00,9, -999.00,9, -999.00,9, -999.00,9,   3.8791, -999.00
096U20160426,       P15S,     133,          1,         18,       2018,2,20160622,       1053,    -3.5013,  -168.7506,       5025,  1237.1,   3.6600,  34.5760,2,  34.5749,2,     96.9,2,    93.6,2,  100.17,2,   39.35,2,    0.00,4,    2.81,2,-999.000,9,-999.000,9,-999.000,9,  -999.0,9,  -999.0,9,-999.0000,9,  -999.00,-999.0000,9, -999.00,9, -999.00,9,  -999.0,9,  -999.0, -999.00,9, -999.00,9, -999.00,9, -999.00,9,   3.5673, -999.00
096U20160426,       P15S,     133,          1,         17,       2017,2,20160622,       1053,    -3.5013,  -168.7506,       5025,  1336.4,   3.4000,  34.5850,2,  34.5858,2,    100.1,2,    97.1,2,  106.24,2,   39.25,2,    0.00,4,    2.79,2,-999.000,9,-999.000,9,-999.000,9,  -999.0,9,  -999.0,9,-999.0000,9,  -999.00,-999.0000,9, -999.00,9, -999.00,9,  -999.0,9,  -999.0, -999.00,9, -999.00,9, -999.00,9, -999.00,9,   3.3015, -999.00
096U20160426,       P15S,     133,          1,         16,       2016,2,20160622,       1053,    -3.5013,  -168.7506,       5025,  1466.2,   3.0970,  34.5960,2,  34.5962,2,    105.8,2,   102.8,2,  111.90,2,   38.92,2,    0.00,4,    2.77,2,-999.000,9,-999.000,9,-999.000,9,  -999.0,9,  -999.0,9,-999.0000,9,  -999.00,-999.0000,9, -999.00,9, -999.00,9,  -999.0,9,  -999.0, -999.00,9, -999.00,9, -999.00,9, -999.00,9,   2.9908, -999.00
096U20160426,       P15S,     133,          1,         15,       2015,2,20160622,       1053,    -3.5013,  -168.7506,       5025,  1666.7,   2.7580,  34.6120,2,  34.6131,2,    111.7,2,   109.4,2,  118.61,2,   38.53,2,    0.00,4,    2.72,2,-999.000,9,-999.000,9,-999.000,9,  -999.0,9,  -999.0,9,-999.0000,9,  -999.00,-999.0000,9, -999.00,9, -999.00,9,  -999.0,9,  -999.0, -999.00,9, -999.00,9, -999.00,9, -999.00,9,   2.6390, -999.00
096U20160426,       P15S,     133,          1,         14,       2014,2,20160622,       1053,    -3.5013,  -168.7506,       5025,  1866.3,   2.4930,  34.6260,2,  34.6277,2,    114.4,2,   112.5,2,  126.22,2,   38.46,2,    0.00,4,    2.71,2,-999.000,9,-999.000,9,-999.000,9,  -999.0,9,  -999.0,9,-999.0000,9,  -999.00,-999.0000,9, -999.00,9, -999.00,9,  -999.0,9,  -999.0, -999.00,9, -999.00,9, -999.00,9, -999.00,9,   2.3606, -999.00
096U20160426,       P15S,     133,          1,         13,       2013,2,20160622,       1053,    -3.5013,  -168.7506,       5025,  2085.7,   2.2120,  34.6440,2,  34.6442,2,    118.1,2,   116.2,2,  134.23,2,   38.35,2,    0.00,4,    2.69,2,-999.000,9,-999.000,9,-999.000,9,  -999.0,9,  -999.0,9,-999.0000,9,  -999.00,-999.0000,9, -999.00,9, -999.00,9,  -999.0,9,  -999.0, -999.00,9, -999.00,9, -999.00,9, -999.00,9,   2.0649, -999.00
096U20160426,       P15S,     133,          1,         12,       2012,2,20160622,       1053,    -3.5013,  -168.7506,       5025,  2335.7,   1.9990,  34.6550,2,  34.6546,2,    126.6,2,   125.5,2,  136.55,2,   37.76,2,    0.00,4,    2.64,2,-999.000,9,-999.000,9,-999.000,9,  -999.0,9,  -999.0,9,-999.0000,9,  -999.00,-999.0000,9, -999.00,9, -999.00,9,  -999.0,9,  -999.0, -999.00,9, -999.00,9, -999.00,9, -999.00,9,   1.8335, -999.00
096U20160426,       P15S,     133,          1,         11,       2011,2,20160622,       1053,    -3.5013,  -168.7506,       5025,  2585.9,   1.8690,  34.6640,2,  34.6630,2,    132.1,2,   131.6,2,  138.29,2,   37.35,2,    0.00,4,    2.61,2,-999.000,9,-999.000,9,-999.000,9,  -999.0,9,  -999.0,9,-999.0000,9,  -999.00,-999.0000,9, -999.00,9, -999.00,9,  -999.0,9,  -999.0, -999.00,9, -999.00,9, -999.00,9, -999.00,9,   1.6833, -999.00
096U20160426,       P15S,     133,          1,         10,       2010,2,20160622,       1053,    -3.5013,  -168.7506,       5025,  2836.8,   1.7440,  34.6710,2,  34.6700,2,    138.3,2,   138.2,2,  139.49,2,   36.97,2,    0.00,4,    2.57,2,-999.000,9,-999.000,9,-999.000,9,  -999.0,9,  -999.0,9,-999.0000,9,  -999.00,-999.0000,9, -999.00,9, -999.00,9,  -999.0,9,  -999.0, -999.00,9, -999.00,9, -999.00,9, -999.00,9,   1.5374, -999.00
096U20160426,       P15S,     133,          1,          9,       2009,2,20160622,       1053,    -3.5013,  -168.7506,       5025,  3101.8,   1.6170,  34.6780,2,  34.6784,2,    146.1,2,   146.6,2,  139.01,2,   36.39,2,    0.00,4,    2.52,2,-999.000,9,-999.000,9,-999.000,9,  -999.0,9,  -999.0,9,-999.0000,9,  -999.00,-999.0000,9, -999.00,9, -999.00,9,  -999.0,9,  -999.0, -999.00,9, -999.00,9, -999.00,9, -999.00,9,   1.3877, -999.00
096U20160426,       P15S,     133,          1,          8,       2008,2,20160622,       1053,    -3.5013,  -168.7506,       5025,  3401.0,   1.5100,  34.6850,2,  34.6842,2,    153.6,3,   154.2,2,  138.83,2,   35.91,2,    0.00,4,    2.48,2,-999.000,9,-999.000,9,-999.000,9,  -999.0,9,  -999.0,9,-999.0000,9,  -999.00,-999.0000,9, -999.00,9, -999.00,9,  -999.0,9,  -999.0, -999.00,9, -999.00,9, -999.00,9, -999.00,9,   1.2536, -999.00
096U20160426,       P15S,     133,          1,          7,       2007,2,20160622,       1053,    -3.5013,  -168.7506,       5025,  3701.0,   1.4470,  34.6900,2,  34.6893,2,    159.7,2,   160.6,2,  138.13,2,   35.50,2,    0.00,4,    2.45,2,-999.000,9,-999.000,9,-999.000,9,  -999.0,9,  -999.0,9,-999.0000,9,  -999.00,-999.0000,9, -999.00,9, -999.00,9,  -999.0,9,  -999.0, -999.00,9, -999.00,9, -999.00,9, -999.00,9,   1.1614, -999.00
096U20160426,       P15S,     133,          1,          6,       2006,2,20160622,       1053,    -3.5013,  -168.7506,       5025,  3999.4,   1.3970,  34.6940,2,  34.6940,2,    165.5,2,   166.2,2,  137.27,2,   35.15,2,    0.00,4,    2.41,2,-999.000,9,-999.000,9,-999.000,9,  -999.0,9,  -999.0,9,-999.0000,9,  -999.00,-999.0000,9, -999.00,9, -999.00,9,  -999.0,9,  -999.0, -999.00,9, -999.00,9, -999.00,9, -999.00,9,   1.0809, -999.00
096U20160426,       P15S,     133,          1,          5,       2005,2,20160622,       1053,    -3.5013,  -168.7506,       5025,  4299.0,   1.3320,  34.6980,2,  34.6986,2,    175.9,2,   177.1,2,  131.22,2,   34.33,2,    0.00,4,    2.36,2,-999.000,9,-999.000,9,-999.000,9,  -999.0,9,  -999.0,9,-999.0000,9,  -999.00,-999.0000,9, -999.00,9, -999.00,9,  -999.0,9,  -999.0, -999.00,9, -999.00,9, -999.00,9, -999.00,9,   0.9848, -999.00
096U20160426,       P15S,     133,          1,          4,       2004,2,20160622,       1053,    -3.5013,  -168.7506,       5025,  4600.9,   1.2620,  34.7030,2,  34.7026,2,    186.0,2,   187.9,2,  125.74,2,   33.53,2,    0.00,4,    2.30,2,-999.000,9,-999.000,9,-999.000,9,  -999.0,9,  -999.0,9,-999.0000,9,  -999.00,-999.0000,9, -999.00,9, -999.00,9,  -999.0,9,  -999.0, -999.00,9, -999.00,9, -999.00,9, -999.00,9,   0.8827, -999.00
096U20160426,       P15S,     133,          1,          3,       2003,2,20160622,       1053,    -3.5013,  -168.7506,       5025,  4901.5,   1.2210,  34.7050,2,  34.7055,2,    193.1,2,   194.4,2,  122.73,2,   33.06,2,    0.00,4,    2.26,2,-999.000,9,-999.000,9,-999.000,9,  -999.0,9,  -999.0,9,-999.0000,9,  -999.00,-999.0000,9, -999.00,9, -999.00,9,  -999.0,9,  -999.0, -999.00,9, -999.00,9, -999.00,9, -999.00,9,   0.8078, -999.00
096U20160426,       P15S,     133,          1,          2,       2002,2,20160622,       1053,    -3.5013,  -168.7506,       5025,  4991.1,   1.2160,  34.7060,2,  34.7059,2,    194.1,2,   196.2,2,  122.08,2,   32.96,2,    0.00,4,    2.26,2,-999.000,9,-999.000,9,-999.000,9,  -999.0,9,  -999.0,9,-999.0000,9,  -999.00,-999.0000,9, -999.00,9, -999.00,9,  -999.0,9,  -999.0, -999.00,9, -999.00,9, -999.00,9, -999.00,9,   0.7922, -999.00
096U20160426,       P15S,     133,          1,          1,       2001,2,20160622,       1053,    -3.5013,  -168.7506,       5025,  5087.3,   1.2100,  34.7060,2,  34.7067,2,    195.9,2,   197.6,2,  121.45,2,   32.87,2,    0.00,4,    2.25,2,-999.000,9,-999.000,9,-999.000,9,  -999.0,9,  -999.0,9,-999.0000,9,  -999.00,-999.0000,9, -999.00,9, -999.00,9,  -999.0,9,  -999.0, -999.00,9, -999.00,9, -999.00,9, -999.00,9,   0.7748, -999.00