BOTTLE,20230413CCHSIOENA
EXPOCODE,SECT_ID,STNNBR,CASTNO,SAMPNO,BTLNBR,BTLNBR_FLAG_W,DATE,TIME,LATITUDE,LONGITUDE,DEPTH,CTDPRS,CTDTMP,CTDSAL,CTDSAL_FLAG_W,SALNTY,SALNTY_FLAG_W,CTDOXY,CTDOXY_FLAG_W,OXYGEN,OXYGEN_FLAG_W,SILCAT,SILCAT_FLAG_W,NITRAT,NITRAT_FLAG_W,NITRIT,NITRIT_FLAG_W,PHSPHT,PHSPHT_FLAG_W,CFC-11,CFC-11_FLAG_W,CFC-12,CFC-12_FLAG_W,SF6,SF6_FLAG_W,TCARBN,TCARBN_FLAG_W,ALKALI,ALKALI_FLAG_W,PH_TOT,PH_TOT_FLAG_W,PH_TMP,HELIUM,HELIUM_FLAG_W,DELHE3,DELHE3_FLAG_W,DELC13,DELC13_FLAG_W,DELC14,DELC14_FLAG_W,C14ERR,POC,POC_FLAG_W,PON,PON_FLAG_W,CHLORA,CHLORA_FLAG_W,PPHYTN,PPHYTN_FLAG_W,THETA,DELHER
,,,,,,,,,,,METERS,DBAR,ITS-90,PSS-78,,PSS-78,,UMOL/KG,,UMOL/KG,,UMOL/KG,,UMOL/KG,,UMOL/KG,,UMOL/KG,,PMOL/KG,,PMOL/KG,,FMOL/KG,,UMOL/KG,,UMOL/KG,,,,DEG C,NMOL/KG,,PERCNT,,/MILLE,,/MILLE,,/MILLE,UG/KG,,UG/KG,,UG/KG,,UG/KG,,DEG C,PERCNT
096U20160426,       P15S,      89,          1,         36,       2036,2,20160610,       0608,   -24.4994,  -170.0022,       5686,     5.3,  23.1920,  35.7570,2,  35.7560,2,    214.5,2,   213.4,2,    0.48,2,   -0.02,4,    0.00,4,    0.03,2,-999.000,9,-999.000,9,-999.000,9,  2020.6,6,  2346.3,6,-999.0000,9,  -999.00,-999.0000,9, -999.00,9, -999.00,9,  -999.0,9,  -999.0, -999.00,9, -999.00,9,    0.26,2,    0.04,3,  23.1909, -999.00
096U20160426,       P15S,      89,          1,         35,       2035,2,20160610,       0608,   -24.4994,  -170.0022,       5686,    18.6,  23.1940,  35.7570,2,  35.7562,2,    214.5,2,   213.2,2,    0.54,2,   -0.02,4,    0.00,4,    0.03,2,-999.000,9,-999.000,9,-999.000,9,  -999.0,9,  -999.0,9,-999.0000,9,  -999.00,-999.0000,9, -999.00,9, -999.00,9,  -999.0,9,  -999.0, -999.00,9, -999.00,9,    0.21,2,    0.06,3,  23.1902, -999.00
096U20160426,       P15S,      89,          1,         34,       2034,2,20160610,       0608,   -24.4994,  -170.0022,       5686,    40.1,  23.1970,  35.7570,2,  35.7558,2,    214.2,2,   213.4,2,    0.51,2,   -0.02,4,    0.00,4,    0.03,2,-999.000,9,-999.000,9,-999.000,9,  -999.0,9,  -999.0,9,-999.0000,9,  -999.00,-999.0000,9, -999.00,9, -999.00,9,  -999.0,9,  -999.0, -999.00,9, -999.00,9, -999.00,9, -999.00,9,  23.1887, -999.00
096U20160426,       P15S,      89,          1,         33,       2033,2,20160610,       0608,   -24.4994,  -170.0022,       5686,    66.0,  23.2200,  35.7540,2,  35.7618,2,    214.4,2,   213.3,2,    0.49,2,   -0.02,4,    0.00,4,    0.03,2,-999.000,9,-999.000,9,-999.000,9,  -999.0,9,  -999.0,9,-999.0000,9,  -999.00,-999.0000,9, -999.00,9, -999.00,9,  -999.0,9,  -999.0, -999.00,9, -999.00,9,    0.18,2,    0.10,3,  23.2064, -999.00
096U20160426,       P15S,      89,          1,         32,       2032,2,20160610,       0608,   -24.4994,  -170.0022,       5686,    90.2,  22.7470,  35.8290,2,  35.8283,2,    215.1,2,   215.1,2,    0.41,2,   -0.02,4,    0.00,4,    0.02,4,-999.000,9,-999.000,9,-999.000,9,  -999.0,9,  -999.0,9,-999.0000,9,  -999.00,-999.0000,9, -999.00,9, -999.00,9,  -999.0,9,  -999.0, -999.00,9, -999.00,9,    0.34,2,    0.14,3,  22.7287, -999.00
096U20160426,       P15S,      89,          1,         31,       2031,2,20160610,       0608,   -24.4994,  -170.0022,       5686,   136.3,  19.9350,  35.7070,2,  35.6998,2,    214.6,2,   212.4,2,    0.68,2,    0.89,2,    0.08,2,    0.15,2,-999.000,9,-999.000,9,-999.000,9,  2062.6,2,  2338.3,6,-999.0000,9,  -999.00,-999.0000,9, -999.00,9, -999.00,9,  -999.0,9,  -999.0, -999.00,9, -999.00,9,    0.22,2,    0.16,3,  19.9098, -999.00
096U20160426,       P15S,      89,          1,         30,       2030,2,20160610,       0608,   -24.4994,  -170.0022,       5686,   185.0,  18.4150,  35.6480,2,  35.6421,2,    206.5,2,   206.5,2,    0.86,2,    2.32,2,    0.02,4,    0.24,2,-999.000,9,-999.000,9,-999.000,9,  -999.0,9,  -999.0,9,-999.0000,9,  -999.00,-999.0000,9, -999.00,9, -999.00,9,  -999.0,9,  -999.0, -999.00,9, -999.00,9, -999.00,9, -999.00,9,  18.3826, -999.00
096U20160426,       P15S,      89,          1,         29,       2029,2,20160610,       0608,   -24.4994,  -170.0022,       5686,   235.5,  17.1690,  35.5420,2,  35.5327,2,    203.4,2,   202.7,2,    1.19,2,    4.20,2,    0.01,4,    0.35,2,-999.000,9,-999.000,9,-999.000,9,  -999.0,9,  -999.0,9,-999.0000,9,  -999.00,-999.0000,9, -999.00,9, -999.00,9,  -999.0,9,  -999.0, -999.00,9, -999.00,9, -999.00,9, -999.00,9,  17.1297, -999.00
096U20160426,       P15S,      89,          1,         28,       2028,2,20160610,       0608,   -24.4994,  -170.0022,       5686,   285.2,  16.4870,  35.4870,2,  35.4754,2,    206.6,2,   206.3,2,    1.32,2,    4.60,2,    0.00,4,    0.38,2,-999.000,9,-999.000,9,-999.000,9,  -999.0,9,  -999.0,9,-999.0000,9,  -999.00,-999.0000,9, -999.00,9, -999.00,9,  -999.0,9,  -999.0, -999.00,9, -999.00,9, -999.00,9, -999.00,9,  16.4406, -999.00
096U20160426,       P15S,      89,          1,         27,       2027,2,20160610,       0608,   -24.4994,  -170.0022,       5686,   334.3,  15.0630,  35.2500,2,  35.2159,2,    195.9,2,   194.4,2,    2.22,2,    8.07,2,    0.00,4,    0.62,2,-999.000,9,-999.000,9,-999.000,9,  2107.6,2,  2311.0,2,-999.0000,9,  -999.00,-999.0000,9, -999.00,9, -999.00,9,  -999.0,9,  -999.0, -999.00,9, -999.00,9, -999.00,9, -999.00,9,  15.0119, -999.00
096U20160426,       P15S,      89,          1,         26,       2026,2,20160610,       0608,   -24.4994,  -170.0022,       5686,   375.3,  13.3590,  35.0010,2,  35.0005,2,    189.5,2,   190.1,2,    3.28,2,   11.33,2,    0.00,4,    0.84,2,-999.000,9,-999.000,9,-999.000,9,  -999.0,9,  -999.0,9,-999.0000,9,  -999.00,-999.0000,9, -999.00,9, -999.00,9,  -999.0,9,  -999.0, -999.00,9, -999.00,9, -999.00,9, -999.00,9,  13.3061, -999.00
096U20160426,       P15S,      89,          1,         25,       2025,2,20160610,       0608,   -24.4994,  -170.0022,       5686,   466.9,  10.7730,  34.7510,2,  34.7177,2,    203.4,2,   205.7,2,    4.08,2,   15.54,2,    0.00,4,    1.09,2,-999.000,9,-999.000,9,-999.000,9,  -999.0,9,  -999.0,9,-999.0000,9,  -999.00,-999.0000,9, -999.00,9, -999.00,9,  -999.0,9,  -999.0, -999.00,9, -999.00,9, -999.00,9, -999.00,9,  10.7157, -999.00
096U20160426,       P15S,      89,          1,         24,       2024,2,20160610,       0608,   -24.4994,  -170.0022,       5686,   564.5,   8.0490,  34.4650,2,  34.4565,2,    224.9,2,   227.8,2,    5.78,2,   20.14,2,    0.00,4,    1.38,2,-999.000,9,-999.000,9,-999.000,9,  -999.0,9,  -999.0,9,-999.0000,9,  -999.00,-999.0000,9, -999.00,9, -999.00,9,  -999.0,9,  -999.0, -999.00,9, -999.00,9, -999.00,9, -999.00,9,   7.9908, -999.00
096U20160426,       P15S,      89,          1,         23,       2023,2,20160610,       0608,   -24.4994,  -170.0022,       5686,   666.1,   6.9060,  34.3690,2,  34.3673,2,    232.2,2,   234.7,2,    7.88,2,   22.73,2,    0.00,4,    1.54,2,-999.000,9,-999.000,9,-999.000,9,  2147.1,2,  2278.7,2,-999.0000,9,  -999.00,-999.0000,9, -999.00,9, -999.00,9,  -999.0,9,  -999.0, -999.00,9, -999.00,9, -999.00,9, -999.00,9,   6.8426, -999.00
096U20160426,       P15S,      89,          1,         22,       2022,2,20160610,       0608,   -24.4994,  -170.0022,       5686,   766.3,   6.1270,  34.3260,2,  34.3258,2,    226.5,2,   228.8,2,   11.68,2,   25.19,2,    0.00,4,    1.70,2,-999.000,9,-999.000,9,-999.000,9,  -999.0,9,  -999.0,9,-999.0000,9,  -999.00,-999.0000,9, -999.00,9, -999.00,9,  -999.0,9,  -999.0, -999.00,9, -999.00,9, -999.00,9, -999.00,9,   6.0581, -999.00
096U20160426,       P15S,      89,          1,         21,       2021,2,20160610,       0608,   -24.4994,  -170.0022,       5686,   866.6,   5.4210,  34.3140,2,  34.3129,2,    213.2,2,   215.7,2,   18.24,2,   27.74,2,    0.00,4,    1.88,2,-999.000,9,-999.000,9,-999.000,9,  -999.0,9,  -999.0,9,-999.0000,9,  -999.00,-999.0000,9, -999.00,9, -999.00,9,  -999.0,9,  -999.0, -999.00,9, -999.00,9, -999.00,9, -999.00,9,   5.3471, -999.00
096U20160426,       P15S,      89,          1,         20,       2020,2,20160610,       0608,   -24.4994,  -170.0022,       5686,   966.6,   4.8510,  34.3400,2,  34.3417,2,    192.6,2,   193.4,2,   29.46,2,   30.57,2,    0.00,4,    2.09,2,-999.000,9,-999.000,9,-999.000,9,  -999.0,9,  -999.0,9,-999.0000,9,  -999.00,-999.0000,9, -999.00,9, -999.00,9,  -999.0,9,  -999.0, -999.00,9, -999.00,9, -999.00,9, -999.00,9,   4.7720, -999.00
096U20160426,       P15S,      89,          1,         19,       2019,2,20160610,       0608,   -24.4994,  -170.0022,       5686,  1066.6,   4.2180,  34.3680,2,  34.3690,2,    183.8,2,   185.1,2,   39.82,2,   32.09,2,    0.00,4,    2.20,2,-999.000,9,-999.000,9,-999.000,9,  -999.0,9,  -999.0,9,-999.0000,9,  -999.00,-999.0000,9, -999.00,9, -999.00,9,  -999.0,9,  -999.0, -999.00,9, -999.00,9, -999.00,9, -999.00,9,   4.1352, -999.00
096U20160426,       P15S,      89,          1,         18,       2018,2,20160610,       0608,   -24.4994,  -170.0022,       5686,  1162.7,   3.7580,  34.4130,2,  34.4149,2,    172.8,2,   173.6,2,   51.93,2,   33.42,2,    0.00,4,    2.30,2,-999.000,9,-999.000,9,-999.000,9,  -999.0,9,  -999.0,9,-999.0000,9,  -999.00,-999.0000,9, -999.00,9, -999.00,9,  -999.0,9,  -999.0, -999.00,9, -999.00,9, -999.00,9, -999.00,9,   3.6709, -999.00
096U20160426,       P15S,      89,          1,         17,       2017,2,20160610,       0608,   -24.4994,  -170.0022,       5686,  1301.6,   3.1760,  34.4920,2,  34.4911,2,    161.9,2,   162.4,2,   70.44,2,   34.41,2,    0.00,4,    2.38,2,-999.000,9,-999.000,9,-999.000,9,  -999.0,9,  -999.0,9,-999.0000,9,  -999.00,-999.0000,9, -999.00,9, -999.00,9,  -999.0,9,  -999.0, -999.00,9, -999.00,9, -999.00,9, -999.00,9,   3.0828, -999.00
096U20160426,       P15S,      89,          1,         16,       2016,2,20160610,       0608,   -24.4994,  -170.0022,       5686,  1441.9,   2.8570,  34.5400,2,  34.5388,2,    156.9,2,   157.6,2,   82.71,2,   34.81,2,    0.00,4,    2.41,2,-999.000,9,-999.000,9,-999.000,9,  -999.0,9,  -999.0,9,-999.0000,9,  -999.00,-999.0000,9, -999.00,9, -999.00,9,  -999.0,9,  -999.0, -999.00,9, -999.00,9, -999.00,9, -999.00,9,   2.7556, -999.00
096U20160426,       P15S,      89,          1,         15,       2015,2,20160610,       0608,   -24.4994,  -170.0022,       5686,  1636.1,   2.5920,  34.5870,2,  34.5865,2,    150.0,2,   150.4,2,   97.48,2,   35.28,2,    0.00,4,    2.46,2,-999.000,9,-999.000,9,-999.000,9,  -999.0,9,  -999.0,9,-999.0000,9,  -999.00,-999.0000,9, -999.00,9, -999.00,9,  -999.0,9,  -999.0, -999.00,9, -999.00,9, -999.00,9, -999.00,9,   2.4777, -999.00
096U20160426,       P15S,      89,          1,         14,       2014,2,20160610,       0608,   -24.4994,  -170.0022,       5686,  1826.7,   2.4040,  34.6130,2,  34.6123,2,    146.4,2,   146.6,2,  107.47,2,   35.58,2,    0.00,4,    2.48,2,-999.000,9,-999.000,9,-999.000,9,  -999.0,9,  -999.0,9,-999.0000,9,  -999.00,-999.0000,9, -999.00,9, -999.00,9,  -999.0,9,  -999.0, -999.00,9, -999.00,9, -999.00,9, -999.00,9,   2.2763, -999.00
096U20160426,       P15S,      89,          1,         13,       2013,2,20160610,       0608,   -24.4994,  -170.0022,       5686,  2064.8,   2.2650,  34.6280,2,  34.6264,2,    145.8,2,   146.2,2,  112.95,2,   35.71,2,   -0.01,4,    2.49,2,-999.000,9,-999.000,9,-999.000,9,  -999.0,9,  -999.0,9,-999.0000,9,  -999.00,-999.0000,9, -999.00,9, -999.00,9,  -999.0,9,  -999.0, -999.00,9, -999.00,9, -999.00,9, -999.00,9,   2.1189, -999.00
096U20160426,       P15S,      89,          1,         12,       2012,2,20160610,       0608,   -24.4994,  -170.0022,       5686,  2316.1,   2.1170,  34.6420,2,  34.6370,2,    145.6,2,   145.9,2,  118.57,2,   35.79,2,    0.00,4,    2.49,2,-999.000,9,-999.000,9,-999.000,9,  2307.4,2,  2394.0,2,-999.0000,9,  -999.00,-999.0000,9, -999.00,9, -999.00,9,  -999.0,9,  -999.0, -999.00,9, -999.00,9, -999.00,9, -999.00,9,   1.9512, -999.00
096U20160426,       P15S,      89,          1,         11,       2011,2,20160610,       0608,   -24.4994,  -170.0022,       5686,  2565.8,   1.9920,  34.6530,2,  34.6503,2,    146.1,2,   146.1,2,  123.68,2,   35.85,2,    0.00,4,    2.50,2,-999.000,9,-999.000,9,-999.000,9,  -999.0,9,  -999.0,9,-999.0000,9,  -999.00,-999.0000,9, -999.00,9, -999.00,9,  -999.0,9,  -999.0, -999.00,9, -999.00,9, -999.00,9, -999.00,9,   1.8058, -999.00
096U20160426,       P15S,      89,          1,         10,       2010,2,20160610,       0608,   -24.4994,  -170.0022,       5686,  2814.5,   1.8920,  34.6620,2,  34.6610,2,    147.0,2,   146.7,2,  127.27,2,   35.83,2,    0.00,4,    2.49,2,-999.000,9,-999.000,9,-999.000,9,  -999.0,9,  -999.0,9,-999.0000,9,  -999.00,-999.0000,9, -999.00,9, -999.00,9,  -999.0,9,  -999.0, -999.00,9, -999.00,9, -999.00,9, -999.00,9,   1.6845, -999.00
096U20160426,       P15S,      89,          1,          9,       2009,2,20160610,       0608,   -24.4994,  -170.0022,       5686,  3080.4,   1.7590,  34.6730,2,  34.6724,2,    150.8,2,   150.8,2,  129.64,2,   35.51,2,    0.00,4,    2.47,2,-999.000,9,-999.000,9,-999.000,9,  -999.0,9,  -999.0,9,-999.0000,9,  -999.00,-999.0000,9, -999.00,9, -999.00,9,  -999.0,9,  -999.0, -999.00,9, -999.00,9, -999.00,9, -999.00,9,   1.5287, -999.00
096U20160426,       P15S,      89,          1,          8,       2008,2,20160610,       0608,   -24.4994,  -170.0022,       5686,  3366.2,   1.6160,  34.6880,2,  34.6872,2,    162.6,2,   163.2,2,  126.07,2,   34.56,2,    0.00,4,    2.40,2,-999.000,9,-999.000,9,-999.000,9,  -999.0,9,  -999.0,9,-999.0000,9,  -999.00,-999.0000,9, -999.00,9, -999.00,9,  -999.0,9,  -999.0, -999.00,9, -999.00,9, -999.00,9, -999.00,9,   1.3605, -999.00
096U20160426,       P15S,      89,          1,          7,       2007,2,20160610,       0608,   -24.4994,  -170.0022,       5686,  3699.9,   1.4410,  34.7140,2,  34.7133,2,    187.4,2,   189.8,2,  112.25,2,   32.29,2,    0.00,4,    2.23,2,-999.000,9,-999.000,9,-999.000,9,  -999.0,9,  -999.0,9,-999.0000,9,  -999.00,-999.0000,9, -999.00,9, -999.00,9,  -999.0,9,  -999.0, -999.00,9, -999.00,9, -999.00,9, -999.00,9,   1.1555, -999.00
096U20160426,       P15S,      89,          1,          6,       2006,2,20160610,       0608,   -24.4994,  -170.0022,       5686,  4090.0,   1.2450,  34.7180,2,  34.7169,2,    198.6,2,   201.0,2,  112.24,2,   31.71,2,    0.00,4,    2.18,2,-999.000,9,-999.000,9,-999.000,9,  2263.5,2,  2362.2,2,-999.0000,9,  -999.00,-999.0000,9, -999.00,9, -999.00,9,  -999.0,9,  -999.0, -999.00,9, -999.00,9, -999.00,9, -999.00,9,   0.9233, -999.00
096U20160426,       P15S,      89,          1,          5,       2005,2,20160610,       0608,   -24.4994,  -170.0022,       5686,  4490.4,   1.1010,  34.7130,2,  34.7114,2,    203.3,2,   205.0,2,  116.46,2,   31.84,2,    0.00,4,    2.19,2,-999.000,9,-999.000,9,-999.000,9,  -999.0,9,  -999.0,9,-999.0000,9,  -999.00,-999.0000,9, -999.00,9, -999.00,9,  -999.0,9,  -999.0, -999.00,9, -999.00,9, -999.00,9, -999.00,9,   0.7393, -999.00
096U20160426,       P15S,      89,          1,          4,       2004,2,20160610,       0608,   -24.4994,  -170.0022,       5686,  4895.1,   1.0600,  34.7100,2,  34.7092,2,    205.8,2,   206.1,2,  118.41,2,   31.96,2,    0.00,4,    2.19,2,-999.000,9,-999.000,9,-999.000,9,  -999.0,9,  -999.0,9,-999.0000,9,  -999.00,-999.0000,9, -999.00,9, -999.00,9,  -999.0,9,  -999.0, -999.00,9, -999.00,9, -999.00,9, -999.00,9,   0.6529, -999.00
096U20160426,       P15S,      89,          1,          3,       2003,2,20160610,       0608,   -24.4994,  -170.0022,       5686,  5296.9,   1.0860,  34.7090,2,  34.7084,2,    207.3,2,   206.1,2,  119.26,2,   32.01,2,    0.00,4,    2.20,2,-999.000,9,-999.000,9,-999.000,9,  -999.0,9,  -999.0,9,-999.0000,9,  -999.00,-999.0000,9, -999.00,9, -999.00,9,  -999.0,9,  -999.0, -999.00,9, -999.00,9, -999.00,9, -999.00,9,   0.6296, -999.00
096U20160426,       P15S,      89,          1,          2,       2002,2,20160610,       0608,   -24.4994,  -170.0022,       5686,  5542.6,   1.1170,  34.7090,2,  34.7084,2,    207.9,2,   206.0,2,  119.40,2,   32.01,2,    0.00,4,    2.20,2,-999.000,9,-999.000,9,-999.000,9,  -999.0,9,  -999.0,9,-999.0000,9,  -999.00,-999.0000,9, -999.00,9, -999.00,9,  -999.0,9,  -999.0, -999.00,9, -999.00,9, -999.00,9, -999.00,9,   0.6288, -999.00
096U20160426,       P15S,      89,          1,          1,       2001,2,20160610,       0608,   -24.4994,  -170.0022,       5686,  5753.1,   1.1440,  34.7090,2,  34.7079,2,    208.4,2,   206.1,2,  119.45,2,   31.99,2,    0.00,4,    2.20,2,-999.000,9,-999.000,9,-999.000,9,  2265.4,2,  2364.0,2,-999.0000,9,  -999.00,-999.0000,9, -999.00,9, -999.00,9,  -999.0,9,  -999.0, -999.00,9, -999.00,9, -999.00,9, -999.00,9,   0.6280, -999.00