BOTTLE,20230413CCHSIOENA
EXPOCODE,SECT_ID,STNNBR,CASTNO,SAMPNO,BTLNBR,BTLNBR_FLAG_W,DATE,TIME,LATITUDE,LONGITUDE,DEPTH,CTDPRS,CTDTMP,CTDSAL,CTDSAL_FLAG_W,SALNTY,SALNTY_FLAG_W,CTDOXY,CTDOXY_FLAG_W,OXYGEN,OXYGEN_FLAG_W,SILCAT,SILCAT_FLAG_W,NITRAT,NITRAT_FLAG_W,NITRIT,NITRIT_FLAG_W,PHSPHT,PHSPHT_FLAG_W,CFC-11,CFC-11_FLAG_W,CFC-12,CFC-12_FLAG_W,SF6,SF6_FLAG_W,TCARBN,TCARBN_FLAG_W,ALKALI,ALKALI_FLAG_W,PH_TOT,PH_TOT_FLAG_W,PH_TMP,HELIUM,HELIUM_FLAG_W,DELHE3,DELHE3_FLAG_W,DELC13,DELC13_FLAG_W,DELC14,DELC14_FLAG_W,C14ERR,POC,POC_FLAG_W,PON,PON_FLAG_W,CHLORA,CHLORA_FLAG_W,PPHYTN,PPHYTN_FLAG_W,THETA,DELHER
,,,,,,,,,,,METERS,DBAR,ITS-90,PSS-78,,PSS-78,,UMOL/KG,,UMOL/KG,,UMOL/KG,,UMOL/KG,,UMOL/KG,,UMOL/KG,,PMOL/KG,,PMOL/KG,,FMOL/KG,,UMOL/KG,,UMOL/KG,,,,DEG C,NMOL/KG,,PERCNT,,/MILLE,,/MILLE,,/MILLE,UG/KG,,UG/KG,,UG/KG,,UG/KG,,DEG C,PERCNT
096U20160426,       P15S,      92,          1,         36,       2036,2,20160611,       0456,   -22.9949,  -170.0004,       5701,     6.3,  24.7920,  35.6620,2,  35.6611,2,    208.2,2,   207.4,2,    0.51,2,   -0.04,4,    0.00,4,    0.12,2,   1.616,2,   1.039,2,   1.334,2,  2005.3,6,  2342.4,6,-999.0000,9,  -999.00,-999.0000,9, -999.00,9, -999.00,9,  -999.0,9,  -999.0, -999.00,9, -999.00,9,    0.34,2,    0.08,3,  24.7906, -999.00
096U20160426,       P15S,      92,          1,         35,       2035,2,20160611,       0456,   -22.9949,  -170.0004,       5701,    21.4,  24.7960,  35.6610,2,  35.6606,2,    208.2,2,   207.4,2,    0.51,2,   -0.04,4,    0.00,4,    0.11,2,-999.000,9,-999.000,9,-999.000,9,  -999.0,9,  -999.0,9,-999.0000,9,  -999.00,-999.0000,9, -999.00,9, -999.00,9,  -999.0,9,  -999.0, -999.00,9, -999.00,9,    0.37,2,    0.03,3,  24.7914, -999.00
096U20160426,       P15S,      92,          1,         34,       2034,2,20160611,       0456,   -22.9949,  -170.0004,       5701,    41.0,  24.7970,  35.6610,2,  35.6609,2,    208.1,2,   207.3,2,    0.52,2,   -0.04,4,    0.00,4,    0.11,2,-999.000,9,-999.000,9,-999.000,9,  -999.0,9,  -999.0,9,-999.0000,9,  -999.00,-999.0000,9, -999.00,9, -999.00,9,  -999.0,9,  -999.0, -999.00,9, -999.00,9,    0.26,2,    0.10,3,  24.7881, -999.00
096U20160426,       P15S,      92,          1,         33,       2033,2,20160611,       0456,   -22.9949,  -170.0004,       5701,    75.9,  24.8030,  35.6610,2,  35.6615,2,    207.9,2,   207.2,2,    0.51,2,   -0.04,4,    0.00,4,    0.11,2,   1.618,2,   1.041,2,   1.365,2,  2006.6,2,  2342.3,2,-999.0000,9,  -999.00,-999.0000,9, -999.00,9, -999.00,9,  -999.0,9,  -999.0, -999.00,9, -999.00,9, -999.00,9, -999.00,9,  24.7866, -999.00
096U20160426,       P15S,      92,          1,         32,       2032,2,20160611,       0456,   -22.9949,  -170.0004,       5701,    95.8,  24.8410,  35.6620,2,  35.6767,2,    208.1,2,   206.5,2,    0.49,2,   -0.04,4,    0.01,4,    0.11,2,   1.659,2,   1.062,2,   1.328,2,  2010.7,2,  2342.2,2,-999.0000,9,  -999.00,-999.0000,9, -999.00,9, -999.00,9,  -999.0,9,  -999.0, -999.00,9, -999.00,9,    0.47,2,    0.08,3,  24.8203, -999.00
096U20160426,       P15S,      92,          1,         31,       2031,2,20160611,       0456,   -22.9949,  -170.0004,       5701,   136.6,  21.6780,  35.7510,2,  35.7509,2,    195.9,2,   196.2,2,    0.53,2,    1.07,2,    0.06,2,    0.19,2,   1.966,2,   1.211,2,   1.269,2,  2056.0,2,  2343.2,2,-999.0000,9,  -999.00,-999.0000,9, -999.00,9, -999.00,9,  -999.0,9,  -999.0, -999.00,9, -999.00,9,    0.18,2,    0.22,3,  21.6512, -999.00
096U20160426,       P15S,      92,          1,         30,       2030,2,20160611,       0456,   -22.9949,  -170.0004,       5701,   184.8,  20.3830,  35.7290,2,  35.7213,2,    195.1,2,   194.8,2,    0.62,2,    2.25,2,    0.01,4,    0.23,2,   1.995,2,   1.262,2,   1.367,2,  2063.6,2,  2339.0,6,-999.0000,9,  -999.00,-999.0000,9, -999.00,9, -999.00,9,  -999.0,9,  -999.0, -999.00,9, -999.00,9, -999.00,9, -999.00,9,  20.3482, -999.00
096U20160426,       P15S,      92,          1,         29,       2029,2,20160611,       0456,   -22.9949,  -170.0004,       5701,   236.2,  19.0820,  35.6190,2,  35.5985,2,    190.1,2,   189.6,2,    0.86,2,    3.62,2,    0.01,4,    0.34,2,   2.147,2,   1.323,2,   1.303,2,  2078.4,2,  2333.2,2,-999.0000,9,  -999.00,-999.0000,9, -999.00,9, -999.00,9,  -999.0,9,  -999.0, -999.00,9, -999.00,9, -999.00,9, -999.00,9,  19.0396, -999.00
096U20160426,       P15S,      92,          1,         28,       2028,2,20160611,       0456,   -22.9949,  -170.0004,       5701,   287.1,  17.8280,  35.4720,2,  35.4568,2,    186.7,2,   189.7,2,    1.21,2,    4.85,2,    0.01,4,    0.43,2,   2.274,2,   1.363,2,   1.233,2,  2088.2,2,  2324.1,2,-999.0000,9,  -999.00,-999.0000,9, -999.00,9, -999.00,9,  -999.0,9,  -999.0, -999.00,9, -999.00,9, -999.00,9, -999.00,9,  17.7788, -999.00
096U20160426,       P15S,      92,          1,         27,       2027,2,20160611,       0456,   -22.9949,  -170.0004,       5701,   336.2,  16.0380,  35.2260,2,  35.2105,2,    180.0,2,  -999.0,9,    2.23,2,    8.01,2,    0.01,4,    0.67,2,-999.000,9,-999.000,9,-999.000,9,  -999.0,9,  -999.0,9,-999.0000,9,  -999.00,-999.0000,9, -999.00,9, -999.00,9,  -999.0,9,  -999.0, -999.00,9, -999.00,9, -999.00,9, -999.00,9,  15.9844, -999.00
096U20160426,       P15S,      92,          1,         26,       2026,2,20160611,       0456,   -22.9949,  -170.0004,       5701,   375.8,  14.7160,  35.0920,2,  35.0545,2,    182.2,2,   181.4,2,    3.00,2,   10.20,2,    0.01,4,    0.81,2,   2.470,2,   1.416,2,   0.987,2,  2112.2,2,  2303.9,2,-999.0000,9,  -999.00,-999.0000,9, -999.00,9, -999.00,9,  -999.0,9,  -999.0, -999.00,9, -999.00,9, -999.00,9, -999.00,9,  14.6595, -999.00
096U20160426,       P15S,      92,          1,         25,       2025,2,20160611,       0456,   -22.9949,  -170.0004,       5701,   465.5,  11.4380,  34.8070,2,  34.8007,2,    194.8,2,   196.6,2,    3.94,2,   14.67,2,    0.01,4,    1.06,2,   2.834,2,   1.550,2,   0.897,2,  2129.4,2,  2292.5,2,-999.0000,9,  -999.00,-999.0000,9, -999.00,9, -999.00,9,  -999.0,9,  -999.0, -999.00,9, -999.00,9, -999.00,9, -999.00,9,  11.3786, -999.00
096U20160426,       P15S,      92,          1,         24,       2024,2,20160611,       0456,   -22.9949,  -170.0004,       5701,   565.3,   8.1830,  34.4690,2,  34.4526,2,    217.7,2,   221.6,2,    6.27,2,   20.68,2,    0.01,4,    1.43,2,   3.176,2,   1.651,2,   0.835,2,  2143.2,2,  2280.8,2,-999.0000,9,  -999.00,-999.0000,9, -999.00,9, -999.00,9,  -999.0,9,  -999.0, -999.00,9, -999.00,9, -999.00,9, -999.00,9,   8.1241, -999.00
096U20160426,       P15S,      92,          1,         23,       2023,2,20160611,       0456,   -22.9949,  -170.0004,       5701,   666.9,   6.7440,  34.3580,2,  34.3529,2,    223.4,2,   226.3,2,    9.54,2,   24.12,2,    0.00,4,    1.64,2,   2.806,2,   1.402,2,   0.554,2,  2150.0,2,  2279.8,2,-999.0000,9,  -999.00,-999.0000,9, -999.00,9, -999.00,9,  -999.0,9,  -999.0, -999.00,9, -999.00,9, -999.00,9, -999.00,9,   6.6814, -999.00
096U20160426,       P15S,      92,          1,         22,       2022,2,20160611,       0456,   -22.9949,  -170.0004,       5701,   765.5,   5.9210,  34.3260,2,  34.3254,2,    214.3,2,   216.4,2,   14.74,2,   26.78,2,    0.00,4,    1.82,2,   1.893,2,   0.954,2,   0.314,2,  2163.7,2,  2282.6,2,-999.0000,9,  -999.00,-999.0000,9, -999.00,9, -999.00,9,  -999.0,9,  -999.0, -999.00,9, -999.00,9, -999.00,9, -999.00,9,   5.8534, -999.00
096U20160426,       P15S,      92,          1,         21,       2021,2,20160611,       0456,   -22.9949,  -170.0004,       5701,   864.8,   5.2330,  34.3260,2,  34.3257,2,    200.4,2,   202.3,2,   22.89,2,   29.35,2,    0.00,4,    2.00,2,   1.120,2,   0.570,2,   0.123,2,  2180.1,2,  2289.4,6,-999.0000,9,  -999.00,-999.0000,9, -999.00,9, -999.00,9,  -999.0,9,  -999.0, -999.00,9, -999.00,9, -999.00,9, -999.00,9,   5.1605, -999.00
096U20160426,       P15S,      92,          1,         20,       2020,2,20160611,       0456,   -22.9949,  -170.0004,       5701,   962.5,   4.5260,  34.3490,2,  34.3509,2,    188.0,2,   188.5,2,   34.13,2,   31.58,2,    0.00,4,    2.16,2,   0.559,2,   0.286,2,   0.034,2,  2199.2,2,  2299.2,2,-999.0000,9,  -999.00,-999.0000,9, -999.00,9, -999.00,9,  -999.0,9,  -999.0, -999.00,9, -999.00,9, -999.00,9, -999.00,9,   4.4498, -999.00
096U20160426,       P15S,      92,          1,         19,       2019,2,20160611,       0456,   -22.9949,  -170.0004,       5701,  1066.3,   4.0220,  34.3980,2,  34.3994,2,    173.4,2,   173.7,2,   47.37,2,   33.21,2,    0.00,4,    2.29,2,   0.235,2,   0.125,2,       0,2,  2224.1,2,  2312.9,2,-999.0000,9,  -999.00,-999.0000,9, -999.00,9, -999.00,9,  -999.0,9,  -999.0, -999.00,9, -999.00,9, -999.00,9, -999.00,9,   3.9408, -999.00
096U20160426,       P15S,      92,          1,         18,       2018,2,20160611,       0456,   -22.9949,  -170.0004,       5701,  1160.5,   3.6490,  34.4400,2,  34.4412,2,    165.4,2,   166.2,2,   58.19,2,   34.05,2,    0.00,4,    2.35,2,   0.093,2,   0.060,2,   0.027,2,  2236.8,2,  2323.8,2,-999.0000,9,  -999.00,-999.0000,9, -999.00,9, -999.00,9,  -999.0,9,  -999.0, -999.00,9, -999.00,9, -999.00,9, -999.00,9,   3.5630, -999.00
096U20160426,       P15S,      92,          1,         17,       2017,2,20160611,       0456,   -22.9949,  -170.0004,       5701,  1301.1,   3.0530,  34.5050,2,  34.5050,2,    160.8,2,   161.5,2,   74.09,2,   34.65,2,    0.00,4,    2.40,2,   0.024,2,   0.015,2,       0,2,  2256.4,6,  2342.9,6,-999.0000,9,  -999.00,-999.0000,9, -999.00,9, -999.00,9,  -999.0,9,  -999.0, -999.00,9, -999.00,9, -999.00,9, -999.00,9,   2.9611, -999.00
096U20160426,       P15S,      92,          1,         16,       2016,2,20160611,       0456,   -22.9949,  -170.0004,       5701,  1441.3,   2.7770,  34.5530,2,  34.5535,2,    154.5,2,   155.1,2,   87.36,2,   35.08,2,    0.00,4,    2.43,2,   0.002,6,   0.005,6,       0,6,  2273.3,2,  2358.9,2,-999.0000,9,  -999.00,-999.0000,9, -999.00,9, -999.00,9,  -999.0,9,  -999.0, -999.00,9, -999.00,9, -999.00,9, -999.00,9,   2.6765, -999.00
096U20160426,       P15S,      92,          1,         15,       2015,2,20160611,       0456,   -22.9949,  -170.0004,       5701,  1636.1,   2.5330,  34.5960,2,  34.5948,2,    148.3,2,   148.9,2,  101.00,2,   35.50,2,    0.00,4,    2.48,2,-999.000,9,-999.000,9,-999.000,9,  2289.6,2,  2375.8,2,-999.0000,9,  -999.00,-999.0000,9, -999.00,9, -999.00,9,  -999.0,9,  -999.0, -999.00,9, -999.00,9, -999.00,9, -999.00,9,   2.4194, -999.00
096U20160426,       P15S,      92,          1,         14,       2014,2,20160611,       0456,   -22.9949,  -170.0004,       5701,  1825.4,   2.3910,  34.6140,2,  34.6128,2,    146.0,2,   146.4,2,  108.01,2,   35.67,2,    0.00,4,    2.49,2,   0.007,2,   0.002,2,       0,2,  2295.0,2,  2384.2,2,-999.0000,9,  -999.00,-999.0000,9, -999.00,9, -999.00,9,  -999.0,9,  -999.0, -999.00,9, -999.00,9, -999.00,9, -999.00,9,   2.2636, -999.00
096U20160426,       P15S,      92,          1,         13,       2013,2,20160611,       0456,   -22.9949,  -170.0004,       5701,  2065.8,   2.2380,  34.6300,2,  34.6282,2,    145.3,2,   145.8,2,  114.13,2,   35.84,2,    0.00,4,    2.50,2,-999.000,9,-999.000,9,-999.000,9,  2302.9,2,  2390.6,2,-999.0000,9,  -999.00,-999.0000,9, -999.00,9, -999.00,9,  -999.0,9,  -999.0, -999.00,9, -999.00,9, -999.00,9, -999.00,9,   2.0923, -999.00
096U20160426,       P15S,      92,          1,         12,       2012,2,20160611,       0456,   -22.9949,  -170.0004,       5701,  2566.1,   1.9580,  34.6550,2,  34.6550,2,    146.0,2,   146.1,2,  124.75,2,   35.95,2,    0.00,4,    2.51,2,  -0.008,2,   0.000,2,       0,2,  2313.4,2,  2401.9,2,-999.0000,9,  -999.00,-999.0000,9, -999.00,9, -999.00,9,  -999.0,9,  -999.0, -999.00,9, -999.00,9, -999.00,9, -999.00,9,   1.7724, -999.00
096U20160426,       P15S,      92,          1,         11,       2011,2,20160611,       0456,   -22.9949,  -170.0004,       5701,  2816.4,   1.8450,  34.6650,2,  34.6635,2,    147.1,2,   146.9,2,  129.10,2,   35.94,2,    0.00,4,    2.51,2,-999.000,9,-999.000,9,-999.000,9,  -999.0,9,  -999.0,9,-999.0000,9,  -999.00,-999.0000,9, -999.00,9, -999.00,9,  -999.0,9,  -999.0, -999.00,9, -999.00,9, -999.00,9, -999.00,9,   1.6383, -999.00
096U20160426,       P15S,      92,          1,         10,       2010,2,20160611,       0456,   -22.9949,  -170.0004,       5701,  2816.5,   1.8450,  34.6650,2,  34.6646,2,    147.1,2,   147.2,2,  129.06,2,   35.94,2,    0.00,4,    2.50,2,  -0.005,6,   0.001,6,       0,6,  2315.6,2,  2406.3,2,-999.0000,9,  -999.00,-999.0000,9, -999.00,9, -999.00,9,  -999.0,9,  -999.0, -999.00,9, -999.00,9, -999.00,9, -999.00,9,   1.6383, -999.00
096U20160426,       P15S,      92,          1,          9,       2009,2,20160611,       0456,   -22.9949,  -170.0004,       5701,  3080.3,   1.7420,  34.6730,2,  34.6727,2,    149.9,2,   149.9,2,  131.41,2,   35.78,2,    0.00,4,    2.49,2,-999.000,9,-999.000,9,-999.000,9,  -999.0,9,  -999.0,9,-999.0000,9,  -999.00,-999.0000,9, -999.00,9, -999.00,9,  -999.0,9,  -999.0, -999.00,9, -999.00,9, -999.00,9, -999.00,9,   1.5120, -999.00
096U20160426,       P15S,      92,          1,          8,       2008,2,20160611,       0456,   -22.9949,  -170.0004,       5701,  3366.5,   1.6180,  34.6860,2,  34.6842,2,    160.5,2,   160.1,2,  128.23,2,   34.90,2,    0.00,4,    2.42,2,   0.009,2,   0.004,2,       0,2,  2306.3,2,  2401.1,2,-999.0000,9,  -999.00,-999.0000,9, -999.00,9, -999.00,9,  -999.0,9,  -999.0, -999.00,9, -999.00,9, -999.00,9, -999.00,9,   1.3624, -999.00
096U20160426,       P15S,      92,          1,          7,       2007,2,20160611,       0456,   -22.9949,  -170.0004,       5701,  3700.4,   1.4590,  34.7140,2,  34.7128,2,    186.1,2,   188.8,2,  112.39,2,   32.39,2,    0.00,4,    2.24,2,-999.000,9,-999.000,9,-999.000,9,  -999.0,9,  -999.0,9,-999.0000,9,  -999.00,-999.0000,9, -999.00,9, -999.00,9,  -999.0,9,  -999.0, -999.00,9, -999.00,9, -999.00,9, -999.00,9,   1.1730, -999.00
096U20160426,       P15S,      92,          1,          6,       2006,2,20160611,       0456,   -22.9949,  -170.0004,       5701,  4089.7,   1.2400,  34.7180,2,  34.7178,2,    198.3,2,   201.3,2,  112.26,2,   31.77,2,    0.00,4,    2.19,2,   0.059,2,   0.032,2,       0,2,  2260.9,2,  2363.8,2,-999.0000,9,  -999.00,-999.0000,9, -999.00,9, -999.00,9,  -999.0,9,  -999.0, -999.00,9, -999.00,9, -999.00,9, -999.00,9,   0.9185, -999.00
096U20160426,       P15S,      92,          1,          5,       2005,2,20160611,       0456,   -22.9949,  -170.0004,       5701,  4489.8,   1.0960,  34.7130,2,  34.7123,2,    203.0,2,   204.7,2,  116.70,2,   31.88,2,    0.00,4,    2.19,2,   0.097,2,   0.049,2,       0,2,  2262.2,2,  2363.1,2,-999.0000,9,  -999.00,-999.0000,9, -999.00,9, -999.00,9,  -999.0,9,  -999.0, -999.00,9, -999.00,9, -999.00,9, -999.00,9,   0.7345, -999.00
096U20160426,       P15S,      92,          1,          4,       2004,2,20160611,       0456,   -22.9949,  -170.0004,       5701,  4894.8,   1.0620,  34.7100,2,  34.7089,2,    205.4,2,   206.0,2,  118.87,2,   31.99,2,    0.00,4,    2.20,2,   0.093,2,   0.047,2,   0.035,2,  2262.8,2,  2364.4,6,-999.0000,9,  -999.00,-999.0000,9, -999.00,9, -999.00,9,  -999.0,9,  -999.0, -999.00,9, -999.00,9, -999.00,9, -999.00,9,   0.6549, -999.00
096U20160426,       P15S,      92,          1,          3,       2003,2,20160611,       0456,   -22.9949,  -170.0004,       5701,  5295.8,   1.0850,  34.7090,2,  34.7083,2,    206.9,2,   206.2,2,  119.61,2,   32.02,2,    0.00,4,    2.20,2,-999.000,9,-999.000,9,-999.000,9,  -999.0,9,  -999.0,9,-999.0000,9,  -999.00,-999.0000,9, -999.00,9, -999.00,9,  -999.0,9,  -999.0, -999.00,9, -999.00,9, -999.00,9, -999.00,9,   0.6287, -999.00
096U20160426,       P15S,      92,          1,          2,       2002,2,20160611,       0456,   -22.9949,  -170.0004,       5701,  5552.4,   1.1150,  34.7080,2,  34.7083,2,    207.5,2,   206.0,2,  119.81,2,   32.01,2,    0.00,4,    2.20,2,   0.082,2,   0.044,2,       0,2,  2261.8,6,  2365.9,6,-999.0000,9,  -999.00,-999.0000,9, -999.00,9, -999.00,9,  -999.0,9,  -999.0, -999.00,9, -999.00,9, -999.00,9, -999.00,9,   0.6256, -999.00
096U20160426,       P15S,      92,          1,          1,       2001,2,20160611,       0456,   -22.9949,  -170.0004,       5701,  5796.3,   1.1470,  34.7080,2,  34.7088,2,    208.0,2,   206.2,2,  119.72,2,   32.03,2,    0.00,4,    2.21,2,   0.087,2,   0.044,2,   0.008,2,  2261.9,2,  2366.8,2,-999.0000,9,  -999.00,-999.0000,9, -999.00,9, -999.00,9,  -999.0,9,  -999.0, -999.00,9, -999.00,9, -999.00,9, -999.00,9,   0.6253, -999.00