BOTTLE,20230413CCHSIOENA
EXPOCODE,SECT_ID,STNNBR,CASTNO,SAMPNO,BTLNBR,BTLNBR_FLAG_W,DATE,TIME,LATITUDE,LONGITUDE,DEPTH,CTDPRS,CTDTMP,CTDSAL,CTDSAL_FLAG_W,SALNTY,SALNTY_FLAG_W,CTDOXY,CTDOXY_FLAG_W,OXYGEN,OXYGEN_FLAG_W,SILCAT,SILCAT_FLAG_W,NITRAT,NITRAT_FLAG_W,NITRIT,NITRIT_FLAG_W,PHSPHT,PHSPHT_FLAG_W,CFC-11,CFC-11_FLAG_W,CFC-12,CFC-12_FLAG_W,SF6,SF6_FLAG_W,TCARBN,TCARBN_FLAG_W,ALKALI,ALKALI_FLAG_W,PH_TOT,PH_TOT_FLAG_W,PH_TMP,HELIUM,HELIUM_FLAG_W,DELHE3,DELHE3_FLAG_W,DELC13,DELC13_FLAG_W,DELC14,DELC14_FLAG_W,C14ERR,POC,POC_FLAG_W,PON,PON_FLAG_W,CHLORA,CHLORA_FLAG_W,PPHYTN,PPHYTN_FLAG_W,THETA,DELHER
,,,,,,,,,,,METERS,DBAR,ITS-90,PSS-78,,PSS-78,,UMOL/KG,,UMOL/KG,,UMOL/KG,,UMOL/KG,,UMOL/KG,,UMOL/KG,,PMOL/KG,,PMOL/KG,,FMOL/KG,,UMOL/KG,,UMOL/KG,,,,DEG C,NMOL/KG,,PERCNT,,/MILLE,,/MILLE,,/MILLE,UG/KG,,UG/KG,,UG/KG,,UG/KG,,DEG C,PERCNT
096U20160426,       P15S,       3,          1,         35,       2035,2,20160505,       0601,   -65.6647,  -170.0488,       3317,    20.9,  -1.3000,  34.0640,2,  34.0655,2,    343.8,2,   344.0,2,   63.33,2,   28.03,2,    0.23,2,    1.97,2,   6.103,2,   3.269,2,   3.427,2,  2191.2,2,  2304.2,2,   7.6431,2,    25.00,-999.0000,9, -999.00,9,    1.05,2,  -124.6,2,     2.0,   18.20,2,    5.84,2,    0.31,2,    0.01,3,  -1.3005, -999.00
096U20160426,       P15S,       3,          1,         34,       2034,2,20160505,       0601,   -65.6647,  -170.0488,       3317,    22.8,  -1.2990,  34.0640,2,  34.0651,2,    343.8,2,   344.1,2,   63.32,2,   28.00,2,    0.23,2,    1.98,2,-999.000,9,-999.000,9,-999.000,9,  2191.6,2,  2305.9,2,   7.6455,2,    25.00,   1.8016,2,   -2.21,2,    1.11,2,  -123.8,2,     2.0, -999.00,9, -999.00,9,    0.52,2,    0.04,3,  -1.2995,    1.41
096U20160426,       P15S,       3,          1,         33,       2033,2,20160505,       0601,   -65.6647,  -170.0488,       3317,    48.5,  -1.2670,  34.0670,2,  34.0666,2,    342.9,2,   343.9,2,   63.15,2,   28.00,2,    0.23,2,    1.97,2,   6.102,2,   3.227,2,   3.438,2,  -999.0,9,  -999.0,9,   7.6440,2,    25.00,-999.0000,9, -999.00,9, -999.00,9,  -999.0,9,  -999.0, -999.00,9, -999.00,9,    0.53,2,    0.01,3,  -1.2681, -999.00
096U20160426,       P15S,       3,          1,         32,       2032,2,20160505,       0601,   -65.6647,  -170.0488,       3317,    75.3,  -1.2560,  34.0690,2,  34.0677,2,    340.9,2,   343.6,2,   62.95,2,   27.94,2,    0.23,2,    1.97,2,-999.000,9,-999.000,9,-999.000,9,  2190.7,2,  2304.7,2,   7.6469,2,    25.00,-999.0000,9, -999.00,9,    1.12,2,  -127.2,2,     2.0, -999.00,9, -999.00,9,    0.52,2,    0.02,3,  -1.2578, -999.00
096U20160426,       P15S,       3,          1,         31,       2031,2,20160505,       0601,   -65.6647,  -170.0488,       3317,   100.0,  -0.9790,  34.2460,2,  34.1368,2,    257.6,2,   318.4,4,   66.57,2,   28.89,2,    0.20,2,    2.04,2,-999.000,9,-999.000,9,-999.000,9,  -999.0,9,  -999.0,9,   7.6281,2,    25.00,-999.0000,9, -999.00,9, -999.00,9,  -999.0,9,  -999.0,   15.38,6,    4.19,6, -999.00,9, -999.00,9,  -0.9817, -999.00
096U20160426,       P15S,       3,          1,         30,       2030,2,20160505,       0601,   -65.6647,  -170.0488,       3317,   125.3,   0.1100,  34.4950,2,  34.4915,2,    222.6,2,   229.2,2,   81.92,2,   32.31,2,    0.04,2,    2.26,2,   2.286,2,   1.241,2,    1.21,2,  2240.4,2,  2329.1,2,   7.5724,2,    25.00,-999.0000,9, -999.00,9,    0.62,2,  -141.3,2,     2.0, -999.00,9, -999.00,9,    0.11,2,    0.07,3,   0.1054, -999.00
096U20160426,       P15S,       3,          1,         29,       2029,2,20160505,       0601,   -65.6647,  -170.0488,       3317,   148.9,   0.7830,  34.5920,2,  34.5885,2,    203.6,2,   205.8,2,   85.91,2,   32.57,2,    0.02,2,    2.28,2,-999.000,9,-999.000,9,-999.000,9,  2249.0,2,  2337.1,2,   7.5643,2,    25.00,-999.0000,9, -999.00,9,    0.56,2,  -145.4,2,     2.0, -999.00,9, -999.00,9, -999.00,9, -999.00,9,   0.7766, -999.00
096U20160426,       P15S,       3,          1,         28,       2028,2,20160505,       0601,   -65.6647,  -170.0488,       3317,   168.4,   1.1790,  34.6490,2,  34.6399,2,    194.9,2,   195.8,2,   88.14,2,   32.57,2,    0.02,4,    2.27,2,-999.000,9,-999.000,9,-999.000,9,  2252.5,6,  2340.5,6,   7.5629,2,    25.00,-999.0000,9, -999.00,9,    0.51,2,  -147.3,2,     2.0, -999.00,9, -999.00,9, -999.00,9, -999.00,9,   1.1712, -999.00
096U20160426,       P15S,       3,          1,         27,       2027,2,20160505,       0601,   -65.6647,  -170.0488,       3317,   201.2,   1.3930,  34.6840,2,  34.6836,2,    192.9,2,   190.8,2,   90.02,2,   32.31,2,    0.01,4,    2.25,2,-999.000,9,-999.000,9,-999.000,9,  2254.4,2,  2338.3,2,   7.5715,2,    25.00,-999.0000,9, -999.00,9,    0.51,2,  -146.6,2,     2.0, -999.00,9, -999.00,9, -999.00,9, -999.00,9,   1.3832, -999.00
096U20160426,       P15S,       3,          1,         26,       2026,2,20160505,       0601,   -65.6647,  -170.0488,       3317,   250.3,   1.4370,  34.7020,2,  34.7034,2,    192.7,2,   190.7,2,   91.85,2,   32.02,2,    0.01,4,    2.24,2,   0.576,2,   0.307,2,   0.205,2,  2254.8,2,  2347.3,2,   7.5795,2,    25.00,-999.0000,9, -999.00,9,    0.52,2,  -149.6,2,     2.0, -999.00,9, -999.00,9, -999.00,9, -999.00,9,   1.4246, -999.00
096U20160426,       P15S,       3,          1,         25,       2025,2,20160505,       0601,   -65.6647,  -170.0488,       3317,   299.9,   1.4480,  34.7130,2,  34.7122,2,    192.3,2,   190.8,2,   93.48,2,   31.90,2,    0.01,4,    2.23,2,-999.000,9,-999.000,9,-999.000,9,  2254.3,2,  2347.4,2,   7.5791,2,    25.00,   1.9182,2,    8.80,2,    0.57,2,  -149.8,2,     2.0, -999.00,9, -999.00,9, -999.00,9, -999.00,9,   1.4330,    0.72
096U20160426,       P15S,       3,          1,         24,       2024,2,20160505,       0601,   -65.6647,  -170.0488,       3317,   352.7,   1.4460,  34.7190,2,  34.7189,2,    192.6,2,   191.0,2,   94.94,2,   31.82,2,    0.01,4,    2.23,2,-999.000,9,-999.000,9,-999.000,9,  -999.0,9,  -999.0,9,   7.5791,2,    25.00,-999.0000,9, -999.00,9, -999.00,9,  -999.0,9,  -999.0, -999.00,9, -999.00,9, -999.00,9, -999.00,9,   1.4282, -999.00
096U20160426,       P15S,       3,          1,         23,       2023,2,20160505,       0601,   -65.6647,  -170.0488,       3317,   374.9,   1.4370,  34.7210,2,  34.7211,2,    193.0,2,   191.4,2,   95.58,2,   31.78,2,    0.01,4,    2.23,2,   0.403,2,   0.211,2,   0.173,2,  2255.2,2,  2350.8,2,   7.5838,2,    25.00,-999.0000,9, -999.00,9,    0.56,2,  -154.6,2,     2.0, -999.00,9, -999.00,9, -999.00,9, -999.00,9,   1.4180, -999.00
096U20160426,       P15S,       3,          1,         22,       2022,2,20160505,       0601,   -65.6647,  -170.0488,       3317,   448.8,   1.3940,  34.7250,2,  34.7252,2,    194.1,2,   192.4,2,   97.93,2,   31.71,2,    0.01,4,    2.23,2,-999.000,9,-999.000,9,-999.000,9,  2255.4,2,  2351.8,2,   7.5858,2,    25.00,-999.0000,9, -999.00,9,    0.51,2,  -154.1,2,     2.0, -999.00,9, -999.00,9, -999.00,9, -999.00,9,   1.3711, -999.00
096U20160426,       P15S,       3,          1,         21,       2021,2,20160505,       0601,   -65.6647,  -170.0488,       3317,   599.5,   1.3000,  34.7280,2,  34.7283,2,    195.0,2,   193.5,2,  102.59,2,   31.74,2,    0.01,4,    2.23,2,-999.000,9,-999.000,9,-999.000,9,  2257.8,2,  2354.2,2,   7.5939,2,    25.00,-999.0000,9, -999.00,9,    0.53,2,  -155.3,2,     2.0, -999.00,9, -999.00,9, -999.00,9, -999.00,9,   1.2692, -999.00
096U20160426,       P15S,       3,          1,         20,       2020,2,20160505,       0601,   -65.6647,  -170.0488,       3317,   700.9,   1.2240,  34.7250,2,  34.7252,2,    197.5,2,   196.4,2,  104.07,2,   31.65,2,    0.01,4,    2.23,2,   0.269,2,   0.141,2,   0.119,2,  2255.9,2,  2353.4,2,   7.5922,6,    25.00,-999.0000,9, -999.00,9,    0.47,2,  -155.8,2,     2.0, -999.00,9, -999.00,9, -999.00,9, -999.00,9,   1.1878, -999.00
096U20160426,       P15S,       3,          1,         19,       2019,2,20160505,       0601,   -65.6647,  -170.0488,       3317,   799.4,   1.1660,  34.7260,2,  34.7258,2,    199.0,2,   198.2,2,  106.71,2,   31.66,2,    0.01,4,    2.23,2,-999.000,9,-999.000,9,-999.000,9,  2257.5,2,  2358.0,2,   7.5966,2,    25.00,   1.9149,2,    9.55,2, -999.00,9,  -999.0,9,  -999.0, -999.00,9, -999.00,9, -999.00,9, -999.00,9,   1.1244,    2.34
096U20160426,       P15S,       3,          1,         18,       2018,2,20160505,       0601,   -65.6647,  -170.0488,       3317,   898.1,   1.1010,  34.7230,2,  34.7236,2,    199.8,2,   199.2,2,  108.85,2,   31.72,2,    0.01,4,    2.24,2,   0.227,2,   0.115,2,   0.056,2,  2258.1,6,  2357.2,6,   7.5993,2,    25.00,-999.0000,9, -999.00,9,    0.47,2,  -160.6,2,     2.0, -999.00,9, -999.00,9, -999.00,9, -999.00,9,   1.0540, -999.00
096U20160426,       P15S,       3,          1,         17,       2017,2,20160505,       0601,   -65.6647,  -170.0488,       3317,  1001.2,   1.0180,  34.7200,2,  34.7203,2,    201.7,2,   200.9,2,  111.45,2,   31.84,2,    0.01,4,    2.24,2,-999.000,9,-999.000,9,-999.000,9,  2258.5,2,  2359.3,2,   7.5990,2,    25.00,-999.0000,9, -999.00,9,    0.48,2,  -159.2,2,     2.0, -999.00,9, -999.00,9, -999.00,9, -999.00,9,   0.9654, -999.00
096U20160426,       P15S,       3,          1,         16,       2016,2,20160505,       0601,   -65.6647,  -170.0488,       3317,  1099.1,   0.9640,  34.7180,2,  34.7184,2,    202.4,2,   201.7,2,  113.29,2,   31.91,2,    0.01,4,    2.24,2,   0.208,2,   0.114,2,   0.067,2,  2258.4,2,  2359.4,2,   7.5918,2,    25.00,-999.0000,9, -999.00,9,    0.49,2,  -159.2,2,     2.0, -999.00,9, -999.00,9, -999.00,9, -999.00,9,   0.9058, -999.00
096U20160426,       P15S,       3,          1,         15,       2015,2,20160505,       0601,   -65.6647,  -170.0488,       3317,  1199.1,   0.9030,  34.7160,2,  34.7184,2,    203.4,2,   203.1,2,  115.29,2,   31.98,2,    0.01,4,    2.25,2,-999.000,9,-999.000,9,-999.000,9,  2260.1,2,  2359.6,6,   7.6021,2,    25.00,-999.0000,9, -999.00,9,    0.47,2,  -159.3,2,     2.0, -999.00,9, -999.00,9, -999.00,9, -999.00,9,   0.8391, -999.00
096U20160426,       P15S,       3,          1,         14,       2014,2,20160505,       0601,   -65.6647,  -170.0488,       3317,  1300.7,   0.8450,  34.7130,2,  34.7135,2,    204.1,2,   203.9,2,  117.38,2,   32.09,2,    0.01,4,    2.26,2,   0.242,2,   0.116,2,   0.048,2,  2260.5,2,  2359.9,2,   7.5974,3,    25.00,-999.0000,9, -999.00,9,    0.55,3,  -157.6,2,     2.0, -999.00,9, -999.00,9, -999.00,9, -999.00,9,   0.7751, -999.00
096U20160426,       P15S,       3,          1,         13,       2013,2,20160505,       0601,   -65.6647,  -170.0488,       3317,  1399.3,   0.7990,  34.7110,2,  34.7115,2,    204.1,2,   203.6,2,  119.66,2,   32.22,2,    0.01,4,    2.27,2,-999.000,9,-999.000,9,-999.000,9,  2260.6,2,  2358.6,2,   7.5936,2,    25.00,   1.9366,2,    9.69,2,    0.45,2,  -159.1,2,     2.0, -999.00,9, -999.00,9, -999.00,9, -999.00,9,   0.7232,    0.77
096U20160426,       P15S,       3,          1,         12,       2012,2,20160505,       0601,   -65.6647,  -170.0488,       3317,  1503.1,   0.7520,  34.7100,2,  34.7096,2,    204.7,2,   204.3,2,  120.89,2,   32.28,2,    0.01,4,    2.28,2,   0.226,2,   0.115,2,   0.046,2,  2261.2,2,  2360.3,2,   7.5937,6,    25.00,-999.0000,9, -999.00,9,    0.46,2,  -158.3,2,     2.0, -999.00,9, -999.00,9, -999.00,9, -999.00,9,   0.6698, -999.00
096U20160426,       P15S,       3,          1,         11,       2011,2,20160505,       0601,   -65.6647,  -170.0488,       3317,  1600.5,   0.7040,  34.7080,2,  34.7076,2,    205.6,2,   205.4,2,  122.95,3,   32.35,2,    0.01,4,    2.28,2,-999.000,9,-999.000,9,-999.000,9,  2260.9,2,  2359.7,2,   7.5929,2,    25.00,-999.0000,9, -999.00,9,    0.47,2,  -163.8,2,     2.0, -999.00,9, -999.00,9, -999.00,9, -999.00,9,   0.6158, -999.00
096U20160426,       P15S,       3,          1,         10,       2010,2,20160505,       0601,   -65.6647,  -170.0488,       3317,  1700.7,   0.6640,  34.7060,2,  34.7058,2,    206.4,2,   206.3,2,  123.39,2,   32.35,2,    0.01,4,    2.28,2,   0.275,2,   0.140,2,   0.074,2,  2260.8,2,  2359.6,2,   7.5941,2,    25.00,-999.0000,9, -999.00,9,    0.47,2,  -159.1,2,     2.0, -999.00,9, -999.00,9, -999.00,9, -999.00,9,   0.5694, -999.00
096U20160426,       P15S,       3,          1,          9,       2009,2,20160505,       0601,   -65.6647,  -170.0488,       3317,  1801.3,   0.6230,  34.7040,2,  34.7040,2,    207.4,2,   207.6,2,  124.11,2,   32.32,2,    0.01,4,    2.28,2,-999.000,9,-999.000,9,-999.000,9,  2261.4,2,  2358.1,2,   7.5949,2,    25.00,   1.9289,2,   10.85,2,    0.46,2,  -162.7,2,     2.0, -999.00,9, -999.00,9, -999.00,9, -999.00,9,   0.5219,    2.34
096U20160426,       P15S,       3,          1,          8,       2008,2,20160505,       0601,   -65.6647,  -170.0488,       3317,  1999.8,   0.5560,  34.7020,2,  34.7015,2,    208.9,2,   209.2,2,  124.96,2,   32.40,2,    0.01,4,    2.29,2,   0.366,2,   0.189,2,   0.155,2,  2260.9,2,  2358.6,2,   7.5932,2,    25.00,-999.0000,9, -999.00,9,    0.46,2,  -159.1,2,     2.0, -999.00,9, -999.00,9, -999.00,9, -999.00,9,   0.4415, -999.00
096U20160426,       P15S,       3,          1,          7,       2007,2,20160505,       0601,   -65.6647,  -170.0488,       3317,  2200.7,   0.4890,  34.7000,2,  34.6996,2,    210.2,2,   210.6,2,  126.05,2,   32.47,2,    0.01,4,    2.29,2,-999.000,9,-999.000,9,-999.000,9,  2261.5,2,  2360.1,2,-999.0000,9,  -999.00,   1.8990,2,   10.14,2,    0.49,2,  -164.0,2,     2.0, -999.00,9, -999.00,9, -999.00,9, -999.00,9,   0.3605,    1.27
096U20160426,       P15S,       3,          1,          6,       2006,2,20160505,       0601,   -65.6647,  -170.0488,       3317,  2402.0,   0.4350,  34.6970,2,  34.6969,2,    211.6,2,   211.9,2,  126.19,2,   32.50,2,    0.01,4,    2.29,2,   0.482,2,   0.254,2,   0.149,2,  2261.5,6,  2360.2,6,-999.0000,9,  -999.00,-999.0000,9, -999.00,9,    0.48,2,  -165.0,2,     2.0, -999.00,9, -999.00,9, -999.00,9, -999.00,9,   0.2918, -999.00
096U20160426,       P15S,       3,          1,          5,       2005,2,20160505,       0601,   -65.6647,  -170.0488,       3317,  2600.5,   0.3990,  34.6960,2,  34.6960,2,    212.5,2,   212.9,2,  126.66,2,   32.49,2,    0.01,4,    2.30,2,   0.532,2,   0.281,2,   0.183,2,  2262.9,2,  2359.6,6,-999.0000,9,  -999.00,-999.0000,9,    9.77,2,    0.48,2,  -165.3,2,     2.0, -999.00,9, -999.00,9, -999.00,9, -999.00,9,   0.2405,    0.79
096U20160426,       P15S,       3,          1,          4,       2004,2,20160505,       0601,   -65.6647,  -170.0488,       3317,  2850.2,   0.3610,  34.6940,2,  34.6943,2,    213.8,2,   214.3,2,  126.70,2,   32.51,2,    0.01,4,    2.30,2,   0.614,2,   0.320,2,   0.216,2,  2260.8,2,  2359.2,2,-999.0000,9,  -999.00,-999.0000,9,    9.40,2,    0.48,2,  -166.8,2,     2.0, -999.00,9, -999.00,9, -999.00,9, -999.00,9,   0.1824,    0.77
096U20160426,       P15S,       3,          1,          3,       2003,2,20160505,       0601,   -65.6647,  -170.0488,       3317,  3049.9,   0.3570,  34.6930,2,  34.6934,2,    214.2,2,   214.8,2,  126.93,2,   32.52,2,    0.01,4,    2.30,2,   0.643,2,   0.332,2,   0.237,2,  2261.3,2,  2358.7,2,-999.0000,9,  -999.00,   2.2240,3,    9.49,2,    0.48,2,  -163.3,2,     2.0, -999.00,9, -999.00,9, -999.00,9, -999.00,9,   0.1611,    0.78
096U20160426,       P15S,       3,          1,          2,       2002,2,20160505,       0601,   -65.6647,  -170.0488,       3317,  3152.6,   0.3630,  34.6930,2,  34.6937,2,    214.1,2,   214.6,2,  127.09,2,   32.56,2,    0.01,4,    2.30,2,   0.643,2,   0.334,2,   0.206,2,  2262.0,2,  2360.0,2,-999.0000,9,  -999.00,   1.9000,2,    8.98,2,    0.40,3,  -161.3,2,     2.0, -999.00,9, -999.00,9, -999.00,9, -999.00,9,   0.1578,    1.43
096U20160426,       P15S,       3,          1,          1,       2001,2,20160505,       0601,   -65.6647,  -170.0488,       3317,  3254.1,   0.3680,  34.6930,2,  34.6933,2,    213.9,2,   214.7,2,  126.99,2,   32.55,2,    0.01,4,    2.30,2,   0.649,2,   0.338,2,   0.247,2,  2261.5,2,  2358.9,2,-999.0000,9,  -999.00,-999.0000,9, -999.00,9,    0.48,2,  -160.8,2,     2.0, -999.00,9, -999.00,9, -999.00,9, -999.00,9,   0.1534, -999.00