BOTTLE,20230413CCHSIOENA
EXPOCODE,SECT_ID,STNNBR,CASTNO,SAMPNO,BTLNBR,BTLNBR_FLAG_W,DATE,TIME,LATITUDE,LONGITUDE,DEPTH,CTDPRS,CTDTMP,CTDSAL,CTDSAL_FLAG_W,SALNTY,SALNTY_FLAG_W,CTDOXY,CTDOXY_FLAG_W,OXYGEN,OXYGEN_FLAG_W,SILCAT,SILCAT_FLAG_W,NITRAT,NITRAT_FLAG_W,NITRIT,NITRIT_FLAG_W,PHSPHT,PHSPHT_FLAG_W,CFC-11,CFC-11_FLAG_W,CFC-12,CFC-12_FLAG_W,SF6,SF6_FLAG_W,TCARBN,TCARBN_FLAG_W,ALKALI,ALKALI_FLAG_W,PH_TOT,PH_TOT_FLAG_W,PH_TMP,HELIUM,HELIUM_FLAG_W,DELHE3,DELHE3_FLAG_W,DELC13,DELC13_FLAG_W,DELC14,DELC14_FLAG_W,C14ERR,POC,POC_FLAG_W,PON,PON_FLAG_W,CHLORA,CHLORA_FLAG_W,PPHYTN,PPHYTN_FLAG_W,THETA,DELHER
,,,,,,,,,,,METERS,DBAR,ITS-90,PSS-78,,PSS-78,,UMOL/KG,,UMOL/KG,,UMOL/KG,,UMOL/KG,,UMOL/KG,,UMOL/KG,,PMOL/KG,,PMOL/KG,,FMOL/KG,,UMOL/KG,,UMOL/KG,,,,DEG C,NMOL/KG,,PERCNT,,/MILLE,,/MILLE,,/MILLE,UG/KG,,UG/KG,,UG/KG,,UG/KG,,DEG C,PERCNT
096U20160426,       P15S,      70,          1,         36,       2036,2,20160603,       0418,   -34.5019,  -170.0023,       5501,     4.5,  18.5330,  35.5480,2,  35.5474,2,    232.0,2,   231.5,2,    0.10,4,    0.03,2,    0.00,4,    0.08,2,   2.238,2,   1.321,2,   1.687,2,  2064.3,6,  2334.3,6,-999.0000,9,  -999.00,-999.0000,9, -999.00,9, -999.00,9,  -999.0,9,  -999.0, -999.00,9, -999.00,9, -999.00,9, -999.00,9,  18.5322, -999.00
096U20160426,       P15S,      70,          1,         35,       2035,2,20160603,       0418,   -34.5019,  -170.0023,       5501,    25.7,  18.4230,  35.5160,2,  35.5164,2,    232.4,2,   231.9,2,    0.11,4,    0.03,2,    0.00,4,    0.09,2,-999.000,9,-999.000,9,-999.000,9,  -999.0,9,  -999.0,9,-999.0000,9,  -999.00,-999.0000,9, -999.00,9, -999.00,9,  -999.0,9,  -999.0, -999.00,9, -999.00,9, -999.00,9, -999.00,9,  18.4185, -999.00
096U20160426,       P15S,      70,          1,         34,       2034,2,20160603,       0418,   -34.5019,  -170.0023,       5501,    49.9,  18.3850,  35.5060,2,  35.5076,2,    232.6,2,   232.0,2,    0.11,4,    0.03,2,    0.00,4,    0.09,2,   2.266,2,   1.329,2,   1.695,2,  2064.3,2,  2332.1,2,-999.0000,9,  -999.00,-999.0000,9, -999.00,9, -999.00,9,  -999.0,9,  -999.0, -999.00,9, -999.00,9, -999.00,9, -999.00,9,  18.3763, -999.00
096U20160426,       P15S,      70,          1,         33,       2033,2,20160603,       0418,   -34.5019,  -170.0023,       5501,    75.2,  18.4330,  35.5120,2,  35.5087,2,    232.0,2,   231.9,2,    0.10,4,    0.03,2,    0.00,4,    0.09,2,   2.257,2,   1.336,2,   1.721,2,  2063.0,2,  2331.7,2,-999.0000,9,  -999.00,-999.0000,9, -999.00,9, -999.00,9,  -999.0,9,  -999.0, -999.00,9, -999.00,9, -999.00,9, -999.00,9,  18.4199, -999.00
096U20160426,       P15S,      70,          1,         32,       2032,2,20160603,       0418,   -34.5019,  -170.0023,       5501,   101.5,  16.3560,  35.3990,2,  35.4013,2,    238.5,2,   233.7,2,    0.67,2,    0.99,2,    0.15,2,    0.24,2,   2.579,2,   1.497,2,   1.766,2,  2081.9,2,  2324.6,2,-999.0000,9,  -999.00,-999.0000,9, -999.00,9, -999.00,9,  -999.0,9,  -999.0, -999.00,9, -999.00,9, -999.00,9, -999.00,9,  16.3397, -999.00
096U20160426,       P15S,      70,          1,         31,       2031,2,20160603,       0418,   -34.5019,  -170.0023,       5501,   149.8,  14.3340,  35.3030,2,  35.2834,2,    215.5,2,   214.9,2,    1.57,2,    6.31,2,    0.01,4,    0.52,2,   2.725,2,   1.555,2,   1.653,2,  2107.4,2,  2316.1,6,-999.0000,9,  -999.00,-999.0000,9, -999.00,9, -999.00,9,  -999.0,9,  -999.0, -999.00,9, -999.00,9, -999.00,9, -999.00,9,  14.3120, -999.00
096U20160426,       P15S,      70,          1,         30,       2030,2,20160603,       0418,   -34.5019,  -170.0023,       5501,   199.6,  13.0970,  35.1190,2,  35.1082,2,    213.3,2,   212.5,2,    2.08,2,    8.65,2,    0.00,4,    0.67,2,   2.870,2,   1.610,2,   1.576,2,  2114.4,2,  2308.0,2,-999.0000,9,  -999.00,-999.0000,9, -999.00,9, -999.00,9,  -999.0,9,  -999.0, -999.00,9, -999.00,9, -999.00,9, -999.00,9,  13.0694, -999.00
096U20160426,       P15S,      70,          1,         29,       2029,2,20160603,       0418,   -34.5019,  -170.0023,       5501,   249.8,  12.0300,  34.9900,2,  34.9983,2,    214.5,2,   213.6,2,    2.72,2,   10.68,2,    0.00,4,    0.79,2,   2.973,2,   1.653,2,   1.527,2,  2122.0,2,  2302.8,2,-999.0000,9,  -999.00,-999.0000,9, -999.00,9, -999.00,9,  -999.0,9,  -999.0, -999.00,9, -999.00,9, -999.00,9, -999.00,9,  11.9973, -999.00
096U20160426,       P15S,      70,          1,         28,       2028,2,20160603,       0418,   -34.5019,  -170.0023,       5501,   299.0,  10.9640,  34.8360,2,  34.8223,2,    218.5,2,   217.5,2,    3.01,2,   13.09,2,    0.00,4,    0.94,2,   3.182,2,   1.752,2,   1.577,2,  2130.8,2,  2295.4,2,-999.0000,9,  -999.00,-999.0000,9, -999.00,9, -999.00,9,  -999.0,9,  -999.0, -999.00,9, -999.00,9, -999.00,9, -999.00,9,  10.9271, -999.00
096U20160426,       P15S,      70,          1,         27,       2027,2,20160603,       0418,   -34.5019,  -170.0023,       5501,   349.0,   9.9220,  34.7040,2,  34.7023,2,    217.8,2,   216.8,2,    3.76,2,   15.68,2,    0.00,4,    1.10,2,   3.273,2,   1.802,2,   1.491,2,  2138.8,2,  2291.5,2,-999.0000,9,  -999.00,-999.0000,9, -999.00,9, -999.00,9,  -999.0,9,  -999.0, -999.00,9, -999.00,9, -999.00,9, -999.00,9,   9.8815, -999.00
096U20160426,       P15S,      70,          1,         26,       2026,2,20160603,       0418,   -34.5019,  -170.0023,       5501,   400.8,   9.3150,  34.6320,2,  34.6244,2,    219.4,2,   219.5,2,    4.30,2,   17.36,2,    0.00,4,    1.20,2,   3.429,2,   1.836,2,   1.413,2,  2139.9,2,  2287.8,2,-999.0000,9,  -999.00,-999.0000,9, -999.00,9, -999.00,9,  -999.0,9,  -999.0, -999.00,9, -999.00,9, -999.00,9, -999.00,9,   9.2702, -999.00
096U20160426,       P15S,      70,          1,         25,       2025,2,20160603,       0418,   -34.5019,  -170.0023,       5501,   502.1,   8.2280,  34.5110,2,  34.5100,2,    227.4,2,   227.1,2,    5.30,2,   19.67,2,   -0.01,4,    1.35,2,   3.584,2,   1.875,2,   1.271,2,  2141.0,2,  2284.3,6,-999.0000,9,  -999.00,-999.0000,9, -999.00,9, -999.00,9,  -999.0,9,  -999.0, -999.00,9, -999.00,9, -999.00,9, -999.00,9,   8.1757, -999.00
096U20160426,       P15S,      70,          1,         24,       2024,2,20160603,       0418,   -34.5019,  -170.0023,       5501,   601.5,   7.5960,  34.4480,2,  34.4467,2,    229.3,2,   229.5,2,    6.51,2,   21.37,2,    0.00,4,    1.45,2,   3.604,2,   1.833,2,   1.049,2,  2148.5,2,  2283.4,2,-999.0000,9,  -999.00,-999.0000,9, -999.00,9, -999.00,9,  -999.0,9,  -999.0, -999.00,9, -999.00,9, -999.00,9, -999.00,9,   7.5358, -999.00
096U20160426,       P15S,      70,          1,         23,       2023,2,20160603,       0418,   -34.5019,  -170.0023,       5501,   703.3,   6.9530,  34.3890,2,  34.3877,2,    231.2,2,   231.4,2,    7.96,2,   22.88,2,    0.00,4,    1.56,2,   3.303,2,   1.632,2,   0.753,2,  2149.2,2,  2282.3,2,-999.0000,9,  -999.00,-999.0000,9, -999.00,9, -999.00,9,  -999.0,9,  -999.0, -999.00,9, -999.00,9, -999.00,9, -999.00,9,   6.8856, -999.00
096U20160426,       P15S,      70,          1,         22,       2022,2,20160603,       0418,   -34.5019,  -170.0023,       5501,   802.9,   6.4450,  34.3560,2,  34.3546,2,    227.7,2,   228.0,2,   10.46,2,   24.44,2,    0.00,4,    1.66,2,   2.704,2,   1.329,2,   0.552,2,  2152.5,2,  2282.0,2,-999.0000,9,  -999.00,-999.0000,9, -999.00,9, -999.00,9,  -999.0,9,  -999.0, -999.00,9, -999.00,9, -999.00,9, -999.00,9,   6.3706, -999.00
096U20160426,       P15S,      70,          1,         21,       2021,2,20160603,       0418,   -34.5019,  -170.0023,       5501,   899.2,   5.8580,  34.3330,2,  34.3329,2,    219.3,2,   219.1,2,   15.12,2,   26.47,2,    0.00,4,    1.80,2,-999.000,9,-999.000,9,-999.000,9,  2164.6,2,  2285.8,2,-999.0000,9,  -999.00,-999.0000,9, -999.00,9, -999.00,9,  -999.0,9,  -999.0, -999.00,9, -999.00,9, -999.00,9, -999.00,9,   5.7781, -999.00
096U20160426,       P15S,      70,          1,         20,       2020,2,20160603,       0418,   -34.5019,  -170.0023,       5501,  1002.2,   5.2750,  34.3320,2,  34.3348,2,    208.5,2,   207.7,2,   21.89,2,   28.50,2,   -0.01,4,    1.94,2,   1.509,2,   0.734,2,   0.268,2,  2178.4,2,  2290.8,2,-999.0000,9,  -999.00,-999.0000,9, -999.00,9, -999.00,9,  -999.0,9,  -999.0, -999.00,9, -999.00,9, -999.00,9, -999.00,9,   5.1897, -999.00
096U20160426,       P15S,      70,          1,         19,       2019,2,20160603,       0418,   -34.5019,  -170.0023,       5501,  1101.9,   4.5550,  34.3340,2,  34.3336,2,    199.3,2,   199.8,2,   29.63,2,   30.47,2,    0.00,4,    2.09,2,-999.000,9,-999.000,9,-999.000,9,  -999.0,9,  -999.0,9,-999.0000,9,  -999.00,-999.0000,9, -999.00,9, -999.00,9,  -999.0,9,  -999.0, -999.00,9, -999.00,9, -999.00,9, -999.00,9,   4.4664, -999.00
096U20160426,       P15S,      70,          1,         18,       2018,2,20160603,       0418,   -34.5019,  -170.0023,       5501,  1201.9,   4.0730,  34.3780,2,  34.3762,2,    188.8,2,   189.4,2,   40.24,2,   31.78,2,   -0.01,4,    2.18,2,   0.665,6,   0.325,6,   0.068,6,  2211.2,2,  2307.0,2,-999.0000,9,  -999.00,-999.0000,9, -999.00,9, -999.00,9,  -999.0,9,  -999.0, -999.00,9, -999.00,9, -999.00,9, -999.00,9,   3.9798, -999.00
096U20160426,       P15S,      70,          1,         17,       2017,2,20160603,       0418,   -34.5019,  -170.0023,       5501,  1302.0,   3.6000,  34.4170,2,  34.4174,2,    180.4,2,   180.4,2,   51.27,2,   32.97,2,   -0.01,4,    2.27,2,-999.000,9,-999.000,9,-999.000,9,  -999.0,9,  -999.0,9,-999.0000,9,  -999.00,-999.0000,9, -999.00,9, -999.00,9,  -999.0,9,  -999.0, -999.00,9, -999.00,9, -999.00,9, -999.00,9,   3.5027, -999.00
096U20160426,       P15S,      70,          1,         16,       2016,2,20160603,       0418,   -34.5019,  -170.0023,       5501,  1402.4,   3.2310,  34.4540,2,  34.4559,2,    174.4,2,   173.5,2,   60.20,2,   33.69,2,   -0.01,4,    2.33,2,   0.175,2,   0.092,2,       0,2,  2239.0,2,  2328.4,2,-999.0000,9,  -999.00,-999.0000,9, -999.00,9, -999.00,9,  -999.0,9,  -999.0, -999.00,9, -999.00,9, -999.00,9, -999.00,9,   3.1290, -999.00
096U20160426,       P15S,      70,          1,         15,       2015,2,20160603,       0418,   -34.5019,  -170.0023,       5501,  1602.5,   2.8240,  34.5400,2,  34.5403,2,    162.5,2,   161.8,2,   79.19,2,   34.31,2,   -0.01,4,    2.39,2,   0.043,2,   0.026,2,   0.037,3,  2264.7,2,  2350.9,2,-999.0000,9,  -999.00,-999.0000,9, -999.00,9, -999.00,9,  -999.0,9,  -999.0, -999.00,9, -999.00,9, -999.00,9, -999.00,9,   2.7098, -999.00
096U20160426,       P15S,      70,          1,         14,       2014,2,20160603,       0418,   -34.5019,  -170.0023,       5501,  1801.7,   2.5440,  34.5910,2,  34.5910,2,    155.3,2,   155.0,2,   94.31,2,   34.75,2,    0.00,4,    2.43,2,   0.013,2,   0.009,2,       0,2,  2283.2,6,  2370.1,6,-999.0000,9,  -999.00,-999.0000,9, -999.00,9, -999.00,9,  -999.0,9,  -999.0, -999.00,9, -999.00,9, -999.00,9, -999.00,9,   2.4165, -999.00
096U20160426,       P15S,      70,          1,         13,       2013,2,20160603,       0418,   -34.5019,  -170.0023,       5501,  2001.6,   2.3830,  34.6160,2,  34.6155,2,    152.2,2,   151.5,2,  103.43,2,   34.98,2,   -0.01,4,    2.45,2,   0.009,2,   0.007,2,       0,2,  2294.1,2,  2382.5,2,-999.0000,9,  -999.00,-999.0000,9, -999.00,9, -999.00,9,  -999.0,9,  -999.0, -999.00,9, -999.00,9, -999.00,9, -999.00,9,   2.2406, -999.00
096U20160426,       P15S,      70,          1,         12,       2012,2,20160603,       0418,   -34.5019,  -170.0023,       5501,  2251.8,   2.2010,  34.6360,2,  34.6355,2,    149.7,2,   149.6,2,  111.82,2,   35.29,2,   -0.01,4,    2.47,2,-999.000,9,-999.000,9,-999.000,9,  -999.0,9,  -999.0,9,-999.0000,9,  -999.00,-999.0000,9, -999.00,9, -999.00,9,  -999.0,9,  -999.0, -999.00,9, -999.00,9, -999.00,9, -999.00,9,   2.0395, -999.00
096U20160426,       P15S,      70,          1,         11,       2011,2,20160603,       0418,   -34.5019,  -170.0023,       5501,  2501.9,   2.0550,  34.6490,2,  34.6486,2,    148.9,2,   148.3,2,  118.22,2,   35.46,2,   -0.01,4,    2.49,2,   0.003,6,   0.004,6,       0,6,  2307.4,2,  2398.2,2,-999.0000,9,  -999.00,-999.0000,9, -999.00,9, -999.00,9,  -999.0,9,  -999.0, -999.00,9, -999.00,9, -999.00,9, -999.00,9,   1.8735, -999.00
096U20160426,       P15S,      70,          1,         10,       2010,2,20160603,       0418,   -34.5019,  -170.0023,       5501,  2752.3,   1.9340,  34.6600,2,  34.6594,2,    149.8,2,   150.8,2,  111.05,4,   33.86,4,   -0.01,4,    2.37,4,-999.000,9,-999.000,9,-999.000,9,  -999.0,9,  -999.0,9,-999.0000,9,  -999.00,-999.0000,9, -999.00,9, -999.00,9,  -999.0,9,  -999.0, -999.00,9, -999.00,9, -999.00,9, -999.00,9,   1.7315, -999.00
096U20160426,       P15S,      70,          1,          9,       2009,2,20160603,       0418,   -34.5019,  -170.0023,       5501,  3001.3,   1.8340,  34.6750,2,  34.6751,2,    156.9,2,   157.0,2,  120.53,2,   34.76,2,   -0.01,4,    2.43,2,   0.007,2,   0.005,2,       0,2,  2306.2,2,  2395.5,2,-999.0000,9,  -999.00,-999.0000,9, -999.00,9, -999.00,9,  -999.0,9,  -999.0, -999.00,9, -999.00,9, -999.00,9, -999.00,9,   1.6097, -999.00
096U20160426,       P15S,      70,          1,          8,       2008,2,20160603,       0418,   -34.5019,  -170.0023,       5501,  3301.1,   1.6920,  34.6980,2,  34.6985,2,    172.5,2,   173.8,2,  113.42,2,   33.31,2,   -0.01,4,    2.32,2,   0.017,2,   0.010,2,       0,2,  2286.9,2,  2382.6,2,-999.0000,9,  -999.00,-999.0000,9, -999.00,9, -999.00,9,  -999.0,9,  -999.0, -999.00,9, -999.00,9, -999.00,9, -999.00,9,   1.4412, -999.00
096U20160426,       P15S,      70,          1,          7,       2007,2,20160603,       0418,   -34.5019,  -170.0023,       5501,  3601.2,   1.4970,  34.7170,2,  34.7169,2,    189.9,2,   191.2,2,  107.51,2,   31.97,2,   -0.01,4,    2.21,2,-999.000,9,-999.000,9,-999.000,9,  -999.0,9,  -999.0,9,-999.0000,9,  -999.00,-999.0000,9, -999.00,9, -999.00,9,  -999.0,9,  -999.0, -999.00,9, -999.00,9, -999.00,9, -999.00,9,   1.2203, -999.00
096U20160426,       P15S,      70,          1,          6,       2006,2,20160603,       0418,   -34.5019,  -170.0023,       5501,  4002.1,   1.2660,  34.7180,2,  34.7178,2,    199.4,2,   200.7,2,  110.44,2,   31.68,2,   -0.01,4,    2.19,2,   0.058,2,   0.031,2,       0,2,  2260.3,2,  2364.4,2,-999.0000,9,  -999.00,-999.0000,9, -999.00,9, -999.00,9,  -999.0,9,  -999.0, -999.00,9, -999.00,9, -999.00,9, -999.00,9,   0.9532, -999.00
096U20160426,       P15S,      70,          1,          5,       2005,2,20160603,       0418,   -34.5019,  -170.0023,       5501,  4401.0,   1.0820,  34.7120,2,  34.7120,2,    204.3,2,   205.2,2,  115.54,2,   31.83,2,   -0.01,4,    2.20,2,-999.000,9,-999.000,9,-999.000,9,  -999.0,9,  -999.0,9,-999.0000,9,  -999.00,-999.0000,9, -999.00,9, -999.00,9,  -999.0,9,  -999.0, -999.00,9, -999.00,9, -999.00,9, -999.00,9,   0.7309, -999.00
096U20160426,       P15S,      70,          1,          4,       2004,2,20160603,       0418,   -34.5019,  -170.0023,       5501,  4801.9,   1.0430,  34.7090,2,  34.7087,2,    206.5,2,   206.4,2,  117.87,2,   31.90,2,   -0.01,4,    2.20,2,   0.132,2,   0.067,2,   0.037,2,  2262.4,2,  2364.8,2,-999.0000,9,  -999.00,-999.0000,9, -999.00,9, -999.00,9,  -999.0,9,  -999.0, -999.00,9, -999.00,9, -999.00,9, -999.00,9,   0.6474, -999.00
096U20160426,       P15S,      70,          1,          3,       2003,2,20160603,       0418,   -34.5019,  -170.0023,       5501,  5200.1,   1.0720,  34.7080,2,  34.7081,2,    207.5,2,   206.6,2,  118.48,2,   31.92,2,   -0.01,4,    2.21,2,   0.149,2,   0.076,2,   0.019,2,  2262.5,2,  2366.0,2,-999.0000,9,  -999.00,-999.0000,9, -999.00,9, -999.00,9,  -999.0,9,  -999.0, -999.00,9, -999.00,9, -999.00,9, -999.00,9,   0.6279, -999.00
096U20160426,       P15S,      70,          1,          2,       2002,2,20160603,       0418,   -34.5019,  -170.0023,       5501,  5396.5,   1.0940,  34.7080,2,  34.7082,2,    207.6,2,   206.7,2,  118.63,2,   31.93,2,    0.00,4,    2.21,2,   0.149,2,   0.073,2,       0,2,  2264.3,6,  2367.3,6,-999.0000,9,  -999.00,-999.0000,9, -999.00,9, -999.00,9,  -999.0,9,  -999.0, -999.00,9, -999.00,9, -999.00,9, -999.00,9,   0.6250, -999.00
096U20160426,       P15S,      70,          1,          1,       2001,2,20160603,       0418,   -34.5019,  -170.0023,       5501,  5589.4,   1.1180,  34.7080,2,  34.7083,2,    207.6,2,   206.1,2,  118.58,2,   31.94,2,    0.00,4,    2.21,2,   0.114,2,   0.058,2,       0,2,  2263.6,2,  2367.0,2,-999.0000,9,  -999.00,-999.0000,9, -999.00,9, -999.00,9,  -999.0,9,  -999.0, -999.00,9, -999.00,9, -999.00,9, -999.00,9,   0.6238, -999.00