BOTTLE,20230413CCHSIOENA
EXPOCODE,SECT_ID,STNNBR,CASTNO,SAMPNO,BTLNBR,BTLNBR_FLAG_W,DATE,TIME,LATITUDE,LONGITUDE,DEPTH,CTDPRS,CTDTMP,CTDSAL,CTDSAL_FLAG_W,SALNTY,SALNTY_FLAG_W,CTDOXY,CTDOXY_FLAG_W,OXYGEN,OXYGEN_FLAG_W,SILCAT,SILCAT_FLAG_W,NITRAT,NITRAT_FLAG_W,NITRIT,NITRIT_FLAG_W,PHSPHT,PHSPHT_FLAG_W,CFC-11,CFC-11_FLAG_W,CFC-12,CFC-12_FLAG_W,SF6,SF6_FLAG_W,TCARBN,TCARBN_FLAG_W,ALKALI,ALKALI_FLAG_W,PH_TOT,PH_TOT_FLAG_W,PH_TMP,HELIUM,HELIUM_FLAG_W,DELHE3,DELHE3_FLAG_W,DELC13,DELC13_FLAG_W,DELC14,DELC14_FLAG_W,C14ERR,POC,POC_FLAG_W,PON,PON_FLAG_W,CHLORA,CHLORA_FLAG_W,PPHYTN,PPHYTN_FLAG_W,THETA,DELHER
,,,,,,,,,,,METERS,DBAR,ITS-90,PSS-78,,PSS-78,,UMOL/KG,,UMOL/KG,,UMOL/KG,,UMOL/KG,,UMOL/KG,,UMOL/KG,,PMOL/KG,,PMOL/KG,,FMOL/KG,,UMOL/KG,,UMOL/KG,,,,DEG C,NMOL/KG,,PERCNT,,/MILLE,,/MILLE,,/MILLE,UG/KG,,UG/KG,,UG/KG,,UG/KG,,DEG C,PERCNT
096U20160426,       P15S,     112,          1,         36,       2036,2,20160616,       1426,   -13.8176,  -169.9990,       4337,     6.0,  28.8190,  35.0200,2,-999.0000,9,    189.6,2,  -999.0,9, -999.00,9, -999.00,9, -999.00,9, -999.00,9,-999.000,9,-999.000,9,-999.000,9,  -999.0,9,  -999.0,9,-999.0000,9,  -999.00,-999.0000,9, -999.00,9, -999.00,9,  -999.0,9,  -999.0, -999.00,9, -999.00,9, -999.00,9, -999.00,9,  28.8176, -999.00
096U20160426,       P15S,     112,          1,         35,       2035,2,20160616,       1426,   -13.8176,  -169.9990,       4337,    36.0,  28.7790,  35.0210,2,-999.0000,9,    189.9,2,  -999.0,9, -999.00,9, -999.00,9, -999.00,9, -999.00,9,-999.000,9,-999.000,9,-999.000,9,  -999.0,9,  -999.0,9,-999.0000,9,  -999.00,-999.0000,9, -999.00,9, -999.00,9,  -999.0,9,  -999.0, -999.00,9, -999.00,9, -999.00,9, -999.00,9,  28.7703, -999.00
096U20160426,       P15S,     112,          1,         34,       2034,2,20160616,       1426,   -13.8176,  -169.9990,       4337,    61.3,  28.3790,  35.2130,2,-999.0000,9,    195.5,2,  -999.0,9, -999.00,9, -999.00,9, -999.00,9, -999.00,9,-999.000,9,-999.000,9,-999.000,9,  -999.0,9,  -999.0,9,-999.0000,9,  -999.00,-999.0000,9, -999.00,9, -999.00,9,  -999.0,9,  -999.0, -999.00,9, -999.00,9, -999.00,9, -999.00,9,  28.3644, -999.00
096U20160426,       P15S,     112,          1,         33,       2033,2,20160616,       1426,   -13.8176,  -169.9990,       4337,    80.2,  26.7240,  35.9740,2,-999.0000,9,    154.9,2,  -999.0,9, -999.00,9, -999.00,9, -999.00,9, -999.00,9,-999.000,9,-999.000,9,-999.000,9,  -999.0,9,  -999.0,9,-999.0000,9,  -999.00,-999.0000,9, -999.00,9, -999.00,9,  -999.0,9,  -999.0, -999.00,9, -999.00,9, -999.00,9, -999.00,9,  26.7057, -999.00
096U20160426,       P15S,     112,          1,         32,       2032,2,20160616,       1426,   -13.8176,  -169.9990,       4337,   111.0,  25.0310,  36.1200,2,  36.1191,2,    141.5,2,   143.6,2,    0.96,2,    6.24,2,    0.05,2,    0.64,2,   1.692,2,   1.101,2,   1.255,2,  2098.7,2,  2375.2,2,-999.0000,9,  -999.00,-999.0000,9, -999.00,9,    0.84,2,    45.2,2,     2.0, -999.00,9, -999.00,9, -999.00,9, -999.00,9,  25.0068, -999.00
096U20160426,       P15S,     112,          1,         31,       2031,2,20160616,       1426,   -13.8176,  -169.9990,       4337,   136.2,  24.7170,  36.1220,2,  36.1220,2,    139.9,2,   143.5,2,    0.90,2,    6.54,2,    0.03,2,    0.66,2,   1.734,2,   1.127,2,   1.214,2,  2105.6,6,  2374.4,6,-999.0000,9,  -999.00,-999.0000,9, -999.00,9,    0.84,2,    47.2,2,     2.0, -999.00,9, -999.00,9, -999.00,9, -999.00,9,  24.6876, -999.00
096U20160426,       P15S,     112,          1,         30,       2030,2,20160616,       1426,   -13.8176,  -169.9990,       4337,   165.7,  23.1100,  36.1130,2,  36.0965,2,    143.0,2,   147.4,2,    0.85,2,    6.85,2,    0.02,2,    0.68,2,   1.841,2,   1.187,2,   1.252,2,  2119.7,2,  2375.1,2,-999.0000,9,  -999.00,-999.0000,9, -999.00,9,    0.88,2,    51.6,2,     2.0, -999.00,9, -999.00,9, -999.00,9, -999.00,9,  23.0759, -999.00
096U20160426,       P15S,     112,          1,         29,       2029,2,20160616,       1426,   -13.8176,  -169.9990,       4337,   216.3,  20.0250,  35.7680,2,  35.7204,2,    150.3,2,   151.4,2,    1.53,2,    8.12,2,    0.01,4,    0.76,2,   2.068,2,   1.295,2,   1.171,2,  2129.2,2,  2352.1,6,-999.0000,9,  -999.00,-999.0000,9, -999.00,9,    0.83,2,    49.5,2,     2.0, -999.00,9, -999.00,9, -999.00,9, -999.00,9,  19.9848, -999.00
096U20160426,       P15S,     112,          1,         28,       2028,2,20160616,       1426,   -13.8176,  -169.9990,       4337,   265.5,  16.9010,  35.3320,2,  35.2901,2,    128.7,2,   129.5,2,    4.62,2,   13.19,2,    0.01,4,    1.14,2,   2.065,2,   1.242,2,   0.964,2,  2151.2,2,  2325.9,2,-999.0000,9,  -999.00,-999.0000,9, -999.00,9,    0.66,2,    48.7,2,     2.0, -999.00,9, -999.00,9, -999.00,9, -999.00,9,  16.8572, -999.00
096U20160426,       P15S,     112,          1,         27,       2027,2,20160616,       1426,   -13.8176,  -169.9990,       4337,   316.0,  13.8950,  34.9650,2,  34.8944,2,    127.6,2,   124.9,2,    8.64,2,   18.03,2,    0.01,4,    1.44,2,   1.885,2,   1.081,2,    0.67,2,  2167.4,2,  2302.9,2,-999.0000,9,  -999.00,-999.0000,9, -999.00,9,    0.67,2,    31.8,2,     2.0, -999.00,9, -999.00,9, -999.00,9, -999.00,9,  13.8494, -999.00
096U20160426,       P15S,     112,          1,         26,       2026,2,20160616,       1426,   -13.8176,  -169.9990,       4337,   366.1,  11.5620,  34.7590,2,  34.7512,2,    116.5,2,   116.4,2,   12.67,2,   22.03,2,    0.01,4,    1.69,2,   1.539,2,   0.858,2,   0.453,2,  2182.3,2,  2296.9,2,-999.0000,9,  -999.00,-999.0000,9, -999.00,9,    0.64,2,     4.8,2,     2.0, -999.00,9, -999.00,9, -999.00,9, -999.00,9,  11.5152, -999.00
096U20160426,       P15S,     112,          1,         25,       2025,2,20160616,       1426,   -13.8176,  -169.9990,       4337,   415.8,   9.7190,  34.6270,2,  34.6120,2,    122.2,2,   123.2,2,   17.59,2,   25.76,2,    0.01,4,    1.88,2,   1.161,2,   0.631,2,   0.238,2,  2193.4,2,  2295.1,2,-999.0000,9,  -999.00,-999.0000,9, -999.00,9,    0.67,2,   -23.6,2,     2.0, -999.00,9, -999.00,9, -999.00,9, -999.00,9,   9.6713, -999.00
096U20160426,       P15S,     112,          1,         24,       2024,2,20160616,       1426,   -13.8176,  -169.9990,       4337,   465.4,   8.3240,  34.5510,2,  34.5402,2,    132.8,2,   135.4,2,   21.92,2,   27.92,2,    0.01,4,    1.98,2,   0.914,2,   0.483,2,   0.142,2,  2199.0,2,  2295.3,2,-999.0000,9,  -999.00,-999.0000,9, -999.00,9,    0.79,2,   -45.2,2,     2.0, -999.00,9, -999.00,9, -999.00,9, -999.00,9,   8.2753, -999.00
096U20160426,       P15S,     112,          1,         23,       2023,2,20160616,       1426,   -13.8176,  -169.9990,       4337,   550.7,   6.6830,  34.4880,2,  34.4852,2,    142.6,2,   143.4,2,   30.53,2,   30.69,2,    0.01,4,    2.13,2,   0.528,2,   0.277,2,   0.054,2,  2209.5,2,  2301.0,2,-999.0000,9,  -999.00,-999.0000,9, -999.00,9,    0.79,2,   -83.4,2,     2.0, -999.00,9, -999.00,9, -999.00,9, -999.00,9,   6.6318, -999.00
096U20160426,       P15S,     112,          1,         22,       2022,2,20160616,       1426,   -13.8176,  -169.9990,       4337,   635.8,   5.9920,  34.4780,2,  34.4774,2,    141.7,2,   141.4,2,   38.08,2,   32.31,2,    0.01,4,    2.23,2,-999.000,9,-999.000,9,-999.000,9,  -999.0,9,  -999.0,9,-999.0000,9,  -999.00,-999.0000,9, -999.00,9, -999.00,9,  -999.0,9,  -999.0, -999.00,9, -999.00,9, -999.00,9, -999.00,9,   5.9359, -999.00
096U20160426,       P15S,     112,          1,         21,       2021,2,20160616,       1426,   -13.8176,  -169.9990,       4337,   734.8,   5.3080,  34.4860,2,  34.4841,2,    135.3,2,   134.8,2,   47.89,2,   34.00,2,    0.01,4,    2.35,2,   0.159,2,   0.089,2,   0.015,2,  2236.6,2,  2316.8,2,-999.0000,9,  -999.00,-999.0000,9, -999.00,9,    0.65,2,  -127.4,2,     2.0, -999.00,9, -999.00,9, -999.00,9, -999.00,9,   5.2465, -999.00
096U20160426,       P15S,     112,          1,         20,       2020,2,20160616,       1426,   -13.8176,  -169.9990,       4337,   836.0,   4.9300,  34.4880,2,  34.4854,2,    137.3,2,   137.0,2,   53.50,2,   34.27,2,    0.01,4,    2.37,2,-999.000,9,-999.000,9,-999.000,9,  -999.0,9,  -999.0,9,-999.0000,9,  -999.00,-999.0000,9, -999.00,9, -999.00,9,  -999.0,9,  -999.0, -999.00,9, -999.00,9, -999.00,9, -999.00,9,   4.8618, -999.00
096U20160426,       P15S,     112,          1,         19,       2019,2,20160616,       1426,   -13.8176,  -169.9990,       4337,   935.4,   4.5260,  34.5050,2,  34.5038,2,    130.2,2,   128.9,2,   62.84,2,   35.54,2,    0.01,4,    2.47,2,   0.057,2,   0.032,2,       0,2,  2255.8,2,  2334.2,6,-999.0000,9,  -999.00,-999.0000,9, -999.00,9,    0.57,2,  -152.5,2,     2.0, -999.00,9, -999.00,9, -999.00,9, -999.00,9,   4.4519, -999.00
096U20160426,       P15S,     112,          1,         18,       2018,2,20160616,       1426,   -13.8176,  -169.9990,       4337,  1035.2,   4.1420,  34.5180,2,  34.5155,2,    130.5,2,   129.2,2,   69.82,2,   35.83,2,    0.01,4,    2.49,2,-999.000,9,-999.000,9,-999.000,9,  -999.0,9,  -999.0,9,-999.0000,9,  -999.00,-999.0000,9, -999.00,9, -999.00,9,  -999.0,9,  -999.0, -999.00,9, -999.00,9, -999.00,9, -999.00,9,   4.0622, -999.00
096U20160426,       P15S,     112,          1,         17,       2017,2,20160616,       1426,   -13.8176,  -169.9990,       4337,  1137.5,   3.7390,  34.5340,2,  34.5316,2,    132.8,2,   132.0,2,   77.75,2,   36.06,2,    0.01,4,    2.50,2,   0.020,6,   0.013,6,   0.014,6,  2272.8,6,  2348.2,6,-999.0000,9,  -999.00,-999.0000,9, -999.00,9,    0.34,2,  -179.7,2,     2.0, -999.00,9, -999.00,9, -999.00,9, -999.00,9,   3.6540, -999.00
096U20160426,       P15S,     112,          1,         16,       2016,2,20160616,       1426,   -13.8176,  -169.9990,       4337,  1235.2,   3.5000,  34.5460,2,  34.5438,2,    134.8,2,   134.1,2,   82.90,2,   35.92,2,    0.01,4,    2.50,2,-999.000,9,-999.000,9,-999.000,9,  -999.0,9,  -999.0,9,-999.0000,9,  -999.00,-999.0000,9, -999.00,9, -999.00,9,  -999.0,9,  -999.0, -999.00,9, -999.00,9, -999.00,9, -999.00,9,   3.4090, -999.00
096U20160426,       P15S,     112,          1,         15,       2015,2,20160616,       1426,   -13.8176,  -169.9990,       4337,  1335.6,   3.2300,  34.5640,2,  34.5625,2,    134.0,2,   133.0,2,   89.92,2,   36.26,2,    0.01,4,    2.52,2,   0.008,2,   0.004,2,   0.014,2,  2285.9,2,  2361.5,2,-999.0000,9,  -999.00,-999.0000,9, -999.00,9,    0.36,2,  -193.8,2,     2.0, -999.00,9, -999.00,9, -999.00,9, -999.00,9,   3.1333, -999.00
096U20160426,       P15S,     112,          1,         14,       2014,2,20160616,       1426,   -13.8176,  -169.9990,       4337,  1434.7,   3.0500,  34.5750,2,  34.5744,2,    135.4,2,   134.4,2,   94.26,2,   36.16,2,    0.01,4,    2.52,2,-999.000,9,-999.000,9,-999.000,9,  -999.0,9,  -999.0,9,-999.0000,9,  -999.00,-999.0000,9, -999.00,9, -999.00,9,  -999.0,9,  -999.0, -999.00,9, -999.00,9, -999.00,9, -999.00,9,   2.9470, -999.00
096U20160426,       P15S,     112,          1,         13,       2013,2,20160616,       1426,   -13.8176,  -169.9990,       4337,  1535.0,   2.8070,  34.5890,2,  34.5879,2,    138.9,2,   138.6,2,   98.94,2,   36.00,2,    0.01,4,    2.50,2,   0.003,2,   0.001,2,       0,2,  2293.5,2,  2372.6,2,-999.0000,9,  -999.00,-999.0000,9, -999.00,9,    0.37,2,  -201.7,2,     2.0, -999.00,9, -999.00,9, -999.00,9, -999.00,9,   2.6985, -999.00
096U20160426,       P15S,     112,          1,         12,       2012,2,20160616,       1426,   -13.8176,  -169.9990,       4337,  1665.6,   2.5860,  34.6030,2,  34.6010,2,    142.6,2,   142.6,2,  103.29,2,   35.82,2,    0.01,4,    2.48,2,-999.000,9,-999.000,9,-999.000,9,  -999.0,9,  -999.0,9,-999.0000,9,  -999.00,-999.0000,9, -999.00,9, -999.00,9,  -999.0,9,  -999.0, -999.00,9, -999.00,9, -999.00,9, -999.00,9,   2.4693, -999.00
096U20160426,       P15S,     112,          1,         11,       2011,2,20160616,       1426,   -13.8176,  -169.9990,       4337,  1866.1,   2.3160,  34.6230,2,  34.6210,2,    145.3,2,   145.2,2,  110.09,2,   35.68,2,    0.01,4,    2.48,2,   0.000,2,   0.000,2,       0,2,  2300.3,2,  2386.5,2,-999.0000,9,  -999.00,-999.0000,9, -999.00,9,    0.31,2,  -213.3,2,     2.0, -999.00,9, -999.00,9, -999.00,9, -999.00,9,   2.1862, -999.00
096U20160426,       P15S,     112,          1,         10,       2010,2,20160616,       1426,   -13.8176,  -169.9990,       4337,  2086.0,   2.1390,  34.6380,2,  34.6367,2,    146.3,2,   146.5,2,  115.48,2,   35.56,2,    0.01,4,    2.47,2,-999.000,9,-999.000,9,-999.000,9,  -999.0,9,  -999.0,9,-999.0000,9,  -999.00,-999.0000,9, -999.00,9, -999.00,9,  -999.0,9,  -999.0, -999.00,9, -999.00,9, -999.00,9, -999.00,9,   1.9931, -999.00
096U20160426,       P15S,     112,          1,          9,       2009,2,20160616,       1426,   -13.8176,  -169.9990,       4337,  2335.6,   1.9720,  34.6530,2,  34.6515,2,    148.1,2,   148.4,2,  120.78,2,   35.52,2,    0.01,4,    2.46,2,   0.002,6,   0.001,6,       0,6,  2305.2,2,  2399.3,2,-999.0000,9,  -999.00,-999.0000,9, -999.00,9,    0.24,2,  -223.2,2,     2.0, -999.00,9, -999.00,9, -999.00,9, -999.00,9,   1.8070, -999.00
096U20160426,       P15S,     112,          1,          8,       2008,2,20160616,       1426,   -13.8176,  -169.9990,       4337,  2585.8,   1.8590,  34.6640,2,  34.6619,2,    148.7,2,   148.4,2,  125.64,2,   35.48,2,    0.01,4,    2.46,2,-999.000,9,-999.000,9,-999.000,9,  -999.0,9,  -999.0,9,-999.0000,9,  -999.00,-999.0000,9, -999.00,9, -999.00,9,  -999.0,9,  -999.0, -999.00,9, -999.00,9, -999.00,9, -999.00,9,   1.6735, -999.00
096U20160426,       P15S,     112,          1,          7,       2007,2,20160616,       1426,   -13.8176,  -169.9990,       4337,  2835.5,   1.7710,  34.6710,2,  34.6689,2,    150.8,2,   150.6,2,  128.32,2,   35.43,2,    0.01,4,    2.45,2,   0.000,2,   0.000,2,       0,2,  2317.4,2,  2407.7,2,-999.0000,9,  -999.00,-999.0000,9, -999.00,9,    0.20,2,  -222.0,2,     2.0, -999.00,9, -999.00,9, -999.00,9, -999.00,9,   1.5640, -999.00
096U20160426,       P15S,     112,          1,          6,       2006,2,20160616,       1426,   -13.8176,  -169.9990,       4337,  3100.1,   1.6750,  34.6770,2,  34.6751,2,    153.5,2,   153.5,2,  130.79,2,   35.28,2,    0.01,4,    2.44,2,-999.000,9,-999.000,9,-999.000,9,  -999.0,9,  -999.0,9,-999.0000,9,  -999.00,-999.0000,9, -999.00,9, -999.00,9,  -999.0,9,  -999.0, -999.00,9, -999.00,9, -999.00,9, -999.00,9,   1.4446, -999.00
096U20160426,       P15S,     112,          1,          5,       2005,2,20160616,       1426,   -13.8176,  -169.9990,       4337,  3400.1,   1.5650,  34.6840,2,  34.6818,2,    159.9,2,   159.6,2,  130.49,2,   34.86,2,    0.01,4,    2.41,2,   0.004,2,   0.003,2,       0,2,  2310.0,2,  2403.6,2,-999.0000,9,  -999.00,-999.0000,9, -999.00,9,    0.22,2,  -214.6,2,     2.0, -999.00,9, -999.00,9, -999.00,9, -999.00,9,   1.3073, -999.00
096U20160426,       P15S,     112,          1,          4,       2004,2,20160616,       1426,   -13.8176,  -169.9990,       4337,  3700.0,   1.4650,  34.6920,2,  34.6908,2,    170.9,2,   171.6,2,  126.02,2,   33.97,2,    0.01,4,    2.34,2,   0.008,2,   0.003,2,       0,2,  2298.7,2,  2394.1,2,-999.0000,9,  -999.00,-999.0000,9, -999.00,9,    0.30,2,  -200.7,2,     2.0, -999.00,9, -999.00,9, -999.00,9, -999.00,9,   1.1790, -999.00
096U20160426,       P15S,     112,          1,          3,       2003,2,20160616,       1426,   -13.8176,  -169.9990,       4337,  4001.0,   1.3200,  34.7090,2,  34.7088,2,    189.4,2,   192.3,2,  115.76,2,   32.26,2,    0.01,4,    2.22,2,   0.043,2,   0.025,2,       0,2,  2272.2,6,  2373.0,6,-999.0000,9,  -999.00,-999.0000,9, -999.00,9,    0.43,2,  -176.1,2,     2.0, -999.00,9, -999.00,9, -999.00,9, -999.00,9,   1.0059, -999.00
096U20160426,       P15S,     112,          1,          2,       2002,2,20160616,       1426,   -13.8176,  -169.9990,       4337,  4202.9,   1.1920,  34.7120,2,  34.7109,2,    196.9,2,  -999.0,9,  115.16,2,   31.88,2,    0.01,4,    2.19,2,   0.054,2,   0.030,2,       0,2,  2267.7,2,  2365.2,2,-999.0000,9,  -999.00,-999.0000,9, -999.00,9,    0.45,2,  -168.6,2,     2.0, -999.00,9, -999.00,9, -999.00,9, -999.00,9,   0.8596, -999.00
096U20160426,       P15S,     112,          1,          1,       2001,2,20160616,       1426,   -13.8176,  -169.9990,       4337,  4382.4,   1.1120,  34.7120,2,  34.7108,2,    200.6,2,   203.0,2,  115.91,2,   31.71,2,    0.01,4,    2.18,2,   0.065,2,   0.036,2,       0,2,  2261.5,2,  2365.4,2,-999.0000,9,  -999.00,-999.0000,9, -999.00,9,    0.53,2,  -165.5,2,     2.0, -999.00,9, -999.00,9, -999.00,9, -999.00,9,   0.7621, -999.00