BOTTLE,20230413CCHSIOENA
EXPOCODE,SECT_ID,STNNBR,CASTNO,SAMPNO,BTLNBR,BTLNBR_FLAG_W,DATE,TIME,LATITUDE,LONGITUDE,DEPTH,CTDPRS,CTDTMP,CTDSAL,CTDSAL_FLAG_W,SALNTY,SALNTY_FLAG_W,CTDOXY,CTDOXY_FLAG_W,OXYGEN,OXYGEN_FLAG_W,SILCAT,SILCAT_FLAG_W,NITRAT,NITRAT_FLAG_W,NITRIT,NITRIT_FLAG_W,PHSPHT,PHSPHT_FLAG_W,CFC-11,CFC-11_FLAG_W,CFC-12,CFC-12_FLAG_W,SF6,SF6_FLAG_W,TCARBN,TCARBN_FLAG_W,ALKALI,ALKALI_FLAG_W,PH_TOT,PH_TOT_FLAG_W,PH_TMP,HELIUM,HELIUM_FLAG_W,DELHE3,DELHE3_FLAG_W,DELC13,DELC13_FLAG_W,DELC14,DELC14_FLAG_W,C14ERR,POC,POC_FLAG_W,PON,PON_FLAG_W,CHLORA,CHLORA_FLAG_W,PPHYTN,PPHYTN_FLAG_W,THETA,DELHER
,,,,,,,,,,,METERS,DBAR,ITS-90,PSS-78,,PSS-78,,UMOL/KG,,UMOL/KG,,UMOL/KG,,UMOL/KG,,UMOL/KG,,UMOL/KG,,PMOL/KG,,PMOL/KG,,FMOL/KG,,UMOL/KG,,UMOL/KG,,,,DEG C,NMOL/KG,,PERCNT,,/MILLE,,/MILLE,,/MILLE,UG/KG,,UG/KG,,UG/KG,,UG/KG,,DEG C,PERCNT
096U20160426,       P15S,     128,          1,         36,       2036,2,20160621,       0151,    -5.9991,  -168.7513,       5679,     5.6,  30.4550,  34.8970,2,  34.8935,2,    187.3,2,   192.0,2,    0.60,2,    0.02,2,    0.00,4,    0.14,2,   1.364,6,   0.875,6,   1.218,6,  1943.2,2,  2295.0,2,-999.0000,9,  -999.00,-999.0000,9, -999.00,9, -999.00,9,  -999.0,9,  -999.0, -999.00,9, -999.00,9, -999.00,9, -999.00,9,  30.4536, -999.00
096U20160426,       P15S,     128,          1,         35,       2035,2,20160621,       0151,    -5.9991,  -168.7513,       5679,    19.7,  30.2990,  34.8930,2,  34.8939,2,    186.5,2,   192.0,2,    0.59,2,    0.02,2,    0.00,4,    0.14,2,   1.365,2,   0.874,2,   1.156,2,  1944.0,6,  2294.6,6,-999.0000,9,  -999.00,-999.0000,9, -999.00,9, -999.00,9,  -999.0,9,  -999.0, -999.00,9, -999.00,9, -999.00,9, -999.00,9,  30.2941, -999.00
096U20160426,       P15S,     128,          1,         34,       2034,2,20160621,       0151,    -5.9991,  -168.7513,       5679,    36.8,  30.2850,  34.8930,2,  34.8916,2,    186.3,2,   191.7,2,    0.57,2,    0.02,4,    0.00,4,    0.14,2,-999.000,9,-999.000,9,-999.000,9,  -999.0,9,  -999.0,9,-999.0000,9,  -999.00,-999.0000,9, -999.00,9, -999.00,9,  -999.0,9,  -999.0, -999.00,9, -999.00,9, -999.00,9, -999.00,9,  30.2758, -999.00
096U20160426,       P15S,     128,          1,         33,       2033,2,20160621,       0151,    -5.9991,  -168.7513,       5679,    66.1,  30.2790,  34.8930,2,  34.9087,2,    186.3,2,   192.1,2,    0.58,2,    0.02,4,    0.00,4,    0.14,2,   1.363,2,   0.878,2,   1.161,2,  1946.0,2,  2296.2,2,-999.0000,9,  -999.00,-999.0000,9, -999.00,9, -999.00,9,  -999.0,9,  -999.0, -999.00,9, -999.00,9, -999.00,9, -999.00,9,  30.2625, -999.00
096U20160426,       P15S,     128,          1,         32,       2032,2,20160621,       0151,    -5.9991,  -168.7513,       5679,   105.5,  28.7810,  35.9230,2,  36.2906,2,    171.5,2,   170.9,2,    1.32,2,    1.64,2,    0.94,2,    0.43,2,   1.486,2,   0.956,2,   1.208,2,  2048.2,2,  2371.4,2,-999.0000,9,  -999.00,-999.0000,9, -999.00,9, -999.00,9,  -999.0,9,  -999.0, -999.00,9, -999.00,9, -999.00,9, -999.00,9,  28.7555, -999.00
096U20160426,       P15S,     128,          1,         31,       2031,2,20160621,       0151,    -5.9991,  -168.7513,       5679,   136.5,  25.1510,  36.3490,2,  35.5840,2,    151.7,2,   155.4,2,    1.28,2,    5.63,2,    0.13,2,    0.63,2,   1.695,2,   1.100,2,   1.285,2,  2107.5,2,  2390.0,2,-999.0000,9,  -999.00,-999.0000,9, -999.00,9, -999.00,9,  -999.0,9,  -999.0, -999.00,9, -999.00,9, -999.00,9, -999.00,9,  25.1212, -999.00
096U20160426,       P15S,     128,          1,         30,       2030,2,20160621,       0151,    -5.9991,  -168.7513,       5679,   186.9,  18.5180,  35.5490,2,  35.5835,2,    132.7,2,   134.9,2,    3.63,2,   10.91,2,    0.01,4,    1.01,2,   2.015,2,   1.253,2,   1.183,2,  2149.8,2,  2342.5,6,-999.0000,9,  -999.00,-999.0000,9, -999.00,9, -999.00,9,  -999.0,9,  -999.0, -999.00,9, -999.00,9, -999.00,9, -999.00,9,  18.4851, -999.00
096U20160426,       P15S,     128,          1,         29,       2029,2,20160621,       0151,    -5.9991,  -168.7513,       5679,   236.7,  14.5630,  35.0830,2,  35.0515,2,     81.1,2,    75.4,2,   12.08,2,   21.02,2,    0.00,4,    1.77,2,   1.636,2,   0.976,2,   0.718,2,  2204.2,2,  2310.3,2,-999.0000,9,  -999.00,-999.0000,9, -999.00,9, -999.00,9,  -999.0,9,  -999.0, -999.00,9, -999.00,9, -999.00,9, -999.00,9,  14.5278, -999.00
096U20160426,       P15S,     128,          1,         28,       2028,2,20160621,       0151,    -5.9991,  -168.7513,       5679,   286.6,  12.2020,  34.8880,2,  34.8735,2,     72.8,2,    69.6,2,   17.93,2,   25.88,2,    0.00,4,    1.99,2,   1.193,2,   0.683,2,   0.343,2,  2216.9,2,  2302.0,2,-999.0000,9,  -999.00,-999.0000,9, -999.00,9, -999.00,9,  -999.0,9,  -999.0, -999.00,9, -999.00,9, -999.00,9, -999.00,9,  12.1641, -999.00
096U20160426,       P15S,     128,          1,         27,       2027,2,20160621,       0151,    -5.9991,  -168.7513,       5679,   321.6,  11.1590,  34.8200,2,  34.8055,2,     55.9,2,    49.6,2,   23.45,2,   29.81,2,    0.00,4,    2.22,2,   0.810,6,   0.452,6,   0.173,6,  2235.5,2,  2300.1,2,-999.0000,9,  -999.00,-999.0000,9, -999.00,9, -999.00,9,  -999.0,9,  -999.0, -999.00,9, -999.00,9, -999.00,9, -999.00,9,  11.1188, -999.00
096U20160426,       P15S,     128,          1,         26,       2026,2,20160621,       0151,    -5.9991,  -168.7513,       5679,   376.2,  10.1240,  34.7510,2,  34.7443,2,     68.8,2,    66.1,2,   25.16,2,   30.34,2,    0.00,4,    2.20,2,   0.722,2,   0.397,2,     0.2,2,  2234.0,2,  2300.2,2,-999.0000,9,  -999.00,-999.0000,9, -999.00,9, -999.00,9,  -999.0,9,  -999.0, -999.00,9, -999.00,9, -999.00,9, -999.00,9,  10.0797, -999.00
096U20160426,       P15S,     128,          1,         25,       2025,2,20160621,       0151,    -5.9991,  -168.7513,       5679,   465.5,   8.5650,  34.6470,2,  34.6413,2,     84.1,2,    84.3,2,   29.46,2,   32.00,2,    0.00,4,    2.27,2,   0.513,2,   0.278,2,   0.085,2,  2233.9,2,  2300.8,2,-999.0000,9,  -999.00,-999.0000,9, -999.00,9, -999.00,9,  -999.0,9,  -999.0, -999.00,9, -999.00,9, -999.00,9, -999.00,9,   8.5154, -999.00
096U20160426,       P15S,     128,          1,         24,       2024,2,20160621,       0151,    -5.9991,  -168.7513,       5679,   567.5,   7.0730,  34.5700,2,  34.5695,2,     92.8,2,    89.4,2,   38.85,2,   34.49,2,    0.00,4,    2.45,2,   0.248,2,   0.137,2,       0,2,  2245.4,2,  2307.7,2,-999.0000,9,  -999.00,-999.0000,9, -999.00,9, -999.00,9,  -999.0,9,  -999.0, -999.00,9, -999.00,9, -999.00,9, -999.00,9,   7.0185, -999.00
096U20160426,       P15S,     128,          1,         23,       2023,2,20160621,       0151,    -5.9991,  -168.7513,       5679,   667.1,   6.2110,  34.5470,2,  34.5464,2,     83.1,2,    76.8,2,   49.84,2,   37.32,2,    0.00,4,    2.67,2,   0.087,2,   0.049,2,       0,2,  2266.8,2,  2315.5,2,-999.0000,9,  -999.00,-999.0000,9, -999.00,9, -999.00,9,  -999.0,9,  -999.0, -999.00,9, -999.00,9, -999.00,9, -999.00,9,   6.1508, -999.00
096U20160426,       P15S,     128,          1,         22,       2022,2,20160621,       0151,    -5.9991,  -168.7513,       5679,   767.2,   5.5980,  34.5410,2,  34.5399,2,     79.5,2,    74.2,2,   59.09,2,   38.48,2,    0.00,4,    2.77,2,   0.030,2,   0.018,2,       0,2,  2279.4,2,  2325.1,2,-999.0000,9,  -999.00,-999.0000,9, -999.00,9, -999.00,9,  -999.0,9,  -999.0, -999.00,9, -999.00,9, -999.00,9, -999.00,9,   5.5318, -999.00
096U20160426,       P15S,     128,          1,         21,       2021,2,20160621,       0151,    -5.9991,  -168.7513,       5679,   866.2,   4.9630,  34.5400,2,  34.5400,2,     86.2,2,    81.6,2,   69.18,2,   38.45,2,    0.00,4,    2.78,2,   0.011,2,   0.009,2,   0.075,3,  2288.2,2,  2336.1,2,-999.0000,9,  -999.00,-999.0000,9, -999.00,9, -999.00,9,  -999.0,9,  -999.0, -999.00,9, -999.00,9, -999.00,9, -999.00,9,   4.8919, -999.00
096U20160426,       P15S,     128,          1,         20,       2020,2,20160621,       0151,    -5.9991,  -168.7513,       5679,   966.8,   4.6050,  34.5440,2,  34.5429,2,     93.0,2,    89.5,2,   75.48,2,   37.99,2,    0.00,4,    2.76,2,   0.007,2,   0.005,2,   0.046,3,  2290.2,2,  2344.3,2,-999.0000,9,  -999.00,-999.0000,9, -999.00,9, -999.00,9,  -999.0,9,  -999.0, -999.00,9, -999.00,9, -999.00,9, -999.00,9,   4.5275, -999.00
096U20160426,       P15S,     128,          1,         19,       2019,2,20160621,       0151,    -5.9991,  -168.7513,       5679,  1065.6,   4.1400,  34.5530,2,  34.5533,2,    100.2,2,    97.0,2,   84.39,2,   37.64,2,    0.00,4,    2.74,2,   0.006,2,   0.005,2,       0,2,  2297.4,2,  2354.9,2,-999.0000,9,  -999.00,-999.0000,9, -999.00,9, -999.00,9,  -999.0,9,  -999.0, -999.00,9, -999.00,9, -999.00,9, -999.00,9,   4.0576, -999.00
096U20160426,       P15S,     128,          1,         18,       2018,2,20160621,       0151,    -5.9991,  -168.7513,       5679,  1161.3,   3.7800,  34.5650,2,  34.5635,2,    104.1,3,   101.2,2,   91.54,2,   37.49,2,    0.00,4,    2.73,2,-999.000,9,-999.000,9,-999.000,9,  2302.1,6,  2362.7,6,-999.0000,9,  -999.00,-999.0000,9, -999.00,9, -999.00,9,  -999.0,9,  -999.0, -999.00,9, -999.00,9, -999.00,9, -999.00,9,   3.6926, -999.00
096U20160426,       P15S,     128,          1,         17,       2017,2,20160621,       0151,    -5.9991,  -168.7513,       5679,  1300.5,   3.4020,  34.5790,2,  34.5778,2,    108.5,2,   105.8,2,  100.13,2,   37.34,2,    0.00,4,    2.71,2,   0.002,2,   0.002,2,       0,2,  2309.4,2,  2372.8,2,-999.0000,9,  -999.00,-999.0000,9, -999.00,9, -999.00,9,  -999.0,9,  -999.0, -999.00,9, -999.00,9, -999.00,9, -999.00,9,   3.3065, -999.00
096U20160426,       P15S,     128,          1,         16,       2016,2,20160621,       0151,    -5.9991,  -168.7513,       5679,  1441.4,   3.0640,  34.5920,2,  34.5915,2,    115.8,2,   113.8,2,  106.35,2,   36.90,2,    0.00,4,    2.67,2,   0.003,2,   0.002,2,       0,2,  2311.3,2,  2380.6,2,-999.0000,9,  -999.00,-999.0000,9, -999.00,9, -999.00,9,  -999.0,9,  -999.0, -999.00,9, -999.00,9, -999.00,9, -999.00,9,   2.9603, -999.00
096U20160426,       P15S,     128,          1,         15,       2015,2,20160621,       0151,    -5.9991,  -168.7513,       5679,  1635.6,   2.7140,  34.6100,2,  34.6095,2,    119.9,2,   118.7,2,  114.29,2,   36.74,2,    0.00,4,    2.65,2,-999.000,9,-999.000,9,-999.000,9,  -999.0,9,  -999.0,9,-999.0000,9,  -999.00,-999.0000,9, -999.00,9, -999.00,9,  -999.0,9,  -999.0, -999.00,9, -999.00,9, -999.00,9, -999.00,9,   2.5982, -999.00
096U20160426,       P15S,     128,          1,         14,       2014,2,20160621,       0151,    -5.9991,  -168.7513,       5679,  1826.6,   2.4570,  34.6260,2,  34.6250,2,    121.6,2,   120.1,2,  121.72,2,   36.66,2,    0.00,4,    2.64,2,   0.002,2,   0.002,2,       0,2,  2326.5,2,  2398.1,2,-999.0000,9,  -999.00,-999.0000,9, -999.00,9, -999.00,9,  -999.0,9,  -999.0, -999.00,9, -999.00,9, -999.00,9, -999.00,9,   2.3285, -999.00
096U20160426,       P15S,     128,          1,         13,       2013,2,20160621,       0151,    -5.9991,  -168.7513,       5679,  2061.0,   2.2030,  34.6410,2,  34.6402,2,    125.0,2,  -999.0,9,  128.37,2,   36.53,2,    0.00,4,    2.62,2,-999.000,9,-999.000,9,-999.000,9,  -999.0,9,  -999.0,9,-999.0000,9,  -999.00,-999.0000,9, -999.00,9, -999.00,9,  -999.0,9,  -999.0, -999.00,9, -999.00,9, -999.00,9, -999.00,9,   2.0582, -999.00
096U20160426,       P15S,     128,          1,         12,       2012,2,20160621,       0151,    -5.9991,  -168.7513,       5679,  2351.3,   2.0040,  34.6540,2,  34.6541,2,    129.6,2,   129.1,2,  133.32,2,   36.33,2,    0.00,4,    2.59,2,  -0.002,2,   0.002,2,   0.024,2,  2333.3,2,  2411.4,2,-999.0000,9,  -999.00,-999.0000,9, -999.00,9, -999.00,9,  -999.0,9,  -999.0, -999.00,9, -999.00,9, -999.00,9, -999.00,9,   1.8370, -999.00
096U20160426,       P15S,     128,          1,         11,       2011,2,20160621,       0151,    -5.9991,  -168.7513,       5679,  2651.1,   1.8110,  34.6680,2,  34.6673,2,    138.1,2,   138.6,2,  135.49,2,   35.72,2,    0.00,4,    2.54,2,-999.000,9,-999.000,9,-999.000,9,  -999.0,9,  -999.0,9,-999.0000,9,  -999.00,-999.0000,9, -999.00,9, -999.00,9,  -999.0,9,  -999.0, -999.00,9, -999.00,9, -999.00,9, -999.00,9,   1.6204, -999.00
096U20160426,       P15S,     128,          1,         10,       2010,2,20160621,       0151,    -5.9991,  -168.7513,       5679,  2941.3,   1.6840,  34.6750,2,  34.6742,2,    144.5,2,   145.4,2,  136.46,2,   35.32,2,    0.00,4,    2.51,2,   0.001,2,   0.003,2,       0,2,  2325.0,2,  2415.0,2,-999.0000,9,  -999.00,-999.0000,9, -999.00,9, -999.00,9,  -999.0,9,  -999.0, -999.00,9, -999.00,9, -999.00,9, -999.00,9,   1.4687, -999.00
096U20160426,       P15S,     128,          1,          9,       2009,2,20160621,       0151,    -5.9991,  -168.7513,       5679,  3283.8,   1.5730,  34.6830,2,  34.6836,2,    153.1,2,   154.4,2,  135.04,2,   34.70,2,    0.00,4,    2.45,2,-999.000,9,-999.000,9,-999.000,9,  -999.0,9,  -999.0,9,-999.0000,9,  -999.00,-999.0000,9, -999.00,9, -999.00,9,  -999.0,9,  -999.0, -999.00,9, -999.00,9, -999.00,9, -999.00,9,   1.3268, -999.00
096U20160426,       P15S,     128,          1,          8,       2008,2,20160621,       0151,    -5.9991,  -168.7513,       5679,  3626.6,   1.4560,  34.6900,2,  34.6838,2,    161.5,2,   163.3,2,  134.03,2,   34.19,2,    0.00,4,    2.41,2,   0.001,2,   0.001,2,       0,2,  2313.1,2,  2409.9,2,-999.0000,9,  -999.00,-999.0000,9, -999.00,9, -999.00,9,  -999.0,9,  -999.0, -999.00,9, -999.00,9, -999.00,9, -999.00,9,   1.1779, -999.00
096U20160426,       P15S,     128,          1,          7,       2007,2,20160621,       0151,    -5.9991,  -168.7513,       5679,  4015.6,   1.3730,  34.6950,2,  34.6890,2,    169.8,2,   172.0,2,  132.41,2,   33.72,2,    0.00,4,    2.37,2,   0.004,2,   0.002,2,       0,2,  2305.6,2,  2404.3,2,-999.0000,9,  -999.00,-999.0000,9, -999.00,9, -999.00,9,  -999.0,9,  -999.0, -999.00,9, -999.00,9, -999.00,9, -999.00,9,   1.0559, -999.00
096U20160426,       P15S,     128,          1,          6,       2006,2,20160621,       0151,    -5.9991,  -168.7513,       5679,  4415.5,   1.3180,  34.7000,2,  34.6948,2,    178.8,2,   180.6,2,  128.53,2,   33.08,2,    0.00,4,    2.32,2,   0.010,2,   0.006,2,       0,2,  2295.4,2,  2396.3,6,-999.0000,9,  -999.00,-999.0000,9, -999.00,9, -999.00,9,  -999.0,9,  -999.0, -999.00,9, -999.00,9, -999.00,9, -999.00,9,   0.9582, -999.00
096U20160426,       P15S,     128,          1,          5,       2005,2,20160621,       0151,    -5.9991,  -168.7513,       5679,  4815.2,   1.2540,  34.7040,2,  34.6992,2,    189.3,2,   191.2,2,  123.53,2,   32.37,2,    0.00,4,    2.27,2,   0.021,2,   0.014,2,       0,2,  2281.9,2,  2382.8,2,-999.0000,9,  -999.00,-999.0000,9, -999.00,9, -999.00,9,  -999.0,9,  -999.0, -999.00,9, -999.00,9, -999.00,9, -999.00,9,   0.8500, -999.00
096U20160426,       P15S,     128,          1,          4,       2004,2,20160621,       0151,    -5.9991,  -168.7513,       5679,  5240.9,   1.2240,  34.7060,2,  34.7035,2,    196.6,2,   197.8,2,  120.92,2,   31.92,2,    0.00,4,    2.23,2,   0.037,2,   0.021,2,       0,2,  2273.6,2,  2374.4,2,-999.0000,9,  -999.00,-999.0000,9, -999.00,9, -999.00,9,  -999.0,9,  -999.0, -999.00,9, -999.00,9, -999.00,9, -999.00,9,   0.7696, -999.00
096U20160426,       P15S,     128,          1,          3,       2003,2,20160621,       0151,    -5.9991,  -168.7513,       5679,  5551.4,   1.2440,  34.7070,2,  34.7062,2,    199.0,2,   199.2,2,  120.30,2,   31.80,2,    0.00,4,    2.22,2,-999.000,9,-999.000,9,-999.000,9,  -999.0,9,  -999.0,9,-999.0000,9,  -999.00,-999.0000,9, -999.00,9, -999.00,9,  -999.0,9,  -999.0, -999.00,9, -999.00,9, -999.00,9, -999.00,9,   0.7500, -999.00
096U20160426,       P15S,     128,          1,          2,       2002,2,20160621,       0151,    -5.9991,  -168.7513,       5679,  5701.1,   1.2580,  34.7070,2,  34.7067,2,    200.2,2,   199.6,2,  120.24,2,   31.82,2,    0.00,4,    2.22,2,   0.043,2,   0.024,2,       0,2,  2268.8,6,  2372.2,6,-999.0000,9,  -999.00,-999.0000,9, -999.00,9, -999.00,9,  -999.0,9,  -999.0, -999.00,9, -999.00,9, -999.00,9, -999.00,9,   0.7444, -999.00
096U20160426,       P15S,     128,          1,          1,       2001,2,20160621,       0151,    -5.9991,  -168.7513,       5679,  5765.1,   1.2670,  34.7070,2,  34.7071,2,    200.3,2,   199.7,2,  120.16,2,   31.77,2,    0.00,4,    2.22,2,-999.000,9,-999.000,9,-999.000,9,  -999.0,9,  -999.0,9,-999.0000,9,  -999.00,-999.0000,9, -999.00,9, -999.00,9,  -999.0,9,  -999.0, -999.00,9, -999.00,9, -999.00,9, -999.00,9,   0.7447, -999.00