BOTTLE,20230413CCHSIOENA
EXPOCODE,SECT_ID,STNNBR,CASTNO,SAMPNO,BTLNBR,BTLNBR_FLAG_W,DATE,TIME,LATITUDE,LONGITUDE,DEPTH,CTDPRS,CTDTMP,CTDSAL,CTDSAL_FLAG_W,SALNTY,SALNTY_FLAG_W,CTDOXY,CTDOXY_FLAG_W,OXYGEN,OXYGEN_FLAG_W,SILCAT,SILCAT_FLAG_W,NITRAT,NITRAT_FLAG_W,NITRIT,NITRIT_FLAG_W,PHSPHT,PHSPHT_FLAG_W,CFC-11,CFC-11_FLAG_W,CFC-12,CFC-12_FLAG_W,SF6,SF6_FLAG_W,TCARBN,TCARBN_FLAG_W,ALKALI,ALKALI_FLAG_W,PH_TOT,PH_TOT_FLAG_W,PH_TMP,HELIUM,HELIUM_FLAG_W,DELHE3,DELHE3_FLAG_W,DELC13,DELC13_FLAG_W,DELC14,DELC14_FLAG_W,C14ERR,POC,POC_FLAG_W,PON,PON_FLAG_W,CHLORA,CHLORA_FLAG_W,PPHYTN,PPHYTN_FLAG_W,THETA,DELHER
,,,,,,,,,,,METERS,DBAR,ITS-90,PSS-78,,PSS-78,,UMOL/KG,,UMOL/KG,,UMOL/KG,,UMOL/KG,,UMOL/KG,,UMOL/KG,,PMOL/KG,,PMOL/KG,,FMOL/KG,,UMOL/KG,,UMOL/KG,,,,DEG C,NMOL/KG,,PERCNT,,/MILLE,,/MILLE,,/MILLE,UG/KG,,UG/KG,,UG/KG,,UG/KG,,DEG C,PERCNT
096U20160426,       P15S,      94,          1,         36,       2036,2,20160611,       2006,   -22.0016,  -169.9999,       5638,     4.1,  24.4040,  35.6750,2,  35.6737,2,    210.4,2,   208.6,2,    0.19,4,   -0.04,4,    0.00,4,    0.08,2,-999.000,9,-999.000,9,-999.000,9,  2008.2,2,  2345.3,2,-999.0000,9,  -999.00,-999.0000,9, -999.00,9,    1.12,2,    36.4,2,     2.0, -999.00,9, -999.00,9,    0.23,2,    0.07,3,  24.4031, -999.00
096U20160426,       P15S,      94,          1,         35,       2035,2,20160611,       2006,   -22.0016,  -169.9999,       5638,    20.2,  24.4080,  35.6740,2,  35.6736,2,    210.0,2,   208.6,2,    0.20,2,   -0.04,4,    0.00,4,    0.08,2,-999.000,9,-999.000,9,-999.000,9,  -999.0,9,  -999.0,9,-999.0000,9,  -999.00,-999.0000,9, -999.00,9, -999.00,9,  -999.0,9,  -999.0, -999.00,9, -999.00,9,    0.17,2,    0.10,3,  24.4037, -999.00
096U20160426,       P15S,      94,          1,         34,       2034,2,20160611,       2006,   -22.0016,  -169.9999,       5638,    59.8,  24.3930,  35.6930,2,  35.6913,2,    209.8,2,   208.8,2,    0.22,2,   -0.04,4,    0.00,4,    0.08,2,-999.000,9,-999.000,9,-999.000,9,  2010.8,6,  2346.5,6,-999.0000,9,  -999.00,-999.0000,9, -999.00,9,    1.16,2,    41.3,2,     2.0, -999.00,9, -999.00,9,    0.20,2,    0.08,3,  24.3802, -999.00
096U20160426,       P15S,      94,          1,         33,       2033,2,20160611,       2006,   -22.0016,  -169.9999,       5638,    85.3,  24.3570,  35.6980,2,  35.6988,2,    209.5,2,   208.6,2,    0.20,2,   -0.04,4,    0.00,4,    0.08,2,-999.000,9,-999.000,9,-999.000,9,  2012.2,2,  2346.0,2,-999.0000,9,  -999.00,-999.0000,9, -999.00,9,    1.07,2,    41.5,2,     2.0, -999.00,9, -999.00,9,    0.31,2,    0.03,3,  24.3388, -999.00
096U20160426,       P15S,      94,          1,         32,       2032,2,20160611,       2006,   -22.0016,  -169.9999,       5638,   113.5,  22.5460,  35.7700,2,  35.7631,2,    212.1,2,   209.4,2,    0.21,2,    0.02,2,    0.02,2,    0.08,2,-999.000,9,-999.000,9,-999.000,9,  2042.7,2,  2347.2,2,-999.0000,9,  -999.00,-999.0000,9, -999.00,9,    0.99,2,    48.6,2,     2.0, -999.00,9, -999.00,9,    0.37,2,    0.29,3,  22.5231, -999.00
096U20160426,       P15S,      94,          1,         31,       2031,2,20160611,       2006,   -22.0016,  -169.9999,       5638,   165.0,  20.1520,  35.7060,2,  35.6996,2,    195.7,2,   193.8,2,    0.36,2,    2.27,2,    0.01,4,    0.24,2,-999.000,9,-999.000,9,-999.000,9,  2069.7,2,  2342.7,2,-999.0000,9,  -999.00,-999.0000,9, -999.00,9,    0.85,2,    56.4,2,     2.0, -999.00,9, -999.00,9, -999.00,9, -999.00,9,  20.1212, -999.00
096U20160426,       P15S,      94,          1,         30,       2030,2,20160611,       2006,   -22.0016,  -169.9999,       5638,   214.0,  19.0200,  35.6150,2,  35.5952,2,    193.7,2,   195.2,2,    0.48,2,    2.85,2,    0.01,4,    0.27,2,-999.000,9,-999.000,9,-999.000,9,  2077.0,2,  2335.6,6,-999.0000,9,  -999.00,-999.0000,9, -999.00,9,    0.84,2,    55.7,2,     2.0, -999.00,9, -999.00,9, -999.00,9, -999.00,9,  18.9816, -999.00
096U20160426,       P15S,      94,          1,         29,       2029,2,20160611,       2006,   -22.0016,  -169.9999,       5638,   263.6,  18.2010,  35.5410,2,  35.5253,2,    198.4,2,   197.2,2,    0.57,2,    3.33,2,    0.01,4,    0.30,2,-999.000,9,-999.000,9,-999.000,9,  2081.4,2,  2329.8,2,-999.0000,9,  -999.00,-999.0000,9, -999.00,9,    0.81,2,    62.4,2,     2.0, -999.00,9, -999.00,9, -999.00,9, -999.00,9,  18.1551, -999.00
096U20160426,       P15S,      94,          1,         28,       2028,2,20160611,       2006,   -22.0016,  -169.9999,       5638,   314.7,  16.5370,  35.3330,2,  35.3304,2,    186.9,2,   188.2,2,    1.34,2,    6.26,2,    0.01,4,    0.52,2,-999.000,9,-999.000,9,-999.000,9,  2096.4,2,  2319.3,2,-999.0000,9,  -999.00,-999.0000,9, -999.00,9,    0.92,2,    59.5,2,     2.0, -999.00,9, -999.00,9, -999.00,9, -999.00,9,  16.4858, -999.00
096U20160426,       P15S,      94,          1,         27,       2027,2,20160611,       2006,   -22.0016,  -169.9999,       5638,   366.7,  15.2490,  35.2640,2,  35.1791,2,    194.7,2,   192.1,2,    1.93,2,    8.35,2,    0.00,4,    0.64,2,-999.000,9,-999.000,9,-999.000,9,  -999.0,9,  -999.0,9,-999.0000,9,  -999.00,-999.0000,9, -999.00,9, -999.00,9,  -999.0,9,  -999.0, -999.00,9, -999.00,9, -999.00,9, -999.00,9,  15.1925, -999.00
096U20160426,       P15S,      94,          1,         26,       2026,2,20160611,       2006,   -22.0016,  -169.9999,       5638,   436.3,  12.2300,  34.8430,2,  34.8166,2,    186.8,2,   186.5,2,    4.02,2,   14.00,2,    0.00,4,    1.05,2,-999.000,9,-999.000,9,-999.000,9,  2128.7,2,  2294.4,2,-999.0000,9,  -999.00,-999.0000,9, -999.00,9,    1.04,2,    46.7,2,     2.0, -999.00,9, -999.00,9, -999.00,9, -999.00,9,  12.1719, -999.00
096U20160426,       P15S,      94,          1,         25,       2025,2,20160611,       2006,   -22.0016,  -169.9999,       5638,   536.5,   8.6810,  34.4990,2,  34.4840,2,    194.6,2,   196.4,2,    8.14,2,   21.37,2,    0.00,4,    1.51,2,-999.000,9,-999.000,9,-999.000,9,  2151.1,2,  2283.8,2,-999.0000,9,  -999.00,-999.0000,9, -999.00,9,    0.95,2,    18.8,2,     2.0, -999.00,9, -999.00,9, -999.00,9, -999.00,9,   8.6232, -999.00
096U20160426,       P15S,      94,          1,         24,       2024,2,20160611,       2006,   -22.0016,  -169.9999,       5638,   636.0,   7.0950,  34.3920,2,  34.3873,2,    191.1,2,   192.6,2,   13.25,2,   25.65,2,    0.00,4,    1.79,2,-999.000,9,-999.000,9,-999.000,9,  2167.3,2,  2284.6,2,-999.0000,9,  -999.00,-999.0000,9, -999.00,9,    1.17,2,   -10.2,2,     2.0, -999.00,9, -999.00,9, -999.00,9, -999.00,9,   7.0337, -999.00
096U20160426,       P15S,      94,          1,         23,       2023,2,20160611,       2006,   -22.0016,  -169.9999,       5638,   750.9,   5.7340,  34.3380,2,  34.3363,2,    198.1,2,   201.9,2,   18.10,2,   27.89,2,    0.00,4,    1.91,2,-999.000,9,-999.000,9,-999.000,9,  2174.2,2,  2287.0,2,-999.0000,9,  -999.00,-999.0000,9, -999.00,9,    1.18,2,   -42.3,2,     2.0, -999.00,9, -999.00,9, -999.00,9, -999.00,9,   5.6688, -999.00
096U20160426,       P15S,      94,          1,         22,       2022,2,20160611,       2006,   -22.0016,  -169.9999,       5638,   836.1,   5.1810,  34.3440,2,  34.3440,2,    190.1,2,   190.7,2,   26.32,2,   30.02,2,    0.00,4,    2.06,2,-999.000,9,-999.000,9,-999.000,9,  -999.0,9,  -999.0,9,-999.0000,9,  -999.00,-999.0000,9, -999.00,9, -999.00,9,  -999.0,9,  -999.0, -999.00,9, -999.00,9, -999.00,9, -999.00,9,   5.1114, -999.00
096U20160426,       P15S,      94,          1,         21,       2021,2,20160611,       2006,   -22.0016,  -169.9999,       5638,   935.2,   4.7080,  34.3840,2,  34.3837,2,    171.4,2,   171.8,2,   38.43,2,   32.22,2,    0.00,4,    2.22,2,-999.000,9,-999.000,9,-999.000,9,  2212.4,2,  2306.3,2,-999.0000,9,  -999.00,-999.0000,9, -999.00,9,    0.93,2,  -108.4,2,     2.0, -999.00,9, -999.00,9, -999.00,9, -999.00,9,   4.6328, -999.00
096U20160426,       P15S,      94,          1,         20,       2020,2,20160611,       2006,   -22.0016,  -169.9999,       5638,  1034.9,   4.1650,  34.4210,2,  34.4202,2,    162.8,2,   163.8,2,   50.01,2,   33.41,2,    0.00,4,    2.31,2,-999.000,9,-999.000,9,-999.000,9,  2230.2,2,  2318.0,2,-999.0000,9,  -999.00,-999.0000,9, -999.00,9,    0.84,2,  -133.8,2,     2.0, -999.00,9, -999.00,9, -999.00,9, -999.00,9,   4.0852, -999.00
096U20160426,       P15S,      94,          1,         19,       2019,2,20160611,       2006,   -22.0016,  -169.9999,       5638,  1136.4,   3.5990,  34.4540,2,  34.4525,2,    162.4,2,   162.8,2,   60.49,2,   34.00,2,    0.00,4,    2.35,2,-999.000,9,-999.000,9,-999.000,9,  2242.6,2,  2330.4,2,-999.0000,9,  -999.00,-999.0000,9, -999.00,9,    0.75,2,  -150.7,2,     2.0, -999.00,9, -999.00,9, -999.00,9, -999.00,9,   3.5154, -999.00
096U20160426,       P15S,      94,          1,         18,       2018,2,20160611,       2006,   -22.0016,  -169.9999,       5638,  1240.6,   3.1810,  34.4950,2,  34.4938,2,    159.5,2,   160.5,2,   71.30,2,   34.39,2,    0.00,4,    2.38,2,-999.000,9,-999.000,9,-999.000,9,  2253.7,2,  2340.9,2,-999.0000,9,  -999.00,-999.0000,9, -999.00,9,    0.57,2,  -170.6,2,     2.0, -999.00,9, -999.00,9, -999.00,9, -999.00,9,   3.0927, -999.00
096U20160426,       P15S,      94,          1,         17,       2017,2,20160611,       2006,   -22.0016,  -169.9999,       5638,  1400.3,   2.8200,  34.5510,2,  34.5492,2,    153.6,2,   154.5,2,   86.01,2,   34.77,2,    0.00,4,    2.42,2,-999.000,9,-999.000,9,-999.000,9,  2273.2,2,  2358.7,6,-999.0000,9,  -999.00,-999.0000,9, -999.00,9,    0.43,2,  -182.8,2,     2.0, -999.00,9, -999.00,9, -999.00,9, -999.00,9,   2.7224, -999.00
096U20160426,       P15S,      94,          1,         16,       2016,2,20160611,       2006,   -22.0016,  -169.9999,       5638,  1559.8,   2.5890,  34.5880,2,  34.5856,2,    148.9,2,   150.2,2,   97.46,2,   35.13,2,    0.00,4,    2.45,2,-999.000,9,-999.000,9,-999.000,9,  2285.6,2,  2372.6,2,-999.0000,9,  -999.00,-999.0000,9, -999.00,9,    0.35,2,  -196.8,2,     2.0, -999.00,9, -999.00,9, -999.00,9, -999.00,9,   2.4810, -999.00
096U20160426,       P15S,      94,          1,         15,       2015,2,20160611,       2006,   -22.0016,  -169.9999,       5638,  1764.7,   2.4240,  34.6120,2,  34.6100,2,    145.5,2,   146.6,2,  106.65,2,   35.39,2,    0.00,4,    2.48,2,-999.000,9,-999.000,9,-999.000,9,  2295.1,2,  2383.4,2,-999.0000,9,  -999.00,-999.0000,9, -999.00,9,    0.30,2,  -204.9,2,     2.0, -999.00,9, -999.00,9, -999.00,9, -999.00,9,   2.3012, -999.00
096U20160426,       P15S,      94,          1,         14,       2014,2,20160611,       2006,   -22.0016,  -169.9999,       5638,  1974.9,   2.2880,  34.6250,2,  34.6245,2,    144.7,2,   145.6,2,  111.33,2,   35.49,2,    0.00,4,    2.48,2,-999.000,9,-999.000,9,-999.000,9,  2302.5,2,  2389.7,2,-999.0000,9,  -999.00,-999.0000,9, -999.00,9,    0.27,2,  -213.7,2,     2.0, -999.00,9, -999.00,9, -999.00,9, -999.00,9,   2.1493, -999.00
096U20160426,       P15S,      94,          1,         13,       2013,2,20160611,       2006,   -22.0016,  -169.9999,       5638,  2235.0,   2.1140,  34.6410,2,  34.6402,2,    144.8,2,   145.7,2,  117.76,2,   35.63,2,    0.00,4,    2.49,2,-999.000,9,-999.000,9,-999.000,9,  2307.7,2,  2396.8,2,-999.0000,9,  -999.00,-999.0000,9, -999.00,9,    0.19,2,  -218.4,2,     2.0, -999.00,9, -999.00,9, -999.00,9, -999.00,9,   1.9555, -999.00
096U20160426,       P15S,      94,          1,         12,       2012,2,20160611,       2006,   -22.0016,  -169.9999,       5638,  2484.2,   1.9940,  34.6520,2,  34.6501,2,    146.9,2,   146.8,2,  121.67,2,   35.60,2,    0.00,4,    2.49,2,-999.000,9,-999.000,9,-999.000,9,  2311.1,6,  2400.8,6,-999.0000,9,  -999.00,-999.0000,9, -999.00,9,    0.29,3,  -220.8,2,     2.0, -999.00,9, -999.00,9, -999.00,9, -999.00,9,   1.8152, -999.00
096U20160426,       P15S,      94,          1,         11,       2011,2,20160611,       2006,   -22.0016,  -169.9999,       5638,  2734.3,   1.8810,  34.6620,2,  34.6598,2,    146.9,2,   146.6,2,  126.77,2,   35.59,2,    0.01,4,    2.49,2,-999.000,9,-999.000,9,-999.000,9,  2317.1,2,  2405.8,2,-999.0000,9,  -999.00,-999.0000,9, -999.00,9,    0.20,2,  -222.8,2,     2.0, -999.00,9, -999.00,9, -999.00,9, -999.00,9,   1.6813, -999.00
096U20160426,       P15S,      94,          1,         10,       2010,2,20160611,       2006,   -22.0016,  -169.9999,       5638,  2990.8,   1.7770,  34.6700,2,  34.6683,2,    148.8,2,   148.8,2,  129.88,2,   35.53,2,    0.01,4,    2.48,2,-999.000,9,-999.000,9,-999.000,9,  2318.5,2,  2409.0,2,-999.0000,9,  -999.00,-999.0000,9, -999.00,9,    0.16,2,  -223.7,2,     2.0, -999.00,9, -999.00,9, -999.00,9, -999.00,9,   1.5550, -999.00
096U20160426,       P15S,      94,          1,          9,       2009,2,20160611,       2006,   -22.0016,  -169.9999,       5638,  3269.6,   1.6360,  34.6810,2,  34.6794,2,    156.4,2,   156.2,2,  130.17,2,   35.00,2,    0.00,4,    2.44,2,-999.000,9,-999.000,9,-999.000,9,  2312.2,2,  2404.7,2,-999.0000,9,  -999.00,-999.0000,9, -999.00,9,    0.25,2,  -217.0,2,     2.0, -999.00,9, -999.00,9, -999.00,9, -999.00,9,   1.3898, -999.00
096U20160426,       P15S,      94,          1,          8,       2008,2,20160611,       2006,   -22.0016,  -169.9999,       5638,  3585.7,   1.4660,  34.7060,2,  34.7042,2,    180.0,2,   182.3,2,  116.61,2,   32.77,2,    0.00,4,    2.27,2,-999.000,9,-999.000,9,-999.000,9,  2280.7,2,  2379.2,2,-999.0000,9,  -999.00,-999.0000,9, -999.00,9,    0.39,2,  -183.1,2,     2.0, -999.00,9, -999.00,9, -999.00,9, -999.00,9,   1.1917, -999.00
096U20160426,       P15S,      94,          1,          7,       2007,2,20160611,       2006,   -22.0016,  -169.9999,       5638,  3950.2,   1.2710,  34.7190,2,  34.7169,2,    197.0,2,   200.2,2,  111.00,2,   31.49,2,    0.00,4,    2.17,2,-999.000,9,-999.000,9,-999.000,9,  2263.6,2,  2365.2,2,-999.0000,9,  -999.00,-999.0000,9, -999.00,9,    0.46,2,  -166.5,2,     2.0, -999.00,9, -999.00,9, -999.00,9, -999.00,9,   0.9636, -999.00
096U20160426,       P15S,      94,          1,          6,       2006,2,20160611,       2006,   -22.0016,  -169.9999,       5638,  4359.9,   1.1080,  34.7140,2,  34.7121,2,    201.9,2,   204.5,2,  115.28,2,   31.59,2,    0.00,4,    2.18,2,-999.000,9,-999.000,9,-999.000,9,  2260.7,2,  2364.6,2,-999.0000,9,  -999.00,-999.0000,9, -999.00,9,    0.47,2,  -162.8,2,     2.0, -999.00,9, -999.00,9, -999.00,9, -999.00,9,   0.7607, -999.00
096U20160426,       P15S,      94,          1,          5,       2005,2,20160611,       2006,   -22.0016,  -169.9999,       5638,  4762.3,   1.0550,  34.7110,2,  34.7091,2,    204.8,2,   205.7,2,  117.70,2,   31.69,2,    0.00,4,    2.19,2,-999.000,9,-999.000,9,-999.000,9,  2262.8,2,  2364.7,2,-999.0000,9,  -999.00,-999.0000,9, -999.00,9,    0.45,2,  -165.3,2,     2.0, -999.00,9, -999.00,9, -999.00,9, -999.00,9,   0.6636, -999.00
096U20160426,       P15S,      94,          1,          4,       2004,2,20160611,       2006,   -22.0016,  -169.9999,       5638,  5153.7,   1.0700,  34.7090,2,  34.7081,2,    206.4,2,   206.1,2,  118.74,2,   31.75,2,    0.00,4,    2.19,2,-999.000,9,-999.000,9,-999.000,9,  2263.4,2,  2366.6,2,-999.0000,9,  -999.00,-999.0000,9, -999.00,9,    0.45,2,  -164.1,2,     2.0, -999.00,9, -999.00,9, -999.00,9, -999.00,9,   0.6316, -999.00
096U20160426,       P15S,      94,          1,          3,       2003,2,20160611,       2006,   -22.0016,  -169.9999,       5638,  5506.7,   1.1090,  34.7090,2,  34.7079,2,    207.2,2,   206.2,2,  118.89,2,   31.74,2,    0.01,4,    2.19,2,-999.000,9,-999.000,9,-999.000,9,  2262.7,6,  2366.8,6,-999.0000,9,  -999.00,-999.0000,9, -999.00,9, -999.00,9,  -999.0,9,  -999.0, -999.00,9, -999.00,9, -999.00,9, -999.00,9,   0.6256, -999.00
096U20160426,       P15S,      94,          1,          2,       2002,2,20160611,       2006,   -22.0016,  -169.9999,       5638,  5642.1,   1.1270,  34.7090,2,  34.7078,2,    207.6,2,   206.6,2,  118.94,2,   31.73,2,    0.01,4,    2.19,2,-999.000,9,-999.000,9,-999.000,9,  -999.0,9,  -999.0,9,-999.0000,9,  -999.00,-999.0000,9, -999.00,9, -999.00,9,  -999.0,9,  -999.0, -999.00,9, -999.00,9, -999.00,9, -999.00,9,   0.6258, -999.00
096U20160426,       P15S,      94,          1,          1,       2001,2,20160611,       2006,   -22.0016,  -169.9999,       5638,  5731.9,   1.1390,  34.7080,2,  34.7079,2,    207.6,2,   206.4,2,  118.78,2,   31.75,2,    0.01,4,    2.19,2,-999.000,9,-999.000,9,-999.000,9,  2264.2,2,  2366.4,2,-999.0000,9,  -999.00,-999.0000,9, -999.00,9,    0.62,2,  -165.4,2,     2.0, -999.00,9, -999.00,9, -999.00,9, -999.00,9,   0.6259, -999.00