BOTTLE,20230413CCHSIOENA
EXPOCODE,SECT_ID,STNNBR,CASTNO,SAMPNO,BTLNBR,BTLNBR_FLAG_W,DATE,TIME,LATITUDE,LONGITUDE,DEPTH,CTDPRS,CTDTMP,CTDSAL,CTDSAL_FLAG_W,SALNTY,SALNTY_FLAG_W,CTDOXY,CTDOXY_FLAG_W,OXYGEN,OXYGEN_FLAG_W,SILCAT,SILCAT_FLAG_W,NITRAT,NITRAT_FLAG_W,NITRIT,NITRIT_FLAG_W,PHSPHT,PHSPHT_FLAG_W,CFC-11,CFC-11_FLAG_W,CFC-12,CFC-12_FLAG_W,SF6,SF6_FLAG_W,TCARBN,TCARBN_FLAG_W,ALKALI,ALKALI_FLAG_W,PH_TOT,PH_TOT_FLAG_W,PH_TMP,HELIUM,HELIUM_FLAG_W,DELHE3,DELHE3_FLAG_W,DELC13,DELC13_FLAG_W,DELC14,DELC14_FLAG_W,C14ERR,POC,POC_FLAG_W,PON,PON_FLAG_W,CHLORA,CHLORA_FLAG_W,PPHYTN,PPHYTN_FLAG_W,THETA,DELHER
,,,,,,,,,,,METERS,DBAR,ITS-90,PSS-78,,PSS-78,,UMOL/KG,,UMOL/KG,,UMOL/KG,,UMOL/KG,,UMOL/KG,,UMOL/KG,,PMOL/KG,,PMOL/KG,,FMOL/KG,,UMOL/KG,,UMOL/KG,,,,DEG C,NMOL/KG,,PERCNT,,/MILLE,,/MILLE,,/MILLE,UG/KG,,UG/KG,,UG/KG,,UG/KG,,DEG C,PERCNT
096U20160426,       P15S,      39,          1,         36,       2036,2,20160519,       1959,   -47.9897,  -169.9911,       5308,     6.5,  11.4610,  34.6170,2,  34.6177,2,    262.1,2,   263.0,2,    0.88,2,    6.66,2,    0.30,2,    0.61,2,   2.949,2,   1.799,2,   2.149,2,  2089.4,2,  2291.3,2,   7.8645,2,    25.00,-999.0000,9, -999.00,9, -999.00,9,  -999.0,9,  -999.0,   23.48,2,    5.36,2,    0.40,2,    0.10,3,  11.4602, -999.00
096U20160426,       P15S,      39,          1,         35,       2035,2,20160519,       1959,   -47.9897,  -169.9911,       5308,    20.7,  11.4650,  34.6190,2,  34.6171,2,    262.4,2,   263.1,2,    0.84,2,    6.67,2,    0.30,2,    0.60,2,   2.951,2,   1.792,2,   2.162,2,  2089.7,6,  2294.2,6,   7.8669,2,    25.00,-999.0000,9, -999.00,9, -999.00,9,  -999.0,9,  -999.0, -999.00,9, -999.00,9, -999.00,9, -999.00,9,  11.4624, -999.00
096U20160426,       P15S,      39,          1,         34,       2034,2,20160519,       1959,   -47.9897,  -169.9911,       5308,    41.2,  11.4680,  34.6190,2,  34.6168,2,    262.0,2,   263.0,2,    0.88,2,    6.67,2,    0.30,2,    0.60,2,-999.000,9,-999.000,9,-999.000,9,  -999.0,9,  -999.0,9,   7.8676,2,    25.00,-999.0000,9, -999.00,9, -999.00,9,  -999.0,9,  -999.0,   22.31,6,    6.92,6,    0.27,2,    0.33,3,  11.4628, -999.00
096U20160426,       P15S,      39,          1,         33,       2033,2,20160519,       1959,   -47.9897,  -169.9911,       5308,    65.4,  11.4710,  34.6190,2,  34.6177,2,    262.0,2,   263.2,2,    0.88,2,    6.67,2,    0.30,2,    0.61,2,   2.963,2,   1.807,2,   2.234,2,  2090.0,2,  2295.2,2,   7.8676,2,    25.00,-999.0000,9, -999.00,9, -999.00,9,  -999.0,9,  -999.0, -999.00,9, -999.00,9,    0.33,2,    0.25,3,  11.4628, -999.00
096U20160426,       P15S,      39,          1,         32,       2032,2,20160519,       1959,   -47.9897,  -169.9911,       5308,    91.5,  11.4630,  34.6190,2,  34.6168,2,    261.7,2,   263.1,2,    0.88,2,    6.68,2,    0.30,2,    0.61,2,   2.949,2,   1.800,2,   2.205,2,  2089.6,2,  2294.8,2,   7.8671,2,    25.00,-999.0000,9, -999.00,9, -999.00,9,  -999.0,9,  -999.0, -999.00,9, -999.00,9,    0.42,2,    0.12,3,  11.4515, -999.00
096U20160426,       P15S,      39,          1,         31,       2031,2,20160519,       1959,   -47.9897,  -169.9911,       5308,   134.6,  10.8150,  34.6720,2,  34.6965,2,    248.3,2,   246.1,2,    2.21,2,   11.91,2,    0.03,2,    0.88,2,   3.165,2,   1.884,2,   2.146,2,  2116.9,2,  2291.4,2,   7.8008,2,    25.00,-999.0000,9, -999.00,9, -999.00,9,  -999.0,9,  -999.0, -999.00,9, -999.00,9,    0.06,2,    0.04,3,  10.7987, -999.00
096U20160426,       P15S,      39,          1,         30,       2030,2,20160519,       1959,   -47.9897,  -169.9911,       5308,   185.3,  10.0420,  34.7270,2,  34.7262,2,    240.6,2,   241.5,2,    3.23,2,   13.15,2,    0.01,4,    0.95,2,   3.166,2,   1.878,2,   1.995,2,  2126.8,2,  2292.4,2,   7.7799,2,    25.00,-999.0000,9, -999.00,9, -999.00,9,  -999.0,9,  -999.0, -999.00,9, -999.00,9, -999.00,9, -999.00,9,  10.0205, -999.00
096U20160426,       P15S,      39,          1,         29,       2029,2,20160519,       1959,   -47.9897,  -169.9911,       5308,   236.2,   9.5690,  34.6680,2,  34.6641,2,    241.3,2,   242.1,2,    3.73,2,   14.64,2,    0.01,4,    1.04,2,   3.247,2,   1.915,2,   1.971,2,  2129.9,2,  2290.2,6,   7.7683,2,    25.00,-999.0000,9, -999.00,9, -999.00,9,  -999.0,9,  -999.0, -999.00,9, -999.00,9, -999.00,9, -999.00,9,   9.5424, -999.00
096U20160426,       P15S,      39,          1,         28,       2028,2,20160519,       1959,   -47.9897,  -169.9911,       5308,   285.3,   9.0330,  34.5990,2,  34.5923,2,    243.9,2,   244.9,2,    4.30,2,   16.13,2,    0.01,4,    1.14,2,   3.327,6,   1.963,6,    1.99,6,  2132.0,2,  2288.0,2,   7.7561,2,    25.00,-999.0000,9, -999.00,9, -999.00,9,  -999.0,9,  -999.0, -999.00,9, -999.00,9, -999.00,9, -999.00,9,   9.0019, -999.00
096U20160426,       P15S,      39,          1,         27,       2027,2,20160519,       1959,   -47.9897,  -169.9911,       5308,   335.2,   8.5290,  34.5300,2,  34.5241,2,    245.0,2,   246.8,2,    4.89,2,   17.55,2,    0.01,4,    1.22,2,-999.000,9,-999.000,9,-999.000,9,  -999.0,9,  -999.0,9,   7.7452,6,    25.00,-999.0000,9, -999.00,9, -999.00,9,  -999.0,9,  -999.0, -999.00,9, -999.00,9, -999.00,9, -999.00,9,   8.4937, -999.00
096U20160426,       P15S,      39,          1,         26,       2026,2,20160519,       1959,   -47.9897,  -169.9911,       5308,   384.8,   8.1200,  34.4790,2,  34.4765,2,    252.3,2,   254.1,2,    5.22,2,   18.06,2,    0.01,4,    1.26,2,   3.515,2,   2.036,2,   2.079,2,  2133.7,2,  2282.7,2,   7.7433,2,    25.00,-999.0000,9, -999.00,9, -999.00,9,  -999.0,9,  -999.0, -999.00,9, -999.00,9, -999.00,9, -999.00,9,   8.0805, -999.00
096U20160426,       P15S,      39,          1,         25,       2025,2,20160519,       1959,   -47.9897,  -169.9911,       5308,   466.0,   7.7000,  34.4320,2,  34.4305,2,    251.2,2,   253.0,2,    5.91,2,   19.41,2,    0.00,4,    1.34,2,   3.542,2,   2.034,2,   1.928,2,  2138.0,2,  2281.6,2,   7.7337,2,    25.00,-999.0000,9, -999.00,9, -999.00,9,  -999.0,9,  -999.0, -999.00,9, -999.00,9, -999.00,9, -999.00,9,   7.6535, -999.00
096U20160426,       P15S,      39,          1,         24,       2024,2,20160519,       1959,   -47.9897,  -169.9911,       5308,   566.3,   7.3340,  34.3920,2,  34.3913,2,    256.9,2,   259.2,2,    6.44,2,   19.89,2,    0.00,4,    1.37,2,   3.545,2,   2.063,2,   1.963,2,  2138.8,2,  2283.6,2,   7.7332,2,    25.00,-999.0000,9, -999.00,9, -999.00,9,  -999.0,9,  -999.0, -999.00,9, -999.00,9, -999.00,9, -999.00,9,   7.2786, -999.00
096U20160426,       P15S,      39,          1,         23,       2023,2,20160519,       1959,   -47.9897,  -169.9911,       5308,   664.5,   7.0580,  34.3760,2,  34.3760,2,    249.1,2,   252.7,2,    8.07,2,   21.08,2,    0.00,4,    1.45,2,   3.497,2,   1.998,2,   1.853,2,  2144.0,6,  2283.1,6,   7.7205,2,    25.00,-999.0000,9, -999.00,9, -999.00,9,  -999.0,9,  -999.0, -999.00,9, -999.00,9, -999.00,9, -999.00,9,   6.9940, -999.00
096U20160426,       P15S,      39,          1,         22,       2022,2,20160519,       1959,   -47.9897,  -169.9911,       5308,   766.0,   6.7360,  34.3640,2,  34.3642,2,    235.9,2,   238.0,2,   10.62,2,   23.19,2,    0.00,4,    1.58,2,   3.244,2,   1.796,2,   1.447,2,  2152.8,2,  2284.4,2,   7.6987,2,    25.00,-999.0000,9, -999.00,9, -999.00,9,  -999.0,9,  -999.0, -999.00,9, -999.00,9, -999.00,9, -999.00,9,   6.6636, -999.00
096U20160426,       P15S,      39,          1,         21,       2021,2,20160519,       1959,   -47.9897,  -169.9911,       5308,   864.6,   6.4880,  34.3870,2,  34.3863,2,    218.2,2,   220.1,2,   14.32,2,   25.15,2,    0.00,4,    1.70,2,-999.000,9,-999.000,9,-999.000,9,  -999.0,9,  -999.0,9,   7.6804,2,    25.00,-999.0000,9, -999.00,9, -999.00,9,  -999.0,9,  -999.0, -999.00,9, -999.00,9, -999.00,9, -999.00,9,   6.4072, -999.00
096U20160426,       P15S,      39,          1,         20,       2020,2,20160519,       1959,   -47.9897,  -169.9911,       5308,   965.4,   6.0010,  34.3710,2,  34.3724,2,    210.8,2,   212.0,2,   18.91,2,   26.95,2,    0.00,4,    1.82,2,   2.178,3,   1.145,3,   0.642,3,  2171.2,2,  2289.4,6,   7.6618,2,    25.00,-999.0000,9, -999.00,9, -999.00,9,  -999.0,9,  -999.0, -999.00,9, -999.00,9, -999.00,9, -999.00,9,   5.9137, -999.00
096U20160426,       P15S,      39,          1,         19,       2019,2,20160519,       1959,   -47.9897,  -169.9911,       5308,  1065.7,   5.2380,  34.3280,2,  34.3279,2,    212.5,2,   213.8,2,   23.79,2,   28.50,2,    0.00,4,    1.93,2,   2.597,2,   1.383,2,   0.926,2,  2183.5,2,  2292.2,2,   7.6389,2,    25.00,-999.0000,9, -999.00,9, -999.00,9,  -999.0,9,  -999.0, -999.00,9, -999.00,9, -999.00,9, -999.00,9,   5.1471, -999.00
096U20160426,       P15S,      39,          1,         18,       2018,2,20160519,       1959,   -47.9897,  -169.9911,       5308,  1165.8,   4.7430,  34.3310,2,  34.3298,2,    206.4,2,   207.6,2,   29.59,2,   29.98,2,    0.00,4,    2.03,2,-999.000,9,-999.000,9,-999.000,9,  2193.4,2,  2297.0,2,   7.6223,2,    25.00,-999.0000,9, -999.00,9, -999.00,9,  -999.0,9,  -999.0, -999.00,9, -999.00,9, -999.00,9, -999.00,9,   4.6471, -999.00
096U20160426,       P15S,      39,          1,         17,       2017,2,20160519,       1959,   -47.9897,  -169.9911,       5308,  1264.6,   4.2000,  34.3400,2,  34.3403,2,    200.9,2,   202.1,2,   36.29,2,   31.27,2,    0.00,4,    2.12,2,   2.037,2,   1.067,2,   0.607,2,  2204.8,2,  2300.6,2,   7.6061,2,    25.00,-999.0000,9, -999.00,9, -999.00,9,  -999.0,9,  -999.0, -999.00,9, -999.00,9, -999.00,9, -999.00,9,   4.1002, -999.00
096U20160426,       P15S,      39,          1,         16,       2016,2,20160519,       1959,   -47.9897,  -169.9911,       5308,  1365.6,   3.8010,  34.3580,2,  34.3596,2,    195.6,2,   196.6,2,   42.93,2,   32.24,2,    0.00,4,    2.20,2,   1.815,2,   0.938,2,   0.522,2,  2215.4,2,  2307.6,2,   7.5917,2,    25.00,-999.0000,9, -999.00,9, -999.00,9,  -999.0,9,  -999.0, -999.00,9, -999.00,9, -999.00,9, -999.00,9,   3.6963, -999.00
096U20160426,       P15S,      39,          1,         15,       2015,2,20160519,       1959,   -47.9897,  -169.9911,       5308,  1535.6,   3.3020,  34.4290,2,  34.4281,2,    182.7,2,   183.4,2,   56.01,2,   33.46,2,    0.00,4,    2.29,2,   1.166,2,   0.585,2,   0.319,2,  2231.4,2,  2318.4,2,   7.5744,2,    25.00,-999.0000,9, -999.00,9, -999.00,9,  -999.0,9,  -999.0, -999.00,9, -999.00,9, -999.00,9, -999.00,9,   3.1880, -999.00
096U20160426,       P15S,      39,          1,         14,       2014,2,20160519,       1959,   -47.9897,  -169.9911,       5308,  1734.7,   2.9490,  34.5120,2,  34.5115,2,    172.0,2,   171.9,2,   70.17,2,   34.04,2,    0.00,4,    2.34,2,-999.000,9,-999.000,9,-999.000,9,  -999.0,9,  -999.0,9,   7.5662,6,    25.00,-999.0000,9, -999.00,9, -999.00,9,  -999.0,9,  -999.0, -999.00,9, -999.00,9, -999.00,9, -999.00,9,   2.8220, -999.00
096U20160426,       P15S,      39,          1,         13,       2013,2,20160519,       1959,   -47.9897,  -169.9911,       5308,  1935.2,   2.6400,  34.5780,2,  34.5769,2,    169.6,2,   169.8,2,   76.81,2,   33.97,2,    0.00,4,    2.34,2,   0.481,2,   0.241,2,   0.104,2,  2257.4,2,  2343.4,2,   7.5634,2,    25.00,-999.0000,9, -999.00,9, -999.00,9,  -999.0,9,  -999.0, -999.00,9, -999.00,9, -999.00,9, -999.00,9,   2.4997, -999.00
096U20160426,       P15S,      39,          1,         12,       2012,2,20160519,       1959,   -47.9897,  -169.9911,       5308,  2163.6,   2.4340,  34.6440,2,  34.6426,2,    172.3,2,   172.5,2,   80.77,2,   33.19,2,    0.00,4,    2.28,2,   0.311,2,   0.160,2,       0,2,  2257.2,2,  2347.4,2,-999.0000,9,  -999.00,-999.0000,9, -999.00,9, -999.00,9,  -999.0,9,  -999.0, -999.00,9, -999.00,9, -999.00,9, -999.00,9,   2.2765, -999.00
096U20160426,       P15S,      39,          1,         11,       2011,2,20160519,       1959,   -47.9897,  -169.9911,       5308,  2414.8,   2.2770,  34.6930,2,  34.6910,2,    178.1,2,   179.0,2,   83.02,2,   32.24,2,    0.00,4,    2.21,2,   0.207,2,   0.110,2,   0.051,2,  2254.0,2,  2349.0,2,-999.0000,9,  -999.00,-999.0000,9, -999.00,9, -999.00,9,  -999.0,9,  -999.0, -999.00,9, -999.00,9, -999.00,9, -999.00,9,   2.0993, -999.00
096U20160426,       P15S,      39,          1,         10,       2010,2,20160519,       1959,   -47.9897,  -169.9911,       5308,  2665.8,   2.1270,  34.7200,2,  34.7197,2,    183.7,2,   185.1,2,   86.00,2,   31.56,2,    0.00,4,    2.16,2,   0.150,2,   0.082,2,    0.05,2,  2254.0,2,  2351.1,2,-999.0000,9,  -999.00,-999.0000,9, -999.00,9, -999.00,9,  -999.0,9,  -999.0, -999.00,9, -999.00,9, -999.00,9, -999.00,9,   1.9286, -999.00
096U20160426,       P15S,      39,          1,          9,       2009,2,20160519,       1959,   -47.9897,  -169.9911,       5308,  2912.2,   1.9570,  34.7340,2,  34.7329,2,    188.5,2,   190.4,2,   90.01,2,   31.19,2,    0.00,4,    2.14,2,   0.129,2,   0.068,2,       0,2,  2252.3,2,  2353.7,6,-999.0000,9,  -999.00,-999.0000,9, -999.00,9, -999.00,9,  -999.0,9,  -999.0, -999.00,9, -999.00,9, -999.00,9, -999.00,9,   1.7384, -999.00
096U20160426,       P15S,      39,          1,          8,       2008,2,20160519,       1959,   -47.9897,  -169.9911,       5308,  3199.7,   1.7390,  34.7360,2,  34.7354,2,    192.7,2,   194.7,2,   96.14,2,   31.19,2,    0.00,4,    2.14,2,   0.111,2,   0.060,2,   0.031,2,  2255.7,2,  2357.5,2,-999.0000,9,  -999.00,-999.0000,9, -999.00,9, -999.00,9,  -999.0,9,  -999.0, -999.00,9, -999.00,9, -999.00,9, -999.00,9,   1.4970, -999.00
096U20160426,       P15S,      39,          1,          7,       2007,2,20160519,       1959,   -47.9897,  -169.9911,       5308,  3564.6,   1.4490,  34.7300,2,  34.7289,2,    197.4,2,   199.4,2,  104.83,2,   31.44,2,    0.00,4,    2.16,2,   0.121,2,   0.064,2,   0.027,2,  2259.6,2,  2361.4,2,-999.0000,9,  -999.00,-999.0000,9, -999.00,9, -999.00,9,  -999.0,9,  -999.0, -999.00,9, -999.00,9, -999.00,9, -999.00,9,   1.1772, -999.00
096U20160426,       P15S,      39,          1,          6,       2006,2,20160519,       1959,   -47.9897,  -169.9911,       5308,  3963.0,   1.1910,  34.7190,2,  34.7182,2,    201.8,2,   203.8,2,  112.52,2,   31.72,2,    0.00,4,    2.18,2,   0.163,2,   0.085,2,   0.045,2,  2259.7,2,  2363.2,2,-999.0000,9,  -999.00,-999.0000,9, -999.00,9, -999.00,9,  -999.0,9,  -999.0, -999.00,9, -999.00,9, -999.00,9, -999.00,9,   0.8845, -999.00
096U20160426,       P15S,      39,          1,          5,       2005,2,20160519,       1959,   -47.9897,  -169.9911,       5308,  4365.2,   1.0360,  34.7110,2,  34.7106,2,    205.4,2,   206.4,2,  118.17,2,   32.02,2,    0.00,4,    2.20,2,   0.187,6,   0.093,6,   0.023,6,  2262.9,2,  2362.6,2,-999.0000,9,  -999.00,-999.0000,9, -999.00,9, -999.00,9,  -999.0,9,  -999.0, -999.00,9, -999.00,9, -999.00,9, -999.00,9,   0.6903, -999.00
096U20160426,       P15S,      39,          1,          4,       2004,2,20160519,       1959,   -47.9897,  -169.9911,       5308,  4763.8,   0.9980,  34.7070,2,  34.7070,2,    207.1,2,   207.7,2,  120.32,2,   32.07,2,    0.00,4,    2.21,2,-999.000,9,-999.000,9,-999.000,9,  2261.6,6,  2363.0,6,-999.0000,9,  -999.00,-999.0000,9, -999.00,9, -999.00,9,  -999.0,9,  -999.0, -999.00,9, -999.00,9, -999.00,9, -999.00,9,   0.6083, -999.00
096U20160426,       P15S,      39,          1,          3,       2003,2,20160519,       1959,   -47.9897,  -169.9911,       5308,  5166.2,   1.0120,  34.7040,2,  34.7046,2,    208.3,2,  -999.0,9,  121.39,2,   32.18,2,    0.00,4,    2.21,2,   0.268,2,   0.133,2,   0.042,2,  2263.4,2,  2365.2,2,-999.0000,9,  -999.00,-999.0000,9, -999.00,9, -999.00,9,  -999.0,9,  -999.0, -999.00,9, -999.00,9, -999.00,9, -999.00,9,   0.5742, -999.00
096U20160426,       P15S,      39,          1,          2,       2002,2,20160519,       1959,   -47.9897,  -169.9911,       5308,  5298.4,   1.0220,  34.7040,2,  34.7047,2,    208.6,2,   208.2,2,  121.59,2,   32.17,2,    0.00,4,    2.21,2,   0.270,2,   0.136,2,   0.028,2,  2262.8,2,  2365.1,2,-999.0000,9,  -999.00,-999.0000,9, -999.00,9, -999.00,9,  -999.0,9,  -999.0, -999.00,9, -999.00,9, -999.00,9, -999.00,9,   0.5677, -999.00
096U20160426,       P15S,      39,          1,          1,       2001,2,20160519,       1959,   -47.9897,  -169.9911,       5308,  5399.9,   1.0280,  34.7030,2,  34.7050,2,    208.8,2,   210.0,4,  121.80,2,   32.17,2,    0.00,4,    2.22,2,   0.293,2,   0.146,2,   0.057,2,  2263.0,2,  2364.0,2,-999.0000,9,  -999.00,-999.0000,9, -999.00,9, -999.00,9,  -999.0,9,  -999.0, -999.00,9, -999.00,9, -999.00,9, -999.00,9,   0.5609, -999.00