BOTTLE,20230413CCHSIOENA
EXPOCODE,SECT_ID,STNNBR,CASTNO,SAMPNO,BTLNBR,BTLNBR_FLAG_W,DATE,TIME,LATITUDE,LONGITUDE,DEPTH,CTDPRS,CTDTMP,CTDSAL,CTDSAL_FLAG_W,SALNTY,SALNTY_FLAG_W,CTDOXY,CTDOXY_FLAG_W,OXYGEN,OXYGEN_FLAG_W,SILCAT,SILCAT_FLAG_W,NITRAT,NITRAT_FLAG_W,NITRIT,NITRIT_FLAG_W,PHSPHT,PHSPHT_FLAG_W,CFC-11,CFC-11_FLAG_W,CFC-12,CFC-12_FLAG_W,SF6,SF6_FLAG_W,TCARBN,TCARBN_FLAG_W,ALKALI,ALKALI_FLAG_W,PH_TOT,PH_TOT_FLAG_W,PH_TMP,HELIUM,HELIUM_FLAG_W,DELHE3,DELHE3_FLAG_W,DELC13,DELC13_FLAG_W,DELC14,DELC14_FLAG_W,C14ERR,POC,POC_FLAG_W,PON,PON_FLAG_W,CHLORA,CHLORA_FLAG_W,PPHYTN,PPHYTN_FLAG_W,THETA,DELHER
,,,,,,,,,,,METERS,DBAR,ITS-90,PSS-78,,PSS-78,,UMOL/KG,,UMOL/KG,,UMOL/KG,,UMOL/KG,,UMOL/KG,,UMOL/KG,,PMOL/KG,,PMOL/KG,,FMOL/KG,,UMOL/KG,,UMOL/KG,,,,DEG C,NMOL/KG,,PERCNT,,/MILLE,,/MILLE,,/MILLE,UG/KG,,UG/KG,,UG/KG,,UG/KG,,DEG C,PERCNT
096U20160426,       P15S,      97,          1,         36,       2036,2,20160612,       1732,   -20.5032,  -169.9991,       5679,     4.3,  25.5240,  35.5680,2,  35.5671,2,    205.6,2,   204.6,2,    0.37,2,   -0.04,4,    0.00,4,    0.13,2,-999.000,9,-999.000,9,-999.000,9,  2000.1,2,  2338.0,2,-999.0000,9,  -999.00,-999.0000,9, -999.00,9, -999.00,9,  -999.0,9,  -999.0, -999.00,9, -999.00,9,    0.50,2,   -0.07,3,  25.5231, -999.00
096U20160426,       P15S,      97,          1,         35,       2035,2,20160612,       1732,   -20.5032,  -169.9991,       5679,    35.8,  25.5220,  35.5690,2,  35.5685,2,    205.7,2,   204.7,2,    0.36,2,   -0.04,4,    0.00,4,    0.13,2,-999.000,9,-999.000,9,-999.000,9,  -999.0,9,  -999.0,9,-999.0000,9,  -999.00,-999.0000,9, -999.00,9, -999.00,9,  -999.0,9,  -999.0, -999.00,9, -999.00,9,    0.59,2,   -0.12,3,  25.5141, -999.00
096U20160426,       P15S,      97,          1,         34,       2034,2,20160612,       1732,   -20.5032,  -169.9991,       5679,    60.7,  24.9360,  35.6450,2,  35.6526,2,    207.5,2,   206.0,2,    0.28,2,   -0.04,4,    0.00,4,    0.10,2,-999.000,9,-999.000,9,-999.000,9,  -999.0,9,  -999.0,9,-999.0000,9,  -999.00,-999.0000,9, -999.00,9, -999.00,9,  -999.0,9,  -999.0, -999.00,9, -999.00,9,    0.71,2,   -0.06,3,  24.9228, -999.00
096U20160426,       P15S,      97,          1,         33,       2033,2,20160612,       1732,   -20.5032,  -169.9991,       5679,    86.1,  24.7370,  35.6380,2,  35.6354,2,    208.0,2,   207.0,2,    0.25,2,   -0.04,4,    0.00,4,    0.09,2,-999.000,9,-999.000,9,-999.000,9,  -999.0,9,  -999.0,9,-999.0000,9,  -999.00,-999.0000,9, -999.00,9, -999.00,9,  -999.0,9,  -999.0, -999.00,9, -999.00,9,    0.74,2,   -0.13,3,  24.7184, -999.00
096U20160426,       P15S,      97,          1,         32,       2032,2,20160612,       1732,   -20.5032,  -169.9991,       5679,   135.0,  22.2530,  35.7420,2,  35.7554,2,    196.7,2,   192.5,2,    0.35,2,    1.11,2,    0.06,2,    0.19,2,-999.000,9,-999.000,9,-999.000,9,  -999.0,9,  -999.0,9,-999.0000,9,  -999.00,-999.0000,9, -999.00,9, -999.00,9,  -999.0,9,  -999.0, -999.00,9, -999.00,9,    0.72,2,   -0.06,3,  22.2260, -999.00
096U20160426,       P15S,      97,          1,         31,       2031,2,20160612,       1732,   -20.5032,  -169.9991,       5679,   177.3,  21.1590,  35.7510,2,  35.7466,2,    190.2,2,   190.6,2,    0.36,2,    1.93,2,    0.03,2,    0.23,2,-999.000,9,-999.000,9,-999.000,9,  -999.0,9,  -999.0,9,-999.0000,9,  -999.00,-999.0000,9, -999.00,9, -999.00,9,  -999.0,9,  -999.0, -999.00,9, -999.00,9, -999.00,9, -999.00,9,  21.1247, -999.00
096U20160426,       P15S,      97,          1,         30,       2030,2,20160612,       1732,   -20.5032,  -169.9991,       5679,   216.3,  20.1280,  35.7010,2,  35.6880,2,    190.0,2,   191.1,2,    0.39,2,    2.58,2,    0.01,4,    0.26,2,-999.000,9,-999.000,9,-999.000,9,  -999.0,9,  -999.0,9,-999.0000,9,  -999.00,-999.0000,9, -999.00,9, -999.00,9,  -999.0,9,  -999.0, -999.00,9, -999.00,9, -999.00,9, -999.00,9,  20.0876, -999.00
096U20160426,       P15S,      97,          1,         29,       2029,2,20160612,       1732,   -20.5032,  -169.9991,       5679,   267.1,  18.8610,  35.6360,2,  35.6282,2,    199.9,2,   199.7,2,    0.48,2,    2.46,2,    0.01,4,    0.25,2,-999.000,9,-999.000,9,-999.000,9,  2074.1,2,  2334.1,2,-999.0000,9,  -999.00,-999.0000,9, -999.00,9, -999.00,9,  -999.0,9,  -999.0, -999.00,9, -999.00,9, -999.00,9, -999.00,9,  18.8133, -999.00
096U20160426,       P15S,      97,          1,         28,       2028,2,20160612,       1732,   -20.5032,  -169.9991,       5679,   316.7,  17.7150,  35.5490,2,  35.5120,2,    200.0,2,   199.0,2,    0.68,2,    3.72,2,    0.01,4,    0.33,2,-999.000,9,-999.000,9,-999.000,9,  -999.0,9,  -999.0,9,-999.0000,9,  -999.00,-999.0000,9, -999.00,9, -999.00,9,  -999.0,9,  -999.0, -999.00,9, -999.00,9, -999.00,9, -999.00,9,  17.6609, -999.00
096U20160426,       P15S,      97,          1,         27,       2027,2,20160612,       1732,   -20.5032,  -169.9991,       5679,   365.7,  15.7520,  35.2330,2,  35.1879,2,    186.5,2,   186.1,2,    1.85,2,    7.91,2,    0.00,4,    0.64,2,-999.000,9,-999.000,9,-999.000,9,  -999.0,9,  -999.0,9,-999.0000,9,  -999.00,-999.0000,9, -999.00,9, -999.00,9,  -999.0,9,  -999.0, -999.00,9, -999.00,9, -999.00,9, -999.00,9,  15.6944, -999.00
096U20160426,       P15S,      97,          1,         26,       2026,2,20160612,       1732,   -20.5032,  -169.9991,       5679,   435.8,  12.8490,  34.9060,2,  34.8854,2,    185.7,2,   186.3,2,    3.52,2,   12.70,2,    0.00,4,    0.96,2,-999.000,9,-999.000,9,-999.000,9,  -999.0,9,  -999.0,9,-999.0000,9,  -999.00,-999.0000,9, -999.00,9, -999.00,9,  -999.0,9,  -999.0, -999.00,9, -999.00,9, -999.00,9, -999.00,9,  12.7890, -999.00
096U20160426,       P15S,      97,          1,         25,       2025,2,20160612,       1732,   -20.5032,  -169.9991,       5679,   535.3,   8.8870,  34.5120,2,  34.5034,2,    184.8,2,   185.7,2,    8.91,2,   21.38,2,    0.00,4,    1.54,2,-999.000,9,-999.000,9,-999.000,9,  2156.7,2,  2283.5,2,-999.0000,9,  -999.00,-999.0000,9, -999.00,9, -999.00,9,  -999.0,9,  -999.0, -999.00,9, -999.00,9, -999.00,9, -999.00,9,   8.8285, -999.00
096U20160426,       P15S,      97,          1,         24,       2024,2,20160612,       1732,   -20.5032,  -169.9991,       5679,   635.4,   6.7420,  34.3650,2,  34.3627,2,    203.2,2,   205.5,2,   12.32,2,   25.26,2,    0.00,4,    1.76,2,-999.000,9,-999.000,9,-999.000,9,  -999.0,9,  -999.0,9,-999.0000,9,  -999.00,-999.0000,9, -999.00,9, -999.00,9,  -999.0,9,  -999.0, -999.00,9, -999.00,9, -999.00,9, -999.00,9,   6.6825, -999.00
096U20160426,       P15S,      97,          1,         23,       2023,2,20160612,       1732,   -20.5032,  -169.9991,       5679,   750.9,   5.6920,  34.3390,2,  34.3421,2,    197.7,2,   196.5,2,   20.58,2,   28.49,2,    0.00,4,    1.97,2,-999.000,9,-999.000,9,-999.000,9,  2181.6,2,  2287.3,2,-999.0000,9,  -999.00,-999.0000,9, -999.00,9, -999.00,9,  -999.0,9,  -999.0, -999.00,9, -999.00,9, -999.00,9, -999.00,9,   5.6270, -999.00
096U20160426,       P15S,      97,          1,         22,       2022,2,20160612,       1732,   -20.5032,  -169.9991,       5679,   837.3,   5.1120,  34.3780,2,  34.3753,2,    174.1,2,   175.4,2,   32.23,2,   31.10,2,    0.00,4,    2.16,2,-999.000,9,-999.000,9,-999.000,9,  -999.0,9,  -999.0,9,-999.0000,9,  -999.00,-999.0000,9, -999.00,9, -999.00,9,  -999.0,9,  -999.0, -999.00,9, -999.00,9, -999.00,9, -999.00,9,   5.0427, -999.00
096U20160426,       P15S,      97,          1,         21,       2021,2,20160612,       1732,   -20.5032,  -169.9991,       5679,   934.4,   4.6130,  34.4050,2,  34.4061,2,    165.1,2,   165.4,2,   43.42,2,   32.67,2,    0.00,4,    2.27,2,-999.000,9,-999.000,9,-999.000,9,  -999.0,9,  -999.0,9,-999.0000,9,  -999.00,-999.0000,9, -999.00,9, -999.00,9,  -999.0,9,  -999.0, -999.00,9, -999.00,9, -999.00,9, -999.00,9,   4.5385, -999.00
096U20160426,       P15S,      97,          1,         20,       2020,2,20160612,       1732,   -20.5032,  -169.9991,       5679,  1036.0,   3.9410,  34.4460,2,  34.4443,2,    158.8,2,   159.9,2,   56.38,2,   33.76,2,    0.00,4,    2.35,2,-999.000,9,-999.000,9,-999.000,9,  2239.9,2,  2323.9,2,-999.0000,9,  -999.00,-999.0000,9, -999.00,9, -999.00,9,  -999.0,9,  -999.0, -999.00,9, -999.00,9, -999.00,9, -999.00,9,   3.8629, -999.00
096U20160426,       P15S,      97,          1,         19,       2019,2,20160612,       1732,   -20.5032,  -169.9991,       5679,  1135.0,   3.4360,  34.4820,2,  34.4804,2,    157.2,2,   158.3,2,   67.70,2,   34.26,2,    0.00,4,    2.39,2,-999.000,9,-999.000,9,-999.000,9,  -999.0,9,  -999.0,9,-999.0000,9,  -999.00,-999.0000,9, -999.00,9, -999.00,9,  -999.0,9,  -999.0, -999.00,9, -999.00,9, -999.00,9, -999.00,9,   3.3539, -999.00
096U20160426,       P15S,      97,          1,         18,       2018,2,20160612,       1732,   -20.5032,  -169.9991,       5679,  1235.6,   3.0400,  34.5210,2,  34.5159,2,    156.0,2,   157.0,2,   77.44,2,   34.55,2,    0.00,4,    2.41,2,-999.000,9,-999.000,9,-999.000,9,  -999.0,9,  -999.0,9,-999.0000,9,  -999.00,-999.0000,9, -999.00,9, -999.00,9,  -999.0,9,  -999.0, -999.00,9, -999.00,9, -999.00,9, -999.00,9,   2.9534, -999.00
096U20160426,       P15S,      97,          1,         17,       2017,2,20160612,       1732,   -20.5032,  -169.9991,       5679,  1335.3,   2.8660,  34.5440,2,  34.5414,2,    154.2,2,   155.1,2,   84.34,2,   34.72,2,    0.00,4,    2.43,2,-999.000,9,-999.000,9,-999.000,9,  -999.0,9,  -999.0,9,-999.0000,9,  -999.00,-999.0000,9, -999.00,9, -999.00,9,  -999.0,9,  -999.0, -999.00,9, -999.00,9, -999.00,9, -999.00,9,   2.7731, -999.00
096U20160426,       P15S,      97,          1,         16,       2016,2,20160612,       1732,   -20.5032,  -169.9991,       5679,  1465.5,   2.6590,  34.5810,2,  34.5789,2,    148.8,2,   150.5,2,   95.76,2,   35.11,2,    0.00,4,    2.46,2,-999.000,9,-999.000,9,-999.000,9,  2284.8,2,  2368.0,2,-999.0000,9,  -999.00,-999.0000,9, -999.00,9, -999.00,9,  -999.0,9,  -999.0, -999.00,9, -999.00,9, -999.00,9, -999.00,9,   2.5578, -999.00
096U20160426,       P15S,      97,          1,         15,       2015,2,20160612,       1732,   -20.5032,  -169.9991,       5679,  1665.3,   2.4810,  34.6060,2,  34.6049,2,    145.8,2,   146.0,2,  104.83,2,   35.33,2,    0.00,4,    2.48,2,-999.000,9,-999.000,9,-999.000,9,  -999.0,9,  -999.0,9,-999.0000,9,  -999.00,-999.0000,9, -999.00,9, -999.00,9,  -999.0,9,  -999.0, -999.00,9, -999.00,9, -999.00,9, -999.00,9,   2.3657, -999.00
096U20160426,       P15S,      97,          1,         14,       2014,2,20160612,       1732,   -20.5032,  -169.9991,       5679,  1865.8,   2.3480,  34.6200,2,  34.6175,2,    145.4,2,   145.7,2,  109.69,2,   35.44,2,    0.00,4,    2.49,2,-999.000,9,-999.000,9,-999.000,9,  -999.0,9,  -999.0,9,-999.0000,9,  -999.00,-999.0000,9, -999.00,9, -999.00,9,  -999.0,9,  -999.0, -999.00,9, -999.00,9, -999.00,9, -999.00,9,   2.2177, -999.00
096U20160426,       P15S,      97,          1,         13,       2013,2,20160612,       1732,   -20.5032,  -169.9991,       5679,  2086.0,   2.1800,  34.6350,2,  34.6326,2,    145.3,2,   146.0,2,  115.60,2,   35.57,2,    0.00,4,    2.50,2,-999.000,9,-999.000,9,-999.000,9,  -999.0,9,  -999.0,9,-999.0000,9,  -999.00,-999.0000,9, -999.00,9, -999.00,9,  -999.0,9,  -999.0, -999.00,9, -999.00,9, -999.00,9, -999.00,9,   2.0334, -999.00
096U20160426,       P15S,      97,          1,         12,       2012,2,20160612,       1732,   -20.5032,  -169.9991,       5679,  2336.3,   2.0280,  34.6480,2,  34.6469,2,    145.9,2,   146.5,2,  120.83,2,   35.56,2,    0.00,4,    2.49,2,-999.000,9,-999.000,9,-999.000,9,  -999.0,9,  -999.0,9,-999.0000,9,  -999.00,-999.0000,9, -999.00,9, -999.00,9,  -999.0,9,  -999.0, -999.00,9, -999.00,9, -999.00,9, -999.00,9,   1.8620, -999.00
096U20160426,       P15S,      97,          1,         11,       2011,2,20160612,       1732,   -20.5032,  -169.9991,       5679,  2584.9,   1.8970,  34.6600,2,  34.6578,2,    146.4,2,   147.0,2,  126.01,2,   35.60,2,    0.00,4,    2.50,2,-999.000,9,-999.000,9,-999.000,9,  2316.4,6,  2403.7,6,-999.0000,9,  -999.00,-999.0000,9, -999.00,9, -999.00,9,  -999.0,9,  -999.0, -999.00,9, -999.00,9, -999.00,9, -999.00,9,   1.7108, -999.00
096U20160426,       P15S,      97,          1,         10,       2010,2,20160612,       1732,   -20.5032,  -169.9991,       5679,  2800.3,   1.8210,  34.6660,2,  34.6644,2,    147.0,2,   146.9,2,  129.33,2,   35.64,2,    0.00,4,    2.50,2,-999.000,9,-999.000,9,-999.000,9,  -999.0,9,  -999.0,9,-999.0000,9,  -999.00,-999.0000,9, -999.00,9, -999.00,9,  -999.0,9,  -999.0, -999.00,9, -999.00,9, -999.00,9, -999.00,9,   1.6163, -999.00
096U20160426,       P15S,      97,          1,          9,       2009,2,20160612,       1732,   -20.5032,  -169.9991,       5679,  3100.4,   1.7140,  34.6740,2,  34.6728,2,    150.5,2,   150.3,2,  131.37,2,   35.43,2,    0.00,4,    2.48,2,-999.000,9,-999.000,9,-999.000,9,  -999.0,9,  -999.0,9,-999.0000,9,  -999.00,-999.0000,9, -999.00,9, -999.00,9,  -999.0,9,  -999.0, -999.00,9, -999.00,9, -999.00,9, -999.00,9,   1.4827, -999.00
096U20160426,       P15S,      97,          1,          8,       2008,2,20160612,       1732,   -20.5032,  -169.9991,       5679,  3400.7,   1.5710,  34.6870,2,  34.6848,2,    162.0,2,   162.2,2,  128.23,2,   34.48,2,    0.00,4,    2.41,2,-999.000,9,-999.000,9,-999.000,9,  -999.0,9,  -999.0,9,-999.0000,9,  -999.00,-999.0000,9, -999.00,9, -999.00,9,  -999.0,9,  -999.0, -999.00,9, -999.00,9, -999.00,9, -999.00,9,   1.3131, -999.00
096U20160426,       P15S,      97,          1,          7,       2007,2,20160612,       1732,   -20.5032,  -169.9991,       5679,  3735.6,   1.4170,  34.7120,2,  34.7109,2,    187.1,2,   189.1,2,  113.27,2,   32.20,2,    0.00,4,    2.24,2,-999.000,9,-999.000,9,-999.000,9,  -999.0,9,  -999.0,9,-999.0000,9,  -999.00,-999.0000,9, -999.00,9, -999.00,9,  -999.0,9,  -999.0, -999.00,9, -999.00,9, -999.00,9, -999.00,9,   1.1284, -999.00
096U20160426,       P15S,      97,          1,          6,       2006,2,20160612,       1732,   -20.5032,  -169.9991,       5679,  4135.3,   1.2020,  34.7170,2,  34.7151,2,    199.6,2,   202.0,2,  112.95,2,   31.52,2,    0.00,4,    2.18,2,-999.000,9,-999.000,9,-999.000,9,  -999.0,9,  -999.0,9,-999.0000,9,  -999.00,-999.0000,9, -999.00,9, -999.00,9,  -999.0,9,  -999.0, -999.00,9, -999.00,9, -999.00,9, -999.00,9,   0.8766, -999.00
096U20160426,       P15S,      97,          1,          5,       2005,2,20160612,       1732,   -20.5032,  -169.9991,       5679,  4536.0,   1.1010,  34.7130,2,  34.7112,2,    202.9,2,   204.8,2,  116.33,2,   31.63,2,    0.00,4,    2.19,2,-999.000,9,-999.000,9,-999.000,9,  -999.0,9,  -999.0,9,-999.0000,9,  -999.00,-999.0000,9, -999.00,9, -999.00,9,  -999.0,9,  -999.0, -999.00,9, -999.00,9, -999.00,9, -999.00,9,   0.7341, -999.00
096U20160426,       P15S,      97,          1,          4,       2004,2,20160612,       1732,   -20.5032,  -169.9991,       5679,  4936.1,   1.0700,  34.7100,2,  34.7084,2,    205.5,2,   205.9,2,  118.36,2,   31.71,2,    0.00,4,    2.20,2,-999.000,9,-999.000,9,-999.000,9,  -999.0,9,  -999.0,9,-999.0000,9,  -999.00,-999.0000,9, -999.00,9, -999.00,9,  -999.0,9,  -999.0, -999.00,9, -999.00,9, -999.00,9, -999.00,9,   0.6577, -999.00
096U20160426,       P15S,      97,          1,          3,       2003,2,20160612,       1732,   -20.5032,  -169.9991,       5679,  5336.9,   1.0940,  34.7090,2,  34.7070,2,    206.8,2,   206.0,2,  119.03,2,   31.77,2,    0.00,4,    2.20,2,-999.000,9,-999.000,9,-999.000,9,  -999.0,9,  -999.0,9,-999.0000,9,  -999.00,-999.0000,9, -999.00,9, -999.00,9,  -999.0,9,  -999.0, -999.00,9, -999.00,9, -999.00,9, -999.00,9,   0.6324, -999.00
096U20160426,       P15S,      97,          1,          2,       2002,2,20160612,       1732,   -20.5032,  -169.9991,       5679,  5572.7,   1.1200,  34.7090,2,  34.7075,2,    207.5,2,   206.1,2,  119.13,2,   31.75,2,    0.00,4,    2.20,2,-999.000,9,-999.000,9,-999.000,9,  -999.0,9,  -999.0,9,-999.0000,9,  -999.00,-999.0000,9, -999.00,9, -999.00,9,  -999.0,9,  -999.0, -999.00,9, -999.00,9, -999.00,9, -999.00,9,   0.6279, -999.00
096U20160426,       P15S,      97,          1,          1,       2001,2,20160612,       1732,   -20.5032,  -169.9991,       5679,  5765.7,   1.1450,  34.7080,2,  34.7076,2,    207.8,2,   205.9,2,  119.08,2,   31.75,2,    0.00,4,    2.20,2,-999.000,9,-999.000,9,-999.000,9,  2266.0,2,  2365.9,2,-999.0000,9,  -999.00,-999.0000,9, -999.00,9, -999.00,9,  -999.0,9,  -999.0, -999.00,9, -999.00,9, -999.00,9, -999.00,9,   0.6273, -999.00