BOTTLE,20230413CCHSIOENA
EXPOCODE,SECT_ID,STNNBR,CASTNO,SAMPNO,BTLNBR,BTLNBR_FLAG_W,DATE,TIME,LATITUDE,LONGITUDE,DEPTH,CTDPRS,CTDTMP,CTDSAL,CTDSAL_FLAG_W,SALNTY,SALNTY_FLAG_W,CTDOXY,CTDOXY_FLAG_W,OXYGEN,OXYGEN_FLAG_W,SILCAT,SILCAT_FLAG_W,NITRAT,NITRAT_FLAG_W,NITRIT,NITRIT_FLAG_W,PHSPHT,PHSPHT_FLAG_W,CFC-11,CFC-11_FLAG_W,CFC-12,CFC-12_FLAG_W,SF6,SF6_FLAG_W,TCARBN,TCARBN_FLAG_W,ALKALI,ALKALI_FLAG_W,PH_TOT,PH_TOT_FLAG_W,PH_TMP,HELIUM,HELIUM_FLAG_W,DELHE3,DELHE3_FLAG_W,DELC13,DELC13_FLAG_W,DELC14,DELC14_FLAG_W,C14ERR,POC,POC_FLAG_W,PON,PON_FLAG_W,CHLORA,CHLORA_FLAG_W,PPHYTN,PPHYTN_FLAG_W,THETA,DELHER
,,,,,,,,,,,METERS,DBAR,ITS-90,PSS-78,,PSS-78,,UMOL/KG,,UMOL/KG,,UMOL/KG,,UMOL/KG,,UMOL/KG,,UMOL/KG,,PMOL/KG,,PMOL/KG,,FMOL/KG,,UMOL/KG,,UMOL/KG,,,,DEG C,NMOL/KG,,PERCNT,,/MILLE,,/MILLE,,/MILLE,UG/KG,,UG/KG,,UG/KG,,UG/KG,,DEG C,PERCNT
096U20160426,       P15S,     108,          1,         36,       2036,2,20160615,       1856,   -15.0029,  -170.0000,       4830,     4.6,  28.0930,  35.0010,2,  35.0003,2,    197.7,2,   197.0,2,    0.65,2,   -0.03,4,    0.00,4,    0.17,2,   1.448,2,   0.940,2,   1.206,2,  1959.6,2,  2302.3,2,-999.0000,9,  -999.00,-999.0000,9, -999.00,9, -999.00,9,  -999.0,9,  -999.0, -999.00,9, -999.00,9,    0.24,2,    0.00,3,  28.0919, -999.00
096U20160426,       P15S,     108,          1,         35,       2035,2,20160615,       1856,   -15.0029,  -170.0000,       4830,    23.7,  28.0990,  34.9990,2,  34.9979,2,    196.9,2,   196.3,2,    0.66,2,   -0.03,4,    0.00,4,    0.17,2,-999.000,9,-999.000,9,-999.000,9,  -999.0,9,  -999.0,9,-999.0000,9,  -999.00,-999.0000,9, -999.00,9, -999.00,9,  -999.0,9,  -999.0, -999.00,9, -999.00,9,    0.26,2,    0.00,3,  28.0934, -999.00
096U20160426,       P15S,     108,          1,         34,       2034,2,20160615,       1856,   -15.0029,  -170.0000,       4830,    50.7,  28.0080,  35.0280,2,  35.3585,2,    198.5,2,   195.0,2,    0.63,2,   -0.02,4,    0.00,4,    0.20,2,   1.508,6,   0.979,6,   1.221,6,  1991.2,6,  2326.6,6,-999.0000,9,  -999.00,-999.0000,9, -999.00,9, -999.00,9,  -999.0,9,  -999.0, -999.00,9, -999.00,9,    0.50,2,    0.01,3,  27.9960, -999.00
096U20160426,       P15S,     108,          1,         33,       2033,2,20160615,       1856,   -15.0029,  -170.0000,       4830,    75.1,  26.3260,  35.9900,2,  36.0198,2,    172.5,2,   169.0,2,    0.85,2,    1.73,2,    0.36,2,    0.42,2,-999.000,9,-999.000,9,-999.000,9,  2066.5,2,  2371.3,6,-999.0000,9,  -999.00,-999.0000,9, -999.00,9, -999.00,9,  -999.0,9,  -999.0, -999.00,9, -999.00,9,    1.77,2,    0.08,3,  26.3090, -999.00
096U20160426,       P15S,     108,          1,         32,       2032,2,20160615,       1856,   -15.0029,  -170.0000,       4830,    99.9,  24.9190,  36.1270,2,  36.1360,2,    161.2,2,   158.4,2,    0.94,2,    3.81,2,    0.21,2,    0.51,2,   1.698,2,   1.107,2,   1.162,2,  2091.0,2,  2376.3,2,-999.0000,9,  -999.00,-999.0000,9, -999.00,9, -999.00,9,  -999.0,9,  -999.0, -999.00,9, -999.00,9,    0.66,2,    0.08,3,  24.8973, -999.00
096U20160426,       P15S,     108,          1,         31,       2031,2,20160615,       1856,   -15.0029,  -170.0000,       4830,   152.3,  22.5570,  36.0740,2,  36.0368,2,    156.0,2,   156.7,2,    0.92,2,    5.55,2,    0.02,4,    0.58,2,-999.000,9,-999.000,9,-999.000,9,  2110.0,2,  2371.9,2,-999.0000,9,  -999.00,-999.0000,9, -999.00,9, -999.00,9,  -999.0,9,  -999.0, -999.00,9, -999.00,9, -999.00,9, -999.00,9,  22.5262, -999.00
096U20160426,       P15S,     108,          1,         30,       2030,2,20160615,       1856,   -15.0029,  -170.0000,       4830,   203.1,  20.1260,  35.7740,2,  35.7422,2,    157.9,2,   157.2,2,    1.48,2,    7.10,2,    0.01,4,    0.70,2,   2.076,2,   1.303,2,   1.239,2,  2125.3,2,  2352.9,2,-999.0000,9,  -999.00,-999.0000,9, -999.00,9, -999.00,9,  -999.0,9,  -999.0, -999.00,9, -999.00,9, -999.00,9, -999.00,9,  20.0881, -999.00
096U20160426,       P15S,     108,          1,         29,       2029,2,20160615,       1856,   -15.0029,  -170.0000,       4830,   252.0,  18.3220,  35.4950,2,  35.3931,2,    155.7,2,   150.4,2,    2.98,2,    9.91,2,    0.01,4,    0.91,2,   2.170,2,   1.326,2,   1.068,2,  2134.1,2,  2329.3,2,-999.0000,9,  -999.00,-999.0000,9, -999.00,9, -999.00,9,  -999.0,9,  -999.0, -999.00,9, -999.00,9, -999.00,9, -999.00,9,  18.2780, -999.00
096U20160426,       P15S,     108,          1,         28,       2028,2,20160615,       1856,   -15.0029,  -170.0000,       4830,   301.9,  15.5180,  35.1380,2,  35.0535,2,    143.0,2,   140.5,2,    5.59,2,   13.94,2,    0.00,4,    1.19,2,-999.000,9,-999.000,9,-999.000,9,  2148.8,2,  2310.4,2,-999.0000,9,  -999.00,-999.0000,9, -999.00,9, -999.00,9,  -999.0,9,  -999.0, -999.00,9, -999.00,9, -999.00,9, -999.00,9,  15.4710, -999.00
096U20160426,       P15S,     108,          1,         27,       2027,2,20160615,       1856,   -15.0029,  -170.0000,       4830,   352.8,  12.5420,  34.8240,2,  34.8026,2,    122.6,2,   120.6,2,   10.26,2,   19.66,2,    0.00,4,    1.58,2,   1.802,2,   1.021,2,   0.581,2,  2173.2,2,  2298.3,2,-999.0000,9,  -999.00,-999.0000,9, -999.00,9, -999.00,9,  -999.0,9,  -999.0, -999.00,9, -999.00,9, -999.00,9, -999.00,9,  12.4944, -999.00
096U20160426,       P15S,     108,          1,         26,       2026,2,20160615,       1856,   -15.0029,  -170.0000,       4830,   402.8,  10.7440,  34.6830,2,  34.6730,2,    124.1,2,   122.1,2,   13.89,2,   23.00,2,    0.00,4,    1.77,2,-999.000,9,-999.000,9,-999.000,9,  2186.0,2,  2294.2,2,-999.0000,9,  -999.00,-999.0000,9, -999.00,9, -999.00,9,  -999.0,9,  -999.0, -999.00,9, -999.00,9, -999.00,9, -999.00,9,  10.6948, -999.00
096U20160426,       P15S,     108,          1,         25,       2025,2,20160615,       1856,   -15.0029,  -170.0000,       4830,   501.7,   8.2170,  34.5180,2,  34.5073,2,    140.3,2,   140.6,2,   20.62,2,   27.67,2,    0.00,4,    1.99,2,   1.008,2,   0.530,2,    0.13,2,  2197.8,2,  2292.8,2,-999.0000,9,  -999.00,-999.0000,9, -999.00,9, -999.00,9,  -999.0,9,  -999.0, -999.00,9, -999.00,9, -999.00,9, -999.00,9,   8.1648, -999.00
096U20160426,       P15S,     108,          1,         24,       2024,2,20160615,       1856,   -15.0029,  -170.0000,       4830,   601.3,   6.3150,  34.4470,2,  34.4449,2,    156.1,2,   155.7,2,   28.66,2,   30.18,2,    0.00,4,    2.11,2,   0.617,6,   0.321,6,   0.049,6,  2205.1,2,  2299.0,6,-999.0000,9,  -999.00,-999.0000,9, -999.00,9, -999.00,9,  -999.0,9,  -999.0, -999.00,9, -999.00,9, -999.00,9, -999.00,9,   6.2606, -999.00
096U20160426,       P15S,     108,          1,         23,       2023,2,20160615,       1856,   -15.0029,  -170.0000,       4830,   700.5,   5.5810,  34.4430,2,  34.4437,2,    156.2,2,   154.8,2,   38.20,2,   31.83,2,    0.00,4,    2.22,2,-999.000,9,-999.000,9,-999.000,9,  2216.8,2,  2308.2,2,-999.0000,9,  -999.00,-999.0000,9, -999.00,9, -999.00,9,  -999.0,9,  -999.0, -999.00,9, -999.00,9, -999.00,9, -999.00,9,   5.5211, -999.00
096U20160426,       P15S,     108,          1,         22,       2022,2,20160615,       1856,   -15.0029,  -170.0000,       4830,   803.4,   4.8960,  34.4700,2,  34.4679,2,    147.8,2,   147.1,2,   50.67,2,   33.48,2,    0.00,4,    2.34,2,   0.182,2,   0.099,2,       0,2,  2237.3,2,  2320.6,2,-999.0000,9,  -999.00,-999.0000,9, -999.00,9, -999.00,9,  -999.0,9,  -999.0, -999.00,9, -999.00,9, -999.00,9, -999.00,9,   4.8309, -999.00
096U20160426,       P15S,     108,          1,         21,       2021,2,20160615,       1856,   -15.0029,  -170.0000,       4830,   902.3,   4.4320,  34.4900,2,  34.4890,2,    142.1,2,   141.0,2,   60.33,2,   34.56,2,    0.00,4,    2.42,2,-999.000,9,-999.000,9,-999.000,9,  2250.9,2,  2329.7,2,-999.0000,9,  -999.00,-999.0000,9, -999.00,9, -999.00,9,  -999.0,9,  -999.0, -999.00,9, -999.00,9, -999.00,9, -999.00,9,   4.3614, -999.00
096U20160426,       P15S,     108,          1,         20,       2020,2,20160615,       1856,   -15.0029,  -170.0000,       4830,  1002.4,   4.0720,  34.5090,2,  34.5081,2,    139.4,2,   138.6,2,   68.40,2,   35.11,2,    0.00,4,    2.46,2,   0.040,2,   0.023,2,       0,2,  2258.5,2,  2338.2,2,-999.0000,9,  -999.00,-999.0000,9, -999.00,9, -999.00,9,  -999.0,9,  -999.0, -999.00,9, -999.00,9, -999.00,9, -999.00,9,   3.9956, -999.00
096U20160426,       P15S,     108,          1,         19,       2019,2,20160615,       1856,   -15.0029,  -170.0000,       4830,  1101.8,   3.7040,  34.5290,2,  34.5279,2,    138.3,2,   137.3,2,   76.82,2,   35.47,2,    0.00,4,    2.50,2,-999.000,9,-999.000,9,-999.000,9,  2266.9,2,  2348.2,2,-999.0000,9,  -999.00,-999.0000,9, -999.00,9, -999.00,9,  -999.0,9,  -999.0, -999.00,9, -999.00,9, -999.00,9, -999.00,9,   3.6222, -999.00
096U20160426,       P15S,     108,          1,         18,       2018,2,20160615,       1856,   -15.0029,  -170.0000,       4830,  1201.6,   3.4550,  34.5440,2,  34.5430,2,    137.9,2,   137.4,2,   82.56,2,   35.71,2,    0.00,4,    2.51,2,   0.012,2,   0.008,2,       0,2,  2277.9,2,  2355.1,2,-999.0000,9,  -999.00,-999.0000,9, -999.00,9, -999.00,9,  -999.0,9,  -999.0, -999.00,9, -999.00,9, -999.00,9, -999.00,9,   3.3672, -999.00
096U20160426,       P15S,     108,          1,         17,       2017,2,20160615,       1856,   -15.0029,  -170.0000,       4830,  1301.7,   3.2220,  34.5590,2,  34.5580,2,    138.3,2,   137.6,2,   88.14,2,   35.86,2,    0.00,4,    2.52,2,-999.000,9,-999.000,9,-999.000,9,  -999.0,9,  -999.0,9,-999.0000,9,  -999.00,-999.0000,9, -999.00,9, -999.00,9,  -999.0,9,  -999.0, -999.00,9, -999.00,9, -999.00,9, -999.00,9,   3.1282, -999.00
096U20160426,       P15S,     108,          1,         16,       2016,2,20160615,       1856,   -15.0029,  -170.0000,       4830,  1401.1,   3.0000,  34.5730,2,  34.5726,2,    139.7,2,   139.3,2,   93.08,2,   35.82,2,    0.00,4,    2.53,2,-999.000,9,-999.000,9,-999.000,9,  2287.7,6,  2367.1,6,-999.0000,9,  -999.00,-999.0000,9, -999.00,9, -999.00,9,  -999.0,9,  -999.0, -999.00,9, -999.00,9, -999.00,9, -999.00,9,   2.9003, -999.00
096U20160426,       P15S,     108,          1,         15,       2015,2,20160615,       1856,   -15.0029,  -170.0000,       4830,  1501.8,   2.8190,  34.5850,2,  34.5850,2,    140.9,2,   141.5,2,   97.47,2,   35.82,2,    0.00,4,    2.52,2,   0.002,2,   0.002,2,       0,2,  2290.7,2,  2372.3,2,-999.0000,9,  -999.00,-999.0000,9, -999.00,9, -999.00,9,  -999.0,9,  -999.0, -999.00,9, -999.00,9, -999.00,9, -999.00,9,   2.7131, -999.00
096U20160426,       P15S,     108,          1,         14,       2014,2,20160615,       1856,   -15.0029,  -170.0000,       4830,  1600.6,   2.6720,  34.5950,2,  34.5956,2,    142.7,2,   143.6,2,  100.54,2,   35.71,2,    0.00,4,    2.51,2,-999.000,9,-999.000,9,-999.000,9,  2294.2,2,  2375.9,2,-999.0000,9,  -999.00,-999.0000,9, -999.00,9, -999.00,9,  -999.0,9,  -999.0, -999.00,9, -999.00,9, -999.00,9, -999.00,9,   2.5596, -999.00
096U20160426,       P15S,     108,          1,         13,       2013,2,20160615,       1856,   -15.0029,  -170.0000,       4830,  1800.8,   2.3810,  34.6170,2,  34.6163,2,    145.9,2,   148.3,2,  107.78,2,   35.56,2,    0.00,4,    2.50,2,   0.001,2,   0.003,2,   0.036,3,  2299.1,2,  2384.0,6,-999.0000,9,  -999.00,-999.0000,9, -999.00,9, -999.00,9,  -999.0,9,  -999.0, -999.00,9, -999.00,9, -999.00,9, -999.00,9,   2.2557, -999.00
096U20160426,       P15S,     108,          1,         12,       2012,2,20160615,       1856,   -15.0029,  -170.0000,       4830,  2000.7,   2.1880,  34.6330,2,  34.6313,2,    148.2,2,   148.2,2,  112.72,2,   35.46,2,    0.00,4,    2.49,2,-999.000,9,-999.000,9,-999.000,9,  2302.3,2,  2390.4,2,-999.0000,9,  -999.00,-999.0000,9, -999.00,9, -999.00,9,  -999.0,9,  -999.0, -999.00,9, -999.00,9, -999.00,9, -999.00,9,   2.0486, -999.00
096U20160426,       P15S,     108,          1,         11,       2011,2,20160615,       1856,   -15.0029,  -170.0000,       4830,  2251.4,   2.0140,  34.6490,2,  34.6469,2,    149.7,2,   149.6,2,  118.06,2,   35.39,2,    0.00,4,    2.48,2,  -0.001,2,   0.000,2,       0,2,  2306.1,2,  2395.5,2,-999.0000,9,  -999.00,-999.0000,9, -999.00,9, -999.00,9,  -999.0,9,  -999.0, -999.00,9, -999.00,9, -999.00,9, -999.00,9,   1.8557, -999.00
096U20160426,       P15S,     108,          1,         10,       2010,2,20160615,       1856,   -15.0029,  -170.0000,       4830,  2501.2,   1.9010,  34.6600,2,  34.6580,2,    150.6,2,   150.6,2,  122.29,2,   35.32,2,    0.00,4,    2.48,2,   0.001,2,   0.000,2,       0,2,  2313.4,2,  2401.2,2,-999.0000,9,  -999.00,-999.0000,9, -999.00,9, -999.00,9,  -999.0,9,  -999.0, -999.00,9, -999.00,9, -999.00,9, -999.00,9,   1.7224, -999.00
096U20160426,       P15S,     108,          1,          9,       2009,2,20160615,       1856,   -15.0029,  -170.0000,       4830,  2750.3,   1.7930,  34.6690,2,  34.6676,2,    152.8,2,   153.2,2,  125.38,2,   35.15,2,    0.00,4,    2.47,2,-999.000,9,-999.000,9,-999.000,9,  -999.0,9,  -999.0,9,-999.0000,9,  -999.00,-999.0000,9, -999.00,9, -999.00,9,  -999.0,9,  -999.0, -999.00,9, -999.00,9, -999.00,9, -999.00,9,   1.5935, -999.00
096U20160426,       P15S,     108,          1,          8,       2008,2,20160615,       1856,   -15.0029,  -170.0000,       4830,  3001.0,   1.7020,  34.6750,2,  34.6741,2,    156.7,2,   156.8,2,  126.47,2,   34.98,2,    0.00,4,    2.45,2,   0.001,2,   0.000,2,       0,2,  2314.4,2,  2403.8,2,-999.0000,9,  -999.00,-999.0000,9, -999.00,9, -999.00,9,  -999.0,9,  -999.0, -999.00,9, -999.00,9, -999.00,9, -999.00,9,   1.4806, -999.00
096U20160426,       P15S,     108,          1,          7,       2007,2,20160615,       1856,   -15.0029,  -170.0000,       4830,  3300.8,   1.5990,  34.6820,2,  34.6802,2,    161.0,2,   160.9,2,  128.08,2,   34.70,2,    0.01,4,    2.43,2,-999.000,9,-999.000,9,-999.000,9,  -999.0,9,  -999.0,9,-999.0000,9,  -999.00,-999.0000,9, -999.00,9, -999.00,9,  -999.0,9,  -999.0, -999.00,9, -999.00,9, -999.00,9, -999.00,9,   1.3505, -999.00
096U20160426,       P15S,     108,          1,          6,       2006,2,20160615,       1856,   -15.0029,  -170.0000,       4830,  3601.2,   1.5170,  34.6890,2,  34.6882,2,    167.2,2,   167.6,2,  126.62,2,   34.23,2,    0.00,4,    2.40,2,-999.000,9,-999.000,9,-999.000,9,  2304.6,2,  2397.5,2,-999.0000,9,  -999.00,-999.0000,9, -999.00,9, -999.00,9,  -999.0,9,  -999.0, -999.00,9, -999.00,9, -999.00,9, -999.00,9,   1.2399, -999.00
096U20160426,       P15S,     108,          1,          5,       2005,2,20160615,       1856,   -15.0029,  -170.0000,       4830,  3901.8,   1.3750,  34.7090,2,  34.7075,2,    186.8,2,   188.6,2,  116.11,2,   32.48,2,    0.00,4,    2.27,2,   0.041,2,   0.023,2,       0,2,  2277.3,2,  2376.4,2,-999.0000,9,  -999.00,-999.0000,9, -999.00,9, -999.00,9,  -999.0,9,  -999.0, -999.00,9, -999.00,9, -999.00,9, -999.00,9,   1.0700, -999.00
096U20160426,       P15S,     108,          1,          4,       2004,2,20160615,       1856,   -15.0029,  -170.0000,       4830,  4200.4,   1.1810,  34.7150,2,  34.7140,2,    200.4,2,   201.9,2,  113.64,2,   31.64,2,    0.00,4,    2.20,2,-999.000,9,-999.000,9,-999.000,9,  -999.0,9,  -999.0,9,-999.0000,9,  -999.00,-999.0000,9, -999.00,9, -999.00,9,  -999.0,9,  -999.0, -999.00,9, -999.00,9, -999.00,9, -999.00,9,   0.8491, -999.00
096U20160426,       P15S,     108,          1,          3,       2003,2,20160615,       1856,   -15.0029,  -170.0000,       4830,  4500.5,   1.0800,  34.7120,2,  34.7112,2,    203.5,2,   205.1,2,  116.25,2,   31.68,2,    0.00,4,    2.20,2,   0.097,2,   0.050,2,       0,2,  2265.8,2,  2365.9,2,-999.0000,9,  -999.00,-999.0000,9, -999.00,9, -999.00,9,  -999.0,9,  -999.0, -999.00,9, -999.00,9, -999.00,9, -999.00,9,   0.7178, -999.00
096U20160426,       P15S,     108,          1,          2,       2002,2,20160615,       1856,   -15.0029,  -170.0000,       4830,  4750.1,   1.0700,  34.7110,2,  34.7096,2,    204.7,2,   205.5,2,  117.33,2,   31.74,2,    0.00,4,    2.20,2,-999.000,9,-999.000,9,-999.000,9,  -999.0,9,  -999.0,9,-999.0000,9,  -999.00,-999.0000,9, -999.00,9, -999.00,9,  -999.0,9,  -999.0, -999.00,9, -999.00,9, -999.00,9, -999.00,9,   0.6795, -999.00
096U20160426,       P15S,     108,          1,          1,       2001,2,20160615,       1856,   -15.0029,  -170.0000,       4830,  4892.2,   1.0870,  34.7100,2,  34.7109,2,    204.8,2,   206.2,2,  117.23,2,   31.71,2,    0.00,4,    2.20,2,   0.247,4,   0.307,4,   4.184,4,  2262.9,6,  2366.0,6,-999.0000,9,  -999.00,-999.0000,9, -999.00,9, -999.00,9,  -999.0,9,  -999.0, -999.00,9, -999.00,9, -999.00,9, -999.00,9,   0.6793, -999.00