BOTTLE,20230413CCHSIOENA
EXPOCODE,SECT_ID,STNNBR,CASTNO,SAMPNO,BTLNBR,BTLNBR_FLAG_W,DATE,TIME,LATITUDE,LONGITUDE,DEPTH,CTDPRS,CTDTMP,CTDSAL,CTDSAL_FLAG_W,SALNTY,SALNTY_FLAG_W,CTDOXY,CTDOXY_FLAG_W,OXYGEN,OXYGEN_FLAG_W,SILCAT,SILCAT_FLAG_W,NITRAT,NITRAT_FLAG_W,NITRIT,NITRIT_FLAG_W,PHSPHT,PHSPHT_FLAG_W,CFC-11,CFC-11_FLAG_W,CFC-12,CFC-12_FLAG_W,SF6,SF6_FLAG_W,TCARBN,TCARBN_FLAG_W,ALKALI,ALKALI_FLAG_W,PH_TOT,PH_TOT_FLAG_W,PH_TMP,HELIUM,HELIUM_FLAG_W,DELHE3,DELHE3_FLAG_W,DELC13,DELC13_FLAG_W,DELC14,DELC14_FLAG_W,C14ERR,POC,POC_FLAG_W,PON,PON_FLAG_W,CHLORA,CHLORA_FLAG_W,PPHYTN,PPHYTN_FLAG_W,THETA,DELHER
,,,,,,,,,,,METERS,DBAR,ITS-90,PSS-78,,PSS-78,,UMOL/KG,,UMOL/KG,,UMOL/KG,,UMOL/KG,,UMOL/KG,,UMOL/KG,,PMOL/KG,,PMOL/KG,,FMOL/KG,,UMOL/KG,,UMOL/KG,,,,DEG C,NMOL/KG,,PERCNT,,/MILLE,,/MILLE,,/MILLE,UG/KG,,UG/KG,,UG/KG,,UG/KG,,DEG C,PERCNT
096U20160426,       P15S,      71,          1,         36,       2036,2,20160603,       1131,   -33.9843,  -169.9947,       5567,     6.8,  19.1560,  35.7080,2,  35.7083,2,    229.0,2,   228.2,2,    0.14,4,    0.02,4,    0.00,4,    0.08,2,-999.000,9,-999.000,9,-999.000,9,  2061.2,2,  2340.7,2,-999.0000,9,  -999.00,-999.0000,9, -999.00,9, -999.00,9,  -999.0,9,  -999.0, -999.00,9, -999.00,9,    0.30,2,    0.02,3,  19.1548, -999.00
096U20160426,       P15S,      71,          1,         35,       2035,2,20160603,       1131,   -33.9843,  -169.9947,       5567,    35.3,  19.1670,  35.7080,2,  35.7084,2,    228.5,2,   228.3,2,    0.13,4,    0.00,4,    0.01,4,    0.08,2,-999.000,9,-999.000,9,-999.000,9,  -999.0,9,  -999.0,9,-999.0000,9,  -999.00,-999.0000,9, -999.00,9, -999.00,9,  -999.0,9,  -999.0, -999.00,9, -999.00,9,    0.36,2,   -0.03,3,  19.1607, -999.00
096U20160426,       P15S,      71,          1,         34,       2034,2,20160603,       1131,   -33.9843,  -169.9947,       5567,    59.6,  19.1720,  35.7090,2,  35.7083,2,    228.5,2,   228.3,2,    0.12,4,    0.01,4,    0.00,4,    0.08,2,-999.000,9,-999.000,9,-999.000,9,  -999.0,9,  -999.0,9,-999.0000,9,  -999.00,-999.0000,9, -999.00,9, -999.00,9,  -999.0,9,  -999.0, -999.00,9, -999.00,9,    0.33,2,    0.01,3,  19.1613, -999.00
096U20160426,       P15S,      71,          1,         33,       2033,2,20160603,       1131,   -33.9843,  -169.9947,       5567,    81.5,  19.2260,  35.7090,2,  35.7082,2,    228.2,2,   228.3,2,    0.12,4,    0.01,4,    0.00,4,    0.07,2,-999.000,9,-999.000,9,-999.000,9,  -999.0,9,  -999.0,9,-999.0000,9,  -999.00,-999.0000,9, -999.00,9, -999.00,9,  -999.0,9,  -999.0, -999.00,9, -999.00,9,    0.33,2,    0.00,3,  19.2113, -999.00
096U20160426,       P15S,      71,          1,         32,       2032,2,20160603,       1131,   -33.9843,  -169.9947,       5567,   100.3,  17.3970,  35.5070,2,  35.5078,2,    237.7,2,   236.0,2,    0.37,2,    0.28,2,    0.07,2,    0.17,2,-999.000,9,-999.000,9,-999.000,9,  -999.0,9,  -999.0,9,-999.0000,9,  -999.00,-999.0000,9, -999.00,9, -999.00,9,  -999.0,9,  -999.0, -999.00,9, -999.00,9,    0.78,2,    0.13,3,  17.3802, -999.00
096U20160426,       P15S,      71,          1,         31,       2031,2,20160603,       1131,   -33.9843,  -169.9947,       5567,   166.5,  14.9780,  35.3630,2,  35.3637,2,    217.3,2,   216.7,2,    1.16,2,    4.94,2,    0.01,4,    0.44,2,-999.000,9,-999.000,9,-999.000,9,  -999.0,9,  -999.0,9,-999.0000,9,  -999.00,-999.0000,9, -999.00,9, -999.00,9,  -999.0,9,  -999.0, -999.00,9, -999.00,9, -999.00,9, -999.00,9,  14.9528, -999.00
096U20160426,       P15S,      71,          1,         30,       2030,2,20160603,       1131,   -33.9843,  -169.9947,       5567,   214.0,  14.0530,  35.2670,2,  35.2622,2,    217.5,2,   217.2,2,    1.68,2,    6.38,2,    0.01,4,    0.53,2,-999.000,9,-999.000,9,-999.000,9,  -999.0,9,  -999.0,9,-999.0000,9,  -999.00,-999.0000,9, -999.00,9, -999.00,9,  -999.0,9,  -999.0, -999.00,9, -999.00,9, -999.00,9, -999.00,9,  14.0219, -999.00
096U20160426,       P15S,      71,          1,         29,       2029,2,20160603,       1131,   -33.9843,  -169.9947,       5567,   265.3,  13.0420,  35.1180,2,  35.1108,2,    217.3,2,   216.3,2,    2.00,2,    8.24,2,    0.01,4,    0.65,2,-999.000,9,-999.000,9,-999.000,9,  -999.0,9,  -999.0,9,-999.0000,9,  -999.00,-999.0000,9, -999.00,9, -999.00,9,  -999.0,9,  -999.0, -999.00,9, -999.00,9, -999.00,9, -999.00,9,  13.0053, -999.00
096U20160426,       P15S,      71,          1,         28,       2028,2,20160603,       1131,   -33.9843,  -169.9947,       5567,   314.6,  11.8490,  34.9590,2,  34.9567,2,    215.8,2,   216.1,2,    2.60,2,   10.94,2,    0.01,4,    0.81,2,-999.000,9,-999.000,9,-999.000,9,  -999.0,9,  -999.0,9,-999.0000,9,  -999.00,-999.0000,9, -999.00,9, -999.00,9,  -999.0,9,  -999.0, -999.00,9, -999.00,9, -999.00,9, -999.00,9,  11.8081, -999.00
096U20160426,       P15S,      71,          1,         27,       2027,2,20160603,       1131,   -33.9843,  -169.9947,       5567,   384.6,  10.3480,  34.7520,2,  34.7461,2,    209.4,2,   209.3,2,    3.79,2,   15.56,2,    0.01,4,    1.10,2,-999.000,9,-999.000,9,-999.000,9,  -999.0,9,  -999.0,9,-999.0000,9,  -999.00,-999.0000,9, -999.00,9, -999.00,9,  -999.0,9,  -999.0, -999.00,9, -999.00,9, -999.00,9, -999.00,9,  10.3021, -999.00
096U20160426,       P15S,      71,          1,         26,       2026,2,20160603,       1131,   -33.9843,  -169.9947,       5567,   434.9,   9.5380,  34.6560,2,  34.6523,2,    214.5,2,   214.4,2,    4.27,2,   17.16,2,    0.01,4,    1.20,2,-999.000,9,-999.000,9,-999.000,9,  -999.0,9,  -999.0,9,-999.0000,9,  -999.00,-999.0000,9, -999.00,9, -999.00,9,  -999.0,9,  -999.0, -999.00,9, -999.00,9, -999.00,9, -999.00,9,   9.4886, -999.00
096U20160426,       P15S,      71,          1,         25,       2025,2,20160603,       1131,   -33.9843,  -169.9947,       5567,   535.4,   8.0480,  34.4870,2,  34.4853,2,    229.2,2,   229.6,2,    5.16,2,   19.94,2,    0.01,4,    1.37,2,-999.000,9,-999.000,9,-999.000,9,  -999.0,9,  -999.0,9,-999.0000,9,  -999.00,-999.0000,9, -999.00,9, -999.00,9,  -999.0,9,  -999.0, -999.00,9, -999.00,9, -999.00,9, -999.00,9,   7.9928, -999.00
096U20160426,       P15S,      71,          1,         24,       2024,2,20160603,       1131,   -33.9843,  -169.9947,       5567,   690.7,   6.9970,  34.3850,2,  34.3850,2,    234.5,2,   234.9,2,    7.27,2,   22.52,2,    0.01,4,    1.54,2,-999.000,9,-999.000,9,-999.000,9,  2145.5,2,  2280.3,6,-999.0000,9,  -999.00,-999.0000,9, -999.00,9, -999.00,9,  -999.0,9,  -999.0, -999.00,9, -999.00,9, -999.00,9, -999.00,9,   6.9307, -999.00
096U20160426,       P15S,      71,          1,         23,       2023,2,20160603,       1131,   -33.9843,  -169.9947,       5567,   736.6,   6.6850,  34.3600,2,  34.3589,2,    235.3,2,   235.9,2,    8.16,2,   23.28,2,    0.00,4,    1.59,2,-999.000,9,-999.000,9,-999.000,9,  -999.0,9,  -999.0,9,-999.0000,9,  -999.00,-999.0000,9, -999.00,9, -999.00,9,  -999.0,9,  -999.0, -999.00,9, -999.00,9, -999.00,9, -999.00,9,   6.6158, -999.00
096U20160426,       P15S,      71,          1,         22,       2022,2,20160603,       1131,   -33.9843,  -169.9947,       5567,   835.6,   6.2510,  34.3380,2,  34.3387,2,    229.1,2,   229.5,2,   10.83,2,   24.83,2,    0.00,4,    1.69,2,-999.000,9,-999.000,9,-999.000,9,  -999.0,9,  -999.0,9,-999.0000,9,  -999.00,-999.0000,9, -999.00,9, -999.00,9,  -999.0,9,  -999.0, -999.00,9, -999.00,9, -999.00,9, -999.00,9,   6.1747, -999.00
096U20160426,       P15S,      71,          1,         21,       2021,2,20160603,       1131,   -33.9843,  -169.9947,       5567,   937.0,   5.7200,  34.3250,2,  34.3252,2,    218.7,2,   219.2,2,   15.66,2,   26.87,2,    0.00,4,    1.83,2,-999.000,9,-999.000,9,-999.000,9,  -999.0,9,  -999.0,9,-999.0000,9,  -999.00,-999.0000,9, -999.00,9, -999.00,9,  -999.0,9,  -999.0, -999.00,9, -999.00,9, -999.00,9, -999.00,9,   5.6375, -999.00
096U20160426,       P15S,      71,          1,         20,       2020,2,20160603,       1131,   -33.9843,  -169.9947,       5567,  1036.2,   5.2140,  34.3240,2,  34.3246,2,    209.3,2,   209.4,2,   21.49,2,   28.69,2,    0.00,4,    1.96,2,-999.000,9,-999.000,9,-999.000,9,  -999.0,9,  -999.0,9,-999.0000,9,  -999.00,-999.0000,9, -999.00,9, -999.00,9,  -999.0,9,  -999.0, -999.00,9, -999.00,9, -999.00,9, -999.00,9,   5.1260, -999.00
096U20160426,       P15S,      71,          1,         19,       2019,2,20160603,       1131,   -33.9843,  -169.9947,       5567,  1136.8,   4.5400,  34.3370,2,  34.3375,2,    198.5,2,   198.3,2,   30.57,2,   30.69,2,    0.00,4,    2.10,2,-999.000,9,-999.000,9,-999.000,9,  -999.0,9,  -999.0,9,-999.0000,9,  -999.00,-999.0000,9, -999.00,9, -999.00,9,  -999.0,9,  -999.0, -999.00,9, -999.00,9, -999.00,9, -999.00,9,   4.4484, -999.00
096U20160426,       P15S,      71,          1,         18,       2018,2,20160603,       1131,   -33.9843,  -169.9947,       5567,  1236.8,   3.9320,  34.3700,2,  34.3695,2,    188.4,2,   188.5,2,   41.10,2,   32.28,2,    0.00,4,    2.22,2,-999.000,9,-999.000,9,-999.000,9,  -999.0,9,  -999.0,9,-999.0000,9,  -999.00,-999.0000,9, -999.00,9, -999.00,9,  -999.0,9,  -999.0, -999.00,9, -999.00,9, -999.00,9, -999.00,9,   3.8371, -999.00
096U20160426,       P15S,      71,          1,         17,       2017,2,20160603,       1131,   -33.9843,  -169.9947,       5567,  1335.6,   3.4710,  34.4150,2,  34.4161,2,    180.0,2,   179.7,2,   52.10,2,   33.31,2,    0.00,4,    2.30,2,-999.000,9,-999.000,9,-999.000,9,  -999.0,9,  -999.0,9,-999.0000,9,  -999.00,-999.0000,9, -999.00,9, -999.00,9,  -999.0,9,  -999.0, -999.00,9, -999.00,9, -999.00,9, -999.00,9,   3.3722, -999.00
096U20160426,       P15S,      71,          1,         16,       2016,2,20160603,       1131,   -33.9843,  -169.9947,       5567,  1465.1,   3.0920,  34.4800,2,  34.4815,2,    170.5,2,   169.7,2,   65.61,2,   34.03,2,    0.00,4,    2.36,2,-999.000,9,-999.000,9,-999.000,9,  -999.0,9,  -999.0,9,-999.0000,9,  -999.00,-999.0000,9, -999.00,9, -999.00,9,  -999.0,9,  -999.0, -999.00,9, -999.00,9, -999.00,9, -999.00,9,   2.9862, -999.00
096U20160426,       P15S,      71,          1,         15,       2015,2,20160603,       1131,   -33.9843,  -169.9947,       5567,  1667.5,   2.7210,  34.5570,2,  34.5569,2,    160.4,2,   159.5,2,   83.47,2,   34.56,2,    0.00,4,    2.41,2,-999.000,9,-999.000,9,-999.000,9,  -999.0,9,  -999.0,9,-999.0000,9,  -999.00,-999.0000,9, -999.00,9, -999.00,9,  -999.0,9,  -999.0, -999.00,9, -999.00,9, -999.00,9, -999.00,9,   2.6026, -999.00
096U20160426,       P15S,      71,          1,         14,       2014,2,20160603,       1131,   -33.9843,  -169.9947,       5567,  1869.8,   2.4740,  34.6030,2,  34.6032,2,    153.8,2,   154.3,2,   97.28,2,   34.73,2,    0.00,4,    2.43,2,-999.000,9,-999.000,9,-999.000,9,  -999.0,9,  -999.0,9,-999.0000,9,  -999.00,-999.0000,9, -999.00,9, -999.00,9,  -999.0,9,  -999.0, -999.00,9, -999.00,9, -999.00,9, -999.00,9,   2.3417, -999.00
096U20160426,       P15S,      71,          1,         13,       2013,2,20160603,       1131,   -33.9843,  -169.9947,       5567,  2087.1,   2.2960,  34.6260,2,  34.6252,2,    150.8,2,   150.1,2,  107.52,2,   35.19,2,    0.00,4,    2.47,2,-999.000,9,-999.000,9,-999.000,9,  -999.0,9,  -999.0,9,-999.0000,9,  -999.00,-999.0000,9, -999.00,9, -999.00,9,  -999.0,9,  -999.0, -999.00,9, -999.00,9, -999.00,9, -999.00,9,   2.1475, -999.00
096U20160426,       P15S,      71,          1,         12,       2012,2,20160603,       1131,   -33.9843,  -169.9947,       5567,  2337.2,   2.1560,  34.6400,2,  34.6402,2,    149.0,2,   148.2,2,  114.24,2,   35.45,2,    0.00,4,    2.48,2,-999.000,9,-999.000,9,-999.000,9,  -999.0,9,  -999.0,9,-999.0000,9,  -999.00,-999.0000,9, -999.00,9, -999.00,9,  -999.0,9,  -999.0, -999.00,9, -999.00,9, -999.00,9, -999.00,9,   1.9877, -999.00
096U20160426,       P15S,      71,          1,         11,       2011,2,20160603,       1131,   -33.9843,  -169.9947,       5567,  2585.7,   2.0250,  34.6520,2,  34.6521,2,    148.7,2,   147.9,2,  119.80,2,   35.55,2,    0.00,4,    2.49,2,-999.000,9,-999.000,9,-999.000,9,  2308.9,6,  2397.1,6,-999.0000,9,  -999.00,-999.0000,9, -999.00,9, -999.00,9,  -999.0,9,  -999.0, -999.00,9, -999.00,9, -999.00,9, -999.00,9,   1.8363, -999.00
096U20160426,       P15S,      71,          1,         10,       2010,2,20160603,       1131,   -33.9843,  -169.9947,       5567,  2834.5,   1.9160,  34.6630,2,  34.6629,2,    150.9,2,   150.1,2,  122.47,2,   35.43,2,    0.00,4,    2.48,2,-999.000,9,-999.000,9,-999.000,9,  -999.0,9,  -999.0,9,-999.0000,9,  -999.00,-999.0000,9, -999.00,9, -999.00,9,  -999.0,9,  -999.0, -999.00,9, -999.00,9, -999.00,9, -999.00,9,   1.7061, -999.00
096U20160426,       P15S,      71,          1,          9,       2009,2,20160603,       1131,   -33.9843,  -169.9947,       5567,  3100.9,   1.7910,  34.6790,2,  34.6787,2,    158.6,2,   158.7,2,  120.69,2,   34.71,2,    0.00,4,    2.43,2,-999.000,9,-999.000,9,-999.000,9,  -999.0,9,  -999.0,9,-999.0000,9,  -999.00,-999.0000,9, -999.00,9, -999.00,9,  -999.0,9,  -999.0, -999.00,9, -999.00,9, -999.00,9, -999.00,9,   1.5579, -999.00
096U20160426,       P15S,      71,          1,          8,       2008,2,20160603,       1131,   -33.9843,  -169.9947,       5567,  3401.3,   1.6480,  34.7050,2,  34.7055,2,    177.6,2,   178.6,2,  111.12,2,   32.97,2,    0.00,4,    2.29,2,-999.000,9,-999.000,9,-999.000,9,  -999.0,9,  -999.0,9,-999.0000,9,  -999.00,-999.0000,9, -999.00,9, -999.00,9,  -999.0,9,  -999.0, -999.00,9, -999.00,9, -999.00,9, -999.00,9,   1.3881, -999.00
096U20160426,       P15S,      71,          1,          7,       2007,2,20160603,       1131,   -33.9843,  -169.9947,       5567,  3735.9,   1.4450,  34.7200,2,  34.7192,2,    193.3,2,   194.3,2,  107.28,2,   31.83,2,    0.00,4,    2.20,2,-999.000,9,-999.000,9,-999.000,9,  -999.0,9,  -999.0,9,-999.0000,9,  -999.00,-999.0000,9, -999.00,9, -999.00,9,  -999.0,9,  -999.0, -999.00,9, -999.00,9, -999.00,9, -999.00,9,   1.1556, -999.00
096U20160426,       P15S,      71,          1,          6,       2006,2,20160603,       1131,   -33.9843,  -169.9947,       5567,  4137.0,   1.2010,  34.7170,2,  34.7155,2,    201.1,2,   202.0,2,  112.23,2,   31.80,2,    0.00,4,    2.19,2,-999.000,9,-999.000,9,-999.000,9,  -999.0,9,  -999.0,9,-999.0000,9,  -999.00,-999.0000,9, -999.00,9, -999.00,9,  -999.0,9,  -999.0, -999.00,9, -999.00,9, -999.00,9, -999.00,9,   0.8755, -999.00
096U20160426,       P15S,      71,          1,          5,       2005,2,20160603,       1131,   -33.9843,  -169.9947,       5567,  4535.6,   1.0820,  34.7120,2,  34.7117,2,    204.6,2,   204.9,2,  116.24,2,   31.95,2,    0.01,4,    2.20,2,-999.000,9,-999.000,9,-999.000,9,  -999.0,9,  -999.0,9,-999.0000,9,  -999.00,-999.0000,9, -999.00,9, -999.00,9,  -999.0,9,  -999.0, -999.00,9, -999.00,9, -999.00,9, -999.00,9,   0.7158, -999.00
096U20160426,       P15S,      71,          1,          4,       2004,2,20160603,       1131,   -33.9843,  -169.9947,       5567,  4935.8,   1.0590,  34.7090,2,  34.7094,2,    206.5,2,   206.0,2,  118.20,2,   32.03,2,    0.00,4,    2.21,2,-999.000,9,-999.000,9,-999.000,9,  -999.0,9,  -999.0,9,-999.0000,9,  -999.00,-999.0000,9, -999.00,9, -999.00,9,  -999.0,9,  -999.0, -999.00,9, -999.00,9, -999.00,9, -999.00,9,   0.6471, -999.00
096U20160426,       P15S,      71,          1,          3,       2003,2,20160603,       1131,   -33.9843,  -169.9947,       5567,  5334.9,   1.0880,  34.7080,2,  34.7081,2,    207.1,2,   206.0,2,  118.62,2,   32.08,2,    0.00,4,    2.21,2,-999.000,9,-999.000,9,-999.000,9,  2264.0,2,  2365.5,2,-999.0000,9,  -999.00,-999.0000,9, -999.00,9, -999.00,9,  -999.0,9,  -999.0, -999.00,9, -999.00,9, -999.00,9, -999.00,9,   0.6268, -999.00
096U20160426,       P15S,      71,          1,          2,       2002,2,20160603,       1131,   -33.9843,  -169.9947,       5567,  5501.3,   1.1060,  34.7080,2,  34.7077,2,    207.5,2,   206.1,2,  118.49,2,   32.08,2,    0.00,4,    2.21,2,-999.000,9,-999.000,9,-999.000,9,  -999.0,9,  -999.0,9,-999.0000,9,  -999.00,-999.0000,9, -999.00,9, -999.00,9,  -999.0,9,  -999.0, -999.00,9, -999.00,9, -999.00,9, -999.00,9,   0.6234, -999.00
096U20160426,       P15S,      71,          1,          1,       2001,2,20160603,       1131,   -33.9843,  -169.9947,       5567,  5639.6,   1.1230,  34.7080,2,  34.7083,2,    207.8,2,   206.2,2,  118.68,2,   32.06,2,    0.00,4,    2.21,2,-999.000,9,-999.000,9,-999.000,9,  -999.0,9,  -999.0,9,-999.0000,9,  -999.00,-999.0000,9, -999.00,9, -999.00,9,  -999.0,9,  -999.0, -999.00,9, -999.00,9, -999.00,9, -999.00,9,   0.6223, -999.00