BOTTLE,20230413CCHSIOENA
EXPOCODE,SECT_ID,STNNBR,CASTNO,SAMPNO,BTLNBR,BTLNBR_FLAG_W,DATE,TIME,LATITUDE,LONGITUDE,DEPTH,CTDPRS,CTDTMP,CTDSAL,CTDSAL_FLAG_W,SALNTY,SALNTY_FLAG_W,CTDOXY,CTDOXY_FLAG_W,OXYGEN,OXYGEN_FLAG_W,SILCAT,SILCAT_FLAG_W,NITRAT,NITRAT_FLAG_W,NITRIT,NITRIT_FLAG_W,PHSPHT,PHSPHT_FLAG_W,CFC-11,CFC-11_FLAG_W,CFC-12,CFC-12_FLAG_W,SF6,SF6_FLAG_W,TCARBN,TCARBN_FLAG_W,ALKALI,ALKALI_FLAG_W,PH_TOT,PH_TOT_FLAG_W,PH_TMP,HELIUM,HELIUM_FLAG_W,DELHE3,DELHE3_FLAG_W,DELC13,DELC13_FLAG_W,DELC14,DELC14_FLAG_W,C14ERR,POC,POC_FLAG_W,PON,PON_FLAG_W,CHLORA,CHLORA_FLAG_W,PPHYTN,PPHYTN_FLAG_W,THETA,DELHER
,,,,,,,,,,,METERS,DBAR,ITS-90,PSS-78,,PSS-78,,UMOL/KG,,UMOL/KG,,UMOL/KG,,UMOL/KG,,UMOL/KG,,UMOL/KG,,PMOL/KG,,PMOL/KG,,FMOL/KG,,UMOL/KG,,UMOL/KG,,,,DEG C,NMOL/KG,,PERCNT,,/MILLE,,/MILLE,,/MILLE,UG/KG,,UG/KG,,UG/KG,,UG/KG,,DEG C,PERCNT
096U20160426,       P15S,      93,          1,         36,       2036,2,20160611,       1232,   -22.4992,  -170.0001,       5664,     6.3,  24.6750,  35.6790,2,  35.6768,2,    208.4,2,   207.6,2,    0.22,2,   -0.04,4,    0.00,4,    0.11,2,-999.000,9,-999.000,9,-999.000,9,  2006.4,2,  2345.4,2,-999.0000,9,  -999.00,-999.0000,9, -999.00,9, -999.00,9,  -999.0,9,  -999.0, -999.00,9, -999.00,9,    0.28,2,    0.01,3,  24.6736, -999.00
096U20160426,       P15S,      93,          1,         35,       2035,2,20160611,       1232,   -22.4992,  -170.0001,       5664,    27.0,  24.6760,  35.6790,2,  35.6769,2,    208.4,2,   207.6,2,    0.22,2,   -0.04,4,    0.00,4,    0.11,2,-999.000,9,-999.000,9,-999.000,9,  -999.0,9,  -999.0,9,-999.0000,9,  -999.00,-999.0000,9, -999.00,9, -999.00,9,  -999.0,9,  -999.0, -999.00,9, -999.00,9,    0.18,2,    0.07,3,  24.6702, -999.00
096U20160426,       P15S,      93,          1,         34,       2034,2,20160611,       1232,   -22.4992,  -170.0001,       5664,    51.4,  24.6750,  35.6780,2,  35.6754,2,    208.7,2,   207.6,2,    0.22,2,   -0.04,4,    0.00,4,    0.11,2,-999.000,9,-999.000,9,-999.000,9,  -999.0,9,  -999.0,9,-999.0000,9,  -999.00,-999.0000,9, -999.00,9, -999.00,9,  -999.0,9,  -999.0, -999.00,9, -999.00,9,    0.16,2,    0.10,3,  24.6639, -999.00
096U20160426,       P15S,      93,          1,         33,       2033,2,20160611,       1232,   -22.4992,  -170.0001,       5664,    92.6,  24.4530,  35.6740,2,  35.6873,2,    208.4,2,   208.6,2,    0.19,4,   -0.04,4,    0.00,4,    0.09,2,-999.000,9,-999.000,9,-999.000,9,  -999.0,9,  -999.0,9,-999.0000,9,  -999.00,-999.0000,9, -999.00,9, -999.00,9,  -999.0,9,  -999.0, -999.00,9, -999.00,9,    0.36,2,    0.11,3,  24.4332, -999.00
096U20160426,       P15S,      93,          1,         32,       2032,2,20160611,       1232,   -22.4992,  -170.0001,       5664,   121.7,  22.3900,  35.7470,2,  35.7506,2,    208.3,2,   203.7,2,    0.19,4,    0.19,2,    0.08,2,    0.13,2,-999.000,9,-999.000,9,-999.000,9,  2046.4,2,  2344.4,2,-999.0000,9,  -999.00,-999.0000,9, -999.00,9, -999.00,9,  -999.0,9,  -999.0, -999.00,9, -999.00,9,    0.47,2,    0.27,3,  22.3655, -999.00
096U20160426,       P15S,      93,          1,         31,       2031,2,20160611,       1232,   -22.4992,  -170.0001,       5664,   151.3,  21.2400,  35.7520,2,  35.7467,2,    193.5,2,   188.2,2,    0.30,2,    2.20,2,    0.03,2,    0.24,2,-999.000,9,-999.000,9,-999.000,9,  -999.0,9,  -999.0,9,-999.0000,9,  -999.00,-999.0000,9, -999.00,9, -999.00,9,  -999.0,9,  -999.0, -999.00,9, -999.00,9, -999.00,9, -999.00,9,  21.2107, -999.00
096U20160426,       P15S,      93,          1,         30,       2030,2,20160611,       1232,   -22.4992,  -170.0001,       5664,   201.1,  19.6780,  35.6580,2,  35.6463,2,    189.1,2,   190.2,2,    0.37,2,    2.95,2,    0.01,4,    0.28,2,-999.000,9,-999.000,9,-999.000,9,  -999.0,9,  -999.0,9,-999.0000,9,  -999.00,-999.0000,9, -999.00,9, -999.00,9,  -999.0,9,  -999.0, -999.00,9, -999.00,9, -999.00,9, -999.00,9,  19.6411, -999.00
096U20160426,       P15S,      93,          1,         29,       2029,2,20160611,       1232,   -22.4992,  -170.0001,       5664,   251.6,  18.6860,  35.6050,2,  35.5882,2,    193.0,2,   193.5,2,    0.61,2,    3.68,2,    0.01,4,    0.33,2,-999.000,9,-999.000,9,-999.000,9,  -999.0,9,  -999.0,9,-999.0000,9,  -999.00,-999.0000,9, -999.00,9, -999.00,9,  -999.0,9,  -999.0, -999.00,9, -999.00,9, -999.00,9, -999.00,9,  18.6414, -999.00
096U20160426,       P15S,      93,          1,         28,       2028,2,20160611,       1232,   -22.4992,  -170.0001,       5664,   301.5,  17.4040,  35.4580,2,  35.4026,2,    191.3,2,   189.8,2,    1.03,2,    5.37,2,    0.01,4,    0.46,2,-999.000,9,-999.000,9,-999.000,9,  -999.0,9,  -999.0,9,-999.0000,9,  -999.00,-999.0000,9, -999.00,9, -999.00,9,  -999.0,9,  -999.0, -999.00,9, -999.00,9, -999.00,9, -999.00,9,  17.3531, -999.00
096U20160426,       P15S,      93,          1,         27,       2027,2,20160611,       1232,   -22.4992,  -170.0001,       5664,   351.4,  15.6410,  35.2600,2,  35.2441,2,    189.1,2,   190.8,2,    1.60,2,    7.36,2,    0.01,4,    0.59,2,-999.000,9,-999.000,9,-999.000,9,  2102.0,2,  2311.2,2,-999.0000,9,  -999.00,-999.0000,9, -999.00,9, -999.00,9,  -999.0,9,  -999.0, -999.00,9, -999.00,9, -999.00,9, -999.00,9,  15.5859, -999.00
096U20160426,       P15S,      93,          1,         26,       2026,2,20160611,       1232,   -22.4992,  -170.0001,       5664,   401.1,  13.2940,  34.9390,2,  34.9259,2,    183.4,2,   183.5,2,    3.28,2,   12.06,2,    0.00,4,    0.92,2,-999.000,9,-999.000,9,-999.000,9,  -999.0,9,  -999.0,9,-999.0000,9,  -999.00,-999.0000,9, -999.00,9, -999.00,9,  -999.0,9,  -999.0, -999.00,9, -999.00,9, -999.00,9, -999.00,9,  13.2376, -999.00
096U20160426,       P15S,      93,          1,         25,       2025,2,20160611,       1232,   -22.4992,  -170.0001,       5664,   501.3,   9.7990,  34.6190,2,  34.5981,2,    199.9,2,   201.4,2,    5.40,2,   18.19,2,    0.00,4,    1.28,2,-999.000,9,-999.000,9,-999.000,9,  -999.0,9,  -999.0,9,-999.0000,9,  -999.00,-999.0000,9, -999.00,9, -999.00,9,  -999.0,9,  -999.0, -999.00,9, -999.00,9, -999.00,9, -999.00,9,   9.7409, -999.00
096U20160426,       P15S,      93,          1,         24,       2024,2,20160611,       1232,   -22.4992,  -170.0001,       5664,   624.9,   7.1270,  34.3840,2,  34.3787,2,    222.2,2,   225.8,2,    7.88,2,   22.80,2,    0.00,4,    1.55,2,-999.000,9,-999.000,9,-999.000,9,  2149.3,2,  2278.7,2,-999.0000,9,  -999.00,-999.0000,9, -999.00,9, -999.00,9,  -999.0,9,  -999.0, -999.00,9, -999.00,9, -999.00,9, -999.00,9,   7.0667, -999.00
096U20160426,       P15S,      93,          1,         23,       2023,2,20160611,       1232,   -22.4992,  -170.0001,       5664,   710.2,   6.3100,  34.3520,2,  34.3549,2,    198.9,2,   199.9,2,   15.44,2,   26.95,2,    0.00,4,    1.84,2,-999.000,9,-999.000,9,-999.000,9,  -999.0,9,  -999.0,9,-999.0000,9,  -999.00,-999.0000,9, -999.00,9, -999.00,9,  -999.0,9,  -999.0, -999.00,9, -999.00,9, -999.00,9, -999.00,9,   6.2454, -999.00
096U20160426,       P15S,      93,          1,         22,       2022,2,20160611,       1232,   -22.4992,  -170.0001,       5664,   800.4,   5.6280,  34.3250,2,  34.3251,2,    205.6,2,   207.4,2,   18.27,2,   28.00,2,    0.00,4,    1.90,2,-999.000,9,-999.000,9,-999.000,9,  -999.0,9,  -999.0,9,-999.0000,9,  -999.00,-999.0000,9, -999.00,9, -999.00,9,  -999.0,9,  -999.0, -999.00,9, -999.00,9, -999.00,9, -999.00,9,   5.5589, -999.00
096U20160426,       P15S,      93,          1,         21,       2021,2,20160611,       1232,   -22.4992,  -170.0001,       5664,   900.0,   4.9350,  34.3470,2,  34.3445,2,    187.8,2,   189.8,2,   28.59,2,   30.59,2,    0.00,4,    2.08,2,-999.000,9,-999.000,9,-999.000,9,  -999.0,9,  -999.0,9,-999.0000,9,  -999.00,-999.0000,9, -999.00,9, -999.00,9,  -999.0,9,  -999.0, -999.00,9, -999.00,9, -999.00,9, -999.00,9,   4.8613, -999.00
096U20160426,       P15S,      93,          1,         20,       2020,2,20160611,       1232,   -22.4992,  -170.0001,       5664,  1001.5,   4.4620,  34.4120,2,  34.4109,2,    163.7,2,   164.0,2,   45.27,2,   33.17,2,    0.00,4,    2.27,2,-999.000,9,-999.000,9,-999.000,9,  -999.0,9,  -999.0,9,-999.0000,9,  -999.00,-999.0000,9, -999.00,9, -999.00,9,  -999.0,9,  -999.0, -999.00,9, -999.00,9, -999.00,9, -999.00,9,   4.3828, -999.00
096U20160426,       P15S,      93,          1,         19,       2019,2,20160611,       1232,   -22.4992,  -170.0001,       5664,  1101.5,   4.0380,  34.4420,2,  34.4399,2,    159.0,2,   159.7,2,   54.81,2,   33.91,2,    0.00,4,    2.33,2,-999.000,9,-999.000,9,-999.000,9,  2235.5,2,  2321.3,2,-999.0000,9,  -999.00,-999.0000,9, -999.00,9, -999.00,9,  -999.0,9,  -999.0, -999.00,9, -999.00,9, -999.00,9, -999.00,9,   3.9536, -999.00
096U20160426,       P15S,      93,          1,         18,       2018,2,20160611,       1232,   -22.4992,  -170.0001,       5664,  1201.5,   3.5010,  34.4680,2,  34.4679,2,    160.1,2,   160.6,2,   64.45,2,   34.32,2,    0.00,4,    2.36,2,-999.000,9,-999.000,9,-999.000,9,  -999.0,9,  -999.0,9,-999.0000,9,  -999.00,-999.0000,9, -999.00,9, -999.00,9,  -999.0,9,  -999.0, -999.00,9, -999.00,9, -999.00,9, -999.00,9,   3.4129, -999.00
096U20160426,       P15S,      93,          1,         17,       2017,2,20160611,       1232,   -22.4992,  -170.0001,       5664,  1351.1,   2.9550,  34.5280,2,  34.5268,2,    156.6,2,   157.1,2,   79.96,2,   34.75,2,    0.00,4,    2.39,2,-999.000,9,-999.000,9,-999.000,9,  -999.0,9,  -999.0,9,-999.0000,9,  -999.00,-999.0000,9, -999.00,9, -999.00,9,  -999.0,9,  -999.0, -999.00,9, -999.00,9, -999.00,9, -999.00,9,   2.8600, -999.00
096U20160426,       P15S,      93,          1,         16,       2016,2,20160611,       1232,   -22.4992,  -170.0001,       5664,  1500.2,   2.7070,  34.5710,2,  34.5696,2,    150.8,2,   151.2,2,   92.46,2,   35.13,2,    0.00,4,    2.43,2,-999.000,9,-999.000,9,-999.000,9,  -999.0,9,  -999.0,9,-999.0000,9,  -999.00,-999.0000,9, -999.00,9, -999.00,9,  -999.0,9,  -999.0, -999.00,9, -999.00,9, -999.00,9, -999.00,9,   2.6025, -999.00
096U20160426,       P15S,      93,          1,         15,       2015,2,20160611,       1232,   -22.4992,  -170.0001,       5664,  1700.9,   2.4950,  34.6030,2,  34.6010,2,    146.8,2,   147.1,2,  103.25,2,   35.48,2,    0.00,4,    2.46,2,-999.000,9,-999.000,9,-999.000,9,  -999.0,9,  -999.0,9,-999.0000,9,  -999.00,-999.0000,9, -999.00,9, -999.00,9,  -999.0,9,  -999.0, -999.00,9, -999.00,9, -999.00,9, -999.00,9,   2.3766, -999.00
096U20160426,       P15S,      93,          1,         14,       2014,2,20160611,       1232,   -22.4992,  -170.0001,       5664,  1901.4,   2.3490,  34.6190,2,  34.6148,2,    145.4,2,   145.8,2,  109.45,2,   35.59,2,    0.00,4,    2.47,2,-999.000,9,-999.000,9,-999.000,9,  -999.0,9,  -999.0,9,-999.0000,9,  -999.00,-999.0000,9, -999.00,9, -999.00,9,  -999.0,9,  -999.0, -999.00,9, -999.00,9, -999.00,9, -999.00,9,   2.2157, -999.00
096U20160426,       P15S,      93,          1,         13,       2013,2,20160611,       1232,   -22.4992,  -170.0001,       5664,  2151.2,   2.1750,  34.6360,2,  34.6335,2,    145.2,2,   145.5,2,  115.79,2,   35.71,2,    0.00,4,    2.47,2,-999.000,9,-999.000,9,-999.000,9,  -999.0,9,  -999.0,9,-999.0000,9,  -999.00,-999.0000,9, -999.00,9, -999.00,9,  -999.0,9,  -999.0, -999.00,9, -999.00,9, -999.00,9, -999.00,9,   2.0228, -999.00
096U20160426,       P15S,      93,          1,         12,       2012,2,20160611,       1232,   -22.4992,  -170.0001,       5664,  2400.3,   2.0340,  34.6490,2,  34.6469,2,    145.0,2,   145.5,2,  121.52,2,   35.74,2,    0.00,4,    2.48,2,-999.000,9,-999.000,9,-999.000,9,  -999.0,9,  -999.0,9,-999.0000,9,  -999.00,-999.0000,9, -999.00,9, -999.00,9,  -999.0,9,  -999.0, -999.00,9, -999.00,9, -999.00,9, -999.00,9,   1.8621, -999.00
096U20160426,       P15S,      93,          1,         11,       2011,2,20160611,       1232,   -22.4992,  -170.0001,       5664,  2651.7,   1.9010,  34.6600,2,  34.6584,2,    145.2,2,   145.1,2,  127.11,2,   35.81,2,    0.00,4,    2.48,2,-999.000,9,-999.000,9,-999.000,9,  -999.0,9,  -999.0,9,-999.0000,9,  -999.00,-999.0000,9, -999.00,9, -999.00,9,  -999.0,9,  -999.0, -999.00,9, -999.00,9, -999.00,9, -999.00,9,   1.7086, -999.00
096U20160426,       P15S,      93,          1,         10,       2010,2,20160611,       1232,   -22.4992,  -170.0001,       5664,  2896.0,   1.8090,  34.6670,2,  34.6655,2,    147.1,2,   147.5,2,  129.65,2,   35.70,2,    0.00,4,    2.48,2,-999.000,9,-999.000,9,-999.000,9,  2319.8,2,  2406.4,2,-999.0000,9,  -999.00,-999.0000,9, -999.00,9, -999.00,9,  -999.0,9,  -999.0, -999.00,9, -999.00,9, -999.00,9, -999.00,9,   1.5954, -999.00
096U20160426,       P15S,      93,          1,          9,       2009,2,20160611,       1232,   -22.4992,  -170.0001,       5664,  3176.1,   1.6780,  34.6780,2,  34.6754,2,    153.2,2,   154.0,2,  130.33,2,   35.23,2,    0.00,4,    2.44,2,-999.000,9,-999.000,9,-999.000,9,  -999.0,9,  -999.0,9,-999.0000,9,  -999.00,-999.0000,9, -999.00,9, -999.00,9,  -999.0,9,  -999.0, -999.00,9, -999.00,9, -999.00,9, -999.00,9,   1.4401, -999.00
096U20160426,       P15S,      93,          1,          8,       2008,2,20160611,       1232,   -22.4992,  -170.0001,       5664,  3476.1,   1.5370,  34.7010,2,  34.6991,2,    173.3,2,   175.6,2,  118.80,2,   33.30,2,    0.00,4,    2.30,2,-999.000,9,-999.000,9,-999.000,9,  -999.0,9,  -999.0,9,-999.0000,9,  -999.00,-999.0000,9, -999.00,9, -999.00,9,  -999.0,9,  -999.0, -999.00,9, -999.00,9, -999.00,9, -999.00,9,   1.2722, -999.00
096U20160426,       P15S,      93,          1,          7,       2007,2,20160611,       1232,   -22.4992,  -170.0001,       5664,  3825.0,   1.3370,  34.7190,2,  34.7174,2,    193.7,2,   197.4,2,  110.33,2,   31.66,2,    0.00,4,    2.17,2,-999.000,9,-999.000,9,-999.000,9,  -999.0,9,  -999.0,9,-999.0000,9,  -999.00,-999.0000,9, -999.00,9, -999.00,9,  -999.0,9,  -999.0, -999.00,9, -999.00,9, -999.00,9, -999.00,9,   1.0411, -999.00
096U20160426,       P15S,      93,          1,          6,       2006,2,20160611,       1232,   -22.4992,  -170.0001,       5664,  4225.8,   1.1580,  34.7160,2,  34.7141,2,    200.4,2,   203.3,2,  113.92,2,   31.59,2,    0.00,4,    2.17,2,-999.000,9,-999.000,9,-999.000,9,  -999.0,9,  -999.0,9,-999.0000,9,  -999.00,-999.0000,9, -999.00,9, -999.00,9,  -999.0,9,  -999.0, -999.00,9, -999.00,9, -999.00,9, -999.00,9,   0.8240, -999.00
096U20160426,       P15S,      93,          1,          5,       2005,2,20160611,       1232,   -22.4992,  -170.0001,       5664,  4624.9,   1.0670,  34.7110,2,  34.7095,2,    203.6,2,   205.6,2,  117.28,2,   31.75,2,    0.00,4,    2.17,2,-999.000,9,-999.000,9,-999.000,9,  -999.0,9,  -999.0,9,-999.0000,9,  -999.00,-999.0000,9, -999.00,9, -999.00,9,  -999.0,9,  -999.0, -999.00,9, -999.00,9, -999.00,9, -999.00,9,   0.6911, -999.00
096U20160426,       P15S,      93,          1,          4,       2004,2,20160611,       1232,   -22.4992,  -170.0001,       5664,  5025.0,   1.0610,  34.7090,2,  34.7075,2,    205.6,2,   206.0,2,  118.79,2,   31.81,2,    0.00,4,    2.18,2,-999.000,9,-999.000,9,-999.000,9,  -999.0,9,  -999.0,9,-999.0000,9,  -999.00,-999.0000,9, -999.00,9, -999.00,9,  -999.0,9,  -999.0, -999.00,9, -999.00,9, -999.00,9, -999.00,9,   0.6384, -999.00
096U20160426,       P15S,      93,          1,          3,       2003,2,20160611,       1232,   -22.4992,  -170.0001,       5664,  5400.7,   1.0950,  34.7080,2,  34.7075,2,    207.0,2,   206.1,2,  119.09,2,   31.81,2,    0.00,4,    2.18,2,-999.000,9,-999.000,9,-999.000,9,  -999.0,9,  -999.0,9,-999.0000,9,  -999.00,-999.0000,9, -999.00,9, -999.00,9,  -999.0,9,  -999.0, -999.00,9, -999.00,9, -999.00,9, -999.00,9,   0.6254, -999.00
096U20160426,       P15S,      93,          1,          2,       2002,2,20160611,       1232,   -22.4992,  -170.0001,       5664,  5585.4,   1.1190,  34.7080,2,  34.7077,2,    207.6,2,   206.0,2,  119.13,2,   31.83,2,    0.00,4,    2.18,2,-999.000,9,-999.000,9,-999.000,9,  -999.0,9,  -999.0,9,-999.0000,9,  -999.00,-999.0000,9, -999.00,9, -999.00,9,  -999.0,9,  -999.0, -999.00,9, -999.00,9, -999.00,9, -999.00,9,   0.6253, -999.00
096U20160426,       P15S,      93,          1,          1,       2001,2,20160611,       1232,   -22.4992,  -170.0001,       5664,  5746.0,   1.1400,  34.7080,2,  34.7070,2,    207.8,2,   206.0,2,  119.21,2,   31.84,2,    0.00,4,    2.18,2,-999.000,9,-999.000,9,-999.000,9,  2263.9,2,  2365.8,2,-999.0000,9,  -999.00,-999.0000,9, -999.00,9, -999.00,9,  -999.0,9,  -999.0, -999.00,9, -999.00,9, -999.00,9, -999.00,9,   0.6250, -999.00