BOTTLE,20230413CCHSIOENA
EXPOCODE,SECT_ID,STNNBR,CASTNO,SAMPNO,BTLNBR,BTLNBR_FLAG_W,DATE,TIME,LATITUDE,LONGITUDE,DEPTH,CTDPRS,CTDTMP,CTDSAL,CTDSAL_FLAG_W,SALNTY,SALNTY_FLAG_W,CTDOXY,CTDOXY_FLAG_W,OXYGEN,OXYGEN_FLAG_W,SILCAT,SILCAT_FLAG_W,NITRAT,NITRAT_FLAG_W,NITRIT,NITRIT_FLAG_W,PHSPHT,PHSPHT_FLAG_W,CFC-11,CFC-11_FLAG_W,CFC-12,CFC-12_FLAG_W,SF6,SF6_FLAG_W,TCARBN,TCARBN_FLAG_W,ALKALI,ALKALI_FLAG_W,PH_TOT,PH_TOT_FLAG_W,PH_TMP,HELIUM,HELIUM_FLAG_W,DELHE3,DELHE3_FLAG_W,DELC13,DELC13_FLAG_W,DELC14,DELC14_FLAG_W,C14ERR,POC,POC_FLAG_W,PON,PON_FLAG_W,CHLORA,CHLORA_FLAG_W,PPHYTN,PPHYTN_FLAG_W,THETA,DELHER
,,,,,,,,,,,METERS,DBAR,ITS-90,PSS-78,,PSS-78,,UMOL/KG,,UMOL/KG,,UMOL/KG,,UMOL/KG,,UMOL/KG,,UMOL/KG,,PMOL/KG,,PMOL/KG,,FMOL/KG,,UMOL/KG,,UMOL/KG,,,,DEG C,NMOL/KG,,PERCNT,,/MILLE,,/MILLE,,/MILLE,UG/KG,,UG/KG,,UG/KG,,UG/KG,,DEG C,PERCNT
096U20160426,       P15S,      46,          1,         36,       2036,2,20160522,       1939,   -44.5186,  -173.5019,       3411,     6.1,  12.6380,  34.7070,2,  34.7109,2,    257.7,2,   257.7,2,    0.37,2,    3.39,2,    0.31,2,    0.41,2,-999.000,9,-999.000,9,-999.000,9,  -999.0,9,  -999.0,9,-999.0000,9,  -999.00,-999.0000,9, -999.00,9, -999.00,9,  -999.0,9,  -999.0, -999.00,9, -999.00,9,    0.41,2,    0.31,3,  12.6372, -999.00
096U20160426,       P15S,      46,          1,         35,       2035,2,20160522,       1939,   -44.5186,  -173.5019,       3411,     9.8,  12.6440,  34.7140,2,  34.7137,2,    257.8,2,   257.7,2,    0.35,2,    3.40,2,    0.31,2,    0.41,2,   2.910,2,   1.702,2,    2.09,2,  2080.5,2,  2297.7,2,-999.0000,9,  -999.00,-999.0000,9, -999.00,9, -999.00,9,  -999.0,9,  -999.0, -999.00,9, -999.00,9, -999.00,9, -999.00,9,  12.6427, -999.00
096U20160426,       P15S,      46,          1,         34,       2034,2,20160522,       1939,   -44.5186,  -173.5019,       3411,    25.7,  12.6750,  34.7340,2,  34.7384,2,    257.6,2,   257.8,2,    0.37,2,    3.43,2,    0.31,2,    0.41,2,-999.000,9,-999.000,9,-999.000,9,  -999.0,9,  -999.0,9,-999.0000,9,  -999.00,-999.0000,9, -999.00,9, -999.00,9,  -999.0,9,  -999.0, -999.00,9, -999.00,9,    0.27,2,    0.51,3,  12.6716, -999.00
096U20160426,       P15S,      46,          1,         33,       2033,2,20160522,       1939,   -44.5186,  -173.5019,       3411,    47.4,  12.6560,  34.7390,2,  34.7402,2,    257.6,2,   257.7,2,    0.36,2,    3.50,2,    0.31,2,    0.42,2,   2.871,4,   1.669,4,   2.088,4,  2083.8,2,  2300.2,2,-999.0000,9,  -999.00,   1.7350,2,   -1.34,2, -999.00,9,  -999.0,9,  -999.0, -999.00,9, -999.00,9,    0.44,2,    0.26,3,  12.6496,    0.47
096U20160426,       P15S,      46,          1,         32,       2032,2,20160522,       1939,   -44.5186,  -173.5019,       3411,    73.2,  12.6430,  34.7370,2,  34.7382,2,    257.2,2,   257.6,2,    0.38,2,    3.53,2,    0.31,2,    0.42,2,-999.000,9,-999.000,9,-999.000,9,  -999.0,9,  -999.0,9,-999.0000,9,  -999.00,-999.0000,9, -999.00,9, -999.00,9,  -999.0,9,  -999.0, -999.00,9, -999.00,9,    0.25,2,    0.46,3,  12.6332, -999.00
096U20160426,       P15S,      46,          1,         31,       2031,2,20160522,       1939,   -44.5186,  -173.5019,       3411,   101.1,  12.5510,  34.7260,2,  34.7266,2,    257.3,2,   257.3,2,    0.45,2,    3.93,2,    0.32,2,    0.44,2,-999.000,9,-999.000,9,-999.000,9,  2086.2,6,  2298.4,6,-999.0000,9,  -999.00,-999.0000,9, -999.00,9, -999.00,9,  -999.0,9,  -999.0, -999.00,9, -999.00,9,    0.13,2,    0.24,3,  12.5375, -999.00
096U20160426,       P15S,      46,          1,         30,       2030,2,20160522,       1939,   -44.5186,  -173.5019,       3411,   127.4,  11.1770,  34.7810,2,  34.7888,2,    244.8,2,   244.3,2,    1.52,2,    8.96,2,    0.03,2,    0.69,2,-999.000,9,-999.000,9,-999.000,9,  -999.0,9,  -999.0,9,-999.0000,9,  -999.00,-999.0000,9, -999.00,9, -999.00,9,  -999.0,9,  -999.0, -999.00,9, -999.00,9, -999.00,9, -999.00,9,  11.1612, -999.00
096U20160426,       P15S,      46,          1,         29,       2029,2,20160522,       1939,   -44.5186,  -173.5019,       3411,   151.6,  10.6690,  34.8050,2,  34.8042,2,    243.4,2,   243.2,2,    2.13,2,   10.64,2,    0.02,2,    0.78,2,   3.211,2,   1.847,2,   2.143,2,  2122.6,2,  2297.7,2,-999.0000,9,  -999.00,-999.0000,9, -999.00,9, -999.00,9,  -999.0,9,  -999.0, -999.00,9, -999.00,9, -999.00,9, -999.00,9,  10.6508, -999.00
096U20160426,       P15S,      46,          1,         28,       2028,2,20160522,       1939,   -44.5186,  -173.5019,       3411,   201.2,  10.1360,  34.7560,2,  34.7567,2,    247.9,2,   247.7,2,    2.46,2,   11.57,2,    0.02,4,    0.84,2,   3.146,6,   1.805,6,   2.116,6,  2122.3,2,  2294.4,6,-999.0000,9,  -999.00,-999.0000,9, -999.00,9, -999.00,9,  -999.0,9,  -999.0, -999.00,9, -999.00,9, -999.00,9, -999.00,9,  10.1125, -999.00
096U20160426,       P15S,      46,          1,         27,       2027,2,20160522,       1939,   -44.5186,  -173.5019,       3411,   246.9,   9.8890,  34.7280,2,  34.7301,2,    251.2,2,   251.4,2,    2.61,2,   12.13,2,    0.01,4,    0.87,2,-999.000,9,-999.000,9,-999.000,9,  -999.0,9,  -999.0,9,-999.0000,9,  -999.00,-999.0000,9, -999.00,9, -999.00,9,  -999.0,9,  -999.0, -999.00,9, -999.00,9, -999.00,9, -999.00,9,   9.8606, -999.00
096U20160426,       P15S,      46,          1,         26,       2026,2,20160522,       1939,   -44.5186,  -173.5019,       3411,   300.4,   9.5540,  34.6820,2,  34.6835,2,    253.6,2,   254.0,2,    2.78,2,   13.03,2,    0.02,4,    0.93,2,   3.385,2,   1.933,2,    2.15,2,  2125.1,2,  2293.8,2,-999.0000,9,  -999.00,-999.0000,9, -999.00,9, -999.00,9,  -999.0,9,  -999.0, -999.00,9, -999.00,9, -999.00,9, -999.00,9,   9.5201, -999.00
096U20160426,       P15S,      46,          1,         25,       2025,2,20160522,       1939,   -44.5186,  -173.5019,       3411,   348.1,   9.2870,  34.6430,2,  34.6447,2,    253.9,2,   254.4,2,    3.08,2,   13.99,2,    0.01,4,    0.98,2,-999.000,9,-999.000,9,-999.000,9,  -999.0,9,  -999.0,9,-999.0000,9,  -999.00,-999.0000,9, -999.00,9, -999.00,9,  -999.0,9,  -999.0, -999.00,9, -999.00,9, -999.00,9, -999.00,9,   9.2483, -999.00
096U20160426,       P15S,      46,          1,         24,       2024,2,20160522,       1939,   -44.5186,  -173.5019,       3411,   402.3,   8.9230,  34.5890,2,  34.5881,2,    249.1,2,   249.8,2,    3.68,2,   15.71,2,    0.01,4,    1.09,2,   3.498,2,   1.972,2,   2.015,2,  2131.6,2,  2290.2,2,-999.0000,9,  -999.00,-999.0000,9, -999.00,9, -999.00,9,  -999.0,9,  -999.0, -999.00,9, -999.00,9, -999.00,9, -999.00,9,   8.8792, -999.00
096U20160426,       P15S,      46,          1,         23,       2023,2,20160522,       1939,   -44.5186,  -173.5019,       3411,   446.5,   8.4480,  34.5200,2,  34.5184,2,    243.7,2,   244.1,2,    4.49,2,   17.87,2,    0.01,4,    1.22,2,-999.000,9,-999.000,9,-999.000,9,  -999.0,9,  -999.0,9,-999.0000,9,  -999.00,-999.0000,9, -999.00,9, -999.00,9,  -999.0,9,  -999.0, -999.00,9, -999.00,9, -999.00,9, -999.00,9,   8.4009, -999.00
096U20160426,       P15S,      46,          1,         22,       2022,2,20160522,       1939,   -44.5186,  -173.5019,       3411,   500.7,   8.1820,  34.4850,2,  34.4833,2,    242.8,2,   242.9,2,    5.00,2,   18.89,2,    0.01,4,    1.28,2,   3.603,2,   1.997,2,   1.798,2,  2139.1,2,  2287.5,2,-999.0000,9,  -999.00,-999.0000,9, -999.00,9, -999.00,9,  -999.0,9,  -999.0, -999.00,9, -999.00,9, -999.00,9, -999.00,9,   8.1300, -999.00
096U20160426,       P15S,      46,          1,         21,       2021,2,20160522,       1939,   -44.5186,  -173.5019,       3411,   600.3,   7.6920,  34.4380,2,  34.4389,2,    242.8,2,   243.3,2,    6.01,2,   20.26,2,    0.01,4,    1.37,2,   3.622,6,   2.001,6,   1.689,6,  2143.9,2,  2282.5,2,-999.0000,9,  -999.00,-999.0000,9, -999.00,9, -999.00,9,  -999.0,9,  -999.0, -999.00,9, -999.00,9, -999.00,9, -999.00,9,   7.6315, -999.00
096U20160426,       P15S,      46,          1,         20,       2020,2,20160522,       1939,   -44.5186,  -173.5019,       3411,   700.6,   7.1990,  34.3940,2,  34.3976,2,    239.9,2,   240.5,2,    8.06,2,   21.80,2,    0.01,4,    1.47,2,   3.531,2,   1.906,2,   1.579,2,  2148.2,6,  2284.5,6,-999.0000,9,  -999.00,-999.0000,9, -999.00,9, -999.00,9,  -999.0,9,  -999.0, -999.00,9, -999.00,9, -999.00,9, -999.00,9,   7.1306, -999.00
096U20160426,       P15S,      46,          1,         19,       2019,2,20160522,       1939,   -44.5186,  -173.5019,       3411,   803.7,   6.7740,  34.3750,2,  34.3764,2,    230.1,2,   230.6,2,   10.91,2,   23.72,2,    0.01,4,    1.59,2,   3.188,2,   1.681,2,   1.143,2,  2157.0,2,  2283.4,2,-999.0000,9,  -999.00,   1.7710,2,    1.11,2, -999.00,9,  -999.0,9,  -999.0, -999.00,9, -999.00,9, -999.00,9, -999.00,9,   6.6976,    0.45
096U20160426,       P15S,      46,          1,         18,       2018,2,20160522,       1939,   -44.5186,  -173.5019,       3411,   898.9,   6.2740,  34.3570,2,  34.3587,2,    221.2,2,   221.9,2,   14.69,2,   25.56,2,    0.01,4,    1.71,2,   2.861,2,   1.468,2,   0.961,2,  2165.6,2,  2286.0,2,-999.0000,9,  -999.00,-999.0000,9, -999.00,9, -999.00,9,  -999.0,9,  -999.0, -999.00,9, -999.00,9, -999.00,9, -999.00,9,   6.1913, -999.00
096U20160426,       P15S,      46,          1,         17,       2017,2,20160522,       1939,   -44.5186,  -173.5019,       3411,  1001.0,   5.7710,  34.3540,2,  34.3564,2,    211.3,2,   211.7,2,   19.73,2,   27.47,2,    0.00,4,    1.84,2,   2.273,2,   1.145,2,   0.688,2,  2174.8,2,  2290.8,2,-999.0000,9,  -999.00,-999.0000,9, -999.00,9, -999.00,9,  -999.0,9,  -999.0, -999.00,9, -999.00,9, -999.00,9, -999.00,9,   5.6820, -999.00
096U20160426,       P15S,      46,          1,         16,       2016,2,20160522,       1939,   -44.5186,  -173.5019,       3411,  1101.9,   5.2340,  34.3590,2,  34.3600,2,    203.1,3,   203.3,2,   26.39,2,   29.11,2,    0.00,4,    1.95,2,   1.761,2,   0.895,2,   0.436,2,  2186.5,2,  2294.6,6,-999.0000,9,  -999.00,-999.0000,9, -999.00,9, -999.00,9,  -999.0,9,  -999.0, -999.00,9, -999.00,9, -999.00,9, -999.00,9,   5.1397, -999.00
096U20160426,       P15S,      46,          1,         15,       2015,2,20160522,       1939,   -44.5186,  -173.5019,       3411,  1199.4,   4.7950,  34.3850,2,  34.3869,2,    193.4,2,   193.3,2,   34.91,2,   30.49,2,    0.00,4,    2.05,2,-999.000,9,-999.000,9,-999.000,9,  -999.0,9,  -999.0,9,-999.0000,9,  -999.00,-999.0000,9, -999.00,9, -999.00,9,  -999.0,9,  -999.0, -999.00,9, -999.00,9, -999.00,9, -999.00,9,   4.6954, -999.00
096U20160426,       P15S,      46,          1,         14,       2014,2,20160522,       1939,   -44.5186,  -173.5019,       3411,  1300.0,   4.2190,  34.3930,2,  34.3953,2,    188.7,2,   188.2,2,   42.54,2,   31.90,2,    0.00,4,    2.15,2,   0.923,2,   0.458,2,   0.186,2,  2213.7,2,  2309.2,2,-999.0000,9,  -999.00,-999.0000,9, -999.00,9, -999.00,9,  -999.0,9,  -999.0, -999.00,9, -999.00,9, -999.00,9, -999.00,9,   4.1158, -999.00
096U20160426,       P15S,      46,          1,         13,       2013,2,20160522,       1939,   -44.5186,  -173.5019,       3411,  1399.4,   3.7810,  34.4210,2,  34.4217,2,    182.7,2,   182.2,2,   51.09,2,   32.80,2,    0.00,4,    2.23,2,   0.711,2,   0.353,2,   0.155,2,  2227.3,2,  2318.4,2,-999.0000,9,  -999.00,-999.0000,9, -999.00,9, -999.00,9,  -999.0,9,  -999.0, -999.00,9, -999.00,9, -999.00,9, -999.00,9,   3.6735, -999.00
096U20160426,       P15S,      46,          1,         12,       2012,2,20160522,       1939,   -44.5186,  -173.5019,       3411,  1600.9,   3.3380,  34.5100,2,  34.5095,2,    168.9,2,   167.9,2,   70.75,2,   33.73,2,    0.01,4,    2.31,2,   0.280,2,   0.145,2,   0.056,2,  2251.6,2,  2341.0,2,-999.0000,9,  -999.00,   1.8240,2,   12.42,2, -999.00,9,  -999.0,9,  -999.0, -999.00,9, -999.00,9, -999.00,9, -999.00,9,   3.2177,    0.46
096U20160426,       P15S,      46,          1,         11,       2011,2,20160522,       1939,   -44.5186,  -173.5019,       3411,  1801.9,   2.8890,  34.5680,2,  34.5682,2,    161.5,2,   160.2,2,   86.88,2,   34.44,2,    0.00,4,    2.36,2,   0.147,2,   0.076,2,   0.083,2,  2272.6,2,  2360.5,2,-999.0000,9,  -999.00,-999.0000,9, -999.00,9, -999.00,9,  -999.0,9,  -999.0, -999.00,9, -999.00,9, -999.00,9, -999.00,9,   2.7568, -999.00
096U20160426,       P15S,      46,          1,         10,       2010,2,20160522,       1939,   -44.5186,  -173.5019,       3411,  1999.4,   2.4980,  34.6190,2,  34.6193,2,    160.6,2,   159.8,2,   95.21,2,   34.48,2,    0.01,4,    2.37,2,   0.127,2,   0.068,2,   0.049,2,  2279.0,2,  2370.9,6,-999.0000,9,  -999.00,   1.8870,2,   17.33,2, -999.00,9,  -999.0,9,  -999.0, -999.00,9, -999.00,9, -999.00,9, -999.00,9,   2.3541,    0.41
096U20160426,       P15S,      46,          1,          9,       2009,2,20160522,       1939,   -44.5186,  -173.5019,       3411,  2200.4,   2.2820,  34.6650,2,  34.6658,2,    170.5,2,   169.7,2,   90.97,2,   33.45,2,    0.01,4,    2.28,2,-999.000,9,-999.000,9,-999.000,9,  2271.3,2,  2360.6,2,-999.0000,9,  -999.00,-999.0000,9, -999.00,9, -999.00,9,  -999.0,9,  -999.0, -999.00,9, -999.00,9, -999.00,9, -999.00,9,   2.1236, -999.00
096U20160426,       P15S,      46,          1,          8,       2008,2,20160522,       1939,   -44.5186,  -173.5019,       3411,  2401.7,   2.1520,  34.6990,2,  34.6995,2,    179.0,2,   178.4,2,   88.89,2,   32.39,2,    0.01,4,    2.20,2,   0.157,6,   0.077,6,   0.027,6,  2260.1,2,  2356.7,2,-999.0000,9,  -999.00,   1.8590,2,   12.36,2, -999.00,9,  -999.0,9,  -999.0, -999.00,9, -999.00,9, -999.00,9, -999.00,9,   1.9777,    0.61
096U20160426,       P15S,      46,          1,          7,       2007,2,20160522,       1939,   -44.5186,  -173.5019,       3411,  2550.3,   2.0510,  34.7130,2,  34.7145,2,    182.3,2,   182.6,2,   90.60,2,   32.04,2,    0.00,4,    2.18,2,-999.000,9,-999.000,9,-999.000,9,  2260.6,2,  2357.5,2,-999.0000,9,  -999.00,-999.0000,9, -999.00,9, -999.00,9,  -999.0,9,  -999.0, -999.00,9, -999.00,9, -999.00,9, -999.00,9,   1.8648, -999.00
096U20160426,       P15S,      46,          1,          6,       2006,2,20160522,       1939,   -44.5186,  -173.5019,       3411,  2698.3,   1.9480,  34.7290,2,  34.7295,2,    188.8,2,   189.1,2,   90.15,2,   31.42,2,    0.00,4,    2.13,2,   0.136,2,   0.066,2,   0.068,2,  2255.0,2,  2356.5,2,-999.0000,9,  -999.00,   1.8580,2,   10.13,2, -999.00,9,  -999.0,9,  -999.0, -999.00,9, -999.00,9, -999.00,9, -999.00,9,   1.7500,    0.60
096U20160426,       P15S,      46,          1,          5,       2005,2,20160522,       1939,   -44.5186,  -173.5019,       3411,  2850.1,   1.8140,  34.7320,2,  34.7329,2,    191.7,2,   192.2,2,   93.52,2,   31.38,2,    0.00,4,    2.13,2,-999.000,9,-999.000,9,-999.000,9,  2254.3,6,  2357.6,6,-999.0000,9,  -999.00,-999.0000,9, -999.00,9, -999.00,9,  -999.0,9,  -999.0, -999.00,9, -999.00,9, -999.00,9, -999.00,9,   1.6044, -999.00
096U20160426,       P15S,      46,          1,          4,       2004,2,20160522,       1939,   -44.5186,  -173.5019,       3411,  2999.5,   1.6700,  34.7330,2,  34.7335,2,    194.5,2,   195.2,2,   97.33,2,   31.39,2,    0.00,4,    2.13,2,   0.119,2,   0.059,2,   0.036,2,  2258.4,2,  2357.7,6,-999.0000,9,  -999.00,   1.8600,2,   10.28,2, -999.00,9,  -999.0,9,  -999.0, -999.00,9, -999.00,9, -999.00,9, -999.00,9,   1.4492,    0.59
096U20160426,       P15S,      46,          1,          3,       2003,2,20160522,       1939,   -44.5186,  -173.5019,       3411,  3248.4,   1.3990,  34.7260,2,  34.7263,2,    198.6,2,   199.3,2,  104.99,2,   31.64,2,    0.00,4,    2.15,2,   0.142,2,   0.069,2,   0.035,2,  2260.0,2,  2362.9,2,-999.0000,9,  -999.00,   1.8770,2,    9.78,2, -999.00,9,  -999.0,9,  -999.0, -999.00,9, -999.00,9, -999.00,9, -999.00,9,   1.1602,    0.61
096U20160426,       P15S,      46,          1,          2,       2002,2,20160522,       1939,   -44.5186,  -173.5019,       3411,  3350.3,   1.3740,  34.7250,2,  34.7255,2,    198.9,2,   199.9,2,  105.94,2,   31.72,2,    0.00,4,    2.15,2,   0.145,2,   0.071,2,    0.06,2,  2259.9,2,  2360.6,2,-999.0000,9,  -999.00,   1.7840,2,   10.08,2, -999.00,9,  -999.0,9,  -999.0, -999.00,9, -999.00,9, -999.00,9, -999.00,9,   1.1258,    0.44
096U20160426,       P15S,      46,          1,          1,       2001,2,20160522,       1939,   -44.5186,  -173.5019,       3411,  3446.8,   1.3190,  34.7230,2,  34.7247,2,    200.1,2,   201.1,2,  107.87,2,   31.79,2,    0.00,4,    2.15,2,   0.154,2,   0.075,2,   0.031,2,  2258.1,2,  2362.4,2,-999.0000,9,  -999.00,-999.0000,9, -999.00,9, -999.00,9,  -999.0,9,  -999.0, -999.00,9, -999.00,9, -999.00,9, -999.00,9,   1.0625, -999.00