BOTTLE,20230413CCHSIOENA
EXPOCODE,SECT_ID,STNNBR,CASTNO,SAMPNO,BTLNBR,BTLNBR_FLAG_W,DATE,TIME,LATITUDE,LONGITUDE,DEPTH,CTDPRS,CTDTMP,CTDSAL,CTDSAL_FLAG_W,SALNTY,SALNTY_FLAG_W,CTDOXY,CTDOXY_FLAG_W,OXYGEN,OXYGEN_FLAG_W,SILCAT,SILCAT_FLAG_W,NITRAT,NITRAT_FLAG_W,NITRIT,NITRIT_FLAG_W,PHSPHT,PHSPHT_FLAG_W,CFC-11,CFC-11_FLAG_W,CFC-12,CFC-12_FLAG_W,SF6,SF6_FLAG_W,TCARBN,TCARBN_FLAG_W,ALKALI,ALKALI_FLAG_W,PH_TOT,PH_TOT_FLAG_W,PH_TMP,HELIUM,HELIUM_FLAG_W,DELHE3,DELHE3_FLAG_W,DELC13,DELC13_FLAG_W,DELC14,DELC14_FLAG_W,C14ERR,POC,POC_FLAG_W,PON,PON_FLAG_W,CHLORA,CHLORA_FLAG_W,PPHYTN,PPHYTN_FLAG_W,THETA,DELHER
,,,,,,,,,,,METERS,DBAR,ITS-90,PSS-78,,PSS-78,,UMOL/KG,,UMOL/KG,,UMOL/KG,,UMOL/KG,,UMOL/KG,,UMOL/KG,,PMOL/KG,,PMOL/KG,,FMOL/KG,,UMOL/KG,,UMOL/KG,,,,DEG C,NMOL/KG,,PERCNT,,/MILLE,,/MILLE,,/MILLE,UG/KG,,UG/KG,,UG/KG,,UG/KG,,DEG C,PERCNT
096U20160426,       P15S,      99,          1,         36,       2036,2,20160613,       0649,   -19.4953,  -170.0026,       4929,     4.9,  25.2390,  35.6880,2,  35.6867,2,    207.5,2,   206.1,2,    0.29,2,   -0.04,4,    0.00,4,    0.12,2,-999.000,9,-999.000,9,-999.000,9,  2009.0,2,  2346.0,2,-999.0000,9,  -999.00,-999.0000,9, -999.00,9, -999.00,9,  -999.0,9,  -999.0, -999.00,9, -999.00,9,    0.35,2,   -0.06,3,  25.2379, -999.00
096U20160426,       P15S,      99,          1,         35,       2035,2,20160613,       0649,   -19.4953,  -170.0026,       4929,    26.5,  25.2400,  35.6870,2,  35.6852,2,    207.4,2,   206.3,2,    0.28,2,   -0.04,4,    0.00,4,    0.12,2,-999.000,9,-999.000,9,-999.000,9,  -999.0,9,  -999.0,9,-999.0000,9,  -999.00,-999.0000,9, -999.00,9, -999.00,9,  -999.0,9,  -999.0, -999.00,9, -999.00,9,    0.39,2,   -0.07,3,  25.2342, -999.00
096U20160426,       P15S,      99,          1,         34,       2034,2,20160613,       0649,   -19.4953,  -170.0026,       4929,    50.4,  25.2270,  35.6930,2,  35.6932,2,    207.2,2,   205.9,2,    0.27,2,   -0.04,4,    0.00,4,    0.12,2,-999.000,9,-999.000,9,-999.000,9,  -999.0,9,  -999.0,9,-999.0000,9,  -999.00,-999.0000,9, -999.00,9, -999.00,9,  -999.0,9,  -999.0, -999.00,9, -999.00,9, -999.00,9, -999.00,9,  25.2160, -999.00
096U20160426,       P15S,      99,          1,         33,       2033,2,20160613,       0649,   -19.4953,  -170.0026,       4929,    75.9,  25.1440,  35.7040,2,  35.7046,2,    207.1,2,   206.1,2,    0.26,2,   -0.04,4,    0.00,4,    0.11,2,-999.000,9,-999.000,9,-999.000,9,  -999.0,9,  -999.0,9,-999.0000,9,  -999.00,-999.0000,9, -999.00,9, -999.00,9,  -999.0,9,  -999.0, -999.00,9, -999.00,9,    0.56,2,   -0.09,3,  25.1274, -999.00
096U20160426,       P15S,      99,          1,         32,       2032,2,20160613,       0649,   -19.4953,  -170.0026,       4929,   106.4,  23.7390,  35.7360,2,  35.7631,2,    201.3,2,   200.5,2,    0.26,2,   -0.03,4,    0.01,4,    0.13,2,-999.000,9,-999.000,9,-999.000,9,  -999.0,9,  -999.0,9,-999.0000,9,  -999.00,-999.0000,9, -999.00,9, -999.00,9,  -999.0,9,  -999.0, -999.00,9, -999.00,9,    0.99,2,   -0.05,3,  23.7167, -999.00
096U20160426,       P15S,      99,          1,         31,       2031,2,20160613,       0649,   -19.4953,  -170.0026,       4929,   152.0,  21.8090,  35.7870,2,  35.7785,2,    190.9,2,   189.7,2,    0.28,2,    1.31,2,    0.11,2,    0.21,2,-999.000,9,-999.000,9,-999.000,9,  -999.0,9,  -999.0,9,-999.0000,9,  -999.00,-999.0000,9, -999.00,9, -999.00,9,  -999.0,9,  -999.0, -999.00,9, -999.00,9,    0.39,2,    0.04,3,  21.7790, -999.00
096U20160426,       P15S,      99,          1,         30,       2030,2,20160613,       0649,   -19.4953,  -170.0026,       4929,   200.5,  20.5870,  35.7330,2,  35.7126,2,    184.8,2,   184.6,2,    0.42,2,    2.93,2,    0.01,4,    0.29,2,-999.000,9,-999.000,9,-999.000,9,  2077.8,2,  2341.5,2,-999.0000,9,  -999.00,-999.0000,9, -999.00,9, -999.00,9,  -999.0,9,  -999.0, -999.00,9, -999.00,9, -999.00,9, -999.00,9,  20.5490, -999.00
096U20160426,       P15S,      99,          1,         29,       2029,2,20160613,       0649,   -19.4953,  -170.0026,       4929,   249.9,  18.9140,  35.5770,2,  35.5629,2,    183.2,2,   183.4,2,    0.73,2,    4.28,2,    0.01,4,    0.39,2,-999.000,9,-999.000,9,-999.000,9,  -999.0,9,  -999.0,9,-999.0000,9,  -999.00,-999.0000,9, -999.00,9, -999.00,9,  -999.0,9,  -999.0, -999.00,9, -999.00,9, -999.00,9, -999.00,9,  18.8694, -999.00
096U20160426,       P15S,      99,          1,         28,       2028,2,20160613,       0649,   -19.4953,  -170.0026,       4929,   301.6,  17.0930,  35.3830,2,  35.3784,2,    185.6,2,   189.1,2,    1.13,2,    5.53,2,    0.00,4,    0.46,2,-999.000,9,-999.000,9,-999.000,9,  2094.0,2,  2319.0,2,-999.0000,9,  -999.00,-999.0000,9, -999.00,9, -999.00,9,  -999.0,9,  -999.0, -999.00,9, -999.00,9, -999.00,9, -999.00,9,  17.0428, -999.00
096U20160426,       P15S,      99,          1,         27,       2027,2,20160613,       0649,   -19.4953,  -170.0026,       4929,   351.1,  15.8530,  35.3270,2,  35.2892,2,    195.5,2,   194.0,2,    1.56,2,    6.90,2,    0.01,4,    0.54,2,-999.000,9,-999.000,9,-999.000,9,  -999.0,9,  -999.0,9,-999.0000,9,  -999.00,-999.0000,9, -999.00,9, -999.00,9,  -999.0,9,  -999.0, -999.00,9, -999.00,9, -999.00,9, -999.00,9,  15.7974, -999.00
096U20160426,       P15S,      99,          1,         26,       2026,2,20160613,       0649,   -19.4953,  -170.0026,       4929,   401.4,  12.4590,  34.8310,2,  34.8241,2,    176.8,2,   176.2,2,    4.74,2,   14.23,2,    0.01,4,    1.08,2,-999.000,9,-999.000,9,-999.000,9,  2132.5,2,  2295.3,2,-999.0000,9,  -999.00,-999.0000,9, -999.00,9, -999.00,9,  -999.0,9,  -999.0, -999.00,9, -999.00,9, -999.00,9, -999.00,9,  12.4050, -999.00
096U20160426,       P15S,      99,          1,         25,       2025,2,20160613,       0649,   -19.4953,  -170.0026,       4929,   501.4,   9.4850,  34.5950,2,  34.5805,2,    202.4,2,   205.4,2,    5.22,2,   18.21,2,    0.01,4,    1.28,2,-999.000,9,-999.000,9,-999.000,9,  -999.0,9,  -999.0,9,-999.0000,9,  -999.00,-999.0000,9, -999.00,9, -999.00,9,  -999.0,9,  -999.0, -999.00,9, -999.00,9, -999.00,9, -999.00,9,   9.4281, -999.00
096U20160426,       P15S,      99,          1,         24,       2024,2,20160613,       0649,   -19.4953,  -170.0026,       4929,   600.1,   7.0440,  34.3760,2,  34.3690,2,    223.8,2,   225.8,2,    8.18,2,   23.03,2,    0.00,4,    1.56,2,-999.000,9,-999.000,9,-999.000,9,  2149.3,2,  2280.4,2,-999.0000,9,  -999.00,-999.0000,9, -999.00,9, -999.00,9,  -999.0,9,  -999.0, -999.00,9, -999.00,9, -999.00,9, -999.00,9,   6.9865, -999.00
096U20160426,       P15S,      99,          1,         23,       2023,2,20160613,       0649,   -19.4953,  -170.0026,       4929,   701.3,   5.9750,  34.3280,2,  34.3271,2,    212.9,2,   214.5,2,   14.27,2,   26.53,2,    0.00,4,    1.80,2,-999.000,9,-999.000,9,-999.000,9,  -999.0,9,  -999.0,9,-999.0000,9,  -999.00,-999.0000,9, -999.00,9, -999.00,9,  -999.0,9,  -999.0, -999.00,9, -999.00,9, -999.00,9, -999.00,9,   5.9131, -999.00
096U20160426,       P15S,      99,          1,         22,       2022,2,20160613,       0649,   -19.4953,  -170.0026,       4929,   801.5,   5.3340,  34.3470,2,  34.3467,2,    189.2,2,   189.1,2,   25.38,2,   29.95,2,    0.00,4,    2.05,2,-999.000,9,-999.000,9,-999.000,9,  -999.0,9,  -999.0,9,-999.0000,9,  -999.00,-999.0000,9, -999.00,9, -999.00,9,  -999.0,9,  -999.0, -999.00,9, -999.00,9, -999.00,9, -999.00,9,   5.2665, -999.00
096U20160426,       P15S,      99,          1,         21,       2021,2,20160613,       0649,   -19.4953,  -170.0026,       4929,   901.9,   4.6760,  34.3810,2,  34.3792,2,    173.4,2,   173.9,2,   37.76,2,   32.19,2,    0.00,4,    2.20,2,-999.000,9,-999.000,9,-999.000,9,  -999.0,9,  -999.0,9,-999.0000,9,  -999.00,-999.0000,9, -999.00,9, -999.00,9,  -999.0,9,  -999.0, -999.00,9, -999.00,9, -999.00,9, -999.00,9,   4.6039, -999.00
096U20160426,       P15S,      99,          1,         20,       2020,2,20160613,       0649,   -19.4953,  -170.0026,       4929,  1001.8,   4.0180,  34.4270,2,  34.4270,2,    163.6,2,   163.3,2,   52.71,2,   33.70,2,    0.00,4,    2.32,2,-999.000,9,-999.000,9,-999.000,9,  2234.4,6,  2320.3,6,-999.0000,9,  -999.00,-999.0000,9, -999.00,9, -999.00,9,  -999.0,9,  -999.0, -999.00,9, -999.00,9, -999.00,9, -999.00,9,   3.9422, -999.00
096U20160426,       P15S,      99,          1,         19,       2019,2,20160613,       0649,   -19.4953,  -170.0026,       4929,  1101.1,   3.6120,  34.4760,2,  34.4721,2,    156.7,2,   156.4,2,   64.68,2,   34.39,2,    0.00,4,    2.38,2,-999.000,9,-999.000,9,-999.000,9,  -999.0,9,  -999.0,9,-999.0000,9,  -999.00,-999.0000,9, -999.00,9, -999.00,9,  -999.0,9,  -999.0, -999.00,9, -999.00,9, -999.00,9, -999.00,9,   3.5312, -999.00
096U20160426,       P15S,      99,          1,         18,       2018,2,20160613,       0649,   -19.4953,  -170.0026,       4929,  1200.7,   3.1800,  34.5140,2,  34.5108,2,    155.2,2,   155.0,2,   76.12,2,   34.75,2,    0.00,4,    2.41,2,-999.000,9,-999.000,9,-999.000,9,  -999.0,9,  -999.0,9,-999.0000,9,  -999.00,-999.0000,9, -999.00,9, -999.00,9,  -999.0,9,  -999.0, -999.00,9, -999.00,9, -999.00,9, -999.00,9,   3.0949, -999.00
096U20160426,       P15S,      99,          1,         17,       2017,2,20160613,       0649,   -19.4953,  -170.0026,       4929,  1300.7,   2.8970,  34.5430,2,  34.5440,2,    153.9,2,   153.5,2,   84.99,2,   34.97,2,    0.00,4,    2.42,2,-999.000,9,-999.000,9,-999.000,9,  -999.0,9,  -999.0,9,-999.0000,9,  -999.00,-999.0000,9, -999.00,9, -999.00,9,  -999.0,9,  -999.0, -999.00,9, -999.00,9, -999.00,9, -999.00,9,   2.8066, -999.00
096U20160426,       P15S,      99,          1,         16,       2016,2,20160613,       0649,   -19.4953,  -170.0026,       4929,  1401.2,   2.6740,  34.5760,2,  34.5764,2,    150.1,2,   149.8,2,   94.75,2,   35.25,2,    0.00,4,    2.45,2,-999.000,9,-999.000,9,-999.000,9,  -999.0,9,  -999.0,9,-999.0000,9,  -999.00,-999.0000,9, -999.00,9, -999.00,9,  -999.0,9,  -999.0, -999.00,9, -999.00,9, -999.00,9, -999.00,9,   2.5778, -999.00
096U20160426,       P15S,      99,          1,         15,       2015,2,20160613,       0649,   -19.4953,  -170.0026,       4929,  1601.3,   2.4660,  34.6070,2,  34.6059,2,    146.2,2,   145.9,2,  105.11,2,   35.53,2,    0.00,4,    2.47,2,-999.000,9,-999.000,9,-999.000,9,  -999.0,9,  -999.0,9,-999.0000,9,  -999.00,-999.0000,9, -999.00,9, -999.00,9,  -999.0,9,  -999.0, -999.00,9, -999.00,9, -999.00,9, -999.00,9,   2.3561, -999.00
096U20160426,       P15S,      99,          1,         14,       2014,2,20160613,       0649,   -19.4953,  -170.0026,       4929,  1800.8,   2.3200,  34.6220,2,  34.6205,2,    145.7,2,   145.2,2,  110.84,2,   35.68,2,    0.00,4,    2.48,2,-999.000,9,-999.000,9,-999.000,9,  -999.0,9,  -999.0,9,-999.0000,9,  -999.00,-999.0000,9, -999.00,9, -999.00,9,  -999.0,9,  -999.0, -999.00,9, -999.00,9, -999.00,9, -999.00,9,   2.1956, -999.00
096U20160426,       P15S,      99,          1,         13,       2013,2,20160613,       0649,   -19.4953,  -170.0026,       4929,  2000.3,   2.1900,  34.6340,2,  34.6316,2,    146.0,2,   145.4,2,  115.01,2,   35.74,2,    0.00,4,    2.48,2,-999.000,9,-999.000,9,-999.000,9,  -999.0,9,  -999.0,9,-999.0000,9,  -999.00,-999.0000,9, -999.00,9, -999.00,9,  -999.0,9,  -999.0, -999.00,9, -999.00,9, -999.00,9, -999.00,9,   2.0506, -999.00
096U20160426,       P15S,      99,          1,         12,       2012,2,20160613,       0649,   -19.4953,  -170.0026,       4929,  2250.6,   2.0300,  34.6480,2,  34.6455,2,    146.3,2,   145.8,2,  120.79,2,   35.76,2,    0.00,4,    2.49,2,-999.000,9,-999.000,9,-999.000,9,  -999.0,9,  -999.0,9,-999.0000,9,  -999.00,-999.0000,9, -999.00,9,    0.22,6,  -221.1,6,     2.0, -999.00,9, -999.00,9, -999.00,9, -999.00,9,   1.8715, -999.00
096U20160426,       P15S,      99,          1,         11,       2011,2,20160613,       0649,   -19.4953,  -170.0026,       4929,  2500.7,   1.9060,  34.6580,2,  34.6565,2,    146.6,2,   146.2,2,  126.02,2,   35.78,2,    0.00,4,    2.49,2,-999.000,9,-999.000,9,-999.000,9,  -999.0,9,  -999.0,9,-999.0000,9,  -999.00,-999.0000,9, -999.00,9, -999.00,9,  -999.0,9,  -999.0, -999.00,9, -999.00,9, -999.00,9, -999.00,9,   1.7274, -999.00
096U20160426,       P15S,      99,          1,         10,       2010,2,20160613,       0649,   -19.4953,  -170.0026,       4929,  2751.0,   1.8020,  34.6670,2,  34.6643,2,    149.7,2,   149.4,2,  128.30,2,   35.62,2,    0.01,4,    2.47,2,-999.000,9,-999.000,9,-999.000,9,  -999.0,9,  -999.0,9,-999.0000,9,  -999.00,-999.0000,9, -999.00,9, -999.00,9,  -999.0,9,  -999.0, -999.00,9, -999.00,9, -999.00,9, -999.00,9,   1.6023, -999.00
096U20160426,       P15S,      99,          1,          9,       2009,2,20160613,       0649,   -19.4953,  -170.0026,       4929,  3000.0,   1.7420,  34.6720,2,  34.6699,2,    151.0,2,   150.3,2,  130.35,2,   35.55,2,    0.00,4,    2.47,2,-999.000,9,-999.000,9,-999.000,9,  -999.0,9,  -999.0,9,-999.0000,9,  -999.00,-999.0000,9, -999.00,9, -999.00,9,  -999.0,9,  -999.0, -999.00,9, -999.00,9, -999.00,9, -999.00,9,   1.5199, -999.00
096U20160426,       P15S,      99,          1,          8,       2008,2,20160613,       0649,   -19.4953,  -170.0026,       4929,  3300.4,   1.6710,  34.6780,2,  34.6766,2,    155.2,2,   154.6,2,  130.73,2,   35.28,2,    0.00,4,    2.45,2,-999.000,9,-999.000,9,-999.000,9,  -999.0,9,  -999.0,9,-999.0000,9,  -999.00,-999.0000,9, -999.00,9, -999.00,9,  -999.0,9,  -999.0, -999.00,9, -999.00,9, -999.00,9, -999.00,9,   1.4209, -999.00
096U20160426,       P15S,      99,          1,          7,       2007,2,20160613,       0649,   -19.4953,  -170.0026,       4929,  3598.6,   1.5520,  34.6890,2,  34.6865,2,    166.6,2,   165.9,2,  127.09,2,   34.38,2,    0.00,4,    2.39,2,-999.000,9,-999.000,9,-999.000,9,  -999.0,9,  -999.0,9,-999.0000,9,  -999.00,-999.0000,9, -999.00,9, -999.00,9,  -999.0,9,  -999.0, -999.00,9, -999.00,9, -999.00,9, -999.00,9,   1.2743, -999.00
096U20160426,       P15S,      99,          1,          6,       2006,2,20160613,       0649,   -19.4953,  -170.0026,       4929,  3899.8,   1.4380,  34.7090,2,  34.7079,2,    185.5,2,   186.9,2,  115.48,2,   32.59,2,    0.00,4,    2.25,2,-999.000,9,-999.000,9,-999.000,9,  -999.0,9,  -999.0,9,-999.0000,9,  -999.00,-999.0000,9, -999.00,9, -999.00,9,  -999.0,9,  -999.0, -999.00,9, -999.00,9, -999.00,9, -999.00,9,   1.1314, -999.00
096U20160426,       P15S,      99,          1,          5,       2005,2,20160613,       0649,   -19.4953,  -170.0026,       4929,  4199.8,   1.2070,  34.7140,2,  34.7123,2,    198.3,2,   199.7,2,  114.94,2,   31.92,2,    0.00,4,    2.20,2,-999.000,9,-999.000,9,-999.000,9,  -999.0,9,  -999.0,9,-999.0000,9,  -999.00,-999.0000,9, -999.00,9, -999.00,9,  -999.0,9,  -999.0, -999.00,9, -999.00,9, -999.00,9, -999.00,9,   0.8745, -999.00
096U20160426,       P15S,      99,          1,          4,       2004,2,20160613,       0649,   -19.4953,  -170.0026,       4929,  4498.9,   1.0430,  34.7110,2,  34.7095,2,    204.2,2,   205.4,2,  117.64,2,   31.85,2,    0.00,4,    2.19,2,-999.000,9,-999.000,9,-999.000,9,  -999.0,9,  -999.0,9,-999.0000,9,  -999.00,-999.0000,9, -999.00,9, -999.00,9,  -999.0,9,  -999.0, -999.00,9, -999.00,9, -999.00,9, -999.00,9,   0.6822, -999.00
096U20160426,       P15S,      99,          1,          3,       2003,2,20160613,       0649,   -19.4953,  -170.0026,       4929,  4801.1,   1.0300,  34.7090,2,  34.7079,2,    205.6,2,   205.9,2,  118.93,2,   31.91,2,    0.00,4,    2.19,2,-999.000,9,-999.000,9,-999.000,9,  -999.0,9,  -999.0,9,-999.0000,9,  -999.00,-999.0000,9, -999.00,9, -999.00,9,  -999.0,9,  -999.0, -999.00,9, -999.00,9, -999.00,9, -999.00,9,   0.6349, -999.00
096U20160426,       P15S,      99,          1,          2,       2002,2,20160613,       0649,   -19.4953,  -170.0026,       4929,  4902.6,   1.0420,  34.7090,2,  34.7079,2,    205.6,2,   205.8,2,  119.04,2,   31.91,2,    0.00,4,    2.19,2,-999.000,9,-999.000,9,-999.000,9,  -999.0,9,  -999.0,9,-999.0000,9,  -999.00,-999.0000,9, -999.00,9, -999.00,9,  -999.0,9,  -999.0, -999.00,9, -999.00,9, -999.00,9, -999.00,9,   0.6346, -999.00
096U20160426,       P15S,      99,          1,          1,       2001,2,20160613,       0649,   -19.4953,  -170.0026,       4929,  4984.6,   1.0520,  34.7090,2,  34.7080,2,    205.9,2,   206.0,2,  119.04,2,   31.89,2,    0.00,4,    2.19,2,-999.000,9,-999.000,9,-999.000,9,  2263.2,2,  2366.8,2,-999.0000,9,  -999.00,-999.0000,9, -999.00,9, -999.00,9,  -999.0,9,  -999.0, -999.00,9, -999.00,9, -999.00,9, -999.00,9,   0.6346, -999.00