BOTTLE,20230413CCHSIOENA
EXPOCODE,SECT_ID,STNNBR,CASTNO,SAMPNO,BTLNBR,BTLNBR_FLAG_W,DATE,TIME,LATITUDE,LONGITUDE,DEPTH,CTDPRS,CTDTMP,CTDSAL,CTDSAL_FLAG_W,SALNTY,SALNTY_FLAG_W,CTDOXY,CTDOXY_FLAG_W,OXYGEN,OXYGEN_FLAG_W,SILCAT,SILCAT_FLAG_W,NITRAT,NITRAT_FLAG_W,NITRIT,NITRIT_FLAG_W,PHSPHT,PHSPHT_FLAG_W,CFC-11,CFC-11_FLAG_W,CFC-12,CFC-12_FLAG_W,SF6,SF6_FLAG_W,TCARBN,TCARBN_FLAG_W,ALKALI,ALKALI_FLAG_W,PH_TOT,PH_TOT_FLAG_W,PH_TMP,HELIUM,HELIUM_FLAG_W,DELHE3,DELHE3_FLAG_W,DELC13,DELC13_FLAG_W,DELC14,DELC14_FLAG_W,C14ERR,POC,POC_FLAG_W,PON,PON_FLAG_W,CHLORA,CHLORA_FLAG_W,PPHYTN,PPHYTN_FLAG_W,THETA,DELHER
,,,,,,,,,,,METERS,DBAR,ITS-90,PSS-78,,PSS-78,,UMOL/KG,,UMOL/KG,,UMOL/KG,,UMOL/KG,,UMOL/KG,,UMOL/KG,,PMOL/KG,,PMOL/KG,,FMOL/KG,,UMOL/KG,,UMOL/KG,,,,DEG C,NMOL/KG,,PERCNT,,/MILLE,,/MILLE,,/MILLE,UG/KG,,UG/KG,,UG/KG,,UG/KG,,DEG C,PERCNT
096U20160426,       P15S,     117,          1,         36,       2036,2,20160617,       2158,   -11.4959,  -169.9992,       5069,     5.7,  29.5000,  34.7100,2,  34.7096,2,    188.8,2,   193.3,2,    0.25,2,   -0.05,4,    0.01,4,    0.14,2,-999.000,9,-999.000,9,-999.000,9,  1934.2,2,  2283.5,2,-999.0000,9,  -999.00,-999.0000,9, -999.00,9, -999.00,9,  -999.0,9,  -999.0, -999.00,9, -999.00,9,    0.14,2,    0.03,3,  29.4986, -999.00
096U20160426,       P15S,     117,          1,         35,       2035,2,20160617,       2158,   -11.4959,  -169.9992,       5069,    25.5,  29.4990,  34.7110,2,  34.7143,2,    188.7,2,   193.2,2,    0.25,2,   -0.05,4,    0.01,4,    0.14,2,-999.000,9,-999.000,9,-999.000,9,  -999.0,9,  -999.0,9,-999.0000,9,  -999.00,-999.0000,9, -999.00,9, -999.00,9,  -999.0,9,  -999.0, -999.00,9, -999.00,9,    0.14,2,    0.04,3,  29.4928, -999.00
096U20160426,       P15S,     117,          1,         34,       2034,2,20160617,       2158,   -11.4959,  -169.9992,       5069,    50.9,  29.5070,  34.7080,2,  34.9311,2,    188.3,2,   194.0,2,    0.27,2,   -0.04,4,    0.01,4,    0.16,2,-999.000,9,-999.000,9,-999.000,9,  -999.0,9,  -999.0,9,-999.0000,9,  -999.00,-999.0000,9, -999.00,9, -999.00,9,  -999.0,9,  -999.0, -999.00,9, -999.00,9,    0.21,2,    0.03,3,  29.4945, -999.00
096U20160426,       P15S,     117,          1,         33,       2033,2,20160617,       2158,   -11.4959,  -169.9992,       5069,    75.8,  28.1040,  35.8360,2,  35.9247,2,    175.8,2,   164.2,3,    0.81,2,    2.86,2,    0.63,2,    0.48,2,-999.000,9,-999.000,9,-999.000,9,  2057.2,2,  2362.6,2,-999.0000,9,  -999.00,-999.0000,9, -999.00,9, -999.00,9,  -999.0,9,  -999.0, -999.00,9, -999.00,9,    0.37,2,    0.14,3,  28.0860, -999.00
096U20160426,       P15S,     117,          1,         32,       2032,2,20160617,       2158,   -11.4959,  -169.9992,       5069,   104.2,  26.6950,  36.1280,2,  36.1733,2,    153.5,2,   155.2,2,    0.78,2,    3.59,2,    0.83,2,    0.55,2,-999.000,9,-999.000,9,-999.000,9,  -999.0,9,  -999.0,9,-999.0000,9,  -999.00,-999.0000,9, -999.00,9, -999.00,9,  -999.0,9,  -999.0, -999.00,9, -999.00,9,    0.29,2,    0.31,3,  26.6712, -999.00
096U20160426,       P15S,     117,          1,         31,       2031,2,20160617,       2158,   -11.4959,  -169.9992,       5069,   133.1,  24.6090,  36.2440,2,  36.2187,2,    147.9,2,   149.7,2,    0.73,2,    5.59,2,    0.36,2,    0.62,2,-999.000,9,-999.000,9,-999.000,9,  2109.2,2,  2382.3,2,-999.0000,9,  -999.00,-999.0000,9, -999.00,9, -999.00,9,  -999.0,9,  -999.0, -999.00,9, -999.00,9, -999.00,9, -999.00,9,  24.5803, -999.00
096U20160426,       P15S,     117,          1,         30,       2030,2,20160617,       2158,   -11.4959,  -169.9992,       5069,   201.5,  20.7250,  35.8470,2,  35.7612,2,    148.5,2,   150.3,2,    1.52,2,    7.98,2,    0.02,4,    0.77,2,-999.000,9,-999.000,9,-999.000,9,  2130.1,2,  2353.6,2,-999.0000,9,  -999.00,-999.0000,9, -999.00,9, -999.00,9,  -999.0,9,  -999.0, -999.00,9, -999.00,9, -999.00,9, -999.00,9,  20.6866, -999.00
096U20160426,       P15S,     117,          1,         29,       2029,2,20160617,       2158,   -11.4959,  -169.9992,       5069,   251.5,  17.4540,  35.4070,2,  35.3721,2,    134.6,2,   133.8,2,    4.00,2,   11.92,2,    0.01,4,    1.08,2,-999.000,9,-999.000,9,-999.000,9,  -999.0,9,  -999.0,9,-999.0000,9,  -999.00,-999.0000,9, -999.00,9, -999.00,9,  -999.0,9,  -999.0, -999.00,9, -999.00,9, -999.00,9, -999.00,9,  17.4116, -999.00
096U20160426,       P15S,     117,          1,         28,       2028,2,20160617,       2158,   -11.4959,  -169.9992,       5069,   291.7,  15.4430,  35.1550,2,  35.0851,2,    115.6,2,   107.6,2,    8.22,2,   17.22,2,    0.01,4,    1.46,2,-999.000,9,-999.000,9,-999.000,9,  2174.2,2,  2312.7,2,-999.0000,9,  -999.00,-999.0000,9, -999.00,9, -999.00,9,  -999.0,9,  -999.0, -999.00,9, -999.00,9, -999.00,9, -999.00,9,  15.3978, -999.00
096U20160426,       P15S,     117,          1,         27,       2027,2,20160617,       2158,   -11.4959,  -169.9992,       5069,   351.3,  11.9020,  34.8080,2,  34.7876,2,    105.9,2,   102.0,2,   14.30,2,   22.97,2,    0.01,4,    1.79,2,-999.000,9,-999.000,9,-999.000,9,  -999.0,9,  -999.0,9,-999.0000,9,  -999.00,-999.0000,9, -999.00,9, -999.00,9,  -999.0,9,  -999.0, -999.00,9, -999.00,9, -999.00,9, -999.00,9,  11.8562, -999.00
096U20160426,       P15S,     117,          1,         26,       2026,2,20160617,       2158,   -11.4959,  -169.9992,       5069,   401.8,   9.7700,  34.6810,2,  34.6711,2,    111.5,2,   112.6,2,   19.63,2,   26.56,2,    0.01,4,    1.95,2,-999.000,9,-999.000,9,-999.000,9,  -999.0,9,  -999.0,9,-999.0000,9,  -999.00,-999.0000,9, -999.00,9, -999.00,9,  -999.0,9,  -999.0, -999.00,9, -999.00,9, -999.00,9, -999.00,9,   9.7237, -999.00
096U20160426,       P15S,     117,          1,         25,       2025,2,20160617,       2158,   -11.4959,  -169.9992,       5069,   501.6,   7.5330,  34.5530,2,  34.5450,2,    130.3,2,   130.4,2,   28.42,2,   30.02,2,    0.01,4,    2.11,2,-999.000,9,-999.000,9,-999.000,9,  2210.3,2,  2300.9,2,-999.0000,9,  -999.00,-999.0000,9, -999.00,9, -999.00,9,  -999.0,9,  -999.0, -999.00,9, -999.00,9, -999.00,9, -999.00,9,   7.4833, -999.00
096U20160426,       P15S,     117,          1,         24,       2024,2,20160617,       2158,   -11.4959,  -169.9992,       5069,   601.8,   6.6150,  34.5270,2,  34.5222,2,    124.6,2,   125.0,2,   36.93,2,   32.39,2,    0.01,4,    2.26,2,-999.000,9,-999.000,9,-999.000,9,  -999.0,9,  -999.0,9,-999.0000,9,  -999.00,-999.0000,9, -999.00,9, -999.00,9,  -999.0,9,  -999.0, -999.00,9, -999.00,9, -999.00,9, -999.00,9,   6.5592, -999.00
096U20160426,       P15S,     117,          1,         23,       2023,2,20160617,       2158,   -11.4959,  -169.9992,       5069,   701.6,   5.8230,  34.4980,2,  34.5004,2,    133.9,2,   130.5,2,   44.05,2,   33.22,2,    0.01,4,    2.33,2,-999.000,9,-999.000,9,-999.000,9,  -999.0,9,  -999.0,9,-999.0000,9,  -999.00,-999.0000,9, -999.00,9, -999.00,9,  -999.0,9,  -999.0, -999.00,9, -999.00,9, -999.00,9, -999.00,9,   5.7616, -999.00
096U20160426,       P15S,     117,          1,         22,       2022,2,20160617,       2158,   -11.4959,  -169.9992,       5069,   801.5,   5.3130,  34.4950,2,  34.4939,2,    133.8,2,   132.3,2,   50.85,2,   33.91,2,    0.01,4,    2.38,2,-999.000,9,-999.000,9,-999.000,9,  -999.0,9,  -999.0,9,-999.0000,9,  -999.00,-999.0000,9, -999.00,9, -999.00,9,  -999.0,9,  -999.0, -999.00,9, -999.00,9, -999.00,9, -999.00,9,   5.2455, -999.00
096U20160426,       P15S,     117,          1,         21,       2021,2,20160617,       2158,   -11.4959,  -169.9992,       5069,   900.9,   4.8400,  34.4970,2,  34.4983,2,    132.6,2,   131.1,2,   57.76,2,   34.65,2,    0.01,4,    2.44,2,-999.000,9,-999.000,9,-999.000,9,  -999.0,9,  -999.0,9,-999.0000,9,  -999.00,-999.0000,9, -999.00,9, -999.00,9,  -999.0,9,  -999.0, -999.00,9, -999.00,9, -999.00,9, -999.00,9,   4.7667, -999.00
096U20160426,       P15S,     117,          1,         20,       2020,2,20160617,       2158,   -11.4959,  -169.9992,       5069,  1001.2,   4.5180,  34.5200,2,  34.5186,2,    121.5,2,   120.3,2,   67.29,2,   35.98,2,    0.01,4,    2.54,2,-999.000,9,-999.000,9,-999.000,9,  2264.7,6,  2336.7,6,-999.0000,9,  -999.00,-999.0000,9, -999.00,9, -999.00,9,  -999.0,9,  -999.0, -999.00,9, -999.00,9, -999.00,9, -999.00,9,   4.4382, -999.00
096U20160426,       P15S,     117,          1,         19,       2019,2,20160617,       2158,   -11.4959,  -169.9992,       5069,  1097.0,   4.1940,  34.5270,2,  34.5268,2,    124.0,2,   123.7,2,   72.97,2,   36.11,2,    0.01,4,    2.54,2,-999.000,9,-999.000,9,-999.000,9,  -999.0,9,  -999.0,9,-999.0000,9,  -999.00,-999.0000,9, -999.00,9, -999.00,9,  -999.0,9,  -999.0, -999.00,9, -999.00,9, -999.00,9, -999.00,9,   4.1085, -999.00
096U20160426,       P15S,     117,          1,         18,       2018,2,20160617,       2158,   -11.4959,  -169.9992,       5069,  1200.8,   3.9010,  34.5370,2,  34.5358,2,    127.2,2,   126.2,2,   78.71,2,   36.13,2,    0.01,4,    2.55,2,-999.000,9,-999.000,9,-999.000,9,  -999.0,9,  -999.0,9,-999.0000,9,  -999.00,-999.0000,9, -999.00,9,    0.40,6,  -179.7,6,     2.0, -999.00,9, -999.00,9, -999.00,9, -999.00,9,   3.8092, -999.00
096U20160426,       P15S,     117,          1,         17,       2017,2,20160617,       2158,   -11.4959,  -169.9992,       5069,  1300.6,   3.6090,  34.5510,2,  34.5508,2,    126.3,2,   125.0,2,   85.46,2,   36.43,2,    0.01,4,    2.57,2,-999.000,9,-999.000,9,-999.000,9,  -999.0,9,  -999.0,9,-999.0000,9,  -999.00,-999.0000,9, -999.00,9, -999.00,9,  -999.0,9,  -999.0, -999.00,9, -999.00,9, -999.00,9, -999.00,9,   3.5114, -999.00
096U20160426,       P15S,     117,          1,         16,       2016,2,20160617,       2158,   -11.4959,  -169.9992,       5069,  1401.1,   3.2780,  34.5630,2,  34.5620,2,    132.4,2,   132.1,2,   90.11,2,   36.03,2,    0.01,4,    2.54,2,-999.000,9,-999.000,9,-999.000,9,  -999.0,9,  -999.0,9,-999.0000,9,  -999.00,-999.0000,9, -999.00,9, -999.00,9,  -999.0,9,  -999.0, -999.00,9, -999.00,9, -999.00,9, -999.00,9,   3.1754, -999.00
096U20160426,       P15S,     117,          1,         15,       2015,2,20160617,       2158,   -11.4959,  -169.9992,       5069,  1601.2,   2.8000,  34.5930,2,  34.5925,2,    134.6,2,   134.0,2,  102.12,2,   36.16,2,    0.01,4,    2.54,2,-999.000,9,-999.000,9,-999.000,9,  -999.0,9,  -999.0,9,-999.0000,9,  -999.00,-999.0000,9, -999.00,9, -999.00,9,  -999.0,9,  -999.0, -999.00,9, -999.00,9, -999.00,9, -999.00,9,   2.6860, -999.00
096U20160426,       P15S,     117,          1,         14,       2014,2,20160617,       2158,   -11.4959,  -169.9992,       5069,  1800.8,   2.4000,  34.6190,2,  34.6177,2,    140.3,2,   140.8,2,  110.88,2,   35.82,2,    0.01,4,    2.51,2,-999.000,9,-999.000,9,-999.000,9,  -999.0,9,  -999.0,9,-999.0000,9,  -999.00,-999.0000,9, -999.00,9, -999.00,9,  -999.0,9,  -999.0, -999.00,9, -999.00,9, -999.00,9, -999.00,9,   2.2745, -999.00
096U20160426,       P15S,     117,          1,         13,       2013,2,20160617,       2158,   -11.4959,  -169.9992,       5069,  2001.1,   2.1400,  34.6390,2,  34.6382,2,    143.1,2,   143.4,2,  118.45,2,   35.69,2,    0.01,4,    2.50,2,-999.000,9,-999.000,9,-999.000,9,  -999.0,9,  -999.0,9,-999.0000,9,  -999.00,-999.0000,9, -999.00,9, -999.00,9,  -999.0,9,  -999.0, -999.00,9, -999.00,9, -999.00,9, -999.00,9,   2.0013, -999.00
096U20160426,       P15S,     117,          1,         12,       2012,2,20160617,       2158,   -11.4959,  -169.9992,       5069,  2251.1,   1.9750,  34.6530,2,  34.6524,2,    142.9,2,   143.1,2,  125.34,2,   35.78,2,    0.01,4,    2.51,2,-999.000,9,-999.000,9,-999.000,9,  -999.0,9,  -999.0,9,-999.0000,9,  -999.00,-999.0000,9, -999.00,9, -999.00,9,  -999.0,9,  -999.0, -999.00,9, -999.00,9, -999.00,9, -999.00,9,   1.8174, -999.00
096U20160426,       P15S,     117,          1,         11,       2011,2,20160617,       2158,   -11.4959,  -169.9992,       5069,  2499.9,   1.8540,  34.6640,2,  34.6644,2,    144.8,2,   144.9,2,  129.00,2,   35.66,2,    0.01,4,    2.50,2,-999.000,9,-999.000,9,-999.000,9,  -999.0,9,  -999.0,9,-999.0000,9,  -999.00,-999.0000,9, -999.00,9, -999.00,9,  -999.0,9,  -999.0, -999.00,9, -999.00,9, -999.00,9, -999.00,9,   1.6764, -999.00
096U20160426,       P15S,     117,          1,         10,       2010,2,20160617,       2158,   -11.4959,  -169.9992,       5069,  2750.1,   1.7440,  34.6720,2,  34.6697,2,    147.8,2,   147.9,2,  132.36,2,   35.56,2,    0.00,4,    2.48,2,-999.000,9,-999.000,9,-999.000,9,  -999.0,9,  -999.0,9,-999.0000,9,  -999.00,-999.0000,9, -999.00,9, -999.00,9,  -999.0,9,  -999.0, -999.00,9, -999.00,9, -999.00,9, -999.00,9,   1.5455, -999.00
096U20160426,       P15S,     117,          1,          9,       2009,2,20160617,       2158,   -11.4959,  -169.9992,       5069,  3000.7,   1.6850,  34.6760,2,  34.6765,2,    152.2,2,   152.6,2,  131.46,2,   35.22,2,    0.01,4,    2.46,2,-999.000,9,-999.000,9,-999.000,9,  -999.0,9,  -999.0,9,-999.0000,9,  -999.00,-999.0000,9, -999.00,9, -999.00,9,  -999.0,9,  -999.0, -999.00,9, -999.00,9, -999.00,9, -999.00,9,   1.4640, -999.00
096U20160426,       P15S,     117,          1,          8,       2008,2,20160617,       2158,   -11.4959,  -169.9992,       5069,  3300.9,   1.5930,  34.6820,2,  34.6813,2,    155.6,2,   156.0,2,  133.78,2,   35.03,2,    0.01,4,    2.45,2,-999.000,9,-999.000,9,-999.000,9,  -999.0,9,  -999.0,9,-999.0000,9,  -999.00,-999.0000,9, -999.00,9, -999.00,9,  -999.0,9,  -999.0, -999.00,9, -999.00,9, -999.00,9, -999.00,9,   1.3446, -999.00
096U20160426,       P15S,     117,          1,          7,       2007,2,20160617,       2158,   -11.4959,  -169.9992,       5069,  3601.2,   1.5270,  34.6870,2,  34.6855,2,    161.8,2,   162.7,2,  132.44,2,   34.64,2,    0.01,4,    2.41,2,-999.000,9,-999.000,9,-999.000,9,  -999.0,9,  -999.0,9,-999.0000,9,  -999.00,-999.0000,9, -999.00,9, -999.00,9,  -999.0,9,  -999.0, -999.00,9, -999.00,9, -999.00,9, -999.00,9,   1.2497, -999.00
096U20160426,       P15S,     117,          1,          6,       2006,2,20160617,       2158,   -11.4959,  -169.9992,       5069,  3900.3,   1.4360,  34.6930,2,  34.6945,2,    171.0,2,   171.4,2,  129.27,2,   33.93,2,    0.01,4,    2.36,2,-999.000,9,-999.000,9,-999.000,9,  -999.0,9,  -999.0,9,-999.0000,9,  -999.00,-999.0000,9, -999.00,9, -999.00,9,  -999.0,9,  -999.0, -999.00,9, -999.00,9, -999.00,9, -999.00,9,   1.1295, -999.00
096U20160426,       P15S,     117,          1,          5,       2005,2,20160617,       2158,   -11.4959,  -169.9992,       5069,  4200.3,   1.2930,  34.7040,2,  34.7037,2,    186.6,2,   188.8,2,  121.92,2,   32.68,2,    0.01,4,    2.26,2,-999.000,9,-999.000,9,-999.000,9,  -999.0,9,  -999.0,9,-999.0000,9,  -999.00,-999.0000,9, -999.00,9, -999.00,9,  -999.0,9,  -999.0, -999.00,9, -999.00,9, -999.00,9, -999.00,9,   0.9579, -999.00
096U20160426,       P15S,     117,          1,          4,       2004,2,20160617,       2158,   -11.4959,  -169.9992,       5069,  4500.1,   1.1190,  34.7110,2,  34.7102,2,    200.2,2,   203.2,2,  117.23,2,   31.67,2,    0.01,4,    2.19,2,-999.000,9,-999.000,9,-999.000,9,  -999.0,9,  -999.0,9,-999.0000,9,  -999.00,-999.0000,9, -999.00,9, -999.00,9,  -999.0,9,  -999.0, -999.00,9, -999.00,9, -999.00,9, -999.00,9,   0.7556, -999.00
096U20160426,       P15S,     117,          1,          3,       2003,2,20160617,       2158,   -11.4959,  -169.9992,       5069,  4900.7,   1.0900,  34.7100,2,  34.7087,2,    203.1,2,   204.9,2,  118.37,2,   31.67,2,    0.01,4,    2.19,2,-999.000,9,-999.000,9,-999.000,9,  -999.0,9,  -999.0,9,-999.0000,9,  -999.00,-999.0000,9, -999.00,9, -999.00,9,  -999.0,9,  -999.0, -999.00,9, -999.00,9, -999.00,9, -999.00,9,   0.6812, -999.00
096U20160426,       P15S,     117,          1,          2,       2002,2,20160617,       2158,   -11.4959,  -169.9992,       5069,  5050.9,   1.1010,  34.7100,2,  34.7089,2,    203.6,2,   205.4,2,  118.55,2,   31.66,2,    0.01,4,    2.19,2,-999.000,9,-999.000,9,-999.000,9,  -999.0,9,  -999.0,9,-999.0000,9,  -999.00,-999.0000,9, -999.00,9, -999.00,9,  -999.0,9,  -999.0, -999.00,9, -999.00,9, -999.00,9, -999.00,9,   0.6740, -999.00
096U20160426,       P15S,     117,          1,          1,       2001,2,20160617,       2158,   -11.4959,  -169.9992,       5069,  5135.9,   1.1070,  34.7100,2,  34.7090,2,    204.1,2,   205.4,2,  118.61,2,   31.66,2,    0.01,4,    2.19,2,-999.000,9,-999.000,9,-999.000,9,  -999.0,9,  -999.0,9,-999.0000,9,  -999.00,-999.0000,9, -999.00,9, -999.00,9,  -999.0,9,  -999.0, -999.00,9, -999.00,9, -999.00,9, -999.00,9,   0.6695, -999.00