BOTTLE,20230413CCHSIOENA
EXPOCODE,SECT_ID,STNNBR,CASTNO,SAMPNO,BTLNBR,BTLNBR_FLAG_W,DATE,TIME,LATITUDE,LONGITUDE,DEPTH,CTDPRS,CTDTMP,CTDSAL,CTDSAL_FLAG_W,SALNTY,SALNTY_FLAG_W,CTDOXY,CTDOXY_FLAG_W,OXYGEN,OXYGEN_FLAG_W,SILCAT,SILCAT_FLAG_W,NITRAT,NITRAT_FLAG_W,NITRIT,NITRIT_FLAG_W,PHSPHT,PHSPHT_FLAG_W,CFC-11,CFC-11_FLAG_W,CFC-12,CFC-12_FLAG_W,SF6,SF6_FLAG_W,TCARBN,TCARBN_FLAG_W,ALKALI,ALKALI_FLAG_W,PH_TOT,PH_TOT_FLAG_W,PH_TMP,HELIUM,HELIUM_FLAG_W,DELHE3,DELHE3_FLAG_W,DELC13,DELC13_FLAG_W,DELC14,DELC14_FLAG_W,C14ERR,POC,POC_FLAG_W,PON,PON_FLAG_W,CHLORA,CHLORA_FLAG_W,PPHYTN,PPHYTN_FLAG_W,THETA,DELHER
,,,,,,,,,,,METERS,DBAR,ITS-90,PSS-78,,PSS-78,,UMOL/KG,,UMOL/KG,,UMOL/KG,,UMOL/KG,,UMOL/KG,,UMOL/KG,,PMOL/KG,,PMOL/KG,,FMOL/KG,,UMOL/KG,,UMOL/KG,,,,DEG C,NMOL/KG,,PERCNT,,/MILLE,,/MILLE,,/MILLE,UG/KG,,UG/KG,,UG/KG,,UG/KG,,DEG C,PERCNT
096U20160426,       P15S,       8,          1,         36,       2036,2,20160508,       0316,   -63.0042,  -170.0371,       3048,     4.2,   0.4010,  34.0780,2,  34.0777,2,    339.2,2,   327.4,2,   46.55,2,   29.58,2,    0.28,2,    2.07,2,   5.584,6,   2.922,6,   3.238,6,  2189.7,2,  2298.0,2,-999.0000,9,  -999.00,-999.0000,9, -999.00,9, -999.00,9,  -999.0,9,  -999.0, -999.00,9, -999.00,9,    0.74,2,   -0.07,3,   0.4008, -999.00
096U20160426,       P15S,       8,          1,         35,       2035,2,20160508,       0316,   -63.0042,  -170.0371,       3048,    34.7,   0.4030,  34.0780,2,  34.0778,2,    339.0,2,   327.3,2,   46.46,2,   29.57,2,    0.28,2,    2.06,2,-999.000,9,-999.000,9,-999.000,9,  2190.1,2,  2299.8,2,-999.0000,9,  -999.00,-999.0000,9, -999.00,9, -999.00,9,  -999.0,9,  -999.0, -999.00,9, -999.00,9,    0.14,2,    0.23,3,   0.4017, -999.00
096U20160426,       P15S,       8,          1,         34,       2034,2,20160508,       0316,   -63.0042,  -170.0371,       3048,    61.1,   0.4050,  34.0780,2,  34.0776,2,    339.0,2,   327.4,2,   46.42,2,   29.53,2,    0.28,2,    2.06,2,   5.535,2,   2.913,2,   3.293,2,  2189.1,2,  2299.8,2,-999.0000,9,  -999.00,-999.0000,9, -999.00,9, -999.00,9,  -999.0,9,  -999.0, -999.00,9, -999.00,9,    0.12,2,    0.22,3,   0.4027, -999.00
096U20160426,       P15S,       8,          1,         33,       2033,2,20160508,       0316,   -63.0042,  -170.0371,       3048,    84.8,   0.4110,  34.0780,2,  34.0779,2,    338.7,2,   327.0,2,   46.39,2,   29.55,2,    0.28,2,    2.06,2,   5.551,2,   2.918,2,   3.189,2,  2189.1,2,  2299.7,2,-999.0000,9,  -999.00,-999.0000,9, -999.00,9, -999.00,9,  -999.0,9,  -999.0, -999.00,9, -999.00,9,    0.16,2,    0.21,3,   0.4077, -999.00
096U20160426,       P15S,       8,          1,         32,       2032,2,20160508,       0316,   -63.0042,  -170.0371,       3048,   111.9,   0.4290,  34.0800,2,  34.0804,2,    337.7,2,   326.1,2,   46.42,2,   29.65,2,    0.28,2,    2.07,2,   5.502,2,   2.901,2,   3.183,2,  2190.8,6,  2299.8,6,-999.0000,9,  -999.00,-999.0000,9, -999.00,9, -999.00,9,  -999.0,9,  -999.0, -999.00,9, -999.00,9,    0.13,2,    0.23,3,   0.4247, -999.00
096U20160426,       P15S,       8,          1,         31,       2031,2,20160508,       0316,   -63.0042,  -170.0371,       3048,   136.1,   0.7160,  34.1620,2,  34.1350,2,    313.8,2,   306.5,2,   49.52,2,   30.82,2,    0.21,2,    2.14,2,   4.931,2,   2.618,2,   2.874,2,  2200.6,2,  2302.0,6,-999.0000,9,  -999.00,-999.0000,9, -999.00,9, -999.00,9,  -999.0,9,  -999.0, -999.00,9, -999.00,9, -999.00,9, -999.00,9,   0.7104, -999.00
096U20160426,       P15S,       8,          1,         30,       2030,2,20160508,       0316,   -63.0042,  -170.0371,       3048,   160.6,   1.3570,  34.3510,2,  34.3519,2,    241.4,2,   231.6,2,   62.02,2,   34.44,2,    0.01,4,    2.36,2,   3.005,2,   1.549,2,   1.505,2,  2236.8,2,  2313.9,2,-999.0000,9,  -999.00,-999.0000,9, -999.00,9, -999.00,9,  -999.0,9,  -999.0, -999.00,9, -999.00,9, -999.00,9, -999.00,9,   1.3494, -999.00
096U20160426,       P15S,       8,          1,         29,       2029,2,20160508,       0316,   -63.0042,  -170.0371,       3048,   187.4,   1.4450,  34.3870,2,  34.3913,2,    229.7,2,   220.2,2,   64.83,2,   34.51,2,    0.01,4,    2.37,2,   2.650,2,   1.347,2,   1.268,2,  2239.4,2,  2316.9,2,-999.0000,9,  -999.00,-999.0000,9, -999.00,9, -999.00,9,  -999.0,9,  -999.0, -999.00,9, -999.00,9, -999.00,9, -999.00,9,   1.4359, -999.00
096U20160426,       P15S,       8,          1,         28,       2028,2,20160508,       0316,   -63.0042,  -170.0371,       3048,   209.6,   1.6080,  34.4310,2,  34.4307,2,    216.9,2,   207.2,2,   67.65,2,   34.64,2,    0.01,4,    2.38,2,   2.191,2,   1.109,2,   1.013,2,  2246.2,2,  2321.7,2,-999.0000,9,  -999.00,-999.0000,9, -999.00,9, -999.00,9,  -999.0,9,  -999.0, -999.00,9, -999.00,9, -999.00,9, -999.00,9,   1.5975, -999.00
096U20160426,       P15S,       8,          1,         27,       2027,2,20160508,       0316,   -63.0042,  -170.0371,       3048,   236.1,   1.7920,  34.4670,2,  34.4730,2,    205.1,2,   195.3,2,   69.91,2,   34.73,2,    0.01,4,    2.38,2,   1.772,2,   0.890,2,   0.772,2,  2248.5,2,  2323.6,2,-999.0000,9,  -999.00,-999.0000,9, -999.00,9, -999.00,9,  -999.0,9,  -999.0, -999.00,9, -999.00,9, -999.00,9, -999.00,9,   1.7797, -999.00
096U20160426,       P15S,       8,          1,         26,       2026,2,20160508,       0316,   -63.0042,  -170.0371,       3048,   263.3,   1.9320,  34.5160,2,  34.5170,2,    195.2,2,   186.3,2,   72.56,2,   34.68,2,    0.00,4,    2.38,2,   1.387,2,   0.687,2,   0.581,2,  2252.8,2,  2327.4,2,-999.0000,9,  -999.00,-999.0000,9, -999.00,9, -999.00,9,  -999.0,9,  -999.0, -999.00,9, -999.00,9, -999.00,9, -999.00,9,   1.9179, -999.00
096U20160426,       P15S,       8,          1,         25,       2025,2,20160508,       0316,   -63.0042,  -170.0371,       3048,   315.3,   2.1140,  34.5700,2,  34.5695,2,    185.9,2,   177.2,2,   75.21,2,   34.45,2,    0.00,4,    2.36,2,   0.951,2,   0.475,2,   0.336,2,  2256.2,6,  2330.9,6,-999.0000,9,  -999.00,-999.0000,9, -999.00,9, -999.00,9,  -999.0,9,  -999.0, -999.00,9, -999.00,9, -999.00,9, -999.00,9,   2.0965, -999.00
096U20160426,       P15S,       8,          1,         24,       2024,2,20160508,       0316,   -63.0042,  -170.0371,       3048,   365.7,   2.1470,  34.5990,2,  34.5983,2,    183.4,2,   175.0,2,   76.74,2,   34.19,2,    0.01,4,    2.34,2,   0.798,2,   0.397,2,   0.349,2,  2258.6,2,  2334.2,2,-999.0000,9,  -999.00,-999.0000,9, -999.00,9, -999.00,9,  -999.0,9,  -999.0, -999.00,9, -999.00,9, -999.00,9, -999.00,9,   2.1265, -999.00
096U20160426,       P15S,       8,          1,         23,       2023,2,20160508,       0316,   -63.0042,  -170.0371,       3048,   415.3,   2.0920,  34.6220,2,  34.6263,2,    183.7,2,   175.2,2,   78.75,2,   33.86,2,    0.00,4,    2.32,2,   0.675,2,   0.346,2,   0.274,2,  2259.2,2,  2336.1,6,-999.0000,9,  -999.00,-999.0000,9, -999.00,9, -999.00,9,  -999.0,9,  -999.0, -999.00,9, -999.00,9, -999.00,9, -999.00,9,   2.0687, -999.00
096U20160426,       P15S,       8,          1,         22,       2022,2,20160508,       0316,   -63.0042,  -170.0371,       3048,   466.3,   2.1630,  34.6540,2,  34.6552,2,    183.9,2,   175.4,2,   79.61,2,   33.28,2,    0.00,4,    2.28,2,   0.479,2,   0.242,2,   0.145,2,  2257.3,2,  2339.1,2,-999.0000,9,  -999.00,-999.0000,9, -999.00,9, -999.00,9,  -999.0,9,  -999.0, -999.00,9, -999.00,9, -999.00,9, -999.00,9,   2.1363, -999.00
096U20160426,       P15S,       8,          1,         21,       2021,2,20160508,       0316,   -63.0042,  -170.0371,       3048,   534.9,   2.1310,  34.6730,2,  34.6725,2,    185.1,2,   177.2,2,   80.78,2,   32.94,2,    0.00,4,    2.26,2,   0.420,2,   0.211,2,    0.12,2,  2256.0,2,  2340.0,2,-999.0000,9,  -999.00,-999.0000,9, -999.00,9, -999.00,9,  -999.0,9,  -999.0, -999.00,9, -999.00,9, -999.00,9, -999.00,9,   2.1002, -999.00
096U20160426,       P15S,       8,          1,         20,       2020,2,20160508,       0316,   -63.0042,  -170.0371,       3048,   636.3,   2.0760,  34.6980,2,  34.6975,2,    188.6,2,   180.7,2,   82.46,2,   32.32,2,    0.00,4,    2.21,2,   0.331,2,   0.169,2,   0.133,2,  2255.1,2,  2344.3,2,-999.0000,9,  -999.00,-999.0000,9, -999.00,9, -999.00,9,  -999.0,9,  -999.0, -999.00,9, -999.00,9, -999.00,9, -999.00,9,   2.0391, -999.00
096U20160426,       P15S,       8,          1,         19,       2019,2,20160508,       0316,   -63.0042,  -170.0371,       3048,   734.7,   2.0060,  34.7100,2,  34.7112,2,    190.7,2,   183.0,2,   84.24,2,   32.02,2,    0.00,4,    2.19,2,   0.302,2,   0.155,2,   0.084,2,  2257.6,2,  2344.2,2,-999.0000,9,  -999.00,-999.0000,9, -999.00,9, -999.00,9,  -999.0,9,  -999.0, -999.00,9, -999.00,9, -999.00,9, -999.00,9,   1.9632, -999.00
096U20160426,       P15S,       8,          1,         18,       2018,2,20160508,       0316,   -63.0042,  -170.0371,       3048,   835.8,   1.9540,  34.7230,2,  34.7226,2,    193.4,2,   186.1,2,   85.88,2,   31.69,2,    0.00,4,    2.17,2,   0.257,2,   0.131,2,   0.056,2,  2254.7,2,  2345.3,2,-999.0000,9,  -999.00,-999.0000,9, -999.00,9, -999.00,9,  -999.0,9,  -999.0, -999.00,9, -999.00,9, -999.00,9, -999.00,9,   1.9049, -999.00
096U20160426,       P15S,       8,          1,         17,       2017,2,20160508,       0316,   -63.0042,  -170.0371,       3048,   935.1,   1.8830,  34.7300,2,  34.7295,2,    195.4,2,   188.0,2,   87.66,2,   31.53,2,    0.00,4,    2.16,2,   0.240,2,   0.123,2,   0.099,2,  2253.3,2,  2346.5,2,-999.0000,9,  -999.00,-999.0000,9, -999.00,9, -999.00,9,  -999.0,9,  -999.0, -999.00,9, -999.00,9, -999.00,9, -999.00,9,   1.8279, -999.00
096U20160426,       P15S,       8,          1,         16,       2016,2,20160508,       0316,   -63.0042,  -170.0371,       3048,  1034.3,   1.8220,  34.7350,2,  34.7353,2,    197.3,2,   190.1,2,   89.46,2,   31.34,2,    0.00,4,    2.15,2,   0.204,2,   0.108,2,   0.041,2,  2253.9,2,  2350.8,2,-999.0000,9,  -999.00,-999.0000,9, -999.00,9, -999.00,9,  -999.0,9,  -999.0, -999.00,9, -999.00,9, -999.00,9, -999.00,9,   1.7607, -999.00
096U20160426,       P15S,       8,          1,         15,       2015,2,20160508,       0316,   -63.0042,  -170.0371,       3048,  1136.2,   1.7430,  34.7380,2,  34.7382,2,    199.3,2,   192.4,2,   91.77,2,   31.25,2,    0.00,4,    2.14,2,   0.187,2,   0.096,2,   0.052,2,  2255.1,2,  2352.4,2,-999.0000,9,  -999.00,-999.0000,9, -999.00,9, -999.00,9,  -999.0,9,  -999.0, -999.00,9, -999.00,9, -999.00,9, -999.00,9,   1.6754, -999.00
096U20160426,       P15S,       8,          1,         14,       2014,2,20160508,       0316,   -63.0042,  -170.0371,       3048,  1237.2,   1.6270,  34.7370,2,  34.7370,2,    200.8,2,   194.0,2,   94.50,2,   31.32,2,    0.00,4,    2.15,2,   0.203,2,   0.104,2,   0.052,2,  2255.3,6,  2353.4,6,-999.0000,9,  -999.00,-999.0000,9, -999.00,9, -999.00,9,  -999.0,9,  -999.0, -999.00,9, -999.00,9, -999.00,9, -999.00,9,   1.5535, -999.00
096U20160426,       P15S,       8,          1,         13,       2013,2,20160508,       0316,   -63.0042,  -170.0371,       3048,  1465.8,   1.4460,  34.7330,2,  34.7331,2,    203.1,2,   196.8,2,   99.66,2,   31.48,2,    0.00,4,    2.16,2,   0.203,2,   0.104,2,   0.053,2,  2257.7,2,  2354.9,2,-999.0000,9,  -999.00,-999.0000,9, -999.00,9, -999.00,9,  -999.0,9,  -999.0, -999.00,9, -999.00,9, -999.00,9, -999.00,9,   1.3583, -999.00
096U20160426,       P15S,       8,          1,         12,       2012,2,20160508,       0316,   -63.0042,  -170.0371,       3048,  1565.6,   1.3880,  34.7320,2,  34.7317,2,    203.9,2,   198.1,2,  101.46,2,   31.53,2,    0.00,4,    2.16,2,   0.200,2,   0.102,2,   0.056,2,  2256.6,2,  2356.8,2,-999.0000,9,  -999.00,-999.0000,9, -999.00,9, -999.00,9,  -999.0,9,  -999.0, -999.00,9, -999.00,9, -999.00,9, -999.00,9,   1.2937, -999.00
096U20160426,       P15S,       8,          1,         11,       2011,2,20160508,       0316,   -63.0042,  -170.0371,       3048,  1766.3,   1.2460,  34.7270,2,  34.7271,2,    205.5,2,   199.5,2,  105.95,2,   31.70,2,    0.00,4,    2.18,2,   0.197,2,   0.099,2,   0.045,2,  2258.8,2,  2358.3,2,-999.0000,9,  -999.00,-999.0000,9, -999.00,9, -999.00,9,  -999.0,9,  -999.0, -999.00,9, -999.00,9, -999.00,9, -999.00,9,   1.1387, -999.00
096U20160426,       P15S,       8,          1,         10,       2010,2,20160508,       0316,   -63.0042,  -170.0371,       3048,  1966.0,   1.1240,  34.7220,2,  34.7234,2,    207.4,2,   201.6,2,  110.14,2,   31.87,2,    0.00,4,    2.19,2,   0.190,2,   0.095,2,   0.052,2,  2261.4,2,  2360.4,2,-999.0000,9,  -999.00,-999.0000,9, -999.00,9, -999.00,9,  -999.0,9,  -999.0, -999.00,9, -999.00,9, -999.00,9, -999.00,9,   1.0033, -999.00
096U20160426,       P15S,       8,          1,          9,       2009,2,20160508,       0316,   -63.0042,  -170.0371,       3048,  2164.1,   1.0100,  34.7180,2,  34.7175,2,    208.8,2,   203.4,2,  113.94,2,   32.02,2,    0.00,4,    2.20,2,   0.199,2,   0.100,2,    0.06,2,  2261.4,2,  2361.0,2,-999.0000,9,  -999.00,-999.0000,9, -999.00,9, -999.00,9,  -999.0,9,  -999.0, -999.00,9, -999.00,9, -999.00,9, -999.00,9,   0.8756, -999.00
096U20160426,       P15S,       8,          1,          8,       2008,2,20160508,       0316,   -63.0042,  -170.0371,       3048,  2366.3,   0.9150,  34.7130,2,  34.7134,2,    210.4,2,   205.2,2,  117.68,2,   32.16,2,    0.00,4,    2.21,2,   0.213,2,   0.107,2,   0.041,2,  2262.6,2,  2361.4,6,-999.0000,9,  -999.00,-999.0000,9, -999.00,9, -999.00,9,  -999.0,9,  -999.0, -999.00,9, -999.00,9, -999.00,9, -999.00,9,   0.7659, -999.00
096U20160426,       P15S,       8,          1,          7,       2007,2,20160508,       0316,   -63.0042,  -170.0371,       3048,  2563.9,   0.8310,  34.7090,2,  34.7093,2,    210.9,2,   206.0,2,  123.38,2,   32.33,2,    0.00,4,    2.22,2,   0.227,2,   0.113,2,   0.048,2,  2263.6,2,  2362.6,2,-999.0000,9,  -999.00,-999.0000,9, -999.00,9, -999.00,9,  -999.0,9,  -999.0, -999.00,9, -999.00,9, -999.00,9, -999.00,9,   0.6670, -999.00
096U20160426,       P15S,       8,          1,          6,       2006,2,20160508,       0316,   -63.0042,  -170.0371,       3048,  2764.1,   0.8020,  34.7070,2,  34.7078,2,    210.9,2,   206.1,2,  128.48,2,   32.46,2,    0.00,4,    2.23,2,   0.233,2,   0.118,2,   0.061,2,  2265.0,2,  2363.2,2,-999.0000,9,  -999.00,-999.0000,9, -999.00,9, -999.00,9,  -999.0,9,  -999.0, -999.00,9, -999.00,9, -999.00,9, -999.00,9,   0.6214, -999.00
096U20160426,       P15S,       8,          1,          2,       2002,2,20160508,       0316,   -63.0042,  -170.0371,       3048,  2963.9,   0.8030,  34.7060,2,  34.7066,2,    210.7,2,   206.0,2,  130.64,2,   32.53,2,    0.00,4,    2.23,2,   0.240,2,   0.123,2,   0.052,2,  2265.8,2,  2362.7,2,-999.0000,9,  -999.00,-999.0000,9, -999.00,9, -999.00,9,  -999.0,9,  -999.0, -999.00,9, -999.00,9, -999.00,9, -999.00,9,   0.6047, -999.00
096U20160426,       P15S,       8,          1,          5,       2005,2,20160508,       0316,   -63.0042,  -170.0371,       3048,  2965.1,   0.8030,  34.7060,2,  34.7065,2,    210.7,2,  -999.0,9,  130.59,2,   32.53,2,    0.00,4,    2.23,2,   0.242,2,   0.122,2,   0.082,2,  -999.0,9,  -999.0,9,-999.0000,9,  -999.00,-999.0000,9, -999.00,9, -999.00,9,  -999.0,9,  -999.0, -999.00,9, -999.00,9, -999.00,9, -999.00,9,   0.6046, -999.00
096U20160426,       P15S,       8,          1,          4,       2004,2,20160508,       0316,   -63.0042,  -170.0371,       3048,  2965.9,   0.8030,  34.7060,2,  34.7069,2,    210.6,2,  -999.0,9,  130.60,2,   32.54,2,    0.00,4,    2.24,2,   0.243,2,   0.122,2,    0.08,2,  -999.0,9,  -999.0,9,-999.0000,9,  -999.00,-999.0000,9, -999.00,9, -999.00,9,  -999.0,9,  -999.0, -999.00,9, -999.00,9, -999.00,9, -999.00,9,   0.6045, -999.00
096U20160426,       P15S,       8,          1,          3,       2003,2,20160508,       0316,   -63.0042,  -170.0371,       3048,  2966.3,   0.8030,  34.7060,2,  34.7064,2,    210.6,2,  -999.0,9,  130.54,2,   32.53,2,    0.00,4,    2.23,2,   0.241,2,   0.124,2,    0.08,2,  -999.0,9,  -999.0,9,-999.0000,9,  -999.00,-999.0000,9, -999.00,9, -999.00,9,  -999.0,9,  -999.0, -999.00,9, -999.00,9, -999.00,9, -999.00,9,   0.6045, -999.00
096U20160426,       P15S,       8,          1,          1,       2001,2,20160508,       0316,   -63.0042,  -170.0371,       3048,  3072.9,   0.8110,  34.7060,2,  34.7082,2,    210.7,2,   206.5,2,  130.86,2,   32.54,2,    0.00,4,    2.24,2,   0.244,2,   0.123,2,   0.103,2,  2265.2,2,  2362.7,2,-999.0000,9,  -999.00,-999.0000,9, -999.00,9, -999.00,9,  -999.0,9,  -999.0, -999.00,9, -999.00,9, -999.00,9, -999.00,9,   0.6026, -999.00