BOTTLE,20230413CCHSIOENA
EXPOCODE,SECT_ID,STNNBR,CASTNO,SAMPNO,BTLNBR,BTLNBR_FLAG_W,DATE,TIME,LATITUDE,LONGITUDE,DEPTH,CTDPRS,CTDTMP,CTDSAL,CTDSAL_FLAG_W,SALNTY,SALNTY_FLAG_W,CTDOXY,CTDOXY_FLAG_W,OXYGEN,OXYGEN_FLAG_W,SILCAT,SILCAT_FLAG_W,NITRAT,NITRAT_FLAG_W,NITRIT,NITRIT_FLAG_W,PHSPHT,PHSPHT_FLAG_W,CFC-11,CFC-11_FLAG_W,CFC-12,CFC-12_FLAG_W,SF6,SF6_FLAG_W,TCARBN,TCARBN_FLAG_W,ALKALI,ALKALI_FLAG_W,PH_TOT,PH_TOT_FLAG_W,PH_TMP,HELIUM,HELIUM_FLAG_W,DELHE3,DELHE3_FLAG_W,DELC13,DELC13_FLAG_W,DELC14,DELC14_FLAG_W,C14ERR,POC,POC_FLAG_W,PON,PON_FLAG_W,CHLORA,CHLORA_FLAG_W,PPHYTN,PPHYTN_FLAG_W,THETA,DELHER
,,,,,,,,,,,METERS,DBAR,ITS-90,PSS-78,,PSS-78,,UMOL/KG,,UMOL/KG,,UMOL/KG,,UMOL/KG,,UMOL/KG,,UMOL/KG,,PMOL/KG,,PMOL/KG,,FMOL/KG,,UMOL/KG,,UMOL/KG,,,,DEG C,NMOL/KG,,PERCNT,,/MILLE,,/MILLE,,/MILLE,UG/KG,,UG/KG,,UG/KG,,UG/KG,,DEG C,PERCNT
096U20160426,       P15S,     101,          1,         36,       2036,2,20160613,       1855,   -18.5003,  -170.0019,       5273,     4.3,  26.1950,  35.4840,2,  35.4822,2,    204.0,2,   202.7,2,    0.28,2,   -0.02,4,    0.00,4,    0.14,2,-999.000,9,-999.000,9,-999.000,9,  1990.0,2,  2333.8,2,-999.0000,9,  -999.00,-999.0000,9, -999.00,9, -999.00,9,  -999.0,9,  -999.0, -999.00,9, -999.00,9,    0.26,2,   -0.03,3,  26.1940, -999.00
096U20160426,       P15S,     101,          1,         35,       2035,2,20160613,       1855,   -18.5003,  -170.0019,       5273,    19.7,  26.2090,  35.4820,2,  35.4906,2,    203.7,2,   202.7,2,    0.29,2,   -0.02,4,    0.00,4,    0.14,2,-999.000,9,-999.000,9,-999.000,9,  -999.0,9,  -999.0,9,-999.0000,9,  -999.00,-999.0000,9, -999.00,9, -999.00,9,  -999.0,9,  -999.0, -999.00,9, -999.00,9,    0.20,2,   -0.01,3,  26.2046, -999.00
096U20160426,       P15S,     101,          1,         34,       2034,2,20160613,       1855,   -18.5003,  -170.0019,       5273,    39.1,  25.5990,  35.6250,2,  35.6608,2,    205.5,2,   204.6,2,    0.26,2,   -0.02,4,    0.00,4,    0.13,2,-999.000,9,-999.000,9,-999.000,9,  -999.0,9,  -999.0,9,-999.0000,9,  -999.00,-999.0000,9, -999.00,9, -999.00,9,  -999.0,9,  -999.0, -999.00,9, -999.00,9,    0.29,2,   -0.04,3,  25.5904, -999.00
096U20160426,       P15S,     101,          1,         33,       2033,2,20160613,       1855,   -18.5003,  -170.0019,       5273,    64.7,  25.3700,  35.7260,2,  35.7253,2,    205.7,2,   204.7,2,    0.25,2,   -0.02,4,    0.00,4,    0.13,2,-999.000,9,-999.000,9,-999.000,9,  2012.4,2,  2349.6,2,-999.0000,9,  -999.00,-999.0000,9, -999.00,9, -999.00,9,  -999.0,9,  -999.0, -999.00,9, -999.00,9, -999.00,9, -999.00,9,  25.3558, -999.00
096U20160426,       P15S,     101,          1,         32,       2032,2,20160613,       1855,   -18.5003,  -170.0019,       5273,    88.8,  25.3530,  35.7310,2,  35.7301,2,    205.9,2,   204.7,2,    0.25,2,   -0.02,4,    0.00,4,    0.13,2,-999.000,9,-999.000,9,-999.000,9,  -999.0,9,  -999.0,9,-999.0000,9,  -999.00,-999.0000,9, -999.00,9, -999.00,9,  -999.0,9,  -999.0, -999.00,9, -999.00,9,    0.47,2,   -0.02,3,  25.3335, -999.00
096U20160426,       P15S,     101,          1,         31,       2031,2,20160613,       1855,   -18.5003,  -170.0019,       5273,   133.7,  22.9400,  35.7690,2,  35.7738,2,    201.6,2,   197.2,2,    0.21,2,    0.39,2,    0.08,2,    0.16,2,-999.000,9,-999.000,9,-999.000,9,  -999.0,9,  -999.0,9,-999.0000,9,  -999.00,-999.0000,9, -999.00,9, -999.00,9,  -999.0,9,  -999.0, -999.00,9, -999.00,9,    0.78,2,   -0.02,3,  22.9127, -999.00
096U20160426,       P15S,     101,          1,         30,       2030,2,20160613,       1855,   -18.5003,  -170.0019,       5273,   184.5,  21.4500,  35.8110,2,  35.7450,2,    181.8,2,   184.9,2,    0.30,2,    2.66,2,    0.01,4,    0.27,2,-999.000,9,-999.000,9,-999.000,9,  2072.1,2,  2345.2,2,-999.0000,9,  -999.00,-999.0000,9, -999.00,9, -999.00,9,  -999.0,9,  -999.0, -999.00,9, -999.00,9, -999.00,9, -999.00,9,  21.4140, -999.00
096U20160426,       P15S,     101,          1,         29,       2029,2,20160613,       1855,   -18.5003,  -170.0019,       5273,   235.0,  19.8940,  35.6770,2,  35.6443,2,    188.0,2,   186.7,2,    0.44,2,    3.34,2,    0.01,4,    0.31,2,-999.000,9,-999.000,9,-999.000,9,  -999.0,9,  -999.0,9,-999.0000,9,  -999.00,-999.0000,9, -999.00,9, -999.00,9,  -999.0,9,  -999.0, -999.00,9, -999.00,9, -999.00,9, -999.00,9,  19.8505, -999.00
096U20160426,       P15S,     101,          1,         28,       2028,2,20160613,       1855,   -18.5003,  -170.0019,       5273,   283.8,  18.1220,  35.5370,2,  35.5062,2,    192.9,2,   193.3,2,    0.70,2,    4.24,2,    0.01,4,    0.37,2,-999.000,9,-999.000,9,-999.000,9,  -999.0,9,  -999.0,9,-999.0000,9,  -999.00,-999.0000,9, -999.00,9, -999.00,9,  -999.0,9,  -999.0, -999.00,9, -999.00,9, -999.00,9, -999.00,9,  18.0728, -999.00
096U20160426,       P15S,     101,          1,         27,       2027,2,20160613,       1855,   -18.5003,  -170.0019,       5273,   333.9,  15.7530,  35.2100,2,  35.1975,2,    183.1,2,   183.0,2,    1.89,2,    8.05,2,    0.00,4,    0.65,2,-999.000,9,-999.000,9,-999.000,9,  2107.1,2,  2313.0,2,-999.0000,9,  -999.00,-999.0000,9, -999.00,9, -999.00,9,  -999.0,9,  -999.0, -999.00,9, -999.00,9, -999.00,9, -999.00,9,  15.7004, -999.00
096U20160426,       P15S,     101,          1,         26,       2026,2,20160613,       1855,   -18.5003,  -170.0019,       5273,   388.0,  14.1130,  35.0540,2,  35.0503,2,    184.7,2,   185.6,2,    2.67,2,   10.45,2,    0.00,4,    0.80,2,-999.000,9,-999.000,9,-999.000,9,  -999.0,9,  -999.0,9,-999.0000,9,  -999.00,-999.0000,9, -999.00,9, -999.00,9,  -999.0,9,  -999.0, -999.00,9, -999.00,9, -999.00,9, -999.00,9,  14.0562, -999.00
096U20160426,       P15S,     101,          1,         25,       2025,2,20160613,       1855,   -18.5003,  -170.0019,       5273,   466.0,  11.1740,  34.7500,2,  34.7007,2,    191.6,2,   193.4,2,    4.41,2,   16.26,2,    0.00,4,    1.15,2,-999.000,9,-999.000,9,-999.000,9,  2136.8,2,  2288.8,2,-999.0000,9,  -999.00,-999.0000,9, -999.00,9, -999.00,9,  -999.0,9,  -999.0, -999.00,9, -999.00,9, -999.00,9, -999.00,9,  11.1154, -999.00
096U20160426,       P15S,     101,          1,         24,       2024,2,20160613,       1855,   -18.5003,  -170.0019,       5273,   565.8,   7.5440,  34.4190,2,  34.4140,2,    226.7,2,   229.9,2,    6.19,2,   21.34,2,    0.00,4,    1.45,2,-999.000,9,-999.000,9,-999.000,9,  -999.0,9,  -999.0,9,-999.0000,9,  -999.00,-999.0000,9, -999.00,9, -999.00,9,  -999.0,9,  -999.0, -999.00,9, -999.00,9, -999.00,9, -999.00,9,   7.4878, -999.00
096U20160426,       P15S,     101,          1,         23,       2023,2,20160613,       1855,   -18.5003,  -170.0019,       5273,   665.5,   6.3110,  34.3540,2,  34.3591,2,    194.5,2,   194.5,2,   17.05,2,   27.63,2,    0.00,4,    1.89,2,-999.000,9,-999.000,9,-999.000,9,  2174.4,2,  2286.5,2,-999.0000,9,  -999.00,-999.0000,9, -999.00,9, -999.00,9,  -999.0,9,  -999.0, -999.00,9, -999.00,9, -999.00,9, -999.00,9,   6.2507, -999.00
096U20160426,       P15S,     101,          1,         22,       2022,2,20160613,       1855,   -18.5003,  -170.0019,       5273,   763.6,   5.4540,  34.3620,2,  34.3599,2,    182.2,2,   183.1,2,   26.27,2,   30.26,2,    0.00,4,    2.06,2,-999.000,9,-999.000,9,-999.000,9,  -999.0,9,  -999.0,9,-999.0000,9,  -999.00,-999.0000,9, -999.00,9, -999.00,9,  -999.0,9,  -999.0, -999.00,9, -999.00,9, -999.00,9, -999.00,9,   5.3892, -999.00
096U20160426,       P15S,     101,          1,         21,       2021,2,20160613,       1855,   -18.5003,  -170.0019,       5273,   865.7,   4.5980,  34.3860,2,  34.3844,2,    171.7,2,   172.4,2,   39.25,2,   32.48,2,    0.00,4,    2.22,2,-999.000,9,-999.000,9,-999.000,9,  2213.8,2,  2306.0,2,-999.0000,9,  -999.00,-999.0000,9, -999.00,9, -999.00,9,  -999.0,9,  -999.0, -999.00,9, -999.00,9, -999.00,9, -999.00,9,   4.5295, -999.00
096U20160426,       P15S,     101,          1,         20,       2020,2,20160613,       1855,   -18.5003,  -170.0019,       5273,   965.8,   4.1240,  34.4440,2,  34.4427,2,    159.1,2,   159.0,2,   54.49,2,   33.82,2,    0.00,4,    2.33,2,-999.000,9,-999.000,9,-999.000,9,  -999.0,9,  -999.0,9,-999.0000,9,  -999.00,-999.0000,9, -999.00,9, -999.00,9,  -999.0,9,  -999.0, -999.00,9, -999.00,9, -999.00,9, -999.00,9,   4.0503, -999.00
096U20160426,       P15S,     101,          1,         19,       2019,2,20160613,       1855,   -18.5003,  -170.0019,       5273,  1065.7,   3.6590,  34.4730,2,  34.4716,2,    156.9,2,   157.3,2,   63.99,2,   34.41,2,    0.00,4,    2.37,2,-999.000,9,-999.000,9,-999.000,9,  2247.2,2,  2332.3,2,-999.0000,9,  -999.00,-999.0000,9, -999.00,9, -999.00,9,  -999.0,9,  -999.0, -999.00,9, -999.00,9, -999.00,9, -999.00,9,   3.5807, -999.00
096U20160426,       P15S,     101,          1,         18,       2018,2,20160613,       1855,   -18.5003,  -170.0019,       5273,  1165.5,   3.2490,  34.5090,2,  34.5075,2,    155.2,2,   154.9,2,   74.65,2,   34.78,2,    0.00,4,    2.41,2,-999.000,9,-999.000,9,-999.000,9,  -999.0,9,  -999.0,9,-999.0000,9,  -999.00,-999.0000,9, -999.00,9, -999.00,9,  -999.0,9,  -999.0, -999.00,9, -999.00,9, -999.00,9, -999.00,9,   3.1661, -999.00
096U20160426,       P15S,     101,          1,         17,       2017,2,20160613,       1855,   -18.5003,  -170.0019,       5273,  1264.6,   3.0060,  34.5330,2,  34.5326,2,    153.9,2,   154.0,2,   81.81,2,   34.95,2,    0.01,4,    2.42,2,-999.000,9,-999.000,9,-999.000,9,  2267.6,2,  2352.8,2,-999.0000,9,  -999.00,-999.0000,9, -999.00,9, -999.00,9,  -999.0,9,  -999.0, -999.00,9, -999.00,9, -999.00,9, -999.00,9,   2.9174, -999.00
096U20160426,       P15S,     101,          1,         16,       2016,2,20160613,       1855,   -18.5003,  -170.0019,       5273,  1364.9,   2.7290,  34.5710,2,  34.5699,2,    150.1,2,   149.7,2,   92.70,2,   35.24,2,    0.00,4,    2.45,2,-999.000,9,-999.000,9,-999.000,9,  -999.0,9,  -999.0,9,-999.0000,9,  -999.00,-999.0000,9, -999.00,9, -999.00,9,  -999.0,9,  -999.0, -999.00,9, -999.00,9, -999.00,9, -999.00,9,   2.6351, -999.00
096U20160426,       P15S,     101,          1,         15,       2015,2,20160613,       1855,   -18.5003,  -170.0019,       5273,  1534.7,   2.5450,  34.5980,2,  34.5972,2,    146.7,2,   146.6,2,  101.87,2,   35.49,2,    0.00,4,    2.47,2,-999.000,9,-999.000,9,-999.000,9,  -999.0,9,  -999.0,9,-999.0000,9,  -999.00,-999.0000,9, -999.00,9, -999.00,9,  -999.0,9,  -999.0, -999.00,9, -999.00,9, -999.00,9, -999.00,9,   2.4395, -999.00
096U20160426,       P15S,     101,          1,         14,       2014,2,20160613,       1855,   -18.5003,  -170.0019,       5273,  1734.8,   2.3830,  34.6160,2,  34.6142,2,    145.7,2,   145.5,2,  108.24,2,   35.60,2,    0.00,4,    2.47,2,-999.000,9,-999.000,9,-999.000,9,  2298.3,2,  2382.5,2,-999.0000,9,  -999.00,-999.0000,9, -999.00,9, -999.00,9,  -999.0,9,  -999.0, -999.00,9, -999.00,9, -999.00,9, -999.00,9,   2.2632, -999.00
096U20160426,       P15S,     101,          1,         13,       2013,2,20160613,       1855,   -18.5003,  -170.0019,       5273,  1935.9,   2.2110,  34.6310,2,  34.6297,2,    145.7,2,   145.5,2,  113.94,2,   35.69,2,    0.00,4,    2.48,2,-999.000,9,-999.000,9,-999.000,9,  -999.0,9,  -999.0,9,-999.0000,9,  -999.00,-999.0000,9, -999.00,9, -999.00,9,  -999.0,9,  -999.0, -999.00,9, -999.00,9, -999.00,9, -999.00,9,   2.0768, -999.00
096U20160426,       P15S,     101,          1,         12,       2012,2,20160613,       1855,   -18.5003,  -170.0019,       5273,  2164.8,   2.0700,  34.6440,2,  34.6400,2,    146.1,2,   146.4,2,  118.83,2,   35.68,2,    0.00,4,    2.48,2,-999.000,9,-999.000,9,-999.000,9,  -999.0,9,  -999.0,9,-999.0000,9,  -999.00,-999.0000,9, -999.00,9, -999.00,9,  -999.0,9,  -999.0, -999.00,9, -999.00,9, -999.00,9, -999.00,9,   1.9183, -999.00
096U20160426,       P15S,     101,          1,         11,       2011,2,20160613,       1855,   -18.5003,  -170.0019,       5273,  2415.7,   1.9300,  34.6560,2,  34.6541,2,    146.9,2,   146.7,2,  123.87,2,   35.73,2,    0.00,4,    2.48,2,-999.000,9,-999.000,9,-999.000,9,  2313.5,6,  2401.1,6,-999.0000,9,  -999.00,-999.0000,9, -999.00,9, -999.00,9,  -999.0,9,  -999.0, -999.00,9, -999.00,9, -999.00,9, -999.00,9,   1.7586, -999.00
096U20160426,       P15S,     101,          1,         10,       2010,2,20160613,       1855,   -18.5003,  -170.0019,       5273,  2665.3,   1.8280,  34.6640,2,  34.6626,2,    148.8,2,   148.8,2,  126.97,2,   35.63,2,    0.00,4,    2.47,2,-999.000,9,-999.000,9,-999.000,9,  -999.0,9,  -999.0,9,-999.0000,9,  -999.00,-999.0000,9, -999.00,9, -999.00,9,  -999.0,9,  -999.0, -999.00,9, -999.00,9, -999.00,9, -999.00,9,   1.6358, -999.00
096U20160426,       P15S,     101,          1,          9,       2009,2,20160613,       1855,   -18.5003,  -170.0019,       5273,  2915.3,   1.7470,  34.6710,2,  34.6700,2,    151.1,2,   151.0,2,  129.06,2,   35.45,2,    0.00,4,    2.46,2,-999.000,9,-999.000,9,-999.000,9,  -999.0,9,  -999.0,9,-999.0000,9,  -999.00,-999.0000,9, -999.00,9, -999.00,9,  -999.0,9,  -999.0, -999.00,9, -999.00,9, -999.00,9, -999.00,9,   1.5329, -999.00
096U20160426,       P15S,     101,          1,          8,       2008,2,20160613,       1855,   -18.5003,  -170.0019,       5273,  3200.4,   1.6670,  34.6780,2,  34.6755,2,    154.9,2,   155.2,2,  129.93,2,   35.23,2,    0.00,4,    2.45,2,-999.000,9,-999.000,9,-999.000,9,  -999.0,9,  -999.0,9,-999.0000,9,  -999.00,-999.0000,9, -999.00,9, -999.00,9,  -999.0,9,  -999.0, -999.00,9, -999.00,9, -999.00,9, -999.00,9,   1.4269, -999.00
096U20160426,       P15S,     101,          1,          7,       2007,2,20160613,       1855,   -18.5003,  -170.0019,       5273,  3564.4,   1.5450,  34.6890,2,  34.6872,2,    165.9,2,   166.1,2,  126.67,2,   34.35,2,    0.00,4,    2.38,2,-999.000,9,-999.000,9,-999.000,9,  -999.0,9,  -999.0,9,-999.0000,9,  -999.00,-999.0000,9, -999.00,9, -999.00,9,  -999.0,9,  -999.0, -999.00,9, -999.00,9, -999.00,9, -999.00,9,   1.2710, -999.00
096U20160426,       P15S,     101,          1,          6,       2006,2,20160613,       1855,   -18.5003,  -170.0019,       5273,  3964.9,   1.3390,  34.7110,2,  34.7088,2,    189.9,2,   191.6,2,  115.02,2,   32.36,2,    0.00,4,    2.22,2,-999.000,9,-999.000,9,-999.000,9,  -999.0,9,  -999.0,9,-999.0000,9,  -999.00,-999.0000,9, -999.00,9, -999.00,9,  -999.0,9,  -999.0, -999.00,9, -999.00,9, -999.00,9, -999.00,9,   1.0282, -999.00
096U20160426,       P15S,     101,          1,          5,       2005,2,20160613,       1855,   -18.5003,  -170.0019,       5273,  4364.4,   1.1210,  34.7130,2,  34.7115,2,    201.4,2,   203.1,2,  115.52,2,   31.82,2,    0.00,4,    2.18,2,-999.000,9,-999.000,9,-999.000,9,  -999.0,9,  -999.0,9,-999.0000,9,  -999.00,-999.0000,9, -999.00,9, -999.00,9,  -999.0,9,  -999.0, -999.00,9, -999.00,9, -999.00,9, -999.00,9,   0.7728, -999.00
096U20160426,       P15S,     101,          1,          4,       2004,2,20160613,       1855,   -18.5003,  -170.0019,       5273,  4765.7,   1.0540,  34.7100,2,  34.7084,2,    204.9,2,   205.9,2,  117.60,2,   31.81,2,    0.00,4,    2.18,2,-999.000,9,-999.000,9,-999.000,9,  -999.0,9,  -999.0,9,-999.0000,9,  -999.00,-999.0000,9, -999.00,9, -999.00,9,  -999.0,9,  -999.0, -999.00,9, -999.00,9, -999.00,9, -999.00,9,   0.6622, -999.00
096U20160426,       P15S,     101,          1,          3,       2003,2,20160613,       1855,   -18.5003,  -170.0019,       5273,  5165.5,   1.0860,  34.7090,2,  34.7094,2,    205.8,2,   206.1,2,  118.13,2,   31.80,2,    0.00,4,    2.18,2,-999.000,9,-999.000,9,-999.000,9,  -999.0,9,  -999.0,9,-999.0000,9,  -999.00,-999.0000,9, -999.00,9, -999.00,9,  -999.0,9,  -999.0, -999.00,9, -999.00,9, -999.00,9, -999.00,9,   0.6456, -999.00
096U20160426,       P15S,     101,          1,          2,       2002,2,20160613,       1855,   -18.5003,  -170.0019,       5273,  5262.5,   1.0980,  34.7090,2,  34.7085,2,    206.1,2,   206.0,2,  118.21,2,   31.81,2,    0.00,4,    2.18,2,-999.000,9,-999.000,9,-999.000,9,  -999.0,9,  -999.0,9,-999.0000,9,  -999.00,-999.0000,9, -999.00,9, -999.00,9,  -999.0,9,  -999.0, -999.00,9, -999.00,9, -999.00,9, -999.00,9,   0.6454, -999.00
096U20160426,       P15S,     101,          1,          1,       2001,2,20160613,       1855,   -18.5003,  -170.0019,       5273,  5345.5,   1.1080,  34.7090,2,  34.7084,2,    206.3,2,   206.1,2,  118.17,2,   31.83,2,    0.00,4,    2.18,2,-999.000,9,-999.000,9,-999.000,9,  2262.8,2,  2363.6,6,-999.0000,9,  -999.00,-999.0000,9, -999.00,9, -999.00,9,  -999.0,9,  -999.0, -999.00,9, -999.00,9, -999.00,9, -999.00,9,   0.6448, -999.00