BOTTLE,20230413CCHSIOENA
EXPOCODE,SECT_ID,STNNBR,CASTNO,SAMPNO,BTLNBR,BTLNBR_FLAG_W,DATE,TIME,LATITUDE,LONGITUDE,DEPTH,CTDPRS,CTDTMP,CTDSAL,CTDSAL_FLAG_W,SALNTY,SALNTY_FLAG_W,CTDOXY,CTDOXY_FLAG_W,OXYGEN,OXYGEN_FLAG_W,SILCAT,SILCAT_FLAG_W,NITRAT,NITRAT_FLAG_W,NITRIT,NITRIT_FLAG_W,PHSPHT,PHSPHT_FLAG_W,CFC-11,CFC-11_FLAG_W,CFC-12,CFC-12_FLAG_W,SF6,SF6_FLAG_W,TCARBN,TCARBN_FLAG_W,ALKALI,ALKALI_FLAG_W,PH_TOT,PH_TOT_FLAG_W,PH_TMP,HELIUM,HELIUM_FLAG_W,DELHE3,DELHE3_FLAG_W,DELC13,DELC13_FLAG_W,DELC14,DELC14_FLAG_W,C14ERR,POC,POC_FLAG_W,PON,PON_FLAG_W,CHLORA,CHLORA_FLAG_W,PPHYTN,PPHYTN_FLAG_W,THETA,DELHER
,,,,,,,,,,,METERS,DBAR,ITS-90,PSS-78,,PSS-78,,UMOL/KG,,UMOL/KG,,UMOL/KG,,UMOL/KG,,UMOL/KG,,UMOL/KG,,PMOL/KG,,PMOL/KG,,FMOL/KG,,UMOL/KG,,UMOL/KG,,,,DEG C,NMOL/KG,,PERCNT,,/MILLE,,/MILLE,,/MILLE,UG/KG,,UG/KG,,UG/KG,,UG/KG,,DEG C,PERCNT
096U20160426,       P15S,      54,          1,         36,       2036,2,20160529,       1248,   -41.2727,  -173.6521,       3295,     6.3,  15.4030,  35.1100,2,  35.1186,2,    244.4,2,   243.2,2,    0.18,4,    0.12,2,    0.09,2,    0.18,2,-999.000,9,-999.000,9,-999.000,9,  2071.0,2,  2313.9,2,-999.0000,9,  -999.00,-999.0000,9, -999.00,9, -999.00,9,  -999.0,9,  -999.0, -999.00,9, -999.00,9, -999.00,9, -999.00,9,  15.4020, -999.00
096U20160426,       P15S,      54,          1,         35,       2035,2,20160529,       1248,   -41.2727,  -173.6521,       3295,    20.9,  15.4060,  35.1110,2,  35.1115,2,    244.6,2,   243.2,2,    0.16,4,    0.12,2,    0.09,2,    0.18,2,-999.000,9,-999.000,9,-999.000,9,  -999.0,9,  -999.0,9,-999.0000,9,  -999.00,-999.0000,9, -999.00,9, -999.00,9,  -999.0,9,  -999.0, -999.00,9, -999.00,9, -999.00,9, -999.00,9,  15.4028, -999.00
096U20160426,       P15S,      54,          1,         34,       2034,2,20160529,       1248,   -41.2727,  -173.6521,       3295,    39.9,  15.4090,  35.1120,2,  35.1123,2,    244.3,2,   243.0,2,    0.22,2,    0.14,2,    0.09,2,    0.18,2,-999.000,9,-999.000,9,-999.000,9,  -999.0,9,  -999.0,9,-999.0000,9,  -999.00,-999.0000,9, -999.00,9, -999.00,9,  -999.0,9,  -999.0, -999.00,9, -999.00,9, -999.00,9, -999.00,9,  15.4029, -999.00
096U20160426,       P15S,      54,          1,         33,       2033,2,20160529,       1248,   -41.2727,  -173.6521,       3295,    62.0,  15.4130,  35.1120,2,  35.1130,2,    243.7,2,   243.0,2,    0.21,2,    0.13,2,    0.10,2,    0.18,2,-999.000,9,-999.000,9,-999.000,9,  2072.3,2,  2314.8,2,-999.0000,9,  -999.00,-999.0000,9, -999.00,9, -999.00,9,  -999.0,9,  -999.0, -999.00,9, -999.00,9, -999.00,9, -999.00,9,  15.4035, -999.00
096U20160426,       P15S,      54,          1,         32,       2032,2,20160529,       1248,   -41.2727,  -173.6521,       3295,    89.1,  15.3740,  35.1600,2,  35.1578,2,    241.7,2,   241.3,2,    0.37,2,    0.45,2,    0.29,2,    0.21,2,-999.000,9,-999.000,9,-999.000,9,  -999.0,9,  -999.0,9,-999.0000,9,  -999.00,-999.0000,9, -999.00,9, -999.00,9,  -999.0,9,  -999.0, -999.00,9, -999.00,9, -999.00,9, -999.00,9,  15.3603, -999.00
096U20160426,       P15S,      54,          1,         31,       2031,2,20160529,       1248,   -41.2727,  -173.6521,       3295,   117.3,  13.1680,  34.9860,2,  34.9651,2,    237.2,2,   236.3,2,    0.91,2,    5.36,2,    0.02,2,    0.52,2,-999.000,9,-999.000,9,-999.000,9,  -999.0,9,  -999.0,9,-999.0000,9,  -999.00,-999.0000,9, -999.00,9, -999.00,9,  -999.0,9,  -999.0, -999.00,9, -999.00,9, -999.00,9, -999.00,9,  13.1518, -999.00
096U20160426,       P15S,      54,          1,         30,       2030,2,20160529,       1248,   -41.2727,  -173.6521,       3295,   141.6,  12.4460,  35.0230,2,  35.0196,2,    232.7,2,   231.3,2,    1.47,2,    7.52,2,    0.02,4,    0.63,2,-999.000,9,-999.000,9,-999.000,9,  -999.0,9,  -999.0,9,-999.0000,9,  -999.00,-999.0000,9, -999.00,9, -999.00,9,  -999.0,9,  -999.0, -999.00,9, -999.00,9, -999.00,9, -999.00,9,  12.4271, -999.00
096U20160426,       P15S,      54,          1,         29,       2029,2,20160529,       1248,   -41.2727,  -173.6521,       3295,   184.7,  11.9000,  34.9950,2,  34.9994,2,    237.1,2,   235.6,2,    1.86,2,    8.60,2,    0.01,4,    0.69,2,-999.000,9,-999.000,9,-999.000,9,  -999.0,9,  -999.0,9,-999.0000,9,  -999.00,-999.0000,9, -999.00,9, -999.00,9,  -999.0,9,  -999.0, -999.00,9, -999.00,9, -999.00,9, -999.00,9,  11.8760, -999.00
096U20160426,       P15S,      54,          1,         28,       2028,2,20160529,       1248,   -41.2727,  -173.6521,       3295,   234.8,  11.5420,  34.9600,2,  34.9595,2,    240.3,2,   239.1,2,    2.12,2,    9.23,2,    0.01,4,    0.73,2,-999.000,9,-999.000,9,-999.000,9,  2117.4,2,  2300.6,6,-999.0000,9,  -999.00,-999.0000,9, -999.00,9, -999.00,9,  -999.0,9,  -999.0, -999.00,9, -999.00,9, -999.00,9, -999.00,9,  11.5121, -999.00
096U20160426,       P15S,      54,          1,         27,       2027,2,20160529,       1248,   -41.2727,  -173.6521,       3295,   285.7,  10.9720,  34.8710,2,  34.8691,2,    237.9,2,   235.8,2,    2.69,2,   11.17,2,    0.01,4,    0.84,2,-999.000,9,-999.000,9,-999.000,9,  -999.0,9,  -999.0,9,-999.0000,9,  -999.00,-999.0000,9, -999.00,9, -999.00,9,  -999.0,9,  -999.0, -999.00,9, -999.00,9, -999.00,9, -999.00,9,  10.9367, -999.00
096U20160426,       P15S,      54,          1,         26,       2026,2,20160529,       1248,   -41.2727,  -173.6521,       3295,   334.8,  10.2710,  34.7610,2,  34.7600,2,    230.3,2,   228.6,2,    3.18,2,   13.52,2,    0.00,4,    0.98,2,-999.000,9,-999.000,9,-999.000,9,  -999.0,9,  -999.0,9,-999.0000,9,  -999.00,-999.0000,9, -999.00,9, -999.00,9,  -999.0,9,  -999.0, -999.00,9, -999.00,9, -999.00,9, -999.00,9,  10.2313, -999.00
096U20160426,       P15S,      54,          1,         25,       2025,2,20160529,       1248,   -41.2727,  -173.6521,       3295,   383.1,   9.6090,  34.6700,2,  34.6680,2,    224.6,2,   223.0,2,    4.05,2,   16.21,2,    0.00,4,    1.15,2,-999.000,9,-999.000,9,-999.000,9,  -999.0,9,  -999.0,9,-999.0000,9,  -999.00,-999.0000,9, -999.00,9, -999.00,9,  -999.0,9,  -999.0, -999.00,9, -999.00,9, -999.00,9, -999.00,9,   9.5654, -999.00
096U20160426,       P15S,      54,          1,         24,       2024,2,20160529,       1248,   -41.2727,  -173.6521,       3295,   451.5,   9.0010,  34.6010,2,  34.5989,2,    223.8,2,   221.7,2,    5.16,2,   18.35,2,    0.00,4,    1.28,2,-999.000,9,-999.000,9,-999.000,9,  -999.0,9,  -999.0,9,-999.0000,9,  -999.00,-999.0000,9, -999.00,9, -999.00,9,  -999.0,9,  -999.0, -999.00,9, -999.00,9, -999.00,9, -999.00,9,   8.9515, -999.00
096U20160426,       P15S,      54,          1,         23,       2023,2,20160529,       1248,   -41.2727,  -173.6521,       3295,   565.5,   8.1550,  34.5140,2,  34.5127,2,    225.8,2,   224.1,2,    6.50,2,   20.61,2,    0.00,4,    1.42,2,-999.000,9,-999.000,9,-999.000,9,  2147.8,2,  2284.2,2,-999.0000,9,  -999.00,-999.0000,9, -999.00,9, -999.00,9,  -999.0,9,  -999.0, -999.00,9, -999.00,9, -999.00,9, -999.00,9,   8.0962, -999.00
096U20160426,       P15S,      54,          1,         22,       2022,2,20160529,       1248,   -41.2727,  -173.6521,       3295,   665.5,   7.6980,  34.4820,2,  34.4810,2,    221.8,2,   220.0,2,    8.60,2,   22.19,2,    0.00,4,    1.52,2,-999.000,9,-999.000,9,-999.000,9,  -999.0,9,  -999.0,9,-999.0000,9,  -999.00,-999.0000,9, -999.00,9, -999.00,9,  -999.0,9,  -999.0, -999.00,9, -999.00,9, -999.00,9, -999.00,9,   7.6306, -999.00
096U20160426,       P15S,      54,          1,         21,       2021,2,20160529,       1248,   -41.2727,  -173.6521,       3295,   763.9,   7.1150,  34.4370,2,  34.4365,2,    220.5,2,   219.2,2,   10.96,2,   23.68,2,    0.00,4,    1.62,2,-999.000,9,-999.000,9,-999.000,9,  -999.0,9,  -999.0,9,-999.0000,9,  -999.00,-999.0000,9, -999.00,9, -999.00,9,  -999.0,9,  -999.0, -999.00,9, -999.00,9, -999.00,9, -999.00,9,   7.0405, -999.00
096U20160426,       P15S,      54,          1,         20,       2020,2,20160529,       1248,   -41.2727,  -173.6521,       3295,   864.5,   6.5050,  34.3870,2,  34.3876,2,    219.9,2,  -999.0,9,   13.44,2,   25.28,2,    0.00,4,    1.73,2,-999.000,9,-999.000,9,-999.000,9,  -999.0,9,  -999.0,9,-999.0000,9,  -999.00,-999.0000,9, -999.00,9, -999.00,9,  -999.0,9,  -999.0, -999.00,9, -999.00,9, -999.00,9, -999.00,9,   6.4241, -999.00
096U20160426,       P15S,      54,          1,         19,       2019,2,20160529,       1248,   -41.2727,  -173.6521,       3295,   864.7,   6.4980,  34.3880,2,  34.3873,2,    219.2,2,   218.2,2,   13.45,2,   25.29,2,    0.00,4,    1.73,2,-999.000,9,-999.000,9,-999.000,9,  -999.0,9,  -999.0,9,-999.0000,9,  -999.00,-999.0000,9, -999.00,9, -999.00,9,  -999.0,9,  -999.0, -999.00,9, -999.00,9, -999.00,9, -999.00,9,   6.4172, -999.00
096U20160426,       P15S,      54,          1,         18,       2018,2,20160529,       1248,   -41.2727,  -173.6521,       3295,   966.8,   5.9660,  34.3740,2,  34.3747,2,    211.6,2,   209.8,2,   18.60,2,   27.12,2,    0.00,4,    1.85,2,-999.000,9,-999.000,9,-999.000,9,  2172.0,6,  2289.2,6,-999.0000,9,  -999.00,-999.0000,9, -999.00,9, -999.00,9,  -999.0,9,  -999.0, -999.00,9, -999.00,9, -999.00,9, -999.00,9,   5.8788, -999.00
096U20160426,       P15S,      54,          1,         17,       2017,2,20160529,       1248,   -41.2727,  -173.6521,       3295,  1063.5,   5.6140,  34.4020,2,  34.4026,2,    200.7,2,   199.1,2,   26.42,2,   28.51,2,    0.00,4,    1.95,2,-999.000,9,-999.000,9,-999.000,9,  -999.0,9,  -999.0,9,-999.0000,9,  -999.00,-999.0000,9, -999.00,9, -999.00,9,  -999.0,9,  -999.0, -999.00,9, -999.00,9, -999.00,9, -999.00,9,   5.5201, -999.00
096U20160426,       P15S,      54,          1,         16,       2016,2,20160529,       1248,   -41.2727,  -173.6521,       3295,  1164.8,   5.1360,  34.4100,2,  34.4101,2,    193.9,2,   192.5,2,   33.49,2,   29.82,2,    0.00,4,    2.05,2,-999.000,9,-999.000,9,-999.000,9,  -999.0,9,  -999.0,9,-999.0000,9,  -999.00,-999.0000,9, -999.00,9, -999.00,9,  -999.0,9,  -999.0, -999.00,9, -999.00,9, -999.00,9, -999.00,9,   5.0366, -999.00
096U20160426,       P15S,      54,          1,         15,       2015,2,20160529,       1248,   -41.2727,  -173.6521,       3295,  1265.2,   4.6890,  34.4260,2,  34.4251,2,    187.6,2,   186.1,2,   41.48,2,   30.96,2,    0.00,4,    2.13,2,-999.000,9,-999.000,9,-999.000,9,  2208.5,2,  2312.6,2,-999.0000,9,  -999.00,-999.0000,9, -999.00,9, -999.00,9,  -999.0,9,  -999.0, -999.00,9, -999.00,9, -999.00,9, -999.00,9,   4.5843, -999.00
096U20160426,       P15S,      54,          1,         14,       2014,2,20160529,       1248,   -41.2727,  -173.6521,       3295,  1368.0,   4.0290,  34.4560,2,  34.4561,2,    179.2,2,   177.2,2,   54.12,2,   32.46,2,    0.00,4,    2.25,2,-999.000,9,-999.000,9,-999.000,9,  -999.0,9,  -999.0,9,-999.0000,9,  -999.00,-999.0000,9, -999.00,9, -999.00,9,  -999.0,9,  -999.0, -999.00,9, -999.00,9, -999.00,9, -999.00,9,   3.9215, -999.00
096U20160426,       P15S,      54,          1,         13,       2013,2,20160529,       1248,   -41.2727,  -173.6521,       3295,  1463.8,   3.6700,  34.4930,2,  34.4925,2,    172.9,2,   170.7,2,   64.62,2,   33.16,2,    0.00,4,    2.30,2,-999.000,9,-999.000,9,-999.000,9,  -999.0,9,  -999.0,9,-999.0000,9,  -999.00,-999.0000,9, -999.00,9, -999.00,9,  -999.0,9,  -999.0, -999.00,9, -999.00,9, -999.00,9, -999.00,9,   3.5579, -999.00
096U20160426,       P15S,      54,          1,         12,       2012,2,20160529,       1248,   -41.2727,  -173.6521,       3295,  1566.8,   3.3290,  34.5280,2,  34.5271,2,    167.6,2,   165.1,2,   75.20,2,   33.81,2,    0.00,4,    2.35,2,-999.000,9,-999.000,9,-999.000,9,  -999.0,9,  -999.0,9,-999.0000,9,  -999.00,-999.0000,9, -999.00,9, -999.00,9,  -999.0,9,  -999.0, -999.00,9, -999.00,9, -999.00,9, -999.00,9,   3.2117, -999.00
096U20160426,       P15S,      54,          1,         11,       2011,2,20160529,       1248,   -41.2727,  -173.6521,       3295,  1666.4,   3.0700,  34.5540,2,  34.5540,2,    164.0,2,   161.4,2,   83.26,2,   34.20,2,    0.00,4,    2.39,2,-999.000,9,-999.000,9,-999.000,9,  -999.0,9,  -999.0,9,-999.0000,9,  -999.00,-999.0000,9, -999.00,9, -999.00,9,  -999.0,9,  -999.0, -999.00,9, -999.00,9, -999.00,9, -999.00,9,   2.9472, -999.00
096U20160426,       P15S,      54,          1,         10,       2010,2,20160529,       1248,   -41.2727,  -173.6521,       3295,  1765.2,   2.8260,  34.5810,2,  34.5807,2,    160.6,2,   157.7,2,   91.45,2,   34.54,2,    0.00,4,    2.42,2,-999.000,9,-999.000,9,-999.000,9,  -999.0,9,  -999.0,9,-999.0000,9,  -999.00,-999.0000,9, -999.00,9, -999.00,9,  -999.0,9,  -999.0, -999.00,9, -999.00,9, -999.00,9, -999.00,9,   2.6978, -999.00
096U20160426,       P15S,      54,          1,          9,       2009,2,20160529,       1248,   -41.2727,  -173.6521,       3295,  1935.3,   2.5130,  34.6120,2,  34.6114,2,    157.3,2,   154.7,2,  101.39,2,   34.96,2,    0.00,4,    2.45,2,-999.000,9,-999.000,9,-999.000,9,  2288.7,2,  2378.7,2,-999.0000,9,  -999.00,-999.0000,9, -999.00,9, -999.00,9,  -999.0,9,  -999.0, -999.00,9, -999.00,9, -999.00,9, -999.00,9,   2.3745, -999.00
096U20160426,       P15S,      54,          1,          8,       2008,2,20160529,       1248,   -41.2727,  -173.6521,       3295,  2135.0,   2.2540,  34.6390,2,  34.6389,2,    157.3,2,   154.2,2,  108.51,2,   35.04,2,    0.00,4,    2.46,2,-999.000,9,-999.000,9,-999.000,9,  -999.0,9,  -999.0,9,-999.0000,9,  -999.00,-999.0000,9, -999.00,9, -999.00,9,  -999.0,9,  -999.0, -999.00,9, -999.00,9, -999.00,9, -999.00,9,   2.1020, -999.00
096U20160426,       P15S,      54,          1,          7,       2007,2,20160529,       1248,   -41.2727,  -173.6521,       3295,  2336.8,   2.0640,  34.6630,2,  34.6623,2,    161.2,2,   158.7,2,  110.28,2,   34.71,2,    0.00,4,    2.43,2,-999.000,9,-999.000,9,-999.000,9,  -999.0,9,  -999.0,9,-999.0000,9,  -999.00,-999.0000,9, -999.00,9, -999.00,9,  -999.0,9,  -999.0, -999.00,9, -999.00,9, -999.00,9, -999.00,9,   1.8972, -999.00
096U20160426,       P15S,      54,          1,          6,       2006,2,20160529,       1248,   -41.2727,  -173.6521,       3295,  2538.1,   1.9230,  34.6910,2,  34.6911,2,    172.0,2,   169.7,2,  105.63,2,   33.63,2,    0.00,4,    2.35,2,-999.000,9,-999.000,9,-999.000,9,  -999.0,9,  -999.0,9,-999.0000,9,  -999.00,-999.0000,9, -999.00,9, -999.00,9,  -999.0,9,  -999.0, -999.00,9, -999.00,9, -999.00,9, -999.00,9,   1.7405, -999.00
096U20160426,       P15S,      54,          1,          5,       2005,2,20160529,       1248,   -41.2727,  -173.6521,       3295,  2738.3,   1.8030,  34.7140,2,  34.7148,2,    184.1,2,   182.1,2,  100.90,2,   32.50,2,    0.00,4,    2.25,2,-999.000,9,-999.000,9,-999.000,9,  -999.0,9,  -999.0,9,-999.0000,9,  -999.00,-999.0000,9, -999.00,9, -999.00,9,  -999.0,9,  -999.0, -999.00,9, -999.00,9, -999.00,9, -999.00,9,   1.6042, -999.00
096U20160426,       P15S,      54,          1,          4,       2004,2,20160529,       1248,   -41.2727,  -173.6521,       3295,  2933.9,   1.6560,  34.7270,2,  34.7263,2,    192.9,2,   191.1,2,  100.20,2,   31.85,2,    0.00,4,    2.20,2,-999.000,9,-999.000,9,-999.000,9,  -999.0,9,  -999.0,9,-999.0000,9,  -999.00,-999.0000,9, -999.00,9, -999.00,9,  -999.0,9,  -999.0, -999.00,9, -999.00,9, -999.00,9, -999.00,9,   1.4418, -999.00
096U20160426,       P15S,      54,          1,          3,       2003,2,20160529,       1248,   -41.2727,  -173.6521,       3295,  3201.7,   1.4620,  34.7270,2,  34.7269,2,    198.4,2,   196.9,2,  103.81,2,   31.71,2,    0.00,4,    2.19,2,-999.000,9,-999.000,9,-999.000,9,  -999.0,9,  -999.0,9,-999.0000,9,  -999.00,-999.0000,9, -999.00,9, -999.00,9,  -999.0,9,  -999.0, -999.00,9, -999.00,9, -999.00,9, -999.00,9,   1.2263, -999.00
096U20160426,       P15S,      54,          1,          2,       2002,2,20160529,       1248,   -41.2727,  -173.6521,       3295,  3275.6,   1.4100,  34.7260,2,  34.7259,2,    199.7,2,   198.1,2,  105.42,2,   31.75,2,    0.00,4,    2.20,2,-999.000,9,-999.000,9,-999.000,9,  2259.4,2,  2361.4,2,-999.0000,9,  -999.00,-999.0000,9, -999.00,9, -999.00,9,  -999.0,9,  -999.0, -999.00,9, -999.00,9, -999.00,9, -999.00,9,   1.1683, -999.00
096U20160426,       P15S,      54,          1,          1,       2001,2,20160529,       1248,   -41.2727,  -173.6521,       3295,  3343.9,   1.3530,  34.7250,2,  34.7247,2,    200.5,2,   200.0,2,  107.12,2,   31.86,2,    0.00,4,    2.20,2,-999.000,9,-999.000,9,-999.000,9,  -999.0,9,  -999.0,9,-999.0000,9,  -999.00,-999.0000,9, -999.00,9, -999.00,9,  -999.0,9,  -999.0, -999.00,9, -999.00,9, -999.00,9, -999.00,9,   1.1059, -999.00