BOTTLE,20230413CCHSIOENA
EXPOCODE,SECT_ID,STNNBR,CASTNO,SAMPNO,BTLNBR,BTLNBR_FLAG_W,DATE,TIME,LATITUDE,LONGITUDE,DEPTH,CTDPRS,CTDTMP,CTDSAL,CTDSAL_FLAG_W,SALNTY,SALNTY_FLAG_W,CTDOXY,CTDOXY_FLAG_W,OXYGEN,OXYGEN_FLAG_W,SILCAT,SILCAT_FLAG_W,NITRAT,NITRAT_FLAG_W,NITRIT,NITRIT_FLAG_W,PHSPHT,PHSPHT_FLAG_W,CFC-11,CFC-11_FLAG_W,CFC-12,CFC-12_FLAG_W,SF6,SF6_FLAG_W,TCARBN,TCARBN_FLAG_W,ALKALI,ALKALI_FLAG_W,PH_TOT,PH_TOT_FLAG_W,PH_TMP,HELIUM,HELIUM_FLAG_W,DELHE3,DELHE3_FLAG_W,DELC13,DELC13_FLAG_W,DELC14,DELC14_FLAG_W,C14ERR,POC,POC_FLAG_W,PON,PON_FLAG_W,CHLORA,CHLORA_FLAG_W,PPHYTN,PPHYTN_FLAG_W,THETA,DELHER
,,,,,,,,,,,METERS,DBAR,ITS-90,PSS-78,,PSS-78,,UMOL/KG,,UMOL/KG,,UMOL/KG,,UMOL/KG,,UMOL/KG,,UMOL/KG,,PMOL/KG,,PMOL/KG,,FMOL/KG,,UMOL/KG,,UMOL/KG,,,,DEG C,NMOL/KG,,PERCNT,,/MILLE,,/MILLE,,/MILLE,UG/KG,,UG/KG,,UG/KG,,UG/KG,,DEG C,PERCNT
096U20160426,       P15S,      86,          1,         36,       2036,2,20160609,       0754,   -25.9835,  -169.9958,       5611,     5.1,  23.4100,  35.6930,2,  35.6918,2,    213.4,2,   212.2,2,    0.25,2,   -0.03,4,    0.00,4,    0.05,2,   1.754,2,   1.074,3,   1.431,2,  2013.2,6,  2343.3,6,-999.0000,9,  -999.00,-999.0000,9, -999.00,9,    1.03,2,    48.1,2,     2.0, -999.00,9, -999.00,9,    0.34,2,   -0.03,3,  23.4089, -999.00
096U20160426,       P15S,      86,          1,         35,       2035,2,20160609,       0754,   -25.9835,  -169.9958,       5611,    21.1,  23.4310,  35.6920,2,  35.6917,2,    213.8,2,   212.0,2,    0.23,2,   -0.03,4,    0.00,4,    0.05,2,-999.000,9,-999.000,9,-999.000,9,  2014.0,2,  2342.7,2,-999.0000,9,  -999.00,-999.0000,9, -999.00,9, -999.00,9,  -999.0,9,  -999.0, -999.00,9, -999.00,9, -999.00,9, -999.00,9,  23.4266, -999.00
096U20160426,       P15S,      86,          1,         34,       2034,2,20160609,       0754,   -25.9835,  -169.9958,       5611,    42.4,  23.4340,  35.6920,2,  35.6915,2,    213.7,2,   212.0,2,    0.23,2,   -0.03,4,    0.00,4,    0.05,2,-999.000,9,-999.000,9,-999.000,9,  -999.0,9,  -999.0,9,-999.0000,9,  -999.00,-999.0000,9, -999.00,9, -999.00,9,  -999.0,9,  -999.0, -999.00,9, -999.00,9,    0.25,2,    0.02,3,  23.4252, -999.00
096U20160426,       P15S,      86,          1,         33,       2033,2,20160609,       0754,   -25.9835,  -169.9958,       5611,    67.4,  23.4210,  35.6940,2,  35.6944,2,    213.4,2,   212.1,2,    0.22,2,   -0.03,4,    0.00,4,    0.05,2,   1.758,6,   1.083,6,   1.402,6,  2017.6,2,  2341.8,2,-999.0000,9,  -999.00,-999.0000,9, -999.00,9,    1.03,2,    46.5,2,     2.0, -999.00,9, -999.00,9,    0.35,2,   -0.04,3,  23.4070, -999.00
096U20160426,       P15S,      86,          1,         32,       2032,2,20160609,       0754,   -25.9835,  -169.9958,       5611,    91.4,  21.9800,  35.7490,2,  35.7513,2,    215.9,2,   210.9,2,    0.31,2,    0.15,2,    0.07,2,    0.10,2,-999.000,9,-999.000,9,-999.000,9,  2046.3,2,  2343.9,2,-999.0000,9,  -999.00,-999.0000,9, -999.00,9,    0.90,2,    48.4,2,     2.0, -999.00,9, -999.00,9,    1.17,2,   -0.12,3,  21.9619, -999.00
096U20160426,       P15S,      86,          1,         31,       2031,2,20160609,       0754,   -25.9835,  -169.9958,       5611,   137.8,  20.0230,  35.7040,2,  35.6928,2,    202.7,2,   202.6,2,    0.43,2,    1.49,2,    0.01,4,    0.20,2,   2.113,2,   1.290,2,   1.453,2,  2064.9,2,  2338.7,2,-999.0000,9,  -999.00,-999.0000,9, -999.00,9,    0.80,2,    51.4,2,     2.0, -999.00,9, -999.00,9,    0.36,2,   -0.02,3,  19.9974, -999.00
096U20160426,       P15S,      86,          1,         30,       2030,2,20160609,       0754,   -25.9835,  -169.9958,       5611,   186.0,  18.4510,  35.5850,2,  35.5693,2,    195.6,2,   194.7,2,    0.78,2,    3.61,2,    0.01,4,    0.33,2,-999.000,9,-999.000,9,-999.000,9,  2081.6,2,  2330.1,2,-999.0000,9,  -999.00,-999.0000,9, -999.00,9, -999.00,9,  -999.0,9,  -999.0, -999.00,9, -999.00,9, -999.00,9, -999.00,9,  18.4184, -999.00
096U20160426,       P15S,      86,          1,         29,       2029,2,20160609,       0754,   -25.9835,  -169.9958,       5611,   236.0,  17.6840,  35.5820,2,  35.5585,2,    201.2,2,   199.9,2,    0.85,2,    4.00,2,    0.01,4,    0.35,2,   2.323,2,   1.387,2,   1.444,2,  2085.1,2,  2329.2,2,-999.0000,9,  -999.00,-999.0000,9, -999.00,9,    0.76,2,    56.2,2,     2.0, -999.00,9, -999.00,9, -999.00,9, -999.00,9,  17.6438, -999.00
096U20160426,       P15S,      86,          1,         28,       2028,2,20160609,       0754,   -25.9835,  -169.9958,       5611,   286.5,  16.4820,  35.4490,2,  35.4725,2,    199.7,2,   202.1,2,    1.19,2,    5.23,2,    0.01,4,    0.43,2,-999.000,9,-999.000,9,-999.000,9,  -999.0,9,  -999.0,9,-999.0000,9,  -999.00,-999.0000,9, -999.00,9, -999.00,9,  -999.0,9,  -999.0, -999.00,9, -999.00,9, -999.00,9, -999.00,9,  16.4354, -999.00
096U20160426,       P15S,      86,          1,         27,       2027,2,20160609,       0754,   -25.9835,  -169.9958,       5611,   335.0,  15.5220,  35.3880,2,  35.3701,2,    205.2,2,   204.2,2,    1.57,2,    6.47,2,    0.01,4,    0.51,2,-999.000,9,-999.000,9,-999.000,9,  2102.0,2,  2316.5,2,-999.0000,9,  -999.00,-999.0000,9, -999.00,9,    0.84,2,    54.2,2,     2.0, -999.00,9, -999.00,9, -999.00,9, -999.00,9,  15.4697, -999.00
096U20160426,       P15S,      86,          1,         26,       2026,2,20160609,       0754,   -25.9835,  -169.9958,       5611,   376.6,  14.6200,  35.2930,2,  35.2591,2,    204.1,2,   202.6,2,    2.19,2,    8.33,2,    0.01,4,    0.63,2,   2.627,2,   1.517,2,   1.341,2,  2108.0,2,  2312.6,2,-999.0000,9,  -999.00,-999.0000,9, -999.00,9,    0.82,2,    51.1,2,     2.0, -999.00,9, -999.00,9, -999.00,9, -999.00,9,  14.5635, -999.00
096U20160426,       P15S,      86,          1,         25,       2025,2,20160609,       0754,   -25.9835,  -169.9958,       5611,   465.9,  11.5350,  34.8460,2,  34.8313,2,    199.7,2,   200.8,2,    3.37,2,   14.12,2,    0.01,4,    1.00,2,-999.000,9,-999.000,9,-999.000,9,  2127.4,2,  2293.8,2,-999.0000,9,  -999.00,-999.0000,9, -999.00,9,    0.97,2,    37.7,2,     2.0, -999.00,9, -999.00,9, -999.00,9, -999.00,9,  11.4752, -999.00
096U20160426,       P15S,      86,          1,         24,       2024,2,20160609,       0754,   -25.9835,  -169.9958,       5611,   566.4,   8.6720,  34.5350,2,  34.5211,2,    218.3,2,   221.4,2,    5.00,2,   19.22,2,    0.00,4,    1.32,2,-999.000,9,-999.000,9,-999.000,9,  2140.0,2,  2283.0,2,-999.0000,9,  -999.00,-999.0000,9, -999.00,9,    1.04,2,    26.1,2,     2.0, -999.00,9, -999.00,9, -999.00,9, -999.00,9,   8.6109, -999.00
096U20160426,       P15S,      86,          1,         23,       2023,2,20160609,       0754,   -25.9835,  -169.9958,       5611,   665.4,   7.3820,  34.4230,2,  34.4142,2,    226.6,2,   229.5,2,    7.22,2,   22.22,2,    0.00,4,    1.50,2,   3.308,2,   1.679,2,   0.815,2,  2146.9,2,  2281.1,2,-999.0000,9,  -999.00,-999.0000,9, -999.00,9,    1.18,2,    14.8,2,     2.0, -999.00,9, -999.00,9, -999.00,9, -999.00,9,   7.3163, -999.00
096U20160426,       P15S,      86,          1,         22,       2022,2,20160609,       0754,   -25.9835,  -169.9958,       5611,   751.9,   6.5550,  34.3490,2,  34.3458,2,    229.7,2,   232.4,2,    9.13,2,   24.06,2,    0.00,4,    1.62,2,-999.000,9,-999.000,9,-999.000,9,  2148.4,2,  2280.7,2,-999.0000,9,  -999.00,-999.0000,9, -999.00,9,    1.09,2,     6.0,2,     2.0, -999.00,9, -999.00,9, -999.00,9, -999.00,9,   6.4850, -999.00
096U20160426,       P15S,      86,          1,         21,       2021,2,20160609,       0754,   -25.9835,  -169.9958,       5611,   865.5,   5.8060,  34.3220,2,  34.3212,2,    218.7,2,   221.3,2,   14.53,2,   26.69,2,    0.00,4,    1.81,2,-999.000,9,-999.000,9,-999.000,9,  2162.7,2,  2284.3,6,-999.0000,9,  -999.00,-999.0000,9, -999.00,9,    1.15,2,   -30.9,2,     2.0, -999.00,9, -999.00,9, -999.00,9, -999.00,9,   5.7297, -999.00
096U20160426,       P15S,      86,          1,         20,       2020,2,20160609,       0754,   -25.9835,  -169.9958,       5611,   965.4,   5.1100,  34.3220,2,  34.3221,2,    204.3,2,   206.4,2,   23.09,2,   29.28,2,    0.00,4,    1.99,2,   1.136,2,   0.578,2,   0.719,3,  2179.2,2,  2290.4,2,-999.0000,9,  -999.00,-999.0000,9, -999.00,9,    1.10,2,   -64.8,2,     2.0, -999.00,9, -999.00,9, -999.00,9, -999.00,9,   5.0293, -999.00
096U20160426,       P15S,      86,          1,         19,       2019,2,20160609,       0754,   -25.9835,  -169.9958,       5611,  1065.9,   4.4630,  34.3470,2,  34.3485,2,    189.9,2,   191.7,2,   34.09,2,   31.45,2,    0.00,4,    2.15,2,-999.000,9,-999.000,9,-999.000,9,  2200.3,2,  2300.1,2,-999.0000,9,  -999.00,-999.0000,9, -999.00,9,    0.99,2,   -99.2,2,     2.0, -999.00,9, -999.00,9, -999.00,9, -999.00,9,   4.3783, -999.00
096U20160426,       P15S,      86,          1,         18,       2018,2,20160609,       0754,   -25.9835,  -169.9958,       5611,  1161.3,   3.8480,  34.3980,2,  34.3985,2,    176.3,2,   178.2,2,   47.60,2,   33.10,2,    0.00,4,    2.27,2,-999.000,9,-999.000,9,-999.000,9,  -999.0,9,  -999.0,9,-999.0000,9,  -999.00,-999.0000,9, -999.00,9, -999.00,9,  -999.0,9,  -999.0, -999.00,9, -999.00,9, -999.00,9, -999.00,9,   3.7603, -999.00
096U20160426,       P15S,      86,          1,         17,       2017,2,20160609,       0754,   -25.9835,  -169.9958,       5611,  1301.1,   3.2910,  34.4610,2,  34.4604,2,    167.8,2,   169.2,2,   62.85,2,   34.13,2,    0.00,4,    2.35,2,-999.000,9,-999.000,9,-999.000,9,  2241.0,2,  2329.3,2,-999.0000,9,  -999.00,-999.0000,9, -999.00,9,    0.63,2,  -155.4,2,     2.0, -999.00,9, -999.00,9, -999.00,9, -999.00,9,   3.1968, -999.00
096U20160426,       P15S,      86,          1,         16,       2016,2,20160609,       0754,   -25.9835,  -169.9958,       5611,  1440.6,   2.8630,  34.5260,2,  34.5269,2,    160.2,2,   161.3,2,   78.65,2,   34.67,2,    0.00,4,    2.40,2,-999.000,9,-999.000,9,-999.000,9,  -999.0,9,  -999.0,9,-999.0000,9,  -999.00,-999.0000,9, -999.00,9, -999.00,9,  -999.0,9,  -999.0, -999.00,9, -999.00,9, -999.00,9, -999.00,9,   2.7617, -999.00
096U20160426,       P15S,      86,          1,         15,       2015,2,20160609,       0754,   -25.9835,  -169.9958,       5611,  1635.7,   2.5600,  34.5840,2,  34.5844,2,    152.3,2,   153.0,2,   95.74,2,   35.12,2,    0.01,4,    2.45,2,   0.006,2,   0.003,2,       0,2,  2282.8,2,  2369.9,2,-999.0000,9,  -999.00,-999.0000,9, -999.00,9,    0.37,2,  -192.7,2,     2.0, -999.00,9, -999.00,9, -999.00,9, -999.00,9,   2.4462, -999.00
096U20160426,       P15S,      86,          1,         14,       2014,2,20160609,       0754,   -25.9835,  -169.9958,       5611,  1826.2,   2.4070,  34.6110,2,  34.6100,2,    147.7,2,   148.7,2,  105.33,2,   35.51,2,    0.00,4,    2.48,2,-999.000,9,-999.000,9,-999.000,9,  2291.4,2,  2381.0,2,-999.0000,9,  -999.00,-999.0000,9, -999.00,9, -999.00,9,  -999.0,9,  -999.0, -999.00,9, -999.00,9, -999.00,9, -999.00,9,   2.2793, -999.00
096U20160426,       P15S,      86,          1,         13,       2013,2,20160609,       0754,   -25.9835,  -169.9958,       5611,  2065.1,   2.2190,  34.6310,2,  34.6295,2,    145.8,2,   146.6,2,  113.76,2,   35.70,2,    0.00,4,    2.50,2,-999.000,9,-999.000,9,-999.000,9,  2302.7,2,  2390.7,6,-999.0000,9,  -999.00,-999.0000,9, -999.00,9, -999.00,9,  -999.0,9,  -999.0, -999.00,9, -999.00,9, -999.00,9, -999.00,9,   2.0736, -999.00
096U20160426,       P15S,      86,          1,         12,       2012,2,20160609,       0754,   -25.9835,  -169.9958,       5611,  2316.1,   2.0680,  34.6450,2,  34.6447,2,    145.0,2,   146.0,2,  120.28,2,   35.83,2,    0.00,4,    2.51,2,-999.000,9,-999.000,9,-999.000,9,  2311.6,2,  2398.0,2,-999.0000,9,  -999.00,-999.0000,9, -999.00,9, -999.00,9,  -999.0,9,  -999.0, -999.00,9, -999.00,9, -999.00,9, -999.00,9,   1.9031, -999.00
096U20160426,       P15S,      86,          1,         11,       2011,2,20160609,       0754,   -25.9835,  -169.9958,       5611,  2568.0,   1.9610,  34.6550,2,  34.6541,2,    145.6,2,   146.3,2,  124.31,2,   35.82,2,    0.00,4,    2.50,2,-999.000,9,-999.000,9,-999.000,9,  2314.9,2,  2402.2,2,-999.0000,9,  -999.00,-999.0000,9, -999.00,9, -999.00,9,  -999.0,9,  -999.0, -999.00,9, -999.00,9, -999.00,9, -999.00,9,   1.7752, -999.00
096U20160426,       P15S,      86,          1,         10,       2010,2,20160609,       0754,   -25.9835,  -169.9958,       5611,  2814.0,   1.8520,  34.6650,2,  34.6640,2,    147.8,2,   147.9,2,  128.17,2,   35.71,2,    0.00,4,    2.50,2,   0.000,2,   0.000,2,   0.029,2,  2316.6,6,  2405.2,6,-999.0000,9,  -999.00,-999.0000,9, -999.00,9, -999.00,9,  -999.0,9,  -999.0, -999.00,9, -999.00,9, -999.00,9, -999.00,9,   1.6453, -999.00
096U20160426,       P15S,      86,          1,          9,       2009,2,20160609,       0754,   -25.9835,  -169.9958,       5611,  3082.1,   1.7470,  34.6740,2,  34.6737,2,    152.0,2,   151.9,2,  129.28,2,   35.32,2,    0.00,4,    2.48,2,-999.000,9,-999.000,9,-999.000,9,  2313.7,2,  2404.9,2,-999.0000,9,  -999.00,-999.0000,9, -999.00,9, -999.00,9,  -999.0,9,  -999.0, -999.00,9, -999.00,9, -999.00,9, -999.00,9,   1.5168, -999.00
096U20160426,       P15S,      86,          1,          8,       2008,2,20160609,       0754,   -25.9835,  -169.9958,       5611,  3365.5,   1.6170,  34.6910,2,  34.6900,2,    165.1,2,   165.7,2,  123.96,2,   34.17,2,    0.00,4,    2.39,2,   0.015,2,   0.005,2,       0,2,  2299.3,2,  2394.0,2,-999.0000,9,  -999.00,-999.0000,9, -999.00,9, -999.00,9,  -999.0,9,  -999.0, -999.00,9, -999.00,9, -999.00,9, -999.00,9,   1.3615, -999.00
096U20160426,       P15S,      86,          1,          7,       2007,2,20160609,       0754,   -25.9835,  -169.9958,       5611,  3701.1,   1.4840,  34.7150,2,  34.7132,2,    186.5,2,   189.0,2,  111.50,2,   32.19,2,    0.00,4,    2.24,2,-999.000,9,-999.000,9,-999.000,9,  2272.3,2,  2370.9,2,-999.0000,9,  -999.00,-999.0000,9, -999.00,9, -999.00,9,  -999.0,9,  -999.0, -999.00,9, -999.00,9, -999.00,9, -999.00,9,   1.1972, -999.00
096U20160426,       P15S,      86,          1,          6,       2006,2,20160609,       0754,   -25.9835,  -169.9958,       5611,  4091.5,   1.2660,  34.7180,2,  34.7175,2,    197.9,2,   200.4,2,  112.03,2,   31.68,2,    0.00,4,    2.20,2,-999.000,9,-999.000,9,-999.000,9,  -999.0,9,  -999.0,9,-999.0000,9,  -999.00,-999.0000,9, -999.00,9, -999.00,9,  -999.0,9,  -999.0, -999.00,9, -999.00,9, -999.00,9, -999.00,9,   0.9435, -999.00
096U20160426,       P15S,      86,          1,          5,       2005,2,20160609,       0754,   -25.9835,  -169.9958,       5611,  4490.1,   1.1130,  34.7140,2,  34.7126,2,    202.8,2,   204.3,2,  116.38,2,   31.79,2,    0.00,4,    2.20,2,   0.074,6,   0.037,6,   0.011,6,  2263.1,2,  2364.9,2,-999.0000,9,  -999.00,-999.0000,9, -999.00,9, -999.00,9,  -999.0,9,  -999.0, -999.00,9, -999.00,9, -999.00,9, -999.00,9,   0.7509, -999.00
096U20160426,       P15S,      86,          1,          4,       2004,2,20160609,       0754,   -25.9835,  -169.9958,       5611,  4896.8,   1.0560,  34.7100,2,  34.7092,2,    205.7,2,   205.9,2,  118.81,2,   31.92,2,    0.00,4,    2.21,2,-999.000,9,-999.000,9,-999.000,9,  2264.6,2,  2366.2,2,-999.0000,9,  -999.00,-999.0000,9, -999.00,9, -999.00,9,  -999.0,9,  -999.0, -999.00,9, -999.00,9, -999.00,9, -999.00,9,   0.6488, -999.00
096U20160426,       P15S,      86,          1,          3,       2003,2,20160609,       0754,   -25.9835,  -169.9958,       5611,  5296.5,   1.0950,  34.7090,2,  34.7084,2,    207.2,2,   205.7,2,  119.42,2,   31.94,2,    0.00,4,    2.21,2,-999.000,9,-999.000,9,-999.000,9,  2265.0,6,  2366.6,6,-999.0000,9,  -999.00,-999.0000,9, -999.00,9, -999.00,9,  -999.0,9,  -999.0, -999.00,9, -999.00,9, -999.00,9, -999.00,9,   0.6383, -999.00
096U20160426,       P15S,      86,          1,          2,       2002,2,20160609,       0754,   -25.9835,  -169.9958,       5611,  5501.7,   1.1180,  34.7090,2,  34.7089,2,    207.8,2,   205.9,2,  119.45,2,   31.93,2,    0.00,4,    2.21,2,-999.000,9,-999.000,9,-999.000,9,  -999.0,9,  -999.0,9,-999.0000,9,  -999.00,-999.0000,9, -999.00,9, -999.00,9,  -999.0,9,  -999.0, -999.00,9, -999.00,9, -999.00,9, -999.00,9,   0.6349, -999.00
096U20160426,       P15S,      86,          1,          1,       2001,2,20160609,       0754,   -25.9835,  -169.9958,       5611,  5695.4,   1.1380,  34.7090,2,  34.7083,2,    208.4,2,   206.1,2,  119.51,2,   31.87,2,    0.00,4,    2.21,2,   0.087,2,   0.042,2,       0,2,  2264.1,2,  2366.0,2,-999.0000,9,  -999.00,-999.0000,9, -999.00,9, -999.00,9,  -999.0,9,  -999.0, -999.00,9, -999.00,9, -999.00,9, -999.00,9,   0.6296, -999.00