BOTTLE,20230413CCHSIOENA
EXPOCODE,SECT_ID,STNNBR,CASTNO,SAMPNO,BTLNBR,BTLNBR_FLAG_W,DATE,TIME,LATITUDE,LONGITUDE,DEPTH,CTDPRS,CTDTMP,CTDSAL,CTDSAL_FLAG_W,SALNTY,SALNTY_FLAG_W,CTDOXY,CTDOXY_FLAG_W,OXYGEN,OXYGEN_FLAG_W,SILCAT,SILCAT_FLAG_W,NITRAT,NITRAT_FLAG_W,NITRIT,NITRIT_FLAG_W,PHSPHT,PHSPHT_FLAG_W,CFC-11,CFC-11_FLAG_W,CFC-12,CFC-12_FLAG_W,SF6,SF6_FLAG_W,TCARBN,TCARBN_FLAG_W,ALKALI,ALKALI_FLAG_W,PH_TOT,PH_TOT_FLAG_W,PH_TMP,HELIUM,HELIUM_FLAG_W,DELHE3,DELHE3_FLAG_W,DELC13,DELC13_FLAG_W,DELC14,DELC14_FLAG_W,C14ERR,POC,POC_FLAG_W,PON,PON_FLAG_W,CHLORA,CHLORA_FLAG_W,PPHYTN,PPHYTN_FLAG_W,THETA,DELHER
,,,,,,,,,,,METERS,DBAR,ITS-90,PSS-78,,PSS-78,,UMOL/KG,,UMOL/KG,,UMOL/KG,,UMOL/KG,,UMOL/KG,,UMOL/KG,,PMOL/KG,,PMOL/KG,,FMOL/KG,,UMOL/KG,,UMOL/KG,,,,DEG C,NMOL/KG,,PERCNT,,/MILLE,,/MILLE,,/MILLE,UG/KG,,UG/KG,,UG/KG,,UG/KG,,DEG C,PERCNT
096U20160426,       P15S,      74,          1,         36,       2036,2,20160604,       0944,   -32.4948,  -169.9904,       5553,     4.9,  20.0160,  35.8130,2,  35.8150,2,    225.1,2,   225.4,2,    0.09,4,    0.01,4,    0.00,4,    0.05,2,   1.994,2,   1.243,2,    1.53,2,  2057.3,6,  2347.7,6,-999.0000,9,  -999.00,-999.0000,9, -999.00,9, -999.00,9,  -999.0,9,  -999.0, -999.00,9, -999.00,9,    0.26,2,    0.06,3,  20.0151, -999.00
096U20160426,       P15S,      74,          1,         35,       2035,2,20160604,       0944,   -32.4948,  -169.9904,       5553,    20.7,  20.0040,  35.8110,2,  35.8107,2,    225.1,2,   225.4,2,    0.08,4,    0.01,4,    0.00,4,    0.05,2,-999.000,9,-999.000,9,-999.000,9,  -999.0,9,  -999.0,9,-999.0000,9,  -999.00,-999.0000,9, -999.00,9, -999.00,9,  -999.0,9,  -999.0, -999.00,9, -999.00,9,    0.28,2,    0.03,3,  20.0002, -999.00
096U20160426,       P15S,      74,          1,         34,       2034,2,20160604,       0944,   -32.4948,  -169.9904,       5553,    60.1,  19.9870,  35.8050,2,  35.8032,2,    224.7,2,   225.5,2,    0.06,4,    0.01,4,    0.00,4,    0.05,2,   2.000,2,   1.245,2,   1.486,2,  2055.3,2,  2347.5,2,-999.0000,9,  -999.00,-999.0000,9, -999.00,9, -999.00,9,  -999.0,9,  -999.0, -999.00,9, -999.00,9,    0.26,2,    0.06,3,  19.9759, -999.00
096U20160426,       P15S,      74,          1,         33,       2033,2,20160604,       0944,   -32.4948,  -169.9904,       5553,    91.2,  19.9220,  35.7990,2,  35.7850,2,    223.9,2,   226.0,2,    0.08,4,    0.02,2,    0.00,4,    0.06,2,   2.022,2,   1.252,2,   1.572,2,  2059.4,2,  2346.6,2,-999.0000,9,  -999.00,-999.0000,9, -999.00,9, -999.00,9,  -999.0,9,  -999.0, -999.00,9, -999.00,9,    0.30,2,    0.06,3,  19.9051, -999.00
096U20160426,       P15S,      74,          1,         32,       2032,2,20160604,       0944,   -32.4948,  -169.9904,       5553,   116.1,  16.7160,  35.5310,2,  35.5296,2,    214.6,2,   214.0,2,    0.63,2,    2.83,2,    0.07,2,    0.31,2,   2.357,2,   1.438,2,   1.546,2,  2088.4,2,  2329.0,2,-999.0000,9,  -999.00,-999.0000,9, -999.00,9, -999.00,9,  -999.0,9,  -999.0, -999.00,9, -999.00,9,    0.30,2,    0.27,3,  16.6970, -999.00
096U20160426,       P15S,      74,          1,         31,       2031,2,20160604,       0944,   -32.4948,  -169.9904,       5553,   165.8,  15.3780,  35.4120,2,  35.4162,2,    210.7,2,   212.4,2,    1.11,2,    4.95,2,    0.02,4,    0.43,2,   2.497,2,   1.489,2,   1.617,2,  2099.4,2,  2322.7,2,-999.0000,9,  -999.00,-999.0000,9, -999.00,9, -999.00,9,  -999.0,9,  -999.0, -999.00,9, -999.00,9, -999.00,9, -999.00,9,  15.3524, -999.00
096U20160426,       P15S,      74,          1,         30,       2030,2,20160604,       0944,   -32.4948,  -169.9904,       5553,   216.8,  14.3100,  35.2630,2,  35.2627,2,    210.5,2,   211.7,2,    1.54,2,    6.71,2,    0.01,4,    0.54,2,   2.611,2,   1.549,2,   1.559,2,  2105.8,2,  2314.9,6,-999.0000,9,  -999.00,-999.0000,9, -999.00,9, -999.00,9,  -999.0,9,  -999.0, -999.00,9, -999.00,9, -999.00,9, -999.00,9,  14.2781, -999.00
096U20160426,       P15S,      74,          1,         29,       2029,2,20160604,       0944,   -32.4948,  -169.9904,       5553,   266.7,  13.6350,  35.2010,2,  35.1913,2,    210.6,2,   210.3,2,    2.12,2,    8.28,2,    0.01,4,    0.64,2,   2.681,2,   1.569,2,   1.549,2,  2114.4,2,  2311.1,2,-999.0000,9,  -999.00,-999.0000,9, -999.00,9, -999.00,9,  -999.0,9,  -999.0, -999.00,9, -999.00,9, -999.00,9, -999.00,9,  13.5970, -999.00
096U20160426,       P15S,      74,          1,         28,       2028,2,20160604,       0944,   -32.4948,  -169.9904,       5553,   325.9,  12.1250,  34.9800,2,  34.9706,2,    203.3,2,   203.7,2,    3.08,2,   12.21,2,    0.01,4,    0.88,2,   2.832,2,   1.616,2,   1.287,2,  2127.7,2,  2300.8,2,-999.0000,9,  -999.00,-999.0000,9, -999.00,9, -999.00,9,  -999.0,9,  -999.0, -999.00,9, -999.00,9, -999.00,9, -999.00,9,  12.0820, -999.00
096U20160426,       P15S,      74,          1,         27,       2027,2,20160604,       0944,   -32.4948,  -169.9904,       5553,   365.7,  11.1410,  34.8570,2,  34.8760,2,    203.8,2,   204.0,2,    3.68,2,   14.06,2,    0.00,4,    0.99,2,   2.914,2,   1.628,2,   1.264,2,  2133.0,2,  2297.3,2,-999.0000,9,  -999.00,-999.0000,9, -999.00,9, -999.00,9,  -999.0,9,  -999.0, -999.00,9, -999.00,9, -999.00,9, -999.00,9,  11.0953, -999.00
096U20160426,       P15S,      74,          1,         26,       2026,2,20160604,       0944,   -32.4948,  -169.9904,       5553,   425.3,   9.8400,  34.6920,2,  34.6936,2,    207.5,2,   208.5,2,    4.61,2,   17.16,2,    0.00,4,    1.19,2,   3.064,2,   1.667,2,   1.055,2,  2140.2,2,  2288.3,2,-999.0000,9,  -999.00,-999.0000,9, -999.00,9, -999.00,9,  -999.0,9,  -999.0, -999.00,9, -999.00,9, -999.00,9, -999.00,9,   9.7908, -999.00
096U20160426,       P15S,      74,          1,         25,       2025,2,20160604,       0944,   -32.4948,  -169.9904,       5553,   535.1,   8.1040,  34.4960,2,  34.4991,2,    225.2,2,   226.1,2,    5.38,2,   20.05,2,    0.00,4,    1.37,2,   3.405,2,   1.834,2,   1.094,2,  2142.0,2,  2283.7,2,-999.0000,9,  -999.00,-999.0000,9, -999.00,9, -999.00,9,  -999.0,9,  -999.0, -999.00,9, -999.00,9, -999.00,9, -999.00,9,   8.0486, -999.00
096U20160426,       P15S,      74,          1,         24,       2024,2,20160604,       0944,   -32.4948,  -169.9904,       5553,   635.1,   7.1640,  34.4040,2,  34.4073,2,    230.9,2,   232.7,2,    6.95,2,   22.17,2,    0.00,4,    1.50,2,   3.346,2,   1.737,2,    0.85,2,  2145.3,2,  2280.6,2,-999.0000,9,  -999.00,-999.0000,9, -999.00,9, -999.00,9,  -999.0,9,  -999.0, -999.00,9, -999.00,9, -999.00,9, -999.00,9,   7.1024, -999.00
096U20160426,       P15S,      74,          1,         23,       2023,2,20160604,       0944,   -32.4948,  -169.9904,       5553,   735.2,   6.7110,  34.3770,2,  34.3762,2,    226.7,2,   228.3,2,    9.49,2,   23.89,2,    0.00,4,    1.62,2,   2.762,2,   1.405,2,    0.62,2,  2151.5,2,  2282.1,2,-999.0000,9,  -999.00,-999.0000,9, -999.00,9, -999.00,9,  -999.0,9,  -999.0, -999.00,9, -999.00,9, -999.00,9, -999.00,9,   6.6418, -999.00
096U20160426,       P15S,      74,          1,         22,       2022,2,20160604,       0944,   -32.4948,  -169.9904,       5553,   835.3,   6.1500,  34.3420,2,  34.3398,2,    223.3,2,   225.4,2,   12.21,2,   25.49,2,    0.00,4,    1.72,2,   2.257,6,   1.120,6,   0.421,6,  2155.8,2,  2283.4,2,-999.0000,9,  -999.00,-999.0000,9, -999.00,9, -999.00,9,  -999.0,9,  -999.0, -999.00,9, -999.00,9, -999.00,9, -999.00,9,   6.0743, -999.00
096U20160426,       P15S,      74,          1,         21,       2021,2,20160604,       0944,   -32.4948,  -169.9904,       5553,   936.0,   5.5360,  34.3170,2,  34.3167,2,    216.8,2,   218.0,2,   16.85,2,   27.42,2,    0.00,4,    1.86,2,-999.000,9,-999.000,9,-999.000,9,  -999.0,9,  -999.0,9,-999.0000,9,  -999.00,-999.0000,9, -999.00,9, -999.00,9,  -999.0,9,  -999.0, -999.00,9, -999.00,9, -999.00,9, -999.00,9,   5.4549, -999.00
096U20160426,       P15S,      74,          1,         20,       2020,2,20160604,       0944,   -32.4948,  -169.9904,       5553,  1035.5,   4.8610,  34.3240,2,  34.3241,2,    203.5,2,   204.6,2,   25.51,2,   29.78,2,    0.00,4,    2.03,2,   1.148,2,   0.549,2,   0.157,2,  2184.1,2,  2292.8,2,-999.0000,9,  -999.00,-999.0000,9, -999.00,9, -999.00,9,  -999.0,9,  -999.0, -999.00,9, -999.00,9, -999.00,9, -999.00,9,   4.7759, -999.00
096U20160426,       P15S,      74,          1,         19,       2019,2,20160604,       0944,   -32.4948,  -169.9904,       5553,  1132.0,   4.2780,  34.3430,2,  34.3417,2,    194.4,2,   195.8,2,   33.95,2,   31.38,2,    0.00,4,    2.14,2,-999.000,9,-999.000,9,-999.000,9,  -999.0,9,  -999.0,9,-999.0000,9,  -999.00,-999.0000,9, -999.00,9, -999.00,9,  -999.0,9,  -999.0, -999.00,9, -999.00,9, -999.00,9, -999.00,9,   4.1891, -999.00
096U20160426,       P15S,      74,          1,         18,       2018,2,20160604,       0944,   -32.4948,  -169.9904,       5553,  1240.3,   3.7900,  34.3720,2,  34.3728,2,    186.2,2,   187.6,2,   43.06,2,   32.64,2,    0.00,4,    2.24,2,   0.482,2,   0.238,2,   0.015,2,  2216.6,2,  2307.8,2,-999.0000,9,  -999.00,-999.0000,9, -999.00,9, -999.00,9,  -999.0,9,  -999.0, -999.00,9, -999.00,9, -999.00,9, -999.00,9,   3.6962, -999.00
096U20160426,       P15S,      74,          1,         17,       2017,2,20160604,       0944,   -32.4948,  -169.9904,       5553,  1401.9,   3.2270,  34.4410,2,  34.4423,2,    174.3,2,   175.2,2,   57.95,2,   33.87,2,    0.00,4,    2.33,2,   0.159,2,   0.087,2,       0,2,  2237.6,2,  2323.8,2,-999.0000,9,  -999.00,-999.0000,9, -999.00,9, -999.00,9,  -999.0,9,  -999.0, -999.00,9, -999.00,9, -999.00,9, -999.00,9,   3.1251, -999.00
096U20160426,       P15S,      74,          1,         16,       2016,2,20160604,       0944,   -32.4948,  -169.9904,       5553,  1561.7,   2.8600,  34.5250,2,  34.5254,2,    163.1,2,   163.9,2,   75.75,2,   34.43,2,    0.00,4,    2.38,2,   0.039,2,   0.025,2,   0.003,2,  2256.5,2,  2344.8,2,-999.0000,9,  -999.00,-999.0000,9, -999.00,9, -999.00,9,  -999.0,9,  -999.0, -999.00,9, -999.00,9, -999.00,9, -999.00,9,   2.7488, -999.00
096U20160426,       P15S,      74,          1,         15,       2015,2,20160604,       0944,   -32.4948,  -169.9904,       5553,  1766.5,   2.5430,  34.5890,2,  34.5896,2,    154.6,2,   155.3,2,   93.34,2,   34.86,2,    0.00,4,    2.43,2,   0.010,2,   0.007,2,       0,2,  2279.0,6,  2367.6,6,-999.0000,9,  -999.00,-999.0000,9, -999.00,9, -999.00,9,  -999.0,9,  -999.0, -999.00,9, -999.00,9, -999.00,9, -999.00,9,   2.4185, -999.00
096U20160426,       P15S,      74,          1,         14,       2014,2,20160604,       0944,   -32.4948,  -169.9904,       5553,  1976.5,   2.3340,  34.6200,2,  34.6197,2,    150.0,2,   150.5,2,  105.81,2,   35.23,2,    0.00,4,    2.46,2,   0.007,2,   0.005,2,       0,2,  2295.8,2,  2383.0,2,-999.0000,9,  -999.00,-999.0000,9, -999.00,9, -999.00,9,  -999.0,9,  -999.0, -999.00,9, -999.00,9, -999.00,9, -999.00,9,   2.1945, -999.00
096U20160426,       P15S,      74,          1,         13,       2013,2,20160604,       0944,   -32.4948,  -169.9904,       5553,  2235.6,   2.1680,  34.6380,2,  34.6376,2,    148.1,2,   148.9,2,  113.41,2,   35.45,2,    0.00,4,    2.48,2,   0.002,2,   0.003,2,       0,2,  2303.5,2,  2389.9,2,-999.0000,9,  -999.00,-999.0000,9, -999.00,9, -999.00,9,  -999.0,9,  -999.0, -999.00,9, -999.00,9, -999.00,9, -999.00,9,   2.0085, -999.00
096U20160426,       P15S,      74,          1,         12,       2012,2,20160604,       0944,   -32.4948,  -169.9904,       5553,  2486.0,   2.0340,  34.6500,2,  34.6497,2,    147.1,2,   148.4,2,  119.23,2,   35.63,2,    0.00,4,    2.49,2,   0.001,2,   0.003,2,       0,2,  2308.2,2,  2395.8,2,-999.0000,9,  -999.00,-999.0000,9, -999.00,9, -999.00,9,  -999.0,9,  -999.0, -999.00,9, -999.00,9, -999.00,9, -999.00,9,   1.8543, -999.00
096U20160426,       P15S,      74,          1,         11,       2011,2,20160604,       0944,   -32.4948,  -169.9904,       5553,  2736.1,   1.9110,  34.6600,2,  34.6595,2,    147.1,2,   148.6,2,  124.02,2,   35.73,2,    0.00,4,    2.49,2,   0.005,2,   0.005,2,       0,2,  2312.2,2,  2401.2,6,-999.0000,9,  -999.00,-999.0000,9, -999.00,9, -999.00,9,  -999.0,9,  -999.0, -999.00,9, -999.00,9, -999.00,9, -999.00,9,   1.7105, -999.00
096U20160426,       P15S,      74,          1,         10,       2010,2,20160604,       0944,   -32.4948,  -169.9904,       5553,  2990.8,   1.8240,  34.6710,2,  34.6700,2,    151.2,2,   152.9,2,  124.62,2,   35.36,2,    0.00,4,    2.47,2,   0.006,6,   0.005,6,   0.013,6,  2310.4,2,  2399.7,2,-999.0000,9,  -999.00,-999.0000,9, -999.00,9, -999.00,9,  -999.0,9,  -999.0, -999.00,9, -999.00,9, -999.00,9, -999.00,9,   1.6010, -999.00
096U20160426,       P15S,      74,          1,          9,       2009,2,20160604,       0944,   -32.4948,  -169.9904,       5553,  3271.0,   1.7430,  34.6900,2,-999.0000,9,    164.4,2,  -999.0,9, -999.00,9, -999.00,9, -999.00,9, -999.00,9,-999.000,9,-999.000,9,-999.000,9,  -999.0,9,  -999.0,9,-999.0000,9,  -999.00,-999.0000,9, -999.00,9, -999.00,9,  -999.0,9,  -999.0, -999.00,9, -999.00,9, -999.00,9, -999.00,9,   1.4940, -999.00
096U20160426,       P15S,      74,          1,          8,       2008,2,20160604,       0944,   -32.4948,  -169.9904,       5553,  3585.5,   1.6000,  34.7110,2,  34.7111,2,    180.7,2,   184.8,2,  109.09,2,   32.54,2,    0.00,4,    2.25,2,-999.000,9,-999.000,9,-999.000,9,  -999.0,9,  -999.0,9,-999.0000,9,  -999.00,-999.0000,9, -999.00,9, -999.00,9,  -999.0,9,  -999.0, -999.00,9, -999.00,9, -999.00,9, -999.00,9,   1.3223, -999.00
096U20160426,       P15S,      74,          1,          7,       2007,2,20160604,       0944,   -32.4948,  -169.9904,       5553,  3951.1,   1.3500,  34.7190,2,  34.7186,2,    194.6,2,   198.6,2,  109.05,2,   31.79,2,    0.00,4,    2.19,2,   0.048,2,   0.028,2,       0,2,  2262.4,2,  2363.1,2,-999.0000,9,  -999.00,-999.0000,9, -999.00,9, -999.00,9,  -999.0,9,  -999.0, -999.00,9, -999.00,9, -999.00,9, -999.00,9,   1.0403, -999.00
096U20160426,       P15S,      74,          1,          6,       2006,2,20160604,       0944,   -32.4948,  -169.9904,       5553,  4362.1,   1.1290,  34.7140,2,  34.7135,2,    200.7,2,   204.3,2,  114.74,2,   31.88,2,    0.00,4,    2.19,2,-999.000,9,-999.000,9,-999.000,9,  -999.0,9,  -999.0,9,-999.0000,9,  -999.00,-999.0000,9, -999.00,9, -999.00,9,  -999.0,9,  -999.0, -999.00,9, -999.00,9, -999.00,9, -999.00,9,   0.7808, -999.00
096U20160426,       P15S,      74,          1,          5,       2005,2,20160604,       0944,   -32.4948,  -169.9904,       5553,  4761.6,   1.0560,  34.7100,2,  34.7089,2,    203.9,2,   206.0,2,  117.74,2,   32.03,2,    0.00,4,    2.20,2,   0.121,2,   0.062,2,   0.008,2,  2261.4,2,  2364.8,2,-999.0000,9,  -999.00,-999.0000,9, -999.00,9, -999.00,9,  -999.0,9,  -999.0, -999.00,9, -999.00,9, -999.00,9, -999.00,9,   0.6647, -999.00
096U20160426,       P15S,      74,          1,          4,       2004,2,20160604,       0944,   -32.4948,  -169.9904,       5553,  5155.2,   1.0700,  34.7090,2,  34.7082,2,    206.1,2,   206.8,2,  118.82,2,   32.09,2,    0.00,4,    2.21,2,-999.000,9,-999.000,9,-999.000,9,  -999.0,9,  -999.0,9,-999.0000,9,  -999.00,-999.0000,9, -999.00,9, -999.00,9,  -999.0,9,  -999.0, -999.00,9, -999.00,9, -999.00,9, -999.00,9,   0.6314, -999.00
096U20160426,       P15S,      74,          1,          3,       2003,2,20160604,       0944,   -32.4948,  -169.9904,       5553,  5505.6,   1.1100,  34.7080,2,  34.7077,2,    207.4,2,   206.4,2,  118.95,2,   32.09,2,    0.00,4,    2.21,2,   0.127,2,   0.064,2,   0.023,2,  2263.9,6,  2365.8,6,-999.0000,9,  -999.00,-999.0000,9, -999.00,9, -999.00,9,  -999.0,9,  -999.0, -999.00,9, -999.00,9, -999.00,9, -999.00,9,   0.6267, -999.00
096U20160426,       P15S,      74,          1,          2,       2002,2,20160604,       0944,   -32.4948,  -169.9904,       5553,  5585.9,   1.1190,  34.7080,2,  34.7077,2,    207.3,2,   206.5,2,  118.92,2,   32.12,2,    0.00,4,    2.21,2,-999.000,9,-999.000,9,-999.000,9,  -999.0,9,  -999.0,9,-999.0000,9,  -999.00,-999.0000,9, -999.00,9, -999.00,9,  -999.0,9,  -999.0, -999.00,9, -999.00,9, -999.00,9, -999.00,9,   0.6253, -999.00
096U20160426,       P15S,      74,          1,          1,       2001,2,20160604,       0944,   -32.4948,  -169.9904,       5553,  5660.6,   1.1270,  34.7080,2,  34.7079,2,    207.3,2,   206.4,2,  119.02,2,   32.10,2,    0.00,4,    2.21,2,   0.117,2,   0.060,2,       0,2,  2263.1,2,  2366.5,2,-999.0000,9,  -999.00,-999.0000,9, -999.00,9, -999.00,9,  -999.0,9,  -999.0, -999.00,9, -999.00,9, -999.00,9, -999.00,9,   0.6235, -999.00