BOTTLE,20230413CCHSIOENA
EXPOCODE,SECT_ID,STNNBR,CASTNO,SAMPNO,BTLNBR,BTLNBR_FLAG_W,DATE,TIME,LATITUDE,LONGITUDE,DEPTH,CTDPRS,CTDTMP,CTDSAL,CTDSAL_FLAG_W,SALNTY,SALNTY_FLAG_W,CTDOXY,CTDOXY_FLAG_W,OXYGEN,OXYGEN_FLAG_W,SILCAT,SILCAT_FLAG_W,NITRAT,NITRAT_FLAG_W,NITRIT,NITRIT_FLAG_W,PHSPHT,PHSPHT_FLAG_W,CFC-11,CFC-11_FLAG_W,CFC-12,CFC-12_FLAG_W,SF6,SF6_FLAG_W,TCARBN,TCARBN_FLAG_W,ALKALI,ALKALI_FLAG_W,PH_TOT,PH_TOT_FLAG_W,PH_TMP,HELIUM,HELIUM_FLAG_W,DELHE3,DELHE3_FLAG_W,DELC13,DELC13_FLAG_W,DELC14,DELC14_FLAG_W,C14ERR,POC,POC_FLAG_W,PON,PON_FLAG_W,CHLORA,CHLORA_FLAG_W,PPHYTN,PPHYTN_FLAG_W,THETA,DELHER
,,,,,,,,,,,METERS,DBAR,ITS-90,PSS-78,,PSS-78,,UMOL/KG,,UMOL/KG,,UMOL/KG,,UMOL/KG,,UMOL/KG,,UMOL/KG,,PMOL/KG,,PMOL/KG,,FMOL/KG,,UMOL/KG,,UMOL/KG,,,,DEG C,NMOL/KG,,PERCNT,,/MILLE,,/MILLE,,/MILLE,UG/KG,,UG/KG,,UG/KG,,UG/KG,,DEG C,PERCNT
096U20160426,       P15S,     140,          1,         36,       2036,2,20160624,       0910,     0.0042,  -168.7368,       5582,     5.9,  28.1000,  35.2410,2,  35.2413,2,    180.1,2,   187.1,2,    1.93,2,    2.35,2,    0.40,2,    0.36,2,   1.504,2,   0.956,2,   1.211,2,  2013.9,6,  2315.0,6,-999.0000,9,  -999.00,-999.0000,9, -999.00,9,    1.07,2,    32.2,2,     2.0, -999.00,9, -999.00,9,    0.84,2,    0.06,3,  28.0986, -999.00
096U20160426,       P15S,     140,          1,         35,       2035,2,20160624,       0910,     0.0042,  -168.7368,       5582,    19.0,  28.1140,  35.2410,2,  35.2391,2,    180.1,2,   186.8,2,    1.94,2,    2.44,2,    0.40,2,    0.37,2,-999.000,9,-999.000,9,-999.000,9,  2013.9,2,  2314.8,6,-999.0000,9,  -999.00,-999.0000,9, -999.00,9, -999.00,9,  -999.0,9,  -999.0, -999.00,9, -999.00,9,    0.79,2,    0.06,3,  28.1095, -999.00
096U20160426,       P15S,     140,          1,         34,       2034,2,20160624,       0910,     0.0042,  -168.7368,       5582,    39.4,  28.0630,  35.2340,2,  35.2238,2,    178.3,2,   182.4,2,    2.03,2,    2.74,2,    0.43,2,    0.39,2,   1.518,2,   0.961,2,   1.215,2,  2017.8,2,  2313.7,3,-999.0000,9,  -999.00,-999.0000,9, -999.00,9,    0.53,2,    42.2,2,     2.0, -999.00,9, -999.00,9,    0.87,2,    0.08,3,  28.0537, -999.00
096U20160426,       P15S,     140,          1,         33,       2033,2,20160624,       0910,     0.0042,  -168.7368,       5582,    65.2,  27.0660,  35.1650,2,  35.1789,2,    162.3,2,   159.1,2,    2.93,2,    5.31,2,    0.47,2,    0.52,2,   1.601,2,   1.014,2,   1.126,2,  2041.9,2,  2308.6,3,-999.0000,9,  -999.00,-999.0000,9, -999.00,9, -999.00,9,  -999.0,9,  -999.0, -999.00,9, -999.00,9,    1.14,2,   -0.03,3,  27.0510, -999.00
096U20160426,       P15S,     140,          1,         32,       2032,2,20160624,       0910,     0.0042,  -168.7368,       5582,    89.5,  22.7210,  35.2460,2,  35.2258,2,    128.6,2,   131.6,2,    5.15,2,    9.81,2,    0.04,2,    0.74,2,   1.788,2,   1.122,2,    1.12,2,  2086.6,2,  2308.5,3,-999.0000,9,  -999.00,-999.0000,9, -999.00,9,    0.44,2,    41.7,2,     2.0, -999.00,9, -999.00,9, -999.00,9, -999.00,9,  22.7029, -999.00
096U20160426,       P15S,     140,          1,         31,       2031,2,20160624,       0910,     0.0042,  -168.7368,       5582,   136.7,  20.9240,  35.4450,2,  35.3007,2,    128.5,2,   134.4,2,    6.30,2,   11.21,2,    0.02,2,    0.85,2,   1.896,2,   1.162,2,   1.053,2,  2111.1,2,  2317.6,3,-999.0000,9,  -999.00,-999.0000,9, -999.00,9, -999.00,9,  -999.0,9,  -999.0, -999.00,9, -999.00,9,    0.05,2,    0.06,3,  20.8979, -999.00
096U20160426,       P15S,     140,          1,         30,       2030,2,20160624,       0910,     0.0042,  -168.7368,       5582,   185.5,  16.4740,  35.0890,2,  34.9983,2,    134.7,2,   136.8,2,   11.91,2,   14.92,2,    0.02,4,    1.09,2,   1.958,2,   1.154,2,   0.908,2,  2135.5,2,  2305.3,3,-999.0000,9,  -999.00,-999.0000,9, -999.00,9,    0.52,2,    32.0,2,     2.0, -999.00,9, -999.00,9, -999.00,9, -999.00,9,  16.4440, -999.00
096U20160426,       P15S,     140,          1,         29,       2029,2,20160624,       0910,     0.0042,  -168.7368,       5582,   235.8,  13.2320,  34.8220,2,  34.8895,2,    128.7,2,   129.8,2,   15.96,2,   19.24,2,    0.01,4,    1.38,2,   1.770,2,   1.015,2,    0.65,2,  2161.6,2,  2304.3,3,-999.0000,9,  -999.00,-999.0000,9, -999.00,9,    0.55,2,    17.6,2,     2.0, -999.00,9, -999.00,9, -999.00,9, -999.00,9,  13.1992, -999.00
096U20160426,       P15S,     140,          1,         28,       2028,2,20160624,       0910,     0.0042,  -168.7368,       5582,   298.9,  11.5810,  34.8280,2,  34.8238,2,     76.7,2,    74.2,2,   22.42,2,   27.52,2,    0.01,4,    1.93,2,   1.167,2,   0.653,2,   0.385,2,  2215.2,2,  2301.6,3,-999.0000,9,  -999.00,-999.0000,9, -999.00,9,    0.32,2,   -18.0,2,     2.0, -999.00,9, -999.00,9, -999.00,9, -999.00,9,  11.5428, -999.00
096U20160426,       P15S,     140,          1,         27,       2027,2,20160624,       0910,     0.0042,  -168.7368,       5582,   336.7,  10.9250,  34.7900,2,  34.8460,2,     86.4,2,  -999.0,9,   20.45,2,   25.01,2,    0.03,2,    1.76,2,-999.000,9,-999.000,9,-999.000,9,  -999.0,9,  -999.0,9,-999.0000,9,  -999.00,-999.0000,9, -999.00,9, -999.00,9,  -999.0,9,  -999.0, -999.00,9, -999.00,9, -999.00,9, -999.00,9,  10.8835, -999.00
096U20160426,       P15S,     140,          1,         26,       2026,2,20160624,       0910,     0.0042,  -168.7368,       5582,   374.4,  10.4250,  34.7540,2,  34.7423,2,     74.8,2,    68.9,2,   26.45,2,   30.37,2,    0.01,4,    2.10,2,   0.894,2,   0.489,2,   0.182,2,  2228.2,2,  2300.2,3,-999.0000,9,  -999.00,-999.0000,9, -999.00,9,    0.37,2,   -33.1,2,     2.0, -999.00,9, -999.00,9, -999.00,9, -999.00,9,  10.3801, -999.00
096U20160426,       P15S,     140,          1,         25,       2025,2,20160624,       0910,     0.0042,  -168.7368,       5582,   466.0,   8.5720,  34.6350,2,  34.6342,2,     72.3,2,    68.1,2,   34.93,2,   33.77,2,    0.01,4,    2.33,2,   0.498,2,   0.273,2,   0.114,2,  2243.2,2,  2304.8,3,-999.0000,9,  -999.00,-999.0000,9, -999.00,9,    0.32,2,   -71.5,2,     2.0, -999.00,9, -999.00,9, -999.00,9, -999.00,9,   8.5223, -999.00
096U20160426,       P15S,     140,          1,         24,       2024,2,20160624,       0910,     0.0042,  -168.7368,       5582,   567.3,   7.3240,  34.5820,2,  34.5816,2,     74.1,2,    70.7,2,   43.22,2,   36.09,2,    0.01,4,    2.51,2,   0.261,2,   0.146,2,   0.046,2,  2258.8,2,  2310.4,3,-999.0000,9,  -999.00,-999.0000,9, -999.00,9,    0.34,2,  -106.3,2,     2.0, -999.00,9, -999.00,9, -999.00,9, -999.00,9,   7.2684, -999.00
096U20160426,       P15S,     140,          1,         23,       2023,2,20160624,       0910,     0.0042,  -168.7368,       5582,   666.3,   6.7170,  34.5670,2,  34.5656,2,     67.6,2,    63.5,2,   50.32,2,   38.14,2,    0.00,4,    2.66,2,   0.118,2,   0.067,2,   0.019,2,  2271.7,2,  2317.0,3,-999.0000,9,  -999.00,-999.0000,9, -999.00,9,    0.29,2,  -121.7,2,     2.0, -999.00,9, -999.00,9, -999.00,9, -999.00,9,   6.6543, -999.00
096U20160426,       P15S,     140,          1,         22,       2022,2,20160624,       0910,     0.0042,  -168.7368,       5582,   765.5,   5.8040,  34.5450,2,  34.5420,2,     84.5,2,  -999.0,9,   59.34,2,   37.74,2,    0.00,4,    2.65,2,-999.000,9,-999.000,9,-999.000,9,  -999.0,9,  -999.0,9,-999.0000,9,  -999.00,-999.0000,9, -999.00,9, -999.00,9,  -999.0,9,  -999.0, -999.00,9, -999.00,9, -999.00,9, -999.00,9,   5.7368, -999.00
096U20160426,       P15S,     140,          1,         21,       2021,2,20160624,       0910,     0.0042,  -168.7368,       5582,   867.5,   5.1690,  34.5420,2,  34.5421,2,     93.0,2,    90.6,2,   69.01,2,   37.54,2,    0.00,4,    2.64,2,   0.074,2,   0.043,2,       0,2,  2282.3,2,  2338.7,3,-999.0000,9,  -999.00,-999.0000,9, -999.00,9, -999.00,9,  -999.0,9,  -999.0, -999.00,9, -999.00,9, -999.00,9, -999.00,9,   5.0964, -999.00
096U20160426,       P15S,     140,          1,         20,       2020,2,20160624,       0910,     0.0042,  -168.7368,       5582,   967.0,   4.5870,  34.5530,2,  34.5534,2,     89.0,2,    85.2,2,   81.42,2,   38.70,2,    0.00,4,    2.73,2,   0.018,2,   0.013,2,       0,2,  2297.1,6,  2352.8,6,-999.0000,9,  -999.00,-999.0000,9, -999.00,9,    0.18,2,  -179.0,2,     2.0, -999.00,9, -999.00,9, -999.00,9, -999.00,9,   4.5096, -999.00
096U20160426,       P15S,     140,          1,         19,       2019,2,20160624,       0910,     0.0042,  -168.7368,       5582,  1067.1,   4.3020,  34.5610,2,  34.5611,2,     87.4,2,  -999.0,9,   87.82,2,   39.11,2,    0.00,4,    2.77,2,-999.000,9,-999.000,9,-999.000,9,  -999.0,9,  -999.0,9,-999.0000,9,  -999.00,-999.0000,9, -999.00,9, -999.00,9,  -999.0,9,  -999.0, -999.00,9, -999.00,9, -999.00,9, -999.00,9,   4.2181, -999.00
096U20160426,       P15S,     140,          1,         18,       2018,2,20160624,       0910,     0.0042,  -168.7368,       5582,  1161.7,   3.9910,  34.5680,2,  34.5680,2,     92.5,2,    89.4,2,   94.11,2,   38.80,2,    0.00,4,    2.75,2,   0.009,2,   0.006,2,       0,2,  2310.8,2,  2362.7,3,-999.0000,9,  -999.00,-999.0000,9, -999.00,9,    0.12,2,  -190.1,2,     2.0, -999.00,9, -999.00,9, -999.00,9, -999.00,9,   3.9016, -999.00
096U20160426,       P15S,     140,          1,         17,       2017,2,20160624,       0910,     0.0042,  -168.7368,       5582,  1300.7,   3.7530,  34.5770,2,  34.5766,2,     91.3,2,    87.7,2,  100.12,2,   39.18,2,    0.00,4,    2.77,2,   0.004,6,   0.004,6,       0,6,  2319.4,2,  2369.4,3,-999.0000,9,  -999.00,-999.0000,9, -999.00,9,    0.06,2,  -201.5,2,     2.0, -999.00,9, -999.00,9, -999.00,9, -999.00,9,   3.6539, -999.00
096U20160426,       P15S,     140,          1,         16,       2016,2,20160624,       0910,     0.0042,  -168.7368,       5582,  1441.6,   3.3030,  34.5930,2,  34.5925,2,     94.4,2,    90.9,2,  110.80,2,   39.16,2,    0.00,4,    2.77,2,-999.000,9,-999.000,9,-999.000,9,  2329.0,2,  2380.3,3,-999.0000,9,  -999.00,-999.0000,9, -999.00,9,    0.04,2,  -210.3,2,     2.0, -999.00,9, -999.00,9, -999.00,9, -999.00,9,   3.1966, -999.00
096U20160426,       P15S,     140,          1,         15,       2015,2,20160624,       0910,     0.0042,  -168.7368,       5582,  1636.3,   2.8450,  34.6100,2,  34.6099,2,    104.5,2,   102.0,2,  119.32,2,   38.53,2,    0.00,4,    2.71,2,  -0.001,2,   0.000,2,       0,2,  2332.0,2,  2389.5,3,-999.0000,9,  -999.00,-999.0000,9, -999.00,9,    0.00,2,  -216.6,2,     2.0, -999.00,9, -999.00,9, -999.00,9, -999.00,9,   2.7275, -999.00
096U20160426,       P15S,     140,          1,         14,       2014,2,20160624,       0910,     0.0042,  -168.7368,       5582,  1827.1,   2.6120,  34.6220,2,  34.6218,2,    106.0,2,   103.5,2,  125.58,2,   38.56,2,    0.00,4,    2.71,2,-999.000,9,-999.000,9,-999.000,9,  2340.0,2,  2404.4,6,-999.0000,9,  -999.00,-999.0000,9, -999.00,9,    0.01,2,  -227.8,2,     2.0, -999.00,9, -999.00,9, -999.00,9, -999.00,9,   2.4813, -999.00
096U20160426,       P15S,     140,          1,         13,       2013,2,20160624,       0910,     0.0042,  -168.7368,       5582,  2065.8,   2.2630,  34.6410,2,  34.6415,2,    111.2,2,   109.8,2,  134.77,2,   38.31,2,    0.00,4,    2.68,2,   0.000,2,   0.002,2,       0,2,  2346.7,2,  2414.5,3,-999.0000,9,  -999.00,-999.0000,9, -999.00,9,   -0.01,2,  -227.8,2,     2.0, -999.00,9, -999.00,9, -999.00,9, -999.00,9,   2.1168, -999.00
096U20160426,       P15S,     140,          1,         12,       2012,2,20160624,       0910,     0.0042,  -168.7368,       5582,  2314.8,   2.0370,  34.6530,2,  34.6518,2,    118.6,2,   117.3,2,  138.35,2,   37.78,2,    0.00,4,    2.63,2,-999.000,9,-999.000,9,-999.000,9,  -999.0,9,  -999.0,9,-999.0000,9,  -999.00,-999.0000,9, -999.00,9, -999.00,9,  -999.0,9,  -999.0, -999.00,9, -999.00,9, -999.00,9, -999.00,9,   1.8727, -999.00
096U20160426,       P15S,     140,          1,         11,       2011,2,20160624,       0910,     0.0042,  -168.7368,       5582,  2565.6,   1.8540,  34.6630,2,  34.6629,2,    125.3,2,   124.6,2,  141.36,2,   37.35,2,    0.00,4,    2.59,2,  -0.001,2,   0.000,2,       0,2,  2344.0,2,  2422.7,3,-999.0000,9,  -999.00,-999.0000,9, -999.00,9,   -0.07,3,  -238.6,2,     2.0, -999.00,9, -999.00,9, -999.00,9, -999.00,9,   1.6704, -999.00
096U20160426,       P15S,     140,          1,         10,       2010,2,20160624,       0910,     0.0042,  -168.7368,       5582,  2815.4,   1.7080,  34.6700,2,  34.6690,2,    133.6,2,   133.7,2,  141.23,2,   36.76,2,    0.00,4,    2.54,2,-999.000,9,-999.000,9,-999.000,9,  -999.0,9,  -999.0,9,-999.0000,9,  -999.00,-999.0000,9, -999.00,9, -999.00,9,  -999.0,9,  -999.0, -999.00,9, -999.00,9, -999.00,9, -999.00,9,   1.5042, -999.00
096U20160426,       P15S,     140,          1,          9,       2009,2,20160624,       0910,     0.0042,  -168.7368,       5582,  3080.1,   1.6260,  34.6750,2,  34.6741,2,    139.3,2,   140.0,2,  140.91,2,   36.32,2,    0.00,4,    2.51,2,-999.000,9,-999.000,9,-999.000,9,  2334.4,2,  2422.3,3,-999.0000,9,  -999.00,-999.0000,9, -999.00,9,    0.10,2,  -225.6,2,     2.0, -999.00,9, -999.00,9, -999.00,9, -999.00,9,   1.3987, -999.00
096U20160426,       P15S,     140,          1,          8,       2008,2,20160624,       0910,     0.0042,  -168.7368,       5582,  3365.0,   1.5590,  34.6790,2,  34.6788,2,    145.9,2,   147.0,2,  139.87,2,   35.86,2,    0.00,4,    2.47,2,-999.000,9,-999.000,9,-999.000,9,  -999.0,9,  -999.0,9,-999.0000,9,  -999.00,-999.0000,9, -999.00,9, -999.00,9,  -999.0,9,  -999.0, -999.00,9, -999.00,9, -999.00,9, -999.00,9,   1.3050, -999.00
096U20160426,       P15S,     140,          1,          7,       2007,2,20160624,       0910,     0.0042,  -168.7368,       5582,  3700.4,   1.4950,  34.6860,2,  34.6855,2,    153.8,2,   155.0,2,  138.01,2,   35.31,2,    0.00,4,    2.43,2,  -0.001,6,   0.000,6,       0,6,  2324.1,2,  2416.5,3,-999.0000,9,  -999.00,-999.0000,9, -999.00,9,    0.18,2,  -217.1,2,     2.0, -999.00,9, -999.00,9, -999.00,9, -999.00,9,   1.2082, -999.00
096U20160426,       P15S,     140,          1,          6,       2006,2,20160624,       0910,     0.0042,  -168.7368,       5582,  4090.3,   1.3810,  34.6940,2,  34.6943,2,    166.5,2,   168.5,2,  134.05,2,   34.41,2,    0.00,4,    2.35,2,-999.000,9,-999.000,9,-999.000,9,  -999.0,9,  -999.0,9,-999.0000,9,  -999.00,-999.0000,9, -999.00,9, -999.00,9,  -999.0,9,  -999.0, -999.00,9, -999.00,9, -999.00,9, -999.00,9,   1.0555, -999.00
096U20160426,       P15S,     140,          1,          5,       2005,2,20160624,       0910,     0.0042,  -168.7368,       5582,  4491.1,   1.2730,  34.7010,2,  34.7011,2,    181.3,2,   184.2,2,  126.29,2,   33.27,2,    0.00,4,    2.27,2,   0.006,2,   0.003,2,       0,2,  2293.2,2,  2398.0,3,-999.0000,9,  -999.00,-999.0000,9, -999.00,9,    0.36,2,  -189.6,2,     2.0, -999.00,9, -999.00,9, -999.00,9, -999.00,9,   0.9059, -999.00
096U20160426,       P15S,     140,          1,          4,       2004,2,20160624,       0910,     0.0042,  -168.7368,       5582,  4895.0,   1.2620,  34.7040,2,  34.7039,2,    186.8,2,   189.0,2,  124.33,2,   32.94,2,    0.00,4,    2.25,2,   0.009,2,   0.007,2,       0,2,  -999.0,9,  -999.0,9,-999.0000,9,  -999.00,-999.0000,9, -999.00,9, -999.00,9,  -999.0,9,  -999.0, -999.00,9, -999.00,9, -999.00,9, -999.00,9,   0.8482, -999.00
096U20160426,       P15S,     140,          1,          3,       2003,2,20160624,       0910,     0.0042,  -168.7368,       5582,  5296.2,   1.2980,  34.7040,2,  34.7049,2,    190.1,2,   190.9,2,  123.24,2,   32.77,2,    0.00,4,    2.24,2,   0.013,2,   0.009,2,       0,2,  2284.4,2,  2387.9,3,-999.0000,9,  -999.00,-999.0000,9, -999.00,9,    0.37,2,  -176.9,2,     2.0, -999.00,9, -999.00,9, -999.00,9, -999.00,9,   0.8341, -999.00
096U20160426,       P15S,     140,          1,          2,       2002,2,20160624,       0910,     0.0042,  -168.7368,       5582,  5451.5,   1.3180,  34.7040,2,  34.7043,2,    190.7,2,   191.1,2,  123.17,2,   32.75,2,    0.00,4,    2.24,2,-999.000,9,-999.000,9,-999.000,9,  -999.0,9,  -999.0,9,-999.0000,9,  -999.00,-999.0000,9, -999.00,9, -999.00,9,  -999.0,9,  -999.0, -999.00,9, -999.00,9, -999.00,9, -999.00,9,   0.8340, -999.00
096U20160426,       P15S,     140,          1,          1,       2001,2,20160624,       0910,     0.0042,  -168.7368,       5582,  5704.9,   1.3510,  34.7040,2,  34.7046,2,    191.8,2,   191.4,2,  122.96,2,   32.77,2,    0.00,4,    2.24,2,-999.000,9,-999.000,9,-999.000,9,  2282.8,6,  2387.8,6,-999.0000,9,  -999.00,-999.0000,9, -999.00,9,    0.40,2,  -178.6,2,     2.0, -999.00,9, -999.00,9, -999.00,9, -999.00,9,   0.8334, -999.00