BOTTLE,20230413CCHSIOENA
EXPOCODE,SECT_ID,STNNBR,CASTNO,SAMPNO,BTLNBR,BTLNBR_FLAG_W,DATE,TIME,LATITUDE,LONGITUDE,DEPTH,CTDPRS,CTDTMP,CTDSAL,CTDSAL_FLAG_W,SALNTY,SALNTY_FLAG_W,CTDOXY,CTDOXY_FLAG_W,OXYGEN,OXYGEN_FLAG_W,SILCAT,SILCAT_FLAG_W,NITRAT,NITRAT_FLAG_W,NITRIT,NITRIT_FLAG_W,PHSPHT,PHSPHT_FLAG_W,CFC-11,CFC-11_FLAG_W,CFC-12,CFC-12_FLAG_W,SF6,SF6_FLAG_W,TCARBN,TCARBN_FLAG_W,ALKALI,ALKALI_FLAG_W,PH_TOT,PH_TOT_FLAG_W,PH_TMP,HELIUM,HELIUM_FLAG_W,DELHE3,DELHE3_FLAG_W,DELC13,DELC13_FLAG_W,DELC14,DELC14_FLAG_W,C14ERR,POC,POC_FLAG_W,PON,PON_FLAG_W,CHLORA,CHLORA_FLAG_W,PPHYTN,PPHYTN_FLAG_W,THETA,DELHER
,,,,,,,,,,,METERS,DBAR,ITS-90,PSS-78,,PSS-78,,UMOL/KG,,UMOL/KG,,UMOL/KG,,UMOL/KG,,UMOL/KG,,UMOL/KG,,PMOL/KG,,PMOL/KG,,FMOL/KG,,UMOL/KG,,UMOL/KG,,,,DEG C,NMOL/KG,,PERCNT,,/MILLE,,/MILLE,,/MILLE,UG/KG,,UG/KG,,UG/KG,,UG/KG,,DEG C,PERCNT
096U20160426,       P15S,      44,          1,         36,       2036,2,20160522,       0406,   -45.1763,  -172.7338,       4666,     4.8,  12.4210,  34.6530,2,  34.6544,2,    259.7,2,   259.8,2,    0.46,2,    3.90,2,    0.28,2,    0.44,2,   2.997,2,   1.712,2,   2.134,2,  2078.1,2,  2292.5,2,-999.0000,9,  -999.00,-999.0000,9, -999.00,9, -999.00,9,  -999.0,9,  -999.0, -999.00,9, -999.00,9,    0.41,2,    0.38,3,  12.4204, -999.00
096U20160426,       P15S,      44,          1,         35,       2035,2,20160522,       0406,   -45.1763,  -172.7338,       4666,    34.1,  12.4210,  34.7240,2,  34.7254,2,    259.5,2,   260.0,2,    0.46,2,    3.93,2,    0.28,2,    0.45,2,-999.000,9,-999.000,9,-999.000,9,  -999.0,9,  -999.0,9,-999.0000,9,  -999.00,-999.0000,9, -999.00,9, -999.00,9,  -999.0,9,  -999.0, -999.00,9, -999.00,9,    0.44,2,    0.43,3,  12.4165, -999.00
096U20160426,       P15S,      44,          1,         34,       2034,2,20160522,       0406,   -45.1763,  -172.7338,       4666,    61.2,  12.4150,  34.7280,2,  34.7302,2,    259.0,2,   259.5,2,    0.46,2,    3.97,2,    0.28,2,    0.46,2,   2.999,2,   1.719,2,     2.1,2,  2084.6,2,  2297.0,2,-999.0000,9,  -999.00,   1.7520,2,   -1.91,2, -999.00,9,  -999.0,9,  -999.0, -999.00,9, -999.00,9,    0.30,2,    0.42,3,  12.4069,    0.62
096U20160426,       P15S,      44,          1,         33,       2033,2,20160522,       0406,   -45.1763,  -172.7338,       4666,    84.6,  12.4020,  34.7300,2,  34.7326,2,    258.5,2,   258.9,2,    0.48,2,    4.08,2,    0.28,2,    0.46,2,-999.000,9,-999.000,9,-999.000,9,  -999.0,9,  -999.0,9,-999.0000,9,  -999.00,-999.0000,9, -999.00,9, -999.00,9,  -999.0,9,  -999.0, -999.00,9, -999.00,9,    0.34,2,    0.31,3,  12.3908, -999.00
096U20160426,       P15S,      44,          1,         32,       2032,2,20160522,       0406,   -45.1763,  -172.7338,       4666,   116.4,  10.7130,  34.7990,2,  34.8018,2,    245.7,2,   245.9,2,    2.04,2,   10.26,2,    0.02,2,    0.78,2,   3.276,2,   1.857,2,    2.12,2,  2117.1,2,  2294.7,2,-999.0000,9,  -999.00,-999.0000,9, -999.00,9, -999.00,9,  -999.0,9,  -999.0, -999.00,9, -999.00,9,    0.04,2,    0.06,3,  10.6990, -999.00
096U20160426,       P15S,      44,          1,         31,       2031,2,20160522,       0406,   -45.1763,  -172.7338,       4666,   165.5,  10.2850,  34.7790,2,  34.7790,2,    251.7,2,   252.2,2,    2.22,2,   10.60,2,    0.01,4,    0.79,2,   3.316,2,   1.883,2,   2.168,2,  2118.6,2,  2294.7,2,-999.0000,9,  -999.00,-999.0000,9, -999.00,9, -999.00,9,  -999.0,9,  -999.0, -999.00,9, -999.00,9, -999.00,9, -999.00,9,  10.2655, -999.00
096U20160426,       P15S,      44,          1,         30,       2030,2,20160522,       0406,   -45.1763,  -172.7338,       4666,   214.7,  10.0750,  34.7520,2,  34.7499,2,    253.7,2,   254.5,2,    2.34,2,   11.07,2,    0.01,4,    0.82,2,   3.358,6,   1.904,6,   2.122,6,  2118.2,2,  2292.9,6,-999.0000,9,  -999.00,-999.0000,9, -999.00,9, -999.00,9,  -999.0,9,  -999.0, -999.00,9, -999.00,9, -999.00,9, -999.00,9,  10.0500, -999.00
096U20160426,       P15S,      44,          1,         29,       2029,2,20160522,       0406,   -45.1763,  -172.7338,       4666,   264.0,   9.8850,  34.7300,2,  34.7279,2,    254.8,2,   254.8,2,    2.56,2,   11.80,2,    0.01,4,    0.86,2,-999.000,9,-999.000,9,-999.000,9,  -999.0,9,  -999.0,9,-999.0000,9,  -999.00,-999.0000,9, -999.00,9, -999.00,9,  -999.0,9,  -999.0, -999.00,9, -999.00,9, -999.00,9, -999.00,9,   9.8546, -999.00
096U20160426,       P15S,      44,          1,         28,       2028,2,20160522,       0406,   -45.1763,  -172.7338,       4666,   317.3,   9.6700,  34.6990,2,  34.7001,2,    254.0,2,   254.6,2,    2.75,2,   12.58,2,    0.01,4,    0.91,2,   3.412,2,   1.921,2,   2.118,2,  2119.1,2,  2292.3,2,-999.0000,9,  -999.00,-999.0000,9, -999.00,9, -999.00,9,  -999.0,9,  -999.0, -999.00,9, -999.00,9, -999.00,9, -999.00,9,   9.6339, -999.00
096U20160426,       P15S,      44,          1,         27,       2027,2,20160522,       0406,   -45.1763,  -172.7338,       4666,   367.0,   9.4050,  34.6610,2,  34.6626,2,    253.0,2,   254.1,2,    3.04,2,   13.67,2,    0.01,4,    0.97,2,   3.473,2,   1.933,2,   2.085,2,  2124.8,2,  2290.5,6,-999.0000,9,  -999.00,-999.0000,9, -999.00,9, -999.00,9,  -999.0,9,  -999.0, -999.00,9, -999.00,9, -999.00,9, -999.00,9,   9.3638, -999.00
096U20160426,       P15S,      44,          1,         26,       2026,2,20160522,       0406,   -45.1763,  -172.7338,       4666,   435.7,   9.0220,  34.6040,2,  34.6079,2,    249.9,2,   250.7,2,    3.58,2,   15.28,2,    0.01,4,    1.08,2,   3.525,2,   1.961,2,   2.055,2,  2128.6,2,  2289.1,2,-999.0000,9,  -999.00,-999.0000,9, -999.00,9, -999.00,9,  -999.0,9,  -999.0, -999.00,9, -999.00,9, -999.00,9, -999.00,9,   8.9742, -999.00
096U20160426,       P15S,      44,          1,         25,       2025,2,20160522,       0406,   -45.1763,  -172.7338,       4666,   534.8,   8.1910,  34.4890,2,  34.4938,2,    239.3,2,   239.7,2,    5.04,2,   19.03,2,    0.01,4,    1.31,2,   3.638,2,   1.985,2,   1.754,2,  2139.7,2,  2284.4,2,-999.0000,9,  -999.00,-999.0000,9, -999.00,9, -999.00,9,  -999.0,9,  -999.0, -999.00,9, -999.00,9, -999.00,9, -999.00,9,   8.1353, -999.00
096U20160426,       P15S,      44,          1,         24,       2024,2,20160522,       0406,   -45.1763,  -172.7338,       4666,   632.7,   7.6870,  34.4360,2,  34.4379,2,    243.1,2,   244.6,2,    6.06,2,   20.13,2,    0.01,4,    1.38,2,   3.640,2,   1.992,2,   1.731,2,  2141.3,2,  2283.4,2,-999.0000,9,  -999.00,-999.0000,9, -999.00,9, -999.00,9,  -999.0,9,  -999.0, -999.00,9, -999.00,9, -999.00,9, -999.00,9,   7.6232, -999.00
096U20160426,       P15S,      44,          1,         23,       2023,2,20160522,       0406,   -45.1763,  -172.7338,       4666,   735.2,   7.3680,  34.4160,2,  34.4162,2,    236.0,2,   236.8,2,    7.72,2,   21.86,2,    0.01,4,    1.49,2,   3.555,2,   1.895,2,   1.351,2,  2145.4,2,  2283.0,2,-999.0000,9,  -999.00,-999.0000,9, -999.00,9, -999.00,9,  -999.0,9,  -999.0, -999.00,9, -999.00,9, -999.00,9, -999.00,9,   7.2951, -999.00
096U20160426,       P15S,      44,          1,         22,       2022,2,20160522,       0406,   -45.1763,  -172.7338,       4666,   837.2,   6.9920,  34.3920,2,  34.3924,2,    230.7,2,   232.0,2,    9.46,2,   23.15,2,    0.01,4,    1.57,2,   3.356,2,   1.741,2,   1.143,2,  2149.7,2,  2283.9,2,-999.0000,9,  -999.00,   1.7910,2,    0.09,2, -999.00,9,  -999.0,9,  -999.0, -999.00,9, -999.00,9, -999.00,9, -999.00,9,   6.9108,    0.61
096U20160426,       P15S,      44,          1,         21,       2021,2,20160522,       0406,   -45.1763,  -172.7338,       4666,   937.2,   6.5870,  34.3710,2,  34.3721,2,    224.5,2,   225.4,2,   12.22,2,   24.61,2,    0.01,4,    1.66,2,   2.985,2,   1.528,2,   0.959,2,  2156.2,2,  2284.7,2,-999.0000,9,  -999.00,-999.0000,9, -999.00,9, -999.00,9,  -999.0,9,  -999.0, -999.00,9, -999.00,9, -999.00,9, -999.00,9,   6.4983, -999.00
096U20160426,       P15S,      44,          1,         20,       2020,2,20160522,       0406,   -45.1763,  -172.7338,       4666,  1034.9,   6.0000,  34.3540,2,-999.0000,9,    214.8,2,  -999.0,9, -999.00,9, -999.00,9, -999.00,9, -999.00,9,-999.000,9,-999.000,9,-999.000,9,  -999.0,9,  -999.0,9,-999.0000,9,  -999.00,-999.0000,9, -999.00,9, -999.00,9,  -999.0,9,  -999.0, -999.00,9, -999.00,9, -999.00,9, -999.00,9,   5.9060, -999.00
096U20160426,       P15S,      44,          1,         19,       2019,2,20160522,       0406,   -45.1763,  -172.7338,       4666,  1136.1,   5.3390,  34.3460,2,  34.3478,2,    206.9,2,   207.9,2,   24.22,2,   28.67,2,    0.01,4,    1.94,2,   2.107,6,   1.050,6,   0.572,6,  2181.6,2,  2291.2,2,-999.0000,9,  -999.00,-999.0000,9, -999.00,9, -999.00,9,  -999.0,9,  -999.0, -999.00,9, -999.00,9, -999.00,9, -999.00,9,   5.2406, -999.00
096U20160426,       P15S,      44,          1,         18,       2018,2,20160522,       0406,   -45.1763,  -172.7338,       4666,  1233.7,   4.7200,  34.3450,2,  34.3464,2,    202.0,2,   202.6,2,   31.37,2,   30.24,2,    0.01,4,    2.06,2,   1.914,2,   0.944,2,   0.563,2,  2193.8,2,  2298.1,2,-999.0000,9,  -999.00,-999.0000,9, -999.00,9, -999.00,9,  -999.0,9,  -999.0, -999.00,9, -999.00,9, -999.00,9, -999.00,9,   4.6181, -999.00
096U20160426,       P15S,      44,          1,         17,       2017,2,20160522,       0406,   -45.1763,  -172.7338,       4666,  1337.1,   4.2650,  34.3810,2,  34.3914,2,    191.6,2,   190.5,2,   41.59,2,   31.51,2,    0.00,4,    2.15,2,   1.138,2,   0.573,2,   0.228,2,  2208.2,2,  2309.0,2,-999.0000,9,  -999.00,-999.0000,9, -999.00,9, -999.00,9,  -999.0,9,  -999.0, -999.00,9, -999.00,9, -999.00,9, -999.00,9,   4.1580, -999.00
096U20160426,       P15S,      44,          1,         16,       2016,2,20160522,       0406,   -45.1763,  -172.7338,       4666,  1436.3,   4.0180,  34.4280,2,  34.4290,2,    181.4,2,   181.6,2,   50.18,2,   32.32,2,    0.01,4,    2.23,2,   0.623,2,   0.312,2,   0.139,2,  2220.6,6,  2319.0,6,-999.0000,9,  -999.00,-999.0000,9, -999.00,9, -999.00,9,  -999.0,9,  -999.0, -999.00,9, -999.00,9, -999.00,9, -999.00,9,   3.9046, -999.00
096U20160426,       P15S,      44,          1,         15,       2015,2,20160522,       0406,   -45.1763,  -172.7338,       4666,  1534.3,   3.6130,  34.4380,2,  34.4409,2,    178.5,2,   178.8,2,   55.95,2,   33.13,2,    0.00,4,    2.28,2,   0.595,2,   0.296,2,   0.153,2,  2231.0,2,  2323.0,6,-999.0000,9,  -999.00,-999.0000,9, -999.00,9, -999.00,9,  -999.0,9,  -999.0, -999.00,9, -999.00,9, -999.00,9, -999.00,9,   3.4955, -999.00
096U20160426,       P15S,      44,          1,         14,       2014,2,20160522,       0406,   -45.1763,  -172.7338,       4666,  1666.2,   3.2240,  34.4830,2,  34.4816,2,    172.8,2,   173.4,2,   65.59,2,   33.72,2,    0.00,4,    2.34,2,   0.580,2,   0.288,2,   0.195,2,  2242.1,2,  2333.1,2,-999.0000,9,  -999.00,   1.7940,2,   11.57,2, -999.00,9,  -999.0,9,  -999.0, -999.00,9, -999.00,9, -999.00,9, -999.00,9,   3.0995,    0.72
096U20160426,       P15S,      44,          1,         13,       2013,2,20160522,       0406,   -45.1763,  -172.7338,       4666,  1864.3,   2.8440,  34.5430,2,  34.5439,2,    167.6,2,   167.7,2,   77.00,2,   34.18,2,    0.00,4,    2.37,2,   0.444,2,   0.220,2,   0.122,2,  2256.4,2,  2344.6,2,-999.0000,9,  -999.00,-999.0000,9, -999.00,9, -999.00,9,  -999.0,9,  -999.0, -999.00,9, -999.00,9, -999.00,9, -999.00,9,   2.7071, -999.00
096U20160426,       P15S,      44,          1,         12,       2012,2,20160522,       0406,   -45.1763,  -172.7338,       4666,  2084.2,   2.6010,  34.6030,2,  34.6040,2,    160.4,2,   159.8,2,   93.43,2,   34.49,2,    0.01,4,    2.41,2,   0.157,2,   0.078,2,       0,2,  2274.8,2,  2367.3,6,-999.0000,9,  -999.00,-999.0000,9, -999.00,9, -999.00,9,  -999.0,9,  -999.0, -999.00,9, -999.00,9, -999.00,9, -999.00,9,   2.4481, -999.00
096U20160426,       P15S,      44,          1,         11,       2011,2,20160522,       0406,   -45.1763,  -172.7338,       4666,  2334.9,   2.2570,  34.6700,2,  34.6711,2,    169.7,2,   169.9,2,   92.96,2,   33.33,2,    0.00,4,    2.31,2,   0.151,2,   0.074,2,   0.021,2,  2267.6,2,  2363.4,2,-999.0000,9,  -999.00,   1.8780,2,   13.84,2, -999.00,9,  -999.0,9,  -999.0, -999.00,9, -999.00,9, -999.00,9, -999.00,9,   2.0870,    0.63
096U20160426,       P15S,      44,          1,         10,       2010,2,20160522,       0406,   -45.1763,  -172.7338,       4666,  2584.9,   2.1230,  34.7070,2,  34.7077,2,    180.0,2,   181.1,2,   89.38,2,   32.12,2,    0.01,4,    2.21,2,   0.153,2,   0.072,2,       0,2,  2256.8,2,  2356.4,2,-999.0000,9,  -999.00,-999.0000,9, -999.00,9, -999.00,9,  -999.0,9,  -999.0, -999.00,9, -999.00,9, -999.00,9, -999.00,9,   1.9323, -999.00
096U20160426,       P15S,      44,          1,          9,       2009,2,20160522,       0406,   -45.1763,  -172.7338,       4666,  2834.8,   1.9320,  34.7280,2,  34.7293,2,    187.9,2,   189.2,2,   91.59,2,   31.45,2,    0.01,4,    2.16,2,-999.000,9,-999.000,9,-999.000,9,  2253.5,2,  2355.3,2,-999.0000,9,  -999.00,   1.8730,2,   10.09,2, -999.00,9,  -999.0,9,  -999.0, -999.00,9, -999.00,9, -999.00,9, -999.00,9,   1.7214,    0.63
096U20160426,       P15S,      44,          1,          8,       2008,2,20160522,       0406,   -45.1763,  -172.7338,       4666,  3099.6,   1.7130,  34.7330,2,  34.7414,2,    193.2,2,   194.5,2,   96.83,2,   31.31,2,    0.00,4,    2.14,2,   0.123,2,   0.058,2,       0,2,  2254.5,2,  2358.1,2,-999.0000,9,  -999.00,   1.8750,2,    9.82,2, -999.00,9,  -999.0,9,  -999.0, -999.00,9, -999.00,9, -999.00,9, -999.00,9,   1.4815,    0.61
096U20160426,       P15S,      44,          1,          7,       2007,2,20160522,       0406,   -45.1763,  -172.7338,       4666,  3401.4,   1.4480,  34.7290,2,  34.7286,2,    197.7,2,   199.4,2,  104.45,2,   31.51,2,    0.00,4,    2.16,2,   0.133,2,   0.064,2,   0.043,2,  2255.8,2,  2361.3,2,-999.0000,9,  -999.00,   1.8720,2,    9.48,2,    0.45,2,  -163.3,2,     2.0, -999.00,9, -999.00,9, -999.00,9, -999.00,9,   1.1928,    0.62
096U20160426,       P15S,      44,          1,          6,       2006,2,20160522,       0406,   -45.1763,  -172.7338,       4666,  3701.4,   1.1840,  34.7190,2,  34.7195,2,    201.7,2,   203.2,2,  112.21,2,   31.83,2,    0.00,4,    2.18,2,-999.000,9,-999.000,9,-999.000,9,  2257.3,2,  2363.3,2,-999.0000,9,  -999.00,   1.8750,2,    8.64,2, -999.00,9,  -999.0,9,  -999.0, -999.00,9, -999.00,9, -999.00,9, -999.00,9,   0.9051,    0.62
096U20160426,       P15S,      44,          1,          5,       2005,2,20160522,       0406,   -45.1763,  -172.7338,       4666,  3999.6,   1.0260,  34.7110,2,  34.7119,2,    204.7,2,   206.3,2,  117.36,2,   32.06,2,    0.00,4,    2.20,2,   0.226,2,   0.112,2,   0.021,2,  2260.2,2,  2364.0,2,-999.0000,9,  -999.00,   1.8870,2,    9.02,2, -999.00,9,  -999.0,9,  -999.0, -999.00,9, -999.00,9, -999.00,9, -999.00,9,   0.7203,    0.64
096U20160426,       P15S,      44,          1,          4,       2004,2,20160522,       0406,   -45.1763,  -172.7338,       4666,  4300.7,   0.9680,  34.7070,2,  34.7080,2,    206.4,2,   207.7,2,  119.81,2,   32.15,2,    0.01,4,    2.21,2,   0.264,2,   0.128,2,   0.074,2,  2260.9,2,  2364.6,2,-999.0000,9,  -999.00,   1.8870,2,    9.17,2, -999.00,9,  -999.0,9,  -999.0, -999.00,9, -999.00,9, -999.00,9, -999.00,9,   0.6315,    0.62
096U20160426,       P15S,      44,          1,          3,       2003,2,20160522,       0406,   -45.1763,  -172.7338,       4666,  4579.3,   0.9670,  34.7050,2,  34.7070,2,    206.7,2,   207.9,2,  120.65,2,   32.24,2,    0.00,4,    2.22,2,   0.278,2,   0.134,2,   0.108,2,  2262.0,2,  2364.8,2,-999.0000,9,  -999.00,   1.8760,2,    9.04,2, -999.00,9,  -999.0,9,  -999.0, -999.00,9, -999.00,9, -999.00,9, -999.00,9,   0.5995,    0.63
096U20160426,       P15S,      44,          1,          2,       2002,2,20160522,       0406,   -45.1763,  -172.7338,       4666,  4661.3,   0.9700,  34.7050,2,  34.7066,2,    206.9,2,   208.1,2,  120.82,2,   32.23,2,    0.00,4,    2.22,2,   0.283,2,   0.137,2,   0.073,2,  2259.7,2,  2364.3,2,-999.0000,9,  -999.00,   1.8760,2,    9.72,2, -999.00,9,  -999.0,9,  -999.0, -999.00,9, -999.00,9, -999.00,9, -999.00,9,   0.5930,    0.92
096U20160426,       P15S,      44,          1,          1,       2001,2,20160522,       0406,   -45.1763,  -172.7338,       4666,  4737.7,   0.9770,  34.7050,2,  34.7068,2,    206.8,2,   208.3,2,  120.97,2,   32.22,2,    0.01,4,    2.22,2,   0.284,2,   0.135,2,   0.061,2,  2261.8,6,  2364.1,6,-999.0000,9,  -999.00,-999.0000,9, -999.00,9, -999.00,9,  -999.0,9,  -999.0, -999.00,9, -999.00,9, -999.00,9, -999.00,9,   0.5910, -999.00