BOTTLE,20230413CCHSIOENA
EXPOCODE,SECT_ID,STNNBR,CASTNO,SAMPNO,BTLNBR,BTLNBR_FLAG_W,DATE,TIME,LATITUDE,LONGITUDE,DEPTH,CTDPRS,CTDTMP,CTDSAL,CTDSAL_FLAG_W,SALNTY,SALNTY_FLAG_W,CTDOXY,CTDOXY_FLAG_W,OXYGEN,OXYGEN_FLAG_W,SILCAT,SILCAT_FLAG_W,NITRAT,NITRAT_FLAG_W,NITRIT,NITRIT_FLAG_W,PHSPHT,PHSPHT_FLAG_W,CFC-11,CFC-11_FLAG_W,CFC-12,CFC-12_FLAG_W,SF6,SF6_FLAG_W,TCARBN,TCARBN_FLAG_W,ALKALI,ALKALI_FLAG_W,PH_TOT,PH_TOT_FLAG_W,PH_TMP,HELIUM,HELIUM_FLAG_W,DELHE3,DELHE3_FLAG_W,DELC13,DELC13_FLAG_W,DELC14,DELC14_FLAG_W,C14ERR,POC,POC_FLAG_W,PON,PON_FLAG_W,CHLORA,CHLORA_FLAG_W,PPHYTN,PPHYTN_FLAG_W,THETA,DELHER
,,,,,,,,,,,METERS,DBAR,ITS-90,PSS-78,,PSS-78,,UMOL/KG,,UMOL/KG,,UMOL/KG,,UMOL/KG,,UMOL/KG,,UMOL/KG,,PMOL/KG,,PMOL/KG,,FMOL/KG,,UMOL/KG,,UMOL/KG,,,,DEG C,NMOL/KG,,PERCNT,,/MILLE,,/MILLE,,/MILLE,UG/KG,,UG/KG,,UG/KG,,UG/KG,,DEG C,PERCNT
096U20160426,       P15S,      77,          1,         36,       2036,2,20160605,       0652,   -31.0006,  -169.9959,       5608,     5.0,  21.1330,  35.8750,2,  35.8754,2,    220.4,2,   220.7,2,    0.01,4,    0.00,4,    0.01,4,    0.05,2,-999.000,9,-999.000,9,-999.000,9,  2044.0,2,  2353.7,2,-999.0000,9,  -999.00,-999.0000,9, -999.00,9, -999.00,9,  -999.0,9,  -999.0, -999.00,9, -999.00,9,    0.21,2,    0.06,3,  21.1320, -999.00
096U20160426,       P15S,      77,          1,         35,       2035,2,20160605,       0652,   -31.0006,  -169.9959,       5608,    20.9,  21.1360,  35.8750,2,  35.8753,2,    220.4,2,   220.9,2,   -0.01,4,    0.00,4,    0.01,4,    0.04,2,-999.000,9,-999.000,9,-999.000,9,  -999.0,9,  -999.0,9,-999.0000,9,  -999.00,-999.0000,9, -999.00,9, -999.00,9,  -999.0,9,  -999.0, -999.00,9, -999.00,9,    0.18,2,    0.07,3,  21.1320, -999.00
096U20160426,       P15S,      77,          1,         34,       2034,2,20160605,       0652,   -31.0006,  -169.9959,       5608,    60.9,  20.8760,  35.8850,2,  35.8842,2,    222.3,2,   222.6,2,    0.01,4,    0.00,4,    0.01,4,    0.05,2,-999.000,9,-999.000,9,-999.000,9,  -999.0,9,  -999.0,9,-999.0000,9,  -999.00,-999.0000,9, -999.00,9, -999.00,9,  -999.0,9,  -999.0, -999.00,9, -999.00,9,    0.31,2,    0.05,3,  20.8644, -999.00
096U20160426,       P15S,      77,          1,         33,       2033,2,20160605,       0652,   -31.0006,  -169.9959,       5608,    86.8,  20.5420,  35.8490,2,  35.8490,2,    222.3,2,   223.2,2,    0.03,4,    0.00,4,    0.01,4,    0.07,2,-999.000,9,-999.000,9,-999.000,9,  -999.0,9,  -999.0,9,-999.0000,9,  -999.00,-999.0000,9, -999.00,9, -999.00,9,  -999.0,9,  -999.0, -999.00,9, -999.00,9,    0.28,2,    0.18,3,  20.5256, -999.00
096U20160426,       P15S,      77,          1,         32,       2032,2,20160605,       0652,   -31.0006,  -169.9959,       5608,   116.5,  17.7570,  35.5610,2,  35.5558,2,    222.1,2,   221.1,2,    0.27,2,    0.83,2,    0.14,2,    0.19,2,-999.000,9,-999.000,9,-999.000,9,  -999.0,9,  -999.0,9,-999.0000,9,  -999.00,-999.0000,9, -999.00,9, -999.00,9,  -999.0,9,  -999.0, -999.00,9, -999.00,9,    0.37,2,    0.16,3,  17.7371, -999.00
096U20160426,       P15S,      77,          1,         31,       2031,2,20160605,       0652,   -31.0006,  -169.9959,       5608,   166.7,  16.2930,  35.4260,2,  35.4264,2,    221.2,2,   222.0,2,    0.35,2,    2.11,2,    0.02,4,    0.25,2,-999.000,9,-999.000,9,-999.000,9,  -999.0,9,  -999.0,9,-999.0000,9,  -999.00,-999.0000,9, -999.00,9, -999.00,9,  -999.0,9,  -999.0, -999.00,9, -999.00,9, -999.00,9, -999.00,9,  16.2662, -999.00
096U20160426,       P15S,      77,          1,         30,       2030,2,20160605,       0652,   -31.0006,  -169.9959,       5608,   216.8,  15.7430,  35.3900,2,  35.3880,2,    225.2,2,   226.4,2,    0.37,2,    2.27,2,    0.01,4,    0.27,2,-999.000,9,-999.000,9,-999.000,9,  -999.0,9,  -999.0,9,-999.0000,9,  -999.00,-999.0000,9, -999.00,9, -999.00,9,  -999.0,9,  -999.0, -999.00,9, -999.00,9, -999.00,9, -999.00,9,  15.7089, -999.00
096U20160426,       P15S,      77,          1,         29,       2029,2,20160605,       0652,   -31.0006,  -169.9959,       5608,   266.5,  15.2410,  35.3260,2,  35.3215,2,    224.0,2,   225.1,2,    0.56,2,    3.01,2,    0.01,4,    0.33,2,-999.000,9,-999.000,9,-999.000,9,  -999.0,9,  -999.0,9,-999.0000,9,  -999.00,-999.0000,9, -999.00,9, -999.00,9,  -999.0,9,  -999.0, -999.00,9, -999.00,9, -999.00,9, -999.00,9,  15.2000, -999.00
096U20160426,       P15S,      77,          1,         28,       2028,2,20160605,       0652,   -31.0006,  -169.9959,       5608,   316.0,  14.1460,  35.1830,2,  35.1804,2,    212.4,2,   212.9,2,    1.30,2,    6.38,2,    0.01,4,    0.55,2,-999.000,9,-999.000,9,-999.000,9,  -999.0,9,  -999.0,9,-999.0000,9,  -999.00,-999.0000,9, -999.00,9, -999.00,9,  -999.0,9,  -999.0, -999.00,9, -999.00,9, -999.00,9, -999.00,9,  14.0997, -999.00
096U20160426,       P15S,      77,          1,         27,       2027,2,20160605,       0652,   -31.0006,  -169.9959,       5608,   367.0,  13.0250,  35.0560,2,  35.0515,2,    205.2,2,   206.4,2,    2.12,2,    9.61,2,    0.01,4,    0.75,2,-999.000,9,-999.000,9,-999.000,9,  -999.0,9,  -999.0,9,-999.0000,9,  -999.00,-999.0000,9, -999.00,9, -999.00,9,  -999.0,9,  -999.0, -999.00,9, -999.00,9, -999.00,9, -999.00,9,  12.9741, -999.00
096U20160426,       P15S,      77,          1,         26,       2026,2,20160605,       0652,   -31.0006,  -169.9959,       5608,   427.6,  11.1240,  34.8350,2,  34.8340,2,    206.7,2,   207.5,2,    3.09,2,   13.72,2,    0.01,4,    1.00,2,-999.000,9,-999.000,9,-999.000,9,  -999.0,9,  -999.0,9,-999.0000,9,  -999.00,-999.0000,9, -999.00,9, -999.00,9,  -999.0,9,  -999.0, -999.00,9, -999.00,9, -999.00,9, -999.00,9,  11.0704, -999.00
096U20160426,       P15S,      77,          1,         25,       2025,2,20160605,       0652,   -31.0006,  -169.9959,       5608,   536.5,   8.4960,  34.5100,2,  34.5091,2,    226.1,2,   227.3,2,    4.39,2,   18.69,2,    0.01,4,    1.31,2,-999.000,9,-999.000,9,-999.000,9,  -999.0,9,  -999.0,9,-999.0000,9,  -999.00,-999.0000,9, -999.00,9, -999.00,9,  -999.0,9,  -999.0, -999.00,9, -999.00,9, -999.00,9, -999.00,9,   8.4389, -999.00
096U20160426,       P15S,      77,          1,         24,       2024,2,20160605,       0652,   -31.0006,  -169.9959,       5608,   636.4,   7.4120,  34.4200,2,  34.4162,2,    231.4,2,   232.9,2,    6.10,2,   21.53,2,    0.01,4,    1.48,2,-999.000,9,-999.000,9,-999.000,9,  -999.0,9,  -999.0,9,-999.0000,9,  -999.00,-999.0000,9, -999.00,9, -999.00,9,  -999.0,9,  -999.0, -999.00,9, -999.00,9, -999.00,9, -999.00,9,   7.3491, -999.00
096U20160426,       P15S,      77,          1,         23,       2023,2,20160605,       0652,   -31.0006,  -169.9959,       5608,   738.1,   6.7700,  34.3670,2,  34.3660,2,    233.0,2,   235.0,2,    7.88,2,   23.18,2,    0.01,4,    1.59,2,-999.000,9,-999.000,9,-999.000,9,  2146.5,2,  2282.6,2,-999.0000,9,  -999.00,-999.0000,9, -999.00,9, -999.00,9,  -999.0,9,  -999.0, -999.00,9, -999.00,9, -999.00,9, -999.00,9,   6.7002, -999.00
096U20160426,       P15S,      77,          1,         22,       2022,2,20160605,       0652,   -31.0006,  -169.9959,       5608,   837.5,   6.1780,  34.3360,2,  34.3368,2,    225.9,2,   227.5,2,   11.49,2,   25.27,2,    0.01,4,    1.73,2,-999.000,9,-999.000,9,-999.000,9,  -999.0,9,  -999.0,9,-999.0000,9,  -999.00,-999.0000,9, -999.00,9, -999.00,9,  -999.0,9,  -999.0, -999.00,9, -999.00,9, -999.00,9, -999.00,9,   6.1019, -999.00
096U20160426,       P15S,      77,          1,         21,       2021,2,20160605,       0652,   -31.0006,  -169.9959,       5608,   936.4,   5.6270,  34.3270,2,  34.3261,2,    215.2,2,   217.1,2,   16.74,2,   27.30,2,    0.01,4,    1.87,2,-999.000,9,-999.000,9,-999.000,9,  -999.0,9,  -999.0,9,-999.0000,9,  -999.00,-999.0000,9, -999.00,9, -999.00,9,  -999.0,9,  -999.0, -999.00,9, -999.00,9, -999.00,9, -999.00,9,   5.5452, -999.00
096U20160426,       P15S,      77,          1,         20,       2020,2,20160605,       0652,   -31.0006,  -169.9959,       5608,  1037.0,   5.0030,  34.3240,2,  34.3235,2,    205.0,2,   206.2,2,   23.87,2,   29.43,2,    0.01,4,    2.02,2,-999.000,9,-999.000,9,-999.000,9,  -999.0,9,  -999.0,9,-999.0000,9,  -999.00,-999.0000,9, -999.00,9, -999.00,9,  -999.0,9,  -999.0, -999.00,9, -999.00,9, -999.00,9, -999.00,9,   4.9166, -999.00
096U20160426,       P15S,      77,          1,         19,       2019,2,20160605,       0652,   -31.0006,  -169.9959,       5608,  1135.4,   4.3210,  34.3500,2,  34.3505,2,    191.6,2,   192.9,2,   34.96,2,   31.50,2,    0.01,4,    2.18,2,-999.000,9,-999.000,9,-999.000,9,  -999.0,9,  -999.0,9,-999.0000,9,  -999.00,-999.0000,9, -999.00,9, -999.00,9,  -999.0,9,  -999.0, -999.00,9, -999.00,9, -999.00,9, -999.00,9,   4.2314, -999.00
096U20160426,       P15S,      77,          1,         18,       2018,2,20160605,       0652,   -31.0006,  -169.9959,       5608,  1239.5,   3.9030,  34.3830,2,  34.3851,2,    182.8,2,   183.6,2,   44.28,2,   32.67,2,    0.01,4,    2.26,2,-999.000,9,-999.000,9,-999.000,9,  -999.0,9,  -999.0,9,-999.0000,9,  -999.00,-999.0000,9, -999.00,9, -999.00,9,  -999.0,9,  -999.0, -999.00,9, -999.00,9, -999.00,9, -999.00,9,   3.8082, -999.00
096U20160426,       P15S,      77,          1,         17,       2017,2,20160605,       0652,   -31.0006,  -169.9959,       5608,  1399.8,   3.2600,  34.4590,2,  34.4590,2,    170.4,2,   171.5,2,   61.42,2,   33.98,2,    0.01,4,    2.36,2,-999.000,9,-999.000,9,-999.000,9,  -999.0,9,  -999.0,9,-999.0000,9,  -999.00,-999.0000,9, -999.00,9, -999.00,9,  -999.0,9,  -999.0, -999.00,9, -999.00,9, -999.00,9, -999.00,9,   3.1579, -999.00
096U20160426,       P15S,      77,          1,         16,       2016,2,20160605,       0652,   -31.0006,  -169.9959,       5608,  1560.6,   2.8600,  34.5280,2,  34.5263,2,    161.5,2,   162.8,2,   76.95,2,   34.59,2,    0.01,4,    2.41,2,-999.000,9,-999.000,9,-999.000,9,  -999.0,9,  -999.0,9,-999.0000,9,  -999.00,-999.0000,9, -999.00,9, -999.00,9,  -999.0,9,  -999.0, -999.00,9, -999.00,9, -999.00,9, -999.00,9,   2.7489, -999.00
096U20160426,       P15S,      77,          1,         15,       2015,2,20160605,       0652,   -31.0006,  -169.9959,       5608,  1764.8,   2.5770,  34.5840,2,  34.5839,2,    154.2,2,   154.6,2,   93.26,2,   35.00,2,    0.01,4,    2.46,2,-999.000,9,-999.000,9,-999.000,9,  -999.0,9,  -999.0,9,-999.0000,9,  -999.00,-999.0000,9, -999.00,9, -999.00,9,  -999.0,9,  -999.0, -999.00,9, -999.00,9, -999.00,9, -999.00,9,   2.4522, -999.00
096U20160426,       P15S,      77,          1,         14,       2014,2,20160605,       0652,   -31.0006,  -169.9959,       5608,  1976.1,   2.3560,  34.6170,2,  34.6162,2,    149.9,2,   150.4,2,  104.91,2,   35.34,2,    0.01,4,    2.49,2,-999.000,9,-999.000,9,-999.000,9,  -999.0,9,  -999.0,9,-999.0000,9,  -999.00,-999.0000,9, -999.00,9, -999.00,9,  -999.0,9,  -999.0, -999.00,9, -999.00,9, -999.00,9, -999.00,9,   2.2162, -999.00
096U20160426,       P15S,      77,          1,         13,       2013,2,20160605,       0652,   -31.0006,  -169.9959,       5608,  2235.8,   2.1610,  34.6380,2,  34.6370,2,    147.3,2,   147.4,2,  114.91,2,   35.61,2,    0.01,4,    2.51,2,-999.000,9,-999.000,9,-999.000,9,  2303.8,2,  2394.6,2,-999.0000,9,  -999.00,-999.0000,9, -999.00,9, -999.00,9,  -999.0,9,  -999.0, -999.00,9, -999.00,9, -999.00,9, -999.00,9,   2.0016, -999.00
096U20160426,       P15S,      77,          1,         12,       2012,2,20160605,       0652,   -31.0006,  -169.9959,       5608,  2485.3,   2.0170,  34.6500,2,  34.6504,2,    146.4,2,   146.8,2,  120.95,2,   35.79,2,    0.01,4,    2.53,2,-999.000,9,-999.000,9,-999.000,9,  -999.0,9,  -999.0,9,-999.0000,9,  -999.00,-999.0000,9, -999.00,9, -999.00,9,  -999.0,9,  -999.0, -999.00,9, -999.00,9, -999.00,9, -999.00,9,   1.8377, -999.00
096U20160426,       P15S,      77,          1,         11,       2011,2,20160605,       0652,   -31.0006,  -169.9959,       5608,  2735.7,   1.9030,  34.6610,2,  34.6605,2,    147.8,2,   148.3,2,  124.50,2,   35.74,2,    0.01,4,    2.52,2,-999.000,9,-999.000,9,-999.000,9,  -999.0,9,  -999.0,9,-999.0000,9,  -999.00,-999.0000,9, -999.00,9, -999.00,9,  -999.0,9,  -999.0, -999.00,9, -999.00,9, -999.00,9, -999.00,9,   1.7027, -999.00
096U20160426,       P15S,      77,          1,         10,       2010,2,20160605,       0652,   -31.0006,  -169.9959,       5608,  2989.3,   1.7960,  34.6730,2,  34.6724,2,    153.0,2,   153.5,2,  124.91,2,   35.32,2,    0.01,4,    2.49,2,-999.000,9,-999.000,9,-999.000,9,  -999.0,9,  -999.0,9,-999.0000,9,  -999.00,-999.0000,9, -999.00,9, -999.00,9,  -999.0,9,  -999.0, -999.00,9, -999.00,9, -999.00,9, -999.00,9,   1.5737, -999.00
096U20160426,       P15S,      77,          1,          9,       2009,2,20160605,       0652,   -31.0006,  -169.9959,       5608,  3270.6,   1.6790,  34.6910,2,  34.6912,2,    164.9,2,   166.8,2,  119.76,2,   34.23,2,    0.01,4,    2.40,2,-999.000,9,-999.000,9,-999.000,9,  -999.0,9,  -999.0,9,-999.0000,9,  -999.00,-999.0000,9, -999.00,9, -999.00,9,  -999.0,9,  -999.0, -999.00,9, -999.00,9, -999.00,9, -999.00,9,   1.4316, -999.00
096U20160426,       P15S,      77,          1,          8,       2008,2,20160605,       0652,   -31.0006,  -169.9959,       5608,  3585.5,   1.5610,  34.7100,2,  34.7104,2,    181.6,2,   183.8,2,  110.87,2,   32.75,2,    0.01,4,    2.28,2,-999.000,9,-999.000,9,-999.000,9,  -999.0,9,  -999.0,9,-999.0000,9,  -999.00,-999.0000,9, -999.00,9, -999.00,9,  -999.0,9,  -999.0, -999.00,9, -999.00,9, -999.00,9, -999.00,9,   1.2843, -999.00
096U20160426,       P15S,      77,          1,          7,       2007,2,20160605,       0652,   -31.0006,  -169.9959,       5608,  3950.0,   1.3290,  34.7190,2,  34.7178,2,    195.7,2,   198.3,2,  109.89,2,   31.86,2,    0.01,4,    2.22,2,-999.000,9,-999.000,9,-999.000,9,  -999.0,9,  -999.0,9,-999.0000,9,  -999.00,-999.0000,9, -999.00,9, -999.00,9,  -999.0,9,  -999.0, -999.00,9, -999.00,9, -999.00,9, -999.00,9,   1.0200, -999.00
096U20160426,       P15S,      77,          1,          6,       2006,2,20160605,       0652,   -31.0006,  -169.9959,       5608,  4359.9,   1.1160,  34.7140,2,  34.7129,2,    202.0,2,   204.2,2,  115.01,2,   32.00,2,    0.01,4,    2.22,2,-999.000,9,-999.000,9,-999.000,9,  -999.0,9,  -999.0,9,-999.0000,9,  -999.00,-999.0000,9, -999.00,9, -999.00,9,  -999.0,9,  -999.0, -999.00,9, -999.00,9, -999.00,9, -999.00,9,   0.7685, -999.00
096U20160426,       P15S,      77,          1,          5,       2005,2,20160605,       0652,   -31.0006,  -169.9959,       5608,  4759.3,   1.0520,  34.7100,2,  34.7096,2,    204.5,2,   205.7,2,  117.76,2,   32.09,2,    0.00,4,    2.22,2,-999.000,9,-999.000,9,-999.000,9,  -999.0,9,  -999.0,9,-999.0000,9,  -999.00,-999.0000,9, -999.00,9, -999.00,9,  -999.0,9,  -999.0, -999.00,9, -999.00,9, -999.00,9, -999.00,9,   0.6610, -999.00
096U20160426,       P15S,      77,          1,          4,       2004,2,20160605,       0652,   -31.0006,  -169.9959,       5608,  5156.1,   1.0680,  34.7080,2,  34.7080,2,    206.0,2,   206.1,2,  118.90,2,   32.19,2,    0.00,4,    2.23,2,-999.000,9,-999.000,9,-999.000,9,  -999.0,9,  -999.0,9,-999.0000,9,  -999.00,-999.0000,9, -999.00,9, -999.00,9,  -999.0,9,  -999.0, -999.00,9, -999.00,9, -999.00,9, -999.00,9,   0.6294, -999.00
096U20160426,       P15S,      77,          1,          3,       2003,2,20160605,       0652,   -31.0006,  -169.9959,       5608,  5502.5,   1.1080,  34.7080,2,  34.7084,2,    206.4,2,   205.8,2,  119.04,2,   32.18,2,    0.00,4,    2.23,2,-999.000,9,-999.000,9,-999.000,9,  -999.0,9,  -999.0,9,-999.0000,9,  -999.00,-999.0000,9, -999.00,9, -999.00,9,  -999.0,9,  -999.0, -999.00,9, -999.00,9, -999.00,9, -999.00,9,   0.6252, -999.00
096U20160426,       P15S,      77,          1,          2,       2002,2,20160605,       0652,   -31.0006,  -169.9959,       5608,  5654.4,   1.1280,  34.7080,2,  34.7078,2,    206.6,2,   206.0,2,  119.11,2,   32.20,2,    0.00,4,    2.23,2,-999.000,9,-999.000,9,-999.000,9,  2264.4,2,  2369.0,2,-999.0000,9,  -999.00,-999.0000,9, -999.00,9,    0.48,6,  -163.0,6,     2.0, -999.00,9, -999.00,9, -999.00,9, -999.00,9,   0.6252, -999.00
096U20160426,       P15S,      77,          1,          1,       2001,2,20160605,       0652,   -31.0006,  -169.9959,       5608,  5721.7,   1.1370,  34.7080,2,  34.7081,2,    206.6,2,   205.9,2,  119.03,2,   32.20,2,    0.00,4,    2.23,2,-999.000,9,-999.000,9,-999.000,9,  -999.0,9,  -999.0,9,-999.0000,9,  -999.00,-999.0000,9, -999.00,9, -999.00,9,  -999.0,9,  -999.0, -999.00,9, -999.00,9, -999.00,9, -999.00,9,   0.6253, -999.00