BOTTLE,20230413CCHSIOENA
EXPOCODE,SECT_ID,STNNBR,CASTNO,SAMPNO,BTLNBR,BTLNBR_FLAG_W,DATE,TIME,LATITUDE,LONGITUDE,DEPTH,CTDPRS,CTDTMP,CTDSAL,CTDSAL_FLAG_W,SALNTY,SALNTY_FLAG_W,CTDOXY,CTDOXY_FLAG_W,OXYGEN,OXYGEN_FLAG_W,SILCAT,SILCAT_FLAG_W,NITRAT,NITRAT_FLAG_W,NITRIT,NITRIT_FLAG_W,PHSPHT,PHSPHT_FLAG_W,CFC-11,CFC-11_FLAG_W,CFC-12,CFC-12_FLAG_W,SF6,SF6_FLAG_W,TCARBN,TCARBN_FLAG_W,ALKALI,ALKALI_FLAG_W,PH_TOT,PH_TOT_FLAG_W,PH_TMP,HELIUM,HELIUM_FLAG_W,DELHE3,DELHE3_FLAG_W,DELC13,DELC13_FLAG_W,DELC14,DELC14_FLAG_W,C14ERR,POC,POC_FLAG_W,PON,PON_FLAG_W,CHLORA,CHLORA_FLAG_W,PPHYTN,PPHYTN_FLAG_W,THETA,DELHER
,,,,,,,,,,,METERS,DBAR,ITS-90,PSS-78,,PSS-78,,UMOL/KG,,UMOL/KG,,UMOL/KG,,UMOL/KG,,UMOL/KG,,UMOL/KG,,PMOL/KG,,PMOL/KG,,FMOL/KG,,UMOL/KG,,UMOL/KG,,,,DEG C,NMOL/KG,,PERCNT,,/MILLE,,/MILLE,,/MILLE,UG/KG,,UG/KG,,UG/KG,,UG/KG,,DEG C,PERCNT
096U20160426,       P15S,      11,          1,         36,       2036,2,20160508,       1819,   -62.0027,  -169.9948,       3268,     5.5,   0.8780,  34.0700,2,  34.0700,2,    331.5,2,   320.8,2,   42.57,2,   29.83,2,    0.26,2,    2.09,2,   5.284,2,   2.841,2,   3.126,2,  2194.5,2,  2297.3,2,-999.0000,9,  -999.00,-999.0000,9, -999.00,9, -999.00,9,  -999.0,9,  -999.0,   22.29,2,    6.91,2,    0.26,2,    0.06,3,   0.8778, -999.00
096U20160426,       P15S,      11,          1,         35,       2035,2,20160508,       1819,   -62.0027,  -169.9948,       3268,    24.4,   0.8920,  34.0740,2,  34.0636,2,    331.5,2,   320.7,2,   42.62,2,   29.85,2,    0.25,2,    2.07,2,   5.107,6,   2.805,6,    3.03,6,  2193.8,6,  2296.6,6,   7.6478,2,    25.00,-999.0000,9, -999.00,9, -999.00,9,  -999.0,9,  -999.0, -999.00,9, -999.00,9,    0.11,2,    0.19,3,   0.8910, -999.00
096U20160426,       P15S,      11,          1,         34,       2034,2,20160508,       1819,   -62.0027,  -169.9948,       3268,    49.9,   0.7320,  34.0820,2,  34.0757,2,    334.0,2,   323.2,2,   44.51,2,   29.83,2,    0.26,2,    2.07,2,   5.197,2,   2.836,2,   3.116,2,  2192.7,2,  2300.0,2,   7.6419,2,    25.00,-999.0000,9, -999.00,9, -999.00,9,  -999.0,9,  -999.0, -999.00,9, -999.00,9, -999.00,9, -999.00,9,   0.7300, -999.00
096U20160426,       P15S,      11,          1,         33,       2033,2,20160508,       1819,   -62.0027,  -169.9948,       3268,    75.0,   0.6990,  34.0840,2,  34.0851,2,    333.3,2,   322.8,2,   45.26,2,   29.78,2,    0.27,2,    2.07,2,   5.139,2,   2.845,2,   3.108,2,  2192.4,2,  2299.7,2,   7.6441,2,    25.00,-999.0000,9, -999.00,9, -999.00,9,  -999.0,9,  -999.0, -999.00,9, -999.00,9,    0.12,2,    0.16,3,   0.6959, -999.00
096U20160426,       P15S,      11,          1,         32,       2032,2,20160508,       1819,   -62.0027,  -169.9948,       3268,   101.8,   0.6860,  34.0840,2,  34.0838,2,    333.3,2,   323.1,2,   45.43,2,   29.73,2,    0.27,2,    2.07,2,   5.194,2,   2.835,2,   3.109,2,  2195.5,2,  2298.0,2,   7.6413,2,    25.00,-999.0000,9, -999.00,9, -999.00,9,  -999.0,9,  -999.0,   22.49,6,    6.81,6,    0.10,2,    0.20,3,   0.6818, -999.00
096U20160426,       P15S,      11,          1,         31,       2031,2,20160508,       1819,   -62.0027,  -169.9948,       3268,   126.3,   0.6940,  34.0850,2,  34.0866,2,    332.9,2,   322.0,2,   45.56,2,   29.83,2,    0.26,2,    2.07,2,-999.000,9,-999.000,9,-999.000,9,  2196.7,2,  2299.8,2,-999.0000,9,  -999.00,-999.0000,9, -999.00,9, -999.00,9,  -999.0,9,  -999.0, -999.00,9, -999.00,9,    0.22,2,    0.10,3,   0.6888, -999.00
096U20160426,       P15S,      11,          1,         30,       2030,2,20160508,       1819,   -62.0027,  -169.9948,       3268,   149.4,   0.8500,  34.1220,2,  34.1280,2,    320.0,2,   305.4,2,   48.02,2,   30.63,2,    0.21,2,    2.13,2,   4.839,2,   2.630,2,   2.828,2,  2202.3,2,  2302.5,6,   7.6283,2,    25.00,-999.0000,9, -999.00,9, -999.00,9,  -999.0,9,  -999.0, -999.00,9, -999.00,9, -999.00,9, -999.00,9,   0.8436, -999.00
096U20160426,       P15S,      11,          1,         29,       2029,2,20160508,       1819,   -62.0027,  -169.9948,       3268,   201.8,   1.5100,  34.3370,2,  34.3424,2,    239.7,2,   229.4,2,   60.55,2,   34.43,2,    0.01,4,    2.37,2,   2.949,2,   1.529,2,   1.457,2,  2238.4,2,  2314.0,2,   7.5574,2,    25.00,-999.0000,9, -999.00,9, -999.00,9,  -999.0,9,  -999.0, -999.00,9, -999.00,9, -999.00,9, -999.00,9,   1.5001, -999.00
096U20160426,       P15S,      11,          1,         28,       2028,2,20160508,       1819,   -62.0027,  -169.9948,       3268,   252.4,   1.5490,  34.3870,2,  34.3699,2,    233.9,2,   222.0,2,   63.88,2,   34.60,2,    0.01,4,    2.38,2,   2.684,2,   1.406,2,    1.32,2,  2241.9,2,  2318.2,2,   7.5521,2,    25.00,-999.0000,9, -999.00,9, -999.00,9,  -999.0,9,  -999.0, -999.00,9, -999.00,9, -999.00,9, -999.00,9,   1.5364, -999.00
096U20160426,       P15S,      11,          1,         27,       2027,2,20160508,       1819,   -62.0027,  -169.9948,       3268,   301.0,   2.0680,  34.4770,2,  34.4801,2,    197.6,2,   188.0,2,   68.76,2,   34.78,2,    0.00,4,    2.39,2,   1.583,2,   0.785,2,   0.624,2,  2252.1,2,  2326.1,2,   7.5423,2,    25.00,-999.0000,9, -999.00,9, -999.00,9,  -999.0,9,  -999.0, -999.00,9, -999.00,9, -999.00,9, -999.00,9,   2.0515, -999.00
096U20160426,       P15S,      11,          1,         26,       2026,2,20160508,       1819,   -62.0027,  -169.9948,       3268,   350.6,   2.2760,  34.5320,2,  34.5347,2,    185.6,2,   177.1,2,   71.45,2,   34.59,2,    0.00,4,    2.38,2,   1.032,2,   0.516,2,   0.356,2,  2257.5,2,  2330.7,2,   7.5447,2,    25.00,-999.0000,9, -999.00,9, -999.00,9,  -999.0,9,  -999.0, -999.00,9, -999.00,9, -999.00,9, -999.00,9,   2.2560, -999.00
096U20160426,       P15S,      11,          1,         25,       2025,2,20160508,       1819,   -62.0027,  -169.9948,       3268,   401.8,   2.2530,  34.5670,2,  34.5595,2,    182.9,2,   175.9,2,   73.70,2,   34.50,2,    0.00,4,    2.37,2,   0.959,2,   0.467,2,    0.32,2,  2260.5,2,  2330.8,2,   7.5409,2,    25.00,-999.0000,9, -999.00,9, -999.00,9,  -999.0,9,  -999.0, -999.00,9, -999.00,9, -999.00,9, -999.00,9,   2.2300, -999.00
096U20160426,       P15S,      11,          1,         24,       2024,2,20160508,       1819,   -62.0027,  -169.9948,       3268,   451.3,   2.2750,  34.5900,2,  34.5865,2,    181.8,2,   173.9,2,   74.85,2,   34.19,2,    0.00,4,    2.35,2,-999.000,9,-999.000,9,-999.000,9,  -999.0,9,  -999.0,9,   7.5337,2,    25.00,-999.0000,9, -999.00,9, -999.00,9,  -999.0,9,  -999.0, -999.00,9, -999.00,9, -999.00,9, -999.00,9,   2.2489, -999.00
096U20160426,       P15S,      11,          1,         23,       2023,2,20160508,       1819,   -62.0027,  -169.9948,       3268,   502.9,   2.2750,  34.6150,2,  34.6144,2,    181.2,2,   173.5,2,   76.43,2,   33.80,2,    0.00,4,    2.32,2,   0.608,2,   0.302,2,   0.161,2,  2261.9,2,  2336.0,2,   7.5508,2,    25.00,-999.0000,9, -999.00,9, -999.00,9,  -999.0,9,  -999.0, -999.00,9, -999.00,9, -999.00,9, -999.00,9,   2.2457, -999.00
096U20160426,       P15S,      11,          1,         22,       2022,2,20160508,       1819,   -62.0027,  -169.9948,       3268,   599.9,   2.2250,  34.6480,2,  34.6509,2,    182.8,2,   175.3,2,   78.73,2,   33.22,2,    0.00,4,    2.28,2,   0.480,2,   0.234,2,   0.121,2,  2261.1,2,  2339.9,2,   7.5478,2,    25.00,-999.0000,9, -999.00,9, -999.00,9,  -999.0,9,  -999.0, -999.00,9, -999.00,9, -999.00,9, -999.00,9,   2.1897, -999.00
096U20160426,       P15S,      11,          1,         21,       2021,2,20160508,       1819,   -62.0027,  -169.9948,       3268,   702.1,   2.1840,  34.6820,2,  34.6821,2,    185.5,2,   178.2,2,   80.48,2,   32.57,2,    0.00,4,    2.24,2,   0.352,2,   0.173,2,   0.067,2,  2261.2,2,  2342.1,2,   7.5733,2,    25.00,-999.0000,9, -999.00,9, -999.00,9,  -999.0,9,  -999.0, -999.00,9, -999.00,9, -999.00,9, -999.00,9,   2.1423, -999.00
096U20160426,       P15S,      11,          1,         20,       2020,2,20160508,       1819,   -62.0027,  -169.9948,       3268,   799.1,   2.1000,  34.7010,2,  34.7022,2,    188.2,2,   181.0,2,   82.35,2,   32.20,2,    0.00,4,    2.21,2,   0.324,2,   0.157,2,   0.071,2,  2256.6,2,  2344.2,6,   7.5700,6,    25.00,-999.0000,9, -999.00,9, -999.00,9,  -999.0,9,  -999.0, -999.00,9, -999.00,9, -999.00,9, -999.00,9,   2.0524, -999.00
096U20160426,       P15S,      11,          1,         19,       2019,2,20160508,       1819,   -62.0027,  -169.9948,       3268,   900.5,   2.0600,  34.7150,2,  34.7151,2,    190.6,2,   183.6,2,   83.69,2,   31.80,2,    0.00,4,    2.18,2,   0.254,2,   0.129,2,   0.098,2,  2257.7,2,  2346.1,2,   7.5838,2,    25.00,-999.0000,9, -999.00,9, -999.00,9,  -999.0,9,  -999.0, -999.00,9, -999.00,9, -999.00,9, -999.00,9,   2.0059, -999.00
096U20160426,       P15S,      11,          1,         18,       2018,2,20160508,       1819,   -62.0027,  -169.9948,       3268,   998.5,   1.9880,  34.7260,2,  34.7254,2,    192.9,2,   186.1,2,   85.43,2,   31.51,2,    0.00,4,    2.17,2,   0.229,6,   0.114,6,   0.065,6,  2259.8,2,  2346.6,2,   7.5899,2,    25.00,-999.0000,9, -999.00,9, -999.00,9,  -999.0,9,  -999.0, -999.00,9, -999.00,9, -999.00,9, -999.00,9,   1.9278, -999.00
096U20160426,       P15S,      11,          1,         17,       2017,2,20160508,       1819,   -62.0027,  -169.9948,       3268,  1100.2,   1.8960,  34.7320,2,  34.7322,2,    195.3,3,   188.4,2,   87.73,2,   31.39,2,    0.00,4,    2.15,2,-999.000,9,-999.000,9,-999.000,9,  -999.0,9,  -999.0,9,   7.5661,2,    25.00,-999.0000,9, -999.00,9, -999.00,9,  -999.0,9,  -999.0, -999.00,9, -999.00,9, -999.00,9, -999.00,9,   1.8295, -999.00
096U20160426,       P15S,      11,          1,         16,       2016,2,20160508,       1819,   -62.0027,  -169.9948,       3268,  1201.6,   1.8130,  34.7370,2,  34.7367,2,    197.4,2,   190.7,2,   89.96,2,   31.25,2,    0.00,4,    2.14,2,   0.187,2,   0.095,2,   0.043,2,  2256.8,6,  2350.6,6,   7.5949,2,    25.00,-999.0000,9, -999.00,9, -999.00,9,  -999.0,9,  -999.0, -999.00,9, -999.00,9, -999.00,9, -999.00,9,   1.7402, -999.00
096U20160426,       P15S,      11,          1,         15,       2015,2,20160508,       1819,   -62.0027,  -169.9948,       3268,  1302.0,   1.7490,  34.7380,2,  34.7380,2,    198.7,2,   192.1,2,   91.95,2,   31.22,2,    0.00,4,    2.14,2,   0.187,2,   0.091,2,    0.06,2,  2256.6,2,  2351.2,2,   7.5797,2,    25.00,-999.0000,9, -999.00,9, -999.00,9,  -999.0,9,  -999.0, -999.00,9, -999.00,9, -999.00,9, -999.00,9,   1.6697, -999.00
096U20160426,       P15S,      11,          1,         14,       2014,2,20160508,       1819,   -62.0027,  -169.9948,       3268,  1400.4,   1.6490,  34.7390,2,  34.7393,2,    200.5,2,   194.0,2,   94.96,2,   31.25,2,    0.00,4,    2.15,2,   0.162,2,   0.080,2,   0.036,2,  2261.5,2,  2353.5,2,   7.5856,2,    25.00,-999.0000,9, -999.00,9, -999.00,9,  -999.0,9,  -999.0, -999.00,9, -999.00,9, -999.00,9, -999.00,9,   1.5637, -999.00
096U20160426,       P15S,      11,          1,         13,       2013,2,20160508,       1819,   -62.0027,  -169.9948,       3268,  1502.3,   1.5560,  34.7380,2,  34.7377,2,    201.8,2,   195.9,2,   97.69,2,   31.30,2,    0.00,4,    2.15,2,   0.150,2,   0.075,2,   0.058,2,  2262.5,2,  2355.3,2,   7.6065,6,    25.00,-999.0000,9, -999.00,9, -999.00,9,  -999.0,9,  -999.0, -999.00,9, -999.00,9, -999.00,9, -999.00,9,   1.4643, -999.00
096U20160426,       P15S,      11,          1,         12,       2012,2,20160508,       1819,   -62.0027,  -169.9948,       3268,  1601.3,   1.4890,  34.7360,2,  34.7361,2,    202.9,3,   196.7,2,   99.74,2,   31.36,2,    0.00,4,    2.16,2,   0.150,2,   0.075,2,   0.032,2,  2260.1,2,  2356.4,2,   7.6063,2,    25.00,-999.0000,9, -999.00,9, -999.00,9,  -999.0,9,  -999.0, -999.00,9, -999.00,9, -999.00,9, -999.00,9,   1.3908, -999.00
096U20160426,       P15S,      11,          1,         11,       2011,2,20160508,       1819,   -62.0027,  -169.9948,       3268,  1701.9,   1.4040,  34.7340,2,  34.7335,2,    204.0,2,   197.8,2,  102.10,2,   31.44,2,    0.00,4,    2.16,2,   0.152,2,   0.077,2,       0,2,  2261.4,2,  2357.5,2,   7.6061,2,    25.00,-999.0000,9, -999.00,9, -999.00,9,  -999.0,9,  -999.0, -999.00,9, -999.00,9, -999.00,9, -999.00,9,   1.2994, -999.00
096U20160426,       P15S,      11,          1,         10,       2010,2,20160508,       1819,   -62.0027,  -169.9948,       3268,  1800.7,   1.3270,  34.7310,2,  34.7307,2,    205.1,2,   198.9,2,  104.35,2,   31.57,2,    0.00,4,    2.17,2,-999.000,9,-999.000,9,-999.000,9,  -999.0,9,  -999.0,9,   7.6057,2,    25.00,-999.0000,9, -999.00,9, -999.00,9,  -999.0,9,  -999.0, -999.00,9, -999.00,9, -999.00,9, -999.00,9,   1.2160, -999.00
096U20160426,       P15S,      11,          1,          9,       2009,2,20160508,       1819,   -62.0027,  -169.9948,       3268,  1898.0,   1.2550,  34.7280,2,  34.7281,2,    205.8,2,   199.9,2,  106.42,2,   31.64,2,    0.00,4,    2.18,2,   0.162,2,   0.081,2,   0.064,2,  2266.4,2,  2358.0,2,   7.6065,2,    25.00,-999.0000,9, -999.00,9, -999.00,9,  -999.0,9,  -999.0, -999.00,9, -999.00,9, -999.00,9, -999.00,9,   1.1376, -999.00
096U20160426,       P15S,      11,          1,          8,       2008,2,20160508,       1819,   -62.0027,  -169.9948,       3268,  1999.2,   1.1920,  34.7250,2,  34.7252,2,    206.8,2,   200.9,2,  108.37,2,   31.74,2,    0.00,4,    2.19,2,   0.170,2,   0.083,2,       0,2,  2265.9,2,  2359.9,2,   7.6023,2,    25.00,-999.0000,9, -999.00,9, -999.00,9,  -999.0,9,  -999.0, -999.00,9, -999.00,9, -999.00,9, -999.00,9,   1.0676, -999.00
096U20160426,       P15S,      11,          1,          7,       2007,2,20160508,       1819,   -62.0027,  -169.9948,       3268,  2202.5,   1.0650,  34.7200,2,  34.7195,2,    208.4,2,   202.8,2,  112.36,2,   31.90,2,    0.00,4,    2.20,2,   0.179,2,   0.092,2,   0.057,2,  2262.5,2,  2360.2,2,-999.0000,9,  -999.00,-999.0000,9, -999.00,9, -999.00,9,  -999.0,9,  -999.0, -999.00,9, -999.00,9, -999.00,9, -999.00,9,   0.9266, -999.00
096U20160426,       P15S,      11,          1,          6,       2006,2,20160508,       1819,   -62.0027,  -169.9948,       3268,  2402.1,   0.9460,  34.7140,2,  34.7111,2,    209.9,2,   204.6,2,  116.44,2,   32.11,2,    0.00,4,    2.22,2,   0.215,2,   0.103,2,   0.053,2,  2265.0,2,  2361.4,2,-999.0000,9,  -999.00,-999.0000,9, -999.00,9, -999.00,9,  -999.0,9,  -999.0, -999.00,9, -999.00,9, -999.00,9, -999.00,9,   0.7934, -999.00
096U20160426,       P15S,      11,          1,          5,       2005,2,20160508,       1819,   -62.0027,  -169.9948,       3268,  2601.2,   0.8470,  34.7100,2,  34.7093,2,    210.9,2,   205.7,2,  122.85,2,   32.33,2,    0.00,4,    2.23,2,   0.236,2,   0.113,2,    0.06,2,  2265.3,2,  2362.2,2,-999.0000,9,  -999.00,-999.0000,9, -999.00,9, -999.00,9,  -999.0,9,  -999.0, -999.00,9, -999.00,9, -999.00,9, -999.00,9,   0.6796, -999.00
096U20160426,       P15S,      11,          1,          4,       2004,2,20160508,       1819,   -62.0027,  -169.9948,       3268,  2797.8,   0.8150,  34.7080,2,  34.7071,2,    210.9,2,   205.9,2,  126.16,2,   32.35,2,    0.00,4,    2.24,2,   0.240,2,   0.119,2,   0.054,2,  2266.0,2,  2361.9,6,-999.0000,9,  -999.00,-999.0000,9, -999.00,9, -999.00,9,  -999.0,9,  -999.0, -999.00,9, -999.00,9, -999.00,9, -999.00,9,   0.6312, -999.00
096U20160426,       P15S,      11,          1,          3,       2003,2,20160508,       1819,   -62.0027,  -169.9948,       3268,  2994.7,   0.8090,  34.7070,2,  34.7058,2,    210.8,2,   205.8,2,  129.94,2,   32.50,2,    0.00,4,    2.24,2,   0.248,6,   0.120,6,   0.084,6,  2267.6,2,  2362.8,2,-999.0000,9,  -999.00,-999.0000,9, -999.00,9, -999.00,9,  -999.0,9,  -999.0, -999.00,9, -999.00,9, -999.00,9, -999.00,9,   0.6078, -999.00
096U20160426,       P15S,      11,          1,          2,       2002,2,20160508,       1819,   -62.0027,  -169.9948,       3268,  3199.5,   0.8190,  34.7060,2,  34.7059,2,    210.8,2,   205.9,2,  131.41,2,   32.55,2,    0.00,4,    2.24,2,   0.251,2,   0.122,2,   0.099,2,  2270.3,6,  2362.4,6,-999.0000,9,  -999.00,-999.0000,9, -999.00,9, -999.00,9,  -999.0,9,  -999.0, -999.00,9, -999.00,9, -999.00,9, -999.00,9,   0.5987, -999.00
096U20160426,       P15S,      11,          1,          1,       2001,2,20160508,       1819,   -62.0027,  -169.9948,       3268,  3296.5,   0.8290,  34.7060,2,  34.7056,2,    210.7,2,   206.0,2,  131.13,2,   32.55,2,    0.00,4,    2.24,2,   0.248,2,   0.123,2,   0.062,2,  2270.2,2,  2362.0,2,-999.0000,9,  -999.00,-999.0000,9, -999.00,9, -999.00,9,  -999.0,9,  -999.0, -999.00,9, -999.00,9, -999.00,9, -999.00,9,   0.5993, -999.00