BOTTLE,20230413CCHSIOENA
EXPOCODE,SECT_ID,STNNBR,CASTNO,SAMPNO,BTLNBR,BTLNBR_FLAG_W,DATE,TIME,LATITUDE,LONGITUDE,DEPTH,CTDPRS,CTDTMP,CTDSAL,CTDSAL_FLAG_W,SALNTY,SALNTY_FLAG_W,CTDOXY,CTDOXY_FLAG_W,OXYGEN,OXYGEN_FLAG_W,SILCAT,SILCAT_FLAG_W,NITRAT,NITRAT_FLAG_W,NITRIT,NITRIT_FLAG_W,PHSPHT,PHSPHT_FLAG_W,CFC-11,CFC-11_FLAG_W,CFC-12,CFC-12_FLAG_W,SF6,SF6_FLAG_W,TCARBN,TCARBN_FLAG_W,ALKALI,ALKALI_FLAG_W,PH_TOT,PH_TOT_FLAG_W,PH_TMP,HELIUM,HELIUM_FLAG_W,DELHE3,DELHE3_FLAG_W,DELC13,DELC13_FLAG_W,DELC14,DELC14_FLAG_W,C14ERR,POC,POC_FLAG_W,PON,PON_FLAG_W,CHLORA,CHLORA_FLAG_W,PPHYTN,PPHYTN_FLAG_W,THETA,DELHER
,,,,,,,,,,,METERS,DBAR,ITS-90,PSS-78,,PSS-78,,UMOL/KG,,UMOL/KG,,UMOL/KG,,UMOL/KG,,UMOL/KG,,UMOL/KG,,PMOL/KG,,PMOL/KG,,FMOL/KG,,UMOL/KG,,UMOL/KG,,,,DEG C,NMOL/KG,,PERCNT,,/MILLE,,/MILLE,,/MILLE,UG/KG,,UG/KG,,UG/KG,,UG/KG,,DEG C,PERCNT
096U20160426,       P15S,     115,          1,         36,       2036,2,20160617,       0901,   -12.4980,  -169.9990,       5012,     5.0,  29.2960,  34.7530,2,  34.7528,2,    189.8,2,   193.4,2,    0.38,2,   -0.04,4,    0.01,4,    0.14,2,-999.000,9,-999.000,9,-999.000,9,  1937.1,2,  2286.2,2,-999.0000,9,  -999.00,-999.0000,9, -999.00,9, -999.00,9,  -999.0,9,  -999.0, -999.00,9, -999.00,9,    0.12,2,    0.04,3,  29.2948, -999.00
096U20160426,       P15S,     115,          1,         35,       2035,2,20160617,       0901,   -12.4980,  -169.9990,       5012,    36.0,  29.3180,  34.7720,2,  34.9249,2,    189.3,2,   193.9,2,    0.40,2,   -0.04,4,    0.01,4,    0.16,2,-999.000,9,-999.000,9,-999.000,9,  1949.7,2,  2297.4,2,-999.0000,9,  -999.00,-999.0000,9, -999.00,9, -999.00,9,  -999.0,9,  -999.0, -999.00,9, -999.00,9,    0.15,2,    0.04,3,  29.3092, -999.00
096U20160426,       P15S,     115,          1,         34,       2034,2,20160617,       0901,   -12.4980,  -169.9990,       5012,    61.8,  29.2590,  35.7350,2,  35.8154,2,    190.0,2,   190.0,2,    0.62,2,    0.19,2,    0.07,2,    0.27,2,-999.000,9,-999.000,9,-999.000,9,  -999.0,9,  -999.0,9,-999.0000,9,  -999.00,-999.0000,9, -999.00,9, -999.00,9,  -999.0,9,  -999.0, -999.00,9, -999.00,9,    0.33,2,    0.09,3,  29.2439, -999.00
096U20160426,       P15S,     115,          1,         33,       2033,2,20160617,       0901,   -12.4980,  -169.9990,       5012,    86.2,  27.4330,  36.0660,2,  36.1229,2,    166.0,2,   163.6,2,    0.88,2,    2.55,2,    0.68,2,    0.48,2,-999.000,9,-999.000,9,-999.000,9,  2068.9,2,  2379.6,2,-999.0000,9,  -999.00,-999.0000,9, -999.00,9, -999.00,9,  -999.0,9,  -999.0, -999.00,9, -999.00,9,    0.49,2,    0.14,3,  27.4129, -999.00
096U20160426,       P15S,     115,          1,         32,       2032,2,20160617,       0901,   -12.4980,  -169.9990,       5012,   125.3,  25.4440,  36.2530,2,  36.2510,2,    149.8,2,   151.1,2,    0.89,2,    4.53,2,    0.79,2,    0.60,2,-999.000,9,-999.000,9,-999.000,9,  2099.3,6,  2385.1,6,-999.0000,9,  -999.00,-999.0000,9, -999.00,9, -999.00,9,  -999.0,9,  -999.0, -999.00,9, -999.00,9,    0.32,2,    0.30,3,  25.4163, -999.00
096U20160426,       P15S,     115,          1,         31,       2031,2,20160617,       0901,   -12.4980,  -169.9990,       5012,   165.7,  22.3790,  36.0580,2,  36.0202,2,    146.9,2,   150.1,2,    1.05,2,    6.79,2,    0.03,2,    0.68,2,-999.000,9,-999.000,9,-999.000,9,  2122.9,2,  2373.8,2,-999.0000,9,  -999.00,-999.0000,9, -999.00,9, -999.00,9,  -999.0,9,  -999.0, -999.00,9, -999.00,9, -999.00,9, -999.00,9,  22.3457, -999.00
096U20160426,       P15S,     115,          1,         30,       2030,2,20160617,       0901,   -12.4980,  -169.9990,       5012,   216.1,  19.9030,  35.7390,2,  35.6462,2,    148.5,2,   149.2,2,    1.99,2,    8.61,2,    0.02,4,    0.82,2,-999.000,9,-999.000,9,-999.000,9,  -999.0,9,  -999.0,9,-999.0000,9,  -999.00,-999.0000,9, -999.00,9, -999.00,9,  -999.0,9,  -999.0, -999.00,9, -999.00,9, -999.00,9, -999.00,9,  19.8630, -999.00
096U20160426,       P15S,     115,          1,         29,       2029,2,20160617,       0901,   -12.4980,  -169.9990,       5012,   265.4,  17.1450,  35.3640,2,  35.2783,2,    135.0,2,   130.8,2,    4.67,2,   12.85,2,    0.01,4,    1.14,2,-999.000,9,-999.000,9,-999.000,9,  2152.3,2,  2324.4,2,-999.0000,9,  -999.00,-999.0000,9, -999.00,9, -999.00,9,  -999.0,9,  -999.0, -999.00,9, -999.00,9, -999.00,9, -999.00,9,  17.1008, -999.00
096U20160426,       P15S,     115,          1,         28,       2028,2,20160617,       0901,   -12.4980,  -169.9990,       5012,   315.4,  14.1110,  35.0000,2,  34.9407,2,    112.4,2,   109.4,2,    9.37,2,   18.66,2,    0.01,4,    1.54,2,-999.000,9,-999.000,9,-999.000,9,  -999.0,9,  -999.0,9,-999.0000,9,  -999.00,-999.0000,9, -999.00,9, -999.00,9,  -999.0,9,  -999.0, -999.00,9, -999.00,9, -999.00,9, -999.00,9,  14.0650, -999.00
096U20160426,       P15S,     115,          1,         27,       2027,2,20160617,       0901,   -12.4980,  -169.9990,       5012,   366.0,  11.7680,  34.7900,2,  34.7579,2,    107.0,2,   106.3,2,   14.57,2,   23.31,2,    0.01,4,    1.80,2,-999.000,9,-999.000,9,-999.000,9,  2191.3,2,  2299.4,2,-999.0000,9,  -999.00,-999.0000,9, -999.00,9, -999.00,9,  -999.0,9,  -999.0, -999.00,9, -999.00,9, -999.00,9, -999.00,9,  11.7206, -999.00
096U20160426,       P15S,     115,          1,         26,       2026,2,20160617,       0901,   -12.4980,  -169.9990,       5012,   435.4,   9.5330,  34.6310,2,  34.6269,2,    118.0,2,  -999.0,9,   19.07,2,   26.40,2,    0.01,4,    1.95,2,-999.000,9,-999.000,9,-999.000,9,  -999.0,9,  -999.0,9,-999.0000,9,  -999.00,-999.0000,9, -999.00,9, -999.00,9,  -999.0,9,  -999.0, -999.00,9, -999.00,9, -999.00,9, -999.00,9,   9.4836, -999.00
096U20160426,       P15S,     115,          1,         25,       2025,2,20160617,       0901,   -12.4980,  -169.9990,       5012,   535.4,   7.2730,  34.5180,2,  34.5138,2,    141.3,2,   142.3,2,   27.43,2,   29.36,2,    0.01,4,    2.07,2,-999.000,9,-999.000,9,-999.000,9,  -999.0,9,  -999.0,9,-999.0000,9,  -999.00,-999.0000,9, -999.00,9, -999.00,9,  -999.0,9,  -999.0, -999.00,9, -999.00,9, -999.00,9, -999.00,9,   7.2209, -999.00
096U20160426,       P15S,     115,          1,         24,       2024,2,20160617,       0901,   -12.4980,  -169.9990,       5012,   635.1,   6.1290,  34.4890,2,  34.4900,2,    139.8,2,   138.4,2,   38.72,2,   32.15,2,    0.01,4,    2.26,2,-999.000,9,-999.000,9,-999.000,9,  -999.0,9,  -999.0,9,-999.0000,9,  -999.00,-999.0000,9, -999.00,9, -999.00,9,  -999.0,9,  -999.0, -999.00,9, -999.00,9, -999.00,9, -999.00,9,   6.0723, -999.00
096U20160426,       P15S,     115,          1,         23,       2023,2,20160617,       0901,   -12.4980,  -169.9990,       5012,   735.8,   5.4970,  34.4880,2,  34.4867,2,    136.0,2,   135.2,2,   46.44,2,   33.45,2,    0.01,4,    2.34,2,-999.000,9,-999.000,9,-999.000,9,  -999.0,9,  -999.0,9,-999.0000,9,  -999.00,-999.0000,9, -999.00,9, -999.00,9,  -999.0,9,  -999.0, -999.00,9, -999.00,9, -999.00,9, -999.00,9,   5.4343, -999.00
096U20160426,       P15S,     115,          1,         22,       2022,2,20160617,       0901,   -12.4980,  -169.9990,       5012,   835.6,   5.0060,  34.4990,2,  34.4979,2,    132.7,2,   131.2,2,   55.50,2,   34.54,2,    0.01,4,    2.43,2,-999.000,9,-999.000,9,-999.000,9,  -999.0,9,  -999.0,9,-999.0000,9,  -999.00,-999.0000,9, -999.00,9, -999.00,9,  -999.0,9,  -999.0, -999.00,9, -999.00,9, -999.00,9, -999.00,9,   4.9373, -999.00
096U20160426,       P15S,     115,          1,         21,       2021,2,20160617,       0901,   -12.4980,  -169.9990,       5012,   936.5,   4.5780,  34.5050,2,  34.5043,2,    131.5,2,   130.7,2,   63.12,2,   35.20,2,    0.01,4,    2.47,2,-999.000,9,-999.000,9,-999.000,9,  -999.0,9,  -999.0,9,-999.0000,9,  -999.00,-999.0000,9, -999.00,9, -999.00,9,  -999.0,9,  -999.0, -999.00,9, -999.00,9, -999.00,9, -999.00,9,   4.5034, -999.00
096U20160426,       P15S,     115,          1,         20,       2020,2,20160617,       0901,   -12.4980,  -169.9990,       5012,  1036.4,   4.2190,  34.5170,2,  34.5164,2,    132.4,2,   131.5,2,   70.03,2,   35.43,2,    0.01,4,    2.49,2,-999.000,9,-999.000,9,-999.000,9,  -999.0,9,  -999.0,9,-999.0000,9,  -999.00,-999.0000,9, -999.00,9, -999.00,9,  -999.0,9,  -999.0, -999.00,9, -999.00,9, -999.00,9, -999.00,9,   4.1385, -999.00
096U20160426,       P15S,     115,          1,         19,       2019,2,20160617,       0901,   -12.4980,  -169.9990,       5012,  1136.0,   3.8210,  34.5360,2,  34.5353,2,    130.9,2,   129.9,2,   79.30,2,   35.89,2,    0.01,4,    2.53,2,-999.000,9,-999.000,9,-999.000,9,  -999.0,9,  -999.0,9,-999.0000,9,  -999.00,-999.0000,9, -999.00,9, -999.00,9,  -999.0,9,  -999.0, -999.00,9, -999.00,9, -999.00,9, -999.00,9,   3.7354, -999.00
096U20160426,       P15S,     115,          1,         18,       2018,2,20160617,       0901,   -12.4980,  -169.9990,       5012,  1236.1,   3.4840,  34.5530,2,  34.5510,2,    130.4,2,   129.3,2,   86.40,2,   36.26,2,    0.01,4,    2.56,2,-999.000,9,-999.000,9,-999.000,9,  -999.0,9,  -999.0,9,-999.0000,9,  -999.00,-999.0000,9, -999.00,9, -999.00,9,  -999.0,9,  -999.0, -999.00,9, -999.00,9, -999.00,9, -999.00,9,   3.3931, -999.00
096U20160426,       P15S,     115,          1,         17,       2017,2,20160617,       0901,   -12.4980,  -169.9990,       5012,  1336.1,   3.2040,  34.5680,2,  34.5673,2,    131.4,2,   130.4,2,   92.93,2,   36.40,2,    0.01,4,    2.56,2,-999.000,9,-999.000,9,-999.000,9,  -999.0,9,  -999.0,9,-999.0000,9,  -999.00,-999.0000,9, -999.00,9, -999.00,9,  -999.0,9,  -999.0, -999.00,9, -999.00,9, -999.00,9, -999.00,9,   3.1075, -999.00
096U20160426,       P15S,     115,          1,         16,       2016,2,20160617,       0901,   -12.4980,  -169.9990,       5012,  1436.3,   2.9980,  34.5830,2,  34.5825,2,    130.8,2,   129.5,2,   99.08,2,   36.52,2,    0.01,4,    2.58,2,-999.000,9,-999.000,9,-999.000,9,  -999.0,9,  -999.0,9,-999.0000,9,  -999.00,-999.0000,9, -999.00,9, -999.00,9,  -999.0,9,  -999.0, -999.00,9, -999.00,9, -999.00,9, -999.00,9,   2.8954, -999.00
096U20160426,       P15S,     115,          1,         15,       2015,2,20160617,       0901,   -12.4980,  -169.9990,       5012,  1536.6,   2.7720,  34.5940,2,  34.5921,2,    135.8,2,   134.9,2,  102.17,2,   36.25,2,    0.01,4,    2.55,2,-999.000,9,-999.000,9,-999.000,9,  -999.0,9,  -999.0,9,-999.0000,9,  -999.00,-999.0000,9, -999.00,9, -999.00,9,  -999.0,9,  -999.0, -999.00,9, -999.00,9, -999.00,9, -999.00,9,   2.6637, -999.00
096U20160426,       P15S,     115,          1,         14,       2014,2,20160617,       0901,   -12.4980,  -169.9990,       5012,  1665.9,   2.5460,  34.6090,2,  34.6091,2,    138.2,2,   137.6,2,  107.81,2,   36.12,2,    0.01,4,    2.54,2,-999.000,9,-999.000,9,-999.000,9,  -999.0,9,  -999.0,9,-999.0000,9,  -999.00,-999.0000,9, -999.00,9, -999.00,9,  -999.0,9,  -999.0, -999.00,9, -999.00,9, -999.00,9, -999.00,9,   2.4298, -999.00
096U20160426,       P15S,     115,          1,         13,       2013,2,20160617,       0901,   -12.4980,  -169.9990,       5012,  1866.4,   2.2890,  34.6270,2,  34.6259,2,    141.8,2,   142.2,2,  114.08,2,   35.94,2,    0.01,4,    2.52,2,-999.000,9,-999.000,9,-999.000,9,  -999.0,9,  -999.0,9,-999.0000,9,  -999.00,-999.0000,9, -999.00,9, -999.00,9,  -999.0,9,  -999.0, -999.00,9, -999.00,9, -999.00,9, -999.00,9,   2.1595, -999.00
096U20160426,       P15S,     115,          1,         12,       2012,2,20160617,       0901,   -12.4980,  -169.9990,       5012,  2086.5,   2.0800,  34.6440,2,  34.6427,2,    143.3,2,   143.5,2,  120.81,2,   35.87,2,    0.01,4,    2.52,2,-999.000,9,-999.000,9,-999.000,9,  -999.0,9,  -999.0,9,-999.0000,9,  -999.00,-999.0000,9, -999.00,9, -999.00,9,  -999.0,9,  -999.0, -999.00,9, -999.00,9, -999.00,9, -999.00,9,   1.9349, -999.00
096U20160426,       P15S,     115,          1,         11,       2011,2,20160617,       0901,   -12.4980,  -169.9990,       5012,  2335.2,   1.9430,  34.6560,2,  34.6548,2,    145.4,2,   145.7,2,  124.62,2,   35.75,2,    0.01,4,    2.50,2,-999.000,9,-999.000,9,-999.000,9,  -999.0,9,  -999.0,9,-999.0000,9,  -999.00,-999.0000,9, -999.00,9, -999.00,9,  -999.0,9,  -999.0, -999.00,9, -999.00,9, -999.00,9, -999.00,9,   1.7785, -999.00
096U20160426,       P15S,     115,          1,         10,       2010,2,20160617,       0901,   -12.4980,  -169.9990,       5012,  2585.5,   1.8430,  34.6650,2,  34.6638,2,    146.1,2,   146.4,2,  129.13,2,   35.76,2,    0.01,4,    2.50,2,-999.000,9,-999.000,9,-999.000,9,  -999.0,9,  -999.0,9,-999.0000,9,  -999.00,-999.0000,9, -999.00,9, -999.00,9,  -999.0,9,  -999.0, -999.00,9, -999.00,9, -999.00,9, -999.00,9,   1.6578, -999.00
096U20160426,       P15S,     115,          1,          9,       2009,2,20160617,       0901,   -12.4980,  -169.9990,       5012,  2835.6,   1.7570,  34.6720,2,  34.6711,2,    149.9,2,   150.2,2,  130.16,2,   35.49,2,    0.01,4,    2.48,2,-999.000,9,-999.000,9,-999.000,9,  -999.0,9,  -999.0,9,-999.0000,9,  -999.00,-999.0000,9, -999.00,9, -999.00,9,  -999.0,9,  -999.0, -999.00,9, -999.00,9, -999.00,9, -999.00,9,   1.5503, -999.00
096U20160426,       P15S,     115,          1,          8,       2008,2,20160617,       0901,   -12.4980,  -169.9990,       5012,  3097.4,   1.6800,  34.6760,2,  34.6751,2,    151.2,2,   151.5,2,  133.04,2,   35.46,2,    0.01,4,    2.48,2,-999.000,9,-999.000,9,-999.000,9,  -999.0,9,  -999.0,9,-999.0000,9,  -999.00,-999.0000,9, -999.00,9, -999.00,9,  -999.0,9,  -999.0, -999.00,9, -999.00,9, -999.00,9, -999.00,9,   1.4498, -999.00
096U20160426,       P15S,     115,          1,          7,       2007,2,20160617,       0901,   -12.4980,  -169.9990,       5012,  3400.5,   1.6060,  34.6810,2,  34.6803,2,    155.4,2,   155.3,2,  133.88,2,   35.22,2,    0.01,4,    2.46,2,-999.000,9,-999.000,9,-999.000,9,  -999.0,9,  -999.0,9,-999.0000,9,  -999.00,-999.0000,9, -999.00,9, -999.00,9,  -999.0,9,  -999.0, -999.00,9, -999.00,9, -999.00,9, -999.00,9,   1.3473, -999.00
096U20160426,       P15S,     115,          1,          6,       2006,2,20160617,       0901,   -12.4980,  -169.9990,       5012,  3700.7,   1.5280,  34.6870,2,  34.6864,2,    162.8,2,   163.0,2,  131.78,2,   34.69,2,    0.01,4,    2.42,2,-999.000,9,-999.000,9,-999.000,9,  -999.0,9,  -999.0,9,-999.0000,9,  -999.00,-999.0000,9, -999.00,9, -999.00,9,  -999.0,9,  -999.0, -999.00,9, -999.00,9, -999.00,9, -999.00,9,   1.2403, -999.00
096U20160426,       P15S,     115,          1,          5,       2005,2,20160617,       0901,   -12.4980,  -169.9990,       5012,  3999.8,   1.3780,  34.7010,2,  34.7002,2,    180.9,2,   183.0,2,  122.16,2,   33.12,2,    0.01,4,    2.30,2,-999.000,9,-999.000,9,-999.000,9,  -999.0,9,  -999.0,9,-999.0000,9,  -999.00,-999.0000,9, -999.00,9, -999.00,9,  -999.0,9,  -999.0, -999.00,9, -999.00,9, -999.00,9, -999.00,9,   1.0624, -999.00
096U20160426,       P15S,     115,          1,          4,       2004,2,20160617,       0901,   -12.4980,  -169.9990,       5012,  4300.5,   1.1930,  34.7120,2,  34.7114,2,    197.4,2,   200.1,2,  116.13,2,   31.90,2,    0.01,4,    2.21,2,-999.000,9,-999.000,9,-999.000,9,  -999.0,9,  -999.0,9,-999.0000,9,  -999.00,-999.0000,9, -999.00,9, -999.00,9,  -999.0,9,  -999.0, -999.00,9, -999.00,9, -999.00,9, -999.00,9,   0.8498, -999.00
096U20160426,       P15S,     115,          1,          3,       2003,2,20160617,       0901,   -12.4980,  -169.9990,       5012,  4600.5,   1.0800,  34.7110,2,  34.7107,2,    202.1,2,   204.5,2,  118.02,2,   31.78,2,    0.01,4,    2.20,2,-999.000,9,-999.000,9,-999.000,9,  -999.0,9,  -999.0,9,-999.0000,9,  -999.00,-999.0000,9, -999.00,9, -999.00,9,  -999.0,9,  -999.0, -999.00,9, -999.00,9, -999.00,9, -999.00,9,   0.7064, -999.00
096U20160426,       P15S,     115,          1,          2,       2002,2,20160617,       0901,   -12.4980,  -169.9990,       5012,  4827.2,   1.0740,  34.7100,2,  34.7091,2,    203.2,2,   206.5,2,  118.81,2,   31.77,2,    0.01,4,    2.20,2,-999.000,9,-999.000,9,-999.000,9,  -999.0,9,  -999.0,9,-999.0000,9,  -999.00,-999.0000,9, -999.00,9, -999.00,9,  -999.0,9,  -999.0, -999.00,9, -999.00,9, -999.00,9, -999.00,9,   0.6744, -999.00
096U20160426,       P15S,     115,          1,          1,       2001,2,20160617,       0901,   -12.4980,  -169.9990,       5012,  5077.4,   1.0960,  34.7100,2,  34.7087,2,    204.0,2,   206.0,2,  118.76,2,   31.80,2,    0.01,4,    2.21,2,-999.000,9,-999.000,9,-999.000,9,  -999.0,9,  -999.0,9,-999.0000,9,  -999.00,-999.0000,9, -999.00,9, -999.00,9,  -999.0,9,  -999.0, -999.00,9, -999.00,9, -999.00,9, -999.00,9,   0.6659, -999.00