BOTTLE,20230413CCHSIOENA
EXPOCODE,SECT_ID,STNNBR,CASTNO,SAMPNO,BTLNBR,BTLNBR_FLAG_W,DATE,TIME,LATITUDE,LONGITUDE,DEPTH,CTDPRS,CTDTMP,CTDSAL,CTDSAL_FLAG_W,SALNTY,SALNTY_FLAG_W,CTDOXY,CTDOXY_FLAG_W,OXYGEN,OXYGEN_FLAG_W,SILCAT,SILCAT_FLAG_W,NITRAT,NITRAT_FLAG_W,NITRIT,NITRIT_FLAG_W,PHSPHT,PHSPHT_FLAG_W,CFC-11,CFC-11_FLAG_W,CFC-12,CFC-12_FLAG_W,SF6,SF6_FLAG_W,TCARBN,TCARBN_FLAG_W,ALKALI,ALKALI_FLAG_W,PH_TOT,PH_TOT_FLAG_W,PH_TMP,HELIUM,HELIUM_FLAG_W,DELHE3,DELHE3_FLAG_W,DELC13,DELC13_FLAG_W,DELC14,DELC14_FLAG_W,C14ERR,POC,POC_FLAG_W,PON,PON_FLAG_W,CHLORA,CHLORA_FLAG_W,PPHYTN,PPHYTN_FLAG_W,THETA,DELHER
,,,,,,,,,,,METERS,DBAR,ITS-90,PSS-78,,PSS-78,,UMOL/KG,,UMOL/KG,,UMOL/KG,,UMOL/KG,,UMOL/KG,,UMOL/KG,,PMOL/KG,,PMOL/KG,,FMOL/KG,,UMOL/KG,,UMOL/KG,,,,DEG C,NMOL/KG,,PERCNT,,/MILLE,,/MILLE,,/MILLE,UG/KG,,UG/KG,,UG/KG,,UG/KG,,DEG C,PERCNT
096U20160426,       P15S,     123,          1,         36,       2036,2,20160619,       1606,    -8.4941,  -168.7514,       5179,     5.4,  29.9770,  34.5120,2,  34.5117,2,    187.8,2,   192.5,2,    0.40,2,   -0.05,4,    0.01,4,    0.14,2,-999.000,9,-999.000,9,-999.000,9,  -999.0,9,  -999.0,9,-999.0000,9,  -999.00,-999.0000,9, -999.00,9, -999.00,9,  -999.0,9,  -999.0, -999.00,9, -999.00,9,    0.22,2,    0.01,3,  29.9757, -999.00
096U20160426,       P15S,     123,          1,         35,       2035,2,20160619,       1606,    -8.4941,  -168.7514,       5179,    24.3,  29.9780,  34.5120,2,  34.5126,2,    187.5,2,   192.5,2,    0.38,2,   -0.04,4,    0.00,4,    0.14,2,   1.379,2,   0.887,2,   1.192,2,  1923.7,2,  2270.9,2,-999.0000,9,  -999.00,-999.0000,9, -999.00,9, -999.00,9,  -999.0,9,  -999.0, -999.00,9, -999.00,9,    0.16,2,    0.04,3,  29.9720, -999.00
096U20160426,       P15S,     123,          1,         34,       2034,2,20160619,       1606,    -8.4941,  -168.7514,       5179,    51.2,  30.0440,  34.6680,2,  34.8107,2,    188.0,2,   194.0,2,    0.29,2,   -0.01,4,    0.02,4,    0.17,2,-999.000,9,-999.000,9,-999.000,9,  -999.0,9,  -999.0,9,-999.0000,9,  -999.00,-999.0000,9, -999.00,9, -999.00,9,  -999.0,9,  -999.0, -999.00,9, -999.00,9, -999.00,9, -999.00,9,  30.0313, -999.00
096U20160426,       P15S,     123,          1,         33,       2033,2,20160619,       1606,    -8.4941,  -168.7514,       5179,    75.9,  28.6930,  35.7670,2,  35.7897,2,    168.0,2,   170.7,2,    0.91,2,    2.48,2,    1.00,2,    0.47,2,-999.000,9,-999.000,9,-999.000,9,  -999.0,9,  -999.0,9,-999.0000,9,  -999.00,-999.0000,9, -999.00,9, -999.00,9,  -999.0,9,  -999.0, -999.00,9, -999.00,9,    0.64,2,   -0.02,3,  28.6747, -999.00
096U20160426,       P15S,     123,          1,         32,       2032,2,20160619,       1606,    -8.4941,  -168.7514,       5179,   100.7,  27.1940,  35.9870,2,  36.0090,2,    147.4,2,   148.6,2,    1.03,2,    4.47,2,    1.31,2,    0.63,2,   1.574,2,   1.027,2,   1.251,2,  2079.2,2,  2368.5,2,-999.0000,9,  -999.00,-999.0000,9, -999.00,9, -999.00,9,  -999.0,9,  -999.0, -999.00,9, -999.00,9,    0.52,2,    0.14,3,  27.1707, -999.00
096U20160426,       P15S,     123,          1,         31,       2031,2,20160619,       1606,    -8.4941,  -168.7514,       5179,   140.4,  24.4640,  36.1520,2,  36.1427,2,    138.2,2,   140.9,2,    0.99,2,    7.09,2,    0.27,2,    0.72,2,   1.734,2,   1.123,2,   1.259,2,  2114.3,2,  2377.6,6,-999.0000,9,  -999.00,-999.0000,9, -999.00,9, -999.00,9,  -999.0,9,  -999.0, -999.00,9, -999.00,9,    0.44,2,    0.08,3,  24.4339, -999.00
096U20160426,       P15S,     123,          1,         30,       2030,2,20160619,       1606,    -8.4941,  -168.7514,       5179,   201.1,  19.2160,  35.6440,2,  35.4972,2,    134.5,2,   124.9,2,    4.28,2,   12.45,2,    0.01,4,    1.13,2,-999.000,9,-999.000,9,-999.000,9,  -999.0,9,  -999.0,9,-999.0000,9,  -999.00,-999.0000,9, -999.00,9, -999.00,9,  -999.0,9,  -999.0, -999.00,9, -999.00,9, -999.00,9, -999.00,9,  19.1797, -999.00
096U20160426,       P15S,     123,          1,         29,       2029,2,20160619,       1606,    -8.4941,  -168.7514,       5179,   251.2,  14.3520,  35.0660,2,  35.0480,2,     88.9,2,    83.6,2,   11.69,2,   21.13,2,    0.01,4,    1.72,2,   1.612,2,   0.953,2,    0.69,2,  2196.6,2,  2312.1,2,-999.0000,9,  -999.00,-999.0000,9, -999.00,9, -999.00,9,  -999.0,9,  -999.0, -999.00,9, -999.00,9, -999.00,9, -999.00,9,  14.3150, -999.00
096U20160426,       P15S,     123,          1,         28,       2028,2,20160619,       1606,    -8.4941,  -168.7514,       5179,   300.8,  12.1810,  34.8870,2,  34.8502,2,     81.3,2,    83.7,2,   16.90,2,   25.56,2,    0.00,4,    1.92,2,   1.211,2,   0.688,2,   0.322,2,  2207.2,2,  2304.2,2,-999.0000,9,  -999.00,-999.0000,9, -999.00,9, -999.00,9,  -999.0,9,  -999.0, -999.00,9, -999.00,9, -999.00,9, -999.00,9,  12.1413, -999.00
096U20160426,       P15S,     123,          1,         27,       2027,2,20160619,       1606,    -8.4941,  -168.7514,       5179,   350.9,  10.7300,  34.7860,2,  34.7656,2,     95.4,2,    95.8,2,   19.45,2,   27.07,2,    0.00,4,    1.96,2,-999.000,9,-999.000,9,-999.000,9,  2207.5,2,  2300.6,2,-999.0000,9,  -999.00,-999.0000,9, -999.00,9, -999.00,9,  -999.0,9,  -999.0, -999.00,9, -999.00,9, -999.00,9, -999.00,9,  10.6872, -999.00
096U20160426,       P15S,     123,          1,         26,       2026,2,20160619,       1606,    -8.4941,  -168.7514,       5179,   400.3,   9.4380,  34.6960,2,  34.6912,2,    102.5,2,   102.0,2,   22.66,2,   28.85,2,    0.00,4,    2.04,2,   0.801,6,   0.432,6,   0.154,6,  2212.8,2,  2300.9,2,-999.0000,9,  -999.00,-999.0000,9, -999.00,9, -999.00,9,  -999.0,9,  -999.0, -999.00,9, -999.00,9, -999.00,9, -999.00,9,   9.3929, -999.00
096U20160426,       P15S,     123,          1,         25,       2025,2,20160619,       1606,    -8.4941,  -168.7514,       5179,   500.3,   7.8780,  34.5980,2,  34.5951,2,    115.5,2,   114.3,2,   28.89,2,   30.90,2,    0.00,4,    2.15,2,-999.000,9,-999.000,9,-999.000,9,  2216.0,2,  2302.3,2,-999.0000,9,  -999.00,-999.0000,9, -999.00,9, -999.00,9,  -999.0,9,  -999.0, -999.00,9, -999.00,9, -999.00,9, -999.00,9,   7.8271, -999.00
096U20160426,       P15S,     123,          1,         24,       2024,2,20160619,       1606,    -8.4941,  -168.7514,       5179,   601.0,   6.9960,  34.5530,2,  34.5518,2,    116.9,2,   115.8,2,   35.42,2,   32.61,2,    0.00,4,    2.27,2,-999.000,9,-999.000,9,-999.000,9,  -999.0,9,  -999.0,9,-999.0000,9,  -999.00,-999.0000,9, -999.00,9, -999.00,9,  -999.0,9,  -999.0, -999.00,9, -999.00,9, -999.00,9, -999.00,9,   6.9385, -999.00
096U20160426,       P15S,     123,          1,         23,       2023,2,20160619,       1606,    -8.4941,  -168.7514,       5179,   700.2,   6.1490,  34.5220,2,  34.5207,2,    122.8,2,   121.9,2,   42.38,2,   33.64,2,    0.00,4,    2.35,2,   0.280,2,   0.145,2,       0,2,  2234.5,2,  2313.4,2,-999.0000,9,  -999.00,-999.0000,9, -999.00,9, -999.00,9,  -999.0,9,  -999.0, -999.00,9, -999.00,9, -999.00,9, -999.00,9,   6.0860, -999.00
096U20160426,       P15S,     123,          1,         22,       2022,2,20160619,       1606,    -8.4941,  -168.7514,       5179,   800.0,   5.5200,  34.5140,2,  34.5144,2,    120.9,2,   119.4,2,   51.24,2,   34.85,2,    0.00,4,    2.44,2,-999.000,9,-999.000,9,-999.000,9,  -999.0,9,  -999.0,9,-999.0000,9,  -999.00,-999.0000,9, -999.00,9, -999.00,9,  -999.0,9,  -999.0, -999.00,9, -999.00,9, -999.00,9, -999.00,9,   5.4513, -999.00
096U20160426,       P15S,     123,          1,         21,       2021,2,20160619,       1606,    -8.4941,  -168.7514,       5179,   900.4,   4.9420,  34.5260,2,  34.5249,2,    107.8,2,   105.8,2,   62.94,2,   36.99,2,    0.00,4,    2.60,2,   0.039,2,   0.024,2,       0,2,  2268.3,2,  2333.2,2,-999.0000,9,  -999.00,-999.0000,9, -999.00,9, -999.00,9,  -999.0,9,  -999.0, -999.00,9, -999.00,9, -999.00,9, -999.00,9,   4.8680, -999.00
096U20160426,       P15S,     123,          1,         20,       2020,2,20160619,       1606,    -8.4941,  -168.7514,       5179,   999.6,   4.5150,  34.5330,2,  34.5326,2,    109.1,2,   106.7,2,   70.91,2,   37.47,2,    0.00,4,    2.64,2,-999.000,9,-999.000,9,-999.000,9,  -999.0,9,  -999.0,9,-999.0000,9,  -999.00,-999.0000,9, -999.00,9, -999.00,9,  -999.0,9,  -999.0, -999.00,9, -999.00,9, -999.00,9, -999.00,9,   4.4354, -999.00
096U20160426,       P15S,     123,          1,         19,       2019,2,20160619,       1606,    -8.4941,  -168.7514,       5179,  1100.2,   4.1040,  34.5450,2,  34.5440,2,    109.6,2,   108.9,2,   79.41,2,   37.68,2,    0.00,4,    2.66,2,   0.007,2,   0.004,2,       0,2,  2287.0,2,  2350.6,2,-999.0000,9,  -999.00,-999.0000,9, -999.00,9, -999.00,9,  -999.0,9,  -999.0, -999.00,9, -999.00,9, -999.00,9, -999.00,9,   4.0190, -999.00
096U20160426,       P15S,     123,          1,         18,       2018,2,20160619,       1606,    -8.4941,  -168.7514,       5179,  1200.8,   3.7930,  34.5560,2,  34.5557,2,    112.7,2,   111.2,2,   86.22,2,   37.64,2,    0.00,4,    2.66,2,-999.000,9,-999.000,9,-999.000,9,  -999.0,9,  -999.0,9,-999.0000,9,  -999.00,-999.0000,9, -999.00,9, -999.00,9,  -999.0,9,  -999.0, -999.00,9, -999.00,9, -999.00,9, -999.00,9,   3.7021, -999.00
096U20160426,       P15S,     123,          1,         17,       2017,2,20160619,       1606,    -8.4941,  -168.7514,       5179,  1299.9,   3.4700,  34.5690,2,  34.5684,2,    115.8,2,   114.3,2,   93.36,2,   37.51,2,    0.00,4,    2.65,2,-999.000,9,-999.000,9,-999.000,9,  -999.0,9,  -999.0,9,-999.0000,9,  -999.00,-999.0000,9, -999.00,9, -999.00,9,  -999.0,9,  -999.0, -999.00,9, -999.00,9, -999.00,9, -999.00,9,   3.3739, -999.00
096U20160426,       P15S,     123,          1,         16,       2016,2,20160619,       1606,    -8.4941,  -168.7514,       5179,  1399.9,   3.2030,  34.5790,2,  34.5820,2,    119.6,2,   118.8,2,   98.68,2,   37.22,2,    0.00,4,    2.63,2,   0.003,2,   0.002,2,       0,2,  2301.8,6,  2373.4,6,-999.0000,9,  -999.00,-999.0000,9, -999.00,9, -999.00,9,  -999.0,9,  -999.0, -999.00,9, -999.00,9, -999.00,9, -999.00,9,   3.1012, -999.00
096U20160426,       P15S,     123,          1,         15,       2015,2,20160619,       1606,    -8.4941,  -168.7514,       5179,  1601.6,   2.7190,  34.6050,2,  34.6058,2,    126.6,2,   126.3,2,  109.26,2,   36.88,2,    0.00,4,    2.59,2,-999.000,9,-999.000,9,-999.000,9,  -999.0,9,  -999.0,9,-999.0000,9,  -999.00,-999.0000,9, -999.00,9, -999.00,9,  -999.0,9,  -999.0, -999.00,9, -999.00,9, -999.00,9, -999.00,9,   2.6060, -999.00
096U20160426,       P15S,     123,          1,         14,       2014,2,20160619,       1606,    -8.4941,  -168.7514,       5179,  1801.2,   2.4210,  34.6240,2,  34.6229,2,    129.5,2,   130.0,2,  117.20,2,   36.74,2,    0.00,4,    2.58,2,-999.000,9,-999.000,9,-999.000,9,  -999.0,9,  -999.0,9,-999.0000,9,  -999.00,-999.0000,9, -999.00,9, -999.00,9,  -999.0,9,  -999.0, -999.00,9, -999.00,9, -999.00,9, -999.00,9,   2.2951, -999.00
096U20160426,       P15S,     123,          1,         13,       2013,2,20160619,       1606,    -8.4941,  -168.7514,       5179,  2001.1,   2.2260,  34.6370,2,  34.6366,2,    130.8,2,   130.6,2,  123.41,2,   36.74,2,    0.00,4,    2.58,2,   0.001,2,   0.000,2,       0,2,  2321.6,2,  2400.8,2,-999.0000,9,  -999.00,-999.0000,9, -999.00,9, -999.00,9,  -999.0,9,  -999.0, -999.00,9, -999.00,9, -999.00,9, -999.00,9,   2.0860, -999.00
096U20160426,       P15S,     123,          1,         12,       2012,2,20160619,       1606,    -8.4941,  -168.7514,       5179,  2251.0,   1.9930,  34.6540,2,  34.6522,2,    133.7,2,   133.7,2,  130.09,2,   36.59,2,    0.00,4,    2.56,2,-999.000,9,-999.000,9,-999.000,9,  -999.0,9,  -999.0,9,-999.0000,9,  -999.00,-999.0000,9, -999.00,9, -999.00,9,  -999.0,9,  -999.0, -999.00,9, -999.00,9, -999.00,9, -999.00,9,   1.8351, -999.00
096U20160426,       P15S,     123,          1,         11,       2011,2,20160619,       1606,    -8.4941,  -168.7514,       5179,  2499.8,   1.8760,  34.6630,2,  34.6627,2,    138.4,2,   139.2,2,  131.62,2,   36.24,2,    0.00,4,    2.53,2,-999.000,9,-999.000,9,-999.000,9,  -999.0,9,  -999.0,9,-999.0000,9,  -999.00,-999.0000,9, -999.00,9, -999.00,9,  -999.0,9,  -999.0, -999.00,9, -999.00,9, -999.00,9, -999.00,9,   1.6980, -999.00
096U20160426,       P15S,     123,          1,         10,       2010,2,20160619,       1606,    -8.4941,  -168.7514,       5179,  2750.1,   1.7620,  34.6710,2,  34.6710,2,    145.2,2,   146.1,2,  131.53,2,   35.67,2,    0.00,4,    2.49,2,   0.005,2,   0.003,2,       0,2,  2320.8,2,  2411.7,2,-999.0000,9,  -999.00,-999.0000,9, -999.00,9, -999.00,9,  -999.0,9,  -999.0, -999.00,9, -999.00,9, -999.00,9, -999.00,9,   1.5632, -999.00
096U20160426,       P15S,     123,          1,          9,       2009,2,20160619,       1606,    -8.4941,  -168.7514,       5179,  3000.2,   1.6640,  34.6780,2,  34.6785,2,    149.9,2,   151.1,2,  132.59,2,   35.39,2,    0.00,4,    2.46,2,-999.000,9,-999.000,9,-999.000,9,  -999.0,9,  -999.0,9,-999.0000,9,  -999.00,-999.0000,9, -999.00,9, -999.00,9,  -999.0,9,  -999.0, -999.00,9, -999.00,9, -999.00,9, -999.00,9,   1.4435, -999.00
096U20160426,       P15S,     123,          1,          8,       2008,2,20160619,       1606,    -8.4941,  -168.7514,       5179,  3299.8,   1.5810,  34.6830,2,  34.6818,2,    155.4,2,   157.2,2,  133.12,2,   35.06,2,    0.00,4,    2.44,2,-999.000,9,-999.000,9,-999.000,9,  -999.0,9,  -999.0,9,-999.0000,9,  -999.00,-999.0000,9, -999.00,9, -999.00,9,  -999.0,9,  -999.0, -999.00,9, -999.00,9, -999.00,9, -999.00,9,   1.3330, -999.00
096U20160426,       P15S,     123,          1,          7,       2007,2,20160619,       1606,    -8.4941,  -168.7514,       5179,  3600.2,   1.5100,  34.6880,2,  34.6871,2,    161.3,2,   163.0,2,  131.89,2,   34.72,2,    0.01,4,    2.41,2,   0.001,2,   0.000,2,       0,2,  2310.4,2,  2408.0,2,-999.0000,9,  -999.00,-999.0000,9, -999.00,9, -999.00,9,  -999.0,9,  -999.0, -999.00,9, -999.00,9, -999.00,9, -999.00,9,   1.2332, -999.00
096U20160426,       P15S,     123,          1,          6,       2006,2,20160619,       1606,    -8.4941,  -168.7514,       5179,  3899.8,   1.4530,  34.6920,2,  34.6913,2,    167.2,2,   169.0,2,  130.22,2,   34.32,2,    0.00,4,    2.38,2,-999.000,9,-999.000,9,-999.000,9,  -999.0,9,  -999.0,9,-999.0000,9,  -999.00,-999.0000,9, -999.00,9, -999.00,9,  -999.0,9,  -999.0, -999.00,9, -999.00,9, -999.00,9, -999.00,9,   1.1461, -999.00
096U20160426,       P15S,     123,          1,          5,       2005,2,20160619,       1606,    -8.4941,  -168.7514,       5179,  4299.7,   1.3170,  34.7000,2,  34.6998,2,    179.8,2,   182.7,2,  125.58,2,   33.32,2,    0.00,4,    2.31,2,   0.018,2,   0.010,2,       0,2,  2290.5,2,  2390.0,2,-999.0000,9,  -999.00,-999.0000,9, -999.00,9, -999.00,9,  -999.0,9,  -999.0, -999.00,9, -999.00,9, -999.00,9, -999.00,9,   0.9702, -999.00
096U20160426,       P15S,     123,          1,          4,       2004,2,20160619,       1606,    -8.4941,  -168.7514,       5179,  4700.7,   1.0830,  34.7090,2,  34.7114,2,    200.8,2,   203.9,2,  117.66,2,   31.87,2,    0.00,4,    2.20,2,   0.054,2,   0.027,2,       0,2,  2265.2,2,  2367.1,2,-999.0000,9,  -999.00,-999.0000,9, -999.00,9, -999.00,9,  -999.0,9,  -999.0, -999.00,9, -999.00,9, -999.00,9, -999.00,9,   0.6978, -999.00
096U20160426,       P15S,     123,          1,          3,       2003,2,20160619,       1606,    -8.4941,  -168.7514,       5179,  5100.4,   1.1210,  34.7100,2,  34.7098,2,    203.0,2,   205.0,2,  117.34,2,   31.81,2,    0.00,4,    2.19,2,-999.000,9,-999.000,9,-999.000,9,  -999.0,9,  -999.0,9,-999.0000,9,  -999.00,-999.0000,9, -999.00,9, -999.00,9,  -999.0,9,  -999.0, -999.00,9, -999.00,9, -999.00,9, -999.00,9,   0.6873, -999.00
096U20160426,       P15S,     123,          1,          2,       2002,2,20160619,       1606,    -8.4941,  -168.7514,       5179,  5201.5,   1.1330,  34.7100,2,  34.7111,2,    203.3,2,   204.8,2,  117.41,2,   31.76,2,    0.01,4,    2.19,2,   0.067,2,   0.031,2,       0,2,  2263.8,6,  2366.7,6,-999.0000,9,  -999.00,-999.0000,9, -999.00,9, -999.00,9,  -999.0,9,  -999.0, -999.00,9, -999.00,9, -999.00,9, -999.00,9,   0.6866, -999.00
096U20160426,       P15S,     123,          1,          1,       2001,2,20160619,       1606,    -8.4941,  -168.7514,       5179,  5252.0,   1.1380,  34.7100,2,  34.7090,2,    203.4,2,   205.0,2,  117.52,2,   31.80,2,    0.00,4,    2.19,2,-999.000,9,-999.000,9,-999.000,9,  -999.0,9,  -999.0,9,-999.0000,9,  -999.00,-999.0000,9, -999.00,9, -999.00,9,  -999.0,9,  -999.0, -999.00,9, -999.00,9, -999.00,9, -999.00,9,   0.6852, -999.00