BOTTLE,20230413CCHSIOENA
EXPOCODE,SECT_ID,STNNBR,CASTNO,SAMPNO,BTLNBR,BTLNBR_FLAG_W,DATE,TIME,LATITUDE,LONGITUDE,DEPTH,CTDPRS,CTDTMP,CTDSAL,CTDSAL_FLAG_W,SALNTY,SALNTY_FLAG_W,CTDOXY,CTDOXY_FLAG_W,OXYGEN,OXYGEN_FLAG_W,SILCAT,SILCAT_FLAG_W,NITRAT,NITRAT_FLAG_W,NITRIT,NITRIT_FLAG_W,PHSPHT,PHSPHT_FLAG_W,CFC-11,CFC-11_FLAG_W,CFC-12,CFC-12_FLAG_W,SF6,SF6_FLAG_W,TCARBN,TCARBN_FLAG_W,ALKALI,ALKALI_FLAG_W,PH_TOT,PH_TOT_FLAG_W,PH_TMP,HELIUM,HELIUM_FLAG_W,DELHE3,DELHE3_FLAG_W,DELC13,DELC13_FLAG_W,DELC14,DELC14_FLAG_W,C14ERR,POC,POC_FLAG_W,PON,PON_FLAG_W,CHLORA,CHLORA_FLAG_W,PPHYTN,PPHYTN_FLAG_W,THETA,DELHER
,,,,,,,,,,,METERS,DBAR,ITS-90,PSS-78,,PSS-78,,UMOL/KG,,UMOL/KG,,UMOL/KG,,UMOL/KG,,UMOL/KG,,UMOL/KG,,PMOL/KG,,PMOL/KG,,FMOL/KG,,UMOL/KG,,UMOL/KG,,,,DEG C,NMOL/KG,,PERCNT,,/MILLE,,/MILLE,,/MILLE,UG/KG,,UG/KG,,UG/KG,,UG/KG,,DEG C,PERCNT
096U20160426,       P15S,     102,          1,         36,       2036,2,20160614,       0115,   -17.9984,  -170.0004,       4928,     5.0,  26.5050,  35.4700,2,  35.4683,2,    203.2,2,   202.0,2,    0.37,2,    0.01,4,    0.00,4,    0.15,2,   1.541,2,   0.987,2,   1.331,2,  1986.4,2,  2332.0,2,-999.0000,9,  -999.00,-999.0000,9, -999.00,9, -999.00,9,  -999.0,9,  -999.0, -999.00,9, -999.00,9,    0.17,2,    0.00,3,  26.5039, -999.00
096U20160426,       P15S,     102,          1,         35,       2035,2,20160614,       0115,   -17.9984,  -170.0004,       4928,    23.1,  26.4970,  35.4690,2,  35.4681,2,    203.0,2,   201.9,2,    0.36,2,    0.01,4,    0.00,4,    0.15,2,   1.541,2,   0.989,2,   1.298,2,  1987.1,2,  2332.5,2,-999.0000,9,  -999.00,-999.0000,9, -999.00,9, -999.00,9,  -999.0,9,  -999.0, -999.00,9, -999.00,9,    0.14,2,    0.02,3,  26.4918, -999.00
096U20160426,       P15S,     102,          1,         34,       2034,2,20160614,       0115,   -17.9984,  -170.0004,       4928,    50.9,  26.4760,  35.4670,2,  35.4660,2,    203.1,2,   201.9,2,    0.37,2,    0.02,4,    0.00,4,    0.15,2,   1.544,2,   0.986,2,   1.298,2,  1988.9,2,  2332.4,6,-999.0000,9,  -999.00,-999.0000,9, -999.00,9, -999.00,9,  -999.0,9,  -999.0, -999.00,9, -999.00,9,    0.24,2,   -0.02,3,  26.4645, -999.00
096U20160426,       P15S,     102,          1,         33,       2033,2,20160614,       0115,   -17.9984,  -170.0004,       4928,    75.3,  26.0460,  35.6370,2,  35.6691,2,    204.9,2,   204.5,2,    0.31,2,    0.02,4,    0.00,4,    0.13,2,   1.583,6,   1.013,6,   1.286,6,  2005.2,2,  2346.8,2,-999.0000,9,  -999.00,-999.0000,9, -999.00,9, -999.00,9,  -999.0,9,  -999.0, -999.00,9, -999.00,9,    0.40,2,   -0.06,3,  26.0291, -999.00
096U20160426,       P15S,     102,          1,         32,       2032,2,20160614,       0115,   -17.9984,  -170.0004,       4928,   100.1,  25.6350,  35.7250,2,  35.7274,2,    205.9,2,   204.6,2,    0.34,2,    0.02,4,    0.00,4,    0.13,2,-999.000,9,-999.000,9,-999.000,9,  -999.0,9,  -999.0,9,-999.0000,9,  -999.00,-999.0000,9, -999.00,9, -999.00,9,  -999.0,9,  -999.0, -999.00,9, -999.00,9, -999.00,9, -999.00,9,  25.6128, -999.00
096U20160426,       P15S,     102,          1,         31,       2031,2,20160614,       0115,   -17.9984,  -170.0004,       4928,   134.6,  23.7700,  35.7830,2,  35.7877,2,    202.0,2,   197.6,2,    0.31,2,    0.09,2,    0.03,2,    0.15,2,   1.787,2,   1.137,2,    1.34,2,  2041.5,6,  2351.2,6,-999.0000,9,  -999.00,-999.0000,9, -999.00,9, -999.00,9,  -999.0,9,  -999.0, -999.00,9, -999.00,9,    0.56,2,    0.16,3,  23.7418, -999.00
096U20160426,       P15S,     102,          1,         30,       2030,2,20160614,       0115,   -17.9984,  -170.0004,       4928,   200.2,  21.2650,  35.7960,2,  35.7763,2,    180.7,2,   180.9,2,    0.43,2,    3.21,2,    0.01,4,    0.31,2,   1.960,2,   1.241,2,   1.363,2,  2076.0,2,  2348.0,2,-999.0000,9,  -999.00,-999.0000,9, -999.00,9, -999.00,9,  -999.0,9,  -999.0, -999.00,9, -999.00,9, -999.00,9, -999.00,9,  21.2262, -999.00
096U20160426,       P15S,     102,          1,         29,       2029,2,20160614,       0115,   -17.9984,  -170.0004,       4928,   249.8,  19.6930,  35.6580,2,  35.6398,2,    184.9,2,   186.8,2,    0.54,2,    3.76,2,    0.01,4,    0.32,2,   2.097,2,   1.300,2,   1.307,2,  2079.2,2,  2337.3,2,-999.0000,9,  -999.00,-999.0000,9, -999.00,9, -999.00,9,  -999.0,9,  -999.0, -999.00,9, -999.00,9, -999.00,9, -999.00,9,  19.6471, -999.00
096U20160426,       P15S,     102,          1,         28,       2028,2,20160614,       0115,   -17.9984,  -170.0004,       4928,   300.4,  18.4020,  35.5280,2,  35.4822,2,    188.2,2,   186.1,2,    0.94,2,    5.20,2,    0.00,4,    0.42,2,   2.241,2,   1.362,2,   1.255,2,  2088.1,2,  2326.8,2,-999.0000,9,  -999.00,-999.0000,9, -999.00,9, -999.00,9,  -999.0,9,  -999.0, -999.00,9, -999.00,9, -999.00,9, -999.00,9,  18.3493, -999.00
096U20160426,       P15S,     102,          1,         27,       2027,2,20160614,       0115,   -17.9984,  -170.0004,       4928,   350.4,  15.9720,  35.2540,2,  35.2159,2,    185.8,2,   185.8,2,    1.82,2,    8.42,2,    0.00,4,    0.62,2,   2.426,2,   1.427,2,    1.12,2,  2103.0,2,  2312.0,2,-999.0000,9,  -999.00,-999.0000,9, -999.00,9, -999.00,9,  -999.0,9,  -999.0, -999.00,9, -999.00,9, -999.00,9, -999.00,9,  15.9163, -999.00
096U20160426,       P15S,     102,          1,         26,       2026,2,20160614,       0115,   -17.9984,  -170.0004,       4928,   406.1,  12.8050,  34.8960,2,  34.8543,2,    184.1,2,   186.7,2,    3.83,2,   14.58,2,    0.00,4,    1.00,2,   2.623,2,   1.469,2,   0.914,2,  2127.3,2,  2295.5,2,-999.0000,9,  -999.00,-999.0000,9, -999.00,9, -999.00,9,  -999.0,9,  -999.0, -999.00,9, -999.00,9, -999.00,9, -999.00,9,  12.7493, -999.00
096U20160426,       P15S,     102,          1,         25,       2025,2,20160614,       0115,   -17.9984,  -170.0004,       4928,   505.9,   9.2830,  34.5790,2,  34.5345,2,    211.9,2,   214.3,2,    5.26,2,   20.10,2,    0.00,4,    1.31,2,   3.092,2,   1.658,2,   0.938,2,  2140.1,2,  2283.6,6,-999.0000,9,  -999.00,-999.0000,9, -999.00,9, -999.00,9,  -999.0,9,  -999.0, -999.00,9, -999.00,9, -999.00,9, -999.00,9,   9.2263, -999.00
096U20160426,       P15S,     102,          1,         24,       2024,2,20160614,       0115,   -17.9984,  -170.0004,       4928,   604.6,   6.8120,  34.3680,2,  34.3642,2,    216.5,2,   219.2,2,    9.88,2,   25.36,2,    0.00,4,    1.64,2,   2.685,2,   1.376,2,     0.6,2,  2155.4,2,  2280.4,2,-999.0000,9,  -999.00,-999.0000,9, -999.00,9, -999.00,9,  -999.0,9,  -999.0, -999.00,9, -999.00,9, -999.00,9, -999.00,9,   6.7551, -999.00
096U20160426,       P15S,     102,          1,         23,       2023,2,20160614,       0115,   -17.9984,  -170.0004,       4928,   703.6,   5.9280,  34.3570,2,  34.3586,2,    189.3,2,   188.1,2,   21.43,2,   30.17,2,    0.00,4,    1.99,2,   1.201,2,   0.605,2,   0.181,2,  2182.2,2,  2288.7,2,-999.0000,9,  -999.00,-999.0000,9, -999.00,9, -999.00,9,  -999.0,9,  -999.0, -999.00,9, -999.00,9, -999.00,9, -999.00,9,   5.8661, -999.00
096U20160426,       P15S,     102,          1,         22,       2022,2,20160614,       0115,   -17.9984,  -170.0004,       4928,   803.6,   4.9870,  34.3930,2,  34.3912,2,    168.2,2,   168.3,2,   36.30,2,   33.15,2,    0.00,4,    2.20,2,   0.425,2,   0.221,2,   0.048,2,  2211.5,2,  2304.0,2,-999.0000,9,  -999.00,-999.0000,9, -999.00,9, -999.00,9,  -999.0,9,  -999.0, -999.00,9, -999.00,9, -999.00,9, -999.00,9,   4.9214, -999.00
096U20160426,       P15S,     102,          1,         21,       2021,2,20160614,       0115,   -17.9984,  -170.0004,       4928,   902.9,   4.4640,  34.4150,2,  34.4168,2,    164.6,2,   163.7,2,   46.63,2,   34.13,2,    0.00,4,    2.28,2,   0.183,2,   0.100,2,       0,2,  2225.7,2,  2314.2,2,-999.0000,9,  -999.00,-999.0000,9, -999.00,9, -999.00,9,  -999.0,9,  -999.0, -999.00,9, -999.00,9, -999.00,9, -999.00,9,   4.3932, -999.00
096U20160426,       P15S,     102,          1,         20,       2020,2,20160614,       0115,   -17.9984,  -170.0004,       4928,  1002.1,   3.7960,  34.4590,2,  34.4549,2,    159.4,2,   159.1,2,   59.33,2,   35.01,2,    0.00,4,    2.35,2,   0.064,2,   0.041,2,       0,2,  2240.8,2,  2327.3,2,-999.0000,9,  -999.00,-999.0000,9, -999.00,9, -999.00,9,  -999.0,9,  -999.0, -999.00,9, -999.00,9, -999.00,9, -999.00,9,   3.7218, -999.00
096U20160426,       P15S,     102,          1,         19,       2019,2,20160614,       0115,   -17.9984,  -170.0004,       4928,  1101.9,   3.3770,  34.4980,2,  34.4977,2,    155.6,2,   155.2,2,   71.52,2,   35.43,2,    0.00,4,    2.40,2,   0.026,2,   0.018,2,       0,2,  2255.8,2,  2341.0,2,-999.0000,9,  -999.00,-999.0000,9, -999.00,9, -999.00,9,  -999.0,9,  -999.0, -999.00,9, -999.00,9, -999.00,9, -999.00,9,   3.2981, -999.00
096U20160426,       P15S,     102,          1,         18,       2018,2,20160614,       0115,   -17.9984,  -170.0004,       4928,  1201.5,   3.0950,  34.5240,2,  34.5242,2,    154.6,2,   154.8,2,   79.31,2,   35.62,2,    0.00,4,    2.41,2,   0.013,2,   0.008,2,       0,2,  2263.7,2,  2350.8,2,-999.0000,9,  -999.00,-999.0000,9, -999.00,9, -999.00,9,  -999.0,9,  -999.0, -999.00,9, -999.00,9, -999.00,9, -999.00,9,   3.0106, -999.00
096U20160426,       P15S,     102,          1,         17,       2017,2,20160614,       0115,   -17.9984,  -170.0004,       4928,  1301.4,   2.8790,  34.5520,2,  34.5712,3,    152.0,2,   151.5,2,   87.12,2,   35.83,2,    0.00,4,    2.44,2,-999.000,9,-999.000,9,-999.000,9,  -999.0,9,  -999.0,9,-999.0000,9,  -999.00,-999.0000,9, -999.00,9, -999.00,9,  -999.0,9,  -999.0, -999.00,9, -999.00,9, -999.00,9, -999.00,9,   2.7887, -999.00
096U20160426,       P15S,     102,          1,         16,       2016,2,20160614,       0115,   -17.9984,  -170.0004,       4928,  1401.3,   2.7560,  34.5710,2,  34.6056,3,    149.6,2,   149.1,2,   93.27,2,   35.98,2,    0.00,4,    2.45,2,   0.005,2,   0.006,2,       0,2,  2282.4,2,  2367.7,2,-999.0000,9,  -999.00,-999.0000,9, -999.00,9, -999.00,9,  -999.0,9,  -999.0, -999.00,9, -999.00,9, -999.00,9, -999.00,9,   2.6589, -999.00
096U20160426,       P15S,     102,          1,         15,       2015,2,20160614,       0115,   -17.9984,  -170.0004,       4928,  1600.5,   2.4700,  34.6060,2,  34.6209,3,    146.5,2,   146.3,2,  104.83,2,   36.14,2,    0.00,4,    2.47,2,-999.000,9,-999.000,9,-999.000,9,  2295.3,2,  2380.1,2,-999.0000,9,  -999.00,-999.0000,9, -999.00,9, -999.00,9,  -999.0,9,  -999.0, -999.00,9, -999.00,9, -999.00,9, -999.00,9,   2.3601, -999.00
096U20160426,       P15S,     102,          1,         14,       2014,2,20160614,       0115,   -17.9984,  -170.0004,       4928,  1800.8,   2.3130,  34.6220,2,  34.6210,2,    146.0,2,   145.6,2,  110.57,2,   36.26,2,    0.00,4,    2.48,2,   0.004,2,   0.002,2,   0.026,2,  2300.6,2,  2387.3,2,-999.0000,9,  -999.00,-999.0000,9, -999.00,9, -999.00,9,  -999.0,9,  -999.0, -999.00,9, -999.00,9, -999.00,9, -999.00,9,   2.1887, -999.00
096U20160426,       P15S,     102,          1,         13,       2013,2,20160614,       0115,   -17.9984,  -170.0004,       4928,  2001.6,   2.1930,  34.6330,2,  34.6314,2,    146.2,2,   145.7,2,  114.57,2,   36.28,2,    0.00,4,    2.48,2,   0.001,2,   0.000,2,       0,2,  2305.7,6,  2392.3,6,-999.0000,9,  -999.00,-999.0000,9, -999.00,9, -999.00,9,  -999.0,9,  -999.0, -999.00,9, -999.00,9, -999.00,9, -999.00,9,   2.0535, -999.00
096U20160426,       P15S,     102,          1,         12,       2012,2,20160614,       0115,   -17.9984,  -170.0004,       4928,  2251.1,   2.0400,  34.6470,2,  34.6452,2,    146.6,2,   146.3,2,  119.99,2,   36.28,2,    0.00,4,    2.49,2,-999.000,9,-999.000,9,-999.000,9,  -999.0,9,  -999.0,9,-999.0000,9,  -999.00,-999.0000,9, -999.00,9, -999.00,9,  -999.0,9,  -999.0, -999.00,9, -999.00,9, -999.00,9, -999.00,9,   1.8813, -999.00
096U20160426,       P15S,     102,          1,         11,       2011,2,20160614,       0115,   -17.9984,  -170.0004,       4928,  2500.6,   1.9200,  34.6570,2,  34.6561,2,    149.0,2,   148.9,2,  123.11,2,   36.10,2,    0.00,4,    2.47,2,   0.000,2,   0.001,2,   0.023,2,  2310.7,2,  2400.5,2,-999.0000,9,  -999.00,-999.0000,9, -999.00,9, -999.00,9,  -999.0,9,  -999.0, -999.00,9, -999.00,9, -999.00,9, -999.00,9,   1.7411, -999.00
096U20160426,       P15S,     102,          1,         10,       2010,2,20160614,       0115,   -17.9984,  -170.0004,       4928,  2750.5,   1.8180,  34.6660,2,  34.6639,2,    150.0,2,   149.8,2,  126.66,2,   36.02,2,    0.00,4,    2.47,2,-999.000,9,-999.000,9,-999.000,9,  2314.8,2,  2403.8,6,-999.0000,9,  -999.00,-999.0000,9, -999.00,9, -999.00,9,  -999.0,9,  -999.0, -999.00,9, -999.00,9, -999.00,9, -999.00,9,   1.6180, -999.00
096U20160426,       P15S,     102,          1,          9,       2009,2,20160614,       0115,   -17.9984,  -170.0004,       4928,  3000.9,   1.7340,  34.6720,2,  34.6709,2,    152.6,2,   152.5,2,  128.62,2,   35.87,2,    0.00,4,    2.46,2,   0.006,2,   0.002,2,       0,2,  2315.3,2,  2405.9,2,-999.0000,9,  -999.00,-999.0000,9, -999.00,9, -999.00,9,  -999.0,9,  -999.0, -999.00,9, -999.00,9, -999.00,9, -999.00,9,   1.5120, -999.00
096U20160426,       P15S,     102,          1,          8,       2008,2,20160614,       0115,   -17.9984,  -170.0004,       4928,  3300.4,   1.6480,  34.6790,2,  34.6778,2,    157.1,2,   157.3,2,  129.37,2,   35.55,2,    0.00,4,    2.44,2,   0.004,2,   0.002,2,       0,2,  2311.8,2,  2404.3,2,-999.0000,9,  -999.00,-999.0000,9, -999.00,9, -999.00,9,  -999.0,9,  -999.0, -999.00,9, -999.00,9, -999.00,9, -999.00,9,   1.3984, -999.00
096U20160426,       P15S,     102,          1,          7,       2007,2,20160614,       0115,   -17.9984,  -170.0004,       4928,  3601.3,   1.5070,  34.6940,2,  34.6919,2,    171.1,2,   170.9,2,  124.17,2,   34.45,2,    0.00,4,    2.35,2,   0.016,6,   0.010,6,       0,6,  2297.5,2,  2391.6,2,-999.0000,9,  -999.00,-999.0000,9, -999.00,9, -999.00,9,  -999.0,9,  -999.0, -999.00,9, -999.00,9, -999.00,9, -999.00,9,   1.2302, -999.00
096U20160426,       P15S,     102,          1,          6,       2006,2,20160614,       0115,   -17.9984,  -170.0004,       4928,  3901.1,   1.3520,  34.7100,2,  34.7082,2,    188.9,2,   189.9,2,  115.59,2,   32.98,2,    0.00,4,    2.24,2,-999.000,9,-999.000,9,-999.000,9,  -999.0,9,  -999.0,9,-999.0000,9,  -999.00,-999.0000,9, -999.00,9, -999.00,9,  -999.0,9,  -999.0, -999.00,9, -999.00,9, -999.00,9, -999.00,9,   1.0477, -999.00
096U20160426,       P15S,     102,          1,          5,       2005,2,20160614,       0115,   -17.9984,  -170.0004,       4928,  4200.2,   1.1510,  34.7130,2,  34.7111,2,    200.0,2,   201.3,2,  115.18,2,   32.41,2,    0.00,4,    2.19,2,   0.051,2,   0.029,2,       0,2,  2262.6,2,  2366.9,2,-999.0000,9,  -999.00,-999.0000,9, -999.00,9, -999.00,9,  -999.0,9,  -999.0, -999.00,9, -999.00,9, -999.00,9, -999.00,9,   0.8201, -999.00
096U20160426,       P15S,     102,          1,          4,       2004,2,20160614,       0115,   -17.9984,  -170.0004,       4928,  4500.3,   1.0450,  34.7110,2,  34.7094,2,    204.4,2,   205.4,2,  117.30,2,   32.32,2,    0.00,4,    2.19,2,-999.000,9,-999.000,9,-999.000,9,  -999.0,9,  -999.0,9,-999.0000,9,  -999.00,-999.0000,9, -999.00,9, -999.00,9,  -999.0,9,  -999.0, -999.00,9, -999.00,9, -999.00,9, -999.00,9,   0.6839, -999.00
096U20160426,       P15S,     102,          1,          3,       2003,2,20160614,       0115,   -17.9984,  -170.0004,       4928,  4800.1,   1.0500,  34.7100,2,  34.7095,2,    205.1,2,   205.7,2,  117.96,2,   32.33,2,    0.00,4,    2.19,2,   0.089,2,   0.047,2,    0.01,2,  2262.0,6,  2365.2,6,-999.0000,9,  -999.00,-999.0000,9, -999.00,9, -999.00,9,  -999.0,9,  -999.0, -999.00,9, -999.00,9, -999.00,9, -999.00,9,   0.6544, -999.00
096U20160426,       P15S,     102,          1,          2,       2002,2,20160614,       0115,   -17.9984,  -170.0004,       4928,  4900.6,   1.0600,  34.7100,2,  34.7084,2,    205.5,2,   205.9,2,  118.17,2,   32.28,2,    0.00,4,    2.19,2,-999.000,9,-999.000,9,-999.000,9,  -999.0,9,  -999.0,9,-999.0000,9,  -999.00,-999.0000,9, -999.00,9, -999.00,9,  -999.0,9,  -999.0, -999.00,9, -999.00,9, -999.00,9, -999.00,9,   0.6522, -999.00
096U20160426,       P15S,     102,          1,          1,       2001,2,20160614,       0115,   -17.9984,  -170.0004,       4928,  4991.5,   1.0680,  34.7100,2,  34.7090,2,    205.7,2,   206.1,2,  118.20,2,   32.28,2,    0.00,4,    2.19,2,   0.088,2,   0.047,2,       0,2,  2261.7,2,  2365.4,2,-999.0000,9,  -999.00,-999.0000,9, -999.00,9, -999.00,9,  -999.0,9,  -999.0, -999.00,9, -999.00,9, -999.00,9, -999.00,9,   0.6492, -999.00