BOTTLE,20230413CCHSIOENA
EXPOCODE,SECT_ID,STNNBR,CASTNO,SAMPNO,BTLNBR,BTLNBR_FLAG_W,DATE,TIME,LATITUDE,LONGITUDE,DEPTH,CTDPRS,CTDTMP,CTDSAL,CTDSAL_FLAG_W,SALNTY,SALNTY_FLAG_W,CTDOXY,CTDOXY_FLAG_W,OXYGEN,OXYGEN_FLAG_W,SILCAT,SILCAT_FLAG_W,NITRAT,NITRAT_FLAG_W,NITRIT,NITRIT_FLAG_W,PHSPHT,PHSPHT_FLAG_W,CFC-11,CFC-11_FLAG_W,CFC-12,CFC-12_FLAG_W,SF6,SF6_FLAG_W,TCARBN,TCARBN_FLAG_W,ALKALI,ALKALI_FLAG_W,PH_TOT,PH_TOT_FLAG_W,PH_TMP,HELIUM,HELIUM_FLAG_W,DELHE3,DELHE3_FLAG_W,DELC13,DELC13_FLAG_W,DELC14,DELC14_FLAG_W,C14ERR,POC,POC_FLAG_W,PON,PON_FLAG_W,CHLORA,CHLORA_FLAG_W,PPHYTN,PPHYTN_FLAG_W,THETA,DELHER
,,,,,,,,,,,METERS,DBAR,ITS-90,PSS-78,,PSS-78,,UMOL/KG,,UMOL/KG,,UMOL/KG,,UMOL/KG,,UMOL/KG,,UMOL/KG,,PMOL/KG,,PMOL/KG,,FMOL/KG,,UMOL/KG,,UMOL/KG,,,,DEG C,NMOL/KG,,PERCNT,,/MILLE,,/MILLE,,/MILLE,UG/KG,,UG/KG,,UG/KG,,UG/KG,,DEG C,PERCNT
096U20160426,       P15S,      25,          1,         36,       2036,2,20160515,       1504,   -55.0001,  -169.9911,       4812,    11.8,   4.4960,  33.9390,2,  33.9426,2,    308.2,2,   310.8,2,    6.30,2,   23.02,2,    0.22,2,    1.63,2,   4.224,3,   2.483,2,    2.84,2,  2130.6,2,  2271.5,2,   7.7299,2,    25.00,-999.0000,9, -999.00,9, -999.00,9,  -999.0,9,  -999.0,   20.26,2,    5.36,2,    0.59,2,    0.04,3,   4.4952, -999.00
096U20160426,       P15S,      25,          1,         35,       2035,2,20160515,       1504,   -55.0001,  -169.9911,       4812,    25.0,   4.5140,  33.9440,2,  33.9509,2,    308.3,2,   306.2,2,    6.30,2,   22.99,2,    0.23,2,    1.63,2,-999.000,9,-999.000,9,-999.000,9,  -999.0,9,  -999.0,9,   7.7312,2,    25.00,-999.0000,9, -999.00,9, -999.00,9,  -999.0,9,  -999.0, -999.00,9, -999.00,9,    0.46,2,    0.05,3,   4.5122, -999.00
096U20160426,       P15S,      25,          1,         34,       2034,2,20160515,       1504,   -55.0001,  -169.9911,       4812,    50.6,   4.5150,  33.9550,2,  33.9559,2,    308.1,2,   306.3,2,    6.30,2,   22.98,2,    0.22,2,    1.63,2,   4.207,3,   2.489,2,   2.916,2,  2133.4,6,  2272.0,6,   7.7289,2,    25.00,-999.0000,9, -999.00,9, -999.00,9,  -999.0,9,  -999.0,   18.50,6,    5.45,6, -999.00,9, -999.00,9,   4.5114, -999.00
096U20160426,       P15S,      25,          1,         33,       2033,2,20160515,       1504,   -55.0001,  -169.9911,       4812,    75.2,   4.5230,  33.9570,2,  33.9576,2,    307.0,2,   305.7,2,    6.32,2,   22.98,2,    0.23,2,    1.63,2,-999.000,9,-999.000,9,-999.000,9,  2132.4,2,  2273.8,2,   7.7287,2,    25.00,-999.0000,9, -999.00,9, -999.00,9,  -999.0,9,  -999.0, -999.00,9, -999.00,9,    0.53,2,    0.08,3,   4.5176, -999.00
096U20160426,       P15S,      25,          1,         32,       2032,2,20160515,       1504,   -55.0001,  -169.9911,       4812,   100.2,   4.5270,  33.9580,2,  33.9585,2,    306.9,2,   305.6,2,    6.32,2,   22.97,2,    0.22,2,    1.63,2,   4.225,3,   2.485,2,    2.87,2,  2133.4,2,  2273.0,2,   7.7283,2,    25.00,-999.0000,9, -999.00,9, -999.00,9,  -999.0,9,  -999.0, -999.00,9, -999.00,9,    0.06,2,    0.08,3,   4.5198, -999.00
096U20160426,       P15S,      25,          1,         31,       2031,2,20160515,       1504,   -55.0001,  -169.9911,       4812,   150.0,   4.4210,  33.9480,2,  33.9493,2,    307.3,2,   306.3,2,    6.39,2,   23.10,2,    0.23,2,    1.65,2,   4.261,3,   2.491,2,   2.881,2,  2134.4,2,  2272.6,2,   7.7265,2,    25.00,-999.0000,9, -999.00,9, -999.00,9,  -999.0,9,  -999.0, -999.00,9, -999.00,9, -999.00,9, -999.00,9,   4.4103, -999.00
096U20160426,       P15S,      25,          1,         30,       2030,2,20160515,       1504,   -55.0001,  -169.9911,       4812,   199.6,   4.2930,  34.0730,2,  34.0720,2,    288.9,2,   287.8,2,   12.19,2,   25.08,2,    0.01,4,    1.74,2,   4.097,3,   2.398,2,    2.58,2,  2150.9,2,  2274.3,2,   7.6915,2,    25.00,-999.0000,9, -999.00,9, -999.00,9,  -999.0,9,  -999.0, -999.00,9, -999.00,9,    0.31,2,    0.05,3,   4.2788, -999.00
096U20160426,       P15S,      25,          1,         29,       2029,2,20160515,       1504,   -55.0001,  -169.9911,       4812,   249.5,   3.9920,  34.0620,2,  34.0645,2,    287.5,2,   285.9,2,   13.61,2,   25.86,2,    0.01,4,    1.79,2,   4.151,3,   2.409,2,   2.552,2,  2154.2,2,  2274.9,2,   7.6819,2,    25.00,-999.0000,9, -999.00,9, -999.00,9,  -999.0,9,  -999.0, -999.00,9, -999.00,9, -999.00,9, -999.00,9,   3.9748, -999.00
096U20160426,       P15S,      25,          1,         28,       2028,2,20160515,       1504,   -55.0001,  -169.9911,       4812,   301.0,   3.8210,  34.0790,2,  34.0798,2,    278.8,2,   277.7,2,   16.13,2,   26.80,2,    0.01,4,    1.85,2,   4.065,3,   2.328,2,   2.316,2,  2163.2,2,  2278.9,2,   7.6678,2,    25.00,-999.0000,9, -999.00,9, -999.00,9,  -999.0,9,  -999.0, -999.00,9, -999.00,9, -999.00,9, -999.00,9,   3.8005, -999.00
096U20160426,       P15S,      25,          1,         27,       2027,2,20160515,       1504,   -55.0001,  -169.9911,       4812,   351.8,   3.5120,  34.0730,2,  34.0787,2,    279.3,2,   277.5,2,   17.79,2,   27.40,2,    0.01,4,    1.90,2,-999.000,9,-999.000,9,-999.000,9,  -999.0,9,  -999.0,9,   7.6612,6,    25.00,-999.0000,9, -999.00,9, -999.00,9,  -999.0,9,  -999.0, -999.00,9, -999.00,9, -999.00,9, -999.00,9,   3.4887, -999.00
096U20160426,       P15S,      25,          1,         26,       2026,2,20160515,       1504,   -55.0001,  -169.9911,       4812,   400.3,   3.5900,  34.1230,2,  34.1252,2,    262.4,2,   261.0,2,   21.38,2,   28.45,2,    0.00,4,    1.96,2,   3.815,3,   2.141,2,   1.934,2,  2174.5,2,  2283.2,2,   7.6443,2,    25.00,-999.0000,9, -999.00,9, -999.00,9,  -999.0,9,  -999.0, -999.00,9, -999.00,9, -999.00,9, -999.00,9,   3.5631, -999.00
096U20160426,       P15S,      25,          1,         25,       2025,2,20160515,       1504,   -55.0001,  -169.9911,       4812,   502.3,   3.2720,  34.1560,2,  34.1608,2,    249.8,2,   246.8,2,   27.07,2,   29.89,2,    0.00,4,    2.06,2,   3.514,3,   1.950,2,   1.637,2,  2186.5,2,  2288.1,2,   7.5484,4,    25.00,-999.0000,9, -999.00,9, -999.00,9,  -999.0,9,  -999.0, -999.00,9, -999.00,9, -999.00,9, -999.00,9,   3.2391, -999.00
096U20160426,       P15S,      25,          1,         24,       2024,2,20160515,       1504,   -55.0001,  -169.9911,       4812,   601.6,   3.3510,  34.2500,2,  34.2515,2,    222.6,2,   220.7,2,   35.81,2,   31.64,2,    0.00,4,    2.19,2,   2.824,3,   1.523,2,   1.099,2,  2202.8,2,  2294.8,6,   7.5970,2,    25.00,-999.0000,9, -999.00,9, -999.00,9,  -999.0,9,  -999.0, -999.00,9, -999.00,9, -999.00,9, -999.00,9,   3.3106, -999.00
096U20160426,       P15S,      25,          1,         23,       2023,2,20160515,       1504,   -55.0001,  -169.9911,       4812,   701.3,   3.1600,  34.3210,2,  34.3225,2,    203.7,3,   201.8,2,   45.47,2,   33.13,2,    0.00,4,    2.29,2,   2.217,3,   1.160,2,   0.751,2,  2220.9,2,  2302.9,2,   7.5746,2,    25.00,-999.0000,9, -999.00,9, -999.00,9,  -999.0,9,  -999.0, -999.00,9, -999.00,9, -999.00,9, -999.00,9,   3.1134, -999.00
096U20160426,       P15S,      25,          1,         22,       2022,2,20160515,       1504,   -55.0001,  -169.9911,       4812,   799.3,   2.9460,  34.3910,2,  34.3915,2,    191.4,2,   189.2,2,   54.21,2,   33.90,2,    0.00,4,    2.35,2,   1.667,3,   0.862,2,   0.511,2,  2233.2,2,  2313.2,2,   7.5611,2,    25.00,-999.0000,9, -999.00,9, -999.00,9,  -999.0,9,  -999.0, -999.00,9, -999.00,9, -999.00,9, -999.00,9,   2.8935, -999.00
096U20160426,       P15S,      25,          1,         21,       2021,2,20160515,       1504,   -55.0001,  -169.9911,       4812,   898.8,   2.8110,  34.4370,2,  34.4410,2,    184.9,2,   182.3,2,   59.95,2,   34.17,2,    0.00,4,    2.38,2,   1.337,3,   0.678,2,   0.404,2,  2240.2,2,  2320.0,2,   7.5563,2,    25.00,-999.0000,9, -999.00,9, -999.00,9,  -999.0,9,  -999.0, -999.00,9, -999.00,9, -999.00,9, -999.00,9,   2.7521, -999.00
096U20160426,       P15S,      25,          1,         20,       2020,2,20160515,       1504,   -55.0001,  -169.9911,       4812,   999.9,   2.6600,  34.4910,2,  34.4903,2,    178.9,2,   176.9,2,   65.30,2,   34.31,2,    0.01,4,    2.39,2,   1.051,3,   0.525,6,   0.305,6,  2245.2,2,  2326.2,2,   7.5511,2,    25.00,-999.0000,9, -999.00,9, -999.00,9,  -999.0,9,  -999.0, -999.00,9, -999.00,9, -999.00,9, -999.00,9,   2.5948, -999.00
096U20160426,       P15S,      25,          1,         19,       2019,2,20160515,       1504,   -55.0001,  -169.9911,       4812,  1100.5,   2.6050,  34.5260,2,  34.5319,2,    176.7,2,   174.4,2,   69.03,2,   34.16,2,    0.00,4,    2.38,2,-999.000,9,-999.000,9,-999.000,9,  -999.0,9,  -999.0,9,   7.5527,2,    25.00,-999.0000,9, -999.00,9, -999.00,9,  -999.0,9,  -999.0, -999.00,9, -999.00,9, -999.00,9, -999.00,9,   2.5327, -999.00
096U20160426,       P15S,      25,          1,         18,       2018,2,20160515,       1504,   -55.0001,  -169.9911,       4812,  1201.5,   2.5170,  34.5750,2,  34.5750,2,    175.4,2,   173.1,2,   72.32,2,   33.84,2,    0.00,4,    2.36,2,   0.633,3,   0.319,2,   0.181,2,  2253.0,6,  2330.9,6,   7.4644,4,    25.00,-999.0000,9, -999.00,9, -999.00,9,  -999.0,9,  -999.0, -999.00,9, -999.00,9, -999.00,9, -999.00,9,   2.4379, -999.00
096U20160426,       P15S,      25,          1,         17,       2017,2,20160515,       1504,   -55.0001,  -169.9911,       4812,  1300.9,   2.4470,  34.6100,2,  34.6113,2,    175.6,2,   173.5,2,   74.64,2,   33.48,2,    0.00,4,    2.33,2,-999.000,9,-999.000,9,-999.000,9,  -999.0,9,  -999.0,9,   7.5598,6,    25.00,-999.0000,9, -999.00,9, -999.00,9,  -999.0,9,  -999.0, -999.00,9, -999.00,9, -999.00,9, -999.00,9,   2.3610, -999.00
096U20160426,       P15S,      25,          1,         16,       2016,2,20160515,       1504,   -55.0001,  -169.9911,       4812,  1401.4,   2.3920,  34.6440,2,  34.6463,2,    177.4,2,   175.4,2,   76.90,2,   32.89,2,    0.00,4,    2.29,2,   0.377,3,   0.192,2,    0.11,2,  2254.5,2,  2337.3,2,   7.5690,2,    25.00,-999.0000,9, -999.00,9, -999.00,9,  -999.0,9,  -999.0, -999.00,9, -999.00,9, -999.00,9, -999.00,9,   2.2987, -999.00
096U20160426,       P15S,      25,          1,         15,       2015,2,20160515,       1504,   -55.0001,  -169.9911,       4812,  1598.9,   2.2710,  34.6870,2,  34.6876,2,    180.8,2,   179.4,2,   80.14,2,   32.15,2,    0.00,4,    2.24,2,   0.265,3,   0.136,2,   0.101,2,  2252.0,2,  2344.4,2,   7.5806,2,    25.00,-999.0000,9, -999.00,9, -999.00,9,  -999.0,9,  -999.0, -999.00,9, -999.00,9, -999.00,9, -999.00,9,   2.1635, -999.00
096U20160426,       P15S,      25,          1,         14,       2014,2,20160515,       1504,   -55.0001,  -169.9911,       4812,  1800.7,   2.1380,  34.7140,2,  34.7136,2,    184.6,3,   183.8,2,   83.74,2,   31.64,2,    0.00,4,    2.20,2,   0.194,3,   0.099,2,   0.049,2,  2252.5,2,  2351.0,2,   7.5903,2,    25.00,-999.0000,9, -999.00,9, -999.00,9,  -999.0,9,  -999.0, -999.00,9, -999.00,9, -999.00,9, -999.00,9,   2.0158, -999.00
096U20160426,       P15S,      25,          1,         13,       2013,2,20160515,       1504,   -55.0001,  -169.9911,       4812,  2001.0,   1.9980,  34.7290,2,  34.7295,2,    188.6,2,   188.0,2,   87.50,2,   31.21,2,    0.00,4,    2.18,2,   0.154,3,   0.079,6,    0.07,6,  2251.1,2,  2350.1,6,-999.0000,9,  -999.00,-999.0000,9, -999.00,9, -999.00,9,  -999.0,9,  -999.0, -999.00,9, -999.00,9, -999.00,9, -999.00,9,   1.8612, -999.00
096U20160426,       P15S,      25,          1,         12,       2012,2,20160515,       1504,   -55.0001,  -169.9911,       4812,  2250.1,   1.8030,  34.7380,2,  34.7388,2,    192.9,2,   192.8,2,   92.79,2,   31.04,2,    0.00,4,    2.17,2,-999.000,9,-999.000,9,-999.000,9,  -999.0,9,  -999.0,9,-999.0000,9,  -999.00,-999.0000,9, -999.00,9, -999.00,9,  -999.0,9,  -999.0, -999.00,9, -999.00,9, -999.00,9, -999.00,9,   1.6480, -999.00
096U20160426,       P15S,      25,          1,         11,       2011,2,20160515,       1504,   -55.0001,  -169.9911,       4812,  2500.5,   1.6170,  34.7370,2,  34.7365,2,    195.8,3,   195.8,2,   98.18,2,   30.88,2,    0.00,4,    2.17,2,   0.125,3,   0.063,2,       0,2,  2256.7,2,  2353.6,2,-999.0000,9,  -999.00,-999.0000,9, -999.00,9, -999.00,9,  -999.0,9,  -999.0, -999.00,9, -999.00,9, -999.00,9, -999.00,9,   1.4434, -999.00
096U20160426,       P15S,      25,          1,         10,       2010,2,20160515,       1504,   -55.0001,  -169.9911,       4812,  2750.5,   1.4320,  34.7310,2,  34.7313,2,    198.4,2,   198.6,2,  103.74,2,   31.28,2,    0.00,4,    2.19,2,-999.000,9,-999.000,9,-999.000,9,  -999.0,9,  -999.0,9,-999.0000,9,  -999.00,-999.0000,9, -999.00,9, -999.00,9,  -999.0,9,  -999.0, -999.00,9, -999.00,9, -999.00,9, -999.00,9,   1.2396, -999.00
096U20160426,       P15S,      25,          1,          9,       2009,2,20160515,       1504,   -55.0001,  -169.9911,       4812,  2999.0,   1.2610,  34.7250,2,  34.7248,2,    200.8,2,   201.1,2,  109.00,2,   31.52,2,    0.00,4,    2.21,2,   0.137,3,   0.068,2,       0,2,  2260.6,2,  2359.6,2,-999.0000,9,  -999.00,-999.0000,9, -999.00,9, -999.00,9,  -999.0,9,  -999.0, -999.00,9, -999.00,9, -999.00,9, -999.00,9,   1.0493, -999.00
096U20160426,       P15S,      25,          1,          8,       2008,2,20160515,       1504,   -55.0001,  -169.9911,       4812,  3300.0,   1.1260,  34.7190,2,  34.7185,2,    203.1,2,   203.4,2,  113.21,2,   31.72,2,    0.00,4,    2.22,2,   0.162,3,   0.080,2,   0.047,2,  2258.6,2,  2361.1,2,-999.0000,9,  -999.00,-999.0000,9, -999.00,9, -999.00,9,  -999.0,9,  -999.0, -999.00,9, -999.00,9, -999.00,9, -999.00,9,   0.8887, -999.00
096U20160426,       P15S,      25,          1,          7,       2007,2,20160515,       1504,   -55.0001,  -169.9911,       4812,  3599.0,   1.0100,  34.7130,2,  34.7136,2,    205.5,2,   205.7,2,  117.33,2,   31.88,2,    0.00,4,    2.23,2,   0.193,3,   0.097,2,   0.034,2,  2261.4,2,  2363.1,2,-999.0000,9,  -999.00,-999.0000,9, -999.00,9, -999.00,9,  -999.0,9,  -999.0, -999.00,9, -999.00,9, -999.00,9, -999.00,9,   0.7461, -999.00
096U20160426,       P15S,      25,          1,          6,       2006,2,20160515,       1504,   -55.0001,  -169.9911,       4812,  3900.3,   0.9380,  34.7090,2,  34.7090,2,    207.4,2,   207.1,2,  119.90,2,   32.05,2,    0.00,4,    2.24,2,   0.220,3,   0.111,2,   0.082,2,  2262.5,2,  2362.4,2,-999.0000,9,  -999.00,-999.0000,9, -999.00,9, -999.00,9,  -999.0,9,  -999.0, -999.00,9, -999.00,9, -999.00,9, -999.00,9,   0.6452, -999.00
096U20160426,       P15S,      25,          1,          5,       2005,2,20160515,       1504,   -55.0001,  -169.9911,       4812,  4201.2,   0.9120,  34.7060,2,  34.7065,2,    208.3,2,   207.8,2,  122.19,2,   32.17,2,    0.00,4,    2.25,2,   0.236,3,   0.119,2,   0.099,2,  2262.1,2,  2361.3,2,-999.0000,9,  -999.00,-999.0000,9, -999.00,9, -999.00,9,  -999.0,9,  -999.0, -999.00,9, -999.00,9, -999.00,9, -999.00,9,   0.5880, -999.00
096U20160426,       P15S,      25,          1,          4,       2004,2,20160515,       1504,   -55.0001,  -169.9911,       4812,  4500.9,   0.9240,  34.7050,2,  34.7048,2,    209.0,2,   208.1,2,  122.95,2,   32.17,2,    0.00,4,    2.25,2,-999.000,9,-999.000,9,-999.000,9,  2264.4,2,  2361.4,2,-999.0000,9,  -999.00,-999.0000,9, -999.00,9, -999.00,9,  -999.0,9,  -999.0, -999.00,9, -999.00,9, -999.00,9, -999.00,9,   0.5667, -999.00
096U20160426,       P15S,      25,          1,          3,       2003,2,20160515,       1504,   -55.0001,  -169.9911,       4812,  4649.6,   0.9370,  34.7040,2,  34.7047,2,    209.1,2,   208.1,2,  123.18,2,   32.18,2,    0.00,4,    2.25,2,   0.259,3,   0.131,2,   0.062,2,  2264.6,2,  2362.5,2,-999.0000,9,  -999.00,-999.0000,9, -999.00,9, -999.00,9,  -999.0,9,  -999.0, -999.00,9, -999.00,9, -999.00,9, -999.00,9,   0.5624, -999.00
096U20160426,       P15S,      25,          1,          2,       2002,2,20160515,       1504,   -55.0001,  -169.9911,       4812,  4821.8,   0.9530,  34.7040,2,  34.7054,2,    209.6,2,   208.3,2,  123.31,2,   32.16,2,    0.00,4,    2.25,2,   0.263,3,   0.132,2,    0.08,2,  2263.2,6,  2364.0,6,-999.0000,9,  -999.00,-999.0000,9, -999.00,9, -999.00,9,  -999.0,9,  -999.0, -999.00,9, -999.00,9, -999.00,9, -999.00,9,   0.5581, -999.00
096U20160426,       P15S,      25,          1,          1,       2001,2,20160515,       1504,   -55.0001,  -169.9911,       4812,  4917.2,   0.9600,  34.7030,2,  34.7049,2,    209.5,2,   208.5,2,  123.38,2,   32.19,2,    0.00,4,    2.25,2,   0.276,3,   0.138,2,   0.058,2,  2263.0,2,  2363.4,2,-999.0000,9,  -999.00,-999.0000,9, -999.00,9, -999.00,9,  -999.0,9,  -999.0, -999.00,9, -999.00,9, -999.00,9, -999.00,9,   0.5537, -999.00