BOTTLE,20230413CCHSIOENA
EXPOCODE,SECT_ID,STNNBR,CASTNO,SAMPNO,BTLNBR,BTLNBR_FLAG_W,DATE,TIME,LATITUDE,LONGITUDE,DEPTH,CTDPRS,CTDTMP,CTDSAL,CTDSAL_FLAG_W,SALNTY,SALNTY_FLAG_W,CTDOXY,CTDOXY_FLAG_W,OXYGEN,OXYGEN_FLAG_W,SILCAT,SILCAT_FLAG_W,NITRAT,NITRAT_FLAG_W,NITRIT,NITRIT_FLAG_W,PHSPHT,PHSPHT_FLAG_W,CFC-11,CFC-11_FLAG_W,CFC-12,CFC-12_FLAG_W,SF6,SF6_FLAG_W,TCARBN,TCARBN_FLAG_W,ALKALI,ALKALI_FLAG_W,PH_TOT,PH_TOT_FLAG_W,PH_TMP,HELIUM,HELIUM_FLAG_W,DELHE3,DELHE3_FLAG_W,DELC13,DELC13_FLAG_W,DELC14,DELC14_FLAG_W,C14ERR,POC,POC_FLAG_W,PON,PON_FLAG_W,CHLORA,CHLORA_FLAG_W,PPHYTN,PPHYTN_FLAG_W,THETA,DELHER
,,,,,,,,,,,METERS,DBAR,ITS-90,PSS-78,,PSS-78,,UMOL/KG,,UMOL/KG,,UMOL/KG,,UMOL/KG,,UMOL/KG,,UMOL/KG,,PMOL/KG,,PMOL/KG,,FMOL/KG,,UMOL/KG,,UMOL/KG,,,,DEG C,NMOL/KG,,PERCNT,,/MILLE,,/MILLE,,/MILLE,UG/KG,,UG/KG,,UG/KG,,UG/KG,,DEG C,PERCNT
096U20160426,       P15S,       6,          1,         36,       2036,2,20160506,       0729,   -63.9930,  -170.0604,       2801,     5.9,   0.1060,  34.0910,2,  34.0909,2,    326.1,2,   327.2,2,   51.23,2,   28.92,2,    0.27,2,    2.05,2,-999.000,9,-999.000,9,-999.000,9,  -999.0,9,  -999.0,9,-999.0000,9,  -999.00,-999.0000,9, -999.00,9, -999.00,9,  -999.0,9,  -999.0, -999.00,9, -999.00,9,    0.54,2,   -0.08,3,   0.1058, -999.00
096U20160426,       P15S,       6,          1,         35,       2035,2,20160506,       0729,   -63.9930,  -170.0604,       2801,     6.9,   0.1070,  34.0910,2,  34.0943,2,    326.3,2,   326.9,2,   51.26,2,   29.08,2,    0.27,2,    2.05,2,   5.502,2,   2.912,2,   3.133,2,  2190.8,6,  2302.7,6,   7.6447,2,    25.00,-999.0000,9, -999.00,9,    0.99,2,  -121.4,2,     2.0,   15.48,6,    4.77,6, -999.00,9, -999.00,9,   0.1068, -999.00
096U20160426,       P15S,       6,          1,         34,       2034,2,20160506,       0729,   -63.9930,  -170.0604,       2801,    25.6,   0.1150,  34.0910,2,  34.0906,2,    325.9,2,   327.1,2,   51.27,2,   29.11,2,    0.27,2,    2.05,2,-999.000,9,-999.000,9,-999.000,9,  -999.0,9,  -999.0,9,   7.6438,2,    25.00,-999.0000,9, -999.00,9, -999.00,9,  -999.0,9,  -999.0, -999.00,9, -999.00,9,    0.45,2,   -0.02,3,   0.1141, -999.00
096U20160426,       P15S,       6,          1,         33,       2033,2,20160506,       0729,   -63.9930,  -170.0604,       2801,    49.4,   0.1180,  34.0910,2,  34.0916,2,    325.7,2,   326.6,2,   51.30,2,   29.17,2,    0.27,2,    2.05,2,   5.349,2,   2.908,2,   3.235,2,  2188.8,2,  2303.4,2,   7.6462,2,    25.00,   1.7800,2,   -1.66,2,    1.00,2,  -119.3,2,     2.0, -999.00,9, -999.00,9,    0.40,2,    0.02,3,   0.1162,    0.61
096U20160426,       P15S,       6,          1,         32,       2032,2,20160506,       0729,   -63.9930,  -170.0604,       2801,    75.0,   0.1250,  34.0920,2,  34.0920,2,    325.1,2,   326.4,2,   51.38,2,   29.07,2,    0.27,2,    2.05,2,-999.000,9,-999.000,9,-999.000,9,  -999.0,9,  -999.0,9,   7.6458,2,    25.00,-999.0000,9, -999.00,9, -999.00,9,  -999.0,9,  -999.0, -999.00,9, -999.00,9,    0.41,2,    0.02,3,   0.1223, -999.00
096U20160426,       P15S,       6,          1,         30,       2030,2,20160506,       0729,   -63.9930,  -170.0604,       2801,    98.1,   0.2710,  34.1420,2,  34.1553,2,    310.4,2,   304.1,2,   55.03,2,   30.41,2,    0.20,2,    2.14,2,-999.000,9,-999.000,9,-999.000,9,  -999.0,9,  -999.0,9,   7.6344,2,    25.00,-999.0000,9, -999.00,9, -999.00,9,  -999.0,9,  -999.0, -999.00,9, -999.00,9, -999.00,9, -999.00,9,   0.2673, -999.00
096U20160426,       P15S,       6,          1,         31,       2031,2,20160506,       0729,   -63.9930,  -170.0604,       2801,    99.6,   0.0870,  34.0780,2,  34.1203,3,    322.8,2,   317.0,2,   52.93,2,   29.64,2,    0.24,2,    2.09,2,   5.244,2,   2.783,2,   3.006,2,  2194.8,2,  2305.3,2,   7.6219,2,    25.00,-999.0000,9, -999.00,9,    0.94,2,  -121.1,2,     2.0,   14.60,2,    4.09,2,    0.33,2,   -0.01,3,   0.0834, -999.00
096U20160426,       P15S,       6,          1,         29,       2029,2,20160506,       0729,   -63.9930,  -170.0604,       2801,   149.7,   1.2990,  34.4200,2,  34.4222,2,    220.9,2,   219.1,2,   68.16,2,   34.33,2,    0.02,4,    2.39,2,   2.415,2,   1.290,2,   1.286,2,  2241.0,2,  2319.8,2,   7.5449,2,    25.00,-999.0000,9, -999.00,9,    0.56,2,  -130.3,2,     2.0, -999.00,9, -999.00,9, -999.00,9, -999.00,9,   1.2920, -999.00
096U20160426,       P15S,       6,          1,         28,       2028,2,20160506,       0729,   -63.9930,  -170.0604,       2801,   175.8,   1.4620,  34.4680,2,  34.4779,2,    204.4,2,   202.6,2,   71.65,2,   34.34,2,    0.02,4,    2.39,2,   1.844,2,   0.982,2,   0.948,2,  2246.3,2,  2325.7,2,   7.5454,2,    25.00,-999.0000,9, -999.00,9,    0.49,2,  -137.2,2,     2.0, -999.00,9, -999.00,9, -999.00,9, -999.00,9,   1.4534, -999.00
096U20160426,       P15S,       6,          1,         27,       2027,2,20160506,       0729,   -63.9930,  -170.0604,       2801,   199.1,   2.0580,  34.5590,2,  34.5598,2,    180.8,2,   179.4,2,   74.60,2,   34.28,2,    0.02,4,    2.38,2,   1.003,2,   0.527,2,   0.432,2,  2253.5,2,  2331.7,2,   7.5452,2,    25.00,-999.0000,9, -999.00,9,    0.47,2,  -146.5,2,     2.0, -999.00,9, -999.00,9, -999.00,9, -999.00,9,   2.0473, -999.00
096U20160426,       P15S,       6,          1,         25,       2025,2,20160506,       0729,   -63.9930,  -170.0604,       2801,   249.7,   2.1410,  34.6020,2,  34.6011,2,    177.2,2,   175.8,2,   76.54,2,   33.89,2,    0.01,4,    2.36,2,-999.000,9,-999.000,9,-999.000,9,  -999.0,9,  -999.0,9,   7.5484,2,    25.00,-999.0000,9, -999.00,9, -999.00,9,  -999.0,9,  -999.0, -999.00,9, -999.00,9, -999.00,9, -999.00,9,   2.1272, -999.00
096U20160426,       P15S,       6,          1,         26,       2026,2,20160506,       0729,   -63.9930,  -170.0604,       2801,   250.9,   2.1510,  34.5990,2,  34.5981,2,    177.3,2,   176.2,2,   76.32,2,   33.92,2,    0.01,4,    2.36,2,   0.738,2,   0.390,2,    0.29,2,  2253.4,2,  2332.2,2,-999.0000,9,  -999.00,   1.8570,2,    8.43,2, -999.00,9,  -999.0,9,  -999.0, -999.00,9, -999.00,9, -999.00,9, -999.00,9,   2.1371,    0.62
096U20160426,       P15S,       6,          1,         24,       2024,2,20160506,       0729,   -63.9930,  -170.0604,       2801,   298.2,   2.1100,  34.6380,2,  34.6370,2,    177.1,2,   175.7,2,   79.04,2,   33.45,2,    0.01,4,    2.32,2,   0.589,2,   0.309,2,   0.221,2,  2255.2,2,  2337.5,6,   7.5547,2,    25.00,-999.0000,9, -999.00,9,    0.44,2,  -149.0,2,     2.0, -999.00,9, -999.00,9, -999.00,9, -999.00,9,   2.0935, -999.00
096U20160426,       P15S,       6,          1,         23,       2023,2,20160506,       0729,   -63.9930,  -170.0604,       2801,   351.8,   2.0920,  34.6640,2,  34.6636,2,    177.9,2,   176.7,2,   80.55,2,   32.97,2,    0.01,4,    2.29,2,   0.463,3,   0.250,2,    0.15,2,  2255.4,2,  2338.5,2,   7.5603,2,    25.00,-999.0000,9, -999.00,9,    0.46,2,  -148.1,2,     2.0, -999.00,9, -999.00,9, -999.00,9, -999.00,9,   2.0724, -999.00
096U20160426,       P15S,       6,          1,         22,       2022,2,20160506,       0729,   -63.9930,  -170.0604,       2801,   400.5,   2.0630,  34.6790,2,  34.6796,2,    178.9,2,   178.0,2,   81.96,2,   32.73,2,    0.01,4,    2.27,2,   0.418,3,   0.224,2,   0.169,2,  2254.3,2,  2341.7,2,   7.5631,2,    25.00,-999.0000,9, -999.00,9,    0.46,2,  -146.6,2,     2.0, -999.00,9, -999.00,9, -999.00,9, -999.00,9,   2.0406, -999.00
096U20160426,       P15S,       6,          1,         21,       2021,2,20160506,       0729,   -63.9930,  -170.0604,       2801,   449.8,   2.0700,  34.6990,2,  34.6988,2,    181.4,2,   180.4,2,   82.65,2,   32.19,2,    0.01,4,    2.23,2,   0.289,3,   0.164,2,   0.059,2,  2252.5,2,  2343.4,2,   7.5728,2,    25.00,-999.0000,9, -999.00,9,    0.48,2,  -152.4,2,     2.0, -999.00,9, -999.00,9, -999.00,9, -999.00,9,   2.0446, -999.00
096U20160426,       P15S,       6,          1,         20,       2020,2,20160506,       0729,   -63.9930,  -170.0604,       2801,   500.2,   2.0330,  34.7080,2,  34.7089,2,    183.1,2,   182.3,2,   83.60,2,   31.94,2,    0.01,4,    2.22,2,   0.271,3,   0.154,2,   0.114,2,  2251.3,2,  2343.2,2,   7.5803,2,    25.00,   1.8537,2,    9.88,2,    0.50,2,  -157.2,2,     2.0, -999.00,9, -999.00,9, -999.00,9, -999.00,9,   2.0047,    0.83
096U20160426,       P15S,       6,          1,         19,       2019,2,20160506,       0729,   -63.9930,  -170.0604,       2801,   599.4,   1.9380,  34.7250,2,  34.7243,2,    186.7,2,   186.0,2,   86.02,2,   31.44,2,    0.01,4,    2.19,2,   0.228,3,   0.127,2,   0.112,2,  2252.7,2,  2347.2,2,   7.5884,2,    25.00,-999.0000,9, -999.00,9,    0.49,2,  -153.7,2,     2.0, -999.00,9, -999.00,9, -999.00,9, -999.00,9,   1.9041, -999.00
096U20160426,       P15S,       6,          1,         18,       2018,2,20160506,       0729,   -63.9930,  -170.0604,       2801,   701.9,   1.8470,  34.7310,2,  34.7310,2,    189.0,2,   188.4,2,   88.14,2,   31.34,2,    0.01,4,    2.18,2,   0.216,3,   0.122,2,   0.105,2,  2251.3,2,  2348.0,6,   7.5958,2,    25.00,-999.0000,9, -999.00,9,    0.53,2,  -154.0,2,     2.0, -999.00,9, -999.00,9, -999.00,9, -999.00,9,   1.8072, -999.00
096U20160426,       P15S,       6,          1,         17,       2017,2,20160506,       0729,   -63.9930,  -170.0604,       2801,   801.4,   1.7300,  34.7370,2,  34.7358,2,    192.0,2,   191.4,2,   91.15,2,   31.12,2,    0.01,4,    2.17,2,   0.195,3,   0.108,2,   0.062,2,  2251.9,2,  2350.1,2,   7.5979,6,    25.00,-999.0000,9, -999.00,9,    0.55,2,  -152.4,2,     2.0, -999.00,9, -999.00,9, -999.00,9, -999.00,9,   1.6846, -999.00
096U20160426,       P15S,       6,          1,         16,       2016,2,20160506,       0729,   -63.9930,  -170.0604,       2801,   902.1,   1.6500,  34.7390,2,  34.7390,2,    194.0,2,   193.7,2,   93.66,2,   31.12,2,    0.01,4,    2.16,2,   0.171,3,   0.097,2,   0.065,2,  2252.5,6,  2352.3,6,   7.5998,2,    25.00,-999.0000,9, -999.00,9,    0.57,2,  -154.8,2,     2.0, -999.00,9, -999.00,9, -999.00,9, -999.00,9,   1.5987, -999.00
096U20160426,       P15S,       6,          1,         15,       2015,2,20160506,       0729,   -63.9930,  -170.0604,       2801,  1001.8,   1.5970,  34.7380,2,  34.7379,2,    194.6,2,   194.4,2,   95.05,2,   31.14,2,    0.01,4,    2.16,2,   0.172,3,   0.099,2,   0.068,2,  2252.6,2,  2352.4,2,   7.5972,2,    25.00,   1.9030,2,    9.65,2,    0.50,2,  -158.2,2,     2.0, -999.00,9, -999.00,9, -999.00,9, -999.00,9,   1.5396,    1.28
096U20160426,       P15S,       6,          1,         14,       2014,2,20160506,       0729,   -63.9930,  -170.0604,       2801,  1098.0,   1.5030,  34.7370,2,  34.7364,2,    196.1,2,   196.4,2,   97.75,2,   31.23,2,    0.01,4,    2.17,2,   0.161,3,   0.094,2,       0,2,  2255.5,2,  2353.6,2,   7.6052,3,    25.00,-999.0000,9, -999.00,9,    0.48,2,  -161.6,2,     2.0, -999.00,9, -999.00,9, -999.00,9, -999.00,9,   1.4401, -999.00
096U20160426,       P15S,       6,          1,         13,       2013,2,20160506,       0729,   -63.9930,  -170.0604,       2801,  1200.4,   1.4290,  34.7340,2,  34.7337,2,    197.1,2,   197.2,2,   99.54,2,   31.28,2,    0.01,4,    2.18,2,   0.194,3,   0.104,2,   0.075,2,  2254.7,2,  2353.4,2,   7.6039,2,    25.00,-999.0000,9, -999.00,9,    0.47,2,  -163.1,2,     2.0, -999.00,9, -999.00,9, -999.00,9, -999.00,9,   1.3599, -999.00
096U20160426,       P15S,       6,          1,         12,       2012,2,20160506,       0729,   -63.9930,  -170.0604,       2801,  1301.4,   1.3370,  34.7310,2,  34.7310,2,    197.9,2,   202.4,4,  101.83,2,   31.44,2,    0.01,4,    2.19,2,   0.205,3,   0.112,6,   0.074,6,  2253.6,2,  2354.9,2,   7.5980,2,    25.00,   1.8780,2,    9.84,2,    0.47,2,  -157.8,2,     2.0, -999.00,9, -999.00,9, -999.00,9, -999.00,9,   1.2620,    1.28
096U20160426,       P15S,       6,          1,         11,       2011,2,20160506,       0729,   -63.9930,  -170.0604,       2801,  1401.0,   1.2480,  34.7280,2,  34.7275,2,    198.9,2,   199.1,2,  104.71,2,   31.54,2,    0.01,4,    2.20,2,   0.188,3,   0.106,2,    0.08,2,  2256.7,2,  2355.4,2,   7.5988,2,    25.00,-999.0000,9, -999.00,9,    0.48,2,  -161.1,2,     2.0, -999.00,9, -999.00,9, -999.00,9, -999.00,9,   1.1671, -999.00
096U20160426,       P15S,       6,          1,         10,       2010,2,20160506,       0729,   -63.9930,  -170.0604,       2801,  1498.6,   1.1950,  34.7270,2,  34.7255,2,    199.8,2,   199.9,2,  106.71,2,   31.62,2,    0.01,4,    2.20,2,   0.189,3,   0.101,2,   0.052,2,  2258.2,2,  2356.5,6,   7.5996,2,    25.00,-999.0000,9, -999.00,9,    0.46,2,  -165.9,3,     2.0, -999.00,9, -999.00,9, -999.00,9, -999.00,9,   1.1079, -999.00
096U20160426,       P15S,       6,          1,          9,       2009,2,20160506,       0729,   -63.9930,  -170.0604,       2801,  1598.1,   1.1070,  34.7230,2,  34.7225,2,    201.1,2,   201.4,2,  109.51,2,   31.78,2,    0.01,4,    2.21,2,   0.182,3,   0.101,2,   0.075,2,  2257.2,2,  2356.7,2,   7.6008,6,    25.00,-999.0000,9, -999.00,9,    0.47,2,  -158.2,2,     2.0, -999.00,9, -999.00,9, -999.00,9, -999.00,9,   1.0139, -999.00
096U20160426,       P15S,       6,          1,          8,       2008,2,20160506,       0729,   -63.9930,  -170.0604,       2801,  1698.6,   1.0500,  34.7210,2,  34.7206,2,    202.0,2,   202.2,2,  111.34,2,   31.78,2,    0.01,4,    2.22,2,   0.214,3,   0.101,2,    0.06,2,  2260.0,2,  2358.2,2,   7.6035,2,    25.00,-999.0000,9, -999.00,9,    0.48,2,  -157.6,2,     2.0, -999.00,9, -999.00,9, -999.00,9, -999.00,9,   0.9504, -999.00
096U20160426,       P15S,       6,          1,          7,       2007,2,20160506,       0729,   -63.9930,  -170.0604,       2801,  1801.9,   0.9680,  34.7170,2,  34.7166,2,    202.9,2,   203.6,2,  113.81,2,   31.92,2,    0.01,4,    2.23,2,   0.205,3,   0.110,2,   0.039,2,  2258.5,2,  2358.3,2,   7.5982,2,    25.00,   1.8760,2,   10.12,2,    0.44,2,  -164.5,2,     2.0, -999.00,9, -999.00,9, -999.00,9, -999.00,9,   0.8620,    0.60
096U20160426,       P15S,       6,          1,          6,       2006,2,20160506,       0729,   -63.9930,  -170.0604,       2801,  2000.8,   0.8870,  34.7140,2,  34.7123,2,    204.4,2,   204.7,2,  117.00,2,   32.04,2,    0.01,4,    2.24,2,   0.251,3,   0.120,2,   0.069,2,  2260.3,2,  2357.7,2,   7.5989,2,    25.00,-999.0000,9, -999.00,9,    0.48,2,  -164.3,2,     2.0, -999.00,9, -999.00,9, -999.00,9, -999.00,9,   0.7673, -999.00
096U20160426,       P15S,       6,          1,          5,       2005,2,20160506,       0729,   -63.9930,  -170.0604,       2801,  2199.2,   0.7860,  34.7090,2,  34.7084,2,    205.5,2,   206.2,2,  122.61,2,   32.21,2,    0.01,4,    2.25,2,   0.249,3,   0.134,2,   0.078,2,  2260.2,2,  2359.8,2,-999.0000,9,  -999.00,   1.8790,2,   11.50,2,    0.53,2,  -160.8,2,     2.0, -999.00,9, -999.00,9, -999.00,9, -999.00,9,   0.6526,    0.60
096U20160426,       P15S,       6,          1,          4,       2004,2,20160506,       0729,   -63.9930,  -170.0604,       2801,  2401.0,   0.7480,  34.7070,2,  34.7062,2,    205.9,2,   206.3,2,  127.17,2,   32.31,2,    0.01,4,    2.26,2,   0.265,3,   0.142,2,    0.08,2,  2261.4,6,  2359.8,6,-999.0000,9,  -999.00,-999.0000,9, -999.00,9,    0.52,2,  -169.1,3,     2.0, -999.00,9, -999.00,9, -999.00,9, -999.00,9,   0.5991, -999.00
096U20160426,       P15S,       6,          1,          3,       2003,2,20160506,       0729,   -63.9930,  -170.0604,       2801,  2601.6,   0.7550,  34.7060,2,  34.7060,2,    205.5,2,   206.6,2,  127.97,2,   32.37,2,    0.01,4,    2.26,2,   0.293,3,   0.146,2,   0.079,2,  2261.4,2,  2360.1,6,-999.0000,9,  -999.00,   1.8850,2,    9.90,2,    0.47,2,  -159.0,2,     2.0, -999.00,9, -999.00,9, -999.00,9, -999.00,9,   0.5893,    0.62
096U20160426,       P15S,       6,          1,          2,       2002,2,20160506,       0729,   -63.9930,  -170.0604,       2801,  2727.7,   0.7650,  34.7060,2,  34.7060,2,    205.4,2,   206.6,2,  127.95,2,   32.38,2,    0.01,4,    2.26,2,   0.275,3,   0.146,2,   0.084,2,  2261.3,2,  2360.2,2,-999.0000,9,  -999.00,   1.8788,2,   11.00,2,    0.50,2,  -165.7,2,     2.0, -999.00,9, -999.00,9, -999.00,9, -999.00,9,   0.5884,    3.25
096U20160426,       P15S,       6,          1,          1,       2001,2,20160506,       0729,   -63.9930,  -170.0604,       2801,  2829.0,   0.7740,  34.7070,2,  34.7068,2,    205.4,2,   207.1,2,  128.03,2,   32.40,2,    0.01,4,    2.26,2,   0.284,3,   0.144,6,    0.09,6,  2261.2,2,  2360.3,2,-999.0000,9,  -999.00,-999.0000,9, -999.00,9,    0.49,2,  -161.7,2,     2.0, -999.00,9, -999.00,9, -999.00,9, -999.00,9,   0.5883, -999.00