BOTTLE,20230413CCHSIOENA
EXPOCODE,SECT_ID,STNNBR,CASTNO,SAMPNO,BTLNBR,BTLNBR_FLAG_W,DATE,TIME,LATITUDE,LONGITUDE,DEPTH,CTDPRS,CTDTMP,CTDSAL,CTDSAL_FLAG_W,SALNTY,SALNTY_FLAG_W,CTDOXY,CTDOXY_FLAG_W,OXYGEN,OXYGEN_FLAG_W,SILCAT,SILCAT_FLAG_W,NITRAT,NITRAT_FLAG_W,NITRIT,NITRIT_FLAG_W,PHSPHT,PHSPHT_FLAG_W,CFC-11,CFC-11_FLAG_W,CFC-12,CFC-12_FLAG_W,SF6,SF6_FLAG_W,TCARBN,TCARBN_FLAG_W,ALKALI,ALKALI_FLAG_W,PH_TOT,PH_TOT_FLAG_W,PH_TMP,HELIUM,HELIUM_FLAG_W,DELHE3,DELHE3_FLAG_W,DELC13,DELC13_FLAG_W,DELC14,DELC14_FLAG_W,C14ERR,POC,POC_FLAG_W,PON,PON_FLAG_W,CHLORA,CHLORA_FLAG_W,PPHYTN,PPHYTN_FLAG_W,THETA,DELHER
,,,,,,,,,,,METERS,DBAR,ITS-90,PSS-78,,PSS-78,,UMOL/KG,,UMOL/KG,,UMOL/KG,,UMOL/KG,,UMOL/KG,,UMOL/KG,,PMOL/KG,,PMOL/KG,,FMOL/KG,,UMOL/KG,,UMOL/KG,,,,DEG C,NMOL/KG,,PERCNT,,/MILLE,,/MILLE,,/MILLE,UG/KG,,UG/KG,,UG/KG,,UG/KG,,DEG C,PERCNT
096U20160426,       P15S,      28,          1,         36,       2036,2,20160516,       1349,   -53.5020,  -169.9878,       5229,     9.2,   7.0330,  34.1840,2,  34.1847,2,    291.1,2,   290.1,2,    3.94,2,   18.03,2,    0.27,2,    1.31,2,-999.000,9,-999.000,9,-999.000,9,  2118.3,2,  2276.5,2,-999.0000,9,  -999.00,-999.0000,9, -999.00,9, -999.00,9,  -999.0,9,  -999.0, -999.00,9, -999.00,9,    0.57,2,    0.03,3,   7.0322, -999.00
096U20160426,       P15S,      28,          1,         35,       2035,2,20160516,       1349,   -53.5020,  -169.9878,       5229,    24.2,   7.0350,  34.1840,2,  34.1839,2,    291.1,2,   290.2,2,    3.94,2,   18.04,2,    0.27,2,    1.31,2,-999.000,9,-999.000,9,-999.000,9,  -999.0,9,  -999.0,9,-999.0000,9,  -999.00,-999.0000,9, -999.00,9, -999.00,9,  -999.0,9,  -999.0, -999.00,9, -999.00,9,    0.31,2,    0.19,3,   7.0328, -999.00
096U20160426,       P15S,      28,          1,         34,       2034,2,20160516,       1349,   -53.5020,  -169.9878,       5229,    48.7,   7.0360,  34.1840,2,  34.1847,2,    290.9,2,   290.1,2,    3.90,2,   18.04,2,    0.27,2,    1.31,2,-999.000,9,-999.000,9,-999.000,9,  -999.0,9,  -999.0,9,-999.0000,9,  -999.00,-999.0000,9, -999.00,9, -999.00,9,  -999.0,9,  -999.0, -999.00,9, -999.00,9, -999.00,9, -999.00,9,   7.0315, -999.00
096U20160426,       P15S,      28,          1,         33,       2033,2,20160516,       1349,   -53.5020,  -169.9878,       5229,    73.7,   7.0380,  34.1840,2,  34.1850,2,    290.7,2,   290.2,2,    3.91,2,   18.02,2,    0.27,2,    1.31,2,-999.000,9,-999.000,9,-999.000,9,  -999.0,9,  -999.0,9,-999.0000,9,  -999.00,-999.0000,9, -999.00,9, -999.00,9,  -999.0,9,  -999.0, -999.00,9, -999.00,9, -999.00,9, -999.00,9,   7.0312, -999.00
096U20160426,       P15S,      28,          1,         32,       2032,2,20160516,       1349,   -53.5020,  -169.9878,       5229,    99.6,   7.0410,  34.1850,2,  34.1845,2,    290.0,2,   290.2,2,    3.90,2,   18.02,2,    0.27,2,    1.31,2,-999.000,9,-999.000,9,-999.000,9,  -999.0,9,  -999.0,9,-999.0000,9,  -999.00,-999.0000,9, -999.00,9, -999.00,9,  -999.0,9,  -999.0, -999.00,9, -999.00,9,    0.45,2,    0.11,3,   7.0318, -999.00
096U20160426,       P15S,      28,          1,         31,       2031,2,20160516,       1349,   -53.5020,  -169.9878,       5229,   148.7,   7.0030,  34.2460,2,  34.2673,2,    280.7,2,   278.6,2,    5.14,2,   19.36,2,    0.09,2,    1.37,2,-999.000,9,-999.000,9,-999.000,9,  2130.0,2,  2280.4,2,-999.0000,9,  -999.00,-999.0000,9, -999.00,9, -999.00,9,  -999.0,9,  -999.0, -999.00,9, -999.00,9,    0.08,2,    0.07,3,   6.9893, -999.00
096U20160426,       P15S,      28,          1,         30,       2030,2,20160516,       1349,   -53.5020,  -169.9878,       5229,   200.1,   6.7320,  34.3090,2,  34.3097,2,    275.4,2,   274.7,2,    6.46,2,   20.14,2,    0.01,4,    1.41,2,-999.000,9,-999.000,9,-999.000,9,  -999.0,9,  -999.0,9,-999.0000,9,  -999.00,-999.0000,9, -999.00,9, -999.00,9,  -999.0,9,  -999.0, -999.00,9, -999.00,9,    0.05,2,    0.02,3,   6.7139, -999.00
096U20160426,       P15S,      28,          1,         29,       2029,2,20160516,       1349,   -53.5020,  -169.9878,       5229,   247.9,   6.3210,  34.2670,2,  34.2650,2,    275.8,2,   275.6,2,    7.28,2,   21.00,2,    0.01,4,    1.47,2,-999.000,9,-999.000,9,-999.000,9,  -999.0,9,  -999.0,9,-999.0000,9,  -999.00,-999.0000,9, -999.00,9, -999.00,9,  -999.0,9,  -999.0, -999.00,9, -999.00,9, -999.00,9, -999.00,9,   6.2993, -999.00
096U20160426,       P15S,      28,          1,         28,       2028,2,20160516,       1349,   -53.5020,  -169.9878,       5229,   300.6,   5.9730,  34.2340,2,  34.2326,2,    273.2,2,   273.0,2,    8.57,2,   22.14,2,    0.01,4,    1.54,2,-999.000,9,-999.000,9,-999.000,9,  -999.0,9,  -999.0,9,-999.0000,9,  -999.00,-999.0000,9, -999.00,9, -999.00,9,  -999.0,9,  -999.0, -999.00,9, -999.00,9, -999.00,9, -999.00,9,   5.9474, -999.00
096U20160426,       P15S,      28,          1,         27,       2027,2,20160516,       1349,   -53.5020,  -169.9878,       5229,   349.7,   5.7430,  34.2190,2,  34.2208,2,    269.6,2,   269.0,2,    9.75,2,   23.05,2,    0.01,4,    1.60,2,-999.000,9,-999.000,9,-999.000,9,  2148.4,2,  2279.6,2,-999.0000,9,  -999.00,-999.0000,9, -999.00,9, -999.00,9,  -999.0,9,  -999.0, -999.00,9, -999.00,9, -999.00,9, -999.00,9,   5.7137, -999.00
096U20160426,       P15S,      28,          1,         26,       2026,2,20160516,       1349,   -53.5020,  -169.9878,       5229,   400.9,   5.3350,  34.1910,2,  34.1920,2,    267.9,2,   267.9,2,   11.19,2,   24.06,2,    0.01,4,    1.66,2,-999.000,9,-999.000,9,-999.000,9,  -999.0,9,  -999.0,9,-999.0000,9,  -999.00,-999.0000,9, -999.00,9, -999.00,9,  -999.0,9,  -999.0, -999.00,9, -999.00,9, -999.00,9, -999.00,9,   5.3025, -999.00
096U20160426,       P15S,      28,          1,         25,       2025,2,20160516,       1349,   -53.5020,  -169.9878,       5229,   498.6,   5.0360,  34.2160,2,  34.2218,2,    245.8,2,   244.7,2,   16.43,2,   26.48,2,    0.00,4,    1.82,2,-999.000,9,-999.000,9,-999.000,9,  -999.0,9,  -999.0,9,-999.0000,9,  -999.00,-999.0000,9, -999.00,9, -999.00,9,  -999.0,9,  -999.0, -999.00,9, -999.00,9, -999.00,9, -999.00,9,   4.9964, -999.00
096U20160426,       P15S,      28,          1,         24,       2024,2,20160516,       1349,   -53.5020,  -169.9878,       5229,   600.3,   4.6850,  34.2550,2,  34.2555,2,    227.5,2,   226.6,2,   23.06,2,   28.78,2,    0.00,4,    1.98,2,-999.000,9,-999.000,9,-999.000,9,  -999.0,9,  -999.0,9,-999.0000,9,  -999.00,-999.0000,9, -999.00,9, -999.00,9,  -999.0,9,  -999.0, -999.00,9, -999.00,9, -999.00,9, -999.00,9,   4.6384, -999.00
096U20160426,       P15S,      28,          1,         23,       2023,2,20160516,       1349,   -53.5020,  -169.9878,       5229,   699.1,   4.3580,  34.2980,2,  34.2978,2,    213.4,2,   212.9,2,   29.72,2,   30.29,2,    0.00,4,    2.08,2,-999.000,9,-999.000,9,-999.000,9,  2192.9,2,  2294.3,6,-999.0000,9,  -999.00,-999.0000,9, -999.00,9, -999.00,9,  -999.0,9,  -999.0, -999.00,9, -999.00,9, -999.00,9, -999.00,9,   4.3050, -999.00
096U20160426,       P15S,      28,          1,         22,       2022,2,20160516,       1349,   -53.5020,  -169.9878,       5229,   800.4,   3.8690,  34.3230,2,  34.3230,2,    205.5,2,   204.8,2,   37.29,2,   31.61,2,    0.00,4,    2.18,2,-999.000,9,-999.000,9,-999.000,9,  -999.0,9,  -999.0,9,-999.0000,9,  -999.00,-999.0000,9, -999.00,9, -999.00,9,  -999.0,9,  -999.0, -999.00,9, -999.00,9, -999.00,9, -999.00,9,   3.8107, -999.00
096U20160426,       P15S,      28,          1,         21,       2021,2,20160516,       1349,   -53.5020,  -169.9878,       5229,   900.4,   3.4320,  34.3350,2,  34.3394,2,    200.7,2,   199.3,2,   43.89,2,   32.73,2,    0.00,4,    2.26,2,-999.000,9,-999.000,9,-999.000,9,  -999.0,9,  -999.0,9,-999.0000,9,  -999.00,-999.0000,9, -999.00,9, -999.00,9,  -999.0,9,  -999.0, -999.00,9, -999.00,9, -999.00,9, -999.00,9,   3.3688, -999.00
096U20160426,       P15S,      28,          1,         20,       2020,2,20160516,       1349,   -53.5020,  -169.9878,       5229,   999.9,   3.1820,  34.3910,2,  34.3904,2,    190.6,2,   189.8,2,   51.59,2,   33.47,2,    0.00,4,    2.32,2,-999.000,9,-999.000,9,-999.000,9,  -999.0,9,  -999.0,9,-999.0000,9,  -999.00,-999.0000,9, -999.00,9, -999.00,9,  -999.0,9,  -999.0, -999.00,9, -999.00,9, -999.00,9, -999.00,9,   3.1129, -999.00
096U20160426,       P15S,      28,          1,         19,       2019,2,20160516,       1349,   -53.5020,  -169.9878,       5229,  1100.2,   3.0060,  34.4390,2,  34.4387,2,    183.6,2,   182.7,2,   58.36,2,   33.87,2,    0.00,4,    2.35,2,-999.000,9,-999.000,9,-999.000,9,  -999.0,9,  -999.0,9,-999.0000,9,  -999.00,-999.0000,9, -999.00,9, -999.00,9,  -999.0,9,  -999.0, -999.00,9, -999.00,9, -999.00,9, -999.00,9,   2.9305, -999.00
096U20160426,       P15S,      28,          1,         18,       2018,2,20160516,       1349,   -53.5020,  -169.9878,       5229,  1199.1,   2.8230,  34.4760,2,  34.4780,2,    179.4,2,   178.3,2,   63.31,2,   34.11,2,    0.00,4,    2.37,2,-999.000,9,-999.000,9,-999.000,9,  2244.0,2,  2324.9,2,-999.0000,9,  -999.00,-999.0000,9, -999.00,9, -999.00,9,  -999.0,9,  -999.0, -999.00,9, -999.00,9, -999.00,9, -999.00,9,   2.7414, -999.00
096U20160426,       P15S,      28,          1,         17,       2017,2,20160516,       1349,   -53.5020,  -169.9878,       5229,  1299.8,   2.6880,  34.5200,2,  34.5199,2,    176.0,2,   174.9,2,   67.74,2,   34.13,2,    0.00,4,    2.37,2,-999.000,9,-999.000,9,-999.000,9,  -999.0,9,  -999.0,9,-999.0000,9,  -999.00,-999.0000,9, -999.00,9, -999.00,9,  -999.0,9,  -999.0, -999.00,9, -999.00,9, -999.00,9, -999.00,9,   2.5998, -999.00
096U20160426,       P15S,      28,          1,         16,       2016,2,20160516,       1349,   -53.5020,  -169.9878,       5229,  1385.4,   2.6090,  34.5540,2,  34.5537,2,    174.4,2,   173.0,2,   70.82,2,   33.99,2,    0.00,4,    2.36,2,-999.000,9,-999.000,9,-999.000,9,  -999.0,9,  -999.0,9,-999.0000,9,  -999.00,-999.0000,9, -999.00,9, -999.00,9,  -999.0,9,  -999.0, -999.00,9, -999.00,9, -999.00,9, -999.00,9,   2.5148, -999.00
096U20160426,       P15S,      28,          1,         15,       2015,2,20160516,       1349,   -53.5020,  -169.9878,       5229,  1600.2,   2.4500,  34.6240,2,  34.6236,2,    174.6,2,   173.3,2,   76.20,2,   33.31,2,    0.00,4,    2.32,2,-999.000,9,-999.000,9,-999.000,9,  -999.0,9,  -999.0,9,-999.0000,9,  -999.00,-999.0000,9, -999.00,9, -999.00,9,  -999.0,9,  -999.0, -999.00,9, -999.00,9, -999.00,9, -999.00,9,   2.3403, -999.00
096U20160426,       P15S,      28,          1,         14,       2014,2,20160516,       1349,   -53.5020,  -169.9878,       5229,  1799.5,   2.3290,  34.6690,2,  34.6687,2,    177.1,2,   176.4,2,   80.26,2,   32.65,2,    0.00,4,    2.27,2,-999.000,9,-999.000,9,-999.000,9,  2254.0,2,  2346.5,2,-999.0000,9,  -999.00,-999.0000,9, -999.00,9, -999.00,9,  -999.0,9,  -999.0, -999.00,9, -999.00,9, -999.00,9, -999.00,9,   2.2044, -999.00
096U20160426,       P15S,      28,          1,         13,       2013,2,20160516,       1349,   -53.5020,  -169.9878,       5229,  2000.6,   2.2190,  34.7010,2,  34.7006,2,    181.7,2,   181.2,2,   82.19,2,   31.99,2,    0.00,4,    2.22,2,-999.000,9,-999.000,9,-999.000,9,  -999.0,9,  -999.0,9,-999.0000,9,  -999.00,-999.0000,9, -999.00,9, -999.00,9,  -999.0,9,  -999.0, -999.00,9, -999.00,9, -999.00,9, -999.00,9,   2.0789, -999.00
096U20160426,       P15S,      28,          1,         12,       2012,2,20160516,       1349,   -53.5020,  -169.9878,       5229,  2251.5,   2.0560,  34.7260,2,  34.7256,2,    187.0,4,   187.0,2,   86.09,2,   31.36,2,    0.00,4,    2.18,2,-999.000,9,-999.000,9,-999.000,9,  -999.0,9,  -999.0,9,-999.0000,9,  -999.00,-999.0000,9, -999.00,9, -999.00,9,  -999.0,9,  -999.0, -999.00,9, -999.00,9, -999.00,9, -999.00,9,   1.8967, -999.00
096U20160426,       P15S,      28,          1,         11,       2011,2,20160516,       1349,   -53.5020,  -169.9878,       5229,  2500.5,   1.8810,  34.7360,2,  34.7368,2,    190.9,2,   191.5,2,   90.46,2,   31.09,2,    0.00,4,    2.16,2,-999.000,9,-999.000,9,-999.000,9,  -999.0,9,  -999.0,9,-999.0000,9,  -999.00,-999.0000,9, -999.00,9, -999.00,9,  -999.0,9,  -999.0, -999.00,9, -999.00,9, -999.00,9, -999.00,9,   1.7025, -999.00
096U20160426,       P15S,      28,          1,         10,       2010,2,20160516,       1349,   -53.5020,  -169.9878,       5229,  2747.9,   1.6830,  34.7370,2,  34.7360,2,    194.3,2,   195.1,2,   96.25,2,   31.18,2,    0.00,4,    2.17,2,-999.000,9,-999.000,9,-999.000,9,  -999.0,9,  -999.0,9,-999.0000,9,  -999.00,-999.0000,9, -999.00,9, -999.00,9,  -999.0,9,  -999.0, -999.00,9, -999.00,9, -999.00,9, -999.00,9,   1.4857, -999.00
096U20160426,       P15S,      28,          1,          9,       2009,2,20160516,       1349,   -53.5020,  -169.9878,       5229,  2999.7,   1.4950,  34.7320,2,  34.7319,2,    197.1,2,   198.0,2,  101.74,2,   31.32,2,    0.00,4,    2.18,2,-999.000,9,-999.000,9,-999.000,9,  2256.6,2,  2359.9,2,-999.0000,9,  -999.00,-999.0000,9, -999.00,9, -999.00,9,  -999.0,9,  -999.0, -999.00,9, -999.00,9, -999.00,9, -999.00,9,   1.2780, -999.00
096U20160426,       P15S,      28,          1,          8,       2008,2,20160516,       1349,   -53.5020,  -169.9878,       5229,  3298.6,   1.3140,  34.7260,2,  34.7247,2,    199.7,2,   200.8,2,  107.71,2,   31.61,2,    0.00,4,    2.20,2,-999.000,9,-999.000,9,-999.000,9,  -999.0,9,  -999.0,9,-999.0000,9,  -999.00,-999.0000,9, -999.00,9, -999.00,9,  -999.0,9,  -999.0, -999.00,9, -999.00,9, -999.00,9, -999.00,9,   1.0723, -999.00
096U20160426,       P15S,      28,          1,          7,       2007,2,20160516,       1349,   -53.5020,  -169.9878,       5229,  3599.5,   1.1620,  34.7190,2,  34.7182,2,    202.6,2,   203.6,2,  112.32,2,   31.78,2,    0.00,4,    2.21,2,-999.000,9,-999.000,9,-999.000,9,  -999.0,9,  -999.0,9,-999.0000,9,  -999.00,-999.0000,9, -999.00,9, -999.00,9,  -999.0,9,  -999.0, -999.00,9, -999.00,9, -999.00,9, -999.00,9,   0.8941, -999.00
096U20160426,       P15S,      28,          1,          6,       2006,2,20160516,       1349,   -53.5020,  -169.9878,       5229,  4001.2,   1.0370,  34.7120,2,  34.7122,2,    205.5,2,   206.1,2,  116.74,2,   31.94,2,    0.00,4,    2.23,2,-999.000,9,-999.000,9,-999.000,9,  -999.0,9,  -999.0,9,-999.0000,9,  -999.00,-999.0000,9, -999.00,9, -999.00,9,  -999.0,9,  -999.0, -999.00,9, -999.00,9, -999.00,9, -999.00,9,   0.7308, -999.00
096U20160426,       P15S,      28,          1,          5,       2005,2,20160516,       1349,   -53.5020,  -169.9878,       5229,  4399.9,   0.9580,  34.7060,2,  34.7060,2,    208.2,2,   207.8,2,  120.06,2,   32.11,2,    0.00,4,    2.24,2,-999.000,9,-999.000,9,-999.000,9,  -999.0,9,  -999.0,9,-999.0000,9,  -999.00,-999.0000,9, -999.00,9, -999.00,9,  -999.0,9,  -999.0, -999.00,9, -999.00,9, -999.00,9, -999.00,9,   0.6109, -999.00
096U20160426,       P15S,      28,          1,          4,       2004,2,20160516,       1349,   -53.5020,  -169.9878,       5229,  4800.4,   0.9540,  34.7040,2,  34.7044,2,    209.3,2,   208.7,2,  121.55,2,   32.20,2,    0.00,4,    2.25,2,-999.000,9,-999.000,9,-999.000,9,  2260.2,2,  2361.5,2,-999.0000,9,  -999.00,-999.0000,9, -999.00,9, -999.00,9,  -999.0,9,  -999.0, -999.00,9, -999.00,9, -999.00,9, -999.00,9,   0.5615, -999.00
096U20160426,       P15S,      28,          1,          3,       2003,2,20160516,       1349,   -53.5020,  -169.9878,       5229,  5000.8,   0.9620,  34.7030,2,  34.7029,2,    209.7,2,   208.8,2,  122.06,2,   32.19,2,    0.00,4,    2.25,2,-999.000,9,-999.000,9,-999.000,9,  -999.0,9,  -999.0,9,-999.0000,9,  -999.00,-999.0000,9, -999.00,9, -999.00,9,  -999.0,9,  -999.0, -999.00,9, -999.00,9, -999.00,9, -999.00,9,   0.5457, -999.00
096U20160426,       P15S,      28,          1,          2,       2002,2,20160516,       1349,   -53.5020,  -169.9878,       5229,  5220.1,   0.9740,  34.7020,2,  34.7022,2,    210.3,2,   209.1,2,  122.77,2,   32.22,2,    0.00,4,    2.25,2,-999.000,9,-999.000,9,-999.000,9,  2261.2,2,  2362.2,2,-999.0000,9,  -999.00,-999.0000,9, -999.00,9, -999.00,9,  -999.0,9,  -999.0, -999.00,9, -999.00,9, -999.00,9, -999.00,9,   0.5310, -999.00
096U20160426,       P15S,      28,          1,          1,       2001,2,20160516,       1349,   -53.5020,  -169.9878,       5229,  5323.9,   0.9850,  34.7020,2,  34.7030,2,    210.7,2,   209.1,2,  122.79,2,   32.23,2,    0.00,4,    2.25,2,-999.000,9,-999.000,9,-999.000,9,  2262.1,6,  2362.0,6,-999.0000,9,  -999.00,-999.0000,9, -999.00,9, -999.00,9,  -999.0,9,  -999.0, -999.00,9, -999.00,9, -999.00,9, -999.00,9,   0.5289, -999.00