BOTTLE,20230413CCHSIOENA
EXPOCODE,SECT_ID,STNNBR,CASTNO,SAMPNO,BTLNBR,BTLNBR_FLAG_W,DATE,TIME,LATITUDE,LONGITUDE,DEPTH,CTDPRS,CTDTMP,CTDSAL,CTDSAL_FLAG_W,SALNTY,SALNTY_FLAG_W,CTDOXY,CTDOXY_FLAG_W,OXYGEN,OXYGEN_FLAG_W,SILCAT,SILCAT_FLAG_W,NITRAT,NITRAT_FLAG_W,NITRIT,NITRIT_FLAG_W,PHSPHT,PHSPHT_FLAG_W,CFC-11,CFC-11_FLAG_W,CFC-12,CFC-12_FLAG_W,SF6,SF6_FLAG_W,TCARBN,TCARBN_FLAG_W,ALKALI,ALKALI_FLAG_W,PH_TOT,PH_TOT_FLAG_W,PH_TMP,HELIUM,HELIUM_FLAG_W,DELHE3,DELHE3_FLAG_W,DELC13,DELC13_FLAG_W,DELC14,DELC14_FLAG_W,C14ERR,POC,POC_FLAG_W,PON,PON_FLAG_W,CHLORA,CHLORA_FLAG_W,PPHYTN,PPHYTN_FLAG_W,THETA,DELHER
,,,,,,,,,,,METERS,DBAR,ITS-90,PSS-78,,PSS-78,,UMOL/KG,,UMOL/KG,,UMOL/KG,,UMOL/KG,,UMOL/KG,,UMOL/KG,,PMOL/KG,,PMOL/KG,,FMOL/KG,,UMOL/KG,,UMOL/KG,,,,DEG C,NMOL/KG,,PERCNT,,/MILLE,,/MILLE,,/MILLE,UG/KG,,UG/KG,,UG/KG,,UG/KG,,DEG C,PERCNT
096U20160426,       P15S,      31,          1,         36,       2036,2,20160517,       1147,   -52.0028,  -170.0692,       4867,     5.2,   8.0460,  34.2740,2,  34.2740,2,    283.8,2,   283.5,2,    2.77,2,   15.12,2,    0.27,2,    1.13,2,   3.541,3,   2.102,2,   2.499,2,  2110.4,2,  2280.7,2,   7.7941,2,    25.00,-999.0000,9, -999.00,9, -999.00,9,  -999.0,9,  -999.0,   23.38,2,    5.75,2,    0.34,2,    0.17,3,   8.0455, -999.00
096U20160426,       P15S,      31,          1,         35,       2035,2,20160517,       1147,   -52.0028,  -170.0692,       4867,    23.9,   8.0520,  34.2750,2,  34.2756,2,    283.8,2,   282.9,2,    2.75,2,   15.13,2,    0.28,2,    1.13,2,-999.000,9,-999.000,9,-999.000,9,  -999.0,9,  -999.0,9,   7.7935,2,    25.00,-999.0000,9, -999.00,9, -999.00,9,  -999.0,9,  -999.0,   22.01,6,    5.84,6, -999.00,9, -999.00,9,   8.0496, -999.00
096U20160426,       P15S,      31,          1,         34,       2034,2,20160517,       1147,   -52.0028,  -170.0692,       4867,    49.2,   8.0480,  34.2780,2,  34.2778,2,    283.8,2,   282.9,2,    2.77,2,   15.19,2,    0.28,2,    1.13,2,   3.571,3,   2.105,6,   2.476,6,  2110.9,2,  2280.1,2,   7.7834,2,    25.00,-999.0000,9, -999.00,9, -999.00,9,  -999.0,9,  -999.0, -999.00,9, -999.00,9,    0.30,2,    0.21,3,   8.0431, -999.00
096U20160426,       P15S,      31,          1,         33,       2033,2,20160517,       1147,   -52.0028,  -170.0692,       4867,    75.0,   8.0180,  34.2790,2,  34.2788,2,    283.7,2,   283.4,2,    2.79,2,   15.28,2,    0.28,2,    1.14,2,-999.000,9,-999.000,9,-999.000,9,  -999.0,9,  -999.0,9,   7.7922,2,    25.00,-999.0000,9, -999.00,9, -999.00,9,  -999.0,9,  -999.0, -999.00,9, -999.00,9, -999.00,9, -999.00,9,   8.0105, -999.00
096U20160426,       P15S,      31,          1,         32,       2032,2,20160517,       1147,   -52.0028,  -170.0692,       4867,    99.7,   7.9930,  34.2780,2,  34.2760,2,    283.7,2,   283.3,2,    2.85,2,   15.39,2,    0.28,2,    1.14,2,   3.566,3,   2.113,2,   2.534,2,  2112.7,2,  2281.4,2,   7.7915,2,    25.00,-999.0000,9, -999.00,9, -999.00,9,  -999.0,9,  -999.0, -999.00,9, -999.00,9,    0.25,2,    0.24,3,   7.9831, -999.00
096U20160426,       P15S,      31,          1,         31,       2031,2,20160517,       1147,   -52.0028,  -170.0692,       4867,   151.1,   7.7210,  34.2810,2,  34.2889,2,    280.0,2,   278.6,2,    3.81,2,   17.36,2,    0.18,2,    1.24,2,   3.663,3,   2.155,2,   2.471,2,  2120.9,2,  2278.7,2,   7.7686,2,    25.00,-999.0000,9, -999.00,9, -999.00,9,  -999.0,9,  -999.0, -999.00,9, -999.00,9,    0.15,2,    0.08,3,   7.7062, -999.00
096U20160426,       P15S,      31,          1,         30,       2030,2,20160517,       1147,   -52.0028,  -170.0692,       4867,   199.7,   7.5970,  34.3970,2,  34.3958,2,    264.7,2,   264.2,2,    5.23,2,   18.81,2,    0.01,4,    1.31,2,   3.647,3,   2.116,2,   2.258,2,  2131.6,2,  2280.2,2,   7.7423,2,    25.00,-999.0000,9, -999.00,9, -999.00,9,  -999.0,9,  -999.0, -999.00,9, -999.00,9,    0.03,2,    0.05,3,   7.5776, -999.00
096U20160426,       P15S,      31,          1,         29,       2029,2,20160517,       1147,   -52.0028,  -170.0692,       4867,   250.3,   7.3950,  34.3880,2,  34.3864,2,    267.9,2,   267.7,2,    5.80,2,   19.10,2,    0.00,4,    1.33,2,   3.631,3,   2.121,2,   2.306,2,  2134.0,6,  2281.1,6,   7.7418,2,    25.00,-999.0000,9, -999.00,9, -999.00,9,  -999.0,9,  -999.0, -999.00,9, -999.00,9, -999.00,9, -999.00,9,   7.3709, -999.00
096U20160426,       P15S,      31,          1,         28,       2028,2,20160517,       1147,   -52.0028,  -170.0692,       4867,   301.4,   7.1740,  34.3680,2,  34.3667,2,    269.5,2,   270.1,2,    6.27,2,   19.52,2,    0.00,4,    1.36,2,   3.690,3,   2.135,2,   2.273,2,  2136.0,2,  2279.8,2,   7.7395,6,    25.00,-999.0000,9, -999.00,9, -999.00,9,  -999.0,9,  -999.0, -999.00,9, -999.00,9, -999.00,9, -999.00,9,   7.1454, -999.00
096U20160426,       P15S,      31,          1,         27,       2027,2,20160517,       1147,   -52.0028,  -170.0692,       4867,   349.7,   6.9490,  34.3430,2,  34.3401,2,    271.6,2,   272.2,2,    6.53,2,   19.85,2,    0.01,4,    1.38,2,-999.000,9,-999.000,9,-999.000,9,  -999.0,9,  -999.0,9,   7.7373,2,    25.00,-999.0000,9, -999.00,9, -999.00,9,  -999.0,9,  -999.0, -999.00,9, -999.00,9, -999.00,9, -999.00,9,   6.9164, -999.00
096U20160426,       P15S,      31,          1,         26,       2026,2,20160517,       1147,   -52.0028,  -170.0692,       4867,   400.1,   6.6660,  34.3070,2,  34.3048,2,    272.7,2,   272.5,2,    7.18,2,   20.63,2,    0.01,4,    1.43,2,   3.761,3,   2.175,2,    2.31,2,  2136.6,2,  2280.4,2,   7.7315,2,    25.00,-999.0000,9, -999.00,9, -999.00,9,  -999.0,9,  -999.0, -999.00,9, -999.00,9, -999.00,9, -999.00,9,   6.6294, -999.00
096U20160426,       P15S,      31,          1,         25,       2025,2,20160517,       1147,   -52.0028,  -170.0692,       4867,   498.8,   5.9680,  34.2460,2,  34.2439,2,    265.0,2,   265.5,2,    9.80,2,   23.03,2,    0.00,4,    1.58,2,   3.658,3,   2.052,2,   2.028,2,  2146.6,2,  2280.8,2,   7.7067,2,    25.00,-999.0000,9, -999.00,9, -999.00,9,  -999.0,9,  -999.0, -999.00,9, -999.00,9, -999.00,9, -999.00,9,   5.9247, -999.00
096U20160426,       P15S,      31,          1,         24,       2024,2,20160517,       1147,   -52.0028,  -170.0692,       4867,   602.4,   5.6970,  34.2690,2,  34.2642,2,    244.4,2,   247.6,2,   13.72,2,   24.99,2,    0.00,4,    1.70,2,   3.467,3,   1.931,2,   1.735,2,  2156.6,2,  2283.1,6,   7.6808,2,    25.00,-999.0000,9, -999.00,9, -999.00,9,  -999.0,9,  -999.0, -999.00,9, -999.00,9, -999.00,9, -999.00,9,   5.6456, -999.00
096U20160426,       P15S,      31,          1,         23,       2023,2,20160517,       1147,   -52.0028,  -170.0692,       4867,   701.3,   5.2190,  34.2780,2,  34.2768,2,    229.2,2,   228.6,2,   19.62,2,   27.58,2,    0.00,4,    1.87,2,   3.167,3,   1.711,2,   1.265,2,  2172.2,2,  2284.8,2,   7.6489,2,    25.00,-999.0000,9, -999.00,9, -999.00,9,  -999.0,9,  -999.0, -999.00,9, -999.00,9, -999.00,9, -999.00,9,   5.1612, -999.00
096U20160426,       P15S,      31,          1,         22,       2022,2,20160517,       1147,   -52.0028,  -170.0692,       4867,   801.1,   4.7160,  34.2930,2,  34.2926,2,    216.8,2,   217.6,2,   26.07,2,   29.55,2,    0.00,4,    2.01,2,   2.799,3,   1.494,2,   0.993,2,  2187.7,2,  2290.3,2,   7.6244,2,    25.00,-999.0000,9, -999.00,9, -999.00,9,  -999.0,9,  -999.0, -999.00,9, -999.00,9, -999.00,9, -999.00,9,   4.6524, -999.00
096U20160426,       P15S,      31,          1,         21,       2021,2,20160517,       1147,   -52.0028,  -170.0692,       4867,   900.7,   4.1480,  34.3150,2,  34.3164,2,    208.3,2,   207.6,2,   34.36,2,   31.22,2,    0.00,4,    2.13,2,   2.400,3,   1.242,2,   0.785,2,  2200.2,2,  2296.8,2,   7.6038,2,    25.00,-999.0000,9, -999.00,9, -999.00,9,  -999.0,9,  -999.0, -999.00,9, -999.00,9, -999.00,9, -999.00,9,   4.0798, -999.00
096U20160426,       P15S,      31,          1,         20,       2020,2,20160517,       1147,   -52.0028,  -170.0692,       4867,  1001.8,   3.7370,  34.3350,2,  34.3350,2,    202.3,2,   202.3,2,   40.19,2,   32.08,2,    0.00,4,    2.20,2,   2.143,3,   1.112,2,   0.675,2,  2208.0,2,  2304.6,2,   7.5934,2,    25.00,-999.0000,9, -999.00,9, -999.00,9,  -999.0,9,  -999.0, -999.00,9, -999.00,9, -999.00,9, -999.00,9,   3.6635, -999.00
096U20160426,       P15S,      31,          1,         19,       2019,2,20160517,       1147,   -52.0028,  -170.0692,       4867,  1098.7,   3.4500,  34.3710,2,  34.3722,2,    194.5,2,  -999.0,9,   47.28,2,   32.99,2,    0.00,4,    2.26,2,   1.765,3,   0.909,2,   0.523,2,  2220.4,2,  2306.4,2,   7.5799,6,    25.00,-999.0000,9, -999.00,9, -999.00,9,  -999.0,9,  -999.0, -999.00,9, -999.00,9, -999.00,9, -999.00,9,   3.3709, -999.00
096U20160426,       P15S,      31,          1,         18,       2018,2,20160517,       1147,   -52.0028,  -170.0692,       4867,  1200.0,   3.1850,  34.4070,2,  34.4056,2,    188.2,2,   187.6,2,   53.42,2,   33.56,2,    0.00,4,    2.31,2,   1.491,3,   0.765,2,   0.417,2,  2230.0,6,  2314.6,6,   7.5734,2,    25.00,-999.0000,9, -999.00,9, -999.00,9,  -999.0,9,  -999.0, -999.00,9, -999.00,9, -999.00,9, -999.00,9,   3.1001, -999.00
096U20160426,       P15S,      31,          1,         17,       2017,2,20160517,       1147,   -52.0028,  -170.0692,       4867,  1301.3,   2.9980,  34.4550,2,  34.4542,2,    181.9,2,   182.6,2,   60.26,2,   33.98,2,    0.00,4,    2.34,2,-999.000,9,-999.000,9,-999.000,9,  -999.0,9,  -999.0,9,   7.5187,3,    25.00,-999.0000,9, -999.00,9, -999.00,9,  -999.0,9,  -999.0, -999.00,9, -999.00,9, -999.00,9, -999.00,9,   2.9067, -999.00
096U20160426,       P15S,      31,          1,         16,       2016,2,20160517,       1147,   -52.0028,  -170.0692,       4867,  1399.8,   2.8220,  34.5050,2,  34.5051,2,    176.3,2,   175.5,2,   67.02,2,   34.09,2,    0.00,4,    2.35,2,   0.833,2,   0.430,2,   0.242,2,  2244.6,2,  2331.1,6,   7.5211,3,    25.00,-999.0000,9, -999.00,9, -999.00,9,  -999.0,9,  -999.0, -999.00,9, -999.00,9, -999.00,9, -999.00,9,   2.7245, -999.00
096U20160426,       P15S,      31,          1,         15,       2015,2,20160517,       1147,   -52.0028,  -170.0692,       4867,  1599.4,   2.6120,  34.5700,2,  34.5673,2,    173.0,2,   171.9,2,   73.53,2,   33.94,2,    0.00,4,    2.35,2,   0.573,2,   0.293,2,   0.162,2,  2252.3,2,  2338.5,2,   7.5574,2,    25.00,-999.0000,9, -999.00,9, -999.00,9,  -999.0,9,  -999.0, -999.00,9, -999.00,9, -999.00,9, -999.00,9,   2.5006, -999.00
096U20160426,       P15S,      31,          1,         14,       2014,2,20160517,       1147,   -52.0028,  -170.0692,       4867,  1800.7,   2.4360,  34.6350,2,  34.6346,2,    174.1,2,   173.7,2,   78.61,2,   33.25,2,   -0.01,4,    2.30,2,-999.000,9,-999.000,9,-999.000,9,  -999.0,9,  -999.0,9,   7.5688,2,    25.00,-999.0000,9, -999.00,9, -999.00,9,  -999.0,9,  -999.0, -999.00,9, -999.00,9, -999.00,9, -999.00,9,   2.3099, -999.00
096U20160426,       P15S,      31,          1,         13,       2013,2,20160517,       1147,   -52.0028,  -170.0692,       4867,  1999.7,   2.3210,  34.6760,2,  34.6756,2,    177.8,2,   177.8,2,   80.73,2,   32.42,2,   -0.01,4,    2.25,2,   0.259,2,   0.137,2,   0.099,2,  2253.8,2,  2345.6,2,   7.5802,2,    25.00,-999.0000,9, -999.00,9, -999.00,9,  -999.0,9,  -999.0, -999.00,9, -999.00,9, -999.00,9, -999.00,9,   2.1795, -999.00
096U20160426,       P15S,      31,          1,         12,       2012,2,20160517,       1147,   -52.0028,  -170.0692,       4867,  2249.5,   2.1690,  34.7120,2,  34.7121,2,    183.2,2,   183.9,2,   84.15,2,   31.63,2,   -0.01,4,    2.19,2,   0.179,2,   0.093,2,   0.077,2,  2250.5,2,  2347.2,2,-999.0000,9,  -999.00,-999.0000,9, -999.00,9, -999.00,9,  -999.0,9,  -999.0, -999.00,9, -999.00,9, -999.00,9, -999.00,9,   2.0080, -999.00
096U20160426,       P15S,      31,          1,         11,       2011,2,20160517,       1147,   -52.0028,  -170.0692,       4867,  2499.7,   2.0100,  34.7300,2,  34.7291,2,    188.1,2,   189.0,2,   87.92,2,   31.13,2,   -0.01,4,    2.16,2,-999.000,9,-999.000,9,-999.000,9,  -999.0,9,  -999.0,9,-999.0000,9,  -999.00,-999.0000,9, -999.00,9, -999.00,9,  -999.0,9,  -999.0, -999.00,9, -999.00,9, -999.00,9, -999.00,9,   1.8292, -999.00
096U20160426,       P15S,      31,          1,         10,       2010,2,20160517,       1147,   -52.0028,  -170.0692,       4867,  2748.1,   1.8240,  34.7370,2,  34.7357,2,    192.1,2,   193.4,2,   93.03,2,   31.02,2,   -0.01,4,    2.15,2,   0.120,2,   0.062,2,   0.067,2,  2253.3,2,  2354.4,2,-999.0000,9,  -999.00,-999.0000,9, -999.00,9, -999.00,9,  -999.0,9,  -999.0, -999.00,9, -999.00,9, -999.00,9, -999.00,9,   1.6238, -999.00
096U20160426,       P15S,      31,          1,          9,       2009,2,20160517,       1147,   -52.0028,  -170.0692,       4867,  2999.8,   1.6310,  34.7350,2,  34.7342,2,    195.5,2,   196.4,2,   98.52,2,   31.12,2,   -0.01,4,    2.17,2,   0.114,2,   0.060,2,       0,2,  2253.2,2,  2357.3,2,-999.0000,9,  -999.00,-999.0000,9, -999.00,9, -999.00,9,  -999.0,9,  -999.0, -999.00,9, -999.00,9, -999.00,9, -999.00,9,   1.4110, -999.00
096U20160426,       P15S,      31,          1,          8,       2008,2,20160517,       1147,   -52.0028,  -170.0692,       4867,  3300.4,   1.4150,  34.7300,2,  34.7284,2,    198.6,2,   200.0,2,  104.96,2,   31.36,2,   -0.01,4,    2.18,2,   0.115,2,   0.062,2,   0.043,2,  2258.2,2,  2359.9,6,-999.0000,9,  -999.00,-999.0000,9, -999.00,9, -999.00,9,  -999.0,9,  -999.0, -999.00,9, -999.00,9, -999.00,9, -999.00,9,   1.1707, -999.00
096U20160426,       P15S,      31,          1,          7,       2007,2,20160517,       1147,   -52.0028,  -170.0692,       4867,  3598.1,   1.2510,  34.7230,2,  34.7224,2,    201.5,2,   202.7,2,  109.98,2,   31.59,2,   -0.01,4,    2.20,2,   0.142,2,   0.072,2,   0.047,2,  2259.9,2,  2361.3,2,-999.0000,9,  -999.00,-999.0000,9, -999.00,9, -999.00,9,  -999.0,9,  -999.0, -999.00,9, -999.00,9, -999.00,9, -999.00,9,   0.9809, -999.00
096U20160426,       P15S,      31,          1,          6,       2006,2,20160517,       1147,   -52.0028,  -170.0692,       4867,  3897.7,   1.0840,  34.7150,2,  34.7141,2,    204.7,2,   205.6,2,  115.17,2,   31.84,2,   -0.01,4,    2.21,2,   0.174,2,   0.089,2,   0.063,2,  2259.5,2,  2361.5,2,-999.0000,9,  -999.00,-999.0000,9, -999.00,9, -999.00,9,  -999.0,9,  -999.0, -999.00,9, -999.00,9, -999.00,9, -999.00,9,   0.7874, -999.00
096U20160426,       P15S,      31,          1,          5,       2005,2,20160517,       1147,   -52.0028,  -170.0692,       4867,  4197.9,   0.9970,  34.7100,2,  34.7096,2,    206.5,2,   207.4,2,  118.69,2,   32.00,2,   -0.01,4,    2.23,2,   0.202,2,   0.103,2,       0,2,  2260.8,2,  2364.1,2,-999.0000,9,  -999.00,-999.0000,9, -999.00,9, -999.00,9,  -999.0,9,  -999.0, -999.00,9, -999.00,9, -999.00,9, -999.00,9,   0.6709, -999.00
096U20160426,       P15S,      31,          1,          4,       2004,2,20160517,       1147,   -52.0028,  -170.0692,       4867,  4499.8,   0.9700,  34.7070,2,  34.7069,2,    207.8,2,   207.9,2,  120.38,2,   32.12,2,   -0.01,4,    2.23,2,   0.226,2,   0.117,2,   0.067,2,  2262.1,2,  2359.7,2,-999.0000,9,  -999.00,-999.0000,9, -999.00,9, -999.00,9,  -999.0,9,  -999.0, -999.00,9, -999.00,9, -999.00,9, -999.00,9,   0.6114, -999.00
096U20160426,       P15S,      31,          1,          3,       2003,2,20160517,       1147,   -52.0028,  -170.0692,       4867,  4799.8,   0.9690,  34.7050,2,  34.7055,2,    208.6,2,   208.3,2,  121.63,2,   32.15,2,    0.00,4,    2.24,2,   0.253,2,   0.132,2,   0.071,2,  2260.5,6,  2361.6,6,-999.0000,9,  -999.00,-999.0000,9, -999.00,9, -999.00,9,  -999.0,9,  -999.0, -999.00,9, -999.00,9, -999.00,9, -999.00,9,   0.5761, -999.00
096U20160426,       P15S,      31,          1,          2,       2002,2,20160517,       1147,   -52.0028,  -170.0692,       4867,  4899.9,   0.9760,  34.7050,2,  34.7049,2,    208.8,2,   209.2,2,  121.85,2,   32.18,2,    0.00,4,    2.24,2,   0.258,2,   0.133,2,   0.072,2,  2261.5,2,  2361.5,2,-999.0000,9,  -999.00,-999.0000,9, -999.00,9, -999.00,9,  -999.0,9,  -999.0, -999.00,9, -999.00,9, -999.00,9, -999.00,9,   0.5712, -999.00
096U20160426,       P15S,      31,          1,          1,       2001,2,20160517,       1147,   -52.0028,  -170.0692,       4867,  4999.6,   0.9890,  34.7050,2,  34.7054,2,    209.0,2,   208.4,2,  121.67,2,   32.18,2,    0.00,4,    2.23,2,   0.260,2,   0.135,2,   0.103,2,  2259.5,2,  2363.1,2,-999.0000,9,  -999.00,-999.0000,9, -999.00,9, -999.00,9,  -999.0,9,  -999.0, -999.00,9, -999.00,9, -999.00,9, -999.00,9,   0.5719, -999.00