BOTTLE,20230413CCHSIOENA
EXPOCODE,SECT_ID,STNNBR,CASTNO,SAMPNO,BTLNBR,BTLNBR_FLAG_W,DATE,TIME,LATITUDE,LONGITUDE,DEPTH,CTDPRS,CTDTMP,CTDSAL,CTDSAL_FLAG_W,SALNTY,SALNTY_FLAG_W,CTDOXY,CTDOXY_FLAG_W,OXYGEN,OXYGEN_FLAG_W,SILCAT,SILCAT_FLAG_W,NITRAT,NITRAT_FLAG_W,NITRIT,NITRIT_FLAG_W,PHSPHT,PHSPHT_FLAG_W,CFC-11,CFC-11_FLAG_W,CFC-12,CFC-12_FLAG_W,SF6,SF6_FLAG_W,TCARBN,TCARBN_FLAG_W,ALKALI,ALKALI_FLAG_W,PH_TOT,PH_TOT_FLAG_W,PH_TMP,HELIUM,HELIUM_FLAG_W,DELHE3,DELHE3_FLAG_W,DELC13,DELC13_FLAG_W,DELC14,DELC14_FLAG_W,C14ERR,POC,POC_FLAG_W,PON,PON_FLAG_W,CHLORA,CHLORA_FLAG_W,PPHYTN,PPHYTN_FLAG_W,THETA,DELHER
,,,,,,,,,,,METERS,DBAR,ITS-90,PSS-78,,PSS-78,,UMOL/KG,,UMOL/KG,,UMOL/KG,,UMOL/KG,,UMOL/KG,,UMOL/KG,,PMOL/KG,,PMOL/KG,,FMOL/KG,,UMOL/KG,,UMOL/KG,,,,DEG C,NMOL/KG,,PERCNT,,/MILLE,,/MILLE,,/MILLE,UG/KG,,UG/KG,,UG/KG,,UG/KG,,DEG C,PERCNT
096U20160426,       P15S,      35,          1,         36,       2036,2,20160518,       1614,   -50.0101,  -169.9894,       5382,    12.1,  10.3980,  34.4560,2,  34.4568,2,    269.4,2,   269.8,2,    1.39,2,    9.54,2,    0.31,2,    0.78,2,   3.385,3,   1.900,2,   2.213,2,  2095.2,2,  2287.8,2,   7.8474,2,    25.00,-999.0000,9, -999.00,9,    1.44,2,    12.6,2,     2.0,   19.58,2,    5.65,2,    0.50,2,    0.06,3,  10.3966, -999.00
096U20160426,       P15S,      35,          1,         35,       2035,2,20160518,       1614,   -50.0101,  -169.9894,       5382,    36.6,  10.3960,  34.4550,2,  34.4561,2,    269.5,2,   269.9,2,    1.42,2,    9.55,2,    0.31,2,    0.79,2,-999.000,9,-999.000,9,-999.000,9,  2096.2,2,  2289.0,2,   7.8451,2,    25.00,-999.0000,9, -999.00,9, -999.00,9,  -999.0,9,  -999.0, -999.00,9, -999.00,9,    0.77,2,    0.10,3,  10.3917, -999.00
096U20160426,       P15S,      35,          1,         34,       2034,2,20160518,       1614,   -50.0101,  -169.9894,       5382,    59.4,  10.4080,  34.4560,2,  34.4369,2,    268.9,2,   271.0,2,    1.55,2,   10.24,2,    0.31,2,    0.83,2,   3.375,3,   1.930,2,   2.247,2,  2096.8,2,  2290.1,2,   7.8402,2,    25.00,-999.0000,9, -999.00,9,    1.43,2,     9.5,2,     2.0,   28.25,6,    8.09,6,    0.49,2,    0.07,3,  10.4010, -999.00
096U20160426,       P15S,      35,          1,         33,       2033,2,20160518,       1614,   -50.0101,  -169.9894,       5382,    85.8,   9.0120,  34.3100,2,  34.3269,2,    277.2,2,   275.8,2,    2.53,2,   14.64,2,    0.27,2,    1.08,2,   3.708,3,   2.069,4,   2.392,4,  2110.6,6,  2280.3,6,   7.8015,2,    25.00,-999.0000,9, -999.00,9,    1.34,2,    -2.2,2,     2.0, -999.00,9, -999.00,9,    0.44,2,    0.12,3,   9.0028, -999.00
096U20160426,       P15S,      35,          1,         32,       2032,2,20160518,       1614,   -50.0101,  -169.9894,       5382,   115.9,  10.3070,  34.7310,2,  34.7257,2,    245.0,2,   245.6,2,    2.81,2,   12.48,2,    0.01,4,    0.91,2,   3.369,3,   1.905,6,   2.102,6,  2123.0,2,  2293.3,6,   7.7922,2,    25.00,-999.0000,9, -999.00,9,    1.06,2,    27.7,2,     2.0, -999.00,9, -999.00,9,    0.01,2,    0.10,3,  10.2934, -999.00
096U20160426,       P15S,      35,          1,         31,       2031,2,20160518,       1614,   -50.0101,  -169.9894,       5382,   165.5,   9.4490,  34.6560,2,  34.6537,2,    247.1,2,   247.6,2,    3.52,2,   14.35,2,    0.00,4,    1.02,2,   3.488,3,   1.955,2,   2.091,2,  2129.8,2,  2289.4,6,   7.7732,2,    25.00,-999.0000,9, -999.00,9,    1.05,2,    23.4,2,     2.0, -999.00,9, -999.00,9, -999.00,9, -999.00,9,   9.4306, -999.00
096U20160426,       P15S,      35,          1,         30,       2030,2,20160518,       1614,   -50.0101,  -169.9894,       5382,   214.6,   8.6180,  34.5440,2,  34.5393,2,    248.5,2,   248.8,2,    4.57,2,   17.00,2,    0.00,4,    1.19,2,   3.674,3,   2.017,2,   2.079,2,  2136.2,2,  2285.4,6,   7.7505,2,    25.00,-999.0000,9, -999.00,9,    1.07,2,    20.4,2,     2.0, -999.00,9, -999.00,9, -999.00,9, -999.00,9,   8.5954, -999.00
096U20160426,       P15S,      35,          1,         29,       2029,2,20160518,       1614,   -50.0101,  -169.9894,       5382,   266.8,   7.9610,  34.4600,2,  34.4595,2,    251.4,2,   252.2,2,    5.45,2,   18.67,2,    0.00,4,    1.30,2,-999.000,9,-999.000,9,-999.000,9,  -999.0,9,  -999.0,9,   7.7386,2,    25.00,-999.0000,9, -999.00,9, -999.00,9,  -999.0,9,  -999.0, -999.00,9, -999.00,9, -999.00,9, -999.00,9,   7.9342, -999.00
096U20160426,       P15S,      35,          1,         28,       2028,2,20160518,       1614,   -50.0101,  -169.9894,       5382,   316.1,   7.6340,  34.4210,2,  34.4199,2,    256.9,2,   257.5,2,    5.81,2,   19.21,2,    0.00,4,    1.33,2,   3.740,3,   2.091,2,   2.046,2,  2137.6,2,  2280.5,6,   7.7378,2,    25.00,-999.0000,9, -999.00,9,    1.12,2,     5.4,2,     2.0, -999.00,9, -999.00,9, -999.00,9, -999.00,9,   7.6029, -999.00
096U20160426,       P15S,      35,          1,         27,       2027,2,20160518,       1614,   -50.0101,  -169.9894,       5382,   365.8,   7.3770,  34.3950,2,  34.3960,2,    261.5,2,   262.6,2,    6.17,2,   19.44,2,    0.00,4,    1.35,2,-999.000,9,-999.000,9,-999.000,9,  -999.0,9,  -999.0,9,   7.7392,2,    25.00,-999.0000,9, -999.00,9, -999.00,9,  -999.0,9,  -999.0, -999.00,9, -999.00,9, -999.00,9, -999.00,9,   7.3416, -999.00
096U20160426,       P15S,      35,          1,         26,       2026,2,20160518,       1614,   -50.0101,  -169.9894,       5382,   435.6,   7.2390,  34.3900,2,  34.3905,2,    257.2,2,   258.2,2,    7.01,2,   20.19,2,    0.00,4,    1.40,2,   3.780,3,   2.059,2,   1.892,2,  2141.8,2,  2283.7,6,   7.7069,6,    25.00,-999.0000,9, -999.00,9,    1.12,2,     5.3,2,     2.0, -999.00,9, -999.00,9, -999.00,9, -999.00,9,   7.1971, -999.00
096U20160426,       P15S,      35,          1,         25,       2025,2,20160518,       1614,   -50.0101,  -169.9894,       5382,   536.7,   6.7620,  34.3590,2,  34.3579,2,    240.6,2,   241.5,2,   10.18,2,   22.87,2,    0.00,4,    1.56,2,   3.559,3,   1.876,2,   1.478,2,  2150.8,2,  2283.3,6,   7.7019,2,    25.00,-999.0000,9, -999.00,9,    1.10,2,     1.5,2,     2.0, -999.00,9, -999.00,9, -999.00,9, -999.00,9,   6.7120, -999.00
096U20160426,       P15S,      35,          1,         24,       2024,2,20160518,       1614,   -50.0101,  -169.9894,       5382,   636.4,   6.3300,  34.3470,2,  34.3491,2,    229.4,2,   230.1,2,   13.76,2,   24.80,2,    0.00,4,    1.68,2,   3.129,3,   1.638,2,   1.156,2,  2161.9,2,  2282.1,2,   7.6821,2,    25.00,-999.0000,9, -999.00,9,    1.07,2,   -10.0,2,     2.0, -999.00,9, -999.00,9, -999.00,9, -999.00,9,   6.2723, -999.00
096U20160426,       P15S,      35,          1,         23,       2023,2,20160518,       1614,   -50.0101,  -169.9894,       5382,   735.8,   6.0320,  34.3770,2,  34.3774,2,    211.9,2,   212.6,2,   18.99,2,   26.80,2,    0.00,4,    1.81,2,   2.282,3,   1.165,4,   0.609,4,  2172.8,2,  2287.8,2,   7.6655,2,    25.00,-999.0000,9, -999.00,9,    1.04,2,   -38.6,2,     2.0, -999.00,9, -999.00,9, -999.00,9, -999.00,9,   5.9665, -999.00
096U20160426,       P15S,      35,          1,         22,       2022,2,20160518,       1614,   -50.0101,  -169.9894,       5382,   835.7,   5.0010,  34.3000,2,  34.3034,2,    217.0,2,   217.6,2,   23.84,2,   28.73,2,    0.00,4,    1.95,2,   2.928,3,   1.504,2,   0.997,2,  2183.9,2,  2287.7,2,   7.6354,2,    25.00,-999.0000,9, -999.00,9,    0.97,2,   -45.0,2,     2.0, -999.00,9, -999.00,9, -999.00,9, -999.00,9,   4.9326, -999.00
096U20160426,       P15S,      35,          1,         21,       2021,2,20160518,       1614,   -50.0101,  -169.9894,       5382,   937.5,   4.4450,  34.3090,2,  34.3096,2,    209.8,2,   210.6,2,   30.35,2,   30.40,2,    0.00,4,    2.07,2,   2.601,3,   1.346,2,   0.817,2,  2194.9,2,  2292.8,2,   7.6172,2,    25.00,-999.0000,9, -999.00,9,    0.88,2,   -64.0,2,     2.0, -999.00,9, -999.00,9, -999.00,9, -999.00,9,   4.3716, -999.00
096U20160426,       P15S,      35,          1,         20,       2020,2,20160518,       1614,   -50.0101,  -169.9894,       5382,  1036.1,   4.0290,  34.3270,2,  34.3291,2,    203.5,2,   203.9,2,   37.03,2,   31.59,2,    0.00,4,    2.15,2,   2.273,3,   1.148,2,   0.727,2,  2206.7,2,  2298.7,2,   7.6000,2,    25.00,-999.0000,9, -999.00,9,    0.85,2,   -74.8,2,     2.0, -999.00,9, -999.00,9, -999.00,9, -999.00,9,   3.9504, -999.00
096U20160426,       P15S,      35,          1,         19,       2019,2,20160518,       1614,   -50.0101,  -169.9894,       5382,  1135.1,   3.6060,  34.3600,2,  34.3596,2,    196.3,2,   196.3,2,   44.63,2,   32.57,2,    0.00,4,    2.23,2,   1.880,3,   0.971,2,   0.516,2,  2217.5,2,  2305.9,2,   7.5876,2,    25.00,-999.0000,9, -999.00,9,    0.73,2,   -95.2,2,     2.0, -999.00,9, -999.00,9, -999.00,9, -999.00,9,   3.5227, -999.00
096U20160426,       P15S,      35,          1,         18,       2018,2,20160518,       1614,   -50.0101,  -169.9894,       5382,  1231.8,   3.3290,  34.3890,2,  34.3894,2,    190.3,2,   190.5,2,   50.58,2,   33.34,2,    0.00,4,    2.28,2,   1.640,3,   0.835,2,   0.495,2,  2227.1,2,  2313.8,2,   7.5782,2,    25.00,-999.0000,9, -999.00,9,    0.69,2,  -101.5,2,     2.0, -999.00,9, -999.00,9, -999.00,9, -999.00,9,   3.2402, -999.00
096U20160426,       P15S,      35,          1,         17,       2017,2,20160518,       1614,   -50.0101,  -169.9894,       5382,  1334.3,   3.0480,  34.4300,2,  34.4301,2,    183.8,2,   183.7,2,   57.49,2,   33.95,2,   -0.01,4,    2.33,2,-999.000,9,-999.000,9,-999.000,9,  -999.0,9,  -999.0,9,   7.5645,2,    25.00,-999.0000,9, -999.00,9, -999.00,9,  -999.0,9,  -999.0, -999.00,9, -999.00,9, -999.00,9, -999.00,9,   2.9536, -999.00
096U20160426,       P15S,      35,          1,         16,       2016,2,20160518,       1614,   -50.0101,  -169.9894,       5382,  1463.6,   2.8740,  34.4840,2,  34.4838,2,    177.0,2,   177.2,2,   64.60,2,   34.21,2,    0.00,4,    2.35,2,   0.970,3,   0.510,2,   0.267,2,  2244.9,6,  2327.4,6,   7.5635,6,    25.00,-999.0000,9, -999.00,9,    0.54,2,  -133.0,2,     2.0, -999.00,9, -999.00,9, -999.00,9, -999.00,9,   2.7708, -999.00
096U20160426,       P15S,      35,          1,         15,       2015,2,20160518,       1614,   -50.0101,  -169.9894,       5382,  1665.5,   2.6160,  34.5670,2,  34.5670,2,    172.5,2,   172.1,2,   73.17,2,   34.07,2,    0.00,4,    2.34,2,   0.589,3,   0.305,2,   0.112,2,  2253.6,2,  2335.4,2,   7.5597,2,    25.00,-999.0000,9, -999.00,9,    0.44,2,  -140.5,2,     2.0, -999.00,9, -999.00,9, -999.00,9, -999.00,9,   2.4990, -999.00
096U20160426,       P15S,      35,          1,         14,       2014,2,20160518,       1614,   -50.0101,  -169.9894,       5382,  1863.8,   2.4630,  34.6280,2,  34.6292,2,    173.7,2,   173.5,2,   77.11,2,   33.38,2,    0.00,4,    2.29,2,   0.396,3,   0.209,2,   0.159,2,  2256.4,2,  2341.0,2,   7.5669,2,    25.00,-999.0000,9, -999.00,9,    0.43,2,  -150.0,2,     2.0, -999.00,9, -999.00,9, -999.00,9, -999.00,9,   2.3312, -999.00
096U20160426,       P15S,      35,          1,         13,       2013,2,20160518,       1614,   -50.0101,  -169.9894,       5382,  2085.3,   2.3210,  34.6800,2,  34.6804,2,    177.7,2,   177.9,2,   80.63,2,   32.49,2,    0.00,4,    2.23,2,   0.258,3,   0.136,2,       0,2,  2255.4,2,  2344.7,2,   7.5810,2,    25.00,-999.0000,9, -999.00,9,    0.42,2,  -151.8,2,     2.0, -999.00,9, -999.00,9, -999.00,9, -999.00,9,   2.1721, -999.00
096U20160426,       P15S,      35,          1,         12,       2012,2,20160518,       1614,   -50.0101,  -169.9894,       5382,  2334.1,   2.1750,  34.7140,2,  34.7128,2,    182.7,2,   183.5,2,   83.99,2,   31.82,2,    0.00,4,    2.18,2,-999.000,9,-999.000,9,-999.000,9,  2253.4,2,  2345.9,2,-999.0000,9,  -999.00,-999.0000,9, -999.00,9,    0.42,2,  -153.4,2,     2.0, -999.00,9, -999.00,9, -999.00,9, -999.00,9,   2.0063, -999.00
096U20160426,       P15S,      35,          1,         11,       2011,2,20160518,       1614,   -50.0101,  -169.9894,       5382,  2584.2,   2.0140,  34.7290,2,  34.7297,2,    186.9,2,   188.4,2,   88.43,2,   31.43,2,    0.00,4,    2.16,2,   0.146,3,   0.078,2,   0.045,2,  2254.3,2,  2351.5,2,-999.0000,9,  -999.00,-999.0000,9, -999.00,9,    0.45,2,  -153.2,2,     2.0, -999.00,9, -999.00,9, -999.00,9, -999.00,9,   1.8254, -999.00
096U20160426,       P15S,      35,          1,         10,       2010,2,20160518,       1614,   -50.0101,  -169.9894,       5382,  2832.8,   1.8150,  34.7360,2,  34.7368,2,    191.0,2,   192.6,2,   93.77,2,   31.34,2,    0.00,4,    2.15,2,   0.118,3,   0.061,2,   0.017,2,  2254.9,2,  2354.9,2,-999.0000,9,  -999.00,-999.0000,9, -999.00,9,    0.48,2,  -156.0,2,     2.0, -999.00,9, -999.00,9, -999.00,9, -999.00,9,   1.6070, -999.00
096U20160426,       P15S,      35,          1,          9,       2009,2,20160518,       1614,   -50.0101,  -169.9894,       5382,  3101.4,   1.6370,  34.7350,2,  34.7345,2,    194.4,2,   196.2,2,   98.84,2,   31.37,2,    0.00,4,    2.16,2,   0.112,3,   0.057,2,   0.015,2,  2257.6,2,  2356.2,2,-999.0000,9,  -999.00,-999.0000,9, -999.00,9,    0.49,2,  -159.1,2,     2.0, -999.00,9, -999.00,9, -999.00,9, -999.00,9,   1.4070, -999.00
096U20160426,       P15S,      35,          1,          8,       2008,2,20160518,       1614,   -50.0101,  -169.9894,       5382,  3398.7,   1.4260,  34.7290,2,  34.7298,2,    197.7,2,   199.4,2,  105.49,2,   31.60,2,    0.00,4,    2.18,2,   0.116,3,   0.061,2,       0,2,  2258.3,2,  2359.6,2,-999.0000,9,  -999.00,-999.0000,9, -999.00,9,    0.50,2,  -160.6,2,     2.0, -999.00,9, -999.00,9, -999.00,9, -999.00,9,   1.1716, -999.00
096U20160426,       P15S,      35,          1,          7,       2007,2,20160518,       1614,   -50.0101,  -169.9894,       5382,  3734.0,   1.2310,  34.7210,2,  34.7213,2,    201.0,2,   202.8,2,  111.33,2,   31.83,2,    0.00,4,    2.20,2,   0.138,3,   0.073,2,   0.024,2,  2261.2,2,  2358.1,2,-999.0000,9,  -999.00,-999.0000,9, -999.00,9,    0.48,2,  -163.0,2,     2.0, -999.00,9, -999.00,9, -999.00,9, -999.00,9,   0.9475, -999.00
096U20160426,       P15S,      35,          1,          6,       2006,2,20160518,       1614,   -50.0101,  -169.9894,       5382,  4134.4,   1.0600,  34.7130,2,  34.7130,2,    204.3,2,   205.6,2,  117.29,2,   32.09,2,    0.00,4,    2.22,2,   0.175,3,   0.094,2,   0.081,2,  2261.5,2,  2361.9,2,-999.0000,9,  -999.00,-999.0000,9, -999.00,9,    0.48,2,  -162.3,2,     2.0, -999.00,9, -999.00,9, -999.00,9, -999.00,9,   0.7389, -999.00
096U20160426,       P15S,      35,          1,          5,       2005,2,20160518,       1614,   -50.0101,  -169.9894,       5382,  4456.9,   0.9960,  34.7080,2,  34.7038,2,    206.3,2,   207.0,2,  120.17,2,   32.26,2,    0.00,4,    2.23,2,-999.000,9,-999.000,9,-999.000,9,  2262.8,2,  2362.3,2,-999.0000,9,  -999.00,-999.0000,9, -999.00,9,    0.47,2,  -161.7,2,     2.0, -999.00,9, -999.00,9, -999.00,9, -999.00,9,   0.6414, -999.00
096U20160426,       P15S,      35,          1,          4,       2004,2,20160518,       1614,   -50.0101,  -169.9894,       5382,  4935.1,   0.9960,  34.7050,2,  34.7070,2,    208.0,2,   207.7,2,  121.70,2,   32.35,2,    0.00,4,    2.23,2,   0.237,3,   0.121,6,   0.058,6,  2262.6,2,  2362.1,2,-999.0000,9,  -999.00,-999.0000,9, -999.00,9,    0.48,2,  -160.3,2,     2.0, -999.00,9, -999.00,9, -999.00,9, -999.00,9,   0.5863, -999.00
096U20160426,       P15S,      35,          1,          3,       2003,2,20160518,       1614,   -50.0101,  -169.9894,       5382,  5250.2,   1.0130,  34.7040,2,  34.7059,2,    209.3,2,   208.1,2,  122.38,2,   32.33,2,    0.00,4,    2.23,2,   0.269,3,   0.140,2,       0,2,  2263.3,2,  2363.3,2,-999.0000,9,  -999.00,-999.0000,9, -999.00,9,    0.45,2,  -158.9,2,     2.0, -999.00,9, -999.00,9, -999.00,9, -999.00,9,   0.5649, -999.00
096U20160426,       P15S,      35,          1,          2,       2002,2,20160518,       1614,   -50.0101,  -169.9894,       5382,  5349.0,   1.0220,  34.7040,2,  34.7054,2,    209.4,2,   208.3,2,  122.46,2,   32.36,2,    0.00,4,    2.23,2,   0.274,3,   0.144,2,    0.02,2,  2264.2,6,  2360.2,6,-999.0000,9,  -999.00,-999.0000,9, -999.00,9,    0.49,2,  -163.7,2,     2.0, -999.00,9, -999.00,9, -999.00,9, -999.00,9,   0.5615, -999.00
096U20160426,       P15S,      35,          1,          1,       2001,2,20160518,       1614,   -50.0101,  -169.9894,       5382,  5476.3,   1.0330,  34.7030,2,  34.7053,2,    209.9,2,   208.5,2,  122.44,2,   32.34,2,    0.00,4,    2.23,2,   0.277,3,   0.146,2,   0.101,2,  2262.6,2,  2361.4,2,-999.0000,9,  -999.00,-999.0000,9, -999.00,9,    0.46,2,  -164.3,2,     2.0, -999.00,9, -999.00,9, -999.00,9, -999.00,9,   0.5562, -999.00