BOTTLE,20230413CCHSIOENA
EXPOCODE,SECT_ID,STNNBR,CASTNO,SAMPNO,BTLNBR,BTLNBR_FLAG_W,DATE,TIME,LATITUDE,LONGITUDE,DEPTH,CTDPRS,CTDTMP,CTDSAL,CTDSAL_FLAG_W,SALNTY,SALNTY_FLAG_W,CTDOXY,CTDOXY_FLAG_W,OXYGEN,OXYGEN_FLAG_W,SILCAT,SILCAT_FLAG_W,NITRAT,NITRAT_FLAG_W,NITRIT,NITRIT_FLAG_W,PHSPHT,PHSPHT_FLAG_W,CFC-11,CFC-11_FLAG_W,CFC-12,CFC-12_FLAG_W,SF6,SF6_FLAG_W,TCARBN,TCARBN_FLAG_W,ALKALI,ALKALI_FLAG_W,PH_TOT,PH_TOT_FLAG_W,PH_TMP,HELIUM,HELIUM_FLAG_W,DELHE3,DELHE3_FLAG_W,DELC13,DELC13_FLAG_W,DELC14,DELC14_FLAG_W,C14ERR,POC,POC_FLAG_W,PON,PON_FLAG_W,CHLORA,CHLORA_FLAG_W,PPHYTN,PPHYTN_FLAG_W,THETA,DELHER
,,,,,,,,,,,METERS,DBAR,ITS-90,PSS-78,,PSS-78,,UMOL/KG,,UMOL/KG,,UMOL/KG,,UMOL/KG,,UMOL/KG,,UMOL/KG,,PMOL/KG,,PMOL/KG,,FMOL/KG,,UMOL/KG,,UMOL/KG,,,,DEG C,NMOL/KG,,PERCNT,,/MILLE,,/MILLE,,/MILLE,UG/KG,,UG/KG,,UG/KG,,UG/KG,,DEG C,PERCNT
096U20160426,       P15S,      62,          1,         36,       2036,2,20160531,       2149,   -37.7601,  -171.1973,       5034,     4.1,  16.6580,  35.2150,2,  35.2156,2,    235.9,2,   238.9,2,    0.23,2,    0.02,2,    0.01,4,    0.13,2,-999.000,9,-999.000,9,-999.000,9,  -999.0,9,  -999.0,9,-999.0000,9,  -999.00,-999.0000,9, -999.00,9, -999.00,9,  -999.0,9,  -999.0, -999.00,9, -999.00,9,    0.46,2,    0.02,3,  16.6573, -999.00
096U20160426,       P15S,      62,          1,         35,       2035,2,20160531,       2149,   -37.7601,  -171.1973,       5034,    35.6,  16.6600,  35.2150,2,  35.2149,2,    235.9,2,   238.5,2,    0.23,2,    0.02,2,    0.01,4,    0.13,2,   2.376,2,   1.428,2,    1.85,2,  2066.4,2,  2316.0,2,-999.0000,9,  -999.00,-999.0000,9, -999.00,9, -999.00,9,  -999.0,9,  -999.0, -999.00,9, -999.00,9,    0.48,2,    0.02,3,  16.6542, -999.00
096U20160426,       P15S,      62,          1,         34,       2034,2,20160531,       2149,   -37.7601,  -171.1973,       5034,    59.2,  16.6630,  35.2150,2,  35.2154,2,    235.2,2,   238.6,2,    0.22,2,    0.02,2,    0.01,4,    0.13,2,-999.000,9,-999.000,9,-999.000,9,  -999.0,9,  -999.0,9,-999.0000,9,  -999.00,-999.0000,9, -999.00,9, -999.00,9,  -999.0,9,  -999.0, -999.00,9, -999.00,9,    0.44,2,    0.06,3,  16.6534, -999.00
096U20160426,       P15S,      62,          1,         33,       2033,2,20160531,       2149,   -37.7601,  -171.1973,       5034,    85.1,  16.6550,  35.2020,2,  35.2070,2,    235.5,2,   240.6,2,    0.32,2,    0.32,2,    0.08,2,    0.18,2,-999.000,9,-999.000,9,-999.000,9,  -999.0,9,  -999.0,9,-999.0000,9,  -999.00,-999.0000,9, -999.00,9, -999.00,9,  -999.0,9,  -999.0, -999.00,9, -999.00,9,    0.42,2,    0.11,3,  16.6412, -999.00
096U20160426,       P15S,      62,          1,         32,       2032,2,20160531,       2149,   -37.7601,  -171.1973,       5034,   115.4,  13.9710,  35.1470,2,  35.1444,2,    234.4,2,   236.2,2,    0.82,2,    3.27,2,    0.16,2,    0.38,2,-999.000,9,-999.000,9,-999.000,9,  -999.0,9,  -999.0,9,-999.0000,9,  -999.00,-999.0000,9, -999.00,9, -999.00,9,  -999.0,9,  -999.0, -999.00,9, -999.00,9,    0.30,2,    0.12,3,  13.9544, -999.00
096U20160426,       P15S,      62,          1,         31,       2031,2,20160531,       2149,   -37.7601,  -171.1973,       5034,   165.7,  12.9510,  35.0930,2,  35.0716,2,    224.8,2,   226.8,2,    1.49,2,    6.77,2,    0.01,4,    0.56,2,-999.000,9,-999.000,9,-999.000,9,  -999.0,9,  -999.0,9,-999.0000,9,  -999.00,-999.0000,9, -999.00,9, -999.00,9,  -999.0,9,  -999.0, -999.00,9, -999.00,9, -999.00,9, -999.00,9,  12.9283, -999.00
096U20160426,       P15S,      62,          1,         30,       2030,2,20160531,       2149,   -37.7601,  -171.1973,       5034,   215.3,  11.8990,  34.9460,2,  34.9139,2,    221.7,2,   223.8,2,    2.09,2,    9.84,2,    0.01,4,    0.75,2,-999.000,9,-999.000,9,-999.000,9,  -999.0,9,  -999.0,9,-999.0000,9,  -999.00,-999.0000,9, -999.00,9, -999.00,9,  -999.0,9,  -999.0, -999.00,9, -999.00,9, -999.00,9, -999.00,9,  11.8711, -999.00
096U20160426,       P15S,      62,          1,         29,       2029,2,20160531,       2149,   -37.7601,  -171.1973,       5034,   265.9,  11.1860,  34.8460,2,  34.8283,2,    220.5,2,   221.9,2,    2.57,2,   11.91,2,    0.00,4,    0.87,2,-999.000,9,-999.000,9,-999.000,9,  -999.0,9,  -999.0,9,-999.0000,9,  -999.00,-999.0000,9, -999.00,9, -999.00,9,  -999.0,9,  -999.0, -999.00,9, -999.00,9, -999.00,9, -999.00,9,  11.1528, -999.00
096U20160426,       P15S,      62,          1,         28,       2028,2,20160531,       2149,   -37.7601,  -171.1973,       5034,   316.0,  10.3480,  34.7420,2,  34.7387,2,    218.4,2,   220.1,2,    3.16,2,   14.21,2,    0.00,4,    1.01,2,-999.000,9,-999.000,9,-999.000,9,  -999.0,9,  -999.0,9,-999.0000,9,  -999.00,-999.0000,9, -999.00,9, -999.00,9,  -999.0,9,  -999.0, -999.00,9, -999.00,9, -999.00,9, -999.00,9,  10.3104, -999.00
096U20160426,       P15S,      62,          1,         27,       2027,2,20160531,       2149,   -37.7601,  -171.1973,       5034,   366.0,   9.4160,  34.6340,2,  34.6347,2,    218.9,2,   221.1,2,    3.97,2,   16.69,2,    0.00,4,    1.15,2,-999.000,9,-999.000,9,-999.000,9,  -999.0,9,  -999.0,9,-999.0000,9,  -999.00,-999.0000,9, -999.00,9, -999.00,9,  -999.0,9,  -999.0, -999.00,9, -999.00,9, -999.00,9, -999.00,9,   9.3749, -999.00
096U20160426,       P15S,      62,          1,         26,       2026,2,20160531,       2149,   -37.7601,  -171.1973,       5034,   435.1,   8.7610,  34.5720,2,  34.5595,2,    219.4,2,   223.8,2,    4.93,2,   18.75,2,    0.00,4,    1.28,2,-999.000,9,-999.000,9,-999.000,9,  -999.0,9,  -999.0,9,-999.0000,9,  -999.00,-999.0000,9, -999.00,9, -999.00,9,  -999.0,9,  -999.0, -999.00,9, -999.00,9, -999.00,9, -999.00,9,   8.7141, -999.00
096U20160426,       P15S,      62,          1,         25,       2025,2,20160531,       2149,   -37.7601,  -171.1973,       5034,   536.1,   7.8780,  34.4670,2,  34.4659,2,    231.7,2,   234.8,2,    5.38,2,   20.11,2,    0.00,4,    1.37,2,   3.568,2,   1.960,2,   1.313,2,  2143.7,2,  2283.4,2,-999.0000,9,  -999.00,-999.0000,9, -999.00,9, -999.00,9,  -999.0,9,  -999.0, -999.00,9, -999.00,9, -999.00,9, -999.00,9,   7.8235, -999.00
096U20160426,       P15S,      62,          1,         24,       2024,2,20160531,       2149,   -37.7601,  -171.1973,       5034,   635.4,   7.2620,  34.4100,2,  34.4075,2,    230.7,2,   234.6,2,    6.79,2,   21.97,2,    0.00,4,    1.48,2,-999.000,9,-999.000,9,-999.000,9,  -999.0,9,  -999.0,9,-999.0000,9,  -999.00,-999.0000,9, -999.00,9, -999.00,9,  -999.0,9,  -999.0, -999.00,9, -999.00,9, -999.00,9, -999.00,9,   7.1999, -999.00
096U20160426,       P15S,      62,          1,         23,       2023,2,20160531,       2149,   -37.7601,  -171.1973,       5034,   736.3,   6.7560,  34.3680,2,  34.3664,2,    230.3,2,   233.5,2,    8.72,2,   23.49,2,    0.00,4,    1.58,2,-999.000,9,-999.000,9,-999.000,9,  -999.0,9,  -999.0,9,-999.0000,9,  -999.00,-999.0000,9, -999.00,9, -999.00,9,  -999.0,9,  -999.0, -999.00,9, -999.00,9, -999.00,9, -999.00,9,   6.6864, -999.00
096U20160426,       P15S,      62,          1,         22,       2022,2,20160531,       2149,   -37.7601,  -171.1973,       5034,   836.0,   6.3030,  34.3440,2,  34.3433,2,    224.5,2,   227.7,2,   11.54,2,   25.04,2,    0.00,4,    1.69,2,-999.000,9,-999.000,9,-999.000,9,  -999.0,9,  -999.0,9,-999.0000,9,  -999.00,-999.0000,9, -999.00,9, -999.00,9,  -999.0,9,  -999.0, -999.00,9, -999.00,9, -999.00,9, -999.00,9,   6.2263, -999.00
096U20160426,       P15S,      62,          1,         21,       2021,2,20160531,       2149,   -37.7601,  -171.1973,       5034,   935.8,   5.8100,  34.3340,2,  34.3339,2,    214.7,2,   217.9,2,   16.07,2,   26.83,2,    0.00,4,    1.81,2,-999.000,9,-999.000,9,-999.000,9,  -999.0,9,  -999.0,9,-999.0000,9,  -999.00,-999.0000,9, -999.00,9, -999.00,9,  -999.0,9,  -999.0, -999.00,9, -999.00,9, -999.00,9, -999.00,9,   5.7270, -999.00
096U20160426,       P15S,      62,          1,         20,       2020,2,20160531,       2149,   -37.7601,  -171.1973,       5034,  1034.3,   5.2660,  34.3330,2,  34.3342,2,    205.3,2,   207.1,2,   22.90,2,   28.85,2,    0.00,4,    1.95,2,   1.626,2,   0.812,2,   0.312,2,  2182.0,6,  2293.2,6,-999.0000,9,  -999.00,-999.0000,9, -999.00,9, -999.00,9,  -999.0,9,  -999.0, -999.00,9, -999.00,9, -999.00,9, -999.00,9,   5.1778, -999.00
096U20160426,       P15S,      62,          1,         19,       2019,2,20160531,       2149,   -37.7601,  -171.1973,       5034,  1136.3,   4.6850,  34.3440,2,  34.3433,2,    196.8,2,   199.3,2,   30.09,2,   30.41,2,    0.00,4,    2.06,2,-999.000,9,-999.000,9,-999.000,9,  -999.0,9,  -999.0,9,-999.0000,9,  -999.00,-999.0000,9, -999.00,9, -999.00,9,  -999.0,9,  -999.0, -999.00,9, -999.00,9, -999.00,9, -999.00,9,   4.5922, -999.00
096U20160426,       P15S,      62,          1,         18,       2018,2,20160531,       2149,   -37.7601,  -171.1973,       5034,  1235.3,   4.1660,  34.3600,2,  34.3609,2,    190.5,2,   192.7,2,   37.83,2,   31.69,2,    0.00,4,    2.15,2,-999.000,9,-999.000,9,-999.000,9,  -999.0,9,  -999.0,9,-999.0000,9,  -999.00,-999.0000,9, -999.00,9, -999.00,9,  -999.0,9,  -999.0, -999.00,9, -999.00,9, -999.00,9, -999.00,9,   4.0691, -999.00
096U20160426,       P15S,      62,          1,         17,       2017,2,20160531,       2149,   -37.7601,  -171.1973,       5034,  1335.5,   3.8050,  34.4220,2,  34.4246,2,    178.9,2,   180.8,2,   50.71,2,   32.65,2,    0.00,4,    2.24,2,-999.000,9,-999.000,9,-999.000,9,  -999.0,9,  -999.0,9,-999.0000,9,  -999.00,-999.0000,9, -999.00,9, -999.00,9,  -999.0,9,  -999.0, -999.00,9, -999.00,9, -999.00,9, -999.00,9,   3.7028, -999.00
096U20160426,       P15S,      62,          1,         16,       2016,2,20160531,       2149,   -37.7601,  -171.1973,       5034,  1465.4,   3.2950,  34.4770,2,  34.4789,2,    169.6,2,   170.6,2,   64.44,2,   33.67,2,    0.00,4,    2.31,2,-999.000,9,-999.000,9,-999.000,9,  -999.0,9,  -999.0,9,-999.0000,9,  -999.00,-999.0000,9, -999.00,9, -999.00,9,  -999.0,9,  -999.0, -999.00,9, -999.00,9, -999.00,9, -999.00,9,   3.1870, -999.00
096U20160426,       P15S,      62,          1,         15,       2015,2,20160531,       2149,   -37.7601,  -171.1973,       5034,  1664.0,   2.9070,  34.5490,2,  34.5485,2,    159.7,2,   161.0,2,   82.01,2,   34.31,2,    0.00,4,    2.37,2,-999.000,9,-999.000,9,-999.000,9,  -999.0,9,  -999.0,9,-999.0000,9,  -999.00,-999.0000,9, -999.00,9, -999.00,9,  -999.0,9,  -999.0, -999.00,9, -999.00,9, -999.00,9, -999.00,9,   2.7865, -999.00
096U20160426,       P15S,      62,          1,         14,       2014,2,20160531,       2149,   -37.7601,  -171.1973,       5034,  1866.3,   2.6390,  34.5890,2,  34.5897,2,    154.7,2,   155.3,2,   94.72,2,   34.76,2,    0.00,4,    2.41,2,   0.035,2,   0.022,2,       0,2,  2282.1,2,  2372.8,6,-999.0000,9,  -999.00,-999.0000,9, -999.00,9, -999.00,9,  -999.0,9,  -999.0, -999.00,9, -999.00,9, -999.00,9, -999.00,9,   2.5047, -999.00
096U20160426,       P15S,      62,          1,         13,       2013,2,20160531,       2149,   -37.7601,  -171.1973,       5034,  2085.7,   2.4320,  34.6140,2,  34.6140,2,    151.1,2,   151.7,2,  103.80,2,   35.14,2,    0.00,4,    2.44,2,-999.000,9,-999.000,9,-999.000,9,  -999.0,9,  -999.0,9,-999.0000,9,  -999.00,-999.0000,9, -999.00,9, -999.00,9,  -999.0,9,  -999.0, -999.00,9, -999.00,9, -999.00,9, -999.00,9,   2.2816, -999.00
096U20160426,       P15S,      62,          1,         12,       2012,2,20160531,       2149,   -37.7601,  -171.1973,       5034,  2333.6,   2.2870,  34.6310,2,  34.6308,2,    149.7,2,   150.2,2,  109.93,2,   35.29,2,    0.00,4,    2.45,2,   0.011,2,   0.008,2,       0,2,  2301.6,2,  2390.5,2,-999.0000,9,  -999.00,-999.0000,9, -999.00,9, -999.00,9,  -999.0,9,  -999.0, -999.00,9, -999.00,9, -999.00,9, -999.00,9,   2.1167, -999.00
096U20160426,       P15S,      62,          1,         11,       2011,2,20160531,       2149,   -37.7601,  -171.1973,       5034,  2650.7,   2.1350,  34.6460,2,  34.6458,2,    149.1,2,   149.4,2,  116.13,2,   35.47,2,    0.00,4,    2.46,2,-999.000,9,-999.000,9,-999.000,9,  -999.0,9,  -999.0,9,-999.0000,9,  -999.00,-999.0000,9, -999.00,9, -999.00,9,  -999.0,9,  -999.0, -999.00,9, -999.00,9, -999.00,9, -999.00,9,   1.9382, -999.00
096U20160426,       P15S,      62,          1,         10,       2010,2,20160531,       2149,   -37.7601,  -171.1973,       5034,  2835.3,   2.0200,  34.6670,2,  34.6671,2,    156.7,2,   157.8,2,  113.19,2,   34.60,2,    0.00,4,    2.40,2,-999.000,9,-999.000,9,-999.000,9,  -999.0,9,  -999.0,9,-999.0000,9,  -999.00,-999.0000,9, -999.00,9, -999.00,9,  -999.0,9,  -999.0, -999.00,9, -999.00,9, -999.00,9, -999.00,9,   1.8078, -999.00
096U20160426,       P15S,      62,          1,          9,       2009,2,20160531,       2149,   -37.7601,  -171.1973,       5034,  3100.7,   1.8520,  34.7070,2,  34.7056,2,    175.5,2,   177.4,2,  103.34,2,   32.74,2,    0.00,4,    2.25,2,-999.000,9,-999.000,9,-999.000,9,  -999.0,9,  -999.0,9,-999.0000,9,  -999.00,-999.0000,9, -999.00,9, -999.00,9,  -999.0,9,  -999.0, -999.00,9, -999.00,9, -999.00,9, -999.00,9,   1.6174, -999.00
096U20160426,       P15S,      62,          1,          8,       2008,2,20160531,       2149,   -37.7601,  -171.1973,       5034,  3400.0,   1.6350,  34.7250,2,  34.7250,2,    189.5,2,   192.3,2,  101.43,2,   31.63,2,    0.00,4,    2.17,2,   0.066,2,   0.034,2,       0,2,  2261.9,2,  2364.7,2,-999.0000,9,  -999.00,-999.0000,9, -999.00,9, -999.00,9,  -999.0,9,  -999.0, -999.00,9, -999.00,9, -999.00,9, -999.00,9,   1.3754, -999.00
096U20160426,       P15S,      62,          1,          7,       2007,2,20160531,       2149,   -37.7601,  -171.1973,       5034,  3701.7,   1.3820,  34.7240,2,  34.7226,2,    196.2,2,   198.9,2,  106.90,2,   31.59,2,    0.00,4,    2.16,2,-999.000,9,-999.000,9,-999.000,9,  -999.0,9,  -999.0,9,-999.0000,9,  -999.00,-999.0000,9, -999.00,9, -999.00,9,  -999.0,9,  -999.0, -999.00,9, -999.00,9, -999.00,9, -999.00,9,   1.0978, -999.00
096U20160426,       P15S,      62,          1,          6,       2006,2,20160531,       2149,   -37.7601,  -171.1973,       5034,  4001.2,   1.1740,  34.7180,2,  34.7165,2,    201.2,2,   203.7,2,  112.27,2,   31.75,2,    0.00,4,    2.17,2,   0.120,2,   0.062,2,   0.154,3,  2261.3,2,  2365.0,2,-999.0000,9,  -999.00,-999.0000,9, -999.00,9, -999.00,9,  -999.0,9,  -999.0, -999.00,9, -999.00,9, -999.00,9, -999.00,9,   0.8639, -999.00
096U20160426,       P15S,      62,          1,          5,       2005,2,20160531,       2149,   -37.7601,  -171.1973,       5034,  4299.9,   1.0540,  34.7120,2,  34.7113,2,    203.7,2,   205.9,2,  116.21,2,   31.93,2,    0.00,4,    2.18,2,-999.000,9,-999.000,9,-999.000,9,  -999.0,9,  -999.0,9,-999.0000,9,  -999.00,-999.0000,9, -999.00,9, -999.00,9,  -999.0,9,  -999.0, -999.00,9, -999.00,9, -999.00,9, -999.00,9,   0.7150, -999.00
096U20160426,       P15S,      62,          1,          4,       2004,2,20160531,       2149,   -37.7601,  -171.1973,       5034,  4602.2,   1.0180,  34.7090,2,  34.7085,2,    204.9,2,   206.7,2,  118.28,2,   32.08,2,    0.00,4,    2.18,2,-999.000,9,-999.000,9,-999.000,9,  -999.0,9,  -999.0,9,-999.0000,9,  -999.00,-999.0000,9, -999.00,9, -999.00,9,  -999.0,9,  -999.0, -999.00,9, -999.00,9, -999.00,9, -999.00,9,   0.6462, -999.00
096U20160426,       P15S,      62,          1,          3,       2003,2,20160531,       2149,   -37.7601,  -171.1973,       5034,  4899.0,   1.0230,  34.7080,2,  34.7066,2,    205.9,2,   207.0,2,  119.24,2,   32.10,2,    0.00,4,    2.19,2,-999.000,9,-999.000,9,-999.000,9,  -999.0,9,  -999.0,9,-999.0000,9,  -999.00,-999.0000,9, -999.00,9, -999.00,9,  -999.0,9,  -999.0, -999.00,9, -999.00,9, -999.00,9, -999.00,9,   0.6167, -999.00
096U20160426,       P15S,      62,          1,          2,       2002,2,20160531,       2149,   -37.7601,  -171.1973,       5034,  5025.0,   1.0240,  34.7070,2,  34.7064,2,    206.3,2,   207.2,2,  119.57,2,   32.13,2,    0.00,4,    2.19,2,   0.218,6,   0.110,6,   0.066,6,  2263.6,2,  2366.8,2,-999.0000,9,  -999.00,-999.0000,9, -999.00,9, -999.00,9,  -999.0,9,  -999.0, -999.00,9, -999.00,9, -999.00,9, -999.00,9,   0.6027, -999.00
096U20160426,       P15S,      62,          1,          1,       2001,2,20160531,       2149,   -37.7601,  -171.1973,       5034,  5101.1,   1.0270,  34.7070,2,  34.7067,2,    206.6,2,   207.3,2,  119.80,2,   32.12,2,    0.00,4,    2.19,2,-999.000,9,-999.000,9,-999.000,9,  -999.0,9,  -999.0,9,-999.0000,9,  -999.00,-999.0000,9, -999.00,9, -999.00,9,  -999.0,9,  -999.0, -999.00,9, -999.00,9, -999.00,9, -999.00,9,   0.5965, -999.00
096U20160426,       P15S,      63,          1,          8,       2008,2,20160601,       0240,   -37.3073,  -170.8927,       5147,  3200.7,   1.7840,  34.7020,2,  34.7012,2,    173.4,2,   175.2,2,  108.07,2,   33.06,2,    0.00,4,    2.27,2,-999.000,9,-999.000,9,-999.000,9,  2278.3,2,  2378.3,2,-999.0000,9,  -999.00,-999.0000,9, -999.00,9, -999.00,9,  -999.0,9,  -999.0, -999.00,9, -999.00,9, -999.00,9, -999.00,9,   1.5410, -999.00
096U20160426,       P15S,      63,          1,          7,       2007,2,20160601,       0240,   -37.3073,  -170.8927,       5147,  3501.3,   1.5900,  34.7220,2,  34.7207,2,    188.1,2,   191.1,2,  104.08,2,   31.87,2,    0.00,4,    2.18,2,   0.056,6,   0.027,6,   0.046,3,  2265.5,2,  2366.3,6,-999.0000,9,  -999.00,-999.0000,9, -999.00,9, -999.00,9,  -999.0,9,  -999.0, -999.00,9, -999.00,9, -999.00,9, -999.00,9,   1.3212, -999.00
096U20160426,       P15S,      63,          1,          6,       2006,2,20160601,       0240,   -37.3073,  -170.8927,       5147,  3800.9,   1.3910,  34.7240,2,  34.7228,2,    196.0,2,   198.9,2,  106.79,2,   31.63,2,    0.00,4,    2.15,2,-999.000,9,-999.000,9,-999.000,9,  2260.5,2,  2364.2,2,-999.0000,9,  -999.00,-999.0000,9, -999.00,9, -999.00,9,  -999.0,9,  -999.0, -999.00,9, -999.00,9, -999.00,9, -999.00,9,   1.0962, -999.00
096U20160426,       P15S,      63,          1,          5,       2005,2,20160601,       0240,   -37.3073,  -170.8927,       5147,  4200.1,   1.1520,  34.7160,2,  34.7153,2,    201.3,2,   203.7,2,  113.53,2,   31.84,2,    0.00,4,    2.17,2,   0.205,3,   0.058,2,   0.063,2,  2259.8,2,  2365.6,2,-999.0000,9,  -999.00,-999.0000,9, -999.00,9, -999.00,9,  -999.0,9,  -999.0, -999.00,9, -999.00,9, -999.00,9, -999.00,9,   0.8210, -999.00
096U20160426,       P15S,      63,          1,          4,       2004,2,20160601,       0240,   -37.3073,  -170.8927,       5147,  4599.2,   1.0540,  34.7110,2,  34.7102,2,    204.0,2,   205.8,2,  117.63,2,   32.01,2,    0.00,4,    2.18,2,-999.000,9,-999.000,9,-999.000,9,  2263.6,2,  2366.7,2,-999.0000,9,  -999.00,-999.0000,9, -999.00,9, -999.00,9,  -999.0,9,  -999.0, -999.00,9, -999.00,9, -999.00,9, -999.00,9,   0.6814, -999.00
096U20160426,       P15S,      63,          1,          3,       2003,2,20160601,       0240,   -37.3073,  -170.8927,       5147,  4999.1,   1.0410,  34.7080,2,  34.7076,2,    205.5,2,   206.6,2,  119.29,2,   32.12,2,    0.00,4,    2.19,2,   0.175,2,   0.087,2,    0.07,2,  2263.4,6,  2367.6,2,-999.0000,9,  -999.00,-999.0000,9, -999.00,9, -999.00,9,  -999.0,9,  -999.0, -999.00,9, -999.00,9, -999.00,9, -999.00,9,   0.6222, -999.00
096U20160426,       P15S,      63,          1,          2,       2002,2,20160601,       0240,   -37.3073,  -170.8927,       5147,  5151.3,   1.0330,  34.7070,2,  34.7066,2,    206.3,2,   207.0,2,  119.98,2,   32.13,2,    0.00,4,    2.19,2,-999.000,9,-999.000,9,-999.000,9,  2264.6,2,  2367.0,6,-999.0000,9,  -999.00,-999.0000,9, -999.00,9, -999.00,9,  -999.0,9,  -999.0, -999.00,9, -999.00,9, -999.00,9, -999.00,9,   0.5962, -999.00
096U20160426,       P15S,      63,          1,          1,       2001,2,20160601,       0240,   -37.3073,  -170.8927,       5147,  5222.7,   1.0400,  34.7060,2,  34.7063,2,    206.4,2,   207.0,2,  120.10,2,   32.15,2,    0.00,4,    2.19,2,   0.227,2,   0.111,2,   0.099,2,  2263.8,2,  2367.4,2,-999.0000,9,  -999.00,-999.0000,9, -999.00,9, -999.00,9,  -999.0,9,  -999.0, -999.00,9, -999.00,9, -999.00,9, -999.00,9,   0.5943, -999.00