BOTTLE,20230413CCHSIOENA
EXPOCODE,SECT_ID,STNNBR,CASTNO,SAMPNO,BTLNBR,BTLNBR_FLAG_W,DATE,TIME,LATITUDE,LONGITUDE,DEPTH,CTDPRS,CTDTMP,CTDSAL,CTDSAL_FLAG_W,SALNTY,SALNTY_FLAG_W,CTDOXY,CTDOXY_FLAG_W,OXYGEN,OXYGEN_FLAG_W,SILCAT,SILCAT_FLAG_W,NITRAT,NITRAT_FLAG_W,NITRIT,NITRIT_FLAG_W,PHSPHT,PHSPHT_FLAG_W,CFC-11,CFC-11_FLAG_W,CFC-12,CFC-12_FLAG_W,SF6,SF6_FLAG_W,TCARBN,TCARBN_FLAG_W,ALKALI,ALKALI_FLAG_W,PH_TOT,PH_TOT_FLAG_W,PH_TMP,HELIUM,HELIUM_FLAG_W,DELHE3,DELHE3_FLAG_W,DELC13,DELC13_FLAG_W,DELC14,DELC14_FLAG_W,C14ERR,POC,POC_FLAG_W,PON,PON_FLAG_W,CHLORA,CHLORA_FLAG_W,PPHYTN,PPHYTN_FLAG_W,THETA,DELHER
,,,,,,,,,,,METERS,DBAR,ITS-90,PSS-78,,PSS-78,,UMOL/KG,,UMOL/KG,,UMOL/KG,,UMOL/KG,,UMOL/KG,,UMOL/KG,,PMOL/KG,,PMOL/KG,,FMOL/KG,,UMOL/KG,,UMOL/KG,,,,DEG C,NMOL/KG,,PERCNT,,/MILLE,,/MILLE,,/MILLE,UG/KG,,UG/KG,,UG/KG,,UG/KG,,DEG C,PERCNT
096U20160426,       P15S,      48,          1,         29,       2029,2,20160523,       0821,   -44.1534,  -173.9403,       1897,     3.9,  13.4150,  34.8690,2,  34.8698,2,    259.7,2,   253.9,2,    0.54,2,    2.13,2,    0.26,2,    0.33,2,   2.769,2,   1.633,2,   2.087,2,  2083.5,2,  2304.6,2,-999.0000,9,  -999.00,-999.0000,9, -999.00,9, -999.00,9,  -999.0,9,  -999.0, -999.00,9, -999.00,9,    0.83,2,    0.00,3,  13.4145, -999.00
096U20160426,       P15S,      48,          1,         28,       2028,2,20160523,       0821,   -44.1534,  -173.9403,       1897,    19.7,  13.4160,  34.8690,2,  34.8700,2,    259.9,2,   253.8,2,    0.55,2,    2.13,2,    0.26,2,    0.33,2,-999.000,9,-999.000,9,-999.000,9,  -999.0,9,  -999.0,9,-999.0000,9,  -999.00,-999.0000,9, -999.00,9, -999.00,9,  -999.0,9,  -999.0, -999.00,9, -999.00,9,    0.72,2,    0.11,3,  13.4133, -999.00
096U20160426,       P15S,      48,          1,         27,       2027,2,20160523,       0821,   -44.1534,  -173.9403,       1897,    38.2,  13.4250,  34.8710,2,  34.8679,2,    259.8,2,   253.9,2,    0.56,2,    2.17,2,    0.26,2,    0.33,2,   2.790,2,   1.642,2,    2.03,2,  2079.5,2,  2306.9,2,-999.0000,9,  -999.00,   1.7330,2,   -1.56,2, -999.00,9,  -999.0,9,  -999.0, -999.00,9, -999.00,9, -999.00,9, -999.00,9,  13.4197,    0.63
096U20160426,       P15S,      48,          1,         26,       2026,2,20160523,       0821,   -44.1534,  -173.9403,       1897,    66.7,  13.2910,  34.8490,2,  34.8496,2,    259.9,2,   254.3,2,    0.55,2,    2.36,2,    0.26,2,    0.35,2,-999.000,9,-999.000,9,-999.000,9,  -999.0,9,  -999.0,9,-999.0000,9,  -999.00,-999.0000,9, -999.00,9, -999.00,9,  -999.0,9,  -999.0, -999.00,9, -999.00,9,    0.61,2,    0.19,3,  13.2817, -999.00
096U20160426,       P15S,      48,          1,         25,       2025,2,20160523,       0821,   -44.1534,  -173.9403,       1897,    88.8,  13.2880,  34.8490,2,  34.8469,2,    259.8,2,   253.7,2,    0.54,2,    2.40,2,    0.27,2,    0.35,2,   2.793,2,   1.645,2,    2.02,2,  2083.6,2,  2304.8,2,-999.0000,9,  -999.00,-999.0000,9, -999.00,9, -999.00,9,  -999.0,9,  -999.0, -999.00,9, -999.00,9,    0.32,2,    0.48,3,  13.2757, -999.00
096U20160426,       P15S,      48,          1,         24,       2024,2,20160523,       0821,   -44.1534,  -173.9403,       1897,   115.4,  12.5630,  34.9000,2,  34.9362,2,    246.0,2,   238.3,2,    1.41,2,    6.78,2,    0.09,2,    0.58,2,   2.914,2,   1.703,2,   2.088,2,  2104.6,2,  2305.7,2,-999.0000,9,  -999.00,-999.0000,9, -999.00,9, -999.00,9,  -999.0,9,  -999.0, -999.00,9, -999.00,9,    0.15,2,    0.00,3,  12.5475, -999.00
096U20160426,       P15S,      48,          1,         23,       2023,2,20160523,       0821,   -44.1534,  -173.9403,       1897,   142.2,  12.2350,  35.0280,2,  35.0306,2,    238.6,2,   233.6,2,    2.08,2,    8.61,2,    0.02,4,    0.67,2,   2.938,2,   1.715,2,   1.996,2,  2118.4,2,  2306.0,2,-999.0000,9,  -999.00,-999.0000,9, -999.00,9, -999.00,9,  -999.0,9,  -999.0, -999.00,9, -999.00,9, -999.00,9, -999.00,9,  12.2162, -999.00
096U20160426,       P15S,      48,          1,         22,       2022,2,20160523,       0821,   -44.1534,  -173.9403,       1897,   183.6,  11.7810,  35.0000,2,  35.0026,2,    241.7,2,   236.2,2,    2.40,2,    9.43,2,    0.01,4,    0.71,2,   3.004,2,   1.741,2,   1.883,2,  2122.1,2,  2307.3,2,-999.0000,9,  -999.00,-999.0000,9, -999.00,9, -999.00,9,  -999.0,9,  -999.0, -999.00,9, -999.00,9, -999.00,9, -999.00,9,  11.7573, -999.00
096U20160426,       P15S,      48,          1,         21,       2021,2,20160523,       0821,   -44.1534,  -173.9403,       1897,   235.6,  11.4240,  34.9500,2,  34.9524,2,    241.8,2,   236.6,2,    2.83,2,   10.44,2,    0.01,4,    0.77,2,   3.001,2,   1.739,2,   1.986,2,  2123.8,6,  2303.2,2,-999.0000,9,  -999.00,-999.0000,9, -999.00,9, -999.00,9,  -999.0,9,  -999.0, -999.00,9, -999.00,9, -999.00,9, -999.00,9,  11.3942, -999.00
096U20160426,       P15S,      48,          1,         20,       2020,2,20160523,       0821,   -44.1534,  -173.9403,       1897,   285.7,  10.9020,  34.8620,2,  34.8545,2,    240.3,2,   236.3,2,    3.10,2,   11.63,2,    0.01,4,    0.84,2,   3.077,2,   1.778,2,   1.861,2,  2117.7,2,  2298.5,6,-999.0000,9,  -999.00,-999.0000,9, -999.00,9, -999.00,9,  -999.0,9,  -999.0, -999.00,9, -999.00,9, -999.00,9, -999.00,9,  10.8669, -999.00
096U20160426,       P15S,      48,          1,         19,       2019,2,20160523,       0821,   -44.1534,  -173.9403,       1897,   335.1,  10.2200,  34.7510,2,  34.7340,2,    249.8,2,   239.6,2,    3.01,2,   12.68,2,    0.01,4,    0.92,2,   3.249,2,   1.861,2,    1.98,2,  2125.5,2,  2292.4,6,-999.0000,9,  -999.00,-999.0000,9, -999.00,9, -999.00,9,  -999.0,9,  -999.0, -999.00,9, -999.00,9, -999.00,9, -999.00,9,  10.1804, -999.00
096U20160426,       P15S,      48,          1,         18,       2018,2,20160523,       0821,   -44.1534,  -173.9403,       1897,   383.0,   9.6180,  34.6700,2,  34.6684,2,    239.6,2,   233.5,2,    3.78,2,   14.94,2,    0.01,4,    1.05,2,   3.291,2,   1.868,2,   1.799,2,  2134.4,2,  2290.0,2,-999.0000,9,  -999.00,-999.0000,9, -999.00,9, -999.00,9,  -999.0,9,  -999.0, -999.00,9, -999.00,9, -999.00,9, -999.00,9,   9.5744, -999.00
096U20160426,       P15S,      48,          1,         17,       2017,2,20160523,       0821,   -44.1534,  -173.9403,       1897,   433.3,   9.0940,  34.6050,2,  34.6051,2,    234.6,2,   229.3,2,    4.55,2,   17.02,2,    0.01,4,    1.18,2,-999.000,9,-999.000,9,-999.000,9,  -999.0,9,  -999.0,9,-999.0000,9,  -999.00,-999.0000,9, -999.00,9, -999.00,9,  -999.0,9,  -999.0, -999.00,9, -999.00,9, -999.00,9, -999.00,9,   9.0462, -999.00
096U20160426,       P15S,      48,          1,         16,       2016,2,20160523,       0821,   -44.1534,  -173.9403,       1897,   484.1,   8.8910,  34.5980,2,  34.6006,2,    224.7,2,   219.3,2,    6.17,2,   18.91,2,    0.01,4,    1.30,2,   3.222,2,   1.766,2,   1.381,2,  2144.6,2,  2289.1,2,-999.0000,9,  -999.00,   1.7670,2,   -0.28,2, -999.00,9,  -999.0,9,  -999.0, -999.00,9, -999.00,9, -999.00,9, -999.00,9,   8.8382,    0.64
096U20160426,       P15S,      48,          1,         15,       2015,2,20160523,       0821,   -44.1534,  -173.9403,       1897,   561.7,   8.3590,  34.5390,2,  34.5396,2,    227.6,2,   222.4,2,    6.79,2,   20.18,2,    0.00,4,    1.37,2,   3.262,2,   1.780,2,   1.247,2,  2146.6,2,  2285.9,2,-999.0000,9,  -999.00,-999.0000,9, -999.00,9, -999.00,9,  -999.0,9,  -999.0, -999.00,9, -999.00,9, -999.00,9, -999.00,9,   8.2997, -999.00
096U20160426,       P15S,      48,          1,         14,       2014,2,20160523,       0821,   -44.1534,  -173.9403,       1897,   663.9,   7.8470,  34.4960,2,  34.4975,2,    225.2,2,   220.4,2,    8.50,2,   21.71,2,    0.01,4,    1.47,2,   3.122,2,   1.648,2,    0.99,2,  2152.9,2,  2286.9,2,-999.0000,9,  -999.00,-999.0000,9, -999.00,9, -999.00,9,  -999.0,9,  -999.0, -999.00,9, -999.00,9, -999.00,9, -999.00,9,   7.7790, -999.00
096U20160426,       P15S,      48,          1,         13,       2013,2,20160523,       0821,   -44.1534,  -173.9403,       1897,   766.8,   7.2390,  34.4450,2,  34.4453,2,    224.4,2,   219.9,2,   10.57,2,   23.31,2,    0.01,4,    1.57,2,   2.847,2,   1.475,2,   0.767,2,  2157.5,6,  2286.4,6,-999.0000,9,  -999.00,-999.0000,9, -999.00,9, -999.00,9,  -999.0,9,  -999.0, -999.00,9, -999.00,9, -999.00,9, -999.00,9,   7.1635, -999.00
096U20160426,       P15S,      48,          1,         12,       2012,2,20160523,       0821,   -44.1534,  -173.9403,       1897,   866.2,   6.7290,  34.4150,2,  34.4147,2,    220.7,2,   215.7,2,   13.86,2,   24.96,2,    0.01,4,    1.68,2,   2.407,2,   1.217,2,   0.561,2,  2162.5,2,  2288.9,2,-999.0000,9,  -999.00,-999.0000,9, -999.00,9, -999.00,9,  -999.0,9,  -999.0, -999.00,9, -999.00,9, -999.00,9, -999.00,9,   6.6465, -999.00
096U20160426,       P15S,      48,          1,         11,       2011,2,20160523,       0821,   -44.1534,  -173.9403,       1897,   963.1,   6.0330,  34.3750,2,  34.3764,2,    216.0,2,   211.4,2,   18.39,2,   26.82,2,    0.01,4,    1.81,2,   2.090,2,   1.062,2,   0.483,2,  2170.9,2,  2288.6,2,-999.0000,9,  -999.00,   1.7850,2,    2.30,2, -999.00,9,  -999.0,9,  -999.0, -999.00,9, -999.00,9, -999.00,9, -999.00,9,   5.9457,    0.67
096U20160426,       P15S,      48,          1,         10,       2010,2,20160523,       0821,   -44.1534,  -173.9403,       1897,  1063.4,   5.5090,  34.3770,2,  34.3781,2,    207.2,2,   203.0,2,   24.84,2,   28.51,2,    0.00,4,    1.93,2,   1.610,2,   0.807,2,   0.322,2,  2184.0,2,  2294.5,2,-999.0000,9,  -999.00,-999.0000,9, -999.00,9, -999.00,9,  -999.0,9,  -999.0, -999.00,9, -999.00,9, -999.00,9, -999.00,9,   5.4160, -999.00
096U20160426,       P15S,      48,          1,          9,       2009,2,20160523,       0821,   -44.1534,  -173.9403,       1897,  1164.4,   5.0300,  34.3910,2,  34.3923,2,    199.6,2,   194.8,2,   32.56,2,   29.92,2,    0.00,4,    2.03,2,   1.175,6,   0.584,6,   0.213,6,  2193.5,2,  2301.6,2,-999.0000,9,  -999.00,-999.0000,9, -999.00,9, -999.00,9,  -999.0,9,  -999.0, -999.00,9, -999.00,9, -999.00,9, -999.00,9,   4.9316, -999.00
096U20160426,       P15S,      48,          1,          8,       2008,2,20160523,       0821,   -44.1534,  -173.9403,       1897,  1266.9,   4.6000,  34.4240,2,  34.4246,2,    190.6,2,   185.7,2,   42.44,2,   31.05,2,    0.00,4,    2.12,2,-999.000,9,-999.000,9,-999.000,9,  2213.6,2,  2312.7,6,-999.0000,9,  -999.00,-999.0000,9, -999.00,9, -999.00,9,  -999.0,9,  -999.0, -999.00,9, -999.00,9, -999.00,9, -999.00,9,   4.4960, -999.00
096U20160426,       P15S,      48,          1,          7,       2007,2,20160523,       0821,   -44.1534,  -173.9403,       1897,  1368.2,   4.1740,  34.4550,2,  34.4562,2,    182.9,2,   178.4,2,   52.79,2,   32.06,2,    0.00,4,    2.20,2,   0.475,2,   0.241,2,   0.131,2,  2228.1,2,  2322.9,2,-999.0000,9,  -999.00,-999.0000,9, -999.00,9, -999.00,9,  -999.0,9,  -999.0, -999.00,9, -999.00,9, -999.00,9, -999.00,9,   4.0650, -999.00
096U20160426,       P15S,      48,          1,          6,       2006,2,20160523,       0821,   -44.1534,  -173.9403,       1897,  1467.9,   3.7150,  34.4910,2,  34.4932,2,    176.2,2,   171.8,2,   64.10,2,   32.95,2,    0.00,4,    2.27,2,   0.342,2,   0.175,2,   0.119,2,  2243.2,6,  2335.1,6,-999.0000,9,  -999.00,   1.8450,2,   11.43,2, -999.00,9,  -999.0,9,  -999.0, -999.00,9, -999.00,9, -999.00,9, -999.00,9,   3.6020,    0.65
096U20160426,       P15S,      48,          1,          5,       2005,2,20160523,       0821,   -44.1534,  -173.9403,       1897,  1564.8,   3.3190,  34.5290,2,  34.5308,2,    169.8,2,   165.0,2,   76.13,2,   33.77,2,    0.00,4,    2.33,2,   0.202,2,   0.107,2,   0.053,2,  2260.5,2,  2349.7,2,-999.0000,9,  -999.00,-999.0000,9, -999.00,9, -999.00,9,  -999.0,9,  -999.0, -999.00,9, -999.00,9, -999.00,9, -999.00,9,   3.2020, -999.00
096U20160426,       P15S,      48,          1,          4,       2004,2,20160523,       0821,   -44.1534,  -173.9403,       1897,  1665.5,   2.8960,  34.5720,2,  34.5739,2,    165.1,2,   160.4,2,   87.59,2,   34.30,2,    0.01,4,    2.38,2,-999.000,9,-999.000,9,-999.000,9,  2271.7,2,  2360.6,2,-999.0000,9,  -999.00,-999.0000,9, -999.00,9, -999.00,9,  -999.0,9,  -999.0, -999.00,9, -999.00,9, -999.00,9, -999.00,9,   2.7755, -999.00
096U20160426,       P15S,      48,          1,          3,       2003,2,20160523,       0821,   -44.1534,  -173.9403,       1897,  1763.2,   2.6610,  34.5980,2,  34.5991,2,    164.7,2,   160.1,2,   91.74,2,   34.33,2,    0.00,4,    2.38,2,   0.135,2,   0.072,2,       0,2,  2275.6,2,  2365.0,6,-999.0000,9,  -999.00,   1.8610,2,   17.11,2, -999.00,9,  -999.0,9,  -999.0, -999.00,9, -999.00,9, -999.00,9, -999.00,9,   2.5352,    0.48
096U20160426,       P15S,      48,          1,          2,       2002,2,20160523,       0821,   -44.1534,  -173.9403,       1897,  1821.9,   2.4770,  34.6220,2,  34.6262,2,    166.8,2,   162.7,2,   93.02,2,   34.20,2,    0.00,4,    2.37,2,   0.150,2,   0.076,2,   0.028,2,  2275.1,2,  2362.9,2,-999.0000,9,  -999.00,   1.8650,2,   15.56,2, -999.00,9,  -999.0,9,  -999.0, -999.00,9, -999.00,9, -999.00,9, -999.00,9,   2.3486,    0.43
096U20160426,       P15S,      48,          1,          1,       2001,2,20160523,       0821,   -44.1534,  -173.9403,       1897,  1904.5,   2.3160,  34.6550,2,  34.6557,2,    172.8,2,   168.4,2,   91.21,2,   33.61,2,    0.00,4,    2.31,2,   0.166,2,   0.082,2,       0,2,  2271.7,2,  2360.8,2,-999.0000,9,  -999.00,-999.0000,9, -999.00,9, -999.00,9,  -999.0,9,  -999.0, -999.00,9, -999.00,9, -999.00,9, -999.00,9,   2.1828, -999.00