BOTTLE,20230413CCHSIOENA
EXPOCODE,SECT_ID,STNNBR,CASTNO,SAMPNO,BTLNBR,BTLNBR_FLAG_W,DATE,TIME,LATITUDE,LONGITUDE,DEPTH,CTDPRS,CTDTMP,CTDSAL,CTDSAL_FLAG_W,SALNTY,SALNTY_FLAG_W,CTDOXY,CTDOXY_FLAG_W,OXYGEN,OXYGEN_FLAG_W,SILCAT,SILCAT_FLAG_W,NITRAT,NITRAT_FLAG_W,NITRIT,NITRIT_FLAG_W,PHSPHT,PHSPHT_FLAG_W,CFC-11,CFC-11_FLAG_W,CFC-12,CFC-12_FLAG_W,SF6,SF6_FLAG_W,TCARBN,TCARBN_FLAG_W,ALKALI,ALKALI_FLAG_W,PH_TOT,PH_TOT_FLAG_W,PH_TMP,HELIUM,HELIUM_FLAG_W,DELHE3,DELHE3_FLAG_W,DELC13,DELC13_FLAG_W,DELC14,DELC14_FLAG_W,C14ERR,POC,POC_FLAG_W,PON,PON_FLAG_W,CHLORA,CHLORA_FLAG_W,PPHYTN,PPHYTN_FLAG_W,THETA,DELHER
,,,,,,,,,,,METERS,DBAR,ITS-90,PSS-78,,PSS-78,,UMOL/KG,,UMOL/KG,,UMOL/KG,,UMOL/KG,,UMOL/KG,,UMOL/KG,,PMOL/KG,,PMOL/KG,,FMOL/KG,,UMOL/KG,,UMOL/KG,,,,DEG C,NMOL/KG,,PERCNT,,/MILLE,,/MILLE,,/MILLE,UG/KG,,UG/KG,,UG/KG,,UG/KG,,DEG C,PERCNT
096U20160426,       P15S,      53,          1,         36,       2036,2,20160529,       0624,   -41.7277,  -173.9514,       3118,     7.2,  15.5650,  35.1530,2,  35.1533,2,    242.8,2,  -999.0,9,    0.73,2,    0.62,2,    0.23,2,    0.20,2,   2.496,6,   1.494,6,   1.822,6,  2071.2,2,  2312.0,2,-999.0000,9,  -999.00,-999.0000,9, -999.00,9, -999.00,9,  -999.0,9,  -999.0, -999.00,9, -999.00,9, -999.00,9, -999.00,9,  15.5639, -999.00
096U20160426,       P15S,      53,          1,         35,       2035,2,20160529,       0624,   -41.7277,  -173.9514,       3118,    35.2,  15.5780,  35.1540,2,  35.1556,2,    243.2,2,   241.4,2,    0.73,2,    0.61,2,    0.24,2,    0.20,2,   2.517,2,   1.495,2,   1.783,2,  2071.6,6,  2315.9,6,-999.0000,9,  -999.00,-999.0000,9, -999.00,9, -999.00,9,  -999.0,9,  -999.0, -999.00,9, -999.00,9, -999.00,9, -999.00,9,  15.5725, -999.00
096U20160426,       P15S,      53,          1,         34,       2034,2,20160529,       0624,   -41.7277,  -173.9514,       3118,    59.4,  15.5910,  35.1570,2,  35.1617,2,    242.6,2,   241.1,2,    0.74,2,    0.64,2,    0.23,2,    0.20,2,-999.000,9,-999.000,9,-999.000,9,  2072.3,2,  2314.9,2,-999.0000,9,  -999.00,-999.0000,9, -999.00,9, -999.00,9,  -999.0,9,  -999.0, -999.00,9, -999.00,9, -999.00,9, -999.00,9,  15.5818, -999.00
096U20160426,       P15S,      53,          1,         33,       2033,2,20160529,       0624,   -41.7277,  -173.9514,       3118,    85.2,  15.6170,  35.1950,2,  35.1941,2,    239.3,2,   237.3,2,    0.86,2,    1.10,2,    0.23,2,    0.23,2,-999.000,9,-999.000,9,-999.000,9,  -999.0,9,  -999.0,9,-999.0000,9,  -999.00,-999.0000,9, -999.00,9, -999.00,9,  -999.0,9,  -999.0, -999.00,9, -999.00,9, -999.00,9, -999.00,9,  15.6038, -999.00
096U20160426,       P15S,      53,          1,         32,       2032,2,20160529,       0624,   -41.7277,  -173.9514,       3118,   112.3,  13.9310,  35.2000,2,  35.1994,2,    213.4,2,   211.9,2,    2.34,2,    7.38,2,    0.03,2,    0.62,2,   2.669,2,   1.589,2,   1.735,2,  2111.8,2,  2309.5,2,-999.0000,9,  -999.00,-999.0000,9, -999.00,9, -999.00,9,  -999.0,9,  -999.0, -999.00,9, -999.00,9, -999.00,9, -999.00,9,  13.9148, -999.00
096U20160426,       P15S,      53,          1,         31,       2031,2,20160529,       0624,   -41.7277,  -173.9514,       3118,   136.3,  13.4980,  35.1700,2,  35.1666,2,    214.1,2,   213.0,2,    2.57,2,    8.35,2,    0.03,2,    0.67,2,-999.000,9,-999.000,9,-999.000,9,  -999.0,9,  -999.0,9,-999.0000,9,  -999.00,-999.0000,9, -999.00,9, -999.00,9,  -999.0,9,  -999.0, -999.00,9, -999.00,9, -999.00,9, -999.00,9,  13.4788, -999.00
096U20160426,       P15S,      53,          1,         30,       2030,2,20160529,       0624,   -41.7277,  -173.9514,       3118,   161.9,  12.9170,  35.1210,2,  35.1252,2,    221.1,2,   219.6,2,    2.38,2,    8.47,2,    0.02,2,    0.67,2,   2.803,2,   1.659,2,   1.772,2,  2115.5,2,  2306.0,6,-999.0000,9,  -999.00,-999.0000,9, -999.00,9, -999.00,9,  -999.0,9,  -999.0, -999.00,9, -999.00,9, -999.00,9, -999.00,9,  12.8948, -999.00
096U20160426,       P15S,      53,          1,         29,       2029,2,20160529,       0624,   -41.7277,  -173.9514,       3118,   185.8,  12.6040,  35.1000,2,  35.1010,2,    225.2,2,   225.8,2,    2.45,2,    8.68,2,    0.02,4,    0.68,2,-999.000,9,-999.000,9,-999.000,9,  -999.0,9,  -999.0,9,-999.0000,9,  -999.00,-999.0000,9, -999.00,9, -999.00,9,  -999.0,9,  -999.0, -999.00,9, -999.00,9, -999.00,9, -999.00,9,  12.5789, -999.00
096U20160426,       P15S,      53,          1,         28,       2028,2,20160529,       0624,   -41.7277,  -173.9514,       3118,   210.4,  12.4180,  35.0940,2,  35.0938,2,    231.8,2,   230.5,2,    2.39,2,    8.55,2,    0.02,4,    0.68,2,   2.913,2,   1.711,2,   1.872,2,  2114.7,2,  2303.4,2,-999.0000,9,  -999.00,-999.0000,9, -999.00,9, -999.00,9,  -999.0,9,  -999.0, -999.00,9, -999.00,9, -999.00,9, -999.00,9,  12.3899, -999.00
096U20160426,       P15S,      53,          1,         27,       2027,2,20160529,       0624,   -41.7277,  -173.9514,       3118,   237.3,  12.2910,  35.0830,2,  35.0817,2,    235.2,2,   233.9,2,    2.47,2,    8.63,2,    0.02,4,    0.68,2,   2.904,2,   1.707,2,   1.926,2,  2115.5,2,  2301.9,2,-999.0000,9,  -999.00,-999.0000,9, -999.00,9, -999.00,9,  -999.0,9,  -999.0, -999.00,9, -999.00,9, -999.00,9, -999.00,9,  12.2595, -999.00
096U20160426,       P15S,      53,          1,         26,       2026,2,20160529,       0624,   -41.7277,  -173.9514,       3118,   265.8,  11.9170,  35.0170,2,  35.0185,2,    232.2,2,   230.1,2,    2.90,2,    9.94,2,    0.02,4,    0.76,2,   2.926,2,   1.715,2,   1.735,2,  2118.7,2,  2304.1,2,-999.0000,9,  -999.00,-999.0000,9, -999.00,9, -999.00,9,  -999.0,9,  -999.0, -999.00,9, -999.00,9, -999.00,9, -999.00,9,  11.8824, -999.00
096U20160426,       P15S,      53,          1,         25,       2025,2,20160529,       0624,   -41.7277,  -173.9514,       3118,   316.5,  11.0840,  34.8770,2,  34.8763,2,    225.8,2,   224.5,2,    3.65,2,   12.60,2,    0.01,4,    0.92,2,   2.965,2,   1.738,2,   1.754,2,  2127.8,2,  2296.8,2,-999.0000,9,  -999.00,-999.0000,9, -999.00,9, -999.00,9,  -999.0,9,  -999.0, -999.00,9, -999.00,9, -999.00,9, -999.00,9,  11.0446, -999.00
096U20160426,       P15S,      53,          1,         24,       2024,2,20160529,       0624,   -41.7277,  -173.9514,       3118,   364.7,  10.1380,  34.7410,2,  34.7411,2,    222.2,2,   220.0,2,    4.63,2,   15.35,2,    0.01,4,    1.10,2,   3.112,6,   1.767,6,   1.603,6,  2135.1,2,  2296.2,2,-999.0000,9,  -999.00,-999.0000,9, -999.00,9, -999.00,9,  -999.0,9,  -999.0, -999.00,9, -999.00,9, -999.00,9, -999.00,9,  10.0951, -999.00
096U20160426,       P15S,      53,          1,         23,       2023,2,20160529,       0624,   -41.7277,  -173.9514,       3118,   414.2,   9.6640,  34.6970,2,  34.6977,2,    213.0,2,   210.9,2,    5.83,2,   17.61,2,    0.01,4,    1.23,2,-999.000,9,-999.000,9,-999.000,9,  -999.0,9,  -999.0,9,-999.0000,9,  -999.00,-999.0000,9, -999.00,9, -999.00,9,  -999.0,9,  -999.0, -999.00,9, -999.00,9, -999.00,9, -999.00,9,   9.6166, -999.00
096U20160426,       P15S,      53,          1,         22,       2022,2,20160529,       0624,   -41.7277,  -173.9514,       3118,   466.2,   9.3040,  34.6570,2,  34.6512,2,    213.4,2,   212.2,2,    6.29,2,   18.57,2,    0.01,4,    1.29,2,   3.145,2,   1.674,2,   1.263,2,  2145.3,2,  2291.1,2,-999.0000,9,  -999.00,-999.0000,9, -999.00,9, -999.00,9,  -999.0,9,  -999.0, -999.00,9, -999.00,9, -999.00,9, -999.00,9,   9.2518, -999.00
096U20160426,       P15S,      53,          1,         21,       2021,2,20160529,       0624,   -41.7277,  -173.9514,       3118,   535.9,   8.6780,  34.5820,2,  34.5811,2,    220.5,2,   219.1,2,    6.90,2,   19.55,2,    0.00,4,    1.36,2,-999.000,9,-999.000,9,-999.000,9,  -999.0,9,  -999.0,9,-999.0000,9,  -999.00,-999.0000,9, -999.00,9, -999.00,9,  -999.0,9,  -999.0, -999.00,9, -999.00,9, -999.00,9, -999.00,9,   8.6202, -999.00
096U20160426,       P15S,      53,          1,         20,       2020,2,20160529,       0624,   -41.7277,  -173.9514,       3118,   637.8,   8.0280,  34.5140,2,  34.5121,2,    222.4,2,   220.8,2,    8.06,2,   21.19,2,    0.00,4,    1.46,2,   3.125,2,   1.694,2,   0.997,2,  2147.9,2,  2286.4,2,-999.0000,9,  -999.00,-999.0000,9, -999.00,9, -999.00,9,  -999.0,9,  -999.0, -999.00,9, -999.00,9, -999.00,9, -999.00,9,   7.9620, -999.00
096U20160426,       P15S,      53,          1,         19,       2019,2,20160529,       0624,   -41.7277,  -173.9514,       3118,   734.3,   7.3870,  34.4610,2,  34.4613,2,    220.9,2,   219.0,2,   10.30,2,   22.94,2,    0.01,4,    1.57,2,   2.869,2,   1.493,2,   0.855,2,  2154.3,2,  2287.3,2,-999.0000,9,  -999.00,-999.0000,9, -999.00,9, -999.00,9,  -999.0,9,  -999.0, -999.00,9, -999.00,9, -999.00,9, -999.00,9,   7.3140, -999.00
096U20160426,       P15S,      53,          1,         18,       2018,2,20160529,       0624,   -41.7277,  -173.9514,       3118,   835.0,   6.8850,  34.4310,2,  34.4307,2,    217.0,2,   215.2,2,   13.30,2,   24.51,2,    0.01,4,    1.67,2,   2.494,2,   1.239,2,   0.604,2,  -999.0,9,  2283.5,2,-999.0000,9,  -999.00,-999.0000,9, -999.00,9, -999.00,9,  -999.0,9,  -999.0, -999.00,9, -999.00,9, -999.00,9, -999.00,9,   6.8046, -999.00
096U20160426,       P15S,      53,          1,         17,       2017,2,20160529,       0624,   -41.7277,  -173.9514,       3118,   938.3,   6.3740,  34.4130,2,-999.0000,9,    211.1,2,  -999.0,9, -999.00,9, -999.00,9, -999.00,9, -999.00,9,-999.000,9,-999.000,9,-999.000,9,  -999.0,9,  -999.0,9,-999.0000,9,  -999.00,-999.0000,9, -999.00,9, -999.00,9,  -999.0,9,  -999.0, -999.00,9, -999.00,9, -999.00,9, -999.00,9,   6.2866, -999.00
096U20160426,       P15S,      53,          1,         16,       2016,2,20160529,       0624,   -41.7277,  -173.9514,       3118,  1033.8,   5.7480,  34.3920,2,  34.3927,2,    204.7,2,   202.9,2,   23.36,2,   27.94,2,    0.01,4,    1.91,2,   1.485,2,   0.724,2,   0.306,2,  2179.0,2,  2291.9,2,-999.0000,9,  -999.00,-999.0000,9, -999.00,9, -999.00,9,  -999.0,9,  -999.0, -999.00,9, -999.00,9, -999.00,9, -999.00,9,   5.6560, -999.00
096U20160426,       P15S,      53,          1,         15,       2015,2,20160529,       0624,   -41.7277,  -173.9514,       3118,  1137.1,   5.1880,  34.4120,2,  34.4117,2,    195.0,2,   193.0,2,   33.21,2,   29.55,2,    0.01,4,    2.03,2,-999.000,9,-999.000,9,-999.000,9,  -999.0,9,  -999.0,9,-999.0000,9,  -999.00,-999.0000,9, -999.00,9, -999.00,9,  -999.0,9,  -999.0, -999.00,9, -999.00,9, -999.00,9, -999.00,9,   5.0907, -999.00
096U20160426,       P15S,      53,          1,         14,       2014,2,20160529,       0624,   -41.7277,  -173.9514,       3118,  1234.6,   4.6010,  34.4330,2,  34.4332,2,    186.7,2,   184.3,2,   43.75,2,   31.04,2,    0.01,4,    2.14,2,   0.691,2,   0.343,2,   0.164,2,  2212.2,2,  2312.2,6,-999.0000,9,  -999.00,-999.0000,9, -999.00,9, -999.00,9,  -999.0,9,  -999.0, -999.00,9, -999.00,9, -999.00,9, -999.00,9,   4.4999, -999.00
096U20160426,       P15S,      53,          1,         13,       2013,2,20160529,       0624,   -41.7277,  -173.9514,       3118,  1335.7,   4.1310,  34.4560,2,  34.4569,2,    180.6,2,   177.8,2,   53.38,2,   32.21,2,    0.01,4,    2.23,2,-999.000,9,-999.000,9,-999.000,9,  -999.0,9,  -999.0,9,-999.0000,9,  -999.00,-999.0000,9, -999.00,9, -999.00,9,  -999.0,9,  -999.0, -999.00,9, -999.00,9, -999.00,9, -999.00,9,   4.0254, -999.00
096U20160426,       P15S,      53,          1,         12,       2012,2,20160529,       0624,   -41.7277,  -173.9514,       3118,  1437.0,   3.7210,  34.4900,2,  34.4899,2,    174.3,2,   171.2,2,   63.94,2,   33.04,2,    0.01,4,    2.29,2,   0.298,6,   0.153,6,   0.054,6,  2241.2,2,  2336.5,2,-999.0000,9,  -999.00,-999.0000,9, -999.00,9, -999.00,9,  -999.0,9,  -999.0, -999.00,9, -999.00,9, -999.00,9, -999.00,9,   3.6107, -999.00
096U20160426,       P15S,      53,          1,         11,       2011,2,20160529,       0624,   -41.7277,  -173.9514,       3118,  1533.7,   3.3550,  34.5140,2,  34.5154,2,    168.9,2,   166.2,2,   72.12,2,   33.78,2,    0.00,4,    2.34,2,-999.000,9,-999.000,9,-999.000,9,  -999.0,9,  -999.0,9,-999.0000,9,  -999.00,-999.0000,9, -999.00,9, -999.00,9,  -999.0,9,  -999.0, -999.00,9, -999.00,9, -999.00,9, -999.00,9,   3.2403, -999.00
096U20160426,       P15S,      53,          1,         10,       2010,2,20160529,       0624,   -41.7277,  -173.9514,       3118,  1635.6,   3.1180,  34.5500,2,  34.5518,2,    164.8,2,   161.8,2,   82.27,2,   34.12,2,    0.00,4,    2.37,2,   0.143,2,   0.075,2,   0.015,2,  2264.6,2,  2353.7,2,-999.0000,9,  -999.00,-999.0000,9, -999.00,9, -999.00,9,  -999.0,9,  -999.0, -999.00,9, -999.00,9, -999.00,9, -999.00,9,   2.9973, -999.00
096U20160426,       P15S,      53,          1,          9,       2009,2,20160529,       0624,   -41.7277,  -173.9514,       3118,  1736.4,   2.9070,  34.5730,2,  34.5735,2,    161.9,2,   158.8,2,   89.02,2,   34.39,2,    0.00,4,    2.40,2,-999.000,9,-999.000,9,-999.000,9,  -999.0,9,  -999.0,9,-999.0000,9,  -999.00,-999.0000,9, -999.00,9, -999.00,9,  -999.0,9,  -999.0, -999.00,9, -999.00,9, -999.00,9, -999.00,9,   2.7803, -999.00
096U20160426,       P15S,      53,          1,          8,       2008,2,20160529,       0624,   -41.7277,  -173.9514,       3118,  1866.1,   2.6440,  34.6000,2,  34.5999,2,    158.9,2,   155.6,2,   97.81,2,   34.83,2,    0.00,4,    2.43,2,   0.064,2,   0.035,2,   0.009,2,  2284.2,2,  2374.5,2,-999.0000,9,  -999.00,-999.0000,9, -999.00,9, -999.00,9,  -999.0,9,  -999.0, -999.00,9, -999.00,9, -999.00,9, -999.00,9,   2.5096, -999.00
096U20160426,       P15S,      53,          1,          7,       2007,2,20160529,       0624,   -41.7277,  -173.9514,       3118,  2065.7,   2.3510,  34.6280,2,  34.6282,2,    156.4,2,   153.1,2,  107.11,2,   35.12,2,    0.00,4,    2.46,2,   0.032,2,   0.019,2,   0.021,2,  2294.3,2,  2378.9,2,-999.0000,9,  -999.00,-999.0000,9, -999.00,9, -999.00,9,  -999.0,9,  -999.0, -999.00,9, -999.00,9, -999.00,9, -999.00,9,   2.2035, -999.00
096U20160426,       P15S,      53,          1,          6,       2006,2,20160529,       0624,   -41.7277,  -173.9514,       3118,  2265.5,   2.1430,  34.6500,2,  34.6506,2,    158.3,2,   155.1,2,  111.18,2,   35.00,2,    0.01,4,    2.45,2,   0.022,2,   0.014,2,       0,2,  2297.2,2,  2387.5,2,-999.0000,9,  -999.00,-999.0000,9, -999.00,9, -999.00,9,  -999.0,9,  -999.0, -999.00,9, -999.00,9, -999.00,9, -999.00,9,   1.9812, -999.00
096U20160426,       P15S,      53,          1,          5,       2005,2,20160529,       0624,   -41.7277,  -173.9514,       3118,  2462.6,   1.9590,  34.6800,2,  34.6802,2,    168.0,2,   165.3,2,  108.28,2,   34.11,2,    0.00,4,    2.37,2,-999.000,9,-999.000,9,-999.000,9,  -999.0,9,  -999.0,9,-999.0000,9,  -999.00,-999.0000,9, -999.00,9, -999.00,9,  -999.0,9,  -999.0, -999.00,9, -999.00,9, -999.00,9, -999.00,9,   1.7827, -999.00
096U20160426,       P15S,      53,          1,          4,       2004,2,20160529,       0624,   -41.7277,  -173.9514,       3118,  2665.3,   1.8280,  34.7060,2,  34.7057,2,    179.9,2,   177.8,2,  103.07,2,   32.96,2,    0.00,4,    2.28,2,   0.058,2,   0.032,2,   0.022,2,  2273.5,2,  2371.0,2,-999.0000,9,  -999.00,-999.0000,9, -999.00,9, -999.00,9,  -999.0,9,  -999.0, -999.00,9, -999.00,9, -999.00,9, -999.00,9,   1.6356, -999.00
096U20160426,       P15S,      53,          1,          3,       2003,2,20160529,       0624,   -41.7277,  -173.9514,       3118,  2865.5,   1.7180,  34.7210,2,  34.7211,2,    189.4,2,   187.3,2,  100.52,2,   32.11,2,    0.00,4,    2.22,2,-999.000,9,-999.000,9,-999.000,9,  -999.0,9,  -999.0,9,-999.0000,9,  -999.00,-999.0000,9, -999.00,9, -999.00,9,  -999.0,9,  -999.0, -999.00,9, -999.00,9, -999.00,9, -999.00,9,   1.5090, -999.00
096U20160426,       P15S,      53,          1,          2,       2002,2,20160529,       0624,   -41.7277,  -173.9514,       3118,  3051.7,   1.5990,  34.7270,2,  34.7266,2,    194.4,2,   192.7,2,  101.61,2,   31.78,2,    0.00,4,    2.19,2,   0.090,2,   0.044,2,   0.033,2,  2260.3,6,  2362.6,6,-999.0000,9,  -999.00,-999.0000,9, -999.00,9, -999.00,9,  -999.0,9,  -999.0, -999.00,9, -999.00,9, -999.00,9, -999.00,9,   1.3748, -999.00
096U20160426,       P15S,      53,          1,          1,       2001,2,20160529,       0624,   -41.7277,  -173.9514,       3118,  3149.0,   1.5740,  34.7280,2,  34.7275,2,    195.3,2,   193.5,2,  101.98,2,   31.81,2,    0.01,4,    2.19,2,   0.095,2,   0.047,2,       0,2,  2260.4,2,  2361.6,2,-999.0000,9,  -999.00,-999.0000,9, -999.00,9, -999.00,9,  -999.0,9,  -999.0, -999.00,9, -999.00,9, -999.00,9, -999.00,9,   1.3409, -999.00