BOTTLE,20230413CCHSIOENA
EXPOCODE,SECT_ID,STNNBR,CASTNO,SAMPNO,BTLNBR,BTLNBR_FLAG_W,DATE,TIME,LATITUDE,LONGITUDE,DEPTH,CTDPRS,CTDTMP,CTDSAL,CTDSAL_FLAG_W,SALNTY,SALNTY_FLAG_W,CTDOXY,CTDOXY_FLAG_W,OXYGEN,OXYGEN_FLAG_W,SILCAT,SILCAT_FLAG_W,NITRAT,NITRAT_FLAG_W,NITRIT,NITRIT_FLAG_W,PHSPHT,PHSPHT_FLAG_W,CFC-11,CFC-11_FLAG_W,CFC-12,CFC-12_FLAG_W,SF6,SF6_FLAG_W,TCARBN,TCARBN_FLAG_W,ALKALI,ALKALI_FLAG_W,PH_TOT,PH_TOT_FLAG_W,PH_TMP,HELIUM,HELIUM_FLAG_W,DELHE3,DELHE3_FLAG_W,DELC13,DELC13_FLAG_W,DELC14,DELC14_FLAG_W,C14ERR,POC,POC_FLAG_W,PON,PON_FLAG_W,CHLORA,CHLORA_FLAG_W,PPHYTN,PPHYTN_FLAG_W,THETA,DELHER
,,,,,,,,,,,METERS,DBAR,ITS-90,PSS-78,,PSS-78,,UMOL/KG,,UMOL/KG,,UMOL/KG,,UMOL/KG,,UMOL/KG,,UMOL/KG,,PMOL/KG,,PMOL/KG,,FMOL/KG,,UMOL/KG,,UMOL/KG,,,,DEG C,NMOL/KG,,PERCNT,,/MILLE,,/MILLE,,/MILLE,UG/KG,,UG/KG,,UG/KG,,UG/KG,,DEG C,PERCNT
096U20160426,       P15S,      47,          1,         36,       2036,2,20160523,       0240,   -44.3277,  -173.7481,       3103,     1.3,  12.3730,-999.0000,9,-999.0000,9,   -999.0,9,  -999.0,9, -999.00,9, -999.00,9, -999.00,9, -999.00,9,-999.000,9,-999.000,9,-999.000,9,  -999.0,9,  -999.0,9,-999.0000,9,  -999.00,-999.0000,9, -999.00,9, -999.00,9,  -999.0,9,  -999.0, -999.00,9, -999.00,9,    0.47,2,    0.17,3,-999.0000, -999.00
096U20160426,       P15S,      47,          1,         35,       2035,2,20160523,       0240,   -44.3277,  -173.7481,       3103,    34.3,  12.4320,  34.7020,2,  34.7050,2,    266.3,2,   259.8,2,    0.56,2,    3.96,2,    0.33,2,    0.45,2,   2.949,2,   1.718,2,   2.078,2,  2082.1,2,  2297.1,2,-999.0000,9,  -999.00,-999.0000,9, -999.00,9, -999.00,9,  -999.0,9,  -999.0, -999.00,9, -999.00,9,    0.44,2,    0.30,3,  12.4275, -999.00
096U20160426,       P15S,      47,          1,         34,       2034,2,20160523,       0240,   -44.3277,  -173.7481,       3103,    61.4,  12.4250,  34.7020,2,  34.7027,2,    265.4,2,   259.2,2,    0.54,2,    4.01,2,    0.34,2,    0.45,2,-999.000,9,-999.000,9,-999.000,9,  -999.0,9,  -999.0,9,-999.0000,9,  -999.00,-999.0000,9, -999.00,9, -999.00,9,  -999.0,9,  -999.0, -999.00,9, -999.00,9,    0.81,2,   -0.13,3,  12.4169, -999.00
096U20160426,       P15S,      47,          1,         33,       2033,2,20160523,       0240,   -44.3277,  -173.7481,       3103,    82.6,  12.4220,  34.7030,2,  34.7046,2,    264.8,2,   258.9,2,    0.56,2,    4.04,2,    0.34,2,    0.45,2,-999.000,9,-999.000,9,-999.000,9,  -999.0,9,  -999.0,9,-999.0000,9,  -999.00,-999.0000,9, -999.00,9, -999.00,9,  -999.0,9,  -999.0, -999.00,9, -999.00,9,    0.59,2,    0.02,3,  12.4111, -999.00
096U20160426,       P15S,      47,          1,         32,       2032,2,20160523,       0240,   -44.3277,  -173.7481,       3103,   110.1,  12.4960,  34.6930,3,  34.7086,2,    258.1,3,   258.1,2,    0.58,2,    4.23,2,    0.33,2,    0.46,2,   2.982,2,   1.723,2,   2.138,2,  2085.2,6,  2297.8,6,-999.0000,9,  -999.00,-999.0000,9, -999.00,9, -999.00,9,  -999.0,9,  -999.0, -999.00,9, -999.00,9,    0.65,2,   -0.19,3,  12.4813, -999.00
096U20160426,       P15S,      47,          1,         31,       2031,2,20160523,       0240,   -44.3277,  -173.7481,       3103,   135.6,  11.2530,-999.0000,9,  34.7686,2,   -999.0,9,   252.1,2, -999.00,9, -999.00,9, -999.00,9, -999.00,9,-999.000,9,-999.000,9,-999.000,9,  -999.0,9,  -999.0,9,-999.0000,9,  -999.00,-999.0000,9, -999.00,9, -999.00,9,  -999.0,9,  -999.0, -999.00,9, -999.00,9, -999.00,9, -999.00,9,  11.2361, -999.00
096U20160426,       P15S,      47,          1,         30,       2030,2,20160523,       0240,   -44.3277,  -173.7481,       3103,   158.7,  10.8830,-999.0000,9,  34.8223,2,   -999.0,9,   250.4,2, -999.00,9, -999.00,9, -999.00,9, -999.00,9,-999.000,9,-999.000,9,-999.000,9,  -999.0,9,  -999.0,9,-999.0000,9,  -999.00,-999.0000,9, -999.00,9, -999.00,9,  -999.0,9,  -999.0, -999.00,9, -999.00,9, -999.00,9, -999.00,9,  10.8636, -999.00
096U20160426,       P15S,      47,          1,         29,       2029,2,20160523,       0240,   -44.3277,  -173.7481,       3103,   187.0,  10.5480,-999.0000,9,  34.7972,2,   -999.0,9,   248.8,2, -999.00,9, -999.00,9, -999.00,9, -999.00,9,-999.000,9,-999.000,9,-999.000,9,  -999.0,9,  -999.0,9,-999.0000,9,  -999.00,-999.0000,9, -999.00,9, -999.00,9,  -999.0,9,  -999.0, -999.00,9, -999.00,9, -999.00,9, -999.00,9,  10.5256, -999.00
096U20160426,       P15S,      47,          1,         28,       2028,2,20160523,       0240,   -44.3277,  -173.7481,       3103,   210.6,  10.2970,-999.0000,9,  34.7659,2,   -999.0,9,   246.6,2, -999.00,9, -999.00,9, -999.00,9, -999.00,9,-999.000,9,-999.000,9,-999.000,9,  -999.0,9,  -999.0,9,-999.0000,9,  -999.00,-999.0000,9, -999.00,9, -999.00,9,  -999.0,9,  -999.0, -999.00,9, -999.00,9, -999.00,9, -999.00,9,  10.2722, -999.00
096U20160426,       P15S,      47,          1,         27,       2027,2,20160523,       0240,   -44.3277,  -173.7481,       3103,   234.9,  10.0530,-999.0000,9,  34.7339,2,   -999.0,9,   247.8,2, -999.00,9, -999.00,9, -999.00,9, -999.00,9,   3.286,2,   1.856,2,    2.02,2,  2124.4,2,  2293.0,6,-999.0000,9,  -999.00,-999.0000,9, -999.00,9, -999.00,9,  -999.0,9,  -999.0, -999.00,9, -999.00,9, -999.00,9, -999.00,9,  10.0257, -999.00
096U20160426,       P15S,      47,          1,         26,       2026,2,20160523,       0240,   -44.3277,  -173.7481,       3103,   264.2,   9.7710,-999.0000,9,  34.6965,2,   -999.0,9,   244.2,2, -999.00,9, -999.00,9, -999.00,9, -999.00,9,-999.000,9,-999.000,9,-999.000,9,  -999.0,9,  -999.0,9,-999.0000,9,  -999.00,-999.0000,9, -999.00,9, -999.00,9,  -999.0,9,  -999.0, -999.00,9, -999.00,9, -999.00,9, -999.00,9,   9.7408, -999.00
096U20160426,       P15S,      47,          1,         25,       2025,2,20160523,       0240,   -44.3277,  -173.7481,       3103,   314.0,   9.3090,-999.0000,9,  34.6375,2,   -999.0,9,   237.0,2, -999.00,9, -999.00,9, -999.00,9, -999.00,9,-999.000,9,-999.000,9,-999.000,9,  -999.0,9,  -999.0,9,-999.0000,9,  -999.00,-999.0000,9, -999.00,9, -999.00,9,  -999.0,9,  -999.0, -999.00,9, -999.00,9, -999.00,9, -999.00,9,   9.2741, -999.00
096U20160426,       P15S,      47,          1,         24,       2024,2,20160523,       0240,   -44.3277,  -173.7481,       3103,   366.1,   8.8450,-999.0000,9,  34.5909,2,   -999.0,9,   230.5,2, -999.00,9, -999.00,9, -999.00,9, -999.00,9,-999.000,9,-999.000,9,-999.000,9,  -999.0,9,  -999.0,9,-999.0000,9,  -999.00,-999.0000,9, -999.00,9, -999.00,9,  -999.0,9,  -999.0, -999.00,9, -999.00,9, -999.00,9, -999.00,9,   8.8055, -999.00
096U20160426,       P15S,      47,          1,         23,       2023,2,20160523,       0240,   -44.3277,  -173.7481,       3103,   417.0,   8.4890,-999.0000,9,  34.5416,2,   -999.0,9,   233.1,2, -999.00,9, -999.00,9, -999.00,9, -999.00,9,   3.407,2,   1.871,2,   1.409,2,  2143.1,2,  2286.0,2,-999.0000,9,  -999.00,-999.0000,9, -999.00,9, -999.00,9,  -999.0,9,  -999.0, -999.00,9, -999.00,9, -999.00,9, -999.00,9,   8.4450, -999.00
096U20160426,       P15S,      47,          1,         22,       2022,2,20160523,       0240,   -44.3277,  -173.7481,       3103,   467.5,   8.1860,-999.0000,9,  34.5095,2,   -999.0,9,   236.0,2, -999.00,9, -999.00,9, -999.00,9, -999.00,9,-999.000,9,-999.000,9,-999.000,9,  -999.0,9,  -999.0,9,-999.0000,9,  -999.00,-999.0000,9, -999.00,9, -999.00,9,  -999.0,9,  -999.0, -999.00,9, -999.00,9, -999.00,9, -999.00,9,   8.1376, -999.00
096U20160426,       P15S,      47,          1,         21,       2021,2,20160523,       0240,   -44.3277,  -173.7481,       3103,   534.7,   7.7730,-999.0000,9,  34.4675,2,   -999.0,9,   239.2,2, -999.00,9, -999.00,9, -999.00,9, -999.00,9,-999.000,9,-999.000,9,-999.000,9,  -999.0,9,  -999.0,9,-999.0000,9,  -999.00,-999.0000,9, -999.00,9, -999.00,9,  -999.0,9,  -999.0, -999.00,9, -999.00,9, -999.00,9, -999.00,9,   7.7190, -999.00
096U20160426,       P15S,      47,          1,         20,       2020,2,20160523,       0240,   -44.3277,  -173.7481,       3103,   636.5,   7.2800,-999.0000,9,  34.4056,2,   -999.0,9,   246.2,2, -999.00,9, -999.00,9, -999.00,9, -999.00,9,   3.657,6,   1.962,6,   1.406,6,  2146.4,2,  2283.0,2,-999.0000,9,  -999.00,-999.0000,9, -999.00,9, -999.00,9,  -999.0,9,  -999.0, -999.00,9, -999.00,9, -999.00,9, -999.00,9,   7.2177, -999.00
096U20160426,       P15S,      47,          1,         19,       2019,2,20160523,       0240,   -44.3277,  -173.7481,       3103,   734.9,   6.9500,-999.0000,9,  34.3944,2,   -999.0,9,   237.0,2, -999.00,9, -999.00,9, -999.00,9, -999.00,9,-999.000,9,-999.000,9,-999.000,9,  -999.0,9,  -999.0,9,-999.0000,9,  -999.00,-999.0000,9, -999.00,9, -999.00,9,  -999.0,9,  -999.0, -999.00,9, -999.00,9, -999.00,9, -999.00,9,   6.8794, -999.00
096U20160426,       P15S,      47,          1,         18,       2018,2,20160523,       0240,   -44.3277,  -173.7481,       3103,   834.0,   6.5250,  34.3640,2,  34.3654,2,    231.4,2,   226.6,2,   11.73,2,   24.79,2,    0.00,4,    1.66,2,-999.000,9,-999.000,9,-999.000,9,  -999.0,9,  -999.0,9,-999.0000,9,  -999.00,-999.0000,9, -999.00,9, -999.00,9,  -999.0,9,  -999.0, -999.00,9, -999.00,9, -999.00,9, -999.00,9,   6.4471, -999.00
096U20160426,       P15S,      47,          1,         17,       2017,2,20160523,       0240,   -44.3277,  -173.7481,       3103,   935.2,   6.0870,  34.3540,2,  34.3545,2,    222.7,2,   217.6,2,   16.07,2,   26.45,2,    0.00,4,    1.78,2,   2.529,2,   1.285,2,   0.748,2,  2167.3,2,  2286.8,2,-999.0000,9,  -999.00,-999.0000,9, -999.00,9, -999.00,9,  -999.0,9,  -999.0, -999.00,9, -999.00,9, -999.00,9, -999.00,9,   6.0021, -999.00
096U20160426,       P15S,      47,          1,         16,       2016,2,20160523,       0240,   -44.3277,  -173.7481,       3103,  1035.7,   5.5590,  34.3640,2,  34.3647,2,    210.7,2,   206.0,2,   23.02,2,   28.35,2,    0.00,4,    1.91,2,-999.000,9,-999.000,9,-999.000,9,  -999.0,9,  -999.0,9,-999.0000,9,  -999.00,-999.0000,9, -999.00,9, -999.00,9,  -999.0,9,  -999.0, -999.00,9, -999.00,9, -999.00,9, -999.00,9,   5.4683, -999.00
096U20160426,       P15S,      47,          1,         15,       2015,2,20160523,       0240,   -44.3277,  -173.7481,       3103,  1136.5,   5.0650,  34.3830,2,  34.3837,2,    201.0,2,   196.6,2,   31.26,2,   29.86,2,    0.00,4,    2.02,2,-999.000,9,-999.000,9,-999.000,9,  -999.0,9,  -999.0,9,-999.0000,9,  -999.00,-999.0000,9, -999.00,9, -999.00,9,  -999.0,9,  -999.0, -999.00,9, -999.00,9, -999.00,9, -999.00,9,   4.9689, -999.00
096U20160426,       P15S,      47,          1,         14,       2014,2,20160523,       0240,   -44.3277,  -173.7481,       3103,  1236.5,   4.7430,  34.4150,2,  34.4156,2,    192.6,2,   188.1,2,   39.52,2,   30.79,2,    0.00,4,    2.09,2,   0.829,2,   0.414,2,   0.176,2,  2206.1,2,  2309.1,2,-999.0000,9,  -999.00,-999.0000,9, -999.00,9, -999.00,9,  -999.0,9,  -999.0, -999.00,9, -999.00,9, -999.00,9, -999.00,9,   4.6405, -999.00
096U20160426,       P15S,      47,          1,         13,       2013,2,20160523,       0240,   -44.3277,  -173.7481,       3103,  1333.8,   4.3590,  34.4400,2,  34.4395,2,    186.3,2,   181.7,2,   47.98,2,   31.83,2,    0.00,4,    2.17,2,-999.000,9,-999.000,9,-999.000,9,  -999.0,9,  -999.0,9,-999.0000,9,  -999.00,-999.0000,9, -999.00,9, -999.00,9,  -999.0,9,  -999.0, -999.00,9, -999.00,9, -999.00,9, -999.00,9,   4.2513, -999.00
096U20160426,       P15S,      47,          1,         12,       2012,2,20160523,       0240,   -44.3277,  -173.7481,       3103,  1434.2,   3.8960,  34.4740,2,  34.4743,2,    179.0,2,   174.1,2,   59.05,2,   32.73,2,    0.00,4,    2.25,2,-999.000,9,-999.000,9,-999.000,9,  2233.0,2,  2330.0,2,-999.0000,9,  -999.00,-999.0000,9, -999.00,9, -999.00,9,  -999.0,9,  -999.0, -999.00,9, -999.00,9, -999.00,9, -999.00,9,   3.7840, -999.00
096U20160426,       P15S,      47,          1,         11,       2011,2,20160523,       0240,   -44.3277,  -173.7481,       3103,  1533.4,   3.5410,  34.5050,2,  34.5053,2,    173.3,2,   168.6,2,   68.58,2,   33.46,2,    0.00,4,    2.30,2,-999.000,9,-999.000,9,-999.000,9,  -999.0,9,  -999.0,9,-999.0000,9,  -999.00,-999.0000,9, -999.00,9, -999.00,9,  -999.0,9,  -999.0, -999.00,9, -999.00,9, -999.00,9, -999.00,9,   3.4242, -999.00
096U20160426,       P15S,      47,          1,         10,       2010,2,20160523,       0240,   -44.3277,  -173.7481,       3103,  1633.5,   3.2200,  34.5390,2,  34.5397,2,    168.6,2,   163.5,2,   78.89,2,   33.99,2,    0.00,4,    2.35,2,   0.177,2,   0.092,2,    0.06,2,  2259.6,6,  2352.2,6,-999.0000,9,  -999.00,-999.0000,9, -999.00,9, -999.00,9,  -999.0,9,  -999.0, -999.00,9, -999.00,9, -999.00,9, -999.00,9,   3.0982, -999.00
096U20160426,       P15S,      47,          1,          9,       2009,2,20160523,       0240,   -44.3277,  -173.7481,       3103,  1732.7,   2.9990,  34.5620,2,  34.5628,2,    165.3,2,   160.6,2,   85.83,2,   34.31,2,    0.01,4,    2.37,2,-999.000,9,-999.000,9,-999.000,9,  -999.0,9,  -999.0,9,-999.0000,9,  -999.00,-999.0000,9, -999.00,9, -999.00,9,  -999.0,9,  -999.0, -999.00,9, -999.00,9, -999.00,9, -999.00,9,   2.8714, -999.00
096U20160426,       P15S,      47,          1,          8,       2008,2,20160523,       0240,   -44.3277,  -173.7481,       3103,  1866.1,   2.6640,  34.5980,2,  34.5988,2,    162.1,2,   157.2,2,   95.30,2,   34.72,2,    0.00,4,    2.41,2,   0.098,2,   0.052,2,   0.024,2,  2279.8,2,  2372.0,2,-999.0000,9,  -999.00,-999.0000,9, -999.00,9, -999.00,9,  -999.0,9,  -999.0, -999.00,9, -999.00,9, -999.00,9, -999.00,9,   2.5293, -999.00
096U20160426,       P15S,      47,          1,          7,       2007,2,20160523,       0240,   -44.3277,  -173.7481,       3103,  2065.9,   2.3350,  34.6520,2,  34.6524,2,    172.5,2,   168.0,2,   91.02,2,   33.69,2,    0.00,4,    2.32,2,-999.000,9,-999.000,9,-999.000,9,  -999.0,9,  -999.0,9,-999.0000,9,  -999.00,-999.0000,9, -999.00,9, -999.00,9,  -999.0,9,  -999.0, -999.00,9, -999.00,9, -999.00,9, -999.00,9,   2.1877, -999.00
096U20160426,       P15S,      47,          1,          6,       2006,2,20160523,       0240,   -44.3277,  -173.7481,       3103,  2266.8,   2.1700,  34.6940,2,  34.6941,2,    181.2,2,   177.3,2,   89.17,2,   32.71,2,    0.00,4,    2.24,2,-999.000,9,-999.000,9,-999.000,9,  2262.1,2,  2357.1,2,-999.0000,9,  -999.00,-999.0000,9, -999.00,9, -999.00,9,  -999.0,9,  -999.0, -999.00,9, -999.00,9, -999.00,9, -999.00,9,   2.0075, -999.00
096U20160426,       P15S,      47,          1,          5,       2005,2,20160523,       0240,   -44.3277,  -173.7481,       3103,  2467.2,   2.0410,  34.7160,2,  34.7169,2,    187.8,2,   184.0,2,   89.53,2,   31.97,2,    0.00,4,    2.19,2,   0.142,2,   0.069,2,       0,2,  2257.6,2,  2354.5,2,-999.0000,9,  -999.00,-999.0000,9, -999.00,9, -999.00,9,  -999.0,9,  -999.0, -999.00,9, -999.00,9, -999.00,9, -999.00,9,   1.8626, -999.00
096U20160426,       P15S,      47,          1,          4,       2004,2,20160523,       0240,   -44.3277,  -173.7481,       3103,  2664.8,   1.8660,  34.7300,2,  34.7306,2,    194.0,2,   190.6,2,   92.45,2,   31.48,2,    0.00,4,    2.15,2,-999.000,9,-999.000,9,-999.000,9,  2254.4,2,  2356.1,6,-999.0000,9,  -999.00,-999.0000,9, -999.00,9, -999.00,9,  -999.0,9,  -999.0, -999.00,9, -999.00,9, -999.00,9, -999.00,9,   1.6728, -999.00
096U20160426,       P15S,      47,          1,          3,       2003,2,20160523,       0240,   -44.3277,  -173.7481,       3103,  2930.6,   1.6020,  34.7320,2,  34.7312,2,    199.5,2,   196.0,2,   99.07,2,   31.51,2,    0.00,4,    2.15,2,-999.000,9,-999.000,9,-999.000,9,  -999.0,9,  -999.0,9,-999.0000,9,  -999.00,-999.0000,9, -999.00,9, -999.00,9,  -999.0,9,  -999.0, -999.00,9, -999.00,9, -999.00,9, -999.00,9,   1.3893, -999.00
096U20160426,       P15S,      47,          1,          2,       2002,2,20160523,       0240,   -44.3277,  -173.7481,       3103,  3032.9,   1.5130,  34.7300,2,  34.7303,2,    200.9,2,   197.4,2,  101.57,2,   31.59,2,    0.00,4,    2.15,2,   0.133,2,   0.064,2,   0.008,2,  2257.7,2,  2360.8,2,-999.0000,9,  -999.00,-999.0000,9, -999.00,9, -999.00,9,  -999.0,9,  -999.0, -999.00,9, -999.00,9, -999.00,9, -999.00,9,   1.2925, -999.00
096U20160426,       P15S,      47,          1,          1,       2001,2,20160523,       0240,   -44.3277,  -173.7481,       3103,  3128.2,   1.4600,  34.7290,2,  34.7287,2,    201.5,2,   198.2,2,  103.27,2,   31.65,2,    0.00,4,    2.16,2,   0.132,2,   0.065,2,       0,2,  2258.4,2,  2361.8,2,-999.0000,9,  -999.00,-999.0000,9, -999.00,9, -999.00,9,  -999.0,9,  -999.0, -999.00,9, -999.00,9, -999.00,9, -999.00,9,   1.2315, -999.00