BOTTLE,20230413CCHSIOENA
EXPOCODE,SECT_ID,STNNBR,CASTNO,SAMPNO,BTLNBR,BTLNBR_FLAG_W,DATE,TIME,LATITUDE,LONGITUDE,DEPTH,CTDPRS,CTDTMP,CTDSAL,CTDSAL_FLAG_W,SALNTY,SALNTY_FLAG_W,CTDOXY,CTDOXY_FLAG_W,OXYGEN,OXYGEN_FLAG_W,SILCAT,SILCAT_FLAG_W,NITRAT,NITRAT_FLAG_W,NITRIT,NITRIT_FLAG_W,PHSPHT,PHSPHT_FLAG_W,CFC-11,CFC-11_FLAG_W,CFC-12,CFC-12_FLAG_W,SF6,SF6_FLAG_W,TCARBN,TCARBN_FLAG_W,ALKALI,ALKALI_FLAG_W,PH_TOT,PH_TOT_FLAG_W,PH_TMP,HELIUM,HELIUM_FLAG_W,DELHE3,DELHE3_FLAG_W,DELC13,DELC13_FLAG_W,DELC14,DELC14_FLAG_W,C14ERR,POC,POC_FLAG_W,PON,PON_FLAG_W,CHLORA,CHLORA_FLAG_W,PPHYTN,PPHYTN_FLAG_W,THETA,DELHER
,,,,,,,,,,,METERS,DBAR,ITS-90,PSS-78,,PSS-78,,UMOL/KG,,UMOL/KG,,UMOL/KG,,UMOL/KG,,UMOL/KG,,UMOL/KG,,PMOL/KG,,PMOL/KG,,FMOL/KG,,UMOL/KG,,UMOL/KG,,,,DEG C,NMOL/KG,,PERCNT,,/MILLE,,/MILLE,,/MILLE,UG/KG,,UG/KG,,UG/KG,,UG/KG,,DEG C,PERCNT
096U20160426,       P15S,      85,          1,         36,       2036,2,20160609,       0017,   -26.4806,  -169.9965,       5625,     5.8,  21.9380,  35.8740,2,  35.8731,2,    219.2,2,   217.9,2,    0.20,2,    0.01,4,    0.00,4,    0.03,2,   1.862,2,   1.155,2,   1.473,2,  2036.0,2,  2352.2,2,-999.0000,9,  -999.00,-999.0000,9, -999.00,9, -999.00,9,  -999.0,9,  -999.0, -999.00,9, -999.00,9, -999.00,9, -999.00,9,  21.9369, -999.00
096U20160426,       P15S,      85,          1,         35,       2035,2,20160609,       0017,   -26.4806,  -169.9965,       5625,    19.2,  21.9370,  35.8740,2,  35.8733,2,    218.9,2,   217.9,2,    0.16,4,    0.00,4,    0.00,4,    0.03,2,-999.000,9,-999.000,9,-999.000,9,  -999.0,9,  -999.0,9,-999.0000,9,  -999.00,-999.0000,9, -999.00,9, -999.00,9,  -999.0,9,  -999.0, -999.00,9, -999.00,9, -999.00,9, -999.00,9,  21.9332, -999.00
096U20160426,       P15S,      85,          1,         34,       2034,2,20160609,       0017,   -26.4806,  -169.9965,       5625,    64.3,  21.9410,  35.8740,2,  35.8724,2,    219.0,2,   217.9,2,    0.13,4,    0.00,4,    0.00,4,    0.03,2,-999.000,9,-999.000,9,-999.000,9,  -999.0,9,  -999.0,9,-999.0000,9,  -999.00,-999.0000,9, -999.00,9, -999.00,9,  -999.0,9,  -999.0, -999.00,9, -999.00,9, -999.00,9, -999.00,9,  21.9283, -999.00
096U20160426,       P15S,      85,          1,         33,       2033,2,20160609,       0017,   -26.4806,  -169.9965,       5625,    85.9,  21.9290,  35.8730,2,  35.8714,2,    218.6,2,   217.6,2,    0.09,4,    0.01,4,    0.00,4,    0.04,2,-999.000,9,-999.000,9,-999.000,9,  -999.0,9,  -999.0,9,-999.0000,9,  -999.00,-999.0000,9, -999.00,9, -999.00,9,  -999.0,9,  -999.0, -999.00,9, -999.00,9, -999.00,9, -999.00,9,  21.9120, -999.00
096U20160426,       P15S,      85,          1,         32,       2032,2,20160609,       0017,   -26.4806,  -169.9965,       5625,   115.9,  20.0350,  35.7140,2,  35.7060,2,    216.9,2,   214.4,2,    0.33,2,    0.62,2,    0.06,2,    0.14,2,   2.141,2,   1.299,2,   1.477,2,  -999.0,9,  -999.0,9,-999.0000,9,  -999.00,-999.0000,9, -999.00,9, -999.00,9,  -999.0,9,  -999.0, -999.00,9, -999.00,9, -999.00,9, -999.00,9,  20.0135, -999.00
096U20160426,       P15S,      85,          1,         31,       2031,2,20160609,       0017,   -26.4806,  -169.9965,       5625,   168.9,  18.1770,  35.6250,2,  35.6149,2,    202.8,2,   203.7,2,    0.60,2,    2.74,2,    0.02,2,    0.28,2,-999.000,9,-999.000,9,-999.000,9,  -999.0,9,  -999.0,9,-999.0000,9,  -999.00,-999.0000,9, -999.00,9, -999.00,9,  -999.0,9,  -999.0, -999.00,9, -999.00,9, -999.00,9, -999.00,9,  18.1477, -999.00
096U20160426,       P15S,      85,          1,         30,       2030,2,20160609,       0017,   -26.4806,  -169.9965,       5625,   217.1,  16.7630,  35.5210,2,  35.4998,2,    210.1,2,   206.2,2,    0.91,2,    4.10,2,    0.01,4,    0.37,2,-999.000,9,-999.000,9,-999.000,9,  -999.0,9,  -999.0,9,-999.0000,9,  -999.00,-999.0000,9, -999.00,9, -999.00,9,  -999.0,9,  -999.0, -999.00,9, -999.00,9, -999.00,9, -999.00,9,  16.7274, -999.00
096U20160426,       P15S,      85,          1,         29,       2029,2,20160609,       0017,   -26.4806,  -169.9965,       5625,   266.6,  15.5440,  35.3700,2,  35.3627,2,    202.9,2,   202.7,2,    1.46,2,    6.33,2,    0.01,4,    0.51,2,   2.520,6,   1.472,6,   1.391,6,  -999.0,9,  -999.0,9,-999.0000,9,  -999.00,-999.0000,9, -999.00,9, -999.00,9,  -999.0,9,  -999.0, -999.00,9, -999.00,9, -999.00,9, -999.00,9,  15.5024, -999.00
096U20160426,       P15S,      85,          1,         28,       2028,2,20160609,       0017,   -26.4806,  -169.9965,       5625,   316.5,  14.3100,  35.2160,2,  35.2107,2,    200.4,2,   199.8,2,    2.02,2,    8.50,2,    0.01,4,    0.65,2,-999.000,9,-999.000,9,-999.000,9,  -999.0,9,  -999.0,9,-999.0000,9,  -999.00,-999.0000,9, -999.00,9, -999.00,9,  -999.0,9,  -999.0, -999.00,9, -999.00,9, -999.00,9, -999.00,9,  14.2633, -999.00
096U20160426,       P15S,      85,          1,         27,       2027,2,20160609,       0017,   -26.4806,  -169.9965,       5625,   365.4,  13.1010,  35.0610,2,  35.0430,2,    198.5,2,   198.8,2,    2.73,2,   11.16,2,    0.01,4,    0.81,2,-999.000,9,-999.000,9,-999.000,9,  -999.0,9,  -999.0,9,-999.0000,9,  -999.00,-999.0000,9, -999.00,9, -999.00,9,  -999.0,9,  -999.0, -999.00,9, -999.00,9, -999.00,9, -999.00,9,  13.0501, -999.00
096U20160426,       P15S,      85,          1,         26,       2026,2,20160609,       0017,   -26.4806,  -169.9965,       5625,   436.7,  11.0880,  34.7910,2,  34.7681,2,    198.7,2,   200.0,2,    3.82,2,   15.46,2,    0.00,4,    1.09,2,-999.000,9,-999.000,9,-999.000,9,  -999.0,9,  -999.0,9,-999.0000,9,  -999.00,-999.0000,9, -999.00,9, -999.00,9,  -999.0,9,  -999.0, -999.00,9, -999.00,9, -999.00,9, -999.00,9,  11.0334, -999.00
096U20160426,       P15S,      85,          1,         25,       2025,2,20160609,       0017,   -26.4806,  -169.9965,       5625,   536.7,   8.8160,  34.5610,2,  34.5514,2,    218.0,2,   219.7,2,    4.83,2,   18.97,2,    0.00,4,    1.29,2,   3.378,2,   1.774,2,   1.084,2,  2141.9,2,  2284.4,2,-999.0000,9,  -999.00,-999.0000,9, -999.00,9, -999.00,9,  -999.0,9,  -999.0, -999.00,9, -999.00,9, -999.00,9, -999.00,9,   8.7576, -999.00
096U20160426,       P15S,      85,          1,         24,       2024,2,20160609,       0017,   -26.4806,  -169.9965,       5625,   636.3,   7.3630,  34.4070,2,  34.3949,2,    231.0,2,   234.2,2,    6.55,2,   22.03,2,    0.00,4,    1.48,2,-999.000,9,-999.000,9,-999.000,9,  -999.0,9,  -999.0,9,-999.0000,9,  -999.00,-999.0000,9, -999.00,9, -999.00,9,  -999.0,9,  -999.0, -999.00,9, -999.00,9, -999.00,9, -999.00,9,   7.3004, -999.00
096U20160426,       P15S,      85,          1,         23,       2023,2,20160609,       0017,   -26.4806,  -169.9965,       5625,   736.1,   6.2950,  34.3350,2,  34.3330,2,    227.7,2,   229.9,2,   10.26,2,   24.88,2,    0.00,4,    1.67,2,-999.000,9,-999.000,9,-999.000,9,  -999.0,9,  -999.0,9,-999.0000,9,  -999.00,-999.0000,9, -999.00,9, -999.00,9,  -999.0,9,  -999.0, -999.00,9, -999.00,9, -999.00,9, -999.00,9,   6.2280, -999.00
096U20160426,       P15S,      85,          1,         22,       2022,2,20160609,       0017,   -26.4806,  -169.9965,       5625,   847.4,   5.7020,  34.3190,2,  34.3171,2,    218.1,2,   220.4,2,   15.00,2,   27.03,2,    0.00,4,    1.81,2,   1.867,2,   0.905,2,   0.235,2,  2164.3,2,  2283.5,2,-999.0000,9,  -999.00,-999.0000,9, -999.00,9, -999.00,9,  -999.0,9,  -999.0, -999.00,9, -999.00,9, -999.00,9, -999.00,9,   5.6281, -999.00
096U20160426,       P15S,      85,          1,         21,       2021,2,20160609,       0017,   -26.4806,  -169.9965,       5625,   935.8,   5.1650,  34.3240,2,  34.3230,2,    206.1,2,   207.4,2,   22.32,2,   29.16,2,    0.00,4,    1.97,2,-999.000,9,-999.000,9,-999.000,9,  -999.0,9,  -999.0,9,-999.0000,9,  -999.00,-999.0000,9, -999.00,9, -999.00,9,  -999.0,9,  -999.0, -999.00,9, -999.00,9, -999.00,9, -999.00,9,   5.0866, -999.00
096U20160426,       P15S,      85,          1,         20,       2020,2,20160609,       0017,   -26.4806,  -169.9965,       5625,  1035.9,   4.5480,  34.3440,2,  34.3429,2,    192.8,2,   194.1,2,   31.99,2,   31.18,2,    0.00,4,    2.11,2,   0.626,2,   0.312,2,   0.038,2,  2197.5,2,  2298.1,2,-999.0000,9,  -999.00,-999.0000,9, -999.00,9, -999.00,9,  -999.0,9,  -999.0, -999.00,9, -999.00,9, -999.00,9, -999.00,9,   4.4653, -999.00
096U20160426,       P15S,      85,          1,         19,       2019,2,20160609,       0017,   -26.4806,  -169.9965,       5625,  1135.7,   4.0110,  34.3760,2,  34.3751,2,    183.1,2,   184.2,2,   42.42,2,   32.61,2,    0.00,4,    2.22,2,-999.000,9,-999.000,9,-999.000,9,  -999.0,9,  -999.0,9,-999.0000,9,  -999.00,-999.0000,9, -999.00,9, -999.00,9,  -999.0,9,  -999.0, -999.00,9, -999.00,9, -999.00,9, -999.00,9,   3.9241, -999.00
096U20160426,       P15S,      85,          1,         18,       2018,2,20160609,       0017,   -26.4806,  -169.9965,       5625,  1241.1,   3.4800,  34.4280,2,  34.4291,2,    173.7,2,   174.6,2,   55.74,2,   33.74,2,    0.00,4,    2.31,2,   0.141,2,   0.074,2,   0.046,2,  2236.4,2,  2322.8,2,-999.0000,9,  -999.00,-999.0000,9, -999.00,9, -999.00,9,  -999.0,9,  -999.0, -999.00,9, -999.00,9, -999.00,9, -999.00,9,   3.3889, -999.00
096U20160426,       P15S,      85,          1,         17,       2017,2,20160609,       0017,   -26.4806,  -169.9965,       5625,  1401.2,   2.9630,  34.5100,2,  34.5094,2,    162.7,2,   163.5,2,   74.35,2,   34.55,2,    0.00,4,    2.38,2,   0.027,6,   0.015,6,   0.004,6,  -999.0,9,  -999.0,9,-999.0000,9,  -999.00,-999.0000,9, -999.00,9, -999.00,9,  -999.0,9,  -999.0, -999.00,9, -999.00,9, -999.00,9, -999.00,9,   2.8639, -999.00
096U20160426,       P15S,      85,          1,         16,       2016,2,20160609,       0017,   -26.4806,  -169.9965,       5625,  1560.6,   2.6650,  34.5660,2,  34.5656,2,    155.6,2,   156.0,2,   89.63,2,   34.94,2,    0.00,4,    2.42,2,-999.000,9,-999.000,9,-999.000,9,  -999.0,9,  -999.0,9,-999.0000,9,  -999.00,-999.0000,9, -999.00,9, -999.00,9,  -999.0,9,  -999.0, -999.00,9, -999.00,9, -999.00,9, -999.00,9,   2.5561, -999.00
096U20160426,       P15S,      85,          1,         15,       2015,2,20160609,       0017,   -26.4806,  -169.9965,       5625,  1765.6,   2.4390,  34.6060,2,  34.6052,2,    148.9,2,   149.3,2,  103.70,2,   35.38,2,    0.00,4,    2.46,2,-999.000,9,-999.000,9,-999.000,9,  -999.0,9,  -999.0,9,-999.0000,9,  -999.00,-999.0000,9, -999.00,9, -999.00,9,  -999.0,9,  -999.0, -999.00,9, -999.00,9, -999.00,9, -999.00,9,   2.3159, -999.00
096U20160426,       P15S,      85,          1,         14,       2014,2,20160609,       0017,   -26.4806,  -169.9965,       5625,  1974.4,   2.2830,  34.6250,2,  34.6242,2,    146.3,2,   147.6,2,  111.73,2,   35.70,2,    0.00,4,    2.48,2,-999.000,9,-999.000,9,-999.000,9,  -999.0,9,  -999.0,9,-999.0000,9,  -999.00,-999.0000,9, -999.00,9, -999.00,9,  -999.0,9,  -999.0, -999.00,9, -999.00,9, -999.00,9, -999.00,9,   2.1445, -999.00
096U20160426,       P15S,      85,          1,         13,       2013,2,20160609,       0017,   -26.4806,  -169.9965,       5625,  2235.5,   2.1250,  34.6400,2,  34.6389,2,    145.7,2,   146.1,2,  118.18,2,   35.80,2,    0.00,4,    2.50,2,   0.001,2,   0.000,2,       0,2,  2310.5,6,  2393.6,6,-999.0000,9,  -999.00,-999.0000,9, -999.00,9, -999.00,9,  -999.0,9,  -999.0, -999.00,9, -999.00,9, -999.00,9, -999.00,9,   1.9663, -999.00
096U20160426,       P15S,      85,          1,         12,       2012,2,20160609,       0017,   -26.4806,  -169.9965,       5625,  2487.3,   1.9980,  34.6520,2,  34.6511,2,    146.1,2,   146.5,2,  123.24,2,   35.84,2,    0.00,4,    2.50,2,-999.000,9,-999.000,9,-999.000,9,  -999.0,9,  -999.0,9,-999.0000,9,  -999.00,-999.0000,9, -999.00,9, -999.00,9,  -999.0,9,  -999.0, -999.00,9, -999.00,9, -999.00,9, -999.00,9,   1.8189, -999.00
096U20160426,       P15S,      85,          1,         11,       2011,2,20160609,       0017,   -26.4806,  -169.9965,       5625,  2737.4,   1.8900,  34.6620,2,  34.6604,2,    147.0,2,   147.0,2,  127.18,2,   35.81,2,    0.00,4,    2.50,2,-999.000,9,-999.000,9,-999.000,9,  -999.0,9,  -999.0,9,-999.0000,9,  -999.00,-999.0000,9, -999.00,9,    0.20,6,  -223.5,6,     2.0, -999.00,9, -999.00,9, -999.00,9, -999.00,9,   1.6898, -999.00
096U20160426,       P15S,      85,          1,         10,       2010,2,20160609,       0017,   -26.4806,  -169.9965,       5625,  2992.3,   1.7880,  34.6700,2,  34.6689,2,    149.6,2,   149.9,2,  129.69,2,   35.66,2,    0.00,4,    2.48,2,-999.000,9,-999.000,9,-999.000,9,  -999.0,9,  -999.0,9,-999.0000,9,  -999.00,-999.0000,9, -999.00,9, -999.00,9,  -999.0,9,  -999.0, -999.00,9, -999.00,9, -999.00,9, -999.00,9,   1.5656, -999.00
096U20160426,       P15S,      85,          1,          9,       2009,2,20160609,       0017,   -26.4806,  -169.9965,       5625,  3271.9,   1.6800,  34.6830,2,  34.6809,2,    157.9,2,   158.4,2,  127.51,2,   34.97,2,    0.00,4,    2.43,2,-999.000,9,-999.000,9,-999.000,9,  -999.0,9,  -999.0,9,-999.0000,9,  -999.00,-999.0000,9, -999.00,9, -999.00,9,  -999.0,9,  -999.0, -999.00,9, -999.00,9, -999.00,9, -999.00,9,   1.4325, -999.00
096U20160426,       P15S,      85,          1,          8,       2008,2,20160609,       0017,   -26.4806,  -169.9965,       5625,  3586.1,   1.5540,  34.7060,2,  34.7044,2,    177.6,2,   180.1,2,  116.00,2,   33.11,2,    0.00,4,    2.28,2,-999.000,9,-999.000,9,-999.000,9,  -999.0,9,  -999.0,9,-999.0000,9,  -999.00,-999.0000,9, -999.00,9, -999.00,9,  -999.0,9,  -999.0, -999.00,9, -999.00,9, -999.00,9, -999.00,9,   1.2774, -999.00
096U20160426,       P15S,      85,          1,          7,       2007,2,20160609,       0017,   -26.4806,  -169.9965,       5625,  3951.6,   1.3720,  34.7190,2,  34.7173,2,    194.0,2,   196.8,2,  110.39,2,   31.89,2,    0.00,4,    2.19,2,   0.043,2,   0.022,2,       0,2,  2266.2,2,  2365.9,2,-999.0000,9,  -999.00,-999.0000,9, -999.00,9, -999.00,9,  -999.0,9,  -999.0, -999.00,9, -999.00,9, -999.00,9, -999.00,9,   1.0617, -999.00
096U20160426,       P15S,      85,          1,          6,       2006,2,20160609,       0017,   -26.4806,  -169.9965,       5625,  4361.0,   1.1460,  34.7150,2,  34.7133,2,    201.6,2,   203.8,2,  115.10,2,   31.87,2,    0.00,4,    2.19,2,-999.000,9,-999.000,9,-999.000,9,  -999.0,9,  -999.0,9,-999.0000,9,  -999.00,-999.0000,9, -999.00,9, -999.00,9,  -999.0,9,  -999.0, -999.00,9, -999.00,9, -999.00,9, -999.00,9,   0.7974, -999.00
096U20160426,       P15S,      85,          1,          5,       2005,2,20160609,       0017,   -26.4806,  -169.9965,       5625,  4760.8,   1.0610,  34.7110,2,  34.7102,2,    205.2,2,   205.8,2,  118.54,2,   32.02,2,    0.00,4,    2.20,2,-999.000,9,-999.000,9,-999.000,9,  -999.0,9,  -999.0,9,-999.0000,9,  -999.00,-999.0000,9, -999.00,9, -999.00,9,  -999.0,9,  -999.0, -999.00,9, -999.00,9, -999.00,9, -999.00,9,   0.6696, -999.00
096U20160426,       P15S,      85,          1,          4,       2004,2,20160609,       0017,   -26.4806,  -169.9965,       5625,  5157.6,   1.0760,  34.7090,2,  34.7081,2,    207.0,2,   206.5,2,  119.52,2,   32.03,2,    0.00,4,    2.20,2,   0.086,2,   0.040,2,       0,2,  -999.0,9,  -999.0,9,-999.0000,9,  -999.00,-999.0000,9, -999.00,9, -999.00,9,  -999.0,9,  -999.0, -999.00,9, -999.00,9, -999.00,9, -999.00,9,   0.6369, -999.00
096U20160426,       P15S,      85,          1,          3,       2003,2,20160609,       0017,   -26.4806,  -169.9965,       5625,  5507.1,   1.1170,  34.7090,2,  34.7082,2,    208.0,2,   206.0,2,  119.59,2,   31.99,2,    0.00,4,    2.20,2,-999.000,9,-999.000,9,-999.000,9,  -999.0,9,  -999.0,9,-999.0000,9,  -999.00,-999.0000,9, -999.00,9, -999.00,9,  -999.0,9,  -999.0, -999.00,9, -999.00,9, -999.00,9, -999.00,9,   0.6333, -999.00
096U20160426,       P15S,      85,          1,          2,       2002,2,20160609,       0017,   -26.4806,  -169.9965,       5625,  5648.2,   1.1350,  34.7090,2,  34.7086,2,    208.3,2,   206.2,2,  119.53,2,   32.00,2,    0.00,4,    2.20,2,   0.086,2,   0.043,2,       0,2,  2265.1,2,  2365.6,2,-999.0000,9,  -999.00,-999.0000,9, -999.00,9, -999.00,9,  -999.0,9,  -999.0, -999.00,9, -999.00,9, -999.00,9, -999.00,9,   0.6327, -999.00
096U20160426,       P15S,      85,          1,          1,       2001,2,20160609,       0017,   -26.4806,  -169.9965,       5625,  5724.2,   1.1450,  34.7090,2,  34.7083,2,    208.6,2,   206.2,2,  119.65,2,   32.03,2,    0.00,4,    2.20,2,-999.000,9,-999.000,9,-999.000,9,  -999.0,9,  -999.0,9,-999.0000,9,  -999.00,-999.0000,9, -999.00,9, -999.00,9,  -999.0,9,  -999.0, -999.00,9, -999.00,9, -999.00,9, -999.00,9,   0.6326, -999.00