BOTTLE,20230413CCHSIOENA
EXPOCODE,SECT_ID,STNNBR,CASTNO,SAMPNO,BTLNBR,BTLNBR_FLAG_W,DATE,TIME,LATITUDE,LONGITUDE,DEPTH,CTDPRS,CTDTMP,CTDSAL,CTDSAL_FLAG_W,SALNTY,SALNTY_FLAG_W,CTDOXY,CTDOXY_FLAG_W,OXYGEN,OXYGEN_FLAG_W,SILCAT,SILCAT_FLAG_W,NITRAT,NITRAT_FLAG_W,NITRIT,NITRIT_FLAG_W,PHSPHT,PHSPHT_FLAG_W,CFC-11,CFC-11_FLAG_W,CFC-12,CFC-12_FLAG_W,SF6,SF6_FLAG_W,TCARBN,TCARBN_FLAG_W,ALKALI,ALKALI_FLAG_W,PH_TOT,PH_TOT_FLAG_W,PH_TMP,HELIUM,HELIUM_FLAG_W,DELHE3,DELHE3_FLAG_W,DELC13,DELC13_FLAG_W,DELC14,DELC14_FLAG_W,C14ERR,POC,POC_FLAG_W,PON,PON_FLAG_W,CHLORA,CHLORA_FLAG_W,PPHYTN,PPHYTN_FLAG_W,THETA,DELHER
,,,,,,,,,,,METERS,DBAR,ITS-90,PSS-78,,PSS-78,,UMOL/KG,,UMOL/KG,,UMOL/KG,,UMOL/KG,,UMOL/KG,,UMOL/KG,,PMOL/KG,,PMOL/KG,,FMOL/KG,,UMOL/KG,,UMOL/KG,,,,DEG C,NMOL/KG,,PERCNT,,/MILLE,,/MILLE,,/MILLE,UG/KG,,UG/KG,,UG/KG,,UG/KG,,DEG C,PERCNT
096U20160426,       P15S,      88,          1,         36,       2036,2,20160609,       2229,   -24.9930,  -170.0040,       5637,     4.3,  23.2110,  31.5220,3,  35.7152,2,    218.6,3,   212.6,2,    0.24,2,   -0.03,4,    0.01,4,    0.03,2,   1.780,6,   1.100,6,   1.467,6,  2015.9,2,  2343.6,2,-999.0000,9,  -999.00,-999.0000,9, -999.00,9, -999.00,9,  -999.0,9,  -999.0, -999.00,9, -999.00,9,    0.28,2,    0.05,3,  23.2101, -999.00
096U20160426,       P15S,      88,          1,         35,       2035,2,20160609,       2229,   -24.9930,  -170.0040,       5637,    21.3,  23.2610,  35.7170,2,  35.7153,2,    213.8,2,   212.7,2,    0.28,2,   -0.04,4,    0.01,4,    0.03,2,-999.000,9,-999.000,9,-999.000,9,  -999.0,9,  -999.0,9,-999.0000,9,  -999.00,-999.0000,9, -999.00,9, -999.00,9,  -999.0,9,  -999.0, -999.00,9, -999.00,9,    0.35,2,   -0.02,3,  23.2566, -999.00
096U20160426,       P15S,      88,          1,         34,       2034,2,20160609,       2229,   -24.9930,  -170.0040,       5637,    60.1,  23.2020,  35.7240,2,  35.7235,2,    213.4,2,   212.8,2,    0.25,2,   -0.04,4,    0.01,4,    0.03,2,-999.000,9,-999.000,9,-999.000,9,  2016.4,6,  2344.1,6,-999.0000,9,  -999.00,-999.0000,9, -999.00,9, -999.00,9,  -999.0,9,  -999.0, -999.00,9, -999.00,9,    0.37,2,   -0.02,3,  23.1896, -999.00
096U20160426,       P15S,      88,          1,         33,       2033,2,20160609,       2229,   -24.9930,  -170.0040,       5637,    84.9,  23.1360,  35.7340,2,  35.7405,2,    213.1,2,   213.3,2,    0.22,2,   -0.04,4,    0.01,4,    0.02,2,-999.000,9,-999.000,9,-999.000,9,  2019.3,2,  2345.4,2,-999.0000,9,  -999.00,-999.0000,9, -999.00,9, -999.00,9,  -999.0,9,  -999.0, -999.00,9, -999.00,9,    0.43,2,   -0.04,3,  23.1185, -999.00
096U20160426,       P15S,      88,          1,         32,       2032,2,20160609,       2229,   -24.9930,  -170.0040,       5637,   117.1,  21.7090,  35.7670,2,  35.7514,2,    218.5,2,   216.7,2,    0.29,2,    0.03,2,    0.06,2,    0.07,2,-999.000,9,-999.000,9,-999.000,9,  2048.4,2,  2343.6,2,-999.0000,9,  -999.00,-999.0000,9, -999.00,9, -999.00,9,  -999.0,9,  -999.0, -999.00,9, -999.00,9,    0.80,2,    0.02,3,  21.6860, -999.00
096U20160426,       P15S,      88,          1,         31,       2031,2,20160609,       2229,   -24.9930,  -170.0040,       5637,   163.3,  19.4830,  35.6660,2,  35.6628,2,    200.9,2,   201.3,2,    0.51,2,    1.97,2,    0.03,2,    0.21,2,-999.000,9,-999.000,9,-999.000,9,  2068.8,2,  2336.9,2,-999.0000,9,  -999.00,-999.0000,9, -999.00,9, -999.00,9,  -999.0,9,  -999.0, -999.00,9, -999.00,9, -999.00,9, -999.00,9,  19.4533, -999.00
096U20160426,       P15S,      88,          1,         30,       2030,2,20160609,       2229,   -24.9930,  -170.0040,       5637,   215.9,  18.0130,  35.5370,2,  35.5328,2,    196.2,2,   196.5,2,    0.77,2,    3.70,2,    0.01,4,    0.32,2,   2.299,2,   1.370,2,   1.373,2,  2081.9,2,  2329.1,2,-999.0000,9,  -999.00,-999.0000,9, -999.00,9, -999.00,9,  -999.0,9,  -999.0, -999.00,9, -999.00,9, -999.00,9, -999.00,9,  17.9758, -999.00
096U20160426,       P15S,      88,          1,         29,       2029,2,20160609,       2229,   -24.9930,  -170.0040,       5637,   265.8,  17.2500,  35.4970,2,  35.4552,2,    197.5,2,   196.3,2,    1.08,2,    5.02,2,    0.01,4,    0.41,2,-999.000,9,-999.000,9,-999.000,9,  -999.0,9,  -999.0,9,-999.0000,9,  -999.00,-999.0000,9, -999.00,9, -999.00,9,  -999.0,9,  -999.0, -999.00,9, -999.00,9, -999.00,9, -999.00,9,  17.2055, -999.00
096U20160426,       P15S,      88,          1,         28,       2028,2,20160609,       2229,   -24.9930,  -170.0040,       5637,   318.5,  16.2920,  35.4610,2,  35.4345,2,    201.8,2,   201.5,2,    1.26,2,    5.69,2,    0.01,4,    0.45,2,-999.000,9,-999.000,9,-999.000,9,  2094.2,2,  2321.0,2,-999.0000,9,  -999.00,-999.0000,9, -999.00,9, -999.00,9,  -999.0,9,  -999.0, -999.00,9, -999.00,9, -999.00,9, -999.00,9,  16.2406, -999.00
096U20160426,       P15S,      88,          1,         27,       2027,2,20160609,       2229,   -24.9930,  -170.0040,       5637,   368.5,  15.0760,  35.3010,2,  35.2887,2,    200.0,2,   200.6,2,    1.71,2,    7.39,2,    0.01,4,    0.56,2,   2.599,2,   1.493,2,   1.347,2,  2102.6,2,  2314.0,2,-999.0000,9,  -999.00,-999.0000,9, -999.00,9, -999.00,9,  -999.0,9,  -999.0, -999.00,9, -999.00,9, -999.00,9, -999.00,9,  15.0196, -999.00
096U20160426,       P15S,      88,          1,         26,       2026,2,20160609,       2229,   -24.9930,  -170.0040,       5637,   427.7,  13.1640,  35.0720,2,  35.0612,2,    198.7,2,   199.7,2,    2.71,2,   10.83,2,    0.01,4,    0.79,2,-999.000,9,-999.000,9,-999.000,9,  2118.6,2,  2304.5,6,-999.0000,9,  -999.00,-999.0000,9, -999.00,9, -999.00,9,  -999.0,9,  -999.0, -999.00,9, -999.00,9, -999.00,9, -999.00,9,  13.1041, -999.00
096U20160426,       P15S,      88,          1,         25,       2025,2,20160609,       2229,   -24.9930,  -170.0040,       5637,   537.3,   9.7570,  34.6380,2,  34.6275,2,    208.0,2,   210.0,2,    4.30,2,   17.16,2,    0.01,4,    1.20,2,-999.000,9,-999.000,9,-999.000,9,  2134.9,2,  2286.2,2,-999.0000,9,  -999.00,-999.0000,9, -999.00,9, -999.00,9,  -999.0,9,  -999.0, -999.00,9, -999.00,9, -999.00,9, -999.00,9,   9.6948, -999.00
096U20160426,       P15S,      88,          1,         24,       2024,2,20160609,       2229,   -24.9930,  -170.0040,       5637,   636.7,   7.7690,  34.4370,2,  34.4244,2,    227.8,2,   231.4,2,    5.87,2,   20.88,2,    0.01,4,    1.43,2,   3.531,2,   1.813,2,   0.989,2,  2142.9,2,  2280.8,2,-999.0000,9,  -999.00,-999.0000,9, -999.00,9, -999.00,9,  -999.0,9,  -999.0, -999.00,9, -999.00,9, -999.00,9, -999.00,9,   7.7044, -999.00
096U20160426,       P15S,      88,          1,         23,       2023,2,20160609,       2229,   -24.9930,  -170.0040,       5637,   736.1,   6.6850,  34.3540,2,  34.3510,2,    231.6,2,   235.0,2,    8.26,2,   23.35,2,    0.01,4,    1.59,2,   3.154,2,   1.569,2,   0.694,2,  2147.2,2,  2279.3,2,-999.0000,9,  -999.00,-999.0000,9, -999.00,9, -999.00,9,  -999.0,9,  -999.0, -999.00,9, -999.00,9, -999.00,9, -999.00,9,   6.6158, -999.00
096U20160426,       P15S,      88,          1,         22,       2022,2,20160609,       2229,   -24.9930,  -170.0040,       5637,   835.3,   5.8760,  34.3180,2,  34.3160,2,    221.6,2,   224.2,2,   13.24,2,   26.11,2,    0.01,4,    1.77,2,-999.000,9,-999.000,9,-999.000,9,  2158.3,2,  2282.2,2,-999.0000,9,  -999.00,-999.0000,9, -999.00,9, -999.00,9,  -999.0,9,  -999.0, -999.00,9, -999.00,9, -999.00,9, -999.00,9,   5.8021, -999.00
096U20160426,       P15S,      88,          1,         21,       2021,2,20160609,       2229,   -24.9930,  -170.0040,       5637,   935.5,   5.2200,  34.3170,2,  34.3169,2,    206.4,2,   208.7,2,   21.00,2,   28.73,2,    0.01,4,    1.96,2,   1.276,2,   0.618,2,   0.138,2,  2176.1,2,  2288.0,2,-999.0000,9,  -999.00,-999.0000,9, -999.00,9, -999.00,9,  -999.0,9,  -999.0, -999.00,9, -999.00,9, -999.00,9, -999.00,9,   5.1412, -999.00
096U20160426,       P15S,      88,          1,         20,       2020,2,20160609,       2229,   -24.9930,  -170.0040,       5637,  1035.4,   4.6700,  34.3440,2,  34.3436,2,    189.9,2,   191.1,2,   31.36,2,   31.01,2,    0.01,4,    2.13,2,-999.000,9,-999.000,9,-999.000,9,  2195.8,2,  2297.2,6,-999.0000,9,  -999.00,-999.0000,9, -999.00,9, -999.00,9,  -999.0,9,  -999.0, -999.00,9, -999.00,9, -999.00,9, -999.00,9,   4.5863, -999.00
096U20160426,       P15S,      88,          1,         19,       2019,2,20160609,       2229,   -24.9930,  -170.0040,       5637,  1135.0,   4.0880,  34.3810,2,  34.3816,2,    179.1,2,   180.4,2,   43.17,2,   32.59,2,    0.01,4,    2.24,2,   0.302,2,   0.156,2,   0.018,2,  2214.0,2,  2310.1,2,-999.0000,9,  -999.00,-999.0000,9, -999.00,9, -999.00,9,  -999.0,9,  -999.0, -999.00,9, -999.00,9, -999.00,9, -999.00,9,   4.0004, -999.00
096U20160426,       P15S,      88,          1,         18,       2018,2,20160609,       2229,   -24.9930,  -170.0040,       5637,  1240.9,   3.5720,  34.4330,2,  34.4340,2,    170.2,2,   170.9,2,   56.40,2,   33.70,2,    0.01,4,    2.33,2,   0.114,2,   0.060,2,       0,2,  2235.0,2,  2324.6,2,-999.0000,9,  -999.00,-999.0000,9, -999.00,9, -999.00,9,  -999.0,9,  -999.0, -999.00,9, -999.00,9, -999.00,9, -999.00,9,   3.4801, -999.00
096U20160426,       P15S,      88,          1,         17,       2017,2,20160609,       2229,   -24.9930,  -170.0040,       5637,  1400.4,   2.9510,  34.5120,2,  34.5113,2,    162.4,2,   163.1,2,   74.58,2,   34.45,2,    0.01,4,    2.39,2,-999.000,9,-999.000,9,-999.000,9,  2256.2,2,  2344.7,2,-999.0000,9,  -999.00,-999.0000,9, -999.00,9, -999.00,9,  -999.0,9,  -999.0, -999.00,9, -999.00,9, -999.00,9, -999.00,9,   2.8521, -999.00
096U20160426,       P15S,      88,          1,         16,       2016,2,20160609,       2229,   -24.9930,  -170.0040,       5637,  1559.9,   2.6780,  34.5670,2,  34.5667,2,    154.6,2,   155.4,2,   89.86,2,   34.85,2,    0.01,4,    2.43,2,-999.000,9,-999.000,9,-999.000,9,  2276.2,2,  2363.2,2,-999.0000,9,  -999.00,-999.0000,9, -999.00,9, -999.00,9,  -999.0,9,  -999.0, -999.00,9, -999.00,9, -999.00,9, -999.00,9,   2.5690, -999.00
096U20160426,       P15S,      88,          1,         15,       2015,2,20160609,       2229,   -24.9930,  -170.0040,       5637,  1765.2,   2.4730,  34.6030,2,  34.6018,2,    149.0,2,   149.2,2,  102.44,2,   35.29,2,    0.01,4,    2.47,2,-999.000,9,-999.000,9,-999.000,9,  2288.7,2,  2377.7,2,-999.0000,9,  -999.00,-999.0000,9, -999.00,9, -999.00,9,  -999.0,9,  -999.0, -999.00,9, -999.00,9, -999.00,9, -999.00,9,   2.3495, -999.00
096U20160426,       P15S,      88,          1,         14,       2014,2,20160609,       2229,   -24.9930,  -170.0040,       5637,  1974.8,   2.3300,  34.6210,2,  34.6208,2,    146.3,2,   146.7,2,  110.12,2,   35.60,2,    0.01,4,    2.49,2,  -0.001,2,   0.000,2,       0,2,  2298.8,2,  2385.5,2,-999.0000,9,  -999.00,-999.0000,9, -999.00,9, -999.00,9,  -999.0,9,  -999.0, -999.00,9, -999.00,9, -999.00,9, -999.00,9,   2.1907, -999.00
096U20160426,       P15S,      88,          1,         13,       2013,2,20160609,       2229,   -24.9930,  -170.0040,       5637,  2235.1,   2.1730,  34.6370,2,  34.6348,2,    145.7,2,   145.9,2,  116.16,2,   35.71,2,    0.01,4,    2.50,2,   0.000,6,   0.000,6,       0,6,  2305.5,2,  2391.1,2,-999.0000,9,  -999.00,-999.0000,9, -999.00,9, -999.00,9,  -999.0,9,  -999.0, -999.00,9, -999.00,9, -999.00,9, -999.00,9,   2.0135, -999.00
096U20160426,       P15S,      88,          1,         12,       2012,2,20160609,       2229,   -24.9930,  -170.0040,       5637,  2485.6,   2.0230,  34.6500,2,  34.6484,2,    146.1,2,   146.3,2,  121.96,2,   35.79,2,    0.01,4,    2.50,2,-999.000,9,-999.000,9,-999.000,9,  -999.0,9,  -999.0,9,-999.0000,9,  -999.00,-999.0000,9, -999.00,9, -999.00,9,  -999.0,9,  -999.0, -999.00,9, -999.00,9, -999.00,9, -999.00,9,   1.8436, -999.00
096U20160426,       P15S,      88,          1,         11,       2011,2,20160609,       2229,   -24.9930,  -170.0040,       5637,  2736.5,   1.9150,  34.6600,2,  34.6589,2,    146.7,2,   146.7,2,  126.15,2,   35.79,2,    0.01,4,    2.50,2,-999.000,9,-999.000,9,-999.000,9,  2315.0,6,  2403.6,6,-999.0000,9,  -999.00,-999.0000,9, -999.00,9, -999.00,9,  -999.0,9,  -999.0, -999.00,9, -999.00,9, -999.00,9, -999.00,9,   1.7144, -999.00
096U20160426,       P15S,      88,          1,         10,       2010,2,20160609,       2229,   -24.9930,  -170.0040,       5637,  2991.7,   1.8030,  34.6690,2,  34.6674,2,    148.7,2,   148.7,2,  129.35,2,   35.69,2,    0.01,4,    2.50,2,-999.000,9,-999.000,9,-999.000,9,  -999.0,9,  -999.0,9,-999.0000,9,  -999.00,-999.0000,9, -999.00,9, -999.00,9,  -999.0,9,  -999.0, -999.00,9, -999.00,9, -999.00,9, -999.00,9,   1.5803, -999.00
096U20160426,       P15S,      88,          1,          9,       2009,2,20160609,       2229,   -24.9930,  -170.0040,       5637,  3271.5,   1.6880,  34.6800,2,  34.6792,2,    155.9,2,   156.2,2,  128.60,2,   35.12,2,    0.00,4,    2.45,2,-999.000,9,-999.000,9,-999.000,9,  2310.1,2,  2401.6,2,-999.0000,9,  -999.00,-999.0000,9, -999.00,9, -999.00,9,  -999.0,9,  -999.0, -999.00,9, -999.00,9, -999.00,9, -999.00,9,   1.4403, -999.00
096U20160426,       P15S,      88,          1,          8,       2008,2,20160609,       2229,   -24.9930,  -170.0040,       5637,  3586.5,   1.5430,  34.7020,2,  34.7001,2,    174.4,2,   176.4,2,  118.65,2,   33.40,2,    0.01,4,    2.32,2,-999.000,9,-999.000,9,-999.000,9,  2287.2,2,  2383.6,2,-999.0000,9,  -999.00,-999.0000,9, -999.00,9, -999.00,9,  -999.0,9,  -999.0, -999.00,9, -999.00,9, -999.00,9, -999.00,9,   1.2667, -999.00
096U20160426,       P15S,      88,          1,          7,       2007,2,20160609,       2229,   -24.9930,  -170.0040,       5637,  3951.8,   1.3350,  34.7200,2,  34.7186,2,    196.0,2,   198.7,2,  110.06,2,   31.67,2,    0.01,4,    2.18,2,   0.061,2,   0.033,2,   0.005,2,  2263.3,2,  2363.9,2,-999.0000,9,  -999.00,-999.0000,9, -999.00,9, -999.00,9,  -999.0,9,  -999.0, -999.00,9, -999.00,9, -999.00,9, -999.00,9,   1.0257, -999.00
096U20160426,       P15S,      88,          1,          6,       2006,2,20160609,       2229,   -24.9930,  -170.0040,       5637,  4361.0,   1.1480,  34.7150,2,  34.7141,2,    202.0,2,   203.9,2,  114.48,2,   31.77,2,    0.00,4,    2.19,2,-999.000,9,-999.000,9,-999.000,9,  2259.2,2,  2365.4,2,-999.0000,9,  -999.00,-999.0000,9, -999.00,9, -999.00,9,  -999.0,9,  -999.0, -999.00,9, -999.00,9, -999.00,9, -999.00,9,   0.7994, -999.00
096U20160426,       P15S,      88,          1,          5,       2005,2,20160609,       2229,   -24.9930,  -170.0040,       5637,  4759.3,   1.0740,  34.7110,2,  34.7099,2,    205.1,2,   205.7,2,  117.54,2,   31.87,2,    0.00,4,    2.19,2,-999.000,9,-999.000,9,-999.000,9,  -999.0,9,  -999.0,9,-999.0000,9,  -999.00,-999.0000,9, -999.00,9, -999.00,9,  -999.0,9,  -999.0, -999.00,9, -999.00,9, -999.00,9, -999.00,9,   0.6823, -999.00
096U20160426,       P15S,      88,          1,          4,       2004,2,20160609,       2229,   -24.9930,  -170.0040,       5637,  5156.4,   1.0840,  34.7100,2,  34.7082,2,    206.7,2,   206.3,2,  118.81,2,   31.89,2,    0.00,4,    2.20,2,-999.000,9,-999.000,9,-999.000,9,  2262.6,2,  2365.9,2,-999.0000,9,  -999.00,-999.0000,9, -999.00,9, -999.00,9,  -999.0,9,  -999.0, -999.00,9, -999.00,9, -999.00,9, -999.00,9,   0.6448, -999.00
096U20160426,       P15S,      88,          1,          3,       2003,2,20160609,       2229,   -24.9930,  -170.0040,       5637,  5507.6,   1.1140,  34.7090,2,  34.7087,2,    207.6,2,   206.7,2,  119.09,2,   31.92,2,    0.00,4,    2.20,2,   0.095,2,   0.047,2,   0.044,2,  2263.5,6,  2366.5,6,-999.0000,9,  -999.00,-999.0000,9, -999.00,9, -999.00,9,  -999.0,9,  -999.0, -999.00,9, -999.00,9, -999.00,9, -999.00,9,   0.6303, -999.00
096U20160426,       P15S,      88,          1,          2,       2002,2,20160609,       2229,   -24.9930,  -170.0040,       5637,  5641.4,   1.1250,  34.7090,2,  34.7078,2,    208.1,2,   206.6,2,  119.34,2,   31.92,2,    0.00,4,    2.20,2,-999.000,9,-999.000,9,-999.000,9,  -999.0,9,  -999.0,9,-999.0000,9,  -999.00,-999.0000,9, -999.00,9, -999.00,9,  -999.0,9,  -999.0, -999.00,9, -999.00,9, -999.00,9, -999.00,9,   0.6240, -999.00
096U20160426,       P15S,      88,          1,          1,       2001,2,20160609,       2229,   -24.9930,  -170.0040,       5637,  5738.7,   1.1380,  34.7090,2,  34.7077,2,    208.1,2,   206.6,2,  119.38,2,   31.97,2,    0.00,4,    2.20,2,-999.000,9,-999.000,9,-999.000,9,  2261.4,2,  2366.8,2,-999.0000,9,  -999.00,-999.0000,9, -999.00,9, -999.00,9,  -999.0,9,  -999.0, -999.00,9, -999.00,9, -999.00,9, -999.00,9,   0.6240, -999.00