BOTTLE,20230413CCHSIOENA
EXPOCODE,SECT_ID,STNNBR,CASTNO,SAMPNO,BTLNBR,BTLNBR_FLAG_W,DATE,TIME,LATITUDE,LONGITUDE,DEPTH,CTDPRS,CTDTMP,CTDSAL,CTDSAL_FLAG_W,SALNTY,SALNTY_FLAG_W,CTDOXY,CTDOXY_FLAG_W,OXYGEN,OXYGEN_FLAG_W,SILCAT,SILCAT_FLAG_W,NITRAT,NITRAT_FLAG_W,NITRIT,NITRIT_FLAG_W,PHSPHT,PHSPHT_FLAG_W,CFC-11,CFC-11_FLAG_W,CFC-12,CFC-12_FLAG_W,SF6,SF6_FLAG_W,TCARBN,TCARBN_FLAG_W,ALKALI,ALKALI_FLAG_W,PH_TOT,PH_TOT_FLAG_W,PH_TMP,HELIUM,HELIUM_FLAG_W,DELHE3,DELHE3_FLAG_W,DELC13,DELC13_FLAG_W,DELC14,DELC14_FLAG_W,C14ERR,POC,POC_FLAG_W,PON,PON_FLAG_W,CHLORA,CHLORA_FLAG_W,PPHYTN,PPHYTN_FLAG_W,THETA,DELHER
,,,,,,,,,,,METERS,DBAR,ITS-90,PSS-78,,PSS-78,,UMOL/KG,,UMOL/KG,,UMOL/KG,,UMOL/KG,,UMOL/KG,,UMOL/KG,,PMOL/KG,,PMOL/KG,,FMOL/KG,,UMOL/KG,,UMOL/KG,,,,DEG C,NMOL/KG,,PERCNT,,/MILLE,,/MILLE,,/MILLE,UG/KG,,UG/KG,,UG/KG,,UG/KG,,DEG C,PERCNT
096U20160426,       P15S,     116,          1,         36,       2036,2,20160617,       1535,   -11.9945,  -170.0024,       5091,     5.9,  29.3340,  34.6820,2,  34.6818,2,    189.3,2,   193.6,2,    0.46,2,   -0.02,4,    0.01,4,    0.14,2,   1.389,6,   0.894,6,   1.242,6,  1932.9,2,  2279.8,2,-999.0000,9,  -999.00,-999.0000,9, -999.00,9, -999.00,9,  -999.0,9,  -999.0, -999.00,9, -999.00,9,    0.11,2,    0.06,3,  29.3326, -999.00
096U20160426,       P15S,     116,          1,         35,       2035,2,20160617,       1535,   -11.9945,  -170.0024,       5091,    20.7,  29.3370,  34.6830,2,  34.6817,2,    189.7,2,   193.3,2,    0.48,2,   -0.03,4,    0.01,4,    0.15,2,-999.000,9,-999.000,9,-999.000,9,  -999.0,9,  -999.0,9,-999.0000,9,  -999.00,-999.0000,9, -999.00,9, -999.00,9,  -999.0,9,  -999.0, -999.00,9, -999.00,9, -999.00,9, -999.00,9,  29.3320, -999.00
096U20160426,       P15S,     116,          1,         34,       2034,2,20160617,       1535,   -11.9945,  -170.0024,       5091,    40.5,  29.3440,  34.6840,2,  34.6953,2,    189.1,2,   193.3,2,    0.46,2,   -0.03,4,    0.01,4,    0.15,2,-999.000,9,-999.000,9,-999.000,9,  1935.1,2,  2281.9,2,-999.0000,9,  -999.00,-999.0000,9, -999.00,9, -999.00,9,  -999.0,9,  -999.0, -999.00,9, -999.00,9,    0.12,2,    0.04,3,  29.3341, -999.00
096U20160426,       P15S,     116,          1,         33,       2033,2,20160617,       1535,   -11.9945,  -170.0024,       5091,    65.5,  29.4530,  34.7710,2,  35.3255,2,    189.9,2,   193.4,2,    0.56,2,    0.00,4,    0.02,4,    0.20,2,   1.447,2,   0.924,2,   1.173,2,  1980.7,2,  2326.4,6,-999.0000,9,  -999.00,-999.0000,9, -999.00,9, -999.00,9,  -999.0,9,  -999.0, -999.00,9, -999.00,9,    0.19,2,    0.06,3,  29.4370, -999.00
096U20160426,       P15S,     116,          1,         32,       2032,2,20160617,       1535,   -11.9945,  -170.0024,       5091,    90.4,  27.9500,  36.0030,2,  36.0465,2,    173.2,2,   171.3,2,    0.88,2,    1.65,2,    0.42,2,    0.40,2,   1.552,2,   0.997,2,   1.175,2,  2054.4,2,  2373.5,2,-999.0000,9,  -999.00,-999.0000,9, -999.00,9, -999.00,9,  -999.0,9,  -999.0, -999.00,9, -999.00,9,    0.37,2,    0.08,3,  27.9287, -999.00
096U20160426,       P15S,     116,          1,         31,       2031,2,20160617,       1535,   -11.9945,  -170.0024,       5091,   136.1,  25.2880,  36.2510,2,  36.2448,2,    148.8,2,   150.4,2,    1.02,2,    4.95,2,    0.65,2,    0.60,2,   1.679,2,   1.086,2,   1.232,2,  2102.1,6,  2385.6,6,-999.0000,9,  -999.00,-999.0000,9, -999.00,9, -999.00,9,  -999.0,9,  -999.0, -999.00,9, -999.00,9,    0.37,2,    0.20,3,  25.2581, -999.00
096U20160426,       P15S,     116,          1,         30,       2030,2,20160617,       1535,   -11.9945,  -170.0024,       5091,   185.6,  21.5660,  35.9620,2,  35.9691,2,    148.2,2,   150.8,2,    1.22,2,    7.06,2,    0.02,2,    0.69,2,   1.937,2,   1.226,2,   1.311,2,  2125.5,2,  2368.4,2,-999.0000,9,  -999.00,-999.0000,9, -999.00,9, -999.00,9,  -999.0,9,  -999.0, -999.00,9, -999.00,9, -999.00,9, -999.00,9,  21.5296, -999.00
096U20160426,       P15S,     116,          1,         29,       2029,2,20160617,       1535,   -11.9945,  -170.0024,       5091,   235.6,  18.0770,  35.5020,2,  35.4459,2,    137.4,2,   136.4,2,    3.66,2,   11.28,2,    0.01,4,    1.02,2,   2.077,2,   1.265,2,   1.067,2,  2145.3,2,  2335.2,2,-999.0000,9,  -999.00,-999.0000,9, -999.00,9, -999.00,9,  -999.0,9,  -999.0, -999.00,9, -999.00,9, -999.00,9, -999.00,9,  18.0363, -999.00
096U20160426,       P15S,     116,          1,         28,       2028,2,20160617,       1535,   -11.9945,  -170.0024,       5091,   285.1,  14.6960,  35.0720,2,  35.0222,2,    110.4,2,   109.7,2,    8.52,2,   17.75,2,    0.01,4,    1.48,2,   1.861,2,   1.081,2,   0.682,2,  2173.1,2,  2309.3,2,-999.0000,9,  -999.00,-999.0000,9, -999.00,9, -999.00,9,  -999.0,9,  -999.0, -999.00,9, -999.00,9, -999.00,9, -999.00,9,  14.6533, -999.00
096U20160426,       P15S,     116,          1,         27,       2027,2,20160617,       1535,   -11.9945,  -170.0024,       5091,   351.3,  11.7490,  34.7970,2,  34.7699,2,    106.3,2,   106.2,2,   14.75,2,   23.45,2,    0.01,4,    1.79,2,   1.348,2,   0.749,2,   0.371,2,  2192.1,2,  2299.8,2,-999.0000,9,  -999.00,-999.0000,9, -999.00,9, -999.00,9,  -999.0,9,  -999.0, -999.00,9, -999.00,9, -999.00,9, -999.00,9,  11.7036, -999.00
096U20160426,       P15S,     116,          1,         26,       2026,2,20160617,       1535,   -11.9945,  -170.0024,       5091,   386.1,  10.0220,  34.7010,2,  34.6946,2,    105.5,2,   104.5,2,   19.77,2,   26.94,2,    0.01,4,    1.97,2,   0.966,2,   0.526,2,   0.224,2,  2205.0,2,  2299.3,2,-999.0000,9,  -999.00,-999.0000,9, -999.00,9, -999.00,9,  -999.0,9,  -999.0, -999.00,9, -999.00,9, -999.00,9, -999.00,9,   9.9769, -999.00
096U20160426,       P15S,     116,          1,         25,       2025,2,20160617,       1535,   -11.9945,  -170.0024,       5091,   465.8,   8.3240,  34.6020,2,  34.5883,2,    121.4,2,   122.3,2,   25.65,2,   29.52,2,    0.01,4,    2.07,2,   0.723,2,   0.379,2,   0.127,2,  2208.4,2,  2301.0,2,-999.0000,9,  -999.00,-999.0000,9, -999.00,9, -999.00,9,  -999.0,9,  -999.0, -999.00,9, -999.00,9, -999.00,9, -999.00,9,   8.2752, -999.00
096U20160426,       P15S,     116,          1,         24,       2024,2,20160617,       1535,   -11.9945,  -170.0024,       5091,   565.6,   7.0110,  34.5470,2,  34.5446,2,    120.5,2,   120.5,2,   34.22,2,   32.30,2,    0.01,4,    2.24,2,   0.398,2,   0.209,2,   0.067,2,  2223.8,2,  2306.1,2,-999.0000,9,  -999.00,-999.0000,9, -999.00,9, -999.00,9,  -999.0,9,  -999.0, -999.00,9, -999.00,9, -999.00,9, -999.00,9,   6.9570, -999.00
096U20160426,       P15S,     116,          1,         23,       2023,2,20160617,       1535,   -11.9945,  -170.0024,       5091,   665.4,   6.0580,  34.4960,2,  34.4958,2,    137.7,2,   135.4,2,   40.02,2,   32.67,2,    0.01,4,    2.27,2,   0.364,2,   0.190,2,   0.029,2,  2225.2,2,  2310.4,2,-999.0000,9,  -999.00,-999.0000,9, -999.00,9, -999.00,9,  -999.0,9,  -999.0, -999.00,9, -999.00,9, -999.00,9, -999.00,9,   5.9988, -999.00
096U20160426,       P15S,     116,          1,         22,       2022,2,20160617,       1535,   -11.9945,  -170.0024,       5091,   765.2,   5.4030,  34.4980,2,  34.4983,2,    131.8,2,   130.9,2,   49.57,2,   34.11,2,    0.01,4,    2.37,2,   0.217,2,   0.115,2,       0,2,  2238.0,2,  2318.7,2,-999.0000,9,  -999.00,-999.0000,9, -999.00,9, -999.00,9,  -999.0,9,  -999.0, -999.00,9, -999.00,9, -999.00,9, -999.00,9,   5.3382, -999.00
096U20160426,       P15S,     116,          1,         21,       2021,2,20160617,       1535,   -11.9945,  -170.0024,       5091,   866.2,   4.9080,  34.5020,2,  34.4999,2,    132.0,2,   130.9,2,   57.38,2,   34.88,2,    0.01,4,    2.43,2,   0.125,2,   0.067,2,       0,2,  -999.0,9,  -999.0,9,-999.0000,9,  -999.00,-999.0000,9, -999.00,9, -999.00,9,  -999.0,9,  -999.0, -999.00,9, -999.00,9, -999.00,9, -999.00,9,   4.8373, -999.00
096U20160426,       P15S,     116,          1,         20,       2020,2,20160617,       1535,   -11.9945,  -170.0024,       5091,   965.7,   4.4670,  34.5080,2,  34.5076,2,    132.7,2,   131.8,2,   64.34,2,   35.29,2,    0.01,4,    2.46,2,   0.079,2,   0.042,2,       0,2,  2255.3,2,  2334.7,6,-999.0000,9,  -999.00,-999.0000,9, -999.00,9, -999.00,9,  -999.0,9,  -999.0, -999.00,9, -999.00,9, -999.00,9, -999.00,9,   4.3907, -999.00
096U20160426,       P15S,     116,          1,         19,       2019,2,20160617,       1535,   -11.9945,  -170.0024,       5091,  1065.7,   4.1060,  34.5220,2,  34.5194,2,    131.7,2,   131.3,2,   71.72,2,   35.73,2,    0.01,4,    2.49,2,   0.048,2,   0.027,2,       0,2,  -999.0,9,  -999.0,9,-999.0000,9,  -999.00,-999.0000,9, -999.00,9, -999.00,9,  -999.0,9,  -999.0, -999.00,9, -999.00,9, -999.00,9, -999.00,9,   4.0239, -999.00
096U20160426,       P15S,     116,          1,         18,       2018,2,20160617,       1535,   -11.9945,  -170.0024,       5091,  1166.4,   3.7350,  34.5270,2,  34.5257,2,    137.4,2,   138.0,2,   77.30,2,   35.63,2,    0.01,4,    2.48,2,   0.039,2,   0.023,2,       0,2,  2268.5,6,  2347.4,6,-999.0000,9,  -999.00,-999.0000,9, -999.00,9, -999.00,9,  -999.0,9,  -999.0, -999.00,9, -999.00,9, -999.00,9, -999.00,9,   3.6476, -999.00
096U20160426,       P15S,     116,          1,         17,       2017,2,20160617,       1535,   -11.9945,  -170.0024,       5091,  1251.5,   3.5750,  34.5290,2,  34.5283,2,    141.3,2,   141.6,2,   79.35,2,   35.45,2,    0.01,4,    2.46,2,-999.000,9,-999.000,9,-999.000,9,  -999.0,9,  -999.0,9,-999.0000,9,  -999.00,-999.0000,9, -999.00,9, -999.00,9,  -999.0,9,  -999.0, -999.00,9, -999.00,9, -999.00,9, -999.00,9,   3.4820, -999.00
096U20160426,       P15S,     116,          1,         16,       2016,2,20160617,       1535,   -11.9945,  -170.0024,       5091,  1366.1,   3.3290,  34.5580,2,  34.5594,2,    132.5,2,   131.8,2,   89.41,2,   36.42,2,    0.01,4,    2.54,2,   0.007,2,   0.002,2,       0,2,  2283.5,2,  2361.4,2,-999.0000,9,  -999.00,-999.0000,9, -999.00,9, -999.00,9,  -999.0,9,  -999.0, -999.00,9, -999.00,9, -999.00,9, -999.00,9,   3.2288, -999.00
096U20160426,       P15S,     116,          1,         15,       2015,2,20160617,       1535,   -11.9945,  -170.0024,       5091,  1536.8,   2.8830,  34.5870,2,  34.5867,2,    134.3,2,   133.7,2,  100.32,2,   36.56,2,    0.01,4,    2.55,2,-999.000,9,-999.000,9,-999.000,9,  -999.0,9,  -999.0,9,-999.0000,9,  -999.00,-999.0000,9, -999.00,9, -999.00,9,  -999.0,9,  -999.0, -999.00,9, -999.00,9, -999.00,9, -999.00,9,   2.7734, -999.00
096U20160426,       P15S,     116,          1,         14,       2014,2,20160617,       1535,   -11.9945,  -170.0024,       5091,  1735.6,   2.5150,  34.6110,2,  34.6112,2,    139.3,2,   139.2,2,  108.50,2,   36.25,2,    0.01,4,    2.52,2,   0.003,2,   0.002,2,       0,2,  2299.9,2,  2383.9,2,-999.0000,9,  -999.00,-999.0000,9, -999.00,9, -999.00,9,  -999.0,9,  -999.0, -999.00,9, -999.00,9, -999.00,9, -999.00,9,   2.3934, -999.00
096U20160426,       P15S,     116,          1,         13,       2013,2,20160617,       1535,   -11.9945,  -170.0024,       5091,  1936.5,   2.2130,  34.6330,2,  34.6318,2,    142.9,2,   143.7,2,  116.00,2,   36.06,2,    0.01,4,    2.51,2,-999.000,9,-999.000,9,-999.000,9,  -999.0,9,  -999.0,9,-999.0000,9,  -999.00,-999.0000,9, -999.00,9, -999.00,9,  -999.0,9,  -999.0, -999.00,9, -999.00,9, -999.00,9, -999.00,9,   2.0787, -999.00
096U20160426,       P15S,     116,          1,         12,       2012,2,20160617,       1535,   -11.9945,  -170.0024,       5091,  2165.5,   2.0420,  34.6480,2,  34.6463,2,    143.6,2,   143.8,2,  122.26,2,   36.05,2,    0.01,4,    2.51,2,  -0.001,2,   0.000,2,       0,2,  2313.4,2,  2400.0,2,-999.0000,9,  -999.00,-999.0000,9, -999.00,9, -999.00,9,  -999.0,9,  -999.0, -999.00,9, -999.00,9, -999.00,9, -999.00,9,   1.8907, -999.00
096U20160426,       P15S,     116,          1,         11,       2011,2,20160617,       1535,   -11.9945,  -170.0024,       5091,  2416.5,   1.9230,  34.6590,2,  34.6570,2,    142.8,2,   142.7,2,  128.12,2,   36.19,2,    0.01,4,    2.51,2,-999.000,9,-999.000,9,-999.000,9,  -999.0,9,  -999.0,9,-999.0000,9,  -999.00,-999.0000,9, -999.00,9, -999.00,9,  -999.0,9,  -999.0, -999.00,9, -999.00,9, -999.00,9, -999.00,9,   1.7516, -999.00
096U20160426,       P15S,     116,          1,         10,       2010,2,20160617,       1535,   -11.9945,  -170.0024,       5091,  2665.3,   1.8100,  34.6680,2,  34.6666,2,    145.5,2,   146.4,2,  131.10,2,   36.03,2,    0.01,4,    2.49,2,   0.000,2,   0.000,2,       0,2,  2318.6,2,  2409.9,2,-999.0000,9,  -999.00,-999.0000,9, -999.00,9, -999.00,9,  -999.0,9,  -999.0, -999.00,9, -999.00,9, -999.00,9, -999.00,9,   1.6181, -999.00
096U20160426,       P15S,     116,          1,          9,       2009,2,20160617,       1535,   -11.9945,  -170.0024,       5091,  2914.8,   1.7230,  34.6740,2,  34.6731,2,    149.4,2,   150.1,2,  132.20,2,   35.75,2,    0.01,4,    2.48,2,-999.000,9,-999.000,9,-999.000,9,  -999.0,9,  -999.0,9,-999.0000,9,  -999.00,-999.0000,9, -999.00,9, -999.00,9,  -999.0,9,  -999.0, -999.00,9, -999.00,9, -999.00,9, -999.00,9,   1.5094, -999.00
096U20160426,       P15S,     116,          1,          8,       2008,2,20160617,       1535,   -11.9945,  -170.0024,       5091,  3200.5,   1.6400,  34.6790,2,  34.6782,2,    152.6,2,   153.1,2,  134.05,2,   35.61,2,    0.01,4,    2.46,2,   0.000,2,   0.000,2,       0,2,  2319.7,2,  2411.4,2,-999.0000,9,  -999.00,-999.0000,9, -999.00,9, -999.00,9,  -999.0,9,  -999.0, -999.00,9, -999.00,9, -999.00,9, -999.00,9,   1.4005, -999.00
096U20160426,       P15S,     116,          1,          7,       2007,2,20160617,       1535,   -11.9945,  -170.0024,       5091,  3499.7,   1.5840,  34.6840,2,  34.6828,2,    158.0,2,   158.5,2,  133.30,2,   35.28,2,    0.01,4,    2.44,2,-999.000,9,-999.000,9,-999.000,9,  -999.0,9,  -999.0,9,-999.0000,9,  -999.00,-999.0000,9, -999.00,9, -999.00,9,  -999.0,9,  -999.0, -999.00,9, -999.00,9, -999.00,9, -999.00,9,   1.3157, -999.00
096U20160426,       P15S,     116,          1,          6,       2006,2,20160617,       1535,   -11.9945,  -170.0024,       5091,  3799.8,   1.5210,  34.6880,2,  34.6873,2,    163.8,2,   164.0,2,  132.05,2,   34.85,2,    0.01,4,    2.40,2,   0.007,2,   0.001,2,       0,2,  2307.0,2,  2406.0,2,-999.0000,9,  -999.00,-999.0000,9, -999.00,9, -999.00,9,  -999.0,9,  -999.0, -999.00,9, -999.00,9, -999.00,9, -999.00,9,   1.2230, -999.00
096U20160426,       P15S,     116,          1,          5,       2005,2,20160617,       1535,   -11.9945,  -170.0024,       5091,  4100.2,   1.4130,  34.6990,2,  34.6983,2,    178.9,2,   180.6,2,  123.22,2,   33.51,2,    0.01,4,    2.31,2,   0.018,2,   0.007,2,       0,2,  -999.0,9,  -999.0,9,-999.0000,9,  -999.00,-999.0000,9, -999.00,9, -999.00,9,  -999.0,9,  -999.0, -999.00,9, -999.00,9, -999.00,9, -999.00,9,   1.0855, -999.00
096U20160426,       P15S,     116,          1,          4,       2004,2,20160617,       1535,   -11.9945,  -170.0024,       5091,  4476.7,   1.1720,  34.7130,2,  34.7114,2,    198.9,2,   201.8,2,  116.33,2,   32.02,2,    0.01,4,    2.19,2,   0.055,2,   0.027,2,       0,2,  2263.7,2,  2365.9,2,-999.0000,9,  -999.00,-999.0000,9, -999.00,9, -999.00,9,  -999.0,9,  -999.0, -999.00,9, -999.00,9, -999.00,9, -999.00,9,   0.8096, -999.00
096U20160426,       P15S,     116,          1,          3,       2003,2,20160617,       1535,   -11.9945,  -170.0024,       5091,  4851.5,   1.0770,  34.7100,2,  34.7096,2,    203.4,2,   205.4,2,  118.56,2,   32.04,2,    0.01,4,    2.19,2,   0.064,6,   0.035,6,       0,6,  2262.2,6,  2366.5,6,-999.0000,9,  -999.00,-999.0000,9, -999.00,9, -999.00,9,  -999.0,9,  -999.0, -999.00,9, -999.00,9, -999.00,9, -999.00,9,   0.6744, -999.00
096U20160426,       P15S,     116,          1,          2,       2002,2,20160617,       1535,   -11.9945,  -170.0024,       5091,  5012.4,   1.0870,  34.7100,2,  34.7081,2,    203.8,2,   205.3,2,  118.98,2,   32.05,2,    0.01,4,    2.20,2,   0.062,2,   0.032,2,       0,2,  -999.0,9,  -999.0,9,-999.0000,9,  -999.00,-999.0000,9, -999.00,9, -999.00,9,  -999.0,9,  -999.0, -999.00,9, -999.00,9, -999.00,9, -999.00,9,   0.6650, -999.00
096U20160426,       P15S,     116,          1,          1,       2001,2,20160617,       1535,   -11.9945,  -170.0024,       5091,  5167.8,   1.1040,  34.7090,2,  34.7086,2,    204.3,2,   205.5,2,  119.02,2,   32.03,2,    0.01,4,    2.19,2,   0.062,2,   0.033,2,       0,2,  2262.5,2,  2364.2,2,-999.0000,9,  -999.00,-999.0000,9, -999.00,9, -999.00,9,  -999.0,9,  -999.0, -999.00,9, -999.00,9, -999.00,9, -999.00,9,   0.6627, -999.00