BOTTLE,20230413CCHSIOENA
EXPOCODE,SECT_ID,STNNBR,CASTNO,SAMPNO,BTLNBR,BTLNBR_FLAG_W,DATE,TIME,LATITUDE,LONGITUDE,DEPTH,CTDPRS,CTDTMP,CTDSAL,CTDSAL_FLAG_W,SALNTY,SALNTY_FLAG_W,CTDOXY,CTDOXY_FLAG_W,OXYGEN,OXYGEN_FLAG_W,SILCAT,SILCAT_FLAG_W,NITRAT,NITRAT_FLAG_W,NITRIT,NITRIT_FLAG_W,PHSPHT,PHSPHT_FLAG_W,CFC-11,CFC-11_FLAG_W,CFC-12,CFC-12_FLAG_W,SF6,SF6_FLAG_W,TCARBN,TCARBN_FLAG_W,ALKALI,ALKALI_FLAG_W,PH_TOT,PH_TOT_FLAG_W,PH_TMP,HELIUM,HELIUM_FLAG_W,DELHE3,DELHE3_FLAG_W,DELC13,DELC13_FLAG_W,DELC14,DELC14_FLAG_W,C14ERR,POC,POC_FLAG_W,PON,PON_FLAG_W,CHLORA,CHLORA_FLAG_W,PPHYTN,PPHYTN_FLAG_W,THETA,DELHER
,,,,,,,,,,,METERS,DBAR,ITS-90,PSS-78,,PSS-78,,UMOL/KG,,UMOL/KG,,UMOL/KG,,UMOL/KG,,UMOL/KG,,UMOL/KG,,PMOL/KG,,PMOL/KG,,FMOL/KG,,UMOL/KG,,UMOL/KG,,,,DEG C,NMOL/KG,,PERCNT,,/MILLE,,/MILLE,,/MILLE,UG/KG,,UG/KG,,UG/KG,,UG/KG,,DEG C,PERCNT
096U20160426,       P15S,      27,          1,         36,       2036,2,20160516,       0658,   -53.9904,  -169.9482,       5048,     6.2,   6.8460,  34.1740,2,  34.1753,2,    292.7,2,   292.0,2,    4.20,2,   18.35,2,    0.26,2,    1.32,2,   3.927,2,   2.226,2,   2.639,2,  2120.3,2,  2273.5,2,-999.0000,9,  -999.00,-999.0000,9, -999.00,9, -999.00,9,  -999.0,9,  -999.0, -999.00,9, -999.00,9,    0.80,2,   -0.18,3,   6.8454, -999.00
096U20160426,       P15S,      27,          1,         35,       2035,2,20160516,       0658,   -53.9904,  -169.9482,       5048,    20.8,   6.8480,  34.1740,2,  34.1757,2,    292.6,2,   292.0,2,    4.20,2,   18.36,2,    0.26,2,    1.32,2,-999.000,9,-999.000,9,-999.000,9,  -999.0,9,  -999.0,9,-999.0000,9,  -999.00,-999.0000,9, -999.00,9, -999.00,9,  -999.0,9,  -999.0, -999.00,9, -999.00,9, -999.00,9, -999.00,9,   6.8461, -999.00
096U20160426,       P15S,      27,          1,         34,       2034,2,20160516,       0658,   -53.9904,  -169.9482,       5048,    40.1,   6.8500,  34.1740,2,  34.1754,2,    292.3,2,   292.3,2,    4.20,2,   18.38,2,    0.25,2,    1.32,2,   3.923,2,   2.234,2,   2.723,2,  2119.5,2,  2275.0,2,-999.0000,9,  -999.00,-999.0000,9, -999.00,9, -999.00,9,  -999.0,9,  -999.0, -999.00,9, -999.00,9, -999.00,9, -999.00,9,   6.8464, -999.00
096U20160426,       P15S,      27,          1,         33,       2033,2,20160516,       0658,   -53.9904,  -169.9482,       5048,    65.4,   6.8510,  34.1740,2,  34.1755,2,    292.1,2,   291.7,2,    4.21,2,   18.36,2,    0.26,2,    1.32,2,-999.000,9,-999.000,9,-999.000,9,  -999.0,9,  -999.0,9,-999.0000,9,  -999.00,-999.0000,9, -999.00,9, -999.00,9,  -999.0,9,  -999.0, -999.00,9, -999.00,9,    0.26,2,    0.25,3,   6.8451, -999.00
096U20160426,       P15S,      27,          1,         32,       2032,2,20160516,       0658,   -53.9904,  -169.9482,       5048,    90.8,   6.8530,  34.1740,2,  34.1754,2,    292.0,2,   291.3,2,    4.20,2,   18.39,2,    0.26,2,    1.32,2,   3.906,2,   2.233,2,     2.7,2,  2120.0,2,  2276.7,2,-999.0000,9,  -999.00,-999.0000,9, -999.00,9, -999.00,9,  -999.0,9,  -999.0, -999.00,9, -999.00,9, -999.00,9, -999.00,9,   6.8448, -999.00
096U20160426,       P15S,      27,          1,         31,       2031,2,20160516,       0658,   -53.9904,  -169.9482,       5048,   134.5,   6.8510,  34.1770,2,  34.1790,2,    291.4,2,   291.3,2,    4.24,2,   18.45,2,    0.25,2,    1.32,2,   3.923,2,   2.231,2,   2.647,2,  2121.6,6,  2277.0,6,-999.0000,9,  -999.00,-999.0000,9, -999.00,9, -999.00,9,  -999.0,9,  -999.0, -999.00,9, -999.00,9,    0.30,2,    0.16,3,   6.8388, -999.00
096U20160426,       P15S,      27,          1,         30,       2030,2,20160516,       0658,   -53.9904,  -169.9482,       5048,   185.7,   6.0710,  34.1980,2,  34.2044,2,    282.6,2,   281.0,2,    7.60,2,   21.75,2,    0.05,2,    1.50,2,   4.058,2,   2.264,2,   2.456,2,  2138.9,2,  2274.7,2,-999.0000,9,  -999.00,-999.0000,9, -999.00,9, -999.00,9,  -999.0,9,  -999.0, -999.00,9, -999.00,9,    0.11,2,    0.03,3,   6.0552, -999.00
096U20160426,       P15S,      27,          1,         29,       2029,2,20160516,       0658,   -53.9904,  -169.9482,       5048,   234.9,   5.6190,  34.1920,2,  34.1915,2,    280.1,2,   279.1,2,    8.78,2,   22.59,2,    0.01,4,    1.55,2,   4.074,2,   2.279,2,   2.398,2,  2143.3,2,  2278.4,2,-999.0000,9,  -999.00,-999.0000,9, -999.00,9, -999.00,9,  -999.0,9,  -999.0, -999.00,9, -999.00,9,    0.04,2,    0.05,3,   5.5997, -999.00
096U20160426,       P15S,      27,          1,         28,       2028,2,20160516,       0658,   -53.9904,  -169.9482,       5048,   284.6,   5.2400,  34.1660,2,  34.1661,2,    279.4,2,   279.4,2,    9.95,2,   23.44,2,    0.01,4,    1.61,2,   4.115,6,   2.284,6,   2.435,6,  2146.8,2,  2277.6,2,-999.0000,9,  -999.00,-999.0000,9, -999.00,9, -999.00,9,  -999.0,9,  -999.0, -999.00,9, -999.00,9, -999.00,9, -999.00,9,   5.2174, -999.00
096U20160426,       P15S,      27,          1,         27,       2027,2,20160516,       0658,   -53.9904,  -169.9482,       5048,   335.3,   5.0330,  34.1570,2,  34.1557,2,    277.6,2,   277.2,2,   11.15,2,   24.17,2,    0.01,4,    1.65,2,-999.000,9,-999.000,9,-999.000,9,  -999.0,9,  -999.0,9,-999.0000,9,  -999.00,-999.0000,9, -999.00,9, -999.00,9,  -999.0,9,  -999.0, -999.00,9, -999.00,9, -999.00,9, -999.00,9,   5.0068, -999.00
096U20160426,       P15S,      27,          1,         26,       2026,2,20160516,       0658,   -53.9904,  -169.9482,       5048,   387.0,   4.7000,  34.1390,2,  34.1377,2,    276.5,2,   277.1,2,   12.33,2,   24.88,2,    0.01,4,    1.70,2,   4.115,2,   2.284,2,   2.357,2,  2152.8,2,  2276.6,2,-999.0000,9,  -999.00,-999.0000,9, -999.00,9, -999.00,9,  -999.0,9,  -999.0, -999.00,9, -999.00,9, -999.00,9, -999.00,9,   4.6706, -999.00
096U20160426,       P15S,      27,          1,         25,       2025,2,20160516,       0658,   -53.9904,  -169.9482,       5048,   465.0,   4.6230,  34.1800,2,  34.1804,2,    255.7,2,   255.0,2,   16.60,2,   26.73,2,    0.01,4,    1.82,2,   3.809,2,   2.062,2,   1.928,2,  2166.1,2,  2278.8,2,-999.0000,9,  -999.00,-999.0000,9, -999.00,9, -999.00,9,  -999.0,9,  -999.0, -999.00,9, -999.00,9, -999.00,9, -999.00,9,   4.5877, -999.00
096U20160426,       P15S,      27,          1,         24,       2024,2,20160516,       0658,   -53.9904,  -169.9482,       5048,   564.0,   4.2050,  34.2100,2,  34.2130,2,    238.1,3,   236.5,2,   23.43,2,   29.09,2,    0.00,4,    1.98,2,   3.438,2,   1.827,2,   1.449,2,  2182.2,2,  2284.5,2,-999.0000,9,  -999.00,-999.0000,9, -999.00,9, -999.00,9,  -999.0,9,  -999.0, -999.00,9, -999.00,9, -999.00,9, -999.00,9,   4.1636, -999.00
096U20160426,       P15S,      27,          1,         23,       2023,2,20160516,       0658,   -53.9904,  -169.9482,       5048,   666.6,   3.9320,  34.2610,2,  34.2626,2,    220.4,2,   219.4,2,   30.70,2,   30.78,2,    0.01,4,    2.10,2,   2.929,2,   1.529,2,   1.093,2,  2196.0,6,  2291.7,6,-999.0000,9,  -999.00,-999.0000,9, -999.00,9, -999.00,9,  -999.0,9,  -999.0, -999.00,9, -999.00,9, -999.00,9, -999.00,9,   3.8839, -999.00
096U20160426,       P15S,      27,          1,         22,       2022,2,20160516,       0658,   -53.9904,  -169.9482,       5048,   764.7,   3.5880,  34.3040,2,  34.3048,2,    208.0,2,   207.7,2,   38.82,3,   32.15,2,    0.00,4,    2.20,2,   2.451,2,   1.259,2,   0.799,2,  2209.7,2,  2299.6,2,-999.0000,9,  -999.00,-999.0000,9, -999.00,9, -999.00,9,  -999.0,9,  -999.0, -999.00,9, -999.00,9, -999.00,9, -999.00,9,   3.5342, -999.00
096U20160426,       P15S,      27,          1,         21,       2021,2,20160516,       0658,   -53.9904,  -169.9482,       5048,   866.6,   3.2750,  34.3510,2,  34.3527,2,    198.4,2,   196.6,2,   46.67,2,   33.11,2,    0.00,4,    2.27,2,   1.978,2,   1.017,2,   0.589,2,  2221.9,2,  2304.8,2,-999.0000,9,  -999.00,-999.0000,9, -999.00,9, -999.00,9,  -999.0,9,  -999.0, -999.00,9, -999.00,9, -999.00,9, -999.00,9,   3.2154, -999.00
096U20160426,       P15S,      27,          1,         20,       2020,2,20160516,       0658,   -53.9904,  -169.9482,       5048,   964.7,   3.0500,  34.3290,2,  34.3934,2,    190.7,2,   189.5,2,   52.84,2,   33.71,2,    0.00,4,    2.32,2,   1.647,2,   0.827,2,   0.485,2,  2230.6,2,  2313.8,2,-999.0000,9,  -999.00,-999.0000,9, -999.00,9, -999.00,9,  -999.0,9,  -999.0, -999.00,9, -999.00,9, -999.00,9, -999.00,9,   2.9846, -999.00
096U20160426,       P15S,      27,          1,         19,       2019,2,20160516,       0658,   -53.9904,  -169.9482,       5048,  1066.8,   2.9030,  34.4430,2,  34.4458,2,    183.4,2,   182.0,2,   59.41,2,   34.09,2,    0.00,4,    2.35,2,-999.000,9,-999.000,9,-999.000,9,  -999.0,9,  -999.0,9,-999.0000,9,  -999.00,-999.0000,9, -999.00,9, -999.00,9,  -999.0,9,  -999.0, -999.00,9, -999.00,9, -999.00,9, -999.00,9,   2.8309, -999.00
096U20160426,       P15S,      27,          1,         18,       2018,2,20160516,       0658,   -53.9904,  -169.9482,       5048,  1163.9,   2.7610,  34.4890,2,  34.4902,2,    178.9,2,   177.5,2,   64.40,2,   34.21,2,    0.00,4,    2.36,2,   0.990,2,   0.500,2,   0.304,2,  2246.2,2,  2325.3,2,-999.0000,9,  -999.00,-999.0000,9, -999.00,9, -999.00,9,  -999.0,9,  -999.0, -999.00,9, -999.00,9, -999.00,9, -999.00,9,   2.6827, -999.00
096U20160426,       P15S,      27,          1,         17,       2017,2,20160516,       0658,   -53.9904,  -169.9482,       5048,  1264.5,   2.6320,  34.5350,2,  34.5354,2,    176.0,2,   174.4,2,   68.28,2,   34.17,2,    0.00,4,    2.35,2,-999.000,9,-999.000,9,-999.000,9,  -999.0,9,  -999.0,9,-999.0000,9,  -999.00,-999.0000,9, -999.00,9, -999.00,9,  -999.0,9,  -999.0, -999.00,9, -999.00,9, -999.00,9, -999.00,9,   2.5471, -999.00
096U20160426,       P15S,      27,          1,         16,       2016,2,20160516,       0658,   -53.9904,  -169.9482,       5048,  1366.0,   2.5370,  34.5740,2,  34.5758,2,    174.7,2,   173.4,2,   71.73,2,   33.91,2,    0.00,4,    2.34,2,   0.615,2,   0.313,2,   0.181,2,  2253.6,2,  2333.2,2,-999.0000,9,  -999.00,-999.0000,9, -999.00,9, -999.00,9,  -999.0,9,  -999.0, -999.00,9, -999.00,9, -999.00,9, -999.00,9,   2.4451, -999.00
096U20160426,       P15S,      27,          1,         15,       2015,2,20160516,       0658,   -53.9904,  -169.9482,       5048,  1535.0,   2.4210,  34.6340,2,  34.6337,2,    175.9,2,   174.7,2,   75.95,2,   33.16,2,    0.00,4,    2.29,2,   0.412,2,   0.208,2,   0.135,2,  2254.2,2,  2339.1,2,-999.0000,9,  -999.00,-999.0000,9, -999.00,9, -999.00,9,  -999.0,9,  -999.0, -999.00,9, -999.00,9, -999.00,9, -999.00,9,   2.3169, -999.00
096U20160426,       P15S,      27,          1,         14,       2014,2,20160516,       0658,   -53.9904,  -169.9482,       5048,  1735.5,   2.2960,  34.6830,2,  34.6841,2,    179.3,2,   179.4,2,   79.08,2,   32.34,2,    0.00,4,    2.22,2,   0.286,2,   0.145,2,   0.086,2,  2253.3,2,  2342.8,2,-999.0000,9,  -999.00,-999.0000,9, -999.00,9, -999.00,9,  -999.0,9,  -999.0, -999.00,9, -999.00,9, -999.00,9, -999.00,9,   2.1771, -999.00
096U20160426,       P15S,      27,          1,         13,       2013,2,20160516,       0658,   -53.9904,  -169.9482,       5048,  1934.7,   2.1740,  34.7120,2,  34.7127,2,    183.8,2,   183.9,2,   79.02,2,   32.27,2,    0.00,4,    2.22,2,   0.203,6,   0.108,6,   0.045,6,  2253.7,2,  2345.6,6,-999.0000,9,  -999.00,-999.0000,9, -999.00,9, -999.00,9,  -999.0,9,  -999.0, -999.00,9, -999.00,9, -999.00,9, -999.00,9,   2.0402, -999.00
096U20160426,       P15S,      27,          1,         12,       2012,2,20160516,       0658,   -53.9904,  -169.9482,       5048,  2164.6,   2.0350,  34.7280,2,  34.7292,2,    187.6,2,   188.2,2,   86.20,2,   31.26,2,    0.00,4,    2.16,2,-999.000,9,-999.000,9,-999.000,9,  2253.6,2,  2349.8,2,-999.0000,9,  -999.00,-999.0000,9, -999.00,9, -999.00,9,  -999.0,9,  -999.0, -999.00,9, -999.00,9, -999.00,9, -999.00,9,   1.8836, -999.00
096U20160426,       P15S,      27,          1,         11,       2011,2,20160516,       0658,   -53.9904,  -169.9482,       5048,  2415.1,   1.8340,  34.7380,2,  34.7373,2,    191.9,2,   193.1,2,   91.59,2,   31.01,2,    0.00,4,    2.15,2,   0.132,2,   0.067,2,   0.062,2,  2253.3,2,  2349.8,2,-999.0000,9,  -999.00,-999.0000,9, -999.00,9,    0.48,6,  -152.6,6,     2.0, -999.00,9, -999.00,9, -999.00,9, -999.00,9,   1.6640, -999.00
096U20160426,       P15S,      27,          1,         10,       2010,2,20160516,       0658,   -53.9904,  -169.9482,       5048,  2665.3,   1.6320,  34.7360,2,  34.7364,2,    195.1,2,   196.1,2,   97.36,2,   31.22,2,    0.00,4,    2.16,2,-999.000,9,-999.000,9,-999.000,9,  -999.0,9,  -999.0,9,-999.0000,9,  -999.00,-999.0000,9, -999.00,9, -999.00,9,  -999.0,9,  -999.0, -999.00,9, -999.00,9, -999.00,9, -999.00,9,   1.4433, -999.00
096U20160426,       P15S,      27,          1,          9,       2009,2,20160516,       0658,   -53.9904,  -169.9482,       5048,  2914.3,   1.4680,  34.7320,2,  34.7329,2,    197.4,2,   198.6,2,  102.58,2,   31.33,2,    0.00,4,    2.17,2,   0.123,2,   0.063,2,       0,2,  2256.7,2,  2359.0,2,-999.0000,9,  -999.00,-999.0000,9, -999.00,9, -999.00,9,  -999.0,9,  -999.0, -999.00,9, -999.00,9, -999.00,9, -999.00,9,   1.2597, -999.00
096U20160426,       P15S,      27,          1,          8,       2008,2,20160516,       0658,   -53.9904,  -169.9482,       5048,  3199.6,   1.2920,  34.7250,2,  34.7252,2,    200.1,2,   201.6,2,  107.84,2,   31.56,2,    0.01,4,    2.18,2,-999.000,9,-999.000,9,-999.000,9,  2258.4,2,  2360.6,6,-999.0000,9,  -999.00,-999.0000,9, -999.00,9, -999.00,9,  -999.0,9,  -999.0, -999.00,9, -999.00,9, -999.00,9, -999.00,9,   1.0605, -999.00
096U20160426,       P15S,      27,          1,          7,       2007,2,20160516,       0658,   -53.9904,  -169.9482,       5048,  3500.0,   1.1360,  34.7180,2,  34.7186,2,    203.0,2,   204.2,2,  112.51,2,   31.86,2,    0.00,4,    2.20,2,   0.168,2,   0.084,2,   0.032,2,  2260.2,2,  2360.0,2,-999.0000,9,  -999.00,-999.0000,9, -999.00,9, -999.00,9,  -999.0,9,  -999.0, -999.00,9, -999.00,9, -999.00,9, -999.00,9,   0.8788, -999.00
096U20160426,       P15S,      27,          1,          6,       2006,2,20160516,       0658,   -53.9904,  -169.9482,       5048,  3799.0,   1.0080,  34.7120,2,  34.7119,2,    205.5,2,   206.8,2,  116.67,2,   31.99,2,    0.00,4,    2.21,2,   0.199,2,   0.104,2,   0.095,2,  2261.7,2,  2360.2,2,-999.0000,9,  -999.00,-999.0000,9, -999.00,9, -999.00,9,  -999.0,9,  -999.0, -999.00,9, -999.00,9, -999.00,9, -999.00,9,   0.7238, -999.00
096U20160426,       P15S,      27,          1,          5,       2005,2,20160516,       0658,   -53.9904,  -169.9482,       5048,  4199.0,   0.9440,  34.7070,2,  34.7074,2,    207.5,2,   207.8,2,  120.09,2,   32.14,2,    0.00,4,    2.23,2,   0.222,2,   0.114,2,   0.108,2,  2265.9,2,  2358.9,2,-999.0000,9,  -999.00,-999.0000,9, -999.00,9, -999.00,9,  -999.0,9,  -999.0, -999.00,9, -999.00,9, -999.00,9, -999.00,9,   0.6193, -999.00
096U20160426,       P15S,      27,          1,          4,       2004,2,20160516,       0658,   -53.9904,  -169.9482,       5048,  4601.5,   0.9460,  34.7050,2,  34.7059,2,    208.8,2,   208.9,2,  121.51,2,   32.18,2,    0.00,4,    2.23,2,   0.242,2,   0.125,2,   0.106,2,  2263.4,2,  2362.6,6,-999.0000,9,  -999.00,-999.0000,9, -999.00,9, -999.00,9,  -999.0,9,  -999.0, -999.00,9, -999.00,9, -999.00,9, -999.00,9,   0.5766, -999.00
096U20160426,       P15S,      27,          1,          3,       2003,2,20160516,       0658,   -53.9904,  -169.9482,       5048,  4801.4,   0.9580,  34.7040,2,  34.7054,2,    209.3,2,   208.9,2,  121.80,2,   32.17,2,    0.00,4,    2.23,2,   0.261,2,   0.129,2,   0.073,2,  2263.2,6,  2362.9,6,-999.0000,9,  -999.00,-999.0000,9, -999.00,9, -999.00,9,  -999.0,9,  -999.0, -999.00,9, -999.00,9, -999.00,9, -999.00,9,   0.5653, -999.00
096U20160426,       P15S,      27,          1,          2,       2002,2,20160516,       0658,   -53.9904,  -169.9482,       5048,  5000.0,   0.9730,  34.7040,2,  34.7049,2,    209.6,2,   209.0,2,  122.49,2,   32.23,2,    0.00,4,    2.23,2,   0.275,2,   0.137,2,   0.063,2,  2262.9,2,  2362.8,2,-999.0000,9,  -999.00,-999.0000,9, -999.00,9, -999.00,9,  -999.0,9,  -999.0, -999.00,9, -999.00,9, -999.00,9, -999.00,9,   0.5564, -999.00
096U20160426,       P15S,      27,          1,          1,       2001,2,20160516,       0658,   -53.9904,  -169.9482,       5048,  5200.1,   0.9970,  34.7030,2,  34.7057,2,    210.2,2,   209.1,2,  122.27,2,   32.22,2,    0.00,4,    2.23,2,   0.270,2,   0.137,2,   0.074,2,  2261.3,2,  2367.3,2,-999.0000,9,  -999.00,-999.0000,9, -999.00,9, -999.00,9,  -999.0,9,  -999.0, -999.00,9, -999.00,9, -999.00,9, -999.00,9,   0.5556, -999.00