BOTTLE,20230413CCHSIOENA
EXPOCODE,SECT_ID,STNNBR,CASTNO,SAMPNO,BTLNBR,BTLNBR_FLAG_W,DATE,TIME,LATITUDE,LONGITUDE,DEPTH,CTDPRS,CTDTMP,CTDSAL,CTDSAL_FLAG_W,SALNTY,SALNTY_FLAG_W,CTDOXY,CTDOXY_FLAG_W,OXYGEN,OXYGEN_FLAG_W,SILCAT,SILCAT_FLAG_W,NITRAT,NITRAT_FLAG_W,NITRIT,NITRIT_FLAG_W,PHSPHT,PHSPHT_FLAG_W,CFC-11,CFC-11_FLAG_W,CFC-12,CFC-12_FLAG_W,SF6,SF6_FLAG_W,TCARBN,TCARBN_FLAG_W,ALKALI,ALKALI_FLAG_W,PH_TOT,PH_TOT_FLAG_W,PH_TMP,HELIUM,HELIUM_FLAG_W,DELHE3,DELHE3_FLAG_W,DELC13,DELC13_FLAG_W,DELC14,DELC14_FLAG_W,C14ERR,POC,POC_FLAG_W,PON,PON_FLAG_W,CHLORA,CHLORA_FLAG_W,PPHYTN,PPHYTN_FLAG_W,THETA,DELHER
,,,,,,,,,,,METERS,DBAR,ITS-90,PSS-78,,PSS-78,,UMOL/KG,,UMOL/KG,,UMOL/KG,,UMOL/KG,,UMOL/KG,,UMOL/KG,,PMOL/KG,,PMOL/KG,,FMOL/KG,,UMOL/KG,,UMOL/KG,,,,DEG C,NMOL/KG,,PERCNT,,/MILLE,,/MILLE,,/MILLE,UG/KG,,UG/KG,,UG/KG,,UG/KG,,DEG C,PERCNT
096U20160426,       P15S,     113,          1,         36,       2036,2,20160616,       1947,   -13.5033,  -170.0026,       4890,     5.9,  28.9950,  34.9760,2,  34.9768,2,    188.7,2,   194.3,2,    0.25,2,    0.00,2,    0.02,2,    0.18,2,-999.000,9,-999.000,9,-999.000,9,  1953.9,2,  2300.8,2,-999.0000,9,  -999.00,-999.0000,9, -999.00,9, -999.00,9,  -999.0,9,  -999.0, -999.00,9, -999.00,9,    0.34,2,   -0.04,3,  28.9936, -999.00
096U20160426,       P15S,     113,          1,         35,       2035,2,20160616,       1947,   -13.5033,  -170.0026,       4890,    20.4,  28.9510,  34.9830,2,  34.9854,2,    188.6,2,   194.3,2,    0.25,2,    0.01,2,    0.02,2,    0.18,2,-999.000,9,-999.000,9,-999.000,9,  -999.0,9,  -999.0,9,-999.0000,9,  -999.00,-999.0000,9, -999.00,9, -999.00,9,  -999.0,9,  -999.0, -999.00,9, -999.00,9,    0.24,2,    0.00,3,  28.9461, -999.00
096U20160426,       P15S,     113,          1,         34,       2034,2,20160616,       1947,   -13.5033,  -170.0026,       4890,    41.5,  28.8970,  35.0090,2,  35.3465,2,    189.4,2,   189.8,2,    0.37,2,    0.41,2,    0.05,2,    0.24,2,-999.000,9,-999.000,9,-999.000,9,  -999.0,9,  -999.0,9,-999.0000,9,  -999.00,-999.0000,9, -999.00,9, -999.00,9,  -999.0,9,  -999.0, -999.00,9, -999.00,9,    0.66,2,   -0.13,3,  28.8870, -999.00
096U20160426,       P15S,     113,          1,         33,       2033,2,20160616,       1947,   -13.5033,  -170.0026,       4890,    65.8,  27.3210,  35.9470,2,  36.0116,2,    165.5,2,   168.3,2,    0.68,2,    2.20,2,    0.29,2,    0.44,2,-999.000,9,-999.000,9,-999.000,9,  -999.0,9,  -999.0,9,-999.0000,9,  -999.00,-999.0000,9, -999.00,9, -999.00,9,  -999.0,9,  -999.0, -999.00,9, -999.00,9,    1.06,2,   -0.20,3,  27.3057, -999.00
096U20160426,       P15S,     113,          1,         32,       2032,2,20160616,       1947,   -13.5033,  -170.0026,       4890,    90.9,  26.2610,  36.1690,2,  36.1801,2,    159.9,2,   160.4,2,    0.65,2,    2.79,2,    0.60,2,    0.50,2,-999.000,9,-999.000,9,-999.000,9,  2079.9,2,  2379.8,2,-999.0000,9,  -999.00,-999.0000,9, -999.00,9, -999.00,9,  -999.0,9,  -999.0, -999.00,9, -999.00,9,    0.67,2,    0.07,3,  26.2405, -999.00
096U20160426,       P15S,     113,          1,         31,       2031,2,20160616,       1947,   -13.5033,  -170.0026,       4890,   135.6,  23.8190,  36.1880,2,  36.1702,2,    146.0,2,   149.2,2,    0.68,2,    6.17,2,    0.08,2,    0.63,2,-999.000,9,-999.000,9,-999.000,9,  -999.0,9,  -999.0,9,-999.0000,9,  -999.00,-999.0000,9, -999.00,9, -999.00,9,  -999.0,9,  -999.0, -999.00,9, -999.00,9, -999.00,9, -999.00,9,  23.7905, -999.00
096U20160426,       P15S,     113,          1,         30,       2030,2,20160616,       1947,   -13.5033,  -170.0026,       4890,   185.3,  21.9150,  36.0160,2,  35.9384,2,    149.7,2,   153.7,2,    0.86,2,    6.83,2,    0.02,2,    0.67,2,-999.000,9,-999.000,9,-999.000,9,  2122.3,2,  2363.7,2,-999.0000,9,  -999.00,-999.0000,9, -999.00,9, -999.00,9,  -999.0,9,  -999.0, -999.00,9, -999.00,9, -999.00,9, -999.00,9,  21.8783, -999.00
096U20160426,       P15S,     113,          1,         29,       2029,2,20160616,       1947,   -13.5033,  -170.0026,       4890,   236.2,  18.7820,  35.5850,2,  35.5204,2,    147.1,2,   147.1,2,    2.39,2,    9.68,2,    0.02,4,    0.89,2,-999.000,9,-999.000,9,-999.000,9,  -999.0,9,  -999.0,9,-999.0000,9,  -999.00,-999.0000,9, -999.00,9, -999.00,9,  -999.0,9,  -999.0, -999.00,9, -999.00,9, -999.00,9, -999.00,9,  18.7400, -999.00
096U20160426,       P15S,     113,          1,         28,       2028,2,20160616,       1947,   -13.5033,  -170.0026,       4890,   286.0,  15.3670,  35.1340,2,  35.0614,2,    125.6,2,   124.2,2,    6.45,2,   15.69,2,    0.02,4,    1.31,2,-999.000,9,-999.000,9,-999.000,9,  2158.7,2,  2312.2,2,-999.0000,9,  -999.00,-999.0000,9, -999.00,9, -999.00,9,  -999.0,9,  -999.0, -999.00,9, -999.00,9, -999.00,9, -999.00,9,  15.3228, -999.00
096U20160426,       P15S,     113,          1,         27,       2027,2,20160616,       1947,   -13.5033,  -170.0026,       4890,   335.5,  12.5650,  34.8360,2,  34.7964,2,    114.8,2,   111.9,2,   11.50,2,   21.20,2,    0.02,4,    1.66,2,-999.000,9,-999.000,9,-999.000,9,  -999.0,9,  -999.0,9,-999.0000,9,  -999.00,-999.0000,9, -999.00,9, -999.00,9,  -999.0,9,  -999.0, -999.00,9, -999.00,9, -999.00,9, -999.00,9,  12.5197, -999.00
096U20160426,       P15S,     113,          1,         26,       2026,2,20160616,       1947,   -13.5033,  -170.0026,       4890,   385.6,  10.1110,  34.6560,2,  34.6443,2,    115.8,2,   114.2,2,   17.20,2,   25.79,2,    0.02,4,    1.90,2,-999.000,9,-999.000,9,-999.000,9,  2194.8,2,  2296.2,6,-999.0000,9,  -999.00,-999.0000,9, -999.00,9, -999.00,9,  -999.0,9,  -999.0, -999.00,9, -999.00,9, -999.00,9, -999.00,9,  10.0657, -999.00
096U20160426,       P15S,     113,          1,         25,       2025,2,20160616,       1947,   -13.5033,  -170.0026,       4890,   466.2,   8.4110,  34.5690,2,  34.5640,2,    124.4,2,   125.6,2,   22.34,2,   28.52,2,    0.02,4,    2.02,2,-999.000,9,-999.000,9,-999.000,9,  -999.0,9,  -999.0,9,-999.0000,9,  -999.00,-999.0000,9, -999.00,9, -999.00,9,  -999.0,9,  -999.0, -999.00,9, -999.00,9, -999.00,9, -999.00,9,   8.3619, -999.00
096U20160426,       P15S,     113,          1,         24,       2024,2,20160616,       1947,   -13.5033,  -170.0026,       4890,   564.8,   6.3990,  34.4780,2,  34.4767,2,    145.0,2,   145.1,2,   32.63,2,   31.22,2,    0.01,4,    2.15,2,-999.000,9,-999.000,9,-999.000,9,  2212.0,2,  2303.2,2,-999.0000,9,  -999.00,-999.0000,9, -999.00,9, -999.00,9,  -999.0,9,  -999.0, -999.00,9, -999.00,9, -999.00,9, -999.00,9,   6.3477, -999.00
096U20160426,       P15S,     113,          1,         23,       2023,2,20160616,       1947,   -13.5033,  -170.0026,       4890,   664.8,   5.6290,  34.4730,2,  34.4748,2,    141.9,2,   141.8,2,   42.06,2,   32.98,2,    0.01,4,    2.27,2,-999.000,9,-999.000,9,-999.000,9,  -999.0,9,  -999.0,9,-999.0000,9,  -999.00,-999.0000,9, -999.00,9, -999.00,9,  -999.0,9,  -999.0, -999.00,9, -999.00,9, -999.00,9, -999.00,9,   5.5720, -999.00
096U20160426,       P15S,     113,          1,         22,       2022,2,20160616,       1947,   -13.5033,  -170.0026,       4890,   764.8,   5.1530,  34.4810,2,  34.4814,2,    138.1,2,   137.7,2,   49.62,2,   34.08,2,    0.01,4,    2.35,2,-999.000,9,-999.000,9,-999.000,9,  -999.0,9,  -999.0,9,-999.0000,9,  -999.00,-999.0000,9, -999.00,9, -999.00,9,  -999.0,9,  -999.0, -999.00,9, -999.00,9, -999.00,9, -999.00,9,   5.0897, -999.00
096U20160426,       P15S,     113,          1,         21,       2021,2,20160616,       1947,   -13.5033,  -170.0026,       4890,   865.1,   4.6800,  34.4960,2,  34.4950,2,    132.9,2,   133.8,2,   58.16,2,   35.14,2,    0.01,4,    2.43,2,-999.000,9,-999.000,9,-999.000,9,  -999.0,9,  -999.0,9,-999.0000,9,  -999.00,-999.0000,9, -999.00,9, -999.00,9,  -999.0,9,  -999.0, -999.00,9, -999.00,9, -999.00,9, -999.00,9,   4.6109, -999.00
096U20160426,       P15S,     113,          1,         20,       2020,2,20160616,       1947,   -13.5033,  -170.0026,       4890,   966.9,   4.3000,  34.5070,2,  34.5073,2,    132.7,2,   133.0,2,   65.96,2,   35.57,2,    0.01,4,    2.46,2,-999.000,9,-999.000,9,-999.000,9,  2260.3,6,  2335.2,6,-999.0000,9,  -999.00,-999.0000,9, -999.00,9, -999.00,9,  -999.0,9,  -999.0, -999.00,9, -999.00,9, -999.00,9, -999.00,9,   4.2248, -999.00
096U20160426,       P15S,     113,          1,         19,       2019,2,20160616,       1947,   -13.5033,  -170.0026,       4890,  1066.6,   4.0130,  34.5260,2,  34.5274,2,    129.3,2,   128.6,2,   74.09,2,   36.10,2,    0.01,4,    2.50,2,-999.000,9,-999.000,9,-999.000,9,  -999.0,9,  -999.0,9,-999.0000,9,  -999.00,-999.0000,9, -999.00,9, -999.00,9,  -999.0,9,  -999.0, -999.00,9, -999.00,9, -999.00,9, -999.00,9,   3.9316, -999.00
096U20160426,       P15S,     113,          1,         18,       2018,2,20160616,       1947,   -13.5033,  -170.0026,       4890,  1166.1,   3.6580,  34.5420,2,  34.5409,2,    130.2,2,   129.0,2,   74.16,2,   36.06,2,    0.01,4,    2.51,2,-999.000,9,-999.000,9,-999.000,9,  -999.0,9,  -999.0,9,-999.0000,9,  -999.00,-999.0000,9, -999.00,9, -999.00,9,  -999.0,9,  -999.0, -999.00,9, -999.00,9, -999.00,9, -999.00,9,   3.5713, -999.00
096U20160426,       P15S,     113,          1,         17,       2017,2,20160616,       1947,   -13.5033,  -170.0026,       4890,  1266.4,   3.4370,  34.5550,2,  34.5533,2,    130.3,2,   129.3,2,   86.54,2,   36.47,2,    0.01,4,    2.53,2,-999.000,9,-999.000,9,-999.000,9,  -999.0,9,  -999.0,9,-999.0000,9,  -999.00,-999.0000,9, -999.00,9, -999.00,9,  -999.0,9,  -999.0, -999.00,9, -999.00,9, -999.00,9, -999.00,9,   3.3440, -999.00
096U20160426,       P15S,     113,          1,         16,       2016,2,20160616,       1947,   -13.5033,  -170.0026,       4890,  1365.4,   3.1580,  34.5680,2,  34.5652,2,    134.2,2,   134.0,2,   90.83,2,   36.22,2,    0.01,4,    2.51,2,-999.000,9,-999.000,9,-999.000,9,  -999.0,9,  -999.0,9,-999.0000,9,  -999.00,-999.0000,9, -999.00,9, -999.00,9,  -999.0,9,  -999.0, -999.00,9, -999.00,9, -999.00,9, -999.00,9,   3.0596, -999.00
096U20160426,       P15S,     113,          1,         15,       2015,2,20160616,       1947,   -13.5033,  -170.0026,       4890,  1535.9,   2.8200,  34.5890,2,  34.5879,2,    137.2,2,   136.8,2,   99.02,2,   36.09,2,    0.01,4,    2.51,2,-999.000,9,-999.000,9,-999.000,9,  -999.0,9,  -999.0,9,-999.0000,9,  -999.00,-999.0000,9, -999.00,9, -999.00,9,  -999.0,9,  -999.0, -999.00,9, -999.00,9, -999.00,9, -999.00,9,   2.7112, -999.00
096U20160426,       P15S,     113,          1,         14,       2014,2,20160616,       1947,   -13.5033,  -170.0026,       4890,  1736.2,   2.4970,  34.6090,2,  34.6105,2,    142.2,2,   142.6,2,  106.08,2,   35.78,2,    0.01,4,    2.48,2,-999.000,9,-999.000,9,-999.000,9,  -999.0,9,  -999.0,9,-999.0000,9,  -999.00,-999.0000,9, -999.00,9, -999.00,9,  -999.0,9,  -999.0, -999.00,9, -999.00,9, -999.00,9, -999.00,9,   2.3756, -999.00
096U20160426,       P15S,     113,          1,         13,       2013,2,20160616,       1947,   -13.5033,  -170.0026,       4890,  1936.5,   2.2520,  34.6290,2,  34.6272,2,    144.9,2,   145.4,2,  112.26,2,   35.64,2,    0.01,4,    2.47,2,-999.000,9,-999.000,9,-999.000,9,  -999.0,9,  -999.0,9,-999.0000,9,  -999.00,-999.0000,9, -999.00,9, -999.00,9,  -999.0,9,  -999.0, -999.00,9, -999.00,9, -999.00,9, -999.00,9,   2.1171, -999.00
096U20160426,       P15S,     113,          1,         12,       2012,2,20160616,       1947,   -13.5033,  -170.0026,       4890,  2165.5,   2.0640,  34.6450,2,  34.6437,2,    146.5,2,   146.8,2,  118.15,2,   35.56,2,    0.01,4,    2.46,2,-999.000,9,-999.000,9,-999.000,9,  -999.0,9,  -999.0,9,-999.0000,9,  -999.00,-999.0000,9, -999.00,9, -999.00,9,  -999.0,9,  -999.0, -999.00,9, -999.00,9, -999.00,9, -999.00,9,   1.9124, -999.00
096U20160426,       P15S,     113,          1,         11,       2011,2,20160616,       1947,   -13.5033,  -170.0026,       4890,  2412.2,   1.9430,  34.6560,2,  34.6557,2,    146.9,2,   147.5,2,  123.10,2,   35.52,2,    0.01,4,    2.46,2,-999.000,9,-999.000,9,-999.000,9,  -999.0,9,  -999.0,9,-999.0000,9,  -999.00,-999.0000,9, -999.00,9, -999.00,9,  -999.0,9,  -999.0, -999.00,9, -999.00,9, -999.00,9, -999.00,9,   1.7717, -999.00
096U20160426,       P15S,     113,          1,         10,       2010,2,20160616,       1947,   -13.5033,  -170.0026,       4890,  2665.9,   1.8290,  34.6670,2,-999.0000,9,    148.5,2,  -999.0,9, -999.00,9, -999.00,9, -999.00,9, -999.00,9,-999.000,9,-999.000,9,-999.000,9,  -999.0,9,  -999.0,9,-999.0000,9,  -999.00,-999.0000,9, -999.00,9, -999.00,9,  -999.0,9,  -999.0, -999.00,9, -999.00,9, -999.00,9, -999.00,9,   1.6367, -999.00
096U20160426,       P15S,     113,          1,          9,       2009,2,20160616,       1947,   -13.5033,  -170.0026,       4890,  2915.5,   1.7530,  34.6720,2,  34.6728,2,    150.8,2,   151.0,2,  129.20,2,   35.39,2,    0.01,4,    2.45,2,-999.000,9,-999.000,9,-999.000,9,  -999.0,9,  -999.0,9,-999.0000,9,  -999.00,-999.0000,9, -999.00,9, -999.00,9,  -999.0,9,  -999.0, -999.00,9, -999.00,9, -999.00,9, -999.00,9,   1.5387, -999.00
096U20160426,       P15S,     113,          1,          8,       2008,2,20160616,       1947,   -13.5033,  -170.0026,       4890,  3200.3,   1.6620,  34.6780,2,  34.6765,2,    153.7,2,   154.2,2,  131.34,2,   35.15,2,    0.01,4,    2.44,2,-999.000,9,-999.000,9,-999.000,9,  -999.0,9,  -999.0,9,-999.0000,9,  -999.00,-999.0000,9, -999.00,9, -999.00,9,  -999.0,9,  -999.0, -999.00,9, -999.00,9, -999.00,9, -999.00,9,   1.4220, -999.00
096U20160426,       P15S,     113,          1,          7,       2007,2,20160616,       1947,   -13.5033,  -170.0026,       4890,  3500.3,   1.5680,  34.6840,2,  34.6835,2,    160.4,2,   161.5,2,  130.52,2,   34.70,2,    0.01,4,    2.40,2,-999.000,9,-999.000,9,-999.000,9,  -999.0,9,  -999.0,9,-999.0000,9,  -999.00,-999.0000,9, -999.00,9, -999.00,9,  -999.0,9,  -999.0, -999.00,9, -999.00,9, -999.00,9, -999.00,9,   1.3001, -999.00
096U20160426,       P15S,     113,          1,          6,       2006,2,20160616,       1947,   -13.5033,  -170.0026,       4890,  3800.5,   1.4100,  34.6990,2,  34.6972,2,    177.6,2,   179.5,2,  122.11,2,   33.22,2,    0.01,4,    2.29,2,-999.000,9,-999.000,9,-999.000,9,  -999.0,9,  -999.0,9,-999.0000,9,  -999.00,-999.0000,9, -999.00,9, -999.00,9,  -999.0,9,  -999.0, -999.00,9, -999.00,9, -999.00,9, -999.00,9,   1.1148, -999.00
096U20160426,       P15S,     113,          1,          5,       2005,2,20160616,       1947,   -13.5033,  -170.0026,       4890,  4101.0,   1.2660,  34.7120,2,  34.7112,2,    193.2,2,   196.6,2,  114.81,2,   31.91,2,    0.01,4,    2.19,2,-999.000,9,-999.000,9,-999.000,9,  -999.0,9,  -999.0,9,-999.0000,9,  -999.00,-999.0000,9, -999.00,9, -999.00,9,  -999.0,9,  -999.0, -999.00,9, -999.00,9, -999.00,9, -999.00,9,   0.9425, -999.00
096U20160426,       P15S,     113,          1,          4,       2004,2,20160616,       1947,   -13.5033,  -170.0026,       4890,  4400.7,   1.0980,  34.7120,2,  34.7121,2,    200.7,2,   203.8,2,  116.44,2,   31.67,2,    0.01,4,    2.17,2,-999.000,9,-999.000,9,-999.000,9,  -999.0,9,  -999.0,9,-999.0000,9,  -999.00,-999.0000,9, -999.00,9, -999.00,9,  -999.0,9,  -999.0, -999.00,9, -999.00,9, -999.00,9, -999.00,9,   0.7465, -999.00
096U20160426,       P15S,     113,          1,          3,       2003,2,20160616,       1947,   -13.5033,  -170.0026,       4890,  4700.1,   1.0740,  34.7110,2,  34.7110,2,    202.6,2,   204.9,2,  117.40,2,   31.67,2,    0.01,4,    2.18,2,-999.000,9,-999.000,9,-999.000,9,  -999.0,9,  -999.0,9,-999.0000,9,  -999.00,-999.0000,9, -999.00,9, -999.00,9,  -999.0,9,  -999.0, -999.00,9, -999.00,9, -999.00,9, -999.00,9,   0.6892, -999.00
096U20160426,       P15S,     113,          1,          2,       2002,2,20160616,       1947,   -13.5033,  -170.0026,       4890,  4850.5,   1.0810,  34.7100,2,  34.7095,2,    203.0,2,   205.4,2,  117.79,2,   31.73,2,    0.02,4,    2.18,2,-999.000,9,-999.000,9,-999.000,9,  -999.0,9,  -999.0,9,-999.0000,9,  -999.00,-999.0000,9, -999.00,9, -999.00,9,  -999.0,9,  -999.0, -999.00,9, -999.00,9, -999.00,9, -999.00,9,   0.6784, -999.00
096U20160426,       P15S,     113,          1,          1,       2001,2,20160616,       1947,   -13.5033,  -170.0026,       4890,  4949.8,   1.0860,  34.7100,2,  34.7092,2,    203.6,2,   205.6,2,  118.00,2,   31.72,2,    0.01,4,    2.18,2,-999.000,9,-999.000,9,-999.000,9,  -999.0,9,  -999.0,9,-999.0000,9,  -999.00,-999.0000,9, -999.00,9, -999.00,9,  -999.0,9,  -999.0, -999.00,9, -999.00,9, -999.00,9, -999.00,9,   0.6715, -999.00