BOTTLE,20230413CCHSIOENA
EXPOCODE,SECT_ID,STNNBR,CASTNO,SAMPNO,BTLNBR,BTLNBR_FLAG_W,DATE,TIME,LATITUDE,LONGITUDE,DEPTH,CTDPRS,CTDTMP,CTDSAL,CTDSAL_FLAG_W,SALNTY,SALNTY_FLAG_W,CTDOXY,CTDOXY_FLAG_W,OXYGEN,OXYGEN_FLAG_W,SILCAT,SILCAT_FLAG_W,NITRAT,NITRAT_FLAG_W,NITRIT,NITRIT_FLAG_W,PHSPHT,PHSPHT_FLAG_W,CFC-11,CFC-11_FLAG_W,CFC-12,CFC-12_FLAG_W,SF6,SF6_FLAG_W,TCARBN,TCARBN_FLAG_W,ALKALI,ALKALI_FLAG_W,PH_TOT,PH_TOT_FLAG_W,PH_TMP,HELIUM,HELIUM_FLAG_W,DELHE3,DELHE3_FLAG_W,DELC13,DELC13_FLAG_W,DELC14,DELC14_FLAG_W,C14ERR,POC,POC_FLAG_W,PON,PON_FLAG_W,CHLORA,CHLORA_FLAG_W,PPHYTN,PPHYTN_FLAG_W,THETA,DELHER
,,,,,,,,,,,METERS,DBAR,ITS-90,PSS-78,,PSS-78,,UMOL/KG,,UMOL/KG,,UMOL/KG,,UMOL/KG,,UMOL/KG,,UMOL/KG,,PMOL/KG,,PMOL/KG,,FMOL/KG,,UMOL/KG,,UMOL/KG,,,,DEG C,NMOL/KG,,PERCNT,,/MILLE,,/MILLE,,/MILLE,UG/KG,,UG/KG,,UG/KG,,UG/KG,,DEG C,PERCNT
096U20160426,       P15S,      82,          1,         36,       2036,2,20160606,       1828,   -28.5012,  -169.9972,       5455,     3.8,  22.0700,  35.8560,2,  35.8557,2,    216.6,2,   216.9,2,    0.13,4,    0.01,4,    0.01,4,    0.02,2,   2.140,3,   1.192,3,   1.505,2,  2036.7,2,  2351.3,2,-999.0000,9,  -999.00,-999.0000,9, -999.00,9, -999.00,9,  -999.0,9,  -999.0, -999.00,9, -999.00,9,    0.33,2,   -0.01,3,  22.0692, -999.00
096U20160426,       P15S,      82,          1,         35,       2035,2,20160606,       1828,   -28.5012,  -169.9972,       5455,    20.2,  22.0750,  35.8560,2,  35.8555,2,    216.4,2,   216.9,2,    0.14,4,    0.01,4,    0.00,4,    0.02,2,-999.000,9,-999.000,9,-999.000,9,  -999.0,9,  -999.0,9,-999.0000,9,  -999.00,-999.0000,9, -999.00,9, -999.00,9,  -999.0,9,  -999.0, -999.00,9, -999.00,9,    0.50,2,   -0.08,3,  22.0710, -999.00
096U20160426,       P15S,      82,          1,         34,       2034,2,20160606,       1828,   -28.5012,  -169.9972,       5455,    41.1,  22.0820,  35.8560,2,  35.8559,2,    216.3,2,   217.1,2,    0.10,4,    0.02,4,    0.00,4,    0.02,2,-999.000,9,-999.000,9,-999.000,9,  -999.0,9,  -999.0,9,-999.0000,9,  -999.00,-999.0000,9, -999.00,9, -999.00,9,  -999.0,9,  -999.0, -999.00,9, -999.00,9, -999.00,9, -999.00,9,  22.0738, -999.00
096U20160426,       P15S,      82,          1,         33,       2033,2,20160606,       1828,   -28.5012,  -169.9972,       5455,    65.8,  22.0730,  35.8560,2,  35.8554,2,    216.1,2,   217.0,2,    0.11,4,    0.02,4,    0.00,4,    0.02,2,-999.000,9,-999.000,9,-999.000,9,  2036.3,6,  2352.3,6,-999.0000,9,  -999.00,-999.0000,9, -999.00,9, -999.00,9,  -999.0,9,  -999.0, -999.00,9, -999.00,9,    0.40,2,   -0.01,3,  22.0599, -999.00
096U20160426,       P15S,      82,          1,         32,       2032,2,20160606,       1828,   -28.5012,  -169.9972,       5455,    91.2,  22.0730,  35.8600,2,  35.8545,2,    216.3,2,   217.0,2,    0.11,4,    0.02,4,    0.00,4,    0.02,2,   1.840,2,   1.166,3,   1.444,2,  2036.8,2,  2351.8,2,-999.0000,9,  -999.00,-999.0000,9, -999.00,9, -999.00,9,  -999.0,9,  -999.0, -999.00,9, -999.00,9,    0.55,2,   -0.06,3,  22.0549, -999.00
096U20160426,       P15S,      82,          1,         31,       2031,2,20160606,       1828,   -28.5012,  -169.9972,       5455,   126.1,  20.0000,  35.6960,2,  35.6897,2,    219.5,2,   219.9,2,    0.24,2,    0.32,2,    0.08,2,    0.10,2,   2.100,2,   1.319,3,   1.529,2,  2056.2,2,  2340.6,2,-999.0000,9,  -999.00,-999.0000,9, -999.00,9, -999.00,9,  -999.0,9,  -999.0, -999.00,9, -999.00,9,    0.62,2,    0.05,3,  19.9766, -999.00
096U20160426,       P15S,      82,          1,         30,       2030,2,20160606,       1828,   -28.5012,  -169.9972,       5455,   188.1,  18.2020,  35.5720,2,  35.5716,2,    202.7,2,   203.8,2,    0.49,2,    2.22,2,    0.02,4,    0.24,2,   2.229,2,   1.390,3,   1.459,6,  2075.8,2,  2331.3,2,-999.0000,9,  -999.00,-999.0000,9, -999.00,9, -999.00,9,  -999.0,9,  -999.0, -999.00,9, -999.00,9, -999.00,9, -999.00,9,  18.1693, -999.00
096U20160426,       P15S,      82,          1,         29,       2029,2,20160606,       1828,   -28.5012,  -169.9972,       5455,   236.6,  17.2220,  35.5640,2,  35.5623,2,    202.2,2,   203.6,2,    0.88,2,    3.99,2,    0.01,4,    0.35,2,-999.000,9,-999.000,9,-999.000,9,  -999.0,9,  -999.0,9,-999.0000,9,  -999.00,-999.0000,9, -999.00,9, -999.00,9,  -999.0,9,  -999.0, -999.00,9, -999.00,9, -999.00,9, -999.00,9,  17.1824, -999.00
096U20160426,       P15S,      82,          1,         28,       2028,2,20160606,       1828,   -28.5012,  -169.9972,       5455,   285.9,  16.3790,  35.4920,2,  35.4835,2,    204.4,2,   205.8,2,    1.12,2,    4.73,2,    0.01,4,    0.40,2,   2.731,3,   1.480,3,   1.435,2,  2093.5,2,  2325.3,2,-999.0000,9,  -999.00,-999.0000,9, -999.00,9, -999.00,9,  -999.0,9,  -999.0, -999.00,9, -999.00,9, -999.00,9, -999.00,9,  16.3327, -999.00
096U20160426,       P15S,      82,          1,         27,       2027,2,20160606,       1828,   -28.5012,  -169.9972,       5455,   336.3,  15.3730,  35.3970,2,  35.3496,2,    207.3,2,   206.8,2,    1.51,2,    6.16,2,    0.01,4,    0.50,2,-999.000,9,-999.000,9,-999.000,9,  -999.0,9,  -999.0,9,-999.0000,9,  -999.00,-999.0000,9, -999.00,9, -999.00,9,  -999.0,9,  -999.0, -999.00,9, -999.00,9, -999.00,9, -999.00,9,  15.3208, -999.00
096U20160426,       P15S,      82,          1,         26,       2026,2,20160606,       1828,   -28.5012,  -169.9972,       5455,   376.1,  13.9100,  35.1850,2,  35.1790,2,    203.4,2,   204.7,2,    2.13,2,    8.35,2,    0.01,4,    0.64,2,   3.077,3,   1.591,3,   1.374,2,  2110.8,2,  2311.8,2,-999.0000,9,  -999.00,-999.0000,9, -999.00,9, -999.00,9,  -999.0,9,  -999.0, -999.00,9, -999.00,9, -999.00,9, -999.00,9,  13.8555, -999.00
096U20160426,       P15S,      82,          1,         25,       2025,2,20160606,       1828,   -28.5012,  -169.9972,       5455,   465.8,  11.7420,  34.9210,2,  34.9085,2,    203.3,2,   204.2,2,    3.37,2,   12.94,2,    0.00,4,    0.92,2,   2.880,2,   1.652,3,   1.262,2,  2127.2,2,  2299.2,6,-999.0000,9,  -999.00,-999.0000,9, -999.00,9, -999.00,9,  -999.0,9,  -999.0, -999.00,9, -999.00,9, -999.00,9, -999.00,9,  11.6815, -999.00
096U20160426,       P15S,      82,          1,         24,       2024,2,20160606,       1828,   -28.5012,  -169.9972,       5455,   562.7,   9.1530,  34.6040,2,  34.5991,2,    214.4,2,   216.6,2,    4.75,2,   17.99,2,    0.00,4,    1.24,2,   3.779,3,   1.870,3,   1.076,2,  2139.6,2,  2286.5,2,-999.0000,9,  -999.00,-999.0000,9, -999.00,9, -999.00,9,  -999.0,9,  -999.0, -999.00,9, -999.00,9, -999.00,9, -999.00,9,   9.0903, -999.00
096U20160426,       P15S,      82,          1,         23,       2023,2,20160606,       1828,   -28.5012,  -169.9972,       5455,   693.8,   7.3570,  34.4170,2,  34.4141,2,    230.0,2,   232.3,2,    6.74,2,   21.66,2,    0.00,4,    1.46,2,   3.361,2,   1.766,3,   0.901,2,  2143.2,2,  2280.6,2,-999.0000,9,  -999.00,-999.0000,9, -999.00,9, -999.00,9,  -999.0,9,  -999.0, -999.00,9, -999.00,9, -999.00,9, -999.00,9,   7.2885, -999.00
096U20160426,       P15S,      82,          1,         22,       2022,2,20160606,       1828,   -28.5012,  -169.9972,       5455,   766.5,   6.7790,  34.3670,2,  34.3634,2,    231.4,2,   233.7,2,    8.33,2,   23.15,2,    0.00,4,    1.56,2,   3.518,3,   1.651,3,   0.672,2,  2145.9,2,  2280.9,2,-999.0000,9,  -999.00,-999.0000,9, -999.00,9, -999.00,9,  -999.0,9,  -999.0, -999.00,9, -999.00,9, -999.00,9, -999.00,9,   6.7063, -999.00
096U20160426,       P15S,      82,          1,         21,       2021,2,20160606,       1828,   -28.5012,  -169.9972,       5455,   866.3,   6.0200,  34.3260,2,  34.3256,2,    221.8,2,   224.3,2,   12.74,2,   25.76,2,    0.00,4,    1.74,2,   2.127,2,   1.075,3,   0.363,2,  2156.2,2,  2283.4,2,-999.0000,9,  -999.00,-999.0000,9, -999.00,9, -999.00,9,  -999.0,9,  -999.0, -999.00,9, -999.00,9, -999.00,9, -999.00,9,   5.9422, -999.00
096U20160426,       P15S,      82,          1,         20,       2020,2,20160606,       1828,   -28.5012,  -169.9972,       5455,   965.8,   5.3850,  34.3230,2,  34.3229,2,    205.6,2,   207.5,2,   20.36,2,   28.53,2,    0.01,4,    1.93,2,   1.538,3,   0.664,3,   0.167,2,  2175.6,2,  2287.9,2,-999.0000,9,  -999.00,-999.0000,9, -999.00,9, -999.00,9,  -999.0,9,  -999.0, -999.00,9, -999.00,9, -999.00,9, -999.00,9,   5.3022, -999.00
096U20160426,       P15S,      82,          1,         19,       2019,2,20160606,       1828,   -28.5012,  -169.9972,       5455,  1066.0,   4.8550,  34.3300,2,  34.3297,2,    197.6,2,   199.2,2,   27.40,2,   30.17,2,    0.01,4,    2.05,2,   0.836,2,   0.430,3,   0.103,2,  2187.2,2,  2293.1,2,-999.0000,9,  -999.00,-999.0000,9, -999.00,9, -999.00,9,  -999.0,9,  -999.0, -999.00,9, -999.00,9, -999.00,9, -999.00,9,   4.7671, -999.00
096U20160426,       P15S,      82,          1,         18,       2018,2,20160606,       1828,   -28.5012,  -169.9972,       5455,  1160.8,   4.3080,  34.3590,2,  34.3600,2,    186.0,2,   187.0,2,   37.98,2,   31.99,2,    0.01,4,    2.18,2,   0.572,3,   0.245,3,   0.031,2,  2206.5,2,  2305.0,2,-999.0000,9,  -999.00,-999.0000,9, -999.00,9, -999.00,9,  -999.0,9,  -999.0, -999.00,9, -999.00,9, -999.00,9, -999.00,9,   4.2163, -999.00
096U20160426,       P15S,      82,          1,         17,       2017,2,20160606,       1828,   -28.5012,  -169.9972,       5455,  1300.9,   3.6300,  34.4070,2,  34.4104,2,    177.2,2,   178.3,2,   51.80,2,   33.38,2,    0.01,4,    2.28,2,   0.230,3,   0.111,3,       0,2,  2225.9,2,  2319.7,6,-999.0000,9,  -999.00,-999.0000,9, -999.00,9, -999.00,9,  -999.0,9,  -999.0, -999.00,9, -999.00,9, -999.00,9, -999.00,9,   3.5325, -999.00
096U20160426,       P15S,      82,          1,         16,       2016,2,20160606,       1828,   -28.5012,  -169.9972,       5455,  1440.5,   3.1690,  34.4690,2,  34.4727,2,    169.2,2,   169.4,2,   65.79,2,   34.07,2,    0.00,4,    2.35,2,   0.076,3,   0.043,3,       0,2,  2245.0,2,  2333.7,2,-999.0000,9,  -999.00,-999.0000,9, -999.00,9, -999.00,9,  -999.0,9,  -999.0, -999.00,9, -999.00,9, -999.00,9, -999.00,9,   3.0645, -999.00
096U20160426,       P15S,      82,          1,         15,       2015,2,20160606,       1828,   -28.5012,  -169.9972,       5455,  1634.9,   2.6900,  34.5600,2,  34.5622,2,    157.6,2,   158.0,2,   87.93,2,   34.78,2,    0.00,4,    2.41,2,  -0.004,6,   0.011,3,       0,6,  2271.9,2,  2360.7,2,-999.0000,9,  -999.00,-999.0000,9, -999.00,9, -999.00,9,  -999.0,9,  -999.0, -999.00,9, -999.00,9, -999.00,9, -999.00,9,   2.5747, -999.00
096U20160426,       P15S,      82,          1,         14,       2014,2,20160606,       1828,   -28.5012,  -169.9972,       5455,  1826.4,   2.4410,  34.6020,2,  34.6027,2,    151.4,2,   152.4,2,  101.70,2,   35.15,2,    0.00,4,    2.44,2,-999.000,9,-999.000,9,-999.000,9,  -999.0,9,  -999.0,9,-999.0000,9,  -999.00,-999.0000,9, -999.00,9, -999.00,9,  -999.0,9,  -999.0, -999.00,9, -999.00,9, -999.00,9, -999.00,9,   2.3128, -999.00
096U20160426,       P15S,      82,          1,         13,       2013,2,20160606,       1828,   -28.5012,  -169.9972,       5455,  2061.6,   2.2360,  34.6280,2,  34.6272,2,    147.4,2,   147.8,2,  112.93,2,   35.56,2,    0.01,4,    2.48,2,  -0.004,2,   0.004,3,       0,2,  2301.3,6,  2389.2,6,-999.0000,9,  -999.00,-999.0000,9, -999.00,9, -999.00,9,  -999.0,9,  -999.0, -999.00,9, -999.00,9, -999.00,9, -999.00,9,   2.0907, -999.00
096U20160426,       P15S,      82,          1,         12,       2012,2,20160606,       1828,   -28.5012,  -169.9972,       5455,  2315.7,   2.1030,  34.6420,2,  34.6416,2,    145.9,2,   146.3,2,  119.83,2,   35.76,2,    0.01,4,    2.50,2,-999.000,9,-999.000,9,-999.000,9,  2309.0,2,  2396.0,2,-999.0000,9,  -999.00,-999.0000,9, -999.00,9, -999.00,9,  -999.0,9,  -999.0, -999.00,9, -999.00,9, -999.00,9, -999.00,9,   1.9375, -999.00
096U20160426,       P15S,      82,          1,         11,       2011,2,20160606,       1828,   -28.5012,  -169.9972,       5455,  2566.2,   1.9670,  34.6540,2,  34.6534,2,    146.3,2,   146.6,2,  125.38,2,   35.83,2,    0.01,4,    2.50,2,-999.000,9,-999.000,9,-999.000,9,  2313.1,2,  2403.2,2,-999.0000,9,  -999.00,-999.0000,9, -999.00,9, -999.00,9,  -999.0,9,  -999.0, -999.00,9, -999.00,9, -999.00,9, -999.00,9,   1.7812, -999.00
096U20160426,       P15S,      82,          1,         10,       2010,2,20160606,       1828,   -28.5012,  -169.9972,       5455,  2813.3,   1.8710,  34.6630,2,  34.6621,2,    147.5,2,   148.1,2,  128.62,2,   35.79,2,    0.01,4,    2.49,2,  -0.004,2,   0.003,3,       0,2,  2316.1,2,  2406.3,2,-999.0000,9,  -999.00,-999.0000,9, -999.00,9, -999.00,9,  -999.0,9,  -999.0, -999.00,9, -999.00,9, -999.00,9, -999.00,9,   1.6640, -999.00
096U20160426,       P15S,      82,          1,          9,       2009,2,20160606,       1828,   -28.5012,  -169.9972,       5455,  3081.6,   1.7360,  34.6770,2,  34.6767,2,    154.4,2,   155.4,2,  128.34,2,   35.17,2,    0.01,4,    2.45,2,-999.000,9,-999.000,9,-999.000,9,  -999.0,9,  -999.0,9,-999.0000,9,  -999.00,-999.0000,9, -999.00,9, -999.00,9,  -999.0,9,  -999.0, -999.00,9, -999.00,9, -999.00,9, -999.00,9,   1.5060, -999.00
096U20160426,       P15S,      82,          1,          8,       2008,2,20160606,       1828,   -28.5012,  -169.9972,       5455,  3365.7,   1.6200,  34.7000,2,  34.7000,2,    172.6,2,   175.0,2,  117.39,2,   33.38,2,    0.01,4,    2.31,2,  -0.004,2,   0.020,3,       0,2,  2285.0,2,  2381.8,2,-999.0000,9,  -999.00,-999.0000,9, -999.00,9, -999.00,9,  -999.0,9,  -999.0, -999.00,9, -999.00,9, -999.00,9, -999.00,9,   1.3644, -999.00
096U20160426,       P15S,      82,          1,          7,       2007,2,20160606,       1828,   -28.5012,  -169.9972,       5455,  3701.0,   1.4150,  34.7170,2,  34.7165,2,    191.3,2,   194.0,2,  110.96,2,   31.95,2,    0.01,4,    2.20,2,   0.027,3,   0.021,3,       0,2,  2264.7,2,  2365.9,2,-999.0000,9,  -999.00,-999.0000,9, -999.00,9, -999.00,9,  -999.0,9,  -999.0, -999.00,9, -999.00,9, -999.00,9, -999.00,9,   1.1300, -999.00
096U20160426,       P15S,      82,          1,          6,       2006,2,20160606,       1828,   -28.5012,  -169.9972,       5455,  4091.0,   1.1450,  34.7150,2,  34.7142,2,    200.5,2,   203.1,2,  115.40,2,   31.77,2,    0.01,4,    2.19,2,-999.000,9,-999.000,9,-999.000,9,  -999.0,9,  -999.0,9,-999.0000,9,  -999.00,-999.0000,9, -999.00,9, -999.00,9,  -999.0,9,  -999.0, -999.00,9, -999.00,9, -999.00,9, -999.00,9,   0.8261, -999.00
096U20160426,       P15S,      82,          1,          5,       2005,2,20160606,       1828,   -28.5012,  -169.9972,       5455,  4489.6,   1.0410,  34.7110,2,  34.7098,2,    203.8,2,   205.5,2,  119.13,2,   31.95,2,    0.01,4,    2.20,2,   0.068,3,   0.047,3,       0,2,  2262.8,2,  2364.1,2,-999.0000,9,  -999.00,-999.0000,9, -999.00,9, -999.00,9,  -999.0,9,  -999.0, -999.00,9, -999.00,9, -999.00,9, -999.00,9,   0.6813, -999.00
096U20160426,       P15S,      82,          1,          4,       2004,2,20160606,       1828,   -28.5012,  -169.9972,       5455,  4896.2,   1.0440,  34.7090,2,  34.7084,2,    205.1,2,   205.9,2,  120.45,2,   32.01,2,    0.01,4,    2.20,2,   0.105,2,   0.047,3,       0,2,  2262.6,2,  2365.7,2,-999.0000,9,  -999.00,-999.0000,9, -999.00,9, -999.00,9,  -999.0,9,  -999.0, -999.00,9, -999.00,9, -999.00,9, -999.00,9,   0.6373, -999.00
096U20160426,       P15S,      82,          1,          3,       2003,2,20160606,       1828,   -28.5012,  -169.9972,       5455,  5296.2,   1.0850,  34.7080,2,  34.7076,2,    205.8,2,   205.8,2,  120.74,2,   32.05,2,    0.01,4,    2.20,2,   0.072,3,   0.051,3,   0.009,2,  2263.9,6,  2367.4,6,-999.0000,9,  -999.00,-999.0000,9, -999.00,9, -999.00,9,  -999.0,9,  -999.0, -999.00,9, -999.00,9, -999.00,9, -999.00,9,   0.6287, -999.00
096U20160426,       P15S,      82,          1,          2,       2002,2,20160606,       1828,   -28.5012,  -169.9972,       5455,  5426.3,   1.1010,  34.7080,2,  34.7085,2,    205.8,2,   206.2,2,  120.87,2,   32.07,2,    0.01,4,    2.20,2,-999.000,9,-999.000,9,-999.000,9,  -999.0,9,  -999.0,9,-999.0000,9,  -999.00,-999.0000,9, -999.00,9, -999.00,9,  -999.0,9,  -999.0, -999.00,9, -999.00,9, -999.00,9, -999.00,9,   0.6280, -999.00
096U20160426,       P15S,      82,          1,          1,       2001,2,20160606,       1828,   -28.5012,  -169.9972,       5455,  5551.2,   1.1180,  34.7080,2,  34.7082,2,    206.0,2,   206.3,2,  120.89,2,   32.06,2,    0.01,4,    2.20,2,   0.068,3,   0.052,3,       0,2,  2263.2,2,  2365.0,2,-999.0000,9,  -999.00,-999.0000,9, -999.00,9, -999.00,9,  -999.0,9,  -999.0, -999.00,9, -999.00,9, -999.00,9, -999.00,9,   0.6287, -999.00
096U20160426,       P15S,      83,          1,          2,       2002,2,20160607,       1553,   -27.9830,  -169.9898,       5263,  4803.2,   1.0420,  34.7010,1,  34.7092,2,   -999.0,9,   205.8,2,  120.51,2,   32.04,3,    0.00,4,    2.18,2,-999.000,9,-999.000,9,-999.000,9,  2261.9,2,  2364.4,2,-999.0000,9,  -999.00,-999.0000,9, -999.00,9, -999.00,9,  -999.0,9,  -999.0, -999.00,9, -999.00,9, -999.00,9, -999.00,9,   0.6463, -999.00
096U20160426,       P15S,      83,          1,          1,       2001,2,20160607,       1553,   -27.9830,  -169.9898,       5263,  5033.5,   1.0670,  34.7000,1,  34.7088,2,   -999.0,9,   205.9,2,  120.42,2,   31.96,3,    0.00,4,    2.20,2,-999.000,9,-999.000,9,-999.000,9,  2262.6,2,  2365.9,2,-999.0000,9,  -999.00,-999.0000,9, -999.00,9, -999.00,9,  -999.0,9,  -999.0, -999.00,9, -999.00,9, -999.00,9, -999.00,9,   0.6432, -999.00