BOTTLE,20230413CCHSIOENA
EXPOCODE,SECT_ID,STNNBR,CASTNO,SAMPNO,BTLNBR,BTLNBR_FLAG_W,DATE,TIME,LATITUDE,LONGITUDE,DEPTH,CTDPRS,CTDTMP,CTDSAL,CTDSAL_FLAG_W,SALNTY,SALNTY_FLAG_W,CTDOXY,CTDOXY_FLAG_W,OXYGEN,OXYGEN_FLAG_W,SILCAT,SILCAT_FLAG_W,NITRAT,NITRAT_FLAG_W,NITRIT,NITRIT_FLAG_W,PHSPHT,PHSPHT_FLAG_W,CFC-11,CFC-11_FLAG_W,CFC-12,CFC-12_FLAG_W,SF6,SF6_FLAG_W,TCARBN,TCARBN_FLAG_W,ALKALI,ALKALI_FLAG_W,PH_TOT,PH_TOT_FLAG_W,PH_TMP,HELIUM,HELIUM_FLAG_W,DELHE3,DELHE3_FLAG_W,DELC13,DELC13_FLAG_W,DELC14,DELC14_FLAG_W,C14ERR,POC,POC_FLAG_W,PON,PON_FLAG_W,CHLORA,CHLORA_FLAG_W,PPHYTN,PPHYTN_FLAG_W,THETA,DELHER
,,,,,,,,,,,METERS,DBAR,ITS-90,PSS-78,,PSS-78,,UMOL/KG,,UMOL/KG,,UMOL/KG,,UMOL/KG,,UMOL/KG,,UMOL/KG,,PMOL/KG,,PMOL/KG,,FMOL/KG,,UMOL/KG,,UMOL/KG,,,,DEG C,NMOL/KG,,PERCNT,,/MILLE,,/MILLE,,/MILLE,UG/KG,,UG/KG,,UG/KG,,UG/KG,,DEG C,PERCNT
096U20160426,       P15S,      52,          1,         36,       2036,2,20160529,       0004,   -42.1690,  -174.2547,       2865,     6.7,  15.2770,  35.0870,2,  35.0879,2,    244.8,2,   243.5,2,    0.30,2,    0.58,2,    0.23,2,    0.20,2,   2.583,2,   1.498,2,    1.86,2,  2071.0,2,  2314.0,2,-999.0000,9,  -999.00,-999.0000,9, -999.00,9, -999.00,9,  -999.0,9,  -999.0, -999.00,9, -999.00,9, -999.00,9, -999.00,9,  15.2760, -999.00
096U20160426,       P15S,      52,          1,         35,       2035,2,20160529,       0004,   -42.1690,  -174.2547,       2865,    24.9,  15.2590,  35.0870,2,  35.0877,2,    244.9,2,   242.8,2,    0.32,2,    0.60,2,    0.23,2,    0.20,2,-999.000,9,-999.000,9,-999.000,9,  -999.0,9,  -999.0,9,-999.0000,9,  -999.00,-999.0000,9, -999.00,9, -999.00,9,  -999.0,9,  -999.0, -999.00,9, -999.00,9, -999.00,9, -999.00,9,  15.2552, -999.00
096U20160426,       P15S,      52,          1,         34,       2034,2,20160529,       0004,   -42.1690,  -174.2547,       2865,    50.6,  15.2520,  35.0860,2,  35.0862,2,    244.9,2,   242.7,2,    0.31,2,    0.62,2,    0.23,2,    0.21,2,-999.000,9,-999.000,9,-999.000,9,  -999.0,9,  -999.0,9,-999.0000,9,  -999.00,-999.0000,9, -999.00,9, -999.00,9,  -999.0,9,  -999.0, -999.00,9, -999.00,9, -999.00,9, -999.00,9,  15.2443, -999.00
096U20160426,       P15S,      52,          1,         33,       2033,2,20160529,       0004,   -42.1690,  -174.2547,       2865,    75.4,  15.1520,  35.0820,2,  35.0847,2,    243.9,2,   242.1,2,    0.34,2,    0.76,2,    0.23,2,    0.22,2,-999.000,9,-999.000,9,-999.000,9,  -999.0,9,  -999.0,9,-999.0000,9,  -999.00,-999.0000,9, -999.00,9, -999.00,9,  -999.0,9,  -999.0, -999.00,9, -999.00,9, -999.00,9, -999.00,9,  15.1405, -999.00
096U20160426,       P15S,      52,          1,         32,       2032,2,20160529,       0004,   -42.1690,  -174.2547,       2865,   100.6,  13.6480,  35.0250,2,  35.0268,2,    224.6,2,   222.4,2,    1.25,2,    6.27,2,    0.02,2,    0.56,2,-999.000,9,-999.000,9,-999.000,9,  -999.0,9,  -999.0,9,-999.0000,9,  -999.00,-999.0000,9, -999.00,9, -999.00,9,  -999.0,9,  -999.0, -999.00,9, -999.00,9, -999.00,9, -999.00,9,  13.6338, -999.00
096U20160426,       P15S,      52,          1,         31,       2031,2,20160529,       0004,   -42.1690,  -174.2547,       2865,   125.8,  12.7550,  34.9700,2,  34.9799,2,    227.3,2,   224.5,2,    1.41,2,    7.77,2,    0.02,2,    0.64,2,-999.000,9,-999.000,9,-999.000,9,  2110.1,2,  2302.9,2,-999.0000,9,  -999.00,-999.0000,9, -999.00,9, -999.00,9,  -999.0,9,  -999.0, -999.00,9, -999.00,9, -999.00,9, -999.00,9,  12.7380, -999.00
096U20160426,       P15S,      52,          1,         30,       2030,2,20160529,       0004,   -42.1690,  -174.2547,       2865,   149.8,  12.2100,  34.9670,2,  34.9703,2,    229.8,2,   227.1,2,    1.82,2,    8.87,2,    0.02,4,    0.70,2,-999.000,9,-999.000,9,-999.000,9,  -999.0,9,  -999.0,9,-999.0000,9,  -999.00,-999.0000,9, -999.00,9, -999.00,9,  -999.0,9,  -999.0, -999.00,9, -999.00,9, -999.00,9, -999.00,9,  12.1903, -999.00
096U20160426,       P15S,      52,          1,         29,       2029,2,20160529,       0004,   -42.1690,  -174.2547,       2865,   175.0,  11.8640,  34.9570,2,  34.9578,2,    232.6,2,   230.1,2,    2.13,2,    9.73,2,    0.02,4,    0.75,2,-999.000,9,-999.000,9,-999.000,9,  -999.0,9,  -999.0,9,-999.0000,9,  -999.00,-999.0000,9, -999.00,9, -999.00,9,  -999.0,9,  -999.0, -999.00,9, -999.00,9, -999.00,9, -999.00,9,  11.8414, -999.00
096U20160426,       P15S,      52,          1,         28,       2028,2,20160529,       0004,   -42.1690,  -174.2547,       2865,   200.5,  11.8230,  34.9780,2,  34.9711,2,    230.5,2,   228.3,2,    2.60,2,   10.48,2,    0.02,4,    0.79,2,-999.000,9,-999.000,9,-999.000,9,  -999.0,9,  -999.0,9,-999.0000,9,  -999.00,-999.0000,9, -999.00,9, -999.00,9,  -999.0,9,  -999.0, -999.00,9, -999.00,9, -999.00,9, -999.00,9,  11.7971, -999.00
096U20160426,       P15S,      52,          1,         27,       2027,2,20160529,       0004,   -42.1690,  -174.2547,       2865,   224.5,  11.3750,  34.9170,2,  34.9142,2,    230.8,2,   228.5,2,    2.83,2,   11.42,2,    0.02,4,    0.85,2,-999.000,9,-999.000,9,-999.000,9,  -999.0,9,  -999.0,9,-999.0000,9,  -999.00,-999.0000,9, -999.00,9, -999.00,9,  -999.0,9,  -999.0, -999.00,9, -999.00,9, -999.00,9, -999.00,9,  11.3467, -999.00
096U20160426,       P15S,      52,          1,         26,       2026,2,20160529,       0004,   -42.1690,  -174.2547,       2865,   250.1,  11.0450,  34.8660,2,  34.8587,2,    230.3,2,   227.9,2,    3.11,2,   12.37,2,    0.01,4,    0.91,2,-999.000,9,-999.000,9,-999.000,9,  2126.6,2,  2298.7,6,-999.0000,9,  -999.00,-999.0000,9, -999.00,9, -999.00,9,  -999.0,9,  -999.0, -999.00,9, -999.00,9, -999.00,9, -999.00,9,  11.0141, -999.00
096U20160426,       P15S,      52,          1,         25,       2025,2,20160529,       0004,   -42.1690,  -174.2547,       2865,   299.7,  10.3700,  34.7690,2,  34.7665,2,    226.6,2,   224.2,2,    3.83,2,   14.37,2,    0.01,4,    1.03,2,-999.000,9,-999.000,9,-999.000,9,  -999.0,9,  -999.0,9,-999.0000,9,  -999.00,-999.0000,9, -999.00,9, -999.00,9,  -999.0,9,  -999.0, -999.00,9, -999.00,9, -999.00,9, -999.00,9,  10.3343, -999.00
096U20160426,       P15S,      52,          1,         24,       2024,2,20160529,       0004,   -42.1690,  -174.2547,       2865,   350.6,   9.7380,  34.6890,2,  34.6886,2,    226.7,2,   224.2,2,    4.62,2,   16.06,2,    0.01,4,    1.14,2,-999.000,9,-999.000,9,-999.000,9,  -999.0,9,  -999.0,9,-999.0000,9,  -999.00,-999.0000,9, -999.00,9, -999.00,9,  -999.0,9,  -999.0, -999.00,9, -999.00,9, -999.00,9, -999.00,9,   9.6978, -999.00
096U20160426,       P15S,      52,          1,         23,       2023,2,20160529,       0004,   -42.1690,  -174.2547,       2865,   401.3,   9.2810,  34.6400,2,  34.6404,2,    226.7,2,   224.1,2,    5.31,2,   17.31,2,    0.00,4,    1.22,2,-999.000,9,-999.000,9,-999.000,9,  -999.0,9,  -999.0,9,-999.0000,9,  -999.00,-999.0000,9, -999.00,9, -999.00,9,  -999.0,9,  -999.0, -999.00,9, -999.00,9, -999.00,9, -999.00,9,   9.2363, -999.00
096U20160426,       P15S,      52,          1,         22,       2022,2,20160529,       0004,   -42.1690,  -174.2547,       2865,   450.2,   8.9350,  34.6050,2,  34.6058,2,    226.8,2,   223.8,2,    5.95,2,   18.29,2,    0.00,4,    1.28,2,-999.000,9,-999.000,9,-999.000,9,  -999.0,9,  -999.0,9,-999.0000,9,  -999.00,-999.0000,9, -999.00,9, -999.00,9,  -999.0,9,  -999.0, -999.00,9, -999.00,9, -999.00,9, -999.00,9,   8.8858, -999.00
096U20160426,       P15S,      52,          1,         21,       2021,2,20160529,       0004,   -42.1690,  -174.2547,       2865,   501.0,   8.7000,  34.5800,2,  34.5813,2,    227.2,2,   224.9,2,    6.37,2,   18.89,2,    0.00,4,    1.32,2,   3.274,2,   1.730,2,   1.427,2,  2143.4,2,  2289.8,2,-999.0000,9,  -999.00,-999.0000,9, -999.00,9, -999.00,9,  -999.0,9,  -999.0, -999.00,9, -999.00,9, -999.00,9, -999.00,9,   8.6460, -999.00
096U20160426,       P15S,      52,          1,         20,       2020,2,20160529,       0004,   -42.1690,  -174.2547,       2865,   599.4,   8.0290,  34.5170,2,  34.6889,4,    221.0,2,   223.7,2,    5.77,4,   16.14,4,    0.03,4,    1.15,4,-999.000,9,-999.000,9,-999.000,9,  -999.0,9,  -999.0,9,-999.0000,9,  -999.00,-999.0000,9, -999.00,9, -999.00,9,  -999.0,9,  -999.0, -999.00,9, -999.00,9, -999.00,9, -999.00,9,   7.9671, -999.00
096U20160426,       P15S,      52,          1,         19,       2019,2,20160529,       0004,   -42.1690,  -174.2547,       2865,   700.6,   7.4590,  34.4660,2,  34.4680,2,    221.2,2,   218.8,2,    9.78,2,   22.82,2,    0.00,4,    1.56,2,-999.000,9,-999.000,9,-999.000,9,  -999.0,9,  -999.0,9,-999.0000,9,  -999.00,-999.0000,9, -999.00,9, -999.00,9,  -999.0,9,  -999.0, -999.00,9, -999.00,9, -999.00,9, -999.00,9,   7.3892, -999.00
096U20160426,       P15S,      52,          1,         18,       2018,2,20160529,       0004,   -42.1690,  -174.2547,       2865,   801.0,   6.9140,  34.4340,2,  34.4351,2,    217.8,2,   215.6,2,   13.10,2,   24.37,2,    0.00,4,    1.66,2,   2.535,2,   1.260,2,   0.584,2,  2158.6,6,  2289.0,6,-999.0000,9,  -999.00,-999.0000,9, -999.00,9, -999.00,9,  -999.0,9,  -999.0, -999.00,9, -999.00,9, -999.00,9, -999.00,9,   6.8369, -999.00
096U20160426,       P15S,      52,          1,         17,       2017,2,20160529,       0004,   -42.1690,  -174.2547,       2865,   898.3,   6.3690,  34.4100,2,  34.4096,2,    212.3,2,   209.6,2,   17.52,2,   26.19,2,    0.00,4,    1.79,2,-999.000,9,-999.000,9,-999.000,9,  -999.0,9,  -999.0,9,-999.0000,9,  -999.00,-999.0000,9, -999.00,9, -999.00,9,  -999.0,9,  -999.0, -999.00,9, -999.00,9, -999.00,9, -999.00,9,   6.2857, -999.00
096U20160426,       P15S,      52,          1,         16,       2016,2,20160529,       0004,   -42.1690,  -174.2547,       2865,  1001.0,   5.7990,  34.4050,2,  34.4057,2,    203.6,2,   201.4,2,   24.12,2,   27.93,2,    0.00,4,    1.91,2,-999.000,9,-999.000,9,-999.000,9,  -999.0,9,  -999.0,9,-999.0000,9,  -999.00,-999.0000,9, -999.00,9, -999.00,9,  -999.0,9,  -999.0, -999.00,9, -999.00,9, -999.00,9, -999.00,9,   5.7097, -999.00
096U20160426,       P15S,      52,          1,         15,       2015,2,20160529,       0004,   -42.1690,  -174.2547,       2865,  1101.2,   5.1950,  34.4100,2,  34.4113,2,    195.7,2,   192.9,2,   32.82,2,   29.67,2,    0.00,4,    2.03,2,   1.070,6,   0.517,6,   0.202,6,  2193.5,2,  2306.5,2,-999.0000,9,  -999.00,-999.0000,9, -999.00,9, -999.00,9,  -999.0,9,  -999.0, -999.00,9, -999.00,9, -999.00,9, -999.00,9,   5.1010, -999.00
096U20160426,       P15S,      52,          1,         14,       2014,2,20160529,       0004,   -42.1690,  -174.2547,       2865,  1200.2,   4.7090,  34.4240,2,  34.4237,2,    189.4,2,   186.7,2,   40.61,2,   30.88,2,    0.00,4,    2.12,2,-999.000,9,-999.000,9,-999.000,9,  -999.0,9,  -999.0,9,-999.0000,9,  -999.00,-999.0000,9, -999.00,9, -999.00,9,  -999.0,9,  -999.0, -999.00,9, -999.00,9, -999.00,9, -999.00,9,   4.6101, -999.00
096U20160426,       P15S,      52,          1,         13,       2013,2,20160529,       0004,   -42.1690,  -174.2547,       2865,  1299.5,   4.3110,  34.4470,2,  34.4481,2,    183.2,2,   180.2,2,   49.58,2,   31.84,2,    0.00,4,    2.19,2,-999.000,9,-999.000,9,-999.000,9,  -999.0,9,  -999.0,9,-999.0000,9,  -999.00,-999.0000,9, -999.00,9, -999.00,9,  -999.0,9,  -999.0, -999.00,9, -999.00,9, -999.00,9, -999.00,9,   4.2068, -999.00
096U20160426,       P15S,      52,          1,         12,       2012,2,20160529,       0004,   -42.1690,  -174.2547,       2865,  1400.9,   3.8250,  34.4840,2,  34.4841,2,    175.5,2,   172.8,2,   61.25,2,   32.83,2,    0.00,4,    2.27,2,-999.000,9,-999.000,9,-999.000,9,  -999.0,9,  -999.0,9,-999.0000,9,  -999.00,-999.0000,9, -999.00,9, -999.00,9,  -999.0,9,  -999.0, -999.00,9, -999.00,9, -999.00,9, -999.00,9,   3.7167, -999.00
096U20160426,       P15S,      52,          1,         11,       2011,2,20160529,       0004,   -42.1690,  -174.2547,       2865,  1502.1,   3.5110,  34.5130,2,  34.5176,2,    170.6,2,   167.5,2,   70.21,2,   33.43,2,    0.00,4,    2.32,2,   0.245,2,   0.126,2,   0.047,2,  2248.7,2,  2343.9,2,-999.0000,9,  -999.00,-999.0000,9, -999.00,9, -999.00,9,  -999.0,9,  -999.0, -999.00,9, -999.00,9, -999.00,9, -999.00,9,   3.3973, -999.00
096U20160426,       P15S,      52,          1,         10,       2010,2,20160529,       0004,   -42.1690,  -174.2547,       2865,  1599.1,   3.2460,  34.5390,2,  34.5393,2,    166.7,2,   163.7,2,   78.15,2,   33.93,2,    0.00,4,    2.36,2,-999.000,9,-999.000,9,-999.000,9,  -999.0,9,  -999.0,9,-999.0000,9,  -999.00,-999.0000,9, -999.00,9, -999.00,9,  -999.0,9,  -999.0, -999.00,9, -999.00,9, -999.00,9, -999.00,9,   3.1269, -999.00
096U20160426,       P15S,      52,          1,          9,       2009,2,20160529,       0004,   -42.1690,  -174.2547,       2865,  1700.2,   2.9400,  34.5690,2,  34.5718,2,    162.8,2,   159.2,2,   88.02,2,   34.45,2,    0.00,4,    2.40,2,-999.000,9,-999.000,9,-999.000,9,  -999.0,9,  -999.0,9,-999.0000,9,  -999.00,-999.0000,9, -999.00,9, -999.00,9,  -999.0,9,  -999.0, -999.00,9, -999.00,9, -999.00,9, -999.00,9,   2.8159, -999.00
096U20160426,       P15S,      52,          1,          8,       2008,2,20160529,       0004,   -42.1690,  -174.2547,       2865,  1801.3,   2.6590,  34.5970,2,  34.5987,2,    159.1,2,   155.8,2,   96.97,2,   34.84,2,    0.00,4,    2.43,2,-999.000,9,-999.000,9,-999.000,9,  -999.0,9,  -999.0,9,-999.0000,9,  -999.00,-999.0000,9, -999.00,9, -999.00,9,  -999.0,9,  -999.0, -999.00,9, -999.00,9, -999.00,9, -999.00,9,   2.5299, -999.00
096U20160426,       P15S,      52,          1,          7,       2007,2,20160529,       0004,   -42.1690,  -174.2547,       2865,  1998.7,   2.3280,  34.6290,2,  34.6293,2,    156.7,2,   153.4,2,  107.29,2,   35.22,2,    0.00,4,    2.46,2,-999.000,9,-999.000,9,-999.000,9,  -999.0,9,  -999.0,9,-999.0000,9,  -999.00,-999.0000,9, -999.00,9, -999.00,9,  -999.0,9,  -999.0, -999.00,9, -999.00,9, -999.00,9, -999.00,9,   2.1867, -999.00
096U20160426,       P15S,      52,          1,          6,       2006,2,20160529,       0004,   -42.1690,  -174.2547,       2865,  2201.6,   2.1280,  34.6510,2,  34.6525,2,    158.8,2,   155.8,2,  110.97,2,   35.07,2,    0.00,4,    2.45,2,   0.022,2,   0.016,2,       0,2,  2295.0,2,  2388.8,2,-999.0000,9,  -999.00,-999.0000,9, -999.00,9, -999.00,9,  -999.0,9,  -999.0, -999.00,9, -999.00,9, -999.00,9, -999.00,9,   1.9721, -999.00
096U20160426,       P15S,      52,          1,          5,       2005,2,20160529,       0004,   -42.1690,  -174.2547,       2865,  2400.5,   1.9590,  34.6780,2,  34.6786,2,    167.4,2,   164.6,2,  108.54,2,   34.24,2,    0.00,4,    2.38,2,-999.000,9,-999.000,9,-999.000,9,  -999.0,9,  -999.0,9,-999.0000,9,  -999.00,-999.0000,9, -999.00,9, -999.00,9,  -999.0,9,  -999.0, -999.00,9, -999.00,9, -999.00,9, -999.00,9,   1.7883, -999.00
096U20160426,       P15S,      52,          1,          4,       2004,2,20160529,       0004,   -42.1690,  -174.2547,       2865,  2599.5,   1.8280,  34.7040,2,  34.7063,2,    179.4,2,   177.3,2,  103.40,2,   33.01,2,    0.00,4,    2.29,2,   0.056,2,   0.030,2,   0.047,3,  2273.9,2,  2370.2,2,-999.0000,9,  -999.00,-999.0000,9, -999.00,9, -999.00,9,  -999.0,9,  -999.0, -999.00,9, -999.00,9, -999.00,9, -999.00,9,   1.6416, -999.00
096U20160426,       P15S,      52,          1,          3,       2003,2,20160529,       0004,   -42.1690,  -174.2547,       2865,  2801.5,   1.7040,  34.7230,2,  34.7234,2,    190.3,2,   188.6,2,  100.00,2,   32.10,2,    0.00,4,    2.21,2,   0.082,2,   0.040,2,       0,2,  2261.3,2,  2363.6,2,-999.0000,9,  -999.00,-999.0000,9, -999.00,9, -999.00,9,  -999.0,9,  -999.0, -999.00,9, -999.00,9, -999.00,9, -999.00,9,   1.5013, -999.00
096U20160426,       P15S,      52,          1,          2,       2002,2,20160529,       0004,   -42.1690,  -174.2547,       2865,  2850.1,   1.6660,  34.7260,2,  34.7270,2,    192.4,2,   190.7,2,   99.82,2,   31.94,2,    0.00,4,    2.20,2,-999.000,9,-999.000,9,-999.000,9,  -999.0,9,  -999.0,9,-999.0000,9,  -999.00,-999.0000,9, -999.00,9, -999.00,9,  -999.0,9,  -999.0, -999.00,9, -999.00,9, -999.00,9, -999.00,9,   1.4595, -999.00
096U20160426,       P15S,      52,          1,          1,       2001,2,20160529,       0004,   -42.1690,  -174.2547,       2865,  2889.2,   1.6400,  34.7270,2,  34.7275,2,    192.8,2,   190.9,2,  100.40,2,   31.92,2,    0.00,4,    2.20,2,-999.000,9,-999.000,9,-999.000,9,  2261.8,2,  2362.0,2,-999.0000,9,  -999.00,-999.0000,9, -999.00,9, -999.00,9,  -999.0,9,  -999.0, -999.00,9, -999.00,9, -999.00,9, -999.00,9,   1.4304, -999.00