BOTTLE,20230413CCHSIOENA
EXPOCODE,SECT_ID,STNNBR,CASTNO,SAMPNO,BTLNBR,BTLNBR_FLAG_W,DATE,TIME,LATITUDE,LONGITUDE,DEPTH,CTDPRS,CTDTMP,CTDSAL,CTDSAL_FLAG_W,SALNTY,SALNTY_FLAG_W,CTDOXY,CTDOXY_FLAG_W,OXYGEN,OXYGEN_FLAG_W,SILCAT,SILCAT_FLAG_W,NITRAT,NITRAT_FLAG_W,NITRIT,NITRIT_FLAG_W,PHSPHT,PHSPHT_FLAG_W,CFC-11,CFC-11_FLAG_W,CFC-12,CFC-12_FLAG_W,SF6,SF6_FLAG_W,TCARBN,TCARBN_FLAG_W,ALKALI,ALKALI_FLAG_W,PH_TOT,PH_TOT_FLAG_W,PH_TMP,HELIUM,HELIUM_FLAG_W,DELHE3,DELHE3_FLAG_W,DELC13,DELC13_FLAG_W,DELC14,DELC14_FLAG_W,C14ERR,POC,POC_FLAG_W,PON,PON_FLAG_W,CHLORA,CHLORA_FLAG_W,PPHYTN,PPHYTN_FLAG_W,THETA,DELHER
,,,,,,,,,,,METERS,DBAR,ITS-90,PSS-78,,PSS-78,,UMOL/KG,,UMOL/KG,,UMOL/KG,,UMOL/KG,,UMOL/KG,,UMOL/KG,,PMOL/KG,,PMOL/KG,,FMOL/KG,,UMOL/KG,,UMOL/KG,,,,DEG C,NMOL/KG,,PERCNT,,/MILLE,,/MILLE,,/MILLE,UG/KG,,UG/KG,,UG/KG,,UG/KG,,DEG C,PERCNT
096U20160426,       P15S,      96,          1,         36,       2036,2,20160612,       1006,   -20.9973,  -169.9991,       5477,     5.5,  24.9650,  35.6220,2,  35.6199,2,    208.1,2,   206.7,2,    0.28,2,   -0.03,4,    0.00,4,    0.11,2,   1.613,2,   1.035,2,   1.357,2,  2002.6,6,  2341.9,6,-999.0000,9,  -999.00,-999.0000,9, -999.00,9, -999.00,9,  -999.0,9,  -999.0, -999.00,9, -999.00,9,    0.56,2,   -0.15,3,  24.9638, -999.00
096U20160426,       P15S,      96,          1,         35,       2035,2,20160612,       1006,   -20.9973,  -169.9991,       5477,    25.9,  24.9490,  35.6310,2,  35.6351,2,    208.1,2,   206.6,2,    0.26,2,   -0.04,4,    0.00,4,    0.11,2,-999.000,9,-999.000,9,-999.000,9,  -999.0,9,  -999.0,9,-999.0000,9,  -999.00,-999.0000,9, -999.00,9, -999.00,9,  -999.0,9,  -999.0, -999.00,9, -999.00,9,    0.33,2,    0.00,3,  24.9434, -999.00
096U20160426,       P15S,      96,          1,         34,       2034,2,20160612,       1006,   -20.9973,  -169.9991,       5477,    51.4,  24.6650,  35.6550,2,  35.6486,2,    209.1,2,   207.5,2,    0.24,2,   -0.04,4,    0.00,4,    0.09,2,-999.000,9,-999.000,9,-999.000,9,  -999.0,9,  -999.0,9,-999.0000,9,  -999.00,-999.0000,9, -999.00,9, -999.00,9,  -999.0,9,  -999.0, -999.00,9, -999.00,9,    0.42,2,    0.02,3,  24.6539, -999.00
096U20160426,       P15S,      96,          1,         33,       2033,2,20160612,       1006,   -20.9973,  -169.9991,       5477,    76.5,  24.6210,  35.6440,2,  35.6405,2,    209.2,2,   207.5,2,    0.22,2,   -0.05,4,    0.01,4,    0.08,2,   1.643,2,   1.053,2,   1.436,2,  2005.1,2,  2341.9,6,-999.0000,9,  -999.00,-999.0000,9, -999.00,9, -999.00,9,  -999.0,9,  -999.0, -999.00,9, -999.00,9,    0.65,2,   -0.10,3,  24.6046, -999.00
096U20160426,       P15S,      96,          1,         32,       2032,2,20160612,       1006,   -20.9973,  -169.9991,       5477,   111.4,  22.4110,  35.7750,2,  35.7633,2,    198.0,2,   202.1,2,    0.24,2,    0.03,2,    0.04,2,    0.12,2,   1.879,2,   1.190,2,    1.35,2,  2044.6,2,  2347.7,2,-999.0000,9,  -999.00,-999.0000,9, -999.00,9, -999.00,9,  -999.0,9,  -999.0, -999.00,9, -999.00,9,    0.83,2,    0.00,3,  22.3886, -999.00
096U20160426,       P15S,      96,          1,         31,       2031,2,20160612,       1006,   -20.9973,  -169.9991,       5477,   150.9,  21.3980,  35.7570,2,  35.7499,2,    189.1,2,   186.9,2,    0.31,2,    2.00,2,    0.04,2,    0.24,2,   1.931,2,   1.224,2,   1.375,2,  2064.1,2,  2344.4,2,-999.0000,9,  -999.00,-999.0000,9, -999.00,9, -999.00,9,  -999.0,9,  -999.0, -999.00,9, -999.00,9, -999.00,9, -999.00,9,  21.3686, -999.00
096U20160426,       P15S,      96,          1,         30,       2030,2,20160612,       1006,   -20.9973,  -169.9991,       5477,   200.4,  20.1550,  35.6950,2,  35.6959,2,    187.3,2,   189.4,2,    0.38,2,    2.69,2,    0.02,4,    0.26,2,   2.024,2,   1.270,2,   1.384,2,  2070.5,2,  2340.6,2,-999.0000,9,  -999.00,-999.0000,9, -999.00,9, -999.00,9,  -999.0,9,  -999.0, -999.00,9, -999.00,9, -999.00,9, -999.00,9,  20.1176, -999.00
096U20160426,       P15S,      96,          1,         29,       2029,2,20160612,       1006,   -20.9973,  -169.9991,       5477,   250.1,  19.0990,  35.6080,2,  35.5926,2,    183.6,2,   185.6,2,    0.64,2,    4.02,2,    0.01,4,    0.36,2,   2.149,2,   1.325,2,   1.293,2,  2082.7,2,  2334.6,2,-999.0000,9,  -999.00,-999.0000,9, -999.00,9, -999.00,9,  -999.0,9,  -999.0, -999.00,9, -999.00,9, -999.00,9, -999.00,9,  19.0540, -999.00
096U20160426,       P15S,      96,          1,         28,       2028,2,20160612,       1006,   -20.9973,  -169.9991,       5477,   300.9,  17.9760,  35.5460,2,  35.5171,2,    201.0,2,   200.0,2,    0.56,2,    3.32,2,    0.01,4,    0.30,2,   2.246,2,   1.380,2,   1.373,2,  2079.3,2,  2326.8,2,-999.0000,9,  -999.00,-999.0000,9, -999.00,9, -999.00,9,  -999.0,9,  -999.0, -999.00,9, -999.00,9, -999.00,9, -999.00,9,  17.9241, -999.00
096U20160426,       P15S,      96,          1,         27,       2027,2,20160612,       1006,   -20.9973,  -169.9991,       5477,   352.4,  16.3540,  35.3630,2,  35.3320,2,    200.1,2,   198.3,2,    1.02,2,    5.33,2,    0.01,4,    0.44,2,-999.000,9,-999.000,9,-999.000,9,  2092.6,2,  2317.2,2,-999.0000,9,  -999.00,-999.0000,9, -999.00,9, -999.00,9,  -999.0,9,  -999.0, -999.00,9, -999.00,9, -999.00,9, -999.00,9,  16.2970, -999.00
096U20160426,       P15S,      96,          1,         26,       2026,2,20160612,       1006,   -20.9973,  -169.9991,       5477,   402.3,  13.9220,  35.0240,2,  34.9545,2,    186.8,2,   184.0,2,    3.17,2,   11.59,2,    0.00,4,    0.88,2,   2.487,6,   1.449,6,   1.125,6,  2117.6,2,  2301.2,2,-999.0000,9,  -999.00,-999.0000,9, -999.00,9, -999.00,9,  -999.0,9,  -999.0, -999.00,9, -999.00,9, -999.00,9, -999.00,9,  13.8637, -999.00
096U20160426,       P15S,      96,          1,         25,       2025,2,20160612,       1006,   -20.9973,  -169.9991,       5477,   501.8,   9.8720,  34.6300,2,  34.5940,2,    195.4,2,   197.6,2,    5.81,2,   18.63,2,    0.00,4,    1.31,2,   2.781,2,   1.492,2,   0.815,2,  2143.5,2,  2287.3,6,-999.0000,9,  -999.00,-999.0000,9, -999.00,9, -999.00,9,  -999.0,9,  -999.0, -999.00,9, -999.00,9, -999.00,9, -999.00,9,   9.8136, -999.00
096U20160426,       P15S,      96,          1,         24,       2024,2,20160612,       1006,   -20.9973,  -169.9991,       5477,   600.8,   7.2820,  34.4030,2,  34.3949,2,    228.4,2,   230.8,2,    6.79,2,   22.12,2,    0.00,4,    1.49,2,   3.228,2,   1.680,2,   0.813,2,  2145.0,2,  2280.4,2,-999.0000,9,  -999.00,-999.0000,9, -999.00,9, -999.00,9,  -999.0,9,  -999.0, -999.00,9, -999.00,9, -999.00,9, -999.00,9,   7.2234, -999.00
096U20160426,       P15S,      96,          1,         23,       2023,2,20160612,       1006,   -20.9973,  -169.9991,       5477,   701.9,   6.2220,  34.3330,2,  34.3306,2,    224.2,2,   226.4,2,   11.08,2,   25.17,2,    0.00,4,    1.69,2,   2.365,2,   1.186,2,   0.436,2,  2155.1,2,  2282.1,2,-999.0000,9,  -999.00,-999.0000,9, -999.00,9, -999.00,9,  -999.0,9,  -999.0, -999.00,9, -999.00,9, -999.00,9, -999.00,9,   6.1587, -999.00
096U20160426,       P15S,      96,          1,         22,       2022,2,20160612,       1006,   -20.9973,  -169.9991,       5477,   801.3,   5.3890,  34.3350,2,  34.3374,2,    199.5,2,   196.3,2,   22.88,2,   29.43,2,    0.01,4,    1.99,2,   1.065,2,   0.534,2,   0.163,2,  2183.8,2,  2290.7,2,-999.0000,9,  -999.00,-999.0000,9, -999.00,9, -999.00,9,  -999.0,9,  -999.0, -999.00,9, -999.00,9, -999.00,9, -999.00,9,   5.3212, -999.00
096U20160426,       P15S,      96,          1,         21,       2021,2,20160612,       1006,   -20.9973,  -169.9991,       5477,   901.4,   4.8400,  34.3850,2,  34.3851,2,    171.4,2,   171.0,2,   37.08,2,   32.23,2,    0.01,4,    2.21,2,   0.391,2,   0.204,2,   0.042,2,  2210.0,2,  2305.4,2,-999.0000,9,  -999.00,-999.0000,9, -999.00,9, -999.00,9,  -999.0,9,  -999.0, -999.00,9, -999.00,9, -999.00,9, -999.00,9,   4.7668, -999.00
096U20160426,       P15S,      96,          1,         20,       2020,2,20160612,       1006,   -20.9973,  -169.9991,       5477,  1000.7,   4.1730,  34.4230,2,  34.4217,2,    163.5,2,   163.6,2,   50.18,2,   33.62,2,    0.01,4,    2.31,2,   0.146,2,   0.081,2,       0,2,  2228.7,2,  2318.7,2,-999.0000,9,  -999.00,-999.0000,9, -999.00,9, -999.00,9,  -999.0,9,  -999.0, -999.00,9, -999.00,9, -999.00,9, -999.00,9,   4.0961, -999.00
096U20160426,       P15S,      96,          1,         19,       2019,2,20160612,       1006,   -20.9973,  -169.9991,       5477,  1101.4,   3.7720,  34.4550,2,  34.4551,2,    159.0,2,   158.9,2,   60.32,2,   34.29,2,    0.01,4,    2.36,2,   0.064,2,   0.036,2,   0.005,2,  2241.3,2,  2328.7,2,-999.0000,9,  -999.00,-999.0000,9, -999.00,9, -999.00,9,  -999.0,9,  -999.0, -999.00,9, -999.00,9, -999.00,9, -999.00,9,   3.6898, -999.00
096U20160426,       P15S,      96,          1,         18,       2018,2,20160612,       1006,   -20.9973,  -169.9991,       5477,  1201.6,   3.3050,  34.4820,2,  34.4828,2,    160.8,2,   160.9,2,   68.44,2,   34.52,2,    0.00,4,    2.37,2,   0.031,2,   0.018,2,   0.004,2,  2251.4,2,  2338.1,2,-999.0000,9,  -999.00,-999.0000,9, -999.00,9, -999.00,9,  -999.0,9,  -999.0, -999.00,9, -999.00,9, -999.00,9, -999.00,9,   3.2187, -999.00
096U20160426,       P15S,      96,          1,         17,       2017,2,20160612,       1006,   -20.9973,  -169.9991,       5477,  1301.1,   3.0080,  34.5210,2,  34.5201,2,    157.6,2,   157.8,2,   78.32,2,   34.82,2,    0.00,4,    2.40,2,   0.014,2,   0.009,2,   0.002,2,  2263.1,2,  2349.1,2,-999.0000,9,  -999.00,-999.0000,9, -999.00,9, -999.00,9,  -999.0,9,  -999.0, -999.00,9, -999.00,9, -999.00,9, -999.00,9,   2.9165, -999.00
096U20160426,       P15S,      96,          1,         16,       2016,2,20160612,       1006,   -20.9973,  -169.9991,       5477,  1401.3,   2.8090,  34.5530,2,  34.5517,2,    153.8,2,   153.8,2,   86.90,2,   35.07,2,    0.01,4,    2.42,2,   0.007,2,   0.003,2,       0,2,  2271.6,2,  2360.4,2,-999.0000,9,  -999.00,-999.0000,9, -999.00,9, -999.00,9,  -999.0,9,  -999.0, -999.00,9, -999.00,9, -999.00,9, -999.00,9,   2.7114, -999.00
096U20160426,       P15S,      96,          1,         15,       2015,2,20160612,       1006,   -20.9973,  -169.9991,       5477,  1601.1,   2.5500,  34.5970,2,  34.5953,2,    147.3,2,   147.5,2,  101.23,2,   35.49,2,    0.01,4,    2.46,2,   0.007,6,   0.006,6,   0.002,6,  2290.9,2,  2376.3,2,-999.0000,9,  -999.00,-999.0000,9, -999.00,9, -999.00,9,  -999.0,9,  -999.0, -999.00,9, -999.00,9, -999.00,9, -999.00,9,   2.4391, -999.00
096U20160426,       P15S,      96,          1,         14,       2014,2,20160612,       1006,   -20.9973,  -169.9991,       5477,  1802.8,   2.4070,  34.6140,2,  34.6131,2,    145.6,2,   145.6,2,  107.93,2,   35.64,2,    0.01,4,    2.47,2,-999.000,9,-999.000,9,-999.000,9,  2297.1,6,  2383.5,6,-999.0000,9,  -999.00,-999.0000,9, -999.00,9, -999.00,9,  -999.0,9,  -999.0, -999.00,9, -999.00,9, -999.00,9, -999.00,9,   2.2812, -999.00
096U20160426,       P15S,      96,          1,         13,       2013,2,20160612,       1006,   -20.9973,  -169.9991,       5477,  2001.4,   2.2410,  34.6290,2,  34.6280,2,    145.4,2,   145.5,2,  113.66,2,   35.75,2,    0.01,4,    2.48,2,   0.002,2,   0.002,2,       0,2,  2304.6,2,  2389.2,2,-999.0000,9,  -999.00,-999.0000,9, -999.00,9, -999.00,9,  -999.0,9,  -999.0, -999.00,9, -999.00,9, -999.00,9, -999.00,9,   2.1008, -999.00
096U20160426,       P15S,      96,          1,         12,       2012,2,20160612,       1006,   -20.9973,  -169.9991,       5477,  2250.0,   2.0960,  34.6420,2,  34.6405,2,    145.9,2,   146.6,2,  118.29,2,   35.77,2,    0.01,4,    2.48,2,-999.000,9,-999.000,9,-999.000,9,  2305.8,2,  2394.8,2,-999.0000,9,  -999.00,-999.0000,9, -999.00,9, -999.00,9,  -999.0,9,  -999.0, -999.00,9, -999.00,9, -999.00,9, -999.00,9,   1.9365, -999.00
096U20160426,       P15S,      96,          1,         11,       2011,2,20160612,       1006,   -20.9973,  -169.9991,       5477,  2501.1,   1.9440,  34.6560,2,  34.6538,2,    146.1,2,   146.6,2,  124.43,2,   35.84,2,    0.01,4,    2.48,2,  -0.004,2,   0.000,2,   0.076,3,  2315.6,2,  2403.2,6,-999.0000,9,  -999.00,-999.0000,9, -999.00,9, -999.00,9,  -999.0,9,  -999.0, -999.00,9, -999.00,9, -999.00,9, -999.00,9,   1.7646, -999.00
096U20160426,       P15S,      96,          1,         10,       2010,2,20160612,       1006,   -20.9973,  -169.9991,       5477,  2750.2,   1.8200,  34.6660,2,  34.6639,2,    147.2,2,   147.0,2,  128.92,2,   35.80,2,    0.01,4,    2.48,2,-999.000,9,-999.000,9,-999.000,9,  -999.0,9,  -999.0,9,-999.0000,9,  -999.00,-999.0000,9, -999.00,9, -999.00,9,  -999.0,9,  -999.0, -999.00,9, -999.00,9, -999.00,9, -999.00,9,   1.6200, -999.00
096U20160426,       P15S,      96,          1,          9,       2009,2,20160612,       1006,   -20.9973,  -169.9991,       5477,  3001.8,   1.7270,  34.6730,2,  34.6705,2,    149.7,2,   150.0,2,  131.44,2,   35.61,2,    0.01,4,    2.47,2,   0.004,2,   0.000,2,       0,2,  2316.2,2,  2408.0,2,-999.0000,9,  -999.00,-999.0000,9, -999.00,9, -999.00,9,  -999.0,9,  -999.0, -999.00,9, -999.00,9, -999.00,9, -999.00,9,   1.5050, -999.00
096U20160426,       P15S,      96,          1,          8,       2008,2,20160612,       1006,   -20.9973,  -169.9991,       5477,  3301.4,   1.5920,  34.6840,2,  34.6816,2,    158.5,2,   159.0,2,  129.95,2,   34.95,2,    0.01,4,    2.42,2,-999.000,9,-999.000,9,-999.000,9,  -999.0,9,  -999.0,9,-999.0000,9,  -999.00,-999.0000,9, -999.00,9, -999.00,9,  -999.0,9,  -999.0, -999.00,9, -999.00,9, -999.00,9, -999.00,9,   1.3436, -999.00
096U20160426,       P15S,      96,          1,          7,       2007,2,20160612,       1006,   -20.9973,  -169.9991,       5477,  3599.7,   1.4450,  34.7050,2,  34.7043,2,    180.2,2,   182.7,2,  117.35,2,   32.91,2,    0.01,4,    2.27,2,   0.037,2,   0.019,2,       0,2,  2281.2,2,  2381.8,2,-999.0000,9,  -999.00,-999.0000,9, -999.00,9, -999.00,9,  -999.0,9,  -999.0, -999.00,9, -999.00,9, -999.00,9, -999.00,9,   1.1698, -999.00
096U20160426,       P15S,      96,          1,          6,       2006,2,20160612,       1006,   -20.9973,  -169.9991,       5477,  4000.9,   1.2410,  34.7180,2,  34.7162,2,    197.8,2,   200.8,2,  112.00,2,   31.70,2,    0.00,4,    2.17,2,   0.088,6,   0.046,6,   0.008,6,  2260.1,2,  2365.5,2,-999.0000,9,  -999.00,-999.0000,9, -999.00,9, -999.00,9,  -999.0,9,  -999.0, -999.00,9, -999.00,9, -999.00,9, -999.00,9,   0.9290, -999.00
096U20160426,       P15S,      96,          1,          5,       2005,2,20160612,       1006,   -20.9973,  -169.9991,       5477,  4399.3,   1.1170,  34.7140,2,  34.7124,2,    202.4,2,   204.3,2,  115.44,2,   31.75,2,    0.01,4,    2.17,2,-999.000,9,-999.000,9,-999.000,9,  -999.0,9,  -999.0,9,-999.0000,9,  -999.00,-999.0000,9, -999.00,9, -999.00,9,  -999.0,9,  -999.0, -999.00,9, -999.00,9, -999.00,9, -999.00,9,   0.7650, -999.00
096U20160426,       P15S,      96,          1,          4,       2004,2,20160612,       1006,   -20.9973,  -169.9991,       5477,  4799.9,   1.0690,  34.7110,2,  34.7091,2,    204.9,2,   205.7,2,  117.76,2,   31.85,2,    0.01,4,    2.18,2,   0.100,2,   0.052,2,       0,2,  2262.8,2,  2364.8,2,-999.0000,9,  -999.00,-999.0000,9, -999.00,9, -999.00,9,  -999.0,9,  -999.0, -999.00,9, -999.00,9, -999.00,9, -999.00,9,   0.6728, -999.00
096U20160426,       P15S,      96,          1,          3,       2003,2,20160612,       1006,   -20.9973,  -169.9991,       5477,  5200.6,   1.0810,  34.7090,2,  34.7086,2,    206.5,2,   206.1,2,  118.88,2,   31.91,2,    0.01,4,    2.18,2,   0.100,2,   0.053,2,       0,2,  2263.0,6,  2366.0,6,-999.0000,9,  -999.00,-999.0000,9, -999.00,9, -999.00,9,  -999.0,9,  -999.0, -999.00,9, -999.00,9, -999.00,9, -999.00,9,   0.6365, -999.00
096U20160426,       P15S,      96,          1,          2,       2002,2,20160612,       1006,   -20.9973,  -169.9991,       5477,  5390.3,   1.0980,  34.7090,2,  34.7074,2,    207.0,2,   206.1,2,  119.01,2,   31.87,2,    0.01,4,    2.18,2,-999.000,9,-999.000,9,-999.000,9,  -999.0,9,  -999.0,9,-999.0000,9,  -999.00,-999.0000,9, -999.00,9, -999.00,9,  -999.0,9,  -999.0, -999.00,9, -999.00,9, -999.00,9, -999.00,9,   0.6296, -999.00
096U20160426,       P15S,      96,          1,          1,       2001,2,20160612,       1006,   -20.9973,  -169.9991,       5477,  5576.9,   1.1200,  34.7080,2,  34.7076,2,    207.4,2,   206.3,2,  119.08,2,   31.90,2,    0.01,4,    2.18,2,   0.092,2,   0.047,2,       0,2,  2261.5,2,  2365.8,2,-999.0000,9,  -999.00,-999.0000,9, -999.00,9, -999.00,9,  -999.0,9,  -999.0, -999.00,9, -999.00,9, -999.00,9, -999.00,9,   0.6274, -999.00