BOTTLE,20230413CCHSIOENA
EXPOCODE,SECT_ID,STNNBR,CASTNO,SAMPNO,BTLNBR,BTLNBR_FLAG_W,DATE,TIME,LATITUDE,LONGITUDE,DEPTH,CTDPRS,CTDTMP,CTDSAL,CTDSAL_FLAG_W,SALNTY,SALNTY_FLAG_W,CTDOXY,CTDOXY_FLAG_W,OXYGEN,OXYGEN_FLAG_W,SILCAT,SILCAT_FLAG_W,NITRAT,NITRAT_FLAG_W,NITRIT,NITRIT_FLAG_W,PHSPHT,PHSPHT_FLAG_W,CFC-11,CFC-11_FLAG_W,CFC-12,CFC-12_FLAG_W,SF6,SF6_FLAG_W,TCARBN,TCARBN_FLAG_W,ALKALI,ALKALI_FLAG_W,PH_TOT,PH_TOT_FLAG_W,PH_TMP,HELIUM,HELIUM_FLAG_W,DELHE3,DELHE3_FLAG_W,DELC13,DELC13_FLAG_W,DELC14,DELC14_FLAG_W,C14ERR,POC,POC_FLAG_W,PON,PON_FLAG_W,CHLORA,CHLORA_FLAG_W,PPHYTN,PPHYTN_FLAG_W,THETA,DELHER
,,,,,,,,,,,METERS,DBAR,ITS-90,PSS-78,,PSS-78,,UMOL/KG,,UMOL/KG,,UMOL/KG,,UMOL/KG,,UMOL/KG,,UMOL/KG,,PMOL/KG,,PMOL/KG,,FMOL/KG,,UMOL/KG,,UMOL/KG,,,,DEG C,NMOL/KG,,PERCNT,,/MILLE,,/MILLE,,/MILLE,UG/KG,,UG/KG,,UG/KG,,UG/KG,,DEG C,PERCNT
096U20160426,       P15S,     111,          1,         36,       2036,2,20160616,       0924,   -13.9690,  -169.9977,       2974,     4.8,  28.7280,  34.9400,2,  34.9422,2,    190.4,2,   195.3,2,    0.32,2,   -0.02,4,    0.00,4,    0.17,2,-999.000,9,-999.000,9,-999.000,9,  1953.6,2,  2298.3,2,-999.0000,9,  -999.00,-999.0000,9, -999.00,9, -999.00,9,  -999.0,9,  -999.0, -999.00,9, -999.00,9,    0.23,2,    0.00,3,  28.7268, -999.00
096U20160426,       P15S,     111,          1,         35,       2035,2,20160616,       0924,   -13.9690,  -169.9977,       2974,    24.9,  28.6830,  34.9590,2,  34.9602,2,    190.4,2,   195.2,2,    0.33,2,   -0.02,4,    0.00,4,    0.17,2,-999.000,9,-999.000,9,-999.000,9,  -999.0,9,  -999.0,9,-999.0000,9,  -999.00,-999.0000,9, -999.00,9, -999.00,9,  -999.0,9,  -999.0, -999.00,9, -999.00,9,    0.23,2,    0.03,3,  28.6770, -999.00
096U20160426,       P15S,     111,          1,         34,       2034,2,20160616,       0924,   -13.9690,  -169.9977,       2974,    50.6,  28.4940,  35.0940,2,  35.4581,2,    190.2,2,   193.2,2,    0.19,4,    0.23,2,    0.05,2,    0.22,2,-999.000,9,-999.000,9,-999.000,9,  -999.0,9,  -999.0,9,-999.0000,9,  -999.00,-999.0000,9, -999.00,9, -999.00,9,  -999.0,9,  -999.0, -999.00,9, -999.00,9,    1.37,2,   -0.08,3,  28.4819, -999.00
096U20160426,       P15S,     111,          1,         33,       2033,2,20160616,       0924,   -13.9690,  -169.9977,       2974,    74.8,  26.7960,  35.8150,2,  35.8942,2,    163.8,2,   161.0,2,    0.88,2,    3.50,2,    0.46,2,    0.49,2,-999.000,9,-999.000,9,-999.000,9,  -999.0,9,  -999.0,9,-999.0000,9,  -999.00,-999.0000,9, -999.00,9, -999.00,9,  -999.0,9,  -999.0, -999.00,9, -999.00,9,    1.22,2,    0.28,3,  26.7789, -999.00
096U20160426,       P15S,     111,          1,         32,       2032,2,20160616,       0924,   -13.9690,  -169.9977,       2974,    99.8,  25.1900,  36.0170,2,  36.0813,2,    154.0,2,   149.1,2,    0.89,2,    5.58,2,    0.04,2,    0.59,2,-999.000,9,-999.000,9,-999.000,9,  2095.7,2,  2371.7,2,-999.0000,9,  -999.00,-999.0000,9, -999.00,9, -999.00,9,  -999.0,9,  -999.0, -999.00,9, -999.00,9,    0.50,2,    0.05,3,  25.1682, -999.00
096U20160426,       P15S,     111,          1,         31,       2031,2,20160616,       0924,   -13.9690,  -169.9977,       2974,   125.3,  23.8520,  36.0920,2,  36.0883,2,    146.3,2,   149.3,2,    0.87,2,    5.92,2,    0.02,2,    0.61,2,-999.000,9,-999.000,9,-999.000,9,  -999.0,9,  -999.0,9,-999.0000,9,  -999.00,-999.0000,9, -999.00,9, -999.00,9,  -999.0,9,  -999.0, -999.00,9, -999.00,9, -999.00,9, -999.00,9,  23.8256, -999.00
096U20160426,       P15S,     111,          1,         30,       2030,2,20160616,       0924,   -13.9690,  -169.9977,       2974,   150.2,  22.9830,  36.0580,2,  36.0287,2,    148.9,2,   153.6,2,    0.81,2,    5.86,2,    0.02,4,    0.60,2,-999.000,9,-999.000,9,-999.000,9,  2109.7,2,  2368.0,2,-999.0000,9,  -999.00,-999.0000,9, -999.00,9, -999.00,9,  -999.0,9,  -999.0, -999.00,9, -999.00,9, -999.00,9, -999.00,9,  22.9522, -999.00
096U20160426,       P15S,     111,          1,         29,       2029,2,20160616,       0924,   -13.9690,  -169.9977,       2974,   175.3,  21.9550,  35.9770,2,  35.9549,2,    152.9,2,   156.1,2,    0.82,2,    5.98,2,    0.02,4,    0.60,2,-999.000,9,-999.000,9,-999.000,9,  -999.0,9,  -999.0,9,-999.0000,9,  -999.00,-999.0000,9, -999.00,9, -999.00,9,  -999.0,9,  -999.0, -999.00,9, -999.00,9, -999.00,9, -999.00,9,  21.9202, -999.00
096U20160426,       P15S,     111,          1,         28,       2028,2,20160616,       0924,   -13.9690,  -169.9977,       2974,   199.3,  21.1050,  35.8800,2,  35.8227,2,    153.0,2,   155.4,2,    1.14,2,    6.88,2,    0.01,4,    0.67,2,-999.000,9,-999.000,9,-999.000,9,  -999.0,9,  -999.0,9,-999.0000,9,  -999.00,-999.0000,9, -999.00,9, -999.00,9,  -999.0,9,  -999.0, -999.00,9, -999.00,9, -999.00,9, -999.00,9,  21.0665, -999.00
096U20160426,       P15S,     111,          1,         27,       2027,2,20160616,       0924,   -13.9690,  -169.9977,       2974,   224.3,  19.7350,  35.7140,2,  35.6721,2,    149.5,2,   153.0,2,    1.67,2,    7.91,2,    0.01,4,    0.75,2,-999.000,9,-999.000,9,-999.000,9,  2124.4,2,  2348.0,2,-999.0000,9,  -999.00,-999.0000,9, -999.00,9, -999.00,9,  -999.0,9,  -999.0, -999.00,9, -999.00,9, -999.00,9, -999.00,9,  19.6937, -999.00
096U20160426,       P15S,     111,          1,         26,       2026,2,20160616,       0924,   -13.9690,  -169.9977,       2974,   250.2,  17.9450,  35.4510,2,  35.4061,2,    145.1,2,   145.3,2,    3.16,2,   10.41,2,    0.01,4,    0.93,2,-999.000,9,-999.000,9,-999.000,9,  -999.0,9,  -999.0,9,-999.0000,9,  -999.00,-999.0000,9, -999.00,9, -999.00,9,  -999.0,9,  -999.0, -999.00,9, -999.00,9, -999.00,9, -999.00,9,  17.9020, -999.00
096U20160426,       P15S,     111,          1,         25,       2025,2,20160616,       0924,   -13.9690,  -169.9977,       2974,   300.4,  14.7310,  35.0610,2,  35.0372,2,    132.3,2,   133.1,2,    6.34,2,   15.02,2,    0.01,4,    1.26,2,-999.000,9,-999.000,9,-999.000,9,  -999.0,9,  -999.0,9,-999.0000,9,  -999.00,-999.0000,9, -999.00,9, -999.00,9,  -999.0,9,  -999.0, -999.00,9, -999.00,9, -999.00,9, -999.00,9,  14.6859, -999.00
096U20160426,       P15S,     111,          1,         24,       2024,2,20160616,       0924,   -13.9690,  -169.9977,       2974,   375.9,  11.4330,  34.7420,2,  34.7244,2,    119.9,2,   118.4,2,   13.24,2,   22.20,2,    0.01,4,    1.72,2,-999.000,9,-999.000,9,-999.000,9,  2182.6,6,  2296.4,6,-999.0000,9,  -999.00,-999.0000,9, -999.00,9, -999.00,9,  -999.0,9,  -999.0, -999.00,9, -999.00,9, -999.00,9, -999.00,9,  11.3853, -999.00
096U20160426,       P15S,     111,          1,         23,       2023,2,20160616,       0924,   -13.9690,  -169.9977,       2974,   419.2,   9.2950,  34.6040,2,  34.5949,2,    126.9,2,   126.9,2,   18.61,2,   25.96,2,    0.01,4,    1.92,2,-999.000,9,-999.000,9,-999.000,9,  -999.0,9,  -999.0,9,-999.0000,9,  -999.00,-999.0000,9, -999.00,9, -999.00,9,  -999.0,9,  -999.0, -999.00,9, -999.00,9, -999.00,9, -999.00,9,   9.2482, -999.00
096U20160426,       P15S,     111,          1,         22,       2022,2,20160616,       0924,   -13.9690,  -169.9977,       2974,   450.6,   8.4630,  34.5580,2,  34.5496,2,    132.8,2,   134.2,2,   21.30,2,   27.35,2,    0.00,4,    1.98,2,-999.000,9,-999.000,9,-999.000,9,  -999.0,9,  -999.0,9,-999.0000,9,  -999.00,-999.0000,9, -999.00,9, -999.00,9,  -999.0,9,  -999.0, -999.00,9, -999.00,9, -999.00,9, -999.00,9,   8.4154, -999.00
096U20160426,       P15S,     111,          1,         21,       2021,2,20160616,       0924,   -13.9690,  -169.9977,       2974,   500.5,   7.3270,  34.5040,2,  34.4965,2,    143.4,2,   144.8,2,   25.57,2,   28.95,2,    0.00,4,    2.05,2,-999.000,9,-999.000,9,-999.000,9,  2201.1,2,  2296.5,2,-999.0000,9,  -999.00,-999.0000,9, -999.00,9, -999.00,9,  -999.0,9,  -999.0, -999.00,9, -999.00,9, -999.00,9, -999.00,9,   7.2782, -999.00
096U20160426,       P15S,     111,          1,         20,       2020,2,20160616,       0924,   -13.9690,  -169.9977,       2974,   600.5,   6.1160,  34.4780,2,  34.4767,2,    145.3,2,   144.9,2,   36.33,2,   31.37,2,    0.00,4,    2.20,2,-999.000,9,-999.000,9,-999.000,9,  -999.0,9,  -999.0,9,-999.0000,9,  -999.00,-999.0000,9, -999.00,9, -999.00,9,  -999.0,9,  -999.0, -999.00,9, -999.00,9, -999.00,9, -999.00,9,   6.0626, -999.00
096U20160426,       P15S,     111,          1,         19,       2019,2,20160616,       0924,   -13.9690,  -169.9977,       2974,   702.2,   5.5980,  34.4790,2,  34.4776,2,    141.6,2,   140.8,2,   42.75,2,   32.71,2,    0.00,4,    2.29,2,-999.000,9,-999.000,9,-999.000,9,  -999.0,9,  -999.0,9,-999.0000,9,  -999.00,-999.0000,9, -999.00,9, -999.00,9,  -999.0,9,  -999.0, -999.00,9, -999.00,9, -999.00,9, -999.00,9,   5.5378, -999.00
096U20160426,       P15S,     111,          1,         18,       2018,2,20160616,       0924,   -13.9690,  -169.9977,       2974,   801.0,   5.1770,  34.4820,2,  34.4828,2,    140.2,2,   139.5,2,   50.28,2,   33.65,2,    0.00,4,    2.35,2,-999.000,9,-999.000,9,-999.000,9,  -999.0,9,  -999.0,9,-999.0000,9,  -999.00,-999.0000,9, -999.00,9, -999.00,9,  -999.0,9,  -999.0, -999.00,9, -999.00,9, -999.00,9, -999.00,9,   5.1104, -999.00
096U20160426,       P15S,     111,          1,         17,       2017,2,20160616,       0924,   -13.9690,  -169.9977,       2974,   900.2,   4.5750,  34.3590,2,  34.4897,2,    139.8,2,   139.8,2,   59.03,2,   34.45,2,    0.00,4,    2.41,2,-999.000,9,-999.000,9,-999.000,9,  -999.0,9,  -999.0,9,-999.0000,9,  -999.00,-999.0000,9, -999.00,9, -999.00,9,  -999.0,9,  -999.0, -999.00,9, -999.00,9, -999.00,9, -999.00,9,   4.5036, -999.00
096U20160426,       P15S,     111,          1,         16,       2016,2,20160616,       0924,   -13.9690,  -169.9977,       2974,  1001.9,   4.1560,  34.3660,2,  34.4981,2,    143.1,2,   142.2,2,   65.52,2,   34.70,2,    0.00,4,    2.43,2,-999.000,9,-999.000,9,-999.000,9,  -999.0,9,  -999.0,9,-999.0000,9,  -999.00,-999.0000,9, -999.00,9, -999.00,9,  -999.0,9,  -999.0, -999.00,9, -999.00,9, -999.00,9, -999.00,9,   4.0790, -999.00
096U20160426,       P15S,     111,          1,         15,       2015,2,20160616,       0924,   -13.9690,  -169.9977,       2974,  1099.9,   3.8010,  34.3870,2,  34.5187,2,    141.0,2,   140.2,2,   73.92,2,   35.20,2,    0.00,4,    2.46,2,-999.000,9,-999.000,9,-999.000,9,  -999.0,9,  -999.0,9,-999.0000,9,  -999.00,-999.0000,9, -999.00,9, -999.00,9,  -999.0,9,  -999.0, -999.00,9, -999.00,9, -999.00,9, -999.00,9,   3.7186, -999.00
096U20160426,       P15S,     111,          1,         14,       2014,2,20160616,       0924,   -13.9690,  -169.9977,       2974,  1202.8,   3.5770,  34.4050,2,  34.5338,2,    139.4,2,   138.7,2,   79.47,2,   35.45,2,    0.00,4,    2.48,2,-999.000,9,-999.000,9,-999.000,9,  -999.0,9,  -999.0,9,-999.0000,9,  -999.00,-999.0000,9, -999.00,9, -999.00,9,  -999.0,9,  -999.0, -999.00,9, -999.00,9, -999.00,9, -999.00,9,   3.4880, -999.00
096U20160426,       P15S,     111,          1,         13,       2013,2,20160616,       0924,   -13.9690,  -169.9977,       2974,  1321.8,   3.2750,  34.4290,2,  34.5585,2,    136.2,2,   134.9,2,   88.26,2,   36.00,2,    0.00,4,    2.53,2,-999.000,9,-999.000,9,-999.000,9,  -999.0,9,  -999.0,9,-999.0000,9,  -999.00,-999.0000,9, -999.00,9, -999.00,9,  -999.0,9,  -999.0, -999.00,9, -999.00,9, -999.00,9, -999.00,9,   3.1790, -999.00
096U20160426,       P15S,     111,          1,         12,       2012,2,20160616,       0924,   -13.9690,  -169.9977,       2974,  1400.5,   3.0590,  34.4430,2,  34.5728,2,    137.9,2,   136.7,2,   92.94,2,   36.00,2,    0.00,4,    2.52,2,-999.000,9,-999.000,9,-999.000,9,  -999.0,9,  -999.0,9,-999.0000,9,  -999.00,-999.0000,9, -999.00,9, -999.00,9,  -999.0,9,  -999.0, -999.00,9, -999.00,9, -999.00,9, -999.00,9,   2.9587, -999.00
096U20160426,       P15S,     111,          1,         11,       2011,2,20160616,       0924,   -13.9690,  -169.9977,       2974,  1503.3,   2.7470,  34.4630,2,  34.5911,2,    140.9,2,   139.7,2,   99.89,2,   35.89,2,    0.00,4,    2.51,2,-999.000,9,-999.000,9,-999.000,9,  -999.0,9,  -999.0,9,-999.0000,9,  -999.00,-999.0000,9, -999.00,9, -999.00,9,  -999.0,9,  -999.0, -999.00,9, -999.00,9, -999.00,9, -999.00,9,   2.6417, -999.00
096U20160426,       P15S,     111,          1,         10,       2010,2,20160616,       0924,   -13.9690,  -169.9977,       2974,  1602.7,   2.5640,  34.4750,2,  34.6064,2,    143.0,2,  -999.0,9,  104.54,2,   35.78,2,    0.00,4,    2.50,2,-999.000,9,-999.000,9,-999.000,9,  -999.0,9,  -999.0,9,-999.0000,9,  -999.00,-999.0000,9, -999.00,9, -999.00,9,  -999.0,9,  -999.0, -999.00,9, -999.00,9, -999.00,9, -999.00,9,   2.4528, -999.00
096U20160426,       P15S,     111,          1,          9,       2009,2,20160616,       0924,   -13.9690,  -169.9977,       2974,  1701.9,   2.3890,  34.4870,2,  34.6173,2,    145.1,2,   144.3,2,  108.47,2,   35.71,2,    0.00,4,    2.50,2,-999.000,9,-999.000,9,-999.000,9,  -999.0,9,  -999.0,9,-999.0000,9,  -999.00,-999.0000,9, -999.00,9, -999.00,9,  -999.0,9,  -999.0, -999.00,9, -999.00,9, -999.00,9, -999.00,9,   2.2718, -999.00
096U20160426,       P15S,     111,          1,          8,       2008,2,20160616,       0924,   -13.9690,  -169.9977,       2974,  1801.5,   2.3130,  34.4940,2,  34.6228,2,    145.5,2,   144.8,2,  110.68,2,   35.72,2,    0.00,4,    2.50,2,-999.000,9,-999.000,9,-999.000,9,  -999.0,9,  -999.0,9,-999.0000,9,  -999.00,-999.0000,9, -999.00,9, -999.00,9,  -999.0,9,  -999.0, -999.00,9, -999.00,9, -999.00,9, -999.00,9,   2.1886, -999.00
096U20160426,       P15S,     111,          1,          7,       2007,2,20160616,       0924,   -13.9690,  -169.9977,       2974,  1901.6,   2.2410,  34.5000,2,  34.6289,2,    146.4,2,   146.0,2,  112.70,2,   35.69,2,    0.00,4,    2.49,2,-999.000,9,-999.000,9,-999.000,9,  -999.0,9,  -999.0,9,-999.0000,9,  -999.00,-999.0000,9, -999.00,9, -999.00,9,  -999.0,9,  -999.0, -999.00,9, -999.00,9, -999.00,9, -999.00,9,   2.1092, -999.00
096U20160426,       P15S,     111,          1,          6,       2006,2,20160616,       0924,   -13.9690,  -169.9977,       2974,  2001.5,   2.1540,  34.5070,2,  34.6358,2,    147.4,2,   146.9,2,  114.97,2,   35.63,2,    0.00,4,    2.49,2,-999.000,9,-999.000,9,-999.000,9,  -999.0,9,  -999.0,9,-999.0000,9,  -999.00,-999.0000,9, -999.00,9, -999.00,9,  -999.0,9,  -999.0, -999.00,9, -999.00,9, -999.00,9, -999.00,9,   2.0151, -999.00
096U20160426,       P15S,     111,          1,          5,       2005,2,20160616,       0924,   -13.9690,  -169.9977,       2974,  2201.6,   2.0430,  34.5170,2,  34.6457,2,    148.4,2,   147.7,2,  118.51,2,   35.62,2,    0.00,4,    2.49,2,-999.000,9,-999.000,9,-999.000,9,  -999.0,9,  -999.0,9,-999.0000,9,  -999.00,-999.0000,9, -999.00,9, -999.00,9,  -999.0,9,  -999.0, -999.00,9, -999.00,9, -999.00,9, -999.00,9,   1.8886, -999.00
096U20160426,       P15S,     111,          1,          4,       2004,2,20160616,       0924,   -13.9690,  -169.9977,       2974,  2401.1,   1.9880,  34.5230,2,  34.6508,2,    149.0,2,   148.5,2,  120.84,2,   35.62,2,    0.00,4,    2.48,2,-999.000,9,-999.000,9,-999.000,9,  -999.0,9,  -999.0,9,-999.0000,9,  -999.00,-999.0000,9, -999.00,9, -999.00,9,  -999.0,9,  -999.0, -999.00,9, -999.00,9, -999.00,9, -999.00,9,   1.8169, -999.00
096U20160426,       P15S,     111,          1,          3,       2003,2,20160616,       0924,   -13.9690,  -169.9977,       2974,  2600.1,   1.8480,  34.5370,2,  34.6634,2,    150.2,2,   149.5,2,  125.35,2,   35.60,2,    0.00,4,    2.48,2,-999.000,9,-999.000,9,-999.000,9,  -999.0,9,  -999.0,9,-999.0000,9,  -999.00,-999.0000,9, -999.00,9, -999.00,9,  -999.0,9,  -999.0, -999.00,9, -999.00,9, -999.00,9, -999.00,9,   1.6614, -999.00
096U20160426,       P15S,     111,          1,          2,       2002,2,20160616,       0924,   -13.9690,  -169.9977,       2974,  2802.1,   1.7630,  34.5450,2,  34.6689,2,    151.5,2,   151.0,2,  128.16,2,   35.51,2,    0.00,4,    2.47,2,-999.000,9,-999.000,9,-999.000,9,  -999.0,9,  -999.0,9,-999.0000,9,  -999.00,-999.0000,9, -999.00,9, -999.00,9,  -999.0,9,  -999.0, -999.00,9, -999.00,9, -999.00,9, -999.00,9,   1.5593, -999.00
096U20160426,       P15S,     111,          1,          1,       2001,2,20160616,       0924,   -13.9690,  -169.9977,       2974,  2991.9,   1.6990,  34.6750,2,  34.6734,2,    154.2,2,   154.0,2,  128.91,2,   35.34,2,    0.00,4,    2.46,2,-999.000,9,-999.000,9,-999.000,9,  -999.0,9,  -999.0,9,-999.0000,9,  -999.00,-999.0000,9, -999.00,9, -999.00,9,  -999.0,9,  -999.0, -999.00,9, -999.00,9, -999.00,9, -999.00,9,   1.4786, -999.00