BOTTLE,20230413CCHSIOENA
EXPOCODE,SECT_ID,STNNBR,CASTNO,SAMPNO,BTLNBR,BTLNBR_FLAG_W,DATE,TIME,LATITUDE,LONGITUDE,DEPTH,CTDPRS,CTDTMP,CTDSAL,CTDSAL_FLAG_W,SALNTY,SALNTY_FLAG_W,CTDOXY,CTDOXY_FLAG_W,OXYGEN,OXYGEN_FLAG_W,SILCAT,SILCAT_FLAG_W,NITRAT,NITRAT_FLAG_W,NITRIT,NITRIT_FLAG_W,PHSPHT,PHSPHT_FLAG_W,CFC-11,CFC-11_FLAG_W,CFC-12,CFC-12_FLAG_W,SF6,SF6_FLAG_W,TCARBN,TCARBN_FLAG_W,ALKALI,ALKALI_FLAG_W,PH_TOT,PH_TOT_FLAG_W,PH_TMP,HELIUM,HELIUM_FLAG_W,DELHE3,DELHE3_FLAG_W,DELC13,DELC13_FLAG_W,DELC14,DELC14_FLAG_W,C14ERR,POC,POC_FLAG_W,PON,PON_FLAG_W,CHLORA,CHLORA_FLAG_W,PPHYTN,PPHYTN_FLAG_W,THETA,DELHER
,,,,,,,,,,,METERS,DBAR,ITS-90,PSS-78,,PSS-78,,UMOL/KG,,UMOL/KG,,UMOL/KG,,UMOL/KG,,UMOL/KG,,UMOL/KG,,PMOL/KG,,PMOL/KG,,FMOL/KG,,UMOL/KG,,UMOL/KG,,,,DEG C,NMOL/KG,,PERCNT,,/MILLE,,/MILLE,,/MILLE,UG/KG,,UG/KG,,UG/KG,,UG/KG,,DEG C,PERCNT
096U20160426,       P15S,      37,          1,         36,       2036,2,20160519,       0614,   -48.9991,  -170.0038,       5267,     8.4,  10.3180,  34.5010,2,  34.5009,2,    269.9,2,   270.6,2,    1.42,2,   10.01,2,    0.31,2,    0.82,2,   3.221,2,   1.924,2,   2.215,2,  2097.6,6,  2289.8,6,-999.0000,9,  -999.00,-999.0000,9, -999.00,9, -999.00,9,  -999.0,9,  -999.0, -999.00,9, -999.00,9,    0.20,2,    0.46,3,  10.3170, -999.00
096U20160426,       P15S,      37,          1,         35,       2035,2,20160519,       0614,   -48.9991,  -170.0038,       5267,    26.0,  10.3190,  34.5010,2,  34.5006,2,    269.9,2,   270.6,2,    1.44,2,   10.08,2,    0.31,2,    0.83,2,-999.000,9,-999.000,9,-999.000,9,  -999.0,9,  -999.0,9,-999.0000,9,  -999.00,-999.0000,9, -999.00,9, -999.00,9,  -999.0,9,  -999.0, -999.00,9, -999.00,9,    0.42,2,    0.27,3,  10.3160, -999.00
096U20160426,       P15S,      37,          1,         34,       2034,2,20160519,       0614,   -48.9991,  -170.0038,       5267,    50.4,  10.3150,  34.5010,2,  34.5010,2,    269.5,2,   270.4,2,    1.45,2,   10.14,2,    0.31,2,    0.83,2,   3.225,2,   1.924,2,   2.337,2,  2129.5,2,  2289.5,2,-999.0000,9,  -999.00,-999.0000,9, -999.00,9, -999.00,9,  -999.0,9,  -999.0, -999.00,9, -999.00,9, -999.00,9, -999.00,9,  10.3091, -999.00
096U20160426,       P15S,      37,          1,         33,       2033,2,20160519,       0614,   -48.9991,  -170.0038,       5267,    76.6,  10.2640,  34.4990,2,  34.4913,2,    269.4,2,   270.3,2,    1.51,2,   10.49,2,    0.32,2,    0.85,2,   3.237,2,   1.941,2,   2.349,2,  2097.7,2,  2288.7,2,-999.0000,9,  -999.00,-999.0000,9, -999.00,9, -999.00,9,  -999.0,9,  -999.0, -999.00,9, -999.00,9,    0.17,2,    0.41,3,  10.2551, -999.00
096U20160426,       P15S,      37,          1,         32,       2032,2,20160519,       0614,   -48.9991,  -170.0038,       5267,    99.4,   9.7960,  34.4660,2,  34.4613,2,    268.0,2,   268.9,2,    2.00,2,   12.52,2,    0.28,2,    0.97,2,   3.333,2,   1.988,2,   2.353,2,  2099.9,2,  2287.7,2,-999.0000,9,  -999.00,-999.0000,9, -999.00,9, -999.00,9,  -999.0,9,  -999.0, -999.00,9, -999.00,9,    0.16,2,    0.15,3,   9.7847, -999.00
096U20160426,       P15S,      37,          1,         31,       2031,2,20160519,       0614,   -48.9991,  -170.0038,       5267,   150.1,   9.5360,  34.6620,2,  34.6528,2,    245.3,2,   245.9,2,    3.51,2,   14.55,2,    0.02,4,    1.06,2,   3.332,2,   1.954,2,   2.069,2,  2108.3,2,  2289.9,2,-999.0000,9,  -999.00,-999.0000,9, -999.00,9, -999.00,9,  -999.0,9,  -999.0, -999.00,9, -999.00,9,    0.01,2,    0.06,3,   9.5192, -999.00
096U20160426,       P15S,      37,          1,         30,       2030,2,20160519,       0614,   -48.9991,  -170.0038,       5267,   201.8,   8.9630,  34.5830,2,  34.5766,2,    245.3,2,   246.7,2,    4.26,2,   16.39,2,    0.01,4,    1.17,2,   3.414,6,   1.979,6,   2.071,6,  2132.7,2,  2288.1,2,-999.0000,9,  -999.00,-999.0000,9, -999.00,9, -999.00,9,  -999.0,9,  -999.0, -999.00,9, -999.00,9, -999.00,9, -999.00,9,   8.9412, -999.00
096U20160426,       P15S,      37,          1,         29,       2029,2,20160519,       0614,   -48.9991,  -170.0038,       5267,   251.3,   8.4190,  34.5120,2,  34.5110,2,    252.8,2,   253.8,2,    4.43,2,   17.22,2,    0.01,4,    1.22,2,-999.000,9,-999.000,9,-999.000,9,  -999.0,9,  -999.0,9,-999.0000,9,  -999.00,-999.0000,9, -999.00,9, -999.00,9,  -999.0,9,  -999.0, -999.00,9, -999.00,9, -999.00,9, -999.00,9,   8.3929, -999.00
096U20160426,       P15S,      37,          1,         28,       2028,2,20160519,       0614,   -48.9991,  -170.0038,       5267,   301.0,   8.0780,  34.4730,2,  34.4684,2,    252.5,2,   253.8,2,    5.11,2,   18.37,2,    0.01,4,    1.29,2,   3.564,2,   2.060,2,   2.018,2,  2137.4,2,  2284.7,6,-999.0000,9,  -999.00,-999.0000,9, -999.00,9, -999.00,9,  -999.0,9,  -999.0, -999.00,9, -999.00,9, -999.00,9, -999.00,9,   8.0474, -999.00
096U20160426,       P15S,      37,          1,         27,       2027,2,20160519,       0614,   -48.9991,  -170.0038,       5267,   350.0,   7.8300,  34.4450,2,  34.4417,2,    254.1,2,   255.6,2,    5.53,2,   18.97,2,    0.01,4,    1.33,2,-999.000,9,-999.000,9,-999.000,9,  -999.0,9,  -999.0,9,-999.0000,9,  -999.00,-999.0000,9, -999.00,9, -999.00,9,  -999.0,9,  -999.0, -999.00,9, -999.00,9, -999.00,9, -999.00,9,   7.7950, -999.00
096U20160426,       P15S,      37,          1,         26,       2026,2,20160519,       0614,   -48.9991,  -170.0038,       5267,   400.8,   7.6060,  34.4210,2,  34.4181,2,    256.8,2,   258.1,2,    5.75,2,   19.31,2,    0.01,4,    1.36,2,   3.693,2,   2.088,2,   2.023,2,  2138.4,2,  2283.9,2,-999.0000,9,  -999.00,-999.0000,9, -999.00,9, -999.00,9,  -999.0,9,  -999.0, -999.00,9, -999.00,9, -999.00,9, -999.00,9,   7.5664, -999.00
096U20160426,       P15S,      37,          1,         25,       2025,2,20160519,       0614,   -48.9991,  -170.0038,       5267,   501.2,   7.2680,  34.3930,2,  34.3918,2,    255.4,2,   257.1,2,    6.91,2,   20.33,2,    0.01,4,    1.42,2,   3.615,2,   2.056,2,   1.988,2,  2143.4,2,  2284.2,2,-999.0000,9,  -999.00,-999.0000,9, -999.00,9, -999.00,9,  -999.0,9,  -999.0, -999.00,9, -999.00,9, -999.00,9, -999.00,9,   7.2195, -999.00
096U20160426,       P15S,      37,          1,         24,       2024,2,20160519,       0614,   -48.9991,  -170.0038,       5267,   600.2,   6.9580,  34.3770,2,  34.3709,2,    240.8,2,   243.6,2,    9.29,2,   22.35,2,    0.01,4,    1.55,2,   3.437,2,   1.906,2,   1.625,2,  2147.1,2,  2283.2,2,-999.0000,9,  -999.00,-999.0000,9, -999.00,9, -999.00,9,  -999.0,9,  -999.0, -999.00,9, -999.00,9, -999.00,9, -999.00,9,   6.9009, -999.00
096U20160426,       P15S,      37,          1,         23,       2023,2,20160519,       0614,   -48.9991,  -170.0038,       5267,   700.9,   6.3590,  34.3330,2,  34.3339,2,    234.9,2,   236.4,2,   12.48,2,   24.31,2,    0.00,4,    1.67,2,   3.292,2,   1.788,2,     1.4,2,  2156.4,2,  2285.1,2,-999.0000,9,  -999.00,-999.0000,9, -999.00,9, -999.00,9,  -999.0,9,  -999.0, -999.00,9, -999.00,9, -999.00,9, -999.00,9,   6.2951, -999.00
096U20160426,       P15S,      37,          1,         22,       2022,2,20160519,       0614,   -48.9991,  -170.0038,       5267,   799.7,   6.0530,  34.3370,2,  34.3372,2,    223.9,2,   224.9,2,   16.01,2,   26.03,2,    0.00,4,    1.78,2,   2.926,2,   1.579,2,    1.13,2,  2167.2,2,  2286.7,6,-999.0000,9,  -999.00,-999.0000,9, -999.00,9, -999.00,9,  -999.0,9,  -999.0, -999.00,9, -999.00,9, -999.00,9, -999.00,9,   5.9813, -999.00
096U20160426,       P15S,      37,          1,         21,       2021,2,20160519,       0614,   -48.9991,  -170.0038,       5267,   901.1,   5.5070,  34.3250,2,  34.3268,2,    216.8,2,   217.3,2,   20.80,2,   27.78,2,    0.01,4,    1.90,2,   2.701,2,   1.427,2,   0.928,2,  2177.8,2,  2289.8,2,-999.0000,9,  -999.00,-999.0000,9, -999.00,9, -999.00,9,  -999.0,9,  -999.0, -999.00,9, -999.00,9, -999.00,9, -999.00,9,   5.4293, -999.00
096U20160426,       P15S,      37,          1,         20,       2020,2,20160519,       0614,   -48.9991,  -170.0038,       5267,  1000.0,   5.0010,  34.3310,2,  34.3328,2,    208.4,2,   209.0,2,   26.87,2,   29.42,2,    0.00,4,    2.02,2,   2.354,2,   1.238,2,   0.684,2,  2186.3,2,  2293.5,2,-999.0000,9,  -999.00,-999.0000,9, -999.00,9, -999.00,9,  -999.0,9,  -999.0, -999.00,9, -999.00,9, -999.00,9, -999.00,9,   4.9179, -999.00
096U20160426,       P15S,      37,          1,         19,       2019,2,20160519,       0614,   -48.9991,  -170.0038,       5267,  1100.1,   4.4150,  34.3360,2,  34.3363,2,    202.7,2,   204.1,2,   33.78,2,   30.91,2,    0.00,4,    2.13,2,-999.000,9,-999.000,9,-999.000,9,  -999.0,9,  -999.0,9,-999.0000,9,  -999.00,-999.0000,9, -999.00,9, -999.00,9,  -999.0,9,  -999.0, -999.00,9, -999.00,9, -999.00,9, -999.00,9,   4.3277, -999.00
096U20160426,       P15S,      37,          1,         18,       2018,2,20160519,       0614,   -48.9991,  -170.0038,       5267,  1199.3,   3.8640,  34.3470,2,  34.3475,2,    198.6,2,   199.2,2,   40.70,2,   32.14,2,    0.00,4,    2.22,2,   1.993,6,   1.022,6,    0.55,6,  2211.0,6,  2304.8,6,-999.0000,9,  -999.00,-999.0000,9, -999.00,9, -999.00,9,  -999.0,9,  -999.0, -999.00,9, -999.00,9, -999.00,9, -999.00,9,   3.7730, -999.00
096U20160426,       P15S,      37,          1,         17,       2017,2,20160519,       0614,   -48.9991,  -170.0038,       5267,  1299.6,   3.5120,  34.3800,2,  34.3811,2,    191.9,2,   192.2,2,   48.20,2,   33.02,2,    0.00,4,    2.28,2,-999.000,9,-999.000,9,-999.000,9,  -999.0,9,  -999.0,9,-999.0000,9,  -999.00,-999.0000,9, -999.00,9, -999.00,9,  -999.0,9,  -999.0, -999.00,9, -999.00,9, -999.00,9, -999.00,9,   3.4159, -999.00
096U20160426,       P15S,      37,          1,         16,       2016,2,20160519,       0614,   -48.9991,  -170.0038,       5267,  1399.7,   3.2330,  34.4210,2,  34.4222,2,    185.0,2,   185.2,2,   55.32,2,   33.70,2,    0.00,4,    2.33,2,   1.334,2,   0.681,2,    0.34,2,  2234.0,2,  2319.0,2,-999.0000,9,  -999.00,-999.0000,9, -999.00,9, -999.00,9,  -999.0,9,  -999.0, -999.00,9, -999.00,9, -999.00,9, -999.00,9,   3.1313, -999.00
096U20160426,       P15S,      37,          1,         15,       2015,2,20160519,       0614,   -48.9991,  -170.0038,       5267,  1600.7,   2.8910,  34.4930,2,  34.4944,2,    176.3,2,   176.0,2,   65.99,2,   34.24,2,    0.00,4,    2.37,2,   0.883,2,   0.449,2,   0.297,2,  2245.8,2,  2329.8,2,-999.0000,9,  -999.00,-999.0000,9, -999.00,9, -999.00,9,  -999.0,9,  -999.0, -999.00,9, -999.00,9, -999.00,9, -999.00,9,   2.7762, -999.00
096U20160426,       P15S,      37,          1,         14,       2014,2,20160519,       0614,   -48.9991,  -170.0038,       5267,  1799.5,   2.6890,  34.5640,2,  34.5632,2,    169.6,2,   169.3,2,   76.72,2,   34.28,2,    0.01,4,    2.38,2,-999.000,9,-999.000,9,-999.000,9,  -999.0,9,  -999.0,9,-999.0000,9,  -999.00,-999.0000,9, -999.00,9, -999.00,9,  -999.0,9,  -999.0, -999.00,9, -999.00,9, -999.00,9, -999.00,9,   2.5598, -999.00
096U20160426,       P15S,      37,          1,         13,       2013,2,20160519,       0614,   -48.9991,  -170.0038,       5267,  1999.2,   2.4870,  34.6220,2,  34.6213,2,    169.2,2,   168.9,2,   82.94,2,   33.89,2,    0.00,4,    2.36,2,   0.315,2,   0.161,2,   0.069,2,  2263.9,2,  2349.7,2,-999.0000,9,  -999.00,-999.0000,9, -999.00,9, -999.00,9,  -999.0,9,  -999.0, -999.00,9, -999.00,9, -999.00,9, -999.00,9,   2.3433, -999.00
096U20160426,       P15S,      37,          1,         12,       2012,2,20160519,       0614,   -48.9991,  -170.0038,       5267,  2251.5,   2.3180,  34.6720,2,  34.6717,2,    174.0,2,   174.3,2,   85.11,2,   33.05,2,    0.00,4,    2.29,2,   0.223,2,   0.113,2,       0,2,  2261.5,2,  2350.7,2,-999.0000,9,  -999.00,-999.0000,9, -999.00,9, -999.00,9,  -999.0,9,  -999.0, -999.00,9, -999.00,9, -999.00,9, -999.00,9,   2.1545, -999.00
096U20160426,       P15S,      37,          1,         11,       2011,2,20160519,       0614,   -48.9991,  -170.0038,       5267,  2500.6,   2.1590,  34.7100,2,  34.7098,2,    181.2,2,   181.8,2,   86.60,2,   32.08,2,    0.00,4,    2.22,2,   0.162,2,   0.083,2,       0,2,  2256.2,2,  2351.3,2,-999.0000,9,  -999.00,-999.0000,9, -999.00,9, -999.00,9,  -999.0,9,  -999.0, -999.00,9, -999.00,9, -999.00,9, -999.00,9,   1.9754, -999.00
096U20160426,       P15S,      37,          1,         10,       2010,2,20160519,       0614,   -48.9991,  -170.0038,       5267,  2749.2,   1.9830,  34.7310,2,  34.7297,2,    187.7,2,   189.3,2,   89.49,2,   31.47,2,    0.00,4,    2.18,2,   0.134,2,   0.070,2,       0,2,  2252.2,2,  2352.1,2,-999.0000,9,  -999.00,-999.0000,9, -999.00,9, -999.00,9,  -999.0,9,  -999.0, -999.00,9, -999.00,9, -999.00,9, -999.00,9,   1.7795, -999.00
096U20160426,       P15S,      37,          1,          9,       2009,2,20160519,       0614,   -48.9991,  -170.0038,       5267,  2998.5,   1.8060,  34.7350,2,  34.7346,2,    191.9,2,   193.4,2,   94.21,2,   31.32,2,    0.01,4,    2.17,2,   0.117,2,   0.064,2,       0,2,  2255.5,2,  2355.5,2,-999.0000,9,  -999.00,-999.0000,9, -999.00,9, -999.00,9,  -999.0,9,  -999.0, -999.00,9, -999.00,9, -999.00,9, -999.00,9,   1.5823, -999.00
096U20160426,       P15S,      37,          1,          8,       2008,2,20160519,       0614,   -48.9991,  -170.0038,       5267,  3301.2,   1.5810,  34.7330,2,  34.7347,2,    195.7,2,   197.5,2,  100.94,2,   31.44,2,    0.00,4,    2.18,2,   0.124,2,   0.061,2,       0,2,  2257.0,2,  2358.5,2,-999.0000,9,  -999.00,-999.0000,9, -999.00,9, -999.00,9,  -999.0,9,  -999.0, -999.00,9, -999.00,9, -999.00,9, -999.00,9,   1.3326, -999.00
096U20160426,       P15S,      37,          1,          7,       2007,2,20160519,       0614,   -48.9991,  -170.0038,       5267,  3600.2,   1.3680,  34.7260,2,  34.7263,2,    198.9,2,   201.0,2,  107.39,2,   31.71,2,    0.00,4,    2.20,2,   0.131,2,   0.069,2,       0,2,  2259.3,2,  2360.4,6,-999.0000,9,  -999.00,-999.0000,9, -999.00,9, -999.00,9,  -999.0,9,  -999.0, -999.00,9, -999.00,9, -999.00,9, -999.00,9,   1.0947, -999.00
096U20160426,       P15S,      37,          1,          6,       2006,2,20160519,       0614,   -48.9991,  -170.0038,       5267,  3998.8,   1.1400,  34.7160,2,  34.7158,2,    203.3,2,   204.7,2,  114.19,2,   32.03,2,    0.01,4,    2.22,2,   0.186,2,   0.094,2,   0.034,2,  2258.9,2,  2362.0,2,-999.0000,9,  -999.00,-999.0000,9, -999.00,9, -999.00,9,  -999.0,9,  -999.0, -999.00,9, -999.00,9, -999.00,9, -999.00,9,   0.8311, -999.00
096U20160426,       P15S,      37,          1,          5,       2005,2,20160519,       0614,   -48.9991,  -170.0038,       5267,  4401.6,   1.0180,  34.7100,2,  34.7093,2,    206.2,2,   207.1,2,  118.84,2,   32.22,2,    0.00,4,    2.24,2,   0.230,2,   0.113,2,   0.068,2,  2262.3,2,  2361.0,2,-999.0000,9,  -999.00,-999.0000,9, -999.00,9, -999.00,9,  -999.0,9,  -999.0, -999.00,9, -999.00,9, -999.00,9, -999.00,9,   0.6688, -999.00
096U20160426,       P15S,      37,          1,          4,       2004,2,20160519,       0614,   -48.9991,  -170.0038,       5267,  4801.1,   1.0060,  34.7070,2,  34.7064,2,    207.7,2,   208.2,2,  120.59,2,   32.30,2,    0.00,4,    2.24,2,   0.246,2,   0.124,2,   0.063,2,  2264.5,6,  2363.0,6,-999.0000,9,  -999.00,-999.0000,9, -999.00,9, -999.00,9,  -999.0,9,  -999.0, -999.00,9, -999.00,9, -999.00,9, -999.00,9,   0.6117, -999.00
096U20160426,       P15S,      37,          1,          3,       2003,2,20160519,       0614,   -48.9991,  -170.0038,       5267,  5000.2,   1.0000,  34.7050,2,  34.7053,2,    208.5,2,   208.4,2,  121.47,2,   32.35,2,    0.00,4,    2.25,2,   0.266,2,   0.134,2,   0.084,2,  2264.7,2,  2362.7,2,-999.0000,9,  -999.00,-999.0000,9, -999.00,9, -999.00,9,  -999.0,9,  -999.0, -999.00,9, -999.00,9, -999.00,9, -999.00,9,   0.5825, -999.00
096U20160426,       P15S,      37,          1,          2,       2002,2,20160519,       0614,   -48.9991,  -170.0038,       5267,  5199.4,   1.0100,  34.7040,2,  34.7049,2,    208.7,2,   209.0,2,  121.93,2,   32.36,2,    0.01,4,    2.25,2,   0.285,2,   0.141,2,   0.053,2,  2261.7,2,  2363.6,2,-999.0000,9,  -999.00,-999.0000,9, -999.00,9, -999.00,9,  -999.0,9,  -999.0, -999.00,9, -999.00,9, -999.00,9, -999.00,9,   0.5682, -999.00
096U20160426,       P15S,      37,          1,          1,       2001,2,20160519,       0614,   -48.9991,  -170.0038,       5267,  5339.6,   1.0260,  34.7040,2,  34.7051,2,    208.9,2,   208.9,2,  122.01,2,   32.38,2,    0.00,4,    2.25,2,   0.284,2,   0.143,2,   0.043,2,  2263.2,2,  2363.6,2,-999.0000,9,  -999.00,-999.0000,9, -999.00,9, -999.00,9,  -999.0,9,  -999.0, -999.00,9, -999.00,9, -999.00,9, -999.00,9,   0.5665, -999.00