BOTTLE,20230413CCHSIOENA
EXPOCODE,SECT_ID,STNNBR,CASTNO,SAMPNO,BTLNBR,BTLNBR_FLAG_W,DATE,TIME,LATITUDE,LONGITUDE,DEPTH,CTDPRS,CTDTMP,CTDSAL,CTDSAL_FLAG_W,SALNTY,SALNTY_FLAG_W,CTDOXY,CTDOXY_FLAG_W,OXYGEN,OXYGEN_FLAG_W,SILCAT,SILCAT_FLAG_W,NITRAT,NITRAT_FLAG_W,NITRIT,NITRIT_FLAG_W,PHSPHT,PHSPHT_FLAG_W,CFC-11,CFC-11_FLAG_W,CFC-12,CFC-12_FLAG_W,SF6,SF6_FLAG_W,TCARBN,TCARBN_FLAG_W,ALKALI,ALKALI_FLAG_W,PH_TOT,PH_TOT_FLAG_W,PH_TMP,HELIUM,HELIUM_FLAG_W,DELHE3,DELHE3_FLAG_W,DELC13,DELC13_FLAG_W,DELC14,DELC14_FLAG_W,C14ERR,POC,POC_FLAG_W,PON,PON_FLAG_W,CHLORA,CHLORA_FLAG_W,PPHYTN,PPHYTN_FLAG_W,THETA,DELHER
,,,,,,,,,,,METERS,DBAR,ITS-90,PSS-78,,PSS-78,,UMOL/KG,,UMOL/KG,,UMOL/KG,,UMOL/KG,,UMOL/KG,,UMOL/KG,,PMOL/KG,,PMOL/KG,,FMOL/KG,,UMOL/KG,,UMOL/KG,,,,DEG C,NMOL/KG,,PERCNT,,/MILLE,,/MILLE,,/MILLE,UG/KG,,UG/KG,,UG/KG,,UG/KG,,DEG C,PERCNT
096U20160426,       P15S,      19,          1,         36,       2036,2,20160513,       1603,   -57.9989,  -170.0060,       4432,    14.3,   3.1400,  33.8930,2,  33.8929,2,    320.3,2,   315.2,2,    9.90,2,   25.30,2,    0.26,2,    1.77,2,   5.024,2,   2.642,2,   3.134,2,  2144.0,2,  2272.1,2,   7.7058,2,    25.00,-999.0000,9, -999.00,9, -999.00,9,  -999.0,9,  -999.0, -999.00,9, -999.00,9,    0.27,2,    0.22,3,   3.1391, -999.00
096U20160426,       P15S,      19,          1,         35,       2035,2,20160513,       1603,   -57.9989,  -170.0060,       4432,    24.9,   3.1420,  33.8930,2,  33.8939,2,    320.4,2,   315.1,2,    9.88,2,   25.29,2,    0.26,2,    1.77,2,   5.009,6,   2.660,6,   3.106,6,  2142.1,2,  2272.2,2,   7.7003,2,    25.00,-999.0000,9, -999.00,9, -999.00,9,  -999.0,9,  -999.0, -999.00,9, -999.00,9, -999.00,9, -999.00,9,   3.1405, -999.00
096U20160426,       P15S,      19,          1,         34,       2034,2,20160513,       1603,   -57.9989,  -170.0060,       4432,    48.5,   3.1400,  33.8930,2,  33.8935,2,    320.1,2,   315.2,2,    9.90,2,   25.30,2,    0.26,2,    1.77,2,   5.014,2,   2.655,2,   3.155,2,  2142.7,2,  2273.5,2,   7.7075,2,    25.00,   1.7870,2,   -2.31,2, -999.00,9,  -999.0,9,  -999.0, -999.00,9, -999.00,9,    0.30,2,    0.04,3,   3.1371,    0.82
096U20160426,       P15S,      19,          1,         33,       2033,2,20160513,       1603,   -57.9989,  -170.0060,       4432,    74.9,   3.1280,  33.8940,2,  33.8950,2,    320.2,2,   315.3,2,    9.93,2,   25.32,2,    0.26,2,    1.77,2,   5.029,2,   2.661,2,   3.181,2,  2143.5,2,  2273.2,2,   7.7036,2,    25.00,-999.0000,9, -999.00,9, -999.00,9,  -999.0,9,  -999.0, -999.00,9, -999.00,9,    0.26,2,    0.06,3,   3.1235, -999.00
096U20160426,       P15S,      19,          1,         32,       2032,2,20160513,       1603,   -57.9989,  -170.0060,       4432,   100.8,   3.1230,  33.8940,2,  33.8943,2,    319.7,2,   315.2,2,    9.95,2,   25.33,2,    0.26,2,    1.77,2,   5.032,2,   2.659,2,   3.104,2,  2143.2,2,  2274.2,2,   7.7077,2,    25.00,-999.0000,9, -999.00,9, -999.00,9,  -999.0,9,  -999.0, -999.00,9, -999.00,9,    0.23,2,    0.08,3,   3.1169, -999.00
096U20160426,       P15S,      19,          1,         31,       2031,2,20160513,       1603,   -57.9989,  -170.0060,       4432,   148.4,   3.1170,  33.8960,2,  33.8960,2,    319.1,2,   315.1,2,   10.02,2,   25.32,2,    0.26,2,    1.77,2,   4.997,2,   2.644,2,   3.048,2,  2142.8,2,  2273.5,2,   7.7055,2,    25.00,-999.0000,9, -999.00,9, -999.00,9,  -999.0,9,  -999.0, -999.00,9, -999.00,9,    0.18,2,    0.15,3,   3.1079, -999.00
096U20160426,       P15S,      19,          1,         30,       2030,2,20160513,       1603,   -57.9989,  -170.0060,       4432,   199.3,   2.3670,  33.9950,2,  33.9921,2,    300.5,2,   298.1,2,   19.00,2,   28.35,2,    0.01,4,    1.94,2,   4.941,2,   2.597,2,    2.87,2,  2165.4,2,  2277.8,2,   7.6571,2,    25.00,-999.0000,9, -999.00,9, -999.00,9,  -999.0,9,  -999.0, -999.00,9, -999.00,9, -999.00,9, -999.00,9,   2.3559, -999.00
096U20160426,       P15S,      19,          1,         29,       2029,2,20160513,       1603,   -57.9989,  -170.0060,       4432,   247.1,   2.2260,  34.0100,2,  34.0095,2,    298.0,2,   293.7,2,   21.34,2,   28.70,2,    0.01,4,    1.96,2,   4.840,2,   2.552,2,   2.632,2,  2171.3,2,  2280.0,6,   7.6545,2,    25.00,-999.0000,9, -999.00,9, -999.00,9,  -999.0,9,  -999.0, -999.00,9, -999.00,9, -999.00,9, -999.00,9,   2.2125, -999.00
096U20160426,       P15S,      19,          1,         28,       2028,2,20160513,       1603,   -57.9989,  -170.0060,       4432,   298.6,   2.6000,  34.0910,2,  34.0923,2,    271.6,2,   267.3,2,   26.75,2,   29.98,2,    0.01,4,    2.04,2,   4.238,2,   2.200,2,   2.085,2,  2183.8,2,  2283.4,2,   7.6288,2,    25.00,-999.0000,9, -999.00,9, -999.00,9,  -999.0,9,  -999.0, -999.00,9, -999.00,9, -999.00,9, -999.00,9,   2.5826, -999.00
096U20160426,       P15S,      19,          1,         27,       2027,2,20160513,       1603,   -57.9989,  -170.0060,       4432,   348.6,   2.8790,  34.1780,2,  34.1794,2,    245.3,2,   240.7,2,   32.87,2,   31.27,2,    0.00,4,    2.13,2,   3.637,2,   1.830,2,   1.544,2,  2195.1,2,  2291.7,2,   7.6050,2,    25.00,-999.0000,9, -999.00,9, -999.00,9,  -999.0,9,  -999.0, -999.00,9, -999.00,9, -999.00,9, -999.00,9,   2.8577, -999.00
096U20160426,       P15S,      19,          1,         26,       2026,2,20160513,       1603,   -57.9989,  -170.0060,       4432,   399.4,   3.0050,  34.2440,2,  34.2437,2,    225.9,2,   222.1,2,   38.32,2,   32.26,2,    0.01,4,    2.20,2,   3.056,2,   1.541,2,   1.165,2,  2206.2,2,  2298.5,2,   7.5893,2,    25.00,-999.0000,9, -999.00,9, -999.00,9,  -999.0,9,  -999.0, -999.00,9, -999.00,9, -999.00,9, -999.00,9,   2.9799, -999.00
096U20160426,       P15S,      19,          1,         25,       2025,2,20160513,       1603,   -57.9989,  -170.0060,       4432,   497.5,   2.9270,  34.3190,2,  34.3173,2,    207.5,2,   203.2,2,   46.79,2,   33.39,2,    0.00,4,    2.29,2,   2.391,2,   1.189,2,   0.789,2,  2222.2,6,  2304.7,6,   7.5710,2,    25.00,-999.0000,9, -999.00,9, -999.00,9,  -999.0,9,  -999.0, -999.00,9, -999.00,9, -999.00,9, -999.00,9,   2.8956, -999.00
096U20160426,       P15S,      19,          1,         24,       2024,2,20160513,       1603,   -57.9989,  -170.0060,       4432,   599.7,   2.7530,  34.3750,2,  34.3751,2,    197.3,2,   193.3,2,   54.00,2,   34.03,2,    0.00,4,    2.34,2,   1.933,2,   0.947,2,   0.632,2,  2232.5,2,  2313.5,2,   7.5611,6,    25.00,   1.8200,2,    4.69,2, -999.00,9,  -999.0,9,  -999.0, -999.00,9, -999.00,9, -999.00,9, -999.00,9,   2.7155,    0.66
096U20160426,       P15S,      19,          1,         23,       2023,2,20160513,       1603,   -57.9989,  -170.0060,       4432,   701.1,   2.6220,  34.4450,2,-999.0000,9,    186.0,2,  -999.0,9, -999.00,9, -999.00,9, -999.00,9, -999.00,9,-999.000,9,-999.000,9,-999.000,9,  -999.0,9,  -999.0,9,-999.0000,9,  -999.00,-999.0000,9, -999.00,9, -999.00,9,  -999.0,9,  -999.0, -999.00,9, -999.00,9, -999.00,9, -999.00,9,   2.5782, -999.00
096U20160426,       P15S,      19,          1,         22,       2022,2,20160513,       1603,   -57.9989,  -170.0060,       4432,   798.5,   2.5970,  34.5100,2,  34.5107,2,    179.2,2,   174.9,2,   67.13,2,   34.35,2,    0.00,4,    2.37,2,   0.967,2,   0.470,2,   0.289,2,  2248.4,2,  2328.1,2,   7.5520,2,    25.00,-999.0000,9, -999.00,9, -999.00,9,  -999.0,9,  -999.0, -999.00,9, -999.00,9, -999.00,9, -999.00,9,   2.5466, -999.00
096U20160426,       P15S,      19,          1,         21,       2021,2,20160513,       1603,   -57.9989,  -170.0060,       4432,   899.6,   2.5020,  34.5590,2,  34.5588,2,    177.1,2,   173.0,2,   70.93,2,   34.12,2,    0.00,4,    2.35,2,   0.750,2,   0.361,2,    0.17,2,  2251.6,2,  2334.3,2,   7.5569,2,    25.00,-999.0000,9, -999.00,9, -999.00,9,  -999.0,9,  -999.0, -999.00,9, -999.00,9, -999.00,9, -999.00,9,   2.4451, -999.00
096U20160426,       P15S,      19,          1,         20,       2020,2,20160513,       1603,   -57.9989,  -170.0060,       4432,   997.1,   2.4370,  34.6040,2,  34.6031,2,    177.3,2,   173.2,2,   74.05,2,   33.61,2,    0.00,4,    2.31,2,   0.542,2,   0.265,2,   0.136,2,  2252.6,2,  2335.1,2,   7.5605,2,    25.00,-999.0000,9, -999.00,9, -999.00,9,  -999.0,9,  -999.0, -999.00,9, -999.00,9, -999.00,9, -999.00,9,   2.3735, -999.00
096U20160426,       P15S,      19,          1,         19,       2019,2,20160513,       1603,   -57.9989,  -170.0060,       4432,  1099.2,   2.3830,  34.6340,2,  34.6354,2,    178.4,2,   174.5,2,   76.04,2,   33.15,2,    0.00,4,    2.28,2,   0.425,2,   0.211,2,    0.18,2,  2256.5,2,  2340.5,2,   7.5700,2,    25.00,   1.8460,2,    9.26,2, -999.00,9,  -999.0,9,  -999.0, -999.00,9, -999.00,9, -999.00,9, -999.00,9,   2.3126,    0.65
096U20160426,       P15S,      19,          1,         18,       2018,2,20160513,       1603,   -57.9989,  -170.0060,       4432,  1201.2,   2.3100,  34.6630,2,  34.6627,2,    180.3,2,   176.5,2,   77.65,2,   32.68,2,    0.00,4,    2.25,2,   0.370,2,   0.180,2,    0.14,2,  2251.7,2,  2341.4,2,   7.5744,2,    25.00,-999.0000,9, -999.00,9, -999.00,9,  -999.0,9,  -999.0, -999.00,9, -999.00,9, -999.00,9, -999.00,9,   2.2327, -999.00
096U20160426,       P15S,      19,          1,         17,       2017,2,20160513,       1603,   -57.9989,  -170.0060,       4432,  1299.4,   2.2590,  34.6830,2,-999.0000,9,    181.9,2,  -999.0,9, -999.00,9, -999.00,9, -999.00,9, -999.00,9,-999.000,9,-999.000,9,-999.000,9,  -999.0,9,  -999.0,9,-999.0000,9,  -999.00,-999.0000,9, -999.00,9, -999.00,9,  -999.0,9,  -999.0, -999.00,9, -999.00,9, -999.00,9, -999.00,9,   2.1748, -999.00
096U20160426,       P15S,      19,          1,         16,       2016,2,20160513,       1603,   -57.9989,  -170.0060,       4432,  1400.1,   2.1920,  34.7020,2,  34.7023,2,    184.4,2,   181.3,2,   81.03,2,   31.92,2,    0.00,4,    2.19,2,   0.246,2,   0.122,2,    0.12,2,  2251.7,2,  2345.7,6,   7.5864,6,    25.00,-999.0000,9, -999.00,9, -999.00,9,  -999.0,9,  -999.0, -999.00,9, -999.00,9, -999.00,9, -999.00,9,   2.1008, -999.00
096U20160426,       P15S,      19,          1,         15,       2015,2,20160513,       1603,   -57.9989,  -170.0060,       4432,  1499.3,   2.1180,  34.7170,2,  34.7168,2,    187.1,2,   184.0,2,   82.88,2,   31.62,2,    0.00,4,    2.17,2,   0.210,2,   0.105,2,   0.071,2,  2253.2,6,  2347.0,6,   7.5926,2,    25.00,-999.0000,9, -999.00,9, -999.00,9,  -999.0,9,  -999.0, -999.00,9, -999.00,9, -999.00,9, -999.00,9,   2.0200, -999.00
096U20160426,       P15S,      19,          1,         14,       2014,2,20160513,       1603,   -57.9989,  -170.0060,       4432,  1601.0,   2.0460,  34.7260,2,  34.7262,2,    189.1,2,   186.4,2,   84.96,2,   31.37,2,    0.00,4,    2.15,2,   0.178,2,   0.088,2,       0,2,  2251.9,2,  2349.0,2,   7.5961,2,    25.00,   1.9830,2,    9.99,2, -999.00,9,  -999.0,9,  -999.0, -999.00,9, -999.00,9, -999.00,9, -999.00,9,   1.9410,    0.66
096U20160426,       P15S,      19,          1,         13,       2013,2,20160513,       1603,   -57.9989,  -170.0060,       4432,  1800.3,   1.9080,  34.7360,2,  34.7357,2,    192.5,2,   190.0,2,   88.60,2,   31.17,2,    0.00,4,    2.14,2,   0.148,2,   0.072,2,   0.046,2,  2251.7,2,  2351.2,2,   7.6021,2,    25.00,-999.0000,9, -999.00,9, -999.00,9,  -999.0,9,  -999.0, -999.00,9, -999.00,9, -999.00,9, -999.00,9,   1.7889, -999.00
096U20160426,       P15S,      19,          1,         12,       2012,2,20160513,       1603,   -57.9989,  -170.0060,       4432,  1999.3,   1.7750,  34.7380,2,  34.7386,2,    195.2,2,   192.8,2,   92.54,2,   31.12,2,    0.00,4,    2.14,2,   0.136,2,   0.067,2,    0.08,2,  2253.2,2,  2354.8,2,   7.6057,2,    25.00,   1.8711,2,   10.36,2, -999.00,9,  -999.0,9,  -999.0, -999.00,9, -999.00,9, -999.00,9, -999.00,9,   1.6417,    0.81
096U20160426,       P15S,      19,          1,         11,       2011,2,20160513,       1603,   -57.9989,  -170.0060,       4432,  2249.8,   1.5750,  34.7360,2,  34.7359,2,    198.1,2,   196.0,2,   98.42,2,   31.25,2,    0.00,4,    2.15,2,   0.124,2,   0.060,2,   0.026,2,  2255.6,2,  2357.7,2,-999.0000,9,  -999.00,-999.0000,9, -999.00,9, -999.00,9,  -999.0,9,  -999.0, -999.00,9, -999.00,9, -999.00,9, -999.00,9,   1.4240, -999.00
096U20160426,       P15S,      19,          1,         10,       2010,2,20160513,       1603,   -57.9989,  -170.0060,       4432,  2501.7,   1.3900,  34.7310,2,  34.7303,2,    200.6,2,   198.9,2,  103.89,2,   31.45,2,    0.00,4,    2.17,2,   0.130,2,   0.063,2,       0,2,  2257.5,2,  2359.7,2,-999.0000,9,  -999.00,   1.8980,2,   10.29,2, -999.00,9,  -999.0,9,  -999.0, -999.00,9, -999.00,9, -999.00,9, -999.00,9,   1.2206,    0.35
096U20160426,       P15S,      19,          1,          9,       2009,2,20160513,       1603,   -57.9989,  -170.0060,       4432,  2749.3,   1.2400,  34.7250,2,  34.7249,2,    202.4,2,   201.1,2,  108.49,2,   31.62,2,    0.00,4,    2.18,2,   0.142,2,   0.069,2,       0,2,  2258.9,6,  2360.8,6,-999.0000,9,  -999.00,-999.0000,9, -999.00,9, -999.00,9,  -999.0,9,  -999.0, -999.00,9, -999.00,9, -999.00,9, -999.00,9,   1.0517, -999.00
096U20160426,       P15S,      19,          1,          8,       2008,2,20160513,       1603,   -57.9989,  -170.0060,       4432,  3002.1,   1.1230,  34.7200,2,  34.7192,2,    204.5,2,   203.1,2,  112.15,2,   31.79,2,    0.00,4,    2.19,2,   0.167,2,   0.080,2,   0.046,2,  2259.8,2,  2362.2,2,-999.0000,9,  -999.00,   1.8100,2,    9.13,2, -999.00,9,  -999.0,9,  -999.0, -999.00,9, -999.00,9, -999.00,9, -999.00,9,   0.9141,    0.34
096U20160426,       P15S,      19,          1,          7,       2007,2,20160513,       1603,   -57.9989,  -170.0060,       4432,  3299.4,   0.9950,  34.7140,2,  34.7132,2,    206.8,2,   205.3,2,  116.29,2,   31.98,2,    0.00,4,    2.21,2,   0.184,2,   0.089,2,   0.052,2,  2260.8,2,  2362.3,2,-999.0000,9,  -999.00,   1.8840,2,    9.49,2, -999.00,9,  -999.0,9,  -999.0, -999.00,9, -999.00,9, -999.00,9, -999.00,9,   0.7610,    0.38
096U20160426,       P15S,      19,          1,          6,       2006,2,20160513,       1603,   -57.9989,  -170.0060,       4432,  3600.0,   0.9150,  34.7090,2,  34.7091,2,    208.3,2,   207.1,2,  119.72,2,   32.09,2,    0.00,4,    2.22,2,   0.205,2,   0.098,2,       0,2,  2263.6,2,  2363.5,2,-999.0000,9,  -999.00,   1.9690,2,    9.65,2, -999.00,9,  -999.0,9,  -999.0, -999.00,9, -999.00,9, -999.00,9, -999.00,9,   0.6535,    0.46
096U20160426,       P15S,      19,          1,          5,       2005,2,20160513,       1603,   -57.9989,  -170.0060,       4432,  3900.1,   0.8760,  34.7060,2,  34.7062,2,    209.5,2,   207.8,2,  122.53,2,   32.21,2,    0.00,4,    2.23,2,   0.218,2,   0.103,2,   0.059,2,  2263.2,2,  2363.7,2,-999.0000,9,  -999.00,   1.8920,2,    9.28,2, -999.00,9,  -999.0,9,  -999.0, -999.00,9, -999.00,9, -999.00,9, -999.00,9,   0.5850,    0.46
096U20160426,       P15S,      19,          1,          4,       2004,2,20160513,       1603,   -57.9989,  -170.0060,       4432,  4058.6,   0.8780,  34.7050,2,  34.7059,2,    209.5,2,   207.8,2,  123.61,2,   32.26,2,    0.00,4,    2.23,2,   0.227,6,   0.110,6,   0.069,6,  2264.0,2,  2364.1,2,-999.0000,9,  -999.00,-999.0000,9, -999.00,9, -999.00,9,  -999.0,9,  -999.0, -999.00,9, -999.00,9, -999.00,9, -999.00,9,   0.5703, -999.00
096U20160426,       P15S,      19,          1,          3,       2003,2,20160513,       1603,   -57.9989,  -170.0060,       4432,  4222.0,   0.8900,  34.7050,2,  34.7056,2,    209.6,2,   207.8,2,  124.14,2,   32.31,2,    0.00,4,    2.23,2,   0.231,2,   0.111,2,   0.052,2,  2263.7,2,  2365.3,2,-999.0000,9,  -999.00,   1.8840,2,    9.43,2, -999.00,9,  -999.0,9,  -999.0, -999.00,9, -999.00,9, -999.00,9, -999.00,9,   0.5645,    0.51
096U20160426,       P15S,      19,          1,          2,       2002,2,20160513,       1603,   -57.9989,  -170.0060,       4432,  4319.9,   0.8980,  34.7050,2,  34.7048,2,    209.9,2,   208.3,2,  124.22,2,   32.25,2,    0.00,4,    2.23,2,   0.235,2,   0.116,2,   0.092,2,  2263.5,2,  2364.9,2,-999.0000,9,  -999.00,   1.8910,2,    9.12,2, -999.00,9,  -999.0,9,  -999.0, -999.00,9, -999.00,9, -999.00,9, -999.00,9,   0.5616,    0.49
096U20160426,       P15S,      19,          1,          1,       2001,2,20160513,       1603,   -57.9989,  -170.0060,       4432,  4419.2,   0.9090,  34.7040,2,  34.7042,2,    209.9,2,   208.1,2,  124.05,2,   32.32,2,    0.00,4,    2.23,2,   0.244,2,   0.116,2,    0.06,2,  2263.2,2,  2364.4,2,-999.0000,9,  -999.00,-999.0000,9, -999.00,9, -999.00,9,  -999.0,9,  -999.0, -999.00,9, -999.00,9, -999.00,9, -999.00,9,   0.5613, -999.00