BOTTLE,20230413CCHSIOENA
EXPOCODE,SECT_ID,STNNBR,CASTNO,SAMPNO,BTLNBR,BTLNBR_FLAG_W,DATE,TIME,LATITUDE,LONGITUDE,DEPTH,CTDPRS,CTDTMP,CTDSAL,CTDSAL_FLAG_W,SALNTY,SALNTY_FLAG_W,CTDOXY,CTDOXY_FLAG_W,OXYGEN,OXYGEN_FLAG_W,SILCAT,SILCAT_FLAG_W,NITRAT,NITRAT_FLAG_W,NITRIT,NITRIT_FLAG_W,PHSPHT,PHSPHT_FLAG_W,CFC-11,CFC-11_FLAG_W,CFC-12,CFC-12_FLAG_W,SF6,SF6_FLAG_W,TCARBN,TCARBN_FLAG_W,ALKALI,ALKALI_FLAG_W,PH_TOT,PH_TOT_FLAG_W,PH_TMP,HELIUM,HELIUM_FLAG_W,DELHE3,DELHE3_FLAG_W,DELC13,DELC13_FLAG_W,DELC14,DELC14_FLAG_W,C14ERR,POC,POC_FLAG_W,PON,PON_FLAG_W,CHLORA,CHLORA_FLAG_W,PPHYTN,PPHYTN_FLAG_W,THETA,DELHER
,,,,,,,,,,,METERS,DBAR,ITS-90,PSS-78,,PSS-78,,UMOL/KG,,UMOL/KG,,UMOL/KG,,UMOL/KG,,UMOL/KG,,UMOL/KG,,PMOL/KG,,PMOL/KG,,FMOL/KG,,UMOL/KG,,UMOL/KG,,,,DEG C,NMOL/KG,,PERCNT,,/MILLE,,/MILLE,,/MILLE,UG/KG,,UG/KG,,UG/KG,,UG/KG,,DEG C,PERCNT
096U20160426,       P15S,      98,          1,         36,       2036,2,20160613,       0023,   -19.9981,  -170.0022,       5330,     4.3,  25.3940,  35.6380,2,  35.6373,2,    206.9,2,   205.7,2,    0.22,2,   -0.04,4,    0.01,4,    0.11,2,   1.614,6,   1.025,6,   1.351,6,  2002.9,2,  2342.1,2,-999.0000,9,  -999.00,-999.0000,9, -999.00,9, -999.00,9,  -999.0,9,  -999.0, -999.00,9, -999.00,9, -999.00,9, -999.00,9,  25.3931, -999.00
096U20160426,       P15S,      98,          1,         35,       2035,2,20160613,       0023,   -19.9981,  -170.0022,       5330,    21.3,  25.3100,  35.6390,2,  35.6373,2,    207.1,2,   205.6,2,    0.19,4,   -0.04,4,    0.01,4,    0.11,2,-999.000,9,-999.000,9,-999.000,9,  -999.0,9,  -999.0,9,-999.0000,9,  -999.00,-999.0000,9, -999.00,9, -999.00,9,  -999.0,9,  -999.0, -999.00,9, -999.00,9, -999.00,9, -999.00,9,  25.3053, -999.00
096U20160426,       P15S,      98,          1,         34,       2034,2,20160613,       0023,   -19.9981,  -170.0022,       5330,    40.2,  25.2820,  35.6420,2,  35.6432,2,    206.7,2,   205.7,2,    0.20,2,   -0.04,4,    0.01,4,    0.11,2,-999.000,9,-999.000,9,-999.000,9,  -999.0,9,  -999.0,9,-999.0000,9,  -999.00,-999.0000,9, -999.00,9, -999.00,9,  -999.0,9,  -999.0, -999.00,9, -999.00,9, -999.00,9, -999.00,9,  25.2732, -999.00
096U20160426,       P15S,      98,          1,         33,       2033,2,20160613,       0023,   -19.9981,  -170.0022,       5330,    65.2,  25.2370,  35.6510,2,  35.6511,2,    207.1,2,   205.8,2,    0.20,2,   -0.04,4,    0.01,4,    0.11,2,   1.609,2,   1.031,2,   1.369,2,  2005.0,2,  2343.3,2,-999.0000,9,  -999.00,-999.0000,9, -999.00,9, -999.00,9,  -999.0,9,  -999.0, -999.00,9, -999.00,9, -999.00,9, -999.00,9,  25.2227, -999.00
096U20160426,       P15S,      98,          1,         32,       2032,2,20160613,       0023,   -19.9981,  -170.0022,       5330,    90.4,  25.2070,  35.6440,2,  35.6559,2,    206.6,2,   206.2,2,    0.14,4,   -0.04,4,    0.01,4,    0.09,2,   1.643,2,   1.032,2,    1.35,2,  2005.8,6,  2342.4,6,-999.0000,9,  -999.00,-999.0000,9, -999.00,9, -999.00,9,  -999.0,9,  -999.0, -999.00,9, -999.00,9, -999.00,9, -999.00,9,  25.1872, -999.00
096U20160426,       P15S,      98,          1,         31,       2031,2,20160613,       0023,   -19.9981,  -170.0022,       5330,   125.4,  24.7920,  35.6330,2,  35.7320,2,    208.1,2,   201.8,2,    0.15,4,    0.00,2,    0.02,2,    0.12,2,   1.695,2,   1.070,2,   1.379,2,  2020.4,2,  2347.4,6,-999.0000,9,  -999.00,-999.0000,9, -999.00,9, -999.00,9,  -999.0,9,  -999.0, -999.00,9, -999.00,9, -999.00,9, -999.00,9,  24.7649, -999.00
096U20160426,       P15S,      98,          1,         30,       2030,2,20160613,       0023,   -19.9981,  -170.0022,       5330,   185.8,  21.4080,  35.7500,2,  35.7433,2,    193.2,2,   193.0,2,    0.21,2,    1.57,2,    0.05,2,    0.19,2,   1.945,2,   1.221,2,   1.414,2,  2060.1,2,  2343.0,2,-999.0000,9,  -999.00,-999.0000,9, -999.00,9, -999.00,9,  -999.0,9,  -999.0, -999.00,9, -999.00,9, -999.00,9, -999.00,9,  21.3718, -999.00
096U20160426,       P15S,      98,          1,         29,       2029,2,20160613,       0023,   -19.9981,  -170.0022,       5330,   235.5,  19.9630,  35.6930,2,  35.6672,2,    182.5,2,   185.6,2,    0.40,2,    3.38,2,    0.02,2,    0.31,2,-999.000,9,-999.000,9,-999.000,9,  -999.0,9,  -999.0,9,-999.0000,9,  -999.00,-999.0000,9, -999.00,9, -999.00,9,  -999.0,9,  -999.0, -999.00,9, -999.00,9, -999.00,9, -999.00,9,  19.9193, -999.00
096U20160426,       P15S,      98,          1,         28,       2028,2,20160613,       0023,   -19.9981,  -170.0022,       5330,   285.5,  18.3390,  35.5570,2,  35.5329,2,    195.6,2,   195.6,2,    0.50,2,    3.55,2,    0.02,2,    0.31,2,   2.200,2,   1.371,2,   1.433,2,  2081.6,2,  2327.7,2,-999.0000,9,  -999.00,-999.0000,9, -999.00,9, -999.00,9,  -999.0,9,  -999.0, -999.00,9, -999.00,9, -999.00,9, -999.00,9,  18.2891, -999.00
096U20160426,       P15S,      98,          1,         27,       2027,2,20160613,       0023,   -19.9981,  -170.0022,       5330,   334.8,  16.8320,  35.3970,2,  35.3720,2,    192.3,2,   192.1,2,    0.96,2,    5.47,2,    0.02,4,    0.44,2,-999.000,9,-999.000,9,-999.000,9,  -999.0,9,  -999.0,9,-999.0000,9,  -999.00,-999.0000,9, -999.00,9, -999.00,9,  -999.0,9,  -999.0, -999.00,9, -999.00,9, -999.00,9, -999.00,9,  16.7768, -999.00
096U20160426,       P15S,      98,          1,         26,       2026,2,20160613,       0023,   -19.9981,  -170.0022,       5330,   375.2,  15.3020,  35.2420,2,  35.1081,2,    186.5,2,   184.9,2,    2.25,2,    9.30,2,    0.01,4,    0.72,2,   2.492,2,   1.442,2,   1.056,2,  2110.1,2,  2306.1,2,-999.0000,9,  -999.00,-999.0000,9, -999.00,9, -999.00,9,  -999.0,9,  -999.0, -999.00,9, -999.00,9, -999.00,9, -999.00,9,  15.2440, -999.00
096U20160426,       P15S,      98,          1,         25,       2025,2,20160613,       0023,   -19.9981,  -170.0022,       5330,   466.3,  11.1560,  34.7700,2,  34.7263,2,    198.0,2,   198.3,2,    4.05,2,   15.54,2,    0.01,4,    1.10,2,   2.863,2,   1.569,2,   0.969,2,  2132.3,2,  2289.0,2,-999.0000,9,  -999.00,-999.0000,9, -999.00,9, -999.00,9,  -999.0,9,  -999.0, -999.00,9, -999.00,9, -999.00,9, -999.00,9,  11.0975, -999.00
096U20160426,       P15S,      98,          1,         24,       2024,2,20160613,       0023,   -19.9981,  -170.0022,       5330,   566.5,   7.7580,  34.4230,2,  34.4143,2,    201.2,2,   202.6,2,    9.49,2,   23.14,2,    0.01,4,    1.61,2,   2.593,2,   1.336,2,   0.621,2,  2158.0,2,  2280.8,2,-999.0000,9,  -999.00,-999.0000,9, -999.00,9, -999.00,9,  -999.0,9,  -999.0, -999.00,9, -999.00,9, -999.00,9, -999.00,9,   7.7008, -999.00
096U20160426,       P15S,      98,          1,         23,       2023,2,20160613,       0023,   -19.9981,  -170.0022,       5330,   666.3,   6.2640,  34.3540,2,  34.3497,2,    200.1,2,   202.7,2,   15.40,2,   26.82,2,    0.01,4,    1.83,2,   1.844,2,   0.924,2,   0.274,2,  2171.9,2,  2284.0,2,-999.0000,9,  -999.00,-999.0000,9, -999.00,9, -999.00,9,  -999.0,9,  -999.0, -999.00,9, -999.00,9, -999.00,9, -999.00,9,   6.2038, -999.00
096U20160426,       P15S,      98,          1,         22,       2022,2,20160613,       0023,   -19.9981,  -170.0022,       5330,   765.7,   5.4300,  34.3750,2,  34.3740,2,    177.0,2,   177.9,2,   28.07,2,   30.46,2,    0.01,4,    2.09,2,   0.720,2,   0.378,2,   0.102,2,  2196.8,2,  2294.5,6,-999.0000,9,  -999.00,-999.0000,9, -999.00,9, -999.00,9,  -999.0,9,  -999.0, -999.00,9, -999.00,9, -999.00,9, -999.00,9,   5.3651, -999.00
096U20160426,       P15S,      98,          1,         21,       2021,2,20160613,       0023,   -19.9981,  -170.0022,       5330,   865.0,   4.8110,  34.3940,2,  34.3912,2,    168.5,2,   168.9,2,   38.21,2,   32.17,2,    0.01,4,    2.21,2,   0.356,2,   0.186,2,       0,2,  2212.7,2,  2305.2,2,-999.0000,9,  -999.00,-999.0000,9, -999.00,9, -999.00,9,  -999.0,9,  -999.0, -999.00,9, -999.00,9, -999.00,9, -999.00,9,   4.7412, -999.00
096U20160426,       P15S,      98,          1,         20,       2020,2,20160613,       0023,   -19.9981,  -170.0022,       5330,   965.8,   4.2200,  34.4300,2,  34.4290,2,    160.6,2,   160.6,2,   50.80,2,   33.49,2,    0.01,4,    2.32,2,   0.133,2,   0.072,2,       0,2,  2230.0,2,  2317.1,2,-999.0000,9,  -999.00,-999.0000,9, -999.00,9, -999.00,9,  -999.0,9,  -999.0, -999.00,9, -999.00,9, -999.00,9, -999.00,9,   4.1456, -999.00
096U20160426,       P15S,      98,          1,         19,       2019,2,20160613,       0023,   -19.9981,  -170.0022,       5330,  1064.6,   3.8060,  34.4590,2,  34.4591,2,    157.5,2,   157.7,2,   60.48,2,   34.11,2,    0.01,4,    2.36,2,   0.059,2,   0.036,2,       0,2,  2244.5,2,  2328.2,2,-999.0000,9,  -999.00,-999.0000,9, -999.00,9, -999.00,9,  -999.0,9,  -999.0, -999.00,9, -999.00,9, -999.00,9, -999.00,9,   3.7266, -999.00
096U20160426,       P15S,      98,          1,         18,       2018,2,20160613,       0023,   -19.9981,  -170.0022,       5330,  1164.6,   3.3840,  34.4920,2,  34.4924,2,    156.4,2,   156.5,2,   70.78,2,   34.49,2,    0.01,4,    2.39,2,   0.024,2,   0.016,2,       0,2,  2254.1,2,  2339.2,2,-999.0000,9,  -999.00,-999.0000,9, -999.00,9, -999.00,9,  -999.0,9,  -999.0, -999.00,9, -999.00,9, -999.00,9, -999.00,9,   3.3000, -999.00
096U20160426,       P15S,      98,          1,         17,       2017,2,20160613,       0023,   -19.9981,  -170.0022,       5330,  1262.6,   3.0240,  34.5240,2,  34.5244,2,    156.0,2,   156.2,2,   79.64,2,   34.70,2,    0.01,4,    2.40,2,   0.013,2,   0.008,2,       0,2,  2264.2,2,  2349.2,6,-999.0000,9,  -999.00,-999.0000,9, -999.00,9, -999.00,9,  -999.0,9,  -999.0, -999.00,9, -999.00,9, -999.00,9, -999.00,9,   2.9354, -999.00
096U20160426,       P15S,      98,          1,         16,       2016,2,20160613,       0023,   -19.9981,  -170.0022,       5330,  1365.0,   2.7920,  34.5610,2,  34.5589,2,    151.8,2,   152.5,2,   89.32,2,   34.96,2,    0.01,4,    2.43,2,   0.006,2,   0.004,2,       0,2,  2275.0,2,  2361.3,2,-999.0000,9,  -999.00,-999.0000,9, -999.00,9, -999.00,9,  -999.0,9,  -999.0, -999.00,9, -999.00,9, -999.00,9, -999.00,9,   2.6975, -999.00
096U20160426,       P15S,      98,          1,         15,       2015,2,20160613,       0023,   -19.9981,  -170.0022,       5330,  1534.8,   2.5930,  34.5950,2,  34.5925,2,    146.0,2,   146.6,2,  100.59,2,   35.36,2,    0.00,4,    2.47,2,   0.019,2,   0.005,2,       0,2,  2291.6,2,  2374.2,2,-999.0000,9,  -999.00,-999.0000,9, -999.00,9, -999.00,9,  -999.0,9,  -999.0, -999.00,9, -999.00,9, -999.00,9, -999.00,9,   2.4870, -999.00
096U20160426,       P15S,      98,          1,         14,       2014,2,20160613,       0023,   -19.9981,  -170.0022,       5330,  1735.1,   2.4370,  34.6120,2,  34.6104,2,    145.4,2,   145.4,2,  107.33,2,   35.41,2,    0.00,4,    2.48,2,   0.007,6,   0.003,6,       0,6,  2296.2,2,  2382.8,2,-999.0000,9,  -999.00,-999.0000,9, -999.00,9, -999.00,9,  -999.0,9,  -999.0, -999.00,9, -999.00,9, -999.00,9, -999.00,9,   2.3165, -999.00
096U20160426,       P15S,      98,          1,         13,       2013,2,20160613,       0023,   -19.9981,  -170.0022,       5330,  1934.6,   2.2840,  34.6260,2,  34.6243,2,    145.4,2,   145.4,2,  112.38,2,   35.54,2,    0.00,4,    2.48,2,-999.000,9,-999.000,9,-999.000,9,  2301.3,2,  2389.0,2,-999.0000,9,  -999.00,-999.0000,9, -999.00,9, -999.00,9,  -999.0,9,  -999.0, -999.00,9, -999.00,9, -999.00,9, -999.00,9,   2.1488, -999.00
096U20160426,       P15S,      98,          1,         12,       2012,2,20160613,       0023,   -19.9981,  -170.0022,       5330,  2166.1,   2.1180,  34.6400,2,  34.6394,2,    145.8,2,   146.0,2,  117.84,2,   35.57,2,    0.00,4,    2.48,2,   0.000,2,   0.001,2,       0,2,  2308.9,6,  2394.2,6,-999.0000,9,  -999.00,-999.0000,9, -999.00,9, -999.00,9,  -999.0,9,  -999.0, -999.00,9, -999.00,9, -999.00,9, -999.00,9,   1.9654, -999.00
096U20160426,       P15S,      98,          1,         11,       2011,2,20160613,       0023,   -19.9981,  -170.0022,       5330,  2415.7,   1.9940,  34.6520,2,  34.6498,2,    145.8,2,   146.6,2,  122.55,2,   35.62,2,    0.00,4,    2.49,2,-999.000,9,-999.000,9,-999.000,9,  2313.4,2,  2399.8,2,-999.0000,9,  -999.00,-999.0000,9, -999.00,9, -999.00,9,  -999.0,9,  -999.0, -999.00,9, -999.00,9, -999.00,9, -999.00,9,   1.8214, -999.00
096U20160426,       P15S,      98,          1,         10,       2010,2,20160613,       0023,   -19.9981,  -170.0022,       5330,  2666.0,   1.8680,  34.6620,2,  34.6605,2,    146.1,2,   146.5,2,  127.62,2,   35.65,2,    0.00,4,    2.49,2,   0.000,2,   0.001,2,       0,2,  2316.5,2,  2405.5,2,-999.0000,9,  -999.00,-999.0000,9, -999.00,9, -999.00,9,  -999.0,9,  -999.0, -999.00,9, -999.00,9, -999.00,9, -999.00,9,   1.6749, -999.00
096U20160426,       P15S,      98,          1,          9,       2009,2,20160613,       0023,   -19.9981,  -170.0022,       5330,  2916.0,   1.7700,  34.6700,2,  34.6670,2,    148.4,2,   148.6,2,  130.40,2,   35.51,2,    0.00,4,    2.48,2,-999.000,9,-999.000,9,-999.000,9,  -999.0,9,  -999.0,9,-999.0000,9,  -999.00,-999.0000,9, -999.00,9, -999.00,9,  -999.0,9,  -999.0, -999.00,9, -999.00,9, -999.00,9, -999.00,9,   1.5554, -999.00
096U20160426,       P15S,      98,          1,          8,       2008,2,20160613,       0023,   -19.9981,  -170.0022,       5330,  3200.7,   1.6950,  34.6760,2,  34.6736,2,    151.9,2,   151.7,2,  131.88,2,   35.30,2,    0.00,4,    2.46,2,   0.002,2,   0.001,2,       0,2,  2317.8,2,  2408.3,2,-999.0000,9,  -999.00,-999.0000,9, -999.00,9, -999.00,9,  -999.0,9,  -999.0, -999.00,9, -999.00,9, -999.00,9, -999.00,9,   1.4543, -999.00
096U20160426,       P15S,      98,          1,          7,       2007,2,20160613,       0023,   -19.9981,  -170.0022,       5330,  3565.2,   1.5510,  34.6950,2,  34.6931,2,    169.5,2,   170.6,2,  123.08,2,   33.78,2,    0.00,4,    2.34,2,   0.019,2,   0.012,2,       0,2,  2296.2,2,  2391.6,2,-999.0000,9,  -999.00,-999.0000,9, -999.00,9, -999.00,9,  -999.0,9,  -999.0, -999.00,9, -999.00,9, -999.00,9, -999.00,9,   1.2767, -999.00
096U20160426,       P15S,      98,          1,          6,       2006,2,20160613,       0023,   -19.9981,  -170.0022,       5330,  3964.9,   1.3140,  34.7180,2,  34.7156,2,    194.9,2,   197.6,2,  111.51,2,   31.65,2,    0.00,4,    2.18,2,   0.046,2,   0.027,2,       0,2,  2264.3,2,  2364.9,2,-999.0000,9,  -999.00,-999.0000,9, -999.00,9, -999.00,9,  -999.0,9,  -999.0, -999.00,9, -999.00,9, -999.00,9, -999.00,9,   1.0039, -999.00
096U20160426,       P15S,      98,          1,          5,       2005,2,20160613,       0023,   -19.9981,  -170.0022,       5330,  4366.0,   1.1110,  34.7140,2,  34.7120,2,    202.5,2,   204.5,2,  115.53,2,   31.60,2,    0.00,4,    2.17,2,-999.000,9,-999.000,9,-999.000,9,  2261.4,2,  2364.2,2,-999.0000,9,  -999.00,-999.0000,9, -999.00,9, -999.00,9,  -999.0,9,  -999.0, -999.00,9, -999.00,9, -999.00,9, -999.00,9,   0.7629, -999.00
096U20160426,       P15S,      98,          1,          4,       2004,2,20160613,       0023,   -19.9981,  -170.0022,       5330,  4767.1,   1.0560,  34.7110,2,  34.7090,2,    204.9,2,   206.1,2,  118.20,2,   31.72,2,    0.00,4,    2.18,2,   0.090,6,   0.048,6,       0,6,  2264.0,2,  2365.2,2,-999.0000,9,  -999.00,-999.0000,9, -999.00,9, -999.00,9,  -999.0,9,  -999.0, -999.00,9, -999.00,9, -999.00,9, -999.00,9,   0.6640, -999.00
096U20160426,       P15S,      98,          1,          3,       2003,2,20160613,       0023,   -19.9981,  -170.0022,       5330,  5166.9,   1.0700,  34.7090,2,  34.7079,2,    206.4,2,   206.0,2,  119.06,2,   31.76,2,    0.00,4,    2.19,2,-999.000,9,-999.000,9,-999.000,9,  -999.0,9,  -999.0,9,-999.0000,9,  -999.00,-999.0000,9, -999.00,9, -999.00,9,  -999.0,9,  -999.0, -999.00,9, -999.00,9, -999.00,9, -999.00,9,   0.6300, -999.00
096U20160426,       P15S,      98,          1,          2,       2002,2,20160613,       0023,   -19.9981,  -170.0022,       5330,  5301.5,   1.0860,  34.7090,2,  34.7078,2,    206.5,2,   206.3,2,  119.21,2,   31.75,2,    0.00,4,    2.19,2,   0.075,2,   0.041,2,       0,2,  2263.9,6,  2365.6,6,-999.0000,9,  -999.00,-999.0000,9, -999.00,9, -999.00,9,  -999.0,9,  -999.0, -999.00,9, -999.00,9, -999.00,9, -999.00,9,   0.6290, -999.00
096U20160426,       P15S,      98,          1,          1,       2001,2,20160613,       0023,   -19.9981,  -170.0022,       5330,  5418.4,   1.1010,  34.7090,2,  34.7076,2,    206.6,2,   206.2,2,  119.11,2,   31.74,2,    0.00,4,    2.19,2,   0.073,2,   0.040,2,   0.051,2,  2262.4,2,  2365.6,2,-999.0000,9,  -999.00,-999.0000,9, -999.00,9, -999.00,9,  -999.0,9,  -999.0, -999.00,9, -999.00,9, -999.00,9, -999.00,9,   0.6290, -999.00