BOTTLE,20230413CCHSIOENA
EXPOCODE,SECT_ID,STNNBR,CASTNO,SAMPNO,BTLNBR,BTLNBR_FLAG_W,DATE,TIME,LATITUDE,LONGITUDE,DEPTH,CTDPRS,CTDTMP,CTDSAL,CTDSAL_FLAG_W,SALNTY,SALNTY_FLAG_W,CTDOXY,CTDOXY_FLAG_W,OXYGEN,OXYGEN_FLAG_W,SILCAT,SILCAT_FLAG_W,NITRAT,NITRAT_FLAG_W,NITRIT,NITRIT_FLAG_W,PHSPHT,PHSPHT_FLAG_W,CFC-11,CFC-11_FLAG_W,CFC-12,CFC-12_FLAG_W,SF6,SF6_FLAG_W,TCARBN,TCARBN_FLAG_W,ALKALI,ALKALI_FLAG_W,PH_TOT,PH_TOT_FLAG_W,PH_TMP,HELIUM,HELIUM_FLAG_W,DELHE3,DELHE3_FLAG_W,DELC13,DELC13_FLAG_W,DELC14,DELC14_FLAG_W,C14ERR,POC,POC_FLAG_W,PON,PON_FLAG_W,CHLORA,CHLORA_FLAG_W,PPHYTN,PPHYTN_FLAG_W,THETA,DELHER
,,,,,,,,,,,METERS,DBAR,ITS-90,PSS-78,,PSS-78,,UMOL/KG,,UMOL/KG,,UMOL/KG,,UMOL/KG,,UMOL/KG,,UMOL/KG,,PMOL/KG,,PMOL/KG,,FMOL/KG,,UMOL/KG,,UMOL/KG,,,,DEG C,NMOL/KG,,PERCNT,,/MILLE,,/MILLE,,/MILLE,UG/KG,,UG/KG,,UG/KG,,UG/KG,,DEG C,PERCNT
096U20160426,       P15S,     129,          1,         36,       2036,2,20160621,       0840,    -5.5023,  -168.7504,       5476,     5.0,  30.4190,  34.9420,2,  34.9405,2,    185.4,2,   191.4,2,    0.63,2,    0.00,4,    0.00,4,    0.14,2,-999.000,9,-999.000,9,-999.000,9,  1949.6,2,  2297.6,2,-999.0000,9,  -999.00,-999.0000,9, -999.00,9, -999.00,9,  -999.0,9,  -999.0, -999.00,9, -999.00,9,    0.16,2,    0.02,3,  30.4177, -999.00
096U20160426,       P15S,     129,          1,         35,       2035,2,20160621,       0840,    -5.5023,  -168.7504,       5476,    23.6,  30.3800,  34.9400,2,  34.9394,2,    185.8,2,   191.4,2,    0.62,2,   -0.01,4,    0.00,4,    0.14,2,-999.000,9,-999.000,9,-999.000,9,  -999.0,9,  -999.0,9,-999.0000,9,  -999.00,-999.0000,9, -999.00,9, -999.00,9,  -999.0,9,  -999.0, -999.00,9, -999.00,9, -999.00,9, -999.00,9,  30.3741, -999.00
096U20160426,       P15S,     129,          1,         34,       2034,2,20160621,       0840,    -5.5023,  -168.7504,       5476,    50.4,  30.3670,  34.9390,2,  34.9393,2,    186.2,2,   191.4,2,    0.61,2,   -0.01,4,    0.00,4,    0.14,2,-999.000,9,-999.000,9,-999.000,9,  1950.3,2,  2297.1,2,-999.0000,9,  -999.00,-999.0000,9, -999.00,9, -999.00,9,  -999.0,9,  -999.0, -999.00,9, -999.00,9,    0.27,2,   -0.02,3,  30.3544, -999.00
096U20160426,       P15S,     129,          1,         33,       2033,2,20160621,       0840,    -5.5023,  -168.7504,       5476,    74.9,  30.3860,  34.9340,2,  35.1017,2,    185.7,2,   193.8,2,    0.63,2,   -0.01,4,    0.00,4,    0.15,2,-999.000,9,-999.000,9,-999.000,9,  -999.0,9,  -999.0,9,-999.0000,9,  -999.00,-999.0000,9, -999.00,9, -999.00,9,  -999.0,9,  -999.0, -999.00,9, -999.00,9,    0.36,2,   -0.03,3,  30.3672, -999.00
096U20160426,       P15S,     129,          1,         32,       2032,2,20160621,       0840,    -5.5023,  -168.7504,       5476,    95.3,  29.9030,  35.5890,2,  35.6975,2,    190.0,2,   192.5,2,    0.99,2,    0.13,2,    0.04,2,    0.23,2,-999.000,9,-999.000,9,-999.000,9,  2002.8,2,  2351.7,2,-999.0000,9,  -999.00,-999.0000,9, -999.00,9, -999.00,9,  -999.0,9,  -999.0, -999.00,9, -999.00,9,    0.78,2,   -0.11,3,  29.8794, -999.00
096U20160426,       P15S,     129,          1,         31,       2031,2,20160621,       0840,    -5.5023,  -168.7504,       5476,   130.1,  26.4020,  36.2980,2,  36.3290,2,    155.0,2,   158.0,2,    1.24,2,    3.94,2,    0.84,2,    0.56,2,-999.000,9,-999.000,9,-999.000,9,  2091.9,2,  2391.2,2,-999.0000,9,  -999.00,-999.0000,9, -999.00,9, -999.00,9,  -999.0,9,  -999.0, -999.00,9, -999.00,9,    0.68,2,    0.04,3,  26.3725, -999.00
096U20160426,       P15S,     129,          1,         30,       2030,2,20160621,       0840,    -5.5023,  -168.7504,       5476,   199.7,  16.9500,  35.3290,2,  35.2685,2,    100.5,2,    96.7,2,    9.05,2,   17.69,2,    0.00,4,    1.47,2,-999.000,9,-999.000,9,-999.000,9,  2180.7,2,  2324.3,2,-999.0000,9,  -999.00,-999.0000,9, -999.00,9, -999.00,9,  -999.0,9,  -999.0, -999.00,9, -999.00,9, -999.00,9, -999.00,9,  16.9170, -999.00
096U20160426,       P15S,     129,          1,         29,       2029,2,20160621,       0840,    -5.5023,  -168.7504,       5476,   249.9,  12.5710,  34.9200,2,  34.9016,2,     62.2,2,    57.1,2,   18.15,2,   26.30,2,    0.00,4,    2.05,2,-999.000,9,-999.000,9,-999.000,9,  -999.0,9,  -999.0,9,-999.0000,9,  -999.00,-999.0000,9, -999.00,9, -999.00,9,  -999.0,9,  -999.0, -999.00,9, -999.00,9, -999.00,9, -999.00,9,  12.5373, -999.00
096U20160426,       P15S,     129,          1,         28,       2028,2,20160621,       0840,    -5.5023,  -168.7504,       5476,   299.7,  10.7780,  34.7960,2,  34.7795,2,     51.2,2,    50.6,2,   24.79,2,   30.88,2,    0.00,4,    2.25,2,-999.000,9,-999.000,9,-999.000,9,  2236.0,6,  2301.9,6,-999.0000,9,  -999.00,-999.0000,9, -999.00,9, -999.00,9,  -999.0,9,  -999.0, -999.00,9, -999.00,9, -999.00,9, -999.00,9,  10.7414, -999.00
096U20160426,       P15S,     129,          1,         27,       2027,2,20160621,       0840,    -5.5023,  -168.7504,       5476,   349.8,   9.7620,  34.7250,2,  34.7147,2,     79.2,2,    80.7,2,   25.33,2,   30.21,2,    0.00,4,    2.14,2,-999.000,9,-999.000,9,-999.000,9,  -999.0,9,  -999.0,9,-999.0000,9,  -999.00,-999.0000,9, -999.00,9, -999.00,9,  -999.0,9,  -999.0, -999.00,9, -999.00,9, -999.00,9, -999.00,9,   9.7218, -999.00
096U20160426,       P15S,     129,          1,         26,       2026,2,20160621,       0840,    -5.5023,  -168.7504,       5476,   399.8,   9.2420,  34.6880,2,  34.6803,2,     96.4,2,    94.2,2,   25.83,2,   29.97,2,    0.00,4,    2.11,2,-999.000,9,-999.000,9,-999.000,9,  2220.9,2,  2301.3,2,-999.0000,9,  -999.00,-999.0000,9, -999.00,9, -999.00,9,  -999.0,9,  -999.0, -999.00,9, -999.00,9, -999.00,9, -999.00,9,   9.1975, -999.00
096U20160426,       P15S,     129,          1,         25,       2025,2,20160621,       0840,    -5.5023,  -168.7504,       5476,   499.3,   8.1300,  34.6130,2,  34.6081,2,    105.6,2,   101.9,2,   30.62,2,   31.83,2,    0.00,4,    2.22,2,-999.000,9,-999.000,9,-999.000,9,  2227.2,2,  2302.1,2,-999.0000,9,  -999.00,-999.0000,9, -999.00,9, -999.00,9,  -999.0,9,  -999.0, -999.00,9, -999.00,9, -999.00,9, -999.00,9,   8.0783, -999.00
096U20160426,       P15S,     129,          1,         24,       2024,2,20160621,       0840,    -5.5023,  -168.7504,       5476,   599.5,   7.2240,  34.5730,2,  34.5722,2,     99.4,2,    96.7,2,   36.87,2,   33.99,2,    0.00,4,    2.37,2,-999.000,9,-999.000,9,-999.000,9,  -999.0,9,  -999.0,9,-999.0000,9,  -999.00,-999.0000,9, -999.00,9, -999.00,9,  -999.0,9,  -999.0, -999.00,9, -999.00,9, -999.00,9, -999.00,9,   7.1656, -999.00
096U20160426,       P15S,     129,          1,         23,       2023,2,20160621,       0840,    -5.5023,  -168.7504,       5476,   701.6,   6.3850,  34.5460,2,  34.5450,2,     93.0,2,    90.5,2,   46.14,2,   36.31,2,    0.00,4,    2.55,2,-999.000,9,-999.000,9,-999.000,9,  -999.0,9,  -999.0,9,-999.0000,9,  -999.00,-999.0000,9, -999.00,9, -999.00,9,  -999.0,9,  -999.0, -999.00,9, -999.00,9, -999.00,9, -999.00,9,   6.3206, -999.00
096U20160426,       P15S,     129,          1,         22,       2022,2,20160621,       0840,    -5.5023,  -168.7504,       5476,   776.8,   5.8710,  34.5440,2,  34.5426,2,     78.1,2,    71.8,2,   56.23,2,   39.27,2,    0.00,4,    2.76,2,-999.000,9,-999.000,9,-999.000,9,  -999.0,9,  -999.0,9,-999.0000,9,  -999.00,-999.0000,9, -999.00,9, -999.00,9,  -999.0,9,  -999.0, -999.00,9, -999.00,9, -999.00,9, -999.00,9,   5.8023, -999.00
096U20160426,       P15S,     129,          1,         21,       2021,2,20160621,       0840,    -5.5023,  -168.7504,       5476,   901.5,   4.9510,  34.5400,2,  34.5390,2,     87.7,2,    83.9,2,   69.49,2,   39.08,2,    0.00,4,    2.77,2,-999.000,9,-999.000,9,-999.000,9,  -999.0,9,  -999.0,9,-999.0000,9,  -999.00,-999.0000,9, -999.00,9, -999.00,9,  -999.0,9,  -999.0, -999.00,9, -999.00,9, -999.00,9, -999.00,9,   4.8768, -999.00
096U20160426,       P15S,     129,          1,         20,       2020,2,20160621,       0840,    -5.5023,  -168.7504,       5476,   999.9,   4.4260,  34.5470,2,  34.5460,2,     95.6,2,    92.3,2,   78.69,2,   38.61,2,    0.00,4,    2.75,2,-999.000,9,-999.000,9,-999.000,9,  -999.0,9,  -999.0,9,-999.0000,9,  -999.00,-999.0000,9, -999.00,9, -999.00,9,  -999.0,9,  -999.0, -999.00,9, -999.00,9, -999.00,9, -999.00,9,   4.3470, -999.00
096U20160426,       P15S,     129,          1,         19,       2019,2,20160621,       0840,    -5.5023,  -168.7504,       5476,  1101.6,   4.1430,  34.5530,2,  34.5524,2,     99.9,2,    97.2,2,   84.28,2,   38.41,2,    0.00,4,    2.73,2,-999.000,9,-999.000,9,-999.000,9,  -999.0,9,  -999.0,9,-999.0000,9,  -999.00,-999.0000,9, -999.00,9, -999.00,9,  -999.0,9,  -999.0, -999.00,9, -999.00,9, -999.00,9, -999.00,9,   4.0575, -999.00
096U20160426,       P15S,     129,          1,         18,       2018,2,20160621,       0840,    -5.5023,  -168.7504,       5476,  1201.8,   3.7940,  34.5640,2,  34.5633,2,    103.8,2,   101.1,2,   91.88,2,   38.27,2,    0.00,4,    2.72,2,-999.000,9,-999.000,9,-999.000,9,  -999.0,9,  -999.0,9,-999.0000,9,  -999.00,-999.0000,9, -999.00,9, -999.00,9,  -999.0,9,  -999.0, -999.00,9, -999.00,9, -999.00,9, -999.00,9,   3.7030, -999.00
096U20160426,       P15S,     129,          1,         17,       2017,2,20160621,       0840,    -5.5023,  -168.7504,       5476,  1350.9,   3.3210,  34.5820,2,  34.5811,2,    109.6,2,   107.0,2,  102.21,2,   38.05,2,    0.00,4,    2.71,2,-999.000,9,-999.000,9,-999.000,9,  -999.0,9,  -999.0,9,-999.0000,9,  -999.00,-999.0000,9, -999.00,9, -999.00,9,  -999.0,9,  -999.0, -999.00,9, -999.00,9, -999.00,9, -999.00,9,   3.2221, -999.00
096U20160426,       P15S,     129,          1,         16,       2016,2,20160621,       0840,    -5.5023,  -168.7504,       5476,  1500.4,   3.0030,  34.5960,2,  34.5957,2,    114.1,2,   112.3,2,  109.10,2,   37.74,2,    0.00,4,    2.68,2,-999.000,9,-999.000,9,-999.000,9,  -999.0,9,  -999.0,9,-999.0000,9,  -999.00,-999.0000,9, -999.00,9, -999.00,9,  -999.0,9,  -999.0, -999.00,9, -999.00,9, -999.00,9, -999.00,9,   2.8950, -999.00
096U20160426,       P15S,     129,          1,         15,       2015,2,20160621,       0840,    -5.5023,  -168.7504,       5476,  1700.8,   2.6290,  34.6150,2,  34.6110,2,    121.2,2,   120.2,2,  116.16,2,   37.30,2,    0.00,4,    2.64,2,-999.000,9,-999.000,9,-999.000,9,  -999.0,9,  -999.0,9,-999.0000,9,  -999.00,-999.0000,9, -999.00,9, -999.00,9,  -999.0,9,  -999.0, -999.00,9, -999.00,9, -999.00,9, -999.00,9,   2.5088, -999.00
096U20160426,       P15S,     129,          1,         14,       2014,2,20160621,       0840,    -5.5023,  -168.7504,       5476,  1901.1,   2.3570,  34.6320,2,  34.6310,2,    122.8,2,   121.4,2,  124.67,2,   37.36,2,    0.00,4,    2.63,2,-999.000,9,-999.000,9,-999.000,9,  -999.0,9,  -999.0,9,-999.0000,9,  -999.00,-999.0000,9, -999.00,9, -999.00,9,  -999.0,9,  -999.0, -999.00,9, -999.00,9, -999.00,9, -999.00,9,   2.2236, -999.00
096U20160426,       P15S,     129,          1,         13,       2013,2,20160621,       0840,    -5.5023,  -168.7504,       5476,  2151.4,   2.1560,  34.6440,2,  34.6430,2,    126.3,2,   125.3,2,  129.77,2,   37.11,2,    0.00,4,    2.61,2,-999.000,9,-999.000,9,-999.000,9,  -999.0,9,  -999.0,9,-999.0000,9,  -999.00,-999.0000,9, -999.00,9, -999.00,9,  -999.0,9,  -999.0, -999.00,9, -999.00,9, -999.00,9, -999.00,9,   2.0041, -999.00
096U20160426,       P15S,     129,          1,         12,       2012,2,20160621,       0840,    -5.5023,  -168.7504,       5476,  2400.5,   1.9430,  34.6580,2,  34.6568,2,    131.5,2,   131.4,2,  134.18,2,   36.75,2,    0.00,4,    2.58,2,-999.000,9,-999.000,9,-999.000,9,  -999.0,9,  -999.0,9,-999.0000,9,  -999.00,-999.0000,9, -999.00,9,    0.13,6,  -232.1,6,     2.0, -999.00,9, -999.00,9, -999.00,9, -999.00,9,   1.7727, -999.00
096U20160426,       P15S,     129,          1,         11,       2011,2,20160621,       0840,    -5.5023,  -168.7504,       5476,  2649.8,   1.7720,  34.6690,2,  34.6684,2,    138.4,2,   138.8,2,  136.58,2,   36.31,2,    0.00,4,    2.54,2,-999.000,9,-999.000,9,-999.000,9,  -999.0,9,  -999.0,9,-999.0000,9,  -999.00,-999.0000,9, -999.00,9, -999.00,9,  -999.0,9,  -999.0, -999.00,9, -999.00,9, -999.00,9, -999.00,9,   1.5823, -999.00
096U20160426,       P15S,     129,          1,         10,       2010,2,20160621,       0840,    -5.5023,  -168.7504,       5476,  2900.4,   1.6810,  34.6750,2,  34.6744,2,    144.1,2,   145.0,2,  136.61,2,   35.90,2,    0.00,4,    2.51,2,-999.000,9,-999.000,9,-999.000,9,  -999.0,9,  -999.0,9,-999.0000,9,  -999.00,-999.0000,9, -999.00,9, -999.00,9,  -999.0,9,  -999.0, -999.00,9, -999.00,9, -999.00,9, -999.00,9,   1.4697, -999.00
096U20160426,       P15S,     129,          1,          9,       2009,2,20160621,       0840,    -5.5023,  -168.7504,       5476,  3175.0,   1.5830,  34.6820,2,  34.6828,2,    151.4,2,   153.1,2,  135.35,2,   35.31,2,    0.00,4,    2.46,2,-999.000,9,-999.000,9,-999.000,9,  -999.0,9,  -999.0,9,-999.0000,9,  -999.00,-999.0000,9, -999.00,9, -999.00,9,  -999.0,9,  -999.0, -999.00,9, -999.00,9, -999.00,9, -999.00,9,   1.3473, -999.00
096U20160426,       P15S,     129,          1,          8,       2008,2,20160621,       0840,    -5.5023,  -168.7504,       5476,  3474.3,   1.4760,  34.6880,2,  34.6867,2,    158.8,2,   160.6,2,  134.92,2,   34.89,2,    0.00,4,    2.42,2,-999.000,9,-999.000,9,-999.000,9,  -999.0,9,  -999.0,9,-999.0000,9,  -999.00,-999.0000,9, -999.00,9, -999.00,9,  -999.0,9,  -999.0, -999.00,9, -999.00,9, -999.00,9, -999.00,9,   1.2130, -999.00
096U20160426,       P15S,     129,          1,          7,       2007,2,20160621,       0840,    -5.5023,  -168.7504,       5476,  3825.1,   1.4010,  34.6930,2,  34.6925,2,    165.3,2,   167.2,2,  134.43,2,   34.47,2,    0.00,4,    2.38,2,-999.000,9,-999.000,9,-999.000,9,  -999.0,9,  -999.0,9,-999.0000,9,  -999.00,-999.0000,9, -999.00,9, -999.00,9,  -999.0,9,  -999.0, -999.00,9, -999.00,9, -999.00,9, -999.00,9,   1.1035, -999.00
096U20160426,       P15S,     129,          1,          6,       2006,2,20160621,       0840,    -5.5023,  -168.7504,       5476,  4226.1,   1.3410,  34.6980,2,  34.6976,2,    174.3,2,   176.4,2,  130.94,2,   33.80,2,    0.00,4,    2.33,2,-999.000,9,-999.000,9,-999.000,9,  -999.0,9,  -999.0,9,-999.0000,9,  -999.00,-999.0000,9, -999.00,9, -999.00,9,  -999.0,9,  -999.0, -999.00,9, -999.00,9, -999.00,9, -999.00,9,   1.0017, -999.00
096U20160426,       P15S,     129,          1,          5,       2005,2,20160621,       0840,    -5.5023,  -168.7504,       5476,  4625.6,   1.2930,  34.7020,2,  34.7014,2,    183.7,2,   185.5,2,  126.37,2,   33.14,2,    0.00,4,    2.29,2,-999.000,9,-999.000,9,-999.000,9,  -999.0,9,  -999.0,9,-999.0000,9,  -999.00,-999.0000,9, -999.00,9, -999.00,9,  -999.0,9,  -999.0, -999.00,9, -999.00,9, -999.00,9, -999.00,9,   0.9098, -999.00
096U20160426,       P15S,     129,          1,          4,       2004,2,20160621,       0840,    -5.5023,  -168.7504,       5476,  5025.6,   1.2120,  34.7060,2,  34.7059,2,    195.2,2,   196.7,2,  121.16,2,   32.32,2,    0.00,4,    2.23,2,-999.000,9,-999.000,9,-999.000,9,  -999.0,9,  -999.0,9,-999.0000,9,  -999.00,-999.0000,9, -999.00,9, -999.00,9,  -999.0,9,  -999.0, -999.00,9, -999.00,9, -999.00,9, -999.00,9,   0.7842, -999.00
096U20160426,       P15S,     129,          1,          3,       2003,2,20160621,       0840,    -5.5023,  -168.7504,       5476,  5400.7,   1.2270,  34.7070,2,  34.7068,2,    198.6,2,   198.9,2,  120.30,2,   32.11,2,    0.00,4,    2.22,2,-999.000,9,-999.000,9,-999.000,9,  -999.0,9,  -999.0,9,-999.0000,9,  -999.00,-999.0000,9, -999.00,9, -999.00,9,  -999.0,9,  -999.0, -999.00,9, -999.00,9, -999.00,9, -999.00,9,   0.7526, -999.00
096U20160426,       P15S,     129,          1,          2,       2002,2,20160621,       0840,    -5.5023,  -168.7504,       5476,  5500.8,   1.2390,  34.7070,2,  34.7071,2,    199.1,2,   199.2,2,  120.41,2,   32.11,2,    0.00,4,    2.22,2,-999.000,9,-999.000,9,-999.000,9,  -999.0,9,  -999.0,9,-999.0000,9,  -999.00,-999.0000,9, -999.00,9, -999.00,9,  -999.0,9,  -999.0, -999.00,9, -999.00,9, -999.00,9, -999.00,9,   0.7516, -999.00
096U20160426,       P15S,     129,          1,          1,       2001,2,20160621,       0840,    -5.5023,  -168.7504,       5476,  5554.5,   1.2450,  34.7070,2,  34.7067,2,    199.1,2,   199.4,2,  120.28,2,   32.15,2,    0.00,4,    2.21,2,-999.000,9,-999.000,9,-999.000,9,  -999.0,9,  -999.0,9,-999.0000,9,  -999.00,-999.0000,9, -999.00,9, -999.00,9,  -999.0,9,  -999.0, -999.00,9, -999.00,9, -999.00,9, -999.00,9,   0.7506, -999.00