BOTTLE,20230413CCHSIOENA
EXPOCODE,SECT_ID,STNNBR,CASTNO,SAMPNO,BTLNBR,BTLNBR_FLAG_W,DATE,TIME,LATITUDE,LONGITUDE,DEPTH,CTDPRS,CTDTMP,CTDSAL,CTDSAL_FLAG_W,SALNTY,SALNTY_FLAG_W,CTDOXY,CTDOXY_FLAG_W,OXYGEN,OXYGEN_FLAG_W,SILCAT,SILCAT_FLAG_W,NITRAT,NITRAT_FLAG_W,NITRIT,NITRIT_FLAG_W,PHSPHT,PHSPHT_FLAG_W,CFC-11,CFC-11_FLAG_W,CFC-12,CFC-12_FLAG_W,SF6,SF6_FLAG_W,TCARBN,TCARBN_FLAG_W,ALKALI,ALKALI_FLAG_W,PH_TOT,PH_TOT_FLAG_W,PH_TMP,HELIUM,HELIUM_FLAG_W,DELHE3,DELHE3_FLAG_W,DELC13,DELC13_FLAG_W,DELC14,DELC14_FLAG_W,C14ERR,POC,POC_FLAG_W,PON,PON_FLAG_W,CHLORA,CHLORA_FLAG_W,PPHYTN,PPHYTN_FLAG_W,THETA,DELHER
,,,,,,,,,,,METERS,DBAR,ITS-90,PSS-78,,PSS-78,,UMOL/KG,,UMOL/KG,,UMOL/KG,,UMOL/KG,,UMOL/KG,,UMOL/KG,,PMOL/KG,,PMOL/KG,,FMOL/KG,,UMOL/KG,,UMOL/KG,,,,DEG C,NMOL/KG,,PERCNT,,/MILLE,,/MILLE,,/MILLE,UG/KG,,UG/KG,,UG/KG,,UG/KG,,DEG C,PERCNT
096U20160426,       P15S,      41,          1,         36,       2036,2,20160520,       1051,   -47.1152,  -170.4692,       5404,     4.4,  11.4640,  34.6690,2,  34.6693,2,    263.1,2,   263.9,2,    0.98,2,    6.22,2,    0.32,2,    0.60,2,   3.107,2,   1.791,2,   2.213,2,  2097.1,2,  2296.3,2,-999.0000,9,  -999.00,-999.0000,9, -999.00,9,    1.46,2,    20.3,2,     2.0, -999.00,9, -999.00,9,    0.84,2,    0.05,3,  11.4634, -999.00
096U20160426,       P15S,      41,          1,         35,       2035,2,20160520,       1051,   -47.1152,  -170.4692,       5404,    35.2,  11.3980,  34.6680,2,  34.6668,2,    262.8,2,   263.9,2,    0.96,2,    6.22,2,    0.32,2,    0.61,2,-999.000,9,-999.000,9,-999.000,9,  -999.0,9,  -999.0,9,-999.0000,9,  -999.00,-999.0000,9, -999.00,9, -999.00,9,  -999.0,9,  -999.0, -999.00,9, -999.00,9,    1.36,2,   -0.50,3,  11.3936, -999.00
096U20160426,       P15S,      41,          1,         34,       2034,2,20160520,       1051,   -47.1152,  -170.4692,       5404,    59.8,  11.4010,  34.6710,2,  34.6702,2,    262.7,2,   263.9,2,    0.96,2,    6.23,2,    0.32,2,    0.60,2,   3.146,6,   1.788,6,    2.18,6,  2091.3,2,  2296.4,2,-999.0000,9,  -999.00,   1.7370,2,   -1.73,2,    1.44,2,    17.7,2,     2.0, -999.00,9, -999.00,9,    0.86,2,    0.03,3,  11.3935,    0.95
096U20160426,       P15S,      41,          1,         33,       2033,2,20160520,       1051,   -47.1152,  -170.4692,       5404,    84.4,  11.4030,  34.6710,2,  34.6709,2,    262.6,2,   263.9,2,    0.97,2,    6.24,2,    0.32,2,    0.60,2,-999.000,9,-999.000,9,-999.000,9,  -999.0,9,  -999.0,9,-999.0000,9,  -999.00,-999.0000,9, -999.00,9, -999.00,9,  -999.0,9,  -999.0, -999.00,9, -999.00,9,    0.87,2,    0.04,3,  11.3924, -999.00
096U20160426,       P15S,      41,          1,         32,       2032,2,20160520,       1051,   -47.1152,  -170.4692,       5404,   114.2,  11.2950,  34.7120,2,  34.7105,2,    256.4,2,   258.6,2,    1.34,2,    7.52,2,    0.25,2,    0.66,2,   3.167,2,   1.806,2,    2.18,2,  2099.2,2,  2296.3,2,-999.0000,9,  -999.00,-999.0000,9, -999.00,9,    1.33,2,    23.4,2,     2.0, -999.00,9, -999.00,9,    0.32,2,    0.09,3,  11.2808, -999.00
096U20160426,       P15S,      41,          1,         31,       2031,2,20160520,       1051,   -47.1152,  -170.4692,       5404,   165.8,  10.4940,  34.7960,2,  34.7939,2,    242.0,2,   243.1,2,    2.68,2,   11.63,2,    0.01,4,    0.87,2,   3.249,2,   1.853,2,   2.091,2,  2123.2,6,  2294.5,6,-999.0000,9,  -999.00,-999.0000,9, -999.00,9,    1.00,2,    27.1,2,     2.0, -999.00,9, -999.00,9, -999.00,9, -999.00,9,  10.4742, -999.00
096U20160426,       P15S,      41,          1,         30,       2030,2,20160520,       1051,   -47.1152,  -170.4692,       5404,   216.3,  10.0060,  34.7370,2,  34.7338,2,    244.4,2,   245.5,2,    2.99,2,   12.54,2,    0.01,4,    0.92,2,   3.343,2,   1.883,2,   2.049,2,  2122.7,2,  2292.8,2,-999.0000,9,  -999.00,-999.0000,9, -999.00,9,    1.00,2,    24.1,2,     2.0, -999.00,9, -999.00,9, -999.00,9, -999.00,9,   9.9809, -999.00
096U20160426,       P15S,      41,          1,         29,       2029,2,20160520,       1051,   -47.1152,  -170.4692,       5404,   265.4,   9.7640,  34.7090,2,  34.6946,2,    248.9,2,   250.2,2,    3.13,2,   13.18,2,    0.01,4,    0.96,2,   3.388,2,   1.913,2,    2.14,2,  2125.1,2,  2292.4,2,-999.0000,9,  -999.00,-999.0000,9, -999.00,9,    1.04,2,    25.1,2,     2.0, -999.00,9, -999.00,9, -999.00,9, -999.00,9,   9.7337, -999.00
096U20160426,       P15S,      41,          1,         28,       2028,2,20160520,       1051,   -47.1152,  -170.4692,       5404,   315.6,   9.2830,  34.6400,2,  34.6398,2,    249.4,2,   250.9,2,    3.50,2,   14.52,2,    0.01,4,    1.04,2,-999.000,9,-999.000,9,-999.000,9,  -999.0,9,  -999.0,9,-999.0000,9,  -999.00,-999.0000,9, -999.00,9, -999.00,9,  -999.0,9,  -999.0, -999.00,9, -999.00,9, -999.00,9, -999.00,9,   9.2480, -999.00
096U20160426,       P15S,      41,          1,         27,       2027,2,20160520,       1051,   -47.1152,  -170.4692,       5404,   365.4,   8.9500,  34.5960,2,  34.5912,2,    249.9,2,   251.4,2,    3.94,2,   15.69,2,    0.01,4,    1.11,2,   3.505,2,   1.968,2,   2.046,2,  2129.8,2,  2287.3,6,-999.0000,9,  -999.00,-999.0000,9, -999.00,9,    1.05,2,    16.9,2,     2.0, -999.00,9, -999.00,9, -999.00,9, -999.00,9,   8.9103, -999.00
096U20160426,       P15S,      41,          1,         26,       2026,2,20160520,       1051,   -47.1152,  -170.4692,       5404,   434.6,   8.3770,  34.5160,2,  34.5102,2,    245.6,2,   247.2,2,    4.86,2,   17.92,2,    0.01,4,    1.25,2,   3.591,2,   1.990,2,   2.003,2,  2136.1,2,  2285.2,2,-999.0000,9,  -999.00,-999.0000,9, -999.00,9,    1.15,2,    16.9,2,     2.0, -999.00,9, -999.00,9, -999.00,9, -999.00,9,   8.3314, -999.00
096U20160426,       P15S,      41,          1,         25,       2025,2,20160520,       1051,   -47.1152,  -170.4692,       5404,   534.7,   7.7550,  34.4360,2,  34.4338,2,    251.6,2,   253.0,2,    5.73,2,   19.34,2,    0.01,4,    1.35,2,   3.694,2,   2.023,2,   1.918,2,  2136.9,2,  2282.6,2,-999.0000,9,  -999.00,-999.0000,9, -999.00,9,    1.16,2,     6.8,2,     2.0, -999.00,9, -999.00,9, -999.00,9, -999.00,9,   7.7011, -999.00
096U20160426,       P15S,      41,          1,         24,       2024,2,20160520,       1051,   -47.1152,  -170.4692,       5404,   635.5,   7.4310,  34.4090,2,  34.4065,2,    250.4,2,   252.5,2,    6.80,2,   20.31,2,    0.01,4,    1.41,2,   3.668,2,   2.002,2,   1.837,2,  2141.8,2,  2282.2,2,-999.0000,9,  -999.00,-999.0000,9, -999.00,9,    1.17,2,     0.4,2,     2.0, -999.00,9, -999.00,9, -999.00,9, -999.00,9,   7.3681, -999.00
096U20160426,       P15S,      41,          1,         23,       2023,2,20160520,       1051,   -47.1152,  -170.4692,       5404,   735.0,   7.0120,  34.3790,2,  34.3749,2,    241.9,2,   243.7,2,    9.16,2,   22.23,2,    0.00,4,    1.53,2,   3.509,2,   1.876,2,   1.618,2,  2148.8,6,  2283.6,6,-999.0000,9,  -999.00,-999.0000,9, -999.00,9,    1.14,2,    -4.2,2,     2.0, -999.00,9, -999.00,9, -999.00,9, -999.00,9,   6.9411, -999.00
096U20160426,       P15S,      41,          1,         22,       2022,2,20160520,       1051,   -47.1152,  -170.4692,       5404,   836.7,   6.5670,  34.3630,2,  34.3610,2,    229.3,2,   230.6,2,   12.60,2,   24.42,2,    0.00,4,    1.66,2,   3.157,2,   1.648,2,   1.241,2,  2158.3,2,  2282.7,2,-999.0000,9,  -999.00,-999.0000,9, -999.00,9,    1.08,2,   -11.3,2,     2.0, -999.00,9, -999.00,9, -999.00,9, -999.00,9,   6.4885, -999.00
096U20160426,       P15S,      41,          1,         21,       2021,2,20160520,       1051,   -47.1152,  -170.4692,       5404,   935.8,   6.0350,  34.3540,2,  34.3506,2,    217.5,2,   218.8,2,   17.50,2,   26.47,2,    0.00,4,    1.80,2,   2.790,2,   1.429,2,   0.956,2,  2171.2,2,  2284.9,2,-999.0000,9,  -999.00,-999.0000,9, -999.00,9,    1.04,2,   -30.3,2,     2.0, -999.00,9, -999.00,9, -999.00,9, -999.00,9,   5.9504, -999.00
096U20160426,       P15S,      41,          1,         20,       2020,2,20160520,       1051,   -47.1152,  -170.4692,       5404,  1036.7,   5.2630,  34.3400,2,  34.3371,2,    209.2,2,   210.7,2,   24.54,2,   28.82,2,    0.00,4,    1.96,2,-999.000,9,-999.000,9,-999.000,9,  2184.4,2,  2290.5,6,-999.0000,9,  -999.00,   1.8000,2,    3.17,2,    0.95,2,   -49.0,2,     2.0, -999.00,9, -999.00,9, -999.00,9, -999.00,9,   5.1746,    0.36
096U20160426,       P15S,      41,          1,         19,       2019,2,20160520,       1051,   -47.1152,  -170.4692,       5404,  1137.2,   4.5380,  34.3400,2,  34.3382,2,    202.5,2,   203.6,2,   32.70,2,   30.65,2,    0.00,4,    2.09,2,   2.128,2,   1.056,2,   0.559,2,  2198.7,2,  2296.7,2,-999.0000,9,  -999.00,-999.0000,9, -999.00,9,    0.90,2,   -73.2,2,     2.0, -999.00,9, -999.00,9, -999.00,9, -999.00,9,   4.4464, -999.00
096U20160426,       P15S,      41,          1,         18,       2018,2,20160520,       1051,   -47.1152,  -170.4692,       5404,  1235.6,   4.0150,  34.3600,2,  34.3591,2,    196.2,2,   197.2,2,   40.81,2,   31.93,2,    0.00,4,    2.19,2,   1.782,2,   0.873,2,   0.456,2,  2211.3,2,  2302.8,2,-999.0000,9,  -999.00,-999.0000,9, -999.00,9,    0.72,2,   -85.0,2,     2.0, -999.00,9, -999.00,9, -999.00,9, -999.00,9,   3.9195, -999.00
096U20160426,       P15S,      41,          1,         17,       2017,2,20160520,       1051,   -47.1152,  -170.4692,       5404,  1336.2,   3.5600,  34.3710,2,  34.3692,2,    193.4,2,   194.4,2,   46.09,2,   32.79,2,    0.01,4,    2.25,2,   1.785,2,   0.880,2,   0.436,2,  2219.8,2,  2307.8,2,-999.0000,9,  -999.00,-999.0000,9, -999.00,9,    0.76,2,  -112.6,2,     2.0, -999.00,9, -999.00,9, -999.00,9, -999.00,9,   3.4603, -999.00
096U20160426,       P15S,      41,          1,         16,       2016,2,20160520,       1051,   -47.1152,  -170.4692,       5404,  1466.8,   3.1830,  34.4070,2,  34.4053,2,    188.1,2,   188.5,2,   53.10,2,   33.59,2,    0.00,4,    2.31,2,   1.582,2,   0.770,2,   0.404,2,  2230.7,2,  2313.8,2,-999.0000,9,  -999.00,-999.0000,9, -999.00,9,    0.84,3,   -99.8,2,     2.0, -999.00,9, -999.00,9, -999.00,9, -999.00,9,   3.0763, -999.00
096U20160426,       P15S,      41,          1,         15,       2015,2,20160520,       1051,   -47.1152,  -170.4692,       5404,  1566.2,   3.0640,  34.4300,2,  34.4273,2,    184.9,2,   185.5,2,   56.07,2,   33.83,2,    0.00,4,    2.33,2,   1.422,2,   0.692,2,   0.359,2,  2234.6,2,  2313.6,2,-999.0000,9,  -999.00,   1.8320,2,    6.75,2,    0.73,2,  -116.6,2,     2.0, -999.00,9, -999.00,9, -999.00,9, -999.00,9,   2.9502,    0.54
096U20160426,       P15S,      41,          1,         14,       2014,2,20160520,       1051,   -47.1152,  -170.4692,       5404,  1695.1,   2.9470,  34.4600,2,  34.4592,2,    181.4,2,   181.8,2,   59.77,2,   33.99,2,    0.00,4,    2.34,2,   1.222,6,   0.597,6,   0.281,6,  2238.4,2,  2319.5,2,-999.0000,9,  -999.00,-999.0000,9, -999.00,9,    0.70,2,  -123.4,2,     2.0, -999.00,9, -999.00,9, -999.00,9, -999.00,9,   2.8236, -999.00
096U20160426,       P15S,      41,          1,         13,       2013,2,20160520,       1051,   -47.1152,  -170.4692,       5404,  2085.7,   2.6940,  34.5470,2,  34.5462,2,    175.1,2,   175.7,2,   68.66,2,   33.89,2,    0.01,4,    2.34,2,   0.755,2,   0.368,2,   0.152,2,  2249.5,2,  2341.3,2,-999.0000,9,  -999.00,   1.8410,2,    8.11,2,    0.59,2,  -137.1,2,     2.0, -999.00,9, -999.00,9, -999.00,9, -999.00,9,   2.5397,    0.52
096U20160426,       P15S,      41,          1,         12,       2012,2,20160520,       1051,   -47.1152,  -170.4692,       5404,  2333.7,   2.5720,  34.6030,2,  34.6020,2,    173.7,2,   174.3,2,   73.84,2,   33.52,2,    0.00,4,    2.31,2,-999.000,9,-999.000,9,-999.000,9,  2251.8,2,  2336.4,3,-999.0000,9,  -999.00,-999.0000,9, -999.00,9,    0.60,2,  -145.8,2,     2.0, -999.00,9, -999.00,9, -999.00,9, -999.00,9,   2.3969, -999.00
096U20160426,       P15S,      41,          1,         11,       2011,2,20160520,       1051,   -47.1152,  -170.4692,       5404,  2551.7,   2.4170,  34.6470,2,  34.6460,2,    168.3,2,   168.7,2, -999.00,9, -999.00,9, -999.00,9, -999.00,9,   0.229,2,   0.115,2,   0.032,2,  2268.3,6,  2356.5,3,-999.0000,9,  -999.00,   1.8840,2,   13.32,2,    0.47,2,  -167.7,2,     2.0, -999.00,9, -999.00,9, -999.00,9, -999.00,9,   2.2241,    0.63
096U20160426,       P15S,      41,          1,         10,       2010,2,20160520,       1051,   -47.1152,  -170.4692,       5404,  2834.8,   2.1970,  34.7130,2,  34.7111,2,    181.6,2,   182.9,2,   85.50,2,   31.84,2,    0.01,4,    2.20,2,   0.173,2,   0.088,2,       0,2,  2256.7,2,  2349.3,6,-999.0000,9,  -999.00,-999.0000,9, -999.00,9,    0.46,2,  -160.0,2,     2.0, -999.00,9, -999.00,9, -999.00,9, -999.00,9,   1.9810, -999.00
096U20160426,       P15S,      41,          1,          9,       2009,2,20160520,       1051,   -47.1152,  -170.4692,       5404,  3100.0,   1.9920,  34.7330,2,  34.7315,2,    188.1,2,   190.2,2,   89.87,2,   31.30,2,    0.00,4,    2.16,2,   0.136,2,   0.069,2,       0,2,  2252.0,2,  2353.4,2,-999.0000,9,  -999.00,   1.8600,2,    9.94,2,    0.50,2,  -156.5,2,     2.0, -999.00,9, -999.00,9, -999.00,9, -999.00,9,   1.7542,    0.60
096U20160426,       P15S,      41,          1,          8,       2008,2,20160520,       1051,   -47.1152,  -170.4692,       5404,  3400.4,   1.7210,  34.7370,2,  34.7345,2,    193.7,2,   195.6,2,   97.21,2,   31.21,2,    0.00,4,    2.16,2,-999.000,9,-999.000,9,-999.000,9,  -999.0,9,  -999.0,9,-999.0000,9,  -999.00,-999.0000,9, -999.00,9, -999.00,9,  -999.0,9,  -999.0, -999.00,9, -999.00,9, -999.00,9, -999.00,9,   1.4592, -999.00
096U20160426,       P15S,      41,          1,          7,       2007,2,20160520,       1051,   -47.1152,  -170.4692,       5404,  3723.5,   1.4400,  34.7290,2,  34.7269,2,    198.1,2,   199.7,2,  105.54,2,   31.51,2,    0.00,4,    2.18,2,   0.132,2,   0.066,2,   0.031,2,  2257.3,2,  2360.9,2,-999.0000,9,  -999.00,   1.8860,2,   10.12,2,    0.51,2,  -162.6,2,     2.0, -999.00,9, -999.00,9, -999.00,9, -999.00,9,   1.1520,    0.62
096U20160426,       P15S,      41,          1,          6,       2006,2,20160520,       1051,   -47.1152,  -170.4692,       5404,  4134.8,   1.1810,  34.7180,2,  34.7163,2,    202.8,2,   204.4,2,  113.53,2,   31.87,2,    0.00,4,    2.20,2,   0.181,2,   0.091,2,       0,2,  2259.1,2,  2362.1,2,-999.0000,9,  -999.00,   1.8780,2,    9.52,2,    0.48,2,  -161.1,2,     2.0, -999.00,9, -999.00,9, -999.00,9, -999.00,9,   0.8563,    0.64
096U20160426,       P15S,      41,          1,          5,       2005,2,20160520,       1051,   -47.1152,  -170.4692,       5404,  4534.3,   1.0360,  34.7110,2,  34.7097,2,    205.8,2,   206.9,2,  118.82,2,   32.09,2,    0.00,4,    2.22,2,   0.207,2,   0.102,2,    0.03,2,  2260.8,2,  2364.2,2,-999.0000,9,  -999.00,   1.8810,2,    9.39,2,    0.48,2,  -166.0,2,     2.0, -999.00,9, -999.00,9, -999.00,9, -999.00,9,   0.6714,    0.33
096U20160426,       P15S,      41,          1,          4,       2004,2,20160520,       1051,   -47.1152,  -170.4692,       5404,  4934.7,   1.0150,  34.7070,2,  34.7063,2,    207.3,2,   335.7,4,  120.75,2,   32.15,2,    0.00,4,    2.23,2,   0.234,2,   0.117,2,   0.046,2,  2263.9,2,  2365.3,2,-999.0000,9,  -999.00,   1.9120,2,    8.90,2,    0.48,2,  -164.8,2,     2.0, -999.00,9, -999.00,9, -999.00,9, -999.00,9,   0.6047,    0.34
096U20160426,       P15S,      41,          1,          3,       2003,2,20160520,       1051,   -47.1152,  -170.4692,       5404,  5335.4,   1.0300,  34.7050,2,  34.7046,2,    208.5,2,   208.4,2,  121.62,2,   32.24,2,    0.00,4,    2.23,2,   0.274,2,   0.136,2,   0.072,2,  2263.7,2,  2365.8,2,-999.0000,9,  -999.00,   1.8830,2,    9.23,2,    0.48,2,  -165.4,2,     2.0, -999.00,9, -999.00,9, -999.00,9, -999.00,9,   0.5708,    0.33
096U20160426,       P15S,      41,          1,          2,       2002,2,20160520,       1051,   -47.1152,  -170.4692,       5404,  5405.7,   1.0360,  34.7040,2,  34.7045,2,    208.5,2,   208.4,2,  121.70,2,   32.21,2,    0.00,4,    2.23,2,   0.282,2,   0.141,2,   0.054,2,  2264.5,2,  2365.4,2,-999.0000,9,  -999.00,   1.8770,2,    9.48,2,    0.48,2,  -161.9,2,     2.0, -999.00,9, -999.00,9, -999.00,9, -999.00,9,   0.5679,    0.47
096U20160426,       P15S,      41,          1,          1,       2001,2,20160520,       1051,   -47.1152,  -170.4692,       5404,  5505.2,   1.0470,  34.7040,2,  34.7050,2,    208.7,2,   208.5,2,  121.66,2,   32.20,2,    0.00,4,    2.23,2,   0.285,2,   0.143,2,   0.049,2,  2260.9,2,  2365.2,2,-999.0000,9,  -999.00,-999.0000,9, -999.00,9,    0.47,2,  -164.8,2,     2.0, -999.00,9, -999.00,9, -999.00,9, -999.00,9,   0.5661, -999.00