BOTTLE,20230413CCHSIOENA
EXPOCODE,SECT_ID,STNNBR,CASTNO,SAMPNO,BTLNBR,BTLNBR_FLAG_W,DATE,TIME,LATITUDE,LONGITUDE,DEPTH,CTDPRS,CTDTMP,CTDSAL,CTDSAL_FLAG_W,SALNTY,SALNTY_FLAG_W,CTDOXY,CTDOXY_FLAG_W,OXYGEN,OXYGEN_FLAG_W,SILCAT,SILCAT_FLAG_W,NITRAT,NITRAT_FLAG_W,NITRIT,NITRIT_FLAG_W,PHSPHT,PHSPHT_FLAG_W,CFC-11,CFC-11_FLAG_W,CFC-12,CFC-12_FLAG_W,SF6,SF6_FLAG_W,TCARBN,TCARBN_FLAG_W,ALKALI,ALKALI_FLAG_W,PH_TOT,PH_TOT_FLAG_W,PH_TMP,HELIUM,HELIUM_FLAG_W,DELHE3,DELHE3_FLAG_W,DELC13,DELC13_FLAG_W,DELC14,DELC14_FLAG_W,C14ERR,POC,POC_FLAG_W,PON,PON_FLAG_W,CHLORA,CHLORA_FLAG_W,PPHYTN,PPHYTN_FLAG_W,THETA,DELHER
,,,,,,,,,,,METERS,DBAR,ITS-90,PSS-78,,PSS-78,,UMOL/KG,,UMOL/KG,,UMOL/KG,,UMOL/KG,,UMOL/KG,,UMOL/KG,,PMOL/KG,,PMOL/KG,,FMOL/KG,,UMOL/KG,,UMOL/KG,,,,DEG C,NMOL/KG,,PERCNT,,/MILLE,,/MILLE,,/MILLE,UG/KG,,UG/KG,,UG/KG,,UG/KG,,DEG C,PERCNT
096U20160426,       P15S,      67,          1,         36,       2036,2,20160602,       0810,   -35.6806,  -170.0072,       4368,     5.2,  18.0260,  35.4470,2,  35.4458,2,    234.5,2,   233.3,2,    0.18,4,    0.02,4,    0.00,4,    0.11,2,-999.000,9,-999.000,9,-999.000,9,  2066.7,6,  2329.3,6,-999.0000,9,  -999.00,-999.0000,9, -999.00,9, -999.00,9,  -999.0,9,  -999.0, -999.00,9, -999.00,9,    0.30,2,    0.03,3,  18.0251, -999.00
096U20160426,       P15S,      67,          1,         35,       2035,2,20160602,       0810,   -35.6806,  -170.0072,       4368,    26.0,  18.0430,  35.4460,2,  35.4450,2,    234.6,2,   233.3,2,    0.19,4,    0.01,4,    0.00,4,    0.11,2,-999.000,9,-999.000,9,-999.000,9,  -999.0,9,  -999.0,9,-999.0000,9,  -999.00,-999.0000,9, -999.00,9, -999.00,9,  -999.0,9,  -999.0, -999.00,9, -999.00,9,    0.27,2,    0.07,3,  18.0385, -999.00
096U20160426,       P15S,      67,          1,         34,       2034,2,20160602,       0810,   -35.6806,  -170.0072,       4368,    50.4,  18.0450,  35.4460,2,  35.4403,2,    234.5,2,   233.3,2,    0.19,4,    0.01,4,    0.00,4,    0.11,2,-999.000,9,-999.000,9,-999.000,9,  -999.0,9,  -999.0,9,-999.0000,9,  -999.00,-999.0000,9, -999.00,9, -999.00,9,  -999.0,9,  -999.0, -999.00,9, -999.00,9,    0.31,2,    0.02,3,  18.0363, -999.00
096U20160426,       P15S,      67,          1,         33,       2033,2,20160602,       0810,   -35.6806,  -170.0072,       4368,    75.5,  16.8690,  35.3530,2,  35.3671,2,    242.0,2,   239.8,2,    0.31,2,    0.30,2,    0.04,2,    0.17,2,-999.000,9,-999.000,9,-999.000,9,  -999.0,9,  -999.0,9,-999.0000,9,  -999.00,-999.0000,9, -999.00,9, -999.00,9,  -999.0,9,  -999.0, -999.00,9, -999.00,9,    0.49,2,    0.12,3,  16.8566, -999.00
096U20160426,       P15S,      67,          1,         32,       2032,2,20160602,       0810,   -35.6806,  -170.0072,       4368,   100.7,  14.5200,  35.2370,2,  35.2335,2,    230.4,2,   229.0,2,    0.78,2,    3.28,2,    0.09,2,    0.36,2,-999.000,9,-999.000,9,-999.000,9,  -999.0,9,  -999.0,9,-999.0000,9,  -999.00,-999.0000,9, -999.00,9, -999.00,9,  -999.0,9,  -999.0, -999.00,9, -999.00,9,    0.40,2,    0.09,3,  14.5051, -999.00
096U20160426,       P15S,      67,          1,         31,       2031,2,20160602,       0810,   -35.6806,  -170.0072,       4368,   151.2,  13.6810,  35.1990,2,  35.1883,2,    223.4,2,   221.6,2,    1.37,2,    5.94,2,    0.01,4,    0.52,2,-999.000,9,-999.000,9,-999.000,9,  2104.9,2,  2312.4,6,-999.0000,9,  -999.00,-999.0000,9, -999.00,9, -999.00,9,  -999.0,9,  -999.0, -999.00,9, -999.00,9, -999.00,9, -999.00,9,  13.6595, -999.00
096U20160426,       P15S,      67,          1,         30,       2030,2,20160602,       0810,   -35.6806,  -170.0072,       4368,   201.5,  12.4410,  35.0300,2,  35.0234,2,    223.1,2,   225.5,2,    1.86,2,    7.95,2,    0.01,4,    0.64,2,-999.000,9,-999.000,9,-999.000,9,  -999.0,9,  -999.0,9,-999.0000,9,  -999.00,-999.0000,9, -999.00,9, -999.00,9,  -999.0,9,  -999.0, -999.00,9, -999.00,9, -999.00,9, -999.00,9,  12.4141, -999.00
096U20160426,       P15S,      67,          1,         29,       2029,2,20160602,       0810,   -35.6806,  -170.0072,       4368,   250.7,  11.8800,  34.9570,2,  34.9489,2,    236.3,2,   235.1,2,    1.85,2,    8.13,2,    0.01,4,    0.66,2,-999.000,9,-999.000,9,-999.000,9,  -999.0,9,  -999.0,9,-999.0000,9,  -999.00,-999.0000,9, -999.00,9, -999.00,9,  -999.0,9,  -999.0, -999.00,9, -999.00,9, -999.00,9, -999.00,9,  11.8474, -999.00
096U20160426,       P15S,      67,          1,         28,       2028,2,20160602,       0810,   -35.6806,  -170.0072,       4368,   301.5,  11.1450,  34.8650,2,  34.8570,2,    229.1,2,   227.2,2,    2.58,2,   11.23,2,    0.00,4,    0.84,2,-999.000,9,-999.000,9,-999.000,9,  -999.0,9,  -999.0,9,-999.0000,9,  -999.00,-999.0000,9, -999.00,9, -999.00,9,  -999.0,9,  -999.0, -999.00,9, -999.00,9, -999.00,9, -999.00,9,  11.1074, -999.00
096U20160426,       P15S,      67,          1,         27,       2027,2,20160602,       0810,   -35.6806,  -170.0072,       4368,   351.3,  10.2370,  34.7400,2,  34.7335,2,    222.6,2,   221.1,2,    3.28,2,   14.31,2,    0.00,4,    1.03,2,-999.000,9,-999.000,9,-999.000,9,  -999.0,9,  -999.0,9,-999.0000,9,  -999.00,-999.0000,9, -999.00,9, -999.00,9,  -999.0,9,  -999.0, -999.00,9, -999.00,9, -999.00,9, -999.00,9,  10.1954, -999.00
096U20160426,       P15S,      67,          1,         26,       2026,2,20160602,       0810,   -35.6806,  -170.0072,       4368,   401.4,   9.3310,  34.6280,2,  34.6229,2,    224.1,2,   222.9,2,    3.94,2,   16.71,2,    0.00,4,    1.18,2,-999.000,9,-999.000,9,-999.000,9,  2138.4,2,  2287.7,2,-999.0000,9,  -999.00,-999.0000,9, -999.00,9, -999.00,9,  -999.0,9,  -999.0, -999.00,9, -999.00,9, -999.00,9, -999.00,9,   9.2861, -999.00
096U20160426,       P15S,      67,          1,         25,       2025,2,20160602,       0810,   -35.6806,  -170.0072,       4368,   450.7,   8.8600,  34.5730,2,  34.7095,4,    226.6,2,   225.5,2,    4.28,2,   17.81,2,    0.00,4,    1.24,2,-999.000,9,-999.000,9,-999.000,9,  -999.0,9,  -999.0,9,-999.0000,9,  -999.00,-999.0000,9, -999.00,9, -999.00,9,  -999.0,9,  -999.0, -999.00,9, -999.00,9, -999.00,9, -999.00,9,   8.8111, -999.00
096U20160426,       P15S,      67,          1,         24,       2024,2,20160602,       0810,   -35.6806,  -170.0072,       4368,   501.2,   8.1700,  34.5000,2,  34.4966,2,    231.6,2,   230.6,2,    4.99,2,   19.42,2,    0.00,4,    1.34,2,-999.000,9,-999.000,9,-999.000,9,  -999.0,9,  -999.0,9,-999.0000,9,  -999.00,-999.0000,9, -999.00,9, -999.00,9,  -999.0,9,  -999.0, -999.00,9, -999.00,9, -999.00,9, -999.00,9,   8.1180, -999.00
096U20160426,       P15S,      67,          1,         23,       2023,2,20160602,       0810,   -35.6806,  -170.0072,       4368,   601.7,   7.4990,  34.4330,2,  34.4310,2,    233.9,2,   233.0,2,    6.21,2,   21.29,2,    0.00,4,    1.46,2,-999.000,9,-999.000,9,-999.000,9,  -999.0,9,  -999.0,9,-999.0000,9,  -999.00,-999.0000,9, -999.00,9, -999.00,9,  -999.0,9,  -999.0, -999.00,9, -999.00,9, -999.00,9, -999.00,9,   7.4393, -999.00
096U20160426,       P15S,      67,          1,         22,       2022,2,20160602,       0810,   -35.6806,  -170.0072,       4368,   701.2,   6.9140,  34.3780,2,  34.3779,2,    235.8,2,   235.6,2,    7.56,2,   22.69,2,    0.00,4,    1.55,2,-999.000,9,-999.000,9,-999.000,9,  -999.0,9,  -999.0,9,-999.0000,9,  -999.00,-999.0000,9, -999.00,9, -999.00,9,  -999.0,9,  -999.0, -999.00,9, -999.00,9, -999.00,9, -999.00,9,   6.8470, -999.00
096U20160426,       P15S,      67,          1,         21,       2021,2,20160602,       0810,   -35.6806,  -170.0072,       4368,   800.8,   6.3820,  34.3440,2,  34.3423,2,    232.0,2,   231.3,2,   10.20,2,   24.41,2,    0.00,4,    1.67,2,-999.000,9,-999.000,9,-999.000,9,  -999.0,9,  -999.0,9,-999.0000,9,  -999.00,-999.0000,9, -999.00,9, -999.00,9,  -999.0,9,  -999.0, -999.00,9, -999.00,9, -999.00,9, -999.00,9,   6.3082, -999.00
096U20160426,       P15S,      67,          1,         20,       2020,2,20160602,       0810,   -35.6806,  -170.0072,       4368,   901.0,   6.0230,  34.3330,2,  34.3308,2,    225.0,2,   223.4,2,   13.53,2,   25.95,2,    0.00,4,    1.77,2,-999.000,9,-999.000,9,-999.000,9,  -999.0,9,  -999.0,9,-999.0000,9,  -999.00,-999.0000,9, -999.00,9, -999.00,9,  -999.0,9,  -999.0, -999.00,9, -999.00,9, -999.00,9, -999.00,9,   5.9418, -999.00
096U20160426,       P15S,      67,          1,         19,       2019,2,20160602,       0810,   -35.6806,  -170.0072,       4368,  1001.9,   5.2870,  34.3210,2,  34.3215,2,    212.6,2,   210.6,2,   20.87,2,   28.47,2,    0.00,4,    1.95,2,-999.000,9,-999.000,9,-999.000,9,  2176.8,2,  2290.1,2,-999.0000,9,  -999.00,-999.0000,9, -999.00,9, -999.00,9,  -999.0,9,  -999.0, -999.00,9, -999.00,9, -999.00,9, -999.00,9,   5.2016, -999.00
096U20160426,       P15S,      67,          1,         18,       2018,2,20160602,       0810,   -35.6806,  -170.0072,       4368,  1101.4,   4.7370,  34.3430,2,  34.3433,2,    200.7,2,   199.3,2,   29.40,2,   30.21,2,    0.00,4,    2.07,2,-999.000,9,-999.000,9,-999.000,9,  -999.0,9,  -999.0,9,-999.0000,9,  -999.00,-999.0000,9, -999.00,9, -999.00,9,  -999.0,9,  -999.0, -999.00,9, -999.00,9, -999.00,9, -999.00,9,   4.6469, -999.00
096U20160426,       P15S,      67,          1,         17,       2017,2,20160602,       0810,   -35.6806,  -170.0072,       4368,  1199.4,   4.1960,  34.3680,2,  34.3673,2,    192.6,2,   191.1,2,   38.43,2,   31.71,2,    0.00,4,    2.18,2,-999.000,9,-999.000,9,-999.000,9,  -999.0,9,  -999.0,9,-999.0000,9,  -999.00,-999.0000,9, -999.00,9, -999.00,9,  -999.0,9,  -999.0, -999.00,9, -999.00,9, -999.00,9, -999.00,9,   4.1019, -999.00
096U20160426,       P15S,      67,          1,         16,       2016,2,20160602,       0810,   -35.6806,  -170.0072,       4368,  1300.9,   3.6570,  34.4000,2,  34.3997,2,    184.8,2,   183.5,2,   48.21,2,   32.88,2,    0.00,4,    2.27,2,-999.000,9,-999.000,9,-999.000,9,  -999.0,9,  -999.0,9,-999.0000,9,  -999.00,-999.0000,9, -999.00,9, -999.00,9,  -999.0,9,  -999.0, -999.00,9, -999.00,9, -999.00,9, -999.00,9,   3.5593, -999.00
096U20160426,       P15S,      67,          1,         15,       2015,2,20160602,       0810,   -35.6806,  -170.0072,       4368,  1401.8,   3.3560,  34.4380,2,  34.4404,2,    178.4,2,   176.2,2,   56.89,2,   33.54,2,    0.00,4,    2.33,2,-999.000,9,-999.000,9,-999.000,9,  -999.0,9,  -999.0,9,-999.0000,9,  -999.00,-999.0000,9, -999.00,9, -999.00,9,  -999.0,9,  -999.0, -999.00,9, -999.00,9, -999.00,9, -999.00,9,   3.2528, -999.00
096U20160426,       P15S,      67,          1,         14,       2014,2,20160602,       0810,   -35.6806,  -170.0072,       4368,  1499.9,   3.1100,  34.4960,2,  34.4983,2,    169.7,2,   167.6,2,   69.40,2,   33.97,2,    0.00,4,    2.36,2,-999.000,9,-999.000,9,-999.000,9,  -999.0,9,  -999.0,9,-999.0000,9,  -999.00,-999.0000,9, -999.00,9, -999.00,9,  -999.0,9,  -999.0, -999.00,9, -999.00,9, -999.00,9, -999.00,9,   3.0011, -999.00
096U20160426,       P15S,      67,          1,         13,       2013,2,20160602,       0810,   -35.6806,  -170.0072,       4368,  1601.1,   2.8940,  34.5360,2,  34.5362,2,    164.0,2,   162.4,2,   78.66,2,   34.31,2,    0.00,4,    2.40,2,-999.000,9,-999.000,9,-999.000,9,  -999.0,9,  -999.0,9,-999.0000,9,  -999.00,-999.0000,9, -999.00,9, -999.00,9,  -999.0,9,  -999.0, -999.00,9, -999.00,9, -999.00,9, -999.00,9,   2.7790, -999.00
096U20160426,       P15S,      67,          1,         12,       2012,2,20160602,       0810,   -35.6806,  -170.0072,       4368,  1801.9,   2.6190,  34.5830,2,  34.5832,2,    157.5,2,   155.8,2,   92.17,2,   34.75,2,    0.00,4,    2.43,2,-999.000,9,-999.000,9,-999.000,9,  -999.0,9,  -999.0,9,-999.0000,9,  -999.00,-999.0000,9, -999.00,9, -999.00,9,  -999.0,9,  -999.0, -999.00,9, -999.00,9, -999.00,9, -999.00,9,   2.4905, -999.00
096U20160426,       P15S,      67,          1,         11,       2011,2,20160602,       0810,   -35.6806,  -170.0072,       4368,  2000.7,   2.4230,  34.6110,2,  34.6114,2,    153.7,2,   152.0,2,  102.31,2,   35.05,2,    0.00,4,    2.46,2,-999.000,9,-999.000,9,-999.000,9,  2291.6,2,  2381.0,2,-999.0000,9,  -999.00,-999.0000,9, -999.00,9, -999.00,9,  -999.0,9,  -999.0, -999.00,9, -999.00,9, -999.00,9, -999.00,9,   2.2801, -999.00
096U20160426,       P15S,      67,          1,         10,       2010,2,20160602,       0810,   -35.6806,  -170.0072,       4368,  2251.6,   2.2560,  34.6310,2,  34.6309,2,    151.5,2,   149.9,2,  110.06,2,   35.28,2,    0.00,4,    2.48,2,-999.000,9,-999.000,9,-999.000,9,  -999.0,9,  -999.0,9,-999.0000,9,  -999.00,-999.0000,9, -999.00,9, -999.00,9,  -999.0,9,  -999.0, -999.00,9, -999.00,9, -999.00,9, -999.00,9,   2.0936, -999.00
096U20160426,       P15S,      67,          1,          9,       2009,2,20160602,       0810,   -35.6806,  -170.0072,       4368,  2501.2,   2.1230,  34.6440,2,  34.6437,2,    150.3,2,   148.5,2,  115.93,2,   35.47,2,    0.00,4,    2.49,2,-999.000,9,-999.000,9,-999.000,9,  -999.0,9,  -999.0,9,-999.0000,9,  -999.00,-999.0000,9, -999.00,9, -999.00,9,  -999.0,9,  -999.0, -999.00,9, -999.00,9, -999.00,9, -999.00,9,   1.9403, -999.00
096U20160426,       P15S,      67,          1,          8,       2008,2,20160602,       0810,   -35.6806,  -170.0072,       4368,  2751.0,   1.9700,  34.6580,2,  34.6573,2,    151.5,2,   149.6,2,  120.81,2,   35.47,2,    0.00,4,    2.49,2,-999.000,9,-999.000,9,-999.000,9,  -999.0,9,  -999.0,9,-999.0000,9,  -999.00,-999.0000,9, -999.00,9, -999.00,9,  -999.0,9,  -999.0, -999.00,9, -999.00,9, -999.00,9, -999.00,9,   1.7669, -999.00
096U20160426,       P15S,      67,          1,          7,       2007,2,20160602,       0810,   -35.6806,  -170.0072,       4368,  3001.7,   1.8460,  34.6740,2,  34.6743,2,    158.4,2,   156.8,2,  120.16,2,   34.83,2,    0.00,4,    2.44,2,-999.000,9,-999.000,9,-999.000,9,  2303.9,2,  2397.1,2,-999.0000,9,  -999.00,-999.0000,9, -999.00,9, -999.00,9,  -999.0,9,  -999.0, -999.00,9, -999.00,9, -999.00,9, -999.00,9,   1.6214, -999.00
096U20160426,       P15S,      67,          1,          6,       2006,2,20160602,       0810,   -35.6806,  -170.0072,       4368,  3300.8,   1.7280,  34.6990,2,  34.6993,2,    174.9,2,   173.9,2,  111.79,2,   33.32,2,    0.00,4,    2.32,2,-999.000,9,-999.000,9,-999.000,9,  -999.0,9,  -999.0,9,-999.0000,9,  -999.00,-999.0000,9, -999.00,9, -999.00,9,  -999.0,9,  -999.0, -999.00,9, -999.00,9, -999.00,9, -999.00,9,   1.4763, -999.00
096U20160426,       P15S,      67,          1,          5,       2005,2,20160602,       0810,   -35.6806,  -170.0072,       4368,  3601.1,   1.5490,  34.7160,2,  34.7153,2,    189.3,2,   188.9,2,  107.44,2,   32.16,2,    0.00,4,    2.23,2,-999.000,9,-999.000,9,-999.000,9,  -999.0,9,  -999.0,9,-999.0000,9,  -999.00,-999.0000,9, -999.00,9, -999.00,9,  -999.0,9,  -999.0, -999.00,9, -999.00,9, -999.00,9, -999.00,9,   1.2710, -999.00
096U20160426,       P15S,      67,          1,          4,       2004,2,20160602,       0810,   -35.6806,  -170.0072,       4368,  3900.8,   1.3210,  34.7200,2,  34.7189,2,    199.6,2,   199.1,2,  108.98,2,   31.74,2,    0.00,4,    2.20,2,-999.000,9,-999.000,9,-999.000,9,  -999.0,9,  -999.0,9,-999.0000,9,  -999.00,-999.0000,9, -999.00,9, -999.00,9,  -999.0,9,  -999.0, -999.00,9, -999.00,9, -999.00,9, -999.00,9,   1.0175, -999.00
096U20160426,       P15S,      67,          1,          3,       2003,2,20160602,       0810,   -35.6806,  -170.0072,       4368,  4199.4,   1.1430,  34.7150,2,  34.7142,2,    204.2,2,   203.5,2,  113.89,2,   31.82,2,    0.00,4,    2.20,2,-999.000,9,-999.000,9,-999.000,9,  2263.3,2,  2366.8,2,-999.0000,9,  -999.00,-999.0000,9, -999.00,9, -999.00,9,  -999.0,9,  -999.0, -999.00,9, -999.00,9, -999.00,9, -999.00,9,   0.8124, -999.00
096U20160426,       P15S,      67,          1,          2,       2002,2,20160602,       0810,   -35.6806,  -170.0072,       4368,  4299.3,   1.0990,  34.7130,2,  34.7130,2,    205.2,2,   204.4,2,  115.10,2,   31.89,2,    0.00,4,    2.21,2,-999.000,9,-999.000,9,-999.000,9,  -999.0,9,  -999.0,9,-999.0000,9,  -999.00,-999.0000,9, -999.00,9, -999.00,9,  -999.0,9,  -999.0, -999.00,9, -999.00,9, -999.00,9, -999.00,9,   0.7587, -999.00
096U20160426,       P15S,      67,          1,          1,       2001,2,20160602,       0810,   -35.6806,  -170.0072,       4368,  4400.1,   1.0860,  34.7120,2,  34.7117,2,    205.6,2,   204.7,2,  115.89,2,   31.90,2,    0.00,4,    2.21,2,-999.000,9,-999.000,9,-999.000,9,  2264.3,2,  2367.7,2,-999.0000,9,  -999.00,-999.0000,9, -999.00,9, -999.00,9,  -999.0,9,  -999.0, -999.00,9, -999.00,9, -999.00,9, -999.00,9,   0.7349, -999.00