BOTTLE,20230413CCHSIOENA
EXPOCODE,SECT_ID,STNNBR,CASTNO,SAMPNO,BTLNBR,BTLNBR_FLAG_W,DATE,TIME,LATITUDE,LONGITUDE,DEPTH,CTDPRS,CTDTMP,CTDSAL,CTDSAL_FLAG_W,SALNTY,SALNTY_FLAG_W,CTDOXY,CTDOXY_FLAG_W,OXYGEN,OXYGEN_FLAG_W,SILCAT,SILCAT_FLAG_W,NITRAT,NITRAT_FLAG_W,NITRIT,NITRIT_FLAG_W,PHSPHT,PHSPHT_FLAG_W,CFC-11,CFC-11_FLAG_W,CFC-12,CFC-12_FLAG_W,SF6,SF6_FLAG_W,TCARBN,TCARBN_FLAG_W,ALKALI,ALKALI_FLAG_W,PH_TOT,PH_TOT_FLAG_W,PH_TMP,HELIUM,HELIUM_FLAG_W,DELHE3,DELHE3_FLAG_W,DELC13,DELC13_FLAG_W,DELC14,DELC14_FLAG_W,C14ERR,POC,POC_FLAG_W,PON,PON_FLAG_W,CHLORA,CHLORA_FLAG_W,PPHYTN,PPHYTN_FLAG_W,THETA,DELHER
,,,,,,,,,,,METERS,DBAR,ITS-90,PSS-78,,PSS-78,,UMOL/KG,,UMOL/KG,,UMOL/KG,,UMOL/KG,,UMOL/KG,,UMOL/KG,,PMOL/KG,,PMOL/KG,,FMOL/KG,,UMOL/KG,,UMOL/KG,,,,DEG C,NMOL/KG,,PERCNT,,/MILLE,,/MILLE,,/MILLE,UG/KG,,UG/KG,,UG/KG,,UG/KG,,DEG C,PERCNT
096U20160426,       P15S,     135,          1,         36,       2036,2,20160622,       2353,    -2.5006,  -168.7509,       5334,     5.2,  29.6730,  34.9460,2,  34.9453,2,    187.6,2,   194.8,2,    1.38,2,    0.26,2,    0.02,4,    0.20,2,-999.000,9,-999.000,9,-999.000,9,  1969.2,2,  2297.3,2,-999.0000,9,  -999.00,-999.0000,9, -999.00,9, -999.00,9,  -999.0,9,  -999.0, -999.00,9, -999.00,9,    0.37,2,    0.04,3,  29.6717, -999.00
096U20160426,       P15S,     135,          1,         35,       2035,2,20160622,       2353,    -2.5006,  -168.7509,       5334,    25.1,  29.6590,  34.9440,2,  34.9481,2,    188.1,2,   194.7,2,    1.58,2,    0.28,2,    0.02,4,    0.21,2,-999.000,9,-999.000,9,-999.000,9,  -999.0,9,  -999.0,9,-999.0000,9,  -999.00,-999.0000,9, -999.00,9, -999.00,9,  -999.0,9,  -999.0, -999.00,9, -999.00,9,    0.44,2,   -0.01,3,  29.6528, -999.00
096U20160426,       P15S,     135,          1,         34,       2034,2,20160622,       2353,    -2.5006,  -168.7509,       5334,    51.3,  29.1970,  35.1950,2,  35.2372,2,    190.5,2,   196.8,2,    1.68,2,    1.48,2,    0.10,2,    0.32,2,-999.000,9,-999.000,9,-999.000,9,  -999.0,9,  -999.0,9,-999.0000,9,  -999.00,-999.0000,9, -999.00,9, -999.00,9,  -999.0,9,  -999.0, -999.00,9, -999.00,9,    1.01,2,   -0.17,3,  29.1845, -999.00
096U20160426,       P15S,     135,          1,         33,       2033,2,20160622,       2353,    -2.5006,  -168.7509,       5334,    73.8,  28.7560,  35.3680,2,  35.3719,2,    187.9,2,   194.8,2,    1.76,2,    2.22,2,    0.19,2,    0.39,2,-999.000,9,-999.000,9,-999.000,9,  2015.3,2,  2324.7,2,-999.0000,9,  -999.00,-999.0000,9, -999.00,9, -999.00,9,  -999.0,9,  -999.0, -999.00,9, -999.00,9,    1.08,2,   -0.03,3,  28.7382, -999.00
096U20160426,       P15S,     135,          1,         32,       2032,2,20160622,       2353,    -2.5006,  -168.7509,       5334,   121.9,  19.8950,  35.5900,2,  35.5348,2,    118.5,2,   117.2,2,    6.55,2,   14.27,2,    0.03,2,    1.18,2,-999.000,9,-999.000,9,-999.000,9,  2152.1,2,  2338.2,2,-999.0000,9,  -999.00,-999.0000,9, -999.00,9, -999.00,9,  -999.0,9,  -999.0, -999.00,9, -999.00,9,    0.31,2,    0.06,3,  19.8725, -999.00
096U20160426,       P15S,     135,          1,         31,       2031,2,20160622,       2353,    -2.5006,  -168.7509,       5334,   171.9,  12.8930,  34.9640,2,  34.9344,2,    125.5,2,   124.0,2,   14.09,2,   20.89,2,    0.01,4,    1.51,2,-999.000,9,-999.000,9,-999.000,9,  2173.2,2,  2307.0,6,-999.0000,9,  -999.00,-999.0000,9, -999.00,9, -999.00,9,  -999.0,9,  -999.0, -999.00,9, -999.00,9, -999.00,9, -999.00,9,  12.8695, -999.00
096U20160426,       P15S,     135,          1,         30,       2030,2,20160622,       2353,    -2.5006,  -168.7509,       5334,   211.1,  11.7550,  34.8480,2,  34.8457,2,    102.3,2,   101.6,2,   19.74,2,   24.61,2,    0.01,4,    1.73,2,-999.000,9,-999.000,9,-999.000,9,  -999.0,9,  -999.0,9,-999.0000,9,  -999.00,-999.0000,9, -999.00,9, -999.00,9,  -999.0,9,  -999.0, -999.00,9, -999.00,9, -999.00,9, -999.00,9,  11.7279, -999.00
096U20160426,       P15S,     135,          1,         29,       2029,2,20160622,       2353,    -2.5006,  -168.7509,       5334,   251.4,  11.4420,  34.8240,2,  34.8198,2,     92.0,2,    85.0,2,   21.94,2,   26.79,2,    0.00,4,    1.87,2,-999.000,9,-999.000,9,-999.000,9,  2206.1,2,  2304.5,2,-999.0000,9,  -999.00,-999.0000,9, -999.00,9, -999.00,9,  -999.0,9,  -999.0, -999.00,9, -999.00,9, -999.00,9, -999.00,9,  11.4102, -999.00
096U20160426,       P15S,     135,          1,         28,       2028,2,20160622,       2353,    -2.5006,  -168.7509,       5334,   301.6,  11.0590,  34.7980,2,  34.7920,2,     84.2,2,    79.8,2,   23.50,2,   28.16,2,    0.00,4,    1.95,2,-999.000,9,-999.000,9,-999.000,9,  -999.0,9,  -999.0,9,-999.0000,9,  -999.00,-999.0000,9, -999.00,9, -999.00,9,  -999.0,9,  -999.0, -999.00,9, -999.00,9, -999.00,9, -999.00,9,  11.0216, -999.00
096U20160426,       P15S,     135,          1,         27,       2027,2,20160622,       2353,    -2.5006,  -168.7509,       5334,   351.2,  10.6530,  34.7700,2,  34.7664,2,     81.7,2,    80.9,2,   24.34,2,   28.81,2,    0.00,4,    1.99,2,-999.000,9,-999.000,9,-999.000,9,  2217.7,2,  2303.3,2,-999.0000,9,  -999.00,-999.0000,9, -999.00,9, -999.00,9,  -999.0,9,  -999.0, -999.00,9, -999.00,9, -999.00,9, -999.00,9,  10.6104, -999.00
096U20160426,       P15S,     135,          1,         26,       2026,2,20160622,       2353,    -2.5006,  -168.7509,       5334,   402.0,  10.1090,  34.7360,2,  34.7320,2,     77.7,2,    74.4,2,   26.62,2,   30.57,2,    0.00,4,    2.09,2,-999.000,9,-999.000,9,-999.000,9,  -999.0,9,  -999.0,9,-999.0000,9,  -999.00,-999.0000,9, -999.00,9, -999.00,9,  -999.0,9,  -999.0, -999.00,9, -999.00,9, -999.00,9, -999.00,9,  10.0617, -999.00
096U20160426,       P15S,     135,          1,         25,       2025,2,20160622,       2353,    -2.5006,  -168.7509,       5334,   501.2,   8.6050,  34.6500,2,  34.6361,2,     70.1,2,    67.4,2,   33.88,2,   34.78,2,    0.00,4,    2.39,2,-999.000,9,-999.000,9,-999.000,9,  2246.4,2,  2304.9,2,-999.0000,9,  -999.00,-999.0000,9, -999.00,9, -999.00,9,  -999.0,9,  -999.0, -999.00,9, -999.00,9, -999.00,9, -999.00,9,   8.5513, -999.00
096U20160426,       P15S,     135,          1,         24,       2024,2,20160622,       2353,    -2.5006,  -168.7509,       5334,   600.5,   7.0120,  34.5720,2,  34.5731,2,     75.7,2,    68.8,2,   45.22,2,   37.67,2,    0.01,4,    2.59,2,-999.000,9,-999.000,9,-999.000,9,  2261.8,6,  2313.3,6,-999.0000,9,  -999.00,-999.0000,9, -999.00,9, -999.00,9,  -999.0,9,  -999.0, -999.00,9, -999.00,9, -999.00,9, -999.00,9,   6.9544, -999.00
096U20160426,       P15S,     135,          1,         23,       2023,2,20160622,       2353,    -2.5006,  -168.7509,       5334,   700.9,   6.1130,  34.5490,2,  34.5495,2,     82.8,2,    76.0,2,   55.19,2,   38.36,2,    0.00,4,    2.67,2,-999.000,9,-999.000,9,-999.000,9,  -999.0,9,  -999.0,9,-999.0000,9,  -999.00,-999.0000,9, -999.00,9, -999.00,9,  -999.0,9,  -999.0, -999.00,9, -999.00,9, -999.00,9, -999.00,9,   6.0501, -999.00
096U20160426,       P15S,     135,          1,         22,       2022,2,20160622,       2353,    -2.5006,  -168.7509,       5334,   800.2,   5.3040,  34.5440,2,  34.5440,2,     83.0,2,    79.1,2,   67.93,2,   39.17,2,    0.00,4,    2.74,2,-999.000,9,-999.000,9,-999.000,9,  -999.0,9,  -999.0,9,-999.0000,9,  -999.00,-999.0000,9, -999.00,9, -999.00,9,  -999.0,9,  -999.0, -999.00,9, -999.00,9, -999.00,9, -999.00,9,   5.2366, -999.00
096U20160426,       P15S,     135,          1,         21,       2021,2,20160622,       2353,    -2.5006,  -168.7509,       5334,   901.8,   4.7550,  34.5480,2,  34.5479,2,     89.4,2,    87.8,2,   77.12,2,   38.84,2,    0.00,4,    2.73,2,-999.000,9,-999.000,9,-999.000,9,  -999.0,9,  -999.0,9,-999.0000,9,  -999.00,-999.0000,9, -999.00,9, -999.00,9,  -999.0,9,  -999.0, -999.00,9, -999.00,9, -999.00,9, -999.00,9,   4.6821, -999.00
096U20160426,       P15S,     135,          1,         20,       2020,2,20160622,       2353,    -2.5006,  -168.7509,       5334,  1001.2,   4.3780,  34.5530,2,  34.5539,2,     93.9,2,    91.5,2,   83.54,2,   38.81,2,    0.00,4,    2.73,2,-999.000,9,-999.000,9,-999.000,9,  -999.0,9,  -999.0,9,-999.0000,9,  -999.00,-999.0000,9, -999.00,9, -999.00,9,  -999.0,9,  -999.0, -999.00,9, -999.00,9, -999.00,9, -999.00,9,   4.2992, -999.00
096U20160426,       P15S,     135,          1,         19,       2019,2,20160622,       2353,    -2.5006,  -168.7509,       5334,  1101.3,   4.0540,  34.5640,2,  34.5645,2,     91.6,2,    89.0,2,   92.67,2,   39.23,2,    0.00,4,    2.78,2,-999.000,9,-999.000,9,-999.000,9,  -999.0,9,  -999.0,9,-999.0000,9,  -999.00,-999.0000,9, -999.00,9, -999.00,9,  -999.0,9,  -999.0, -999.00,9, -999.00,9, -999.00,9, -999.00,9,   3.9693, -999.00
096U20160426,       P15S,     135,          1,         18,       2018,2,20160622,       2353,    -2.5006,  -168.7509,       5334,  1201.5,   3.7740,  34.5730,2,  34.5736,2,     93.4,2,    90.1,2,   99.30,2,   39.31,2,    0.00,4,    2.78,2,-999.000,9,-999.000,9,-999.000,9,  -999.0,9,  -999.0,9,-999.0000,9,  -999.00,-999.0000,9, -999.00,9, -999.00,9,  -999.0,9,  -999.0, -999.00,9, -999.00,9, -999.00,9, -999.00,9,   3.6832, -999.00
096U20160426,       P15S,     135,          1,         17,       2017,2,20160622,       2353,    -2.5006,  -168.7509,       5334,  1302.0,   3.4480,  34.5850,2,  34.5851,2,     95.4,2,    92.1,2,  106.69,2,   39.34,2,    0.00,4,    2.78,2,-999.000,9,-999.000,9,-999.000,9,  -999.0,9,  -999.0,9,-999.0000,9,  -999.00,-999.0000,9, -999.00,9, -999.00,9,  -999.0,9,  -999.0, -999.00,9, -999.00,9, -999.00,9, -999.00,9,   3.3519, -999.00
096U20160426,       P15S,     135,          1,         16,       2016,2,20160622,       2353,    -2.5006,  -168.7509,       5334,  1401.4,   3.2160,  34.5930,2,  34.5939,2,    100.8,2,    98.2,2,  110.61,2,   38.94,2,    0.00,4,    2.74,2,-999.000,9,-999.000,9,-999.000,9,  -999.0,9,  -999.0,9,-999.0000,9,  -999.00,-999.0000,9, -999.00,9, -999.00,9,  -999.0,9,  -999.0, -999.00,9, -999.00,9, -999.00,9, -999.00,9,   3.1139, -999.00
096U20160426,       P15S,     135,          1,         15,       2015,2,20160622,       2353,    -2.5006,  -168.7509,       5334,  1601.3,   2.7720,  34.6110,2,  34.6117,2,    109.9,2,   108.2,2,  119.56,2,   38.38,2,    0.00,4,    2.68,2,-999.000,9,-999.000,9,-999.000,9,  -999.0,9,  -999.0,9,-999.0000,9,  -999.00,-999.0000,9, -999.00,9, -999.00,9,  -999.0,9,  -999.0, -999.00,9, -999.00,9, -999.00,9, -999.00,9,   2.6583, -999.00
096U20160426,       P15S,     135,          1,         14,       2014,2,20160622,       2353,    -2.5006,  -168.7509,       5334,  1800.8,   2.5510,  34.6240,2,  34.6262,2,    108.7,2,   106.7,2,  126.03,2,   38.44,2,    0.00,4,    2.68,2,-999.000,9,-999.000,9,-999.000,9,  -999.0,9,  -999.0,9,-999.0000,9,  -999.00,-999.0000,9, -999.00,9, -999.00,9,  -999.0,9,  -999.0, -999.00,9, -999.00,9, -999.00,9, -999.00,9,   2.4234, -999.00
096U20160426,       P15S,     135,          1,         13,       2013,2,20160622,       2353,    -2.5006,  -168.7509,       5334,  2001.2,   2.2790,  34.6400,2,  34.6397,2,    114.3,2,   112.6,2,  134.40,2,   38.23,2,    0.00,4,    2.66,2,-999.000,9,-999.000,9,-999.000,9,  -999.0,9,  -999.0,9,-999.0000,9,  -999.00,-999.0000,9, -999.00,9, -999.00,9,  -999.0,9,  -999.0, -999.00,9, -999.00,9, -999.00,9, -999.00,9,   2.1382, -999.00
096U20160426,       P15S,     135,          1,         12,       2012,2,20160622,       2353,    -2.5006,  -168.7509,       5334,  2251.5,   2.0030,  34.6530,2,  34.6549,2,    123.4,2,   122.5,2,  138.63,2,   37.65,2,    0.00,4,    2.61,2,-999.000,9,-999.000,9,-999.000,9,  -999.0,9,  -999.0,9,-999.0000,9,  -999.00,-999.0000,9, -999.00,9, -999.00,9,  -999.0,9,  -999.0, -999.00,9, -999.00,9, -999.00,9, -999.00,9,   1.8448, -999.00
096U20160426,       P15S,     135,          1,         11,       2011,2,20160622,       2353,    -2.5006,  -168.7509,       5334,  2500.5,   1.8680,  34.6600,2,  34.6606,2,    128.0,2,   127.0,2,  141.28,2,   37.39,2,    0.00,4,    2.59,2,-999.000,9,-999.000,9,-999.000,9,  -999.0,9,  -999.0,9,-999.0000,9,  -999.00,-999.0000,9, -999.00,9, -999.00,9,  -999.0,9,  -999.0, -999.00,9, -999.00,9, -999.00,9, -999.00,9,   1.6901, -999.00
096U20160426,       P15S,     135,          1,         10,       2010,2,20160622,       2353,    -2.5006,  -168.7509,       5334,  2751.4,   1.7450,  34.6670,2,  34.6675,2,    134.4,2,   134.7,2,  141.42,2,   36.87,2,    0.00,4,    2.55,2,-999.000,9,-999.000,9,-999.000,9,  -999.0,9,  -999.0,9,-999.0000,9,  -999.00,-999.0000,9, -999.00,9, -999.00,9,  -999.0,9,  -999.0, -999.00,9, -999.00,9, -999.00,9, -999.00,9,   1.5464, -999.00
096U20160426,       P15S,     135,          1,          9,       2009,2,20160622,       2353,    -2.5006,  -168.7509,       5334,  3000.9,   1.6400,  34.6730,2,  34.6738,2,    139.6,2,   140.2,2,  142.49,2,   36.50,2,    0.00,4,    2.52,2,-999.000,9,-999.000,9,-999.000,9,  -999.0,9,  -999.0,9,-999.0000,9,  -999.00,-999.0000,9, -999.00,9, -999.00,9,  -999.0,9,  -999.0, -999.00,9, -999.00,9, -999.00,9, -999.00,9,   1.4200, -999.00
096U20160426,       P15S,     135,          1,          8,       2008,2,20160622,       2353,    -2.5006,  -168.7509,       5334,  3300.7,   1.5660,  34.6810,2,  34.6806,2,    149.2,2,   150.3,2,  139.60,2,   35.84,2,    0.00,4,    2.46,2,-999.000,9,-999.000,9,-999.000,9,  -999.0,9,  -999.0,9,-999.0000,9,  -999.00,-999.0000,9, -999.00,9, -999.00,9,  -999.0,9,  -999.0, -999.00,9, -999.00,9, -999.00,9, -999.00,9,   1.3183, -999.00
096U20160426,       P15S,     135,          1,          7,       2007,2,20160622,       2353,    -2.5006,  -168.7509,       5334,  3600.4,   1.4860,  34.6870,2,  34.6863,2,    155.7,2,   157.8,2,  139.28,2,   35.40,2,    0.00,4,    2.42,2,-999.000,9,-999.000,9,-999.000,9,  -999.0,9,  -999.0,9,-999.0000,9,  -999.00,-999.0000,9, -999.00,9, -999.00,9,  -999.0,9,  -999.0, -999.00,9, -999.00,9, -999.00,9, -999.00,9,   1.2098, -999.00
096U20160426,       P15S,     135,          1,          6,       2006,2,20160622,       2353,    -2.5006,  -168.7509,       5334,  4000.4,   1.4150,  34.6930,2,  34.6927,2,    163.8,2,   165.6,2,  138.21,2,   34.94,2,    0.00,4,    2.38,2,-999.000,9,-999.000,9,-999.000,9,  -999.0,9,  -999.0,9,-999.0000,9,  -999.00,-999.0000,9, -999.00,9, -999.00,9,  -999.0,9,  -999.0, -999.00,9, -999.00,9, -999.00,9, -999.00,9,   1.0983, -999.00
096U20160426,       P15S,     135,          1,          5,       2005,2,20160622,       2353,    -2.5006,  -168.7509,       5334,  4399.6,   1.3340,  34.6980,2,  34.6985,2,    176.1,2,   177.5,2,  131.70,2,   33.97,2,    0.00,4,    2.31,2,-999.000,9,-999.000,9,-999.000,9,  -999.0,9,  -999.0,9,-999.0000,9,  -999.00,-999.0000,9, -999.00,9, -999.00,9,  -999.0,9,  -999.0, -999.00,9, -999.00,9, -999.00,9, -999.00,9,   0.9755, -999.00
096U20160426,       P15S,     135,          1,          4,       2004,2,20160622,       2353,    -2.5006,  -168.7509,       5334,  4798.4,   1.2540,  34.7040,2,  34.7043,2,    188.9,2,   191.2,2,  124.22,2,   32.94,2,    0.00,4,    2.23,2,-999.000,9,-999.000,9,-999.000,9,  -999.0,9,  -999.0,9,-999.0000,9,  -999.00,-999.0000,9, -999.00,9, -999.00,9,  -999.0,9,  -999.0, -999.00,9, -999.00,9, -999.00,9, -999.00,9,   0.8519, -999.00
096U20160426,       P15S,     135,          1,          3,       2003,2,20160622,       2353,    -2.5006,  -168.7509,       5334,  5200.4,   1.2200,  34.7060,2,  34.7074,2,    197.1,2,   198.2,2,  121.07,2,   32.42,2,    0.00,4,    2.19,2,-999.000,9,-999.000,9,-999.000,9,  -999.0,9,  -999.0,9,-999.0000,9,  -999.00,-999.0000,9, -999.00,9, -999.00,9,  -999.0,9,  -999.0, -999.00,9, -999.00,9, -999.00,9, -999.00,9,   0.7707, -999.00
096U20160426,       P15S,     135,          1,          2,       2002,2,20160622,       2353,    -2.5006,  -168.7509,       5334,  5320.5,   1.2310,  34.7060,2,  34.7070,2,    197.5,2,   198.5,2,  121.07,2,   32.43,2,    0.00,4,    2.19,2,-999.000,9,-999.000,9,-999.000,9,  -999.0,9,  -999.0,9,-999.0000,9,  -999.00,-999.0000,9, -999.00,9, -999.00,9,  -999.0,9,  -999.0, -999.00,9, -999.00,9, -999.00,9, -999.00,9,   0.7665, -999.00
096U20160426,       P15S,     135,          1,          1,       2001,2,20160622,       2353,    -2.5006,  -168.7509,       5334,  5411.1,   1.2430,  34.7060,2,  34.7077,2,    197.6,2,   198.7,2,  121.03,2,   32.40,2,    0.00,4,    2.20,2,-999.000,9,-999.000,9,-999.000,9,  -999.0,9,  -999.0,9,-999.0000,9,  -999.00,-999.0000,9, -999.00,9, -999.00,9,  -999.0,9,  -999.0, -999.00,9, -999.00,9, -999.00,9, -999.00,9,   0.7668, -999.00