BOTTLE,20230413CCHSIOENA
EXPOCODE,SECT_ID,STNNBR,CASTNO,SAMPNO,BTLNBR,BTLNBR_FLAG_W,DATE,TIME,LATITUDE,LONGITUDE,DEPTH,CTDPRS,CTDTMP,CTDSAL,CTDSAL_FLAG_W,SALNTY,SALNTY_FLAG_W,CTDOXY,CTDOXY_FLAG_W,OXYGEN,OXYGEN_FLAG_W,SILCAT,SILCAT_FLAG_W,NITRAT,NITRAT_FLAG_W,NITRIT,NITRIT_FLAG_W,PHSPHT,PHSPHT_FLAG_W,CFC-11,CFC-11_FLAG_W,CFC-12,CFC-12_FLAG_W,SF6,SF6_FLAG_W,TCARBN,TCARBN_FLAG_W,ALKALI,ALKALI_FLAG_W,PH_TOT,PH_TOT_FLAG_W,PH_TMP,HELIUM,HELIUM_FLAG_W,DELHE3,DELHE3_FLAG_W,DELC13,DELC13_FLAG_W,DELC14,DELC14_FLAG_W,C14ERR,POC,POC_FLAG_W,PON,PON_FLAG_W,CHLORA,CHLORA_FLAG_W,PPHYTN,PPHYTN_FLAG_W,THETA,DELHER
,,,,,,,,,,,METERS,DBAR,ITS-90,PSS-78,,PSS-78,,UMOL/KG,,UMOL/KG,,UMOL/KG,,UMOL/KG,,UMOL/KG,,UMOL/KG,,PMOL/KG,,PMOL/KG,,FMOL/KG,,UMOL/KG,,UMOL/KG,,,,DEG C,NMOL/KG,,PERCNT,,/MILLE,,/MILLE,,/MILLE,UG/KG,,UG/KG,,UG/KG,,UG/KG,,DEG C,PERCNT
096U20160426,       P15S,      49,          1,         36,       2036,2,20160523,       1701,   -42.9327,  -174.7838,       1058,     5.4,  14.3620,  35.0550,2,  35.0567,2,    252.2,2,   246.7,2,    0.70,2,    1.45,2,    0.22,2,    0.27,2,   2.651,2,   1.556,2,   1.936,2,  2078.0,2,  2311.3,2,-999.0000,9,  -999.00,-999.0000,9, -999.00,9, -999.00,9,  -999.0,9,  -999.0, -999.00,9, -999.00,9,    0.85,2,    0.08,3,  14.3612, -999.00
096U20160426,       P15S,      49,          1,         35,       2035,2,20160523,       1701,   -42.9327,  -174.7838,       1058,    23.7,  14.3660,  35.0550,2,  35.0559,2,    252.5,2,   246.9,2,    0.71,2,    1.45,2,    0.22,2,    0.27,2,-999.000,9,-999.000,9,-999.000,9,  -999.0,9,  -999.0,9,-999.0000,9,  -999.00,-999.0000,9, -999.00,9, -999.00,9,  -999.0,9,  -999.0, -999.00,9, -999.00,9,    0.86,2,    0.00,3,  14.3625, -999.00
096U20160426,       P15S,      49,          1,         34,       2034,2,20160523,       1701,   -42.9327,  -174.7838,       1058,    50.0,  14.1870,  35.0380,2,  35.0412,2,    252.8,2,   247.2,2,    0.74,2,    1.81,2,    0.22,2,    0.30,2,   2.653,2,   1.571,2,     1.9,2,  2080.9,2,  2310.2,2,-999.0000,9,  -999.00,-999.0000,9, -999.00,9, -999.00,9,  -999.0,9,  -999.0, -999.00,9, -999.00,9,    0.47,2,    0.30,3,  14.1797, -999.00
096U20160426,       P15S,      49,          1,         33,       2033,2,20160523,       1701,   -42.9327,  -174.7838,       1058,    74.6,  14.0420,  35.0290,2,  35.0302,2,    248.3,2,   241.4,2,    0.95,2,    3.15,2,    0.18,2,    0.38,2,-999.000,9,-999.000,9,-999.000,9,  -999.0,9,  -999.0,9,-999.0000,9,  -999.00,-999.0000,9, -999.00,9, -999.00,9,  -999.0,9,  -999.0, -999.00,9, -999.00,9,    0.42,2,   -0.03,3,  14.0312, -999.00
096U20160426,       P15S,      49,          1,         32,       2032,2,20160523,       1701,   -42.9327,  -174.7838,       1058,    99.6,  12.6290,  35.0350,2,  35.0420,2,    231.5,2,   225.7,2,    2.17,2,    8.47,2,    0.02,4,    0.67,2,-999.000,9,-999.000,9,-999.000,9,  2113.3,2,  2305.3,2,-999.0000,9,  -999.00,-999.0000,9, -999.00,9, -999.00,9,  -999.0,9,  -999.0, -999.00,9, -999.00,9,    0.07,2,    0.01,3,  12.6156, -999.00
096U20160426,       P15S,      49,          1,         31,       2031,2,20160523,       1701,   -42.9327,  -174.7838,       1058,   151.5,  12.2450,  35.0480,2,  35.0493,2,    227.2,2,   223.3,2,    2.93,2,    9.88,2,    0.02,4,    0.74,2,   2.845,2,   1.649,2,   1.706,2,  2119.4,2,  2305.0,2,-999.0000,9,  -999.00,-999.0000,9, -999.00,9, -999.00,9,  -999.0,9,  -999.0, -999.00,9, -999.00,9, -999.00,9, -999.00,9,  12.2250, -999.00
096U20160426,       P15S,      49,          1,         30,       2030,2,20160523,       1701,   -42.9327,  -174.7838,       1058,   199.6,  11.4160,  34.9290,2,-999.0000,9,    235.8,2,  -999.0,9, -999.00,9, -999.00,9, -999.00,9, -999.00,9,-999.000,9,-999.000,9,-999.000,9,  -999.0,9,  -999.0,9,-999.0000,9,  -999.00,-999.0000,9, -999.00,9, -999.00,9,  -999.0,9,  -999.0, -999.00,9, -999.00,9, -999.00,9, -999.00,9,  11.3908, -999.00
096U20160426,       P15S,      49,          1,         29,       2029,2,20160523,       1701,   -42.9327,  -174.7838,       1058,   201.9,  11.4020,  34.9270,2,  34.9284,2,    235.4,2,   230.4,2,    3.07,2,   11.17,2,    0.02,4,    0.82,2,   2.971,2,   1.712,2,   1.819,2,  2122.7,6,  2301.2,6,-999.0000,9,  -999.00,-999.0000,9, -999.00,9, -999.00,9,  -999.0,9,  -999.0, -999.00,9, -999.00,9, -999.00,9, -999.00,9,  11.3765, -999.00
096U20160426,       P15S,      49,          1,         27,       2027,2,20160523,       1701,   -42.9327,  -174.7838,       1058,   250.1,  10.9420,  34.8570,2,  34.8472,2,    232.2,2,   226.1,2,    3.70,2,   12.94,2,    0.01,4,    0.93,2,   3.063,2,   1.733,2,   1.762,2,  2128.6,2,  2297.4,2,-999.0000,9,  -999.00,-999.0000,9, -999.00,9, -999.00,9,  -999.0,9,  -999.0, -999.00,9, -999.00,9, -999.00,9, -999.00,9,  10.9112, -999.00
096U20160426,       P15S,      49,          1,         28,       2028,2,20160523,       1701,   -42.9327,  -174.7838,       1058,   250.6,  10.9510,  34.8570,2,-999.0000,9,    232.1,2,  -999.0,9, -999.00,9, -999.00,9, -999.00,9, -999.00,9,-999.000,9,-999.000,9,-999.000,9,  -999.0,9,  -999.0,9,-999.0000,9,  -999.00,-999.0000,9, -999.00,9, -999.00,9,  -999.0,9,  -999.0, -999.00,9, -999.00,9, -999.00,9, -999.00,9,  10.9202, -999.00
096U20160426,       P15S,      49,          1,         26,       2026,2,20160523,       1701,   -42.9327,  -174.7838,       1058,   298.8,  10.3410,  34.7700,2,-999.0000,9,    227.0,2,  -999.0,9, -999.00,9, -999.00,9, -999.00,9, -999.00,9,-999.000,9,-999.000,9,-999.000,9,  -999.0,9,  -999.0,9,-999.0000,9,  -999.00,-999.0000,9, -999.00,9, -999.00,9,  -999.0,9,  -999.0, -999.00,9, -999.00,9, -999.00,9, -999.00,9,  10.3055, -999.00
096U20160426,       P15S,      49,          1,         25,       2025,2,20160523,       1701,   -42.9327,  -174.7838,       1058,   301.2,  10.2990,  34.7650,2,  34.7684,2,    226.0,2,   221.5,2,    4.40,2,   14.80,2,    0.01,4,    1.05,2,   3.071,2,   1.733,2,    1.66,2,  2134.2,2,  2294.7,2,-999.0000,9,  -999.00,-999.0000,9, -999.00,9, -999.00,9,  -999.0,9,  -999.0, -999.00,9, -999.00,9, -999.00,9, -999.00,9,  10.2633, -999.00
096U20160426,       P15S,      49,          1,         24,       2024,2,20160523,       1701,   -42.9327,  -174.7838,       1058,   347.5,   9.7820,  34.7030,2,-999.0000,9,    220.4,2,  -999.0,9, -999.00,9, -999.00,9, -999.00,9, -999.00,9,-999.000,9,-999.000,9,-999.000,9,  -999.0,9,  -999.0,9,-999.0000,9,  -999.00,-999.0000,9, -999.00,9, -999.00,9,  -999.0,9,  -999.0, -999.00,9, -999.00,9, -999.00,9, -999.00,9,   9.7421, -999.00
096U20160426,       P15S,      49,          1,         23,       2023,2,20160523,       1701,   -42.9327,  -174.7838,       1058,   350.9,   9.7990,  34.7050,2,  34.6990,2,    220.6,2,   216.2,2,    5.38,2,   16.93,2,    0.01,4,    1.18,2,   3.100,2,   1.715,2,   1.473,2,  2139.8,2,  2291.4,2,-999.0000,9,  -999.00,-999.0000,9, -999.00,9, -999.00,9,  -999.0,9,  -999.0, -999.00,9, -999.00,9, -999.00,9, -999.00,9,   9.7586, -999.00
096U20160426,       P15S,      49,          1,         22,       2022,2,20160523,       1701,   -42.9327,  -174.7838,       1058,   399.8,   9.3410,  34.6530,2,-999.0000,9,    222.9,2,  -999.0,9, -999.00,9, -999.00,9, -999.00,9, -999.00,9,-999.000,9,-999.000,9,-999.000,9,  -999.0,9,  -999.0,9,-999.0000,9,  -999.00,-999.0000,9, -999.00,9, -999.00,9,  -999.0,9,  -999.0, -999.00,9, -999.00,9, -999.00,9, -999.00,9,   9.2962, -999.00
096U20160426,       P15S,      49,          1,         21,       2021,2,20160523,       1701,   -42.9327,  -174.7838,       1058,   400.5,   9.3010,  34.6470,2,  34.6459,2,    223.1,2,   218.6,2,    5.89,2,   17.91,2,    0.01,4,    1.24,2,   3.151,2,   1.725,2,   1.394,2,  2142.5,2,  2290.1,2,-999.0000,9,  -999.00,-999.0000,9, -999.00,9, -999.00,9,  -999.0,9,  -999.0, -999.00,9, -999.00,9, -999.00,9, -999.00,9,   9.2563, -999.00
096U20160426,       P15S,      49,          1,         20,       2020,2,20160523,       1701,   -42.9327,  -174.7838,       1058,   444.8,   8.8900,  34.6010,2,-999.0000,9,    229.9,2,  -999.0,9, -999.00,9, -999.00,9, -999.00,9, -999.00,9,-999.000,9,-999.000,9,-999.000,9,  -999.0,9,  -999.0,9,-999.0000,9,  -999.00,-999.0000,9, -999.00,9, -999.00,9,  -999.0,9,  -999.0, -999.00,9, -999.00,9, -999.00,9, -999.00,9,   8.8416, -999.00
096U20160426,       P15S,      49,          1,         19,       2019,2,20160523,       1701,   -42.9327,  -174.7838,       1058,   450.1,   8.8750,  34.5990,2,  34.6004,2,    229.8,2,   225.3,2,    6.23,2,   18.36,2,    0.01,4,    1.28,2,   3.189,2,   1.751,2,   1.468,2,  2141.7,6,  2288.4,6,-999.0000,9,  -999.00,-999.0000,9, -999.00,9, -999.00,9,  -999.0,9,  -999.0, -999.00,9, -999.00,9, -999.00,9, -999.00,9,   8.8260, -999.00
096U20160426,       P15S,      49,          1,         18,       2018,2,20160523,       1701,   -42.9327,  -174.7838,       1058,   498.2,   8.5060,  34.5610,2,-999.0000,9,    229.1,2,  -999.0,9, -999.00,9, -999.00,9, -999.00,9, -999.00,9,-999.000,9,-999.000,9,-999.000,9,  -999.0,9,  -999.0,9,-999.0000,9,  -999.00,-999.0000,9, -999.00,9, -999.00,9,  -999.0,9,  -999.0, -999.00,9, -999.00,9, -999.00,9, -999.00,9,   8.4531, -999.00
096U20160426,       P15S,      49,          1,         17,       2017,2,20160523,       1701,   -42.9327,  -174.7838,       1058,   500.8,   8.5100,  34.5610,2,  34.5597,2,    229.1,2,   224.1,2,    7.08,2,   19.56,2,    0.01,4,    1.35,2,   3.196,6,   1.734,6,   1.362,6,  2145.9,2,  2288.2,2,-999.0000,9,  -999.00,-999.0000,9, -999.00,9, -999.00,9,  -999.0,9,  -999.0, -999.00,9, -999.00,9, -999.00,9, -999.00,9,   8.4568, -999.00
096U20160426,       P15S,      49,          1,         15,       2015,2,20160523,       1701,   -42.9327,  -174.7838,       1058,   546.2,   8.1920,  34.5330,2,  34.5314,2,    224.6,2,   219.6,2,    8.02,2,   20.89,2,    0.00,4,    1.43,2,-999.000,9,-999.000,9,-999.000,9,  -999.0,9,  -999.0,9,-999.0000,9,  -999.00,-999.0000,9, -999.00,9, -999.00,9,  -999.0,9,  -999.0, -999.00,9, -999.00,9, -999.00,9, -999.00,9,   8.1351, -999.00
096U20160426,       P15S,      49,          1,         16,       2016,2,20160523,       1701,   -42.9327,  -174.7838,       1058,   549.8,   8.2050,  34.5340,2,-999.0000,9,    224.5,2,  -999.0,9, -999.00,9, -999.00,9, -999.00,9, -999.00,9,-999.000,9,-999.000,9,-999.000,9,  -999.0,9,  -999.0,9,-999.0000,9,  -999.00,-999.0000,9, -999.00,9, -999.00,9,  -999.0,9,  -999.0, -999.00,9, -999.00,9, -999.00,9, -999.00,9,   8.1476, -999.00
096U20160426,       P15S,      49,          1,         14,       2014,2,20160523,       1701,   -42.9327,  -174.7838,       1058,   599.2,   7.8520,  34.5020,2,-999.0000,9,    223.6,2,  -999.0,9, -999.00,9, -999.00,9, -999.00,9, -999.00,9,-999.000,9,-999.000,9,-999.000,9,  -999.0,9,  -999.0,9,-999.0000,9,  -999.00,-999.0000,9, -999.00,9, -999.00,9,  -999.0,9,  -999.0, -999.00,9, -999.00,9, -999.00,9, -999.00,9,   7.7909, -999.00
096U20160426,       P15S,      49,          1,         13,       2013,2,20160523,       1701,   -42.9327,  -174.7838,       1058,   601.2,   7.8430,  34.5010,2,  34.5002,2,    223.8,2,   219.2,2,    8.98,2,   21.87,2,    0.00,4,    1.49,2,   3.031,2,   1.595,2,   1.018,2,  2151.1,2,  2285.4,6,-999.0000,9,  -999.00,-999.0000,9, -999.00,9, -999.00,9,  -999.0,9,  -999.0, -999.00,9, -999.00,9, -999.00,9, -999.00,9,   7.7817, -999.00
096U20160426,       P15S,      49,          1,         11,       2011,2,20160523,       1701,   -42.9327,  -174.7838,       1058,   650.0,   7.5670,  34.4760,2,  34.4781,2,    223.6,2,   219.2,2,    9.75,2,   22.53,2,    0.00,4,    1.53,2,-999.000,9,-999.000,9,-999.000,9,  -999.0,9,  -999.0,9,-999.0000,9,  -999.00,-999.0000,9, -999.00,9, -999.00,9,  -999.0,9,  -999.0, -999.00,9, -999.00,9, -999.00,9, -999.00,9,   7.5019, -999.00
096U20160426,       P15S,      49,          1,         12,       2012,2,20160523,       1701,   -42.9327,  -174.7838,       1058,   650.3,   7.5680,  34.4770,2,-999.0000,9,    223.8,2,  -999.0,9, -999.00,9, -999.00,9, -999.00,9, -999.00,9,-999.000,9,-999.000,9,-999.000,9,  -999.0,9,  -999.0,9,-999.0000,9,  -999.00,-999.0000,9, -999.00,9, -999.00,9,  -999.0,9,  -999.0, -999.00,9, -999.00,9, -999.00,9, -999.00,9,   7.5029, -999.00
096U20160426,       P15S,      49,          1,          9,       2009,2,20160523,       1701,   -42.9327,  -174.7838,       1058,   700.4,   7.2800,  34.4550,2,  34.4568,2,    222.7,2,   218.4,2,   10.99,2,   23.34,2,    0.00,4,    1.58,2,   2.756,2,   1.415,2,   0.744,2,  2155.1,2,  2286.7,2,-999.0000,9,  -999.00,-999.0000,9, -999.00,9, -999.00,9,  -999.0,9,  -999.0, -999.00,9, -999.00,9, -999.00,9, -999.00,9,   7.2111, -999.00
096U20160426,       P15S,      49,          1,         10,       2010,2,20160523,       1701,   -42.9327,  -174.7838,       1058,   701.7,   7.2940,  34.4560,2,-999.0000,9,    222.7,2,  -999.0,9, -999.00,9, -999.00,9, -999.00,9, -999.00,9,-999.000,9,-999.000,9,-999.000,9,  -999.0,9,  -999.0,9,-999.0000,9,  -999.00,-999.0000,9, -999.00,9, -999.00,9,  -999.0,9,  -999.0, -999.00,9, -999.00,9, -999.00,9, -999.00,9,   7.2249, -999.00
096U20160426,       P15S,      49,          1,          8,       2008,2,20160523,       1701,   -42.9327,  -174.7838,       1058,   748.0,   6.9700,  34.4340,2,-999.0000,9,    221.1,2,  -999.0,9, -999.00,9, -999.00,9, -999.00,9, -999.00,9,-999.000,9,-999.000,9,-999.000,9,  -999.0,9,  -999.0,9,-999.0000,9,  -999.00,-999.0000,9, -999.00,9, -999.00,9,  -999.0,9,  -999.0, -999.00,9, -999.00,9, -999.00,9, -999.00,9,   6.8980, -999.00
096U20160426,       P15S,      49,          1,          7,       2007,2,20160523,       1701,   -42.9327,  -174.7838,       1058,   750.9,   6.9640,  34.4340,2,  34.4362,2,    220.9,2,   216.6,2,   12.59,2,   24.21,2,    0.00,4,    1.64,2,-999.000,9,-999.000,9,-999.000,9,  -999.0,9,  -999.0,9,-999.0000,9,  -999.00,-999.0000,9, -999.00,9, -999.00,9,  -999.0,9,  -999.0, -999.00,9, -999.00,9, -999.00,9, -999.00,9,   6.8917, -999.00
096U20160426,       P15S,      49,          1,          5,       2005,2,20160523,       1701,   -42.9327,  -174.7838,       1058,   799.5,   6.7420,  34.4260,2,  34.4272,2,    218.0,2,   213.6,2,   14.37,2,   24.93,2,    0.00,4,    1.69,2,   2.301,2,   1.164,2,   0.582,2,  2161.9,2,  2288.2,2,-999.0000,9,  -999.00,-999.0000,9, -999.00,9, -999.00,9,  -999.0,9,  -999.0, -999.00,9, -999.00,9, -999.00,9, -999.00,9,   6.6661, -999.00
096U20160426,       P15S,      49,          1,          6,       2006,2,20160523,       1701,   -42.9327,  -174.7838,       1058,   799.5,   6.7810,  34.4280,2,-999.0000,9,    218.4,2,  -999.0,9, -999.00,9, -999.00,9, -999.00,9, -999.00,9,-999.000,9,-999.000,9,-999.000,9,  -999.0,9,  -999.0,9,-999.0000,9,  -999.00,-999.0000,9, -999.00,9, -999.00,9,  -999.0,9,  -999.0, -999.00,9, -999.00,9, -999.00,9, -999.00,9,   6.7049, -999.00
096U20160426,       P15S,      49,          1,          3,       2003,2,20160523,       1701,   -42.9327,  -174.7838,       1058,   929.5,   5.9750,  34.4040,2,-999.0000,9,    208.8,2,  -999.0,9, -999.00,9, -999.00,9, -999.00,9, -999.00,9,-999.000,9,-999.000,9,-999.000,9,  -999.0,9,  -999.0,9,-999.0000,9,  -999.00,-999.0000,9, -999.00,9, -999.00,9,  -999.0,9,  -999.0, -999.00,9, -999.00,9, -999.00,9, -999.00,9,   5.8913, -999.00
096U20160426,       P15S,      49,          1,          4,       2004,2,20160523,       1701,   -42.9327,  -174.7838,       1058,   932.5,   6.0010,  34.4040,2,  34.4049,2,    209.0,2,   204.9,2,   21.54,2,   27.26,2,    0.00,4,    1.85,2,   1.641,2,   0.827,2,    0.37,2,  2175.3,2,  2296.9,2,-999.0000,9,  -999.00,-999.0000,9, -999.00,9, -999.00,9,  -999.0,9,  -999.0, -999.00,9, -999.00,9, -999.00,9, -999.00,9,   5.9168, -999.00
096U20160426,       P15S,      49,          1,          2,       2002,2,20160523,       1701,   -42.9327,  -174.7838,       1058,  1048.8,   5.4080,  34.4080,2,-999.0000,9,    199.6,2,  -999.0,9, -999.00,9, -999.00,9, -999.00,9, -999.00,9,-999.000,9,-999.000,9,-999.000,9,  -999.0,9,  -999.0,9,-999.0000,9,  -999.00,-999.0000,9, -999.00,9, -999.00,9,  -999.0,9,  -999.0, -999.00,9, -999.00,9, -999.00,9, -999.00,9,   5.3172, -999.00
096U20160426,       P15S,      49,          1,          1,       2001,2,20160523,       1701,   -42.9327,  -174.7838,       1058,  1051.1,   5.2760,  34.4130,2,  34.4092,2,    198.3,2,   196.0,2,   29.49,2,   28.93,2,    0.01,4,    1.97,2,   1.199,2,   0.601,2,   0.275,2,  2190.0,2,  2297.9,2,-999.0000,9,  -999.00,-999.0000,9, -999.00,9, -999.00,9,  -999.0,9,  -999.0, -999.00,9, -999.00,9, -999.00,9, -999.00,9,   5.1860, -999.00