BOTTLE,20230413CCHSIOENA
EXPOCODE,SECT_ID,STNNBR,CASTNO,SAMPNO,BTLNBR,BTLNBR_FLAG_W,DATE,TIME,LATITUDE,LONGITUDE,DEPTH,CTDPRS,CTDTMP,CTDSAL,CTDSAL_FLAG_W,SALNTY,SALNTY_FLAG_W,CTDOXY,CTDOXY_FLAG_W,OXYGEN,OXYGEN_FLAG_W,SILCAT,SILCAT_FLAG_W,NITRAT,NITRAT_FLAG_W,NITRIT,NITRIT_FLAG_W,PHSPHT,PHSPHT_FLAG_W,CFC-11,CFC-11_FLAG_W,CFC-12,CFC-12_FLAG_W,SF6,SF6_FLAG_W,TCARBN,TCARBN_FLAG_W,ALKALI,ALKALI_FLAG_W,PH_TOT,PH_TOT_FLAG_W,PH_TMP,HELIUM,HELIUM_FLAG_W,DELHE3,DELHE3_FLAG_W,DELC13,DELC13_FLAG_W,DELC14,DELC14_FLAG_W,C14ERR,POC,POC_FLAG_W,PON,PON_FLAG_W,CHLORA,CHLORA_FLAG_W,PPHYTN,PPHYTN_FLAG_W,THETA,DELHER
,,,,,,,,,,,METERS,DBAR,ITS-90,PSS-78,,PSS-78,,UMOL/KG,,UMOL/KG,,UMOL/KG,,UMOL/KG,,UMOL/KG,,UMOL/KG,,PMOL/KG,,PMOL/KG,,FMOL/KG,,UMOL/KG,,UMOL/KG,,,,DEG C,NMOL/KG,,PERCNT,,/MILLE,,/MILLE,,/MILLE,UG/KG,,UG/KG,,UG/KG,,UG/KG,,DEG C,PERCNT
096U20160426,       P15S,      26,          1,         36,       2036,2,20160515,       2357,   -54.4982,  -170.0027,       4829,     8.8,   6.0610,  34.1270,2,  34.1278,2,    297.4,2,   295.8,2,    4.95,2,   19.83,2,    0.25,2,    1.41,2,-999.000,9,-999.000,9,-999.000,9,  2123.2,2,  2277.6,2,-999.0000,9,  -999.00,-999.0000,9, -999.00,9, -999.00,9,  -999.0,9,  -999.0, -999.00,9, -999.00,9,    0.46,2,    0.07,3,   6.0603, -999.00
096U20160426,       P15S,      26,          1,         35,       2035,2,20160515,       2357,   -54.4982,  -170.0027,       4829,    36.3,   6.0550,  34.1270,2,  34.1279,2,    297.3,2,   295.7,2,    4.93,2,   19.85,2,    0.24,2,    1.42,2,-999.000,9,-999.000,9,-999.000,9,  -999.0,9,  -999.0,9,-999.0000,9,  -999.00,-999.0000,9, -999.00,9, -999.00,9,  -999.0,9,  -999.0, -999.00,9, -999.00,9,    0.52,2,    0.08,3,   6.0520, -999.00
096U20160426,       P15S,      26,          1,         34,       2034,2,20160515,       2357,   -54.4982,  -170.0027,       4829,    60.3,   6.0600,  34.1270,2,  34.1278,2,    297.1,2,   295.7,2,    4.92,2,   19.84,2,    0.24,2,    1.42,2,-999.000,9,-999.000,9,-999.000,9,  -999.0,9,  -999.0,9,-999.0000,9,  -999.00,   1.7790,2,   -1.52,2, -999.00,9,  -999.0,9,  -999.0, -999.00,9, -999.00,9,    0.52,2,    0.08,3,   6.0549,    0.97
096U20160426,       P15S,      26,          1,         33,       2033,2,20160515,       2357,   -54.4982,  -170.0027,       4829,    86.4,   6.0510,  34.1260,2,  34.1270,2,    296.6,2,   295.6,2,    4.92,2,   19.86,2,    0.24,2,    1.42,2,-999.000,9,-999.000,9,-999.000,9,  -999.0,9,  -999.0,9,-999.0000,9,  -999.00,-999.0000,9, -999.00,9, -999.00,9,  -999.0,9,  -999.0, -999.00,9, -999.00,9,    0.48,2,    0.12,3,   6.0437, -999.00
096U20160426,       P15S,      26,          1,         32,       2032,2,20160515,       2357,   -54.4982,  -170.0027,       4829,   116.8,   5.9970,  34.1210,2,  34.1214,2,    296.6,2,   296.0,2,    4.93,2,   20.02,2,    0.24,2,    1.43,2,-999.000,9,-999.000,9,-999.000,9,  -999.0,9,  -999.0,9,-999.0000,9,  -999.00,-999.0000,9, -999.00,9, -999.00,9,  -999.0,9,  -999.0, -999.00,9, -999.00,9, -999.00,9, -999.00,9,   5.9872, -999.00
096U20160426,       P15S,      26,          1,         31,       2031,2,20160515,       2357,   -54.4982,  -170.0027,       4829,   166.7,   5.3020,  34.0400,2,  34.0434,2,    301.8,2,   300.0,2,    5.42,2,   21.65,2,    0.21,2,    1.53,2,-999.000,9,-999.000,9,-999.000,9,  -999.0,9,  -999.0,9,-999.0000,9,  -999.00,-999.0000,9, -999.00,9, -999.00,9,  -999.0,9,  -999.0, -999.00,9, -999.00,9,    0.42,2,    0.11,3,   5.2889, -999.00
096U20160426,       P15S,      26,          1,         30,       2030,2,20160515,       2357,   -54.4982,  -170.0027,       4829,   215.5,   5.6340,  34.1930,2,  34.1899,2,    281.1,2,   280.0,2,    8.76,2,   22.54,2,    0.01,4,    1.56,2,-999.000,9,-999.000,9,-999.000,9,  -999.0,9,  -999.0,9,-999.0000,9,  -999.00,-999.0000,9, -999.00,9, -999.00,9,  -999.0,9,  -999.0, -999.00,9, -999.00,9, -999.00,9, -999.00,9,   5.6163, -999.00
096U20160426,       P15S,      26,          1,         29,       2029,2,20160515,       2357,   -54.4982,  -170.0027,       4829,   266.0,   5.2470,  34.1690,2,  34.1676,2,    280.6,2,   279.7,2,   10.04,2,   23.38,2,    0.01,4,    1.61,2,-999.000,9,-999.000,9,-999.000,9,  2145.3,2,  2277.2,2,-999.0000,9,  -999.00,-999.0000,9, -999.00,9, -999.00,9,  -999.0,9,  -999.0, -999.00,9, -999.00,9, -999.00,9, -999.00,9,   5.2259, -999.00
096U20160426,       P15S,      26,          1,         28,       2028,2,20160515,       2357,   -54.4982,  -170.0027,       4829,   313.5,   4.9980,  34.1590,2,  34.1587,2,    277.8,2,   276.4,2,   11.39,2,   24.15,2,    0.01,4,    1.66,2,-999.000,9,-999.000,9,-999.000,9,  -999.0,9,  -999.0,9,-999.0000,9,  -999.00,-999.0000,9, -999.00,9, -999.00,9,  -999.0,9,  -999.0, -999.00,9, -999.00,9, -999.00,9, -999.00,9,   4.9736, -999.00
096U20160426,       P15S,      26,          1,         27,       2027,2,20160515,       2357,   -54.4982,  -170.0027,       4829,   363.9,   4.6710,  34.1370,2,  34.1373,2,    279.8,2,   279.2,2,   11.96,2,   24.61,2,    0.01,4,    1.69,2,-999.000,9,-999.000,9,-999.000,9,  -999.0,9,  -999.0,9,-999.0000,9,  -999.00,-999.0000,9, -999.00,9, -999.00,9,  -999.0,9,  -999.0, -999.00,9, -999.00,9, -999.00,9, -999.00,9,   4.6435, -999.00
096U20160426,       P15S,      26,          1,         26,       2026,2,20160515,       2357,   -54.4982,  -170.0027,       4829,   431.5,   4.6310,  34.1820,2,  34.1827,2,    254.6,2,   253.4,2,   16.91,2,   26.50,2,    0.00,4,    1.83,2,-999.000,9,-999.000,9,-999.000,9,  -999.0,9,  -999.0,9,-999.0000,9,  -999.00,-999.0000,9, -999.00,9, -999.00,9,  -999.0,9,  -999.0, -999.00,9, -999.00,9, -999.00,9, -999.00,9,   4.5983, -999.00
096U20160426,       P15S,      26,          1,         25,       2025,2,20160515,       2357,   -54.4982,  -170.0027,       4829,   535.3,   4.3220,  34.2380,2,  34.2391,2,    230.0,2,   228.7,2,   24.64,2,   29.27,2,    0.00,4,    2.00,2,-999.000,9,-999.000,9,-999.000,9,  2184.1,2,  2287.4,2,-999.0000,9,  -999.00,-999.0000,9, -999.00,9, -999.00,9,  -999.0,9,  -999.0, -999.00,9, -999.00,9, -999.00,9, -999.00,9,   4.2823, -999.00
096U20160426,       P15S,      26,          1,         24,       2024,2,20160515,       2357,   -54.4982,  -170.0027,       4829,   635.2,   3.8820,  34.2640,2,  34.2645,2,    219.9,2,   218.3,2,   31.45,2,   30.83,2,    0.00,4,    2.12,2,-999.000,9,-999.000,9,-999.000,9,  -999.0,9,  -999.0,9,-999.0000,9,  -999.00,   1.8150,2,    2.61,2, -999.00,9,  -999.0,9,  -999.0, -999.00,9, -999.00,9, -999.00,9, -999.00,9,   3.8365,    0.42
096U20160426,       P15S,      26,          1,         23,       2023,2,20160515,       2357,   -54.4982,  -170.0027,       4829,   734.9,   3.5720,  34.3150,2,  34.3168,2,    206.4,2,   204.4,2,   40.14,2,   32.19,2,    0.00,4,    2.22,2,-999.000,9,-999.000,9,-999.000,9,  -999.0,9,  -999.0,9,-999.0000,9,  -999.00,-999.0000,9, -999.00,9, -999.00,9,  -999.0,9,  -999.0, -999.00,9, -999.00,9, -999.00,9, -999.00,9,   3.5206, -999.00
096U20160426,       P15S,      26,          1,         22,       2022,2,20160515,       2357,   -54.4982,  -170.0027,       4829,   835.3,   3.2470,  34.3590,2,  34.3608,2,    197.3,2,   195.1,2,   47.73,2,   33.10,2,    0.00,4,    2.29,2,-999.000,9,-999.000,9,-999.000,9,  -999.0,9,  -999.0,9,-999.0000,9,  -999.00,-999.0000,9, -999.00,9, -999.00,9,  -999.0,9,  -999.0, -999.00,9, -999.00,9, -999.00,9, -999.00,9,   3.1899, -999.00
096U20160426,       P15S,      26,          1,         21,       2021,2,20160515,       2357,   -54.4982,  -170.0027,       4829,   934.1,   2.9750,  34.4150,2,  34.4144,2,    188.1,2,   186.2,2,   55.51,2,   33.77,2,    0.00,4,    2.34,2,-999.000,9,-999.000,9,-999.000,9,  -999.0,9,  -999.0,9,-999.0000,9,  -999.00,-999.0000,9, -999.00,9, -999.00,9,  -999.0,9,  -999.0, -999.00,9, -999.00,9, -999.00,9, -999.00,9,   2.9124, -999.00
096U20160426,       P15S,      26,          1,         20,       2020,2,20160515,       2357,   -54.4982,  -170.0027,       4829,  1036.3,   2.8060,  34.4710,2,  34.4704,2,    181.1,2,   179.0,2,   62.08,2,   34.05,2,    0.00,4,    2.36,2,-999.000,9,-999.000,9,-999.000,9,  2241.2,2,  2322.0,2,-999.0000,9,  -999.00,-999.0000,9, -999.00,9, -999.00,9,  -999.0,9,  -999.0, -999.00,9, -999.00,9, -999.00,9, -999.00,9,   2.7370, -999.00
096U20160426,       P15S,      26,          1,         19,       2019,2,20160515,       2357,   -54.4982,  -170.0027,       4829,  1135.8,   2.6640,  34.5220,2,  34.5215,2,    177.2,2,   175.2,2,   67.30,2,   34.05,2,    0.00,4,    2.36,2,-999.000,9,-999.000,9,-999.000,9,  -999.0,9,  -999.0,9,-999.0000,9,  -999.00,-999.0000,9, -999.00,9, -999.00,9,  -999.0,9,  -999.0, -999.00,9, -999.00,9, -999.00,9, -999.00,9,   2.5886, -999.00
096U20160426,       P15S,      26,          1,         18,       2018,2,20160515,       2357,   -54.4982,  -170.0027,       4829,  1233.0,   2.5520,  34.5700,2,  34.5700,2,    175.5,2,   173.4,2,   71.25,2,   33.81,2,    0.00,4,    2.34,2,-999.000,9,-999.000,9,-999.000,9,  -999.0,9,  -999.0,9,-999.0000,9,  -999.00,   1.8330,2,    8.37,2, -999.00,9,  -999.0,9,  -999.0, -999.00,9, -999.00,9, -999.00,9, -999.00,9,   2.4702,    0.46
096U20160426,       P15S,      26,          1,         17,       2017,2,20160515,       2357,   -54.4982,  -170.0027,       4829,  1335.6,   2.4810,  34.6030,2,  34.6031,2,    175.2,2,   173.4,2,   74.28,2,   33.49,2,    0.00,4,    2.32,2,-999.000,9,-999.000,9,-999.000,9,  2253.8,6,  2336.8,6,-999.0000,9,  -999.00,-999.0000,9, -999.00,9, -999.00,9,  -999.0,9,  -999.0, -999.00,9, -999.00,9, -999.00,9, -999.00,9,   2.3920, -999.00
096U20160426,       P15S,      26,          1,         16,       2016,2,20160515,       2357,   -54.4982,  -170.0027,       4829,  1434.2,   2.4200,  34.6340,2,  34.6327,2,    176.6,2,   174.7,2,   75.71,2,   33.05,2,    0.00,4,    2.29,2,-999.000,9,-999.000,9,-999.000,9,  -999.0,9,  -999.0,9,-999.0000,9,  -999.00,-999.0000,9, -999.00,9, -999.00,9,  -999.0,9,  -999.0, -999.00,9, -999.00,9, -999.00,9, -999.00,9,   2.3239, -999.00
096U20160426,       P15S,      26,          1,         15,       2015,2,20160515,       2357,   -54.4982,  -170.0027,       4829,  1534.0,   2.3520,  34.6610,2,  34.6607,2,    178.1,2,   176.5,2,   77.46,2,   32.24,2,    0.00,4,    2.26,2,-999.000,9,-999.000,9,-999.000,9,  -999.0,9,  -999.0,9,-999.0000,9,  -999.00,-999.0000,9, -999.00,9, -999.00,9,  -999.0,9,  -999.0, -999.00,9, -999.00,9, -999.00,9, -999.00,9,   2.2487, -999.00
096U20160426,       P15S,      26,          1,         14,       2014,2,20160515,       2357,   -54.4982,  -170.0027,       4829,  1663.6,   2.2660,  34.6890,2,  34.6897,2,    181.1,2,   179.8,2,   79.86,2,   32.03,2,    0.00,4,    2.22,2,-999.000,9,-999.000,9,-999.000,9,  2253.0,2,  2345.1,2,-999.0000,9,  -999.00,   1.8470,2,    9.28,2, -999.00,9,  -999.0,9,  -999.0, -999.00,9, -999.00,9, -999.00,9, -999.00,9,   2.1533,    0.49
096U20160426,       P15S,      26,          1,         13,       2013,2,20160515,       2357,   -54.4982,  -170.0027,       4829,  1864.7,   2.1430,  34.7170,2,  34.7165,2,    185.3,2,   184.4,2,   82.96,2,   31.43,2,    0.00,4,    2.18,2,-999.000,9,-999.000,9,-999.000,9,  -999.0,9,  -999.0,9,-999.0000,9,  -999.00,-999.0000,9, -999.00,9, -999.00,9,  -999.0,9,  -999.0, -999.00,9, -999.00,9, -999.00,9, -999.00,9,   2.0154, -999.00
096U20160426,       P15S,      26,          1,         12,       2012,2,20160515,       2357,   -54.4982,  -170.0027,       4829,  2084.4,   1.9850,  34.7320,2,  34.7316,2,    189.1,2,   188.6,2,   87.47,2,   31.13,2,    0.00,4,    2.16,2,-999.000,9,-999.000,9,-999.000,9,  -999.0,9,  -999.0,9,-999.0000,9,  -999.00,   1.8780,2,    9.86,2, -999.00,9,  -999.0,9,  -999.0, -999.00,9, -999.00,9, -999.00,9, -999.00,9,   1.8413,    0.48
096U20160426,       P15S,      26,          1,         11,       2011,2,20160515,       2357,   -54.4982,  -170.0027,       4829,  2335.9,   1.7920,  34.7380,2,  34.7373,2,    192.9,2,   193.0,2,   92.80,2,   31.02,2,    0.00,4,    2.15,2,-999.000,9,-999.000,9,-999.000,9,  2253.7,2,  2354.1,6,-999.0000,9,  -999.00,-999.0000,9, -999.00,9, -999.00,9,  -999.0,9,  -999.0, -999.00,9, -999.00,9, -999.00,9, -999.00,9,   1.6298, -999.00
096U20160426,       P15S,      26,          1,         10,       2010,2,20160515,       2357,   -54.4982,  -170.0027,       4829,  2585.7,   1.5980,  34.7360,2,  34.7355,2,    196.2,2,   196.2,2,   98.29,2,   31.11,2,    0.00,4,    2.16,2,-999.000,9,-999.000,9,-999.000,9,  -999.0,9,  -999.0,9,-999.0000,9,  -999.00,   1.8670,2,    9.76,2, -999.00,9,  -999.0,9,  -999.0, -999.00,9, -999.00,9, -999.00,9, -999.00,9,   1.4172,    0.53
096U20160426,       P15S,      26,          1,          9,       2009,2,20160515,       2357,   -54.4982,  -170.0027,       4829,  2836.9,   1.4050,  34.7300,2,  34.7302,2,    198.8,2,   199.0,2,  103.91,2,   31.31,2,    0.00,4,    2.17,2,-999.000,9,-999.000,9,-999.000,9,  -999.0,9,  -999.0,9,-999.0000,9,  -999.00,-999.0000,9, -999.00,9, -999.00,9,  -999.0,9,  -999.0, -999.00,9, -999.00,9, -999.00,9, -999.00,9,   1.2052, -999.00
096U20160426,       P15S,      26,          1,          8,       2008,2,20160515,       2357,   -54.4982,  -170.0027,       4829,  3102.4,   1.2450,  34.7240,2,  34.7241,2,    201.1,2,   201.7,2,  109.13,2,   31.54,2,    0.00,4,    2.19,2,-999.000,9,-999.000,9,-999.000,9,  2258.5,2,  2361.8,2,-999.0000,9,  -999.00,   1.7990,2,    9.79,2, -999.00,9,  -999.0,9,  -999.0, -999.00,9, -999.00,9, -999.00,9, -999.00,9,   1.0239,    0.46
096U20160426,       P15S,      26,          1,          7,       2007,2,20160515,       2357,   -54.4982,  -170.0027,       4829,  3499.7,   1.0460,  34.7150,2,  34.7153,2,    204.8,2,   205.4,2,  115.09,2,   31.78,2,    0.00,4,    2.21,2,-999.000,9,-999.000,9,-999.000,9,  -999.0,9,  -999.0,9,-999.0000,9,  -999.00,   1.8040,2,    9.27,2, -999.00,9,  -999.0,9,  -999.0, -999.00,9, -999.00,9, -999.00,9, -999.00,9,   0.7911,    0.51
096U20160426,       P15S,      26,          1,          6,       2006,2,20160515,       2357,   -54.4982,  -170.0027,       4829,  3800.7,   0.9540,  34.7100,2,  34.7099,2,    206.8,2,   207.0,2,  118.40,2,   31.93,2,    0.00,4,    2.23,2,-999.000,9,-999.000,9,-999.000,9,  -999.0,9,  -999.0,9,-999.0000,9,  -999.00,   1.8540,2,    9.00,2, -999.00,9,  -999.0,9,  -999.0, -999.00,9, -999.00,9, -999.00,9, -999.00,9,   0.6711,    0.47
096U20160426,       P15S,      26,          1,          5,       2005,2,20160515,       2357,   -54.4982,  -170.0027,       4829,  4100.8,   0.9220,  34.7070,2,  34.7075,2,    207.9,2,   207.7,2,  120.75,2,   32.06,2,    0.00,4,    2.23,2,-999.000,9,-999.000,9,-999.000,9,  2262.2,2,  2364.1,2,-999.0000,9,  -999.00,   1.8960,2,    9.18,2, -999.00,9,  -999.0,9,  -999.0, -999.00,9, -999.00,9, -999.00,9, -999.00,9,   0.6085,    1.02
096U20160426,       P15S,      26,          1,          4,       2004,2,20160515,       2357,   -54.4982,  -170.0027,       4829,  4401.6,   0.9170,  34.7050,2,  34.7066,2,    208.9,2,   208.2,2,  122.09,2,   32.12,2,    0.00,4,    2.24,2,-999.000,9,-999.000,9,-999.000,9,  -999.0,9,  -999.0,9,-999.0000,9,  -999.00,-999.0000,9, -999.00,9, -999.00,9,  -999.0,9,  -999.0, -999.00,9, -999.00,9, -999.00,9, -999.00,9,   0.5710, -999.00
096U20160426,       P15S,      26,          1,          3,       2003,2,20160515,       2357,   -54.4982,  -170.0027,       4829,  4702.5,   0.9410,  34.7040,2,  34.7049,2,    209.4,2,   208.5,2,  122.25,2,   31.89,2,    0.00,4,    2.24,2,-999.000,9,-999.000,9,-999.000,9,  -999.0,9,  -999.0,9,-999.0000,9,  -999.00,   1.8810,2,    9.26,2, -999.00,9,  -999.0,9,  -999.0, -999.00,9, -999.00,9, -999.00,9, -999.00,9,   0.5603,    1.00
096U20160426,       P15S,      26,          1,          2,       2002,2,20160515,       2357,   -54.4982,  -170.0027,       4829,  4799.0,   0.9470,  34.7040,2,  34.7047,2,    209.6,2,   208.4,2,  122.46,2,   32.08,2,    0.00,4,    2.24,2,-999.000,9,-999.000,9,-999.000,9,  -999.0,9,  -999.0,9,-999.0000,9,  -999.00,   1.8830,2,    9.21,2, -999.00,9,  -999.0,9,  -999.0, -999.00,9, -999.00,9, -999.00,9, -999.00,9,   0.5549,    0.52
096U20160426,       P15S,      26,          1,          1,       2001,2,20160515,       2357,   -54.4982,  -170.0027,       4829,  4902.0,   0.9500,  34.7030,2,  34.7046,2,    209.9,2,   208.6,2,  123.15,2,   32.14,2,    0.00,4,    2.24,2,-999.000,9,-999.000,9,-999.000,9,  2262.2,2,  2363.8,2,-999.0000,9,  -999.00,-999.0000,9, -999.00,9, -999.00,9,  -999.0,9,  -999.0, -999.00,9, -999.00,9, -999.00,9, -999.00,9,   0.5458, -999.00