BOTTLE,20230413CCHSIOENA
EXPOCODE,SECT_ID,STNNBR,CASTNO,SAMPNO,BTLNBR,BTLNBR_FLAG_W,DATE,TIME,LATITUDE,LONGITUDE,DEPTH,CTDPRS,CTDTMP,CTDSAL,CTDSAL_FLAG_W,SALNTY,SALNTY_FLAG_W,CTDOXY,CTDOXY_FLAG_W,OXYGEN,OXYGEN_FLAG_W,SILCAT,SILCAT_FLAG_W,NITRAT,NITRAT_FLAG_W,NITRIT,NITRIT_FLAG_W,PHSPHT,PHSPHT_FLAG_W,CFC-11,CFC-11_FLAG_W,CFC-12,CFC-12_FLAG_W,SF6,SF6_FLAG_W,TCARBN,TCARBN_FLAG_W,ALKALI,ALKALI_FLAG_W,PH_TOT,PH_TOT_FLAG_W,PH_TMP,HELIUM,HELIUM_FLAG_W,DELHE3,DELHE3_FLAG_W,DELC13,DELC13_FLAG_W,DELC14,DELC14_FLAG_W,C14ERR,POC,POC_FLAG_W,PON,PON_FLAG_W,CHLORA,CHLORA_FLAG_W,PPHYTN,PPHYTN_FLAG_W,THETA,DELHER
,,,,,,,,,,,METERS,DBAR,ITS-90,PSS-78,,PSS-78,,UMOL/KG,,UMOL/KG,,UMOL/KG,,UMOL/KG,,UMOL/KG,,UMOL/KG,,PMOL/KG,,PMOL/KG,,FMOL/KG,,UMOL/KG,,UMOL/KG,,,,DEG C,NMOL/KG,,PERCNT,,/MILLE,,/MILLE,,/MILLE,UG/KG,,UG/KG,,UG/KG,,UG/KG,,DEG C,PERCNT
096U20160426,       P15S,      64,          1,         36,       2036,2,20160601,       1221,   -36.8754,  -170.5984,       5301,     6.6,  16.7750,  35.2380,2,  35.2379,2,    240.5,2,   238.7,2,    0.10,4,    0.01,2,    0.01,4,    0.12,2,   2.432,2,   1.414,2,   1.805,2,  2068.4,3,  2319.0,2,-999.0000,9,  -999.00,-999.0000,9, -999.00,9, -999.00,9,  -999.0,9,  -999.0, -999.00,9, -999.00,9,    0.42,2,    0.04,3,  16.7739, -999.00
096U20160426,       P15S,      64,          1,         35,       2035,2,20160601,       1221,   -36.8754,  -170.5984,       5301,    25.0,  16.7830,  35.2370,2,  35.2381,2,    240.9,2,   238.6,2,    0.11,4,    0.01,2,    0.01,4,    0.12,2,-999.000,9,-999.000,9,-999.000,9,  2069.0,6,  2319.4,6,-999.0000,9,  -999.00,-999.0000,9, -999.00,9, -999.00,9,  -999.0,9,  -999.0, -999.00,9, -999.00,9,    0.36,2,    0.05,3,  16.7789, -999.00
096U20160426,       P15S,      64,          1,         34,       2034,2,20160601,       1221,   -36.8754,  -170.5984,       5301,    51.1,  16.7870,  35.2380,2,  35.2375,2,    240.3,2,   238.8,2,    0.09,4,    0.01,2,    0.01,4,    0.12,2,-999.000,9,-999.000,9,-999.000,9,  -999.0,9,  -999.0,9,-999.0000,9,  -999.00,-999.0000,9, -999.00,9, -999.00,9,  -999.0,9,  -999.0, -999.00,9, -999.00,9,    0.38,2,    0.05,3,  16.7787, -999.00
096U20160426,       P15S,      64,          1,         33,       2033,2,20160601,       1221,   -36.8754,  -170.5984,       5301,    73.9,  15.6330,  35.1940,2,  35.1799,2,    244.8,2,   242.8,2,    0.35,2,    0.81,2,    0.17,2,    0.23,2,   2.652,2,   1.544,2,   1.881,2,  2080.8,3,  2313.9,2,-999.0000,9,  -999.00,-999.0000,9, -999.00,9, -999.00,9,  -999.0,9,  -999.0, -999.00,9, -999.00,9,    0.44,2,    0.19,3,  15.6215, -999.00
096U20160426,       P15S,      64,          1,         32,       2032,2,20160601,       1221,   -36.8754,  -170.5984,       5301,    99.0,  13.8980,  35.1430,2,  35.1339,2,    238.3,2,   234.9,2,    0.80,2,    3.60,2,    0.12,2,    0.39,2,   2.751,2,   1.623,2,   1.877,2,  2098.2,3,  2308.6,2,-999.0000,9,  -999.00,-999.0000,9, -999.00,9, -999.00,9,  -999.0,9,  -999.0, -999.00,9, -999.00,9,    0.24,2,    0.13,3,  13.8838, -999.00
096U20160426,       P15S,      64,          1,         31,       2031,2,20160601,       1221,   -36.8754,  -170.5984,       5301,   152.1,  12.4480,  35.0360,2,  35.0363,2,    232.1,2,   230.6,2,    1.47,2,    7.35,2,    0.01,4,    0.59,2,   2.903,2,   1.693,2,   1.878,2,  2109.8,3,  2304.2,2,-999.0000,9,  -999.00,-999.0000,9, -999.00,9, -999.00,9,  -999.0,9,  -999.0, -999.00,9, -999.00,9, -999.00,9, -999.00,9,  12.4277, -999.00
096U20160426,       P15S,      64,          1,         29,       2029,2,20160601,       1221,   -36.8754,  -170.5984,       5301,   251.2,  11.7200,  35.0020,2,  34.9905,2,    241.7,2,   240.2,2,    2.26,2,    9.09,2,    0.01,4,    0.70,2,   3.020,2,   1.753,2,   1.946,2,  2117.7,3,  2303.2,6,-999.0000,9,  -999.00,-999.0000,9, -999.00,9, -999.00,9,  -999.0,9,  -999.0, -999.00,9, -999.00,9, -999.00,9, -999.00,9,  11.6877, -999.00
096U20160426,       P15S,      64,          1,         30,       2030,2,20160601,       1221,   -36.8754,  -170.5984,       5301,   251.3,  11.7200,  35.0020,2,  34.9954,2,    242.0,2,   240.0,2,    2.22,2,    9.00,2,    0.01,4,    0.69,2,   3.018,2,   1.739,2,   1.891,2,  2116.6,3,  2298.6,2,-999.0000,9,  -999.00,-999.0000,9, -999.00,9, -999.00,9,  -999.0,9,  -999.0, -999.00,9, -999.00,9, -999.00,9, -999.00,9,  11.6876, -999.00
096U20160426,       P15S,      64,          1,         28,       2028,2,20160601,       1221,   -36.8754,  -170.5984,       5301,   301.0,  10.4170,  34.7680,2,  34.7567,2,    227.0,2,   224.8,2,    3.00,2,   13.48,2,    0.01,4,    0.96,2,   3.214,2,   1.809,2,   1.601,2,  2130.9,3,  2292.9,2,-999.0000,9,  -999.00,-999.0000,9, -999.00,9, -999.00,9,  -999.0,9,  -999.0, -999.00,9, -999.00,9, -999.00,9, -999.00,9,  10.3811, -999.00
096U20160426,       P15S,      64,          1,         27,       2027,2,20160601,       1221,   -36.8754,  -170.5984,       5301,   351.5,   9.4610,  34.6410,2,  34.6361,2,    223.9,2,   222.5,2,    3.79,2,   16.40,2,    0.01,4,    1.14,2,   3.341,2,   1.845,2,   1.546,2,  2140.3,3,  2287.9,2,-999.0000,9,  -999.00,-999.0000,9, -999.00,9, -999.00,9,  -999.0,9,  -999.0, -999.00,9, -999.00,9, -999.00,9, -999.00,9,   9.4215, -999.00
096U20160426,       P15S,      64,          1,         26,       2026,2,20160601,       1221,   -36.8754,  -170.5984,       5301,   401.7,   8.8160,  34.5700,2,  34.5674,2,    226.8,2,   225.7,2,    4.37,2,   18.01,2,    0.01,4,    1.23,2,   0.988,4,   0.267,4,   0.149,4,  2141.3,3,  2285.9,2,-999.0000,9,  -999.00,-999.0000,9, -999.00,9, -999.00,9,  -999.0,9,  -999.0, -999.00,9, -999.00,9, -999.00,9, -999.00,9,   8.7726, -999.00
096U20160426,       P15S,      64,          1,         25,       2025,2,20160601,       1221,   -36.8754,  -170.5984,       5301,   501.7,   7.9400,  34.4760,2,  34.4796,2,    233.4,2,   232.2,2,    5.32,2,   20.00,2,    0.01,4,    1.36,2,   3.573,2,   1.925,2,   1.311,2,  2143.9,3,  2282.3,2,-999.0000,9,  -999.00,-999.0000,9, -999.00,9, -999.00,9,  -999.0,9,  -999.0, -999.00,9, -999.00,9, -999.00,9, -999.00,9,   7.8888, -999.00
096U20160426,       P15S,      64,          1,         24,       2024,2,20160601,       1221,   -36.8754,  -170.5984,       5301,   601.8,   7.3350,  34.4180,2,  34.4176,2,    235.5,2,   234.3,2,    6.68,2,   21.77,2,    0.01,4,    1.47,2,   3.576,2,   1.874,2,   1.097,2,  2146.8,3,  2280.9,2,-999.0000,9,  -999.00,-999.0000,9, -999.00,9, -999.00,9,  -999.0,9,  -999.0, -999.00,9, -999.00,9, -999.00,9, -999.00,9,   7.2760, -999.00
096U20160426,       P15S,      64,          1,         23,       2023,2,20160601,       1221,   -36.8754,  -170.5984,       5301,   702.4,   6.8820,  34.3820,2,  34.3798,2,    233.6,2,   232.5,2,    8.66,2,   23.23,2,    0.01,4,    1.57,2,   3.316,2,   1.698,2,   0.904,2,  2151.6,3,  2282.6,2,-999.0000,9,  -999.00,-999.0000,9, -999.00,9, -999.00,9,  -999.0,9,  -999.0, -999.00,9, -999.00,9, -999.00,9, -999.00,9,   6.8151, -999.00
096U20160426,       P15S,      64,          1,         22,       2022,2,20160601,       1221,   -36.8754,  -170.5984,       5301,   802.3,   6.3970,  34.3520,2,  34.3516,2,    228.9,2,   228.1,2,   10.90,2,   24.64,2,    0.01,4,    1.66,2,   2.775,2,   1.388,2,   0.605,2,  2154.3,3,  2283.1,2,-999.0000,9,  -999.00,-999.0000,9, -999.00,9, -999.00,9,  -999.0,9,  -999.0, -999.00,9, -999.00,9, -999.00,9, -999.00,9,   6.3230, -999.00
096U20160426,       P15S,      64,          1,         21,       2021,2,20160601,       1221,   -36.8754,  -170.5984,       5301,   899.7,   5.9140,  34.3410,2,  34.3403,2,    218.8,2,   218.3,2,   15.28,2,   26.46,2,    0.01,4,    1.79,2,   2.159,2,   1.073,2,   0.405,2,  2168.3,3,  2285.6,2,-999.0000,9,  -999.00,-999.0000,9, -999.00,9, -999.00,9,  -999.0,9,  -999.0, -999.00,9, -999.00,9, -999.00,9, -999.00,9,   5.8337, -999.00
096U20160426,       P15S,      64,          1,         20,       2020,2,20160601,       1221,   -36.8754,  -170.5984,       5301,  1001.6,   5.2330,  34.3300,2,  34.3314,2,    208.9,2,   207.7,2,   22.58,2,   28.77,2,    0.01,4,    1.95,2,   1.652,6,   0.820,6,   0.325,6,  2182.4,6,  2291.5,6,-999.0000,9,  -999.00,-999.0000,9, -999.00,9, -999.00,9,  -999.0,9,  -999.0, -999.00,9, -999.00,9, -999.00,9, -999.00,9,   5.1480, -999.00
096U20160426,       P15S,      64,          1,         19,       2019,2,20160601,       1221,   -36.8754,  -170.5984,       5301,  1101.6,   4.6350,  34.3490,2,  34.3486,2,    198.7,2,   197.7,2,   31.29,2,   30.57,2,    0.01,4,    2.08,2,-999.000,9,-999.000,9,-999.000,9,  -999.0,9,  -999.0,9,-999.0000,9,  -999.00,-999.0000,9, -999.00,9, -999.00,9,  -999.0,9,  -999.0, -999.00,9, -999.00,9, -999.00,9, -999.00,9,   4.5457, -999.00
096U20160426,       P15S,      64,          1,         18,       2018,2,20160601,       1221,   -36.8754,  -170.5984,       5301,  1203.1,   4.0930,  34.3780,2,  34.3778,2,    190.1,2,   189.4,2,   40.62,2,   31.91,2,    0.01,4,    2.18,2,   0.711,2,   0.353,2,   0.126,2,  2213.0,3,  2307.5,2,-999.0000,9,  -999.00,-999.0000,9, -999.00,9, -999.00,9,  -999.0,9,  -999.0, -999.00,9, -999.00,9, -999.00,9, -999.00,9,   3.9995, -999.00
096U20160426,       P15S,      64,          1,         17,       2017,2,20160601,       1221,   -36.8754,  -170.5984,       5301,  1302.1,   3.6850,  34.4110,2,  34.4127,2,    182.6,2,   181.7,2,   49.97,2,   32.88,2,    0.01,4,    2.25,2,-999.000,9,-999.000,9,-999.000,9,  -999.0,9,  -999.0,9,-999.0000,9,  -999.00,-999.0000,9, -999.00,9, -999.00,9,  -999.0,9,  -999.0, -999.00,9, -999.00,9, -999.00,9, -999.00,9,   3.5869, -999.00
096U20160426,       P15S,      64,          1,         16,       2016,2,20160601,       1221,   -36.8754,  -170.5984,       5301,  1402.5,   3.3410,  34.4580,2,  34.4593,2,    174.8,2,   173.6,2,   60.58,2,   33.56,2,    0.00,4,    2.31,2,   0.227,2,   0.117,2,   0.065,2,  2239.0,3,  2328.1,2,-999.0000,9,  -999.00,-999.0000,9, -999.00,9, -999.00,9,  -999.0,9,  -999.0, -999.00,9, -999.00,9, -999.00,9, -999.00,9,   3.2378, -999.00
096U20160426,       P15S,      64,          1,         15,       2015,2,20160601,       1221,   -36.8754,  -170.5984,       5301,  1602.9,   2.9170,  34.5410,2,  34.5412,2,    162.5,2,   161.5,2,   79.85,2,   34.33,2,    0.00,4,    2.37,2,-999.000,9,-999.000,9,-999.000,9,  -999.0,9,  -999.0,9,-999.0000,9,  -999.00,-999.0000,9, -999.00,9, -999.00,9,  -999.0,9,  -999.0, -999.00,9, -999.00,9, -999.00,9, -999.00,9,   2.8016, -999.00
096U20160426,       P15S,      64,          1,         14,       2014,2,20160601,       1221,   -36.8754,  -170.5984,       5301,  1799.3,   2.6340,  34.5850,2,  34.5858,2,    156.3,2,   155.0,2,   93.25,2,   34.78,2,    0.00,4,    2.41,2,   0.022,2,   0.015,2,   0.076,3,  2282.2,3,  2368.5,2,-999.0000,9,  -999.00,-999.0000,9, -999.00,9, -999.00,9,  -999.0,9,  -999.0, -999.00,9, -999.00,9, -999.00,9, -999.00,9,   2.5055, -999.00
096U20160426,       P15S,      64,          1,         13,       2013,2,20160601,       1221,   -36.8754,  -170.5984,       5301,  2001.3,   2.4300,  34.6130,2,  34.6125,2,    152.5,2,   151.5,2,  102.87,2,   35.10,2,    0.00,4,    2.44,2,   0.012,2,   0.009,2,   0.049,3,  2293.9,3,  2380.8,2,-999.0000,9,  -999.00,-999.0000,9, -999.00,9, -999.00,9,  -999.0,9,  -999.0, -999.00,9, -999.00,9, -999.00,9, -999.00,9,   2.2870, -999.00
096U20160426,       P15S,      64,          1,         12,       2012,2,20160601,       1221,   -36.8754,  -170.5984,       5301,  2252.2,   2.2740,  34.6310,2,  34.6304,2,    150.8,2,   149.7,2,  109.87,2,   35.30,2,    0.00,4,    2.46,2,   0.008,6,   0.008,6,   0.042,3,  2301.4,3,  2389.1,2,-999.0000,9,  -999.00,-999.0000,9, -999.00,9, -999.00,9,  -999.0,9,  -999.0, -999.00,9, -999.00,9, -999.00,9, -999.00,9,   2.1113, -999.00
096U20160426,       P15S,      64,          1,         11,       2011,2,20160601,       1221,   -36.8754,  -170.5984,       5301,  2501.9,   2.1410,  34.6430,2,  34.6432,2,    149.7,2,   148.2,2,  115.53,2,   35.48,2,    0.00,4,    2.48,2,-999.000,9,-999.000,9,-999.000,9,  -999.0,9,  -999.0,9,-999.0000,9,  -999.00,-999.0000,9, -999.00,9, -999.00,9,  -999.0,9,  -999.0, -999.00,9, -999.00,9, -999.00,9, -999.00,9,   1.9579, -999.00
096U20160426,       P15S,      64,          1,         10,       2010,2,20160601,       1221,   -36.8754,  -170.5984,       5301,  2751.2,   2.0050,  34.6570,2,  34.6562,2,    150.8,2,   149.6,2,  119.74,2,   35.47,2,    0.00,4,    2.47,2,   0.003,2,   0.005,2,   0.059,3,  2309.0,3,  2399.0,2,-999.0000,9,  -999.00,-999.0000,9, -999.00,9, -999.00,9,  -999.0,9,  -999.0, -999.00,9, -999.00,9, -999.00,9, -999.00,9,   1.8012, -999.00
096U20160426,       P15S,      64,          1,          9,       2009,2,20160601,       1221,   -36.8754,  -170.5984,       5301,  3000.9,   1.8640,  34.6850,2,  34.6852,2,    164.9,2,   164.4,2,  113.24,2,   34.04,2,    0.00,4,    2.36,2,-999.000,9,-999.000,9,-999.000,9,  -999.0,9,  -999.0,9,-999.0000,9,  -999.00,-999.0000,9, -999.00,9, -999.00,9,  -999.0,9,  -999.0, -999.00,9, -999.00,9, -999.00,9, -999.00,9,   1.6390, -999.00
096U20160426,       P15S,      64,          1,          8,       2008,2,20160601,       1221,   -36.8754,  -170.5984,       5301,  3300.8,   1.6780,  34.7140,2,  34.7133,2,    183.6,2,   183.7,2,  105.42,2,   32.32,2,    0.00,4,    2.23,2,   0.038,2,   0.022,2,   0.037,3,  2273.2,3,  2370.3,2,-999.0000,9,  -999.00,-999.0000,9, -999.00,9, -999.00,9,  -999.0,9,  -999.0, -999.00,9, -999.00,9, -999.00,9, -999.00,9,   1.4274, -999.00
096U20160426,       P15S,      64,          1,          7,       2007,2,20160601,       1221,   -36.8754,  -170.5984,       5301,  3601.6,   1.4330,  34.7220,2,  34.7215,2,    195.4,2,   195.8,2,  106.35,2,   31.70,2,    0.00,4,    2.18,2,   0.052,2,   0.028,2,   0.054,3,  2264.8,3,  2364.7,2,-999.0000,9,  -999.00,-999.0000,9, -999.00,9, -999.00,9,  -999.0,9,  -999.0, -999.00,9, -999.00,9, -999.00,9, -999.00,9,   1.1579, -999.00
096U20160426,       P15S,      64,          1,          6,       2006,2,20160601,       1221,   -36.8754,  -170.5984,       5301,  4001.7,   1.2040,  34.7180,2,  34.7155,2,    201.8,2,   202.1,2,  111.70,2,   31.74,2,    0.01,4,    2.18,2,   0.078,2,   0.040,2,   0.108,3,  2262.8,3,  2363.8,6,-999.0000,9,  -999.00,-999.0000,9, -999.00,9, -999.00,9,  -999.0,9,  -999.0, -999.00,9, -999.00,9, -999.00,9, -999.00,9,   0.8930, -999.00
096U20160426,       P15S,      64,          1,          5,       2005,2,20160601,       1221,   -36.8754,  -170.5984,       5301,  4401.7,   1.0740,  34.7120,2,  34.7121,2,    205.6,2,   205.1,2,  116.05,2,   31.91,2,    0.00,4,    2.19,2,   0.108,2,   0.056,2,   0.069,2,  2263.0,3,  2365.4,2,-999.0000,9,  -999.00,-999.0000,9, -999.00,9, -999.00,9,  -999.0,9,  -999.0, -999.00,9, -999.00,9, -999.00,9, -999.00,9,   0.7231, -999.00
096U20160426,       P15S,      64,          1,          4,       2004,2,20160601,       1221,   -36.8754,  -170.5984,       5301,  4800.2,   1.0470,  34.7090,2,  34.7087,2,    207.2,2,   205.9,2,  118.19,2,   32.02,2,    0.01,4,    2.20,2,   0.136,2,   0.068,2,   0.056,2,  2263.4,3,  2365.3,2,-999.0000,9,  -999.00,-999.0000,9, -999.00,9, -999.00,9,  -999.0,9,  -999.0, -999.00,9, -999.00,9, -999.00,9, -999.00,9,   0.6515, -999.00
096U20160426,       P15S,      64,          1,          3,       2003,2,20160601,       1221,   -36.8754,  -170.5984,       5301,  5200.8,   1.0700,  34.7080,2,  34.7081,2,    208.1,2,   206.2,2,  119.04,2,   32.05,2,    0.00,4,    2.20,2,   0.158,2,   0.080,2,   0.075,2,  2266.8,3,  2367.2,2,-999.0000,9,  -999.00,-999.0000,9, -999.00,9, -999.00,9,  -999.0,9,  -999.0, -999.00,9, -999.00,9, -999.00,9, -999.00,9,   0.6259, -999.00
096U20160426,       P15S,      64,          1,          2,       2002,2,20160601,       1221,   -36.8754,  -170.5984,       5301,  5301.7,   1.0770,  34.7080,2,  34.7077,2,    208.4,2,   206.3,2,  119.09,2,   32.05,2,    0.01,4,    2.20,2,   0.173,2,   0.086,2,   0.086,2,  2264.5,6,  2365.6,6,-999.0000,9,  -999.00,-999.0000,9, -999.00,9, -999.00,9,  -999.0,9,  -999.0, -999.00,9, -999.00,9, -999.00,9, -999.00,9,   0.6203, -999.00
096U20160426,       P15S,      64,          1,          1,       2001,2,20160601,       1221,   -36.8754,  -170.5984,       5301,  5380.4,   1.0830,  34.7070,2,  34.7072,2,    208.5,2,   206.5,2,  119.27,2,   32.07,2,    0.01,4,    2.20,2,   0.181,2,   0.091,2,   0.085,2,  2264.0,3,  2366.0,2,-999.0000,9,  -999.00,-999.0000,9, -999.00,9, -999.00,9,  -999.0,9,  -999.0, -999.00,9, -999.00,9, -999.00,9, -999.00,9,   0.6164, -999.00