BOTTLE,20230413CCHSIOENA
EXPOCODE,SECT_ID,STNNBR,CASTNO,SAMPNO,BTLNBR,BTLNBR_FLAG_W,DATE,TIME,LATITUDE,LONGITUDE,DEPTH,CTDPRS,CTDTMP,CTDSAL,CTDSAL_FLAG_W,SALNTY,SALNTY_FLAG_W,CTDOXY,CTDOXY_FLAG_W,OXYGEN,OXYGEN_FLAG_W,SILCAT,SILCAT_FLAG_W,NITRAT,NITRAT_FLAG_W,NITRIT,NITRIT_FLAG_W,PHSPHT,PHSPHT_FLAG_W,CFC-11,CFC-11_FLAG_W,CFC-12,CFC-12_FLAG_W,SF6,SF6_FLAG_W,TCARBN,TCARBN_FLAG_W,ALKALI,ALKALI_FLAG_W,PH_TOT,PH_TOT_FLAG_W,PH_TMP,HELIUM,HELIUM_FLAG_W,DELHE3,DELHE3_FLAG_W,DELC13,DELC13_FLAG_W,DELC14,DELC14_FLAG_W,C14ERR,POC,POC_FLAG_W,PON,PON_FLAG_W,CHLORA,CHLORA_FLAG_W,PPHYTN,PPHYTN_FLAG_W,THETA,DELHER
,,,,,,,,,,,METERS,DBAR,ITS-90,PSS-78,,PSS-78,,UMOL/KG,,UMOL/KG,,UMOL/KG,,UMOL/KG,,UMOL/KG,,UMOL/KG,,PMOL/KG,,PMOL/KG,,FMOL/KG,,UMOL/KG,,UMOL/KG,,,,DEG C,NMOL/KG,,PERCNT,,/MILLE,,/MILLE,,/MILLE,UG/KG,,UG/KG,,UG/KG,,UG/KG,,DEG C,PERCNT
096U20160426,       P15S,      15,          1,         36,       2036,2,20160511,       1525,   -60.0008,  -170.0208,       3895,    13.6,   2.2550,  33.9210,2,  33.9219,2,    329.3,2,   320.2,2,   15.77,2,   27.09,2,    0.27,2,    1.90,2,   5.414,2,   2.826,2,   3.136,2,  2152.9,2,  2277.5,2,   7.6915,2,    25.00,-999.0000,9, -999.00,9, -999.00,9,  -999.0,9,  -999.0,   20.84,2,    4.87,2,    0.08,2,    1.48,3,   2.2543, -999.00
096U20160426,       P15S,      15,          1,         35,       2035,2,20160511,       1525,   -60.0008,  -170.0208,       3895,    34.6,   2.2580,  33.9210,2,  33.9208,2,    329.4,2,   320.2,2,   15.78,2,   27.11,2,    0.27,2,    1.89,2,   5.371,2,   2.827,2,   3.112,2,  2152.2,2,  2280.1,2,   7.6901,2,    25.00,-999.0000,9, -999.00,9, -999.00,9,  -999.0,9,  -999.0, -999.00,9, -999.00,9,    0.22,2,    0.17,3,   2.2562, -999.00
096U20160426,       P15S,      15,          1,         34,       2034,2,20160511,       1525,   -60.0008,  -170.0208,       3895,    59.3,   2.2630,  33.9210,2,  33.9210,2,    328.8,2,   320.1,2,   15.82,2,   27.14,2,    0.27,2,    1.90,2,-999.000,9,-999.000,9,-999.000,9,  2153.0,2,  2278.6,2,   7.6903,2,    25.00,-999.0000,9, -999.00,9, -999.00,9,  -999.0,9,  -999.0, -999.00,9, -999.00,9,    0.15,2,    0.16,3,   2.2598, -999.00
096U20160426,       P15S,      15,          1,         33,       2033,2,20160511,       1525,   -60.0008,  -170.0208,       3895,    83.5,   2.2660,  33.9210,2,  33.9214,2,    328.5,2,   320.3,2,   15.84,2,   27.13,2,    0.27,2,    1.90,2,   5.301,6,   2.824,6,   3.061,6,  2153.0,2,  2279.0,2,   7.6906,2,    25.00,-999.0000,9, -999.00,9, -999.00,9,  -999.0,9,  -999.0, -999.00,9, -999.00,9,    0.22,2,    0.07,3,   2.2615, -999.00
096U20160426,       P15S,      15,          1,         32,       2032,2,20160511,       1525,   -60.0008,  -170.0208,       3895,   111.2,   2.2660,  33.9220,2,  33.9212,2,    328.4,2,   319.9,2,   15.87,2,   27.13,2,    0.27,2,    1.90,2,   5.314,2,   2.830,2,    3.07,2,  2153.7,2,  2279.5,2,   7.6689,2,    25.00,-999.0000,9, -999.00,9, -999.00,9,  -999.0,9,  -999.0,   26.29,6,    7.20,6, -999.00,9, -999.00,9,   2.2600, -999.00
096U20160426,       P15S,      15,          1,         31,       2031,2,20160511,       1525,   -60.0008,  -170.0208,       3895,   132.6,   2.2140,  33.9350,2,  33.9318,2,    327.8,2,   319.1,2,   17.03,2,   27.37,2,    0.25,2,    1.91,2,   5.295,2,   2.837,2,   3.101,2,  2155.6,6,  2279.7,6,   7.6713,2,    25.00,-999.0000,9, -999.00,9, -999.00,9,  -999.0,9,  -999.0, -999.00,9, -999.00,9,    0.11,2,    0.16,3,   2.2069, -999.00
096U20160426,       P15S,      15,          1,         30,       2030,2,20160511,       1525,   -60.0008,  -170.0208,       3895,   161.8,   2.1470,  33.9760,2,  33.9772,2,    316.7,2,   307.5,2,   20.84,2,   28.53,2,    0.13,2,    1.97,2,   5.273,2,   2.756,2,   2.925,2,  2165.0,2,  2281.5,2,   7.6642,2,    25.00,-999.0000,9, -999.00,9, -999.00,9,  -999.0,9,  -999.0, -999.00,9, -999.00,9, -999.00,9, -999.00,9,   2.1384, -999.00
096U20160426,       P15S,      15,          1,         29,       2029,2,20160511,       1525,   -60.0008,  -170.0208,       3895,   214.8,   2.1100,  34.0470,2,  34.0474,2,    293.4,2,   284.6,2,   27.67,2,   30.20,2,    0.01,4,    2.07,2,   4.898,2,   2.509,2,   2.474,2,  2179.3,2,  2284.2,6,   7.6328,2,    25.00,-999.0000,9, -999.00,9, -999.00,9,  -999.0,9,  -999.0, -999.00,9, -999.00,9, -999.00,9, -999.00,9,   2.0985, -999.00
096U20160426,       P15S,      15,          1,         28,       2028,2,20160511,       1525,   -60.0008,  -170.0208,       3895,   264.6,   2.3460,  34.1350,2,  34.1355,2,    264.3,2,   256.4,2,   34.10,2,   31.47,2,    0.01,4,    2.16,2,   4.035,2,   2.094,2,   1.794,2,  2193.9,2,  2290.6,2,   7.6066,2,    25.00,-999.0000,9, -999.00,9, -999.00,9,  -999.0,9,  -999.0, -999.00,9, -999.00,9, -999.00,9, -999.00,9,   2.3312, -999.00
096U20160426,       P15S,      15,          1,         27,       2027,2,20160511,       1525,   -60.0008,  -170.0208,       3895,   315.8,   2.3290,  34.1780,2,  34.1854,2,    251.4,2,   242.9,2,   38.85,2,   32.22,2,    0.00,4,    2.21,2,   3.615,2,   1.870,2,   1.653,2,  2203.4,2,  2294.0,2,   7.5942,2,    25.00,-999.0000,9, -999.00,9, -999.00,9,  -999.0,9,  -999.0, -999.00,9, -999.00,9, -999.00,9, -999.00,9,   2.3112, -999.00
096U20160426,       P15S,      15,          1,         26,       2026,2,20160511,       1525,   -60.0008,  -170.0208,       3895,   364.1,   2.3200,  34.2200,2,  34.2232,2,    242.1,2,   234.4,2,   42.87,2,   32.86,2,    0.00,4,    2.25,2,   3.342,2,   1.722,2,   1.457,2,  2210.2,2,  2297.4,2,   7.5843,2,    25.00,-999.0000,9, -999.00,9, -999.00,9,  -999.0,9,  -999.0, -999.00,9, -999.00,9, -999.00,9, -999.00,9,   2.2993, -999.00
096U20160426,       P15S,      15,          1,         25,       2025,2,20160511,       1525,   -60.0008,  -170.0208,       3895,   414.6,   2.4340,  34.2850,2,  34.2898,2,    223.7,2,   216.0,2,   48.58,2,   33.58,2,    0.00,4,    2.31,2,   2.698,2,   1.399,2,   1.114,2,  2218.6,2,  2306.2,2,   7.5678,2,    25.00,-999.0000,9, -999.00,9, -999.00,9,  -999.0,9,  -999.0, -999.00,9, -999.00,9, -999.00,9, -999.00,9,   2.4098, -999.00
096U20160426,       P15S,      15,          1,         24,       2024,2,20160511,       1525,   -60.0008,  -170.0208,       3895,   464.3,   2.4970,  34.3340,2,  34.3300,2,    212.3,2,   206.4,2,   52.09,2,   33.94,2,    0.00,4,    2.33,2,   2.355,2,   1.211,2,   0.873,2,  2226.3,2,  2309.0,2,   7.5647,6,    25.00,-999.0000,9, -999.00,9, -999.00,9,  -999.0,9,  -999.0, -999.00,9, -999.00,9, -999.00,9, -999.00,9,   2.4695, -999.00
096U20160426,       P15S,      15,          1,         23,       2023,2,20160511,       1525,   -60.0008,  -170.0208,       3895,   535.8,   2.4670,  34.3960,2,  34.3966,2,    200.5,2,   193.0,2,   58.63,2,   34.43,2,    0.00,4,    2.37,2,   1.836,2,   0.935,2,   0.634,2,  2235.0,2,  2315.3,2,   7.5546,2,    25.00,-999.0000,9, -999.00,9, -999.00,9,  -999.0,9,  -999.0, -999.00,9, -999.00,9, -999.00,9, -999.00,9,   2.4350, -999.00
096U20160426,       P15S,      15,          1,         22,       2022,2,20160511,       1525,   -60.0008,  -170.0208,       3895,   635.2,   2.5070,  34.4620,2,  34.4627,2,    187.2,3,   180.9,2,   64.15,2,   34.64,2,    0.00,4,    2.39,2,   1.335,2,   0.670,2,   0.398,2,  2243.7,2,  2321.8,2,   7.5514,2,    25.00,-999.0000,9, -999.00,9, -999.00,9,  -999.0,9,  -999.0, -999.00,9, -999.00,9, -999.00,9, -999.00,9,   2.4682, -999.00
096U20160426,       P15S,      15,          1,         21,       2021,2,20160511,       1525,   -60.0008,  -170.0208,       3895,   734.3,   2.5010,  34.5390,2,  34.5395,2,    179.6,2,   173.3,2,   69.89,2,   34.34,2,    0.00,4,    2.37,2,   0.829,2,   0.416,2,   0.207,2,  2249.2,2,  2329.9,2,   7.5515,2,    25.00,-999.0000,9, -999.00,9, -999.00,9,  -999.0,9,  -999.0, -999.00,9, -999.00,9, -999.00,9, -999.00,9,   2.4555, -999.00
096U20160426,       P15S,      15,          1,         20,       2020,2,20160511,       1525,   -60.0008,  -170.0208,       3895,   834.5,   2.4440,  34.5820,2,  34.5825,2,    178.8,2,   172.8,2,   73.03,2,   33.97,2,    0.00,4,    2.35,2,   0.635,2,   0.316,2,   0.178,2,  2250.1,2,  2334.1,2,   7.5540,2,    25.00,-999.0000,9, -999.00,9, -999.00,9,  -999.0,9,  -999.0, -999.00,9, -999.00,9, -999.00,9, -999.00,9,   2.3920, -999.00
096U20160426,       P15S,      15,          1,         19,       2019,2,20160511,       1525,   -60.0008,  -170.0208,       3895,   932.2,   2.3790,  34.6240,2,  34.6238,2,    179.8,3,   173.8,2,   75.56,2,   33.41,2,    0.00,4,    2.31,2,   0.473,2,   0.245,2,   0.166,2,  2252.6,2,  2336.4,6,   7.5632,2,    25.00,-999.0000,9, -999.00,9, -999.00,9,  -999.0,9,  -999.0, -999.00,9, -999.00,9, -999.00,9, -999.00,9,   2.3206, -999.00
096U20160426,       P15S,      15,          1,         18,       2018,2,20160511,       1525,   -60.0008,  -170.0208,       3895,  1035.0,   2.3320,  34.6520,2,  34.6527,2,    181.4,2,   175.9,2,   77.41,2,   32.92,2,    0.00,4,    2.27,2,   0.370,2,   0.187,2,   0.083,2,  2251.1,2,  2337.9,2,   7.5710,2,    25.00,-999.0000,9, -999.00,9, -999.00,9,  -999.0,9,  -999.0, -999.00,9, -999.00,9, -999.00,9, -999.00,9,   2.2666, -999.00
096U20160426,       P15S,      15,          1,         17,       2017,2,20160511,       1525,   -60.0008,  -170.0208,       3895,  1131.8,   2.2700,  34.6750,2,  34.6195,4,    183.3,2,   173.4,4,   75.23,4,   33.45,4,    0.00,4,    2.31,4,   0.488,4,   0.245,4,   0.098,4,  -999.0,9,  -999.0,9,   7.5614,4,    25.00,-999.0000,9, -999.00,9, -999.00,9,  -999.0,9,  -999.0, -999.00,9, -999.00,9, -999.00,9, -999.00,9,   2.1981, -999.00
096U20160426,       P15S,      15,          1,         16,       2016,2,20160511,       1525,   -60.0008,  -170.0208,       3895,  1234.4,   2.2170,  34.6940,2,  34.6932,2,    185.4,2,   180.0,2,   80.41,2,   32.13,2,    0.00,4,    2.22,2,   0.262,2,   0.135,2,   0.067,2,  2252.2,2,  2343.3,2,   7.5836,2,    25.00,-999.0000,9, -999.00,9, -999.00,9,  -999.0,9,  -999.0, -999.00,9, -999.00,9, -999.00,9, -999.00,9,   2.1380, -999.00
096U20160426,       P15S,      15,          1,         15,       2015,2,20160511,       1525,   -60.0008,  -170.0208,       3895,  1331.9,   2.1570,  34.7070,2,  34.7075,2,    187.2,2,   182.2,2,   81.83,2,   31.88,2,    0.00,4,    2.20,2,   0.241,6,   0.123,6,    0.05,6,  2251.5,2,  2345.0,2,   7.5859,2,    25.00,-999.0000,9, -999.00,9, -999.00,9,  -999.0,9,  -999.0, -999.00,9, -999.00,9, -999.00,9, -999.00,9,   2.0714, -999.00
096U20160426,       P15S,      15,          1,         14,       2014,2,20160511,       1525,   -60.0008,  -170.0208,       3895,  1431.8,   2.0970,  34.7180,2,  34.7177,2,    189.0,2,   184.1,2,   83.40,2,   31.62,2,    0.00,4,    2.18,2,   0.221,2,   0.112,2,   0.059,2,  2250.2,6,  2343.7,6,   7.5739,4,    25.00,-999.0000,9, -999.00,9, -999.00,9,  -999.0,9,  -999.0, -999.00,9, -999.00,9, -999.00,9, -999.00,9,   2.0044, -999.00
096U20160426,       P15S,      15,          1,         13,       2013,2,20160511,       1525,   -60.0008,  -170.0208,       3895,  1534.9,   2.0260,  34.7280,2,  34.7281,2,    191.4,2,   186.2,2,   85.38,2,   31.39,2,    0.00,4,    2.17,2,-999.000,9,-999.000,9,-999.000,9,  2251.5,2,  2346.3,2,   7.5945,2,    25.00,-999.0000,9, -999.00,9, -999.00,9,  -999.0,9,  -999.0, -999.00,9, -999.00,9, -999.00,9, -999.00,9,   1.9263, -999.00
096U20160426,       P15S,      15,          1,         12,       2012,2,20160511,       1525,   -60.0008,  -170.0208,       3895,  1663.4,   1.9150,  34.7360,2,  34.7356,2,    194.3,2,   189.6,2,   88.22,2,   31.14,2,    0.00,4,    2.15,2,   0.169,2,   0.086,2,   0.032,2,  2249.2,2,  2351.1,2,   7.6003,2,    25.00,-999.0000,9, -999.00,9, -999.00,9,  -999.0,9,  -999.0, -999.00,9, -999.00,9, -999.00,9, -999.00,9,   1.8067, -999.00
096U20160426,       P15S,      15,          1,         11,       2011,2,20160511,       1525,   -60.0008,  -170.0208,       3895,  1864.5,   1.7550,  34.7400,2,  34.7392,2,    197.3,2,   193.1,2,   92.79,2,   31.08,2,    0.00,4,    2.15,2,   0.154,2,   0.079,2,   0.037,2,  2249.8,2,  2351.4,2,   7.6043,6,    25.00,-999.0000,9, -999.00,9, -999.00,9,  -999.0,9,  -999.0, -999.00,9, -999.00,9, -999.00,9, -999.00,9,   1.6329, -999.00
096U20160426,       P15S,      15,          1,         10,       2010,2,20160511,       1525,   -60.0008,  -170.0208,       3895,  2086.2,   1.5740,  34.7370,2,  34.7369,2,    200.2,2,   196.1,2,   97.95,2,   31.15,2,    0.00,4,    2.16,2,   0.136,2,   0.069,2,       0,2,  2253.1,2,  2354.5,2,   7.6065,2,    25.00,-999.0000,9, -999.00,9, -999.00,9,  -999.0,9,  -999.0, -999.00,9, -999.00,9, -999.00,9, -999.00,9,   1.4366, -999.00
096U20160426,       P15S,      15,          1,          9,       2009,2,20160511,       1525,   -60.0008,  -170.0208,       3895,  2337.6,   1.3960,  34.7320,2,  34.7320,2,    202.7,2,   198.8,2,  103.23,2,   31.36,2,    0.00,4,    2.18,2,-999.000,9,-999.000,9,-999.000,9,  2255.8,2,  2356.8,2,-999.0000,9,  -999.00,-999.0000,9, -999.00,9, -999.00,9,  -999.0,9,  -999.0, -999.00,9, -999.00,9, -999.00,9, -999.00,9,   1.2406, -999.00
096U20160426,       P15S,      15,          1,          8,       2008,2,20160511,       1525,   -60.0008,  -170.0208,       3895,  2583.3,   1.2360,  34.7260,2,  34.7250,2,    204.8,2,   201.2,2,  108.46,2,   31.59,2,    0.00,4,    2.20,2,   0.139,2,   0.072,2,   0.076,2,  2255.8,2,  2360.7,2,-999.0000,9,  -999.00,-999.0000,9, -999.00,9, -999.00,9,  -999.0,9,  -999.0, -999.00,9, -999.00,9, -999.00,9, -999.00,9,   1.0624, -999.00
096U20160426,       P15S,      15,          1,          7,       2007,2,20160511,       1525,   -60.0008,  -170.0208,       3895,  2833.9,   1.1020,  34.7200,2,  34.7193,2,    206.8,2,   203.3,2,  112.78,2,   31.81,2,    0.00,4,    2.21,2,   0.161,2,   0.080,2,   0.074,2,  2258.4,2,  2361.3,2,-999.0000,9,  -999.00,-999.0000,9, -999.00,9, -999.00,9,  -999.0,9,  -999.0, -999.00,9, -999.00,9, -999.00,9, -999.00,9,   0.9089, -999.00
096U20160426,       P15S,      15,          1,          6,       2006,2,20160511,       1525,   -60.0008,  -170.0208,       3895,  3098.9,   0.9800,  34.7140,2,  34.7139,2,    208.8,2,   205.4,2,  116.77,2,   31.99,2,    0.00,4,    2.22,2,   0.185,2,   0.095,2,       0,2,  2258.0,2,  2360.6,2,-999.0000,9,  -999.00,-999.0000,9, -999.00,9, -999.00,9,  -999.0,9,  -999.0, -999.00,9, -999.00,9, -999.00,9, -999.00,9,   0.7653, -999.00
096U20160426,       P15S,      15,          1,          5,       2005,2,20160511,       1525,   -60.0008,  -170.0208,       3895,  3399.6,   0.8760,  34.7080,2,  34.7082,2,    210.3,2,   206.9,2,  122.59,2,   32.18,2,    0.00,4,    2.24,2,   0.200,2,   0.100,2,       0,2,  2259.0,2,  2361.9,2,-999.0000,9,  -999.00,-999.0000,9, -999.00,9, -999.00,9,  -999.0,9,  -999.0, -999.00,9, -999.00,9, -999.00,9, -999.00,9,   0.6352, -999.00
096U20160426,       P15S,      15,          1,          4,       2004,2,20160511,       1525,   -60.0008,  -170.0208,       3895,  3539.6,   0.8630,  34.7070,2,  34.7069,2,    210.4,2,   207.2,2,  124.25,2,   32.24,2,    0.00,4,    2.24,2,   0.200,6,   0.101,6,    0.06,6,  2259.8,2,  2363.0,2,-999.0000,9,  -999.00,-999.0000,9, -999.00,9, -999.00,9,  -999.0,9,  -999.0, -999.00,9, -999.00,9, -999.00,9, -999.00,9,   0.6089, -999.00
096U20160426,       P15S,      15,          1,          3,       2003,2,20160511,       1525,   -60.0008,  -170.0208,       3895,  3678.2,   0.8580,  34.7060,2,  34.7064,2,    210.5,2,   207.1,2,  125.62,2,   32.30,2,    0.00,4,    2.24,2,   0.204,2,   0.105,2,   0.079,3,  2260.9,6,  2363.4,6,-999.0000,9,  -999.00,-999.0000,9, -999.00,9, -999.00,9,  -999.0,9,  -999.0, -999.00,9, -999.00,9, -999.00,9, -999.00,9,   0.5902, -999.00
096U20160426,       P15S,      15,          1,          2,       2002,2,20160511,       1525,   -60.0008,  -170.0208,       3895,  3780.1,   0.8610,  34.7060,2,  34.7061,2,    210.4,2,   207.3,2,  126.47,2,   32.32,2,    0.00,4,    2.25,2,   0.207,2,   0.103,2,       0,2,  2260.3,2,  2362.5,6,-999.0000,9,  -999.00,-999.0000,9, -999.00,9, -999.00,9,  -999.0,9,  -999.0, -999.00,9, -999.00,9, -999.00,9, -999.00,9,   0.5828, -999.00
096U20160426,       P15S,      15,          1,          1,       2001,2,20160511,       1525,   -60.0008,  -170.0208,       3895,  3881.0,   0.8690,  34.7060,2,  34.7065,2,    210.1,2,   205.8,2,  121.04,2,   32.18,2,    0.00,4,    2.24,2,   0.214,2,   0.110,2,   0.069,2,  2260.2,2,  2362.5,2,-999.0000,9,  -999.00,-999.0000,9, -999.00,9, -999.00,9,  -999.0,9,  -999.0, -999.00,9, -999.00,9, -999.00,9, -999.00,9,   0.5802, -999.00