BOTTLE,20230413CCHSIOENA
EXPOCODE,SECT_ID,STNNBR,CASTNO,SAMPNO,BTLNBR,BTLNBR_FLAG_W,DATE,TIME,LATITUDE,LONGITUDE,DEPTH,CTDPRS,CTDTMP,CTDSAL,CTDSAL_FLAG_W,SALNTY,SALNTY_FLAG_W,CTDOXY,CTDOXY_FLAG_W,OXYGEN,OXYGEN_FLAG_W,SILCAT,SILCAT_FLAG_W,NITRAT,NITRAT_FLAG_W,NITRIT,NITRIT_FLAG_W,PHSPHT,PHSPHT_FLAG_W,CFC-11,CFC-11_FLAG_W,CFC-12,CFC-12_FLAG_W,SF6,SF6_FLAG_W,TCARBN,TCARBN_FLAG_W,ALKALI,ALKALI_FLAG_W,PH_TOT,PH_TOT_FLAG_W,PH_TMP,HELIUM,HELIUM_FLAG_W,DELHE3,DELHE3_FLAG_W,DELC13,DELC13_FLAG_W,DELC14,DELC14_FLAG_W,C14ERR,POC,POC_FLAG_W,PON,PON_FLAG_W,CHLORA,CHLORA_FLAG_W,PPHYTN,PPHYTN_FLAG_W,THETA,DELHER
,,,,,,,,,,,METERS,DBAR,ITS-90,PSS-78,,PSS-78,,UMOL/KG,,UMOL/KG,,UMOL/KG,,UMOL/KG,,UMOL/KG,,UMOL/KG,,PMOL/KG,,PMOL/KG,,FMOL/KG,,UMOL/KG,,UMOL/KG,,,,DEG C,NMOL/KG,,PERCNT,,/MILLE,,/MILLE,,/MILLE,UG/KG,,UG/KG,,UG/KG,,UG/KG,,DEG C,PERCNT
096U20160426,       P15S,      68,          1,         36,       2036,2,20160602,       1411,   -35.3340,  -170.0030,       4914,     5.7,  18.1270,  35.4810,2,  35.4808,2,    234.4,2,   233.0,2,    0.18,4,    0.03,2,    0.00,4,    0.10,2,   2.278,2,   1.335,2,     1.7,2,  2065.8,2,  2333.3,2,-999.0000,9,  -999.00,-999.0000,9, -999.00,9, -999.00,9,  -999.0,9,  -999.0, -999.00,9, -999.00,9,    0.28,2,    0.07,3,  18.1260, -999.00
096U20160426,       P15S,      68,          1,         35,       2035,2,20160602,       1411,   -35.3340,  -170.0030,       4914,    35.7,  18.1370,  35.4800,2,  35.4789,2,    234.2,2,   233.0,2,    0.17,4,    0.02,2,    0.00,4,    0.10,2,   2.279,2,   1.342,2,   1.685,2,  2066.1,6,  2329.8,6,-999.0000,9,  -999.00,-999.0000,9, -999.00,9, -999.00,9,  -999.0,9,  -999.0, -999.00,9, -999.00,9,    0.32,2,    0.02,3,  18.1308, -999.00
096U20160426,       P15S,      68,          1,         34,       2034,2,20160602,       1411,   -35.3340,  -170.0030,       4914,    59.3,  18.1420,  35.4810,2,  35.4794,2,    234.0,2,   232.9,2,    0.17,4,    0.02,2,    0.00,4,    0.10,2,   2.282,2,   1.342,2,   1.724,2,  2065.7,2,  2328.1,2,-999.0000,9,  -999.00,-999.0000,9, -999.00,9, -999.00,9,  -999.0,9,  -999.0, -999.00,9, -999.00,9,    0.27,2,    0.07,3,  18.1318, -999.00
096U20160426,       P15S,      68,          1,         33,       2033,2,20160602,       1411,   -35.3340,  -170.0030,       4914,    85.4,  18.1700,  35.4810,2,  35.4642,2,    233.8,2,   233.5,2,    0.18,4,    0.03,2,    0.00,4,    0.11,2,   2.298,2,   1.347,2,   1.696,2,  2066.3,2,  2329.4,2,-999.0000,9,  -999.00,-999.0000,9, -999.00,9, -999.00,9,  -999.0,9,  -999.0, -999.00,9, -999.00,9,    0.29,2,    0.09,3,  18.1552, -999.00
096U20160426,       P15S,      68,          1,         32,       2032,2,20160602,       1411,   -35.3340,  -170.0030,       4914,   116.7,  14.6690,  35.2470,2,  35.2405,2,    234.2,2,   230.4,2,    0.83,2,    3.10,2,    0.20,2,    0.36,2,   2.756,2,   1.575,2,   1.718,2,  2094.9,2,  2315.3,2,-999.0000,9,  -999.00,-999.0000,9, -999.00,9, -999.00,9,  -999.0,9,  -999.0, -999.00,9, -999.00,9,    0.32,2,    0.17,3,  14.6516, -999.00
096U20160426,       P15S,      68,          1,         31,       2031,2,20160602,       1411,   -35.3340,  -170.0030,       4914,   164.2,  13.3640,  35.1310,2,  35.1210,2,    227.4,2,   225.3,2,    1.31,2,    5.97,2,    0.01,4,    0.52,2,   2.894,2,   1.633,2,   1.755,2,  2106.8,2,  2307.5,6,-999.0000,9,  -999.00,-999.0000,9, -999.00,9, -999.00,9,  -999.0,9,  -999.0, -999.00,9, -999.00,9, -999.00,9, -999.00,9,  13.3410, -999.00
096U20160426,       P15S,      68,          1,         30,       2030,2,20160602,       1411,   -35.3340,  -170.0030,       4914,   216.1,  12.5000,  35.0210,2,  35.0053,2,    221.5,2,   219.4,2,    1.98,2,    8.80,2,    0.01,4,    0.69,2,   3.087,6,   1.701,6,   1.535,6,  2117.3,2,  2303.5,2,-999.0000,9,  -999.00,-999.0000,9, -999.00,9, -999.00,9,  -999.0,9,  -999.0, -999.00,9, -999.00,9, -999.00,9, -999.00,9,  12.4710, -999.00
096U20160426,       P15S,      68,          1,         29,       2029,2,20160602,       1411,   -35.3340,  -170.0030,       4914,   265.8,  11.3810,  34.8700,2,  34.8395,2,    213.2,2,   212.7,2,    2.85,2,   12.74,2,    0.00,4,    0.92,2,   3.151,3,   1.723,3,   1.461,3,  2128.8,2,  2293.2,2,-999.0000,9,  -999.00,-999.0000,9, -999.00,9, -999.00,9,  -999.0,9,  -999.0, -999.00,9, -999.00,9, -999.00,9, -999.00,9,  11.3475, -999.00
096U20160426,       P15S,      68,          1,         28,       2028,2,20160602,       1411,   -35.3340,  -170.0030,       4914,   316.0,  10.0490,  34.7020,2,  34.6923,2,    217.3,2,   216.0,2,    3.48,2,   15.43,2,    0.00,4,    1.09,2,   3.340,2,   1.793,2,   1.316,2,  2135.8,2,  2290.3,2,-999.0000,9,  -999.00,-999.0000,9, -999.00,9, -999.00,9,  -999.0,9,  -999.0, -999.00,9, -999.00,9, -999.00,9, -999.00,9,  10.0121, -999.00
096U20160426,       P15S,      68,          1,         27,       2027,2,20160602,       1411,   -35.3340,  -170.0030,       4914,   365.3,   9.3060,  34.6170,2,  34.6123,2,    220.2,2,   219.1,2,    4.01,2,   17.10,2,    0.00,4,    1.19,2,   3.430,2,   1.809,2,   1.203,2,  2138.7,2,  2286.1,2,-999.0000,9,  -999.00,-999.0000,9, -999.00,9, -999.00,9,  -999.0,9,  -999.0, -999.00,9, -999.00,9, -999.00,9, -999.00,9,   9.2653, -999.00
096U20160426,       P15S,      68,          1,         26,       2026,2,20160602,       1411,   -35.3340,  -170.0030,       4914,   436.8,   8.2990,  34.5070,2,  34.5048,2,    226.6,2,   225.4,2,    4.87,2,   19.30,2,    0.00,4,    1.33,2,   3.534,2,   1.810,2,   1.041,2,  2142.0,2,  2280.9,2,-999.0000,9,  -999.00,-999.0000,9, -999.00,9, -999.00,9,  -999.0,9,  -999.0, -999.00,9, -999.00,9, -999.00,9, -999.00,9,   8.2535, -999.00
096U20160426,       P15S,      68,          1,         25,       2025,2,20160602,       1411,   -35.3340,  -170.0030,       4914,   536.1,   7.4600,  34.4260,2,  34.4250,2,    235.1,2,   234.4,2,    5.98,2,   21.16,2,    0.00,4,    1.44,2,   3.686,2,   1.885,2,   1.038,2,  2144.5,2,  2280.5,2,-999.0000,9,  -999.00,-999.0000,9, -999.00,9, -999.00,9,  -999.0,9,  -999.0, -999.00,9, -999.00,9, -999.00,9, -999.00,9,   7.4072, -999.00
096U20160426,       P15S,      68,          1,         24,       2024,2,20160602,       1411,   -35.3340,  -170.0030,       4914,   635.9,   6.9640,  34.3820,2,  34.3775,2,    236.4,2,   235.6,2,    7.46,2,   22.62,2,    0.00,4,    1.53,2,   3.501,2,   1.748,2,   0.832,2,  2146.7,2,  2279.7,2,-999.0000,9,  -999.00,-999.0000,9, -999.00,9, -999.00,9,  -999.0,9,  -999.0, -999.00,9, -999.00,9, -999.00,9, -999.00,9,   6.9033, -999.00
096U20160426,       P15S,      68,          1,         23,       2023,2,20160602,       1411,   -35.3340,  -170.0030,       4914,   735.8,   6.5130,  34.3510,2,  34.3485,2,    233.5,2,   232.3,2,    9.63,2,   24.06,2,    0.00,4,    1.63,2,   3.034,2,   1.485,2,   0.629,2,  2151.6,2,  2280.6,2,-999.0000,9,  -999.00,-999.0000,9, -999.00,9, -999.00,9,  -999.0,9,  -999.0, -999.00,9, -999.00,9, -999.00,9, -999.00,9,   6.4448, -999.00
096U20160426,       P15S,      68,          1,         22,       2022,2,20160602,       1411,   -35.3340,  -170.0030,       4914,   835.6,   6.1090,  34.3440,2,  34.3433,2,    222.8,2,   221.8,2,   13.62,2,   25.80,2,    0.00,4,    1.75,2,   2.349,2,   1.146,2,   0.415,2,  2161.6,2,  2284.3,2,-999.0000,9,  -999.00,-999.0000,9, -999.00,9, -999.00,9,  -999.0,9,  -999.0, -999.00,9, -999.00,9, -999.00,9, -999.00,9,   6.0336, -999.00
096U20160426,       P15S,      68,          1,         21,       2021,2,20160602,       1411,   -35.3340,  -170.0030,       4914,   935.4,   5.5320,  34.3270,2,  34.3259,2,    214.8,2,   214.3,2,   18.18,2,   27.59,2,    0.00,4,    1.87,2,   1.767,2,   0.856,2,   0.277,2,  2172.5,2,  2287.2,2,-999.0000,9,  -999.00,-999.0000,9, -999.00,9, -999.00,9,  -999.0,9,  -999.0, -999.00,9, -999.00,9, -999.00,9, -999.00,9,   5.4510, -999.00
096U20160426,       P15S,      68,          1,         20,       2020,2,20160602,       1411,   -35.3340,  -170.0030,       4914,  1035.8,   4.8810,  34.3260,2,  34.3252,2,    205.0,2,   204.9,2,   25.11,2,   29.52,2,    0.00,4,    2.01,2,   1.246,2,   0.597,2,   0.128,2,  2182.9,2,  2291.6,2,-999.0000,9,  -999.00,-999.0000,9, -999.00,9, -999.00,9,  -999.0,9,  -999.0, -999.00,9, -999.00,9, -999.00,9, -999.00,9,   4.7957, -999.00
096U20160426,       P15S,      68,          1,         19,       2019,2,20160602,       1411,   -35.3340,  -170.0030,       4914,  1136.1,   4.3270,  34.3430,2,  34.3429,2,    196.3,2,   195.4,2,   33.85,2,   31.19,2,    0.00,4,    2.13,2,   0.836,2,   0.404,2,   0.104,2,  2199.6,6,  2300.3,6,-999.0000,9,  -999.00,-999.0000,9, -999.00,9, -999.00,9,  -999.0,9,  -999.0, -999.00,9, -999.00,9, -999.00,9, -999.00,9,   4.2373, -999.00
096U20160426,       P15S,      68,          1,         18,       2018,2,20160602,       1411,   -35.3340,  -170.0030,       4914,  1235.1,   3.7970,  34.3740,2,  34.3751,2,    188.2,2,   187.6,2,   43.28,2,   32.50,2,    0.00,4,    2.23,2,   0.529,2,   0.260,2,   0.066,2,  2215.9,2,  2309.6,2,-999.0000,9,  -999.00,-999.0000,9, -999.00,9, -999.00,9,  -999.0,9,  -999.0, -999.00,9, -999.00,9, -999.00,9, -999.00,9,   3.7036, -999.00
096U20160426,       P15S,      68,          1,         17,       2017,2,20160602,       1411,   -35.3340,  -170.0030,       4914,  1335.5,   3.4430,  34.4150,2,  34.4171,2,    180.8,2,   179.5,2,   52.59,2,   33.30,2,    0.00,4,    2.29,2,   0.294,2,   0.149,2,   0.016,2,  2229.1,2,  2317.1,2,-999.0000,9,  -999.00,-999.0000,9, -999.00,9, -999.00,9,  -999.0,9,  -999.0, -999.00,9, -999.00,9, -999.00,9, -999.00,9,   3.3445, -999.00
096U20160426,       P15S,      68,          1,         16,       2016,2,20160602,       1411,   -35.3340,  -170.0030,       4914,  1436.1,   3.1060,  34.4750,2,  34.4757,2,    171.9,2,   170.8,2,   64.56,2,   33.92,2,    0.00,4,    2.34,2,   0.131,2,   0.069,2,   0.005,2,  2246.0,2,  2333.3,2,-999.0000,9,  -999.00,-999.0000,9, -999.00,9, -999.00,9,  -999.0,9,  -999.0, -999.00,9, -999.00,9, -999.00,9, -999.00,9,   3.0025, -999.00
096U20160426,       P15S,      68,          1,         15,       2015,2,20160602,       1411,   -35.3340,  -170.0030,       4914,  1536.2,   2.9310,  34.5240,2,  34.5239,2,    165.2,2,   163.8,2,   75.30,2,   34.20,2,    0.00,4,    2.36,2,-999.000,9,-999.000,9,-999.000,9,  -999.0,9,  -999.0,9,-999.0000,9,  -999.00,-999.0000,9, -999.00,9, -999.00,9,  -999.0,9,  -999.0, -999.00,9, -999.00,9, -999.00,9, -999.00,9,   2.8211, -999.00
096U20160426,       P15S,      68,          1,         14,       2014,2,20160602,       1411,   -35.3340,  -170.0030,       4914,  1665.9,   2.7220,  34.5640,2,  34.5679,2,    160.0,2,   158.0,2,   87.14,2,   34.54,2,    0.00,4,    2.40,2,   0.032,2,   0.020,2,       0,2,  2271.2,2,  2360.2,2,-999.0000,9,  -999.00,-999.0000,9, -999.00,9, -999.00,9,  -999.0,9,  -999.0, -999.00,9, -999.00,9, -999.00,9, -999.00,9,   2.6037, -999.00
096U20160426,       P15S,      68,          1,         13,       2013,2,20160602,       1411,   -35.3340,  -170.0030,       4914,  1866.1,   2.4770,  34.6040,2,  34.6030,2,    154.2,2,   152.8,2,   99.21,2,   34.86,2,    0.00,4,    2.43,2,-999.000,9,-999.000,9,-999.000,9,  -999.0,9,  -999.0,9,-999.0000,9,  -999.00,-999.0000,9, -999.00,9, -999.00,9,  -999.0,9,  -999.0, -999.00,9, -999.00,9, -999.00,9, -999.00,9,   2.3449, -999.00
096U20160426,       P15S,      68,          1,         12,       2012,2,20160602,       1411,   -35.3340,  -170.0030,       4914,  2086.4,   2.3240,  34.6230,2,  34.6228,2,    151.8,2,   150.5,2,  106.74,2,   35.07,2,    0.00,4,    2.45,2,   0.008,2,   0.003,2,       0,2,  2297.5,2,  2384.7,2,-999.0000,9,  -999.00,-999.0000,9, -999.00,9, -999.00,9,  -999.0,9,  -999.0, -999.00,9, -999.00,9, -999.00,9, -999.00,9,   2.1752, -999.00
096U20160426,       P15S,      68,          1,         11,       2011,2,20160602,       1411,   -35.3340,  -170.0030,       4914,  2335.9,   2.1600,  34.6390,2,  34.6386,2,    149.7,2,   148.3,2,  113.95,2,   35.37,2,    0.00,4,    2.47,2,-999.000,9,-999.000,9,-999.000,9,  -999.0,9,  -999.0,9,-999.0000,9,  -999.00,-999.0000,9, -999.00,9, -999.00,9,  -999.0,9,  -999.0, -999.00,9, -999.00,9, -999.00,9, -999.00,9,   1.9917, -999.00
096U20160426,       P15S,      68,          1,         10,       2010,2,20160602,       1411,   -35.3340,  -170.0030,       4914,  2575.7,   2.0190,  34.6520,2,  34.6513,2,    149.6,2,   148.3,2,  119.50,2,   35.51,2,    0.00,4,    2.48,2,   0.002,2,   0.002,2,       0,2,  2310.6,2,  2397.5,6,-999.0000,9,  -999.00,-999.0000,9, -999.00,9, -999.00,9,  -999.0,9,  -999.0, -999.00,9, -999.00,9, -999.00,9, -999.00,9,   1.8314, -999.00
096U20160426,       P15S,      68,          1,          9,       2009,2,20160602,       1411,   -35.3340,  -170.0030,       4914,  2833.4,   1.8840,  34.6640,2,  34.6628,2,    151.4,2,   150.0,2,  123.54,2,   35.37,2,    0.00,4,    2.47,2,-999.000,9,-999.000,9,-999.000,9,  -999.0,9,  -999.0,9,-999.0000,9,  -999.00,-999.0000,9, -999.00,9, -999.00,9,  -999.0,9,  -999.0, -999.00,9, -999.00,9, -999.00,9, -999.00,9,   1.6748, -999.00
096U20160426,       P15S,      68,          1,          8,       2008,2,20160602,       1411,   -35.3340,  -170.0030,       4914,  3101.0,   1.7780,  34.6810,2,  34.6802,2,    160.9,2,   160.4,2,  120.25,2,   34.48,2,    0.00,4,    2.40,2,   0.009,2,   0.004,2,   0.008,2,  2302.6,2,  2393.6,2,-999.0000,9,  -999.00,-999.0000,9, -999.00,9, -999.00,9,  -999.0,9,  -999.0, -999.00,9, -999.00,9, -999.00,9, -999.00,9,   1.5452, -999.00
096U20160426,       P15S,      68,          1,          7,       2007,2,20160602,       1411,   -35.3340,  -170.0030,       4914,  3399.2,   1.6750,  34.7070,2,  34.7057,2,    179.6,2,   179.6,2,  109.39,2,   32.73,2,    0.00,4,    2.27,2,-999.000,9,-999.000,9,-999.000,9,  -999.0,9,  -999.0,9,-999.0000,9,  -999.00,-999.0000,9, -999.00,9, -999.00,9,  -999.0,9,  -999.0, -999.00,9, -999.00,9, -999.00,9, -999.00,9,   1.4146, -999.00
096U20160426,       P15S,      68,          1,          6,       2006,2,20160602,       1411,   -35.3340,  -170.0030,       4914,  3700.9,   1.4950,  34.7190,2,  34.7174,2,    192.3,2,   192.4,2,  106.98,2,   31.86,2,    0.00,4,    2.20,2,   0.042,2,   0.022,2,       0,2,  2266.7,2,  2367.0,2,-999.0000,9,  -999.00,-999.0000,9, -999.00,9, -999.00,9,  -999.0,9,  -999.0, -999.00,9, -999.00,9, -999.00,9, -999.00,9,   1.2079, -999.00
096U20160426,       P15S,      68,          1,          5,       2005,2,20160602,       1411,   -35.3340,  -170.0030,       4914,  3999.9,   1.3070,  34.7190,2,  34.7176,2,    199.6,2,   199.4,2,  109.60,2,   31.67,2,    0.00,4,    2.18,2,-999.000,9,-999.000,9,-999.000,9,  -999.0,9,  -999.0,9,-999.0000,9,  -999.00,-999.0000,9, -999.00,9, -999.00,9,  -999.0,9,  -999.0, -999.00,9, -999.00,9, -999.00,9, -999.00,9,   0.9933, -999.00
096U20160426,       P15S,      68,          1,          4,       2004,2,20160602,       1411,   -35.3340,  -170.0030,       4914,  4300.4,   1.1360,  34.7150,2,  34.7130,2,    204.3,2,   203.7,2,  114.21,2,   31.77,2,    0.00,4,    2.18,2,   0.098,2,   0.049,2,   0.016,2,  2263.4,2,  2363.7,2,-999.0000,9,  -999.00,-999.0000,9, -999.00,9, -999.00,9,  -999.0,9,  -999.0, -999.00,9, -999.00,9, -999.00,9, -999.00,9,   0.7945, -999.00
096U20160426,       P15S,      68,          1,          3,       2003,2,20160602,       1411,   -35.3340,  -170.0030,       4914,  4601.8,   1.0480,  34.7100,2,  34.7090,2,    206.6,2,   206.0,2,  117.55,2,   31.91,2,    0.00,4,    2.20,2,   0.139,2,   0.068,2,   0.047,2,  2263.2,2,  2365.9,2,-999.0000,9,  -999.00,-999.0000,9, -999.00,9, -999.00,9,  -999.0,9,  -999.0, -999.00,9, -999.00,9, -999.00,9, -999.00,9,   0.6753, -999.00
096U20160426,       P15S,      68,          1,          2,       2002,2,20160602,       1411,   -35.3340,  -170.0030,       4914,  4800.3,   1.0350,  34.7090,2,  34.7078,2,    207.4,2,   206.3,2,  118.49,2,   31.94,2,    0.00,4,    2.20,2,   0.159,2,   0.078,2,   0.045,3,  2263.8,6,  2365.1,6,-999.0000,9,  -999.00,-999.0000,9, -999.00,9, -999.00,9,  -999.0,9,  -999.0, -999.00,9, -999.00,9, -999.00,9, -999.00,9,   0.6398, -999.00
096U20160426,       P15S,      68,          1,          1,       2001,2,20160602,       1411,   -35.3340,  -170.0030,       4914,  4977.9,   1.0450,  34.7080,2,  34.7073,2,    207.7,2,   206.3,2,  118.99,2,   32.00,2,    0.00,4,    2.20,2,   0.170,2,   0.085,2,   0.057,2,  2264.4,2,  2365.5,2,-999.0000,9,  -999.00,-999.0000,9, -999.00,9, -999.00,9,  -999.0,9,  -999.0, -999.00,9, -999.00,9, -999.00,9, -999.00,9,   0.6286, -999.00