BOTTLE,20230413CCHSIOENA
EXPOCODE,SECT_ID,STNNBR,CASTNO,SAMPNO,BTLNBR,BTLNBR_FLAG_W,DATE,TIME,LATITUDE,LONGITUDE,DEPTH,CTDPRS,CTDTMP,CTDSAL,CTDSAL_FLAG_W,SALNTY,SALNTY_FLAG_W,CTDOXY,CTDOXY_FLAG_W,OXYGEN,OXYGEN_FLAG_W,SILCAT,SILCAT_FLAG_W,NITRAT,NITRAT_FLAG_W,NITRIT,NITRIT_FLAG_W,PHSPHT,PHSPHT_FLAG_W,CFC-11,CFC-11_FLAG_W,CFC-12,CFC-12_FLAG_W,SF6,SF6_FLAG_W,TCARBN,TCARBN_FLAG_W,ALKALI,ALKALI_FLAG_W,PH_TOT,PH_TOT_FLAG_W,PH_TMP,HELIUM,HELIUM_FLAG_W,DELHE3,DELHE3_FLAG_W,DELC13,DELC13_FLAG_W,DELC14,DELC14_FLAG_W,C14ERR,POC,POC_FLAG_W,PON,PON_FLAG_W,CHLORA,CHLORA_FLAG_W,PPHYTN,PPHYTN_FLAG_W,THETA,DELHER
,,,,,,,,,,,METERS,DBAR,ITS-90,PSS-78,,PSS-78,,UMOL/KG,,UMOL/KG,,UMOL/KG,,UMOL/KG,,UMOL/KG,,UMOL/KG,,PMOL/KG,,PMOL/KG,,FMOL/KG,,UMOL/KG,,UMOL/KG,,,,DEG C,NMOL/KG,,PERCNT,,/MILLE,,/MILLE,,/MILLE,UG/KG,,UG/KG,,UG/KG,,UG/KG,,DEG C,PERCNT
096U20160426,       P15S,       5,          1,         36,       2036,2,20160506,       0044,   -64.5046,  -169.9906,       2360,    16.1,  -0.1510,  34.0690,2,  34.0691,2,    333.9,2,   334.9,2,   52.60,2,   28.25,2,    0.28,2,    1.99,2,-999.000,9,-999.000,9,-999.000,9,  -999.0,9,  -999.0,9,-999.0000,9,  -999.00,-999.0000,9, -999.00,9, -999.00,9,  -999.0,9,  -999.0, -999.00,9, -999.00,9,    0.41,2,    0.03,3,  -0.1515, -999.00
096U20160426,       P15S,       5,          1,         35,       2035,2,20160506,       0044,   -64.5046,  -169.9906,       2360,    25.4,  -0.1500,  34.0690,2,  34.0689,2,    333.8,2,   334.4,2,   52.71,2,   28.22,2,    0.28,2,    1.99,2,-999.000,9,-999.000,9,-999.000,9,  -999.0,9,  -999.0,9,-999.0000,9,  -999.00,-999.0000,9, -999.00,9, -999.00,9,  -999.0,9,  -999.0, -999.00,9, -999.00,9,    0.36,2,    0.05,3,  -0.1508, -999.00
096U20160426,       P15S,       5,          1,         34,       2034,2,20160506,       0044,   -64.5046,  -169.9906,       2360,    40.9,  -0.1440,  34.0690,2,  34.0692,2,    333.6,2,   334.5,2,   52.54,2,   28.23,2,    0.28,2,    1.99,2,-999.000,9,-999.000,9,-999.000,9,  2186.2,2,  2303.4,2,-999.0000,9,  -999.00,   1.7920,2,   -1.51,2, -999.00,9,  -999.0,9,  -999.0, -999.00,9, -999.00,9,    0.44,2,   -0.01,3,  -0.1454,    1.05
096U20160426,       P15S,       5,          1,         33,       2033,2,20160506,       0044,   -64.5046,  -169.9906,       2360,    66.4,  -0.1430,  34.0690,2,  34.0686,2,    333.6,2,   334.4,2,   52.69,2,   28.18,2,    0.28,2,    1.99,2,-999.000,9,-999.000,9,-999.000,9,  -999.0,9,  -999.0,9,-999.0000,9,  -999.00,-999.0000,9, -999.00,9, -999.00,9,  -999.0,9,  -999.0, -999.00,9, -999.00,9,    0.44,2,   -0.01,3,  -0.1452, -999.00
096U20160426,       P15S,       5,          1,         32,       2032,2,20160506,       0044,   -64.5046,  -169.9906,       2360,    90.8,  -0.1410,  34.0700,2,  34.0703,2,    333.0,2,   333.8,2,   52.85,2,   28.22,2,    0.28,2,    2.00,2,-999.000,9,-999.000,9,-999.000,9,  -999.0,9,  -999.0,9,-999.0000,9,  -999.00,-999.0000,9, -999.00,9, -999.00,9,  -999.0,9,  -999.0, -999.00,9, -999.00,9,    0.31,2,    0.01,3,  -0.1441, -999.00
096U20160426,       P15S,       5,          1,         31,       2031,2,20160506,       0044,   -64.5046,  -169.9906,       2360,   116.2,  -0.1090,  34.1210,2,  34.1379,2,    321.0,2,   315.0,2,   57.63,2,   29.34,2,    0.24,2,    2.07,2,-999.000,9,-999.000,9,-999.000,9,  -999.0,9,  -999.0,9,-999.0000,9,  -999.00,-999.0000,9, -999.00,9, -999.00,9,  -999.0,9,  -999.0, -999.00,9, -999.00,9, -999.00,9, -999.00,9,  -0.1130, -999.00
096U20160426,       P15S,       5,          1,         30,       2030,2,20160506,       0044,   -64.5046,  -169.9906,       2360,   139.4,  -0.2230,  34.3360,2,  34.3459,2,    264.4,2,   261.9,2,   73.03,2,   32.22,2,    0.03,2,    2.24,2,-999.000,9,-999.000,9,-999.000,9,  -999.0,9,  -999.0,9,-999.0000,9,  -999.00,-999.0000,9, -999.00,9, -999.00,9,  -999.0,9,  -999.0, -999.00,9, -999.00,9, -999.00,9, -999.00,9,  -0.2277, -999.00
096U20160426,       P15S,       5,          1,         29,       2029,2,20160506,       0044,   -64.5046,  -169.9906,       2360,   165.1,   0.7400,  34.4840,2,  34.4902,2,    220.1,2,   219.4,2,   77.29,2,   33.18,2,    0.01,4,    2.31,2,-999.000,9,-999.000,9,-999.000,9,  -999.0,9,  -999.0,9,-999.0000,9,  -999.00,-999.0000,9, -999.00,9, -999.00,9,  -999.0,9,  -999.0, -999.00,9, -999.00,9, -999.00,9, -999.00,9,   0.7330, -999.00
096U20160426,       P15S,       5,          1,         28,       2028,2,20160506,       0044,   -64.5046,  -169.9906,       2360,   189.9,   1.2530,  34.5680,2,  34.5737,2,    200.4,2,   198.5,2,   80.15,2,   33.28,2,    0.01,4,    2.31,2,-999.000,9,-999.000,9,-999.000,9,  -999.0,9,  -999.0,9,-999.0000,9,  -999.00,-999.0000,9, -999.00,9, -999.00,9,  -999.0,9,  -999.0, -999.00,9, -999.00,9, -999.00,9, -999.00,9,   1.2440, -999.00
096U20160426,       P15S,       5,          1,         27,       2027,2,20160506,       0044,   -64.5046,  -169.9906,       2360,   213.8,   1.5890,  34.6240,2,  34.6260,2,    189.0,2,   187.9,2,   82.03,2,   33.20,2,    0.01,4,    2.30,2,-999.000,9,-999.000,9,-999.000,9,  -999.0,9,  -999.0,9,-999.0000,9,  -999.00,-999.0000,9, -999.00,9, -999.00,9,  -999.0,9,  -999.0, -999.00,9, -999.00,9, -999.00,9, -999.00,9,   1.5782, -999.00
096U20160426,       P15S,       5,          1,         26,       2026,2,20160506,       0044,   -64.5046,  -169.9906,       2360,   241.1,   1.7840,  34.6570,2,  34.6552,2,    183.6,2,   183.0,2,   82.98,2,   33.00,2,    0.01,4,    2.29,2,-999.000,9,-999.000,9,-999.000,9,  -999.0,9,  -999.0,9,-999.0000,9,  -999.00,-999.0000,9, -999.00,9, -999.00,9,  -999.0,9,  -999.0, -999.00,9, -999.00,9, -999.00,9, -999.00,9,   1.7714, -999.00
096U20160426,       P15S,       5,          1,         25,       2025,2,20160506,       0044,   -64.5046,  -169.9906,       2360,   287.0,   1.7870,  34.6770,2,  34.6787,2,    183.8,2,   182.3,2,   84.41,2,   32.68,2,    0.01,4,    2.27,2,-999.000,9,-999.000,9,-999.000,9,  -999.0,9,  -999.0,9,-999.0000,9,  -999.00,   1.8440,2,    8.86,2, -999.00,9,  -999.0,9,  -999.0, -999.00,9, -999.00,9, -999.00,9, -999.00,9,   1.7719,    1.06
096U20160426,       P15S,       5,          1,         24,       2024,2,20160506,       0044,   -64.5046,  -169.9906,       2360,   337.7,   1.9320,  34.7060,2,  34.7050,2,    183.5,2,   182.6,2,   84.66,2,   32.09,2,    0.01,4,    2.23,2,-999.000,9,-999.000,9,-999.000,9,  -999.0,9,  -999.0,9,-999.0000,9,  -999.00,-999.0000,9, -999.00,9, -999.00,9,  -999.0,9,  -999.0, -999.00,9, -999.00,9, -999.00,9, -999.00,9,   1.9136, -999.00
096U20160426,       P15S,       5,          1,         23,       2023,2,20160506,       0044,   -64.5046,  -169.9906,       2360,   386.1,   1.8990,  34.7130,2,  34.7141,2,    184.8,2,   184.2,2,   85.66,2,   31.88,2,    0.01,4,    2.22,2,-999.000,9,-999.000,9,-999.000,9,  -999.0,9,  -999.0,9,-999.0000,9,  -999.00,-999.0000,9, -999.00,9, -999.00,9,  -999.0,9,  -999.0, -999.00,9, -999.00,9, -999.00,9, -999.00,9,   1.8780, -999.00
096U20160426,       P15S,       5,          1,         22,       2022,2,20160506,       0044,   -64.5046,  -169.9906,       2360,   434.8,   1.9000,  34.7240,2,  34.7241,2,    187.0,2,   186.1,2,   86.38,2,   31.50,2,    0.01,4,    2.19,2,-999.000,9,-999.000,9,-999.000,9,  -999.0,9,  -999.0,9,-999.0000,9,  -999.00,-999.0000,9, -999.00,9, -999.00,9,  -999.0,9,  -999.0, -999.00,9, -999.00,9, -999.00,9, -999.00,9,   1.8761, -999.00
096U20160426,       P15S,       5,          1,         21,       2021,2,20160506,       0044,   -64.5046,  -169.9906,       2360,   484.0,   1.8300,  34.7270,2,  34.7273,2,    188.3,2,   187.4,2,   87.75,2,   31.46,2,    0.01,4,    2.19,2,-999.000,9,-999.000,9,-999.000,9,  -999.0,9,  -999.0,9,-999.0000,9,  -999.00,-999.0000,9, -999.00,9, -999.00,9,  -999.0,9,  -999.0, -999.00,9, -999.00,9, -999.00,9, -999.00,9,   1.8035, -999.00
096U20160426,       P15S,       5,          1,         20,       2020,2,20160506,       0044,   -64.5046,  -169.9906,       2360,   537.4,   1.7120,  34.7200,2,  34.7169,2,    189.9,2,   189.1,2,   89.05,2,   31.60,2,    0.01,4,    2.19,2,-999.000,9,-999.000,9,-999.000,9,  -999.0,9,  -999.0,9,-999.0000,9,  -999.00,   1.8870,2,    9.14,2, -999.00,9,  -999.0,9,  -999.0, -999.00,9, -999.00,9, -999.00,9, -999.00,9,   1.6828,    1.03
096U20160426,       P15S,       5,          1,         19,       2019,2,20160506,       0044,   -64.5046,  -169.9906,       2360,   586.8,   1.7420,  34.7320,2,  34.7323,2,    190.8,2,   190.0,2,   89.76,2,   31.30,2,    0.01,4,    2.18,2,-999.000,9,-999.000,9,-999.000,9,  -999.0,9,  -999.0,9,-999.0000,9,  -999.00,-999.0000,9, -999.00,9, -999.00,9,  -999.0,9,  -999.0, -999.00,9, -999.00,9, -999.00,9, -999.00,9,   1.7098, -999.00
096U20160426,       P15S,       5,          1,         18,       2018,2,20160506,       0044,   -64.5046,  -169.9906,       2360,   663.9,   1.6880,  34.7350,2,  34.7338,2,    192.3,2,   194.9,2,   91.36,2,   31.21,2,    0.01,4,    2.17,2,-999.000,9,-999.000,9,-999.000,9,  -999.0,9,  -999.0,9,-999.0000,9,  -999.00,-999.0000,9, -999.00,9, -999.00,9,  -999.0,9,  -999.0, -999.00,9, -999.00,9, -999.00,9, -999.00,9,   1.6514, -999.00
096U20160426,       P15S,       5,          1,         17,       2017,2,20160506,       0044,   -64.5046,  -169.9906,       2360,   735.1,   1.6060,  34.7360,2,  34.7351,2,    194.0,2,   195.8,2,   93.61,2,   31.21,2,    0.01,4,    2.17,2,-999.000,9,-999.000,9,-999.000,9,  -999.0,9,  -999.0,9,-999.0000,9,  -999.00,-999.0000,9, -999.00,9, -999.00,9,  -999.0,9,  -999.0, -999.00,9, -999.00,9, -999.00,9, -999.00,9,   1.5655, -999.00
096U20160426,       P15S,       5,          1,         16,       2016,2,20160506,       0044,   -64.5046,  -169.9906,       2360,   808.8,   1.5590,  34.7350,3,  34.7353,2,    194.7,2,   195.9,2,   95.01,2,   31.24,2,    0.01,4,    2.17,2,-999.000,9,-999.000,9,-999.000,9,  -999.0,9,  -999.0,9,-999.0000,9,  -999.00,-999.0000,9, -999.00,9,    0.45,6,  -156.6,6,     2.0, -999.00,9, -999.00,9, -999.00,9, -999.00,9,   1.5142, -999.00
096U20160426,       P15S,       5,          1,         15,       2015,2,20160506,       0044,   -64.5046,  -169.9906,       2360,   883.5,   1.4930,  34.7360,2,  34.7353,2,    196.1,2,   198.4,2,   96.88,2,   31.21,2,    0.01,4,    2.17,2,-999.000,9,-999.000,9,-999.000,9,  -999.0,9,  -999.0,9,-999.0000,9,  -999.00,   1.8530,2,    8.95,2, -999.00,9,  -999.0,9,  -999.0, -999.00,9, -999.00,9, -999.00,9, -999.00,9,   1.4440,    1.02
096U20160426,       P15S,       5,          1,         14,       2014,2,20160506,       0044,   -64.5046,  -169.9906,       2360,   985.2,   1.4120,  34.7340,2,  34.7331,2,    197.3,2,   198.5,2,   99.39,2,   31.34,2,    0.01,4,    2.18,2,-999.000,9,-999.000,9,-999.000,9,  -999.0,9,  -999.0,9,-999.0000,9,  -999.00,-999.0000,9, -999.00,9, -999.00,9,  -999.0,9,  -999.0, -999.00,9, -999.00,9, -999.00,9, -999.00,9,   1.3572, -999.00
096U20160426,       P15S,       5,          1,         13,       2013,2,20160506,       0044,   -64.5046,  -169.9906,       2360,  1078.8,   1.3500,  34.7320,2,  34.7327,2,    197.5,2,   197.4,2,  101.62,2,   31.39,2,    0.01,4,    2.19,2,-999.000,9,-999.000,9,-999.000,9,  -999.0,9,  -999.0,9,-999.0000,9,  -999.00,-999.0000,9, -999.00,9, -999.00,9,  -999.0,9,  -999.0, -999.00,9, -999.00,9, -999.00,9, -999.00,9,   1.2897, -999.00
096U20160426,       P15S,       5,          1,         12,       2012,2,20160506,       0044,   -64.5046,  -169.9906,       2360,  1188.9,   1.2620,  34.7290,2,  34.7293,2,    199.1,2,   198.6,2,  104.00,2,   31.50,2,    0.01,4,    2.20,2,-999.000,9,-999.000,9,-999.000,9,  -999.0,9,  -999.0,9,-999.0000,9,  -999.00,   1.8931,2,    9.45,2, -999.00,9,  -999.0,9,  -999.0, -999.00,9, -999.00,9, -999.00,9, -999.00,9,   1.1953,    0.69
096U20160426,       P15S,       5,          1,         11,       2011,2,20160506,       0044,   -64.5046,  -169.9906,       2360,  1282.9,   1.1860,  34.7260,2,  34.7258,2,    199.5,2,   199.2,2,  106.41,2,   31.66,2,    0.01,4,    2.20,2,-999.000,9,-999.000,9,-999.000,9,  -999.0,9,  -999.0,9,-999.0000,9,  -999.00,-999.0000,9, -999.00,9, -999.00,9,  -999.0,9,  -999.0, -999.00,9, -999.00,9, -999.00,9, -999.00,9,   1.1138, -999.00
096U20160426,       P15S,       5,          1,         10,       2010,2,20160506,       0044,   -64.5046,  -169.9906,       2360,  1386.8,   1.1030,  34.7230,2,  34.7229,2,    200.8,2,   200.6,2,  109.17,2,   31.66,2,    0.01,4,    2.21,2,-999.000,9,-999.000,9,-999.000,9,  -999.0,9,  -999.0,9,-999.0000,9,  -999.00,-999.0000,9, -999.00,9, -999.00,9,  -999.0,9,  -999.0, -999.00,9, -999.00,9, -999.00,9, -999.00,9,   1.0247, -999.00
096U20160426,       P15S,       5,          1,          9,       2009,2,20160506,       0044,   -64.5046,  -169.9906,       2360,  1485.3,   1.0260,  34.7200,2,  34.7196,2,    202.1,2,  -999.0,9,  111.58,2,   31.80,2,    0.01,4,    2.22,2,-999.000,9,-999.000,9,-999.000,9,  -999.0,9,  -999.0,9,-999.0000,9,  -999.00,   1.8710,2,   10.00,2, -999.00,9,  -999.0,9,  -999.0, -999.00,9, -999.00,9, -999.00,9, -999.00,9,   0.9418,    1.00
096U20160426,       P15S,       5,          1,          8,       2008,2,20160506,       0044,   -64.5046,  -169.9906,       2360,  1581.2,   0.9780,  34.7180,2,  34.7169,2,    202.6,2,   202.5,2,  113.15,2,   31.90,2,    0.01,4,    2.22,2,-999.000,9,-999.000,9,-999.000,9,  -999.0,9,  -999.0,9,-999.0000,9,  -999.00,-999.0000,9, -999.00,9, -999.00,9,  -999.0,9,  -999.0, -999.00,9, -999.00,9, -999.00,9, -999.00,9,   0.8877, -999.00
096U20160426,       P15S,       5,          1,          7,       2007,2,20160506,       0044,   -64.5046,  -169.9906,       2360,  1683.9,   0.9150,  34.7150,2,  34.7136,2,    203.4,2,   203.8,2,  115.52,2,   31.98,2,    0.01,4,    2.23,2,-999.000,9,-999.000,9,-999.000,9,  -999.0,9,  -999.0,9,-999.0000,9,  -999.00,-999.0000,9, -999.00,9, -999.00,9,  -999.0,9,  -999.0, -999.00,9, -999.00,9, -999.00,9, -999.00,9,   0.8182, -999.00
096U20160426,       P15S,       5,          1,          6,       2006,2,20160506,       0044,   -64.5046,  -169.9906,       2360,  1788.5,   0.8420,  34.7120,2,  34.7114,2,    204.5,2,   204.7,2,  118.40,2,   32.10,2,    0.01,4,    2.24,2,-999.000,9,-999.000,9,-999.000,9,  -999.0,9,  -999.0,9,-999.0000,9,  -999.00,-999.0000,9, -999.00,9, -999.00,9,  -999.0,9,  -999.0, -999.00,9, -999.00,9, -999.00,9, -999.00,9,   0.7387, -999.00
096U20160426,       P15S,       5,          1,          5,       2005,2,20160506,       0044,   -64.5046,  -169.9906,       2360,  1882.7,   0.8020,  34.7100,2,  34.7097,2,    204.8,2,   205.3,2,  120.83,2,   32.18,2,    0.01,4,    2.24,2,-999.000,9,-999.000,9,-999.000,9,  -999.0,9,  -999.0,9,-999.0000,9,  -999.00,-999.0000,9, -999.00,9, -999.00,9,  -999.0,9,  -999.0, -999.00,9, -999.00,9, -999.00,9, -999.00,9,   0.6924, -999.00
096U20160426,       P15S,       5,          1,          4,       2004,2,20160506,       0044,   -64.5046,  -169.9906,       2360,  1984.2,   0.7670,  34.7090,2,  34.7088,2,    205.3,2,   207.0,2,  123.38,2,   32.22,2,    0.01,4,    2.25,2,-999.000,9,-999.000,9,-999.000,9,  -999.0,9,  -999.0,9,-999.0000,9,  -999.00,-999.0000,9, -999.00,9, -999.00,9,  -999.0,9,  -999.0, -999.00,9, -999.00,9, -999.00,9, -999.00,9,   0.6504, -999.00
096U20160426,       P15S,       5,          1,          3,       2003,2,20160506,       0044,   -64.5046,  -169.9906,       2360,  2084.0,   0.7500,  34.7070,2,  34.7074,2,    205.4,2,   207.8,2,  125.04,2,   32.28,2,    0.01,4,    2.25,2,-999.000,9,-999.000,9,-999.000,9,  -999.0,9,  -999.0,9,-999.0000,9,  -999.00,   1.8830,2,   14.34,2, -999.00,9,  -999.0,9,  -999.0, -999.00,9, -999.00,9, -999.00,9, -999.00,9,   0.6261,    1.00
096U20160426,       P15S,       5,          1,          2,       2002,2,20160506,       0044,   -64.5046,  -169.9906,       2360,  2250.2,   0.7450,  34.7070,2,  34.7064,2,    205.3,2,   208.7,2,  126.96,2,   32.37,2,    0.01,4,    2.26,2,-999.000,9,-999.000,9,-999.000,9,  -999.0,9,  -999.0,9,-999.0000,9,  -999.00,   1.8740,2,   12.22,2, -999.00,9,  -999.0,9,  -999.0, -999.00,9, -999.00,9, -999.00,9, -999.00,9,   0.6083,    1.00
096U20160426,       P15S,       5,          1,          1,       2001,2,20160506,       0044,   -64.5046,  -169.9906,       2360,  2356.3,   0.7430,  34.7070,2,  34.7063,2,    205.4,2,   207.8,2,  128.26,2,   32.34,2,    0.01,4,    2.26,2,-999.000,9,-999.000,9,-999.000,9,  2262.9,2,  2363.1,2,-999.0000,9,  -999.00,-999.0000,9, -999.00,9, -999.00,9,  -999.0,9,  -999.0, -999.00,9, -999.00,9, -999.00,9, -999.00,9,   0.5978, -999.00