BOTTLE,20230413CCHSIOENA
EXPOCODE,SECT_ID,STNNBR,CASTNO,SAMPNO,BTLNBR,BTLNBR_FLAG_W,DATE,TIME,LATITUDE,LONGITUDE,DEPTH,CTDPRS,CTDTMP,CTDSAL,CTDSAL_FLAG_W,SALNTY,SALNTY_FLAG_W,CTDOXY,CTDOXY_FLAG_W,OXYGEN,OXYGEN_FLAG_W,SILCAT,SILCAT_FLAG_W,NITRAT,NITRAT_FLAG_W,NITRIT,NITRIT_FLAG_W,PHSPHT,PHSPHT_FLAG_W,CFC-11,CFC-11_FLAG_W,CFC-12,CFC-12_FLAG_W,SF6,SF6_FLAG_W,TCARBN,TCARBN_FLAG_W,ALKALI,ALKALI_FLAG_W,PH_TOT,PH_TOT_FLAG_W,PH_TMP,HELIUM,HELIUM_FLAG_W,DELHE3,DELHE3_FLAG_W,DELC13,DELC13_FLAG_W,DELC14,DELC14_FLAG_W,C14ERR,POC,POC_FLAG_W,PON,PON_FLAG_W,CHLORA,CHLORA_FLAG_W,PPHYTN,PPHYTN_FLAG_W,THETA,DELHER
,,,,,,,,,,,METERS,DBAR,ITS-90,PSS-78,,PSS-78,,UMOL/KG,,UMOL/KG,,UMOL/KG,,UMOL/KG,,UMOL/KG,,UMOL/KG,,PMOL/KG,,PMOL/KG,,FMOL/KG,,UMOL/KG,,UMOL/KG,,,,DEG C,NMOL/KG,,PERCNT,,/MILLE,,/MILLE,,/MILLE,UG/KG,,UG/KG,,UG/KG,,UG/KG,,DEG C,PERCNT
096U20160426,       P15S,      34,          1,         36,       2036,2,20160518,       0827,   -50.5030,  -170.0178,       5034,     6.3,   9.3980,  34.3320,2,  34.3321,2,    276.0,2,   276.2,2,    1.72,2,   12.18,2,    0.29,2,    0.96,2,-999.000,9,-999.000,9,-999.000,9,  2099.6,2,  2283.1,2,-999.0000,9,  -999.00,-999.0000,9, -999.00,9, -999.00,9,  -999.0,9,  -999.0, -999.00,9, -999.00,9,    0.81,2,   -0.03,3,   9.3973, -999.00
096U20160426,       P15S,      34,          1,         35,       2035,2,20160518,       0827,   -50.5030,  -170.0178,       5034,    25.9,   9.4040,  34.3330,2,  34.3326,2,    276.0,2,   276.4,2,    1.72,2,   12.19,2,    0.29,2,    0.96,2,-999.000,9,-999.000,9,-999.000,9,  -999.0,9,  -999.0,9,-999.0000,9,  -999.00,-999.0000,9, -999.00,9, -999.00,9,  -999.0,9,  -999.0, -999.00,9, -999.00,9, -999.00,9, -999.00,9,   9.4012, -999.00
096U20160426,       P15S,      34,          1,         34,       2034,2,20160518,       0827,   -50.5030,  -170.0178,       5034,    48.9,   9.4130,  34.3330,2,  34.3326,2,    275.7,2,   276.2,2,    1.73,2,   12.17,2,    0.29,2,    0.96,2,-999.000,9,-999.000,9,-999.000,9,  -999.0,9,  -999.0,9,-999.0000,9,  -999.00,-999.0000,9, -999.00,9, -999.00,9,  -999.0,9,  -999.0, -999.00,9, -999.00,9,    0.32,2,    0.32,3,   9.4076, -999.00
096U20160426,       P15S,      34,          1,         33,       2033,2,20160518,       0827,   -50.5030,  -170.0178,       5034,    76.5,   9.4320,  34.3320,2,  34.3327,2,    275.5,2,   276.3,2,    1.74,2,   12.27,2,    0.29,2,    0.96,2,-999.000,9,-999.000,9,-999.000,9,  -999.0,9,  -999.0,9,-999.0000,9,  -999.00,-999.0000,9, -999.00,9, -999.00,9,  -999.0,9,  -999.0, -999.00,9, -999.00,9,    0.14,2,    0.44,3,   9.4236, -999.00
096U20160426,       P15S,      34,          1,         32,       2032,2,20160518,       0827,   -50.5030,  -170.0178,       5034,    98.3,   8.4470,  34.3200,2,  34.3200,2,    275.5,2,   276.0,2,    2.85,2,   15.32,2,    0.20,2,    1.13,2,-999.000,9,-999.000,9,-999.000,9,  -999.0,9,  -999.0,9,-999.0000,9,  -999.00,-999.0000,9, -999.00,9, -999.00,9,  -999.0,9,  -999.0, -999.00,9, -999.00,9,    0.06,2,    0.26,3,   8.4369, -999.00
096U20160426,       P15S,      34,          1,         31,       2031,2,20160518,       0827,   -50.5030,  -170.0178,       5034,   149.9,   8.1230,  34.3560,2,  34.3583,2,    269.1,2,   269.4,2,    3.68,2,   17.05,2,    0.08,2,    1.21,2,-999.000,9,-999.000,9,-999.000,9,  2124.8,2,  2281.9,2,-999.0000,9,  -999.00,-999.0000,9, -999.00,9, -999.00,9,  -999.0,9,  -999.0, -999.00,9, -999.00,9, -999.00,9, -999.00,9,   8.1079, -999.00
096U20160426,       P15S,      34,          1,         30,       2030,2,20160518,       0827,   -50.5030,  -170.0178,       5034,   199.6,   7.4150,  34.3640,2,  34.3646,2,    267.5,2,   268.2,2,    5.26,2,   18.96,2,    0.01,4,    1.33,2,-999.000,9,-999.000,9,-999.000,9,  -999.0,9,  -999.0,9,-999.0000,9,  -999.00,-999.0000,9, -999.00,9, -999.00,9,  -999.0,9,  -999.0, -999.00,9, -999.00,9,    0.06,2,    0.08,3,   7.3959, -999.00
096U20160426,       P15S,      34,          1,         29,       2029,2,20160518,       0827,   -50.5030,  -170.0178,       5034,   247.9,   7.0110,  34.3290,2,  34.3300,2,    272.3,2,   273.2,2,    5.86,2,   19.52,2,    0.01,4,    1.36,2,-999.000,9,-999.000,9,-999.000,9,  -999.0,9,  -999.0,9,-999.0000,9,  -999.00,-999.0000,9, -999.00,9, -999.00,9,  -999.0,9,  -999.0, -999.00,9, -999.00,9, -999.00,9, -999.00,9,   6.9879, -999.00
096U20160426,       P15S,      34,          1,         28,       2028,2,20160518,       0827,   -50.5030,  -170.0178,       5034,   299.7,   6.8030,  34.3170,2,  34.3170,2,    274.0,2,   274.6,2,    6.27,2,   19.73,2,    0.01,4,    1.38,2,-999.000,9,-999.000,9,-999.000,9,  -999.0,9,  -999.0,9,-999.0000,9,  -999.00,-999.0000,9, -999.00,9, -999.00,9,  -999.0,9,  -999.0, -999.00,9, -999.00,9, -999.00,9, -999.00,9,   6.7755, -999.00
096U20160426,       P15S,      34,          1,         27,       2027,2,20160518,       0827,   -50.5030,  -170.0178,       5034,   348.8,   6.5390,  34.2910,2,  34.2914,2,    274.1,2,   274.9,2,    6.83,2,   20.36,2,    0.01,4,    1.42,2,-999.000,9,-999.000,9,-999.000,9,  -999.0,9,  -999.0,9,-999.0000,9,  -999.00,-999.0000,9, -999.00,9, -999.00,9,  -999.0,9,  -999.0, -999.00,9, -999.00,9, -999.00,9, -999.00,9,   6.5076, -999.00
096U20160426,       P15S,      34,          1,         26,       2026,2,20160518,       0827,   -50.5030,  -170.0178,       5034,   394.7,   6.2820,  34.2680,2,  34.2684,2,    271.8,2,   273.6,2,    7.64,2,   21.12,2,    0.01,4,    1.47,2,-999.000,9,-999.000,9,-999.000,9,  -999.0,9,  -999.0,9,-999.0000,9,  -999.00,-999.0000,9, -999.00,9, -999.00,9,  -999.0,9,  -999.0, -999.00,9, -999.00,9, -999.00,9, -999.00,9,   6.2471, -999.00
096U20160426,       P15S,      34,          1,         25,       2025,2,20160518,       0827,   -50.5030,  -170.0178,       5034,   502.9,   5.7230,  34.2310,2,  34.2315,2,    262.2,2,   263.9,2,   10.77,2,   23.48,2,    0.00,4,    1.61,2,-999.000,9,-999.000,9,-999.000,9,  -999.0,9,  -999.0,9,-999.0000,9,  -999.00,-999.0000,9, -999.00,9, -999.00,9,  -999.0,9,  -999.0, -999.00,9, -999.00,9, -999.00,9, -999.00,9,   5.6803, -999.00
096U20160426,       P15S,      34,          1,         24,       2024,2,20160518,       0827,   -50.5030,  -170.0178,       5034,   601.7,   5.4260,  34.2470,2,  34.2479,2,    245.3,2,   245.4,2,   14.99,2,   25.63,2,    0.00,4,    1.75,2,-999.000,9,-999.000,9,-999.000,9,  2162.7,2,  2282.8,2,-999.0000,9,  -999.00,-999.0000,9, -999.00,9, -999.00,9,  -999.0,9,  -999.0, -999.00,9, -999.00,9, -999.00,9, -999.00,9,   5.3759, -999.00
096U20160426,       P15S,      34,          1,         23,       2023,2,20160518,       0827,   -50.5030,  -170.0178,       5034,   697.4,   5.0820,  34.3020,2,  34.3020,2,    217.4,2,   217.9,2,   22.96,2,   28.45,2,    0.00,4,    1.94,2,-999.000,9,-999.000,9,-999.000,9,  -999.0,9,  -999.0,9,-999.0000,9,  -999.00,-999.0000,9, -999.00,9, -999.00,9,  -999.0,9,  -999.0, -999.00,9, -999.00,9, -999.00,9, -999.00,9,   5.0252, -999.00
096U20160426,       P15S,      34,          1,         22,       2022,2,20160518,       0827,   -50.5030,  -170.0178,       5034,   796.1,   4.5300,  34.3160,2,  34.3160,2,    209.3,2,   209.8,2,   29.91,2,   30.07,2,    0.00,4,    2.06,2,-999.000,9,-999.000,9,-999.000,9,  2194.2,2,  2295.4,2,-999.0000,9,  -999.00,-999.0000,9, -999.00,9, -999.00,9,  -999.0,9,  -999.0, -999.00,9, -999.00,9, -999.00,9, -999.00,9,   4.4680, -999.00
096U20160426,       P15S,      34,          1,         21,       2021,2,20160518,       0827,   -50.5030,  -170.0178,       5034,   899.5,   4.0530,  34.3320,2,  34.3330,2,    203.1,2,   202.9,2,   36.97,2,   31.34,2,    0.00,4,    2.15,2,-999.000,9,-999.000,9,-999.000,9,  -999.0,9,  -999.0,9,-999.0000,9,  -999.00,-999.0000,9, -999.00,9, -999.00,9,  -999.0,9,  -999.0, -999.00,9, -999.00,9, -999.00,9, -999.00,9,   3.9855, -999.00
096U20160426,       P15S,      34,          1,         20,       2020,2,20160518,       0827,   -50.5030,  -170.0178,       5034,   997.0,   3.6850,  34.3540,2,  34.3536,2,    197.6,2,   197.7,2,   42.96,2,   32.20,2,    0.00,4,    2.22,2,-999.000,9,-999.000,9,-999.000,9,  -999.0,9,  -999.0,9,-999.0000,9,  -999.00,-999.0000,9, -999.00,9, -999.00,9,  -999.0,9,  -999.0, -999.00,9, -999.00,9, -999.00,9, -999.00,9,   3.6123, -999.00
096U20160426,       P15S,      34,          1,         19,       2019,2,20160518,       0827,   -50.5030,  -170.0178,       5034,  1100.2,   3.3930,  34.3910,2,  34.3910,2,    190.3,2,   190.0,2,   50.21,2,   32.97,2,    0.00,4,    2.28,2,-999.000,9,-999.000,9,-999.000,9,  -999.0,9,  -999.0,9,-999.0000,9,  -999.00,-999.0000,9, -999.00,9, -999.00,9,  -999.0,9,  -999.0, -999.00,9, -999.00,9, -999.00,9, -999.00,9,   3.3143, -999.00
096U20160426,       P15S,      34,          1,         18,       2018,2,20160518,       0827,   -50.5030,  -170.0178,       5034,  1200.5,   3.1640,  34.4260,2,  34.4255,2,    185.4,2,   184.8,2,   55.80,2,   33.55,2,    0.00,4,    2.31,2,-999.000,9,-999.000,9,-999.000,9,  2232.5,2,  2318.1,6,-999.0000,9,  -999.00,-999.0000,9, -999.00,9, -999.00,9,  -999.0,9,  -999.0, -999.00,9, -999.00,9, -999.00,9, -999.00,9,   3.0792, -999.00
096U20160426,       P15S,      34,          1,         17,       2017,2,20160518,       0827,   -50.5030,  -170.0178,       5034,  1302.6,   2.9690,  34.4640,2,  34.4650,2,    180.1,2,   179.6,2,   61.84,2,   33.91,2,    0.00,4,    2.34,2,-999.000,9,-999.000,9,-999.000,9,  -999.0,9,  -999.0,9,-999.0000,9,  -999.00,-999.0000,9, -999.00,9, -999.00,9,  -999.0,9,  -999.0, -999.00,9, -999.00,9, -999.00,9, -999.00,9,   2.8779, -999.00
096U20160426,       P15S,      34,          1,         16,       2016,2,20160518,       0827,   -50.5030,  -170.0178,       5034,  1403.0,   2.8100,  34.5010,2,  34.5000,2,    176.5,2,   176.6,2,   66.21,2,   34.05,2,    0.00,4,    2.35,2,-999.000,9,-999.000,9,-999.000,9,  -999.0,9,  -999.0,9,-999.0000,9,  -999.00,-999.0000,9, -999.00,9, -999.00,9,  -999.0,9,  -999.0, -999.00,9, -999.00,9, -999.00,9, -999.00,9,   2.7124, -999.00
096U20160426,       P15S,      34,          1,         15,       2015,2,20160518,       0827,   -50.5030,  -170.0178,       5034,  1600.2,   2.5900,  34.5790,2,  34.5797,2,    171.8,2,   171.3,2,   75.57,2,   33.88,2,    0.00,4,    2.34,2,-999.000,9,-999.000,9,-999.000,9,  -999.0,9,  -999.0,9,-999.0000,9,  -999.00,-999.0000,9, -999.00,9, -999.00,9,  -999.0,9,  -999.0, -999.00,9, -999.00,9, -999.00,9, -999.00,9,   2.4787, -999.00
096U20160426,       P15S,      34,          1,         14,       2014,2,20160518,       0827,   -50.5030,  -170.0178,       5034,  1801.7,   2.4080,  34.6460,2,  34.6452,2,    174.9,2,   174.7,2,   78.62,2,   33.01,2,    0.00,4,    2.30,2,-999.000,9,-999.000,9,-999.000,9,  2256.0,6,  2341.9,6,-999.0000,9,  -999.00,-999.0000,9, -999.00,9, -999.00,9,  -999.0,9,  -999.0, -999.00,9, -999.00,9, -999.00,9, -999.00,9,   2.2822, -999.00
096U20160426,       P15S,      34,          1,         13,       2013,2,20160518,       0827,   -50.5030,  -170.0178,       5034,  1998.8,   2.2950,  34.6850,2,  34.6839,2,    178.6,2,   178.8,2,   81.15,2,   32.26,2,    0.00,4,    2.24,2,-999.000,9,-999.000,9,-999.000,9,  -999.0,9,  -999.0,9,-999.0000,9,  -999.00,-999.0000,9, -999.00,9, -999.00,9,  -999.0,9,  -999.0, -999.00,9, -999.00,9, -999.00,9, -999.00,9,   2.1540, -999.00
096U20160426,       P15S,      34,          1,         12,       2012,2,20160518,       0827,   -50.5030,  -170.0178,       5034,  2248.9,   2.1550,  34.7180,2,  34.7170,2,    184.1,2,   185.0,2,   83.91,2,   31.52,2,    0.00,4,    2.20,2,-999.000,9,-999.000,9,-999.000,9,  -999.0,9,  -999.0,9,-999.0000,9,  -999.00,-999.0000,9, -999.00,9, -999.00,9,  -999.0,9,  -999.0, -999.00,9, -999.00,9, -999.00,9, -999.00,9,   1.9943, -999.00
096U20160426,       P15S,      34,          1,         11,       2011,2,20160518,       0827,   -50.5030,  -170.0178,       5034,  2497.9,   1.9500,  34.7350,2,  34.7346,2,    189.6,2,   191.0,2,   89.16,2,   30.99,2,    0.00,4,    2.17,2,-999.000,9,-999.000,9,-999.000,9,  -999.0,9,  -999.0,9,-999.0000,9,  -999.00,-999.0000,9, -999.00,9, -999.00,9,  -999.0,9,  -999.0, -999.00,9, -999.00,9, -999.00,9, -999.00,9,   1.7705, -999.00
096U20160426,       P15S,      34,          1,         10,       2010,2,20160518,       0827,   -50.5030,  -170.0178,       5034,  2748.4,   1.7780,  34.7380,2,  34.7368,2,    192.7,2,   194.1,2,   94.04,2,   30.99,2,    0.00,4,    2.17,2,-999.000,9,-999.000,9,-999.000,9,  2252.3,2,  2354.4,2,-999.0000,9,  -999.00,-999.0000,9, -999.00,9, -999.00,9,  -999.0,9,  -999.0, -999.00,9, -999.00,9, -999.00,9, -999.00,9,   1.5787, -999.00
096U20160426,       P15S,      34,          1,          9,       2009,2,20160518,       0827,   -50.5030,  -170.0178,       5034,  2999.0,   1.5410,  34.7340,2,  34.7337,2,    196.3,2,   197.8,2,  100.93,2,   31.15,2,    0.00,4,    2.18,2,-999.000,9,-999.000,9,-999.000,9,  -999.0,9,  -999.0,9,-999.0000,9,  -999.00,-999.0000,9, -999.00,9, -999.00,9,  -999.0,9,  -999.0, -999.00,9, -999.00,9, -999.00,9, -999.00,9,   1.3231, -999.00
096U20160426,       P15S,      34,          1,          8,       2008,2,20160518,       0827,   -50.5030,  -170.0178,       5034,  3298.1,   1.3440,  34.7270,2,  34.7267,2,    199.2,2,   201.2,2,  107.11,2,   31.39,2,    0.00,4,    2.20,2,-999.000,9,-999.000,9,-999.000,9,  -999.0,9,  -999.0,9,-999.0000,9,  -999.00,-999.0000,9, -999.00,9,    0.45,6,  -163.4,6,     2.0, -999.00,9, -999.00,9, -999.00,9, -999.00,9,   1.1016, -999.00
096U20160426,       P15S,      34,          1,          7,       2007,2,20160518,       0827,   -50.5030,  -170.0178,       5034,  3598.8,   1.1730,  34.7200,2,  34.7190,2,    202.2,2,   204.3,2,  112.31,2,   31.72,2,    0.00,4,    2.22,2,-999.000,9,-999.000,9,-999.000,9,  -999.0,9,  -999.0,9,-999.0000,9,  -999.00,-999.0000,9, -999.00,9, -999.00,9,  -999.0,9,  -999.0, -999.00,9, -999.00,9, -999.00,9, -999.00,9,   0.9049, -999.00
096U20160426,       P15S,      34,          1,          6,       2006,2,20160518,       0827,   -50.5030,  -170.0178,       5034,  3902.7,   1.0200,  34.7130,2,  34.7118,2,    205.4,2,   206.7,2,  117.22,2,   31.93,2,    0.00,4,    2.23,2,-999.000,9,-999.000,9,-999.000,9,  2261.5,2,  2361.1,2,-999.0000,9,  -999.00,-999.0000,9, -999.00,9, -999.00,9,  -999.0,9,  -999.0, -999.00,9, -999.00,9, -999.00,9, -999.00,9,   0.7247, -999.00
096U20160426,       P15S,      34,          1,          5,       2005,2,20160518,       0827,   -50.5030,  -170.0178,       5034,  4198.7,   0.9480,  34.7080,2,  34.7076,2,    207.1,2,   208.0,2,  120.25,2,   32.06,2,    0.00,4,    2.23,2,-999.000,9,-999.000,9,-999.000,9,  -999.0,9,  -999.0,9,-999.0000,9,  -999.00,-999.0000,9, -999.00,9, -999.00,9,  -999.0,9,  -999.0, -999.00,9, -999.00,9, -999.00,9, -999.00,9,   0.6232, -999.00
096U20160426,       P15S,      34,          1,          4,       2004,2,20160518,       0827,   -50.5030,  -170.0178,       5034,  4501.1,   0.9410,  34.7060,2,  34.7064,2,    207.8,2,   208.5,2,  121.44,2,   32.08,2,    0.00,4,    2.24,2,-999.000,9,-999.000,9,-999.000,9,  2261.1,2,  2362.9,2,-999.0000,9,  -999.00,-999.0000,9, -999.00,9, -999.00,9,  -999.0,9,  -999.0, -999.00,9, -999.00,9, -999.00,9, -999.00,9,   0.5831, -999.00
096U20160426,       P15S,      34,          1,          3,       2003,2,20160518,       0827,   -50.5030,  -170.0178,       5034,  4799.5,   0.9420,  34.7040,2,  34.7041,2,    209.0,2,   209.0,2,  122.56,2,   32.12,2,    0.00,4,    2.25,2,-999.000,9,-999.000,9,-999.000,9,  -999.0,9,  -999.0,9,-999.0000,9,  -999.00,-999.0000,9, -999.00,9, -999.00,9,  -999.0,9,  -999.0, -999.00,9, -999.00,9, -999.00,9, -999.00,9,   0.5500, -999.00
096U20160426,       P15S,      34,          1,          2,       2002,2,20160518,       0827,   -50.5030,  -170.0178,       5034,  4999.6,   0.9630,  34.7040,2,  34.7041,2,    209.2,2,   209.3,2,  122.70,2,   32.14,2,    0.00,4,    2.25,2,-999.000,9,-999.000,9,-999.000,9,  -999.0,9,  -999.0,9,-999.0000,9,  -999.00,-999.0000,9, -999.00,9, -999.00,9,  -999.0,9,  -999.0, -999.00,9, -999.00,9, -999.00,9, -999.00,9,   0.5468, -999.00
096U20160426,       P15S,      34,          1,          1,       2001,2,20160518,       0827,   -50.5030,  -170.0178,       5034,  5140.7,   0.9810,  34.7040,2,  34.7039,2,    209.4,2,   209.2,2,  122.68,2,   32.17,2,    0.00,4,    2.25,2,-999.000,9,-999.000,9,-999.000,9,  2261.9,2,  2363.7,2,-999.0000,9,  -999.00,-999.0000,9, -999.00,9, -999.00,9,  -999.0,9,  -999.0, -999.00,9, -999.00,9, -999.00,9, -999.00,9,   0.5473, -999.00