BOTTLE,20230413CCHSIOENA
EXPOCODE,SECT_ID,STNNBR,CASTNO,SAMPNO,BTLNBR,BTLNBR_FLAG_W,DATE,TIME,LATITUDE,LONGITUDE,DEPTH,CTDPRS,CTDTMP,CTDSAL,CTDSAL_FLAG_W,SALNTY,SALNTY_FLAG_W,CTDOXY,CTDOXY_FLAG_W,OXYGEN,OXYGEN_FLAG_W,SILCAT,SILCAT_FLAG_W,NITRAT,NITRAT_FLAG_W,NITRIT,NITRIT_FLAG_W,PHSPHT,PHSPHT_FLAG_W,CFC-11,CFC-11_FLAG_W,CFC-12,CFC-12_FLAG_W,SF6,SF6_FLAG_W,TCARBN,TCARBN_FLAG_W,ALKALI,ALKALI_FLAG_W,PH_TOT,PH_TOT_FLAG_W,PH_TMP,HELIUM,HELIUM_FLAG_W,DELHE3,DELHE3_FLAG_W,DELC13,DELC13_FLAG_W,DELC14,DELC14_FLAG_W,C14ERR,POC,POC_FLAG_W,PON,PON_FLAG_W,CHLORA,CHLORA_FLAG_W,PPHYTN,PPHYTN_FLAG_W,THETA,DELHER
,,,,,,,,,,,METERS,DBAR,ITS-90,PSS-78,,PSS-78,,UMOL/KG,,UMOL/KG,,UMOL/KG,,UMOL/KG,,UMOL/KG,,UMOL/KG,,PMOL/KG,,PMOL/KG,,FMOL/KG,,UMOL/KG,,UMOL/KG,,,,DEG C,NMOL/KG,,PERCNT,,/MILLE,,/MILLE,,/MILLE,UG/KG,,UG/KG,,UG/KG,,UG/KG,,DEG C,PERCNT
096U20160426,       P15S,     139,          1,         36,       2036,2,20160624,       0201,    -0.4966,  -168.7438,       5498,     6.1,  28.5700,  35.3050,2,  35.3051,2,    183.8,2,   191.4,2,    1.89,2,    1.84,2,    0.36,2,    0.35,2,-999.000,9,-999.000,9,-999.000,9,  2007.8,6,  2321.9,6,-999.0000,9,  -999.00,-999.0000,9, -999.00,9, -999.00,9,  -999.0,9,  -999.0, -999.00,9, -999.00,9, -999.00,9, -999.00,9,  28.5685, -999.00
096U20160426,       P15S,     139,          1,         35,       2035,2,20160624,       0201,    -0.4966,  -168.7438,       5498,    30.3,  28.4640,  35.3080,2,  35.3133,2,    182.6,2,   189.1,2,    1.94,2,    2.11,2,    0.44,2,    0.37,2,-999.000,9,-999.000,9,-999.000,9,  -999.0,9,  -999.0,9,-999.0000,9,  -999.00,-999.0000,9, -999.00,9, -999.00,9,  -999.0,9,  -999.0, -999.00,9, -999.00,9, -999.00,9, -999.00,9,  28.4568, -999.00
096U20160426,       P15S,     139,          1,         34,       2034,2,20160624,       0201,    -0.4966,  -168.7438,       5498,    50.5,  28.1500,  35.3350,2,  35.3411,2,    174.6,2,   180.6,2,    2.12,2,    2.88,2,    0.72,2,    0.44,2,-999.000,9,-999.000,9,-999.000,9,  -999.0,9,  -999.0,9,-999.0000,9,  -999.00,-999.0000,9, -999.00,9, -999.00,9,  -999.0,9,  -999.0, -999.00,9, -999.00,9, -999.00,9, -999.00,9,  28.1380, -999.00
096U20160426,       P15S,     139,          1,         33,       2033,2,20160624,       0201,    -0.4966,  -168.7438,       5498,    85.6,  25.4140,  35.5260,2,  35.4887,2,    139.9,2,   142.2,2,    3.16,2,    7.96,2,    0.61,2,    0.73,2,-999.000,9,-999.000,9,-999.000,9,  2075.4,2,  2331.0,2,-999.0000,9,  -999.00,-999.0000,9, -999.00,9, -999.00,9,  -999.0,9,  -999.0, -999.00,9, -999.00,9, -999.00,9, -999.00,9,  25.3952, -999.00
096U20160426,       P15S,     139,          1,         32,       2032,2,20160624,       0201,    -0.4966,  -168.7438,       5498,   118.1,  22.9470,  35.5790,2,  35.5338,2,    126.6,2,   130.8,2,    4.02,2,   10.04,2,    0.04,2,    0.82,2,-999.000,9,-999.000,9,-999.000,9,  2101.4,2,  2334.1,2,-999.0000,9,  -999.00,-999.0000,9, -999.00,9, -999.00,9,  -999.0,9,  -999.0, -999.00,9, -999.00,9, -999.00,9, -999.00,9,  22.9229, -999.00
096U20160426,       P15S,     139,          1,         31,       2031,2,20160624,       0201,    -0.4966,  -168.7438,       5498,   167.0,  17.9760,  35.1720,2,  35.2164,2,    134.1,2,  -999.0,9,    8.29,2,   13.11,2,    0.01,4,    1.00,2,-999.000,9,-999.000,9,-999.000,9,  -999.0,9,  -999.0,9,-999.0000,9,  -999.00,-999.0000,9, -999.00,9, -999.00,9,  -999.0,9,  -999.0, -999.00,9, -999.00,9, -999.00,9, -999.00,9,  17.9473, -999.00
096U20160426,       P15S,     139,          1,         30,       2030,2,20160624,       0201,    -0.4966,  -168.7438,       5498,   215.5,  13.9820,  34.9840,2,  34.9592,2,    134.1,2,   134.6,2,   13.99,2,   17.96,2,    0.01,4,    1.31,2,-999.000,9,-999.000,9,-999.000,9,  2155.5,2,  2308.3,2,-999.0000,9,  -999.00,-999.0000,9, -999.00,9, -999.00,9,  -999.0,9,  -999.0, -999.00,9, -999.00,9, -999.00,9, -999.00,9,  13.9509, -999.00
096U20160426,       P15S,     139,          1,         29,       2029,2,20160624,       0201,    -0.4966,  -168.7438,       5498,   265.2,  12.6800,  34.9070,2,  34.8966,2,    110.8,2,   106.8,2,   17.94,2,   22.63,2,    0.01,4,    1.62,2,-999.000,9,-999.000,9,-999.000,9,  -999.0,9,  -999.0,9,-999.0000,9,  -999.00,-999.0000,9, -999.00,9, -999.00,9,  -999.0,9,  -999.0, -999.00,9, -999.00,9, -999.00,9, -999.00,9,  12.6441, -999.00
096U20160426,       P15S,     139,          1,         28,       2028,2,20160624,       0201,    -0.4966,  -168.7438,       5498,   316.9,  11.4630,  34.8260,2,  34.8154,2,     97.5,2,    79.8,2,   22.55,2,   27.32,2,    0.00,4,    1.94,2,-999.000,9,-999.000,9,-999.000,9,  2213.7,2,  2304.3,2,-999.0000,9,  -999.00,-999.0000,9, -999.00,9, -999.00,9,  -999.0,9,  -999.0, -999.00,9, -999.00,9, -999.00,9, -999.00,9,  11.4227, -999.00
096U20160426,       P15S,     139,          1,         27,       2027,2,20160624,       0201,    -0.4966,  -168.7438,       5498,   366.4,  10.2480,  34.7470,2,  34.7398,2,     80.6,2,    73.9,2,   26.20,2,   30.13,2,    0.01,4,    2.10,2,-999.000,9,-999.000,9,-999.000,9,  -999.0,9,  -999.0,9,-999.0000,9,  -999.00,-999.0000,9, -999.00,9, -999.00,9,  -999.0,9,  -999.0, -999.00,9, -999.00,9, -999.00,9, -999.00,9,  10.2046, -999.00
096U20160426,       P15S,     139,          1,         26,       2026,2,20160624,       0201,    -0.4966,  -168.7438,       5498,   436.9,   8.4380,  34.6320,2,  34.6300,2,     78.7,2,    75.9,2,   34.58,2,   33.57,2,    0.00,4,    2.34,2,-999.000,9,-999.000,9,-999.000,9,  2239.2,2,  2306.3,6,-999.0000,9,  -999.00,-999.0000,9, -999.00,9, -999.00,9,  -999.0,9,  -999.0, -999.00,9, -999.00,9, -999.00,9, -999.00,9,   8.3919, -999.00
096U20160426,       P15S,     139,          1,         25,       2025,2,20160624,       0201,    -0.4966,  -168.7438,       5498,   535.3,   7.6510,  34.5930,2,  34.5919,2,     77.8,2,    73.7,2,   41.02,2,   35.25,2,    0.00,4,    2.47,2,-999.000,9,-999.000,9,-999.000,9,  -999.0,9,  -999.0,9,-999.0000,9,  -999.00,-999.0000,9, -999.00,9, -999.00,9,  -999.0,9,  -999.0, -999.00,9, -999.00,9, -999.00,9, -999.00,9,   7.5974, -999.00
096U20160426,       P15S,     139,          1,         24,       2024,2,20160624,       0201,    -0.4966,  -168.7438,       5498,   635.6,   6.7650,  34.5680,2,  34.5673,2,     67.9,2,    63.4,2,   50.31,2,   38.13,2,    0.00,4,    2.70,2,-999.000,9,-999.000,9,-999.000,9,  2271.8,2,  2318.5,2,-999.0000,9,  -999.00,-999.0000,9, -999.00,9, -999.00,9,  -999.0,9,  -999.0, -999.00,9, -999.00,9, -999.00,9, -999.00,9,   6.7051, -999.00
096U20160426,       P15S,     139,          1,         23,       2023,2,20160624,       0201,    -0.4966,  -168.7438,       5498,   735.1,   5.8430,  34.5450,2,  34.5437,2,     85.1,2,    83.0,2,   59.54,2,   37.79,2,    0.00,4,    2.68,2,-999.000,9,-999.000,9,-999.000,9,  -999.0,9,  -999.0,9,-999.0000,9,  -999.00,-999.0000,9, -999.00,9, -999.00,9,  -999.0,9,  -999.0, -999.00,9, -999.00,9, -999.00,9, -999.00,9,   5.7784, -999.00
096U20160426,       P15S,     139,          1,         22,       2022,2,20160624,       0201,    -0.4966,  -168.7438,       5498,   835.0,   5.3300,  34.5400,2,  34.5399,2,     93.9,2,    91.8,2,   66.74,2,   37.34,2,    0.00,4,    2.65,2,-999.000,9,-999.000,9,-999.000,9,  2276.0,2,  2337.0,2,-999.0000,9,  -999.00,-999.0000,9, -999.00,9, -999.00,9,  -999.0,9,  -999.0, -999.00,9, -999.00,9, -999.00,9, -999.00,9,   5.2593, -999.00
096U20160426,       P15S,     139,          1,         21,       2021,2,20160624,       0201,    -0.4966,  -168.7438,       5498,   936.5,   4.8740,  34.5460,2,  34.5461,2,     92.0,2,    88.1,2,   75.77,2,   38.26,2,    0.00,4,    2.73,2,-999.000,9,-999.000,9,-999.000,9,  -999.0,9,  -999.0,9,-999.0000,9,  -999.00,-999.0000,9, -999.00,9, -999.00,9,  -999.0,9,  -999.0, -999.00,9, -999.00,9, -999.00,9, -999.00,9,   4.7972, -999.00
096U20160426,       P15S,     139,          1,         20,       2020,2,20160624,       0201,    -0.4966,  -168.7438,       5498,  1035.9,   4.4080,  34.5570,2,  34.5573,2,     88.7,2,    84.6,2,   86.34,2,   39.06,2,    0.00,4,    2.80,2,-999.000,9,-999.000,9,-999.000,9,  -999.0,9,  -999.0,9,-999.0000,9,  -999.00,-999.0000,9, -999.00,9, -999.00,9,  -999.0,9,  -999.0, -999.00,9, -999.00,9, -999.00,9, -999.00,9,   4.3260, -999.00
096U20160426,       P15S,     139,          1,         19,       2019,2,20160624,       0201,    -0.4966,  -168.7438,       5498,  1135.8,   4.1910,  34.5640,2,  34.5648,2,     88.2,2,    85.1,2,   91.35,2,   39.22,2,    0.00,4,    2.80,2,-999.000,9,-999.000,9,-999.000,9,  -999.0,9,  -999.0,9,-999.0000,9,  -999.00,-999.0000,9, -999.00,9, -999.00,9,  -999.0,9,  -999.0, -999.00,9, -999.00,9, -999.00,9, -999.00,9,   4.1021, -999.00
096U20160426,       P15S,     139,          1,         18,       2018,2,20160624,       0201,    -0.4966,  -168.7438,       5498,  1236.3,   3.8000,  34.5730,2,  34.5736,2,     94.9,2,    91.5,2,   98.86,2,   38.92,2,    0.00,4,    2.77,2,-999.000,9,-999.000,9,-999.000,9,  -999.0,9,  -999.0,9,-999.0000,9,  -999.00,-999.0000,9, -999.00,9, -999.00,9,  -999.0,9,  -999.0, -999.00,9, -999.00,9, -999.00,9, -999.00,9,   3.7060, -999.00
096U20160426,       P15S,     139,          1,         17,       2017,2,20160624,       0201,    -0.4966,  -168.7438,       5498,  1335.5,   3.5360,  34.5840,2,  34.5840,2,     91.7,2,    87.8,2,  106.56,2,   39.49,2,    0.00,4,    2.82,2,-999.000,9,-999.000,9,-999.000,9,  -999.0,9,  -999.0,9,-999.0000,9,  -999.00,-999.0000,9, -999.00,9, -999.00,9,  -999.0,9,  -999.0, -999.00,9, -999.00,9, -999.00,9, -999.00,9,   3.4361, -999.00
096U20160426,       P15S,     139,          1,         16,       2016,2,20160624,       0201,    -0.4966,  -168.7438,       5498,  1465.9,   3.2170,  34.5960,2,  34.5949,2,     96.9,2,    93.6,2,  113.03,2,   39.17,2,    0.00,4,    2.79,2,-999.000,9,-999.000,9,-999.000,9,  -999.0,9,  -999.0,9,-999.0000,9,  -999.00,-999.0000,9, -999.00,9, -999.00,9,  -999.0,9,  -999.0, -999.00,9, -999.00,9, -999.00,9, -999.00,9,   3.1095, -999.00
096U20160426,       P15S,     139,          1,         15,       2015,2,20160624,       0201,    -0.4966,  -168.7438,       5498,  1665.8,   2.7890,  34.6130,2,  34.6130,2,    104.4,2,   102.0,2,  122.33,2,   38.75,2,    0.00,4,    2.75,2,-999.000,9,-999.000,9,-999.000,9,  -999.0,9,  -999.0,9,-999.0000,9,  -999.00,-999.0000,9, -999.00,9, -999.00,9,  -999.0,9,  -999.0, -999.00,9, -999.00,9, -999.00,9, -999.00,9,   2.6697, -999.00
096U20160426,       P15S,     139,          1,         14,       2014,2,20160624,       0201,    -0.4966,  -168.7438,       5498,  1866.2,   2.4940,  34.6290,2,  34.6430,2,    106.2,2,   103.6,2,  131.14,2,   38.76,2,    0.00,4,    2.75,2,-999.000,9,-999.000,9,-999.000,9,  -999.0,9,  -999.0,9,-999.0000,9,  -999.00,-999.0000,9, -999.00,9,    0.03,6,  -228.1,6,     2.0, -999.00,9, -999.00,9, -999.00,9, -999.00,9,   2.3616, -999.00
096U20160426,       P15S,     139,          1,         13,       2013,2,20160624,       0201,    -0.4966,  -168.7438,       5498,  2085.6,   2.2250,  34.6430,2,  34.6426,2,    112.6,2,   110.7,2,  136.74,2,   38.36,2,    0.00,4,    2.72,2,-999.000,9,-999.000,9,-999.000,9,  -999.0,9,  -999.0,9,-999.0000,9,  -999.00,-999.0000,9, -999.00,9, -999.00,9,  -999.0,9,  -999.0, -999.00,9, -999.00,9, -999.00,9, -999.00,9,   2.0777, -999.00
096U20160426,       P15S,     139,          1,         12,       2012,2,20160624,       0201,    -0.4966,  -168.7438,       5498,  2335.1,   1.9890,  34.6550,2,  34.6537,2,    120.9,2,   119.7,2,  140.25,2,   37.75,2,    0.00,4,    2.66,2,-999.000,9,-999.000,9,-999.000,9,  -999.0,9,  -999.0,9,-999.0000,9,  -999.00,-999.0000,9, -999.00,9, -999.00,9,  -999.0,9,  -999.0, -999.00,9, -999.00,9, -999.00,9, -999.00,9,   1.8237, -999.00
096U20160426,       P15S,     139,          1,         11,       2011,2,20160624,       0201,    -0.4966,  -168.7438,       5498,  2586.7,   1.8440,  34.6640,2,  34.6625,2,    125.8,2,   125.0,2,  143.19,2,   37.41,2,    0.00,4,    2.62,2,-999.000,9,-999.000,9,-999.000,9,  -999.0,9,  -999.0,9,-999.0000,9,  -999.00,-999.0000,9, -999.00,9, -999.00,9,  -999.0,9,  -999.0, -999.00,9, -999.00,9, -999.00,9, -999.00,9,   1.6587, -999.00
096U20160426,       P15S,     139,          1,         10,       2010,2,20160624,       0201,    -0.4966,  -168.7438,       5498,  2836.1,   1.7430,  34.6680,2,  34.6680,2,    132.1,2,   132.5,2,  142.91,2,   36.90,2,    0.00,4,    2.58,2,-999.000,9,-999.000,9,-999.000,9,  -999.0,9,  -999.0,9,-999.0000,9,  -999.00,-999.0000,9, -999.00,9, -999.00,9,  -999.0,9,  -999.0, -999.00,9, -999.00,9, -999.00,9, -999.00,9,   1.5365, -999.00
096U20160426,       P15S,     139,          1,          9,       2009,2,20160624,       0201,    -0.4966,  -168.7438,       5498,  3100.6,   1.6460,  34.6740,2,  34.6735,2,    138.8,2,   139.0,2,  142.82,2,   36.45,2,    0.00,4,    2.55,2,-999.000,9,-999.000,9,-999.000,9,  -999.0,9,  -999.0,9,-999.0000,9,  -999.00,-999.0000,9, -999.00,9, -999.00,9,  -999.0,9,  -999.0, -999.00,9, -999.00,9, -999.00,9, -999.00,9,   1.4162, -999.00
096U20160426,       P15S,     139,          1,          8,       2008,2,20160624,       0201,    -0.4966,  -168.7438,       5498,  3400.7,   1.5610,  34.6800,2,  34.6796,2,    146.8,2,   147.2,2,  141.25,2,   35.89,2,    0.00,4,    2.50,2,-999.000,9,-999.000,9,-999.000,9,  -999.0,9,  -999.0,9,-999.0000,9,  -999.00,-999.0000,9, -999.00,9, -999.00,9,  -999.0,9,  -999.0, -999.00,9, -999.00,9, -999.00,9, -999.00,9,   1.3034, -999.00
096U20160426,       P15S,     139,          1,          7,       2007,2,20160624,       0201,    -0.4966,  -168.7438,       5498,  3735.5,   1.4800,  34.6870,2,  34.6863,2,    155.6,2,   156.8,2,  139.18,2,   35.28,2,    0.00,4,    2.45,2,-999.000,9,-999.000,9,-999.000,9,  -999.0,9,  -999.0,9,-999.0000,9,  -999.00,-999.0000,9, -999.00,9, -999.00,9,  -999.0,9,  -999.0, -999.00,9, -999.00,9, -999.00,9, -999.00,9,   1.1899, -999.00
096U20160426,       P15S,     139,          1,          6,       2006,2,20160624,       0201,    -0.4966,  -168.7438,       5498,  4135.8,   1.3780,  34.6950,2,  34.6949,2,    167.6,2,   169.4,2,  135.52,2,   34.42,2,    0.00,4,    2.38,2,-999.000,9,-999.000,9,-999.000,9,  -999.0,9,  -999.0,9,-999.0000,9,  -999.00,-999.0000,9, -999.00,9, -999.00,9,  -999.0,9,  -999.0, -999.00,9, -999.00,9, -999.00,9, -999.00,9,   1.0476, -999.00
096U20160426,       P15S,     139,          1,          5,       2005,2,20160624,       0201,    -0.4966,  -168.7438,       5498,  4535.6,   1.2610,  34.7020,2,  34.7018,2,    183.4,2,   185.5,2,  127.35,2,   33.27,2,    0.00,4,    2.29,2,-999.000,9,-999.000,9,-999.000,9,  -999.0,9,  -999.0,9,-999.0000,9,  -999.00,-999.0000,9, -999.00,9, -999.00,9,  -999.0,9,  -999.0, -999.00,9, -999.00,9, -999.00,9, -999.00,9,   0.8892, -999.00
096U20160426,       P15S,     139,          1,          4,       2004,2,20160624,       0201,    -0.4966,  -168.7438,       5498,  4935.0,   1.2590,  34.7040,2,  34.7045,2,    188.5,2,   190.8,2,  125.06,2,   32.89,2,    0.00,4,    2.27,2,-999.000,9,-999.000,9,-999.000,9,  -999.0,9,  -999.0,9,-999.0000,9,  -999.00,-999.0000,9, -999.00,9, -999.00,9,  -999.0,9,  -999.0, -999.00,9, -999.00,9, -999.00,9, -999.00,9,   0.8405, -999.00
096U20160426,       P15S,     139,          1,          3,       2003,2,20160624,       0201,    -0.4966,  -168.7438,       5498,  5334.6,   1.3030,  34.7040,2,  34.7043,2,    190.8,2,   191.4,2,  124.36,2,   32.84,2,    0.00,4,    2.27,2,-999.000,9,-999.000,9,-999.000,9,  -999.0,9,  -999.0,9,-999.0000,9,  -999.00,-999.0000,9, -999.00,9, -999.00,9,  -999.0,9,  -999.0, -999.00,9, -999.00,9, -999.00,9, -999.00,9,   0.8342, -999.00
096U20160426,       P15S,     139,          1,          2,       2002,2,20160624,       0201,    -0.4966,  -168.7438,       5498,  5479.3,   1.3210,  34.7040,2,  34.7043,2,    191.4,2,   191.5,2,  124.31,2,   32.83,2,    0.00,4,    2.27,2,-999.000,9,-999.000,9,-999.000,9,  -999.0,9,  -999.0,9,-999.0000,9,  -999.00,-999.0000,9, -999.00,9, -999.00,9,  -999.0,9,  -999.0, -999.00,9, -999.00,9, -999.00,9, -999.00,9,   0.8334, -999.00
096U20160426,       P15S,     139,          1,          1,       2001,2,20160624,       0201,    -0.4966,  -168.7438,       5498,  5594.4,   1.3360,  34.7040,2,  34.7044,2,    191.6,2,   191.6,2,  124.36,2,   32.80,2,    0.00,4,    2.27,2,-999.000,9,-999.000,9,-999.000,9,  -999.0,9,  -999.0,9,-999.0000,9,  -999.00,-999.0000,9, -999.00,9, -999.00,9,  -999.0,9,  -999.0, -999.00,9, -999.00,9, -999.00,9, -999.00,9,   0.8332, -999.00