BOTTLE,20230413CCHSIOENA
EXPOCODE,SECT_ID,STNNBR,CASTNO,SAMPNO,BTLNBR,BTLNBR_FLAG_W,DATE,TIME,LATITUDE,LONGITUDE,DEPTH,CTDPRS,CTDTMP,CTDSAL,CTDSAL_FLAG_W,SALNTY,SALNTY_FLAG_W,CTDOXY,CTDOXY_FLAG_W,OXYGEN,OXYGEN_FLAG_W,SILCAT,SILCAT_FLAG_W,NITRAT,NITRAT_FLAG_W,NITRIT,NITRIT_FLAG_W,PHSPHT,PHSPHT_FLAG_W,CFC-11,CFC-11_FLAG_W,CFC-12,CFC-12_FLAG_W,SF6,SF6_FLAG_W,TCARBN,TCARBN_FLAG_W,ALKALI,ALKALI_FLAG_W,PH_TOT,PH_TOT_FLAG_W,PH_TMP,HELIUM,HELIUM_FLAG_W,DELHE3,DELHE3_FLAG_W,DELC13,DELC13_FLAG_W,DELC14,DELC14_FLAG_W,C14ERR,POC,POC_FLAG_W,PON,PON_FLAG_W,CHLORA,CHLORA_FLAG_W,PPHYTN,PPHYTN_FLAG_W,THETA,DELHER
,,,,,,,,,,,METERS,DBAR,ITS-90,PSS-78,,PSS-78,,UMOL/KG,,UMOL/KG,,UMOL/KG,,UMOL/KG,,UMOL/KG,,UMOL/KG,,PMOL/KG,,PMOL/KG,,FMOL/KG,,UMOL/KG,,UMOL/KG,,,,DEG C,NMOL/KG,,PERCNT,,/MILLE,,/MILLE,,/MILLE,UG/KG,,UG/KG,,UG/KG,,UG/KG,,DEG C,PERCNT
096U20160426,       P15S,      59,          1,         36,       2036,2,20160531,       0029,   -39.0728,  -172.1152,       4865,     6.0,  16.5810,  35.2750,2,  35.2753,2,    236.3,2,   238.3,2,    0.22,2,    0.02,2,    0.01,4,    0.11,2,   2.348,2,   1.437,2,   1.742,2,  2068.3,2,  2320.9,2,-999.0000,9,  -999.00,-999.0000,9, -999.00,9, -999.00,9,  -999.0,9,  -999.0, -999.00,9, -999.00,9, -999.00,9, -999.00,9,  16.5800, -999.00
096U20160426,       P15S,      59,          1,         35,       2035,2,20160531,       0029,   -39.0728,  -172.1152,       4865,    35.3,  16.5850,  35.2760,2,  35.2756,2,    236.5,2,   238.3,2,    0.23,2,    0.03,2,    0.00,4,    0.12,2,   2.346,2,   1.433,2,   1.801,2,  2069.0,2,  2320.0,6,-999.0000,9,  -999.00,-999.0000,9, -999.00,9, -999.00,9,  -999.0,9,  -999.0, -999.00,9, -999.00,9, -999.00,9, -999.00,9,  16.5793, -999.00
096U20160426,       P15S,      59,          1,         34,       2034,2,20160531,       0029,   -39.0728,  -172.1152,       4865,    59.5,  16.5870,  35.2750,2,  35.2749,2,    236.2,2,   238.2,2,    0.22,2,    0.03,2,    0.01,4,    0.12,2,-999.000,9,-999.000,9,-999.000,9,  -999.0,9,  -999.0,9,-999.0000,9,  -999.00,-999.0000,9, -999.00,9, -999.00,9,  -999.0,9,  -999.0, -999.00,9, -999.00,9, -999.00,9, -999.00,9,  16.5774, -999.00
096U20160426,       P15S,      59,          1,         33,       2033,2,20160531,       0029,   -39.0728,  -172.1152,       4865,    83.4,  16.6730,  35.2810,2,  35.2756,2,    236.0,2,   238.2,2,    0.23,2,    0.04,2,    0.01,4,    0.12,2,   2.342,2,   1.432,2,   1.767,2,  2068.3,6,  2320.1,6,-999.0000,9,  -999.00,-999.0000,9, -999.00,9, -999.00,9,  -999.0,9,  -999.0, -999.00,9, -999.00,9, -999.00,9, -999.00,9,  16.6594, -999.00
096U20160426,       P15S,      59,          1,         32,       2032,2,20160531,       0029,   -39.0728,  -172.1152,       4865,   114.3,  14.0920,  35.1720,2,  35.1779,2,    232.4,2,   233.9,2,    0.83,2,    3.14,2,    0.16,2,    0.38,2,   2.671,2,   1.615,2,   1.843,2,  2097.4,2,  2310.9,2,-999.0000,9,  -999.00,-999.0000,9, -999.00,9, -999.00,9,  -999.0,9,  -999.0, -999.00,9, -999.00,9, -999.00,9, -999.00,9,  14.0754, -999.00
096U20160426,       P15S,      59,          1,         31,       2031,2,20160531,       0029,   -39.0728,  -172.1152,       4865,   164.7,  12.6530,  35.0920,2,  35.0912,2,    226.3,2,   228.1,2,    1.70,2,    7.87,2,    0.01,4,    0.63,2,-999.000,9,-999.000,9,-999.000,9,  -999.0,9,  -999.0,9,-999.0000,9,  -999.00,-999.0000,9, -999.00,9, -999.00,9,  -999.0,9,  -999.0, -999.00,9, -999.00,9, -999.00,9, -999.00,9,  12.6308, -999.00
096U20160426,       P15S,      59,          1,         30,       2030,2,20160531,       0029,   -39.0728,  -172.1152,       4865,   215.3,  12.1360,  35.0580,2,  35.0472,2,    233.8,2,   234.8,2,    2.15,2,    8.78,2,    0.01,4,    0.68,2,   2.882,2,   1.714,2,   1.868,2,  2116.6,2,  2305.4,2,-999.0000,9,  -999.00,-999.0000,9, -999.00,9, -999.00,9,  -999.0,9,  -999.0, -999.00,9, -999.00,9, -999.00,9, -999.00,9,  12.1077, -999.00
096U20160426,       P15S,      59,          1,         29,       2029,2,20160531,       0029,   -39.0728,  -172.1152,       4865,   266.4,  11.5770,  34.9740,2,  34.9706,2,    234.9,2,   236.6,2,    2.43,2,    9.85,2,    0.01,4,    0.74,2,   2.957,2,   1.741,2,    1.86,2,  2117.6,2,  2301.2,2,-999.0000,9,  -999.00,-999.0000,9, -999.00,9, -999.00,9,  -999.0,9,  -999.0, -999.00,9, -999.00,9, -999.00,9, -999.00,9,  11.5430, -999.00
096U20160426,       P15S,      59,          1,         28,       2028,2,20160531,       0029,   -39.0728,  -172.1152,       4865,   315.7,  10.9160,  34.8680,2,  34.8600,2,    232.4,2,   233.4,2,    2.92,2,   11.75,2,    0.01,4,    0.86,2,   3.030,2,   1.780,2,   1.814,2,  2123.7,2,  2296.2,2,-999.0000,9,  -999.00,-999.0000,9, -999.00,9, -999.00,9,  -999.0,9,  -999.0, -999.00,9, -999.00,9, -999.00,9, -999.00,9,  10.8771, -999.00
096U20160426,       P15S,      59,          1,         27,       2027,2,20160531,       0029,   -39.0728,  -172.1152,       4865,   367.0,   9.9750,  34.7230,2,  34.7201,2,    220.8,2,   222.0,2,    3.94,2,   15.30,2,    0.00,4,    1.07,2,-999.000,9,-999.000,9,-999.000,9,  -999.0,9,  -999.0,9,-999.0000,9,  -999.00,-999.0000,9, -999.00,9, -999.00,9,  -999.0,9,  -999.0, -999.00,9, -999.00,9, -999.00,9, -999.00,9,   9.9323, -999.00
096U20160426,       P15S,      59,          1,         26,       2026,2,20160531,       0029,   -39.0728,  -172.1152,       4865,   436.1,   9.3040,  34.6440,2,  34.6427,2,    216.1,2,   216.8,2,    5.19,2,   17.87,2,    0.00,4,    1.23,2,   3.127,2,   1.774,2,   1.359,2,  2141.6,2,  2288.0,2,-999.0000,9,  -999.00,-999.0000,9, -999.00,9, -999.00,9,  -999.0,9,  -999.0, -999.00,9, -999.00,9, -999.00,9, -999.00,9,   9.2552, -999.00
096U20160426,       P15S,      59,          1,         25,       2025,2,20160531,       0029,   -39.0728,  -172.1152,       4865,   536.6,   8.1890,  34.5110,2,  34.5093,2,    223.9,2,   226.0,2,    5.65,2,   20.12,2,    0.00,4,    1.37,2,   3.364,6,   1.861,6,   1.228,6,  2146.0,2,  2283.6,2,-999.0000,9,  -999.00,-999.0000,9, -999.00,9, -999.00,9,  -999.0,9,  -999.0, -999.00,9, -999.00,9, -999.00,9, -999.00,9,   8.1331, -999.00
096U20160426,       P15S,      59,          1,         24,       2024,2,20160531,       0029,   -39.0728,  -172.1152,       4865,   636.6,   7.6480,  34.4610,2,  34.4600,2,    224.1,2,   225.9,2,    6.94,2,   21.65,2,    0.00,4,    1.46,2,-999.000,9,-999.000,9,-999.000,9,  -999.0,9,  -999.0,9,-999.0000,9,  -999.00,-999.0000,9, -999.00,9, -999.00,9,  -999.0,9,  -999.0, -999.00,9, -999.00,9, -999.00,9, -999.00,9,   7.5839, -999.00
096U20160426,       P15S,      59,          1,         23,       2023,2,20160531,       0029,   -39.0728,  -172.1152,       4865,   736.2,   7.1330,  34.4190,2,  34.4176,2,    223.7,2,   225.2,2,    8.92,2,   23.12,2,    0.00,4,    1.56,2,   2.992,2,   1.581,2,   0.787,2,  2151.3,2,  2283.5,2,-999.0000,9,  -999.00,-999.0000,9, -999.00,9, -999.00,9,  -999.0,9,  -999.0, -999.00,9, -999.00,9, -999.00,9, -999.00,9,   7.0613, -999.00
096U20160426,       P15S,      59,          1,         22,       2022,2,20160531,       0029,   -39.0728,  -172.1152,       4865,   834.4,   6.6160,  34.3870,2,  34.3864,2,    219.4,2,   221.3,2,   11.74,2,   24.67,2,    0.00,4,    1.67,2,   2.558,2,   1.321,2,   0.582,2,  2158.0,2,  2285.0,2,-999.0000,9,  -999.00,-999.0000,9, -999.00,9, -999.00,9,  -999.0,9,  -999.0, -999.00,9, -999.00,9, -999.00,9, -999.00,9,   6.5374, -999.00
096U20160426,       P15S,      59,          1,         21,       2021,2,20160531,       0029,   -39.0728,  -172.1152,       4865,   936.0,   6.0640,  34.3700,2,  34.3700,2,    210.7,2,   213.0,2,   16.45,2,   26.54,2,    0.00,4,    1.80,2,   1.977,2,   1.005,2,   0.423,2,  2166.9,6,  2289.0,6,-999.0000,9,  -999.00,-999.0000,9, -999.00,9, -999.00,9,  -999.0,9,  -999.0, -999.00,9, -999.00,9, -999.00,9, -999.00,9,   5.9791, -999.00
096U20160426,       P15S,      59,          1,         20,       2020,2,20160531,       0029,   -39.0728,  -172.1152,       4865,  1034.2,   5.5170,  34.3660,2,  34.3655,2,    202.4,2,   204.2,2,   22.65,2,   28.29,2,    0.00,4,    1.92,2,   1.502,2,   0.761,2,   0.309,2,  2179.2,2,  2293.3,2,-999.0000,9,  -999.00,-999.0000,9, -999.00,9, -999.00,9,  -999.0,9,  -999.0, -999.00,9, -999.00,9, -999.00,9, -999.00,9,   5.4268, -999.00
096U20160426,       P15S,      59,          1,         19,       2019,2,20160531,       0029,   -39.0728,  -172.1152,       4865,  1133.4,   4.8940,  34.3690,2,  34.3678,2,    194.9,2,   196.8,2,   30.34,2,   30.06,2,    0.00,4,    2.05,2,   1.161,2,   0.588,2,   0.243,2,  2193.6,2,  2299.7,2,-999.0000,9,  -999.00,-999.0000,9, -999.00,9, -999.00,9,  -999.0,9,  -999.0, -999.00,9, -999.00,9, -999.00,9, -999.00,9,   4.7996, -999.00
096U20160426,       P15S,      59,          1,         18,       2018,2,20160531,       0029,   -39.0728,  -172.1152,       4865,  1236.3,   4.3830,  34.3870,2,  34.3863,2,    188.4,2,   189.6,2,   38.97,2,   31.41,2,    0.00,4,    2.15,2,   0.827,2,   0.413,2,   0.176,2,  2206.2,2,  2307.9,2,-999.0000,9,  -999.00,-999.0000,9, -999.00,9, -999.00,9,  -999.0,9,  -999.0, -999.00,9, -999.00,9, -999.00,9, -999.00,9,   4.2839, -999.00
096U20160426,       P15S,      59,          1,         17,       2017,2,20160531,       0029,   -39.0728,  -172.1152,       4865,  1336.2,   3.9730,  34.4220,2,  34.4215,2,    180.7,2,   181.7,2,   48.49,2,   32.36,2,    0.00,4,    2.22,2,   0.528,2,   0.269,2,   0.105,2,  2221.0,2,  2317.5,2,-999.0000,9,  -999.00,-999.0000,9, -999.00,9, -999.00,9,  -999.0,9,  -999.0, -999.00,9, -999.00,9, -999.00,9, -999.00,9,   3.8690, -999.00
096U20160426,       P15S,      59,          1,         16,       2016,2,20160531,       0029,   -39.0728,  -172.1152,       4865,  1435.7,   3.6670,  34.4650,2,  34.4643,2,    173.4,2,   174.0,2,   58.71,2,   33.03,2,    0.00,4,    2.28,2,   0.315,2,   0.162,2,   0.023,2,  2234.9,2,  2329.0,6,-999.0000,9,  -999.00,-999.0000,9, -999.00,9, -999.00,9,  -999.0,9,  -999.0, -999.00,9, -999.00,9, -999.00,9, -999.00,9,   3.5574, -999.00
096U20160426,       P15S,      59,          1,         15,       2015,2,20160531,       0029,   -39.0728,  -172.1152,       4865,  1536.5,   3.2890,  34.4940,2,  34.4927,2,    167.9,2,   168.5,2,   67.17,2,   33.80,2,    0.00,4,    2.34,2,-999.000,9,-999.000,9,-999.000,9,  -999.0,9,  -999.0,9,-999.0000,9,  -999.00,-999.0000,9, -999.00,9, -999.00,9,  -999.0,9,  -999.0, -999.00,9, -999.00,9, -999.00,9, -999.00,9,   3.1749, -999.00
096U20160426,       P15S,      59,          1,         14,       2014,2,20160531,       0029,   -39.0728,  -172.1152,       4865,  1664.2,   3.0260,  34.5330,2,  34.5323,2,    162.5,2,   162.9,2,   77.34,2,   34.22,2,    0.00,4,    2.37,2,   0.084,2,   0.045,2,   0.028,2,  2260.5,2,  2350.6,2,-999.0000,9,  -999.00,-999.0000,9, -999.00,9, -999.00,9,  -999.0,9,  -999.0, -999.00,9, -999.00,9, -999.00,9, -999.00,9,   2.9040, -999.00
096U20160426,       P15S,      59,          1,         13,       2013,2,20160531,       0029,   -39.0728,  -172.1152,       4865,  1865.0,   2.6770,  34.5820,2,  34.5813,2,    155.8,2,   155.7,2,   91.81,2,   34.83,2,    0.00,4,    2.43,2,   0.030,2,   0.019,2,       0,2,  2279.8,2,  2369.0,2,-999.0000,9,  -999.00,-999.0000,9, -999.00,9, -999.00,9,  -999.0,9,  -999.0, -999.00,9, -999.00,9, -999.00,9, -999.00,9,   2.5423, -999.00
096U20160426,       P15S,      59,          1,         12,       2012,2,20160531,       0029,   -39.0728,  -172.1152,       4865,  2083.6,   2.4550,  34.6120,2,  34.6114,2,    152.0,2,   151.9,2,  102.38,2,   35.18,2,    0.00,4,    2.46,2,   0.017,2,   0.012,2,   0.016,2,  2291.2,2,  2381.5,2,-999.0000,9,  -999.00,-999.0000,9, -999.00,9, -999.00,9,  -999.0,9,  -999.0, -999.00,9, -999.00,9, -999.00,9, -999.00,9,   2.3044, -999.00
096U20160426,       P15S,      59,          1,         11,       2011,2,20160531,       0029,   -39.0728,  -172.1152,       4865,  2335.7,   2.2810,  34.6310,2,  34.6306,2,    150.3,2,   150.0,2,  109.93,2,   35.45,2,    0.00,4,    2.48,2,-999.000,9,-999.000,9,-999.000,9,  -999.0,9,  -999.0,9,-999.0000,9,  -999.00,-999.0000,9, -999.00,9, -999.00,9,  -999.0,9,  -999.0, -999.00,9, -999.00,9, -999.00,9, -999.00,9,   2.1106, -999.00
096U20160426,       P15S,      59,          1,         10,       2010,2,20160531,       0029,   -39.0728,  -172.1152,       4865,  2601.9,   2.1140,  34.6480,2,  34.6469,2,    149.7,2,   149.5,2,  115.98,2,   35.52,2,    0.00,4,    2.49,2,   0.005,2,   0.005,2,   0.041,3,  2305.5,2,  2397.6,2,-999.0000,9,  -999.00,-999.0000,9, -999.00,9, -999.00,9,  -999.0,9,  -999.0, -999.00,9, -999.00,9, -999.00,9, -999.00,9,   1.9221, -999.00
096U20160426,       P15S,      59,          1,          9,       2009,2,20160531,       0029,   -39.0728,  -172.1152,       4865,  2834.9,   1.9600,  34.6690,2,  34.6680,2,    156.5,2,   156.0,2,  116.11,2,   34.94,2,    0.00,4,    2.44,2,   0.015,2,   0.010,2,       0,2,  2302.1,2,  2394.4,2,-999.0000,9,  -999.00,-999.0000,9, -999.00,9, -999.00,9,  -999.0,9,  -999.0, -999.00,9, -999.00,9, -999.00,9, -999.00,9,   1.7491, -999.00
096U20160426,       P15S,      59,          1,          8,       2008,2,20160531,       0029,   -39.0728,  -172.1152,       4865,  3098.4,   1.8160,  34.7070,2,  34.7064,2,    176.9,2,   177.8,2,  104.19,2,   32.84,2,    0.00,4,    2.27,2,   0.047,2,   0.026,2,       0,2,  2274.4,2,  2374.2,2,-999.0000,9,  -999.00,-999.0000,9, -999.00,9, -999.00,9,  -999.0,9,  -999.0, -999.00,9, -999.00,9, -999.00,9, -999.00,9,   1.5824, -999.00
096U20160426,       P15S,      59,          1,          7,       2007,2,20160531,       0029,   -39.0728,  -172.1152,       4865,  3401.7,   1.6220,  34.7270,2,  34.7262,2,    191.1,2,   192.9,2,  100.84,2,   31.65,2,    0.00,4,    2.18,2,   0.068,2,   0.035,2,       0,2,  2260.8,2,  2364.2,6,-999.0000,9,  -999.00,-999.0000,9, -999.00,9, -999.00,9,  -999.0,9,  -999.0, -999.00,9, -999.00,9, -999.00,9, -999.00,9,   1.3625, -999.00
096U20160426,       P15S,      59,          1,          6,       2006,2,20160531,       0029,   -39.0728,  -172.1152,       4865,  3699.5,   1.3730,  34.7240,2,  34.7232,2,    197.5,2,   199.5,2,  106.25,2,   31.68,2,    0.00,4,    2.18,2,   0.085,2,   0.044,2,       0,2,  2261.7,2,  2363.9,2,-999.0000,9,  -999.00,-999.0000,9, -999.00,9, -999.00,9,  -999.0,9,  -999.0, -999.00,9, -999.00,9, -999.00,9, -999.00,9,   1.0893, -999.00
096U20160426,       P15S,      59,          1,          5,       2005,2,20160531,       0029,   -39.0728,  -172.1152,       4865,  3998.4,   1.1740,  34.7170,2,  34.7165,2,    201.8,2,   203.2,2,  112.00,2,   31.87,2,    0.00,4,    2.20,2,   0.108,2,   0.055,2,   0.044,2,  2261.0,6,  2366.0,6,-999.0000,9,  -999.00,-999.0000,9, -999.00,9, -999.00,9,  -999.0,9,  -999.0, -999.00,9, -999.00,9, -999.00,9, -999.00,9,   0.8642, -999.00
096U20160426,       P15S,      59,          1,          4,       2004,2,20160531,       0029,   -39.0728,  -172.1152,       4865,  4299.7,   1.0420,  34.7110,2,  34.7107,2,    204.8,2,   206.1,2,  116.32,2,   32.03,2,    0.00,4,    2.21,2,   0.169,2,   0.085,2,       0,2,  2262.9,2,  2365.7,2,-999.0000,9,  -999.00,-999.0000,9, -999.00,9, -999.00,9,  -999.0,9,  -999.0, -999.00,9, -999.00,9, -999.00,9, -999.00,9,   0.7034, -999.00
096U20160426,       P15S,      59,          1,          3,       2003,2,20160531,       0029,   -39.0728,  -172.1152,       4865,  4602.5,   1.0000,  34.7080,2,  34.7077,2,    206.1,2,   206.8,2,  118.45,2,   32.11,2,    0.00,4,    2.21,2,   0.192,2,   0.096,2,   0.031,2,  2262.5,2,  2366.1,2,-999.0000,9,  -999.00,-999.0000,9, -999.00,9, -999.00,9,  -999.0,9,  -999.0, -999.00,9, -999.00,9, -999.00,9, -999.00,9,   0.6288, -999.00
096U20160426,       P15S,      59,          1,          2,       2002,2,20160531,       0029,   -39.0728,  -172.1152,       4865,  4798.8,   0.9950,  34.7070,2,  34.7064,2,    206.7,2,  -999.0,9,  119.22,2,   32.15,2,    0.00,4,    2.21,2,   0.220,6,   0.111,6,   0.055,6,  2262.5,2,  2366.1,2,-999.0000,9,  -999.00,-999.0000,9, -999.00,9, -999.00,9,  -999.0,9,  -999.0, -999.00,9, -999.00,9, -999.00,9, -999.00,9,   0.6013, -999.00
096U20160426,       P15S,      59,          1,          1,       2001,2,20160531,       0029,   -39.0728,  -172.1152,       4865,  4931.2,   1.0020,  34.7060,2,  34.7066,2,    207.0,2,   207.7,2,  119.64,2,   32.20,2,    0.00,4,    2.21,2,   0.232,2,   0.115,2,   0.071,2,  2262.0,2,  2366.1,2,-999.0000,9,  -999.00,-999.0000,9, -999.00,9, -999.00,9,  -999.0,9,  -999.0, -999.00,9, -999.00,9, -999.00,9, -999.00,9,   0.5926, -999.00