BOTTLE,20230413CCHSIOENA
EXPOCODE,SECT_ID,STNNBR,CASTNO,SAMPNO,BTLNBR,BTLNBR_FLAG_W,DATE,TIME,LATITUDE,LONGITUDE,DEPTH,CTDPRS,CTDTMP,CTDSAL,CTDSAL_FLAG_W,SALNTY,SALNTY_FLAG_W,CTDOXY,CTDOXY_FLAG_W,OXYGEN,OXYGEN_FLAG_W,SILCAT,SILCAT_FLAG_W,NITRAT,NITRAT_FLAG_W,NITRIT,NITRIT_FLAG_W,PHSPHT,PHSPHT_FLAG_W,CFC-11,CFC-11_FLAG_W,CFC-12,CFC-12_FLAG_W,SF6,SF6_FLAG_W,TCARBN,TCARBN_FLAG_W,ALKALI,ALKALI_FLAG_W,PH_TOT,PH_TOT_FLAG_W,PH_TMP,HELIUM,HELIUM_FLAG_W,DELHE3,DELHE3_FLAG_W,DELC13,DELC13_FLAG_W,DELC14,DELC14_FLAG_W,C14ERR,POC,POC_FLAG_W,PON,PON_FLAG_W,CHLORA,CHLORA_FLAG_W,PPHYTN,PPHYTN_FLAG_W,THETA,DELHER
,,,,,,,,,,,METERS,DBAR,ITS-90,PSS-78,,PSS-78,,UMOL/KG,,UMOL/KG,,UMOL/KG,,UMOL/KG,,UMOL/KG,,UMOL/KG,,PMOL/KG,,PMOL/KG,,FMOL/KG,,UMOL/KG,,UMOL/KG,,,,DEG C,NMOL/KG,,PERCNT,,/MILLE,,/MILLE,,/MILLE,UG/KG,,UG/KG,,UG/KG,,UG/KG,,DEG C,PERCNT
096U20160426,       P15S,     127,          1,         36,       2036,2,20160620,       1858,    -6.5003,  -168.7491,       5551,     5.9,  30.1620,  34.7680,2,  34.7665,2,    186.9,2,   192.4,2,    0.42,2,   -0.01,4,    0.00,4,    0.14,2,-999.000,9,-999.000,9,-999.000,9,  1935.0,2,  2286.5,2,-999.0000,9,  -999.00,-999.0000,9, -999.00,9, -999.00,9,  -999.0,9,  -999.0, -999.00,9, -999.00,9,    0.23,2,   -0.02,3,  30.1605, -999.00
096U20160426,       P15S,     127,          1,         35,       2035,2,20160620,       1858,    -6.5003,  -168.7491,       5551,    20.8,  30.1720,  34.7730,2,  34.7751,2,    186.8,2,   192.3,2,    0.38,2,   -0.01,4,    0.00,4,    0.14,2,-999.000,9,-999.000,9,-999.000,9,  -999.0,9,  -999.0,9,-999.0000,9,  -999.00,-999.0000,9, -999.00,9, -999.00,9,  -999.0,9,  -999.0, -999.00,9, -999.00,9,    0.25,2,   -0.04,3,  30.1668, -999.00
096U20160426,       P15S,     127,          1,         34,       2034,2,20160620,       1858,    -6.5003,  -168.7491,       5551,    60.1,  30.1810,  35.3820,2,  35.5117,2,    195.4,2,   198.0,2,    0.85,2,    0.24,2,    0.04,2,    0.24,2,-999.000,9,-999.000,9,-999.000,9,  1992.3,2,  2338.0,2,-999.0000,9,  -999.00,-999.0000,9, -999.00,9, -999.00,9,  -999.0,9,  -999.0, -999.00,9, -999.00,9,    0.64,2,   -0.06,3,  30.1660, -999.00
096U20160426,       P15S,     127,          1,         33,       2033,2,20160620,       1858,    -6.5003,  -168.7491,       5551,    85.0,  28.8410,  35.8560,2,  35.9369,2,    174.3,2,   175.8,2,    1.07,2,    1.35,2,    0.56,2,    0.39,2,-999.000,9,-999.000,9,-999.000,9,  -999.0,9,  -999.0,9,-999.0000,9,  -999.00,-999.0000,9, -999.00,9, -999.00,9,  -999.0,9,  -999.0, -999.00,9, -999.00,9,    0.82,2,   -0.09,3,  28.8205, -999.00
096U20160426,       P15S,     127,          1,         32,       2032,2,20160620,       1858,    -6.5003,  -168.7491,       5551,   111.2,  27.4960,  36.1450,2,  36.1791,2,    160.9,2,   161.1,2,    1.18,2,    2.80,2,    1.52,2,    0.53,2,-999.000,9,-999.000,9,-999.000,9,  -999.0,9,  -999.0,9,-999.0000,9,  -999.00,-999.0000,9, -999.00,9, -999.00,9,  -999.0,9,  -999.0, -999.00,9, -999.00,9,    0.61,2,    0.10,3,  27.4700, -999.00
096U20160426,       P15S,     127,          1,         31,       2031,2,20160620,       1858,    -6.5003,  -168.7491,       5551,   146.1,  24.1260,  36.2560,2,  36.2201,2,    144.7,2,   149.1,2,    1.05,2,    6.54,2,    0.04,2,    0.67,2,-999.000,9,-999.000,9,-999.000,9,  2116.2,2,  2383.4,2,-999.0000,9,  -999.00,-999.0000,9, -999.00,9, -999.00,9,  -999.0,9,  -999.0, -999.00,9, -999.00,9, -999.00,9, -999.00,9,  24.0950, -999.00
096U20160426,       P15S,     127,          1,         30,       2030,2,20160620,       1858,    -6.5003,  -168.7491,       5551,   215.5,  16.3300,  35.2730,2,  35.2272,2,    109.8,2,   104.0,2,    7.58,2,   16.78,2,    0.01,4,    1.43,2,-999.000,9,-999.000,9,-999.000,9,  -999.0,9,  -999.0,9,-999.0000,9,  -999.00,-999.0000,9, -999.00,9, -999.00,9,  -999.0,9,  -999.0, -999.00,9, -999.00,9, -999.00,9, -999.00,9,  16.2953, -999.00
096U20160426,       P15S,     127,          1,         29,       2029,2,20160620,       1858,    -6.5003,  -168.7491,       5551,   266.5,  12.4970,  34.9070,2,  34.8857,2,     66.3,2,    53.6,2,   18.72,2,   27.35,2,    0.00,4,    2.11,2,-999.000,9,-999.000,9,-999.000,9,  -999.0,9,  -999.0,9,-999.0000,9,  -999.00,-999.0000,9, -999.00,9, -999.00,9,  -999.0,9,  -999.0, -999.00,9, -999.00,9, -999.00,9, -999.00,9,  12.4612, -999.00
096U20160426,       P15S,     127,          1,         28,       2028,2,20160620,       1858,    -6.5003,  -168.7491,       5551,   315.8,  10.8730,  34.8030,2,  34.7917,2,     65.0,2,    61.7,2,   23.07,2,   30.02,2,    0.00,4,    2.17,2,-999.000,9,-999.000,9,-999.000,9,  2227.8,2,  2301.2,2,-999.0000,9,  -999.00,-999.0000,9, -999.00,9, -999.00,9,  -999.0,9,  -999.0, -999.00,9, -999.00,9, -999.00,9, -999.00,9,  10.8342, -999.00
096U20160426,       P15S,     127,          1,         27,       2027,2,20160620,       1858,    -6.5003,  -168.7491,       5551,   365.7,  10.1340,  34.7520,2,  34.7440,2,     71.5,2,    71.5,2,   24.49,2,   30.56,2,    0.00,4,    2.17,2,-999.000,9,-999.000,9,-999.000,9,  -999.0,9,  -999.0,9,-999.0000,9,  -999.00,-999.0000,9, -999.00,9, -999.00,9,  -999.0,9,  -999.0, -999.00,9, -999.00,9, -999.00,9, -999.00,9,  10.0910, -999.00
096U20160426,       P15S,     127,          1,         26,       2026,2,20160620,       1858,    -6.5003,  -168.7491,       5551,   470.2,   8.4910,  34.6400,2,  34.6390,2,     98.2,2,    89.5,2,   29.11,2,   32.43,2,    0.00,4,    2.25,2,-999.000,9,-999.000,9,-999.000,9,  2228.2,2,  2302.0,2,-999.0000,9,  -999.00,-999.0000,9, -999.00,9, -999.00,9,  -999.0,9,  -999.0, -999.00,9, -999.00,9, -999.00,9, -999.00,9,   8.4411, -999.00
096U20160426,       P15S,     127,          1,         25,       2025,2,20160620,       1858,    -6.5003,  -168.7491,       5551,   535.6,   7.6890,  34.6020,2,  34.5994,2,     85.1,2,    82.5,2,   34.43,2,   34.67,2,    0.00,4,    2.41,2,-999.000,9,-999.000,9,-999.000,9,  -999.0,9,  -999.0,9,-999.0000,9,  -999.00,-999.0000,9, -999.00,9, -999.00,9,  -999.0,9,  -999.0, -999.00,9, -999.00,9, -999.00,9, -999.00,9,   7.6352, -999.00
096U20160426,       P15S,     127,          1,         24,       2024,2,20160620,       1858,    -6.5003,  -168.7491,       5551,   635.5,   6.4830,  34.5520,2,  34.5513,2,     86.9,2,    84.8,2,   45.71,2,   36.87,2,    0.00,4,    2.58,2,-999.000,9,-999.000,9,-999.000,9,  2253.8,2,  2313.9,2,-999.0000,9,  -999.00,-999.0000,9, -999.00,9, -999.00,9,  -999.0,9,  -999.0, -999.00,9, -999.00,9, -999.00,9, -999.00,9,   6.4245, -999.00
096U20160426,       P15S,     127,          1,         23,       2023,2,20160620,       1858,    -6.5003,  -168.7491,       5551,   735.5,   5.6210,  34.5320,2,  34.5309,2,     99.3,2,    96.8,2,   54.04,2,   36.99,2,    0.00,4,    2.61,2,-999.000,9,-999.000,9,-999.000,9,  -999.0,9,  -999.0,9,-999.0000,9,  -999.00,-999.0000,9, -999.00,9, -999.00,9,  -999.0,9,  -999.0, -999.00,9, -999.00,9, -999.00,9, -999.00,9,   5.5576, -999.00
096U20160426,       P15S,     127,          1,         22,       2022,2,20160620,       1858,    -6.5003,  -168.7491,       5551,   835.7,   4.9980,  34.5370,2,  34.5342,2,     92.8,2,    89.9,2,   67.15,2,   38.40,2,    0.00,4,    2.73,2,-999.000,9,-999.000,9,-999.000,9,  2279.0,2,  2335.9,2,-999.0000,9,  -999.00,-999.0000,9, -999.00,9, -999.00,9,  -999.0,9,  -999.0, -999.00,9, -999.00,9, -999.00,9, -999.00,9,   4.9293, -999.00
096U20160426,       P15S,     127,          1,         21,       2021,2,20160620,       1858,    -6.5003,  -168.7491,       5551,  1036.8,   4.2950,  34.5490,2,  34.5484,2,     99.2,2,    98.1,2,   81.13,2,   38.33,2,    0.00,4,    2.74,2,-999.000,9,-999.000,9,-999.000,9,  2292.8,6,  2351.5,6,-999.0000,9,  -999.00,-999.0000,9, -999.00,9, -999.00,9,  -999.0,9,  -999.0, -999.00,9, -999.00,9, -999.00,9, -999.00,9,   4.2138, -999.00
096U20160426,       P15S,     127,          1,         19,       2019,2,20160620,       1858,    -6.5003,  -168.7491,       5551,  1136.3,   3.9170,  34.5590,2,  34.5591,2,    104.8,2,   102.4,2,   88.41,2,   38.06,2,    0.00,4,    2.71,2,-999.000,9,-999.000,9,-999.000,9,  -999.0,9,  -999.0,9,-999.0000,9,  -999.00,-999.0000,9, -999.00,9, -999.00,9,  -999.0,9,  -999.0, -999.00,9, -999.00,9, -999.00,9, -999.00,9,   3.8305, -999.00
096U20160426,       P15S,     127,          1,         20,       2020,2,20160620,       1858,    -6.5003,  -168.7491,       5551,  1136.4,   3.9630,  34.5580,2,  34.5571,2,    104.6,2,   102.2,2,   87.42,2,   38.02,2,    0.00,4,    2.72,2,-999.000,9,-999.000,9,-999.000,9,  -999.0,9,  -999.0,9,-999.0000,9,  -999.00,-999.0000,9, -999.00,9, -999.00,9,  -999.0,9,  -999.0, -999.00,9, -999.00,9, -999.00,9, -999.00,9,   3.8761, -999.00
096U20160426,       P15S,     127,          1,         18,       2018,2,20160620,       1858,    -6.5003,  -168.7491,       5551,  1241.9,   3.6060,  34.5700,2,  34.5686,2,    108.4,2,   106.3,2,   95.00,2,   37.97,2,    0.00,4,    2.71,2,-999.000,9,-999.000,9,-999.000,9,  -999.0,9,  -999.0,9,-999.0000,9,  -999.00,-999.0000,9, -999.00,9, -999.00,9,  -999.0,9,  -999.0, -999.00,9, -999.00,9, -999.00,9, -999.00,9,   3.5134, -999.00
096U20160426,       P15S,     127,          1,         17,       2017,2,20160620,       1858,    -6.5003,  -168.7491,       5551,  1401.4,   3.1750,  34.5880,2,  34.5870,2,    112.7,2,   112.4,2,  104.50,2,   37.81,2,    0.00,4,    2.69,2,-999.000,9,-999.000,9,-999.000,9,  -999.0,9,  -999.0,9,-999.0000,9,  -999.00,-999.0000,9, -999.00,9, -999.00,9,  -999.0,9,  -999.0, -999.00,9, -999.00,9, -999.00,9, -999.00,9,   3.0734, -999.00
096U20160426,       P15S,     127,          1,         16,       2016,2,20160620,       1858,    -6.5003,  -168.7491,       5551,  1560.8,   2.7990,  34.6050,2,  34.6056,2,    119.9,2,   118.6,2,  111.67,2,   37.26,2,    0.00,4,    2.65,2,-999.000,9,-999.000,9,-999.000,9,  -999.0,9,  -999.0,9,-999.0000,9,  -999.00,-999.0000,9, -999.00,9, -999.00,9,  -999.0,9,  -999.0, -999.00,9, -999.00,9, -999.00,9, -999.00,9,   2.6884, -999.00
096U20160426,       P15S,     127,          1,         15,       2015,2,20160620,       1858,    -6.5003,  -168.7491,       5551,  1765.6,   2.5180,  34.6210,2,  34.6195,2,    123.4,2,   122.8,2,  118.74,2,   37.21,2,    0.00,4,    2.63,2,-999.000,9,-999.000,9,-999.000,9,  -999.0,9,  -999.0,9,-999.0000,9,  -999.00,-999.0000,9, -999.00,9, -999.00,9,  -999.0,9,  -999.0, -999.00,9, -999.00,9, -999.00,9, -999.00,9,   2.3938, -999.00
096U20160426,       P15S,     127,          1,         14,       2014,2,20160620,       1858,    -6.5003,  -168.7491,       5551,  1976.2,   2.2520,  34.6380,2,  34.6372,2,    125.3,2,   124.8,2,  126.45,2,   37.12,2,    0.00,4,    2.62,2,-999.000,9,-999.000,9,-999.000,9,  -999.0,9,  -999.0,9,-999.0000,9,  -999.00,-999.0000,9, -999.00,9, -999.00,9,  -999.0,9,  -999.0, -999.00,9, -999.00,9, -999.00,9, -999.00,9,   2.1137, -999.00
096U20160426,       P15S,     127,          1,         13,       2013,2,20160620,       1858,    -6.5003,  -168.7491,       5551,  2236.2,   2.0350,  34.6520,2,  34.6511,2,    130.2,2,   129.4,2,  131.57,2,   36.97,2,    0.00,4,    2.60,2,-999.000,9,-999.000,9,-999.000,9,  -999.0,9,  -999.0,9,-999.0000,9,  -999.00,-999.0000,9, -999.00,9, -999.00,9,  -999.0,9,  -999.0, -999.00,9, -999.00,9, -999.00,9, -999.00,9,   1.8777, -999.00
096U20160426,       P15S,     127,          1,         12,       2012,2,20160620,       1858,    -6.5003,  -168.7491,       5551,  2485.4,   1.8750,  34.6630,2,  34.6618,2,    135.5,2,   135.6,2,  134.59,2,   36.61,2,    0.00,4,    2.56,2,-999.000,9,-999.000,9,-999.000,9,  -999.0,9,  -999.0,9,-999.0000,9,  -999.00,-999.0000,9, -999.00,9, -999.00,9,  -999.0,9,  -999.0, -999.00,9, -999.00,9, -999.00,9, -999.00,9,   1.6983, -999.00
096U20160426,       P15S,     127,          1,         11,       2011,2,20160620,       1858,    -6.5003,  -168.7491,       5551,  2735.1,   1.7420,  34.6710,2,  34.6719,2,    140.7,2,   141.2,2,  136.55,2,   36.25,2,    0.00,4,    2.53,2,-999.000,9,-999.000,9,-999.000,9,  -999.0,9,  -999.0,9,-999.0000,9,  -999.00,-999.0000,9, -999.00,9, -999.00,9,  -999.0,9,  -999.0, -999.00,9, -999.00,9, -999.00,9, -999.00,9,   1.5450, -999.00
096U20160426,       P15S,     127,          1,         10,       2010,2,20160620,       1858,    -6.5003,  -168.7491,       5551,  2990.5,   1.6500,  34.6790,2,  34.6772,2,    148.2,2,   149.7,2,  136.60,2,   36.24,2,    0.00,4,    2.53,2,-999.000,9,-999.000,9,-999.000,9,  -999.0,9,  -999.0,9,-999.0000,9,  -999.00,-999.0000,9, -999.00,9, -999.00,9,  -999.0,9,  -999.0, -999.00,9, -999.00,9, -999.00,9, -999.00,9,   1.4308, -999.00
096U20160426,       P15S,     127,          1,          9,       2009,2,20160620,       1858,    -6.5003,  -168.7491,       5551,  3271.0,   1.5710,  34.6830,2,  34.6829,2,    155.0,2,   156.7,2,  133.83,2,   35.28,2,    0.00,4,    2.44,2,-999.000,9,-999.000,9,-999.000,9,  -999.0,9,  -999.0,9,-999.0000,9,  -999.00,-999.0000,9, -999.00,9, -999.00,9,  -999.0,9,  -999.0, -999.00,9, -999.00,9, -999.00,9, -999.00,9,   1.3261, -999.00
096U20160426,       P15S,     127,          1,          8,       2008,2,20160620,       1858,    -6.5003,  -168.7491,       5551,  3585.1,   1.4870,  34.6880,2,  34.6882,2,    161.3,2,   163.5,2,  132.83,2,   34.86,2,    0.00,4,    2.41,2,-999.000,9,-999.000,9,-999.000,9,  -999.0,9,  -999.0,9,-999.0000,9,  -999.00,-999.0000,9, -999.00,9, -999.00,9,  -999.0,9,  -999.0, -999.00,9, -999.00,9, -999.00,9, -999.00,9,   1.2124, -999.00
096U20160426,       P15S,     127,          1,          7,       2007,2,20160620,       1858,    -6.5003,  -168.7491,       5551,  3950.6,   1.3960,  34.6940,2,  34.6928,2,    168.4,2,   170.2,2,  132.55,2,   34.47,2,    0.00,4,    2.38,2,-999.000,9,-999.000,9,-999.000,9,  -999.0,9,  -999.0,9,-999.0000,9,  -999.00,-999.0000,9, -999.00,9, -999.00,9,  -999.0,9,  -999.0, -999.00,9, -999.00,9, -999.00,9, -999.00,9,   1.0852, -999.00
096U20160426,       P15S,     127,          1,          6,       2006,2,20160620,       1858,    -6.5003,  -168.7491,       5551,  4361.0,   1.3430,  34.6980,2,  34.6978,2,    175.9,2,   178.4,2,  130.07,2,   33.94,2,    0.00,4,    2.33,2,-999.000,9,-999.000,9,-999.000,9,  -999.0,9,  -999.0,9,-999.0000,9,  -999.00,-999.0000,9, -999.00,9, -999.00,9,  -999.0,9,  -999.0, -999.00,9, -999.00,9, -999.00,9, -999.00,9,   0.9885, -999.00
096U20160426,       P15S,     127,          1,          5,       2005,2,20160620,       1858,    -6.5003,  -168.7491,       5551,  4760.4,   1.3010,  34.7020,2,  34.7020,2,    185.6,2,   186.6,2,  125.71,2,   33.29,2,    0.00,4,    2.29,2,-999.000,9,-999.000,9,-999.000,9,  -999.0,9,  -999.0,9,-999.0000,9,  -999.00,-999.0000,9, -999.00,9, -999.00,9,  -999.0,9,  -999.0, -999.00,9, -999.00,9, -999.00,9, -999.00,9,   0.9018, -999.00
096U20160426,       P15S,     127,          1,          4,       2004,2,20160620,       1858,    -6.5003,  -168.7491,       5551,  5155.4,   1.2230,  34.7060,2,  34.7061,2,    195.7,2,   197.2,2,  121.20,2,   32.54,2,    0.00,4,    2.24,2,-999.000,9,-999.000,9,-999.000,9,  -999.0,9,  -999.0,9,-999.0000,9,  -999.00,-999.0000,9, -999.00,9, -999.00,9,  -999.0,9,  -999.0, -999.00,9, -999.00,9, -999.00,9, -999.00,9,   0.7791, -999.00
096U20160426,       P15S,     127,          1,          3,       2003,2,20160620,       1858,    -6.5003,  -168.7491,       5551,  5505.2,   1.2380,  34.7070,2,  34.7074,2,    199.2,2,   199.5,2,  120.34,2,   32.46,2,    0.00,4,    2.23,2,-999.000,9,-999.000,9,-999.000,9,  -999.0,9,  -999.0,9,-999.0000,9,  -999.00,-999.0000,9, -999.00,9, -999.00,9,  -999.0,9,  -999.0, -999.00,9, -999.00,9, -999.00,9, -999.00,9,   0.7501, -999.00
096U20160426,       P15S,     127,          1,          2,       2002,2,20160620,       1858,    -6.5003,  -168.7491,       5551,  5590.1,   1.2460,  34.7070,2,  34.7070,2,    199.8,2,   199.7,2,  120.37,2,   32.41,2,    0.00,4,    2.23,2,-999.000,9,-999.000,9,-999.000,9,  -999.0,9,  -999.0,9,-999.0000,9,  -999.00,-999.0000,9, -999.00,9, -999.00,9,  -999.0,9,  -999.0, -999.00,9, -999.00,9, -999.00,9, -999.00,9,   0.7470, -999.00
096U20160426,       P15S,     127,          1,          1,       2001,2,20160620,       1858,    -6.5003,  -168.7491,       5551,  5642.9,   1.2510,  34.7070,2,  34.7076,2,    200.0,2,   200.0,2,  120.19,2,   32.39,2,    0.00,4,    2.23,2,-999.000,9,-999.000,9,-999.000,9,  -999.0,9,  -999.0,9,-999.0000,9,  -999.00,-999.0000,9, -999.00,9, -999.00,9,  -999.0,9,  -999.0, -999.00,9, -999.00,9, -999.00,9, -999.00,9,   0.7451, -999.00