BOTTLE,20230413CCHSIOENA
EXPOCODE,SECT_ID,STNNBR,CASTNO,SAMPNO,BTLNBR,BTLNBR_FLAG_W,DATE,TIME,LATITUDE,LONGITUDE,DEPTH,CTDPRS,CTDTMP,CTDSAL,CTDSAL_FLAG_W,SALNTY,SALNTY_FLAG_W,CTDOXY,CTDOXY_FLAG_W,OXYGEN,OXYGEN_FLAG_W,SILCAT,SILCAT_FLAG_W,NITRAT,NITRAT_FLAG_W,NITRIT,NITRIT_FLAG_W,PHSPHT,PHSPHT_FLAG_W,CFC-11,CFC-11_FLAG_W,CFC-12,CFC-12_FLAG_W,SF6,SF6_FLAG_W,TCARBN,TCARBN_FLAG_W,ALKALI,ALKALI_FLAG_W,PH_TOT,PH_TOT_FLAG_W,PH_TMP,HELIUM,HELIUM_FLAG_W,DELHE3,DELHE3_FLAG_W,DELC13,DELC13_FLAG_W,DELC14,DELC14_FLAG_W,C14ERR,POC,POC_FLAG_W,PON,PON_FLAG_W,CHLORA,CHLORA_FLAG_W,PPHYTN,PPHYTN_FLAG_W,THETA,DELHER
,,,,,,,,,,,METERS,DBAR,ITS-90,PSS-78,,PSS-78,,UMOL/KG,,UMOL/KG,,UMOL/KG,,UMOL/KG,,UMOL/KG,,UMOL/KG,,PMOL/KG,,PMOL/KG,,FMOL/KG,,UMOL/KG,,UMOL/KG,,,,DEG C,NMOL/KG,,PERCNT,,/MILLE,,/MILLE,,/MILLE,UG/KG,,UG/KG,,UG/KG,,UG/KG,,DEG C,PERCNT
096U20160426,       P15S,      56,          1,         36,       2036,2,20160530,       0204,   -40.3973,  -173.0220,       4592,     4.5,  15.4560,  35.1160,2,  35.1177,2,    243.4,2,   243.7,2,    0.25,2,    0.15,2,    0.10,2,    0.18,2,-999.000,9,-999.000,9,-999.000,9,  2072.6,2,  2316.4,2,-999.0000,9,  -999.00,-999.0000,9, -999.00,9, -999.00,9,  -999.0,9,  -999.0, -999.00,9, -999.00,9, -999.00,9, -999.00,9,  15.4553, -999.00
096U20160426,       P15S,      56,          1,         35,       2035,2,20160530,       0204,   -40.3973,  -173.0220,       4592,    35.6,  15.4620,  35.1160,2,  35.1169,2,    243.7,2,   243.6,2,    0.25,2,    0.15,2,    0.10,2,    0.18,2,-999.000,9,-999.000,9,-999.000,9,  -999.0,9,  -999.0,9,-999.0000,9,  -999.00,-999.0000,9, -999.00,9, -999.00,9,  -999.0,9,  -999.0, -999.00,9, -999.00,9, -999.00,9, -999.00,9,  15.4565, -999.00
096U20160426,       P15S,      56,          1,         34,       2034,2,20160530,       0204,   -40.3973,  -173.0220,       4592,    61.1,  15.4550,  35.1510,2,  35.1515,2,    243.1,2,   243.1,2,    0.33,2,    0.19,2,    0.12,2,    0.18,2,-999.000,9,-999.000,9,-999.000,9,  -999.0,9,  -999.0,9,-999.0000,9,  -999.00,-999.0000,9, -999.00,9, -999.00,9,  -999.0,9,  -999.0, -999.00,9, -999.00,9, -999.00,9, -999.00,9,  15.4456, -999.00
096U20160426,       P15S,      56,          1,         33,       2033,2,20160530,       0204,   -40.3973,  -173.0220,       4592,    86.8,  15.6370,  35.0580,2,  35.1350,2,    243.4,2,   241.2,2,    0.41,2,    0.91,2,    0.15,2,    0.23,2,-999.000,9,-999.000,9,-999.000,9,  -999.0,9,  -999.0,9,-999.0000,9,  -999.00,-999.0000,9, -999.00,9, -999.00,9,  -999.0,9,  -999.0, -999.00,9, -999.00,9, -999.00,9, -999.00,9,  15.6235, -999.00
096U20160426,       P15S,      56,          1,         32,       2032,2,20160530,       0204,   -40.3973,  -173.0220,       4592,   116.2,  12.1660,  34.9370,2,  34.9388,2,    235.5,2,   235.6,2,    1.24,2,    7.37,2,    0.02,2,    0.62,2,-999.000,9,-999.000,9,-999.000,9,  -999.0,9,  -999.0,9,-999.0000,9,  -999.00,-999.0000,9, -999.00,9, -999.00,9,  -999.0,9,  -999.0, -999.00,9, -999.00,9, -999.00,9, -999.00,9,  12.1508, -999.00
096U20160426,       P15S,      56,          1,         31,       2031,2,20160530,       0204,   -40.3973,  -173.0220,       4592,   165.7,  11.7300,  34.9720,2,  34.9695,2,    236.5,2,  -999.0,9,    1.95,2,    8.94,2,    0.02,2,    0.71,2,-999.000,9,-999.000,9,-999.000,9,  -999.0,9,  -999.0,9,-999.0000,9,  -999.00,-999.0000,9, -999.00,9, -999.00,9,  -999.0,9,  -999.0, -999.00,9, -999.00,9, -999.00,9, -999.00,9,  11.7087, -999.00
096U20160426,       P15S,      56,          1,         30,       2030,2,20160530,       0204,   -40.3973,  -173.0220,       4592,   217.4,  11.3780,  34.9350,2,  34.9290,2,    238.4,2,   238.0,2,    2.24,2,    9.77,2,    0.02,2,    0.76,2,-999.000,9,-999.000,9,-999.000,9,  -999.0,9,  -999.0,9,-999.0000,9,  -999.00,-999.0000,9, -999.00,9, -999.00,9,  -999.0,9,  -999.0, -999.00,9, -999.00,9, -999.00,9, -999.00,9,  11.3506, -999.00
096U20160426,       P15S,      56,          1,         29,       2029,2,20160530,       0204,   -40.3973,  -173.0220,       4592,   266.5,  10.5600,  34.7930,2,  34.7928,2,    234.8,2,   234.9,2,    2.51,2,   11.73,2,    0.02,4,    0.88,2,-999.000,9,-999.000,9,-999.000,9,  -999.0,9,  -999.0,9,-999.0000,9,  -999.00,-999.0000,9, -999.00,9, -999.00,9,  -999.0,9,  -999.0, -999.00,9, -999.00,9, -999.00,9, -999.00,9,  10.5280, -999.00
096U20160426,       P15S,      56,          1,         28,       2028,2,20160530,       0204,   -40.3973,  -173.0220,       4592,   315.8,  10.0080,  34.7280,2,  34.7273,2,    225.4,2,   225.6,2,    3.70,2,   14.72,2,    0.01,4,    1.05,2,-999.000,9,-999.000,9,-999.000,9,  -999.0,9,  -999.0,9,-999.0000,9,  -999.00,-999.0000,9, -999.00,9, -999.00,9,  -999.0,9,  -999.0, -999.00,9, -999.00,9, -999.00,9, -999.00,9,   9.9712, -999.00
096U20160426,       P15S,      56,          1,         27,       2027,2,20160530,       0204,   -40.3973,  -173.0220,       4592,   367.0,   9.5490,  34.6700,2,  34.6696,2,    219.8,2,   219.6,2,    4.64,2,   16.87,2,    0.01,4,    1.19,2,-999.000,9,-999.000,9,-999.000,9,  -999.0,9,  -999.0,9,-999.0000,9,  -999.00,-999.0000,9, -999.00,9, -999.00,9,  -999.0,9,  -999.0, -999.00,9, -999.00,9, -999.00,9, -999.00,9,   9.5074, -999.00
096U20160426,       P15S,      56,          1,         26,       2026,2,20160530,       0204,   -40.3973,  -173.0220,       4592,   416.2,   8.8840,  34.5890,2,  34.5873,2,    223.3,2,   222.8,2,    5.23,2,   18.53,2,    0.01,4,    1.29,2,-999.000,9,-999.000,9,-999.000,9,  -999.0,9,  -999.0,9,-999.0000,9,  -999.00,-999.0000,9, -999.00,9, -999.00,9,  -999.0,9,  -999.0, -999.00,9, -999.00,9, -999.00,9, -999.00,9,   8.8388, -999.00
096U20160426,       P15S,      56,          1,         25,       2025,2,20160530,       0204,   -40.3973,  -173.0220,       4592,   465.8,   8.4190,  34.5290,2,  34.5249,2,    228.6,2,   228.6,2,    5.02,2,   19.30,2,    0.01,4,    1.33,2,-999.000,9,-999.000,9,-999.000,9,  -999.0,9,  -999.0,9,-999.0000,9,  -999.00,-999.0000,9, -999.00,9, -999.00,9,  -999.0,9,  -999.0, -999.00,9, -999.00,9, -999.00,9, -999.00,9,   8.3699, -999.00
096U20160426,       P15S,      56,          1,         24,       2024,2,20160530,       0204,   -40.3973,  -173.0220,       4592,   535.8,   8.1130,  34.5150,2,  34.5157,2,    222.7,2,   221.8,2,    7.10,2,   20.87,2,    0.01,4,    1.44,2,-999.000,9,-999.000,9,-999.000,9,  2147.2,2,  2285.3,2,-999.0000,9,  -999.00,-999.0000,9, -999.00,9, -999.00,9,  -999.0,9,  -999.0, -999.00,9, -999.00,9, -999.00,9, -999.00,9,   8.0575, -999.00
096U20160426,       P15S,      56,          1,         23,       2023,2,20160530,       0204,   -40.3973,  -173.0220,       4592,   634.5,   7.5050,  34.4570,2,  34.4581,2,    223.7,2,   223.6,2,    8.43,2,   22.33,2,    0.01,4,    1.53,2,-999.000,9,-999.000,9,-999.000,9,  -999.0,9,  -999.0,9,-999.0000,9,  -999.00,-999.0000,9, -999.00,9, -999.00,9,  -999.0,9,  -999.0, -999.00,9, -999.00,9, -999.00,9, -999.00,9,   7.4418, -999.00
096U20160426,       P15S,      56,          1,         22,       2022,2,20160530,       0204,   -40.3973,  -173.0220,       4592,   734.3,   7.0160,  34.4070,2,  34.4061,2,    226.6,2,   226.7,2,    9.55,2,   23.47,2,    0.01,4,    1.60,2,-999.000,9,-999.000,9,-999.000,9,  -999.0,9,  -999.0,9,-999.0000,9,  -999.00,-999.0000,9, -999.00,9, -999.00,9,  -999.0,9,  -999.0, -999.00,9, -999.00,9, -999.00,9, -999.00,9,   6.9451, -999.00
096U20160426,       P15S,      56,          1,         21,       2021,2,20160530,       0204,   -40.3973,  -173.0220,       4592,   835.0,   6.6320,  34.3940,2,  34.3984,2,    219.2,2,   219.0,2,   12.79,2,   24.92,2,    0.01,4,    1.70,2,-999.000,9,-999.000,9,-999.000,9,  -999.0,9,  -999.0,9,-999.0000,9,  -999.00,-999.0000,9, -999.00,9, -999.00,9,  -999.0,9,  -999.0, -999.00,9, -999.00,9, -999.00,9, -999.00,9,   6.5533, -999.00
096U20160426,       P15S,      56,          1,         20,       2020,2,20160530,       0204,   -40.3973,  -173.0220,       4592,   935.4,   6.1350,  34.3700,2,  34.3704,2,    213.6,2,   213.9,2,   16.56,2,   26.49,2,    0.01,4,    1.81,2,-999.000,9,-999.000,9,-999.000,9,  -999.0,9,  -999.0,9,-999.0000,9,  -999.00,-999.0000,9, -999.00,9, -999.00,9,  -999.0,9,  -999.0, -999.00,9, -999.00,9, -999.00,9, -999.00,9,   6.0497, -999.00
096U20160426,       P15S,      56,          1,         19,       2019,2,20160530,       0204,   -40.3973,  -173.0220,       4592,  1035.9,   5.6320,  34.3740,2,  34.3748,2,    203.8,2,   203.8,2,   23.26,2,   28.28,2,    0.01,4,    1.93,2,-999.000,9,-999.000,9,-999.000,9,  -999.0,9,  -999.0,9,-999.0000,9,  -999.00,-999.0000,9, -999.00,9, -999.00,9,  -999.0,9,  -999.0, -999.00,9, -999.00,9, -999.00,9, -999.00,9,   5.5407, -999.00
096U20160426,       P15S,      56,          1,         18,       2018,2,20160530,       0204,   -40.3973,  -173.0220,       4592,  1135.0,   5.1180,  34.3860,2,  34.3864,2,    195.9,2,   195.9,2,   30.62,2,   29.72,2,    0.01,4,    2.04,2,-999.000,9,-999.000,9,-999.000,9,  -999.0,9,  -999.0,9,-999.0000,9,  -999.00,-999.0000,9, -999.00,9, -999.00,9,  -999.0,9,  -999.0, -999.00,9, -999.00,9, -999.00,9, -999.00,9,   5.0215, -999.00
096U20160426,       P15S,      56,          1,         17,       2017,2,20160530,       0204,   -40.3973,  -173.0220,       4592,  1236.4,   4.5950,  34.4240,2,  34.4276,2,    185.8,2,   185.7,2,   42.37,2,   31.10,2,    0.01,4,    2.14,2,-999.000,9,-999.000,9,-999.000,9,  -999.0,9,  -999.0,9,-999.0000,9,  -999.00,-999.0000,9, -999.00,9, -999.00,9,  -999.0,9,  -999.0, -999.00,9, -999.00,9, -999.00,9, -999.00,9,   4.4938, -999.00
096U20160426,       P15S,      56,          1,         16,       2016,2,20160530,       0204,   -40.3973,  -173.0220,       4592,  1337.3,   4.2400,  34.4490,2,  34.4503,2,    179.8,2,   179.3,2,   50.98,2,   31.92,2,    0.01,4,    2.21,2,-999.000,9,-999.000,9,-999.000,9,  -999.0,9,  -999.0,9,-999.0000,9,  -999.00,-999.0000,9, -999.00,9, -999.00,9,  -999.0,9,  -999.0, -999.00,9, -999.00,9, -999.00,9, -999.00,9,   4.1331, -999.00
096U20160426,       P15S,      56,          1,         15,       2015,2,20160530,       0204,   -40.3973,  -173.0220,       4592,  1435.4,   3.7840,  34.4800,2,  34.4793,2,    173.3,2,   172.7,2,   61.32,2,   32.91,2,    0.01,4,    2.28,2,-999.000,9,-999.000,9,-999.000,9,  -999.0,9,  -999.0,9,-999.0000,9,  -999.00,-999.0000,9, -999.00,9, -999.00,9,  -999.0,9,  -999.0, -999.00,9, -999.00,9, -999.00,9, -999.00,9,   3.6731, -999.00
096U20160426,       P15S,      56,          1,         14,       2014,2,20160530,       0204,   -40.3973,  -173.0220,       4592,  1536.4,   3.4340,  34.5180,2,  34.5177,2,    167.4,2,   166.4,2,   72.59,2,   33.57,2,    0.01,4,    2.34,2,   0.213,2,   0.110,2,    0.03,2,  2252.1,6,  2344.5,6,-999.0000,9,  -999.00,-999.0000,9, -999.00,9, -999.00,9,  -999.0,9,  -999.0, -999.00,9, -999.00,9, -999.00,9, -999.00,9,   3.3182, -999.00
096U20160426,       P15S,      56,          1,         13,       2013,2,20160530,       0204,   -40.3973,  -173.0220,       4592,  1667.9,   3.0480,  34.5560,2,  34.5558,2,    162.0,2,   161.1,2,   84.31,2,   34.15,2,    0.01,4,    2.39,2,-999.000,9,-999.000,9,-999.000,9,  -999.0,9,  -999.0,9,-999.0000,9,  -999.00,-999.0000,9, -999.00,9, -999.00,9,  -999.0,9,  -999.0, -999.00,9, -999.00,9, -999.00,9, -999.00,9,   2.9254, -999.00
096U20160426,       P15S,      56,          1,         12,       2012,2,20160530,       0204,   -40.3973,  -173.0220,       4592,  1865.5,   2.6610,  34.5970,2,  34.5973,2,    156.8,2,   155.5,2,   97.72,2,   34.80,2,    0.01,4,    2.44,2,   0.055,2,   0.032,2,       0,2,  2284.0,2,  2372.8,2,-999.0000,9,  -999.00,-999.0000,9, -999.00,9, -999.00,9,  -999.0,9,  -999.0, -999.00,9, -999.00,9, -999.00,9, -999.00,9,   2.5264, -999.00
096U20160426,       P15S,      56,          1,         11,       2011,2,20160530,       0204,   -40.3973,  -173.0220,       4592,  2085.3,   2.3650,  34.6260,2,  34.6255,2,    154.1,2,   152.6,2,  107.74,2,   35.16,2,    0.01,4,    2.47,2,-999.000,9,-999.000,9,-999.000,9,  -999.0,9,  -999.0,9,-999.0000,9,  -999.00,-999.0000,9, -999.00,9, -999.00,9,  -999.0,9,  -999.0, -999.00,9, -999.00,9, -999.00,9, -999.00,9,   2.2156, -999.00
096U20160426,       P15S,      56,          1,         10,       2010,2,20160530,       0204,   -40.3973,  -173.0220,       4592,  2300.3,   2.1780,  34.6450,2,  34.6444,2,    154.0,2,   152.2,2,  113.20,2,   35.23,2,    0.01,4,    2.47,2,-999.000,9,-999.000,9,-999.000,9,  -999.0,9,  -999.0,9,-999.0000,9,  -999.00,-999.0000,9, -999.00,9, -999.00,9,  -999.0,9,  -999.0, -999.00,9, -999.00,9, -999.00,9, -999.00,9,   2.0126, -999.00
096U20160426,       P15S,      56,          1,          9,       2009,2,20160530,       0204,   -40.3973,  -173.0220,       4592,  2586.2,   1.9740,  34.6750,2,  34.6754,2,    163.2,2,   162.5,2,  111.31,2,   34.32,2,    0.01,4,    2.40,2,   0.027,2,   0.016,2,       0,2,  2292.6,2,  2383.2,6,-999.0000,9,  -999.00,-999.0000,9, -999.00,9, -999.00,9,  -999.0,9,  -999.0, -999.00,9, -999.00,9, -999.00,9, -999.00,9,   1.7862, -999.00
096U20160426,       P15S,      56,          1,          8,       2008,2,20160530,       0204,   -40.3973,  -173.0220,       4592,  2836.2,   1.8360,  34.7130,2,  34.7121,2,    181.0,2,   180.6,2,  102.40,2,   32.56,2,    0.01,4,    2.26,2,-999.000,9,-999.000,9,-999.000,9,  -999.0,9,  -999.0,9,-999.0000,9,  -999.00,-999.0000,9, -999.00,9, -999.00,9,  -999.0,9,  -999.0, -999.00,9, -999.00,9, -999.00,9, -999.00,9,   1.6274, -999.00
096U20160426,       P15S,      56,          1,          7,       2007,2,20160530,       0204,   -40.3973,  -173.0220,       4592,  3101.2,   1.6340,  34.7270,2,  34.7264,2,    191.5,2,   192.0,2,  101.79,2,   31.77,2,    0.00,4,    2.20,2,-999.000,9,-999.000,9,-999.000,9,  -999.0,9,  -999.0,9,-999.0000,9,  -999.00,-999.0000,9, -999.00,9, -999.00,9,  -999.0,9,  -999.0, -999.00,9, -999.00,9, -999.00,9, -999.00,9,   1.4042, -999.00
096U20160426,       P15S,      56,          1,          6,       2006,2,20160530,       0204,   -40.3973,  -173.0220,       4592,  3401.4,   1.4200,  34.7270,2,  34.7264,2,    198.1,2,   198.6,2,  106.11,2,   31.68,2,    0.00,4,    2.19,2,   0.094,2,   0.049,2,       0,2,  2260.1,2,  2361.1,2,-999.0000,9,  -999.00,-999.0000,9, -999.00,9, -999.00,9,  -999.0,9,  -999.0, -999.00,9, -999.00,9, -999.00,9, -999.00,9,   1.1655, -999.00
096U20160426,       P15S,      56,          1,          5,       2005,2,20160530,       0204,   -40.3973,  -173.0220,       4592,  3701.8,   1.1960,  34.7200,2,  34.7180,2,    202.3,2,   202.7,2,  112.67,2,   31.89,2,    0.01,4,    2.21,2,-999.000,9,-999.000,9,-999.000,9,  -999.0,9,  -999.0,9,-999.0000,9,  -999.00,-999.0000,9, -999.00,9, -999.00,9,  -999.0,9,  -999.0, -999.00,9, -999.00,9, -999.00,9, -999.00,9,   0.9167, -999.00
096U20160426,       P15S,      56,          1,          4,       2004,2,20160530,       0204,   -40.3973,  -173.0220,       4592,  3999.3,   1.0310,  34.7120,2,  34.7112,2,    205.4,2,   205.6,2,  117.87,2,   32.14,2,    0.01,4,    2.22,2,   0.168,2,   0.082,2,   0.049,2,  2262.4,2,  2363.8,2,-999.0000,9,  -999.00,-999.0000,9, -999.00,9, -999.00,9,  -999.0,9,  -999.0, -999.00,9, -999.00,9, -999.00,9, -999.00,9,   0.7252, -999.00
096U20160426,       P15S,      56,          1,          3,       2003,2,20160530,       0204,   -40.3973,  -173.0220,       4592,  4299.3,   0.9590,  34.7080,2,  34.7072,2,    207.4,2,   206.9,2,  120.62,2,   32.29,2,    0.01,4,    2.23,2,   0.208,2,   0.103,2,   0.062,2,  -999.0,9,  -999.0,9,-999.0000,9,  -999.00,-999.0000,9, -999.00,9, -999.00,9,  -999.0,9,  -999.0, -999.00,9, -999.00,9, -999.00,9, -999.00,9,   0.6230, -999.00
096U20160426,       P15S,      56,          1,          2,       2002,2,20160530,       0204,   -40.3973,  -173.0220,       4592,  4499.3,   0.9530,  34.7070,2,  34.7059,2,    207.9,2,   207.3,2,  121.80,2,   32.33,2,    0.01,4,    2.24,2,-999.000,9,-999.000,9,-999.000,9,  2264.0,2,  2363.3,2,-999.0000,9,  -999.00,-999.0000,9, -999.00,9, -999.00,9,  -999.0,9,  -999.0, -999.00,9, -999.00,9, -999.00,9, -999.00,9,   0.5949, -999.00
096U20160426,       P15S,      56,          1,          1,       2001,2,20160530,       0204,   -40.3973,  -173.0220,       4592,  4651.6,   0.9640,  34.7060,2,  34.7066,2,    207.9,2,   207.0,2,  122.04,2,   32.38,2,    0.01,4,    2.24,2,   0.239,6,   0.118,6,   0.064,6,  2267.1,2,  2366.4,2,-999.0000,9,  -999.00,-999.0000,9, -999.00,9, -999.00,9,  -999.0,9,  -999.0, -999.00,9, -999.00,9, -999.00,9, -999.00,9,   0.5883, -999.00