BOTTLE,20230413CCHSIOENA
EXPOCODE,SECT_ID,STNNBR,CASTNO,SAMPNO,BTLNBR,BTLNBR_FLAG_W,DATE,TIME,LATITUDE,LONGITUDE,DEPTH,CTDPRS,CTDTMP,CTDSAL,CTDSAL_FLAG_W,SALNTY,SALNTY_FLAG_W,CTDOXY,CTDOXY_FLAG_W,OXYGEN,OXYGEN_FLAG_W,SILCAT,SILCAT_FLAG_W,NITRAT,NITRAT_FLAG_W,NITRIT,NITRIT_FLAG_W,PHSPHT,PHSPHT_FLAG_W,CFC-11,CFC-11_FLAG_W,CFC-12,CFC-12_FLAG_W,SF6,SF6_FLAG_W,TCARBN,TCARBN_FLAG_W,ALKALI,ALKALI_FLAG_W,PH_TOT,PH_TOT_FLAG_W,PH_TMP,HELIUM,HELIUM_FLAG_W,DELHE3,DELHE3_FLAG_W,DELC13,DELC13_FLAG_W,DELC14,DELC14_FLAG_W,C14ERR,POC,POC_FLAG_W,PON,PON_FLAG_W,CHLORA,CHLORA_FLAG_W,PPHYTN,PPHYTN_FLAG_W,THETA,DELHER
,,,,,,,,,,,METERS,DBAR,ITS-90,PSS-78,,PSS-78,,UMOL/KG,,UMOL/KG,,UMOL/KG,,UMOL/KG,,UMOL/KG,,UMOL/KG,,PMOL/KG,,PMOL/KG,,FMOL/KG,,UMOL/KG,,UMOL/KG,,,,DEG C,NMOL/KG,,PERCNT,,/MILLE,,/MILLE,,/MILLE,UG/KG,,UG/KG,,UG/KG,,UG/KG,,DEG C,PERCNT
096U20160426,       P15S,      66,          1,         36,       2036,2,20160602,       0210,   -36.0070,  -169.9949,       5081,     4.9,  18.1780,  35.5000,2,  35.5003,2,    234.1,2,   232.9,2,    0.35,2,    0.02,2,    0.00,4,    0.10,2,   2.231,2,   1.337,2,   1.756,2,  2064.4,2,  2330.7,2,-999.0000,9,  -999.00,-999.0000,9, -999.00,9,    1.39,2,    45.1,2,     2.0, -999.00,9, -999.00,9, -999.00,9, -999.00,9,  18.1772, -999.00
096U20160426,       P15S,      66,          1,         35,       2035,2,20160602,       0210,   -36.0070,  -169.9949,       5081,    20.1,  18.1790,  35.4990,2,  35.4990,2,    233.7,2,   232.7,2,    0.35,2,    0.02,2,    0.00,4,    0.10,2,   2.226,6,   1.337,6,   1.724,6,  2065.8,6,  2331.1,6,-999.0000,9,  -999.00,-999.0000,9, -999.00,9,    1.38,2,    46.2,2,     2.0, -999.00,9, -999.00,9, -999.00,9, -999.00,9,  18.1755, -999.00
096U20160426,       P15S,      66,          1,         34,       2034,2,20160602,       0210,   -36.0070,  -169.9949,       5081,    40.4,  18.1860,  35.5000,2,  35.4999,2,    234.0,2,   232.7,2,    0.35,2,    0.02,2,    0.00,4,    0.10,2,-999.000,9,-999.000,9,-999.000,9,  -999.0,9,  -999.0,9,-999.0000,9,  -999.00,-999.0000,9, -999.00,9, -999.00,9,  -999.0,9,  -999.0, -999.00,9, -999.00,9, -999.00,9, -999.00,9,  18.1790, -999.00
096U20160426,       P15S,      66,          1,         33,       2033,2,20160602,       0210,   -36.0070,  -169.9949,       5081,    66.3,  18.1990,  35.5050,2,  35.5024,2,    233.5,2,   232.4,2,    0.33,2,    0.02,2,    0.00,4,    0.10,2,   2.231,2,   1.338,2,   1.653,2,  2064.9,2,  2332.4,2,-999.0000,9,  -999.00,-999.0000,9, -999.00,9, -999.00,9,  -999.0,9,  -999.0, -999.00,9, -999.00,9, -999.00,9, -999.00,9,  18.1875, -999.00
096U20160426,       P15S,      66,          1,         32,       2032,2,20160602,       0210,   -36.0070,  -169.9949,       5081,    92.3,  15.3730,  35.2840,2,  35.2599,2,    239.1,2,   236.6,2,    0.88,2,    1.75,2,    0.13,2,    0.30,2,   2.630,2,   1.553,2,   1.816,2,  2087.9,2,  2317.4,2,-999.0000,9,  -999.00,-999.0000,9, -999.00,9,    1.11,2,    48.5,2,     2.0, -999.00,9, -999.00,9, -999.00,9, -999.00,9,  15.3588, -999.00
096U20160426,       P15S,      66,          1,         31,       2031,2,20160602,       0210,   -36.0070,  -169.9949,       5081,   136.0,  13.9090,  35.2380,2,  35.2227,2,    222.0,2,   220.9,2,    1.63,2,    6.02,2,    0.01,4,    0.52,2,   2.745,2,   1.591,2,   1.803,2,  2106.2,2,  2312.2,2,-999.0000,9,  -999.00,-999.0000,9, -999.00,9, -999.00,9,  -999.0,9,  -999.0, -999.00,9, -999.00,9, -999.00,9, -999.00,9,  13.8894, -999.00
096U20160426,       P15S,      66,          1,         30,       2030,2,20160602,       0210,   -36.0070,  -169.9949,       5081,   186.6,  12.8500,  35.1150,2,  35.0952,2,    226.4,2,   225.5,2,    1.93,2,    7.59,2,    0.01,4,    0.62,2,   2.877,2,   1.659,2,   1.764,2,  2112.7,2,  2307.4,2,-999.0000,9,  -999.00,-999.0000,9, -999.00,9,    1.02,2,    45.1,2,     2.0, -999.00,9, -999.00,9, -999.00,9, -999.00,9,  12.8245, -999.00
096U20160426,       P15S,      66,          1,         29,       2029,2,20160602,       0210,   -36.0070,  -169.9949,       5081,   236.8,  11.3230,  34.8540,2,  34.8190,2,    221.4,2,   220.8,2,    2.53,2,   11.90,2,    0.00,4,    0.88,2,   3.146,2,   1.778,2,   1.599,2,  2124.1,2,  2295.3,2,-999.0000,9,  -999.00,-999.0000,9, -999.00,9,    1.10,2,    40.7,2,     2.0, -999.00,9, -999.00,9, -999.00,9, -999.00,9,  11.2933, -999.00
096U20160426,       P15S,      66,          1,         28,       2028,2,20160602,       0210,   -36.0070,  -169.9949,       5081,   286.3,  10.6260,  34.7970,2,  34.7409,2,    219.2,2,   216.9,2,    3.52,2,   14.75,2,    0.00,4,    1.05,2,   3.225,2,   1.781,2,   1.511,2,  2134.2,2,  2292.2,2,-999.0000,9,  -999.00,-999.0000,9, -999.00,9,    1.11,2,    29.2,2,     2.0, -999.00,9, -999.00,9, -999.00,9, -999.00,9,  10.5914, -999.00
096U20160426,       P15S,      66,          1,         27,       2027,2,20160602,       0210,   -36.0070,  -169.9949,       5081,   336.2,   9.6120,  34.6630,2,  34.6492,2,    220.5,2,   219.4,2,    4.04,2,   16.56,2,    0.00,4,    1.16,2,   3.338,2,   1.826,2,   1.403,2,  2136.9,2,  2288.1,2,-999.0000,9,  -999.00,-999.0000,9, -999.00,9,    1.11,2,    28.8,2,     2.0, -999.00,9, -999.00,9, -999.00,9, -999.00,9,   9.5738, -999.00
096U20160426,       P15S,      66,          1,         26,       2026,2,20160602,       0210,   -36.0070,  -169.9949,       5081,   385.7,   8.8050,  34.5680,2,  34.5592,2,    227.6,2,   227.6,2,    4.43,2,   18.02,2,    0.00,4,    1.25,2,-999.000,9,-999.000,9,-999.000,9,  2140.3,2,  2285.7,2,-999.0000,9,  -999.00,-999.0000,9, -999.00,9, -999.00,9,  -999.0,9,  -999.0, -999.00,9, -999.00,9, -999.00,9, -999.00,9,   8.7634, -999.00
096U20160426,       P15S,      66,          1,         25,       2025,2,20160602,       0210,   -36.0070,  -169.9949,       5081,   466.1,   7.9730,  34.4800,2,  34.4766,2,    232.1,2,   231.6,2,    5.45,2,   20.06,2,    0.00,4,    1.38,2,   3.595,2,   1.918,2,   1.305,2,  2142.9,2,  2283.1,2,-999.0000,9,  -999.00,-999.0000,9, -999.00,9,    1.20,2,    21.4,2,     2.0, -999.00,9, -999.00,9, -999.00,9, -999.00,9,   7.9255, -999.00
096U20160426,       P15S,      66,          1,         24,       2024,2,20160602,       0210,   -36.0070,  -169.9949,       5081,   565.6,   7.3700,  34.4230,2,  34.4238,2,    232.7,2,   232.2,2,    6.55,2,   21.67,2,    0.00,4,    1.48,2,   3.538,2,   1.822,2,   0.963,2,  2144.8,2,  2281.8,6,-999.0000,9,  -999.00,-999.0000,9, -999.00,9,    1.25,2,    20.1,2,     2.0, -999.00,9, -999.00,9, -999.00,9, -999.00,9,   7.3145, -999.00
096U20160426,       P15S,      66,          1,         23,       2023,2,20160602,       0210,   -36.0070,  -169.9949,       5081,   665.9,   6.9190,  34.3830,2,  34.3813,2,    233.1,2,   232.4,2,    8.10,2,   22.97,2,    0.00,4,    1.57,2,-999.000,9,-999.000,9,-999.000,9,  -999.0,9,  -999.0,9,-999.0000,9,  -999.00,-999.0000,9, -999.00,9, -999.00,9,  -999.0,9,  -999.0, -999.00,9, -999.00,9, -999.00,9, -999.00,9,   6.8555, -999.00
096U20160426,       P15S,      66,          1,         22,       2022,2,20160602,       0210,   -36.0070,  -169.9949,       5081,   765.8,   6.4730,  34.3570,2,  34.3565,2,    229.3,2,   229.0,2,   10.22,2,   24.28,2,    0.00,4,    1.65,2,   2.805,2,   1.386,2,   0.618,2,  2152.7,2,  2282.9,2,-999.0000,9,  -999.00,-999.0000,9, -999.00,9,    1.31,2,    -3.7,2,     2.0, -999.00,9, -999.00,9, -999.00,9, -999.00,9,   6.4021, -999.00
096U20160426,       P15S,      66,          1,         21,       2021,2,20160602,       0210,   -36.0070,  -169.9949,       5081,   866.3,   6.0950,  34.3420,2,  34.3434,2,    222.1,2,   221.8,2,   13.46,2,   25.80,2,    0.00,4,    1.75,2,   2.300,2,   1.130,2,   0.403,2,  2159.8,2,  2283.8,2,-999.0000,9,  -999.00,-999.0000,9, -999.00,9,    1.30,2,   -23.9,2,     2.0, -999.00,9, -999.00,9, -999.00,9, -999.00,9,   6.0167, -999.00
096U20160426,       P15S,      66,          1,         20,       2020,2,20160602,       0210,   -36.0070,  -169.9949,       5081,   966.2,   5.4480,  34.3380,2,  34.3399,2,    210.1,2,   208.8,2,   20.97,2,   28.18,2,    0.00,4,    1.92,2,   1.637,2,   0.814,2,   0.317,2,  2176.3,6,  2290.7,6,-999.0000,9,  -999.00,-999.0000,9, -999.00,9, -999.00,9,  -999.0,9,  -999.0, -999.00,9, -999.00,9, -999.00,9, -999.00,9,   5.3647, -999.00
096U20160426,       P15S,      66,          1,         19,       2019,2,20160602,       0210,   -36.0070,  -169.9949,       5081,  1066.0,   4.9660,  34.3510,2,  34.3538,2,    201.0,2,   199.8,2,   27.98,2,   29.70,2,   -0.01,4,    2.03,2,   1.246,2,   0.604,2,   0.214,2,  2187.7,2,  2296.3,2,-999.0000,9,  -999.00,-999.0000,9, -999.00,9,    1.08,2,   -71.8,2,     2.0, -999.00,9, -999.00,9, -999.00,9, -999.00,9,   4.8772, -999.00
096U20160426,       P15S,      66,          1,         18,       2018,2,20160602,       0210,   -36.0070,  -169.9949,       5081,  1166.9,   4.3430,  34.3730,2,  34.3750,2,    191.3,2,   191.2,2,   37.66,2,   31.28,2,   -0.01,4,    2.15,2,   0.777,2,   0.385,2,   0.133,2,  2205.2,2,  2306.0,2,-999.0000,9,  -999.00,-999.0000,9, -999.00,9,    0.98,2,   -97.0,2,     2.0, -999.00,9, -999.00,9, -999.00,9, -999.00,9,   4.2504, -999.00
096U20160426,       P15S,      66,          1,         17,       2017,2,20160602,       0210,   -36.0070,  -169.9949,       5081,  1267.2,   3.8860,  34.3980,2,  34.4004,2,    185.6,2,   184.7,2,   45.88,2,   32.31,2,    0.00,4,    2.23,2,   0.531,2,   0.267,2,   0.123,2,  2217.9,2,  2314.2,2,-999.0000,9,  -999.00,-999.0000,9, -999.00,9,    0.88,2,  -115.1,2,     2.0, -999.00,9, -999.00,9, -999.00,9, -999.00,9,   3.7889, -999.00
096U20160426,       P15S,      66,          1,         16,       2016,2,20160602,       0210,   -36.0070,  -169.9949,       5081,  1337.7,   3.5770,  34.4260,2,  34.4261,2,    179.8,2,   179.3,2,   52.62,2,   32.95,2,    0.00,4,    2.28,2,   0.357,2,   0.181,2,   0.044,2,  2226.1,2,  2321.2,2,-999.0000,9,  -999.00,-999.0000,9, -999.00,9,    0.72,2,  -128.9,2,     2.0, -999.00,9, -999.00,9, -999.00,9, -999.00,9,   3.4769, -999.00
096U20160426,       P15S,      66,          1,         15,       2015,2,20160602,       0210,   -36.0070,  -169.9949,       5081,  1536.0,   3.0060,  34.5130,2,  34.5114,2,    166.7,2,   165.8,2,   72.29,2,   34.06,2,    0.00,4,    2.37,2,   0.088,2,   0.049,2,   0.064,3,  2255.7,2,  2340.8,6,-999.0000,9,  -999.00,-999.0000,9, -999.00,9,    0.56,2,  -159.8,2,     2.0, -999.00,9, -999.00,9, -999.00,9, -999.00,9,   2.8952, -999.00
096U20160426,       P15S,      66,          1,         14,       2014,2,20160602,       0210,   -36.0070,  -169.9949,       5081,  1736.7,   2.6590,  34.5740,2,  34.5750,2,    158.4,2,   157.4,2,   88.86,2,   34.63,2,    0.00,4,    2.41,2,   0.020,2,   0.014,2,   0.055,3,  2275.7,2,  2365.1,2,-999.0000,9,  -999.00,-999.0000,9, -999.00,9, -999.00,9,  -999.0,9,  -999.0, -999.00,9, -999.00,9, -999.00,9, -999.00,9,   2.5355, -999.00
096U20160426,       P15S,      66,          1,         13,       2013,2,20160602,       0210,   -36.0070,  -169.9949,       5081,  1936.9,   2.4390,  34.6090,2,  34.6087,2,    153.5,2,   152.8,2,  100.50,2,   34.95,2,    0.00,4,    2.45,2,   0.012,2,   0.009,2,   0.071,3,  2287.3,2,  2377.2,2,-999.0000,9,  -999.00,-999.0000,9, -999.00,9, -999.00,9,  -999.0,9,  -999.0, -999.00,9, -999.00,9, -999.00,9, -999.00,9,   2.3014, -999.00
096U20160426,       P15S,      66,          1,         12,       2012,2,20160602,       0210,   -36.0070,  -169.9949,       5081,  2166.5,   2.2720,  34.6290,2,  34.6286,2,    151.2,2,   150.4,2,  108.41,2,   35.15,2,    0.00,4,    2.47,2,   0.004,2,   0.005,2,       0,2,  2298.3,2,  2385.4,2,-999.0000,9,  -999.00,-999.0000,9, -999.00,9, -999.00,9,  -999.0,9,  -999.0, -999.00,9, -999.00,9, -999.00,9, -999.00,9,   2.1169, -999.00
096U20160426,       P15S,      66,          1,         11,       2011,2,20160602,       0210,   -36.0070,  -169.9949,       5081,  2416.1,   2.1490,  34.6410,2,  34.6409,2,    149.6,2,   148.8,2,  114.06,2,   35.40,2,    0.00,4,    2.48,2,-999.000,9,-999.000,9,-999.000,9,  -999.0,9,  -999.0,9,-999.0000,9,  -999.00,-999.0000,9, -999.00,9, -999.00,9,  -999.0,9,  -999.0, -999.00,9, -999.00,9, -999.00,9, -999.00,9,   1.9736, -999.00
096U20160426,       P15S,      66,          1,         10,       2010,2,20160602,       0210,   -36.0070,  -169.9949,       5081,  2666.7,   2.0080,  34.6540,2,  34.6532,2,    149.6,2,   148.5,2,  119.86,2,   35.48,2,    0.00,4,    2.49,2,   0.002,2,   0.003,2,   0.059,3,  2309.3,2,  2397.2,2,-999.0000,9,  -999.00,-999.0000,9, -999.00,9, -999.00,9,  -999.0,9,  -999.0, -999.00,9, -999.00,9, -999.00,9, -999.00,9,   1.8121, -999.00
096U20160426,       P15S,      66,          1,          9,       2009,2,20160602,       0210,   -36.0070,  -169.9949,       5081,  2915.6,   1.8830,  34.6670,2,  34.6672,2,    153.4,2,   152.2,2,  121.99,2,   35.24,2,    0.00,4,    2.47,2,   0.008,2,   0.006,2,   0.059,3,  2309.8,2,  2395.6,2,-999.0000,9,  -999.00,-999.0000,9, -999.00,9, -999.00,9,  -999.0,9,  -999.0, -999.00,9, -999.00,9, -999.00,9, -999.00,9,   1.6660, -999.00
096U20160426,       P15S,      66,          1,          8,       2008,2,20160602,       0210,   -36.0070,  -169.9949,       5081,  3200.7,   1.7550,  34.6910,2,  34.6911,2,    167.5,2,   167.8,2,  115.22,2,   33.81,2,    0.00,4,    2.36,2,-999.000,9,-999.000,9,-999.000,9,  -999.0,9,  -999.0,9,-999.0000,9,  -999.00,-999.0000,9, -999.00,9, -999.00,9,  -999.0,9,  -999.0, -999.00,9, -999.00,9, -999.00,9, -999.00,9,   1.5128, -999.00
096U20160426,       P15S,      66,          1,          7,       2007,2,20160602,       0210,   -36.0070,  -169.9949,       5081,  3501.1,   1.5920,  34.7130,2,  34.7135,2,    185.8,2,   186.1,2,  107.43,2,   32.28,2,    0.00,4,    2.24,2,   0.031,6,   0.018,6,   0.034,3,  2272.1,2,  2371.3,2,-999.0000,9,  -999.00,-999.0000,9, -999.00,9, -999.00,9,  -999.0,9,  -999.0, -999.00,9, -999.00,9, -999.00,9, -999.00,9,   1.3232, -999.00
096U20160426,       P15S,      66,          1,          6,       2006,2,20160602,       0210,   -36.0070,  -169.9949,       5081,  3800.8,   1.3780,  34.7200,2,  34.7197,2,    197.0,2,   197.4,2,  107.54,2,   31.69,2,    0.00,4,    2.19,2,-999.000,9,-999.000,9,-999.000,9,  -999.0,9,  -999.0,9,-999.0000,9,  -999.00,-999.0000,9, -999.00,9, -999.00,9,  -999.0,9,  -999.0, -999.00,9, -999.00,9, -999.00,9, -999.00,9,   1.0835, -999.00
096U20160426,       P15S,      66,          1,          5,       2005,2,20160602,       0210,   -36.0070,  -169.9949,       5081,  4100.9,   1.2080,  34.7170,2,  34.7164,2,    202.2,2,   202.4,2,  111.58,2,   31.73,2,    0.00,4,    2.19,2,   0.075,2,   0.039,2,   0.061,3,  2260.9,2,  2365.3,2,-999.0000,9,  -999.00,-999.0000,9, -999.00,9, -999.00,9,  -999.0,9,  -999.0, -999.00,9, -999.00,9, -999.00,9, -999.00,9,   0.8862, -999.00
096U20160426,       P15S,      66,          1,          4,       2004,2,20160602,       0210,   -36.0070,  -169.9949,       5081,  4475.7,   1.0710,  34.7120,2,  34.7111,2,    205.7,2,   205.4,2,  115.86,2,   31.90,2,    0.00,4,    2.20,2,   0.111,2,   0.057,2,       0,2,  2262.2,6,  2366.0,6,-999.0000,9,  -999.00,-999.0000,9, -999.00,9, -999.00,9,  -999.0,9,  -999.0, -999.00,9, -999.00,9, -999.00,9, -999.00,9,   0.7119, -999.00
096U20160426,       P15S,      66,          1,          3,       2003,2,20160602,       0210,   -36.0070,  -169.9949,       5081,  4850.8,   1.0510,  34.7090,2,  34.7088,2,    207.0,2,   206.1,2,  117.73,2,   31.95,2,    0.00,4,    2.21,2,   0.127,2,   0.066,2,   0.082,2,  2261.7,2,  2366.1,6,-999.0000,9,  -999.00,-999.0000,9, -999.00,9, -999.00,9,  -999.0,9,  -999.0, -999.00,9, -999.00,9, -999.00,9, -999.00,9,   0.6494, -999.00
096U20160426,       P15S,      66,          1,          2,       2002,2,20160602,       0210,   -36.0070,  -169.9949,       5081,  5051.0,   1.0610,  34.7090,2,  34.7083,2,    207.6,2,   206.2,2,  118.31,2,   32.00,2,    0.00,4,    2.21,2,   0.137,2,   0.069,2,   0.004,2,  2262.7,2,  2366.8,2,-999.0000,9,  -999.00,-999.0000,9, -999.00,9, -999.00,9,  -999.0,9,  -999.0, -999.00,9, -999.00,9, -999.00,9, -999.00,9,   0.6353, -999.00
096U20160426,       P15S,      66,          1,          1,       2001,2,20160602,       0210,   -36.0070,  -169.9949,       5081,  5154.9,   1.0690,  34.7080,2,  34.7083,2,    207.5,2,   206.6,2,  118.34,2,   31.98,2,    0.00,4,    2.21,2,   0.141,2,   0.072,2,   0.054,2,  2264.9,2,  2367.5,2,-999.0000,9,  -999.00,-999.0000,9, -999.00,9, -999.00,9,  -999.0,9,  -999.0, -999.00,9, -999.00,9, -999.00,9, -999.00,9,   0.6305, -999.00