BOTTLE,20230413CCHSIOENA
EXPOCODE,SECT_ID,STNNBR,CASTNO,SAMPNO,BTLNBR,BTLNBR_FLAG_W,DATE,TIME,LATITUDE,LONGITUDE,DEPTH,CTDPRS,CTDTMP,CTDSAL,CTDSAL_FLAG_W,SALNTY,SALNTY_FLAG_W,CTDOXY,CTDOXY_FLAG_W,OXYGEN,OXYGEN_FLAG_W,SILCAT,SILCAT_FLAG_W,NITRAT,NITRAT_FLAG_W,NITRIT,NITRIT_FLAG_W,PHSPHT,PHSPHT_FLAG_W,CFC-11,CFC-11_FLAG_W,CFC-12,CFC-12_FLAG_W,SF6,SF6_FLAG_W,TCARBN,TCARBN_FLAG_W,ALKALI,ALKALI_FLAG_W,PH_TOT,PH_TOT_FLAG_W,PH_TMP,HELIUM,HELIUM_FLAG_W,DELHE3,DELHE3_FLAG_W,DELC13,DELC13_FLAG_W,DELC14,DELC14_FLAG_W,C14ERR,POC,POC_FLAG_W,PON,PON_FLAG_W,CHLORA,CHLORA_FLAG_W,PPHYTN,PPHYTN_FLAG_W,THETA,DELHER
,,,,,,,,,,,METERS,DBAR,ITS-90,PSS-78,,PSS-78,,UMOL/KG,,UMOL/KG,,UMOL/KG,,UMOL/KG,,UMOL/KG,,UMOL/KG,,PMOL/KG,,PMOL/KG,,FMOL/KG,,UMOL/KG,,UMOL/KG,,,,DEG C,NMOL/KG,,PERCNT,,/MILLE,,/MILLE,,/MILLE,UG/KG,,UG/KG,,UG/KG,,UG/KG,,DEG C,PERCNT
096U20160426,       P15S,     120,          1,         36,       2036,2,20160618,       1821,    -9.9236,  -169.6302,       5215,     5.4,  29.8210,  34.5040,2,  34.5032,2,    187.7,2,   192.5,2,    0.29,2,   -0.01,4,    0.01,4,    0.14,2,   1.379,2,   0.887,2,   1.202,2,  1924.0,2,  2270.4,2,-999.0000,9,  -999.00,-999.0000,9, -999.00,9, -999.00,9,  -999.0,9,  -999.0, -999.00,9, -999.00,9,    0.21,2,    0.02,3,  29.8197, -999.00
096U20160426,       P15S,     120,          1,         35,       2035,2,20160618,       1821,    -9.9236,  -169.6302,       5215,    26.0,  29.8160,  34.5030,2,  34.5041,2,    187.9,2,   192.4,2,    0.28,2,   -0.01,4,    0.01,4,    0.14,2,-999.000,9,-999.000,9,-999.000,9,  -999.0,9,  -999.0,9,-999.0000,9,  -999.00,-999.0000,9, -999.00,9, -999.00,9,  -999.0,9,  -999.0, -999.00,9, -999.00,9,    0.18,2,    0.03,3,  29.8096, -999.00
096U20160426,       P15S,     120,          1,         34,       2034,2,20160618,       1821,    -9.9236,  -169.6302,       5215,    50.5,  29.8750,  34.5330,2,  34.7894,2,    186.7,2,   193.4,2,    0.32,2,    0.07,2,    0.04,2,    0.16,2,-999.000,9,-999.000,9,-999.000,9,  -999.0,9,  -999.0,9,-999.0000,9,  -999.00,-999.0000,9, -999.00,9, -999.00,9,  -999.0,9,  -999.0, -999.00,9, -999.00,9,    0.28,2,    0.02,3,  29.8625, -999.00
096U20160426,       P15S,     120,          1,         33,       2033,2,20160618,       1821,    -9.9236,  -169.6302,       5215,    75.2,  28.9850,  35.6900,2,  35.7654,2,    176.2,2,   174.0,2,    0.73,2,    1.99,2,    0.56,2,    0.42,2,   1.509,2,   0.974,2,   1.136,2,  2037.3,2,  2354.9,2,-999.0000,9,  -999.00,-999.0000,9, -999.00,9, -999.00,9,  -999.0,9,  -999.0, -999.00,9, -999.00,9,    0.72,2,   -0.08,3,  28.9668, -999.00
096U20160426,       P15S,     120,          1,         32,       2032,2,20160618,       1821,    -9.9236,  -169.6302,       5215,   100.8,  27.1880,  35.9760,2,  36.0031,2,    148.8,2,   149.8,2,    0.98,2,    4.20,2,    1.10,2,    0.60,2,   1.565,2,   1.023,2,   1.176,2,  2076.9,2,  2367.9,2,-999.0000,9,  -999.00,-999.0000,9, -999.00,9, -999.00,9,  -999.0,9,  -999.0, -999.00,9, -999.00,9,    0.85,2,    0.00,3,  27.1647, -999.00
096U20160426,       P15S,     120,          1,         31,       2031,2,20160618,       1821,    -9.9236,  -169.6302,       5215,   150.1,  24.1380,  36.2290,2,  36.1952,2,    147.0,2,   149.3,2,    0.72,2,    5.78,2,    0.20,2,    0.64,2,   1.760,2,   1.145,2,   1.257,2,  2113.7,2,  2381.7,2,-999.0000,9,  -999.00,-999.0000,9, -999.00,9, -999.00,9,  -999.0,9,  -999.0, -999.00,9, -999.00,9, -999.00,9, -999.00,9,  24.1061, -999.00
096U20160426,       P15S,     120,          1,         30,       2030,2,20160618,       1821,    -9.9236,  -169.6302,       5215,   201.3,  20.0600,  35.7590,2,  35.7146,2,    147.7,2,   147.2,2,    1.80,2,    8.46,2,    0.01,4,    0.82,2,-999.000,9,-999.000,9,-999.000,9,  -999.0,9,  -999.0,9,-999.0000,9,  -999.00,-999.0000,9, -999.00,9, -999.00,9,  -999.0,9,  -999.0, -999.00,9, -999.00,9, -999.00,9, -999.00,9,  20.0225, -999.00
096U20160426,       P15S,     120,          1,         29,       2029,2,20160618,       1821,    -9.9236,  -169.6302,       5215,   250.6,  15.9560,  35.2330,2,  35.1558,2,    110.4,2,   108.0,2,    7.54,2,   16.68,2,    0.01,4,    1.42,2,   1.875,2,   1.115,2,   0.814,2,  2173.4,2,  2318.9,2,-999.0000,9,  -999.00,-999.0000,9, -999.00,9, -999.00,9,  -999.0,9,  -999.0, -999.00,9, -999.00,9, -999.00,9, -999.00,9,  15.9163, -999.00
096U20160426,       P15S,     120,          1,         28,       2028,2,20160618,       1821,    -9.9236,  -169.6302,       5215,   300.3,  12.7770,  34.9250,2,  34.9087,2,     95.1,2,    93.0,2,   13.21,2,   22.45,2,    0.01,4,    1.74,2,   1.440,2,   0.818,2,   0.444,2,  2193.0,2,  2306.1,2,-999.0000,9,  -999.00,-999.0000,9, -999.00,9, -999.00,9,  -999.0,9,  -999.0, -999.00,9, -999.00,9, -999.00,9, -999.00,9,  12.7360, -999.00
096U20160426,       P15S,     120,          1,         27,       2027,2,20160618,       1821,    -9.9236,  -169.6302,       5215,   330.4,  11.8660,  34.8590,2,  34.8347,2,     97.6,2,    98.4,2,   15.55,2,   24.17,2,    0.01,4,    1.81,2,   1.260,2,   0.706,2,   0.341,2,  2197.5,2,  2303.7,6,-999.0000,9,  -999.00,-999.0000,9, -999.00,9, -999.00,9,  -999.0,9,  -999.0, -999.00,9, -999.00,9, -999.00,9, -999.00,9,  11.8230, -999.00
096U20160426,       P15S,     120,          1,         26,       2026,2,20160618,       1821,    -9.9236,  -169.6302,       5215,   400.9,   9.5550,  34.6890,2,  34.6761,2,    116.4,2,   116.7,2,   20.93,2,   27.11,2,    0.01,4,    1.94,2,   0.944,2,   0.513,2,   0.228,2,  2199.9,2,  2302.4,2,-999.0000,9,  -999.00,-999.0000,9, -999.00,9, -999.00,9,  -999.0,9,  -999.0, -999.00,9, -999.00,9, -999.00,9, -999.00,9,   9.5095, -999.00
096U20160426,       P15S,     120,          1,         25,       2025,2,20160618,       1821,    -9.9236,  -169.6302,       5215,   500.0,   7.6460,  34.5790,2,  34.5714,2,    129.8,2,   128.8,2,   29.27,2,   29.94,2,    0.00,4,    2.09,2,   0.639,6,   0.339,6,   0.137,6,  2212.6,2,  2303.6,2,-999.0000,9,  -999.00,-999.0000,9, -999.00,9, -999.00,9,  -999.0,9,  -999.0, -999.00,9, -999.00,9, -999.00,9, -999.00,9,   7.5960, -999.00
096U20160426,       P15S,     120,          1,         24,       2024,2,20160618,       1821,    -9.9236,  -169.6302,       5215,   601.1,   6.6530,  34.5340,2,  34.5340,2,    123.7,2,   122.6,2,   37.23,2,   32.40,2,    0.01,4,    2.26,2,-999.000,9,-999.000,9,-999.000,9,  -999.0,9,  -999.0,9,-999.0000,9,  -999.00,-999.0000,9, -999.00,9, -999.00,9,  -999.0,9,  -999.0, -999.00,9, -999.00,9, -999.00,9, -999.00,9,   6.5970, -999.00
096U20160426,       P15S,     120,          1,         23,       2023,2,20160618,       1821,    -9.9236,  -169.6302,       5215,   700.0,   5.8510,  34.5170,2,  34.5156,2,    123.6,2,   123.1,2,   46.03,2,   33.69,2,    0.01,4,    2.36,2,   0.225,2,   0.117,2,       0,2,  2239.9,6,  2316.1,6,-999.0000,9,  -999.00,-999.0000,9, -999.00,9, -999.00,9,  -999.0,9,  -999.0, -999.00,9, -999.00,9, -999.00,9, -999.00,9,   5.7896, -999.00
096U20160426,       P15S,     120,          1,         22,       2022,2,20160618,       1821,    -9.9236,  -169.6302,       5215,   800.4,   5.3870,  34.5140,2,  34.5136,2,    120.0,2,   119.3,2,   53.11,2,   34.77,2,    0.01,4,    2.44,2,-999.000,9,-999.000,9,-999.000,9,  -999.0,9,  -999.0,9,-999.0000,9,  -999.00,-999.0000,9, -999.00,9, -999.00,9,  -999.0,9,  -999.0, -999.00,9, -999.00,9, -999.00,9, -999.00,9,   5.3191, -999.00
096U20160426,       P15S,     120,          1,         21,       2021,2,20160618,       1821,    -9.9236,  -169.6302,       5215,   899.8,   4.8540,  34.5200,2,  34.5193,2,    115.2,2,   113.6,2,   62.61,2,   35.96,2,    0.01,4,    2.55,2,-999.000,9,-999.000,9,-999.000,9,  -999.0,9,  -999.0,9,-999.0000,9,  -999.00,-999.0000,9, -999.00,9, -999.00,9,  -999.0,9,  -999.0, -999.00,9, -999.00,9, -999.00,9, -999.00,9,   4.7807, -999.00
096U20160426,       P15S,     120,          1,         20,       2020,2,20160618,       1821,    -9.9236,  -169.6302,       5215,  1001.8,   4.4200,  34.5290,2,  34.5286,2,    115.5,2,   113.7,2,   70.85,2,   36.42,2,    0.01,4,    2.59,2,   0.022,2,   0.016,2,       0,2,  2274.6,2,  2341.5,2,-999.0000,9,  -999.00,-999.0000,9, -999.00,9, -999.00,9,  -999.0,9,  -999.0, -999.00,9, -999.00,9, -999.00,9, -999.00,9,   4.3409, -999.00
096U20160426,       P15S,     120,          1,         19,       2019,2,20160618,       1821,    -9.9236,  -169.6302,       5215,  1101.5,   4.1550,  34.5370,2,  34.5368,2,    116.4,2,   114.8,2,   76.07,2,   36.54,2,    0.00,4,    2.60,2,-999.000,9,-999.000,9,-999.000,9,  -999.0,9,  -999.0,9,-999.0000,9,  -999.00,-999.0000,9, -999.00,9, -999.00,9,  -999.0,9,  -999.0, -999.00,9, -999.00,9, -999.00,9, -999.00,9,   4.0694, -999.00
096U20160426,       P15S,     120,          1,         18,       2018,2,20160618,       1821,    -9.9236,  -169.6302,       5215,  1201.1,   3.8570,  34.5510,2,  34.5502,2,    116.1,2,   114.3,2,   83.83,2,   36.78,2,    0.00,4,    2.62,2,-999.000,9,-999.000,9,-999.000,9,  -999.0,9,  -999.0,9,-999.0000,9,  -999.00,-999.0000,9, -999.00,9, -999.00,9,  -999.0,9,  -999.0, -999.00,9, -999.00,9, -999.00,9, -999.00,9,   3.7655, -999.00
096U20160426,       P15S,     120,          1,         17,       2017,2,20160618,       1821,    -9.9236,  -169.6302,       5215,  1301.0,   3.5760,  34.5610,2,  34.5626,2,    118.8,2,   117.6,2,   89.80,2,   36.71,2,    0.01,4,    2.62,2,-999.000,9,-999.000,9,-999.000,9,  -999.0,9,  -999.0,9,-999.0000,9,  -999.00,-999.0000,9, -999.00,9, -999.00,9,  -999.0,9,  -999.0, -999.00,9, -999.00,9, -999.00,9, -999.00,9,   3.4787, -999.00
096U20160426,       P15S,     120,          1,         16,       2016,2,20160618,       1821,    -9.9236,  -169.6302,       5215,  1400.8,   3.2260,  34.5700,2,  34.5703,2,    128.6,2,   128.6,2,   93.69,2,   36.14,2,    0.00,4,    2.56,2,-999.000,9,-999.000,9,-999.000,9,  -999.0,9,  -999.0,9,-999.0000,9,  -999.00,-999.0000,9, -999.00,9, -999.00,9,  -999.0,9,  -999.0, -999.00,9, -999.00,9, -999.00,9, -999.00,9,   3.1239, -999.00
096U20160426,       P15S,     120,          1,         15,       2015,2,20160618,       1821,    -9.9236,  -169.6302,       5215,  1601.5,   2.7080,  34.5970,2,  34.5967,2,    137.3,2,   138.2,2,  103.09,2,   35.91,2,    0.00,4,    2.52,2,-999.000,9,-999.000,9,-999.000,9,  -999.0,9,  -999.0,9,-999.0000,9,  -999.00,-999.0000,9, -999.00,9, -999.00,9,  -999.0,9,  -999.0, -999.00,9, -999.00,9, -999.00,9, -999.00,9,   2.5951, -999.00
096U20160426,       P15S,     120,          1,         14,       2014,2,20160618,       1821,    -9.9236,  -169.6302,       5215,  1800.9,   2.3960,  34.6200,2,  34.6210,2,    138.2,2,   138.7,2,  112.73,2,   36.17,2,    0.00,4,    2.52,2,   0.000,2,   0.000,2,       0,2,  -999.0,9,  -999.0,9,-999.0000,9,  -999.00,-999.0000,9, -999.00,9, -999.00,9,  -999.0,9,  -999.0, -999.00,9, -999.00,9, -999.00,9, -999.00,9,   2.2705, -999.00
096U20160426,       P15S,     120,          1,         13,       2013,2,20160618,       1821,    -9.9236,  -169.6302,       5215,  2000.5,   2.1760,  34.6380,2,  34.6381,2,    137.9,2,   138.4,2,  120.57,2,   36.36,2,    0.00,4,    2.53,2,-999.000,9,-999.000,9,-999.000,9,  2316.4,2,  2397.1,2,-999.0000,9,  -999.00,-999.0000,9, -999.00,9, -999.00,9,  -999.0,9,  -999.0, -999.00,9, -999.00,9, -999.00,9, -999.00,9,   2.0368, -999.00
096U20160426,       P15S,     120,          1,         12,       2012,2,20160618,       1821,    -9.9236,  -169.6302,       5215,  2251.2,   1.9970,  34.6520,2,  34.6513,2,    137.0,2,   137.1,2,  128.15,2,   36.66,2,    0.00,4,    2.54,2,-999.000,9,-999.000,9,-999.000,9,  -999.0,9,  -999.0,9,-999.0000,9,  -999.00,-999.0000,9, -999.00,9, -999.00,9,  -999.0,9,  -999.0, -999.00,9, -999.00,9, -999.00,9, -999.00,9,   1.8390, -999.00
096U20160426,       P15S,     120,          1,         11,       2011,2,20160618,       1821,    -9.9236,  -169.6302,       5215,  2500.3,   1.8620,  34.6620,2,  34.6617,2,    140.1,2,   140.5,2,  131.61,2,   36.59,2,    0.01,4,    2.52,2,-999.000,9,-999.000,9,-999.000,9,  -999.0,9,  -999.0,9,-999.0000,9,  -999.00,-999.0000,9, -999.00,9, -999.00,9,  -999.0,9,  -999.0, -999.00,9, -999.00,9, -999.00,9, -999.00,9,   1.6842, -999.00
096U20160426,       P15S,     120,          1,         10,       2010,2,20160618,       1821,    -9.9236,  -169.6302,       5215,  2750.9,   1.7640,  34.6690,2,  34.6684,2,    143.3,2,   143.9,2,  133.49,2,   36.44,2,    0.01,4,    2.50,2,   0.002,2,   0.002,2,       0,2,  2322.7,2,  2412.7,2,-999.0000,9,  -999.00,-999.0000,9, -999.00,9, -999.00,9,  -999.0,9,  -999.0, -999.00,9, -999.00,9, -999.00,9, -999.00,9,   1.5651, -999.00
096U20160426,       P15S,     120,          1,          9,       2009,2,20160618,       1821,    -9.9236,  -169.6302,       5215,  3001.1,   1.6890,  34.6750,2,  34.6762,2,    148.0,2,   148.5,2,  133.51,2,   36.15,2,    0.01,4,    2.48,2,-999.000,9,-999.000,9,-999.000,9,  -999.0,9,  -999.0,9,-999.0000,9,  -999.00,-999.0000,9, -999.00,9, -999.00,9,  -999.0,9,  -999.0, -999.00,9, -999.00,9, -999.00,9, -999.00,9,   1.4679, -999.00
096U20160426,       P15S,     120,          1,          8,       2008,2,20160618,       1821,    -9.9236,  -169.6302,       5215,  3300.7,   1.6120,  34.6810,2,  34.6808,2,    154.1,2,   154.9,2,  132.91,2,   35.72,2,    0.01,4,    2.44,2,-999.000,9,-999.000,9,-999.000,9,  -999.0,9,  -999.0,9,-999.0000,9,  -999.00,-999.0000,9, -999.00,9, -999.00,9,  -999.0,9,  -999.0, -999.00,9, -999.00,9, -999.00,9, -999.00,9,   1.3632, -999.00
096U20160426,       P15S,     120,          1,          7,       2007,2,20160618,       1821,    -9.9236,  -169.6302,       5215,  3601.6,   1.5290,  34.6870,2,  34.6864,2,    160.7,2,   161.7,2,  132.23,2,   35.33,2,    0.00,4,    2.41,2,   0.008,2,   0.002,2,       0,2,  2313.6,2,  2407.5,2,-999.0000,9,  -999.00,-999.0000,9, -999.00,9, -999.00,9,  -999.0,9,  -999.0, -999.00,9, -999.00,9, -999.00,9, -999.00,9,   1.2516, -999.00
096U20160426,       P15S,     120,          1,          6,       2006,2,20160618,       1821,    -9.9236,  -169.6302,       5215,  3901.3,   1.4660,  34.6920,2,  34.6911,2,    167.3,2,   168.1,2,  130.29,2,   34.83,2,    0.01,4,    2.37,2,   0.009,2,   0.003,2,    0.02,2,  2305.9,2,  2403.3,2,-999.0000,9,  -999.00,-999.0000,9, -999.00,9, -999.00,9,  -999.0,9,  -999.0, -999.00,9, -999.00,9, -999.00,9, -999.00,9,   1.1586, -999.00
096U20160426,       P15S,     120,          1,          5,       2005,2,20160618,       1821,    -9.9236,  -169.6302,       5215,  4300.7,   1.1700,  34.7060,2,  34.7055,2,    192.6,2,   195.9,2,  119.70,2,   33.00,2,    0.00,4,    2.23,2,   0.030,2,   0.017,2,       0,2,  2271.8,2,  2374.8,2,-999.0000,9,  -999.00,-999.0000,9, -999.00,9, -999.00,9,  -999.0,9,  -999.0, -999.00,9, -999.00,9, -999.00,9, -999.00,9,   0.8275, -999.00
096U20160426,       P15S,     120,          1,          4,       2004,2,20160618,       1821,    -9.9236,  -169.6302,       5215,  4701.4,   1.0860,  34.7100,2,  34.7098,2,    201.6,2,   204.1,2,  117.33,2,   32.40,2,    0.01,4,    2.18,2,   0.060,2,   0.032,2,       0,2,  2265.0,2,  2366.1,2,-999.0000,9,  -999.00,-999.0000,9, -999.00,9, -999.00,9,  -999.0,9,  -999.0, -999.00,9, -999.00,9, -999.00,9, -999.00,9,   0.7007, -999.00
096U20160426,       P15S,     120,          1,          3,       2003,2,20160618,       1821,    -9.9236,  -169.6302,       5215,  5101.6,   1.1090,  34.7100,2,  34.7097,2,    203.5,2,   205.3,2,  117.93,2,   32.38,2,    0.01,4,    2.18,2,   0.063,2,   0.031,2,       0,2,  2261.8,2,  2364.6,2,-999.0000,9,  -999.00,-999.0000,9, -999.00,9, -999.00,9,  -999.0,9,  -999.0, -999.00,9, -999.00,9, -999.00,9, -999.00,9,   0.6756, -999.00
096U20160426,       P15S,     120,          1,          2,       2002,2,20160618,       1821,    -9.9236,  -169.6302,       5215,  5233.2,   1.1250,  34.7100,2,  34.7099,2,    203.9,2,   205.3,2,  117.92,2,   32.34,2,    0.01,4,    2.18,2,-999.000,9,-999.000,9,-999.000,9,  -999.0,9,  -999.0,9,-999.0000,9,  -999.00,-999.0000,9, -999.00,9, -999.00,9,  -999.0,9,  -999.0, -999.00,9, -999.00,9, -999.00,9, -999.00,9,   0.6750, -999.00
096U20160426,       P15S,     120,          1,          1,       2001,2,20160618,       1821,    -9.9236,  -169.6302,       5215,  5295.6,   1.1320,  34.7090,2,  34.7098,2,    204.1,2,   205.3,2,  117.90,2,   32.29,2,    0.01,4,    2.18,2,   0.062,2,   0.033,2,       0,2,  2264.8,6,  2365.2,6,-999.0000,9,  -999.00,-999.0000,9, -999.00,9, -999.00,9,  -999.0,9,  -999.0, -999.00,9, -999.00,9, -999.00,9, -999.00,9,   0.6741, -999.00