BOTTLE,20230413CCHSIOENA
EXPOCODE,SECT_ID,STNNBR,CASTNO,SAMPNO,BTLNBR,BTLNBR_FLAG_W,DATE,TIME,LATITUDE,LONGITUDE,DEPTH,CTDPRS,CTDTMP,CTDSAL,CTDSAL_FLAG_W,SALNTY,SALNTY_FLAG_W,CTDOXY,CTDOXY_FLAG_W,OXYGEN,OXYGEN_FLAG_W,SILCAT,SILCAT_FLAG_W,NITRAT,NITRAT_FLAG_W,NITRIT,NITRIT_FLAG_W,PHSPHT,PHSPHT_FLAG_W,CFC-11,CFC-11_FLAG_W,CFC-12,CFC-12_FLAG_W,SF6,SF6_FLAG_W,TCARBN,TCARBN_FLAG_W,ALKALI,ALKALI_FLAG_W,PH_TOT,PH_TOT_FLAG_W,PH_TMP,HELIUM,HELIUM_FLAG_W,DELHE3,DELHE3_FLAG_W,DELC13,DELC13_FLAG_W,DELC14,DELC14_FLAG_W,C14ERR,POC,POC_FLAG_W,PON,PON_FLAG_W,CHLORA,CHLORA_FLAG_W,PPHYTN,PPHYTN_FLAG_W,THETA,DELHER
,,,,,,,,,,,METERS,DBAR,ITS-90,PSS-78,,PSS-78,,UMOL/KG,,UMOL/KG,,UMOL/KG,,UMOL/KG,,UMOL/KG,,UMOL/KG,,PMOL/KG,,PMOL/KG,,FMOL/KG,,UMOL/KG,,UMOL/KG,,,,DEG C,NMOL/KG,,PERCNT,,/MILLE,,/MILLE,,/MILLE,UG/KG,,UG/KG,,UG/KG,,UG/KG,,DEG C,PERCNT
096U20160426,       P15S,      17,          1,         36,       2036,2,20160513,       0058,   -58.9972,  -170.0005,       4763,     6.1,   2.5190,  33.8920,2,  33.8920,2,    327.2,2,   320.1,2,   13.23,2,   26.37,2,    0.32,2,    1.84,2,-999.000,9,-999.000,9,-999.000,9,  2149.8,2,  2278.8,2,-999.0000,9,  -999.00,-999.0000,9, -999.00,9, -999.00,9,  -999.0,9,  -999.0, -999.00,9, -999.00,9, -999.00,9, -999.00,9,   2.5187, -999.00
096U20160426,       P15S,      17,          1,         35,       2035,2,20160513,       0058,   -58.9972,  -170.0005,       4763,    20.2,   2.5180,  33.8930,2,  33.8931,2,    326.8,2,   319.8,2,   13.26,2,   26.37,2,    0.32,2,    1.84,2,   5.102,6,   2.788,6,   3.118,6,  2147.2,2,  2278.8,2,-999.0000,9,  -999.00,-999.0000,9, -999.00,9, -999.00,9,  -999.0,9,  -999.0, -999.00,9, -999.00,9,    1.26,2,   -0.21,3,   2.5169, -999.00
096U20160426,       P15S,      17,          1,         34,       2034,2,20160513,       0058,   -58.9972,  -170.0005,       4763,    40.4,   2.5150,  33.8940,2,  33.8953,2,    326.8,2,   320.0,2,   13.29,2,   26.35,2,    0.32,2,    1.85,2,   5.107,2,   2.789,2,   3.073,2,  2150.4,6,  2278.5,6,-999.0000,9,  -999.00,-999.0000,9, -999.00,9, -999.00,9,  -999.0,9,  -999.0, -999.00,9, -999.00,9,    0.19,2,    0.19,3,   2.5128, -999.00
096U20160426,       P15S,      17,          1,         33,       2033,2,20160513,       0058,   -58.9972,  -170.0005,       4763,    65.2,   2.5130,  33.8990,2,  33.8991,2,    326.6,2,   319.6,2,   13.30,2,   26.39,2,    0.32,2,    1.85,2,   5.092,2,   2.796,2,   3.107,2,  2150.2,2,  2278.4,2,-999.0000,9,  -999.00,   1.7811,2,   -1.88,2, -999.00,9,  -999.0,9,  -999.0, -999.00,9, -999.00,9,    0.34,2,    0.06,3,   2.5094,    3.25
096U20160426,       P15S,      17,          1,         32,       2032,2,20160513,       0058,   -58.9972,  -170.0005,       4763,    91.4,   2.5060,  33.9010,2,  33.9013,2,    326.4,2,   319.9,2,   13.37,2,   26.38,2,    0.32,2,    1.85,2,   5.104,2,   2.789,2,   3.125,2,  2147.8,2,  2279.2,2,-999.0000,9,  -999.00,-999.0000,9, -999.00,9, -999.00,9,  -999.0,9,  -999.0, -999.00,9, -999.00,9,    0.28,2,    0.01,3,   2.5009, -999.00
096U20160426,       P15S,      17,          1,         31,       2031,2,20160513,       0058,   -58.9972,  -170.0005,       4763,   135.6,   2.4960,  33.9030,2,  33.9028,2,    326.0,2,   319.9,2,   13.52,2,   26.41,2,    0.32,2,    1.85,2,   5.056,2,   2.781,2,     3.1,2,  2151.7,2,  2279.3,2,-999.0000,9,  -999.00,-999.0000,9, -999.00,9, -999.00,9,  -999.0,9,  -999.0, -999.00,9, -999.00,9,    0.19,2,    0.13,3,   2.4884, -999.00
096U20160426,       P15S,      17,          1,         30,       2030,2,20160513,       0058,   -58.9972,  -170.0005,       4763,   187.6,   2.0400,  33.9830,2,  33.9850,2,    307.5,2,   301.1,2,   21.31,2,   28.74,2,    0.01,4,    1.97,2,   4.936,2,   2.669,2,    2.78,2,  2167.9,2,  2280.3,2,-999.0000,9,  -999.00,-999.0000,9, -999.00,9, -999.00,9,  -999.0,9,  -999.0, -999.00,9, -999.00,9, -999.00,9, -999.00,9,   2.0301, -999.00
096U20160426,       P15S,      17,          1,         29,       2029,2,20160513,       0058,   -58.9972,  -170.0005,       4763,   236.7,   2.1620,  34.0440,2,  34.0498,2,    289.2,2,   281.6,2,   26.95,2,   29.94,2,    0.01,4,    2.05,2,   4.548,2,   2.431,2,   2.347,2,  2180.3,2,  2286.2,2,-999.0000,9,  -999.00,-999.0000,9, -999.00,9, -999.00,9,  -999.0,9,  -999.0, -999.00,9, -999.00,9, -999.00,9, -999.00,9,   2.1492, -999.00
096U20160426,       P15S,      17,          1,         28,       2028,2,20160513,       0058,   -58.9972,  -170.0005,       4763,   287.4,   2.1320,  34.1050,2,  34.1120,2,    272.4,2,   265.0,2,   33.13,2,   31.17,2,    0.01,4,    2.13,2,   4.086,2,   2.187,2,   2.044,2,  2191.7,2,  2291.4,2,-999.0000,9,  -999.00,-999.0000,9, -999.00,9, -999.00,9,  -999.0,9,  -999.0, -999.00,9, -999.00,9, -999.00,9, -999.00,9,   2.1163, -999.00
096U20160426,       P15S,      17,          1,         27,       2027,2,20160513,       0058,   -58.9972,  -170.0005,       4763,   335.8,   2.5210,  34.2090,2,  34.2080,2,    239.5,2,   235.0,2,   39.65,2,   32.32,2,    0.01,4,    2.22,2,   3.371,2,   1.737,2,     1.4,2,  2206.8,2,  2298.3,2,-999.0000,9,  -999.00,-999.0000,9, -999.00,9, -999.00,9,  -999.0,9,  -999.0, -999.00,9, -999.00,9, -999.00,9, -999.00,9,   2.5014, -999.00
096U20160426,       P15S,      17,          1,         26,       2026,2,20160513,       0058,   -58.9972,  -170.0005,       4763,   387.2,   2.4300,  34.2450,2,  34.2490,2,    231.9,2,   226.3,2,   44.29,2,   32.97,2,    0.01,4,    2.26,2,   3.046,3,   1.569,3,   1.244,3,  2213.4,2,  2302.3,2,-999.0000,9,  -999.00,-999.0000,9, -999.00,9, -999.00,9,  -999.0,9,  -999.0, -999.00,9, -999.00,9, -999.00,9, -999.00,9,   2.4075, -999.00
096U20160426,       P15S,      17,          1,         25,       2025,2,20160513,       0058,   -58.9972,  -170.0005,       4763,   465.3,   2.5770,  34.3310,2,  34.3314,2,    209.5,2,   204.4,2,   51.42,2,   33.83,2,    0.01,4,    2.32,2,   2.309,2,   1.160,2,   0.828,2,  2226.3,2,  2309.8,6,-999.0000,9,  -999.00,-999.0000,9, -999.00,9, -999.00,9,  -999.0,9,  -999.0, -999.00,9, -999.00,9, -999.00,9, -999.00,9,   2.5491, -999.00
096U20160426,       P15S,      17,          1,         24,       2024,2,20160513,       0058,   -58.9972,  -170.0005,       4763,   563.4,   2.6580,  34.4230,2,  34.4234,2,    189.9,2,   185.2,2,   59.54,2,   34.37,2,    0.01,4,    2.36,2,   1.537,2,   0.760,2,   0.473,2,  2239.6,2,  2319.4,2,-999.0000,9,  -999.00,-999.0000,9, -999.00,9, -999.00,9,  -999.0,9,  -999.0, -999.00,9, -999.00,9, -999.00,9, -999.00,9,   2.6233, -999.00
096U20160426,       P15S,      17,          1,         23,       2023,2,20160513,       0058,   -58.9972,  -170.0005,       4763,   663.6,   2.5670,  34.4860,2,  34.4835,2,    181.9,2,   177.3,2,   65.34,2,   34.48,2,    0.01,4,    2.38,2,   1.138,2,   0.563,2,    0.33,2,  2246.2,2,  2324.6,2,-999.0000,9,  -999.00,-999.0000,9, -999.00,9, -999.00,9,  -999.0,9,  -999.0, -999.00,9, -999.00,9, -999.00,9, -999.00,9,   2.5260, -999.00
096U20160426,       P15S,      17,          1,         22,       2022,2,20160513,       0058,   -58.9972,  -170.0005,       4763,   764.5,   2.5270,  34.5300,2,  34.5322,2,    178.3,2,   173.8,2,   69.31,2,   34.29,2,    0.00,4,    2.36,2,   0.871,2,   0.424,2,   0.227,2,  2250.6,2,  2330.6,2,-999.0000,9,  -999.00,-999.0000,9, -999.00,9, -999.00,9,  -999.0,9,  -999.0, -999.00,9, -999.00,9, -999.00,9, -999.00,9,   2.4793, -999.00
096U20160426,       P15S,      17,          1,         21,       2021,2,20160513,       0058,   -58.9972,  -170.0005,       4763,   865.5,   2.4500,  34.5770,2,  34.5775,2,    177.1,2,   172.9,2,   72.49,2,   33.91,2,    0.00,4,    2.34,2,   0.659,2,   0.327,2,   0.191,2,  2252.9,2,  2333.8,2,-999.0000,9,  -999.00,   1.8535,2,    8.52,2, -999.00,9,  -999.0,9,  -999.0, -999.00,9, -999.00,9, -999.00,9, -999.00,9,   2.3958,    0.37
096U20160426,       P15S,      17,          1,         20,       2020,2,20160513,       0058,   -58.9972,  -170.0005,       4763,   965.2,   2.3790,  34.6200,2,  34.6193,2,    177.7,2,   173.5,2,   75.31,2,   33.41,2,    0.00,4,    2.30,2,   0.503,2,   0.253,2,   0.156,2,  2253.1,2,  2337.6,2,-999.0000,9,  -999.00,-999.0000,9, -999.00,9, -999.00,9,  -999.0,9,  -999.0, -999.00,9, -999.00,9, -999.00,9, -999.00,9,   2.3182, -999.00
096U20160426,       P15S,      17,          1,         19,       2019,2,20160513,       0058,   -58.9972,  -170.0005,       4763,  1065.7,   2.3320,  34.6530,2,  34.6529,2,    179.7,2,   176.0,2,   77.19,2,   32.82,2,    0.00,4,    2.26,2,   0.371,2,   0.185,2,   0.102,2,  2251.8,2,  2341.2,2,-999.0000,9,  -999.00,-999.0000,9, -999.00,9, -999.00,9,  -999.0,9,  -999.0, -999.00,9, -999.00,9, -999.00,9, -999.00,9,   2.2644, -999.00
096U20160426,       P15S,      17,          1,         18,       2018,2,20160513,       0058,   -58.9972,  -170.0005,       4763,  1164.6,   2.2690,  34.6750,2,  34.6754,2,    181.4,2,   177.4,2,   78.98,2,   32.43,2,    0.00,4,    2.23,2,   0.328,2,   0.165,2,   0.093,2,  2253.1,2,  2342.0,2,-999.0000,9,  -999.00,-999.0000,9, -999.00,9, -999.00,9,  -999.0,9,  -999.0, -999.00,9, -999.00,9, -999.00,9, -999.00,9,   2.1947, -999.00
096U20160426,       P15S,      17,          1,         17,       2017,2,20160513,       0058,   -58.9972,  -170.0005,       4763,  1266.2,   2.2050,  34.6950,2,  34.6971,2,    183.6,2,   180.0,2,   80.71,2,   32.07,2,    0.00,4,    2.21,2,   0.272,2,   0.138,2,   0.082,2,  2251.4,2,  2344.1,6,-999.0000,9,  -999.00,-999.0000,9, -999.00,9, -999.00,9,  -999.0,9,  -999.0, -999.00,9, -999.00,9, -999.00,9, -999.00,9,   2.1238, -999.00
096U20160426,       P15S,      17,          1,         16,       2016,2,20160513,       0058,   -58.9972,  -170.0005,       4763,  1362.2,   2.1590,  34.7080,2,  34.7081,2,    185.7,2,   182.3,2,   81.93,2,   31.76,2,    0.00,4,    2.19,2,   0.232,2,   0.117,2,   0.047,2,  2251.1,2,  2345.3,2,-999.0000,9,  -999.00,-999.0000,9, -999.00,9, -999.00,9,  -999.0,9,  -999.0, -999.00,9, -999.00,9, -999.00,9, -999.00,9,   2.0711, -999.00
096U20160426,       P15S,      17,          1,         15,       2015,2,20160513,       0058,   -58.9972,  -170.0005,       4763,  1467.0,   2.0920,  34.7200,2,  34.7203,2,    188.0,2,   184.6,2,   83.71,2,   31.46,2,    0.00,4,    2.16,2,   0.197,2,   0.099,2,       0,2,  2249.3,2,  2347.9,2,-999.0000,9,  -999.00,-999.0000,9, -999.00,9, -999.00,9,  -999.0,9,  -999.0, -999.00,9, -999.00,9, -999.00,9, -999.00,9,   1.9968, -999.00
096U20160426,       P15S,      17,          1,         14,       2014,2,20160513,       0058,   -58.9972,  -170.0005,       4763,  1563.4,   2.0290,  34.7270,2,  34.7274,2,    189.7,2,   186.7,2,   85.48,2,   31.35,2,    0.00,4,    2.15,2,   0.169,2,   0.085,2,       0,2,  2251.2,2,  2348.8,2,-999.0000,9,  -999.00,-999.0000,9, -999.00,9, -999.00,9,  -999.0,9,  -999.0, -999.00,9, -999.00,9, -999.00,9, -999.00,9,   1.9271, -999.00
096U20160426,       P15S,      17,          1,         13,       2013,2,20160513,       0058,   -58.9972,  -170.0005,       4763,  1735.5,   1.9050,  34.7360,2,  34.7357,2,    192.5,2,   190.1,2,   88.83,2,   31.09,2,    0.00,4,    2.14,2,   0.145,2,   0.074,2,   0.035,2,  2251.5,2,  2352.2,2,-999.0000,9,  -999.00,   1.8640,2,    9.56,2, -999.00,9,  -999.0,9,  -999.0, -999.00,9, -999.00,9, -999.00,9, -999.00,9,   1.7911,    0.30
096U20160426,       P15S,      17,          1,         12,       2012,2,20160513,       0058,   -58.9972,  -170.0005,       4763,  1901.1,   1.7630,  34.7380,2,  34.7382,2,    195.1,2,   193.0,2,   92.86,2,   31.04,2,    0.00,4,    2.14,2,   0.135,2,   0.066,2,       0,2,  2251.9,2,  2354.7,2,-999.0000,9,  -999.00,   1.8732,2,    9.88,2, -999.00,9,  -999.0,9,  -999.0, -999.00,9, -999.00,9, -999.00,9, -999.00,9,   1.6379,    0.31
096U20160426,       P15S,      17,          1,         11,       2011,2,20160513,       0058,   -58.9972,  -170.0005,       4763,  2101.6,   1.6120,  34.7370,2,  34.7374,2,    197.4,2,   195.5,2,   97.07,2,   31.15,2,    0.00,4,    2.14,2,   0.128,2,   0.064,2,   0.043,2,  2255.9,2,  2356.4,6,-999.0000,9,  -999.00,   1.8572,2,   10.05,2, -999.00,9,  -999.0,9,  -999.0, -999.00,9, -999.00,9, -999.00,9, -999.00,9,   1.4728,    0.29
096U20160426,       P15S,      17,          1,         10,       2010,2,20160513,       0058,   -58.9972,  -170.0005,       4763,  2301.3,   1.4700,  34.7340,2,  34.7334,2,    199.2,2,   197.7,2,  101.46,2,   31.25,2,    0.00,4,    2.16,2,   0.128,6,   0.063,6,       0,6,  2254.9,2,  2359.8,2,-999.0000,9,  -999.00,   1.9100,2,    9.82,2, -999.00,9,  -999.0,9,  -999.0, -999.00,9, -999.00,9, -999.00,9, -999.00,9,   1.3164,    2.91
096U20160426,       P15S,      17,          1,          9,       2009,2,20160513,       0058,   -58.9972,  -170.0005,       4763,  2502.7,   1.3260,  34.7290,2,  34.7293,2,    201.0,2,   199.8,2,  105.68,2,   31.42,2,    0.00,4,    2.17,2,   0.136,2,   0.068,2,    0.06,2,  2257.5,6,  2361.5,6,-999.0000,9,  -999.00,   1.8802,2,    9.54,2, -999.00,9,  -999.0,9,  -999.0, -999.00,9, -999.00,9, -999.00,9, -999.00,9,   1.1577,    0.47
096U20160426,       P15S,      17,          1,          8,       2008,2,20160513,       0058,   -58.9972,  -170.0005,       4763,  2900.3,   1.1230,  34.7200,2,  34.7194,2,    204.0,2,   203.0,2,  112.19,2,   31.69,2,    0.00,4,    2.19,2,-999.000,9,-999.000,9,-999.000,9,  2258.4,2,  2363.4,2,-999.0000,9,  -999.00,-999.0000,9, -999.00,9, -999.00,9,  -999.0,9,  -999.0, -999.00,9, -999.00,9, -999.00,9, -999.00,9,   0.9234, -999.00
096U20160426,       P15S,      17,          1,          1,       2001,2,20160513,       0058,   -58.9972,  -170.0005,       4763,  4755.9,   0.9460,  34.7040,2,  34.7049,2,    211.3,2,   207.9,2,  124.96,2,   32.20,2,    0.00,4,    2.23,2,   0.245,2,   0.119,2,    0.05,2,  2262.9,6,  2365.4,6,-999.0000,9,  -999.00,   1.8872,2,    9.15,2, -999.00,9,  -999.0,9,  -999.0, -999.00,9, -999.00,9, -999.00,9, -999.00,9,   0.5589,    0.47