BOTTLE,20230413CCHSIOENA
EXPOCODE,SECT_ID,STNNBR,CASTNO,SAMPNO,BTLNBR,BTLNBR_FLAG_W,DATE,TIME,LATITUDE,LONGITUDE,DEPTH,CTDPRS,CTDTMP,CTDSAL,CTDSAL_FLAG_W,SALNTY,SALNTY_FLAG_W,CTDOXY,CTDOXY_FLAG_W,OXYGEN,OXYGEN_FLAG_W,SILCAT,SILCAT_FLAG_W,NITRAT,NITRAT_FLAG_W,NITRIT,NITRIT_FLAG_W,PHSPHT,PHSPHT_FLAG_W,CFC-11,CFC-11_FLAG_W,CFC-12,CFC-12_FLAG_W,SF6,SF6_FLAG_W,TCARBN,TCARBN_FLAG_W,ALKALI,ALKALI_FLAG_W,PH_TOT,PH_TOT_FLAG_W,PH_TMP,HELIUM,HELIUM_FLAG_W,DELHE3,DELHE3_FLAG_W,DELC13,DELC13_FLAG_W,DELC14,DELC14_FLAG_W,C14ERR,POC,POC_FLAG_W,PON,PON_FLAG_W,CHLORA,CHLORA_FLAG_W,PPHYTN,PPHYTN_FLAG_W,THETA,DELHER
,,,,,,,,,,,METERS,DBAR,ITS-90,PSS-78,,PSS-78,,UMOL/KG,,UMOL/KG,,UMOL/KG,,UMOL/KG,,UMOL/KG,,UMOL/KG,,PMOL/KG,,PMOL/KG,,FMOL/KG,,UMOL/KG,,UMOL/KG,,,,DEG C,NMOL/KG,,PERCNT,,/MILLE,,/MILLE,,/MILLE,UG/KG,,UG/KG,,UG/KG,,UG/KG,,DEG C,PERCNT
096U20160426,       P15S,     110,          1,         36,       2036,2,20160616,       0450,   -14.2799,  -169.9960,       3545,     5.0,  28.6640,  34.9770,2,  34.9752,2,    197.2,2,   196.4,2,    0.42,2,   -0.04,4,    0.01,4,    0.18,2,   1.440,2,   0.938,2,   1.279,2,  1956.6,2,  2300.2,2,-999.0000,9,  -999.00,-999.0000,9, -999.00,9, -999.00,9,  -999.0,9,  -999.0, -999.00,9, -999.00,9,    0.29,2,   -0.05,3,  28.6628, -999.00
096U20160426,       P15S,     110,          1,         35,       2035,2,20160616,       0450,   -14.2799,  -169.9960,       3545,    20.8,  28.3040,  34.9620,2,  34.9619,2,    197.7,2,   196.7,2,    0.45,2,   -0.03,4,    0.00,4,    0.18,2,-999.000,9,-999.000,9,-999.000,9,  1955.6,6,  2299.6,6,-999.0000,9,  -999.00,-999.0000,9, -999.00,9, -999.00,9,  -999.0,9,  -999.0, -999.00,9, -999.00,9, -999.00,9, -999.00,9,  28.2991, -999.00
096U20160426,       P15S,     110,          1,         34,       2034,2,20160616,       0450,   -14.2799,  -169.9960,       3545,    41.5,  27.9530,  35.0640,2,  35.0697,2,    198.8,2,   198.2,2,    0.48,2,   -0.04,4,    0.01,4,    0.18,2,   1.456,2,   0.952,2,    1.27,2,  1963.0,2,  2306.7,2,-999.0000,9,  -999.00,-999.0000,9, -999.00,9, -999.00,9,  -999.0,9,  -999.0, -999.00,9, -999.00,9,    0.22,2,    0.02,3,  27.9432, -999.00
096U20160426,       P15S,     110,          1,         33,       2033,2,20160616,       0450,   -14.2799,  -169.9960,       3545,    61.2,  27.9750,  34.9210,2,  36.0407,2,    200.3,2,   195.8,2,    0.48,2,   -0.02,4,    0.01,4,    0.22,2,-999.000,9,-999.000,9,-999.000,9,  2001.2,2,  2338.1,2,-999.0000,9,  -999.00,-999.0000,9, -999.00,9, -999.00,9,  -999.0,9,  -999.0, -999.00,9, -999.00,9,    0.73,2,   -0.08,3,  27.9605, -999.00
096U20160426,       P15S,     110,          1,         32,       2032,2,20160616,       0450,   -14.2799,  -169.9960,       3545,    86.1,  25.5790,  36.0500,2,  36.0408,2,    177.9,2,   179.5,2,    0.60,2,    1.33,2,    0.13,2,    0.35,2,   1.666,2,   1.083,2,   1.275,2,  2060.9,2,  2371.6,2,-999.0000,9,  -999.00,-999.0000,9, -999.00,9, -999.00,9,  -999.0,9,  -999.0, -999.00,9, -999.00,9,    1.22,2,   -0.13,3,  25.5599, -999.00
096U20160426,       P15S,     110,          1,         31,       2031,2,20160616,       0450,   -14.2799,  -169.9960,       3545,   116.9,  24.4060,  36.0530,2,  36.0799,2,    159.7,2,   155.9,2,    0.80,2,    4.73,2,    0.05,2,    0.55,2,-999.000,9,-999.000,9,-999.000,9,  2090.6,2,  2371.8,2,-999.0000,9,  -999.00,-999.0000,9, -999.00,9, -999.00,9,  -999.0,9,  -999.0, -999.00,9, -999.00,9,    0.51,2,    0.10,3,  24.3810, -999.00
096U20160426,       P15S,     110,          1,         30,       2030,2,20160616,       0450,   -14.2799,  -169.9960,       3545,   140.9,  23.4050,  36.0560,2,  36.0359,2,    158.0,2,   157.2,2,    0.79,2,    5.00,2,    0.04,2,    0.55,2,   1.830,2,   1.180,2,   1.204,2,  2099.3,2,  2367.6,6,-999.0000,9,  -999.00,-999.0000,9, -999.00,9, -999.00,9,  -999.0,9,  -999.0, -999.00,9, -999.00,9, -999.00,9, -999.00,9,  23.3757, -999.00
096U20160426,       P15S,     110,          1,         29,       2029,2,20160616,       0450,   -14.2799,  -169.9960,       3545,   184.6,  21.3790,  35.9230,2,  35.8710,2,    156.0,2,   155.7,2,    1.12,2,    6.58,2,    0.01,4,    0.66,2,-999.000,9,-999.000,9,-999.000,9,  2119.6,2,  2359.4,2,-999.0000,9,  -999.00,-999.0000,9, -999.00,9, -999.00,9,  -999.0,9,  -999.0, -999.00,9, -999.00,9, -999.00,9, -999.00,9,  21.3430, -999.00
096U20160426,       P15S,     110,          1,         28,       2028,2,20160616,       0450,   -14.2799,  -169.9960,       3545,   234.5,  18.7140,  35.5680,2,  35.5090,2,    153.7,2,   150.8,2,    2.43,2,    9.09,2,    0.01,4,    0.85,2,   2.127,2,   1.312,2,   1.058,2,  2130.3,2,  2335.4,2,-999.0000,9,  -999.00,-999.0000,9, -999.00,9, -999.00,9,  -999.0,9,  -999.0, -999.00,9, -999.00,9, -999.00,9, -999.00,9,  18.6724, -999.00
096U20160426,       P15S,     110,          1,         27,       2027,2,20160616,       0450,   -14.2799,  -169.9960,       3545,   285.9,  15.2930,  35.1320,2,  35.1202,2,    134.8,2,   132.8,2,    5.80,2,   14.27,2,    0.01,4,    1.22,2,-999.000,9,-999.000,9,-999.000,9,  2152.4,2,  2314.8,2,-999.0000,9,  -999.00,-999.0000,9, -999.00,9, -999.00,9,  -999.0,9,  -999.0, -999.00,9, -999.00,9, -999.00,9, -999.00,9,  15.2490, -999.00
096U20160426,       P15S,     110,          1,         26,       2026,2,20160616,       0450,   -14.2799,  -169.9960,       3545,   337.1,  13.1300,  34.8940,2,  34.8522,2,    124.3,2,   121.1,2,   10.05,2,   19.22,2,    0.01,4,    1.55,2,   1.781,2,   1.015,2,   0.634,2,  2175.1,2,  2302.2,2,-999.0000,9,  -999.00,-999.0000,9, -999.00,9, -999.00,9,  -999.0,9,  -999.0, -999.00,9, -999.00,9, -999.00,9, -999.00,9,  13.0831, -999.00
096U20160426,       P15S,     110,          1,         25,       2025,2,20160616,       0450,   -14.2799,  -169.9960,       3545,   385.8,  10.5210,  34.6780,2,  34.6714,2,    119.3,2,   117.6,2,   15.16,2,   23.92,2,    0.01,4,    1.83,2,-999.000,9,-999.000,9,-999.000,9,  -999.0,9,  -999.0,9,-999.0000,9,  -999.00,-999.0000,9, -999.00,9, -999.00,9,  -999.0,9,  -999.0, -999.00,9, -999.00,9, -999.00,9, -999.00,9,  10.4745, -999.00
096U20160426,       P15S,     110,          1,         24,       2024,2,20160616,       0450,   -14.2799,  -169.9960,       3545,   420.0,   9.3970,  34.6040,2,  34.5951,2,    126.6,2,   126.0,2,   18.24,2,   26.03,2,    0.00,4,    1.93,2,   1.136,2,   0.614,2,   0.278,2,  2195.2,6,  2293.5,6,-999.0000,9,  -999.00,-999.0000,9, -999.00,9, -999.00,9,  -999.0,9,  -999.0, -999.00,9, -999.00,9, -999.00,9, -999.00,9,   9.3498, -999.00
096U20160426,       P15S,     110,          1,         23,       2023,2,20160616,       0450,   -14.2799,  -169.9960,       3545,   486.3,   7.5680,  34.4880,2,  34.4813,2,    149.9,2,   150.0,2,   22.61,2,   28.36,2,    0.00,4,    2.02,2,-999.000,9,-999.000,9,-999.000,9,  -999.0,9,  -999.0,9,-999.0000,9,  -999.00,-999.0000,9, -999.00,9, -999.00,9,  -999.0,9,  -999.0, -999.00,9, -999.00,9, -999.00,9, -999.00,9,   7.5198, -999.00
096U20160426,       P15S,     110,          1,         22,       2022,2,20160616,       0450,   -14.2799,  -169.9960,       3545,   565.3,   6.3640,  34.4690,2,  34.4684,2,    151.1,2,   149.5,2,   32.58,2,   30.72,2,    0.00,4,    2.16,2,   0.568,6,   0.296,6,   0.108,6,  2212.1,2,  2304.1,2,-999.0000,9,  -999.00,-999.0000,9, -999.00,9, -999.00,9,  -999.0,9,  -999.0, -999.00,9, -999.00,9, -999.00,9, -999.00,9,   6.3128, -999.00
096U20160426,       P15S,     110,          1,         21,       2021,2,20160616,       0450,   -14.2799,  -169.9960,       3545,   665.5,   5.7700,  34.4720,2,  34.4698,2,    147.6,2,   146.1,2,   39.52,2,   32.03,2,    0.00,4,    2.25,2,-999.000,9,-999.000,9,-999.000,9,  -999.0,9,  -999.0,9,-999.0000,9,  -999.00,-999.0000,9, -999.00,9, -999.00,9,  -999.0,9,  -999.0, -999.00,9, -999.00,9, -999.00,9, -999.00,9,   5.7123, -999.00
096U20160426,       P15S,     110,          1,         20,       2020,2,20160616,       0450,   -14.2799,  -169.9960,       3545,   766.1,   5.2420,  34.4800,2,  34.4796,2,    141.3,2,   139.4,2,   48.17,2,   33.52,2,    0.00,4,    2.35,2,-999.000,9,-999.000,9,-999.000,9,  -999.0,9,  -999.0,9,-999.0000,9,  -999.00,-999.0000,9, -999.00,9, -999.00,9,  -999.0,9,  -999.0, -999.00,9, -999.00,9, -999.00,9, -999.00,9,   5.1781, -999.00
096U20160426,       P15S,     110,          1,         19,       2019,2,20160616,       0450,   -14.2799,  -169.9960,       3545,   868.5,   4.7520,  34.4920,2,  34.4906,2,    139.6,2,   137.7,2,   56.65,2,   34.31,2,    0.00,4,    2.41,2,   0.135,2,   0.078,2,       0,2,  2247.0,2,  2327.4,2,-999.0000,9,  -999.00,-999.0000,9, -999.00,9, -999.00,9,  -999.0,9,  -999.0, -999.00,9, -999.00,9, -999.00,9, -999.00,9,   4.6821, -999.00
096U20160426,       P15S,     110,          1,         18,       2018,2,20160616,       0450,   -14.2799,  -169.9960,       3545,   968.1,   4.3780,  34.4990,2,  34.4996,2,    139.8,2,   138.5,2,   63.17,2,   34.74,2,    0.00,4,    2.45,2,-999.000,9,-999.000,9,-999.000,9,  -999.0,9,  -999.0,9,-999.0000,9,  -999.00,-999.0000,9, -999.00,9, -999.00,9,  -999.0,9,  -999.0, -999.00,9, -999.00,9, -999.00,9, -999.00,9,   4.3022, -999.00
096U20160426,       P15S,     110,          1,         17,       2017,2,20160616,       0450,   -14.2799,  -169.9960,       3545,  1067.3,   3.9370,  34.5180,2,  34.5189,2,    138.8,2,   137.5,2,   72.83,2,   35.33,2,    0.00,4,    2.48,2,   0.048,2,   0.032,2,       0,2,  2264.2,2,  2345.2,2,-999.0000,9,  -999.00,-999.0000,9, -999.00,9, -999.00,9,  -999.0,9,  -999.0, -999.00,9, -999.00,9, -999.00,9, -999.00,9,   3.8562, -999.00
096U20160426,       P15S,     110,          1,         16,       2016,2,20160616,       0450,   -14.2799,  -169.9960,       3545,  1166.5,   3.5320,  34.5390,2,  34.5384,2,    139.3,2,   137.6,2,   80.77,2,   35.58,2,    0.00,4,    2.50,2,-999.000,9,-999.000,9,-999.000,9,  -999.0,9,  -999.0,9,-999.0000,9,  -999.00,-999.0000,9, -999.00,9, -999.00,9,  -999.0,9,  -999.0, -999.00,9, -999.00,9, -999.00,9, -999.00,9,   3.4464, -999.00
096U20160426,       P15S,     110,          1,         15,       2015,2,20160616,       0450,   -14.2799,  -169.9960,       3545,  1267.1,   3.2950,  34.5560,2,  34.5558,2,    137.4,2,   135.7,2,   87.67,2,   35.96,2,    0.00,4,    2.53,2,   0.014,2,   0.011,2,       0,2,  2282.1,2,  2359.8,2,-999.0000,9,  -999.00,-999.0000,9, -999.00,9, -999.00,9,  -999.0,9,  -999.0, -999.00,9, -999.00,9, -999.00,9, -999.00,9,   3.2033, -999.00
096U20160426,       P15S,     110,          1,         14,       2014,2,20160616,       0450,   -14.2799,  -169.9960,       3545,  1366.8,   3.1330,  34.5680,2,  34.5670,2,    136.5,2,   134.8,2,   91.38,2,   36.12,2,    0.00,4,    2.54,2,-999.000,9,-999.000,9,-999.000,9,  -999.0,9,  -999.0,9,-999.0000,9,  -999.00,-999.0000,9, -999.00,9, -999.00,9,  -999.0,9,  -999.0, -999.00,9, -999.00,9, -999.00,9, -999.00,9,   3.0347, -999.00
096U20160426,       P15S,     110,          1,         13,       2013,2,20160616,       0450,   -14.2799,  -169.9960,       3545,  1467.3,   2.9140,  34.5820,2,  34.5809,2,    139.2,2,   137.6,2,   96.38,2,   35.90,2,    0.00,4,    2.53,2,   0.004,2,   0.004,2,       0,2,  2288.2,2,  2370.9,2,-999.0000,9,  -999.00,-999.0000,9, -999.00,9, -999.00,9,  -999.0,9,  -999.0, -999.00,9, -999.00,9, -999.00,9, -999.00,9,   2.8098, -999.00
096U20160426,       P15S,     110,          1,         12,       2012,2,20160616,       0450,   -14.2799,  -169.9960,       3545,  1566.7,   2.6980,  34.5950,2,  34.5935,2,    142.5,2,   140.8,2,  100.40,2,   35.77,2,    0.00,4,    2.51,2,-999.000,9,-999.000,9,-999.000,9,  -999.0,9,  -999.0,9,-999.0000,9,  -999.00,-999.0000,9, -999.00,9, -999.00,9,  -999.0,9,  -999.0, -999.00,9, -999.00,9, -999.00,9, -999.00,9,   2.5881, -999.00
096U20160426,       P15S,     110,          1,         11,       2011,2,20160616,       0450,   -14.2799,  -169.9960,       3545,  1667.0,   2.5130,  34.6080,2,  34.6063,2,    144.2,2,   143.0,2,  104.45,2,   35.67,2,    0.00,4,    2.51,2,   0.003,2,   0.003,2,       0,2,  2295.5,2,  2381.6,2,-999.0000,9,  -999.00,-999.0000,9, -999.00,9, -999.00,9,  -999.0,9,  -999.0, -999.00,9, -999.00,9, -999.00,9, -999.00,9,   2.3971, -999.00
096U20160426,       P15S,     110,          1,         10,       2010,2,20160616,       0450,   -14.2799,  -169.9960,       3545,  1765.8,   2.4460,  34.6130,2,  34.6123,2,    145.3,2,   144.5,2,  106.52,2,   35.57,2,    0.00,4,    2.50,2,-999.000,9,-999.000,9,-999.000,9,  -999.0,9,  -999.0,9,-999.0000,9,  -999.00,-999.0000,9, -999.00,9, -999.00,9,  -999.0,9,  -999.0, -999.00,9, -999.00,9, -999.00,9, -999.00,9,   2.3228, -999.00
096U20160426,       P15S,     110,          1,          9,       2009,2,20160616,       0450,   -14.2799,  -169.9960,       3545,  1936.3,   2.2850,  34.6260,2,  34.6249,2,    146.7,2,   145.8,2,  110.68,2,   35.57,2,    0.00,4,    2.50,2,   0.004,6,   0.003,6,       0,6,  2300.8,2,  2390.8,2,-999.0000,9,  -999.00,-999.0000,9, -999.00,9, -999.00,9,  -999.0,9,  -999.0, -999.00,9, -999.00,9, -999.00,9, -999.00,9,   2.1497, -999.00
096U20160426,       P15S,     110,          1,          8,       2008,2,20160616,       0450,   -14.2799,  -169.9960,       3545,  2137.6,   2.0590,  34.6450,2,  34.6436,2,    148.2,2,   147.8,2,  117.67,2,   35.56,2,    0.00,4,    2.49,2,-999.000,9,-999.000,9,-999.000,9,  -999.0,9,  -999.0,9,-999.0000,9,  -999.00,-999.0000,9, -999.00,9, -999.00,9,  -999.0,9,  -999.0, -999.00,9, -999.00,9, -999.00,9, -999.00,9,   1.9099, -999.00
096U20160426,       P15S,     110,          1,          7,       2007,2,20160616,       0450,   -14.2799,  -169.9960,       3545,  2336.3,   1.9520,  34.6540,2,  34.6526,2,    149.7,2,   148.8,2,  121.06,2,   35.46,2,    0.00,4,    2.49,2,  -0.001,2,   0.001,2,       0,2,  2310.2,2,  2401.3,6,-999.0000,9,  -999.00,-999.0000,9, -999.00,9, -999.00,9,  -999.0,9,  -999.0, -999.00,9, -999.00,9, -999.00,9, -999.00,9,   1.7873, -999.00
096U20160426,       P15S,     110,          1,          6,       2006,2,20160616,       0450,   -14.2799,  -169.9960,       3545,  2535.1,   1.8900,  34.6600,2,  34.6594,2,    150.6,2,   149.9,2,  123.17,2,   35.38,2,    0.00,4,    2.48,2,-999.000,9,-999.000,9,-999.000,9,  -999.0,9,  -999.0,9,-999.0000,9,  -999.00,-999.0000,9, -999.00,9, -999.00,9,  -999.0,9,  -999.0, -999.00,9, -999.00,9, -999.00,9, -999.00,9,   1.7085, -999.00
096U20160426,       P15S,     110,          1,          5,       2005,2,20160616,       0450,   -14.2799,  -169.9960,       3545,  2735.5,   1.7770,  34.6690,2,  34.6661,2,    153.0,2,   152.0,2,  125.94,2,   35.27,2,    0.00,4,    2.47,2,   0.002,2,   0.002,2,       0,2,  2313.3,2,  2403.4,2,-999.0000,9,  -999.00,-999.0000,9, -999.00,9, -999.00,9,  -999.0,9,  -999.0, -999.00,9, -999.00,9, -999.00,9, -999.00,9,   1.5793, -999.00
096U20160426,       P15S,     110,          1,          4,       2004,2,20160616,       0450,   -14.2799,  -169.9960,       3545,  2935.8,   1.7110,  34.6740,2,  34.6731,2,    155.4,2,   159.3,4,  127.40,2,   35.13,2,    0.00,4,    2.46,2,-999.000,9,-999.000,9,-999.000,9,  2313.3,6,  2404.2,6,-999.0000,9,  -999.00,-999.0000,9, -999.00,9, -999.00,9,  -999.0,9,  -999.0, -999.00,9, -999.00,9, -999.00,9, -999.00,9,   1.4957, -999.00
096U20160426,       P15S,     110,          1,          3,       2003,2,20160616,       0450,   -14.2799,  -169.9960,       3545,  3199.0,   1.6520,  34.6790,2,  34.6780,2,    158.7,2,   157.8,2,  127.91,2,   34.88,2,    0.00,4,    2.44,2,-999.000,9,-999.000,9,-999.000,9,  -999.0,9,  -999.0,9,-999.0000,9,  -999.00,-999.0000,9, -999.00,9, -999.00,9,  -999.0,9,  -999.0, -999.00,9, -999.00,9, -999.00,9, -999.00,9,   1.4124, -999.00
096U20160426,       P15S,     110,          1,          2,       2002,2,20160616,       0450,   -14.2799,  -169.9960,       3545,  3401.9,   1.6220,  34.6810,2,  34.6803,2,    160.9,2,   160.4,2,  128.02,2,   34.75,2,    0.00,4,    2.43,2,   0.003,2,   0.002,2,       0,2,  -999.0,9,  -999.0,9,-999.0000,9,  -999.00,-999.0000,9, -999.00,9, -999.00,9,  -999.0,9,  -999.0, -999.00,9, -999.00,9, -999.00,9, -999.00,9,   1.3628, -999.00
096U20160426,       P15S,     110,          1,          1,       2001,2,20160616,       0450,   -14.2799,  -169.9960,       3545,  3576.8,   1.6170,  34.6830,2,  34.6820,2,    161.9,2,   161.3,2,  128.17,2,   34.73,2,    0.00,4,    2.42,2,   0.006,2,   0.005,2,       0,2,  2309.3,2,  2402.5,2,-999.0000,9,  -999.00,-999.0000,9, -999.00,9, -999.00,9,  -999.0,9,  -999.0, -999.00,9, -999.00,9, -999.00,9, -999.00,9,   1.3399, -999.00