BOTTLE,20230413CCHSIOENA
EXPOCODE,SECT_ID,STNNBR,CASTNO,SAMPNO,BTLNBR,BTLNBR_FLAG_W,DATE,TIME,LATITUDE,LONGITUDE,DEPTH,CTDPRS,CTDTMP,CTDSAL,CTDSAL_FLAG_W,SALNTY,SALNTY_FLAG_W,CTDOXY,CTDOXY_FLAG_W,OXYGEN,OXYGEN_FLAG_W,SILCAT,SILCAT_FLAG_W,NITRAT,NITRAT_FLAG_W,NITRIT,NITRIT_FLAG_W,PHSPHT,PHSPHT_FLAG_W,CFC-11,CFC-11_FLAG_W,CFC-12,CFC-12_FLAG_W,SF6,SF6_FLAG_W,TCARBN,TCARBN_FLAG_W,ALKALI,ALKALI_FLAG_W,PH_TOT,PH_TOT_FLAG_W,PH_TMP,HELIUM,HELIUM_FLAG_W,DELHE3,DELHE3_FLAG_W,DELC13,DELC13_FLAG_W,DELC14,DELC14_FLAG_W,C14ERR,POC,POC_FLAG_W,PON,PON_FLAG_W,CHLORA,CHLORA_FLAG_W,PPHYTN,PPHYTN_FLAG_W,THETA,DELHER
,,,,,,,,,,,METERS,DBAR,ITS-90,PSS-78,,PSS-78,,UMOL/KG,,UMOL/KG,,UMOL/KG,,UMOL/KG,,UMOL/KG,,UMOL/KG,,PMOL/KG,,PMOL/KG,,FMOL/KG,,UMOL/KG,,UMOL/KG,,,,DEG C,NMOL/KG,,PERCNT,,/MILLE,,/MILLE,,/MILLE,UG/KG,,UG/KG,,UG/KG,,UG/KG,,DEG C,PERCNT
096U20160426,       P15S,     100,          1,         36,       2036,2,20160613,       1215,   -19.0012,  -170.0590,       2916,     4.7,  25.2940,  35.7020,2,  35.7003,2,    207.2,2,   205.8,2,    0.30,2,   -0.04,4,    0.01,4,    0.14,2,   1.622,2,   1.032,2,   1.347,2,  2009.2,6,  2347.6,6,-999.0000,9,  -999.00,-999.0000,9, -999.00,9,    1.03,2,    39.7,2,     2.0, -999.00,9, -999.00,9,    0.25,2,   -0.01,3,  25.2930, -999.00
096U20160426,       P15S,     100,          1,         35,       2035,2,20160613,       1215,   -19.0012,  -170.0590,       2916,    38.0,  25.2730,  35.7000,2,  35.6981,2,    206.7,2,   205.7,2,    0.29,2,   -0.04,4,    0.01,4,    0.14,2,-999.000,9,-999.000,9,-999.000,9,  -999.0,9,  -999.0,9,-999.0000,9,  -999.00,-999.0000,9, -999.00,9, -999.00,9,  -999.0,9,  -999.0, -999.00,9, -999.00,9,    0.26,2,   -0.02,3,  25.2647, -999.00
096U20160426,       P15S,     100,          1,         34,       2034,2,20160613,       1215,   -19.0012,  -170.0590,       2916,    62.5,  25.2390,  35.6990,2,  35.6996,2,    206.7,2,   205.6,2,    0.28,2,   -0.04,4,    0.01,4,    0.14,2,   1.618,2,   1.034,2,   1.337,2,  2009.6,2,  2348.2,2,-999.0000,9,  -999.00,-999.0000,9, -999.00,9,    1.06,2,    38.6,2,     2.0, -999.00,9, -999.00,9,    0.43,2,   -0.10,3,  25.2253, -999.00
096U20160426,       P15S,     100,          1,         33,       2033,2,20160613,       1215,   -19.0012,  -170.0590,       2916,    91.9,  23.6030,  35.7420,2,  35.8065,2,    205.1,2,   194.6,3,    0.32,2,    0.59,2,    0.03,2,    0.20,2,-999.000,9,-999.000,9,-999.000,9,  2046.0,2,  2350.5,2,-999.0000,9,  -999.00,-999.0000,9, -999.00,9, -999.00,9,  -999.0,9,  -999.0, -999.00,9, -999.00,9,    0.92,2,    0.01,3,  23.5838, -999.00
096U20160426,       P15S,     100,          1,         32,       2032,2,20160613,       1215,   -19.0012,  -170.0590,       2916,   111.5,  22.8320,  35.8700,2,  35.8489,2,    181.4,2,   181.9,2,    0.38,2,    2.00,2,    0.04,2,    0.29,2,   1.840,2,   1.174,2,    1.35,2,  2063.1,2,  2353.2,2,-999.0000,9,  -999.00,-999.0000,9, -999.00,9,    0.78,2,    51.9,2,     2.0, -999.00,9, -999.00,9,    0.73,2,   -0.01,3,  22.8093, -999.00
096U20160426,       P15S,     100,          1,         31,       2031,2,20160613,       1215,   -19.0012,  -170.0590,       2916,   136.0,  21.9150,  35.8040,2,  35.7725,2,    186.3,2,   185.8,2,    0.33,2,    2.06,2,    0.04,2,    0.27,2,-999.000,9,-999.000,9,-999.000,9,  2066.3,2,  2347.1,6,-999.0000,9,  -999.00,-999.0000,9, -999.00,9, -999.00,9,  -999.0,9,  -999.0, -999.00,9, -999.00,9, -999.00,9, -999.00,9,  21.8881, -999.00
096U20160426,       P15S,     100,          1,         30,       2030,2,20160613,       1215,   -19.0012,  -170.0590,       2916,   161.5,  21.0960,  35.7480,2,  35.7354,2,    187.7,2,   188.1,2,    0.32,2,    2.13,2,    0.03,2,    0.26,2,   1.968,2,   1.244,2,   1.385,2,  2067.4,2,  2342.6,2,-999.0000,9,  -999.00,-999.0000,9, -999.00,9,    0.74,2,    56.0,2,     2.0, -999.00,9, -999.00,9, -999.00,9, -999.00,9,  21.0649, -999.00
096U20160426,       P15S,     100,          1,         29,       2029,2,20160613,       1215,   -19.0012,  -170.0590,       2916,   186.2,  20.4920,  35.7210,2,  35.7159,2,    188.0,2,   187.2,2,    0.38,2,    2.67,2,    0.03,2,    0.29,2,   2.012,2,   1.266,2,   1.345,2,  2074.4,2,  2341.0,2,-999.0000,9,  -999.00,-999.0000,9, -999.00,9, -999.00,9,  -999.0,9,  -999.0, -999.00,9, -999.00,9, -999.00,9, -999.00,9,  20.4568, -999.00
096U20160426,       P15S,     100,          1,         28,       2028,2,20160613,       1215,   -19.0012,  -170.0590,       2916,   210.5,  19.9810,  35.6870,2,  35.6731,2,    186.7,2,   186.0,2,    0.47,2,    3.22,2,    0.02,2,    0.32,2,   2.074,2,   1.296,2,   1.336,2,  2078.0,2,  2339.0,6,-999.0000,9,  -999.00,-999.0000,9, -999.00,9,    0.69,2,    62.1,2,     2.0, -999.00,9, -999.00,9, -999.00,9, -999.00,9,  19.9419, -999.00
096U20160426,       P15S,     100,          1,         27,       2027,2,20160613,       1215,   -19.0012,  -170.0590,       2916,   236.1,  19.3580,  35.6290,2,  35.5982,2,    186.2,2,   185.9,2,    0.61,2,    3.84,2,    0.02,4,    0.36,2,-999.000,9,-999.000,9,-999.000,9,  -999.0,9,  -999.0,9,-999.0000,9,  -999.00,-999.0000,9, -999.00,9, -999.00,9,  -999.0,9,  -999.0, -999.00,9, -999.00,9, -999.00,9, -999.00,9,  19.3151, -999.00
096U20160426,       P15S,     100,          1,         26,       2026,2,20160613,       1215,   -19.0012,  -170.0590,       2916,   266.1,  18.3560,  35.5200,2,  35.5083,2,    185.2,2,   184.5,2,    0.82,2,    4.67,2,    0.02,4,    0.43,2,   2.208,2,   1.357,2,   1.207,2,  2088.7,2,  2327.8,2,-999.0000,9,  -999.00,-999.0000,9, -999.00,9,    0.74,2,    65.0,2,     2.0, -999.00,9, -999.00,9, -999.00,9, -999.00,9,  18.3094, -999.00
096U20160426,       P15S,     100,          1,         25,       2025,2,20160613,       1215,   -19.0012,  -170.0590,       2916,   316.6,  16.6080,  35.3000,2,  35.2824,2,    180.8,2,   181.4,2,    1.64,2,    7.13,2,    0.02,4,    0.61,2,   2.345,2,   1.400,2,    1.15,2,  2103.1,2,  2316.3,2,-999.0000,9,  -999.00,-999.0000,9, -999.00,9,    0.85,2,    61.7,2,     2.0, -999.00,9, -999.00,9, -999.00,9, -999.00,9,  16.5563, -999.00
096U20160426,       P15S,     100,          1,         24,       2024,2,20160613,       1215,   -19.0012,  -170.0590,       2916,   366.6,  14.5820,  35.1090,2,  35.0543,2,    185.8,2,   182.6,2,    2.84,2,   10.35,2,    0.01,4,    0.82,2,-999.000,9,-999.000,9,-999.000,9,  -999.0,9,  -999.0,9,-999.0000,9,  -999.00,-999.0000,9, -999.00,9, -999.00,9,  -999.0,9,  -999.0, -999.00,9, -999.00,9, -999.00,9, -999.00,9,  14.5272, -999.00
096U20160426,       P15S,     100,          1,         23,       2023,2,20160613,       1215,   -19.0012,  -170.0590,       2916,   415.4,  11.6160,  34.7630,2,  34.7454,2,    184.8,2,   186.5,2,    4.82,2,   15.53,2,    0.01,4,    1.14,2,   2.622,6,   1.443,6,   0.812,6,  2134.5,2,  2290.9,6,-999.0000,9,  -999.00,-999.0000,9, -999.00,9,    0.96,2,    39.4,2,     2.0, -999.00,9, -999.00,9, -999.00,9, -999.00,9,  11.5626, -999.00
096U20160426,       P15S,     100,          1,         22,       2022,2,20160613,       1215,   -19.0012,  -170.0590,       2916,   466.6,   9.5650,  34.5690,2,  34.5649,2,    184.5,2,   184.4,2,    7.77,2,   19.99,2,    0.01,4,    1.44,2,-999.000,9,-999.000,9,-999.000,9,  -999.0,9,  -999.0,9,-999.0000,9,  -999.00,-999.0000,9, -999.00,9, -999.00,9,  -999.0,9,  -999.0, -999.00,9, -999.00,9, -999.00,9, -999.00,9,   9.5119, -999.00
096U20160426,       P15S,     100,          1,         21,       2021,2,20160613,       1215,   -19.0012,  -170.0590,       2916,   535.2,   7.9800,  34.4450,2,  34.4395,2,    192.6,2,   191.9,2,   10.38,2,   23.44,2,    0.01,4,    1.65,2,   2.368,2,   1.234,2,   0.509,2,  2160.8,2,  2281.0,2,-999.0000,9,  -999.00,-999.0000,9, -999.00,9,    1.00,2,     5.9,2,     2.0, -999.00,9, -999.00,9, -999.00,9, -999.00,9,   7.9252, -999.00
096U20160426,       P15S,     100,          1,         20,       2020,2,20160613,       1215,   -19.0012,  -170.0590,       2916,   636.1,   6.4870,  34.3780,2,  34.3714,2,    187.2,2,   190.8,2,   17.03,2,   27.43,2,    0.01,4,    1.89,2,-999.000,9,-999.000,9,-999.000,9,  2176.9,2,  2285.2,2,-999.0000,9,  -999.00,-999.0000,9, -999.00,9,    1.03,2,   -35.2,2,     2.0, -999.00,9, -999.00,9, -999.00,9, -999.00,9,   6.4286, -999.00
096U20160426,       P15S,     100,          1,         19,       2019,2,20160613,       1215,   -19.0012,  -170.0590,       2916,   735.2,   5.8260,  34.3760,2,  34.3698,2,    181.9,2,   182.2,2,   23.97,2,   29.62,2,    0.01,4,    2.04,2,   0.967,2,   0.486,2,   0.124,2,  2189.0,2,  2290.3,2,-999.0000,9,  -999.00,-999.0000,9, -999.00,9,    0.96,2,   -63.0,2,     2.0, -999.00,9, -999.00,9, -999.00,9, -999.00,9,   5.7617, -999.00
096U20160426,       P15S,     100,          1,         18,       2018,2,20160613,       1215,   -19.0012,  -170.0590,       2916,   835.5,   5.1570,  34.3940,2,  34.3914,2,    171.1,2,   171.0,2,   34.15,2,   31.65,2,    0.01,4,    2.18,2,   0.442,2,   0.228,2,   0.022,2,  2208.0,2,  2300.9,6,-999.0000,9,  -999.00,-999.0000,9, -999.00,9,    0.86,2,   -95.8,2,     2.0, -999.00,9, -999.00,9, -999.00,9, -999.00,9,   5.0875, -999.00
096U20160426,       P15S,     100,          1,         17,       2017,2,20160613,       1215,   -19.0012,  -170.0590,       2916,   935.9,   4.5390,  34.4180,2,  34.4174,2,    163.7,2,   163.0,2,   45.75,2,   33.17,2,    0.01,4,    2.29,2,   0.220,2,   0.117,2,       0,2,  2225.7,6,  2313.4,2,-999.0000,9,  -999.00,-999.0000,9, -999.00,9, -999.00,9,  -999.0,9,  -999.0, -999.00,9, -999.00,9, -999.00,9, -999.00,9,   4.4649, -999.00
096U20160426,       P15S,     100,          1,         16,       2016,2,20160613,       1215,   -19.0012,  -170.0590,       2916,  1035.6,   3.8190,  34.4650,2,  34.4645,2,    158.0,2,   156.7,2,   61.36,2,   34.32,2,    0.01,4,    2.37,2,   0.067,2,   0.039,2,       0,2,  2245.2,2,  2330.3,2,-999.0000,9,  -999.00,-999.0000,9, -999.00,9,    0.64,2,  -153.7,2,     2.0, -999.00,9, -999.00,9, -999.00,9, -999.00,9,   3.7419, -999.00
096U20160426,       P15S,     100,          1,         15,       2015,2,20160613,       1215,   -19.0012,  -170.0590,       2916,  1136.1,   3.4140,  34.4970,2,  34.4959,2,    156.1,2,   155.1,2,   70.94,2,   34.74,2,    0.01,4,    2.40,2,-999.000,9,-999.000,9,-999.000,9,  -999.0,9,  -999.0,9,-999.0000,9,  -999.00,-999.0000,9, -999.00,9, -999.00,9,  -999.0,9,  -999.0, -999.00,9, -999.00,9, -999.00,9, -999.00,9,   3.3320, -999.00
096U20160426,       P15S,     100,          1,         14,       2014,2,20160613,       1215,   -19.0012,  -170.0590,       2916,  1235.6,   3.0850,  34.5270,2,  34.5279,2,    154.6,2,   153.4,2,   80.30,2,   34.97,2,    0.01,4,    2.43,2,   0.016,2,   0.010,2,       0,2,  2266.3,2,  2349.8,2,-999.0000,9,  -999.00,-999.0000,9, -999.00,9,    0.48,2,  -180.3,2,     2.0, -999.00,9, -999.00,9, -999.00,9, -999.00,9,   2.9980, -999.00
096U20160426,       P15S,     100,          1,         13,       2013,2,20160613,       1215,   -19.0012,  -170.0590,       2916,  1334.9,   2.8030,  34.5630,2,  34.5616,2,    151.3,2,   150.0,2,   90.65,2,   35.29,2,    0.01,4,    2.45,2,-999.000,9,-999.000,9,-999.000,9,  -999.0,9,  -999.0,9,-999.0000,9,  -999.00,-999.0000,9, -999.00,9, -999.00,9,  -999.0,9,  -999.0, -999.00,9, -999.00,9, -999.00,9, -999.00,9,   2.7108, -999.00
096U20160426,       P15S,     100,          1,         12,       2012,2,20160613,       1215,   -19.0012,  -170.0590,       2916,  1434.4,   2.6770,  34.5810,2,  34.5801,2,    149.2,2,   147.9,2,   96.35,2,   35.45,2,    0.01,4,    2.46,2,   0.004,6,   0.002,6,       0,6,  2286.6,2,  2370.1,2,-999.0000,9,  -999.00,-999.0000,9, -999.00,9,    0.35,2,  -199.6,2,     2.0, -999.00,9, -999.00,9, -999.00,9, -999.00,9,   2.5781, -999.00
096U20160426,       P15S,     100,          1,         11,       2011,2,20160613,       1215,   -19.0012,  -170.0590,       2916,  1535.4,   2.5380,  34.5980,2,  34.5963,2,    147.9,2,  -999.0,9,  102.03,2,   35.55,2,    0.01,4,    2.48,2,-999.000,9,-999.000,9,-999.000,9,  -999.0,9,  -999.0,9,-999.0000,9,  -999.00,-999.0000,9, -999.00,9, -999.00,9,  -999.0,9,  -999.0, -999.00,9, -999.00,9, -999.00,9, -999.00,9,   2.4326, -999.00
096U20160426,       P15S,     100,          1,         10,       2010,2,20160613,       1215,   -19.0012,  -170.0590,       2916,  1634.5,   2.4500,  34.6090,2,  34.6067,2,    147.0,2,   145.5,2,  106.07,2,   35.64,2,    0.01,4,    2.48,2,   0.001,2,   0.002,2,       0,2,  2297.3,2,  2383.0,2,-999.0000,9,  -999.00,-999.0000,9, -999.00,9,    0.27,2,  -207.6,2,     2.0, -999.00,9, -999.00,9, -999.00,9, -999.00,9,   2.3376, -999.00
096U20160426,       P15S,     100,          1,          9,       2009,2,20160613,       1215,   -19.0012,  -170.0590,       2916,  1734.9,   2.3710,  34.6170,2,  34.6147,2,    146.8,2,   145.3,2,  108.94,2,   35.68,2,    0.01,4,    2.48,2,-999.000,9,-999.000,9,-999.000,9,  -999.0,9,  -999.0,9,-999.0000,9,  -999.00,-999.0000,9, -999.00,9, -999.00,9,  -999.0,9,  -999.0, -999.00,9, -999.00,9, -999.00,9, -999.00,9,   2.2513, -999.00
096U20160426,       P15S,     100,          1,          8,       2008,2,20160613,       1215,   -19.0012,  -170.0590,       2916,  1834.0,   2.2890,  34.6240,2,  34.6219,2,    146.8,2,   145.3,2,  111.56,2,   35.70,2,    0.01,4,    2.49,2,   0.001,2,   0.001,2,       0,2,  2303.4,2,  2388.2,2,-999.0000,9,  -999.00,-999.0000,9, -999.00,9, -999.00,9,  -999.0,9,  -999.0, -999.00,9, -999.00,9, -999.00,9, -999.00,9,   2.1622, -999.00
096U20160426,       P15S,     100,          1,          7,       2007,2,20160613,       1215,   -19.0012,  -170.0590,       2916,  1935.4,   2.2200,  34.6310,2,  34.6292,2,    146.9,2,   145.6,2,  114.07,2,   35.74,2,    0.01,4,    2.49,2,-999.000,9,-999.000,9,-999.000,9,  -999.0,9,  -999.0,9,-999.0000,9,  -999.00,-999.0000,9, -999.00,9, -999.00,9,  -999.0,9,  -999.0, -999.00,9, -999.00,9, -999.00,9, -999.00,9,   2.0857, -999.00
096U20160426,       P15S,     100,          1,          6,       2006,2,20160613,       1215,   -19.0012,  -170.0590,       2916,  2067.6,   2.1080,  34.6400,2,  34.6383,2,    147.3,2,   145.8,2,  117.75,2,   35.76,2,    0.01,4,    2.49,2,   0.002,2,   0.002,2,       0,2,  2308.2,2,  2394.4,2,-999.0000,9,  -999.00,-999.0000,9, -999.00,9, -999.00,9,  -999.0,9,  -999.0, -999.00,9, -999.00,9, -999.00,9, -999.00,9,   1.9641, -999.00
096U20160426,       P15S,     100,          1,          5,       2005,2,20160613,       1215,   -19.0012,  -170.0590,       2916,  2266.0,   1.9900,  34.6510,2,  34.6485,2,    147.6,2,   146.1,2,  122.09,2,   35.86,2,    0.01,4,    2.49,2,-999.000,9,-999.000,9,-999.000,9,  -999.0,9,  -999.0,9,-999.0000,9,  -999.00,-999.0000,9, -999.00,9, -999.00,9,  -999.0,9,  -999.0, -999.00,9, -999.00,9, -999.00,9, -999.00,9,   1.8308, -999.00
096U20160426,       P15S,     100,          1,          4,       2004,2,20160613,       1215,   -19.0012,  -170.0590,       2916,  2466.1,   1.9460,  34.6550,2,  34.6536,2,    148.0,2,   146.8,2,  123.82,2,   35.76,2,    0.01,4,    2.49,2,  -0.002,2,   0.000,2,       0,2,  2313.5,6,  2400.9,2,-999.0000,9,  -999.00,-999.0000,9, -999.00,9, -999.00,9,  -999.0,9,  -999.0, -999.00,9, -999.00,9, -999.00,9, -999.00,9,   1.7698, -999.00
096U20160426,       P15S,     100,          1,          3,       2003,2,20160613,       1215,   -19.0012,  -170.0590,       2916,  2667.9,   1.8530,  34.6630,2,  34.6607,2,    149.7,2,   148.3,2,  126.49,2,   35.70,2,    0.01,4,    2.48,2,-999.000,9,-999.000,9,-999.000,9,  -999.0,9,  -999.0,9,-999.0000,9,  -999.00,-999.0000,9, -999.00,9, -999.00,9,  -999.0,9,  -999.0, -999.00,9, -999.00,9, -999.00,9, -999.00,9,   1.6600, -999.00
096U20160426,       P15S,     100,          1,          2,       2002,2,20160613,       1215,   -19.0012,  -170.0590,       2916,  2802.6,   1.8300,  34.6650,2,  34.6637,2,    150.6,2,   149.5,2,  127.26,2,   35.63,2,    0.01,4,    2.48,2,   0.001,2,   0.002,2,       0,2,  2316.0,2,  2404.6,6,-999.0000,9,  -999.00,-999.0000,9, -999.00,9, -999.00,9,  -999.0,9,  -999.0, -999.00,9, -999.00,9, -999.00,9, -999.00,9,   1.6249, -999.00
096U20160426,       P15S,     100,          1,          1,       2001,2,20160613,       1215,   -19.0012,  -170.0590,       2916,  2964.7,   1.7520,  34.6710,2,  34.6698,2,    153.5,2,   153.2,2,  128.19,2,   35.48,2,    0.01,4,    2.46,2,   0.001,2,   0.002,2,       0,2,  -999.0,9,  -999.0,9,-999.0000,9,  -999.00,-999.0000,9, -999.00,9, -999.00,9,  -999.0,9,  -999.0, -999.00,9, -999.00,9, -999.00,9, -999.00,9,   1.5331, -999.00