BOTTLE,20230413CCHSIOENA
EXPOCODE,SECT_ID,STNNBR,CASTNO,SAMPNO,BTLNBR,BTLNBR_FLAG_W,DATE,TIME,LATITUDE,LONGITUDE,DEPTH,CTDPRS,CTDTMP,CTDSAL,CTDSAL_FLAG_W,SALNTY,SALNTY_FLAG_W,CTDOXY,CTDOXY_FLAG_W,OXYGEN,OXYGEN_FLAG_W,SILCAT,SILCAT_FLAG_W,NITRAT,NITRAT_FLAG_W,NITRIT,NITRIT_FLAG_W,PHSPHT,PHSPHT_FLAG_W,CFC-11,CFC-11_FLAG_W,CFC-12,CFC-12_FLAG_W,SF6,SF6_FLAG_W,TCARBN,TCARBN_FLAG_W,ALKALI,ALKALI_FLAG_W,PH_TOT,PH_TOT_FLAG_W,PH_TMP,HELIUM,HELIUM_FLAG_W,DELHE3,DELHE3_FLAG_W,DELC13,DELC13_FLAG_W,DELC14,DELC14_FLAG_W,C14ERR,POC,POC_FLAG_W,PON,PON_FLAG_W,CHLORA,CHLORA_FLAG_W,PPHYTN,PPHYTN_FLAG_W,THETA,DELHER
,,,,,,,,,,,METERS,DBAR,ITS-90,PSS-78,,PSS-78,,UMOL/KG,,UMOL/KG,,UMOL/KG,,UMOL/KG,,UMOL/KG,,UMOL/KG,,PMOL/KG,,PMOL/KG,,FMOL/KG,,UMOL/KG,,UMOL/KG,,,,DEG C,NMOL/KG,,PERCNT,,/MILLE,,/MILLE,,/MILLE,UG/KG,,UG/KG,,UG/KG,,UG/KG,,DEG C,PERCNT
096U20160426,       P15S,      91,          1,         36,       2036,2,20160610,       2120,   -23.5035,  -169.9982,       5675,     5.6,  24.1470,  35.6530,2,  35.6517,2,    210.9,2,   210.0,2,    0.38,2,   -0.03,4,    0.00,4,    0.08,2,-999.000,9,-999.000,9,-999.000,9,  2007.2,2,  2340.0,2,-999.0000,9,  -999.00,-999.0000,9, -999.00,9, -999.00,9,  -999.0,9,  -999.0, -999.00,9, -999.00,9,    0.19,2,    0.05,3,  24.1458, -999.00
096U20160426,       P15S,      91,          1,         35,       2035,2,20160610,       2120,   -23.5035,  -169.9982,       5675,    21.9,  24.1440,  35.6530,2,  35.6520,2,    211.2,2,   210.1,2,    0.37,2,   -0.03,4,    0.00,4,    0.08,2,-999.000,9,-999.000,9,-999.000,9,  -999.0,9,  -999.0,9,-999.0000,9,  -999.00,-999.0000,9, -999.00,9, -999.00,9,  -999.0,9,  -999.0, -999.00,9, -999.00,9,    0.18,2,    0.07,3,  24.1394, -999.00
096U20160426,       P15S,      91,          1,         34,       2034,2,20160610,       2120,   -23.5035,  -169.9982,       5675,    59.5,  23.9770,  35.6810,2,  35.7054,2,    211.8,2,   211.3,2,    0.29,2,   -0.03,4,    0.00,4,    0.06,2,-999.000,9,-999.000,9,-999.000,9,  -999.0,9,  -999.0,9,-999.0000,9,  -999.00,-999.0000,9, -999.00,9, -999.00,9,  -999.0,9,  -999.0, -999.00,9, -999.00,9,    0.22,2,    0.06,3,  23.9645, -999.00
096U20160426,       P15S,      91,          1,         33,       2033,2,20160610,       2120,   -23.5035,  -169.9982,       5675,    84.9,  23.6020,  35.7490,2,  35.7457,2,    212.2,2,   211.0,2,    0.22,2,   -0.03,4,    0.00,4,    0.06,2,-999.000,9,-999.000,9,-999.000,9,  -999.0,9,  -999.0,9,-999.0000,9,  -999.00,-999.0000,9, -999.00,9, -999.00,9,  -999.0,9,  -999.0, -999.00,9, -999.00,9,    0.32,2,    0.18,3,  23.5843, -999.00
096U20160426,       P15S,      91,          1,         32,       2032,2,20160610,       2120,   -23.5035,  -169.9982,       5675,   107.7,  21.7840,  35.7530,2,  35.7495,2,    211.0,2,   207.6,2,    0.34,2,    0.29,2,    0.11,2,    0.12,2,-999.000,9,-999.000,9,-999.000,9,  -999.0,9,  -999.0,9,-999.0000,9,  -999.00,-999.0000,9, -999.00,9, -999.00,9,  -999.0,9,  -999.0, -999.00,9, -999.00,9,    0.40,2,    0.24,3,  21.7628, -999.00
096U20160426,       P15S,      91,          1,         31,       2031,2,20160610,       2120,   -23.5035,  -169.9982,       5675,   163.9,  19.7550,  35.6980,2,  35.6771,2,    193.4,2,   192.2,2,    0.56,2,    2.88,2,    0.02,4,    0.27,2,-999.000,9,-999.000,9,-999.000,9,  -999.0,9,  -999.0,9,-999.0000,9,  -999.00,-999.0000,9, -999.00,9, -999.00,9,  -999.0,9,  -999.0, -999.00,9, -999.00,9, -999.00,9, -999.00,9,  19.7249, -999.00
096U20160426,       P15S,      91,          1,         30,       2030,2,20160610,       2120,   -23.5035,  -169.9982,       5675,   217.2,  18.3780,  35.5590,2,  35.4912,2,    190.5,2,   186.8,2,    0.99,2,    4.77,2,    0.01,4,    0.42,2,-999.000,9,-999.000,9,-999.000,9,  -999.0,9,  -999.0,9,-999.0000,9,  -999.00,-999.0000,9, -999.00,9, -999.00,9,  -999.0,9,  -999.0, -999.00,9, -999.00,9, -999.00,9, -999.00,9,  18.3400, -999.00
096U20160426,       P15S,      91,          1,         29,       2029,2,20160610,       2120,   -23.5035,  -169.9982,       5675,   266.9,  17.0100,  35.3500,2,  35.3151,2,    181.4,2,   180.7,2,    1.60,2,    6.78,2,    0.01,4,    0.58,2,-999.000,9,-999.000,9,-999.000,9,  2100.9,2,  2318.0,2,-999.0000,9,  -999.00,-999.0000,9, -999.00,9, -999.00,9,  -999.0,9,  -999.0, -999.00,9, -999.00,9, -999.00,9, -999.00,9,  16.9658, -999.00
096U20160426,       P15S,      91,          1,         28,       2028,2,20160610,       2120,   -23.5035,  -169.9982,       5675,   316.6,  15.7300,  35.2860,2,  35.2694,2,    196.2,2,   196.1,2,    1.48,2,    6.53,2,    0.01,4,    0.53,2,-999.000,9,-999.000,9,-999.000,9,  -999.0,9,  -999.0,9,-999.0000,9,  -999.00,-999.0000,9, -999.00,9, -999.00,9,  -999.0,9,  -999.0, -999.00,9, -999.00,9, -999.00,9, -999.00,9,  15.6802, -999.00
096U20160426,       P15S,      91,          1,         27,       2027,2,20160610,       2120,   -23.5035,  -169.9982,       5675,   366.7,  14.1830,  35.1220,2,  35.0984,2,    193.1,2,   193.0,2,    2.28,2,    9.60,2,    0.01,4,    0.73,2,-999.000,9,-999.000,9,-999.000,9,  -999.0,9,  -999.0,9,-999.0000,9,  -999.00,-999.0000,9, -999.00,9, -999.00,9,  -999.0,9,  -999.0, -999.00,9, -999.00,9, -999.00,9, -999.00,9,  14.1292, -999.00
096U20160426,       P15S,      91,          1,         26,       2026,2,20160610,       2120,   -23.5035,  -169.9982,       5675,   426.6,  12.2510,  34.8820,2,  34.8574,2,    193.2,2,   194.3,2,    3.43,2,   13.41,2,    0.00,4,    0.98,2,-999.000,9,-999.000,9,-999.000,9,  -999.0,9,  -999.0,9,-999.0000,9,  -999.00,-999.0000,9, -999.00,9, -999.00,9,  -999.0,9,  -999.0, -999.00,9, -999.00,9, -999.00,9, -999.00,9,  12.1941, -999.00
096U20160426,       P15S,      91,          1,         25,       2025,2,20160610,       2120,   -23.5035,  -169.9982,       5675,   536.9,   8.9680,  34.5460,2,  34.5418,2,    211.8,2,   213.2,2,    5.09,2,   18.81,2,    0.00,4,    1.31,2,-999.000,9,-999.000,9,-999.000,9,  -999.0,9,  -999.0,9,-999.0000,9,  -999.00,-999.0000,9, -999.00,9, -999.00,9,  -999.0,9,  -999.0, -999.00,9, -999.00,9, -999.00,9, -999.00,9,   8.9090, -999.00
096U20160426,       P15S,      91,          1,         24,       2024,2,20160610,       2120,   -23.5035,  -169.9982,       5675,   635.1,   7.2440,  34.3900,2,  34.3830,2,    228.2,2,   230.6,2,    7.23,2,   22.32,2,    0.00,4,    1.52,2,-999.000,9,-999.000,9,-999.000,9,  -999.0,9,  -999.0,9,-999.0000,9,  -999.00,-999.0000,9, -999.00,9, -999.00,9,  -999.0,9,  -999.0, -999.00,9, -999.00,9, -999.00,9, -999.00,9,   7.1821, -999.00
096U20160426,       P15S,      91,          1,         23,       2023,2,20160610,       2120,   -23.5035,  -169.9982,       5675,   735.3,   6.3050,  34.3330,2,  34.3316,2,    224.6,2,   227.4,2,   10.68,2,   24.87,2,    0.00,4,    1.69,2,   2.624,2,   1.314,2,   0.466,2,  2154.2,2,  2280.8,2,-999.0000,9,  -999.00,-999.0000,9, -999.00,9, -999.00,9,  -999.0,9,  -999.0, -999.00,9, -999.00,9, -999.00,9, -999.00,9,   6.2380, -999.00
096U20160426,       P15S,      91,          1,         22,       2022,2,20160610,       2120,   -23.5035,  -169.9982,       5675,   835.4,   5.6430,  34.3190,2,  34.3206,2,    212.7,2,   212.8,2,   17.09,2,   27.62,2,    0.00,4,    1.88,2,-999.000,9,-999.000,9,-999.000,9,  -999.0,9,  -999.0,9,-999.0000,9,  -999.00,-999.0000,9, -999.00,9, -999.00,9,  -999.0,9,  -999.0, -999.00,9, -999.00,9, -999.00,9, -999.00,9,   5.5705, -999.00
096U20160426,       P15S,      91,          1,         21,       2021,2,20160610,       2120,   -23.5035,  -169.9982,       5675,   935.9,   4.8900,  34.3400,2,  34.3398,2,    191.1,2,   192.8,2,   28.52,2,   30.57,2,    0.00,4,    2.09,2,-999.000,9,-999.000,9,-999.000,9,  -999.0,9,  -999.0,9,-999.0000,9,  -999.00,-999.0000,9, -999.00,9, -999.00,9,  -999.0,9,  -999.0, -999.00,9, -999.00,9, -999.00,9, -999.00,9,   4.8135, -999.00
096U20160426,       P15S,      91,          1,         20,       2020,2,20160610,       2120,   -23.5035,  -169.9982,       5675,  1035.0,   4.2350,  34.3670,2,  34.3660,2,    182.4,2,   185.5,2,   39.03,2,   32.16,2,    0.00,4,    2.20,2,-999.000,9,-999.000,9,-999.000,9,  2209.4,2,  2304.4,2,-999.0000,9,  -999.00,-999.0000,9, -999.00,9, -999.00,9,  -999.0,9,  -999.0, -999.00,9, -999.00,9, -999.00,9, -999.00,9,   4.1548, -999.00
096U20160426,       P15S,      91,          1,         19,       2019,2,20160610,       2120,   -23.5035,  -169.9982,       5675,  1134.8,   3.7540,  34.4180,2,  34.4176,2,    170.9,2,   172.1,2,   52.36,2,   33.53,2,    0.00,4,    2.31,2,-999.000,9,-999.000,9,-999.000,9,  -999.0,9,  -999.0,9,-999.0000,9,  -999.00,-999.0000,9, -999.00,9, -999.00,9,  -999.0,9,  -999.0, -999.00,9, -999.00,9, -999.00,9, -999.00,9,   3.6693, -999.00
096U20160426,       P15S,      91,          1,         18,       2018,2,20160610,       2120,   -23.5035,  -169.9982,       5675,  1239.2,   3.3410,  34.4680,2,  34.4686,2,    163.5,2,   164.2,2,   65.14,2,   34.29,2,    0.00,4,    2.36,2,-999.000,9,-999.000,9,-999.000,9,  -999.0,9,  -999.0,9,-999.0000,9,  -999.00,-999.0000,9, -999.00,9, -999.00,9,  -999.0,9,  -999.0, -999.00,9, -999.00,9, -999.00,9, -999.00,9,   3.2513, -999.00
096U20160426,       P15S,      91,          1,         17,       2017,2,20160610,       2120,   -23.5035,  -169.9982,       5675,  1400.3,   2.8910,  34.5290,2,  34.5287,2,    158.6,2,   159.5,2,   80.14,2,   34.77,2,    0.00,4,    2.40,2,-999.000,9,-999.000,9,-999.000,9,  -999.0,9,  -999.0,9,-999.0000,9,  -999.00,-999.0000,9, -999.00,9, -999.00,9,  -999.0,9,  -999.0, -999.00,9, -999.00,9, -999.00,9, -999.00,9,   2.7927, -999.00
096U20160426,       P15S,      91,          1,         16,       2016,2,20160610,       2120,   -23.5035,  -169.9982,       5675,  1559.5,   2.6330,  34.5780,2,  34.5777,2,    152.0,2,   152.5,2,   94.11,2,   35.15,2,    0.00,4,    2.44,2,   0.008,2,   0.003,2,       0,2,  2280.4,2,  2367.4,2,-999.0000,9,  -999.00,-999.0000,9, -999.00,9, -999.00,9,  -999.0,9,  -999.0, -999.00,9, -999.00,9, -999.00,9, -999.00,9,   2.5245, -999.00
096U20160426,       P15S,      91,          1,         15,       2015,2,20160610,       2120,   -23.5035,  -169.9982,       5675,  1765.3,   2.4490,  34.6070,2,  34.6057,2,    147.6,2,   148.0,2,  104.67,2,   35.48,2,    0.00,4,    2.47,2,-999.000,9,-999.000,9,-999.000,9,  -999.0,9,  -999.0,9,-999.0000,9,  -999.00,-999.0000,9, -999.00,9, -999.00,9,  -999.0,9,  -999.0, -999.00,9, -999.00,9, -999.00,9, -999.00,9,   2.3258, -999.00
096U20160426,       P15S,      91,          1,         14,       2014,2,20160610,       2120,   -23.5035,  -169.9982,       5675,  1973.9,   2.3020,  34.6240,2,  34.6222,2,    145.6,2,   146.2,2,  111.51,2,   35.68,2,    0.00,4,    2.49,2,-999.000,9,-999.000,9,-999.000,9,  -999.0,9,  -999.0,9,-999.0000,9,  -999.00,-999.0000,9, -999.00,9, -999.00,9,  -999.0,9,  -999.0, -999.00,9, -999.00,9, -999.00,9, -999.00,9,   2.1632, -999.00
096U20160426,       P15S,      91,          1,         13,       2013,2,20160610,       2120,   -23.5035,  -169.9982,       5675,  2235.0,   2.1460,  34.6390,2,  34.6370,2,    145.4,2,   145.9,2,  117.37,2,   35.79,2,    0.00,4,    2.50,2,-999.000,9,-999.000,9,-999.000,9,  -999.0,9,  -999.0,9,-999.0000,9,  -999.00,-999.0000,9, -999.00,9, -999.00,9,  -999.0,9,  -999.0, -999.00,9, -999.00,9, -999.00,9, -999.00,9,   1.9869, -999.00
096U20160426,       P15S,      91,          1,         12,       2012,2,20160610,       2120,   -23.5035,  -169.9982,       5675,  2485.4,   2.0170,  34.6510,2,  34.6496,2,    145.4,2,   146.2,2,  122.56,2,   35.86,2,    0.00,4,    2.50,2,   0.000,6,   0.000,6,       0,6,  2312.0,2,  2399.4,2,-999.0000,9,  -999.00,-999.0000,9, -999.00,9, -999.00,9,  -999.0,9,  -999.0, -999.00,9, -999.00,9, -999.00,9, -999.00,9,   1.8377, -999.00
096U20160426,       P15S,      91,          1,         11,       2011,2,20160610,       2120,   -23.5035,  -169.9982,       5675,  2735.8,   1.8900,  34.6610,2,  34.6601,2,    146.4,2,   146.6,2,  127.34,2,   35.85,2,    0.00,4,    2.50,2,-999.000,9,-999.000,9,-999.000,9,  -999.0,9,  -999.0,9,-999.0000,9,  -999.00,-999.0000,9, -999.00,9, -999.00,9,  -999.0,9,  -999.0, -999.00,9, -999.00,9, -999.00,9, -999.00,9,   1.6900, -999.00
096U20160426,       P15S,      91,          1,         10,       2010,2,20160610,       2120,   -23.5035,  -169.9982,       5675,  2991.3,   1.7880,  34.6700,2,  34.6689,2,    148.4,2,   148.7,2,  130.45,2,   35.72,2,    0.00,4,    2.49,2,-999.000,9,-999.000,9,-999.000,9,  -999.0,9,  -999.0,9,-999.0000,9,  -999.00,-999.0000,9, -999.00,9, -999.00,9,  -999.0,9,  -999.0, -999.00,9, -999.00,9, -999.00,9, -999.00,9,   1.5657, -999.00
096U20160426,       P15S,      91,          1,          9,       2009,2,20160610,       2120,   -23.5035,  -169.9982,       5675,  3270.6,   1.6810,  34.6790,2,  34.6770,2,    154.2,2,   154.6,2,  130.56,2,   35.29,2,    0.00,4,    2.45,2,-999.000,9,-999.000,9,-999.000,9,  -999.0,9,  -999.0,9,-999.0000,9,  -999.00,-999.0000,9, -999.00,9, -999.00,9,  -999.0,9,  -999.0, -999.00,9, -999.00,9, -999.00,9, -999.00,9,   1.4336, -999.00
096U20160426,       P15S,      91,          1,          8,       2008,2,20160610,       2120,   -23.5035,  -169.9982,       5675,  3586.4,   1.5450,  34.7020,2,  34.7027,2,    174.9,2,   176.6,2,  118.87,2,   33.39,2,    0.00,4,    2.31,2,-999.000,9,-999.000,9,-999.000,9,  -999.0,9,  -999.0,9,-999.0000,9,  -999.00,-999.0000,9, -999.00,9, -999.00,9,  -999.0,9,  -999.0, -999.00,9, -999.00,9, -999.00,9, -999.00,9,   1.2687, -999.00
096U20160426,       P15S,      91,          1,          7,       2007,2,20160610,       2120,   -23.5035,  -169.9982,       5675,  3950.6,   1.3650,  34.7190,2,  34.7178,2,    194.1,2,   197.1,2,  110.33,2,   31.78,2,    0.00,4,    2.19,2,-999.000,9,-999.000,9,-999.000,9,  -999.0,9,  -999.0,9,-999.0000,9,  -999.00,-999.0000,9, -999.00,9, -999.00,9,  -999.0,9,  -999.0, -999.00,9, -999.00,9, -999.00,9, -999.00,9,   1.0550, -999.00
096U20160426,       P15S,      91,          1,          6,       2006,2,20160610,       2120,   -23.5035,  -169.9982,       5675,  4360.2,   1.1710,  34.7160,2,  34.7149,2,    201.0,2,   203.0,2,  114.38,2,   31.73,2,    0.00,4,    2.18,2,-999.000,9,-999.000,9,-999.000,9,  -999.0,9,  -999.0,9,-999.0000,9,  -999.00,-999.0000,9, -999.00,9, -999.00,9,  -999.0,9,  -999.0, -999.00,9, -999.00,9, -999.00,9, -999.00,9,   0.8217, -999.00
096U20160426,       P15S,      91,          1,          5,       2005,2,20160610,       2120,   -23.5035,  -169.9982,       5675,  4747.5,   1.0790,  34.7120,2,  34.7112,2,    204.4,2,   205.6,2,  117.81,2,   31.94,2,    0.00,4,    2.19,2,-999.000,9,-999.000,9,-999.000,9,  -999.0,9,  -999.0,9,-999.0000,9,  -999.00,-999.0000,9, -999.00,9, -999.00,9,  -999.0,9,  -999.0, -999.00,9, -999.00,9, -999.00,9, -999.00,9,   0.6885, -999.00
096U20160426,       P15S,      91,          1,          4,       2004,2,20160610,       2120,   -23.5035,  -169.9982,       5675,  5157.9,   1.0760,  34.7090,2,  34.7093,2,    206.4,2,   206.6,2,  119.33,2,   32.00,2,    0.00,4,    2.20,2,-999.000,9,-999.000,9,-999.000,9,  -999.0,9,  -999.0,9,-999.0000,9,  -999.00,-999.0000,9, -999.00,9, -999.00,9,  -999.0,9,  -999.0, -999.00,9, -999.00,9, -999.00,9, -999.00,9,   0.6369, -999.00
096U20160426,       P15S,      91,          1,          3,       2003,2,20160610,       2120,   -23.5035,  -169.9982,       5675,  5507.8,   1.1100,  34.7090,2,  34.7084,2,    207.7,2,   206.6,2,  119.66,2,   32.00,2,    0.00,4,    2.20,2,   0.117,2,   0.043,2,       0,2,  2264.0,6,  2365.5,6,-999.0000,9,  -999.00,-999.0000,9, -999.00,9, -999.00,9,  -999.0,9,  -999.0, -999.00,9, -999.00,9, -999.00,9, -999.00,9,   0.6264, -999.00
096U20160426,       P15S,      91,          1,          2,       2002,2,20160610,       2120,   -23.5035,  -169.9982,       5675,  5662.2,   1.1300,  34.7090,2,  34.7085,2,    208.1,2,   206.3,2,  119.64,2,   31.99,2,    0.00,4,    2.20,2,-999.000,9,-999.000,9,-999.000,9,  -999.0,9,  -999.0,9,-999.0000,9,  -999.00,-999.0000,9, -999.00,9, -999.00,9,  -999.0,9,  -999.0, -999.00,9, -999.00,9, -999.00,9, -999.00,9,   0.6261, -999.00
096U20160426,       P15S,      91,          1,          1,       2001,2,20160610,       2120,   -23.5035,  -169.9982,       5675,  5767.7,   1.1440,  34.7080,2,  34.7082,2,    208.3,2,   206.0,2,  119.63,2,   31.99,2,    0.00,4,    2.20,2,   0.086,2,   0.046,2,       0,2,  2264.8,2,  2365.2,2,-999.0000,9,  -999.00,-999.0000,9, -999.00,9, -999.00,9,  -999.0,9,  -999.0, -999.00,9, -999.00,9, -999.00,9, -999.00,9,   0.6261, -999.00