BOTTLE,20230413CCHSIOENA
EXPOCODE,SECT_ID,STNNBR,CASTNO,SAMPNO,BTLNBR,BTLNBR_FLAG_W,DATE,TIME,LATITUDE,LONGITUDE,DEPTH,CTDPRS,CTDTMP,CTDSAL,CTDSAL_FLAG_W,SALNTY,SALNTY_FLAG_W,CTDOXY,CTDOXY_FLAG_W,OXYGEN,OXYGEN_FLAG_W,SILCAT,SILCAT_FLAG_W,NITRAT,NITRAT_FLAG_W,NITRIT,NITRIT_FLAG_W,PHSPHT,PHSPHT_FLAG_W,CFC-11,CFC-11_FLAG_W,CFC-12,CFC-12_FLAG_W,SF6,SF6_FLAG_W,TCARBN,TCARBN_FLAG_W,ALKALI,ALKALI_FLAG_W,PH_TOT,PH_TOT_FLAG_W,PH_TMP,HELIUM,HELIUM_FLAG_W,DELHE3,DELHE3_FLAG_W,DELC13,DELC13_FLAG_W,DELC14,DELC14_FLAG_W,C14ERR,POC,POC_FLAG_W,PON,PON_FLAG_W,CHLORA,CHLORA_FLAG_W,PPHYTN,PPHYTN_FLAG_W,THETA,DELHER
,,,,,,,,,,,METERS,DBAR,ITS-90,PSS-78,,PSS-78,,UMOL/KG,,UMOL/KG,,UMOL/KG,,UMOL/KG,,UMOL/KG,,UMOL/KG,,PMOL/KG,,PMOL/KG,,FMOL/KG,,UMOL/KG,,UMOL/KG,,,,DEG C,NMOL/KG,,PERCNT,,/MILLE,,/MILLE,,/MILLE,UG/KG,,UG/KG,,UG/KG,,UG/KG,,DEG C,PERCNT
096U20160426,       P15S,      13,          1,         36,       2036,2,20160509,       2033,   -61.0057,  -170.0017,       4311,     6.0,   1.5310,  34.0020,2,  33.9981,2,    331.2,2,   322.4,2,   27.19,2,   28.82,2,    0.28,2,    2.03,2,   5.396,2,   2.828,2,   3.108,2,  2173.2,2,  2289.7,6,-999.0000,9,  -999.00,-999.0000,9, -999.00,9,    1.12,2,   -91.8,2,     2.0, -999.00,9, -999.00,9,    0.19,2,    0.40,3,   1.5307, -999.00
096U20160426,       P15S,      13,          1,         35,       2035,2,20160509,       2033,   -61.0057,  -170.0017,       4311,    20.4,   1.5330,  34.0020,2,  33.9892,2,    331.1,2,   322.3,2,   27.21,2,   28.81,2,    0.28,2,    2.03,2,-999.000,9,-999.000,9,-999.000,9,  2174.6,2,  2289.8,2,-999.0000,9,  -999.00,-999.0000,9, -999.00,9,    1.15,2,   -87.2,2,     2.0, -999.00,9, -999.00,9,    0.22,2,    0.05,3,   1.5320, -999.00
096U20160426,       P15S,      13,          1,         34,       2034,2,20160509,       2033,   -61.0057,  -170.0017,       4311,    41.1,   1.5370,  34.0030,2,  34.0031,2,    330.8,2,   322.2,2,   27.34,2,   28.86,2,    0.28,2,    2.03,2,   5.376,6,   2.817,6,   3.136,6,  -999.0,9,  -999.0,9,-999.0000,9,  -999.00,-999.0000,9, -999.00,9, -999.00,9,  -999.0,9,  -999.0, -999.00,9, -999.00,9, -999.00,9, -999.00,9,   1.5351, -999.00
096U20160426,       P15S,      13,          1,         33,       2033,2,20160509,       2033,   -61.0057,  -170.0017,       4311,    65.9,   1.5400,  34.0050,2,  34.0044,2,    330.5,2,   321.9,2,   27.44,2,   28.87,2,    0.28,2,    2.03,2,   5.368,2,   2.806,2,   3.188,2,  2173.7,2,  2289.5,2,-999.0000,9,  -999.00,-999.0000,9, -999.00,9,    1.12,2,   -90.2,2,     2.0, -999.00,9, -999.00,9,    0.38,2,   -0.18,3,   1.5369, -999.00
096U20160426,       P15S,      13,          1,         32,       2032,2,20160509,       2033,   -61.0057,  -170.0017,       4311,    91.9,   1.5410,  34.0080,2,  34.0071,2,    330.2,2,   321.9,2,   27.72,2,   28.92,2,    0.28,2,    2.04,2,   5.369,2,   2.815,2,   3.079,2,  2175.6,2,  2288.9,2,-999.0000,9,  -999.00,-999.0000,9, -999.00,9, -999.00,9,  -999.0,9,  -999.0, -999.00,9, -999.00,9,    0.07,2,    0.18,3,   1.5366, -999.00
096U20160426,       P15S,      13,          1,         31,       2031,2,20160509,       2033,   -61.0057,  -170.0017,       4311,   134.9,   1.5340,  34.0170,2,  34.0161,2,    328.8,2,   320.4,2,   28.60,2,   29.12,2,    0.27,2,    2.05,2,   5.306,2,   2.798,2,   3.062,2,  2175.7,2,  2291.6,2,-999.0000,9,  -999.00,-999.0000,9, -999.00,9,    1.10,2,   -90.8,2,     2.0, -999.00,9, -999.00,9,    0.13,2,    0.12,3,   1.5275, -999.00
096U20160426,       P15S,      13,          1,         30,       2030,2,20160509,       2033,   -61.0057,  -170.0017,       4311,   184.5,   1.7410,  34.1580,2,  34.1756,2,    271.7,2,   258.1,2,   43.07,2,   32.80,2,    0.03,2,    2.27,2,   3.958,2,   2.052,2,   1.944,2,  2210.6,2,  2298.8,2,-999.0000,9,  -999.00,-999.0000,9, -999.00,9,    0.81,2,   -98.3,2,     2.0, -999.00,9, -999.00,9, -999.00,9, -999.00,9,   1.7317, -999.00
096U20160426,       P15S,      13,          1,         29,       2029,2,20160509,       2033,   -61.0057,  -170.0017,       4311,   235.3,   1.8750,  34.2510,2,  34.2488,2,    243.1,2,   233.6,2,   49.93,2,   33.77,2,    0.01,4,    2.33,2,   3.250,2,   1.659,2,   1.503,2,  2221.6,2,  2304.6,2,-999.0000,9,  -999.00,-999.0000,9, -999.00,9,    0.67,2,  -105.2,2,     2.0, -999.00,9, -999.00,9, -999.00,9, -999.00,9,   1.8627, -999.00
096U20160426,       P15S,      13,          1,         28,       2028,2,20160509,       2033,   -61.0057,  -170.0017,       4311,   284.1,   1.9920,  34.3170,2,  34.3139,2,    226.3,2,   219.1,2,   54.21,2,   34.23,2,    0.01,4,    2.36,2,   2.751,2,   1.408,2,   1.183,2,  2231.5,2,  2309.3,2,-999.0000,9,  -999.00,-999.0000,9, -999.00,9, -999.00,9,  -999.0,9,  -999.0, -999.00,9, -999.00,9, -999.00,9, -999.00,9,   1.9767, -999.00
096U20160426,       P15S,      13,          1,         27,       2027,2,20160509,       2033,   -61.0057,  -170.0017,       4311,   335.6,   2.0100,  34.3540,2,  34.3635,2,    217.8,2,   208.4,2,   58.65,2,   34.54,2,    0.01,4,    2.38,2,   2.353,2,   1.210,2,   0.964,2,  2236.5,2,  2315.2,2,-999.0000,9,  -999.00,-999.0000,9, -999.00,9,    0.57,2,  -120.6,2,     2.0, -999.00,9, -999.00,9, -999.00,9, -999.00,9,   1.9918, -999.00
096U20160426,       P15S,      13,          1,         26,       2026,2,20160509,       2033,   -61.0057,  -170.0017,       4311,   386.0,   2.1370,  34.4110,2,  34.4112,2,    203.1,2,   196.4,2,   62.22,2,   34.74,2,    0.01,4,    2.40,2,   1.934,2,   0.988,2,   0.762,2,  2243.3,2,  2318.1,2,-999.0000,9,  -999.00,-999.0000,9, -999.00,9,    0.49,2,  -124.8,2,     2.0, -999.00,9, -999.00,9, -999.00,9, -999.00,9,   2.1154, -999.00
096U20160426,       P15S,      13,          1,         25,       2025,2,20160509,       2033,   -61.0057,  -170.0017,       4311,   436.8,   2.3170,  34.4770,2,  34.4764,2,    188.3,2,   181.5,2,   66.69,2,   34.89,2,    0.01,4,    2.42,2,   1.346,2,   0.682,2,   0.454,2,  2250.6,2,  2324.3,6,-999.0000,9,  -999.00,-999.0000,9, -999.00,9,    0.50,2,  -129.6,2,     2.0, -999.00,9, -999.00,9, -999.00,9, -999.00,9,   2.2917, -999.00
096U20160426,       P15S,      13,          1,         24,       2024,2,20160509,       2033,   -61.0057,  -170.0017,       4311,   485.8,   2.2960,  34.5080,2,  34.5076,2,    184.5,2,   177.8,2,   69.32,2,   34.86,2,    0.01,4,    2.41,2,   1.149,2,   0.572,2,   0.361,2,  2252.9,6,  2326.9,6,-999.0000,9,  -999.00,-999.0000,9, -999.00,9, -999.00,9,  -999.0,9,  -999.0, -999.00,9, -999.00,9, -999.00,9, -999.00,9,   2.2677, -999.00
096U20160426,       P15S,      13,          1,         23,       2023,2,20160509,       2033,   -61.0057,  -170.0017,       4311,   565.1,   2.3220,  34.5610,2,  34.5600,2,    180.2,2,  -999.0,9,   72.69,2,   34.46,2,    0.01,4,    2.39,2,   0.840,2,   0.415,2,   0.245,2,  2255.7,2,  2331.0,2,-999.0000,9,  -999.00,-999.0000,9, -999.00,9,    0.43,2,  -138.6,2,     2.0, -999.00,9, -999.00,9, -999.00,9, -999.00,9,   2.2886, -999.00
096U20160426,       P15S,      13,          1,         22,       2022,2,20160509,       2033,   -61.0057,  -170.0017,       4311,   667.0,   2.2990,  34.6100,2,  34.6094,2,    179.5,2,   173.1,2,   75.41,2,   33.91,2,    0.01,4,    2.35,2,   0.605,2,   0.309,2,   0.141,2,  2257.6,2,  2335.1,2,-999.0000,9,  -999.00,-999.0000,9, -999.00,9,    0.45,2,  -142.0,2,     2.0, -999.00,9, -999.00,9, -999.00,9, -999.00,9,   2.2591, -999.00
096U20160426,       P15S,      13,          1,         21,       2021,2,20160509,       2033,   -61.0057,  -170.0017,       4311,   764.5,   2.2730,  34.6470,2,  34.6481,2,    180.5,2,   174.4,2,   77.60,2,   33.31,2,    0.01,4,    2.31,2,   0.442,2,   0.224,2,   0.104,2,  2256.1,2,  2338.6,2,-999.0000,9,  -999.00,-999.0000,9, -999.00,9,    0.30,4,  -146.3,2,     2.0, -999.00,9, -999.00,9, -999.00,9, -999.00,9,   2.2267, -999.00
096U20160426,       P15S,      13,          1,         20,       2020,2,20160509,       2033,   -61.0057,  -170.0017,       4311,   867.1,   2.2260,  34.6780,2,  34.6770,2,    183.2,2,   177.3,2,   79.29,2,   32.71,2,    0.00,4,    2.26,2,   0.336,2,   0.172,2,   0.115,2,  2256.4,2,  2340.8,2,-999.0000,9,  -999.00,-999.0000,9, -999.00,9,    0.43,2,  -145.9,2,     2.0, -999.00,9, -999.00,9, -999.00,9, -999.00,9,   2.1731, -999.00
096U20160426,       P15S,      13,          1,         19,       2019,2,20160509,       2033,   -61.0057,  -170.0017,       4311,   966.1,   2.1750,  34.6950,2,  34.6947,2,    185.2,2,   179.5,2,   80.79,2,   32.33,2,    0.00,4,    2.23,2,   0.289,2,   0.148,2,   0.114,2,  2256.0,2,  2343.5,2,-999.0000,9,  -999.00,-999.0000,9, -999.00,9,    0.46,2,  -149.8,2,     2.0, -999.00,9, -999.00,9, -999.00,9, -999.00,9,   2.1156, -999.00
096U20160426,       P15S,      13,          1,         18,       2018,2,20160509,       2033,   -61.0057,  -170.0017,       4311,  1063.6,   2.1070,  34.7110,2,  34.7114,2,    187.8,2,   182.4,2,   82.68,2,   31.97,2,    0.00,4,    2.21,2,   0.243,2,   0.124,2,    0.06,2,  2255.6,2,  2345.0,2,-999.0000,9,  -999.00,-999.0000,9, -999.00,9,    0.40,2,  -148.1,2,     2.0, -999.00,9, -999.00,9, -999.00,9, -999.00,9,   2.0413, -999.00
096U20160426,       P15S,      13,          1,         17,       2017,2,20160509,       2033,   -61.0057,  -170.0017,       4311,  1169.0,   2.0410,  34.7230,2,  34.7218,2,    189.6,2,   184.6,2,   84.38,2,   31.69,2,    0.00,4,    2.19,2,   0.220,6,   0.110,6,   0.042,2,  2254.6,2,  2345.8,2,-999.0000,9,  -999.00,-999.0000,9, -999.00,9,    0.47,2,  -152.4,2,     2.0, -999.00,9, -999.00,9, -999.00,9, -999.00,9,   1.9684, -999.00
096U20160426,       P15S,      13,          1,         16,       2016,2,20160509,       2033,   -61.0057,  -170.0017,       4311,  1265.0,   1.9840,  34.7300,2,  34.7271,2,    191.6,2,   186.8,2,   85.90,2,   31.51,2,    0.00,4,    2.18,2,-999.000,9,-999.000,9,-999.000,9,  -999.0,9,  -999.0,9,-999.0000,9,  -999.00,-999.0000,9, -999.00,9,    0.40,2,  -148.4,2,     2.0, -999.00,9, -999.00,9, -999.00,9, -999.00,9,   1.9050, -999.00
096U20160426,       P15S,      13,          1,         15,       2015,2,20160509,       2033,   -61.0057,  -170.0017,       4311,  1364.7,   1.9080,  34.7360,2,  34.7350,2,    193.4,2,   188.8,2,   87.98,2,   31.33,2,    0.00,4,    2.17,2,   0.180,2,   0.092,2,    0.03,2,  2254.2,6,  2349.9,6,-999.0000,9,  -999.00,-999.0000,9, -999.00,9,    0.40,2,  -155.8,3,     2.0, -999.00,9, -999.00,9, -999.00,9, -999.00,9,   1.8225, -999.00
096U20160426,       P15S,      13,          1,         14,       2014,2,20160509,       2033,   -61.0057,  -170.0017,       4311,  1465.7,   1.8230,  34.7390,2,  34.7391,2,    195.6,2,   191.2,2,   90.14,2,   31.24,2,    0.00,4,    2.16,2,   0.163,2,   0.082,2,       0,2,  2255.5,2,  2351.9,2,-999.0000,9,  -999.00,-999.0000,9, -999.00,9,    0.42,2,  -150.1,2,     2.0, -999.00,9, -999.00,9, -999.00,9, -999.00,9,   1.7309, -999.00
096U20160426,       P15S,      13,          1,         13,       2013,2,20160509,       2033,   -61.0057,  -170.0017,       4311,  1563.8,   1.7480,  34.7400,2,  34.7402,2,    197.0,2,   192.8,2,   92.33,2,   31.19,2,    0.00,4,    2.16,2,   0.153,2,   0.076,2,   0.024,2,  2254.4,2,  2353.7,2,-999.0000,9,  -999.00,-999.0000,9, -999.00,9,    0.40,2,  -153.0,2,     2.0, -999.00,9, -999.00,9, -999.00,9, -999.00,9,   1.6494, -999.00
096U20160426,       P15S,      13,          1,         12,       2012,2,20160509,       2033,   -61.0057,  -170.0017,       4311,  1736.1,   1.6080,  34.7390,2,  34.7387,2,    199.3,2,   195.3,2,   96.26,2,   31.24,2,    0.00,4,    2.17,2,   0.148,2,   0.075,2,       0,2,  2256.7,2,  2354.8,2,-999.0000,9,  -999.00,-999.0000,9, -999.00,9,    0.41,2,  -156.1,2,     2.0, -999.00,9, -999.00,9, -999.00,9, -999.00,9,   1.4981, -999.00
096U20160426,       P15S,      13,          1,         11,       2011,2,20160509,       2033,   -61.0057,  -170.0017,       4311,  1935.3,   1.4370,  34.7350,2,  34.7322,2,    201.6,2,   197.9,2,  101.27,2,   31.40,2,    0.00,4,    2.18,2,   0.141,2,   0.071,2,       0,2,  2259.4,2,  2356.4,2,-999.0000,9,  -999.00,-999.0000,9, -999.00,9,    0.43,2,  -157.1,2,     2.0, -999.00,9, -999.00,9, -999.00,9, -999.00,9,   1.3139, -999.00
096U20160426,       P15S,      13,          1,         10,       2010,2,20160509,       2033,   -61.0057,  -170.0017,       4311,  2166.1,   1.2730,  34.7290,2,  34.7278,2,    203.5,2,   200.0,2,  106.46,2,   31.65,2,    0.00,4,    2.20,2,-999.000,9,-999.000,9,-999.000,9,  -999.0,9,  -999.0,9,-999.0000,9,  -999.00,-999.0000,9, -999.00,9,    0.39,2,  -161.0,2,     2.0, -999.00,9, -999.00,9, -999.00,9, -999.00,9,   1.1340, -999.00
096U20160426,       P15S,      13,          1,          9,       2009,2,20160509,       2033,   -61.0057,  -170.0017,       4311,  2462.8,   1.1250,  34.7220,2,  34.7212,2,    205.5,2,   202.4,2,  110.98,2,   31.84,2,    0.00,4,    2.21,2,   0.164,2,   0.083,2,   0.069,2,  2261.2,6,  2361.5,6,-999.0000,9,  -999.00,-999.0000,9, -999.00,9,    0.39,2,  -156.6,2,     2.0, -999.00,9, -999.00,9, -999.00,9, -999.00,9,   0.9640, -999.00
096U20160426,       P15S,      13,          1,          8,       2008,2,20160509,       2033,   -61.0057,  -170.0017,       4311,  2666.3,   0.9910,  34.7160,2,  34.7063,2,    207.8,2,   204.8,2,  115.03,2,   32.01,2,    0.00,4,    2.23,2,   0.190,2,   0.097,2,   0.072,2,  2261.9,2,  2362.4,2,-999.0000,9,  -999.00,-999.0000,9, -999.00,9,    0.42,2,  -159.6,2,     2.0, -999.00,9, -999.00,9, -999.00,9, -999.00,9,   0.8151, -999.00
096U20160426,       P15S,      13,          1,          7,       2007,2,20160509,       2033,   -61.0057,  -170.0017,       4311,  2917.4,   0.8900,  34.7120,2,  34.7091,2,    209.5,2,   207.1,2,  118.61,2,   32.16,2,    0.00,4,    2.24,2,   0.214,2,   0.108,2,       0,2,  2263.7,2,  2361.2,2,-999.0000,9,  -999.00,-999.0000,9, -999.00,9,    0.39,2,  -157.9,2,     2.0, -999.00,9, -999.00,9, -999.00,9, -999.00,9,   0.6940, -999.00
096U20160426,       P15S,      13,          1,          6,       2006,2,20160509,       2033,   -61.0057,  -170.0017,       4311,  3201.0,   0.8350,  34.7080,2,  34.7074,2,    210.0,2,   207.1,2,  123.83,2,   32.31,2,    0.00,4,    2.25,2,   0.216,2,   0.109,2,   0.065,2,  2265.0,2,  2363.3,6,-999.0000,9,  -999.00,-999.0000,9, -999.00,9,    0.55,3,  -162.3,2,     2.0, -999.00,9, -999.00,9, -999.00,9, -999.00,9,   0.6142, -999.00
096U20160426,       P15S,      13,          1,          5,       2005,2,20160509,       2033,   -61.0057,  -170.0017,       4311,  3502.1,   0.8400,  34.7070,2,  34.7042,2,    210.3,2,   207.1,2,  126.07,2,   32.37,2,    0.00,4,    2.25,2,   0.218,2,   0.108,2,   0.098,2,  2266.9,2,  2364.5,2,-999.0000,9,  -999.00,-999.0000,9, -999.00,9,    0.46,2,  -158.7,2,     2.0, -999.00,9, -999.00,9, -999.00,9, -999.00,9,   0.5902, -999.00
096U20160426,       P15S,      13,          1,          4,       2004,2,20160509,       2033,   -61.0057,  -170.0017,       4311,  3799.0,   0.8680,  34.7070,2,  34.7067,2,    210.2,3,   207.1,2,  126.71,2,   32.40,2,    0.00,4,    2.25,2,   0.217,2,   0.109,2,    0.06,2,  2264.7,2,  2364.3,2,-999.0000,9,  -999.00,-999.0000,9, -999.00,9,    0.47,2,  -159.2,2,     2.0, -999.00,9, -999.00,9, -999.00,9, -999.00,9,   0.5876, -999.00
096U20160426,       P15S,      13,          1,          3,       2003,2,20160509,       2033,   -61.0057,  -170.0017,       4311,  4068.6,   0.8950,  34.7060,2,  34.7065,2,    210.3,2,   207.1,2,  126.50,2,   32.35,2,    0.00,4,    2.25,2,   0.219,6,   0.110,6,       0,6,  2265.0,2,  2364.3,2,-999.0000,9,  -999.00,-999.0000,9, -999.00,9,    0.48,2,  -161.0,2,     2.0, -999.00,9, -999.00,9, -999.00,9, -999.00,9,   0.5858, -999.00
096U20160426,       P15S,      13,          1,          2,       2002,2,20160509,       2033,   -61.0057,  -170.0017,       4311,  4271.0,   0.9120,  34.7060,2,  34.7058,2,    210.5,3,   207.8,2,  126.66,2,   32.40,2,    0.00,4,    2.25,2,   0.223,2,   0.110,2,       0,2,  2264.6,2,  2363.8,2,-999.0000,9,  -999.00,-999.0000,9, -999.00,9,    0.50,2,  -161.4,2,     2.0, -999.00,9, -999.00,9, -999.00,9, -999.00,9,   0.5805, -999.00
096U20160426,       P15S,      13,          1,          1,       2001,2,20160509,       2033,   -61.0057,  -170.0017,       4311,  4390.3,   0.9210,  34.7060,2,  34.7070,2,    210.6,2,   206.4,2,  123.68,2,   32.32,2,    0.00,4,    2.25,2,   0.227,2,   0.115,2,   0.052,2,  2263.7,2,  2363.2,2,-999.0000,9,  -999.00,-999.0000,9, -999.00,9,    0.49,2,  -160.9,2,     2.0, -999.00,9, -999.00,9, -999.00,9, -999.00,9,   0.5761, -999.00
096U20160426,       P15S,      14,          1,          5,       2005,2,20160510,       0055,   -60.5038,  -169.9908,       3918,  3499.7,   0.8690,  34.7080,2,  34.7080,2,    210.4,2,   206.9,2,  124.37,2,   32.44,2,    0.01,4,    2.24,2,   0.207,2,   0.103,2,    0.07,2,  2264.8,2,  2363.1,6,-999.0000,9,  -999.00,   1.8770,2,    9.39,2, -999.00,9,  -999.0,9,  -999.0, -999.00,9, -999.00,9, -999.00,9, -999.00,9,   0.6186,    0.48
096U20160426,       P15S,      14,          1,          4,       2004,2,20160510,       0055,   -60.5038,  -169.9908,       3918,  3651.9,   0.8670,  34.7070,2,  34.7114,2,    210.7,2,   206.9,2,  125.79,2,   32.44,2,    0.01,4,    2.25,2,   0.212,2,   0.109,2,   0.051,2,  2264.7,2,  2363.7,2,-999.0000,9,  -999.00,   1.8160,2,    9.63,2, -999.00,9,  -999.0,9,  -999.0, -999.00,9, -999.00,9, -999.00,9, -999.00,9,   0.6016,    1.09
096U20160426,       P15S,      14,          1,          3,       2003,2,20160510,       0055,   -60.5038,  -169.9908,       3918,  3800.8,   0.8710,  34.7060,2,  34.7063,2,    210.5,2,   206.9,2,  127.17,2,   32.46,2,    0.01,4,    2.25,2,   0.215,2,   0.107,2,   0.038,2,  2265.3,2,  2364.0,2,-999.0000,9,  -999.00,   1.9298,2,   10.11,2, -999.00,9,  -999.0,9,  -999.0, -999.00,9, -999.00,9, -999.00,9, -999.00,9,   0.5904,    0.33
096U20160426,       P15S,      14,          1,          2,       2002,2,20160510,       0055,   -60.5038,  -169.9908,       3918,  3899.3,   0.8810,  34.7060,2,  34.7084,2,    210.4,2,   207.0,2,  127.48,2,   32.47,2,    0.01,4,    2.25,2,   0.214,2,   0.107,2,   0.056,2,  2265.5,6,  2364.1,6,-999.0000,9,  -999.00,   1.8670,2,    9.17,2, -999.00,9,  -999.0,9,  -999.0, -999.00,9, -999.00,9, -999.00,9, -999.00,9,   0.5899,    1.10
096U20160426,       P15S,      14,          1,          1,       2001,2,20160510,       0055,   -60.5038,  -169.9908,       3918,  3987.5,   0.8870,  34.7060,2,  34.7062,2,    210.6,2,   205.4,2,  119.93,2,   32.26,2,    0.01,4,    2.24,2,   0.227,2,   0.116,2,   0.075,2,  2263.4,2,  2360.7,2,-999.0000,9,  -999.00,   1.8540,2,    9.21,2, -999.00,9,  -999.0,9,  -999.0, -999.00,9, -999.00,9, -999.00,9, -999.00,9,   0.5866,    1.08