BOTTLE,20230413CCHSIOENA
EXPOCODE,SECT_ID,STNNBR,CASTNO,SAMPNO,BTLNBR,BTLNBR_FLAG_W,DATE,TIME,LATITUDE,LONGITUDE,DEPTH,CTDPRS,CTDTMP,CTDSAL,CTDSAL_FLAG_W,SALNTY,SALNTY_FLAG_W,CTDOXY,CTDOXY_FLAG_W,OXYGEN,OXYGEN_FLAG_W,SILCAT,SILCAT_FLAG_W,NITRAT,NITRAT_FLAG_W,NITRIT,NITRIT_FLAG_W,PHSPHT,PHSPHT_FLAG_W,CFC-11,CFC-11_FLAG_W,CFC-12,CFC-12_FLAG_W,SF6,SF6_FLAG_W,TCARBN,TCARBN_FLAG_W,ALKALI,ALKALI_FLAG_W,PH_TOT,PH_TOT_FLAG_W,PH_TMP,HELIUM,HELIUM_FLAG_W,DELHE3,DELHE3_FLAG_W,DELC13,DELC13_FLAG_W,DELC14,DELC14_FLAG_W,C14ERR,POC,POC_FLAG_W,PON,PON_FLAG_W,CHLORA,CHLORA_FLAG_W,PPHYTN,PPHYTN_FLAG_W,THETA,DELHER
,,,,,,,,,,,METERS,DBAR,ITS-90,PSS-78,,PSS-78,,UMOL/KG,,UMOL/KG,,UMOL/KG,,UMOL/KG,,UMOL/KG,,UMOL/KG,,PMOL/KG,,PMOL/KG,,FMOL/KG,,UMOL/KG,,UMOL/KG,,,,DEG C,NMOL/KG,,PERCNT,,/MILLE,,/MILLE,,/MILLE,UG/KG,,UG/KG,,UG/KG,,UG/KG,,DEG C,PERCNT
096U20160426,       P15S,      42,          1,         36,       2036,2,20160520,       1806,   -46.7122,  -170.9118,       5298,    11.1,  11.4970,  34.6790,2,  34.6794,2,    262.1,2,   262.9,2,    0.92,2,    5.94,2,    0.31,2,    0.58,2,-999.000,9,-999.000,9,-999.000,9,  2090.3,2,  2296.6,2,-999.0000,9,  -999.00,-999.0000,9, -999.00,9, -999.00,9,  -999.0,9,  -999.0, -999.00,9, -999.00,9,    0.73,2,    0.06,3,  11.4956, -999.00
096U20160426,       P15S,      42,          1,         35,       2035,2,20160520,       1806,   -46.7122,  -170.9118,       5298,    19.3,  11.5180,  34.6790,2,  34.6790,2,    262.0,2,   263.0,2,    0.92,2,    5.95,2,    0.31,2,    0.58,2,-999.000,9,-999.000,9,-999.000,9,  -999.0,9,  -999.0,9,-999.0000,9,  -999.00,-999.0000,9, -999.00,9, -999.00,9,  -999.0,9,  -999.0, -999.00,9, -999.00,9, -999.00,9, -999.00,9,  11.5156, -999.00
096U20160426,       P15S,      42,          1,         34,       2034,2,20160520,       1806,   -46.7122,  -170.9118,       5298,    40.4,  11.5140,  34.6800,2,  34.6793,2,    262.2,2,   262.9,2,    0.91,2,    5.95,2,    0.31,2,    0.58,2,-999.000,9,-999.000,9,-999.000,9,  -999.0,9,  -999.0,9,-999.0000,9,  -999.00,-999.0000,9, -999.00,9, -999.00,9,  -999.0,9,  -999.0, -999.00,9, -999.00,9,    0.74,2,    0.09,3,  11.5089, -999.00
096U20160426,       P15S,      42,          1,         33,       2033,2,20160520,       1806,   -46.7122,  -170.9118,       5298,    64.2,  11.5190,  34.6810,2,  34.6802,2,    261.5,2,   262.9,2,    0.91,2,    5.95,2,    0.32,2,    0.58,2,-999.000,9,-999.000,9,-999.000,9,  -999.0,9,  -999.0,9,-999.0000,9,  -999.00,-999.0000,9, -999.00,9, -999.00,9,  -999.0,9,  -999.0, -999.00,9, -999.00,9,    0.72,2,    0.11,3,  11.5109, -999.00
096U20160426,       P15S,      42,          1,         32,       2032,2,20160520,       1806,   -46.7122,  -170.9118,       5298,    92.3,  11.5280,  34.6830,2,  34.6800,2,    261.7,2,   262.9,2,    0.91,2,    5.96,2,    0.32,2,    0.58,2,-999.000,9,-999.000,9,-999.000,9,  -999.0,9,  -999.0,9,-999.0000,9,  -999.00,-999.0000,9, -999.00,9, -999.00,9,  -999.0,9,  -999.0, -999.00,9, -999.00,9,    0.76,2,    0.08,3,  11.5164, -999.00
096U20160426,       P15S,      42,          1,         31,       2031,2,20160520,       1806,   -46.7122,  -170.9118,       5298,   132.8,  10.9080,  34.7100,2,  34.7172,2,    249.8,2,   251.3,2,    1.70,2,    9.05,2,    0.12,2,    0.73,2,-999.000,9,-999.000,9,-999.000,9,  2109.8,2,  2293.7,2,-999.0000,9,  -999.00,-999.0000,9, -999.00,9, -999.00,9,  -999.0,9,  -999.0, -999.00,9, -999.00,9,    0.17,2,    0.03,3,  10.8918, -999.00
096U20160426,       P15S,      42,          1,         30,       2030,2,20160520,       1806,   -46.7122,  -170.9118,       5298,   185.5,  10.0860,  34.7490,2,  34.7478,2,    249.0,2,   250.2,2,    2.61,2,   11.52,2,    0.02,4,    0.86,2,-999.000,9,-999.000,9,-999.000,9,  -999.0,9,  -999.0,9,-999.0000,9,  -999.00,-999.0000,9, -999.00,9, -999.00,9,  -999.0,9,  -999.0, -999.00,9, -999.00,9, -999.00,9, -999.00,9,  10.0644, -999.00
096U20160426,       P15S,      42,          1,         29,       2029,2,20160520,       1806,   -46.7122,  -170.9118,       5298,   236.1,   9.8540,  34.7300,2,  34.7263,2,    252.9,2,   254.2,2,    2.73,2,   11.90,2,    0.02,4,    0.88,2,-999.000,9,-999.000,9,-999.000,9,  -999.0,9,  -999.0,9,-999.0000,9,  -999.00,-999.0000,9, -999.00,9, -999.00,9,  -999.0,9,  -999.0, -999.00,9, -999.00,9, -999.00,9, -999.00,9,   9.8269, -999.00
096U20160426,       P15S,      42,          1,         28,       2028,2,20160520,       1806,   -46.7122,  -170.9118,       5298,   284.2,   9.6100,  34.6920,2,  34.6895,2,    253.1,2,   254.5,2,    2.95,2,   12.86,2,    0.01,4,    0.93,2,-999.000,9,-999.000,9,-999.000,9,  2121.6,2,  2290.7,6,-999.0000,9,  -999.00,-999.0000,9, -999.00,9, -999.00,9,  -999.0,9,  -999.0, -999.00,9, -999.00,9, -999.00,9, -999.00,9,   9.5778, -999.00
096U20160426,       P15S,      42,          1,         27,       2027,2,20160520,       1806,   -46.7122,  -170.9118,       5298,   334.1,   9.3700,  34.6550,2,  34.6501,2,    252.7,2,   253.8,2,    3.25,2,   13.94,2,    0.01,4,    1.00,2,-999.000,9,-999.000,9,-999.000,9,  -999.0,9,  -999.0,9,-999.0000,9,  -999.00,-999.0000,9, -999.00,9, -999.00,9,  -999.0,9,  -999.0, -999.00,9, -999.00,9, -999.00,9, -999.00,9,   9.3327, -999.00
096U20160426,       P15S,      42,          1,         26,       2026,2,20160520,       1806,   -46.7122,  -170.9118,       5298,   385.2,   9.0420,  34.6070,2,  34.6096,2,    249.9,2,   251.5,2,    3.66,2,   15.16,2,    0.01,4,    1.07,2,-999.000,9,-999.000,9,-999.000,9,  -999.0,9,  -999.0,9,-999.0000,9,  -999.00,-999.0000,9, -999.00,9, -999.00,9,  -999.0,9,  -999.0, -999.00,9, -999.00,9, -999.00,9, -999.00,9,   8.9998, -999.00
096U20160426,       P15S,      42,          1,         25,       2025,2,20160520,       1806,   -46.7122,  -170.9118,       5298,   464.2,   8.4150,  34.5180,2,  34.5184,2,    241.0,2,   242.3,2,    4.81,2,   18.14,2,    0.01,4,    1.25,2,-999.000,9,-999.000,9,-999.000,9,  -999.0,9,  -999.0,9,-999.0000,9,  -999.00,-999.0000,9, -999.00,9, -999.00,9,  -999.0,9,  -999.0, -999.00,9, -999.00,9, -999.00,9, -999.00,9,   8.3661, -999.00
096U20160426,       P15S,      42,          1,         24,       2024,2,20160520,       1806,   -46.7122,  -170.9118,       5298,   564.8,   7.8900,  34.4580,2,  34.4586,2,    241.3,2,   243.3,2,    5.92,2,   19.83,2,    0.01,4,    1.36,2,-999.000,9,-999.000,9,-999.000,9,  2141.3,2,  2282.4,2,-999.0000,9,  -999.00,-999.0000,9, -999.00,9, -999.00,9,  -999.0,9,  -999.0, -999.00,9, -999.00,9, -999.00,9, -999.00,9,   7.8324, -999.00
096U20160426,       P15S,      42,          1,         23,       2023,2,20160520,       1806,   -46.7122,  -170.9118,       5298,   665.0,   7.5890,  34.4380,2,  34.4376,2,    235.7,2,   237.6,2,    7.09,2,   21.21,2,    0.01,4,    1.44,2,-999.000,9,-999.000,9,-999.000,9,  -999.0,9,  -999.0,9,-999.0000,9,  -999.00,-999.0000,9, -999.00,9, -999.00,9,  -999.0,9,  -999.0, -999.00,9, -999.00,9, -999.00,9, -999.00,9,   7.5223, -999.00
096U20160426,       P15S,      42,          1,         22,       2022,2,20160520,       1806,   -46.7122,  -170.9118,       5298,   765.8,   7.1300,  34.4030,2,  34.4023,2,    231.5,2,   233.4,2,    8.82,2,   22.84,2,    0.01,4,    1.54,2,-999.000,9,-999.000,9,-999.000,9,  -999.0,9,  -999.0,9,-999.0000,9,  -999.00,-999.0000,9, -999.00,9, -999.00,9,  -999.0,9,  -999.0, -999.00,9, -999.00,9, -999.00,9, -999.00,9,   7.0553, -999.00
096U20160426,       P15S,      42,          1,         21,       2021,2,20160520,       1806,   -46.7122,  -170.9118,       5298,   865.7,   6.6920,  34.3770,2,  34.3763,2,    225.8,2,   227.6,2,   11.57,2,   24.37,2,    0.01,4,    1.64,2,-999.000,9,-999.000,9,-999.000,9,  -999.0,9,  -999.0,9,-999.0000,9,  -999.00,-999.0000,9, -999.00,9, -999.00,9,  -999.0,9,  -999.0, -999.00,9, -999.00,9, -999.00,9, -999.00,9,   6.6098, -999.00
096U20160426,       P15S,      42,          1,         20,       2020,2,20160520,       1806,   -46.7122,  -170.9118,       5298,   964.7,   6.1780,  34.3600,2,  34.3587,2,    217.3,2,   219.0,2,   15.95,2,   26.26,2,    0.01,4,    1.76,2,-999.000,9,-999.000,9,-999.000,9,  -999.0,9,  -999.0,9,-999.0000,9,  -999.00,-999.0000,9, -999.00,9, -999.00,9,  -999.0,9,  -999.0, -999.00,9, -999.00,9, -999.00,9, -999.00,9,   6.0895, -999.00
096U20160426,       P15S,      42,          1,         19,       2019,2,20160520,       1806,   -46.7122,  -170.9118,       5298,  1067.2,   5.5330,  34.3440,2,  34.3455,2,    209.3,2,   210.9,2,   21.82,2,   28.25,2,    0.01,4,    1.89,2,-999.000,9,-999.000,9,-999.000,9,  -999.0,9,  -999.0,9,-999.0000,9,  -999.00,-999.0000,9, -999.00,9, -999.00,9,  -999.0,9,  -999.0, -999.00,9, -999.00,9, -999.00,9, -999.00,9,   5.4395, -999.00
096U20160426,       P15S,      42,          1,         18,       2018,2,20160520,       1806,   -46.7122,  -170.9118,       5298,  1165.9,   4.9730,  34.3400,2,  34.3404,2,    204.4,2,   205.7,2,   27.98,2,   29.75,2,    0.00,4,    2.00,2,-999.000,9,-999.000,9,-999.000,9,  2188.6,6,  2294.0,6,-999.0000,9,  -999.00,-999.0000,9, -999.00,9, -999.00,9,  -999.0,9,  -999.0, -999.00,9, -999.00,9, -999.00,9, -999.00,9,   4.8750, -999.00
096U20160426,       P15S,      42,          1,         17,       2017,2,20160520,       1806,   -46.7122,  -170.9118,       5298,  1265.3,   4.3490,  34.3310,2,  34.3315,2,    203.3,2,   204.9,2,   33.80,2,   30.96,2,    0.00,4,    2.09,2,-999.000,9,-999.000,9,-999.000,9,  -999.0,9,  -999.0,9,-999.0000,9,  -999.00,-999.0000,9, -999.00,9, -999.00,9,  -999.0,9,  -999.0, -999.00,9, -999.00,9, -999.00,9, -999.00,9,   4.2477, -999.00
096U20160426,       P15S,      42,          1,         16,       2016,2,20160520,       1806,   -46.7122,  -170.9118,       5298,  1366.6,   3.8220,  34.3500,2,  34.3507,2,    197.2,2,   198.4,2,   41.43,2,   32.18,2,    0.00,4,    2.18,2,-999.000,9,-999.000,9,-999.000,9,  -999.0,9,  -999.0,9,-999.0000,9,  -999.00,-999.0000,9, -999.00,9, -999.00,9,  -999.0,9,  -999.0, -999.00,9, -999.00,9, -999.00,9, -999.00,9,   3.7171, -999.00
096U20160426,       P15S,      42,          1,         15,       2015,2,20160520,       1806,   -46.7122,  -170.9118,       5298,  1533.9,   3.3130,  34.4110,2,  34.4110,2,    185.7,2,   186.5,2,   53.37,2,   33.42,2,    0.00,4,    2.27,2,-999.000,9,-999.000,9,-999.000,9,  2227.6,2,  2315.0,2,-999.0000,9,  -999.00,-999.0000,9, -999.00,9, -999.00,9,  -999.0,9,  -999.0, -999.00,9, -999.00,9, -999.00,9, -999.00,9,   3.1991, -999.00
096U20160426,       P15S,      42,          1,         14,       2014,2,20160520,       1806,   -46.7122,  -170.9118,       5298,  1734.3,   2.9250,  34.4890,2,  34.4893,2,    176.1,2,   176.2,2,   65.08,2,   34.10,2,    0.00,4,    2.32,2,-999.000,9,-999.000,9,-999.000,9,  -999.0,9,  -999.0,9,-999.0000,9,  -999.00,-999.0000,9, -999.00,9, -999.00,9,  -999.0,9,  -999.0, -999.00,9, -999.00,9, -999.00,9, -999.00,9,   2.7984, -999.00
096U20160426,       P15S,      42,          1,         13,       2013,2,20160520,       1806,   -46.7122,  -170.9118,       5298,  1937.5,   2.6870,  34.5590,2,  34.5608,2,    171.0,2,   171.3,2,   73.75,2,   34.08,2,    0.00,4,    2.33,2,-999.000,9,-999.000,9,-999.000,9,  -999.0,9,  -999.0,9,-999.0000,9,  -999.00,-999.0000,9, -999.00,9, -999.00,9,  -999.0,9,  -999.0, -999.00,9, -999.00,9, -999.00,9, -999.00,9,   2.5459, -999.00
096U20160426,       P15S,      42,          1,         12,       2012,2,20160520,       1806,   -46.7122,  -170.9118,       5298,  2164.2,   2.4930,  34.6250,2,  34.6250,2,    170.9,2,   171.4,2,   79.74,2,   33.54,2,    0.00,4,    2.29,2,-999.000,9,-999.000,9,-999.000,9,  2257.4,2,  2343.8,2,-999.0000,9,  -999.00,-999.0000,9, -999.00,9, -999.00,9,  -999.0,9,  -999.0, -999.00,9, -999.00,9, -999.00,9, -999.00,9,   2.3346, -999.00
096U20160426,       P15S,      42,          1,         11,       2011,2,20160520,       1806,   -46.7122,  -170.9118,       5298,  2416.7,   2.3070,  34.6860,2,  34.6862,2,    177.1,2,   178.0,2,   82.57,2,   32.39,2,    0.00,4,    2.21,2,-999.000,9,-999.000,9,-999.000,9,  -999.0,9,  -999.0,9,-999.0000,9,  -999.00,-999.0000,9, -999.00,9, -999.00,9,  -999.0,9,  -999.0, -999.00,9, -999.00,9, -999.00,9, -999.00,9,   2.1286, -999.00
096U20160426,       P15S,      42,          1,         10,       2010,2,20160520,       1806,   -46.7122,  -170.9118,       5298,  2665.9,   2.1620,  34.7160,2,  34.7159,2,    182.6,2,   183.9,2,   85.28,2,   31.66,2,    0.00,4,    2.16,2,-999.000,9,-999.000,9,-999.000,9,  -999.0,9,  -999.0,9,-999.0000,9,  -999.00,-999.0000,9, -999.00,9, -999.00,9,  -999.0,9,  -999.0, -999.00,9, -999.00,9, -999.00,9, -999.00,9,   1.9629, -999.00
096U20160426,       P15S,      42,          1,          9,       2009,2,20160520,       1806,   -46.7122,  -170.9118,       5298,  2912.2,   2.0000,  34.7320,2,  34.7317,2,    187.8,2,   189.4,2,   89.11,2,   31.19,2,    0.00,4,    2.13,2,-999.000,9,-999.000,9,-999.000,9,  -999.0,9,  -999.0,9,-999.0000,9,  -999.00,-999.0000,9, -999.00,9, -999.00,9,  -999.0,9,  -999.0, -999.00,9, -999.00,9, -999.00,9, -999.00,9,   1.7805, -999.00
096U20160426,       P15S,      42,          1,          8,       2008,2,20160520,       1806,   -46.7122,  -170.9118,       5298,  3200.1,   1.7780,  34.7360,2,  34.7376,2,    192.2,2,   194.2,2,   95.18,2,   31.18,2,    0.00,4,    2.13,2,-999.000,9,-999.000,9,-999.000,9,  2252.5,2,  2354.0,2,-999.0000,9,  -999.00,-999.0000,9, -999.00,9, -999.00,9,  -999.0,9,  -999.0, -999.00,9, -999.00,9, -999.00,9, -999.00,9,   1.5351, -999.00
096U20160426,       P15S,      42,          1,          7,       2007,2,20160520,       1806,   -46.7122,  -170.9118,       5298,  3564.8,   1.5020,  34.7310,2,  34.7303,2,    196.5,2,   198.8,2,  103.38,2,   31.35,2,    0.00,4,    2.15,2,-999.000,9,-999.000,9,-999.000,9,  -999.0,9,  -999.0,9,-999.0000,9,  -999.00,-999.0000,9, -999.00,9, -999.00,9,  -999.0,9,  -999.0, -999.00,9, -999.00,9, -999.00,9, -999.00,9,   1.2288, -999.00
096U20160426,       P15S,      42,          1,          6,       2006,2,20160520,       1806,   -46.7122,  -170.9118,       5298,  3964.0,   1.2400,  34.7210,2,  34.7197,2,    201.1,2,   202.9,2,  111.35,2,   31.69,2,    0.00,4,    2.17,2,-999.000,9,-999.000,9,-999.000,9,  -999.0,9,  -999.0,9,-999.0000,9,  -999.00,-999.0000,9, -999.00,9, -999.00,9,  -999.0,9,  -999.0, -999.00,9, -999.00,9, -999.00,9, -999.00,9,   0.9320, -999.00
096U20160426,       P15S,      42,          1,          5,       2005,2,20160520,       1806,   -46.7122,  -170.9118,       5298,  4364.6,   1.0620,  34.7120,2,  34.7114,2,    205.1,2,   206.3,2,  117.16,2,   31.96,2,    0.00,4,    2.19,2,-999.000,9,-999.000,9,-999.000,9,  2260.0,2,  2361.2,2,-999.0000,9,  -999.00,-999.0000,9, -999.00,9, -999.00,9,  -999.0,9,  -999.0, -999.00,9, -999.00,9, -999.00,9, -999.00,9,   0.7156, -999.00
096U20160426,       P15S,      42,          1,          4,       2004,2,20160520,       1806,   -46.7122,  -170.9118,       5298,  4765.3,   0.9990,  34.7070,2,  34.7068,2,    207.1,2,   204.1,3,  120.21,2,   32.12,2,    0.00,4,    2.20,2,-999.000,9,-999.000,9,-999.000,9,  -999.0,9,  -999.0,9,-999.0000,9,  -999.00,-999.0000,9, -999.00,9, -999.00,9,  -999.0,9,  -999.0, -999.00,9, -999.00,9, -999.00,9, -999.00,9,   0.6091, -999.00
096U20160426,       P15S,      42,          1,          3,       2003,2,20160520,       1806,   -46.7122,  -170.9118,       5298,  5165.1,   1.0090,  34.7050,2,  34.7051,2,    208.3,2,   208.0,2,  121.46,2,   32.16,2,    0.00,4,    2.21,2,-999.000,9,-999.000,9,-999.000,9,  -999.0,9,  -999.0,9,-999.0000,9,  -999.00,-999.0000,9, -999.00,9, -999.00,9,  -999.0,9,  -999.0, -999.00,9, -999.00,9, -999.00,9, -999.00,9,   0.5714, -999.00
096U20160426,       P15S,      42,          1,          2,       2002,2,20160520,       1806,   -46.7122,  -170.9118,       5298,  5280.4,   1.0190,  34.7040,2,  34.7045,2,    208.6,2,   208.2,2,  121.55,2,   32.14,2,    0.00,4,    2.21,2,-999.000,9,-999.000,9,-999.000,9,  -999.0,9,  -999.0,9,-999.0000,9,  -999.00,-999.0000,9, -999.00,9, -999.00,9,  -999.0,9,  -999.0, -999.00,9, -999.00,9, -999.00,9, -999.00,9,   0.5670, -999.00
096U20160426,       P15S,      42,          1,          1,       2001,2,20160520,       1806,   -46.7122,  -170.9118,       5298,  5386.3,   1.0290,  34.7040,2,  34.7054,2,    208.5,2,   208.2,2,  121.61,2,   32.17,2,    0.00,4,    2.21,2,-999.000,9,-999.000,9,-999.000,9,  2260.9,2,  2362.7,2,-999.0000,9,  -999.00,-999.0000,9, -999.00,9, -999.00,9,  -999.0,9,  -999.0, -999.00,9, -999.00,9, -999.00,9, -999.00,9,   0.5636, -999.00