BOTTLE,20230413CCHSIOENA
EXPOCODE,SECT_ID,STNNBR,CASTNO,SAMPNO,BTLNBR,BTLNBR_FLAG_W,DATE,TIME,LATITUDE,LONGITUDE,DEPTH,CTDPRS,CTDTMP,CTDSAL,CTDSAL_FLAG_W,SALNTY,SALNTY_FLAG_W,CTDOXY,CTDOXY_FLAG_W,OXYGEN,OXYGEN_FLAG_W,SILCAT,SILCAT_FLAG_W,NITRAT,NITRAT_FLAG_W,NITRIT,NITRIT_FLAG_W,PHSPHT,PHSPHT_FLAG_W,CFC-11,CFC-11_FLAG_W,CFC-12,CFC-12_FLAG_W,SF6,SF6_FLAG_W,TCARBN,TCARBN_FLAG_W,ALKALI,ALKALI_FLAG_W,PH_TOT,PH_TOT_FLAG_W,PH_TMP,HELIUM,HELIUM_FLAG_W,DELHE3,DELHE3_FLAG_W,DELC13,DELC13_FLAG_W,DELC14,DELC14_FLAG_W,C14ERR,POC,POC_FLAG_W,PON,PON_FLAG_W,CHLORA,CHLORA_FLAG_W,PPHYTN,PPHYTN_FLAG_W,THETA,DELHER
,,,,,,,,,,,METERS,DBAR,ITS-90,PSS-78,,PSS-78,,UMOL/KG,,UMOL/KG,,UMOL/KG,,UMOL/KG,,UMOL/KG,,UMOL/KG,,PMOL/KG,,PMOL/KG,,FMOL/KG,,UMOL/KG,,UMOL/KG,,,,DEG C,NMOL/KG,,PERCNT,,/MILLE,,/MILLE,,/MILLE,UG/KG,,UG/KG,,UG/KG,,UG/KG,,DEG C,PERCNT
096U20160426,       P15S,      32,          1,         36,       2036,2,20160517,       1838,   -51.4929,  -170.0117,       4739,    22.7,   8.5220,  34.3410,2,  34.3417,2,    280.8,2,   280.3,2,    2.53,2,   13.78,2,    0.25,2,    1.04,2,-999.000,9,-999.000,9,-999.000,9,  2108.5,2,  2283.0,2,-999.0000,9,  -999.00,-999.0000,9, -999.00,9, -999.00,9,  -999.0,9,  -999.0, -999.00,9, -999.00,9,    0.19,2,    0.28,3,   8.5197, -999.00
096U20160426,       P15S,      32,          1,         35,       2035,2,20160517,       1838,   -51.4929,  -170.0117,       4739,    34.5,   8.5280,  34.3410,2,  34.3443,2,    280.6,2,   280.1,2,    2.54,2,   13.76,2,    0.25,2,    1.03,2,-999.000,9,-999.000,9,-999.000,9,  -999.0,9,  -999.0,9,-999.0000,9,  -999.00,-999.0000,9, -999.00,9, -999.00,9,  -999.0,9,  -999.0, -999.00,9, -999.00,9,    0.18,2,    0.37,3,   8.5244, -999.00
096U20160426,       P15S,      32,          1,         34,       2034,2,20160517,       1838,   -51.4929,  -170.0117,       4739,    62.4,   8.5590,  34.3460,2,  34.3466,2,    280.1,2,   279.9,2,    2.51,2,   13.73,2,    0.25,2,    1.03,2,-999.000,9,-999.000,9,-999.000,9,  -999.0,9,  -999.0,9,-999.0000,9,  -999.00,-999.0000,9, -999.00,9, -999.00,9,  -999.0,9,  -999.0, -999.00,9, -999.00,9,    0.36,2,    0.10,3,   8.5525, -999.00
096U20160426,       P15S,      32,          1,         33,       2033,2,20160517,       1838,   -51.4929,  -170.0117,       4739,    85.7,   8.4820,  34.3360,2,  34.3325,2,    280.2,2,   280.6,2,    2.60,2,   14.13,2,    0.26,2,    1.06,2,-999.000,9,-999.000,9,-999.000,9,  -999.0,9,  -999.0,9,-999.0000,9,  -999.00,-999.0000,9, -999.00,9, -999.00,9,  -999.0,9,  -999.0, -999.00,9, -999.00,9,    0.14,2,    0.34,3,   8.4732, -999.00
096U20160426,       P15S,      32,          1,         32,       2032,2,20160517,       1838,   -51.4929,  -170.0117,       4739,   114.5,   8.3290,  34.3180,2,  34.3176,2,    281.3,2,   280.1,2,    2.84,2,   14.94,2,    0.26,2,    1.10,2,-999.000,9,-999.000,9,-999.000,9,  -999.0,9,  -999.0,9,-999.0000,9,  -999.00,-999.0000,9, -999.00,9, -999.00,9,  -999.0,9,  -999.0, -999.00,9, -999.00,9,    0.24,2,    0.07,3,   8.3173, -999.00
096U20160426,       P15S,      32,          1,         31,       2031,2,20160517,       1838,   -51.4929,  -170.0117,       4739,   164.1,   7.9280,  34.4290,2,  34.4219,2,    263.4,2,   263.3,2,    4.75,2,   18.01,2,    0.01,4,    1.26,2,-999.000,9,-999.000,9,-999.000,9,  -999.0,9,  -999.0,9,-999.0000,9,  -999.00,-999.0000,9, -999.00,9, -999.00,9,  -999.0,9,  -999.0, -999.00,9, -999.00,9, -999.00,9, -999.00,9,   7.9117, -999.00
096U20160426,       P15S,      32,          1,         30,       2030,2,20160517,       1838,   -51.4929,  -170.0117,       4739,   214.1,   7.4820,  34.3900,2,  34.3878,2,    263.8,2,   263.6,2,    5.54,2,   19.14,2,    0.00,4,    1.33,2,-999.000,9,-999.000,9,-999.000,9,  2133.2,2,  2283.4,2,-999.0000,9,  -999.00,-999.0000,9, -999.00,9, -999.00,9,  -999.0,9,  -999.0, -999.00,9, -999.00,9, -999.00,9, -999.00,9,   7.4613, -999.00
096U20160426,       P15S,      32,          1,         29,       2029,2,20160517,       1838,   -51.4929,  -170.0117,       4739,   262.4,   7.3300,  34.3760,2,  34.3775,2,    265.0,2,   265.0,2,    5.93,2,   19.43,2,    0.00,4,    1.35,2,-999.000,9,-999.000,9,-999.000,9,  -999.0,9,  -999.0,9,-999.0000,9,  -999.00,-999.0000,9, -999.00,9, -999.00,9,  -999.0,9,  -999.0, -999.00,9, -999.00,9, -999.00,9, -999.00,9,   7.3049, -999.00
096U20160426,       P15S,      32,          1,         28,       2028,2,20160517,       1838,   -51.4929,  -170.0117,       4739,   314.4,   7.1440,  34.3620,2,  34.3633,2,    269.3,2,   268.9,2,    6.18,2,   19.51,2,    0.00,4,    1.35,2,-999.000,9,-999.000,9,-999.000,9,  -999.0,9,  -999.0,9,-999.0000,9,  -999.00,-999.0000,9, -999.00,9, -999.00,9,  -999.0,9,  -999.0, -999.00,9, -999.00,9, -999.00,9, -999.00,9,   7.1143, -999.00
096U20160426,       P15S,      32,          1,         27,       2027,2,20160517,       1838,   -51.4929,  -170.0117,       4739,   363.9,   7.0960,  34.3670,2,  34.3660,2,    269.6,2,  -999.0,9,    6.45,2,   19.54,2,    0.00,4,    1.35,2,-999.000,9,-999.000,9,-999.000,9,  -999.0,9,  -999.0,9,-999.0000,9,  -999.00,-999.0000,9, -999.00,9, -999.00,9,  -999.0,9,  -999.0, -999.00,9, -999.00,9, -999.00,9, -999.00,9,   7.0616, -999.00
096U20160426,       P15S,      32,          1,         26,       2026,2,20160517,       1838,   -51.4929,  -170.0117,       4739,   433.9,   6.7830,  34.3350,2,  34.3265,2,    263.3,2,   265.2,2,    7.69,2,   20.90,2,    0.00,4,    1.44,2,-999.000,9,-999.000,9,-999.000,9,  -999.0,9,  -999.0,9,-999.0000,9,  -999.00,-999.0000,9, -999.00,9, -999.00,9,  -999.0,9,  -999.0, -999.00,9, -999.00,9, -999.00,9, -999.00,9,   6.7428, -999.00
096U20160426,       P15S,      32,          1,         25,       2025,2,20160517,       1838,   -51.4929,  -170.0117,       4739,   535.9,   6.1180,  34.2690,2,  34.2667,2,    259.3,2,   259.5,2,   10.37,2,   23.14,2,    0.00,4,    1.58,2,-999.000,9,-999.000,9,-999.000,9,  -999.0,9,  -999.0,9,-999.0000,9,  -999.00,-999.0000,9, -999.00,9, -999.00,9,  -999.0,9,  -999.0, -999.00,9, -999.00,9, -999.00,9, -999.00,9,   6.0708, -999.00
096U20160426,       P15S,      32,          1,         24,       2024,2,20160517,       1838,   -51.4929,  -170.0117,       4739,   633.9,   5.6200,  34.2710,2,  34.2710,2,    241.4,2,   241.4,2,   14.99,2,   25.55,2,    0.00,4,    1.74,2,-999.000,9,-999.000,9,-999.000,9,  2162.7,2,  2285.0,2,-999.0000,9,  -999.00,-999.0000,9, -999.00,9, -999.00,9,  -999.0,9,  -999.0, -999.00,9, -999.00,9, -999.00,9, -999.00,9,   5.5661, -999.00
096U20160426,       P15S,      32,          1,         23,       2023,2,20160517,       1838,   -51.4929,  -170.0117,       4739,   734.6,   5.2980,  34.2960,2,  34.2958,2,    223.0,2,   223.0,2,   20.54,2,   27.82,2,    0.00,4,    1.88,2,-999.000,9,-999.000,9,-999.000,9,  -999.0,9,  -999.0,9,-999.0000,9,  -999.00,-999.0000,9, -999.00,9, -999.00,9,  -999.0,9,  -999.0, -999.00,9, -999.00,9, -999.00,9, -999.00,9,   5.2368, -999.00
096U20160426,       P15S,      32,          1,         22,       2022,2,20160517,       1838,   -51.4929,  -170.0117,       4739,   835.7,   4.6790,  34.2980,2,  34.2989,2,    215.3,2,   214.8,2,   26.86,2,   29.71,2,    0.00,4,    2.02,2,-999.000,9,-999.000,9,-999.000,9,  -999.0,9,  -999.0,9,-999.0000,9,  -999.00,-999.0000,9, -999.00,9, -999.00,9,  -999.0,9,  -999.0, -999.00,9, -999.00,9, -999.00,9, -999.00,9,   4.6127, -999.00
096U20160426,       P15S,      32,          1,         21,       2021,2,20160517,       1838,   -51.4929,  -170.0117,       4739,   935.6,   4.1550,  34.3120,2,  34.3134,2,    208.5,2,  -999.0,9,   33.77,2,   31.15,2,    0.00,4,    2.12,2,-999.000,9,-999.000,9,-999.000,9,  2199.1,6,  2298.7,6,-999.0000,9,  -999.00,-999.0000,9, -999.00,9, -999.00,9,  -999.0,9,  -999.0, -999.00,9, -999.00,9, -999.00,9, -999.00,9,   4.0838, -999.00
096U20160426,       P15S,      32,          1,         20,       2020,2,20160517,       1838,   -51.4929,  -170.0117,       4739,  1035.8,   3.7680,  34.3410,2,  34.3429,2,    200.7,2,   199.7,2,   41.28,2,   32.22,2,    0.00,4,    2.21,2,-999.000,9,-999.000,9,-999.000,9,  -999.0,9,  -999.0,9,-999.0000,9,  -999.00,-999.0000,9, -999.00,9, -999.00,9,  -999.0,9,  -999.0, -999.00,9, -999.00,9, -999.00,9, -999.00,9,   3.6915, -999.00
096U20160426,       P15S,      32,          1,         19,       2019,2,20160517,       1838,   -51.4929,  -170.0117,       4739,  1136.1,   3.4360,  34.3800,2,  34.3806,2,    193.0,2,   192.0,2,   48.59,2,   33.06,2,    0.00,4,    2.27,2,-999.000,9,-999.000,9,-999.000,9,  -999.0,9,  -999.0,9,-999.0000,9,  -999.00,-999.0000,9, -999.00,9, -999.00,9,  -999.0,9,  -999.0, -999.00,9, -999.00,9, -999.00,9, -999.00,9,   3.3540, -999.00
096U20160426,       P15S,      32,          1,         18,       2018,2,20160517,       1838,   -51.4929,  -170.0117,       4739,  1233.5,   3.1850,  34.4220,2,  34.4226,2,    185.8,2,   184.8,2,   55.70,2,   33.66,2,    0.00,4,    2.32,2,-999.000,9,-999.000,9,-999.000,9,  2233.4,2,  2319.4,2,-999.0000,9,  -999.00,-999.0000,9, -999.00,9, -999.00,9,  -999.0,9,  -999.0, -999.00,9, -999.00,9, -999.00,9, -999.00,9,   3.0974, -999.00
096U20160426,       P15S,      32,          1,         17,       2017,2,20160517,       1838,   -51.4929,  -170.0117,       4739,  1332.8,   2.9680,  34.4670,2,  34.4667,2,    179.8,2,   178.7,2,   62.31,2,   34.00,2,    0.00,4,    2.34,2,-999.000,9,-999.000,9,-999.000,9,  -999.0,9,  -999.0,9,-999.0000,9,  -999.00,-999.0000,9, -999.00,9, -999.00,9,  -999.0,9,  -999.0, -999.00,9, -999.00,9, -999.00,9, -999.00,9,   2.8745, -999.00
096U20160426,       P15S,      32,          1,         16,       2016,2,20160517,       1838,   -51.4929,  -170.0117,       4739,  1433.5,   2.8250,  34.4980,2,  34.4989,2,    177.2,2,   176.0,2,   65.89,2,   34.18,2,    0.00,4,    2.35,2,-999.000,9,-999.000,9,-999.000,9,  -999.0,9,  -999.0,9,-999.0000,9,  -999.00,-999.0000,9, -999.00,9, -999.00,9,  -999.0,9,  -999.0, -999.00,9, -999.00,9, -999.00,9, -999.00,9,   2.7248, -999.00
096U20160426,       P15S,      32,          1,         15,       2015,2,20160517,       1838,   -51.4929,  -170.0117,       4739,  1533.2,   2.7260,  34.5320,2,  34.5324,2,    174.5,2,   173.2,2,   69.89,2,   34.16,2,    0.00,4,    2.35,2,-999.000,9,-999.000,9,-999.000,9,  2250.1,2,  2333.3,2,-999.0000,9,  -999.00,-999.0000,9, -999.00,9, -999.00,9,  -999.0,9,  -999.0, -999.00,9, -999.00,9, -999.00,9, -999.00,9,   2.6187, -999.00
096U20160426,       P15S,      32,          1,         14,       2014,2,20160517,       1838,   -51.4929,  -170.0117,       4739,  1663.8,   2.5970,  34.5780,2,  34.5789,2,    172.6,2,   171.4,2,   75.23,2,   33.90,2,    0.00,4,    2.34,2,-999.000,9,-999.000,9,-999.000,9,  -999.0,9,  -999.0,9,-999.0000,9,  -999.00,-999.0000,9, -999.00,9, -999.00,9,  -999.0,9,  -999.0, -999.00,9, -999.00,9, -999.00,9, -999.00,9,   2.4804, -999.00
096U20160426,       P15S,      32,          1,         13,       2013,2,20160517,       1838,   -51.4929,  -170.0117,       4739,  1865.3,   2.4290,  34.6380,2,  34.6386,2,    173.9,2,   172.8,2,   79.79,2,   33.29,2,    0.00,4,    2.31,2,-999.000,9,-999.000,9,-999.000,9,  -999.0,9,  -999.0,9,-999.0000,9,  -999.00,-999.0000,9, -999.00,9, -999.00,9,  -999.0,9,  -999.0, -999.00,9, -999.00,9, -999.00,9, -999.00,9,   2.2976, -999.00
096U20160426,       P15S,      32,          1,         12,       2012,2,20160517,       1838,   -51.4929,  -170.0117,       4739,  2086.4,   2.2970,  34.6820,2,  34.6830,2,    178.3,2,   177.7,2,   82.09,2,   32.54,2,    0.00,4,    2.25,2,-999.000,9,-999.000,9,-999.000,9,  2255.1,2,  2347.6,2,-999.0000,9,  -999.00,-999.0000,9, -999.00,9, -999.00,9,  -999.0,9,  -999.0, -999.00,9, -999.00,9, -999.00,9, -999.00,9,   2.1484, -999.00
096U20160426,       P15S,      32,          1,         11,       2011,2,20160517,       1838,   -51.4929,  -170.0117,       4739,  2334.2,   2.1200,  34.7180,2,  34.7172,2,    185.1,2,   184.7,2,   85.63,2,   31.67,2,   -0.01,4,    2.19,2,-999.000,9,-999.000,9,-999.000,9,  -999.0,9,  -999.0,9,-999.0000,9,  -999.00,-999.0000,9, -999.00,9, -999.00,9,  -999.0,9,  -999.0, -999.00,9, -999.00,9, -999.00,9, -999.00,9,   1.9523, -999.00
096U20160426,       P15S,      32,          1,         10,       2010,2,20160517,       1838,   -51.4929,  -170.0117,       4739,  2586.4,   1.9310,  34.7340,2,  34.7338,2,    190.3,2,   190.4,2,   90.16,2,   31.29,2,    0.00,4,    2.16,2,-999.000,9,-999.000,9,-999.000,9,  -999.0,9,  -999.0,9,-999.0000,9,  -999.00,-999.0000,9, -999.00,9, -999.00,9,  -999.0,9,  -999.0, -999.00,9, -999.00,9, -999.00,9, -999.00,9,   1.7437, -999.00
096U20160426,       P15S,      32,          1,          9,       2009,2,20160517,       1838,   -51.4929,  -170.0117,       4739,  2835.7,   1.7160,  34.7360,2,  34.7361,2,    194.3,2,   194.7,2,   96.28,2,   31.27,2,    0.00,4,    2.16,2,-999.000,9,-999.000,9,-999.000,9,  -999.0,9,  -999.0,9,-999.0000,9,  -999.00,-999.0000,9, -999.00,9, -999.00,9,  -999.0,9,  -999.0, -999.00,9, -999.00,9, -999.00,9, -999.00,9,   1.5098, -999.00
096U20160426,       P15S,      32,          1,          8,       2008,2,20160517,       1838,   -51.4929,  -170.0117,       4739,  3099.1,   1.5220,  34.7320,2,  34.7323,2,    197.3,2,   197.8,2,  101.99,2,   31.43,2,    0.00,4,    2.17,2,-999.000,9,-999.000,9,-999.000,9,  -999.0,9,  -999.0,9,-999.0000,9,  -999.00,-999.0000,9, -999.00,9, -999.00,9,  -999.0,9,  -999.0, -999.00,9, -999.00,9, -999.00,9, -999.00,9,   1.2949, -999.00
096U20160426,       P15S,      32,          1,          7,       2007,2,20160517,       1838,   -51.4929,  -170.0117,       4739,  3399.8,   1.3100,  34.7250,2,  34.7249,2,    200.6,2,   201.1,2,  108.46,2,   31.68,2,    0.00,4,    2.19,2,-999.000,9,-999.000,9,-999.000,9,  2259.2,2,  2361.6,2,-999.0000,9,  -999.00,-999.0000,9, -999.00,9, -999.00,9,  -999.0,9,  -999.0, -999.00,9, -999.00,9, -999.00,9, -999.00,9,   1.0584, -999.00
096U20160426,       P15S,      32,          1,          6,       2006,2,20160517,       1838,   -51.4929,  -170.0117,       4739,  3700.6,   1.1420,  34.7180,2,  34.7176,2,    203.7,2,   204.0,2,  113.72,2,   31.86,2,    0.00,4,    2.21,2,-999.000,9,-999.000,9,-999.000,9,  -999.0,9,  -999.0,9,-999.0000,9,  -999.00,-999.0000,9, -999.00,9, -999.00,9,  -999.0,9,  -999.0, -999.00,9, -999.00,9, -999.00,9, -999.00,9,   0.8643, -999.00
096U20160426,       P15S,      32,          1,          5,       2005,2,20160517,       1838,   -51.4929,  -170.0117,       4739,  4000.9,   1.0110,  34.7110,2,  34.7110,2,    206.3,2,   206.3,2,  118.33,2,   32.11,2,   -0.01,4,    2.22,2,-999.000,9,-999.000,9,-999.000,9,  -999.0,9,  -999.0,9,-999.0000,9,  -999.00,-999.0000,9, -999.00,9, -999.00,9,  -999.0,9,  -999.0, -999.00,9, -999.00,9, -999.00,9, -999.00,9,   0.7056, -999.00
096U20160426,       P15S,      32,          1,          4,       2004,2,20160517,       1838,   -51.4929,  -170.0117,       4739,  4299.9,   0.9580,  34.7070,2,  34.7078,2,    207.6,2,   207.4,2,  120.78,2,   32.24,2,    0.00,4,    2.23,2,-999.000,9,-999.000,9,-999.000,9,  2261.6,2,  2363.4,6,-999.0000,9,  -999.00,-999.0000,9, -999.00,9, -999.00,9,  -999.0,9,  -999.0, -999.00,9, -999.00,9, -999.00,9, -999.00,9,   0.6219, -999.00
096U20160426,       P15S,      32,          1,          3,       2003,2,20160517,       1838,   -51.4929,  -170.0117,       4739,  4600.8,   0.9470,  34.7050,2,  34.7057,2,    208.5,2,   208.3,2,  122.20,2,   32.28,2,    0.00,4,    2.24,2,-999.000,9,-999.000,9,-999.000,9,  -999.0,9,  -999.0,9,-999.0000,9,  -999.00,-999.0000,9, -999.00,9, -999.00,9,  -999.0,9,  -999.0, -999.00,9, -999.00,9, -999.00,9, -999.00,9,   0.5777, -999.00
096U20160426,       P15S,      32,          1,          2,       2002,2,20160517,       1838,   -51.4929,  -170.0117,       4739,  4701.0,   0.9540,  34.7050,2,  34.7052,2,    208.6,2,   208.6,2,  122.21,2,   32.31,2,    0.00,4,    2.24,2,-999.000,9,-999.000,9,-999.000,9,  -999.0,9,  -999.0,9,-999.0000,9,  -999.00,-999.0000,9, -999.00,9, -999.00,9,  -999.0,9,  -999.0, -999.00,9, -999.00,9, -999.00,9, -999.00,9,   0.5730, -999.00
096U20160426,       P15S,      32,          1,          1,       2001,2,20160517,       1838,   -51.4929,  -170.0117,       4739,  4805.6,   0.9620,  34.7040,2,  34.7051,2,    209.0,2,   208.8,2,  122.44,2,   32.31,2,    0.00,4,    2.24,2,-999.000,9,-999.000,9,-999.000,9,  2261.6,2,  2364.2,2,-999.0000,9,  -999.00,-999.0000,9, -999.00,9, -999.00,9,  -999.0,9,  -999.0, -999.00,9, -999.00,9, -999.00,9, -999.00,9,   0.5687, -999.00