BOTTLE,20230413CCHSIOENA
EXPOCODE,SECT_ID,STNNBR,CASTNO,SAMPNO,BTLNBR,BTLNBR_FLAG_W,DATE,TIME,LATITUDE,LONGITUDE,DEPTH,CTDPRS,CTDTMP,CTDSAL,CTDSAL_FLAG_W,SALNTY,SALNTY_FLAG_W,CTDOXY,CTDOXY_FLAG_W,OXYGEN,OXYGEN_FLAG_W,SILCAT,SILCAT_FLAG_W,NITRAT,NITRAT_FLAG_W,NITRIT,NITRIT_FLAG_W,PHSPHT,PHSPHT_FLAG_W,CFC-11,CFC-11_FLAG_W,CFC-12,CFC-12_FLAG_W,SF6,SF6_FLAG_W,TCARBN,TCARBN_FLAG_W,ALKALI,ALKALI_FLAG_W,PH_TOT,PH_TOT_FLAG_W,PH_TMP,HELIUM,HELIUM_FLAG_W,DELHE3,DELHE3_FLAG_W,DELC13,DELC13_FLAG_W,DELC14,DELC14_FLAG_W,C14ERR,POC,POC_FLAG_W,PON,PON_FLAG_W,CHLORA,CHLORA_FLAG_W,PPHYTN,PPHYTN_FLAG_W,THETA,DELHER
,,,,,,,,,,,METERS,DBAR,ITS-90,PSS-78,,PSS-78,,UMOL/KG,,UMOL/KG,,UMOL/KG,,UMOL/KG,,UMOL/KG,,UMOL/KG,,PMOL/KG,,PMOL/KG,,FMOL/KG,,UMOL/KG,,UMOL/KG,,,,DEG C,NMOL/KG,,PERCNT,,/MILLE,,/MILLE,,/MILLE,UG/KG,,UG/KG,,UG/KG,,UG/KG,,DEG C,PERCNT
096U20160426,       P15S,      12,          1,         36,       2036,2,20160509,       0050,   -61.4920,  -169.9923,       3466,     8.1,   1.4410,  34.0390,2,  34.0390,2,    330.4,2,   320.0,2,   31.69,2,   29.38,2,    0.26,2,    2.05,2,-999.000,9,-999.000,9,-999.000,9,  2185.0,2,  2293.2,2,-999.0000,9,  -999.00,-999.0000,9, -999.00,9, -999.00,9,  -999.0,9,  -999.0, -999.00,9, -999.00,9,    0.21,2,    0.11,3,   1.4406, -999.00
096U20160426,       P15S,      12,          1,         35,       2035,2,20160509,       0050,   -61.4920,  -169.9923,       3466,    33.7,   1.4400,  34.0370,2,  34.0378,2,    330.2,2,   320.1,2,   31.66,2,   29.32,2,    0.27,2,    2.05,2,-999.000,9,-999.000,9,-999.000,9,  -999.0,9,  -999.0,9,-999.0000,9,  -999.00,-999.0000,9, -999.00,9, -999.00,9,  -999.0,9,  -999.0, -999.00,9, -999.00,9,    0.15,2,    0.14,3,   1.4384, -999.00
096U20160426,       P15S,      12,          1,         34,       2034,2,20160509,       0050,   -61.4920,  -169.9923,       3466,    58.9,   1.4440,  34.0380,2,  34.0292,2,    330.0,2,   320.0,2,   31.62,2,   29.32,2,    0.26,2,    2.05,2,-999.000,9,-999.000,9,-999.000,9,  -999.0,9,  -999.0,9,-999.0000,9,  -999.00,   1.7700,2,   -1.30,2, -999.00,9,  -999.0,9,  -999.0, -999.00,9, -999.00,9,    0.20,2,    0.12,3,   1.4412,    1.08
096U20160426,       P15S,      12,          1,         33,       2033,2,20160509,       0050,   -61.4920,  -169.9923,       3466,    84.7,   1.4480,  34.0420,2,  34.0443,2,    329.4,2,   319.4,2,   31.84,2,   29.33,2,    0.26,2,    2.05,2,-999.000,9,-999.000,9,-999.000,9,  -999.0,9,  -999.0,9,-999.0000,9,  -999.00,-999.0000,9, -999.00,9, -999.00,9,  -999.0,9,  -999.0, -999.00,9, -999.00,9,    0.11,2,    0.19,3,   1.4440, -999.00
096U20160426,       P15S,      12,          1,         32,       2032,2,20160509,       0050,   -61.4920,  -169.9923,       3466,   109.9,   1.4510,  34.0440,2,  34.0425,2,    328.7,2,   319.1,2,   31.94,2,   29.32,2,    0.26,2,    2.06,2,-999.000,9,-999.000,9,-999.000,9,  -999.0,9,  -999.0,9,-999.0000,9,  -999.00,-999.0000,9, -999.00,9, -999.00,9,  -999.0,9,  -999.0, -999.00,9, -999.00,9, -999.00,9, -999.00,9,   1.4458, -999.00
096U20160426,       P15S,      12,          1,         31,       2031,2,20160509,       0050,   -61.4920,  -169.9923,       3466,   136.3,   1.4530,  34.0440,2,  34.0454,2,    328.5,2,   318.9,2,   32.05,2,   29.32,2,    0.26,2,    2.05,2,-999.000,9,-999.000,9,-999.000,9,  -999.0,9,  -999.0,9,-999.0000,9,  -999.00,-999.0000,9, -999.00,9, -999.00,9,  -999.0,9,  -999.0, -999.00,9, -999.00,9,    0.29,2,   -0.02,3,   1.4465, -999.00
096U20160426,       P15S,      12,          1,         30,       2030,2,20160509,       0050,   -61.4920,  -169.9923,       3466,   164.9,   1.5940,  34.0850,2,  34.0942,2,    298.8,2,   297.0,2,   35.97,2,   30.38,2,    0.19,2,    2.12,2,-999.000,9,-999.000,9,-999.000,9,  -999.0,9,  -999.0,9,-999.0000,9,  -999.00,-999.0000,9, -999.00,9, -999.00,9,  -999.0,9,  -999.0, -999.00,9, -999.00,9, -999.00,9, -999.00,9,   1.5859, -999.00
096U20160426,       P15S,      12,          1,         29,       2029,2,20160509,       0050,   -61.4920,  -169.9923,       3466,   214.8,   2.0940,  34.2880,2,  34.2849,2,    232.8,2,   226.0,2,   51.32,2,   33.79,2,    0.01,4,    2.32,2,-999.000,9,-999.000,9,-999.000,9,  -999.0,9,  -999.0,9,-999.0000,9,  -999.00,-999.0000,9, -999.00,9, -999.00,9,  -999.0,9,  -999.0, -999.00,9, -999.00,9, -999.00,9, -999.00,9,   2.0824, -999.00
096U20160426,       P15S,      12,          1,         28,       2028,2,20160509,       0050,   -61.4920,  -169.9923,       3466,   263.8,   2.2920,  34.3490,2,  34.3512,2,    213.5,2,   204.8,2,   56.09,2,   34.32,2,    0.01,4,    2.36,2,-999.000,9,-999.000,9,-999.000,9,  -999.0,9,  -999.0,9,-999.0000,9,  -999.00,-999.0000,9, -999.00,9, -999.00,9,  -999.0,9,  -999.0, -999.00,9, -999.00,9, -999.00,9, -999.00,9,   2.2772, -999.00
096U20160426,       P15S,      12,          1,         27,       2027,2,20160509,       0050,   -61.4920,  -169.9923,       3466,   315.0,   2.2630,  34.4030,2,  34.4112,2,    203.2,2,   193.5,2,   61.68,2,   34.60,2,    0.01,4,    2.38,2,-999.000,9,-999.000,9,-999.000,9,  -999.0,9,  -999.0,9,-999.0000,9,  -999.00,-999.0000,9, -999.00,9, -999.00,9,  -999.0,9,  -999.0, -999.00,9, -999.00,9, -999.00,9, -999.00,9,   2.2453, -999.00
096U20160426,       P15S,      12,          1,         26,       2026,2,20160509,       0050,   -61.4920,  -169.9923,       3466,   365.3,   2.3320,  34.4460,2,  34.4449,2,    194.1,2,   186.3,2,   64.32,2,   34.72,2,    0.01,4,    2.39,2,-999.000,9,-999.000,9,-999.000,9,  -999.0,9,  -999.0,9,-999.0000,9,  -999.00,-999.0000,9, -999.00,9, -999.00,9,  -999.0,9,  -999.0, -999.00,9, -999.00,9, -999.00,9, -999.00,9,   2.3110, -999.00
096U20160426,       P15S,      12,          1,         25,       2025,2,20160509,       0050,   -61.4920,  -169.9923,       3466,   413.5,   2.3540,  34.4800,2,  34.4802,2,    188.2,2,   180.9,2,   67.03,2,   34.73,2,    0.01,4,    2.39,2,-999.000,9,-999.000,9,-999.000,9,  -999.0,9,  -999.0,9,-999.0000,9,  -999.00,-999.0000,9, -999.00,9, -999.00,9,  -999.0,9,  -999.0, -999.00,9, -999.00,9, -999.00,9, -999.00,9,   2.3300, -999.00
096U20160426,       P15S,      12,          1,         24,       2024,2,20160509,       0050,   -61.4920,  -169.9923,       3466,   464.7,   2.3370,  34.5190,2,  34.5219,2,    185.1,2,   177.4,2,   70.11,2,   34.57,2,    0.01,4,    2.38,2,-999.000,9,-999.000,9,-999.000,9,  -999.0,9,  -999.0,9,-999.0000,9,  -999.00,-999.0000,9, -999.00,9, -999.00,9,  -999.0,9,  -999.0, -999.00,9, -999.00,9, -999.00,9, -999.00,9,   2.3099, -999.00
096U20160426,       P15S,      12,          1,         23,       2023,2,20160509,       0050,   -61.4920,  -169.9923,       3466,   534.8,   2.3920,  34.5580,2,  34.5601,2,    180.5,2,   173.1,2,   72.36,2,   34.31,2,    0.01,4,    2.37,2,-999.000,9,-999.000,9,-999.000,9,  -999.0,9,  -999.0,9,-999.0000,9,  -999.00,-999.0000,9, -999.00,9, -999.00,9,  -999.0,9,  -999.0, -999.00,9, -999.00,9, -999.00,9, -999.00,9,   2.3602, -999.00
096U20160426,       P15S,      12,          1,         22,       2022,2,20160509,       0050,   -61.4920,  -169.9923,       3466,   634.1,   2.3230,  34.6030,2,  34.6033,2,    180.4,2,   173.1,2,   75.25,2,   33.86,2,    0.00,4,    2.33,2,-999.000,9,-999.000,9,-999.000,9,  -999.0,9,  -999.0,9,-999.0000,9,  -999.00,   1.7580,2,    9.08,2, -999.00,9,  -999.0,9,  -999.0, -999.00,9, -999.00,9, -999.00,9, -999.00,9,   2.2851,    1.09
096U20160426,       P15S,      12,          1,         21,       2021,2,20160509,       0050,   -61.4920,  -169.9923,       3466,   734.9,   2.2170,  34.6360,2,  34.6373,2,    182.2,2,   174.8,2,   77.93,2,   33.39,2,    0.01,4,    2.30,2,-999.000,9,-999.000,9,-999.000,9,  -999.0,9,  -999.0,9,-999.0000,9,  -999.00,-999.0000,9, -999.00,9, -999.00,9,  -999.0,9,  -999.0, -999.00,9, -999.00,9, -999.00,9, -999.00,9,   2.1730, -999.00
096U20160426,       P15S,      12,          1,         20,       2020,2,20160509,       0050,   -61.4920,  -169.9923,       3466,   833.3,   2.1810,  34.6840,2,  34.6842,2,    185.5,2,   178.5,2,   80.42,2,   32.44,2,    0.01,4,    2.23,2,-999.000,9,-999.000,9,-999.000,9,  -999.0,9,  -999.0,9,-999.0000,9,  -999.00,-999.0000,9, -999.00,9, -999.00,9,  -999.0,9,  -999.0, -999.00,9, -999.00,9, -999.00,9, -999.00,9,   2.1306, -999.00
096U20160426,       P15S,      12,          1,         19,       2019,2,20160509,       0050,   -61.4920,  -169.9923,       3466,   935.8,   2.1040,  34.7010,2,  34.7003,2,    187.5,2,   180.6,2,   82.36,2,   32.15,2,    0.00,4,    2.21,2,-999.000,9,-999.000,9,-999.000,9,  -999.0,9,  -999.0,9,-999.0000,9,  -999.00,-999.0000,9, -999.00,9, -999.00,9,  -999.0,9,  -999.0, -999.00,9, -999.00,9, -999.00,9, -999.00,9,   2.0472, -999.00
096U20160426,       P15S,      12,          1,         18,       2018,2,20160509,       0050,   -61.4920,  -169.9923,       3466,  1034.6,   2.0390,  34.7120,2,  34.7118,2,    189.6,2,   182.9,2,   84.12,2,   31.87,2,    0.01,4,    2.19,2,-999.000,9,-999.000,9,-999.000,9,  -999.0,9,  -999.0,9,-999.0000,9,  -999.00,-999.0000,9, -999.00,9, -999.00,9,  -999.0,9,  -999.0, -999.00,9, -999.00,9, -999.00,9, -999.00,9,   1.9759, -999.00
096U20160426,       P15S,      12,          1,         17,       2017,2,20160509,       0050,   -61.4920,  -169.9923,       3466,  1135.4,   1.9600,  34.7240,2,  34.7243,2,    192.4,2,   185.8,2,   86.29,2,   31.59,2,    0.00,4,    2.17,2,-999.000,9,-999.000,9,-999.000,9,  -999.0,9,  -999.0,9,-999.0000,9,  -999.00,-999.0000,9, -999.00,9, -999.00,9,  -999.0,9,  -999.0, -999.00,9, -999.00,9, -999.00,9, -999.00,9,   1.8905, -999.00
096U20160426,       P15S,      12,          1,         16,       2016,2,20160509,       0050,   -61.4920,  -169.9923,       3466,  1234.4,   1.8860,  34.7310,2,  34.7310,2,    194.6,2,   188.4,2,   88.26,2,   31.40,2,    0.00,4,    2.16,2,-999.000,9,-999.000,9,-999.000,9,  -999.0,9,  -999.0,9,-999.0000,9,  -999.00,   1.9760,2,    8.41,2, -999.00,9,  -999.0,9,  -999.0, -999.00,9, -999.00,9, -999.00,9, -999.00,9,   1.8102,    1.11
096U20160426,       P15S,      12,          1,         15,       2015,2,20160509,       0050,   -61.4920,  -169.9923,       3466,  1335.7,   1.8200,  34.7360,2,  34.7355,2,    196.6,2,   190.2,2,   90.04,2,   31.27,2,    0.01,4,    2.15,2,-999.000,9,-999.000,9,-999.000,9,  -999.0,9,  -999.0,9,-999.0000,9,  -999.00,-999.0000,9, -999.00,9, -999.00,9,  -999.0,9,  -999.0, -999.00,9, -999.00,9, -999.00,9, -999.00,9,   1.7375, -999.00
096U20160426,       P15S,      12,          1,         14,       2014,2,20160509,       0050,   -61.4920,  -169.9923,       3466,  1434.7,   1.7320,  34.7390,2,  34.7385,2,    198.8,2,   192.5,2,   92.54,2,   31.09,2,    0.01,4,    2.15,2,-999.000,9,-999.000,9,-999.000,9,  -999.0,9,  -999.0,9,-999.0000,9,  -999.00,-999.0000,9, -999.00,9, -999.00,9,  -999.0,9,  -999.0, -999.00,9, -999.00,9, -999.00,9, -999.00,9,   1.6433, -999.00
096U20160426,       P15S,      12,          1,         13,       2013,2,20160509,       0050,   -61.4920,  -169.9923,       3466,  1535.3,   1.6790,  34.7390,2,  34.7386,2,    199.8,2,   193.7,2,   94.24,2,   31.13,2,    0.01,4,    2.15,2,-999.000,9,-999.000,9,-999.000,9,  -999.0,9,  -999.0,9,-999.0000,9,  -999.00,-999.0000,9, -999.00,9, -999.00,9,  -999.0,9,  -999.0, -999.00,9, -999.00,9, -999.00,9, -999.00,9,   1.5834, -999.00
096U20160426,       P15S,      12,          1,         12,       2012,2,20160509,       0050,   -61.4920,  -169.9923,       3466,  1634.6,   1.5540,  34.7370,2,  34.7367,2,    201.4,2,   195.7,2,   97.43,2,   31.23,2,    0.00,4,    2.15,2,-999.000,9,-999.000,9,-999.000,9,  -999.0,9,  -999.0,9,-999.0000,9,  -999.00,   1.8700,2,    9.59,2, -999.00,9,  -999.0,9,  -999.0, -999.00,9, -999.00,9, -999.00,9, -999.00,9,   1.4525,    0.74
096U20160426,       P15S,      12,          1,         11,       2011,2,20160509,       0050,   -61.4920,  -169.9923,       3466,  1800.1,   1.3990,  34.7330,2,  34.7321,2,    203.2,2,   197.7,2,  101.84,2,   31.41,2,    0.00,4,    2.17,2,-999.000,9,-999.000,9,-999.000,9,  -999.0,9,  -999.0,9,-999.0000,9,  -999.00,-999.0000,9, -999.00,9, -999.00,9,  -999.0,9,  -999.0, -999.00,9, -999.00,9, -999.00,9, -999.00,9,   1.2870, -999.00
096U20160426,       P15S,      12,          1,         10,       2010,2,20160509,       0050,   -61.4920,  -169.9923,       3466,  2099.5,   1.1730,  34.7240,2,  34.7255,2,    206.0,2,   200.7,2,  108.72,2,   31.72,2,    0.00,4,    2.19,2,-999.000,9,-999.000,9,-999.000,9,  -999.0,9,  -999.0,9,-999.0000,9,  -999.00,   1.9005,2,    9.53,2, -999.00,9,  -999.0,9,  -999.0, -999.00,9, -999.00,9, -999.00,9, -999.00,9,   1.0410,    0.70
096U20160426,       P15S,      12,          1,          9,       2009,2,20160509,       0050,   -61.4920,  -169.9923,       3466,  2399.5,   1.0270,  34.7170,2,  34.7159,2,    208.0,2,   203.0,2,  113.80,2,   31.94,2,    0.00,4,    2.21,2,-999.000,9,-999.000,9,-999.000,9,  -999.0,9,  -999.0,9,-999.0000,9,  -999.00,   1.8790,2,   10.29,2, -999.00,9,  -999.0,9,  -999.0, -999.00,9, -999.00,9, -999.00,9, -999.00,9,   0.8731,    0.76
096U20160426,       P15S,      12,          1,          8,       2008,2,20160509,       0050,   -61.4920,  -169.9923,       3466,  2548.9,   0.9430,  34.7140,2,  34.7170,2,    209.4,2,   204.4,2,  117.33,2,   32.07,2,    0.00,4,    2.22,2,-999.000,9,-999.000,9,-999.000,9,  -999.0,9,  -999.0,9,-999.0000,9,  -999.00,-999.0000,9, -999.00,9,    0.46,6,  -160.6,6,     2.0, -999.00,9, -999.00,9, -999.00,9, -999.00,9,   0.7781, -999.00
096U20160426,       P15S,      12,          1,          7,       2007,2,20160509,       0050,   -61.4920,  -169.9923,       3466,  2700.5,   0.8870,  34.7110,2,  34.7105,2,    210.0,2,   205.2,2,  120.91,2,   32.18,2,    0.00,4,    2.22,2,-999.000,9,-999.000,9,-999.000,9,  -999.0,9,  -999.0,9,-999.0000,9,  -999.00,   1.8710,2,   10.19,2, -999.00,9,  -999.0,9,  -999.0, -999.00,9, -999.00,9, -999.00,9, -999.00,9,   0.7102,    0.73
096U20160426,       P15S,      12,          1,          6,       2006,2,20160509,       0050,   -61.4920,  -169.9923,       3466,  2847.8,   0.8400,  34.7090,2,  34.7085,2,    210.4,2,   205.7,2,  124.76,2,   32.26,2,    0.00,4,    2.23,2,-999.000,9,-999.000,9,-999.000,9,  -999.0,9,  -999.0,9,-999.0000,9,  -999.00,-999.0000,9, -999.00,9, -999.00,9,  -999.0,9,  -999.0, -999.00,9, -999.00,9, -999.00,9, -999.00,9,   0.6513, -999.00
096U20160426,       P15S,      12,          1,          5,       2005,2,20160509,       0050,   -61.4920,  -169.9923,       3466,  3000.0,   0.8250,  34.7080,2,  34.7062,2,    210.4,2,   205.8,2,  127.22,2,   32.31,2,    0.00,4,    2.24,2,-999.000,9,-999.000,9,-999.000,9,  -999.0,9,  -999.0,9,-999.0000,9,  -999.00,   1.8640,2,   10.25,2, -999.00,9,  -999.0,9,  -999.0, -999.00,9, -999.00,9, -999.00,9, -999.00,9,   0.6230,    0.77
096U20160426,       P15S,      12,          1,          4,       2004,2,20160509,       0050,   -61.4920,  -169.9923,       3466,  3149.1,   0.8210,  34.7070,2,  34.7068,2,    210.4,2,   205.9,2,  129.76,2,   32.39,2,    0.00,4,    2.24,2,-999.000,9,-999.000,9,-999.000,9,  -999.0,9,  -999.0,9,-999.0000,9,  -999.00,-999.0000,9, -999.00,9, -999.00,9,  -999.0,9,  -999.0, -999.00,9, -999.00,9, -999.00,9, -999.00,9,   0.6053, -999.00
096U20160426,       P15S,      12,          1,          3,       2003,2,20160509,       0050,   -61.4920,  -169.9923,       3466,  3301.9,   0.8300,  34.7060,2,  34.7066,2,    210.2,4,   205.8,2,  130.78,2,   32.40,2,    0.01,4,    2.24,2,-999.000,9,-999.000,9,-999.000,9,  -999.0,9,  -999.0,9,-999.0000,9,  -999.00,   1.8950,2,    9.98,2, -999.00,9,  -999.0,9,  -999.0, -999.00,9, -999.00,9, -999.00,9, -999.00,9,   0.5998,    0.77
096U20160426,       P15S,      12,          1,          2,       2002,2,20160509,       0050,   -61.4920,  -169.9923,       3466,  3401.0,   0.8350,  34.7060,2,  34.7062,2,    210.6,2,   206.3,2,  130.41,2,   32.42,2,    0.00,4,    2.24,2,-999.000,9,-999.000,9,-999.000,9,  -999.0,9,  -999.0,9,-999.0000,9,  -999.00,   1.9070,2,    9.23,2, -999.00,9,  -999.0,9,  -999.0, -999.00,9, -999.00,9, -999.00,9, -999.00,9,   0.5951,    0.76
096U20160426,       P15S,      12,          1,          1,       2001,2,20160509,       0050,   -61.4920,  -169.9923,       3466,  3500.2,   0.8440,  34.7060,2,  34.7062,2,    210.4,2,   206.3,2,  130.50,2,   32.42,3,    0.01,4,    2.24,2,-999.000,9,-999.000,9,-999.000,9,  2271.1,2,  2363.2,2,-999.0000,9,  -999.00,-999.0000,9, -999.00,9, -999.00,9,  -999.0,9,  -999.0, -999.00,9, -999.00,9, -999.00,9, -999.00,9,   0.5942, -999.00