BOTTLE,20230413CCHSIOENA
EXPOCODE,SECT_ID,STNNBR,CASTNO,SAMPNO,BTLNBR,BTLNBR_FLAG_W,DATE,TIME,LATITUDE,LONGITUDE,DEPTH,CTDPRS,CTDTMP,CTDSAL,CTDSAL_FLAG_W,SALNTY,SALNTY_FLAG_W,CTDOXY,CTDOXY_FLAG_W,OXYGEN,OXYGEN_FLAG_W,SILCAT,SILCAT_FLAG_W,NITRAT,NITRAT_FLAG_W,NITRIT,NITRIT_FLAG_W,PHSPHT,PHSPHT_FLAG_W,CFC-11,CFC-11_FLAG_W,CFC-12,CFC-12_FLAG_W,SF6,SF6_FLAG_W,TCARBN,TCARBN_FLAG_W,ALKALI,ALKALI_FLAG_W,PH_TOT,PH_TOT_FLAG_W,PH_TMP,HELIUM,HELIUM_FLAG_W,DELHE3,DELHE3_FLAG_W,DELC13,DELC13_FLAG_W,DELC14,DELC14_FLAG_W,C14ERR,POC,POC_FLAG_W,PON,PON_FLAG_W,CHLORA,CHLORA_FLAG_W,PPHYTN,PPHYTN_FLAG_W,THETA,DELHER
,,,,,,,,,,,METERS,DBAR,ITS-90,PSS-78,,PSS-78,,UMOL/KG,,UMOL/KG,,UMOL/KG,,UMOL/KG,,UMOL/KG,,UMOL/KG,,PMOL/KG,,PMOL/KG,,FMOL/KG,,UMOL/KG,,UMOL/KG,,,,DEG C,NMOL/KG,,PERCNT,,/MILLE,,/MILLE,,/MILLE,UG/KG,,UG/KG,,UG/KG,,UG/KG,,DEG C,PERCNT
096U20160426,       P15S,      79,          1,         36,       2036,2,20160605,       2125,   -29.9597,  -169.9798,       5432,     6.1,  21.0040,  35.8780,2,  35.8780,2,    220.5,2,   221.6,2,    0.32,2,    0.01,4,    0.01,4,    0.05,2,-999.000,9,-999.000,9,-999.000,9,  2049.9,2,  2352.3,2,-999.0000,9,  -999.00,-999.0000,9, -999.00,9, -999.00,9,  -999.0,9,  -999.0, -999.00,9, -999.00,9,    0.42,2,   -0.05,3,  21.0028, -999.00
096U20160426,       P15S,      79,          1,         35,       2035,2,20160605,       2125,   -29.9597,  -169.9798,       5432,    26.9,  21.0100,  35.8780,2,  35.8771,2,    220.8,2,   221.6,2,    0.34,2,    0.00,4,    0.01,4,    0.05,2,-999.000,9,-999.000,9,-999.000,9,  -999.0,9,  -999.0,9,-999.0000,9,  -999.00,-999.0000,9, -999.00,9, -999.00,9,  -999.0,9,  -999.0, -999.00,9, -999.00,9,    0.32,2,    0.01,3,  21.0048, -999.00
096U20160426,       P15S,      79,          1,         34,       2034,2,20160605,       2125,   -29.9597,  -169.9798,       5432,    50.9,  21.0060,  35.8760,2,  35.8753,2,    220.9,2,   221.7,2,    0.33,2,    0.00,4,    0.01,4,    0.05,2,-999.000,9,-999.000,9,-999.000,9,  -999.0,9,  -999.0,9,-999.0000,9,  -999.00,-999.0000,9, -999.00,9, -999.00,9,  -999.0,9,  -999.0, -999.00,9, -999.00,9,    0.49,2,   -0.07,3,  20.9962, -999.00
096U20160426,       P15S,      79,          1,         33,       2033,2,20160605,       2125,   -29.9597,  -169.9798,       5432,    76.0,  20.9960,  35.8750,2,  35.8757,2,    220.6,2,   221.7,2,    0.34,2,    0.00,4,    0.01,4,    0.05,2,-999.000,9,-999.000,9,-999.000,9,  -999.0,9,  -999.0,9,-999.0000,9,  -999.00,-999.0000,9, -999.00,9, -999.00,9,  -999.0,9,  -999.0, -999.00,9, -999.00,9,    0.32,2,    0.02,3,  20.9814, -999.00
096U20160426,       P15S,      79,          1,         32,       2032,2,20160605,       2125,   -29.9597,  -169.9798,       5432,   101.3,  20.0190,  35.7440,2,  35.7079,2,    228.3,2,   228.8,2,    0.49,2,    0.03,2,    0.02,2,    0.10,2,-999.000,9,-999.000,9,-999.000,9,  -999.0,9,  -999.0,9,-999.0000,9,  -999.00,-999.0000,9, -999.00,9, -999.00,9,  -999.0,9,  -999.0, -999.00,9, -999.00,9,    0.66,2,    0.17,3,  20.0002, -999.00
096U20160426,       P15S,      79,          1,         31,       2031,2,20160605,       2125,   -29.9597,  -169.9798,       5432,   150.5,  16.6600,  35.5320,2,  35.5170,2,    213.6,2,   213.9,2,    1.06,2,    3.06,2,    0.04,2,    0.34,2,-999.000,9,-999.000,9,-999.000,9,  -999.0,9,  -999.0,9,-999.0000,9,  -999.00,-999.0000,9, -999.00,9, -999.00,9,  -999.0,9,  -999.0, -999.00,9, -999.00,9, -999.00,9, -999.00,9,  16.6354, -999.00
096U20160426,       P15S,      79,          1,         30,       2030,2,20160605,       2125,   -29.9597,  -169.9798,       5432,   201.6,  15.4540,  35.4190,2,  35.4110,2,    209.8,2,   210.6,2,    1.57,2,    5.39,2,    0.01,4,    0.46,2,-999.000,9,-999.000,9,-999.000,9,  -999.0,9,  -999.0,9,-999.0000,9,  -999.00,-999.0000,9, -999.00,9, -999.00,9,  -999.0,9,  -999.0, -999.00,9, -999.00,9, -999.00,9, -999.00,9,  15.4227, -999.00
096U20160426,       P15S,      79,          1,         29,       2029,2,20160605,       2125,   -29.9597,  -169.9798,       5432,   250.6,  14.5290,  35.3110,2,  35.3004,2,    209.2,2,   210.2,2,    2.04,2,    6.81,2,    0.01,4,    0.55,2,-999.000,9,-999.000,9,-999.000,9,  -999.0,9,  -999.0,9,-999.0000,9,  -999.00,-999.0000,9, -999.00,9, -999.00,9,  -999.0,9,  -999.0, -999.00,9, -999.00,9, -999.00,9, -999.00,9,  14.4917, -999.00
096U20160426,       P15S,      79,          1,         28,       2028,2,20160605,       2125,   -29.9597,  -169.9798,       5432,   301.6,  13.5230,  35.1680,2,  35.1525,2,    207.9,2,   208.2,2,    2.46,2,    8.55,2,    0.01,4,    0.67,2,-999.000,9,-999.000,9,-999.000,9,  -999.0,9,  -999.0,9,-999.0000,9,  -999.00,-999.0000,9, -999.00,9, -999.00,9,  -999.0,9,  -999.0, -999.00,9, -999.00,9, -999.00,9, -999.00,9,  13.4802, -999.00
096U20160426,       P15S,      79,          1,         27,       2027,2,20160605,       2125,   -29.9597,  -169.9798,       5432,   351.2,  12.2450,  34.9950,2,  34.9888,2,    201.0,2,   201.6,2,    3.66,2,   12.29,2,    0.01,4,    0.90,2,-999.000,9,-999.000,9,-999.000,9,  -999.0,9,  -999.0,9,-999.0000,9,  -999.00,-999.0000,9, -999.00,9, -999.00,9,  -999.0,9,  -999.0, -999.00,9, -999.00,9, -999.00,9, -999.00,9,  12.1983, -999.00
096U20160426,       P15S,      79,          1,         26,       2026,2,20160605,       2125,   -29.9597,  -169.9798,       5432,   401.6,  11.0850,  34.8480,2,  34.8394,2,    201.3,2,   202.8,2,    4.42,2,   14.88,2,    0.01,4,    1.06,2,-999.000,9,-999.000,9,-999.000,9,  -999.0,9,  -999.0,9,-999.0000,9,  -999.00,-999.0000,9, -999.00,9, -999.00,9,  -999.0,9,  -999.0, -999.00,9, -999.00,9, -999.00,9, -999.00,9,  11.0349, -999.00
096U20160426,       P15S,      79,          1,         25,       2025,2,20160605,       2125,   -29.9597,  -169.9798,       5432,   499.2,   9.1280,  34.6150,2,  34.6017,2,    212.9,2,   214.6,2,    5.43,2,   18.40,2,    0.01,4,    1.28,2,-999.000,9,-999.000,9,-999.000,9,  -999.0,9,  -999.0,9,-999.0000,9,  -999.00,-999.0000,9, -999.00,9, -999.00,9,  -999.0,9,  -999.0, -999.00,9, -999.00,9, -999.00,9, -999.00,9,   9.0726, -999.00
096U20160426,       P15S,      79,          1,         24,       2024,2,20160605,       2125,   -29.9597,  -169.9798,       5432,   600.3,   7.8660,  34.4680,2,  34.4705,2,    225.9,2,   226.6,2,    6.43,2,   20.67,2,    0.01,4,    1.42,2,-999.000,9,-999.000,9,-999.000,9,  -999.0,9,  -999.0,9,-999.0000,9,  -999.00,-999.0000,9, -999.00,9, -999.00,9,  -999.0,9,  -999.0, -999.00,9, -999.00,9, -999.00,9, -999.00,9,   7.8047, -999.00
096U20160426,       P15S,      79,          1,         23,       2023,2,20160605,       2125,   -29.9597,  -169.9798,       5432,   730.1,   6.8260,  34.3770,2,  34.3800,2,    229.4,2,   231.4,2,    8.71,2,   23.06,2,    0.01,4,    1.58,2,-999.000,9,-999.000,9,-999.000,9,  2145.0,2,  2281.9,6,-999.0000,9,  -999.00,-999.0000,9, -999.00,9, -999.00,9,  -999.0,9,  -999.0, -999.00,9, -999.00,9, -999.00,9, -999.00,9,   6.7566, -999.00
096U20160426,       P15S,      79,          1,         22,       2022,2,20160605,       2125,   -29.9597,  -169.9798,       5432,   800.5,   6.4270,  34.3540,2,  34.3540,2,    226.4,2,   228.7,2,   10.80,2,   24.33,2,    0.01,4,    1.66,2,-999.000,9,-999.000,9,-999.000,9,  -999.0,9,  -999.0,9,-999.0000,9,  -999.00,-999.0000,9, -999.00,9, -999.00,9,  -999.0,9,  -999.0, -999.00,9, -999.00,9, -999.00,9, -999.00,9,   6.3530, -999.00
096U20160426,       P15S,      79,          1,         21,       2021,2,20160605,       2125,   -29.9597,  -169.9798,       5432,   900.7,   5.8050,  34.3280,2,  34.3268,2,    219.1,2,   220.7,2,   15.24,2,   26.46,2,    0.01,4,    1.81,2,-999.000,9,-999.000,9,-999.000,9,  -999.0,9,  -999.0,9,-999.0000,9,  -999.00,-999.0000,9, -999.00,9, -999.00,9,  -999.0,9,  -999.0, -999.00,9, -999.00,9, -999.00,9, -999.00,9,   5.7254, -999.00
096U20160426,       P15S,      79,          1,         20,       2020,2,20160605,       2125,   -29.9597,  -169.9798,       5432,  1001.2,   5.1260,  34.3240,2,  34.3246,2,    206.2,2,   207.6,2,   22.83,2,   28.87,2,    0.01,4,    1.98,2,-999.000,9,-999.000,9,-999.000,9,  -999.0,9,  -999.0,9,-999.0000,9,  -999.00,-999.0000,9, -999.00,9, -999.00,9,  -999.0,9,  -999.0, -999.00,9, -999.00,9, -999.00,9, -999.00,9,   5.0419, -999.00
096U20160426,       P15S,      79,          1,         19,       2019,2,20160605,       2125,   -29.9597,  -169.9798,       5432,  1099.3,   4.6980,  34.3370,2,  34.3361,2,    197.7,2,   198.8,2,   29.42,2,   30.34,2,    0.01,4,    2.08,2,-999.000,9,-999.000,9,-999.000,9,  -999.0,9,  -999.0,9,-999.0000,9,  -999.00,-999.0000,9, -999.00,9, -999.00,9,  -999.0,9,  -999.0, -999.00,9, -999.00,9, -999.00,9, -999.00,9,   4.6084, -999.00
096U20160426,       P15S,      79,          1,         18,       2018,2,20160605,       2125,   -29.9597,  -169.9798,       5432,  1201.0,   4.0730,  34.3690,2,  34.3698,2,    186.8,2,   187.4,2,   40.61,2,   32.04,2,    0.01,4,    2.21,2,-999.000,9,-999.000,9,-999.000,9,  -999.0,9,  -999.0,9,-999.0000,9,  -999.00,-999.0000,9, -999.00,9, -999.00,9,  -999.0,9,  -999.0, -999.00,9, -999.00,9, -999.00,9, -999.00,9,   3.9799, -999.00
096U20160426,       P15S,      79,          1,         17,       2017,2,20160605,       2125,   -29.9597,  -169.9798,       5432,  1300.3,   3.6190,  34.4070,2,  34.4068,2,    179.1,2,   180.6,2,   50.49,2,   33.08,2,    0.01,4,    2.28,2,-999.000,9,-999.000,9,-999.000,9,  -999.0,9,  -999.0,9,-999.0000,9,  -999.00,-999.0000,9, -999.00,9, -999.00,9,  -999.0,9,  -999.0, -999.00,9, -999.00,9, -999.00,9, -999.00,9,   3.5217, -999.00
096U20160426,       P15S,      79,          1,         16,       2016,2,20160605,       2125,   -29.9597,  -169.9798,       5432,  1400.6,   3.2370,  34.4550,2,  34.4563,2,    171.9,2,   172.7,2,   61.40,2,   33.75,2,    0.00,4,    2.35,2,-999.000,9,-999.000,9,-999.000,9,  -999.0,9,  -999.0,9,-999.0000,9,  -999.00,-999.0000,9, -999.00,9, -999.00,9,  -999.0,9,  -999.0, -999.00,9, -999.00,9, -999.00,9, -999.00,9,   3.1351, -999.00
096U20160426,       P15S,      79,          1,         15,       2015,2,20160605,       2125,   -29.9597,  -169.9798,       5432,  1601.7,   2.7530,  34.5470,2,  34.5474,2,    160.1,2,   160.4,2,   82.36,2,   34.43,2,    0.01,4,    2.41,2,-999.000,9,-999.000,9,-999.000,9,  -999.0,9,  -999.0,9,-999.0000,9,  -999.00,-999.0000,9, -999.00,9, -999.00,9,  -999.0,9,  -999.0, -999.00,9, -999.00,9, -999.00,9, -999.00,9,   2.6397, -999.00
096U20160426,       P15S,      79,          1,         14,       2014,2,20160605,       2125,   -29.9597,  -169.9798,       5432,  1800.7,   2.4820,  34.5980,2,  34.5981,2,    153.1,2,   153.5,2,   98.05,2,   34.87,2,    0.01,4,    2.45,2,-999.000,9,-999.000,9,-999.000,9,  -999.0,9,  -999.0,9,-999.0000,9,  -999.00,-999.0000,9, -999.00,9, -999.00,9,  -999.0,9,  -999.0, -999.00,9, -999.00,9, -999.00,9, -999.00,9,   2.3554, -999.00
096U20160426,       P15S,      79,          1,         13,       2013,2,20160605,       2125,   -29.9597,  -169.9798,       5432,  2000.9,   2.2900,  34.6240,2,  34.6228,2,    149.7,2,   150.1,2,  108.44,2,   35.23,2,    0.01,4,    2.48,2,-999.000,9,-999.000,9,-999.000,9,  -999.0,9,  -999.0,9,-999.0000,9,  -999.00,-999.0000,9, -999.00,9, -999.00,9,  -999.0,9,  -999.0, -999.00,9, -999.00,9, -999.00,9, -999.00,9,   2.1491, -999.00
096U20160426,       P15S,      79,          1,         12,       2012,2,20160605,       2125,   -29.9597,  -169.9798,       5432,  2252.6,   2.1370,  34.6390,2,  34.6388,2,    147.3,2,   147.7,2,  116.25,2,   35.50,2,    0.01,4,    2.50,2,-999.000,9,-999.000,9,-999.000,9,  -999.0,9,  -999.0,9,-999.0000,9,  -999.00,-999.0000,9, -999.00,9, -999.00,9,  -999.0,9,  -999.0, -999.00,9, -999.00,9, -999.00,9, -999.00,9,   1.9765, -999.00
096U20160426,       P15S,      79,          1,         11,       2011,2,20160605,       2125,   -29.9597,  -169.9798,       5432,  2550.7,   1.9710,  34.6540,2,  34.6533,2,    146.8,2,   147.2,2,  123.46,2,   35.65,2,    0.01,4,    2.51,2,-999.000,9,-999.000,9,-999.000,9,  2311.9,2,  2401.6,2,-999.0000,9,  -999.00,-999.0000,9, -999.00,9, -999.00,9,  -999.0,9,  -999.0, -999.00,9, -999.00,9, -999.00,9, -999.00,9,   1.7866, -999.00
096U20160426,       P15S,      79,          1,         10,       2010,2,20160605,       2125,   -29.9597,  -169.9798,       5432,  2750.5,   1.8930,  34.6610,2,  34.6608,2,    147.9,2,   148.2,2,  126.04,2,   35.59,2,    0.01,4,    2.50,2,-999.000,9,-999.000,9,-999.000,9,  -999.0,9,  -999.0,9,-999.0000,9,  -999.00,-999.0000,9, -999.00,9, -999.00,9,  -999.0,9,  -999.0, -999.00,9, -999.00,9, -999.00,9, -999.00,9,   1.6915, -999.00
096U20160426,       P15S,      79,          1,          9,       2009,2,20160605,       2125,   -29.9597,  -169.9798,       5432,  3001.0,   1.7830,  34.6730,2,  34.6727,2,    152.3,2,   153.0,2,  126.85,2,   35.24,2,    0.01,4,    2.47,2,-999.000,9,-999.000,9,-999.000,9,  -999.0,9,  -999.0,9,-999.0000,9,  -999.00,-999.0000,9, -999.00,9, -999.00,9,  -999.0,9,  -999.0, -999.00,9, -999.00,9, -999.00,9, -999.00,9,   1.5599, -999.00
096U20160426,       P15S,      79,          1,          8,       2008,2,20160605,       2125,   -29.9597,  -169.9798,       5432,  3300.5,   1.6600,  34.6930,2,  34.6933,2,    167.6,2,   169.1,2,  119.25,2,   33.82,2,    0.01,4,    2.36,2,-999.000,9,-999.000,9,-999.000,9,  -999.0,9,  -999.0,9,-999.0000,9,  -999.00,-999.0000,9, -999.00,9, -999.00,9,  -999.0,9,  -999.0, -999.00,9, -999.00,9, -999.00,9, -999.00,9,   1.4100, -999.00
096U20160426,       P15S,      79,          1,          7,       2007,2,20160605,       2125,   -29.9597,  -169.9798,       5432,  3601.3,   1.4830,  34.7150,2,  34.7149,2,    187.8,2,   190.0,2,  109.80,2,   32.14,2,    0.01,4,    2.23,2,-999.000,9,-999.000,9,-999.000,9,  -999.0,9,  -999.0,9,-999.0000,9,  -999.00,-999.0000,9, -999.00,9, -999.00,9,  -999.0,9,  -999.0, -999.00,9, -999.00,9, -999.00,9, -999.00,9,   1.2066, -999.00
096U20160426,       P15S,      79,          1,          6,       2006,2,20160605,       2125,   -29.9597,  -169.9798,       5432,  4000.2,   1.2060,  34.7170,2,  34.7164,2,    199.4,2,   201.6,2,  112.71,2,   31.68,2,    0.01,4,    2.20,2,-999.000,9,-999.000,9,-999.000,9,  -999.0,9,  -999.0,9,-999.0000,9,  -999.00,-999.0000,9, -999.00,9, -999.00,9,  -999.0,9,  -999.0, -999.00,9, -999.00,9, -999.00,9, -999.00,9,   0.8951, -999.00
096U20160426,       P15S,      79,          1,          5,       2005,2,20160605,       2125,   -29.9597,  -169.9798,       5432,  4401.4,   1.0700,  34.7120,2,  34.7115,2,    203.3,2,   205.2,2,  116.89,2,   31.81,2,    0.01,4,    2.20,2,-999.000,9,-999.000,9,-999.000,9,  -999.0,9,  -999.0,9,-999.0000,9,  -999.00,-999.0000,9, -999.00,9, -999.00,9,  -999.0,9,  -999.0, -999.00,9, -999.00,9, -999.00,9, -999.00,9,   0.7192, -999.00
096U20160426,       P15S,      79,          1,          4,       2004,2,20160605,       2125,   -29.9597,  -169.9798,       5432,  4801.6,   1.0380,  34.7090,2,  34.7086,2,    205.2,2,   206.6,2,  119.01,2,   31.91,2,    0.01,4,    2.21,2,-999.000,9,-999.000,9,-999.000,9,  -999.0,9,  -999.0,9,-999.0000,9,  -999.00,-999.0000,9, -999.00,9, -999.00,9,  -999.0,9,  -999.0, -999.00,9, -999.00,9, -999.00,9, -999.00,9,   0.6426, -999.00
096U20160426,       P15S,      79,          1,          3,       2003,2,20160605,       2125,   -29.9597,  -169.9798,       5432,  5200.8,   1.0710,  34.7080,2,  34.7075,2,    205.8,2,   206.2,2,  119.69,2,   31.93,2,    0.01,4,    2.21,2,-999.000,9,-999.000,9,-999.000,9,  -999.0,9,  -999.0,9,-999.0000,9,  -999.00,-999.0000,9, -999.00,9, -999.00,9,  -999.0,9,  -999.0, -999.00,9, -999.00,9, -999.00,9, -999.00,9,   0.6269, -999.00
096U20160426,       P15S,      79,          1,          2,       2002,2,20160605,       2125,   -29.9597,  -169.9798,       5432,  5403.5,   1.0950,  34.7080,2,  34.7083,2,    206.1,2,   206.1,2,  119.82,2,   31.93,2,    0.01,4,    2.21,2,-999.000,9,-999.000,9,-999.000,9,  -999.0,9,  -999.0,9,-999.0000,9,  -999.00,-999.0000,9, -999.00,9, -999.00,9,  -999.0,9,  -999.0, -999.00,9, -999.00,9, -999.00,9, -999.00,9,   0.6250, -999.00
096U20160426,       P15S,      79,          1,          1,       2001,2,20160605,       2125,   -29.9597,  -169.9798,       5432,  5515.7,   1.1100,  34.7080,2,  34.7094,2,    206.1,2,   206.4,2,  119.72,2,   31.94,2,    0.01,4,    2.21,2,-999.000,9,-999.000,9,-999.000,9,  2263.6,2,  2368.2,2,-999.0000,9,  -999.00,-999.0000,9, -999.00,9, -999.00,9,  -999.0,9,  -999.0, -999.00,9, -999.00,9, -999.00,9, -999.00,9,   0.6254, -999.00