BOTTLE,20230413CCHSIOENA
EXPOCODE,SECT_ID,STNNBR,CASTNO,SAMPNO,BTLNBR,BTLNBR_FLAG_W,DATE,TIME,LATITUDE,LONGITUDE,DEPTH,CTDPRS,CTDTMP,CTDSAL,CTDSAL_FLAG_W,SALNTY,SALNTY_FLAG_W,CTDOXY,CTDOXY_FLAG_W,OXYGEN,OXYGEN_FLAG_W,SILCAT,SILCAT_FLAG_W,NITRAT,NITRAT_FLAG_W,NITRIT,NITRIT_FLAG_W,PHSPHT,PHSPHT_FLAG_W,CFC-11,CFC-11_FLAG_W,CFC-12,CFC-12_FLAG_W,SF6,SF6_FLAG_W,TCARBN,TCARBN_FLAG_W,ALKALI,ALKALI_FLAG_W,PH_TOT,PH_TOT_FLAG_W,PH_TMP,HELIUM,HELIUM_FLAG_W,DELHE3,DELHE3_FLAG_W,DELC13,DELC13_FLAG_W,DELC14,DELC14_FLAG_W,C14ERR,POC,POC_FLAG_W,PON,PON_FLAG_W,CHLORA,CHLORA_FLAG_W,PPHYTN,PPHYTN_FLAG_W,THETA,DELHER
,,,,,,,,,,,METERS,DBAR,ITS-90,PSS-78,,PSS-78,,UMOL/KG,,UMOL/KG,,UMOL/KG,,UMOL/KG,,UMOL/KG,,UMOL/KG,,PMOL/KG,,PMOL/KG,,FMOL/KG,,UMOL/KG,,UMOL/KG,,,,DEG C,NMOL/KG,,PERCNT,,/MILLE,,/MILLE,,/MILLE,UG/KG,,UG/KG,,UG/KG,,UG/KG,,DEG C,PERCNT
096U20160426,       P15S,      72,          1,         36,       2036,2,20160603,       1818,   -33.5016,  -170.0018,       5445,     7.1,  19.2520,  35.7310,2,  35.7313,2,    228.2,2,   227.6,2,    0.07,4,    0.02,4,    0.00,4,    0.08,2,   2.186,6,   1.272,6,   1.577,6,  2062.8,2,  2342.8,2,-999.0000,9,  -999.00,-999.0000,9, -999.00,9,    1.16,2,    50.4,2,     2.0, -999.00,9, -999.00,9,    0.32,2,    0.05,3,  19.2507, -999.00
096U20160426,       P15S,      72,          1,         35,       2035,2,20160603,       1818,   -33.5016,  -170.0018,       5445,    20.3,  19.2590,  35.7300,2,  35.7303,2,    228.0,2,   227.6,2,    0.10,4,    0.02,4,    0.00,4,    0.07,2,-999.000,9,-999.000,9,-999.000,9,  -999.0,9,  -999.0,9,-999.0000,9,  -999.00,-999.0000,9, -999.00,9, -999.00,9,  -999.0,9,  -999.0, -999.00,9, -999.00,9,    0.35,2,    0.02,3,  19.2553, -999.00
096U20160426,       P15S,      72,          1,         34,       2034,2,20160603,       1818,   -33.5016,  -170.0018,       5445,    37.8,  19.2580,  35.7270,2,  35.7276,2,    228.0,2,   227.6,2,    0.07,4,    0.02,4,    0.00,4,    0.08,2,-999.000,9,-999.000,9,-999.000,9,  -999.0,9,  -999.0,9,-999.0000,9,  -999.00,-999.0000,9, -999.00,9, -999.00,9,  -999.0,9,  -999.0, -999.00,9, -999.00,9,    0.34,2,    0.03,3,  19.2512, -999.00
096U20160426,       P15S,      72,          1,         33,       2033,2,20160603,       1818,   -33.5016,  -170.0018,       5445,    66.8,  19.2560,  35.7290,2,  35.7219,2,    227.9,2,   227.9,2,    0.10,4,    0.02,2,    0.00,4,    0.08,2,   2.215,2,   1.276,2,   1.571,2,  2062.3,6,  2342.5,6,-999.0000,9,  -999.00,-999.0000,9, -999.00,9,    1.17,2,    51.2,2,     2.0, -999.00,9, -999.00,9,    0.36,2,    0.04,3,  19.2440, -999.00
096U20160426,       P15S,      72,          1,         32,       2032,2,20160603,       1818,   -33.5016,  -170.0018,       5445,    91.7,  17.0090,  35.4990,2,  35.4929,2,    233.3,2,   229.5,2,    0.46,2,    1.16,2,    0.14,2,    0.23,2,   2.503,2,   1.448,2,   1.639,2,  2077.8,2,  2327.6,2,-999.0000,9,  -999.00,-999.0000,9, -999.00,9,    0.98,2,    51.5,2,     2.0, -999.00,9, -999.00,9,    0.51,2,    0.13,3,  16.9938, -999.00
096U20160426,       P15S,      72,          1,         31,       2031,2,20160603,       1818,   -33.5016,  -170.0018,       5445,   136.8,  15.3400,  35.3960,2,  35.3880,2,    214.0,2,   214.5,2,    1.00,2,    4.69,2,    0.02,4,    0.42,2,   2.603,2,   1.497,2,   1.598,2,  2096.3,2,  2319.0,2,-999.0000,9,  -999.00,-999.0000,9, -999.00,9,    0.84,2,    52.0,2,     2.0, -999.00,9, -999.00,9, -999.00,9, -999.00,9,  15.3189, -999.00
096U20160426,       P15S,      72,          1,         30,       2030,2,20160603,       1818,   -33.5016,  -170.0018,       5445,   187.1,  14.4360,  35.2780,2,  35.2741,2,    211.7,2,   211.7,2,    1.45,2,    6.39,2,    0.01,4,    0.53,2,   2.706,2,   1.536,2,   1.499,2,  2104.3,2,  2313.8,2,-999.0000,9,  -999.00,-999.0000,9, -999.00,9,    0.87,2,    52.2,2,     2.0, -999.00,9, -999.00,9, -999.00,9, -999.00,9,  14.4083, -999.00
096U20160426,       P15S,      72,          1,         29,       2029,2,20160603,       1818,   -33.5016,  -170.0018,       5445,   236.2,  13.5710,  35.1960,2,  35.1928,2,    216.5,2,   215.9,2,    1.82,2,    7.29,2,    0.01,4,    0.60,2,   2.813,2,   1.584,2,   1.643,2,  2112.4,2,  2311.5,2,-999.0000,9,  -999.00,-999.0000,9, -999.00,9,    0.89,2,    52.4,2,     2.0, -999.00,9, -999.00,9, -999.00,9, -999.00,9,  13.5375, -999.00
096U20160426,       P15S,      72,          1,         28,       2028,2,20160603,       1818,   -33.5016,  -170.0018,       5445,   286.1,  12.6510,  35.0710,2,  35.0682,2,    216.5,2,   216.4,2,    2.19,2,    9.05,2,    0.01,4,    0.71,2,-999.000,9,-999.000,9,-999.000,9,  -999.0,9,  -999.0,9,-999.0000,9,  -999.00,-999.0000,9, -999.00,9, -999.00,9,  -999.0,9,  -999.0, -999.00,9, -999.00,9, -999.00,9, -999.00,9,  12.6122, -999.00
096U20160426,       P15S,      72,          1,         27,       2027,2,20160603,       1818,   -33.5016,  -170.0018,       5445,   337.0,  11.7910,  34.9530,2,  34.9472,2,    214.4,2,   213.8,2,    2.79,2,   11.52,2,    0.01,4,    0.86,2,   3.029,2,   1.672,2,   1.516,2,  2126.0,2,  2299.4,2,-999.0000,9,  -999.00,-999.0000,9, -999.00,9,    0.92,2,    44.1,2,     2.0, -999.00,9, -999.00,9, -999.00,9, -999.00,9,  11.7473, -999.00
096U20160426,       P15S,      72,          1,         26,       2026,2,20160603,       1818,   -33.5016,  -170.0018,       5445,   376.1,  10.7650,  34.8070,2,  34.8048,2,    213.4,2,   213.1,2,    3.29,2,   14.02,2,    0.00,4,    1.01,2,   3.240,2,   1.731,2,   1.405,2,  2131.9,2,  2294.5,6,-999.0000,9,  -999.00,-999.0000,9, -999.00,9,    0.97,2,    37.9,2,     2.0, -999.00,9, -999.00,9, -999.00,9, -999.00,9,  10.7190, -999.00
096U20160426,       P15S,      72,          1,         25,       2025,2,20160603,       1818,   -33.5016,  -170.0018,       5445,   466.0,   9.0610,  34.5960,2,  34.5903,2,    223.3,2,   223.8,2,    4.10,2,   17.52,2,    0.00,4,    1.23,2,   3.574,2,   1.864,2,   1.351,2,  2139.6,2,  2285.0,2,-999.0000,9,  -999.00,-999.0000,9, -999.00,9,    1.06,2,    31.1,2,     2.0, -999.00,9, -999.00,9, -999.00,9, -999.00,9,   9.0096, -999.00
096U20160426,       P15S,      72,          1,         24,       2024,2,20160603,       1818,   -33.5016,  -170.0018,       5445,   551.1,   8.0260,  34.4780,2,  34.4782,2,    236.3,2,   236.5,2,    4.81,2,   19.49,2,    0.00,4,    1.35,2,   3.855,2,   1.991,2,   1.435,2,  2140.4,2,  2281.4,2,-999.0000,9,  -999.00,-999.0000,9, -999.00,9,    1.13,2,    24.6,2,     2.0, -999.00,9, -999.00,9, -999.00,9, -999.00,9,   7.9693, -999.00
096U20160426,       P15S,      72,          1,         23,       2023,2,20160603,       1818,   -33.5016,  -170.0018,       5445,   665.9,   7.4050,  34.4230,2,  34.4236,2,    232.9,2,   233.8,2,    6.23,2,   21.49,2,    0.00,4,    1.47,2,   3.736,2,   1.867,2,   1.003,2,  2146.3,2,  2279.9,2,-999.0000,9,  -999.00,-999.0000,9, -999.00,9,    1.15,2,    16.8,2,     2.0, -999.00,9, -999.00,9, -999.00,9, -999.00,9,   7.3391, -999.00
096U20160426,       P15S,      72,          1,         22,       2022,2,20160603,       1818,   -33.5016,  -170.0018,       5445,   766.6,   6.8040,  34.3770,2,  34.3775,2,    230.5,2,   231.1,2,    8.48,2,   23.40,2,    0.00,4,    1.60,2,   3.278,2,   1.546,2,   0.661,2,  2149.5,2,  2281.3,2,-999.0000,9,  -999.00,-999.0000,9, -999.00,9,    1.22,2,     7.8,2,     2.0, -999.00,9, -999.00,9, -999.00,9, -999.00,9,   6.7311, -999.00
096U20160426,       P15S,      72,          1,         21,       2021,2,20160603,       1818,   -33.5016,  -170.0018,       5445,   866.0,   6.1730,  34.3340,2,  34.3340,2,    227.8,2,   229.0,2,   11.19,2,   25.08,2,    0.00,4,    1.71,2,-999.000,9,-999.000,9,-999.000,9,  -999.0,9,  -999.0,9,-999.0000,9,  -999.00,-999.0000,9, -999.00,9, -999.00,9,  -999.0,9,  -999.0, -999.00,9, -999.00,9, -999.00,9, -999.00,9,   6.0942, -999.00
096U20160426,       P15S,      72,          1,         20,       2020,2,20160603,       1818,   -33.5016,  -170.0018,       5445,   965.4,   5.5300,  34.3210,2,  34.3211,2,    215.8,2,   216.2,2,   17.41,2,   27.54,2,    0.00,4,    1.89,2,   1.812,2,   0.855,2,   0.319,2,  2168.7,2,  2285.6,2,-999.0000,9,  -999.00,-999.0000,9, -999.00,9,    1.17,2,   -41.9,2,     2.0, -999.00,9, -999.00,9, -999.00,9, -999.00,9,   5.4462, -999.00
096U20160426,       P15S,      72,          1,         19,       2019,2,20160603,       1818,   -33.5016,  -170.0018,       5445,  1136.4,   4.3420,  34.3390,2,  34.3407,2,    194.9,2,   196.7,2,   33.03,2,   31.19,2,    0.00,4,    2.15,2,   0.859,2,   0.400,2,   0.115,2,  2199.2,2,  2298.7,6,-999.0000,9,  -999.00,-999.0000,9, -999.00,9,    0.96,2,   -95.5,2,     2.0, -999.00,9, -999.00,9, -999.00,9, -999.00,9,   4.2522, -999.00
096U20160426,       P15S,      72,          1,         18,       2018,2,20160603,       1818,   -33.5016,  -170.0018,       5445,  1160.7,   4.1720,  34.3490,2,  34.3507,2,    193.0,2,   193.2,2,   36.25,2,   31.67,2,    0.00,4,    2.19,2,   0.703,2,   0.337,2,   0.058,2,  2205.0,6,  2302.4,6,-999.0000,9,  -999.00,-999.0000,9, -999.00,9,    0.87,2,  -101.9,2,     2.0, -999.00,9, -999.00,9, -999.00,9, -999.00,9,   4.0815, -999.00
096U20160426,       P15S,      72,          1,         17,       2017,2,20160603,       1818,   -33.5016,  -170.0018,       5445,  1301.1,   3.6140,  34.3950,2,  34.3995,2,    183.1,2,   183.5,2,   48.21,2,   33.07,2,    0.00,4,    2.29,2,   0.356,2,   0.177,2,   0.011,2,  2222.2,2,  2314.2,2,-999.0000,9,  -999.00,-999.0000,9, -999.00,9, -999.00,9,  -999.0,9,  -999.0, -999.00,9, -999.00,9, -999.00,9, -999.00,9,   3.5167, -999.00
096U20160426,       P15S,      72,          1,         16,       2016,2,20160603,       1818,   -33.5016,  -170.0018,       5445,  1440.8,   3.1690,  34.4650,2,  34.4690,2,    172.0,2,   171.6,2,   62.79,2,   33.88,2,    0.00,4,    2.36,2,   0.138,2,   0.071,2,   0.005,2,  2244.5,2,  2329.8,2,-999.0000,9,  -999.00,-999.0000,9, -999.00,9,    0.54,2,  -149.1,2,     2.0, -999.00,9, -999.00,9, -999.00,9, -999.00,9,   3.0644, -999.00
096U20160426,       P15S,      72,          1,         15,       2015,2,20160603,       1818,   -33.5016,  -170.0018,       5445,  1635.2,   2.7810,  34.5470,2,  34.5487,2,    161.0,2,   160.8,2,   81.52,2,   34.51,2,    0.00,4,    2.42,2,   0.033,2,   0.019,2,       0,2,  2265.2,2,  2353.5,2,-999.0000,9,  -999.00,-999.0000,9, -999.00,9, -999.00,9,  -999.0,9,  -999.0, -999.00,9, -999.00,9, -999.00,9, -999.00,9,   2.6645, -999.00
096U20160426,       P15S,      72,          1,         14,       2014,2,20160603,       1818,   -33.5016,  -170.0018,       5445,  1825.8,   2.5390,  34.5910,2,  34.5914,2,    154.3,2,   154.6,2,   94.78,2,   34.91,2,    0.00,4,    2.45,2,   0.012,2,   0.009,2,       0,2,  2284.9,2,  2369.1,2,-999.0000,9,  -999.00,-999.0000,9, -999.00,9, -999.00,9,  -999.0,9,  -999.0, -999.00,9, -999.00,9, -999.00,9, -999.00,9,   2.4095, -999.00
096U20160426,       P15S,      72,          1,         13,       2013,2,20160603,       1818,   -33.5016,  -170.0018,       5445,  2064.8,   2.3470,  34.6190,2,  34.6189,2,    150.7,2,   150.8,2,  105.50,2,   35.22,2,    0.00,4,    2.48,2,   0.006,2,   0.005,2,       0,2,  2296.5,2,  2382.6,2,-999.0000,9,  -999.00,-999.0000,9, -999.00,9, -999.00,9,  -999.0,9,  -999.0, -999.00,9, -999.00,9, -999.00,9, -999.00,9,   2.1997, -999.00
096U20160426,       P15S,      72,          1,         12,       2012,2,20160603,       1818,   -33.5016,  -170.0018,       5445,  2316.5,   2.2060,  34.6340,2,  34.6354,2,    148.6,2,   148.2,2,  112.44,2,   35.47,2,    0.00,4,    2.50,2,   0.002,6,   0.004,6,   0.011,6,  2304.0,2,  2389.3,2,-999.0000,9,  -999.00,-999.0000,9, -999.00,9, -999.00,9,  -999.0,9,  -999.0, -999.00,9, -999.00,9, -999.00,9, -999.00,9,   2.0387, -999.00
096U20160426,       P15S,      72,          1,         11,       2011,2,20160603,       1818,   -33.5016,  -170.0018,       5445,  2599.7,   2.0510,  34.6490,2,  34.6494,2,    148.1,2,   148.0,2,  118.93,2,   35.59,2,    0.00,4,    2.51,2,-999.000,9,-999.000,9,-999.000,9,  2310.2,2,  2395.7,2,-999.0000,9,  -999.00,-999.0000,9, -999.00,9, -999.00,9,  -999.0,9,  -999.0, -999.00,9, -999.00,9, -999.00,9, -999.00,9,   1.8605, -999.00
096U20160426,       P15S,      72,          1,         10,       2010,2,20160603,       1818,   -33.5016,  -170.0018,       5445,  2814.8,   1.9400,  34.6610,2,  34.6825,3,    150.3,2,   150.2,2,  121.81,2,   35.47,2,    0.00,4,    2.50,2,-999.000,9,-999.000,9,-999.000,9,  -999.0,9,  -999.0,9,-999.0000,9,  -999.00,-999.0000,9, -999.00,9, -999.00,9,  -999.0,9,  -999.0, -999.00,9, -999.00,9, -999.00,9, -999.00,9,   1.7315, -999.00
096U20160426,       P15S,      72,          1,          9,       2009,2,20160603,       1818,   -33.5016,  -170.0018,       5445,  3080.5,   1.7780,  34.6820,2,  34.7057,3,    160.9,2,   161.4,2,  119.59,2,   34.50,2,    0.01,4,    2.42,2,   0.010,2,   0.007,2,       0,2,  2300.4,2,  2391.0,2,-999.0000,9,  -999.00,-999.0000,9, -999.00,9, -999.00,9,  -999.0,9,  -999.0, -999.00,9, -999.00,9, -999.00,9, -999.00,9,   1.5472, -999.00
096U20160426,       P15S,      72,          1,          8,       2008,2,20160603,       1818,   -33.5016,  -170.0018,       5445,  3366.3,   1.6520,  34.7050,2,  34.7059,2,    177.3,2,   178.7,2,  110.88,2,   32.93,2,    0.01,4,    2.30,2,   0.023,2,   0.012,2,       0,2,  2281.0,2,  2378.2,2,-999.0000,9,  -999.00,-999.0000,9, -999.00,9, -999.00,9,  -999.0,9,  -999.0, -999.00,9, -999.00,9, -999.00,9, -999.00,9,   1.3955, -999.00
096U20160426,       P15S,      72,          1,          7,       2007,2,20160603,       1818,   -33.5016,  -170.0018,       5445,  3701.4,   1.4440,  34.7200,2,  34.7175,2,    193.0,2,   194.7,2,  107.34,2,   31.89,2,    0.00,4,    2.22,2,-999.000,9,-999.000,9,-999.000,9,  -999.0,9,  -999.0,9,-999.0000,9,  -999.00,-999.0000,9, -999.00,9, -999.00,9,  -999.0,9,  -999.0, -999.00,9, -999.00,9, -999.00,9, -999.00,9,   1.1582, -999.00
096U20160426,       P15S,      72,          1,          6,       2006,2,20160603,       1818,   -33.5016,  -170.0018,       5445,  4090.0,   1.2370,  34.7180,2,  34.7173,2,    200.2,2,   201.4,2,  107.38,2,   31.87,2,    0.00,4,    2.22,2,   0.072,2,   0.037,2,       0,2,  2261.4,2,  2364.0,2,-999.0000,9,  -999.00,-999.0000,9, -999.00,9, -999.00,9,  -999.0,9,  -999.0, -999.00,9, -999.00,9, -999.00,9, -999.00,9,   0.9155, -999.00
096U20160426,       P15S,      72,          1,          5,       2005,2,20160603,       1818,   -33.5016,  -170.0018,       5445,  4490.3,   1.0790,  34.7120,2,  34.7121,2,    204.5,2,   205.2,2,  116.38,2,   31.94,2,    0.00,4,    2.22,2,   0.117,2,   0.057,2,   0.041,2,  2264.0,2,  2364.2,2,-999.0000,9,  -999.00,-999.0000,9, -999.00,9, -999.00,9,  -999.0,9,  -999.0, -999.00,9, -999.00,9, -999.00,9, -999.00,9,   0.7180, -999.00
096U20160426,       P15S,      72,          1,          4,       2004,2,20160603,       1818,   -33.5016,  -170.0018,       5445,  4895.9,   1.0500,  34.7090,2,  34.7093,2,    206.3,2,   206.2,2,  118.33,2,   32.02,2,    0.01,4,    2.22,2,   0.137,2,   0.069,2,       0,2,  -999.0,9,  -999.0,9,-999.0000,9,  -999.00,-999.0000,9, -999.00,9, -999.00,9,  -999.0,9,  -999.0, -999.00,9, -999.00,9, -999.00,9, -999.00,9,   0.6431, -999.00
096U20160426,       P15S,      72,          1,          3,       2003,2,20160603,       1818,   -33.5016,  -170.0018,       5445,  5295.8,   1.0810,  34.7080,2,  34.7082,2,    206.9,2,   206.2,2,  118.75,2,   32.04,2,    0.01,4,    2.23,2,   0.133,2,   0.066,2,       0,2,  2264.2,6,  2365.8,6,-999.0000,9,  -999.00,-999.0000,9, -999.00,9, -999.00,9,  -999.0,9,  -999.0, -999.00,9, -999.00,9, -999.00,9, -999.00,9,   0.6249, -999.00
096U20160426,       P15S,      72,          1,          2,       2002,2,20160603,       1818,   -33.5016,  -170.0018,       5445,  5449.8,   1.0970,  34.7080,2,  34.7082,2,    207.1,2,   206.1,2,  118.76,2,   32.07,2,    0.00,4,    2.22,2,-999.000,9,-999.000,9,-999.000,9,  -999.0,9,  -999.0,9,-999.0000,9,  -999.00,-999.0000,9, -999.00,9, -999.00,9,  -999.0,9,  -999.0, -999.00,9, -999.00,9, -999.00,9, -999.00,9,   0.6212, -999.00
096U20160426,       P15S,      72,          1,          1,       2001,2,20160603,       1818,   -33.5016,  -170.0018,       5445,  5548.7,   1.1090,  34.7080,2,  34.7080,2,    207.2,2,   206.2,2,  118.87,2,   32.11,2,    0.00,4,    2.22,2,   0.116,2,   0.059,2,   0.018,2,  2263.9,2,  2366.4,2,-999.0000,9,  -999.00,-999.0000,9, -999.00,9, -999.00,9,  -999.0,9,  -999.0, -999.00,9, -999.00,9, -999.00,9, -999.00,9,   0.6203, -999.00