BOTTLE,20230413CCHSIOENA
EXPOCODE,SECT_ID,STNNBR,CASTNO,SAMPNO,BTLNBR,BTLNBR_FLAG_W,DATE,TIME,LATITUDE,LONGITUDE,DEPTH,CTDPRS,CTDTMP,CTDSAL,CTDSAL_FLAG_W,SALNTY,SALNTY_FLAG_W,CTDOXY,CTDOXY_FLAG_W,OXYGEN,OXYGEN_FLAG_W,SILCAT,SILCAT_FLAG_W,NITRAT,NITRAT_FLAG_W,NITRIT,NITRIT_FLAG_W,PHSPHT,PHSPHT_FLAG_W,CFC-11,CFC-11_FLAG_W,CFC-12,CFC-12_FLAG_W,SF6,SF6_FLAG_W,TCARBN,TCARBN_FLAG_W,ALKALI,ALKALI_FLAG_W,PH_TOT,PH_TOT_FLAG_W,PH_TMP,HELIUM,HELIUM_FLAG_W,DELHE3,DELHE3_FLAG_W,DELC13,DELC13_FLAG_W,DELC14,DELC14_FLAG_W,C14ERR,POC,POC_FLAG_W,PON,PON_FLAG_W,CHLORA,CHLORA_FLAG_W,PPHYTN,PPHYTN_FLAG_W,THETA,DELHER
,,,,,,,,,,,METERS,DBAR,ITS-90,PSS-78,,PSS-78,,UMOL/KG,,UMOL/KG,,UMOL/KG,,UMOL/KG,,UMOL/KG,,UMOL/KG,,PMOL/KG,,PMOL/KG,,FMOL/KG,,UMOL/KG,,UMOL/KG,,,,DEG C,NMOL/KG,,PERCNT,,/MILLE,,/MILLE,,/MILLE,UG/KG,,UG/KG,,UG/KG,,UG/KG,,DEG C,PERCNT
096U20160426,       P15S,     138,          1,         36,       2036,2,20160623,       1924,    -0.9991,  -168.7493,       5802,     5.5,  28.9660,  35.2870,2,  35.2869,2,    184.5,2,   191.8,2,    0.36,2,    1.15,2,    0.26,2,    0.32,2,   1.439,2,   0.923,2,   1.226,2,  2001.6,2,  2318.6,2,-999.0000,9,  -999.00,-999.0000,9, -999.00,9, -999.00,9,  -999.0,9,  -999.0, -999.00,9, -999.00,9,    0.67,2,    0.03,3,  28.9647, -999.00
096U20160426,       P15S,     138,          1,         35,       2035,2,20160623,       1924,    -0.9991,  -168.7493,       5802,    25.5,  28.9700,  35.2870,2,  35.2873,2,    184.5,2,   191.6,2,    0.32,2,    1.21,2,    0.26,2,    0.31,2,-999.000,9,-999.000,9,-999.000,9,  -999.0,9,  -999.0,9,-999.0000,9,  -999.00,-999.0000,9, -999.00,9, -999.00,9,  -999.0,9,  -999.0, -999.00,9, -999.00,9,    0.76,2,   -0.05,3,  28.9638, -999.00
096U20160426,       P15S,     138,          1,         34,       2034,2,20160623,       1924,    -0.9991,  -168.7493,       5802,    51.4,  28.8250,  35.4070,2,  35.4354,2,    179.5,2,   184.1,2,    0.52,2,    2.21,2,    0.59,2,    0.41,2,   1.470,6,   0.941,6,   1.187,6,  2019.6,2,  2330.4,2,-999.0000,9,  -999.00,-999.0000,9, -999.00,9, -999.00,9,  -999.0,9,  -999.0, -999.00,9, -999.00,9,    0.91,2,    0.13,3,  28.8126, -999.00
096U20160426,       P15S,     138,          1,         33,       2033,2,20160623,       1924,    -0.9991,  -168.7493,       5802,    89.5,  24.0970,  35.6800,2,  35.6732,2,    134.4,2,   138.4,2,    2.15,2,    9.24,2,    0.24,2,    0.82,2,   1.685,2,   1.079,2,   1.114,2,  2097.1,2,  2343.8,2,-999.0000,9,  -999.00,-999.0000,9, -999.00,9, -999.00,9,  -999.0,9,  -999.0, -999.00,9, -999.00,9,    0.48,2,    0.18,3,  24.0781, -999.00
096U20160426,       P15S,     138,          1,         32,       2032,2,20160623,       1924,    -0.9991,  -168.7493,       5802,   108.7,  22.7930,  35.5520,2,  35.5322,2,    121.8,2,   126.4,2,    2.83,2,   10.40,2,    0.04,2,    0.84,2,   1.788,2,   1.124,2,   1.132,2,  2107.0,2,  2330.9,2,-999.0000,9,  -999.00,-999.0000,9, -999.00,9, -999.00,9,  -999.0,9,  -999.0, -999.00,9, -999.00,9,    0.29,2,    0.18,3,  22.7709, -999.00
096U20160426,       P15S,     138,          1,         31,       2031,2,20160623,       1924,    -0.9991,  -168.7493,       5802,   150.0,  18.8820,  35.4530,2,  35.3317,2,    120.6,2,   129.9,2,    6.11,2,   14.10,2,    0.02,4,    1.10,2,   1.889,2,   1.137,2,   0.832,2,  2142.7,2,  2324.2,2,-999.0000,9,  -999.00,-999.0000,9, -999.00,9, -999.00,9,  -999.0,9,  -999.0, -999.00,9, -999.00,9, -999.00,9, -999.00,9,  18.8553, -999.00
096U20160426,       P15S,     138,          1,         30,       2030,2,20160623,       1924,    -0.9991,  -168.7493,       5802,   199.8,  14.0210,  35.0620,2,  35.0198,2,    128.1,2,   130.0,2,   11.42,2,   18.56,2,    0.01,4,    1.37,2,   1.773,2,   1.016,2,   0.655,2,  2164.6,2,  2309.5,2,-999.0000,9,  -999.00,-999.0000,9, -999.00,9, -999.00,9,  -999.0,9,  -999.0, -999.00,9, -999.00,9, -999.00,9, -999.00,9,  13.9921, -999.00
096U20160426,       P15S,     138,          1,         29,       2029,2,20160623,       1924,    -0.9991,  -168.7493,       5802,   250.5,  12.2960,  34.8800,2,  34.8589,2,     97.1,2,    87.3,2,   20.03,2,   25.30,2,    0.01,4,    1.79,2,   1.348,2,   0.761,2,   0.403,2,  2199.0,2,  2303.1,2,-999.0000,9,  -999.00,-999.0000,9, -999.00,9, -999.00,9,  -999.0,9,  -999.0, -999.00,9, -999.00,9, -999.00,9, -999.00,9,  12.2628, -999.00
096U20160426,       P15S,     138,          1,         28,       2028,2,20160623,       1924,    -0.9991,  -168.7493,       5802,   300.1,  11.5780,  34.8310,2,  34.8237,2,     90.8,2,    87.6,2,   21.01,2,   26.25,2,    0.00,4,    1.85,2,   1.264,2,   0.704,2,   0.364,2,  2203.7,6,  2302.3,6,-999.0000,9,  -999.00,-999.0000,9, -999.00,9, -999.00,9,  -999.0,9,  -999.0, -999.00,9, -999.00,9, -999.00,9, -999.00,9,  11.5397, -999.00
096U20160426,       P15S,     138,          1,         27,       2027,2,20160623,       1924,    -0.9991,  -168.7493,       5802,   351.7,  11.0150,  34.8010,2,  34.7878,2,     64.9,2,    71.7,2,   23.69,2,   28.90,2,    0.00,4,    2.05,2,   1.012,2,   0.559,2,   0.296,2,  2222.8,2,  2301.2,2,-999.0000,9,  -999.00,-999.0000,9, -999.00,9, -999.00,9,  -999.0,9,  -999.0, -999.00,9, -999.00,9, -999.00,9, -999.00,9,  10.9714, -999.00
096U20160426,       P15S,     138,          1,         26,       2026,2,20160623,       1924,    -0.9991,  -168.7493,       5802,   402.2,   9.9480,  34.7320,2,  34.7302,2,     83.0,2,    73.7,2,   26.01,2,   30.58,2,    0.00,4,    2.15,2,   0.810,2,   0.444,2,     0.2,2,  2227.2,2,  2301.3,6,-999.0000,9,  -999.00,-999.0000,9, -999.00,9, -999.00,9,  -999.0,9,  -999.0, -999.00,9, -999.00,9, -999.00,9, -999.00,9,   9.9011, -999.00
096U20160426,       P15S,     138,          1,         25,       2025,2,20160623,       1924,    -0.9991,  -168.7493,       5802,   501.1,   7.9420,  34.6130,2,  34.6088,2,     72.6,2,    73.1,2,   37.41,2,   34.98,2,    0.00,4,    2.43,2,   0.384,2,   0.208,2,   0.067,2,  2247.6,2,  2306.2,2,-999.0000,9,  -999.00,-999.0000,9, -999.00,9, -999.00,9,  -999.0,9,  -999.0, -999.00,9, -999.00,9, -999.00,9, -999.00,9,   7.8908, -999.00
096U20160426,       P15S,     138,          1,         24,       2024,2,20160623,       1924,    -0.9991,  -168.7493,       5802,   600.6,   6.9280,  34.5690,2,  34.5690,2,     80.1,2,    71.6,2,   46.66,2,   37.07,2,    0.00,4,    2.59,2,   0.194,2,   0.108,2,       0,2,  2259.6,2,  2313.0,2,-999.0000,9,  -999.00,-999.0000,9, -999.00,9, -999.00,9,  -999.0,9,  -999.0, -999.00,9, -999.00,9, -999.00,9, -999.00,9,   6.8708, -999.00
096U20160426,       P15S,     138,          1,         23,       2023,2,20160623,       1924,    -0.9991,  -168.7493,       5802,   700.0,   6.1300,  34.5510,2,  34.5483,2,     77.4,2,    76.1,2,   56.51,2,   38.01,2,    0.00,4,    2.67,2,   0.100,2,   0.056,2,   0.038,2,  2272.6,2,  2322.9,2,-999.0000,9,  -999.00,-999.0000,9, -999.00,9, -999.00,9,  -999.0,9,  -999.0, -999.00,9, -999.00,9, -999.00,9, -999.00,9,   6.0671, -999.00
096U20160426,       P15S,     138,          1,         22,       2022,2,20160623,       1924,    -0.9991,  -168.7493,       5802,   800.3,   5.4950,  34.5390,2,  34.5383,2,     94.3,2,    93.5,2,   63.96,2,   37.17,2,    0.00,4,    2.62,2,   0.100,6,   0.056,6,       0,6,  2270.9,2,  2332.7,2,-999.0000,9,  -999.00,-999.0000,9, -999.00,9, -999.00,9,  -999.0,9,  -999.0, -999.00,9, -999.00,9, -999.00,9, -999.00,9,   5.4264, -999.00
096U20160426,       P15S,     138,          1,         21,       2021,2,20160623,       1924,    -0.9991,  -168.7493,       5802,   900.5,   4.8500,  34.5450,2,  34.5446,2,     95.5,2,    92.1,2,   75.64,2,   37.88,2,    0.00,4,    2.69,2,-999.000,9,-999.000,9,-999.000,9,  -999.0,9,  -999.0,9,-999.0000,9,  -999.00,-999.0000,9, -999.00,9, -999.00,9,  -999.0,9,  -999.0, -999.00,9, -999.00,9, -999.00,9, -999.00,9,   4.7766, -999.00
096U20160426,       P15S,     138,          1,         20,       2020,2,20160623,       1924,    -0.9991,  -168.7493,       5802,  1000.5,   4.4860,  34.5560,2,  34.5553,2,     88.5,2,    85.6,2,   84.77,2,   38.88,2,    0.00,4,    2.77,2,   0.017,2,   0.012,2,       0,2,  2299.2,2,  2355.3,6,-999.0000,9,  -999.00,-999.0000,9, -999.00,9, -999.00,9,  -999.0,9,  -999.0, -999.00,9, -999.00,9, -999.00,9, -999.00,9,   4.4065, -999.00
096U20160426,       P15S,     138,          1,         19,       2019,2,20160623,       1924,    -0.9991,  -168.7493,       5802,  1101.1,   4.1490,  34.5640,2,  34.5636,2,     89.6,2,    87.7,2,   92.22,2,   39.00,2,    0.00,4,    2.77,2,   0.012,2,   0.007,2,   0.023,3,  2306.8,2,  2363.4,2,-999.0000,9,  -999.00,-999.0000,9, -999.00,9, -999.00,9,  -999.0,9,  -999.0, -999.00,9, -999.00,9, -999.00,9, -999.00,9,   4.0635, -999.00
096U20160426,       P15S,     138,          1,         18,       2018,2,20160623,       1924,    -0.9991,  -168.7493,       5802,  1199.9,   3.7290,  34.5770,2,  34.5762,2,     92.8,2,    89.3,2,  101.75,2,   39.19,2,    0.00,4,    2.79,2,-999.000,9,-999.000,9,-999.000,9,  -999.0,9,  -999.0,9,-999.0000,9,  -999.00,-999.0000,9, -999.00,9, -999.00,9,  -999.0,9,  -999.0, -999.00,9, -999.00,9, -999.00,9, -999.00,9,   3.6388, -999.00
096U20160426,       P15S,     138,          1,         17,       2017,2,20160623,       1924,    -0.9991,  -168.7493,       5802,  1350.0,   3.3770,  34.5900,2,  34.5894,2,     93.1,2,    90.3,2,  110.82,2,   39.38,2,    0.00,4,    2.80,2,   0.001,2,   0.002,2,       0,2,  2328.7,2,  2383.4,2,-999.0000,9,  -999.00,-999.0000,9, -999.00,9, -999.00,9,  -999.0,9,  -999.0, -999.00,9, -999.00,9, -999.00,9, -999.00,9,   3.2775, -999.00
096U20160426,       P15S,     138,          1,         16,       2016,2,20160623,       1924,    -0.9991,  -168.7493,       5802,  1501.6,   3.0090,  34.6030,2,  34.6028,2,     99.7,2,    97.8,2,  118.34,2,   38.94,2,    0.00,4,    2.76,2,-999.000,9,-999.000,9,-999.000,9,  -999.0,9,  -999.0,9,-999.0000,9,  -999.00,-999.0000,9, -999.00,9, -999.00,9,  -999.0,9,  -999.0, -999.00,9, -999.00,9, -999.00,9, -999.00,9,   2.9008, -999.00
096U20160426,       P15S,     138,          1,         15,       2015,2,20160623,       1924,    -0.9991,  -168.7493,       5802,  1700.6,   2.6530,  34.6190,2,  34.6181,2,    105.5,3,   104.0,2,  126.74,2,   38.70,2,    0.00,4,    2.73,2,   0.000,2,   0.000,2,       0,2,  2334.2,2,  2400.6,2,-999.0000,9,  -999.00,-999.0000,9, -999.00,9, -999.00,9,  -999.0,9,  -999.0, -999.00,9, -999.00,9, -999.00,9, -999.00,9,   2.5325, -999.00
096U20160426,       P15S,     138,          1,         14,       2014,2,20160623,       1924,    -0.9991,  -168.7493,       5802,  1901.4,   2.3940,  34.6340,2,-999.0000,9,    107.5,2,  -999.0,9, -999.00,9, -999.00,9, -999.00,9, -999.00,9,-999.000,9,-999.000,9,-999.000,9,  -999.0,9,  -999.0,9,-999.0000,9,  -999.00,-999.0000,9, -999.00,9, -999.00,9,  -999.0,9,  -999.0, -999.00,9, -999.00,9, -999.00,9, -999.00,9,   2.2600, -999.00
096U20160426,       P15S,     138,          1,         13,       2013,2,20160623,       1924,    -0.9991,  -168.7493,       5802,  2150.3,   2.1750,  34.6450,2,  34.6448,2,    115.3,2,   114.1,2,  137.91,2,   38.11,2,    0.00,4,    2.68,2,  -0.001,2,   0.000,2,       0,2,  2344.1,2,  2413.3,2,-999.0000,9,  -999.00,-999.0000,9, -999.00,9, -999.00,9,  -999.0,9,  -999.0, -999.00,9, -999.00,9, -999.00,9, -999.00,9,   2.0229, -999.00
096U20160426,       P15S,     138,          1,         12,       2012,2,20160623,       1924,    -0.9991,  -168.7493,       5802,  2450.7,   1.8850,  34.6600,2,  34.6585,2,    125.9,2,   125.4,2,  141.51,2,   37.34,2,    0.00,4,    2.61,2,-999.000,9,-999.000,9,-999.000,9,  -999.0,9,  -999.0,9,-999.0000,9,  -999.00,-999.0000,9, -999.00,9, -999.00,9,  -999.0,9,  -999.0, -999.00,9, -999.00,9, -999.00,9, -999.00,9,   1.7112, -999.00
096U20160426,       P15S,     138,          1,         11,       2011,2,20160623,       1924,    -0.9991,  -168.7493,       5802,  2750.5,   1.7760,  34.6670,2,  34.6668,2,    129.5,2,   129.2,2,  144.76,2,   37.12,2,    0.00,4,    2.59,2,   0.002,2,   0.001,2,       0,2,  2340.4,6,  2420.5,6,-999.0000,9,  -999.00,-999.0000,9, -999.00,9, -999.00,9,  -999.0,9,  -999.0, -999.00,9, -999.00,9, -999.00,9, -999.00,9,   1.5769, -999.00
096U20160426,       P15S,     138,          1,         10,       2010,2,20160623,       1924,    -0.9991,  -168.7493,       5802,  3051.0,   1.6360,  34.6740,2,  34.6733,2,    139.2,2,   140.6,2,  143.16,2,   36.36,2,    0.00,4,    2.52,2,   0.001,2,   0.000,2,       0,2,  2333.1,2,  2420.2,2,-999.0000,9,  -999.00,-999.0000,9, -999.00,9, -999.00,9,  -999.0,9,  -999.0, -999.00,9, -999.00,9, -999.00,9, -999.00,9,   1.4113, -999.00
096U20160426,       P15S,     138,          1,          9,       2009,2,20160623,       1924,    -0.9991,  -168.7493,       5802,  3400.8,   1.5430,  34.6810,2,  34.6801,2,    147.3,2,   148.9,2,  141.89,2,   35.78,2,    0.00,4,    2.48,2,-999.000,9,-999.000,9,-999.000,9,  -999.0,9,  -999.0,9,-999.0000,9,  -999.00,-999.0000,9, -999.00,9, -999.00,9,  -999.0,9,  -999.0, -999.00,9, -999.00,9, -999.00,9, -999.00,9,   1.2858, -999.00
096U20160426,       P15S,     138,          1,          8,       2008,2,20160623,       1924,    -0.9991,  -168.7493,       5802,  3750.9,   1.4820,  34.6870,2,  34.6870,2,    155.6,2,   157.0,2,  139.82,2,   35.25,2,    0.00,4,    2.43,2,   0.000,2,   0.000,2,       0,2,  2322.5,2,  2416.7,2,-999.0000,9,  -999.00,-999.0000,9, -999.00,9, -999.00,9,  -999.0,9,  -999.0, -999.00,9, -999.00,9, -999.00,9, -999.00,9,   1.1902, -999.00
096U20160426,       P15S,     138,          1,          7,       2007,2,20160623,       1924,    -0.9991,  -168.7493,       5802,  4150.8,   1.3760,  34.6950,2,  34.6947,2,    167.8,2,   170.3,2,  136.02,2,   34.39,2,    0.00,4,    2.36,2,   0.002,2,   0.002,2,       0,2,  2309.6,2,  2411.6,2,-999.0000,9,  -999.00,-999.0000,9, -999.00,9, -999.00,9,  -999.0,9,  -999.0, -999.00,9, -999.00,9, -999.00,9, -999.00,9,   1.0440, -999.00
096U20160426,       P15S,     138,          1,          6,       2006,2,20160623,       1924,    -0.9991,  -168.7493,       5802,  4549.5,   1.2770,  34.7010,2,  34.7011,2,    181.8,2,   184.7,2,  128.50,2,   33.32,2,    0.00,4,    2.28,2,   0.008,2,   0.006,2,       0,2,  2292.5,2,  2395.1,2,-999.0000,9,  -999.00,-999.0000,9, -999.00,9, -999.00,9,  -999.0,9,  -999.0, -999.00,9, -999.00,9, -999.00,9, -999.00,9,   0.9031, -999.00
096U20160426,       P15S,     138,          1,          5,       2005,2,20160623,       1924,    -0.9991,  -168.7493,       5802,  4948.7,   1.2600,  34.7040,2,  34.7038,2,    188.9,2,   191.2,2,  125.30,2,   32.84,2,    0.00,4,    2.25,2,   0.018,2,   0.011,2,       0,2,  2281.5,2,  2387.5,2,-999.0000,9,  -999.00,-999.0000,9, -999.00,9, -999.00,9,  -999.0,9,  -999.0, -999.00,9, -999.00,9, -999.00,9, -999.00,9,   0.8398, -999.00
096U20160426,       P15S,     138,          1,          4,       2004,2,20160623,       1924,    -0.9991,  -168.7493,       5802,  5350.7,   1.2980,  34.7040,2,  34.7051,2,    191.6,2,   192.8,2,  124.81,2,   32.75,2,    0.00,4,    2.25,2,   0.020,2,   0.013,2,       0,2,  2281.6,2,  2385.7,2,-999.0000,9,  -999.00,-999.0000,9, -999.00,9, -999.00,9,  -999.0,9,  -999.0, -999.00,9, -999.00,9, -999.00,9, -999.00,9,   0.8274, -999.00
096U20160426,       P15S,     138,          1,          3,       2003,2,20160623,       1924,    -0.9991,  -168.7493,       5802,  5600.6,   1.3280,  34.7040,2,  34.7042,2,    192.9,2,   192.7,2,  124.62,2,   32.72,2,    0.00,4,    2.25,2,   0.022,2,   0.014,2,       0,2,  2281.6,6,  2386.5,6,-999.0000,9,  -999.00,-999.0000,9, -999.00,9, -999.00,9,  -999.0,9,  -999.0, -999.00,9, -999.00,9, -999.00,9, -999.00,9,   0.8247, -999.00
096U20160426,       P15S,     138,          1,          2,       2002,2,20160623,       1924,    -0.9991,  -168.7493,       5802,  5761.5,   1.3490,  34.7040,2,  34.7043,2,    193.4,2,   192.8,2,  124.37,2,   32.70,2,    0.00,4,    2.25,2,-999.000,9,-999.000,9,-999.000,9,  -999.0,9,  -999.0,9,-999.0000,9,  -999.00,-999.0000,9, -999.00,9, -999.00,9,  -999.0,9,  -999.0, -999.00,9, -999.00,9, -999.00,9, -999.00,9,   0.8241, -999.00
096U20160426,       P15S,     138,          1,          1,       2001,2,20160623,       1924,    -0.9991,  -168.7493,       5802,  5889.9,   1.3660,  34.7040,2,  34.7042,2,    193.8,2,   193.2,2,  124.52,2,   32.70,2,    0.00,4,    2.24,2,   0.021,2,   0.015,2,   0.043,3,  2279.7,2,  2383.4,2,-999.0000,9,  -999.00,-999.0000,9, -999.00,9, -999.00,9,  -999.0,9,  -999.0, -999.00,9, -999.00,9, -999.00,9, -999.00,9,   0.8237, -999.00