BOTTLE,20230413CCHSIOENA
EXPOCODE,SECT_ID,STNNBR,CASTNO,SAMPNO,BTLNBR,BTLNBR_FLAG_W,DATE,TIME,LATITUDE,LONGITUDE,DEPTH,CTDPRS,CTDTMP,CTDSAL,CTDSAL_FLAG_W,SALNTY,SALNTY_FLAG_W,CTDOXY,CTDOXY_FLAG_W,OXYGEN,OXYGEN_FLAG_W,SILCAT,SILCAT_FLAG_W,NITRAT,NITRAT_FLAG_W,NITRIT,NITRIT_FLAG_W,PHSPHT,PHSPHT_FLAG_W,CFC-11,CFC-11_FLAG_W,CFC-12,CFC-12_FLAG_W,SF6,SF6_FLAG_W,TCARBN,TCARBN_FLAG_W,ALKALI,ALKALI_FLAG_W,PH_TOT,PH_TOT_FLAG_W,PH_TMP,HELIUM,HELIUM_FLAG_W,DELHE3,DELHE3_FLAG_W,DELC13,DELC13_FLAG_W,DELC14,DELC14_FLAG_W,C14ERR,POC,POC_FLAG_W,PON,PON_FLAG_W,CHLORA,CHLORA_FLAG_W,PPHYTN,PPHYTN_FLAG_W,THETA,DELHER
,,,,,,,,,,,METERS,DBAR,ITS-90,PSS-78,,PSS-78,,UMOL/KG,,UMOL/KG,,UMOL/KG,,UMOL/KG,,UMOL/KG,,UMOL/KG,,PMOL/KG,,PMOL/KG,,FMOL/KG,,UMOL/KG,,UMOL/KG,,,,DEG C,NMOL/KG,,PERCNT,,/MILLE,,/MILLE,,/MILLE,UG/KG,,UG/KG,,UG/KG,,UG/KG,,DEG C,PERCNT
096U20160426,       P15S,      75,          1,         36,       2036,2,20160604,       1652,   -32.0013,  -169.9936,       5698,     3.8,  20.8940,  35.8570,2,  35.8570,2,    221.2,2,   221.8,2,   -0.10,4,    0.01,4,    0.00,4,    0.03,2,-999.000,9,-999.000,9,-999.000,9,  -999.0,9,  -999.0,9,-999.0000,9,  -999.00,-999.0000,9, -999.00,9, -999.00,9,  -999.0,9,  -999.0, -999.00,9, -999.00,9,    0.24,2,    0.07,3,  20.8933, -999.00
096U20160426,       P15S,      75,          1,         35,       2035,2,20160604,       1652,   -32.0013,  -169.9936,       5698,    20.1,  20.8860,  35.8570,2,  35.8576,2,    221.0,2,   221.5,2,   -0.08,4,    0.01,4,    0.00,4,    0.03,2,-999.000,9,-999.000,9,-999.000,9,  2045.0,6,  2350.1,2,-999.0000,9,  -999.00,-999.0000,9, -999.00,9, -999.00,9,  -999.0,9,  -999.0, -999.00,9, -999.00,9,    0.27,2,    0.05,3,  20.8822, -999.00
096U20160426,       P15S,      75,          1,         34,       2034,2,20160604,       1652,   -32.0013,  -169.9936,       5698,    42.2,  20.8900,  35.8570,2,  35.8572,2,    221.1,2,   221.6,2,   -0.08,4,    0.01,4,    0.00,4,    0.03,2,-999.000,9,-999.000,9,-999.000,9,  -999.0,9,  -999.0,9,-999.0000,9,  -999.00,-999.0000,9, -999.00,9, -999.00,9,  -999.0,9,  -999.0, -999.00,9, -999.00,9,    0.21,2,    0.10,3,  20.8819, -999.00
096U20160426,       P15S,      75,          1,         33,       2033,2,20160604,       1652,   -32.0013,  -169.9936,       5698,    66.6,  20.8810,  35.8610,2,  35.8543,2,    220.9,2,   221.8,2,   -0.06,4,    0.01,4,    0.00,4,    0.03,2,-999.000,9,-999.000,9,-999.000,9,  -999.0,9,  -999.0,9,-999.0000,9,  -999.00,-999.0000,9, -999.00,9, -999.00,9,  -999.0,9,  -999.0, -999.00,9, -999.00,9,    0.26,2,    0.06,3,  20.8683, -999.00
096U20160426,       P15S,      75,          1,         32,       2032,2,20160604,       1652,   -32.0013,  -169.9936,       5698,    91.4,  18.8280,  35.6260,2,  35.6142,2,    233.7,2,   234.8,2,    0.18,4,    0.09,2,    0.03,2,    0.11,2,-999.000,9,-999.000,9,-999.000,9,  -999.0,9,  -999.0,9,-999.0000,9,  -999.00,-999.0000,9, -999.00,9, -999.00,9,  -999.0,9,  -999.0, -999.00,9, -999.00,9,    0.47,2,    0.28,3,  18.8118, -999.00
096U20160426,       P15S,      75,          1,         31,       2031,2,20160604,       1652,   -32.0013,  -169.9936,       5698,   136.1,  16.3880,  35.5100,2,  35.5067,2,    213.0,2,   212.1,2,    0.68,2,    3.63,2,    0.02,2,    0.34,2,-999.000,9,-999.000,9,-999.000,9,  -999.0,9,  -999.0,9,-999.0000,9,  -999.00,-999.0000,9, -999.00,9, -999.00,9,  -999.0,9,  -999.0, -999.00,9, -999.00,9, -999.00,9, -999.00,9,  16.3661, -999.00
096U20160426,       P15S,      75,          1,         30,       2030,2,20160604,       1652,   -32.0013,  -169.9936,       5698,   186.4,  15.4500,  35.4130,2,  35.4021,2,    207.8,2,   208.7,2,    1.17,2,    5.80,2,    0.01,4,    0.46,2,-999.000,9,-999.000,9,-999.000,9,  -999.0,9,  -999.0,9,-999.0000,9,  -999.00,-999.0000,9, -999.00,9, -999.00,9,  -999.0,9,  -999.0, -999.00,9, -999.00,9, -999.00,9, -999.00,9,  15.4211, -999.00
096U20160426,       P15S,      75,          1,         29,       2029,2,20160604,       1652,   -32.0013,  -169.9936,       5698,   235.9,  14.6220,  35.3170,2,  35.3048,2,    208.6,2,   208.8,2,    1.58,2,    7.04,2,    0.01,4,    0.55,2,-999.000,9,-999.000,9,-999.000,9,  -999.0,9,  -999.0,9,-999.0000,9,  -999.00,-999.0000,9, -999.00,9, -999.00,9,  -999.0,9,  -999.0, -999.00,9, -999.00,9, -999.00,9, -999.00,9,  14.5868, -999.00
096U20160426,       P15S,      75,          1,         28,       2028,2,20160604,       1652,   -32.0013,  -169.9936,       5698,   285.5,  13.4220,  35.1420,2,  35.1323,2,    203.5,2,   203.8,2,    2.24,2,    9.68,2,    0.01,4,    0.71,2,-999.000,9,-999.000,9,-999.000,9,  -999.0,9,  -999.0,9,-999.0000,9,  -999.00,-999.0000,9, -999.00,9, -999.00,9,  -999.0,9,  -999.0, -999.00,9, -999.00,9, -999.00,9, -999.00,9,  13.3817, -999.00
096U20160426,       P15S,      75,          1,         27,       2027,2,20160604,       1652,   -32.0013,  -169.9936,       5698,   334.9,  12.0620,  34.9650,2,  34.9543,2,    202.7,2,   202.7,2,    3.06,2,   12.65,2,    0.01,4,    0.89,2,-999.000,9,-999.000,9,-999.000,9,  -999.0,9,  -999.0,9,-999.0000,9,  -999.00,-999.0000,9, -999.00,9, -999.00,9,  -999.0,9,  -999.0, -999.00,9, -999.00,9, -999.00,9, -999.00,9,  12.0179, -999.00
096U20160426,       P15S,      75,          1,         26,       2026,2,20160604,       1652,   -32.0013,  -169.9936,       5698,   375.4,  11.2050,  34.8510,2,  34.8513,2,    202.3,2,   202.8,2,    3.62,2,   14.60,2,    0.00,4,    1.01,2,-999.000,9,-999.000,9,-999.000,9,  -999.0,9,  -999.0,9,-999.0000,9,  -999.00,-999.0000,9, -999.00,9, -999.00,9,  -999.0,9,  -999.0, -999.00,9, -999.00,9, -999.00,9, -999.00,9,  11.1579, -999.00
096U20160426,       P15S,      75,          1,         25,       2025,2,20160604,       1652,   -32.0013,  -169.9936,       5698,   464.3,   9.2540,  34.6080,2,  34.6149,2,    216.4,2,   217.5,2,    4.04,2,   17.47,2,    0.00,4,    1.19,2,-999.000,9,-999.000,9,-999.000,9,  -999.0,9,  -999.0,9,-999.0000,9,  -999.00,-999.0000,9, -999.00,9, -999.00,9,  -999.0,9,  -999.0, -999.00,9, -999.00,9, -999.00,9, -999.00,9,   9.2022, -999.00
096U20160426,       P15S,      75,          1,         24,       2024,2,20160604,       1652,   -32.0013,  -169.9936,       5698,   564.3,   7.9310,  34.4690,2,  34.4700,2,    226.4,2,   227.4,2,    5.46,2,   20.47,2,    0.00,4,    1.37,2,-999.000,9,-999.000,9,-999.000,9,  -999.0,9,  -999.0,9,-999.0000,9,  -999.00,-999.0000,9, -999.00,9, -999.00,9,  -999.0,9,  -999.0, -999.00,9, -999.00,9, -999.00,9, -999.00,9,   7.8733, -999.00
096U20160426,       P15S,      75,          1,         23,       2023,2,20160604,       1652,   -32.0013,  -169.9936,       5698,   664.4,   7.1620,  34.4050,2,  34.4027,2,    229.3,2,   232.2,2,    7.16,2,   22.46,2,    0.00,4,    1.50,2,   3.269,2,   1.684,2,   0.841,2,  2147.4,2,  2280.0,2,-999.0000,9,  -999.00,-999.0000,9, -999.00,9, -999.00,9,  -999.0,9,  -999.0, -999.00,9, -999.00,9, -999.00,9, -999.00,9,   7.0975, -999.00
096U20160426,       P15S,      75,          1,         22,       2022,2,20160604,       1652,   -32.0013,  -169.9936,       5698,   748.4,   6.6150,  34.3680,2,  34.3676,2,    227.1,2,   228.7,2,    9.50,2,   24.05,2,    0.00,4,    1.61,2,-999.000,9,-999.000,9,-999.000,9,  -999.0,9,  -999.0,9,-999.0000,9,  -999.00,-999.0000,9, -999.00,9, -999.00,9,  -999.0,9,  -999.0, -999.00,9, -999.00,9, -999.00,9, -999.00,9,   6.5450, -999.00
096U20160426,       P15S,      75,          1,         21,       2021,2,20160604,       1652,   -32.0013,  -169.9936,       5698,   863.4,   5.9550,  34.3360,2,  34.3348,2,    221.8,2,   223.0,2,   13.40,2,   26.12,2,    0.00,4,    1.75,2,-999.000,9,-999.000,9,-999.000,9,  -999.0,9,  -999.0,9,-999.0000,9,  -999.00,-999.0000,9, -999.00,9, -999.00,9,  -999.0,9,  -999.0, -999.00,9, -999.00,9, -999.00,9, -999.00,9,   5.8779, -999.00
096U20160426,       P15S,      75,          1,         20,       2020,2,20160604,       1652,   -32.0013,  -169.9936,       5698,   964.5,   5.3600,  34.3220,2,  34.3230,2,    211.4,2,   213.7,2,   18.71,2,   28.09,2,    0.00,4,    1.88,2,-999.000,9,-999.000,9,-999.000,9,  -999.0,9,  -999.0,9,-999.0000,9,  -999.00,-999.0000,9, -999.00,9, -999.00,9,  -999.0,9,  -999.0, -999.00,9, -999.00,9, -999.00,9, -999.00,9,   5.2775, -999.00
096U20160426,       P15S,      75,          1,         19,       2019,2,20160604,       1652,   -32.0013,  -169.9936,       5698,  1064.4,   4.8130,  34.3300,2,  34.3308,2,    200.7,2,   202.3,2,   26.66,2,   30.08,2,    0.00,4,    2.02,2,-999.000,9,-999.000,9,-999.000,9,  -999.0,9,  -999.0,9,-999.0000,9,  -999.00,-999.0000,9, -999.00,9, -999.00,9,  -999.0,9,  -999.0, -999.00,9, -999.00,9, -999.00,9, -999.00,9,   4.7256, -999.00
096U20160426,       P15S,      75,          1,         18,       2018,2,20160604,       1652,   -32.0013,  -169.9936,       5698,  1159.6,   4.2120,  34.3500,2,  34.3506,2,    191.9,2,   193.5,2,   35.73,2,   31.75,2,    0.00,4,    2.13,2,-999.000,9,-999.000,9,-999.000,9,  -999.0,9,  -999.0,9,-999.0000,9,  -999.00,-999.0000,9, -999.00,9, -999.00,9,  -999.0,9,  -999.0, -999.00,9, -999.00,9, -999.00,9, -999.00,9,   4.1213, -999.00
096U20160426,       P15S,      75,          1,         17,       2017,2,20160604,       1652,   -32.0013,  -169.9936,       5698,  1299.2,   3.4670,  34.4170,2,  34.4188,2,    178.0,2,   179.1,2,   52.63,2,   33.55,2,    0.00,4,    2.27,2,-999.000,9,-999.000,9,-999.000,9,  -999.0,9,  -999.0,9,-999.0000,9,  -999.00,-999.0000,9, -999.00,9, -999.00,9,  -999.0,9,  -999.0, -999.00,9, -999.00,9, -999.00,9, -999.00,9,   3.3713, -999.00
096U20160426,       P15S,      75,          1,         16,       2016,2,20160604,       1652,   -32.0013,  -169.9936,       5698,  1439.5,   3.0630,  34.4830,2,  34.4844,2,    168.4,2,   169.4,2,   66.49,2,   34.28,2,    0.00,4,    2.33,2,-999.000,9,-999.000,9,-999.000,9,  -999.0,9,  -999.0,9,-999.0000,9,  -999.00,-999.0000,9, -999.00,9, -999.00,9,  -999.0,9,  -999.0, -999.00,9, -999.00,9, -999.00,9, -999.00,9,   2.9597, -999.00
096U20160426,       P15S,      75,          1,         15,       2015,2,20160604,       1652,   -32.0013,  -169.9936,       5698,  1634.8,   2.6980,  34.5580,2,  34.5574,2,    158.5,2,   159.5,2,   84.31,2,   34.77,2,    0.00,4,    2.38,2,-999.000,9,-999.000,9,-999.000,9,  -999.0,9,  -999.0,9,-999.0000,9,  -999.00,-999.0000,9, -999.00,9, -999.00,9,  -999.0,9,  -999.0, -999.00,9, -999.00,9, -999.00,9, -999.00,9,   2.5826, -999.00
096U20160426,       P15S,      75,          1,         14,       2014,2,20160604,       1652,   -32.0013,  -169.9936,       5698,  1824.5,   2.4600,  34.6010,2,  34.6022,2,    152.4,2,   153.4,2,   98.74,2,   35.11,2,    0.00,4,    2.41,2,-999.000,9,-999.000,9,-999.000,9,  -999.0,9,  -999.0,9,-999.0000,9,  -999.00,-999.0000,9, -999.00,9, -999.00,9,  -999.0,9,  -999.0, -999.00,9, -999.00,9, -999.00,9, -999.00,9,   2.3317, -999.00
096U20160426,       P15S,      75,          1,         13,       2013,2,20160604,       1652,   -32.0013,  -169.9936,       5698,  2064.8,   2.2630,  34.6270,2,  34.6265,2,    148.4,2,   149.2,2,  109.62,2,   35.53,2,    0.00,4,    2.45,2,-999.000,9,-999.000,9,-999.000,9,  -999.0,9,  -999.0,9,-999.0000,9,  -999.00,-999.0000,9, -999.00,9, -999.00,9,  -999.0,9,  -999.0, -999.00,9, -999.00,9, -999.00,9, -999.00,9,   2.1170, -999.00
096U20160426,       P15S,      75,          1,         12,       2012,2,20160604,       1652,   -32.0013,  -169.9936,       5698,  2316.0,   2.1150,  34.6410,2,  34.6410,2,    146.4,2,   147.3,2,  116.79,2,   35.82,2,    0.00,4,    2.47,2,-999.000,9,-999.000,9,-999.000,9,  -999.0,9,  -999.0,9,-999.0000,9,  -999.00,-999.0000,9, -999.00,9, -999.00,9,  -999.0,9,  -999.0, -999.00,9, -999.00,9, -999.00,9, -999.00,9,   1.9493, -999.00
096U20160426,       P15S,      75,          1,         11,       2011,2,20160604,       1652,   -32.0013,  -169.9936,       5698,  2564.4,   1.9940,  34.6520,2,  34.6522,2,    146.3,2,   146.9,2,  121.92,2,   35.88,2,    0.00,4,    2.47,2,-999.000,9,-999.000,9,-999.000,9,  2311.4,6,  2399.6,6,-999.0000,9,  -999.00,-999.0000,9, -999.00,9, -999.00,9,  -999.0,9,  -999.0, -999.00,9, -999.00,9, -999.00,9, -999.00,9,   1.8079, -999.00
096U20160426,       P15S,      75,          1,         10,       2010,2,20160604,       1652,   -32.0013,  -169.9936,       5698,  2815.0,   1.8970,  34.6620,2,  34.6617,2,    147.7,2,   148.1,2,  124.83,2,   35.84,2,    0.00,4,    2.46,2,-999.000,9,-999.000,9,-999.000,9,  -999.0,9,  -999.0,9,-999.0000,9,  -999.00,-999.0000,9, -999.00,9, -999.00,9,  -999.0,9,  -999.0, -999.00,9, -999.00,9, -999.00,9, -999.00,9,   1.6893, -999.00
096U20160426,       P15S,      75,          1,          9,       2009,2,20160604,       1652,   -32.0013,  -169.9936,       5698,  3081.6,   1.7900,  34.6730,2,  34.6733,2,    152.4,2,   153.6,2,  125.57,2,   35.45,2,    0.00,4,    2.44,2,-999.000,9,-999.000,9,-999.000,9,  -999.0,9,  -999.0,9,-999.0000,9,  -999.00,-999.0000,9, -999.00,9, -999.00,9,  -999.0,9,  -999.0, -999.00,9, -999.00,9, -999.00,9, -999.00,9,   1.5588, -999.00
096U20160426,       P15S,      75,          1,          8,       2008,2,20160604,       1652,   -32.0013,  -169.9936,       5698,  3366.9,   1.6930,  34.6880,2,  34.6883,2,    163.1,2,   164.6,2,  120.99,2,   34.46,2,    0.00,4,    2.36,2,-999.000,9,-999.000,9,-999.000,9,  -999.0,9,  -999.0,9,-999.0000,9,  -999.00,-999.0000,9, -999.00,9, -999.00,9,  -999.0,9,  -999.0, -999.00,9, -999.00,9, -999.00,9, -999.00,9,   1.4355, -999.00
096U20160426,       P15S,      75,          1,          7,       2007,2,20160604,       1652,   -32.0013,  -169.9936,       5698,  3700.5,   1.5350,  34.7140,2,  34.7143,2,    185.6,2,   187.7,2,  109.14,2,   32.48,2,    0.00,4,    2.20,2,-999.000,9,-999.000,9,-999.000,9,  -999.0,9,  -999.0,9,-999.0000,9,  -999.00,-999.0000,9, -999.00,9, -999.00,9,  -999.0,9,  -999.0, -999.00,9, -999.00,9, -999.00,9, -999.00,9,   1.2469, -999.00
096U20160426,       P15S,      75,          1,          6,       2006,2,20160604,       1652,   -32.0013,  -169.9936,       5698,  4091.1,   1.2880,  34.7180,2,  34.7174,2,    198.0,2,   200.0,2,  110.57,2,   31.96,2,    0.00,4,    2.16,2,-999.000,9,-999.000,9,-999.000,9,  -999.0,9,  -999.0,9,-999.0000,9,  -999.00,-999.0000,9, -999.00,9, -999.00,9,  -999.0,9,  -999.0, -999.00,9, -999.00,9, -999.00,9, -999.00,9,   0.9649, -999.00
096U20160426,       P15S,      75,          1,          5,       2005,2,20160604,       1652,   -32.0013,  -169.9936,       5698,  4490.8,   1.1030,  34.7130,2,  34.7121,2,    203.2,2,   204.6,2,  115.77,2,   32.09,2,    0.00,4,    2.17,2,-999.000,9,-999.000,9,-999.000,9,  -999.0,9,  -999.0,9,-999.0000,9,  -999.00,-999.0000,9, -999.00,9, -999.00,9,  -999.0,9,  -999.0, -999.00,9, -999.00,9, -999.00,9, -999.00,9,   0.7412, -999.00
096U20160426,       P15S,      75,          1,          4,       2004,2,20160604,       1652,   -32.0013,  -169.9936,       5698,  4896.3,   1.0610,  34.7090,2,  34.7096,2,    205.6,2,   205.9,2,  118.29,2,   32.21,2,    0.00,4,    2.18,2,-999.000,9,-999.000,9,-999.000,9,  -999.0,9,  -999.0,9,-999.0000,9,  -999.00,-999.0000,9, -999.00,9, -999.00,9,  -999.0,9,  -999.0, -999.00,9, -999.00,9, -999.00,9, -999.00,9,   0.6537, -999.00
096U20160426,       P15S,      75,          1,          3,       2003,2,20160604,       1652,   -32.0013,  -169.9936,       5698,  5296.4,   1.0860,  34.7080,2,  34.7082,2,    206.4,2,   206.0,2,  118.78,2,   32.25,2,    0.00,4,    2.18,2,-999.000,9,-999.000,9,-999.000,9,  -999.0,9,  -999.0,9,-999.0000,9,  -999.00,-999.0000,9, -999.00,9, -999.00,9,  -999.0,9,  -999.0, -999.00,9, -999.00,9, -999.00,9, -999.00,9,   0.6296, -999.00
096U20160426,       P15S,      75,          1,          2,       2002,2,20160604,       1652,   -32.0013,  -169.9936,       5698,  5601.2,   1.1210,  34.7080,2,  34.7079,2,    206.8,2,   206.0,2,  118.94,2,   32.20,2,    0.00,4,    2.18,2,-999.000,9,-999.000,9,-999.000,9,  2264.5,2,  2366.0,6,-999.0000,9,  -999.00,-999.0000,9, -999.00,9, -999.00,9,  -999.0,9,  -999.0, -999.00,9, -999.00,9, -999.00,9, -999.00,9,   0.6252, -999.00
096U20160426,       P15S,      75,          1,          1,       2001,2,20160604,       1652,   -32.0013,  -169.9936,       5698,  5787.7,   1.1440,  34.7080,2,  34.7080,2,    207.1,2,   205.9,2,  119.10,2,   32.25,2,    0.00,4,    2.18,2,-999.000,9,-999.000,9,-999.000,9,  -999.0,9,  -999.0,9,-999.0000,9,  -999.00,-999.0000,9, -999.00,9, -999.00,9,  -999.0,9,  -999.0, -999.00,9, -999.00,9, -999.00,9, -999.00,9,   0.6235, -999.00