BOTTLE,20230413CCHSIOENA
EXPOCODE,SECT_ID,STNNBR,CASTNO,SAMPNO,BTLNBR,BTLNBR_FLAG_W,DATE,TIME,LATITUDE,LONGITUDE,DEPTH,CTDPRS,CTDTMP,CTDSAL,CTDSAL_FLAG_W,SALNTY,SALNTY_FLAG_W,CTDOXY,CTDOXY_FLAG_W,OXYGEN,OXYGEN_FLAG_W,SILCAT,SILCAT_FLAG_W,NITRAT,NITRAT_FLAG_W,NITRIT,NITRIT_FLAG_W,PHSPHT,PHSPHT_FLAG_W,CFC-11,CFC-11_FLAG_W,CFC-12,CFC-12_FLAG_W,SF6,SF6_FLAG_W,TCARBN,TCARBN_FLAG_W,ALKALI,ALKALI_FLAG_W,PH_TOT,PH_TOT_FLAG_W,PH_TMP,HELIUM,HELIUM_FLAG_W,DELHE3,DELHE3_FLAG_W,DELC13,DELC13_FLAG_W,DELC14,DELC14_FLAG_W,C14ERR,POC,POC_FLAG_W,PON,PON_FLAG_W,CHLORA,CHLORA_FLAG_W,PPHYTN,PPHYTN_FLAG_W,THETA,DELHER
,,,,,,,,,,,METERS,DBAR,ITS-90,PSS-78,,PSS-78,,UMOL/KG,,UMOL/KG,,UMOL/KG,,UMOL/KG,,UMOL/KG,,UMOL/KG,,PMOL/KG,,PMOL/KG,,FMOL/KG,,UMOL/KG,,UMOL/KG,,,,DEG C,NMOL/KG,,PERCNT,,/MILLE,,/MILLE,,/MILLE,UG/KG,,UG/KG,,UG/KG,,UG/KG,,DEG C,PERCNT
096U20160426,       P15S,      95,          1,         36,       2036,2,20160612,       0303,   -21.5003,  -170.0001,       5431,     5.7,  24.4720,  32.8340,3,  35.6529,2,    211.0,2,   208.7,2,    0.21,2,   -0.04,4,    0.01,4,    0.08,2,-999.000,9,-999.000,9,-999.000,9,  2009.2,2,  2343.3,2,-999.0000,9,  -999.00,-999.0000,9, -999.00,9, -999.00,9,  -999.0,9,  -999.0, -999.00,9, -999.00,9, -999.00,9, -999.00,9,  24.4708, -999.00
096U20160426,       P15S,      95,          1,         35,       2035,2,20160612,       0303,   -21.5003,  -170.0001,       5431,    20.3,  24.4770,  35.6540,2,  35.6529,2,    210.1,2,   208.7,2,    0.20,2,   -0.03,4,    0.00,4,    0.08,2,-999.000,9,-999.000,9,-999.000,9,  -999.0,9,  -999.0,9,-999.0000,9,  -999.00,-999.0000,9, -999.00,9, -999.00,9,  -999.0,9,  -999.0, -999.00,9, -999.00,9, -999.00,9, -999.00,9,  24.4727, -999.00
096U20160426,       P15S,      95,          1,         34,       2034,2,20160612,       0303,   -21.5003,  -170.0001,       5431,    40.7,  24.4750,  35.6560,2,  35.6565,2,    209.9,2,   208.9,2,    0.20,2,   -0.04,4,    0.01,4,    0.08,2,-999.000,9,-999.000,9,-999.000,9,  -999.0,9,  -999.0,9,-999.0000,9,  -999.00,-999.0000,9, -999.00,9, -999.00,9,  -999.0,9,  -999.0, -999.00,9, -999.00,9, -999.00,9, -999.00,9,  24.4663, -999.00
096U20160426,       P15S,      95,          1,         33,       2033,2,20160612,       0303,   -21.5003,  -170.0001,       5431,    65.2,  24.4150,  35.6880,2,  35.6865,2,    209.5,2,   208.6,2,    0.21,2,   -0.03,4,    0.00,4,    0.08,2,-999.000,9,-999.000,9,-999.000,9,  -999.0,9,  -999.0,9,-999.0000,9,  -999.00,-999.0000,9, -999.00,9, -999.00,9,  -999.0,9,  -999.0, -999.00,9, -999.00,9, -999.00,9, -999.00,9,  24.4011, -999.00
096U20160426,       P15S,      95,          1,         32,       2032,2,20160612,       0303,   -21.5003,  -170.0001,       5431,    90.3,  22.5710,  35.7520,2,  35.7518,2,    210.4,2,   209.4,2,    0.22,2,    0.03,2,    0.02,2,    0.08,2,-999.000,9,-999.000,9,-999.000,9,  -999.0,9,  -999.0,9,-999.0000,9,  -999.00,-999.0000,9, -999.00,9, -999.00,9,  -999.0,9,  -999.0, -999.00,9, -999.00,9, -999.00,9, -999.00,9,  22.5528, -999.00
096U20160426,       P15S,      95,          1,         31,       2031,2,20160612,       0303,   -21.5003,  -170.0001,       5431,   115.6,  21.4480,  35.7510,2,  35.7484,2,    199.0,2,   197.7,2,    0.27,2,    0.99,2,    0.09,2,    0.16,2,-999.000,9,-999.000,9,-999.000,9,  2057.7,2,  2345.2,2,-999.0000,9,  -999.00,-999.0000,9, -999.00,9, -999.00,9,  -999.0,9,  -999.0, -999.00,9, -999.00,9, -999.00,9, -999.00,9,  21.4255, -999.00
096U20160426,       P15S,      95,          1,         30,       2030,2,20160612,       0303,   -21.5003,  -170.0001,       5431,   185.3,  19.4870,  35.6740,2,  35.6720,2,    193.7,2,   193.4,2,    0.45,2,    2.85,2,    0.01,4,    0.24,2,-999.000,9,-999.000,9,-999.000,9,  -999.0,9,  -999.0,9,-999.0000,9,  -999.00,-999.0000,9, -999.00,9, -999.00,9,  -999.0,9,  -999.0, -999.00,9, -999.00,9, -999.00,9, -999.00,9,  19.4532, -999.00
096U20160426,       P15S,      95,          1,         29,       2029,2,20160612,       0303,   -21.5003,  -170.0001,       5431,   235.2,  18.1540,  35.5260,2,  35.5153,2,    190.0,2,   189.8,2,    0.77,2,    4.33,2,    0.01,4,    0.36,2,-999.000,9,-999.000,9,-999.000,9,  -999.0,9,  -999.0,9,-999.0000,9,  -999.00,-999.0000,9, -999.00,9, -999.00,9,  -999.0,9,  -999.0, -999.00,9, -999.00,9, -999.00,9, -999.00,9,  18.1132, -999.00
096U20160426,       P15S,      95,          1,         28,       2028,2,20160612,       0303,   -21.5003,  -170.0001,       5431,   286.0,  17.0350,  35.3880,2,  35.3528,2,    192.5,2,   191.2,2,    1.03,2,    5.32,2,    0.01,4,    0.44,2,-999.000,9,-999.000,9,-999.000,9,  -999.0,9,  -999.0,9,-999.0000,9,  -999.00,-999.0000,9, -999.00,9, -999.00,9,  -999.0,9,  -999.0, -999.00,9, -999.00,9, -999.00,9, -999.00,9,  16.9875, -999.00
096U20160426,       P15S,      95,          1,         27,       2027,2,20160612,       0303,   -21.5003,  -170.0001,       5431,   336.1,  15.6740,  35.2200,2,  35.1698,2,    185.6,2,   184.6,2,    2.00,2,    8.30,2,    0.01,4,    0.65,2,-999.000,9,-999.000,9,-999.000,9,  2106.8,2,  2311.3,2,-999.0000,9,  -999.00,-999.0000,9, -999.00,9, -999.00,9,  -999.0,9,  -999.0, -999.00,9, -999.00,9, -999.00,9, -999.00,9,  15.6213, -999.00
096U20160426,       P15S,      95,          1,         26,       2026,2,20160612,       0303,   -21.5003,  -170.0001,       5431,   375.9,  14.0120,  35.0120,2,  34.9747,2,    182.2,2,   181.5,2,    3.13,2,   11.30,2,    0.01,4,    0.85,2,-999.000,9,-999.000,9,-999.000,9,  -999.0,9,  -999.0,9,-999.0000,9,  -999.00,-999.0000,9, -999.00,9, -999.00,9,  -999.0,9,  -999.0, -999.00,9, -999.00,9, -999.00,9, -999.00,9,  13.9573, -999.00
096U20160426,       P15S,      95,          1,         25,       2025,2,20160612,       0303,   -21.5003,  -170.0001,       5431,   464.8,  10.8020,  34.6890,2,  34.6779,2,    188.6,2,   189.4,2,    5.22,2,   16.72,2,    0.00,4,    1.19,2,-999.000,9,-999.000,9,-999.000,9,  2138.1,2,  2290.4,2,-999.0000,9,  -999.00,-999.0000,9, -999.00,9, -999.00,9,  -999.0,9,  -999.0, -999.00,9, -999.00,9, -999.00,9, -999.00,9,  10.7449, -999.00
096U20160426,       P15S,      95,          1,         24,       2024,2,20160612,       0303,   -21.5003,  -170.0001,       5431,   569.2,   8.3130,  34.4850,2,  34.4740,2,    212.6,2,   216.0,2,    6.13,2,   20.44,2,    0.00,4,    1.39,2,-999.000,9,-999.000,9,-999.000,9,  -999.0,9,  -999.0,9,-999.0000,9,  -999.00,-999.0000,9, -999.00,9, -999.00,9,  -999.0,9,  -999.0, -999.00,9, -999.00,9, -999.00,9, -999.00,9,   8.2531, -999.00
096U20160426,       P15S,      95,          1,         23,       2023,2,20160612,       0303,   -21.5003,  -170.0001,       5431,   667.9,   6.8280,  34.3640,2,  34.3613,2,    216.9,2,   219.6,2,    9.64,2,   24.13,2,    0.00,4,    1.62,2,-999.000,9,-999.000,9,-999.000,9,  2155.0,2,  2281.3,2,-999.0000,9,  -999.00,-999.0000,9, -999.00,9, -999.00,9,  -999.0,9,  -999.0, -999.00,9, -999.00,9, -999.00,9, -999.00,9,   6.7648, -999.00
096U20160426,       P15S,      95,          1,         22,       2022,2,20160612,       0303,   -21.5003,  -170.0001,       5431,   768.0,   5.9530,  34.3340,2,  34.3324,2,    206.6,2,   208.9,2,   15.75,2,   27.15,2,    0.01,4,    1.82,2,-999.000,9,-999.000,9,-999.000,9,  -999.0,9,  -999.0,9,-999.0000,9,  -999.00,-999.0000,9, -999.00,9, -999.00,9,  -999.0,9,  -999.0, -999.00,9, -999.00,9, -999.00,9, -999.00,9,   5.8849, -999.00
096U20160426,       P15S,      95,          1,         21,       2021,2,20160612,       0303,   -21.5003,  -170.0001,       5431,   867.4,   5.3000,  34.3440,2,  34.3412,2,    190.7,2,   193.1,2,   24.40,2,   29.69,2,    0.01,4,    2.00,2,-999.000,9,-999.000,9,-999.000,9,  -999.0,9,  -999.0,9,-999.0000,9,  -999.00,-999.0000,9, -999.00,9, -999.00,9,  -999.0,9,  -999.0, -999.00,9, -999.00,9, -999.00,9, -999.00,9,   5.2268, -999.00
096U20160426,       P15S,      95,          1,         20,       2020,2,20160612,       0303,   -21.5003,  -170.0001,       5431,   966.2,   4.4740,  34.3710,2,  34.3704,2,    178.6,2,   180.4,2,   37.96,2,   32.03,2,    0.01,4,    2.16,2,-999.000,9,-999.000,9,-999.000,9,  -999.0,9,  -999.0,9,-999.0000,9,  -999.00,-999.0000,9, -999.00,9, -999.00,9,  -999.0,9,  -999.0, -999.00,9, -999.00,9, -999.00,9, -999.00,9,   4.3978, -999.00
096U20160426,       P15S,      95,          1,         19,       2019,2,20160612,       0303,   -21.5003,  -170.0001,       5431,  1067.0,   3.9820,  34.4160,2,  34.4146,2,    168.2,2,   168.8,2,   50.43,2,   33.40,2,    0.00,4,    2.26,2,-999.000,9,-999.000,9,-999.000,9,  2229.6,6,  2317.8,6,-999.0000,9,  -999.00,-999.0000,9, -999.00,9, -999.00,9,  -999.0,9,  -999.0, -999.00,9, -999.00,9, -999.00,9, -999.00,9,   3.9010, -999.00
096U20160426,       P15S,      95,          1,         18,       2018,2,20160612,       0303,   -21.5003,  -170.0001,       5431,  1162.5,   3.5440,  34.4680,2,  34.4662,2,    159.8,2,   160.0,2,   63.74,2,   34.28,2,    0.00,4,    2.33,2,-999.000,9,-999.000,9,-999.000,9,  -999.0,9,  -999.0,9,-999.0000,9,  -999.00,-999.0000,9, -999.00,9, -999.00,9,  -999.0,9,  -999.0, -999.00,9, -999.00,9, -999.00,9, -999.00,9,   3.4588, -999.00
096U20160426,       P15S,      95,          1,         17,       2017,2,20160612,       0303,   -21.5003,  -170.0001,       5431,  1301.8,   3.0060,  34.5220,2,  34.5217,2,    157.1,2,   157.7,2,   78.62,2,   34.72,2,    0.00,4,    2.37,2,-999.000,9,-999.000,9,-999.000,9,  -999.0,9,  -999.0,9,-999.0000,9,  -999.00,-999.0000,9, -999.00,9, -999.00,9,  -999.0,9,  -999.0, -999.00,9, -999.00,9, -999.00,9, -999.00,9,   2.9144, -999.00
096U20160426,       P15S,      95,          1,         16,       2016,2,20160612,       0303,   -21.5003,  -170.0001,       5431,  1441.2,   2.8120,  34.5620,2,  34.5602,2,    150.4,2,   151.1,2,   89.75,2,   35.13,2,    0.00,4,    2.40,2,-999.000,9,-999.000,9,-999.000,9,  -999.0,9,  -999.0,9,-999.0000,9,  -999.00,-999.0000,9, -999.00,9, -999.00,9,  -999.0,9,  -999.0, -999.00,9, -999.00,9, -999.00,9, -999.00,9,   2.7111, -999.00
096U20160426,       P15S,      95,          1,         15,       2015,2,20160612,       0303,   -21.5003,  -170.0001,       5431,  1636.8,   2.5360,  34.5960,2,  34.5953,2,    148.3,2,   148.3,2,  100.88,2,   35.31,2,    0.00,4,    2.42,2,-999.000,9,-999.000,9,-999.000,9,  -999.0,9,  -999.0,9,-999.0000,9,  -999.00,-999.0000,9, -999.00,9, -999.00,9,  -999.0,9,  -999.0, -999.00,9, -999.00,9, -999.00,9, -999.00,9,   2.4223, -999.00
096U20160426,       P15S,      95,          1,         14,       2014,2,20160612,       0303,   -21.5003,  -170.0001,       5431,  1827.2,   2.3820,  34.6170,2,  34.6127,2,    145.6,2,  -999.0,9,  108.67,2,   35.53,2,    0.00,4,    2.44,2,-999.000,9,-999.000,9,-999.000,9,  -999.0,9,  -999.0,9,-999.0000,9,  -999.00,-999.0000,9, -999.00,9, -999.00,9,  -999.0,9,  -999.0, -999.00,9, -999.00,9, -999.00,9, -999.00,9,   2.2545, -999.00
096U20160426,       P15S,      95,          1,         13,       2013,2,20160612,       0303,   -21.5003,  -170.0001,       5431,  2065.9,   2.2260,  34.6310,2,  34.6295,2,    145.4,2,   145.5,2,  114.26,2,   35.67,2,    0.00,4,    2.45,2,-999.000,9,-999.000,9,-999.000,9,  -999.0,9,  -999.0,9,-999.0000,9,  -999.00,-999.0000,9, -999.00,9, -999.00,9,  -999.0,9,  -999.0, -999.00,9, -999.00,9, -999.00,9, -999.00,9,   2.0805, -999.00
096U20160426,       P15S,      95,          1,         12,       2012,2,20160612,       0303,   -21.5003,  -170.0001,       5431,  2315.4,   2.0810,  34.6440,2,  34.6424,2,    145.8,2,   146.0,2,  119.35,2,   35.70,2,    0.00,4,    2.45,2,-999.000,9,-999.000,9,-999.000,9,  -999.0,9,  -999.0,9,-999.0000,9,  -999.00,-999.0000,9, -999.00,9, -999.00,9,  -999.0,9,  -999.0, -999.00,9, -999.00,9, -999.00,9, -999.00,9,   1.9159, -999.00
096U20160426,       P15S,      95,          1,         11,       2011,2,20160612,       0303,   -21.5003,  -170.0001,       5431,  2565.0,   1.9510,  34.6560,2,  34.6538,2,    146.0,2,   146.1,2,  124.48,2,   35.73,2,    0.00,4,    2.45,2,-999.000,9,-999.000,9,-999.000,9,  -999.0,9,  -999.0,9,-999.0000,9,  -999.00,-999.0000,9, -999.00,9, -999.00,9,  -999.0,9,  -999.0, -999.00,9, -999.00,9, -999.00,9, -999.00,9,   1.7657, -999.00
096U20160426,       P15S,      95,          1,         10,       2010,2,20160612,       0303,   -21.5003,  -170.0001,       5431,  2816.3,   1.8410,  34.6650,2,  34.6631,2,    147.5,2,   146.8,2,  128.47,2,   35.66,2,    0.01,4,    2.45,2,-999.000,9,-999.000,9,-999.000,9,  -999.0,9,  -999.0,9,-999.0000,9,  -999.00,-999.0000,9, -999.00,9, -999.00,9,  -999.0,9,  -999.0, -999.00,9, -999.00,9, -999.00,9, -999.00,9,   1.6344, -999.00
096U20160426,       P15S,      95,          1,          9,       2009,2,20160612,       0303,   -21.5003,  -170.0001,       5431,  3082.9,   1.7230,  34.6740,2,  34.6727,2,    151.3,2,   150.8,2,  130.33,2,   35.40,2,    0.01,4,    2.43,2,-999.000,9,-999.000,9,-999.000,9,  -999.0,9,  -999.0,9,-999.0000,9,  -999.00,-999.0000,9, -999.00,9, -999.00,9,  -999.0,9,  -999.0, -999.00,9, -999.00,9, -999.00,9, -999.00,9,   1.4932, -999.00
096U20160426,       P15S,      95,          1,          8,       2008,2,20160612,       0303,   -21.5003,  -170.0001,       5431,  3364.9,   1.5950,  34.6950,2,  34.6930,2,    168.7,2,   169.3,2,  121.23,2,   33.80,2,    0.01,4,    2.31,2,-999.000,9,-999.000,9,-999.000,9,  -999.0,9,  -999.0,9,-999.0000,9,  -999.00,-999.0000,9, -999.00,9, -999.00,9,  -999.0,9,  -999.0, -999.00,9, -999.00,9, -999.00,9, -999.00,9,   1.3401, -999.00
096U20160426,       P15S,      95,          1,          7,       2007,2,20160612,       0303,   -21.5003,  -170.0001,       5431,  3701.0,   1.4370,  34.7190,2,  34.7175,2,    190.7,2,   193.0,2,  109.36,2,   31.79,2,    0.01,4,    2.16,2,-999.000,9,-999.000,9,-999.000,9,  -999.0,9,  -999.0,9,-999.0000,9,  -999.00,-999.0000,9, -999.00,9, -999.00,9,  -999.0,9,  -999.0, -999.00,9, -999.00,9, -999.00,9, -999.00,9,   1.1515, -999.00
096U20160426,       P15S,      95,          1,          6,       2006,2,20160612,       0303,   -21.5003,  -170.0001,       5431,  4090.6,   1.1840,  34.7170,2,  34.7148,2,    199.9,2,   202.1,2,  113.16,2,   31.56,2,    0.01,4,    2.14,2,-999.000,9,-999.000,9,-999.000,9,  -999.0,9,  -999.0,9,-999.0000,9,  -999.00,-999.0000,9, -999.00,9, -999.00,9,  -999.0,9,  -999.0, -999.00,9, -999.00,9, -999.00,9, -999.00,9,   0.8640, -999.00
096U20160426,       P15S,      95,          1,          5,       2005,2,20160612,       0303,   -21.5003,  -170.0001,       5431,  4490.3,   1.0730,  34.7120,2,  34.7102,2,    203.7,2,   205.2,2,  116.73,2,   31.73,2,    0.00,4,    2.15,2,-999.000,9,-999.000,9,-999.000,9,  -999.0,9,  -999.0,9,-999.0000,9,  -999.00,-999.0000,9, -999.00,9, -999.00,9,  -999.0,9,  -999.0, -999.00,9, -999.00,9, -999.00,9, -999.00,9,   0.7122, -999.00
096U20160426,       P15S,      95,          1,          4,       2004,2,20160612,       0303,   -21.5003,  -170.0001,       5431,  4894.9,   1.0490,  34.7090,2,  34.7076,2,    205.8,2,   206.0,2,  118.78,2,   31.84,2,    0.00,4,    2.16,2,-999.000,9,-999.000,9,-999.000,9,  -999.0,9,  -999.0,9,-999.0000,9,  -999.00,-999.0000,9, -999.00,9, -999.00,9,  -999.0,9,  -999.0, -999.00,9, -999.00,9, -999.00,9, -999.00,9,   0.6423, -999.00
096U20160426,       P15S,      95,          1,          3,       2003,2,20160612,       0303,   -21.5003,  -170.0001,       5431,  5295.1,   1.0850,  34.7090,2,  34.7071,2,    206.8,2,   205.9,2,  118.93,2,   31.81,2,    0.01,4,    2.16,2,-999.000,9,-999.000,9,-999.000,9,  -999.0,9,  -999.0,9,-999.0000,9,  -999.00,-999.0000,9, -999.00,9, -999.00,9,  -999.0,9,  -999.0, -999.00,9, -999.00,9, -999.00,9, -999.00,9,   0.6288, -999.00
096U20160426,       P15S,      95,          1,          2,       2002,2,20160612,       0303,   -21.5003,  -170.0001,       5431,  5421.7,   1.1010,  34.7090,2,  34.7074,2,    206.9,2,   206.2,2,  119.02,2,   31.81,2,    0.01,4,    2.16,2,-999.000,9,-999.000,9,-999.000,9,  -999.0,9,  -999.0,9,-999.0000,9,  -999.00,-999.0000,9, -999.00,9, -999.00,9,  -999.0,9,  -999.0, -999.00,9, -999.00,9, -999.00,9, -999.00,9,   0.6286, -999.00
096U20160426,       P15S,      95,          1,          1,       2001,2,20160612,       0303,   -21.5003,  -170.0001,       5431,  5514.1,   1.1120,  34.7090,2,  34.7076,2,    207.1,2,   206.1,2,  119.12,2,   31.81,2,    0.01,4,    2.16,2,-999.000,9,-999.000,9,-999.000,9,  2265.2,2,  2366.0,2,-999.0000,9,  -999.00,-999.0000,9, -999.00,9, -999.00,9,  -999.0,9,  -999.0, -999.00,9, -999.00,9, -999.00,9, -999.00,9,   0.6276, -999.00