BOTTLE,20230413CCHSIOENA
EXPOCODE,SECT_ID,STNNBR,CASTNO,SAMPNO,BTLNBR,BTLNBR_FLAG_W,DATE,TIME,LATITUDE,LONGITUDE,DEPTH,CTDPRS,CTDTMP,CTDSAL,CTDSAL_FLAG_W,SALNTY,SALNTY_FLAG_W,CTDOXY,CTDOXY_FLAG_W,OXYGEN,OXYGEN_FLAG_W,SILCAT,SILCAT_FLAG_W,NITRAT,NITRAT_FLAG_W,NITRIT,NITRIT_FLAG_W,PHSPHT,PHSPHT_FLAG_W,CFC-11,CFC-11_FLAG_W,CFC-12,CFC-12_FLAG_W,SF6,SF6_FLAG_W,TCARBN,TCARBN_FLAG_W,ALKALI,ALKALI_FLAG_W,PH_TOT,PH_TOT_FLAG_W,PH_TMP,HELIUM,HELIUM_FLAG_W,DELHE3,DELHE3_FLAG_W,DELC13,DELC13_FLAG_W,DELC14,DELC14_FLAG_W,C14ERR,POC,POC_FLAG_W,PON,PON_FLAG_W,CHLORA,CHLORA_FLAG_W,PPHYTN,PPHYTN_FLAG_W,THETA,DELHER
,,,,,,,,,,,METERS,DBAR,ITS-90,PSS-78,,PSS-78,,UMOL/KG,,UMOL/KG,,UMOL/KG,,UMOL/KG,,UMOL/KG,,UMOL/KG,,PMOL/KG,,PMOL/KG,,FMOL/KG,,UMOL/KG,,UMOL/KG,,,,DEG C,NMOL/KG,,PERCNT,,/MILLE,,/MILLE,,/MILLE,UG/KG,,UG/KG,,UG/KG,,UG/KG,,DEG C,PERCNT
096U20160426,       P15S,     107,          1,         36,       2036,2,20160615,       1253,   -15.4963,  -170.0010,       5096,     5.0,  27.8260,  35.0560,2,  35.0554,2,    199.3,2,   196.8,2,    0.41,2,   -0.05,4,    0.01,4,    0.17,2,-999.000,9,-999.000,9,-999.000,9,  1965.0,2,  2306.1,2,-999.0000,9,  -999.00,-999.0000,9, -999.00,9, -999.00,9,  -999.0,9,  -999.0, -999.00,9, -999.00,9,    0.21,2,   -0.02,3,  27.8248, -999.00
096U20160426,       P15S,     107,          1,         35,       2035,2,20160615,       1253,   -15.4963,  -170.0010,       5096,    19.7,  27.8260,  35.0560,2,  35.0449,2,    199.2,2,   197.7,2,    0.38,2,   -0.05,4,    0.01,4,    0.17,2,-999.000,9,-999.000,9,-999.000,9,  -999.0,9,  -999.0,9,-999.0000,9,  -999.00,-999.0000,9, -999.00,9, -999.00,9,  -999.0,9,  -999.0, -999.00,9, -999.00,9, -999.00,9, -999.00,9,  27.8214, -999.00
096U20160426,       P15S,     107,          1,         34,       2034,2,20160615,       1253,   -15.4963,  -170.0010,       5096,    42.2,  27.7960,  35.0590,2,  35.0910,2,    199.6,2,   198.0,2,    0.38,2,   -0.04,4,    0.00,4,    0.16,2,-999.000,9,-999.000,9,-999.000,9,  -999.0,9,  -999.0,9,-999.0000,9,  -999.00,-999.0000,9, -999.00,9, -999.00,9,  -999.0,9,  -999.0, -999.00,9, -999.00,9,    0.21,2,    0.01,3,  27.7861, -999.00
096U20160426,       P15S,     107,          1,         33,       2033,2,20160615,       1253,   -15.4963,  -170.0010,       5096,    68.5,  27.0150,  35.9410,2,  35.9791,2,    200.4,2,   197.6,2,    0.39,2,   -0.04,4,    0.00,4,    0.22,2,-999.000,9,-999.000,9,-999.000,9,  2035.1,2,  2369.0,6,-999.0000,9,  -999.00,-999.0000,9, -999.00,9, -999.00,9,  -999.0,9,  -999.0, -999.00,9, -999.00,9,    0.42,2,    0.02,3,  26.9992, -999.00
096U20160426,       P15S,     107,          1,         32,       2032,2,20160615,       1253,   -15.4963,  -170.0010,       5096,    92.9,  25.2050,  36.0010,2,  35.9940,2,    192.5,2,   189.9,2,    0.38,2,    0.20,2,    0.04,2,    0.25,2,-999.000,9,-999.000,9,-999.000,9,  -999.0,9,  -999.0,9,-999.0000,9,  -999.00,-999.0000,9, -999.00,9, -999.00,9,  -999.0,9,  -999.0, -999.00,9, -999.00,9,    0.46,2,   -0.01,3,  25.1847, -999.00
096U20160426,       P15S,     107,          1,         31,       2031,2,20160615,       1253,   -15.4963,  -170.0010,       5096,   128.3,  23.8610,  36.1890,2,  36.1687,2,    159.8,2,   158.2,2,    0.61,2,    4.71,2,    0.08,2,    0.54,2,-999.000,9,-999.000,9,-999.000,9,  2105.1,6,  2378.6,6,-999.0000,9,  -999.00,-999.0000,9, -999.00,9, -999.00,9,  -999.0,9,  -999.0, -999.00,9, -999.00,9,    0.28,2,    0.18,3,  23.8340, -999.00
096U20160426,       P15S,     107,          1,         30,       2030,2,20160615,       1253,   -15.4963,  -170.0010,       5096,   188.3,  21.1870,  35.9260,2,  35.8592,2,    159.8,2,   160.1,2,    0.89,2,    6.20,2,    0.01,4,    0.64,2,-999.000,9,-999.000,9,-999.000,9,  -999.0,9,  -999.0,9,-999.0000,9,  -999.00,-999.0000,9, -999.00,9, -999.00,9,  -999.0,9,  -999.0, -999.00,9, -999.00,9, -999.00,9, -999.00,9,  21.1506, -999.00
096U20160426,       P15S,     107,          1,         29,       2029,2,20160615,       1253,   -15.4963,  -170.0010,       5096,   238.0,  18.5890,  35.5480,2,  35.5321,2,    160.6,2,   158.8,2,    1.77,2,    8.02,2,    0.01,4,    0.78,2,-999.000,9,-999.000,9,-999.000,9,  2126.7,2,  2340.4,2,-999.0000,9,  -999.00,-999.0000,9, -999.00,9, -999.00,9,  -999.0,9,  -999.0, -999.00,9, -999.00,9, -999.00,9, -999.00,9,  18.5470, -999.00
096U20160426,       P15S,     107,          1,         28,       2028,2,20160615,       1253,   -15.4963,  -170.0010,       5096,   286.9,  16.9740,  35.3220,2,  35.2868,2,    160.5,2,   164.6,2,    2.41,2,    8.89,2,    0.01,4,    0.80,2,-999.000,9,-999.000,9,-999.000,9,  -999.0,9,  -999.0,9,-999.0000,9,  -999.00,-999.0000,9, -999.00,9, -999.00,9,  -999.0,9,  -999.0, -999.00,9, -999.00,9, -999.00,9, -999.00,9,  16.9265, -999.00
096U20160426,       P15S,     107,          1,         27,       2027,2,20160615,       1253,   -15.4963,  -170.0010,       5096,   336.8,  13.6060,  34.9230,2,  34.8441,2,    147.3,2,   142.6,2,    7.30,2,   16.54,2,    0.01,4,    1.34,2,-999.000,9,-999.000,9,-999.000,9,  2155.0,2,  2299.5,2,-999.0000,9,  -999.00,-999.0000,9, -999.00,9, -999.00,9,  -999.0,9,  -999.0, -999.00,9, -999.00,9, -999.00,9, -999.00,9,  13.5581, -999.00
096U20160426,       P15S,     107,          1,         26,       2026,2,20160615,       1253,   -15.4963,  -170.0010,       5096,   386.9,  11.0350,  34.6840,2,  34.6536,2,    128.9,2,   127.0,2,   12.44,2,   22.05,2,    0.01,4,    1.71,2,-999.000,9,-999.000,9,-999.000,9,  -999.0,9,  -999.0,9,-999.0000,9,  -999.00,-999.0000,9, -999.00,9, -999.00,9,  -999.0,9,  -999.0, -999.00,9, -999.00,9, -999.00,9, -999.00,9,  10.9870, -999.00
096U20160426,       P15S,     107,          1,         25,       2025,2,20160615,       1253,   -15.4963,  -170.0010,       5096,   465.9,   8.5780,  34.5220,2,  34.5088,2,    140.5,2,   139.5,2,   18.93,2,   26.87,2,    0.00,4,    1.96,2,-999.000,9,-999.000,9,-999.000,9,  2194.6,2,  2291.6,2,-999.0000,9,  -999.00,-999.0000,9, -999.00,9, -999.00,9,  -999.0,9,  -999.0, -999.00,9, -999.00,9, -999.00,9, -999.00,9,   8.5284, -999.00
096U20160426,       P15S,     107,          1,         24,       2024,2,20160615,       1253,   -15.4963,  -170.0010,       5096,   565.7,   6.6590,  34.4470,2,  34.4431,2,    156.4,2,   155.8,2,   26.33,2,   29.53,2,    0.00,4,    2.08,2,-999.000,9,-999.000,9,-999.000,9,  -999.0,9,  -999.0,9,-999.0000,9,  -999.00,-999.0000,9, -999.00,9, -999.00,9,  -999.0,9,  -999.0, -999.00,9, -999.00,9, -999.00,9, -999.00,9,   6.6065, -999.00
096U20160426,       P15S,     107,          1,         23,       2023,2,20160615,       1253,   -15.4963,  -170.0010,       5096,   665.1,   5.5280,  34.4380,2,  34.4370,2,    156.6,2,   156.3,2,   37.61,2,   31.59,2,    0.01,4,    2.21,2,-999.000,9,-999.000,9,-999.000,9,  2217.4,2,  2306.8,2,-999.0000,9,  -999.00,-999.0000,9, -999.00,9, -999.00,9,  -999.0,9,  -999.0, -999.00,9, -999.00,9, -999.00,9, -999.00,9,   5.4716, -999.00
096U20160426,       P15S,     107,          1,         22,       2022,2,20160615,       1253,   -15.4963,  -170.0010,       5096,   764.9,   4.9030,  34.4550,2,  34.4534,2,    152.0,2,   151.0,2,   47.21,2,   32.95,2,    0.00,4,    2.30,2,-999.000,9,-999.000,9,-999.000,9,  -999.0,9,  -999.0,9,-999.0000,9,  -999.00,-999.0000,9, -999.00,9, -999.00,9,  -999.0,9,  -999.0, -999.00,9, -999.00,9, -999.00,9, -999.00,9,   4.8412, -999.00
096U20160426,       P15S,     107,          1,         21,       2021,2,20160615,       1253,   -15.4963,  -170.0010,       5096,   866.0,   4.4450,  34.4820,2,  34.4786,2,    145.1,2,   145.1,2,   57.19,2,   33.92,2,    0.00,4,    2.38,2,-999.000,9,-999.000,9,-999.000,9,  -999.0,9,  -999.0,9,-999.0000,9,  -999.00,-999.0000,9, -999.00,9, -999.00,9,  -999.0,9,  -999.0, -999.00,9, -999.00,9, -999.00,9, -999.00,9,   4.3774, -999.00
096U20160426,       P15S,     107,          1,         20,       2020,2,20160615,       1253,   -15.4963,  -170.0010,       5096,   966.5,   4.0300,  34.5040,2,  34.5023,2,    142.0,2,   141.4,2,   67.28,2,   34.68,2,    0.00,4,    2.44,2,-999.000,9,-999.000,9,-999.000,9,  -999.0,9,  -999.0,9,-999.0000,9,  -999.00,-999.0000,9, -999.00,9, -999.00,9,  -999.0,9,  -999.0, -999.00,9, -999.00,9, -999.00,9, -999.00,9,   3.9569, -999.00
096U20160426,       P15S,     107,          1,         19,       2019,2,20160615,       1253,   -15.4963,  -170.0010,       5096,  1066.2,   3.7140,  34.5260,2,  34.5249,2,    139.2,2,   137.5,2,   75.21,2,   35.19,2,    0.00,4,    2.48,2,-999.000,9,-999.000,9,-999.000,9,  -999.0,9,  -999.0,9,-999.0000,9,  -999.00,-999.0000,9, -999.00,9, -999.00,9,  -999.0,9,  -999.0, -999.00,9, -999.00,9, -999.00,9, -999.00,9,   3.6351, -999.00
096U20160426,       P15S,     107,          1,         18,       2018,2,20160615,       1253,   -15.4963,  -170.0010,       5096,  1166.0,   3.5060,  34.5370,2,  34.5359,2,    139.7,2,   138.7,2,   79.79,2,   35.32,2,    0.00,4,    2.49,2,-999.000,9,-999.000,9,-999.000,9,  -999.0,9,  -999.0,9,-999.0000,9,  -999.00,-999.0000,9, -999.00,9, -999.00,9,  -999.0,9,  -999.0, -999.00,9, -999.00,9, -999.00,9, -999.00,9,   3.4207, -999.00
096U20160426,       P15S,     107,          1,         17,       2017,2,20160615,       1253,   -15.4963,  -170.0010,       5096,  1265.7,   3.2310,  34.5580,2,  34.5553,2,    138.8,2,   137.6,2,   86.61,2,   35.61,2,    0.00,4,    2.50,2,-999.000,9,-999.000,9,-999.000,9,  -999.0,9,  -999.0,9,-999.0000,9,  -999.00,-999.0000,9, -999.00,9, -999.00,9,  -999.0,9,  -999.0, -999.00,9, -999.00,9, -999.00,9, -999.00,9,   3.1401, -999.00
096U20160426,       P15S,     107,          1,         16,       2016,2,20160615,       1253,   -15.4963,  -170.0010,       5096,  1366.2,   3.0000,  34.5710,2,  34.5698,2,    140.5,2,   139.5,2,   91.97,2,   35.62,2,    0.00,4,    2.50,2,-999.000,9,-999.000,9,-999.000,9,  -999.0,9,  -999.0,9,-999.0000,9,  -999.00,-999.0000,9, -999.00,9, -999.00,9,  -999.0,9,  -999.0, -999.00,9, -999.00,9, -999.00,9, -999.00,9,   2.9032, -999.00
096U20160426,       P15S,     107,          1,         15,       2015,2,20160615,       1253,   -15.4963,  -170.0010,       5096,  1535.4,   2.7120,  34.5910,2,  34.5902,2,    142.9,2,   142.4,2,   98.56,2,   35.54,2,    0.00,4,    2.49,2,-999.000,9,-999.000,9,-999.000,9,  -999.0,9,  -999.0,9,-999.0000,9,  -999.00,-999.0000,9, -999.00,9, -999.00,9,  -999.0,9,  -999.0, -999.00,9, -999.00,9, -999.00,9, -999.00,9,   2.6045, -999.00
096U20160426,       P15S,     107,          1,         14,       2014,2,20160615,       1253,   -15.4963,  -170.0010,       5096,  1735.5,   2.4340,  34.6130,2,  34.6121,2,    145.1,2,   144.7,2,  105.86,2,   35.40,2,    0.00,4,    2.49,2,-999.000,9,-999.000,9,-999.000,9,  -999.0,9,  -999.0,9,-999.0000,9,  -999.00,-999.0000,9, -999.00,9, -999.00,9,  -999.0,9,  -999.0, -999.00,9, -999.00,9, -999.00,9, -999.00,9,   2.3135, -999.00
096U20160426,       P15S,     107,          1,         13,       2013,2,20160615,       1253,   -15.4963,  -170.0010,       5096,  1936.5,   2.2230,  34.6290,2,  34.6284,2,    147.8,2,   147.7,2,  111.56,2,   35.32,2,    0.00,4,    2.48,2,-999.000,9,-999.000,9,-999.000,9,  -999.0,9,  -999.0,9,-999.0000,9,  -999.00,-999.0000,9, -999.00,9, -999.00,9,  -999.0,9,  -999.0, -999.00,9, -999.00,9, -999.00,9, -999.00,9,   2.0886, -999.00
096U20160426,       P15S,     107,          1,         12,       2012,2,20160615,       1253,   -15.4963,  -170.0010,       5096,  2165.7,   2.0490,  34.6450,2,  34.6435,2,    149.1,2,   149.1,2,  116.60,2,   35.22,2,    0.00,4,    2.47,2,-999.000,9,-999.000,9,-999.000,9,  -999.0,9,  -999.0,9,-999.0000,9,  -999.00,-999.0000,9, -999.00,9, -999.00,9,  -999.0,9,  -999.0, -999.00,9, -999.00,9, -999.00,9, -999.00,9,   1.8976, -999.00
096U20160426,       P15S,     107,          1,         11,       2011,2,20160615,       1253,   -15.4963,  -170.0010,       5096,  2416.0,   1.9140,  34.6580,2,  34.6563,2,    150.4,2,   150.4,2,  121.09,2,   35.20,2,    0.00,4,    2.46,2,-999.000,9,-999.000,9,-999.000,9,  -999.0,9,  -999.0,9,-999.0000,9,  -999.00,-999.0000,9, -999.00,9, -999.00,9,  -999.0,9,  -999.0, -999.00,9, -999.00,9, -999.00,9, -999.00,9,   1.7428, -999.00
096U20160426,       P15S,     107,          1,         10,       2010,2,20160615,       1253,   -15.4963,  -170.0010,       5096,  2665.3,   1.8230,  34.6670,2,  34.6647,2,    152.0,2,   152.2,2,  124.28,2,   35.09,2,    0.00,4,    2.46,2,-999.000,9,-999.000,9,-999.000,9,  -999.0,9,  -999.0,9,-999.0000,9,  -999.00,-999.0000,9, -999.00,9,    0.18,6,  -223.1,6,     2.0, -999.00,9, -999.00,9, -999.00,9, -999.00,9,   1.6309, -999.00
096U20160426,       P15S,     107,          1,          9,       2009,2,20160615,       1253,   -15.4963,  -170.0010,       5096,  2915.6,   1.7470,  34.6730,2,  34.6717,2,    155.1,2,   155.2,2,  125.37,2,   34.91,2,    0.00,4,    2.44,2,-999.000,9,-999.000,9,-999.000,9,  -999.0,9,  -999.0,9,-999.0000,9,  -999.00,-999.0000,9, -999.00,9, -999.00,9,  -999.0,9,  -999.0, -999.00,9, -999.00,9, -999.00,9, -999.00,9,   1.5329, -999.00
096U20160426,       P15S,     107,          1,          8,       2008,2,20160615,       1253,   -15.4963,  -170.0010,       5096,  3201.5,   1.6500,  34.6790,2,  34.6778,2,    159.7,2,   160.1,2,  126.23,2,   34.61,2,    0.00,4,    2.42,2,-999.000,9,-999.000,9,-999.000,9,  -999.0,9,  -999.0,9,-999.0000,9,  -999.00,-999.0000,9, -999.00,9, -999.00,9,  -999.0,9,  -999.0, -999.00,9, -999.00,9, -999.00,9, -999.00,9,   1.4102, -999.00
096U20160426,       P15S,     107,          1,          7,       2007,2,20160615,       1253,   -15.4963,  -170.0010,       5096,  3501.4,   1.5550,  34.6860,2,  34.6844,2,    166.1,2,   166.2,2,  126.04,2,   34.21,2,    0.00,4,    2.39,2,-999.000,9,-999.000,9,-999.000,9,  -999.0,9,  -999.0,9,-999.0000,9,  -999.00,-999.0000,9, -999.00,9, -999.00,9,  -999.0,9,  -999.0, -999.00,9, -999.00,9, -999.00,9, -999.00,9,   1.2873, -999.00
096U20160426,       P15S,     107,          1,          6,       2006,2,20160615,       1253,   -15.4963,  -170.0010,       5096,  3793.2,   1.4650,  34.6930,2,  34.6915,2,    172.8,2,   173.3,2,  124.73,2,   33.74,2,    0.00,4,    2.35,2,-999.000,9,-999.000,9,-999.000,9,  -999.0,9,  -999.0,9,-999.0000,9,  -999.00,-999.0000,9, -999.00,9, -999.00,9,  -999.0,9,  -999.0, -999.00,9, -999.00,9, -999.00,9, -999.00,9,   1.1692, -999.00
096U20160426,       P15S,     107,          1,          5,       2005,2,20160615,       1253,   -15.4963,  -170.0010,       5096,  4099.9,   1.3160,  34.7120,2,  34.7108,2,    192.7,2,   194.0,2,  114.02,2,   32.01,2,    0.00,4,    2.21,2,-999.000,9,-999.000,9,-999.000,9,  -999.0,9,  -999.0,9,-999.0000,9,  -999.00,-999.0000,9, -999.00,9, -999.00,9,  -999.0,9,  -999.0, -999.00,9, -999.00,9, -999.00,9, -999.00,9,   0.9912, -999.00
096U20160426,       P15S,     107,          1,          4,       2004,2,20160615,       1253,   -15.4963,  -170.0010,       5096,  4477.5,   1.1060,  34.7120,2,  34.7109,2,    202.7,2,   203.7,2,  115.80,2,   31.59,2,    0.00,4,    2.19,2,-999.000,9,-999.000,9,-999.000,9,  -999.0,9,  -999.0,9,-999.0000,9,  -999.00,-999.0000,9, -999.00,9, -999.00,9,  -999.0,9,  -999.0, -999.00,9, -999.00,9, -999.00,9, -999.00,9,   0.7456, -999.00
096U20160426,       P15S,     107,          1,          3,       2003,2,20160615,       1253,   -15.4963,  -170.0010,       5096,  4852.6,   1.0790,  34.7100,2,  34.7099,2,    204.9,2,   205.0,2,  117.02,2,   31.61,2,    0.00,4,    2.19,2,-999.000,9,-999.000,9,-999.000,9,  -999.0,9,  -999.0,9,-999.0000,9,  -999.00,-999.0000,9, -999.00,9, -999.00,9,  -999.0,9,  -999.0, -999.00,9, -999.00,9, -999.00,9, -999.00,9,   0.6763, -999.00
096U20160426,       P15S,     107,          1,          2,       2002,2,20160615,       1253,   -15.4963,  -170.0010,       5096,  5002.6,   1.0880,  34.7100,2,  34.7088,2,    205.4,2,   205.2,2,  117.32,2,   31.64,2,    0.00,4,    2.18,2,-999.000,9,-999.000,9,-999.000,9,  -999.0,9,  -999.0,9,-999.0000,9,  -999.00,-999.0000,9, -999.00,9, -999.00,9,  -999.0,9,  -999.0, -999.00,9, -999.00,9, -999.00,9, -999.00,9,   0.6672, -999.00
096U20160426,       P15S,     107,          1,          1,       2001,2,20160615,       1253,   -15.4963,  -170.0010,       5096,  5166.3,   1.1040,  34.7100,2,  34.7089,2,    205.6,2,   205.8,2,  117.47,2,   31.63,2,    0.00,4,    2.18,2,-999.000,9,-999.000,9,-999.000,9,  -999.0,9,  -999.0,9,-999.0000,9,  -999.00,-999.0000,9, -999.00,9, -999.00,9,  -999.0,9,  -999.0, -999.00,9, -999.00,9, -999.00,9, -999.00,9,   0.6629, -999.00