BOTTLE,20230413CCHSIOENA
EXPOCODE,SECT_ID,STNNBR,CASTNO,SAMPNO,BTLNBR,BTLNBR_FLAG_W,DATE,TIME,LATITUDE,LONGITUDE,DEPTH,CTDPRS,CTDTMP,CTDSAL,CTDSAL_FLAG_W,SALNTY,SALNTY_FLAG_W,CTDOXY,CTDOXY_FLAG_W,OXYGEN,OXYGEN_FLAG_W,SILCAT,SILCAT_FLAG_W,NITRAT,NITRAT_FLAG_W,NITRIT,NITRIT_FLAG_W,PHSPHT,PHSPHT_FLAG_W,CFC-11,CFC-11_FLAG_W,CFC-12,CFC-12_FLAG_W,SF6,SF6_FLAG_W,TCARBN,TCARBN_FLAG_W,ALKALI,ALKALI_FLAG_W,PH_TOT,PH_TOT_FLAG_W,PH_TMP,HELIUM,HELIUM_FLAG_W,DELHE3,DELHE3_FLAG_W,DELC13,DELC13_FLAG_W,DELC14,DELC14_FLAG_W,C14ERR,POC,POC_FLAG_W,PON,PON_FLAG_W,CHLORA,CHLORA_FLAG_W,PPHYTN,PPHYTN_FLAG_W,THETA,DELHER
,,,,,,,,,,,METERS,DBAR,ITS-90,PSS-78,,PSS-78,,UMOL/KG,,UMOL/KG,,UMOL/KG,,UMOL/KG,,UMOL/KG,,UMOL/KG,,PMOL/KG,,PMOL/KG,,FMOL/KG,,UMOL/KG,,UMOL/KG,,,,DEG C,NMOL/KG,,PERCNT,,/MILLE,,/MILLE,,/MILLE,UG/KG,,UG/KG,,UG/KG,,UG/KG,,DEG C,PERCNT
096U20160426,       P15S,     114,          1,         36,       2036,2,20160617,       0230,   -12.9975,  -169.9982,       4979,     5.7,  29.2780,  34.8730,2,  34.8744,2,    189.0,2,   193.9,2,    0.29,2,   -0.03,4,    0.01,4,    0.15,2,   1.398,2,   0.900,2,   1.222,2,  1946.5,6,  2294.7,6,-999.0000,9,  -999.00,-999.0000,9, -999.00,9, -999.00,9,  -999.0,9,  -999.0, -999.00,9, -999.00,9,    0.16,2,    0.02,3,  29.2766, -999.00
096U20160426,       P15S,     114,          1,         35,       2035,2,20160617,       0230,   -12.9975,  -169.9982,       4979,    23.7,  29.1920,  34.9000,2,  34.9007,2,    189.9,2,   194.0,2,    0.31,2,   -0.02,4,    0.01,4,    0.15,2,   1.401,2,   0.903,2,   1.257,2,  1948.1,2,  2297.4,2,-999.0000,9,  -999.00,-999.0000,9, -999.00,9, -999.00,9,  -999.0,9,  -999.0, -999.00,9, -999.00,9,    0.23,2,    0.00,3,  29.1862, -999.00
096U20160426,       P15S,     114,          1,         34,       2034,2,20160617,       0230,   -12.9975,  -169.9982,       4979,    49.8,  29.2060,  34.9660,2,  35.2632,2,    189.5,2,   190.7,2,    0.43,2,    0.39,2,    0.08,2,    0.22,2,   1.448,2,   0.940,2,   1.168,2,  1982.2,2,  2321.3,2,-999.0000,9,  -999.00,-999.0000,9, -999.00,9, -999.00,9,  -999.0,9,  -999.0, -999.00,9, -999.00,9,    0.39,2,    0.00,3,  29.1939, -999.00
096U20160426,       P15S,     114,          1,         33,       2033,2,20160617,       0230,   -12.9975,  -169.9982,       4979,    80.4,  27.7760,  35.9390,2,  35.9778,2,    164.9,2,   165.1,2,    0.84,2,    2.89,2,    0.59,2,    0.48,2,   1.572,6,   1.018,6,   1.168,6,  2060.6,2,  2367.6,2,-999.0000,9,  -999.00,-999.0000,9, -999.00,9, -999.00,9,  -999.0,9,  -999.0, -999.00,9, -999.00,9,    0.73,2,   -0.01,3,  27.7571, -999.00
096U20160426,       P15S,     114,          1,         32,       2032,2,20160617,       0230,   -12.9975,  -169.9982,       4979,   115.2,  25.7030,  36.1950,2,  36.2051,2,    150.5,2,   151.9,2,    0.83,2,    4.14,2,    0.86,2,    0.57,2,-999.000,9,-999.000,9,-999.000,9,  2094.5,2,  2381.9,2,-999.0000,9,  -999.00,-999.0000,9, -999.00,9, -999.00,9,  -999.0,9,  -999.0, -999.00,9, -999.00,9,    0.63,2,    0.15,3,  25.6774, -999.00
096U20160426,       P15S,     114,          1,         31,       2031,2,20160617,       0230,   -12.9975,  -169.9982,       4979,   150.9,  23.6150,  36.1740,2,  36.1456,2,    147.7,2,   151.6,2,    0.71,2,    5.87,2,    0.03,2,    0.60,2,   1.812,2,   1.172,2,   1.184,2,  2113.2,2,  2377.9,2,-999.0000,9,  -999.00,-999.0000,9, -999.00,9, -999.00,9,  -999.0,9,  -999.0, -999.00,9, -999.00,9, -999.00,9, -999.00,9,  23.5834, -999.00
096U20160426,       P15S,     114,          1,         30,       2030,2,20160617,       0230,   -12.9975,  -169.9982,       4979,   202.9,  20.3900,  35.8070,2,  35.7139,2,    151.4,2,   152.2,2,    1.53,2,    7.92,2,    0.01,4,    0.76,2,   2.077,2,   1.282,2,    1.21,2,  2131.4,2,  2351.4,2,-999.0000,9,  -999.00,-999.0000,9, -999.00,9, -999.00,9,  -999.0,9,  -999.0, -999.00,9, -999.00,9, -999.00,9, -999.00,9,  20.3518, -999.00
096U20160426,       P15S,     114,          1,         29,       2029,2,20160617,       0230,   -12.9975,  -169.9982,       4979,   250.1,  18.1330,  35.4860,2,  35.4038,2,    142.0,2,   141.1,2,    3.22,2,   10.86,2,    0.01,4,    0.99,2,   2.132,2,   1.299,2,    1.03,2,  2142.8,2,  2332.1,2,-999.0000,9,  -999.00,-999.0000,9, -999.00,9, -999.00,9,  -999.0,9,  -999.0, -999.00,9, -999.00,9, -999.00,9, -999.00,9,  18.0897, -999.00
096U20160426,       P15S,     114,          1,         28,       2028,2,20160617,       0230,   -12.9975,  -169.9982,       4979,   302.0,  15.2550,  35.1150,2,  35.0748,2,    128.1,2,   125.9,2,    6.10,2,   14.96,2,    0.01,4,    1.28,2,   2.070,2,   1.212,2,   0.893,2,  2160.3,2,  2312.3,6,-999.0000,9,  -999.00,-999.0000,9, -999.00,9, -999.00,9,  -999.0,9,  -999.0, -999.00,9, -999.00,9, -999.00,9, -999.00,9,  15.2086, -999.00
096U20160426,       P15S,     114,          1,         27,       2027,2,20160617,       0230,   -12.9975,  -169.9982,       4979,   350.7,  12.4850,  34.8220,2,  34.7609,2,    111.7,2,   113.8,2,   11.77,2,   21.16,2,    0.01,4,    1.67,2,   1.634,2,   0.913,2,    0.51,2,  2183.7,2,  2296.4,2,-999.0000,9,  -999.00,-999.0000,9, -999.00,9, -999.00,9,  -999.0,9,  -999.0, -999.00,9, -999.00,9, -999.00,9, -999.00,9,  12.4379, -999.00
096U20160426,       P15S,     114,          1,         26,       2026,2,20160617,       0230,   -12.9975,  -169.9982,       4979,   401.4,  10.2930,  34.6600,2,  34.6495,2,    116.2,2,   115.0,2,   15.96,2,   24.62,2,    0.01,4,    1.86,2,   1.248,2,   0.684,2,   0.272,2,  2195.4,2,  2295.0,2,-999.0000,9,  -999.00,-999.0000,9, -999.00,9, -999.00,9,  -999.0,9,  -999.0, -999.00,9, -999.00,9, -999.00,9, -999.00,9,  10.2453, -999.00
096U20160426,       P15S,     114,          1,         25,       2025,2,20160617,       0230,   -12.9975,  -169.9982,       4979,   501.0,   7.2790,  34.5090,2,  34.5066,2,    138.5,2,   138.0,2,   26.78,2,   29.59,2,    0.01,4,    2.08,2,   0.630,2,   0.329,2,    0.12,2,  2205.6,2,  2299.8,2,-999.0000,9,  -999.00,-999.0000,9, -999.00,9, -999.00,9,  -999.0,9,  -999.0, -999.00,9, -999.00,9, -999.00,9, -999.00,9,   7.2304, -999.00
096U20160426,       P15S,     114,          1,         24,       2024,2,20160617,       0230,   -12.9975,  -169.9982,       4979,   601.1,   6.0250,  34.4770,2,  34.4772,2,    142.5,2,   141.5,2,   37.36,2,   31.88,2,    0.01,4,    2.23,2,   0.338,2,   0.179,2,   0.041,2,  2221.2,2,  2307.2,2,-999.0000,9,  -999.00,-999.0000,9, -999.00,9, -999.00,9,  -999.0,9,  -999.0, -999.00,9, -999.00,9, -999.00,9, -999.00,9,   5.9720, -999.00
096U20160426,       P15S,     114,          1,         23,       2023,2,20160617,       0230,   -12.9975,  -169.9982,       4979,   700.9,   5.4540,  34.4890,2,  34.4877,2,    134.3,2,   133.3,2,   46.44,2,   33.62,2,    0.01,4,    2.34,2,   0.171,6,   0.093,6,       0,6,  2236.7,2,  2315.9,2,-999.0000,9,  -999.00,-999.0000,9, -999.00,9, -999.00,9,  -999.0,9,  -999.0, -999.00,9, -999.00,9, -999.00,9, -999.00,9,   5.3947, -999.00
096U20160426,       P15S,     114,          1,         22,       2022,2,20160617,       0230,   -12.9975,  -169.9982,       4979,   799.5,   5.0780,  34.4930,2,  34.4937,2,    131.1,2,   129.4,2,   52.94,2,   34.56,2,    0.01,4,    2.42,2,   0.097,2,   0.057,2,       0,2,  2243.9,2,  2321.7,2,-999.0000,9,  -999.00,-999.0000,9, -999.00,9, -999.00,9,  -999.0,9,  -999.0, -999.00,9, -999.00,9, -999.00,9, -999.00,9,   5.0121, -999.00
096U20160426,       P15S,     114,          1,         21,       2021,2,20160617,       0230,   -12.9975,  -169.9982,       4979,   899.8,   4.6580,  34.5020,2,  34.5015,2,    129.0,2,   127.2,2,   60.30,2,   35.29,2,    0.01,4,    2.47,2,   0.059,2,   0.036,2,       0,2,  2256.8,2,  2329.5,2,-999.0000,9,  -999.00,-999.0000,9, -999.00,9, -999.00,9,  -999.0,9,  -999.0, -999.00,9, -999.00,9, -999.00,9, -999.00,9,   4.5860, -999.00
096U20160426,       P15S,     114,          1,         20,       2020,2,20160617,       0230,   -12.9975,  -169.9982,       4979,  1001.1,   4.2910,  34.5150,2,  34.5122,2,    128.3,2,   126.5,2,   67.24,2,   35.70,2,    0.01,4,    2.50,2,   0.034,2,   0.023,2,       0,2,  2264.1,2,  2336.3,2,-999.0000,9,  -999.00,-999.0000,9, -999.00,9, -999.00,9,  -999.0,9,  -999.0, -999.00,9, -999.00,9, -999.00,9, -999.00,9,   4.2130, -999.00
096U20160426,       P15S,     114,          1,         19,       2019,2,20160617,       0230,   -12.9975,  -169.9982,       4979,  1101.8,   3.9630,  34.5290,2,  34.5265,2,    128.5,2,   127.0,2,   74.18,2,   35.97,2,    0.01,4,    2.53,2,   0.025,2,   0.016,2,       0,2,  2271.8,2,  2344.3,2,-999.0000,9,  -999.00,-999.0000,9, -999.00,9, -999.00,9,  -999.0,9,  -999.0, -999.00,9, -999.00,9, -999.00,9, -999.00,9,   3.8791, -999.00
096U20160426,       P15S,     114,          1,         18,       2018,2,20160617,       0230,   -12.9975,  -169.9982,       4979,  1201.0,   3.6860,  34.5430,2,  34.5417,2,    129.4,2,   127.9,2,   81.35,2,   36.23,2,    0.01,4,    2.54,2,   0.010,2,   0.008,2,       0,2,  2277.9,2,  2351.6,2,-999.0000,9,  -999.00,-999.0000,9, -999.00,9, -999.00,9,  -999.0,9,  -999.0, -999.00,9, -999.00,9, -999.00,9, -999.00,9,   3.5961, -999.00
096U20160426,       P15S,     114,          1,         17,       2017,2,20160617,       0230,   -12.9975,  -169.9982,       4979,  1300.9,   3.4190,  34.5570,2,  34.5559,2,    130.3,2,   128.6,2,   87.47,2,   36.38,2,    0.01,4,    2.55,2,-999.000,9,-999.000,9,-999.000,9,  -999.0,9,  -999.0,9,-999.0000,9,  -999.00,-999.0000,9, -999.00,9, -999.00,9,  -999.0,9,  -999.0, -999.00,9, -999.00,9, -999.00,9, -999.00,9,   3.3233, -999.00
096U20160426,       P15S,     114,          1,         16,       2016,2,20160617,       0230,   -12.9975,  -169.9982,       4979,  1401.2,   3.1680,  34.5690,2,  34.5690,2,    132.7,2,   131.6,2,   92.49,2,   36.27,2,    0.01,4,    2.54,2,   0.003,2,   0.003,2,   0.015,2,  2289.3,6,  2365.1,6,-999.0000,9,  -999.00,-999.0000,9, -999.00,9, -999.00,9,  -999.0,9,  -999.0, -999.00,9, -999.00,9, -999.00,9, -999.00,9,   3.0665, -999.00
096U20160426,       P15S,     114,          1,         15,       2015,2,20160617,       0230,   -12.9975,  -169.9982,       4979,  1601.0,   2.7410,  34.5950,2,  34.5940,2,    137.9,2,   137.1,2,  101.29,2,   36.06,2,    0.00,4,    2.52,2,   0.001,2,   0.002,2,       0,2,  2294.5,2,  2374.8,2,-999.0000,9,  -999.00,-999.0000,9, -999.00,9, -999.00,9,  -999.0,9,  -999.0, -999.00,9, -999.00,9, -999.00,9, -999.00,9,   2.6278, -999.00
096U20160426,       P15S,     114,          1,         14,       2014,2,20160617,       0230,   -12.9975,  -169.9982,       4979,  1801.1,   2.4280,  34.6160,2,  34.6147,2,    142.3,2,   141.9,2,  108.34,2,   35.81,2,    0.00,4,    2.50,2,-999.000,9,-999.000,9,-999.000,9,  -999.0,9,  -999.0,9,-999.0000,9,  -999.00,-999.0000,9, -999.00,9, -999.00,9,  -999.0,9,  -999.0, -999.00,9, -999.00,9, -999.00,9, -999.00,9,   2.3021, -999.00
096U20160426,       P15S,     114,          1,         13,       2013,2,20160617,       0230,   -12.9975,  -169.9982,       4979,  2000.7,   2.1910,  34.6330,2,  34.6320,2,    145.7,2,   145.6,2,  114.13,2,   35.65,2,    0.00,4,    2.48,2,   0.000,2,   0.003,2,   0.077,3,  2306.0,2,  2389.6,6,-999.0000,9,  -999.00,-999.0000,9, -999.00,9, -999.00,9,  -999.0,9,  -999.0, -999.00,9, -999.00,9, -999.00,9, -999.00,9,   2.0516, -999.00
096U20160426,       P15S,     114,          1,         12,       2012,2,20160617,       0230,   -12.9975,  -169.9982,       4979,  2250.8,   2.0140,  34.6500,2,  34.6487,2,    145.0,2,   145.0,2,  121.49,2,   35.77,2,    0.00,4,    2.49,2,-999.000,9,-999.000,9,-999.000,9,  -999.0,9,  -999.0,9,-999.0000,9,  -999.00,-999.0000,9, -999.00,9, -999.00,9,  -999.0,9,  -999.0, -999.00,9, -999.00,9, -999.00,9, -999.00,9,   1.8557, -999.00
096U20160426,       P15S,     114,          1,         11,       2011,2,20160617,       0230,   -12.9975,  -169.9982,       4979,  2500.9,   1.8780,  34.6620,2,  34.6606,2,    148.2,2,   148.7,2,  124.93,2,   35.59,2,    0.00,4,    2.47,2,   0.000,2,   0.001,2,       0,2,  2313.7,2,  2402.8,2,-999.0000,9,  -999.00,-999.0000,9, -999.00,9, -999.00,9,  -999.0,9,  -999.0, -999.00,9, -999.00,9, -999.00,9, -999.00,9,   1.6998, -999.00
096U20160426,       P15S,     114,          1,         10,       2010,2,20160617,       0230,   -12.9975,  -169.9982,       4979,  2749.9,   1.7810,  34.6700,2,  34.6693,2,    149.1,2,   149.0,2,  129.16,2,   35.61,2,    0.00,4,    2.47,2,-999.000,9,-999.000,9,-999.000,9,  -999.0,9,  -999.0,9,-999.0000,9,  -999.00,-999.0000,9, -999.00,9, -999.00,9,  -999.0,9,  -999.0, -999.00,9, -999.00,9, -999.00,9, -999.00,9,   1.5818, -999.00
096U20160426,       P15S,     114,          1,          9,       2009,2,20160617,       0230,   -12.9975,  -169.9982,       4979,  3000.9,   1.6910,  34.6760,2,  34.6753,2,    152.8,2,   152.5,2,  130.67,2,   35.34,2,    0.00,4,    2.45,2,   0.004,2,   0.002,2,   0.021,2,  2316.0,2,  2407.0,2,-999.0000,9,  -999.00,-999.0000,9, -999.00,9, -999.00,9,  -999.0,9,  -999.0, -999.00,9, -999.00,9, -999.00,9, -999.00,9,   1.4699, -999.00
096U20160426,       P15S,     114,          1,          8,       2008,2,20160617,       0230,   -12.9975,  -169.9982,       4979,  3301.4,   1.6200,  34.6800,2,  34.6796,2,    154.4,2,   154.1,2,  133.00,2,   35.37,2,    0.00,4,    2.45,2,-999.000,9,-999.000,9,-999.000,9,  -999.0,9,  -999.0,9,-999.0000,9,  -999.00,-999.0000,9, -999.00,9, -999.00,9,  -999.0,9,  -999.0, -999.00,9, -999.00,9, -999.00,9, -999.00,9,   1.3710, -999.00
096U20160426,       P15S,     114,          1,          7,       2007,2,20160617,       0230,   -12.9975,  -169.9982,       4979,  3601.7,   1.5310,  34.6870,2,  34.6850,2,    162.0,2,   161.2,2,  131.23,2,   34.80,2,    0.00,4,    2.41,2,   0.009,2,   0.005,2,       0,2,  2309.9,2,  2402.8,2,-999.0000,9,  -999.00,-999.0000,9, -999.00,9, -999.00,9,  -999.0,9,  -999.0, -999.00,9, -999.00,9, -999.00,9, -999.00,9,   1.2535, -999.00
096U20160426,       P15S,     114,          1,          6,       2006,2,20160617,       0230,   -12.9975,  -169.9982,       4979,  3900.3,   1.4020,  34.6980,2,  34.6978,2,    178.4,2,   179.9,2,  122.67,2,   33.37,2,    0.00,4,    2.30,2,   0.019,2,   0.012,2,       0,2,  2289.6,2,  2386.8,2,-999.0000,9,  -999.00,-999.0000,9, -999.00,9, -999.00,9,  -999.0,9,  -999.0, -999.00,9, -999.00,9, -999.00,9, -999.00,9,   1.0964, -999.00
096U20160426,       P15S,     114,          1,          5,       2005,2,20160617,       0230,   -12.9975,  -169.9982,       4979,  4200.0,   1.2800,  34.7120,2,  34.7113,2,    193.7,2,   195.9,2,  114.89,2,   32.06,2,    0.00,4,    2.20,2,-999.000,9,-999.000,9,-999.000,9,  -999.0,9,  -999.0,9,-999.0000,9,  -999.00,-999.0000,9, -999.00,9, -999.00,9,  -999.0,9,  -999.0, -999.00,9, -999.00,9, -999.00,9, -999.00,9,   0.9453, -999.00
096U20160426,       P15S,     114,          1,          4,       2004,2,20160617,       0230,   -12.9975,  -169.9982,       4979,  4501.0,   1.1180,  34.7120,2,  34.7110,2,    200.9,2,   203.6,2,  116.29,2,   31.81,2,    0.00,4,    2.18,2,   0.071,2,   0.036,2,   0.013,2,  2263.9,6,  2365.4,6,-999.0000,9,  -999.00,-999.0000,9, -999.00,9, -999.00,9,  -999.0,9,  -999.0, -999.00,9, -999.00,9, -999.00,9, -999.00,9,   0.7546, -999.00
096U20160426,       P15S,     114,          1,          3,       2003,2,20160617,       0230,   -12.9975,  -169.9982,       4979,  4850.8,   1.0720,  34.7100,2,  34.7092,2,    203.5,2,   205.3,2,  118.23,2,   31.81,2,    0.00,4,    2.18,2,-999.000,9,-999.000,9,-999.000,9,  -999.0,9,  -999.0,9,-999.0000,9,  -999.00,-999.0000,9, -999.00,9, -999.00,9,  -999.0,9,  -999.0, -999.00,9, -999.00,9, -999.00,9, -999.00,9,   0.6697, -999.00
096U20160426,       P15S,     114,          1,          2,       2002,2,20160617,       0230,   -12.9975,  -169.9982,       4979,  4980.2,   1.0850,  34.7100,2,  34.7092,2,    203.8,2,   205.2,2,  118.04,2,   31.83,2,    0.00,4,    2.18,2,   0.068,2,   0.038,2,       0,2,  2265.4,2,  2364.2,2,-999.0000,9,  -999.00,-999.0000,9, -999.00,9, -999.00,9,  -999.0,9,  -999.0, -999.00,9, -999.00,9, -999.00,9, -999.00,9,   0.6670, -999.00
096U20160426,       P15S,     114,          1,          1,       2001,2,20160617,       0230,   -12.9975,  -169.9982,       4979,  5045.1,   1.0930,  34.7100,2,  34.7085,2,    204.0,2,   206.2,2,  118.04,2,   31.85,2,    0.00,4,    2.18,2,   0.066,2,   0.036,2,       0,2,  2264.4,2,  2364.0,2,-999.0000,9,  -999.00,-999.0000,9, -999.00,9, -999.00,9,  -999.0,9,  -999.0, -999.00,9, -999.00,9, -999.00,9, -999.00,9,   0.6669, -999.00