BOTTLE,20230413CCHSIOENA
EXPOCODE,SECT_ID,STNNBR,CASTNO,SAMPNO,BTLNBR,BTLNBR_FLAG_W,DATE,TIME,LATITUDE,LONGITUDE,DEPTH,CTDPRS,CTDTMP,CTDSAL,CTDSAL_FLAG_W,SALNTY,SALNTY_FLAG_W,CTDOXY,CTDOXY_FLAG_W,OXYGEN,OXYGEN_FLAG_W,SILCAT,SILCAT_FLAG_W,NITRAT,NITRAT_FLAG_W,NITRIT,NITRIT_FLAG_W,PHSPHT,PHSPHT_FLAG_W,CFC-11,CFC-11_FLAG_W,CFC-12,CFC-12_FLAG_W,SF6,SF6_FLAG_W,TCARBN,TCARBN_FLAG_W,ALKALI,ALKALI_FLAG_W,PH_TOT,PH_TOT_FLAG_W,PH_TMP,HELIUM,HELIUM_FLAG_W,DELHE3,DELHE3_FLAG_W,DELC13,DELC13_FLAG_W,DELC14,DELC14_FLAG_W,C14ERR,POC,POC_FLAG_W,PON,PON_FLAG_W,CHLORA,CHLORA_FLAG_W,PPHYTN,PPHYTN_FLAG_W,THETA,DELHER
,,,,,,,,,,,METERS,DBAR,ITS-90,PSS-78,,PSS-78,,UMOL/KG,,UMOL/KG,,UMOL/KG,,UMOL/KG,,UMOL/KG,,UMOL/KG,,PMOL/KG,,PMOL/KG,,FMOL/KG,,UMOL/KG,,UMOL/KG,,,,DEG C,NMOL/KG,,PERCNT,,/MILLE,,/MILLE,,/MILLE,UG/KG,,UG/KG,,UG/KG,,UG/KG,,DEG C,PERCNT
096U20160426,       P15S,      81,          1,         36,       2036,2,20160606,       1137,   -28.9991,  -169.9838,       5603,     5.7,  22.1530,  35.8410,2,  35.8401,2,    215.7,2,   216.9,2,    0.32,2,    0.01,4,    0.01,4,    0.03,2,-999.000,9,-999.000,9,-999.000,9,  2033.8,2,  2351.0,2,-999.0000,9,  -999.00,-999.0000,9, -999.00,9, -999.00,9,  -999.0,9,  -999.0, -999.00,9, -999.00,9,    0.42,2,   -0.07,3,  22.1519, -999.00
096U20160426,       P15S,      81,          1,         35,       2035,2,20160606,       1137,   -28.9991,  -169.9838,       5603,    19.9,  22.1530,  35.8410,2,  35.8402,2,    216.4,2,   216.7,2,    0.31,2,    0.01,4,    0.01,4,    0.03,2,-999.000,9,-999.000,9,-999.000,9,  -999.0,9,  -999.0,9,-999.0000,9,  -999.00,-999.0000,9, -999.00,9, -999.00,9,  -999.0,9,  -999.0, -999.00,9, -999.00,9,    0.29,2,    0.01,3,  22.1490, -999.00
096U20160426,       P15S,      81,          1,         34,       2034,2,20160606,       1137,   -28.9991,  -169.9838,       5603,    40.1,  22.1550,  35.8410,2,  35.8405,2,    215.7,2,   216.8,2,    0.30,2,    0.01,4,    0.01,4,    0.03,2,-999.000,9,-999.000,9,-999.000,9,  -999.0,9,  -999.0,9,-999.0000,9,  -999.00,-999.0000,9, -999.00,9, -999.00,9,  -999.0,9,  -999.0, -999.00,9, -999.00,9, -999.00,9, -999.00,9,  22.1470, -999.00
096U20160426,       P15S,      81,          1,         33,       2033,2,20160606,       1137,   -28.9991,  -169.9838,       5603,    66.0,  22.1670,  35.8410,2,  35.8402,2,    216.7,2,   216.6,2,    0.25,2,    0.01,4,    0.01,4,    0.03,2,-999.000,9,-999.000,9,-999.000,9,  -999.0,9,  -999.0,9,-999.0000,9,  -999.00,-999.0000,9, -999.00,9, -999.00,9,  -999.0,9,  -999.0, -999.00,9, -999.00,9,    0.26,2,    0.05,3,  22.1538, -999.00
096U20160426,       P15S,      81,          1,         32,       2032,2,20160606,       1137,   -28.9991,  -169.9838,       5603,    92.0,  22.3380,  35.8510,2,  35.8366,2,    214.7,2,   217.0,2,    0.26,2,    0.01,4,    0.01,4,    0.03,2,-999.000,9,-999.000,9,-999.000,9,  -999.0,9,  -999.0,9,-999.0000,9,  -999.00,-999.0000,9, -999.00,9, -999.00,9,  -999.0,9,  -999.0, -999.00,9, -999.00,9,    0.51,2,   -0.10,3,  22.3195, -999.00
096U20160426,       P15S,      81,          1,         31,       2031,2,20160606,       1137,   -28.9991,  -169.9838,       5603,   136.1,  19.1980,  35.7020,2,  35.6800,2,    205.7,2,   206.1,2,    0.62,2,    1.65,2,    0.04,2,    0.20,2,-999.000,9,-999.000,9,-999.000,9,  -999.0,9,  -999.0,9,-999.0000,9,  -999.00,-999.0000,9, -999.00,9, -999.00,9,  -999.0,9,  -999.0, -999.00,9, -999.00,9,    0.39,2,    0.08,3,  19.1735, -999.00
096U20160426,       P15S,      81,          1,         30,       2030,2,20160606,       1137,   -28.9991,  -169.9838,       5603,   186.3,  17.7810,  35.5510,2,  35.5538,2,    198.0,2,   199.2,2,    0.89,2,    3.39,2,    0.02,2,    0.31,2,-999.000,9,-999.000,9,-999.000,9,  -999.0,9,  -999.0,9,-999.0000,9,  -999.00,-999.0000,9, -999.00,9, -999.00,9,  -999.0,9,  -999.0, -999.00,9, -999.00,9, -999.00,9, -999.00,9,  17.7492, -999.00
096U20160426,       P15S,      81,          1,         29,       2029,2,20160606,       1137,   -28.9991,  -169.9838,       5603,   236.6,  17.0210,  35.5310,2,  35.5200,2,    203.2,2,   204.0,2,    1.05,2,    3.90,2,    0.02,4,    0.34,2,-999.000,9,-999.000,9,-999.000,9,  -999.0,9,  -999.0,9,-999.0000,9,  -999.00,-999.0000,9, -999.00,9, -999.00,9,  -999.0,9,  -999.0, -999.00,9, -999.00,9, -999.00,9, -999.00,9,  16.9817, -999.00
096U20160426,       P15S,      81,          1,         28,       2028,2,20160606,       1137,   -28.9991,  -169.9838,       5603,   285.8,  15.9000,  35.4040,2,  35.4148,2,    203.0,2,   204.7,2,    1.47,2,    5.14,2,    0.01,4,    0.43,2,-999.000,9,-999.000,9,-999.000,9,  -999.0,9,  -999.0,9,-999.0000,9,  -999.00,-999.0000,9, -999.00,9, -999.00,9,  -999.0,9,  -999.0, -999.00,9, -999.00,9, -999.00,9, -999.00,9,  15.8547, -999.00
096U20160426,       P15S,      81,          1,         27,       2027,2,20160606,       1137,   -28.9991,  -169.9838,       5603,   335.7,  14.6380,  35.2050,2,  35.1920,2,    193.5,2,   194.1,2,    2.34,2,    8.21,2,    0.01,4,    0.64,2,-999.000,9,-999.000,9,-999.000,9,  -999.0,9,  -999.0,9,-999.0000,9,  -999.00,-999.0000,9, -999.00,9, -999.00,9,  -999.0,9,  -999.0, -999.00,9, -999.00,9, -999.00,9, -999.00,9,  14.5877, -999.00
096U20160426,       P15S,      81,          1,         26,       2026,2,20160606,       1137,   -28.9991,  -169.9838,       5603,   376.3,  13.4240,  35.0580,2,  35.0509,2,    193.7,2,   194.7,2,    2.85,2,   10.29,2,    0.01,4,    0.77,2,-999.000,9,-999.000,9,-999.000,9,  -999.0,9,  -999.0,9,-999.0000,9,  -999.00,-999.0000,9, -999.00,9, -999.00,9,  -999.0,9,  -999.0, -999.00,9, -999.00,9, -999.00,9, -999.00,9,  13.3708, -999.00
096U20160426,       P15S,      81,          1,         25,       2025,2,20160606,       1137,   -28.9991,  -169.9838,       5603,   465.0,  11.5010,  34.8830,2,  34.8788,2,    201.1,2,   202.7,2,    3.95,2,   13.56,2,    0.01,4,    0.97,2,-999.000,9,-999.000,9,-999.000,9,  -999.0,9,  -999.0,9,-999.0000,9,  -999.00,-999.0000,9, -999.00,9, -999.00,9,  -999.0,9,  -999.0, -999.00,9, -999.00,9, -999.00,9, -999.00,9,  11.4414, -999.00
096U20160426,       P15S,      81,          1,         24,       2024,2,20160606,       1137,   -28.9991,  -169.9838,       5603,   565.6,   9.0570,  34.5970,2,  34.5949,2,    214.0,2,   215.8,2,    5.47,2,   18.22,2,    0.01,4,    1.26,2,-999.000,9,-999.000,9,-999.000,9,  -999.0,9,  -999.0,9,-999.0000,9,  -999.00,-999.0000,9, -999.00,9, -999.00,9,  -999.0,9,  -999.0, -999.00,9, -999.00,9, -999.00,9, -999.00,9,   8.9943, -999.00
096U20160426,       P15S,      81,          1,         23,       2023,2,20160606,       1137,   -28.9991,  -169.9838,       5603,   665.2,   7.5770,  34.4270,2,  34.4246,2,    224.3,2,   226.7,2,    6.88,2,   21.21,2,    0.01,4,    1.45,2,-999.000,9,-999.000,9,-999.000,9,  -999.0,9,  -999.0,9,-999.0000,9,  -999.00,-999.0000,9, -999.00,9, -999.00,9,  -999.0,9,  -999.0, -999.00,9, -999.00,9, -999.00,9, -999.00,9,   7.5103, -999.00
096U20160426,       P15S,      81,          1,         22,       2022,2,20160606,       1137,   -28.9991,  -169.9838,       5603,   765.5,   6.7160,  34.3560,2,  34.3555,2,    231.8,2,   234.2,2,    8.77,2,   23.10,2,    0.01,4,    1.56,2,-999.000,9,-999.000,9,-999.000,9,  2148.0,2,  2279.0,2,-999.0000,9,  -999.00,-999.0000,9, -999.00,9, -999.00,9,  -999.0,9,  -999.0, -999.00,9, -999.00,9, -999.00,9, -999.00,9,   6.6437, -999.00
096U20160426,       P15S,      81,          1,         21,       2021,2,20160606,       1137,   -28.9991,  -169.9838,       5603,   865.2,   6.0090,  34.3240,2,  34.3233,2,    224.9,2,   227.6,2,   12.60,2,   25.31,2,    0.01,4,    1.71,2,-999.000,9,-999.000,9,-999.000,9,  -999.0,9,  -999.0,9,-999.0000,9,  -999.00,-999.0000,9, -999.00,9, -999.00,9,  -999.0,9,  -999.0, -999.00,9, -999.00,9, -999.00,9, -999.00,9,   5.9314, -999.00
096U20160426,       P15S,      81,          1,         20,       2020,2,20160606,       1137,   -28.9991,  -169.9838,       5603,   965.1,   5.5380,  34.3170,2,  34.3169,2,    214.0,2,   217.5,2,   17.50,2,   27.20,2,    0.01,4,    1.84,2,-999.000,9,-999.000,9,-999.000,9,  -999.0,9,  -999.0,9,-999.0000,9,  -999.00,-999.0000,9, -999.00,9, -999.00,9,  -999.0,9,  -999.0, -999.00,9, -999.00,9, -999.00,9, -999.00,9,   5.4542, -999.00
096U20160426,       P15S,      81,          1,         19,       2019,2,20160606,       1137,   -28.9991,  -169.9838,       5603,  1066.3,   4.9710,  34.3220,2,  34.3227,2,    203.6,2,   205.6,2,   25.19,2,   29.30,2,    0.01,4,    1.99,2,-999.000,9,-999.000,9,-999.000,9,  -999.0,9,  -999.0,9,-999.0000,9,  -999.00,-999.0000,9, -999.00,9, -999.00,9,  -999.0,9,  -999.0, -999.00,9, -999.00,9, -999.00,9, -999.00,9,   4.8822, -999.00
096U20160426,       P15S,      81,          1,         18,       2018,2,20160606,       1137,   -28.9991,  -169.9838,       5603,  1146.2,   4.4920,  34.3490,2,  34.3483,2,    192.8,2,   194.3,2,   33.86,2,   30.87,2,    0.01,4,    2.10,2,-999.000,9,-999.000,9,-999.000,9,  -999.0,9,  -999.0,9,-999.0000,9,  -999.00,-999.0000,9, -999.00,9, -999.00,9,  -999.0,9,  -999.0, -999.00,9, -999.00,9, -999.00,9, -999.00,9,   4.4000, -999.00
096U20160426,       P15S,      81,          1,         17,       2017,2,20160606,       1137,   -28.9991,  -169.9838,       5603,  1300.7,   3.5590,  34.4200,2,  34.4183,2,    176.1,2,   177.9,2,   53.53,2,   33.14,2,    0.01,4,    2.27,2,-999.000,9,-999.000,9,-999.000,9,  -999.0,9,  -999.0,9,-999.0000,9,  -999.00,-999.0000,9, -999.00,9, -999.00,9,  -999.0,9,  -999.0, -999.00,9, -999.00,9, -999.00,9, -999.00,9,   3.4622, -999.00
096U20160426,       P15S,      81,          1,         16,       2016,2,20160606,       1137,   -28.9991,  -169.9838,       5603,  1439.8,   3.0840,  34.4840,2,  34.4828,2,    166.9,2,   168.4,2,   68.34,2,   33.94,2,    0.01,4,    2.34,2,-999.000,9,-999.000,9,-999.000,9,  -999.0,9,  -999.0,9,-999.0000,9,  -999.00,-999.0000,9, -999.00,9, -999.00,9,  -999.0,9,  -999.0, -999.00,9, -999.00,9, -999.00,9, -999.00,9,   2.9804, -999.00
096U20160426,       P15S,      81,          1,         15,       2015,2,20160606,       1137,   -28.9991,  -169.9838,       5603,  1635.8,   2.7220,  34.5570,2,  34.5561,2,    157.2,2,   158.4,2,   87.25,2,   34.53,2,    0.01,4,    2.39,2,-999.000,9,-999.000,9,-999.000,9,  -999.0,9,  -999.0,9,-999.0000,9,  -999.00,-999.0000,9, -999.00,9, -999.00,9,  -999.0,9,  -999.0, -999.00,9, -999.00,9, -999.00,9, -999.00,9,   2.6062, -999.00
096U20160426,       P15S,      81,          1,         14,       2014,2,20160606,       1137,   -28.9991,  -169.9838,       5603,  1825.8,   2.4770,  34.5990,2,  34.5983,2,    151.0,2,   152.0,2,  101.05,2,   34.95,2,    0.01,4,    2.43,2,-999.000,9,-999.000,9,-999.000,9,  -999.0,9,  -999.0,9,-999.0000,9,  -999.00,-999.0000,9, -999.00,9, -999.00,9,  -999.0,9,  -999.0, -999.00,9, -999.00,9, -999.00,9, -999.00,9,   2.3484, -999.00
096U20160426,       P15S,      81,          1,         13,       2013,2,20160606,       1137,   -28.9991,  -169.9838,       5603,  2065.5,   2.2720,  34.6260,2,  34.6243,2,    147.1,2,   148.1,2,  112.17,2,   35.39,2,    0.01,4,    2.46,2,-999.000,9,-999.000,9,-999.000,9,  -999.0,9,  -999.0,9,-999.0000,9,  -999.00,-999.0000,9, -999.00,9, -999.00,9,  -999.0,9,  -999.0, -999.00,9, -999.00,9, -999.00,9, -999.00,9,   2.1258, -999.00
096U20160426,       P15S,      81,          1,         12,       2012,2,20160606,       1137,   -28.9991,  -169.9838,       5603,  2316.3,   2.1290,  34.6400,2,  34.6395,2,    145.7,2,   146.7,2,  119.19,2,   35.54,2,    0.01,4,    2.48,2,-999.000,9,-999.000,9,-999.000,9,  -999.0,9,  -999.0,9,-999.0000,9,  -999.00,-999.0000,9, -999.00,9, -999.00,9,  -999.0,9,  -999.0, -999.00,9, -999.00,9, -999.00,9, -999.00,9,   1.9630, -999.00
096U20160426,       P15S,      81,          1,         11,       2011,2,20160606,       1137,   -28.9991,  -169.9838,       5603,  2565.6,   2.0030,  34.6520,2,  34.6510,2,    145.8,2,   147.2,2,  124.24,2,   35.62,2,    0.01,4,    2.48,2,-999.000,9,-999.000,9,-999.000,9,  2314.2,2,  2398.8,2,-999.0000,9,  -999.00,-999.0000,9, -999.00,9, -999.00,9,  -999.0,9,  -999.0, -999.00,9, -999.00,9, -999.00,9, -999.00,9,   1.8166, -999.00
096U20160426,       P15S,      81,          1,         10,       2010,2,20160606,       1137,   -28.9991,  -169.9838,       5603,  2815.1,   1.8870,  34.6630,2,  34.6624,2,    147.6,2,   148.7,2,  127.43,2,   35.45,2,    0.00,4,    2.47,2,-999.000,9,-999.000,9,-999.000,9,  -999.0,9,  -999.0,9,-999.0000,9,  -999.00,-999.0000,9, -999.00,9, -999.00,9,  -999.0,9,  -999.0, -999.00,9, -999.00,9, -999.00,9, -999.00,9,   1.6795, -999.00
096U20160426,       P15S,      81,          1,          9,       2009,2,20160606,       1137,   -28.9991,  -169.9838,       5603,  3079.9,   1.7460,  34.6790,2,  34.6786,2,    156.2,2,   157.8,2,  126.04,2,   34.70,2,    0.01,4,    2.41,2,-999.000,9,-999.000,9,-999.000,9,  -999.0,9,  -999.0,9,-999.0000,9,  -999.00,-999.0000,9, -999.00,9, -999.00,9,  -999.0,9,  -999.0, -999.00,9, -999.00,9, -999.00,9, -999.00,9,   1.5160, -999.00
096U20160426,       P15S,      81,          1,          8,       2008,2,20160606,       1137,   -28.9991,  -169.9838,       5603,  3364.6,   1.6340,  34.7000,2,  34.6997,2,    171.9,2,   174.8,2,  117.28,2,   33.18,2,    0.01,4,    2.29,2,-999.000,9,-999.000,9,-999.000,9,  -999.0,9,  -999.0,9,-999.0000,9,  -999.00,-999.0000,9, -999.00,9, -999.00,9,  -999.0,9,  -999.0, -999.00,9, -999.00,9, -999.00,9, -999.00,9,   1.3782, -999.00
096U20160426,       P15S,      81,          1,          7,       2007,2,20160606,       1137,   -28.9991,  -169.9838,       5603,  3752.3,   1.3880,  34.7290,2,  34.7177,2,    192.3,2,   195.7,2,  111.18,2,   31.68,2,    0.01,4,    2.18,2,-999.000,9,-999.000,9,-999.000,9,  -999.0,9,  -999.0,9,-999.0000,9,  -999.00,-999.0000,9, -999.00,9, -999.00,9,  -999.0,9,  -999.0, -999.00,9, -999.00,9, -999.00,9, -999.00,9,   1.0984, -999.00
096U20160426,       P15S,      81,          1,          6,       2006,2,20160606,       1137,   -28.9991,  -169.9838,       5603,  4089.0,   1.1800,  34.7160,2,  34.7151,2,    199.0,2,   202.5,2,  115.15,2,   31.66,2,    0.01,4,    2.17,2,-999.000,9,-999.000,9,-999.000,9,  -999.0,9,  -999.0,9,-999.0000,9,  -999.00,-999.0000,9, -999.00,9, -999.00,9,  -999.0,9,  -999.0, -999.00,9, -999.00,9, -999.00,9, -999.00,9,   0.8603, -999.00
096U20160426,       P15S,      81,          1,          5,       2005,2,20160606,       1137,   -28.9991,  -169.9838,       5603,  4492.0,   1.0550,  34.7110,2,  34.7090,2,    202.8,2,   205.4,2,  119.14,2,   31.79,2,    0.01,4,    2.18,2,-999.000,9,-999.000,9,-999.000,9,  -999.0,9,  -999.0,9,-999.0000,9,  -999.00,-999.0000,9, -999.00,9, -999.00,9,  -999.0,9,  -999.0, -999.00,9, -999.00,9, -999.00,9, -999.00,9,   0.6946, -999.00
096U20160426,       P15S,      81,          1,          4,       2004,2,20160606,       1137,   -28.9991,  -169.9838,       5603,  4895.0,   1.0430,  34.7090,2,  34.7080,2,    204.9,2,   206.0,2,  120.71,2,   31.85,2,    0.01,4,    2.19,2,-999.000,9,-999.000,9,-999.000,9,  -999.0,9,  -999.0,9,-999.0000,9,  -999.00,-999.0000,9, -999.00,9, -999.00,9,  -999.0,9,  -999.0, -999.00,9, -999.00,9, -999.00,9, -999.00,9,   0.6365, -999.00
096U20160426,       P15S,      81,          1,          3,       2003,2,20160606,       1137,   -28.9991,  -169.9838,       5603,  5295.6,   1.0840,  34.7080,2,  34.7075,2,    206.0,2,   206.2,2,  121.07,2,   31.99,2,    0.01,4,    2.19,2,-999.000,9,-999.000,9,-999.000,9,  -999.0,9,  -999.0,9,-999.0000,9,  -999.00,-999.0000,9, -999.00,9, -999.00,9,  -999.0,9,  -999.0, -999.00,9, -999.00,9, -999.00,9, -999.00,9,   0.6278, -999.00
096U20160426,       P15S,      81,          1,          2,       2002,2,20160606,       1137,   -28.9991,  -169.9838,       5603,  5500.2,   1.1090,  34.7080,2,  34.7075,2,    206.5,2,   205.9,2,  121.11,2,   31.88,2,    0.01,4,    2.19,2,-999.000,9,-999.000,9,-999.000,9,  2264.4,2,  2367.3,2,-999.0000,9,  -999.00,-999.0000,9, -999.00,9, -999.00,9,  -999.0,9,  -999.0, -999.00,9, -999.00,9, -999.00,9, -999.00,9,   0.6264, -999.00
096U20160426,       P15S,      81,          1,          1,       2001,2,20160606,       1137,   -28.9991,  -169.9838,       5603,  5705.1,   1.1350,  34.7080,2,  34.7074,2,    206.8,2,   206.0,2,  121.34,2,   31.88,2,    0.01,4,    2.19,2,-999.000,9,-999.000,9,-999.000,9,  -999.0,9,  -999.0,9,-999.0000,9,  -999.00,-999.0000,9, -999.00,9, -999.00,9,  -999.0,9,  -999.0, -999.00,9, -999.00,9, -999.00,9, -999.00,9,   0.6255, -999.00