BOTTLE,20230413CCHSIOENA
EXPOCODE,SECT_ID,STNNBR,CASTNO,SAMPNO,BTLNBR,BTLNBR_FLAG_W,DATE,TIME,LATITUDE,LONGITUDE,DEPTH,CTDPRS,CTDTMP,CTDSAL,CTDSAL_FLAG_W,SALNTY,SALNTY_FLAG_W,CTDOXY,CTDOXY_FLAG_W,OXYGEN,OXYGEN_FLAG_W,SILCAT,SILCAT_FLAG_W,NITRAT,NITRAT_FLAG_W,NITRIT,NITRIT_FLAG_W,PHSPHT,PHSPHT_FLAG_W,CFC-11,CFC-11_FLAG_W,CFC-12,CFC-12_FLAG_W,SF6,SF6_FLAG_W,TCARBN,TCARBN_FLAG_W,ALKALI,ALKALI_FLAG_W,PH_TOT,PH_TOT_FLAG_W,PH_TMP,HELIUM,HELIUM_FLAG_W,DELHE3,DELHE3_FLAG_W,DELC13,DELC13_FLAG_W,DELC14,DELC14_FLAG_W,C14ERR,POC,POC_FLAG_W,PON,PON_FLAG_W,CHLORA,CHLORA_FLAG_W,PPHYTN,PPHYTN_FLAG_W,THETA,DELHER
,,,,,,,,,,,METERS,DBAR,ITS-90,PSS-78,,PSS-78,,UMOL/KG,,UMOL/KG,,UMOL/KG,,UMOL/KG,,UMOL/KG,,UMOL/KG,,PMOL/KG,,PMOL/KG,,FMOL/KG,,UMOL/KG,,UMOL/KG,,,,DEG C,NMOL/KG,,PERCNT,,/MILLE,,/MILLE,,/MILLE,UG/KG,,UG/KG,,UG/KG,,UG/KG,,DEG C,PERCNT
096U20160426,       P15S,     130,          1,         36,       2036,2,20160621,       1518,    -4.9981,  -168.7502,       5583,     5.0,  30.3730,  34.9780,2,  34.9776,2,    185.6,2,   191.4,2,    0.73,2,   -0.02,4,    0.00,4,    0.15,2,   1.353,2,   0.866,2,   1.193,2,  1953.2,2,  2300.2,2,-999.0000,9,  -999.00,-999.0000,9, -999.00,9,    1.36,2,    36.7,2,     2.0, -999.00,9, -999.00,9,    0.32,2,   -0.03,3,  30.3717, -999.00
096U20160426,       P15S,     130,          1,         35,       2035,2,20160621,       1518,    -4.9981,  -168.7502,       5583,    35.4,  30.3870,  34.9780,2,  34.9782,2,    185.9,2,   191.2,2,    0.72,2,   -0.02,4,    0.00,4,    0.15,2,-999.000,9,-999.000,9,-999.000,9,  -999.0,9,  -999.0,9,-999.0000,9,  -999.00,-999.0000,9, -999.00,9, -999.00,9,  -999.0,9,  -999.0, -999.00,9, -999.00,9,    0.28,2,   -0.03,3,  30.3781, -999.00
096U20160426,       P15S,     130,          1,         34,       2034,2,20160621,       1518,    -4.9981,  -168.7502,       5583,    62.1,  30.3970,  34.9790,2,  34.9799,2,    185.8,2,   191.4,2,    0.72,2,   -0.02,4,    0.00,4,    0.15,2,   1.359,6,   0.867,6,   1.188,6,  1953.2,6,  2300.6,6,-999.0000,9,  -999.00,-999.0000,9, -999.00,9,    1.29,2,    40.0,2,     2.0, -999.00,9, -999.00,9,    0.36,2,   -0.07,3,  30.3814, -999.00
096U20160426,       P15S,     130,          1,         33,       2033,2,20160621,       1518,    -4.9981,  -168.7502,       5583,   101.1,  29.9760,  35.6360,2,  35.6799,2,    188.8,2,   193.1,2,    1.03,2,    0.07,2,    0.04,2,    0.24,2,   1.418,2,   0.912,2,   1.191,2,  2001.9,2,  2350.0,2,-999.0000,9,  -999.00,-999.0000,9, -999.00,9, -999.00,9,  -999.0,9,  -999.0, -999.00,9, -999.00,9,    0.98,2,   -0.18,3,  29.9509, -999.00
096U20160426,       P15S,     130,          1,         32,       2032,2,20160621,       1518,    -4.9981,  -168.7502,       5583,   124.6,  27.7580,  36.0490,2,  36.1039,2,    164.3,2,   166.9,2,    1.49,2,    2.37,2,    1.07,2,    0.50,2,   1.510,2,   0.980,2,   1.268,2,  2062.2,2,  2376.5,2,-999.0000,9,  -999.00,-999.0000,9, -999.00,9,    1.12,2,    34.1,2,     2.0, -999.00,9, -999.00,9,    0.59,2,    0.16,3,  27.7287, -999.00
096U20160426,       P15S,     130,          1,         31,       2031,2,20160621,       1518,    -4.9981,  -168.7502,       5583,   186.5,  17.0800,  35.3860,2,  35.3170,2,    105.3,2,   101.9,2,    8.93,2,   17.27,2,    0.01,4,    1.43,2,   1.798,2,   1.088,2,   0.917,2,  2175.5,2,  2325.1,2,-999.0000,9,  -999.00,-999.0000,9, -999.00,9,    0.53,2,    33.4,2,     2.0, -999.00,9, -999.00,9, -999.00,9, -999.00,9,  17.0491, -999.00
096U20160426,       P15S,     130,          1,         30,       2030,2,20160621,       1518,    -4.9981,  -168.7502,       5583,   240.4,  12.2260,  34.9190,2,  34.9140,2,    104.6,2,   103.6,2,   16.36,2,   23.56,2,    0.00,4,    1.72,2,   1.436,2,   0.816,2,   0.473,2,  2190.2,2,  2306.3,2,-999.0000,9,  -999.00,-999.0000,9, -999.00,9,    0.54,2,    -1.5,2,     2.0, -999.00,9, -999.00,9, -999.00,9, -999.00,9,  12.1942, -999.00
096U20160426,       P15S,     130,          1,         29,       2029,2,20160621,       1518,    -4.9981,  -168.7502,       5583,   290.8,  10.8700,  34.8040,2,  34.7991,2,     67.8,2,    63.4,2,   23.01,2,   29.60,2,    0.00,4,    2.15,2,   0.892,2,   0.494,2,   0.175,2,  2227.2,2,  2301.8,2,-999.0000,9,  -999.00,-999.0000,9, -999.00,9,    0.35,2,   -22.6,2,     2.0, -999.00,9, -999.00,9, -999.00,9, -999.00,9,  10.8343, -999.00
096U20160426,       P15S,     130,          1,         28,       2028,2,20160621,       1518,    -4.9981,  -168.7502,       5583,   315.8,  10.4710,  34.7740,2,  34.7620,2,     71.7,2,    71.7,2,   24.21,2,   30.01,2,    0.00,4,    2.15,2,   0.842,2,   0.463,2,   0.154,2,  2225.2,2,  2301.6,2,-999.0000,9,  -999.00,-999.0000,9, -999.00,9,    0.42,2,   -33.6,2,     2.0, -999.00,9, -999.00,9, -999.00,9, -999.00,9,  10.4332, -999.00
096U20160426,       P15S,     130,          1,         27,       2027,2,20160621,       1518,    -4.9981,  -168.7502,       5583,   365.1,   9.7060,  34.7190,2,  34.7134,2,     98.4,2,   100.4,2,   23.65,2,   28.76,2,    0.00,4,    2.02,2,   0.951,2,   0.514,2,   0.212,2,  2211.0,2,  2300.9,2,-999.0000,9,  -999.00,-999.0000,9, -999.00,9,    0.49,2,   -37.2,2,     2.0, -999.00,9, -999.00,9, -999.00,9, -999.00,9,   9.6642, -999.00
096U20160426,       P15S,     130,          1,         26,       2026,2,20160621,       1518,    -4.9981,  -168.7502,       5583,   435.9,   8.9550,  34.6660,2,  34.6558,2,    103.5,2,   102.4,2,   27.09,2,   30.41,2,    0.00,4,    2.12,2,   0.781,6,   0.421,6,   0.151,6,  2216.2,2,  2300.4,2,-999.0000,9,  -999.00,-999.0000,9, -999.00,9,    0.57,2,   -51.6,2,     2.0, -999.00,9, -999.00,9, -999.00,9, -999.00,9,   8.9073, -999.00
096U20160426,       P15S,     130,          1,         25,       2025,2,20160621,       1518,    -4.9981,  -168.7502,       5583,   555.7,   7.6290,  34.5870,2,  34.5861,2,    111.6,2,   111.5,2,   32.06,2,   31.99,2,    0.00,4,    2.23,2,   0.556,2,   0.300,2,   0.069,2,  2222.8,2,  2303.8,2,-999.0000,9,  -999.00,-999.0000,9, -999.00,9,    0.64,2,   -75.3,2,     2.0, -999.00,9, -999.00,9, -999.00,9, -999.00,9,   7.5733, -999.00
096U20160426,       P15S,     130,          1,         24,       2024,2,20160621,       1518,    -4.9981,  -168.7502,       5583,   635.9,   6.7140,  34.5570,2,  34.5572,2,     88.6,2,    85.9,2,   43.58,2,   36.58,2,    0.00,4,    2.56,2,   0.160,2,   0.088,2,       0,2,  2252.3,2,  2311.4,2,-999.0000,9,  -999.00,-999.0000,9, -999.00,9,    0.55,2,  -113.8,2,     2.0, -999.00,9, -999.00,9, -999.00,9, -999.00,9,   6.6543, -999.00
096U20160426,       P15S,     130,          1,         23,       2023,2,20160621,       1518,    -4.9981,  -168.7502,       5583,   735.0,   6.0150,  34.5420,2,  34.5405,2,     85.8,2,    82.3,2,   53.08,2,   38.30,2,    0.00,4,    2.69,2,   0.067,2,   0.038,2,   0.038,2,  2265.3,2,  2320.0,6,-999.0000,9,  -999.00,-999.0000,9, -999.00,9, -999.00,9,  -999.0,9,  -999.0, -999.00,9, -999.00,9, -999.00,9, -999.00,9,   5.9494, -999.00
096U20160426,       P15S,     130,          1,         22,       2022,2,20160621,       1518,    -4.9981,  -168.7502,       5583,   800.5,   5.4200,  34.5400,2,  34.5381,2,     85.5,2,    81.2,2,   60.96,2,   39.10,2,    0.00,4,    2.76,2,   0.030,2,   0.020,2,       0,2,  2275.4,2,  2327.3,2,-999.0000,9,  -999.00,-999.0000,9, -999.00,9,    0.38,2,  -144.5,2,     2.0, -999.00,9, -999.00,9, -999.00,9, -999.00,9,   5.3518, -999.00
096U20160426,       P15S,     130,          1,         21,       2021,2,20160621,       1518,    -4.9981,  -168.7502,       5583,   935.5,   4.8630,  34.5400,2,  34.5405,2,     89.9,2,    86.0,2,   70.96,2,   39.22,2,    0.00,4,    2.78,2,   0.012,2,   0.008,2,       0,2,  2285.3,2,  2338.5,2,-999.0000,9,  -999.00,-999.0000,9, -999.00,9, -999.00,9,  -999.0,9,  -999.0, -999.00,9, -999.00,9, -999.00,9, -999.00,9,   4.7864, -999.00
096U20160426,       P15S,     130,          1,         20,       2020,2,20160621,       1518,    -4.9981,  -168.7502,       5583,  1035.9,   4.3600,  34.5480,2,  34.5468,2,     97.5,2,    94.1,2,   79.98,2,   38.81,2,    0.00,4,    2.77,2,   0.006,2,   0.004,2,       0,2,  2290.7,2,  2349.6,2,-999.0000,9,  -999.00,-999.0000,9, -999.00,9,    0.41,2,  -174.2,2,     2.0, -999.00,9, -999.00,9, -999.00,9, -999.00,9,   4.2784, -999.00
096U20160426,       P15S,     130,          1,         19,       2019,2,20160621,       1518,    -4.9981,  -168.7502,       5583,  1135.0,   4.0280,  34.5570,2,  34.5561,2,    102.7,2,   100.0,2,   86.86,2,   38.44,2,    0.00,4,    2.74,2,   0.009,2,   0.005,2,       0,2,  2297.0,2,  2357.7,2,-999.0000,9,  -999.00,-999.0000,9, -999.00,9, -999.00,9,  -999.0,9,  -999.0, -999.00,9, -999.00,9, -999.00,9, -999.00,9,   3.9406, -999.00
096U20160426,       P15S,     130,          1,         18,       2018,2,20160621,       1518,    -4.9981,  -168.7502,       5583,  1236.7,   3.6260,  34.5690,2,  34.5675,2,    110.3,2,   108.3,2,   94.68,2,   37.92,2,    0.00,4,    2.70,2,   0.011,2,   0.007,2,       0,2,  2301.2,2,  2366.6,2,-999.0000,9,  -999.00,-999.0000,9, -999.00,9,    0.35,2,  -192.2,2,     2.0, -999.00,9, -999.00,9, -999.00,9, -999.00,9,   3.5336, -999.00
096U20160426,       P15S,     130,          1,         17,       2017,2,20160621,       1518,    -4.9981,  -168.7502,       5583,  1336.5,   3.2390,  34.5860,2,  34.5848,2,    111.1,2,   109.3,2,  104.01,2,   38.14,2,    0.00,4,    2.72,2,-999.000,9,-999.000,9,-999.000,9,  -999.0,9,  -999.0,9,-999.0000,9,  -999.00,-999.0000,9, -999.00,9, -999.00,9,  -999.0,9,  -999.0, -999.00,9, -999.00,9, -999.00,9, -999.00,9,   3.1421, -999.00
096U20160426,       P15S,     130,          1,         16,       2016,2,20160621,       1518,    -4.9981,  -168.7502,       5583,  1465.9,   2.9360,  34.5990,2,  34.6004,2,    114.7,2,   113.2,2,  111.53,2,   37.93,2,    0.00,4,    2.69,2,   0.001,2,   0.002,2,       0,2,  2315.4,2,  2385.8,2,-999.0000,9,  -999.00,-999.0000,9, -999.00,9,    0.26,2,  -208.4,2,     2.0, -999.00,9, -999.00,9, -999.00,9, -999.00,9,   2.8316, -999.00
096U20160426,       P15S,     130,          1,         15,       2015,2,20160621,       1518,    -4.9981,  -168.7502,       5583,  1666.5,   2.6120,  34.6160,2,  34.6144,2,    119.2,2,   118.1,2,  119.17,2,   37.77,2,    0.00,4,    2.67,2,-999.000,9,-999.000,9,-999.000,9,  2321.4,6,  2394.8,6,-999.0000,9,  -999.00,-999.0000,9, -999.00,9,    0.21,2,  -214.8,2,     2.0, -999.00,9, -999.00,9, -999.00,9, -999.00,9,   2.4949, -999.00
096U20160426,       P15S,     130,          1,         14,       2014,2,20160621,       1518,    -4.9981,  -168.7502,       5583,  1866.1,   2.3700,  34.6300,2,  34.6305,2,    122.5,2,   121.8,2,  125.20,2,   37.62,2,    0.00,4,    2.66,2,   0.000,2,   0.000,2,       0,2,  2326.4,2,  2400.4,6,-999.0000,9,  -999.00,-999.0000,9, -999.00,9, -999.00,9,  -999.0,9,  -999.0, -999.00,9, -999.00,9, -999.00,9, -999.00,9,   2.2394, -999.00
096U20160426,       P15S,     130,          1,         13,       2013,2,20160621,       1518,    -4.9981,  -168.7502,       5583,  2085.2,   2.1430,  34.6450,2,  34.6441,2,    125.0,2,   124.3,2,  131.80,2,   37.49,2,    0.00,4,    2.65,2,-999.000,9,-999.000,9,-999.000,9,  -999.0,9,  -999.0,9,-999.0000,9,  -999.00,-999.0000,9, -999.00,9, -999.00,9,  -999.0,9,  -999.0, -999.00,9, -999.00,9, -999.00,9, -999.00,9,   1.9970, -999.00
096U20160426,       P15S,     130,          1,         12,       2012,2,20160621,       1518,    -4.9981,  -168.7502,       5583,  2336.1,   1.9310,  34.6570,2,  34.6561,2,    131.0,2,   131.3,2,  135.53,2,   37.17,2,    0.00,4,    2.61,2,  -0.001,2,   0.000,2,       0,2,  2331.1,2,  2412.3,2,-999.0000,9,  -999.00,-999.0000,9, -999.00,9, -999.00,9,  -999.0,9,  -999.0, -999.00,9, -999.00,9, -999.00,9, -999.00,9,   1.7666, -999.00
096U20160426,       P15S,     130,          1,         11,       2011,2,20160621,       1518,    -4.9981,  -168.7502,       5583,  2585.1,   1.8010,  34.6660,2,  34.6660,2,    136.8,2,   137.3,2,  137.20,2,   36.75,2,    0.00,4,    2.57,2,-999.000,9,-999.000,9,-999.000,9,  -999.0,9,  -999.0,9,-999.0000,9,  -999.00,-999.0000,9, -999.00,9, -999.00,9,  -999.0,9,  -999.0, -999.00,9, -999.00,9, -999.00,9, -999.00,9,   1.6166, -999.00
096U20160426,       P15S,     130,          1,         10,       2010,2,20160621,       1518,    -4.9981,  -168.7502,       5583,  2835.0,   1.7120,  34.6730,2,  34.6692,2,    142.5,2,   143.6,2,  137.26,2,   36.32,2,    0.00,4,    2.54,2,   0.000,2,   0.000,2,       0,2,  2327.8,2,  2414.4,2,-999.0000,9,  -999.00,-999.0000,9, -999.00,9, -999.00,9,  -999.0,9,  -999.0, -999.00,9, -999.00,9, -999.00,9, -999.00,9,   1.5063, -999.00
096U20160426,       P15S,     130,          1,          9,       2009,2,20160621,       1518,    -4.9981,  -168.7502,       5583,  3100.1,   1.6070,  34.6800,2,  34.6803,2,    149.7,2,   152.2,2,  136.24,2,   35.79,2,    0.00,4,    2.49,2,-999.000,9,-999.000,9,-999.000,9,  -999.0,9,  -999.0,9,-999.0000,9,  -999.00,-999.0000,9, -999.00,9, -999.00,9,  -999.0,9,  -999.0, -999.00,9, -999.00,9, -999.00,9, -999.00,9,   1.3781, -999.00
096U20160426,       P15S,     130,          1,          8,       2008,2,20160621,       1518,    -4.9981,  -168.7502,       5583,  3400.2,   1.5210,  34.6850,2,  34.6850,2,    156.5,2,   158.3,2,  135.60,2,   35.40,2,    0.00,4,    2.46,2,   0.000,2,   0.000,2,       0,2,  2315.8,2,  2410.3,2,-999.0000,9,  -999.00,-999.0000,9, -999.00,9, -999.00,9,  -999.0,9,  -999.0, -999.00,9, -999.00,9, -999.00,9, -999.00,9,   1.2644, -999.00
096U20160426,       P15S,     130,          1,          7,       2007,2,20160621,       1518,    -4.9981,  -168.7502,       5583,  3734.8,   1.4070,  34.6920,2,  34.6917,2,    166.0,2,   168.7,2,  133.27,2,   34.71,2,    0.00,4,    2.40,2,-999.000,9,-999.000,9,-999.000,9,  -999.0,9,  -999.0,9,-999.0000,9,  -999.00,-999.0000,9, -999.00,9, -999.00,9,  -999.0,9,  -999.0, -999.00,9, -999.00,9, -999.00,9, -999.00,9,   1.1189, -999.00
096U20160426,       P15S,     130,          1,          6,       2006,2,20160621,       1518,    -4.9981,  -168.7502,       5583,  4134.3,   1.3480,  34.6970,2,  34.6966,2,    172.2,2,   174.6,2,  132.62,2,   34.32,2,    0.00,4,    2.37,2,   0.004,2,   0.003,2,       0,2,  2304.4,2,  2403.4,2,-999.0000,9,  -999.00,-999.0000,9, -999.00,9, -999.00,9,  -999.0,9,  -999.0, -999.00,9, -999.00,9, -999.00,9, -999.00,9,   1.0186, -999.00
096U20160426,       P15S,     130,          1,          5,       2005,2,20160621,       1518,    -4.9981,  -168.7502,       5583,  4535.3,   1.3040,  34.7010,2,  34.7007,2,    181.2,2,   184.5,2,  128.13,2,   33.61,2,    0.00,4,    2.33,2,   0.010,2,   0.004,2,       0,2,  2292.0,2,  2393.6,2,-999.0000,9,  -999.00,-999.0000,9, -999.00,9, -999.00,9,  -999.0,9,  -999.0, -999.00,9, -999.00,9, -999.00,9, -999.00,9,   0.9309, -999.00
096U20160426,       P15S,     130,          1,          4,       2004,2,20160621,       1518,    -4.9981,  -168.7502,       5583,  4937.0,   1.2110,  34.7060,2,  34.7060,2,    194.0,2,   196.2,2,  122.03,2,   32.73,2,    0.00,4,    2.25,2,-999.000,9,-999.000,9,-999.000,9,  -999.0,9,  -999.0,9,-999.0000,9,  -999.00,-999.0000,9, -999.00,9, -999.00,9,  -999.0,9,  -999.0, -999.00,9, -999.00,9, -999.00,9, -999.00,9,   0.7939, -999.00
096U20160426,       P15S,     130,          1,          3,       2003,2,20160621,       1518,    -4.9981,  -168.7502,       5583,  5336.4,   1.2200,  34.7070,2,  34.7076,2,    198.2,2,   199.6,2,  120.88,2,   32.51,2,    0.00,4,    2.24,2,   0.042,2,   0.022,2,       0,2,  2270.6,6,  2373.4,6,-999.0000,9,  -999.00,-999.0000,9, -999.00,9, -999.00,9,  -999.0,9,  -999.0, -999.00,9, -999.00,9, -999.00,9, -999.00,9,   0.7539, -999.00
096U20160426,       P15S,     130,          1,          2,       2002,2,20160621,       1518,    -4.9981,  -168.7502,       5583,  5501.6,   1.2400,  34.7070,2,  34.7081,2,    198.9,2,   199.2,2,  120.71,2,   32.49,2,    0.00,4,    2.24,2,-999.000,9,-999.000,9,-999.000,9,  -999.0,9,  -999.0,9,-999.0000,9,  -999.00,-999.0000,9, -999.00,9, -999.00,9,  -999.0,9,  -999.0, -999.00,9, -999.00,9, -999.00,9, -999.00,9,   0.7525, -999.00
096U20160426,       P15S,     130,          1,          1,       2001,2,20160621,       1518,    -4.9981,  -168.7502,       5583,  5662.7,   1.2600,  34.7070,2,  34.7073,2,    199.6,2,   199.5,2,  120.69,2,   32.50,2,    0.00,4,    2.24,2,   0.044,2,   0.024,2,   0.059,3,  2269.7,2,  2372.9,2,-999.0000,9,  -999.00,-999.0000,9, -999.00,9, -999.00,9,  -999.0,9,  -999.0, -999.00,9, -999.00,9, -999.00,9, -999.00,9,   0.7512, -999.00