BOTTLE,20230413CCHSIOENA
EXPOCODE,SECT_ID,STNNBR,CASTNO,SAMPNO,BTLNBR,BTLNBR_FLAG_W,DATE,TIME,LATITUDE,LONGITUDE,DEPTH,CTDPRS,CTDTMP,CTDSAL,CTDSAL_FLAG_W,SALNTY,SALNTY_FLAG_W,CTDOXY,CTDOXY_FLAG_W,OXYGEN,OXYGEN_FLAG_W,SILCAT,SILCAT_FLAG_W,NITRAT,NITRAT_FLAG_W,NITRIT,NITRIT_FLAG_W,PHSPHT,PHSPHT_FLAG_W,CFC-11,CFC-11_FLAG_W,CFC-12,CFC-12_FLAG_W,SF6,SF6_FLAG_W,TCARBN,TCARBN_FLAG_W,ALKALI,ALKALI_FLAG_W,PH_TOT,PH_TOT_FLAG_W,PH_TMP,HELIUM,HELIUM_FLAG_W,DELHE3,DELHE3_FLAG_W,DELC13,DELC13_FLAG_W,DELC14,DELC14_FLAG_W,C14ERR,POC,POC_FLAG_W,PON,PON_FLAG_W,CHLORA,CHLORA_FLAG_W,PPHYTN,PPHYTN_FLAG_W,THETA,DELHER
,,,,,,,,,,,METERS,DBAR,ITS-90,PSS-78,,PSS-78,,UMOL/KG,,UMOL/KG,,UMOL/KG,,UMOL/KG,,UMOL/KG,,UMOL/KG,,PMOL/KG,,PMOL/KG,,FMOL/KG,,UMOL/KG,,UMOL/KG,,,,DEG C,NMOL/KG,,PERCNT,,/MILLE,,/MILLE,,/MILLE,UG/KG,,UG/KG,,UG/KG,,UG/KG,,DEG C,PERCNT
096U20160426,       P15S,     103,          1,         36,       2036,2,20160614,       1030,   -17.4985,  -170.0010,       5030,     5.2,  26.7220,  35.4340,2,  35.4330,2,    202.8,2,   201.1,2,    0.46,2,   -0.03,4,    0.01,4,    0.16,2,-999.000,9,-999.000,9,-999.000,9,  1986.2,2,  2331.1,2,-999.0000,9,  -999.00,-999.0000,9, -999.00,9, -999.00,9,  -999.0,9,  -999.0, -999.00,9, -999.00,9,    0.17,2,   -0.02,3,  26.7208, -999.00
096U20160426,       P15S,     103,          1,         35,       2035,2,20160614,       1030,   -17.4985,  -170.0010,       5030,    35.5,  26.7510,  35.4330,2,  35.4375,2,    202.5,2,   201.2,2,    0.45,2,   -0.03,4,    0.01,4,    0.16,2,-999.000,9,-999.000,9,-999.000,9,  -999.0,9,  -999.0,9,-999.0000,9,  -999.00,-999.0000,9, -999.00,9, -999.00,9,  -999.0,9,  -999.0, -999.00,9, -999.00,9,    0.18,2,    0.00,3,  26.7429, -999.00
096U20160426,       P15S,     103,          1,         34,       2034,2,20160614,       1030,   -17.4985,  -170.0010,       5030,    62.0,  26.4790,  35.4780,2,  35.4832,2,    203.5,2,   201.5,2,    0.45,2,   -0.03,4,    0.01,4,    0.16,2,-999.000,9,-999.000,9,-999.000,9,  -999.0,9,  -999.0,9,-999.0000,9,  -999.00,-999.0000,9, -999.00,9, -999.00,9,  -999.0,9,  -999.0, -999.00,9, -999.00,9,    0.22,2,    0.01,3,  26.4650, -999.00
096U20160426,       P15S,     103,          1,         33,       2033,2,20160614,       1030,   -17.4985,  -170.0010,       5030,    86.8,  26.5340,  35.4460,2,  35.7124,2,    203.3,2,   200.3,2,    0.47,2,   -0.02,4,    0.00,4,    0.18,2,-999.000,9,-999.000,9,-999.000,9,  2012.1,2,  2349.8,2,-999.0000,9,  -999.00,-999.0000,9, -999.00,9, -999.00,9,  -999.0,9,  -999.0, -999.00,9, -999.00,9,    0.32,2,    0.01,3,  26.5143, -999.00
096U20160426,       P15S,     103,          1,         32,       2032,2,20160614,       1030,   -17.4985,  -170.0010,       5030,   111.6,  24.5830,  35.8900,2,  35.8494,2,    194.7,2,   195.8,2,    0.44,2,    0.02,2,    0.02,2,    0.19,2,-999.000,9,-999.000,9,-999.000,9,  2044.1,2,  2356.6,2,-999.0000,9,  -999.00,-999.0000,9, -999.00,9, -999.00,9,  -999.0,9,  -999.0, -999.00,9, -999.00,9,    0.94,2,   -0.12,3,  24.5590, -999.00
096U20160426,       P15S,     103,          1,         31,       2031,2,20160614,       1030,   -17.4985,  -170.0010,       5030,   166.1,  22.0740,  35.8010,2,  35.8005,2,    189.7,2,   186.9,2,    0.43,2,    1.57,2,    0.08,2,    0.25,2,-999.000,9,-999.000,9,-999.000,9,  2061.0,2,  2350.5,2,-999.0000,9,  -999.00,-999.0000,9, -999.00,9, -999.00,9,  -999.0,9,  -999.0, -999.00,9, -999.00,9, -999.00,9, -999.00,9,  22.0409, -999.00
096U20160426,       P15S,     103,          1,         30,       2030,2,20160614,       1030,   -17.4985,  -170.0010,       5030,   215.8,  20.4380,  35.7230,2,  35.6990,2,    185.5,2,   182.8,2,    0.59,2,    3.25,2,    0.01,4,    0.34,2,-999.000,9,-999.000,9,-999.000,9,  2081.7,2,  2342.8,2,-999.0000,9,  -999.00,-999.0000,9, -999.00,9, -999.00,9,  -999.0,9,  -999.0, -999.00,9, -999.00,9, -999.00,9, -999.00,9,  20.3973, -999.00
096U20160426,       P15S,     103,          1,         29,       2029,2,20160614,       1030,   -17.4985,  -170.0010,       5030,   266.4,  18.7020,  35.5470,2,  35.5096,2,    183.2,2,   183.4,2,    0.97,2,    4.63,2,    0.01,4,    0.43,2,-999.000,9,-999.000,9,-999.000,9,  -999.0,9,  -999.0,9,-999.0000,9,  -999.00,-999.0000,9, -999.00,9, -999.00,9,  -999.0,9,  -999.0, -999.00,9, -999.00,9, -999.00,9, -999.00,9,  18.6548, -999.00
096U20160426,       P15S,     103,          1,         28,       2028,2,20160614,       1030,   -17.4985,  -170.0010,       5030,   316.4,  16.8430,  35.3440,2,  35.3260,2,    185.8,2,   186.0,2,    1.49,2,    6.19,2,    0.01,4,    0.53,2,-999.000,9,-999.000,9,-999.000,9,  2098.2,2,  2317.8,2,-999.0000,9,  -999.00,-999.0000,9, -999.00,9, -999.00,9,  -999.0,9,  -999.0, -999.00,9, -999.00,9, -999.00,9, -999.00,9,  16.7908, -999.00
096U20160426,       P15S,     103,          1,         27,       2027,2,20160614,       1030,   -17.4985,  -170.0010,       5030,   365.8,  15.1010,  35.1510,2,  35.0939,2,    186.4,2,   181.7,2,    2.73,2,    9.48,2,    0.01,4,    0.76,2,-999.000,9,-999.000,9,-999.000,9,  -999.0,9,  -999.0,9,-999.0000,9,  -999.00,-999.0000,9, -999.00,9, -999.00,9,  -999.0,9,  -999.0, -999.00,9, -999.00,9, -999.00,9, -999.00,9,  15.0450, -999.00
096U20160426,       P15S,     103,          1,         26,       2026,2,20160614,       1030,   -17.4985,  -170.0010,       5030,   436.3,  11.0520,  34.6770,2,  34.6396,2,    154.7,2,   151.3,2,   10.24,2,   20.40,2,    0.01,4,    1.53,2,-999.000,9,-999.000,9,-999.000,9,  2162.5,2,  2290.2,6,-999.0000,9,  -999.00,-999.0000,9, -999.00,9, -999.00,9,  -999.0,9,  -999.0, -999.00,9, -999.00,9, -999.00,9, -999.00,9,  10.9977, -999.00
096U20160426,       P15S,     103,          1,         25,       2025,2,20160614,       1030,   -17.4985,  -170.0010,       5030,   535.9,   7.8190,  34.4950,2,  34.4927,2,    144.3,2,   142.7,2,   20.70,2,   27.71,2,    0.01,4,    1.98,2,-999.000,9,-999.000,9,-999.000,9,  -999.0,9,  -999.0,9,-999.0000,9,  -999.00,-999.0000,9, -999.00,9, -999.00,9,  -999.0,9,  -999.0, -999.00,9, -999.00,9, -999.00,9, -999.00,9,   7.7647, -999.00
096U20160426,       P15S,     103,          1,         24,       2024,2,20160614,       1030,   -17.4985,  -170.0010,       5030,   635.4,   6.1570,  34.3980,2,  34.3970,2,    176.0,2,   175.2,2,   23.69,2,   28.99,2,    0.01,4,    2.01,2,-999.000,9,-999.000,9,-999.000,9,  -999.0,9,  -999.0,9,-999.0000,9,  -999.00,-999.0000,9, -999.00,9, -999.00,9,  -999.0,9,  -999.0, -999.00,9, -999.00,9, -999.00,9, -999.00,9,   6.1002, -999.00
096U20160426,       P15S,     103,          1,         23,       2023,2,20160614,       1030,   -17.4985,  -170.0010,       5030,   735.2,   5.1730,  34.3960,2,  34.3955,2,    171.6,2,   170.2,2,   35.09,2,   31.34,2,    0.01,4,    2.16,2,-999.000,9,-999.000,9,-999.000,9,  2208.1,6,  2302.6,6,-999.0000,9,  -999.00,-999.0000,9, -999.00,9, -999.00,9,  -999.0,9,  -999.0, -999.00,9, -999.00,9, -999.00,9, -999.00,9,   5.1123, -999.00
096U20160426,       P15S,     103,          1,         22,       2022,2,20160614,       1030,   -17.4985,  -170.0010,       5030,   835.1,   4.6000,  34.4380,2,  34.4365,2,    159.1,2,   158.3,2,   48.37,2,   33.01,2,    0.01,4,    2.28,2,-999.000,9,-999.000,9,-999.000,9,  -999.0,9,  -999.0,9,-999.0000,9,  -999.00,-999.0000,9, -999.00,9, -999.00,9,  -999.0,9,  -999.0, -999.00,9, -999.00,9, -999.00,9, -999.00,9,   4.5341, -999.00
096U20160426,       P15S,     103,          1,         21,       2021,2,20160614,       1030,   -17.4985,  -170.0010,       5030,   935.5,   4.0390,  34.4670,2,  34.4660,2,    154.6,2,   153.9,2,   60.15,2,   34.00,2,    0.01,4,    2.36,2,-999.000,9,-999.000,9,-999.000,9,  -999.0,9,  -999.0,9,-999.0000,9,  -999.00,-999.0000,9, -999.00,9, -999.00,9,  -999.0,9,  -999.0, -999.00,9, -999.00,9, -999.00,9, -999.00,9,   3.9684, -999.00
096U20160426,       P15S,     103,          1,         20,       2020,2,20160614,       1030,   -17.4985,  -170.0010,       5030,  1085.1,   3.5270,  34.5170,2,  34.5168,2,    146.9,2,   146.2,2,   75.86,2,   34.90,2,    0.01,4,    2.43,2,-999.000,9,-999.000,9,-999.000,9,  -999.0,9,  -999.0,9,-999.0000,9,  -999.00,-999.0000,9, -999.00,9, -999.00,9,  -999.0,9,  -999.0, -999.00,9, -999.00,9, -999.00,9, -999.00,9,   3.4481, -999.00
096U20160426,       P15S,     103,          1,         19,       2019,2,20160614,       1030,   -17.4985,  -170.0010,       5030,  1135.5,   3.3890,  34.5260,2,  34.5254,2,    146.7,2,   146.0,2,   78.91,2,   35.03,2,    0.01,4,    2.44,2,-999.000,9,-999.000,9,-999.000,9,  -999.0,9,  -999.0,9,-999.0000,9,  -999.00,-999.0000,9, -999.00,9, -999.00,9,  -999.0,9,  -999.0, -999.00,9, -999.00,9, -999.00,9, -999.00,9,   3.3072, -999.00
096U20160426,       P15S,     103,          1,         18,       2018,2,20160614,       1030,   -17.4985,  -170.0010,       5030,  1235.6,   3.1490,  34.5450,2,  34.5443,2,    146.0,2,   145.2,2,   85.07,2,   35.20,2,    0.01,4,    2.45,2,-999.000,9,-999.000,9,-999.000,9,  -999.0,9,  -999.0,9,-999.0000,9,  -999.00,-999.0000,9, -999.00,9, -999.00,9,  -999.0,9,  -999.0, -999.00,9, -999.00,9, -999.00,9, -999.00,9,   3.0613, -999.00
096U20160426,       P15S,     103,          1,         17,       2017,2,20160614,       1030,   -17.4985,  -170.0010,       5030,  1335.8,   2.9370,  34.5620,2,  34.5598,2,    146.8,2,   146.0,2,   90.29,2,   35.32,2,    0.01,4,    2.45,2,-999.000,9,-999.000,9,-999.000,9,  -999.0,9,  -999.0,9,-999.0000,9,  -999.00,-999.0000,9, -999.00,9, -999.00,9,  -999.0,9,  -999.0, -999.00,9, -999.00,9, -999.00,9, -999.00,9,   2.8433, -999.00
096U20160426,       P15S,     103,          1,         16,       2016,2,20160614,       1030,   -17.4985,  -170.0010,       5030,  1466.0,   2.7320,  34.5830,2,  34.5820,2,    145.5,2,   144.9,2,   97.46,2,   35.49,2,    0.01,4,    2.47,2,-999.000,9,-999.000,9,-999.000,9,  -999.0,9,  -999.0,9,-999.0000,9,  -999.00,-999.0000,9, -999.00,9, -999.00,9,  -999.0,9,  -999.0, -999.00,9, -999.00,9, -999.00,9, -999.00,9,   2.6300, -999.00
096U20160426,       P15S,     103,          1,         15,       2015,2,20160614,       1030,   -17.4985,  -170.0010,       5030,  1666.5,   2.5310,  34.6020,2,  34.6008,2,    145.9,2,   145.4,2,  104.04,2,   35.49,2,    0.01,4,    2.47,2,-999.000,9,-999.000,9,-999.000,9,  -999.0,9,  -999.0,9,-999.0000,9,  -999.00,-999.0000,9, -999.00,9, -999.00,9,  -999.0,9,  -999.0, -999.00,9, -999.00,9, -999.00,9, -999.00,9,   2.4149, -999.00
096U20160426,       P15S,     103,          1,         14,       2014,2,20160614,       1030,   -17.4985,  -170.0010,       5030,  1865.9,   2.3400,  34.6200,2,  34.6172,2,    146.3,2,   145.9,2,  109.81,2,   35.55,2,    0.01,4,    2.47,2,-999.000,9,-999.000,9,-999.000,9,  -999.0,9,  -999.0,9,-999.0000,9,  -999.00,-999.0000,9, -999.00,9, -999.00,9,  -999.0,9,  -999.0, -999.00,9, -999.00,9, -999.00,9, -999.00,9,   2.2099, -999.00
096U20160426,       P15S,     103,          1,         13,       2013,2,20160614,       1030,   -17.4985,  -170.0010,       5030,  2086.1,   2.1570,  34.6350,2,  34.6341,2,    147.5,2,   147.3,2,  115.47,2,   35.53,2,    0.01,4,    2.47,2,-999.000,9,-999.000,9,-999.000,9,  -999.0,9,  -999.0,9,-999.0000,9,  -999.00,-999.0000,9, -999.00,9, -999.00,9,  -999.0,9,  -999.0, -999.00,9, -999.00,9, -999.00,9, -999.00,9,   2.0108, -999.00
096U20160426,       P15S,     103,          1,         12,       2012,2,20160614,       1030,   -17.4985,  -170.0010,       5030,  2336.5,   2.0030,  34.6490,2,  34.6466,2,    149.3,2,   149.3,2,  119.92,2,   35.47,2,    0.01,4,    2.46,2,-999.000,9,-999.000,9,-999.000,9,  -999.0,9,  -999.0,9,-999.0000,9,  -999.00,-999.0000,9, -999.00,9, -999.00,9,  -999.0,9,  -999.0, -999.00,9, -999.00,9, -999.00,9, -999.00,9,   1.8374, -999.00
096U20160426,       P15S,     103,          1,         11,       2011,2,20160614,       1030,   -17.4985,  -170.0010,       5030,  2586.0,   1.8660,  34.6600,2,  34.6590,2,    151.5,2,   151.5,2,  123.93,2,   35.32,2,    0.01,4,    2.45,2,-999.000,9,-999.000,9,-999.000,9,  -999.0,9,  -999.0,9,-999.0000,9,  -999.00,-999.0000,9, -999.00,9, -999.00,9,  -999.0,9,  -999.0, -999.00,9, -999.00,9, -999.00,9, -999.00,9,   1.6803, -999.00
096U20160426,       P15S,     103,          1,         10,       2010,2,20160614,       1030,   -17.4985,  -170.0010,       5030,  2835.9,   1.7670,  34.6690,2,  34.6675,2,    153.6,2,   153.3,2,  126.86,2,   35.20,2,    0.01,4,    2.44,2,-999.000,9,-999.000,9,-999.000,9,  -999.0,9,  -999.0,9,-999.0000,9,  -999.00,-999.0000,9, -999.00,9, -999.00,9,  -999.0,9,  -999.0, -999.00,9, -999.00,9, -999.00,9, -999.00,9,   1.5600, -999.00
096U20160426,       P15S,     103,          1,          9,       2009,2,20160614,       1030,   -17.4985,  -170.0010,       5030,  3100.0,   1.6920,  34.6750,2,  34.6740,2,    156.7,2,   155.9,2,  128.30,2,   35.03,2,    0.01,4,    2.43,2,-999.000,9,-999.000,9,-999.000,9,  -999.0,9,  -999.0,9,-999.0000,9,  -999.00,-999.0000,9, -999.00,9, -999.00,9,  -999.0,9,  -999.0, -999.00,9, -999.00,9, -999.00,9, -999.00,9,   1.4612, -999.00
096U20160426,       P15S,     103,          1,          8,       2008,2,20160614,       1030,   -17.4985,  -170.0010,       5030,  3400.4,   1.6040,  34.6820,2,  34.6806,2,    159.0,2,   158.3,2,  130.88,2,   34.97,2,    0.01,4,    2.42,2,-999.000,9,-999.000,9,-999.000,9,  -999.0,9,  -999.0,9,-999.0000,9,  -999.00,-999.0000,9, -999.00,9, -999.00,9,  -999.0,9,  -999.0, -999.00,9, -999.00,9, -999.00,9, -999.00,9,   1.3454, -999.00
096U20160426,       P15S,     103,          1,          7,       2007,2,20160614,       1030,   -17.4985,  -170.0010,       5030,  3698.8,   1.4700,  34.7000,2,  34.6986,2,    176.5,2,   177.1,2,  121.46,2,   33.37,2,    0.00,4,    2.30,2,-999.000,9,-999.000,9,-999.000,9,  -999.0,9,  -999.0,9,-999.0000,9,  -999.00,-999.0000,9, -999.00,9, -999.00,9,  -999.0,9,  -999.0, -999.00,9, -999.00,9, -999.00,9, -999.00,9,   1.1839, -999.00
096U20160426,       P15S,     103,          1,          6,       2006,2,20160614,       1030,   -17.4985,  -170.0010,       5030,  3999.3,   1.2770,  34.7160,2,  34.7139,2,    196.1,2,   197.8,2,  113.32,2,   31.80,2,    0.01,4,    2.19,2,-999.000,9,-999.000,9,-999.000,9,  -999.0,9,  -999.0,9,-999.0000,9,  -999.00,-999.0000,9, -999.00,9, -999.00,9,  -999.0,9,  -999.0, -999.00,9, -999.00,9, -999.00,9, -999.00,9,   0.9642, -999.00
096U20160426,       P15S,     103,          1,          5,       2005,2,20160614,       1030,   -17.4985,  -170.0010,       5030,  4299.2,   1.1150,  34.7140,2,  34.6710,4,    202.4,2,   159.9,4,  124.07,4,   34.77,4,    0.01,4,    2.41,4,-999.000,9,-999.000,9,-999.000,9,  -999.0,9,  -999.0,9,-999.0000,9,  -999.00,-999.0000,9, -999.00,9, -999.00,9,  -999.0,9,  -999.0, -999.00,9, -999.00,9, -999.00,9, -999.00,9,   0.7742, -999.00
096U20160426,       P15S,     103,          1,          4,       2004,2,20160614,       1030,   -17.4985,  -170.0010,       5030,  4599.2,   1.0470,  34.7110,2,  34.7088,2,    204.7,2,   205.6,2,  118.32,2,   31.76,2,    0.01,4,    2.18,2,-999.000,9,-999.000,9,-999.000,9,  -999.0,9,  -999.0,9,-999.0000,9,  -999.00,-999.0000,9, -999.00,9, -999.00,9,  -999.0,9,  -999.0, -999.00,9, -999.00,9, -999.00,9, -999.00,9,   0.6747, -999.00
096U20160426,       P15S,     103,          1,          3,       2003,2,20160614,       1030,   -17.4985,  -170.0010,       5030,  4901.7,   1.0580,  34.7100,2,  34.7079,2,    205.6,2,   205.9,2,  118.90,2,   31.77,2,    0.01,4,    2.18,2,-999.000,9,-999.000,9,-999.000,9,  -999.0,9,  -999.0,9,-999.0000,9,  -999.00,-999.0000,9, -999.00,9, -999.00,9,  -999.0,9,  -999.0, -999.00,9, -999.00,9, -999.00,9, -999.00,9,   0.6502, -999.00
096U20160426,       P15S,     103,          1,          2,       2002,2,20160614,       1030,   -17.4985,  -170.0010,       5030,  5001.5,   1.0660,  34.7090,2,  34.7081,2,    205.7,2,   205.9,2,  119.02,2,   31.79,2,    0.00,4,    2.18,2,-999.000,9,-999.000,9,-999.000,9,  2263.9,2,  2365.5,2,-999.0000,9,  -999.00,-999.0000,9, -999.00,9, -999.00,9,  -999.0,9,  -999.0, -999.00,9, -999.00,9, -999.00,9, -999.00,9,   0.6461, -999.00
096U20160426,       P15S,     103,          1,          1,       2001,2,20160614,       1030,   -17.4985,  -170.0010,       5030,  5101.6,   1.0770,  34.7090,2,  34.7072,2,    206.0,2,   206.8,2,  118.99,2,   31.76,2,    0.01,4,    2.18,2,-999.000,9,-999.000,9,-999.000,9,  -999.0,9,  -999.0,9,-999.0000,9,  -999.00,-999.0000,9, -999.00,9, -999.00,9,  -999.0,9,  -999.0, -999.00,9, -999.00,9, -999.00,9, -999.00,9,   0.6447, -999.00