BOTTLE,20230413CCHSIOENA
EXPOCODE,SECT_ID,STNNBR,CASTNO,SAMPNO,BTLNBR,BTLNBR_FLAG_W,DATE,TIME,LATITUDE,LONGITUDE,DEPTH,CTDPRS,CTDTMP,CTDSAL,CTDSAL_FLAG_W,SALNTY,SALNTY_FLAG_W,CTDOXY,CTDOXY_FLAG_W,OXYGEN,OXYGEN_FLAG_W,SILCAT,SILCAT_FLAG_W,NITRAT,NITRAT_FLAG_W,NITRIT,NITRIT_FLAG_W,PHSPHT,PHSPHT_FLAG_W,CFC-11,CFC-11_FLAG_W,CFC-12,CFC-12_FLAG_W,SF6,SF6_FLAG_W,TCARBN,TCARBN_FLAG_W,ALKALI,ALKALI_FLAG_W,PH_TOT,PH_TOT_FLAG_W,PH_TMP,HELIUM,HELIUM_FLAG_W,DELHE3,DELHE3_FLAG_W,DELC13,DELC13_FLAG_W,DELC14,DELC14_FLAG_W,C14ERR,POC,POC_FLAG_W,PON,PON_FLAG_W,CHLORA,CHLORA_FLAG_W,PPHYTN,PPHYTN_FLAG_W,THETA,DELHER
,,,,,,,,,,,METERS,DBAR,ITS-90,PSS-78,,PSS-78,,UMOL/KG,,UMOL/KG,,UMOL/KG,,UMOL/KG,,UMOL/KG,,UMOL/KG,,PMOL/KG,,PMOL/KG,,FMOL/KG,,UMOL/KG,,UMOL/KG,,,,DEG C,NMOL/KG,,PERCNT,,/MILLE,,/MILLE,,/MILLE,UG/KG,,UG/KG,,UG/KG,,UG/KG,,DEG C,PERCNT
096U20160426,       P15S,     122,          1,         36,       2036,2,20160619,       0922,    -8.9988,  -168.8752,       4909,     5.6,  29.9240,  34.5300,2,  34.5249,2,    187.4,2,   192.9,2,    0.39,2,   -0.01,4,    0.00,4,    0.14,2,   1.370,6,   0.885,6,   1.194,6,  1926.1,6,  2271.9,6,-999.0000,9,  -999.00,-999.0000,9, -999.00,9, -999.00,9,  -999.0,9,  -999.0, -999.00,9, -999.00,9,    0.19,2,    0.01,3,  29.9226, -999.00
096U20160426,       P15S,     122,          1,         35,       2035,2,20160619,       0922,    -8.9988,  -168.8752,       4909,    20.2,  29.9260,  34.5290,2,  34.5300,2,    187.6,2,   192.8,2,    0.39,2,   -0.01,4,    0.00,4,    0.14,2,-999.000,9,-999.000,9,-999.000,9,  -999.0,9,  -999.0,9,-999.0000,9,  -999.00,-999.0000,9, -999.00,9, -999.00,9,  -999.0,9,  -999.0, -999.00,9, -999.00,9,    0.22,2,    0.00,3,  29.9210, -999.00
096U20160426,       P15S,     122,          1,         34,       2034,2,20160619,       0922,    -8.9988,  -168.8752,       4909,    41.0,  29.8990,  34.5700,2,  34.6878,2,    187.0,2,   193.2,2,    0.40,2,    0.01,2,    0.02,4,    0.16,2,-999.000,9,-999.000,9,-999.000,9,  -999.0,9,  -999.0,9,-999.0000,9,  -999.00,-999.0000,9, -999.00,9, -999.00,9,  -999.0,9,  -999.0, -999.00,9, -999.00,9,    0.33,2,   -0.01,3,  29.8889, -999.00
096U20160426,       P15S,     122,          1,         33,       2033,2,20160619,       0922,    -8.9988,  -168.8752,       4909,    60.8,  29.6690,  35.3660,2,  35.5233,2,    188.9,2,   186.8,2,    0.78,2,    1.24,2,    0.40,2,    0.35,2,   1.459,2,   0.949,2,   1.207,2,  2014.0,2,  2337.8,2,-999.0000,9,  -999.00,-999.0000,9, -999.00,9, -999.00,9,  -999.0,9,  -999.0, -999.00,9, -999.00,9,    0.68,2,   -0.04,3,  29.6540, -999.00
096U20160426,       P15S,     122,          1,         32,       2032,2,20160619,       0922,    -8.9988,  -168.8752,       4909,    96.4,  27.6230,  35.9170,2,  35.9556,2,    153.1,2,   152.9,2,    1.10,2,    3.62,2,    1.20,2,    0.58,2,-999.000,9,-999.000,9,-999.000,9,  -999.0,9,  -999.0,9,-999.0000,9,  -999.00,-999.0000,9, -999.00,9, -999.00,9,  -999.0,9,  -999.0, -999.00,9, -999.00,9,    0.68,2,    0.07,3,  27.6004, -999.00
096U20160426,       P15S,     122,          1,         31,       2031,2,20160619,       0922,    -8.9988,  -168.8752,       4909,   141.2,  24.8860,  36.1350,2,  36.1540,2,    137.8,2,   141.1,2,    1.13,2,    6.41,2,    0.51,2,    0.70,2,-999.000,9,-999.000,9,-999.000,9,  2110.1,2,  2378.3,2,-999.0000,9,  -999.00,-999.0000,9, -999.00,9, -999.00,9,  -999.0,9,  -999.0, -999.00,9, -999.00,9, -999.00,9, -999.00,9,  24.8553, -999.00
096U20160426,       P15S,     122,          1,         30,       2030,2,20160619,       0922,    -8.9988,  -168.8752,       4909,   185.6,  21.5320,  35.9550,2,  35.8702,2,    149.1,2,   147.8,2,    1.47,2,    7.62,2,    0.02,4,    0.76,2,   1.980,2,   1.240,2,   1.194,2,  2132.0,2,  2362.7,2,-999.0000,9,  -999.00,-999.0000,9, -999.00,9, -999.00,9,  -999.0,9,  -999.0, -999.00,9, -999.00,9, -999.00,9, -999.00,9,  21.4957, -999.00
096U20160426,       P15S,     122,          1,         29,       2029,2,20160619,       0922,    -8.9988,  -168.8752,       4909,   236.3,  16.8760,  35.3400,2,  35.2405,2,    121.4,2,   109.6,2,    7.10,2,   15.92,2,    0.01,4,    1.36,2,-999.000,9,-999.000,9,-999.000,9,  -999.0,9,  -999.0,9,-999.0000,9,  -999.00,-999.0000,9, -999.00,9, -999.00,9,  -999.0,9,  -999.0, -999.00,9, -999.00,9, -999.00,9, -999.00,9,  16.8371, -999.00
096U20160426,       P15S,     122,          1,         28,       2028,2,20160619,       0922,    -8.9988,  -168.8752,       4909,   275.1,  13.7070,  35.0220,2,  34.9825,2,     88.3,2,    88.6,2,   12.70,2,   21.95,2,    0.01,4,    1.71,2,   1.511,2,   0.880,2,   0.538,2,  2194.0,2,  2310.3,6,-999.0000,9,  -999.00,-999.0000,9, -999.00,9, -999.00,9,  -999.0,9,  -999.0, -999.00,9, -999.00,9, -999.00,9, -999.00,9,  13.6677, -999.00
096U20160426,       P15S,     122,          1,         27,       2027,2,20160619,       0922,    -8.9988,  -168.8752,       4909,   335.6,  10.9960,  34.7930,2,  34.7827,2,    103.0,2,   101.7,2,   17.52,2,   25.38,2,    0.00,4,    1.86,2,-999.000,9,-999.000,9,-999.000,9,  -999.0,9,  -999.0,9,-999.0000,9,  -999.00,-999.0000,9, -999.00,9, -999.00,9,  -999.0,9,  -999.0, -999.00,9, -999.00,9, -999.00,9, -999.00,9,  10.9545, -999.00
096U20160426,       P15S,     122,          1,         26,       2026,2,20160619,       0922,    -8.9988,  -168.8752,       4909,   384.9,  10.0320,  34.7280,2,  34.7090,2,    108.8,2,   110.6,2,   20.77,2,   27.10,2,    0.00,4,    1.93,2,-999.000,9,-999.000,9,-999.000,9,  2204.6,2,  2301.8,2,-999.0000,9,  -999.00,-999.0000,9, -999.00,9, -999.00,9,  -999.0,9,  -999.0, -999.00,9, -999.00,9, -999.00,9, -999.00,9,   9.9870, -999.00
096U20160426,       P15S,     122,          1,         25,       2025,2,20160619,       0922,    -8.9988,  -168.8752,       4909,   465.4,   8.4310,  34.6300,2,  34.6164,2,    111.6,2,   111.0,2,   27.48,2,   30.32,2,    0.00,4,    2.12,2,   0.611,2,   0.330,2,   0.159,2,  2216.6,2,  2303.3,2,-999.0000,9,  -999.00,-999.0000,9, -999.00,9, -999.00,9,  -999.0,9,  -999.0, -999.00,9, -999.00,9, -999.00,9, -999.00,9,   8.3819, -999.00
096U20160426,       P15S,     122,          1,         24,       2024,2,20160619,       0922,    -8.9988,  -168.8752,       4909,   566.8,   7.1290,  34.5600,2,  34.5609,2,    115.7,2,   114.0,2,   34.16,2,   32.15,2,    0.00,4,    2.24,2,-999.000,9,-999.000,9,-999.000,9,  -999.0,9,  -999.0,9,-999.0000,9,  -999.00,-999.0000,9, -999.00,9, -999.00,9,  -999.0,9,  -999.0, -999.00,9, -999.00,9, -999.00,9, -999.00,9,   7.0743, -999.00
096U20160426,       P15S,     122,          1,         23,       2023,2,20160619,       0922,    -8.9988,  -168.8752,       4909,   664.7,   6.3920,  34.5330,2,  34.5312,2,    117.6,2,   115.7,2,   40.83,2,   33.39,2,    0.00,4,    2.34,2,-999.000,9,-999.000,9,-999.000,9,  2236.9,2,  2311.1,2,-999.0000,9,  -999.00,-999.0000,9, -999.00,9, -999.00,9,  -999.0,9,  -999.0, -999.00,9, -999.00,9, -999.00,9, -999.00,9,   6.3311, -999.00
096U20160426,       P15S,     122,          1,         22,       2022,2,20160619,       0922,    -8.9988,  -168.8752,       4909,   764.6,   5.7660,  34.5170,2,  34.5144,2,    122.5,2,   121.8,2,   47.27,2,   33.83,2,    0.00,4,    2.38,2,-999.000,9,-999.000,9,-999.000,9,  -999.0,9,  -999.0,9,-999.0000,9,  -999.00,-999.0000,9, -999.00,9, -999.00,9,  -999.0,9,  -999.0, -999.00,9, -999.00,9, -999.00,9, -999.00,9,   5.6991, -999.00
096U20160426,       P15S,     122,          1,         21,       2021,2,20160619,       0922,    -8.9988,  -168.8752,       4909,   865.5,   5.3330,  34.5190,2,  34.5174,2,    116.1,2,   114.6,2,   55.19,2,   35.21,2,    0.00,4,    2.49,2,   0.110,2,   0.060,2,       0,2,  2254.6,2,  2325.4,2,-999.0000,9,  -999.00,-999.0000,9, -999.00,9, -999.00,9,  -999.0,9,  -999.0, -999.00,9, -999.00,9, -999.00,9, -999.00,9,   5.2595, -999.00
096U20160426,       P15S,     122,          1,         20,       2020,2,20160619,       0922,    -8.9988,  -168.8752,       4909,   966.7,   4.7870,  34.5250,2,  34.5229,2,    114.0,2,   112.0,2,   64.58,2,   36.08,2,    0.00,4,    2.56,2,-999.000,9,-999.000,9,-999.000,9,  -999.0,9,  -999.0,9,-999.0000,9,  -999.00,-999.0000,9, -999.00,9, -999.00,9,  -999.0,9,  -999.0, -999.00,9, -999.00,9, -999.00,9, -999.00,9,   4.7082, -999.00
096U20160426,       P15S,     122,          1,         19,       2019,2,20160619,       0922,    -8.9988,  -168.8752,       4909,  1066.1,   4.2950,  34.5390,2,  34.5378,2,    110.3,2,   107.9,2,   75.39,2,   36.94,2,    0.00,4,    2.63,2,-999.000,9,-999.000,9,-999.000,9,  2282.3,2,  2347.0,2,-999.0000,9,  -999.00,-999.0000,9, -999.00,9, -999.00,9,  -999.0,9,  -999.0, -999.00,9, -999.00,9, -999.00,9, -999.00,9,   4.2113, -999.00
096U20160426,       P15S,     122,          1,         18,       2018,2,20160619,       0922,    -8.9988,  -168.8752,       4909,  1166.2,   3.8830,  34.5520,2,  34.5510,2,    112.7,2,   110.6,2,   84.25,2,   36.98,2,    0.00,4,    2.64,2,-999.000,9,-999.000,9,-999.000,9,  -999.0,9,  -999.0,9,-999.0000,9,  -999.00,-999.0000,9, -999.00,9, -999.00,9,  -999.0,9,  -999.0, -999.00,9, -999.00,9, -999.00,9, -999.00,9,   3.7943, -999.00
096U20160426,       P15S,     122,          1,         17,       2017,2,20160619,       0922,    -8.9988,  -168.8752,       4909,  1267.2,   3.5610,  34.5660,2,  34.5651,2,    115.2,2,   113.2,2,   91.55,2,   36.89,2,    0.00,4,    2.63,2,   0.004,2,   0.002,2,       0,2,  2295.9,2,  2366.6,2,-999.0000,9,  -999.00,-999.0000,9, -999.00,9, -999.00,9,  -999.0,9,  -999.0, -999.00,9, -999.00,9, -999.00,9, -999.00,9,   3.4667, -999.00
096U20160426,       P15S,     122,          1,         16,       2016,2,20160619,       0922,    -8.9988,  -168.8752,       4909,  1366.9,   3.2690,  34.5780,2,  34.5776,2,    119.1,2,   117.3,2,   97.81,2,   36.73,2,    0.00,4,    2.62,2,-999.000,9,-999.000,9,-999.000,9,  -999.0,9,  -999.0,9,-999.0000,9,  -999.00,-999.0000,9, -999.00,9, -999.00,9,  -999.0,9,  -999.0, -999.00,9, -999.00,9, -999.00,9, -999.00,9,   3.1693, -999.00
096U20160426,       P15S,     122,          1,         15,       2015,2,20160619,       0922,    -8.9988,  -168.8752,       4909,  1535.6,   2.8510,  34.5980,2,  34.5967,2,    125.4,2,   124.1,2,  106.31,2,   36.33,2,    0.00,4,    2.58,2,-999.000,9,-999.000,9,-999.000,9,  -999.0,9,  -999.0,9,-999.0000,9,  -999.00,-999.0000,9, -999.00,9, -999.00,9,  -999.0,9,  -999.0, -999.00,9, -999.00,9, -999.00,9, -999.00,9,   2.7419, -999.00
096U20160426,       P15S,     122,          1,         14,       2014,2,20160619,       0922,    -8.9988,  -168.8752,       4909,  1736.7,   2.5420,  34.6160,2,  34.6148,2,    129.5,2,   128.2,2,  113.55,2,   36.09,2,    0.00,4,    2.56,2,-999.000,9,-999.000,9,-999.000,9,  -999.0,9,  -999.0,9,-999.0000,9,  -999.00,-999.0000,9, -999.00,9, -999.00,9,  -999.0,9,  -999.0, -999.00,9, -999.00,9, -999.00,9, -999.00,9,   2.4199, -999.00
096U20160426,       P15S,     122,          1,         13,       2013,2,20160619,       0922,    -8.9988,  -168.8752,       4909,  1935.5,   2.3010,  34.6320,2,  34.6305,2,    131.3,2,   130.4,2,  120.33,2,   36.05,2,    0.00,4,    2.56,2,  -0.002,2,   0.000,2,       0,2,  2319.5,2,  2399.4,6,-999.0000,9,  -999.00,-999.0000,9, -999.00,9, -999.00,9,  -999.0,9,  -999.0, -999.00,9, -999.00,9, -999.00,9, -999.00,9,   2.1655, -999.00
096U20160426,       P15S,     122,          1,         12,       2012,2,20160619,       0922,    -8.9988,  -168.8752,       4909,  2166.1,   2.0940,  34.6460,2,  34.6433,2,    135.4,2,   134.8,2,  125.12,2,   35.79,2,    0.00,4,    2.54,2,-999.000,9,-999.000,9,-999.000,9,  -999.0,9,  -999.0,9,-999.0000,9,  -999.00,-999.0000,9, -999.00,9, -999.00,9,  -999.0,9,  -999.0, -999.00,9, -999.00,9, -999.00,9, -999.00,9,   1.9418, -999.00
096U20160426,       P15S,     122,          1,         11,       2011,2,20160619,       0922,    -8.9988,  -168.8752,       4909,  2415.5,   1.9400,  34.6570,2,  34.6566,2,    139.0,2,   138.8,2,  128.85,2,   35.58,2,    0.00,4,    2.52,2,-999.000,9,-999.000,9,-999.000,9,  -999.0,9,  -999.0,9,-999.0000,9,  -999.00,-999.0000,9, -999.00,9, -999.00,9,  -999.0,9,  -999.0, -999.00,9, -999.00,9, -999.00,9, -999.00,9,   1.7684, -999.00
096U20160426,       P15S,     122,          1,         10,       2010,2,20160619,       0922,    -8.9988,  -168.8752,       4909,  2665.2,   1.7960,  34.6680,2,  34.6668,2,    144.3,2,   144.2,2,  131.14,2,   35.20,2,    0.00,4,    2.49,2,-999.000,9,-999.000,9,-999.000,9,  -999.0,9,  -999.0,9,-999.0000,9,  -999.00,-999.0000,9, -999.00,9, -999.00,9,  -999.0,9,  -999.0, -999.00,9, -999.00,9, -999.00,9, -999.00,9,   1.6044, -999.00
096U20160426,       P15S,     122,          1,          9,       2009,2,20160619,       0922,    -8.9988,  -168.8752,       4909,  2915.4,   1.7020,  34.6740,2,  34.6743,2,    147.9,2,   148.0,2,  132.56,2,   34.98,2,    0.00,4,    2.47,2,   0.002,2,   0.004,2,       0,2,  2324.6,2,  2411.2,2,-999.0000,9,  -999.00,-999.0000,9, -999.00,9, -999.00,9,  -999.0,9,  -999.0, -999.00,9, -999.00,9, -999.00,9, -999.00,9,   1.4888, -999.00
096U20160426,       P15S,     122,          1,          8,       2008,2,20160619,       0922,    -8.9988,  -168.8752,       4909,  3200.7,   1.6330,  34.6800,2,  34.6786,2,    153.5,2,   154.0,2,  131.92,2,   34.59,2,    0.00,4,    2.43,2,-999.000,9,-999.000,9,-999.000,9,  -999.0,9,  -999.0,9,-999.0000,9,  -999.00,-999.0000,9, -999.00,9, -999.00,9,  -999.0,9,  -999.0, -999.00,9, -999.00,9, -999.00,9, -999.00,9,   1.3937, -999.00
096U20160426,       P15S,     122,          1,          7,       2007,2,20160619,       0922,    -8.9988,  -168.8752,       4909,  3500.4,   1.5480,  34.6850,2,  34.6838,2,    159.5,2,   160.3,2,  131.58,2,   34.21,2,    0.00,4,    2.40,2,-999.000,9,-999.000,9,-999.000,9,  -999.0,9,  -999.0,9,-999.0000,9,  -999.00,-999.0000,9, -999.00,9, -999.00,9,  -999.0,9,  -999.0, -999.00,9, -999.00,9, -999.00,9, -999.00,9,   1.2805, -999.00
096U20160426,       P15S,     122,          1,          6,       2006,2,20160619,       0922,    -8.9988,  -168.8752,       4909,  3799.9,   1.4930,  34.6890,2,  34.6896,2,    164.9,2,   165.0,2,  130.50,2,   33.84,2,    0.00,4,    2.38,2,   0.008,2,   0.007,2,   0.041,3,  2311.1,2,  2408.2,2,-999.0000,9,  -999.00,-999.0000,9, -999.00,9, -999.00,9,  -999.0,9,  -999.0, -999.00,9, -999.00,9, -999.00,9, -999.00,9,   1.1957, -999.00
096U20160426,       P15S,     122,          1,          5,       2005,2,20160619,       0922,    -8.9988,  -168.8752,       4909,  4249.0,   1.3540,  34.6980,2,  34.6967,2,    177.4,2,   179.3,2,  126.57,2,   32.89,2,    0.00,4,    2.30,2,   0.016,2,   0.008,2,       0,2,  2295.1,2,  2391.9,2,-999.0000,9,  -999.00,-999.0000,9, -999.00,9, -999.00,9,  -999.0,9,  -999.0, -999.00,9, -999.00,9, -999.00,9, -999.00,9,   1.0118, -999.00
096U20160426,       P15S,     122,          1,          4,       2004,2,20160619,       0922,    -8.9988,  -168.8752,       4909,  4450.9,   1.1110,  34.7080,2,  34.7077,2,    197.1,2,   199.7,2,  118.50,2,   31.52,2,    0.00,4,    2.20,2,   0.046,2,   0.028,2,   0.016,2,  2268.5,2,  2371.4,2,-999.0000,9,  -999.00,-999.0000,9, -999.00,9, -999.00,9,  -999.0,9,  -999.0, -999.00,9, -999.00,9, -999.00,9, -999.00,9,   0.7535, -999.00
096U20160426,       P15S,     122,          1,          3,       2003,2,20160619,       0922,    -8.9988,  -168.8752,       4909,  4700.8,   1.0670,  34.7100,2,  34.7093,2,    202.0,2,   204.5,2,  117.44,2,   31.49,2,    0.00,4,    2.18,2,   0.056,2,   0.027,2,       0,2,  2265.6,2,  2366.6,2,-999.0000,9,  -999.00,-999.0000,9, -999.00,9, -999.00,9,  -999.0,9,  -999.0, -999.00,9, -999.00,9, -999.00,9, -999.00,9,   0.6823, -999.00
096U20160426,       P15S,     122,          1,          2,       2002,2,20160619,       0922,    -8.9988,  -168.8752,       4909,  4882.5,   1.0840,  34.7100,2,  34.7097,2,    202.7,2,   204.9,2,  117.36,2,   31.83,2,    0.00,4,    2.18,2,   0.064,2,   0.030,2,       0,2,  2263.7,6,  2366.9,6,-999.0000,9,  -999.00,-999.0000,9, -999.00,9, -999.00,9,  -999.0,9,  -999.0, -999.00,9, -999.00,9, -999.00,9, -999.00,9,   0.6776, -999.00
096U20160426,       P15S,     122,          1,          1,       2001,2,20160619,       0922,    -8.9988,  -168.8752,       4909,  4954.6,   1.0920,  34.7100,2,  34.7085,2,    203.0,2,   205.6,2,  117.36,2,   32.09,3,    0.00,4,    2.18,2,   0.061,2,   0.036,2,       0,2,  2263.6,2,  2364.9,2,-999.0000,9,  -999.00,-999.0000,9, -999.00,9, -999.00,9,  -999.0,9,  -999.0, -999.00,9, -999.00,9, -999.00,9, -999.00,9,   0.6768, -999.00