BOTTLE,20230413CCHSIOENA
# merged paramaters from most recent submission from Bob Key
# Merged parameters: PH_TOT, PH_TOT_FLAG_W, HELIUM, HELIUM_FLAG_W, DELHE3, DELHE3_FLAG_W, DELHER, DELC13, DELC13_FLAG_W, DELC14, DELC14_FLAG_W, C14ERR
# 20171030CCHSIOCBG
# TIME at station 1, cast 1 from 0660 to 0659 
#BOTTLE,20170818PRINUNIVRMK
# 05/02/2016 Initialized README file  
# Data source: B.Sloyan 20170119 
# SHIP: R/V Investiagtor 
# Cruise: P15S; IN2016_V03 
# Region: SW Pacific 
# EXPOCODE: 096U20160426 
# DATES: 20160426 - 20160630 
# Chief Scientist: Bernadette Sloyan 
# 136 stations with 36 place Rosette 
# SOCCOM Biogeochemical floats deployed by Catriona Johnson 
# Sta   WMO_ID	Lat       Lon       Date       U.W.ID	 
#  2   5904768  -66.3417 -170.0002  20160504     0570 
#  3   5904767  -65.6640 -170.0658  20160505     0568 
#  6   5904672  -64.0367 -170.1683  20160506     0565 
# 11   5904764  -61.9217 -169.9067  20160508     9761 
# 15   5904673  -60.0250 -170.0717  20160511     0571 
# 19   5904695  -57.9800 -169.9483  20160513     9265 
# 25   5904766  -57.1000 -169.9517  20160515     0566 
# 31   5904761  -51.9250 -169.9117  20160517     9660 
# 35   5904763  -49.9633 -169.7833  20160518     9632 
# 39   5904693  -47.9967 -169.9733  20160519     9634 
# 43   5904765  -46.6667 -171.5283  20160521     9762 
# 57   5904674  -39.9633 -172.5683  20160530     9630 
# 61   5904694  -38.1200 -171.4500  20160531     9752 
# Supported by NSF Award PLR-1425989 to J.L. Sarmiento et al.  
# Hydro: Who - B.Sloyan; Status - final 
# 	Notes: Bottles above 450m at Sta 3 fired "on the fly" due to weather 
# CTD: Who - B.Sloyan; Status - mixed 
# 	Includes: CTDSAL, CTDOXY 
# 	CTD calibration not finished 
# Nutrients: Who - ; Status - 
# 	Notes: NITRAT calculated from (NO3+NO2) - NO2. 
#                NO3+NO2 flags assigned to NITRAT 
# O2: Who - B.Sloyan; Status - final 
# 	Notes: 
# TCO2: Who - Bronte Tilbrook; Status - final 
# 	Notes:  
# TA: Who - Bronte Tilbrook; Status - final 
# 	Notes: additional shore based analyses by Dickson,  
# 		but not included in final file. 
# pH: Who - Andrew Dickson; Status - final 
# 	Notes: samples run ashore 
# 	Total H+ scale at 25C 
# pCO2: Who - Bronte Tilbrook; Status - final 
# 	Notes: underway only, with oxygen 
# CFC: Who - M.Warner;J.Bullister; Status - final 
# 	Notes: with SF6 
# 	Final values from J.Bullister 5/5/17 
# C14: Who - R.Key;A.McNichol; Status - final 
# 	Notes: added 7/30/2020 
# 3H/3He: Who - S.Downes/J.Lupton; Status - final 
# 	Notes: Data rcd 2/12/18 
# HPLC: Who - E.Boss; Status -final 
# 	Notes: not merged into this file 
# POC/PON: Who - E.Boss; Status -final 
# 	Notes: Co0nverted to ug/kg using measured density 
# 	Std.Dev. of POC replicates 2.5ug/kg 
# 	Std.Dev. of PON replicates 0.7ug/kg 
# 	Updated8/18/17 via file "SOCCOM_P15S_POC.csv" provided by  
# 		Nils Haentjens 6/19/17 
# ChloroA/Phaeo: Who - E.Reas; Status - final/preliminary 
# 	Notes: via Turner Trilogy Fluorometer 
# 	Min. Det. Level 0.025ug/L for ChlA extracted, acidification 
# 	Min. Det. Level 0.025ug/L for ChlA extracted, non-acidification 
# These data should be cited as: 
# References that have used data from this cruise:
EXPOCODE,SECT_ID,STNNBR,CASTNO,SAMPNO,BTLNBR,BTLNBR_FLAG_W,DATE,TIME,LATITUDE,LONGITUDE,DEPTH,CTDPRS,CTDTMP,CTDSAL,CTDSAL_FLAG_W,SALNTY,SALNTY_FLAG_W,CTDOXY,CTDOXY_FLAG_W,OXYGEN,OXYGEN_FLAG_W,SILCAT,SILCAT_FLAG_W,NITRAT,NITRAT_FLAG_W,NITRIT,NITRIT_FLAG_W,PHSPHT,PHSPHT_FLAG_W,CFC-11,CFC-11_FLAG_W,CFC-12,CFC-12_FLAG_W,SF6,SF6_FLAG_W,TCARBN,TCARBN_FLAG_W,ALKALI,ALKALI_FLAG_W,PH_TOT,PH_TOT_FLAG_W,PH_TMP,HELIUM,HELIUM_FLAG_W,DELHE3,DELHE3_FLAG_W,DELC13,DELC13_FLAG_W,DELC14,DELC14_FLAG_W,C14ERR,POC,POC_FLAG_W,PON,PON_FLAG_W,CHLORA,CHLORA_FLAG_W,PPHYTN,PPHYTN_FLAG_W,THETA,DELHER
,,,,,,,,,,,METERS,DBAR,ITS-90,PSS-78,,PSS-78,,UMOL/KG,,UMOL/KG,,UMOL/KG,,UMOL/KG,,UMOL/KG,,UMOL/KG,,PMOL/KG,,PMOL/KG,,FMOL/KG,,UMOL/KG,,UMOL/KG,,,,DEG C,NMOL/KG,,PERCNT,,/MILLE,,/MILLE,,/MILLE,UG/KG,,UG/KG,,UG/KG,,UG/KG,,DEG C,PERCNT
096U20160426,       P15S,       1,          1,          3,       2003,2,20160427,       0659,   -45.5031,   149.3977,       4304,  3023.4,   1.7960,  34.7330,2,  34.7328,2,    192.5,2,  -999.0,9, -999.00,9, -999.00,9, -999.00,9, -999.00,9,   0.038,2,   0.022,2,       0,2,  -999.0,9,  -999.0,9,-999.0000,9,  -999.00,-999.0000,9, -999.00,9, -999.00,9,  -999.0,9,  -999.0, -999.00,9, -999.00,9, -999.00,9, -999.00,9,   1.5701, -999.00
096U20160426,       P15S,       1,          1,          2,       2002,2,20160427,       0659,   -45.5031,   149.3977,       4304,  3023.6,   1.7960,  34.7330,2,  34.7331,2,    192.5,2,  -999.0,9, -999.00,9, -999.00,9, -999.00,9, -999.00,9,-999.000,9,-999.000,9,-999.000,9,  -999.0,9,  -999.0,9,-999.0000,9,  -999.00,-999.0000,9, -999.00,9, -999.00,9,  -999.0,9,  -999.0, -999.00,9, -999.00,9, -999.00,9, -999.00,9,   1.5701, -999.00
096U20160426,       P15S,       1,          1,          1,       2001,2,20160427,       0659,   -45.5031,   149.3977,       4304,  3024.1,   1.7960,  34.7330,2,  34.7322,2,    192.3,2,  -999.0,9, -999.00,9, -999.00,9, -999.00,9, -999.00,9,-999.000,9,-999.000,9,-999.000,9,  -999.0,9,  -999.0,9,-999.0000,9,  -999.00,-999.0000,9, -999.00,9, -999.00,9,  -999.0,9,  -999.0, -999.00,9, -999.00,9, -999.00,9, -999.00,9,   1.5700, -999.00
096U20160426,       P15S,       1,          1,          4,       2004,2,20160427,       0659,   -45.5031,   149.3977,       4304,  3024.2,   1.7960,  34.7330,2,  34.7325,2,    192.5,2,  -999.0,9, -999.00,9, -999.00,9, -999.00,9, -999.00,9,   0.037,2,   0.021,2,       0,2,  -999.0,9,  -999.0,9,-999.0000,9,  -999.00,-999.0000,9, -999.00,9, -999.00,9,  -999.0,9,  -999.0, -999.00,9, -999.00,9, -999.00,9, -999.00,9,   1.5700, -999.00
096U20160426,       P15S,       1,          1,          8,       2008,2,20160427,       0659,   -45.5031,   149.3977,       4304,  3024.2,   1.7950,  34.7330,2,  34.7327,2,    192.3,2,  -999.0,9, -999.00,9, -999.00,9, -999.00,9, -999.00,9,   0.037,2,   0.019,2,       0,2,  -999.0,9,  -999.0,9,-999.0000,9,  -999.00,-999.0000,9, -999.00,9, -999.00,9,  -999.0,9,  -999.0, -999.00,9, -999.00,9, -999.00,9, -999.00,9,   1.5690, -999.00
096U20160426,       P15S,       1,          1,         13,       2013,2,20160427,       0659,   -45.5031,   149.3977,       4304,  3024.3,   1.7950,  34.7330,2,  34.7327,2,    192.4,2,  -999.0,9, -999.00,9, -999.00,9, -999.00,9, -999.00,9,   0.036,2,   0.019,2,       0,2,  -999.0,9,  -999.0,9,-999.0000,9,  -999.00,-999.0000,9, -999.00,9, -999.00,9,  -999.0,9,  -999.0, -999.00,9, -999.00,9, -999.00,9, -999.00,9,   1.5690, -999.00
096U20160426,       P15S,       1,          1,         24,       2024,2,20160427,       0659,   -45.5031,   149.3977,       4304,  3024.3,   1.7940,  34.7330,2,  34.7331,2,    192.5,2,  -999.0,9, -999.00,9, -999.00,9, -999.00,9, -999.00,9,-999.000,9,-999.000,9,-999.000,9,  -999.0,9,  -999.0,9,-999.0000,9,  -999.00,-999.0000,9, -999.00,9, -999.00,9,  -999.0,9,  -999.0, -999.00,9, -999.00,9, -999.00,9, -999.00,9,   1.5681, -999.00
096U20160426,       P15S,       1,          1,          7,       2007,2,20160427,       0659,   -45.5031,   149.3977,       4304,  3024.5,   1.7960,  34.7330,2,  34.7325,2,    192.4,2,  -999.0,9, -999.00,9, -999.00,9, -999.00,9, -999.00,9,-999.000,9,-999.000,9,-999.000,9,  -999.0,9,  -999.0,9,-999.0000,9,  -999.00,-999.0000,9, -999.00,9, -999.00,9,  -999.0,9,  -999.0, -999.00,9, -999.00,9, -999.00,9, -999.00,9,   1.5700, -999.00
096U20160426,       P15S,       1,          1,         12,       2012,2,20160427,       0659,   -45.5031,   149.3977,       4304,  3024.5,   1.7940,  34.7330,2,  34.7323,2,    192.4,2,  -999.0,9, -999.00,9, -999.00,9, -999.00,9, -999.00,9,   0.040,2,   0.024,2,   0.014,2,  -999.0,9,  -999.0,9,-999.0000,9,  -999.00,-999.0000,9, -999.00,9, -999.00,9,  -999.0,9,  -999.0, -999.00,9, -999.00,9, -999.00,9, -999.00,9,   1.5680, -999.00
096U20160426,       P15S,       1,          1,          6,       2006,2,20160427,       0659,   -45.5031,   149.3977,       4304,  3024.6,   1.7960,  34.7330,2,  34.7323,2,    192.5,2,  -999.0,9, -999.00,9, -999.00,9, -999.00,9, -999.00,9,   0.036,2,   0.021,2,       0,2,  -999.0,9,  -999.0,9,-999.0000,9,  -999.00,-999.0000,9, -999.00,9, -999.00,9,  -999.0,9,  -999.0, -999.00,9, -999.00,9, -999.00,9, -999.00,9,   1.5700, -999.00
096U20160426,       P15S,       1,          1,          9,       2009,2,20160427,       0659,   -45.5031,   149.3977,       4304,  3024.6,   1.7950,  34.7330,2,  34.7325,2,    192.3,2,  -999.0,9, -999.00,9, -999.00,9, -999.00,9, -999.00,9,   0.043,2,   0.020,2,       0,2,  -999.0,9,  -999.0,9,-999.0000,9,  -999.00,-999.0000,9, -999.00,9, -999.00,9,  -999.0,9,  -999.0, -999.00,9, -999.00,9, -999.00,9, -999.00,9,   1.5690, -999.00
096U20160426,       P15S,       1,          1,         23,       2023,2,20160427,       0659,   -45.5031,   149.3977,       4304,  3024.6,   1.7930,  34.7330,2,  34.7328,2,    192.5,2,  -999.0,9, -999.00,9, -999.00,9, -999.00,9, -999.00,9,-999.000,9,-999.000,9,-999.000,9,  -999.0,9,  -999.0,9,-999.0000,9,  -999.00,-999.0000,9, -999.00,9, -999.00,9,  -999.0,9,  -999.0, -999.00,9, -999.00,9, -999.00,9, -999.00,9,   1.5670, -999.00
096U20160426,       P15S,       1,          1,         15,       2015,2,20160427,       0659,   -45.5031,   149.3977,       4304,  3024.7,   1.7950,  34.7330,2,  34.7322,2,    192.5,2,  -999.0,9, -999.00,9, -999.00,9, -999.00,9, -999.00,9,   0.036,2,   0.017,2,   0.052,2,  -999.0,9,  -999.0,9,-999.0000,9,  -999.00,-999.0000,9, -999.00,9, -999.00,9,  -999.0,9,  -999.0, -999.00,9, -999.00,9, -999.00,9, -999.00,9,   1.5690, -999.00
096U20160426,       P15S,       1,          1,          5,       2005,2,20160427,       0659,   -45.5031,   149.3977,       4304,  3024.8,   1.7960,  34.7330,2,-999.0000,9,    192.5,2,  -999.0,9, -999.00,9, -999.00,9, -999.00,9, -999.00,9,-999.000,9,-999.000,9,-999.000,9,  -999.0,9,  -999.0,9,-999.0000,9,  -999.00,-999.0000,9, -999.00,9, -999.00,9,  -999.0,9,  -999.0, -999.00,9, -999.00,9, -999.00,9, -999.00,9,   1.5700, -999.00
096U20160426,       P15S,       1,          1,         14,       2014,2,20160427,       0659,   -45.5031,   149.3977,       4304,  3024.8,   1.7950,  34.7330,2,  34.7324,2,    192.4,2,  -999.0,9, -999.00,9, -999.00,9, -999.00,9, -999.00,9,   0.039,2,   0.018,2,       0,2,  -999.0,9,  -999.0,9,-999.0000,9,  -999.00,-999.0000,9, -999.00,9, -999.00,9,  -999.0,9,  -999.0, -999.00,9, -999.00,9, -999.00,9, -999.00,9,   1.5690, -999.00
096U20160426,       P15S,       1,          1,         16,       2016,2,20160427,       0659,   -45.5031,   149.3977,       4304,  3024.8,   1.7940,  34.7330,2,  34.7341,2,    192.5,2,  -999.0,9, -999.00,9, -999.00,9, -999.00,9, -999.00,9,   0.037,2,   0.017,2,       0,2,  -999.0,9,  -999.0,9,-999.0000,9,  -999.00,-999.0000,9, -999.00,9, -999.00,9,  -999.0,9,  -999.0, -999.00,9, -999.00,9, -999.00,9, -999.00,9,   1.5680, -999.00
096U20160426,       P15S,       1,          1,         20,       2020,2,20160427,       0659,   -45.5031,   149.3977,       4304,  3025.0,   1.7930,  34.7330,2,  34.7329,2,    192.4,2,  -999.0,9, -999.00,9, -999.00,9, -999.00,9, -999.00,9,-999.000,9,-999.000,9,-999.000,9,  -999.0,9,  -999.0,9,-999.0000,9,  -999.00,-999.0000,9, -999.00,9, -999.00,9,  -999.0,9,  -999.0, -999.00,9, -999.00,9, -999.00,9, -999.00,9,   1.5670, -999.00
096U20160426,       P15S,       1,          1,         25,       2025,2,20160427,       0659,   -45.5031,   149.3977,       4304,  3025.0,   1.7940,  34.7330,2,  34.7333,2,    192.5,2,  -999.0,9, -999.00,9, -999.00,9, -999.00,9, -999.00,9,-999.000,9,-999.000,9,-999.000,9,  -999.0,9,  -999.0,9,-999.0000,9,  -999.00,-999.0000,9, -999.00,9, -999.00,9,  -999.0,9,  -999.0, -999.00,9, -999.00,9, -999.00,9, -999.00,9,   1.5680, -999.00
096U20160426,       P15S,       1,          1,         11,       2011,2,20160427,       0659,   -45.5031,   149.3977,       4304,  3025.2,   1.7940,  34.7330,2,  34.7323,2,    192.4,2,  -999.0,9, -999.00,9, -999.00,9, -999.00,9, -999.00,9,   0.034,2,   0.018,2,       0,2,  -999.0,9,  -999.0,9,-999.0000,9,  -999.00,-999.0000,9, -999.00,9, -999.00,9,  -999.0,9,  -999.0, -999.00,9, -999.00,9, -999.00,9, -999.00,9,   1.5680, -999.00
096U20160426,       P15S,       1,          1,         10,       2010,2,20160427,       0659,   -45.5031,   149.3977,       4304,  3025.3,   1.7950,  34.7330,2,  34.7419,3,    192.4,2,  -999.0,9, -999.00,9, -999.00,9, -999.00,9, -999.00,9,   0.034,2,   0.018,2,       0,2,  -999.0,9,  -999.0,9,-999.0000,9,  -999.00,-999.0000,9, -999.00,9, -999.00,9,  -999.0,9,  -999.0, -999.00,9, -999.00,9, -999.00,9, -999.00,9,   1.5689, -999.00
096U20160426,       P15S,       1,          1,         19,       2019,2,20160427,       0659,   -45.5031,   149.3977,       4304,  3025.4,   1.7930,  34.7330,2,  34.7328,2,    192.5,2,  -999.0,9, -999.00,9, -999.00,9, -999.00,9, -999.00,9,-999.000,9,-999.000,9,-999.000,9,  -999.0,9,  -999.0,9,-999.0000,9,  -999.00,-999.0000,9, -999.00,9, -999.00,9,  -999.0,9,  -999.0, -999.00,9, -999.00,9, -999.00,9, -999.00,9,   1.5670, -999.00
096U20160426,       P15S,       1,          1,         21,       2021,2,20160427,       0659,   -45.5031,   149.3977,       4304,  3025.4,   1.7940,  34.7330,2,  34.7325,2,    192.4,2,  -999.0,9, -999.00,9, -999.00,9, -999.00,9, -999.00,9,-999.000,9,-999.000,9,-999.000,9,  -999.0,9,  -999.0,9,-999.0000,9,  -999.00,-999.0000,9, -999.00,9, -999.00,9,  -999.0,9,  -999.0, -999.00,9, -999.00,9, -999.00,9, -999.00,9,   1.5679, -999.00
096U20160426,       P15S,       1,          1,         22,       2022,2,20160427,       0659,   -45.5031,   149.3977,       4304,  3025.4,   1.7930,  34.7330,2,  34.7329,2,    192.4,2,  -999.0,9, -999.00,9, -999.00,9, -999.00,9, -999.00,9,-999.000,9,-999.000,9,-999.000,9,  -999.0,9,  -999.0,9,-999.0000,9,  -999.00,-999.0000,9, -999.00,9, -999.00,9,  -999.0,9,  -999.0, -999.00,9, -999.00,9, -999.00,9, -999.00,9,   1.5670, -999.00
096U20160426,       P15S,       1,          1,         28,       2028,2,20160427,       0659,   -45.5031,   149.3977,       4304,  3025.6,   1.7920,  34.7330,2,  34.7331,2,    192.5,2,  -999.0,9, -999.00,9, -999.00,9, -999.00,9, -999.00,9,-999.000,9,-999.000,9,-999.000,9,  -999.0,9,  -999.0,9,-999.0000,9,  -999.00,-999.0000,9, -999.00,9, -999.00,9,  -999.0,9,  -999.0, -999.00,9, -999.00,9, -999.00,9, -999.00,9,   1.5660, -999.00
096U20160426,       P15S,       1,          1,         17,       2017,2,20160427,       0659,   -45.5031,   149.3977,       4304,  3025.8,   1.7930,  34.7330,2,  34.7332,2,    192.5,2,  -999.0,9, -999.00,9, -999.00,9, -999.00,9, -999.00,9,   0.037,2,   0.019,2,       0,2,  -999.0,9,  -999.0,9,-999.0000,9,  -999.00,-999.0000,9, -999.00,9, -999.00,9,  -999.0,9,  -999.0, -999.00,9, -999.00,9, -999.00,9, -999.00,9,   1.5669, -999.00
096U20160426,       P15S,       1,          1,         18,       2018,2,20160427,       0659,   -45.5031,   149.3977,       4304,  3026.0,   1.7930,  34.7330,2,  34.7340,2,    192.5,2,  -999.0,9, -999.00,9, -999.00,9, -999.00,9, -999.00,9,   0.036,2,   0.019,2,   0.013,2,  -999.0,9,  -999.0,9,-999.0000,9,  -999.00,-999.0000,9, -999.00,9, -999.00,9,  -999.0,9,  -999.0, -999.00,9, -999.00,9, -999.00,9, -999.00,9,   1.5669, -999.00
096U20160426,       P15S,       1,          1,         26,       2026,2,20160427,       0659,   -45.5031,   149.3977,       4304,  3026.3,   1.7940,  34.7330,2,  34.5112,3,    192.5,2,  -999.0,9, -999.00,9, -999.00,9, -999.00,9, -999.00,9,-999.000,9,-999.000,9,-999.000,9,  -999.0,9,  -999.0,9,-999.0000,9,  -999.00,-999.0000,9, -999.00,9, -999.00,9,  -999.0,9,  -999.0, -999.00,9, -999.00,9, -999.00,9, -999.00,9,   1.5679, -999.00
096U20160426,       P15S,       1,          1,         31,       2031,2,20160427,       0659,   -45.5031,   149.3977,       4304,  3026.6,   1.7910,  34.7330,2,  34.7333,2,    192.6,2,  -999.0,9, -999.00,9, -999.00,9, -999.00,9, -999.00,9,-999.000,9,-999.000,9,-999.000,9,  -999.0,9,  -999.0,9,-999.0000,9,  -999.00,-999.0000,9, -999.00,9, -999.00,9,  -999.0,9,  -999.0, -999.00,9, -999.00,9, -999.00,9, -999.00,9,   1.5649, -999.00
096U20160426,       P15S,       1,          1,         30,       2030,2,20160427,       0659,   -45.5031,   149.3977,       4304,  3026.7,   1.7910,  34.7330,2,  34.7328,2,    192.6,2,  -999.0,9, -999.00,9, -999.00,9, -999.00,9, -999.00,9,-999.000,9,-999.000,9,-999.000,9,  -999.0,9,  -999.0,9,-999.0000,9,  -999.00,-999.0000,9, -999.00,9, -999.00,9,  -999.0,9,  -999.0, -999.00,9, -999.00,9, -999.00,9, -999.00,9,   1.5649, -999.00
096U20160426,       P15S,       1,          1,         27,       2027,2,20160427,       0659,   -45.5031,   149.3977,       4304,  3026.8,   1.7920,  34.7330,2,  34.7326,2,    192.5,2,  -999.0,9, -999.00,9, -999.00,9, -999.00,9, -999.00,9,-999.000,9,-999.000,9,-999.000,9,  -999.0,9,  -999.0,9,-999.0000,9,  -999.00,-999.0000,9, -999.00,9, -999.00,9,  -999.0,9,  -999.0, -999.00,9, -999.00,9, -999.00,9, -999.00,9,   1.5659, -999.00
096U20160426,       P15S,       1,          1,         29,       2029,2,20160427,       0659,   -45.5031,   149.3977,       4304,  3028.0,   1.7910,  34.7330,2,  34.7379,2,    192.6,2,  -999.0,9, -999.00,9, -999.00,9, -999.00,9, -999.00,9,-999.000,9,-999.000,9,-999.000,9,  -999.0,9,  -999.0,9,-999.0000,9,  -999.00,-999.0000,9, -999.00,9, -999.00,9,  -999.0,9,  -999.0, -999.00,9, -999.00,9, -999.00,9, -999.00,9,   1.5647, -999.00
096U20160426,       P15S,       1,          1,         32,       2032,2,20160427,       0659,   -45.5031,   149.3977,       4304,  3028.0,   1.7920,  34.7330,2,  34.7331,2,    192.5,2,  -999.0,9, -999.00,9, -999.00,9, -999.00,9, -999.00,9,-999.000,9,-999.000,9,-999.000,9,  -999.0,9,  -999.0,9,-999.0000,9,  -999.00,-999.0000,9, -999.00,9, -999.00,9,  -999.0,9,  -999.0, -999.00,9, -999.00,9, -999.00,9, -999.00,9,   1.5657, -999.00
096U20160426,       P15S,       1,          1,         33,       2033,2,20160427,       0659,   -45.5031,   149.3977,       4304,  3028.7,   1.7910,  34.7330,2,  34.7327,2,    192.6,2,  -999.0,9, -999.00,9, -999.00,9, -999.00,9, -999.00,9,-999.000,9,-999.000,9,-999.000,9,  -999.0,9,  -999.0,9,-999.0000,9,  -999.00,-999.0000,9, -999.00,9, -999.00,9,  -999.0,9,  -999.0, -999.00,9, -999.00,9, -999.00,9, -999.00,9,   1.5647, -999.00
096U20160426,       P15S,       1,          1,         34,       2034,2,20160427,       0659,   -45.5031,   149.3977,       4304,  3029.0,   1.7910,  34.7330,2,  34.7331,2,    192.6,2,  -999.0,9, -999.00,9, -999.00,9, -999.00,9, -999.00,9,-999.000,9,-999.000,9,-999.000,9,  -999.0,9,  -999.0,9,-999.0000,9,  -999.00,-999.0000,9, -999.00,9, -999.00,9,  -999.0,9,  -999.0, -999.00,9, -999.00,9, -999.00,9, -999.00,9,   1.5647, -999.00
096U20160426,       P15S,       1,          1,         36,       2036,2,20160427,       0659,   -45.5031,   149.3977,       4304,  3029.0,   1.7910,  34.7330,2,  34.7327,2,    192.5,2,  -999.0,9, -999.00,9, -999.00,9, -999.00,9, -999.00,9,-999.000,9,-999.000,9,-999.000,9,  -999.0,9,  -999.0,9,-999.0000,9,  -999.00,-999.0000,9, -999.00,9, -999.00,9,  -999.0,9,  -999.0, -999.00,9, -999.00,9, -999.00,9, -999.00,9,   1.5647, -999.00
096U20160426,       P15S,       1,          1,         35,       2035,2,20160427,       0659,   -45.5031,   149.3977,       4304,  3029.1,   1.7910,  34.7330,2,  34.7332,2,    192.6,2,  -999.0,9, -999.00,9, -999.00,9, -999.00,9, -999.00,9,-999.000,9,-999.000,9,-999.000,9,  -999.0,9,  -999.0,9,-999.0000,9,  -999.00,-999.0000,9, -999.00,9, -999.00,9,  -999.0,9,  -999.0, -999.00,9, -999.00,9, -999.00,9, -999.00,9,   1.5646, -999.00