BOTTLE,20230413CCHSIOENA
EXPOCODE,SECT_ID,STNNBR,CASTNO,SAMPNO,BTLNBR,BTLNBR_FLAG_W,DATE,TIME,LATITUDE,LONGITUDE,DEPTH,CTDPRS,CTDTMP,CTDSAL,CTDSAL_FLAG_W,SALNTY,SALNTY_FLAG_W,CTDOXY,CTDOXY_FLAG_W,OXYGEN,OXYGEN_FLAG_W,SILCAT,SILCAT_FLAG_W,NITRAT,NITRAT_FLAG_W,NITRIT,NITRIT_FLAG_W,PHSPHT,PHSPHT_FLAG_W,CFC-11,CFC-11_FLAG_W,CFC-12,CFC-12_FLAG_W,SF6,SF6_FLAG_W,TCARBN,TCARBN_FLAG_W,ALKALI,ALKALI_FLAG_W,PH_TOT,PH_TOT_FLAG_W,PH_TMP,HELIUM,HELIUM_FLAG_W,DELHE3,DELHE3_FLAG_W,DELC13,DELC13_FLAG_W,DELC14,DELC14_FLAG_W,C14ERR,POC,POC_FLAG_W,PON,PON_FLAG_W,CHLORA,CHLORA_FLAG_W,PPHYTN,PPHYTN_FLAG_W,THETA,DELHER
,,,,,,,,,,,METERS,DBAR,ITS-90,PSS-78,,PSS-78,,UMOL/KG,,UMOL/KG,,UMOL/KG,,UMOL/KG,,UMOL/KG,,UMOL/KG,,PMOL/KG,,PMOL/KG,,FMOL/KG,,UMOL/KG,,UMOL/KG,,,,DEG C,NMOL/KG,,PERCNT,,/MILLE,,/MILLE,,/MILLE,UG/KG,,UG/KG,,UG/KG,,UG/KG,,DEG C,PERCNT
096U20160426,       P15S,      36,          1,         36,       2036,2,20160518,       2330,   -49.4921,  -170.0160,       5214,    14.5,   9.0870,  34.2920,2,  34.2934,2,    278.1,2,   278.7,2,    2.10,2,   14.11,2,    0.29,2,    1.06,2,-999.000,9,-999.000,9,-999.000,9,  2105.3,2,  2280.5,2,-999.0000,9,  -999.00,-999.0000,9, -999.00,9, -999.00,9,  -999.0,9,  -999.0, -999.00,9, -999.00,9,    0.74,2,    0.09,3,   9.0854, -999.00
096U20160426,       P15S,      36,          1,         35,       2035,2,20160518,       2330,   -49.4921,  -170.0160,       5214,    19.2,   9.0870,  34.2920,2,  34.2920,2,    278.1,2,   278.7,2,    2.11,2,   14.12,2,    0.29,2,    1.06,2,-999.000,9,-999.000,9,-999.000,9,  -999.0,9,  -999.0,9,-999.0000,9,  -999.00,-999.0000,9, -999.00,9, -999.00,9,  -999.0,9,  -999.0, -999.00,9, -999.00,9,    0.79,2,    0.13,3,   9.0849, -999.00
096U20160426,       P15S,      36,          1,         34,       2034,2,20160518,       2330,   -49.4921,  -170.0160,       5214,    41.3,   9.0580,  34.2880,2,  34.2877,2,    278.0,2,   279.0,2,    2.11,2,   14.18,2,    0.29,2,    1.06,2,-999.000,9,-999.000,9,-999.000,9,  -999.0,9,  -999.0,9,-999.0000,9,  -999.00,-999.0000,9, -999.00,9, -999.00,9,  -999.0,9,  -999.0, -999.00,9, -999.00,9,    0.83,2,    0.12,3,   9.0536, -999.00
096U20160426,       P15S,      36,          1,         33,       2033,2,20160518,       2330,   -49.4921,  -170.0160,       5214,    63.2,   9.0170,  34.2840,2,  34.2835,2,    278.6,2,   279.1,2,    2.15,2,   14.30,2,    0.29,2,    1.07,2,-999.000,9,-999.000,9,-999.000,9,  -999.0,9,  -999.0,9,-999.0000,9,  -999.00,-999.0000,9, -999.00,9, -999.00,9,  -999.0,9,  -999.0, -999.00,9, -999.00,9,    0.79,2,    0.13,3,   9.0102, -999.00
096U20160426,       P15S,      36,          1,         32,       2032,2,20160518,       2330,   -49.4921,  -170.0160,       5214,    90.8,   9.2120,  34.4190,2,  34.4370,2,    265.6,2,   264.7,2,    2.53,2,   14.70,2,    0.14,2,    1.07,2,-999.000,9,-999.000,9,-999.000,9,  -999.0,9,  -999.0,9,-999.0000,9,  -999.00,-999.0000,9, -999.00,9, -999.00,9,  -999.0,9,  -999.0, -999.00,9, -999.00,9,    0.22,2,    0.11,3,   9.2021, -999.00
096U20160426,       P15S,      36,          1,         31,       2031,2,20160518,       2330,   -49.4921,  -170.0160,       5214,   137.0,   8.8400,  34.5540,2,  34.5481,2,    251.6,2,   252.6,2,    3.94,2,   16.24,2,    0.01,4,    1.15,2,-999.000,9,-999.000,9,-999.000,9,  2130.9,2,  2282.6,2,-999.0000,9,  -999.00,-999.0000,9, -999.00,9, -999.00,9,  -999.0,9,  -999.0, -999.00,9, -999.00,9, -999.00,9, -999.00,9,   8.8254, -999.00
096U20160426,       P15S,      36,          1,         30,       2030,2,20160518,       2330,   -49.4921,  -170.0160,       5214,   186.1,   8.2460,  34.4900,2,  34.4885,2,    252.0,2,   252.4,2,    4.88,2,   17.93,2,    0.01,4,    1.26,2,-999.000,9,-999.000,9,-999.000,9,  -999.0,9,  -999.0,9,-999.0000,9,  -999.00,-999.0000,9, -999.00,9, -999.00,9,  -999.0,9,  -999.0, -999.00,9, -999.00,9, -999.00,9, -999.00,9,   8.2270, -999.00
096U20160426,       P15S,      36,          1,         29,       2029,2,20160518,       2330,   -49.4921,  -170.0160,       5214,   234.4,   7.9410,  34.4580,2,  34.4588,2,    252.7,2,   253.0,2,    5.46,2,   18.74,2,    0.01,4,    1.31,2,-999.000,9,-999.000,9,-999.000,9,  2135.2,2,  2282.8,2,-999.0000,9,  -999.00,-999.0000,9, -999.00,9, -999.00,9,  -999.0,9,  -999.0, -999.00,9, -999.00,9, -999.00,9, -999.00,9,   7.9175, -999.00
096U20160426,       P15S,      36,          1,         28,       2028,2,20160518,       2330,   -49.4921,  -170.0160,       5214,   286.5,   7.6240,  34.4220,2,  34.4227,2,    264.0,2,   264.5,2,    5.65,2,   18.68,2,    0.01,4,    1.31,2,-999.000,9,-999.000,9,-999.000,9,  -999.0,9,  -999.0,9,-999.0000,9,  -999.00,-999.0000,9, -999.00,9, -999.00,9,  -999.0,9,  -999.0, -999.00,9, -999.00,9, -999.00,9, -999.00,9,   7.5959, -999.00
096U20160426,       P15S,      36,          1,         27,       2027,2,20160518,       2330,   -49.4921,  -170.0160,       5214,   334.3,   7.4350,  34.4010,2,  34.4000,2,    261.9,2,   263.9,2,    5.95,2,   19.27,2,    0.01,4,    1.35,2,-999.000,9,-999.000,9,-999.000,9,  -999.0,9,  -999.0,9,-999.0000,9,  -999.00,-999.0000,9, -999.00,9, -999.00,9,  -999.0,9,  -999.0, -999.00,9, -999.00,9, -999.00,9, -999.00,9,   7.4026, -999.00
096U20160426,       P15S,      36,          1,         26,       2026,2,20160518,       2330,   -49.4921,  -170.0160,       5214,   385.3,   7.2720,  34.3820,2,  34.3809,2,    265.3,2,   266.7,2,    5.97,2,   19.44,2,    0.01,4,    1.36,2,-999.000,9,-999.000,9,-999.000,9,  -999.0,9,  -999.0,9,-999.0000,9,  -999.00,-999.0000,9, -999.00,9, -999.00,9,  -999.0,9,  -999.0, -999.00,9, -999.00,9, -999.00,9, -999.00,9,   7.2350, -999.00
096U20160426,       P15S,      36,          1,         25,       2025,2,20160518,       2330,   -49.4921,  -170.0160,       5214,   464.5,   7.2470,  34.3950,2,  34.3941,2,    257.2,2,   258.5,2,    6.87,2,   20.14,2,    0.01,4,    1.40,2,-999.000,9,-999.000,9,-999.000,9,  2139.9,2,  2278.8,6,-999.0000,9,  -999.00,-999.0000,9, -999.00,9, -999.00,9,  -999.0,9,  -999.0, -999.00,9, -999.00,9, -999.00,9, -999.00,9,   7.2022, -999.00
096U20160426,       P15S,      36,          1,         24,       2024,2,20160518,       2330,   -49.4921,  -170.0160,       5214,   564.9,   6.7080,  34.3390,2,  34.3386,2,    253.0,2,   254.3,2,    9.07,2,   21.86,2,    0.01,4,    1.51,2,-999.000,9,-999.000,9,-999.000,9,  -999.0,9,  -999.0,9,-999.0000,9,  -999.00,-999.0000,9, -999.00,9, -999.00,9,  -999.0,9,  -999.0, -999.00,9, -999.00,9, -999.00,9, -999.00,9,   6.6555, -999.00
096U20160426,       P15S,      36,          1,         23,       2023,2,20160518,       2330,   -49.4921,  -170.0160,       5214,   664.3,   6.3550,  34.3320,2,  34.3305,2,    237.5,2,   239.3,2,   12.35,2,   24.01,2,    0.01,4,    1.64,2,-999.000,9,-999.000,9,-999.000,9,  -999.0,9,  -999.0,9,-999.0000,9,  -999.00,-999.0000,9, -999.00,9, -999.00,9,  -999.0,9,  -999.0, -999.00,9, -999.00,9, -999.00,9, -999.00,9,   6.2946, -999.00
096U20160426,       P15S,      36,          1,         22,       2022,2,20160518,       2330,   -49.4921,  -170.0160,       5214,   767.6,   5.9020,  34.3290,2,  34.3315,2,    225.0,2,   224.6,2,   16.98,2,   26.24,2,    0.01,4,    1.79,2,-999.000,9,-999.000,9,-999.000,9,  -999.0,9,  -999.0,9,-999.0000,9,  -999.00,-999.0000,9, -999.00,9, -999.00,9,  -999.0,9,  -999.0, -999.00,9, -999.00,9, -999.00,9, -999.00,9,   5.8343, -999.00
096U20160426,       P15S,      36,          1,         21,       2021,2,20160518,       2330,   -49.4921,  -170.0160,       5214,   865.7,   5.4620,  34.3330,2,  34.3334,2,    214.6,2,   214.4,2,   21.93,2,   28.05,2,    0.01,4,    1.91,2,-999.000,9,-999.000,9,-999.000,9,  -999.0,9,  -999.0,9,-999.0000,9,  -999.00,-999.0000,9, -999.00,9, -999.00,9,  -999.0,9,  -999.0, -999.00,9, -999.00,9, -999.00,9, -999.00,9,   5.3879, -999.00
096U20160426,       P15S,      36,          1,         20,       2020,2,20160518,       2330,   -49.4921,  -170.0160,       5214,   965.3,   4.9070,  34.3300,2,  34.3282,2,    209.2,2,   209.8,2,   27.44,2,   29.53,2,    0.00,4,    2.01,2,-999.000,9,-999.000,9,-999.000,9,  2187.9,2,  2291.3,2,-999.0000,9,  -999.00,-999.0000,9, -999.00,9, -999.00,9,  -999.0,9,  -999.0, -999.00,9, -999.00,9, -999.00,9, -999.00,9,   4.8278, -999.00
096U20160426,       P15S,      36,          1,         19,       2019,2,20160518,       2330,   -49.4921,  -170.0160,       5214,  1064.3,   3.9940,  34.2880,2,  34.2894,2,    212.5,2,   213.3,2,   33.01,2,   31.08,2,    0.00,4,    2.13,2,-999.000,9,-999.000,9,-999.000,9,  -999.0,9,  -999.0,9,-999.0000,9,  -999.00,-999.0000,9, -999.00,9, -999.00,9,  -999.0,9,  -999.0, -999.00,9, -999.00,9, -999.00,9, -999.00,9,   3.9134, -999.00
096U20160426,       P15S,      36,          1,         18,       2018,2,20160518,       2330,   -49.4921,  -170.0160,       5214,  1163.4,   3.7490,  34.3430,2,  34.3454,2,    199.3,2,   199.8,2,   41.42,2,   32.20,2,    0.00,4,    2.21,2,-999.000,9,-999.000,9,-999.000,9,  -999.0,9,  -999.0,9,-999.0000,9,  -999.00,-999.0000,9, -999.00,9, -999.00,9,  -999.0,9,  -999.0, -999.00,9, -999.00,9, -999.00,9, -999.00,9,   3.6621, -999.00
096U20160426,       P15S,      36,          1,         17,       2017,2,20160518,       2330,   -49.4921,  -170.0160,       5214,  1263.2,   3.4500,  34.3790,2,  34.3805,2,    191.9,2,   192.1,2,   48.36,2,   33.04,2,    0.00,4,    2.27,2,-999.000,9,-999.000,9,-999.000,9,  2222.2,6,  2311.9,6,-999.0000,9,  -999.00,-999.0000,9, -999.00,9, -999.00,9,  -999.0,9,  -999.0, -999.00,9, -999.00,9, -999.00,9, -999.00,9,   3.3575, -999.00
096U20160426,       P15S,      36,          1,         16,       2016,2,20160518,       2330,   -49.4921,  -170.0160,       5214,  1364.5,   3.2300,  34.4270,2,  34.4271,2,    183.8,2,   183.7,2,   56.16,2,   33.65,2,    0.00,4,    2.32,2,-999.000,9,-999.000,9,-999.000,9,  -999.0,9,  -999.0,9,-999.0000,9,  -999.00,-999.0000,9, -999.00,9, -999.00,9,  -999.0,9,  -999.0, -999.00,9, -999.00,9, -999.00,9, -999.00,9,   3.1312, -999.00
096U20160426,       P15S,      36,          1,         15,       2015,2,20160518,       2330,   -49.4921,  -170.0160,       5214,  1566.4,   2.8570,  34.5000,2,  34.5005,2,    175.6,2,   175.3,2,   66.57,2,   34.17,2,    0.00,4,    2.36,2,-999.000,9,-999.000,9,-999.000,9,  -999.0,9,  -999.0,9,-999.0000,9,  -999.00,-999.0000,9, -999.00,9, -999.00,9,  -999.0,9,  -999.0, -999.00,9, -999.00,9, -999.00,9, -999.00,9,   2.7455, -999.00
096U20160426,       P15S,      36,          1,         14,       2014,2,20160518,       2330,   -49.4921,  -170.0160,       5214,  1763.3,   2.6310,  34.5730,2,  34.5734,2,    171.0,2,   170.9,2,   75.19,2,   34.05,2,    0.00,4,    2.35,2,-999.000,9,-999.000,9,-999.000,9,  -999.0,9,  -999.0,9,-999.0000,9,  -999.00,-999.0000,9, -999.00,9, -999.00,9,  -999.0,9,  -999.0, -999.00,9, -999.00,9, -999.00,9, -999.00,9,   2.5056, -999.00
096U20160426,       P15S,      36,          1,         13,       2013,2,20160518,       2330,   -49.4921,  -170.0160,       5214,  1964.7,   2.4650,  34.6290,2,  34.6280,2,    171.5,2,   171.7,2,   79.99,2,   33.56,2,    0.00,4,    2.32,2,-999.000,9,-999.000,9,-999.000,9,  2258.4,2,  2344.6,2,-999.0000,9,  -999.00,-999.0000,9, -999.00,9, -999.00,9,  -999.0,9,  -999.0, -999.00,9, -999.00,9, -999.00,9, -999.00,9,   2.3246, -999.00
096U20160426,       P15S,      36,          1,         12,       2012,2,20160518,       2330,   -49.4921,  -170.0160,       5214,  2165.1,   2.3350,  34.6690,2,  34.6692,2,    174.4,3,   174.6,2,   83.48,2,   32.96,2,    0.00,4,    2.28,2,-999.000,9,-999.000,9,-999.000,9,  -999.0,9,  -999.0,9,-999.0000,9,  -999.00,-999.0000,9, -999.00,9, -999.00,9,  -999.0,9,  -999.0, -999.00,9, -999.00,9, -999.00,9, -999.00,9,   2.1789, -999.00
096U20160426,       P15S,      36,          1,         11,       2011,2,20160518,       2330,   -49.4921,  -170.0160,       5214,  2413.7,   2.1780,  34.7090,2,  34.7079,2,    181.2,3,   182.3,2,   85.24,2,   31.99,2,    0.00,4,    2.21,2,-999.000,9,-999.000,9,-999.000,9,  -999.0,9,  -999.0,9,-999.0000,9,  -999.00,-999.0000,9, -999.00,9, -999.00,9,  -999.0,9,  -999.0, -999.00,9, -999.00,9, -999.00,9, -999.00,9,   2.0021, -999.00
096U20160426,       P15S,      36,          1,         10,       2010,2,20160518,       2330,   -49.4921,  -170.0160,       5214,  2663.7,   2.0040,  34.7290,2,  34.7290,2,    187.1,2,   188.6,2,   88.74,2,   31.45,2,    0.00,4,    2.17,2,-999.000,9,-999.000,9,-999.000,9,  -999.0,9,  -999.0,9,-999.0000,9,  -999.00,-999.0000,9, -999.00,9, -999.00,9,  -999.0,9,  -999.0, -999.00,9, -999.00,9, -999.00,9, -999.00,9,   1.8081, -999.00
096U20160426,       P15S,      36,          1,          9,       2009,2,20160518,       2330,   -49.4921,  -170.0160,       5214,  2916.8,   1.8450,  34.7360,2,  34.7353,2,    191.1,2,   192.7,2,   92.89,2,   31.25,2,    0.00,4,    2.16,2,-999.000,9,-999.000,9,-999.000,9,  2253.9,2,  2353.9,2,-999.0000,9,  -999.00,-999.0000,9, -999.00,9, -999.00,9,  -999.0,9,  -999.0, -999.00,9, -999.00,9, -999.00,9, -999.00,9,   1.6283, -999.00
096U20160426,       P15S,      36,          1,          8,       2008,2,20160518,       2330,   -49.4921,  -170.0160,       5214,  3198.8,   1.6430,  34.7350,2,  34.7341,2,    194.6,2,   196.6,2,   98.82,2,   31.33,2,    0.00,4,    2.17,2,-999.000,9,-999.000,9,-999.000,9,  -999.0,9,  -999.0,9,-999.0000,9,  -999.00,-999.0000,9, -999.00,9, -999.00,9,  -999.0,9,  -999.0, -999.00,9, -999.00,9, -999.00,9, -999.00,9,   1.4033, -999.00
096U20160426,       P15S,      36,          1,          7,       2007,2,20160518,       2330,   -49.4921,  -170.0160,       5214,  3503.4,   1.4330,  34.7300,2,  34.7289,2,    198.0,2,   199.6,2,  105.07,2,   31.57,2,    0.00,4,    2.18,2,-999.000,9,-999.000,9,-999.000,9,  -999.0,9,  -999.0,9,-999.0000,9,  -999.00,-999.0000,9, -999.00,9, -999.00,9,  -999.0,9,  -999.0, -999.00,9, -999.00,9, -999.00,9, -999.00,9,   1.1679, -999.00
096U20160426,       P15S,      36,          1,          6,       2006,2,20160518,       2330,   -49.4921,  -170.0160,       5214,  3799.1,   1.2560,  34.7220,2,  34.7210,2,    201.0,2,   202.6,2,  110.73,2,   31.83,2,    0.00,4,    2.20,2,-999.000,9,-999.000,9,-999.000,9,  -999.0,9,  -999.0,9,-999.0000,9,  -999.00,-999.0000,9, -999.00,9, -999.00,9,  -999.0,9,  -999.0, -999.00,9, -999.00,9, -999.00,9, -999.00,9,   0.9650, -999.00
096U20160426,       P15S,      36,          1,          5,       2005,2,20160518,       2330,   -49.4921,  -170.0160,       5214,  4100.4,   1.1030,  34.7140,2,  34.7141,2,    204.1,2,   205.4,2,  115.53,2,   32.03,2,    0.00,4,    2.22,2,-999.000,9,-999.000,9,-999.000,9,  2259.1,2,  2358.4,2,-999.0000,9,  -999.00,-999.0000,9, -999.00,9, -999.00,9,  -999.0,9,  -999.0, -999.00,9, -999.00,9, -999.00,9, -999.00,9,   0.7843, -999.00
096U20160426,       P15S,      36,          1,          4,       2004,2,20160518,       2330,   -49.4921,  -170.0160,       5214,  4476.1,   1.0100,  34.7090,2,  34.7068,2,    206.7,2,   207.3,2,  119.20,2,   32.22,2,    0.00,4,    2.23,2,-999.000,9,-999.000,9,-999.000,9,  -999.0,9,  -999.0,9,-999.0000,9,  -999.00,-999.0000,9, -999.00,9, -999.00,9,  -999.0,9,  -999.0, -999.00,9, -999.00,9, -999.00,9, -999.00,9,   0.6528, -999.00
096U20160426,       P15S,      36,          1,          3,       2003,2,20160518,       2330,   -49.4921,  -170.0160,       5214,  4850.0,   0.9880,  34.7050,2,  34.7068,2,    208.0,2,   208.0,2,  121.19,2,   32.31,2,    0.00,4,    2.24,2,-999.000,9,-999.000,9,-999.000,9,  -999.0,9,  -999.0,9,-999.0000,9,  -999.00,-999.0000,9, -999.00,9, -999.00,9,  -999.0,9,  -999.0, -999.00,9, -999.00,9, -999.00,9, -999.00,9,   0.5886, -999.00
096U20160426,       P15S,      36,          1,          2,       2002,2,20160518,       2330,   -49.4921,  -170.0160,       5214,  5201.2,   1.0090,  34.7040,2,  34.7057,2,    208.9,2,   208.6,2,  121.89,2,   32.31,2,    0.00,4,    2.24,2,-999.000,9,-999.000,9,-999.000,9,  -999.0,9,  -999.0,9,-999.0000,9,  -999.00,-999.0000,9, -999.00,9, -999.00,9,  -999.0,9,  -999.0, -999.00,9, -999.00,9, -999.00,9, -999.00,9,   0.5670, -999.00
096U20160426,       P15S,      36,          1,          1,       2001,2,20160518,       2330,   -49.4921,  -170.0160,       5214,  5307.4,   1.0230,  34.7040,2,  34.7048,2,    209.1,2,   208.3,2,  121.85,2,   32.31,2,    0.00,4,    2.24,2,-999.000,9,-999.000,9,-999.000,9,  2260.8,2,  2361.8,2,-999.0000,9,  -999.00,-999.0000,9, -999.00,9, -999.00,9,  -999.0,9,  -999.0, -999.00,9, -999.00,9, -999.00,9, -999.00,9,   0.5675, -999.00