BOTTLE,20230413CCHSIOENA
EXPOCODE,SECT_ID,STNNBR,CASTNO,SAMPNO,BTLNBR,BTLNBR_FLAG_W,DATE,TIME,LATITUDE,LONGITUDE,DEPTH,CTDPRS,CTDTMP,CTDSAL,CTDSAL_FLAG_W,SALNTY,SALNTY_FLAG_W,CTDOXY,CTDOXY_FLAG_W,OXYGEN,OXYGEN_FLAG_W,SILCAT,SILCAT_FLAG_W,NITRAT,NITRAT_FLAG_W,NITRIT,NITRIT_FLAG_W,PHSPHT,PHSPHT_FLAG_W,CFC-11,CFC-11_FLAG_W,CFC-12,CFC-12_FLAG_W,SF6,SF6_FLAG_W,TCARBN,TCARBN_FLAG_W,ALKALI,ALKALI_FLAG_W,PH_TOT,PH_TOT_FLAG_W,PH_TMP,HELIUM,HELIUM_FLAG_W,DELHE3,DELHE3_FLAG_W,DELC13,DELC13_FLAG_W,DELC14,DELC14_FLAG_W,C14ERR,POC,POC_FLAG_W,PON,PON_FLAG_W,CHLORA,CHLORA_FLAG_W,PPHYTN,PPHYTN_FLAG_W,THETA,DELHER
,,,,,,,,,,,METERS,DBAR,ITS-90,PSS-78,,PSS-78,,UMOL/KG,,UMOL/KG,,UMOL/KG,,UMOL/KG,,UMOL/KG,,UMOL/KG,,PMOL/KG,,PMOL/KG,,FMOL/KG,,UMOL/KG,,UMOL/KG,,,,DEG C,NMOL/KG,,PERCNT,,/MILLE,,/MILLE,,/MILLE,UG/KG,,UG/KG,,UG/KG,,UG/KG,,DEG C,PERCNT
096U20160426,       P15S,      43,          1,         36,       2036,2,20160521,       0518,   -46.3308,  -171.3738,       5098,     3.8,  11.7930,  34.6740,2,  34.6752,2,    261.0,2,   262.1,2,    0.76,2,    5.45,2,    0.29,2,    0.55,2,   3.086,3,   1.777,2,   2.137,2,  2088.5,2,  2298.4,2,   7.8675,2,    25.00,-999.0000,9, -999.00,9, -999.00,9,  -999.0,9,  -999.0,   22.99,2,    4.68,2,    0.76,2,   -0.08,3,  11.7925, -999.00
096U20160426,       P15S,      43,          1,         35,       2035,2,20160521,       0518,   -46.3308,  -171.3738,       5098,    24.7,  11.7970,  34.6740,2,  34.6749,2,    261.1,2,   262.0,2,    0.74,2,    5.44,2,    0.29,2,    0.55,2,-999.000,9,-999.000,9,-999.000,9,  -999.0,9,  -999.0,9,   7.8682,2,    25.00,-999.0000,9, -999.00,9, -999.00,9,  -999.0,9,  -999.0, -999.00,9, -999.00,9,    0.24,2,    0.30,3,  11.7938, -999.00
096U20160426,       P15S,      43,          1,         34,       2034,2,20160521,       0518,   -46.3308,  -171.3738,       5098,    49.0,  11.8080,  34.6740,2,  34.6755,2,    261.1,2,   262.1,2,    0.76,2,    5.43,2,    0.29,2,    0.55,2,   3.107,3,   1.765,6,    2.19,6,  2086.4,2,  2298.4,2,   7.8704,2,    25.00,-999.0000,9, -999.00,9, -999.00,9,  -999.0,9,  -999.0,   27.67,6,    5.26,6, -999.00,9, -999.00,9,  11.8017, -999.00
096U20160426,       P15S,      43,          1,         33,       2033,2,20160521,       0518,   -46.3308,  -171.3738,       5098,    74.4,  11.8020,  34.6730,2,  34.6741,2,    260.9,2,   262.1,2,    0.74,2,    5.48,2,    0.29,2,    0.55,2,-999.000,9,-999.000,9,-999.000,9,  -999.0,9,  -999.0,9,   7.8684,2,    25.00,-999.0000,9, -999.00,9, -999.00,9,  -999.0,9,  -999.0, -999.00,9, -999.00,9,    0.18,2,    0.35,3,  11.7925, -999.00
096U20160426,       P15S,      43,          1,         32,       2032,2,20160521,       0518,   -46.3308,  -171.3738,       5098,   100.5,  11.8010,  34.6730,2,  34.6745,2,    260.5,2,   261.8,2,    0.72,2,    5.51,2,    0.29,2,    0.55,2,   3.089,3,   1.773,2,   2.181,2,  2086.8,6,  2297.6,6,   7.8684,2,    25.00,-999.0000,9, -999.00,9, -999.00,9,  -999.0,9,  -999.0, -999.00,9, -999.00,9,    0.19,2,    0.27,3,  11.7881, -999.00
096U20160426,       P15S,      43,          1,         31,       2031,2,20160521,       0518,   -46.3308,  -171.3738,       5098,   149.9,  10.9580,  34.8240,2,  34.8264,2,    239.4,2,   240.7,2,    2.35,2,   10.81,2,    0.02,2,    0.81,2,   3.238,3,   1.834,2,   2.089,2,  2120.3,2,  2297.5,2,   7.7993,2,    25.00,-999.0000,9, -999.00,9, -999.00,9,  -999.0,9,  -999.0, -999.00,9, -999.00,9,    0.03,2,    0.05,3,  10.9396, -999.00
096U20160426,       P15S,      43,          1,         30,       2030,2,20160521,       0518,   -46.3308,  -171.3738,       5098,   199.4,  10.2780,  34.7660,2,  34.7646,2,    243.1,2,   244.2,2,    2.68,2,   11.73,2,    0.02,4,    0.87,2,   3.309,3,   1.877,2,   2.076,2,  2121.0,2,  2295.1,2,   7.7858,2,    25.00,-999.0000,9, -999.00,9, -999.00,9,  -999.0,9,  -999.0, -999.00,9, -999.00,9, -999.00,9, -999.00,9,  10.2545, -999.00
096U20160426,       P15S,      43,          1,         29,       2029,2,20160521,       0518,   -46.3308,  -171.3738,       5098,   247.8,   9.7410,  34.6970,2,  34.6909,2,    231.1,2,   228.4,2,    4.28,2,   15.36,2,    0.01,4,    1.09,2,   3.247,3,   1.835,2,   1.739,2,  2133.2,2,  2291.3,6,   7.7545,2,    25.00,-999.0000,9, -999.00,9, -999.00,9,  -999.0,9,  -999.0, -999.00,9, -999.00,9, -999.00,9, -999.00,9,   9.7127, -999.00
096U20160426,       P15S,      43,          1,         28,       2028,2,20160521,       0518,   -46.3308,  -171.3738,       5098,   300.1,   9.1840,  34.6250,2,  34.6195,2,    251.0,2,   251.7,2,    3.64,2,   14.80,2,    0.02,4,    1.07,2,   3.525,3,   1.957,2,   2.174,2,  2127.6,2,  2290.6,2,   7.7675,2,    25.00,-999.0000,9, -999.00,9, -999.00,9,  -999.0,9,  -999.0, -999.00,9, -999.00,9, -999.00,9, -999.00,9,   9.1509, -999.00
096U20160426,       P15S,      43,          1,         27,       2027,2,20160521,       0518,   -46.3308,  -171.3738,       5098,   374.9,   8.5740,  34.5390,2,  34.5403,2,    245.2,2,   246.4,2,    4.55,2,   17.10,2,    0.01,4,    1.21,2,   3.642,3,   1.982,2,    2.01,2,  2134.1,2,  2286.3,2,   7.7464,2,    25.00,-999.0000,9, -999.00,9, -999.00,9,  -999.0,9,  -999.0, -999.00,9, -999.00,9, -999.00,9, -999.00,9,   8.5343, -999.00
096U20160426,       P15S,      43,          1,         26,       2026,2,20160521,       0518,   -46.3308,  -171.3738,       5098,   449.6,   8.0690,  34.4720,2,  34.4716,2,    248.1,2,   249.8,2,    5.25,2,   18.50,2,    0.01,4,    1.29,2,   3.651,3,   2.004,2,   2.003,2,  2137.5,2,  2284.5,2,   7.7365,2,    25.00,-999.0000,9, -999.00,9, -999.00,9,  -999.0,9,  -999.0, -999.00,9, -999.00,9, -999.00,9, -999.00,9,   8.0229, -999.00
096U20160426,       P15S,      43,          1,         25,       2025,2,20160521,       0518,   -46.3308,  -171.3738,       5098,   550.6,   7.6290,  34.4200,2,  34.4205,2,    252.4,2,   254.5,2,    5.85,2,   19.32,2,    0.01,4,    1.35,2,   3.750,3,   2.043,2,   2.061,2,  2136.8,2,  2284.1,2,   7.7326,2,    25.00,-999.0000,9, -999.00,9, -999.00,9,  -999.0,9,  -999.0, -999.00,9, -999.00,9, -999.00,9, -999.00,9,   7.5740, -999.00
096U20160426,       P15S,      43,          1,         23,       2023,2,20160521,       0518,   -46.3308,  -171.3738,       5098,   699.5,   7.1560,  34.3900,2,  34.3922,2,    243.1,2,   245.0,2,    8.24,2,   21.44,2,    0.01,4,    1.48,2,   3.649,3,   1.911,2,   1.588,2,  2144.1,2,  2283.6,2,   7.7124,2,    25.00,-999.0000,9, -999.00,9, -999.00,9,  -999.0,9,  -999.0, -999.00,9, -999.00,9, -999.00,9, -999.00,9,   7.0879, -999.00
096U20160426,       P15S,      43,          1,         24,       2024,2,20160521,       0518,   -46.3308,  -171.3738,       5098,   701.5,   7.1760,  34.3910,2,  34.3923,2,    244.3,2,   245.3,2,    8.15,2,   21.38,2,    0.01,4,    1.48,2,-999.000,9,-999.000,9,-999.000,9,  -999.0,9,  -999.0,9,-999.0000,9,  -999.00,-999.0000,9, -999.00,9, -999.00,9,  -999.0,9,  -999.0, -999.00,9, -999.00,9, -999.00,9, -999.00,9,   7.1076, -999.00
096U20160426,       P15S,      43,          1,         22,       2022,2,20160521,       0518,   -46.3308,  -171.3738,       5098,   799.6,   6.8420,  34.3770,2,  34.3778,2,    231.7,2,   233.3,2,   10.46,2,   23.26,2,    0.01,4,    1.60,2,   3.432,3,   1.726,2,    1.21,2,  2152.4,2,  2282.3,2,   7.6671,3,    25.00,-999.0000,9, -999.00,9, -999.00,9,  -999.0,9,  -999.0, -999.00,9, -999.00,9, -999.00,9, -999.00,9,   6.7656, -999.00
096U20160426,       P15S,      43,          1,         21,       2021,2,20160521,       0518,   -46.3308,  -171.3738,       5098,   900.2,   6.3670,  34.3570,2,  34.3593,2,    224.0,2,   223.8,2,   14.05,2,   25.21,2,    0.00,4,    1.73,2,   2.920,3,   1.455,6,   0.893,6,  2160.2,2,  2283.9,6,   7.6760,2,    25.00,-999.0000,9, -999.00,9, -999.00,9,  -999.0,9,  -999.0, -999.00,9, -999.00,9, -999.00,9, -999.00,9,   6.2836, -999.00
096U20160426,       P15S,      43,          1,         20,       2020,2,20160521,       0518,   -46.3308,  -171.3738,       5098,   999.7,   5.8580,  34.3690,2,  34.3672,2,    208.9,2,   210.1,2,   20.42,2,   27.24,2,    0.00,4,    1.86,2,   2.241,3,   1.071,2,   0.561,2,  2172.8,2,  2289.0,2,   7.6553,2,    25.00,-999.0000,9, -999.00,9, -999.00,9,  -999.0,9,  -999.0, -999.00,9, -999.00,9, -999.00,9, -999.00,9,   5.7684, -999.00
096U20160426,       P15S,      43,          1,         19,       2019,2,20160521,       0518,   -46.3308,  -171.3738,       5098,  1100.2,   5.0190,  34.3350,2,  34.3364,2,    207.0,2,   208.0,2,   27.00,2,   29.19,2,    0.00,4,    2.00,2,-999.000,9,-999.000,9,-999.000,9,  2187.2,6,  2293.6,6,   7.6283,2,    25.00,-999.0000,9, -999.00,9, -999.00,9,  -999.0,9,  -999.0, -999.00,9, -999.00,9, -999.00,9, -999.00,9,   4.9267, -999.00
096U20160426,       P15S,      43,          1,         18,       2018,2,20160521,       0518,   -46.3308,  -171.3738,       5098,  1199.0,   4.4590,  34.3460,2,  34.3472,2,    199.7,2,   200.8,2,   34.33,2,   30.80,2,    0.00,4,    2.11,2,   1.905,3,   0.914,2,   0.413,2,  2200.5,2,  2299.0,2,   7.6110,2,    25.00,-999.0000,9, -999.00,9, -999.00,9,  -999.0,9,  -999.0, -999.00,9, -999.00,9, -999.00,9, -999.00,9,   4.3626, -999.00
096U20160426,       P15S,      43,          1,         17,       2017,2,20160521,       0518,   -46.3308,  -171.3738,       5098,  1299.4,   3.8660,  34.3530,2,  34.3532,2,    197.2,2,   198.2,2,   41.34,2,   31.96,2,    0.00,4,    2.19,2,-999.000,9,-999.000,9,-999.000,9,  -999.0,9,  -999.0,9,   7.5933,6,    25.00,-999.0000,9, -999.00,9, -999.00,9,  -999.0,9,  -999.0, -999.00,9, -999.00,9, -999.00,9, -999.00,9,   3.7664, -999.00
096U20160426,       P15S,      43,          1,         16,       2016,2,20160521,       0518,   -46.3308,  -171.3738,       5098,  1400.2,   3.5500,  34.3780,2,  34.3787,2,    191.4,2,   192.8,2,   47.41,2,   32.69,2,    0.00,4,    2.25,2,  -0.004,3,   0.000,4,       0,4,  2219.4,2,  2310.5,2,   7.5799,2,    25.00,-999.0000,9, -999.00,9, -999.00,9,  -999.0,9,  -999.0, -999.00,9, -999.00,9, -999.00,9, -999.00,9,   3.4450, -999.00
096U20160426,       P15S,      43,          1,         15,       2015,2,20160521,       0518,   -46.3308,  -171.3738,       5098,  1599.8,   3.0450,  34.4540,2,  34.4559,2,    180.2,2,   180.8,2,   60.39,2,   33.91,2,    0.00,4,    2.34,2,   1.209,3,   0.565,2,   0.289,2,  2237.5,2,  2320.8,2,   7.5606,2,    25.00,-999.0000,9, -999.00,9, -999.00,9,  -999.0,9,  -999.0, -999.00,9, -999.00,9, -999.00,9, -999.00,9,   2.9285, -999.00
096U20160426,       P15S,      43,          1,         14,       2014,2,20160521,       0518,   -46.3308,  -171.3738,       5098,  1799.8,   2.7460,  34.5370,2,  34.5380,2,    172.7,2,   172.7,2,   71.09,2,   34.12,2,    0.00,4,    2.36,2,   0.729,3,   0.341,2,     0.1,2,  2251.1,2,  2334.7,2,   7.5609,2,    25.00,-999.0000,9, -999.00,9, -999.00,9,  -999.0,9,  -999.0, -999.00,9, -999.00,9, -999.00,9, -999.00,9,   2.6161, -999.00
096U20160426,       P15S,      43,          1,         13,       2013,2,20160521,       0518,   -46.3308,  -171.3738,       5098,  2001.1,   2.5600,  34.6000,2,  34.6002,2,    171.2,2,   171.6,2,   77.25,2,   33.70,2,    0.00,4,    2.33,2,   0.472,3,   0.226,2,    0.12,2,  2255.8,2,  2342.7,2,   7.5627,2,    25.00,-999.0000,9, -999.00,9, -999.00,9,  -999.0,9,  -999.0, -999.00,9, -999.00,9, -999.00,9, -999.00,9,   2.4151, -999.00
096U20160426,       P15S,      43,          1,         12,       2012,2,20160521,       0518,   -46.3308,  -171.3738,       5098,  2250.7,   2.3850,  34.6600,2,  34.6600,2,    174.5,2,   175.3,2,   81.16,2,   32.91,2,    0.00,4,    2.27,2,   0.305,3,   0.145,2,   0.099,2,  2255.6,2,  2347.0,2,-999.0000,9,  -999.00,-999.0000,9, -999.00,9, -999.00,9,  -999.0,9,  -999.0, -999.00,9, -999.00,9, -999.00,9, -999.00,9,   2.2204, -999.00
096U20160426,       P15S,      43,          1,         11,       2011,2,20160521,       0518,   -46.3308,  -171.3738,       5098,  2500.5,   2.2130,  34.7040,2,  34.7042,2,    180.2,2,   181.0,2,   84.74,2,   32.07,2,    0.00,4,    2.21,2,   0.202,3,   0.093,2,   0.044,2,  2255.9,2,  2350.0,2,-999.0000,9,  -999.00,-999.0000,9, -999.00,9, -999.00,9,  -999.0,9,  -999.0, -999.00,9, -999.00,9, -999.00,9, -999.00,9,   2.0285, -999.00
096U20160426,       P15S,      43,          1,         10,       2010,2,20160521,       0518,   -46.3308,  -171.3738,       5098,  2750.1,   2.0390,  34.7280,2,  34.7278,2,    186.5,2,   188.3,2,   87.92,2,   31.44,2,    0.00,4,    2.16,2,   0.158,3,   0.072,2,    0.01,2,  2251.3,2,  2351.1,6,-999.0000,9,  -999.00,-999.0000,9, -999.00,9, -999.00,9,  -999.0,9,  -999.0, -999.00,9, -999.00,9, -999.00,9, -999.00,9,   1.8343, -999.00
096U20160426,       P15S,      43,          1,          9,       2009,2,20160521,       0518,   -46.3308,  -171.3738,       5098,  3001.6,   1.8440,  34.7350,2,  34.7353,2,    191.1,2,   192.8,2,   93.13,2,   31.25,2,    0.00,4,    2.15,2,   0.137,3,   0.063,2,   0.051,2,  2253.9,2,  2355.1,2,-999.0000,9,  -999.00,-999.0000,9, -999.00,9, -999.00,9,  -999.0,9,  -999.0, -999.00,9, -999.00,9, -999.00,9, -999.00,9,   1.6192, -999.00
096U20160426,       P15S,      43,          1,          8,       2008,2,20160521,       0518,   -46.3308,  -171.3738,       5098,  3299.5,   1.6030,  34.7330,2,  34.7333,2,    195.0,2,   196.8,2,  100.10,2,   31.39,2,    0.00,4,    2.16,2,   0.133,3,   0.060,2,       0,2,  2253.9,2,  2359.4,2,-999.0000,9,  -999.00,-999.0000,9, -999.00,9, -999.00,9,  -999.0,9,  -999.0, -999.00,9, -999.00,9, -999.00,9, -999.00,9,   1.3543, -999.00
096U20160426,       P15S,      43,          1,          7,       2007,2,20160521,       0518,   -46.3308,  -171.3738,       5098,  3599.6,   1.3910,  34.7270,2,  34.7270,2,    198.5,2,   200.3,2,  106.44,2,   31.65,2,    0.00,4,    2.18,2,   0.141,3,   0.067,2,   0.032,2,  2257.6,2,  2362.1,2,-999.0000,9,  -999.00,-999.0000,9, -999.00,9, -999.00,9,  -999.0,9,  -999.0, -999.00,9, -999.00,9, -999.00,9, -999.00,9,   1.1171, -999.00
096U20160426,       P15S,      43,          1,          6,       2006,2,20160521,       0518,   -46.3308,  -171.3738,       5098,  3900.4,   1.1950,  34.7180,2,  34.7186,2,    201.8,2,   203.7,2,  112.54,2,   31.96,2,    0.00,4,    2.20,2,   0.168,3,   0.077,6,    0.04,6,  2257.6,2,  2363.4,2,-999.0000,9,  -999.00,-999.0000,9, -999.00,9, -999.00,9,  -999.0,9,  -999.0, -999.00,9, -999.00,9, -999.00,9, -999.00,9,   0.8950, -999.00
096U20160426,       P15S,      43,          1,          5,       2005,2,20160521,       0518,   -46.3308,  -171.3738,       5098,  4199.5,   1.0520,  34.7110,2,  34.7121,2,    204.9,2,   206.3,2,  117.04,2,   32.16,2,    0.00,4,    2.21,2,-999.000,9,-999.000,9,-999.000,9,  2260.4,6,  2364.4,6,-999.0000,9,  -999.00,-999.0000,9, -999.00,9, -999.00,9,  -999.0,9,  -999.0, -999.00,9, -999.00,9, -999.00,9, -999.00,9,   0.7241, -999.00
096U20160426,       P15S,      43,          1,          4,       2004,2,20160521,       0518,   -46.3308,  -171.3738,       5098,  4600.5,   0.9820,  34.7060,2,  34.7073,2,    206.9,2,   208.0,2,  120.40,2,   32.32,2,    0.00,4,    2.22,2,   0.273,3,   0.126,2,       0,2,  2259.7,2,  2365.0,2,-999.0000,9,  -999.00,-999.0000,9, -999.00,9, -999.00,9,  -999.0,9,  -999.0, -999.00,9, -999.00,9, -999.00,9, -999.00,9,   0.6116, -999.00
096U20160426,       P15S,      43,          1,          3,       2003,2,20160521,       0518,   -46.3308,  -171.3738,       5098,  4950.2,   0.9810,  34.7040,2,  34.7050,2,    207.8,2,   208.3,2,  121.56,2,   32.37,2,    0.00,4,    2.23,2,   0.308,3,   0.140,2,   0.067,2,  2262.3,2,  2364.4,2,-999.0000,9,  -999.00,-999.0000,9, -999.00,9, -999.00,9,  -999.0,9,  -999.0, -999.00,9, -999.00,9, -999.00,9, -999.00,9,   0.5701, -999.00
096U20160426,       P15S,      43,          1,          2,       2002,2,20160521,       0518,   -46.3308,  -171.3738,       5098,  5080.7,   0.9880,  34.7030,2,  34.7043,2,    208.2,2,   208.9,2,  121.78,2,   32.38,2,    0.00,4,    2.23,2,   0.315,3,   0.144,2,   0.064,2,  2261.6,2,  2366.3,2,-999.0000,9,  -999.00,-999.0000,9, -999.00,9, -999.00,9,  -999.0,9,  -999.0, -999.00,9, -999.00,9, -999.00,9, -999.00,9,   0.5613, -999.00
096U20160426,       P15S,      43,          1,          1,       2001,2,20160521,       0518,   -46.3308,  -171.3738,       5098,  5183.6,   0.9990,  34.7030,2,  34.7055,2,    208.2,2,   208.6,2,  122.01,2,   32.40,2,    0.00,4,    2.24,2,   0.317,3,   0.147,2,   0.073,2,  2261.4,2,  2365.4,2,-999.0000,9,  -999.00,-999.0000,9, -999.00,9, -999.00,9,  -999.0,9,  -999.0, -999.00,9, -999.00,9, -999.00,9, -999.00,9,   0.5595, -999.00