BOTTLE,20230413CCHSIOENA
EXPOCODE,SECT_ID,STNNBR,CASTNO,SAMPNO,BTLNBR,BTLNBR_FLAG_W,DATE,TIME,LATITUDE,LONGITUDE,DEPTH,CTDPRS,CTDTMP,CTDSAL,CTDSAL_FLAG_W,SALNTY,SALNTY_FLAG_W,CTDOXY,CTDOXY_FLAG_W,OXYGEN,OXYGEN_FLAG_W,SILCAT,SILCAT_FLAG_W,NITRAT,NITRAT_FLAG_W,NITRIT,NITRIT_FLAG_W,PHSPHT,PHSPHT_FLAG_W,CFC-11,CFC-11_FLAG_W,CFC-12,CFC-12_FLAG_W,SF6,SF6_FLAG_W,TCARBN,TCARBN_FLAG_W,ALKALI,ALKALI_FLAG_W,PH_TOT,PH_TOT_FLAG_W,PH_TMP,HELIUM,HELIUM_FLAG_W,DELHE3,DELHE3_FLAG_W,DELC13,DELC13_FLAG_W,DELC14,DELC14_FLAG_W,C14ERR,POC,POC_FLAG_W,PON,PON_FLAG_W,CHLORA,CHLORA_FLAG_W,PPHYTN,PPHYTN_FLAG_W,THETA,DELHER
,,,,,,,,,,,METERS,DBAR,ITS-90,PSS-78,,PSS-78,,UMOL/KG,,UMOL/KG,,UMOL/KG,,UMOL/KG,,UMOL/KG,,UMOL/KG,,PMOL/KG,,PMOL/KG,,FMOL/KG,,UMOL/KG,,UMOL/KG,,,,DEG C,NMOL/KG,,PERCNT,,/MILLE,,/MILLE,,/MILLE,UG/KG,,UG/KG,,UG/KG,,UG/KG,,DEG C,PERCNT
096U20160426,       P15S,      76,          1,         36,       2036,2,20160604,       2348,   -31.4895,  -169.9788,       5554,     3.5,  21.2940,  33.3430,3,  35.8500,2,    220.3,2,   220.5,2,    0.00,4,    0.02,2,    0.00,4,    0.02,4,   1.895,6,   1.179,6,   1.541,6,  2044.4,2,  2348.2,2,-999.0000,9,  -999.00,-999.0000,9, -999.00,9, -999.00,9,  -999.0,9,  -999.0, -999.00,9, -999.00,9,    0.25,2,    0.04,3,  21.2933, -999.00
096U20160426,       P15S,      76,          1,         35,       2035,2,20160604,       2348,   -31.4895,  -169.9788,       5554,    26.7,  21.2980,  35.8500,2,  35.8507,2,    220.0,2,   220.3,2,    0.04,4,    0.02,4,    0.00,4,    0.02,4,-999.000,9,-999.000,9,-999.000,9,  -999.0,9,  -999.0,9,-999.0000,9,  -999.00,-999.0000,9, -999.00,9, -999.00,9,  -999.0,9,  -999.0, -999.00,9, -999.00,9,    0.23,2,    0.05,3,  21.2928, -999.00
096U20160426,       P15S,      76,          1,         34,       2034,2,20160604,       2348,   -31.4895,  -169.9788,       5554,    51.2,  21.2890,  35.8550,2,  35.8558,2,    219.9,2,   220.3,2,    0.02,4,    0.02,4,    0.00,4,    0.02,2,   1.915,2,   1.185,2,   1.531,2,  2044.9,6,  2350.4,6,-999.0000,9,  -999.00,-999.0000,9, -999.00,9, -999.00,9,  -999.0,9,  -999.0, -999.00,9, -999.00,9,    0.29,2,    0.04,3,  21.2791, -999.00
096U20160426,       P15S,      76,          1,         33,       2033,2,20160604,       2348,   -31.4895,  -169.9788,       5554,    75.6,  20.8730,  35.8860,2,  35.8799,2,    221.6,2,   222.4,2,    0.06,4,    0.02,4,    0.00,4,    0.03,2,-999.000,9,-999.000,9,-999.000,9,  -999.0,9,  -999.0,9,-999.0000,9,  -999.00,-999.0000,9, -999.00,9, -999.00,9,  -999.0,9,  -999.0, -999.00,9, -999.00,9,    0.38,2,    0.12,3,  20.8585, -999.00
096U20160426,       P15S,      76,          1,         32,       2032,2,20160604,       2348,   -31.4895,  -169.9788,       5554,   103.0,  19.8340,  35.7240,2,  35.7162,2,    222.5,2,   224.0,2,    0.23,2,    0.04,2,    0.02,2,    0.08,2,   2.141,2,   1.308,2,   1.499,2,  2056.5,2,  2339.9,2,-999.0000,9,  -999.00,-999.0000,9, -999.00,9, -999.00,9,  -999.0,9,  -999.0, -999.00,9, -999.00,9,    0.36,2,    0.34,3,  19.8150, -999.00
096U20160426,       P15S,      76,          1,         31,       2031,2,20160604,       2348,   -31.4895,  -169.9788,       5554,   150.8,  17.4870,  35.5590,2,  35.5624,2,    201.1,2,   201.4,2,    0.66,2,    3.61,2,    0.01,4,    0.32,2,   2.277,2,   1.378,2,   1.485,2,  2082.4,2,  2329.1,2,-999.0000,9,  -999.00,-999.0000,9, -999.00,9, -999.00,9,  -999.0,9,  -999.0, -999.00,9, -999.00,9, -999.00,9, -999.00,9,  17.4615, -999.00
096U20160426,       P15S,      76,          1,         30,       2030,2,20160604,       2348,   -31.4895,  -169.9788,       5554,   201.1,  16.2630,  35.4780,2,  35.4804,2,    205.1,2,   206.6,2,    0.98,2,    4.79,2,    0.01,4,    0.40,2,   2.399,2,   1.444,2,   1.499,2,  2092.6,2,  2324.8,2,-999.0000,9,  -999.00,-999.0000,9, -999.00,9, -999.00,9,  -999.0,9,  -999.0, -999.00,9, -999.00,9, -999.00,9, -999.00,9,  16.2307, -999.00
096U20160426,       P15S,      76,          1,         29,       2029,2,20160604,       2348,   -31.4895,  -169.9788,       5554,   250.2,  15.3890,  35.4120,2,  35.4115,2,    208.3,2,   209.0,2,    1.38,2,    5.88,2,    0.01,4,    0.47,2,   2.482,2,   1.475,2,   1.537,2,  2100.5,2,  2321.8,2,-999.0000,9,  -999.00,-999.0000,9, -999.00,9, -999.00,9,  -999.0,9,  -999.0, -999.00,9, -999.00,9, -999.00,9, -999.00,9,  15.3503, -999.00
096U20160426,       P15S,      76,          1,         28,       2028,2,20160604,       2348,   -31.4895,  -169.9788,       5554,   303.5,  14.3070,  35.2530,2,  35.2392,2,    209.4,2,   210.4,2,    1.55,2,    6.87,2,    0.01,4,    0.55,2,-999.000,9,-999.000,9,-999.000,9,  -999.0,9,  -999.0,9,-999.0000,9,  -999.00,-999.0000,9, -999.00,9, -999.00,9,  -999.0,9,  -999.0, -999.00,9, -999.00,9, -999.00,9, -999.00,9,  14.2622, -999.00
096U20160426,       P15S,      76,          1,         27,       2027,2,20160604,       2348,   -31.4895,  -169.9788,       5554,   351.4,  13.3240,  35.1220,2,  35.1146,2,    205.1,2,   205.9,2,    2.30,2,    9.47,2,    0.01,4,    0.71,2,   2.709,2,   1.570,2,   1.455,2,  2116.5,2,  2307.0,2,-999.0000,9,  -999.00,-999.0000,9, -999.00,9, -999.00,9,  -999.0,9,  -999.0, -999.00,9, -999.00,9, -999.00,9, -999.00,9,  13.2745, -999.00
096U20160426,       P15S,      76,          1,         26,       2026,2,20160604,       2348,   -31.4895,  -169.9788,       5554,   403.1,  11.7190,  34.8830,2,  34.8665,2,    199.3,2,   199.9,2,    3.27,2,   13.61,2,    0.00,4,    0.98,2,   2.869,2,   1.590,2,   1.114,2,  2126.4,2,  2296.6,2,-999.0000,9,  -999.00,-999.0000,9, -999.00,9, -999.00,9,  -999.0,9,  -999.0, -999.00,9, -999.00,9, -999.00,9, -999.00,9,  11.6668, -999.00
096U20160426,       P15S,      76,          1,         25,       2025,2,20160604,       2348,   -31.4895,  -169.9788,       5554,   500.5,   9.2590,  34.6020,2,  34.6003,2,    214.7,2,   215.9,2,    4.40,2,   17.92,2,    0.00,4,    1.24,2,   3.273,2,   1.750,2,   1.085,2,  2138.3,2,  2286.6,2,-999.0000,9,  -999.00,-999.0000,9, -999.00,9, -999.00,9,  -999.0,9,  -999.0, -999.00,9, -999.00,9, -999.00,9, -999.00,9,   9.2030, -999.00
096U20160426,       P15S,      76,          1,         24,       2024,2,20160604,       2348,   -31.4895,  -169.9788,       5554,   599.8,   7.9640,  34.4700,2,  34.4690,2,    227.8,2,   229.0,2,    5.31,2,   20.30,2,    0.00,4,    1.38,2,   3.450,2,   1.837,2,    1.09,2,  2141.9,2,  2282.1,2,-999.0000,9,  -999.00,-999.0000,9, -999.00,9, -999.00,9,  -999.0,9,  -999.0, -999.00,9, -999.00,9, -999.00,9, -999.00,9,   7.9024, -999.00
096U20160426,       P15S,      76,          1,         23,       2023,2,20160604,       2348,   -31.4895,  -169.9788,       5554,   650.1,   7.5120,  34.4260,2,  34.4248,2,    230.0,2,   232.1,2,    5.99,2,   21.34,2,    0.00,4,    1.45,2,   3.481,2,   1.812,2,   0.961,2,  2142.6,2,  2281.6,2,-999.0000,9,  -999.00,-999.0000,9, -999.00,9, -999.00,9,  -999.0,9,  -999.0, -999.00,9, -999.00,9, -999.00,9, -999.00,9,   7.4472, -999.00
096U20160426,       P15S,      76,          1,         22,       2022,2,20160604,       2348,   -31.4895,  -169.9788,       5554,   800.8,   6.6030,  34.3640,2,  34.3638,2,    227.8,2,   229.9,2,    9.60,2,   24.13,2,    0.00,4,    1.63,2,   2.750,2,   1.387,2,   0.517,2,  2154.5,2,  2282.5,2,-999.0000,9,  -999.00,-999.0000,9, -999.00,9, -999.00,9,  -999.0,9,  -999.0, -999.00,9, -999.00,9, -999.00,9, -999.00,9,   6.5279, -999.00
096U20160426,       P15S,      76,          1,         21,       2021,2,20160604,       2348,   -31.4895,  -169.9788,       5554,   900.1,   5.9510,  34.3340,2,  34.3330,2,    221.1,2,   222.8,2,   13.70,2,   26.24,2,    0.00,4,    1.77,2,   2.018,2,   1.000,2,   0.407,2,  2160.0,2,  2284.4,2,-999.0000,9,  -999.00,-999.0000,9, -999.00,9, -999.00,9,  -999.0,9,  -999.0, -999.00,9, -999.00,9, -999.00,9, -999.00,9,   5.8704, -999.00
096U20160426,       P15S,      76,          1,         20,       2020,2,20160604,       2348,   -31.4895,  -169.9788,       5554,  1000.1,   5.3160,  34.3220,2,  34.3230,2,    210.2,2,   211.8,2,   20.05,2,   28.42,2,    0.00,4,    1.93,2,   1.353,2,   0.674,2,   0.347,3,  2172.4,2,  2288.9,2,-999.0000,9,  -999.00,-999.0000,9, -999.00,9, -999.00,9,  -999.0,9,  -999.0, -999.00,9, -999.00,9, -999.00,9, -999.00,9,   5.2306, -999.00
096U20160426,       P15S,      76,          1,         19,       2019,2,20160604,       2348,   -31.4895,  -169.9788,       5554,  1100.1,   4.7640,  34.3330,2,  34.3335,2,    199.4,2,   200.6,2,   27.77,2,   30.32,2,    0.00,4,    2.06,2,   0.844,2,   0.422,2,   0.072,2,  2189.8,2,  2295.0,6,-999.0000,9,  -999.00,-999.0000,9, -999.00,9, -999.00,9,  -999.0,9,  -999.0, -999.00,9, -999.00,9, -999.00,9, -999.00,9,   4.6738, -999.00
096U20160426,       P15S,      76,          1,         18,       2018,2,20160604,       2348,   -31.4895,  -169.9788,       5554,  1199.5,   4.1760,  34.3650,2,  34.3669,2,    188.2,2,   188.8,2,   54.60,4,   33.61,4,    0.00,4,    2.31,4,   0.445,2,   0.229,2,   0.056,2,  2207.5,2,  2305.9,2,-999.0000,9,  -999.00,-999.0000,9, -999.00,9, -999.00,9,  -999.0,9,  -999.0, -999.00,9, -999.00,9, -999.00,9, -999.00,9,   4.0821, -999.00
096U20160426,       P15S,      76,          1,         17,       2017,2,20160604,       2348,   -31.4895,  -169.9788,       5554,  1350.8,   3.4690,  34.4250,2,  34.4279,2,    175.8,2,   176.4,2,   54.64,2,   33.67,2,    0.00,4,    2.31,2,   0.154,2,   0.086,2,       0,2,  2231.9,2,  2321.1,2,-999.0000,9,  -999.00,-999.0000,9, -999.00,9, -999.00,9,  -999.0,9,  -999.0, -999.00,9, -999.00,9, -999.00,9, -999.00,9,   3.3689, -999.00
096U20160426,       P15S,      76,          1,         16,       2016,2,20160604,       2348,   -31.4895,  -169.9788,       5554,  1500.0,   2.9990,  34.4950,2,  34.4994,2,    167.1,2,   167.1,2,   69.75,2,   34.39,2,    0.00,4,    2.37,2,   0.059,2,   0.034,2,   0.018,2,  2250.7,2,  2339.0,2,-999.0000,9,  -999.00,-999.0000,9, -999.00,9, -999.00,9,  -999.0,9,  -999.0, -999.00,9, -999.00,9, -999.00,9, -999.00,9,   2.8914, -999.00
096U20160426,       P15S,      76,          1,         15,       2015,2,20160604,       2348,   -31.4895,  -169.9788,       5554,  1701.4,   2.6400,  34.5690,2,  34.5696,2,    157.4,2,   157.4,2,   87.89,2,   34.90,2,    0.00,4,    2.42,2,   0.011,2,   0.009,2,       0,2,  2273.3,6,  2361.2,6,-999.0000,9,  -999.00,-999.0000,9, -999.00,9, -999.00,9,  -999.0,9,  -999.0, -999.00,9, -999.00,9, -999.00,9, -999.00,9,   2.5197, -999.00
096U20160426,       P15S,      76,          1,         14,       2014,2,20160604,       2348,   -31.4895,  -169.9788,       5554,  1901.6,   2.4110,  34.6090,2,  34.6092,2,    151.4,2,   151.4,2,  101.76,2,   35.27,2,    0.00,4,    2.46,2,   0.006,2,   0.005,2,       0,2,  2290.8,2,  2378.8,2,-999.0000,9,  -999.00,-999.0000,9, -999.00,9, -999.00,9,  -999.0,9,  -999.0, -999.00,9, -999.00,9, -999.00,9, -999.00,9,   2.2768, -999.00
096U20160426,       P15S,      76,          1,         13,       2013,2,20160604,       2348,   -31.4895,  -169.9788,       5554,  2150.6,   2.2330,  34.6300,2,  34.6308,2,    148.2,2,   148.2,2,  111.39,2,   35.64,2,    0.00,4,    2.49,2,-999.000,9,-999.000,9,-999.000,9,  -999.0,9,  -999.0,9,-999.0000,9,  -999.00,-999.0000,9, -999.00,9, -999.00,9,  -999.0,9,  -999.0, -999.00,9, -999.00,9, -999.00,9, -999.00,9,   2.0800, -999.00
096U20160426,       P15S,      76,          1,         12,       2012,2,20160604,       2348,   -31.4895,  -169.9788,       5554,  2401.5,   2.0890,  34.6440,2,  34.6437,2,    146.7,2,   147.0,2,  118.19,2,   35.91,2,    0.00,4,    2.50,2,   0.001,2,   0.003,2,       0,2,  2309.6,2,  2397.3,2,-999.0000,9,  -999.00,-999.0000,9, -999.00,9, -999.00,9,  -999.0,9,  -999.0, -999.00,9, -999.00,9, -999.00,9, -999.00,9,   1.9160, -999.00
096U20160426,       P15S,      76,          1,         11,       2011,2,20160604,       2348,   -31.4895,  -169.9788,       5554,  2650.6,   1.9620,  34.6550,2,  34.6549,2,    147.0,2,   147.2,2,  123.20,2,   35.92,2,    0.00,4,    2.50,2,   0.003,2,   0.003,2,       0,2,  2312.3,2,  2400.9,2,-999.0000,9,  -999.00,-999.0000,9, -999.00,9, -999.00,9,  -999.0,9,  -999.0, -999.00,9, -999.00,9, -999.00,9, -999.00,9,   1.7685, -999.00
096U20160426,       P15S,      76,          1,         10,       2010,2,20160604,       2348,   -31.4895,  -169.9788,       5554,  2901.3,   1.8500,  34.6660,2,  34.6666,2,    149.5,2,   150.1,2,  125.98,2,   35.77,2,    0.00,4,    2.49,2,   0.006,2,   0.006,2,       0,2,  -999.0,9,  -999.0,9,-999.0000,9,  -999.00,-999.0000,9, -999.00,9, -999.00,9,  -999.0,9,  -999.0, -999.00,9, -999.00,9, -999.00,9, -999.00,9,   1.6351, -999.00
096U20160426,       P15S,      76,          1,          9,       2009,2,20160604,       2348,   -31.4895,  -169.9788,       5554,  3177.2,   1.7400,  34.6800,2,  34.6800,2,    157.6,2,   158.8,2,  123.92,2,   35.04,2,    0.00,4,    2.43,2,   0.006,2,   0.005,2,       0,2,  2305.9,2,  2397.9,6,-999.0000,9,  -999.00,-999.0000,9, -999.00,9, -999.00,9,  -999.0,9,  -999.0, -999.00,9, -999.00,9, -999.00,9, -999.00,9,   1.5005, -999.00
096U20160426,       P15S,      76,          1,          8,       2008,2,20160604,       2348,   -31.4895,  -169.9788,       5554,  3475.7,   1.6260,  34.7030,2,  34.7029,2,    175.7,2,   177.4,2,  113.66,2,   33.37,2,    0.00,4,    2.30,2,   0.018,6,   0.014,6,   0.071,3,  2282.0,2,  2378.9,2,-999.0000,9,  -999.00,-999.0000,9, -999.00,9, -999.00,9,  -999.0,9,  -999.0, -999.00,9, -999.00,9, -999.00,9, -999.00,9,   1.3590, -999.00
096U20160426,       P15S,      76,          1,          7,       2007,2,20160604,       2348,   -31.4895,  -169.9788,       5554,  3826.0,   1.4060,  34.7180,2,  34.7181,2,    193.2,2,   195.5,2,  108.90,2,   32.06,2,    0.00,4,    2.20,2,-999.000,9,-999.000,9,-999.000,9,  -999.0,9,  -999.0,9,-999.0000,9,  -999.00,-999.0000,9, -999.00,9, -999.00,9,  -999.0,9,  -999.0, -999.00,9, -999.00,9, -999.00,9, -999.00,9,   1.1081, -999.00
096U20160426,       P15S,      76,          1,          6,       2006,2,20160604,       2348,   -31.4895,  -169.9788,       5554,  4220.9,   1.1580,  34.7150,2,  34.7153,2,    201.3,2,   203.2,2,  113.85,2,   32.01,2,    0.00,4,    2.19,2,   0.066,2,   0.036,2,       0,2,  2262.4,2,  2364.3,2,-999.0000,9,  -999.00,-999.0000,9, -999.00,9, -999.00,9,  -999.0,9,  -999.0, -999.00,9, -999.00,9, -999.00,9, -999.00,9,   0.8246, -999.00
096U20160426,       P15S,      76,          1,          5,       2005,2,20160604,       2348,   -31.4895,  -169.9788,       5554,  4626.2,   1.0540,  34.7110,2,  34.7103,2,    204.6,2,   205.9,2,  117.48,2,   32.18,2,    0.00,4,    2.20,2,   0.091,2,   0.049,2,       0,2,  2261.3,2,  2364.9,2,-999.0000,9,  -999.00,-999.0000,9, -999.00,9, -999.00,9,  -999.0,9,  -999.0, -999.00,9, -999.00,9, -999.00,9, -999.00,9,   0.6783, -999.00
096U20160426,       P15S,      76,          1,          4,       2004,2,20160604,       2348,   -31.4895,  -169.9788,       5554,  5025.2,   1.0560,  34.7090,2,  34.7086,2,    206.0,2,   206.3,2,  118.89,2,   32.25,2,    0.00,4,    2.21,2,   0.100,2,   0.053,2,       0,2,  -999.0,9,  -999.0,9,-999.0000,9,  -999.00,-999.0000,9, -999.00,9, -999.00,9,  -999.0,9,  -999.0, -999.00,9, -999.00,9, -999.00,9, -999.00,9,   0.6336, -999.00
096U20160426,       P15S,      76,          1,          3,       2003,2,20160604,       2348,   -31.4895,  -169.9788,       5554,  5401.3,   1.0940,  34.7080,2,  34.7085,2,    206.4,2,   206.0,2,  119.14,2,   32.28,2,    0.00,4,    2.21,2,   0.097,2,   0.052,2,       0,2,  2262.9,6,  2366.0,6,-999.0000,9,  -999.00,-999.0000,9, -999.00,9, -999.00,9,  -999.0,9,  -999.0, -999.00,9, -999.00,9, -999.00,9, -999.00,9,   0.6244, -999.00
096U20160426,       P15S,      76,          1,          2,       2002,2,20160604,       2348,   -31.4895,  -169.9788,       5554,  5519.1,   1.1100,  34.7080,2,  34.7081,2,    206.5,2,   206.0,2,  119.20,2,   32.29,2,    0.00,4,    2.21,2,-999.000,9,-999.000,9,-999.000,9,  -999.0,9,  -999.0,9,-999.0000,9,  -999.00,-999.0000,9, -999.00,9, -999.00,9,  -999.0,9,  -999.0, -999.00,9, -999.00,9, -999.00,9, -999.00,9,   0.6250, -999.00
096U20160426,       P15S,      76,          1,          1,       2001,2,20160604,       2348,   -31.4895,  -169.9788,       5554,  5641.4,   1.1260,  34.7080,2,  34.7076,2,    206.7,2,   206.0,2,  119.13,2,   32.27,2,    0.00,4,    2.21,2,   0.098,2,   0.052,2,       0,2,  2265.5,2,  2367.1,2,-999.0000,9,  -999.00,-999.0000,9, -999.00,9, -999.00,9,  -999.0,9,  -999.0, -999.00,9, -999.00,9, -999.00,9, -999.00,9,   0.6249, -999.00