BOTTLE,20230413CCHSIOENA
EXPOCODE,SECT_ID,STNNBR,CASTNO,SAMPNO,BTLNBR,BTLNBR_FLAG_W,DATE,TIME,LATITUDE,LONGITUDE,DEPTH,CTDPRS,CTDTMP,CTDSAL,CTDSAL_FLAG_W,SALNTY,SALNTY_FLAG_W,CTDOXY,CTDOXY_FLAG_W,OXYGEN,OXYGEN_FLAG_W,SILCAT,SILCAT_FLAG_W,NITRAT,NITRAT_FLAG_W,NITRIT,NITRIT_FLAG_W,PHSPHT,PHSPHT_FLAG_W,CFC-11,CFC-11_FLAG_W,CFC-12,CFC-12_FLAG_W,SF6,SF6_FLAG_W,TCARBN,TCARBN_FLAG_W,ALKALI,ALKALI_FLAG_W,PH_TOT,PH_TOT_FLAG_W,PH_TMP,HELIUM,HELIUM_FLAG_W,DELHE3,DELHE3_FLAG_W,DELC13,DELC13_FLAG_W,DELC14,DELC14_FLAG_W,C14ERR,POC,POC_FLAG_W,PON,PON_FLAG_W,CHLORA,CHLORA_FLAG_W,PPHYTN,PPHYTN_FLAG_W,THETA,DELHER
,,,,,,,,,,,METERS,DBAR,ITS-90,PSS-78,,PSS-78,,UMOL/KG,,UMOL/KG,,UMOL/KG,,UMOL/KG,,UMOL/KG,,UMOL/KG,,PMOL/KG,,PMOL/KG,,FMOL/KG,,UMOL/KG,,UMOL/KG,,,,DEG C,NMOL/KG,,PERCNT,,/MILLE,,/MILLE,,/MILLE,UG/KG,,UG/KG,,UG/KG,,UG/KG,,DEG C,PERCNT
096U20160426,       P15S,      24,          1,         36,       2036,2,20160515,       0821,   -55.5010,  -169.9884,       4786,     5.7,   4.2340,  33.9170,2,  33.9200,2,    312.3,2,   310.3,2,    6.47,2,   23.45,2,    0.25,2,    1.67,2,-999.000,9,-999.000,9,-999.000,9,  2132.8,2,  2272.1,2,-999.0000,9,  -999.00,-999.0000,9, -999.00,9, -999.00,9,  -999.0,9,  -999.0, -999.00,9, -999.00,9,    0.36,2,   -0.02,3,   4.2336, -999.00
096U20160426,       P15S,      24,          1,         35,       2035,2,20160515,       0821,   -55.5010,  -169.9884,       4786,    17.9,   4.2510,  33.9190,2,  33.9207,2,    312.0,2,   309.9,2,    6.39,2,   23.39,2,    0.25,2,    1.67,2,-999.000,9,-999.000,9,-999.000,9,  -999.0,9,  -999.0,9,-999.0000,9,  -999.00,-999.0000,9, -999.00,9, -999.00,9,  -999.0,9,  -999.0, -999.00,9, -999.00,9, -999.00,9, -999.00,9,   4.2498, -999.00
096U20160426,       P15S,      24,          1,         34,       2034,2,20160515,       0821,   -55.5010,  -169.9884,       4786,    39.4,   4.2530,  33.9210,2,  33.9212,2,    311.5,2,   309.9,2,    6.42,2,   23.39,2,    0.25,2,    1.67,2,-999.000,9,-999.000,9,-999.000,9,  -999.0,9,  -999.0,9,-999.0000,9,  -999.00,-999.0000,9, -999.00,9, -999.00,9,  -999.0,9,  -999.0, -999.00,9, -999.00,9,    0.40,2,    0.05,3,   4.2503, -999.00
096U20160426,       P15S,      24,          1,         33,       2033,2,20160515,       0821,   -55.5010,  -169.9884,       4786,    64.6,   4.2480,  33.9230,2,  33.9230,2,    311.1,2,   309.3,2,    6.45,2,   23.40,2,    0.25,2,    1.67,2,-999.000,9,-999.000,9,-999.000,9,  -999.0,9,  -999.0,9,-999.0000,9,  -999.00,-999.0000,9, -999.00,9, -999.00,9,  -999.0,9,  -999.0, -999.00,9, -999.00,9,    0.41,2,   -0.01,3,   4.2435, -999.00
096U20160426,       P15S,      24,          1,         32,       2032,2,20160515,       0821,   -55.5010,  -169.9884,       4786,    90.3,   4.2400,  33.9240,2,  33.9241,2,    310.7,2,   309.9,2,    6.58,2,   23.44,2,    0.24,2,    1.67,2,-999.000,9,-999.000,9,-999.000,9,  -999.0,9,  -999.0,9,-999.0000,9,  -999.00,-999.0000,9, -999.00,9, -999.00,9,  -999.0,9,  -999.0, -999.00,9, -999.00,9,    0.39,2,    0.04,3,   4.2337, -999.00
096U20160426,       P15S,      24,          1,         31,       2031,2,20160515,       0821,   -55.5010,  -169.9884,       4786,   134.9,   4.1630,  33.9230,2,  33.9252,2,    311.0,2,   309.7,2,    6.89,2,   23.60,2,    0.24,2,    1.68,2,-999.000,9,-999.000,9,-999.000,9,  -999.0,9,  -999.0,9,-999.0000,9,  -999.00,-999.0000,9, -999.00,9, -999.00,9,  -999.0,9,  -999.0, -999.00,9, -999.00,9,    0.42,2,    0.02,3,   4.1536, -999.00
096U20160426,       P15S,      24,          1,         30,       2030,2,20160515,       0821,   -55.5010,  -169.9884,       4786,   182.8,   3.1710,  34.0160,2,  34.0168,2,    294.2,2,   293.6,2,   15.45,2,   27.13,2,    0.01,4,    1.88,2,-999.000,9,-999.000,9,-999.000,9,  -999.0,9,  -999.0,9,-999.0000,9,  -999.00,-999.0000,9, -999.00,9, -999.00,9,  -999.0,9,  -999.0, -999.00,9, -999.00,9, -999.00,9, -999.00,9,   3.1597, -999.00
096U20160426,       P15S,      24,          1,         29,       2029,2,20160515,       0821,   -55.5010,  -169.9884,       4786,   236.1,   2.9100,  34.0170,2,  34.0172,2,    294.4,2,   292.6,2,   17.24,2,   27.69,2,    0.01,4,    1.92,2,-999.000,9,-999.000,9,-999.000,9,  -999.0,9,  -999.0,9,-999.0000,9,  -999.00,-999.0000,9, -999.00,9, -999.00,9,  -999.0,9,  -999.0, -999.00,9, -999.00,9, -999.00,9, -999.00,9,   2.8958, -999.00
096U20160426,       P15S,      24,          1,         28,       2028,2,20160515,       0821,   -55.5010,  -169.9884,       4786,   287.4,   2.9740,  34.0570,2,  34.0586,2,    280.6,2,   279.2,2,   20.58,2,   28.39,2,    0.01,4,    1.96,2,-999.000,9,-999.000,9,-999.000,9,  -999.0,9,  -999.0,9,-999.0000,9,  -999.00,-999.0000,9, -999.00,9, -999.00,9,  -999.0,9,  -999.0, -999.00,9, -999.00,9, -999.00,9, -999.00,9,   2.9564, -999.00
096U20160426,       P15S,      24,          1,         27,       2027,2,20160515,       0821,   -55.5010,  -169.9884,       4786,   336.4,   2.8870,  34.0790,2,  34.0867,2,    272.5,2,   269.9,2,   23.39,2,   29.10,2,    0.00,4,    2.01,2,-999.000,9,-999.000,9,-999.000,9,  -999.0,9,  -999.0,9,-999.0000,9,  -999.00,-999.0000,9, -999.00,9, -999.00,9,  -999.0,9,  -999.0, -999.00,9, -999.00,9, -999.00,9, -999.00,9,   2.8665, -999.00
096U20160426,       P15S,      24,          1,         26,       2026,2,20160515,       0821,   -55.5010,  -169.9884,       4786,   384.2,   3.0010,  34.1320,2,  34.1371,2,    256.2,2,   253.9,2,   27.24,2,   30.03,2,    0.00,4,    2.07,2,-999.000,9,-999.000,9,-999.000,9,  -999.0,9,  -999.0,9,-999.0000,9,  -999.00,-999.0000,9, -999.00,9, -999.00,9,  -999.0,9,  -999.0, -999.00,9, -999.00,9, -999.00,9, -999.00,9,   2.9770, -999.00
096U20160426,       P15S,      24,          1,         25,       2025,2,20160515,       0821,   -55.5010,  -169.9884,       4786,   464.1,   3.2710,  34.2210,2,  34.2220,2,    229.9,2,   228.3,2,   33.88,2,   31.43,2,    0.00,4,    2.17,2,-999.000,9,-999.000,9,-999.000,9,  -999.0,9,  -999.0,9,-999.0000,9,  -999.00,-999.0000,9, -999.00,9, -999.00,9,  -999.0,9,  -999.0, -999.00,9, -999.00,9, -999.00,9, -999.00,9,   3.2407, -999.00
096U20160426,       P15S,      24,          1,         24,       2024,2,20160515,       0821,   -55.5010,  -169.9884,       4786,   565.0,   3.0450,  34.2950,2,  34.2970,2,    210.8,2,   208.9,2,   43.62,2,   32.94,2,    0.00,4,    2.28,2,-999.000,9,-999.000,9,-999.000,9,  -999.0,9,  -999.0,9,-999.0000,9,  -999.00,-999.0000,9, -999.00,9, -999.00,9,  -999.0,9,  -999.0, -999.00,9, -999.00,9, -999.00,9, -999.00,9,   3.0086, -999.00
096U20160426,       P15S,      24,          1,         23,       2023,2,20160515,       0821,   -55.5010,  -169.9884,       4786,   664.6,   2.9090,  34.3640,2,  34.3645,2,    196.3,2,   194.2,2,   51.85,2,   33.85,2,    0.00,4,    2.34,2,-999.000,9,-999.000,9,-999.000,9,  -999.0,9,  -999.0,9,-999.0000,9,  -999.00,-999.0000,9, -999.00,9, -999.00,9,  -999.0,9,  -999.0, -999.00,9, -999.00,9, -999.00,9, -999.00,9,   2.8663, -999.00
096U20160426,       P15S,      24,          1,         22,       2022,2,20160515,       0821,   -55.5010,  -169.9884,       4786,   762.1,   2.7860,  34.4110,2,  34.4098,2,    189.0,2,   186.4,2,   57.31,2,   34.18,2,    0.00,4,    2.38,2,-999.000,9,-999.000,9,-999.000,9,  -999.0,9,  -999.0,9,-999.0000,9,  -999.00,-999.0000,9, -999.00,9, -999.00,9,  -999.0,9,  -999.0, -999.00,9, -999.00,9, -999.00,9, -999.00,9,   2.7371, -999.00
096U20160426,       P15S,      24,          1,         21,       2021,2,20160515,       0821,   -55.5010,  -169.9884,       4786,   865.8,   2.6310,  34.4660,2,  34.4672,2,    182.6,2,   180.3,2,   63.60,2,   34.43,2,    0.00,4,    2.40,2,-999.000,9,-999.000,9,-999.000,9,  -999.0,9,  -999.0,9,-999.0000,9,  -999.00,-999.0000,9, -999.00,9, -999.00,9,  -999.0,9,  -999.0, -999.00,9, -999.00,9, -999.00,9, -999.00,9,   2.5757, -999.00
096U20160426,       P15S,      24,          1,         20,       2020,2,20160515,       0821,   -55.5010,  -169.9884,       4786,   965.3,   2.5560,  34.5240,2,  34.5289,2,    177.1,2,   174.2,2,   68.86,2,   34.26,2,    0.00,4,    2.39,2,-999.000,9,-999.000,9,-999.000,9,  -999.0,9,  -999.0,9,-999.0000,9,  -999.00,-999.0000,9, -999.00,9, -999.00,9,  -999.0,9,  -999.0, -999.00,9, -999.00,9, -999.00,9, -999.00,9,   2.4940, -999.00
096U20160426,       P15S,      24,          1,         19,       2019,2,20160515,       0821,   -55.5010,  -169.9884,       4786,  1066.0,   2.5060,  34.5680,2,  34.5682,2,    175.7,2,   173.6,2,   71.99,2,   33.94,2,    0.00,4,    2.37,2,-999.000,9,-999.000,9,-999.000,9,  -999.0,9,  -999.0,9,-999.0000,9,  -999.00,-999.0000,9, -999.00,9, -999.00,9,  -999.0,9,  -999.0, -999.00,9, -999.00,9, -999.00,9, -999.00,9,   2.4371, -999.00
096U20160426,       P15S,      24,          1,         18,       2018,2,20160515,       0821,   -55.5010,  -169.9884,       4786,  1162.5,   2.4350,  34.6050,2,  34.6044,2,    175.9,2,   173.7,2,   74.21,2,   33.58,2,    0.00,4,    2.34,2,-999.000,9,-999.000,9,-999.000,9,  -999.0,9,  -999.0,9,-999.0000,9,  -999.00,-999.0000,9, -999.00,9, -999.00,9,  -999.0,9,  -999.0, -999.00,9, -999.00,9, -999.00,9, -999.00,9,   2.3595, -999.00
096U20160426,       P15S,      24,          1,         17,       2017,2,20160515,       0821,   -55.5010,  -169.9884,       4786,  1264.9,   2.3850,  34.6370,2,  34.6369,2,    177.1,2,   175.1,2,   76.25,2,   33.11,2,    0.00,4,    2.31,2,-999.000,9,-999.000,9,-999.000,9,  -999.0,9,  -999.0,9,-999.0000,9,  -999.00,-999.0000,9, -999.00,9, -999.00,9,  -999.0,9,  -999.0, -999.00,9, -999.00,9, -999.00,9, -999.00,9,   2.3022, -999.00
096U20160426,       P15S,      24,          1,         16,       2016,2,20160515,       0821,   -55.5010,  -169.9884,       4786,  1364.8,   2.3240,  34.6650,2,  34.6681,2,    179.1,2,   177.3,2,   78.31,2,   32.56,2,    0.00,4,    2.27,2,-999.000,9,-999.000,9,-999.000,9,  -999.0,9,  -999.0,9,-999.0000,9,  -999.00,-999.0000,9, -999.00,9, -999.00,9,  -999.0,9,  -999.0, -999.00,9, -999.00,9, -999.00,9, -999.00,9,   2.2342, -999.00
096U20160426,       P15S,      24,          1,         15,       2015,2,20160515,       0821,   -55.5010,  -169.9884,       4786,  1534.4,   2.2110,  34.7000,2,  34.7006,2,    183.0,2,   181.8,2,   81.23,2,   31.86,2,    0.00,4,    2.22,2,-999.000,9,-999.000,9,-999.000,9,  -999.0,9,  -999.0,9,-999.0000,9,  -999.00,-999.0000,9, -999.00,9, -999.00,9,  -999.0,9,  -999.0, -999.00,9, -999.00,9, -999.00,9, -999.00,9,   2.1093, -999.00
096U20160426,       P15S,      24,          1,         14,       2014,2,20160515,       0821,   -55.5010,  -169.9884,       4786,  1736.8,   2.0830,  34.7240,2,  34.7236,2,    187.3,2,   186.2,2,   84.49,2,   31.36,2,    0.00,4,    2.18,2,-999.000,9,-999.000,9,-999.000,9,  -999.0,9,  -999.0,9,-999.0000,9,  -999.00,-999.0000,9, -999.00,9, -999.00,9,  -999.0,9,  -999.0, -999.00,9, -999.00,9, -999.00,9, -999.00,9,   1.9667, -999.00
096U20160426,       P15S,      24,          1,         13,       2013,2,20160515,       0821,   -55.5010,  -169.9884,       4786,  1936.3,   1.9380,  34.7360,2,  34.7231,3,    191.0,2,   190.5,2,   88.53,2,   31.10,2,    0.00,4,    2.16,2,-999.000,9,-999.000,9,-999.000,9,  -999.0,9,  -999.0,9,-999.0000,9,  -999.00,-999.0000,9, -999.00,9, -999.00,9,  -999.0,9,  -999.0, -999.00,9, -999.00,9, -999.00,9, -999.00,9,   1.8074, -999.00
096U20160426,       P15S,      24,          1,         12,       2012,2,20160515,       0821,   -55.5010,  -169.9884,       4786,  2162.8,   1.7770,  34.7380,2,  34.7361,2,    193.7,2,   193.9,2,   93.18,2,   31.06,2,    0.00,4,    2.16,2,-999.000,9,-999.000,9,-999.000,9,  -999.0,9,  -999.0,9,-999.0000,9,  -999.00,-999.0000,9, -999.00,9, -999.00,9,  -999.0,9,  -999.0, -999.00,9, -999.00,9, -999.00,9, -999.00,9,   1.6300, -999.00
096U20160426,       P15S,      24,          1,         11,       2011,2,20160515,       0821,   -55.5010,  -169.9884,       4786,  2417.5,   1.5980,  34.7370,2,  34.7382,2,    196.5,2,   196.5,2,   98.52,2,   31.15,2,    0.00,4,    2.17,2,-999.000,9,-999.000,9,-999.000,9,  -999.0,9,  -999.0,9,-999.0000,9,  -999.00,-999.0000,9, -999.00,9, -999.00,9,  -999.0,9,  -999.0, -999.00,9, -999.00,9, -999.00,9, -999.00,9,   1.4321, -999.00
096U20160426,       P15S,      24,          1,         10,       2010,2,20160515,       0821,   -55.5010,  -169.9884,       4786,  2664.1,   1.4020,  34.7310,2,  34.7360,2,    199.1,2,   199.2,2,  104.30,2,   31.35,2,    0.00,4,    2.19,2,-999.000,9,-999.000,9,-999.000,9,  -999.0,9,  -999.0,9,-999.0000,9,  -999.00,-999.0000,9, -999.00,9, -999.00,9,  -999.0,9,  -999.0, -999.00,9, -999.00,9, -999.00,9, -999.00,9,   1.2180, -999.00
096U20160426,       P15S,      24,          1,          9,       2009,2,20160515,       0821,   -55.5010,  -169.9884,       4786,  2914.5,   1.2630,  34.7250,2,  34.7305,2,    201.2,2,   201.2,2,  108.73,2,   31.57,2,    0.00,4,    2.20,2,-999.000,9,-999.000,9,-999.000,9,  -999.0,9,  -999.0,9,-999.0000,9,  -999.00,-999.0000,9, -999.00,9, -999.00,9,  -999.0,9,  -999.0, -999.00,9, -999.00,9, -999.00,9, -999.00,9,   1.0591, -999.00
096U20160426,       P15S,      24,          1,          8,       2008,2,20160515,       0821,   -55.5010,  -169.9884,       4786,  3200.6,   1.1320,  34.7190,2,  34.7252,2,    203.5,2,   203.9,2,  112.87,2,   31.73,2,    0.00,4,    2.22,2,-999.000,9,-999.000,9,-999.000,9,  -999.0,9,  -999.0,9,-999.0000,9,  -999.00,-999.0000,9, -999.00,9, -999.00,9,  -999.0,9,  -999.0, -999.00,9, -999.00,9, -999.00,9, -999.00,9,   0.9041, -999.00
096U20160426,       P15S,      24,          1,          7,       2007,2,20160515,       0821,   -55.5010,  -169.9884,       4786,  3498.2,   1.0250,  34.7140,2,-999.0000,9,    205.7,2,  -999.0,9, -999.00,9, -999.00,9, -999.00,9, -999.00,9,-999.000,9,-999.000,9,-999.000,9,  -999.0,9,  -999.0,9,-999.0000,9,  -999.00,-999.0000,9, -999.00,9, -999.00,9,  -999.0,9,  -999.0, -999.00,9, -999.00,9, -999.00,9, -999.00,9,   0.7708, -999.00
096U20160426,       P15S,      24,          1,          6,       2006,2,20160515,       0821,   -55.5010,  -169.9884,       4786,  3799.3,   0.9400,  34.7090,2,  34.7094,2,    207.3,2,   207.5,2,  119.59,2,   32.06,2,    0.00,4,    2.24,2,-999.000,9,-999.000,9,-999.000,9,  -999.0,9,  -999.0,9,-999.0000,9,  -999.00,-999.0000,9, -999.00,9, -999.00,9,  -999.0,9,  -999.0, -999.00,9, -999.00,9, -999.00,9, -999.00,9,   0.6576, -999.00
096U20160426,       P15S,      24,          1,          5,       2005,2,20160515,       0821,   -55.5010,  -169.9884,       4786,  3998.8,   0.9300,  34.7080,2,  34.7077,2,    207.8,2,   208.0,2,  120.69,2,   32.12,2,    0.00,4,    2.24,2,-999.000,9,-999.000,9,-999.000,9,  -999.0,9,  -999.0,9,-999.0000,9,  -999.00,-999.0000,9, -999.00,9, -999.00,9,  -999.0,9,  -999.0, -999.00,9, -999.00,9, -999.00,9, -999.00,9,   0.6271, -999.00
096U20160426,       P15S,      24,          1,          4,       2004,2,20160515,       0821,   -55.5010,  -169.9884,       4786,  4201.9,   0.9070,  34.7060,2,  34.7068,2,    208.8,2,   208.7,2,  122.19,2,   32.18,2,    0.00,4,    2.25,2,-999.000,9,-999.000,9,-999.000,9,  -999.0,9,  -999.0,9,-999.0000,9,  -999.00,-999.0000,9, -999.00,9, -999.00,9,  -999.0,9,  -999.0, -999.00,9, -999.00,9, -999.00,9, -999.00,9,   0.5831, -999.00
096U20160426,       P15S,      24,          1,          3,       2003,2,20160515,       0821,   -55.5010,  -169.9884,       4786,  4399.3,   0.9040,  34.7040,2,  34.7053,2,    209.1,2,   208.9,2,  123.24,2,   32.20,2,    0.00,4,    2.25,2,-999.000,9,-999.000,9,-999.000,9,  -999.0,9,  -999.0,9,-999.0000,9,  -999.00,-999.0000,9, -999.00,9, -999.00,9,  -999.0,9,  -999.0, -999.00,9, -999.00,9, -999.00,9, -999.00,9,   0.5586, -999.00
096U20160426,       P15S,      24,          1,          2,       2002,2,20160515,       0821,   -55.5010,  -169.9884,       4786,  4500.7,   0.9120,  34.7040,2,  34.7045,2,    209.4,2,   208.8,2,  123.24,2,   32.22,2,    0.00,4,    2.25,2,-999.000,9,-999.000,9,-999.000,9,  -999.0,9,  -999.0,9,-999.0000,9,  -999.00,-999.0000,9, -999.00,9, -999.00,9,  -999.0,9,  -999.0, -999.00,9, -999.00,9, -999.00,9, -999.00,9,   0.5551, -999.00
096U20160426,       P15S,      24,          1,          1,       2001,2,20160515,       0821,   -55.5010,  -169.9884,       4786,  4749.4,   0.9340,  34.7030,2,  34.7053,2,    210.0,2,   208.8,2,  123.54,2,   32.23,2,    0.00,4,    2.25,2,-999.000,9,-999.000,9,-999.000,9,  2266.0,2,  2363.9,2,-999.0000,9,  -999.00,-999.0000,9, -999.00,9, -999.00,9,  -999.0,9,  -999.0, -999.00,9, -999.00,9, -999.00,9, -999.00,9,   0.5481, -999.00