BOTTLE,20230413CCHSIOENA
EXPOCODE,SECT_ID,STNNBR,CASTNO,SAMPNO,BTLNBR,BTLNBR_FLAG_W,DATE,TIME,LATITUDE,LONGITUDE,DEPTH,CTDPRS,CTDTMP,CTDSAL,CTDSAL_FLAG_W,SALNTY,SALNTY_FLAG_W,CTDOXY,CTDOXY_FLAG_W,OXYGEN,OXYGEN_FLAG_W,SILCAT,SILCAT_FLAG_W,NITRAT,NITRAT_FLAG_W,NITRIT,NITRIT_FLAG_W,PHSPHT,PHSPHT_FLAG_W,CFC-11,CFC-11_FLAG_W,CFC-12,CFC-12_FLAG_W,SF6,SF6_FLAG_W,TCARBN,TCARBN_FLAG_W,ALKALI,ALKALI_FLAG_W,PH_TOT,PH_TOT_FLAG_W,PH_TMP,HELIUM,HELIUM_FLAG_W,DELHE3,DELHE3_FLAG_W,DELC13,DELC13_FLAG_W,DELC14,DELC14_FLAG_W,C14ERR,POC,POC_FLAG_W,PON,PON_FLAG_W,CHLORA,CHLORA_FLAG_W,PPHYTN,PPHYTN_FLAG_W,THETA,DELHER
,,,,,,,,,,,METERS,DBAR,ITS-90,PSS-78,,PSS-78,,UMOL/KG,,UMOL/KG,,UMOL/KG,,UMOL/KG,,UMOL/KG,,UMOL/KG,,PMOL/KG,,PMOL/KG,,FMOL/KG,,UMOL/KG,,UMOL/KG,,,,DEG C,NMOL/KG,,PERCNT,,/MILLE,,/MILLE,,/MILLE,UG/KG,,UG/KG,,UG/KG,,UG/KG,,DEG C,PERCNT
096U20160426,       P15S,     137,          1,         36,       2036,2,20160623,       1231,    -1.5004,  -168.7497,       5925,     7.0,  29.0530,  35.3230,2,  35.2959,2,    189.9,2,   197.3,2,    0.26,2,    1.19,2,    0.09,2,    0.29,2,-999.000,9,-999.000,9,-999.000,9,  1999.2,2,  2320.9,2,-999.0000,9,  -999.00,-999.0000,9, -999.00,9, -999.00,9,  -999.0,9,  -999.0, -999.00,9, -999.00,9,    0.82,2,   -0.08,3,  29.0513, -999.00
096U20160426,       P15S,     137,          1,         35,       2035,2,20160623,       1231,    -1.5004,  -168.7497,       5925,    20.5,  29.0580,  35.3220,2,  35.3228,2,    190.2,2,   197.4,2,    0.25,2,    1.22,2,    0.09,2,    0.29,2,-999.000,9,-999.000,9,-999.000,9,  -999.0,9,  -999.0,9,-999.0000,9,  -999.00,-999.0000,9, -999.00,9, -999.00,9,  -999.0,9,  -999.0, -999.00,9, -999.00,9,    0.65,2,    0.01,3,  29.0530, -999.00
096U20160426,       P15S,     137,          1,         34,       2034,2,20160623,       1231,    -1.5004,  -168.7497,       5925,    39.9,  29.0640,  35.3220,2,  35.3288,2,    189.8,2,   196.9,2,    0.25,2,    1.29,2,    0.11,2,    0.30,2,-999.000,9,-999.000,9,-999.000,9,  2001.0,2,  2323.2,2,-999.0000,9,  -999.00,-999.0000,9, -999.00,9, -999.00,9,  -999.0,9,  -999.0, -999.00,9, -999.00,9,    0.72,2,   -0.01,3,  29.0543, -999.00
096U20160426,       P15S,     137,          1,         33,       2033,2,20160623,       1231,    -1.5004,  -168.7497,       5925,    66.9,  28.4920,  35.4510,2,  35.5348,2,    180.0,2,   179.2,2,    0.67,2,    2.88,2,    0.76,2,    0.49,2,-999.000,9,-999.000,9,-999.000,9,  -999.0,9,  -999.0,9,-999.0000,9,  -999.00,-999.0000,9, -999.00,9, -999.00,9,  -999.0,9,  -999.0, -999.00,9, -999.00,9,    0.75,2,    0.12,3,  28.4760, -999.00
096U20160426,       P15S,     137,          1,         32,       2032,2,20160623,       1231,    -1.5004,  -168.7497,       5925,   100.9,  23.2040,  35.7770,2,  35.7728,2,    129.3,2,   132.6,2,    2.27,2,   10.17,2,    0.12,2,    0.91,2,-999.000,9,-999.000,9,-999.000,9,  2118.3,2,  2351.1,2,-999.0000,9,  -999.00,-999.0000,9, -999.00,9, -999.00,9,  -999.0,9,  -999.0, -999.00,9, -999.00,9,    0.51,2,    0.05,3,  23.1832, -999.00
096U20160426,       P15S,     137,          1,         31,       2031,2,20160623,       1231,    -1.5004,  -168.7497,       5925,   145.4,  17.9310,  35.4210,2,  35.3788,2,    113.5,2,   114.4,2,    6.36,2,   15.52,2,    0.03,2,    1.24,2,-999.000,9,-999.000,9,-999.000,9,  -999.0,9,  -999.0,9,-999.0000,9,  -999.00,-999.0000,9, -999.00,9, -999.00,9,  -999.0,9,  -999.0, -999.00,9, -999.00,9, -999.00,9, -999.00,9,  17.9061, -999.00
096U20160426,       P15S,     137,          1,         30,       2030,2,20160623,       1231,    -1.5004,  -168.7497,       5925,   186.1,  13.4790,  35.0210,2,  34.9576,2,    122.5,2,   123.8,2,   13.46,2,   20.18,2,    0.02,4,    1.48,2,-999.000,9,-999.000,9,-999.000,9,  2169.9,2,  2307.8,6,-999.0000,9,  -999.00,-999.0000,9, -999.00,9, -999.00,9,  -999.0,9,  -999.0, -999.00,9, -999.00,9, -999.00,9, -999.00,9,  13.4528, -999.00
096U20160426,       P15S,     137,          1,         29,       2029,2,20160623,       1231,    -1.5004,  -168.7497,       5925,   235.6,  12.0640,  34.8570,2,  34.8488,2,     84.2,2,    80.2,2,   20.72,2,   26.11,2,    0.02,4,    1.85,2,-999.000,9,-999.000,9,-999.000,9,  -999.0,9,  -999.0,9,-999.0000,9,  -999.00,-999.0000,9, -999.00,9, -999.00,9,  -999.0,9,  -999.0, -999.00,9, -999.00,9, -999.00,9, -999.00,9,  12.0332, -999.00
096U20160426,       P15S,     137,          1,         28,       2028,2,20160623,       1231,    -1.5004,  -168.7497,       5925,   285.8,  11.7340,  34.8370,2,  34.8341,2,     74.1,2,    70.6,2,   22.08,2,   27.63,2,    0.01,4,    1.95,2,-999.000,9,-999.000,9,-999.000,9,  2215.9,2,  2303.1,2,-999.0000,9,  -999.00,-999.0000,9, -999.00,9, -999.00,9,  -999.0,9,  -999.0, -999.00,9, -999.00,9, -999.00,9, -999.00,9,  11.6972, -999.00
096U20160426,       P15S,     137,          1,         27,       2027,2,20160623,       1231,    -1.5004,  -168.7497,       5925,   315.9,  11.6010,  34.8280,2,  34.8255,2,     73.2,2,    79.5,2,   21.58,2,   27.02,2,    0.01,4,    1.91,2,-999.000,9,-999.000,9,-999.000,9,  -999.0,9,  -999.0,9,-999.0000,9,  -999.00,-999.0000,9, -999.00,9, -999.00,9,  -999.0,9,  -999.0, -999.00,9, -999.00,9, -999.00,9, -999.00,9,  11.5606, -999.00
096U20160426,       P15S,     137,          1,         26,       2026,2,20160623,       1231,    -1.5004,  -168.7497,       5925,   360.1,  11.1890,  34.8100,2,  34.7944,2,    102.1,2,    85.3,2,   22.00,2,   27.43,2,    0.01,4,    1.94,2,-999.000,9,-999.000,9,-999.000,9,  2212.0,2,  2302.9,2,-999.0000,9,  -999.00,-999.0000,9, -999.00,9, -999.00,9,  -999.0,9,  -999.0, -999.00,9, -999.00,9, -999.00,9, -999.00,9,  11.1439, -999.00
096U20160426,       P15S,     137,          1,         25,       2025,2,20160623,       1231,    -1.5004,  -168.7497,       5925,   465.4,   8.3550,  34.6370,2,  34.6304,2,     69.5,2,    64.8,2,   34.40,2,   35.03,2,    0.01,4,    2.44,2,-999.000,9,-999.000,9,-999.000,9,  -999.0,9,  -999.0,9,-999.0000,9,  -999.00,-999.0000,9, -999.00,9, -999.00,9,  -999.0,9,  -999.0, -999.00,9, -999.00,9, -999.00,9, -999.00,9,   8.3061, -999.00
096U20160426,       P15S,     137,          1,         24,       2024,2,20160623,       1231,    -1.5004,  -168.7497,       5925,   565.3,   6.9490,  34.5720,2,  34.5707,2,     74.2,2,    71.6,2,   46.26,2,   36.89,2,    0.01,4,    2.59,2,-999.000,9,-999.000,9,-999.000,9,  2261.5,2,  2313.7,2,-999.0000,9,  -999.00,-999.0000,9, -999.00,9, -999.00,9,  -999.0,9,  -999.0, -999.00,9, -999.00,9, -999.00,9, -999.00,9,   6.8952, -999.00
096U20160426,       P15S,     137,          1,         23,       2023,2,20160623,       1231,    -1.5004,  -168.7497,       5925,   666.2,   6.4780,  34.5600,2,  34.5582,2,     70.9,2,    66.6,2,   52.79,2,   38.12,2,    0.01,4,    2.70,2,-999.000,9,-999.000,9,-999.000,9,  -999.0,9,  -999.0,9,-999.0000,9,  -999.00,-999.0000,9, -999.00,9, -999.00,9,  -999.0,9,  -999.0, -999.00,9, -999.00,9, -999.00,9, -999.00,9,   6.4165, -999.00
096U20160426,       P15S,     137,          1,         22,       2022,2,20160623,       1231,    -1.5004,  -168.7497,       5925,   765.1,   5.9050,  34.5450,2,  34.5437,2,     85.0,2,    82.1,2,   58.11,2,   37.50,2,    0.01,4,    2.66,2,-999.000,9,-999.000,9,-999.000,9,  2270.4,2,  2327.3,2,-999.0000,9,  -999.00,-999.0000,9, -999.00,9, -999.00,9,  -999.0,9,  -999.0, -999.00,9, -999.00,9, -999.00,9, -999.00,9,   5.8372, -999.00
096U20160426,       P15S,     137,          1,         21,       2021,2,20160623,       1231,    -1.5004,  -168.7497,       5925,   865.0,   4.8730,  34.5420,2,  34.5424,2,     98.9,2,    95.6,2,   74.15,2,   37.32,2,    0.01,4,    2.66,2,-999.000,9,-999.000,9,-999.000,9,  -999.0,9,  -999.0,9,-999.0000,9,  -999.00,-999.0000,9, -999.00,9, -999.00,9,  -999.0,9,  -999.0, -999.00,9, -999.00,9, -999.00,9, -999.00,9,   4.8026, -999.00
096U20160426,       P15S,     137,          1,         20,       2020,2,20160623,       1231,    -1.5004,  -168.7497,       5925,   966.5,   4.5130,  34.5540,2,  34.5536,2,     91.6,2,    89.1,2,   83.50,2,   38.26,2,    0.01,4,    2.74,2,-999.000,9,-999.000,9,-999.000,9,  -999.0,9,  -999.0,9,-999.0000,9,  -999.00,-999.0000,9, -999.00,9, -999.00,9,  -999.0,9,  -999.0, -999.00,9, -999.00,9, -999.00,9, -999.00,9,   4.4362, -999.00
096U20160426,       P15S,     137,          1,         19,       2019,2,20160623,       1231,    -1.5004,  -168.7497,       5925,  1056.0,   4.2570,  34.5590,2,  34.5598,2,     95.6,2,    93.0,2,   88.13,2,   38.02,2,    0.01,4,    2.72,2,-999.000,9,-999.000,9,-999.000,9,  -999.0,9,  -999.0,9,-999.0000,9,  -999.00,-999.0000,9, -999.00,9, -999.00,9,  -999.0,9,  -999.0, -999.00,9, -999.00,9, -999.00,9, -999.00,9,   4.1745, -999.00
096U20160426,       P15S,     137,          1,         18,       2018,2,20160623,       1231,    -1.5004,  -168.7497,       5925,  1151.9,   3.9750,  34.5660,2,  34.5666,2,     97.5,2,    94.7,2,   94.92,2,   38.12,2,    0.01,4,    2.74,2,-999.000,9,-999.000,9,-999.000,9,  -999.0,9,  -999.0,9,-999.0000,9,  -999.00,-999.0000,9, -999.00,9, -999.00,9,  -999.0,9,  -999.0, -999.00,9, -999.00,9, -999.00,9, -999.00,9,   3.8866, -999.00
096U20160426,       P15S,     137,          1,         17,       2017,2,20160623,       1231,    -1.5004,  -168.7497,       5925,  1301.8,   3.3880,  34.5880,2,  34.5875,2,     96.0,2,    93.5,2,  109.11,2,   38.66,2,    0.01,4,    2.78,2,-999.000,9,-999.000,9,-999.000,9,  -999.0,9,  -999.0,9,-999.0000,9,  -999.00,-999.0000,9, -999.00,9, -999.00,9,  -999.0,9,  -999.0, -999.00,9, -999.00,9, -999.00,9, -999.00,9,   3.2925, -999.00
096U20160426,       P15S,     137,          1,         16,       2016,2,20160623,       1231,    -1.5004,  -168.7497,       5925,  1440.4,   3.1770,  34.5970,2,  34.5980,2,     97.3,2,    94.2,2,  114.53,2,   38.76,2,    0.01,4,    2.78,2,-999.000,9,-999.000,9,-999.000,9,  -999.0,9,  -999.0,9,-999.0000,9,  -999.00,-999.0000,9, -999.00,9, -999.00,9,  -999.0,9,  -999.0, -999.00,9, -999.00,9, -999.00,9, -999.00,9,   3.0721, -999.00
096U20160426,       P15S,     137,          1,         15,       2015,2,20160623,       1231,    -1.5004,  -168.7497,       5925,  1635.7,   2.7220,  34.6140,2,  34.6140,2,    108.6,2,   106.5,2,  122.64,2,   38.01,2,    0.01,4,    2.71,2,-999.000,9,-999.000,9,-999.000,9,  2329.4,6,  2397.1,6,-999.0000,9,  -999.00,-999.0000,9, -999.00,9, -999.00,9,  -999.0,9,  -999.0, -999.00,9, -999.00,9, -999.00,9, -999.00,9,   2.6061, -999.00
096U20160426,       P15S,     137,          1,         14,       2014,2,20160623,       1231,    -1.5004,  -168.7497,       5925,  1825.2,   2.4700,  34.6280,2,  34.6288,2,    110.5,2,   108.6,2,  129.31,2,   37.96,2,    0.01,4,    2.71,2,-999.000,9,-999.000,9,-999.000,9,  -999.0,9,  -999.0,9,-999.0000,9,  -999.00,-999.0000,9, -999.00,9, -999.00,9,  -999.0,9,  -999.0, -999.00,9, -999.00,9, -999.00,9, -999.00,9,   2.3414, -999.00
096U20160426,       P15S,     137,          1,         13,       2013,2,20160623,       1231,    -1.5004,  -168.7497,       5925,  2061.1,   2.2120,  34.6440,2,  34.6433,2,    113.9,2,   112.4,2,  136.81,2,   37.85,2,    0.01,4,    2.68,2,-999.000,9,-999.000,9,-999.000,9,  -999.0,9,  -999.0,9,-999.0000,9,  -999.00,-999.0000,9, -999.00,9, -999.00,9,  -999.0,9,  -999.0, -999.00,9, -999.00,9, -999.00,9, -999.00,9,   2.0670, -999.00
096U20160426,       P15S,     137,          1,         12,       2012,2,20160623,       1231,    -1.5004,  -168.7497,       5925,  2351.8,   1.9510,  34.6560,2,  34.6556,2,    123.5,2,   123.2,2,  140.21,2,   37.16,2,    0.01,4,    2.63,2,-999.000,9,-999.000,9,-999.000,9,  -999.0,9,  -999.0,9,-999.0000,9,  -999.00,-999.0000,9, -999.00,9, -999.00,9,  -999.0,9,  -999.0, -999.00,9, -999.00,9, -999.00,9, -999.00,9,   1.7849, -999.00
096U20160426,       P15S,     137,          1,         11,       2011,2,20160623,       1231,    -1.5004,  -168.7497,       5925,  2640.1,   1.7970,  34.6640,2,  34.6636,2,    129.1,2,   129.0,2,  143.13,2,   36.79,2,    0.01,4,    2.58,2,-999.000,9,-999.000,9,-999.000,9,  2339.9,2,  2417.9,2,-999.0000,9,  -999.00,-999.0000,9, -999.00,9, -999.00,9,  -999.0,9,  -999.0, -999.00,9, -999.00,9, -999.00,9, -999.00,9,   1.6077, -999.00
096U20160426,       P15S,     137,          1,         10,       2010,2,20160623,       1231,    -1.5004,  -168.7497,       5925,  2987.0,   1.6350,  34.6730,2,  34.6732,2,    138.8,2,   139.7,2,  143.13,2,   36.14,2,    0.01,4,    2.53,2,-999.000,9,-999.000,9,-999.000,9,  -999.0,9,  -999.0,9,-999.0000,9,  -999.00,-999.0000,9, -999.00,9, -999.00,9,  -999.0,9,  -999.0, -999.00,9, -999.00,9, -999.00,9, -999.00,9,   1.4164, -999.00
096U20160426,       P15S,     137,          1,          9,       2009,2,20160623,       1231,    -1.5004,  -168.7497,       5925,  3325.4,   1.5850,  34.6780,2,  34.6796,2,    143.9,2,   145.2,2,  142.07,2,   35.73,2,    0.01,4,    2.49,2,-999.000,9,-999.000,9,-999.000,9,  -999.0,9,  -999.0,9,-999.0000,9,  -999.00,-999.0000,9, -999.00,9, -999.00,9,  -999.0,9,  -999.0, -999.00,9, -999.00,9, -999.00,9, -999.00,9,   1.3344, -999.00
096U20160426,       P15S,     137,          1,          8,       2008,2,20160623,       1231,    -1.5004,  -168.7497,       5925,  3715.8,   1.4600,  34.6880,2,  34.6882,2,    156.3,2,   158.5,2,  139.85,2,   34.95,2,    0.01,4,    2.43,2,-999.000,9,-999.000,9,-999.000,9,  -999.0,9,  -999.0,9,-999.0000,9,  -999.00,-999.0000,9, -999.00,9, -999.00,9,  -999.0,9,  -999.0, -999.00,9, -999.00,9, -999.00,9, -999.00,9,   1.1725, -999.00
096U20160426,       P15S,     137,          1,          7,       2007,2,20160623,       1231,    -1.5004,  -168.7497,       5925,  4113.7,   1.3390,  34.6970,2,  34.6970,2,    170.2,2,   173.4,2,  134.19,2,   33.94,2,    0.01,4,    2.35,2,-999.000,9,-999.000,9,-999.000,9,  2305.6,2,  2406.3,2,-999.0000,9,  -999.00,-999.0000,9, -999.00,9, -999.00,9,  -999.0,9,  -999.0, -999.00,9, -999.00,9, -999.00,9, -999.00,9,   1.0121, -999.00
096U20160426,       P15S,     137,          1,          6,       2006,2,20160623,       1231,    -1.5004,  -168.7497,       5925,  4514.1,   1.2700,  34.7020,2,  34.7036,2,    181.5,2,   185.4,2,  127.76,2,   33.09,2,    0.01,4,    2.28,2,-999.000,9,-999.000,9,-999.000,9,  -999.0,9,  -999.0,9,-999.0000,9,  -999.00,-999.0000,9, -999.00,9, -999.00,9,  -999.0,9,  -999.0, -999.00,9, -999.00,9, -999.00,9, -999.00,9,   0.9004, -999.00
096U20160426,       P15S,     137,          1,          5,       2005,2,20160623,       1231,    -1.5004,  -168.7497,       5925,  4900.1,   1.2630,  34.7040,2,  34.7037,2,    187.3,2,   189.9,2,  125.74,2,   32.81,2,    0.00,4,    2.26,2,-999.000,9,-999.000,9,-999.000,9,  -999.0,9,  -999.0,9,-999.0000,9,  -999.00,-999.0000,9, -999.00,9, -999.00,9,  -999.0,9,  -999.0, -999.00,9, -999.00,9, -999.00,9, -999.00,9,   0.8486, -999.00
096U20160426,       P15S,     137,          1,          4,       2004,2,20160623,       1231,    -1.5004,  -168.7497,       5925,  5390.5,   1.2930,  34.7050,2,  34.7087,2,    193.0,2,   193.5,2,  123.77,2,   32.56,2,    0.00,4,    2.24,2,-999.000,9,-999.000,9,-999.000,9,  -999.0,9,  -999.0,9,-999.0000,9,  -999.00,-999.0000,9, -999.00,9, -999.00,9,  -999.0,9,  -999.0, -999.00,9, -999.00,9, -999.00,9, -999.00,9,   0.8175, -999.00
096U20160426,       P15S,     137,          1,          3,       2003,2,20160623,       1231,    -1.5004,  -168.7497,       5925,  5791.0,   1.3220,  34.7050,2,  34.7057,2,    196.8,2,   195.8,2,  122.42,2,   32.39,2,    0.00,4,    2.23,2,-999.000,9,-999.000,9,-999.000,9,  -999.0,9,  -999.0,9,-999.0000,9,  -999.00,-999.0000,9, -999.00,9, -999.00,9,  -999.0,9,  -999.0, -999.00,9, -999.00,9, -999.00,9, -999.00,9,   0.7943, -999.00
096U20160426,       P15S,     137,          1,          2,       2002,2,20160623,       1231,    -1.5004,  -168.7497,       5925,  5901.4,   1.3370,  34.7050,2,  34.7084,2,    197.0,2,   195.8,2,  122.50,2,   32.39,2,    0.00,4,    2.23,2,-999.000,9,-999.000,9,-999.000,9,  -999.0,9,  -999.0,9,-999.0000,9,  -999.00,-999.0000,9, -999.00,9, -999.00,9,  -999.0,9,  -999.0, -999.00,9, -999.00,9, -999.00,9, -999.00,9,   0.7943, -999.00
096U20160426,       P15S,     137,          1,          1,       2001,2,20160623,       1231,    -1.5004,  -168.7497,       5925,  6015.1,   1.3520,  34.7050,2,  34.7086,2,    197.3,2,   195.9,2,  122.32,2,   32.46,2,    0.00,4,    2.23,2,-999.000,9,-999.000,9,-999.000,9,  2274.6,2,  2377.1,2,-999.0000,9,  -999.00,-999.0000,9, -999.00,9, -999.00,9,  -999.0,9,  -999.0, -999.00,9, -999.00,9, -999.00,9, -999.00,9,   0.7936, -999.00