BOTTLE,20230413CCHSIOENA
EXPOCODE,SECT_ID,STNNBR,CASTNO,SAMPNO,BTLNBR,BTLNBR_FLAG_W,DATE,TIME,LATITUDE,LONGITUDE,DEPTH,CTDPRS,CTDTMP,CTDSAL,CTDSAL_FLAG_W,SALNTY,SALNTY_FLAG_W,CTDOXY,CTDOXY_FLAG_W,OXYGEN,OXYGEN_FLAG_W,SILCAT,SILCAT_FLAG_W,NITRAT,NITRAT_FLAG_W,NITRIT,NITRIT_FLAG_W,PHSPHT,PHSPHT_FLAG_W,CFC-11,CFC-11_FLAG_W,CFC-12,CFC-12_FLAG_W,SF6,SF6_FLAG_W,TCARBN,TCARBN_FLAG_W,ALKALI,ALKALI_FLAG_W,PH_TOT,PH_TOT_FLAG_W,PH_TMP,HELIUM,HELIUM_FLAG_W,DELHE3,DELHE3_FLAG_W,DELC13,DELC13_FLAG_W,DELC14,DELC14_FLAG_W,C14ERR,POC,POC_FLAG_W,PON,PON_FLAG_W,CHLORA,CHLORA_FLAG_W,PPHYTN,PPHYTN_FLAG_W,THETA,DELHER
,,,,,,,,,,,METERS,DBAR,ITS-90,PSS-78,,PSS-78,,UMOL/KG,,UMOL/KG,,UMOL/KG,,UMOL/KG,,UMOL/KG,,UMOL/KG,,PMOL/KG,,PMOL/KG,,FMOL/KG,,UMOL/KG,,UMOL/KG,,,,DEG C,NMOL/KG,,PERCNT,,/MILLE,,/MILLE,,/MILLE,UG/KG,,UG/KG,,UG/KG,,UG/KG,,DEG C,PERCNT
096U20160426,       P15S,     124,          1,         36,       2036,2,20160619,       2240,    -8.0003,  -168.6161,       5187,     5.7,  30.1380,  34.5580,2,  34.5568,2,    187.0,2,   192.8,2,    0.88,2,   -0.04,4,    0.00,4,    0.15,2,   1.372,2,   0.885,2,   1.238,2,  1926.6,2,  2273.4,2,-999.0000,9,  -999.00,-999.0000,9, -999.00,9,    1.23,2,    31.2,2,     2.0, -999.00,9, -999.00,9,    0.14,2,    0.03,3,  30.1366, -999.00
096U20160426,       P15S,     124,          1,         35,       2035,2,20160619,       2240,    -8.0003,  -168.6161,       5187,    36.5,  30.0250,  34.5600,2,  34.5669,2,    187.2,2,   192.9,2,    0.86,2,   -0.04,4,    0.00,4,    0.15,2,-999.000,9,-999.000,9,-999.000,9,  -999.0,9,  -999.0,9,-999.0000,9,  -999.00,-999.0000,9, -999.00,9, -999.00,9,  -999.0,9,  -999.0, -999.00,9, -999.00,9,    0.12,2,    0.06,3,  30.0160, -999.00
096U20160426,       P15S,     124,          1,         34,       2034,2,20160619,       2240,    -8.0003,  -168.6161,       5187,    61.5,  29.6800,  35.4220,2,  35.5117,2,    188.8,2,   189.3,2,    1.16,2,    0.72,2,    0.25,2,    0.30,2,   1.450,2,   0.937,2,   1.193,2,  2005.4,2,  2337.8,6,-999.0000,9,  -999.00,-999.0000,9, -999.00,9,    1.40,2,    36.3,2,     2.0, -999.00,9, -999.00,9,    0.27,2,    0.14,3,  29.6648, -999.00
096U20160426,       P15S,     124,          1,         33,       2033,2,20160619,       2240,    -8.0003,  -168.6161,       5187,    84.7,  28.3700,  35.8040,2,  35.8528,2,    165.1,2,   163.9,2,    1.53,2,    3.03,2,    1.30,2,    0.53,2,-999.000,9,-999.000,9,-999.000,9,  2053.4,2,  2358.0,2,-999.0000,9,  -999.00,-999.0000,9, -999.00,9, -999.00,9,  -999.0,9,  -999.0, -999.00,9, -999.00,9,    0.39,2,    0.16,3,  28.3498, -999.00
096U20160426,       P15S,     124,          1,         32,       2032,2,20160619,       2240,    -8.0003,  -168.6161,       5187,   116.0,  25.7640,  36.1650,2,  36.1707,2,    142.4,2,   145.1,2,    1.57,2,    6.08,2,    0.71,2,    0.69,2,-999.000,9,-999.000,9,-999.000,9,  -999.0,9,  -999.0,9,-999.0000,9,  -999.00,-999.0000,9, -999.00,9, -999.00,9,  -999.0,9,  -999.0, -999.00,9, -999.00,9,    0.36,2,    0.22,3,  25.7382, -999.00
096U20160426,       P15S,     124,          1,         31,       2031,2,20160619,       2240,    -8.0003,  -168.6161,       5187,   152.4,  23.5880,  36.1550,2,  36.1350,2,    144.7,2,   149.8,2,    1.52,2,    6.67,2,    0.03,2,    0.70,2,   1.825,6,   1.170,6,    1.29,6,  2121.7,2,  2378.6,2,-999.0000,9,  -999.00,-999.0000,9, -999.00,9,    0.88,2,    38.7,2,     2.0, -999.00,9, -999.00,9, -999.00,9, -999.00,9,  23.5561, -999.00
096U20160426,       P15S,     124,          1,         30,       2030,2,20160619,       2240,    -8.0003,  -168.6161,       5187,   217.2,  19.7680,  35.7180,2,  35.6594,2,    140.1,2,   140.5,2,    3.00,2,    9.74,2,    0.01,4,    0.93,2,-999.000,9,-999.000,9,-999.000,9,  2142.9,2,  2349.3,2,-999.0000,9,  -999.00,-999.0000,9, -999.00,9,    0.86,2,    47.9,2,     2.0, -999.00,9, -999.00,9, -999.00,9, -999.00,9,  19.7280, -999.00
096U20160426,       P15S,     124,          1,         29,       2029,2,20160619,       2240,    -8.0003,  -168.6161,       5187,   276.2,  14.1130,  35.0380,2,  34.9987,2,     78.1,2,    71.6,2,   13.57,2,   22.45,2,    0.00,4,    1.85,2,   1.531,2,   0.902,2,   0.618,2,  2209.3,2,  2308.4,2,-999.0000,9,  -999.00,-999.0000,9, -999.00,9,    0.44,2,     9.6,2,     2.0, -999.00,9, -999.00,9, -999.00,9, -999.00,9,  14.0728, -999.00
096U20160426,       P15S,     124,          1,         28,       2028,2,20160619,       2240,    -8.0003,  -168.6161,       5187,   315.8,  11.6050,  34.8400,2,  34.8320,2,     84.9,2,    82.3,2,   17.72,2,   25.75,2,    0.00,4,    1.95,2,   1.171,2,   0.664,2,   0.352,2,  2209.8,2,  2302.4,2,-999.0000,9,  -999.00,-999.0000,9, -999.00,9,    0.54,2,    -9.2,2,     2.0, -999.00,9, -999.00,9, -999.00,9, -999.00,9,  11.5646, -999.00
096U20160426,       P15S,     124,          1,         27,       2027,2,20160619,       2240,    -8.0003,  -168.6161,       5187,   365.7,  10.2230,  34.7460,2,  34.7409,2,     92.9,2,    91.1,2,   21.17,2,   27.89,2,    0.00,4,    2.03,2,   0.915,2,   0.506,2,   0.221,2,  2213.0,2,  2301.7,2,-999.0000,9,  -999.00,-999.0000,9, -999.00,9,    0.44,2,   -36.7,2,     2.0, -999.00,9, -999.00,9, -999.00,9, -999.00,9,  10.1797, -999.00
096U20160426,       P15S,     124,          1,         26,       2026,2,20160619,       2240,    -8.0003,  -168.6161,       5187,   436.6,   8.8900,  34.6630,2,-999.0000,9,    107.1,2,  -999.0,9, -999.00,9, -999.00,9, -999.00,9, -999.00,9,-999.000,9,-999.000,9,-999.000,9,  -999.0,9,  -999.0,9,-999.0000,9,  -999.00,-999.0000,9, -999.00,9, -999.00,9,  -999.0,9,  -999.0, -999.00,9, -999.00,9, -999.00,9, -999.00,9,   8.8425, -999.00
096U20160426,       P15S,     124,          1,         25,       2025,2,20160619,       2240,    -8.0003,  -168.6161,       5187,   535.7,   7.6680,  34.5890,2,  34.5837,2,    113.3,2,   112.4,2,   31.39,2,   31.58,2,    0.00,4,    2.20,2,-999.000,9,-999.000,9,-999.000,9,  -999.0,9,  -999.0,9,-999.0000,9,  -999.00,-999.0000,9, -999.00,9, -999.00,9,  -999.0,9,  -999.0, -999.00,9, -999.00,9, -999.00,9, -999.00,9,   7.6142, -999.00
096U20160426,       P15S,     124,          1,         24,       2024,2,20160619,       2240,    -8.0003,  -168.6161,       5187,   635.2,   6.7260,  34.5460,2,  34.5474,2,    110.7,2,   109.3,2,   39.00,2,   33.71,2,    0.00,4,    2.35,2,   0.295,2,   0.159,2,   0.036,2,  2234.9,2,  2309.6,2,-999.0000,9,  -999.00,-999.0000,9, -999.00,9,    0.56,2,  -100.7,2,     2.0, -999.00,9, -999.00,9, -999.00,9, -999.00,9,   6.6664, -999.00
096U20160426,       P15S,     124,          1,         23,       2023,2,20160619,       2240,    -8.0003,  -168.6161,       5187,   735.6,   5.9390,  34.5270,2,  34.5251,2,    109.2,2,   107.2,2,   48.28,2,   35.48,2,    0.00,4,    2.48,2,-999.000,9,-999.000,9,-999.000,9,  2246.8,2,  2317.7,2,-999.0000,9,  -999.00,-999.0000,9, -999.00,9,    0.52,2,  -125.8,2,     2.0, -999.00,9, -999.00,9, -999.00,9, -999.00,9,   5.8738, -999.00
096U20160426,       P15S,     124,          1,         22,       2022,2,20160619,       2240,    -8.0003,  -168.6161,       5187,   835.4,   5.2440,  34.5250,2,  34.5248,2,    103.2,2,   101.2,2,   59.00,2,   37.12,2,    0.00,4,    2.61,2,   0.053,2,   0.029,2,       0,2,  2266.9,2,  2328.8,2,-999.0000,9,  -999.00,-999.0000,9, -999.00,9,    0.41,2,  -142.0,2,     2.0, -999.00,9, -999.00,9, -999.00,9, -999.00,9,   5.1738, -999.00
096U20160426,       P15S,     124,          1,         21,       2021,2,20160619,       2240,    -8.0003,  -168.6161,       5187,   935.7,   4.7440,  34.5320,2,  34.5297,2,    102.2,2,    99.5,2,   66.97,2,   37.78,2,    0.00,4,    2.66,2,-999.000,9,-999.000,9,-999.000,9,  2273.5,2,  2337.0,2,-999.0000,9,  -999.00,-999.0000,9, -999.00,9,    0.36,2,  -162.4,2,     2.0, -999.00,9, -999.00,9, -999.00,9, -999.00,9,   4.6683, -999.00
096U20160426,       P15S,     124,          1,         20,       2020,2,20160619,       2240,    -8.0003,  -168.6161,       5187,  1036.7,   4.2640,  34.5420,2,  34.5403,2,    106.5,2,   104.1,2,   76.86,2,   37.81,2,    0.00,4,    2.68,2,   0.007,2,   0.005,2,   0.013,2,  2285.3,2,  2348.7,2,-999.0000,9,  -999.00,-999.0000,9, -999.00,9,    0.27,2,  -178.0,2,     2.0, -999.00,9, -999.00,9, -999.00,9, -999.00,9,   4.1831, -999.00
096U20160426,       P15S,     124,          1,         19,       2019,2,20160619,       2240,    -8.0003,  -168.6161,       5187,  1136.1,   3.9310,  34.5520,2,  34.5504,2,    110.3,2,   107.6,2,   83.38,2,   37.76,2,    0.00,4,    2.68,2,-999.000,9,-999.000,9,-999.000,9,  -999.0,9,  -999.0,9,-999.0000,9,  -999.00,-999.0000,9, -999.00,9, -999.00,9,  -999.0,9,  -999.0, -999.00,9, -999.00,9, -999.00,9, -999.00,9,   3.8444, -999.00
096U20160426,       P15S,     124,          1,         18,       2018,2,20160619,       2240,    -8.0003,  -168.6161,       5187,  1235.7,   3.6810,  34.5610,2,  34.5612,2,    113.9,2,   111.8,2,   89.56,2,   37.49,2,    0.00,4,    2.66,2,   0.006,2,   0.004,2,       0,2,  2293.5,2,  2362.9,2,-999.0000,9,  -999.00,-999.0000,9, -999.00,9,   -0.24,4,  -203.6,2,     2.0, -999.00,9, -999.00,9, -999.00,9, -999.00,9,   3.5882, -999.00
096U20160426,       P15S,     124,          1,         17,       2017,2,20160619,       2240,    -8.0003,  -168.6161,       5187,  1336.1,   3.2850,  34.5780,2,  34.5784,2,    119.2,2,   117.6,2,   97.33,2,   37.17,2,    0.00,4,    2.64,2,-999.000,9,-999.000,9,-999.000,9,  -999.0,9,  -999.0,9,-999.0000,9,  -999.00,-999.0000,9, -999.00,9, -999.00,9,  -999.0,9,  -999.0, -999.00,9, -999.00,9, -999.00,9, -999.00,9,   3.1877, -999.00
096U20160426,       P15S,     124,          1,         16,       2016,2,20160619,       2240,    -8.0003,  -168.6161,       5187,  1466.0,   2.8870,  34.5960,2,  34.5949,2,    125.3,2,   124.2,2,  105.47,2,   36.89,2,    0.00,4,    2.60,2,-999.000,9,-999.000,9,-999.000,9,  -999.0,9,  -999.0,9,-999.0000,9,  -999.00,-999.0000,9, -999.00,9, -999.00,9,  -999.0,9,  -999.0, -999.00,9, -999.00,9, -999.00,9, -999.00,9,   2.7832, -999.00
096U20160426,       P15S,     124,          1,         15,       2015,2,20160619,       2240,    -8.0003,  -168.6161,       5187,  1666.1,   2.5400,  34.6160,2,  34.6148,2,    129.3,2,   128.8,2,  114.11,2,   36.71,2,    0.00,4,    2.58,2,   0.000,2,   0.000,2,       0,2,  2312.2,2,  2391.5,2,-999.0000,9,  -999.00,-999.0000,9, -999.00,9,   -0.84,4,  -236.8,2,     2.0, -999.00,9, -999.00,9, -999.00,9, -999.00,9,   2.4238, -999.00
096U20160426,       P15S,     124,          1,         14,       2014,2,20160619,       2240,    -8.0003,  -168.6161,       5187,  1865.7,   2.3070,  34.6310,2,  34.6305,2,    130.8,2,   130.5,2,  120.59,2,   36.64,2,    0.00,4,    2.58,2,-999.000,9,-999.000,9,-999.000,9,  -999.0,9,  -999.0,9,-999.0000,9,  -999.00,-999.0000,9, -999.00,9, -999.00,9,  -999.0,9,  -999.0, -999.00,9, -999.00,9, -999.00,9, -999.00,9,   2.1773, -999.00
096U20160426,       P15S,     124,          1,         13,       2013,2,20160619,       2240,    -8.0003,  -168.6161,       5187,  2085.3,   2.1080,  34.6450,2,  34.6438,2,    132.5,2,   132.4,2,  126.78,2,   36.69,2,    0.00,4,    2.57,2,-999.000,9,-999.000,9,-999.000,9,  -999.0,9,  -999.0,9,-999.0000,9,  -999.00,-999.0000,9, -999.00,9, -999.00,9,  -999.0,9,  -999.0, -999.00,9, -999.00,9, -999.00,9, -999.00,9,   1.9626, -999.00
096U20160426,       P15S,     124,          1,         12,       2012,2,20160619,       2240,    -8.0003,  -168.6161,       5187,  2335.3,   1.9620,  34.6570,2,  34.6564,2,    134.8,2,   135.1,2,  130.76,2,   36.61,2,    0.00,4,    2.56,2,  -0.001,2,   0.000,2,       0,2,  2328.5,6,  2410.5,6,-999.0000,9,  -999.00,-999.0000,9, -999.00,9,    0.12,2,  -226.0,2,     2.0, -999.00,9, -999.00,9, -999.00,9, -999.00,9,   1.7972, -999.00
096U20160426,       P15S,     124,          1,         11,       2011,2,20160619,       2240,    -8.0003,  -168.6161,       5187,  2585.5,   1.8190,  34.6670,2,  34.6662,2,    140.6,2,   140.7,2,  133.07,2,   36.25,2,    0.00,4,    2.53,2,-999.000,9,-999.000,9,-999.000,9,  2326.2,2,  2414.2,2,-999.0000,9,  -999.00,-999.0000,9, -999.00,9,    0.13,2,  -225.2,2,     2.0, -999.00,9, -999.00,9, -999.00,9, -999.00,9,   1.6343, -999.00
096U20160426,       P15S,     124,          1,         10,       2010,2,20160619,       2240,    -8.0003,  -168.6161,       5187,  2836.1,   1.7540,  34.6730,2,-999.0000,9,    144.2,2,  -999.0,9, -999.00,9, -999.00,9, -999.00,9, -999.00,9,-999.000,9,-999.000,9,-999.000,9,  -999.0,9,  -999.0,9,-999.0000,9,  -999.00,-999.0000,9, -999.00,9, -999.00,9,  -999.0,9,  -999.0, -999.00,9, -999.00,9, -999.00,9, -999.00,9,   1.5473, -999.00
096U20160426,       P15S,     124,          1,          9,       2009,2,20160619,       2240,    -8.0003,  -168.6161,       5187,  3100.4,   1.6500,  34.6790,2,  34.6784,2,    151.3,2,   152.2,2,  133.04,2,   35.53,2,    0.00,4,    2.47,2,   0.000,2,   0.000,2,       0,2,  2321.5,2,  2413.1,2,-999.0000,9,  -999.00,-999.0000,9, -999.00,9,    0.16,2,  -221.7,2,     2.0, -999.00,9, -999.00,9, -999.00,9, -999.00,9,   1.4201, -999.00
096U20160426,       P15S,     124,          1,          8,       2008,2,20160619,       2240,    -8.0003,  -168.6161,       5187,  3399.6,   1.5580,  34.6840,2,  34.6833,2,    158.3,2,   160.5,2,  131.93,2,   35.03,2,    0.00,4,    2.43,2,-999.000,9,-999.000,9,-999.000,9,  -999.0,9,  -999.0,9,-999.0000,9,  -999.00,-999.0000,9, -999.00,9, -999.00,9,  -999.0,9,  -999.0, -999.00,9, -999.00,9, -999.00,9, -999.00,9,   1.3006, -999.00
096U20160426,       P15S,     124,          1,          7,       2007,2,20160619,       2240,    -8.0003,  -168.6161,       5187,  3699.7,   1.4760,  34.6900,2,  34.6885,2,    165.2,2,   166.7,2,  130.61,2,   34.56,2,    0.00,4,    2.40,2,-999.000,9,-999.000,9,-999.000,9,  2306.6,2,  2405.1,2,-999.0000,9,  -999.00,-999.0000,9, -999.00,9,    0.34,2,  -213.6,2,     2.0, -999.00,9, -999.00,9, -999.00,9, -999.00,9,   1.1897, -999.00
096U20160426,       P15S,     124,          1,          6,       2006,2,20160619,       2240,    -8.0003,  -168.6161,       5187,  4000.2,   1.3850,  34.6950,2,  34.6943,2,    172.3,2,   174.1,2,  129.06,2,   34.01,2,    0.00,4,    2.36,2,   0.015,2,   0.008,2,       0,2,  2301.1,2,  2400.2,6,-999.0000,9,  -999.00,-999.0000,9, -999.00,9,    0.30,2,  -198.7,2,     2.0, -999.00,9, -999.00,9, -999.00,9, -999.00,9,   1.0692, -999.00
096U20160426,       P15S,     124,          1,          5,       2005,2,20160619,       2240,    -8.0003,  -168.6161,       5187,  4299.6,   1.3430,  34.6980,2,  34.6973,2,    176.6,2,   178.2,2,  129.01,2,   33.75,2,    0.00,4,    2.34,2,-999.000,9,-999.000,9,-999.000,9,  2296.8,2,  2399.7,2,-999.0000,9,  -999.00,-999.0000,9, -999.00,9,   -0.43,4,  -216.8,3,     2.0, -999.00,9, -999.00,9, -999.00,9, -999.00,9,   0.9954, -999.00
096U20160426,       P15S,     124,          1,          4,       2004,2,20160619,       2240,    -8.0003,  -168.6161,       5187,  4634.6,   1.2490,  34.7040,2,  34.7026,2,    188.3,2,   190.1,2,  123.78,2,   32.88,2,    0.00,4,    2.27,2,-999.000,9,-999.000,9,-999.000,9,  2281.6,2,  2383.1,2,-999.0000,9,  -999.00,-999.0000,9, -999.00,9,    0.37,2,  -183.4,2,     2.0, -999.00,9, -999.00,9, -999.00,9, -999.00,9,   0.8662, -999.00
096U20160426,       P15S,     124,          1,          3,       2003,2,20160619,       2240,    -8.0003,  -168.6161,       5187,  5034.9,   1.1790,  34.7070,2,  34.7072,2,    197.6,2,   199.3,2,  120.19,2,   32.23,2,    0.00,4,    2.23,2,   0.041,2,   0.021,2,       0,2,  2270.4,2,  2373.0,2,-999.0000,9,  -999.00,-999.0000,9, -999.00,9,    0.46,2,  -169.1,2,     2.0, -999.00,9, -999.00,9, -999.00,9, -999.00,9,   0.7512, -999.00
096U20160426,       P15S,     124,          1,          2,       2002,2,20160619,       2240,    -8.0003,  -168.6161,       5187,  5191.7,   1.1450,  34.7090,2,  34.7103,2,    202.2,2,   203.6,2,  117.79,2,   31.86,2,    0.00,4,    2.20,2,-999.000,9,-999.000,9,-999.000,9,  -999.0,9,  -999.0,9,-999.0000,9,  -999.00,-999.0000,9, -999.00,9, -999.00,9,  -999.0,9,  -999.0, -999.00,9, -999.00,9, -999.00,9, -999.00,9,   0.6994, -999.00
096U20160426,       P15S,     124,          1,          1,       2001,2,20160619,       2240,    -8.0003,  -168.6161,       5187,  5279.0,   1.1490,  34.7090,2,  34.7091,2,    203.2,2,   204.8,2,  117.82,2,   31.82,2,    0.00,4,    2.19,2,   0.057,2,   0.031,2,       0,2,  2264.5,6,  2366.6,6,-999.0000,9,  -999.00,-999.0000,9, -999.00,9,    0.46,2,  -168.0,2,     2.0, -999.00,9, -999.00,9, -999.00,9, -999.00,9,   0.6925, -999.00