BOTTLE,20230413CCHSIOENA
EXPOCODE,SECT_ID,STNNBR,CASTNO,SAMPNO,BTLNBR,BTLNBR_FLAG_W,DATE,TIME,LATITUDE,LONGITUDE,DEPTH,CTDPRS,CTDTMP,CTDSAL,CTDSAL_FLAG_W,SALNTY,SALNTY_FLAG_W,CTDOXY,CTDOXY_FLAG_W,OXYGEN,OXYGEN_FLAG_W,SILCAT,SILCAT_FLAG_W,NITRAT,NITRAT_FLAG_W,NITRIT,NITRIT_FLAG_W,PHSPHT,PHSPHT_FLAG_W,CFC-11,CFC-11_FLAG_W,CFC-12,CFC-12_FLAG_W,SF6,SF6_FLAG_W,TCARBN,TCARBN_FLAG_W,ALKALI,ALKALI_FLAG_W,PH_TOT,PH_TOT_FLAG_W,PH_TMP,HELIUM,HELIUM_FLAG_W,DELHE3,DELHE3_FLAG_W,DELC13,DELC13_FLAG_W,DELC14,DELC14_FLAG_W,C14ERR,POC,POC_FLAG_W,PON,PON_FLAG_W,CHLORA,CHLORA_FLAG_W,PPHYTN,PPHYTN_FLAG_W,THETA,DELHER
,,,,,,,,,,,METERS,DBAR,ITS-90,PSS-78,,PSS-78,,UMOL/KG,,UMOL/KG,,UMOL/KG,,UMOL/KG,,UMOL/KG,,UMOL/KG,,PMOL/KG,,PMOL/KG,,FMOL/KG,,UMOL/KG,,UMOL/KG,,,,DEG C,NMOL/KG,,PERCNT,,/MILLE,,/MILLE,,/MILLE,UG/KG,,UG/KG,,UG/KG,,UG/KG,,DEG C,PERCNT
096U20160426,       P15S,     125,          1,         36,       2036,2,20160620,       0522,    -7.4985,  -168.7503,       5271,     5.0,  29.9710,  34.4950,2,  34.4971,2,    188.0,2,   192.8,2,    0.77,2,   -0.03,4,    0.00,4,    0.14,2,   1.374,2,   0.890,2,   1.191,2,  1922.6,2,  2269.7,2,-999.0000,9,  -999.00,-999.0000,9, -999.00,9, -999.00,9,  -999.0,9,  -999.0, -999.00,9, -999.00,9,    0.13,2,    0.03,3,  29.9698, -999.00
096U20160426,       P15S,     125,          1,         35,       2035,2,20160620,       0522,    -7.4985,  -168.7503,       5271,    21.0,  29.9100,  34.5180,2,  34.5271,2,    187.5,2,   193.2,2,    0.72,2,   -0.04,4,    0.00,4,    0.14,2,-999.000,9,-999.000,9,-999.000,9,  -999.0,9,  -999.0,9,-999.0000,9,  -999.00,-999.0000,9, -999.00,9, -999.00,9,  -999.0,9,  -999.0, -999.00,9, -999.00,9, -999.00,9, -999.00,9,  29.9048, -999.00
096U20160426,       P15S,     125,          1,         34,       2034,2,20160620,       0522,    -7.4985,  -168.7503,       5271,    40.9,  29.9940,  34.5910,2,  34.6730,2,    187.3,2,   193.3,2,    0.73,2,   -0.04,4,    0.01,4,    0.15,2,-999.000,9,-999.000,9,-999.000,9,  -999.0,9,  -999.0,9,-999.0000,9,  -999.00,-999.0000,9, -999.00,9, -999.00,9,  -999.0,9,  -999.0, -999.00,9, -999.00,9,    0.21,2,    0.04,3,  29.9839, -999.00
096U20160426,       P15S,     125,          1,         33,       2033,2,20160620,       0522,    -7.4985,  -168.7503,       5271,    61.0,  29.5050,  35.4900,2,  35.5785,2,    187.1,2,   185.4,2,    1.16,2,    1.32,2,    0.37,2,    0.35,2,   1.450,2,   0.939,2,   1.251,2,  2014.8,2,  2342.5,6,-999.0000,9,  -999.00,-999.0000,9, -999.00,9, -999.00,9,  -999.0,9,  -999.0, -999.00,9, -999.00,9,    0.42,2,    0.06,3,  29.4900, -999.00
096U20160426,       P15S,     125,          1,         32,       2032,2,20160620,       0522,    -7.4985,  -168.7503,       5271,   100.6,  27.4180,  35.9810,2,  36.0129,2,    153.6,2,   156.0,2,    1.49,2,    3.68,2,    1.73,2,    0.60,2,-999.000,9,-999.000,9,-999.000,9,  2070.4,2,  2369.1,2,-999.0000,9,  -999.00,-999.0000,9, -999.00,9, -999.00,9,  -999.0,9,  -999.0, -999.00,9, -999.00,9,    0.47,2,    0.16,3,  27.3946, -999.00
096U20160426,       P15S,     125,          1,         31,       2031,2,20160620,       0522,    -7.4985,  -168.7503,       5271,   151.5,  24.7320,  36.3050,2,  36.2762,2,    147.0,2,   150.7,2,    1.19,2,    5.83,2,    0.07,2,    0.64,2,   1.728,2,   1.117,2,   1.279,2,  2113.3,6,  2388.3,6,-999.0000,9,  -999.00,-999.0000,9, -999.00,9, -999.00,9,  -999.0,9,  -999.0, -999.00,9, -999.00,9,    0.24,2,    0.19,3,  24.6992, -999.00
096U20160426,       P15S,     125,          1,         30,       2030,2,20160620,       0522,    -7.4985,  -168.7503,       5271,   186.2,  21.9590,  36.0240,2,  35.9110,2,    142.6,2,   146.2,2,    1.89,2,    7.93,2,    0.01,4,    0.79,2,   1.944,2,   1.234,2,   1.276,2,  2132.5,2,  2365.7,2,-999.0000,9,  -999.00,-999.0000,9, -999.00,9, -999.00,9,  -999.0,9,  -999.0, -999.00,9, -999.00,9, -999.00,9, -999.00,9,  21.9220, -999.00
096U20160426,       P15S,     125,          1,         29,       2029,2,20160620,       0522,    -7.4985,  -168.7503,       5271,   235.3,  17.3920,  35.4130,2,  35.3190,2,    119.8,2,   113.8,2,    6.19,2,   14.56,2,    0.01,4,    1.30,2,   1.961,2,   1.195,2,   1.002,2,  2167.2,2,  2326.7,2,-999.0000,9,  -999.00,-999.0000,9, -999.00,9, -999.00,9,  -999.0,9,  -999.0, -999.00,9, -999.00,9, -999.00,9, -999.00,9,  17.3524, -999.00
096U20160426,       P15S,     125,          1,         28,       2028,2,20160620,       0522,    -7.4985,  -168.7503,       5271,   285.5,  13.1300,  34.9530,2,  34.9350,2,     49.4,2,    48.9,2,   16.64,2,   25.55,2,    0.00,4,    2.07,2,   1.311,2,   0.762,2,   0.473,2,  2228.4,2,  2305.6,2,-999.0000,9,  -999.00,-999.0000,9, -999.00,9, -999.00,9,  -999.0,9,  -999.0, -999.00,9, -999.00,9, -999.00,9, -999.00,9,  13.0904, -999.00
096U20160426,       P15S,     125,          1,         27,       2027,2,20160620,       0522,    -7.4985,  -168.7503,       5271,   335.9,  10.8650,  34.7890,2,  34.7825,2,     89.9,2,    88.4,2,   19.20,2,   26.73,2,    0.00,4,    1.97,2,   1.053,2,   0.588,2,   0.275,2,  2211.0,2,  2302.1,2,-999.0000,9,  -999.00,-999.0000,9, -999.00,9, -999.00,9,  -999.0,9,  -999.0, -999.00,9, -999.00,9, -999.00,9, -999.00,9,  10.8237, -999.00
096U20160426,       P15S,     125,          1,         26,       2026,2,20160620,       0522,    -7.4985,  -168.7503,       5271,   385.2,   9.6080,  34.7090,2,  34.7017,2,     99.0,2,    99.7,2,   22.94,2,   28.60,2,    0.00,4,    2.04,2,-999.000,9,-999.000,9,-999.000,9,  -999.0,9,  -999.0,9,-999.0000,9,  -999.00,-999.0000,9, -999.00,9, -999.00,9,  -999.0,9,  -999.0, -999.00,9, -999.00,9, -999.00,9, -999.00,9,   9.5641, -999.00
096U20160426,       P15S,     125,          1,         25,       2025,2,20160620,       0522,    -7.4985,  -168.7503,       5271,   466.0,   8.2750,  34.6240,2,  34.6193,2,    111.5,2,   109.6,2,   27.82,2,   30.52,2,    0.00,4,    2.13,2,   0.632,2,   0.342,2,   0.129,2,  2216.4,2,  2302.8,2,-999.0000,9,  -999.00,-999.0000,9, -999.00,9, -999.00,9,  -999.0,9,  -999.0, -999.00,9, -999.00,9, -999.00,9, -999.00,9,   8.2263, -999.00
096U20160426,       P15S,     125,          1,         24,       2024,2,20160620,       0522,    -7.4985,  -168.7503,       5271,   565.5,   7.2810,  34.5710,2,  34.5679,2,    109.2,2,   108.0,2,   34.34,2,   32.74,2,    0.00,4,    2.28,2,   0.393,2,   0.212,2,   0.029,2,  2229.6,2,  2305.8,2,-999.0000,9,  -999.00,-999.0000,9, -999.00,9, -999.00,9,  -999.0,9,  -999.0, -999.00,9, -999.00,9, -999.00,9, -999.00,9,   7.2258, -999.00
096U20160426,       P15S,     125,          1,         23,       2023,2,20160620,       0522,    -7.4985,  -168.7503,       5271,   664.8,   6.4230,  34.5320,2,  34.5318,2,    120.7,3,   114.1,2,   41.38,2,   33.83,2,    0.00,4,    2.36,2,   0.266,2,   0.147,2,   0.023,2,  2236.2,2,  2312.8,2,-999.0000,9,  -999.00,-999.0000,9, -999.00,9, -999.00,9,  -999.0,9,  -999.0, -999.00,9, -999.00,9, -999.00,9, -999.00,9,   6.3620, -999.00
096U20160426,       P15S,     125,          1,         22,       2022,2,20160620,       0522,    -7.4985,  -168.7503,       5271,   746.6,   5.8130,  34.5280,2,  34.5268,2,    106.4,2,   103.1,2,   50.36,2,   35.94,2,    0.00,4,    2.52,2,-999.000,9,-999.000,9,-999.000,9,  -999.0,9,  -999.0,9,-999.0000,9,  -999.00,-999.0000,9, -999.00,9, -999.00,9,  -999.0,9,  -999.0, -999.00,9, -999.00,9, -999.00,9, -999.00,9,   5.7475, -999.00
096U20160426,       P15S,     125,          1,         21,       2021,2,20160620,       0522,    -7.4985,  -168.7503,       5271,   824.6,   5.4700,  34.5340,2,  34.5347,2,     90.5,2,    86.1,2,   58.75,2,   38.26,2,    0.00,4,    2.70,2,   0.040,2,   0.026,2,       0,2,  2273.2,2,  2328.5,2,-999.0000,9,  -999.00,-999.0000,9, -999.00,9, -999.00,9,  -999.0,9,  -999.0, -999.00,9, -999.00,9, -999.00,9, -999.00,9,   5.3993, -999.00
096U20160426,       P15S,     125,          1,         20,       2020,2,20160620,       0522,    -7.4985,  -168.7503,       5271,   941.8,   4.8690,  34.5260,2,  34.5275,2,    110.0,2,   108.1,2,   65.51,2,   36.72,2,    0.00,4,    2.60,2,-999.000,9,-999.000,9,-999.000,9,  -999.0,9,  -999.0,9,-999.0000,9,  -999.00,-999.0000,9, -999.00,9, -999.00,9,  -999.0,9,  -999.0, -999.00,9, -999.00,9, -999.00,9, -999.00,9,   4.7918, -999.00
096U20160426,       P15S,     125,          1,         19,       2019,2,20160620,       0522,    -7.4985,  -168.7503,       5271,  1065.5,   4.2500,  34.5410,2,  34.5403,2,    111.8,2,   109.2,2,   76.90,2,   37.22,2,    0.00,4,    2.64,2,-999.000,9,-999.000,9,-999.000,9,  -999.0,9,  -999.0,9,-999.0000,9,  -999.00,-999.0000,9, -999.00,9, -999.00,9,  -999.0,9,  -999.0, -999.00,9, -999.00,9, -999.00,9, -999.00,9,   4.1667, -999.00
096U20160426,       P15S,     125,          1,         18,       2018,2,20160620,       0522,    -7.4985,  -168.7503,       5271,  1166.3,   3.7760,  34.5570,2,  34.5559,2,    113.8,2,   111.6,2,   86.46,2,   37.38,2,    0.00,4,    2.66,2,   0.007,2,   0.005,2,       0,2,  2293.0,2,  2360.1,6,-999.0000,9,  -999.00,-999.0000,9, -999.00,9, -999.00,9,  -999.0,9,  -999.0, -999.00,9, -999.00,9, -999.00,9, -999.00,9,   3.6882, -999.00
096U20160426,       P15S,     125,          1,         17,       2017,2,20160620,       0522,    -7.4985,  -168.7503,       5271,  1265.7,   3.4670,  34.5700,2,  34.5699,2,    116.6,2,   115.4,2,   94.86,2,   37.27,2,    0.00,4,    2.65,2,-999.000,9,-999.000,9,-999.000,9,  -999.0,9,  -999.0,9,-999.0000,9,  -999.00,-999.0000,9, -999.00,9, -999.00,9,  -999.0,9,  -999.0, -999.00,9, -999.00,9, -999.00,9, -999.00,9,   3.3737, -999.00
096U20160426,       P15S,     125,          1,         16,       2016,2,20160620,       0522,    -7.4985,  -168.7503,       5271,  1366.7,   3.2500,  34.5780,2,  34.5776,2,    120.6,2,   119.5,2,   98.43,2,   37.05,2,    0.00,4,    2.63,2,-999.000,9,-999.000,9,-999.000,9,  -999.0,9,  -999.0,9,-999.0000,9,  -999.00,-999.0000,9, -999.00,9, -999.00,9,  -999.0,9,  -999.0, -999.00,9, -999.00,9, -999.00,9, -999.00,9,   3.1505, -999.00
096U20160426,       P15S,     125,          1,         15,       2015,2,20160620,       0522,    -7.4985,  -168.7503,       5271,  1536.0,   2.8140,  34.5990,2,  34.5979,2,    127.4,2,   126.6,2,  106.49,2,   36.70,2,    0.00,4,    2.60,2,   0.001,2,   0.002,2,       0,2,  2306.3,2,  2382.8,2,-999.0000,9,  -999.00,-999.0000,9, -999.00,9, -999.00,9,  -999.0,9,  -999.0, -999.00,9, -999.00,9, -999.00,9, -999.00,9,   2.7053, -999.00
096U20160426,       P15S,     125,          1,         14,       2014,2,20160620,       0522,    -7.4985,  -168.7503,       5271,  1736.1,   2.3850,  34.6270,2,  34.6264,2,    128.8,2,   128.3,2,  118.93,2,   36.70,2,    0.00,4,    2.59,2,-999.000,9,-999.000,9,-999.000,9,  -999.0,9,  -999.0,9,-999.0000,9,  -999.00,-999.0000,9, -999.00,9, -999.00,9,  -999.0,9,  -999.0, -999.00,9, -999.00,9, -999.00,9, -999.00,9,   2.2650, -999.00
096U20160426,       P15S,     125,          1,         13,       2013,2,20160620,       0522,    -7.4985,  -168.7503,       5271,  1935.5,   2.2180,  34.6370,2,  34.6363,2,    131.4,2,   131.1,2,  123.52,2,   36.68,2,    0.00,4,    2.58,2,-999.000,9,-999.000,9,-999.000,9,  -999.0,9,  -999.0,9,-999.0000,9,  -999.00,-999.0000,9, -999.00,9, -999.00,9,  -999.0,9,  -999.0, -999.00,9, -999.00,9, -999.00,9, -999.00,9,   2.0837, -999.00
096U20160426,       P15S,     125,          1,         12,       2012,2,20160620,       0522,    -7.4985,  -168.7503,       5271,  2165.3,   2.0690,  34.6490,2,  34.6495,2,    133.0,2,   132.4,2,  127.82,2,   36.57,2,    0.00,4,    2.57,2,   0.003,6,   0.002,6,   0.011,6,  2325.7,2,  2407.2,2,-999.0000,9,  -999.00,-999.0000,9, -999.00,9, -999.00,9,  -999.0,9,  -999.0, -999.00,9, -999.00,9, -999.00,9, -999.00,9,   1.9173, -999.00
096U20160426,       P15S,     125,          1,         11,       2011,2,20160620,       0522,    -7.4985,  -168.7503,       5271,  2415.9,   1.9260,  34.6600,2,  34.6599,2,    135.7,2,   135.7,2,  131.74,2,   36.47,2,    0.00,4,    2.56,2,-999.000,9,-999.000,9,-999.000,9,  -999.0,9,  -999.0,9,-999.0000,9,  -999.00,-999.0000,9, -999.00,9, -999.00,9,  -999.0,9,  -999.0, -999.00,9, -999.00,9, -999.00,9, -999.00,9,   1.7546, -999.00
096U20160426,       P15S,     125,          1,         10,       2010,2,20160620,       0522,    -7.4985,  -168.7503,       5271,  2665.8,   1.8060,  34.6690,2,  34.6676,2,    141.2,2,   141.4,2,  133.13,2,   36.10,2,    0.00,4,    2.53,2,-999.000,9,-999.000,9,-999.000,9,  -999.0,9,  -999.0,9,-999.0000,9,  -999.00,-999.0000,9, -999.00,9, -999.00,9,  -999.0,9,  -999.0, -999.00,9, -999.00,9, -999.00,9, -999.00,9,   1.6141, -999.00
096U20160426,       P15S,     125,          1,          9,       2009,2,20160620,       0522,    -7.4985,  -168.7503,       5271,  2915.7,   1.6960,  34.6760,2,  34.6801,2,    147.1,3,   147.4,2,  133.81,2,   35.71,2,    0.00,4,    2.49,2,   0.003,2,   0.003,2,       0,2,  2323.2,2,  2414.6,2,-999.0000,9,  -999.00,-999.0000,9, -999.00,9, -999.00,9,  -999.0,9,  -999.0, -999.00,9, -999.00,9, -999.00,9, -999.00,9,   1.4829, -999.00
096U20160426,       P15S,     125,          1,          8,       2008,2,20160620,       0522,    -7.4985,  -168.7503,       5271,  3200.6,   1.6100,  34.6810,2,  34.6878,2,    153.8,2,   155.0,2,  132.54,2,   35.19,2,    0.00,4,    2.46,2,-999.000,9,-999.000,9,-999.000,9,  -999.0,9,  -999.0,9,-999.0000,9,  -999.00,-999.0000,9, -999.00,9, -999.00,9,  -999.0,9,  -999.0, -999.00,9, -999.00,9, -999.00,9, -999.00,9,   1.3712, -999.00
096U20160426,       P15S,     125,          1,          7,       2007,2,20160620,       0522,    -7.4985,  -168.7503,       5271,  3565.8,   1.4970,  34.6880,2,  34.6943,2,    162.6,2,   163.9,2,  131.15,2,   34.62,2,    0.00,4,    2.41,2,   0.001,2,   0.001,2,       0,2,  2311.0,2,  2407.6,2,-999.0000,9,  -999.00,-999.0000,9, -999.00,9, -999.00,9,  -999.0,9,  -999.0, -999.00,9, -999.00,9, -999.00,9, -999.00,9,   1.2241, -999.00
096U20160426,       P15S,     125,          1,          6,       2006,2,20160620,       0522,    -7.4985,  -168.7503,       5271,  3964.4,   1.4040,  34.6940,2,  34.6977,2,    169.2,2,   170.2,2,  131.77,2,   34.26,2,    0.00,4,    2.38,2,-999.000,9,-999.000,9,-999.000,9,  -999.0,9,  -999.0,9,-999.0000,9,  -999.00,-999.0000,9, -999.00,9, -999.00,9,  -999.0,9,  -999.0, -999.00,9, -999.00,9, -999.00,9, -999.00,9,   1.0915, -999.00
096U20160426,       P15S,     125,          1,          5,       2005,2,20160620,       0522,    -7.4985,  -168.7503,       5271,  4365.1,   1.3520,  34.6980,2,  34.7042,2,    176.1,2,   177.1,2,  129.74,2,   33.81,2,    0.00,4,    2.34,2,   0.007,2,   0.005,2,       0,2,  2298.2,2,  2400.4,2,-999.0000,9,  -999.00,-999.0000,9, -999.00,9, -999.00,9,  -999.0,9,  -999.0, -999.00,9, -999.00,9, -999.00,9, -999.00,9,   0.9968, -999.00
096U20160426,       P15S,     125,          1,          4,       2004,2,20160620,       0522,    -7.4985,  -168.7503,       5271,  4765.2,   1.2350,  34.7050,2,  34.7069,2,    191.0,2,   192.5,2,  122.19,2,   32.62,2,    0.00,4,    2.26,2,-999.000,9,-999.000,9,-999.000,9,  -999.0,9,  -999.0,9,-999.0000,9,  -999.00,-999.0000,9, -999.00,9, -999.00,9,  -999.0,9,  -999.0, -999.00,9, -999.00,9, -999.00,9, -999.00,9,   0.8374, -999.00
096U20160426,       P15S,     125,          1,          3,       2003,2,20160620,       0522,    -7.4985,  -168.7503,       5271,  5166.4,   1.2010,  34.7070,2,  34.7073,2,    198.0,2,   198.8,2,  120.15,2,   32.20,2,    0.00,4,    2.22,2,   0.044,2,   0.026,2,       0,2,  2270.7,6,  2374.1,6,-999.0000,9,  -999.00,-999.0000,9, -999.00,9, -999.00,9,  -999.0,9,  -999.0, -999.00,9, -999.00,9, -999.00,9, -999.00,9,   0.7565, -999.00
096U20160426,       P15S,     125,          1,          2,       2002,2,20160620,       0522,    -7.4985,  -168.7503,       5271,  5246.2,   1.2010,  34.7070,2,  34.7076,2,    198.5,2,   199.5,2,  119.80,2,   32.14,2,    0.00,4,    2.22,2,-999.000,9,-999.000,9,-999.000,9,  -999.0,9,  -999.0,9,-999.0000,9,  -999.00,-999.0000,9, -999.00,9, -999.00,9,  -999.0,9,  -999.0, -999.00,9, -999.00,9, -999.00,9, -999.00,9,   0.7467, -999.00
096U20160426,       P15S,     125,          1,          1,       2001,2,20160620,       0522,    -7.4985,  -168.7503,       5271,  5360.9,   1.2160,  34.7070,2,  34.7070,2,    199.3,2,   199.7,2,  119.63,2,   32.12,2,    0.00,4,    2.22,2,   0.046,2,   0.025,2,       0,2,  2270.7,2,  2372.8,2,-999.0000,9,  -999.00,-999.0000,9, -999.00,9, -999.00,9,  -999.0,9,  -999.0, -999.00,9, -999.00,9, -999.00,9, -999.00,9,   0.7470, -999.00