BOTTLE,20230413CCHSIOENA
EXPOCODE,SECT_ID,STNNBR,CASTNO,SAMPNO,BTLNBR,BTLNBR_FLAG_W,DATE,TIME,LATITUDE,LONGITUDE,DEPTH,CTDPRS,CTDTMP,CTDSAL,CTDSAL_FLAG_W,SALNTY,SALNTY_FLAG_W,CTDOXY,CTDOXY_FLAG_W,OXYGEN,OXYGEN_FLAG_W,SILCAT,SILCAT_FLAG_W,NITRAT,NITRAT_FLAG_W,NITRIT,NITRIT_FLAG_W,PHSPHT,PHSPHT_FLAG_W,CFC-11,CFC-11_FLAG_W,CFC-12,CFC-12_FLAG_W,SF6,SF6_FLAG_W,TCARBN,TCARBN_FLAG_W,ALKALI,ALKALI_FLAG_W,PH_TOT,PH_TOT_FLAG_W,PH_TMP,HELIUM,HELIUM_FLAG_W,DELHE3,DELHE3_FLAG_W,DELC13,DELC13_FLAG_W,DELC14,DELC14_FLAG_W,C14ERR,POC,POC_FLAG_W,PON,PON_FLAG_W,CHLORA,CHLORA_FLAG_W,PPHYTN,PPHYTN_FLAG_W,THETA,DELHER
,,,,,,,,,,,METERS,DBAR,ITS-90,PSS-78,,PSS-78,,UMOL/KG,,UMOL/KG,,UMOL/KG,,UMOL/KG,,UMOL/KG,,UMOL/KG,,PMOL/KG,,PMOL/KG,,FMOL/KG,,UMOL/KG,,UMOL/KG,,,,DEG C,NMOL/KG,,PERCNT,,/MILLE,,/MILLE,,/MILLE,UG/KG,,UG/KG,,UG/KG,,UG/KG,,DEG C,PERCNT
096U20160426,       P15S,     105,          1,         36,       2036,2,20160614,       2324,   -16.5028,  -170.0004,       5141,     4.8,  27.1270,  35.4400,2,  35.4394,2,    201.4,2,   200.2,2,    0.31,2,   -0.05,4,    0.01,4,    0.16,2,-999.000,9,-999.000,9,-999.000,9,  1982.5,6,  2332.4,6,-999.0000,9,  -999.00,-999.0000,9, -999.00,9, -999.00,9,  -999.0,9,  -999.0, -999.00,9, -999.00,9,    0.15,2,    0.02,3,  27.1259, -999.00
096U20160426,       P15S,     105,          1,         35,       2035,2,20160614,       2324,   -16.5028,  -170.0004,       5141,    25.9,  27.0650,  35.4430,2,  35.4425,2,    201.4,2,   200.3,2,    0.30,2,   -0.05,4,    0.01,4,    0.16,2,-999.000,9,-999.000,9,-999.000,9,  -999.0,9,  -999.0,9,-999.0000,9,  -999.00,-999.0000,9, -999.00,9, -999.00,9,  -999.0,9,  -999.0, -999.00,9, -999.00,9,    0.17,2,    0.00,3,  27.0590, -999.00
096U20160426,       P15S,     105,          1,         34,       2034,2,20160614,       2324,   -16.5028,  -170.0004,       5141,    54.6,  27.0580,  35.4490,2,  35.4487,2,    201.2,2,   200.3,2,    0.30,2,   -0.06,4,    0.01,4,    0.17,2,-999.000,9,-999.000,9,-999.000,9,  -999.0,9,  -999.0,9,-999.0000,9,  -999.00,-999.0000,9, -999.00,9, -999.00,9,  -999.0,9,  -999.0, -999.00,9, -999.00,9, -999.00,9, -999.00,9,  27.0454, -999.00
096U20160426,       P15S,     105,          1,         33,       2033,2,20160614,       2324,   -16.5028,  -170.0004,       5141,    73.9,  26.4550,  35.4510,2,  35.5654,2,    202.2,2,   203.2,2,    0.27,2,   -0.06,4,    0.01,4,    0.15,2,-999.000,9,-999.000,9,-999.000,9,  -999.0,9,  -999.0,9,-999.0000,9,  -999.00,-999.0000,9, -999.00,9, -999.00,9,  -999.0,9,  -999.0, -999.00,9, -999.00,9,    0.26,2,   -0.03,3,  26.4383, -999.00
096U20160426,       P15S,     105,          1,         32,       2032,2,20160614,       2324,   -16.5028,  -170.0004,       5141,   127.1,  24.0770,  35.9860,2,  36.0371,2,    185.5,2,   179.5,2,    0.38,2,    1.49,2,    0.26,2,    0.34,2,-999.000,9,-999.000,9,-999.000,9,  2071.3,2,  2370.3,6,-999.0000,9,  -999.00,-999.0000,9, -999.00,9, -999.00,9,  -999.0,9,  -999.0, -999.00,9, -999.00,9,    0.82,2,   -0.04,3,  24.0501, -999.00
096U20160426,       P15S,     105,          1,         31,       2031,2,20160614,       2324,   -16.5028,  -170.0004,       5141,   154.5,  23.2500,  36.1470,2,  36.1346,2,    162.4,2,   161.0,2,    0.53,2,    4.64,2,    0.05,2,    0.52,2,-999.000,9,-999.000,9,-999.000,9,  -999.0,9,  -999.0,9,-999.0000,9,  -999.00,-999.0000,9, -999.00,9, -999.00,9,  -999.0,9,  -999.0, -999.00,9, -999.00,9,    0.37,2,    0.07,3,  23.2180, -999.00
096U20160426,       P15S,     105,          1,         30,       2030,2,20160614,       2324,   -16.5028,  -170.0004,       5141,   203.7,  21.1900,  35.8980,2,  35.8233,2,    167.6,2,   169.2,2,    0.60,2,    4.78,2,    0.02,4,    0.49,2,-999.000,9,-999.000,9,-999.000,9,  -999.0,9,  -999.0,9,-999.0000,9,  -999.00,-999.0000,9, -999.00,9, -999.00,9,  -999.0,9,  -999.0, -999.00,9, -999.00,9, -999.00,9, -999.00,9,  21.1506, -999.00
096U20160426,       P15S,     105,          1,         29,       2029,2,20160614,       2324,   -16.5028,  -170.0004,       5141,   253.5,  19.4440,  35.6540,2,  35.6107,2,    169.6,2,   168.3,2,    1.12,2,    6.26,2,    0.01,4,    0.60,2,-999.000,9,-999.000,9,-999.000,9,  2110.5,2,  2342.4,2,-999.0000,9,  -999.00,-999.0000,9, -999.00,9, -999.00,9,  -999.0,9,  -999.0, -999.00,9, -999.00,9, -999.00,9, -999.00,9,  19.3978, -999.00
096U20160426,       P15S,     105,          1,         28,       2028,2,20160614,       2324,   -16.5028,  -170.0004,       5141,   302.4,  17.0920,  35.3320,2,  35.2767,2,    154.6,2,   155.8,2,    2.95,2,   10.21,2,    0.01,4,    0.90,2,-999.000,9,-999.000,9,-999.000,9,  -999.0,9,  -999.0,9,-999.0000,9,  -999.00,-999.0000,9, -999.00,9, -999.00,9,  -999.0,9,  -999.0, -999.00,9, -999.00,9, -999.00,9, -999.00,9,  17.0417, -999.00
096U20160426,       P15S,     105,          1,         27,       2027,2,20160614,       2324,   -16.5028,  -170.0004,       5141,   353.0,  14.1220,  35.0170,2,  35.0186,2,    172.8,2,   173.1,2,    3.54,2,   11.34,2,    0.01,4,    0.90,2,-999.000,9,-999.000,9,-999.000,9,  2122.0,2,  2305.0,2,-999.0000,9,  -999.00,-999.0000,9, -999.00,9, -999.00,9,  -999.0,9,  -999.0, -999.00,9, -999.00,9, -999.00,9, -999.00,9,  14.0704, -999.00
096U20160426,       P15S,     105,          1,         26,       2026,2,20160614,       2324,   -16.5028,  -170.0004,       5141,   403.0,  12.3020,  34.7960,2,  34.7612,2,    165.7,2,   163.7,2,    6.54,2,   16.58,2,    0.01,4,    1.26,2,-999.000,9,-999.000,9,-999.000,9,  -999.0,9,  -999.0,9,-999.0000,9,  -999.00,-999.0000,9, -999.00,9, -999.00,9,  -999.0,9,  -999.0, -999.00,9, -999.00,9, -999.00,9, -999.00,9,  12.2482, -999.00
096U20160426,       P15S,     105,          1,         25,       2025,2,20160614,       2324,   -16.5028,  -170.0004,       5141,   501.1,   8.2900,  34.4800,2,  34.4630,2,    167.6,2,   169.1,2,   14.01,2,   25.19,2,    0.01,4,    1.78,2,-999.000,9,-999.000,9,-999.000,9,  2173.6,2,  2285.2,2,-999.0000,9,  -999.00,-999.0000,9, -999.00,9, -999.00,9,  -999.0,9,  -999.0, -999.00,9, -999.00,9, -999.00,9, -999.00,9,   8.2376, -999.00
096U20160426,       P15S,     105,          1,         24,       2024,2,20160614,       2324,   -16.5028,  -170.0004,       5141,   601.9,   6.3720,  34.4030,2,  34.4014,2,    172.6,2,   173.0,2,   22.92,2,   29.15,2,    0.01,4,    2.01,2,-999.000,9,-999.000,9,-999.000,9,  -999.0,9,  -999.0,9,-999.0000,9,  -999.00,-999.0000,9, -999.00,9, -999.00,9,  -999.0,9,  -999.0, -999.00,9, -999.00,9, -999.00,9, -999.00,9,   6.3174, -999.00
096U20160426,       P15S,     105,          1,         23,       2023,2,20160614,       2324,   -16.5028,  -170.0004,       5141,   701.4,   5.4170,  34.4160,2,  34.4181,2,    163.2,2,   162.7,2,   36.19,2,   31.80,2,    0.01,4,    2.18,2,-999.000,9,-999.000,9,-999.000,9,  2211.3,2,  2305.0,2,-999.0000,9,  -999.00,-999.0000,9, -999.00,9, -999.00,9,  -999.0,9,  -999.0, -999.00,9, -999.00,9, -999.00,9, -999.00,9,   5.3579, -999.00
096U20160426,       P15S,     105,          1,         22,       2022,2,20160614,       2324,   -16.5028,  -170.0004,       5141,   802.0,   4.7630,  34.4380,2,  34.4368,2,    157.5,2,   157.9,2,   46.48,2,   33.07,2,    0.01,4,    2.28,2,-999.000,9,-999.000,9,-999.000,9,  -999.0,9,  -999.0,9,-999.0000,9,  -999.00,-999.0000,9, -999.00,9, -999.00,9,  -999.0,9,  -999.0, -999.00,9, -999.00,9, -999.00,9, -999.00,9,   4.6989, -999.00
096U20160426,       P15S,     105,          1,         21,       2021,2,20160614,       2324,   -16.5028,  -170.0004,       5141,   897.1,   4.2930,  34.4720,2,  34.4702,2,    150.3,2,   150.0,2,   58.40,2,   34.18,2,    0.01,4,    2.36,2,-999.000,9,-999.000,9,-999.000,9,  -999.0,9,  -999.0,9,-999.0000,9,  -999.00,-999.0000,9, -999.00,9, -999.00,9,  -999.0,9,  -999.0, -999.00,9, -999.00,9, -999.00,9, -999.00,9,   4.2238, -999.00
096U20160426,       P15S,     105,          1,         20,       2020,2,20160614,       2324,   -16.5028,  -170.0004,       5141,  1000.7,   3.8100,  34.4920,2,  34.4939,2,    149.4,2,   148.9,2,   68.06,2,   34.77,2,    0.01,4,    2.40,2,-999.000,9,-999.000,9,-999.000,9,  -999.0,9,  -999.0,9,-999.0000,9,  -999.00,-999.0000,9, -999.00,9, -999.00,9,  -999.0,9,  -999.0, -999.00,9, -999.00,9, -999.00,9, -999.00,9,   3.7358, -999.00
096U20160426,       P15S,     105,          1,         19,       2019,2,20160614,       2324,   -16.5028,  -170.0004,       5141,  1101.8,   3.5110,  34.5180,2,  34.5171,2,    147.2,2,   146.5,2,   75.71,2,   35.14,2,    0.01,4,    2.43,2,-999.000,9,-999.000,9,-999.000,9,  -999.0,9,  -999.0,9,-999.0000,9,  -999.00,-999.0000,9, -999.00,9, -999.00,9,  -999.0,9,  -999.0, -999.00,9, -999.00,9, -999.00,9, -999.00,9,   3.4309, -999.00
096U20160426,       P15S,     105,          1,         18,       2018,2,20160614,       2324,   -16.5028,  -170.0004,       5141,  1201.9,   3.2730,  34.5400,2,  34.5393,2,    144.5,2,   144.5,2,   82.97,2,   35.46,2,    0.01,4,    2.46,2,-999.000,9,-999.000,9,-999.000,9,  -999.0,9,  -999.0,9,-999.0000,9,  -999.00,-999.0000,9, -999.00,9, -999.00,9,  -999.0,9,  -999.0, -999.00,9, -999.00,9, -999.00,9, -999.00,9,   3.1869, -999.00
096U20160426,       P15S,     105,          1,         17,       2017,2,20160614,       2324,   -16.5028,  -170.0004,       5141,  1301.3,   3.0980,  34.5580,2,  34.5569,2,    142.3,2,   143.1,2,   88.64,2,   35.72,2,    0.01,4,    2.48,2,-999.000,9,-999.000,9,-999.000,9,  2279.2,2,  2360.3,2,-999.0000,9,  -999.00,-999.0000,9, -999.00,9, -999.00,9,  -999.0,9,  -999.0, -999.00,9, -999.00,9, -999.00,9, -999.00,9,   3.0055, -999.00
096U20160426,       P15S,     105,          1,         16,       2016,2,20160614,       2324,   -16.5028,  -170.0004,       5141,  1401.7,   2.8780,  34.5710,2,  34.5684,2,    145.4,2,   145.1,2,   92.89,2,   35.60,2,    0.01,4,    2.47,2,-999.000,9,-999.000,9,-999.000,9,  -999.0,9,  -999.0,9,-999.0000,9,  -999.00,-999.0000,9, -999.00,9, -999.00,9,  -999.0,9,  -999.0, -999.00,9, -999.00,9, -999.00,9, -999.00,9,   2.7796, -999.00
096U20160426,       P15S,     105,          1,         15,       2015,2,20160614,       2324,   -16.5028,  -170.0004,       5141,  1601.5,   2.6180,  34.5940,2,  34.5929,2,    145.5,2,   145.1,2,  100.96,2,   35.63,2,    0.01,4,    2.47,2,-999.000,9,-999.000,9,-999.000,9,  -999.0,9,  -999.0,9,-999.0000,9,  -999.00,-999.0000,9, -999.00,9, -999.00,9,  -999.0,9,  -999.0, -999.00,9, -999.00,9, -999.00,9, -999.00,9,   2.5062, -999.00
096U20160426,       P15S,     105,          1,         14,       2014,2,20160614,       2324,   -16.5028,  -170.0004,       5141,  1800.5,   2.4320,  34.6120,2,  34.6123,2,    145.9,2,   145.8,2,  107.54,2,   35.67,2,    0.01,4,    2.47,2,-999.000,9,-999.000,9,-999.000,9,  -999.0,9,  -999.0,9,-999.0000,9,  -999.00,-999.0000,9, -999.00,9, -999.00,9,  -999.0,9,  -999.0, -999.00,9, -999.00,9, -999.00,9, -999.00,9,   2.3061, -999.00
096U20160426,       P15S,     105,          1,         13,       2013,2,20160614,       2324,   -16.5028,  -170.0004,       5141,  2000.5,   2.2080,  34.6310,2,  34.6292,2,    147.1,2,   147.1,2,  113.38,2,   35.64,2,    0.01,4,    2.47,2,-999.000,9,-999.000,9,-999.000,9,  -999.0,9,  -999.0,9,-999.0000,9,  -999.00,-999.0000,9, -999.00,9, -999.00,9,  -999.0,9,  -999.0, -999.00,9, -999.00,9, -999.00,9, -999.00,9,   2.0683, -999.00
096U20160426,       P15S,     105,          1,         12,       2012,2,20160614,       2324,   -16.5028,  -170.0004,       5141,  2250.4,   2.0180,  34.6470,2,  34.6456,2,    148.9,2,   149.1,2,  119.02,2,   35.56,2,    0.01,4,    2.46,2,-999.000,9,-999.000,9,-999.000,9,  -999.0,9,  -999.0,9,-999.0000,9,  -999.00,-999.0000,9, -999.00,9, -999.00,9,  -999.0,9,  -999.0, -999.00,9, -999.00,9, -999.00,9, -999.00,9,   1.8597, -999.00
096U20160426,       P15S,     105,          1,         11,       2011,2,20160614,       2324,   -16.5028,  -170.0004,       5141,  2500.9,   1.8800,  34.6590,2,  34.6573,2,    151.7,2,   152.0,2,  122.72,2,   35.43,2,    0.01,4,    2.45,2,-999.000,9,-999.000,9,-999.000,9,  -999.0,9,  -999.0,9,-999.0000,9,  -999.00,-999.0000,9, -999.00,9, -999.00,9,  -999.0,9,  -999.0, -999.00,9, -999.00,9, -999.00,9, -999.00,9,   1.7018, -999.00
096U20160426,       P15S,     105,          1,         10,       2010,2,20160614,       2324,   -16.5028,  -170.0004,       5141,  2750.8,   1.7670,  34.6680,2,  34.6673,2,    154.1,2,   154.6,2,  125.62,2,   35.28,2,    0.01,4,    2.44,2,-999.000,9,-999.000,9,-999.000,9,  -999.0,9,  -999.0,9,-999.0000,9,  -999.00,-999.0000,9, -999.00,9, -999.00,9,  -999.0,9,  -999.0, -999.00,9, -999.00,9, -999.00,9, -999.00,9,   1.5680, -999.00
096U20160426,       P15S,     105,          1,          9,       2009,2,20160614,       2324,   -16.5028,  -170.0004,       5141,  3000.2,   1.6800,  34.6760,2,  34.6738,2,    157.1,2,   157.4,2,  127.45,2,   35.10,2,    0.01,4,    2.43,2,-999.000,9,-999.000,9,-999.000,9,  -999.0,9,  -999.0,9,-999.0000,9,  -999.00,-999.0000,9, -999.00,9, -999.00,9,  -999.0,9,  -999.0, -999.00,9, -999.00,9, -999.00,9, -999.00,9,   1.4592, -999.00
096U20160426,       P15S,     105,          1,          8,       2008,2,20160614,       2324,   -16.5028,  -170.0004,       5141,  3301.5,   1.5900,  34.6830,2,  34.6809,2,    161.8,2,   162.0,2,  128.19,2,   34.81,2,    0.01,4,    2.40,2,-999.000,9,-999.000,9,-999.000,9,  -999.0,9,  -999.0,9,-999.0000,9,  -999.00,-999.0000,9, -999.00,9, -999.00,9,  -999.0,9,  -999.0, -999.00,9, -999.00,9, -999.00,9, -999.00,9,   1.3417, -999.00
096U20160426,       P15S,     105,          1,          7,       2007,2,20160614,       2324,   -16.5028,  -170.0004,       5141,  3601.0,   1.5090,  34.6890,2,  34.6872,2,    168.1,2,   168.6,2,  127.06,2,   34.32,2,    0.01,4,    2.37,2,-999.000,9,-999.000,9,-999.000,9,  -999.0,9,  -999.0,9,-999.0000,9,  -999.00,-999.0000,9, -999.00,9, -999.00,9,  -999.0,9,  -999.0, -999.00,9, -999.00,9, -999.00,9, -999.00,9,   1.2322, -999.00
096U20160426,       P15S,     105,          1,          6,       2006,2,20160614,       2324,   -16.5028,  -170.0004,       5141,  3900.6,   1.4000,  34.7050,2,  34.7039,2,    183.8,2,   185.1,2,  118.48,2,   32.93,2,    0.01,4,    2.26,2,-999.000,9,-999.000,9,-999.000,9,  -999.0,9,  -999.0,9,-999.0000,9,  -999.00,-999.0000,9, -999.00,9, -999.00,9,  -999.0,9,  -999.0, -999.00,9, -999.00,9, -999.00,9, -999.00,9,   1.0944, -999.00
096U20160426,       P15S,     105,          1,          5,       2005,2,20160614,       2324,   -16.5028,  -170.0004,       5141,  4200.3,   1.2220,  34.7140,2,  34.7127,2,    198.0,2,   199.7,2,  114.32,2,   31.92,2,    0.01,4,    2.19,2,-999.000,9,-999.000,9,-999.000,9,  -999.0,9,  -999.0,9,-999.0000,9,  -999.00,-999.0000,9, -999.00,9, -999.00,9,  -999.0,9,  -999.0, -999.00,9, -999.00,9, -999.00,9, -999.00,9,   0.8890, -999.00
096U20160426,       P15S,     105,          1,          4,       2004,2,20160614,       2324,   -16.5028,  -170.0004,       5141,  4500.7,   1.0790,  34.7110,2,  34.7101,2,    203.1,2,   204.2,2,  117.16,2,   31.88,2,    0.01,4,    2.18,2,-999.000,9,-999.000,9,-999.000,9,  -999.0,9,  -999.0,9,-999.0000,9,  -999.00,-999.0000,9, -999.00,9, -999.00,9,  -999.0,9,  -999.0, -999.00,9, -999.00,9, -999.00,9, -999.00,9,   0.7168, -999.00
096U20160426,       P15S,     105,          1,          3,       2003,2,20160614,       2324,   -16.5028,  -170.0004,       5141,  4900.9,   1.0770,  34.7100,2,  34.7091,2,    204.9,2,   205.3,2,  117.95,2,   31.88,2,    0.01,4,    2.18,2,-999.000,9,-999.000,9,-999.000,9,  -999.0,9,  -999.0,9,-999.0000,9,  -999.00,-999.0000,9, -999.00,9, -999.00,9,  -999.0,9,  -999.0, -999.00,9, -999.00,9, -999.00,9, -999.00,9,   0.6686, -999.00
096U20160426,       P15S,     105,          1,          2,       2002,2,20160614,       2324,   -16.5028,  -170.0004,       5141,  5070.4,   1.0920,  34.7100,2,  34.7088,2,    205.3,2,   205.8,2,  118.29,2,   31.90,2,    0.01,4,    2.19,2,-999.000,9,-999.000,9,-999.000,9,  -999.0,9,  -999.0,9,-999.0000,9,  -999.00,-999.0000,9, -999.00,9, -999.00,9,  -999.0,9,  -999.0, -999.00,9, -999.00,9, -999.00,9, -999.00,9,   0.6629, -999.00
096U20160426,       P15S,     105,          1,          1,       2001,2,20160614,       2324,   -16.5028,  -170.0004,       5141,  5214.3,   1.1090,  34.7100,2,  34.7085,2,    205.6,2,   205.6,2,  118.30,2,   31.91,2,    0.01,4,    2.19,2,-999.000,9,-999.000,9,-999.000,9,  2261.8,2,  2365.6,2,-999.0000,9,  -999.00,-999.0000,9, -999.00,9, -999.00,9,  -999.0,9,  -999.0, -999.00,9, -999.00,9, -999.00,9, -999.00,9,   0.6619, -999.00