BOTTLE,20230413CCHSIOENA
EXPOCODE,SECT_ID,STNNBR,CASTNO,SAMPNO,BTLNBR,BTLNBR_FLAG_W,DATE,TIME,LATITUDE,LONGITUDE,DEPTH,CTDPRS,CTDTMP,CTDSAL,CTDSAL_FLAG_W,SALNTY,SALNTY_FLAG_W,CTDOXY,CTDOXY_FLAG_W,OXYGEN,OXYGEN_FLAG_W,SILCAT,SILCAT_FLAG_W,NITRAT,NITRAT_FLAG_W,NITRIT,NITRIT_FLAG_W,PHSPHT,PHSPHT_FLAG_W,CFC-11,CFC-11_FLAG_W,CFC-12,CFC-12_FLAG_W,SF6,SF6_FLAG_W,TCARBN,TCARBN_FLAG_W,ALKALI,ALKALI_FLAG_W,PH_TOT,PH_TOT_FLAG_W,PH_TMP,HELIUM,HELIUM_FLAG_W,DELHE3,DELHE3_FLAG_W,DELC13,DELC13_FLAG_W,DELC14,DELC14_FLAG_W,C14ERR,POC,POC_FLAG_W,PON,PON_FLAG_W,CHLORA,CHLORA_FLAG_W,PPHYTN,PPHYTN_FLAG_W,THETA,DELHER
,,,,,,,,,,,METERS,DBAR,ITS-90,PSS-78,,PSS-78,,UMOL/KG,,UMOL/KG,,UMOL/KG,,UMOL/KG,,UMOL/KG,,UMOL/KG,,PMOL/KG,,PMOL/KG,,FMOL/KG,,UMOL/KG,,UMOL/KG,,,,DEG C,NMOL/KG,,PERCNT,,/MILLE,,/MILLE,,/MILLE,UG/KG,,UG/KG,,UG/KG,,UG/KG,,DEG C,PERCNT
096U20160426,       P15S,     106,          1,         36,       2036,2,20160615,       0606,   -16.0015,  -170.0016,       5152,     5.1,  27.4430,  35.2680,2,  35.3934,2,    200.0,2,   198.8,2,    0.41,2,   -0.03,4,    0.00,4,    0.15,2,   1.481,6,   0.963,6,   1.246,6,  1973.7,6,  2320.8,6,-999.0000,9,  -999.00,-999.0000,9, -999.00,9,    1.12,2,    40.2,2,     2.0, -999.00,9, -999.00,9,    0.15,2,    0.00,3,  27.4418, -999.00
096U20160426,       P15S,     106,          1,         35,       2035,2,20160615,       0606,   -16.0015,  -170.0016,       5152,    35.9,  27.2320,  35.3510,2,  36.0202,2,    201.3,2,   199.5,2,    0.39,2,   -0.03,4,    0.00,4,    0.15,2,-999.000,9,-999.000,9,-999.000,9,  -999.0,9,  -999.0,9,-999.0000,9,  -999.00,-999.0000,9, -999.00,9, -999.00,9,  -999.0,9,  -999.0, -999.00,9, -999.00,9,    0.16,2,    0.00,3,  27.2237, -999.00
096U20160426,       P15S,     106,          1,         34,       2034,2,20160615,       0606,   -16.0015,  -170.0016,       5152,    61.4,  26.9520,  36.0010,2,  36.0367,2,    204.4,2,   200.9,2,    0.43,2,   -0.03,4,    0.00,4,    0.19,2,   1.616,2,   1.048,2,   1.323,2,  2033.8,2,  2372.3,2,-999.0000,9,  -999.00,-999.0000,9, -999.00,9,    1.16,2,    42.6,2,     2.0, -999.00,9, -999.00,9,    0.41,2,   -0.04,3,  26.9379, -999.00
096U20160426,       P15S,     106,          1,         33,       2033,2,20160615,       0606,   -16.0015,  -170.0016,       5152,    85.9,  26.0620,  36.0200,2,  36.0437,2,    197.8,2,   192.8,2,    0.46,2,   -0.03,4,    0.01,4,    0.22,2,   1.658,2,   1.077,2,   1.318,2,  2047.3,2,  2373.9,2,-999.0000,9,  -999.00,-999.0000,9, -999.00,9, -999.00,9,  -999.0,9,  -999.0, -999.00,9, -999.00,9,    0.63,2,   -0.04,3,  26.0427, -999.00
096U20160426,       P15S,     106,          1,         32,       2032,2,20160615,       0606,   -16.0015,  -170.0016,       5152,   117.2,  24.3430,  36.0510,2,  36.0437,2,    182.3,2,   178.2,2,    0.47,2,    1.36,2,    0.23,2,    0.32,2,   1.751,2,   1.136,2,   1.326,2,  2071.9,2,  2371.1,2,-999.0000,9,  -999.00,-999.0000,9, -999.00,9,    0.87,2,    46.1,2,     2.0, -999.00,9, -999.00,9,    0.58,2,    0.06,3,  24.3180, -999.00
096U20160426,       P15S,     106,          1,         31,       2031,2,20160615,       0606,   -16.0015,  -170.0016,       5152,   167.2,  22.3320,  36.0430,2,  36.0123,2,    164.2,2,   163.7,2,    0.57,2,    4.69,2,    0.02,4,    0.50,2,   1.907,2,   1.228,2,   1.292,2,  2107.1,2,  2369.9,2,-999.0000,9,  -999.00,-999.0000,9, -999.00,9,    0.79,2,    52.6,2,     2.0, -999.00,9, -999.00,9, -999.00,9, -999.00,9,  22.2984, -999.00
096U20160426,       P15S,     106,          1,         30,       2030,2,20160615,       0606,   -16.0015,  -170.0016,       5152,   216.6,  20.6430,  35.8540,2,  35.8188,2,    163.0,2,   162.1,2,    0.97,2,    6.11,2,    0.01,4,    0.62,2,   2.044,2,   1.296,2,    1.21,2,  2119.8,2,  2359.3,2,-999.0000,9,  -999.00,-999.0000,9, -999.00,9,    0.79,2,    51.7,2,     2.0, -999.00,9, -999.00,9, -999.00,9, -999.00,9,  20.6018, -999.00
096U20160426,       P15S,     106,          1,         29,       2029,2,20160615,       0606,   -16.0015,  -170.0016,       5152,   267.3,  18.8240,  35.5840,2,  35.5109,2,    160.3,2,   156.7,2,    2.02,2,    8.36,2,    0.01,4,    0.79,2,   2.157,2,   1.340,2,   1.247,2,  2128.2,2,  2338.4,6,-999.0000,9,  -999.00,-999.0000,9, -999.00,9,    0.76,2,    52.7,2,     2.0, -999.00,9, -999.00,9, -999.00,9, -999.00,9,  18.7764, -999.00
096U20160426,       P15S,     106,          1,         28,       2028,2,20160615,       0606,   -16.0015,  -170.0016,       5152,   317.6,  16.0610,  35.2010,2,  35.1735,2,    150.0,2,   152.4,2,    3.76,2,   11.25,2,    0.00,4,    0.98,2,   2.238,2,   1.334,2,   0.976,2,  2137.0,2,  2317.2,2,-999.0000,9,  -999.00,-999.0000,9, -999.00,9, -999.00,9,  -999.0,9,  -999.0, -999.00,9, -999.00,9, -999.00,9, -999.00,9,  16.0104, -999.00
096U20160426,       P15S,     106,          1,         27,       2027,2,20160615,       0606,   -16.0015,  -170.0016,       5152,   367.5,  13.4770,  34.9190,2,  34.8712,2,    162.8,2,   159.6,2,    5.72,2,   14.60,2,    0.00,4,    1.15,2,  -0.004,4,   0.000,4,   0.009,4,  2140.6,2,  2299.4,2,-999.0000,9,  -999.00,-999.0000,9, -999.00,9,    0.72,2,    39.9,2,     2.0, -999.00,9, -999.00,9, -999.00,9, -999.00,9,  13.4250, -999.00
096U20160426,       P15S,     106,          1,         26,       2026,2,20160615,       0606,   -16.0015,  -170.0016,       5152,   436.9,   9.9090,  34.5900,2,  34.5755,2,    153.6,2,   154.0,2,   11.70,2,   22.02,2,    0.00,4,    1.63,2,   1.868,6,   1.001,6,   0.436,6,  2168.9,2,  2288.4,2,-999.0000,9,  -999.00,-999.0000,9, -999.00,9,    0.77,2,     6.7,2,     2.0, -999.00,9, -999.00,9, -999.00,9, -999.00,9,   9.8582, -999.00
096U20160426,       P15S,     106,          1,         25,       2025,2,20160615,       0606,   -16.0015,  -170.0016,       5152,   536.7,   7.0330,  34.4180,2,  34.4156,2,    172.8,2,   173.9,2,   18.52,2,   27.25,2,    0.00,4,    1.91,2,   1.384,2,   0.709,2,    0.22,2,  2183.3,2,  2288.1,2,-999.0000,9,  -999.00,-999.0000,9, -999.00,9,    0.93,2,   -28.4,2,     2.0, -999.00,9, -999.00,9, -999.00,9, -999.00,9,   6.9818, -999.00
096U20160426,       P15S,     106,          1,         24,       2024,2,20160615,       0606,   -16.0015,  -170.0016,       5152,   637.2,   5.9050,  34.4070,2,  34.4057,2,    167.5,2,   166.7,2,   28.47,2,   30.10,2,    0.00,4,    2.09,2,   0.660,2,   0.341,2,   0.046,2,  2200.2,2,  2297.4,2,-999.0000,9,  -999.00,-999.0000,9, -999.00,9,    0.92,2,   -79.0,2,     2.0, -999.00,9, -999.00,9, -999.00,9, -999.00,9,   5.8493, -999.00
096U20160426,       P15S,     106,          1,         23,       2023,2,20160615,       0606,   -16.0015,  -170.0016,       5152,   736.7,   5.1110,  34.4280,2,  34.4290,2,    159.2,2,   158.0,2,   41.08,2,   32.14,2,    0.00,4,    2.23,2,   0.233,2,   0.130,2,       0,2,  2219.7,2,  2309.6,2,-999.0000,9,  -999.00,-999.0000,9, -999.00,9,    0.81,2,  -116.5,2,     2.0, -999.00,9, -999.00,9, -999.00,9, -999.00,9,   5.0505, -999.00
096U20160426,       P15S,     106,          1,         22,       2022,2,20160615,       0606,   -16.0015,  -170.0016,       5152,   836.2,   4.4830,  34.4490,2,  34.4468,2,    155.8,2,   155.7,2,   51.73,2,   33.24,2,    0.00,4,    2.31,2,   0.169,2,   0.083,2,       0,2,  2234.2,2,  2319.4,2,-999.0000,9,  -999.00,-999.0000,9, -999.00,9,    0.72,2,  -138.4,2,     2.0, -999.00,9, -999.00,9, -999.00,9, -999.00,9,   4.4177, -999.00
096U20160426,       P15S,     106,          1,         21,       2021,2,20160615,       0606,   -16.0015,  -170.0016,       5152,   936.3,   4.0300,  34.4730,2,  34.4741,2,    152.8,2,   151.4,2,   61.56,2,   33.96,2,    0.00,4,    2.37,2,   0.077,2,   0.048,2,       0,2,  2247.4,2,  2330.6,2,-999.0000,9,  -999.00,-999.0000,9, -999.00,9,    0.64,2,  -157.9,2,     2.0, -999.00,9, -999.00,9, -999.00,9, -999.00,9,   3.9594, -999.00
096U20160426,       P15S,     106,          1,         20,       2020,2,20160615,       0606,   -16.0015,  -170.0016,       5152,  1038.0,   3.7250,  34.5060,2,  34.5047,2,    146.9,2,   146.1,2,   71.16,2,   34.56,2,    0.00,4,    2.41,2,   0.043,2,   0.029,2,       0,2,  2259.0,2,  2341.4,2,-999.0000,9,  -999.00,-999.0000,9, -999.00,9, -999.00,9,  -999.0,9,  -999.0, -999.00,9, -999.00,9, -999.00,9, -999.00,9,   3.6484, -999.00
096U20160426,       P15S,     106,          1,         19,       2019,2,20160615,       0606,   -16.0015,  -170.0016,       5152,  1137.7,   3.4430,  34.5250,2,  34.5239,2,    145.9,2,   144.8,2,   77.99,2,   34.85,2,    0.00,4,    2.44,2,   0.023,2,   0.018,2,   0.014,2,  2267.9,2,  2348.4,2,-999.0000,9,  -999.00,-999.0000,9, -999.00,9,    0.46,2,  -173.1,2,     2.0, -999.00,9, -999.00,9, -999.00,9, -999.00,9,   3.3606, -999.00
096U20160426,       P15S,     106,          1,         18,       2018,2,20160615,       0606,   -16.0015,  -170.0016,       5152,  1234.7,   3.2570,  34.5440,2,  34.5429,2,    143.6,2,   142.9,2,   83.95,2,   35.14,2,    0.00,4,    2.46,2,   0.016,2,   0.013,2,       0,2,  2274.4,2,  2357.0,2,-999.0000,9,  -999.00,-999.0000,9, -999.00,9, -999.00,9,  -999.0,9,  -999.0, -999.00,9, -999.00,9, -999.00,9, -999.00,9,   3.1684, -999.00
096U20160426,       P15S,     106,          1,         17,       2017,2,20160615,       0606,   -16.0015,  -170.0016,       5152,  1334.9,   3.0320,  34.5590,2,  34.5585,2,    144.1,2,   143.5,2,   89.58,2,   35.21,2,    0.00,4,    2.47,2,   0.009,2,   0.009,2,       0,2,  2279.8,2,  2364.9,2,-999.0000,9,  -999.00,-999.0000,9, -999.00,9,    0.42,2,  -190.4,2,     2.0, -999.00,9, -999.00,9, -999.00,9, -999.00,9,   2.9374, -999.00
096U20160426,       P15S,     106,          1,         16,       2016,2,20160615,       0606,   -16.0015,  -170.0016,       5152,  1455.1,   2.8490,  34.5730,2,  34.5722,2,    145.1,2,   144.3,2,   94.12,2,   35.26,2,    0.00,4,    2.47,2,-999.000,9,-999.000,9,-999.000,9,  -999.0,9,  -999.0,9,-999.0000,9,  -999.00,-999.0000,9, -999.00,9, -999.00,9,  -999.0,9,  -999.0, -999.00,9, -999.00,9, -999.00,9, -999.00,9,   2.7466, -999.00
096U20160426,       P15S,     106,          1,         15,       2015,2,20160615,       0606,   -16.0015,  -170.0016,       5152,  1666.2,   2.5740,  34.5990,2,  34.5977,2,    145.3,2,   144.9,2,  102.59,2,   35.30,2,    0.00,4,    2.47,2,   0.001,2,   0.002,2,       0,2,  2294.0,6,  2379.1,6,-999.0000,9,  -999.00,-999.0000,9, -999.00,9,    0.36,2,  -204.8,2,     2.0, -999.00,9, -999.00,9, -999.00,9, -999.00,9,   2.4574, -999.00
096U20160426,       P15S,     106,          1,         14,       2014,2,20160615,       0606,   -16.0015,  -170.0016,       5152,  1865.8,   2.3320,  34.6210,2,  34.6200,2,    146.5,2,   146.2,2,  109.43,2,   35.33,2,    0.00,4,    2.47,2,-999.000,9,-999.000,9,-999.000,9,  -999.0,9,  -999.0,9,-999.0000,9,  -999.00,-999.0000,9, -999.00,9, -999.00,9,  -999.0,9,  -999.0, -999.00,9, -999.00,9, -999.00,9, -999.00,9,   2.2020, -999.00
096U20160426,       P15S,     106,          1,         13,       2013,2,20160615,       0606,   -16.0015,  -170.0016,       5152,  2085.8,   2.1330,  34.6380,2,  34.6371,2,    148.2,2,   148.0,2,  114.98,2,   35.26,2,    0.00,4,    2.46,2,   0.000,2,   0.002,2,       0,2,  2303.6,2,  2391.0,6,-999.0000,9,  -999.00,-999.0000,9, -999.00,9, -999.00,9,  -999.0,9,  -999.0, -999.00,9, -999.00,9, -999.00,9, -999.00,9,   1.9872, -999.00
096U20160426,       P15S,     106,          1,         12,       2012,2,20160615,       0606,   -16.0015,  -170.0016,       5152,  2335.2,   1.9520,  34.6530,2,  34.6521,2,    149.4,2,   149.5,2,  121.33,2,   35.19,2,    0.00,4,    2.46,2,-999.000,9,-999.000,9,-999.000,9,  -999.0,9,  -999.0,9,-999.0000,9,  -999.00,-999.0000,9, -999.00,9, -999.00,9,  -999.0,9,  -999.0, -999.00,9, -999.00,9, -999.00,9, -999.00,9,   1.7874, -999.00
096U20160426,       P15S,     106,          1,         11,       2011,2,20160615,       0606,   -16.0015,  -170.0016,       5152,  2586.0,   1.8410,  34.6630,2,  34.6616,2,    151.0,2,   151.3,2,  124.73,2,   35.11,2,    0.00,4,    2.45,2,   0.000,2,   0.001,2,       0,2,  2311.5,2,  2401.2,2,-999.0000,9,  -999.00,-999.0000,9, -999.00,9, -999.00,9,  -999.0,9,  -999.0, -999.00,9, -999.00,9, -999.00,9, -999.00,9,   1.6558, -999.00
096U20160426,       P15S,     106,          1,         10,       2010,2,20160615,       0606,   -16.0015,  -170.0016,       5152,  2834.3,   1.7480,  34.6710,2,  34.6702,2,    152.6,2,   152.8,2,  127.53,2,   35.02,2,    0.00,4,    2.45,2,-999.000,9,-999.000,9,-999.000,9,  2314.3,2,  2405.0,2,-999.0000,9,  -999.00,-999.0000,9, -999.00,9, -999.00,9,  -999.0,9,  -999.0, -999.00,9, -999.00,9, -999.00,9, -999.00,9,   1.5416, -999.00
096U20160426,       P15S,     106,          1,          9,       2009,2,20160615,       0606,   -16.0015,  -170.0016,       5152,  3101.2,   1.6610,  34.6780,2,  34.6769,2,    157.6,2,   157.7,2,  127.98,2,   34.72,2,    0.00,4,    2.42,2,   0.001,2,   0.002,2,       0,2,  2309.1,2,  2402.3,2,-999.0000,9,  -999.00,-999.0000,9, -999.00,9, -999.00,9,  -999.0,9,  -999.0, -999.00,9, -999.00,9, -999.00,9, -999.00,9,   1.4308, -999.00
096U20160426,       P15S,     106,          1,          8,       2008,2,20160615,       0606,   -16.0015,  -170.0016,       5152,  3400.7,   1.5790,  34.6840,2,  34.6827,2,    162.0,2,   162.3,2,  128.49,2,   34.44,2,    0.00,4,    2.40,2,-999.000,9,-999.000,9,-999.000,9,  -999.0,9,  -999.0,9,-999.0000,9,  -999.00,-999.0000,9, -999.00,9, -999.00,9,  -999.0,9,  -999.0, -999.00,9, -999.00,9, -999.00,9, -999.00,9,   1.3209, -999.00
096U20160426,       P15S,     106,          1,          7,       2007,2,20160615,       0606,   -16.0015,  -170.0016,       5152,  3699.7,   1.4950,  34.6910,2,  34.6899,2,    169.5,2,   169.4,2,  126.78,2,   33.86,2,    0.00,4,    2.36,2,   0.007,2,   0.004,2,       0,2,  2301.0,2,  2396.0,2,-999.0000,9,  -999.00,-999.0000,9, -999.00,9, -999.00,9,  -999.0,9,  -999.0, -999.00,9, -999.00,9, -999.00,9, -999.00,9,   1.2082, -999.00
096U20160426,       P15S,     106,          1,          6,       2006,2,20160615,       0606,   -16.0015,  -170.0016,       5152,  4000.5,   1.3580,  34.7090,2,  34.7084,2,    188.3,2,   190.0,2,  116.17,2,   32.24,2,    0.00,4,    2.23,2,   0.025,2,   0.018,2,       0,2,  2275.7,2,  2374.0,2,-999.0000,9,  -999.00,-999.0000,9, -999.00,9, -999.00,9,  -999.0,9,  -999.0, -999.00,9, -999.00,9, -999.00,9, -999.00,9,   1.0428, -999.00
096U20160426,       P15S,     106,          1,          5,       2005,2,20160615,       0606,   -16.0015,  -170.0016,       5152,  4300.8,   1.1850,  34.7150,2,  34.7137,2,    200.1,2,   201.8,2,  114.26,2,   31.47,2,    0.00,4,    2.17,2,-999.000,9,-999.000,9,-999.000,9,  -999.0,9,  -999.0,9,-999.0000,9,  -999.00,-999.0000,9, -999.00,9, -999.00,9,  -999.0,9,  -999.0, -999.00,9, -999.00,9, -999.00,9, -999.00,9,   0.8419, -999.00
096U20160426,       P15S,     106,          1,          4,       2004,2,20160615,       0606,   -16.0015,  -170.0016,       5152,  4636.1,   1.0790,  34.7110,2,  34.7106,2,    204.0,2,   204.8,2,  117.39,2,   31.56,2,    0.00,4,    2.18,2,   0.081,2,   0.045,2,       0,2,  2262.5,2,  2364.6,2,-999.0000,9,  -999.00,-999.0000,9, -999.00,9, -999.00,9,  -999.0,9,  -999.0, -999.00,9, -999.00,9, -999.00,9, -999.00,9,   0.7014, -999.00
096U20160426,       P15S,     106,          1,          3,       2003,2,20160615,       0606,   -16.0015,  -170.0016,       5152,  5035.3,   1.0900,  34.7100,2,  34.7107,2,    205.4,2,   205.3,2,  118.10,2,   31.53,2,    0.00,4,    2.18,2,-999.000,9,-999.000,9,-999.000,9,  -999.0,9,  -999.0,9,-999.0000,9,  -999.00,-999.0000,9, -999.00,9, -999.00,9,  -999.0,9,  -999.0, -999.00,9, -999.00,9, -999.00,9, -999.00,9,   0.6652, -999.00
096U20160426,       P15S,     106,          1,          2,       2002,2,20160615,       0606,   -16.0015,  -170.0016,       5152,  5125.8,   1.0990,  34.7100,2,  34.7093,2,    205.7,2,   205.6,2,  118.37,2,   31.60,2,    0.00,4,    2.18,2,   0.089,2,   0.050,2,       0,2,  2263.6,6,  2365.7,6,-999.0000,9,  -999.00,-999.0000,9, -999.00,9, -999.00,9,  -999.0,9,  -999.0, -999.00,9, -999.00,9, -999.00,9, -999.00,9,   0.6630, -999.00
096U20160426,       P15S,     106,          1,          1,       2001,2,20160615,       0606,   -16.0015,  -170.0016,       5152,  5224.6,   1.1090,  34.7100,2,  34.7093,2,    206.1,2,   205.7,2,  118.53,2,   31.54,2,    0.00,4,    2.18,2,   0.085,2,   0.044,2,       0,2,  2263.4,2,  2365.0,2,-999.0000,9,  -999.00,-999.0000,9, -999.00,9, -999.00,9,  -999.0,9,  -999.0, -999.00,9, -999.00,9, -999.00,9, -999.00,9,   0.6606, -999.00