BOTTLE,20230413CCHSIOENA
EXPOCODE,SECT_ID,STNNBR,CASTNO,SAMPNO,BTLNBR,BTLNBR_FLAG_W,DATE,TIME,LATITUDE,LONGITUDE,DEPTH,CTDPRS,CTDTMP,CTDSAL,CTDSAL_FLAG_W,SALNTY,SALNTY_FLAG_W,CTDOXY,CTDOXY_FLAG_W,OXYGEN,OXYGEN_FLAG_W,SILCAT,SILCAT_FLAG_W,NITRAT,NITRAT_FLAG_W,NITRIT,NITRIT_FLAG_W,PHSPHT,PHSPHT_FLAG_W,CFC-11,CFC-11_FLAG_W,CFC-12,CFC-12_FLAG_W,SF6,SF6_FLAG_W,TCARBN,TCARBN_FLAG_W,ALKALI,ALKALI_FLAG_W,PH_TOT,PH_TOT_FLAG_W,PH_TMP,HELIUM,HELIUM_FLAG_W,DELHE3,DELHE3_FLAG_W,DELC13,DELC13_FLAG_W,DELC14,DELC14_FLAG_W,C14ERR,POC,POC_FLAG_W,PON,PON_FLAG_W,CHLORA,CHLORA_FLAG_W,PPHYTN,PPHYTN_FLAG_W,THETA,DELHER
,,,,,,,,,,,METERS,DBAR,ITS-90,PSS-78,,PSS-78,,UMOL/KG,,UMOL/KG,,UMOL/KG,,UMOL/KG,,UMOL/KG,,UMOL/KG,,PMOL/KG,,PMOL/KG,,FMOL/KG,,UMOL/KG,,UMOL/KG,,,,DEG C,NMOL/KG,,PERCNT,,/MILLE,,/MILLE,,/MILLE,UG/KG,,UG/KG,,UG/KG,,UG/KG,,DEG C,PERCNT
096U20160426,       P15S,     126,          1,         36,       2036,2,20160620,       1215,    -7.0020,  -168.7528,       5681,     5.1,  30.0750,  34.6490,2,  34.6489,2,    188.2,2,   192.8,2,    0.63,2,    0.00,4,    0.00,4,    0.15,2,   1.369,2,   0.881,2,    1.21,2,  1930.2,6,  2280.2,6,-999.0000,9,  -999.00,-999.0000,9, -999.00,9, -999.00,9,  -999.0,9,  -999.0, -999.00,9, -999.00,9,    0.27,2,   -0.03,3,  30.0737, -999.00
096U20160426,       P15S,     126,          1,         35,       2035,2,20160620,       1215,    -7.0020,  -168.7528,       5681,    25.4,  30.0680,  34.6490,2,  34.6597,2,    187.2,2,   192.9,2,    0.62,2,    0.00,4,    0.00,4,    0.15,2,-999.000,9,-999.000,9,-999.000,9,  -999.0,9,  -999.0,9,-999.0000,9,  -999.00,-999.0000,9, -999.00,9, -999.00,9,  -999.0,9,  -999.0, -999.00,9, -999.00,9,    0.22,2,   -0.02,3,  30.0617, -999.00
096U20160426,       P15S,     126,          1,         34,       2034,2,20160620,       1215,    -7.0020,  -168.7528,       5681,    50.1,  30.1910,  34.7630,2,  35.1360,2,    187.4,2,   197.1,2,    0.76,2,    0.00,4,    0.00,4,    0.18,2,   1.395,2,   0.902,2,   1.247,2,  1961.7,2,  2312.7,6,-999.0000,9,  -999.00,-999.0000,9, -999.00,9, -999.00,9,  -999.0,9,  -999.0, -999.00,9, -999.00,9,    0.22,2,    0.02,3,  30.1785, -999.00
096U20160426,       P15S,     126,          1,         33,       2033,2,20160620,       1215,    -7.0020,  -168.7528,       5681,    75.3,  29.3610,  35.7760,2,  35.8063,2,    183.2,2,   186.0,2,    1.10,2,    0.61,2,    0.22,2,    0.31,2,   1.436,2,   0.935,2,   1.176,2,  2019.8,2,  2358.9,2,-999.0000,9,  -999.00,-999.0000,9, -999.00,9, -999.00,9,  -999.0,9,  -999.0, -999.00,9, -999.00,9,    0.90,2,   -0.15,3,  29.3426, -999.00
096U20160426,       P15S,     126,          1,         32,       2032,2,20160620,       1215,    -7.0020,  -168.7528,       5681,   100.4,  28.0190,  35.9840,2,  36.1210,2,    164.7,2,   158.9,2,    1.29,2,    3.00,2,    1.45,2,    0.56,2,   1.537,2,   1.005,2,   1.275,2,  2073.3,2,  2377.3,2,-999.0000,9,  -999.00,-999.0000,9, -999.00,9, -999.00,9,  -999.0,9,  -999.0, -999.00,9, -999.00,9,    0.89,2,   -0.10,3,  27.9952, -999.00
096U20160426,       P15S,     126,          1,         31,       2031,2,20160620,       1215,    -7.0020,  -168.7528,       5681,   136.5,  24.1580,  36.2610,2,  36.2438,2,    144.9,2,   148.0,2,    1.21,2,    6.03,2,    0.06,2,    0.67,2,   1.748,2,   1.130,2,   1.259,2,  2117.6,2,  2385.7,2,-999.0000,9,  -999.00,-999.0000,9, -999.00,9, -999.00,9,  -999.0,9,  -999.0, -999.00,9, -999.00,9, -999.00,9, -999.00,9,  24.1290, -999.00
096U20160426,       P15S,     126,          1,         30,       2030,2,20160620,       1215,    -7.0020,  -168.7528,       5681,   201.2,  19.9980,  35.7490,2,  35.6819,2,    139.1,2,   138.5,2,    2.97,2,    9.64,2,    0.01,4,    0.94,2,   1.997,2,   1.251,2,   1.179,2,  2143.1,2,  2350.0,2,-999.0000,9,  -999.00,-999.0000,9, -999.00,9, -999.00,9,  -999.0,9,  -999.0, -999.00,9, -999.00,9, -999.00,9, -999.00,9,  19.9606, -999.00
096U20160426,       P15S,     126,          1,         29,       2029,2,20160620,       1215,    -7.0020,  -168.7528,       5681,   250.7,  16.0580,  35.2410,2,  35.1648,2,    107.8,2,    99.9,2,    8.65,2,   17.30,2,    0.00,4,    1.50,2,-999.000,9,-999.000,9,-999.000,9,  2180.4,2,  2318.2,2,-999.0000,9,  -999.00,-999.0000,9, -999.00,9, -999.00,9,  -999.0,9,  -999.0, -999.00,9, -999.00,9, -999.00,9, -999.00,9,  16.0181, -999.00
096U20160426,       P15S,     126,          1,         28,       2028,2,20160620,       1215,    -7.0020,  -168.7528,       5681,   285.7,  12.5820,  34.9140,2,  34.8891,2,     53.9,2,    56.9,2,   18.77,2,   26.78,2,    0.00,4,    2.07,2,   1.159,2,   0.666,2,   0.366,2,  2222.8,2,  2304.2,2,-999.0000,9,  -999.00,-999.0000,9, -999.00,9, -999.00,9,  -999.0,9,  -999.0, -999.00,9, -999.00,9, -999.00,9, -999.00,9,  12.5435, -999.00
096U20160426,       P15S,     126,          1,         27,       2027,2,20160620,       1215,    -7.0020,  -168.7528,       5681,   350.0,  10.5000,  34.7780,2,  34.7615,2,     98.8,2,   103.3,2,   20.37,2,   26.71,2,    0.00,4,    1.92,2,-999.000,9,-999.000,9,-999.000,9,  2202.8,2,  2302.1,2,-999.0000,9,  -999.00,-999.0000,9, -999.00,9, -999.00,9,  -999.0,9,  -999.0, -999.00,9, -999.00,9, -999.00,9, -999.00,9,  10.4579, -999.00
096U20160426,       P15S,     126,          1,         26,       2026,2,20160620,       1215,    -7.0020,  -168.7528,       5681,   430.9,   8.7620,  34.6550,2,  34.6492,2,    101.1,2,    97.6,2,   26.91,2,   30.68,2,    0.00,4,    2.16,2,   0.610,2,   0.328,2,   0.077,2,  2220.6,2,  2301.6,2,-999.0000,9,  -999.00,-999.0000,9, -999.00,9, -999.00,9,  -999.0,9,  -999.0, -999.00,9, -999.00,9, -999.00,9, -999.00,9,   8.7155, -999.00
096U20160426,       P15S,     126,          1,         25,       2025,2,20160620,       1215,    -7.0020,  -168.7528,       5681,   499.1,   7.8530,  34.6020,2,  34.5982,2,    103.9,2,   104.6,2,   31.04,2,   31.80,2,    0.00,4,    2.23,2,-999.000,9,-999.000,9,-999.000,9,  2225.0,2,  2302.6,2,-999.0000,9,  -999.00,-999.0000,9, -999.00,9, -999.00,9,  -999.0,9,  -999.0, -999.00,9, -999.00,9, -999.00,9, -999.00,9,   7.8023, -999.00
096U20160426,       P15S,     126,          1,         24,       2024,2,20160620,       1215,    -7.0020,  -168.7528,       5681,   597.5,   7.1440,  34.5640,2,  34.5615,2,    109.5,2,   108.3,2,   35.96,2,   32.85,2,    0.00,4,    2.31,2,   0.397,2,   0.210,2,    0.03,2,  2232.6,2,  2306.6,2,-999.0000,9,  -999.00,-999.0000,9, -999.00,9, -999.00,9,  -999.0,9,  -999.0, -999.00,9, -999.00,9, -999.00,9, -999.00,9,   7.0862, -999.00
096U20160426,       P15S,     126,          1,         23,       2023,2,20160620,       1215,    -7.0020,  -168.7528,       5681,   701.3,   6.1090,  34.5370,2,  34.5359,2,     99.6,2,    95.5,2,   48.48,2,   36.08,2,    0.00,4,    2.55,2,-999.000,9,-999.000,9,-999.000,9,  -999.0,9,  -999.0,9,-999.0000,9,  -999.00,-999.0000,9, -999.00,9, -999.00,9,  -999.0,9,  -999.0, -999.00,9, -999.00,9, -999.00,9, -999.00,9,   6.0461, -999.00
096U20160426,       P15S,     126,          1,         22,       2022,2,20160620,       1215,    -7.0020,  -168.7528,       5681,   801.3,   5.6100,  34.5340,2,  34.5329,2,     93.4,2,    89.5,2,   56.42,2,   37.46,2,    0.00,4,    2.65,2,   0.058,2,   0.034,2,       0,2,  2269.2,2,  2325.1,2,-999.0000,9,  -999.00,-999.0000,9, -999.00,9, -999.00,9,  -999.0,9,  -999.0, -999.00,9, -999.00,9, -999.00,9, -999.00,9,   5.5406, -999.00
096U20160426,       P15S,     126,          1,         21,       2021,2,20160620,       1215,    -7.0020,  -168.7528,       5681,   899.7,   4.9760,  34.5360,2,  34.5351,2,     94.4,2,    90.9,2,   67.44,2,   38.04,2,    0.00,4,    2.71,2,-999.000,9,-999.000,9,-999.000,9,  -999.0,9,  -999.0,9,-999.0000,9,  -999.00,-999.0000,9, -999.00,9, -999.00,9,  -999.0,9,  -999.0, -999.00,9, -999.00,9, -999.00,9, -999.00,9,   4.9018, -999.00
096U20160426,       P15S,     126,          1,         20,       2020,2,20160620,       1215,    -7.0020,  -168.7528,       5681,  1000.6,   4.5360,  34.5430,2,  34.5425,2,     98.2,2,    94.8,2,   76.24,2,   37.96,2,    0.00,4,    2.72,2,   0.012,6,   0.009,6,       0,6,  2288.7,2,  2347.0,2,-999.0000,9,  -999.00,-999.0000,9, -999.00,9, -999.00,9,  -999.0,9,  -999.0, -999.00,9, -999.00,9, -999.00,9, -999.00,9,   4.4561, -999.00
096U20160426,       P15S,     126,          1,         19,       2019,2,20160620,       1215,    -7.0020,  -168.7528,       5681,  1101.6,   4.0690,  34.5500,2,  34.5491,2,    109.7,2,   108.0,2,   83.23,2,   37.04,2,    0.00,4,    2.66,2,-999.000,9,-999.000,9,-999.000,9,  -999.0,9,  -999.0,9,-999.0000,9,  -999.00,-999.0000,9, -999.00,9, -999.00,9,  -999.0,9,  -999.0, -999.00,9, -999.00,9, -999.00,9, -999.00,9,   3.9841, -999.00
096U20160426,       P15S,     126,          1,         18,       2018,2,20160620,       1215,    -7.0020,  -168.7528,       5681,  1201.7,   3.7180,  34.5610,2,  34.5593,2,    114.5,2,   113.5,2,   89.67,2,   36.80,2,    0.00,4,    2.64,2,   0.011,2,   0.009,2,       0,2,  2292.6,2,  2361.7,2,-999.0000,9,  -999.00,-999.0000,9, -999.00,9, -999.00,9,  -999.0,9,  -999.0, -999.00,9, -999.00,9, -999.00,9, -999.00,9,   3.6277, -999.00
096U20160426,       P15S,     126,          1,         17,       2017,2,20160620,       1215,    -7.0020,  -168.7528,       5681,  1351.8,   3.3100,  34.5780,2,  34.5772,2,    117.3,2,   115.2,2,   99.22,2,   36.98,2,    0.00,4,    2.65,2,-999.000,9,-999.000,9,-999.000,9,  -999.0,9,  -999.0,9,-999.0000,9,  -999.00,-999.0000,9, -999.00,9, -999.00,9,  -999.0,9,  -999.0, -999.00,9, -999.00,9, -999.00,9, -999.00,9,   3.2111, -999.00
096U20160426,       P15S,     126,          1,         16,       2016,2,20160620,       1215,    -7.0020,  -168.7528,       5681,  1501.3,   2.9370,  34.5960,2,  34.5953,2,    121.3,2,   119.8,2,  107.76,2,   36.72,2,    0.00,4,    2.63,2,-999.000,9,-999.000,9,-999.000,9,  -999.0,9,  -999.0,9,-999.0000,9,  -999.00,-999.0000,9, -999.00,9, -999.00,9,  -999.0,9,  -999.0, -999.00,9, -999.00,9, -999.00,9, -999.00,9,   2.8297, -999.00
096U20160426,       P15S,     126,          1,         15,       2015,2,20160620,       1215,    -7.0020,  -168.7528,       5681,  1700.6,   2.6300,  34.6120,2,  34.6108,2,    125.4,2,   124.6,2,  114.38,2,   36.47,2,    0.00,4,    2.61,2,   0.002,2,   0.002,2,       0,2,  2318.8,2,  2389.7,2,-999.0000,9,  -999.00,-999.0000,9, -999.00,9, -999.00,9,  -999.0,9,  -999.0, -999.00,9, -999.00,9, -999.00,9, -999.00,9,   2.5098, -999.00
096U20160426,       P15S,     126,          1,         14,       2014,2,20160620,       1215,    -7.0020,  -168.7528,       5681,  1900.3,   2.3190,  34.6310,2,  34.6311,2,    127.9,3,   127.3,2,  122.76,2,   36.39,2,    0.00,4,    2.60,2,-999.000,9,-999.000,9,-999.000,9,  -999.0,9,  -999.0,9,-999.0000,9,  -999.00,-999.0000,9, -999.00,9, -999.00,9,  -999.0,9,  -999.0, -999.00,9, -999.00,9, -999.00,9, -999.00,9,   2.1862, -999.00
096U20160426,       P15S,     126,          1,         13,       2013,2,20160620,       1215,    -7.0020,  -168.7528,       5681,  2151.7,   2.1310,  34.6460,2,  34.6453,2,    128.0,2,   127.4,2,  129.50,2,   36.51,2,    0.00,4,    2.60,2,   0.001,2,   0.000,2,       0,2,  2329.4,2,  2406.9,2,-999.0000,9,  -999.00,-999.0000,9, -999.00,9, -999.00,9,  -999.0,9,  -999.0, -999.00,9, -999.00,9, -999.00,9, -999.00,9,   1.9795, -999.00
096U20160426,       P15S,     126,          1,         12,       2012,2,20160620,       1215,    -7.0020,  -168.7528,       5681,  2450.9,   1.8720,  34.6620,2,  34.6611,2,    137.0,2,   137.2,2,  133.32,2,   35.95,2,    0.00,4,    2.55,2,-999.000,9,-999.000,9,-999.000,9,  -999.0,9,  -999.0,9,-999.0000,9,  -999.00,-999.0000,9, -999.00,9, -999.00,9,  -999.0,9,  -999.0, -999.00,9, -999.00,9, -999.00,9, -999.00,9,   1.6985, -999.00
096U20160426,       P15S,     126,          1,         11,       2011,2,20160620,       1215,    -7.0020,  -168.7528,       5681,  2750.9,   1.7350,  34.6730,2,  34.6717,2,    143.4,2,   144.1,2,  135.05,2,   35.56,2,    0.00,4,    2.51,2,   0.002,2,   0.002,2,       0,2,  2329.2,2,  2413.5,2,-999.0000,9,  -999.00,-999.0000,9, -999.00,9, -999.00,9,  -999.0,9,  -999.0, -999.00,9, -999.00,9, -999.00,9, -999.00,9,   1.5366, -999.00
096U20160426,       P15S,     126,          1,         10,       2010,2,20160620,       1215,    -7.0020,  -168.7528,       5681,  3050.8,   1.6120,  34.6800,2,  34.6789,2,    151.2,2,   152.9,2,  134.43,2,   35.10,2,    0.00,4,    2.47,2,-999.000,9,-999.000,9,-999.000,9,  -999.0,9,  -999.0,9,-999.0000,9,  -999.00,-999.0000,9, -999.00,9, -999.00,9,  -999.0,9,  -999.0, -999.00,9, -999.00,9, -999.00,9, -999.00,9,   1.3878, -999.00
096U20160426,       P15S,     126,          1,          9,       2009,2,20160620,       1215,    -7.0020,  -168.7528,       5681,  3400.7,   1.5600,  34.6840,2,  34.6842,2,    156.9,2,   158.3,2,  133.38,2,   34.91,2,    0.00,4,    2.44,2,   0.002,2,   0.000,2,       0,2,  2313.5,2,  2409.8,2,-999.0000,9,  -999.00,-999.0000,9, -999.00,9, -999.00,9,  -999.0,9,  -999.0, -999.00,9, -999.00,9, -999.00,9, -999.00,9,   1.3024, -999.00
096U20160426,       P15S,     126,          1,          8,       2008,2,20160620,       1215,    -7.0020,  -168.7528,       5681,  3750.5,   1.4240,  34.6920,2,  34.6905,2,    166.4,2,   168.6,2,  131.51,2,   34.47,2,    0.00,4,    2.39,2,-999.000,9,-999.000,9,-999.000,9,  -999.0,9,  -999.0,9,-999.0000,9,  -999.00,-999.0000,9, -999.00,9, -999.00,9,  -999.0,9,  -999.0, -999.00,9, -999.00,9, -999.00,9, -999.00,9,   1.1338, -999.00
096U20160426,       P15S,     126,          1,          7,       2007,2,20160620,       1215,    -7.0020,  -168.7528,       5681,  4149.5,   1.3740,  34.6960,2,  34.6951,2,    171.6,2,   173.3,2,  131.49,2,   34.28,2,    0.00,4,    2.36,2,   0.006,2,   0.003,2,       0,2,  2302.2,2,  2401.7,2,-999.0000,9,  -999.00,-999.0000,9, -999.00,9, -999.00,9,  -999.0,9,  -999.0, -999.00,9, -999.00,9, -999.00,9, -999.00,9,   1.0422, -999.00
096U20160426,       P15S,     126,          1,          6,       2006,2,20160620,       1215,    -7.0020,  -168.7528,       5681,  4550.1,   1.3210,  34.7000,2,  34.6993,2,    180.3,2,   181.8,2,  128.19,2,   33.78,2,    0.00,4,    2.32,2,   0.035,2,   0.020,2,       0,2,  -999.0,9,  -999.0,9,-999.0000,9,  -999.00,-999.0000,9, -999.00,9, -999.00,9,  -999.0,9,  -999.0, -999.00,9, -999.00,9, -999.00,9, -999.00,9,   0.9457, -999.00
096U20160426,       P15S,     126,          1,          5,       2005,2,20160620,       1215,    -7.0020,  -168.7528,       5681,  4949.8,   1.2390,  34.7050,2,  34.7048,2,    192.6,2,   194.1,2,  122.22,2,   32.95,2,    0.00,4,    2.25,2,-999.000,9,-999.000,9,-999.000,9,  2279.3,2,  2378.3,6,-999.0000,9,  -999.00,-999.0000,9, -999.00,9, -999.00,9,  -999.0,9,  -999.0, -999.00,9, -999.00,9, -999.00,9, -999.00,9,   0.8194, -999.00
096U20160426,       P15S,     126,          1,          4,       2004,2,20160620,       1215,    -7.0020,  -168.7528,       5681,  5351.9,   1.2290,  34.7070,2,  34.7059,2,    198.4,2,   198.5,2,  120.64,2,   32.65,2,    0.00,4,    2.23,2,-999.000,9,-999.000,9,-999.000,9,  -999.0,9,  -999.0,9,-999.0000,9,  -999.00,-999.0000,9, -999.00,9, -999.00,9,  -999.0,9,  -999.0, -999.00,9, -999.00,9, -999.00,9, -999.00,9,   0.7607, -999.00
096U20160426,       P15S,     126,          1,          3,       2003,2,20160620,       1215,    -7.0020,  -168.7528,       5681,  5601.7,   1.2440,  34.7070,2,  34.7069,2,    200.2,2,   199.7,2,  120.20,2,   32.58,2,    0.00,4,    2.22,2,   0.044,2,   0.024,2,       0,2,  2271.9,6,  2372.4,6,-999.0000,9,  -999.00,-999.0000,9, -999.00,9, -999.00,9,  -999.0,9,  -999.0, -999.00,9, -999.00,9, -999.00,9, -999.00,9,   0.7436, -999.00
096U20160426,       P15S,     126,          1,          2,       2002,2,20160620,       1215,    -7.0020,  -168.7528,       5681,  5701.4,   1.2550,  34.7070,2,  34.7070,2,    200.6,2,   199.9,2,  120.11,2,   32.59,2,    0.00,4,    2.22,2,-999.000,9,-999.000,9,-999.000,9,  -999.0,9,  -999.0,9,-999.0000,9,  -999.00,-999.0000,9, -999.00,9, -999.00,9,  -999.0,9,  -999.0, -999.00,9, -999.00,9, -999.00,9, -999.00,9,   0.7414, -999.00
096U20160426,       P15S,     126,          1,          1,       2001,2,20160620,       1215,    -7.0020,  -168.7528,       5681,  5758.1,   1.2600,  34.7070,2,  34.7073,2,    200.9,2,   200.2,2,  120.06,2,   32.54,2,    0.00,4,    2.22,2,   0.043,2,   0.024,2,       0,2,  2268.6,2,  2370.6,2,-999.0000,9,  -999.00,-999.0000,9, -999.00,9, -999.00,9,  -999.0,9,  -999.0, -999.00,9, -999.00,9, -999.00,9, -999.00,9,   0.7389, -999.00