BOTTLE,20230413CCHSIOENA
EXPOCODE,SECT_ID,STNNBR,CASTNO,SAMPNO,BTLNBR,BTLNBR_FLAG_W,DATE,TIME,LATITUDE,LONGITUDE,DEPTH,CTDPRS,CTDTMP,CTDSAL,CTDSAL_FLAG_W,SALNTY,SALNTY_FLAG_W,CTDOXY,CTDOXY_FLAG_W,OXYGEN,OXYGEN_FLAG_W,SILCAT,SILCAT_FLAG_W,NITRAT,NITRAT_FLAG_W,NITRIT,NITRIT_FLAG_W,PHSPHT,PHSPHT_FLAG_W,CFC-11,CFC-11_FLAG_W,CFC-12,CFC-12_FLAG_W,SF6,SF6_FLAG_W,TCARBN,TCARBN_FLAG_W,ALKALI,ALKALI_FLAG_W,PH_TOT,PH_TOT_FLAG_W,PH_TMP,HELIUM,HELIUM_FLAG_W,DELHE3,DELHE3_FLAG_W,DELC13,DELC13_FLAG_W,DELC14,DELC14_FLAG_W,C14ERR,POC,POC_FLAG_W,PON,PON_FLAG_W,CHLORA,CHLORA_FLAG_W,PPHYTN,PPHYTN_FLAG_W,THETA,DELHER
,,,,,,,,,,,METERS,DBAR,ITS-90,PSS-78,,PSS-78,,UMOL/KG,,UMOL/KG,,UMOL/KG,,UMOL/KG,,UMOL/KG,,UMOL/KG,,PMOL/KG,,PMOL/KG,,FMOL/KG,,UMOL/KG,,UMOL/KG,,,,DEG C,NMOL/KG,,PERCNT,,/MILLE,,/MILLE,,/MILLE,UG/KG,,UG/KG,,UG/KG,,UG/KG,,DEG C,PERCNT
096U20160426,       P15S,      90,          1,         36,       2036,2,20160610,       1353,   -23.9956,  -170.0036,       5689,     3.9,  23.2350,  35.7820,2,  35.7804,2,    214.3,2,   213.8,2,    0.36,2,   -0.03,4,    0.00,4,    0.06,2,   1.780,2,   1.100,2,   1.376,2,  2020.7,2,  2347.4,2,-999.0000,9,  -999.00,-999.0000,9, -999.00,9, -999.00,9,  -999.0,9,  -999.0, -999.00,9, -999.00,9,    0.13,2,    0.06,3,  23.2342, -999.00
096U20160426,       P15S,      90,          1,         35,       2035,2,20160610,       1353,   -23.9956,  -170.0036,       5689,    25.2,  23.2410,  35.7820,2,  35.7807,2,    214.7,2,   213.6,2,    0.34,2,   -0.04,4,    0.00,4,    0.06,2,   1.782,2,   1.107,2,   1.425,2,  2021.6,6,  2349.6,6,-999.0000,9,  -999.00,-999.0000,9, -999.00,9, -999.00,9,  -999.0,9,  -999.0, -999.00,9, -999.00,9,    0.09,2,    0.08,3,  23.2358, -999.00
096U20160426,       P15S,      90,          1,         34,       2034,2,20160610,       1353,   -23.9956,  -170.0036,       5689,    50.6,  23.2180,  35.7880,2,  35.7901,2,    214.4,2,   213.8,2,    0.29,2,   -0.04,4,    0.00,4,    0.06,2,-999.000,9,-999.000,9,-999.000,9,  -999.0,9,  -999.0,9,-999.0000,9,  -999.00,-999.0000,9, -999.00,9, -999.00,9,  -999.0,9,  -999.0, -999.00,9, -999.00,9,    0.12,2,    0.08,3,  23.2076, -999.00
096U20160426,       P15S,      90,          1,         33,       2033,2,20160610,       1353,   -23.9956,  -170.0036,       5689,    75.4,  23.1900,  35.7910,2,  35.7896,2,    214.4,2,   213.6,2,    0.31,2,   -0.04,4,    0.00,4,    0.06,2,  -0.001,4,   1.120,4,   1.459,2,  2024.3,2,  2350.4,2,-999.0000,9,  -999.00,-999.0000,9, -999.00,9, -999.00,9,  -999.0,9,  -999.0, -999.00,9, -999.00,9, -999.00,9, -999.00,9,  23.1745, -999.00
096U20160426,       P15S,      90,          1,         32,       2032,2,20160610,       1353,   -23.9956,  -170.0036,       5689,   100.5,  21.9540,  35.7520,2,  35.7463,2,    223.0,2,   217.1,2,    0.36,2,    0.10,2,    0.02,2,    0.09,2,   2.048,2,   1.243,2,   1.439,2,  2048.8,2,  2342.8,2,-999.0000,9,  -999.00,-999.0000,9, -999.00,9, -999.00,9,  -999.0,9,  -999.0, -999.00,9, -999.00,9,    0.25,2,    0.29,3,  21.9341, -999.00
096U20160426,       P15S,      90,          1,         31,       2031,2,20160610,       1353,   -23.9956,  -170.0036,       5689,   151.7,  19.2710,  35.6510,2,  35.6441,2,    203.2,2,   201.9,2,    0.53,2,    1.93,2,    0.02,4,    0.22,2,   2.181,2,   1.312,2,   1.424,2,  2070.3,2,  2336.6,2,-999.0000,9,  -999.00,-999.0000,9, -999.00,9, -999.00,9,  -999.0,9,  -999.0, -999.00,9, -999.00,9,    0.11,2,    0.12,3,  19.2436, -999.00
096U20160426,       P15S,      90,          1,         30,       2030,2,20160610,       1353,   -23.9956,  -170.0036,       5689,   200.8,  18.4800,  35.6340,2,  35.6027,2,    201.3,2,   200.0,2,    0.74,2,    3.10,2,    0.01,4,    0.29,2,   2.266,2,   1.346,2,   1.378,2,  2078.0,2,  2331.9,2,-999.0000,9,  -999.00,-999.0000,9, -999.00,9, -999.00,9,  -999.0,9,  -999.0, -999.00,9, -999.00,9, -999.00,9, -999.00,9,  18.4447, -999.00
096U20160426,       P15S,      90,          1,         29,       2029,2,20160610,       1353,   -23.9956,  -170.0036,       5689,   251.8,  17.2810,  35.5110,2,  35.4728,2,    196.7,2,   196.1,2,    1.20,2,    5.01,2,    0.00,4,    0.42,2,   2.393,2,   1.400,2,   1.334,2,  2088.8,2,  2324.2,2,-999.0000,9,  -999.00,-999.0000,9, -999.00,9, -999.00,9,  -999.0,9,  -999.0, -999.00,9, -999.00,9, -999.00,9, -999.00,9,  17.2388, -999.00
096U20160426,       P15S,      90,          1,         28,       2028,2,20160610,       1353,   -23.9956,  -170.0036,       5689,   301.0,  16.3000,  35.4240,2,  35.4094,2,    205.4,2,   206.0,2,    1.20,2,    4.91,2,    0.00,4,    0.41,2,   2.474,2,   1.458,2,   1.522,3,  2091.8,2,  2320.8,2,-999.0000,9,  -999.00,-999.0000,9, -999.00,9, -999.00,9,  -999.0,9,  -999.0, -999.00,9, -999.00,9, -999.00,9, -999.00,9,  16.2515, -999.00
096U20160426,       P15S,      90,          1,         27,       2027,2,20160610,       1353,   -23.9956,  -170.0036,       5689,   350.6,  15.2220,  35.3350,2,  35.3241,2,    204.6,2,   205.9,2,    1.69,2,    6.49,2,    0.00,4,    0.52,2,   2.585,2,   1.499,2,   1.386,2,  2102.3,2,  2316.1,6,-999.0000,9,  -999.00,-999.0000,9, -999.00,9, -999.00,9,  -999.0,9,  -999.0, -999.00,9, -999.00,9, -999.00,9, -999.00,9,  15.1680, -999.00
096U20160426,       P15S,      90,          1,         26,       2026,2,20160610,       1353,   -23.9956,  -170.0036,       5689,   401.4,  13.5750,  35.1160,2,  35.0382,2,    201.2,2,   199.2,2,    2.72,2,   10.60,2,    0.00,4,    0.79,2,   2.789,2,   1.559,2,   1.163,2,  2116.5,2,  2302.5,2,-999.0000,9,  -999.00,-999.0000,9, -999.00,9, -999.00,9,  -999.0,9,  -999.0, -999.00,9, -999.00,9, -999.00,9, -999.00,9,  13.5177, -999.00
096U20160426,       P15S,      90,          1,         25,       2025,2,20160610,       1353,   -23.9956,  -170.0036,       5689,   502.1,   9.7720,  34.6470,2,  34.6153,2,    211.1,2,   213.8,2,    4.41,2,   17.17,2,    0.00,4,    1.21,2,   3.226,2,   1.736,2,   1.051,2,  2137.3,2,  2286.1,2,-999.0000,9,  -999.00,-999.0000,9, -999.00,9, -999.00,9,  -999.0,9,  -999.0, -999.00,9, -999.00,9, -999.00,9, -999.00,9,   9.7139, -999.00
096U20160426,       P15S,      90,          1,         24,       2024,2,20160610,       1353,   -23.9956,  -170.0036,       5689,   600.8,   7.6830,  34.4300,2,  34.4299,2,    224.7,2,   227.6,2,    6.50,2,   21.19,2,    0.00,4,    1.46,2,   3.369,2,   1.722,2,   0.864,2,  2144.9,2,  2281.1,2,-999.0000,9,  -999.00,-999.0000,9, -999.00,9, -999.00,9,  -999.0,9,  -999.0, -999.00,9, -999.00,9, -999.00,9, -999.00,9,   7.6225, -999.00
096U20160426,       P15S,      90,          1,         23,       2023,2,20160610,       1353,   -23.9956,  -170.0036,       5689,   701.2,   6.7330,  34.3580,2,  34.3556,2,    228.9,2,   231.8,2,    8.76,2,   23.47,2,    0.00,4,    1.61,2,   3.059,2,   1.507,2,   0.596,2,  2150.1,2,  2279.8,2,-999.0000,9,  -999.00,-999.0000,9, -999.00,9, -999.00,9,  -999.0,9,  -999.0, -999.00,9, -999.00,9, -999.00,9, -999.00,9,   6.6670, -999.00
096U20160426,       P15S,      90,          1,         22,       2022,2,20160610,       1353,   -23.9956,  -170.0036,       5689,   800.6,   5.8940,  34.3220,2,  34.3209,2,    216.0,2,   218.8,2,   14.60,2,   26.56,2,    0.00,4,    1.82,2,   2.009,2,   0.976,2,   0.306,2,  2163.8,2,  2281.8,2,-999.0000,9,  -999.00,-999.0000,9, -999.00,9, -999.00,9,  -999.0,9,  -999.0, -999.00,9, -999.00,9, -999.00,9, -999.00,9,   5.8232, -999.00
096U20160426,       P15S,      90,          1,         21,       2021,2,20160610,       1353,   -23.9956,  -170.0036,       5689,   899.5,   5.0450,  34.3280,2,  34.3271,2,    199.4,2,   202.0,2,   24.13,2,   29.48,2,    0.00,4,    2.03,2,   1.045,2,   0.511,2,   0.129,2,  2182.0,2,  2290.0,2,-999.0000,9,  -999.00,-999.0000,9, -999.00,9, -999.00,9,  -999.0,9,  -999.0, -999.00,9, -999.00,9, -999.00,9, -999.00,9,   4.9707, -999.00
096U20160426,       P15S,      90,          1,         20,       2020,2,20160610,       1353,   -23.9956,  -170.0036,       5689,  1000.4,   4.6390,  34.3600,2,  34.3602,2,    183.7,2,   185.3,2,   34.72,2,   31.58,2,    0.00,4,    2.18,2,   0.486,2,   0.248,2,       0,2,  2204.6,2,  2300.1,2,-999.0000,9,  -999.00,-999.0000,9, -999.00,9, -999.00,9,  -999.0,9,  -999.0, -999.00,9, -999.00,9, -999.00,9, -999.00,9,   4.5586, -999.00
096U20160426,       P15S,      90,          1,         19,       2019,2,20160610,       1353,   -23.9956,  -170.0036,       5689,  1098.9,   3.9000,  34.3930,2,  34.3941,2,    177.9,2,   179.3,2,   46.73,2,   32.84,2,    0.00,4,    2.27,2,-999.000,9,-999.000,9,-999.000,9,  -999.0,9,  -999.0,9,-999.0000,9,  -999.00,-999.0000,9, -999.00,9, -999.00,9,  -999.0,9,  -999.0, -999.00,9, -999.00,9, -999.00,9, -999.00,9,   3.8171, -999.00
096U20160426,       P15S,      90,          1,         18,       2018,2,20160610,       1353,   -23.9956,  -170.0036,       5689,  1199.7,   3.4460,  34.4450,2,  34.4438,2,    168.8,2,   170.2,2,   59.31,2,   33.90,2,    0.00,4,    2.35,2,   0.087,2,   0.045,2,       0,2,  2237.9,2,  2324.9,2,-999.0000,9,  -999.00,-999.0000,9, -999.00,9, -999.00,9,  -999.0,9,  -999.0, -999.00,9, -999.00,9, -999.00,9, -999.00,9,   3.3586, -999.00
096U20160426,       P15S,      90,          1,         17,       2017,2,20160610,       1353,   -23.9956,  -170.0036,       5689,  1349.8,   2.9450,  34.5160,2,  34.5161,2,    161.3,2,   162.1,2,   76.53,2,   34.61,2,    0.00,4,    2.41,2,   0.023,2,   0.012,2,       0,2,  2259.6,2,  2345.1,2,-999.0000,9,  -999.00,-999.0000,9, -999.00,9, -999.00,9,  -999.0,9,  -999.0, -999.00,9, -999.00,9, -999.00,9, -999.00,9,   2.8502, -999.00
096U20160426,       P15S,      90,          1,         16,       2016,2,20160610,       1353,   -23.9956,  -170.0036,       5689,  1501.5,   2.6900,  34.5690,2,  34.5708,2,    152.9,2,   152.9,2,   92.57,2,   35.13,2,    0.00,4,    2.46,2,   0.011,2,   0.007,2,       0,2,  2280.3,6,  2364.2,6,-999.0000,9,  -999.00,-999.0000,9, -999.00,9, -999.00,9,  -999.0,9,  -999.0, -999.00,9, -999.00,9, -999.00,9, -999.00,9,   2.5856, -999.00
096U20160426,       P15S,      90,          1,         15,       2015,2,20160610,       1353,   -23.9956,  -170.0036,       5689,  1700.7,   2.4840,  34.6030,2,  34.6018,2,    148.0,2,   148.3,2,  103.43,2,   35.51,2,    0.00,4,    2.49,2,   0.003,6,   0.002,6,       0,6,  2294.0,2,  2376.2,2,-999.0000,9,  -999.00,-999.0000,9, -999.00,9, -999.00,9,  -999.0,9,  -999.0, -999.00,9, -999.00,9, -999.00,9, -999.00,9,   2.3657, -999.00
096U20160426,       P15S,      90,          1,         14,       2014,2,20160610,       1353,   -23.9956,  -170.0036,       5689,  1900.8,   2.3500,  34.6190,2,  34.6183,2,    146.2,2,   146.7,2,  110.00,2,   35.69,2,    0.00,4,    2.50,2,-999.000,9,-999.000,9,-999.000,9,  -999.0,9,  -999.0,9,-999.0000,9,  -999.00,-999.0000,9, -999.00,9, -999.00,9,  -999.0,9,  -999.0, -999.00,9, -999.00,9, -999.00,9, -999.00,9,   2.2168, -999.00
096U20160426,       P15S,      90,          1,         13,       2013,2,20160610,       1353,   -23.9956,  -170.0036,       5689,  2153.0,   2.1890,  34.6350,2,  34.6455,2,    145.7,2,   145.7,2,  115.96,2,   35.80,2,    0.00,4,    2.51,2,   0.001,2,   0.001,2,       0,2,  2306.0,2,  2391.6,6,-999.0000,9,  -999.00,-999.0000,9, -999.00,9, -999.00,9,  -999.0,9,  -999.0, -999.00,9, -999.00,9, -999.00,9, -999.00,9,   2.0364, -999.00
096U20160426,       P15S,      90,          1,         12,       2012,2,20160610,       1353,   -23.9956,  -170.0036,       5689,  2400.3,   2.0420,  34.6480,2,  34.6473,2,    145.8,2,   145.9,2,  121.65,2,   35.84,2,    0.00,4,    2.51,2,   0.000,2,   0.000,2,       0,2,  2312.2,2,  2397.5,2,-999.0000,9,  -999.00,-999.0000,9, -999.00,9, -999.00,9,  -999.0,9,  -999.0, -999.00,9, -999.00,9, -999.00,9, -999.00,9,   1.8700, -999.00
096U20160426,       P15S,      90,          1,         11,       2011,2,20160610,       1353,   -23.9956,  -170.0036,       5689,  2650.6,   1.9230,  34.6590,2,  34.6571,2,    146.3,2,   146.3,2,  126.09,2,   35.87,2,    0.00,4,    2.52,2,-999.000,9,-999.000,9,-999.000,9,  2314.8,2,  2403.0,2,-999.0000,9,  -999.00,-999.0000,9, -999.00,9, -999.00,9,  -999.0,9,  -999.0, -999.00,9, -999.00,9, -999.00,9, -999.00,9,   1.7303, -999.00
096U20160426,       P15S,      90,          1,         10,       2010,2,20160610,       1353,   -23.9956,  -170.0036,       5689,  2900.6,   1.8090,  34.6680,2,  34.6665,2,    147.9,2,   147.6,2,  130.33,2,   35.80,2,    0.00,4,    2.51,2,   0.001,2,   0.000,2,       0,2,  2317.7,2,  2406.5,2,-999.0000,9,  -999.00,-999.0000,9, -999.00,9, -999.00,9,  -999.0,9,  -999.0, -999.00,9, -999.00,9, -999.00,9, -999.00,9,   1.5950, -999.00
096U20160426,       P15S,      90,          1,          9,       2009,2,20160610,       1353,   -23.9956,  -170.0036,       5689,  3175.6,   1.7020,  34.6770,2,  34.6761,2,    153.1,2,   152.9,2,  130.80,2,   35.44,2,    0.00,4,    2.48,2,-999.000,9,-999.000,9,-999.000,9,  2315.9,2,  2405.7,2,-999.0000,9,  -999.00,-999.0000,9, -999.00,9, -999.00,9,  -999.0,9,  -999.0, -999.00,9, -999.00,9, -999.00,9, -999.00,9,   1.4636, -999.00
096U20160426,       P15S,      90,          1,          8,       2008,2,20160610,       1353,   -23.9956,  -170.0036,       5689,  3474.8,   1.5800,  34.6970,2,  34.6961,2,    170.1,2,   171.6,2,  121.33,2,   33.80,2,    0.00,4,    2.36,2,   0.023,2,   0.012,2,       0,2,  2292.7,2,  2387.8,2,-999.0000,9,  -999.00,-999.0000,9, -999.00,9, -999.00,9,  -999.0,9,  -999.0, -999.00,9, -999.00,9, -999.00,9, -999.00,9,   1.3143, -999.00
096U20160426,       P15S,      90,          1,          7,       2007,2,20160610,       1353,   -23.9956,  -170.0036,       5689,  3826.0,   1.3810,  34.7180,2,  34.7180,2,    192.2,2,   195.3,2,  110.99,2,   31.92,2,    0.00,4,    2.22,2,   0.043,3,   0.011,6,       0,6,  2265.4,2,  2365.0,2,-999.0000,9,  -999.00,-999.0000,9, -999.00,9, -999.00,9,  -999.0,9,  -999.0, -999.00,9, -999.00,9, -999.00,9, -999.00,9,   1.0838, -999.00
096U20160426,       P15S,      90,          1,          6,       2006,2,20160610,       1353,   -23.9956,  -170.0036,       5689,  4225.3,   1.1810,  34.7170,2,  34.7163,2,    200.3,2,   202.7,2,  114.20,2,   31.77,2,    0.00,4,    2.20,2,-999.000,9,-999.000,9,-999.000,9,  -999.0,9,  -999.0,9,-999.0000,9,  -999.00,-999.0000,9, -999.00,9, -999.00,9,  -999.0,9,  -999.0, -999.00,9, -999.00,9, -999.00,9, -999.00,9,   0.8464, -999.00
096U20160426,       P15S,      90,          1,          5,       2005,2,20160610,       1353,   -23.9956,  -170.0036,       5689,  4626.0,   1.0730,  34.7120,2,  34.7116,2,    204.0,2,   205.4,2,  117.95,2,   31.93,2,   -0.01,4,    2.21,2,   0.092,2,   0.044,2,       0,2,  2264.1,2,  2364.5,2,-999.0000,9,  -999.00,-999.0000,9, -999.00,9, -999.00,9,  -999.0,9,  -999.0, -999.00,9, -999.00,9, -999.00,9, -999.00,9,   0.6967, -999.00
096U20160426,       P15S,      90,          1,          4,       2004,2,20160610,       1353,   -23.9956,  -170.0036,       5689,  5026.5,   1.0660,  34.7100,2,  34.7101,2,    206.0,2,   206.1,2,  119.34,2,   31.97,2,    0.00,4,    2.21,2,-999.000,9,-999.000,9,-999.000,9,  -999.0,9,  -999.0,9,-999.0000,9,  -999.00,-999.0000,9, -999.00,9, -999.00,9,  -999.0,9,  -999.0, -999.00,9, -999.00,9, -999.00,9, -999.00,9,   0.6431, -999.00
096U20160426,       P15S,      90,          1,          3,       2003,2,20160610,       1353,   -23.9956,  -170.0036,       5689,  5401.6,   1.0990,  34.7090,2,  34.7087,2,    207.2,2,   206.1,2,  119.87,2,   31.99,2,    0.00,4,    2.22,2,   0.076,2,   0.039,2,       0,2,  2263.3,6,  2365.9,6,-999.0000,9,  -999.00,-999.0000,9, -999.00,9, -999.00,9,  -999.0,9,  -999.0, -999.00,9, -999.00,9, -999.00,9, -999.00,9,   0.6291, -999.00
096U20160426,       P15S,      90,          1,          2,       2002,2,20160610,       1353,   -23.9956,  -170.0036,       5689,  5602.4,   1.1230,  34.7090,2,  34.7088,2,    207.9,2,   206.2,2,  120.00,2,   31.99,2,    0.00,4,    2.21,2,-999.000,9,-999.000,9,-999.000,9,  -999.0,9,  -999.0,9,-999.0000,9,  -999.00,-999.0000,9, -999.00,9, -999.00,9,  -999.0,9,  -999.0, -999.00,9, -999.00,9, -999.00,9, -999.00,9,   0.6270, -999.00
096U20160426,       P15S,      90,          1,          1,       2001,2,20160610,       1353,   -23.9956,  -170.0036,       5689,  5778.5,   1.1460,  34.7090,2,  34.7089,2,    208.4,2,   206.1,2,  119.92,2,   32.01,2,    0.00,4,    2.22,2,   0.085,2,   0.042,2,   0.039,2,  2264.2,2,  2364.5,2,-999.0000,9,  -999.00,-999.0000,9, -999.00,9, -999.00,9,  -999.0,9,  -999.0, -999.00,9, -999.00,9, -999.00,9, -999.00,9,   0.6266, -999.00