BOTTLE,20230413CCHSIOENA
EXPOCODE,SECT_ID,STNNBR,CASTNO,SAMPNO,BTLNBR,BTLNBR_FLAG_W,DATE,TIME,LATITUDE,LONGITUDE,DEPTH,CTDPRS,CTDTMP,CTDSAL,CTDSAL_FLAG_W,SALNTY,SALNTY_FLAG_W,CTDOXY,CTDOXY_FLAG_W,OXYGEN,OXYGEN_FLAG_W,SILCAT,SILCAT_FLAG_W,NITRAT,NITRAT_FLAG_W,NITRIT,NITRIT_FLAG_W,PHSPHT,PHSPHT_FLAG_W,CFC-11,CFC-11_FLAG_W,CFC-12,CFC-12_FLAG_W,SF6,SF6_FLAG_W,TCARBN,TCARBN_FLAG_W,ALKALI,ALKALI_FLAG_W,PH_TOT,PH_TOT_FLAG_W,PH_TMP,HELIUM,HELIUM_FLAG_W,DELHE3,DELHE3_FLAG_W,DELC13,DELC13_FLAG_W,DELC14,DELC14_FLAG_W,C14ERR,POC,POC_FLAG_W,PON,PON_FLAG_W,CHLORA,CHLORA_FLAG_W,PPHYTN,PPHYTN_FLAG_W,THETA,DELHER
,,,,,,,,,,,METERS,DBAR,ITS-90,PSS-78,,PSS-78,,UMOL/KG,,UMOL/KG,,UMOL/KG,,UMOL/KG,,UMOL/KG,,UMOL/KG,,PMOL/KG,,PMOL/KG,,FMOL/KG,,UMOL/KG,,UMOL/KG,,,,DEG C,NMOL/KG,,PERCNT,,/MILLE,,/MILLE,,/MILLE,UG/KG,,UG/KG,,UG/KG,,UG/KG,,DEG C,PERCNT
096U20160426,       P15S,      65,          1,         36,       2036,2,20160601,       1857,   -36.4507,  -170.2936,       5088,     4.6,  17.8050,  35.4010,2,  35.4005,2,    235.5,2,   234.0,2,   -0.04,4,    0.01,4,    0.01,4,    0.12,2,-999.000,9,-999.000,9,-999.000,9,  2066.1,2,  2325.7,2,-999.0000,9,  -999.00,-999.0000,9, -999.00,9, -999.00,9,  -999.0,9,  -999.0, -999.00,9, -999.00,9,    0.26,2,    0.07,3,  17.8042, -999.00
096U20160426,       P15S,      65,          1,         35,       2035,2,20160601,       1857,   -36.4507,  -170.2936,       5088,    34.6,  17.8000,  35.3990,2,  35.4057,2,    235.4,2,   234.2,2,   -0.04,4,    0.01,4,    0.00,4,    0.11,2,-999.000,9,-999.000,9,-999.000,9,  -999.0,9,  -999.0,9,-999.0000,9,  -999.00,-999.0000,9, -999.00,9, -999.00,9,  -999.0,9,  -999.0, -999.00,9, -999.00,9,    0.34,2,    0.04,3,  17.7941, -999.00
096U20160426,       P15S,      65,          1,         34,       2034,2,20160601,       1857,   -36.4507,  -170.2936,       5088,    61.3,  17.6870,  35.3840,2,  35.3828,2,    235.9,2,   234.7,2,   -0.04,4,    0.01,4,    0.00,4,    0.12,2,-999.000,9,-999.000,9,-999.000,9,  -999.0,9,  -999.0,9,-999.0000,9,  -999.00,-999.0000,9, -999.00,9, -999.00,9,  -999.0,9,  -999.0, -999.00,9, -999.00,9,    0.29,2,    0.07,3,  17.6766, -999.00
096U20160426,       P15S,      65,          1,         33,       2033,2,20160601,       1857,   -36.4507,  -170.2936,       5088,    86.1,  17.8970,  35.3870,2,  35.2352,2,    236.2,2,   243.1,2,    0.14,4,    0.28,2,    0.06,2,    0.18,2,-999.000,9,-999.000,9,-999.000,9,  -999.0,9,  -999.0,9,-999.0000,9,  -999.00,-999.0000,9, -999.00,9, -999.00,9,  -999.0,9,  -999.0, -999.00,9, -999.00,9,    0.47,2,    0.08,3,  17.8823, -999.00
096U20160426,       P15S,      65,          1,         32,       2032,2,20160601,       1857,   -36.4507,  -170.2936,       5088,   116.0,  13.6360,  35.0840,2,  35.0938,2,    239.5,2,   236.2,2,    0.68,2,    3.74,2,    0.13,2,    0.41,2,-999.000,9,-999.000,9,-999.000,9,  2097.4,2,  2307.5,2,-999.0000,9,  -999.00,-999.0000,9, -999.00,9, -999.00,9,  -999.0,9,  -999.0, -999.00,9, -999.00,9,    0.22,2,    0.15,3,  13.6196, -999.00
096U20160426,       P15S,      65,          1,         31,       2031,2,20160601,       1857,   -36.4507,  -170.2936,       5088,   166.1,  12.3880,  35.0060,2,  35.0047,2,    225.4,2,   223.4,2,    1.62,2,    8.09,2,    0.01,4,    0.65,2,-999.000,9,-999.000,9,-999.000,9,  -999.0,9,  -999.0,9,-999.0000,9,  -999.00,-999.0000,9, -999.00,9, -999.00,9,  -999.0,9,  -999.0, -999.00,9, -999.00,9, -999.00,9, -999.00,9,  12.3659, -999.00
096U20160426,       P15S,      65,          1,         30,       2030,2,20160601,       1857,   -36.4507,  -170.2936,       5088,   215.7,  11.5060,  34.9070,2,  34.8988,2,    223.6,2,   222.8,2,    2.34,2,   10.90,2,    0.00,4,    0.82,2,-999.000,9,-999.000,9,-999.000,9,  -999.0,9,  -999.0,9,-999.0000,9,  -999.00,-999.0000,9, -999.00,9, -999.00,9,  -999.0,9,  -999.0, -999.00,9, -999.00,9, -999.00,9, -999.00,9,  11.4786, -999.00
096U20160426,       P15S,      65,          1,         29,       2029,2,20160601,       1857,   -36.4507,  -170.2936,       5088,   265.3,  10.4790,  34.7580,2,  34.7302,2,    222.5,2,   220.4,2,    2.91,2,   14.10,2,    0.00,4,    1.02,2,-999.000,9,-999.000,9,-999.000,9,  -999.0,9,  -999.0,9,-999.0000,9,  -999.00,-999.0000,9, -999.00,9, -999.00,9,  -999.0,9,  -999.0, -999.00,9, -999.00,9, -999.00,9, -999.00,9,  10.4473, -999.00
096U20160426,       P15S,      65,          1,         28,       2028,2,20160601,       1857,   -36.4507,  -170.2936,       5088,   316.9,   9.4000,  34.6260,2,  34.6169,2,    224.8,2,   223.9,2,    3.52,2,   16.43,2,    0.00,4,    1.16,2,-999.000,9,-999.000,9,-999.000,9,  -999.0,9,  -999.0,9,-999.0000,9,  -999.00,-999.0000,9, -999.00,9, -999.00,9,  -999.0,9,  -999.0, -999.00,9, -999.00,9, -999.00,9, -999.00,9,   9.3646, -999.00
096U20160426,       P15S,      65,          1,         27,       2027,2,20160601,       1857,   -36.4507,  -170.2936,       5088,   365.9,   8.8300,  34.5740,2,  34.5721,2,    224.2,2,   222.7,2,    4.40,2,   18.23,2,    0.00,4,    1.27,2,-999.000,9,-999.000,9,-999.000,9,  -999.0,9,  -999.0,9,-999.0000,9,  -999.00,-999.0000,9, -999.00,9, -999.00,9,  -999.0,9,  -999.0, -999.00,9, -999.00,9, -999.00,9, -999.00,9,   8.7905, -999.00
096U20160426,       P15S,      65,          1,         26,       2026,2,20160601,       1857,   -36.4507,  -170.2936,       5088,   437.0,   8.2250,  34.5030,2,  34.5006,2,    234.3,2,   232.8,2,    4.60,2,   19.11,2,    0.00,4,    1.32,2,-999.000,9,-999.000,9,-999.000,9,  2141.9,2,  2283.1,2,-999.0000,9,  -999.00,-999.0000,9, -999.00,9, -999.00,9,  -999.0,9,  -999.0, -999.00,9, -999.00,9, -999.00,9, -999.00,9,   8.1797, -999.00
096U20160426,       P15S,      65,          1,         25,       2025,2,20160601,       1857,   -36.4507,  -170.2936,       5088,   534.9,   7.6230,  34.4410,2,  34.4404,2,    237.1,2,   235.6,2,    5.63,2,   20.72,2,    0.00,4,    1.42,2,-999.000,9,-999.000,9,-999.000,9,  -999.0,9,  -999.0,9,-999.0000,9,  -999.00,-999.0000,9, -999.00,9, -999.00,9,  -999.0,9,  -999.0, -999.00,9, -999.00,9, -999.00,9, -999.00,9,   7.5696, -999.00
096U20160426,       P15S,      65,          1,         24,       2024,2,20160601,       1857,   -36.4507,  -170.2936,       5088,   636.7,   7.1490,  34.3990,2,  34.3980,2,    236.4,2,   235.6,2,    6.94,2,   22.17,2,    0.00,4,    1.51,2,-999.000,9,-999.000,9,-999.000,9,  -999.0,9,  -999.0,9,-999.0000,9,  -999.00,-999.0000,9, -999.00,9, -999.00,9,  -999.0,9,  -999.0, -999.00,9, -999.00,9, -999.00,9, -999.00,9,   7.0873, -999.00
096U20160426,       P15S,      65,          1,         23,       2023,2,20160601,       1857,   -36.4507,  -170.2936,       5088,   737.0,   6.6480,  34.3620,2,  34.3614,2,    233.4,2,   232.8,2,    9.10,2,   23.71,2,    0.00,4,    1.62,2,-999.000,9,-999.000,9,-999.000,9,  2149.8,2,  2280.8,2,-999.0000,9,  -999.00,-999.0000,9, -999.00,9, -999.00,9,  -999.0,9,  -999.0, -999.00,9, -999.00,9, -999.00,9, -999.00,9,   6.5789, -999.00
096U20160426,       P15S,      65,          1,         22,       2022,2,20160601,       1857,   -36.4507,  -170.2936,       5088,   836.7,   6.2710,  34.3620,2,  34.3614,2,    221.6,2,   220.6,2,   13.16,2,   25.48,2,    0.00,4,    1.74,2,-999.000,9,-999.000,9,-999.000,9,  -999.0,9,  -999.0,9,-999.0000,9,  -999.00,-999.0000,9, -999.00,9, -999.00,9,  -999.0,9,  -999.0, -999.00,9, -999.00,9, -999.00,9, -999.00,9,   6.1944, -999.00
096U20160426,       P15S,      65,          1,         21,       2021,2,20160601,       1857,   -36.4507,  -170.2936,       5088,   935.5,   5.7170,  34.3470,2,  34.3470,2,    213.2,2,   212.1,2,   18.30,2,   27.34,2,    0.00,4,    1.87,2,-999.000,9,-999.000,9,-999.000,9,  -999.0,9,  -999.0,9,-999.0000,9,  -999.00,-999.0000,9, -999.00,9, -999.00,9,  -999.0,9,  -999.0, -999.00,9, -999.00,9, -999.00,9, -999.00,9,   5.6346, -999.00
096U20160426,       P15S,      65,          1,         20,       2020,2,20160601,       1857,   -36.4507,  -170.2936,       5088,  1034.9,   5.1330,  34.3540,2,  34.3499,2,    202.3,2,   202.1,2,   25.98,2,   29.36,2,    0.00,4,    2.01,2,-999.000,9,-999.000,9,-999.000,9,  -999.0,9,  -999.0,9,-999.0000,9,  -999.00,-999.0000,9, -999.00,9, -999.00,9,  -999.0,9,  -999.0, -999.00,9, -999.00,9, -999.00,9, -999.00,9,   5.0457, -999.00
096U20160426,       P15S,      65,          1,         19,       2019,2,20160601,       1857,   -36.4507,  -170.2936,       5088,  1100.2,   4.7190,  34.3490,2,  34.3571,2,    199.1,2,   197.0,2,   31.17,2,   30.34,2,    0.00,4,    2.08,2,-999.000,9,-999.000,9,-999.000,9,  2196.1,6,  2298.2,6,-999.0000,9,  -999.00,-999.0000,9, -999.00,9, -999.00,9,  -999.0,9,  -999.0, -999.00,9, -999.00,9, -999.00,9, -999.00,9,   4.6291, -999.00
096U20160426,       P15S,      65,          1,         18,       2018,2,20160601,       1857,   -36.4507,  -170.2936,       5088,  1235.1,   4.0090,  34.4040,2,  34.4047,2,    185.3,2,   184.2,2,   45.67,2,   32.20,2,    0.00,4,    2.22,2,-999.000,9,-999.000,9,-999.000,9,  -999.0,9,  -999.0,9,-999.0000,9,  -999.00,-999.0000,9, -999.00,9, -999.00,9,  -999.0,9,  -999.0, -999.00,9, -999.00,9, -999.00,9, -999.00,9,   3.9135, -999.00
096U20160426,       P15S,      65,          1,         17,       2017,2,20160601,       1857,   -36.4507,  -170.2936,       5088,  1335.5,   3.4900,  34.4430,2,  34.4426,2,    177.4,2,   176.3,2,   56.25,2,   33.25,2,    0.00,4,    2.31,2,-999.000,9,-999.000,9,-999.000,9,  -999.0,9,  -999.0,9,-999.0000,9,  -999.00,-999.0000,9, -999.00,9,    0.64,6,  -136.0,6,     2.0, -999.00,9, -999.00,9, -999.00,9, -999.00,9,   3.3909, -999.00
096U20160426,       P15S,      65,          1,         16,       2016,2,20160601,       1857,   -36.4507,  -170.2936,       5088,  1465.1,   3.1800,  34.4940,2,  34.4954,2,    169.5,2,   168.0,2,   68.15,2,   33.88,2,    0.00,4,    2.36,2,-999.000,9,-999.000,9,-999.000,9,  -999.0,9,  -999.0,9,-999.0000,9,  -999.00,-999.0000,9, -999.00,9, -999.00,9,  -999.0,9,  -999.0, -999.00,9, -999.00,9, -999.00,9, -999.00,9,   3.0732, -999.00
096U20160426,       P15S,      65,          1,         15,       2015,2,20160601,       1857,   -36.4507,  -170.2936,       5088,  1664.6,   2.7810,  34.5580,2,  34.5577,2,    160.5,2,   159.3,2,   84.32,2,   34.50,2,    0.00,4,    2.41,2,-999.000,9,-999.000,9,-999.000,9,  -999.0,9,  -999.0,9,-999.0000,9,  -999.00,-999.0000,9, -999.00,9, -999.00,9,  -999.0,9,  -999.0, -999.00,9, -999.00,9, -999.00,9, -999.00,9,   2.6620, -999.00
096U20160426,       P15S,      65,          1,         14,       2014,2,20160601,       1857,   -36.4507,  -170.2936,       5088,  1867.2,   2.5120,  34.5990,2,  34.5987,2,    154.9,2,   153.6,2,   97.45,2,   34.95,2,    0.00,4,    2.44,2,-999.000,9,-999.000,9,-999.000,9,  -999.0,9,  -999.0,9,-999.0000,9,  -999.00,-999.0000,9, -999.00,9, -999.00,9,  -999.0,9,  -999.0, -999.00,9, -999.00,9, -999.00,9, -999.00,9,   2.3794, -999.00
096U20160426,       P15S,      65,          1,         13,       2013,2,20160601,       1857,   -36.4507,  -170.2936,       5088,  2085.6,   2.3570,  34.6200,2,  34.6189,2,    152.5,2,   151.2,2,  105.32,2,   35.16,2,    0.00,4,    2.47,2,-999.000,9,-999.000,9,-999.000,9,  -999.0,9,  -999.0,9,-999.0000,9,  -999.00,-999.0000,9, -999.00,9, -999.00,9,  -999.0,9,  -999.0, -999.00,9, -999.00,9, -999.00,9, -999.00,9,   2.2077, -999.00
096U20160426,       P15S,      65,          1,         12,       2012,2,20160601,       1857,   -36.4507,  -170.2936,       5088,  2335.1,   2.2010,  34.6370,2,  34.6364,2,    150.8,2,   149.5,2,  112.46,2,   35.36,2,   -0.01,4,    2.48,2,-999.000,9,-999.000,9,-999.000,9,  -999.0,9,  -999.0,9,-999.0000,9,  -999.00,-999.0000,9, -999.00,9, -999.00,9,  -999.0,9,  -999.0, -999.00,9, -999.00,9, -999.00,9, -999.00,9,   2.0321, -999.00
096U20160426,       P15S,      65,          1,         11,       2011,2,20160601,       1857,   -36.4507,  -170.2936,       5088,  2584.6,   2.0700,  34.6490,2,  34.6491,2,    150.2,2,   148.7,2,  117.81,2,   35.63,2,   -0.01,4,    2.50,2,-999.000,9,-999.000,9,-999.000,9,  2308.1,2,  2394.9,6,-999.0000,9,  -999.00,-999.0000,9, -999.00,9, -999.00,9,  -999.0,9,  -999.0, -999.00,9, -999.00,9, -999.00,9, -999.00,9,   1.8806, -999.00
096U20160426,       P15S,      65,          1,         10,       2010,2,20160601,       1857,   -36.4507,  -170.2936,       5088,  2836.4,   1.9300,  34.6630,2,  34.6634,2,    153.2,2,   152.1,2,  120.66,2,   35.38,2,    0.00,4,    2.48,2,-999.000,9,-999.000,9,-999.000,9,  -999.0,9,  -999.0,9,-999.0000,9,  -999.00,-999.0000,9, -999.00,9, -999.00,9,  -999.0,9,  -999.0, -999.00,9, -999.00,9, -999.00,9, -999.00,9,   1.7196, -999.00
096U20160426,       P15S,      65,          1,          9,       2009,2,20160601,       1857,   -36.4507,  -170.2936,       5088,  3101.6,   1.8040,  34.6920,2,  34.6921,2,    169.6,2,   169.2,2,  111.90,2,   33.66,2,    0.00,4,    2.35,2,-999.000,9,-999.000,9,-999.000,9,  -999.0,9,  -999.0,9,-999.0000,9,  -999.00,-999.0000,9, -999.00,9, -999.00,9,  -999.0,9,  -999.0, -999.00,9, -999.00,9, -999.00,9, -999.00,9,   1.5705, -999.00
096U20160426,       P15S,      65,          1,          8,       2008,2,20160601,       1857,   -36.4507,  -170.2936,       5088,  3400.8,   1.6250,  34.7140,2,  34.7143,2,    185.6,2,   185.7,2,  106.48,2,   32.35,2,    0.00,4,    2.25,2,-999.000,9,-999.000,9,-999.000,9,  -999.0,9,  -999.0,9,-999.0000,9,  -999.00,-999.0000,9, -999.00,9, -999.00,9,  -999.0,9,  -999.0, -999.00,9, -999.00,9, -999.00,9, -999.00,9,   1.3656, -999.00
096U20160426,       P15S,      65,          1,          7,       2007,2,20160601,       1857,   -36.4507,  -170.2936,       5088,  3699.8,   1.4160,  34.7220,2,  34.7211,2,    196.7,2,   197.0,2,  106.79,2,   31.73,2,    0.00,4,    2.20,2,-999.000,9,-999.000,9,-999.000,9,  -999.0,9,  -999.0,9,-999.0000,9,  -999.00,-999.0000,9, -999.00,9, -999.00,9,  -999.0,9,  -999.0, -999.00,9, -999.00,9, -999.00,9, -999.00,9,   1.1311, -999.00
096U20160426,       P15S,      65,          1,          6,       2006,2,20160601,       1857,   -36.4507,  -170.2936,       5088,  3999.2,   1.2130,  34.7180,2,  34.7164,2,    202.3,2,   202.0,2,  111.42,2,   31.77,2,    0.00,4,    2.20,2,   0.073,2,   0.038,2,   0.042,3,  2261.4,2,  2362.6,6,-999.0000,9,  -999.00,-999.0000,9, -999.00,9, -999.00,9,  -999.0,9,  -999.0, -999.00,9, -999.00,9, -999.00,9, -999.00,9,   0.9020, -999.00
096U20160426,       P15S,      65,          1,          5,       2005,2,20160601,       1857,   -36.4507,  -170.2936,       5088,  4299.5,   1.1100,  34.7140,2,  34.7127,2,    204.8,2,   204.6,2,  114.99,2,   31.92,2,    0.00,4,    2.21,2,-999.000,9,-999.000,9,-999.000,9,  -999.0,9,  -999.0,9,-999.0000,9,  -999.00,-999.0000,9, -999.00,9, -999.00,9,  -999.0,9,  -999.0, -999.00,9, -999.00,9, -999.00,9, -999.00,9,   0.7693, -999.00
096U20160426,       P15S,      65,          1,          4,       2004,2,20160601,       1857,   -36.4507,  -170.2936,       5088,  4600.5,   1.0490,  34.7100,2,  34.7098,2,    206.6,2,   205.9,2,  117.32,2,   31.99,2,    0.00,4,    2.21,2,   0.119,2,   0.061,2,   0.058,2,  2263.8,2,  2362.5,2,-999.0000,9,  -999.00,-999.0000,9, -999.00,9, -999.00,9,  -999.0,9,  -999.0, -999.00,9, -999.00,9, -999.00,9, -999.00,9,   0.6764, -999.00
096U20160426,       P15S,      65,          1,          3,       2003,2,20160601,       1857,   -36.4507,  -170.2936,       5088,  4899.9,   1.0530,  34.7090,2,  34.7086,2,    207.5,2,   206.4,2,  118.39,2,   32.05,2,    0.00,4,    2.22,2,-999.000,9,-999.000,9,-999.000,9,  -999.0,9,  -999.0,9,-999.0000,9,  -999.00,-999.0000,9, -999.00,9, -999.00,9,  -999.0,9,  -999.0, -999.00,9, -999.00,9, -999.00,9, -999.00,9,   0.6456, -999.00
096U20160426,       P15S,      65,          1,          2,       2002,2,20160601,       1857,   -36.4507,  -170.2936,       5088,  5079.3,   1.0620,  34.7080,2,  34.7078,2,    207.8,2,   206.3,2,  118.51,2,   32.06,2,    0.00,4,    2.21,2,   0.150,2,   0.078,2,       0,2,  2264.6,2,  2363.8,2,-999.0000,9,  -999.00,-999.0000,9, -999.00,9, -999.00,9,  -999.0,9,  -999.0, -999.00,9, -999.00,9, -999.00,9, -999.00,9,   0.6329, -999.00
096U20160426,       P15S,      65,          1,          1,       2001,2,20160601,       1857,   -36.4507,  -170.2936,       5088,  5163.0,   1.0700,  34.7080,2,  34.7086,2,    208.1,2,   206.5,2,  118.67,2,   32.10,2,    0.00,4,    2.21,2,-999.000,9,-999.000,9,-999.000,9,  -999.0,9,  -999.0,9,-999.0000,9,  -999.00,-999.0000,9, -999.00,9, -999.00,9,  -999.0,9,  -999.0, -999.00,9, -999.00,9, -999.00,9, -999.00,9,   0.6305, -999.00