BOTTLE,20230413CCHSIOENA
EXPOCODE,SECT_ID,STNNBR,CASTNO,SAMPNO,BTLNBR,BTLNBR_FLAG_W,DATE,TIME,LATITUDE,LONGITUDE,DEPTH,CTDPRS,CTDTMP,CTDSAL,CTDSAL_FLAG_W,SALNTY,SALNTY_FLAG_W,CTDOXY,CTDOXY_FLAG_W,OXYGEN,OXYGEN_FLAG_W,SILCAT,SILCAT_FLAG_W,NITRAT,NITRAT_FLAG_W,NITRIT,NITRIT_FLAG_W,PHSPHT,PHSPHT_FLAG_W,CFC-11,CFC-11_FLAG_W,CFC-12,CFC-12_FLAG_W,SF6,SF6_FLAG_W,TCARBN,TCARBN_FLAG_W,ALKALI,ALKALI_FLAG_W,PH_TOT,PH_TOT_FLAG_W,PH_TMP,HELIUM,HELIUM_FLAG_W,DELHE3,DELHE3_FLAG_W,DELC13,DELC13_FLAG_W,DELC14,DELC14_FLAG_W,C14ERR,POC,POC_FLAG_W,PON,PON_FLAG_W,CHLORA,CHLORA_FLAG_W,PPHYTN,PPHYTN_FLAG_W,THETA,DELHER
,,,,,,,,,,,METERS,DBAR,ITS-90,PSS-78,,PSS-78,,UMOL/KG,,UMOL/KG,,UMOL/KG,,UMOL/KG,,UMOL/KG,,UMOL/KG,,PMOL/KG,,PMOL/KG,,FMOL/KG,,UMOL/KG,,UMOL/KG,,,,DEG C,NMOL/KG,,PERCNT,,/MILLE,,/MILLE,,/MILLE,UG/KG,,UG/KG,,UG/KG,,UG/KG,,DEG C,PERCNT
096U20160426,       P15S,      23,          1,         36,       2036,2,20160515,       0156,   -55.9861,  -170.0183,       5121,     7.0,   4.0420,  33.9110,2,  33.9144,2,    313.2,2,   311.0,2,    6.36,2,   23.52,2,    0.24,2,    1.67,2,   4.427,3,   2.550,2,   2.928,2,  2133.8,2,  2268.4,2,-999.0000,9,  -999.00,-999.0000,9, -999.00,9, -999.00,9,  -999.0,9,  -999.0, -999.00,9, -999.00,9,    0.35,2,    0.04,3,   4.0415, -999.00
096U20160426,       P15S,      23,          1,         35,       2035,2,20160515,       0156,   -55.9861,  -170.0183,       5121,    35.0,   4.0360,  33.9160,2,  33.9166,2,    312.9,2,   310.9,2,    6.38,2,   23.54,2,    0.24,2,    1.68,2,-999.000,9,-999.000,9,-999.000,9,  2135.0,2,  2267.9,2,-999.0000,9,  -999.00,-999.0000,9, -999.00,9, -999.00,9,  -999.0,9,  -999.0, -999.00,9, -999.00,9,    0.50,2,   -0.05,3,   4.0336, -999.00
096U20160426,       P15S,      23,          1,         34,       2034,2,20160515,       0156,   -55.9861,  -170.0183,       5121,    59.2,   4.0180,  33.9170,2,  33.9182,2,    312.8,2,   310.9,2,    6.55,2,   23.59,2,    0.24,2,    1.68,2,   4.492,3,   2.559,2,   2.965,2,  2135.3,2,  2269.4,2,-999.0000,9,  -999.00,-999.0000,9, -999.00,9, -999.00,9,  -999.0,9,  -999.0, -999.00,9, -999.00,9, -999.00,9, -999.00,9,   4.0140, -999.00
096U20160426,       P15S,      23,          1,         33,       2033,2,20160515,       0156,   -55.9861,  -170.0183,       5121,    85.1,   3.9710,  33.9190,2,  33.9206,2,    312.5,2,   310.9,2,    6.84,2,   23.74,2,    0.23,2,    1.69,2,   4.593,3,   2.568,2,    2.92,2,  2137.0,2,  2271.8,2,-999.0000,9,  -999.00,-999.0000,9, -999.00,9, -999.00,9,  -999.0,9,  -999.0, -999.00,9, -999.00,9,    0.52,2,   -0.07,3,   3.9653, -999.00
096U20160426,       P15S,      23,          1,         32,       2032,2,20160515,       0156,   -55.9861,  -170.0183,       5121,   115.0,   3.9280,  33.9220,2,  33.9225,2,    312.5,2,   311.0,2,    7.14,2,   23.84,2,    0.23,2,    1.70,2,   4.461,3,   2.567,6,   2.984,6,  2137.4,6,  2269.9,6,-999.0000,9,  -999.00,-999.0000,9, -999.00,9, -999.00,9,  -999.0,9,  -999.0, -999.00,9, -999.00,9,    0.27,2,    0.05,3,   3.9203, -999.00
096U20160426,       P15S,      23,          1,         31,       2031,2,20160515,       0156,   -55.9861,  -170.0183,       5121,   164.4,   3.8740,  33.9270,2,  33.9297,2,    312.6,2,   310.5,2,    7.60,2,   24.05,2,    0.22,2,    1.71,2,   4.615,3,   2.563,2,   2.937,2,  2139.0,2,  2271.0,2,-999.0000,9,  -999.00,-999.0000,9, -999.00,9, -999.00,9,  -999.0,9,  -999.0, -999.00,9, -999.00,9,    0.12,2,    0.06,3,   3.8629, -999.00
096U20160426,       P15S,      23,          1,         30,       2030,2,20160515,       0156,   -55.9861,  -170.0183,       5121,   214.0,   3.4410,  34.0430,2,  34.0444,2,    290.3,2,   288.4,2,   15.63,2,   26.88,2,    0.01,4,    1.86,2,   4.332,3,   2.463,2,   2.585,2,  2158.7,2,  2275.6,2,-999.0000,9,  -999.00,-999.0000,9, -999.00,9, -999.00,9,  -999.0,9,  -999.0, -999.00,9, -999.00,9, -999.00,9, -999.00,9,   3.4272, -999.00
096U20160426,       P15S,      23,          1,         29,       2029,2,20160515,       0156,   -55.9861,  -170.0183,       5121,   264.3,   3.1950,  34.0570,2,  34.0583,2,    282.9,2,   280.9,2,   18.74,2,   27.87,2,    0.01,4,    1.93,2,   4.292,3,   2.380,2,   2.371,2,  2166.5,2,  2278.8,2,-999.0000,9,  -999.00,-999.0000,9, -999.00,9, -999.00,9,  -999.0,9,  -999.0, -999.00,9, -999.00,9, -999.00,9, -999.00,9,   3.1784, -999.00
096U20160426,       P15S,      23,          1,         28,       2028,2,20160515,       0156,   -55.9861,  -170.0183,       5121,   314.2,   3.0410,  34.0790,2,  34.0801,2,    274.1,2,   272.8,2,   21.81,2,   28.71,2,    0.00,4,    1.98,2,   4.064,3,   2.282,2,   2.214,2,  2172.4,2,  2280.6,2,-999.0000,9,  -999.00,-999.0000,9, -999.00,9, -999.00,9,  -999.0,9,  -999.0, -999.00,9, -999.00,9, -999.00,9, -999.00,9,   3.0215, -999.00
096U20160426,       P15S,      23,          1,         27,       2027,2,20160515,       0156,   -55.9861,  -170.0183,       5121,   364.2,   3.1240,  34.1210,2,  34.1222,2,    260.5,2,   259.1,2,   24.80,2,   29.46,2,    0.00,4,    2.03,2,   3.935,3,   2.099,2,   1.908,2,  2180.0,2,  2283.4,2,-999.0000,9,  -999.00,-999.0000,9, -999.00,9, -999.00,9,  -999.0,9,  -999.0, -999.00,9, -999.00,9, -999.00,9, -999.00,9,   3.1010, -999.00
096U20160426,       P15S,      23,          1,         26,       2026,2,20160515,       0156,   -55.9861,  -170.0183,       5121,   435.6,   3.3320,  34.2060,2,  34.2072,2,    234.8,2,   232.1,2,   31.59,2,   31.00,2,    0.00,4,    2.14,2,   3.218,3,   1.737,2,   1.351,2,  2196.2,2,  2288.9,6,-999.0000,9,  -999.00,-999.0000,9, -999.00,9, -999.00,9,  -999.0,9,  -999.0, -999.00,9, -999.00,9, -999.00,9, -999.00,9,   3.3034, -999.00
096U20160426,       P15S,      23,          1,         25,       2025,2,20160515,       0156,   -55.9861,  -170.0183,       5121,   535.2,   3.0720,  34.2690,2,  34.2692,2,    216.8,2,   215.6,2,   40.61,2,   32.53,2,    0.00,4,    2.25,2,   2.696,3,   1.422,2,   0.985,2,  2212.0,2,  2296.9,2,-999.0000,9,  -999.00,-999.0000,9, -999.00,9, -999.00,9,  -999.0,9,  -999.0, -999.00,9, -999.00,9, -999.00,9, -999.00,9,   3.0375, -999.00
096U20160426,       P15S,      23,          1,         24,       2024,2,20160515,       0156,   -55.9861,  -170.0183,       5121,   634.5,   2.9490,  34.3470,2,  34.3509,2,    199.7,2,   197.0,2,   50.00,2,   33.64,2,    0.00,4,    2.33,2,   2.061,3,   1.041,2,   0.699,2,  2226.6,2,  2305.2,2,-999.0000,9,  -999.00,-999.0000,9, -999.00,9, -999.00,9,  -999.0,9,  -999.0, -999.00,9, -999.00,9, -999.00,9, -999.00,9,   2.9082, -999.00
096U20160426,       P15S,      23,          1,         23,       2023,2,20160515,       0156,   -55.9861,  -170.0183,       5121,   734.6,   2.7980,  34.4120,2,  34.4100,2,    187.8,2,   186.3,2,   57.05,2,   34.17,2,    0.00,4,    2.38,2,   1.584,3,   0.794,2,   0.454,2,  2237.6,2,  2318.9,2,-999.0000,9,  -999.00,-999.0000,9, -999.00,9, -999.00,9,  -999.0,9,  -999.0, -999.00,9, -999.00,9, -999.00,9, -999.00,9,   2.7509, -999.00
096U20160426,       P15S,      23,          1,         22,       2022,2,20160515,       0156,   -55.9861,  -170.0183,       5121,   833.9,   2.6980,  34.4640,2,  34.4657,2,    181.8,2,   179.5,2,   62.95,2,   34.31,2,    0.00,4,    2.39,2,   1.207,3,   0.597,2,   0.378,2,  2243.6,2,  2325.0,2,-999.0000,9,  -999.00,-999.0000,9, -999.00,9, -999.00,9,  -999.0,9,  -999.0, -999.00,9, -999.00,9, -999.00,9, -999.00,9,   2.6445, -999.00
096U20160426,       P15S,      23,          1,         21,       2021,2,20160515,       0156,   -55.9861,  -170.0183,       5121,   934.7,   2.5670,  34.5180,2,  34.5185,2,    176.9,2,   174.8,2,   68.17,2,   34.32,2,    0.00,4,    2.39,2,   0.927,3,   0.465,2,   0.255,2,  2250.5,2,  2330.1,2,-999.0000,9,  -999.00,-999.0000,9, -999.00,9, -999.00,9,  -999.0,9,  -999.0, -999.00,9, -999.00,9, -999.00,9, -999.00,9,   2.5072, -999.00
096U20160426,       P15S,      23,          1,         20,       2020,2,20160515,       0156,   -55.9861,  -170.0183,       5121,  1035.7,   2.5080,  34.5650,2,  34.5663,2,    175.4,2,   173.3,2,   71.48,2,   33.95,2,    0.00,4,    2.37,2,   0.691,3,   0.341,2,   0.257,2,  2253.0,2,  2333.7,2,-999.0000,9,  -999.00,-999.0000,9, -999.00,9, -999.00,9,  -999.0,9,  -999.0, -999.00,9, -999.00,9, -999.00,9, -999.00,9,   2.4413, -999.00
096U20160426,       P15S,      23,          1,         19,       2019,2,20160515,       0156,   -55.9861,  -170.0183,       5121,  1134.4,   2.4500,  34.6020,2,  34.6035,2,    175.4,2,   173.8,2,   74.00,2,   33.58,2,    0.00,4,    2.34,2,   0.540,3,   0.271,2,   0.219,2,  2252.1,2,  2337.9,2,-999.0000,9,  -999.00,-999.0000,9, -999.00,9, -999.00,9,  -999.0,9,  -999.0, -999.00,9, -999.00,9, -999.00,9, -999.00,9,   2.3765, -999.00
096U20160426,       P15S,      23,          1,         18,       2018,2,20160515,       0156,   -55.9861,  -170.0183,       5121,  1234.4,   2.3940,  34.6330,2,  34.6341,2,    176.4,2,   175.1,2,   76.07,2,   33.14,2,    0.00,4,    2.31,2,   0.427,3,   0.213,2,   0.131,2,  2254.1,2,  2339.2,2,-999.0000,9,  -999.00,-999.0000,9, -999.00,9, -999.00,9,  -999.0,9,  -999.0, -999.00,9, -999.00,9, -999.00,9, -999.00,9,   2.3135, -999.00
096U20160426,       P15S,      23,          1,         17,       2017,2,20160515,       0156,   -55.9861,  -170.0183,       5121,  1334.7,   2.3300,  34.6620,2,  34.6624,2,    178.1,2,   177.1,2,   77.83,2,   32.64,2,    0.00,4,    2.27,2,-999.000,9,-999.000,9,-999.000,9,  2254.1,2,  2340.5,2,-999.0000,9,  -999.00,-999.0000,9, -999.00,9, -999.00,9,  -999.0,9,  -999.0, -999.00,9, -999.00,9, -999.00,9, -999.00,9,   2.2425, -999.00
096U20160426,       P15S,      23,          1,         16,       2016,2,20160515,       0156,   -55.9861,  -170.0183,       5121,  1464.5,   2.2460,  34.6910,2,  34.6912,2,    181.3,2,   180.7,2,   80.19,2,   32.05,2,    0.00,4,    2.23,2,   0.260,3,   0.131,2,   0.081,2,  2253.5,2,  2345.2,2,-999.0000,9,  -999.00,-999.0000,9, -999.00,9, -999.00,9,  -999.0,9,  -999.0, -999.00,9, -999.00,9, -999.00,9, -999.00,9,   2.1493, -999.00
096U20160426,       P15S,      23,          1,         15,       2015,2,20160515,       0156,   -55.9861,  -170.0183,       5121,  1665.4,   2.1560,  34.7120,2,  34.7123,2,    184.1,2,   184.0,2,   82.55,2,   31.58,2,    0.00,4,    2.20,2,   0.208,3,   0.105,2,   0.065,2,  2254.0,6,  2347.6,6,-999.0000,9,  -999.00,-999.0000,9, -999.00,9, -999.00,9,  -999.0,9,  -999.0, -999.00,9, -999.00,9, -999.00,9, -999.00,9,   2.0445, -999.00
096U20160426,       P15S,      23,          1,         14,       2014,2,20160515,       0156,   -55.9861,  -170.0183,       5121,  1864.9,   2.0240,  34.7300,2,  34.7289,2,    188.0,2,   188.0,2,   86.15,2,   31.22,2,    0.00,4,    2.18,2,   0.167,3,   0.083,2,   0.073,2,  2253.0,2,  2350.8,2,-999.0000,9,  -999.00,-999.0000,9, -999.00,9, -999.00,9,  -999.0,9,  -999.0, -999.00,9, -999.00,9, -999.00,9, -999.00,9,   1.8981, -999.00
096U20160426,       P15S,      23,          1,         13,       2013,2,20160515,       0156,   -55.9861,  -170.0183,       5121,  2084.1,   1.8510,  34.7380,2,  34.7377,2,    191.7,2,   192.7,2,   90.94,2,   31.04,2,    0.00,4,    2.16,2,   0.140,3,   0.069,2,   0.075,2,  2253.1,2,  2352.5,2,-999.0000,9,  -999.00,-999.0000,9, -999.00,9, -999.00,9,  -999.0,9,  -999.0, -999.00,9, -999.00,9, -999.00,9, -999.00,9,   1.7094, -999.00
096U20160426,       P15S,      23,          1,         12,       2012,2,20160515,       0156,   -55.9861,  -170.0183,       5121,  2335.9,   1.6430,  34.7370,2,  34.7372,2,    194.8,2,   196.0,2,   96.80,2,   31.11,2,    0.00,4,    2.17,2,   0.128,3,   0.065,2,       0,2,  2256.2,2,  2357.0,2,-999.0000,9,  -999.00,-999.0000,9, -999.00,9, -999.00,9,  -999.0,9,  -999.0, -999.00,9, -999.00,9, -999.00,9, -999.00,9,   1.4834, -999.00
096U20160426,       P15S,      23,          1,         11,       2011,2,20160515,       0156,   -55.9861,  -170.0183,       5121,  2584.7,   1.4390,  34.7320,2,  34.7324,2,    197.4,2,   198.5,2,  102.93,2,   31.32,2,    0.00,4,    2.19,2,   0.130,3,   0.065,2,   0.046,2,  2258.2,2,  2360.0,6,-999.0000,9,  -999.00,-999.0000,9, -999.00,9, -999.00,9,  -999.0,9,  -999.0, -999.00,9, -999.00,9, -999.00,9, -999.00,9,   1.2614, -999.00
096U20160426,       P15S,      23,          1,         10,       2010,2,20160515,       0156,   -55.9861,  -170.0183,       5121,  2836.2,   1.3050,  34.7270,2,  34.7264,2,    199.3,2,   200.5,2,  107.27,2,   31.54,2,    0.00,4,    2.20,2,   0.141,3,   0.070,2,       0,2,  2260.1,2,  2362.7,2,-999.0000,9,  -999.00,-999.0000,9, -999.00,9, -999.00,9,  -999.0,9,  -999.0, -999.00,9, -999.00,9, -999.00,9, -999.00,9,   1.1074, -999.00
096U20160426,       P15S,      23,          1,          9,       2009,2,20160515,       0156,   -55.9861,  -170.0183,       5121,  3099.3,   1.1690,  34.7210,2,  34.7208,2,    201.4,2,   203.0,2,  111.40,2,   31.70,2,    0.00,4,    2.22,2,   0.159,3,   0.077,2,   0.059,2,  2261.1,2,  2363.0,2,-999.0000,9,  -999.00,-999.0000,9, -999.00,9, -999.00,9,  -999.0,9,  -999.0, -999.00,9, -999.00,9, -999.00,9, -999.00,9,   0.9499, -999.00
096U20160426,       P15S,      23,          1,          8,       2008,2,20160515,       0156,   -55.9861,  -170.0183,       5121,  3401.6,   1.0560,  34.7150,2,  34.7159,2,    204.0,2,   205.4,2,  115.13,2,   31.82,2,    0.00,4,    2.23,2,   0.191,3,   0.092,2,   0.062,2,  2261.3,2,  2361.5,2,-999.0000,9,  -999.00,-999.0000,9, -999.00,9, -999.00,9,  -999.0,9,  -999.0, -999.00,9, -999.00,9, -999.00,9, -999.00,9,   0.8105, -999.00
096U20160426,       P15S,      23,          1,          7,       2007,2,20160515,       0156,   -55.9861,  -170.0183,       5121,  3700.4,   0.9670,  34.7100,2,  34.7122,2,    206.0,2,   206.8,2,  118.10,2,   31.96,2,    0.00,4,    2.24,2,   0.217,3,   0.105,2,   0.073,2,  2260.6,2,  2365.0,2,-999.0000,9,  -999.00,-999.0000,9, -999.00,9, -999.00,9,  -999.0,9,  -999.0, -999.00,9, -999.00,9, -999.00,9, -999.00,9,   0.6940, -999.00
096U20160426,       P15S,      23,          1,          6,       2006,2,20160515,       0156,   -55.9861,  -170.0183,       5121,  4000.3,   0.9170,  34.7070,2,  34.7067,2,    207.5,2,   208.1,2,  120.81,2,   32.08,2,    0.00,4,    2.24,2,   0.232,3,   0.114,2,   0.068,2,  2262.4,2,  2364.5,6,-999.0000,9,  -999.00,-999.0000,9, -999.00,9, -999.00,9,  -999.0,9,  -999.0, -999.00,9, -999.00,9, -999.00,9, -999.00,9,   0.6144, -999.00
096U20160426,       P15S,      23,          1,          5,       2005,2,20160515,       0156,   -55.9861,  -170.0183,       5121,  4299.1,   0.9050,  34.7050,2,  34.7050,2,    208.5,2,   208.3,2,  122.39,2,   32.16,2,    0.00,4,    2.25,2,   0.252,3,   0.124,6,   0.066,6,  2263.6,2,  2363.2,2,-999.0000,9,  -999.00,-999.0000,9, -999.00,9, -999.00,9,  -999.0,9,  -999.0, -999.00,9, -999.00,9, -999.00,9, -999.00,9,   0.5706, -999.00
096U20160426,       P15S,      23,          1,          4,       2004,2,20160515,       0156,   -55.9861,  -170.0183,       5121,  4600.1,   0.9230,  34.7040,2,  34.7044,2,    209.4,2,   209.1,2,  123.25,2,   32.18,2,    0.00,4,    2.25,2,   0.263,3,   0.129,2,   0.039,2,  2263.8,2,  2365.8,2,-999.0000,9,  -999.00,-999.0000,9, -999.00,9, -999.00,9,  -999.0,9,  -999.0, -999.00,9, -999.00,9, -999.00,9, -999.00,9,   0.5545, -999.00
096U20160426,       P15S,      23,          1,          3,       2003,2,20160515,       0156,   -55.9861,  -170.0183,       5121,  4850.0,   0.9460,  34.7030,2,  34.7041,2,    209.8,2,   208.8,2,  123.45,2,   32.18,2,    0.00,4,    2.24,2,   0.281,3,   0.137,2,    0.04,2,  2263.7,2,  2365.4,2,-999.0000,9,  -999.00,-999.0000,9, -999.00,9, -999.00,9,  -999.0,9,  -999.0, -999.00,9, -999.00,9, -999.00,9, -999.00,9,   0.5480, -999.00
096U20160426,       P15S,      23,          1,          2,       2002,2,20160515,       0156,   -55.9861,  -170.0183,       5121,  5050.9,   0.9710,  34.7030,2,  34.7053,2,    210.2,2,   209.1,2,  123.62,2,   32.17,2,    0.00,4,    2.25,2,   0.279,3,   0.137,2,   0.072,2,  2264.4,2,  2363.5,2,-999.0000,9,  -999.00,-999.0000,9, -999.00,9, -999.00,9,  -999.0,9,  -999.0, -999.00,9, -999.00,9, -999.00,9, -999.00,9,   0.5484, -999.00
096U20160426,       P15S,      23,          1,          1,       2001,2,20160515,       0156,   -55.9861,  -170.0183,       5121,  5193.1,   0.9890,  34.7030,2,  34.7045,2,    210.3,2,   208.8,2,  123.23,2,   32.15,2,    0.00,4,    2.25,2,   0.280,3,   0.137,2,   0.099,2,  2263.6,6,  2364.9,6,-999.0000,9,  -999.00,-999.0000,9, -999.00,9, -999.00,9,  -999.0,9,  -999.0, -999.00,9, -999.00,9, -999.00,9, -999.00,9,   0.5487, -999.00