BOTTLE,20230413CCHSIOENA
EXPOCODE,SECT_ID,STNNBR,CASTNO,SAMPNO,BTLNBR,BTLNBR_FLAG_W,DATE,TIME,LATITUDE,LONGITUDE,DEPTH,CTDPRS,CTDTMP,CTDSAL,CTDSAL_FLAG_W,SALNTY,SALNTY_FLAG_W,CTDOXY,CTDOXY_FLAG_W,OXYGEN,OXYGEN_FLAG_W,SILCAT,SILCAT_FLAG_W,NITRAT,NITRAT_FLAG_W,NITRIT,NITRIT_FLAG_W,PHSPHT,PHSPHT_FLAG_W,CFC-11,CFC-11_FLAG_W,CFC-12,CFC-12_FLAG_W,SF6,SF6_FLAG_W,TCARBN,TCARBN_FLAG_W,ALKALI,ALKALI_FLAG_W,PH_TOT,PH_TOT_FLAG_W,PH_TMP,HELIUM,HELIUM_FLAG_W,DELHE3,DELHE3_FLAG_W,DELC13,DELC13_FLAG_W,DELC14,DELC14_FLAG_W,C14ERR,POC,POC_FLAG_W,PON,PON_FLAG_W,CHLORA,CHLORA_FLAG_W,PPHYTN,PPHYTN_FLAG_W,THETA,DELHER
,,,,,,,,,,,METERS,DBAR,ITS-90,PSS-78,,PSS-78,,UMOL/KG,,UMOL/KG,,UMOL/KG,,UMOL/KG,,UMOL/KG,,UMOL/KG,,PMOL/KG,,PMOL/KG,,FMOL/KG,,UMOL/KG,,UMOL/KG,,,,DEG C,NMOL/KG,,PERCNT,,/MILLE,,/MILLE,,/MILLE,UG/KG,,UG/KG,,UG/KG,,UG/KG,,DEG C,PERCNT
096U20160426,       P15S,      78,          1,         36,       2036,2,20160605,       1356,   -30.5042,  -169.9937,       5567,     5.7,  21.4140,  35.8750,2,  35.8744,2,    219.3,2,   219.7,2,    0.14,4,    0.02,4,    0.00,4,    0.04,2,   1.922,2,   1.178,2,   1.507,2,  2044.2,2,  2352.9,2,-999.0000,9,  -999.00,-999.0000,9, -999.00,9,    1.11,2,    31.9,2,     2.0, -999.00,9, -999.00,9,    0.28,2,    0.04,3,  21.4129, -999.00
096U20160426,       P15S,      78,          1,         35,       2035,2,20160605,       1356,   -30.5042,  -169.9937,       5567,    19.9,  21.4240,  35.8740,2,  35.8679,2,    219.2,2,   220.1,2,    0.15,4,    0.01,4,    0.00,4,    0.04,2,-999.000,9,-999.000,9,-999.000,9,  -999.0,9,  -999.0,9,-999.0000,9,  -999.00,-999.0000,9, -999.00,9, -999.00,9,  -999.0,9,  -999.0, -999.00,9, -999.00,9,    0.29,2,    0.02,3,  21.4201, -999.00
096U20160426,       P15S,      78,          1,         34,       2034,2,20160605,       1356,   -30.5042,  -169.9937,       5567,    40.9,  21.4230,  35.8740,2,  35.8740,2,    219.2,2,   219.8,2,    0.15,4,    0.01,4,    0.00,4,    0.04,2,   1.926,2,   1.180,2,   1.512,2,  2043.4,6,  2352.9,6,-999.0000,9,  -999.00,-999.0000,9, -999.00,9,    1.04,2,    50.0,2,     2.0, -999.00,9, -999.00,9, -999.00,9, -999.00,9,  21.4150, -999.00
096U20160426,       P15S,      78,          1,         33,       2033,2,20160605,       1356,   -30.5042,  -169.9937,       5567,    65.4,  21.4020,  35.8830,2,  35.8828,2,    219.3,2,   219.9,2,    0.19,4,    0.01,4,    0.01,4,    0.04,2,   1.941,2,   1.183,2,   1.465,2,  2046.0,2,  2353.7,2,-999.0000,9,  -999.00,-999.0000,9, -999.00,9, -999.00,9,  -999.0,9,  -999.0, -999.00,9, -999.00,9,    0.30,2,    0.06,3,  21.3893, -999.00
096U20160426,       P15S,      78,          1,         32,       2032,2,20160605,       1356,   -30.5042,  -169.9937,       5567,   100.7,  19.0320,  35.6640,2,  35.6600,2,    222.4,2,   223.5,2,    0.46,2,    0.41,2,    0.17,2,    0.16,2,-999.000,9,-999.000,9,-999.000,9,  2064.5,2,  2339.0,2,-999.0000,9,  -999.00,-999.0000,9, -999.00,9,    0.90,2,    47.0,2,     2.0, -999.00,9, -999.00,9,    0.53,2,    0.14,3,  19.0140, -999.00
096U20160426,       P15S,      78,          1,         31,       2031,2,20160605,       1356,   -30.5042,  -169.9937,       5567,   136.2,  16.9230,  35.5400,2,  35.5395,2,    216.9,2,   215.1,2,    0.76,2,    2.60,2,    0.07,2,    0.30,2,   2.419,2,   1.428,2,   1.622,2,  2084.2,2,  2330.9,2,-999.0000,9,  -999.00,-999.0000,9, -999.00,9,    0.84,2,    54.6,2,     2.0, -999.00,9, -999.00,9, -999.00,9, -999.00,9,  16.9005, -999.00
096U20160426,       P15S,      78,          1,         30,       2030,2,20160605,       1356,   -30.5042,  -169.9937,       5567,   184.4,  16.0280,  35.4770,2,  35.4710,2,    208.9,2,   209.3,2,    1.14,2,    4.71,2,    0.02,2,    0.42,2,   2.507,2,   1.462,2,   1.543,2,  2093.9,2,  2326.8,2,-999.0000,9,  -999.00,-999.0000,9, -999.00,9,    0.75,2,    47.4,2,     2.0, -999.00,9, -999.00,9, -999.00,9, -999.00,9,  15.9987, -999.00
096U20160426,       P15S,      78,          1,         29,       2029,2,20160605,       1356,   -30.5042,  -169.9937,       5567,   234.9,  15.3230,  35.4090,2,  35.4012,2,    208.7,2,   209.0,2,    1.53,2,    5.94,2,    0.02,4,    0.49,2,   2.568,2,   1.491,2,   1.538,2,  2100.2,2,  2323.4,2,-999.0000,9,  -999.00,-999.0000,9, -999.00,9,    0.69,2,    44.1,2,     2.0, -999.00,9, -999.00,9, -999.00,9, -999.00,9,  15.2867, -999.00
096U20160426,       P15S,      78,          1,         28,       2028,2,20160605,       1356,   -30.5042,  -169.9937,       5567,   285.4,  14.4240,  35.2950,2,  35.2923,2,    206.4,2,   206.7,2,    2.09,2,    7.71,2,    0.01,4,    0.60,2,   2.640,2,   1.519,2,   1.445,2,  2106.6,2,  2317.5,2,-999.0000,9,  -999.00,-999.0000,9, -999.00,9,    0.84,2,    38.2,2,     2.0, -999.00,9, -999.00,9, -999.00,9, -999.00,9,  14.3817, -999.00
096U20160426,       P15S,      78,          1,         27,       2027,2,20160605,       1356,   -30.5042,  -169.9937,       5567,   335.8,  13.1120,  35.0830,2,  35.1020,2,    199.8,2,   202.4,2,    2.71,2,   10.27,2,    0.01,4,    0.77,2,   2.791,2,   1.555,2,   1.319,2,  2117.0,2,  2308.8,6,-999.0000,9,  -999.00,-999.0000,9, -999.00,9,    0.81,2,    25.8,2,     2.0, -999.00,9, -999.00,9, -999.00,9, -999.00,9,  13.0653, -999.00
096U20160426,       P15S,      78,          1,         26,       2026,2,20160605,       1356,   -30.5042,  -169.9937,       5567,   375.6,  12.4510,  35.0310,2,  35.0162,2,    201.8,2,   202.5,2,    3.25,2,   11.90,2,    0.01,4,    0.86,2,   2.848,2,   1.581,2,   1.304,2,  2123.0,2,  2304.7,2,-999.0000,9,  -999.00,-999.0000,9, -999.00,9,    0.84,2,    27.3,2,     2.0, -999.00,9, -999.00,9, -999.00,9, -999.00,9,  12.4004, -999.00
096U20160426,       P15S,      78,          1,         25,       2025,2,20160605,       1356,   -30.5042,  -169.9937,       5567,   465.0,  10.3310,  34.7530,2,  34.7454,2,    204.9,2,   206.2,2,    4.36,2,   16.28,2,    0.01,4,    1.13,2,   3.123,2,   1.667,2,    1.11,2,  2135.8,2,  2294.0,2,-999.0000,9,  -999.00,-999.0000,9, -999.00,9,    0.94,2,    25.9,2,     2.0, -999.00,9, -999.00,9, -999.00,9, -999.00,9,  10.2754, -999.00
096U20160426,       P15S,      78,          1,         24,       2024,2,20160605,       1356,   -30.5042,  -169.9937,       5567,   565.5,   8.1010,  34.4860,2,  34.4797,2,    226.1,2,   227.8,2,    5.31,2,   20.04,2,    0.01,4,    1.37,2,   3.554,2,   1.833,2,   1.033,2,  2140.8,2,  2284.9,2,-999.0000,9,  -999.00,-999.0000,9, -999.00,9,    1.10,2,    11.7,2,     2.0, -999.00,9, -999.00,9, -999.00,9, -999.00,9,   8.0424, -999.00
096U20160426,       P15S,      78,          1,         23,       2023,2,20160605,       1356,   -30.5042,  -169.9937,       5567,   665.3,   7.1590,  34.3970,2,  34.3957,2,    232.7,2,   234.7,2,    6.86,2,   22.17,2,    0.01,4,    1.50,2,   3.504,2,   1.768,2,   0.884,2,  2145.9,2,  2283.0,2,-999.0000,9,  -999.00,-999.0000,9, -999.00,9,    1.17,2,    13.6,2,     2.0, -999.00,9, -999.00,9, -999.00,9, -999.00,9,   7.0944, -999.00
096U20160426,       P15S,      78,          1,         22,       2022,2,20160605,       1356,   -30.5042,  -169.9937,       5567,   765.9,   6.5680,  34.3520,2,  34.3532,2,    231.8,2,   233.8,2,    8.92,2,   23.78,2,    0.01,4,    1.61,2,   3.075,2,   1.509,2,   0.646,2,  2147.4,2,  2283.2,2,-999.0000,9,  -999.00,-999.0000,9, -999.00,9,    1.15,2,   -10.4,2,     2.0, -999.00,9, -999.00,9, -999.00,9, -999.00,9,   6.4966, -999.00
096U20160426,       P15S,      78,          1,         21,       2021,2,20160605,       1356,   -30.5042,  -169.9937,       5567,   864.2,   6.0110,  34.3290,2,  34.3279,2,    224.1,2,   225.6,2,   12.77,2,   25.83,2,    0.01,4,    1.75,2,   2.210,2,   1.082,2,   0.369,2,  2156.1,2,  2285.0,2,-999.0000,9,  -999.00,-999.0000,9, -999.00,9,    1.19,2,   -24.6,2,     2.0, -999.00,9, -999.00,9, -999.00,9, -999.00,9,   5.9335, -999.00
096U20160426,       P15S,      78,          1,         20,       2020,2,20160605,       1356,   -30.5042,  -169.9937,       5567,   964.8,   5.5000,  34.3290,2,  34.3294,2,    211.6,2,   214.0,2,   18.55,2,   27.75,2,    0.01,4,    1.88,2,   1.509,2,   0.738,2,   0.265,2,  2170.8,2,  2289.0,6,-999.0000,9,  -999.00,-999.0000,9, -999.00,9,    1.10,2,   -49.6,2,     2.0, -999.00,9, -999.00,9, -999.00,9, -999.00,9,   5.4165, -999.00
096U20160426,       P15S,      78,          1,         19,       2019,2,20160605,       1356,   -30.5042,  -169.9937,       5567,  1066.6,   4.7820,  34.3340,2,  34.3340,2,    199.2,2,   200.6,2,   27.69,2,   30.23,2,    0.01,4,    2.05,2,   0.844,2,   0.412,2,   0.092,2,  2187.5,2,  2295.6,2,-999.0000,9,  -999.00,-999.0000,9, -999.00,9,    1.02,2,   -72.3,2,     2.0, -999.00,9, -999.00,9, -999.00,9, -999.00,9,   4.6947, -999.00
096U20160426,       P15S,      78,          1,         18,       2018,2,20160605,       1356,   -30.5042,  -169.9937,       5567,  1161.5,   4.2950,  34.3560,2,  34.3556,2,    191.8,2,   192.2,2,   36.02,2,   31.62,2,    0.01,4,    2.16,2,   0.576,6,   0.287,6,   0.051,6,  2201.5,2,  2303.7,2,-999.0000,9,  -999.00,-999.0000,9, -999.00,9,    0.93,2,   -91.9,2,     2.0, -999.00,9, -999.00,9, -999.00,9, -999.00,9,   4.2034, -999.00
096U20160426,       P15S,      78,          1,         17,       2017,2,20160605,       1356,   -30.5042,  -169.9937,       5567,  1300.9,   3.4740,  34.4130,2,  34.4135,2,    178.7,2,   179.6,2,   52.04,2,   33.49,2,    0.01,4,    2.30,2,-999.000,9,-999.000,9,-999.000,9,  -999.0,9,  -999.0,9,-999.0000,9,  -999.00,-999.0000,9, -999.00,9, -999.00,9,  -999.0,9,  -999.0, -999.00,9, -999.00,9, -999.00,9, -999.00,9,   3.3781, -999.00
096U20160426,       P15S,      78,          1,         16,       2016,2,20160605,       1356,   -30.5042,  -169.9937,       5567,  1441.2,   2.9860,  34.4970,2,  34.4983,2,    166.5,2,   167.2,2,   69.98,2,   34.34,2,    0.01,4,    2.37,2,   0.066,2,   0.038,2,       0,2,  2250.1,6,  2338.7,6,-999.0000,9,  -999.00,-999.0000,9, -999.00,9,    0.59,2,  -153.1,2,     2.0, -999.00,9, -999.00,9, -999.00,9, -999.00,9,   2.8834, -999.00
096U20160426,       P15S,      78,          1,         15,       2015,2,20160605,       1356,   -30.5042,  -169.9937,       5567,  1635.8,   2.6800,  34.5610,2,  34.5623,2,    158.2,2,   158.6,2,   86.28,2,   34.82,2,    0.01,4,    2.41,2,   0.015,2,   0.009,2,       0,2,  2269.8,2,  2360.4,2,-999.0000,9,  -999.00,-999.0000,9, -999.00,9,    0.45,2,  -178.0,2,     2.0, -999.00,9, -999.00,9, -999.00,9, -999.00,9,   2.5647, -999.00
096U20160426,       P15S,      78,          1,         14,       2014,2,20160605,       1356,   -30.5042,  -169.9937,       5567,  1826.3,   2.4530,  34.6030,2,  34.6043,2,    151.9,2,   152.1,2,  100.48,2,   35.21,2,    0.01,4,    2.45,2,   0.006,2,   0.004,2,       0,2,  2287.8,2,  2377.3,2,-999.0000,9,  -999.00,-999.0000,9, -999.00,9,    0.36,2,  -195.2,2,     2.0, -999.00,9, -999.00,9, -999.00,9, -999.00,9,   2.3246, -999.00
096U20160426,       P15S,      78,          1,         13,       2013,2,20160605,       1356,   -30.5042,  -169.9937,       5567,  2065.7,   2.2550,  34.6280,2,  34.6268,2,    148.3,2,   148.7,2,  110.39,2,   35.53,2,    0.01,4,    2.48,2,   0.004,2,   0.004,2,       0,2,  2297.1,2,  2390.4,2,-999.0000,9,  -999.00,-999.0000,9, -999.00,9,    0.28,2,  -211.9,2,     2.0, -999.00,9, -999.00,9, -999.00,9, -999.00,9,   2.1090, -999.00
096U20160426,       P15S,      78,          1,         12,       2012,2,20160605,       1356,   -30.5042,  -169.9937,       5567,  2315.4,   2.1070,  34.6420,2,  34.6416,2,    146.8,2,   147.5,2,  117.61,2,   35.75,2,    0.01,4,    2.50,2,-999.000,9,-999.000,9,-999.000,9,  2308.2,2,  2395.0,2,-999.0000,9,  -999.00,-999.0000,9, -999.00,9,    0.15,3,  -219.5,2,     2.0, -999.00,9, -999.00,9, -999.00,9, -999.00,9,   1.9415, -999.00
096U20160426,       P15S,      78,          1,         11,       2011,2,20160605,       1356,   -30.5042,  -169.9937,       5567,  2566.2,   1.9810,  34.6540,2,  34.6533,2,    146.8,2,   147.8,2,  122.45,2,   35.84,2,    0.01,4,    2.50,2,   0.003,2,   0.000,2,       0,2,  2310.3,2,  2400.3,2,-999.0000,9,  -999.00,-999.0000,9, -999.00,9,    0.24,2,  -217.4,2,     2.0, -999.00,9, -999.00,9, -999.00,9, -999.00,9,   1.7950, -999.00
096U20160426,       P15S,      78,          1,         10,       2010,2,20160605,       1356,   -30.5042,  -169.9937,       5567,  2816.9,   1.8810,  34.6640,2,  34.6628,2,    149.1,2,   149.7,2,  125.13,2,   35.68,2,    0.01,4,    2.49,2,-999.000,9,-999.000,9,-999.000,9,  2312.5,2,  2403.6,2,-999.0000,9,  -999.00,-999.0000,9, -999.00,9,    0.23,2,  -217.8,2,     2.0, -999.00,9, -999.00,9, -999.00,9, -999.00,9,   1.6735, -999.00
096U20160426,       P15S,      78,          1,          9,       2009,2,20160605,       1356,   -30.5042,  -169.9937,       5567,  3081.8,   1.7690,  34.6780,2,  34.6768,2,    156.0,2,   157.0,2,  124.03,2,   35.06,2,    0.01,4,    2.44,2,   0.006,2,   0.005,2,   0.037,3,  2304.6,2,  2398.9,2,-999.0000,9,  -999.00,-999.0000,9, -999.00,9,    0.26,2,  -213.4,2,     2.0, -999.00,9, -999.00,9, -999.00,9, -999.00,9,   1.5383, -999.00
096U20160426,       P15S,      78,          1,          8,       2008,2,20160605,       1356,   -30.5042,  -169.9937,       5567,  3366.1,   1.6430,  34.7010,2,  34.7004,2,    173.4,2,   175.4,2,  114.34,2,   33.43,2,    0.01,4,    2.31,2,   0.017,6,   0.010,6,       0,6,  2285.7,2,  2382.7,2,-999.0000,9,  -999.00,-999.0000,9, -999.00,9,    0.32,2,  -188.7,2,     2.0, -999.00,9, -999.00,9, -999.00,9, -999.00,9,   1.3868, -999.00
096U20160426,       P15S,      78,          1,          7,       2007,2,20160605,       1356,   -30.5042,  -169.9937,       5567,  3700.1,   1.4300,  34.7180,2,  34.7180,2,    191.2,2,   193.9,2,  108.92,2,   32.03,2,    0.01,4,    2.20,2,-999.000,9,-999.000,9,-999.000,9,  -999.0,9,  -999.0,9,-999.0000,9,  -999.00,-999.0000,9, -999.00,9, -999.00,9,  -999.0,9,  -999.0, -999.00,9, -999.00,9, -999.00,9, -999.00,9,   1.1447, -999.00
096U20160426,       P15S,      78,          1,          6,       2006,2,20160605,       1356,   -30.5042,  -169.9937,       5567,  4090.2,   1.1860,  34.7160,2,  34.7159,2,    200.0,2,   202.3,2,  112.78,2,   31.91,2,    0.01,4,    2.19,2,   0.060,2,   0.033,2,   0.007,2,  2261.9,2,  2365.3,2,-999.0000,9,  -999.00,-999.0000,9, -999.00,9,    0.41,2,  -164.0,2,     2.0, -999.00,9, -999.00,9, -999.00,9, -999.00,9,   0.8660, -999.00
096U20160426,       P15S,      78,          1,          5,       2005,2,20160605,       1356,   -30.5042,  -169.9937,       5567,  4496.1,   1.0570,  34.7110,2,  34.7108,2,    203.7,2,   205.2,2,  117.35,2,   32.08,2,    0.01,4,    2.20,2,-999.000,9,-999.000,9,-999.000,9,  -999.0,9,  -999.0,9,-999.0000,9,  -999.00,-999.0000,9, -999.00,9, -999.00,9,  -999.0,9,  -999.0, -999.00,9, -999.00,9, -999.00,9, -999.00,9,   0.6960, -999.00
096U20160426,       P15S,      78,          1,          4,       2004,2,20160605,       1356,   -30.5042,  -169.9937,       5567,  4894.5,   1.0450,  34.7090,2,  34.7081,2,    205.4,2,   206.1,2,  119.03,2,   32.18,2,    0.01,4,    2.21,2,   0.101,2,   0.054,2,       0,2,  2262.7,2,  2365.8,2,-999.0000,9,  -999.00,-999.0000,9, -999.00,9,    0.39,2,  -160.6,2,     2.0, -999.00,9, -999.00,9, -999.00,9, -999.00,9,   0.6385, -999.00
096U20160426,       P15S,      78,          1,          3,       2003,2,20160605,       1356,   -30.5042,  -169.9937,       5567,  5296.3,   1.0810,  34.7080,2,  34.7079,2,    206.1,2,   205.9,2,  119.46,2,   32.19,2,    0.01,4,    2.21,2,   0.097,2,   0.052,2,       0,2,  2263.7,2,  2367.7,2,-999.0000,9,  -999.00,-999.0000,9, -999.00,9,    0.42,2,  -161.6,2,     2.0, -999.00,9, -999.00,9, -999.00,9, -999.00,9,   0.6248, -999.00
096U20160426,       P15S,      78,          1,          2,       2002,2,20160605,       1356,   -30.5042,  -169.9937,       5567,  5451.4,   1.1010,  34.7080,2,  34.7077,2,    206.1,2,   205.7,2,  119.65,2,   32.20,2,    0.01,4,    2.21,2,   0.098,2,   0.052,2,   0.015,2,  2263.7,6,  2368.2,6,-999.0000,9,  -999.00,-999.0000,9, -999.00,9,    0.42,2,  -166.4,2,     2.0, -999.00,9, -999.00,9, -999.00,9, -999.00,9,   0.6249, -999.00
096U20160426,       P15S,      78,          1,          1,       2001,2,20160605,       1356,   -30.5042,  -169.9937,       5567,  5642.4,   1.1260,  34.7080,2,  34.7077,2,    206.4,2,   205.8,2,  119.66,2,   32.20,2,    0.01,4,    2.21,2,   0.098,2,   0.053,2,       0,2,  2263.0,2,  2366.9,2,-999.0000,9,  -999.00,-999.0000,9, -999.00,9,    0.34,2,  -166.5,2,     2.0, -999.00,9, -999.00,9, -999.00,9, -999.00,9,   0.6248, -999.00