BOTTLE,20230413CCHSIOENA
EXPOCODE,SECT_ID,STNNBR,CASTNO,SAMPNO,BTLNBR,BTLNBR_FLAG_W,DATE,TIME,LATITUDE,LONGITUDE,DEPTH,CTDPRS,CTDTMP,CTDSAL,CTDSAL_FLAG_W,SALNTY,SALNTY_FLAG_W,CTDOXY,CTDOXY_FLAG_W,OXYGEN,OXYGEN_FLAG_W,SILCAT,SILCAT_FLAG_W,NITRAT,NITRAT_FLAG_W,NITRIT,NITRIT_FLAG_W,PHSPHT,PHSPHT_FLAG_W,CFC-11,CFC-11_FLAG_W,CFC-12,CFC-12_FLAG_W,SF6,SF6_FLAG_W,TCARBN,TCARBN_FLAG_W,ALKALI,ALKALI_FLAG_W,PH_TOT,PH_TOT_FLAG_W,PH_TMP,HELIUM,HELIUM_FLAG_W,DELHE3,DELHE3_FLAG_W,DELC13,DELC13_FLAG_W,DELC14,DELC14_FLAG_W,C14ERR,POC,POC_FLAG_W,PON,PON_FLAG_W,CHLORA,CHLORA_FLAG_W,PPHYTN,PPHYTN_FLAG_W,THETA,DELHER
,,,,,,,,,,,METERS,DBAR,ITS-90,PSS-78,,PSS-78,,UMOL/KG,,UMOL/KG,,UMOL/KG,,UMOL/KG,,UMOL/KG,,UMOL/KG,,PMOL/KG,,PMOL/KG,,FMOL/KG,,UMOL/KG,,UMOL/KG,,,,DEG C,NMOL/KG,,PERCNT,,/MILLE,,/MILLE,,/MILLE,UG/KG,,UG/KG,,UG/KG,,UG/KG,,DEG C,PERCNT
096U20160426,       P15S,      22,          1,         36,       2036,2,20160514,       1352,   -56.4931,  -170.0081,       5074,    11.5,   3.9560,  33.9230,2,  33.9236,2,    312.8,2,   310.7,2,    6.94,2,   23.84,2,    0.23,2,    1.67,2,-999.000,9,-999.000,9,-999.000,9,  2134.8,2,  2272.9,2,-999.0000,9,  -999.00,-999.0000,9, -999.00,9, -999.00,9,  -999.0,9,  -999.0, -999.00,9, -999.00,9,    0.24,2,    0.10,3,   3.9552, -999.00
096U20160426,       P15S,      22,          1,         35,       2035,2,20160514,       1352,   -56.4931,  -170.0081,       5074,    25.7,   3.9580,  33.9230,2,  33.9234,2,    313.3,2,   310.6,2,    6.92,2,   23.82,2,    0.23,2,    1.67,2,-999.000,9,-999.000,9,-999.000,9,  -999.0,9,  -999.0,9,-999.0000,9,  -999.00,-999.0000,9, -999.00,9, -999.00,9,  -999.0,9,  -999.0, -999.00,9, -999.00,9, -999.00,9, -999.00,9,   3.9563, -999.00
096U20160426,       P15S,      22,          1,         34,       2034,2,20160514,       1352,   -56.4931,  -170.0081,       5074,    50.3,   3.9610,  33.9230,2,  33.9239,2,    312.9,2,   310.6,2,    6.95,2,   23.80,2,    0.23,2,    1.67,2,-999.000,9,-999.000,9,-999.000,9,  -999.0,9,  -999.0,9,-999.0000,9,  -999.00,   1.7757,2,   -2.16,2, -999.00,9,  -999.0,9,  -999.0, -999.00,9, -999.00,9,    0.41,2,   -0.01,3,   3.9576,    0.45
096U20160426,       P15S,      22,          1,         33,       2033,2,20160514,       1352,   -56.4931,  -170.0081,       5074,    74.0,   3.9640,  33.9230,2,  33.9232,2,    312.9,2,   310.6,2,    6.92,2,   23.82,2,    0.23,2,    1.67,2,-999.000,9,-999.000,9,-999.000,9,  -999.0,9,  -999.0,9,-999.0000,9,  -999.00,-999.0000,9, -999.00,9, -999.00,9,  -999.0,9,  -999.0, -999.00,9, -999.00,9, -999.00,9, -999.00,9,   3.9590, -999.00
096U20160426,       P15S,      22,          1,         32,       2032,2,20160514,       1352,   -56.4931,  -170.0081,       5074,   101.1,   3.9540,  33.9240,2,  33.9239,2,    312.3,2,   310.5,2,    6.96,2,   23.82,2,    0.23,2,    1.67,2,-999.000,9,-999.000,9,-999.000,9,  -999.0,9,  -999.0,9,-999.0000,9,  -999.00,-999.0000,9, -999.00,9, -999.00,9,  -999.0,9,  -999.0, -999.00,9, -999.00,9,    0.30,2,    0.09,3,   3.9472, -999.00
096U20160426,       P15S,      22,          1,         31,       2031,2,20160514,       1352,   -56.4931,  -170.0081,       5074,   149.6,   3.9480,  33.9240,2,  33.9247,2,    312.0,2,   310.3,2,    7.02,2,   23.86,2,    0.23,2,    1.68,2,-999.000,9,-999.000,9,-999.000,9,  -999.0,9,  -999.0,9,-999.0000,9,  -999.00,-999.0000,9, -999.00,9, -999.00,9,  -999.0,9,  -999.0, -999.00,9, -999.00,9,    0.31,2,    0.10,3,   3.9379, -999.00
096U20160426,       P15S,      22,          1,         30,       2030,2,20160514,       1352,   -56.4931,  -170.0081,       5074,   199.8,   3.6050,  34.0330,2,  34.0344,2,    292.7,2,   290.4,2,   13.84,2,   26.42,2,    0.02,2,    1.81,2,-999.000,9,-999.000,9,-999.000,9,  -999.0,9,  -999.0,9,-999.0000,9,  -999.00,-999.0000,9, -999.00,9, -999.00,9,  -999.0,9,  -999.0, -999.00,9, -999.00,9,    0.16,2,    0.04,3,   3.5919, -999.00
096U20160426,       P15S,      22,          1,         29,       2029,2,20160514,       1352,   -56.4931,  -170.0081,       5074,   250.5,   3.3090,  34.0510,2,  34.0534,2,    286.0,2,   283.7,2,   17.11,2,   27.44,2,    0.01,4,    1.87,2,-999.000,9,-999.000,9,-999.000,9,  -999.0,9,  -999.0,9,-999.0000,9,  -999.00,-999.0000,9, -999.00,9, -999.00,9,  -999.0,9,  -999.0, -999.00,9, -999.00,9, -999.00,9, -999.00,9,   3.2931, -999.00
096U20160426,       P15S,      22,          1,         28,       2028,2,20160514,       1352,   -56.4931,  -170.0081,       5074,   300.6,   3.2180,  34.0830,2,  34.0865,2,    273.8,2,   271.0,2,   20.89,2,   28.52,2,    0.01,4,    1.95,2,-999.000,9,-999.000,9,-999.000,9,  -999.0,9,  -999.0,9,-999.0000,9,  -999.00,-999.0000,9, -999.00,9, -999.00,9,  -999.0,9,  -999.0, -999.00,9, -999.00,9, -999.00,9, -999.00,9,   3.1989, -999.00
096U20160426,       P15S,      22,          1,         27,       2027,2,20160514,       1352,   -56.4931,  -170.0081,       5074,   347.7,   3.1520,  34.1150,2,  34.1171,2,    262.3,2,   260.3,2,   23.93,2,   29.30,2,    0.01,4,    2.00,2,-999.000,9,-999.000,9,-999.000,9,  -999.0,9,  -999.0,9,-999.0000,9,  -999.00,-999.0000,9, -999.00,9, -999.00,9,  -999.0,9,  -999.0, -999.00,9, -999.00,9, -999.00,9, -999.00,9,   3.1300, -999.00
096U20160426,       P15S,      22,          1,         26,       2026,2,20160514,       1352,   -56.4931,  -170.0081,       5074,   400.3,   3.3290,  34.1700,2,  34.1781,2,    245.2,2,   240.6,2,   28.25,2,   30.32,2,    0.00,4,    2.07,2,-999.000,9,-999.000,9,-999.000,9,  -999.0,9,  -999.0,9,-999.0000,9,  -999.00,-999.0000,9, -999.00,9, -999.00,9,  -999.0,9,  -999.0, -999.00,9, -999.00,9, -999.00,9, -999.00,9,   3.3029, -999.00
096U20160426,       P15S,      22,          1,         25,       2025,2,20160514,       1352,   -56.4931,  -170.0081,       5074,   501.0,   3.2590,  34.2670,2,  34.2674,2,    217.4,2,   214.8,2,   38.23,2,   32.22,2,    0.01,4,    2.20,2,-999.000,9,-999.000,9,-999.000,9,  -999.0,9,  -999.0,9,-999.0000,9,  -999.00,   1.8099,2,    3.01,2, -999.00,9,  -999.0,9,  -999.0, -999.00,9, -999.00,9, -999.00,9, -999.00,9,   3.2261,    0.42
096U20160426,       P15S,      22,          1,         24,       2024,2,20160514,       1352,   -56.4931,  -170.0081,       5074,   601.4,   2.9940,  34.3270,2,  34.3260,2,    204.6,2,   202.2,2,   46.67,2,   33.29,2,    0.00,4,    2.28,2,-999.000,9,-999.000,9,-999.000,9,  -999.0,9,  -999.0,9,-999.0000,9,  -999.00,-999.0000,9, -999.00,9, -999.00,9,  -999.0,9,  -999.0, -999.00,9, -999.00,9, -999.00,9, -999.00,9,   2.9553, -999.00
096U20160426,       P15S,      22,          1,         23,       2023,2,20160514,       1352,   -56.4931,  -170.0081,       5074,   700.5,   2.8470,  34.3940,2,  34.3953,2,    191.2,2,   188.4,2,   54.90,2,   34.03,2,    0.00,4,    2.34,2,-999.000,9,-999.000,9,-999.000,9,  -999.0,9,  -999.0,9,-999.0000,9,  -999.00,-999.0000,9, -999.00,9, -999.00,9,  -999.0,9,  -999.0, -999.00,9, -999.00,9, -999.00,9, -999.00,9,   2.8021, -999.00
096U20160426,       P15S,      22,          1,         22,       2022,2,20160514,       1352,   -56.4931,  -170.0081,       5074,   797.8,   2.7520,  34.4530,2,  34.4553,2,    182.8,2,   180.1,2,   61.13,2,   34.24,2,    0.00,4,    2.36,2,-999.000,9,-999.000,9,-999.000,9,  -999.0,9,  -999.0,9,-999.0000,9,  -999.00,-999.0000,9, -999.00,9, -999.00,9,  -999.0,9,  -999.0, -999.00,9, -999.00,9, -999.00,9, -999.00,9,   2.7007, -999.00
096U20160426,       P15S,      22,          1,         21,       2021,2,20160514,       1352,   -56.4931,  -170.0081,       5074,   901.1,   2.6080,  34.5100,2,  34.5058,2,    178.0,2,   175.8,2,   66.30,2,   34.32,2,    0.00,4,    2.36,2,-999.000,9,-999.000,9,-999.000,9,  -999.0,9,  -999.0,9,-999.0000,9,  -999.00,-999.0000,9, -999.00,9, -999.00,9,  -999.0,9,  -999.0, -999.00,9, -999.00,9, -999.00,9, -999.00,9,   2.5503, -999.00
096U20160426,       P15S,      22,          1,         20,       2020,2,20160514,       1352,   -56.4931,  -170.0081,       5074,   999.4,   2.5310,  34.5600,2,  34.5585,2,    175.6,2,   173.5,2,   70.54,2,   33.99,2,    0.00,4,    2.34,2,-999.000,9,-999.000,9,-999.000,9,  -999.0,9,  -999.0,9,-999.0000,9,  -999.00,   1.8351,2,    9.14,2, -999.00,9,  -999.0,9,  -999.0, -999.00,9, -999.00,9, -999.00,9, -999.00,9,   2.4667,    0.41
096U20160426,       P15S,      22,          1,         19,       2019,2,20160514,       1352,   -56.4931,  -170.0081,       5074,  1101.6,   2.4570,  34.5990,2,  34.5992,2,    175.5,2,   173.6,2,   73.24,2,   33.57,2,    0.00,4,    2.31,2,-999.000,9,-999.000,9,-999.000,9,  -999.0,9,  -999.0,9,-999.0000,9,  -999.00,-999.0000,9, -999.00,9, -999.00,9,  -999.0,9,  -999.0, -999.00,9, -999.00,9, -999.00,9, -999.00,9,   2.3858, -999.00
096U20160426,       P15S,      22,          1,         18,       2018,2,20160514,       1352,   -56.4931,  -170.0081,       5074,  1200.0,   2.3970,  34.6280,2,  34.6265,2,    176.2,2,   173.9,2,   75.17,2,   33.24,2,    0.00,4,    2.29,2,-999.000,9,-999.000,9,-999.000,9,  -999.0,9,  -999.0,9,-999.0000,9,  -999.00,-999.0000,9, -999.00,9, -999.00,9,  -999.0,9,  -999.0, -999.00,9, -999.00,9, -999.00,9, -999.00,9,   2.3190, -999.00
096U20160426,       P15S,      22,          1,         17,       2017,2,20160514,       1352,   -56.4931,  -170.0081,       5074,  1298.6,   2.3400,  34.6560,2,  34.6561,2,    177.8,2,   175.8,2,   76.93,2,   32.78,2,    0.00,4,    2.26,2,-999.000,9,-999.000,9,-999.000,9,  -999.0,9,  -999.0,9,-999.0000,9,  -999.00,-999.0000,9, -999.00,9, -999.00,9,  -999.0,9,  -999.0, -999.00,9, -999.00,9, -999.00,9, -999.00,9,   2.2551, -999.00
096U20160426,       P15S,      22,          1,         16,       2016,2,20160514,       1352,   -56.4931,  -170.0081,       5074,  1398.9,   2.2850,  34.6780,2,  34.6781,2,    179.8,2,   178.1,2,   78.59,2,   32.31,2,    0.00,4,    2.23,2,-999.000,9,-999.000,9,-999.000,9,  -999.0,9,  -999.0,9,-999.0000,9,  -999.00,-999.0000,9, -999.00,9, -999.00,9,  -999.0,9,  -999.0, -999.00,9, -999.00,9, -999.00,9, -999.00,9,   2.1930, -999.00
096U20160426,       P15S,      22,          1,         15,       2015,2,20160514,       1352,   -56.4931,  -170.0081,       5074,  1600.6,   2.1520,  34.7130,2,  34.7131,2,    184.5,2,   183.3,2,   82.11,2,   31.64,2,    0.00,4,    2.18,2,-999.000,9,-999.000,9,-999.000,9,  -999.0,9,  -999.0,9,-999.0000,9,  -999.00,-999.0000,9, -999.00,9, -999.00,9,  -999.0,9,  -999.0, -999.00,9, -999.00,9, -999.00,9, -999.00,9,   2.0457, -999.00
096U20160426,       P15S,      22,          1,         14,       2014,2,20160514,       1352,   -56.4931,  -170.0081,       5074,  1800.1,   2.0050,  34.7310,2,  34.7306,2,    188.5,2,   187.7,2,   85.87,2,   31.22,2,    0.00,4,    2.15,2,-999.000,9,-999.000,9,-999.000,9,  -999.0,9,  -999.0,9,-999.0000,9,  -999.00,-999.0000,9, -999.00,9, -999.00,9,  -999.0,9,  -999.0, -999.00,9, -999.00,9, -999.00,9, -999.00,9,   1.8846, -999.00
096U20160426,       P15S,      22,          1,         13,       2013,2,20160514,       1352,   -56.4931,  -170.0081,       5074,  1999.7,   1.8580,  34.7370,2,  34.7370,2,    191.7,2,   191.2,2,   89.98,2,   31.08,2,    0.00,4,    2.14,2,-999.000,9,-999.000,9,-999.000,9,  -999.0,9,  -999.0,9,-999.0000,9,  -999.00,-999.0000,9, -999.00,9, -999.00,9,  -999.0,9,  -999.0, -999.00,9, -999.00,9, -999.00,9, -999.00,9,   1.7234, -999.00
096U20160426,       P15S,      22,          1,         12,       2012,2,20160514,       1352,   -56.4931,  -170.0081,       5074,  2248.4,   1.6740,  34.7380,2,  34.7382,2,    194.8,2,   194.8,2,   95.23,2,   31.09,2,    0.00,4,    2.14,2,-999.000,9,-999.000,9,-999.000,9,  -999.0,9,  -999.0,9,-999.0000,9,  -999.00,   1.8774,2,   10.06,2, -999.00,9,  -999.0,9,  -999.0, -999.00,9, -999.00,9, -999.00,9, -999.00,9,   1.5214,    0.68
096U20160426,       P15S,      22,          1,         11,       2011,2,20160514,       1352,   -56.4931,  -170.0081,       5074,  2499.1,   1.4840,  34.7340,2,  34.7330,2,    197.4,2,   197.6,2,  100.85,2,   31.25,2,    0.00,4,    2.15,2,-999.000,9,-999.000,9,-999.000,9,  -999.0,9,  -999.0,9,-999.0000,9,  -999.00,-999.0000,9, -999.00,9, -999.00,9,  -999.0,9,  -999.0, -999.00,9, -999.00,9, -999.00,9, -999.00,9,   1.3131, -999.00
096U20160426,       P15S,      22,          1,         10,       2010,2,20160514,       1352,   -56.4931,  -170.0081,       5074,  2751.6,   1.3230,  34.7280,2,  34.7282,2,    199.6,2,   200.0,2,  105.57,2,   31.45,2,    0.00,4,    2.17,2,-999.000,9,-999.000,9,-999.000,9,  -999.0,9,  -999.0,9,-999.0000,9,  -999.00,   1.8737,2,    9.88,2, -999.00,9,  -999.0,9,  -999.0, -999.00,9, -999.00,9, -999.00,9, -999.00,9,   1.1327,    0.69
096U20160426,       P15S,      22,          1,          9,       2009,2,20160514,       1352,   -56.4931,  -170.0081,       5074,  3000.9,   1.1900,  34.7220,2,  34.7217,2,    201.7,2,   202.1,2,  109.90,2,   31.65,2,    0.00,4,    2.18,2,-999.000,9,-999.000,9,-999.000,9,  -999.0,9,  -999.0,9,-999.0000,9,  -999.00,-999.0000,9, -999.00,9, -999.00,9,  -999.0,9,  -999.0, -999.00,9, -999.00,9, -999.00,9, -999.00,9,   0.9797, -999.00
096U20160426,       P15S,      22,          1,          8,       2008,2,20160514,       1352,   -56.4931,  -170.0081,       5074,  3300.3,   1.0610,  34.7160,2,  34.7158,2,    204.1,2,  -999.0,9,  114.03,2,   31.80,2,    0.00,4,    2.20,2,-999.000,9,-999.000,9,-999.000,9,  -999.0,9,  -999.0,9,-999.0000,9,  -999.00,   1.8860,2,    9.73,2, -999.00,9,  -999.0,9,  -999.0, -999.00,9, -999.00,9, -999.00,9, -999.00,9,   0.8253,    0.61
096U20160426,       P15S,      22,          1,          7,       2007,2,20160514,       1352,   -56.4931,  -170.0081,       5074,  3601.6,   0.9550,  34.7110,2,  34.7102,2,    206.5,2,   206.6,2,  117.75,2,   31.97,2,    0.01,4,    2.21,2,-999.000,9,-999.000,9,-999.000,9,  -999.0,9,  -999.0,9,-999.0000,9,  -999.00,   1.9064,2,    9.88,2, -999.00,9,  -999.0,9,  -999.0, -999.00,9, -999.00,9, -999.00,9, -999.00,9,   0.6923,    0.34
096U20160426,       P15S,      22,          1,          6,       2006,2,20160514,       1352,   -56.4931,  -170.0081,       5074,  3900.3,   0.9060,  34.7070,2,  34.7076,2,    207.7,2,   207.5,2,  120.12,2,   32.08,2,    0.00,4,    2.22,2,-999.000,9,-999.000,9,-999.000,9,  -999.0,9,  -999.0,9,-999.0000,9,  -999.00,   1.8880,2,    9.22,2, -999.00,9,  -999.0,9,  -999.0, -999.00,9, -999.00,9, -999.00,9, -999.00,9,   0.6141,    0.43
096U20160426,       P15S,      22,          1,          5,       2005,2,20160514,       1352,   -56.4931,  -170.0081,       5074,  4299.8,   0.8980,  34.7050,2,  34.7047,2,    209.1,2,   208.2,2,  122.02,2,   32.17,2,    0.00,4,    2.22,2,-999.000,9,-999.000,9,-999.000,9,  -999.0,9,  -999.0,9,-999.0000,9,  -999.00,   1.8822,2,    9.63,2, -999.00,9,  -999.0,9,  -999.0, -999.00,9, -999.00,9, -999.00,9, -999.00,9,   0.5638,    0.41
096U20160426,       P15S,      22,          1,          4,       2004,2,20160514,       1352,   -56.4931,  -170.0081,       5074,  4702.4,   0.9310,  34.7040,2,  34.7043,2,    210.1,2,   208.4,2,  122.75,2,   32.21,2,    0.00,4,    2.23,2,-999.000,9,-999.000,9,-999.000,9,  -999.0,9,  -999.0,9,-999.0000,9,  -999.00,   1.8903,2,    9.23,2, -999.00,9,  -999.0,9,  -999.0, -999.00,9, -999.00,9, -999.00,9, -999.00,9,   0.5506,    0.30
096U20160426,       P15S,      22,          1,          3,       2003,2,20160514,       1352,   -56.4931,  -170.0081,       5074,  4900.8,   0.9530,  34.7030,2,  34.7041,2,    210.1,2,   208.4,2,  122.73,2,   32.17,2,    0.00,4,    2.23,2,-999.000,9,-999.000,9,-999.000,9,  -999.0,9,  -999.0,9,-999.0000,9,  -999.00,   1.8782,2,    9.29,2, -999.00,9,  -999.0,9,  -999.0, -999.00,9, -999.00,9, -999.00,9, -999.00,9,   0.5488,    0.34
096U20160426,       P15S,      22,          1,          2,       2002,2,20160514,       1352,   -56.4931,  -170.0081,       5074,  4999.4,   0.9640,  34.7030,2,  34.7040,2,    210.2,2,   208.6,2,  122.69,2,   32.16,2,    0.00,4,    2.23,2,-999.000,9,-999.000,9,-999.000,9,  -999.0,9,  -999.0,9,-999.0000,9,  -999.00,   1.8815,2,    9.33,2, -999.00,9,  -999.0,9,  -999.0, -999.00,9, -999.00,9, -999.00,9, -999.00,9,   0.5478,    0.32
096U20160426,       P15S,      22,          1,          1,       2001,2,20160514,       1352,   -56.4931,  -170.0081,       5074,  5094.0,   0.9760,  34.7030,2,  34.7044,2,    210.8,2,   208.6,2,  122.80,2,   32.18,2,    0.00,4,    2.23,2,-999.000,9,-999.000,9,-999.000,9,  2263.8,2,  2364.1,2,-999.0000,9,  -999.00,-999.0000,9, -999.00,9, -999.00,9,  -999.0,9,  -999.0, -999.00,9, -999.00,9, -999.00,9, -999.00,9,   0.5481, -999.00