BOTTLE,20230413CCHSIOENA
EXPOCODE,SECT_ID,STNNBR,CASTNO,SAMPNO,BTLNBR,BTLNBR_FLAG_W,DATE,TIME,LATITUDE,LONGITUDE,DEPTH,CTDPRS,CTDTMP,CTDSAL,CTDSAL_FLAG_W,SALNTY,SALNTY_FLAG_W,CTDOXY,CTDOXY_FLAG_W,OXYGEN,OXYGEN_FLAG_W,SILCAT,SILCAT_FLAG_W,NITRAT,NITRAT_FLAG_W,NITRIT,NITRIT_FLAG_W,PHSPHT,PHSPHT_FLAG_W,CFC-11,CFC-11_FLAG_W,CFC-12,CFC-12_FLAG_W,SF6,SF6_FLAG_W,TCARBN,TCARBN_FLAG_W,ALKALI,ALKALI_FLAG_W,PH_TOT,PH_TOT_FLAG_W,PH_TMP,HELIUM,HELIUM_FLAG_W,DELHE3,DELHE3_FLAG_W,DELC13,DELC13_FLAG_W,DELC14,DELC14_FLAG_W,C14ERR,POC,POC_FLAG_W,PON,PON_FLAG_W,CHLORA,CHLORA_FLAG_W,PPHYTN,PPHYTN_FLAG_W,THETA,DELHER
,,,,,,,,,,,METERS,DBAR,ITS-90,PSS-78,,PSS-78,,UMOL/KG,,UMOL/KG,,UMOL/KG,,UMOL/KG,,UMOL/KG,,UMOL/KG,,PMOL/KG,,PMOL/KG,,FMOL/KG,,UMOL/KG,,UMOL/KG,,,,DEG C,NMOL/KG,,PERCNT,,/MILLE,,/MILLE,,/MILLE,UG/KG,,UG/KG,,UG/KG,,UG/KG,,DEG C,PERCNT
096U20160426,       P15S,      20,          1,         36,       2036,2,20160513,       2312,   -57.5065,  -170.0058,       5019,    14.2,   3.6400,  33.9110,2,  33.9122,2,    316.8,2,   312.4,2,    8.04,2,   24.44,2,    0.24,2,    1.72,2,-999.000,9,-999.000,9,-999.000,9,  2136.9,2,  2269.1,2,-999.0000,9,  -999.00,-999.0000,9, -999.00,9, -999.00,9,  -999.0,9,  -999.0, -999.00,9, -999.00,9, -999.00,9, -999.00,9,   3.6391, -999.00
096U20160426,       P15S,      20,          1,         35,       2035,2,20160513,       2312,   -57.5065,  -170.0058,       5019,    35.0,   3.6420,  33.9110,2,  33.9117,2,    316.4,2,   312.5,2,    8.02,2,   24.43,2,    0.24,2,    1.72,2,-999.000,9,-999.000,9,-999.000,9,  2136.8,2,  2269.2,2,-999.0000,9,  -999.00,-999.0000,9, -999.00,9, -999.00,9,  -999.0,9,  -999.0, -999.00,9, -999.00,9, -999.00,9, -999.00,9,   3.6397, -999.00
096U20160426,       P15S,      20,          1,         34,       2034,2,20160513,       2312,   -57.5065,  -170.0058,       5019,    60.5,   3.6450,  33.9110,2,  33.9135,2,    316.1,2,   312.5,2,    8.00,2,   24.44,2,    0.24,2,    1.72,2,-999.000,9,-999.000,9,-999.000,9,  2137.8,2,  2269.0,2,-999.0000,9,  -999.00,-999.0000,9, -999.00,9, -999.00,9,  -999.0,9,  -999.0, -999.00,9, -999.00,9, -999.00,9, -999.00,9,   3.6411, -999.00
096U20160426,       P15S,      20,          1,         33,       2033,2,20160513,       2312,   -57.5065,  -170.0058,       5019,    84.6,   3.6330,  33.9110,2,  33.9111,2,    316.0,2,   312.4,2,    8.07,2,   24.49,2,    0.24,2,    1.72,2,-999.000,9,-999.000,9,-999.000,9,  2136.4,2,  2271.6,2,-999.0000,9,  -999.00,-999.0000,9, -999.00,9, -999.00,9,  -999.0,9,  -999.0, -999.00,9, -999.00,9, -999.00,9, -999.00,9,   3.6275, -999.00
096U20160426,       P15S,      20,          1,         32,       2032,2,20160513,       2312,   -57.5065,  -170.0058,       5019,   112.5,   3.6140,  33.9110,2,  33.9116,2,    316.1,2,   312.8,2,    8.21,2,   24.54,2,    0.24,2,    1.73,2,-999.000,9,-999.000,9,-999.000,9,  2138.2,2,  2270.2,2,-999.0000,9,  -999.00,-999.0000,9, -999.00,9, -999.00,9,  -999.0,9,  -999.0, -999.00,9, -999.00,9, -999.00,9, -999.00,9,   3.6067, -999.00
096U20160426,       P15S,      20,          1,         31,       2031,2,20160513,       2312,   -57.5065,  -170.0058,       5019,   163.9,   3.5230,  33.9890,2,  33.9925,2,    302.1,2,   298.1,2,   12.37,2,   26.04,2,    0.08,2,    1.80,2,-999.000,9,-999.000,9,-999.000,9,  2149.9,2,  2274.7,2,-999.0000,9,  -999.00,-999.0000,9, -999.00,9, -999.00,9,  -999.0,9,  -999.0, -999.00,9, -999.00,9, -999.00,9, -999.00,9,   3.5124, -999.00
096U20160426,       P15S,      20,          1,         30,       2030,2,20160513,       2312,   -57.5065,  -170.0058,       5019,   214.4,   2.8900,  34.0210,2,  34.0189,2,    295.0,2,   292.0,2,   17.31,2,   27.85,2,    0.01,4,    1.91,2,-999.000,9,-999.000,9,-999.000,9,  2161.7,2,  2275.2,6,-999.0000,9,  -999.00,-999.0000,9, -999.00,9, -999.00,9,  -999.0,9,  -999.0, -999.00,9, -999.00,9, -999.00,9, -999.00,9,   2.8772, -999.00
096U20160426,       P15S,      20,          1,         29,       2029,2,20160513,       2312,   -57.5065,  -170.0058,       5019,   265.4,   2.5580,  34.0240,2,  34.0247,2,    293.5,2,   289.6,2,   20.52,2,   28.57,2,    0.01,4,    1.96,2,-999.000,9,-999.000,9,-999.000,9,  2167.8,2,  2278.2,2,-999.0000,9,  -999.00,-999.0000,9, -999.00,9, -999.00,9,  -999.0,9,  -999.0, -999.00,9, -999.00,9, -999.00,9, -999.00,9,   2.5427, -999.00
096U20160426,       P15S,      20,          1,         28,       2028,2,20160513,       2312,   -57.5065,  -170.0058,       5019,   314.3,   2.6200,  34.0730,2,  34.0798,2,    277.2,2,   272.0,2,   24.72,2,   29.58,2,    0.01,4,    2.02,2,-999.000,9,-999.000,9,-999.000,9,  2178.4,2,  2282.4,2,-999.0000,9,  -999.00,-999.0000,9, -999.00,9, -999.00,9,  -999.0,9,  -999.0, -999.00,9, -999.00,9, -999.00,9, -999.00,9,   2.6016, -999.00
096U20160426,       P15S,      20,          1,         27,       2027,2,20160513,       2312,   -57.5065,  -170.0058,       5019,   364.2,   3.2510,  34.2020,2,  34.2064,2,    237.0,2,   232.2,2,   32.07,2,   31.23,2,    0.00,4,    2.13,2,-999.000,9,-999.000,9,-999.000,9,  2193.7,2,  2289.0,2,-999.0000,9,  -999.00,-999.0000,9, -999.00,9, -999.00,9,  -999.0,9,  -999.0, -999.00,9, -999.00,9, -999.00,9, -999.00,9,   3.2276, -999.00
096U20160426,       P15S,      20,          1,         26,       2026,2,20160513,       2312,   -57.5065,  -170.0058,       5019,   435.4,   2.9640,  34.2330,2,  34.2343,2,    229.7,2,   226.0,2,   37.70,2,   32.19,2,    0.00,4,    2.20,2,-999.000,9,-999.000,9,-999.000,9,  2204.4,2,  2294.0,2,-999.0000,9,  -999.00,-999.0000,9, -999.00,9, -999.00,9,  -999.0,9,  -999.0, -999.00,9, -999.00,9, -999.00,9, -999.00,9,   2.9367, -999.00
096U20160426,       P15S,      20,          1,         25,       2025,2,20160513,       2312,   -57.5065,  -170.0058,       5019,   537.0,   2.9080,  34.3100,2,  34.3100,2,    209.9,2,   206.5,2,   46.12,2,   33.38,2,    0.00,4,    2.29,2,-999.000,9,-999.000,9,-999.000,9,  2218.4,2,  2300.9,6,-999.0000,9,  -999.00,-999.0000,9, -999.00,9, -999.00,9,  -999.0,9,  -999.0, -999.00,9, -999.00,9, -999.00,9, -999.00,9,   2.8741, -999.00
096U20160426,       P15S,      20,          1,         24,       2024,2,20160513,       2312,   -57.5065,  -170.0058,       5019,   636.2,   2.8580,  34.3930,2,  34.3925,2,    192.1,2,   188.5,2,   54.74,2,   34.19,2,    0.00,4,    2.35,2,-999.000,9,-999.000,9,-999.000,9,  2232.3,6,  2311.6,6,-999.0000,9,  -999.00,-999.0000,9, -999.00,9, -999.00,9,  -999.0,9,  -999.0, -999.00,9, -999.00,9, -999.00,9, -999.00,9,   2.8175, -999.00
096U20160426,       P15S,      20,          1,         23,       2023,2,20160513,       2312,   -57.5065,  -170.0058,       5019,   734.0,   2.7290,  34.4500,2,  34.4514,2,    184.3,2,   180.4,2,   61.31,2,   34.49,2,    0.00,4,    2.38,2,-999.000,9,-999.000,9,-999.000,9,  2240.4,2,  2319.2,2,-999.0000,9,  -999.00,-999.0000,9, -999.00,9, -999.00,9,  -999.0,9,  -999.0, -999.00,9, -999.00,9, -999.00,9, -999.00,9,   2.6823, -999.00
096U20160426,       P15S,      20,          1,         22,       2022,2,20160513,       2312,   -57.5065,  -170.0058,       5019,   835.3,   2.6000,  34.5110,2,  34.5091,2,    178.8,2,   175.0,2,   66.82,2,   34.49,2,    0.00,4,    2.38,2,-999.000,9,-999.000,9,-999.000,9,  2248.4,2,  2323.0,2,-999.0000,9,  -999.00,-999.0000,9, -999.00,9, -999.00,9,  -999.0,9,  -999.0, -999.00,9, -999.00,9, -999.00,9, -999.00,9,   2.5470, -999.00
096U20160426,       P15S,      20,          1,         21,       2021,2,20160513,       2312,   -57.5065,  -170.0058,       5019,   934.2,   2.5230,  34.5570,2,  34.5583,2,    176.8,2,   173.1,2,   70.78,2,   34.17,2,    0.00,4,    2.36,2,-999.000,9,-999.000,9,-999.000,9,  2251.3,2,  2325.9,2,-999.0000,9,  -999.00,-999.0000,9, -999.00,9, -999.00,9,  -999.0,9,  -999.0, -999.00,9, -999.00,9, -999.00,9, -999.00,9,   2.4635, -999.00
096U20160426,       P15S,      20,          1,         20,       2020,2,20160513,       2312,   -57.5065,  -170.0058,       5019,  1035.6,   2.4530,  34.5970,2,  34.5948,2,    176.4,2,   172.9,2,   73.30,2,   33.82,2,    0.00,4,    2.33,2,-999.000,9,-999.000,9,-999.000,9,  2251.9,2,  2331.4,2,-999.0000,9,  -999.00,-999.0000,9, -999.00,9, -999.00,9,  -999.0,9,  -999.0, -999.00,9, -999.00,9, -999.00,9, -999.00,9,   2.3867, -999.00
096U20160426,       P15S,      20,          1,         19,       2019,2,20160513,       2312,   -57.5065,  -170.0058,       5019,  1136.9,   2.3860,  34.6330,2,  34.6325,2,    177.4,2,   174.4,2,   75.92,2,   33.32,2,    0.00,4,    2.30,2,-999.000,9,-999.000,9,-999.000,9,  2252.6,2,  2337.9,2,-999.0000,9,  -999.00,-999.0000,9, -999.00,9, -999.00,9,  -999.0,9,  -999.0, -999.00,9, -999.00,9, -999.00,9, -999.00,9,   2.3128, -999.00
096U20160426,       P15S,      20,          1,         18,       2018,2,20160513,       2312,   -57.5065,  -170.0058,       5019,  1233.7,   2.3360,  34.6570,2,  34.6575,2,    179.3,2,   176.1,2,   77.33,2,   32.91,2,    0.00,4,    2.27,2,-999.000,9,-999.000,9,-999.000,9,  2251.7,2,  2339.7,2,-999.0000,9,  -999.00,-999.0000,9, -999.00,9, -999.00,9,  -999.0,9,  -999.0, -999.00,9, -999.00,9, -999.00,9, -999.00,9,   2.2560, -999.00
096U20160426,       P15S,      20,          1,         17,       2017,2,20160513,       2312,   -57.5065,  -170.0058,       5019,  1334.4,   2.2770,  34.6790,2,  34.6792,2,    181.1,2,   178.1,2,   78.94,2,   32.49,2,    0.00,4,    2.24,2,-999.000,9,-999.000,9,-999.000,9,  2251.8,2,  2341.8,6,-999.0000,9,  -999.00,-999.0000,9, -999.00,9, -999.00,9,  -999.0,9,  -999.0, -999.00,9, -999.00,9, -999.00,9, -999.00,9,   2.1900, -999.00
096U20160426,       P15S,      20,          1,         16,       2016,2,20160513,       2312,   -57.5065,  -170.0058,       5019,  1436.1,   2.2070,  34.6990,2,  34.7007,2,    183.6,2,   180.8,2,   80.76,2,   32.08,2,    0.00,4,    2.21,2,-999.000,9,-999.000,9,-999.000,9,  2249.6,2,  2343.1,2,-999.0000,9,  -999.00,-999.0000,9, -999.00,9, -999.00,9,  -999.0,9,  -999.0, -999.00,9, -999.00,9, -999.00,9, -999.00,9,   2.1129, -999.00
096U20160426,       P15S,      20,          1,         15,       2015,2,20160513,       2312,   -57.5065,  -170.0058,       5019,  1533.5,   2.1450,  34.7130,2,  34.7124,2,    185.6,2,   183.2,2,   82.42,2,   31.78,2,    0.00,4,    2.19,2,-999.000,9,-999.000,9,-999.000,9,  2249.9,2,  2345.0,2,-999.0000,9,  -999.00,-999.0000,9, -999.00,9, -999.00,9,  -999.0,9,  -999.0, -999.00,9, -999.00,9, -999.00,9, -999.00,9,   2.0441, -999.00
096U20160426,       P15S,      20,          1,         14,       2014,2,20160513,       2312,   -57.5065,  -170.0058,       5019,  1663.0,   2.0680,  34.7240,2,  34.7246,2,    187.8,2,   185.6,2,   84.45,2,   31.53,2,    0.00,4,    2.17,2,-999.000,9,-999.000,9,-999.000,9,  2251.0,6,  2346.9,6,-999.0000,9,  -999.00,-999.0000,9, -999.00,9, -999.00,9,  -999.0,9,  -999.0, -999.00,9, -999.00,9, -999.00,9, -999.00,9,   1.9578, -999.00
096U20160426,       P15S,      20,          1,         13,       2013,2,20160513,       2312,   -57.5065,  -170.0058,       5019,  1864.6,   1.9200,  34.7360,2,  34.7362,2,    191.6,2,   189.8,2,   88.55,2,   31.25,2,    0.00,4,    2.15,2,-999.000,9,-999.000,9,-999.000,9,  2250.0,2,  2349.7,2,-999.0000,9,  -999.00,-999.0000,9, -999.00,9, -999.00,9,  -999.0,9,  -999.0, -999.00,9, -999.00,9, -999.00,9, -999.00,9,   1.7956, -999.00
096U20160426,       P15S,      20,          1,         12,       2012,2,20160513,       2312,   -57.5065,  -170.0058,       5019,  2086.8,   1.7640,  34.7390,2,  34.7391,2,    194.4,2,   193.1,2,   92.85,2,   31.19,2,    0.00,4,    2.15,2,-999.000,9,-999.000,9,-999.000,9,  2251.4,2,  2352.9,2,-999.0000,9,  -999.00,-999.0000,9, -999.00,9, -999.00,9,  -999.0,9,  -999.0, -999.00,9, -999.00,9, -999.00,9, -999.00,9,   1.6236, -999.00
096U20160426,       P15S,      20,          1,         11,       2011,2,20160513,       2312,   -57.5065,  -170.0058,       5019,  2334.0,   1.5680,  34.7360,2,  34.7362,2,    197.2,2,   196.3,2,   98.59,2,   31.31,2,    0.00,4,    2.16,2,-999.000,9,-999.000,9,-999.000,9,  2254.9,2,  2355.4,2,-999.0000,9,  -999.00,-999.0000,9, -999.00,9, -999.00,9,  -999.0,9,  -999.0, -999.00,9, -999.00,9, -999.00,9, -999.00,9,   1.4099, -999.00
096U20160426,       P15S,      20,          1,         10,       2010,2,20160513,       2312,   -57.5065,  -170.0058,       5019,  2586.1,   1.3890,  34.7310,2,  34.7312,2,    199.5,2,   198.8,2,  103.94,2,   31.50,2,    0.00,4,    2.18,2,-999.000,9,-999.000,9,-999.000,9,  2255.5,2,  2357.1,2,-999.0000,9,  -999.00,-999.0000,9, -999.00,9,    0.48,6,  -156.9,6,     2.0, -999.00,9, -999.00,9, -999.00,9, -999.00,9,   1.2122, -999.00
096U20160426,       P15S,      20,          1,          9,       2009,2,20160513,       2312,   -57.5065,  -170.0058,       5019,  2833.8,   1.2390,  34.7250,2,  34.7252,2,    201.3,2,   201.1,2,  108.56,2,   31.69,2,    0.00,4,    2.19,2,-999.000,9,-999.000,9,-999.000,9,  2257.6,6,  2359.8,6,-999.0000,9,  -999.00,-999.0000,9, -999.00,9, -999.00,9,  -999.0,9,  -999.0, -999.00,9, -999.00,9, -999.00,9, -999.00,9,   1.0430, -999.00
096U20160426,       P15S,      20,          1,          8,       2008,2,20160513,       2312,   -57.5065,  -170.0058,       5019,  3100.6,   1.1010,  34.7190,2,  34.7194,2,    203.9,2,   203.5,2,  113.02,2,   31.90,2,    0.00,4,    2.21,2,-999.000,9,-999.000,9,-999.000,9,  2259.9,2,  2358.9,2,-999.0000,9,  -999.00,-999.0000,9, -999.00,9, -999.00,9,  -999.0,9,  -999.0, -999.00,9, -999.00,9, -999.00,9, -999.00,9,   0.8834, -999.00
096U20160426,       P15S,      20,          1,          7,       2007,2,20160513,       2312,   -57.5065,  -170.0058,       5019,  3400.6,   0.9870,  34.7130,2,  34.7128,2,    206.0,2,   205.8,2,  116.66,2,   32.05,2,    0.00,4,    2.22,2,-999.000,9,-999.000,9,-999.000,9,  2260.4,2,  2360.4,2,-999.0000,9,  -999.00,-999.0000,9, -999.00,9, -999.00,9,  -999.0,9,  -999.0, -999.00,9, -999.00,9, -999.00,9, -999.00,9,   0.7434, -999.00
096U20160426,       P15S,      20,          1,          6,       2006,2,20160513,       2312,   -57.5065,  -170.0058,       5019,  3701.8,   0.9120,  34.7090,2,  34.7086,2,    207.7,2,   207.2,2,  119.70,2,   32.19,2,    0.00,4,    2.23,2,-999.000,9,-999.000,9,-999.000,9,  2260.4,2,  2359.9,2,-999.0000,9,  -999.00,-999.0000,9, -999.00,9, -999.00,9,  -999.0,9,  -999.0, -999.00,9, -999.00,9, -999.00,9, -999.00,9,   0.6404, -999.00
096U20160426,       P15S,      20,          1,          5,       2005,2,20160513,       2312,   -57.5065,  -170.0058,       5019,  4000.6,   0.8850,  34.7060,2,  34.7066,2,    208.9,2,   207.8,2,  122.12,2,   32.29,2,    0.00,4,    2.23,2,-999.000,9,-999.000,9,-999.000,9,  2261.5,2,  2362.4,2,-999.0000,9,  -999.00,-999.0000,9, -999.00,9, -999.00,9,  -999.0,9,  -999.0, -999.00,9, -999.00,9, -999.00,9, -999.00,9,   0.5832, -999.00
096U20160426,       P15S,      20,          1,          4,       2004,2,20160513,       2312,   -57.5065,  -170.0058,       5019,  4301.0,   0.8970,  34.7050,2,  34.7060,2,    209.4,2,   207.8,2,  123.43,2,   32.32,2,    0.00,4,    2.24,2,-999.000,9,-999.000,9,-999.000,9,  2263.1,2,  2361.6,2,-999.0000,9,  -999.00,-999.0000,9, -999.00,9, -999.00,9,  -999.0,9,  -999.0, -999.00,9, -999.00,9, -999.00,9, -999.00,9,   0.5626, -999.00
096U20160426,       P15S,      20,          1,          3,       2003,2,20160513,       2312,   -57.5065,  -170.0058,       5019,  4601.2,   0.9210,  34.7040,2,  34.7049,2,    210.0,2,   208.1,2,  123.30,2,   32.32,2,    0.00,4,    2.24,2,-999.000,9,-999.000,9,-999.000,9,  2261.5,2,  2361.1,2,-999.0000,9,  -999.00,-999.0000,9, -999.00,9, -999.00,9,  -999.0,9,  -999.0, -999.00,9, -999.00,9, -999.00,9, -999.00,9,   0.5525, -999.00
096U20160426,       P15S,      20,          1,          2,       2002,2,20160513,       2312,   -57.5065,  -170.0058,       5019,  4902.6,   0.9540,  34.7030,2,  34.7040,2,    210.7,2,   208.4,2,  123.41,2,   32.32,2,    0.00,4,    2.24,2,-999.000,9,-999.000,9,-999.000,9,  2262.3,2,  2361.8,2,-999.0000,9,  -999.00,-999.0000,9, -999.00,9, -999.00,9,  -999.0,9,  -999.0, -999.00,9, -999.00,9, -999.00,9, -999.00,9,   0.5496, -999.00
096U20160426,       P15S,      20,          1,          1,       2001,2,20160513,       2312,   -57.5065,  -170.0058,       5019,  5029.4,   0.9690,  34.7030,2,  34.7049,2,    210.8,2,   208.3,2,  123.39,2,   32.31,2,    0.00,4,    2.24,2,-999.000,9,-999.000,9,-999.000,9,  2261.0,2,  2362.6,2,-999.0000,9,  -999.00,-999.0000,9, -999.00,9, -999.00,9,  -999.0,9,  -999.0, -999.00,9, -999.00,9, -999.00,9, -999.00,9,   0.5491, -999.00