BOTTLE,20230413CCHSIOENA
EXPOCODE,SECT_ID,STNNBR,CASTNO,SAMPNO,BTLNBR,BTLNBR_FLAG_W,DATE,TIME,LATITUDE,LONGITUDE,DEPTH,CTDPRS,CTDTMP,CTDSAL,CTDSAL_FLAG_W,SALNTY,SALNTY_FLAG_W,CTDOXY,CTDOXY_FLAG_W,OXYGEN,OXYGEN_FLAG_W,SILCAT,SILCAT_FLAG_W,NITRAT,NITRAT_FLAG_W,NITRIT,NITRIT_FLAG_W,PHSPHT,PHSPHT_FLAG_W,CFC-11,CFC-11_FLAG_W,CFC-12,CFC-12_FLAG_W,SF6,SF6_FLAG_W,TCARBN,TCARBN_FLAG_W,ALKALI,ALKALI_FLAG_W,PH_TOT,PH_TOT_FLAG_W,PH_TMP,HELIUM,HELIUM_FLAG_W,DELHE3,DELHE3_FLAG_W,DELC13,DELC13_FLAG_W,DELC14,DELC14_FLAG_W,C14ERR,POC,POC_FLAG_W,PON,PON_FLAG_W,CHLORA,CHLORA_FLAG_W,PPHYTN,PPHYTN_FLAG_W,THETA,DELHER
,,,,,,,,,,,METERS,DBAR,ITS-90,PSS-78,,PSS-78,,UMOL/KG,,UMOL/KG,,UMOL/KG,,UMOL/KG,,UMOL/KG,,UMOL/KG,,PMOL/KG,,PMOL/KG,,FMOL/KG,,UMOL/KG,,UMOL/KG,,,,DEG C,NMOL/KG,,PERCNT,,/MILLE,,/MILLE,,/MILLE,UG/KG,,UG/KG,,UG/KG,,UG/KG,,DEG C,PERCNT
096U20160426,       P15S,      45,          1,         36,       2036,2,20160522,       1321,   -44.8347,  -173.1415,       3830,     5.7,  12.5090,  34.6570,2,  34.6603,2,    258.7,2,   258.5,2,    0.59,2,    3.60,2,    0.31,2,    0.43,2,-999.000,9,-999.000,9,-999.000,9,  2077.4,2,  2291.4,2,-999.0000,9,  -999.00,-999.0000,9, -999.00,9,    1.39,2,    28.6,2,     2.0, -999.00,9, -999.00,9,    0.30,2,    0.38,3,  12.5082, -999.00
096U20160426,       P15S,      45,          1,         35,       2035,2,20160522,       1321,   -44.8347,  -173.1415,       3830,    22.6,  12.5050,  34.6610,2,  34.6675,2,    258.8,2,   258.5,2,    0.59,2,    3.63,2,    0.31,2,    0.44,2,-999.000,9,-999.000,9,-999.000,9,  -999.0,9,  -999.0,9,-999.0000,9,  -999.00,-999.0000,9, -999.00,9, -999.00,9,  -999.0,9,  -999.0, -999.00,9, -999.00,9, -999.00,9, -999.00,9,  12.5020, -999.00
096U20160426,       P15S,      45,          1,         34,       2034,2,20160522,       1321,   -44.8347,  -173.1415,       3830,    37.1,  12.5450,  34.7300,2,  34.7319,2,    258.1,2,   258.3,2,    0.61,2,    3.63,2,    0.31,2,    0.44,2,-999.000,9,-999.000,9,-999.000,9,  2082.3,2,  2296.1,2,-999.0000,9,  -999.00,-999.0000,9, -999.00,9,    1.42,2,    27.6,2,     2.0, -999.00,9, -999.00,9,    0.41,2,    0.29,3,  12.5401, -999.00
096U20160426,       P15S,      45,          1,         33,       2033,2,20160522,       1321,   -44.8347,  -173.1415,       3830,    63.5,  12.5390,  34.7320,2,  34.7343,2,    257.7,2,   257.8,2,    0.59,2,    3.64,2,    0.32,2,    0.44,2,-999.000,9,-999.000,9,-999.000,9,  -999.0,9,  -999.0,9,-999.0000,9,  -999.00,-999.0000,9, -999.00,9, -999.00,9,  -999.0,9,  -999.0, -999.00,9, -999.00,9, -999.00,9, -999.00,9,  12.5305, -999.00
096U20160426,       P15S,      45,          1,         32,       2032,2,20160522,       1321,   -44.8347,  -173.1415,       3830,    91.2,  12.5310,  34.7330,2,  34.7345,2,    257.3,2,   257.8,2,    0.59,2,    3.67,2,    0.32,2,    0.44,2,-999.000,9,-999.000,9,-999.000,9,  2081.9,2,  2299.3,2,-999.0000,9,  -999.00,-999.0000,9, -999.00,9,    1.41,2,    28.4,2,     2.0, -999.00,9, -999.00,9,    0.30,2,    0.34,3,  12.5188, -999.00
096U20160426,       P15S,      45,          1,         31,       2031,2,20160522,       1321,   -44.8347,  -173.1415,       3830,   111.9,  11.5780,  34.7700,2,  34.7759,2,    244.5,2,   244.5,2,    1.59,2,    8.37,2,    0.07,2,    0.68,2,-999.000,9,-999.000,9,-999.000,9,  2106.1,2,  2295.3,2,-999.0000,9,  -999.00,-999.0000,9, -999.00,9,    1.14,2,    32.2,2,     2.0, -999.00,9, -999.00,9,    0.06,2,    0.06,3,  11.5638, -999.00
096U20160426,       P15S,      45,          1,         30,       2030,2,20160522,       1321,   -44.8347,  -173.1415,       3830,   139.1,  10.6600,  34.8110,2,  34.8099,2,    244.2,2,   244.2,2,    2.35,2,   10.57,2,    0.02,2,    0.80,2,-999.000,9,-999.000,9,-999.000,9,  2118.8,2,  2294.7,2,-999.0000,9,  -999.00,-999.0000,9, -999.00,9,    0.97,2,    32.7,2,     2.0, -999.00,9, -999.00,9,    0.01,2,    0.06,3,  10.6433, -999.00
096U20160426,       P15S,      45,          1,         29,       2029,2,20160522,       1321,   -44.8347,  -173.1415,       3830,   181.7,  10.2850,  34.7760,2,  34.7769,2,    247.3,2,   247.9,2,    2.49,2,   11.05,2,    0.01,4,    0.82,2,-999.000,9,-999.000,9,-999.000,9,  2121.3,2,  2293.4,2,-999.0000,9,  -999.00,-999.0000,9, -999.00,9,    1.08,2,    31.1,2,     2.0, -999.00,9, -999.00,9, -999.00,9, -999.00,9,  10.2636, -999.00
096U20160426,       P15S,      45,          1,         28,       2028,2,20160522,       1321,   -44.8347,  -173.1415,       3830,   234.1,  10.0370,  34.7490,2,  34.7501,2,    253.1,2,   253.3,2,    2.59,2,   11.28,2,    0.01,4,    0.84,2,-999.000,9,-999.000,9,-999.000,9,  2117.7,2,  2292.8,6,-999.0000,9,  -999.00,-999.0000,9, -999.00,9,    1.09,2,    34.3,2,     2.0, -999.00,9, -999.00,9, -999.00,9, -999.00,9,  10.0098, -999.00
096U20160426,       P15S,      45,          1,         27,       2027,2,20160522,       1321,   -44.8347,  -173.1415,       3830,   284.3,   9.8340,  34.7220,2,  34.7242,2,    254.2,2,   254.5,2,    2.73,2,   11.86,2,    0.01,4,    0.87,2,-999.000,9,-999.000,9,-999.000,9,  2121.0,2,  2290.4,2,-999.0000,9,  -999.00,-999.0000,9, -999.00,9,    1.13,2,    28.8,2,     2.0, -999.00,9, -999.00,9, -999.00,9, -999.00,9,   9.8013, -999.00
096U20160426,       P15S,      45,          1,         26,       2026,2,20160522,       1321,   -44.8347,  -173.1415,       3830,   336.8,   9.5790,  34.6850,2,  34.6870,2,    253.1,2,   253.8,2,    3.01,2,   12.93,2,    0.01,4,    0.94,2,-999.000,9,-999.000,9,-999.000,9,  2121.6,2,  2290.5,2,-999.0000,9,  -999.00,-999.0000,9, -999.00,9,    1.00,2,    23.5,2,     2.0, -999.00,9, -999.00,9, -999.00,9, -999.00,9,   9.5408, -999.00
096U20160426,       P15S,      45,          1,         25,       2025,2,20160522,       1321,   -44.8347,  -173.1415,       3830,   385.3,   9.3110,  34.6460,2,  34.6468,2,    252.2,2,   252.8,2,    3.33,2,   14.02,2,    0.01,4,    1.00,2,-999.000,9,-999.000,9,-999.000,9,  2124.9,6,  2289.6,6,-999.0000,9,  -999.00,-999.0000,9, -999.00,9,    1.06,2,    24.6,2,     2.0, -999.00,9, -999.00,9, -999.00,9, -999.00,9,   9.2680, -999.00
096U20160426,       P15S,      45,          1,         24,       2024,2,20160522,       1321,   -44.8347,  -173.1415,       3830,   435.7,   9.0070,  34.6010,2,  34.5986,2,    246.8,2,   247.2,2,    3.82,2,   15.64,2,    0.01,4,    1.10,2,-999.000,9,-999.000,9,-999.000,9,  -999.0,9,  -999.0,9,-999.0000,9,  -999.00,-999.0000,9, -999.00,9, -999.00,9,  -999.0,9,  -999.0, -999.00,9, -999.00,9, -999.00,9, -999.00,9,   8.9592, -999.00
096U20160426,       P15S,      45,          1,         23,       2023,2,20160522,       1321,   -44.8347,  -173.1415,       3830,   484.4,   8.4810,  34.5260,2,  34.5271,2,    240.7,2,   241.1,2,    4.81,2,   17.87,2,    0.01,4,    1.24,2,-999.000,9,-999.000,9,-999.000,9,  2136.0,2,  2285.3,2,-999.0000,9,  -999.00,-999.0000,9, -999.00,9,    1.09,2,    16.0,2,     2.0, -999.00,9, -999.00,9, -999.00,9, -999.00,9,   8.4297, -999.00
096U20160426,       P15S,      45,          1,         22,       2022,2,20160522,       1321,   -44.8347,  -173.1415,       3830,   565.2,   7.9320,  34.4620,2,  34.4634,2,    241.3,2,   241.7,2,    5.73,2,   19.61,2,    0.01,4,    1.35,2,-999.000,9,-999.000,9,-999.000,9,  2140.8,2,  2282.5,2,-999.0000,9,  -999.00,-999.0000,9, -999.00,9,    1.08,2,    15.2,2,     2.0, -999.00,9, -999.00,9, -999.00,9, -999.00,9,   7.8742, -999.00
096U20160426,       P15S,      45,          1,         21,       2021,2,20160522,       1321,   -44.8347,  -173.1415,       3830,   663.8,   7.5320,  34.4290,2,  34.4305,2,    237.9,2,   238.4,2,    7.09,2,   21.03,2,    0.01,4,    1.45,2,-999.000,9,-999.000,9,-999.000,9,  2145.0,2,  2282.8,2,-999.0000,9,  -999.00,-999.0000,9, -999.00,9,    1.11,2,    13.7,2,     2.0, -999.00,9, -999.00,9, -999.00,9, -999.00,9,   7.4657, -999.00
096U20160426,       P15S,      45,          1,         20,       2020,2,20160522,       1321,   -44.8347,  -173.1415,       3830,   764.2,   7.1290,  34.4010,2,  34.4027,2,    232.7,2,   233.5,2,    8.95,2,   22.51,2,    0.01,4,    1.54,2,-999.000,9,-999.000,9,-999.000,9,  2148.8,2,  2283.5,2,-999.0000,9,  -999.00,-999.0000,9, -999.00,9,    1.09,2,     3.7,2,     2.0, -999.00,9, -999.00,9, -999.00,9, -999.00,9,   7.0545, -999.00
096U20160426,       P15S,      45,          1,         19,       2019,2,20160522,       1321,   -44.8347,  -173.1415,       3830,   864.1,   6.5830,  34.3720,2,  34.3733,2,    224.8,2,   225.2,2,   12.43,2,   24.48,2,    0.00,4,    1.67,2,-999.000,9,-999.000,9,-999.000,9,  2156.5,2,  2283.3,2,-999.0000,9,  -999.00,-999.0000,9, -999.00,9,    1.08,2,   -10.2,2,     2.0, -999.00,9, -999.00,9, -999.00,9, -999.00,9,   6.5017, -999.00
096U20160426,       P15S,      45,          1,         18,       2018,2,20160522,       1321,   -44.8347,  -173.1415,       3830,   963.2,   6.0560,  34.3560,2,  34.3576,2,    215.8,2,   216.2,2,   16.92,2,   26.36,2,    0.00,4,    1.79,2,-999.000,9,-999.000,9,-999.000,9,  2168.5,2,  2287.6,2,-999.0000,9,  -999.00,-999.0000,9, -999.00,9,    1.04,2,   -24.5,2,     2.0, -999.00,9, -999.00,9, -999.00,9, -999.00,9,   5.9685, -999.00
096U20160426,       P15S,      45,          1,         17,       2017,2,20160522,       1321,   -44.8347,  -173.1415,       3830,  1062.5,   5.5100,  34.3470,2,  34.3483,2,    209.3,2,   209.5,2,   22.22,2,   27.95,2,    0.00,4,    1.90,2,-999.000,9,-999.000,9,-999.000,9,  2176.7,2,  2289.4,2,-999.0000,9,  -999.00,-999.0000,9, -999.00,9,    0.96,2,   -46.8,2,     2.0, -999.00,9, -999.00,9, -999.00,9, -999.00,9,   5.4172, -999.00
096U20160426,       P15S,      45,          1,         16,       2016,2,20160522,       1321,   -44.8347,  -173.1415,       3830,  1162.6,   4.9360,  34.3430,2,  34.3435,2,    204.3,2,   204.6,2,   28.57,2,   29.50,2,    0.00,4,    2.01,2,-999.000,9,-999.000,9,-999.000,9,  2191.2,2,  2295.9,6,-999.0000,9,  -999.00,-999.0000,9, -999.00,9,    0.92,2,   -68.0,2,     2.0, -999.00,9, -999.00,9, -999.00,9, -999.00,9,   4.8386, -999.00
096U20160426,       P15S,      45,          1,         15,       2015,2,20160522,       1321,   -44.8347,  -173.1415,       3830,  1265.2,   4.3610,  34.3540,2,  34.3563,2,    198.2,2,   197.9,2,   36.38,2,   30.98,2,    0.00,4,    2.13,2,-999.000,9,-999.000,9,-999.000,9,  2201.6,6,  2303.2,6,-999.0000,9,  -999.00,-999.0000,9, -999.00,9,    0.83,2,   -85.5,2,     2.0, -999.00,9, -999.00,9, -999.00,9, -999.00,9,   4.2596, -999.00
096U20160426,       P15S,      45,          1,         14,       2014,2,20160522,       1321,   -44.8347,  -173.1415,       3830,  1364.0,   3.8700,  34.3790,2,  34.3807,2,    191.6,2,   192.0,2,   44.74,2,   32.15,2,    0.00,4,    2.21,2,-999.000,9,-999.000,9,-999.000,9,  2215.5,2,  2311.0,2,-999.0000,9,  -999.00,-999.0000,9, -999.00,9,    0.73,2,  -100.2,2,     2.0, -999.00,9, -999.00,9, -999.00,9, -999.00,9,   3.7647, -999.00
096U20160426,       P15S,      45,          1,         13,       2013,2,20160522,       1321,   -44.8347,  -173.1415,       3830,  1463.3,   3.5300,  34.4110,2,  34.4123,2,    185.4,2,   185.5,2,   52.51,2,   32.95,2,    0.00,4,    2.27,2,-999.000,9,-999.000,9,-999.000,9,  -999.0,9,  -999.0,9,-999.0000,9,  -999.00,-999.0000,9, -999.00,9, -999.00,9,  -999.0,9,  -999.0, -999.00,9, -999.00,9, -999.00,9, -999.00,9,   3.4197, -999.00
096U20160426,       P15S,      45,          1,         12,       2012,2,20160522,       1321,   -44.8347,  -173.1415,       3830,  1565.1,   3.2680,  34.4480,2,  34.4497,2,    179.6,2,   179.5,2,   59.78,2,   33.47,2,    0.00,4,    2.31,2,-999.000,9,-999.000,9,-999.000,9,  2237.3,2,  2325.9,2,-999.0000,9,  -999.00,-999.0000,9, -999.00,9,    0.60,2,  -130.4,2,     2.0, -999.00,9, -999.00,9, -999.00,9, -999.00,9,   3.1518, -999.00
096U20160426,       P15S,      45,          1,         11,       2011,2,20160522,       1321,   -44.8347,  -173.1415,       3830,  1661.9,   3.0570,  34.4870,2,  34.4872,2,    174.7,2,   174.1,2,   66.48,2,   33.83,2,    0.00,4,    2.34,2,-999.000,9,-999.000,9,-999.000,9,  -999.0,9,  -999.0,9,-999.0000,9,  -999.00,-999.0000,9, -999.00,9, -999.00,9,  -999.0,9,  -999.0, -999.00,9, -999.00,9, -999.00,9, -999.00,9,   2.9350, -999.00
096U20160426,       P15S,      45,          1,         10,       2010,2,20160522,       1321,   -44.8347,  -173.1415,       3830,  1763.8,   3.0220,  34.5380,2,  34.5385,2,    166.0,2,   165.6,2,   77.99,2,   33.96,2,    0.00,4,    2.36,2,-999.000,9,-999.000,9,-999.000,9,  2256.6,2,  2347.9,2,-999.0000,9,  -999.00,-999.0000,9, -999.00,9,    0.49,2,  -157.2,2,     2.0, -999.00,9, -999.00,9, -999.00,9, -999.00,9,   2.8915, -999.00
096U20160426,       P15S,      45,          1,          9,       2009,2,20160522,       1321,   -44.8347,  -173.1415,       3830,  1931.1,   2.7100,  34.5860,2,  34.5868,2,    160.2,2,   159.7,2,   90.98,2,   34.36,2,    0.00,4,    2.40,2,-999.000,9,-999.000,9,-999.000,9,  2273.9,2,  2365.1,2,-999.0000,9,  -999.00,-999.0000,9, -999.00,9,    0.41,2,  -174.8,2,     2.0, -999.00,9, -999.00,9, -999.00,9, -999.00,9,   2.5690, -999.00
096U20160426,       P15S,      45,          1,          8,       2008,2,20160522,       1321,   -44.8347,  -173.1415,       3830,  2165.6,   2.3940,  34.6300,2,  34.6305,2,    159.5,2,   158.4,2,   99.97,2,   34.45,2,    0.00,4,    2.41,2,   0.102,2,   0.050,2,       0,2,  2285.4,2,  2373.7,2,-999.0000,9,  -999.00,-999.0000,9, -999.00,9,    0.36,2,  -188.9,2,     2.0, -999.00,9, -999.00,9, -999.00,9, -999.00,9,   2.2370, -999.00
096U20160426,       P15S,      45,          1,          7,       2007,2,20160522,       1321,   -44.8347,  -173.1415,       3830,  2401.7,   2.2290,  34.6870,2,  34.6878,2,    175.8,2,   175.9,2,   88.44,2,   32.55,2,    0.00,4,    2.25,2,-999.000,9,-999.000,9,-999.000,9,  2259.8,2,  2355.2,2,-999.0000,9,  -999.00,-999.0000,9, -999.00,9,    0.44,2,  -164.7,2,     2.0, -999.00,9, -999.00,9, -999.00,9, -999.00,9,   2.0533, -999.00
096U20160426,       P15S,      45,          1,          6,       2006,2,20160522,       1321,   -44.8347,  -173.1415,       3830,  2698.8,   1.9930,  34.7230,2,  34.7234,2,    186.1,2,   187.1,2,   90.64,2,   31.54,2,    0.00,4,    2.17,2,   0.134,2,   0.067,2,       0,2,  2253.0,2,  2354.4,2,-999.0000,9,  -999.00,-999.0000,9, -999.00,9,    0.52,2,  -156.8,2,     2.0, -999.00,9, -999.00,9, -999.00,9, -999.00,9,   1.7941, -999.00
096U20160426,       P15S,      45,          1,          5,       2005,2,20160522,       1321,   -44.8347,  -173.1415,       3830,  3001.2,   1.7270,  34.7330,2,  34.7335,2,    193.5,2,   194.7,2,   96.45,2,   31.24,2,    0.00,4,    2.15,2,-999.000,9,-999.000,9,-999.000,9,  2253.8,2,  2357.0,2,-999.0000,9,  -999.00,-999.0000,9, -999.00,9,    0.44,2,  -154.6,2,     2.0, -999.00,9, -999.00,9, -999.00,9, -999.00,9,   1.5048, -999.00
096U20160426,       P15S,      45,          1,          4,       2004,2,20160522,       1321,   -44.8347,  -173.1415,       3830,  3299.8,   1.4390,  34.7280,2,  34.7282,2,    198.2,2,   199.4,2,  104.30,2,   31.41,2,    0.00,4,    2.16,2,   0.133,2,   0.064,2,   0.034,2,  2257.4,2,  2360.1,6,-999.0000,9,  -999.00,-999.0000,9, -999.00,9,    0.49,2,  -161.4,2,     2.0, -999.00,9, -999.00,9, -999.00,9, -999.00,9,   1.1942, -999.00
096U20160426,       P15S,      45,          1,          3,       2003,2,20160522,       1321,   -44.8347,  -173.1415,       3830,  3599.8,   1.2190,  34.7190,2,  34.7195,2,    201.5,2,   202.8,2,  110.85,2,   31.68,2,    0.01,4,    2.18,2,-999.000,9,-999.000,9,-999.000,9,  2256.9,2,  2362.7,2,-999.0000,9,  -999.00,-999.0000,9, -999.00,9,    0.47,2,  -159.7,2,     2.0, -999.00,9, -999.00,9, -999.00,9, -999.00,9,   0.9496, -999.00
096U20160426,       P15S,      45,          1,          2,       2002,2,20160522,       1321,   -44.8347,  -173.1415,       3830,  3780.2,   1.1650,  34.7170,2,  34.7177,2,    202.4,2,   204.4,2,  112.84,2,   31.77,2,    0.00,4,    2.19,2,   0.191,2,   0.097,2,   0.053,2,  2260.2,6,  2362.4,6,-999.0000,9,  -999.00,-999.0000,9, -999.00,9,    0.48,2,  -164.7,2,     2.0, -999.00,9, -999.00,9, -999.00,9, -999.00,9,   0.8785, -999.00
096U20160426,       P15S,      45,          1,          1,       2001,2,20160522,       1321,   -44.8347,  -173.1415,       3830,  3874.4,   1.1640,  34.7160,2,  34.7174,2,    202.5,2,   204.2,2,  113.13,2,   31.85,2,    0.00,4,    2.19,2,   0.193,2,   0.094,2,   0.074,2,  2259.1,2,  2364.8,2,-999.0000,9,  -999.00,-999.0000,9, -999.00,9,    0.46,2,  -167.7,2,     2.0, -999.00,9, -999.00,9, -999.00,9, -999.00,9,   0.8676, -999.00