BOTTLE,20230413CCHSIOENA
EXPOCODE,SECT_ID,STNNBR,CASTNO,SAMPNO,BTLNBR,BTLNBR_FLAG_W,DATE,TIME,LATITUDE,LONGITUDE,DEPTH,CTDPRS,CTDTMP,CTDSAL,CTDSAL_FLAG_W,SALNTY,SALNTY_FLAG_W,CTDOXY,CTDOXY_FLAG_W,OXYGEN,OXYGEN_FLAG_W,SILCAT,SILCAT_FLAG_W,NITRAT,NITRAT_FLAG_W,NITRIT,NITRIT_FLAG_W,PHSPHT,PHSPHT_FLAG_W,CFC-11,CFC-11_FLAG_W,CFC-12,CFC-12_FLAG_W,SF6,SF6_FLAG_W,TCARBN,TCARBN_FLAG_W,ALKALI,ALKALI_FLAG_W,PH_TOT,PH_TOT_FLAG_W,PH_TMP,HELIUM,HELIUM_FLAG_W,DELHE3,DELHE3_FLAG_W,DELC13,DELC13_FLAG_W,DELC14,DELC14_FLAG_W,C14ERR,POC,POC_FLAG_W,PON,PON_FLAG_W,CHLORA,CHLORA_FLAG_W,PPHYTN,PPHYTN_FLAG_W,THETA,DELHER
,,,,,,,,,,,METERS,DBAR,ITS-90,PSS-78,,PSS-78,,UMOL/KG,,UMOL/KG,,UMOL/KG,,UMOL/KG,,UMOL/KG,,UMOL/KG,,PMOL/KG,,PMOL/KG,,FMOL/KG,,UMOL/KG,,UMOL/KG,,,,DEG C,NMOL/KG,,PERCNT,,/MILLE,,/MILLE,,/MILLE,UG/KG,,UG/KG,,UG/KG,,UG/KG,,DEG C,PERCNT
096U20160426,       P15S,      69,          1,         36,       2036,2,20160602,       2102,   -35.0135,  -169.9913,       5264,     6.1,  18.2150,  35.4960,2,  35.4966,2,    233.7,2,   232.7,2,   -0.07,4,    0.03,2,    0.00,4,    0.09,2,-999.000,9,-999.000,9,-999.000,9,  2064.2,2,  2330.8,2,-999.0000,9,  -999.00,-999.0000,9, -999.00,9, -999.00,9,  -999.0,9,  -999.0, -999.00,9, -999.00,9,    0.30,2,    0.04,3,  18.2139, -999.00
096U20160426,       P15S,      69,          1,         35,       2035,2,20160602,       2102,   -35.0135,  -169.9913,       5264,    19.6,  18.1980,  35.4930,2,  35.4927,2,    233.6,2,   232.6,2,   -0.07,4,    0.02,2,    0.00,4,    0.08,2,-999.000,9,-999.000,9,-999.000,9,  -999.0,9,  -999.0,9,-999.0000,9,  -999.00,-999.0000,9, -999.00,9, -999.00,9,  -999.0,9,  -999.0, -999.00,9, -999.00,9,    0.30,2,    0.04,3,  18.1946, -999.00
096U20160426,       P15S,      69,          1,         34,       2034,2,20160602,       2102,   -35.0135,  -169.9913,       5264,    40.3,  18.1960,  35.4920,2,  35.4919,2,    233.6,2,   232.7,2,   -0.07,4,    0.02,2,    0.00,4,    0.09,2,-999.000,9,-999.000,9,-999.000,9,  -999.0,9,  -999.0,9,-999.0000,9,  -999.00,-999.0000,9, -999.00,9, -999.00,9,  -999.0,9,  -999.0, -999.00,9, -999.00,9,    0.26,2,    0.04,3,  18.1890, -999.00
096U20160426,       P15S,      69,          1,         33,       2033,2,20160602,       2102,   -35.0135,  -169.9913,       5264,    63.5,  18.2000,  35.4930,2,  35.4883,2,    233.3,2,   232.7,2,   -0.04,4,    0.02,2,    0.00,4,    0.09,2,-999.000,9,-999.000,9,-999.000,9,  -999.0,9,  -999.0,9,-999.0000,9,  -999.00,-999.0000,9, -999.00,9, -999.00,9,  -999.0,9,  -999.0, -999.00,9, -999.00,9,    0.25,2,    0.09,3,  18.1890, -999.00
096U20160426,       P15S,      69,          1,         32,       2032,2,20160602,       2102,   -35.0135,  -169.9913,       5264,    89.0,  17.4350,  35.3990,2,  35.3551,2,    240.2,2,   242.8,2,    0.15,4,    0.18,2,    0.03,2,    0.15,2,-999.000,9,-999.000,9,-999.000,9,  2074.4,2,  2322.6,2,-999.0000,9,  -999.00,-999.0000,9, -999.00,9, -999.00,9,  -999.0,9,  -999.0, -999.00,9, -999.00,9,    0.50,2,    0.16,3,  17.4201, -999.00
096U20160426,       P15S,      69,          1,         31,       2031,2,20160602,       2102,   -35.0135,  -169.9913,       5264,   135.3,  14.0260,  35.2320,2,  35.2356,2,    224.6,2,   223.8,2,    0.95,2,    4.91,2,    0.02,4,    0.43,2,-999.000,9,-999.000,9,-999.000,9,  -999.0,9,  -999.0,9,-999.0000,9,  -999.00,-999.0000,9, -999.00,9, -999.00,9,  -999.0,9,  -999.0, -999.00,9, -999.00,9, -999.00,9, -999.00,9,  14.0064, -999.00
096U20160426,       P15S,      69,          1,         30,       2030,2,20160602,       2102,   -35.0135,  -169.9913,       5264,   183.5,  13.1180,  35.0990,2,  35.0886,2,    222.7,2,   221.2,2,    1.39,2,    7.07,2,    0.01,4,    0.57,2,-999.000,9,-999.000,9,-999.000,9,  -999.0,9,  -999.0,9,-999.0000,9,  -999.00,-999.0000,9, -999.00,9, -999.00,9,  -999.0,9,  -999.0, -999.00,9, -999.00,9, -999.00,9, -999.00,9,  13.0926, -999.00
096U20160426,       P15S,      69,          1,         29,       2029,2,20160602,       2102,   -35.0135,  -169.9913,       5264,   235.8,  11.7090,  34.9080,2,  34.9156,2,    209.5,2,   208.4,2,    2.49,2,   11.77,2,    0.00,4,    0.85,2,-999.000,9,-999.000,9,-999.000,9,  2126.2,2,  2298.2,6,-999.0000,9,  -999.00,-999.0000,9, -999.00,9, -999.00,9,  -999.0,9,  -999.0, -999.00,9, -999.00,9, -999.00,9, -999.00,9,  11.6787, -999.00
096U20160426,       P15S,      69,          1,         28,       2028,2,20160602,       2102,   -35.0135,  -169.9913,       5264,   285.7,  10.8450,  34.8020,2,  34.7905,2,    209.8,2,   209.2,2,    3.11,2,   14.23,2,    0.00,4,    1.00,2,-999.000,9,-999.000,9,-999.000,9,  -999.0,9,  -999.0,9,-999.0000,9,  -999.00,-999.0000,9, -999.00,9, -999.00,9,  -999.0,9,  -999.0, -999.00,9, -999.00,9, -999.00,9, -999.00,9,  10.8100, -999.00
096U20160426,       P15S,      69,          1,         27,       2027,2,20160602,       2102,   -35.0135,  -169.9913,       5264,   335.4,   9.7020,  34.6650,2,  34.6539,2,    216.6,2,   216.3,2,    3.61,2,   16.41,2,    0.00,4,    1.14,2,-999.000,9,-999.000,9,-999.000,9,  -999.0,9,  -999.0,9,-999.0000,9,  -999.00,-999.0000,9, -999.00,9, -999.00,9,  -999.0,9,  -999.0, -999.00,9, -999.00,9, -999.00,9, -999.00,9,   9.6637, -999.00
096U20160426,       P15S,      69,          1,         26,       2026,2,20160602,       2102,   -35.0135,  -169.9913,       5264,   385.5,   9.0300,  34.5880,2,  34.5800,2,    222.1,2,   221.7,2,    3.61,2,   16.40,2,    0.00,4,    1.14,2,-999.000,9,-999.000,9,-999.000,9,  -999.0,9,  -999.0,9,-999.0000,9,  -999.00,-999.0000,9, -999.00,9, -999.00,9,  -999.0,9,  -999.0, -999.00,9, -999.00,9, -999.00,9, -999.00,9,   8.9878, -999.00
096U20160426,       P15S,      69,          1,         25,       2025,2,20160602,       2102,   -35.0135,  -169.9913,       5264,   464.8,   8.1080,  34.4880,2,  34.4866,2,    232.0,2,   231.8,2,    3.95,2,   17.63,2,    0.00,4,    1.21,2,-999.000,9,-999.000,9,-999.000,9,  -999.0,9,  -999.0,9,-999.0000,9,  -999.00,-999.0000,9, -999.00,9, -999.00,9,  -999.0,9,  -999.0, -999.00,9, -999.00,9, -999.00,9, -999.00,9,   8.0601, -999.00
096U20160426,       P15S,      69,          1,         24,       2024,2,20160602,       2102,   -35.0135,  -169.9913,       5264,   566.1,   7.3690,  34.4140,2,  34.4108,2,    235.9,2,   235.5,2,    5.90,2,   21.35,2,    0.00,4,    1.45,2,-999.000,9,-999.000,9,-999.000,9,  -999.0,9,  -999.0,9,-999.0000,9,  -999.00,-999.0000,9, -999.00,9, -999.00,9,  -999.0,9,  -999.0, -999.00,9, -999.00,9, -999.00,9, -999.00,9,   7.3135, -999.00
096U20160426,       P15S,      69,          1,         23,       2023,2,20160602,       2102,   -35.0135,  -169.9913,       5264,   665.6,   6.8650,  34.3760,2,  34.3751,2,    234.6,2,   234.6,2,    7.60,2,   22.87,2,    0.00,4,    1.54,2,-999.000,9,-999.000,9,-999.000,9,  2147.8,2,  2281.7,2,-999.0000,9,  -999.00,-999.0000,9, -999.00,9, -999.00,9,  -999.0,9,  -999.0, -999.00,9, -999.00,9, -999.00,9, -999.00,9,   6.8019, -999.00
096U20160426,       P15S,      69,          1,         22,       2022,2,20160602,       2102,   -35.0135,  -169.9913,       5264,   766.1,   6.3530,  34.3440,2,  34.3445,2,    230.1,2,   230.4,2,   10.11,2,   24.43,2,    0.00,4,    1.65,2,-999.000,9,-999.000,9,-999.000,9,  -999.0,9,  -999.0,9,-999.0000,9,  -999.00,-999.0000,9, -999.00,9, -999.00,9,  -999.0,9,  -999.0, -999.00,9, -999.00,9, -999.00,9, -999.00,9,   6.2828, -999.00
096U20160426,       P15S,      69,          1,         21,       2021,2,20160602,       2102,   -35.0135,  -169.9913,       5264,   865.9,   5.8120,  34.3250,2,  34.3243,2,    221.5,2,   221.7,2,   14.32,2,   26.40,2,    0.00,4,    1.78,2,-999.000,9,-999.000,9,-999.000,9,  -999.0,9,  -999.0,9,-999.0000,9,  -999.00,-999.0000,9, -999.00,9, -999.00,9,  -999.0,9,  -999.0, -999.00,9, -999.00,9, -999.00,9, -999.00,9,   5.7356, -999.00
096U20160426,       P15S,      69,          1,         20,       2020,2,20160602,       2102,   -35.0135,  -169.9913,       5264,   965.4,   5.2850,  34.3250,2,  34.3252,2,    210.6,2,   210.7,2,   20.29,2,   28.29,2,    0.00,4,    1.91,2,-999.000,9,-999.000,9,-999.000,9,  2175.9,2,  2289.5,2,-999.0000,9,  -999.00,-999.0000,9, -999.00,9, -999.00,9,  -999.0,9,  -999.0, -999.00,9, -999.00,9, -999.00,9, -999.00,9,   5.2030, -999.00
096U20160426,       P15S,      69,          1,         19,       2019,2,20160602,       2102,   -35.0135,  -169.9913,       5264,  1066.5,   4.6550,  34.3330,2,  34.3350,2,    200.2,2,   200.3,2,   29.13,2,   30.37,2,    0.00,4,    2.06,2,-999.000,9,-999.000,9,-999.000,9,  -999.0,9,  -999.0,9,-999.0000,9,  -999.00,-999.0000,9, -999.00,9, -999.00,9,  -999.0,9,  -999.0, -999.00,9, -999.00,9, -999.00,9, -999.00,9,   4.5687, -999.00
096U20160426,       P15S,      69,          1,         18,       2018,2,20160602,       2102,   -35.0135,  -169.9913,       5264,  1165.7,   4.0790,  34.3550,2,  34.3549,2,    192.6,2,   192.5,2,   37.16,2,   31.74,2,    0.00,4,    2.16,2,-999.000,9,-999.000,9,-999.000,9,  -999.0,9,  -999.0,9,-999.0000,9,  -999.00,-999.0000,9, -999.00,9, -999.00,9,  -999.0,9,  -999.0, -999.00,9, -999.00,9, -999.00,9, -999.00,9,   3.9889, -999.00
096U20160426,       P15S,      69,          1,         17,       2017,2,20160602,       2102,   -35.0135,  -169.9913,       5264,  1266.1,   3.6020,  34.3920,2,  34.3922,2,    184.4,2,   184.6,2,   47.16,2,   32.94,2,    0.00,4,    2.25,2,-999.000,9,-999.000,9,-999.000,9,  -999.0,9,  -999.0,9,-999.0000,9,  -999.00,-999.0000,9, -999.00,9, -999.00,9,  -999.0,9,  -999.0, -999.00,9, -999.00,9, -999.00,9, -999.00,9,   3.5078, -999.00
096U20160426,       P15S,      69,          1,         16,       2016,2,20160602,       2102,   -35.0135,  -169.9913,       5264,  1366.0,   3.2630,  34.4360,2,  34.4376,2,    177.0,2,   176.2,2,   56.70,2,   33.63,2,    0.00,4,    2.31,2,-999.000,9,-999.000,9,-999.000,9,  -999.0,9,  -999.0,9,-999.0000,9,  -999.00,-999.0000,9, -999.00,9, -999.00,9,  -999.0,9,  -999.0, -999.00,9, -999.00,9, -999.00,9, -999.00,9,   3.1637, -999.00
096U20160426,       P15S,      69,          1,         15,       2015,2,20160602,       2102,   -35.0135,  -169.9913,       5264,  1535.3,   2.8920,  34.5240,2,  34.5221,2,    165.0,2,   164.7,2,   74.34,2,   34.21,2,    0.00,4,    2.36,2,-999.000,9,-999.000,9,-999.000,9,  -999.0,9,  -999.0,9,-999.0000,9,  -999.00,-999.0000,9, -999.00,9, -999.00,9,  -999.0,9,  -999.0, -999.00,9, -999.00,9, -999.00,9, -999.00,9,   2.7826, -999.00
096U20160426,       P15S,      69,          1,         14,       2014,2,20160602,       2102,   -35.0135,  -169.9913,       5264,  1735.3,   2.5890,  34.5800,2,  34.5792,2,    157.2,2,   156.6,2,   90.31,2,   34.73,2,    0.00,4,    2.41,2,-999.000,9,-999.000,9,-999.000,9,  -999.0,9,  -999.0,9,-999.0000,9,  -999.00,-999.0000,9, -999.00,9, -999.00,9,  -999.0,9,  -999.0, -999.00,9, -999.00,9, -999.00,9, -999.00,9,   2.4665, -999.00
096U20160426,       P15S,      69,          1,         13,       2013,2,20160602,       2102,   -35.0135,  -169.9913,       5264,  1935.5,   2.3840,  34.6120,2,  34.6119,2,    152.8,2,   151.6,2,  102.14,2,   35.05,2,    0.00,4,    2.44,2,-999.000,9,-999.000,9,-999.000,9,  -999.0,9,  -999.0,9,-999.0000,9,  -999.00,-999.0000,9, -999.00,9, -999.00,9,  -999.0,9,  -999.0, -999.00,9, -999.00,9, -999.00,9, -999.00,9,   2.2473, -999.00
096U20160426,       P15S,      69,          1,         12,       2012,2,20160602,       2102,   -35.0135,  -169.9913,       5264,  2163.8,   2.2310,  34.6310,2,  34.6304,2,    150.2,2,   149.2,2,  110.24,2,   35.29,2,    0.00,4,    2.46,2,-999.000,9,-999.000,9,-999.000,9,  -999.0,9,  -999.0,9,-999.0000,9,  -999.00,-999.0000,9, -999.00,9, -999.00,9,  -999.0,9,  -999.0, -999.00,9, -999.00,9, -999.00,9, -999.00,9,   2.0768, -999.00
096U20160426,       P15S,      69,          1,         11,       2011,2,20160602,       2102,   -35.0135,  -169.9913,       5264,  2499.2,   2.0400,  34.6500,2,  34.6491,2,    149.0,2,   147.9,2,  118.69,2,   35.51,2,    0.00,4,    2.48,2,   0.001,2,   0.002,2,       0,2,  2310.1,6,  2398.7,6,-999.0000,9,  -999.00,-999.0000,9, -999.00,9, -999.00,9,  -999.0,9,  -999.0, -999.00,9, -999.00,9, -999.00,9, -999.00,9,   1.8590, -999.00
096U20160426,       P15S,      69,          1,         10,       2010,2,20160602,       2102,   -35.0135,  -169.9913,       5264,  2666.1,   1.9690,  34.6570,2,  34.6564,2,    149.8,2,   149.1,2,  120.99,2,   35.44,2,    0.00,4,    2.47,2,   0.003,2,   0.003,2,       0,2,  -999.0,9,  -999.0,9,-999.0000,9,  -999.00,-999.0000,9, -999.00,9, -999.00,9,  -999.0,9,  -999.0, -999.00,9, -999.00,9, -999.00,9, -999.00,9,   1.7739, -999.00
096U20160426,       P15S,      69,          1,          9,       2009,2,20160602,       2102,   -35.0135,  -169.9913,       5264,  2914.8,   1.8500,  34.6700,2,  34.6686,2,    154.1,2,   153.0,2,  122.44,2,   35.16,2,    0.00,4,    2.45,2,-999.000,9,-999.000,9,-999.000,9,  -999.0,9,  -999.0,9,-999.0000,9,  -999.00,-999.0000,9, -999.00,9, -999.00,9,  -999.0,9,  -999.0, -999.00,9, -999.00,9, -999.00,9, -999.00,9,   1.6337, -999.00
096U20160426,       P15S,      69,          1,          8,       2008,2,20160602,       2102,   -35.0135,  -169.9913,       5264,  3199.4,   1.7510,  34.6870,2,  34.6862,2,    165.1,2,   164.7,2,  117.82,2,   34.12,2,    0.00,4,    2.37,2,-999.000,9,-999.000,9,-999.000,9,  -999.0,9,  -999.0,9,-999.0000,9,  -999.00,-999.0000,9, -999.00,9, -999.00,9,  -999.0,9,  -999.0, -999.00,9, -999.00,9, -999.00,9, -999.00,9,   1.5090, -999.00
096U20160426,       P15S,      69,          1,          7,       2007,2,20160602,       2102,   -35.0135,  -169.9913,       5264,  3565.2,   1.5710,  34.7140,2,  34.7135,2,    186.7,2,   187.5,2,  107.57,2,   32.25,2,    0.00,4,    2.22,2,-999.000,9,-999.000,9,-999.000,9,  -999.0,9,  -999.0,9,-999.0000,9,  -999.00,-999.0000,9, -999.00,9, -999.00,9,  -999.0,9,  -999.0, -999.00,9, -999.00,9, -999.00,9, -999.00,9,   1.2961, -999.00
096U20160426,       P15S,      69,          1,          6,       2006,2,20160602,       2102,   -35.0135,  -169.9913,       5264,  3964.1,   1.3080,  34.7190,2,  34.7181,2,    199.1,2,   199.8,2,  109.38,2,   31.64,2,    0.00,4,    2.17,2,-999.000,9,-999.000,9,-999.000,9,  2261.6,2,  2365.3,2,-999.0000,9,  -999.00,-999.0000,9, -999.00,9, -999.00,9,  -999.0,9,  -999.0, -999.00,9, -999.00,9, -999.00,9, -999.00,9,   0.9981, -999.00
096U20160426,       P15S,      69,          1,          5,       2005,2,20160602,       2102,   -35.0135,  -169.9913,       5264,  4365.0,   1.1090,  34.7130,2,  34.7125,2,    204.5,2,   204.8,2,  115.02,2,   31.84,2,    0.00,4,    2.18,2,-999.000,9,-999.000,9,-999.000,9,  -999.0,9,  -999.0,9,-999.0000,9,  -999.00,-999.0000,9, -999.00,9, -999.00,9,  -999.0,9,  -999.0, -999.00,9, -999.00,9, -999.00,9, -999.00,9,   0.7611, -999.00
096U20160426,       P15S,      69,          1,          4,       2004,2,20160602,       2102,   -35.0135,  -169.9913,       5264,  4766.4,   1.0460,  34.7090,2,  34.7092,2,    206.9,2,   206.4,2,  117.89,2,   31.90,2,    0.00,4,    2.19,2,-999.000,9,-999.000,9,-999.000,9,  -999.0,9,  -999.0,9,-999.0000,9,  -999.00,-999.0000,9, -999.00,9, -999.00,9,  -999.0,9,  -999.0, -999.00,9, -999.00,9, -999.00,9, -999.00,9,   0.6544, -999.00
096U20160426,       P15S,      69,          1,          3,       2003,2,20160602,       2102,   -35.0135,  -169.9913,       5264,  5164.8,   1.0680,  34.7080,2,  34.7074,2,    207.7,2,   206.7,2,  118.60,2,   31.96,2,    0.00,4,    2.19,2,-999.000,9,-999.000,9,-999.000,9,  -999.0,9,  -999.0,9,-999.0000,9,  -999.00,-999.0000,9, -999.00,9, -999.00,9,  -999.0,9,  -999.0, -999.00,9, -999.00,9, -999.00,9, -999.00,9,   0.6283, -999.00
096U20160426,       P15S,      69,          1,          2,       2002,2,20160602,       2102,   -35.0135,  -169.9913,       5264,  5265.6,   1.0800,  34.7080,2,  34.7071,2,    207.8,2,   206.6,2,  118.56,2,   31.98,2,    0.00,4,    2.19,2,-999.000,9,-999.000,9,-999.000,9,  -999.0,9,  -999.0,9,-999.0000,9,  -999.00,-999.0000,9, -999.00,9, -999.00,9,  -999.0,9,  -999.0, -999.00,9, -999.00,9, -999.00,9, -999.00,9,   0.6276, -999.00
096U20160426,       P15S,      69,          1,          1,       2001,2,20160602,       2102,   -35.0135,  -169.9913,       5264,  5345.7,   1.0900,  34.7080,2,  34.7074,2,    207.9,2,   206.5,2,  118.71,2,   31.99,2,    0.00,4,    2.19,2,-999.000,9,-999.000,9,-999.000,9,  2263.8,2,  2367.2,2,-999.0000,9,  -999.00,-999.0000,9, -999.00,9, -999.00,9,  -999.0,9,  -999.0, -999.00,9, -999.00,9, -999.00,9, -999.00,9,   0.6274, -999.00