BOTTLE,20230413CCHSIOENA
EXPOCODE,SECT_ID,STNNBR,CASTNO,SAMPNO,BTLNBR,BTLNBR_FLAG_W,DATE,TIME,LATITUDE,LONGITUDE,DEPTH,CTDPRS,CTDTMP,CTDSAL,CTDSAL_FLAG_W,SALNTY,SALNTY_FLAG_W,CTDOXY,CTDOXY_FLAG_W,OXYGEN,OXYGEN_FLAG_W,SILCAT,SILCAT_FLAG_W,NITRAT,NITRAT_FLAG_W,NITRIT,NITRIT_FLAG_W,PHSPHT,PHSPHT_FLAG_W,CFC-11,CFC-11_FLAG_W,CFC-12,CFC-12_FLAG_W,SF6,SF6_FLAG_W,TCARBN,TCARBN_FLAG_W,ALKALI,ALKALI_FLAG_W,PH_TOT,PH_TOT_FLAG_W,PH_TMP,HELIUM,HELIUM_FLAG_W,DELHE3,DELHE3_FLAG_W,DELC13,DELC13_FLAG_W,DELC14,DELC14_FLAG_W,C14ERR,POC,POC_FLAG_W,PON,PON_FLAG_W,CHLORA,CHLORA_FLAG_W,PPHYTN,PPHYTN_FLAG_W,THETA,DELHER
,,,,,,,,,,,METERS,DBAR,ITS-90,PSS-78,,PSS-78,,UMOL/KG,,UMOL/KG,,UMOL/KG,,UMOL/KG,,UMOL/KG,,UMOL/KG,,PMOL/KG,,PMOL/KG,,FMOL/KG,,UMOL/KG,,UMOL/KG,,,,DEG C,NMOL/KG,,PERCNT,,/MILLE,,/MILLE,,/MILLE,UG/KG,,UG/KG,,UG/KG,,UG/KG,,DEG C,PERCNT
096U20160426,       P15S,      51,          1,         36,       2036,2,20160528,       1855,   -42.3962,  -174.4090,       2663,     5.9,  15.6270,  35.1880,2,  35.1887,2,    241.7,2,   239.8,2,    0.59,2,    0.67,2,    0.24,2,    0.18,2,   2.515,6,   1.475,6,   1.825,6,  2070.5,2,  2316.5,2,-999.0000,9,  -999.00,-999.0000,9, -999.00,9,    1.29,2,    44.8,2,     2.0, -999.00,9, -999.00,9,    0.73,2,    0.06,3,  15.6261, -999.00
096U20160426,       P15S,      51,          1,         35,       2035,2,20160528,       1855,   -42.3962,  -174.4090,       2663,    21.0,  15.6150,  35.1880,2,  35.1898,2,    241.9,2,   239.8,2,    0.54,2,    0.67,2,    0.24,2,    0.18,2,-999.000,9,-999.000,9,-999.000,9,  -999.0,9,  -999.0,9,-999.0000,9,  -999.00,-999.0000,9, -999.00,9, -999.00,9,  -999.0,9,  -999.0, -999.00,9, -999.00,9,    0.90,2,    0.18,3,  15.6117, -999.00
096U20160426,       P15S,      51,          1,         34,       2034,2,20160528,       1855,   -42.3962,  -174.4090,       2663,    40.6,  15.6240,  35.1890,2,  35.1817,2,    241.4,2,   240.1,2,    0.61,2,    0.68,2,    0.23,2,    0.18,2,-999.000,9,-999.000,9,-999.000,9,  -999.0,9,  -999.0,9,-999.0000,9,  -999.00,-999.0000,9, -999.00,9, -999.00,9,  -999.0,9,  -999.0, -999.00,9, -999.00,9,    1.12,2,    0.06,3,  15.6177, -999.00
096U20160426,       P15S,      51,          1,         33,       2033,2,20160528,       1855,   -42.3962,  -174.4090,       2663,    66.0,  15.0930,  35.1060,2,  35.1078,2,    245.3,2,   243.3,2,    0.43,2,    0.66,2,    0.22,2,    0.19,2,-999.000,9,-999.000,9,-999.000,9,  -999.0,9,  -999.0,9,-999.0000,9,  -999.00,-999.0000,9, -999.00,9, -999.00,9,  -999.0,9,  -999.0, -999.00,9, -999.00,9,    1.00,2,    0.21,3,  15.0830, -999.00
096U20160426,       P15S,      51,          1,         32,       2032,2,20160528,       1855,   -42.3962,  -174.4090,       2663,    90.7,  15.1330,  35.1160,2,  35.1117,2,    244.4,2,   242.0,2,    0.49,2,    0.98,2,    0.23,2,    0.21,2,   2.562,2,   1.547,2,   1.887,2,  2075.6,2,  2313.6,2,-999.0000,9,  -999.00,-999.0000,9, -999.00,9,    1.38,2,    35.9,2,     2.0, -999.00,9, -999.00,9,    0.68,2,    0.44,3,  15.1192, -999.00
096U20160426,       P15S,      51,          1,         31,       2031,2,20160528,       1855,   -42.3962,  -174.4090,       2663,   116.3,  13.2000,  35.0110,2,  35.0118,2,    226.3,2,   224.4,2,    1.36,2,    6.88,2,    0.02,4,    0.58,2,-999.000,9,-999.000,9,-999.000,9,  -999.0,9,  -999.0,9,-999.0000,9,  -999.00,-999.0000,9, -999.00,9, -999.00,9,  -999.0,9,  -999.0, -999.00,9, -999.00,9, -999.00,9, -999.00,9,  13.1839, -999.00
096U20160426,       P15S,      51,          1,         30,       2030,2,20160528,       1855,   -42.3962,  -174.4090,       2663,   139.3,  12.5310,  35.0020,2,  35.0055,2,    230.2,2,   228.0,2,    1.71,2,    8.46,2,    0.02,4,    0.66,2,   2.897,2,   1.731,2,   1.918,2,  2111.3,6,  2304.6,6,-999.0000,9,  -999.00,-999.0000,9, -999.00,9,    1.01,2,    41.7,2,     2.0, -999.00,9, -999.00,9, -999.00,9, -999.00,9,  12.5123, -999.00
096U20160426,       P15S,      51,          1,         29,       2029,2,20160528,       1855,   -42.3962,  -174.4090,       2663,   167.0,  12.3240,  35.0490,2,  35.0495,2,    233.3,2,   230.3,2,    1.90,2,    8.75,2,    0.02,4,    0.68,2,-999.000,9,-999.000,9,-999.000,9,  -999.0,9,  -999.0,9,-999.0000,9,  -999.00,-999.0000,9, -999.00,9, -999.00,9,  -999.0,9,  -999.0, -999.00,9, -999.00,9, -999.00,9, -999.00,9,  12.3018, -999.00
096U20160426,       P15S,      51,          1,         28,       2028,2,20160528,       1855,   -42.3962,  -174.4090,       2663,   190.6,  12.0550,  35.0240,2,  35.0217,2,    232.9,2,   231.1,2,    2.31,2,    9.49,2,    0.02,4,    0.72,2,-999.000,9,-999.000,9,-999.000,9,  -999.0,9,  -999.0,9,-999.0000,9,  -999.00,-999.0000,9, -999.00,9, -999.00,9,  -999.0,9,  -999.0, -999.00,9, -999.00,9, -999.00,9, -999.00,9,  12.0301, -999.00
096U20160426,       P15S,      51,          1,         27,       2027,2,20160528,       1855,   -42.3962,  -174.4090,       2663,   214.8,  11.7820,  34.9850,2,  34.9771,2,    232.3,2,   229.8,2,    2.67,2,   10.41,2,    0.02,4,    0.78,2,   3.082,2,   1.734,2,   1.793,2,  2120.0,2,  2304.6,2,-999.0000,9,  -999.00,-999.0000,9, -999.00,9,    0.92,2,    38.1,2,     2.0, -999.00,9, -999.00,9, -999.00,9, -999.00,9,  11.7543, -999.00
096U20160426,       P15S,      51,          1,         26,       2026,2,20160528,       1855,   -42.3962,  -174.4090,       2663,   239.9,  11.3240,  34.9160,2,  34.9217,2,    231.4,2,   228.8,2,    3.03,2,   11.44,2,    0.02,4,    0.84,2,-999.000,9,-999.000,9,-999.000,9,  -999.0,9,  -999.0,9,-999.0000,9,  -999.00,-999.0000,9, -999.00,9, -999.00,9,  -999.0,9,  -999.0, -999.00,9, -999.00,9, -999.00,9, -999.00,9,  11.2938, -999.00
096U20160426,       P15S,      51,          1,         25,       2025,2,20160528,       1855,   -42.3962,  -174.4090,       2663,   285.4,  10.9320,  34.8580,2,  34.8537,2,    228.2,2,   225.8,2,    3.56,2,   13.01,2,    0.01,4,    0.93,2,   2.977,2,   1.762,2,   1.737,2,  2127.5,2,  2297.4,6,-999.0000,9,  -999.00,-999.0000,9, -999.00,9,    0.93,2,    28.0,2,     2.0, -999.00,9, -999.00,9, -999.00,9, -999.00,9,  10.8969, -999.00
096U20160426,       P15S,      51,          1,         24,       2024,2,20160528,       1855,   -42.3962,  -174.4090,       2663,   334.7,  10.2870,  34.7670,2,  34.7696,2,    229.8,2,   227.8,2,    3.94,2,   14.29,2,    0.01,4,    1.01,2,-999.000,9,-999.000,9,-999.000,9,  -999.0,9,  -999.0,9,-999.0000,9,  -999.00,-999.0000,9, -999.00,9, -999.00,9,  -999.0,9,  -999.0, -999.00,9, -999.00,9, -999.00,9, -999.00,9,  10.2473, -999.00
096U20160426,       P15S,      51,          1,         23,       2023,2,20160528,       1855,   -42.3962,  -174.4090,       2663,   384.8,   9.8650,  34.7110,2,  34.7127,2,    227.9,2,   225.9,2,    4.54,2,   15.60,2,    0.01,4,    1.10,2,   3.309,2,   1.789,2,     1.6,2,  2135.0,2,  2294.0,2,-999.0000,9,  -999.00,-999.0000,9, -999.00,9,    0.97,2,    28.4,2,     2.0, -999.00,9, -999.00,9, -999.00,9, -999.00,9,   9.8205, -999.00
096U20160426,       P15S,      51,          1,         22,       2022,2,20160528,       1855,   -42.3962,  -174.4090,       2663,   435.8,   9.2420,  34.6370,2,  34.6361,2,    226.5,2,   224.1,2,    5.44,2,   17.44,2,    0.00,4,    1.22,2,-999.000,9,-999.000,9,-999.000,9,  -999.0,9,  -999.0,9,-999.0000,9,  -999.00,-999.0000,9, -999.00,9, -999.00,9,  -999.0,9,  -999.0, -999.00,9, -999.00,9, -999.00,9, -999.00,9,   9.1934, -999.00
096U20160426,       P15S,      51,          1,         21,       2021,2,20160528,       1855,   -42.3962,  -174.4090,       2663,   486.1,   8.8710,  34.5990,2,  34.5991,2,    227.7,2,   225.4,2,    6.04,2,   18.32,2,    0.00,4,    1.27,2,   2.254,3,   1.310,3,   1.114,3,  2141.8,2,  2288.9,2,-999.0000,9,  -999.00,-999.0000,9, -999.00,9,    1.00,2,    18.9,2,     2.0, -999.00,9, -999.00,9, -999.00,9, -999.00,9,   8.8180, -999.00
096U20160426,       P15S,      51,          1,         20,       2020,2,20160528,       1855,   -42.3962,  -174.4090,       2663,   566.0,   8.3510,  34.5500,2,  34.5487,2,    222.1,2,   219.8,2,    7.46,2,   20.44,2,    0.00,4,    1.40,2,   3.112,2,   1.693,2,   1.149,2,  2147.0,2,  2288.7,2,-999.0000,9,  -999.00,-999.0000,9, -999.00,9,    1.04,2,    18.9,2,     2.0, -999.00,9, -999.00,9, -999.00,9, -999.00,9,   8.2913, -999.00
096U20160426,       P15S,      51,          1,         19,       2019,2,20160528,       1855,   -42.3962,  -174.4090,       2663,   664.0,   7.5870,  34.4780,2,  34.4785,2,    221.9,2,   219.7,2,    9.46,2,   22.44,2,    0.00,4,    1.53,2,   2.844,2,   1.472,2,   0.872,2,  2151.9,2,  2287.6,2,-999.0000,9,  -999.00,-999.0000,9, -999.00,9,    1.07,2,     4.0,2,     2.0, -999.00,9, -999.00,9, -999.00,9, -999.00,9,   7.5203, -999.00
096U20160426,       P15S,      51,          1,         18,       2018,2,20160528,       1855,   -42.3962,  -174.4090,       2663,   765.5,   7.0030,  34.4370,2,  34.4345,2,    218.4,2,   215.6,2,   12.94,2,   24.36,2,    0.00,4,    1.65,2,   2.464,2,   1.254,2,   0.635,2,  2157.7,2,  2288.0,2,-999.0000,9,  -999.00,-999.0000,9, -999.00,9,    1.11,2,   -13.4,2,     2.0, -999.00,9, -999.00,9, -999.00,9, -999.00,9,   6.9290, -999.00
096U20160426,       P15S,      51,          1,         17,       2017,2,20160528,       1855,   -42.3962,  -174.4090,       2663,   865.4,   6.3670,  34.4120,2,  34.4123,2,    211.5,2,   208.9,2,   17.94,2,   26.20,2,    0.00,4,    1.78,2,   2.055,2,   0.970,2,   0.427,2,  2168.0,2,  2291.0,2,-999.0000,9,  -999.00,-999.0000,9, -999.00,9,    1.05,2,   -17.9,2,     2.0, -999.00,9, -999.00,9, -999.00,9, -999.00,9,   6.2869, -999.00
096U20160426,       P15S,      51,          1,         16,       2016,2,20160528,       1855,   -42.3962,  -174.4090,       2663,   965.4,   5.7430,  34.4060,2,  34.4065,2,    203.1,2,   200.0,2,   25.35,2,   28.09,2,    0.00,4,    1.91,2,   1.433,2,   0.708,2,   0.296,2,  2181.7,2,  2296.7,2,-999.0000,9,  -999.00,-999.0000,9, -999.00,9,    0.99,2,   -58.6,2,     2.0, -999.00,9, -999.00,9, -999.00,9, -999.00,9,   5.6575, -999.00
096U20160426,       P15S,      51,          1,         15,       2015,2,20160528,       1855,   -42.3962,  -174.4090,       2663,  1064.3,   5.1880,  34.4110,2,  34.4137,2,    195.5,2,   192.6,2,   33.34,2,   29.68,2,    0.00,4,    2.02,2,-999.000,9,-999.000,9,-999.000,9,  -999.0,9,  -999.0,9,-999.0000,9,  -999.00,-999.0000,9, -999.00,9, -999.00,9,  -999.0,9,  -999.0, -999.00,9, -999.00,9, -999.00,9, -999.00,9,   5.0975, -999.00
096U20160426,       P15S,      51,          1,         14,       2014,2,20160528,       1855,   -42.3962,  -174.4090,       2663,  1164.7,   4.6400,  34.4300,2,  34.4322,2,    187.7,2,   185.1,2,   42.82,2,   31.03,2,    0.00,4,    2.12,2,   0.691,2,   0.353,2,   0.142,2,  2209.5,2,  2312.8,2,-999.0000,9,  -999.00,-999.0000,9, -999.00,9,    0.85,2,  -105.9,2,     2.0, -999.00,9, -999.00,9, -999.00,9, -999.00,9,   4.5449, -999.00
096U20160426,       P15S,      51,          1,         13,       2013,2,20160528,       1855,   -42.3962,  -174.4090,       2663,  1265.7,   4.2570,  34.4510,2,  34.4556,2,    182.4,2,   179.2,2,   50.97,2,   31.93,2,    0.00,4,    2.19,2,   0.532,2,   0.262,2,   0.126,2,  2221.8,2,  2320.6,2,-999.0000,9,  -999.00,-999.0000,9, -999.00,9,    0.76,2,  -118.3,2,     2.0, -999.00,9, -999.00,9, -999.00,9, -999.00,9,   4.1563, -999.00
096U20160426,       P15S,      51,          1,         12,       2012,2,20160528,       1855,   -42.3962,  -174.4090,       2663,  1365.8,   3.8520,  34.4810,2,  34.4836,2,    176.1,2,   173.1,2,   60.80,2,   32.77,2,    0.00,4,    2.26,2,   0.342,2,   0.178,2,   0.088,2,  2235.8,2,  2332.6,2,-999.0000,9,  -999.00,-999.0000,9, -999.00,9,    0.67,2,  -136.3,2,     2.0, -999.00,9, -999.00,9, -999.00,9, -999.00,9,   3.7465, -999.00
096U20160426,       P15S,      51,          1,         11,       2011,2,20160528,       1855,   -42.3962,  -174.4090,       2663,  1463.8,   3.5690,  34.5050,2,  34.5072,2,    171.6,2,   168.4,2,   68.68,2,   33.34,2,    0.00,4,    2.30,2,-999.000,9,-999.000,9,-999.000,9,  -999.0,9,  -999.0,9,-999.0000,9,  -999.00,-999.0000,9, -999.00,9, -999.00,9,  -999.0,9,  -999.0, -999.00,9, -999.00,9, -999.00,9, -999.00,9,   3.4580, -999.00
096U20160426,       P15S,      51,          1,         10,       2010,2,20160528,       1855,   -42.3962,  -174.4090,       2663,  1565.8,   3.2300,  34.5360,2,  34.5365,2,    167.0,2,   163.8,2,   77.87,2,   33.95,2,    0.00,4,    2.35,2,-999.000,9,-999.000,9,-999.000,9,  2259.4,2,  2351.5,2,-999.0000,9,  -999.00,-999.0000,9, -999.00,9,    0.53,2,  -166.7,2,     2.0, -999.00,9, -999.00,9, -999.00,9, -999.00,9,   3.1140, -999.00
096U20160426,       P15S,      51,          1,          9,       2009,2,20160528,       1855,   -42.3962,  -174.4090,       2663,  1661.7,   3.0120,  34.5620,2,  34.5635,2,    163.8,2,   160.3,2,   85.63,2,   34.27,2,    0.00,4,    2.38,2,-999.000,9,-999.000,9,-999.000,9,  -999.0,9,  -999.0,9,-999.0000,9,  -999.00,-999.0000,9, -999.00,9, -999.00,9,  -999.0,9,  -999.0, -999.00,9, -999.00,9, -999.00,9, -999.00,9,   2.8904, -999.00
096U20160426,       P15S,      51,          1,          8,       2008,2,20160528,       1855,   -42.3962,  -174.4090,       2663,  1763.0,   2.7630,  34.5870,2,  34.5888,2,    160.5,2,   157.1,2,   93.90,2,   34.65,2,    0.00,4,    2.41,2,-999.000,9,-999.000,9,-999.000,9,  -999.0,9,  -999.0,9,-999.0000,9,  -999.00,-999.0000,9, -999.00,9, -999.00,9,  -999.0,9,  -999.0, -999.00,9, -999.00,9, -999.00,9, -999.00,9,   2.6358, -999.00
096U20160426,       P15S,      51,          1,          7,       2007,2,20160528,       1855,   -42.3962,  -174.4090,       2663,  1865.5,   2.5690,  34.6060,2,  34.6073,2,    158.3,2,   155.1,2,  100.47,2,   34.91,2,    0.00,4,    2.43,2,   0.048,2,   0.030,2,       0,2,  2285.9,6,  2378.1,6,-999.0000,9,  -999.00,-999.0000,9, -999.00,9, -999.00,9,  -999.0,9,  -999.0, -999.00,9, -999.00,9, -999.00,9, -999.00,9,   2.4357, -999.00
096U20160426,       P15S,      51,          1,          6,       2006,2,20160528,       1855,   -42.3962,  -174.4090,       2663,  1964.5,   2.4350,  34.6190,2,  34.6207,2,    157.1,2,   153.6,2,  104.86,2,   35.09,2,    0.00,4,    2.45,2,-999.000,9,-999.000,9,-999.000,9,  -999.0,9,  -999.0,9,-999.0000,9,  -999.00,-999.0000,9, -999.00,9, -999.00,9,  -999.0,9,  -999.0, -999.00,9, -999.00,9, -999.00,9, -999.00,9,   2.2951, -999.00
096U20160426,       P15S,      51,          1,          5,       2005,2,20160528,       1855,   -42.3962,  -174.4090,       2663,  2134.9,   2.2300,  34.6410,2,  34.6418,2,    157.4,2,   154.0,2,  109.64,2,   35.15,2,    0.00,4,    2.45,2,   0.024,6,   0.015,6,   0.023,6,  2295.3,2,  2387.2,6,-999.0000,9,  -999.00,-999.0000,9, -999.00,9, -999.00,9,  -999.0,9,  -999.0, -999.00,9, -999.00,9, -999.00,9, -999.00,9,   2.0783, -999.00
096U20160426,       P15S,      51,          1,          4,       2004,2,20160528,       1855,   -42.3962,  -174.4090,       2663,  2335.1,   2.0060,  34.6720,2,  34.6725,2,    164.8,2,   161.9,2,  109.41,2,   34.42,2,    0.00,4,    2.39,2,-999.000,9,-999.000,9,-999.000,9,  -999.0,9,  -999.0,9,-999.0000,9,  -999.00,-999.0000,9, -999.00,9, -999.00,9,  -999.0,9,  -999.0, -999.00,9, -999.00,9, -999.00,9, -999.00,9,   1.8403, -999.00
096U20160426,       P15S,      51,          1,          3,       2003,2,20160528,       1855,   -42.3962,  -174.4090,       2663,  2534.8,   1.8800,  34.7000,2,  34.7012,2,    176.9,2,   174.3,2,  103.46,2,   33.19,2,    0.00,4,    2.30,2,   0.056,2,   0.032,2,   0.054,3,  2274.9,2,  2372.6,2,-999.0000,9,  -999.00,-999.0000,9, -999.00,9, -999.00,9,  -999.0,9,  -999.0, -999.00,9, -999.00,9, -999.00,9, -999.00,9,   1.6986, -999.00
096U20160426,       P15S,      51,          1,          2,       2002,2,20160528,       1855,   -42.3962,  -174.4090,       2663,  2639.4,   1.8360,  34.7100,2,  34.7106,2,    181.8,2,   179.7,2,  101.28,2,   32.72,2,    0.00,4,    2.26,2,   0.065,2,   0.034,2,       0,2,  2270.4,2,  2367.6,2,-999.0000,9,  -999.00,-999.0000,9, -999.00,9, -999.00,9,  -999.0,9,  -999.0, -999.00,9, -999.00,9, -999.00,9, -999.00,9,   1.6458, -999.00
096U20160426,       P15S,      51,          1,          1,       2001,2,20160528,       1855,   -42.3962,  -174.4090,       2663,  2686.4,   1.8160,  34.7130,2,  34.7135,2,    183.2,2,   181.0,2,  101.08,2,   32.59,2,    0.00,4,    2.25,2,-999.000,9,-999.000,9,-999.000,9,  2267.3,2,  2368.3,2,-999.0000,9,  -999.00,-999.0000,9, -999.00,9, -999.00,9,  -999.0,9,  -999.0, -999.00,9, -999.00,9, -999.00,9, -999.00,9,   1.6218, -999.00