BOTTLE,20230413CCHSIOENA
EXPOCODE,SECT_ID,STNNBR,CASTNO,SAMPNO,BTLNBR,BTLNBR_FLAG_W,DATE,TIME,LATITUDE,LONGITUDE,DEPTH,CTDPRS,CTDTMP,CTDSAL,CTDSAL_FLAG_W,SALNTY,SALNTY_FLAG_W,CTDOXY,CTDOXY_FLAG_W,OXYGEN,OXYGEN_FLAG_W,SILCAT,SILCAT_FLAG_W,NITRAT,NITRAT_FLAG_W,NITRIT,NITRIT_FLAG_W,PHSPHT,PHSPHT_FLAG_W,CFC-11,CFC-11_FLAG_W,CFC-12,CFC-12_FLAG_W,SF6,SF6_FLAG_W,TCARBN,TCARBN_FLAG_W,ALKALI,ALKALI_FLAG_W,PH_TOT,PH_TOT_FLAG_W,PH_TMP,HELIUM,HELIUM_FLAG_W,DELHE3,DELHE3_FLAG_W,DELC13,DELC13_FLAG_W,DELC14,DELC14_FLAG_W,C14ERR,POC,POC_FLAG_W,PON,PON_FLAG_W,CHLORA,CHLORA_FLAG_W,PPHYTN,PPHYTN_FLAG_W,THETA,DELHER
,,,,,,,,,,,METERS,DBAR,ITS-90,PSS-78,,PSS-78,,UMOL/KG,,UMOL/KG,,UMOL/KG,,UMOL/KG,,UMOL/KG,,UMOL/KG,,PMOL/KG,,PMOL/KG,,FMOL/KG,,UMOL/KG,,UMOL/KG,,,,DEG C,NMOL/KG,,PERCNT,,/MILLE,,/MILLE,,/MILLE,UG/KG,,UG/KG,,UG/KG,,UG/KG,,DEG C,PERCNT
096U20160426,       P15S,      40,          1,         36,       2036,2,20160520,       0349,   -47.4880,  -169.9835,       5354,     5.1,  11.6770,  34.6210,2,  34.6200,2,    261.4,2,   262.5,2,    0.86,2,    6.43,2,    0.30,2,    0.60,2,-999.000,9,-999.000,9,-999.000,9,  2086.3,2,  2294.5,2,-999.0000,9,  -999.00,-999.0000,9, -999.00,9, -999.00,9,  -999.0,9,  -999.0, -999.00,9, -999.00,9,    0.53,2,    0.18,3,  11.6764, -999.00
096U20160426,       P15S,      40,          1,         35,       2035,2,20160520,       0349,   -47.4880,  -169.9835,       5354,    25.4,  11.6810,  34.6210,2,  34.6200,2,    261.4,2,   262.4,2,    0.86,2,    6.43,2,    0.30,2,    0.60,2,-999.000,9,-999.000,9,-999.000,9,  -999.0,9,  -999.0,9,-999.0000,9,  -999.00,-999.0000,9, -999.00,9, -999.00,9,  -999.0,9,  -999.0, -999.00,9, -999.00,9, -999.00,9, -999.00,9,  11.6778, -999.00
096U20160426,       P15S,      40,          1,         34,       2034,2,20160520,       0349,   -47.4880,  -169.9835,       5354,    34.5,  11.6820,  34.6210,2,  34.6196,2,    261.7,2,   262.4,2,    0.87,2,    6.44,2,    0.30,2,    0.60,2,-999.000,9,-999.000,9,-999.000,9,  -999.0,9,  -999.0,9,-999.0000,9,  -999.00,-999.0000,9, -999.00,9, -999.00,9,  -999.0,9,  -999.0, -999.00,9, -999.00,9,    0.63,2,    0.07,3,  11.6776, -999.00
096U20160426,       P15S,      40,          1,         33,       2033,2,20160520,       0349,   -47.4880,  -169.9835,       5354,    50.7,  11.6840,  34.6210,2,  34.6197,2,    261.6,2,   262.6,2,    0.87,2,    6.45,2,    0.30,2,    0.60,2,-999.000,9,-999.000,9,-999.000,9,  -999.0,9,  -999.0,9,-999.0000,9,  -999.00,-999.0000,9, -999.00,9, -999.00,9,  -999.0,9,  -999.0, -999.00,9, -999.00,9,    0.55,2,    0.16,3,  11.6776, -999.00
096U20160426,       P15S,      40,          1,         32,       2032,2,20160520,       0349,   -47.4880,  -169.9835,       5354,    99.8,  11.6420,  34.6650,2,  34.6929,2,    255.5,2,   252.3,2,    1.46,2,    8.59,2,    0.16,2,    0.71,2,-999.000,9,-999.000,9,-999.000,9,  -999.0,9,  -999.0,9,-999.0000,9,  -999.00,-999.0000,9, -999.00,9, -999.00,9,  -999.0,9,  -999.0, -999.00,9, -999.00,9,    0.21,2,    0.01,3,  11.6293, -999.00
096U20160426,       P15S,      40,          1,         31,       2031,2,20160520,       0349,   -47.4880,  -169.9835,       5354,   149.7,  10.6400,  34.8120,2,  34.8048,2,    239.0,2,   240.1,2,    2.91,2,   11.90,2,    0.02,4,    0.88,2,-999.000,9,-999.000,9,-999.000,9,  2124.3,2,  2296.4,2,-999.0000,9,  -999.00,-999.0000,9, -999.00,9, -999.00,9,  -999.0,9,  -999.0, -999.00,9, -999.00,9,    0.03,2,    0.03,3,  10.6220, -999.00
096U20160426,       P15S,      40,          1,         30,       2030,2,20160520,       0349,   -47.4880,  -169.9835,       5354,   200.0,   9.8590,  34.7060,2,  34.7020,2,    239.6,2,   240.7,2,    3.58,2,   13.90,2,    0.01,4,    1.00,2,-999.000,9,-999.000,9,-999.000,9,  -999.0,9,  -999.0,9,-999.0000,9,  -999.00,-999.0000,9, -999.00,9, -999.00,9,  -999.0,9,  -999.0, -999.00,9, -999.00,9, -999.00,9, -999.00,9,   9.8361, -999.00
096U20160426,       P15S,      40,          1,         29,       2029,2,20160520,       0349,   -47.4880,  -169.9835,       5354,   250.1,   9.4370,  34.6490,2,  34.6500,2,    243.3,2,   244.4,2,    3.80,2,   14.81,2,    0.01,4,    1.05,2,-999.000,9,-999.000,9,-999.000,9,  -999.0,9,  -999.0,9,-999.0000,9,  -999.00,-999.0000,9, -999.00,9, -999.00,9,  -999.0,9,  -999.0, -999.00,9, -999.00,9, -999.00,9, -999.00,9,   9.4091, -999.00
096U20160426,       P15S,      40,          1,         28,       2028,2,20160520,       0349,   -47.4880,  -169.9835,       5354,   300.7,   8.9890,  34.5890,2,  34.5828,2,    247.2,2,   248.9,2,    4.20,2,   16.03,2,    0.01,4,    1.14,2,-999.000,9,-999.000,9,-999.000,9,  -999.0,9,  -999.0,9,-999.0000,9,  -999.00,-999.0000,9, -999.00,9, -999.00,9,  -999.0,9,  -999.0, -999.00,9, -999.00,9, -999.00,9, -999.00,9,   8.9563, -999.00
096U20160426,       P15S,      40,          1,         27,       2027,2,20160520,       0349,   -47.4880,  -169.9835,       5354,   350.2,   8.6460,  34.5430,2,  34.5367,2,    247.3,2,   249.0,2,    4.65,2,   17.11,2,    0.01,4,    1.20,2,-999.000,9,-999.000,9,-999.000,9,  2133.4,2,  2287.0,2,-999.0000,9,  -999.00,-999.0000,9, -999.00,9, -999.00,9,  -999.0,9,  -999.0, -999.00,9, -999.00,9, -999.00,9, -999.00,9,   8.6088, -999.00
096U20160426,       P15S,      40,          1,         26,       2026,2,20160520,       0349,   -47.4880,  -169.9835,       5354,   398.2,   8.3140,  34.5080,2,  34.4990,2,    245.0,2,   247.2,2,    5.31,2,   18.31,2,    0.01,4,    1.28,2,-999.000,9,-999.000,9,-999.000,9,  -999.0,9,  -999.0,9,-999.0000,9,  -999.00,-999.0000,9, -999.00,9, -999.00,9,  -999.0,9,  -999.0, -999.00,9, -999.00,9, -999.00,9, -999.00,9,   8.2725, -999.00
096U20160426,       P15S,      40,          1,         25,       2025,2,20160520,       0349,   -47.4880,  -169.9835,       5354,   500.1,   7.6970,  34.4330,2,  34.4234,2,    254.3,2,   257.3,2,    5.86,2,   19.21,2,    0.01,4,    1.34,2,-999.000,9,-999.000,9,-999.000,9,  -999.0,9,  -999.0,9,-999.0000,9,  -999.00,-999.0000,9, -999.00,9, -999.00,9,  -999.0,9,  -999.0, -999.00,9, -999.00,9, -999.00,9, -999.00,9,   7.6470, -999.00
096U20160426,       P15S,      40,          1,         24,       2024,2,20160520,       0349,   -47.4880,  -169.9835,       5354,   598.7,   7.3080,  34.3920,2,  34.3876,2,    262.0,2,   264.6,2,    6.30,2,   19.52,2,    0.01,4,    1.36,2,-999.000,9,-999.000,9,-999.000,9,  2135.5,6,  2283.1,6,-999.0000,9,  -999.00,-999.0000,9, -999.00,9, -999.00,9,  -999.0,9,  -999.0, -999.00,9, -999.00,9, -999.00,9, -999.00,9,   7.2495, -999.00
096U20160426,       P15S,      40,          1,         23,       2023,2,20160520,       0349,   -47.4880,  -169.9835,       5354,   700.5,   7.2070,  34.3940,2,  34.3870,2,    253.7,2,   259.9,2,    7.13,2,   20.25,2,    0.01,4,    1.40,2,-999.000,9,-999.000,9,-999.000,9,  -999.0,9,  -999.0,9,-999.0000,9,  -999.00,-999.0000,9, -999.00,9, -999.00,9,  -999.0,9,  -999.0, -999.00,9, -999.00,9, -999.00,9, -999.00,9,   7.1386, -999.00
096U20160426,       P15S,      40,          1,         22,       2022,2,20160520,       0349,   -47.4880,  -169.9835,       5354,   799.7,   6.8100,  34.3580,2,  34.3551,2,    244.0,2,   246.7,2,    9.64,2,   22.38,2,    0.00,4,    1.53,2,-999.000,9,-999.000,9,-999.000,9,  -999.0,9,  -999.0,9,-999.0000,9,  -999.00,-999.0000,9, -999.00,9, -999.00,9,  -999.0,9,  -999.0, -999.00,9, -999.00,9, -999.00,9, -999.00,9,   6.7338, -999.00
096U20160426,       P15S,      40,          1,         21,       2021,2,20160520,       0349,   -47.4880,  -169.9835,       5354,   900.1,   6.3620,  34.3460,2,  34.3417,2,    229.9,2,   232.7,2,   13.48,2,   24.67,2,    0.00,4,    1.68,2,-999.000,9,-999.000,9,-999.000,9,  2159.8,2,  2285.8,2,-999.0000,9,  -999.00,-999.0000,9, -999.00,9, -999.00,9,  -999.0,9,  -999.0, -999.00,9, -999.00,9, -999.00,9, -999.00,9,   6.2786, -999.00
096U20160426,       P15S,      40,          1,         20,       2020,2,20160520,       0349,   -47.4880,  -169.9835,       5354,  1000.7,   5.8880,  34.3420,2,  34.3389,2,    218.5,2,   220.6,2,   18.19,2,   26.68,2,    0.01,4,    1.81,2,-999.000,9,-999.000,9,-999.000,9,  -999.0,9,  -999.0,9,-999.0000,9,  -999.00,-999.0000,9, -999.00,9, -999.00,9,  -999.0,9,  -999.0, -999.00,9, -999.00,9, -999.00,9, -999.00,9,   5.7982, -999.00
096U20160426,       P15S,      40,          1,         19,       2019,2,20160520,       0349,   -47.4880,  -169.9835,       5354,  1099.1,   5.3900,  34.3410,2,  34.3399,2,    209.4,2,   211.4,2,   23.64,2,   28.42,2,    0.00,4,    1.92,2,-999.000,9,-999.000,9,-999.000,9,  -999.0,9,  -999.0,9,-999.0000,9,  -999.00,-999.0000,9, -999.00,9, -999.00,9,  -999.0,9,  -999.0, -999.00,9, -999.00,9, -999.00,9, -999.00,9,   5.2947, -999.00
096U20160426,       P15S,      40,          1,         18,       2018,2,20160520,       0349,   -47.4880,  -169.9835,       5354,  1199.8,   4.7090,  34.3350,2,  34.3339,2,    204.7,2,   206.4,2,   30.25,2,   30.06,2,    0.00,4,    2.04,2,-999.000,9,-999.000,9,-999.000,9,  2193.2,2,  2296.8,6,-999.0000,9,  -999.00,-999.0000,9, -999.00,9, -999.00,9,  -999.0,9,  -999.0, -999.00,9, -999.00,9, -999.00,9, -999.00,9,   4.6103, -999.00
096U20160426,       P15S,      40,          1,         17,       2017,2,20160520,       0349,   -47.4880,  -169.9835,       5354,  1299.5,   4.2990,  34.3620,2,  34.3604,2,    196.1,2,   197.4,2,   37.83,2,   31.29,2,    0.00,4,    2.13,2,-999.000,9,-999.000,9,-999.000,9,  -999.0,9,  -999.0,9,-999.0000,9,  -999.00,-999.0000,9, -999.00,9, -999.00,9,  -999.0,9,  -999.0, -999.00,9, -999.00,9, -999.00,9, -999.00,9,   4.1951, -999.00
096U20160426,       P15S,      40,          1,         16,       2016,2,20160520,       0349,   -47.4880,  -169.9835,       5354,  1400.0,   3.7830,  34.3650,2,  34.3646,2,    194.6,2,   195.6,2,   43.94,2,   32.31,2,    0.01,4,    2.21,2,-999.000,9,-999.000,9,-999.000,9,  -999.0,9,  -999.0,9,-999.0000,9,  -999.00,-999.0000,9, -999.00,9, -999.00,9,  -999.0,9,  -999.0, -999.00,9, -999.00,9, -999.00,9, -999.00,9,   3.6755, -999.00
096U20160426,       P15S,      40,          1,         15,       2015,2,20160520,       0349,   -47.4880,  -169.9835,       5354,  1599.3,   3.2040,  34.4290,2,  34.4290,2,    183.2,2,   184.5,2,   56.64,2,   33.57,2,    0.00,4,    2.30,2,-999.000,9,-999.000,9,-999.000,9,  -999.0,9,  -999.0,9,-999.0000,9,  -999.00,-999.0000,9, -999.00,9, -999.00,9,  -999.0,9,  -999.0, -999.00,9, -999.00,9, -999.00,9, -999.00,9,   3.0857, -999.00
096U20160426,       P15S,      40,          1,         14,       2014,2,20160520,       0349,   -47.4880,  -169.9835,       5354,  1799.2,   2.8410,  34.5110,2,  34.5086,2,    174.2,2,   174.8,2,   67.79,2,   34.06,2,    0.00,4,    2.34,2,-999.000,9,-999.000,9,-999.000,9,  2246.8,2,  2332.4,2,-999.0000,9,  -999.00,-999.0000,9, -999.00,9, -999.00,9,  -999.0,9,  -999.0, -999.00,9, -999.00,9, -999.00,9, -999.00,9,   2.7099, -999.00
096U20160426,       P15S,      40,          1,         13,       2013,2,20160520,       0349,   -47.4880,  -169.9835,       5354,  2000.3,   2.6230,  34.5820,2,  34.5813,2,    170.5,2,   170.9,2,   76.22,2,   33.86,2,    0.00,4,    2.33,2,-999.000,9,-999.000,9,-999.000,9,  -999.0,9,  -999.0,9,-999.0000,9,  -999.00,-999.0000,9, -999.00,9, -999.00,9,  -999.0,9,  -999.0, -999.00,9, -999.00,9, -999.00,9, -999.00,9,   2.4772, -999.00
096U20160426,       P15S,      40,          1,         12,       2012,2,20160520,       0349,   -47.4880,  -169.9835,       5354,  2249.9,   2.4330,  34.6480,2,  34.6460,2,    173.0,2,   173.7,2,   80.44,2,   33.06,2,    0.00,4,    2.27,2,-999.000,9,-999.000,9,-999.000,9,  -999.0,9,  -999.0,9,-999.0000,9,  -999.00,-999.0000,9, -999.00,9, -999.00,9,  -999.0,9,  -999.0, -999.00,9, -999.00,9, -999.00,9, -999.00,9,   2.2678, -999.00
096U20160426,       P15S,      40,          1,         11,       2011,2,20160520,       0349,   -47.4880,  -169.9835,       5354,  2500.5,   2.2510,  34.6970,2,  34.6953,2,    178.1,2,   179.0,2,   84.76,2,   32.19,2,    0.00,4,    2.21,2,-999.000,9,-999.000,9,-999.000,9,  -999.0,9,  -999.0,9,-999.0000,9,  -999.00,-999.0000,9, -999.00,9, -999.00,9,  -999.0,9,  -999.0, -999.00,9, -999.00,9, -999.00,9, -999.00,9,   2.0658, -999.00
096U20160426,       P15S,      40,          1,         10,       2010,2,20160520,       0349,   -47.4880,  -169.9835,       5354,  2749.1,   2.0970,  34.7250,2,  34.7232,2,    184.7,2,   186.8,2,   86.91,2,   31.44,2,    0.00,4,    2.16,2,-999.000,9,-999.000,9,-999.000,9,  2253.2,2,  2352.4,2,-999.0000,9,  -999.00,-999.0000,9, -999.00,9, -999.00,9,  -999.0,9,  -999.0, -999.00,9, -999.00,9, -999.00,9, -999.00,9,   1.8912, -999.00
096U20160426,       P15S,      40,          1,          9,       2009,2,20160520,       0349,   -47.4880,  -169.9835,       5354,  2999.5,   1.9280,  34.7360,2,  34.7340,2,    189.2,2,   191.8,2,   91.35,2,   31.15,2,    0.00,4,    2.14,2,-999.000,9,-999.000,9,-999.000,9,  -999.0,9,  -999.0,9,-999.0000,9,  -999.00,-999.0000,9, -999.00,9,    0.48,6,  -152.5,6,     2.0, -999.00,9, -999.00,9, -999.00,9, -999.00,9,   1.7015, -999.00
096U20160426,       P15S,      40,          1,          8,       2008,2,20160520,       0349,   -47.4880,  -169.9835,       5354,  3298.4,   1.6870,  34.7360,2,  34.7349,2,    193.6,2,   196.0,2,   97.92,2,   31.20,2,    0.00,4,    2.14,2,-999.000,9,-999.000,9,-999.000,9,  -999.0,9,  -999.0,9,-999.0000,9,  -999.00,-999.0000,9, -999.00,9, -999.00,9,  -999.0,9,  -999.0, -999.00,9, -999.00,9, -999.00,9, -999.00,9,   1.4364, -999.00
096U20160426,       P15S,      40,          1,          7,       2007,2,20160520,       0349,   -47.4880,  -169.9835,       5354,  3599.0,   1.4690,  34.7300,2,  34.7291,2,    197.2,2,   199.3,2,  104.52,2,   31.39,2,    0.00,4,    2.16,2,-999.000,9,-999.000,9,-999.000,9,  -999.0,9,  -999.0,9,-999.0000,9,  -999.00,-999.0000,9, -999.00,9, -999.00,9,  -999.0,9,  -999.0, -999.00,9, -999.00,9, -999.00,9, -999.00,9,   1.1932, -999.00
096U20160426,       P15S,      40,          1,          6,       2006,2,20160520,       0349,   -47.4880,  -169.9835,       5354,  3901.1,   1.2580,  34.7220,2,  34.7207,2,    200.9,2,   202.8,2,  110.87,2,   31.65,2,    0.00,4,    2.18,2,-999.000,9,-999.000,9,-999.000,9,  -999.0,9,  -999.0,9,-999.0000,9,  -999.00,-999.0000,9, -999.00,9, -999.00,9,  -999.0,9,  -999.0, -999.00,9, -999.00,9, -999.00,9, -999.00,9,   0.9562, -999.00
096U20160426,       P15S,      40,          1,          5,       2005,2,20160520,       0349,   -47.4880,  -169.9835,       5354,  4301.2,   1.0630,  34.7120,2,  34.7114,2,    204.7,2,   206.0,2,  117.18,2,   31.91,2,    0.00,4,    2.20,2,-999.000,9,-999.000,9,-999.000,9,  2260.2,2,  2363.1,2,-999.0000,9,  -999.00,-999.0000,9, -999.00,9, -999.00,9,  -999.0,9,  -999.0, -999.00,9, -999.00,9, -999.00,9, -999.00,9,   0.7236, -999.00
096U20160426,       P15S,      40,          1,          4,       2004,2,20160520,       0349,   -47.4880,  -169.9835,       5354,  4700.6,   1.0090,  34.7080,2,  34.7072,2,    206.7,2,   207.3,2,  120.28,2,   32.07,2,    0.00,4,    2.21,2,-999.000,9,-999.000,9,-999.000,9,  -999.0,9,  -999.0,9,-999.0000,9,  -999.00,-999.0000,9, -999.00,9, -999.00,9,  -999.0,9,  -999.0, -999.00,9, -999.00,9, -999.00,9, -999.00,9,   0.6263, -999.00
096U20160426,       P15S,      40,          1,          3,       2003,2,20160520,       0349,   -47.4880,  -169.9835,       5354,  4999.9,   1.0020,  34.7060,2,  34.7055,2,    208.0,2,   207.9,2,  121.58,2,   32.15,2,    0.00,4,    2.21,2,-999.000,9,-999.000,9,-999.000,9,  -999.0,9,  -999.0,9,-999.0000,9,  -999.00,-999.0000,9, -999.00,9, -999.00,9,  -999.0,9,  -999.0, -999.00,9, -999.00,9, -999.00,9, -999.00,9,   0.5845, -999.00
096U20160426,       P15S,      40,          1,          2,       2002,2,20160520,       0349,   -47.4880,  -169.9835,       5354,  5349.5,   1.0320,  34.7040,2,  34.7044,2,    208.8,2,   208.5,2,  121.76,2,   32.13,2,    0.00,4,    2.21,2,-999.000,9,-999.000,9,-999.000,9,  -999.0,9,  -999.0,9,-999.0000,9,  -999.00,-999.0000,9, -999.00,9, -999.00,9,  -999.0,9,  -999.0, -999.00,9, -999.00,9, -999.00,9, -999.00,9,   0.5710, -999.00
096U20160426,       P15S,      40,          1,          1,       2001,2,20160520,       0349,   -47.4880,  -169.9835,       5354,  5471.2,   1.0440,  34.7040,2,  34.7049,2,    209.1,2,   208.3,2,  121.94,2,   32.12,2,    0.00,4,    2.21,2,-999.000,9,-999.000,9,-999.000,9,  2260.3,2,  2364.4,2,-999.0000,9,  -999.00,-999.0000,9, -999.00,9, -999.00,9,  -999.0,9,  -999.0, -999.00,9, -999.00,9, -999.00,9, -999.00,9,   0.5675, -999.00