BOTTLE,20230413CCHSIOENA
EXPOCODE,SECT_ID,STNNBR,CASTNO,SAMPNO,BTLNBR,BTLNBR_FLAG_W,DATE,TIME,LATITUDE,LONGITUDE,DEPTH,CTDPRS,CTDTMP,CTDSAL,CTDSAL_FLAG_W,SALNTY,SALNTY_FLAG_W,CTDOXY,CTDOXY_FLAG_W,OXYGEN,OXYGEN_FLAG_W,SILCAT,SILCAT_FLAG_W,NITRAT,NITRAT_FLAG_W,NITRIT,NITRIT_FLAG_W,PHSPHT,PHSPHT_FLAG_W,CFC-11,CFC-11_FLAG_W,CFC-12,CFC-12_FLAG_W,SF6,SF6_FLAG_W,TCARBN,TCARBN_FLAG_W,ALKALI,ALKALI_FLAG_W,PH_TOT,PH_TOT_FLAG_W,PH_TMP,HELIUM,HELIUM_FLAG_W,DELHE3,DELHE3_FLAG_W,DELC13,DELC13_FLAG_W,DELC14,DELC14_FLAG_W,C14ERR,POC,POC_FLAG_W,PON,PON_FLAG_W,CHLORA,CHLORA_FLAG_W,PPHYTN,PPHYTN_FLAG_W,THETA,DELHER
,,,,,,,,,,,METERS,DBAR,ITS-90,PSS-78,,PSS-78,,UMOL/KG,,UMOL/KG,,UMOL/KG,,UMOL/KG,,UMOL/KG,,UMOL/KG,,PMOL/KG,,PMOL/KG,,FMOL/KG,,UMOL/KG,,UMOL/KG,,,,DEG C,NMOL/KG,,PERCNT,,/MILLE,,/MILLE,,/MILLE,UG/KG,,UG/KG,,UG/KG,,UG/KG,,DEG C,PERCNT
096U20160426,       P15S,       4,          1,         35,       2035,2,20160505,       1612,   -64.9976,  -169.9921,       2866,    34.8,  -0.3550,  34.0860,2,  34.0787,2,    334.9,2,   335.2,2,   55.46,2,   28.15,2,    0.28,2,    2.01,2,   5.484,2,   3.002,2,   3.223,2,  2186.4,2,  2303.7,2,-999.0000,9,  -999.00,-999.0000,9, -999.00,9, -999.00,9,  -999.0,9,  -999.0, -999.00,9, -999.00,9,    0.39,2,    0.02,3,  -0.3561, -999.00
096U20160426,       P15S,       4,          1,         36,       2036,2,20160505,       1612,   -64.9976,  -169.9921,       2866,    36.7,  -0.3570,  34.0860,2,  34.0861,2,    334.6,2,   335.1,2,   55.48,2,   28.18,2,    0.28,2,    2.02,2,   5.572,2,   2.992,2,   3.245,2,  2190.0,2,  2304.0,2,-999.0000,9,  -999.00,-999.0000,9, -999.00,9, -999.00,9,  -999.0,9,  -999.0, -999.00,9, -999.00,9, -999.00,9, -999.00,9,  -0.3582, -999.00
096U20160426,       P15S,       4,          1,         34,       2034,2,20160505,       1612,   -64.9976,  -169.9921,       2866,    60.9,  -0.3520,  34.0850,2,  34.0864,2,    334.6,2,   335.2,2,   55.38,2,   28.16,2,    0.28,2,    2.01,2,   5.559,2,   3.030,2,   3.282,2,  2190.6,2,  2304.4,2,-999.0000,9,  -999.00,-999.0000,9, -999.00,9, -999.00,9,  -999.0,9,  -999.0, -999.00,9, -999.00,9,    0.36,2,    0.03,3,  -0.3539, -999.00
096U20160426,       P15S,       4,          1,         33,       2033,2,20160505,       1612,   -64.9976,  -169.9921,       2866,    86.1,  -0.3420,  34.0910,2,  34.0980,2,    333.1,2,   332.2,2,   56.82,2,   28.19,2,    0.27,2,    2.01,2,   5.421,6,   2.993,6,   3.308,6,  2189.7,2,  2304.1,2,-999.0000,9,  -999.00,-999.0000,9, -999.00,9, -999.00,9,  -999.0,9,  -999.0, -999.00,9, -999.00,9,    0.34,2,    0.04,3,  -0.3448, -999.00
096U20160426,       P15S,       4,          1,         32,       2032,2,20160505,       1612,   -64.9976,  -169.9921,       2866,   109.9,   0.2440,  34.2990,2,  34.3112,2,    268.2,2,   267.5,2,   67.76,2,   32.00,2,    0.12,2,    2.25,2,   3.447,2,   1.949,2,   2.035,2,  2223.3,6,  2315.0,6,-999.0000,9,  -999.00,-999.0000,9, -999.00,9, -999.00,9,  -999.0,9,  -999.0, -999.00,9, -999.00,9,    0.12,2,    0.05,3,   0.2399, -999.00
096U20160426,       P15S,       4,          1,         31,       2031,2,20160505,       1612,   -64.9976,  -169.9921,       2866,   139.4,   0.9400,  34.5130,2,  34.5139,2,    216.1,2,   214.1,2,   78.46,2,   33.43,2,    0.02,4,    2.34,2,   1.906,2,   1.051,2,   1.037,2,  2244.3,2,  2326.5,2,-999.0000,9,  -999.00,-999.0000,9, -999.00,9, -999.00,9,  -999.0,9,  -999.0, -999.00,9, -999.00,9,    0.03,2,    0.08,3,   0.9339, -999.00
096U20160426,       P15S,       4,          1,         30,       2030,2,20160505,       1612,   -64.9976,  -169.9921,       2866,   160.2,   1.2230,  34.5750,2,  34.5802,2,    201.9,2,   199.3,2,   81.36,2,   33.39,2,    0.02,4,    2.33,2,   1.380,2,   0.759,2,   0.744,2,  2250.1,2,  2332.4,6,-999.0000,9,  -999.00,-999.0000,9, -999.00,9, -999.00,9,  -999.0,9,  -999.0, -999.00,9, -999.00,9, -999.00,9, -999.00,9,   1.2155, -999.00
096U20160426,       P15S,       4,          1,         29,       2029,2,20160505,       1612,   -64.9976,  -169.9921,       2866,   183.1,   1.5820,  34.6430,2,  34.6490,2,    187.4,2,   184.7,2,   84.24,2,   33.17,2,    0.02,4,    2.32,2,   0.812,2,   0.443,2,   0.413,2,  2257.9,2,  2337.3,2,-999.0000,9,  -999.00,-999.0000,9, -999.00,9, -999.00,9,  -999.0,9,  -999.0, -999.00,9, -999.00,9, -999.00,9, -999.00,9,   1.5728, -999.00
096U20160426,       P15S,       4,          1,         28,       2028,2,20160505,       1612,   -64.9976,  -169.9921,       2866,   205.0,   1.8010,  34.6760,2,  34.6766,2,    182.8,2,   180.6,2,   84.77,2,   32.90,2,    0.02,4,    2.30,2,   0.572,2,   0.312,2,   0.233,2,  2253.5,2,  2339.9,2,-999.0000,9,  -999.00,-999.0000,9, -999.00,9, -999.00,9,  -999.0,9,  -999.0, -999.00,9, -999.00,9, -999.00,9, -999.00,9,   1.7903, -999.00
096U20160426,       P15S,       4,          1,         27,       2027,2,20160505,       1612,   -64.9976,  -169.9921,       2866,   238.0,   1.7670,  34.6840,2,  34.6849,2,    183.3,2,   181.5,2,   85.68,2,   32.75,2,    0.02,4,    2.29,2,-999.000,9,-999.000,9,-999.000,9,  -999.0,9,  -999.0,9,-999.0000,9,  -999.00,-999.0000,9, -999.00,9, -999.00,9,  -999.0,9,  -999.0, -999.00,9, -999.00,9, -999.00,9, -999.00,9,   1.7546, -999.00
096U20160426,       P15S,       4,          1,         26,       2026,2,20160505,       1612,   -64.9976,  -169.9921,       2866,   261.4,   1.8360,  34.6970,2,  34.6987,2,    184.1,2,   182.3,2,   85.56,2,   32.38,2,    0.01,4,    2.26,2,   0.465,2,   0.242,2,   0.181,2,  2250.2,2,  2342.6,2,-999.0000,9,  -999.00,-999.0000,9, -999.00,9, -999.00,9,  -999.0,9,  -999.0, -999.00,9, -999.00,9, -999.00,9, -999.00,9,   1.8222, -999.00
096U20160426,       P15S,       4,          1,         25,       2025,2,20160505,       1612,   -64.9976,  -169.9921,       2866,   319.6,   1.8450,  34.7100,2,  34.7120,2,    185.9,2,   184.4,2,   86.24,2,   32.05,2,    0.01,4,    2.23,2,   0.384,2,   0.197,2,   0.141,2,  2251.5,2,  2343.9,2,-999.0000,9,  -999.00,-999.0000,9, -999.00,9, -999.00,9,  -999.0,9,  -999.0, -999.00,9, -999.00,9, -999.00,9, -999.00,9,   1.8279, -999.00
096U20160426,       P15S,       4,          1,         24,       2024,2,20160505,       1612,   -64.9976,  -169.9921,       2866,   362.8,   1.8440,  34.7200,2,  34.7190,2,    187.0,2,   185.7,2,   87.06,2,   31.77,2,    0.01,4,    2.22,2,   0.343,2,   0.171,2,   0.127,2,  2251.3,6,  2345.3,6,-999.0000,9,  -999.00,-999.0000,9, -999.00,9, -999.00,9,  -999.0,9,  -999.0, -999.00,9, -999.00,9, -999.00,9, -999.00,9,   1.8245, -999.00
096U20160426,       P15S,       4,          1,         23,       2023,2,20160505,       1612,   -64.9976,  -169.9921,       2866,   415.7,   1.8100,  34.7240,2,  34.7238,2,    188.5,2,   187.1,2,   88.50,2,   31.60,2,    0.01,4,    2.21,2,   0.320,2,   0.163,2,   0.103,2,  2252.1,2,  2346.6,2,-999.0000,9,  -999.00,-999.0000,9, -999.00,9, -999.00,9,  -999.0,9,  -999.0, -999.00,9, -999.00,9, -999.00,9, -999.00,9,   1.7875, -999.00
096U20160426,       P15S,       4,          1,         22,       2022,2,20160505,       1612,   -64.9976,  -169.9921,       2866,   464.5,   1.7680,  34.7260,2,  34.7269,2,    189.5,2,   188.1,2,   89.03,2,   31.55,2,    0.01,4,    2.20,2,   0.313,2,   0.162,2,   0.095,2,  2251.4,2,  2346.1,2,-999.0000,9,  -999.00,-999.0000,9, -999.00,9, -999.00,9,  -999.0,9,  -999.0, -999.00,9, -999.00,9, -999.00,9, -999.00,9,   1.7429, -999.00
096U20160426,       P15S,       4,          1,         21,       2021,2,20160505,       1612,   -64.9976,  -169.9921,       2866,   537.4,   1.6720,  34.7260,2,  34.7257,2,    191.6,2,   190.3,2,   90.40,2,   31.46,2,    0.01,4,    2.20,2,-999.000,9,-999.000,9,-999.000,9,  -999.0,9,  -999.0,9,-999.0000,9,  -999.00,-999.0000,9, -999.00,9, -999.00,9,  -999.0,9,  -999.0, -999.00,9, -999.00,9, -999.00,9, -999.00,9,   1.6430, -999.00
096U20160426,       P15S,       4,          1,         20,       2020,2,20160505,       1612,   -64.9976,  -169.9921,       2866,   633.6,   1.5740,  34.7290,2,  34.7295,2,    193.7,2,   192.7,2,   93.52,2,   31.40,2,    0.01,4,    2.20,2,   0.325,2,   0.166,2,   0.153,2,  2253.5,2,  2349.2,6,-999.0000,9,  -999.00,-999.0000,9, -999.00,9, -999.00,9,  -999.0,9,  -999.0, -999.00,9, -999.00,9, -999.00,9, -999.00,9,   1.5398, -999.00
096U20160426,       P15S,       4,          1,         19,       2019,2,20160505,       1612,   -64.9976,  -169.9921,       2866,   732.5,   1.5490,  34.7360,2,  34.7365,2,    195.5,2,   194.7,2,   95.80,2,   31.19,2,    0.01,4,    2.18,2,   0.234,2,   0.116,2,   0.099,2,  2251.4,2,  2351.8,2,-999.0000,9,  -999.00,-999.0000,9, -999.00,9, -999.00,9,  -999.0,9,  -999.0, -999.00,9, -999.00,9, -999.00,9, -999.00,9,   1.5090, -999.00
096U20160426,       P15S,       4,          1,         18,       2018,2,20160505,       1612,   -64.9976,  -169.9921,       2866,   832.4,   1.4070,  34.7290,2,  34.7296,2,    195.9,2,   195.2,2,   98.60,2,   31.48,2,    0.01,4,    2.20,2,   0.299,2,   0.152,2,   0.098,2,  2253.5,2,  2352.7,2,-999.0000,9,  -999.00,-999.0000,9, -999.00,9, -999.00,9,  -999.0,9,  -999.0, -999.00,9, -999.00,9, -999.00,9, -999.00,9,   1.3618, -999.00
096U20160426,       P15S,       4,          1,         17,       2017,2,20160505,       1612,   -64.9976,  -169.9921,       2866,   934.7,   1.3320,  34.7310,2,  34.7314,2,    198.3,2,   197.6,2,  102.23,2,   31.41,2,    0.01,4,    2.20,2,-999.000,9,-999.000,9,-999.000,9,  -999.0,9,  -999.0,9,-999.0000,9,  -999.00,-999.0000,9, -999.00,9, -999.00,9,  -999.0,9,  -999.0, -999.00,9, -999.00,9, -999.00,9, -999.00,9,   1.2810, -999.00
096U20160426,       P15S,       4,          1,         16,       2016,2,20160505,       1612,   -64.9976,  -169.9921,       2866,  1035.0,   1.2560,  34.7290,2,  34.7295,2,    199.0,2,   198.6,2,  104.42,2,   31.52,2,    0.01,4,    2.21,2,   0.220,2,   0.109,2,    0.13,2,  2255.5,2,  2355.9,2,-999.0000,9,  -999.00,-999.0000,9, -999.00,9, -999.00,9,  -999.0,9,  -999.0, -999.00,9, -999.00,9, -999.00,9, -999.00,9,   1.1993, -999.00
096U20160426,       P15S,       4,          1,         15,       2015,2,20160505,       1612,   -64.9976,  -169.9921,       2866,  1135.3,   1.1690,  34.7260,2,  34.7267,2,    200.3,2,   200.0,2,  107.25,2,   31.53,2,    0.01,4,    2.22,2,   0.212,2,   0.101,2,   0.049,2,  2258.6,2,  2356.9,2,-999.0000,9,  -999.00,-999.0000,9, -999.00,9, -999.00,9,  -999.0,9,  -999.0, -999.00,9, -999.00,9, -999.00,9, -999.00,9,   1.1066, -999.00
096U20160426,       P15S,       4,          1,         14,       2014,2,20160505,       1612,   -64.9976,  -169.9921,       2866,  1231.4,   1.0930,  34.7230,2,  34.7233,2,    201.2,2,   200.7,2,  109.46,2,   31.76,2,    0.01,4,    2.23,2,   0.218,2,   0.105,2,   0.069,2,  2254.3,2,  2357.3,2,-999.0000,9,  -999.00,-999.0000,9, -999.00,9, -999.00,9,  -999.0,9,  -999.0, -999.00,9, -999.00,9, -999.00,9, -999.00,9,   1.0251, -999.00
096U20160426,       P15S,       4,          1,         13,       2013,2,20160505,       1612,   -64.9976,  -169.9921,       2866,  1335.3,   1.0030,  34.7200,2,  34.7200,2,    202.6,2,   202.2,2,  112.29,2,   31.85,2,    0.01,4,    2.24,2,   0.228,6,   0.109,6,   0.045,6,  2258.5,2,  2358.8,6,-999.0000,9,  -999.00,-999.0000,9, -999.00,9, -999.00,9,  -999.0,9,  -999.0, -999.00,9, -999.00,9, -999.00,9, -999.00,9,   0.9292, -999.00
096U20160426,       P15S,       4,          1,         12,       2012,2,20160505,       1612,   -64.9976,  -169.9921,       2866,  1402.3,   0.9530,  34.7170,2,  34.7172,2,    203.1,2,   202.9,2,  114.03,2,   31.94,2,    0.01,4,    2.24,2,-999.000,9,-999.000,9,-999.000,9,  -999.0,9,  -999.0,9,-999.0000,9,  -999.00,-999.0000,9, -999.00,9, -999.00,9,  -999.0,9,  -999.0, -999.00,9, -999.00,9, -999.00,9, -999.00,9,   0.8753, -999.00
096U20160426,       P15S,       4,          1,         11,       2011,2,20160505,       1612,   -64.9976,  -169.9921,       2866,  1506.6,   0.8960,  34.7150,2,  34.7151,2,    203.9,2,   208.5,4,  115.66,2,   32.03,2,    0.01,4,    2.25,2,   0.249,2,   0.120,2,   0.071,2,  2258.9,2,  2359.1,2,-999.0000,9,  -999.00,-999.0000,9, -999.00,9, -999.00,9,  -999.0,9,  -999.0, -999.00,9, -999.00,9, -999.00,9, -999.00,9,   0.8119, -999.00
096U20160426,       P15S,       4,          1,         10,       2010,2,20160505,       1612,   -64.9976,  -169.9921,       2866,  1600.7,   0.8260,  34.7120,2,  34.7120,2,    205.1,2,   204.9,2,  118.37,2,   32.09,2,    0.01,4,    2.25,2,   0.263,2,   0.130,2,   0.105,2,  2261.1,2,  2360.0,2,-999.0000,9,  -999.00,-999.0000,9, -999.00,9, -999.00,9,  -999.0,9,  -999.0, -999.00,9, -999.00,9, -999.00,9, -999.00,9,   0.7362, -999.00
096U20160426,       P15S,       4,          1,          9,       2009,2,20160505,       1612,   -64.9976,  -169.9921,       2866,  1701.7,   0.7800,  34.7100,2,  34.7096,2,    205.9,2,   205.6,2,  120.53,2,   32.22,2,    0.01,4,    2.26,2,   0.282,2,   0.136,2,   0.052,2,  2259.7,2,  2359.4,2,-999.0000,9,  -999.00,-999.0000,9, -999.00,9, -999.00,9,  -999.0,9,  -999.0, -999.00,9, -999.00,9, -999.00,9, -999.00,9,   0.6838, -999.00
096U20160426,       P15S,       4,          1,          8,       2008,2,20160505,       1612,   -64.9976,  -169.9921,       2866,  1802.1,   0.7420,  34.7080,2,  34.7085,2,    206.3,2,   206.2,2,  122.56,2,   32.27,2,    0.01,4,    2.26,2,-999.000,9,-999.000,9,-999.000,9,  -999.0,9,  -999.0,9,-999.0000,9,  -999.00,-999.0000,9, -999.00,9, -999.00,9,  -999.0,9,  -999.0, -999.00,9, -999.00,9, -999.00,9, -999.00,9,   0.6391, -999.00
096U20160426,       P15S,       4,          1,          7,       2007,2,20160505,       1612,   -64.9976,  -169.9921,       2866,  2005.8,   0.6860,  34.7050,2,  34.7055,2,    207.0,2,   207.1,2,  125.71,2,   32.35,2,    0.01,4,    2.27,2,   0.328,2,   0.164,2,   0.066,2,  2261.8,2,  2360.6,2,-999.0000,9,  -999.00,-999.0000,9, -999.00,9, -999.00,9,  -999.0,9,  -999.0, -999.00,9, -999.00,9, -999.00,9, -999.00,9,   0.5690, -999.00
096U20160426,       P15S,       4,          1,          6,       2006,2,20160505,       1612,   -64.9976,  -169.9921,       2866,  2196.3,   0.6900,  34.7050,2,  34.7055,2,    207.0,2,   207.3,2,  126.08,2,   32.36,2,    0.01,4,    2.27,2,   0.332,2,   0.166,2,   0.094,2,  2262.0,2,  2359.9,2,-999.0000,9,  -999.00,-999.0000,9, -999.00,9, -999.00,9,  -999.0,9,  -999.0, -999.00,9, -999.00,9, -999.00,9, -999.00,9,   0.5584, -999.00
096U20160426,       P15S,       4,          1,          5,       2005,2,20160505,       1612,   -64.9976,  -169.9921,       2866,  2403.1,   0.6850,  34.7040,2,  34.7047,2,    207.2,2,   207.4,2,  125.48,2,   32.39,2,    0.01,4,    2.27,2,   0.350,2,   0.171,2,   0.087,2,  2261.8,6,  2359.7,6,-999.0000,9,  -999.00,-999.0000,9, -999.00,9, -999.00,9,  -999.0,9,  -999.0, -999.00,9, -999.00,9, -999.00,9, -999.00,9,   0.5371, -999.00
096U20160426,       P15S,       4,          1,          4,       2004,2,20160505,       1612,   -64.9976,  -169.9921,       2866,  2531.5,   0.6460,  34.7020,2,  34.7027,2,    207.8,2,   208.4,2,  125.28,2,   32.41,2,    0.01,4,    2.28,2,   0.381,2,   0.190,2,   0.119,2,  2260.3,2,  2357.8,2,-999.0000,9,  -999.00,-999.0000,9, -999.00,9, -999.00,9,  -999.0,9,  -999.0, -999.00,9, -999.00,9, -999.00,9, -999.00,9,   0.4883, -999.00
096U20160426,       P15S,       4,          1,          3,       2003,2,20160505,       1612,   -64.9976,  -169.9921,       2866,  2662.7,   0.4860,  34.6980,2,  34.6979,2,    210.4,2,   211.4,2,  126.29,3,   32.52,2,    0.01,4,    2.28,2,   0.471,2,   0.251,2,   0.159,2,  2258.1,2,  2357.7,2,-999.0000,9,  -999.00,-999.0000,9, -999.00,9, -999.00,9,  -999.0,9,  -999.0, -999.00,9, -999.00,9, -999.00,9, -999.00,9,   0.3206, -999.00
096U20160426,       P15S,       4,          1,          2,       2002,2,20160505,       1612,   -64.9976,  -169.9921,       2866,  2761.6,   0.4310,  34.8230,2,  34.6964,2,    211.4,2,   212.6,2,  126.53,2,   32.56,2,    0.01,4,    2.28,2,   0.554,2,   0.281,2,   0.208,2,  2260.0,2,  2358.5,2,-999.0000,9,  -999.00,-999.0000,9, -999.00,9, -999.00,9,  -999.0,9,  -999.0, -999.00,9, -999.00,9, -999.00,9, -999.00,9,   0.2584, -999.00
096U20160426,       P15S,       4,          1,          1,       2001,2,20160505,       1612,   -64.9976,  -169.9921,       2866,  2787.9,   0.4290,  34.6960,2,  34.6962,2,    211.5,2,   213.2,2,  126.49,2,   32.53,2,    0.01,4,    2.29,2,   0.559,6,   0.285,6,   0.181,6,  2259.7,2,  2358.7,2,-999.0000,9,  -999.00,-999.0000,9, -999.00,9, -999.00,9,  -999.0,9,  -999.0, -999.00,9, -999.00,9, -999.00,9, -999.00,9,   0.2542, -999.00