BOTTLE,20230330JMAAMD
EXPOCODE,SECT_ID,STNNBR,CASTNO,SAMPNO,BTLNBR,BTLNBR_FLAG_U,DATE,TIME,BTL_TIME,LATITUDE,LONGITUDE,DEPTH,CTDPRS,CTDDEP,CTDTMP,CTDSAL,CTDSAL_FLAG_W,CTDOXY,CTDOXY_FLAG_W,SALNTY,SALNTY_FLAG_W,OXYGEN,OXYGEN_FLAG_W,SILCAT,SILCAT_FLAG_W,NO2+NO3,NO2+NO3_FLAG_W,NITRIT,NITRIT_FLAG_W,PHSPHT,PHSPHT_FLAG_W,CFC-11,CFC-11_FLAG_W,CFC-12,CFC-12_FLAG_W,TCARBN,TCARBN_FLAG_W,ALKALI,ALKALI_FLAG_W,PH_TS,PH_TS_FLAG_W,PH_TS_TMP,CFC113,CFC113_FLAG_W,CHLORA,CHLORA_FLAG_W,PPHYTN,PPHYTN_FLAG_W,THETA,THETA_FLAG_W,SIGTHT,SIGTHT_FLAG_W,SBE35,SBE35_FLAG_W
,,,,,,,,UTC,,,,METER,DBAR,METERS,ITS-90,PSS-78,,UMOL/KG,,PSS78,,UMOL/KG,,UMOL/KG,,UMOL/KG,,UMOL/KG,,UMOL/KG,,PMOL/KG,,PMOL/KG,,UMOL/KG,,UMOL/KG,,,,ITS-90,PMOL/KG,,UG/KG,,UG/KG,,ITS-90,,KG/M3,,ITS-90,
49UP20220727_1,    P9,    15,  1,      0,      -9,0,20220809,2358,0135,  2.3907, 140.0007, 4131,      0.0,        0,  30.2304,  34.7461,2,    193.5,2,  34.7554,2,   193.41,2,     1.26,2,     0.00,2,     0.00,2,    0.170,2, -999.000,9, -999.000,9,   1950.9,2,   2284.0,2,   8.1056,2,    25.00, -999.000,9,     0.08,2,     0.02,2,  30.2298,2,  21.4573,2,-999.0000,9
49UP20220727_1,    P9,    15,  1,     36,     757,2,20220809,2358,0203,  2.3907, 140.0007, 4131,     11.5,       11,  30.2030,  34.7455,2,    193.6,2,  34.7445,2,   193.67,2,     1.22,2,     0.00,2,     0.00,2,    0.150,2, -999.000,9, -999.000,9,   1949.3,2,   2285.0,2,   8.1045,2,    25.00, -999.000,9,     0.09,2,     0.02,2,  30.2001,2,  21.4670,2,  30.2044,2
49UP20220727_1,    P9,    15,  1,     35,     756,2,20220809,2358,0202,  2.3907, 140.0007, 4131,     26.1,       26,  30.0541,  34.7514,2,    194.6,2,  34.7541,2,   194.68,2,     1.22,2,     0.00,2,     0.00,2,    0.150,2, -999.000,9, -999.000,9,   1951.7,2,   2285.2,2,   8.1047,2,    25.00, -999.000,9,     0.09,2,     0.03,2,  30.0477,2,  21.5235,2,  30.0549,2
49UP20220727_1,    P9,    15,  1,     34,     323,2,20220809,2358,0158,  2.3907, 140.0007, 4131,     50.8,       51,  30.0290,  34.9497,2,    195.0,2,  34.9814,2,   194.26,2,     1.22,2,     0.00,2,     0.00,2,    0.170,2, -999.000,9, -999.000,9,   1971.4,6,   2302.0,6,   8.0980,2,    25.00, -999.000,9,     0.18,2,     0.09,2,  30.0164,2,  21.6828,2,  30.0286,2
49UP20220727_1,    P9,    15,  1,     33,     322,2,20220809,2358,0157,  2.3907, 140.0007, 4131,     75.9,       75,  29.9483,  35.1421,2,    190.2,2,  35.1455,2,   190.47,2,     1.30,2,     0.04,2,     0.03,2,    0.210,2, -999.000,9, -999.000,9,   1985.3,2,   2311.7,2,   8.0837,6,    25.00, -999.000,9,     0.37,2,     0.29,2,  29.9294,2,  21.8568,2,  29.9661,2
49UP20220727_1,    P9,    15,  1,     32,     321,2,20220809,2358,0155,  2.3907, 140.0007, 4131,    104.5,      104,  28.9689,  35.2288,2,    164.9,2,  35.2302,2,   165.67,2,     1.88,2,     3.86,2,     0.05,2,    0.440,2, -999.000,9, -999.000,9,   2023.1,2,   2314.0,2,   8.0279,2,    25.00, -999.000,9,     0.18,2,     0.30,2,  28.9436,2,  22.2547,2,  28.9518,2
49UP20220727_1,    P9,    15,  1,     31,     320,2,20220809,2358,0154,  2.3907, 140.0007, 4131,    127.3,      127,  27.8517,  35.1318,2,    150.0,2,  35.1384,2,   149.84,6,     2.68,6,     5.96,6,     0.03,6,    0.560,6, -999.000,9, -999.000,9,   2036.3,2,   2307.1,2,   7.9920,2,    25.00, -999.000,9,     0.08,2,     0.12,2,  27.8218,2,  22.5519,2,  27.8505,2
49UP20220727_1,    P9,    15,  1,     30,     319,2,20220809,2358,0152,  2.3907, 140.0007, 4131,    152.6,      152,  27.6336,  35.1690,2,    147.9,2,  35.1717,2,   148.08,2,     2.73,2,     6.26,2,     0.03,2,    0.580,2, -999.000,9, -999.000,9,   2041.9,2,   2309.2,2,   7.9853,2,    25.00, -999.000,9,     0.06,2,     0.13,2,  27.5980,2,  22.6526,2,  27.6305,2
49UP20220727_1,    P9,    15,  1,     29,     318,2,20220809,2358,0150,  2.3907, 140.0007, 4131,    204.9,      204,  17.8314,  34.6967,2,    146.2,2,  34.6968,2,   146.34,2,    10.01,2,    10.78,2,     0.01,2,    0.830,2, -999.000,9, -999.000,9,   2103.3,2,   2285.7,2,   7.8266,2,    25.00, -999.000,9,     0.02,2,     0.05,2,  17.7965,2,  25.0896,2,  17.8292,2
49UP20220727_1,    P9,    15,  1,     28,     755,2,20220809,2358,0148,  2.3907, 140.0007, 4131,    254.5,      253,  11.2759,  34.4708,2,    117.1,2,  34.4745,2,   117.71,2,    28.74,2,    23.29,2,     0.00,2,    1.680,2, -999.000,9, -999.000,9,   2179.4,2,   2289.8,2,   7.6477,2,    25.00, -999.000,9,  -999.00,9,  -999.00,9,  11.2441,2,  26.3190,2,  11.2712,2
49UP20220727_1,    P9,    15,  1,     27,     317,2,20220809,2358,0147,  2.3907, 140.0007, 4131,    284.5,      283,   9.6334,  34.4999,2,    100.7,2,  34.5044,2,   100.99,2,    35.79,2,    28.00,2,     0.00,2,    2.000,2, -999.000,9, -999.000,9,   2208.7,2,   2299.9,2,   7.5866,2,    25.00, -999.000,9,  -999.00,9,  -999.00,9,   9.6012,2,  26.6285,2,   9.6314,2
49UP20220727_1,    P9,    15,  1,     26,     316,2,20220809,2358,0145,  2.3907, 140.0007, 4131,    323.9,      322,   9.8133,  34.6596,2,    129.8,2,  34.6594,2,   129.26,2,    26.91,2,    25.73,2,     0.00,2,    1.830,2, -999.000,9, -999.000,9,   2192.1,2,   2304.0,2,   7.6431,2,    25.00, -999.000,9,  -999.00,9,  -999.00,9,   9.7761,2,  26.7241,2,   9.8124,2
49UP20220727_1,    P9,    15,  1,     25,     315,2,20220809,2358,0143,  2.3907, 140.0007, 4131,    374.0,      372,   8.8950,  34.5965,2,    115.3,2,  34.5965,2,   115.61,2,    33.03,2,    28.69,2,     0.00,2,    2.030,2, -999.000,9, -999.000,9,   2211.3,2,   2306.2,2,   7.6010,2,    25.00, -999.000,9,  -999.00,9,  -999.00,9,   8.8545,2,  26.8253,2,   8.8956,2
49UP20220727_1,    P9,    15,  1,     24,     753,2,20220809,2358,0141,  2.3907, 140.0007, 4131,    426.1,      423,   8.6536,  34.6096,2,    127.3,2,  34.6096,2,   126.23,2,    33.58,2,    28.53,2,     0.00,2,    2.020,2, -999.000,9, -999.000,9,   2208.5,2,   2309.7,2,   7.6144,2,    25.00, -999.000,9,  -999.00,9,  -999.00,9,   8.6080,2,  26.8743,2,   8.6534,2
49UP20220727_1,    P9,    15,  1,     23,     314,2,20220809,2358,0139,  2.3907, 140.0007, 4131,    473.8,      471,   7.9416,  34.5539,2,    101.4,2,  34.5534,2,   101.81,2,    39.71,2,    31.86,2,     0.00,2,    2.240,2, -999.000,9, -999.000,9,   2228.7,2,   2309.6,2,   7.5587,2,    25.00, -999.000,9,  -999.00,9,  -999.00,9,   7.8933,2,  26.9393,2,   7.9404,2
49UP20220727_1,    P9,    15,  1,     22,     313,2,20220809,2358,0136,  2.3907, 140.0007, 4131,    575.0,      571,   6.8576,  34.5298,2,    113.4,2,  34.5295,2,   113.15,2,    45.98,2,    32.94,2,     0.00,2,    2.320,2, -999.000,9, -999.000,9,   2234.7,2,   2316.5,2,   7.5582,2,    25.00, -999.000,9,  -999.00,9,  -999.00,9,   6.8033,2,  27.0754,2,   6.8575,2
49UP20220727_1,    P9,    15,  1,     21,     312,2,20220809,2358,0133,  2.3907, 140.0007, 4131,    677.1,      672,   6.2995,  34.5243,2,    120.2,2,  34.5242,2,   120.15,2,    47.43,2,    33.60,2,     0.00,2,    2.360,2, -999.000,9, -999.000,9,   2238.0,6,   2318.2,6,   7.5597,2,    25.00, -999.000,9,  -999.00,9,  -999.00,9,   6.2379,2,  27.1462,2,   6.2999,2
49UP20220727_1,    P9,    15,  1,     20,     311,2,20220809,2358,0130,  2.3907, 140.0007, 4131,    776.6,      771,   5.7818,  34.5250,2,    111.2,2,  34.5248,2,   110.80,2,    56.80,2,    35.35,2,     0.00,2,    2.500,2, -999.000,9, -999.000,9,   2256.8,2,   2327.2,2,   7.5388,6,    25.00, -999.000,9,  -999.00,9,  -999.00,9,   5.7137,2,  27.2132,2,   5.7818,2
49UP20220727_1,    P9,    15,  1,     19,     310,2,20220809,2358,0127,  2.3907, 140.0007, 4131,    878.5,      872,   5.1725,  34.5375,2,     96.1,2,  34.5376,2,    96.00,6,    73.29,6,    37.32,6,     0.00,6,    2.650,6, -999.000,9, -999.000,9,   2279.4,2,   2341.7,2,   7.5105,2,    25.00, -999.000,9,  -999.00,9,  -999.00,9,   5.0988,2,  27.2971,2,   5.1728,2
49UP20220727_1,    P9,    15,  1,     18,     752,2,20220809,2358,0123,  2.3907, 140.0007, 4131,    978.6,      971,   4.5815,  34.5513,2,     93.4,2,  34.5515,6,    93.35,2,    86.76,2,    38.12,2,     0.00,2,    2.720,2, -999.000,9, -999.000,9,   2292.7,2,   2356.6,2,   7.5044,2,    25.00, -999.000,9,  -999.00,9,  -999.00,9,   4.5032,2,  27.3755,2,   4.5809,2
49UP20220727_1,    P9,    15,  1,     17,     751,2,20220809,2358,0118,  2.3907, 140.0007, 4131,   1140.8,     1131,   3.9440,  34.5680,2,     94.2,2,  34.5681,2,    94.43,2,   100.52,2,    38.75,2,     0.00,2,    2.760,2, -999.000,9, -999.000,9,   2310.5,2,   2371.1,2,   7.5021,2,    25.00, -999.000,9,  -999.00,9,  -999.00,9,   3.8568,2,  27.4573,2,   3.9435,2
49UP20220727_1,    P9,    15,  1,     16,     328,2,20220809,2358,0113,  2.3907, 140.0007, 4131,   1343.7,     1332,   3.3043,  34.5877,2,     99.4,2,  34.5877,2,    99.58,2,   113.93,2,    38.88,2,     0.00,2,    2.760,2, -999.000,9, -999.000,9,   2318.6,2,   2385.5,2,   7.5063,2,    25.00, -999.000,9,  -999.00,9,  -999.00,9,   3.2061,2,  27.5368,2,   3.3042,2
49UP20220727_1,    P9,    15,  1,     15,     309,2,20220809,2358,0108,  2.3907, 140.0007, 4131,   1546.2,     1532,   2.8328,  34.6058,2,    105.1,2,  34.6056,6,   105.00,2,   123.73,2,    38.73,2,     0.00,2,    2.740,2, -999.000,9, -999.000,9,   2326.6,2,   2397.3,2,   7.5135,2,    25.00, -999.000,9,  -999.00,9,  -999.00,9,   2.7230,2,  27.5954,2,   2.8328,2
49UP20220727_1,    P9,    15,  1,     14,     326,2,20220809,2358,0102,  2.3907, 140.0007, 4131,   1748.9,     1732,   2.5309,  34.6195,2,    111.9,2,  34.6194,2,   111.95,2,   129.44,2,    38.45,2,     0.00,2,    2.710,2, -999.000,9, -999.000,9,   2327.8,2,   2401.6,2,   7.5240,2,    25.00, -999.000,9,  -999.00,9,  -999.00,9,   2.4080,2,  27.6335,2,   2.5308,2
49UP20220727_1,    P9,    15,  1,     13,     325,2,20220809,2358,0057,  2.3907, 140.0007, 4131,   1951.1,     1931,   2.3011,  34.6308,2,    113.6,2,  34.6309,2,   114.36,6,   135.81,6,    38.49,6,     0.00,6,    2.710,6, -999.000,9, -999.000,9,   2336.3,2,   2407.6,2,   7.5256,2,    25.00, -999.000,9,  -999.00,9,  -999.00,9,   2.1643,2,  27.6627,2,   2.3011,2
49UP20220727_1,    P9,    15,  1,     12,     324,2,20220809,2358,0052,  2.3907, 140.0007, 4131,   2154.9,     2132,   2.1070,  34.6413,2,    118.1,2,  34.6416,2,   117.97,2,   139.76,2,    38.23,2,     0.00,2,    2.680,2, -999.000,9, -999.000,9,   2336.6,2,   2411.4,2,   7.5329,2,    25.00, -999.000,9,  -999.00,9,  -999.00,9,   1.9557,2,  27.6878,2,   2.1071,2
49UP20220727_1,    P9,    15,  1,     11,     323,2,20220809,2358,0046,  2.3907, 140.0007, 4131,   2359.1,     2333,   1.9272,  34.6513,2,    123.8,2,  34.6513,2,   123.77,2,   143.10,2,    37.97,2,     0.00,2,    2.650,2, -999.000,9, -999.000,9,   2337.2,2,   2416.2,2,   7.5424,2,    25.00, -999.000,9,  -999.00,9,  -999.00,9,   1.7609,2,  27.7109,2,   1.9278,2
49UP20220727_1,    P9,    15,  1,     10,     322,2,20220809,2358,0041,  2.3907, 140.0007, 4131,   2562.1,     2533,   1.8008,  34.6583,2,    130.5,2,  34.6580,2,   130.32,2,   143.82,2,    37.55,2,     0.00,2,    2.620,2, -999.000,9, -999.000,9,   2335.0,2,   2417.3,2,   7.5517,2,    25.00, -999.000,9,  -999.00,9,  -999.00,9,   1.6186,2,  27.7272,2,   1.8008,2
49UP20220727_1,    P9,    15,  1,      9,     750,2,20220809,2358,0035,  2.3907, 140.0007, 4131,   2765.4,     2732,   1.6946,  34.6637,2,    137.2,2,  34.6637,6,   136.94,2,   143.74,2,    37.08,2,     0.00,2,    2.580,2, -999.000,9, -999.000,9,   2329.8,2,   2416.4,2,   7.5619,2,    25.00, -999.000,9,  -999.00,9,  -999.00,9,   1.4958,2,  27.7406,2,   1.6944,2
49UP20220727_1,    P9,    15,  1,      8,     320,2,20220809,2358,0029,  2.3907, 140.0007, 4131,   2968.0,     2931,   1.6078,  34.6695,2,    142.6,2,  34.6697,2,   142.83,2,   144.10,2,    36.70,2,     0.00,2,    2.550,2, -999.000,9, -999.000,9,   2327.3,6,   2417.3,6,   7.5710,2,    25.00, -999.000,9,  -999.00,9,  -999.00,9,   1.3917,2,  27.7528,2,   1.6079,2
49UP20220727_1,    P9,    15,  1,      7,     319,2,20220809,2358,0022,  2.3907, 140.0007, 4131,   3213.2,     3171,   1.5844,  34.6727,2,    144.5,2,  34.6732,2,   144.48,2,   144.26,2,    36.53,2,     0.00,2,    2.540,2, -999.000,9, -999.000,9,   2334.0,2,   2420.2,2,   7.5747,6,    25.00, -999.000,9,  -999.00,9,  -999.00,9,   1.3450,2,  27.7586,2,   1.5843,2
49UP20220727_1,    P9,    15,  1,      6,     318,2,20220809,2358,0016,  2.3907, 140.0007, 4131,   3468.5,     3421,   1.5661,  34.6756,2,    146.9,2,  34.6757,2,   146.78,2,   144.05,2,    36.36,2,     0.00,2,    2.530,2, -999.000,9, -999.000,9,   2326.3,2,   2419.9,2,   7.5791,2,    25.00, -999.000,9,  -999.00,9,  -999.00,9,   1.3016,2,  27.7641,2,   1.5662,2
49UP20220727_1,    P9,    15,  1,      5,     838,2,20220809,2358,0015,  2.3907, 140.0007, 4131,   3468.8,     3422,   1.5661,  34.6756,2,    146.9,2,  34.6754,2,   146.81,2,   144.28,2,    36.40,2,     0.00,2,    2.530,2, -999.000,9, -999.000,9,   2330.3,2,   2420.2,2,   7.5786,2,    25.00, -999.000,9,  -999.00,9,  -999.00,9,   1.3015,2,  27.7641,2,   1.5661,2
49UP20220727_1,    P9,    15,  1,      4,     316,2,20220809,2358,0009,  2.3907, 140.0007, 4131,   3723.8,     3671,   1.5555,  34.6787,2,    148.9,2,  34.6788,2,   149.00,6,   144.22,6,    36.24,6,     0.00,6,    2.520,6, -999.000,9, -999.000,9,   2331.7,2,   2423.6,2,   7.5828,2,    25.00, -999.000,9,  -999.00,9,  -999.00,9,   1.2647,2,  27.7691,2,   1.5555,2
49UP20220727_1,    P9,    15,  1,      3,     315,2,20220809,2358,0004,  2.3907, 140.0007, 4131,   3978.8,     3920,   1.5273,  34.6834,2,    152.4,2,  34.6829,2,   152.39,2,   143.99,2,    36.06,2,     0.00,2,    2.500,2, -999.000,9, -999.000,9,   2336.8,2,   2423.9,2,   7.5928,2,    25.00, -999.000,9,  -999.00,9,  -999.00,9,   1.2099,2,  27.7767,2,   1.5271,2
49UP20220727_1,    P9,    15,  1,      2,     314,2,20220809,2358,2359,  2.3907, 140.0007, 4131,   4186.6,     4123,   1.5222,  34.6856,2,    154.8,2,  34.6854,2,   154.46,2,   143.73,2,    35.88,2,     0.00,2,    2.500,2, -999.000,9, -999.000,9,   2323.6,2,   2422.7,2,   7.5944,2,    25.00, -999.000,9,  -999.00,9,  -999.00,9,   1.1821,2,  27.7804,2,   1.5223,2
49UP20220727_1,    P9,    15,  1,      1,     308,2,20220809,2358,2358,  2.3907, 140.0007, 4131,   4187.1,     4123,   1.5221,  34.6856,2,    154.8,2,  34.6856,6,   154.56,2,   143.51,2,    35.90,2,     0.00,2,    2.500,2, -999.000,9, -999.000,9,   2325.4,2,   2424.7,2,   7.5951,2,    25.00, -999.000,9,  -999.00,9,  -999.00,9,   1.1819,2,  27.7804,2,   1.5221,2