BOTTLE,20230330JMAAMD
EXPOCODE,SECT_ID,STNNBR,CASTNO,SAMPNO,BTLNBR,BTLNBR_FLAG_U,DATE,TIME,BTL_TIME,LATITUDE,LONGITUDE,DEPTH,CTDPRS,CTDDEP,CTDTMP,CTDSAL,CTDSAL_FLAG_W,CTDOXY,CTDOXY_FLAG_W,SALNTY,SALNTY_FLAG_W,OXYGEN,OXYGEN_FLAG_W,SILCAT,SILCAT_FLAG_W,NO2+NO3,NO2+NO3_FLAG_W,NITRIT,NITRIT_FLAG_W,PHSPHT,PHSPHT_FLAG_W,CFC-11,CFC-11_FLAG_W,CFC-12,CFC-12_FLAG_W,TCARBN,TCARBN_FLAG_W,ALKALI,ALKALI_FLAG_W,PH_TS,PH_TS_FLAG_W,PH_TS_TMP,CFC113,CFC113_FLAG_W,CHLORA,CHLORA_FLAG_W,PPHYTN,PPHYTN_FLAG_W,THETA,THETA_FLAG_W,SIGTHT,SIGTHT_FLAG_W,SBE35,SBE35_FLAG_W
,,,,,,,,UTC,,,,METER,DBAR,METERS,ITS-90,PSS-78,,UMOL/KG,,PSS78,,UMOL/KG,,UMOL/KG,,UMOL/KG,,UMOL/KG,,UMOL/KG,,PMOL/KG,,PMOL/KG,,UMOL/KG,,UMOL/KG,,,,ITS-90,PMOL/KG,,UG/KG,,UG/KG,,ITS-90,,KG/M3,,ITS-90,
49UP20220824_1,    P9,    31,  1,      0,      -9,0,20220901,1532,1740,  7.3300, 136.8192, 6622,      0.0,        0,  30.3371,  33.6033,2,    194.7,2,-999.0000,9,   195.10,2,     1.26,2,     0.10,2,     0.00,2,    0.040,2, -999.000,9, -999.000,9,   -999.0,9,   -999.0,9,-999.0000,9,  -999.00, -999.000,9,  -999.00,9,  -999.00,9,  30.3365,2,  20.5647,2,-999.0000,9
49UP20220824_1,    P9,    31,  1,     36,     757,2,20220901,1532,1817,  7.3300, 136.8192, 6622,     11.2,       11,  30.3412,  33.6129,2,    195.0,2,  33.6128,2,   195.43,2,     1.19,2,     0.09,2,     0.00,2,    0.020,2, -999.000,9, -999.000,9,   -999.0,9,   -999.0,9,-999.0000,9,  -999.00, -999.000,9,  -999.00,9,  -999.00,9,  30.3384,2,  20.5712,2,  30.3403,2
49UP20220824_1,    P9,    31,  1,     35,     756,2,20220901,1532,1815,  7.3300, 136.8192, 6622,     25.9,       26,  30.1675,  33.6460,2,    195.8,2,  33.6462,2,   196.09,2,     1.19,2,     0.09,2,     0.00,2,    0.020,2, -999.000,9, -999.000,9,   -999.0,9,   -999.0,9,-999.0000,9,  -999.00, -999.000,9,  -999.00,9,  -999.00,9,  30.1611,2,  20.6566,2,  30.1696,2
49UP20220824_1,    P9,    31,  1,     34,     323,2,20220901,1532,1811,  7.3300, 136.8192, 6622,     51.9,       52,  29.9640,  34.0988,2,    203.1,2,  34.1102,2,   202.57,2,     1.27,2,     0.08,2,     0.00,2,    0.040,2, -999.000,9, -999.000,9,   -999.0,9,   -999.0,9,-999.0000,9,  -999.00, -999.000,9,  -999.00,9,  -999.00,9,  29.9512,2,  21.0673,2,  29.9646,2
49UP20220824_1,    P9,    31,  1,     33,     322,2,20220901,1532,1809,  7.3300, 136.8192, 6622,     76.7,       76,  28.7580,  34.5032,2,    196.0,2,  34.5032,2,   195.56,2,     1.54,2,     0.10,2,     0.00,2,    0.100,2, -999.000,9, -999.000,9,   -999.0,9,   -999.0,9,-999.0000,9,  -999.00, -999.000,9,  -999.00,9,  -999.00,9,  28.7396,2,  21.7778,2,  28.7517,2
49UP20220824_1,    P9,    31,  1,     32,     321,2,20220901,1532,1807,  7.3300, 136.8192, 6622,    101.5,      101,  26.4946,  34.7874,2,    171.7,2,  34.7885,2,   172.20,2,     2.61,2,     1.71,2,     0.33,2,    0.290,2, -999.000,9, -999.000,9,   -999.0,9,   -999.0,9,-999.0000,9,  -999.00, -999.000,9,  -999.00,9,  -999.00,9,  26.4717,2,  22.7252,2,  26.4920,2
49UP20220824_1,    P9,    31,  1,     31,     320,2,20220901,1532,1805,  7.3300, 136.8192, 6622,    151.3,      150,  17.1032,  34.6359,2,    138.3,2,  34.6362,2,   137.17,2,    12.71,2,    13.25,2,     0.01,2,    0.990,2, -999.000,9, -999.000,9,   -999.0,9,   -999.0,9,-999.0000,9,  -999.00, -999.000,9,  -999.00,9,  -999.00,9,  17.0782,2,  25.2162,2,  17.1037,2
49UP20220824_1,    P9,    31,  1,     30,     319,2,20220901,1532,1803,  7.3300, 136.8192, 6622,    201.9,      201,  11.9219,  34.5236,2,     94.6,2,  34.5243,2,    94.76,6,    25.78,6,    24.26,6,     0.00,6,    1.740,6, -999.000,9, -999.000,9,   -999.0,9,   -999.0,9,-999.0000,9,  -999.00, -999.000,9,  -999.00,9,  -999.00,9,  11.8958,2,  26.2388,2,  11.9326,2
49UP20220824_1,    P9,    31,  1,     29,     318,2,20220901,1532,1801,  7.3300, 136.8192, 6622,    252.1,      251,  10.4817,  34.5234,2,     82.1,2,  34.5225,2,    82.08,2,    31.97,2,    28.53,2,     0.00,2,    2.020,2, -999.000,9, -999.000,9,   -999.0,9,   -999.0,9,-999.0000,9,  -999.00, -999.000,9,  -999.00,9,  -999.00,9,  10.4516,2,  26.5018,2,  10.4815,2
49UP20220824_1,    P9,    31,  1,     28,     755,2,20220901,1532,1758,  7.3300, 136.8192, 6622,    302.4,      300,   9.7016,  34.5383,2,     76.0,2,  34.5377,2,    75.70,2,    35.23,2,    30.77,2,     0.00,2,    2.160,2, -999.000,9, -999.000,9,   -999.0,9,   -999.0,9,-999.0000,9,  -999.00, -999.000,9,  -999.00,9,  -999.00,9,   9.6672,2,  26.6475,2,   9.7047,2
49UP20220824_1,    P9,    31,  1,     27,     317,2,20220901,1532,1756,  7.3300, 136.8192, 6622,    353.4,      351,   9.1529,  34.5505,2,     74.7,2,  34.5500,2,    74.25,2,    37.29,2,    31.90,2,     0.00,2,    2.240,2, -999.000,9, -999.000,9,   -999.0,9,   -999.0,9,-999.0000,9,  -999.00, -999.000,9,  -999.00,9,  -999.00,9,   9.1140,2,  26.7478,2,   9.1532,2
49UP20220824_1,    P9,    31,  1,     26,     316,2,20220901,1532,1754,  7.3300, 136.8192, 6622,    403.1,      400,   8.6149,  34.5557,2,     77.0,2,  34.5548,2,    77.14,2,    39.61,2,    33.02,2,     0.00,2,    2.290,2, -999.000,9, -999.000,9,   -999.0,9,   -999.0,9,-999.0000,9,  -999.00, -999.000,9,  -999.00,9,  -999.00,9,   8.5719,2,  26.8377,2,   8.6152,2
49UP20220824_1,    P9,    31,  1,     25,     315,2,20220901,1532,1752,  7.3300, 136.8192, 6622,    453.1,      450,   8.2400,  34.5511,2,     82.6,2,  34.5502,2,    82.29,2,    41.16,2,    33.11,2,     0.00,2,    2.310,2, -999.000,9, -999.000,9,   -999.0,9,   -999.0,9,-999.0000,9,  -999.00, -999.000,9,  -999.00,9,  -999.00,9,   8.1929,2,  26.8923,2,   8.2394,2
49UP20220824_1,    P9,    31,  1,     24,     753,2,20220901,1532,1750,  7.3300, 136.8192, 6622,    504.0,      501,   7.7625,  34.5422,2,     85.1,2,  34.5402,2,    85.24,2,    44.91,2,    33.77,2,     0.00,2,    2.360,2, -999.000,9, -999.000,9,   -999.0,9,   -999.0,9,-999.0000,9,  -999.00, -999.000,9,  -999.00,9,  -999.00,9,   7.7117,2,  26.9568,2,   7.7621,2
49UP20220824_1,    P9,    31,  1,     23,     314,2,20220901,1532,1747,  7.3300, 136.8192, 6622,    604.1,      600,   7.0251,  34.5257,2,     89.3,2,  34.5249,2,    89.53,2,    51.33,2,    34.89,2,     0.00,2,    2.430,2, -999.000,9, -999.000,9,   -999.0,9,   -999.0,9,-999.0000,9,  -999.00, -999.000,9,  -999.00,9,  -999.00,9,   6.9672,2,  27.0497,2,   7.0242,2
49UP20220824_1,    P9,    31,  1,     22,     313,2,20220901,1532,1744,  7.3300, 136.8192, 6622,    705.3,      700,   6.3477,  34.5231,2,     87.3,2,  34.5225,2,    87.32,2,    60.01,2,    36.29,2,     0.00,2,    2.540,2, -999.000,9, -999.000,9,   -999.0,9,   -999.0,9,-999.0000,9,  -999.00, -999.000,9,  -999.00,9,  -999.00,9,   6.2832,2,  27.1394,2,   6.3478,2
49UP20220824_1,    P9,    31,  1,     21,     312,2,20220901,1532,1740,  7.3300, 136.8192, 6622,    808.3,      802,   5.5923,  34.5311,2,     82.5,2,  34.5304,2,    82.63,6,    72.47,6,    37.77,6,     0.00,6,    2.650,6, -999.000,9, -999.000,9,   -999.0,9,   -999.0,9,-999.0000,9,  -999.00, -999.000,9,  -999.00,9,  -999.00,9,   5.5224,2,  27.2415,2,   5.5924,2
49UP20220824_1,    P9,    31,  1,     20,     311,2,20220901,1532,1736,  7.3300, 136.8192, 6622,    908.0,      901,   4.9965,  34.5411,2,     84.5,2,  34.5405,2,    84.55,2,    82.87,2,    38.48,2,     0.00,2,    2.700,2, -999.000,9, -999.000,9,   -999.0,9,   -999.0,9,-999.0000,9,  -999.00, -999.000,9,  -999.00,9,  -999.00,9,   4.9214,2,  27.3204,2,   4.9962,2
49UP20220824_1,    P9,    31,  1,     19,     310,2,20220901,1532,1733,  7.3300, 136.8192, 6622,   1010.2,     1002,   4.4618,  34.5515,2,     86.8,2,  34.5513,2,    87.07,2,    93.56,2,    38.65,2,     0.00,2,    2.730,2, -999.000,9, -999.000,9,   -999.0,9,   -999.0,9,-999.0000,9,  -999.00, -999.000,9,  -999.00,9,  -999.00,9,   4.3816,2,  27.3889,2,   4.4609,2
49UP20220824_1,    P9,    31,  1,     18,     752,2,20220901,1532,1727,  7.3300, 136.8192, 6622,   1212.4,     1202,   3.6518,  34.5758,2,     91.5,2,  34.5752,6,    91.65,2,   109.30,2,    39.13,2,     0.00,2,    2.760,2, -999.000,9, -999.000,9,   -999.0,9,   -999.0,9,-999.0000,9,  -999.00, -999.000,9,  -999.00,9,  -999.00,9,   3.5613,2,  27.4931,2,   3.6527,2
49UP20220824_1,    P9,    31,  1,     17,     751,2,20220901,1532,1722,  7.3300, 136.8192, 6622,   1414.3,     1402,   3.1804,  34.5918,2,     97.1,2,  34.5918,2,    97.08,2,   118.71,2,    39.39,2,     0.00,2,    2.750,2, -999.000,9, -999.000,9,   -999.0,9,   -999.0,9,-999.0000,9,  -999.00, -999.000,9,  -999.00,9,  -999.00,9,   3.0776,2,  27.5520,2,   3.1803,2
49UP20220824_1,    P9,    31,  1,     16,     328,2,20220901,1532,1717,  7.3300, 136.8192, 6622,   1613.6,     1598,   2.7982,  34.6067,2,    103.0,2,  34.6066,2,   103.27,2,   126.41,2,    39.14,2,     0.00,2,    2.730,2, -999.000,9, -999.000,9,   -999.0,9,   -999.0,9,-999.0000,9,  -999.00, -999.000,9,  -999.00,9,  -999.00,9,   2.6832,2,  27.5995,2,   2.7980,2
49UP20220824_1,    P9,    31,  1,     15,     309,2,20220901,1532,1711,  7.3300, 136.8192, 6622,   1819.9,     1802,   2.5175,  34.6178,2,    108.0,2,  34.6177,2,   108.46,2,   132.63,2,    38.77,2,     0.00,2,    2.710,2, -999.000,9, -999.000,9,   -999.0,9,   -999.0,9,-999.0000,9,  -999.00, -999.000,9,  -999.00,9,  -999.00,9,   2.3888,2,  27.6337,2,   2.5174,2
49UP20220824_1,    P9,    31,  1,     14,     326,2,20220901,1532,1706,  7.3300, 136.8192, 6622,   2022.2,     2001,   2.2446,  34.6309,2,    114.5,2,  34.6309,2,   114.45,2,   137.53,2,    38.55,2,     0.00,2,    2.680,2, -999.000,9, -999.000,9,   -999.0,9,   -999.0,9,-999.0000,9,  -999.00, -999.000,9,  -999.00,9,  -999.00,9,   2.1025,2,  27.6678,2,   2.2447,2
49UP20220824_1,    P9,    31,  1,     13,     325,2,20220901,1532,1700,  7.3300, 136.8192, 6622,   2225.3,     2201,   2.0038,  34.6445,2,    121.9,2,  34.6445,2,   122.22,2,   140.92,2,    38.22,2,     0.00,2,    2.640,2, -999.000,9, -999.000,9,   -999.0,9,   -999.0,9,-999.0000,9,  -999.00, -999.000,9,  -999.00,9,  -999.00,9,   1.8480,2,  27.6988,2,   2.0042,2
49UP20220824_1,    P9,    31,  1,     12,     324,2,20220901,1532,1655,  7.3300, 136.8192, 6622,   2428.7,     2401,   1.8212,  34.6548,2,    129.4,2,  34.6550,2,   129.64,6,   143.13,6,    37.75,6,     0.00,6,    2.600,6, -999.000,9, -999.000,9,   -999.0,9,   -999.0,9,-999.0000,9,  -999.00, -999.000,9,  -999.00,9,  -999.00,9,   1.6506,2,  27.7221,2,   1.8214,2
49UP20220824_1,    P9,    31,  1,     11,     323,2,20220901,1532,1650,  7.3300, 136.8192, 6622,   2631.9,     2601,   1.7216,  34.6612,2,    134.6,2,  34.6602,2,   134.69,2,   144.16,2,    37.18,2,     0.00,2,    2.580,2, -999.000,9, -999.000,9,   -999.0,9,   -999.0,9,-999.0000,9,  -999.00, -999.000,9,  -999.00,9,  -999.00,9,   1.5346,2,  27.7357,2,   1.7220,2
49UP20220824_1,    P9,    31,  1,     10,     322,2,20220901,1532,1641,  7.3300, 136.8192, 6622,   3040.1,     3001,   1.6001,  34.6706,2,    142.7,2,  34.6700,2,   142.87,2,   144.33,2,    36.81,2,     0.00,2,    2.530,2, -999.000,9, -999.000,9,   -999.0,9,   -999.0,9,-999.0000,9,  -999.00, -999.000,9,  -999.00,9,  -999.00,9,   1.3772,2,  27.7547,2,   1.6001,2
49UP20220824_1,    P9,    31,  1,      9,     750,2,20220901,1532,1630,  7.3300, 136.8192, 6622,   3549.5,     3500,   1.5568,  34.6772,2,    148.6,2,  34.6766,6,   148.69,2,   143.62,2,    36.72,2,     0.00,2,    2.510,2, -999.000,9, -999.000,9,   -999.0,9,   -999.0,9,-999.0000,9,  -999.00, -999.000,9,  -999.00,9,  -999.00,9,   1.2841,2,  27.7665,2,   1.5570,2
49UP20220824_1,    P9,    31,  1,      8,     320,2,20220901,1532,1619,  7.3300, 136.8192, 6622,   4062.5,     4002,   1.5142,  34.6841,2,    155.7,2,  34.6835,2,   155.79,2,   142.27,2,    36.15,2,     0.00,2,    2.470,2, -999.000,9, -999.000,9,   -999.0,9,   -999.0,9,-999.0000,9,  -999.00, -999.000,9,  -999.00,9,  -999.00,9,   1.1881,2,  27.7787,2,   1.5143,2
49UP20220824_1,    P9,    31,  1,      7,     319,2,20220901,1532,1608,  7.3300, 136.8192, 6622,   4574.0,     4500,   1.4958,  34.6892,2,    163.0,2,  34.6884,2,   163.33,2,   139.52,2,    35.31,2,     0.00,2,    2.430,2, -999.000,9, -999.000,9,   -999.0,9,   -999.0,9,-999.0000,9,  -999.00, -999.000,9,  -999.00,9,  -999.00,9,   1.1124,2,  27.7880,2,   1.4960,2
49UP20220824_1,    P9,    31,  1,      6,     318,2,20220901,1532,1602,  7.3300, 136.8192, 6622,   4830.9,     4750,   1.4908,  34.6915,2,    167.0,2,  34.6904,4,   167.21,2,   137.56,2,    34.87,2,     0.00,2,    2.400,2, -999.000,9, -999.000,9,   -999.0,9,   -999.0,9,-999.0000,9,  -999.00, -999.000,9,  -999.00,9,  -999.00,9,   1.0772,2,  27.7922,2,   1.4905,2
49UP20220824_1,    P9,    31,  1,      5,     838,2,20220901,1532,1556,  7.3300, 136.8192, 6622,   5087.9,     5000,   1.4901,  34.6937,2,    170.5,2,  34.6934,2,   170.61,2,   136.14,2,    34.84,2,     0.00,2,    2.390,2, -999.000,9, -999.000,9,   -999.0,9,   -999.0,9,-999.0000,9,  -999.00, -999.000,9,  -999.00,9,  -999.00,9,   1.0454,2,  27.7962,2,   1.4902,2
49UP20220824_1,    P9,    31,  1,      4,     316,2,20220901,1532,1551,  7.3300, 136.8192, 6622,   5345.9,     5251,   1.5160,  34.6942,2,    171.5,2,  34.6938,6,   171.58,2,   135.56,2,    34.60,2,     0.00,2,    2.380,2, -999.000,9, -999.000,9,   -999.0,9,   -999.0,9,-999.0000,9,  -999.00, -999.000,9,  -999.00,9,  -999.00,9,   1.0384,2,  27.7970,2,   1.5161,2
49UP20220824_1,    P9,    31,  1,      3,     315,2,20220901,1532,1545,  7.3300, 136.8192, 6622,   5603.6,     5501,   1.5476,  34.6943,2,    171.8,2,  34.6942,2,   171.85,6,   135.57,6,    34.54,6,     0.00,6,    2.380,6, -999.000,9, -999.000,9,   -999.0,9,   -999.0,9,-999.0000,9,  -999.00, -999.000,9,  -999.00,9,  -999.00,9,   1.0360,2,  27.7973,2,   1.5476,2
49UP20220824_1,    P9,    31,  1,      2,     314,2,20220901,1532,1539,  7.3300, 136.8192, 6622,   5861.6,     5751,   1.5810,  34.6945,2,    172.2,2,  34.6946,2,   172.08,2,   135.44,2,    34.65,2,     0.00,2,    2.380,2, -999.000,9, -999.000,9,   -999.0,9,   -999.0,9,-999.0000,9,  -999.00, -999.000,9,  -999.00,9,  -999.00,9,   1.0344,2,  27.7975,2,   1.5811,2
49UP20220824_1,    P9,    31,  1,      1,     308,2,20220901,1532,1533,  7.3300, 136.8192, 6622,   6122.6,     6003,   1.6170,  34.6943,2,    172.3,2,  34.6946,2,   172.47,2,   135.30,2,    34.59,2,     0.00,2,    2.380,2, -999.000,9, -999.000,9,   -999.0,9,   -999.0,9,-999.0000,9,  -999.00, -999.000,9,  -999.00,9,  -999.00,9,   1.0341,2,  27.7975,2,   1.6170,2