BOTTLE,20230330JMAAMD
EXPOCODE,SECT_ID,STNNBR,CASTNO,SAMPNO,BTLNBR,BTLNBR_FLAG_U,DATE,TIME,BTL_TIME,LATITUDE,LONGITUDE,DEPTH,CTDPRS,CTDDEP,CTDTMP,CTDSAL,CTDSAL_FLAG_W,CTDOXY,CTDOXY_FLAG_W,SALNTY,SALNTY_FLAG_W,OXYGEN,OXYGEN_FLAG_W,SILCAT,SILCAT_FLAG_W,NO2+NO3,NO2+NO3_FLAG_W,NITRIT,NITRIT_FLAG_W,PHSPHT,PHSPHT_FLAG_W,CFC-11,CFC-11_FLAG_W,CFC-12,CFC-12_FLAG_W,TCARBN,TCARBN_FLAG_W,ALKALI,ALKALI_FLAG_W,PH_TS,PH_TS_FLAG_W,PH_TS_TMP,CFC113,CFC113_FLAG_W,CHLORA,CHLORA_FLAG_W,PPHYTN,PPHYTN_FLAG_W,THETA,THETA_FLAG_W,SIGTHT,SIGTHT_FLAG_W,SBE35,SBE35_FLAG_W
,,,,,,,,UTC,,,,METER,DBAR,METERS,ITS-90,PSS-78,,UMOL/KG,,PSS78,,UMOL/KG,,UMOL/KG,,UMOL/KG,,UMOL/KG,,UMOL/KG,,PMOL/KG,,PMOL/KG,,UMOL/KG,,UMOL/KG,,,,ITS-90,PMOL/KG,,UG/KG,,UG/KG,,ITS-90,,KG/M3,,ITS-90,
49UP20220929_1,    P9,    89,  1,      0,      -9,0,20221015,1842,2012, 32.9847, 136.9812, 4290,      0.0,        0,  25.6606,  33.8311,2,    207.2,2,  33.9048,2,   207.62,2,     2.20,2,     0.02,2,     0.00,2,    0.010,2, -999.000,9, -999.000,9,   1937.4,2,   2232.7,2,   8.0662,2,    25.00, -999.000,9,     0.27,2,     0.10,2,  25.6600,2,  22.2568,2,-999.0000,9
49UP20220929_1,    P9,    89,  1,     36,     757,2,20221015,1842,2039, 32.9847, 136.9812, 4290,     10.8,       11,  25.6642,  33.8308,2,    207.4,2,  33.8331,2,   207.14,2,     2.20,2,     0.01,2,     0.00,2,    0.000,2, -999.000,9, -999.000,9,   1939.7,2,   2233.3,2,   8.0674,2,    25.00, -999.000,9,     0.25,2,     0.06,2,  25.6618,2,  22.2560,2,  25.6643,2
49UP20220929_1,    P9,    89,  1,     35,     756,2,20221015,1842,2038, 32.9847, 136.9812, 4290,     25.6,       25,  25.6738,  33.8301,2,    207.1,2,  33.8328,2,   207.08,6,     2.20,6,     0.01,6,     0.00,6,    0.000,6, -999.000,9, -999.000,9,   1938.0,2,   2232.1,2,   8.0686,2,    25.00, -999.000,9,     0.25,2,     0.08,2,  25.6682,2,  22.2535,2,  25.6731,2
49UP20220929_1,    P9,    89,  1,     34,     323,2,20221015,1842,2036, 32.9847, 136.9812, 4290,     51.1,       51,  21.8817,  34.4461,2,    205.6,2,  34.4476,2,   205.57,2,     4.19,2,     0.99,2,     0.29,2,    0.120,2, -999.000,9, -999.000,9,   2001.6,2,   2270.5,2,   7.9950,2,    25.00, -999.000,9,     0.91,2,     0.36,2,  21.8717,2,  23.8328,2,  21.8675,2
49UP20220929_1,    P9,    89,  1,     33,     322,2,20221015,1842,2034, 32.9847, 136.9812, 4290,     76.0,       75,  19.8518,  34.5649,2,    181.8,2,  34.5682,2,   181.82,2,     6.98,2,     5.26,2,     0.12,2,    0.370,2, -999.000,9, -999.000,9,   2041.6,2,   2276.9,2,   7.9289,2,    25.00, -999.000,9,     0.37,2,     0.22,2,  19.8378,2,  24.4724,2,  19.8511,2
49UP20220929_1,    P9,    89,  1,     32,     321,2,20221015,1842,2032, 32.9847, 136.9812, 4290,    101.2,      100,  17.5240,  34.6106,2,    177.4,2,  34.6117,2,   177.45,2,     9.95,2,     7.94,2,     0.04,2,    0.550,2, -999.000,9, -999.000,9,   2070.1,2,   2279.1,2,   7.8873,2,    25.00, -999.000,9,     0.13,2,     0.16,2,  17.5070,2,  25.0940,2,  17.5175,2
49UP20220929_1,    P9,    89,  1,     31,     320,2,20221015,1842,2031, 32.9847, 136.9812, 4290,    126.1,      125,  16.3257,  34.5967,2,    171.8,2,  34.5957,2,   172.02,2,    13.07,2,    10.11,2,     0.01,2,    0.690,2, -999.000,9, -999.000,9,   2087.0,2,   2279.1,2,   7.8567,2,    25.00, -999.000,9,     0.05,2,     0.05,2,  16.3056,2,  25.3672,2,  16.3271,2
49UP20220929_1,    P9,    89,  1,     30,     319,2,20221015,1842,2027, 32.9847, 136.9812, 4290,    152.0,      151,  14.9333,  34.5492,2,    166.0,2,  34.5490,2,   166.04,2,    17.28,2,    12.46,2,     0.01,2,    0.860,2, -999.000,9, -999.000,9,   2109.3,2,   2280.1,2,   7.8180,2,    25.00, -999.000,9,     0.02,2,     0.03,2,  14.9105,2,  25.6439,2,  14.9336,2
49UP20220929_1,    P9,    89,  1,     29,     318,2,20221015,1842,2025, 32.9847, 136.9812, 4290,    202.3,      201,  12.5469,  34.4370,2,    154.0,2,  34.4359,2,   154.05,2,    27.34,2,    17.23,2,     0.00,2,    1.200,2, -999.000,9, -999.000,9,   2140.6,2,   2283.2,2,   7.7425,2,    25.00, -999.000,9,     0.01,2,     0.03,2,  12.5199,2,  26.0516,2,  12.5476,2
49UP20220929_1,    P9,    89,  1,     28,     755,2,20221015,1842,2024, 32.9847, 136.9812, 4290,    253.6,      252,  10.3590,  34.3200,2,    143.8,2,  34.3212,2,   143.59,2,    37.87,2,    21.73,2,     0.00,2,    1.520,2, -999.000,9, -999.000,9,   2170.9,2,   2287.9,2,   7.6723,2,    25.00, -999.000,9,  -999.00,9,  -999.00,9,  10.3291,2,  26.3645,2,  10.3556,2
49UP20220929_1,    P9,    89,  1,     26,     316,2,20221015,1842,2021, 32.9847, 136.9812, 4290,    307.0,      305,   8.6714,  34.2282,2,    137.5,2,  34.2381,2,   135.98,2,    48.24,2,    25.11,2,     0.00,2,    1.780,2, -999.000,9, -999.000,9,   2197.2,2,   2292.5,2,   7.6159,2,    25.00, -999.000,9,  -999.00,9,  -999.00,9,   8.6389,2,  26.5706,2,   8.6693,2
49UP20220929_1,    P9,    89,  1,     27,     317,2,20221015,1842,2021, 32.9847, 136.9812, 4290,    308.1,      306,   8.6429,  34.2243,2,    137.6,2,  34.2318,2,   136.54,2,    48.29,2,    25.19,2,     0.00,2,    1.780,2, -999.000,9, -999.000,9,   2198.4,2,   2292.1,2,   7.6133,2,    25.00, -999.000,9,  -999.00,9,  -999.00,9,   8.6103,2,  26.5720,2,   8.6403,2
49UP20220929_1,    P9,    89,  1,     25,     315,2,20221015,1842,2018, 32.9847, 136.9812, 4290,    403.4,      400,   6.8271,  34.2321,2,    103.0,2,  34.2315,2,   103.14,6,    69.48,6,    31.45,6,     0.00,6,    2.240,6, -999.000,9, -999.000,9,   2246.7,2,   2311.3,2,   7.5198,2,    25.00, -999.000,9,  -999.00,9,  -999.00,9,   6.7897,2,  26.8426,2,   6.8305,2
49UP20220929_1,    P9,    89,  1,     24,     753,2,20221015,1842,2015, 32.9847, 136.9812, 4290,    503.5,      499,   5.5680,  34.2688,2,     82.3,2,  34.2681,6,    82.55,2,    87.66,2,    35.45,2,     0.00,2,    2.530,2, -999.000,9, -999.000,9,   2282.7,2,   2329.0,2,   7.4648,2,    25.00, -999.000,9,  -999.00,9,  -999.00,9,   5.5259,2,  27.0335,2,   5.5695,2
49UP20220929_1,    P9,    89,  1,     23,     314,2,20221015,1842,2012, 32.9847, 136.9812, 4290,    606.8,      602,   4.4835,  34.2884,2,     66.2,2,  34.2880,2,    66.30,2,   104.99,2,    38.61,2,     0.00,2,    2.740,2, -999.000,9, -999.000,9,   2314.2,2,   2343.2,2,   7.4175,2,    25.00, -999.000,9,  -999.00,9,  -999.00,9,   4.4373,2,  27.1739,2,   4.4830,2
49UP20220929_1,    P9,    89,  1,     22,     313,2,20221015,1842,2009, 32.9847, 136.9812, 4290,    706.3,      700,   3.9769,  34.3523,2,     61.7,2,  34.3537,2,    62.33,2,   115.53,2,    39.74,2,     0.00,2,    2.820,2, -999.000,9, -999.000,9,   2330.3,2,   2357.7,2,   7.4103,2,    25.00, -999.000,9,  -999.00,9,  -999.00,9,   3.9253,2,  27.2786,2,   3.9767,2
49UP20220929_1,    P9,    89,  1,     20,     311,2,20221015,1842,2006, 32.9847, 136.9812, 4290,    809.6,      802,   3.6955,  34.3900,2,     62.0,2,  34.3897,2,    62.27,2,   121.25,2,    40.56,2,     0.00,2,    2.850,2, -999.000,9, -999.000,9,   2340.0,2,   2363.5,2,   7.4077,2,    25.00, -999.000,9,  -999.00,9,  -999.00,9,   3.6375,2,  27.3375,2,   3.6954,2
49UP20220929_1,    P9,    89,  1,     21,     312,2,20221015,1842,2006, 32.9847, 136.9812, 4290,    810.8,      804,   3.6958,  34.3899,2,     62.0,2,  34.3899,2,    61.92,2,   121.17,2,    40.16,2,     0.00,2,    2.850,2, -999.000,9, -999.000,9,   2336.4,2,   2365.3,2,   7.4137,2,    25.00, -999.000,9,  -999.00,9,  -999.00,9,   3.6377,2,  27.3375,2,   3.6957,2
49UP20220929_1,    P9,    89,  1,     19,     310,2,20221015,1842,2003, 32.9847, 136.9812, 4290,    911.0,      903,   3.3486,  34.4223,2,     61.4,2,  34.4215,2,    61.74,2,   128.41,2,    40.81,2,     0.00,2,    2.870,2, -999.000,9, -999.000,9,   2345.8,2,   2373.1,2,   7.4057,2,    25.00, -999.000,9,  -999.00,9,  -999.00,9,   3.2850,2,  27.3974,2,   3.3481,2
49UP20220929_1,    P9,    89,  1,     18,     752,2,20221015,1842,2000, 32.9847, 136.9812, 4290,   1015.0,     1005,   3.0729,  34.4479,2,     61.5,2,  34.4478,2,    61.72,2,   134.73,2,    40.95,2,     0.00,2,    2.890,2, -999.000,9, -999.000,9,   2357.8,2,   2381.4,2,   7.4051,2,    25.00, -999.000,9,  -999.00,9,  -999.00,9,   3.0033,2,  27.4441,2,   3.0728,2
49UP20220929_1,    P9,    89,  1,     17,     751,2,20221015,1842,1955, 32.9847, 136.9812, 4290,   1211.2,     1199,   2.7653,  34.4905,2,     68.7,2,  34.4909,2,    68.97,2,   139.87,2,    40.79,2,     0.00,2,    2.880,2, -999.000,9, -999.000,9,   2355.7,2,   2387.2,2,   7.4211,2,    25.00, -999.000,9,  -999.00,9,  -999.00,9,   2.6833,2,  27.5066,2,   2.7652,2
49UP20220929_1,    P9,    89,  1,     16,     328,2,20221015,1842,1951, 32.9847, 136.9812, 4290,   1411.6,     1397,   2.4651,  34.5260,2,     74.6,2,  34.5261,2,    74.97,6,   145.44,6,    40.94,6,     0.00,6,    2.860,6, -999.000,9, -999.000,9,   2358.8,2,   2394.2,2,   7.4328,2,    25.00, -999.000,9,  -999.00,9,  -999.00,9,   2.3705,2,  27.5618,2,   2.4655,2
49UP20220929_1,    P9,    89,  1,     15,     309,2,20221015,1842,1946, 32.9847, 136.9812, 4290,   1620.4,     1603,   2.2142,  34.5635,2,     87.6,2,  34.5636,6,    87.79,2,   147.55,2,    40.01,2,     0.00,2,    2.810,2, -999.000,9, -999.000,9,   2354.8,6,   2403.2,6,   7.4610,2,    25.00, -999.000,9,  -999.00,9,  -999.00,9,   2.1060,2,  27.6135,2,   2.2140,2
49UP20220929_1,    P9,    89,  1,     14,     326,2,20221015,1842,1941, 32.9847, 136.9812, 4290,   1821.9,     1801,   2.0421,  34.5911,2,    100.8,2,  34.5908,2,   100.85,2,   147.34,2,    39.41,2,     0.00,2,    2.750,2, -999.000,9, -999.000,9,   2350.9,2,   2406.2,2,   7.4861,6,    25.00, -999.000,9,  -999.00,9,  -999.00,9,   1.9199,2,  27.6503,2,   2.0418,2
49UP20220929_1,    P9,    89,  1,     13,     325,2,20221015,1842,1936, 32.9847, 136.9812, 4290,   2022.2,     1998,   1.9056,  34.6120,2,    110.8,2,  34.6120,2,   111.45,2,   147.06,2,    38.78,2,     0.00,2,    2.690,2, -999.000,9, -999.000,9,   2343.9,2,   2407.8,2,   7.5048,2,    25.00, -999.000,9,  -999.00,9,  -999.00,9,   1.7688,2,  27.6788,2,   1.9059,2
49UP20220929_1,    P9,    89,  1,     11,     323,2,20221015,1842,1931, 32.9847, 136.9812, 4290,   2229.4,     2202,   1.7947,  34.6290,2,    120.2,2,  34.6286,2,   120.17,2,   146.75,2,    38.08,2,     0.00,2,    2.650,2, -999.000,9, -999.000,9,   2340.9,2,   2410.2,2,   7.5220,2,    25.00, -999.000,9,  -999.00,9,  -999.00,9,   1.6421,2,  27.7020,2,   1.7945,2
49UP20220929_1,    P9,    89,  1,     12,     324,2,20221015,1842,1931, 32.9847, 136.9812, 4290,   2229.7,     2202,   1.7944,  34.6292,2,    120.2,2,  34.6287,2,   120.38,2,   146.61,2,    38.28,2,     0.00,2,    2.650,2, -999.000,9, -999.000,9,   2341.1,2,   2411.1,2,   7.5237,2,    25.00, -999.000,9,  -999.00,9,  -999.00,9,   1.6418,2,  27.7021,2,   1.7943,2
49UP20220929_1,    P9,    89,  1,     10,     322,2,20221015,1842,1926, 32.9847, 136.9812, 4290,   2430.4,     2399,   1.7033,  34.6431,2,    128.6,2,  34.6432,2,   128.86,2,   145.71,2,    37.56,2,     0.00,2,    2.610,2, -999.000,9, -999.000,9,   2335.5,6,   2413.5,6,   7.5376,2,    25.00, -999.000,9,  -999.00,9,  -999.00,9,   1.5348,2,  27.7212,2,   1.7031,2
49UP20220929_1,    P9,    89,  1,      9,     750,2,20221015,1842,1921, 32.9847, 136.9812, 4290,   2636.9,     2602,   1.6332,  34.6539,2,    135.6,2,  34.6530,2,   135.68,2,   144.77,2,    37.17,2,     0.00,2,    2.570,2, -999.000,9, -999.000,9,   2339.3,2,   2413.7,2,   7.5510,6,    25.00, -999.000,9,  -999.00,9,  -999.00,9,   1.4475,2,  27.7362,2,   1.6329,2
49UP20220929_1,    P9,    89,  1,      8,     320,2,20221015,1842,1916, 32.9847, 136.9812, 4290,   2842.5,     2804,   1.5662,  34.6639,2,    142.3,2,  34.6617,4,   142.10,2,   144.02,2,    36.79,2,     0.00,2,    2.540,2, -999.000,9, -999.000,9,   2330.1,2,   2415.0,2,   7.5621,2,    25.00, -999.000,9,  -999.00,9,  -999.00,9,   1.3629,2,  27.7503,2,   1.5660,2
49UP20220929_1,    P9,    89,  1,      7,     319,2,20221015,1842,1911, 32.9847, 136.9812, 4290,   3046.0,     3003,   1.5322,  34.6698,2,    146.1,2,  34.6689,2,   146.73,2,   143.52,2,    36.50,2,     0.00,2,    2.520,2, -999.000,9, -999.000,9,   2327.4,2,   2414.4,2,   7.5697,2,    25.00, -999.000,9,  -999.00,9,  -999.00,9,   1.3103,2,  27.7588,2,   1.5320,2
49UP20220929_1,    P9,    89,  1,      6,     318,2,20221015,1842,1905, 32.9847, 136.9812, 4290,   3303.2,     3254,   1.5139,  34.6747,2,    149.4,2,  34.6746,2,   149.54,6,   143.15,6,    36.37,6,     0.00,6,    2.500,6, -999.000,9, -999.000,9,   2327.3,2,   2414.5,2,   7.5766,2,    25.00, -999.000,9,  -999.00,9,  -999.00,9,   1.2673,2,  27.7657,2,   1.5137,2
49UP20220929_1,    P9,    89,  1,      5,     838,2,20221015,1842,1859, 32.9847, 136.9812, 4290,   3555.1,     3501,   1.5180,  34.6771,2,    151.2,2,  34.6764,2,   151.48,2,   142.63,2,    36.13,2,     0.00,2,    2.490,2, -999.000,9, -999.000,9,   2326.3,6,   2415.2,6,   7.5809,2,    25.00, -999.000,9,  -999.00,9,  -999.00,9,   1.2458,2,  27.7692,2,   1.5180,2
49UP20220929_1,    P9,    89,  1,      4,     316,2,20221015,1842,1853, 32.9847, 136.9812, 4290,   3810.6,     3750,   1.5311,  34.6786,2,    152.3,2,  34.6783,2,   152.68,2,   142.65,2,    36.09,2,     0.00,2,    2.490,2, -999.000,9, -999.000,9,   2331.3,2,   2414.5,2,   7.5810,6,    25.00, -999.000,9,  -999.00,9,  -999.00,9,   1.2318,2,  27.7713,2,   1.5310,2
49UP20220929_1,    P9,    89,  1,      3,     315,2,20221015,1842,1848, 32.9847, 136.9812, 4290,   4064.2,     3997,   1.5484,  34.6798,2,    153.3,2,  34.6795,2,   153.40,2,   142.48,2,    36.10,2,     0.00,2,    2.480,2, -999.000,9, -999.000,9,   2323.6,2,   2414.6,2,   7.5812,2,    25.00, -999.000,9,  -999.00,9,  -999.00,9,   1.2212,2,  27.7731,2,   1.5484,2
49UP20220929_1,    P9,    89,  1,      2,     314,2,20221015,1842,1848, 32.9847, 136.9812, 4290,   4064.4,     3997,   1.5484,  34.6797,2,    153.3,2,  34.6793,2,   153.68,2,   142.58,2,    36.05,2,     0.00,2,    2.480,2, -999.000,9, -999.000,9,   2322.7,2,   2415.2,2,   7.5824,2,    25.00, -999.000,9,  -999.00,9,  -999.00,9,   1.2211,2,  27.7730,2,   1.5484,2
49UP20220929_1,    P9,    89,  1,      1,     308,2,20221015,1842,1842, 32.9847, 136.9812, 4290,   4346.1,     4272,   1.5756,  34.6804,2,    153.9,2,  34.6805,6,   154.16,2,   142.66,2,    36.12,2,     0.00,2,    2.480,2, -999.000,9, -999.000,9,   2326.8,2,   2414.4,2,   7.5831,2,    25.00, -999.000,9,  -999.00,9,  -999.00,9,   1.2160,2,  27.7739,2,   1.5755,2