BOTTLE,20230330JMAAMD
EXPOCODE,SECT_ID,STNNBR,CASTNO,SAMPNO,BTLNBR,BTLNBR_FLAG_U,DATE,TIME,BTL_TIME,LATITUDE,LONGITUDE,DEPTH,CTDPRS,CTDDEP,CTDTMP,CTDSAL,CTDSAL_FLAG_W,CTDOXY,CTDOXY_FLAG_W,SALNTY,SALNTY_FLAG_W,OXYGEN,OXYGEN_FLAG_W,SILCAT,SILCAT_FLAG_W,NO2+NO3,NO2+NO3_FLAG_W,NITRIT,NITRIT_FLAG_W,PHSPHT,PHSPHT_FLAG_W,CFC-11,CFC-11_FLAG_W,CFC-12,CFC-12_FLAG_W,TCARBN,TCARBN_FLAG_W,ALKALI,ALKALI_FLAG_W,PH_TS,PH_TS_FLAG_W,PH_TS_TMP,CFC113,CFC113_FLAG_W,CHLORA,CHLORA_FLAG_W,PPHYTN,PPHYTN_FLAG_W,THETA,THETA_FLAG_W,SIGTHT,SIGTHT_FLAG_W,SBE35,SBE35_FLAG_W
,,,,,,,,UTC,,,,METER,DBAR,METERS,ITS-90,PSS-78,,UMOL/KG,,PSS78,,UMOL/KG,,UMOL/KG,,UMOL/KG,,UMOL/KG,,UMOL/KG,,PMOL/KG,,PMOL/KG,,UMOL/KG,,UMOL/KG,,,,ITS-90,PMOL/KG,,UG/KG,,UG/KG,,ITS-90,,KG/M3,,ITS-90,
49UP20220824_1,    P9,    54,  1,      0,      -9,0,20220909,0828,1020, 17.5162, 137.0023, 4854,      0.0,        0,  30.2895,  34.2885,2,    193.3,2,-999.0000,9,   194.45,2,     0.99,2,     0.07,2,     0.00,2,    0.020,2, -999.000,9, -999.000,9,   -999.0,9,   -999.0,9,-999.0000,9,  -999.00, -999.000,9,  -999.00,9,  -999.00,9,  30.2890,2,  21.0941,2,-999.0000,9
49UP20220824_1,    P9,    54,  1,     36,     757,2,20220909,0828,1042, 17.5162, 137.0023, 4854,     11.5,       11,  30.1440,  34.2886,2,    193.9,2,  34.2877,2,   194.52,2,     1.07,2,     0.02,2,     0.00,2,    0.010,2, -999.000,9, -999.000,9,   -999.0,9,   -999.0,9,-999.0000,9,  -999.00, -999.000,9,  -999.00,9,  -999.00,9,  30.1411,2,  21.1448,2,  30.1417,2
49UP20220824_1,    P9,    54,  1,     35,     756,2,20220909,0828,1040, 17.5162, 137.0023, 4854,     27.3,       27,  30.1033,  34.2801,2,    194.2,2,  34.2793,2,   194.92,6,     1.05,6,     0.12,6,     0.00,6,    0.010,6, -999.000,9, -999.000,9,   -999.0,9,   -999.0,9,-999.0000,9,  -999.00, -999.000,9,  -999.00,9,  -999.00,9,  30.0965,2,  21.1537,2,  30.1036,2
49UP20220824_1,    P9,    54,  1,     34,     323,2,20220909,0828,1037, 17.5162, 137.0023, 4854,     51.8,       51,  30.0666,  34.2855,2,    194.7,2,  34.2862,2,   195.15,2,     1.09,2,     0.04,2,     0.00,2,    0.010,2, -999.000,9, -999.000,9,   -999.0,9,   -999.0,9,-999.0000,9,  -999.00, -999.000,9,  -999.00,9,  -999.00,9,  30.0537,2,  21.1723,2,  30.0612,2
49UP20220824_1,    P9,    54,  1,     33,     322,2,20220909,0828,1035, 17.5162, 137.0023, 4854,     77.3,       77,  28.0272,  34.7342,2,    209.3,2,  34.7314,2,   208.74,2,     1.07,2,     0.00,2,     0.00,2,    0.020,2, -999.000,9, -999.000,9,   -999.0,9,   -999.0,9,-999.0000,9,  -999.00, -999.000,9,  -999.00,9,  -999.00,9,  28.0090,2,  22.1918,2,  28.0341,2
49UP20220824_1,    P9,    54,  1,     32,     321,2,20220909,0828,1033, 17.5162, 137.0023, 4854,    102.2,      102,  26.2346,  34.8548,2,    196.6,2,  34.8532,2,   196.39,2,     1.20,2,     0.06,2,     0.00,2,    0.040,2, -999.000,9, -999.000,9,   -999.0,9,   -999.0,9,-999.0000,9,  -999.00, -999.000,9,  -999.00,9,  -999.00,9,  26.2116,2,  22.8577,2,  26.2359,2
49UP20220824_1,    P9,    54,  1,     31,     320,2,20220909,0828,1032, 17.5162, 137.0023, 4854,    127.4,      127,  24.7112,  34.9783,2,    191.2,2,  34.9784,2,   191.12,2,     1.38,2,     0.46,2,     0.11,2,    0.070,2, -999.000,9, -999.000,9,   -999.0,9,   -999.0,9,-999.0000,9,  -999.00, -999.000,9,  -999.00,9,  -999.00,9,  24.6838,2,  23.4206,2,  24.7124,2
49UP20220824_1,    P9,    54,  1,     30,     319,2,20220909,0828,1030, 17.5162, 137.0023, 4854,    152.3,      151,  23.5307,  35.0148,2,    191.0,2,  35.0148,2,   191.17,2,     1.48,2,     0.71,2,     0.04,2,    0.070,2, -999.000,9, -999.000,9,   -999.0,9,   -999.0,9,-999.0000,9,  -999.00, -999.000,9,  -999.00,9,  -999.00,9,  23.4990,2,  23.7999,2,  23.5333,2
49UP20220824_1,    P9,    54,  1,     29,     318,2,20220909,0828,1028, 17.5162, 137.0023, 4854,    204.1,      203,  20.6109,  34.8920,2,    193.1,2,  34.8923,2,   193.49,2,     2.31,2,     1.84,2,     0.02,2,    0.140,2, -999.000,9, -999.000,9,   -999.0,9,   -999.0,9,-999.0000,9,  -999.00, -999.000,9,  -999.00,9,  -999.00,9,  20.5724,2,  24.5272,2,  20.6130,2
49UP20220824_1,    P9,    54,  1,     28,     755,2,20220909,0828,1026, 17.5162, 137.0023, 4854,    254.5,      253,  18.1472,  34.7906,2,    192.8,2,  34.7911,2,   193.22,2,     3.80,2,     4.28,2,     0.01,2,    0.300,2, -999.000,9, -999.000,9,   -999.0,9,   -999.0,9,-999.0000,9,  -999.00, -999.000,9,  -999.00,9,  -999.00,9,  18.1033,2,  25.0862,2,  18.1547,2
49UP20220824_1,    P9,    54,  1,     27,     317,2,20220909,0828,1023, 17.5162, 137.0023, 4854,    334.0,      332,  14.3688,  34.4816,2,    171.0,2,  34.4820,2,   169.82,2,    11.79,2,    11.83,2,     0.00,2,    0.880,2, -999.000,9, -999.000,9,   -999.0,9,   -999.0,9,-999.0000,9,  -999.00, -999.000,9,  -999.00,9,  -999.00,9,  14.3197,2,  25.7190,2,  14.3585,2
49UP20220824_1,    P9,    54,  1,     26,     316,2,20220909,0828,1021, 17.5162, 137.0023, 4854,    384.2,      382,  11.6462,  34.3181,2,    148.6,2,  34.3186,2,   148.35,6,    21.75,6,    18.41,6,     0.00,6,    1.360,6, -999.000,9, -999.000,9,   -999.0,9,   -999.0,9,-999.0000,9,  -999.00, -999.000,9,  -999.00,9,  -999.00,9,  11.5970,2,  26.1352,2,  11.6487,2
49UP20220824_1,    P9,    54,  1,     25,     315,2,20220909,0828,1019, 17.5162, 137.0023, 4854,    434.8,      432,   9.7139,  34.2627,2,    121.1,2,  34.2645,2,   120.50,2,    33.59,2,    24.67,2,     0.00,2,    1.800,2, -999.000,9, -999.000,9,   -999.0,9,   -999.0,9,-999.0000,9,  -999.00, -999.000,9,  -999.00,9,  -999.00,9,   9.6642,2,  26.4326,2,   9.7058,2
49UP20220824_1,    P9,    54,  1,     24,     753,2,20220909,0828,1017, 17.5162, 137.0023, 4854,    482.6,      479,   8.4962,  34.2714,2,     98.6,2,  34.2644,2,    99.72,2,    43.41,2,    28.95,2,     0.00,2,    2.100,2, -999.000,9, -999.000,9,   -999.0,9,   -999.0,9,-999.0000,9,  -999.00, -999.000,9,  -999.00,9,  -999.00,9,   8.4452,2,  26.6344,2,   8.4986,2
49UP20220824_1,    P9,    54,  1,     23,     314,2,20220909,0828,1015, 17.5162, 137.0023, 4854,    534.4,      531,   7.7940,  34.3384,2,     81.1,2,  34.3395,2,    81.34,2,    51.38,2,    32.26,2,     0.00,2,    2.330,2, -999.000,9, -999.000,9,   -999.0,9,   -999.0,9,-999.0000,9,  -999.00, -999.000,9,  -999.00,9,  -999.00,9,   7.7401,2,  26.7925,2,   7.7921,2
49UP20220824_1,    P9,    54,  1,     22,     313,2,20220909,0828,1012, 17.5162, 137.0023, 4854,    635.2,      630,   6.3398,  34.3706,2,     70.5,2,  34.3709,2,    70.80,2,    69.01,2,    36.03,2,     0.00,2,    2.600,2, -999.000,9, -999.000,9,   -999.0,9,   -999.0,9,-999.0000,9,  -999.00, -999.000,9,  -999.00,9,  -999.00,9,   6.2822,2,  27.0191,2,   6.3397,2
49UP20220824_1,    P9,    54,  1,     21,     312,2,20220909,0828,1009, 17.5162, 137.0023, 4854,    737.8,      732,   5.6433,  34.4289,2,     71.5,2,  34.4296,2,    71.47,2,    78.99,2,    37.35,2,     0.00,2,    2.680,2, -999.000,9, -999.000,9,   -999.0,9,   -999.0,9,-999.0000,9,  -999.00, -999.000,9,  -999.00,9,  -999.00,9,   5.5797,2,  27.1537,2,   5.6437,2
49UP20220824_1,    P9,    54,  1,     20,     311,2,20220909,0828,1006, 17.5162, 137.0023, 4854,    837.7,      831,   5.2133,  34.4736,2,     77.8,2,  34.4777,4,    78.69,2,    84.56,2,    37.60,2,     0.00,2,    2.690,2, -999.000,9, -999.000,9,   -999.0,9,   -999.0,9,-999.0000,9,  -999.00, -999.000,9,  -999.00,9,  -999.00,9,   5.1432,2,  27.2413,2,   5.2135,2
49UP20220824_1,    P9,    54,  1,     19,     310,2,20220909,0828,1003, 17.5162, 137.0023, 4854,    938.1,      930,   4.7640,  34.5082,2,     84.0,2,  34.5093,2,    84.22,2,    91.31,2,    37.98,2,     0.00,2,    2.710,2, -999.000,9, -999.000,9,   -999.0,9,   -999.0,9,-999.0000,9,  -999.00, -999.000,9,  -999.00,9,  -999.00,9,   4.6880,2,  27.3208,2,   4.7637,2
49UP20220824_1,    P9,    54,  1,     18,     752,2,20220909,0828,0959, 17.5162, 137.0023, 4854,   1081.3,     1072,   4.1293,  34.5308,2,     84.7,2,  34.5322,2,    84.84,2,   104.63,2,    38.58,2,     0.00,2,    2.750,2, -999.000,9, -999.000,9,   -999.0,9,   -999.0,9,-999.0000,9,  -999.00, -999.000,9,  -999.00,9,  -999.00,9,   4.0457,2,  27.4082,2,   4.1297,2
49UP20220824_1,    P9,    54,  1,     17,     751,2,20220909,0828,0954, 17.5162, 137.0023, 4854,   1282.9,     1271,   3.4798,  34.5528,2,     90.6,2,  34.5532,2,    90.63,6,   118.26,6,    38.76,6,     0.00,6,    2.750,6, -999.000,9, -999.000,9,   -999.0,9,   -999.0,9,-999.0000,9,  -999.00, -999.000,9,  -999.00,9,  -999.00,9,   3.3851,2,  27.4920,2,   3.4795,2
49UP20220824_1,    P9,    54,  1,     16,     328,2,20220909,0828,0949, 17.5162, 137.0023, 4854,   1485.0,     1471,   2.9554,  34.5735,2,     97.7,2,  34.5742,6,    97.63,2,   128.82,2,    38.43,2,     0.00,2,    2.740,2, -999.000,9, -999.000,9,   -999.0,9,   -999.0,9,-999.0000,9,  -999.00, -999.000,9,  -999.00,9,  -999.00,9,   2.8493,2,  27.5583,2,   2.9554,2
49UP20220824_1,    P9,    54,  1,     15,     309,2,20220909,0828,0944, 17.5162, 137.0023, 4854,   1689.9,     1673,   2.6636,  34.5900,2,    102.3,2,  34.5902,2,   102.10,2,   133.81,2,    38.52,2,     0.00,2,    2.730,2, -999.000,9, -999.000,9,   -999.0,9,   -999.0,9,-999.0000,9,  -999.00, -999.000,9,  -999.00,9,  -999.00,9,   2.5440,2,  27.5983,2,   2.6636,2
49UP20220824_1,    P9,    54,  1,     14,     326,2,20220909,0828,0939, 17.5162, 137.0023, 4854,   1892.4,     1873,   2.3898,  34.6052,2,    106.3,2,  34.6061,2,   106.26,2,   138.42,2,    38.62,2,     0.00,2,    2.720,2, -999.000,9, -999.000,9,   -999.0,9,   -999.0,9,-999.0000,9,  -999.00, -999.000,9,  -999.00,9,  -999.00,9,   2.2568,2,  27.6347,2,   2.3907,2
49UP20220824_1,    P9,    54,  1,     13,     325,2,20220909,0828,0934, 17.5162, 137.0023, 4854,   2094.3,     2071,   2.1317,  34.6215,2,    113.0,2,  34.6231,4,   113.17,2,   142.23,2,    38.34,2,     0.00,2,    2.690,2, -999.000,9, -999.000,9,   -999.0,9,   -999.0,9,-999.0000,9,  -999.00, -999.000,9,  -999.00,9,  -999.00,9,   1.9853,2,  27.6696,2,   2.1315,2
49UP20220824_1,    P9,    54,  1,     12,     324,2,20220909,0828,0930, 17.5162, 137.0023, 4854,   2298.4,     2272,   1.9578,  34.6345,2,    119.4,2,  34.6349,2,   119.66,2,   144.58,2,    38.05,2,     0.00,2,    2.660,2, -999.000,9, -999.000,9,   -999.0,9,   -999.0,9,-999.0000,9,  -999.00, -999.000,9,  -999.00,9,  -999.00,9,   1.7964,2,  27.6947,2,   1.9578,2
49UP20220824_1,    P9,    54,  1,     11,     323,2,20220909,0828,0925, 17.5162, 137.0023, 4854,   2501.4,     2472,   1.8351,  34.6451,2,    125.6,2,  34.6457,2,   125.57,2,   145.51,2,    37.64,2,     0.00,2,    2.640,2, -999.000,9, -999.000,9,   -999.0,9,   -999.0,9,-999.0000,9,  -999.00, -999.000,9,  -999.00,9,  -999.00,9,   1.6578,2,  27.7137,2,   1.8351,2
49UP20220824_1,    P9,    54,  1,     10,     322,2,20220909,0828,0920, 17.5162, 137.0023, 4854,   2706.5,     2673,   1.7557,  34.6534,2,    130.3,2,  34.6538,2,   130.84,2,   145.94,2,    37.45,2,     0.00,2,    2.610,2, -999.000,9, -999.000,9,   -999.0,9,   -999.0,9,-999.0000,9,  -999.00, -999.000,9,  -999.00,9,  -999.00,9,   1.5612,2,  27.7275,2,   1.7556,2
49UP20220824_1,    P9,    54,  1,      9,     750,2,20220909,0828,0915, 17.5162, 137.0023, 4854,   2908.4,     2871,   1.6909,  34.6601,2,    134.9,2,  34.6605,2,   134.91,2,   146.31,2,    37.11,2,     0.00,2,    2.590,2, -999.000,9, -999.000,9,   -999.0,9,   -999.0,9,-999.0000,9,  -999.00, -999.000,9,  -999.00,9,  -999.00,9,   1.4787,2,  27.7390,2,   1.6910,2
49UP20220824_1,    P9,    54,  1,      8,     320,2,20220909,0828,0910, 17.5162, 137.0023, 4854,   3122.7,     3081,   1.6375,  34.6658,2,    139.8,2,  34.6670,4,   139.78,6,   145.61,6,    36.85,6,     0.00,6,    2.570,6, -999.000,9, -999.000,9,   -999.0,9,   -999.0,9,-999.0000,9,  -999.00, -999.000,9,  -999.00,9,  -999.00,9,   1.4059,2,  27.7488,2,   1.6376,2
49UP20220824_1,    P9,    54,  1,      7,     319,2,20220909,0828,0904, 17.5162, 137.0023, 4854,   3378.1,     3331,   1.5987,  34.6708,2,    144.3,2,  34.6710,2,   144.14,2,   145.00,2,    36.52,2,     0.00,2,    2.540,2, -999.000,9, -999.000,9,   -999.0,9,   -999.0,9,-999.0000,9,  -999.00, -999.000,9,  -999.00,9,  -999.00,9,   1.3426,2,  27.7573,2,   1.5988,2
49UP20220824_1,    P9,    54,  1,      6,     318,2,20220909,0828,0858, 17.5162, 137.0023, 4854,   3635.4,     3583,   1.5564,  34.6761,2,    149.3,2,  34.6782,4,   149.47,2,   143.82,2,    36.23,2,     0.00,2,    2.520,2, -999.000,9, -999.000,9,   -999.0,9,   -999.0,9,-999.0000,9,  -999.00, -999.000,9,  -999.00,9,  -999.00,9,   1.2749,2,  27.7663,2,   1.5564,2
49UP20220824_1,    P9,    54,  1,      5,     838,2,20220909,0828,0852, 17.5162, 137.0023, 4854,   3891.1,     3833,   1.5371,  34.6795,2,    153.0,2,  34.6794,2,   153.24,2,   142.91,2,    35.91,2,     0.00,2,    2.490,2, -999.000,9, -999.000,9,   -999.0,9,   -999.0,9,-999.0000,9,  -999.00, -999.000,9,  -999.00,9,  -999.00,9,   1.2290,2,  27.7722,2,   1.5371,2
49UP20220824_1,    P9,    54,  1,      4,     316,2,20220909,0828,0846, 17.5162, 137.0023, 4854,   4146.7,     4082,   1.5266,  34.6823,2,    156.2,2,  34.6833,4,   156.17,2,   141.92,2,    35.68,2,     0.00,2,    2.470,2, -999.000,9, -999.000,9,   -999.0,9,   -999.0,9,-999.0000,9,  -999.00, -999.000,9,  -999.00,9,  -999.00,9,   1.1908,2,  27.7772,2,   1.5266,2
49UP20220824_1,    P9,    54,  1,      3,     315,2,20220909,0828,0841, 17.5162, 137.0023, 4854,   4402.6,     4332,   1.5193,  34.6850,2,    159.5,2,  34.6859,2,   159.48,2,   141.10,2,    35.50,2,     0.00,2,    2.460,2, -999.000,9, -999.000,9,   -999.0,9,   -999.0,9,-999.0000,9,  -999.00, -999.000,9,  -999.00,9,  -999.00,9,   1.1549,2,  27.7817,2,   1.5192,2
49UP20220824_1,    P9,    54,  1,      2,     314,2,20220909,0828,0835, 17.5162, 137.0023, 4854,   4660.3,     4582,   1.5402,  34.6858,2,    160.3,2,  34.6863,2,   160.45,2,   140.68,2,    35.46,2,     0.00,2,    2.450,2, -999.000,9, -999.000,9,   -999.0,9,   -999.0,9,-999.0000,9,  -999.00, -999.000,9,  -999.00,9,  -999.00,9,   1.1453,2,  27.7830,2,   1.5402,2
49UP20220824_1,    P9,    54,  1,      1,     308,2,20220909,0828,0828, 17.5162, 137.0023, 4854,   4975.0,     4888,   1.5770,  34.6859,2,    160.8,2,  34.6871,4,   160.62,2,   140.55,2,    35.45,2,     0.00,2,    2.460,2, -999.000,9, -999.000,9,   -999.0,9,   -999.0,9,-999.0000,9,  -999.00, -999.000,9,  -999.00,9,  -999.00,9,   1.1432,2,  27.7833,2,   1.5769,2