BOTTLE,20230330JMAAMD
EXPOCODE,SECT_ID,STNNBR,CASTNO,SAMPNO,BTLNBR,BTLNBR_FLAG_U,DATE,TIME,BTL_TIME,LATITUDE,LONGITUDE,DEPTH,CTDPRS,CTDDEP,CTDTMP,CTDSAL,CTDSAL_FLAG_W,CTDOXY,CTDOXY_FLAG_W,SALNTY,SALNTY_FLAG_W,OXYGEN,OXYGEN_FLAG_W,SILCAT,SILCAT_FLAG_W,NO2+NO3,NO2+NO3_FLAG_W,NITRIT,NITRIT_FLAG_W,PHSPHT,PHSPHT_FLAG_W,CFC-11,CFC-11_FLAG_W,CFC-12,CFC-12_FLAG_W,TCARBN,TCARBN_FLAG_W,ALKALI,ALKALI_FLAG_W,PH_TS,PH_TS_FLAG_W,PH_TS_TMP,CFC113,CFC113_FLAG_W,CHLORA,CHLORA_FLAG_W,PPHYTN,PPHYTN_FLAG_W,THETA,THETA_FLAG_W,SIGTHT,SIGTHT_FLAG_W,SBE35,SBE35_FLAG_W
,,,,,,,,UTC,,,,METER,DBAR,METERS,ITS-90,PSS-78,,UMOL/KG,,PSS78,,UMOL/KG,,UMOL/KG,,UMOL/KG,,UMOL/KG,,UMOL/KG,,PMOL/KG,,PMOL/KG,,UMOL/KG,,UMOL/KG,,,,ITS-90,PMOL/KG,,UG/KG,,UG/KG,,ITS-90,,KG/M3,,ITS-90,
49UP20220824_1,    P9,    26,  1,      0,      -9,0,20220831,0013,0155,  5.0245, 137.0180, 4696,      0.0,        0,  29.9216,  33.8877,2,    195.8,2,  33.8991,2,   196.03,2,     1.31,2,     0.03,2,     0.00,2,    0.070,2, -999.000,9, -999.000,9,   1906.2,2,   2222.9,2,   8.1091,2,    25.00, -999.000,9,     0.09,2,     0.02,2,  29.9209,2,  20.9194,2,-999.0000,9
49UP20220824_1,    P9,    26,  1,     36,     757,2,20220831,0013,0228,  5.0245, 137.0180, 4696,     10.5,       10,  29.9010,  33.8898,2,    195.9,2,  33.8860,2,   196.73,2,     1.33,2,     0.02,2,     0.00,2,    0.050,2, -999.000,9, -999.000,9,   1906.5,2,   2222.5,2,   8.1106,2,    25.00, -999.000,9,     0.10,2,     0.03,2,  29.8984,2,  20.9287,2,  29.9031,2
49UP20220824_1,    P9,    26,  1,     35,     756,2,20220831,0013,0227,  5.0245, 137.0180, 4696,     25.9,       26,  29.8209,  33.8879,2,    196.4,2,  33.8849,2,   197.06,2,     1.31,6,     0.03,6,     0.00,6,    0.050,6, -999.000,9, -999.000,9,   1294.7,4,   2226.3,2,   8.1101,2,    25.00, -999.000,9,     0.09,2,     0.02,2,  29.8145,2,  20.9556,2,  29.8217,2
49UP20220824_1,    P9,    26,  1,     34,     323,2,20220831,0013,0223,  5.0245, 137.0180, 4696,     51.0,       51,  29.5016,  34.2102,2,    201.4,2,  34.2068,2,   201.44,2,     1.39,2,     0.02,2,     0.00,2,    0.060,2, -999.000,9, -999.000,9,   1170.7,4,   2245.4,2,   8.1037,2,    25.00, -999.000,9,     0.14,2,     0.04,2,  29.4892,2,  21.3073,2,  29.5006,2
49UP20220824_1,    P9,    26,  1,     33,     322,2,20220831,0013,0221,  5.0245, 137.0180, 4696,     74.8,       74,  28.2726,  34.1866,2,    195.9,2,  34.1873,2,   195.42,2,     1.98,2,     0.02,2,     0.00,2,    0.090,2, -999.000,9, -999.000,9,   1948.0,2,   2247.8,2,   8.0726,2,    25.00, -999.000,9,     0.36,2,     0.19,2,  28.2549,2,  21.6998,2,  28.2764,2
49UP20220824_1,    P9,    26,  1,     32,     321,2,20220831,0013,0220,  5.0245, 137.0180, 4696,    100.2,      100,  27.4048,  34.7168,2,    167.6,2,  34.7303,6,   167.84,2,     2.91,2,     3.85,2,     0.27,2,    0.380,2, -999.000,9, -999.000,9,   1210.0,4,   2280.3,2,   8.0192,2,    25.00, -999.000,9,     0.29,2,     0.30,2,  27.3816,2,  22.3822,2,  27.4021,2
49UP20220824_1,    P9,    26,  1,     31,     320,2,20220831,0013,0218,  5.0245, 137.0180, 4696,    125.9,      125,  25.1976,  34.8553,2,    161.4,2,  34.8436,2,   163.61,2,     3.42,2,     3.63,2,     0.21,2,    0.400,2, -999.000,9, -999.000,9,   2031.5,2,   2284.6,2,   7.9788,2,    25.00, -999.000,9,     0.12,2,     0.26,2,  25.1702,2,  23.1801,2,  25.2093,2
49UP20220824_1,    P9,    26,  1,     30,     319,2,20220831,0013,0217,  5.0245, 137.0180, 4696,    148.1,      147,  20.9967,  34.7289,2,    148.9,2,  34.7274,2,   149.02,2,     7.18,2,     7.76,2,     0.03,2,    0.650,2, -999.000,9, -999.000,9,   2078.9,2,   2283.4,2,   7.8803,2,    25.00, -999.000,9,     0.05,2,     0.14,2,  20.9684,2,  24.2961,2,  20.9926,2
49UP20220824_1,    P9,    26,  1,     29,     318,2,20220831,0013,0215,  5.0245, 137.0180, 4696,    201.1,      200,  13.9337,  34.5123,2,    134.7,2,  34.5038,2,   134.17,2,    18.81,2,    17.26,2,     0.01,2,    1.270,2, -999.000,9, -999.000,9,   2128.8,3,   2280.3,2,   7.7263,2,    25.00, -999.000,9,     0.02,2,     0.04,2,  13.9048,2,  25.8301,2,  13.9292,2
49UP20220824_1,    P9,    26,  1,     28,     755,2,20220831,0013,0213,  5.0245, 137.0180, 4696,    255.4,      254,   9.9437,  34.5192,2,     84.1,2,  34.4999,2,    89.12,2,    34.15,2,    28.49,2,     0.00,2,    2.040,2, -999.000,9, -999.000,9,   2195.9,3,   2293.4,2,   7.5684,2,    25.00, -999.000,9,  -999.00,9,  -999.00,9,   9.9143,2,  26.5911,2,   9.9431,2
49UP20220824_1,    P9,    26,  1,     27,     317,2,20220831,0013,0210,  5.0245, 137.0180, 4696,    331.0,      329,   8.8390,  34.5774,2,     76.8,2,  34.5760,2,    77.59,2,    37.32,2,    32.12,2,     0.00,2,    2.270,2, -999.000,9, -999.000,9,   2236.3,2,   2301.5,2,   7.5313,2,    25.00, -999.000,9,  -999.00,9,  -999.00,9,   8.8034,2,  26.8185,2,   8.8411,2
49UP20220824_1,    P9,    26,  1,     26,     316,2,20220831,0013,0208,  5.0245, 137.0180, 4696,    380.8,      378,   8.3429,  34.5757,2,     91.2,2,  34.5749,2,    91.12,6,    37.64,6,    31.99,6,     0.00,6,    2.250,6, -999.000,9, -999.000,9,   2231.5,4,   2304.4,2,   7.5456,2,    25.00, -999.000,9,  -999.00,9,  -999.00,9,   8.3031,2,  26.8948,2,   8.3434,2
49UP20220824_1,    P9,    26,  1,     25,     315,2,20220831,0013,0206,  5.0245, 137.0180, 4696,    433.2,      430,   8.0517,  34.5582,2,    104.5,2,  34.5571,2,   104.57,2,    38.38,2,    31.24,2,     0.00,2,    2.200,2, -999.000,9, -999.000,9,   2226.5,2,   2306.8,2,   7.5628,6,    25.00, -999.000,9,  -999.00,9,  -999.00,9,   8.0073,2,  26.9257,2,   8.0512,2
49UP20220824_1,    P9,    26,  1,     24,     753,2,20220831,0013,0204,  5.0245, 137.0180, 4696,    483.8,      481,   7.6761,  34.5572,2,     94.3,2,  34.5573,2,    94.35,2,    41.56,2,    33.02,2,     0.00,2,    2.320,2, -999.000,9, -999.000,9,   2236.9,6,   2306.7,6,   7.5400,2,    25.00, -999.000,9,  -999.00,9,  -999.00,9,   7.6278,2,  26.9809,2,   7.6769,2
49UP20220824_1,    P9,    26,  1,     23,     314,2,20220831,0013,0202,  5.0245, 137.0180, 4696,    534.0,      530,   7.3207,  34.5465,2,    102.2,2,  34.5451,2,   102.59,2,    43.19,2,    33.01,2,     0.00,2,    2.330,2, -999.000,9, -999.000,9,   2235.7,2,   2310.3,2,   7.5476,2,    25.00, -999.000,9,  -999.00,9,  -999.00,9,   7.2686,2,  27.0240,2,   7.3211,2
49UP20220824_1,    P9,    26,  1,     22,     313,2,20220831,0013,0159,  5.0245, 137.0180, 4696,    635.0,      631,   6.5856,  34.5331,2,     91.8,2,  34.5322,6,    92.87,2,    53.38,2,    35.24,2,     0.00,2,    2.490,2, -999.000,9, -999.000,9,   2255.7,2,   2317.1,2,   7.5214,2,    25.00, -999.000,9,  -999.00,9,  -999.00,9,   6.5267,2,  27.1152,2,   6.5860,2
49UP20220824_1,    P9,    26,  1,     21,     312,2,20220831,0013,0156,  5.0245, 137.0180, 4696,    736.1,      731,   5.8821,  34.5269,2,     88.5,2,  34.5264,2,    88.87,2,    66.37,2,    36.51,2,     0.00,2,    2.590,2, -999.000,9, -999.000,9,   2271.5,2,   2332.4,2,   7.5077,2,    25.00, -999.000,9,  -999.00,9,  -999.00,9,   5.8172,2,  27.2019,2,   5.8821,2
49UP20220824_1,    P9,    26,  1,     20,     311,2,20220831,0013,0153,  5.0245, 137.0180, 4696,    838.5,      832,   5.3151,  34.5350,2,     89.5,2,  34.5346,2,    89.62,2,    75.29,2,    37.22,2,     0.00,2,    2.640,2, -999.000,9, -999.000,9,   2281.9,2,   2338.9,2,   7.5030,2,    25.00, -999.000,9,  -999.00,9,  -999.00,9,   5.2441,2,  27.2781,2,   5.3154,2
49UP20220824_1,    P9,    26,  1,     19,     310,2,20220831,0013,0150,  5.0245, 137.0180, 4696,    938.4,      931,   4.8149,  34.5469,2,     82.2,2,  34.5461,2,    82.41,2,    86.52,2,    38.50,2,     0.00,2,    2.740,2, -999.000,9, -999.000,9,   2298.5,2,   2351.0,2,   7.4870,6,    25.00, -999.000,9,  -999.00,9,  -999.00,9,   4.7384,2,  27.3458,2,   4.8147,2
49UP20220824_1,    P9,    26,  1,     18,     752,2,20220831,0013,0146,  5.0245, 137.0180, 4696,   1081.0,     1072,   4.1865,  34.5610,2,     86.4,2,  34.5600,2,    86.82,2,    98.74,2,    38.79,2,     0.00,2,    2.760,2, -999.000,9, -999.000,9,   2310.2,6,   2363.8,6,   7.4901,2,    25.00, -999.000,9,  -999.00,9,  -999.00,9,   4.1024,2,  27.4262,2,   4.1863,2
49UP20220824_1,    P9,    26,  1,     17,     751,2,20220831,0013,0141,  5.0245, 137.0180, 4696,   1280.1,     1269,   3.4697,  34.5814,2,     94.1,2,  34.5810,2,    94.15,6,   112.97,6,    38.89,6,     0.00,6,    2.760,6, -999.000,9, -999.000,9,   2322.0,2,   2380.0,2,   7.4996,2,    25.00, -999.000,9,  -999.00,9,  -999.00,9,   3.3752,2,  27.5157,2,   3.4711,2
49UP20220824_1,    P9,    26,  1,     16,     328,2,20220831,0013,0136,  5.0245, 137.0180, 4696,   1486.0,     1473,   3.0226,  34.5980,2,     98.7,2,  34.5978,2,    98.79,2,   122.36,2,    38.91,2,     0.00,2,    2.750,2, -999.000,9, -999.000,9,   2329.1,2,   2390.5,2,   7.5050,2,    25.00, -999.000,9,  -999.00,9,  -999.00,9,   2.9156,2,  27.5718,2,   3.0227,2
49UP20220824_1,    P9,    26,  1,     15,     309,2,20220831,0013,0131,  5.0245, 137.0180, 4696,   1688.3,     1672,   2.6546,  34.6139,2,    105.1,2,  34.6131,2,   105.08,2,   129.36,2,    38.79,2,     0.00,2,    2.730,2, -999.000,9, -999.000,9,   2334.4,2,   2397.7,2,   7.5124,2,    25.00, -999.000,9,  -999.00,9,  -999.00,9,   2.5351,2,  27.6182,2,   2.6550,2
49UP20220824_1,    P9,    26,  1,     14,     326,2,20220831,0013,0125,  5.0245, 137.0180, 4696,   1890.7,     1872,   2.3772,  34.6277,2,    109.6,2,  34.6268,2,   109.74,2,   135.37,2,    38.62,2,     0.00,2,    2.710,2, -999.000,9, -999.000,9,   2337.4,2,   2402.6,2,   7.5200,2,    25.00, -999.000,9,  -999.00,9,  -999.00,9,   2.2444,2,  27.6537,2,   2.3779,2
49UP20220824_1,    P9,    26,  1,     13,     325,2,20220831,0013,0121,  5.0245, 137.0180, 4696,   2090.2,     2068,   2.1710,  34.6383,2,    115.2,2,  34.6378,2,   115.65,2,   139.14,2,    38.25,2,     0.00,2,    2.680,2, -999.000,9, -999.000,9,   2339.3,2,   2405.8,2,   7.5268,2,    25.00, -999.000,9,  -999.00,9,  -999.00,9,   2.0242,2,  27.6800,2,   2.1711,2
49UP20220824_1,    P9,    26,  1,     12,     324,2,20220831,0013,0116,  5.0245, 137.0180, 4696,   2296.4,     2271,   1.9582,  34.6478,2,    123.5,2,  34.6477,2,   123.76,2,   141.88,2,    37.80,2,     0.00,2,    2.640,2, -999.000,9, -999.000,9,   2336.8,2,   2409.1,2,   7.5392,2,    25.00, -999.000,9,  -999.00,9,  -999.00,9,   1.7969,2,  27.7054,2,   1.9582,2
49UP20220824_1,    P9,    26,  1,     11,     323,2,20220831,0013,0111,  5.0245, 137.0180, 4696,   2499.8,     2471,   1.8285,  34.6566,2,    129.2,2,  34.6560,2,   129.74,2,   143.41,2,    37.45,2,     0.00,2,    2.610,2, -999.000,9, -999.000,9,   2335.6,2,   2411.4,2,   7.5486,2,    25.00, -999.000,9,  -999.00,9,  -999.00,9,   1.6515,2,  27.7234,2,   1.8285,2
49UP20220824_1,    P9,    26,  1,     10,     322,2,20220831,0013,0106,  5.0245, 137.0180, 4696,   2702.5,     2670,   1.6962,  34.6637,2,    136.2,2,  34.6629,6,   136.40,2,   144.19,2,    37.01,2,     0.00,2,    2.580,2, -999.000,9, -999.000,9,   2332.8,2,   2412.3,2,   7.5587,2,    25.00, -999.000,9,  -999.00,9,  -999.00,9,   1.5032,2,  27.7400,2,   1.6960,2
49UP20220824_1,    P9,    26,  1,      9,     750,2,20220831,0013,0057,  5.0245, 137.0180, 4696,   3119.6,     3080,   1.5940,  34.6721,2,    143.8,2,  34.6709,2,   143.97,2,   144.28,2,    36.50,2,     0.00,2,    2.540,2, -999.000,9, -999.000,9,   2329.1,2,   2417.5,2,   7.5715,2,    25.00, -999.000,9,  -999.00,9,  -999.00,9,   1.3636,2,  27.7569,2,   1.5940,2
49UP20220824_1,    P9,    26,  1,      8,     320,2,20220831,0013,0052,  5.0245, 137.0180, 4696,   3375.7,     3330,   1.5637,  34.6756,2,    147.0,2,  34.6744,2,   147.32,6,   143.95,6,    36.33,6,     0.00,6,    2.530,6, -999.000,9, -999.000,9,   2327.7,2,   2414.5,2,   7.5771,2,    25.00, -999.000,9,  -999.00,9,  -999.00,9,   1.3087,2,  27.7636,2,   1.5638,2
49UP20220824_1,    P9,    26,  1,      7,     319,2,20220831,0013,0046,  5.0245, 137.0180, 4696,   3630.5,     3580,   1.5407,  34.6792,2,    150.2,2,  34.6786,2,   150.56,2,   143.45,2,    36.10,2,     0.00,2,    2.500,2, -999.000,9, -999.000,9,   2327.2,2,   2413.5,2,   7.5820,2,    25.00, -999.000,9,  -999.00,9,  -999.00,9,   1.2601,2,  27.7698,2,   1.5408,2
49UP20220824_1,    P9,    26,  1,      6,     318,2,20220831,0013,0040,  5.0245, 137.0180, 4696,   3887.2,     3831,   1.5169,  34.6832,2,    153.6,2,  34.6818,2,   154.30,2,   142.87,2,    35.89,2,     0.00,2,    2.480,2, -999.000,9, -999.000,9,   2323.8,2,   2413.3,2,   7.5875,2,    25.00, -999.000,9,  -999.00,9,  -999.00,9,   1.2098,2,  27.7765,2,   1.5170,2
49UP20220824_1,    P9,    26,  1,      5,     838,2,20220831,0013,0034,  5.0245, 137.0180, 4696,   4140.4,     4078,   1.5097,  34.6855,2,    156.6,2,  34.6846,2,   157.05,2,   142.06,2,    35.68,2,     0.00,2,    2.470,2, -999.000,9, -999.000,9,   2322.5,2,   2412.7,2,   7.5907,2,    25.00, -999.000,9,  -999.00,9,  -999.00,9,   1.1751,2,  27.7808,2,   1.5097,2
49UP20220824_1,    P9,    26,  1,      4,     316,2,20220831,0013,0028,  5.0245, 137.0180, 4696,   4403.3,     4334,   1.5312,  34.6865,2,    157.4,2,  34.6852,2,   157.85,2,   141.84,2,    35.65,2,     0.00,2,    2.460,2, -999.000,9, -999.000,9,   2321.3,2,   2413.1,2,   7.5931,2,    25.00, -999.000,9,  -999.00,9,  -999.00,9,   1.1664,2,  27.7822,2,   1.5314,2
49UP20220824_1,    P9,    26,  1,      3,     315,2,20220831,0013,0022,  5.0245, 137.0180, 4696,   4657.1,     4581,   1.5459,  34.6873,2,    159.1,2,  34.6880,2,   159.41,2,   141.36,2,    35.51,2,     0.00,2,    2.450,2, -999.000,9, -999.000,9,   2320.9,2,   2412.2,2,   7.5947,6,    25.00, -999.000,9,  -999.00,9,  -999.00,9,   1.1512,2,  27.7839,2,   1.5459,2
49UP20220824_1,    P9,    26,  1,      2,     314,2,20220831,0013,0017,  5.0245, 137.0180, 4696,   4912.6,     4830,   1.5602,  34.6883,2,    160.6,2,  34.6873,2,   161.30,2,   140.81,2,    35.43,2,     0.00,2,    2.440,2, -999.000,9, -999.000,9,   2318.4,6,   2411.4,6,   7.5963,2,    25.00, -999.000,9,  -999.00,9,  -999.00,9,   1.1345,2,  27.7858,2,   1.5603,2
49UP20220824_1,    P9,    26,  1,      1,     308,2,20220831,0013,0013,  5.0245, 137.0180, 4696,   5042.6,     4956,   1.5740,  34.6884,2,    161.0,2,  34.6875,2,   161.45,2,   140.59,2,    35.35,2,     0.00,2,    2.450,2, -999.000,9, -999.000,9,   2318.3,2,   2410.1,2,   7.5964,2,    25.00, -999.000,9,  -999.00,9,  -999.00,9,   1.1320,2,  27.7861,2,   1.5740,2