BOTTLE,20230330JMAAMD
EXPOCODE,SECT_ID,STNNBR,CASTNO,SAMPNO,BTLNBR,BTLNBR_FLAG_U,DATE,TIME,BTL_TIME,LATITUDE,LONGITUDE,DEPTH,CTDPRS,CTDDEP,CTDTMP,CTDSAL,CTDSAL_FLAG_W,CTDOXY,CTDOXY_FLAG_W,SALNTY,SALNTY_FLAG_W,OXYGEN,OXYGEN_FLAG_W,SILCAT,SILCAT_FLAG_W,NO2+NO3,NO2+NO3_FLAG_W,NITRIT,NITRIT_FLAG_W,PHSPHT,PHSPHT_FLAG_W,CFC-11,CFC-11_FLAG_W,CFC-12,CFC-12_FLAG_W,TCARBN,TCARBN_FLAG_W,ALKALI,ALKALI_FLAG_W,PH_TS,PH_TS_FLAG_W,PH_TS_TMP,CFC113,CFC113_FLAG_W,CHLORA,CHLORA_FLAG_W,PPHYTN,PPHYTN_FLAG_W,THETA,THETA_FLAG_W,SIGTHT,SIGTHT_FLAG_W,SBE35,SBE35_FLAG_W
,,,,,,,,UTC,,,,METER,DBAR,METERS,ITS-90,PSS-78,,UMOL/KG,,PSS78,,UMOL/KG,,UMOL/KG,,UMOL/KG,,UMOL/KG,,UMOL/KG,,PMOL/KG,,PMOL/KG,,UMOL/KG,,UMOL/KG,,,,ITS-90,PMOL/KG,,UG/KG,,UG/KG,,ITS-90,,KG/M3,,ITS-90,
49UP20220929_1,    P9,    74,  1,      0,      -9,0,20221006,2007,2144, 26.9673, 137.0160, 4646,      0.0,        0,  28.6981,  34.2865,2,    197.1,2,  34.2919,2,   197.65,2,     1.44,2,     0.03,2,     0.00,2,    0.020,2, -999.000,9, -999.000,9,   1940.8,2,   2251.9,2,   8.0902,2,    25.00, -999.000,9,     0.07,2,     0.03,2,  28.6975,2,  21.6290,2,-999.0000,9
49UP20220929_1,    P9,    74,  1,     36,     757,2,20221006,2007,2214, 26.9673, 137.0160, 4646,     10.6,       11,  28.7001,  34.2860,2,    197.2,2,  34.2881,2,   197.51,2,     1.44,2,     0.03,2,     0.00,2,    0.000,2, -999.000,9, -999.000,9,   1944.9,2,   2253.2,2,   8.0873,2,    25.00, -999.000,9,     0.07,2,     0.02,2,  28.6975,2,  21.6286,2,  28.6982,2
49UP20220929_1,    P9,    74,  1,     35,     756,2,20221006,2007,2212, 26.9673, 137.0160, 4646,     25.9,       26,  28.6918,  34.2916,2,    197.2,2,  34.2997,2,   197.50,2,     1.40,2,     0.02,2,     0.00,2,    0.000,2, -999.000,9, -999.000,9,   1936.1,2,   2253.2,2,   8.0892,2,    25.00, -999.000,9,     0.07,2,     0.03,2,  28.6856,2,  21.6367,2,  28.6919,2
49UP20220929_1,    P9,    74,  1,     34,     323,2,20221006,2007,2209, 26.9673, 137.0160, 4646,     51.8,       51,  27.0118,  34.4705,2,    208.7,2,  34.4755,2,   208.30,2,     1.53,2,     0.02,2,     0.00,2,    0.000,2, -999.000,9, -999.000,9,   1955.9,2,   2264.5,2,   8.0721,2,    25.00, -999.000,9,     0.12,2,     0.08,2,  26.9999,2,  22.3190,2,  27.0171,2
49UP20220929_1,    P9,    74,  1,     33,     322,2,20221006,2007,2207, 26.9673, 137.0160, 4646,     76.1,       76,  23.1466,  34.6566,2,    226.1,2,  34.6582,2,   226.05,2,     1.75,2,     0.01,2,     0.00,2,    0.010,2, -999.000,9, -999.000,9,   1986.4,2,   2276.4,2,   8.0383,2,    25.00, -999.000,9,     0.24,2,     0.18,2,  23.1310,2,  23.6354,2,  23.1419,2
49UP20220929_1,    P9,    74,  1,     32,     321,2,20221006,2007,2206, 26.9673, 137.0160, 4646,    100.7,      100,  20.8095,  34.7743,2,    219.9,2,  34.7739,2,   220.17,6,     2.08,6,     0.26,6,     0.12,6,    0.030,6, -999.000,9, -999.000,9,   2009.7,2,   2284.3,2,   8.0047,2,    25.00, -999.000,9,     0.33,2,     0.43,2,  20.7904,2,  24.3789,2,  20.8047,2
49UP20220929_1,    P9,    74,  1,     31,     320,2,20221006,2007,2204, 26.9673, 137.0160, 4646,    126.1,      125,  19.5938,  34.7717,2,    208.1,2,  34.7729,2,   207.42,2,     2.67,2,     1.68,2,     0.03,2,    0.130,2, -999.000,9, -999.000,9,   2026.8,2,   2283.5,2,   7.9748,2,    25.00, -999.000,9,     0.09,2,     0.23,2,  19.5708,2,  24.6999,2,  19.5973,2
49UP20220929_1,    P9,    74,  1,     30,     319,2,20221006,2007,2203, 26.9673, 137.0160, 4646,    152.9,      152,  18.8697,  34.7742,2,    203.0,2,  34.7746,2,   203.28,2,     3.08,2,     2.71,2,     0.02,2,    0.190,2, -999.000,9, -999.000,9,   2033.1,2,   2283.7,2,   7.9614,2,    25.00, -999.000,9,     0.04,2,     0.12,2,  18.8427,2,  24.8886,2,  18.8787,2
49UP20220929_1,    P9,    74,  1,     29,     318,2,20221006,2007,2201, 26.9673, 137.0160, 4646,    202.6,      201,  17.9824,  34.7550,2,    202.4,2,  34.7560,2,   203.72,2,     3.84,2,     3.76,2,     0.01,2,    0.260,2, -999.000,9, -999.000,9,   2048.2,2,   2281.6,2,   7.9444,2,    25.00, -999.000,9,     0.01,2,     0.04,2,  17.9476,2,  25.0973,2,  17.9927,2
49UP20220929_1,    P9,    74,  1,     28,     755,2,20221006,2007,2158, 26.9673, 137.0160, 4646,    252.9,      251,  17.2187,  34.7259,2,    194.2,2,  34.7262,6,   194.61,2,     5.74,2,     5.95,2,     0.01,2,    0.400,2, -999.000,9, -999.000,9,   2057.7,2,   2282.0,2,   7.9149,2,    25.00, -999.000,9,  -999.00,9,  -999.00,9,  17.1766,2,  25.2618,2,  17.2185,2
49UP20220929_1,    P9,    74,  1,     27,     317,2,20221006,2007,2156, 26.9673, 137.0160, 4646,    301.3,      299,  16.5108,  34.6861,2,    196.4,2,  34.6860,2,   196.37,2,     6.84,2,     6.81,2,     0.00,2,    0.460,2, -999.000,9, -999.000,9,   2062.4,2,   2278.8,2,   7.9004,2,    25.00, -999.000,9,  -999.00,9,  -999.00,9,  16.4620,2,  25.3997,2,  16.5099,2
49UP20220929_1,    P9,    74,  1,     26,     316,2,20221006,2007,2154, 26.9673, 137.0160, 4646,    401.8,      399,  14.3659,  34.5260,2,    182.0,2,  34.5260,2,   182.16,2,    13.63,2,    11.45,2,     0.00,2,    0.790,2, -999.000,9, -999.000,9,   2092.9,2,   2275.6,2,   7.8279,2,    25.00, -999.000,9,  -999.00,9,  -999.00,9,  14.3067,2,  25.7560,2,  14.3660,2
49UP20220929_1,    P9,    74,  1,     24,     753,2,20221006,2007,2150, 26.9673, 137.0160, 4646,    506.8,      503,  11.4241,  34.3424,2,    160.4,2,  34.3443,2,   160.64,2,    28.08,2,    18.26,2,     0.00,2,    1.290,2, -999.000,9, -999.000,9,   2143.4,2,   2277.5,2,   7.7210,2,    25.00, -999.000,9,  -999.00,9,  -999.00,9,  11.3597,2,  26.1980,2,  11.4241,2
49UP20220929_1,    P9,    74,  1,     25,     315,2,20221006,2007,2151, 26.9673, 137.0160, 4646,    506.9,      503,  11.4231,  34.3424,2,    160.5,2,  34.3438,2,   160.54,2,    28.03,2,    18.27,2,     0.00,2,    1.300,2, -999.000,9, -999.000,9,   2143.1,2,   2282.2,2,   7.7198,2,    25.00, -999.000,9,  -999.00,9,  -999.00,9,  11.3586,2,  26.1982,2,  11.4215,2
49UP20220929_1,    P9,    74,  1,     23,     314,2,20221006,2007,2148, 26.9673, 137.0160, 4646,    603.7,      599,   8.1935,  34.1551,2,    141.4,2,  34.1560,2,   140.97,2,    47.87,2,    25.67,2,     0.00,2,    1.840,2, -999.000,9, -999.000,9,   2199.7,2,   2287.1,2,   7.6012,2,    25.00, -999.000,9,  -999.00,9,  -999.00,9,   8.1307,2,  26.5908,2,   8.1858,2
49UP20220929_1,    P9,    74,  1,     22,     313,2,20221006,2007,2145, 26.9673, 137.0160, 4646,    705.3,      699,   6.1154,  34.1219,2,    106.3,2,  34.1219,2,   106.21,2,    71.44,2,    32.48,2,     0.00,2,    2.340,2, -999.000,9, -999.000,9,   2250.3,2,   2304.4,2,   7.4920,2,    25.00, -999.000,9,  -999.00,9,  -999.00,9,   6.0526,2,  26.8521,2,   6.1127,2
49UP20220929_1,    P9,    74,  1,     21,     312,2,20221006,2007,2142, 26.9673, 137.0160, 4646,    808.2,      801,   4.8626,  34.1882,2,     72.6,2,  34.1887,2,    73.19,2,    93.96,2,    37.39,2,     0.00,2,    2.690,2, -999.000,9, -999.000,9,   2300.4,2,   2327.0,2,   7.4134,2,    25.00, -999.000,9,  -999.00,9,  -999.00,9,   4.7977,2,  27.0546,2,   4.8623,2
49UP20220929_1,    P9,    74,  1,     20,     311,2,20221006,2007,2139, 26.9673, 137.0160, 4646,    909.6,      902,   4.3093,  34.2863,2,     61.8,2,  34.2860,2,    61.94,6,   108.16,6,    39.14,6,     0.00,6,    2.810,6, -999.000,9, -999.000,9,   2323.4,2,   2346.4,2,   7.3981,2,    25.00, -999.000,9,  -999.00,9,  -999.00,9,   4.2392,2,  27.1934,2,   4.3107,2
49UP20220929_1,    P9,    74,  1,     19,     310,2,20221006,2007,2136, 26.9673, 137.0160, 4646,   1013.0,     1004,   3.7648,  34.3630,2,     58.3,2,  34.3623,6,    58.43,2,   120.78,2,    40.23,2,     0.00,2,    2.880,2, -999.000,9, -999.000,9,   2334.8,2,   2361.1,2,   7.3981,2,    25.00, -999.000,9,  -999.00,9,  -999.00,9,   3.6901,2,  27.3109,2,   3.7645,2
49UP20220929_1,    P9,    74,  1,     18,     752,2,20221006,2007,2131, 26.9673, 137.0160, 4646,   1212.2,     1201,   2.9660,  34.4608,2,     63.4,2,  34.4605,2,    63.54,2,   136.37,2,    40.89,2,     0.00,2,    2.910,2, -999.000,9, -999.000,9,   2354.1,6,   2383.0,6,   7.4093,2,    25.00, -999.000,9,  -999.00,9,  -999.00,9,   2.8821,2,  27.4653,2,   2.9660,2
49UP20220929_1,    P9,    74,  1,     17,     751,2,20221006,2007,2126, 26.9673, 137.0160, 4646,   1414.8,     1401,   2.5692,  34.5168,2,     75.1,2,  34.5168,2,    75.33,2,   142.90,2,    40.47,2,     0.00,2,    2.870,2, -999.000,9, -999.000,9,   2352.9,2,   2392.5,2,   7.4344,6,    25.00, -999.000,9,  -999.00,9,  -999.00,9,   2.4732,2,  27.5458,2,   2.5692,2
49UP20220929_1,    P9,    74,  1,     16,     328,2,20221006,2007,2121, 26.9673, 137.0160, 4646,   1620.8,     1604,   2.2940,  34.5590,2,     88.8,2,  34.5590,2,    89.01,2,   145.36,2,    39.75,2,     0.00,2,    2.810,2, -999.000,9, -999.000,9,   2354.7,2,   2399.7,2,   7.4633,2,    25.00, -999.000,9,  -999.00,9,  -999.00,9,   2.1848,2,  27.6036,2,   2.2939,2
49UP20220929_1,    P9,    74,  1,     15,     309,2,20221006,2007,2116, 26.9673, 137.0160, 4646,   1822.9,     1803,   2.0771,  34.5915,2,    102.2,2,  34.5919,2,   102.21,6,   146.24,6,    39.03,6,     0.00,6,    2.750,6, -999.000,9, -999.000,9,   2348.0,2,   2404.7,2,   7.4863,2,    25.00, -999.000,9,  -999.00,9,  -999.00,9,   1.9543,2,  27.6480,2,   2.0774,2
49UP20220929_1,    P9,    74,  1,     14,     326,2,20221006,2007,2110, 26.9673, 137.0160, 4646,   2025.5,     2002,   1.9732,  34.6081,2,    110.9,2,  34.6084,2,   110.77,2,   145.78,2,    38.52,2,     0.00,2,    2.710,2, -999.000,9, -999.000,9,   2342.7,2,   2408.6,2,   7.5017,2,    25.00, -999.000,9,  -999.00,9,  -999.00,9,   1.8352,2,  27.6706,2,   1.9734,2
49UP20220929_1,    P9,    74,  1,     13,     325,2,20221006,2007,2105, 26.9673, 137.0160, 4646,   2227.0,     2201,   1.8798,  34.6248,2,    119.1,2,  34.6244,6,   119.62,2,   145.04,2,    38.00,2,     0.00,2,    2.670,2, -999.000,9, -999.000,9,   2339.1,2,   2410.7,2,   7.5193,2,    25.00, -999.000,9,  -999.00,9,  -999.00,9,   1.7260,2,  27.6923,2,   1.8799,2
49UP20220929_1,    P9,    74,  1,     12,     324,2,20221006,2007,2100, 26.9673, 137.0160, 4646,   2433.1,     2403,   1.7909,  34.6372,2,    126.0,2,  34.6370,2,   126.29,2,   145.07,2,    37.65,2,     0.00,2,    2.640,2, -999.000,9, -999.000,9,   2335.4,6,   2410.7,6,   7.5332,2,    25.00, -999.000,9,  -999.00,9,  -999.00,9,   1.6206,2,  27.7101,2,   1.7911,2
49UP20220929_1,    P9,    74,  1,     11,     323,2,20221006,2007,2055, 26.9673, 137.0160, 4646,   2638.0,     2604,   1.7208,  34.6472,2,    131.4,2,  34.6471,2,   131.32,2,   144.99,2,    37.30,2,     0.00,2,    2.610,2, -999.000,9, -999.000,9,   2333.8,2,   2409.7,2,   7.5429,6,    25.00, -999.000,9,  -999.00,9,  -999.00,9,   1.5333,2,  27.7246,2,   1.7208,2
49UP20220929_1,    P9,    74,  1,     10,     322,2,20221006,2007,2050, 26.9673, 137.0160, 4646,   2840.5,     2803,   1.6586,  34.6557,2,    136.7,2,  34.6561,2,   136.52,2,   144.52,2,    37.03,2,     0.00,2,    2.580,2, -999.000,9, -999.000,9,   2328.4,2,   2411.5,2,   7.5524,2,    25.00, -999.000,9,  -999.00,9,  -999.00,9,   1.4535,2,  27.7372,2,   1.6584,2
49UP20220929_1,    P9,    74,  1,      9,     750,2,20221006,2007,2045, 26.9673, 137.0160, 4646,   3040.4,     2999,   1.6253,  34.6610,2,    139.9,2,  34.6617,2,   139.85,2,   144.87,2,    36.73,2,     0.00,2,    2.570,2, -999.000,9, -999.000,9,   2324.7,2,   2412.8,2,   7.5536,2,    25.00, -999.000,9,  -999.00,9,  -999.00,9,   1.4019,2,  27.7452,2,   1.6252,2
49UP20220929_1,    P9,    74,  1,      8,     320,2,20221006,2007,2039, 26.9673, 137.0160, 4646,   3298.4,     3251,   1.5848,  34.6680,2,    144.9,2,  34.6682,2,   144.86,2,   144.15,2,    36.41,2,     0.00,2,    2.540,2, -999.000,9, -999.000,9,   2325.7,2,   2412.1,2,   7.5667,2,    25.00, -999.000,9,  -999.00,9,  -999.00,9,   1.3370,2,  27.7554,2,   1.5848,2
49UP20220929_1,    P9,    74,  1,      7,     319,2,20221006,2007,2033, 26.9673, 137.0160, 4646,   3555.1,     3502,   1.5490,  34.6742,2,    149.6,2,  34.6745,6,   149.80,2,   143.16,2,    36.20,2,     0.00,2,    2.520,2, -999.000,9, -999.000,9,   2325.7,2,   2413.3,2,   7.5749,2,    25.00, -999.000,9,  -999.00,9,  -999.00,9,   1.2760,2,  27.7647,2,   1.5490,2
49UP20220929_1,    P9,    74,  1,      6,     318,2,20221006,2007,2027, 26.9673, 137.0160, 4646,   3811.0,     3752,   1.5340,  34.6783,2,    152.9,2,  34.6784,2,   152.99,2,   142.56,2,    35.99,2,     0.00,2,    2.500,2, -999.000,9, -999.000,9,   2325.5,2,   2414.0,2,   7.5771,2,    25.00, -999.000,9,  -999.00,9,  -999.00,9,   1.2345,2,  27.7709,2,   1.5339,2
49UP20220929_1,    P9,    74,  1,      5,     838,2,20221006,2007,2022, 26.9673, 137.0160, 4646,   4064.9,     4000,   1.5335,  34.6809,2,    155.2,2,  34.6812,2,   155.38,6,   142.16,6,    35.85,6,     0.00,6,    2.490,6, -999.000,9, -999.000,9,   2319.2,2,   2412.7,2,   7.5804,2,    25.00, -999.000,9,  -999.00,9,  -999.00,9,   1.2066,2,  27.7750,2,   1.5334,2
49UP20220929_1,    P9,    74,  1,      4,     316,2,20221006,2007,2016, 26.9673, 137.0160, 4646,   4322.6,     4251,   1.5547,  34.6818,2,    155.9,2,  34.6826,2,   155.99,2,   142.08,2,    35.83,2,     0.00,2,    2.490,2, -999.000,9, -999.000,9,   2321.5,6,   2412.0,6,   7.5834,2,    25.00, -999.000,9,  -999.00,9,  -999.00,9,   1.1984,2,  27.7762,2,   1.5548,2
49UP20220929_1,    P9,    74,  1,      3,     315,2,20221006,2007,2011, 26.9673, 137.0160, 4646,   4576.2,     4498,   1.5808,  34.6820,2,    156.3,2,  34.6823,2,   156.26,2,   141.86,2,    35.82,2,     0.00,2,    2.490,2, -999.000,9, -999.000,9,   2321.6,2,   2410.1,2,   7.5830,6,    25.00, -999.000,9,  -999.00,9,  -999.00,9,   1.1945,2,  27.7767,2,   1.5807,2
49UP20220929_1,    P9,    74,  1,      2,     314,2,20221006,2007,2008, 26.9673, 137.0160, 4646,   4699.5,     4618,   1.5947,  34.6822,2,    156.6,2,  34.6822,2,   156.61,2,   141.87,2,    35.80,2,     0.00,2,    2.480,2, -999.000,9, -999.000,9,   2321.6,2,   2412.7,2,   7.5844,2,    25.00, -999.000,9,  -999.00,9,  -999.00,9,   1.1935,2,  27.7769,2,   1.5948,2
49UP20220929_1,    P9,    74,  1,      1,     308,2,20221006,2007,2008, 26.9673, 137.0160, 4646,   4700.7,     4619,   1.5950,  34.6821,2,    156.6,2,  34.6824,2,   156.64,2,   141.81,2,    35.72,2,     0.00,2,    2.480,2, -999.000,9, -999.000,9,   2320.6,2,   2411.9,2,   7.5844,2,    25.00, -999.000,9,  -999.00,9,  -999.00,9,   1.1936,2,  27.7768,2,   1.5948,2