BOTTLE,20230330JMAAMD
EXPOCODE,SECT_ID,STNNBR,CASTNO,SAMPNO,BTLNBR,BTLNBR_FLAG_U,DATE,TIME,BTL_TIME,LATITUDE,LONGITUDE,DEPTH,CTDPRS,CTDDEP,CTDTMP,CTDSAL,CTDSAL_FLAG_W,CTDOXY,CTDOXY_FLAG_W,SALNTY,SALNTY_FLAG_W,OXYGEN,OXYGEN_FLAG_W,SILCAT,SILCAT_FLAG_W,NO2+NO3,NO2+NO3_FLAG_W,NITRIT,NITRIT_FLAG_W,PHSPHT,PHSPHT_FLAG_W,CFC-11,CFC-11_FLAG_W,CFC-12,CFC-12_FLAG_W,TCARBN,TCARBN_FLAG_W,ALKALI,ALKALI_FLAG_W,PH_TS,PH_TS_FLAG_W,PH_TS_TMP,CFC113,CFC113_FLAG_W,CHLORA,CHLORA_FLAG_W,PPHYTN,PPHYTN_FLAG_W,THETA,THETA_FLAG_W,SIGTHT,SIGTHT_FLAG_W,SBE35,SBE35_FLAG_W
,,,,,,,,UTC,,,,METER,DBAR,METERS,ITS-90,PSS-78,,UMOL/KG,,PSS78,,UMOL/KG,,UMOL/KG,,UMOL/KG,,UMOL/KG,,UMOL/KG,,PMOL/KG,,PMOL/KG,,UMOL/KG,,UMOL/KG,,,,ITS-90,PMOL/KG,,UG/KG,,UG/KG,,ITS-90,,KG/M3,,ITS-90,
49UP20220929_1,    P9,    91,  1,      0,      -9,0,20221015,0814,0853, 33.7000, 137.0008, 1990,      0.0,        0,  23.8776,  33.9368,2,    214.1,2,-999.0000,9,   214.76,2,     3.15,2,     0.50,2,     0.07,2,    0.070,2, -999.000,9, -999.000,9,   -999.0,9,   -999.0,9,-999.0000,9,  -999.00, -999.000,9,  -999.00,9,  -999.00,9,  23.8771,2,  22.8729,2,-999.0000,9
49UP20220929_1,    P9,    91,  1,     36,     757,2,20221015,0814,0915, 33.7000, 137.0008, 1990,     12.2,       12,  23.8775,  33.9369,2,    213.5,2,  33.9378,2,   214.33,2,     3.06,2,     0.52,2,     0.07,2,    0.050,2, -999.000,9, -999.000,9,   -999.0,9,   -999.0,9,-999.0000,9,  -999.00, -999.000,9,  -999.00,9,  -999.00,9,  23.8749,2,  22.8736,2,  23.8790,2
49UP20220929_1,    P9,    91,  1,     35,     756,2,20221015,0814,0913, 33.7000, 137.0008, 1990,     26.7,       27,  23.6408,  33.9340,2,    211.6,2,  33.9359,2,   212.43,2,     3.21,2,     0.66,2,     0.09,2,    0.070,2, -999.000,9, -999.000,9,   -999.0,9,   -999.0,9,-999.0000,9,  -999.00, -999.000,9,  -999.00,9,  -999.00,9,  23.6352,2,  22.9416,2,  23.6399,2
49UP20220929_1,    P9,    91,  1,     34,     323,2,20221015,0814,0910, 33.7000, 137.0008, 1990,     52.5,       52,  22.2274,  34.5540,2,    177.1,2,  34.5478,2,   178.01,2,     5.52,2,     4.12,2,     0.05,2,    0.310,2, -999.000,9, -999.000,9,   -999.0,9,   -999.0,9,-999.0000,9,  -999.00, -999.000,9,  -999.00,9,  -999.00,9,  22.2170,2,  23.8181,2,  22.2535,2
49UP20220929_1,    P9,    91,  1,     33,     322,2,20221015,0814,0908, 33.7000, 137.0008, 1990,     77.0,       76,  19.9079,  34.6974,2,    194.6,2,  34.6976,2,   195.35,2,     4.07,2,     3.31,2,     0.03,2,    0.230,2, -999.000,9, -999.000,9,   -999.0,9,   -999.0,9,-999.0000,9,  -999.00, -999.000,9,  -999.00,9,  -999.00,9,  19.8938,2,  24.5589,2,  19.9078,2
49UP20220929_1,    P9,    91,  1,     32,     321,2,20221015,0814,0907, 33.7000, 137.0008, 1990,    101.4,      101,  18.7375,  34.7423,2,    205.5,2,  34.7423,2,   206.33,6,     3.23,6,     2.88,6,     0.02,6,    0.190,6, -999.000,9, -999.000,9,   -999.0,9,   -999.0,9,-999.0000,9,  -999.00, -999.000,9,  -999.00,9,  -999.00,9,  18.7196,2,  24.8953,2,  18.7378,2
49UP20220929_1,    P9,    91,  1,     30,     319,2,20221015,0814,0905, 33.7000, 137.0008, 1990,    126.1,      125,  18.0443,  34.7480,2,    208.3,2,  34.7484,2,   209.09,2,     3.36,2,     3.29,2,     0.01,2,    0.220,2, -999.000,9, -999.000,9,   -999.0,9,   -999.0,9,-999.0000,9,  -999.00, -999.000,9,  -999.00,9,  -999.00,9,  18.0227,2,  25.0735,2,  18.0440,2
49UP20220929_1,    P9,    91,  1,     31,     320,2,20221015,0814,0905, 33.7000, 137.0008, 1990,    126.4,      125,  18.0415,  34.7481,2,    208.2,2,  34.7482,2,   209.24,2,     3.46,2,     3.29,2,     0.01,2,    0.220,2, -999.000,9, -999.000,9,   -999.0,9,   -999.0,9,-999.0000,9,  -999.00, -999.000,9,  -999.00,9,  -999.00,9,  18.0198,2,  25.0743,2,  18.0409,2
49UP20220929_1,    P9,    91,  1,     27,     317,2,20221015,0814,0904, 33.7000, 137.0008, 1990,    152.7,      152,  17.5194,  34.7410,2,    211.0,2,-999.0000,5,   212.08,2,     3.80,2,     3.69,2,     0.01,2,    0.240,2, -999.000,9, -999.000,9,   -999.0,9,   -999.0,9,-999.0000,9,  -999.00, -999.000,9,  -999.00,9,  -999.00,9,  17.4937,2,  25.1972,2,  17.5194,2
49UP20220929_1,    P9,    91,  1,     26,     316,2,20221015,0814,0902, 33.7000, 137.0008, 1990,    202.3,      201,  17.1839,  34.7340,2,    214.4,2,  34.7335,2,   215.40,2,     4.00,2,     3.83,2,     0.01,2,    0.250,2, -999.000,9, -999.000,9,   -999.0,9,   -999.0,9,-999.0000,9,  -999.00, -999.000,9,  -999.00,9,  -999.00,9,  17.1503,2,  25.2743,2,  17.1839,2
49UP20220929_1,    P9,    91,  1,     25,     315,2,20221015,0814,0900, 33.7000, 137.0008, 1990,    252.9,      251,  16.7203,  34.7056,2,    209.3,2,  34.7059,2,   210.04,2,     5.43,2,     5.11,2,     0.01,2,    0.340,2, -999.000,9, -999.000,9,   -999.0,9,   -999.0,9,-999.0000,9,  -999.00, -999.000,9,  -999.00,9,  -999.00,9,  16.6791,2,  25.3640,2,  16.7193,2
49UP20220929_1,    P9,    91,  1,     24,     753,2,20221015,0814,0858, 33.7000, 137.0008, 1990,    281.3,      279,  16.0612,  34.6590,2,    201.2,2,  34.6587,2,   201.77,2,     7.77,2,     6.95,2,     0.01,2,    0.470,2, -999.000,9, -999.000,9,   -999.0,9,   -999.0,9,-999.0000,9,  -999.00, -999.000,9,  -999.00,9,  -999.00,9,  16.0166,2,  25.4815,2,  16.0635,2
49UP20220929_1,    P9,    91,  1,     23,     314,2,20221015,0814,0856, 33.7000, 137.0008, 1990,    373.1,      370,  11.5939,  34.3606,2,    162.2,2,  34.3631,2,   162.46,2,    27.88,2,    17.69,2,     0.00,2,    1.240,2, -999.000,9, -999.000,9,   -999.0,9,   -999.0,9,-999.0000,9,  -999.00, -999.000,9,  -999.00,9,  -999.00,9,  11.5463,2,  26.1776,2,  11.5932,2
49UP20220929_1,    P9,    91,  1,     22,     313,2,20221015,0814,0853, 33.7000, 137.0008, 1990,    475.3,      471,   8.5625,  34.2523,2,    126.2,2,  34.2523,2,   126.21,2,    50.95,2,    26.23,2,     0.00,2,    1.870,2, -999.000,9, -999.000,9,   -999.0,9,   -999.0,9,-999.0000,9,  -999.00, -999.000,9,  -999.00,9,  -999.00,9,   8.5121,2,  26.6091,2,   8.5626,2
49UP20220929_1,    P9,    91,  1,     18,     752,2,20221015,0814,0850, 33.7000, 137.0008, 1990,    575.6,      571,   6.2998,  34.2443,2,     93.1,2,  34.2441,2,    93.33,6,    76.27,6,    33.12,6,     0.00,6,    2.370,6, -999.000,9, -999.000,9,   -999.0,9,   -999.0,9,-999.0000,9,  -999.00, -999.000,9,  -999.00,9,  -999.00,9,   6.2482,2,  26.9238,2,   6.2984,2
49UP20220929_1,    P9,    91,  1,     17,     751,2,20221015,0814,0847, 33.7000, 137.0008, 1990,    676.6,      671,   5.1974,  34.2657,2,     77.1,2,  34.2658,6,    77.28,2,    93.17,2,    36.42,2,     0.00,2,    2.600,2, -999.000,9, -999.000,9,   -999.0,9,   -999.0,9,-999.0000,9,  -999.00, -999.000,9,  -999.00,9,  -999.00,9,   5.1418,2,  27.0767,2,   5.1972,2
49UP20220929_1,    P9,    91,  1,     16,     328,2,20221015,0814,0844, 33.7000, 137.0008, 1990,    777.9,      771,   4.4912,  34.3111,2,     66.7,2,  34.3100,2,    66.91,2,   105.39,2,    38.47,2,     0.00,2,    2.740,2, -999.000,9, -999.000,9,   -999.0,9,   -999.0,9,-999.0000,9,  -999.00, -999.000,9,  -999.00,9,  -999.00,9,   4.4310,2,  27.1926,2,   4.4914,2
49UP20220929_1,    P9,    91,  1,     15,     309,2,20221015,0814,0841, 33.7000, 137.0008, 1990,    878.3,      870,   3.7716,  34.3613,2,     59.1,2,  34.3599,2,    59.10,2,   120.03,2,    40.01,2,     0.00,2,    2.850,2, -999.000,9, -999.000,9,   -999.0,9,   -999.0,9,-999.0000,9,  -999.00, -999.000,9,  -999.00,9,  -999.00,9,   3.7078,2,  27.3077,2,   3.7715,2
49UP20220929_1,    P9,    91,  1,     14,     326,2,20221015,0814,0838, 33.7000, 137.0008, 1990,    979.7,      970,   3.3870,  34.4082,2,     59.5,2,  34.4074,2,    59.76,2,   128.33,2,    40.49,2,     0.00,2,    2.880,2, -999.000,9, -999.000,9,   -999.0,9,   -999.0,9,-999.0000,9,  -999.00, -999.000,9,  -999.00,9,  -999.00,9,   3.3179,2,  27.3830,2,   3.3873,2
49UP20220929_1,    P9,    91,  1,     13,     325,2,20221015,0814,0834, 33.7000, 137.0008, 1990,   1142.8,     1132,   2.9878,  34.4658,2,     66.7,2,  34.4654,2,    67.27,2,   135.42,2,    40.45,2,     0.00,2,    2.870,2, -999.000,9, -999.000,9,   -999.0,9,   -999.0,9,-999.0000,9,  -999.00, -999.000,9,  -999.00,9,  -999.00,9,   2.9091,2,  27.4669,2,   2.9878,2
49UP20220929_1,    P9,    91,  1,      9,     750,2,20221015,0814,0829, 33.7000, 137.0008, 1990,   1345.9,     1332,   2.7044,  34.5008,2,     72.8,2,  34.5014,2,    72.88,2,   140.31,2,    40.30,2,     0.00,2,    2.850,2, -999.000,9, -999.000,9,   -999.0,9,   -999.0,9,-999.0000,9,  -999.00, -999.000,9,  -999.00,9,  -999.00,9,   2.6125,2,  27.5211,2,   2.7042,2
49UP20220929_1,    P9,    91,  1,      8,     320,2,20221015,0814,0825, 33.7000, 137.0008, 1990,   1548.3,     1532,   2.3958,  34.5406,2,     83.3,2,  34.5409,2,    83.45,2,   144.45,2,    39.86,2,     0.00,2,    2.810,2, -999.000,9, -999.000,9,   -999.0,9,   -999.0,9,-999.0000,9,  -999.00, -999.000,9,  -999.00,9,  -999.00,9,   2.2912,2,  27.5801,2,   2.3957,2
49UP20220929_1,    P9,    91,  1,      7,     319,2,20221015,0814,0820, 33.7000, 137.0008, 1990,   1750.9,     1731,   2.2070,  34.5676,2,     92.9,2,  34.5682,6,    92.91,2,   146.20,2,    39.45,2,     0.00,2,    2.770,2, -999.000,9, -999.000,9,   -999.0,9,   -999.0,9,-999.0000,9,  -999.00, -999.000,9,  -999.00,9,  -999.00,9,   2.0884,2,  27.6182,2,   2.2069,2
49UP20220929_1,    P9,    91,  1,      5,     838,2,20221015,0814,0815, 33.7000, 137.0008, 1990,   1991.4,     1968,   1.9158,  34.6097,2,    110.8,2,  34.6095,2,   110.94,2,   147.23,2,    38.37,2,     0.00,2,    2.690,2, -999.000,9, -999.000,9,   -999.0,9,   -999.0,9,-999.0000,9,  -999.00, -999.000,9,  -999.00,9,  -999.00,9,   1.7814,2,  27.6759,2,   1.9156,2
49UP20220929_1,    P9,    91,  1,      6,     318,2,20221015,0814,0815, 33.7000, 137.0008, 1990,   1992.2,     1969,   1.9157,  34.6096,2,    110.8,2,  34.6095,2,   110.53,2,   147.24,2,    38.42,2,     0.00,2,    2.690,2, -999.000,9, -999.000,9,   -999.0,9,   -999.0,9,-999.0000,9,  -999.00, -999.000,9,  -999.00,9,  -999.00,9,   1.7812,2,  27.6759,2,   1.9157,2