BOTTLE,20230330JMAAMD
EXPOCODE,SECT_ID,STNNBR,CASTNO,SAMPNO,BTLNBR,BTLNBR_FLAG_U,DATE,TIME,BTL_TIME,LATITUDE,LONGITUDE,DEPTH,CTDPRS,CTDDEP,CTDTMP,CTDSAL,CTDSAL_FLAG_W,CTDOXY,CTDOXY_FLAG_W,SALNTY,SALNTY_FLAG_W,OXYGEN,OXYGEN_FLAG_W,SILCAT,SILCAT_FLAG_W,NO2+NO3,NO2+NO3_FLAG_W,NITRIT,NITRIT_FLAG_W,PHSPHT,PHSPHT_FLAG_W,CFC-11,CFC-11_FLAG_W,CFC-12,CFC-12_FLAG_W,TCARBN,TCARBN_FLAG_W,ALKALI,ALKALI_FLAG_W,PH_TS,PH_TS_FLAG_W,PH_TS_TMP,CFC113,CFC113_FLAG_W,CHLORA,CHLORA_FLAG_W,PPHYTN,PPHYTN_FLAG_W,THETA,THETA_FLAG_W,SIGTHT,SIGTHT_FLAG_W,SBE35,SBE35_FLAG_W
,,,,,,,,UTC,,,,METER,DBAR,METERS,ITS-90,PSS-78,,UMOL/KG,,PSS78,,UMOL/KG,,UMOL/KG,,UMOL/KG,,UMOL/KG,,UMOL/KG,,PMOL/KG,,PMOL/KG,,UMOL/KG,,UMOL/KG,,,,ITS-90,PMOL/KG,,UG/KG,,UG/KG,,ITS-90,,KG/M3,,ITS-90,
49UP20220727_1,    P9,     5,  1,      0,      -9,0,20220806,0947,1050, -0.9942, 141.9770, 2990,      0.0,        0,  29.8401,  35.3704,2,    201.8,2,  35.3780,2,   199.57,2,     0.62,2,     0.32,2,     0.07,2,    0.240,2, -999.000,9, -999.000,9,   1996.1,2,   2327.9,2,   8.0947,2,    25.00, -999.000,9,     0.54,2,     0.05,2,  29.8395,2,  22.0587,2,-999.0000,9
49UP20220727_1,    P9,     5,  1,     35,     756,2,20220806,0947,1122, -0.9942, 141.9770, 2990,     11.4,       11,  29.5342,  35.3604,2,    203.5,2,  35.3583,2,   203.42,2,     0.50,2,     0.07,2,     0.03,2,    0.200,2, -999.000,9, -999.000,9,   1993.3,2,   2325.5,2,   8.0979,2,    25.00, -999.000,9,     0.50,2,     0.12,2,  29.5314,2,  22.1558,2,  29.5358,2
49UP20220727_1,    P9,     5,  1,     34,     323,2,20220806,0947,1120, -0.9942, 141.9770, 2990,     26.4,       26,  29.4710,  35.3645,2,    201.4,2,  35.3626,2,   200.82,2,     0.62,2,     0.30,2,     0.08,2,    0.210,2, -999.000,9, -999.000,9,   1994.8,2,   2326.7,2,   8.0921,2,    25.00, -999.000,9,     0.66,2,     0.18,2,  29.4646,2,  22.1816,2,  29.4696,2
49UP20220727_1,    P9,     5,  1,     33,     322,2,20220806,0947,1116, -0.9942, 141.9770, 2990,     50.6,       50,  29.4096,  35.3658,2,    198.1,2,  35.3644,2,   197.11,2,     0.71,2,     0.56,2,     0.13,2,    0.240,2, -999.000,9, -999.000,9,   2000.3,2,   2326.3,2,   8.0857,2,    25.00, -999.000,9,     0.69,2,     0.26,2,  29.3973,2,  22.2053,2,  29.4097,2
49UP20220727_1,    P9,     5,  1,     32,     321,2,20220806,0947,1114, -0.9942, 141.9770, 2990,     77.5,       77,  29.4044,  35.3679,2,    196.0,2,  35.3669,2,   195.07,2,     0.79,2,     0.68,2,     0.15,2,    0.250,2, -999.000,9, -999.000,9,   2002.0,2,   2327.4,2,   8.0836,2,    25.00, -999.000,9,     0.67,2,     0.18,2,  29.3855,2,  22.2108,2,  29.4034,2
49UP20220727_1,    P9,     5,  1,     31,     320,2,20220806,0947,1113, -0.9942, 141.9770, 2990,    101.7,      101,  29.3434,  35.3922,2,    189.5,2,  35.3927,2,   189.25,2,     1.21,2,     1.45,2,     0.36,2,    0.310,2, -999.000,9, -999.000,9,   2010.4,2,   2326.4,2,   8.0709,2,    25.00, -999.000,9,     0.25,2,     0.13,2,  29.3185,2,  22.2516,2,  29.3404,2
49UP20220727_1,    P9,     5,  1,     30,     319,2,20220806,0947,1111, -0.9942, 141.9770, 2990,    126.1,      125,  28.7752,  35.4728,2,    169.8,2,  35.4736,2,   169.62,2,     1.83,2,     4.60,2,     0.06,2,    0.500,2, -999.000,9, -999.000,9,   2039.0,2,   2331.2,2,   8.0255,2,    25.00, -999.000,9,  -999.00,9,  -999.00,9,  28.7448,2,  22.5043,2,  28.7718,2
49UP20220727_1,    P9,     5,  1,     29,     318,2,20220806,0947,1111, -0.9942, 141.9770, 2990,    126.1,      125,  28.7606,  35.4735,2,    169.8,2,  35.4741,2,   169.29,2,     1.87,2,     4.62,2,     0.06,2,    0.500,2, -999.000,9, -999.000,9,   2038.8,2,   2331.6,2,   8.0289,2,    25.00, -999.000,9,     0.05,2,     0.06,2,  28.7303,2,  22.5097,2,  28.7526,2
49UP20220727_1,    P9,     5,  1,     28,     755,2,20220806,0947,1109, -0.9942, 141.9770, 2990,    151.2,      150,  26.3121,  35.6603,2,    143.3,2,  35.6557,2,   143.93,6,     2.44,6,     8.29,6,     0.03,6,    0.730,6, -999.000,9, -999.000,9,   2085.1,2,   2342.5,2,   7.9592,2,    25.00, -999.000,9,     0.01,2,     0.02,2,  26.2780,2,  23.4444,2,  26.3066,2
49UP20220727_1,    P9,     5,  1,     27,     317,2,20220806,0947,1107, -0.9942, 141.9770, 2990,    204.0,      203,  20.8892,  35.5878,2,    134.9,2,  35.5896,2,   134.70,2,     3.63,2,    10.46,2,     0.02,2,    0.860,2, -999.000,9, -999.000,9,   2123.5,2,   2339.6,2,   7.8813,2,    25.00, -999.000,9,     0.01,2,     0.03,2,  20.8502,2,  24.9823,2,  20.8943,2
49UP20220727_1,    P9,     5,  1,     26,     316,2,20220806,0947,1105, -0.9942, 141.9770, 2990,    255.9,      254,  14.9325,  35.1814,2,    137.9,2,  35.2078,2,   134.46,2,     8.55,2,    16.50,2,     0.01,2,    1.270,2, -999.000,9, -999.000,9,   2159.9,2,   2320.9,2,   7.7711,2,    25.00, -999.000,9,  -999.00,9,  -999.00,9,  14.8937,2,  26.1352,2,  14.9383,2
49UP20220727_1,    P9,     5,  1,     25,     315,2,20220806,0947,1102, -0.9942, 141.9770, 2990,    336.1,      334,  10.5447,  34.7349,2,    141.3,2,  34.7335,2,   140.49,2,    21.87,2,    23.45,2,     0.00,2,    1.670,2, -999.000,9, -999.000,9,   2182.0,2,   2304.2,2,   7.6961,3,    25.00, -999.000,9,  -999.00,9,  -999.00,9,  10.5042,2,  26.6576,2,  10.5448,2
49UP20220727_1,    P9,     5,  1,     24,     753,2,20220806,0947,1100, -0.9942, 141.9770, 2990,    384.1,      382,   9.9163,  34.7064,2,    128.6,2,  34.7074,2,   128.34,2,    22.24,2,    25.77,2,     0.00,2,    1.820,2, -999.000,9, -999.000,9,   2194.3,6,   2302.6,6,   7.6600,3,    25.00, -999.000,9,  -999.00,9,  -999.00,9,   9.8717,2,  26.7445,2,   9.9147,2
49UP20220727_1,    P9,     5,  1,     23,     314,2,20220806,0947,1058, -0.9942, 141.9770, 2990,    435.8,      433,   8.8798,  34.6353,2,    152.1,2,  34.6349,6,   153.28,2,    21.14,2,    25.53,2,     0.00,2,    1.790,2, -999.000,9, -999.000,9,   2187.0,2,   2301.0,2,   7.6605,6,    25.00, -999.000,9,  -999.00,9,  -999.00,9,   8.8324,2,  26.8592,2,   8.8741,2
49UP20220727_1,    P9,     5,  1,     22,     313,2,20220806,0947,1056, -0.9942, 141.9770, 2990,    487.9,      485,   7.7954,  34.5611,2,    162.9,2,  34.5613,2,   163.69,2,    24.14,2,    26.74,2,     0.00,2,    1.870,2, -999.000,9, -999.000,9,   2188.7,2,   2300.7,2,   7.6555,2,    25.00, -999.000,9,  -999.00,9,  -999.00,9,   7.7462,2,  26.9667,2,   7.7929,2
49UP20220727_1,    P9,     5,  1,     20,     311,2,20220806,0947,1053, -0.9942, 141.9770, 2990,    539.0,      535,   7.0845,  34.5343,2,    141.8,2,  34.5349,2,   140.71,2,    34.01,2,    30.25,2,     0.00,2,    2.120,2, -999.000,9, -999.000,9,   2213.1,2,   2307.4,2,   7.6043,2,    25.00, -999.000,9,  -999.00,9,  -999.00,9,   7.0328,2,  27.0474,2,   7.0852,2
49UP20220727_1,    P9,     5,  1,     21,     312,2,20220806,0947,1053, -0.9942, 141.9770, 2990,    540.2,      537,   7.0808,  34.5339,2,    142.6,2,  34.5345,2,   141.49,2,    33.94,2,    30.20,2,     0.00,2,    2.120,2, -999.000,9, -999.000,9,   2212.6,2,   2307.0,2,   7.6057,2,    25.00, -999.000,9,  -999.00,9,  -999.00,9,   7.0290,2,  27.0476,2,   7.0808,2
49UP20220727_1,    P9,     5,  1,     19,     310,2,20220806,0947,1050, -0.9942, 141.9770, 2990,    637.0,      633,   6.6752,  34.5288,2,    126.7,2,  34.5291,2,   126.27,6,    40.74,6,    32.48,6,     0.00,6,    2.280,6, -999.000,9, -999.000,9,   2227.5,2,   2313.5,2,   7.5642,3,    25.00, -999.000,9,  -999.00,9,  -999.00,9,   6.6157,2,  27.0999,2,   6.6747,2
49UP20220727_1,    P9,     5,  1,     18,     752,2,20220806,0947,1046, -0.9942, 141.9770, 2990,    738.6,      733,   5.5985,  34.4911,2,    150.5,2,  34.4911,2,   150.16,2,    46.73,2,    32.09,2,     0.00,2,    2.250,2, -999.000,9, -999.000,9,   2226.9,2,   2318.4,2,   7.5911,3,    25.00, -999.000,9,  -999.00,9,  -999.00,9,   5.5350,2,  27.2084,2,   5.5994,2
49UP20220727_1,    P9,     5,  1,     17,     751,2,20220806,0947,1043, -0.9942, 141.9770, 2990,    839.6,      833,   5.2271,  34.5290,2,    110.0,2,  34.5284,2,   110.36,2,    65.16,2,    36.23,2,     0.00,2,    2.560,2, -999.000,9, -999.000,9,   2264.9,6,   2336.2,6,   7.5343,2,    25.00, -999.000,9,  -999.00,9,  -999.00,9,   5.1567,2,  27.2836,2,   5.2266,2
49UP20220727_1,    P9,     5,  1,     16,     328,2,20220806,0947,1040, -0.9942, 141.9770, 2990,    940.4,      933,   4.6643,  34.5402,2,    106.4,2,  34.5400,2,   106.44,2,    77.08,2,    37.19,2,     0.00,2,    2.640,2, -999.000,9, -999.000,9,   2281.0,2,   2347.3,2,   7.5231,2,    25.00, -999.000,9,  -999.00,9,  -999.00,9,   4.5887,2,  27.3573,2,   4.6642,2
49UP20220727_1,    P9,     5,  1,     15,     309,2,20220806,0947,1036, -0.9942, 141.9770, 2990,   1082.7,     1074,   4.2187,  34.5553,2,    102.2,2,  34.5551,6,   101.93,2,    88.63,2,    37.93,2,     0.00,2,    2.700,2, -999.000,9, -999.000,9,   2296.3,2,   2357.1,2,   7.5150,2,    25.00, -999.000,9,  -999.00,9,  -999.00,9,   4.1342,2,  27.4184,2,   4.2184,2
49UP20220727_1,    P9,     5,  1,     14,     326,2,20220806,0947,1031, -0.9942, 141.9770, 2990,   1285.1,     1274,   3.6041,  34.5761,2,    102.9,2,  34.5756,2,   102.69,2,   102.62,2,    38.40,2,     0.00,2,    2.730,2, -999.000,9, -999.000,9,   2310.1,2,   2375.1,2,   7.5136,3,    25.00, -999.000,9,  -999.00,9,  -999.00,9,   3.5078,2,  27.4986,2,   3.6039,2
49UP20220727_1,    P9,     5,  1,     12,     324,2,20220806,0947,1026, -0.9942, 141.9770, 2990,   1485.8,     1472,   3.1650,  34.5933,2,    107.1,2,  34.5929,2,   106.99,2,   112.71,2,    38.33,2,     0.00,2,    2.720,2, -999.000,9, -999.000,9,   2318.9,2,   2384.4,2,   7.5211,2,    25.00, -999.000,9,  -999.00,9,  -999.00,9,   3.0564,2,  27.5552,2,   3.1648,2
49UP20220727_1,    P9,     5,  1,     13,     325,2,20220806,0947,1026, -0.9942, 141.9770, 2990,   1486.1,     1473,   3.1645,  34.5932,2,    107.1,2,  34.5940,2,   108.11,2,   112.56,2,    38.33,2,     0.00,2,    2.720,2, -999.000,9, -999.000,9,   2319.2,2,   2386.1,2,   7.5208,2,    25.00, -999.000,9,  -999.00,9,  -999.00,9,   3.0559,2,  27.5552,2,   3.1645,2
49UP20220727_1,    P9,     5,  1,     11,     323,2,20220806,0947,1021, -0.9942, 141.9770, 2990,   1690.8,     1675,   2.6798,  34.6143,2,    112.3,2,  34.6145,2,   112.24,6,   123.98,6,    38.23,6,     0.00,6,    2.710,6, -999.000,9, -999.000,9,   2327.8,2,   2397.7,2,   7.5262,2,    25.00, -999.000,9,  -999.00,9,  -999.00,9,   2.5598,2,  27.6163,2,   2.6797,2
49UP20220727_1,    P9,     5,  1,      9,     750,2,20220806,0947,1016, -0.9942, 141.9770, 2990,   1891.0,     1872,   2.3493,  34.6299,2,    118.2,2,  34.6301,6,   117.76,2,   130.92,2,    37.99,2,     0.00,2,    2.670,2, -999.000,9, -999.000,9,   2332.7,6,   2404.6,6,   7.5372,2,    25.00, -999.000,9,  -999.00,9,  -999.00,9,   2.2169,2,  27.6577,2,   2.3493,2
49UP20220727_1,    P9,     5,  1,      8,     320,2,20220806,0947,1011, -0.9942, 141.9770, 2990,   2093.8,     2072,   2.1445,  34.6398,2,    120.9,2,  34.6396,2,   120.59,2,   136.51,2,    37.90,2,     0.00,2,    2.660,2, -999.000,9, -999.000,9,   2335.2,2,   2410.0,2,   7.5382,2,    25.00, -999.000,9,  -999.00,9,  -999.00,9,   1.9978,2,  27.6832,2,   2.1444,2
49UP20220727_1,    P9,     5,  1,      7,     319,2,20220806,0947,1007, -0.9942, 141.9770, 2990,   2298.0,     2273,   1.9840,  34.6480,2,    125.8,2,  34.6473,2,   125.57,2,   139.38,2,    37.59,2,     0.00,2,    2.640,2, -999.000,9, -999.000,9,   2335.7,2,   2410.5,2,   7.5474,2,    25.00, -999.000,9,  -999.00,9,  -999.00,9,   1.8221,2,  27.7035,2,   1.9839,2
49UP20220727_1,    P9,     5,  1,      5,     838,2,20220806,0947,1002, -0.9942, 141.9770, 2990,   2500.5,     2472,   1.7700,  34.6588,2,    133.2,2,  34.6595,2,   133.23,2,   142.52,2,    37.15,2,     0.00,2,    2.600,2, -999.000,9, -999.000,9,   2334.3,2,   2413.4,2,   7.5588,2,    25.00, -999.000,9,  -999.00,9,  -999.00,9,   1.5939,2,  27.7295,2,   1.7698,2
49UP20220727_1,    P9,     5,  1,      6,     318,2,20220806,0947,1002, -0.9942, 141.9770, 2990,   2500.7,     2472,   1.7691,  34.6589,2,    133.2,2,  34.6594,2,   133.13,2,   142.62,2,    37.15,2,     0.00,2,    2.590,2, -999.000,9, -999.000,9,   2333.9,2,   2414.1,2,   7.5788,3,    25.00, -999.000,9,  -999.00,9,  -999.00,9,   1.5930,2,  27.7296,2,   1.7689,2
49UP20220727_1,    P9,     5,  1,      4,     316,2,20220806,0947,0957, -0.9942, 141.9770, 2990,   2703.7,     2672,   1.6690,  34.6649,2,    138.5,2,  34.6644,2,   138.47,6,   143.42,6,    36.82,6,     0.00,6,    2.570,6, -999.000,9, -999.000,9,   2333.1,2,   2413.1,2,   7.5629,2,    25.00, -999.000,9,  -999.00,9,  -999.00,9,   1.4764,2,  27.7430,2,   1.6689,2
49UP20220727_1,    P9,     5,  1,      3,     315,2,20220806,0947,0952, -0.9942, 141.9770, 2990,   2906.1,     2870,   1.6269,  34.6685,2,    141.4,2,  34.6681,2,   141.13,2,   143.62,2,    36.64,2,     0.00,2,    2.550,2, -999.000,9, -999.000,9,   2331.9,2,   2416.1,2,   7.5711,2,    25.00, -999.000,9,  -999.00,9,  -999.00,9,   1.4163,2,  27.7502,2,   1.6267,2
49UP20220727_1,    P9,     5,  1,      2,     314,2,20220806,0947,0947, -0.9942, 141.9770, 2990,   3005.8,     2968,   1.6003,  34.6707,2,    143.2,2,  34.6703,6,   142.79,2,   143.72,2,    36.52,2,     0.00,2,    2.540,2, -999.000,9, -999.000,9,   2330.9,2,   2417.0,2,   7.5725,2,    25.00, -999.000,9,  -999.00,9,  -999.00,9,   1.3808,2,  27.7545,2,   1.6003,2