BOTTLE,20230330JMAAMD
EXPOCODE,SECT_ID,STNNBR,CASTNO,SAMPNO,BTLNBR,BTLNBR_FLAG_U,DATE,TIME,BTL_TIME,LATITUDE,LONGITUDE,DEPTH,CTDPRS,CTDDEP,CTDTMP,CTDSAL,CTDSAL_FLAG_W,CTDOXY,CTDOXY_FLAG_W,SALNTY,SALNTY_FLAG_W,OXYGEN,OXYGEN_FLAG_W,SILCAT,SILCAT_FLAG_W,NO2+NO3,NO2+NO3_FLAG_W,NITRIT,NITRIT_FLAG_W,PHSPHT,PHSPHT_FLAG_W,CFC-11,CFC-11_FLAG_W,CFC-12,CFC-12_FLAG_W,TCARBN,TCARBN_FLAG_W,ALKALI,ALKALI_FLAG_W,PH_TS,PH_TS_FLAG_W,PH_TS_TMP,CFC113,CFC113_FLAG_W,CHLORA,CHLORA_FLAG_W,PPHYTN,PPHYTN_FLAG_W,THETA,THETA_FLAG_W,SIGTHT,SIGTHT_FLAG_W,SBE35,SBE35_FLAG_W
,,,,,,,,UTC,,,,METER,DBAR,METERS,ITS-90,PSS-78,,UMOL/KG,,PSS78,,UMOL/KG,,UMOL/KG,,UMOL/KG,,UMOL/KG,,UMOL/KG,,PMOL/KG,,PMOL/KG,,UMOL/KG,,UMOL/KG,,,,ITS-90,PMOL/KG,,UG/KG,,UG/KG,,ITS-90,,KG/M3,,ITS-90,
49UP20220929_1,    P9,    90,  1,      0,      -9,0,20221015,1306,1355, 33.3302, 136.9705, 2649,      0.0,        0,  25.7375,  33.9193,2,    208.2,2,-999.0000,9,   207.28,2,     2.61,2,     0.05,2,     0.00,2,    0.030,2, -999.000,9, -999.000,9,   -999.0,9,   -999.0,9,-999.0000,9,  -999.00, -999.000,9,  -999.00,9,  -999.00,9,  25.7370,2,  22.2996,2,-999.0000,9
49UP20220929_1,    P9,    90,  1,     36,     757,2,20221015,1306,1425, 33.3302, 136.9705, 2649,     10.0,       10,  25.7448,  33.9191,2,    207.3,2,  33.9206,2,   206.82,2,     2.53,2,     0.06,2,     0.00,2,    0.010,2, -999.000,9, -999.000,9,   -999.0,9,   -999.0,9,-999.0000,9,  -999.00, -999.000,9,  -999.00,9,  -999.00,9,  25.7426,2,  22.2977,2,  25.7459,2
49UP20220929_1,    P9,    90,  1,     35,     756,2,20221015,1306,1423, 33.3302, 136.9705, 2649,     25.5,       25,  25.5549,  33.9135,2,    207.1,2,  33.9164,2,   207.36,2,     2.57,2,     0.06,2,     0.00,2,    0.010,2, -999.000,9, -999.000,9,   -999.0,9,   -999.0,9,-999.0000,9,  -999.00, -999.000,9,  -999.00,9,  -999.00,9,  25.5493,2,  22.3529,2,  25.5053,2
49UP20220929_1,    P9,    90,  1,     34,     323,2,20221015,1306,1421, 33.3302, 136.9705, 2649,     51.1,       51,  23.4092,  33.9165,2,    207.8,2,  33.9182,2,   208.15,2,     3.40,2,     1.09,2,     0.24,2,    0.100,2, -999.000,9, -999.000,9,   -999.0,9,   -999.0,9,-999.0000,9,  -999.00, -999.000,9,  -999.00,9,  -999.00,9,  23.3987,2,  22.9971,2,  23.4078,2
49UP20220929_1,    P9,    90,  1,     30,     319,2,20221015,1306,1419, 33.3302, 136.9705, 2649,     76.1,       76,  21.2687,  34.4413,2,    188.0,2,  34.4247,2,   188.99,6,     5.55,6,     3.69,6,     0.16,6,    0.270,6, -999.000,9, -999.000,9,   -999.0,9,   -999.0,9,-999.0000,9,  -999.00, -999.000,9,  -999.00,9,  -999.00,9,  21.2541,2,  23.9995,2,  21.2883,2
49UP20220929_1,    P9,    90,  1,     29,     318,2,20221015,1306,1418, 33.3302, 136.9705, 2649,    103.1,      102,  19.2899,  34.6837,2,    179.7,2,  34.6843,2,   180.33,2,     7.11,2,     5.70,2,     0.01,2,    0.400,2, -999.000,9, -999.000,9,   -999.0,9,   -999.0,9,-999.0000,9,  -999.00, -999.000,9,  -999.00,9,  -999.00,9,  19.2714,2,  24.7100,2,  19.2897,2
49UP20220929_1,    P9,    90,  1,     28,     755,2,20221015,1306,1416, 33.3302, 136.9705, 2649,    126.7,      126,  18.2797,  34.6738,2,    178.2,2,  34.6736,2,   178.73,2,     8.64,2,     6.89,2,     0.01,2,    0.480,2, -999.000,9, -999.000,9,   -999.0,9,   -999.0,9,-999.0000,9,  -999.00, -999.000,9,  -999.00,9,  -999.00,9,  18.2578,2,  24.9585,2,  18.2813,2
49UP20220929_1,    P9,    90,  1,     27,     317,2,20221015,1306,1415, 33.3302, 136.9705, 2649,    152.4,      151,  17.3727,  34.6937,2,    196.6,2,  34.6940,2,   197.04,2,     6.63,2,     5.66,2,     0.01,2,    0.380,2, -999.000,9, -999.000,9,   -999.0,9,   -999.0,9,-999.0000,9,  -999.00, -999.000,9,  -999.00,9,  -999.00,9,  17.3472,2,  25.1962,2,  17.3718,2
49UP20220929_1,    P9,    90,  1,     26,     316,2,20221015,1306,1413, 33.3302, 136.9705, 2649,    202.9,      201,  16.3063,  34.6572,2,    194.4,2,  34.6580,2,   195.21,2,     8.74,2,     7.34,2,     0.01,2,    0.490,2, -999.000,9, -999.000,9,   -999.0,9,   -999.0,9,-999.0000,9,  -999.00, -999.000,9,  -999.00,9,  -999.00,9,  16.2738,2,  25.4211,2,  16.3063,2
49UP20220929_1,    P9,    90,  1,     25,     315,2,20221015,1306,1411, 33.3302, 136.9705, 2649,    255.0,      253,  14.1106,  34.5162,2,    174.8,2,  34.5208,2,   175.99,2,    17.40,2,    12.49,2,     0.00,2,    0.860,2, -999.000,9, -999.000,9,   -999.0,9,   -999.0,9,-999.0000,9,  -999.00, -999.000,9,  -999.00,9,  -999.00,9,  14.0736,2,  25.7977,2,  14.1072,2
49UP20220929_1,    P9,    90,  1,     24,     753,2,20221015,1306,1408, 33.3302, 136.9705, 2649,    333.7,      331,  11.0549,  34.3391,2,    155.4,2,  34.3393,6,   155.74,2,    32.07,2,    19.40,2,     0.00,2,    1.360,2, -999.000,9, -999.000,9,   -999.0,9,   -999.0,9,-999.0000,9,  -999.00, -999.000,9,  -999.00,9,  -999.00,9,  11.0137,2,  26.2584,2,  11.0543,2
49UP20220929_1,    P9,    90,  1,     23,     314,2,20221015,1306,1406, 33.3302, 136.9705, 2649,    433.8,      430,   8.0754,  34.2399,2,    120.7,2,  34.2390,2,   120.62,2,    55.71,2,    27.74,2,     0.00,2,    1.970,2, -999.000,9, -999.000,9,   -999.0,9,   -999.0,9,-999.0000,9,  -999.00, -999.000,9,  -999.00,9,  -999.00,9,   8.0310,2,  26.6722,2,   8.0745,2
49UP20220929_1,    P9,    90,  1,     22,     313,2,20221015,1306,1406, 33.3302, 136.9705, 2649,    433.9,      430,   8.0753,  34.2397,2,    120.7,2,  34.2388,2,   120.67,2,    55.70,2,    27.74,2,     0.00,2,    1.970,2, -999.000,9, -999.000,9,   -999.0,9,   -999.0,9,-999.0000,9,  -999.00, -999.000,9,  -999.00,9,  -999.00,9,   8.0310,2,  26.6721,2,   8.0749,2
49UP20220929_1,    P9,    90,  1,     21,     312,2,20221015,1306,1403, 33.3302, 136.9705, 2649,    533.5,      529,   6.3514,  34.2276,2,     96.0,2,  34.2273,2,    96.01,6,    75.40,6,    32.93,6,     0.00,6,    2.350,6, -999.000,9, -999.000,9,   -999.0,9,   -999.0,9,-999.0000,9,  -999.00, -999.000,9,  -999.00,9,  -999.00,9,   6.3035,2,  26.9034,2,   6.3541,2
49UP20220929_1,    P9,    90,  1,     20,     311,2,20221015,1306,1400, 33.3302, 136.9705, 2649,    636.2,      631,   5.3561,  34.2552,2,     79.1,2,  34.2546,2,    79.10,2,    90.18,2,    36.05,2,     0.00,2,    2.570,2, -999.000,9, -999.000,9,   -999.0,9,   -999.0,9,-999.0000,9,  -999.00, -999.000,9,  -999.00,9,  -999.00,9,   5.3033,2,  27.0494,2,   5.3562,2
49UP20220929_1,    P9,    90,  1,     19,     310,2,20221015,1306,1357, 33.3302, 136.9705, 2649,    736.8,      730,   4.3881,  34.3047,2,     64.7,2,  34.3048,2,    64.52,2,   107.39,2,    38.75,2,     0.00,2,    2.760,2, -999.000,9, -999.000,9,   -999.0,9,   -999.0,9,-999.0000,9,  -999.00, -999.000,9,  -999.00,9,  -999.00,9,   4.3318,2,  27.1982,2,   4.3880,2
49UP20220929_1,    P9,    90,  1,     18,     752,2,20221015,1306,1354, 33.3302, 136.9705, 2649,    839.5,      832,   3.9556,  34.3644,2,     62.6,2,  34.3638,2,    62.75,2,   116.47,2,    39.55,2,     0.00,2,    2.820,2, -999.000,9, -999.000,9,   -999.0,9,   -999.0,9,-999.0000,9,  -999.00, -999.000,9,  -999.00,9,  -999.00,9,   3.8936,2,  27.2914,2,   3.9550,2
49UP20220929_1,    P9,    90,  1,     17,     751,2,20221015,1306,1351, 33.3302, 136.9705, 2649,    939.9,      931,   3.4783,  34.4045,2,     60.4,2,  34.4043,2,    60.39,2,   126.43,2,    40.32,2,     0.00,2,    2.870,2, -999.000,9, -999.000,9,   -999.0,9,   -999.0,9,-999.0000,9,  -999.00, -999.000,9,  -999.00,9,  -999.00,9,   3.4116,2,  27.3711,2,   3.4782,2
49UP20220929_1,    P9,    90,  1,     16,     328,2,20221015,1306,1347, 33.3302, 136.9705, 2649,   1079.3,     1069,   3.0597,  34.4538,2,     64.4,2,  34.4536,6,    64.35,2,   134.88,2,    40.66,2,     0.00,2,    2.880,2, -999.000,9, -999.000,9,   -999.0,9,   -999.0,9,-999.0000,9,  -999.00, -999.000,9,  -999.00,9,  -999.00,9,   2.9854,2,  27.4504,2,   3.0598,2
49UP20220929_1,    P9,    90,  1,     12,     324,2,20221015,1306,1342, 33.3302, 136.9705, 2649,   1283.3,     1270,   2.6803,  34.4961,2,     67.2,2,  34.4964,6,    67.36,2,   142.83,2,    40.87,2,     0.00,2,    2.890,2, -999.000,9, -999.000,9,   -999.0,9,   -999.0,9,-999.0000,9,  -999.00, -999.000,9,  -999.00,9,  -999.00,9,   2.5936,2,  27.5189,2,   2.6805,2
49UP20220929_1,    P9,    90,  1,     10,     322,2,20221015,1306,1337, 33.3302, 136.9705, 2649,   1488.6,     1473,   2.4207,  34.5368,2,     82.0,2,  34.5367,2,    82.18,2,   144.35,2,    40.05,2,     0.00,2,    2.820,2, -999.000,9, -999.000,9,   -999.0,9,   -999.0,9,-999.0000,9,  -999.00, -999.000,9,  -999.00,9,  -999.00,9,   2.3206,2,  27.5746,2,   2.4203,2
49UP20220929_1,    P9,    90,  1,     11,     323,2,20221015,1306,1337, 33.3302, 136.9705, 2649,   1489.4,     1474,   2.4195,  34.5370,2,     82.0,2,  34.5370,2,    82.10,2,   144.46,2,    40.04,2,     0.00,2,    2.820,2, -999.000,9, -999.000,9,   -999.0,9,   -999.0,9,-999.0000,9,  -999.00, -999.000,9,  -999.00,9,  -999.00,9,   2.3193,2,  27.5749,2,   2.4194,2
49UP20220929_1,    P9,    90,  1,      9,     750,2,20221015,1306,1332, 33.3302, 136.9705, 2649,   1688.3,     1670,   2.1519,  34.5742,2,     94.4,2,  34.5734,2,    94.55,6,   146.99,6,    39.44,6,     0.00,6,    2.770,6, -999.000,9, -999.000,9,   -999.0,9,   -999.0,9,-999.0000,9,  -999.00, -999.000,9,  -999.00,9,  -999.00,9,   2.0390,2,  27.6274,2,   2.1518,2
49UP20220929_1,    P9,    90,  1,      8,     320,2,20221015,1306,1327, 33.3302, 136.9705, 2649,   1892.1,     1870,   1.9832,  34.5994,2,    104.6,2,  34.5985,2,   104.78,2,   147.80,2,    38.86,2,     0.00,2,    2.720,2, -999.000,9, -999.000,9,   -999.0,9,   -999.0,9,-999.0000,9,  -999.00, -999.000,9,  -999.00,9,  -999.00,9,   1.8560,2,  27.6620,2,   1.9834,2
49UP20220929_1,    P9,    90,  1,      7,     319,2,20221015,1306,1321, 33.3302, 136.9705, 2649,   2097.6,     2072,   1.8609,  34.6179,2,    113.3,2,  34.6181,2,   113.30,2,   147.92,2,    38.32,2,     0.00,2,    2.680,2, -999.000,9, -999.000,9,   -999.0,9,   -999.0,9,-999.0000,9,  -999.00, -999.000,9,  -999.00,9,  -999.00,9,   1.7184,2,  27.6874,2,   1.8609,2
49UP20220929_1,    P9,    90,  1,      6,     318,2,20221015,1306,1316, 33.3302, 136.9705, 2649,   2298.3,     2270,   1.8011,  34.6284,2,    119.5,2,  34.6272,4,   119.76,2,   147.20,2,    38.02,2,     0.00,2,    2.650,2, -999.000,9, -999.000,9,   -999.0,9,   -999.0,9,-999.0000,9,  -999.00, -999.000,9,  -999.00,9,  -999.00,9,   1.6425,2,  27.7015,2,   1.8012,2
49UP20220929_1,    P9,    90,  1,      5,     838,2,20221015,1306,1311, 33.3302, 136.9705, 2649,   2500.7,     2468,   1.7359,  34.6392,2,    126.1,2,  34.6384,2,   126.28,2,   146.54,2,    37.55,2,     0.00,2,    2.620,2, -999.000,9, -999.000,9,   -999.0,9,   -999.0,9,-999.0000,9,  -999.00, -999.000,9,  -999.00,9,  -999.00,9,   1.5605,2,  27.7162,2,   1.7358,2
49UP20220929_1,    P9,    90,  1,      4,     316,2,20221015,1306,1307, 33.3302, 136.9705, 2649,   2656.6,     2621,   1.6980,  34.6456,2,    130.7,2,  34.6451,2,   130.66,2,   145.87,2,    37.29,2,     0.00,2,    2.600,2, -999.000,9, -999.000,9,   -999.0,9,   -999.0,9,-999.0000,9,  -999.00, -999.000,9,  -999.00,9,  -999.00,9,   1.5092,2,  27.7251,2,   1.6975,2
49UP20220929_1,    P9,    90,  1,      3,     315,2,20221015,1306,1307, 33.3302, 136.9705, 2649,   2656.9,     2622,   1.6982,  34.6455,2,    130.6,2,  34.6458,2,   130.77,2,   145.97,2,    37.29,2,     0.00,2,    2.600,2, -999.000,9, -999.000,9,   -999.0,9,   -999.0,9,-999.0000,9,  -999.00, -999.000,9,  -999.00,9,  -999.00,9,   1.5094,2,  27.7250,2,   1.6981,2