BOTTLE,20230330JMAAMD
EXPOCODE,SECT_ID,STNNBR,CASTNO,SAMPNO,BTLNBR,BTLNBR_FLAG_U,DATE,TIME,BTL_TIME,LATITUDE,LONGITUDE,DEPTH,CTDPRS,CTDDEP,CTDTMP,CTDSAL,CTDSAL_FLAG_W,CTDOXY,CTDOXY_FLAG_W,SALNTY,SALNTY_FLAG_W,OXYGEN,OXYGEN_FLAG_W,SILCAT,SILCAT_FLAG_W,NO2+NO3,NO2+NO3_FLAG_W,NITRIT,NITRIT_FLAG_W,PHSPHT,PHSPHT_FLAG_W,CFC-11,CFC-11_FLAG_W,CFC-12,CFC-12_FLAG_W,TCARBN,TCARBN_FLAG_W,ALKALI,ALKALI_FLAG_W,PH_TS,PH_TS_FLAG_W,PH_TS_TMP,CFC113,CFC113_FLAG_W,CHLORA,CHLORA_FLAG_W,PPHYTN,PPHYTN_FLAG_W,THETA,THETA_FLAG_W,SIGTHT,SIGTHT_FLAG_W,SBE35,SBE35_FLAG_W
,,,,,,,,UTC,,,,METER,DBAR,METERS,ITS-90,PSS-78,,UMOL/KG,,PSS78,,UMOL/KG,,UMOL/KG,,UMOL/KG,,UMOL/KG,,UMOL/KG,,PMOL/KG,,PMOL/KG,,UMOL/KG,,UMOL/KG,,,,ITS-90,PMOL/KG,,UG/KG,,UG/KG,,ITS-90,,KG/M3,,ITS-90,
49UP20220727_1,    P9,    24,  1,      0,      -9,0,20220812,2323,0125,  4.5133, 137.0158, 4905,      0.0,        0,  29.5243,  33.6956,2,    198.5,2,-999.0000,9,   199.19,2,     1.55,2,     0.02,2,     0.00,2,    0.020,2, -999.000,9, -999.000,9,   -999.0,9,   -999.0,9,-999.0000,9,  -999.00, -999.000,9,  -999.00,9,  -999.00,9,  29.5237,2,  20.9098,2,-999.0000,9
49UP20220727_1,    P9,    24,  1,     36,     757,2,20220812,2323,0156,  4.5133, 137.0158, 4905,     14.5,       14,  29.5079,  34.0064,2,    198.8,2,  33.9470,2,   199.64,2,     1.63,2,     0.01,2,     0.00,2,    0.030,2, -999.000,9, -999.000,9,   -999.0,9,   -999.0,9,-999.0000,9,  -999.00, -999.000,9,  -999.00,9,  -999.00,9,  29.5044,2,  21.1493,2,  29.5111,2
49UP20220727_1,    P9,    24,  1,     35,     756,2,20220812,2323,0152,  4.5133, 137.0158, 4905,     50.5,       50,  30.0128,  34.8869,2,    194.1,2,  34.8889,2,   194.66,6,     1.20,6,     0.01,6,     0.00,6,    0.150,6, -999.000,9, -999.000,9,   -999.0,9,   -999.0,9,-999.0000,9,  -999.00, -999.000,9,  -999.00,9,  -999.00,9,  30.0003,2,  21.6412,2,  30.0114,2
49UP20220727_1,    P9,    24,  1,     34,     323,2,20220812,2323,0150,  4.5133, 137.0158, 4905,     98.4,       98,  29.5687,  35.2808,2,    184.3,2,  35.2828,2,   184.25,2,     1.43,2,     1.73,2,     0.63,2,    0.310,2, -999.000,9, -999.000,9,   -999.0,9,   -999.0,9,-999.0000,9,  -999.00, -999.000,9,  -999.00,9,  -999.00,9,  29.5446,2,  22.0917,2,  29.5686,2
49UP20220727_1,    P9,    24,  1,     33,     322,2,20220812,2323,0148,  4.5133, 137.0158, 4905,    125.3,      125,  28.8842,  35.2906,2,    166.2,2,  35.2922,2,   166.20,2,     1.84,2,     3.98,2,     0.09,2,    0.450,2, -999.000,9, -999.000,9,   -999.0,9,   -999.0,9,-999.0000,9,  -999.00, -999.000,9,  -999.00,9,  -999.00,9,  28.8539,2,  22.3311,2,  28.8857,2
49UP20220727_1,    P9,    24,  1,     32,     321,2,20220812,2323,0147,  4.5133, 137.0158, 4905,    152.3,      151,  26.4283,  35.3249,2,    147.5,2,  35.3039,2,   148.64,2,     3.39,2,     7.01,2,     0.05,2,    0.620,2, -999.000,9, -999.000,9,   -999.0,9,   -999.0,9,-999.0000,9,  -999.00, -999.000,9,  -999.00,9,  -999.00,9,  26.3939,2,  23.1549,2,  26.4238,2
49UP20220727_1,    P9,    24,  1,     31,     320,2,20220812,2323,0145,  4.5133, 137.0158, 4905,    205.3,      204,  14.8328,  34.5525,2,    137.7,2,  34.5604,2,   137.91,2,    15.45,2,    14.97,2,     0.01,2,    1.110,2, -999.000,9, -999.000,9,   -999.0,9,   -999.0,9,-999.0000,9,  -999.00, -999.000,9,  -999.00,9,  -999.00,9,  14.8020,2,  25.6701,2,  14.8961,2
49UP20220727_1,    P9,    24,  1,     30,     319,2,20220812,2323,0142,  4.5133, 137.0158, 4905,    254.2,      253,  10.4326,  34.4357,2,    103.4,2,  34.4431,2,   102.09,6,    31.75,6,    25.97,6,     0.00,6,    1.880,6, -999.000,9, -999.000,9,   -999.0,9,   -999.0,9,-999.0000,9,  -999.00, -999.000,9,  -999.00,9,  -999.00,9,  10.4024,2,  26.4420,2,  10.4315,2
49UP20220727_1,    P9,    24,  1,     29,     318,2,20220812,2323,0141,  4.5133, 137.0158, 4905,    286.9,      285,   9.6849,  34.5571,2,     69.2,2,  34.5582,2,    70.12,2,    34.90,2,    30.82,2,     0.00,2,    2.210,2, -999.000,9, -999.000,9,   -999.0,9,   -999.0,9,-999.0000,9,  -999.00, -999.000,9,  -999.00,9,  -999.00,9,   9.6523,2,  26.6647,2,   9.6908,2
49UP20220727_1,    P9,    24,  1,     28,     755,2,20220812,2323,0139,  4.5133, 137.0158, 4905,    327.4,      325,   9.0200,  34.5818,2,     71.3,2,  34.5822,2,    71.38,2,    36.76,2,    32.32,2,     0.00,2,    2.290,2, -999.000,9, -999.000,9,   -999.0,9,   -999.0,9,-999.0000,9,  -999.00, -999.000,9,  -999.00,9,  -999.00,9,   8.9843,2,  26.7931,2,   9.0242,2
49UP20220727_1,    P9,    24,  1,     27,     317,2,20220812,2323,0137,  4.5133, 137.0158, 4905,    373.2,      371,   8.4278,  34.5782,2,     85.5,2,  34.5792,2,    85.78,2,    37.77,2,    32.30,2,     0.00,2,    2.280,2, -999.000,9, -999.000,9,   -999.0,9,   -999.0,9,-999.0000,9,  -999.00, -999.000,9,  -999.00,9,  -999.00,9,   8.3887,2,  26.8837,2,   8.4287,2
49UP20220727_1,    P9,    24,  1,     26,     316,2,20220812,2323,0135,  4.5133, 137.0158, 4905,    425.1,      422,   8.0914,  34.5709,2,     91.8,2,  34.5712,2,    92.22,2,    38.74,2,    32.37,2,     0.00,2,    2.280,2, -999.000,9, -999.000,9,   -999.0,9,   -999.0,9,-999.0000,9,  -999.00, -999.000,9,  -999.00,9,  -999.00,9,   8.0477,2,  26.9297,2,   8.0914,2
49UP20220727_1,    P9,    24,  1,     25,     315,2,20220812,2323,0133,  4.5133, 137.0158, 4905,    475.1,      472,   7.6484,  34.5536,2,     85.6,2,  34.5538,2,    86.29,2,    43.98,2,    33.76,2,     0.00,2,    2.390,2, -999.000,9, -999.000,9,   -999.0,9,   -999.0,9,-999.0000,9,  -999.00, -999.000,9,  -999.00,9,  -999.00,9,   7.6010,2,  26.9820,2,   7.6482,2
49UP20220727_1,    P9,    24,  1,     24,     753,2,20220812,2323,0129,  4.5133, 137.0158, 4905,    575.5,      572,   7.1641,  34.5440,2,     86.3,2,  34.5445,2,    86.59,2,    48.19,2,    34.68,2,     0.00,2,    2.460,2, -999.000,9, -999.000,9,   -999.0,9,   -999.0,9,-999.0000,9,  -999.00, -999.000,9,  -999.00,9,  -999.00,9,   7.1084,2,  27.0445,2,   7.1637,2
49UP20220727_1,    P9,    24,  1,     23,     314,2,20220812,2323,0126,  4.5133, 137.0158, 4905,    676.6,      672,   6.4913,  34.5375,2,     83.7,2,  34.5376,2,    83.66,2,    55.20,2,    36.32,2,     0.00,2,    2.590,2, -999.000,9, -999.000,9,   -999.0,9,   -999.0,9,-999.0000,9,  -999.00, -999.000,9,  -999.00,9,  -999.00,9,   6.4288,2,  27.1316,2,   6.4912,2
49UP20220727_1,    P9,    24,  1,     22,     313,2,20220812,2323,0123,  4.5133, 137.0158, 4905,    777.7,      772,   5.6971,  34.5316,2,     95.8,2,  34.5313,2,    95.39,2,    64.55,2,    36.51,2,     0.00,2,    2.600,2, -999.000,9, -999.000,9,   -999.0,9,   -999.0,9,-999.0000,9,  -999.00, -999.000,9,  -999.00,9,  -999.00,9,   5.6294,2,  27.2288,2,   5.6967,2
49UP20220727_1,    P9,    24,  1,     21,     312,2,20220812,2323,0120,  4.5133, 137.0158, 4905,    878.7,      872,   5.1879,  34.5371,2,     95.8,2,  34.5373,2,    96.01,2,    74.56,2,    37.02,2,     0.00,2,    2.640,2, -999.000,9, -999.000,9,   -999.0,9,   -999.0,9,-999.0000,9,  -999.00, -999.000,9,  -999.00,9,  -999.00,9,   5.1142,2,  27.2950,2,   5.1877,2
49UP20220727_1,    P9,    24,  1,     20,     311,2,20220812,2323,0116,  4.5133, 137.0158, 4905,    979.5,      972,   4.6888,  34.5480,2,     93.6,2,  34.5478,2,    93.44,2,    84.59,2,    37.91,2,     0.00,2,    2.700,2, -999.000,9, -999.000,9,   -999.0,9,   -999.0,9,-999.0000,9,  -999.00, -999.000,9,  -999.00,9,  -999.00,9,   4.6096,2,  27.3611,2,   4.6888,2
49UP20220727_1,    P9,    24,  1,     19,     310,2,20220812,2323,0111,  4.5133, 137.0158, 4905,   1140.0,     1131,   4.0057,  34.5659,2,     94.3,2,  34.5662,2,    94.44,6,    99.95,6,    38.47,6,     0.00,6,    2.750,6, -999.000,9, -999.000,9,   -999.0,9,   -999.0,9,-999.0000,9,  -999.00, -999.000,9,  -999.00,9,  -999.00,9,   3.9181,2,  27.4493,2,   4.0055,2
49UP20220727_1,    P9,    24,  1,     18,     752,2,20220812,2323,0105,  4.5133, 137.0158, 4905,   1343.1,     1331,   3.5222,  34.5804,2,     97.0,2,  34.5809,6,    96.90,2,   110.25,2,    38.67,2,     0.00,2,    2.760,2, -999.000,9, -999.000,9,   -999.0,9,   -999.0,9,-999.0000,9,  -999.00, -999.000,9,  -999.00,9,  -999.00,9,   3.4218,2,  27.5104,2,   3.5221,2
49UP20220727_1,    P9,    24,  1,     17,     751,2,20220812,2323,0100,  4.5133, 137.0158, 4905,   1546.4,     1532,   2.9806,  34.5991,2,    100.6,2,  34.5997,2,   100.87,2,   122.95,2,    38.83,2,     0.00,2,    2.760,2, -999.000,9, -999.000,9,   -999.0,9,   -999.0,9,-999.0000,9,  -999.00, -999.000,9,  -999.00,9,  -999.00,9,   2.8691,2,  27.5770,2,   2.9803,2
49UP20220727_1,    P9,    24,  1,     16,     328,2,20220812,2323,0055,  4.5133, 137.0158, 4905,   1749.3,     1732,   2.6092,  34.6157,2,    104.9,2,  34.6162,2,   105.19,2,   131.03,2,    38.81,2,     0.00,2,    2.750,2, -999.000,9, -999.000,9,   -999.0,9,   -999.0,9,-999.0000,9,  -999.00, -999.000,9,  -999.00,9,  -999.00,9,   2.4852,2,  27.6239,2,   2.6092,2
49UP20220727_1,    P9,    24,  1,     15,     309,2,20220812,2323,0050,  4.5133, 137.0158, 4905,   1951.9,     1932,   2.2821,  34.6316,2,    112.1,2,  34.6322,2,   113.23,3,   137.65,2,    38.47,2,     0.00,2,    2.720,2, -999.000,9, -999.000,9,   -999.0,9,   -999.0,9,-999.0000,9,  -999.00, -999.000,9,  -999.00,9,  -999.00,9,   2.1455,2,  27.6648,2,   2.2820,2
49UP20220727_1,    P9,    24,  1,     14,     326,2,20220812,2323,0045,  4.5133, 137.0158, 4905,   2154.1,     2131,   2.0771,  34.6424,2,    118.4,2,  34.6429,2,   118.73,2,   141.03,2,    38.11,2,     0.00,2,    2.690,2, -999.000,9, -999.000,9,   -999.0,9,   -999.0,9,-999.0000,9,  -999.00, -999.000,9,  -999.00,9,  -999.00,9,   1.9263,2,  27.6910,2,   2.0770,2
49UP20220727_1,    P9,    24,  1,     13,     325,2,20220812,2323,0039,  4.5133, 137.0158, 4905,   2358.1,     2332,   1.9344,  34.6504,2,    123.8,2,  34.6508,2,   124.18,2,   142.97,2,    37.77,2,     0.00,2,    2.660,2, -999.000,9, -999.000,9,   -999.0,9,   -999.0,9,-999.0000,9,  -999.00, -999.000,9,  -999.00,9,  -999.00,9,   1.7681,2,  27.7096,2,   1.9344,2
49UP20220727_1,    P9,    24,  1,     12,     324,2,20220812,2323,0034,  4.5133, 137.0158, 4905,   2561.1,     2532,   1.7929,  34.6578,2,    131.3,2,  34.6579,2,   131.34,2,   143.71,2,    37.32,2,     0.00,2,    2.610,2, -999.000,9, -999.000,9,   -999.0,9,   -999.0,9,-999.0000,9,  -999.00, -999.000,9,  -999.00,9,  -999.00,9,   1.6109,2,  27.7274,2,   1.7927,2
49UP20220727_1,    P9,    24,  1,     11,     323,2,20220812,2323,0029,  4.5133, 137.0158, 4905,   2764.6,     2731,   1.6732,  34.6649,2,    137.7,2,  34.6649,2,   137.63,2,   144.43,2,    36.90,2,     0.00,2,    2.580,2, -999.000,9, -999.000,9,   -999.0,9,   -999.0,9,-999.0000,9,  -999.00, -999.000,9,  -999.00,9,  -999.00,9,   1.4750,2,  27.7431,2,   1.6732,2
49UP20220727_1,    P9,    24,  1,     10,     322,2,20220812,2323,0022,  4.5133, 137.0158, 4905,   2969.5,     2932,   1.6112,  34.6692,2,    141.8,2,  34.6691,2,   141.82,2,   144.52,2,    36.61,2,     0.00,2,    2.560,2, -999.000,9, -999.000,9,   -999.0,9,   -999.0,9,-999.0000,9,  -999.00, -999.000,9,  -999.00,9,  -999.00,9,   1.3949,2,  27.7523,2,   1.6111,2
49UP20220727_1,    P9,    24,  1,      9,     750,2,20220812,2323,0015,  4.5133, 137.0158, 4905,   3213.1,     3171,   1.5780,  34.6725,2,    145.3,2,  34.6729,2,   145.43,2,   144.35,2,    36.45,2,     0.00,2,    2.540,2, -999.000,9, -999.000,9,   -999.0,9,   -999.0,9,-999.0000,9,  -999.00, -999.000,9,  -999.00,9,  -999.00,9,   1.3388,2,  27.7589,2,   1.5780,2
49UP20220727_1,    P9,    24,  1,      8,     320,2,20220812,2323,0006,  4.5133, 137.0158, 4905,   3470.7,     3423,   1.5615,  34.6753,2,    147.8,2,  34.6759,2,   147.79,2,   144.21,2,    36.28,2,     0.00,2,    2.530,2, -999.000,9, -999.000,9,   -999.0,9,   -999.0,9,-999.0000,9,  -999.00, -999.000,9,  -999.00,9,  -999.00,9,   1.2968,2,  27.7642,2,   1.5614,2
49UP20220727_1,    P9,    24,  1,      7,     319,2,20220812,2323,2359,  4.5133, 137.0158, 4905,   3726.0,     3673,   1.5442,  34.6787,2,    150.5,2,  34.6784,2,   150.67,2,   143.96,2,    36.09,2,     0.00,2,    2.520,2, -999.000,9, -999.000,9,   -999.0,9,   -999.0,9,-999.0000,9,  -999.00, -999.000,9,  -999.00,9,  -999.00,9,   1.2535,2,  27.7699,2,   1.5442,2
49UP20220727_1,    P9,    24,  1,      6,     318,2,20220812,2323,2350,  4.5133, 137.0158, 4905,   3980.9,     3922,   1.5260,  34.6821,2,    153.9,2,  34.6823,6,   154.72,2,   143.20,2,    35.87,2,     0.00,2,    2.500,2, -999.000,9, -999.000,9,   -999.0,9,   -999.0,9,-999.0000,9,  -999.00, -999.000,9,  -999.00,9,  -999.00,9,   1.2085,2,  27.7758,2,   1.5260,2
49UP20220727_1,    P9,    24,  1,      5,     838,2,20220812,2323,2343,  4.5133, 137.0158, 4905,   4236.1,     4171,   1.5255,  34.6847,2,    155.7,2,  34.6853,2,   155.73,2,   143.11,2,    35.79,2,     0.00,2,    2.480,2, -999.000,9, -999.000,9,   -999.0,9,   -999.0,9,-999.0000,9,  -999.00, -999.000,9,  -999.00,9,  -999.00,9,   1.1798,2,  27.7798,2,   1.5255,2
49UP20220727_1,    P9,    24,  1,      4,     316,2,20220812,2323,2335,  4.5133, 137.0158, 4905,   4492.7,     4421,   1.5262,  34.6864,2,    158.8,2,  34.6869,2,   159.07,2,   141.79,2,    35.56,2,     0.00,2,    2.470,2, -999.000,9, -999.000,9,   -999.0,9,   -999.0,9,-999.0000,9,  -999.00, -999.000,9,  -999.00,9,  -999.00,9,   1.1512,2,  27.7831,2,   1.5262,2
49UP20220727_1,    P9,    24,  1,      2,     314,2,20220812,2323,2330,  4.5133, 137.0158, 4905,   4749.4,     4671,   1.5474,  34.6870,2,    160.0,2,  34.6875,2,   160.02,2,   141.49,2,    35.44,2,     0.00,2,    2.460,2, -999.000,9, -999.000,9,   -999.0,9,   -999.0,9,-999.0000,9,  -999.00, -999.000,9,  -999.00,9,  -999.00,9,   1.1418,2,  27.7843,2,   1.5474,2
49UP20220727_1,    P9,    24,  1,      3,     315,2,20220812,2323,2330,  4.5133, 137.0158, 4905,   4749.6,     4671,   1.5475,  34.6870,2,    160.0,2,  34.6871,2,   159.84,2,   141.42,2,    35.47,2,     0.00,2,    2.460,2, -999.000,9, -999.000,9,   -999.0,9,   -999.0,9,-999.0000,9,  -999.00, -999.000,9,  -999.00,9,  -999.00,9,   1.1418,2,  27.7843,2,   1.5475,2
49UP20220727_1,    P9,    24,  1,      1,     308,2,20220812,2323,2324,  4.5133, 137.0158, 4905,   5012.9,     4927,   1.5760,  34.6875,2,    160.6,2,  34.6875,6,   160.93,6,   141.18,6,    35.46,6,     0.00,6,    2.460,6, -999.000,9, -999.000,9,   -999.0,9,   -999.0,9,-999.0000,9,  -999.00, -999.000,9,  -999.00,9,  -999.00,9,   1.1376,2,  27.7849,2,   1.5759,2