BOTTLE,20230330JMAAMD
EXPOCODE,SECT_ID,STNNBR,CASTNO,SAMPNO,BTLNBR,BTLNBR_FLAG_U,DATE,TIME,BTL_TIME,LATITUDE,LONGITUDE,DEPTH,CTDPRS,CTDDEP,CTDTMP,CTDSAL,CTDSAL_FLAG_W,CTDOXY,CTDOXY_FLAG_W,SALNTY,SALNTY_FLAG_W,OXYGEN,OXYGEN_FLAG_W,SILCAT,SILCAT_FLAG_W,NO2+NO3,NO2+NO3_FLAG_W,NITRIT,NITRIT_FLAG_W,PHSPHT,PHSPHT_FLAG_W,CFC-11,CFC-11_FLAG_W,CFC-12,CFC-12_FLAG_W,TCARBN,TCARBN_FLAG_W,ALKALI,ALKALI_FLAG_W,PH_TS,PH_TS_FLAG_W,PH_TS_TMP,CFC113,CFC113_FLAG_W,CHLORA,CHLORA_FLAG_W,PPHYTN,PPHYTN_FLAG_W,THETA,THETA_FLAG_W,SIGTHT,SIGTHT_FLAG_W,SBE35,SBE35_FLAG_W
,,,,,,,,UTC,,,,METER,DBAR,METERS,ITS-90,PSS-78,,UMOL/KG,,PSS78,,UMOL/KG,,UMOL/KG,,UMOL/KG,,UMOL/KG,,UMOL/KG,,PMOL/KG,,PMOL/KG,,UMOL/KG,,UMOL/KG,,,,ITS-90,PMOL/KG,,UG/KG,,UG/KG,,ITS-90,,KG/M3,,ITS-90,
49UP20220824_1,    P9,    38,  1,      0,      -9,0,20220903,1305,1450,  9.4998, 136.9887, 4744,      0.0,        0,  30.2869,  33.8963,2,    193.5,2,-999.0000,9,   194.11,2,     1.31,2,     0.02,2,     0.00,2,    0.070,2, -999.000,9, -999.000,9,   -999.0,9,   -999.0,9,-999.0000,9,  -999.00, -999.000,9,  -999.00,9,  -999.00,9,  30.2864,2,  20.8013,2,-999.0000,9
49UP20220824_1,    P9,    38,  1,     36,     757,2,20220903,1305,1520,  9.4998, 136.9887, 4744,     11.0,       11,  30.2956,  33.8965,2,    193.6,2,  33.8968,2,   194.26,2,     1.28,2,     0.02,2,     0.00,2,    0.060,2, -999.000,9, -999.000,9,   -999.0,9,   -999.0,9,-999.0000,9,  -999.00, -999.000,9,  -999.00,9,  -999.00,9,  30.2928,2,  20.7992,2,  30.2964,2
49UP20220824_1,    P9,    38,  1,     35,     756,2,20220903,1305,1519,  9.4998, 136.9887, 4744,     26.0,       26,  30.2910,  33.8938,2,    193.9,2,  33.8915,2,   194.43,2,     1.24,2,     0.00,2,     0.00,2,    0.060,2, -999.000,9, -999.000,9,   -999.0,9,   -999.0,9,-999.0000,9,  -999.00, -999.000,9,  -999.00,9,  -999.00,9,  30.2845,2,  20.8000,2,  30.2912,2
49UP20220824_1,    P9,    38,  1,     34,     323,2,20220903,1305,1515,  9.4998, 136.9887, 4744,     50.6,       50,  29.9860,  33.9246,2,    196.1,2,  33.9245,2,   196.41,2,     1.30,2,     0.01,2,     0.00,2,    0.060,2, -999.000,9, -999.000,9,   -999.0,9,   -999.0,9,-999.0000,9,  -999.00, -999.000,9,  -999.00,9,  -999.00,9,  29.9735,2,  20.9292,2,  29.9898,2
49UP20220824_1,    P9,    38,  1,     33,     322,2,20220903,1305,1513,  9.4998, 136.9887, 4744,     75.9,       75,  29.9748,  34.1730,2,    199.0,2,  34.1869,2,   198.69,6,     1.26,2,     0.01,2,     0.00,2,    0.080,2, -999.000,9, -999.000,9,   -999.0,9,   -999.0,9,-999.0000,9,  -999.00, -999.000,9,  -999.00,9,  -999.00,9,  29.9560,2,  21.1213,2,  29.9750,2
49UP20220824_1,    P9,    38,  1,     32,     321,2,20220903,1305,1511,  9.4998, 136.9887, 4744,    100.8,      100,  28.4934,  34.5380,2,    195.0,2,  34.5426,2,   194.40,2,     1.51,2,     0.03,2,     0.00,2,    0.120,2, -999.000,9, -999.000,9,   -999.0,9,   -999.0,9,-999.0000,9,  -999.00, -999.000,9,  -999.00,9,  -999.00,9,  28.4694,2,  21.8933,2,  28.4708,2
49UP20220824_1,    P9,    38,  1,     31,     320,2,20220903,1305,1510,  9.4998, 136.9887, 4744,    127.4,      127,  25.4787,  34.6859,2,    173.6,2,  34.6838,2,   173.84,2,     2.94,2,     1.91,2,     0.24,2,    0.290,2, -999.000,9, -999.000,9,   -999.0,9,   -999.0,9,-999.0000,9,  -999.00, -999.000,9,  -999.00,9,  -999.00,9,  25.4507,2,  22.9663,2,  25.4905,2
49UP20220824_1,    P9,    38,  1,     30,     319,2,20220903,1305,1508,  9.4998, 136.9887, 4744,    151.9,      151,  20.6245,  34.7201,2,    158.8,2,  34.7192,2,   159.70,2,     5.73,2,     5.97,2,     0.03,2,    0.560,2, -999.000,9, -999.000,9,   -999.0,9,   -999.0,9,-999.0000,9,  -999.00, -999.000,9,  -999.00,9,  -999.00,9,  20.5959,2,  24.3899,2,  20.6248,2
49UP20220824_1,    P9,    38,  1,     29,     318,2,20220903,1305,1506,  9.4998, 136.9887, 4744,    201.7,      200,  15.1742,  34.5435,2,    142.3,2,  34.5439,2,   142.59,2,    13.97,2,    13.78,2,     0.00,2,    1.060,2, -999.000,9, -999.000,9,   -999.0,9,   -999.0,9,-999.0000,9,  -999.00, -999.000,9,  -999.00,9,  -999.00,9,  15.1435,2,  25.5884,2,  15.1716,2
49UP20220824_1,    P9,    38,  1,     28,     755,2,20220903,1305,1504,  9.4998, 136.9887, 4744,    251.4,      250,  11.3168,  34.3315,2,    135.9,2,  34.3316,2,   135.63,2,    24.36,2,    20.17,2,     0.00,2,    1.500,2, -999.000,9, -999.000,9,   -999.0,9,   -999.0,9,-999.0000,9,  -999.00, -999.000,9,  -999.00,9,  -999.00,9,  11.2854,2,  26.2031,2,  11.3201,2
49UP20220824_1,    P9,    38,  1,     27,     317,2,20220903,1305,1501,  9.4998, 136.9887, 4744,    304.1,      302,   9.9495,  34.4322,2,     94.5,2,  34.4301,2,    94.70,2,    34.57,2,    27.42,2,     0.00,2,    1.990,2, -999.000,9, -999.000,9,   -999.0,9,   -999.0,9,-999.0000,9,  -999.00, -999.000,9,  -999.00,9,  -999.00,9,   9.9144,2,  26.5230,2,   9.9497,2
49UP20220824_1,    P9,    38,  1,     26,     316,2,20220903,1305,1459,  9.4998, 136.9887, 4744,    352.5,      350,   8.5752,  34.4081,2,     81.4,2,  34.4082,2,    81.83,2,    43.74,2,    31.10,2,     0.00,2,    2.260,2, -999.000,9, -999.000,9,   -999.0,9,   -999.0,9,-999.0000,9,  -999.00, -999.000,9,  -999.00,9,  -999.00,9,   8.5379,2,  26.7273,2,   8.5742,2
49UP20220824_1,    P9,    38,  1,     25,     315,2,20220903,1305,1457,  9.4998, 136.9887, 4744,    404.1,      401,   7.8303,  34.4505,2,     85.2,2,  34.4499,2,    85.25,2,    48.64,2,    32.43,2,     0.00,2,    2.330,2, -999.000,9, -999.000,9,   -999.0,9,   -999.0,9,-999.0000,9,  -999.00, -999.000,9,  -999.00,9,  -999.00,9,   7.7897,2,  26.8734,2,   7.8301,2
49UP20220824_1,    P9,    38,  1,     24,     753,2,20220903,1305,1455,  9.4998, 136.9887, 4744,    455.2,      452,   7.3895,  34.4728,2,     95.1,2,  34.4718,2,    94.95,6,    50.03,6,    32.63,6,     0.00,6,    2.340,6, -999.000,9, -999.000,9,   -999.0,9,   -999.0,9,-999.0000,9,  -999.00, -999.000,9,  -999.00,9,  -999.00,9,   7.3451,2,  26.9552,2,   7.3900,2
49UP20220824_1,    P9,    38,  1,     23,     314,2,20220903,1305,1452,  9.4998, 136.9887, 4744,    504.6,      501,   7.1377,  34.4949,2,    103.5,2,  34.4945,2,   103.22,2,    49.56,2,    32.60,2,     0.00,2,    2.330,2, -999.000,9, -999.000,9,   -999.0,9,   -999.0,9,-999.0000,9,  -999.00, -999.000,9,  -999.00,9,  -999.00,9,   7.0893,2,  27.0085,2,   7.1380,2
49UP20220824_1,    P9,    38,  1,     22,     313,2,20220903,1305,1449,  9.4998, 136.9887, 4744,    604.6,      600,   6.4048,  34.5036,2,     95.8,2,  34.5034,2,    95.98,2,    58.33,2,    34.69,2,     0.00,2,    2.480,2, -999.000,9, -999.000,9,   -999.0,9,   -999.0,9,-999.0000,9,  -999.00, -999.000,9,  -999.00,9,  -999.00,9,   6.3496,2,  27.1153,2,   6.4047,2
49UP20220824_1,    P9,    38,  1,     21,     312,2,20220903,1305,1446,  9.4998, 136.9887, 4744,    706.6,      701,   5.9541,  34.5177,2,     93.6,2,  34.5176,2,    93.52,2,    64.90,2,    35.75,2,     0.00,2,    2.560,2, -999.000,9, -999.000,9,   -999.0,9,   -999.0,9,-999.0000,9,  -999.00, -999.000,9,  -999.00,9,  -999.00,9,   5.8915,2,  27.1852,2,   5.9551,2
49UP20220824_1,    P9,    38,  1,     20,     311,2,20220903,1305,1443,  9.4998, 136.9887, 4744,    806.0,      800,   5.4282,  34.5246,2,     86.4,2,  34.5242,2,    86.95,2,    75.38,2,    37.13,2,     0.00,2,    2.660,2, -999.000,9, -999.000,9,   -999.0,9,   -999.0,9,-999.0000,9,  -999.00, -999.000,9,  -999.00,9,  -999.00,9,   5.3595,2,  27.2560,2,   5.4275,2
49UP20220824_1,    P9,    38,  1,     19,     310,2,20220903,1305,1440,  9.4998, 136.9887, 4744,    908.0,      901,   5.0316,  34.5364,2,     85.7,2,  34.5362,6,    85.51,2,    82.63,2,    37.68,2,     0.00,2,    2.710,2, -999.000,9, -999.000,9,   -999.0,9,   -999.0,9,-999.0000,9,  -999.00, -999.000,9,  -999.00,9,  -999.00,9,   4.9562,2,  27.3128,2,   5.0337,2
49UP20220824_1,    P9,    38,  1,     18,     752,2,20220903,1305,1437,  9.4998, 136.9887, 4744,   1009.6,     1001,   4.5739,  34.5474,2,     87.2,2,  34.5467,2,    87.69,2,    91.51,2,    38.23,2,     0.00,2,    2.740,2, -999.000,9, -999.000,9,   -999.0,9,   -999.0,9,-999.0000,9,  -999.00, -999.000,9,  -999.00,9,  -999.00,9,   4.4930,2,  27.3735,2,   4.5738,2
49UP20220824_1,    P9,    38,  1,     17,     751,2,20220903,1305,1432,  9.4998, 136.9887, 4744,   1212.7,     1202,   3.6631,  34.5702,2,     90.8,2,  34.5686,2,    91.03,2,   110.50,2,    38.79,2,     0.00,2,    2.780,2, -999.000,9, -999.000,9,   -999.0,9,   -999.0,9,-999.0000,9,  -999.00, -999.000,9,  -999.00,9,  -999.00,9,   3.5725,2,  27.4875,2,   3.6633,2
49UP20220824_1,    P9,    38,  1,     16,     328,2,20220903,1305,1427,  9.4998, 136.9887, 4744,   1415.0,     1402,   3.1209,  34.5901,2,     97.2,2,  34.5896,2,    97.45,2,   121.08,2,    38.79,2,     0.00,2,    2.770,2, -999.000,9, -999.000,9,   -999.0,9,   -999.0,9,-999.0000,9,  -999.00, -999.000,9,  -999.00,9,  -999.00,9,   3.0188,2,  27.5561,2,   3.1208,2
49UP20220824_1,    P9,    38,  1,     15,     309,2,20220903,1305,1422,  9.4998, 136.9887, 4744,   1617.5,     1602,   2.6520,  34.6101,2,    104.8,2,  34.6102,2,   104.89,6,   129.86,6,    38.63,6,     0.00,6,    2.750,6, -999.000,9, -999.000,9,   -999.0,9,   -999.0,9,-999.0000,9,  -999.00, -999.000,9,  -999.00,9,  -999.00,9,   2.5385,2,  27.6149,2,   2.6517,2
49UP20220824_1,    P9,    38,  1,     14,     326,2,20220903,1305,1418,  9.4998, 136.9887, 4744,   1816.6,     1799,   2.3407,  34.6240,2,    110.5,2,  34.6242,2,   110.78,2,   136.34,2,    38.38,2,     0.00,2,    2.720,2, -999.000,9, -999.000,9,   -999.0,9,   -999.0,9,-999.0000,9,  -999.00, -999.000,9,  -999.00,9,  -999.00,9,   2.2147,2,  27.6532,2,   2.3436,2
49UP20220824_1,    P9,    38,  1,     13,     325,2,20220903,1305,1413,  9.4998, 136.9887, 4744,   2023.6,     2003,   2.1572,  34.6338,2,    115.5,2,  34.6336,6,   115.85,2,   139.47,2,    38.26,2,     0.00,2,    2.700,2, -999.000,9, -999.000,9,   -999.0,9,   -999.0,9,-999.0000,9,  -999.00, -999.000,9,  -999.00,9,  -999.00,9,   2.0163,2,  27.6770,2,   2.1572,2
49UP20220824_1,    P9,    38,  1,     12,     324,2,20220903,1305,1407,  9.4998, 136.9887, 4744,   2226.0,     2202,   1.9132,  34.6477,2,    124.5,2,  34.6478,2,   124.54,2,   142.70,2,    37.81,2,     0.00,2,    2.650,2, -999.000,9, -999.000,9,   -999.0,9,   -999.0,9,-999.0000,9,  -999.00, -999.000,9,  -999.00,9,  -999.00,9,   1.7588,2,  27.7081,2,   1.9132,2
49UP20220824_1,    P9,    38,  1,     11,     323,2,20220903,1305,1402,  9.4998, 136.9887, 4744,   2429.3,     2402,   1.7970,  34.6546,2,    129.6,2,  34.6546,2,   129.50,2,   144.02,2,    37.34,2,     0.00,2,    2.630,2, -999.000,9, -999.000,9,   -999.0,9,   -999.0,9,-999.0000,9,  -999.00, -999.000,9,  -999.00,9,  -999.00,9,   1.6268,2,  27.7237,2,   1.7968,2
49UP20220824_1,    P9,    38,  1,     10,     322,2,20220903,1305,1357,  9.4998, 136.9887, 4744,   2634.5,     2603,   1.7003,  34.6608,2,    134.5,2,  34.6605,2,   134.56,2,   144.80,2,    37.02,2,     0.00,2,    2.600,2, -999.000,9, -999.000,9,   -999.0,9,   -999.0,9,-999.0000,9,  -999.00, -999.000,9,  -999.00,9,  -999.00,9,   1.5135,2,  27.7370,2,   1.7005,2
49UP20220824_1,    P9,    38,  1,      9,     750,2,20220903,1305,1352,  9.4998, 136.9887, 4744,   2836.9,     2802,   1.6432,  34.6652,2,    138.8,2,  34.6653,2,   138.98,2,   144.69,2,    36.72,2,     0.00,2,    2.580,2, -999.000,9, -999.000,9,   -999.0,9,   -999.0,9,-999.0000,9,  -999.00, -999.000,9,  -999.00,9,  -999.00,9,   1.4388,2,  27.7459,2,   1.6433,2
49UP20220824_1,    P9,    38,  1,      8,     320,2,20220903,1305,1347,  9.4998, 136.9887, 4744,   3041.6,     3003,   1.5868,  34.6701,2,    143.5,2,  34.6699,2,   143.66,2,   144.13,2,    36.44,2,     0.00,2,    2.550,2, -999.000,9, -999.000,9,   -999.0,9,   -999.0,9,-999.0000,9,  -999.00, -999.000,9,  -999.00,9,  -999.00,9,   1.3642,2,  27.7552,2,   1.5868,2
49UP20220824_1,    P9,    38,  1,      7,     319,2,20220903,1305,1341,  9.4998, 136.9887, 4744,   3293.8,     3250,   1.5535,  34.6738,2,    147.6,2,  34.6737,6,   147.40,2,   143.53,2,    36.21,2,     0.00,2,    2.530,2, -999.000,9, -999.000,9,   -999.0,9,   -999.0,9,-999.0000,9,  -999.00, -999.000,9,  -999.00,9,  -999.00,9,   1.3069,2,  27.7622,2,   1.5533,2
49UP20220824_1,    P9,    38,  1,      6,     318,2,20220903,1305,1336,  9.4998, 136.9887, 4744,   3552.5,     3503,   1.5371,  34.6772,2,    150.9,2,  34.6765,2,   150.99,6,   142.83,6,    36.01,6,     0.00,6,    2.520,6, -999.000,9, -999.000,9,   -999.0,9,   -999.0,9,-999.0000,9,  -999.00, -999.000,9,  -999.00,9,  -999.00,9,   1.2647,2,  27.7679,2,   1.5371,2
49UP20220824_1,    P9,    38,  1,      5,     838,2,20220903,1305,1330,  9.4998, 136.9887, 4744,   3806.5,     3751,   1.5345,  34.6794,2,    153.4,2,  34.6790,2,   153.57,2,   142.16,2,    35.76,2,     0.00,2,    2.500,2, -999.000,9, -999.000,9,   -999.0,9,   -999.0,9,-999.0000,9,  -999.00, -999.000,9,  -999.00,9,  -999.00,9,   1.2356,2,  27.7717,2,   1.5344,2
49UP20220824_1,    P9,    38,  1,      4,     316,2,20220903,1305,1324,  9.4998, 136.9887, 4744,   4062.6,     4001,   1.5317,  34.6818,2,    156.0,2,  34.6812,2,   156.00,2,   141.38,2,    35.56,2,     0.00,2,    2.490,2, -999.000,9, -999.000,9,   -999.0,9,   -999.0,9,-999.0000,9,  -999.00, -999.000,9,  -999.00,9,  -999.00,9,   1.2051,2,  27.7757,2,   1.5317,2
49UP20220824_1,    P9,    38,  1,      3,     315,2,20220903,1305,1318,  9.4998, 136.9887, 4744,   4318.7,     4251,   1.5437,  34.6831,2,    157.6,2,  34.6827,6,   157.69,2,   140.87,2,    35.52,2,     0.00,2,    2.480,2, -999.000,9, -999.000,9,   -999.0,9,   -999.0,9,-999.0000,9,  -999.00, -999.000,9,  -999.00,9,  -999.00,9,   1.1882,2,  27.7780,2,   1.5436,2
49UP20220824_1,    P9,    38,  1,      2,     314,2,20220903,1305,1312,  9.4998, 136.9887, 4744,   4575.6,     4501,   1.5535,  34.6845,2,    159.4,2,  34.6848,2,   159.93,2,   140.25,2,    35.40,2,     0.00,2,    2.470,2, -999.000,9, -999.000,9,   -999.0,9,   -999.0,9,-999.0000,9,  -999.00, -999.000,9,  -999.00,9,  -999.00,9,   1.1682,2,  27.7805,2,   1.5535,2
49UP20220824_1,    P9,    38,  1,      1,     308,2,20220903,1305,1306,  9.4998, 136.9887, 4744,   4820.2,     4740,   1.5808,  34.6846,2,    159.8,2,  34.6843,2,   159.68,2,   140.25,2,    35.42,2,     0.00,2,    2.470,2, -999.000,9, -999.000,9,   -999.0,9,   -999.0,9,-999.0000,9,  -999.00, -999.000,9,  -999.00,9,  -999.00,9,   1.1656,2,  27.7807,2,   1.5805,2