BOTTLE,20230330JMAAMD
EXPOCODE,SECT_ID,STNNBR,CASTNO,SAMPNO,BTLNBR,BTLNBR_FLAG_U,DATE,TIME,BTL_TIME,LATITUDE,LONGITUDE,DEPTH,CTDPRS,CTDDEP,CTDTMP,CTDSAL,CTDSAL_FLAG_W,CTDOXY,CTDOXY_FLAG_W,SALNTY,SALNTY_FLAG_W,OXYGEN,OXYGEN_FLAG_W,SILCAT,SILCAT_FLAG_W,NO2+NO3,NO2+NO3_FLAG_W,NITRIT,NITRIT_FLAG_W,PHSPHT,PHSPHT_FLAG_W,CFC-11,CFC-11_FLAG_W,CFC-12,CFC-12_FLAG_W,TCARBN,TCARBN_FLAG_W,ALKALI,ALKALI_FLAG_W,PH_TS,PH_TS_FLAG_W,PH_TS_TMP,CFC113,CFC113_FLAG_W,CHLORA,CHLORA_FLAG_W,PPHYTN,PPHYTN_FLAG_W,THETA,THETA_FLAG_W,SIGTHT,SIGTHT_FLAG_W,SBE35,SBE35_FLAG_W
,,,,,,,,UTC,,,,METER,DBAR,METERS,ITS-90,PSS-78,,UMOL/KG,,PSS78,,UMOL/KG,,UMOL/KG,,UMOL/KG,,UMOL/KG,,UMOL/KG,,PMOL/KG,,PMOL/KG,,UMOL/KG,,UMOL/KG,,,,ITS-90,PMOL/KG,,UG/KG,,UG/KG,,ITS-90,,KG/M3,,ITS-90,
49UP20220727_1,    P9,     8,  1,      0,      -9,0,20220807,0944,1054,  0.4865, 141.9825, 3313,      0.0,        0,  29.6529,  35.2024,2,    198.3,2,-999.0000,9,   197.57,2,     1.26,2,     0.57,2,     0.05,2,    0.260,2, -999.000,9, -999.000,9,   -999.0,9,   -999.0,9,-999.0000,9,  -999.00, -999.000,9,  -999.00,9,  -999.00,9,  29.6522,2,  21.9964,2,-999.0000,9
49UP20220727_1,    P9,     8,  1,     35,     756,2,20220807,0944,1131,  0.4865, 141.9825, 3313,     11.8,       12,  29.5301,  35.1977,2,    199.1,2,  35.2113,2,   199.29,2,     1.26,2,     0.66,2,     0.06,2,    0.230,2, -999.000,9, -999.000,9,   -999.0,9,   -999.0,9,-999.0000,9,  -999.00, -999.000,9,  -999.00,9,  -999.00,9,  29.5272,2,  22.0352,2,  29.5300,2
49UP20220727_1,    P9,     8,  1,     34,     323,2,20220807,0944,1129,  0.4865, 141.9825, 3313,     26.9,       27,  29.4033,  35.2854,2,    197.6,2,  35.2849,2,   197.33,2,     1.38,2,     1.18,2,     0.12,2,    0.270,2, -999.000,9, -999.000,9,   -999.0,9,   -999.0,9,-999.0000,9,  -999.00, -999.000,9,  -999.00,9,  -999.00,9,  29.3967,2,  22.1450,2,  29.4038,2
49UP20220727_1,    P9,     8,  1,     33,     322,2,20220807,0944,1125,  0.4865, 141.9825, 3313,     50.6,       50,  29.3119,  35.3239,2,    191.4,2,  35.3218,2,   191.39,2,     1.46,2,     1.72,2,     0.23,2,    0.310,2, -999.000,9, -999.000,9,   -999.0,9,   -999.0,9,-999.0000,9,  -999.00, -999.000,9,  -999.00,9,  -999.00,9,  29.2996,2,  22.2068,2,  29.3123,2
49UP20220727_1,    P9,     8,  1,     32,     321,2,20220807,0944,1125,  0.4865, 141.9825, 3313,     50.8,       51,  29.3138,  35.3236,2,    191.3,2,  35.3241,2,   191.26,2,     1.45,2,     1.74,2,     0.24,2,    0.310,2, -999.000,9, -999.000,9,   -999.0,9,   -999.0,9,-999.0000,9,  -999.00, -999.000,9,  -999.00,9,  -999.00,9,  29.3014,2,  22.2059,2,  29.3132,2
49UP20220727_1,    P9,     8,  1,     31,     320,2,20220807,0944,1123,  0.4865, 141.9825, 3313,     75.9,       75,  29.2023,  35.3834,2,    182.7,2,  35.3843,2,   182.93,2,     1.55,2,     2.69,2,     0.51,2,    0.380,2, -999.000,9, -999.000,9,   -999.0,9,   -999.0,9,-999.0000,9,  -999.00, -999.000,9,  -999.00,9,  -999.00,9,  29.1838,2,  22.2903,2,  29.2050,2
49UP20220727_1,    P9,     8,  1,     30,     319,2,20220807,0944,1122,  0.4865, 141.9825, 3313,    101.7,      101,  29.1453,  35.3945,2,    177.4,2,  35.3927,2,   177.56,2,     1.68,2,     3.48,2,     0.59,2,    0.430,2, -999.000,9, -999.000,9,   -999.0,9,   -999.0,9,-999.0000,9,  -999.00, -999.000,9,  -999.00,9,  -999.00,9,  29.1206,2,  22.3199,2,  29.1440,2
49UP20220727_1,    P9,     8,  1,     29,     318,2,20220807,0944,1120,  0.4865, 141.9825, 3313,    126.3,      126,  29.0781,  35.4583,2,    176.3,2,  35.4579,2,   175.96,6,     1.71,6,     4.16,6,     0.42,6,    0.470,6, -999.000,9, -999.000,9,   -999.0,9,   -999.0,9,-999.0000,9,  -999.00, -999.000,9,  -999.00,9,  -999.00,9,  29.0474,2,  22.3923,2,  29.0654,2
49UP20220727_1,    P9,     8,  1,     28,     755,4,20220807,0944,1118,  0.4865, 141.9825, 3313,    152.3,      151,  26.9261,  35.5735,2,    146.6,2,  34.6314,4,   116.87,4,   133.61,4,    38.09,4,     0.00,4,    2.680,4, -999.000,9, -999.000,9,   -999.0,9,   -999.0,9,-999.0000,9,  -999.00, -999.000,9,  -999.00,9,  -999.00,9,  26.8912,2,  23.1846,2,  26.9220,2
49UP20220727_1,    P9,     8,  1,     27,     317,2,20220807,0944,1116,  0.4865, 141.9825, 3313,    204.1,      203,  21.0993,  35.6613,2,    129.3,2,  35.6572,2,   129.75,2,     4.02,2,    11.29,2,     0.02,2,    0.940,2, -999.000,9, -999.000,9,   -999.0,9,   -999.0,9,-999.0000,9,  -999.00, -999.000,9,  -999.00,9,  -999.00,9,  21.0600,2,  24.9811,2,  21.1447,2
49UP20220727_1,    P9,     8,  1,     25,     315,2,20220807,0944,1114,  0.4865, 141.9825, 3313,    252.6,      251,  14.0891,  35.0635,2,    146.3,2,  35.0638,2,   145.86,2,    10.45,2,    16.93,2,     0.00,2,    1.260,2, -999.000,9, -999.000,9,   -999.0,9,   -999.0,9,-999.0000,9,  -999.00, -999.000,9,  -999.00,9,  -999.00,9,  14.0523,2,  26.2252,2,  14.0976,2
49UP20220727_1,    P9,     8,  1,     26,     316,2,20220807,0944,1114,  0.4865, 141.9825, 3313,    252.8,      251,  14.1032,  35.0691,2,    146.3,2,  35.0690,2,   146.03,2,    10.25,2,    16.89,2,     0.00,2,    1.250,2, -999.000,9, -999.000,9,   -999.0,9,   -999.0,9,-999.0000,9,  -999.00, -999.000,9,  -999.00,9,  -999.00,9,  14.0663,2,  26.2265,2,  14.1027,2
49UP20220727_1,    P9,     8,  1,     24,     753,2,20220807,0944,1111,  0.4865, 141.9825, 3313,    333.7,      332,  10.7838,  34.7412,2,    138.3,2,  34.7404,2,   138.43,2,    22.02,2,    23.24,2,     0.00,2,    1.660,2, -999.000,9, -999.000,9,   -999.0,9,   -999.0,9,-999.0000,9,  -999.00, -999.000,9,  -999.00,9,  -999.00,9,  10.7431,2,  26.6201,2,  10.7841,2
49UP20220727_1,    P9,     8,  1,     23,     314,2,20220807,0944,1108,  0.4865, 141.9825, 3313,    383.8,      381,  10.3399,  34.7096,2,    137.4,2,  34.7097,2,   137.25,6,    23.22,6,    24.16,6,     0.00,6,    1.720,6, -999.000,9, -999.000,9,   -999.0,9,   -999.0,9,-999.0000,9,  -999.00, -999.000,9,  -999.00,9,  -999.00,9,  10.2941,2,  26.6745,2,  10.3397,2
49UP20220727_1,    P9,     8,  1,     22,     313,2,20220807,0944,1106,  0.4865, 141.9825, 3313,    433.9,      431,   8.5403,  34.6111,2,    125.5,2,  34.6100,2,   126.97,2,    28.05,2,    28.64,2,     0.00,2,    2.000,2, -999.000,9, -999.000,9,   -999.0,9,   -999.0,9,-999.0000,9,  -999.00, -999.000,9,  -999.00,9,  -999.00,9,   8.4942,2,  26.8933,2,   8.5397,2
49UP20220727_1,    P9,     8,  1,     21,     312,2,20220807,0944,1104,  0.4865, 141.9825, 3313,    484.6,      481,   8.1694,  34.5867,2,    145.5,2,  34.5852,2,   144.81,2,    26.59,2,    27.74,2,     0.00,2,    1.930,2, -999.000,9, -999.000,9,   -999.0,9,   -999.0,9,-999.0000,9,  -999.00, -999.000,9,  -999.00,9,  -999.00,9,   8.1191,2,  26.9314,2,   8.1693,2
49UP20220727_1,    P9,     8,  1,     20,     311,4,20220807,0944,1101,  0.4865, 141.9825, 3313,    535.3,      532,   7.4117,  34.5535,2,    121.9,2,  34.6311,4,   117.18,4,   133.70,4,    38.15,4,     0.00,4,    2.680,4, -999.000,9, -999.000,9,   -999.0,9,   -999.0,9,-999.0000,9,  -999.00, -999.000,9,  -999.00,9,  -999.00,9,   7.3590,2,  27.0166,2,   7.4117,2
49UP20220727_1,    P9,     8,  1,     19,     310,2,20220807,0944,1058,  0.4865, 141.9825, 3313,    635.0,      631,   6.5846,  34.5314,2,    119.2,2,  34.5303,2,   118.69,2,    43.47,2,    33.35,2,     0.00,2,    2.340,2, -999.000,9, -999.000,9,   -999.0,9,   -999.0,9,-999.0000,9,  -999.00, -999.000,9,  -999.00,9,  -999.00,9,   6.5257,2,  27.1140,2,   6.5847,2
49UP20220727_1,    P9,     8,  1,     18,     752,2,20220807,0944,1055,  0.4865, 141.9825, 3313,    736.4,      731,   5.6109,  34.5156,2,    123.3,2,  34.5144,2,   124.36,2,    55.20,2,    34.42,2,     0.00,2,    2.420,2, -999.000,9, -999.000,9,   -999.0,9,   -999.0,9,-999.0000,9,  -999.00, -999.000,9,  -999.00,9,  -999.00,9,   5.5475,2,  27.2262,2,   5.6107,2
49UP20220727_1,    P9,     8,  1,     17,     751,2,20220807,0944,1052,  0.4865, 141.9825, 3313,    841.0,      835,   5.0604,  34.5237,2,    120.5,2,  34.5223,2,   119.86,2,    65.37,2,    35.58,2,     0.00,2,    2.500,2, -999.000,9, -999.000,9,   -999.0,9,   -999.0,9,-999.0000,9,  -999.00, -999.000,9,  -999.00,9,  -999.00,9,   4.9909,2,  27.2987,2,   5.0598,2
49UP20220727_1,    P9,     8,  1,     16,     328,2,20220807,0944,1049,  0.4865, 141.9825, 3313,    945.7,      938,   4.6634,  34.5426,2,    104.7,2,  34.5422,6,   104.59,2,    78.48,2,    37.25,2,     0.00,2,    2.640,2, -999.000,9, -999.000,9,   -999.0,9,   -999.0,9,-999.0000,9,  -999.00, -999.000,9,  -999.00,9,  -999.00,9,   4.5874,2,  27.3593,2,   4.6633,2
49UP20220727_1,    P9,     8,  1,     15,     309,2,20220807,0944,1043,  0.4865, 141.9825, 3313,   1082.0,     1073,   4.2611,  34.5546,2,    102.3,2,  34.5540,2,   101.83,6,    87.90,6,    37.89,6,     0.00,6,    2.690,6, -999.000,9, -999.000,9,   -999.0,9,   -999.0,9,-999.0000,9,  -999.00, -999.000,9,  -999.00,9,  -999.00,9,   4.1763,2,  27.4133,2,   4.2596,2
49UP20220727_1,    P9,     8,  1,     13,     325,2,20220807,0944,1038,  0.4865, 141.9825, 3313,   1282.6,     1272,   3.6376,  34.5759,2,    101.4,2,  34.5756,2,   101.08,2,   102.80,2,    38.43,2,     0.00,2,    2.730,2, -999.000,9, -999.000,9,   -999.0,9,   -999.0,9,-999.0000,9,  -999.00, -999.000,9,  -999.00,9,  -999.00,9,   3.5412,2,  27.4952,2,   3.6375,2
49UP20220727_1,    P9,     8,  1,     14,     326,2,20220807,0944,1038,  0.4865, 141.9825, 3313,   1283.5,     1273,   3.6377,  34.5759,2,    101.4,2,  34.5748,2,   101.06,2,   102.93,2,    38.48,2,     0.00,2,    2.740,2, -999.000,9, -999.000,9,   -999.0,9,   -999.0,9,-999.0000,9,  -999.00, -999.000,9,  -999.00,9,  -999.00,9,   3.5413,2,  27.4951,2,   3.6376,2
49UP20220727_1,    P9,     8,  1,     12,     324,2,20220807,0944,1033,  0.4865, 141.9825, 3313,   1485.6,     1472,   2.9997,  34.5994,2,    110.1,2,  34.5985,6,   110.36,2,   115.25,2,    38.24,2,     0.00,2,    2.700,2, -999.000,9, -999.000,9,   -999.0,9,   -999.0,9,-999.0000,9,  -999.00, -999.000,9,  -999.00,9,  -999.00,9,   2.8930,2,  27.5750,2,   2.9997,2
49UP20220727_1,    P9,     8,  1,     11,     323,2,20220807,0944,1028,  0.4865, 141.9825, 3313,   1688.1,     1672,   2.7233,  34.6118,2,    110.6,2,  34.6106,2,   110.82,2,   123.31,2,    38.39,2,     0.00,2,    2.710,2, -999.000,9, -999.000,9,   -999.0,9,   -999.0,9,-999.0000,9,  -999.00, -999.000,9,  -999.00,9,  -999.00,9,   2.6029,2,  27.6106,2,   2.7230,2
49UP20220727_1,    P9,     8,  1,     10,     322,2,20220807,0944,1023,  0.4865, 141.9825, 3313,   1890.3,     1871,   2.4207,  34.6264,2,    118.0,2,  34.6253,2,   118.42,2,   128.57,2,    38.00,2,     0.00,2,    2.670,2, -999.000,9, -999.000,9,   -999.0,9,   -999.0,9,-999.0000,9,  -999.00, -999.000,9,  -999.00,9,  -999.00,9,   2.2873,2,  27.6491,2,   2.4204,2
49UP20220727_1,    P9,     8,  1,      9,     750,2,20220807,0944,1018,  0.4865, 141.9825, 3313,   2092.4,     2071,   2.2192,  34.6358,2,    118.2,2,  34.6351,6,   118.56,2,   135.80,2,    38.08,2,     0.00,2,    2.670,2, -999.000,9, -999.000,9,   -999.0,9,   -999.0,9,-999.0000,9,  -999.00, -999.000,9,  -999.00,9,  -999.00,9,   2.0715,2,  27.6742,2,   2.2192,2
49UP20220727_1,    P9,     8,  1,      8,     320,2,20220807,0944,1011,  0.4865, 141.9825, 3313,   2295.8,     2271,   2.0070,  34.6464,2,    123.8,2,  34.6455,2,   124.08,6,   139.93,6,    37.78,6,     0.00,6,    2.640,6, -999.000,9, -999.000,9,   -999.0,9,   -999.0,9,-999.0000,9,  -999.00, -999.000,9,  -999.00,9,  -999.00,9,   1.8450,2,  27.7005,2,   2.0068,2
49UP20220727_1,    P9,     8,  1,      7,     319,2,20220807,0944,1006,  0.4865, 141.9825, 3313,   2500.4,     2472,   1.8283,  34.6560,2,    130.7,2,  34.6556,2,   130.78,2,   142.21,2,    37.35,2,     0.00,2,    2.610,2, -999.000,9, -999.000,9,   -999.0,9,   -999.0,9,-999.0000,9,  -999.00, -999.000,9,  -999.00,9,  -999.00,9,   1.6512,2,  27.7230,2,   1.8282,2
49UP20220727_1,    P9,     8,  1,      6,     318,2,20220807,0944,1006,  0.4865, 141.9825, 3313,   2500.5,     2472,   1.8272,  34.6561,2,    130.7,2,  34.6571,2,   130.69,2,   142.03,2,    37.31,2,     0.00,2,    2.600,2, -999.000,9, -999.000,9,   -999.0,9,   -999.0,9,-999.0000,9,  -999.00, -999.000,9,  -999.00,9,  -999.00,9,   1.6501,2,  27.7231,2,   1.8274,2
49UP20220727_1,    P9,     8,  1,      5,     838,2,20220807,0944,1001,  0.4865, 141.9825, 3313,   2702.7,     2671,   1.7178,  34.6623,2,    136.2,2,  34.6624,2,   136.29,2,   143.00,2,    36.98,2,     0.00,2,    2.570,2, -999.000,9, -999.000,9,   -999.0,9,   -999.0,9,-999.0000,9,  -999.00, -999.000,9,  -999.00,9,  -999.00,9,   1.5243,2,  27.7374,2,   1.7177,2
49UP20220727_1,    P9,     8,  1,      4,     316,2,20220807,0944,0957,  0.4865, 141.9825, 3313,   2904.8,     2869,   1.6321,  34.6680,2,    141.3,2,  34.6676,2,   141.23,2,   143.32,2,    36.70,2,     0.00,2,    2.550,2, -999.000,9, -999.000,9,   -999.0,9,   -999.0,9,-999.0000,9,  -999.00, -999.000,9,  -999.00,9,  -999.00,9,   1.4215,2,  27.7494,2,   1.6322,2
49UP20220727_1,    P9,     8,  1,      3,     315,2,20220807,0944,0949,  0.4865, 141.9825, 3313,   3119.8,     3080,   1.5951,  34.6716,2,    143.7,2,  34.6717,2,   143.48,2,   143.90,2,    36.53,2,     0.00,2,    2.540,2, -999.000,9, -999.000,9,   -999.0,9,   -999.0,9,-999.0000,9,  -999.00, -999.000,9,  -999.00,9,  -999.00,9,   1.3647,2,  27.7564,2,   1.5950,2
49UP20220727_1,    P9,     8,  1,      2,     314,2,20220807,0944,0945,  0.4865, 141.9825, 3313,   3338.3,     3294,   1.5998,  34.6731,2,    144.0,2,  34.6740,2,   143.63,2,   143.91,2,    36.44,2,     0.00,2,    2.530,2, -999.000,9, -999.000,9,   -999.0,9,   -999.0,9,-999.0000,9,  -999.00, -999.000,9,  -999.00,9,  -999.00,9,   1.3476,2,  27.7588,2,   1.5997,2