BOTTLE,20230330JMAAMD
EXPOCODE,SECT_ID,STNNBR,CASTNO,SAMPNO,BTLNBR,BTLNBR_FLAG_U,DATE,TIME,BTL_TIME,LATITUDE,LONGITUDE,DEPTH,CTDPRS,CTDDEP,CTDTMP,CTDSAL,CTDSAL_FLAG_W,CTDOXY,CTDOXY_FLAG_W,SALNTY,SALNTY_FLAG_W,OXYGEN,OXYGEN_FLAG_W,SILCAT,SILCAT_FLAG_W,NO2+NO3,NO2+NO3_FLAG_W,NITRIT,NITRIT_FLAG_W,PHSPHT,PHSPHT_FLAG_W,CFC-11,CFC-11_FLAG_W,CFC-12,CFC-12_FLAG_W,TCARBN,TCARBN_FLAG_W,ALKALI,ALKALI_FLAG_W,PH_TS,PH_TS_FLAG_W,PH_TS_TMP,CFC113,CFC113_FLAG_W,CHLORA,CHLORA_FLAG_W,PPHYTN,PPHYTN_FLAG_W,THETA,THETA_FLAG_W,SIGTHT,SIGTHT_FLAG_W,SBE35,SBE35_FLAG_W
,,,,,,,,UTC,,,,METER,DBAR,METERS,ITS-90,PSS-78,,UMOL/KG,,PSS78,,UMOL/KG,,UMOL/KG,,UMOL/KG,,UMOL/KG,,UMOL/KG,,PMOL/KG,,PMOL/KG,,UMOL/KG,,UMOL/KG,,,,ITS-90,PMOL/KG,,UG/KG,,UG/KG,,ITS-90,,KG/M3,,ITS-90,
49UP20220727_1,    P9,    12,  1,      0,      -9,0,20220808,1624,1720,  2.0923, 141.5040, 2646,      0.0,        0,  30.0920,  34.7116,2,    194.4,2,-999.0000,9,   195.32,2,     1.20,2,     0.03,2,     0.00,2,    0.150,2, -999.000,9, -999.000,9,   -999.0,9,   -999.0,9,-999.0000,9,  -999.00, -999.000,9,  -999.00,9,  -999.00,9,  30.0914,2,  21.4788,2,-999.0000,9
49UP20220727_1,    P9,    12,  1,     36,     757,2,20220808,1624,1755,  2.0923, 141.5040, 2646,     10.9,       11,  30.0102,  34.7020,2,    194.8,2,  34.7011,2,   195.56,2,     1.20,2,     0.01,2,     0.00,2,    0.120,2, -999.000,9, -999.000,9,   -999.0,9,   -999.0,9,-999.0000,9,  -999.00, -999.000,9,  -999.00,9,  -999.00,9,  30.0075,2,  21.5002,2,  30.0104,2
49UP20220727_1,    P9,    12,  1,     35,     756,2,20220808,1624,1753,  2.0923, 141.5040, 2646,     25.9,       26,  29.9848,  34.6983,2,    195.2,2,  34.6969,2,   195.74,6,     1.20,6,     0.03,6,     0.00,6,    0.120,6, -999.000,9, -999.000,9,   -999.0,9,   -999.0,9,-999.0000,9,  -999.00, -999.000,9,  -999.00,9,  -999.00,9,  29.9784,2,  21.5074,2,  29.9867,2
49UP20220727_1,    P9,    12,  1,     34,     323,2,20220808,1624,1747,  2.0923, 141.5040, 2646,     50.5,       50,  29.8833,  34.8639,2,    194.4,2,  34.8679,2,   194.28,2,     1.21,2,     0.06,2,     0.01,2,    0.150,2, -999.000,9, -999.000,9,   -999.0,9,   -999.0,9,-999.0000,9,  -999.00, -999.000,9,  -999.00,9,  -999.00,9,  29.8708,2,  21.6682,2,  29.8836,2
49UP20220727_1,    P9,    12,  1,     33,     322,2,20220808,1624,1745,  2.0923, 141.5040, 2646,     75.7,       75,  29.6968,  35.1622,2,    183.7,2,  35.1626,2,   183.90,2,     1.42,2,     1.14,2,     0.55,2,    0.260,2, -999.000,9, -999.000,9,   -999.0,9,   -999.0,9,-999.0000,9,  -999.00, -999.000,9,  -999.00,9,  -999.00,9,  29.6781,2,  21.9574,2,  29.6959,2
49UP20220727_1,    P9,    12,  1,     32,     321,2,20220808,1624,1743,  2.0923, 141.5040, 2646,    100.7,      100,  29.4307,  35.1911,2,    176.2,2,  35.1918,6,   176.71,2,     1.63,2,     2.18,2,     0.26,2,    0.330,2, -999.000,9, -999.000,9,   -999.0,9,   -999.0,9,-999.0000,9,  -999.00, -999.000,9,  -999.00,9,  -999.00,9,  29.4061,2,  22.0711,2,  29.4234,2
49UP20220727_1,    P9,    12,  1,     31,     320,2,20220808,1624,1742,  2.0923, 141.5040, 2646,    127.0,      126,  28.7693,  35.2228,2,    162.0,2,  35.2240,2,   162.93,2,     1.94,2,     4.24,2,     0.13,2,    0.470,2, -999.000,9, -999.000,9,   -999.0,9,   -999.0,9,-999.0000,9,  -999.00, -999.000,9,  -999.00,9,  -999.00,9,  28.7387,2,  22.3185,2,  28.7772,2
49UP20220727_1,    P9,    12,  1,     29,     318,2,20220808,1624,1740,  2.0923, 141.5040, 2646,    150.5,      150,  26.5887,  35.1978,2,    148.3,2,  35.2029,2,   148.42,2,     3.54,2,     6.97,2,     0.02,2,    0.610,2, -999.000,9, -999.000,9,   -999.0,9,   -999.0,9,-999.0000,9,  -999.00, -999.000,9,  -999.00,9,  -999.00,9,  26.5545,2,  23.0084,2,  26.5784,2
49UP20220727_1,    P9,    12,  1,     30,     319,2,20220808,1624,1740,  2.0923, 141.5040, 2646,    150.8,      150,  26.5287,  35.1936,2,    148.3,2,  35.1997,2,   148.76,2,     3.59,2,     6.95,2,     0.03,2,    0.610,2, -999.000,9, -999.000,9,   -999.0,9,   -999.0,9,-999.0000,9,  -999.00, -999.000,9,  -999.00,9,  -999.00,9,  26.4945,2,  23.0242,2,  26.5251,2
49UP20220727_1,    P9,    12,  1,     28,     755,2,20220808,1624,1738,  2.0923, 141.5040, 2646,    201.1,      200,  21.4059,  35.2001,2,    136.8,2,  35.1985,2,   137.35,2,     6.49,2,    10.14,2,     0.01,2,    0.810,2, -999.000,9, -999.000,9,   -999.0,9,   -999.0,9,-999.0000,9,  -999.00, -999.000,9,  -999.00,9,  -999.00,9,  21.3668,2,  24.5458,2,  21.4043,2
49UP20220727_1,    P9,    12,  1,     27,     317,2,20220808,1624,1736,  2.0923, 141.5040, 2646,    252.9,      251,  10.6861,  34.6474,2,    127.0,2,  34.6476,2,   126.57,6,    26.80,6,    24.05,6,     0.00,6,    1.730,6, -999.000,9, -999.000,9,   -999.0,9,   -999.0,9,-999.0000,9,  -999.00, -999.000,9,  -999.00,9,  -999.00,9,  10.6555,2,  26.5626,2,  10.6867,2
49UP20220727_1,    P9,    12,  1,     26,     316,2,20220808,1624,1734,  2.0923, 141.5040, 2646,    284.6,      283,  10.1540,  34.6551,2,    128.0,2,  34.6575,2,   129.29,2,    27.61,2,    25.04,2,     0.00,2,    1.780,2, -999.000,9, -999.000,9,   -999.0,9,   -999.0,9,-999.0000,9,  -999.00, -999.000,9,  -999.00,9,  -999.00,9,  10.1207,2,  26.6620,2,  10.1436,2
49UP20220727_1,    P9,    12,  1,     25,     315,2,20220808,1624,1733,  2.0923, 141.5040, 2646,    322.2,      320,   9.8833,  34.6957,2,    133.8,2,  34.6961,2,   133.51,2,    23.46,2,    25.31,2,     0.00,2,    1.790,2, -999.000,9, -999.000,9,   -999.0,9,   -999.0,9,-999.0000,9,  -999.00, -999.000,9,  -999.00,9,  -999.00,9,   9.8461,2,  26.7405,2,   9.8832,2
49UP20220727_1,    P9,    12,  1,     24,     753,2,20220808,1624,1730,  2.0923, 141.5040, 2646,    377.0,      375,   9.8588,  34.6963,2,    133.9,2,  34.6976,2,   134.11,2,    23.21,2,    25.37,2,     0.00,2,    1.790,2, -999.000,9, -999.000,9,   -999.0,9,   -999.0,9,-999.0000,9,  -999.00, -999.000,9,  -999.00,9,  -999.00,9,   9.8152,2,  26.7461,2,   9.8588,2
49UP20220727_1,    P9,    12,  1,     23,     314,2,20220808,1624,1728,  2.0923, 141.5040, 2646,    425.7,      423,   9.3000,  34.6552,2,    133.0,2,  34.6576,2,   132.66,2,    25.54,2,    26.42,2,     0.00,2,    1.860,2, -999.000,9, -999.000,9,   -999.0,9,   -999.0,9,-999.0000,9,  -999.00, -999.000,9,  -999.00,9,  -999.00,9,   9.2524,2,  26.8073,2,   9.2993,2
49UP20220727_1,    P9,    12,  1,     22,     313,2,20220808,1624,1726,  2.0923, 141.5040, 2646,    474.5,      471,   8.4014,  34.5988,2,    124.2,2,  34.5987,2,   124.32,2,    30.50,2,    29.08,2,     0.00,2,    2.030,2, -999.000,9, -999.000,9,   -999.0,9,   -999.0,9,-999.0000,9,  -999.00, -999.000,9,  -999.00,9,  -999.00,9,   8.3514,2,  26.9056,2,   8.4009,2
49UP20220727_1,    P9,    12,  1,     20,     311,2,20220808,1624,1723,  2.0923, 141.5040, 2646,    576.0,      572,   7.1157,  34.5365,2,    139.7,2,  34.5366,2,   140.07,2,    34.89,2,    30.24,2,     0.00,2,    2.110,2, -999.000,9, -999.000,9,   -999.0,9,   -999.0,9,-999.0000,9,  -999.00, -999.000,9,  -999.00,9,  -999.00,9,   7.0602,2,  27.0453,2,   7.1159,2
49UP20220727_1,    P9,    12,  1,     21,     312,2,20220808,1624,1723,  2.0923, 141.5040, 2646,    576.6,      573,   7.1145,  34.5366,2,    139.6,2,  34.5371,2,   139.98,2,    34.93,2,    30.27,2,     0.00,2,    2.120,2, -999.000,9, -999.000,9,   -999.0,9,   -999.0,9,-999.0000,9,  -999.00, -999.000,9,  -999.00,9,  -999.00,9,   7.0589,2,  27.0455,2,   7.1146,2
49UP20220727_1,    P9,    12,  1,     19,     310,2,20220808,1624,1720,  2.0923, 141.5040, 2646,    672.4,      668,   6.3614,  34.5282,2,    114.8,2,  34.5288,6,   115.19,2,    47.54,2,    34.07,2,     0.00,2,    2.400,2, -999.000,9, -999.000,9,   -999.0,9,   -999.0,9,-999.0000,9,  -999.00, -999.000,9,  -999.00,9,  -999.00,9,   6.3000,2,  27.1412,2,   6.3614,2
49UP20220727_1,    P9,    12,  1,     18,     752,2,20220808,1624,1716,  2.0923, 141.5040, 2646,    775.1,      769,   5.6491,  34.5321,2,     97.5,2,  34.5321,2,    97.45,2,    64.99,2,    36.47,2,     0.00,2,    2.580,2, -999.000,9, -999.000,9,   -999.0,9,   -999.0,9,-999.0000,9,  -999.00, -999.000,9,  -999.00,9,  -999.00,9,   5.5819,2,  27.2351,2,   5.6491,2
49UP20220727_1,    P9,    12,  1,     17,     751,2,20220808,1624,1713,  2.0923, 141.5040, 2646,    877.7,      871,   4.9771,  34.5410,2,     96.6,2,  34.5411,2,    96.37,2,    76.94,2,    37.45,2,     0.00,2,    2.660,2, -999.000,9, -999.000,9,   -999.0,9,   -999.0,9,-999.0000,9,  -999.00, -999.000,9,  -999.00,9,  -999.00,9,   4.9049,2,  27.3223,2,   4.9771,2
49UP20220727_1,    P9,    12,  1,     16,     328,2,20220808,1624,1710,  2.0923, 141.5040, 2646,    978.3,      971,   4.5689,  34.5515,2,     93.3,2,  34.5517,2,    93.14,2,    86.67,2,    38.13,2,     0.00,2,    2.710,2, -999.000,9, -999.000,9,   -999.0,9,   -999.0,9,-999.0000,9,  -999.00, -999.000,9,  -999.00,9,  -999.00,9,   4.4907,2,  27.3770,2,   4.5687,2
49UP20220727_1,    P9,    12,  1,     14,     326,2,20220808,1624,1706,  2.0923, 141.5040, 2646,   1140.1,     1131,   3.8348,  34.5713,2,     96.6,2,  34.5713,2,    96.61,2,   102.37,2,    38.51,2,     0.00,2,    2.740,2, -999.000,9, -999.000,9,   -999.0,9,   -999.0,9,-999.0000,9,  -999.00, -999.000,9,  -999.00,9,  -999.00,9,   3.7486,2,  27.4709,2,   3.8347,2
49UP20220727_1,    P9,    12,  1,     15,     309,2,20220808,1624,1706,  2.0923, 141.5040, 2646,   1140.4,     1131,   3.8349,  34.5714,2,     96.6,2,  34.5716,2,    96.98,2,   102.38,2,    38.50,2,     0.00,2,    2.740,2, -999.000,9, -999.000,9,   -999.0,9,   -999.0,9,-999.0000,9,  -999.00, -999.000,9,  -999.00,9,  -999.00,9,   3.7487,2,  27.4709,2,   3.8347,2
49UP20220727_1,    P9,    12,  1,     13,     325,2,20220808,1624,1701,  2.0923, 141.5040, 2646,   1341.7,     1330,   3.2691,  34.5894,2,    100.7,2,  34.5901,2,   100.72,6,   114.44,6,    38.63,6,     0.00,6,    2.750,6, -999.000,9, -999.000,9,   -999.0,9,   -999.0,9,-999.0000,9,  -999.00, -999.000,9,  -999.00,9,  -999.00,9,   3.1714,2,  27.5414,2,   3.2688,2
49UP20220727_1,    P9,    12,  1,     12,     324,2,20220808,1624,1656,  2.0923, 141.5040, 2646,   1543.9,     1530,   2.9291,  34.6024,2,    107.6,2,  34.6029,6,   107.73,2,   119.81,2,    38.45,2,     0.00,2,    2.720,2, -999.000,9, -999.000,9,   -999.0,9,   -999.0,9,-999.0000,9,  -999.00, -999.000,9,  -999.00,9,  -999.00,9,   2.8183,2,  27.5842,2,   2.9288,2
49UP20220727_1,    P9,    12,  1,     11,     323,2,20220808,1624,1651,  2.0923, 141.5040, 2646,   1749.8,     1733,   2.5503,  34.6193,2,    112.9,2,  34.6200,2,   113.26,2,   128.01,2,    38.31,2,     0.00,2,    2.700,2, -999.000,9, -999.000,9,   -999.0,9,   -999.0,9,-999.0000,9,  -999.00, -999.000,9,  -999.00,9,  -999.00,9,   2.4270,2,  27.6317,2,   2.5502,2
49UP20220727_1,    P9,    12,  1,     10,     322,2,20220808,1624,1646,  2.0923, 141.5040, 2646,   1951.1,     1931,   2.3742,  34.6278,2,    115.4,2,  34.6285,2,   116.42,4,   132.55,2,    38.19,2,     0.00,2,    2.690,2, -999.000,9, -999.000,9,   -999.0,9,   -999.0,9,-999.0000,9,  -999.00, -999.000,9,  -999.00,9,  -999.00,9,   2.2363,2,  27.6544,2,   2.3742,2
49UP20220727_1,    P9,    12,  1,      8,     320,2,20220808,1624,1641,  2.0923, 141.5040, 2646,   2154.9,     2132,   2.1628,  34.6386,2,    120.2,2,  34.6385,2,   120.27,2,   136.99,2,    38.02,2,     0.00,2,    2.660,2, -999.000,9, -999.000,9,   -999.0,9,   -999.0,9,-999.0000,9,  -999.00, -999.000,9,  -999.00,9,  -999.00,9,   2.0105,2,  27.6813,2,   2.1627,2
49UP20220727_1,    P9,    12,  1,      9,     750,2,20220808,1624,1641,  2.0923, 141.5040, 2646,   2155.5,     2133,   2.1595,  34.6388,2,    120.2,2,  34.6390,2,   120.38,2,   137.16,2,    37.95,2,     0.00,2,    2.660,2, -999.000,9, -999.000,9,   -999.0,9,   -999.0,9,-999.0000,9,  -999.00, -999.000,9,  -999.00,9,  -999.00,9,   2.0072,2,  27.6817,2,   2.1595,2
49UP20220727_1,    P9,    12,  1,      7,     319,2,20220808,1624,1636,  2.0923, 141.5040, 2646,   2358.1,     2332,   2.0074,  34.6465,2,    123.9,2,  34.6475,2,   123.87,2,   140.62,2,    37.79,2,     0.00,2,    2.640,2, -999.000,9, -999.000,9,   -999.0,9,   -999.0,9,-999.0000,9,  -999.00, -999.000,9,  -999.00,9,  -999.00,9,   1.8398,2,  27.7010,2,   2.0072,2
49UP20220727_1,    P9,    12,  1,      6,     318,2,20220808,1624,1628,  2.0923, 141.5040, 2646,   2560.8,     2531,   1.8122,  34.6575,2,    130.7,2,  34.6572,2,   130.02,6,   143.29,6,    37.40,6,     0.00,6,    2.610,6, -999.000,9, -999.000,9,   -999.0,9,   -999.0,9,-999.0000,9,  -999.00, -999.000,9,  -999.00,9,  -999.00,9,   1.6299,2,  27.7258,2,   1.8122,2
49UP20220727_1,    P9,    12,  1,      5,     838,2,20220808,1624,1625,  2.0923, 141.5040, 2646,   2671.2,     2640,   1.7399,  34.6616,2,    134.4,2,  34.6627,2,   134.04,2,   143.52,2,    37.13,2,     0.00,2,    2.590,2, -999.000,9, -999.000,9,   -999.0,9,   -999.0,9,-999.0000,9,  -999.00, -999.000,9,  -999.00,9,  -999.00,9,   1.5489,2,  27.7350,2,   1.7394,2