BOTTLE,20230330JMAAMD
EXPOCODE,SECT_ID,STNNBR,CASTNO,SAMPNO,BTLNBR,BTLNBR_FLAG_U,DATE,TIME,BTL_TIME,LATITUDE,LONGITUDE,DEPTH,CTDPRS,CTDDEP,CTDTMP,CTDSAL,CTDSAL_FLAG_W,CTDOXY,CTDOXY_FLAG_W,SALNTY,SALNTY_FLAG_W,OXYGEN,OXYGEN_FLAG_W,SILCAT,SILCAT_FLAG_W,NO2+NO3,NO2+NO3_FLAG_W,NITRIT,NITRIT_FLAG_W,PHSPHT,PHSPHT_FLAG_W,CFC-11,CFC-11_FLAG_W,CFC-12,CFC-12_FLAG_W,TCARBN,TCARBN_FLAG_W,ALKALI,ALKALI_FLAG_W,PH_TS,PH_TS_FLAG_W,PH_TS_TMP,CFC113,CFC113_FLAG_W,CHLORA,CHLORA_FLAG_W,PPHYTN,PPHYTN_FLAG_W,THETA,THETA_FLAG_W,SIGTHT,SIGTHT_FLAG_W,SBE35,SBE35_FLAG_W
,,,,,,,,UTC,,,,METER,DBAR,METERS,ITS-90,PSS-78,,UMOL/KG,,PSS78,,UMOL/KG,,UMOL/KG,,UMOL/KG,,UMOL/KG,,UMOL/KG,,PMOL/KG,,PMOL/KG,,UMOL/KG,,UMOL/KG,,,,ITS-90,PMOL/KG,,UG/KG,,UG/KG,,ITS-90,,KG/M3,,ITS-90,
49UP20220929_1,    P9,    75,  1,      0,      -9,0,20221007,0440,0614, 27.4753, 137.0187, 4276,      0.0,        0,  28.7588,  34.3056,2,    198.5,2,-999.0000,9,   197.64,2,     1.47,2,     0.02,2,     0.00,2,    0.030,2, -999.000,9, -999.000,9,   -999.0,9,   -999.0,9,-999.0000,9,  -999.00, -999.000,9,  -999.00,9,  -999.00,9,  28.7582,2,  21.6233,2,-999.0000,9
49UP20220929_1,    P9,    75,  1,     35,     756,2,20221007,0440,0641, 27.4753, 137.0187, 4276,     11.5,       11,  28.4749,  34.2901,2,    199.1,2,  34.2921,2,   199.97,2,     1.63,2,     0.01,2,     0.00,2,    0.000,2, -999.000,9, -999.000,9,   -999.0,9,   -999.0,9,-999.0000,9,  -999.00, -999.000,9,  -999.00,9,  -999.00,9,  28.4721,2,  21.7061,2,  28.4740,2
49UP20220929_1,    P9,    75,  1,     36,     757,2,20221007,0440,0641, 27.4753, 137.0187, 4276,     12.2,       12,  28.4726,  34.2899,2,    199.1,2,  34.2920,2,   199.66,2,     1.63,2,     0.01,2,     0.00,2,    0.010,2, -999.000,9, -999.000,9,   -999.0,9,   -999.0,9,-999.0000,9,  -999.00, -999.000,9,  -999.00,9,  -999.00,9,  28.4697,2,  21.7068,2,  28.4729,2
49UP20220929_1,    P9,    75,  1,     34,     323,2,20221007,0440,0639, 27.4753, 137.0187, 4276,     26.2,       26,  28.4332,  34.2872,2,    199.1,2,  34.2894,2,   200.00,2,     1.63,2,     0.01,2,     0.00,2,    0.000,2, -999.000,9, -999.000,9,   -999.0,9,   -999.0,9,-999.0000,9,  -999.00, -999.000,9,  -999.00,9,  -999.00,9,  28.4269,2,  21.7188,2,  28.4316,2
49UP20220929_1,    P9,    75,  1,     33,     322,2,20221007,0440,0635, 27.4753, 137.0187, 4276,     51.7,       51,  27.4060,  34.4676,2,    206.6,2,  34.4740,2,   206.96,2,     1.47,2,     0.01,2,     0.00,2,    0.010,2, -999.000,9, -999.000,9,   -999.0,9,   -999.0,9,-999.0000,9,  -999.00, -999.000,9,  -999.00,9,  -999.00,9,  27.3940,2,  22.1906,2,  27.4233,2
49UP20220929_1,    P9,    75,  1,     32,     321,2,20221007,0440,0633, 27.4753, 137.0187, 4276,     78.4,       78,  23.2285,  34.6293,2,    230.7,2,  34.6315,2,   230.16,2,     1.81,2,     0.01,2,     0.00,2,    0.010,2, -999.000,9, -999.000,9,   -999.0,9,   -999.0,9,-999.0000,9,  -999.00, -999.000,9,  -999.00,9,  -999.00,9,  23.2124,2,  23.5912,2,  23.2109,2
49UP20220929_1,    P9,    75,  1,     31,     320,2,20221007,0440,0632, 27.4753, 137.0187, 4276,    105.4,      105,  21.3427,  34.6682,2,    232.0,2,  34.6687,2,   231.48,2,     1.87,2,     0.00,2,     0.00,2,    0.020,2, -999.000,9, -999.000,9,   -999.0,9,   -999.0,9,-999.0000,9,  -999.00, -999.000,9,  -999.00,9,  -999.00,9,  21.3223,2,  24.1534,2,  21.3436,2
49UP20220929_1,    P9,    75,  1,     30,     319,2,20221007,0440,0631, 27.4753, 137.0187, 4276,    128.9,      128,  19.6854,  34.7424,2,    216.2,2,  34.7305,2,   218.34,6,     2.35,6,     0.54,6,     0.17,6,    0.060,6, -999.000,9, -999.000,9,   -999.0,9,   -999.0,9,-999.0000,9,  -999.00, -999.000,9,  -999.00,9,  -999.00,9,  19.6619,2,  24.6538,2,  19.7139,2
49UP20220929_1,    P9,    75,  1,     29,     318,2,20221007,0440,0629, 27.4753, 137.0187, 4276,    152.2,      151,  18.9228,  34.7760,2,    206.6,2,  34.7764,2,   206.59,2,     3.00,2,     2.14,2,     0.02,2,    0.160,2, -999.000,9, -999.000,9,   -999.0,9,   -999.0,9,-999.0000,9,  -999.00, -999.000,9,  -999.00,9,  -999.00,9,  18.8958,2,  24.8765,2,  18.9218,2
49UP20220929_1,    P9,    75,  1,     28,     755,2,20221007,0440,0627, 27.4753, 137.0187, 4276,    203.4,      202,  17.9220,  34.7575,2,    203.9,2,  34.7574,2,   204.11,2,     3.78,2,     3.93,2,     0.01,2,    0.270,2, -999.000,9, -999.000,9,   -999.0,9,   -999.0,9,-999.0000,9,  -999.00, -999.000,9,  -999.00,9,  -999.00,9,  17.8872,2,  25.1141,2,  17.9175,2
49UP20220929_1,    P9,    75,  1,     27,     317,2,20221007,0440,0625, 27.4753, 137.0187, 4276,    254.0,      252,  17.4239,  34.7405,2,    205.2,2,  34.7410,2,   205.24,2,     4.25,2,     4.49,2,     0.01,2,    0.310,2, -999.000,9, -999.000,9,   -999.0,9,   -999.0,9,-999.0000,9,  -999.00, -999.000,9,  -999.00,9,  -999.00,9,  17.3813,2,  25.2239,2,  17.4221,2
49UP20220929_1,    P9,    75,  1,     26,     316,2,20221007,0440,0623, 27.4753, 137.0187, 4276,    336.1,      334,  15.4060,  34.6054,2,    193.5,2,  34.6107,2,   193.55,2,     9.20,2,     8.62,2,     0.01,2,    0.590,2, -999.000,9, -999.000,9,   -999.0,9,   -999.0,9,-999.0000,9,  -999.00, -999.000,9,  -999.00,9,  -999.00,9,  15.3541,2,  25.5896,2,  15.4130,2
49UP20220929_1,    P9,    75,  1,     25,     315,2,20221007,0440,0620, 27.4753, 137.0187, 4276,    435.5,      432,  12.1084,  34.3569,2,    179.4,2,  34.3570,2,   179.36,2,    20.42,2,    15.27,2,     0.00,2,    1.070,2, -999.000,9, -999.000,9,   -999.0,9,   -999.0,9,-999.0000,9,  -999.00, -999.000,9,  -999.00,9,  -999.00,9,  12.0511,2,  26.0799,2,  12.1071,2
49UP20220929_1,    P9,    75,  1,     24,     753,2,20221007,0440,0617, 27.4753, 137.0187, 4276,    537.2,      533,   9.3808,  34.2069,2,    154.5,2,  34.2076,2,   154.62,2,    37.79,2,    22.33,2,     0.00,2,    1.600,2, -999.000,9, -999.000,9,   -999.0,9,   -999.0,9,-999.0000,9,  -999.00, -999.000,9,  -999.00,9,  -999.00,9,   9.3205,2,  26.4455,2,   9.3810,2
49UP20220929_1,    P9,    75,  1,     23,     314,2,20221007,0440,0614, 27.4753, 137.0187, 4276,    636.7,      632,   6.9389,  34.1396,2,    116.7,2,  34.1382,6,   117.75,2,    60.72,2,    29.95,2,     0.00,2,    2.160,2, -999.000,9, -999.000,9,   -999.0,9,   -999.0,9,-999.0000,9,  -999.00, -999.000,9,  -999.00,9,  -999.00,9,   6.8785,2,  26.7576,2,   6.9413,2
49UP20220929_1,    P9,    75,  1,     22,     313,2,20221007,0440,0611, 27.4753, 137.0187, 4276,    740.6,      734,   5.5791,  34.1545,2,     91.3,2,  34.1538,2,    92.30,6,    80.48,6,    34.65,6,     0.00,6,    2.500,6, -999.000,9, -999.000,9,   -999.0,9,   -999.0,9,-999.0000,9,  -999.00, -999.000,9,  -999.00,9,  -999.00,9,   5.5160,2,  26.9442,2,   5.5809,2
49UP20220929_1,    P9,    75,  1,     20,     311,2,20221007,0440,0608, 27.4753, 137.0187, 4276,    840.8,      834,   4.7236,  34.2348,2,     69.2,2,  34.2351,2,    69.23,2,    98.75,2,    37.99,2,     0.00,2,    2.730,2, -999.000,9, -999.000,9,   -999.0,9,   -999.0,9,-999.0000,9,  -999.00, -999.000,9,  -999.00,9,  -999.00,9,   4.6566,2,  27.1073,2,   4.7214,2
49UP20220929_1,    P9,    75,  1,     21,     312,2,20221007,0440,0608, 27.4753, 137.0187, 4276,    842.4,      835,   4.6982,  34.2380,2,     68.8,2,  34.2353,2,    69.37,2,    98.61,2,    38.00,2,     0.00,2,    2.730,2, -999.000,9, -999.000,9,   -999.0,9,   -999.0,9,-999.0000,9,  -999.00, -999.000,9,  -999.00,9,  -999.00,9,   4.6313,2,  27.1127,2,   4.6987,2
49UP20220929_1,    P9,    75,  1,     19,     310,2,20221007,0440,0605, 27.4753, 137.0187, 4276,    939.6,      931,   4.0596,  34.3248,2,     59.7,2,  34.3248,2,    59.56,2,   113.72,2,    39.68,2,     0.00,2,    2.850,2, -999.000,9, -999.000,9,   -999.0,9,   -999.0,9,-999.0000,9,  -999.00, -999.000,9,  -999.00,9,  -999.00,9,   3.9888,2,  27.2502,2,   4.0595,2
49UP20220929_1,    P9,    75,  1,     18,     752,2,20221007,0440,0601, 27.4753, 137.0187, 4276,   1079.3,     1069,   3.3621,  34.3870,2,     51.7,2,  34.3868,2,    51.55,2,   129.78,2,    41.22,2,     0.00,2,    2.950,2, -999.000,9, -999.000,9,   -999.0,9,   -999.0,9,-999.0000,9,  -999.00, -999.000,9,  -999.00,9,  -999.00,9,   3.2853,2,  27.3693,2,   3.3619,2
49UP20220929_1,    P9,    75,  1,     17,     751,2,20221007,0440,0557, 27.4753, 137.0187, 4276,   1285.0,     1273,   2.8791,  34.4638,2,     59.3,2,  34.4634,2,    59.09,2,   139.95,2,    41.25,2,     0.00,2,    2.940,2, -999.000,9, -999.000,9,   -999.0,9,   -999.0,9,-999.0000,9,  -999.00, -999.000,9,  -999.00,9,  -999.00,9,   2.7903,2,  27.4759,2,   2.8792,2
49UP20220929_1,    P9,    75,  1,     16,     328,2,20221007,0440,0551, 27.4753, 137.0187, 4276,   1486.5,     1471,   2.4854,  34.5187,2,     68.6,2,  34.5184,2,    68.62,2,   147.33,2,    40.98,2,     0.00,2,    2.910,2, -999.000,9, -999.000,9,   -999.0,9,   -999.0,9,-999.0000,9,  -999.00, -999.000,9,  -999.00,9,  -999.00,9,   2.3847,2,  27.5548,2,   2.4855,2
49UP20220929_1,    P9,    75,  1,     15,     309,2,20221007,0440,0546, 27.4753, 137.0187, 4276,   1690.6,     1673,   2.2152,  34.5704,2,     94.1,2,  34.5701,6,    93.91,2,   145.38,2,    39.45,2,     0.00,2,    2.800,2, -999.000,9, -999.000,9,   -999.0,9,   -999.0,9,-999.0000,9,  -999.00, -999.000,9,  -999.00,9,  -999.00,9,   2.1013,2,  27.6194,2,   2.2150,2
49UP20220929_1,    P9,    75,  1,     14,     326,2,20221007,0440,0541, 27.4753, 137.0187, 4276,   1894.4,     1873,   2.0183,  34.6001,2,    106.8,2,  34.5999,2,   107.00,6,   145.86,6,    38.74,6,     0.00,6,    2.730,6, -999.000,9, -999.000,9,   -999.0,9,   -999.0,9,-999.0000,9,  -999.00, -999.000,9,  -999.00,9,  -999.00,9,   1.8905,2,  27.6599,2,   2.0183,2
49UP20220929_1,    P9,    75,  1,     12,     324,2,20221007,0440,0536, 27.4753, 137.0187, 4276,   2096.6,     2072,   1.8940,  34.6193,2,    116.6,2,  34.6197,2,   116.49,2,   145.49,2,    38.13,2,     0.00,2,    2.690,2, -999.000,9, -999.000,9,   -999.0,9,   -999.0,9,-999.0000,9,  -999.00, -999.000,9,  -999.00,9,  -999.00,9,   1.7511,2,  27.6860,2,   1.8939,2
49UP20220929_1,    P9,    75,  1,     13,     325,2,20221007,0440,0536, 27.4753, 137.0187, 4276,   2098.3,     2074,   1.8939,  34.6195,2,    116.7,2,  34.6193,2,   116.81,2,   145.53,2,    38.10,2,     0.00,2,    2.680,2, -999.000,9, -999.000,9,   -999.0,9,   -999.0,9,-999.0000,9,  -999.00, -999.000,9,  -999.00,9,  -999.00,9,   1.7509,2,  27.6862,2,   1.8940,2
49UP20220929_1,    P9,    75,  1,     11,     323,2,20221007,0440,0530, 27.4753, 137.0187, 4276,   2302.3,     2275,   1.8047,  34.6334,2,    124.2,2,  34.6338,2,   124.40,2,   144.92,2,    37.69,2,     0.00,2,    2.650,2, -999.000,9, -999.000,9,   -999.0,9,   -999.0,9,-999.0000,9,  -999.00, -999.000,9,  -999.00,9,  -999.00,9,   1.6456,2,  27.7052,2,   1.8049,2
49UP20220929_1,    P9,    75,  1,     10,     322,2,20221007,0440,0525, 27.4753, 137.0187, 4276,   2504.7,     2473,   1.7459,  34.6444,2,    129.6,2,  34.6450,2,   130.13,2,   144.84,2,    37.35,2,     0.00,2,    2.620,2, -999.000,9, -999.000,9,   -999.0,9,   -999.0,9,-999.0000,9,  -999.00, -999.000,9,  -999.00,9,  -999.00,9,   1.5700,2,  27.7197,2,   1.7458,2
49UP20220929_1,    P9,    75,  1,      9,     750,2,20221007,0440,0520, 27.4753, 137.0187, 4276,   2707.7,     2673,   1.6901,  34.6520,2,    134.1,2,  34.6528,2,   133.99,2,   144.74,2,    37.11,2,     0.00,2,    2.600,2, -999.000,9, -999.000,9,   -999.0,9,   -999.0,9,-999.0000,9,  -999.00, -999.000,9,  -999.00,9,  -999.00,9,   1.4968,2,  27.7311,2,   1.6900,2
49UP20220929_1,    P9,    75,  1,      8,     320,2,20221007,0440,0515, 27.4753, 137.0187, 4276,   2912.5,     2873,   1.6476,  34.6577,2,    137.8,2,  34.6579,6,   137.65,2,   144.41,2,    36.86,2,     0.00,2,    2.580,2, -999.000,9, -999.000,9,   -999.0,9,   -999.0,9,-999.0000,9,  -999.00, -999.000,9,  -999.00,9,  -999.00,9,   1.4360,2,  27.7401,2,   1.6479,2
49UP20220929_1,    P9,    75,  1,      7,     319,2,20221007,0440,0510, 27.4753, 137.0187, 4276,   3125.3,     3082,   1.6024,  34.6641,2,    142.2,2,  34.6643,2,   141.93,2,   144.44,2,    36.63,2,     0.00,2,    2.560,2, -999.000,9, -999.000,9,   -999.0,9,   -999.0,9,-999.0000,9,  -999.00, -999.000,9,  -999.00,9,  -999.00,9,   1.3714,2,  27.7499,2,   1.6023,2
49UP20220929_1,    P9,    75,  1,      6,     318,3,20221007,0440,0504, 27.4753, 137.0187, 4276,   3379.1,     3330,   1.5581,  34.6715,2,    147.6,2,  34.6711,2,   147.67,6,   143.26,6,    36.28,6,     0.00,6,    2.540,6, -999.000,9, -999.000,9,   -999.0,9,   -999.0,9,-999.0000,9,  -999.00, -999.000,9,  -999.00,9,  -999.00,9,   1.3029,2,  27.7606,2,   1.5582,2
49UP20220929_1,    P9,    75,  1,      5,     838,2,20221007,0440,0458, 27.4753, 137.0187, 4276,   3640.0,     3585,   1.5252,  34.6773,2,    152.2,2,  34.6778,2,   152.28,2,   142.53,2,    35.95,2,     0.00,2,    2.510,2, -999.000,9, -999.000,9,   -999.0,9,   -999.0,9,-999.0000,9,  -999.00, -999.000,9,  -999.00,9,  -999.00,9,   1.2440,2,  27.7695,2,   1.5249,2
49UP20220929_1,    P9,    75,  1,      4,     316,2,20221007,0440,0452, 27.4753, 137.0187, 4276,   3892.5,     3832,   1.5214,  34.6807,2,    154.7,2,  34.6804,2,   154.58,2,   142.11,2,    35.84,2,     0.00,2,    2.500,2, -999.000,9, -999.000,9,   -999.0,9,   -999.0,9,-999.0000,9,  -999.00, -999.000,9,  -999.00,9,  -999.00,9,   1.2136,2,  27.7743,2,   1.5216,2
49UP20220929_1,    P9,    75,  1,      3,     315,2,20221007,0440,0446, 27.4753, 137.0187, 4276,   4147.9,     4081,   1.5387,  34.6814,2,    155.6,2,  34.6819,6,   155.67,2,   141.91,2,    35.83,2,     0.00,2,    2.490,2, -999.000,9, -999.000,9,   -999.0,9,   -999.0,9,-999.0000,9,  -999.00, -999.000,9,  -999.00,9,  -999.00,9,   1.2024,2,  27.7756,2,   1.5384,2
49UP20220929_1,    P9,    75,  1,      1,     308,2,20221007,0440,0441, 27.4753, 137.0187, 4276,   4392.1,     4318,   1.5611,  34.6818,2,    156.3,2,  34.6823,2,   156.11,2,   141.96,2,    35.79,2,     0.00,2,    2.490,2, -999.000,9, -999.000,9,   -999.0,9,   -999.0,9,-999.0000,9,  -999.00, -999.000,9,  -999.00,9,  -999.00,9,   1.1967,2,  27.7763,2,   1.5610,2
49UP20220929_1,    P9,    75,  1,      2,     314,2,20221007,0440,0441, 27.4753, 137.0187, 4276,   4392.4,     4319,   1.5610,  34.6819,2,    156.3,2,  34.6822,2,   156.11,2,   142.05,2,    35.79,2,     0.00,2,    2.490,2, -999.000,9, -999.000,9,   -999.0,9,   -999.0,9,-999.0000,9,  -999.00, -999.000,9,  -999.00,9,  -999.00,9,   1.1965,2,  27.7764,2,   1.5611,2