BOTTLE,20230330JMAAMD
EXPOCODE,SECT_ID,STNNBR,CASTNO,SAMPNO,BTLNBR,BTLNBR_FLAG_U,DATE,TIME,BTL_TIME,LATITUDE,LONGITUDE,DEPTH,CTDPRS,CTDDEP,CTDTMP,CTDSAL,CTDSAL_FLAG_W,CTDOXY,CTDOXY_FLAG_W,SALNTY,SALNTY_FLAG_W,OXYGEN,OXYGEN_FLAG_W,SILCAT,SILCAT_FLAG_W,NO2+NO3,NO2+NO3_FLAG_W,NITRIT,NITRIT_FLAG_W,PHSPHT,PHSPHT_FLAG_W,CFC-11,CFC-11_FLAG_W,CFC-12,CFC-12_FLAG_W,TCARBN,TCARBN_FLAG_W,ALKALI,ALKALI_FLAG_W,PH_TS,PH_TS_FLAG_W,PH_TS_TMP,CFC113,CFC113_FLAG_W,CHLORA,CHLORA_FLAG_W,PPHYTN,PPHYTN_FLAG_W,THETA,THETA_FLAG_W,SIGTHT,SIGTHT_FLAG_W,SBE35,SBE35_FLAG_W
,,,,,,,,UTC,,,,METER,DBAR,METERS,ITS-90,PSS-78,,UMOL/KG,,PSS78,,UMOL/KG,,UMOL/KG,,UMOL/KG,,UMOL/KG,,UMOL/KG,,PMOL/KG,,PMOL/KG,,UMOL/KG,,UMOL/KG,,,,ITS-90,PMOL/KG,,UG/KG,,UG/KG,,ITS-90,,KG/M3,,ITS-90,
49UP20220824_1,    P9,    60,  1,      0,      -9,0,20220911,0626,0810, 20.5075, 136.9987, 4434,      0.0,        0,  30.4868,  34.1501,2,    192.7,2,-999.0000,9,   193.11,2,     1.24,2,     0.02,2,     0.00,2,    0.020,2, -999.000,9, -999.000,9,   -999.0,9,   -999.0,9,-999.0000,9,  -999.00, -999.000,9,  -999.00,9,  -999.00,9,  30.4862,2,  20.9227,2,-999.0000,9
49UP20220824_1,    P9,    60,  1,     36,     757,2,20220911,0626,0824, 20.5075, 136.9987, 4434,     12.2,       12,  30.4259,  34.1516,2,    193.0,2,  34.1497,2,   193.25,2,     1.20,2,     0.05,2,     0.00,2,    0.000,2, -999.000,9, -999.000,9,   -999.0,9,   -999.0,9,-999.0000,9,  -999.00, -999.000,9,  -999.00,9,  -999.00,9,  30.4229,2,  20.9456,2,  30.4353,2
49UP20220824_1,    P9,    60,  1,     35,     756,2,20220911,0626,0822, 20.5075, 136.9987, 4434,     27.1,       27,  30.2099,  34.1647,2,    193.6,2,  34.1638,2,   193.85,2,     1.22,2,     0.00,2,     0.00,2,    0.000,2, -999.000,9, -999.000,9,   -999.0,9,   -999.0,9,-999.0000,9,  -999.00, -999.000,9,  -999.00,9,  -999.00,9,  30.2032,2,  21.0308,2,  30.2099,2
49UP20220824_1,    P9,    60,  1,     33,     322,2,20220911,0626,0818, 20.5075, 136.9987, 4434,     52.4,       52,  26.4638,  34.6613,2,    220.6,2,  34.6446,2,   219.73,2,     1.32,2,     0.00,2,     0.00,2,    0.000,2, -999.000,9, -999.000,9,   -999.0,9,   -999.0,9,-999.0000,9,  -999.00, -999.000,9,  -999.00,9,  -999.00,9,  26.4520,2,  22.6363,2,  26.4842,2
49UP20220824_1,    P9,    60,  1,     34,     323,2,20220911,0626,0819, 20.5075, 136.9987, 4434,     54.6,       54,  26.2909,  34.7052,2,    220.8,2,  34.6689,2,   219.42,2,     1.41,2,     0.00,2,     0.00,2,    0.000,2, -999.000,9, -999.000,9,   -999.0,9,   -999.0,9,-999.0000,9,  -999.00, -999.000,9,  -999.00,9,  -999.00,9,  26.2786,2,  22.7238,2,  26.2916,2
49UP20220824_1,    P9,    60,  1,     32,     321,2,20220911,0626,0817, 20.5075, 136.9987, 4434,     78.1,       78,  23.9324,  34.6843,2,    213.5,2,  34.6842,2,   214.31,2,     1.61,2,     0.00,2,     0.00,2,    0.010,2, -999.000,9, -999.000,9,   -999.0,9,   -999.0,9,-999.0000,9,  -999.00, -999.000,9,  -999.00,9,  -999.00,9,  23.9160,2,  23.4272,2,  23.9196,2
49UP20220824_1,    P9,    60,  1,     31,     320,2,20220911,0626,0816, 20.5075, 136.9987, 4434,    102.3,      102,  22.8193,  34.8012,2,    205.6,2,  34.8047,2,   205.48,2,     1.75,2,     0.00,2,     0.00,2,    0.020,2, -999.000,9, -999.000,9,   -999.0,9,   -999.0,9,-999.0000,9,  -999.00, -999.000,9,  -999.00,9,  -999.00,9,  22.7986,2,  23.8407,2,  22.8175,2
49UP20220824_1,    P9,    60,  1,     30,     319,2,20220911,0626,0814, 20.5075, 136.9987, 4434,    126.9,      126,  21.3801,  34.8538,2,    198.8,2,  34.8528,2,   199.04,2,     1.89,2,     0.80,2,     0.07,2,    0.070,2, -999.000,9, -999.000,9,   -999.0,9,   -999.0,9,-999.0000,9,  -999.00, -999.000,9,  -999.00,9,  -999.00,9,  21.3555,2,  24.2855,2,  21.3922,2
49UP20220824_1,    P9,    60,  1,     29,     318,2,20220911,0626,0813, 20.5075, 136.9987, 4434,    152.1,      151,  20.1494,  34.8058,2,    196.8,2,  34.8069,2,   196.92,6,     2.44,6,     2.02,6,     0.02,6,    0.150,6, -999.000,9, -999.000,9,   -999.0,9,   -999.0,9,-999.0000,9,  -999.00, -999.000,9,  -999.00,9,  -999.00,9,  20.1211,2,  24.5817,2,  20.1507,2
49UP20220824_1,    P9,    60,  1,     28,     755,2,20220911,0626,0811, 20.5075, 136.9987, 4434,    202.5,      201,  18.8366,  34.7973,2,    192.9,2,  34.7985,2,   193.26,2,     3.40,2,     3.86,2,     0.01,2,    0.260,2, -999.000,9, -999.000,9,   -999.0,9,   -999.0,9,-999.0000,9,  -999.00, -999.000,9,  -999.00,9,  -999.00,9,  18.8008,2,  24.9168,2,  18.8354,2
49UP20220824_1,    P9,    60,  1,     27,     317,2,20220911,0626,0809, 20.5075, 136.9987, 4434,    254.1,      252,  17.4542,  34.7510,2,    195.7,2,  34.7507,2,   195.78,2,     4.69,2,     5.37,2,     0.00,2,    0.350,2, -999.000,9, -999.000,9,   -999.0,9,   -999.0,9,-999.0000,9,  -999.00, -999.000,9,  -999.00,9,  -999.00,9,  17.4115,2,  25.2247,2,  17.4577,2
49UP20220824_1,    P9,    60,  1,     26,     316,2,20220911,0626,0807, 20.5075, 136.9987, 4434,    304.4,      302,  15.8838,  34.6385,2,    187.3,2,  34.6405,2,   187.32,2,     7.93,2,     8.37,2,     0.00,2,    0.560,2, -999.000,9, -999.000,9,   -999.0,9,   -999.0,9,-999.0000,9,  -999.00, -999.000,9,  -999.00,9,  -999.00,9,  15.8359,2,  25.5069,2,  15.8822,2
49UP20220824_1,    P9,    60,  1,     25,     315,2,20220911,0626,0804, 20.5075, 136.9987, 4434,    405.7,      403,  12.5609,  34.3813,2,    179.2,2,  34.3822,2,   179.21,2,    17.94,2,    14.46,2,     0.00,2,    1.000,2, -999.000,9, -999.000,9,   -999.0,9,   -999.0,9,-999.0000,9,  -999.00, -999.000,9,  -999.00,9,  -999.00,9,  12.5063,2,  26.0110,2,  12.5632,2
49UP20220824_1,    P9,    60,  1,     24,     753,2,20220911,0626,0802, 20.5075, 136.9987, 4434,    504.6,      501,   9.5485,  34.1958,2,    150.8,2,  34.1973,6,   150.69,2,    33.24,2,    22.29,2,     0.00,2,    1.590,2, -999.000,9, -999.000,9,   -999.0,9,   -999.0,9,-999.0000,9,  -999.00, -999.000,9,  -999.00,9,  -999.00,9,   9.4913,2,  26.4089,2,   9.5487,2
49UP20220824_1,    P9,    60,  1,     22,     313,2,20220911,0626,0759, 20.5075, 136.9987, 4434,    606.5,      602,   7.1037,  34.1776,2,     96.9,2,  34.1763,2,    96.86,2,    57.47,2,    31.73,2,     0.00,2,    2.280,2, -999.000,9, -999.000,9,   -999.0,9,   -999.0,9,-999.0000,9,  -999.00, -999.000,9,  -999.00,9,  -999.00,9,   7.0455,2,  26.7646,2,   7.1037,2
49UP20220824_1,    P9,    60,  1,     23,     314,2,20220911,0626,0759, 20.5075, 136.9987, 4434,    607.1,      602,   7.0940,  34.1788,2,     96.4,2,  34.1772,2,    97.02,2,    57.38,2,    31.75,2,     0.00,2,    2.280,2, -999.000,9, -999.000,9,   -999.0,9,   -999.0,9,-999.0000,9,  -999.00, -999.000,9,  -999.00,9,  -999.00,9,   7.0357,2,  26.7669,2,   7.0932,2
49UP20220824_1,    P9,    60,  1,     21,     312,2,20220911,0626,0756, 20.5075, 136.9987, 4434,    709.1,      704,   5.4150,  34.2339,2,     70.8,2,  34.2297,2,    71.19,2,    83.61,2,    36.93,2,     0.00,2,    2.650,2, -999.000,9, -999.000,9,   -999.0,9,   -999.0,9,-999.0000,9,  -999.00, -999.000,9,  -999.00,9,  -999.00,9,   5.3555,2,  27.0263,2,   5.4149,2
49UP20220824_1,    P9,    60,  1,     20,     311,2,20220911,0626,0753, 20.5075, 136.9987, 4434,    808.7,      802,   4.9091,  34.3189,2,     62.0,2,  34.3182,2,    61.48,6,    93.60,6,    38.77,6,     0.00,6,    2.780,6, -999.000,9, -999.000,9,   -999.0,9,   -999.0,9,-999.0000,9,  -999.00, -999.000,9,  -999.00,9,  -999.00,9,   4.8436,2,  27.1531,2,   4.9083,2
49UP20220824_1,    P9,    60,  1,     19,     310,2,20220911,0626,0750, 20.5075, 136.9987, 4434,    908.0,      900,   4.3711,  34.3756,2,     60.9,2,  34.3748,2,    60.76,2,   104.67,2,    39.63,2,     0.00,2,    2.840,2, -999.000,9, -999.000,9,   -999.0,9,   -999.0,9,-999.0000,9,  -999.00, -999.000,9,  -999.00,9,  -999.00,9,   4.3006,2,  27.2579,2,   4.3711,2
49UP20220824_1,    P9,    60,  1,     18,     752,2,20220911,0626,0748, 20.5075, 136.9987, 4434,   1009.5,     1001,   3.7871,  34.4399,2,     65.1,2,  34.4384,2,    65.09,2,   116.82,2,    40.06,2,     0.00,2,    2.860,2, -999.000,9, -999.000,9,   -999.0,9,   -999.0,9,-999.0000,9,  -999.00, -999.000,9,  -999.00,9,  -999.00,9,   3.7125,2,  27.3698,2,   3.7877,2
49UP20220824_1,    P9,    60,  1,     17,     751,2,20220911,0626,0743, 20.5075, 136.9987, 4434,   1213.9,     1203,   3.1785,  34.4972,2,     74.1,2,  34.4957,2,    74.22,2,   129.18,2,    39.99,2,     0.00,2,    2.840,2, -999.000,9, -999.000,9,   -999.0,9,   -999.0,9,-999.0000,9,  -999.00, -999.000,9,  -999.00,9,  -999.00,9,   3.0924,2,  27.4753,2,   3.1790,2
49UP20220824_1,    P9,    60,  1,     16,     328,2,20220911,0626,0738, 20.5075, 136.9987, 4434,   1415.9,     1402,   2.7021,  34.5540,2,     92.0,2,  34.5541,2,    92.05,2,   136.39,2,    39.11,2,     0.00,2,    2.760,2, -999.000,9, -999.000,9,   -999.0,9,   -999.0,9,-999.0000,9,  -999.00, -999.000,9,  -999.00,9,  -999.00,9,   2.6045,2,  27.5643,2,   2.7026,2
49UP20220824_1,    P9,    60,  1,     15,     309,2,20220911,0626,0733, 20.5075, 136.9987, 4434,   1616.9,     1601,   2.4125,  34.5772,2,     99.0,2,  34.5785,4,    99.29,2,   140.29,2,    38.92,2,     0.00,2,    2.740,2, -999.000,9, -999.000,9,   -999.0,9,   -999.0,9,-999.0000,9,  -999.00, -999.000,9,  -999.00,9,  -999.00,9,   2.3021,2,  27.6085,2,   2.4129,2
49UP20220824_1,    P9,    60,  1,     14,     326,2,20220911,0626,0728, 20.5075, 136.9987, 4434,   1821.6,     1803,   2.1832,  34.6031,2,    108.8,2,  34.6037,2,   109.11,2,   141.90,2,    38.49,2,     0.00,2,    2.700,2, -999.000,9, -999.000,9,   -999.0,9,   -999.0,9,-999.0000,9,  -999.00, -999.000,9,  -999.00,9,  -999.00,9,   2.0590,2,  27.6490,2,   2.1831,2
49UP20220824_1,    P9,    60,  1,     13,     325,2,20220911,0626,0723, 20.5075, 136.9987, 4434,   2024.5,     2002,   2.0020,  34.6221,2,    117.0,2,  34.6226,6,   117.37,2,   143.18,2,    38.11,2,     0.00,2,    2.670,2, -999.000,9, -999.000,9,   -999.0,9,   -999.0,9,-999.0000,9,  -999.00, -999.000,9,  -999.00,9,  -999.00,9,   1.8635,2,  27.6796,2,   2.0020,2
49UP20220824_1,    P9,    60,  1,     11,     323,2,20220911,0626,0718, 20.5075, 136.9987, 4434,   2230.2,     2205,   1.8554,  34.6355,2,    124.1,2,  34.6356,2,   124.05,2,   144.30,2,    37.69,2,     0.00,2,    2.630,2, -999.000,9, -999.000,9,   -999.0,9,   -999.0,9,-999.0000,9,  -999.00, -999.000,9,  -999.00,9,  -999.00,9,   1.7016,2,  27.7027,2,   1.8554,2
49UP20220824_1,    P9,    60,  1,     12,     324,2,20220911,0626,0718, 20.5075, 136.9987, 4434,   2231.2,     2206,   1.8550,  34.6355,2,    124.1,2,  34.6362,2,   123.97,2,   144.42,2,    37.75,2,     0.00,2,    2.640,2, -999.000,9, -999.000,9,   -999.0,9,   -999.0,9,-999.0000,9,  -999.00, -999.000,9,  -999.00,9,  -999.00,9,   1.7012,2,  27.7027,2,   1.8551,2
49UP20220824_1,    P9,    60,  1,     10,     322,2,20220911,0626,0714, 20.5075, 136.9987, 4434,   2427.3,     2399,   1.7662,  34.6444,2,    129.5,2,  34.6447,2,   129.06,6,   144.53,6,    37.40,6,     0.00,6,    2.610,6, -999.000,9, -999.000,9,   -999.0,9,   -999.0,9,-999.0000,9,  -999.00, -999.000,9,  -999.00,9,  -999.00,9,   1.5968,2,  27.7177,2,   1.7662,2
49UP20220824_1,    P9,    60,  1,      9,     750,2,20220911,0626,0709, 20.5075, 136.9987, 4434,   2632.6,     2600,   1.6937,  34.6527,2,    134.6,2,  34.6528,6,   134.20,2,   144.49,2,    37.09,2,     0.00,2,    2.590,2, -999.000,9, -999.000,9,   -999.0,9,   -999.0,9,-999.0000,9,  -999.00, -999.000,9,  -999.00,9,  -999.00,9,   1.5072,2,  27.7309,2,   1.6937,2
49UP20220824_1,    P9,    60,  1,      8,     320,2,20220911,0626,0704, 20.5075, 136.9987, 4434,   2838.9,     2803,   1.6465,  34.6593,2,    138.6,2,  34.6601,2,   138.33,2,   144.37,2,    36.85,2,     0.00,2,    2.560,2, -999.000,9, -999.000,9,   -999.0,9,   -999.0,9,-999.0000,9,  -999.00, -999.000,9,  -999.00,9,  -999.00,9,   1.4419,2,  27.7410,2,   1.6466,2
49UP20220824_1,    P9,    60,  1,      7,     319,2,20220911,0626,0659, 20.5075, 136.9987, 4434,   3040.6,     3000,   1.6040,  34.6649,2,    142.6,2,  34.6649,2,   142.33,2,   144.00,2,    36.63,2,     0.00,2,    2.550,2, -999.000,9, -999.000,9,   -999.0,9,   -999.0,9,-999.0000,9,  -999.00, -999.000,9,  -999.00,9,  -999.00,9,   1.3811,2,  27.7498,2,   1.6042,2
49UP20220824_1,    P9,    60,  1,      6,     318,2,20220911,0626,0654, 20.5075, 136.9987, 4434,   3295.5,     3250,   1.5530,  34.6717,2,    147.9,2,  34.6720,6,   148.23,2,   143.43,2,    36.24,2,     0.00,2,    2.520,2, -999.000,9, -999.000,9,   -999.0,9,   -999.0,9,-999.0000,9,  -999.00, -999.000,9,  -999.00,9,  -999.00,9,   1.3062,2,  27.7606,2,   1.5529,2
49UP20220824_1,    P9,    60,  1,      5,     838,2,20220911,0626,0648, 20.5075, 136.9987, 4434,   3548.9,     3498,   1.5246,  34.6767,2,    151.9,2,  34.6774,2,   152.23,2,   142.69,2,    35.93,2,     0.00,2,    2.500,2, -999.000,9, -999.000,9,   -999.0,9,   -999.0,9,-999.0000,9,  -999.00, -999.000,9,  -999.00,9,  -999.00,9,   1.2529,2,  27.7683,2,   1.5247,2
49UP20220824_1,    P9,    60,  1,      4,     316,2,20220911,0626,0643, 20.5075, 136.9987, 4434,   3805.8,     3749,   1.5145,  34.6800,2,    154.8,2,  34.6804,2,   155.42,2,   142.01,2,    35.82,2,     0.00,2,    2.480,2, -999.000,9, -999.000,9,   -999.0,9,   -999.0,9,-999.0000,9,  -999.00, -999.000,9,  -999.00,9,  -999.00,9,   1.2161,2,  27.7735,2,   1.5144,2
49UP20220824_1,    P9,    60,  1,      3,     315,2,20220911,0626,0638, 20.5075, 136.9987, 4434,   4062.7,     3999,   1.5242,  34.6817,2,    156.3,2,  34.6814,2,   156.52,2,   141.80,2,    35.74,2,     0.00,2,    2.470,2, -999.000,9, -999.000,9,   -999.0,9,   -999.0,9,-999.0000,9,  -999.00, -999.000,9,  -999.00,9,  -999.00,9,   1.1978,2,  27.7762,2,   1.5243,2
49UP20220824_1,    P9,    60,  1,      2,     314,2,20220911,0626,0632, 20.5075, 136.9987, 4434,   4319.9,     4250,   1.5427,  34.6825,2,    157.2,2,  34.6829,2,   157.31,6,   141.58,6,    35.65,6,     0.00,6,    2.470,6, -999.000,9, -999.000,9,   -999.0,9,   -999.0,9,-999.0000,9,  -999.00, -999.000,9,  -999.00,9,  -999.00,9,   1.1870,2,  27.7776,2,   1.5426,2
49UP20220824_1,    P9,    60,  1,      1,     308,2,20220911,0626,0627, 20.5075, 136.9987, 4434,   4528.5,     4453,   1.5586,  34.6831,2,    157.9,2,  34.6835,2,   158.25,2,   141.45,2,    35.59,2,     0.00,2,    2.470,2, -999.000,9, -999.000,9,   -999.0,9,   -999.0,9,-999.0000,9,  -999.00, -999.000,9,  -999.00,9,  -999.00,9,   1.1786,2,  27.7786,2,   1.5586,2