BOTTLE,20230330JMAAMD
EXPOCODE,SECT_ID,STNNBR,CASTNO,SAMPNO,BTLNBR,BTLNBR_FLAG_U,DATE,TIME,BTL_TIME,LATITUDE,LONGITUDE,DEPTH,CTDPRS,CTDDEP,CTDTMP,CTDSAL,CTDSAL_FLAG_W,CTDOXY,CTDOXY_FLAG_W,SALNTY,SALNTY_FLAG_W,OXYGEN,OXYGEN_FLAG_W,SILCAT,SILCAT_FLAG_W,NO2+NO3,NO2+NO3_FLAG_W,NITRIT,NITRIT_FLAG_W,PHSPHT,PHSPHT_FLAG_W,CFC-11,CFC-11_FLAG_W,CFC-12,CFC-12_FLAG_W,TCARBN,TCARBN_FLAG_W,ALKALI,ALKALI_FLAG_W,PH_TS,PH_TS_FLAG_W,PH_TS_TMP,CFC113,CFC113_FLAG_W,CHLORA,CHLORA_FLAG_W,PPHYTN,PPHYTN_FLAG_W,THETA,THETA_FLAG_W,SIGTHT,SIGTHT_FLAG_W,SBE35,SBE35_FLAG_W
,,,,,,,,UTC,,,,METER,DBAR,METERS,ITS-90,PSS-78,,UMOL/KG,,PSS78,,UMOL/KG,,UMOL/KG,,UMOL/KG,,UMOL/KG,,UMOL/KG,,PMOL/KG,,PMOL/KG,,UMOL/KG,,UMOL/KG,,,,ITS-90,PMOL/KG,,UG/KG,,UG/KG,,ITS-90,,KG/M3,,ITS-90,
49UP20220824_1,    P9,    37,  1,      0,      -9,0,20220903,0506,0621,  9.0047, 136.9918, 3471,      0.0,        0,  30.2921,  33.8205,2,    193.6,2,  33.8154,2,   194.67,2,     1.14,2,     0.02,2,     0.00,2,    0.090,2, -999.000,9, -999.000,9,   1898.2,2,   2221.1,2,   8.1160,2,    25.00, -999.000,9,     0.06,2,     0.01,2,  30.2915,2,  20.7427,2,-999.0000,9
49UP20220824_1,    P9,    37,  1,     36,     757,2,20220903,0506,0657,  9.0047, 136.9918, 3471,     10.9,       11,  30.2746,  33.8234,2,    193.7,2,  33.8262,2,   194.38,2,     1.17,2,     0.08,2,     0.00,2,    0.060,2, -999.000,9, -999.000,9,   1901.1,2,   2220.4,2,   8.1119,2,    25.00, -999.000,9,     0.06,2,     0.01,2,  30.2719,2,  20.7516,2,  30.2749,2
49UP20220824_1,    P9,    37,  1,     35,     756,2,20220903,0506,0656,  9.0047, 136.9918, 3471,     26.0,       26,  30.2205,  33.8676,2,    194.0,2,  33.8837,2,   194.57,2,     1.17,2,     0.03,2,     0.00,2,    0.060,2, -999.000,9, -999.000,9,   1903.2,2,   2225.6,2,   8.1134,2,    25.00, -999.000,9,     0.07,2,     0.01,2,  30.2141,2,  20.8045,2,  30.2207,2
49UP20220824_1,    P9,    37,  1,     34,     323,2,20220903,0506,0652,  9.0047, 136.9918, 3471,     50.6,       50,  29.8068,  34.1368,2,    197.2,2,  34.1588,2,   197.16,6,     1.15,6,     0.04,6,     0.00,6,    0.080,6, -999.000,9, -999.000,9,   1920.9,2,   2239.7,2,   8.1074,2,    25.00, -999.000,9,     0.10,2,     0.02,2,  29.7944,2,  21.1491,2,  29.8073,2
49UP20220824_1,    P9,    37,  1,     33,     322,2,20220903,0506,0650,  9.0047, 136.9918, 3471,     75.5,       75,  28.9043,  34.4695,2,    196.7,2,  34.4686,2,   196.24,2,     1.34,2,     0.03,2,     0.00,2,    0.110,2, -999.000,9, -999.000,9,   1948.9,2,   2263.5,2,   8.0867,2,    25.00, -999.000,9,     0.15,2,     0.03,2,  28.8862,2,  21.7038,2,  28.8944,2
49UP20220824_1,    P9,    37,  1,     32,     321,2,20220903,0506,0649,  9.0047, 136.9918, 3471,    100.3,      100,  27.4712,  34.6100,2,    192.1,2,  34.6094,2,   191.97,2,     1.55,2,     0.02,2,     0.00,2,    0.130,2, -999.000,9, -999.000,9,   1973.1,2,   2275.7,2,   8.0604,2,    25.00, -999.000,9,  -999.00,9,  -999.00,9,  27.4479,2,  22.2804,2,  27.4753,2
49UP20220824_1,    P9,    37,  1,     31,     320,2,20220903,0506,0649,  9.0047, 136.9918, 3471,    100.3,      100,  27.4815,  34.6078,2,    192.0,2,  34.6092,2,   191.97,2,     1.59,2,     0.02,2,     0.00,2,    0.130,2, -999.000,9, -999.000,9,   1973.2,2,   2275.4,2,   8.0596,2,    25.00, -999.000,9,     0.22,2,     0.12,2,  27.4583,2,  22.2755,2,  27.4816,2
49UP20220824_1,    P9,    37,  1,     30,     319,2,20220903,0506,0647,  9.0047, 136.9918, 3471,    127.1,      126,  25.2185,  34.6945,2,    176.4,2,  34.6924,2,   175.35,2,     2.88,2,     1.89,2,     0.19,2,    0.280,2, -999.000,9, -999.000,9,   2014.3,2,   2281.2,2,   7.9980,6,    25.00, -999.000,9,     0.26,2,     0.37,2,  25.1908,2,  23.0523,2,  25.2274,2
49UP20220824_1,    P9,    37,  1,     29,     318,2,20220903,0506,0646,  9.0047, 136.9918, 3471,    150.2,      149,  22.1189,  34.7489,2,    162.9,2,  34.7476,2,   163.20,2,     4.52,2,     4.44,2,     0.10,2,    0.460,2, -999.000,9, -999.000,9,   2055.7,6,   2284.7,6,   7.9266,2,    25.00, -999.000,9,     0.14,2,     0.25,2,  22.0891,2,  24.0021,2,  22.1179,2
49UP20220824_1,    P9,    37,  1,     28,     755,2,20220903,0506,0644,  9.0047, 136.9918, 3471,    202.3,      201,  15.5073,  34.5563,2,    145.9,2,  34.5560,2,   144.64,2,    13.13,2,    13.17,2,     0.01,2,    1.020,2, -999.000,9, -999.000,9,   2119.1,2,   2279.9,2,   7.7759,2,    25.00, -999.000,9,     0.04,2,     0.04,2,  15.4761,2,  25.5245,2,  15.5291,2
49UP20220824_1,    P9,    37,  1,     27,     317,2,20220903,0506,0642,  9.0047, 136.9918, 3471,    251.5,      250,  11.7988,  34.4402,2,    117.1,2,  34.4401,6,   116.19,2,    25.26,2,    21.98,2,     0.00,2,    1.620,2, -999.000,9, -999.000,9,   2171.5,2,   2279.8,2,   7.6521,2,    25.00, -999.000,9,  -999.00,9,  -999.00,9,  11.7665,2,  26.1984,2,  11.8019,2
49UP20220824_1,    P9,    37,  1,     26,     316,2,20220903,0506,0640,  9.0047, 136.9918, 3471,    283.3,      282,  10.8924,  34.4994,2,     91.6,2,  34.4976,2,    91.03,2,    30.06,2,    26.36,2,     0.00,2,    1.920,2, -999.000,9, -999.000,9,   2200.5,2,   2285.6,2,   7.5912,2,    25.00, -999.000,9,  -999.00,9,  -999.00,9,  10.8578,2,  26.4112,2,  10.8944,2
49UP20220824_1,    P9,    37,  1,     25,     315,2,20220903,0506,0638,  9.0047, 136.9918, 3471,    322.3,      320,   9.1913,  34.4059,2,     85.3,2,  34.4073,2,    85.33,6,    38.51,6,    29.34,6,     0.00,6,    2.140,6, -999.000,9, -999.000,9,   2220.1,2,   2293.0,2,   7.5424,2,    25.00, -999.000,9,  -999.00,9,  -999.00,9,   9.1558,2,  26.6279,2,   9.1990,2
49UP20220824_1,    P9,    37,  1,     24,     753,2,20220903,0506,0635,  9.0047, 136.9918, 3471,    374.1,      372,   8.4009,  34.4710,2,     85.2,2,  34.4685,2,    84.97,2,    43.94,2,    31.66,2,     0.00,2,    2.270,2, -999.000,9, -999.000,9,   2234.8,2,   2303.1,2,   7.5312,2,    25.00, -999.000,9,  -999.00,9,  -999.00,9,   8.3617,2,  26.8037,2,   8.3992,2
49UP20220824_1,    P9,    37,  1,     23,     314,2,20220903,0506,0633,  9.0047, 136.9918, 3471,    425.4,      423,   7.8053,  34.4583,2,     89.4,2,  34.4689,2,    88.73,2,    47.00,2,    32.30,2,     0.00,2,    2.310,2, -999.000,9, -999.000,9,   2237.2,2,   2305.8,2,   7.5297,2,    25.00, -999.000,9,  -999.00,9,  -999.00,9,   7.7626,2,  26.8835,2,   7.8240,2
49UP20220824_1,    P9,    37,  1,     22,     313,2,20220903,0506,0631,  9.0047, 136.9918, 3471,    478.6,      475,   7.5054,  34.4879,2,     96.2,2,  34.4896,2,    95.53,2,    47.66,2,    32.59,2,     0.00,2,    2.320,2, -999.000,9, -999.000,9,   2238.8,2,   2309.8,2,   7.5367,2,    25.00, -999.000,9,  -999.00,9,  -999.00,9,   7.4582,2,  26.9509,2,   7.5093,2
49UP20220824_1,    P9,    37,  1,     20,     311,2,20220903,0506,0626,  9.0047, 136.9918, 3471,    580.5,      576,   6.8055,  34.5083,2,    104.1,2,  34.5089,2,   104.17,2,    51.02,2,    33.30,2,     0.00,2,    2.380,2, -999.000,9, -999.000,9,   2242.7,2,   2315.0,2,   7.5439,2,    25.00, -999.000,9,  -999.00,9,  -999.00,9,   6.7509,2,  27.0655,2,   6.8116,2
49UP20220824_1,    P9,    37,  1,     21,     312,2,20220903,0506,0626,  9.0047, 136.9918, 3471,    582.2,      578,   6.8005,  34.5080,2,    103.8,2,  34.5085,2,   103.85,2,    51.31,2,    33.44,2,     0.00,2,    2.380,2, -999.000,9, -999.000,9,   2241.5,2,   2316.9,2,   7.5427,2,    25.00, -999.000,9,  -999.00,9,  -999.00,9,   6.7457,2,  27.0660,2,   6.8015,2
49UP20220824_1,    P9,    37,  1,     19,     310,2,20220903,0506,0622,  9.0047, 136.9918, 3471,    678.0,      673,   6.4129,  34.5170,2,     92.4,2,  34.5166,2,    92.33,2,    58.32,2,    35.21,2,     0.00,2,    2.520,2, -999.000,9, -999.000,9,   2257.4,2,   2324.1,2,   7.5202,6,    25.00, -999.000,9,  -999.00,9,  -999.00,9,   6.3507,2,  27.1257,2,   6.4197,2
49UP20220824_1,    P9,    37,  1,     18,     752,2,20220903,0506,0619,  9.0047, 136.9918, 3471,    775.2,      769,   5.8561,  34.5174,2,     94.3,2,  34.5175,2,    93.93,2,    66.35,2,    35.85,2,     0.00,2,    2.570,2, -999.000,9, -999.000,9,   2267.1,6,   2330.8,6,   7.5157,2,    25.00, -999.000,9,  -999.00,9,  -999.00,9,   5.7877,2,  27.1980,2,   5.8555,2
49UP20220824_1,    P9,    37,  1,     17,     751,2,20220903,0506,0615,  9.0047, 136.9918, 3471,    877.3,      871,   5.2909,  34.5349,2,     83.1,2,  34.5342,2,    82.80,2,    78.23,2,    37.67,2,     0.00,2,    2.710,2, -999.000,9, -999.000,9,   2287.8,2,   2342.0,2,   7.4945,2,    25.00, -999.000,9,  -999.00,9,  -999.00,9,   5.2166,2,  27.2812,2,   5.2910,2
49UP20220824_1,    P9,    37,  1,     16,     328,2,20220903,0506,0612,  9.0047, 136.9918, 3471,    976.5,      969,   4.6061,  34.5475,2,     85.7,2,  34.5474,2,    85.50,6,    91.13,6,    38.37,6,     0.00,6,    2.750,6, -999.000,9, -999.000,9,   2299.3,2,   2356.9,2,   7.4930,2,    25.00, -999.000,9,  -999.00,9,  -999.00,9,   4.5278,2,  27.3698,2,   4.6064,2
49UP20220824_1,    P9,    37,  1,     15,     309,2,20220903,0506,0608,  9.0047, 136.9918, 3471,   1142.0,     1132,   3.8903,  34.5654,2,     90.0,2,  34.5653,6,    89.64,2,   105.70,2,    38.83,2,     0.00,2,    2.780,2, -999.000,9, -999.000,9,   2313.8,2,   2372.9,2,   7.4961,2,    25.00, -999.000,9,  -999.00,9,  -999.00,9,   3.8035,2,  27.4606,2,   3.8904,2
49UP20220824_1,    P9,    37,  1,     14,     326,2,20220903,0506,0603,  9.0047, 136.9918, 3471,   1345.1,     1333,   3.2190,  34.5870,2,     96.5,2,  34.5865,2,    96.03,2,   119.10,2,    38.84,2,     0.00,2,    2.770,2, -999.000,9, -999.000,9,   2323.8,2,   2388.1,2,   7.5015,2,    25.00, -999.000,9,  -999.00,9,  -999.00,9,   3.1216,2,  27.5442,2,   3.2240,2
49UP20220824_1,    P9,    37,  1,     13,     325,2,20220903,0506,0558,  9.0047, 136.9918, 3471,   1540.0,     1526,   2.8649,  34.6005,2,    101.4,2,  34.6007,2,   101.14,2,   126.41,2,    38.83,2,     0.00,2,    2.760,2, -999.000,9, -999.000,9,   2330.1,2,   2394.2,2,   7.5088,2,    25.00, -999.000,9,  -999.00,9,  -999.00,9,   2.7552,2,  27.5883,2,   2.8643,2
49UP20220824_1,    P9,    37,  1,     12,     324,2,20220903,0506,0553,  9.0047, 136.9918, 3471,   1745.0,     1728,   2.5327,  34.6162,2,    107.9,2,  34.6163,2,   107.51,2,   132.79,2,    38.44,2,     0.00,2,    2.740,2, -999.000,9, -999.000,9,   2334.1,2,   2398.5,2,   7.5172,2,    25.00, -999.000,9,  -999.00,9,  -999.00,9,   2.4101,2,  27.6306,2,   2.5321,2
49UP20220824_1,    P9,    37,  1,     11,     323,2,20220903,0506,0549,  9.0047, 136.9918, 3471,   1950.7,     1931,   2.2407,  34.6301,2,    114.4,2,  34.6288,4,   113.81,2,   138.26,2,    38.26,2,     0.00,2,    2.710,2, -999.000,9, -999.000,9,   2336.4,2,   2406.7,2,   7.5250,2,    25.00, -999.000,9,  -999.00,9,  -999.00,9,   2.1048,2,  27.6669,2,   2.2405,2
49UP20220824_1,    P9,    37,  1,      9,     750,2,20220903,0506,0543,  9.0047, 136.9918, 3471,   2150.9,     2128,   2.0352,  34.6422,2,    122.0,2,  34.6426,2,   121.58,2,   140.85,2,    37.88,2,     0.00,2,    2.670,2, -999.000,9, -999.000,9,   2334.1,2,   2408.1,2,   7.5370,2,    25.00, -999.000,9,  -999.00,9,  -999.00,9,   1.8854,2,  27.6940,2,   2.0350,2
49UP20220824_1,    P9,    37,  1,     10,     322,2,20220903,0506,0543,  9.0047, 136.9918, 3471,   2151.1,     2128,   2.0353,  34.6421,2,    121.9,2,  34.6418,2,   121.34,2,   140.78,2,    37.90,2,     0.00,2,    2.670,2, -999.000,9, -999.000,9,   2333.7,2,   2408.8,2,   7.5380,2,    25.00, -999.000,9,  -999.00,9,  -999.00,9,   1.8855,2,  27.6939,2,   2.0351,2
49UP20220824_1,    P9,    37,  1,      8,     320,2,20220903,0506,0539,  9.0047, 136.9918, 3471,   2353.0,     2327,   1.8845,  34.6503,2,    127.0,2,  34.6507,6,   126.75,2,   143.23,2,    37.63,2,     0.00,2,    2.650,2, -999.000,9, -999.000,9,   2334.5,2,   2410.8,2,   7.5447,2,    25.00, -999.000,9,  -999.00,9,  -999.00,9,   1.7195,2,  27.7133,2,   1.8841,2
49UP20220824_1,    P9,    37,  1,      7,     319,2,20220903,0506,0534,  9.0047, 136.9918, 3471,   2558.3,     2529,   1.7475,  34.6586,2,    133.6,2,  34.6589,2,   133.15,6,   144.30,6,    37.22,6,     0.00,6,    2.610,6, -999.000,9, -999.000,9,   2332.3,2,   2414.6,2,   7.5547,2,    25.00, -999.000,9,  -999.00,9,  -999.00,9,   1.5666,2,  27.7313,2,   1.7473,2
49UP20220824_1,    P9,    37,  1,      6,     318,2,20220903,0506,0529,  9.0047, 136.9918, 3471,   2767.2,     2734,   1.6807,  34.6635,2,    137.6,2,  34.6629,2,   136.88,2,   144.70,2,    36.98,2,     0.00,2,    2.590,2, -999.000,9, -999.000,9,   2331.7,2,   2412.4,2,   7.5596,6,    25.00, -999.000,9,  -999.00,9,  -999.00,9,   1.4820,2,  27.7415,2,   1.6807,2
49UP20220824_1,    P9,    37,  1,      5,     838,2,20220903,0506,0523,  9.0047, 136.9918, 3471,   2965.4,     2928,   1.6274,  34.6672,2,    140.9,2,  34.6673,2,   140.35,2,   144.94,2,    36.75,2,     0.00,2,    2.570,2, -999.000,9, -999.000,9,   2329.3,6,   2413.0,6,   7.5654,2,    25.00, -999.000,9,  -999.00,9,  -999.00,9,   1.4112,2,  27.7495,2,   1.6274,2
49UP20220824_1,    P9,    37,  1,      4,     316,2,20220903,0506,0517,  9.0047, 136.9918, 3471,   3211.3,     3169,   1.5579,  34.6733,2,    147.4,2,  34.6736,2,   147.01,2,   143.84,2,    36.26,2,     0.00,2,    2.540,2, -999.000,9, -999.000,9,   2324.5,2,   2413.0,2,   7.5754,2,    25.00, -999.000,9,  -999.00,9,  -999.00,9,   1.3194,2,  27.7610,2,   1.5578,2
49UP20220824_1,    P9,    37,  1,      3,     315,2,20220903,0506,0510,  9.0047, 136.9918, 3471,   3468.7,     3421,   1.5608,  34.6750,2,    149.0,2,  34.6744,2,   148.24,2,   143.64,2,    36.25,2,     0.00,2,    2.530,2, -999.000,9, -999.000,9,   2324.2,2,   2412.9,2,   7.5754,2,    25.00, -999.000,9,  -999.00,9,  -999.00,9,   1.2964,2,  27.7639,2,   1.5608,2
49UP20220824_1,    P9,    37,  1,      2,     314,2,20220903,0506,0506,  9.0047, 136.9918, 3471,   3578.4,     3528,   1.5283,  34.6780,2,    152.3,2,  34.6781,6,   152.12,2,   142.83,2,    35.98,2,     0.00,2,    2.510,2, -999.000,9, -999.000,9,   2322.7,2,   2412.6,2,   7.5826,2,    25.00, -999.000,9,  -999.00,9,  -999.00,9,   1.2534,2,  27.7693,2,   1.5281,2