BOTTLE,20230330JMAAMD
EXPOCODE,SECT_ID,STNNBR,CASTNO,SAMPNO,BTLNBR,BTLNBR_FLAG_U,DATE,TIME,BTL_TIME,LATITUDE,LONGITUDE,DEPTH,CTDPRS,CTDDEP,CTDTMP,CTDSAL,CTDSAL_FLAG_W,CTDOXY,CTDOXY_FLAG_W,SALNTY,SALNTY_FLAG_W,OXYGEN,OXYGEN_FLAG_W,SILCAT,SILCAT_FLAG_W,NO2+NO3,NO2+NO3_FLAG_W,NITRIT,NITRIT_FLAG_W,PHSPHT,PHSPHT_FLAG_W,CFC-11,CFC-11_FLAG_W,CFC-12,CFC-12_FLAG_W,TCARBN,TCARBN_FLAG_W,ALKALI,ALKALI_FLAG_W,PH_TS,PH_TS_FLAG_W,PH_TS_TMP,CFC113,CFC113_FLAG_W,CHLORA,CHLORA_FLAG_W,PPHYTN,PPHYTN_FLAG_W,THETA,THETA_FLAG_W,SIGTHT,SIGTHT_FLAG_W,SBE35,SBE35_FLAG_W
,,,,,,,,UTC,,,,METER,DBAR,METERS,ITS-90,PSS-78,,UMOL/KG,,PSS78,,UMOL/KG,,UMOL/KG,,UMOL/KG,,UMOL/KG,,UMOL/KG,,PMOL/KG,,PMOL/KG,,UMOL/KG,,UMOL/KG,,,,ITS-90,PMOL/KG,,UG/KG,,UG/KG,,ITS-90,,KG/M3,,ITS-90,
49UP20220824_1,    P9,    57,  1,      0,      -9,0,20220910,0651,0840, 19.0050, 137.0023, 4832,      0.0,        0,  30.3517,  34.2193,2,    192.9,2,  34.2298,2,   193.54,2,     0.80,2,     0.00,2,     0.00,2,    0.030,2, -999.000,9, -999.000,9,   1916.1,2,   2248.2,2,   8.1165,2,    25.00, -999.000,9,     0.05,2,     0.02,2,  30.3511,2,  21.0209,2,-999.0000,9
49UP20220824_1,    P9,    57,  1,     36,     757,2,20220910,0651,0859, 19.0050, 137.0023, 4832,     11.6,       12,  30.3089,  34.2151,2,    192.9,2,  34.2146,2,   193.50,2,     0.82,2,     0.00,2,     0.00,2,    0.000,2, -999.000,9, -999.000,9,   1917.8,2,   2247.2,2,   8.1182,2,    25.00, -999.000,9,     0.05,2,     0.02,2,  30.3060,2,  21.0333,2,  30.3096,2
49UP20220824_1,    P9,    57,  1,     35,     756,2,20220910,0651,0857, 19.0050, 137.0023, 4832,     27.4,       27,  30.1278,  34.2061,2,    193.6,2,  34.2049,2,   194.08,2,     0.84,2,     0.00,2,     0.00,2,    0.000,2, -999.000,9, -999.000,9,   1915.3,2,   2247.3,2,   8.1185,6,    25.00, -999.000,9,     0.05,2,     0.02,2,  30.1209,2,  21.0899,2,  30.1286,2
49UP20220824_1,    P9,    57,  1,     34,     323,2,20220910,0651,0853, 19.0050, 137.0023, 4832,     51.2,       51,  30.1281,  34.3014,2,    195.7,2,  34.3106,2,   196.26,2,     0.80,2,     0.00,2,     0.00,2,    0.000,2, -999.000,9, -999.000,9,   1922.6,6,   2253.3,6,   8.1209,2,    25.00, -999.000,9,     0.06,2,     0.03,2,  30.1154,2,  21.1632,2,  30.1229,2
49UP20220824_1,    P9,    57,  1,     33,     322,2,20220910,0651,0852, 19.0050, 137.0023, 4832,     76.5,       76,  28.0839,  34.6829,2,    213.6,2,  34.6827,2,   212.78,2,     1.13,2,     0.00,2,     0.00,2,    0.000,2, -999.000,9, -999.000,9,   1947.2,2,   2276.5,2,   8.1059,2,    25.00, -999.000,9,     0.09,2,     0.04,2,  28.0658,2,  22.1347,2,  28.0822,2
49UP20220824_1,    P9,    57,  1,     32,     321,2,20220910,0651,0851, 19.0050, 137.0023, 4832,    101.3,      101,  26.0736,  34.8117,2,    203.4,2,  34.8114,2,   203.19,6,     1.23,6,     0.00,6,     0.00,6,    0.020,6, -999.000,9, -999.000,9,   1973.7,2,   2286.1,2,   8.0757,2,    25.00, -999.000,9,     0.16,2,     0.12,2,  26.0510,2,  22.8754,2,  26.0809,2
49UP20220824_1,    P9,    57,  1,     31,     320,2,20220910,0651,0849, 19.0050, 137.0023, 4832,    126.5,      126,  24.3163,  34.8935,2,    194.9,2,  34.8932,2,   194.96,2,     1.46,2,     0.24,2,     0.07,2,    0.040,2, -999.000,9, -999.000,9,   1999.5,2,   2291.3,2,   8.0392,2,    25.00, -999.000,9,     0.21,2,     0.55,2,  24.2894,2,  23.4747,2,  24.3200,2
49UP20220824_1,    P9,    57,  1,     30,     319,2,20220910,0651,0848, 19.0050, 137.0023, 4832,    151.7,      151,  22.6770,  34.9133,2,    189.1,2,  34.9121,2,   188.88,2,     1.67,2,     1.00,2,     0.04,2,    0.090,2, -999.000,9, -999.000,9,   2019.4,2,   2291.1,2,   8.0029,2,    25.00, -999.000,9,     0.06,2,     0.24,2,  22.6464,2,  23.9692,2,  22.7052,2
49UP20220824_1,    P9,    57,  1,     29,     318,2,20220910,0651,0846, 19.0050, 137.0023, 4832,    203.9,      203,  20.1838,  34.8268,2,    196.5,2,  34.8266,2,   196.34,2,     2.38,2,     1.96,2,     0.01,2,    0.150,2, -999.000,9, -999.000,9,   2031.3,2,   2286.1,2,   7.9772,2,    25.00, -999.000,9,     0.01,2,     0.02,2,  20.1459,2,  24.5911,2,  20.1894,2
49UP20220824_1,    P9,    57,  1,     28,     755,2,20220910,0651,0844, 19.0050, 137.0023, 4832,    254.2,      253,  18.5042,  34.7954,2,    195.2,2,  34.7959,2,   195.17,2,     3.44,2,     3.76,2,     0.01,2,    0.260,2, -999.000,9, -999.000,9,   2044.9,2,   2283.7,2,   7.9432,2,    25.00, -999.000,9,  -999.00,9,  -999.00,9,  18.4597,2,  25.0012,2,  18.5071,2
49UP20220824_1,    P9,    57,  1,     27,     317,2,20220910,0651,0842, 19.0050, 137.0023, 4832,    334.2,      332,  15.8546,  34.6347,2,    191.6,2,  34.6364,2,   191.59,2,     7.81,2,     8.01,2,     0.00,2,    0.540,2, -999.000,9, -999.000,9,   2071.8,2,   2278.4,2,   7.8786,2,    25.00, -999.000,9,  -999.00,9,  -999.00,9,  15.8020,2,  25.5116,2,  15.8547,2
49UP20220824_1,    P9,    57,  1,     26,     316,2,20220910,0651,0840, 19.0050, 137.0023, 4832,    385.0,      382,  13.9140,  34.4735,2,    185.2,2,  34.4816,2,   185.59,2,    12.57,2,    11.45,2,     0.00,2,    0.790,2, -999.000,9, -999.000,9,   2095.8,2,   2272.4,2,   7.8208,2,    25.00, -999.000,9,  -999.00,9,  -999.00,9,  13.8585,2,  25.8097,2,  13.9036,2
49UP20220824_1,    P9,    57,  1,     25,     315,2,20220910,0651,0838, 19.0050, 137.0023, 4832,    434.9,      432,  11.9655,  34.3279,2,    175.4,2,  34.3304,2,   175.54,2,    19.13,2,    15.57,2,     0.00,2,    1.100,2, -999.000,9, -999.000,9,   2121.7,2,   2270.8,2,   7.7524,2,    25.00, -999.000,9,  -999.00,9,  -999.00,9,  11.9087,2,  26.0844,2,  11.9835,2
49UP20220824_1,    P9,    57,  1,     24,     753,2,20220910,0651,0836, 19.0050, 137.0023, 4832,    486.4,      483,  10.2608,  34.2321,2,    154.6,2,  34.2376,2,   155.61,2,    27.64,2,    20.41,2,     0.00,2,    1.460,2, -999.000,9, -999.000,9,   2156.4,2,   2273.9,2,   7.6742,2,    25.00, -999.000,9,  -999.00,9,  -999.00,9,  10.2031,2,  26.3176,2,  10.2584,2
49UP20220824_1,    P9,    57,  1,     23,     314,2,20220910,0651,0834, 19.0050, 137.0023, 4832,    535.9,      532,   8.7508,  34.2094,2,    115.3,2,  34.2107,2,   114.97,2,    39.91,2,    26.90,2,     0.00,2,    1.960,2, -999.000,9, -999.000,9,   2202.7,2,   2282.2,2,   7.5679,2,    25.00, -999.000,9,  -999.00,9,  -999.00,9,   8.6930,2,  26.5474,2,   8.7497,2
49UP20220824_1,    P9,    57,  1,     22,     313,2,20220910,0651,0831, 19.0050, 137.0023, 4832,    636.7,      632,   6.7076,  34.2659,2,     76.5,2,  34.2667,2,    77.42,6,    63.33,6,    34.32,6,     0.00,6,    2.480,6, -999.000,9, -999.000,9,   2259.2,2,   2306.0,2,   7.4698,2,    25.00, -999.000,9,  -999.00,9,  -999.00,9,   6.6482,2,  26.8882,2,   6.7194,2
49UP20220824_1,    P9,    57,  1,     21,     312,2,20220910,0651,0828, 19.0050, 137.0023, 4832,    738.2,      732,   5.7799,  34.3290,2,     69.7,2,  34.3297,6,    70.18,2,    77.97,2,    36.72,2,     0.00,2,    2.650,2, -999.000,9, -999.000,9,   2282.7,2,   2324.4,2,   7.4520,2,    25.00, -999.000,9,  -999.00,9,  -999.00,9,   5.7156,2,  27.0580,2,   5.7833,2
49UP20220824_1,    P9,    57,  1,     20,     311,2,20220910,0651,0825, 19.0050, 137.0023, 4832,    838.5,      832,   4.7654,  34.4092,2,     69.4,2,  34.4095,2,    69.14,2,    95.95,2,    38.35,2,     0.00,2,    2.760,2, -999.000,9, -999.000,9,   2305.9,2,   2347.3,2,   7.4501,6,    25.00, -999.000,9,  -999.00,9,  -999.00,9,   4.6982,2,  27.2411,2,   4.7744,2
49UP20220824_1,    P9,    57,  1,     19,     310,2,20220910,0651,0822, 19.0050, 137.0023, 4832,    940.6,      933,   4.2316,  34.4663,2,     73.7,2,  34.4674,2,    74.22,2,   106.14,2,    38.90,2,     0.00,2,    2.790,2, -999.000,9, -999.000,9,   2315.4,6,   2362.3,6,   7.4581,2,    25.00, -999.000,9,  -999.00,9,  -999.00,9,   4.1592,2,  27.3450,2,   4.2314,2
49UP20220824_1,    P9,    57,  1,     18,     752,2,20220910,0651,0818, 19.0050, 137.0023, 4832,   1082.4,     1073,   3.6803,  34.5148,2,     83.2,2,  34.5150,2,    83.50,2,   116.60,2,    38.79,2,     0.00,2,    2.760,2, -999.000,9, -999.000,9,   2321.6,2,   2374.5,2,   7.4764,2,    25.00, -999.000,9,  -999.00,9,  -999.00,9,   3.6004,2,  27.4406,2,   3.6803,2
49UP20220824_1,    P9,    57,  1,     17,     751,2,20220910,0651,0813, 19.0050, 137.0023, 4832,   1284.3,     1273,   3.2481,  34.5556,2,     93.3,2,  34.5557,2,    93.09,2,   123.59,2,    38.56,2,     0.00,2,    2.740,2, -999.000,9, -999.000,9,   2327.4,2,   2384.2,2,   7.4941,2,    25.00, -999.000,9,  -999.00,9,  -999.00,9,   3.1555,2,  27.5159,2,   3.2482,2
49UP20220824_1,    P9,    57,  1,     16,     328,2,20220910,0651,0809, 19.0050, 137.0023, 4832,   1486.5,     1472,   2.7922,  34.5790,2,     98.8,2,  34.5789,2,    98.57,2,   131.70,2,    38.55,2,     0.00,2,    2.730,2, -999.000,9, -999.000,9,   2333.4,2,   2395.7,2,   7.5014,2,    25.00, -999.000,9,  -999.00,9,  -999.00,9,   2.6879,2,  27.5770,2,   2.7929,2
49UP20220824_1,    P9,    57,  1,     15,     309,2,20220910,0651,0804, 19.0050, 137.0023, 4832,   1688.7,     1672,   2.5092,  34.5965,2,    103.5,2,  34.5964,2,   103.36,2,   136.37,2,    38.58,2,     0.00,2,    2.730,2, -999.000,9, -999.000,9,   2338.3,2,   2399.7,2,   7.5092,2,    25.00, -999.000,9,  -999.00,9,  -999.00,9,   2.3916,2,  27.6164,2,   2.5092,2
49UP20220824_1,    P9,    57,  1,     14,     326,2,20220910,0651,0759, 19.0050, 137.0023, 4832,   1893.3,     1873,   2.2939,  34.6093,2,    107.8,2,  34.6087,2,   107.30,2,   139.85,2,    38.56,2,     0.00,2,    2.710,2, -999.000,9, -999.000,9,   2339.8,2,   2401.4,2,   7.5118,2,    25.00, -999.000,9,  -999.00,9,  -999.00,9,   2.1622,2,  27.6457,2,   2.2946,2
49UP20220824_1,    P9,    57,  1,     13,     325,2,20220910,0651,0754, 19.0050, 137.0023, 4832,   2095.1,     2072,   2.0965,  34.6224,2,    113.2,2,  34.6228,6,   113.16,6,   142.96,6,    38.27,6,     0.00,6,    2.690,6, -999.000,9, -999.000,9,   2339.2,2,   2407.9,2,   7.5185,2,    25.00, -999.000,9,  -999.00,9,  -999.00,9,   1.9505,2,  27.6731,2,   2.0964,2
49UP20220824_1,    P9,    57,  1,     12,     324,2,20220910,0651,0750, 19.0050, 137.0023, 4832,   2298.3,     2272,   1.9401,  34.6349,2,    119.7,2,  34.6351,2,   119.93,2,   144.67,2,    38.01,2,     0.00,2,    2.660,2, -999.000,9, -999.000,9,   2337.0,2,   2409.3,2,   7.5302,2,    25.00, -999.000,9,  -999.00,9,  -999.00,9,   1.7790,2,  27.6963,2,   1.9401,2
49UP20220824_1,    P9,    57,  1,     11,     323,2,20220910,0651,0745, 19.0050, 137.0023, 4832,   2501.8,     2472,   1.8332,  34.6446,2,    125.3,2,  34.6447,2,   125.36,2,   145.58,2,    37.66,2,     0.00,2,    2.630,2, -999.000,9, -999.000,9,   2337.0,2,   2413.9,2,   7.5380,2,    25.00, -999.000,9,  -999.00,9,  -999.00,9,   1.6559,2,  27.7135,2,   1.8332,2
49UP20220824_1,    P9,    57,  1,     10,     322,2,20220910,0651,0740, 19.0050, 137.0023, 4832,   2704.4,     2671,   1.7668,  34.6513,2,    129.6,2,  34.6512,2,   129.69,2,   145.98,2,    37.37,2,     0.00,2,    2.610,2, -999.000,9, -999.000,9,   2335.1,2,   2413.4,2,   7.5443,2,    25.00, -999.000,9,  -999.00,9,  -999.00,9,   1.5723,2,  27.7250,2,   1.7668,2
49UP20220824_1,    P9,    57,  1,      9,     750,2,20220910,0651,0736, 19.0050, 137.0023, 4832,   2908.7,     2871,   1.7052,  34.6578,2,    134.3,2,  34.6588,4,   134.60,2,   145.82,2,    37.14,2,     0.00,2,    2.590,2, -999.000,9, -999.000,9,   2334.0,2,   2414.8,2,   7.5541,2,    25.00, -999.000,9,  -999.00,9,  -999.00,9,   1.4927,2,  27.7361,2,   1.7053,2
49UP20220824_1,    P9,    57,  1,      8,     320,2,20220910,0651,0731, 19.0050, 137.0023, 4832,   3123.1,     3081,   1.6497,  34.6640,2,    139.3,2,  34.6642,6,   139.53,2,   145.17,2,    36.82,2,     0.00,2,    2.570,2, -999.000,9, -999.000,9,   2331.3,2,   2412.6,2,   7.5618,2,    25.00, -999.000,9,  -999.00,9,  -999.00,9,   1.4177,2,  27.7465,2,   1.6497,2
49UP20220824_1,    P9,    57,  1,      7,     319,2,20220910,0651,0725, 19.0050, 137.0023, 4832,   3378.2,     3331,   1.6036,  34.6697,2,    144.4,2,  34.6697,2,   144.42,2,   144.45,2,    36.53,2,     0.00,2,    2.540,2, -999.000,9, -999.000,9,   2327.4,2,   2414.4,2,   7.5705,2,    25.00, -999.000,9,  -999.00,9,  -999.00,9,   1.3474,2,  27.7561,2,   1.6037,2
49UP20220824_1,    P9,    57,  1,      6,     318,2,20220910,0651,0720, 19.0050, 137.0023, 4832,   3633.6,     3581,   1.5662,  34.6749,2,    149.0,2,  34.6758,2,   149.03,2,   143.41,2,    36.09,2,     0.00,2,    2.520,2, -999.000,9, -999.000,9,   2324.5,2,   2413.8,2,   7.5760,2,    25.00, -999.000,9,  -999.00,9,  -999.00,9,   1.2846,2,  27.7647,2,   1.5665,2
49UP20220824_1,    P9,    57,  1,      5,     838,2,20220910,0651,0714, 19.0050, 137.0023, 4832,   3889.1,     3830,   1.5433,  34.6789,2,    152.7,2,  34.6786,2,   152.82,2,   142.76,2,    35.96,2,     0.00,2,    2.490,2, -999.000,9, -999.000,9,   2321.6,2,   2411.6,2,   7.5816,2,    25.00, -999.000,9,  -999.00,9,  -999.00,9,   1.2352,2,  27.7713,2,   1.5434,2
49UP20220824_1,    P9,    57,  1,      4,     316,2,20220910,0651,0709, 19.0050, 137.0023, 4832,   4145.9,     4081,   1.5174,  34.6831,2,    157.2,2,  34.6846,4,   157.25,6,   141.58,6,    35.63,6,     0.00,6,    2.470,6, -999.000,9, -999.000,9,   2317.9,2,   2409.6,2,   7.5858,2,    25.00, -999.000,9,  -999.00,9,  -999.00,9,   1.1820,2,  27.7784,2,   1.5175,2
49UP20220824_1,    P9,    57,  1,      3,     315,2,20220910,0651,0703, 19.0050, 137.0023, 4832,   4402.1,     4331,   1.5290,  34.6844,2,    158.7,2,  34.6863,4,   158.73,2,   141.14,2,    35.51,2,     0.00,2,    2.460,2, -999.000,9, -999.000,9,   2316.9,2,   2410.3,2,   7.5889,6,    25.00, -999.000,9,  -999.00,9,  -999.00,9,   1.1644,2,  27.7806,2,   1.5290,2
49UP20220824_1,    P9,    57,  1,      2,     314,2,20220910,0651,0658, 19.0050, 137.0023, 4832,   4657.8,     4580,   1.5516,  34.6849,2,    159.5,2,  34.6852,2,   159.45,2,   141.09,2,    35.55,2,     0.00,2,    2.460,2, -999.000,9, -999.000,9,   2315.9,6,   2409.9,6,   7.5905,2,    25.00, -999.000,9,  -999.00,9,  -999.00,9,   1.1566,2,  27.7816,2,   1.5515,2
49UP20220824_1,    P9,    57,  1,      1,     308,2,20220910,0651,0652, 19.0050, 137.0023, 4832,   4932.2,     4846,   1.5840,  34.6850,2,    159.7,2,  34.6857,6,   159.69,2,   140.87,2,    35.55,2,     0.00,2,    2.460,2, -999.000,9, -999.000,9,   2315.4,2,   2409.2,2,   7.5908,2,    25.00, -999.000,9,  -999.00,9,  -999.00,9,   1.1552,2,  27.7818,2,   1.5841,2