BOTTLE,20230330JMAAMD
EXPOCODE,SECT_ID,STNNBR,CASTNO,SAMPNO,BTLNBR,BTLNBR_FLAG_U,DATE,TIME,BTL_TIME,LATITUDE,LONGITUDE,DEPTH,CTDPRS,CTDDEP,CTDTMP,CTDSAL,CTDSAL_FLAG_W,CTDOXY,CTDOXY_FLAG_W,SALNTY,SALNTY_FLAG_W,OXYGEN,OXYGEN_FLAG_W,SILCAT,SILCAT_FLAG_W,NO2+NO3,NO2+NO3_FLAG_W,NITRIT,NITRIT_FLAG_W,PHSPHT,PHSPHT_FLAG_W,CFC-11,CFC-11_FLAG_W,CFC-12,CFC-12_FLAG_W,TCARBN,TCARBN_FLAG_W,ALKALI,ALKALI_FLAG_W,PH_TS,PH_TS_FLAG_W,PH_TS_TMP,CFC113,CFC113_FLAG_W,CHLORA,CHLORA_FLAG_W,PPHYTN,PPHYTN_FLAG_W,THETA,THETA_FLAG_W,SIGTHT,SIGTHT_FLAG_W,SBE35,SBE35_FLAG_W
,,,,,,,,UTC,,,,METER,DBAR,METERS,ITS-90,PSS-78,,UMOL/KG,,PSS78,,UMOL/KG,,UMOL/KG,,UMOL/KG,,UMOL/KG,,UMOL/KG,,PMOL/KG,,PMOL/KG,,UMOL/KG,,UMOL/KG,,,,ITS-90,PMOL/KG,,UG/KG,,UG/KG,,ITS-90,,KG/M3,,ITS-90,
49UP20220824_1,    P9,    29,  1,      0,      -9,0,20220901,0030,0210,  6.5097, 136.9873, 4447,      0.0,        0,  30.4185,  33.5162,2,    194.4,2,-999.0000,9,   195.16,2,     1.26,2,     0.05,2,     0.00,2,    0.040,2, -999.000,9, -999.000,9,   -999.0,9,   -999.0,9,-999.0000,9,  -999.00, -999.000,9,  -999.00,9,  -999.00,9,  30.4179,2,  20.4716,2,-999.0000,9
49UP20220824_1,    P9,    29,  1,     36,     757,2,20220901,0030,0234,  6.5097, 136.9873, 4447,     10.9,       11,  30.1000,  33.5129,2,    194.4,2,  33.5120,2,   195.18,2,     1.26,2,     0.04,2,     0.00,2,    0.020,2, -999.000,9, -999.000,9,   -999.0,9,   -999.0,9,-999.0000,9,  -999.00, -999.000,9,  -999.00,9,  -999.00,9,  30.0973,2,  20.5786,2,  30.1032,2
49UP20220824_1,    P9,    29,  1,     35,     756,2,20220901,0030,0233,  6.5097, 136.9873, 4447,     25.5,       25,  30.1497,  33.6872,2,    196.7,2,  33.6889,2,   197.22,2,     1.34,2,     0.02,2,     0.00,2,    0.020,2, -999.000,9, -999.000,9,   -999.0,9,   -999.0,9,-999.0000,9,  -999.00, -999.000,9,  -999.00,9,  -999.00,9,  30.1434,2,  20.6935,2,  30.1575,2
49UP20220824_1,    P9,    29,  1,     34,     323,2,20220901,0030,0229,  6.5097, 136.9873, 4447,     50.7,       50,  29.5651,  34.2731,2,    201.5,2,  34.2857,2,   200.97,2,     1.39,2,     0.01,2,     0.00,2,    0.070,2, -999.000,9, -999.000,9,   -999.0,9,   -999.0,9,-999.0000,9,  -999.00, -999.000,9,  -999.00,9,  -999.00,9,  29.5527,2,  21.3330,2,  29.5672,2
49UP20220824_1,    P9,    29,  1,     33,     322,2,20220901,0030,0228,  6.5097, 136.9873, 4447,     74.2,       74,  28.3104,  34.4293,2,    197.0,2,  34.4417,2,   196.69,2,     1.59,2,     0.01,2,     0.00,2,    0.090,2, -999.000,9, -999.000,9,   -999.0,9,   -999.0,9,-999.0000,9,  -999.00, -999.000,9,  -999.00,9,  -999.00,9,  28.2928,2,  21.8697,2,  28.3180,2
49UP20220824_1,    P9,    29,  1,     32,     321,2,20220901,0030,0226,  6.5097, 136.9873, 4447,    101.0,      100,  26.0141,  34.7045,2,    172.0,2,  34.7196,2,   172.61,6,     2.77,6,     1.19,6,     0.15,6,    0.260,6, -999.000,9, -999.000,9,   -999.0,9,   -999.0,9,-999.0000,9,  -999.00, -999.000,9,  -999.00,9,  -999.00,9,  25.9916,2,  22.8130,2,  26.0147,2
49UP20220824_1,    P9,    29,  1,     31,     320,2,20220901,0030,0225,  6.5097, 136.9873, 4447,    126.2,      125,  22.2261,  34.7188,2,    150.9,2,  34.7221,2,   152.18,2,     5.51,2,     5.81,2,     0.07,2,    0.530,2, -999.000,9, -999.000,9,   -999.0,9,   -999.0,9,-999.0000,9,  -999.00, -999.000,9,  -999.00,9,  -999.00,9,  22.2010,2,  23.9478,2,  22.2226,2
49UP20220824_1,    P9,    29,  1,     30,     319,2,20220901,0030,0223,  6.5097, 136.9873, 4447,    151.5,      151,  17.3328,  34.6416,2,    144.0,2,  34.6422,2,   144.45,2,    10.74,2,    11.28,2,     0.01,2,    0.860,2, -999.000,9, -999.000,9,   -999.0,9,   -999.0,9,-999.0000,9,  -999.00, -999.000,9,  -999.00,9,  -999.00,9,  17.3075,2,  25.1658,2,  17.3198,2
49UP20220824_1,    P9,    29,  1,     29,     318,2,20220901,0030,0221,  6.5097, 136.9873, 4447,    201.6,      200,  12.4857,  34.5255,2,    101.8,2,  34.5247,2,   102.14,2,    24.56,2,    22.66,2,     0.00,2,    1.640,2, -999.000,9, -999.000,9,   -999.0,9,   -999.0,9,-999.0000,9,  -999.00, -999.000,9,  -999.00,9,  -999.00,9,  12.4588,2,  26.1321,2,  12.4952,2
49UP20220824_1,    P9,    29,  1,     28,     755,2,20220901,0030,0219,  6.5097, 136.9873, 4447,    252.6,      251,  10.9081,  34.5199,2,     87.1,2,  34.5193,2,    87.30,2,    30.33,2,    26.89,2,     0.00,2,    1.930,2, -999.000,9, -999.000,9,   -999.0,9,   -999.0,9,-999.0000,9,  -999.00, -999.000,9,  -999.00,9,  -999.00,9,  10.8772,2,  26.4237,2,  10.9093,2
49UP20220824_1,    P9,    29,  1,     27,     317,2,20220901,0030,0217,  6.5097, 136.9873, 4447,    332.7,      331,   9.3163,  34.5551,2,     72.2,2,  34.5538,2,    72.44,2,    36.76,2,    31.47,2,     0.00,2,    2.230,2, -999.000,9, -999.000,9,   -999.0,9,   -999.0,9,-999.0000,9,  -999.00, -999.000,9,  -999.00,9,  -999.00,9,   9.2793,2,  26.7246,2,   9.3159,2
49UP20220824_1,    P9,    29,  1,     26,     316,2,20220901,0030,0215,  6.5097, 136.9873, 4447,    383.3,      381,   8.8325,  34.5642,2,     74.7,2,  34.5629,2,    74.96,2,    38.51,2,    32.32,2,     0.00,2,    2.280,2, -999.000,9, -999.000,9,   -999.0,9,   -999.0,9,-999.0000,9,  -999.00, -999.000,9,  -999.00,9,  -999.00,9,   8.7911,2,  26.8100,2,   8.8324,2
49UP20220824_1,    P9,    29,  1,     25,     315,2,20220901,0030,0213,  6.5097, 136.9873, 4447,    434.3,      431,   8.3786,  34.5630,2,     77.8,2,  34.5620,2,    78.06,2,    40.59,2,    33.01,2,     0.00,2,    2.320,2, -999.000,9, -999.000,9,   -999.0,9,   -999.0,9,-999.0000,9,  -999.00, -999.000,9,  -999.00,9,  -999.00,9,   8.3331,2,  26.8803,2,   8.3789,2
49UP20220824_1,    P9,    29,  1,     24,     753,2,20220901,0030,0211,  6.5097, 136.9873, 4447,    485.5,      482,   7.9847,  34.5534,2,     82.7,2,  34.5526,2,    82.81,2,    42.82,2,    33.32,2,     0.00,2,    2.340,2, -999.000,9, -999.000,9,   -999.0,9,   -999.0,9,-999.0000,9,  -999.00, -999.000,9,  -999.00,9,  -999.00,9,   7.9350,2,  26.9327,2,   7.9851,2
49UP20220824_1,    P9,    29,  1,     23,     314,2,20220901,0030,0208,  6.5097, 136.9873, 4447,    535.7,      532,   7.6917,  34.5450,2,     83.7,2,  34.5437,2,    84.11,6,    45.48,6,    33.78,6,     0.00,6,    2.380,6, -999.000,9, -999.000,9,   -999.0,9,   -999.0,9,-999.0000,9,  -999.00, -999.000,9,  -999.00,9,  -999.00,9,   7.6379,2,  26.9699,2,   7.6922,2
49UP20220824_1,    P9,    29,  1,     22,     313,2,20220901,0030,0205,  6.5097, 136.9873, 4447,    636.5,      632,   6.7904,  34.5271,2,     87.1,2,  34.5260,2,    86.97,2,    54.52,2,    35.11,2,     0.00,2,    2.480,2, -999.000,9, -999.000,9,   -999.0,9,   -999.0,9,-999.0000,9,  -999.00, -999.000,9,  -999.00,9,  -999.00,9,   6.7303,2,  27.0831,2,   6.7915,2
49UP20220824_1,    P9,    29,  1,     21,     312,2,20220901,0030,0202,  6.5097, 136.9873, 4447,    737.9,      732,   6.0909,  34.5266,2,     84.9,2,  34.5258,2,    84.94,2,    64.12,2,    36.45,2,     0.00,2,    2.580,2, -999.000,9, -999.000,9,   -999.0,9,   -999.0,9,-999.0000,9,  -999.00, -999.000,9,  -999.00,9,  -999.00,9,   6.0247,2,  27.1754,2,   6.0927,2
49UP20220824_1,    P9,    29,  1,     20,     311,2,20220901,0030,0159,  6.5097, 136.9873, 4447,    839.5,      833,   5.5293,  34.5348,2,     82.5,2,  34.5338,6,    82.72,2,    73.52,2,    37.65,2,     0.00,2,    2.660,2, -999.000,9, -999.000,9,   -999.0,9,   -999.0,9,-999.0000,9,  -999.00, -999.000,9,  -999.00,9,  -999.00,9,   5.4569,2,  27.2524,2,   5.5307,2
49UP20220824_1,    P9,    29,  1,     19,     310,2,20220901,0030,0156,  6.5097, 136.9873, 4447,    939.9,      933,   4.8553,  34.5448,2,     85.5,2,  34.5439,2,    86.13,2,    85.33,2,    38.16,2,     0.00,2,    2.710,2, -999.000,9, -999.000,9,   -999.0,9,   -999.0,9,-999.0000,9,  -999.00, -999.000,9,  -999.00,9,  -999.00,9,   4.7784,2,  27.3397,2,   4.8558,2
49UP20220824_1,    P9,    29,  1,     18,     752,2,20220901,0030,0152,  6.5097, 136.9873, 4447,   1080.3,     1072,   4.2350,  34.5593,2,     86.1,2,  34.5585,2,    86.06,2,    98.11,2,    38.84,2,     0.00,2,    2.750,2, -999.000,9, -999.000,9,   -999.0,9,   -999.0,9,-999.0000,9,  -999.00, -999.000,9,  -999.00,9,  -999.00,9,   4.1505,2,  27.4199,2,   4.2355,2
49UP20220824_1,    P9,    29,  1,     17,     751,2,20220901,0030,0147,  6.5097, 136.9873, 4447,   1282.6,     1272,   3.6439,  34.5762,2,     92.5,2,  34.5757,2,    92.79,2,   109.78,2,    38.89,2,     0.00,2,    2.750,2, -999.000,9, -999.000,9,   -999.0,9,   -999.0,9,-999.0000,9,  -999.00, -999.000,9,  -999.00,9,  -999.00,9,   3.5475,2,  27.4948,2,   3.6442,2
49UP20220824_1,    P9,    29,  1,     16,     328,2,20220901,0030,0143,  6.5097, 136.9873, 4447,   1485.9,     1472,   3.0164,  34.5975,2,     98.8,2,  34.5968,2,    99.05,2,   122.79,2,    39.05,2,     0.00,2,    2.750,2, -999.000,9, -999.000,9,   -999.0,9,   -999.0,9,-999.0000,9,  -999.00, -999.000,9,  -999.00,9,  -999.00,9,   2.9095,2,  27.5721,2,   3.0164,2
49UP20220824_1,    P9,    29,  1,     15,     309,2,20220901,0030,0138,  6.5097, 136.9873, 4447,   1687.3,     1671,   2.6238,  34.6139,2,    105.6,2,  34.6134,6,   105.81,2,   130.64,2,    38.76,2,     0.00,2,    2.720,2, -999.000,9, -999.000,9,   -999.0,9,   -999.0,9,-999.0000,9,  -999.00, -999.000,9,  -999.00,9,  -999.00,9,   2.5048,2,  27.6208,2,   2.6236,2
49UP20220824_1,    P9,    29,  1,     14,     326,2,20220901,0030,0133,  6.5097, 136.9873, 4447,   1888.2,     1869,   2.3556,  34.6267,2,    111.5,2,  34.6260,2,   111.64,6,   135.77,6,    38.50,6,     0.00,6,    2.690,6, -999.000,9, -999.000,9,   -999.0,9,   -999.0,9,-999.0000,9,  -999.00, -999.000,9,  -999.00,9,  -999.00,9,   2.2233,2,  27.6546,2,   2.3555,2
49UP20220824_1,    P9,    29,  1,     13,     325,2,20220901,0030,0128,  6.5097, 136.9873, 4447,   2093.5,     2071,   2.1401,  34.6377,2,    117.4,2,  34.6376,2,   117.25,2,   139.54,2,    38.15,2,     0.00,2,    2.660,2, -999.000,9, -999.000,9,   -999.0,9,   -999.0,9,-999.0000,9,  -999.00, -999.000,9,  -999.00,9,  -999.00,9,   1.9936,2,  27.6820,2,   2.1402,2
49UP20220824_1,    P9,    29,  1,     12,     324,2,20220901,0030,0123,  6.5097, 136.9873, 4447,   2295.6,     2270,   1.9242,  34.6500,2,    124.9,2,  34.6493,2,   125.17,2,   142.44,2,    37.71,2,     0.00,2,    2.620,2, -999.000,9, -999.000,9,   -999.0,9,   -999.0,9,-999.0000,9,  -999.00, -999.000,9,  -999.00,9,  -999.00,9,   1.7636,2,  27.7096,2,   1.9242,2
49UP20220824_1,    P9,    29,  1,     11,     323,2,20220901,0030,0118,  6.5097, 136.9873, 4447,   2497.8,     2469,   1.7693,  34.6587,2,    131.9,2,  34.6586,2,   131.97,2,   144.05,2,    37.34,2,     0.00,2,    2.590,2, -999.000,9, -999.000,9,   -999.0,9,   -999.0,9,-999.0000,9,  -999.00, -999.000,9,  -999.00,9,  -999.00,9,   1.5935,2,  27.7294,2,   1.7693,2
49UP20220824_1,    P9,    29,  1,     10,     322,2,20220901,0030,0113,  6.5097, 136.9873, 4447,   2702.4,     2670,   1.6613,  34.6651,2,    137.8,2,  34.6646,6,   137.92,2,   144.47,2,    36.99,2,     0.00,2,    2.560,2, -999.000,9, -999.000,9,   -999.0,9,   -999.0,9,-999.0000,9,  -999.00, -999.000,9,  -999.00,9,  -999.00,9,   1.4690,2,  27.7437,2,   1.6612,2
49UP20220824_1,    P9,    29,  1,      9,     750,2,20220901,0030,0108,  6.5097, 136.9873, 4447,   2906.1,     2870,   1.6078,  34.6692,2,    141.6,2,  34.6681,2,   141.89,2,   144.71,2,    36.75,2,     0.00,2,    2.540,2, -999.000,9, -999.000,9,   -999.0,9,   -999.0,9,-999.0000,9,  -999.00, -999.000,9,  -999.00,9,  -999.00,9,   1.3975,2,  27.7521,2,   1.6077,2
49UP20220824_1,    P9,    29,  1,      8,     320,2,20220901,0030,0103,  6.5097, 136.9873, 4447,   3121.1,     3081,   1.5719,  34.6727,2,    145.2,2,  34.6720,2,   145.35,2,   144.29,2,    36.49,2,     0.00,2,    2.520,2, -999.000,9, -999.000,9,   -999.0,9,   -999.0,9,-999.0000,9,  -999.00, -999.000,9,  -999.00,9,  -999.00,9,   1.3418,2,  27.7589,2,   1.5716,2
49UP20220824_1,    P9,    29,  1,      7,     319,2,20220901,0030,0057,  6.5097, 136.9873, 4447,   3376.8,     3331,   1.5427,  34.6765,2,    148.6,2,  34.6759,2,   148.79,2,   143.95,2,    36.32,2,     0.00,2,    2.500,2, -999.000,9, -999.000,9,   -999.0,9,   -999.0,9,-999.0000,9,  -999.00, -999.000,9,  -999.00,9,  -999.00,9,   1.2880,2,  27.7657,2,   1.5427,2
49UP20220824_1,    P9,    29,  1,      6,     318,2,20220901,0030,0051,  6.5097, 136.9873, 4447,   3631.6,     3581,   1.5333,  34.6794,2,    150.6,2,  34.6788,2,   150.92,2,   143.42,2,    36.22,2,     0.00,2,    2.490,2, -999.000,9, -999.000,9,   -999.0,9,   -999.0,9,-999.0000,9,  -999.00, -999.000,9,  -999.00,9,  -999.00,9,   1.2527,2,  27.7705,2,   1.5332,2
49UP20220824_1,    P9,    29,  1,      5,     838,2,20220901,0030,0046,  6.5097, 136.9873, 4447,   3888.2,     3831,   1.5149,  34.6822,2,    154.1,2,  34.6820,2,   154.34,6,   142.74,6,    35.90,6,     0.00,6,    2.470,6, -999.000,9, -999.000,9,   -999.0,9,   -999.0,9,-999.0000,9,  -999.00, -999.000,9,  -999.00,9,  -999.00,9,   1.2077,2,  27.7759,2,   1.5147,2
49UP20220824_1,    P9,    29,  1,      4,     316,2,20220901,0030,0040,  6.5097, 136.9873, 4447,   4143.7,     4081,   1.4955,  34.6859,2,    158.2,2,  34.6856,2,   158.53,2,   141.66,2,    35.64,2,     0.00,2,    2.450,2, -999.000,9, -999.000,9,   -999.0,9,   -999.0,9,-999.0000,9,  -999.00, -999.000,9,  -999.00,9,  -999.00,9,   1.1609,2,  27.7821,2,   1.4954,2
49UP20220824_1,    P9,    29,  1,      2,     314,2,20220901,0030,0034,  6.5097, 136.9873, 4447,   4398.4,     4329,   1.5022,  34.6874,2,    160.4,2,  34.6866,2,   160.73,2,   141.14,2,    35.48,2,     0.00,2,    2.440,2, -999.000,9, -999.000,9,   -999.0,9,   -999.0,9,-999.0000,9,  -999.00, -999.000,9,  -999.00,9,  -999.00,9,   1.1389,2,  27.7848,2,   1.5022,2
49UP20220824_1,    P9,    29,  1,      3,     315,2,20220901,0030,0034,  6.5097, 136.9873, 4447,   4398.5,     4329,   1.5023,  34.6874,2,    160.4,2,  34.6866,2,   160.54,2,   140.92,2,    35.50,2,     0.00,2,    2.440,2, -999.000,9, -999.000,9,   -999.0,9,   -999.0,9,-999.0000,9,  -999.00, -999.000,9,  -999.00,9,  -999.00,9,   1.1389,2,  27.7848,2,   1.5022,2
49UP20220824_1,    P9,    29,  1,      1,     308,2,20220901,0030,0031,  6.5097, 136.9873, 4447,   4508.5,     4436,   1.5147,  34.6875,2,    160.6,2,  34.6871,6,   160.71,2,   140.95,2,    35.55,2,     0.00,2,    2.440,2, -999.000,9, -999.000,9,   -999.0,9,   -999.0,9,-999.0000,9,  -999.00, -999.000,9,  -999.00,9,  -999.00,9,   1.1383,2,  27.7849,2,   1.5144,2