BOTTLE,20230330JMAAMD
EXPOCODE,SECT_ID,STNNBR,CASTNO,SAMPNO,BTLNBR,BTLNBR_FLAG_U,DATE,TIME,BTL_TIME,LATITUDE,LONGITUDE,DEPTH,CTDPRS,CTDDEP,CTDTMP,CTDSAL,CTDSAL_FLAG_W,CTDOXY,CTDOXY_FLAG_W,SALNTY,SALNTY_FLAG_W,OXYGEN,OXYGEN_FLAG_W,SILCAT,SILCAT_FLAG_W,NO2+NO3,NO2+NO3_FLAG_W,NITRIT,NITRIT_FLAG_W,PHSPHT,PHSPHT_FLAG_W,CFC-11,CFC-11_FLAG_W,CFC-12,CFC-12_FLAG_W,TCARBN,TCARBN_FLAG_W,ALKALI,ALKALI_FLAG_W,PH_TS,PH_TS_FLAG_W,PH_TS_TMP,CFC113,CFC113_FLAG_W,CHLORA,CHLORA_FLAG_W,PPHYTN,PPHYTN_FLAG_W,THETA,THETA_FLAG_W,SIGTHT,SIGTHT_FLAG_W,SBE35,SBE35_FLAG_W
,,,,,,,,UTC,,,,METER,DBAR,METERS,ITS-90,PSS-78,,UMOL/KG,,PSS78,,UMOL/KG,,UMOL/KG,,UMOL/KG,,UMOL/KG,,UMOL/KG,,PMOL/KG,,PMOL/KG,,UMOL/KG,,UMOL/KG,,,,ITS-90,PMOL/KG,,UG/KG,,UG/KG,,ITS-90,,KG/M3,,ITS-90,
49UP20220824_1,    P9,    45,  1,      0,      -9,0,20220906,0241,0425, 12.9855, 137.0070, 4890,      0.0,        0,  30.7884,  34.3090,2,    192.0,2,  34.3193,2,   192.25,2,     1.21,2,     0.02,2,     0.00,2,    0.100,2, -999.000,9, -999.000,9,   1930.0,2,   2252.1,2,   8.1059,2,    25.00, -999.000,9,     0.05,2,     0.01,2,  30.7878,2,  20.9376,2,-999.0000,9
49UP20220824_1,    P9,    45,  1,     36,     757,2,20220906,0241,0458, 12.9855, 137.0070, 4890,     10.8,       11,  30.4952,  34.2883,2,    192.9,2,  34.2881,2,   193.43,2,     1.21,2,     0.00,2,     0.00,2,    0.070,2, -999.000,9, -999.000,9,   1929.1,2,   2250.5,2,   8.1090,2,    25.00, -999.000,9,     0.05,2,     0.01,2,  30.4925,2,  21.0241,2,  30.4978,2
49UP20220824_1,    P9,    45,  1,     35,     756,2,20220906,0241,0454, 12.9855, 137.0070, 4890,     50.7,       50,  29.2835,  34.5924,2,    203.2,2,  34.6195,2,   203.84,6,     1.21,6,     0.00,6,     0.00,6,    0.080,6, -999.000,9, -999.000,9,   1950.5,2,   2273.2,2,   8.0984,2,    25.00, -999.000,9,     0.06,2,     0.01,2,  29.2711,2,  21.6673,2,  29.2803,2
49UP20220824_1,    P9,    45,  1,     34,     323,2,20220906,0241,0452, 12.9855, 137.0070, 4890,     75.3,       75,  28.4098,  34.7110,2,    205.3,2,  34.7233,2,   204.66,2,     1.22,2,     0.02,2,     0.00,2,    0.080,2, -999.000,9, -999.000,9,   1961.0,2,   2282.3,2,   8.0918,2,    25.00, -999.000,9,     0.09,2,     0.01,2,  28.3919,2,  22.0488,2,  28.4033,2
49UP20220824_1,    P9,    45,  1,     33,     322,2,20220906,0241,0450, 12.9855, 137.0070, 4890,    100.9,      100,  27.7514,  34.8006,2,    203.0,2,  34.7987,2,   202.21,2,     1.16,2,     0.09,2,     0.00,2,    0.090,2, -999.000,9, -999.000,9,   1970.0,2,   2284.3,2,   8.0828,2,    25.00, -999.000,9,     0.16,2,     0.04,2,  27.7278,2,  22.3333,2,  27.7526,2
49UP20220824_1,    P9,    45,  1,     32,     321,2,20220906,0241,0449, 12.9855, 137.0070, 4890,    126.4,      126,  26.5020,  34.8596,2,    194.9,2,  34.8591,2,   194.66,2,     1.29,2,     0.02,2,     0.01,2,    0.090,2, -999.000,9, -999.000,9,   1991.0,2,   2292.0,2,   8.0568,6,    25.00, -999.000,9,     0.28,2,     0.22,2,  26.4734,2,  22.7791,2,  26.5025,2
49UP20220824_1,    P9,    45,  1,     31,     320,2,20220906,0241,0447, 12.9855, 137.0070, 4890,    151.1,      150,  24.5505,  34.9146,2,    183.6,2,  34.9172,2,   183.02,2,     1.66,2,     0.61,2,     0.13,2,    0.160,2, -999.000,9, -999.000,9,   2023.6,6,   2294.1,6,   8.0034,2,    25.00, -999.000,9,     0.22,2,     0.17,2,  24.5181,2,  23.4222,2,  24.5473,2
49UP20220824_1,    P9,    45,  1,     30,     319,2,20220906,0241,0445, 12.9855, 137.0070, 4890,    201.3,      200,  20.5899,  34.8763,2,    172.5,2,  34.8852,2,   174.08,2,     3.51,2,     3.59,2,     0.01,2,    0.340,2, -999.000,9, -999.000,9,   2062.6,2,   2291.9,2,   7.9265,2,    25.00, -999.000,9,     0.03,2,     0.04,2,  20.5519,2,  24.5207,2,  20.5486,2
49UP20220824_1,    P9,    45,  1,     29,     318,2,20220906,0241,0443, 12.9855, 137.0070, 4890,    251.3,      250,  15.5680,  34.5667,2,    165.7,2,  34.5705,2,   165.93,2,     9.89,2,    10.30,2,     0.00,2,    0.790,2, -999.000,9, -999.000,9,   2102.1,2,   2276.5,2,   7.8157,2,    25.00, -999.000,9,  -999.00,9,  -999.00,9,  15.5290,2,  25.5207,2,  15.5690,2
49UP20220824_1,    P9,    45,  1,     28,     755,2,20220906,0241,0440, 12.9855, 137.0070, 4890,    332.3,      330,  10.7632,  34.3239,2,    119.9,2,  34.3211,2,   120.56,2,    27.68,2,    22.76,2,     0.00,2,    1.690,2, -999.000,9, -999.000,9,   2178.4,2,   2274.3,2,   7.6203,2,    25.00, -999.000,9,  -999.00,9,  -999.00,9,  10.7229,2,  26.2985,2,  10.7662,2
49UP20220824_1,    P9,    45,  1,     27,     317,2,20220906,0241,0438, 12.9855, 137.0070, 4890,    382.6,      380,   9.3414,  34.3170,2,    102.5,2,  34.3175,2,   101.82,2,    37.58,2,    27.24,2,     0.00,2,    1.990,2, -999.000,9, -999.000,9,   2208.2,2,   2283.6,2,   7.5634,2,    25.00, -999.000,9,  -999.00,9,  -999.00,9,   9.2988,2,  26.5352,2,   9.3422,2
49UP20220824_1,    P9,    45,  1,     26,     316,2,20220906,0241,0436, 12.9855, 137.0070, 4890,    435.1,      432,   8.1296,  34.3575,2,     82.4,2,  34.3555,2,    82.42,6,    47.93,6,    31.55,6,     0.00,6,    2.290,6, -999.000,9, -999.000,9,   2237.6,2,   2298.1,2,   7.5109,2,    25.00, -999.000,9,  -999.00,9,  -999.00,9,   8.0849,2,  26.7565,2,   8.1316,2
49UP20220824_1,    P9,    45,  1,     25,     315,2,20220906,0241,0433, 12.9855, 137.0070, 4890,    483.5,      480,   7.8233,  34.3874,2,     78.4,2,  34.3878,2,    78.97,2,    51.17,2,    32.72,2,     0.00,2,    2.370,2, -999.000,9, -999.000,9,   2245.6,2,   2302.4,2,   7.5021,2,    25.00, -999.000,9,  -999.00,9,  -999.00,9,   7.7745,2,  26.8260,2,   7.8255,2
49UP20220824_1,    P9,    45,  1,     24,     753,2,20220906,0241,0431, 12.9855, 137.0070, 4890,    533.8,      530,   7.3274,  34.4147,2,     79.0,2,  34.4206,2,    78.97,2,    55.16,2,    33.77,2,     0.00,2,    2.430,2, -999.000,9, -999.000,9,   2251.5,2,   2310.0,2,   7.5010,2,    25.00, -999.000,9,  -999.00,9,  -999.00,9,   7.2753,2,  26.9193,2,   7.3298,2
49UP20220824_1,    P9,    45,  1,     23,     314,2,20220906,0241,0428, 12.9855, 137.0070, 4890,    635.0,      630,   6.3745,  34.4491,2,     84.0,2,  34.4496,2,    83.83,2,    65.47,2,    35.32,2,     0.00,2,    2.530,2, -999.000,9, -999.000,9,   2270.8,2,   2322.0,2,   7.4991,2,    25.00, -999.000,9,  -999.00,9,  -999.00,9,   6.3167,2,  27.0765,2,   6.3758,2
49UP20220824_1,    P9,    45,  1,     22,     313,2,20220906,0241,0425, 12.9855, 137.0070, 4890,    736.0,      730,   5.8075,  34.4509,2,     87.1,2,  34.4503,2,    86.64,2,    74.22,2,    35.90,2,     0.00,2,    2.570,2, -999.000,9, -999.000,9,   2274.0,2,   2331.0,2,   7.4952,2,    25.00, -999.000,9,  -999.00,9,  -999.00,9,   5.7431,2,  27.1510,2,   5.8102,2
49UP20220824_1,    P9,    45,  1,     21,     312,2,20220906,0241,0422, 12.9855, 137.0070, 4890,    837.3,      831,   5.3003,  34.4837,2,     85.8,2,  34.4839,2,    85.51,2,    81.23,2,    36.89,2,     0.00,2,    2.650,2, -999.000,9, -999.000,9,   2283.3,2,   2340.7,2,   7.4920,2,    25.00, -999.000,9,  -999.00,9,  -999.00,9,   5.2297,2,  27.2391,2,   5.3000,2
49UP20220824_1,    P9,    45,  1,     20,     311,2,20220906,0241,0419, 12.9855, 137.0070, 4890,    939.5,      932,   4.9648,  34.5252,2,     83.4,2,  34.5254,2,    82.89,2,    85.33,2,    37.99,2,     0.00,2,    2.720,2, -999.000,9, -999.000,9,   2294.1,2,   2347.6,2,   7.4887,2,    25.00, -999.000,9,  -999.00,9,  -999.00,9,   4.8872,2,  27.3118,2,   4.9647,2
49UP20220824_1,    P9,    45,  1,     19,     310,2,20220906,0241,0415, 12.9855, 137.0070, 4890,   1079.4,     1070,   4.2564,  34.5436,2,     90.2,2,  34.5435,2,    90.30,2,    99.42,2,    38.14,2,     0.00,2,    2.730,2, -999.000,9, -999.000,9,   2306.7,2,   2363.3,2,   7.4972,2,    25.00, -999.000,9,  -999.00,9,  -999.00,9,   4.1719,2,  27.4051,2,   4.2560,2
49UP20220824_1,    P9,    45,  1,     18,     752,2,20220906,0241,0410, 12.9855, 137.0070, 4890,   1281.1,     1270,   3.5781,  34.5632,2,     92.9,2,  34.5632,2,    92.83,2,   113.95,2,    38.56,2,     0.00,2,    2.760,2, -999.000,9, -999.000,9,   2320.6,2,   2377.9,2,   7.4981,2,    25.00, -999.000,9,  -999.00,9,  -999.00,9,   3.4825,2,  27.4908,2,   3.5782,2
49UP20220824_1,    P9,    45,  1,     17,     751,2,20220906,0241,0405, 12.9855, 137.0070, 4890,   1484.0,     1470,   3.0203,  34.5797,2,     97.7,2,  34.5802,2,    97.36,6,   126.24,6,    38.62,6,     0.00,6,    2.750,6, -999.000,9, -999.000,9,   2330.2,2,   2389.4,2,   7.5015,2,    25.00, -999.000,9,  -999.00,9,  -999.00,9,   2.9136,2,  27.5575,2,   3.0201,2
49UP20220824_1,    P9,    45,  1,     16,     328,2,20220906,0241,0400, 12.9855, 137.0070, 4890,   1687.5,     1671,   2.6146,  34.5988,2,    103.4,2,  34.5992,6,   103.33,2,   134.01,2,    38.55,2,     0.00,2,    2.730,2, -999.000,9, -999.000,9,   2338.1,2,   2398.1,2,   7.5073,2,    25.00, -999.000,9,  -999.00,9,  -999.00,9,   2.4957,2,  27.6095,2,   2.6153,2
49UP20220824_1,    P9,    45,  1,     15,     309,2,20220906,0241,0355, 12.9855, 137.0070, 4890,   1890.1,     1871,   2.3148,  34.6186,2,    109.8,2,  34.6194,2,   109.56,2,   138.52,2,    38.40,2,     0.00,2,    2.720,2, -999.000,9, -999.000,9,   2338.9,2,   2403.5,2,   7.5172,6,    25.00, -999.000,9,  -999.00,9,  -999.00,9,   2.1830,2,  27.6514,2,   2.3148,2
49UP20220824_1,    P9,    45,  1,     14,     326,2,20220906,0241,0350, 12.9855, 137.0070, 4890,   2093.2,     2071,   2.1327,  34.6309,2,    114.7,2,  34.6313,2,   114.49,2,   141.55,2,    38.25,2,     0.00,2,    2.690,2, -999.000,9, -999.000,9,   2338.8,6,   2406.8,6,   7.5244,2,    25.00, -999.000,9,  -999.00,9,  -999.00,9,   1.9863,2,  27.6771,2,   2.1328,2
49UP20220824_1,    P9,    45,  1,     13,     325,2,20220906,0241,0345, 12.9855, 137.0070, 4890,   2296.9,     2271,   1.9397,  34.6427,2,    121.0,2,  34.6433,2,   120.81,2,   145.04,4,    37.86,2,     0.00,2,    2.690,4, -999.000,9, -999.000,9,   2339.0,2,   2409.7,2,   7.5352,2,    25.00, -999.000,9,  -999.00,9,  -999.00,9,   1.7787,2,  27.7027,2,   1.9397,2
49UP20220824_1,    P9,    45,  1,     12,     324,2,20220906,0241,0340, 12.9855, 137.0070, 4890,   2498.5,     2469,   1.8086,  34.6513,2,    126.4,2,  34.6514,2,   126.53,2,   146.81,2,    37.48,2,     0.00,2,    2.640,2, -999.000,9, -999.000,9,   2336.9,2,   2411.6,2,   7.5431,2,    25.00, -999.000,9,  -999.00,9,  -999.00,9,   1.6320,2,  27.7206,2,   1.8087,2
49UP20220824_1,    P9,    45,  1,     11,     323,2,20220906,0241,0336, 12.9855, 137.0070, 4890,   2703.2,     2670,   1.7337,  34.6575,2,    130.7,2,  34.6576,2,   130.39,2,   147.91,2,    37.33,2,     0.00,2,    2.620,2, -999.000,9, -999.000,9,   2337.4,2,   2411.0,2,   7.5488,2,    25.00, -999.000,9,  -999.00,9,  -999.00,9,   1.5399,2,  27.7324,2,   1.7336,2
49UP20220824_1,    P9,    45,  1,     10,     322,2,20220906,0241,0331, 12.9855, 137.0070, 4890,   2907.1,     2871,   1.6630,  34.6636,2,    135.2,2,  34.6636,2,   134.94,2,   147.63,2,    37.17,2,     0.00,2,    2.590,2, -999.000,9, -999.000,9,   2331.9,2,   2415.7,2,   7.5538,2,    25.00, -999.000,9,  -999.00,9,  -999.00,9,   1.4515,2,  27.7438,2,   1.6630,2
49UP20220824_1,    P9,    45,  1,      9,     750,2,20220906,0241,0325, 12.9855, 137.0070, 4890,   3121.1,     3080,   1.6199,  34.6682,2,    140.3,2,  34.6681,2,   139.91,6,   146.36,2,    36.81,2,     0.00,2,    2.570,2, -999.000,9, -999.000,9,   2329.4,2,   2413.5,2,   7.5640,2,    25.00, -999.000,9,  -999.00,9,  -999.00,9,   1.3888,2,  27.7519,2,   1.6200,2
49UP20220824_1,    P9,    45,  1,      8,     320,2,20220906,0241,0319, 12.9855, 137.0070, 4890,   3376.6,     3331,   1.5738,  34.6732,2,    146.0,2,  34.6737,2,   145.77,2,   144.98,6,    36.42,6,     0.00,6,    2.540,6, -999.000,9, -999.000,9,   2327.5,2,   2412.0,2,   7.5733,2,    25.00, -999.000,9,  -999.00,9,  -999.00,9,   1.3184,2,  27.7609,2,   1.5739,2
49UP20220824_1,    P9,    45,  1,      7,     319,2,20220906,0241,0313, 12.9855, 137.0070, 4890,   3632.0,     3580,   1.5309,  34.6781,2,    151.5,2,  34.6783,6,   151.37,2,   143.46,2,    36.01,2,     0.00,2,    2.510,2, -999.000,9, -999.000,9,   2321.9,2,   2411.8,2,   7.5804,2,    25.00, -999.000,9,  -999.00,9,  -999.00,9,   1.2503,2,  27.7696,2,   1.5310,2
49UP20220824_1,    P9,    45,  1,      6,     318,2,20220906,0241,0307, 12.9855, 137.0070, 4890,   3888.2,     3831,   1.5110,  34.6817,2,    155.6,2,  34.6809,2,   155.35,2,   142.29,2,    35.79,2,     0.00,2,    2.480,2, -999.000,9, -999.000,9,   2320.1,2,   2409.5,2,   7.5859,2,    25.00, -999.000,9,  -999.00,9,  -999.00,9,   1.2039,2,  27.7757,2,   1.5109,2
49UP20220824_1,    P9,    45,  1,      5,     838,2,20220906,0241,0301, 12.9855, 137.0070, 4890,   4144.5,     4081,   1.5137,  34.6835,2,    157.8,2,  34.6831,6,   157.54,2,   141.57,2,    35.56,2,     0.00,2,    2.470,2, -999.000,9, -999.000,9,   2318.4,2,   2408.6,2,   7.5871,6,    25.00, -999.000,9,  -999.00,9,  -999.00,9,   1.1786,2,  27.7789,2,   1.5137,2
49UP20220824_1,    P9,    45,  1,      4,     316,2,20220906,0241,0255, 12.9855, 137.0070, 4890,   4401.3,     4331,   1.5179,  34.6853,2,    160.0,2,  34.6851,2,   159.69,2,   140.45,2,    35.45,2,     0.00,2,    2.460,2, -999.000,9, -999.000,9,   2316.8,6,   2408.4,6,   7.5896,2,    25.00, -999.000,9,  -999.00,9,  -999.00,9,   1.1537,2,  27.7821,2,   1.5179,2
49UP20220824_1,    P9,    45,  1,      3,     315,2,20220906,0241,0249, 12.9855, 137.0070, 4890,   4656.3,     4579,   1.5387,  34.6860,2,    160.9,2,  34.6859,2,   160.75,2,   140.42,2,    35.41,2,     0.00,2,    2.460,2, -999.000,9, -999.000,9,   2316.4,2,   2407.5,2,   7.5923,2,    25.00, -999.000,9,  -999.00,9,  -999.00,9,   1.1443,2,  27.7833,2,   1.5387,2
49UP20220824_1,    P9,    45,  1,      2,     314,2,20220906,0241,0244, 12.9855, 137.0070, 4890,   4913.7,     4830,   1.5676,  34.6863,2,    161.2,2,  34.6861,2,   160.90,2,   140.59,2,    35.37,2,     0.00,2,    2.450,2, -999.000,9, -999.000,9,   2315.3,2,   2407.8,2,   7.5920,2,    25.00, -999.000,9,  -999.00,9,  -999.00,9,   1.1416,2,  27.7837,2,   1.5676,2
49UP20220824_1,    P9,    45,  1,      1,     308,2,20220906,0241,0241, 12.9855, 137.0070, 4890,   4992.0,     4906,   1.5763,  34.6862,2,    161.4,2,  34.6861,6,   161.11,2,   140.52,2,    35.39,2,     0.00,2,    2.460,2, -999.000,9, -999.000,9,   2316.1,2,   2405.8,2,   7.5928,2,    25.00, -999.000,9,  -999.00,9,  -999.00,9,   1.1405,2,  27.7837,2,   1.5762,2