BOTTLE,20230330JMAAMD
EXPOCODE,SECT_ID,STNNBR,CASTNO,SAMPNO,BTLNBR,BTLNBR_FLAG_U,DATE,TIME,BTL_TIME,LATITUDE,LONGITUDE,DEPTH,CTDPRS,CTDDEP,CTDTMP,CTDSAL,CTDSAL_FLAG_W,CTDOXY,CTDOXY_FLAG_W,SALNTY,SALNTY_FLAG_W,OXYGEN,OXYGEN_FLAG_W,SILCAT,SILCAT_FLAG_W,NO2+NO3,NO2+NO3_FLAG_W,NITRIT,NITRIT_FLAG_W,PHSPHT,PHSPHT_FLAG_W,CFC-11,CFC-11_FLAG_W,CFC-12,CFC-12_FLAG_W,TCARBN,TCARBN_FLAG_W,ALKALI,ALKALI_FLAG_W,PH_TS,PH_TS_FLAG_W,PH_TS_TMP,CFC113,CFC113_FLAG_W,CHLORA,CHLORA_FLAG_W,PPHYTN,PPHYTN_FLAG_W,THETA,THETA_FLAG_W,SIGTHT,SIGTHT_FLAG_W,SBE35,SBE35_FLAG_W
,,,,,,,,UTC,,,,METER,DBAR,METERS,ITS-90,PSS-78,,UMOL/KG,,PSS78,,UMOL/KG,,UMOL/KG,,UMOL/KG,,UMOL/KG,,UMOL/KG,,PMOL/KG,,PMOL/KG,,UMOL/KG,,UMOL/KG,,,,ITS-90,PMOL/KG,,UG/KG,,UG/KG,,ITS-90,,KG/M3,,ITS-90,
49UP20220824_1,    P9,    58,  1,      0,      -9,0,20220910,1502,1645, 19.5002, 137.0145, 4461,      0.0,        0,  30.3650,  34.0950,2,    192.3,2,-999.0000,9,   193.33,2,     1.20,2,     0.03,2,     0.00,2,    0.040,2, -999.000,9, -999.000,9,   -999.0,9,   -999.0,9,-999.0000,9,  -999.00, -999.000,9,  -999.00,9,  -999.00,9,  30.3643,2,  20.9233,2,-999.0000,9
49UP20220824_1,    P9,    58,  1,     36,     757,2,20220910,1502,1714, 19.5002, 137.0145, 4461,     10.6,       11,  30.3683,  34.0954,2,    192.4,2,  34.0944,2,   193.95,2,     1.16,2,     0.03,2,     0.00,2,    0.010,2, -999.000,9, -999.000,9,   -999.0,9,   -999.0,9,-999.0000,9,  -999.00, -999.000,9,  -999.00,9,  -999.00,9,  30.3657,2,  20.9232,2,  30.3678,2
49UP20220824_1,    P9,    58,  1,     35,     756,2,20220910,1502,1712, 19.5002, 137.0145, 4461,     25.8,       26,  30.3775,  34.0953,2,    192.4,2,  34.0954,2,   193.70,2,     1.20,2,     0.02,2,     0.00,2,    0.000,2, -999.000,9, -999.000,9,   -999.0,9,   -999.0,9,-999.0000,9,  -999.00, -999.000,9,  -999.00,9,  -999.00,9,  30.3711,2,  20.9212,2,  30.3742,2
49UP20220824_1,    P9,    58,  1,     34,     323,2,20220910,1502,1708, 19.5002, 137.0145, 4461,     50.5,       50,  29.0741,  34.4352,2,    209.5,2,  34.4369,2,   209.28,2,     1.13,2,     0.05,2,     0.00,2,    0.010,2, -999.000,9, -999.000,9,   -999.0,9,   -999.0,9,-999.0000,9,  -999.00, -999.000,9,  -999.00,9,  -999.00,9,  29.0619,2,  21.6194,2,  29.0780,2
49UP20220824_1,    P9,    58,  1,     33,     322,2,20220910,1502,1707, 19.5002, 137.0145, 4461,     75.6,       75,  26.5318,  34.6223,2,    209.2,2,  34.6336,2,   208.98,2,     1.23,2,     0.07,2,     0.00,2,    0.020,2, -999.000,9, -999.000,9,   -999.0,9,   -999.0,9,-999.0000,9,  -999.00, -999.000,9,  -999.00,9,  -999.00,9,  26.5147,2,  22.5872,2,  26.5342,2
49UP20220824_1,    P9,    58,  1,     32,     321,2,20220910,1502,1705, 19.5002, 137.0145, 4461,    101.1,      100,  25.2004,  34.7560,2,    201.3,2,  34.7531,2,   202.31,2,     1.32,2,     0.02,2,     0.00,2,    0.030,2, -999.000,9, -999.000,9,   -999.0,9,   -999.0,9,-999.0000,9,  -999.00, -999.000,9,  -999.00,9,  -999.00,9,  25.1784,2,  23.1025,2,  25.1945,2
49UP20220824_1,    P9,    58,  1,     31,     320,2,20220910,1502,1703, 19.5002, 137.0145, 4461,    126.3,      125,  23.7314,  34.7681,2,    200.2,2,  34.7694,2,   200.60,6,     1.52,6,     0.11,6,     0.06,6,    0.040,6, -999.000,9, -999.000,9,   -999.0,9,   -999.0,9,-999.0000,9,  -999.00, -999.000,9,  -999.00,9,  -999.00,9,  23.7051,2,  23.5528,2,  23.7308,2
49UP20220824_1,    P9,    58,  1,     30,     319,2,20220910,1502,1701, 19.5002, 137.0145, 4461,    151.5,      151,  22.5449,  34.7737,2,    203.1,2,  34.7742,2,   203.32,2,     1.72,2,     0.45,2,     0.18,2,    0.060,2, -999.000,9, -999.000,9,   -999.0,9,   -999.0,9,-999.0000,9,  -999.00, -999.000,9,  -999.00,9,  -999.00,9,  22.5145,2,  23.9008,2,  22.5475,2
49UP20220824_1,    P9,    58,  1,     29,     318,2,20220910,1502,1659, 19.5002, 137.0145, 4461,    201.7,      200,  19.7762,  34.8484,2,    192.4,2,  34.8512,2,   193.32,2,     2.60,2,     2.53,2,     0.01,2,    0.190,2, -999.000,9, -999.000,9,   -999.0,9,   -999.0,9,-999.0000,9,  -999.00, -999.000,9,  -999.00,9,  -999.00,9,  19.7393,2,  24.7145,2,  19.8105,2
49UP20220824_1,    P9,    58,  1,     28,     755,2,20220910,1502,1657, 19.5002, 137.0145, 4461,    252.8,      251,  17.9057,  34.7699,2,    199.5,2,  34.7712,2,   200.21,2,     3.76,2,     4.12,2,     0.01,2,    0.280,2, -999.000,9, -999.000,9,   -999.0,9,   -999.0,9,-999.0000,9,  -999.00, -999.000,9,  -999.00,9,  -999.00,9,  17.8625,2,  25.1295,2,  17.9109,2
49UP20220824_1,    P9,    58,  1,     27,     317,2,20220910,1502,1655, 19.5002, 137.0145, 4461,    283.3,      281,  17.3103,  34.7405,2,    197.7,2,  34.7423,2,   198.06,2,     4.67,2,     5.25,2,     0.00,2,    0.350,2, -999.000,9, -999.000,9,   -999.0,9,   -999.0,9,-999.0000,9,  -999.00, -999.000,9,  -999.00,9,  -999.00,9,  17.2630,2,  25.2523,2,  17.3122,2
49UP20220824_1,    P9,    58,  1,     26,     316,2,20220910,1502,1653, 19.5002, 137.0145, 4461,    322.7,      320,  16.0019,  34.6418,2,    192.4,2,  34.6452,2,   192.86,2,     7.01,2,     7.59,2,     0.00,2,    0.510,2, -999.000,9, -999.000,9,   -999.0,9,   -999.0,9,-999.0000,9,  -999.00, -999.000,9,  -999.00,9,  -999.00,9,  15.9508,2,  25.4833,2,  16.0147,2
49UP20220824_1,    P9,    58,  1,     25,     315,2,20220910,1502,1650, 19.5002, 137.0145, 4461,    373.8,      371,  14.0205,  34.4749,2,    185.2,2,  34.4822,2,   185.52,2,    11.57,2,    11.13,2,     0.00,2,    0.780,2, -999.000,9, -999.000,9,   -999.0,9,   -999.0,9,-999.0000,9,  -999.00, -999.000,9,  -999.00,9,  -999.00,9,  13.9663,2,  25.7883,2,  14.0409,2
49UP20220824_1,    P9,    58,  1,     24,     753,2,20220910,1502,1648, 19.5002, 137.0145, 4461,    421.9,      419,  11.9660,  34.3232,2,    173.5,2,  34.3244,2,   173.43,2,    18.94,2,    15.81,2,     0.00,2,    1.120,2, -999.000,9, -999.000,9,   -999.0,9,   -999.0,9,-999.0000,9,  -999.00, -999.000,9,  -999.00,9,  -999.00,9,  11.9110,2,  26.0803,2,  11.9668,2
49UP20220824_1,    P9,    58,  1,     23,     314,2,20220910,1502,1646, 19.5002, 137.0145, 4461,    474.1,      471,  10.0928,  34.2213,2,    150.9,2,  34.2221,2,   150.47,2,    28.81,2,    21.23,2,     0.00,2,    1.530,2, -999.000,9, -999.000,9,   -999.0,9,   -999.0,9,-999.0000,9,  -999.00, -999.000,9,  -999.00,9,  -999.00,9,  10.0372,2,  26.3375,2,  10.0948,2
49UP20220824_1,    P9,    58,  1,     22,     313,2,20220910,1502,1643, 19.5002, 137.0145, 4461,    574.1,      570,   7.8454,  34.2153,2,     96.7,2,  34.2153,2,    97.03,6,    49.14,6,    30.48,6,     0.00,6,    2.200,6, -999.000,9, -999.000,9,   -999.0,9,   -999.0,9,-999.0000,9,  -999.00, -999.000,9,  -999.00,9,  -999.00,9,   7.7872,2,  26.6889,2,   7.8467,2
49UP20220824_1,    P9,    58,  1,     21,     312,2,20220910,1502,1640, 19.5002, 137.0145, 4461,    673.6,      668,   6.4690,  34.2646,2,     73.6,2,  34.2635,2,    73.60,2,    67.26,2,    35.36,2,     0.00,2,    2.540,2, -999.000,9, -999.000,9,   -999.0,9,   -999.0,9,-999.0000,9,  -999.00, -999.000,9,  -999.00,9,  -999.00,9,   6.4072,2,  26.9191,2,   6.4645,2
49UP20220824_1,    P9,    58,  1,     20,     311,2,20220910,1502,1636, 19.5002, 137.0145, 4461,    776.8,      771,   5.7325,  34.3431,2,     70.4,2,  34.3414,2,    70.40,2,    78.99,2,    37.01,2,     0.00,2,    2.660,2, -999.000,9, -999.000,9,   -999.0,9,   -999.0,9,-999.0000,9,  -999.00, -999.000,9,  -999.00,9,  -999.00,9,   5.6649,2,  27.0754,2,   5.7366,2
49UP20220824_1,    P9,    58,  1,     19,     310,2,20220910,1502,1633, 19.5002, 137.0145, 4461,    878.5,      871,   4.7201,  34.4129,2,     68.5,2,  34.4129,2,    68.60,2,    97.11,2,    38.83,2,     0.00,2,    2.780,2, -999.000,9, -999.000,9,   -999.0,9,   -999.0,9,-999.0000,9,  -999.00, -999.000,9,  -999.00,9,  -999.00,9,   4.6497,2,  27.2494,2,   4.7201,2
49UP20220824_1,    P9,    58,  1,     18,     752,2,20220910,1502,1630, 19.5002, 137.0145, 4461,    978.9,      971,   4.2015,  34.4619,2,     72.4,2,  34.4621,2,    72.47,2,   106.93,2,    39.26,2,     0.00,2,    2.800,2, -999.000,9, -999.000,9,   -999.0,9,   -999.0,9,-999.0000,9,  -999.00, -999.000,9,  -999.00,9,  -999.00,9,   4.1261,2,  27.3450,2,   4.2012,2
49UP20220824_1,    P9,    58,  1,     17,     751,2,20220910,1502,1625, 19.5002, 137.0145, 4461,   1140.2,     1130,   3.5809,  34.5246,2,     85.0,2,  34.5245,2,    84.96,2,   118.31,2,    39.01,2,     0.00,2,    2.770,2, -999.000,9, -999.000,9,   -999.0,9,   -999.0,9,-999.0000,9,  -999.00, -999.000,9,  -999.00,9,  -999.00,9,   3.4970,2,  27.4586,2,   3.5806,2
49UP20220824_1,    P9,    58,  1,     16,     328,2,20220910,1502,1620, 19.5002, 137.0145, 4461,   1345.1,     1333,   3.0328,  34.5611,2,     93.6,2,  34.5617,6,    93.47,2,   128.20,2,    38.93,2,     0.00,2,    2.760,2, -999.000,9, -999.000,9,   -999.0,9,   -999.0,9,-999.0000,9,  -999.00, -999.000,9,  -999.00,9,  -999.00,9,   2.9374,2,  27.5404,2,   3.0330,2
49UP20220824_1,    P9,    58,  1,     15,     309,2,20220910,1502,1615, 19.5002, 137.0145, 4461,   1546.0,     1531,   2.6602,  34.5844,2,    100.0,2,  34.5850,2,    99.82,2,   134.28,2,    38.83,2,     0.00,2,    2.740,2, -999.000,9, -999.000,9,   -999.0,9,   -999.0,9,-999.0000,9,  -999.00, -999.000,9,  -999.00,9,  -999.00,9,   2.5525,2,  27.5931,2,   2.6602,2
49UP20220824_1,    P9,    58,  1,     14,     326,2,20220910,1502,1610, 19.5002, 137.0145, 4461,   1748.2,     1730,   2.4066,  34.6000,2,    104.6,2,  34.6015,4,   104.79,2,   138.36,2,    38.80,2,     0.00,2,    2.730,2, -999.000,9, -999.000,9,   -999.0,9,   -999.0,9,-999.0000,9,  -999.00, -999.000,9,  -999.00,9,  -999.00,9,   2.2854,2,  27.6281,2,   2.4066,2
49UP20220824_1,    P9,    58,  1,     13,     325,2,20220910,1502,1605, 19.5002, 137.0145, 4461,   1949.2,     1928,   2.1988,  34.6138,2,    109.8,2,  34.6147,2,   109.86,6,   141.54,6,    38.60,6,     0.00,6,    2.710,6, -999.000,9, -999.000,9,   -999.0,9,   -999.0,9,-999.0000,9,  -999.00, -999.000,9,  -999.00,9,  -999.00,9,   2.0637,2,  27.6572,2,   2.1990,2
49UP20220824_1,    P9,    58,  1,     12,     324,2,20220910,1502,1600, 19.5002, 137.0145, 4461,   2153.7,     2130,   2.0015,  34.6286,2,    116.8,2,  34.6292,2,   116.70,2,   144.10,2,    38.25,2,     0.00,2,    2.680,2, -999.000,9, -999.000,9,   -999.0,9,   -999.0,9,-999.0000,9,  -999.00, -999.000,9,  -999.00,9,  -999.00,9,   1.8520,2,  27.6857,2,   2.0014,2
49UP20220824_1,    P9,    58,  1,     11,     323,2,20220910,1502,1555, 19.5002, 137.0145, 4461,   2358.5,     2331,   1.8759,  34.6396,2,    122.8,2,  34.6418,4,   122.75,2,   145.24,2,    37.96,2,     0.00,2,    2.650,2, -999.000,9, -999.000,9,   -999.0,9,   -999.0,9,-999.0000,9,  -999.00, -999.000,9,  -999.00,9,  -999.00,9,   1.7106,2,  27.7053,2,   1.8759,2
49UP20220824_1,    P9,    58,  1,     10,     322,2,20220910,1502,1550, 19.5002, 137.0145, 4461,   2561.1,     2530,   1.7786,  34.6490,2,    128.5,2,  34.6516,4,   128.59,2,   145.76,2,    37.63,2,     0.00,2,    2.620,2, -999.000,9, -999.000,9,   -999.0,9,   -999.0,9,-999.0000,9,  -999.00, -999.000,9,  -999.00,9,  -999.00,9,   1.5970,2,  27.7213,2,   1.7786,2
49UP20220824_1,    P9,    58,  1,      9,     750,2,20220910,1502,1545, 19.5002, 137.0145, 4461,   2766.0,     2731,   1.7139,  34.6556,2,    133.3,2,  34.6562,2,   133.31,2,   145.54,2,    37.35,2,     0.00,2,    2.600,2, -999.000,9, -999.000,9,   -999.0,9,   -999.0,9,-999.0000,9,  -999.00, -999.000,9,  -999.00,9,  -999.00,9,   1.5146,2,  27.7327,2,   1.7138,2
49UP20220824_1,    P9,    58,  1,      8,     320,2,20220910,1502,1540, 19.5002, 137.0145, 4461,   2969.7,     2931,   1.6697,  34.6612,2,    137.1,2,  34.6620,2,   137.38,2,   145.49,2,    37.11,2,     0.00,2,    2.580,2, -999.000,9, -999.000,9,   -999.0,9,   -999.0,9,-999.0000,9,  -999.00, -999.000,9,  -999.00,9,  -999.00,9,   1.4522,2,  27.7417,2,   1.6699,2
49UP20220824_1,    P9,    58,  1,      7,     319,2,20220910,1502,1534, 19.5002, 137.0145, 4461,   3213.1,     3169,   1.6107,  34.6677,2,    142.6,2,  34.6678,2,   142.57,2,   144.70,2,    36.76,2,     0.00,2,    2.550,2, -999.000,9, -999.000,9,   -999.0,9,   -999.0,9,-999.0000,9,  -999.00, -999.000,9,  -999.00,9,  -999.00,9,   1.3708,2,  27.7528,2,   1.6108,2
49UP20220824_1,    P9,    58,  1,      6,     318,2,20220910,1502,1528, 19.5002, 137.0145, 4461,   3469.9,     3421,   1.5803,  34.6719,2,    146.9,2,  34.6746,4,   146.79,2,   143.76,2,    36.42,2,     0.00,2,    2.530,2, -999.000,9, -999.000,9,   -999.0,9,   -999.0,9,-999.0000,9,  -999.00, -999.000,9,  -999.00,9,  -999.00,9,   1.3153,2,  27.7601,2,   1.5805,2
49UP20220824_1,    P9,    58,  1,      5,     838,2,20220910,1502,1523, 19.5002, 137.0145, 4461,   3725.1,     3670,   1.5331,  34.6781,2,    152.3,2,  34.6790,2,   152.36,2,   142.64,2,    36.05,2,     0.00,2,    2.500,2, -999.000,9, -999.000,9,   -999.0,9,   -999.0,9,-999.0000,9,  -999.00, -999.000,9,  -999.00,9,  -999.00,9,   1.2427,2,  27.7702,2,   1.5332,2
49UP20220824_1,    P9,    58,  1,      4,     316,2,20220910,1502,1517, 19.5002, 137.0145, 4461,   3980.6,     3920,   1.5162,  34.6816,2,    155.7,2,  34.6827,4,   156.01,6,   142.10,6,    35.86,6,     0.00,6,    2.480,6, -999.000,9, -999.000,9,   -999.0,9,   -999.0,9,-999.0000,9,  -999.00, -999.000,9,  -999.00,9,  -999.00,9,   1.1990,2,  27.7760,2,   1.5162,2
49UP20220824_1,    P9,    58,  1,      3,     315,2,20220910,1502,1511, 19.5002, 137.0145, 4461,   4237.1,     4170,   1.5203,  34.6836,2,    157.8,2,  34.6840,2,   157.74,2,   141.62,2,    35.72,2,     0.00,2,    2.470,2, -999.000,9, -999.000,9,   -999.0,9,   -999.0,9,-999.0000,9,  -999.00, -999.000,9,  -999.00,9,  -999.00,9,   1.1747,2,  27.7793,2,   1.5204,2
49UP20220824_1,    P9,    58,  1,      2,     314,2,20220910,1502,1505, 19.5002, 137.0145, 4461,   4494.0,     4420,   1.5341,  34.6848,2,    159.3,2,  34.6852,2,   159.07,2,   141.03,2,    35.63,2,     0.00,2,    2.460,2, -999.000,9, -999.000,9,   -999.0,9,   -999.0,9,-999.0000,9,  -999.00, -999.000,9,  -999.00,9,  -999.00,9,   1.1588,2,  27.7813,2,   1.5340,2
49UP20220824_1,    P9,    58,  1,      1,     308,2,20220910,1502,1503, 19.5002, 137.0145, 4461,   4551.4,     4476,   1.5386,  34.6848,2,    159.5,2,  34.6867,4,   159.17,2,   141.03,2,    35.62,2,     0.00,2,    2.460,2, -999.000,9, -999.000,9,   -999.0,9,   -999.0,9,-999.0000,9,  -999.00, -999.000,9,  -999.00,9,  -999.00,9,   1.1565,2,  27.7815,2,   1.5385,2