BOTTLE,20230330JMAAMD
EXPOCODE,SECT_ID,STNNBR,CASTNO,SAMPNO,BTLNBR,BTLNBR_FLAG_U,DATE,TIME,BTL_TIME,LATITUDE,LONGITUDE,DEPTH,CTDPRS,CTDDEP,CTDTMP,CTDSAL,CTDSAL_FLAG_W,CTDOXY,CTDOXY_FLAG_W,SALNTY,SALNTY_FLAG_W,OXYGEN,OXYGEN_FLAG_W,SILCAT,SILCAT_FLAG_W,NO2+NO3,NO2+NO3_FLAG_W,NITRIT,NITRIT_FLAG_W,PHSPHT,PHSPHT_FLAG_W,CFC-11,CFC-11_FLAG_W,CFC-12,CFC-12_FLAG_W,TCARBN,TCARBN_FLAG_W,ALKALI,ALKALI_FLAG_W,PH_TS,PH_TS_FLAG_W,PH_TS_TMP,CFC113,CFC113_FLAG_W,CHLORA,CHLORA_FLAG_W,PPHYTN,PPHYTN_FLAG_W,THETA,THETA_FLAG_W,SIGTHT,SIGTHT_FLAG_W,SBE35,SBE35_FLAG_W
,,,,,,,,UTC,,,,METER,DBAR,METERS,ITS-90,PSS-78,,UMOL/KG,,PSS78,,UMOL/KG,,UMOL/KG,,UMOL/KG,,UMOL/KG,,UMOL/KG,,PMOL/KG,,PMOL/KG,,UMOL/KG,,UMOL/KG,,,,ITS-90,PMOL/KG,,UG/KG,,UG/KG,,ITS-90,,KG/M3,,ITS-90,
49UP20220824_1,    P9,    25,  1,      0,      -9,0,20220830,1631,1820,  4.5140, 137.0217, 4897,      0.0,        0,  29.6240,  34.1978,2,    195.7,2,-999.0000,9,   196.11,2,     1.35,2,     0.03,2,     0.00,2,    0.100,2, -999.000,9, -999.000,9,   -999.0,9,   -999.0,9,-999.0000,9,  -999.00, -999.000,9,  -999.00,9,  -999.00,9,  29.6234,2,  21.2526,2,-999.0000,9
49UP20220824_1,    P9,    25,  1,     36,     757,2,20220830,1631,1900,  4.5140, 137.0217, 4897,     11.5,       11,  29.6847,  34.2857,2,    195.5,2,  34.2404,2,   196.54,6,     1.33,6,     0.03,6,     0.00,6,    0.080,6, -999.000,9, -999.000,9,   -999.0,9,   -999.0,9,-999.0000,9,  -999.00, -999.000,9,  -999.00,9,  -999.00,9,  29.6819,2,  21.2988,2,  29.6838,2
49UP20220824_1,    P9,    25,  1,     35,     756,2,20220830,1631,1858,  4.5140, 137.0217, 4897,     26.6,       26,  29.9234,  34.6037,2,    195.2,2,  34.5962,2,   195.92,2,     1.31,2,     0.04,2,     0.00,4,    0.130,2, -999.000,9, -999.000,9,   -999.0,9,   -999.0,9,-999.0000,9,  -999.00, -999.000,9,  -999.00,9,  -999.00,9,  29.9168,2,  21.4575,2,  29.9249,2
49UP20220824_1,    P9,    25,  1,     34,     323,2,20220830,1631,1854,  4.5140, 137.0217, 4897,     52.5,       52,  29.9127,  34.6995,2,    194.9,2,  34.6949,2,   195.22,2,     1.26,2,     0.03,2,     0.00,2,    0.140,2, -999.000,9, -999.000,9,   -999.0,9,   -999.0,9,-999.0000,9,  -999.00, -999.000,9,  -999.00,9,  -999.00,9,  29.8997,2,  21.5351,2,  29.9136,2
49UP20220824_1,    P9,    25,  1,     33,     322,2,20220830,1631,1852,  4.5140, 137.0217, 4897,     77.5,       77,  29.7763,  34.6487,2,    196.3,2,  34.6474,2,   196.18,2,     1.26,2,     0.02,2,     0.00,2,    0.130,2, -999.000,9, -999.000,9,   -999.0,9,   -999.0,9,-999.0000,9,  -999.00, -999.000,9,  -999.00,9,  -999.00,9,  29.7572,2,  21.5454,2,  29.7802,2
49UP20220824_1,    P9,    25,  1,     32,     321,2,20220830,1631,1851,  4.5140, 137.0217, 4897,    101.1,      101,  29.4444,  35.0146,2,    186.2,2,  35.0154,2,   186.14,2,     1.41,2,     1.20,2,     0.48,2,    0.240,2, -999.000,9, -999.000,9,   -999.0,9,   -999.0,9,-999.0000,9,  -999.00, -999.000,9,  -999.00,9,  -999.00,9,  29.4197,2,  21.9341,2,  29.4419,2
49UP20220824_1,    P9,    25,  1,     31,     320,2,20220830,1631,1849,  4.5140, 137.0217, 4897,    125.4,      125,  29.2004,  35.2765,2,    177.8,2,  35.2738,2,   177.96,2,     1.60,2,     2.60,2,     0.37,2,    0.360,2, -999.000,9, -999.000,9,   -999.0,9,   -999.0,9,-999.0000,9,  -999.00, -999.000,9,  -999.00,9,  -999.00,9,  29.1699,2,  22.2148,2,  29.1974,2
49UP20220824_1,    P9,    25,  1,     30,     319,2,20220830,1631,1847,  4.5140, 137.0217, 4897,    150.7,      150,  25.4994,  34.9910,2,    160.4,2,  34.9027,4,   161.98,2,     3.54,2,     3.94,2,     0.17,2,    0.420,2, -999.000,9, -999.000,9,   -999.0,9,   -999.0,9,-999.0000,9,  -999.00, -999.000,9,  -999.00,9,  -999.00,9,  25.4663,2,  23.1918,2,  25.4935,2
49UP20220824_1,    P9,    25,  1,     29,     318,2,20220830,1631,1845,  4.5140, 137.0217, 4897,    201.3,      200,  13.3443,  34.5174,2,    120.8,2,  34.5158,6,   121.73,2,    20.80,2,    19.19,2,     0.01,2,    1.400,2, -999.000,9, -999.000,9,   -999.0,9,   -999.0,9,-999.0000,9,  -999.00, -999.000,9,  -999.00,9,  -999.00,9,  13.3163,2,  25.9552,2,  13.3456,2
49UP20220824_1,    P9,    25,  1,     28,     755,2,20220830,1631,1842,  4.5140, 137.0217, 4897,    252.3,      251,  10.0230,  34.5151,2,     82.5,2,  34.5146,2,    82.77,2,    34.07,2,    29.10,2,     0.00,2,    2.080,2, -999.000,9, -999.000,9,   -999.0,9,   -999.0,9,-999.0000,9,  -999.00, -999.000,9,  -999.00,9,  -999.00,9,   9.9937,2,  26.5743,2,  10.0229,2
49UP20220824_1,    P9,    25,  1,     27,     317,2,20220830,1631,1840,  4.5140, 137.0217, 4897,    304.3,      302,   8.8440,  34.5497,2,     86.0,2,  34.5488,2,    85.77,6,    38.00,6,    31.17,6,     0.00,6,    2.210,6, -999.000,9, -999.000,9,   -999.0,9,   -999.0,9,-999.0000,9,  -999.00, -999.000,9,  -999.00,9,  -999.00,9,   8.8113,2,  26.7955,2,   8.8442,2
49UP20220824_1,    P9,    25,  1,     26,     316,2,20220830,1631,1837,  4.5140, 137.0217, 4897,    352.4,      350,   8.3473,  34.5993,2,    116.9,2,  34.5981,2,   116.60,2,    31.54,2,    29.90,2,     0.00,2,    2.090,2, -999.000,9, -999.000,9,   -999.0,9,   -999.0,9,-999.0000,9,  -999.00, -999.000,9,  -999.00,9,  -999.00,9,   8.3106,2,  26.9122,2,   8.3478,2
49UP20220824_1,    P9,    25,  1,     25,     315,2,20220830,1631,1835,  4.5140, 137.0217, 4897,    402.5,      400,   8.0599,  34.5817,2,    121.1,2,  34.5803,2,   121.61,2,    33.01,2,    30.02,2,     0.00,2,    2.090,2, -999.000,9, -999.000,9,   -999.0,9,   -999.0,9,-999.0000,9,  -999.00, -999.000,9,  -999.00,9,  -999.00,9,   8.0187,2,  26.9425,2,   8.0602,2
49UP20220824_1,    P9,    25,  1,     24,     753,2,20220830,1631,1833,  4.5140, 137.0217, 4897,    453.7,      451,   7.6769,  34.5574,2,    116.4,2,  34.5578,2,   115.78,2,    37.19,2,    31.11,2,     0.00,2,    2.180,2, -999.000,9, -999.000,9,   -999.0,9,   -999.0,9,-999.0000,9,  -999.00, -999.000,9,  -999.00,9,  -999.00,9,   7.6316,2,  26.9805,2,   7.6807,2
49UP20220824_1,    P9,    25,  1,     23,     314,2,20220830,1631,1831,  4.5140, 137.0217, 4897,    505.9,      502,   7.3167,  34.5495,2,    124.2,2,  34.5494,2,   121.57,2,    37.64,2,    31.44,2,     0.00,2,    2.200,2, -999.000,9, -999.000,9,   -999.0,9,   -999.0,9,-999.0000,9,  -999.00, -999.000,9,  -999.00,9,  -999.00,9,   7.2674,2,  27.0265,2,   7.3181,2
49UP20220824_1,    P9,    25,  1,     22,     313,2,20220830,1631,1827,  4.5140, 137.0217, 4897,    604.6,      600,   6.8903,  34.5346,2,    121.1,2,  34.5339,2,   121.03,2,    41.66,2,    32.38,2,     0.00,2,    2.270,2, -999.000,9, -999.000,9,   -999.0,9,   -999.0,9,-999.0000,9,  -999.00, -999.000,9,  -999.00,9,  -999.00,9,   6.8329,2,  27.0751,2,   6.8903,2
49UP20220824_1,    P9,    25,  1,     21,     312,2,20220830,1631,1824,  4.5140, 137.0217, 4897,    705.2,      700,   6.1616,  34.5311,2,     91.7,2,  34.5304,2,    91.84,2,    58.98,2,    36.05,2,     0.00,2,    2.550,2, -999.000,9, -999.000,9,   -999.0,9,   -999.0,9,-999.0000,9,  -999.00, -999.000,9,  -999.00,9,  -999.00,9,   6.0981,2,  27.1697,2,   6.1616,2
49UP20220824_1,    P9,    25,  1,     20,     311,2,20220830,1631,1821,  4.5140, 137.0217, 4897,    807.5,      801,   5.3604,  34.5340,2,     97.3,2,  34.5340,2,    97.31,2,    70.86,2,    36.72,2,     0.00,2,    2.600,2, -999.000,9, -999.000,9,   -999.0,9,   -999.0,9,-999.0000,9,  -999.00, -999.000,9,  -999.00,9,  -999.00,9,   5.2920,2,  27.2715,2,   5.3606,2
49UP20220824_1,    P9,    25,  1,     19,     310,2,20220830,1631,1818,  4.5140, 137.0217, 4897,    904.8,      898,   4.6204,  34.5491,2,     90.4,2,  34.5490,2,    91.39,2,    88.29,2,    38.03,2,     0.00,2,    2.700,2, -999.000,9, -999.000,9,   -999.0,9,   -999.0,9,-999.0000,9,  -999.00, -999.000,9,  -999.00,9,  -999.00,9,   4.5482,2,  27.3688,2,   4.6192,2
49UP20220824_1,    P9,    25,  1,     18,     752,2,20220830,1631,1814,  4.5140, 137.0217, 4897,   1008.4,     1000,   4.2766,  34.5592,2,     94.1,2,  34.5580,2,    93.73,6,    93.59,6,    38.29,6,     0.00,6,    2.720,6, -999.000,9, -999.000,9,   -999.0,9,   -999.0,9,-999.0000,9,  -999.00, -999.000,9,  -999.00,9,  -999.00,9,   4.1980,2,  27.4147,2,   4.2767,2
49UP20220824_1,    P9,    25,  1,     17,     751,2,20220830,1631,1810,  4.5140, 137.0217, 4897,   1212.0,     1202,   3.6332,  34.5775,2,     95.7,2,  34.5760,4,    95.22,2,   107.74,2,    38.80,2,     0.00,2,    2.750,2, -999.000,9, -999.000,9,   -999.0,9,   -999.0,9,-999.0000,9,  -999.00, -999.000,9,  -999.00,9,  -999.00,9,   3.5429,2,  27.4963,2,   3.6337,2
49UP20220824_1,    P9,    25,  1,     16,     328,2,20220830,1631,1804,  4.5140, 137.0217, 4897,   1413.8,     1401,   3.1541,  34.5933,2,    100.2,2,  34.5925,6,   100.00,2,   117.93,2,    38.78,2,     0.00,2,    2.740,2, -999.000,9, -999.000,9,   -999.0,9,   -999.0,9,-999.0000,9,  -999.00, -999.000,9,  -999.00,9,  -999.00,9,   3.0516,2,  27.5557,2,   3.1540,2
49UP20220824_1,    P9,    25,  1,     15,     309,2,20220830,1631,1759,  4.5140, 137.0217, 4897,   1616.5,     1601,   2.7525,  34.6093,2,    105.1,2,  34.6085,2,   104.94,2,   126.41,2,    38.77,2,     0.00,2,    2.730,2, -999.000,9, -999.000,9,   -999.0,9,   -999.0,9,-999.0000,9,  -999.00, -999.000,9,  -999.00,9,  -999.00,9,   2.6378,2,  27.6056,2,   2.7523,2
49UP20220824_1,    P9,    25,  1,     14,     326,2,20220830,1631,1754,  4.5140, 137.0217, 4897,   1818.2,     1800,   2.4870,  34.6221,2,    108.5,2,  34.6217,2,   108.18,2,   132.76,2,    38.72,2,     0.00,2,    2.720,2, -999.000,9, -999.000,9,   -999.0,9,   -999.0,9,-999.0000,9,  -999.00, -999.000,9,  -999.00,9,  -999.00,9,   2.3588,2,  27.6397,2,   2.4869,2
49UP20220824_1,    P9,    25,  1,     13,     325,2,20220830,1631,1749,  4.5140, 137.0217, 4897,   2021.8,     2001,   2.2133,  34.6360,2,    114.1,2,  34.6360,2,   114.07,2,   138.09,2,    38.38,2,     0.00,2,    2.690,2, -999.000,9, -999.000,9,   -999.0,9,   -999.0,9,-999.0000,9,  -999.00, -999.000,9,  -999.00,9,  -999.00,9,   2.0717,2,  27.6744,2,   2.2134,2
49UP20220824_1,    P9,    25,  1,     12,     324,2,20220830,1631,1743,  4.5140, 137.0217, 4897,   2224.9,     2201,   2.0064,  34.6474,2,    120.7,2,  34.6472,2,   120.42,2,   141.65,2,    38.03,2,     0.00,2,    2.660,2, -999.000,9, -999.000,9,   -999.0,9,   -999.0,9,-999.0000,9,  -999.00, -999.000,9,  -999.00,9,  -999.00,9,   1.8506,2,  27.7008,2,   2.0068,2
49UP20220824_1,    P9,    25,  1,     11,     323,2,20220830,1631,1738,  4.5140, 137.0217, 4897,   2428.5,     2401,   1.8776,  34.6539,2,    126.8,2,  34.6530,6,   126.97,2,   143.06,2,    37.72,2,     0.00,2,    2.620,2, -999.000,9, -999.000,9,   -999.0,9,   -999.0,9,-999.0000,9,  -999.00, -999.000,9,  -999.00,9,  -999.00,9,   1.7060,2,  27.7172,2,   1.8773,2
49UP20220824_1,    P9,    25,  1,     10,     322,2,20220830,1631,1733,  4.5140, 137.0217, 4897,   2632.6,     2602,   1.7006,  34.6636,2,    135.8,2,  34.6625,2,   135.46,2,   144.24,2,    37.12,2,     0.00,2,    2.580,2, -999.000,9, -999.000,9,   -999.0,9,   -999.0,9,-999.0000,9,  -999.00, -999.000,9,  -999.00,9,  -999.00,9,   1.5139,2,  27.7392,2,   1.7006,2
49UP20220824_1,    P9,    25,  1,      9,     750,2,20220830,1631,1728,  4.5140, 137.0217, 4897,   2834.9,     2800,   1.6350,  34.6681,2,    140.0,2,  34.6671,2,   139.76,6,   144.29,6,    36.82,6,     0.00,6,    2.550,6, -999.000,9, -999.000,9,   -999.0,9,   -999.0,9,-999.0000,9,  -999.00, -999.000,9,  -999.00,9,  -999.00,9,   1.4310,2,  27.7488,2,   1.6352,2
49UP20220824_1,    P9,    25,  1,      8,     320,2,20220830,1631,1722,  4.5140, 137.0217, 4897,   3037.8,     2999,   1.5696,  34.6732,2,    144.8,2,  34.6719,2,   144.37,2,   144.12,2,    36.53,2,     0.00,2,    2.530,2, -999.000,9, -999.000,9,   -999.0,9,   -999.0,9,-999.0000,9,  -999.00, -999.000,9,  -999.00,9,  -999.00,9,   1.3477,2,  27.7588,2,   1.5697,2
49UP20220824_1,    P9,    25,  1,      7,     319,2,20220830,1631,1715,  4.5140, 137.0217, 4897,   3294.2,     3251,   1.5555,  34.6757,2,    147.1,2,  34.6739,4,   146.65,2,   144.05,2,    36.32,2,     0.00,2,    2.520,2, -999.000,9, -999.000,9,   -999.0,9,   -999.0,9,-999.0000,9,  -999.00, -999.000,9,  -999.00,9,  -999.00,9,   1.3087,2,  27.7637,2,   1.5554,2
49UP20220824_1,    P9,    25,  1,      6,     318,2,20220830,1631,1708,  4.5140, 137.0217, 4897,   3550.0,     3501,   1.5320,  34.6794,2,    150.2,2,  34.6780,4,   150.02,2,   143.62,2,    36.21,2,     0.00,2,    2.500,2, -999.000,9, -999.000,9,   -999.0,9,   -999.0,9,-999.0000,9,  -999.00, -999.000,9,  -999.00,9,  -999.00,9,   1.2599,2,  27.7700,2,   1.5320,2
49UP20220824_1,    P9,    25,  1,      5,     838,2,20220830,1631,1656,  4.5140, 137.0217, 4897,   4060.9,     4000,   1.5176,  34.6848,2,    155.1,2,  34.6826,4,   155.03,2,   142.87,2,    35.86,2,     0.00,2,    2.470,2, -999.000,9, -999.000,9,   -999.0,9,   -999.0,9,-999.0000,9,  -999.00, -999.000,9,  -999.00,9,  -999.00,9,   1.1916,2,  27.7791,2,   1.5177,2
49UP20220824_1,    P9,    25,  1,      4,     316,2,20220830,1631,1650,  4.5140, 137.0217, 4897,   4319.2,     4252,   1.5188,  34.6865,2,    157.7,2,  34.6857,2,   157.64,2,   141.93,2,    35.69,2,     0.00,2,    2.460,2, -999.000,9, -999.000,9,   -999.0,9,   -999.0,9,-999.0000,9,  -999.00, -999.000,9,  -999.00,9,  -999.00,9,   1.1639,2,  27.7824,2,   1.5188,2
49UP20220824_1,    P9,    25,  1,      3,     315,2,20220830,1631,1643,  4.5140, 137.0217, 4897,   4575.2,     4502,   1.5316,  34.6876,2,    159.4,2,  34.6865,2,   159.09,2,   141.47,2,    35.45,2,     0.00,2,    2.450,2, -999.000,9, -999.000,9,   -999.0,9,   -999.0,9,-999.0000,9,  -999.00, -999.000,9,  -999.00,9,  -999.00,9,   1.1469,2,  27.7845,2,   1.5316,2
49UP20220824_1,    P9,    25,  1,      2,     314,2,20220830,1631,1637,  4.5140, 137.0217, 4897,   4829.6,     4749,   1.5546,  34.6880,2,    160.3,2,  34.6869,2,   159.89,2,   141.11,2,    35.51,2,     0.00,2,    2.450,2, -999.000,9, -999.000,9,   -999.0,9,   -999.0,9,-999.0000,9,  -999.00, -999.000,9,  -999.00,9,  -999.00,9,   1.1392,2,  27.7852,2,   1.5547,2
49UP20220824_1,    P9,    25,  1,      1,     308,2,20220830,1631,1632,  4.5140, 137.0217, 4897,   5002.6,     4917,   1.5745,  34.6881,2,    160.6,2,  34.6869,2,   160.11,2,   141.02,2,    35.50,2,     0.00,2,    2.450,2, -999.000,9, -999.000,9,   -999.0,9,   -999.0,9,-999.0000,9,  -999.00, -999.000,9,  -999.00,9,  -999.00,9,   1.1374,2,  27.7855,2,   1.5744,2