BOTTLE,20230330JMAAMD
EXPOCODE,SECT_ID,STNNBR,CASTNO,SAMPNO,BTLNBR,BTLNBR_FLAG_U,DATE,TIME,BTL_TIME,LATITUDE,LONGITUDE,DEPTH,CTDPRS,CTDDEP,CTDTMP,CTDSAL,CTDSAL_FLAG_W,CTDOXY,CTDOXY_FLAG_W,SALNTY,SALNTY_FLAG_W,OXYGEN,OXYGEN_FLAG_W,SILCAT,SILCAT_FLAG_W,NO2+NO3,NO2+NO3_FLAG_W,NITRIT,NITRIT_FLAG_W,PHSPHT,PHSPHT_FLAG_W,CFC-11,CFC-11_FLAG_W,CFC-12,CFC-12_FLAG_W,TCARBN,TCARBN_FLAG_W,ALKALI,ALKALI_FLAG_W,PH_TS,PH_TS_FLAG_W,PH_TS_TMP,CFC113,CFC113_FLAG_W,CHLORA,CHLORA_FLAG_W,PPHYTN,PPHYTN_FLAG_W,THETA,THETA_FLAG_W,SIGTHT,SIGTHT_FLAG_W,SBE35,SBE35_FLAG_W
,,,,,,,,UTC,,,,METER,DBAR,METERS,ITS-90,PSS-78,,UMOL/KG,,PSS78,,UMOL/KG,,UMOL/KG,,UMOL/KG,,UMOL/KG,,UMOL/KG,,PMOL/KG,,PMOL/KG,,UMOL/KG,,UMOL/KG,,,,ITS-90,PMOL/KG,,UG/KG,,UG/KG,,ITS-90,,KG/M3,,ITS-90,
49UP20220824_1,    P9,    28,  1,      0,      -9,0,20220831,1617,1747,  6.0053, 137.0093, 4195,      0.0,        0,  30.2418,  33.4540,2,    193.8,2,  33.4655,2,   194.70,2,     1.25,2,     0.05,2,     0.00,2,    0.070,2, -999.000,9, -999.000,9,   1880.0,2,   2197.4,2,   8.1184,2,    25.00, -999.000,9,     0.05,2,     0.02,2,  30.2412,2,  20.4855,2,-999.0000,9
49UP20220824_1,    P9,    28,  1,     36,     757,2,20220831,1617,1825,  6.0053, 137.0093, 4195,     10.7,       11,  30.2305,  33.4538,2,    194.0,2,  33.4532,2,   194.79,2,     1.15,2,     0.03,2,     0.00,2,    0.010,2, -999.000,9, -999.000,9,   1877.3,2,   2198.6,2,   8.1169,2,    25.00, -999.000,9,     0.05,2,     0.02,2,  30.2279,2,  20.4899,2,  30.2315,2
49UP20220824_1,    P9,    28,  1,     35,     756,2,20220831,1617,1824,  6.0053, 137.0093, 4195,     25.6,       25,  30.1439,  33.4805,2,    194.7,2,  33.4985,2,   195.77,2,     1.25,2,     0.05,2,     0.00,2,    0.020,2, -999.000,9, -999.000,9,   1879.2,2,   2199.7,2,   8.1185,2,    25.00, -999.000,9,     0.07,2,     0.02,2,  30.1376,2,  20.5407,2,  30.1445,2
49UP20220824_1,    P9,    28,  1,     34,     323,2,20220831,1617,1819,  6.0053, 137.0093, 4195,     51.0,       51,  30.0365,  33.7557,2,    197.4,2,  33.7851,2,   198.24,2,     1.25,2,     0.05,2,     0.00,2,    0.030,2, -999.000,9, -999.000,9,   1898.0,2,   2218.5,2,   8.1159,2,    25.00, -999.000,9,     0.11,2,     0.03,2,  30.0239,2,  20.7855,2,  30.0363,2
49UP20220824_1,    P9,    28,  1,     33,     322,2,20220831,1617,1817,  6.0053, 137.0093, 4195,     75.9,       75,  29.0367,  34.3982,2,    199.4,2,  34.4322,2,   196.93,6,     1.51,6,     0.02,6,     0.00,6,    0.090,6, -999.000,9, -999.000,9,   1953.5,2,   2263.3,2,   8.0794,2,    25.00, -999.000,9,     0.17,2,     0.10,2,  29.0184,2,  21.6062,2,  29.0572,2
49UP20220824_1,    P9,    28,  1,     32,     321,2,20220831,1617,1816,  6.0053, 137.0093, 4195,    101.4,      101,  25.9116,  34.7588,2,    171.4,2,  34.7523,2,   172.34,2,     2.80,2,     1.82,2,     0.23,2,    0.280,2, -999.000,9, -999.000,9,   2015.3,2,   2284.7,2,   8.0036,2,    25.00, -999.000,9,     0.33,2,     0.45,2,  25.8890,2,  22.8859,2,  25.8865,2
49UP20220824_1,    P9,    28,  1,     31,     320,2,20220831,1617,1814,  6.0053, 137.0093, 4195,    126.6,      126,  23.2055,  34.6881,2,    157.5,2,  34.7042,2,   158.04,2,     5.23,2,     5.08,2,     0.04,2,    0.470,2, -999.000,9, -999.000,9,   2043.4,2,   2282.2,2,   7.9429,2,    25.00, -999.000,9,     0.15,2,     0.27,2,  23.1795,2,  23.6453,2,  23.2009,2
49UP20220824_1,    P9,    28,  1,     30,     319,2,20220831,1617,1812,  6.0053, 137.0093, 4195,    153.7,      153,  18.5142,  34.7023,2,    147.2,2,  34.7011,2,   147.63,2,     8.23,2,     9.38,2,     0.02,2,    0.740,2, -999.000,9, -999.000,9,   2092.8,2,   2284.0,2,   7.8444,6,    25.00, -999.000,9,     0.06,2,     0.14,2,  18.4874,2,  24.9231,2,  18.5772,2
49UP20220824_1,    P9,    28,  1,     29,     318,2,20220831,1617,1810,  6.0053, 137.0093, 4195,    202.7,      201,  11.5888,  34.4958,2,    105.7,2,  34.4972,2,   104.82,2,    27.46,2,    23.98,2,     0.00,2,    1.720,2, -999.000,9, -999.000,9,   2183.7,6,   2287.8,6,   7.6321,2,    25.00, -999.000,9,     0.00,2,     0.02,2,  11.5631,2,  26.2797,2,  11.5885,2
49UP20220824_1,    P9,    28,  1,     28,     755,2,20220831,1617,1808,  6.0053, 137.0093, 4195,    253.0,      251,  10.0382,  34.5265,2,     80.8,2,  34.5264,2,    80.09,2,    33.71,2,    29.27,2,     0.00,2,    2.090,2, -999.000,9, -999.000,9,   2220.6,2,   2294.0,2,   7.5539,2,    25.00, -999.000,9,  -999.00,9,  -999.00,9,  10.0088,2,  26.5807,2,  10.0430,2
49UP20220824_1,    P9,    28,  1,     27,     317,2,20220831,1617,1806,  6.0053, 137.0093, 4195,    303.3,      301,   9.3066,  34.5540,2,     75.5,2,  34.5532,2,    75.07,2,    36.39,2,    31.30,2,     0.00,2,    2.220,2, -999.000,9, -999.000,9,   2231.3,2,   2300.2,2,   7.5323,2,    25.00, -999.000,9,  -999.00,9,  -999.00,9,   9.2730,2,  26.7248,2,   9.3065,2
49UP20220824_1,    P9,    28,  1,     26,     316,2,20220831,1617,1803,  6.0053, 137.0093, 4195,    353.0,      351,   8.7374,  34.5453,2,     79.8,2,  34.5451,2,    79.52,2,    38.87,2,    32.03,2,     0.00,2,    2.260,2, -999.000,9, -999.000,9,   2235.3,2,   2301.9,2,   7.5280,2,    25.00, -999.000,9,  -999.00,9,  -999.00,9,   8.6997,2,  26.8097,2,   8.7376,2
49UP20220824_1,    P9,    28,  1,     25,     315,2,20220831,1617,1801,  6.0053, 137.0093, 4195,    403.3,      401,   8.4663,  34.5635,2,     76.8,2,  34.5625,6,    76.67,2,    39.87,2,    32.97,2,     0.00,2,    2.320,2, -999.000,9, -999.000,9,   2241.8,2,   2304.7,2,   7.5208,2,    25.00, -999.000,9,  -999.00,9,  -999.00,9,   8.4238,2,  26.8667,2,   8.4658,2
49UP20220824_1,    P9,    28,  1,     24,     753,2,20220831,1617,1759,  6.0053, 137.0093, 4195,    453.9,      451,   8.0625,  34.5538,2,     81.9,2,  34.5530,2,    82.26,6,    42.19,6,    33.28,6,     0.00,6,    2.340,6, -999.000,9, -999.000,9,   2243.1,2,   2306.9,2,   7.5246,2,    25.00, -999.000,9,  -999.00,9,  -999.00,9,   8.0159,2,  26.9210,2,   8.0627,2
49UP20220824_1,    P9,    28,  1,     23,     314,2,20220831,1617,1757,  6.0053, 137.0093, 4195,    503.9,      500,   7.7226,  34.5392,2,     90.4,2,  34.5386,2,    90.09,2,    44.01,2,    33.14,2,     0.00,2,    2.330,2, -999.000,9, -999.000,9,   2241.6,2,   2309.6,2,   7.5343,2,    25.00, -999.000,9,  -999.00,9,  -999.00,9,   7.6720,2,  26.9603,2,   7.7240,2
49UP20220824_1,    P9,    28,  1,     22,     313,2,20220831,1617,1754,  6.0053, 137.0093, 4195,    604.6,      600,   6.9539,  34.5261,2,     87.9,2,  34.5255,2,    87.95,2,    52.31,2,    34.75,2,     0.00,2,    2.450,2, -999.000,9, -999.000,9,   2255.8,2,   2317.7,2,   7.5186,2,    25.00, -999.000,9,  -999.00,9,  -999.00,9,   6.8963,2,  27.0598,2,   6.9537,2
49UP20220824_1,    P9,    28,  1,     21,     312,2,20220831,1617,1751,  6.0053, 137.0093, 4195,    706.3,      701,   6.0988,  34.5288,2,     83.2,2,  34.5282,2,    82.85,2,    64.13,2,    36.64,2,     0.00,2,    2.600,2, -999.000,9, -999.000,9,   2269.9,6,   2330.8,6,   7.5005,6,    25.00, -999.000,9,  -999.00,9,  -999.00,9,   6.0356,2,  27.1758,2,   6.0991,2
49UP20220824_1,    P9,    28,  1,     20,     311,3,20220831,1617,1747,  6.0053, 137.0093, 4195,    807.0,      801,   5.2821,  34.5390,2,     82.1,2,  34.5401,2,    84.26,2,    75.31,2,    37.47,3,     0.00,2,    2.660,2, -999.000,9, -999.000,9,   2279.6,2,   2341.1,2,   7.4971,2,    25.00, -999.000,9,  -999.00,9,  -999.00,9,   5.2142,2,  27.2847,2,   5.2822,2
49UP20220824_1,    P9,    28,  1,     19,     310,4,20220831,1617,1744,  6.0053, 137.0093, 4195,    908.9,      902,   4.6645,  34.5491,2,     84.2,2,-999.0000,5,  -999.00,9,  -999.00,9,  -999.00,9,  -999.00,9, -999.000,9, -999.000,9, -999.000,9,   -999.0,9,   -999.0,9,-999.0000,9,  -999.00, -999.000,9,  -999.00,9,  -999.00,9,   4.5916,2,  27.3640,2,   4.6643,2
49UP20220824_1,    P9,    28,  1,     18,     752,2,20220831,1617,1740,  6.0053, 137.0093, 4195,   1011.0,     1003,   4.1603,  34.5606,2,     86.9,2,  34.5599,6,    86.74,2,    99.08,2,    38.89,2,     0.00,2,    2.760,2, -999.000,9, -999.000,9,   2306.9,2,   2367.8,2,   7.4910,2,    25.00, -999.000,9,  -999.00,9,  -999.00,9,   4.0824,2,  27.4280,2,   4.1606,2
49UP20220824_1,    P9,    28,  1,     17,     751,2,20220831,1617,1735,  6.0053, 137.0093, 4195,   1213.1,     1203,   3.5713,  34.5778,2,     91.5,2,  34.5763,2,    91.38,2,   110.92,2,    39.07,2,     0.00,2,    2.760,2, -999.000,9, -999.000,9,   2321.4,2,   2379.2,2,   7.4946,2,    25.00, -999.000,9,  -999.00,9,  -999.00,9,   3.4814,2,  27.5025,2,   3.5710,2
49UP20220824_1,    P9,    28,  1,     16,     328,2,20220831,1617,1729,  6.0053, 137.0093, 4195,   1414.7,     1402,   3.0792,  34.5951,2,     97.9,2,  34.5944,2,    98.18,2,   121.08,2,    39.01,2,     0.00,2,    2.760,2, -999.000,9, -999.000,9,   2327.7,2,   2390.0,2,   7.5015,2,    25.00, -999.000,9,  -999.00,9,  -999.00,9,   2.9775,2,  27.5640,2,   3.0798,2
49UP20220824_1,    P9,    28,  1,     15,     309,2,20220831,1617,1724,  6.0053, 137.0093, 4195,   1615.7,     1601,   2.7477,  34.6092,2,    103.0,2,  34.6096,2,   102.79,6,   127.66,6,    38.88,6,     0.00,6,    2.740,6, -999.000,9, -999.000,9,   2332.0,2,   2397.8,2,   7.5115,2,    25.00, -999.000,9,  -999.00,9,  -999.00,9,   2.6332,2,  27.6059,2,   2.7473,2
49UP20220824_1,    P9,    28,  1,     14,     326,2,20220831,1617,1719,  6.0053, 137.0093, 4195,   1819.0,     1801,   2.4371,  34.6238,2,    108.9,2,  34.6236,2,   108.59,2,   133.85,2,    38.68,2,     0.00,2,    2.720,2, -999.000,9, -999.000,9,   2335.0,2,   2404.4,2,   7.5194,2,    25.00, -999.000,9,  -999.00,9,  -999.00,9,   2.3096,2,  27.6452,2,   2.4375,2
49UP20220824_1,    P9,    28,  1,     13,     325,2,20220831,1617,1714,  6.0053, 137.0093, 4195,   2020.6,     2000,   2.1958,  34.6351,2,    115.5,2,  34.6345,2,   115.45,2,   138.25,2,    38.30,2,     0.00,2,    2.680,2, -999.000,9, -999.000,9,   2334.5,2,   2408.4,2,   7.5311,2,    25.00, -999.000,9,  -999.00,9,  -999.00,9,   2.0546,2,  27.6750,2,   2.1958,2
49UP20220824_1,    P9,    28,  1,     12,     324,2,20220831,1617,1709,  6.0053, 137.0093, 4195,   2224.7,     2201,   1.9796,  34.6462,2,    122.8,2,  34.6457,6,   123.36,2,   141.20,2,    37.74,2,     0.00,2,    2.640,2, -999.000,9, -999.000,9,   2334.1,2,   2411.0,2,   7.5409,2,    25.00, -999.000,9,  -999.00,9,  -999.00,9,   1.8243,2,  27.7019,2,   1.9797,2
49UP20220824_1,    P9,    28,  1,     11,     323,2,20220831,1617,1703,  6.0053, 137.0093, 4195,   2427.7,     2400,   1.8391,  34.6541,2,    128.6,2,  34.6541,2,   128.58,2,   143.39,2,    37.59,2,     0.00,2,    2.610,2, -999.000,9, -999.000,9,   2334.3,2,   2412.1,2,   7.5505,2,    25.00, -999.000,9,  -999.00,9,  -999.00,9,   1.6683,2,  27.7202,2,   1.8390,2
49UP20220824_1,    P9,    28,  1,     10,     322,2,20220831,1617,1658,  6.0053, 137.0093, 4195,   2631.0,     2600,   1.7219,  34.6609,2,    134.7,2,  34.6607,2,   134.84,2,   144.09,2,    37.22,2,     0.00,2,    2.580,2, -999.000,9, -999.000,9,   2334.1,2,   2413.1,2,   7.5572,2,    25.00, -999.000,9,  -999.00,9,  -999.00,9,   1.5349,2,  27.7355,2,   1.7217,2
49UP20220824_1,    P9,    28,  1,      9,     750,2,20220831,1617,1653,  6.0053, 137.0093, 4195,   2836.1,     2801,   1.6413,  34.6669,2,    139.7,2,  34.6665,2,   139.83,2,   144.14,2,    36.87,2,     0.00,2,    2.560,2, -999.000,9, -999.000,9,   2327.7,2,   2413.7,2,   7.5645,6,    25.00, -999.000,9,  -999.00,9,  -999.00,9,   1.4370,2,  27.7474,2,   1.6413,2
49UP20220824_1,    P9,    28,  1,      8,     320,2,20220831,1617,1647,  6.0053, 137.0093, 4195,   3039.1,     3001,   1.5780,  34.6718,2,    144.2,2,  34.6715,2,   144.37,2,   144.25,2,    36.58,2,     0.00,2,    2.530,2, -999.000,9, -999.000,9,   2327.9,6,   2415.2,6,   7.5717,2,    25.00, -999.000,9,  -999.00,9,  -999.00,9,   1.3557,2,  27.7572,2,   1.5778,2
49UP20220824_1,    P9,    28,  1,      7,     319,2,20220831,1617,1641,  6.0053, 137.0093, 4195,   3294.0,     3250,   1.5579,  34.6749,2,    146.9,2,  34.6743,2,   147.09,2,   144.06,2,    36.68,2,     0.00,2,    2.520,2, -999.000,9, -999.000,9,   2327.1,2,   2416.4,2,   7.5770,2,    25.00, -999.000,9,  -999.00,9,  -999.00,9,   1.3111,2,  27.7628,2,   1.5577,2
49UP20220824_1,    P9,    28,  1,      6,     318,2,20220831,1617,1635,  6.0053, 137.0093, 4195,   3549.2,     3500,   1.5443,  34.6777,2,    149.4,2,  34.6772,2,   149.39,6,   143.63,6,    36.24,6,     0.00,6,    2.500,6, -999.000,9, -999.000,9,   2324.0,2,   2417.0,2,   7.5815,2,    25.00, -999.000,9,  -999.00,9,  -999.00,9,   1.2720,2,  27.7678,2,   1.5442,2
49UP20220824_1,    P9,    28,  1,      5,     838,2,20220831,1617,1629,  6.0053, 137.0093, 4195,   3805.1,     3750,   1.5345,  34.6806,2,    151.8,2,  34.6801,6,   151.92,2,   143.12,2,    36.13,2,     0.00,2,    2.490,2, -999.000,9, -999.000,9,   2326.1,2,   2416.3,2,   7.5845,2,    25.00, -999.000,9,  -999.00,9,  -999.00,9,   1.2356,2,  27.7727,2,   1.5342,2
49UP20220824_1,    P9,    28,  1,      4,     316,2,20220831,1617,1623,  6.0053, 137.0093, 4195,   4061.4,     4001,   1.5105,  34.6840,2,    156.2,2,  34.6833,2,   156.32,2,   142.20,2,    35.80,2,     0.00,2,    2.470,2, -999.000,9, -999.000,9,   2321.7,2,   2412.7,2,   7.5904,2,    25.00, -999.000,9,  -999.00,9,  -999.00,9,   1.1846,2,  27.7790,2,   1.5104,2
49UP20220824_1,    P9,    28,  1,      3,     315,2,20220831,1617,1622,  6.0053, 137.0093, 4195,   4061.6,     4001,   1.5105,  34.6840,2,    156.2,2,  34.6835,2,   156.22,2,   142.06,2,    35.81,2,     0.00,2,    2.470,2, -999.000,9, -999.000,9,   2321.6,2,   2413.5,2,   7.5900,2,    25.00, -999.000,9,  -999.00,9,  -999.00,9,   1.1846,2,  27.7790,2,   1.5104,2
49UP20220824_1,    P9,    28,  1,      2,     314,2,20220831,1617,1618,  6.0053, 137.0093, 4195,   4241.8,     4177,   1.5088,  34.6856,2,    158.6,2,  34.6851,2,   158.76,2,   141.43,2,    35.70,2,     0.00,2,    2.460,2, -999.000,9, -999.000,9,   2318.9,2,   2413.3,2,   7.5922,2,    25.00, -999.000,9,  -999.00,9,  -999.00,9,   1.1630,2,  27.7817,2,   1.5075,2
49UP20220824_1,    P9,    28,  1,      1,     308,2,20220831,1617,1617,  6.0053, 137.0093, 4195,   4242.2,     4177,   1.5071,  34.6859,2,    158.2,2,  34.6851,4,   158.29,2,   141.47,2,    35.71,2,     0.00,2,    2.460,2, -999.000,9, -999.000,9,   2319.4,2,   2414.6,2,   7.5933,2,    25.00, -999.000,9,  -999.00,9,  -999.00,9,   1.1612,2,  27.7820,2,   1.5068,2