BOTTLE,20230330JMAAMD
EXPOCODE,SECT_ID,STNNBR,CASTNO,SAMPNO,BTLNBR,BTLNBR_FLAG_U,DATE,TIME,BTL_TIME,LATITUDE,LONGITUDE,DEPTH,CTDPRS,CTDDEP,CTDTMP,CTDSAL,CTDSAL_FLAG_W,CTDOXY,CTDOXY_FLAG_W,SALNTY,SALNTY_FLAG_W,OXYGEN,OXYGEN_FLAG_W,SILCAT,SILCAT_FLAG_W,NO2+NO3,NO2+NO3_FLAG_W,NITRIT,NITRIT_FLAG_W,PHSPHT,PHSPHT_FLAG_W,CFC-11,CFC-11_FLAG_W,CFC-12,CFC-12_FLAG_W,TCARBN,TCARBN_FLAG_W,ALKALI,ALKALI_FLAG_W,PH_TS,PH_TS_FLAG_W,PH_TS_TMP,CFC113,CFC113_FLAG_W,CHLORA,CHLORA_FLAG_W,PPHYTN,PPHYTN_FLAG_W,THETA,THETA_FLAG_W,SIGTHT,SIGTHT_FLAG_W,SBE35,SBE35_FLAG_W
,,,,,,,,UTC,,,,METER,DBAR,METERS,ITS-90,PSS-78,,UMOL/KG,,PSS78,,UMOL/KG,,UMOL/KG,,UMOL/KG,,UMOL/KG,,UMOL/KG,,PMOL/KG,,PMOL/KG,,UMOL/KG,,UMOL/KG,,,,ITS-90,PMOL/KG,,UG/KG,,UG/KG,,ITS-90,,KG/M3,,ITS-90,
49UP20220824_1,    P9,    48,  1,      0,      -9,0,20220907,0224,0403, 14.5167, 136.9985, 4398,      0.0,        0,  30.5086,  34.0848,2,    192.1,2,-999.0000,9,   192.74,2,     1.16,2,     0.05,2,     0.00,2,    0.050,2, -999.000,9, -999.000,9,   -999.0,9,   -999.0,9,-999.0000,9,  -999.00, -999.000,9,  -999.00,9,  -999.00,9,  30.5079,2,  20.8664,2,-999.0000,9
49UP20220824_1,    P9,    48,  1,     36,     757,2,20220907,0224,0430, 14.5167, 136.9985, 4398,     11.0,       11,  30.4603,  34.0880,2,    192.5,2,  34.0958,2,   193.37,2,     1.21,2,     0.02,2,     0.00,2,    0.030,2, -999.000,9, -999.000,9,   -999.0,9,   -999.0,9,-999.0000,9,  -999.00, -999.000,9,  -999.00,9,  -999.00,9,  30.4576,2,  20.8861,2,  30.4557,2
49UP20220824_1,    P9,    48,  1,     35,     756,2,20220907,0224,0429, 14.5167, 136.9985, 4398,     25.9,       26,  30.1158,  34.1369,2,    195.9,2,  34.1360,2,   196.61,2,     1.18,2,     0.06,2,     0.00,2,    0.030,2, -999.000,9, -999.000,9,   -999.0,9,   -999.0,9,-999.0000,9,  -999.00, -999.000,9,  -999.00,9,  -999.00,9,  30.1094,2,  21.0420,2,  30.1147,2
49UP20220824_1,    P9,    48,  1,     34,     323,2,20220907,0224,0425, 14.5167, 136.9985, 4398,     50.7,       50,  29.8696,  34.2007,2,    198.0,2,  34.1982,2,   198.08,2,     1.20,2,     0.13,2,     0.00,2,    0.030,2, -999.000,9, -999.000,9,   -999.0,9,   -999.0,9,-999.0000,9,  -999.00, -999.000,9,  -999.00,9,  -999.00,9,  29.8571,2,  21.1757,2,  29.8696,2
49UP20220824_1,    P9,    48,  1,     33,     322,2,20220907,0224,0424, 14.5167, 136.9985, 4398,     75.5,       75,  29.1415,  34.4353,2,    208.0,2,  34.4349,2,   207.05,2,     1.16,2,     0.03,2,     0.00,2,    0.030,2, -999.000,9, -999.000,9,   -999.0,9,   -999.0,9,-999.0000,9,  -999.00, -999.000,9,  -999.00,9,  -999.00,9,  29.1232,2,  21.5990,2,  29.1428,2
49UP20220824_1,    P9,    48,  1,     32,     321,2,20220907,0224,0422, 14.5167, 136.9985, 4398,    100.6,      100,  27.8653,  34.6631,2,    202.5,2,  34.6633,2,   201.70,6,     1.16,6,     0.03,6,     0.00,6,    0.050,6, -999.000,9, -999.000,9,   -999.0,9,   -999.0,9,-999.0000,9,  -999.00, -999.000,9,  -999.00,9,  -999.00,9,  27.8417,2,  22.1929,2,  27.8637,2
49UP20220824_1,    P9,    48,  1,     31,     320,2,20220907,0224,0421, 14.5167, 136.9985, 4398,    127.5,      127,  26.9355,  34.8058,2,    197.0,2,  34.7938,2,   196.82,2,     1.16,2,     0.12,2,     0.00,2,    0.040,2, -999.000,9, -999.000,9,   -999.0,9,   -999.0,9,-999.0000,9,  -999.00, -999.000,9,  -999.00,9,  -999.00,9,  26.9063,2,  22.6014,2,  26.9477,2
49UP20220824_1,    P9,    48,  1,     30,     319,2,20220907,0224,0419, 14.5167, 136.9985, 4398,    151.7,      151,  25.8905,  34.8579,2,    190.5,2,  34.8538,2,   190.53,2,     1.28,2,     0.22,2,     0.07,2,    0.060,2, -999.000,9, -999.000,9,   -999.0,9,   -999.0,9,-999.0000,9,  -999.00, -999.000,9,  -999.00,9,  -999.00,9,  25.8568,2,  22.9707,2,  25.8982,2
49UP20220824_1,    P9,    48,  1,     29,     318,2,20220907,0224,0417, 14.5167, 136.9985, 4398,    203.0,      202,  20.6380,  34.8991,2,    174.1,2,  34.9004,2,   174.62,2,     3.29,2,     3.33,2,     0.01,2,    0.310,2, -999.000,9, -999.000,9,   -999.0,9,   -999.0,9,-999.0000,9,  -999.00, -999.000,9,  -999.00,9,  -999.00,9,  20.5996,2,  24.5253,2,  20.6533,2
49UP20220824_1,    P9,    48,  1,     28,     755,2,20220907,0224,0414, 14.5167, 136.9985, 4398,    254.5,      253,  16.3162,  34.6318,2,    172.8,2,  34.6373,2,   173.26,2,     7.74,2,     8.47,2,     0.01,2,    0.650,2, -999.000,9, -999.000,9,   -999.0,9,   -999.0,9,-999.0000,9,  -999.00, -999.000,9,  -999.00,9,  -999.00,9,  16.2754,2,  25.4012,2,  16.3339,2
49UP20220824_1,    P9,    48,  1,     27,     317,2,20220907,0224,0411, 14.5167, 136.9985, 4398,    332.0,      330,  11.6029,  34.3022,2,    158.4,2,  34.3021,2,   158.51,2,    20.65,2,    17.43,2,     0.00,2,    1.300,2, -999.000,9, -999.000,9,   -999.0,9,   -999.0,9,-999.0000,9,  -999.00, -999.000,9,  -999.00,9,  -999.00,9,  11.5606,2,  26.1296,2,  11.6044,2
49UP20220824_1,    P9,    48,  1,     26,     316,2,20220907,0224,0409, 14.5167, 136.9985, 4398,    382.7,      380,   9.5351,  34.2333,2,    127.0,2,  34.2334,2,   126.21,2,    33.44,2,    24.27,2,     0.00,2,    1.780,2, -999.000,9, -999.000,9,   -999.0,9,   -999.0,9,-999.0000,9,  -999.00, -999.000,9,  -999.00,9,  -999.00,9,   9.4920,2,  26.4381,2,   9.5355,2
49UP20220824_1,    P9,    48,  1,     25,     315,2,20220907,0224,0407, 14.5167, 136.9985, 4398,    435.8,      433,   8.7102,  34.3215,2,     92.7,2,  34.3215,2,    92.69,2,    42.28,2,    29.19,2,     0.00,2,    2.140,2, -999.000,9, -999.000,9,   -999.0,9,   -999.0,9,-999.0000,9,  -999.00, -999.000,9,  -999.00,9,  -999.00,9,   8.6636,2,  26.6399,2,   8.7099,2
49UP20220824_1,    P9,    48,  1,     24,     753,2,20220907,0224,0404, 14.5167, 136.9985, 4398,    484.1,      481,   8.0053,  34.3653,2,     80.6,2,  34.3643,2,    80.50,2,    49.08,2,    31.92,2,     0.00,2,    2.330,2, -999.000,9, -999.000,9,   -999.0,9,   -999.0,9,-999.0000,9,  -999.00, -999.000,9,  -999.00,9,  -999.00,9,   7.9558,2,  26.7819,2,   8.0067,2
49UP20220824_1,    P9,    48,  1,     23,     314,2,20220907,0224,0402, 14.5167, 136.9985, 4398,    532.8,      529,   7.3553,  34.3997,2,     78.2,2,  34.3994,2,    77.97,6,    55.67,6,    33.65,6,     0.00,6,    2.440,6, -999.000,9, -999.000,9,   -999.0,9,   -999.0,9,-999.0000,9,  -999.00, -999.000,9,  -999.00,9,  -999.00,9,   7.3033,2,  26.9035,2,   7.3555,2
49UP20220824_1,    P9,    48,  1,     22,     313,2,20220907,0224,0359, 14.5167, 136.9985, 4398,    634.7,      630,   6.2518,  34.4227,2,     83.8,2,  34.4230,2,    83.83,2,    68.30,2,    35.27,2,     0.00,2,    2.540,2, -999.000,9, -999.000,9,   -999.0,9,   -999.0,9,-999.0000,9,  -999.00, -999.000,9,  -999.00,9,  -999.00,9,   6.1946,2,  27.0715,2,   6.2520,2
49UP20220824_1,    P9,    48,  1,     21,     312,2,20220907,0224,0356, 14.5167, 136.9985, 4398,    735.8,      730,   5.5094,  34.4582,2,     84.8,2,  34.4572,2,    84.86,2,    78.62,2,    36.52,2,     0.00,2,    2.640,2, -999.000,9, -999.000,9,   -999.0,9,   -999.0,9,-999.0000,9,  -999.00, -999.000,9,  -999.00,9,  -999.00,9,   5.4467,2,  27.1930,2,   5.5095,2
49UP20220824_1,    P9,    48,  1,     20,     311,2,20220907,0224,0352, 14.5167, 136.9985, 4398,    836.8,      830,   5.0074,  34.4989,2,     87.4,2,  34.4984,2,    87.38,2,    85.76,2,    37.22,2,     0.00,2,    2.670,2, -999.000,9, -999.000,9,   -999.0,9,   -999.0,9,-999.0000,9,  -999.00, -999.000,9,  -999.00,9,  -999.00,9,   4.9386,2,  27.2851,2,   5.0070,2
49UP20220824_1,    P9,    48,  1,     19,     310,2,20220907,0224,0349, 14.5167, 136.9985, 4398,    937.6,      930,   4.6021,  34.5276,2,     89.4,2,  34.5270,2,    89.42,2,    92.46,2,    37.74,2,     0.00,2,    2.710,2, -999.000,9, -999.000,9,   -999.0,9,   -999.0,9,-999.0000,9,  -999.00, -999.000,9,  -999.00,9,  -999.00,9,   4.5272,2,  27.3540,2,   4.6019,2
49UP20220824_1,    P9,    48,  1,     18,     752,2,20220907,0224,0346, 14.5167, 136.9985, 4398,   1080.3,     1071,   4.0882,  34.5467,2,     90.8,2,  34.5463,6,    90.73,2,   102.97,2,    38.20,2,     0.00,2,    2.740,2, -999.000,9, -999.000,9,   -999.0,9,   -999.0,9,-999.0000,9,  -999.00, -999.000,9,  -999.00,9,  -999.00,9,   4.0050,2,  27.4250,2,   4.0886,2
49UP20220824_1,    P9,    48,  1,     17,     751,2,20220907,0224,0341, 14.5167, 136.9985, 4398,   1280.9,     1270,   3.4562,  34.5651,2,     93.7,2,  34.5646,2,    93.77,2,   116.70,2,    38.57,2,     0.00,2,    2.760,2, -999.000,9, -999.000,9,   -999.0,9,   -999.0,9,-999.0000,9,  -999.00, -999.000,9,  -999.00,9,  -999.00,9,   3.3618,2,  27.5040,2,   3.4560,2
49UP20220824_1,    P9,    48,  1,     16,     328,2,20220907,0224,0336, 14.5167, 136.9985, 4398,   1485.5,     1472,   2.9029,  34.5826,2,     99.0,2,  34.5821,2,    98.56,2,   128.68,2,    38.55,2,     0.00,2,    2.750,2, -999.000,9, -999.000,9,   -999.0,9,   -999.0,9,-999.0000,9,  -999.00, -999.000,9,  -999.00,9,  -999.00,9,   2.7973,2,  27.5702,2,   2.9029,2
49UP20220824_1,    P9,    48,  1,     15,     309,2,20220907,0224,0330, 14.5167, 136.9985, 4398,   1686.5,     1670,   2.5898,  34.5989,2,    103.5,2,  34.5985,2,   103.30,2,   134.34,2,    38.45,2,     0.00,2,    2.740,2, -999.000,9, -999.000,9,   -999.0,9,   -999.0,9,-999.0000,9,  -999.00, -999.000,9,  -999.00,9,  -999.00,9,   2.4713,2,  27.6117,2,   2.5900,2
49UP20220824_1,    P9,    48,  1,     14,     326,2,20220907,0224,0326, 14.5167, 136.9985, 4398,   1888.8,     1869,   2.2865,  34.6144,2,    108.8,2,  34.6145,2,   108.74,6,   139.87,6,    38.45,6,     0.00,6,    2.730,6, -999.000,9, -999.000,9,   -999.0,9,   -999.0,9,-999.0000,9,  -999.00, -999.000,9,  -999.00,9,  -999.00,9,   2.1552,2,  27.6503,2,   2.2865,2
49UP20220824_1,    P9,    48,  1,     13,     325,2,20220907,0224,0321, 14.5167, 136.9985, 4398,   2092.9,     2070,   2.0953,  34.6226,2,    112.9,2,  34.6223,2,   113.02,2,   143.54,2,    38.24,2,     0.00,2,    2.710,2, -999.000,9, -999.000,9,   -999.0,9,   -999.0,9,-999.0000,9,  -999.00, -999.000,9,  -999.00,9,  -999.00,9,   1.9495,2,  27.6733,2,   2.0952,2
49UP20220824_1,    P9,    48,  1,     12,     324,2,20220907,0224,0316, 14.5167, 136.9985, 4398,   2297.0,     2271,   1.9006,  34.6435,2,    122.1,2,  34.6440,2,   122.30,2,   145.52,2,    37.86,2,     0.00,2,    2.660,2, -999.000,9, -999.000,9,   -999.0,9,   -999.0,9,-999.0000,9,  -999.00, -999.000,9,  -999.00,9,  -999.00,9,   1.7403,2,  27.7062,2,   1.9006,2
49UP20220824_1,    P9,    48,  1,     11,     323,2,20220907,0224,0311, 14.5167, 136.9985, 4398,   2499.5,     2470,   1.7909,  34.6502,2,    126.8,2,  34.6509,2,   126.51,2,   146.73,2,    37.59,2,     0.00,2,    2.640,2, -999.000,9, -999.000,9,   -999.0,9,   -999.0,9,-999.0000,9,  -999.00, -999.000,9,  -999.00,9,  -999.00,9,   1.6145,2,  27.7210,2,   1.7912,2
49UP20220824_1,    P9,    48,  1,     10,     322,2,20220907,0224,0306, 14.5167, 136.9985, 4398,   2703.6,     2671,   1.7427,  34.6567,2,    130.5,2,  34.6563,2,   130.19,2,   147.04,2,    37.31,2,     0.00,2,    2.620,2, -999.000,9, -999.000,9,   -999.0,9,   -999.0,9,-999.0000,9,  -999.00, -999.000,9,  -999.00,9,  -999.00,9,   1.5487,2,  27.7311,2,   1.7426,2
49UP20220824_1,    P9,    48,  1,      9,     750,2,20220907,0224,0301, 14.5167, 136.9985, 4398,   2907.2,     2870,   1.6978,  34.6612,2,    133.9,2,  34.6608,6,   133.45,2,   147.15,2,    37.13,2,     0.00,2,    2.600,2, -999.000,9, -999.000,9,   -999.0,9,   -999.0,9,-999.0000,9,  -999.00, -999.000,9,  -999.00,9,  -999.00,9,   1.4856,2,  27.7394,2,   1.6980,2
49UP20220824_1,    P9,    48,  1,      8,     320,2,20220907,0224,0256, 14.5167, 136.9985, 4398,   3120.5,     3080,   1.6515,  34.6658,2,    138.0,2,  34.6659,2,   137.74,2,   146.81,2,    36.90,2,     0.00,2,    2.590,2, -999.000,9, -999.000,9,   -999.0,9,   -999.0,9,-999.0000,9,  -999.00, -999.000,9,  -999.00,9,  -999.00,9,   1.4198,2,  27.7478,2,   1.6517,2
49UP20220824_1,    P9,    48,  1,      7,     319,2,20220907,0224,0250, 14.5167, 136.9985, 4398,   3376.4,     3330,   1.6185,  34.6700,2,    142.2,2,  34.6703,6,   142.00,2,   146.10,2,    36.65,2,     0.00,2,    2.560,2, -999.000,9, -999.000,9,   -999.0,9,   -999.0,9,-999.0000,9,  -999.00, -999.000,9,  -999.00,9,  -999.00,9,   1.3620,2,  27.7553,2,   1.6187,2
49UP20220824_1,    P9,    48,  1,      6,     318,2,20220907,0224,0244, 14.5167, 136.9985, 4398,   3632.9,     3581,   1.5759,  34.6748,2,    147.4,2,  34.6738,2,   146.90,2,   144.66,2,    36.24,2,     0.00,2,    2.530,2, -999.000,9, -999.000,9,   -999.0,9,   -999.0,9,-999.0000,9,  -999.00, -999.000,9,  -999.00,9,  -999.00,9,   1.2942,2,  27.7639,2,   1.5760,2
49UP20220824_1,    P9,    48,  1,      5,     838,2,20220907,0224,0238, 14.5167, 136.9985, 4398,   3887.8,     3830,   1.5405,  34.6791,2,    152.5,2,  34.6789,2,   152.34,6,   143.45,6,    35.93,6,     0.00,6,    2.510,6, -999.000,9, -999.000,9,   -999.0,9,   -999.0,9,-999.0000,9,  -999.00, -999.000,9,  -999.00,9,  -999.00,9,   1.2327,2,  27.7717,2,   1.5400,2
49UP20220824_1,    P9,    48,  1,      4,     316,2,20220907,0224,0233, 14.5167, 136.9985, 4398,   4144.1,     4080,   1.5230,  34.6827,2,    156.6,2,  34.6835,2,   156.37,2,   141.86,2,    35.57,2,     0.00,2,    2.490,2, -999.000,9, -999.000,9,   -999.0,9,   -999.0,9,-999.0000,9,  -999.00, -999.000,9,  -999.00,9,  -999.00,9,   1.1877,2,  27.7776,2,   1.5231,2
49UP20220824_1,    P9,    48,  1,      3,     315,2,20220907,0224,0227, 14.5167, 136.9985, 4398,   4401.7,     4331,   1.5081,  34.6859,2,    160.7,2,  34.6858,6,   160.36,2,   140.70,2,    35.43,2,     0.00,2,    2.470,2, -999.000,9, -999.000,9,   -999.0,9,   -999.0,9,-999.0000,9,  -999.00, -999.000,9,  -999.00,9,  -999.00,9,   1.1442,2,  27.7832,2,   1.5082,2
49UP20220824_1,    P9,    48,  1,      1,     308,2,20220907,0224,0224, 14.5167, 136.9985, 4398,   4487.8,     4415,   1.5128,  34.6862,2,    161.3,2,  34.6858,2,   160.93,2,   140.43,2,    35.39,2,     0.00,2,    2.480,2, -999.000,9, -999.000,9,   -999.0,9,   -999.0,9,-999.0000,9,  -999.00, -999.000,9,  -999.00,9,  -999.00,9,   1.1389,2,  27.7839,2,   1.5129,2
49UP20220824_1,    P9,    48,  1,      2,     314,2,20220907,0224,0224, 14.5167, 136.9985, 4398,   4487.9,     4415,   1.5128,  34.6863,2,    161.3,2,  34.6857,2,   160.99,2,   140.39,2,    35.32,2,     0.00,2,    2.470,2, -999.000,9, -999.000,9,   -999.0,9,   -999.0,9,-999.0000,9,  -999.00, -999.000,9,  -999.00,9,  -999.00,9,   1.1388,2,  27.7839,2,   1.5128,2