BOTTLE,20230330JMAAMD
EXPOCODE,SECT_ID,STNNBR,CASTNO,SAMPNO,BTLNBR,BTLNBR_FLAG_U,DATE,TIME,BTL_TIME,LATITUDE,LONGITUDE,DEPTH,CTDPRS,CTDDEP,CTDTMP,CTDSAL,CTDSAL_FLAG_W,CTDOXY,CTDOXY_FLAG_W,SALNTY,SALNTY_FLAG_W,OXYGEN,OXYGEN_FLAG_W,SILCAT,SILCAT_FLAG_W,NO2+NO3,NO2+NO3_FLAG_W,NITRIT,NITRIT_FLAG_W,PHSPHT,PHSPHT_FLAG_W,CFC-11,CFC-11_FLAG_W,CFC-12,CFC-12_FLAG_W,TCARBN,TCARBN_FLAG_W,ALKALI,ALKALI_FLAG_W,PH_TS,PH_TS_FLAG_W,PH_TS_TMP,CFC113,CFC113_FLAG_W,CHLORA,CHLORA_FLAG_W,PPHYTN,PPHYTN_FLAG_W,THETA,THETA_FLAG_W,SIGTHT,SIGTHT_FLAG_W,SBE35,SBE35_FLAG_W
,,,,,,,,UTC,,,,METER,DBAR,METERS,ITS-90,PSS-78,,UMOL/KG,,PSS78,,UMOL/KG,,UMOL/KG,,UMOL/KG,,UMOL/KG,,UMOL/KG,,PMOL/KG,,PMOL/KG,,UMOL/KG,,UMOL/KG,,,,ITS-90,PMOL/KG,,UG/KG,,UG/KG,,ITS-90,,KG/M3,,ITS-90,
49UP20220929_1,    P9,    83,  1,      0,      -9,0,20221010,0045,0208, 31.0100, 137.0148, 4142,      0.0,        0,  26.4778,  33.8008,2,    205.4,2,  33.7911,2,   205.07,2,     2.27,2,     0.03,2,     0.00,2,    0.040,2, -999.000,9, -999.000,9,   1931.5,2,   2225.2,2,   8.0729,2,    25.00, -999.000,9,     0.23,2,     0.09,2,  26.4772,2,  21.9799,2,-999.0000,9
49UP20220929_1,    P9,    83,  1,     36,     757,2,20221010,0045,0245, 31.0100, 137.0148, 4142,     10.3,       10,  26.4223,  33.8029,2,    205.3,2,  33.8046,2,   204.83,2,     2.31,2,     0.02,2,     0.00,2,    0.000,2, -999.000,9, -999.000,9,   1936.5,2,   2223.9,2,   8.0714,2,    25.00, -999.000,9,     0.19,2,     0.09,2,  26.4200,2,  21.9995,2,  26.4238,2
49UP20220929_1,    P9,    83,  1,     35,     756,2,20221010,0045,0243, 31.0100, 137.0148, 4142,     25.2,       25,  26.4005,  33.8185,2,    205.2,2,  33.8215,2,   204.78,2,     2.35,2,     0.02,2,     0.00,2,    0.000,2, -999.000,9, -999.000,9,   1937.0,2,   2226.8,2,   8.0737,2,    25.00, -999.000,9,     0.23,2,     0.12,2,  26.3949,2,  22.0191,2,  26.3996,2
49UP20220929_1,    P9,    83,  1,     34,     323,2,20221010,0045,0240, 31.0100, 137.0148, 4142,     48.9,       49,  23.6841,  34.2875,2,    214.2,2,  34.2908,2,   213.34,2,     3.26,2,     0.13,2,     0.04,2,    0.050,2, -999.000,9, -999.000,9,   1982.8,2,   2254.0,2,   8.0319,2,    25.00, -999.000,9,     0.39,2,     0.33,2,  23.6739,2,  23.1979,2,  23.6833,2
49UP20220929_1,    P9,    83,  1,     33,     322,2,20221010,0045,0238, 31.0100, 137.0148, 4142,     73.9,       73,  19.9716,  34.6071,2,    186.0,2,  34.6019,2,   186.27,2,     6.28,2,     4.47,2,     0.07,2,    0.330,2, -999.000,9, -999.000,9,   2044.6,2,   2268.1,2,   7.9446,2,    25.00, -999.000,9,     0.10,2,     0.25,2,  19.9580,2,  24.4731,2,  19.9749,2
49UP20220929_1,    P9,    83,  1,     32,     321,2,20221010,0045,0237, 31.0100, 137.0148, 4142,    100.8,      100,  18.2086,  34.5954,2,    173.7,2,  34.5958,2,   173.50,2,     9.75,2,     7.62,2,     0.03,2,    0.540,2, -999.000,9, -999.000,9,   2067.2,2,   2278.7,2,   7.8925,2,    25.00, -999.000,9,     0.08,2,     0.21,2,  18.1912,2,  24.9150,2,  18.2079,2
49UP20220929_1,    P9,    83,  1,     31,     320,2,20221010,0045,0236, 31.0100, 137.0148, 4142,    126.3,      125,  16.7534,  34.6079,2,    172.5,2,  34.6077,2,   172.34,6,    12.05,6,     9.39,6,     0.02,6,    0.660,6, -999.000,9, -999.000,9,   2082.6,2,   2271.1,2,   7.8675,2,    25.00, -999.000,9,     0.07,2,     0.11,2,  16.7329,2,  25.2763,2,  16.7438,2
49UP20220929_1,    P9,    83,  1,     29,     318,2,20221010,0045,0234, 31.0100, 137.0148, 4142,    155.3,      154,  15.6722,  34.5739,2,    170.3,2,  34.5741,2,   169.76,2,    14.98,2,    11.02,2,     0.01,2,    0.770,2, -999.000,9, -999.000,9,   2095.2,2,   2270.7,2,   7.8389,2,    25.00, -999.000,9,     0.04,2,     0.07,2,  15.6480,2,  25.4995,2,  15.6715,2
49UP20220929_1,    P9,    83,  1,     30,     319,2,20221010,0045,0234, 31.0100, 137.0148, 4142,    155.4,      154,  15.6709,  34.5738,2,    170.4,2,  34.5739,2,   169.93,2,    14.90,2,    11.05,2,     0.01,2,    0.770,2, -999.000,9, -999.000,9,   2091.2,2,   2271.8,2,   7.8425,2,    25.00, -999.000,9,  -999.00,9,  -999.00,9,  15.6467,2,  25.4998,2,  15.6685,2
49UP20220929_1,    P9,    83,  1,     28,     755,2,20221010,0045,0232, 31.0100, 137.0148, 4142,    203.5,      202,  13.2135,  34.4667,2,    158.3,2,  34.4674,2,   158.11,2,    23.99,2,    15.77,2,     0.01,2,    1.110,2, -999.000,9, -999.000,9,   2127.7,2,   2275.8,2,   7.7686,2,    25.00, -999.000,9,     0.01,2,     0.03,2,  13.1853,2,  25.9425,2,  13.2138,2
49UP20220929_1,    P9,    83,  1,     27,     317,2,20221010,0045,0229, 31.0100, 137.0148, 4142,    257.2,      255,  11.2447,  34.3654,2,    152.1,2,  34.3657,2,   151.76,2,    33.64,2,    19.42,2,     0.00,2,    1.380,2, -999.000,9, -999.000,9,   2157.4,2,   2277.9,2,   7.7094,2,    25.00, -999.000,9,  -999.00,9,  -999.00,9,  11.2127,2,  26.2427,2,  11.2482,2
49UP20220929_1,    P9,    83,  1,     26,     316,2,20221010,0045,0226, 31.0100, 137.0148, 4142,    310.2,      308,   9.2287,  34.2385,2,    145.2,2,  34.2426,2,   144.71,2,    42.91,2,    23.30,2,     0.00,2,    1.670,2, -999.000,9, -999.000,9,   2184.6,2,   2281.1,2,   7.6453,2,    25.00, -999.000,9,  -999.00,9,  -999.00,9,   9.1946,2,  26.4906,2,   9.2316,2
49UP20220929_1,    P9,    83,  1,     25,     315,2,20221010,0045,0224, 31.0100, 137.0148, 4142,    403.1,      400,   7.2145,  34.2511,2,    107.9,2,  34.2498,2,   107.40,2,    67.01,2,    30.38,2,     0.00,2,    2.180,2, -999.000,9, -999.000,9,   2239.8,2,   2303.6,2,   7.5399,2,    25.00, -999.000,9,  -999.00,9,  -999.00,9,   7.1760,2,  26.8045,2,   7.2146,2
49UP20220929_1,    P9,    83,  1,     24,     753,2,20221010,0045,0221, 31.0100, 137.0148, 4142,    494.7,      491,   5.8581,  34.2592,2,     87.5,2,  34.2608,2,    86.02,2,    85.34,2,    34.75,2,     0.00,2,    2.500,2, -999.000,9, -999.000,9,   2278.3,2,   2326.4,2,   7.4713,2,    25.00, -999.000,9,  -999.00,9,  -999.00,9,   5.8156,2,  26.9904,2,   5.8444,2
49UP20220929_1,    P9,    83,  1,     23,     314,2,20221010,0045,0221, 31.0100, 137.0148, 4142,    496.5,      492,   5.8053,  34.2609,2,     86.4,2,  34.2613,2,    85.10,2,    85.96,2,    34.90,2,     0.00,2,    2.510,2, -999.000,9, -999.000,9,   2278.2,2,   2322.5,2,   7.4708,2,    25.00, -999.000,9,  -999.00,9,  -999.00,9,   5.7629,2,  26.9982,2,   5.7658,2
49UP20220929_1,    P9,    83,  1,     22,     313,2,20221010,0045,0215, 31.0100, 137.0148, 4142,    609.0,      604,   4.7227,  34.2981,2,     70.3,2,  34.2962,2,    70.56,6,   101.23,6,    37.73,6,     0.00,6,    2.710,6, -999.000,9, -999.000,9,   2311.5,2,   2340.4,2,   7.4347,2,    25.00, -999.000,9,  -999.00,9,  -999.00,9,   4.6752,2,  27.1555,2,   4.7187,2
49UP20220929_1,    P9,    83,  1,     21,     312,2,20221010,0045,0213, 31.0100, 137.0148, 4142,    705.9,      700,   4.0531,  34.3446,2,     62.4,2,  34.3435,2,    62.06,2,   114.30,2,    39.48,2,     0.00,2,    2.830,2, -999.000,9, -999.000,9,   2329.2,2,   2355.9,2,   7.4129,2,    25.00, -999.000,9,  -999.00,9,  -999.00,9,   4.0012,2,  27.2646,2,   4.0531,2
49UP20220929_1,    P9,    83,  1,     20,     311,2,20221010,0045,0210, 31.0100, 137.0148, 4142,    807.5,      800,   3.6281,  34.3863,2,     60.0,2,  34.3861,2,    59.71,2,   123.36,2,    40.30,2,     0.00,2,    2.880,2, -999.000,9, -999.000,9,   2339.7,6,   2366.3,6,   7.4051,2,    25.00, -999.000,9,  -999.00,9,  -999.00,9,   3.5707,2,  27.3412,2,   3.6271,2
49UP20220929_1,    P9,    83,  1,     19,     310,2,20221010,0045,0207, 31.0100, 137.0148, 4142,    910.3,      902,   3.3071,  34.4273,2,     62.3,2,  34.4268,2,    62.00,2,   130.11,2,    40.49,2,     0.00,2,    2.890,2, -999.000,9, -999.000,9,   2345.3,2,   2375.5,2,   7.4166,6,    25.00, -999.000,9,  -999.00,9,  -999.00,9,   3.2439,2,  27.4053,2,   3.3069,2
49UP20220929_1,    P9,    83,  1,     18,     752,2,20221010,0045,0204, 31.0100, 137.0148, 4142,   1013.6,     1004,   3.1125,  34.4499,2,     64.2,2,  34.4502,2,    64.30,2,   133.81,2,    40.60,2,     0.00,2,    2.900,2, -999.000,9, -999.000,9,   2350.0,2,   2380.4,2,   7.4198,2,    25.00, -999.000,9,  -999.00,9,  -999.00,9,   3.0428,2,  27.4421,2,   3.1122,2
49UP20220929_1,    P9,    83,  1,     17,     751,2,20221010,0045,0159, 31.0100, 137.0148, 4142,   1215.4,     1204,   2.7309,  34.4953,2,     70.4,2,  34.4955,6,    70.54,2,   140.60,2,    40.66,2,     0.00,2,    2.880,2, -999.000,9, -999.000,9,   2353.5,2,   2389.3,2,   7.4268,2,    25.00, -999.000,9,  -999.00,9,  -999.00,9,   2.6489,2,  27.5136,2,   2.7308,2
49UP20220929_1,    P9,    83,  1,     16,     328,2,20221010,0045,0154, 31.0100, 137.0148, 4142,   1417.3,     1403,   2.4113,  34.5370,2,     80.4,2,  34.5368,2,    80.75,2,   145.14,2,    40.24,2,     0.00,2,    2.850,2, -999.000,9, -999.000,9,   2358.0,2,   2398.8,2,   7.4467,2,    25.00, -999.000,9,  -999.00,9,  -999.00,9,   2.3169,2,  27.5751,2,   2.4114,2
49UP20220929_1,    P9,    83,  1,     15,     309,2,20221010,0045,0149, 31.0100, 137.0148, 4142,   1620.8,     1603,   2.1824,  34.5695,2,     92.1,2,  34.5692,2,    91.87,2,   147.13,2,    39.66,2,     0.00,2,    2.800,2, -999.000,9, -999.000,9,   2355.1,2,   2406.0,2,   7.4704,2,    25.00, -999.000,9,  -999.00,9,  -999.00,9,   2.0745,2,  27.6209,2,   2.1823,2
49UP20220929_1,    P9,    83,  1,     14,     326,2,20221010,0045,0144, 31.0100, 137.0148, 4142,   1821.9,     1801,   1.9979,  34.5968,2,    103.8,2,  34.5966,6,   103.51,2,   147.80,2,    39.02,2,     0.00,2,    2.750,2, -999.000,9, -999.000,9,   2348.1,2,   2406.9,2,   7.4906,2,    25.00, -999.000,9,  -999.00,9,  -999.00,9,   1.8763,2,  27.6583,2,   1.9979,2
49UP20220929_1,    P9,    83,  1,     13,     325,2,20221010,0045,0139, 31.0100, 137.0148, 4142,   2028.3,     2005,   1.8800,  34.6163,2,    114.3,2,  34.6163,2,   114.30,6,   146.81,6,    38.39,6,     0.00,6,    2.700,6, -999.000,9, -999.000,9,   2342.7,2,   2409.5,2,   7.5145,2,    25.00, -999.000,9,  -999.00,9,  -999.00,9,   1.7431,2,  27.6842,2,   1.8800,2
49UP20220929_1,    P9,    83,  1,     12,     324,2,20221010,0045,0134, 31.0100, 137.0148, 4142,   2227.5,     2200,   1.7749,  34.6325,2,    123.3,2,  34.6325,2,   123.44,2,   146.11,2,    37.81,2,     0.00,2,    2.650,2, -999.000,9, -999.000,9,   2340.0,2,   2412.3,2,   7.5299,2,    25.00, -999.000,9,  -999.00,9,  -999.00,9,   1.6227,2,  27.7062,2,   1.7748,2
49UP20220929_1,    P9,    83,  1,     11,     323,2,20221010,0045,0134, 31.0100, 137.0148, 4142,   2227.8,     2201,   1.7749,  34.6324,2,    123.3,2,  34.6328,2,   123.23,2,   146.19,2,    37.86,2,     0.00,2,    2.650,2, -999.000,9, -999.000,9,   2341.7,6,   2412.4,6,   7.5282,2,    25.00, -999.000,9,  -999.00,9,  -999.00,9,   1.6228,2,  27.7062,2,   1.7748,2
49UP20220929_1,    P9,    83,  1,     10,     322,2,20221010,0045,0128, 31.0100, 137.0148, 4142,   2432.0,     2401,   1.6800,  34.6463,2,    131.6,2,  34.6465,2,   131.38,2,   145.42,2,    37.43,2,     0.00,2,    2.610,2, -999.000,9, -999.000,9,   2337.5,2,   2412.2,2,   7.5454,6,    25.00, -999.000,9,  -999.00,9,  -999.00,9,   1.5118,2,  27.7254,2,   1.6799,2
49UP20220929_1,    P9,    83,  1,      9,     750,2,20221010,0045,0123, 31.0100, 137.0148, 4142,   2634.3,     2600,   1.6055,  34.6571,2,    138.2,2,  34.6571,2,   138.07,2,   144.98,2,    36.93,2,     0.00,2,    2.580,2, -999.000,9, -999.000,9,   2334.7,2,   2412.5,2,   7.5574,2,    25.00, -999.000,9,  -999.00,9,  -999.00,9,   1.4205,2,  27.7407,2,   1.6052,2
49UP20220929_1,    P9,    83,  1,      8,     320,2,20221010,0045,0118, 31.0100, 137.0148, 4142,   2837.6,     2799,   1.5512,  34.6654,2,    143.7,2,  34.6656,2,   143.66,2,   144.30,2,    36.58,2,     0.00,2,    2.550,2, -999.000,9, -999.000,9,   2326.9,3,   2414.4,2,   7.5654,2,    25.00, -999.000,9,  -999.00,9,  -999.00,9,   1.3487,2,  27.7525,2,   1.5511,2
49UP20220929_1,    P9,    83,  1,      7,     319,2,20221010,0045,0113, 31.0100, 137.0148, 4142,   3042.2,     3000,   1.5140,  34.6717,2,    148.1,2,  34.6716,2,   147.84,2,   143.78,2,    36.32,2,     0.00,2,    2.530,2, -999.000,9, -999.000,9,   2330.7,2,   2412.6,2,   7.5707,2,    25.00, -999.000,9,  -999.00,9,  -999.00,9,   1.2928,2,  27.7616,2,   1.5139,2
49UP20220929_1,    P9,    83,  1,      6,     318,2,20221010,0045,0107, 31.0100, 137.0148, 4142,   3300.3,     3252,   1.5022,  34.6757,2,    150.9,2,  34.6755,6,   150.59,6,   143.34,6,    36.13,6,     0.00,6,    2.510,6, -999.000,9, -999.000,9,   2327.0,2,   2414.3,2,   7.5778,2,    25.00, -999.000,9,  -999.00,9,  -999.00,9,   1.2562,2,  27.7674,2,   1.5021,2
49UP20220929_1,    P9,    83,  1,      5,     838,2,20221010,0045,0101, 31.0100, 137.0148, 4142,   3553.8,     3500,   1.5086,  34.6779,2,    152.5,2,  34.6781,2,   152.57,2,   143.30,2,    36.04,2,     0.00,2,    2.500,2, -999.000,9, -999.000,9,   2326.2,2,   2413.3,2,   7.5810,2,    25.00, -999.000,9,  -999.00,9,  -999.00,9,   1.2367,2,  27.7705,2,   1.5085,2
49UP20220929_1,    P9,    83,  1,      4,     316,2,20221010,0045,0055, 31.0100, 137.0148, 4142,   3811.0,     3751,   1.5224,  34.6793,2,    153.6,2,  34.6796,2,   153.50,2,   142.97,2,    35.95,2,     0.00,2,    2.500,2, -999.000,9, -999.000,9,   2324.4,6,   2412.6,6,   7.5835,2,    25.00, -999.000,9,  -999.00,9,  -999.00,9,   1.2232,2,  27.7725,2,   1.5223,2
49UP20220929_1,    P9,    83,  1,      3,     315,2,20221010,0045,0049, 31.0100, 137.0148, 4142,   4064.9,     3999,   1.5397,  34.6804,2,    154.7,2,  34.6807,6,   154.32,2,   142.81,2,    35.79,2,     0.00,2,    2.490,2, -999.000,9, -999.000,9,   2323.5,2,   2414.3,2,   7.5846,6,    25.00, -999.000,9,  -999.00,9,  -999.00,9,   1.2126,2,  27.7741,2,   1.5397,2
49UP20220929_1,    P9,    83,  1,      1,     308,2,20221010,0045,0045, 31.0100, 137.0148, 4142,   4202.9,     4133,   1.5489,  34.6810,2,    155.5,2,  34.6811,2,   155.23,2,   142.57,2,    35.87,2,     0.00,2,    2.490,2, -999.000,9, -999.000,9,   2322.8,2,   2413.4,2,   7.5858,2,    25.00, -999.000,9,  -999.00,9,  -999.00,9,   1.2062,2,  27.7751,2,   1.5488,2
49UP20220929_1,    P9,    83,  1,      2,     314,2,20221010,0045,0045, 31.0100, 137.0148, 4142,   4203.7,     4134,   1.5490,  34.6810,2,    155.4,2,  34.6813,2,   155.24,2,   142.60,2,    35.86,2,     0.00,2,    2.490,2, -999.000,9, -999.000,9,   2323.6,2,   2412.8,2,   7.5856,2,    25.00, -999.000,9,  -999.00,9,  -999.00,9,   1.2062,2,  27.7750,2,   1.5489,2