BOTTLE,20230330JMAAMD
EXPOCODE,SECT_ID,STNNBR,CASTNO,SAMPNO,BTLNBR,BTLNBR_FLAG_U,DATE,TIME,BTL_TIME,LATITUDE,LONGITUDE,DEPTH,CTDPRS,CTDDEP,CTDTMP,CTDSAL,CTDSAL_FLAG_W,CTDOXY,CTDOXY_FLAG_W,SALNTY,SALNTY_FLAG_W,OXYGEN,OXYGEN_FLAG_W,SILCAT,SILCAT_FLAG_W,NO2+NO3,NO2+NO3_FLAG_W,NITRIT,NITRIT_FLAG_W,PHSPHT,PHSPHT_FLAG_W,CFC-11,CFC-11_FLAG_W,CFC-12,CFC-12_FLAG_W,TCARBN,TCARBN_FLAG_W,ALKALI,ALKALI_FLAG_W,PH_TS,PH_TS_FLAG_W,PH_TS_TMP,CFC113,CFC113_FLAG_W,CHLORA,CHLORA_FLAG_W,PPHYTN,PPHYTN_FLAG_W,THETA,THETA_FLAG_W,SIGTHT,SIGTHT_FLAG_W,SBE35,SBE35_FLAG_W
,,,,,,,,UTC,,,,METER,DBAR,METERS,ITS-90,PSS-78,,UMOL/KG,,PSS78,,UMOL/KG,,UMOL/KG,,UMOL/KG,,UMOL/KG,,UMOL/KG,,PMOL/KG,,PMOL/KG,,UMOL/KG,,UMOL/KG,,,,ITS-90,PMOL/KG,,UG/KG,,UG/KG,,ITS-90,,KG/M3,,ITS-90,
49UP20220929_1,    P9,    67,  1,      0,      -9,0,20221004,1448,1620, 23.4888, 136.9912, 4294,      0.0,        0,  29.3837,  34.2453,2,    195.6,2,-999.0000,9,   196.51,2,     1.39,2,     0.02,2,     0.00,2,    0.020,2, -999.000,9, -999.000,9,   -999.0,9,   -999.0,9,-999.0000,9,  -999.00, -999.000,9,  -999.00,9,  -999.00,9,  29.3831,2,  21.3693,2,-999.0000,9
49UP20220929_1,    P9,    67,  1,     36,     757,2,20221004,1448,1649, 23.4888, 136.9912, 4294,     12.5,       12,  29.3587,  34.2432,2,    195.7,2,  34.2460,2,   196.62,2,     1.48,2,     0.02,2,     0.00,2,    0.010,2, -999.000,9, -999.000,9,   -999.0,9,   -999.0,9,-999.0000,9,  -999.00, -999.000,9,  -999.00,9,  -999.00,9,  29.3557,2,  21.3769,2,  29.3573,2
49UP20220929_1,    P9,    67,  1,     35,     756,2,20221004,1448,1647, 23.4888, 136.9912, 4294,     25.7,       26,  28.9941,  34.2687,2,    197.2,2,  34.2709,2,   197.63,2,     1.43,2,     0.01,2,     0.00,2,    0.010,2, -999.000,9, -999.000,9,   -999.0,9,   -999.0,9,-999.0000,9,  -999.00, -999.000,9,  -999.00,9,  -999.00,9,  28.9879,2,  21.5191,2,  28.9917,2
49UP20220929_1,    P9,    67,  1,     34,     323,2,20221004,1448,1642, 23.4888, 136.9912, 4294,     50.8,       50,  25.4554,  34.5290,2,    214.7,2,  34.5353,2,   214.69,2,     1.60,2,     0.00,2,     0.00,2,    0.010,2, -999.000,9, -999.000,9,   -999.0,9,   -999.0,9,-999.0000,9,  -999.00, -999.000,9,  -999.00,9,  -999.00,9,  25.4443,2,  22.8497,2,  25.4565,2
49UP20220929_1,    P9,    67,  1,     33,     322,2,20221004,1448,1641, 23.4888, 136.9912, 4294,     76.0,       76,  23.3303,  34.6794,2,    207.8,2,  34.6801,2,   207.93,2,     1.76,2,     0.00,2,     0.00,2,    0.030,2, -999.000,9, -999.000,9,   -999.0,9,   -999.0,9,-999.0000,9,  -999.00, -999.000,9,  -999.00,9,  -999.00,9,  23.3146,2,  23.5995,2,  23.3270,2
49UP20220929_1,    P9,    67,  1,     32,     321,2,20221004,1448,1641, 23.4888, 136.9912, 4294,     76.0,       76,  23.3227,  34.6791,2,    207.8,2,  34.6801,2,   207.76,2,     1.76,2,     0.02,2,     0.00,2,    0.030,2, -999.000,9, -999.000,9,   -999.0,9,   -999.0,9,-999.0000,9,  -999.00, -999.000,9,  -999.00,9,  -999.00,9,  23.3071,2,  23.6015,2,  23.3194,2
49UP20220929_1,    P9,    67,  1,     31,     320,2,20221004,1448,1639, 23.4888, 136.9912, 4294,    101.8,      101,  21.8684,  34.7522,2,    200.1,2,  34.7518,2,   200.44,2,     2.05,2,     0.93,2,     0.05,2,    0.090,2, -999.000,9, -999.000,9,   -999.0,9,   -999.0,9,-999.0000,9,  -999.00, -999.000,9,  -999.00,9,  -999.00,9,  21.8484,2,  24.0719,2,  21.8712,2
49UP20220929_1,    P9,    67,  1,     30,     319,2,20221004,1448,1638, 23.4888, 136.9912, 4294,    126.6,      126,  20.8269,  34.7862,2,    197.2,2,  34.7865,2,   197.67,2,     2.33,2,     1.71,2,     0.03,2,    0.130,2, -999.000,9, -999.000,9,   -999.0,9,   -999.0,9,-999.0000,9,  -999.00, -999.000,9,  -999.00,9,  -999.00,9,  20.8029,2,  24.3846,2,  20.8271,2
49UP20220929_1,    P9,    67,  1,     29,     318,2,20221004,1448,1636, 23.4888, 136.9912, 4294,    152.3,      151,  19.7076,  34.7928,2,    197.4,2,  34.7932,2,   197.36,2,     2.68,2,     2.61,2,     0.02,2,    0.190,2, -999.000,9, -999.000,9,   -999.0,9,   -999.0,9,-999.0000,9,  -999.00, -999.000,9,  -999.00,9,  -999.00,9,  19.6798,2,  24.6876,2,  19.7069,2
49UP20220929_1,    P9,    67,  1,     28,     755,2,20221004,1448,1634, 23.4888, 136.9912, 4294,    201.8,      200,  18.7554,  34.7870,2,    197.3,2,  34.7868,2,   197.37,6,     3.30,6,     3.50,6,     0.01,6,    0.250,6, -999.000,9, -999.000,9,   -999.0,9,   -999.0,9,-999.0000,9,  -999.00, -999.000,9,  -999.00,9,  -999.00,9,  18.7198,2,  24.9295,2,  18.7553,2
49UP20220929_1,    P9,    67,  1,     27,     317,2,20221004,1448,1632, 23.4888, 136.9912, 4294,    254.0,      252,  17.6894,  34.7547,2,    205.9,2,  34.7544,2,   206.37,2,     3.84,2,     4.03,2,     0.01,2,    0.270,2, -999.000,9, -999.000,9,   -999.0,9,   -999.0,9,-999.0000,9,  -999.00, -999.000,9,  -999.00,9,  -999.00,9,  17.6463,2,  25.1707,2,  17.6909,2
49UP20220929_1,    P9,    67,  1,     26,     316,2,20221004,1448,1631, 23.4888, 136.9912, 4294,    285.3,      283,  17.3763,  34.7432,2,    206.2,2,  34.7441,2,   206.06,2,     4.16,2,     4.47,2,     0.01,2,    0.300,2, -999.000,9, -999.000,9,   -999.0,9,   -999.0,9,-999.0000,9,  -999.00, -999.000,9,  -999.00,9,  -999.00,9,  17.3285,2,  25.2387,2,  17.3692,2
49UP20220929_1,    P9,    67,  1,     25,     315,2,20221004,1448,1628, 23.4888, 136.9912, 4294,    374.5,      372,  15.1884,  34.5772,2,    192.7,2,  34.5751,6,   192.72,2,     8.84,2,     8.94,2,     0.00,2,    0.610,2, -999.000,9, -999.000,9,   -999.0,9,   -999.0,9,-999.0000,9,  -999.00, -999.000,9,  -999.00,9,  -999.00,9,  15.1311,2,  25.6171,2,  15.1884,2
49UP20220929_1,    P9,    67,  1,     24,     753,2,20221004,1448,1625, 23.4888, 136.9912, 4294,    474.4,      471,  11.2377,  34.2866,2,    176.0,2,  34.2857,2,   175.83,2,    23.15,2,    17.02,2,     0.00,2,    1.200,2, -999.000,9, -999.000,9,   -999.0,9,   -999.0,9,-999.0000,9,  -999.00, -999.000,9,  -999.00,9,  -999.00,9,  11.1781,2,  26.1877,2,  11.2384,2
49UP20220929_1,    P9,    67,  1,     23,     314,2,20221004,1448,1622, 23.4888, 136.9912, 4294,    575.7,      571,   8.6607,  34.1593,2,    142.4,2,  34.1584,2,   141.95,2,    40.78,2,    24.68,2,     0.00,2,    1.770,2, -999.000,9, -999.000,9,   -999.0,9,   -999.0,9,-999.0000,9,  -999.00, -999.000,9,  -999.00,9,  -999.00,9,   8.5989,2,  26.5228,2,   8.6604,2
49UP20220929_1,    P9,    67,  1,     22,     313,2,20221004,1448,1619, 23.4888, 136.9912, 4294,    676.9,      672,   6.6871,  34.1233,2,    110.8,2,  34.1232,2,   110.18,2,    62.77,2,    31.12,2,     0.00,2,    2.240,2, -999.000,9, -999.000,9,   -999.0,9,   -999.0,9,-999.0000,9,  -999.00, -999.000,9,  -999.00,9,  -999.00,9,   6.6240,2,  26.7790,2,   6.6884,2
49UP20220929_1,    P9,    67,  1,     21,     312,2,20221004,1448,1616, 23.4888, 136.9912, 4294,    777.3,      771,   5.3379,  34.1819,2,     77.8,2,  34.1808,2,    77.90,6,    84.90,6,    36.34,6,     0.00,6,    2.620,6, -999.000,9, -999.000,9,   -999.0,9,   -999.0,9,-999.0000,9,  -999.00, -999.000,9,  -999.00,9,  -999.00,9,   5.2728,2,  26.9949,2,   5.3380,2
49UP20220929_1,    P9,    67,  1,     20,     311,2,20221004,1448,1613, 23.4888, 136.9912, 4294,    878.4,      871,   4.6772,  34.2593,2,     61.2,2,  34.2588,2,    60.88,2,    98.40,2,    38.91,2,     0.00,2,    2.800,2, -999.000,9, -999.000,9,   -999.0,9,   -999.0,9,-999.0000,9,  -999.00, -999.000,9,  -999.00,9,  -999.00,9,   4.6074,2,  27.1322,2,   4.6775,2
49UP20220929_1,    P9,    67,  1,     19,     310,2,20221004,1448,1610, 23.4888, 136.9912, 4294,    979.6,      971,   4.0356,  34.3550,2,     57.0,2,  34.3550,2,    56.95,2,   112.62,2,    40.18,2,     0.00,2,    2.880,2, -999.000,9, -999.000,9,   -999.0,9,   -999.0,9,-999.0000,9,  -999.00, -999.000,9,  -999.00,9,  -999.00,9,   3.9616,2,  27.2770,2,   4.0234,2
49UP20220929_1,    P9,    67,  1,     18,     752,2,20221004,1448,1606, 23.4888, 136.9912, 4294,   1142.6,     1132,   3.2853,  34.4465,2,     62.3,2,  34.4444,2,    62.19,2,   128.60,2,    40.70,2,     0.00,2,    2.900,2, -999.000,9, -999.000,9,   -999.0,9,   -999.0,9,-999.0000,9,  -999.00, -999.000,9,  -999.00,9,  -999.00,9,   3.2040,2,  27.4244,2,   3.2864,2
49UP20220929_1,    P9,    67,  1,     17,     751,2,20221004,1448,1601, 23.4888, 136.9912, 4294,   1343.7,     1331,   2.7573,  34.5110,2,     75.4,2,  34.5107,2,    75.48,2,   138.27,2,    40.20,2,     0.00,2,    2.860,2, -999.000,9, -999.000,9,   -999.0,9,   -999.0,9,-999.0000,9,  -999.00, -999.000,9,  -999.00,9,  -999.00,9,   2.6649,2,  27.5246,2,   2.7572,2
49UP20220929_1,    P9,    67,  1,     16,     328,2,20221004,1448,1556, 23.4888, 136.9912, 4294,   1546.4,     1531,   2.4349,  34.5550,2,     89.4,2,  34.5547,6,    89.53,2,   142.05,2,    39.52,2,     0.00,2,    2.800,2, -999.000,9, -999.000,9,   -999.0,9,   -999.0,9,-999.0000,9,  -999.00, -999.000,9,  -999.00,9,  -999.00,9,   2.3299,2,  27.5884,2,   2.4344,2
49UP20220929_1,    P9,    67,  1,     15,     309,2,20221004,1448,1552, 23.4888, 136.9912, 4294,   1748.8,     1730,   2.2179,  34.5851,2,    101.3,2,  34.5851,2,   101.38,6,   143.35,6,    38.86,6,     0.00,6,    2.750,6, -999.000,9, -999.000,9,   -999.0,9,   -999.0,9,-999.0000,9,  -999.00, -999.000,9,  -999.00,9,  -999.00,9,   2.0993,2,  27.6314,2,   2.2179,2
49UP20220929_1,    P9,    67,  1,     14,     326,2,20221004,1448,1547, 23.4888, 136.9912, 4294,   1952.8,     1931,   2.0326,  34.6112,2,    112.9,2,  34.6116,2,   112.99,2,   143.74,2,    38.30,2,     0.00,2,    2.690,2, -999.000,9, -999.000,9,   -999.0,9,   -999.0,9,-999.0000,9,  -999.00, -999.000,9,  -999.00,9,  -999.00,9,   1.8997,2,  27.6681,2,   2.0326,2
49UP20220929_1,    P9,    67,  1,     13,     325,2,20221004,1448,1542, 23.4888, 136.9912, 4294,   2157.2,     2133,   1.8891,  34.6279,2,    120.8,2,  34.6290,4,   121.00,2,   144.20,2,    37.80,2,     0.00,2,    2.660,2, -999.000,9, -999.000,9,   -999.0,9,   -999.0,9,-999.0000,9,  -999.00, -999.000,9,  -999.00,9,  -999.00,9,   1.7411,2,  27.6936,2,   1.8891,2
49UP20220929_1,    P9,    67,  1,     12,     324,2,20221004,1448,1537, 23.4888, 136.9912, 4294,   2359.3,     2331,   1.8219,  34.6367,2,    125.1,2,  34.6365,2,   124.95,2,   145.10,2,    37.62,2,     0.00,2,    2.640,2, -999.000,9, -999.000,9,   -999.0,9,   -999.0,9,-999.0000,9,  -999.00, -999.000,9,  -999.00,9,  -999.00,9,   1.6575,2,  27.7070,2,   1.8220,2
49UP20220929_1,    P9,    67,  1,     11,     323,2,20221004,1448,1532, 23.4888, 136.9912, 4294,   2563.5,     2532,   1.7412,  34.6470,2,    131.1,2,  34.6463,2,   131.04,2,   144.44,2,    37.28,2,     0.00,2,    2.610,2, -999.000,9, -999.000,9,   -999.0,9,   -999.0,9,-999.0000,9,  -999.00, -999.000,9,  -999.00,9,  -999.00,9,   1.5600,2,  27.7225,2,   1.7413,2
49UP20220929_1,    P9,    67,  1,     10,     322,2,20221004,1448,1527, 23.4888, 136.9912, 4294,   2768.8,     2733,   1.6941,  34.6530,2,    135.1,2,  34.6531,2,   134.91,2,   144.42,2,    37.02,2,     0.00,2,    2.590,2, -999.000,9, -999.000,9,   -999.0,9,   -999.0,9,-999.0000,9,  -999.00, -999.000,9,  -999.00,9,  -999.00,9,   1.4950,2,  27.7321,2,   1.6937,2
49UP20220929_1,    P9,    67,  1,      9,     750,2,20221004,1448,1522, 23.4888, 136.9912, 4294,   2970.3,     2931,   1.6542,  34.6585,2,    138.8,2,  34.6587,2,   138.55,2,   144.39,2,    36.80,2,     0.00,2,    2.570,2, -999.000,9, -999.000,9,   -999.0,9,   -999.0,9,-999.0000,9,  -999.00, -999.000,9,  -999.00,9,  -999.00,9,   1.4369,2,  27.7407,2,   1.6543,2
49UP20220929_1,    P9,    67,  1,      8,     320,2,20221004,1448,1517, 23.4888, 136.9912, 4294,   3216.5,     3172,   1.5875,  34.6674,2,    144.8,2,  34.6673,2,   144.69,6,   143.83,6,    36.43,6,     0.00,6,    2.540,6, -999.000,9, -999.000,9,   -999.0,9,   -999.0,9,-999.0000,9,  -999.00, -999.000,9,  -999.00,9,  -999.00,9,   1.3478,2,  27.7542,2,   1.5875,2
49UP20220929_1,    P9,    67,  1,      7,     319,2,20221004,1448,1511, 23.4888, 136.9912, 4294,   3472.6,     3423,   1.5603,  34.6728,2,    148.4,2,  34.6724,2,   148.69,2,   143.12,2,    36.16,2,     0.00,2,    2.520,2, -999.000,9, -999.000,9,   -999.0,9,   -999.0,9,-999.0000,9,  -999.00, -999.000,9,  -999.00,9,  -999.00,9,   1.2955,2,  27.7622,2,   1.5605,2
49UP20220929_1,    P9,    67,  1,      6,     318,2,20221004,1448,1505, 23.4888, 136.9912, 4294,   3729.0,     3673,   1.5309,  34.6778,2,    152.5,2,  34.6777,6,   152.75,2,   142.51,2,    35.90,2,     0.00,2,    2.490,2, -999.000,9, -999.000,9,   -999.0,9,   -999.0,9,-999.0000,9,  -999.00, -999.000,9,  -999.00,9,  -999.00,9,   1.2402,2,  27.7701,2,   1.5308,2
49UP20220929_1,    P9,    67,  1,      4,     316,2,20221004,1448,1458, 23.4888, 136.9912, 4294,   3984.4,     3922,   1.5340,  34.6802,2,    154.6,2,  34.6801,2,   154.49,2,   142.08,2,    35.82,2,     0.00,2,    2.490,2, -999.000,9, -999.000,9,   -999.0,9,   -999.0,9,-999.0000,9,  -999.00, -999.000,9,  -999.00,9,  -999.00,9,   1.2159,2,  27.7737,2,   1.5340,2
49UP20220929_1,    P9,    67,  1,      5,     838,2,20221004,1448,1459, 23.4888, 136.9912, 4294,   3985.8,     3924,   1.5343,  34.6801,2,    154.6,2,  34.6803,2,   154.69,2,   142.10,2,    35.80,2,     0.00,2,    2.490,2, -999.000,9, -999.000,9,   -999.0,9,   -999.0,9,-999.0000,9,  -999.00, -999.000,9,  -999.00,9,  -999.00,9,   1.2160,2,  27.7737,2,   1.5342,2
49UP20220929_1,    P9,    67,  1,      3,     315,2,20221004,1448,1453, 23.4888, 136.9912, 4294,   4240.0,     4172,   1.5533,  34.6812,2,    155.4,2,  34.6813,6,   155.61,2,   141.94,2,    35.76,2,     0.00,2,    2.480,2, -999.000,9, -999.000,9,   -999.0,9,   -999.0,9,-999.0000,9,  -999.00, -999.000,9,  -999.00,9,  -999.00,9,   1.2063,2,  27.7752,2,   1.5533,2
49UP20220929_1,    P9,    67,  1,      2,     314,2,20221004,1448,1448, 23.4888, 136.9912, 4294,   4406.7,     4334,   1.5720,  34.6812,2,    155.7,2,  34.6814,2,   155.75,2,   141.98,2,    35.79,2,     0.00,2,    2.480,2, -999.000,9, -999.000,9,   -999.0,9,   -999.0,9,-999.0000,9,  -999.00, -999.000,9,  -999.00,9,  -999.00,9,   1.2056,2,  27.7752,2,   1.5720,2
49UP20220929_1,    P9,    67,  1,      1,     308,2,20221004,1448,1448, 23.4888, 136.9912, 4294,   4407.4,     4335,   1.5721,  34.6811,2,    155.7,2,  34.6816,2,   155.55,2,   141.86,2,    35.74,2,     0.00,2,    2.480,2, -999.000,9, -999.000,9,   -999.0,9,   -999.0,9,-999.0000,9,  -999.00, -999.000,9,  -999.00,9,  -999.00,9,   1.2056,2,  27.7751,2,   1.5721,2