BOTTLE,20230330JMAAMD
EXPOCODE,SECT_ID,STNNBR,CASTNO,SAMPNO,BTLNBR,BTLNBR_FLAG_U,DATE,TIME,BTL_TIME,LATITUDE,LONGITUDE,DEPTH,CTDPRS,CTDDEP,CTDTMP,CTDSAL,CTDSAL_FLAG_W,CTDOXY,CTDOXY_FLAG_W,SALNTY,SALNTY_FLAG_W,OXYGEN,OXYGEN_FLAG_W,SILCAT,SILCAT_FLAG_W,NO2+NO3,NO2+NO3_FLAG_W,NITRIT,NITRIT_FLAG_W,PHSPHT,PHSPHT_FLAG_W,CFC-11,CFC-11_FLAG_W,CFC-12,CFC-12_FLAG_W,TCARBN,TCARBN_FLAG_W,ALKALI,ALKALI_FLAG_W,PH_TS,PH_TS_FLAG_W,PH_TS_TMP,CFC113,CFC113_FLAG_W,CHLORA,CHLORA_FLAG_W,PPHYTN,PPHYTN_FLAG_W,THETA,THETA_FLAG_W,SIGTHT,SIGTHT_FLAG_W,SBE35,SBE35_FLAG_W
,,,,,,,,UTC,,,,METER,DBAR,METERS,ITS-90,PSS-78,,UMOL/KG,,PSS78,,UMOL/KG,,UMOL/KG,,UMOL/KG,,UMOL/KG,,UMOL/KG,,PMOL/KG,,PMOL/KG,,UMOL/KG,,UMOL/KG,,,,ITS-90,PMOL/KG,,UG/KG,,UG/KG,,ITS-90,,KG/M3,,ITS-90,
49UP20220929_1,    P9,    84,  1,      0,      -9,0,20221010,0854,1009, 31.3062, 137.0085, 4160,      0.0,        0,  26.4796,  33.8192,2,    206.1,2,-999.0000,9,   205.23,2,     2.33,2,     0.02,2,     0.00,2,    0.020,2, -999.000,9, -999.000,9,   -999.0,9,   -999.0,9,-999.0000,9,  -999.00, -999.000,9,  -999.00,9,  -999.00,9,  26.4791,2,  21.9932,2,-999.0000,9
49UP20220929_1,    P9,    84,  1,     36,     757,2,20221010,0854,1049, 31.3062, 137.0085, 4160,     11.4,       11,  26.4773,  33.8191,2,    205.8,2,  33.8215,2,   205.02,2,     2.29,2,     0.02,2,     0.00,2,    0.000,2, -999.000,9, -999.000,9,   -999.0,9,   -999.0,9,-999.0000,9,  -999.00, -999.000,9,  -999.00,9,  -999.00,9,  26.4747,2,  21.9945,2,  26.4769,2
49UP20220929_1,    P9,    84,  1,     35,     756,2,20221010,0854,1047, 31.3062, 137.0085, 4160,     25.9,       26,  26.4833,  33.8184,2,    205.6,2,  33.8218,2,   204.83,2,     2.38,2,     0.02,2,     0.00,2,    0.010,2, -999.000,9, -999.000,9,   -999.0,9,   -999.0,9,-999.0000,9,  -999.00, -999.000,9,  -999.00,9,  -999.00,9,  26.4774,2,  21.9931,2,  26.4764,2
49UP20220929_1,    P9,    84,  1,     34,     323,2,20221010,0854,1044, 31.3062, 137.0085, 4160,     51.1,       51,  21.4726,  34.4698,2,    207.6,2,  34.4740,2,   206.25,2,     4.94,2,     0.78,2,     0.18,2,    0.130,2, -999.000,9, -999.000,9,   -999.0,9,   -999.0,9,-999.0000,9,  -999.00, -999.000,9,  -999.00,9,  -999.00,9,  21.4627,2,  23.9640,2,  21.4698,2
49UP20220929_1,    P9,    84,  1,     33,     322,2,20221010,0854,1042, 31.3062, 137.0085, 4160,     75.5,       75,  19.0861,  34.5890,2,    173.7,2,  34.5897,2,   173.36,2,     8.95,2,     6.92,2,     0.13,2,    0.480,2, -999.000,9, -999.000,9,   -999.0,9,   -999.0,9,-999.0000,9,  -999.00, -999.000,9,  -999.00,9,  -999.00,9,  19.0727,2,  24.6885,2,  19.0930,2
49UP20220929_1,    P9,    84,  1,     32,     321,2,20221010,0854,1041, 31.3062, 137.0085, 4160,    101.0,      100,  16.6938,  34.5887,2,    171.5,2,  34.5886,2,   171.32,2,    12.59,2,     9.58,2,     0.02,2,    0.670,2, -999.000,9, -999.000,9,   -999.0,9,   -999.0,9,-999.0000,9,  -999.00, -999.000,9,  -999.00,9,  -999.00,9,  16.6774,2,  25.2746,2,  16.6882,2
49UP20220929_1,    P9,    84,  1,     31,     320,2,20221010,0854,1039, 31.3062, 137.0085, 4160,    125.9,      125,  14.9756,  34.5458,2,    167.5,2,  34.5457,2,   167.17,6,    16.95,6,    12.28,6,     0.01,6,    0.860,6, -999.000,9, -999.000,9,   -999.0,9,   -999.0,9,-999.0000,9,  -999.00, -999.000,9,  -999.00,9,  -999.00,9,  14.9567,2,  25.6312,2,  14.9746,2
49UP20220929_1,    P9,    84,  1,     30,     319,2,20221010,0854,1038, 31.3062, 137.0085, 4160,    151.3,      150,  13.8198,  34.4976,2,    165.6,2,  34.4946,2,   164.44,2,    21.44,2,    14.29,2,     0.01,2,    1.000,2, -999.000,9, -999.000,9,   -999.0,9,   -999.0,9,-999.0000,9,  -999.00, -999.000,9,  -999.00,9,  -999.00,9,  13.7983,2,  25.8409,2,  13.8204,2
49UP20220929_1,    P9,    84,  1,     29,     318,2,20221010,0854,1036, 31.3062, 137.0085, 4160,    201.9,      200,  11.4463,  34.3825,2,    147.9,2,  34.3818,2,   147.48,2,    32.93,2,    19.57,2,     0.00,2,    1.380,2, -999.000,9, -999.000,9,   -999.0,9,   -999.0,9,-999.0000,9,  -999.00, -999.000,9,  -999.00,9,  -999.00,9,  11.4210,2,  26.2179,2,  11.4455,2
49UP20220929_1,    P9,    84,  1,     28,     755,2,20221010,0854,1034, 31.3062, 137.0085, 4160,    253.5,      252,   9.3580,  34.2114,2,    157.5,2,  34.2150,2,   156.16,2,    39.55,2,    22.13,2,     0.00,2,    1.580,2, -999.000,9, -999.000,9,   -999.0,9,   -999.0,9,-999.0000,9,  -999.00, -999.000,9,  -999.00,9,  -999.00,9,   9.3300,2,  26.4475,2,   9.3592,2
49UP20220929_1,    P9,    84,  1,     26,     316,2,20221010,0854,1031, 31.3062, 137.0085, 4160,    332.5,      330,   7.6109,  34.2270,2,    116.2,2,  34.2259,2,   115.62,2,    60.05,2,    28.98,2,     0.00,2,    2.070,2, -999.000,9, -999.000,9,   -999.0,9,   -999.0,9,-999.0000,9,  -999.00, -999.000,9,  -999.00,9,  -999.00,9,   7.5783,2,  26.7284,2,   7.6099,2
49UP20220929_1,    P9,    84,  1,     27,     317,2,20221010,0854,1031, 31.3062, 137.0085, 4160,    332.9,      330,   7.6123,  34.2268,2,    116.1,2,  34.2263,2,   115.81,2,    60.11,2,    28.97,2,     0.00,2,    2.070,2, -999.000,9, -999.000,9,   -999.0,9,   -999.0,9,-999.0000,9,  -999.00, -999.000,9,  -999.00,9,  -999.00,9,   7.5797,2,  26.7281,2,   7.6118,2
49UP20220929_1,    P9,    84,  1,     25,     315,2,20221010,0854,1028, 31.3062, 137.0085, 4160,    433.9,      430,   5.9458,  34.2175,2,     91.8,2,  34.2172,2,    91.79,6,    79.91,6,    33.99,6,     0.00,6,    2.440,6, -999.000,9, -999.000,9,   -999.0,9,   -999.0,9,-999.0000,9,  -999.00, -999.000,9,  -999.00,9,  -999.00,9,   5.9085,2,  26.9458,2,   5.9445,2
49UP20220929_1,    P9,    84,  1,     24,     753,2,20221010,0854,1025, 31.3062, 137.0085, 4160,    535.5,      531,   4.8750,  34.2939,2,     72.8,2,  34.2910,2,    72.73,2,    98.85,2,    37.31,2,     0.00,2,    2.680,2, -999.000,9, -999.000,9,   -999.0,9,   -999.0,9,-999.0000,9,  -999.00, -999.000,9,  -999.00,9,  -999.00,9,   4.8329,2,  27.1345,2,   4.8745,2
49UP20220929_1,    P9,    84,  1,     23,     314,2,20221010,0854,1022, 31.3062, 137.0085, 4160,    635.9,      631,   4.0436,  34.3322,2,     60.9,2,  34.3329,2,    60.87,2,   114.21,2,    39.59,2,     0.00,2,    2.830,2, -999.000,9, -999.000,9,   -999.0,9,   -999.0,9,-999.0000,9,  -999.00, -999.000,9,  -999.00,9,  -999.00,9,   3.9972,2,  27.2552,2,   4.0434,2
49UP20220929_1,    P9,    84,  1,     22,     313,2,20221010,0854,1019, 31.3062, 137.0085, 4160,    736.4,      730,   3.7172,  34.3793,2,     61.0,2,  34.3795,2,    60.84,2,   121.05,2,    39.98,2,     0.00,2,    2.860,2, -999.000,9, -999.000,9,   -999.0,9,   -999.0,9,-999.0000,9,  -999.00, -999.000,9,  -999.00,9,  -999.00,9,   3.6648,2,  27.3264,2,   3.7172,2
49UP20220929_1,    P9,    84,  1,     21,     312,2,20221010,0854,1016, 31.3062, 137.0085, 4160,    838.2,      831,   3.3811,  34.4147,2,     61.1,2,  34.4147,2,    60.76,2,   127.99,2,    40.41,2,     0.00,2,    2.890,2, -999.000,9, -999.000,9,   -999.0,9,   -999.0,9,-999.0000,9,  -999.00, -999.000,9,  -999.00,9,  -999.00,9,   3.3229,2,  27.3878,2,   3.3811,2
49UP20220929_1,    P9,    84,  1,     20,     311,2,20221010,0854,1013, 31.3062, 137.0085, 4160,    939.5,      931,   3.1228,  34.4480,2,     64.8,2,  34.4476,2,    64.62,2,   132.76,2,    40.50,2,     0.00,2,    2.880,2, -999.000,9, -999.000,9,   -999.0,9,   -999.0,9,-999.0000,9,  -999.00, -999.000,9,  -999.00,9,  -999.00,9,   3.0587,2,  27.4391,2,   3.1227,2
49UP20220929_1,    P9,    84,  1,     19,     310,2,20221010,0854,1009, 31.3062, 137.0085, 4160,   1079.6,     1069,   2.8450,  34.4795,2,     67.4,2,  34.4797,6,    67.43,2,   138.27,2,    40.66,2,     0.00,2,    2.890,2, -999.000,9, -999.000,9,   -999.0,9,   -999.0,9,-999.0000,9,  -999.00, -999.000,9,  -999.00,9,  -999.00,9,   2.7724,2,  27.4900,2,   2.8453,2
49UP20220929_1,    P9,    84,  1,     18,     752,2,20221010,0854,1004, 31.3062, 137.0085, 4160,   1282.9,     1270,   2.5526,  34.5178,2,     75.9,2,  34.5180,2,    76.05,2,   142.76,2,    40.37,2,     0.00,2,    2.860,2, -999.000,9, -999.000,9,   -999.0,9,   -999.0,9,-999.0000,9,  -999.00, -999.000,9,  -999.00,9,  -999.00,9,   2.4670,2,  27.5471,2,   2.5522,2
49UP20220929_1,    P9,    84,  1,     17,     751,2,20221010,0854,1004, 31.3062, 137.0085, 4160,   1283.0,     1270,   2.5530,  34.5176,2,     75.9,2,  34.5177,2,    75.65,2,   142.79,2,    40.37,2,     0.00,2,    2.860,2, -999.000,9, -999.000,9,   -999.0,9,   -999.0,9,-999.0000,9,  -999.00, -999.000,9,  -999.00,9,  -999.00,9,   2.4675,2,  27.5469,2,   2.5521,2
49UP20220929_1,    P9,    84,  1,     16,     328,2,20221010,0854,0959, 31.3062, 137.0085, 4160,   1485.8,     1470,   2.2935,  34.5536,2,     86.5,2,  34.5539,2,    86.33,6,   145.73,6,    39.86,6,     0.00,6,    2.820,6, -999.000,9, -999.000,9,   -999.0,9,   -999.0,9,-999.0000,9,  -999.00, -999.000,9,  -999.00,9,  -999.00,9,   2.1950,2,  27.5984,2,   2.2932,2
49UP20220929_1,    P9,    84,  1,     15,     309,2,20221010,0854,0954, 31.3062, 137.0085, 4160,   1689.9,     1671,   2.1109,  34.5807,2,     97.1,2,  34.5814,2,    97.19,2,   146.85,2,    39.29,2,     0.00,2,    2.770,2, -999.000,9, -999.000,9,   -999.0,9,   -999.0,9,-999.0000,9,  -999.00, -999.000,9,  -999.00,9,  -999.00,9,   1.9984,2,  27.6359,2,   2.1109,2
49UP20220929_1,    P9,    84,  1,     14,     326,2,20221010,0854,0949, 31.3062, 137.0085, 4160,   1890.9,     1869,   1.9449,  34.6062,2,    109.1,2,  34.6068,2,   109.00,2,   146.80,2,    38.50,2,     0.00,2,    2.710,2, -999.000,9, -999.000,9,   -999.0,9,   -999.0,9,-999.0000,9,  -999.00, -999.000,9,  -999.00,9,  -999.00,9,   1.8184,2,  27.6703,2,   1.9448,2
49UP20220929_1,    P9,    84,  1,     13,     325,2,20221010,0854,0945, 31.3062, 137.0085, 4160,   2097.6,     2073,   1.8310,  34.6235,2,    118.3,2,  34.6231,6,   118.13,2,   146.38,2,    37.97,2,     0.00,2,    2.670,2, -999.000,9, -999.000,9,   -999.0,9,   -999.0,9,-999.0000,9,  -999.00, -999.000,9,  -999.00,9,  -999.00,9,   1.6890,2,  27.6940,2,   1.8309,2
49UP20220929_1,    P9,    84,  1,     12,     324,2,20221010,0854,0940, 31.3062, 137.0085, 4160,   2298.4,     2270,   1.7330,  34.6382,2,    126.5,2,  34.6383,2,   126.44,2,   145.70,2,    37.56,2,     0.00,2,    2.620,2, -999.000,9, -999.000,9,   -999.0,9,   -999.0,9,-999.0000,9,  -999.00, -999.000,9,  -999.00,9,  -999.00,9,   1.5755,2,  27.7143,2,   1.7330,2
49UP20220929_1,    P9,    84,  1,     11,     323,2,20221010,0854,0935, 31.3062, 137.0085, 4160,   2501.8,     2470,   1.6562,  34.6495,2,    133.5,2,  34.6503,2,   133.03,2,   145.32,2,    37.16,2,     0.00,2,    2.590,2, -999.000,9, -999.000,9,   -999.0,9,   -999.0,9,-999.0000,9,  -999.00, -999.000,9,  -999.00,9,  -999.00,9,   1.4821,2,  27.7302,2,   1.6560,2
49UP20220929_1,    P9,    84,  1,     10,     322,2,20221010,0854,0930, 31.3062, 137.0085, 4160,   2706.5,     2671,   1.5860,  34.6600,2,    140.2,2,  34.6607,6,   139.89,2,   144.61,2,    36.75,2,     0.00,2,    2.560,2, -999.000,9, -999.000,9,   -999.0,9,   -999.0,9,-999.0000,9,  -999.00, -999.000,9,  -999.00,9,  -999.00,9,   1.3949,2,  27.7449,2,   1.5859,2
49UP20220929_1,    P9,    84,  1,      9,     750,2,20221010,0854,0925, 31.3062, 137.0085, 4160,   2910.8,     2871,   1.5341,  34.6680,2,    145.5,2,  34.6685,2,   145.18,2,   144.05,2,    36.41,2,     0.00,2,    2.530,2, -999.000,9, -999.000,9,   -999.0,9,   -999.0,9,-999.0000,9,  -999.00, -999.000,9,  -999.00,9,  -999.00,9,   1.3251,2,  27.7563,2,   1.5341,2
49UP20220929_1,    P9,    84,  1,      8,     320,2,20221010,0854,0925, 31.3062, 137.0085, 4160,   2910.9,     2871,   1.5341,  34.6681,2,    145.6,2,  34.6681,2,   145.21,2,   143.99,2,    36.40,2,     0.00,2,    2.540,2, -999.000,9, -999.000,9,   -999.0,9,   -999.0,9,-999.0000,9,  -999.00, -999.000,9,  -999.00,9,  -999.00,9,   1.3250,2,  27.7564,2,   1.5341,2
49UP20220929_1,    P9,    84,  1,      7,     319,2,20221010,0854,0920, 31.3062, 137.0085, 4160,   3125.6,     3081,   1.5155,  34.6724,2,    148.5,2,  34.6720,2,   148.27,6,   143.67,6,    36.24,6,     0.00,6,    2.520,6, -999.000,9, -999.000,9,   -999.0,9,   -999.0,9,-999.0000,9,  -999.00, -999.000,9,  -999.00,9,  -999.00,9,   1.2863,2,  27.7625,2,   1.5154,2
49UP20220929_1,    P9,    84,  1,      6,     318,2,20221010,0854,0914, 31.3062, 137.0085, 4160,   3380.6,     3331,   1.5076,  34.6760,2,    151.1,2,  34.6760,2,   150.83,2,   143.26,2,    36.02,2,     0.00,2,    2.510,2, -999.000,9, -999.000,9,   -999.0,9,   -999.0,9,-999.0000,9,  -999.00, -999.000,9,  -999.00,9,  -999.00,9,   1.2534,2,  27.7677,2,   1.5075,2
49UP20220929_1,    P9,    84,  1,      5,     838,2,20221010,0854,0909, 31.3062, 137.0085, 4160,   3635.9,     3580,   1.5153,  34.6781,2,    152.6,2,  34.6787,2,   152.54,2,   142.87,2,    35.99,2,     0.00,2,    2.500,2, -999.000,9, -999.000,9,   -999.0,9,   -999.0,9,-999.0000,9,  -999.00, -999.000,9,  -999.00,9,  -999.00,9,   1.2348,2,  27.7707,2,   1.5153,2
49UP20220929_1,    P9,    84,  1,      4,     316,3,20221010,0854,0903, 31.3062, 137.0085, 4160,   3892.1,     3830,   1.5337,  34.6790,2,    153.3,2,  34.6793,2,   153.30,2,   142.97,2,    35.84,2,     0.00,2,    2.490,2, -999.000,9, -999.000,9,   -999.0,9,   -999.0,9,-999.0000,9,  -999.00, -999.000,9,  -999.00,9,  -999.00,9,   1.2256,2,  27.7721,2,   1.5337,2
49UP20220929_1,    P9,    84,  1,      3,     315,2,20221010,0854,0857, 31.3062, 137.0085, 4160,   4148.2,     4080,   1.5541,  34.6801,2,    154.2,2,  34.6803,6,   153.69,2,   142.58,2,    35.82,2,     0.00,2,    2.490,2, -999.000,9, -999.000,9,   -999.0,9,   -999.0,9,-999.0000,9,  -999.00, -999.000,9,  -999.00,9,  -999.00,9,   1.2174,2,  27.7735,2,   1.5541,2
49UP20220929_1,    P9,    84,  1,      1,     308,2,20221010,0854,0854, 31.3062, 137.0085, 4160,   4236.4,     4166,   1.5642,  34.6800,2,    154.3,2,  34.6805,2,   153.88,2,   142.72,2,    35.86,2,     0.00,2,    2.490,2, -999.000,9, -999.000,9,   -999.0,9,   -999.0,9,-999.0000,9,  -999.00, -999.000,9,  -999.00,9,  -999.00,9,   1.2174,2,  27.7734,2,   1.5642,2
49UP20220929_1,    P9,    84,  1,      2,     314,2,20221010,0854,0855, 31.3062, 137.0085, 4160,   4236.6,     4166,   1.5643,  34.6800,2,    154.3,2,  34.6804,2,   153.70,2,   142.77,2,    35.89,2,     0.00,2,    2.490,2, -999.000,9, -999.000,9,   -999.0,9,   -999.0,9,-999.0000,9,  -999.00, -999.000,9,  -999.00,9,  -999.00,9,   1.2174,2,  27.7734,2,   1.5643,2