BOTTLE,20230330JMAAMD
EXPOCODE,SECT_ID,STNNBR,CASTNO,SAMPNO,BTLNBR,BTLNBR_FLAG_U,DATE,TIME,BTL_TIME,LATITUDE,LONGITUDE,DEPTH,CTDPRS,CTDDEP,CTDTMP,CTDSAL,CTDSAL_FLAG_W,CTDOXY,CTDOXY_FLAG_W,SALNTY,SALNTY_FLAG_W,OXYGEN,OXYGEN_FLAG_W,SILCAT,SILCAT_FLAG_W,NO2+NO3,NO2+NO3_FLAG_W,NITRIT,NITRIT_FLAG_W,PHSPHT,PHSPHT_FLAG_W,CFC-11,CFC-11_FLAG_W,CFC-12,CFC-12_FLAG_W,TCARBN,TCARBN_FLAG_W,ALKALI,ALKALI_FLAG_W,PH_TS,PH_TS_FLAG_W,PH_TS_TMP,CFC113,CFC113_FLAG_W,CHLORA,CHLORA_FLAG_W,PPHYTN,PPHYTN_FLAG_W,THETA,THETA_FLAG_W,SIGTHT,SIGTHT_FLAG_W,SBE35,SBE35_FLAG_W
,,,,,,,,UTC,,,,METER,DBAR,METERS,ITS-90,PSS-78,,UMOL/KG,,PSS78,,UMOL/KG,,UMOL/KG,,UMOL/KG,,UMOL/KG,,UMOL/KG,,PMOL/KG,,PMOL/KG,,UMOL/KG,,UMOL/KG,,,,ITS-90,PMOL/KG,,UG/KG,,UG/KG,,ITS-90,,KG/M3,,ITS-90,
49UP20220727_1,    P9,    14,  1,      0,      -9,0,20220809,0714,0850,  2.2683, 140.5028, 3866,      0.0,        0,  30.3462,  34.7586,2,    193.9,2,-999.0000,9,   194.14,2,     1.19,2,     0.01,2,     0.00,2,    0.150,2, -999.000,9, -999.000,9,   -999.0,9,   -999.0,9,-999.0000,9,  -999.00, -999.000,9,  -999.00,9,  -999.00,9,  30.3456,2,  21.4268,2,-999.0000,9
49UP20220727_1,    P9,    14,  1,     36,     757,2,20220809,0714,0908,  2.2683, 140.5028, 3866,     10.9,       11,  30.1733,  34.7424,2,    194.6,2,  34.7440,2,   194.49,2,     1.19,2,     0.00,2,     0.00,2,    0.130,2, -999.000,9, -999.000,9,   -999.0,9,   -999.0,9,-999.0000,9,  -999.00, -999.000,9,  -999.00,9,  -999.00,9,  30.1706,2,  21.4748,2,  30.1723,2
49UP20220727_1,    P9,    14,  1,     35,     756,2,20220809,0714,0906,  2.2683, 140.5028, 3866,     25.5,       25,  30.0826,  34.7919,2,    196.0,2,  34.7896,2,   196.61,2,     1.20,2,     0.00,2,     0.00,2,    0.130,2, -999.000,9, -999.000,9,   -999.0,9,   -999.0,9,-999.0000,9,  -999.00, -999.000,9,  -999.00,9,  -999.00,9,  30.0762,2,  21.5441,2,  30.0853,2
49UP20220727_1,    P9,    14,  1,     34,     323,2,20220809,0714,0903,  2.2683, 140.5028, 3866,     50.7,       50,  30.0312,  34.8397,2,    197.1,2,  34.8470,2,   196.68,2,     1.20,2,     0.00,2,     0.00,2,    0.130,2, -999.000,9, -999.000,9,   -999.0,9,   -999.0,9,-999.0000,9,  -999.00, -999.000,9,  -999.00,9,  -999.00,9,  30.0186,2,  21.5997,2,  30.0283,2
49UP20220727_1,    P9,    14,  1,     33,     322,2,20220809,0714,0902,  2.2683, 140.5028, 3866,     75.9,       75,  29.8107,  35.0800,2,    186.6,2,  35.0819,2,   185.88,2,     1.41,2,     0.71,2,     0.39,2,    0.230,2, -999.000,9, -999.000,9,   -999.0,9,   -999.0,9,-999.0000,9,  -999.00, -999.000,9,  -999.00,9,  -999.00,9,  29.7919,2,  21.8571,2,  29.8092,2
49UP20220727_1,    P9,    14,  1,     32,     321,2,20220809,0714,0900,  2.2683, 140.5028, 3866,    101.1,      101,  29.0481,  35.2016,2,    167.4,2,  35.2022,2,   167.08,6,     1.91,6,     3.49,6,     0.05,6,    0.420,6, -999.000,9, -999.000,9,   -999.0,9,   -999.0,9,-999.0000,9,  -999.00, -999.000,9,  -999.00,9,  -999.00,9,  29.0236,2,  22.2076,2,  29.0470,2
49UP20220727_1,    P9,    14,  1,     31,     320,2,20220809,0714,0859,  2.2683, 140.5028, 3866,    126.1,      125,  28.6814,  35.1887,2,    161.3,2,  35.1918,2,   161.36,2,     2.16,2,     4.34,2,     0.04,2,    0.460,2, -999.000,9, -999.000,9,   -999.0,9,   -999.0,9,-999.0000,9,  -999.00, -999.000,9,  -999.00,9,  -999.00,9,  28.6512,2,  22.3220,2,  28.6748,2
49UP20220727_1,    P9,    14,  1,     30,     319,2,20220809,0714,0858,  2.2683, 140.5028, 3866,    152.2,      151,  27.1920,  35.2534,2,    150.3,2,  35.2566,2,   150.75,2,     3.12,2,     6.67,2,     0.02,2,    0.600,2, -999.000,9, -999.000,9,   -999.0,9,   -999.0,9,-999.0000,9,  -999.00, -999.000,9,  -999.00,9,  -999.00,9,  27.1568,2,  22.8584,2,  27.1938,2
49UP20220727_1,    P9,    14,  1,     29,     318,2,20220809,0714,0856,  2.2683, 140.5028, 3866,    203.1,      202,  19.0525,  34.7464,2,    148.8,2,  34.7454,2,   148.91,2,     8.42,2,     9.20,2,     0.01,2,    0.730,2, -999.000,9, -999.000,9,   -999.0,9,   -999.0,9,-999.0000,9,  -999.00, -999.000,9,  -999.00,9,  -999.00,9,  19.0162,2,  24.8232,2,  19.0789,2
49UP20220727_1,    P9,    14,  1,     27,     317,2,20220809,0714,0854,  2.2683, 140.5028, 3866,    253.9,      252,  11.5015,  34.8118,2,    143.5,2,  34.8120,2,   143.34,2,    18.43,2,    21.28,2,     0.00,2,    1.540,2, -999.000,9, -999.000,9,   -999.0,9,   -999.0,9,-999.0000,9,  -999.00, -999.000,9,  -999.00,9,  -999.00,9,  11.4693,2,  26.5429,2,  11.4995,2
49UP20220727_1,    P9,    14,  1,     28,     755,2,20220809,0714,0854,  2.2683, 140.5028, 3866,    254.8,      253,  11.4878,  34.8092,2,    143.2,2,  34.8130,2,   143.64,2,    18.36,2,    21.27,2,     0.00,2,    1.540,2, -999.000,9, -999.000,9,   -999.0,9,   -999.0,9,-999.0000,9,  -999.00, -999.000,9,  -999.00,9,  -999.00,9,  11.4555,2,  26.5435,2,  11.4824,2
49UP20220727_1,    P9,    14,  1,     26,     316,2,20220809,0714,0851,  2.2683, 140.5028, 3866,    334.5,      332,   9.2411,  34.5983,2,    117.1,2,  34.5978,2,   117.28,2,    33.00,2,    27.71,2,     0.00,2,    1.970,2, -999.000,9, -999.000,9,   -999.0,9,   -999.0,9,-999.0000,9,  -999.00, -999.000,9,  -999.00,9,  -999.00,9,   9.2041,2,  26.7707,2,   9.2415,2
49UP20220727_1,    P9,    14,  1,     25,     315,2,20220809,0714,0849,  2.2683, 140.5028, 3866,    384.3,      382,   9.1544,  34.6481,2,    137.8,2,  34.6486,2,   137.54,2,    25.93,2,    26.27,2,     0.00,2,    1.860,2, -999.000,9, -999.000,9,   -999.0,9,   -999.0,9,-999.0000,9,  -999.00, -999.000,9,  -999.00,9,  -999.00,9,   9.1119,2,  26.8246,2,   9.1545,2
49UP20220727_1,    P9,    14,  1,     24,     753,2,20220809,0714,0848,  2.2683, 140.5028, 3866,    433.7,      431,   8.7405,  34.6227,2,    138.5,2,  34.6221,2,   138.35,2,    26.50,2,    27.02,2,     0.00,2,    1.900,2, -999.000,9, -999.000,9,   -999.0,9,   -999.0,9,-999.0000,9,  -999.00, -999.000,9,  -999.00,9,  -999.00,9,   8.6938,2,  26.8712,2,   8.7401,2
49UP20220727_1,    P9,    14,  1,     23,     314,4,20220809,0714,0846,  2.2683, 140.5028, 3866,    483.7,      480,   8.4802,  34.6040,2,    141.7,2,  34.9893,4,   168.59,4,     5.89,4,     6.44,4,     0.08,4,    0.580,4, -999.000,9, -999.000,9,   -999.0,9,   -999.0,9,-999.0000,9,  -999.00, -999.000,9,  -999.00,9,  -999.00,9,   8.4289,2,  26.8978,2,   8.4800,2
49UP20220727_1,    P9,    14,  1,     22,     313,2,20220809,0714,0844,  2.2683, 140.5028, 3866,    534.9,      531,   7.6303,  34.5534,2,    120.2,2,  34.5524,2,   120.46,6,    39.21,6,    30.69,6,     0.00,6,    2.170,6, -999.000,9, -999.000,9,   -999.0,9,   -999.0,9,-999.0000,9,  -999.00, -999.000,9,  -999.00,9,  -999.00,9,   7.5768,2,  26.9853,2,   7.6290,2
49UP20220727_1,    P9,    14,  1,     21,     312,2,20220809,0714,0841,  2.2683, 140.5028, 3866,    636.3,      632,   6.6258,  34.5294,2,    122.5,2,  34.5291,6,   122.18,2,    43.58,2,    32.79,2,     0.00,2,    2.310,2, -999.000,9, -999.000,9,   -999.0,9,   -999.0,9,-999.0000,9,  -999.00, -999.000,9,  -999.00,9,  -999.00,9,   6.5665,2,  27.1069,2,   6.6252,2
49UP20220727_1,    P9,    14,  1,     20,     311,2,20220809,0714,0838,  2.2683, 140.5028, 3866,    735.9,      731,   6.1721,  34.5215,2,    121.8,2,  34.5219,2,   120.37,2,    48.96,2,    33.64,2,     0.00,2,    2.380,2, -999.000,9, -999.000,9,   -999.0,9,   -999.0,9,-999.0000,9,  -999.00, -999.000,9,  -999.00,9,  -999.00,9,   6.1056,2,  27.1611,2,   6.1719,2
49UP20220727_1,    P9,    14,  1,     19,     310,2,20220809,0714,0835,  2.2683, 140.5028, 3866,    837.5,      831,   5.5559,  34.5283,2,    104.6,2,  34.5288,2,   104.07,2,    64.25,2,    36.01,2,     0.00,2,    2.560,2, -999.000,9, -999.000,9,   -999.0,9,   -999.0,9,-999.0000,9,  -999.00, -999.000,9,  -999.00,9,  -999.00,9,   5.4836,2,  27.2440,2,   5.5560,2
49UP20220727_1,    P9,    14,  1,     18,     752,2,20220809,0714,0832,  2.2683, 140.5028, 3866,    938.3,      931,   4.9208,  34.5437,2,     92.8,2,  34.5436,2,    92.54,2,    79.24,2,    37.70,2,     0.00,2,    2.690,2, -999.000,9, -999.000,9,   -999.0,9,   -999.0,9,-999.0000,9,  -999.00, -999.000,9,  -999.00,9,  -999.00,9,   4.8436,2,  27.3315,2,   4.9216,2
49UP20220727_1,    P9,    14,  1,     16,     328,2,20220809,0714,0827,  2.2683, 140.5028, 3866,   1080.1,     1071,   4.2171,  34.5627,2,     96.8,2,  34.5623,2,    96.45,2,    94.93,2,    37.96,2,     0.00,2,    2.710,2, -999.000,9, -999.000,9,   -999.0,9,   -999.0,9,-999.0000,9,  -999.00, -999.000,9,  -999.00,9,  -999.00,9,   4.1328,2,  27.4244,2,   4.2173,2
49UP20220727_1,    P9,    14,  1,     17,     751,2,20220809,0714,0827,  2.2683, 140.5028, 3866,   1080.7,     1072,   4.2150,  34.5631,2,     96.9,2,  34.5624,2,    96.45,2,    94.95,2,    37.95,2,     0.00,2,    2.710,2, -999.000,9, -999.000,9,   -999.0,9,   -999.0,9,-999.0000,9,  -999.00, -999.000,9,  -999.00,9,  -999.00,9,   4.1307,2,  27.4249,2,   4.2148,2
49UP20220727_1,    P9,    14,  1,     15,     309,2,20220809,0714,0822,  2.2683, 140.5028, 3866,   1281.6,     1271,   3.4826,  34.5820,2,     97.9,2,  34.5815,6,    97.49,2,   110.27,2,    38.60,2,     0.00,2,    2.750,2, -999.000,9, -999.000,9,   -999.0,9,   -999.0,9,-999.0000,9,  -999.00, -999.000,9,  -999.00,9,  -999.00,9,   3.3878,2,  27.5149,2,   3.4825,2
49UP20220727_1,    P9,    14,  1,     14,     326,2,20220809,0714,0818,  2.2683, 140.5028, 3866,   1483.4,     1470,   2.9459,  34.6017,2,    106.9,2,  34.6016,2,   106.73,2,   119.84,2,    38.42,2,     0.00,2,    2.730,2, -999.000,9, -999.000,9,   -999.0,9,   -999.0,9,-999.0000,9,  -999.00, -999.000,9,  -999.00,9,  -999.00,9,   2.8400,2,  27.5817,2,   2.9458,2
49UP20220727_1,    P9,    14,  1,     13,     325,2,20220809,0714,0813,  2.2683, 140.5028, 3866,   1688.1,     1672,   2.5368,  34.6194,2,    112.2,2,  34.6193,2,   112.01,2,   128.76,2,    38.25,2,     0.00,2,    2.710,2, -999.000,9, -999.000,9,   -999.0,9,   -999.0,9,-999.0000,9,  -999.00, -999.000,9,  -999.00,9,  -999.00,9,   2.4189,2,  27.6325,2,   2.5369,2
49UP20220727_1,    P9,    14,  1,     12,     324,2,20220809,0714,0808,  2.2683, 140.5028, 3866,   1892.2,     1873,   2.2749,  34.6315,2,    115.5,2,  34.6310,2,   115.28,2,   135.74,2,    38.13,2,     0.00,2,    2.690,2, -999.000,9, -999.000,9,   -999.0,9,   -999.0,9,-999.0000,9,  -999.00, -999.000,9,  -999.00,9,  -999.00,9,   2.1434,2,  27.6649,2,   2.2749,2
49UP20220727_1,    P9,    14,  1,     11,     323,2,20220809,0714,0803,  2.2683, 140.5028, 3866,   2096.6,     2075,   2.1263,  34.6396,2,    120.1,2,  34.6396,2,   119.81,2,   137.97,2,    37.91,2,     0.00,2,    2.670,2, -999.000,9, -999.000,9,   -999.0,9,   -999.0,9,-999.0000,9,  -999.00, -999.000,9,  -999.00,9,  -999.00,9,   1.9797,2,  27.6845,2,   2.1270,2
49UP20220727_1,    P9,    14,  1,     10,     322,2,20220809,0714,0757,  2.2683, 140.5028, 3866,   2302.7,     2278,   1.9138,  34.6517,2,    124.6,2,  34.6511,6,   124.49,2,   142.88,2,    37.72,2,     0.00,2,    2.640,2, -999.000,9, -999.000,9,   -999.0,9,   -999.0,9,-999.0000,9,  -999.00, -999.000,9,  -999.00,9,  -999.00,9,   1.7527,2,  27.7118,2,   1.9141,2
49UP20220727_1,    P9,    14,  1,      8,     320,2,20220809,0714,0751,  2.2683, 140.5028, 3866,   2500.8,     2472,   1.8000,  34.6580,2,    130.3,2,  34.6577,2,   130.20,2,   143.74,2,    37.34,2,     0.00,2,    2.610,2, -999.000,9, -999.000,9,   -999.0,9,   -999.0,9,-999.0000,9,  -999.00, -999.000,9,  -999.00,9,  -999.00,9,   1.6234,2,  27.7267,2,   1.7999,2
49UP20220727_1,    P9,    14,  1,      9,     750,2,20220809,0714,0751,  2.2683, 140.5028, 3866,   2502.1,     2474,   1.7992,  34.6581,2,    130.4,2,  34.6576,2,   130.32,2,   143.77,2,    37.31,2,     0.00,2,    2.610,2, -999.000,9, -999.000,9,   -999.0,9,   -999.0,9,-999.0000,9,  -999.00, -999.000,9,  -999.00,9,  -999.00,9,   1.6224,2,  27.7268,2,   1.7992,2
49UP20220727_1,    P9,    14,  1,      7,     319,2,20220809,0714,0746,  2.2683, 140.5028, 3866,   2700.6,     2669,   1.7251,  34.6624,2,    135.2,2,  34.6622,2,   134.91,6,   144.01,6,    37.05,6,     0.00,6,    2.590,6, -999.000,9, -999.000,9,   -999.0,9,   -999.0,9,-999.0000,9,  -999.00, -999.000,9,  -999.00,9,  -999.00,9,   1.5317,2,  27.7369,2,   1.7250,2
49UP20220727_1,    P9,    14,  1,      6,     318,2,20220809,0714,0742,  2.2683, 140.5028, 3866,   2905.1,     2869,   1.6609,  34.6667,2,    139.4,2,  34.6665,2,   139.28,2,   144.05,2,    36.69,2,     0.00,2,    2.560,2, -999.000,9, -999.000,9,   -999.0,9,   -999.0,9,-999.0000,9,  -999.00, -999.000,9,  -999.00,9,  -999.00,9,   1.4497,2,  27.7463,2,   1.6610,2
49UP20220727_1,    P9,    14,  1,      5,     838,2,20220809,0714,0733,  2.2683, 140.5028, 3866,   3118.1,     3078,   1.6021,  34.6710,2,    143.2,2,-999.0000,5,   143.02,6,   144.37,6,    36.48,6,     0.00,6,    2.540,6, -999.000,9, -999.000,9,   -999.0,9,   -999.0,9,-999.0000,9,  -999.00, -999.000,9,  -999.00,9,  -999.00,9,   1.3717,2,  27.7554,2,   1.6020,2
49UP20220727_1,    P9,    14,  1,      4,     316,2,20220809,0714,0728,  2.2683, 140.5028, 3866,   3375.9,     3331,   1.5810,  34.6739,2,    145.6,2,  34.6745,2,   145.47,2,   144.14,2,    36.26,2,     0.00,2,    2.520,2, -999.000,9, -999.000,9,   -999.0,9,   -999.0,9,-999.0000,9,  -999.00, -999.000,9,  -999.00,9,  -999.00,9,   1.3255,2,  27.7610,2,   1.5810,2
49UP20220727_1,    P9,    14,  1,      3,     315,2,20220809,0714,0721,  2.2683, 140.5028, 3866,   3632.8,     3582,   1.5645,  34.6774,2,    147.6,2,  34.6772,6,   147.32,2,   144.56,2,    36.18,2,     0.00,2,    2.520,2, -999.000,9, -999.000,9,   -999.0,9,   -999.0,9,-999.0000,9,  -999.00, -999.000,9,  -999.00,9,  -999.00,9,   1.2830,2,  27.7668,2,   1.5645,2
49UP20220727_1,    P9,    14,  1,      2,     314,3,20220809,0714,0715,  2.2683, 140.5028, 3866,   3891.9,     3835,   1.5412,  34.6817,2,    150.6,2,  34.6820,2,   150.36,2,   144.25,2,    36.01,2,     0.00,2,    2.500,2, -999.000,9, -999.000,9,   -999.0,9,   -999.0,9,-999.0000,9,  -999.00, -999.000,9,  -999.00,9,  -999.00,9,   1.2328,2,  27.7738,2,   1.5412,2
49UP20220727_1,    P9,    14,  1,      1,     308,2,20220809,0714,0715,  2.2683, 140.5028, 3866,   3892.4,     3836,   1.5413,  34.6817,2,    150.6,2,  34.6812,2,   150.45,2,   144.51,2,    36.03,2,     0.00,2,    2.500,2, -999.000,9, -999.000,9,   -999.0,9,   -999.0,9,-999.0000,9,  -999.00, -999.000,9,  -999.00,9,  -999.00,9,   1.2329,2,  27.7738,2,   1.5412,2