BOTTLE,20230330JMAAMD
EXPOCODE,SECT_ID,STNNBR,CASTNO,SAMPNO,BTLNBR,BTLNBR_FLAG_U,DATE,TIME,BTL_TIME,LATITUDE,LONGITUDE,DEPTH,CTDPRS,CTDDEP,CTDTMP,CTDSAL,CTDSAL_FLAG_W,CTDOXY,CTDOXY_FLAG_W,SALNTY,SALNTY_FLAG_W,OXYGEN,OXYGEN_FLAG_W,SILCAT,SILCAT_FLAG_W,NO2+NO3,NO2+NO3_FLAG_W,NITRIT,NITRIT_FLAG_W,PHSPHT,PHSPHT_FLAG_W,CFC-11,CFC-11_FLAG_W,CFC-12,CFC-12_FLAG_W,TCARBN,TCARBN_FLAG_W,ALKALI,ALKALI_FLAG_W,PH_TS,PH_TS_FLAG_W,PH_TS_TMP,CFC113,CFC113_FLAG_W,CHLORA,CHLORA_FLAG_W,PPHYTN,PPHYTN_FLAG_W,THETA,THETA_FLAG_W,SIGTHT,SIGTHT_FLAG_W,SBE35,SBE35_FLAG_W
,,,,,,,,UTC,,,,METER,DBAR,METERS,ITS-90,PSS-78,,UMOL/KG,,PSS78,,UMOL/KG,,UMOL/KG,,UMOL/KG,,UMOL/KG,,UMOL/KG,,PMOL/KG,,PMOL/KG,,UMOL/KG,,UMOL/KG,,,,ITS-90,PMOL/KG,,UG/KG,,UG/KG,,ITS-90,,KG/M3,,ITS-90,
49UP20220824_1,    P9,    30,  1,      0,      -9,0,20220901,0757,0930,  7.0105, 136.9810, 4223,      0.0,        0,  30.2012,  33.5096,2,    194.5,2,  33.5085,2,   194.69,2,     1.19,2,     0.03,2,     0.00,2,    0.040,2, -999.000,9, -999.000,9,   1879.5,2,   2200.2,2,   8.1172,2,    25.00, -999.000,9,     0.10,2,     0.02,2,  30.2006,2,  20.5410,2,-999.0000,9
49UP20220824_1,    P9,    30,  1,     36,     757,2,20220901,0757,1000,  7.0105, 136.9810, 4223,     11.4,       11,  30.0526,  33.5457,2,    195.1,2,  33.5409,2,   195.76,2,     1.13,2,     0.03,2,     0.00,2,    0.010,2, -999.000,9, -999.000,9,   1881.7,2,   2203.6,2,   8.1168,2,    25.00, -999.000,9,     0.07,2,     0.02,2,  30.0498,2,  20.6194,2,  30.0546,2
49UP20220824_1,    P9,    30,  1,     35,     756,2,20220901,0757,0959,  7.0105, 136.9810, 4223,     26.4,       26,  30.0586,  33.8128,2,    196.6,2,  33.8506,2,   198.18,2,     1.25,2,     0.04,2,     0.00,2,    0.030,2, -999.000,9, -999.000,9,   1901.5,2,   2224.4,2,   8.1136,6,    25.00, -999.000,9,     0.07,2,     0.02,2,  30.0520,2,  20.8187,2,  30.0605,2
49UP20220824_1,    P9,    30,  1,     34,     323,2,20220901,0757,0955,  7.0105, 136.9810, 4223,     51.7,       51,  29.7088,  34.3759,2,    202.0,2,  34.3515,2,   201.83,2,     1.29,2,     0.02,2,     0.00,2,    0.070,2, -999.000,9, -999.000,9,   1935.7,6,   2258.2,6,   8.1039,2,    25.00, -999.000,9,     0.12,2,     0.03,2,  29.6960,2,  21.3616,2,  29.7125,2
49UP20220824_1,    P9,    30,  1,     33,     322,2,20220901,0757,0954,  7.0105, 136.9810, 4223,     76.0,       76,  28.3890,  34.5157,2,    195.1,2,  34.5386,2,   193.97,2,     1.63,2,     0.04,2,     0.00,2,    0.120,2, -999.000,9, -999.000,9,   1965.3,2,   2272.5,2,   8.0706,2,    25.00, -999.000,9,     0.29,2,     0.14,2,  28.3710,2,  21.9089,2,  28.3897,2
49UP20220824_1,    P9,    30,  1,     32,     321,2,20220901,0757,0952,  7.0105, 136.9810, 4223,    101.2,      101,  25.2850,  34.7383,2,    168.5,2,  34.7374,2,   168.86,2,     3.04,2,     1.85,2,     0.36,2,    0.300,2, -999.000,9, -999.000,9,   2021.5,2,   2285.0,2,   7.9870,2,    25.00, -999.000,9,     0.26,2,     0.33,2,  25.2629,2,  23.0634,2,  25.3068,2
49UP20220824_1,    P9,    30,  1,     31,     320,2,20220901,0757,0951,  7.0105, 136.9810, 4223,    127.2,      126,  21.7745,  34.7499,2,    150.6,2,  34.7464,2,   150.27,6,     6.07,6,     6.73,6,     0.04,6,    0.580,6, -999.000,9, -999.000,9,   2067.2,2,   2286.5,2,   7.9017,2,    25.00, -999.000,9,     0.09,2,     0.21,2,  21.7496,2,  24.0976,2,  21.7171,2
49UP20220824_1,    P9,    30,  1,     30,     319,2,20220901,0757,0949,  7.0105, 136.9810, 4223,    152.1,      151,  18.7170,  34.6823,2,    145.0,2,  34.6793,2,   145.11,2,     9.21,2,     9.99,2,     0.02,2,    0.780,2, -999.000,9, -999.000,9,   2093.4,2,   2282.7,2,   7.8420,2,    25.00, -999.000,9,     0.04,2,     0.08,2,  18.6903,2,  24.8568,2,  18.7179,2
49UP20220824_1,    P9,    30,  1,     29,     318,2,20220901,0757,0947,  7.0105, 136.9810, 4223,    202.6,      201,  13.9276,  34.5459,2,    109.6,2,  34.5462,2,   109.31,2,    20.49,2,    20.03,2,     0.01,2,    1.460,2, -999.000,9, -999.000,9,   2159.3,2,   2284.5,2,   7.6873,2,    25.00, -999.000,9,     0.01,2,     0.04,2,  13.8985,2,  25.8574,2,  13.9250,2
49UP20220824_1,    P9,    30,  1,     28,     755,2,20220901,0757,0944,  7.0105, 136.9810, 4223,    253.3,      252,  11.0038,  34.5187,2,     86.6,2,  34.5175,2,    86.10,2,    29.84,2,    26.97,2,     0.00,2,    1.930,2, -999.000,9, -999.000,9,   2201.6,2,   2289.3,2,   7.5865,2,    25.00, -999.000,9,  -999.00,9,  -999.00,9,  10.9727,2,  26.4056,2,  11.0046,2
49UP20220824_1,    P9,    30,  1,     27,     317,2,20220901,0757,0943,  7.0105, 136.9810, 4223,    283.9,      282,   9.9541,  34.5605,2,     67.4,2,  34.5594,2,    67.22,2,    34.09,2,    30.73,2,     0.00,2,    2.190,2, -999.000,9, -999.000,9,   2227.8,2,   2297.2,2,   7.5286,2,    25.00, -999.000,9,  -999.00,9,  -999.00,9,   9.9212,2,  26.6221,2,   9.9544,2
49UP20220824_1,    P9,    30,  1,     26,     316,2,20220901,0757,0941,  7.0105, 136.9810, 4223,    323.1,      321,   9.4613,  34.5588,2,     70.4,2,  34.5579,2,    70.46,2,    36.12,2,    31.58,2,     0.00,2,    2.230,2, -999.000,9, -999.000,9,   2230.5,2,   2300.5,2,   7.5276,2,    25.00, -999.000,9,  -999.00,9,  -999.00,9,   9.4251,2,  26.7037,2,   9.4618,2
49UP20220824_1,    P9,    30,  1,     25,     315,2,20220901,0757,0939,  7.0105, 136.9810, 4223,    374.0,      372,   8.9255,  34.5707,2,     72.3,2,  34.5700,2,    72.43,2,    37.88,2,    32.48,2,     0.00,2,    2.290,2, -999.000,9, -999.000,9,   2235.9,2,   2303.6,2,   7.5203,2,    25.00, -999.000,9,  -999.00,9,  -999.00,9,   8.8849,2,  26.8003,2,   8.9254,2
49UP20220824_1,    P9,    30,  1,     24,     753,2,20220901,0757,0937,  7.0105, 136.9810, 4223,    423.8,      421,   8.4040,  34.5587,2,     77.8,2,  34.5578,2,    77.83,2,    40.68,2,    33.01,2,     0.00,2,    2.320,2, -999.000,9, -999.000,9,   2238.5,2,   2305.1,2,   7.5205,2,    25.00, -999.000,9,  -999.00,9,  -999.00,9,   8.3595,2,  26.8729,2,   8.4040,2
49UP20220824_1,    P9,    30,  1,     23,     314,2,20220901,0757,0934,  7.0105, 136.9810, 4223,    475.1,      472,   8.0758,  34.5565,2,     81.6,2,  34.5550,6,    81.37,2,    42.17,2,    33.36,2,     0.00,2,    2.340,2, -999.000,9, -999.000,9,   2238.9,2,   2307.6,2,   7.5240,2,    25.00, -999.000,9,  -999.00,9,  -999.00,9,   8.0269,2,  26.9215,2,   8.0816,2
49UP20220824_1,    P9,    30,  1,     22,     313,2,20220901,0757,0931,  7.0105, 136.9810, 4223,    576.4,      572,   7.2151,  34.5305,2,     86.2,2,  34.5301,2,    86.39,6,    50.08,6,    34.47,6,     0.00,6,    2.430,6, -999.000,9, -999.000,9,   2249.7,2,   2315.4,2,   7.5187,2,    25.00, -999.000,9,  -999.00,9,  -999.00,9,   7.1591,2,  27.0268,2,   7.2144,2
49UP20220824_1,    P9,    30,  1,     21,     312,2,20220901,0757,0928,  7.0105, 136.9810, 4223,    676.5,      672,   6.5799,  34.5280,2,     86.5,2,  34.5275,2,    86.35,2,    56.86,2,    35.65,2,     0.00,2,    2.520,2, -999.000,9, -999.000,9,   2258.8,2,   2322.6,2,   7.5083,2,    25.00, -999.000,9,  -999.00,9,  -999.00,9,   6.5170,2,  27.1124,2,   6.5798,2
49UP20220824_1,    P9,    30,  1,     20,     311,2,20220901,0757,0925,  7.0105, 136.9810, 4223,    778.1,      772,   5.7375,  34.5290,2,     84.9,2,  34.5274,2,    84.82,2,    69.50,2,    37.01,2,     0.00,2,    2.620,2, -999.000,9, -999.000,9,   2274.5,2,   2334.9,2,   7.4978,6,    25.00, -999.000,9,  -999.00,9,  -999.00,9,   5.6695,2,  27.2219,2,   5.7395,2
49UP20220824_1,    P9,    30,  1,     19,     310,2,20220901,0757,0922,  7.0105, 136.9810, 4223,    878.2,      871,   5.1225,  34.5372,2,     84.4,2,  34.5366,2,    84.48,2,    81.07,2,    37.99,2,     0.00,2,    2.690,2, -999.000,9, -999.000,9,   2288.4,6,   2345.1,6,   7.4947,2,    25.00, -999.000,9,  -999.00,9,  -999.00,9,   5.0492,2,  27.3026,2,   5.1224,2
49UP20220824_1,    P9,    30,  1,     18,     752,2,20220901,0757,0919,  7.0105, 136.9810, 4223,    978.6,      971,   4.6488,  34.5494,2,     84.6,2,  34.5489,2,    84.63,2,    89.71,2,    38.62,2,     0.00,2,    2.740,2, -999.000,9, -999.000,9,   2297.7,2,   2356.6,2,   7.4913,2,    25.00, -999.000,9,  -999.00,9,  -999.00,9,   4.5699,2,  27.3666,2,   4.6494,2
49UP20220824_1,    P9,    30,  1,     17,     751,2,20220901,0757,0914,  7.0105, 136.9810, 4223,   1140.5,     1131,   3.9908,  34.5660,2,     87.6,2,  34.5655,6,    87.40,2,   103.10,2,    39.00,2,     0.00,2,    2.770,2, -999.000,9, -999.000,9,   2312.8,2,   2369.6,2,   7.4899,2,    25.00, -999.000,9,  -999.00,9,  -999.00,9,   3.9033,2,  27.4509,2,   3.9906,2
49UP20220824_1,    P9,    30,  1,     16,     328,2,20220901,0757,0909,  7.0105, 136.9810, 4223,   1343.7,     1332,   3.3262,  34.5860,2,     95.0,2,  34.5855,2,    95.03,2,   116.26,2,    39.17,2,     0.00,2,    2.760,2, -999.000,9, -999.000,9,   2322.5,2,   2383.4,2,   7.4980,2,    25.00, -999.000,9,  -999.00,9,  -999.00,9,   3.2278,2,  27.5334,2,   3.3260,2
49UP20220824_1,    P9,    30,  1,     15,     309,2,20220901,0757,0904,  7.0105, 136.9810, 4223,   1545.5,     1531,   2.9510,  34.6004,2,    100.7,2,  34.6001,2,   100.55,2,   123.37,2,    38.95,2,     0.00,2,    2.750,2, -999.000,9, -999.000,9,   2327.4,2,   2391.9,2,   7.5064,2,    25.00, -999.000,9,  -999.00,9,  -999.00,9,   2.8399,2,  27.5806,2,   2.9511,2
49UP20220824_1,    P9,    30,  1,     14,     326,2,20220901,0757,0859,  7.0105, 136.9810, 4223,   1748.0,     1731,   2.6149,  34.6148,2,    106.0,2,  34.6148,6,   105.79,2,   130.65,2,    38.76,2,     0.00,2,    2.730,2, -999.000,9, -999.000,9,   2333.1,2,   2400.0,2,   7.5149,2,    25.00, -999.000,9,  -999.00,9,  -999.00,9,   2.4909,2,  27.6227,2,   2.6147,2
49UP20220824_1,    P9,    30,  1,     13,     325,2,20220901,0757,0854,  7.0105, 136.9810, 4223,   1951.1,     1931,   2.3645,  34.6271,2,    111.4,2,  34.6273,2,   111.33,6,   135.13,6,    38.47,6,     0.00,6,    2.710,6, -999.000,9, -999.000,9,   2334.9,2,   2403.6,2,   7.5222,2,    25.00, -999.000,9,  -999.00,9,  -999.00,9,   2.2268,2,  27.6546,2,   2.3645,2
49UP20220824_1,    P9,    30,  1,     12,     324,3,20220901,0757,0849,  7.0105, 136.9810, 4223,   2153.7,     2131,   2.1620,  34.6379,2,    116.6,2,  34.6377,2,   116.72,2,   139.02,2,    38.28,2,     0.00,2,    2.680,2, -999.000,9, -999.000,9,   2335.0,2,   2408.0,2,   7.5308,2,    25.00, -999.000,9,  -999.00,9,  -999.00,9,   2.0099,2,  27.6808,2,   2.1618,2
49UP20220824_1,    P9,    30,  1,     11,     323,2,20220901,0757,0844,  7.0105, 136.9810, 4223,   2357.9,     2332,   2.0066,  34.6461,2,    122.2,2,  34.6461,2,   122.70,2,   141.59,2,    38.00,2,     0.00,2,    2.650,2, -999.000,9, -999.000,9,   2337.6,2,   2410.3,2,   7.5395,2,    25.00, -999.000,9,  -999.00,9,  -999.00,9,   1.8390,2,  27.7007,2,   2.0064,2
49UP20220824_1,    P9,    30,  1,     10,     322,2,20220901,0757,0839,  7.0105, 136.9810, 4223,   2561.3,     2532,   1.7997,  34.6573,2,    130.9,2,  34.6578,2,   131.19,2,   143.65,2,    37.47,2,     0.00,2,    2.600,2, -999.000,9, -999.000,9,   2333.9,2,   2411.3,2,   7.5523,6,    25.00, -999.000,9,  -999.00,9,  -999.00,9,   1.6176,2,  27.7265,2,   1.7996,2
49UP20220824_1,    P9,    30,  1,      9,     750,2,20220901,0757,0833,  7.0105, 136.9810, 4223,   2764.5,     2731,   1.7086,  34.6633,2,    136.0,2,  34.6638,2,   136.50,2,   144.27,2,    37.10,2,     0.00,2,    2.570,2, -999.000,9, -999.000,9,   2331.7,6,   2412.7,6,   7.5606,2,    25.00, -999.000,9,  -999.00,9,  -999.00,9,   1.5096,2,  27.7393,2,   1.7086,2
49UP20220824_1,    P9,    30,  1,      8,     320,2,20220901,0757,0828,  7.0105, 136.9810, 4223,   2969.7,     2932,   1.6364,  34.6680,2,    140.7,2,  34.6680,2,   140.94,2,   144.51,2,    36.82,2,     0.00,2,    2.550,2, -999.000,9, -999.000,9,   2329.0,2,   2412.8,2,   7.5642,2,    25.00, -999.000,9,  -999.00,9,  -999.00,9,   1.4195,2,  27.7496,2,   1.6365,2
49UP20220824_1,    P9,    30,  1,      7,     319,2,20220901,0757,0823,  7.0105, 136.9810, 4223,   3214.9,     3173,   1.5713,  34.6733,2,    145.8,2,  34.6732,6,   146.19,2,   144.34,2,    36.63,2,     0.00,2,    2.520,2, -999.000,9, -999.000,9,   2324.6,2,   2413.7,2,   7.5751,2,    25.00, -999.000,9,  -999.00,9,  -999.00,9,   1.3321,2,  27.7601,2,   1.5713,2
49UP20220824_1,    P9,    30,  1,      6,     318,2,20220901,0757,0817,  7.0105, 136.9810, 4223,   3468.8,     3421,   1.5566,  34.6762,2,    148.4,2,  34.6760,2,   148.53,2,   143.56,2,    36.34,2,     0.00,2,    2.510,2, -999.000,9, -999.000,9,   2324.8,2,   2414.7,2,   7.5756,2,    25.00, -999.000,9,  -999.00,9,  -999.00,9,   1.2923,2,  27.7652,2,   1.5566,2
49UP20220824_1,    P9,    30,  1,      5,     838,2,20220901,0757,0811,  7.0105, 136.9810, 4223,   3725.0,     3672,   1.5146,  34.6813,2,    152.9,2,  34.6810,2,   153.05,6,   143.07,6,    36.03,6,     0.00,6,    2.480,6, -999.000,9, -999.000,9,   2323.2,2,   2414.8,2,   7.5862,2,    25.00, -999.000,9,  -999.00,9,  -999.00,9,   1.2248,2,  27.7740,2,   1.5145,2
49UP20220824_1,    P9,    30,  1,      4,     316,2,20220901,0757,0805,  7.0105, 136.9810, 4223,   3980.8,     3922,   1.5054,  34.6839,2,    155.7,2,  34.6835,2,   156.16,2,   142.37,2,    35.87,2,     0.00,2,    2.470,2, -999.000,9, -999.000,9,   2321.3,2,   2413.5,2,   7.5893,2,    25.00, -999.000,9,  -999.00,9,  -999.00,9,   1.1885,2,  27.7786,2,   1.5053,2
49UP20220824_1,    P9,    30,  1,      3,     315,2,20220901,0757,0800,  7.0105, 136.9810, 4223,   4236.2,     4171,   1.4891,  34.6870,2,    160.1,2,  34.6868,2,   160.06,2,   140.98,2,    35.56,2,     0.00,2,    2.440,2, -999.000,9, -999.000,9,   2317.4,2,   2412.3,2,   7.5944,2,    25.00, -999.000,9,  -999.00,9,  -999.00,9,   1.1444,2,  27.7841,2,   1.4891,2
49UP20220824_1,    P9,    30,  1,      1,     308,2,20220901,0757,0757,  7.0105, 136.9810, 4223,   4312.4,     4245,   1.4992,  34.6871,2,    160.0,2,  34.6878,2,   160.40,2,   141.03,2,    35.58,2,     0.00,2,    2.450,2, -999.000,9, -999.000,9,   2316.7,2,   2412.3,2,   7.5940,2,    25.00, -999.000,9,  -999.00,9,  -999.00,9,   1.1457,2,  27.7841,2,   1.4992,2
49UP20220824_1,    P9,    30,  1,      2,     314,2,20220901,0757,0757,  7.0105, 136.9810, 4223,   4312.5,     4245,   1.4995,  34.6870,2,    159.9,2,  34.6866,2,   160.33,2,   141.09,2,    35.59,2,     0.00,2,    2.450,2, -999.000,9, -999.000,9,   2317.6,2,   2410.5,2,   7.5953,2,    25.00, -999.000,9,  -999.00,9,  -999.00,9,   1.1460,2,  27.7840,2,   1.4993,2