BOTTLE,20230330JMAAMD
EXPOCODE,SECT_ID,STNNBR,CASTNO,SAMPNO,BTLNBR,BTLNBR_FLAG_U,DATE,TIME,BTL_TIME,LATITUDE,LONGITUDE,DEPTH,CTDPRS,CTDDEP,CTDTMP,CTDSAL,CTDSAL_FLAG_W,CTDOXY,CTDOXY_FLAG_W,SALNTY,SALNTY_FLAG_W,OXYGEN,OXYGEN_FLAG_W,SILCAT,SILCAT_FLAG_W,NO2+NO3,NO2+NO3_FLAG_W,NITRIT,NITRIT_FLAG_W,PHSPHT,PHSPHT_FLAG_W,CFC-11,CFC-11_FLAG_W,CFC-12,CFC-12_FLAG_W,TCARBN,TCARBN_FLAG_W,ALKALI,ALKALI_FLAG_W,PH_TS,PH_TS_FLAG_W,PH_TS_TMP,CFC113,CFC113_FLAG_W,CHLORA,CHLORA_FLAG_W,PPHYTN,PPHYTN_FLAG_W,THETA,THETA_FLAG_W,SIGTHT,SIGTHT_FLAG_W,SBE35,SBE35_FLAG_W
,,,,,,,,UTC,,,,METER,DBAR,METERS,ITS-90,PSS-78,,UMOL/KG,,PSS78,,UMOL/KG,,UMOL/KG,,UMOL/KG,,UMOL/KG,,UMOL/KG,,PMOL/KG,,PMOL/KG,,UMOL/KG,,UMOL/KG,,,,ITS-90,PMOL/KG,,UG/KG,,UG/KG,,ITS-90,,KG/M3,,ITS-90,
49UP20220727_1,    P9,    10,  1,      0,      -9,0,20220808,0126,0230,  1.4960, 141.9970, 2813,      0.0,        0,  30.1225,  35.1341,2,    193.2,2,-999.0000,9,   193.95,2,     1.17,2,     0.01,2,     0.00,2,    0.200,2, -999.000,9, -999.000,9,   -999.0,9,   -999.0,9,-999.0000,9,  -999.00, -999.000,9,  -999.00,9,  -999.00,9,  30.1219,2,  21.7850,2,-999.0000,9
49UP20220727_1,    P9,    10,  1,     36,     757,2,20220808,0126,0300,  1.4960, 141.9970, 2813,     10.3,       10,  30.0248,  35.1344,2,    193.3,2,  35.1336,2,   194.06,2,     1.17,2,     0.01,2,     0.00,2,    0.180,2, -999.000,9, -999.000,9,   -999.0,9,   -999.0,9,-999.0000,9,  -999.00, -999.000,9,  -999.00,9,  -999.00,9,  30.0222,2,  21.8194,2,  30.0265,2
49UP20220727_1,    P9,    10,  1,     35,     756,2,20220808,0126,0259,  1.4960, 141.9970, 2813,     25.2,       25,  29.9901,  35.1358,2,    193.6,2,  35.1339,2,   194.18,2,     1.16,2,     0.01,2,     0.00,2,    0.180,2, -999.000,9, -999.000,9,   -999.0,9,   -999.0,9,-999.0000,9,  -999.00, -999.000,9,  -999.00,9,  -999.00,9,  29.9838,2,  21.8335,2,  29.9870,2
49UP20220727_1,    P9,    10,  1,     34,     323,2,20220808,0126,0252,  1.4960, 141.9970, 2813,     51.8,       52,  29.8805,  35.1773,2,    194.3,2,  35.1776,2,   194.14,2,     1.23,2,     0.17,2,     0.05,2,    0.210,2, -999.000,9, -999.000,9,   -999.0,9,   -999.0,9,-999.0000,9,  -999.00, -999.000,9,  -999.00,9,  -999.00,9,  29.8677,2,  21.9043,2,  29.8804,2
49UP20220727_1,    P9,    10,  1,     33,     322,2,20220808,0126,0251,  1.4960, 141.9970, 2813,     77.0,       77,  29.7314,  35.2662,2,    195.7,2,  35.2630,2,   195.66,6,     1.20,6,     0.53,6,     0.12,6,    0.250,6, -999.000,9, -999.000,9,   -999.0,9,   -999.0,9,-999.0000,9,  -999.00, -999.000,9,  -999.00,9,  -999.00,9,  29.7124,2,  22.0238,2,  29.7272,2
49UP20220727_1,    P9,    10,  1,     31,     320,2,20220808,0126,0249,  1.4960, 141.9970, 2813,    103.3,      103,  29.4524,  35.3423,2,    188.3,2,  35.3410,2,   187.93,2,     1.54,2,     1.74,2,     0.42,2,    0.330,2, -999.000,9, -999.000,9,   -999.0,9,   -999.0,9,-999.0000,9,  -999.00, -999.000,9,  -999.00,9,  -999.00,9,  29.4271,2,  22.1776,2,  29.4523,2
49UP20220727_1,    P9,    10,  1,     32,     321,2,20220808,0126,0249,  1.4960, 141.9970, 2813,    103.6,      103,  29.4487,  35.3433,2,    188.0,2,  35.3404,2,   187.78,2,     1.46,2,     1.78,2,     0.42,2,    0.330,2, -999.000,9, -999.000,9,   -999.0,9,   -999.0,9,-999.0000,9,  -999.00, -999.000,9,  -999.00,9,  -999.00,9,  29.4233,2,  22.1795,2,  29.4495,2
49UP20220727_1,    P9,    10,  1,     30,     319,2,20220808,0126,0248,  1.4960, 141.9970, 2813,    129.1,      128,  29.0189,  35.4808,2,    175.3,2,  35.4793,2,   174.77,2,     1.79,2,     3.99,2,     0.12,2,    0.460,2, -999.000,9, -999.000,9,   -999.0,9,   -999.0,9,-999.0000,9,  -999.00, -999.000,9,  -999.00,9,  -999.00,9,  28.9877,2,  22.4293,2,  29.0204,2
49UP20220727_1,    P9,    10,  1,     29,     318,2,20220808,0126,0246,  1.4960, 141.9970, 2813,    154.2,      153,  27.6272,  35.4863,2,    155.3,2,  35.4919,2,   156.21,2,     2.37,2,     6.79,2,     0.04,2,    0.630,2, -999.000,9, -999.000,9,   -999.0,9,   -999.0,9,-999.0000,9,  -999.00, -999.000,9,  -999.00,9,  -999.00,9,  27.5912,2,  22.8936,2,  27.6295,2
49UP20220727_1,    P9,    10,  1,     28,     755,2,20220808,0126,0244,  1.4960, 141.9970, 2813,    201.8,      201,  20.2459,  35.4878,2,    132.4,2,  35.4881,2,   133.15,2,     5.19,2,    11.52,2,     0.01,2,    0.930,2, -999.000,9, -999.000,9,   -999.0,9,   -999.0,9,-999.0000,9,  -999.00, -999.000,9,  -999.00,9,  -999.00,9,  20.2082,2,  25.0787,2,  20.2488,2
49UP20220727_1,    P9,    10,  1,     27,     317,2,20220808,0126,0244,  1.4960, 141.9970, 2813,    201.9,      201,  20.2299,  35.4835,2,    132.3,2,  35.4772,2,   133.07,2,     5.31,2,    11.60,2,     0.01,2,    0.930,2, -999.000,9, -999.000,9,   -999.0,9,   -999.0,9,-999.0000,9,  -999.00, -999.000,9,  -999.00,9,  -999.00,9,  20.1921,2,  25.0797,2,  20.2195,2
49UP20220727_1,    P9,    10,  1,     26,     316,2,20220808,0126,0242,  1.4960, 141.9970, 2813,    252.4,      251,  11.7508,  34.7807,2,    138.3,2,  34.7844,2,   138.43,6,    19.54,6,    21.31,6,     0.00,6,    1.540,6, -999.000,9, -999.000,9,   -999.0,9,   -999.0,9,-999.0000,9,  -999.00, -999.000,9,  -999.00,9,  -999.00,9,  11.7183,2,  26.4722,2,  11.7504,2
49UP20220727_1,    P9,    10,  1,     25,     315,2,20220808,0126,0240,  1.4960, 141.9970, 2813,    303.0,      301,  10.0929,  34.7063,2,    134.8,2,  34.7064,6,   134.75,2,    23.21,2,    24.83,2,     0.00,2,    1.760,2, -999.000,9, -999.000,9,   -999.0,9,   -999.0,9,-999.0000,9,  -999.00, -999.000,9,  -999.00,9,  -999.00,9,  10.0575,2,  26.7128,2,  10.0930,2
49UP20220727_1,    P9,    10,  1,     24,     753,2,20220808,0126,0238,  1.4960, 141.9970, 2813,    352.1,      350,  10.0333,  34.7032,2,    134.7,2,  34.7031,2,   134.74,2,    23.25,2,    24.96,2,     0.00,2,    1.770,2, -999.000,9, -999.000,9,   -999.0,9,   -999.0,9,-999.0000,9,  -999.00, -999.000,9,  -999.00,9,  -999.00,9,   9.9922,2,  26.7215,2,  10.0331,2
49UP20220727_1,    P9,    10,  1,     23,     314,2,20220808,0126,0236,  1.4960, 141.9970, 2813,    404.9,      402,   9.2856,  34.6546,2,    133.8,2,  34.6545,2,   133.99,2,    25.37,2,    26.43,2,     0.00,2,    1.860,2, -999.000,9, -999.000,9,   -999.0,9,   -999.0,9,-999.0000,9,  -999.00, -999.000,9,  -999.00,9,  -999.00,9,   9.2404,2,  26.8089,2,   9.2859,2
49UP20220727_1,    P9,    10,  1,     22,     313,2,20220808,0126,0234,  1.4960, 141.9970, 2813,    455.1,      452,   8.5003,  34.6052,2,    127.1,2,  34.6053,2,   127.38,2,    29.60,2,    28.58,2,     0.00,2,    2.000,2, -999.000,9, -999.000,9,   -999.0,9,   -999.0,9,-999.0000,9,  -999.00, -999.000,9,  -999.00,9,  -999.00,9,   8.4520,2,  26.8951,2,   8.5014,2
49UP20220727_1,    P9,    10,  1,     21,     312,2,20220808,0126,0232,  1.4960, 141.9970, 2813,    505.1,      502,   7.9432,  34.5745,2,    124.3,2,  34.5743,2,   123.96,2,    33.48,2,    29.98,2,     0.00,2,    2.100,2, -999.000,9, -999.000,9,   -999.0,9,   -999.0,9,-999.0000,9,  -999.00, -999.000,9,  -999.00,9,  -999.00,9,   7.8916,2,  26.9558,2,   7.9436,2
49UP20220727_1,    P9,    10,  1,     20,     311,2,20220808,0126,0229,  1.4960, 141.9970, 2813,    606.2,      602,   7.1579,  34.5495,2,    111.8,2,  34.5493,2,   112.01,2,    39.97,2,    32.84,2,     0.00,2,    2.310,2, -999.000,9, -999.000,9,   -999.0,9,   -999.0,9,-999.0000,9,  -999.00, -999.000,9,  -999.00,9,  -999.00,9,   7.0991,2,  27.0502,2,   7.1540,2
49UP20220727_1,    P9,    10,  1,     19,     310,2,20220808,0126,0226,  1.4960, 141.9970, 2813,    706.4,      701,   6.4105,  34.5335,2,    109.0,2,  34.5337,2,   109.18,2,    47.59,2,    34.59,2,     0.00,2,    2.440,2, -999.000,9, -999.000,9,   -999.0,9,   -999.0,9,-999.0000,9,  -999.00, -999.000,9,  -999.00,9,  -999.00,9,   6.3455,2,  27.1394,2,   6.4104,2
49UP20220727_1,    P9,    10,  1,     18,     752,2,20220808,0126,0223,  1.4960, 141.9970, 2813,    809.1,      803,   5.5742,  34.5258,2,    111.1,2,  34.5256,2,   110.81,2,    60.59,2,    35.49,2,     0.00,2,    2.510,2, -999.000,9, -999.000,9,   -999.0,9,   -999.0,9,-999.0000,9,  -999.00, -999.000,9,  -999.00,9,  -999.00,9,   5.5043,2,  27.2395,2,   5.5735,2
49UP20220727_1,    P9,    10,  1,     17,     751,2,20220808,0126,0220,  1.4960, 141.9970, 2813,    907.6,      901,   4.9600,  34.5415,2,     97.6,2,  34.5411,2,    97.58,2,    76.99,2,    37.35,2,     0.00,2,    2.650,2, -999.000,9, -999.000,9,   -999.0,9,   -999.0,9,-999.0000,9,  -999.00, -999.000,9,  -999.00,9,  -999.00,9,   4.8852,2,  27.3249,2,   4.9603,2
49UP20220727_1,    P9,    10,  1,     16,     328,2,20220808,0126,0217,  1.4960, 141.9970, 2813,   1009.3,     1001,   4.5018,  34.5543,2,    102.2,2,  34.5540,2,   102.11,6,    86.46,6,    37.35,6,     0.00,6,    2.660,6, -999.000,9, -999.000,9,   -999.0,9,   -999.0,9,-999.0000,9,  -999.00, -999.000,9,  -999.00,9,  -999.00,9,   4.4214,2,  27.3868,2,   4.5014,2
49UP20220727_1,    P9,    10,  1,     15,     309,2,20220808,0126,0212,  1.4960, 141.9970, 2813,   1211.4,     1201,   3.6321,  34.5786,2,    101.0,2,  34.5786,2,   101.08,2,   105.80,2,    38.27,2,     0.00,2,    2.720,2, -999.000,9, -999.000,9,   -999.0,9,   -999.0,9,-999.0000,9,  -999.00, -999.000,9,  -999.00,9,  -999.00,9,   3.5418,2,  27.4973,2,   3.6317,2
49UP20220727_1,    P9,    10,  1,     14,     326,2,20220808,0126,0207,  1.4960, 141.9970, 2813,   1416.5,     1404,   3.2583,  34.5898,2,    103.4,2,  34.5899,6,   103.83,2,   112.34,2,    38.57,2,     0.00,2,    2.740,2, -999.000,9, -999.000,9,   -999.0,9,   -999.0,9,-999.0000,9,  -999.00, -999.000,9,  -999.00,9,  -999.00,9,   3.1546,2,  27.5433,2,   3.2584,2
49UP20220727_1,    P9,    10,  1,     13,     325,2,20220808,0126,0202,  1.4960, 141.9970, 2813,   1615.5,     1600,   2.8219,  34.6069,2,    108.1,2,  34.6078,2,   108.71,2,   122.89,2,    38.42,2,     0.00,2,    2.720,2, -999.000,9, -999.000,9,   -999.0,9,   -999.0,9,-999.0000,9,  -999.00, -999.000,9,  -999.00,9,  -999.00,9,   2.7065,2,  27.5977,2,   2.8212,2
49UP20220727_1,    P9,    10,  1,     11,     323,2,20220808,0126,0157,  1.4960, 141.9970, 2813,   1819.2,     1801,   2.4621,  34.6237,2,    114.0,2,  34.6232,2,   114.00,2,   130.06,2,    38.25,2,     0.00,2,    2.700,2, -999.000,9, -999.000,9,   -999.0,9,   -999.0,9,-999.0000,9,  -999.00, -999.000,9,  -999.00,9,  -999.00,9,   2.3342,2,  27.6431,2,   2.4621,2
49UP20220727_1,    P9,    10,  1,     12,     324,2,20220808,0126,0157,  1.4960, 141.9970, 2813,   1819.4,     1802,   2.4620,  34.6237,2,    114.0,2,  34.6248,2,   113.99,2,   129.85,2,    38.19,2,     0.00,2,    2.700,2, -999.000,9, -999.000,9,   -999.0,9,   -999.0,9,-999.0000,9,  -999.00, -999.000,9,  -999.00,9,  -999.00,9,   2.3341,2,  27.6430,2,   2.4619,2
49UP20220727_1,    P9,    10,  1,     10,     322,2,20220808,0126,0152,  1.4960, 141.9970, 2813,   2022.4,     2002,   2.2725,  34.6331,2,    117.1,2,  34.6327,6,   117.56,2,   134.81,2,    38.14,2,     0.00,2,    2.680,2, -999.000,9, -999.000,9,   -999.0,9,   -999.0,9,-999.0000,9,  -999.00, -999.000,9,  -999.00,9,  -999.00,9,   2.1300,2,  27.6674,2,   2.2728,2
49UP20220727_1,    P9,    10,  1,      9,     750,2,20220808,0126,0147,  1.4960, 141.9970, 2813,   2226.0,     2202,   2.0331,  34.6451,2,    122.0,2,  34.6451,2,   122.10,2,   140.37,2,    37.89,2,     0.00,2,    2.660,2, -999.000,9, -999.000,9,   -999.0,9,   -999.0,9,-999.0000,9,  -999.00, -999.000,9,  -999.00,9,  -999.00,9,   1.8768,2,  27.6970,2,   2.0334,2
49UP20220727_1,    P9,    10,  1,      8,     320,2,20220808,0126,0136,  1.4960, 141.9970, 2813,   2428.0,     2401,   1.8609,  34.6548,2,    127.6,2,  34.6548,2,   127.96,2,   143.16,2,    37.63,2,     0.00,2,    2.630,2, -999.000,9, -999.000,9,   -999.0,9,   -999.0,9,-999.0000,9,  -999.00, -999.000,9,  -999.00,9,  -999.00,9,   1.6897,2,  27.7191,2,   1.8612,2
49UP20220727_1,    P9,    10,  1,      7,     319,2,20220808,0126,0131,  1.4960, 141.9970, 2813,   2632.0,     2601,   1.7604,  34.6607,2,    133.0,2,  34.6606,2,   133.14,6,   143.91,6,    37.26,6,     0.00,6,    2.600,6, -999.000,9, -999.000,9,   -999.0,9,   -999.0,9,-999.0000,9,  -999.00, -999.000,9,  -999.00,9,  -999.00,9,   1.5726,2,  27.7325,2,   1.7606,2
49UP20220727_1,    P9,    10,  1,      5,     838,2,20220808,0126,0126,  1.4960, 141.9970, 2813,   2840.3,     2806,   1.6362,  34.6680,2,    140.3,2,  34.6681,2,   140.01,2,   144.01,2,    36.74,2,     0.00,2,    2.560,2, -999.000,9, -999.000,9,   -999.0,9,   -999.0,9,-999.0000,9,  -999.00, -999.000,9,  -999.00,9,  -999.00,9,   1.4315,2,  27.7487,2,   1.6361,2
49UP20220727_1,    P9,    10,  1,      6,     318,2,20220808,0126,0126,  1.4960, 141.9970, 2813,   2840.9,     2806,   1.6364,  34.6680,2,    140.3,2,  34.6691,4,   140.06,2,   143.85,2,    36.73,2,     0.00,2,    2.550,2, -999.000,9, -999.000,9,   -999.0,9,   -999.0,9,-999.0000,9,  -999.00, -999.000,9,  -999.00,9,  -999.00,9,   1.4317,2,  27.7487,2,   1.6364,2