BOTTLE,20230330JMAAMD
EXPOCODE,SECT_ID,STNNBR,CASTNO,SAMPNO,BTLNBR,BTLNBR_FLAG_U,DATE,TIME,BTL_TIME,LATITUDE,LONGITUDE,DEPTH,CTDPRS,CTDDEP,CTDTMP,CTDSAL,CTDSAL_FLAG_W,CTDOXY,CTDOXY_FLAG_W,SALNTY,SALNTY_FLAG_W,OXYGEN,OXYGEN_FLAG_W,SILCAT,SILCAT_FLAG_W,NO2+NO3,NO2+NO3_FLAG_W,NITRIT,NITRIT_FLAG_W,PHSPHT,PHSPHT_FLAG_W,CFC-11,CFC-11_FLAG_W,CFC-12,CFC-12_FLAG_W,TCARBN,TCARBN_FLAG_W,ALKALI,ALKALI_FLAG_W,PH_TS,PH_TS_FLAG_W,PH_TS_TMP,CFC113,CFC113_FLAG_W,CHLORA,CHLORA_FLAG_W,PPHYTN,PPHYTN_FLAG_W,THETA,THETA_FLAG_W,SIGTHT,SIGTHT_FLAG_W,SBE35,SBE35_FLAG_W
,,,,,,,,UTC,,,,METER,DBAR,METERS,ITS-90,PSS-78,,UMOL/KG,,PSS78,,UMOL/KG,,UMOL/KG,,UMOL/KG,,UMOL/KG,,UMOL/KG,,PMOL/KG,,PMOL/KG,,UMOL/KG,,UMOL/KG,,,,ITS-90,PMOL/KG,,UG/KG,,UG/KG,,ITS-90,,KG/M3,,ITS-90,
49UP20220929_1,    P9,    80,  1,      0,      -9,0,20221009,0141,0310, 30.0003, 137.0195, 4498,      0.0,        0,  27.7585,  34.2658,2,    200.7,2,  34.2659,2,   200.79,2,     1.58,2,     0.02,2,     0.00,2,    0.030,2, -999.000,9, -999.000,9,   1939.4,2,   2249.4,2,   8.0877,2,    25.00, -999.000,9,     0.12,2,     0.04,2,  27.7579,2,  21.9213,2,-999.0000,9
49UP20220929_1,    P9,    80,  1,     36,     757,2,20221009,0141,0344, 30.0003, 137.0195, 4498,     12.3,       12,  27.7399,  34.2644,2,    200.8,2,  34.2669,2,   200.49,2,     1.54,2,     0.01,2,     0.00,2,    0.000,2, -999.000,9, -999.000,9,   1939.7,2,   2250.1,2,   8.0864,2,    25.00, -999.000,9,     0.12,2,     0.04,2,  27.7370,2,  21.9271,2,  27.7415,2
49UP20220929_1,    P9,    80,  1,     35,     756,2,20221009,0141,0343, 30.0003, 137.0195, 4498,     26.7,       27,  27.7091,  34.2617,2,    200.8,2,  34.2630,2,   200.36,2,     1.54,2,     0.01,2,     0.00,2,    0.000,2, -999.000,9, -999.000,9,   1938.9,2,   2249.5,2,   8.0863,2,    25.00, -999.000,9,  -999.00,9,  -999.00,9,  27.7028,2,  21.9361,2,  27.7078,2
49UP20220929_1,    P9,    80,  1,     34,     323,2,20221009,0141,0342, 30.0003, 137.0195, 4498,     26.9,       27,  27.7057,  34.2604,2,    200.9,2,  34.2621,2,   200.41,2,     1.49,2,     0.02,2,     0.00,2,    0.000,2, -999.000,9, -999.000,9,   1937.9,2,   2249.6,2,   8.0871,2,    25.00, -999.000,9,     0.12,2,     0.05,2,  27.6994,2,  21.9362,2,  27.7056,2
49UP20220929_1,    P9,    80,  1,     33,     322,2,20221009,0141,0338, 30.0003, 137.0195, 4498,     52.8,       52,  27.2605,  34.2818,2,    203.9,2,  34.2864,2,   202.74,2,     1.59,2,     0.05,2,     0.00,2,    0.000,2, -999.000,9, -999.000,9,   1943.6,2,   2251.4,2,   8.0797,2,    25.00, -999.000,9,     0.17,2,     0.08,2,  27.2483,2,  22.0976,2,  27.1972,2
49UP20220929_1,    P9,    80,  1,     32,     321,2,20221009,0141,0337, 30.0003, 137.0195, 4498,     77.5,       77,  26.1394,  34.4172,2,    203.7,2,  34.4226,2,   202.20,2,     1.76,2,     0.09,2,     0.03,2,    0.010,2, -999.000,9, -999.000,9,   1960.7,2,   2258.9,2,   8.0640,2,    25.00, -999.000,9,     0.42,2,     0.38,2,  26.1221,2,  22.5556,2,  26.1406,2
49UP20220929_1,    P9,    80,  1,     31,     320,2,20221009,0141,0335, 30.0003, 137.0195, 4498,    102.6,      102,  23.7513,  34.6552,2,    191.6,2,  34.6567,2,   191.25,6,     2.19,6,     1.44,6,     0.06,6,    0.110,6, -999.000,9, -999.000,9,   1997.0,2,   2274.2,2,   8.0194,2,    25.00, -999.000,9,     0.14,2,     0.49,2,  23.7299,2,  23.4599,2,  23.7516,2
49UP20220929_1,    P9,    80,  1,     30,     319,2,20221009,0141,0334, 30.0003, 137.0195, 4498,    129.9,      129,  21.7477,  34.7344,2,    190.7,2,  34.7315,2,   190.54,2,     2.78,2,     2.24,2,     0.03,2,    0.160,2, -999.000,9, -999.000,9,   2016.1,2,   2278.1,2,   7.9922,2,    25.00, -999.000,9,     0.08,2,     0.15,2,  21.7222,2,  24.0934,2,  21.7414,2
49UP20220929_1,    P9,    80,  1,     29,     318,2,20221009,0141,0333, 30.0003, 137.0195, 4498,    153.4,      152,  21.3822,  34.7484,2,    191.5,2,  34.7492,2,   190.82,2,     2.69,2,     2.36,2,     0.02,2,    0.170,2, -999.000,9, -999.000,9,   2021.2,2,   2280.7,2,   7.9887,2,    25.00, -999.000,9,     0.04,2,     0.08,2,  21.3525,2,  24.2061,2,  21.3826,2
49UP20220929_1,    P9,    80,  1,     28,     755,2,20221009,0141,0331, 30.0003, 137.0195, 4498,    204.7,      203,  19.8554,  34.7719,2,    196.8,2,  34.7708,2,   196.14,2,     3.08,2,     2.77,2,     0.01,2,    0.190,2, -999.000,9, -999.000,9,   2028.6,2,   2283.8,2,   7.9727,2,    25.00, -999.000,9,     0.01,2,     0.06,2,  19.8178,2,  24.6356,2,  19.8634,2
49UP20220929_1,    P9,    80,  1,     27,     317,2,20221009,0141,0329, 30.0003, 137.0195, 4498,    252.6,      251,  18.1854,  34.7005,2,    183.8,2,  34.7015,2,   183.86,2,     7.52,2,     6.32,2,     0.01,2,    0.440,2, -999.000,9, -999.000,9,   2059.4,2,   2282.4,2,   7.9156,2,    25.00, -999.000,9,  -999.00,9,  -999.00,9,  18.1418,2,  25.0077,2,  18.1864,2
49UP20220929_1,    P9,    80,  1,     26,     316,2,20221009,0141,0327, 30.0003, 137.0195, 4498,    304.9,      303,  16.4861,  34.6700,2,    187.2,2,  34.6807,2,   188.23,2,     7.75,2,     7.57,2,     0.00,2,    0.510,2, -999.000,9, -999.000,9,   2069.3,2,   2280.7,2,   7.8909,2,    25.00, -999.000,9,  -999.00,9,  -999.00,9,  16.4368,2,  25.3931,2,  16.4575,2
49UP20220929_1,    P9,    80,  1,     25,     315,2,20221009,0141,0324, 30.0003, 137.0195, 4498,    405.2,      402,  13.1297,  34.4606,2,    163.6,2,  34.4599,2,   163.51,2,    22.87,2,    15.29,2,     0.00,2,    1.080,2, -999.000,9, -999.000,9,   2125.0,2,   2280.8,2,   7.7724,2,    25.00, -999.000,9,  -999.00,9,  -999.00,9,  13.0735,2,  25.9603,2,  13.1294,2
49UP20220929_1,    P9,    80,  1,     24,     753,2,20221009,0141,0321, 30.0003, 137.0195, 4498,    504.9,      501,   9.5411,  34.2702,2,    140.9,2,  34.2703,2,   140.25,2,   147.17,4,    39.36,4,     0.00,4,    2.780,4, -999.000,9, -999.000,9,   2181.9,2,   2289.9,2,   7.6469,2,    25.00, -999.000,9,  -999.00,9,  -999.00,9,   9.4838,2,  26.4683,2,   9.5419,2
49UP20220929_1,    P9,    80,  1,     23,     314,2,20221009,0141,0319, 30.0003, 137.0195, 4498,    606.7,      602,   8.0376,  34.2100,2,    126.8,2,  34.2099,2,   125.97,2,    54.57,2,    27.38,2,     0.00,2,    1.960,2, -999.000,9, -999.000,9,   2211.4,2,   2293.3,2,   7.5826,2,    25.00, -999.000,9,  -999.00,9,  -999.00,9,   7.9752,2,  26.6571,2,   8.0399,2
49UP20220929_1,    P9,    80,  1,     22,     313,2,20221009,0141,0316, 30.0003, 137.0195, 4498,    707.4,      701,   6.2109,  34.2367,2,     94.4,2,  34.2360,2,    93.70,6,    78.22,6,    33.41,6,     0.00,6,    2.390,6, -999.000,9, -999.000,9,   2262.1,2,   2318.2,2,   7.4942,2,    25.00, -999.000,9,  -999.00,9,  -999.00,9,   6.1472,2,  26.9308,2,   6.2219,2
49UP20220929_1,    P9,    80,  1,     21,     312,2,20221009,0141,0313, 30.0003, 137.0195, 4498,    809.6,      803,   5.0791,  34.2745,2,     75.1,2,  34.2746,2,    74.73,2,    95.53,2,    36.87,2,     0.00,2,    2.650,2, -999.000,9, -999.000,9,   2296.9,2,   2333.3,2,   7.4437,2,    25.00, -999.000,9,  -999.00,9,  -999.00,9,   5.0126,2,  27.0986,2,   5.0797,2
49UP20220929_1,    P9,    80,  1,     20,     311,2,20221009,0141,0310, 30.0003, 137.0195, 4498,    910.9,      903,   4.1517,  34.3024,2,     60.1,2,  34.3036,2,    59.55,2,   112.11,2,    39.51,2,     0.00,2,    2.830,2, -999.000,9, -999.000,9,   2325.2,2,   2348.6,2,   7.4015,2,    25.00, -999.000,9,  -999.00,9,  -999.00,9,   4.0826,2,  27.2227,2,   4.1517,2
49UP20220929_1,    P9,    80,  1,     19,     310,2,20221009,0141,0307, 30.0003, 137.0195, 4498,   1010.7,     1001,   3.6932,  34.3844,2,     61.0,2,  34.3843,2,    60.84,2,   122.26,2,    40.19,2,     0.00,2,    2.870,2, -999.000,9, -999.000,9,   2335.1,2,   2363.1,2,   7.4120,2,    25.00, -999.000,9,  -999.00,9,  -999.00,9,   3.6193,2,  27.3349,2,   3.6944,2
49UP20220929_1,    P9,    80,  1,     18,     752,2,20221009,0141,0302, 30.0003, 137.0195, 4498,   1215.4,     1204,   3.0787,  34.4548,2,     64.1,2,  34.4550,6,    64.09,2,   134.53,2,    40.72,2,     0.00,2,    2.890,2, -999.000,9, -999.000,9,   2348.7,2,   2380.4,2,   7.4160,2,    25.00, -999.000,9,  -999.00,9,  -999.00,9,   2.9935,2,  27.4505,2,   3.0787,2
49UP20220929_1,    P9,    80,  1,     17,     751,2,20221009,0141,0255, 30.0003, 137.0195, 4498,   1411.6,     1397,   2.6970,  34.5017,2,     71.8,2,  34.5024,2,    71.70,2,   141.19,2,    40.58,2,     0.00,2,    2.870,2, -999.000,9, -999.000,9,   2353.2,6,   2387.5,6,   7.4347,2,    25.00, -999.000,9,  -999.00,9,  -999.00,9,   2.5999,2,  27.5228,2,   2.6968,2
49UP20220929_1,    P9,    80,  1,     16,     328,2,20221009,0141,0250, 30.0003, 137.0195, 4498,   1618.3,     1601,   2.3939,  34.5417,2,     82.2,2,  34.5419,2,    82.08,2,   145.31,2,    40.14,2,     0.00,2,    2.840,2, -999.000,9, -999.000,9,   2354.2,2,   2395.2,2,   7.4521,6,    25.00, -999.000,9,  -999.00,9,  -999.00,9,   2.2837,2,  27.5816,2,   2.3928,2
49UP20220929_1,    P9,    80,  1,     14,     326,2,20221009,0141,0245, 30.0003, 137.0195, 4498,   1822.9,     1803,   2.1459,  34.5777,2,     95.8,2,  34.5777,2,    95.58,2,   147.11,2,    39.42,2,     0.00,2,    2.780,2, -999.000,9, -999.000,9,   2349.8,2,   2403.1,2,   7.4757,2,    25.00, -999.000,9,  -999.00,9,  -999.00,9,   2.0222,2,  27.6316,2,   2.1459,2
49UP20220929_1,    P9,    80,  1,     15,     309,2,20221009,0141,0245, 30.0003, 137.0195, 4498,   1823.4,     1803,   2.1458,  34.5777,2,     95.8,2,  34.5781,2,    95.65,2,   147.06,2,    39.45,2,     0.00,2,    2.780,2, -999.000,9, -999.000,9,   2349.9,2,   2400.7,2,   7.4773,2,    25.00, -999.000,9,  -999.00,9,  -999.00,9,   2.0221,2,  27.6316,2,   2.1457,2
49UP20220929_1,    P9,    80,  1,     13,     325,2,20221009,0141,0240, 30.0003, 137.0195, 4498,   2025.1,     2002,   2.0006,  34.5999,2,    105.9,2,  34.5998,2,   105.91,6,   147.10,6,    38.79,6,     0.00,6,    2.730,6, -999.000,9, -999.000,9,   2345.9,2,   2406.4,2,   7.4970,2,    25.00, -999.000,9,  -999.00,9,  -999.00,9,   1.8622,2,  27.6619,2,   2.0005,2
49UP20220929_1,    P9,    80,  1,     12,     324,2,20221009,0141,0235, 30.0003, 137.0195, 4498,   2228.7,     2202,   1.8580,  34.6213,2,    116.6,2,  34.6210,2,   116.52,2,   146.93,2,    38.26,2,     0.00,2,    2.680,2, -999.000,9, -999.000,9,   2341.4,6,   2407.9,6,   7.5181,2,    25.00, -999.000,9,  -999.00,9,  -999.00,9,   1.7044,2,  27.6911,2,   1.8579,2
49UP20220929_1,    P9,    80,  1,     11,     323,2,20221009,0141,0231, 30.0003, 137.0195, 4498,   2432.4,     2402,   1.7604,  34.6362,2,    125.0,2,  34.6366,2,   124.72,2,   146.40,2,    37.73,2,     0.00,2,    2.640,2, -999.000,9, -999.000,9,   2334.5,2,   2411.4,2,   7.5332,6,    25.00, -999.000,9,  -999.00,9,  -999.00,9,   1.5907,2,  27.7115,2,   1.7602,2
49UP20220929_1,    P9,    80,  1,     10,     322,2,20221009,0141,0226, 30.0003, 137.0195, 4498,   2634.9,     2601,   1.6773,  34.6486,2,    132.7,2,  34.6487,2,   132.64,2,   145.56,2,    37.20,2,     0.00,2,    2.600,2, -999.000,9, -999.000,9,   2336.1,2,   2410.7,2,   7.5474,2,    25.00, -999.000,9,  -999.00,9,  -999.00,9,   1.4909,2,  27.7288,2,   1.6771,2
49UP20220929_1,    P9,    80,  1,      9,     750,2,20221009,0141,0221, 30.0003, 137.0195, 4498,   2839.2,     2801,   1.6102,  34.6588,2,    139.3,2,  34.6593,6,   138.92,2,   144.72,2,    36.86,2,     0.00,2,    2.570,2, -999.000,9, -999.000,9,   2330.8,2,   2408.0,2,   7.5610,2,    25.00, -999.000,9,  -999.00,9,  -999.00,9,   1.4062,2,  27.7431,2,   1.6100,2
49UP20220929_1,    P9,    80,  1,      8,     320,2,20221009,0141,0216, 30.0003, 137.0195, 4498,   3044.2,     3002,   1.5541,  34.6674,2,    145.0,2,  34.6673,2,   145.11,2,   144.34,2,    36.58,2,     0.00,2,    2.540,2, -999.000,9, -999.000,9,   2325.6,2,   2411.3,2,   7.5691,2,    25.00, -999.000,9,  -999.00,9,  -999.00,9,   1.3320,2,  27.7553,2,   1.5542,2
49UP20220929_1,    P9,    80,  1,      7,     319,2,20221009,0141,0211, 30.0003, 137.0195, 4498,   3299.3,     3251,   1.5257,  34.6734,2,    149.0,2,  34.6736,2,   149.08,2,   143.69,2,    36.25,2,     0.00,2,    2.520,2, -999.000,9, -999.000,9,   2324.5,2,   2411.4,2,   7.5762,2,    25.00, -999.000,9,  -999.00,9,  -999.00,9,   1.2792,2,  27.7638,2,   1.5257,2
49UP20220929_1,    P9,    80,  1,      6,     318,2,20221009,0141,0205, 30.0003, 137.0195, 4498,   3554.8,     3501,   1.5213,  34.6767,2,    151.4,2,  34.6765,2,   151.20,6,   143.03,6,    36.06,6,     0.00,6,    2.500,6, -999.000,9, -999.000,9,   2325.2,2,   2411.6,2,   7.5793,2,    25.00, -999.000,9,  -999.00,9,  -999.00,9,   1.2490,2,  27.7686,2,   1.5212,2
49UP20220929_1,    P9,    80,  1,      5,     838,2,20221009,0141,0159, 30.0003, 137.0195, 4498,   3810.2,     3751,   1.5322,  34.6785,2,    152.7,2,  34.6789,6,   152.85,2,   142.99,2,    36.10,2,     0.00,2,    2.500,2, -999.000,9, -999.000,9,   2323.9,2,   2410.9,2,   7.5802,2,    25.00, -999.000,9,  -999.00,9,  -999.00,9,   1.2329,2,  27.7711,2,   1.5323,2
49UP20220929_1,    P9,    80,  1,      4,     316,2,20221009,0141,0154, 30.0003, 137.0195, 4498,   4067.5,     4001,   1.5500,  34.6795,2,    153.6,2,  34.6793,2,   154.43,2,   142.80,2,    35.97,2,     0.00,2,    2.490,2, -999.000,9, -999.000,9,   2324.0,6,   2412.0,6,   7.5823,2,    25.00, -999.000,9,  -999.00,9,  -999.00,9,   1.2224,2,  27.7727,2,   1.5501,2
49UP20220929_1,    P9,    80,  1,      3,     315,2,20221009,0141,0148, 30.0003, 137.0195, 4498,   4323.2,     4251,   1.5713,  34.6803,2,    154.4,2,  34.6808,6,   154.39,2,   142.63,2,    35.96,2,     0.00,2,    2.490,2, -999.000,9, -999.000,9,   2324.1,2,   2413.0,2,   7.5835,6,    25.00, -999.000,9,  -999.00,9,  -999.00,9,   1.2144,2,  27.7739,2,   1.5713,2
49UP20220929_1,    P9,    80,  1,      1,     308,2,20221009,0141,0142, 30.0003, 137.0195, 4498,   4582.1,     4503,   1.5916,  34.6812,2,    155.6,2,  34.6818,2,   155.36,2,   142.34,2,    35.83,2,     0.00,2,    2.480,2, -999.000,9, -999.000,9,   2321.6,2,   2412.9,2,   7.5869,2,    25.00, -999.000,9,  -999.00,9,  -999.00,9,   1.2043,2,  27.7753,2,   1.5915,2
49UP20220929_1,    P9,    80,  1,      2,     314,2,20221009,0141,0142, 30.0003, 137.0195, 4498,   4582.5,     4503,   1.5916,  34.6813,2,    155.6,2,  34.6815,2,   155.28,2,   142.30,2,    35.86,2,     0.00,2,    2.480,2, -999.000,9, -999.000,9,   2323.0,2,   2409.0,2,   7.5854,2,    25.00, -999.000,9,  -999.00,9,  -999.00,9,   1.2042,2,  27.7754,2,   1.5917,2