BOTTLE,20230330JMAAMD
EXPOCODE,SECT_ID,STNNBR,CASTNO,SAMPNO,BTLNBR,BTLNBR_FLAG_U,DATE,TIME,BTL_TIME,LATITUDE,LONGITUDE,DEPTH,CTDPRS,CTDDEP,CTDTMP,CTDSAL,CTDSAL_FLAG_W,CTDOXY,CTDOXY_FLAG_W,SALNTY,SALNTY_FLAG_W,OXYGEN,OXYGEN_FLAG_W,SILCAT,SILCAT_FLAG_W,NO2+NO3,NO2+NO3_FLAG_W,NITRIT,NITRIT_FLAG_W,PHSPHT,PHSPHT_FLAG_W,CFC-11,CFC-11_FLAG_W,CFC-12,CFC-12_FLAG_W,TCARBN,TCARBN_FLAG_W,ALKALI,ALKALI_FLAG_W,PH_TS,PH_TS_FLAG_W,PH_TS_TMP,CFC113,CFC113_FLAG_W,CHLORA,CHLORA_FLAG_W,PPHYTN,PPHYTN_FLAG_W,THETA,THETA_FLAG_W,SIGTHT,SIGTHT_FLAG_W,SBE35,SBE35_FLAG_W
,,,,,,,,UTC,,,,METER,DBAR,METERS,ITS-90,PSS-78,,UMOL/KG,,PSS78,,UMOL/KG,,UMOL/KG,,UMOL/KG,,UMOL/KG,,UMOL/KG,,PMOL/KG,,PMOL/KG,,UMOL/KG,,UMOL/KG,,,,ITS-90,PMOL/KG,,UG/KG,,UG/KG,,ITS-90,,KG/M3,,ITS-90,
49UP20220824_1,    P9,    35,  1,      0,      -9,0,20220902,1623,1715,  8.3318, 136.9962, 2191,      0.0,        0,  30.2986,  33.6943,2,    192.9,2,-999.0000,9,   193.83,2,     1.19,2,     0.01,2,     0.00,2,    0.060,2, -999.000,9, -999.000,9,   -999.0,9,   -999.0,9,-999.0000,9,  -999.00, -999.000,9,  -999.00,9,  -999.00,9,  30.2980,2,  20.6460,2,-999.0000,9
49UP20220824_1,    P9,    35,  1,     36,     757,2,20220902,1623,1744,  8.3318, 136.9962, 2191,     11.1,       11,  30.2856,  33.6983,2,    193.0,2,  33.6953,2,   194.14,6,     1.20,6,     0.03,6,     0.00,6,    0.040,6, -999.000,9, -999.000,9,   -999.0,9,   -999.0,9,-999.0000,9,  -999.00, -999.000,9,  -999.00,9,  -999.00,9,  30.2828,2,  20.6542,2,  30.2882,2
49UP20220824_1,    P9,    35,  1,     35,     756,2,20220902,1623,1742,  8.3318, 136.9962, 2191,     26.0,       26,  30.1974,  33.9195,2,    194.3,2,  33.9181,2,   194.74,2,     1.19,2,     0.00,2,     0.00,2,    0.050,2, -999.000,9, -999.000,9,   -999.0,9,   -999.0,9,-999.0000,9,  -999.00, -999.000,9,  -999.00,9,  -999.00,9,  30.1909,2,  20.8513,2,  30.1983,2
49UP20220824_1,    P9,    35,  1,     34,     323,2,20220902,1623,1739,  8.3318, 136.9962, 2191,     50.8,       51,  30.0231,  34.1333,2,    196.5,2,  34.1320,6,   196.81,2,     1.24,2,     0.03,2,     0.00,2,    0.070,2, -999.000,9, -999.000,9,   -999.0,9,   -999.0,9,-999.0000,9,  -999.00, -999.000,9,  -999.00,9,  -999.00,9,  30.0105,2,  21.0730,2,  30.0244,2
49UP20220824_1,    P9,    35,  1,     30,     319,2,20220902,1623,1737,  8.3318, 136.9962, 2191,     75.4,       75,  29.7954,  34.4051,2,    199.2,2,  34.4184,2,   198.30,2,     1.28,2,     0.00,2,     0.00,2,    0.090,2, -999.000,9, -999.000,9,   -999.0,9,   -999.0,9,-999.0000,9,  -999.00, -999.000,9,  -999.00,9,  -999.00,9,  29.7768,2,  21.3561,2,  29.7914,2
49UP20220824_1,    P9,    35,  1,     29,     318,2,20220902,1623,1735,  8.3318, 136.9962, 2191,    101.1,      101,  27.6388,  34.5868,2,    182.8,2,  34.5871,2,   182.33,2,     2.07,2,     0.51,2,     0.06,2,    0.190,2, -999.000,9, -999.000,9,   -999.0,9,   -999.0,9,-999.0000,9,  -999.00, -999.000,9,  -999.00,9,  -999.00,9,  27.6152,2,  22.2090,2,  27.6535,2
49UP20220824_1,    P9,    35,  1,     27,     317,2,20220902,1623,1734,  8.3318, 136.9962, 2191,    126.3,      126,  24.2123,  34.7362,2,    168.4,2,  34.7344,2,   167.31,2,     3.73,2,     3.43,2,     0.19,2,    0.380,2, -999.000,9, -999.000,9,   -999.0,9,   -999.0,9,-999.0000,9,  -999.00, -999.000,9,  -999.00,9,  -999.00,9,  24.1856,2,  23.3866,2,  24.2026,2
49UP20220824_1,    P9,    35,  1,     28,     755,2,20220902,1623,1734,  8.3318, 136.9962, 2191,    126.5,      126,  24.1964,  34.7367,2,    168.4,2,  34.7343,2,   168.18,2,     3.54,2,     3.22,2,     0.19,2,    0.370,2, -999.000,9, -999.000,9,   -999.0,9,   -999.0,9,-999.0000,9,  -999.00, -999.000,9,  -999.00,9,  -999.00,9,  24.1697,2,  23.3917,2,  24.2152,2
49UP20220824_1,    P9,    35,  1,     26,     316,2,20220902,1623,1732,  8.3318, 136.9962, 2191,    152.0,      151,  20.3184,  34.7094,2,    150.0,2,  34.7076,2,   150.87,2,     7.18,2,     7.85,2,     0.03,2,    0.670,2, -999.000,9, -999.000,9,   -999.0,9,   -999.0,9,-999.0000,9,  -999.00, -999.000,9,  -999.00,9,  -999.00,9,  20.2900,2,  24.4634,2,  20.3283,2
49UP20220824_1,    P9,    35,  1,     25,     315,2,20220902,1623,1730,  8.3318, 136.9962, 2191,    201.4,      200,  14.8503,  34.5623,2,    126.1,2,  34.5625,2,   125.99,2,    17.12,2,    16.81,2,     0.01,2,    1.250,2, -999.000,9, -999.000,9,   -999.0,9,   -999.0,9,-999.0000,9,  -999.00, -999.000,9,  -999.00,9,  -999.00,9,  14.8201,2,  25.6737,2,  14.8473,2
49UP20220824_1,    P9,    35,  1,     24,     753,2,20220902,1623,1728,  8.3318, 136.9962, 2191,    251.7,      250,  10.4740,  34.4881,2,     90.5,2,  34.4895,2,    89.68,6,    32.00,6,    27.47,6,     0.00,6,    1.980,6, -999.000,9, -999.000,9,   -999.0,9,   -999.0,9,-999.0000,9,  -999.00, -999.000,9,  -999.00,9,  -999.00,9,  10.4440,2,  26.4756,2,  10.4687,2
49UP20220824_1,    P9,    35,  1,     23,     314,2,20220902,1623,1725,  8.3318, 136.9962, 2191,    301.8,      300,   9.2115,  34.5219,2,     79.8,2,  34.5213,2,    79.17,2,    37.67,2,    31.08,2,     0.00,2,    2.220,2, -999.000,9, -999.000,9,   -999.0,9,   -999.0,9,-999.0000,9,  -999.00, -999.000,9,  -999.00,9,  -999.00,9,   9.1782,2,  26.7150,2,   9.2109,2
49UP20220824_1,    P9,    35,  1,     22,     313,2,20220902,1623,1723,  8.3318, 136.9962, 2191,    353.0,      351,   8.7581,  34.5358,2,     79.2,2,  34.5356,2,    79.00,2,    39.43,2,    32.18,2,     0.00,2,    2.280,2, -999.000,9, -999.000,9,   -999.0,9,   -999.0,9,-999.0000,9,  -999.00, -999.000,9,  -999.00,9,  -999.00,9,   8.7202,2,  26.7989,2,   8.7581,2
49UP20220824_1,    P9,    35,  1,     21,     312,2,20220902,1623,1721,  8.3318, 136.9962, 2191,    403.9,      401,   8.2665,  34.5300,2,     88.2,2,  34.5296,2,    87.81,2,    41.35,2,    32.30,2,     0.00,2,    2.280,2, -999.000,9, -999.000,9,   -999.0,9,   -999.0,9,-999.0000,9,  -999.00, -999.000,9,  -999.00,9,  -999.00,9,   8.2246,2,  26.8710,2,   8.2663,2
49UP20220824_1,    P9,    35,  1,     20,     311,2,20220902,1623,1718,  8.3318, 136.9962, 2191,    452.9,      450,   8.0100,  34.5310,2,     89.3,2,  34.5302,2,    88.81,2,    42.84,2,    32.83,2,     0.00,2,    2.310,2, -999.000,9, -999.000,9,   -999.0,9,   -999.0,9,-999.0000,9,  -999.00, -999.000,9,  -999.00,9,  -999.00,9,   7.9637,2,  26.9109,2,   8.0100,2
49UP20220824_1,    P9,    35,  1,     18,     752,2,20220902,1623,1716,  8.3318, 136.9962, 2191,    505.3,      502,   7.7100,  34.5295,2,     87.9,2,  34.5291,2,    87.46,2,    45.44,2,    33.31,2,     0.00,2,    2.370,2, -999.000,9, -999.000,9,   -999.0,9,   -999.0,9,-999.0000,9,  -999.00, -999.000,9,  -999.00,9,  -999.00,9,   7.6593,2,  26.9545,2,   7.7097,2
49UP20220824_1,    P9,    35,  1,     17,     751,2,20220902,1623,1716,  8.3318, 136.9962, 2191,    505.5,      502,   7.7099,  34.5295,2,     87.8,2,  34.5288,2,    87.59,2,    45.43,2,    33.42,2,     0.00,2,    2.370,2, -999.000,9, -999.000,9,   -999.0,9,   -999.0,9,-999.0000,9,  -999.00, -999.000,9,  -999.00,9,  -999.00,9,   7.6592,2,  26.9545,2,   7.7093,2
49UP20220824_1,    P9,    35,  1,     16,     328,2,20220902,1623,1712,  8.3318, 136.9962, 2191,    605.2,      601,   6.8632,  34.5198,2,     89.6,2,  34.5195,6,    89.59,2,    53.50,2,    34.73,2,     0.00,2,    2.480,2, -999.000,9, -999.000,9,   -999.0,9,   -999.0,9,-999.0000,9,  -999.00, -999.000,9,  -999.00,9,  -999.00,9,   6.8059,2,  27.0671,2,   6.8633,2
49UP20220824_1,    P9,    35,  1,     12,     324,3,20220902,1623,1709,  8.3318, 136.9962, 2191,    706.2,      701,   6.3006,  34.5231,2,     87.0,2,  34.5229,2,    86.87,2,    60.63,2,    36.21,2,     0.00,2,    2.570,2, -999.000,9, -999.000,9,   -999.0,9,   -999.0,9,-999.0000,9,  -999.00, -999.000,9,  -999.00,9,  -999.00,9,   6.2362,2,  27.1455,2,   6.2996,2
49UP20220824_1,    P9,    35,  1,     11,     323,2,20220902,1623,1706,  8.3318, 136.9962, 2191,    805.9,      800,   5.6739,  34.5294,2,     84.2,2,  34.5287,2,    83.77,6,    71.11,6,    37.30,6,     0.00,6,    2.670,6, -999.000,9, -999.000,9,   -999.0,9,   -999.0,9,-999.0000,9,  -999.00, -999.000,9,  -999.00,9,  -999.00,9,   5.6037,2,  27.2302,2,   5.6738,2
49UP20220824_1,    P9,    35,  1,     10,     322,2,20220902,1623,1702,  8.3318, 136.9962, 2191,    906.6,      900,   5.1231,  34.5374,2,     83.9,2,  34.5364,2,    83.45,2,    81.09,2,    38.16,2,     0.00,2,    2.720,2, -999.000,9, -999.000,9,   -999.0,9,   -999.0,9,-999.0000,9,  -999.00, -999.000,9,  -999.00,9,  -999.00,9,   5.0473,2,  27.3030,2,   5.1223,2
49UP20220824_1,    P9,    35,  1,      9,     750,2,20220902,1623,1659,  8.3318, 136.9962, 2191,   1008.4,     1000,   4.6320,  34.5470,2,     85.6,2,  34.5464,2,    85.24,2,    90.45,2,    38.49,2,     0.00,2,    2.750,2, -999.000,9, -999.000,9,   -999.0,9,   -999.0,9,-999.0000,9,  -999.00, -999.000,9,  -999.00,9,  -999.00,9,   4.5507,2,  27.3669,2,   4.6318,2
49UP20220824_1,    P9,    35,  1,      8,     320,2,20220902,1623,1654,  8.3318, 136.9962, 2191,   1211.1,     1201,   3.8040,  34.5688,2,     90.6,2,  34.5685,2,    90.29,2,   107.06,2,    38.81,2,     0.00,2,    2.780,2, -999.000,9, -999.000,9,   -999.0,9,   -999.0,9,-999.0000,9,  -999.00, -999.000,9,  -999.00,9,  -999.00,9,   3.7122,2,  27.4725,2,   3.8039,2
49UP20220824_1,    P9,    35,  1,      7,     319,2,20220902,1623,1654,  8.3318, 136.9962, 2191,   1211.2,     1201,   3.8037,  34.5688,2,     90.6,2,  34.5684,2,    90.59,2,   107.27,2,    38.78,2,     0.00,2,    2.780,2, -999.000,9, -999.000,9,   -999.0,9,   -999.0,9,-999.0000,9,  -999.00, -999.000,9,  -999.00,9,  -999.00,9,   3.7119,2,  27.4725,2,   3.8036,2
49UP20220824_1,    P9,    35,  1,      6,     318,2,20220902,1623,1648,  8.3318, 136.9962, 2191,   1413.5,     1401,   3.2218,  34.5869,2,     96.5,2,  34.5866,6,    96.30,2,   118.76,2,    38.95,2,     0.00,2,    2.770,2, -999.000,9, -999.000,9,   -999.0,9,   -999.0,9,-999.0000,9,  -999.00, -999.000,9,  -999.00,9,  -999.00,9,   3.1187,2,  27.5444,2,   3.2216,2
49UP20220824_1,    P9,    35,  1,      5,     838,2,20220902,1623,1643,  8.3318, 136.9962, 2191,   1615.7,     1600,   2.7791,  34.6052,2,    103.1,2,  34.6054,2,   102.71,2,   127.65,2,    38.73,2,     0.00,2,    2.760,2, -999.000,9, -999.000,9,   -999.0,9,   -999.0,9,-999.0000,9,  -999.00, -999.000,9,  -999.00,9,  -999.00,9,   2.6641,2,  27.6000,2,   2.7791,2
49UP20220824_1,    P9,    35,  1,      4,     316,2,20220902,1623,1637,  8.3318, 136.9962, 2191,   1819.2,     1801,   2.4502,  34.6199,2,    109.8,2,  34.6203,2,   109.40,2,   133.89,2,    38.46,2,     0.00,2,    2.730,2, -999.000,9, -999.000,9,   -999.0,9,   -999.0,9,-999.0000,9,  -999.00, -999.000,9,  -999.00,9,  -999.00,9,   2.3225,2,  27.6409,2,   2.4481,2
49UP20220824_1,    P9,    35,  1,      3,     315,2,20220902,1623,1632,  8.3318, 136.9962, 2191,   2021.7,     2001,   2.2075,  34.6329,2,    116.5,2,  34.6331,6,   116.18,2,   137.94,2,    38.19,2,     0.00,2,    2.700,2, -999.000,9, -999.000,9,   -999.0,9,   -999.0,9,-999.0000,9,  -999.00, -999.000,9,  -999.00,9,  -999.00,9,   2.0661,2,  27.6723,2,   2.2071,2
49UP20220824_1,    P9,    35,  1,      2,     314,2,20220902,1623,1626,  8.3318, 136.9962, 2191,   2225.1,     2201,   2.0076,  34.6440,2,    123.3,2,  34.6448,2,   122.74,2,   140.71,2,    37.91,2,     0.00,2,    2.670,2, -999.000,9, -999.000,9,   -999.0,9,   -999.0,9,-999.0000,9,  -999.00, -999.000,9,  -999.00,9,  -999.00,9,   1.8518,2,  27.6980,2,   2.0067,2
49UP20220824_1,    P9,    35,  1,      1,     308,2,20220902,1623,1623,  8.3318, 136.9962, 2191,   2321.8,     2296,   1.9702,  34.6465,2,    124.9,2,  34.6457,2,   124.61,2,   141.14,2,    37.68,2,     0.00,2,    2.660,2, -999.000,9, -999.000,9,   -999.0,9,   -999.0,9,-999.0000,9,  -999.00, -999.000,9,  -999.00,9,  -999.00,9,   1.8065,2,  27.7035,2,   1.9703,2