BOTTLE,20230330JMAAMD
EXPOCODE,SECT_ID,STNNBR,CASTNO,SAMPNO,BTLNBR,BTLNBR_FLAG_U,DATE,TIME,BTL_TIME,LATITUDE,LONGITUDE,DEPTH,CTDPRS,CTDDEP,CTDTMP,CTDSAL,CTDSAL_FLAG_W,CTDOXY,CTDOXY_FLAG_W,SALNTY,SALNTY_FLAG_W,OXYGEN,OXYGEN_FLAG_W,SILCAT,SILCAT_FLAG_W,NO2+NO3,NO2+NO3_FLAG_W,NITRIT,NITRIT_FLAG_W,PHSPHT,PHSPHT_FLAG_W,CFC-11,CFC-11_FLAG_W,CFC-12,CFC-12_FLAG_W,TCARBN,TCARBN_FLAG_W,ALKALI,ALKALI_FLAG_W,PH_TS,PH_TS_FLAG_W,PH_TS_TMP,CFC113,CFC113_FLAG_W,CHLORA,CHLORA_FLAG_W,PPHYTN,PPHYTN_FLAG_W,THETA,THETA_FLAG_W,SIGTHT,SIGTHT_FLAG_W,SBE35,SBE35_FLAG_W
,,,,,,,,UTC,,,,METER,DBAR,METERS,ITS-90,PSS-78,,UMOL/KG,,PSS78,,UMOL/KG,,UMOL/KG,,UMOL/KG,,UMOL/KG,,UMOL/KG,,PMOL/KG,,PMOL/KG,,UMOL/KG,,UMOL/KG,,,,ITS-90,PMOL/KG,,UG/KG,,UG/KG,,ITS-90,,KG/M3,,ITS-90,
49UP20220727_1,    P9,     9,  1,      0,      -9,0,20220807,1720,1830,  0.9905, 141.9913, 3122,      0.0,        0,  29.5644,  35.1997,2,    195.2,2,  35.2078,2,   195.06,2,     1.34,2,     0.80,2,     0.07,2,    0.280,2, -999.000,9, -999.000,9,   1992.3,2,   2313.5,2,   8.0814,2,    25.00, -999.000,9,     0.22,2,     0.10,2,  29.5638,2,  22.0243,2,-999.0000,9
49UP20220727_1,    P9,     9,  1,     36,     757,2,20220807,1720,1902,  0.9905, 141.9913, 3122,     10.9,       11,  29.5648,  35.1989,2,    195.2,2,  35.1983,2,   195.13,2,     1.34,2,     0.84,2,     0.08,2,    0.250,2, -999.000,9, -999.000,9,   1992.6,2,   2313.2,2,   8.0814,2,    25.00, -999.000,9,     0.24,2,     0.09,2,  29.5622,2,  22.0243,2,  29.5652,2
49UP20220727_1,    P9,     9,  1,     35,     756,2,20220807,1720,1901,  0.9905, 141.9913, 3122,     25.2,       25,  29.4387,  35.2297,2,    191.8,2,  35.2273,2,   191.71,2,     1.42,2,     1.30,2,     0.22,2,    0.270,2, -999.000,9, -999.000,9,   1999.8,2,   2315.2,2,   8.0746,2,    25.00, -999.000,9,     0.36,2,     0.21,2,  29.4325,2,  22.0912,2,  29.4386,2
49UP20220727_1,    P9,     9,  1,     34,     323,2,20220807,1720,1856,  0.9905, 141.9913, 3122,     50.7,       50,  29.4208,  35.2999,2,    188.6,2,  35.2989,2,   188.75,2,     1.42,2,     1.81,2,     0.52,2,    0.320,2, -999.000,9, -999.000,9,   2008.7,2,   2318.7,2,   8.0669,2,    25.00, -999.000,9,     0.37,2,     0.29,2,  29.4084,2,  22.1520,2,  29.4208,2
49UP20220727_1,    P9,     9,  1,     33,     322,2,20220807,1720,1855,  0.9905, 141.9913, 3122,     76.2,       76,  29.4372,  35.3383,2,    187.8,2,  35.3368,2,   187.80,2,     1.56,2,     1.97,2,     0.64,2,    0.340,2, -999.000,9, -999.000,9,   2011.1,2,   2324.4,2,   8.0626,2,    25.00, -999.000,9,     0.34,2,     0.26,2,  29.4185,2,  22.1774,2,  29.4373,2
49UP20220727_1,    P9,     9,  1,     32,     321,2,20220807,1720,1854,  0.9905, 141.9913, 3122,    101.7,      101,  29.1560,  35.4479,2,    178.6,2,  35.4486,2,   178.65,2,     1.62,2,     3.67,2,     1.00,2,    0.440,2, -999.000,9, -999.000,9,   2029.8,2,   2328.5,2,   8.0423,2,    25.00, -999.000,9,     0.16,2,     0.18,2,  29.1312,2,  22.3565,2,  29.1551,2
49UP20220727_1,    P9,     9,  1,     31,     320,2,20220807,1720,1853,  0.9905, 141.9913, 3122,    127.9,      127,  28.1209,  35.5174,2,    166.0,2,  35.5167,2,   165.69,6,     2.07,6,     5.99,6,     0.07,6,    0.580,6, -999.000,9, -999.000,9,   2053.2,2,   2332.2,2,   8.0046,2,    25.00, -999.000,9,     0.05,4,     0.06,4,  28.0907,2,  22.7541,2,  28.1223,2
49UP20220727_1,    P9,     9,  1,     30,     319,2,20220807,1720,1851,  0.9905, 141.9913, 3122,    156.2,      155,  27.3071,  35.5509,2,    152.0,2,  35.5516,2,   152.31,2,     2.31,2,     7.41,2,     0.04,2,    0.660,2, -999.000,9, -999.000,9,   2069.1,6,   2333.9,6,   7.9788,2,    25.00, -999.000,9,     0.04,2,     0.04,2,  27.2709,2,  23.0458,2,  27.3062,2
49UP20220727_1,    P9,     9,  1,     29,     318,2,20220807,1720,1849,  0.9905, 141.9913, 3122,    200.4,      199,  19.6950,  35.5223,2,    134.0,2,  35.5248,2,   134.38,2,     4.80,2,    11.68,2,     0.01,2,    0.940,2, -999.000,9, -999.000,9,   2132.5,2,   2335.0,2,   7.8584,6,    25.00, -999.000,9,     0.00,2,     0.02,2,  19.6582,2,  25.2501,2,  19.6886,2
49UP20220727_1,    P9,     9,  1,     28,     755,2,20220807,1720,1848,  0.9905, 141.9913, 3122,    249.0,      247,  14.3230,  34.9761,2,    136.8,2,  34.9685,2,   136.53,2,    14.70,2,    17.63,2,     0.01,2,    1.310,2, -999.000,9, -999.000,9,   2156.6,2,   2309.7,2,   7.7535,2,    25.00, -999.000,9,  -999.00,9,  -999.00,9,  14.2864,2,  26.1080,2,  14.3243,2
49UP20220727_1,    P9,     9,  1,     27,     317,2,20220807,1720,1847,  0.9905, 141.9913, 3122,    250.1,      249,  14.2727,  34.9669,2,    136.8,2,  34.9575,2,   136.06,2,    14.99,2,    17.71,2,     0.00,2,    1.320,2, -999.000,9, -999.000,9,   2158.0,2,   2307.1,2,   7.7506,2,    25.00, -999.000,9,  -999.00,9,  -999.00,9,  14.2361,2,  26.1116,2,  14.2792,2
49UP20220727_1,    P9,     9,  1,     26,     316,2,20220807,1720,1846,  0.9905, 141.9913, 3122,    280.7,      279,  12.3621,  34.9201,2,    149.4,2,  34.9149,2,   149.70,6,    13.64,6,    19.46,6,     0.00,6,    1.420,6, -999.000,9, -999.000,9,   2163.9,2,   2306.8,2,   7.7341,2,    25.00, -999.000,9,  -999.00,9,  -999.00,9,  12.3247,2,  26.4644,2,  12.3650,2
49UP20220727_1,    P9,     9,  1,     24,     753,2,20220807,1720,1844,  0.9905, 141.9913, 3122,    324.4,      322,  11.0260,  34.7522,2,    137.8,2,  34.7627,2,   139.10,2,    20.88,2,    22.52,2,     0.00,2,    1.620,2, -999.000,9, -999.000,9,   2179.4,2,   2303.2,2,   7.6885,2,    25.00, -999.000,9,  -999.00,9,  -999.00,9,  10.9858,2,  26.5851,2,  11.0128,2
49UP20220727_1,    P9,     9,  1,     25,     315,2,20220807,1720,1844,  0.9905, 141.9913, 3122,    325.0,      323,  10.9824,  34.7488,2,    137.4,2,  34.7589,2,   138.31,2,    21.15,2,    22.61,2,     0.00,2,    1.620,2, -999.000,9, -999.000,9,   2178.8,2,   2303.6,2,   7.6879,2,    25.00, -999.000,9,  -999.00,9,  -999.00,9,  10.9423,2,  26.5903,2,  10.9839,2
49UP20220727_1,    P9,     9,  1,     23,     314,2,20220807,1720,1842,  0.9905, 141.9913, 3122,    374.1,      372,  10.1458,  34.7028,2,    136.9,2,  34.7034,2,   136.87,2,    23.40,2,    24.51,2,     0.00,2,    1.740,2, -999.000,9, -999.000,9,   2188.4,2,   2303.0,2,   7.6664,2,    25.00, -999.000,9,  -999.00,9,  -999.00,9,  10.1017,2,  26.7025,2,  10.1456,2
49UP20220727_1,    P9,     9,  1,     22,     313,2,20220807,1720,1840,  0.9905, 141.9913, 3122,    424.7,      422,   9.4839,  34.6694,2,    135.3,2,  34.6689,6,   135.13,2,    24.18,2,    25.98,2,     0.00,2,    1.830,2, -999.000,9, -999.000,9,   2194.5,2,   2300.0,2,   7.6448,2,    25.00, -999.000,9,  -999.00,9,  -999.00,9,   9.4358,2,  26.7884,2,   9.4830,2
49UP20220727_1,    P9,     9,  1,     21,     312,2,20220807,1720,1837,  0.9905, 141.9913, 3122,    473.0,      470,   8.2890,  34.5956,2,    125.6,2,  34.5958,2,   125.67,2,    29.96,2,    29.18,2,     0.00,2,    2.040,2, -999.000,9, -999.000,9,   2211.1,2,   2299.9,2,   7.6045,2,    25.00, -999.000,9,  -999.00,9,  -999.00,9,   8.2396,2,  26.9202,2,   8.2889,2
49UP20220727_1,    P9,     9,  1,     20,     311,2,20220807,1720,1835,  0.9905, 141.9913, 3122,    574.9,      571,   7.3088,  34.5547,2,    113.2,2,  34.5555,2,   113.63,2,    38.71,2,    32.41,2,     0.00,2,    2.270,2, -999.000,9, -999.000,9,   2229.6,2,   2308.6,2,   7.5642,2,    25.00, -999.000,9,  -999.00,9,  -999.00,9,   7.2525,2,  27.0327,2,   7.3089,2
49UP20220727_1,    P9,     9,  1,     19,     310,2,20220807,1720,1832,  0.9905, 141.9913, 3122,    676.0,      671,   6.5858,  34.5357,2,    111.3,2,  34.5354,2,   111.64,2,    45.10,2,    34.01,2,     0.00,2,    2.390,2, -999.000,9, -999.000,9,   2241.2,6,   2314.5,6,   7.5517,2,    25.00, -999.000,9,  -999.00,9,  -999.00,9,   6.5229,2,  27.1178,2,   6.5857,2
49UP20220727_1,    P9,     9,  1,     18,     752,2,20220807,1720,1828,  0.9905, 141.9913, 3122,    779.2,      773,   5.7013,  34.5167,2,    121.9,2,  34.5213,4,   116.72,2,    55.28,2,    34.80,2,     0.00,2,    2.450,2, -999.000,9, -999.000,9,   2251.0,2,   2320.7,2,   7.5484,6,    25.00, -999.000,9,  -999.00,9,  -999.00,9,   5.6335,2,  27.2166,2,   5.7017,2
49UP20220727_1,    P9,     9,  1,     17,     751,2,20220807,1720,1825,  0.9905, 141.9913, 3122,    878.8,      872,   4.9273,  34.5333,2,    111.8,2,  34.5335,6,   111.74,2,    71.27,2,    36.28,2,     0.00,2,    2.570,2, -999.000,9, -999.000,9,   2272.9,2,   2337.6,2,   7.5303,2,    25.00, -999.000,9,  -999.00,9,  -999.00,9,   4.8553,2,  27.3219,2,   4.9274,2
49UP20220727_1,    P9,     9,  1,     16,     328,2,20220807,1720,1822,  0.9905, 141.9913, 3122,    978.0,      970,   4.4912,  34.5484,2,    100.5,2,  34.5484,2,   100.70,2,    83.05,2,    37.81,2,     0.00,2,    2.690,2, -999.000,9, -999.000,9,   2290.7,2,   2353.4,2,   7.5142,2,    25.00, -999.000,9,  -999.00,9,  -999.00,9,   4.4136,2,  27.3830,2,   4.4912,2
49UP20220727_1,    P9,     9,  1,     15,     309,2,20220807,1720,1818,  0.9905, 141.9913, 3122,   1138.8,     1129,   4.0448,  34.5640,2,     99.7,2,  34.5638,2,    99.82,2,    94.99,2,    38.15,2,     0.00,2,    2.710,2, -999.000,9, -999.000,9,   2303.3,2,   2363.6,2,   7.5113,2,    25.00, -999.000,9,  -999.00,9,  -999.00,9,   3.9570,2,  27.4438,2,   4.0447,2
49UP20220727_1,    P9,     9,  1,     14,     326,2,20220807,1720,1813,  0.9905, 141.9913, 3122,   1341.0,     1329,   3.3903,  34.5848,2,    102.0,2,  34.5852,2,   102.17,6,   108.84,6,    38.60,6,     0.00,6,    2.740,6, -999.000,9, -999.000,9,   2317.9,2,   2373.4,2,   7.5131,2,    25.00, -999.000,9,  -999.00,9,  -999.00,9,   3.2915,2,  27.5264,2,   3.3906,2
49UP20220727_1,    P9,     9,  1,     13,     325,2,20220807,1720,1809,  0.9905, 141.9913, 3122,   1543.6,     1529,   2.9493,  34.6012,2,    110.2,2,  34.6013,2,   110.16,2,   117.01,2,    38.24,2,     0.00,2,    2.710,2, -999.000,9, -999.000,9,   2322.5,2,   2389.2,2,   7.5271,2,    25.00, -999.000,9,  -999.00,9,  -999.00,9,   2.8383,2,  27.5814,2,   2.9493,2
49UP20220727_1,    P9,     9,  1,     12,     324,2,20220807,1720,1808,  0.9905, 141.9913, 3122,   1543.6,     1529,   2.9489,  34.6013,2,    110.2,2,  34.6011,2,   110.23,2,   116.88,2,    38.21,2,     0.00,2,    2.710,2, -999.000,9, -999.000,9,   2321.9,2,   2388.8,2,   7.5241,2,    25.00, -999.000,9,  -999.00,9,  -999.00,9,   2.8379,2,  27.5815,2,   2.9492,2
49UP20220727_1,    P9,     9,  1,     11,     323,2,20220807,1720,1803,  0.9905, 141.9913, 3122,   1747.4,     1731,   2.5443,  34.6198,2,    112.7,2,  34.6191,6,   112.26,2,   128.07,2,    38.27,2,     0.00,2,    2.700,2, -999.000,9, -999.000,9,   2331.6,6,   2399.8,6,   7.5268,2,    25.00, -999.000,9,  -999.00,9,  -999.00,9,   2.4213,2,  27.6326,2,   2.5444,2
49UP20220727_1,    P9,     9,  1,     10,     322,2,20220807,1720,1758,  0.9905, 141.9913, 3122,   1950.1,     1930,   2.3344,  34.6301,2,    115.9,2,  34.6297,2,   115.69,2,   133.37,2,    38.15,2,     0.00,2,    2.690,2, -999.000,9, -999.000,9,   2335.6,2,   2403.4,2,   7.5312,6,    25.00, -999.000,9,  -999.00,9,  -999.00,9,   2.1972,2,  27.6595,2,   2.3344,2
49UP20220727_1,    P9,     9,  1,      9,     750,2,20220807,1720,1753,  0.9905, 141.9913, 3122,   2152.9,     2130,   2.1104,  34.6412,2,    120.5,2,  34.6408,2,   120.21,2,   138.24,2,    37.91,2,     0.00,2,    2.660,2, -999.000,9, -999.000,9,   2337.0,2,   2408.5,2,   7.5385,2,    25.00, -999.000,9,  -999.00,9,  -999.00,9,   1.9592,2,  27.6875,2,   2.1095,2
49UP20220727_1,    P9,     9,  1,      8,     320,2,20220807,1720,1742,  0.9905, 141.9913, 3122,   2356.5,     2330,   1.8760,  34.6533,2,    127.8,2,  34.6534,2,   127.90,6,   142.17,6,    37.53,6,     0.00,6,    2.630,6, -999.000,9, -999.000,9,   2338.6,2,   2410.8,2,   7.5497,2,    25.00, -999.000,9,  -999.00,9,  -999.00,9,   1.7109,2,  27.7163,2,   1.8761,2
49UP20220727_1,    P9,     9,  1,      7,     319,2,20220807,1720,1737,  0.9905, 141.9913, 3122,   2559.5,     2530,   1.7949,  34.6579,2,    132.2,2,  34.6579,2,   132.15,2,   142.84,2,    37.20,2,     0.00,2,    2.600,2, -999.000,9, -999.000,9,   2334.1,2,   2415.6,2,   7.5546,2,    25.00, -999.000,9,  -999.00,9,  -999.00,9,   1.6130,2,  27.7273,2,   1.7949,2
49UP20220727_1,    P9,     9,  1,      6,     318,2,20220807,1720,1737,  0.9905, 141.9913, 3122,   2559.6,     2530,   1.7947,  34.6581,2,    132.2,2,  34.6575,2,   132.16,2,   142.79,2,    37.22,2,     0.00,2,    2.600,2, -999.000,9, -999.000,9,   2335.9,2,   2413.9,2,   7.5558,2,    25.00, -999.000,9,  -999.00,9,  -999.00,9,   1.6128,2,  27.7275,2,   1.7948,2
49UP20220727_1,    P9,     9,  1,      5,     838,2,20220807,1720,1730,  0.9905, 141.9913, 3122,   2764.4,     2731,   1.6560,  34.6660,2,    139.3,2,  34.6657,2,   139.16,2,   143.58,2,    36.78,2,     0.00,2,    2.560,2, -999.000,9, -999.000,9,   2332.8,2,   2415.3,2,   7.5657,2,    25.00, -999.000,9,  -999.00,9,  -999.00,9,   1.4581,2,  27.7451,2,   1.6560,2
49UP20220727_1,    P9,     9,  1,      4,     316,2,20220807,1720,1725,  0.9905, 141.9913, 3122,   2970.0,     2933,   1.6105,  34.6696,2,    142.6,2,  34.6705,2,   142.49,2,   143.52,2,    36.50,2,     0.00,2,    2.540,2, -999.000,9, -999.000,9,   2331.7,2,   2414.7,2,   7.5726,2,    25.00, -999.000,9,  -999.00,9,  -999.00,9,   1.3942,2,  27.7527,2,   1.6105,2
49UP20220727_1,    P9,     9,  1,      3,     315,2,20220807,1720,1720,  0.9905, 141.9913, 3122,   3137.8,     3098,   1.5936,  34.6722,2,    143.6,2,  34.6720,6,   143.21,2,   144.28,2,    36.50,2,     0.00,2,    2.540,2, -999.000,9, -999.000,9,   2333.5,2,   2417.9,2,   7.5758,2,    25.00, -999.000,9,  -999.00,9,  -999.00,9,   1.3614,2,  27.7571,2,   1.5937,2