BOTTLE,20230330JMAAMD
EXPOCODE,SECT_ID,STNNBR,CASTNO,SAMPNO,BTLNBR,BTLNBR_FLAG_U,DATE,TIME,BTL_TIME,LATITUDE,LONGITUDE,DEPTH,CTDPRS,CTDDEP,CTDTMP,CTDSAL,CTDSAL_FLAG_W,CTDOXY,CTDOXY_FLAG_W,SALNTY,SALNTY_FLAG_W,OXYGEN,OXYGEN_FLAG_W,SILCAT,SILCAT_FLAG_W,NO2+NO3,NO2+NO3_FLAG_W,NITRIT,NITRIT_FLAG_W,PHSPHT,PHSPHT_FLAG_W,CFC-11,CFC-11_FLAG_W,CFC-12,CFC-12_FLAG_W,TCARBN,TCARBN_FLAG_W,ALKALI,ALKALI_FLAG_W,PH_TS,PH_TS_FLAG_W,PH_TS_TMP,CFC113,CFC113_FLAG_W,CHLORA,CHLORA_FLAG_W,PPHYTN,PPHYTN_FLAG_W,THETA,THETA_FLAG_W,SIGTHT,SIGTHT_FLAG_W,SBE35,SBE35_FLAG_W
,,,,,,,,UTC,,,,METER,DBAR,METERS,ITS-90,PSS-78,,UMOL/KG,,PSS78,,UMOL/KG,,UMOL/KG,,UMOL/KG,,UMOL/KG,,UMOL/KG,,PMOL/KG,,PMOL/KG,,UMOL/KG,,UMOL/KG,,,,ITS-90,PMOL/KG,,UG/KG,,UG/KG,,ITS-90,,KG/M3,,ITS-90,
49UP20220824_1,    P9,    59,  1,      0,      -9,0,20220910,2213,2355, 19.9983, 137.0103, 4766,      0.0,        0,  30.2861,  34.0794,2,    192.4,2,  34.0704,2,   193.00,2,     1.10,2,     0.06,2,     0.00,2,    0.030,2, -999.000,9, -999.000,9,   1911.9,2,   2235.8,2,   8.1104,2,    25.00, -999.000,9,     0.06,2,     0.02,2,  30.2855,2,  20.9387,2,-999.0000,9
49UP20220824_1,    P9,    59,  1,     36,     757,2,20220910,2213,0023, 19.9983, 137.0103, 4766,     10.5,       10,  30.2961,  34.0832,2,    192.4,2,  34.0921,2,   193.19,2,     1.19,2,     0.07,2,     0.00,2,    0.010,2, -999.000,9, -999.000,9,   1917.4,2,   2239.7,2,   8.1089,2,    25.00, -999.000,9,     0.05,2,     0.02,2,  30.2935,2,  20.9388,2,  30.3129,2
49UP20220824_1,    P9,    59,  1,     35,     756,2,20220910,2213,0021, 19.9983, 137.0103, 4766,     24.8,       25,  30.2284,  34.1257,2,    192.7,2,  34.1197,2,   193.58,2,     1.19,2,     0.04,2,     0.00,2,    0.010,2, -999.000,9, -999.000,9,   1917.4,2,   2241.0,2,   8.1079,2,    25.00, -999.000,9,     0.06,2,     0.02,2,  30.2222,2,  20.9950,2,  30.2283,2
49UP20220824_1,    P9,    59,  1,     34,     323,2,20220910,2213,0018, 19.9983, 137.0103, 4766,     50.6,       50,  28.2721,  34.4097,2,    212.9,2,  34.4076,2,   212.42,2,     1.25,2,     0.00,2,     0.00,2,    0.000,2, -999.000,9, -999.000,9,   1941.5,2,   2260.2,2,   8.0922,2,    25.00, -999.000,9,     0.10,2,     0.04,2,  28.2601,2,  21.8657,2,  28.2846,2
49UP20220824_1,    P9,    59,  1,     33,     322,2,20220910,2213,0016, 19.9983, 137.0103, 4766,     75.2,       75,  24.6721,  34.7127,2,    207.4,2,  34.7124,2,   206.55,2,     1.35,2,     0.00,2,     0.00,2,    0.020,2, -999.000,9, -999.000,9,   1979.8,2,   2279.8,2,   8.0559,2,    25.00, -999.000,9,     0.12,2,     0.07,2,  24.6559,2,  23.2281,2,  24.7224,2
49UP20220824_1,    P9,    59,  1,     32,     321,2,20220910,2213,0015, 19.9983, 137.0103, 4766,    101.3,      101,  23.3347,  34.7537,2,    201.8,2,  34.7543,2,   202.99,2,     1.51,2,     0.02,2,     0.01,2,    0.030,2, -999.000,9, -999.000,9,   1994.3,2,   2281.8,2,   8.0364,2,    25.00, -999.000,9,     0.18,2,     0.32,2,  23.3138,2,  23.6561,2,  23.3474,2
49UP20220824_1,    P9,    59,  1,     31,     320,2,20220910,2213,0013, 19.9983, 137.0103, 4766,    126.6,      126,  21.8152,  34.8529,2,    191.2,2,  34.8524,2,   192.11,2,     1.88,2,     1.28,2,     0.03,2,    0.100,2, -999.000,9, -999.000,9,   2019.9,2,   2289.6,2,   7.9961,2,    25.00, -999.000,9,     0.04,2,     0.05,2,  21.7903,2,  24.1646,2,  21.8100,2
49UP20220824_1,    P9,    59,  1,     30,     319,2,20220910,2213,0012, 19.9983, 137.0103, 4766,    151.6,      151,  20.7150,  34.8660,2,    190.5,2,  34.8684,2,   191.07,6,     2.25,6,     1.96,6,     0.02,6,    0.150,6, -999.000,9, -999.000,9,   2033.4,2,   2289.2,2,   7.9732,2,    25.00, -999.000,9,     0.01,2,     0.02,2,  20.6863,2,  24.4768,2,  20.7049,2
49UP20220824_1,    P9,    59,  1,     29,     318,2,20220910,2213,0010, 19.9983, 137.0103, 4766,    201.6,      200,  18.9388,  34.8134,2,    190.4,2,  34.8146,2,   190.65,2,     3.23,2,     3.61,2,     0.01,2,    0.260,2, -999.000,9, -999.000,9,   2049.0,2,   2287.4,2,   7.9431,2,    25.00, -999.000,9,     0.00,2,     0.01,2,  18.9030,2,  24.9032,2,  18.9393,2
49UP20220824_1,    P9,    59,  1,     28,     755,2,20220910,2213,0008, 19.9983, 137.0103, 4766,    252.5,      251,  17.5891,  34.7549,2,    193.7,2,  34.7561,2,   194.09,2,     4.60,2,     5.27,2,     0.01,2,    0.360,2, -999.000,9, -999.000,9,   2059.7,2,   2283.7,2,   7.9219,6,    25.00, -999.000,9,  -999.00,9,  -999.00,9,  17.5465,2,  25.1951,2,  17.5893,2
49UP20220824_1,    P9,    59,  1,     27,     317,2,20220910,2213,0006, 19.9983, 137.0103, 4766,    303.7,      302,  16.4332,  34.6822,2,    191.7,2,  34.6834,2,   191.76,2,     6.54,2,     7.13,2,     0.00,2,    0.480,2, -999.000,9, -999.000,9,   2069.3,6,   2279.2,6,   7.8928,2,    25.00, -999.000,9,  -999.00,9,  -999.00,9,  16.3842,2,  25.4147,2,  16.4338,2
49UP20220824_1,    P9,    59,  1,     26,     316,2,20220910,2213,0004, 19.9983, 137.0103, 4766,    353.5,      351,  14.5732,  34.5329,2,    185.2,2,  34.5334,2,   185.57,2,    11.19,2,    10.52,2,     0.00,2,    0.730,2, -999.000,9, -999.000,9,   2090.4,2,   2272.7,2,   7.8375,2,    25.00, -999.000,9,  -999.00,9,  -999.00,9,  14.5206,2,  25.7157,2,  14.5737,2
49UP20220824_1,    P9,    59,  1,     25,     315,2,20220910,2213,0002, 19.9983, 137.0103, 4766,    402.3,      399,  12.8605,  34.3929,2,    180.5,2,  34.3951,2,   180.81,2,    15.73,2,    13.54,2,     0.00,2,    0.960,2, -999.000,9, -999.000,9,   2108.1,2,   2270.3,2,   7.7837,2,    25.00, -999.000,9,  -999.00,9,  -999.00,9,  12.8054,2,  25.9612,2,  12.8677,2
49UP20220824_1,    P9,    59,  1,     24,     753,2,20220910,2213,2359, 19.9983, 137.0103, 4766,    452.9,      450,  11.0722,  34.2691,2,    167.4,2,  34.2700,2,   167.53,2,    23.11,2,    17.81,2,     0.00,2,    1.280,2, -999.000,9, -999.000,9,   2137.5,2,   2270.3,2,   7.7138,2,    25.00, -999.000,9,  -999.00,9,  -999.00,9,  11.0159,2,  26.2034,2,  11.0745,2
49UP20220824_1,    P9,    59,  1,     23,     314,2,20220910,2213,2357, 19.9983, 137.0103, 4766,    505.0,      501,   9.5281,  34.1958,2,    146.3,2,  34.1972,2,   146.07,2,    33.01,2,    22.56,2,     0.00,2,    1.630,2, -999.000,9, -999.000,9,   2172.5,2,   2274.4,2,   7.6384,2,    25.00, -999.000,9,  -999.00,9,  -999.00,9,   9.4709,2,  26.4122,2,   9.5279,2
49UP20220824_1,    P9,    59,  1,     22,     313,2,20220910,2213,2355, 19.9983, 137.0103, 4766,    605.6,      601,   7.3597,  34.1515,2,    108.5,2,  34.1549,2,   108.26,2,    54.13,2,    30.09,2,     0.00,2,    2.180,2, -999.000,9, -999.000,9,   2225.2,2,   2289.2,2,   7.5249,2,    25.00, -999.000,9,  -999.00,9,  -999.00,9,   7.3005,2,  26.7086,2,   7.3596,2
49UP20220824_1,    P9,    59,  1,     21,     312,2,20220910,2213,2352, 19.9983, 137.0103, 4766,    705.4,      700,   5.9924,  34.2241,2,     74.3,2,  34.2252,2,    74.40,6,    73.68,6,    35.66,6,     0.00,6,    2.590,6, -999.000,9, -999.000,9,   2273.7,2,   2310.8,2,   7.4499,2,    25.00, -999.000,9,  -999.00,9,  -999.00,9,   5.9301,2,  26.9484,2,   5.9924,2
49UP20220824_1,    P9,    59,  1,     20,     311,2,20220910,2213,2349, 19.9983, 137.0103, 4766,    807.9,      801,   4.9635,  34.3048,2,     61.6,2,  34.3063,2,    61.52,2,    92.55,2,    38.58,2,     0.00,2,    2.790,2, -999.000,9, -999.000,9,   2303.7,2,   2334.4,2,   7.4207,2,    25.00, -999.000,9,  -999.00,9,  -999.00,9,   4.8978,2,  27.1358,2,   4.9658,2
49UP20220824_1,    P9,    59,  1,     19,     310,2,20220910,2213,2346, 19.9983, 137.0103, 4766,    908.7,      901,   4.4016,  34.3930,2,     62.7,2,  34.3927,2,    62.57,2,   103.72,2,    39.38,2,     0.00,2,    2.840,2, -999.000,9, -999.000,9,   2318.5,2,   2351.3,2,   7.4274,6,    25.00, -999.000,9,  -999.00,9,  -999.00,9,   4.3308,2,  27.2685,2,   4.4012,2
49UP20220824_1,    P9,    59,  1,     18,     752,2,20220910,2213,2343, 19.9983, 137.0103, 4766,   1009.6,     1001,   3.8855,  34.4429,2,     66.0,2,  34.4451,4,    66.25,2,   114.56,2,    39.74,2,     0.00,2,    2.860,2, -999.000,9, -999.000,9,   2330.9,6,   2366.9,6,   7.4371,2,    25.00, -999.000,9,  -999.00,9,  -999.00,9,   3.8100,2,  27.3625,2,   3.8849,2
49UP20220824_1,    P9,    59,  1,     17,     751,2,20220910,2213,2338, 19.9983, 137.0103, 4766,   1212.1,     1201,   3.2503,  34.5162,2,     79.2,2,  34.5164,2,    79.72,2,   126.37,2,    39.54,2,     0.00,2,    2.820,2, -999.000,9, -999.000,9,   2332.9,2,   2381.1,2,   7.4611,2,    25.00, -999.000,9,  -999.00,9,  -999.00,9,   3.1636,2,  27.4838,2,   3.2502,2
49UP20220824_1,    P9,    59,  1,     16,     328,2,20220910,2213,2334, 19.9983, 137.0103, 4766,   1415.1,     1402,   2.8228,  34.5616,2,     91.9,2,  34.5628,4,    92.03,2,   132.93,2,    38.88,2,     0.00,2,    2.780,2, -999.000,9, -999.000,9,   2338.2,2,   2393.6,2,   7.4848,2,    25.00, -999.000,9,  -999.00,9,  -999.00,9,   2.7239,2,  27.5599,2,   2.8228,2
49UP20220824_1,    P9,    59,  1,     15,     309,2,20220910,2213,2329, 19.9983, 137.0103, 4766,   1617.8,     1602,   2.5003,  34.5860,2,    100.8,2,  34.5868,2,   101.09,2,   137.69,2,    38.59,2,     0.00,2,    2.740,2, -999.000,9, -999.000,9,   2338.2,2,   2398.8,2,   7.4979,2,    25.00, -999.000,9,  -999.00,9,  -999.00,9,   2.3887,2,  27.6083,2,   2.5003,2
49UP20220824_1,    P9,    59,  1,     14,     326,2,20220910,2213,2324, 19.9983, 137.0103, 4766,   1819.7,     1801,   2.2779,  34.6048,2,    108.3,2,  34.6051,2,   108.53,2,   140.25,2,    38.55,2,     0.00,2,    2.710,2, -999.000,9, -999.000,9,   2340.6,2,   2403.1,2,   7.5124,6,    25.00, -999.000,9,  -999.00,9,  -999.00,9,   2.1526,2,  27.6428,2,   2.2780,2
49UP20220824_1,    P9,    59,  1,     13,     325,2,20220910,2213,2319, 19.9983, 137.0103, 4766,   2023.7,     2002,   2.0918,  34.6205,2,    114.3,2,  34.6205,2,   114.83,2,   142.24,2,    38.33,2,     0.00,2,    2.690,2, -999.000,9, -999.000,9,   2338.9,6,   2407.8,6,   7.5229,2,    25.00, -999.000,9,  -999.00,9,  -999.00,9,   1.9520,2,  27.6714,2,   2.0919,2
49UP20220824_1,    P9,    59,  1,     12,     324,2,20220910,2213,2314, 19.9983, 137.0103, 4766,   2226.1,     2201,   1.9048,  34.6360,2,    121.1,2,  34.6367,2,   121.19,6,   144.83,6,    38.02,6,     0.00,6,    2.660,6, -999.000,9, -999.000,9,   2342.8,2,   2409.9,2,   7.5301,2,    25.00, -999.000,9,  -999.00,9,  -999.00,9,   1.7506,2,  27.6994,2,   1.9048,2
49UP20220824_1,    P9,    59,  1,     11,     323,2,20220910,2213,2309, 19.9983, 137.0103, 4766,   2429.4,     2401,   1.8067,  34.6442,2,    127.1,2,  34.6449,6,   126.93,2,   144.83,2,    37.62,2,     0.00,2,    2.630,2, -999.000,9, -999.000,9,   2337.2,2,   2409.9,2,   7.5421,2,    25.00, -999.000,9,  -999.00,9,  -999.00,9,   1.6364,2,  27.7146,2,   1.8068,2
49UP20220824_1,    P9,    59,  1,     10,     322,2,20220910,2213,2305, 19.9983, 137.0103, 4766,   2633.8,     2601,   1.7398,  34.6495,2,    132.0,2,  34.6497,2,   131.88,2,   144.62,2,    37.33,2,     0.00,2,    2.610,2, -999.000,9, -999.000,9,   2331.6,2,   2412.4,2,   7.5491,2,    25.00, -999.000,9,  -999.00,9,  -999.00,9,   1.5523,2,  27.7251,2,   1.7398,2
49UP20220824_1,    P9,    59,  1,      9,     750,2,20220910,2213,2258, 19.9983, 137.0103, 4766,   2836.8,     2801,   1.6837,  34.6562,2,    136.4,2,  34.6569,2,   136.13,2,   144.54,2,    37.10,2,     0.00,2,    2.580,2, -999.000,9, -999.000,9,   2331.9,2,   2411.5,2,   7.5567,2,    25.00, -999.000,9,  -999.00,9,  -999.00,9,   1.4785,2,  27.7359,2,   1.6838,2
49UP20220824_1,    P9,    59,  1,      8,     320,2,20220910,2213,2254, 19.9983, 137.0103, 4766,   3041.1,     3001,   1.6403,  34.6619,2,    140.2,2,  34.6624,2,   140.05,2,   144.27,2,    36.78,2,     0.00,2,    2.560,2, -999.000,9, -999.000,9,   2326.1,2,   2412.8,2,   7.5611,2,    25.00, -999.000,9,  -999.00,9,  -999.00,9,   1.4165,2,  27.7449,2,   1.6403,2
49UP20220824_1,    P9,    59,  1,      7,     319,2,20220910,2213,2248, 19.9983, 137.0103, 4766,   3297.5,     3252,   1.5868,  34.6691,2,    145.4,2,  34.6697,2,   145.37,2,   143.83,2,    36.53,2,     0.00,2,    2.540,2, -999.000,9, -999.000,9,   2327.8,2,   2412.1,2,   7.5712,2,    25.00, -999.000,9,  -999.00,9,  -999.00,9,   1.3391,2,  27.7562,2,   1.5867,2
49UP20220824_1,    P9,    59,  1,      6,     318,2,20220910,2213,2242, 19.9983, 137.0103, 4766,   3553.6,     3502,   1.5580,  34.6743,2,    149.2,2,  34.6743,2,   149.26,2,   143.31,2,    36.19,2,     0.00,2,    2.520,2, -999.000,9, -999.000,9,   2326.5,2,   2412.4,2,   7.5765,2,    25.00, -999.000,9,  -999.00,9,  -999.00,9,   1.2849,2,  27.7642,2,   1.5580,2
49UP20220824_1,    P9,    59,  1,      5,     838,2,20220910,2213,2237, 19.9983, 137.0103, 4766,   3808.6,     3752,   1.5478,  34.6775,2,    152.0,2,  34.6785,2,   152.18,2,   142.80,2,    36.07,2,     0.00,2,    2.500,2, -999.000,9, -999.000,9,   2325.4,2,   2410.0,2,   7.5789,2,    25.00, -999.000,9,  -999.00,9,  -999.00,9,   1.2483,2,  27.7693,2,   1.5479,2
49UP20220824_1,    P9,    59,  1,      4,     316,2,20220910,2213,2231, 19.9983, 137.0103, 4766,   4065.1,     4002,   1.5092,  34.6828,2,    157.1,2,  34.6848,4,   157.29,2,   141.63,2,    35.72,2,     0.00,2,    2.470,2, -999.000,9, -999.000,9,   2320.0,2,   2409.6,2,   7.5882,2,    25.00, -999.000,9,  -999.00,9,  -999.00,9,   1.1830,2,  27.7781,2,   1.5093,2
49UP20220824_1,    P9,    59,  1,      3,     315,2,20220910,2213,2225, 19.9983, 137.0103, 4766,   4321.7,     4252,   1.5182,  34.6844,2,    158.8,2,  34.6850,2,   159.12,6,   141.29,6,    35.40,6,     0.00,6,    2.470,6, -999.000,9, -999.000,9,   2317.4,2,   2409.6,2,   7.5894,2,    25.00, -999.000,9,  -999.00,9,  -999.00,9,   1.1631,2,  27.7808,2,   1.5183,2
49UP20220824_1,    P9,    59,  1,      2,     314,2,20220910,2213,2219, 19.9983, 137.0103, 4766,   4578.1,     4502,   1.5411,  34.6848,2,    159.5,2,  34.6847,2,   159.77,2,   141.12,2,    35.57,2,     0.00,2,    2.460,2, -999.000,9, -999.000,9,   2315.4,2,   2409.6,2,   7.5924,2,    25.00, -999.000,9,  -999.00,9,  -999.00,9,   1.1558,2,  27.7816,2,   1.5410,2
49UP20220824_1,    P9,    59,  1,      1,     308,2,20220910,2213,2213, 19.9983, 137.0103, 4766,   4851.2,     4767,   1.5730,  34.6852,2,    159.8,2,  34.6850,2,   159.94,2,   141.08,2,    35.52,2,     0.00,2,    2.460,2, -999.000,9, -999.000,9,   2317.4,2,   2411.0,2,   7.5918,2,    25.00, -999.000,9,  -999.00,9,  -999.00,9,   1.1544,2,  27.7820,2,   1.5731,2