BOTTLE,20230330JMAAMD
EXPOCODE,SECT_ID,STNNBR,CASTNO,SAMPNO,BTLNBR,BTLNBR_FLAG_U,DATE,TIME,BTL_TIME,LATITUDE,LONGITUDE,DEPTH,CTDPRS,CTDDEP,CTDTMP,CTDSAL,CTDSAL_FLAG_W,CTDOXY,CTDOXY_FLAG_W,SALNTY,SALNTY_FLAG_W,OXYGEN,OXYGEN_FLAG_W,SILCAT,SILCAT_FLAG_W,NO2+NO3,NO2+NO3_FLAG_W,NITRIT,NITRIT_FLAG_W,PHSPHT,PHSPHT_FLAG_W,CFC-11,CFC-11_FLAG_W,CFC-12,CFC-12_FLAG_W,TCARBN,TCARBN_FLAG_W,ALKALI,ALKALI_FLAG_W,PH_TS,PH_TS_FLAG_W,PH_TS_TMP,CFC113,CFC113_FLAG_W,CHLORA,CHLORA_FLAG_W,PPHYTN,PPHYTN_FLAG_W,THETA,THETA_FLAG_W,SIGTHT,SIGTHT_FLAG_W,SBE35,SBE35_FLAG_W
,,,,,,,,UTC,,,,METER,DBAR,METERS,ITS-90,PSS-78,,UMOL/KG,,PSS78,,UMOL/KG,,UMOL/KG,,UMOL/KG,,UMOL/KG,,UMOL/KG,,PMOL/KG,,PMOL/KG,,UMOL/KG,,UMOL/KG,,,,ITS-90,PMOL/KG,,UG/KG,,UG/KG,,ITS-90,,KG/M3,,ITS-90,
49UP20220727_1,    P9,    17,  1,      0,      -9,0,20220810,1533,1715,  2.5965, 138.9900, 4310,      0.0,        0,  30.3224,  34.6892,2,    193.2,2,  34.6921,2,   193.96,2,     1.22,2,     0.02,2,     0.00,2,    0.180,2, -999.000,9, -999.000,9,   1949.0,2,   2279.8,2,   8.1069,2,    25.00, -999.000,9,     0.07,2,     0.02,2,  30.3218,2,  21.3830,2,-999.0000,9
49UP20220727_1,    P9,    17,  1,     36,     757,2,20220810,1533,1753,  2.5965, 138.9900, 4310,     10.7,       11,  30.3272,  34.6889,2,    193.2,2,  34.6882,2,   193.72,6,     1.23,6,     0.04,6,     0.00,6,    0.150,6, -999.000,9, -999.000,9,   1949.0,2,   2279.8,2,   8.1060,2,    25.00, -999.000,9,     0.07,2,     0.02,2,  30.3245,2,  21.3819,2,  30.3131,2
49UP20220727_1,    P9,    17,  1,     35,     756,2,20220810,1533,1751,  2.5965, 138.9900, 4310,     25.7,       26,  30.0955,  34.6768,2,    194.6,2,  34.6750,2,   195.01,2,     1.22,2,     0.03,2,     0.00,2,    0.150,2, -999.000,9, -999.000,9,   1948.9,2,   2277.6,2,   8.1058,2,    25.00, -999.000,9,     0.07,2,     0.03,2,  30.0892,2,  21.4534,2,  30.0947,2
49UP20220727_1,    P9,    17,  1,     34,     323,2,20220810,1533,1745,  2.5965, 138.9900, 4310,     50.5,       50,  30.1391,  35.0779,2,    195.5,2,  35.0826,2,   195.54,2,     1.18,2,     0.03,2,     0.01,2,    0.170,2, -999.000,9, -999.000,9,   1977.2,2,   2305.6,2,   8.0965,2,    25.00, -999.000,9,     0.17,2,     0.07,2,  30.1266,2,  21.7413,2,  30.1379,2
49UP20220727_1,    P9,    17,  1,     33,     322,2,20220810,1533,1744,  2.5965, 138.9900, 4310,     75.5,       75,  29.3421,  35.2347,2,    174.9,2,  35.2216,2,   176.28,2,     1.67,2,     2.46,2,     0.38,2,    0.350,2, -999.000,9, -999.000,9,   2009.0,2,   2313.0,2,   8.0508,2,    25.00, -999.000,9,     0.38,2,     0.48,2,  29.3236,2,  22.1317,2,  29.3210,2
49UP20220727_1,    P9,    17,  1,     32,     321,2,20220810,1533,1742,  2.5965, 138.9900, 4310,    100.6,      100,  29.4283,  35.3627,2,    179.9,2,  35.3630,2,   180.01,2,     1.54,2,     2.59,2,     0.38,2,    0.370,2, -999.000,9, -999.000,9,   2017.2,2,   2323.1,2,   8.0527,2,    25.00, -999.000,9,     0.28,2,     0.44,2,  29.4037,2,  22.2007,2,  29.4314,2
49UP20220727_1,    P9,    17,  1,     31,     320,2,20220810,1533,1740,  2.5965, 138.9900, 4310,    126.2,      125,  29.0071,  35.3006,2,    169.9,2,  35.2978,2,   169.32,6,     1.79,6,     3.72,6,     0.12,6,    0.430,6, -999.000,9, -999.000,9,   2023.9,2,   2319.1,2,   8.0321,2,    25.00, -999.000,9,     0.13,2,     0.22,2,  28.9765,2,  22.2976,2,  29.0121,2
49UP20220727_1,    P9,    17,  1,     30,     319,2,20220810,1533,1739,  2.5965, 138.9900, 4310,    151.3,      150,  27.8757,  35.2195,2,    152.3,2,  35.2224,2,   152.50,2,     2.51,2,     5.91,2,     0.03,2,    0.550,2, -999.000,9, -999.000,9,   2040.8,2,   2310.9,2,   7.9952,2,    25.00, -999.000,9,     0.07,2,     0.18,2,  27.8401,2,  22.6119,2,  27.8915,2
49UP20220727_1,    P9,    17,  1,     29,     318,2,20220810,1533,1737,  2.5965, 138.9900, 4310,    201.5,      200,  21.8231,  34.8348,2,    144.9,2,  34.8306,2,   145.20,2,     7.79,2,     8.70,2,     0.01,2,    0.690,2, -999.000,9, -999.000,9,   2073.9,2,   2290.8,2,   7.8982,2,    25.00, -999.000,9,     0.02,2,     0.05,2,  21.7835,2,  24.1527,2,  21.8411,2
49UP20220727_1,    P9,    17,  1,     28,     755,2,20220810,1533,1735,  2.5965, 138.9900, 4310,    251.8,      250,  12.9864,  34.5140,2,    110.9,2,  34.5076,2,   113.21,2,    22.67,2,    21.02,2,     0.00,2,    1.530,2, -999.000,9, -999.000,9,   2167.1,2,   2282.0,2,   7.6701,2,    25.00, -999.000,9,  -999.00,9,  -999.00,9,  12.9518,2,  26.0260,2,  12.9494,2
49UP20220727_1,    P9,    17,  1,     27,     317,2,20220810,1533,1732,  2.5965, 138.9900, 4310,    332.1,      330,   8.7038,  34.5621,2,     84.3,2,  34.5631,2,    84.11,2,    37.88,2,    31.64,2,     0.00,2,    2.240,2, -999.000,9, -999.000,9,   2233.7,6,   2302.0,6,   7.5422,2,    25.00, -999.000,9,  -999.00,9,  -999.00,9,   8.6683,2,  26.8277,2,   8.7020,2
49UP20220727_1,    P9,    17,  1,     26,     316,2,20220810,1533,1730,  2.5965, 138.9900, 4310,    383.0,      381,   8.3856,  34.5829,2,    121.5,2,  34.5813,2,   120.99,2,    32.82,2,    29.13,2,     0.00,2,    2.050,2, -999.000,9, -999.000,9,   2213.0,2,   2301.6,2,   7.5986,6,    25.00, -999.000,9,  -999.00,9,  -999.00,9,   8.3455,2,  26.8940,2,   8.3876,2
49UP20220727_1,    P9,    17,  1,     25,     315,2,20220810,1533,1728,  2.5965, 138.9900, 4310,    433.3,      430,   7.8898,  34.5682,2,    132.6,2,  34.5683,2,   132.24,2,    32.78,2,    29.15,2,     0.00,2,    2.050,2, -999.000,9, -999.000,9,   2210.1,2,   2302.9,2,   7.6070,2,    25.00, -999.000,9,  -999.00,9,  -999.00,9,   7.8459,2,  26.9576,2,   7.8897,2
49UP20220727_1,    P9,    17,  1,     24,     753,2,20220810,1533,1726,  2.5965, 138.9900, 4310,    483.1,      480,   7.5166,  34.5517,2,    126.0,2,  34.5515,2,   127.21,2,    35.76,2,    30.42,2,     0.00,2,    2.140,2, -999.000,9, -999.000,9,   2218.1,2,   2306.4,2,   7.5931,2,    25.00, -999.000,9,  -999.00,9,  -999.00,9,   7.4689,2,  26.9995,2,   7.5164,2
49UP20220727_1,    P9,    17,  1,     23,     314,2,20220810,1533,1724,  2.5965, 138.9900, 4310,    534.0,      530,   7.1490,  34.5389,2,    128.5,2,  34.5390,2,   128.30,2,    37.84,2,    31.03,2,     0.00,2,    2.180,2, -999.000,9, -999.000,9,   2220.3,2,   2308.3,2,   7.5871,2,    25.00, -999.000,9,  -999.00,9,  -999.00,9,   7.0975,2,  27.0420,2,   7.1497,2
49UP20220727_1,    P9,    17,  1,     22,     313,2,20220810,1533,1721,  2.5965, 138.9900, 4310,    634.4,      630,   6.5153,  34.5304,2,    101.3,2,  34.5305,2,   101.24,2,    51.55,2,    34.54,2,     0.00,2,    2.450,2, -999.000,9, -999.000,9,   2249.3,2,   2318.3,2,   7.5338,2,    25.00, -999.000,9,  -999.00,9,  -999.00,9,   6.4568,2,  27.1224,2,   6.5155,2
49UP20220727_1,    P9,    17,  1,     21,     312,2,20220810,1533,1718,  2.5965, 138.9900, 4310,    736.4,      731,   5.8605,  34.5305,2,     95.3,2,  34.5305,2,    95.14,2,    61.96,2,    36.25,2,     0.00,2,    2.570,2, -999.000,9, -999.000,9,   2263.7,2,   2327.2,2,   7.5173,2,    25.00, -999.000,9,  -999.00,9,  -999.00,9,   5.7957,2,  27.2074,2,   5.8608,2
49UP20220727_1,    P9,    17,  1,     20,     311,2,20220810,1533,1715,  2.5965, 138.9900, 4310,    835.8,      830,   5.1375,  34.5394,2,     92.4,2,  34.5395,2,    92.95,2,    74.02,2,    37.54,2,     0.00,2,    2.670,2, -999.000,9, -999.000,9,   2281.6,2,   2340.7,2,   7.5060,2,    25.00, -999.000,9,  -999.00,9,  -999.00,9,   5.0679,2,  27.3022,2,   5.1374,2
49UP20220727_1,    P9,    17,  1,     19,     310,2,20220810,1533,1712,  2.5965, 138.9900, 4310,    937.7,      930,   4.5572,  34.5517,2,     93.8,2,  34.5517,2,    94.07,2,    86.74,2,    37.95,2,     0.00,2,    2.700,2, -999.000,9, -999.000,9,   2294.6,2,   2353.5,2,   7.5053,2,    25.00, -999.000,9,  -999.00,9,  -999.00,9,   4.4826,2,  27.3781,2,   4.5572,2
49UP20220727_1,    P9,    17,  1,     18,     752,2,20220810,1533,1707,  2.5965, 138.9900, 4310,   1079.6,     1071,   3.9161,  34.5688,2,     95.3,2,  34.5684,6,    95.10,2,   100.48,2,    38.31,2,     0.00,2,    2.740,2, -999.000,9, -999.000,9,   2309.2,2,   2370.2,2,   7.5032,2,    25.00, -999.000,9,  -999.00,9,  -999.00,9,   3.8343,2,  27.4602,2,   3.9160,2
49UP20220727_1,    P9,    17,  1,     17,     751,2,20220810,1533,1702,  2.5965, 138.9900, 4310,   1281.1,     1270,   3.4595,  34.5841,2,    102.3,2,  34.5839,2,   101.90,2,   109.21,2,    38.23,2,     0.00,2,    2.720,2, -999.000,9, -999.000,9,   2312.4,2,   2377.1,2,   7.5142,2,    25.00, -999.000,9,  -999.00,9,  -999.00,9,   3.3650,2,  27.5188,2,   3.4595,2
49UP20220727_1,    P9,    17,  1,     16,     328,2,20220810,1533,1656,  2.5965, 138.9900, 4310,   1484.2,     1471,   3.0967,  34.5958,2,    102.0,2,  34.5957,2,   102.28,2,   117.08,2,    38.67,2,     0.00,2,    2.750,2, -999.000,9, -999.000,9,   2325.0,6,   2386.9,6,   7.5094,2,    25.00, -999.000,9,  -999.00,9,  -999.00,9,   2.9890,2,  27.5635,2,   3.0967,2
49UP20220727_1,    P9,    17,  1,     15,     309,2,20220810,1533,1651,  2.5965, 138.9900, 4310,   1686.4,     1670,   2.7350,  34.6103,2,    106.4,2,  34.6105,2,   106.55,2,   125.84,2,    38.63,2,     0.00,2,    2.730,2, -999.000,9, -999.000,9,   2330.8,2,   2395.1,2,   7.5152,6,    25.00, -999.000,9,  -999.00,9,  -999.00,9,   2.6147,2,  27.6084,2,   2.7351,2
49UP20220727_1,    P9,    17,  1,     14,     326,2,20220810,1533,1646,  2.5965, 138.9900, 4310,   1888.5,     1870,   2.3963,  34.6261,2,    112.0,2,  34.6260,2,   112.18,2,   133.56,2,    38.44,2,     0.00,2,    2.700,2, -999.000,9, -999.000,9,   2334.4,2,   2403.5,2,   7.5236,2,    25.00, -999.000,9,  -999.00,9,  -999.00,9,   2.2634,2,  27.6508,2,   2.3964,2
49UP20220727_1,    P9,    17,  1,     13,     325,2,20220810,1533,1641,  2.5965, 138.9900, 4310,   2092.7,     2071,   2.1022,  34.6412,2,    118.2,2,  34.6422,2,   118.69,6,   139.38,6,    38.11,6,     0.00,6,    2.680,6, -999.000,9, -999.000,9,   2337.2,2,   2410.3,2,   7.5332,2,    25.00, -999.000,9,  -999.00,9,  -999.00,9,   1.9563,2,  27.6877,2,   2.1024,2
49UP20220727_1,    P9,    17,  1,     12,     324,2,20220810,1533,1635,  2.5965, 138.9900, 4310,   2295.5,     2270,   1.9097,  34.6518,2,    124.3,2,  34.6516,6,   124.62,2,   142.57,2,    37.78,2,     0.00,2,    2.640,2, -999.000,9, -999.000,9,   2338.1,2,   2412.9,2,   7.5430,2,    25.00, -999.000,9,  -999.00,9,  -999.00,9,   1.7493,2,  27.7121,2,   1.9097,2
49UP20220727_1,    P9,    17,  1,     10,     322,2,20220810,1533,1630,  2.5965, 138.9900, 4310,   2499.0,     2471,   1.7743,  34.6592,2,    131.5,2,  34.6595,2,   131.86,2,   143.43,2,    37.31,2,     0.00,2,    2.600,2, -999.000,9, -999.000,9,   2336.3,2,   2413.6,2,   7.5557,2,    25.00, -999.000,9,  -999.00,9,  -999.00,9,   1.5983,2,  27.7295,2,   1.7744,2
49UP20220727_1,    P9,    17,  1,     11,     323,2,20220810,1533,1630,  2.5965, 138.9900, 4310,   2499.3,     2471,   1.7746,  34.6591,2,    131.5,2,  34.6595,2,   131.66,2,   143.47,2,    37.29,2,     0.00,2,    2.600,2, -999.000,9, -999.000,9,   2336.8,2,   2413.3,2,   7.5539,2,    25.00, -999.000,9,  -999.00,9,  -999.00,9,   1.5985,2,  27.7293,2,   1.7745,2
49UP20220727_1,    P9,    17,  1,      9,     750,2,20220810,1533,1622,  2.5965, 138.9900, 4310,   2702.1,     2670,   1.6843,  34.6639,2,    137.5,2,  34.6642,2,   137.44,2,   143.60,2,    36.90,2,     0.00,2,    2.570,2, -999.000,9, -999.000,9,   2332.9,2,   2414.7,2,   7.5624,2,    25.00, -999.000,9,  -999.00,9,  -999.00,9,   1.4915,2,  27.7410,2,   1.6843,2
49UP20220727_1,    P9,    17,  1,      8,     320,2,20220810,1533,1616,  2.5965, 138.9900, 4310,   2906.3,     2870,   1.6034,  34.6694,2,    142.4,2,  34.6698,2,   142.42,2,   143.71,2,    36.57,2,     0.00,2,    2.540,2, -999.000,9, -999.000,9,   2329.6,6,   2413.4,6,   7.5695,2,    25.00, -999.000,9,  -999.00,9,  -999.00,9,   1.3932,2,  27.7525,2,   1.6034,2
49UP20220727_1,    P9,    17,  1,      7,     319,2,20220810,1533,1611,  2.5965, 138.9900, 4310,   3121.2,     3081,   1.5744,  34.6726,2,    144.6,2,  34.6731,2,   144.70,2,   143.90,2,    36.42,2,     0.00,2,    2.530,2, -999.000,9, -999.000,9,   2330.1,2,   2414.9,2,   7.5749,6,    25.00, -999.000,9,  -999.00,9,  -999.00,9,   1.3443,2,  27.7586,2,   1.5744,2
49UP20220727_1,    P9,    17,  1,      6,     318,2,20220810,1533,1602,  2.5965, 138.9900, 4310,   3376.5,     3331,   1.5571,  34.6754,2,    147.0,2,  34.6759,2,   147.11,2,   143.80,2,    36.30,2,     0.00,2,    2.520,2, -999.000,9, -999.000,9,   2330.3,2,   2417.1,2,   7.5780,2,    25.00, -999.000,9,  -999.00,9,  -999.00,9,   1.3021,2,  27.7638,2,   1.5571,2
49UP20220727_1,    P9,    17,  1,      5,     838,2,20220810,1533,1556,  2.5965, 138.9900, 4310,   3632.0,     3581,   1.5553,  34.6777,2,    148.4,2,  34.6787,6,   148.30,2,   144.18,2,    36.26,2,     0.00,2,    2.510,2, -999.000,9, -999.000,9,   2330.6,2,   2418.3,2,   7.5822,2,    25.00, -999.000,9,  -999.00,9,  -999.00,9,   1.2742,2,  27.7677,2,   1.5554,2
49UP20220727_1,    P9,    17,  1,      4,     316,2,20220810,1533,1550,  2.5965, 138.9900, 4310,   3886.9,     3830,   1.5358,  34.6815,2,    151.3,2,  34.6825,2,   151.69,6,   143.58,6,    35.99,6,     0.00,6,    2.500,6, -999.000,9, -999.000,9,   2328.3,2,   2418.8,2,   7.5882,2,    25.00, -999.000,9,  -999.00,9,  -999.00,9,   1.2281,2,  27.7739,2,   1.5361,2
49UP20220727_1,    P9,    17,  1,      3,     315,2,20220810,1533,1544,  2.5965, 138.9900, 4310,   4142.3,     4080,   1.5183,  34.6851,2,    154.7,2,  34.6859,2,   154.73,2,   143.25,2,    35.77,2,     0.00,2,    2.480,2, -999.000,9, -999.000,9,   2327.8,2,   2419.9,2,   7.5934,2,    25.00, -999.000,9,  -999.00,9,  -999.00,9,   1.1832,2,  27.7800,2,   1.5183,2
49UP20220727_1,    P9,    17,  1,      2,     314,2,20220810,1533,1544,  2.5965, 138.9900, 4310,   4142.8,     4080,   1.5183,  34.6853,2,    154.7,2,  34.6858,2,   154.73,2,   143.28,2,    35.83,2,     0.00,2,    2.480,2, -999.000,9, -999.000,9,   2326.8,2,   2418.5,2,   7.5942,2,    25.00, -999.000,9,  -999.00,9,  -999.00,9,   1.1832,2,  27.7800,2,   1.5183,2
49UP20220727_1,    P9,    17,  1,      1,     308,2,20220810,1533,1533,  2.5965, 138.9900, 4310,   4380.0,     4312,   1.5376,  34.6859,2,    155.7,2,  34.6855,6,   155.56,2,   142.96,2,    35.82,2,     0.00,2,    2.470,2, -999.000,9, -999.000,9,   2326.0,2,   2418.9,2,   7.5959,2,    25.00, -999.000,9,  -999.00,9,  -999.00,9,   1.1753,2,  27.7811,2,   1.5376,2