BOTTLE,20230330JMAAMD
EXPOCODE,SECT_ID,STNNBR,CASTNO,SAMPNO,BTLNBR,BTLNBR_FLAG_U,DATE,TIME,BTL_TIME,LATITUDE,LONGITUDE,DEPTH,CTDPRS,CTDDEP,CTDTMP,CTDSAL,CTDSAL_FLAG_W,CTDOXY,CTDOXY_FLAG_W,SALNTY,SALNTY_FLAG_W,OXYGEN,OXYGEN_FLAG_W,SILCAT,SILCAT_FLAG_W,NO2+NO3,NO2+NO3_FLAG_W,NITRIT,NITRIT_FLAG_W,PHSPHT,PHSPHT_FLAG_W,CFC-11,CFC-11_FLAG_W,CFC-12,CFC-12_FLAG_W,TCARBN,TCARBN_FLAG_W,ALKALI,ALKALI_FLAG_W,PH_TS,PH_TS_FLAG_W,PH_TS_TMP,CFC113,CFC113_FLAG_W,CHLORA,CHLORA_FLAG_W,PPHYTN,PPHYTN_FLAG_W,THETA,THETA_FLAG_W,SIGTHT,SIGTHT_FLAG_W,SBE35,SBE35_FLAG_W
,,,,,,,,UTC,,,,METER,DBAR,METERS,ITS-90,PSS-78,,UMOL/KG,,PSS78,,UMOL/KG,,UMOL/KG,,UMOL/KG,,UMOL/KG,,UMOL/KG,,PMOL/KG,,PMOL/KG,,UMOL/KG,,UMOL/KG,,,,ITS-90,PMOL/KG,,UG/KG,,UG/KG,,ITS-90,,KG/M3,,ITS-90,
49UP20220824_1,    P9,    42,  1,      0,      -9,0,20220904,2021,2215, 11.4968, 136.9872, 4806,      0.0,        0,  30.3428,  34.1603,2,    192.2,2,-999.0000,9,   193.65,2,     1.26,2,     0.03,2,     0.00,2,    0.090,2, -999.000,9, -999.000,9,   -999.0,9,   -999.0,9,-999.0000,9,  -999.00, -999.000,9,  -999.00,9,  -999.00,9,  30.3422,2,  20.9798,2,-999.0000,9
49UP20220824_1,    P9,    42,  1,     36,     757,2,20220904,2021,2236, 11.4968, 136.9872, 4806,     11.7,       12,  30.3824,  34.1751,2,    192.3,2,  34.1701,2,   193.34,2,     1.26,2,     0.01,2,     0.00,2,    0.070,2, -999.000,9, -999.000,9,   -999.0,9,   -999.0,9,-999.0000,9,  -999.00, -999.000,9,  -999.00,9,  -999.00,9,  30.3795,2,  20.9781,2,  30.3696,2
49UP20220824_1,    P9,    42,  1,     35,     756,2,20220904,2021,2235, 11.4968, 136.9872, 4806,     27.3,       27,  30.1188,  34.1941,2,    194.0,2,  34.1934,2,   194.74,2,     1.30,2,     0.02,2,     0.00,2,    0.070,2, -999.000,9, -999.000,9,   -999.0,9,   -999.0,9,-999.0000,9,  -999.00, -999.000,9,  -999.00,9,  -999.00,9,  30.1121,2,  21.0839,2,  30.1201,2
49UP20220824_1,    P9,    42,  1,     34,     323,2,20220904,2021,2231, 11.4968, 136.9872, 4806,     52.2,       52,  29.3974,  34.5801,2,    202.2,2,  34.5711,2,   201.88,2,     1.26,2,     0.01,2,     0.00,2,    0.060,2, -999.000,9, -999.000,9,   -999.0,9,   -999.0,9,-999.0000,9,  -999.00, -999.000,9,  -999.00,9,  -999.00,9,  29.3846,2,  21.6199,2,  29.3983,2
49UP20220824_1,    P9,    42,  1,     33,     322,2,20220904,2021,2229, 11.4968, 136.9872, 4806,     76.8,       76,  28.4884,  34.7231,2,    205.3,2,  34.7185,2,   204.62,2,     1.26,2,     0.01,2,     0.00,2,    0.080,2, -999.000,9, -999.000,9,   -999.0,9,   -999.0,9,-999.0000,9,  -999.00, -999.000,9,  -999.00,9,  -999.00,9,  28.4701,2,  22.0321,2,  28.4695,2
49UP20220824_1,    P9,    42,  1,     32,     321,2,20220904,2021,2228, 11.4968, 136.9872, 4806,    102.0,      101,  27.9651,  34.7778,2,    204.2,2,  34.7799,2,   202.99,2,     1.26,2,     0.00,2,     0.00,2,    0.070,2, -999.000,9, -999.000,9,   -999.0,9,   -999.0,9,-999.0000,9,  -999.00, -999.000,9,  -999.00,9,  -999.00,9,  27.9411,2,  22.2468,2,  27.9635,2
49UP20220824_1,    P9,    42,  1,     31,     320,2,20220904,2021,2226, 11.4968, 136.9872, 4806,    127.8,      127,  26.6552,  34.8200,2,    195.8,2,  34.8187,6,   195.37,2,     1.29,2,     0.01,2,     0.00,2,    0.090,2, -999.000,9, -999.000,9,   -999.0,9,   -999.0,9,-999.0000,9,  -999.00, -999.000,9,  -999.00,9,  -999.00,9,  26.6262,2,  22.7009,2,  26.6574,2
49UP20220824_1,    P9,    42,  1,     30,     319,2,20220904,2021,2224, 11.4968, 136.9872, 4806,    152.2,      151,  24.8872,  34.8485,2,    187.4,2,  34.8447,2,   187.29,2,     1.64,2,     0.27,2,     0.17,2,    0.150,2, -999.000,9, -999.000,9,   -999.0,9,   -999.0,9,-999.0000,9,  -999.00, -999.000,9,  -999.00,9,  -999.00,9,  24.8543,2,  23.2709,2,  24.8996,2
49UP20220824_1,    P9,    42,  1,     29,     318,2,20220904,2021,2222, 11.4968, 136.9872, 4806,    203.7,      202,  19.8204,  34.7759,2,    162.0,2,  34.7454,2,   159.46,6,     5.78,2,     6.36,2,     0.02,6,    0.580,6, -999.000,9, -999.000,9,   -999.0,9,   -999.0,9,-999.0000,9,  -999.00, -999.000,9,  -999.00,9,  -999.00,9,  19.7830,2,  24.6478,2,  19.8575,2
49UP20220824_1,    P9,    42,  1,     28,     755,2,20220904,2021,2220, 11.4968, 136.9872, 4806,    253.3,      252,  13.9920,  34.4574,2,    135.7,2,  34.4539,2,   136.75,2,    15.66,2,    15.86,2,     0.00,2,    1.210,2, -999.000,9, -999.000,9,   -999.0,9,   -999.0,9,-999.0000,9,  -999.00, -999.000,9,  -999.00,9,  -999.00,9,  13.9555,2,  25.7770,2,  13.9703,2
49UP20220824_1,    P9,    42,  1,     27,     317,2,20220904,2021,2218, 11.4968, 136.9872, 4806,    334.7,      333,   9.4453,  34.3769,2,     81.8,2,  34.3709,2,    83.15,2,    36.89,2,    28.91,2,     0.00,2,    2.140,2, -999.000,9, -999.000,9,   -999.0,9,   -999.0,9,-999.0000,9,  -999.00, -999.000,9,  -999.00,9,  -999.00,9,   9.4078,2,  26.5642,2,   9.4445,2
49UP20220824_1,    P9,    42,  1,     26,     316,2,20220904,2021,2215, 11.4968, 136.9872, 4806,    384.8,      382,   8.4712,  34.4343,2,     75.7,2,  34.4355,2,    75.56,2,    43.91,2,    31.87,2,     0.00,2,    2.310,2, -999.000,9, -999.000,9,   -999.0,9,   -999.0,9,-999.0000,9,  -999.00, -999.000,9,  -999.00,9,  -999.00,9,   8.4308,2,  26.7643,2,   8.4750,2
49UP20220824_1,    P9,    42,  1,     25,     315,2,20220904,2021,2213, 11.4968, 136.9872, 4806,    432.4,      429,   8.0179,  34.4493,2,     76.5,2,  34.4498,2,    76.53,2,    47.51,2,    32.94,2,     0.00,2,    2.370,2, -999.000,9, -999.000,9,   -999.0,9,   -999.0,9,-999.0000,9,  -999.00, -999.000,9,  -999.00,9,  -999.00,9,   7.9738,2,  26.8452,2,   8.0177,2
49UP20220824_1,    P9,    42,  1,     24,     753,2,20220904,2021,2211, 11.4968, 136.9872, 4806,    485.1,      482,   7.3395,  34.4781,2,     82.2,2,  34.4764,2,    81.98,2,    51.64,2,    33.95,2,     0.00,2,    2.430,2, -999.000,9, -999.000,9,   -999.0,9,   -999.0,9,-999.0000,9,  -999.00, -999.000,9,  -999.00,9,  -999.00,9,   7.2922,2,  26.9668,2,   7.3396,2
49UP20220824_1,    P9,    42,  1,     23,     314,2,20220904,2021,2209, 11.4968, 136.9872, 4806,    534.9,      531,   6.9418,  34.4921,2,     85.8,2,  34.4917,2,    85.62,2,    54.79,2,    34.59,2,     0.00,2,    2.470,2, -999.000,9, -999.000,9,   -999.0,9,   -999.0,9,-999.0000,9,  -999.00, -999.000,9,  -999.00,9,  -999.00,9,   6.8911,2,  27.0336,2,   6.9413,2
49UP20220824_1,    P9,    42,  1,     22,     313,2,20220904,2021,2206, 11.4968, 136.9872, 4806,    636.2,      632,   6.5463,  34.5020,2,     86.6,2,  34.5021,2,    87.39,2,    58.82,2,    35.29,2,     0.00,2,    2.520,2, -999.000,9, -999.000,9,   -999.0,9,   -999.0,9,-999.0000,9,  -999.00, -999.000,9,  -999.00,9,  -999.00,9,   6.4875,2,  27.0958,2,   6.5470,2
49UP20220824_1,    P9,    42,  1,     21,     312,2,20220904,2021,2203, 11.4968, 136.9872, 4806,    737.4,      732,   5.9456,  34.5093,2,     83.2,2,  34.5092,2,    83.03,2,    67.83,2,    36.62,2,     0.00,2,    2.620,2, -999.000,9, -999.000,9,   -999.0,9,   -999.0,9,-999.0000,9,  -999.00, -999.000,9,  -999.00,9,  -999.00,9,   5.8803,2,  27.1800,2,   5.9455,2
49UP20220824_1,    P9,    42,  1,     20,     311,2,20220904,2021,2200, 11.4968, 136.9872, 4806,    838.4,      832,   5.4497,  34.5206,2,     81.5,2,  34.5201,2,    81.65,6,    76.28,6,    37.61,6,     0.00,6,    2.690,6, -999.000,9, -999.000,9,   -999.0,9,   -999.0,9,-999.0000,9,  -999.00, -999.000,9,  -999.00,9,  -999.00,9,   5.3779,2,  27.2507,2,   5.4497,2
49UP20220824_1,    P9,    42,  1,     19,     310,2,20220904,2021,2157, 11.4968, 136.9872, 4806,    939.0,      932,   4.9642,  34.5312,2,     78.3,2,  34.5307,2,    78.54,2,    85.69,2,    38.58,2,     0.00,2,    2.770,2, -999.000,9, -999.000,9,   -999.0,9,   -999.0,9,-999.0000,9,  -999.00, -999.000,9,  -999.00,9,  -999.00,9,   4.8866,2,  27.3166,2,   4.9641,2
49UP20220824_1,    P9,    42,  1,     18,     752,2,20220904,2021,2153, 11.4968, 136.9872, 4806,   1081.1,     1072,   4.2328,  34.5486,2,     79.5,2,  34.5486,2,    79.70,2,   100.41,2,    39.31,2,     0.00,2,    2.820,2, -999.000,9, -999.000,9,   -999.0,9,   -999.0,9,-999.0000,9,  -999.00, -999.000,9,  -999.00,9,  -999.00,9,   4.1484,2,  27.4115,2,   4.2322,2
49UP20220824_1,    P9,    42,  1,     17,     751,2,20220904,2021,2148, 11.4968, 136.9872, 4806,   1284.8,     1274,   3.5649,  34.5708,2,     86.0,2,  34.5704,2,    86.24,2,   114.09,2,    39.40,2,     0.00,2,    2.820,2, -999.000,9, -999.000,9,   -999.0,9,   -999.0,9,-999.0000,9,  -999.00, -999.000,9,  -999.00,9,  -999.00,9,   3.4691,2,  27.4981,2,   3.5649,2
49UP20220824_1,    P9,    42,  1,     16,     328,2,20220904,2021,2143, 11.4968, 136.9872, 4806,   1487.2,     1473,   3.0075,  34.5873,2,     94.5,2,  34.5874,6,    94.80,2,   125.77,2,    39.17,2,     0.00,2,    2.790,2, -999.000,9, -999.000,9,   -999.0,9,   -999.0,9,-999.0000,9,  -999.00, -999.000,9,  -999.00,9,  -999.00,9,   2.9006,2,  27.5647,2,   3.0073,2
49UP20220824_1,    P9,    42,  1,     15,     309,2,20220904,2021,2138, 11.4968, 136.9872, 4806,   1689.2,     1673,   2.6987,  34.6024,2,     99.8,2,  34.6023,2,    99.86,2,   131.90,2,    39.03,2,     0.00,2,    2.770,2, -999.000,9, -999.000,9,   -999.0,9,   -999.0,9,-999.0000,9,  -999.00, -999.000,9,  -999.00,9,  -999.00,9,   2.5787,2,  27.6053,2,   2.6988,2
49UP20220824_1,    P9,    42,  1,     14,     326,2,20220904,2021,2133, 11.4968, 136.9872, 4806,   1891.8,     1873,   2.4141,  34.6168,2,    106.3,2,  34.6166,2,   106.37,2,   137.02,2,    38.77,2,     0.00,2,    2.740,2, -999.000,9, -999.000,9,   -999.0,9,   -999.0,9,-999.0000,9,  -999.00, -999.000,9,  -999.00,9,  -999.00,9,   2.2808,2,  27.6419,2,   2.4140,2
49UP20220824_1,    P9,    42,  1,     13,     325,2,20220904,2021,2128, 11.4968, 136.9872, 4806,   2094.1,     2072,   2.2213,  34.6287,2,    112.3,2,  34.6291,2,   112.45,2,   140.05,2,    38.48,2,     0.00,2,    2.710,2, -999.000,9, -999.000,9,   -999.0,9,   -999.0,9,-999.0000,9,  -999.00, -999.000,9,  -999.00,9,  -999.00,9,   2.0734,2,  27.6684,2,   2.2214,2
49UP20220824_1,    P9,    42,  1,     12,     324,2,20220904,2021,2123, 11.4968, 136.9872, 4806,   2298.1,     2273,   2.0604,  34.6389,2,    118.2,2,  34.6393,2,   118.12,2,   142.40,2,    38.12,2,     0.00,2,    2.680,2, -999.000,9, -999.000,9,   -999.0,9,   -999.0,9,-999.0000,9,  -999.00, -999.000,9,  -999.00,9,  -999.00,9,   1.8972,2,  27.6904,2,   2.0603,2
49UP20220824_1,    P9,    42,  1,     11,     323,2,20220904,2021,2118, 11.4968, 136.9872, 4806,   2501.2,     2472,   1.8590,  34.6499,2,    125.2,2,  34.6504,2,   125.21,6,   145.46,6,    37.77,6,     0.00,6,    2.650,6, -999.000,9, -999.000,9,   -999.0,9,   -999.0,9,-999.0000,9,  -999.00, -999.000,9,  -999.00,9,  -999.00,9,   1.6812,2,  27.7158,2,   1.8590,2
49UP20220824_1,    P9,    42,  1,     10,     322,2,20220904,2021,2112, 11.4968, 136.9872, 4806,   2704.4,     2672,   1.7354,  34.6589,2,    132.1,2,  34.6593,2,   132.06,2,   145.84,2,    37.34,2,     0.00,2,    2.610,2, -999.000,9, -999.000,9,   -999.0,9,   -999.0,9,-999.0000,9,  -999.00, -999.000,9,  -999.00,9,  -999.00,9,   1.5415,2,  27.7334,2,   1.7354,2
49UP20220824_1,    P9,    42,  1,      9,     750,2,20220904,2021,2107, 11.4968, 136.9872, 4806,   2906.7,     2870,   1.6934,  34.6626,2,    135.6,2,  34.6630,6,   135.36,2,   145.83,2,    37.03,2,     0.00,2,    2.590,2, -999.000,9, -999.000,9,   -999.0,9,   -999.0,9,-999.0000,9,  -999.00, -999.000,9,  -999.00,9,  -999.00,9,   1.4813,2,  27.7408,2,   1.6934,2
49UP20220824_1,    P9,    42,  1,      8,     320,2,20220904,2021,2102, 11.4968, 136.9872, 4806,   3123.5,     3083,   1.6380,  34.6671,2,    139.9,2,  34.6672,2,   139.84,2,   145.50,2,    36.83,2,     0.00,2,    2.570,2, -999.000,9, -999.000,9,   -999.0,9,   -999.0,9,-999.0000,9,  -999.00, -999.000,9,  -999.00,9,  -999.00,9,   1.4062,2,  27.7498,2,   1.6379,2
49UP20220824_1,    P9,    42,  1,      7,     319,2,20220904,2021,2056, 11.4968, 136.9872, 4806,   3377.4,     3332,   1.5893,  34.6721,2,    145.2,2,  34.6720,2,   145.04,2,   144.60,2,    36.45,2,     0.00,2,    2.550,2, -999.000,9, -999.000,9,   -999.0,9,   -999.0,9,-999.0000,9,  -999.00, -999.000,9,  -999.00,9,  -999.00,9,   1.3335,2,  27.7590,2,   1.5893,2
49UP20220824_1,    P9,    42,  1,      6,     318,2,20220904,2021,2051, 11.4968, 136.9872, 4806,   3634.1,     3583,   1.5582,  34.6761,2,    149.6,2,  34.6747,4,   149.71,2,   143.44,2,    36.11,2,     0.00,2,    2.520,2, -999.000,9, -999.000,9,   -999.0,9,   -999.0,9,-999.0000,9,  -999.00, -999.000,9,  -999.00,9,  -999.00,9,   1.2767,2,  27.7662,2,   1.5580,2
49UP20220824_1,    P9,    42,  1,      5,     838,2,20220904,2021,2045, 11.4968, 136.9872, 4806,   3888.9,     3832,   1.5268,  34.6805,2,    154.5,2,  34.6813,2,   154.69,2,   141.90,2,    35.79,2,     0.00,2,    2.490,2, -999.000,9, -999.000,9,   -999.0,9,   -999.0,9,-999.0000,9,  -999.00, -999.000,9,  -999.00,9,  -999.00,9,   1.2192,2,  27.7737,2,   1.5267,2
49UP20220824_1,    P9,    42,  1,      4,     316,2,20220904,2021,2039, 11.4968, 136.9872, 4806,   4145.6,     4082,   1.5148,  34.6836,2,    158.0,2,  34.6838,2,   158.15,2,   141.09,2,    35.63,2,     0.00,2,    2.480,2, -999.000,9, -999.000,9,   -999.0,9,   -999.0,9,-999.0000,9,  -999.00, -999.000,9,  -999.00,9,  -999.00,9,   1.1795,2,  27.7790,2,   1.5148,2
49UP20220824_1,    P9,    42,  1,      3,     315,2,20220904,2021,2033, 11.4968, 136.9872, 4806,   4402.1,     4332,   1.5249,  34.6850,2,    159.6,2,  34.6852,6,   159.75,2,   140.44,2,    35.50,2,     0.00,2,    2.470,2, -999.000,9, -999.000,9,   -999.0,9,   -999.0,9,-999.0000,9,  -999.00, -999.000,9,  -999.00,9,  -999.00,9,   1.1604,2,  27.7814,2,   1.5249,2
49UP20220824_1,    P9,    42,  1,      2,     314,2,20220904,2021,2027, 11.4968, 136.9872, 4806,   4658.0,     4581,   1.5420,  34.6859,2,    160.9,2,  34.6858,2,   161.09,6,   139.94,6,    35.42,6,     0.00,6,    2.460,6, -999.000,9, -999.000,9,   -999.0,9,   -999.0,9,-999.0000,9,  -999.00, -999.000,9,  -999.00,9,  -999.00,9,   1.1474,2,  27.7830,2,   1.5422,2
49UP20220824_1,    P9,    42,  1,      1,     308,2,20220904,2021,2021, 11.4968, 136.9872, 4806,   4948.6,     4864,   1.5767,  34.6860,2,    161.2,2,  34.6855,2,   161.36,2,   140.06,2,    35.42,2,     0.00,2,    2.460,2, -999.000,9, -999.000,9,   -999.0,9,   -999.0,9,-999.0000,9,  -999.00, -999.000,9,  -999.00,9,  -999.00,9,   1.1461,2,  27.7832,2,   1.5767,2