BOTTLE,20230330JMAAMD
EXPOCODE,SECT_ID,STNNBR,CASTNO,SAMPNO,BTLNBR,BTLNBR_FLAG_U,DATE,TIME,BTL_TIME,LATITUDE,LONGITUDE,DEPTH,CTDPRS,CTDDEP,CTDTMP,CTDSAL,CTDSAL_FLAG_W,CTDOXY,CTDOXY_FLAG_W,SALNTY,SALNTY_FLAG_W,OXYGEN,OXYGEN_FLAG_W,SILCAT,SILCAT_FLAG_W,NO2+NO3,NO2+NO3_FLAG_W,NITRIT,NITRIT_FLAG_W,PHSPHT,PHSPHT_FLAG_W,CFC-11,CFC-11_FLAG_W,CFC-12,CFC-12_FLAG_W,TCARBN,TCARBN_FLAG_W,ALKALI,ALKALI_FLAG_W,PH_TS,PH_TS_FLAG_W,PH_TS_TMP,CFC113,CFC113_FLAG_W,CHLORA,CHLORA_FLAG_W,PPHYTN,PPHYTN_FLAG_W,THETA,THETA_FLAG_W,SIGTHT,SIGTHT_FLAG_W,SBE35,SBE35_FLAG_W
,,,,,,,,UTC,,,,METER,DBAR,METERS,ITS-90,PSS-78,,UMOL/KG,,PSS78,,UMOL/KG,,UMOL/KG,,UMOL/KG,,UMOL/KG,,UMOL/KG,,PMOL/KG,,PMOL/KG,,UMOL/KG,,UMOL/KG,,,,ITS-90,PMOL/KG,,UG/KG,,UG/KG,,ITS-90,,KG/M3,,ITS-90,
49UP20220929_1,    P9,    77,  1,      0,      -9,0,20221007,2020,2200, 28.4945, 136.9935, 4501,      0.0,        0,  28.6016,  34.3384,2,    197.7,2,-999.0000,9,   198.13,2,     1.35,2,     0.00,2,     0.00,2,    0.020,2, -999.000,9, -999.000,9,   -999.0,9,   -999.0,9,-999.0000,9,  -999.00, -999.000,9,  -999.00,9,  -999.00,9,  28.6010,2,  21.6999,2,-999.0000,9
49UP20220929_1,    P9,    77,  1,     36,     757,2,20221007,2020,2222, 28.4945, 136.9935, 4501,     10.7,       11,  28.6174,  34.3396,2,    197.8,2,  34.3419,2,   198.23,2,     1.36,2,     0.02,2,     0.00,2,    0.000,2, -999.000,9, -999.000,9,   -999.0,9,   -999.0,9,-999.0000,9,  -999.00, -999.000,9,  -999.00,9,  -999.00,9,  28.6148,2,  21.6962,2,  28.6178,2
49UP20220929_1,    P9,    77,  1,     35,     756,2,20221007,2020,2221, 28.4945, 136.9935, 4501,     26.3,       26,  28.6296,  34.3434,2,    197.8,2,  34.3437,2,   198.08,2,     1.26,2,     0.01,2,     0.00,2,    0.000,2, -999.000,9, -999.000,9,   -999.0,9,   -999.0,9,-999.0000,9,  -999.00, -999.000,9,  -999.00,9,  -999.00,9,  28.6233,2,  21.6963,2,  28.6268,2
49UP20220929_1,    P9,    77,  1,     34,     323,2,20221007,2020,2217, 28.4945, 136.9935, 4501,     52.3,       52,  28.5101,  34.3808,2,    199.5,2,  34.3896,2,   199.40,6,     1.31,6,     0.00,6,     0.00,6,    0.000,6, -999.000,9, -999.000,9,   -999.0,9,   -999.0,9,-999.0000,9,  -999.00, -999.000,9,  -999.00,9,  -999.00,9,  28.4976,2,  21.7658,2,  28.5016,2
49UP20220929_1,    P9,    77,  1,     33,     322,2,20221007,2020,2216, 28.4945, 136.9935, 4501,     75.9,       75,  24.9699,  34.5816,2,    220.7,2,  34.5720,2,   219.94,2,     1.68,2,     0.01,2,     0.00,2,    0.000,2, -999.000,9, -999.000,9,   -999.0,9,   -999.0,9,-999.0000,9,  -999.00, -999.000,9,  -999.00,9,  -999.00,9,  24.9535,2,  23.0392,2,  24.9915,2
49UP20220929_1,    P9,    77,  1,     32,     321,2,20221007,2020,2214, 28.4945, 136.9935, 4501,    100.9,      100,  22.4869,  34.6921,2,    216.0,2,  34.6931,2,   216.23,2,     2.00,2,     0.05,2,     0.01,2,    0.030,2, -999.000,9, -999.000,9,   -999.0,9,   -999.0,9,-999.0000,9,  -999.00, -999.000,9,  -999.00,9,  -999.00,9,  22.4666,2,  23.8525,2,  22.4821,2
49UP20220929_1,    P9,    77,  1,     31,     320,2,20221007,2020,2213, 28.4945, 136.9935, 4501,    126.9,      126,  21.1269,  34.7405,2,    206.7,2,  34.7425,2,   207.10,2,     2.41,2,     0.98,2,     0.15,2,    0.080,2, -999.000,9, -999.000,9,   -999.0,9,   -999.0,9,-999.0000,9,  -999.00, -999.000,9,  -999.00,9,  -999.00,9,  21.1026,2,  24.2684,2,  21.1276,2
49UP20220929_1,    P9,    77,  1,     30,     319,2,20221007,2020,2211, 28.4945, 136.9935, 4501,    152.4,      151,  20.2352,  34.7332,2,    217.6,2,  34.7360,2,   216.64,2,     2.33,2,     0.70,2,     0.19,2,    0.070,2, -999.000,9, -999.000,9,   -999.0,9,   -999.0,9,-999.0000,9,  -999.00, -999.000,9,  -999.00,9,  -999.00,9,  20.2069,2,  24.5036,2,  20.2377,2
49UP20220929_1,    P9,    77,  1,     29,     318,2,20221007,2020,2209, 28.4945, 136.9935, 4501,    203.8,      202,  18.0113,  34.7551,2,    201.5,2,  34.7551,2,   201.09,2,     4.06,2,     4.07,2,     0.01,2,    0.270,2, -999.000,9, -999.000,9,   -999.0,9,   -999.0,9,-999.0000,9,  -999.00, -999.000,9,  -999.00,9,  -999.00,9,  17.9763,2,  25.0903,2,  18.0129,2
49UP20220929_1,    P9,    77,  1,     28,     755,2,20221007,2020,2209, 28.4945, 136.9935, 4501,    204.2,      203,  18.0075,  34.7554,2,    201.6,2,  34.7549,2,   200.88,2,     4.06,2,     4.10,2,     0.01,2,    0.270,2, -999.000,9, -999.000,9,   -999.0,9,   -999.0,9,-999.0000,9,  -999.00, -999.000,9,  -999.00,9,  -999.00,9,  17.9725,2,  25.0915,2,  18.0106,2
49UP20220929_1,    P9,    77,  1,     27,     317,2,20221007,2020,2207, 28.4945, 136.9935, 4501,    253.7,      252,  17.3126,  34.7356,2,    205.2,2,  34.7359,2,   204.81,2,     4.59,2,     4.77,2,     0.01,2,    0.310,2, -999.000,9, -999.000,9,   -999.0,9,   -999.0,9,-999.0000,9,  -999.00, -999.000,9,  -999.00,9,  -999.00,9,  17.2702,2,  25.2468,2,  17.3124,2
49UP20220929_1,    P9,    77,  1,     26,     316,2,20221007,2020,2205, 28.4945, 136.9935, 4501,    304.3,      302,  16.5524,  34.6878,2,    190.4,2,  34.6879,2,   190.37,2,     7.26,2,     7.41,2,     0.00,2,    0.490,2, -999.000,9, -999.000,9,   -999.0,9,   -999.0,9,-999.0000,9,  -999.00, -999.000,9,  -999.00,9,  -999.00,9,  16.5031,2,  25.3915,2,  16.5541,2
49UP20220929_1,    P9,    77,  1,     25,     315,2,20221007,2020,2202, 28.4945, 136.9935, 4501,    403.9,      401,  13.6657,  34.4737,2,    185.0,2,  34.4709,2,   184.53,2,    15.35,2,    12.51,2,     0.00,2,    0.850,2, -999.000,9, -999.000,9,   -999.0,9,   -999.0,9,-999.0000,9,  -999.00, -999.000,9,  -999.00,9,  -999.00,9,  13.6082,2,  25.8617,2,  13.6683,2
49UP20220929_1,    P9,    77,  1,     24,     753,2,20221007,2020,2159, 28.4945, 136.9935, 4501,    504.0,      500,  10.4432,  34.2378,2,    172.5,2,  34.2332,2,   172.55,6,    28.16,6,    19.01,6,     0.00,6,    1.330,6, -999.000,9, -999.000,9,   -999.0,9,   -999.0,9,-999.0000,9,  -999.00, -999.000,9,  -999.00,9,  -999.00,9,  10.3828,2,  26.2911,2,  10.4528,2
49UP20220929_1,    P9,    77,  1,     23,     314,2,20221007,2020,2156, 28.4945, 136.9935, 4501,    607.1,      602,   8.3605,  34.1440,2,    146.5,2,  34.1474,6,   146.08,2,    44.79,2,    25.18,2,     0.00,2,    1.780,2, -999.000,9, -999.000,9,   -999.0,9,   -999.0,9,-999.0000,9,  -999.00, -999.000,9,  -999.00,9,  -999.00,9,   8.2966,2,  26.5570,2,   8.3593,2
49UP20220929_1,    P9,    77,  1,     22,     313,2,20221007,2020,2153, 28.4945, 136.9935, 4501,    706.6,      701,   6.1941,  34.1102,2,    109.5,2,  34.1099,2,   109.54,2,    69.18,2,    32.26,2,     0.00,2,    2.310,2, -999.000,9, -999.000,9,   -999.0,9,   -999.0,9,-999.0000,9,  -999.00, -999.000,9,  -999.00,9,  -999.00,9,   6.1307,2,  26.8330,2,   6.1977,2
49UP20220929_1,    P9,    77,  1,     21,     312,2,20221007,2020,2150, 28.4945, 136.9935, 4501,    808.1,      801,   5.2986,  34.2139,2,     80.0,2,  34.2145,2,    79.77,2,    88.99,2,    36.35,2,     0.00,2,    2.600,2, -999.000,9, -999.000,9,   -999.0,9,   -999.0,9,-999.0000,9,  -999.00, -999.000,9,  -999.00,9,  -999.00,9,   5.2309,2,  27.0252,2,   5.2983,2
49UP20220929_1,    P9,    77,  1,     20,     311,4,20221007,2020,2147, 28.4945, 136.9935, 4501,    908.2,      900,   4.4419,  34.2684,2,     63.5,2,  34.6818,4,   155.52,4,   142.41,4,    35.87,4,     0.00,4,    2.480,4, -999.000,9, -999.000,9,   -999.0,9,   -999.0,9,-999.0000,9,  -999.00, -999.000,9,  -999.00,9,  -999.00,9,   4.3711,2,  27.1651,2,   4.4433,2
49UP20220929_1,    P9,    77,  1,     19,     310,2,20221007,2020,2144, 28.4945, 136.9935, 4501,   1010.7,     1002,   3.8916,  34.3219,2,     55.3,2,  34.3226,2,    55.58,2,   117.68,2,    40.51,2,     0.00,2,    2.890,2, -999.000,9, -999.000,9,   -999.0,9,   -999.0,9,-999.0000,9,  -999.00, -999.000,9,  -999.00,9,  -999.00,9,   3.8162,2,  27.2655,2,   3.8909,2
49UP20220929_1,    P9,    77,  1,     18,     752,2,20221007,2020,2140, 28.4945, 136.9935, 4501,   1212.5,     1201,   3.1504,  34.4262,2,     55.9,2,  34.4261,2,    56.07,2,   134.19,2,    41.39,2,     0.00,2,    2.940,2, -999.000,9, -999.000,9,   -999.0,9,   -999.0,9,-999.0000,9,  -999.00, -999.000,9,  -999.00,9,  -999.00,9,   3.0649,2,  27.4211,2,   3.1533,2
49UP20220929_1,    P9,    77,  1,     16,     328,2,20221007,2020,2135, 28.4945, 136.9935, 4501,   1416.5,     1402,   2.6269,  34.4952,2,     61.7,2,  34.4955,2,    62.30,2,   145.92,2,    41.62,2,     0.00,2,    2.940,2, -999.000,9, -999.000,9,   -999.0,9,   -999.0,9,-999.0000,9,  -999.00, -999.000,9,  -999.00,9,  -999.00,9,   2.5303,2,  27.5236,2,   2.6263,2
49UP20220929_1,    P9,    77,  1,     17,     751,2,20221007,2020,2135, 28.4945, 136.9935, 4501,   1416.7,     1402,   2.6277,  34.4951,2,     61.8,2,  34.4953,2,    61.41,2,   145.84,2,    41.58,2,     0.00,2,    2.940,2, -999.000,9, -999.000,9,   -999.0,9,   -999.0,9,-999.0000,9,  -999.00, -999.000,9,  -999.00,9,  -999.00,9,   2.5311,2,  27.5235,2,   2.6271,2
49UP20220929_1,    P9,    77,  1,     15,     309,2,20221007,2020,2130, 28.4945, 136.9935, 4501,   1616.9,     1600,   2.3407,  34.5428,2,     77.6,2,  34.5433,2,    77.69,2,   148.58,2,    40.73,2,     0.00,2,    2.870,2, -999.000,9, -999.000,9,   -999.0,9,   -999.0,9,-999.0000,9,  -999.00, -999.000,9,  -999.00,9,  -999.00,9,   2.2313,2,  27.5868,2,   2.3406,2
49UP20220929_1,    P9,    77,  1,     14,     326,2,20221007,2020,2125, 28.4945, 136.9935, 4501,   1821.4,     1801,   2.1063,  34.5777,2,     90.1,2,  34.5784,2,    90.12,6,   150.54,6,    39.88,6,     0.00,6,    2.810,6, -999.000,9, -999.000,9,   -999.0,9,   -999.0,9,-999.0000,9,  -999.00, -999.000,9,  -999.00,9,  -999.00,9,   1.9833,2,  27.6347,2,   2.1064,2
49UP20220929_1,    P9,    77,  1,     13,     325,2,20221007,2020,2120, 28.4945, 136.9935, 4501,   2024.2,     2001,   1.9323,  34.6065,2,    106.5,2,  34.6073,6,   106.49,2,   148.77,2,    39.02,2,     0.00,2,    2.730,2, -999.000,9, -999.000,9,   -999.0,9,   -999.0,9,-999.0000,9,  -999.00, -999.000,9,  -999.00,9,  -999.00,9,   1.7949,2,  27.6724,2,   1.9324,2
49UP20220929_1,    P9,    77,  1,     12,     324,2,20221007,2020,2115, 28.4945, 136.9935, 4501,   2227.8,     2201,   1.8179,  34.6259,2,    118.5,2,  34.6262,2,   118.66,2,   147.24,2,    38.22,2,     0.00,2,    2.670,2, -999.000,9, -999.000,9,   -999.0,9,   -999.0,9,-999.0000,9,  -999.00, -999.000,9,  -999.00,9,  -999.00,9,   1.6651,2,  27.6978,2,   1.8179,2
49UP20220929_1,    P9,    77,  1,     11,     323,2,20221007,2020,2111, 28.4945, 136.9935, 4501,   2431.8,     2402,   1.7233,  34.6410,2,    127.6,2,  34.6416,2,   127.78,2,   146.15,2,    37.66,2,     0.00,2,    2.630,2, -999.000,9, -999.000,9,   -999.0,9,   -999.0,9,-999.0000,9,  -999.00, -999.000,9,  -999.00,9,  -999.00,9,   1.5543,2,  27.7181,2,   1.7233,2
49UP20220929_1,    P9,    77,  1,     10,     322,2,20221007,2020,2106, 28.4945, 136.9935, 4501,   2635.9,     2602,   1.6475,  34.6526,2,    134.8,2,  34.6531,2,   135.16,2,   145.38,2,    37.27,2,     0.00,2,    2.590,2, -999.000,9, -999.000,9,   -999.0,9,   -999.0,9,-999.0000,9,  -999.00, -999.000,9,  -999.00,9,  -999.00,9,   1.4616,2,  27.7342,2,   1.6476,2
49UP20220929_1,    P9,    77,  1,      9,     750,2,20221007,2020,2101, 28.4945, 136.9935, 4501,   2837.9,     2800,   1.6076,  34.6598,2,    139.6,2,  34.6602,2,   139.47,2,   144.83,2,    36.97,2,     0.00,2,    2.570,2, -999.000,9, -999.000,9,   -999.0,9,   -999.0,9,-999.0000,9,  -999.00, -999.000,9,  -999.00,9,  -999.00,9,   1.4039,2,  27.7441,2,   1.6075,2
49UP20220929_1,    P9,    77,  1,      8,     320,2,20221007,2020,2056, 28.4945, 136.9935, 4501,   3043.6,     3002,   1.5688,  34.6665,2,    144.0,2,  34.6667,2,   144.14,2,   144.26,2,    36.62,2,     0.00,2,    2.550,2, -999.000,9, -999.000,9,   -999.0,9,   -999.0,9,-999.0000,9,  -999.00, -999.000,9,  -999.00,9,  -999.00,9,   1.3464,2,  27.7536,2,   1.5690,2
49UP20220929_1,    P9,    77,  1,      7,     319,2,20221007,2020,2050, 28.4945, 136.9935, 4501,   3297.4,     3250,   1.5272,  34.6733,2,    149.0,2,  34.6737,6,   149.14,2,   143.59,2,    36.52,2,     0.00,2,    2.520,2, -999.000,9, -999.000,9,   -999.0,9,   -999.0,9,-999.0000,9,  -999.00, -999.000,9,  -999.00,9,  -999.00,9,   1.2809,2,  27.7637,2,   1.5272,2
49UP20220929_1,    P9,    77,  1,      6,     318,2,20221007,2020,2045, 28.4945, 136.9935, 4501,   3554.5,     3501,   1.5168,  34.6772,2,    151.9,2,  34.6767,2,   151.82,2,   143.00,2,    36.08,2,     0.00,2,    2.500,2, -999.000,9, -999.000,9,   -999.0,9,   -999.0,9,-999.0000,9,  -999.00, -999.000,9,  -999.00,9,  -999.00,9,   1.2447,2,  27.7693,2,   1.5168,2
49UP20220929_1,    P9,    77,  1,      5,     838,2,20221007,2020,2039, 28.4945, 136.9935, 4501,   3809.9,     3751,   1.5208,  34.6796,2,    153.8,2,  34.6795,2,   154.41,2,   142.67,2,    36.10,2,     0.00,2,    2.490,2, -999.000,9, -999.000,9,   -999.0,9,   -999.0,9,-999.0000,9,  -999.00, -999.000,9,  -999.00,9,  -999.00,9,   1.2218,2,  27.7728,2,   1.5209,2
49UP20220929_1,    P9,    77,  1,      4,     316,2,20221007,2020,2033, 28.4945, 136.9935, 4501,   4066.3,     4001,   1.5371,  34.6806,2,    154.9,2,  34.6808,2,   154.96,6,   142.40,6,    35.99,6,     0.00,6,    2.490,6, -999.000,9, -999.000,9,   -999.0,9,   -999.0,9,-999.0000,9,  -999.00, -999.000,9,  -999.00,9,  -999.00,9,   1.2099,2,  27.7745,2,   1.5370,2
49UP20220929_1,    P9,    77,  1,      3,     315,2,20221007,2020,2028, 28.4945, 136.9935, 4501,   4323.0,     4251,   1.5611,  34.6813,2,    155.4,2,  34.6809,6,   155.50,2,   142.41,2,    35.93,2,     0.00,2,    2.490,2, -999.000,9, -999.000,9,   -999.0,9,   -999.0,9,-999.0000,9,  -999.00, -999.000,9,  -999.00,9,  -999.00,9,   1.2045,2,  27.7754,2,   1.5612,2
49UP20220929_1,    P9,    77,  1,      2,     314,2,20221007,2020,2021, 28.4945, 136.9935, 4501,   4621.0,     4541,   1.5909,  34.6816,2,    156.0,2,  34.6812,2,   156.14,2,   142.21,2,    36.09,2,     0.00,2,    2.480,2, -999.000,9, -999.000,9,   -999.0,9,   -999.0,9,-999.0000,9,  -999.00, -999.000,9,  -999.00,9,  -999.00,9,   1.1991,2,  27.7760,2,   1.5910,2
49UP20220929_1,    P9,    77,  1,      1,     308,2,20221007,2020,2021, 28.4945, 136.9935, 4501,   4622.0,     4542,   1.5911,  34.6815,2,    156.1,2,  34.6817,2,   156.28,2,   142.14,2,    35.92,2,     0.00,2,    2.480,2, -999.000,9, -999.000,9,   -999.0,9,   -999.0,9,-999.0000,9,  -999.00, -999.000,9,  -999.00,9,  -999.00,9,   1.1991,2,  27.7759,2,   1.5910,2