BOTTLE,20230330JMAAMD
EXPOCODE,SECT_ID,STNNBR,CASTNO,SAMPNO,BTLNBR,BTLNBR_FLAG_U,DATE,TIME,BTL_TIME,LATITUDE,LONGITUDE,DEPTH,CTDPRS,CTDDEP,CTDTMP,CTDSAL,CTDSAL_FLAG_W,CTDOXY,CTDOXY_FLAG_W,SALNTY,SALNTY_FLAG_W,OXYGEN,OXYGEN_FLAG_W,SILCAT,SILCAT_FLAG_W,NO2+NO3,NO2+NO3_FLAG_W,NITRIT,NITRIT_FLAG_W,PHSPHT,PHSPHT_FLAG_W,CFC-11,CFC-11_FLAG_W,CFC-12,CFC-12_FLAG_W,TCARBN,TCARBN_FLAG_W,ALKALI,ALKALI_FLAG_W,PH_TS,PH_TS_FLAG_W,PH_TS_TMP,CFC113,CFC113_FLAG_W,CHLORA,CHLORA_FLAG_W,PPHYTN,PPHYTN_FLAG_W,THETA,THETA_FLAG_W,SIGTHT,SIGTHT_FLAG_W,SBE35,SBE35_FLAG_W
,,,,,,,,UTC,,,,METER,DBAR,METERS,ITS-90,PSS-78,,UMOL/KG,,PSS78,,UMOL/KG,,UMOL/KG,,UMOL/KG,,UMOL/KG,,UMOL/KG,,PMOL/KG,,PMOL/KG,,UMOL/KG,,UMOL/KG,,,,ITS-90,PMOL/KG,,UG/KG,,UG/KG,,ITS-90,,KG/M3,,ITS-90,
49UP20220929_1,    P9,    85,  1,      0,      -9,0,20221010,1614,1746, 31.6753, 137.0355, 4226,      0.0,        0,  26.0862,  33.8403,2,    206.6,2,-999.0000,9,   206.06,2,     2.46,2,     0.02,2,     0.00,2,    0.020,2, -999.000,9, -999.000,9,   -999.0,9,   -999.0,9,-999.0000,9,  -999.00, -999.000,9,  -999.00,9,  -999.00,9,  26.0856,2,  22.1321,2,-999.0000,9
49UP20220929_1,    P9,    85,  1,     36,     757,2,20221010,1614,1813, 31.6753, 137.0355, 4226,     11.6,       12,  26.0966,  33.8400,2,    206.1,2,  33.8426,2,   205.59,2,     2.42,2,     0.00,2,     0.00,2,    0.010,2, -999.000,9, -999.000,9,   -999.0,9,   -999.0,9,-999.0000,9,  -999.00, -999.000,9,  -999.00,9,  -999.00,9,  26.0940,2,  22.1292,2,  26.0959,2
49UP20220929_1,    P9,    85,  1,     35,     756,2,20221010,1614,1811, 31.6753, 137.0355, 4226,     28.8,       29,  25.4842,  33.9637,2,    209.7,2,  33.9140,2,   207.44,2,     2.59,2,     0.00,2,     0.00,2,    0.020,2, -999.000,9, -999.000,9,   -999.0,9,   -999.0,9,-999.0000,9,  -999.00, -999.000,9,  -999.00,9,  -999.00,9,  25.4779,2,  22.4127,2,  25.4484,2
49UP20220929_1,    P9,    85,  1,     34,     323,2,20221010,1614,1809, 31.6753, 137.0355, 4226,     54.2,       54,  18.7538,  34.6032,2,    176.0,2,  34.5986,2,   176.13,2,     8.73,2,     6.80,2,     0.08,2,    0.480,2, -999.000,9, -999.000,9,   -999.0,9,   -999.0,9,-999.0000,9,  -999.00, -999.000,9,  -999.00,9,  -999.00,9,  18.7442,2,  24.7827,2,  18.7490,2
49UP20220929_1,    P9,    85,  1,     33,     322,2,20221010,1614,1807, 31.6753, 137.0355, 4226,     78.6,       78,  17.4417,  34.6026,2,    176.1,2,  34.6032,2,   176.00,2,    10.12,2,     8.14,2,     0.04,2,    0.570,2, -999.000,9, -999.000,9,   -999.0,9,   -999.0,9,-999.0000,9,  -999.00, -999.000,9,  -999.00,9,  -999.00,9,  17.4286,2,  25.1068,2,  17.4402,2
49UP20220929_1,    P9,    85,  1,     32,     321,2,20221010,1614,1803, 31.6753, 137.0355, 4226,    102.7,      102,  16.2986,  34.5937,2,    173.7,2,  34.5942,2,   173.50,2,    12.55,2,     9.85,2,     0.02,2,    0.690,2, -999.000,9, -999.000,9,   -999.0,9,   -999.0,9,-999.0000,9,  -999.00, -999.000,9,  -999.00,9,  -999.00,9,  16.2822,2,  25.3703,2,  16.3016,2
49UP20220929_1,    P9,    85,  1,     31,     320,2,20221010,1614,1801, 31.6753, 137.0355, 4226,    128.1,      127,  14.8004,  34.5410,2,    166.2,2,  34.5418,2,   166.17,2,    17.53,2,    12.64,2,     0.01,2,    0.890,2, -999.000,9, -999.000,9,   -999.0,9,   -999.0,9,-999.0000,9,  -999.00, -999.000,9,  -999.00,9,  -999.00,9,  14.7813,2,  25.6657,2,  14.7979,2
49UP20220929_1,    P9,    85,  1,     30,     319,2,20221010,1614,1800, 31.6753, 137.0355, 4226,    153.8,      153,  13.4431,  34.4832,2,    159.9,2,  34.4837,2,   159.32,2,    23.15,2,    15.19,2,     0.01,2,    1.070,2, -999.000,9, -999.000,9,   -999.0,9,   -999.0,9,-999.0000,9,  -999.00, -999.000,9,  -999.00,9,  -999.00,9,  13.4216,2,  25.9073,2,  13.4680,2
49UP20220929_1,    P9,    85,  1,     29,     318,2,20221010,1614,1758, 31.6753, 137.0355, 4226,    201.4,      200,  10.9467,  34.3737,2,    141.7,2,  34.3750,2,   141.02,2,    37.44,2,    20.90,2,     0.00,2,    1.490,2, -999.000,9, -999.000,9,   -999.0,9,   -999.0,9,-999.0000,9,  -999.00, -999.000,9,  -999.00,9,  -999.00,9,  10.9222,2,  26.3018,2,  10.9378,2
49UP20220929_1,    P9,    85,  1,     28,     755,2,20221010,1614,1756, 31.6753, 137.0355, 4226,    252.5,      251,   9.4989,  34.3009,2,    133.1,2,  34.3022,2,   132.73,2,    45.29,2,    24.15,2,     0.00,2,    1.720,2, -999.000,9, -999.000,9,   -999.0,9,   -999.0,9,-999.0000,9,  -999.00, -999.000,9,  -999.00,9,  -999.00,9,   9.4707,2,  26.4945,2,   9.4998,2
49UP20220929_1,    P9,    85,  1,     27,     317,2,20221010,1614,1754, 31.6753, 137.0355, 4226,    285.4,      283,   8.8183,  34.2935,2,    124.0,2,  34.2936,2,   123.73,6,    52.18,6,    26.13,6,     0.00,6,    1.870,6, -999.000,9, -999.000,9,   -999.0,9,   -999.0,9,-999.0000,9,  -999.00, -999.000,9,  -999.00,9,  -999.00,9,   8.7878,2,  26.5984,2,   8.8193,2
49UP20220929_1,    P9,    85,  1,     26,     316,2,20221010,1614,1752, 31.6753, 137.0355, 4226,    376.9,      374,   6.8313,  34.2383,2,    102.7,2,  34.2378,2,   102.45,2,    70.16,2,    31.45,2,     0.00,2,    2.260,2, -999.000,9, -999.000,9,   -999.0,9,   -999.0,9,-999.0000,9,  -999.00, -999.000,9,  -999.00,9,  -999.00,9,   6.7965,2,  26.8465,2,   6.8309,2
49UP20220929_1,    P9,    85,  1,     25,     315,2,20221010,1614,1751, 31.6753, 137.0355, 4226,    376.9,      374,   6.8332,  34.2384,2,    102.8,2,  34.2370,2,   102.87,2,    69.90,2,    31.43,2,     0.00,2,    2.250,2, -999.000,9, -999.000,9,   -999.0,9,   -999.0,9,-999.0000,9,  -999.00, -999.000,9,  -999.00,9,  -999.00,9,   6.7984,2,  26.8463,2,   6.8355,2
49UP20220929_1,    P9,    85,  1,     24,     753,2,20221010,1614,1748, 31.6753, 137.0355, 4226,    476.8,      473,   5.3015,  34.2596,2,     79.1,2,  34.2548,6,    79.27,2,    90.59,2,    36.08,2,     0.00,2,    2.590,2, -999.000,9, -999.000,9,   -999.0,9,   -999.0,9,-999.0000,9,  -999.00, -999.000,9,  -999.00,9,  -999.00,9,   5.2627,2,  27.0577,2,   5.3051,2
49UP20220929_1,    P9,    85,  1,     23,     314,2,20221010,1614,1745, 31.6753, 137.0355, 4226,    580.1,      575,   4.3956,  34.3209,2,     66.1,2,  34.3207,2,    66.09,2,   107.11,2,    38.64,2,     0.00,2,    2.770,2, -999.000,9, -999.000,9,   -999.0,9,   -999.0,9,-999.0000,9,  -999.00, -999.000,9,  -999.00,9,  -999.00,9,   4.3520,2,  27.2089,2,   4.3963,2
49UP20220929_1,    P9,    85,  1,     22,     313,2,20221010,1614,1742, 31.6753, 137.0355, 4226,    680.9,      675,   3.8616,  34.3628,2,     61.0,2,  34.3620,2,    60.72,2,   117.75,2,    39.90,2,     0.00,2,    2.850,2, -999.000,9, -999.000,9,   -999.0,9,   -999.0,9,-999.0000,9,  -999.00, -999.000,9,  -999.00,9,  -999.00,9,   3.8127,2,  27.2984,2,   3.8597,2
49UP20220929_1,    P9,    85,  1,     21,     312,2,20221010,1614,1739, 31.6753, 137.0355, 4226,    779.4,      773,   3.5112,  34.4046,2,     61.3,2,  34.4042,2,    61.15,2,   125.12,2,    40.29,2,     0.00,2,    2.880,2, -999.000,9, -999.000,9,   -999.0,9,   -999.0,9,-999.0000,9,  -999.00, -999.000,9,  -999.00,9,  -999.00,9,   3.4567,2,  27.3669,2,   3.5119,2
49UP20220929_1,    P9,    85,  1,     20,     311,2,20221010,1614,1736, 31.6753, 137.0355, 4226,    876.4,      868,   3.2924,  34.4288,2,     62.1,2,  34.4288,2,    61.75,6,   129.73,6,    40.51,6,     0.00,6,    2.890,6, -999.000,9, -999.000,9,   -999.0,9,   -999.0,9,-999.0000,9,  -999.00, -999.000,9,  -999.00,9,  -999.00,9,   3.2319,2,  27.4076,2,   3.2924,2
49UP20220929_1,    P9,    85,  1,     19,     310,2,20221010,1614,1733, 31.6753, 137.0355, 4226,    975.7,      967,   3.0635,  34.4553,2,     64.5,2,  34.4557,2,    64.70,2,   134.26,2,    40.59,2,     0.00,2,    2.890,2, -999.000,9, -999.000,9,   -999.0,9,   -999.0,9,-999.0000,9,  -999.00, -999.000,9,  -999.00,9,  -999.00,9,   2.9971,2,  27.4506,2,   3.0634,2
49UP20220929_1,    P9,    85,  1,     18,     752,2,20221010,1614,1730, 31.6753, 137.0355, 4226,   1139.9,     1129,   2.7875,  34.4892,2,     69.5,2,  34.4894,6,    69.49,2,   139.33,2,    40.58,2,     0.00,2,    2.880,2, -999.000,9, -999.000,9,   -999.0,9,   -999.0,9,-999.0000,9,  -999.00, -999.000,9,  -999.00,9,  -999.00,9,   2.7108,2,  27.5032,2,   2.7870,2
49UP20220929_1,    P9,    85,  1,     16,     328,2,20221010,1614,1724, 31.6753, 137.0355, 4226,   1349.1,     1335,   2.4795,  34.5283,2,     78.3,2,  34.5277,2,    78.24,2,   144.08,2,    40.31,2,     0.00,2,    2.850,2, -999.000,9, -999.000,9,   -999.0,9,   -999.0,9,-999.0000,9,  -999.00, -999.000,9,  -999.00,9,  -999.00,9,   2.3896,2,  27.5620,2,   2.4793,2
49UP20220929_1,    P9,    85,  1,     17,     751,2,20221010,1614,1724, 31.6753, 137.0355, 4226,   1352.0,     1338,   2.4741,  34.5291,2,     78.5,2,  34.5286,2,    78.22,2,   144.19,2,    40.26,2,     0.00,2,    2.850,2, -999.000,9, -999.000,9,   -999.0,9,   -999.0,9,-999.0000,9,  -999.00, -999.000,9,  -999.00,9,  -999.00,9,   2.3841,2,  27.5632,2,   2.4742,2
49UP20220929_1,    P9,    85,  1,     15,     309,2,20221010,1614,1718, 31.6753, 137.0355, 4226,   1551.7,     1535,   2.2245,  34.5639,2,     90.1,2,  34.5638,2,    90.22,2,   146.66,2,    39.62,2,     0.00,2,    2.800,2, -999.000,9, -999.000,9,   -999.0,9,   -999.0,9,-999.0000,9,  -999.00, -999.000,9,  -999.00,9,  -999.00,9,   2.1216,2,  27.6126,2,   2.2247,2
49UP20220929_1,    P9,    85,  1,     14,     326,2,20221010,1614,1713, 31.6753, 137.0355, 4226,   1754.0,     1735,   2.0386,  34.5917,2,    102.1,2,  34.5921,2,   102.08,2,   147.28,2,    39.01,2,     0.00,2,    2.750,2, -999.000,9, -999.000,9,   -999.0,9,   -999.0,9,-999.0000,9,  -999.00, -999.000,9,  -999.00,9,  -999.00,9,   1.9219,2,  27.6507,2,   2.0383,2
49UP20220929_1,    P9,    85,  1,     13,     325,2,20221010,1614,1708, 31.6753, 137.0355, 4226,   1955.0,     1932,   1.9174,  34.6096,2,    109.8,2,  34.6097,2,   109.91,6,   147.71,6,    38.57,6,     0.00,6,    2.710,6, -999.000,9, -999.000,9,   -999.0,9,   -999.0,9,-999.0000,9,  -999.00, -999.000,9,  -999.00,9,  -999.00,9,   1.7860,2,  27.6755,2,   1.9175,2
49UP20220929_1,    P9,    85,  1,     12,     324,2,20221010,1614,1703, 31.6753, 137.0355, 4226,   2157.4,     2131,   1.7958,  34.6282,2,    120.0,2,  34.6285,6,   119.58,2,   147.19,2,    37.96,2,     0.00,2,    2.660,2, -999.000,9, -999.000,9,   -999.0,9,   -999.0,9,-999.0000,9,  -999.00, -999.000,9,  -999.00,9,  -999.00,9,   1.6494,2,  27.7007,2,   1.7957,2
49UP20220929_1,    P9,    85,  1,     11,     323,2,20221010,1614,1658, 31.6753, 137.0355, 4226,   2361.1,     2332,   1.7163,  34.6408,2,    127.6,2,  34.6414,2,   127.36,2,   146.32,2,    37.49,2,     0.00,2,    2.620,2, -999.000,9, -999.000,9,   -999.0,9,   -999.0,9,-999.0000,9,  -999.00, -999.000,9,  -999.00,9,  -999.00,9,   1.5536,2,  27.7179,2,   1.7163,2
49UP20220929_1,    P9,    85,  1,     10,     322,2,20221010,1614,1653, 31.6753, 137.0355, 4226,   2565.1,     2532,   1.6510,  34.6511,2,    133.9,2,  34.6516,2,   133.59,2,   145.82,2,    37.07,2,     0.00,2,    2.590,2, -999.000,9, -999.000,9,   -999.0,9,   -999.0,9,-999.0000,9,  -999.00, -999.000,9,  -999.00,9,  -999.00,9,   1.4714,2,  27.7323,2,   1.6508,2
49UP20220929_1,    P9,    85,  1,      9,     750,2,20221010,1614,1648, 31.6753, 137.0355, 4226,   2770.8,     2734,   1.5962,  34.6599,2,    139.6,2,  34.6598,2,   139.40,2,   144.96,2,    36.74,2,     0.00,2,    2.560,2, -999.000,9, -999.000,9,   -999.0,9,   -999.0,9,-999.0000,9,  -999.00, -999.000,9,  -999.00,9,  -999.00,9,   1.3990,2,  27.7445,2,   1.5962,2
49UP20220929_1,    P9,    85,  1,      8,     320,2,20221010,1614,1644, 31.6753, 137.0355, 4226,   2968.5,     2927,   1.5543,  34.6666,2,    144.3,2,  34.6666,2,   144.05,2,   144.35,2,    36.47,2,     0.00,2,    2.540,2, -999.000,9, -999.000,9,   -999.0,9,   -999.0,9,-999.0000,9,  -999.00, -999.000,9,  -999.00,9,  -999.00,9,   1.3393,2,  27.7541,2,   1.5542,2
49UP20220929_1,    P9,    85,  1,      7,     319,2,20221010,1614,1644, 31.6753, 137.0355, 4226,   2969.9,     2929,   1.5535,  34.6667,2,    144.4,2,  34.6672,2,   144.04,2,   144.31,2,    36.49,2,     0.00,2,    2.540,2, -999.000,9, -999.000,9,   -999.0,9,   -999.0,9,-999.0000,9,  -999.00, -999.000,9,  -999.00,9,  -999.00,9,   1.3385,2,  27.7543,2,   1.5536,2
49UP20220929_1,    P9,    85,  1,      6,     318,2,20221010,1614,1638, 31.6753, 137.0355, 4226,   3219.5,     3173,   1.5250,  34.6724,2,    148.4,2,  34.6728,2,   148.32,6,   143.82,6,    36.18,6,     0.00,6,    2.520,6, -999.000,9, -999.000,9,   -999.0,9,   -999.0,9,-999.0000,9,  -999.00, -999.000,9,  -999.00,9,  -999.00,9,   1.2865,2,  27.7625,2,   1.5248,2
49UP20220929_1,    P9,    85,  1,      5,     838,2,20221010,1614,1632, 31.6753, 137.0355, 4226,   3474.3,     3422,   1.5167,  34.6762,2,    151.0,2,  34.6764,2,   150.96,2,   143.45,2,    36.05,2,     0.00,2,    2.500,2, -999.000,9, -999.000,9,   -999.0,9,   -999.0,9,-999.0000,9,  -999.00, -999.000,9,  -999.00,9,  -999.00,9,   1.2528,2,  27.7680,2,   1.5167,2
49UP20220929_1,    P9,    85,  1,      4,     316,2,20221010,1614,1626, 31.6753, 137.0355, 4226,   3726.7,     3669,   1.5235,  34.6783,2,    152.6,2,  34.6785,2,   152.61,2,   143.10,2,    35.95,2,     0.00,2,    2.490,2, -999.000,9, -999.000,9,   -999.0,9,   -999.0,9,-999.0000,9,  -999.00, -999.000,9,  -999.00,9,  -999.00,9,   1.2333,2,  27.7710,2,   1.5235,2
49UP20220929_1,    P9,    85,  1,      3,     315,2,20221010,1614,1620, 31.6753, 137.0355, 4226,   3987.8,     3923,   1.5410,  34.6796,2,    153.6,2,  34.6799,6,   153.59,2,   142.95,2,    35.91,2,     0.00,2,    2.490,2, -999.000,9, -999.000,9,   -999.0,9,   -999.0,9,-999.0000,9,  -999.00, -999.000,9,  -999.00,9,  -999.00,9,   1.2223,2,  27.7728,2,   1.5409,2
49UP20220929_1,    P9,    85,  1,      2,     314,2,20221010,1614,1614, 31.6753, 137.0355, 4226,   4271.5,     4200,   1.5668,  34.6803,2,    154.2,2,  34.6806,2,   153.92,2,   142.95,2,    35.87,2,     0.00,2,    2.490,2, -999.000,9, -999.000,9,   -999.0,9,   -999.0,9,-999.0000,9,  -999.00, -999.000,9,  -999.00,9,  -999.00,9,   1.2159,2,  27.7738,2,   1.5668,2
49UP20220929_1,    P9,    85,  1,      1,     308,2,20221010,1614,1614, 31.6753, 137.0355, 4226,   4272.5,     4201,   1.5670,  34.6804,2,    154.2,2,  34.6815,4,   154.01,2,   142.95,2,    35.80,2,     0.00,2,    2.490,2, -999.000,9, -999.000,9,   -999.0,9,   -999.0,9,-999.0000,9,  -999.00, -999.000,9,  -999.00,9,  -999.00,9,   1.2160,2,  27.7739,2,   1.5670,2