BOTTLE,20230330JMAAMD
EXPOCODE,SECT_ID,STNNBR,CASTNO,SAMPNO,BTLNBR,BTLNBR_FLAG_U,DATE,TIME,BTL_TIME,LATITUDE,LONGITUDE,DEPTH,CTDPRS,CTDDEP,CTDTMP,CTDSAL,CTDSAL_FLAG_W,CTDOXY,CTDOXY_FLAG_W,SALNTY,SALNTY_FLAG_W,OXYGEN,OXYGEN_FLAG_W,SILCAT,SILCAT_FLAG_W,NO2+NO3,NO2+NO3_FLAG_W,NITRIT,NITRIT_FLAG_W,PHSPHT,PHSPHT_FLAG_W,CFC-11,CFC-11_FLAG_W,CFC-12,CFC-12_FLAG_W,TCARBN,TCARBN_FLAG_W,ALKALI,ALKALI_FLAG_W,PH_TS,PH_TS_FLAG_W,PH_TS_TMP,CFC113,CFC113_FLAG_W,CHLORA,CHLORA_FLAG_W,PPHYTN,PPHYTN_FLAG_W,THETA,THETA_FLAG_W,SIGTHT,SIGTHT_FLAG_W,SBE35,SBE35_FLAG_W
,,,,,,,,UTC,,,,METER,DBAR,METERS,ITS-90,PSS-78,,UMOL/KG,,PSS78,,UMOL/KG,,UMOL/KG,,UMOL/KG,,UMOL/KG,,UMOL/KG,,PMOL/KG,,PMOL/KG,,UMOL/KG,,UMOL/KG,,,,ITS-90,PMOL/KG,,UG/KG,,UG/KG,,ITS-90,,KG/M3,,ITS-90,
49UP20220824_1,    P9,    55,  1,      0,      -9,0,20220909,1521,1704, 18.0185, 137.0017, 4882,      0.0,        0,  30.2011,  34.2774,2,    192.4,2,  34.3017,2,   193.18,2,     0.88,2,     0.07,2,     0.00,2,    0.020,2, -999.000,9, -999.000,9,   1924.2,2,   2252.7,2,   8.1153,2,    25.00, -999.000,9,     0.05,2,     0.02,2,  30.2005,2,  21.1161,2,-999.0000,9
49UP20220824_1,    P9,    55,  1,     36,     757,2,20220909,1521,1746, 18.0185, 137.0017, 4882,     10.5,       10,  30.2032,  34.2773,2,    192.6,2,  34.2763,2,   193.62,2,     0.93,2,     0.02,2,     0.00,2,    0.000,2, -999.000,9, -999.000,9,   1923.3,2,   2252.5,2,   8.1166,2,    25.00, -999.000,9,     0.05,2,     0.03,2,  30.2006,2,  21.1160,2,  30.2042,2
49UP20220824_1,    P9,    55,  1,     35,     756,2,20220909,1521,1741, 18.0185, 137.0017, 4882,     49.7,       49,  29.5612,  34.4970,2,    207.8,2,  34.4668,2,   205.96,2,     1.01,2,     0.02,2,     0.00,2,    0.000,2, -999.000,9, -999.000,9,   1934.4,2,   2264.7,2,   8.1101,2,    25.00, -999.000,9,     0.06,2,     0.04,2,  29.5491,2,  21.5022,2,  29.5713,2
49UP20220824_1,    P9,    55,  1,     34,     323,2,20220909,1521,1739, 18.0185, 137.0017, 4882,     99.5,       99,  26.1926,  34.8742,2,    195.6,2,  34.8750,2,   195.72,6,     1.33,6,     0.01,6,     0.00,6,    0.040,6, -999.000,9, -999.000,9,   1984.4,2,   2292.8,2,   8.0646,2,    25.00, -999.000,9,     0.16,2,     0.22,2,  26.1703,2,  22.8852,2,  26.1948,2
49UP20220824_1,    P9,    55,  1,     33,     322,2,20220909,1521,1737, 18.0185, 137.0017, 4882,    125.6,      125,  24.7757,  34.9449,2,    183.3,2,  34.9443,2,   183.98,2,     1.58,2,     0.60,2,     0.05,2,    0.110,2, -999.000,9, -999.000,9,   2010.3,2,   2297.3,2,   8.0240,2,    25.00, -999.000,9,     0.14,2,     0.37,2,  24.7487,2,  23.3757,2,  24.7753,2
49UP20220824_1,    P9,    55,  1,     32,     321,2,20220909,1521,1736, 18.0185, 137.0017, 4882,    150.9,      150,  23.3243,  34.9802,2,    177.1,2,  34.9791,2,   177.82,2,     2.06,2,     1.43,2,     0.03,2,    0.170,2, -999.000,9, -999.000,9,   2036.1,2,   2300.4,2,   7.9902,2,    25.00, -999.000,9,     0.05,2,     0.20,2,  23.2932,2,  23.8337,2,  23.3245,2
49UP20220824_1,    P9,    55,  1,     31,     320,2,20220909,1521,1733, 18.0185, 137.0017, 4882,    201.9,      201,  20.5394,  34.9163,2,    181.3,2,  34.9176,2,   182.04,2,     2.94,2,     2.83,2,     0.01,2,    0.240,2, -999.000,9, -999.000,9,   2053.4,2,   2295.8,2,   7.9481,2,    25.00, -999.000,9,     0.02,2,     0.04,2,  20.5014,2,  24.5647,2,  20.5351,2
49UP20220824_1,    P9,    55,  1,     30,     319,2,20220909,1521,1730, 18.0185, 137.0017, 4882,    251.6,      250,  17.7949,  34.7675,2,    195.0,2,  34.7686,2,   195.65,2,     4.14,2,     4.58,2,     0.01,2,    0.310,2, -999.000,9, -999.000,9,   2054.2,2,   2285.1,2,   7.9255,6,    25.00, -999.000,9,  -999.00,9,  -999.00,9,  17.7520,2,  25.1548,2,  17.7923,2
49UP20220824_1,    P9,    55,  1,     29,     318,2,20220909,1521,1729, 18.0185, 137.0017, 4882,    281.6,      280,  16.9797,  34.7167,2,    195.5,2,  34.7176,2,   196.05,2,     5.34,2,     5.86,2,     0.00,2,    0.390,2, -999.000,9, -999.000,9,   2061.5,6,   2282.7,6,   7.9100,2,    25.00, -999.000,9,  -999.00,9,  -999.00,9,  16.9332,2,  25.3126,2,  16.9795,2
49UP20220824_1,    P9,    55,  1,     28,     755,2,20220909,1521,1727, 18.0185, 137.0017, 4882,    321.7,      320,  15.4690,  34.5843,2,    187.7,2,  34.5873,2,   188.38,2,     8.19,2,     8.72,2,     0.00,2,    0.600,2, -999.000,9, -999.000,9,   2082.6,2,   2276.2,2,   7.8589,2,    25.00, -999.000,9,  -999.00,9,  -999.00,9,  15.4193,2,  25.5588,2,  15.4710,2
49UP20220824_1,    P9,    55,  1,     27,     317,2,20220909,1521,1724, 18.0185, 137.0017, 4882,    372.0,      369,  13.0967,  34.3964,2,    157.7,2,  34.3991,2,   157.46,2,    16.13,2,    15.06,2,     0.00,2,    1.120,2, -999.000,9, -999.000,9,   2128.0,2,   2273.5,2,   7.7424,2,    25.00, -999.000,9,  -999.00,9,  -999.00,9,  13.0452,2,  25.9162,2,  13.0967,2
49UP20220824_1,    P9,    55,  1,     26,     316,2,20220909,1521,1722, 18.0185, 137.0017, 4882,    423.7,      421,  11.0138,  34.2849,2,    144.6,2,  34.2862,2,   145.21,2,    24.13,2,    19.75,2,     0.00,2,    1.450,2, -999.000,9, -999.000,9,   2152.4,2,   2273.3,2,   7.6716,2,    25.00, -999.000,9,  -999.00,9,  -999.00,9,  10.9614,2,  26.2256,2,  11.0227,2
49UP20220824_1,    P9,    55,  1,     25,     315,2,20220909,1521,1720, 18.0185, 137.0017, 4882,    473.9,      471,   9.7463,  34.2554,2,    123.7,2,  34.2560,2,   123.55,6,    32.89,6,    24.29,6,     0.00,6,    1.780,6, -999.000,9, -999.000,9,   2185.1,2,   2280.1,2,   7.6055,2,    25.00, -999.000,9,  -999.00,9,  -999.00,9,   9.6919,2,  26.4223,2,   9.7459,2
49UP20220824_1,    P9,    55,  1,     24,     753,2,20220909,1521,1716, 18.0185, 137.0017, 4882,    574.8,      571,   7.3696,  34.2722,2,     81.2,2,  34.2724,2,    81.01,2,    55.52,2,    32.96,2,     0.00,2,    2.380,2, -999.000,9, -999.000,9,   2248.1,2,   2301.4,2,   7.4882,2,    25.00, -999.000,9,  -999.00,9,  -999.00,9,   7.3134,2,  26.8018,2,   7.3699,2
49UP20220824_1,    P9,    55,  1,     23,     314,2,20220909,1521,1713, 18.0185, 137.0017, 4882,    675.2,      670,   6.2415,  34.3756,2,     75.5,2,  34.3763,2,    75.36,2,    70.85,2,    35.97,2,     0.00,2,    2.570,2, -999.000,9, -999.000,9,   2271.7,2,   2322.8,2,   7.4763,2,    25.00, -999.000,9,  -999.00,9,  -999.00,9,   6.1806,2,  27.0362,2,   6.2399,2
49UP20220824_1,    P9,    55,  1,     22,     313,2,20220909,1521,1710, 18.0185, 137.0017, 4882,    777.7,      772,   5.4932,  34.4262,2,     77.3,2,  34.4282,2,    77.53,2,    82.23,2,    37.06,2,     0.00,2,    2.650,2, -999.000,9, -999.000,9,   2293.4,2,   2338.7,2,   7.4727,2,    25.00, -999.000,9,  -999.00,9,  -999.00,9,   5.4268,2,  27.1701,2,   5.4933,2
49UP20220824_1,    P9,    55,  1,     21,     312,2,20220909,1521,1706, 18.0185, 137.0017, 4882,    877.8,      871,   4.8498,  34.4682,2,     82.1,2,  34.4680,2,    82.20,2,    93.66,2,    37.67,2,     0.00,2,    2.680,2, -999.000,9, -999.000,9,   2299.1,2,   2354.2,2,   7.4806,2,    25.00, -999.000,9,  -999.00,9,  -999.00,9,   4.7785,2,  27.2789,2,   4.8509,2
49UP20220824_1,    P9,    55,  1,     20,     311,2,20220909,1521,1703, 18.0185, 137.0017, 4882,    980.3,      972,   4.3484,  34.4928,2,     84.1,2,  34.4934,2,    84.02,2,   103.64,2,    38.16,2,     0.00,2,    2.720,2, -999.000,9, -999.000,9,   2310.7,2,   2366.0,2,   7.4840,2,    25.00, -999.000,9,  -999.00,9,  -999.00,9,   4.2718,2,  27.3541,2,   4.3483,2
49UP20220824_1,    P9,    55,  1,     19,     310,2,20220909,1521,1658, 18.0185, 137.0017, 4882,   1142.5,     1133,   3.6703,  34.5320,2,     90.2,2,  34.5316,6,    90.30,2,   116.39,2,    38.36,2,     0.00,2,    2.730,2, -999.000,9, -999.000,9,   2322.1,2,   2381.1,2,   7.4929,2,    25.00, -999.000,9,  -999.00,9,  -999.00,9,   3.5855,2,  27.4559,2,   3.6702,2
49UP20220824_1,    P9,    55,  1,     18,     752,2,20220909,1521,1653, 18.0185, 137.0017, 4882,   1344.0,     1332,   3.1970,  34.5564,2,     93.9,2,  34.5573,2,    94.04,2,   125.45,2,    38.69,2,     0.00,2,    2.740,2, -999.000,9, -999.000,9,   2329.2,2,   2391.1,2,   7.4964,2,    25.00, -999.000,9,  -999.00,9,  -999.00,9,   3.1000,2,  27.5217,2,   3.1969,2
49UP20220824_1,    P9,    55,  1,     17,     751,2,20220909,1521,1647, 18.0185, 137.0017, 4882,   1546.5,     1532,   2.7614,  34.5837,2,    100.0,2,  34.5844,2,    99.86,2,   132.52,2,    38.69,2,     0.00,2,    2.740,2, -999.000,9, -999.000,9,   2334.2,2,   2399.0,2,   7.5038,2,    25.00, -999.000,9,  -999.00,9,  -999.00,9,   2.6525,2,  27.5838,2,   2.7617,2
49UP20220824_1,    P9,    55,  1,     16,     328,2,20220909,1521,1642, 18.0185, 137.0017, 4882,   1748.0,     1730,   2.4646,  34.5974,2,    103.8,2,  34.5988,4,   103.89,6,   137.79,6,    38.75,6,     0.00,6,    2.730,6, -999.000,9, -999.000,9,   2342.6,2,   2404.5,2,   7.5062,2,    25.00, -999.000,9,  -999.00,9,  -999.00,9,   2.3427,2,  27.6213,2,   2.4648,2
49UP20220824_1,    P9,    55,  1,     15,     309,2,20220909,1521,1637, 18.0185, 137.0017, 4882,   1950.9,     1930,   2.2412,  34.6107,2,    108.3,2,  34.6116,2,   108.42,2,   141.46,2,    38.67,2,     0.00,2,    2.720,2, -999.000,9, -999.000,9,   2343.5,2,   2409.0,2,   7.5129,6,    25.00, -999.000,9,  -999.00,9,  -999.00,9,   2.1053,2,  27.6514,2,   2.2412,2
49UP20220824_1,    P9,    55,  1,     14,     326,2,20220909,1521,1632, 18.0185, 137.0017, 4882,   2155.5,     2132,   2.0301,  34.6266,2,    115.5,2,  34.6271,2,   115.51,2,   144.44,2,    38.38,2,     0.00,2,    2.690,2, -999.000,9, -999.000,9,   2340.0,6,   2412.7,6,   7.5227,2,    25.00, -999.000,9,  -999.00,9,  -999.00,9,   1.8800,2,  27.6820,2,   2.0301,2
49UP20220824_1,    P9,    55,  1,     13,     325,2,20220909,1521,1627, 18.0185, 137.0017, 4882,   2357.7,     2330,   1.8961,  34.6380,2,    121.5,2,  34.6397,4,   122.02,2,   145.75,2,    37.91,2,     0.00,2,    2.660,2, -999.000,9, -999.000,9,   2339.7,2,   2413.4,2,   7.5326,2,    25.00, -999.000,9,  -999.00,9,  -999.00,9,   1.7306,2,  27.7026,2,   1.8963,2
49UP20220824_1,    P9,    55,  1,     12,     324,2,20220909,1521,1623, 18.0185, 137.0017, 4882,   2560.9,     2530,   1.8073,  34.6474,2,    126.7,2,  34.6492,4,   126.71,2,   146.23,2,    37.76,2,     0.00,2,    2.630,2, -999.000,9, -999.000,9,   2338.0,2,   2414.8,2,   7.5413,2,    25.00, -999.000,9,  -999.00,9,  -999.00,9,   1.6252,2,  27.7180,2,   1.8074,2
49UP20220824_1,    P9,    55,  1,     11,     323,2,20220909,1521,1618, 18.0185, 137.0017, 4882,   2763.8,     2729,   1.7310,  34.6553,2,    131.7,2,  34.6559,2,   131.85,2,   146.41,2,    37.40,2,     0.00,2,    2.610,2, -999.000,9, -999.000,9,   2337.9,2,   2416.0,2,   7.5506,2,    25.00, -999.000,9,  -999.00,9,  -999.00,9,   1.5317,2,  27.7312,2,   1.7312,2
49UP20220824_1,    P9,    55,  1,     10,     322,2,20220909,1521,1613, 18.0185, 137.0017, 4882,   2969.3,     2931,   1.6734,  34.6614,2,    136.5,2,  34.6620,2,   136.44,2,   145.99,2,    37.03,2,     0.00,2,    2.590,2, -999.000,9, -999.000,9,   2334.5,2,   2416.4,2,   7.5570,2,    25.00, -999.000,9,  -999.00,9,  -999.00,9,   1.4559,2,  27.7416,2,   1.6735,2
49UP20220824_1,    P9,    55,  1,      9,     750,2,20220909,1521,1607, 18.0185, 137.0017, 4882,   3214.1,     3171,   1.6248,  34.6673,2,    141.2,2,  34.6688,4,   140.92,2,   146.17,2,    36.85,2,     0.00,2,    2.560,2, -999.000,9, -999.000,9,   2331.7,2,   2417.1,2,   7.5640,2,    25.00, -999.000,9,  -999.00,9,  -999.00,9,   1.3844,2,  27.7515,2,   1.6249,2
49UP20220824_1,    P9,    55,  1,      8,     320,2,20220909,1521,1601, 18.0185, 137.0017, 4882,   3469.8,     3421,   1.5730,  34.6736,2,    146.6,2,  34.6749,4,   146.68,2,   144.86,2,    36.57,2,     0.00,2,    2.530,2, -999.000,9, -999.000,9,   2328.5,2,   2415.8,2,   7.5717,2,    25.00, -999.000,9,  -999.00,9,  -999.00,9,   1.3081,2,  27.7620,2,   1.5731,2
49UP20220824_1,    P9,    55,  1,      7,     319,2,20220909,1521,1556, 18.0185, 137.0017, 4882,   3725.1,     3670,   1.5489,  34.6773,2,    150.5,2,  34.6775,2,   150.52,6,   144.01,6,    36.27,6,     0.00,6,    2.510,6, -999.000,9, -999.000,9,   2325.1,2,   2415.6,2,   7.5794,2,    25.00, -999.000,9,  -999.00,9,  -999.00,9,   1.2581,2,  27.7685,2,   1.5489,2
49UP20220824_1,    P9,    55,  1,      6,     318,2,20220909,1521,1549, 18.0185, 137.0017, 4882,   3981.3,     3921,   1.5302,  34.6807,2,    154.2,2,  34.6805,2,   154.25,2,   142.92,2,    35.98,2,     0.00,2,    2.490,2, -999.000,9, -999.000,9,   2324.3,2,   2414.4,2,   7.5837,2,    25.00, -999.000,9,  -999.00,9,  -999.00,9,   1.2125,2,  27.7743,2,   1.5303,2
49UP20220824_1,    P9,    55,  1,      5,     838,2,20220909,1521,1543, 18.0185, 137.0017, 4882,   4236.8,     4170,   1.5171,  34.6838,2,    157.8,2,  34.6841,2,   158.10,2,   141.78,2,    35.75,2,     0.00,2,    2.470,2, -999.000,9, -999.000,9,   2319.4,2,   2413.5,2,   7.5882,2,    25.00, -999.000,9,  -999.00,9,  -999.00,9,   1.1716,2,  27.7797,2,   1.5172,2
49UP20220824_1,    P9,    55,  1,      4,     316,2,20220909,1521,1538, 18.0185, 137.0017, 4882,   4493.8,     4420,   1.5257,  34.6854,2,    159.8,2,  34.6857,2,   160.43,2,   141.10,2,    35.58,2,     0.00,2,    2.460,2, -999.000,9, -999.000,9,   2317.4,2,   2413.4,2,   7.5908,2,    25.00, -999.000,9,  -999.00,9,  -999.00,9,   1.1506,2,  27.7824,2,   1.5258,2
49UP20220824_1,    P9,    55,  1,      3,     315,2,20220909,1521,1532, 18.0185, 137.0017, 4882,   4750.5,     4670,   1.5501,  34.6858,2,    160.3,2,  34.6861,2,   160.38,2,   141.02,2,    35.63,2,     0.00,2,    2.460,2, -999.000,9, -999.000,9,   2316.4,2,   2412.4,2,   7.5919,6,    25.00, -999.000,9,  -999.00,9,  -999.00,9,   1.1442,2,  27.7832,2,   1.5500,2
49UP20220824_1,    P9,    55,  1,      2,     314,2,20220909,1521,1526, 18.0185, 137.0017, 4882,   5008.0,     4920,   1.5816,  34.6860,2,    160.6,2,  34.6858,2,   160.67,2,   141.02,2,    35.49,2,     0.00,2,    2.460,2, -999.000,9, -999.000,9,   2315.7,6,   2413.0,6,   7.5917,2,    25.00, -999.000,9,  -999.00,9,  -999.00,9,   1.1437,2,  27.7833,2,   1.5817,2
49UP20220824_1,    P9,    55,  1,      1,     308,2,20220909,1521,1522, 18.0185, 137.0017, 4882,   5125.2,     5034,   1.5968,  34.6860,2,    160.6,2,  34.6864,6,   160.87,2,   140.93,2,    35.60,2,     0.00,2,    2.460,2, -999.000,9, -999.000,9,   2317.5,2,   2412.6,2,   7.5902,2,    25.00, -999.000,9,  -999.00,9,  -999.00,9,   1.1439,2,  27.7833,2,   1.5969,2