BOTTLE,20230330JMAAMD
EXPOCODE,SECT_ID,STNNBR,CASTNO,SAMPNO,BTLNBR,BTLNBR_FLAG_U,DATE,TIME,BTL_TIME,LATITUDE,LONGITUDE,DEPTH,CTDPRS,CTDDEP,CTDTMP,CTDSAL,CTDSAL_FLAG_W,CTDOXY,CTDOXY_FLAG_W,SALNTY,SALNTY_FLAG_W,OXYGEN,OXYGEN_FLAG_W,SILCAT,SILCAT_FLAG_W,NO2+NO3,NO2+NO3_FLAG_W,NITRIT,NITRIT_FLAG_W,PHSPHT,PHSPHT_FLAG_W,CFC-11,CFC-11_FLAG_W,CFC-12,CFC-12_FLAG_W,TCARBN,TCARBN_FLAG_W,ALKALI,ALKALI_FLAG_W,PH_TS,PH_TS_FLAG_W,PH_TS_TMP,CFC113,CFC113_FLAG_W,CHLORA,CHLORA_FLAG_W,PPHYTN,PPHYTN_FLAG_W,THETA,THETA_FLAG_W,SIGTHT,SIGTHT_FLAG_W,SBE35,SBE35_FLAG_W
,,,,,,,,UTC,,,,METER,DBAR,METERS,ITS-90,PSS-78,,UMOL/KG,,PSS78,,UMOL/KG,,UMOL/KG,,UMOL/KG,,UMOL/KG,,UMOL/KG,,PMOL/KG,,PMOL/KG,,UMOL/KG,,UMOL/KG,,,,ITS-90,PMOL/KG,,UG/KG,,UG/KG,,ITS-90,,KG/M3,,ITS-90,
49UP20220727_1,    P9,    11,  1,      0,      -9,0,20220808,0825,0925,  1.9900, 142.0073, 2574,      0.0,        0,  30.0734,  34.6877,2,    195.4,2,  34.6879,2,   195.51,2,     1.30,2,     0.02,2,     0.00,2,    0.160,2, -999.000,9, -999.000,9,   1948.0,2,   2282.8,2,   8.1098,2,    25.00, -999.000,9,     0.12,2,     0.07,2,  30.0727,2,  21.4672,2,-999.0000,9
49UP20220727_1,    P9,    11,  1,     35,     756,2,20220808,0825,0949,  1.9900, 142.0073, 2574,     10.9,       11,  29.9308,  34.6836,2,    195.8,2,  34.7172,2,   195.88,2,     1.26,2,     0.00,2,     0.00,2,    0.120,2, -999.000,9, -999.000,9,   1955.1,2,   2284.8,2,   8.1075,2,    25.00, -999.000,9,     0.14,2,     0.07,2,  29.9281,2,  21.5135,2,  29.9313,2
49UP20220727_1,    P9,    11,  1,     34,     323,2,20220808,0825,0947,  1.9900, 142.0073, 2574,     26.0,       26,  29.9716,  34.9717,2,    195.4,2,  34.9784,2,   194.27,2,     1.26,2,     0.05,2,     0.03,2,    0.160,2, -999.000,9, -999.000,9,   1969.5,2,   2300.9,2,   8.1024,2,    25.00, -999.000,9,     0.26,2,     0.21,2,  29.9651,2,  21.7169,2,  29.9918,2
49UP20220727_1,    P9,    11,  1,     33,     322,2,20220808,0825,0943,  1.9900, 142.0073, 2574,     51.3,       51,  29.5868,  35.2179,2,    184.9,2,  35.2200,2,   184.99,6,     1.50,6,     1.33,6,     0.33,6,    0.290,6, -999.000,9, -999.000,9,   1997.4,2,   2316.2,2,   8.0722,2,    25.00, -999.000,9,     0.55,2,     0.43,2,  29.5742,2,  22.0344,2,  29.5864,2
49UP20220727_1,    P9,    11,  1,     32,     321,2,20220808,0825,0942,  1.9900, 142.0073, 2574,     77.9,       77,  29.5711,  35.3212,2,    192.7,2,  35.3218,2,   191.66,2,     1.50,2,     0.99,2,     0.24,2,    0.290,2, -999.000,9, -999.000,9,   2004.2,6,   2323.3,6,   8.0718,2,    25.00, -999.000,9,     0.31,2,     0.26,2,  29.5519,2,  22.1195,2,  29.5706,2
49UP20220727_1,    P9,    11,  1,     31,     320,2,20220808,0825,0940,  1.9900, 142.0073, 2574,    101.8,      101,  29.0794,  35.3239,2,    172.3,2,  35.3298,2,   171.26,2,     1.89,2,     3.69,2,     0.32,2,    0.500,2, -999.000,9, -999.000,9,   2024.6,2,   2321.1,2,   8.0376,6,    25.00, -999.000,9,     0.17,2,     0.25,2,  29.0547,2,  22.2890,2,  29.0824,2
49UP20220727_1,    P9,    11,  1,     29,     318,2,20220808,0825,0939,  1.9900, 142.0073, 2574,    126.8,      126,  27.8140,  35.3008,2,    154.4,2,  35.2998,2,   154.50,2,     2.62,2,     6.11,2,     0.03,2,    0.570,2, -999.000,9, -999.000,9,   2042.4,2,   2319.7,2,   7.9950,2,    25.00, -999.000,9,     0.05,2,     0.12,2,  27.7842,2,  22.6913,2,  27.8057,2
49UP20220727_1,    P9,    11,  1,     30,     319,2,20220808,0825,0939,  1.9900, 142.0073, 2574,    127.2,      126,  27.7823,  35.2984,2,    154.2,2,  35.3012,2,   154.87,2,     2.65,2,     6.08,2,     0.03,2,    0.570,2, -999.000,9, -999.000,9,   2043.4,2,   2319.8,2,   7.9959,2,    25.00, -999.000,9,  -999.00,9,  -999.00,9,  27.7525,2,  22.6998,2,  27.7731,2
49UP20220727_1,    P9,    11,  1,     28,     755,2,20220808,0825,0937,  1.9900, 142.0073, 2574,    153.2,      152,  25.6835,  35.3670,2,    141.1,2,  35.3697,2,   141.99,2,     3.63,2,     8.07,2,     0.02,2,    0.690,2, -999.000,9, -999.000,9,   2072.4,2,   2323.4,2,   7.9531,2,    25.00, -999.000,9,     0.01,2,     0.04,2,  25.6495,2,  23.4192,2,  25.7082,2
49UP20220727_1,    P9,    11,  1,     27,     317,2,20220808,0825,0936,  1.9900, 142.0073, 2574,    201.3,      200,  18.4171,  35.1420,2,    137.0,2,  35.1199,2,   137.31,6,     9.64,6,    12.63,6,     0.01,6,    0.970,6, -999.000,9, -999.000,9,   2121.1,2,   2314.1,2,   7.8335,2,    25.00, -999.000,9,     0.00,2,     0.02,2,  18.3820,2,  25.2859,2,  18.4189,2
49UP20220727_1,    P9,    11,  1,     26,     316,2,20220808,0825,0934,  1.9900, 142.0073, 2574,    251.5,      250,  10.6383,  34.6496,2,    126.4,2,  34.6416,6,   124.95,2,    28.26,2,    24.49,2,     0.00,2,    1.760,2, -999.000,9, -999.000,9,   2189.0,6,   2304.9,6,   7.6537,2,    25.00, -999.000,9,  -999.00,9,  -999.00,9,  10.6079,2,  26.5728,2,  10.6415,2
49UP20220727_1,    P9,    11,  1,     25,     315,2,20220808,0825,0931,  1.9900, 142.0073, 2574,    332.5,      330,   9.8096,  34.6796,2,    133.8,2,  34.6786,2,   133.13,2,    24.77,2,    25.40,2,     0.00,2,    1.800,2, -999.000,9, -999.000,9,   2191.9,2,   2304.1,2,   7.6518,6,    25.00, -999.000,9,  -999.00,9,  -999.00,9,   9.7714,2,  26.7405,2,   9.8112,2
49UP20220727_1,    P9,    11,  1,     24,     753,2,20220808,0825,0929,  1.9900, 142.0073, 2574,    385.8,      383,   9.6818,  34.6801,2,    133.5,2,  34.6804,2,   133.60,2,    24.39,2,    25.70,2,     0.00,2,    1.810,2, -999.000,9, -999.000,9,   2192.0,2,   2304.8,2,   7.6483,2,    25.00, -999.000,9,  -999.00,9,  -999.00,9,   9.6377,2,  26.7633,2,   9.6818,2
49UP20220727_1,    P9,    11,  1,     23,     314,2,20220808,0825,0927,  1.9900, 142.0073, 2574,    433.6,      431,   9.2280,  34.6499,2,    125.5,2,  34.6490,2,   125.34,2,    26.82,2,    27.30,2,     0.00,2,    1.920,2, -999.000,9, -999.000,9,   2199.5,2,   2304.0,2,-999.0000,5,    25.00, -999.000,9,  -999.00,9,  -999.00,9,   9.1797,2,  26.8151,2,   9.2281,2
49UP20220727_1,    P9,    11,  1,     21,     312,2,20220808,0825,0925,  1.9900, 142.0073, 2574,    483.8,      481,   8.6352,  34.6125,2,    122.4,2,  34.6115,2,   122.50,2,    29.62,2,    28.78,2,     0.00,2,    2.010,2, -999.000,9, -999.000,9,   2210.0,2,   2306.7,2,-999.0000,5,    25.00, -999.000,9,  -999.00,9,  -999.00,9,   8.5834,2,  26.8805,2,   8.6355,2
49UP20220727_1,    P9,    11,  1,     22,     313,2,20220808,0825,0925,  1.9900, 142.0073, 2574,    483.9,      481,   8.6325,  34.6125,2,    122.3,2,  34.6125,2,   121.59,2,    29.59,2,    28.77,2,     0.00,2,    2.010,2, -999.000,9, -999.000,9,   2207.7,2,   2305.1,2,-999.0000,5,    25.00, -999.000,9,  -999.00,9,  -999.00,9,   8.5807,2,  26.8809,2,   8.6330,2
49UP20220727_1,    P9,    11,  1,     20,     311,2,20220808,0825,0923,  1.9900, 142.0073, 2574,    534.0,      530,   8.2178,  34.5889,2,    123.6,2,  34.5891,2,   123.47,2,    31.57,2,    29.47,2,     0.00,2,    2.060,2, -999.000,9, -999.000,9,   2209.6,2,   2305.7,2,-999.0000,5,    25.00, -999.000,9,  -999.00,9,  -999.00,9,   8.1621,2,  26.9266,2,   8.2180,2
49UP20220727_1,    P9,    11,  1,     19,     310,2,20220808,0825,0920,  1.9900, 142.0073, 2574,    634.4,      630,   7.2055,  34.5428,2,    128.9,2,  34.5431,6,   127.76,2,    37.02,2,    31.21,2,     0.00,2,    2.180,2, -999.000,9, -999.000,9,   2218.7,2,   2308.4,2,-999.0000,5,    25.00, -999.000,9,  -999.00,9,  -999.00,9,   7.1437,2,  27.0386,2,   7.2058,2
49UP20220727_1,    P9,    11,  1,     15,     309,2,20220808,0825,0917,  1.9900, 142.0073, 2574,    735.4,      730,   6.4012,  34.5302,2,    101.3,2,  34.5304,2,   100.65,2,    53.27,2,    34.92,2,     0.00,2,    2.470,2, -999.000,9, -999.000,9,   2250.6,2,   2322.6,2,-999.0000,5,    25.00, -999.000,9,  -999.00,9,  -999.00,9,   6.3335,2,  27.1384,2,   6.4006,2
49UP20220727_1,    P9,    11,  1,     14,     326,2,20220808,0825,0912,  1.9900, 142.0073, 2574,    837.5,      831,   5.3334,  34.5365,2,     94.1,2,  34.5364,2,    94.38,6,    70.45,6,    37.20,6,     0.00,6,    2.640,6, -999.000,9, -999.000,9,   2277.0,6,   2339.7,6,-999.0000,5,    25.00, -999.000,9,  -999.00,9,  -999.00,9,   5.2624,2,  27.2771,2,   5.3331,2
49UP20220727_1,    P9,    11,  1,     13,     325,2,20220808,0825,0909,  1.9900, 142.0073, 2574,    937.4,      930,   4.6996,  34.5484,2,     94.7,2,  34.5483,2,    94.49,2,    83.32,2,    37.83,2,     0.00,2,    2.690,2, -999.000,9, -999.000,9,   2291.3,2,   2354.7,2,-999.0000,5,    25.00, -999.000,9,  -999.00,9,  -999.00,9,   4.6240,2,  27.3599,2,   4.7022,2
49UP20220727_1,    P9,    11,  1,     12,     324,2,20220808,0825,0905,  1.9900, 142.0073, 2574,   1079.2,     1070,   4.1283,  34.5631,2,     94.3,2,  34.5629,6,    93.89,2,    96.22,2,    38.39,2,     0.00,2,    2.730,2, -999.000,9, -999.000,9,   2303.9,2,   2366.6,2,-999.0000,5,    25.00, -999.000,9,  -999.00,9,  -999.00,9,   4.0448,2,  27.4340,2,   4.1276,2
49UP20220727_1,    P9,    11,  1,     11,     323,2,20220808,0825,0900,  1.9900, 142.0073, 2574,   1281.8,     1271,   3.4765,  34.5826,2,    101.4,2,  34.5830,2,   101.23,2,   108.38,2,    38.40,2,     0.00,2,    2.730,2, -999.000,9, -999.000,9,   2313.5,2,   2381.4,2,-999.0000,5,    25.00, -999.000,9,  -999.00,9,  -999.00,9,   3.3818,2,  27.5160,2,   3.4765,2
49UP20220727_1,    P9,    11,  1,     10,     322,2,20220808,0825,0855,  1.9900, 142.0073, 2574,   1483.3,     1470,   3.0532,  34.5979,2,    105.9,2,  34.5981,2,   105.69,2,   117.48,2,    38.41,2,     0.00,2,    2.720,2, -999.000,9, -999.000,9,   2327.9,2,   2391.8,2,-999.0000,5,    25.00, -999.000,9,  -999.00,9,  -999.00,9,   2.9461,2,  27.5690,2,   3.0532,2
49UP20220727_1,    P9,    11,  1,      9,     750,2,20220808,0825,0849,  1.9900, 142.0073, 2574,   1687.4,     1671,   2.5812,  34.6171,2,    109.8,2,  34.6170,2,   109.67,6,   129.01,6,    38.42,6,     0.00,6,    2.710,6, -999.000,9, -999.000,9,   2331.4,2,   2401.4,2,-999.0000,5,    25.00, -999.000,9,  -999.00,9,  -999.00,9,   2.4627,2,  27.6269,2,   2.5813,2
49UP20220727_1,    P9,    11,  1,      8,     320,2,20220808,0825,0844,  1.9900, 142.0073, 2574,   1888.6,     1870,   2.3852,  34.6274,2,    115.5,2,  34.6280,2,   115.00,2,   131.69,2,    38.14,2,     0.00,2,    2.690,2, -999.000,9, -999.000,9,   2329.4,2,   2405.1,2,-999.0000,5,    25.00, -999.000,9,  -999.00,9,  -999.00,9,   2.2525,2,  27.6528,2,   2.3853,2
49UP20220727_1,    P9,    11,  1,      6,     318,2,20220808,0825,0839,  1.9900, 142.0073, 2574,   2092.0,     2070,   2.2022,  34.6361,2,    118.6,2,  34.6367,2,   118.19,2,   136.46,2,    37.99,2,     0.00,2,    2.670,2, -999.000,9, -999.000,9,   2336.4,2,   2409.4,2,   7.5376,2,    25.00, -999.000,9,  -999.00,9,  -999.00,9,   2.0547,2,  27.6758,2,   2.2022,2
49UP20220727_1,    P9,    11,  1,      7,     319,2,20220808,0825,0839,  1.9900, 142.0073, 2574,   2092.1,     2070,   2.2024,  34.6360,2,    118.6,2,  34.6367,2,   118.53,2,   136.37,2,    38.00,2,     0.00,2,    2.670,2, -999.000,9, -999.000,9,   2335.5,2,   2409.3,2,   7.5413,2,    25.00, -999.000,9,  -999.00,9,  -999.00,9,   2.0550,2,  27.6757,2,   2.2024,2
49UP20220727_1,    P9,    11,  1,      5,     838,2,20220808,0825,0834,  1.9900, 142.0073, 2574,   2296.3,     2271,   2.0406,  34.6449,2,    121.6,2,  34.6453,6,   121.42,2,   140.40,2,    37.86,2,     0.00,2,    2.660,2, -999.000,9, -999.000,9,   2336.7,2,   2413.6,2,   7.5422,2,    25.00, -999.000,9,  -999.00,9,  -999.00,9,   1.8779,2,  27.6968,2,   2.0407,2
49UP20220727_1,    P9,    11,  1,      3,     315,2,20220808,0825,0828,  1.9900, 142.0073, 2574,   2498.9,     2470,   1.8584,  34.6551,2,    128.2,2,  34.6556,2,   128.11,2,   142.95,2,    37.51,2,     0.00,2,    2.620,2, -999.000,9, -999.000,9,   2337.4,2,   2416.6,2,   7.5509,2,    25.00, -999.000,9,  -999.00,9,  -999.00,9,   1.6808,2,  27.7200,2,   1.8584,2
49UP20220727_1,    P9,    11,  1,      2,     314,2,20220808,0825,0828,  1.9900, 142.0073, 2574,   2498.9,     2470,   1.8580,  34.6550,2,    128.3,2,  34.6561,2,   128.00,2,   142.71,2,    37.46,2,     0.00,2,    2.620,2, -999.000,9, -999.000,9,   2336.0,2,   2417.5,2,   7.5510,2,    25.00, -999.000,9,  -999.00,9,  -999.00,9,   1.6805,2,  27.7200,2,   1.8581,2
49UP20220727_1,    P9,    11,  1,      1,     308,2,20220808,0825,0825,  1.9900, 142.0073, 2574,   2580.0,     2550,   1.7840,  34.6593,2,    131.7,2,  34.6592,2,   131.54,2,   143.54,2,    37.26,2,     0.00,2,    2.600,2, -999.000,9, -999.000,9,   2334.4,2,   2417.7,2,   7.5560,2,    25.00, -999.000,9,  -999.00,9,  -999.00,9,   1.6005,2,  27.7294,2,   1.7840,2