BOTTLE,20230330JMAAMD
EXPOCODE,SECT_ID,STNNBR,CASTNO,SAMPNO,BTLNBR,BTLNBR_FLAG_U,DATE,TIME,BTL_TIME,LATITUDE,LONGITUDE,DEPTH,CTDPRS,CTDDEP,CTDTMP,CTDSAL,CTDSAL_FLAG_W,CTDOXY,CTDOXY_FLAG_W,SALNTY,SALNTY_FLAG_W,OXYGEN,OXYGEN_FLAG_W,SILCAT,SILCAT_FLAG_W,NO2+NO3,NO2+NO3_FLAG_W,NITRIT,NITRIT_FLAG_W,PHSPHT,PHSPHT_FLAG_W,CFC-11,CFC-11_FLAG_W,CFC-12,CFC-12_FLAG_W,TCARBN,TCARBN_FLAG_W,ALKALI,ALKALI_FLAG_W,PH_TS,PH_TS_FLAG_W,PH_TS_TMP,CFC113,CFC113_FLAG_W,CHLORA,CHLORA_FLAG_W,PPHYTN,PPHYTN_FLAG_W,THETA,THETA_FLAG_W,SIGTHT,SIGTHT_FLAG_W,SBE35,SBE35_FLAG_W
,,,,,,,,UTC,,,,METER,DBAR,METERS,ITS-90,PSS-78,,UMOL/KG,,PSS78,,UMOL/KG,,UMOL/KG,,UMOL/KG,,UMOL/KG,,UMOL/KG,,PMOL/KG,,PMOL/KG,,UMOL/KG,,UMOL/KG,,,,ITS-90,PMOL/KG,,UG/KG,,UG/KG,,ITS-90,,KG/M3,,ITS-90,
49UP20220929_1,    P9,    93,  1,      0,      -9,0,20221015,0127,0142, 34.1678, 137.0130,  939,      0.0,        0,  26.1489,  33.9222,2,    206.5,2,-999.0000,9,   206.59,2,     2.52,2,     0.06,2,     0.00,2,    0.040,2, -999.000,9, -999.000,9,   -999.0,9,   -999.0,9,-999.0000,9,  -999.00, -999.000,9,  -999.00,9,  -999.00,9,  26.1483,2,  22.1743,2,-999.0000,9
49UP20220929_1,    P9,    93,  1,     36,     757,2,20221015,0127,0206, 34.1678, 137.0130,  939,     10.5,       10,  26.1610,  33.9225,2,    205.3,2,  33.9252,2,   205.90,2,     2.51,2,     0.06,2,     0.00,2,    0.010,2, -999.000,9, -999.000,9,   -999.0,9,   -999.0,9,-999.0000,9,  -999.00, -999.000,9,  -999.00,9,  -999.00,9,  26.1587,2,  22.1713,2,  26.1535,2
49UP20220929_1,    P9,    93,  1,     35,     756,2,20221015,0127,0204, 34.1678, 137.0130,  939,     25.5,       25,  26.1171,  33.9185,2,    205.3,2,  33.9211,2,   206.10,2,     2.59,2,     0.03,2,     0.00,2,    0.010,2, -999.000,9, -999.000,9,   -999.0,9,   -999.0,9,-999.0000,9,  -999.00, -999.000,9,  -999.00,9,  -999.00,9,  26.1114,2,  22.1830,2,  26.1178,2
49UP20220929_1,    P9,    93,  1,     33,     322,2,20221015,0127,0201, 34.1678, 137.0130,  939,     50.0,       50,  24.2395,  34.2901,2,    200.1,2,  34.2916,2,   200.97,2,     3.89,2,     1.17,2,     0.16,2,    0.110,2, -999.000,9, -999.000,9,   -999.0,9,   -999.0,9,-999.0000,9,  -999.00, -999.000,9,  -999.00,9,  -999.00,9,  24.2289,2,  23.0363,2,  24.2243,2
49UP20220929_1,    P9,    93,  1,     34,     323,2,20221015,0127,0201, 34.1678, 137.0130,  939,     50.3,       50,  24.2218,  34.2930,2,    200.2,2,  34.2915,2,   200.85,2,     3.80,2,     1.15,2,     0.16,2,    0.100,2, -999.000,9, -999.000,9,   -999.0,9,   -999.0,9,-999.0000,9,  -999.00, -999.000,9,  -999.00,9,  -999.00,9,  24.2112,2,  23.0437,2,  24.2186,2
49UP20220929_1,    P9,    93,  1,     27,     317,2,20221015,0127,0200, 34.1678, 137.0130,  939,     75.2,       75,  20.8458,  34.5544,2,    188.9,2,  34.5562,2,   190.32,2,     5.70,2,     3.50,2,     0.12,2,    0.280,2, -999.000,9, -999.000,9,   -999.0,9,   -999.0,9,-999.0000,9,  -999.00, -999.000,9,  -999.00,9,  -999.00,9,  20.8316,2,  24.2003,2,  20.8329,2
49UP20220929_1,    P9,    93,  1,     26,     316,2,20221015,0127,0158, 34.1678, 137.0130,  939,    100.7,      100,  18.5454,  34.6560,2,    175.4,2,  34.6566,2,   176.16,2,     9.27,2,     6.92,2,     0.01,2,    0.500,2, -999.000,9, -999.000,9,   -999.0,9,   -999.0,9,-999.0000,9,  -999.00, -999.000,9,  -999.00,9,  -999.00,9,  18.5278,2,  24.8775,2,  18.5571,2
49UP20220929_1,    P9,    93,  1,     25,     315,2,20221015,0127,0157, 34.1678, 137.0130,  939,    126.8,      126,  16.9385,  34.6171,2,    172.6,2,  34.6171,2,   173.51,2,    12.30,2,     9.08,2,     0.00,2,    0.650,2, -999.000,9, -999.000,9,   -999.0,9,   -999.0,9,-999.0000,9,  -999.00, -999.000,9,  -999.00,9,  -999.00,9,  16.9177,2,  25.2399,2,  16.9370,2
49UP20220929_1,    P9,    93,  1,     21,     312,2,20221015,0127,0155, 34.1678, 137.0130,  939,    152.1,      151,  15.7739,  34.5692,2,    167.5,2,  34.5713,2,   168.42,6,    15.39,6,    11.09,6,     0.00,6,    0.780,6, -999.000,9, -999.000,9,   -999.0,9,   -999.0,9,-999.0000,9,  -999.00, -999.000,9,  -999.00,9,  -999.00,9,  15.7501,2,  25.4729,2,  15.7747,2
49UP20220929_1,    P9,    93,  1,     20,     311,2,20221015,0127,0153, 34.1678, 137.0130,  939,    202.0,      200,  13.9196,  34.5022,2,    162.5,2,  34.5026,2,   163.13,2,    21.16,2,    14.17,2,     0.00,2,    1.000,2, -999.000,9, -999.000,9,   -999.0,9,   -999.0,9,-999.0000,9,  -999.00, -999.000,9,  -999.00,9,  -999.00,9,  13.8906,2,  25.8252,2,  13.9193,2
49UP20220929_1,    P9,    93,  1,     19,     310,2,20221015,0127,0151, 34.1678, 137.0130,  939,    253.5,      252,  12.6792,  34.4360,2,    158.4,2,  34.4370,2,   158.97,2,    25.81,2,    16.50,2,     0.00,2,    1.170,2, -999.000,9, -999.000,9,   -999.0,9,   -999.0,9,-999.0000,9,  -999.00, -999.000,9,  -999.00,9,  -999.00,9,  12.6450,2,  26.0263,2,  12.6786,2
49UP20220929_1,    P9,    93,  1,     18,     752,2,20221015,0127,0148, 34.1678, 137.0130,  939,    335.7,      333,   9.5889,  34.2856,2,    138.7,2,  34.2864,6,   138.44,2,    43.94,2,    23.39,2,     0.00,2,    1.670,2, -999.000,9, -999.000,9,   -999.0,9,   -999.0,9,-999.0000,9,  -999.00, -999.000,9,  -999.00,9,  -999.00,9,   9.5510,2,  26.4692,2,   9.5872,2
49UP20220929_1,    P9,    93,  1,     17,     751,2,20221015,0127,0145, 34.1678, 137.0130,  939,    437.6,      434,   7.3567,  34.2308,2,    110.7,2,  34.2297,2,   110.79,2,    64.02,2,    29.87,2,     0.00,2,    2.140,2, -999.000,9, -999.000,9,   -999.0,9,   -999.0,9,-999.0000,9,  -999.00, -999.000,9,  -999.00,9,  -999.00,9,   7.3144,2,  26.7690,2,   7.3550,2
49UP20220929_1,    P9,    93,  1,     16,     328,2,20221015,0127,0141, 34.1678, 137.0130,  939,    538.6,      534,   5.6492,  34.2335,2,     85.5,2,  34.2330,2,    85.81,2,    85.49,2,    34.91,2,     0.00,2,    2.510,2, -999.000,9, -999.000,9,   -999.0,9,   -999.0,9,-999.0000,9,  -999.00, -999.000,9,  -999.00,9,  -999.00,9,   5.6036,2,  26.9961,2,   5.6498,2
49UP20220929_1,    P9,    93,  1,     10,     322,2,20221015,0127,0138, 34.1678, 137.0130,  939,    638.9,      633,   4.5378,  34.2949,2,     67.0,2,  34.2940,2,    67.68,6,   105.04,6,    38.33,6,     0.00,6,    2.740,6, -999.000,9, -999.000,9,   -999.0,9,   -999.0,9,-999.0000,9,  -999.00, -999.000,9,  -999.00,9,  -999.00,9,   4.4887,2,  27.1735,2,   4.5381,2
49UP20220929_1,    P9,    93,  1,      9,     750,2,20221015,0127,0135, 34.1678, 137.0130,  939,    740.8,      734,   3.9174,  34.3545,2,     61.2,2,  34.3546,2,    61.53,2,   117.89,2,    39.78,2,     0.00,2,    2.840,2, -999.000,9, -999.000,9,   -999.0,9,   -999.0,9,-999.0000,9,  -999.00, -999.000,9,  -999.00,9,  -999.00,9,   3.8635,2,  27.2866,2,   3.9176,2
49UP20220929_1,    P9,    93,  1,      3,     315,2,20221015,0127,0132, 34.1678, 137.0130,  939,    839.5,      832,   3.5300,  34.4012,2,     61.9,2,  34.4008,6,    61.92,2,   125.99,2,    40.18,2,     0.00,2,    2.870,2, -999.000,9, -999.000,9,   -999.0,9,   -999.0,9,-999.0000,9,  -999.00, -999.000,9,  -999.00,9,  -999.00,9,   3.4707,2,  27.3628,2,   3.5298,2
49UP20220929_1,    P9,    93,  1,      1,     308,2,20221015,0127,0127, 34.1678, 137.0130,  939,   1017.4,     1008,   3.1264,  34.4488,2,     65.2,2,  34.4483,2,    65.61,2,   134.15,2,    40.38,2,     0.00,2,    2.880,2, -999.000,9, -999.000,9,   -999.0,9,   -999.0,9,-999.0000,9,  -999.00, -999.000,9,  -999.00,9,  -999.00,9,   3.0563,2,  27.4399,2,   3.1259,2
49UP20220929_1,    P9,    93,  1,      2,     314,2,20221015,0127,0127, 34.1678, 137.0130,  939,   1018.1,     1008,   3.1230,  34.4494,2,     65.2,2,  34.4493,2,    65.22,2,   133.97,2,    40.51,2,     0.00,2,    2.880,2, -999.000,9, -999.000,9,   -999.0,9,   -999.0,9,-999.0000,9,  -999.00, -999.000,9,  -999.00,9,  -999.00,9,   3.0528,2,  27.4407,2,   3.1234,2
49UP20220929_1,    P9,    92,  1,      0,      -9,0,20221015,0401,0415, 34.0085, 137.0172, 1246,      0.0,        0,  25.9642,  33.8946,2,    206.2,2,  33.8291,2,   206.79,2,     2.71,2,     0.13,2,     0.00,2,    0.040,2, -999.000,9, -999.000,9,   1937.6,2,   2235.4,2,   8.0676,2,    25.00, -999.000,9,     0.52,2,     0.08,2,  25.9636,2,  22.2109,2,-999.0000,9
49UP20220929_1,    P9,    92,  1,     36,     757,2,20221015,0401,0446, 34.0085, 137.0172, 1246,     10.8,       11,  25.9642,  33.8943,2,    205.7,2,  33.8969,2,   206.44,2,     2.69,2,     0.08,2,     0.00,2,    0.020,2, -999.000,9, -999.000,9,   1938.2,2,   2235.6,2,   8.0729,2,    25.00, -999.000,9,     0.46,2,     0.10,2,  25.9618,2,  22.2112,2,  25.9637,2
49UP20220929_1,    P9,    92,  1,     35,     756,2,20221015,0401,0444, 34.0085, 137.0172, 1246,     27.5,       27,  25.9426,  33.9044,2,    205.9,2,  33.9064,2,   206.52,2,     2.74,2,     0.06,2,     0.00,2,    0.020,2, -999.000,9, -999.000,9,   1938.6,2,   2236.6,2,   8.0725,2,    25.00, -999.000,9,     0.58,2,     0.05,2,  25.9365,2,  22.2267,2,  25.9424,2
49UP20220929_1,    P9,    92,  1,     34,     323,2,20221015,0401,0443, 34.0085, 137.0172, 1246,     52.5,       52,  25.2239,  34.1809,2,    194.5,2,  34.0560,2,   196.78,2,     3.30,2,     0.97,2,     0.10,2,    0.090,2, -999.000,9, -999.000,9,   1957.6,2,   2243.7,2,   8.0454,2,    25.00, -999.000,9,     0.73,2,     0.35,2,  25.2125,2,  22.6578,2,  25.2684,2
49UP20220929_1,    P9,    92,  1,     27,     317,2,20221015,0401,0441, 34.0085, 137.0172, 1246,     78.9,       78,  20.7110,  34.5217,2,    191.1,2,  34.5209,6,   192.47,6,     5.89,6,     3.15,6,     0.37,6,    0.260,6, -999.000,9, -999.000,9,   2029.2,2,   2273.0,2,   7.9591,2,    25.00, -999.000,9,     0.16,2,     0.20,2,  20.6961,2,  24.2119,2,  20.7191,2
49UP20220929_1,    P9,    92,  1,     25,     315,2,20221015,0401,0437, 34.0085, 137.0172, 1246,    102.9,      102,  18.8079,  34.5930,2,    177.0,2,  34.5927,2,   177.91,2,     8.47,2,     6.42,2,     0.03,2,    0.470,2, -999.000,9, -999.000,9,   2058.4,2,   2275.5,2,   7.9105,2,    25.00, -999.000,9,     0.09,2,     0.16,2,  18.7898,2,  24.7634,2,  18.8137,2
49UP20220929_1,    P9,    92,  1,     26,     316,2,20221015,0401,0438, 34.0085, 137.0172, 1246,    103.5,      103,  18.7926,  34.5941,2,    176.9,2,  34.5931,2,   177.66,2,     8.48,2,     6.42,2,     0.03,2,    0.460,2, -999.000,9, -999.000,9,   2055.3,2,   2276.1,2,   7.9097,2,    25.00, -999.000,9,  -999.00,9,  -999.00,9,  18.7744,2,  24.7682,2,  18.7936,2
49UP20220929_1,    P9,    92,  1,     21,     312,2,20221015,0401,0436, 34.0085, 137.0172, 1246,    128.6,      128,  17.8886,  34.5977,2,    174.0,2,  34.5978,2,   174.97,2,    10.02,2,     7.75,2,     0.02,2,    0.550,2, -999.000,9, -999.000,9,   2067.8,2,   2277.6,2,   7.8904,2,    25.00, -999.000,9,     0.06,2,     0.12,2,  17.8667,2,  24.9966,2,  17.8887,2
49UP20220929_1,    P9,    92,  1,     20,     311,2,20221015,0401,0434, 34.0085, 137.0172, 1246,    153.8,      153,  16.9412,  34.6210,2,    175.0,2,  34.6209,2,   175.67,2,    11.62,2,     8.78,2,     0.01,2,    0.620,2, -999.000,9, -999.000,9,   2076.2,2,   2281.0,2,   7.8763,2,    25.00, -999.000,9,     0.02,2,     0.05,2,  16.9160,2,  25.2433,2,  16.9410,2
49UP20220929_1,    P9,    92,  1,     19,     310,2,20221015,0401,0432, 34.0085, 137.0172, 1246,    203.9,      202,  15.8559,  34.5962,2,    173.3,2,  34.5963,2,   173.88,2,    14.15,2,    10.29,2,     0.01,2,    0.730,2, -999.000,9, -999.000,9,   2089.1,2,   2280.5,2,   7.8505,2,    25.00, -999.000,9,     0.01,2,     0.02,2,  15.8239,2,  25.4770,2,  15.8551,2
49UP20220929_1,    P9,    92,  1,     18,     752,2,20221015,0401,0430, 34.0085, 137.0172, 1246,    252.8,      251,  13.8185,  34.4965,2,    166.6,2,  34.4961,2,   166.90,2,    20.33,2,    13.87,2,     0.00,2,    0.970,2, -999.000,9, -999.000,9,   2115.6,6,   2279.6,6,   7.7951,2,    25.00, -999.000,9,  -999.00,9,  -999.00,9,  13.7824,2,  25.8433,2,  13.8158,2
49UP20220929_1,    P9,    92,  1,     17,     751,2,20221015,0401,0429, 34.0085, 137.0172, 1246,    303.0,      301,  12.1507,  34.4102,2,    153.3,2,  34.4092,2,   153.42,2,    28.86,2,    17.82,2,     0.00,2,    1.260,2, -999.000,9, -999.000,9,   2141.6,2,   2282.6,2,   7.7310,6,    25.00, -999.000,9,  -999.00,9,  -999.00,9,  12.1109,2,  26.1099,2,  12.1498,2
49UP20220929_1,    P9,    92,  1,     16,     328,2,20221015,0401,0425, 34.0085, 137.0172, 1246,    408.6,      405,   9.0715,  34.2995,2,    126.6,2,  34.3003,2,   127.06,6,    50.30,6,    25.30,6,     0.00,6,    1.810,6, -999.000,9, -999.000,9,   2199.2,2,   2296.9,2,   7.6173,2,    25.00, -999.000,9,  -999.00,9,  -999.00,9,   9.0268,2,  26.5653,2,   9.0728,2
49UP20220929_1,    P9,    92,  1,     12,     324,2,20221015,0401,0422, 34.0085, 137.0172, 1246,    507.2,      503,   6.4596,  34.1791,2,    104.2,2,  34.1813,2,   104.24,2,    71.04,2,    31.96,2,     0.00,2,    2.290,2, -999.000,9, -999.000,9,   2250.6,2,   2308.3,2,   7.5042,2,    25.00, -999.000,9,  -999.00,9,  -999.00,9,   6.4137,2,  26.8508,2,   6.4616,2
49UP20220929_1,    P9,    92,  1,     11,     323,2,20221015,0401,0419, 34.0085, 137.0172, 1246,    610.7,      605,   5.2410,  34.2319,2,     79.9,2,  34.2307,2,    80.75,2,    91.13,2,    36.10,2,     0.00,2,    2.580,2, -999.000,9, -999.000,9,   2285.2,2,   2327.0,2,   7.4434,2,    25.00, -999.000,9,  -999.00,9,  -999.00,9,   5.1910,2,  27.0441,2,   5.2417,2
49UP20220929_1,    P9,    92,  1,     10,     322,2,20221015,0401,0415, 34.0085, 137.0172, 1246,    710.2,      704,   4.4286,  34.3077,2,     66.0,2,  34.3069,2,    66.70,2,   107.29,2,    38.47,2,     0.00,2,    2.750,2, -999.000,9, -999.000,9,   2313.1,2,   2347.9,2,   7.4165,2,    25.00, -999.000,9,  -999.00,9,  -999.00,9,   4.3743,2,  27.1960,2,   4.4310,2
49UP20220929_1,    P9,    92,  1,      9,     750,2,20221015,0401,0412, 34.0085, 137.0172, 1246,    814.1,      807,   3.8431,  34.3595,2,     60.1,2,  34.3589,2,    60.04,2,   119.11,2,    39.80,2,     0.00,2,    2.840,2, -999.000,9, -999.000,9,   2331.1,2,   2361.7,2,   7.4045,2,    25.00, -999.000,9,  -999.00,9,  -999.00,9,   3.7839,2,  27.2987,2,   3.8421,2
49UP20220929_1,    P9,    92,  1,      8,     320,2,20221015,0401,0409, 34.0085, 137.0172, 1246,    912.0,      904,   3.4798,  34.4074,2,     61.9,2,  34.4070,2,    62.13,2,   126.75,2,    40.21,2,     0.00,2,    2.860,2, -999.000,9, -999.000,9,   2339.1,6,   2371.1,6,   7.4126,2,    25.00, -999.000,9,  -999.00,9,  -999.00,9,   3.4153,2,  27.3731,2,   3.4798,2
49UP20220929_1,    P9,    92,  1,      7,     319,2,20221015,0401,0406, 34.0085, 137.0172, 1246,   1012.8,     1003,   3.2873,  34.4266,2,     61.7,2,  34.4262,6,    61.77,2,   130.81,2,    40.51,2,     0.00,2,    2.880,2, -999.000,9, -999.000,9,   2343.1,2,   2375.7,2,   7.4097,6,    25.00, -999.000,9,  -999.00,9,  -999.00,9,   3.2163,2,  27.4074,2,   3.2873,2
49UP20220929_1,    P9,    92,  1,      2,     314,2,20221015,0401,0402, 34.0085, 137.0172, 1246,   1191.0,     1179,   2.8798,  34.4784,2,     68.8,2,  34.4790,2,    69.07,2,   138.26,2,    40.41,2,     0.00,2,    2.870,2, -999.000,9, -999.000,9,   2350.7,2,   2384.4,2,   7.4263,2,    25.00, -999.000,9,  -999.00,9,  -999.00,9,   2.7983,2,  27.4869,2,   2.8793,2
49UP20220929_1,    P9,    92,  1,      1,     308,2,20221015,0401,0402, 34.0085, 137.0172, 1246,   1195.1,     1183,   2.8608,  34.4806,2,     69.2,2,  34.4806,2,    69.49,2,   138.51,2,    40.38,2,     0.00,2,    2.870,2, -999.000,9, -999.000,9,   2351.5,2,   2386.1,2,   7.4248,2,    25.00, -999.000,9,  -999.00,9,  -999.00,9,   2.7792,2,  27.4903,2,   2.8598,2