BOTTLE,20230330JMAAMD
EXPOCODE,SECT_ID,STNNBR,CASTNO,SAMPNO,BTLNBR,BTLNBR_FLAG_U,DATE,TIME,BTL_TIME,LATITUDE,LONGITUDE,DEPTH,CTDPRS,CTDDEP,CTDTMP,CTDSAL,CTDSAL_FLAG_W,CTDOXY,CTDOXY_FLAG_W,SALNTY,SALNTY_FLAG_W,OXYGEN,OXYGEN_FLAG_W,SILCAT,SILCAT_FLAG_W,NO2+NO3,NO2+NO3_FLAG_W,NITRIT,NITRIT_FLAG_W,PHSPHT,PHSPHT_FLAG_W,CFC-11,CFC-11_FLAG_W,CFC-12,CFC-12_FLAG_W,TCARBN,TCARBN_FLAG_W,ALKALI,ALKALI_FLAG_W,PH_TS,PH_TS_FLAG_W,PH_TS_TMP,CFC113,CFC113_FLAG_W,CHLORA,CHLORA_FLAG_W,PPHYTN,PPHYTN_FLAG_W,THETA,THETA_FLAG_W,SIGTHT,SIGTHT_FLAG_W,SBE35,SBE35_FLAG_W
,,,,,,,,UTC,,,,METER,DBAR,METERS,ITS-90,PSS-78,,UMOL/KG,,PSS78,,UMOL/KG,,UMOL/KG,,UMOL/KG,,UMOL/KG,,UMOL/KG,,PMOL/KG,,PMOL/KG,,UMOL/KG,,UMOL/KG,,,,ITS-90,PMOL/KG,,UG/KG,,UG/KG,,ITS-90,,KG/M3,,ITS-90,
49UP20220824_1,    P9,    56,  1,      0,      -9,0,20220909,2332,0120, 18.5040, 136.9917, 4944,      0.0,        0,  30.2993,  34.2743,2,    192.2,2,-999.0000,9,   192.82,2,     0.68,2,     0.04,2,     0.00,2,    0.020,2, -999.000,9, -999.000,9,   -999.0,9,   -999.0,9,-999.0000,9,  -999.00, -999.000,9,  -999.00,9,  -999.00,9,  30.2987,2,  21.0802,2,-999.0000,9
49UP20220824_1,    P9,    56,  1,     36,     757,2,20220909,2332,0148, 18.5040, 136.9917, 4944,     11.4,       11,  30.2296,  34.2719,2,    192.3,2,  34.2713,2,   193.08,2,     0.64,2,     0.01,2,     0.00,2,    0.000,2, -999.000,9, -999.000,9,   -999.0,9,   -999.0,9,-999.0000,9,  -999.00, -999.000,9,  -999.00,9,  -999.00,9,  30.2268,2,  21.1030,2,  30.2304,2
49UP20220824_1,    P9,    56,  1,     35,     756,2,20220909,2332,0146, 18.5040, 136.9917, 4944,     26.1,       26,  30.2076,  34.2727,2,    192.5,2,  34.2717,2,   192.99,2,     0.64,2,     0.00,2,     0.00,2,    0.000,2, -999.000,9, -999.000,9,   -999.0,9,   -999.0,9,-999.0000,9,  -999.00, -999.000,9,  -999.00,9,  -999.00,9,  30.2011,2,  21.1123,2,  30.2086,2
49UP20220824_1,    P9,    56,  1,     34,     323,2,20220909,2332,0143, 18.5040, 136.9917, 4944,     50.4,       50,  30.2461,  34.5638,2,    198.6,2,  34.5647,2,   199.13,2,     0.57,2,     0.03,2,     0.00,2,    0.000,2, -999.000,9, -999.000,9,   -999.0,9,   -999.0,9,-999.0000,9,  -999.00, -999.000,9,  -999.00,9,  -999.00,9,  30.2335,2,  21.3194,2,  30.2538,2
49UP20220824_1,    P9,    56,  1,     33,     322,2,20220909,2332,0141, 18.5040, 136.9917, 4944,     72.0,       72,  27.8567,  34.7020,2,    212.2,2,  34.6967,2,   211.48,6,     1.33,6,     0.02,6,     0.00,6,    0.010,6, -999.000,9, -999.000,9,   -999.0,9,   -999.0,9,-999.0000,9,  -999.00, -999.000,9,  -999.00,9,  -999.00,9,  27.8398,2,  22.2227,2,  27.8604,2
49UP20220824_1,    P9,    56,  1,     32,     321,2,20220909,2332,0140, 18.5040, 136.9917, 4944,    100.4,      100,  26.4419,  34.7885,2,    207.6,2,  34.7905,2,   206.73,2,     1.22,2,     0.02,2,     0.00,2,    0.010,2, -999.000,9, -999.000,9,   -999.0,9,   -999.0,9,-999.0000,9,  -999.00, -999.000,9,  -999.00,9,  -999.00,9,  26.4192,2,  22.7425,2,  26.4342,2
49UP20220824_1,    P9,    56,  1,     31,     320,2,20220909,2332,0138, 18.5040, 136.9917, 4944,    151.1,      150,  23.0698,  34.9562,2,    187.7,2,  34.9535,2,   189.16,2,     1.65,2,     1.00,2,     0.04,2,    0.090,2, -999.000,9, -999.000,9,   -999.0,9,   -999.0,9,-999.0000,9,  -999.00, -999.000,9,  -999.00,9,  -999.00,9,  23.0389,2,  23.8892,2,  23.0490,2
49UP20220824_1,    P9,    56,  1,     30,     319,2,20220909,2332,0136, 18.5040, 136.9917, 4944,    201.2,      200,  20.2149,  34.8352,2,    194.5,2,  34.8351,2,   195.30,2,     2.45,2,     2.11,2,     0.02,2,    0.150,2, -999.000,9, -999.000,9,   -999.0,9,   -999.0,9,-999.0000,9,  -999.00, -999.000,9,  -999.00,9,  -999.00,9,  20.1774,2,  24.5891,2,  20.2195,2
49UP20220824_1,    P9,    56,  1,     29,     318,2,20220909,2332,0134, 18.5040, 136.9917, 4944,    252.5,      251,  18.1495,  34.7780,2,    193.9,2,  34.7762,2,   194.21,2,     4.00,2,     4.37,2,     0.01,2,    0.310,2, -999.000,9, -999.000,9,   -999.0,9,   -999.0,9,-999.0000,9,  -999.00, -999.000,9,  -999.00,9,  -999.00,9,  18.1059,2,  25.0759,2,  18.1443,2
49UP20220824_1,    P9,    56,  1,     28,     755,2,20220909,2332,0132, 18.5040, 136.9917, 4944,    302.7,      301,  16.2806,  34.6675,2,    192.7,2,  34.6682,2,   192.82,2,     6.79,2,     7.28,2,     0.00,2,    0.500,2, -999.000,9, -999.000,9,   -999.0,9,   -999.0,9,-999.0000,9,  -999.00, -999.000,9,  -999.00,9,  -999.00,9,  16.2321,2,  25.4386,2,  16.2777,2
49UP20220824_1,    P9,    56,  1,     27,     317,2,20220909,2332,0130, 18.5040, 136.9917, 4944,    352.1,      350,  14.4642,  34.5135,2,    185.2,2,  34.5181,2,   185.37,2,    10.85,2,    10.48,2,     0.00,2,    0.730,2, -999.000,9, -999.000,9,   -999.0,9,   -999.0,9,-999.0000,9,  -999.00, -999.000,9,  -999.00,9,  -999.00,9,  14.4121,2,  25.7239,2,  14.4622,2
49UP20220824_1,    P9,    56,  1,     26,     316,2,20220909,2332,0128, 18.5040, 136.9917, 4944,    403.8,      401,  12.2345,  34.3383,2,    168.5,2,  34.3394,2,   168.22,2,    17.86,2,    15.56,2,     0.00,2,    1.130,2, -999.000,9, -999.000,9,   -999.0,9,   -999.0,9,-999.0000,9,  -999.00, -999.000,9,  -999.00,9,  -999.00,9,  12.1810,2,  26.0406,2,  12.2396,2
49UP20220824_1,    P9,    56,  1,     25,     315,2,20220909,2332,0126, 18.5040, 136.9917, 4944,    453.6,      450,  10.6340,  34.2649,2,    142.9,2,  34.2654,2,   142.67,2,    26.15,2,    20.72,2,     0.00,2,    1.520,2, -999.000,9, -999.000,9,   -999.0,9,   -999.0,9,-999.0000,9,  -999.00, -999.000,9,  -999.00,9,  -999.00,9,  10.5791,2,  26.2779,2,  10.6331,2
49UP20220824_1,    P9,    56,  1,     24,     753,2,20220909,2332,0124, 18.5040, 136.9917, 4944,    505.2,      502,   8.8765,  34.1925,2,    126.0,2,  34.1934,2,   125.95,6,    38.44,6,    25.67,6,     0.00,6,    1.860,6, -999.000,9, -999.000,9,   -999.0,9,   -999.0,9,-999.0000,9,  -999.00, -999.000,9,  -999.00,9,  -999.00,9,   8.8216,2,  26.5140,2,   8.8775,2
49UP20220824_1,    P9,    56,  1,     23,     314,2,20220909,2332,0121, 18.5040, 136.9917, 4944,    605.3,      601,   7.0421,  34.2394,2,     82.6,2,  34.2398,2,    83.11,2,    59.28,2,    33.29,2,     0.00,2,    2.410,2, -999.000,9, -999.000,9,   -999.0,9,   -999.0,9,-999.0000,9,  -999.00, -999.000,9,  -999.00,9,  -999.00,9,   6.9842,2,  26.8218,2,   7.0396,2
49UP20220824_1,    P9,    56,  1,     22,     313,2,20220909,2332,0118, 18.5040, 136.9917, 4944,    705.6,      700,   5.9253,  34.3170,2,     70.4,2,  34.3170,2,    70.90,2,    75.94,2,    36.42,2,     0.00,2,    2.630,2, -999.000,9, -999.000,9,   -999.0,9,   -999.0,9,-999.0000,9,  -999.00, -999.000,9,  -999.00,9,  -999.00,9,   5.8632,2,  27.0302,2,   5.9256,2
49UP20220824_1,    P9,    56,  1,     21,     312,2,20220909,2332,0115, 18.5040, 136.9917, 4944,    806.8,      800,   5.0891,  34.3777,2,     68.3,2,  34.3778,2,    68.62,2,    90.21,2,    38.02,2,     0.00,2,    2.740,2, -999.000,9, -999.000,9,   -999.0,9,   -999.0,9,-999.0000,9,  -999.00, -999.000,9,  -999.00,9,  -999.00,9,   5.0226,2,  27.1792,2,   5.0889,2
49UP20220824_1,    P9,    56,  1,     20,     311,2,20220909,2332,0112, 18.5040, 136.9917, 4944,    907.3,      900,   4.5566,  34.4398,2,     73.4,2,  34.4430,4,    73.82,2,   100.31,2,    38.45,2,     0.00,2,    2.760,2, -999.000,9, -999.000,9,   -999.0,9,   -999.0,9,-999.0000,9,  -999.00, -999.000,9,  -999.00,9,  -999.00,9,   4.4848,2,  27.2889,2,   4.5560,2
49UP20220824_1,    P9,    56,  1,     19,     310,2,20220909,2332,0110, 18.5040, 136.9917, 4944,   1009.2,     1001,   3.9898,  34.4925,2,     78.5,2,  34.4942,2,    79.17,2,   110.61,2,    38.79,2,     0.00,2,    2.780,2, -999.000,9, -999.000,9,   -999.0,9,   -999.0,9,-999.0000,9,  -999.00, -999.000,9,  -999.00,9,  -999.00,9,   3.9135,2,  27.3914,2,   3.9898,2
49UP20220824_1,    P9,    56,  1,     18,     752,2,20220909,2332,0105, 18.5040, 136.9917, 4944,   1211.6,     1201,   3.4149,  34.5386,2,     88.4,2,  34.5391,2,    88.70,2,   121.14,2,    38.53,2,     0.00,2,    2.760,2, -999.000,9, -999.000,9,   -999.0,9,   -999.0,9,-999.0000,9,  -999.00, -999.000,9,  -999.00,9,  -999.00,9,   3.3267,2,  27.4862,2,   3.4146,2
49UP20220824_1,    P9,    56,  1,     17,     751,2,20220909,2332,0100, 18.5040, 136.9917, 4944,   1413.8,     1401,   2.9125,  34.5710,2,     96.4,2,  34.5714,2,    96.80,2,   130.10,2,    38.53,2,     0.00,2,    2.740,2, -999.000,9, -999.000,9,   -999.0,9,   -999.0,9,-999.0000,9,  -999.00, -999.000,9,  -999.00,9,  -999.00,9,   2.8128,2,  27.5595,2,   2.9125,2
49UP20220824_1,    P9,    56,  1,     16,     328,2,20220909,2332,0055, 18.5040, 136.9917, 4944,   1616.4,     1600,   2.6265,  34.5894,2,    101.4,2,  34.5895,2,   101.83,2,   134.60,2,    38.59,2,     0.00,2,    2.730,2, -999.000,9, -999.000,9,   -999.0,9,   -999.0,9,-999.0000,9,  -999.00, -999.000,9,  -999.00,9,  -999.00,9,   2.5134,2,  27.6004,2,   2.6261,2
49UP20220824_1,    P9,    56,  1,     15,     309,2,20220909,2332,0050, 18.5040, 136.9917, 4944,   1820.1,     1801,   2.3429,  34.6057,2,    106.5,2,  34.6061,2,   106.88,6,   139.36,6,    38.50,6,     0.00,6,    2.720,6, -999.000,9, -999.000,9,   -999.0,9,   -999.0,9,-999.0000,9,  -999.00, -999.000,9,  -999.00,9,  -999.00,9,   2.2166,2,  27.6383,2,   2.3426,2
49UP20220824_1,    P9,    56,  1,     14,     326,2,20220909,2332,0046, 18.5040, 136.9917, 4944,   2022.4,     2001,   2.1197,  34.6206,2,    112.1,2,  34.6213,2,   112.21,2,   142.97,2,    38.30,2,     0.00,2,    2.700,2, -999.000,9, -999.000,9,   -999.0,9,   -999.0,9,-999.0000,9,  -999.00, -999.000,9,  -999.00,9,  -999.00,9,   1.9796,2,  27.6693,2,   2.1194,2
49UP20220824_1,    P9,    56,  1,     13,     325,2,20220909,2332,0041, 18.5040, 136.9917, 4944,   2225.8,     2201,   1.9732,  34.6323,2,    118.0,2,  34.6323,2,   118.01,2,   144.68,2,    37.97,2,     0.00,2,    2.670,2, -999.000,9, -999.000,9,   -999.0,9,   -999.0,9,-999.0000,9,  -999.00, -999.000,9,  -999.00,9,  -999.00,9,   1.8179,2,  27.6913,2,   1.9735,2
49UP20220824_1,    P9,    56,  1,     12,     324,2,20220909,2332,0036, 18.5040, 136.9917, 4944,   2428.4,     2400,   1.8609,  34.6422,2,    123.4,2,  34.6422,2,   123.98,2,   145.78,2,    37.75,2,     0.00,2,    2.640,2, -999.000,9, -999.000,9,   -999.0,9,   -999.0,9,-999.0000,9,  -999.00, -999.000,9,  -999.00,9,  -999.00,9,   1.6897,2,  27.7090,2,   1.8610,2
49UP20220824_1,    P9,    56,  1,     11,     323,2,20220909,2332,0032, 18.5040, 136.9917, 4944,   2633.5,     2601,   1.7749,  34.6501,2,    128.5,2,  34.6505,2,   128.61,2,   146.17,2,    37.46,2,     0.00,2,    2.620,2, -999.000,9, -999.000,9,   -999.0,9,   -999.0,9,-999.0000,9,  -999.00, -999.000,9,  -999.00,9,  -999.00,9,   1.5868,2,  27.7230,2,   1.7749,2
49UP20220824_1,    P9,    56,  1,     10,     322,2,20220909,2332,0027, 18.5040, 136.9917, 4944,   2835.8,     2800,   1.7234,  34.6565,2,    132.4,2,  34.6582,4,   132.66,2,   146.11,2,    37.17,2,     0.00,2,    2.600,2, -999.000,9, -999.000,9,   -999.0,9,   -999.0,9,-999.0000,9,  -999.00, -999.000,9,  -999.00,9,  -999.00,9,   1.5175,2,  27.7332,2,   1.7235,2
49UP20220824_1,    P9,    56,  1,      9,     750,2,20220909,2332,0022, 18.5040, 136.9917, 4944,   3041.0,     3001,   1.6622,  34.6627,2,    137.5,2,  34.6632,2,   137.80,2,   145.81,2,    36.93,2,     0.00,2,    2.570,2, -999.000,9, -999.000,9,   -999.0,9,   -999.0,9,-999.0000,9,  -999.00, -999.000,9,  -999.00,9,  -999.00,9,   1.4380,2,  27.7440,2,   1.6623,2
49UP20220824_1,    P9,    56,  1,      8,     320,2,20220909,2332,0016, 18.5040, 136.9917, 4944,   3295.1,     3250,   1.6064,  34.6692,2,    143.1,2,  34.6683,2,   143.49,2,   145.15,2,    36.57,2,     0.00,2,    2.550,2, -999.000,9, -999.000,9,   -999.0,9,   -999.0,9,-999.0000,9,  -999.00, -999.000,9,  -999.00,9,  -999.00,9,   1.3584,2,  27.7549,2,   1.6065,2
49UP20220824_1,    P9,    56,  1,      7,     319,2,20220909,2332,0010, 18.5040, 136.9917, 4944,   3550.9,     3500,   1.5586,  34.6751,2,    148.4,2,  34.6751,2,   148.85,2,   144.26,2,    36.20,2,     0.00,2,    2.520,2, -999.000,9, -999.000,9,   -999.0,9,   -999.0,9,-999.0000,9,  -999.00, -999.000,9,  -999.00,9,  -999.00,9,   1.2858,2,  27.7647,2,   1.5587,2
49UP20220824_1,    P9,    56,  1,      6,     318,2,20220909,2332,0004, 18.5040, 136.9917, 4944,   3808.6,     3752,   1.5315,  34.6792,2,    152.7,2,  34.6801,2,   152.89,6,   143.18,6,    36.02,6,     0.00,6,    2.500,6, -999.000,9, -999.000,9,   -999.0,9,   -999.0,9,-999.0000,9,  -999.00, -999.000,9,  -999.00,9,  -999.00,9,   1.2324,2,  27.7718,2,   1.5316,2
49UP20220824_1,    P9,    56,  1,      5,     838,2,20220909,2332,2357, 18.5040, 136.9917, 4944,   4063.9,     4001,   1.5168,  34.6825,2,    156.3,2,  34.6822,6,   156.69,2,   142.06,2,    35.70,2,     0.00,2,    2.480,2, -999.000,9, -999.000,9,   -999.0,9,   -999.0,9,-999.0000,9,  -999.00, -999.000,9,  -999.00,9,  -999.00,9,   1.1904,2,  27.7773,2,   1.5169,2
49UP20220824_1,    P9,    56,  1,      4,     316,2,20220909,2332,2350, 18.5040, 136.9917, 4944,   4319.4,     4250,   1.5211,  34.6843,2,    158.4,2,  34.6844,2,   158.68,2,   141.52,2,    35.50,2,     0.00,2,    2.470,2, -999.000,9, -999.000,9,   -999.0,9,   -999.0,9,-999.0000,9,  -999.00, -999.000,9,  -999.00,9,  -999.00,9,   1.1662,2,  27.7804,2,   1.5212,2
49UP20220824_1,    P9,    56,  1,      3,     315,2,20220909,2332,2345, 18.5040, 136.9917, 4944,   4577.5,     4502,   1.5409,  34.6850,2,    159.3,2,  34.6881,4,   159.83,2,   141.24,2,    35.48,2,     0.00,2,    2.460,2, -999.000,9, -999.000,9,   -999.0,9,   -999.0,9,-999.0000,9,  -999.00, -999.000,9,  -999.00,9,  -999.00,9,   1.1556,2,  27.7817,2,   1.5409,2
49UP20220824_1,    P9,    56,  1,      2,     314,2,20220909,2332,2339, 18.5040, 136.9917, 4944,   4833.6,     4751,   1.5683,  34.6854,2,    159.8,2,  34.6855,2,   160.08,2,   141.11,2,    35.43,2,     0.00,2,    2.460,2, -999.000,9, -999.000,9,   -999.0,9,   -999.0,9,-999.0000,9,  -999.00, -999.000,9,  -999.00,9,  -999.00,9,   1.1519,2,  27.7823,2,   1.5683,2
49UP20220824_1,    P9,    56,  1,      1,     308,2,20220909,2332,2333, 18.5040, 136.9917, 4944,   5062.5,     4973,   1.5939,  34.6855,2,    160.3,2,  34.6854,2,   160.14,2,   140.99,2,    35.38,2,     0.00,2,    2.460,2, -999.000,9, -999.000,9,   -999.0,9,   -999.0,9,-999.0000,9,  -999.00, -999.000,9,  -999.00,9,  -999.00,9,   1.1488,2,  27.7826,2,   1.5940,2