BOTTLE,20230330JMAAMD
EXPOCODE,SECT_ID,STNNBR,CASTNO,SAMPNO,BTLNBR,BTLNBR_FLAG_U,DATE,TIME,BTL_TIME,LATITUDE,LONGITUDE,DEPTH,CTDPRS,CTDDEP,CTDTMP,CTDSAL,CTDSAL_FLAG_W,CTDOXY,CTDOXY_FLAG_W,SALNTY,SALNTY_FLAG_W,OXYGEN,OXYGEN_FLAG_W,SILCAT,SILCAT_FLAG_W,NO2+NO3,NO2+NO3_FLAG_W,NITRIT,NITRIT_FLAG_W,PHSPHT,PHSPHT_FLAG_W,CFC-11,CFC-11_FLAG_W,CFC-12,CFC-12_FLAG_W,TCARBN,TCARBN_FLAG_W,ALKALI,ALKALI_FLAG_W,PH_TS,PH_TS_FLAG_W,PH_TS_TMP,CFC113,CFC113_FLAG_W,CHLORA,CHLORA_FLAG_W,PPHYTN,PPHYTN_FLAG_W,THETA,THETA_FLAG_W,SIGTHT,SIGTHT_FLAG_W,SBE35,SBE35_FLAG_W
,,,,,,,,UTC,,,,METER,DBAR,METERS,ITS-90,PSS-78,,UMOL/KG,,PSS78,,UMOL/KG,,UMOL/KG,,UMOL/KG,,UMOL/KG,,UMOL/KG,,PMOL/KG,,PMOL/KG,,UMOL/KG,,UMOL/KG,,,,ITS-90,PMOL/KG,,UG/KG,,UG/KG,,ITS-90,,KG/M3,,ITS-90,
49UP20220929_1,    P9,    66,  1,      0,      -9,0,20221004,0635,0818, 22.9910, 137.3167, 4916,      0.0,        0,  29.4859,  34.2092,2,    196.5,2,  34.2170,2,   197.09,2,     1.50,2,     0.01,2,     0.00,2,    0.020,2, -999.000,9, -999.000,9,   1933.2,2,   2247.0,2,   8.0939,2,    25.00, -999.000,9,     0.06,2,     0.02,2,  29.4853,2,  21.3078,2,-999.0000,9
49UP20220929_1,    P9,    66,  1,     36,     757,2,20221004,0635,0846, 22.9910, 137.3167, 4916,     10.8,       11,  29.4176,  34.2076,2,    196.6,2,  34.2097,2,   196.78,2,     1.43,2,     0.00,2,     0.00,2,    0.010,2, -999.000,9, -999.000,9,   1932.9,2,   2245.2,2,   8.0910,2,    25.00, -999.000,9,     0.06,2,     0.02,2,  29.4150,2,  21.3302,2,  29.4229,2
49UP20220929_1,    P9,    66,  1,     35,     756,2,20221004,0635,0845, 22.9910, 137.3167, 4916,     25.6,       25,  29.0321,  34.2704,2,    197.6,2,  34.2667,2,   197.41,2,     1.33,2,     0.00,2,     0.00,2,    0.010,2, -999.000,9, -999.000,9,   1931.4,2,   2249.8,2,   8.0925,2,    25.00, -999.000,9,     0.06,2,     0.02,2,  29.0259,2,  21.5077,2,  29.0197,2
49UP20220929_1,    P9,    66,  1,     34,     323,2,20221004,0635,0842, 22.9910, 137.3167, 4916,     50.7,       50,  24.4107,  34.6077,2,    213.7,2,  34.6114,2,   213.79,2,     1.82,2,     0.00,2,     0.00,2,    0.020,2, -999.000,9, -999.000,9,   1975.7,2,   2272.0,2,   8.0525,2,    25.00, -999.000,9,     0.19,2,     0.06,2,  24.3999,2,  23.2255,2,  24.4096,2
49UP20220929_1,    P9,    66,  1,     33,     322,2,20221004,0635,0840, 22.9910, 137.3167, 4916,     76.0,       76,  22.5678,  34.7500,2,    214.5,2,  34.7533,2,   214.67,2,     1.90,2,     0.01,2,     0.00,2,    0.030,2, -999.000,9, -999.000,9,   1998.7,2,   2281.8,2,   8.0268,2,    25.00, -999.000,9,     0.33,2,     0.24,2,  22.5525,2,  23.8720,2,  22.5489,2
49UP20220929_1,    P9,    66,  1,     32,     321,2,20221004,0635,0839, 22.9910, 137.3167, 4916,    102.0,      101,  21.7994,  34.9018,2,    208.6,2,  34.9020,2,   208.93,2,     1.80,2,     0.00,2,     0.00,2,    0.030,2, -999.000,9, -999.000,9,   2011.0,2,   2291.7,2,   8.0140,2,    25.00, -999.000,9,     0.21,2,     0.44,2,  21.7794,2,  24.2048,2,  21.7904,2
49UP20220929_1,    P9,    66,  1,     31,     320,2,20221004,0635,0837, 22.9910, 137.3167, 4916,    127.1,      126,  20.8607,  34.8649,2,    202.9,2,  34.8668,2,   204.26,2,     2.05,2,     0.56,2,     0.06,2,    0.060,2, -999.000,9, -999.000,9,   2019.6,2,   2288.8,2,   7.9912,2,    25.00, -999.000,9,     0.19,2,     0.45,2,  20.8366,2,  24.4354,2,  20.8381,2
49UP20220929_1,    P9,    66,  1,     30,     319,2,20221004,0635,0836, 22.9910, 137.3167, 4916,    152.7,      152,  19.7701,  34.8363,2,    201.6,2,  34.8369,2,   201.11,2,     2.46,2,     1.69,2,     0.02,2,    0.140,2, -999.000,9, -999.000,9,   2029.3,2,   2287.3,2,   7.9710,2,    25.00, -999.000,9,     0.07,2,     0.22,2,  19.7421,2,  24.7045,2,  19.7822,2
49UP20220929_1,    P9,    66,  1,     28,     755,2,20221004,0635,0833, 22.9910, 137.3167, 4916,    203.1,      202,  18.2929,  34.7832,2,    205.9,2,  34.7819,2,   205.52,2,     3.17,2,     3.01,2,     0.01,2,    0.220,2, -999.000,9, -999.000,9,   2045.0,2,   2281.6,2,   7.9525,2,    25.00, -999.000,9,  -999.00,9,  -999.00,9,  18.2577,2,  25.0422,2,  18.2758,2
49UP20220929_1,    P9,    66,  1,     29,     318,2,20221004,0635,0833, 22.9910, 137.3167, 4916,    203.9,      203,  18.2787,  34.7819,2,    205.8,2,  34.7837,2,   205.33,2,     3.18,2,     3.02,2,     0.01,2,    0.210,2, -999.000,9, -999.000,9,   2043.3,2,   2283.3,2,   7.9540,2,    25.00, -999.000,9,     0.01,2,     0.03,2,  18.2434,2,  25.0449,2,  18.2672,2
49UP20220929_1,    P9,    66,  1,     27,     317,2,20221004,0635,0831, 22.9910, 137.3167, 4916,    252.2,      250,  17.3940,  34.7433,2,    210.0,2,  34.7437,2,   209.95,6,     4.01,6,     4.03,6,     0.01,6,    0.280,6, -999.000,9, -999.000,9,   2044.3,2,   2280.3,2,   7.9418,2,    25.00, -999.000,9,  -999.00,9,  -999.00,9,  17.3517,2,  25.2331,2,  17.3875,2
49UP20220929_1,    P9,    66,  1,     26,     316,2,20221004,0635,0829, 22.9910, 137.3167, 4916,    333.3,      331,  15.7356,  34.6251,2,    194.9,2,  34.6265,2,   195.14,2,     7.85,2,     7.87,2,     0.00,2,    0.540,2, -999.000,9, -999.000,9,   2070.6,2,   2277.0,2,   7.8832,2,    25.00, -999.000,9,  -999.00,9,  -999.00,9,  15.6834,2,  25.5310,2,  15.7329,2
49UP20220929_1,    P9,    66,  1,     25,     315,2,20221004,0635,0826, 22.9910, 137.3167, 4916,    434.3,      431,  12.5360,  34.3662,2,    183.1,2,  34.3657,2,   183.16,2,    16.61,2,    13.96,2,     0.00,2,    0.990,2, -999.000,9, -999.000,9,   2110.4,2,   2272.5,2,   7.7797,2,    25.00, -999.000,9,  -999.00,9,  -999.00,9,  12.4775,2,  26.0049,2,  12.5346,2
49UP20220929_1,    P9,    66,  1,     24,     753,2,20221004,0635,0823, 22.9910, 137.3167, 4916,    534.3,      530,   9.4157,  34.1800,2,    158.5,2,  34.1796,2,   158.32,2,    34.24,2,    21.87,2,     0.00,2,    1.560,2, -999.000,9, -999.000,9,   2168.8,2,   2276.8,2,   7.6591,2,    25.00, -999.000,9,  -999.00,9,  -999.00,9,   9.3555,2,  26.4188,2,   9.4150,2
49UP20220929_1,    P9,    66,  1,     23,     314,2,20221004,0635,0820, 22.9910, 137.3167, 4916,    636.4,      631,   7.1388,  34.1205,2,    115.7,2,  34.1201,2,   116.34,2,    55.79,2,    29.86,2,     0.00,2,    2.150,2, -999.000,9, -999.000,9,   2223.1,2,   2291.7,2,   7.5330,2,    25.00, -999.000,9,  -999.00,9,  -999.00,9,   7.0775,2,  26.7153,2,   7.1369,2
49UP20220929_1,    P9,    66,  1,     22,     313,2,20221004,0635,0817, 22.9910, 137.3167, 4916,    736.5,      731,   5.4646,  34.1680,2,     81.4,2,  34.1679,6,    81.72,2,    82.43,2,    35.80,2,     0.00,2,    2.580,2, -999.000,9, -999.000,9,   2276.0,2,   2318.4,2,   7.4384,2,    25.00, -999.000,9,  -999.00,9,  -999.00,9,   5.4024,2,  26.9686,2,   5.4656,2
49UP20220929_1,    P9,    66,  1,     21,     312,2,20221004,0635,0814, 22.9910, 137.3167, 4916,    837.3,      830,   4.6274,  34.2601,2,     61.6,2,  34.2589,2,    61.73,2,    99.33,2,    38.94,2,     0.00,2,    2.800,2, -999.000,9, -999.000,9,   2310.7,2,   2335.2,2,   7.4013,2,    25.00, -999.000,9,  -999.00,9,  -999.00,9,   4.5614,2,  27.1379,2,   4.6256,2
49UP20220929_1,    P9,    66,  1,     20,     311,2,20221004,0635,0811, 22.9910, 137.3167, 4916,    938.8,      931,   4.0310,  34.3546,2,     54.2,2,  34.3559,2,    54.16,6,   112.81,6,    40.57,6,     0.00,6,    2.910,6, -999.000,9, -999.000,9,   2328.8,2,   2355.8,2,   7.3957,2,    25.00, -999.000,9,  -999.00,9,  -999.00,9,   3.9604,2,  27.2768,2,   4.0302,2
49UP20220929_1,    P9,    66,  1,     19,     310,2,20221004,0635,0808, 22.9910, 137.3167, 4916,   1080.5,     1071,   3.4942,  34.4227,2,     59.6,2,  34.4225,2,    59.60,2,   124.55,2,    40.74,2,     0.00,2,    2.910,2, -999.000,9, -999.000,9,   2338.2,2,   2370.1,2,   7.4075,2,    25.00, -999.000,9,  -999.00,9,  -999.00,9,   3.4161,2,  27.3852,2,   3.4939,2
49UP20220929_1,    P9,    66,  1,     18,     752,2,20221004,0635,0803, 22.9910, 137.3167, 4916,   1282.5,     1271,   2.9236,  34.4927,2,     70.8,2,  34.4929,2,    71.01,2,   135.82,2,    40.51,2,     0.00,2,    2.880,2, -999.000,9, -999.000,9,   2349.3,2,   2385.6,2,   7.4328,2,    25.00, -999.000,9,  -999.00,9,  -999.00,9,   2.8345,2,  27.4950,2,   2.9233,2
49UP20220929_1,    P9,    66,  1,     17,     751,2,20221004,0635,0758, 22.9910, 137.3167, 4916,   1485.3,     1471,   2.5790,  34.5470,2,     87.6,2,  34.5474,2,    87.70,2,   139.86,2,    39.56,2,     0.00,2,    2.800,2, -999.000,9, -999.000,9,   2344.1,6,   2395.5,6,   7.4683,2,    25.00, -999.000,9,  -999.00,9,  -999.00,9,   2.4772,2,  27.5696,2,   2.5789,2
49UP20220929_1,    P9,    66,  1,     16,     328,2,20221004,0635,0753, 22.9910, 137.3167, 4916,   1688.2,     1671,   2.3204,  34.5865,2,    102.5,2,  34.5865,2,   102.69,2,   141.26,2,    38.78,2,     0.00,2,    2.740,2, -999.000,9, -999.000,9,   2343.6,2,   2402.4,2,   7.4963,6,    25.00, -999.000,9,  -999.00,9,  -999.00,9,   2.2053,2,  27.6239,2,   2.3204,2
49UP20220929_1,    P9,    66,  1,     15,     309,2,20221004,0635,0749, 22.9910, 137.3167, 4916,   1891.6,     1871,   2.1160,  34.6084,2,    111.2,2,  34.6085,2,   111.10,2,   142.80,2,    38.37,2,     0.00,2,    2.700,2, -999.000,9, -999.000,9,   2339.9,2,   2405.2,2,   7.5112,2,    25.00, -999.000,9,  -999.00,9,  -999.00,9,   1.9870,2,  27.6590,2,   2.1160,2
49UP20220929_1,    P9,    66,  1,     14,     326,2,20221004,0635,0744, 22.9910, 137.3167, 4916,   2094.3,     2071,   1.9541,  34.6259,2,    118.8,2,  34.6259,6,   118.92,2,   143.88,2,    37.99,2,     0.00,2,    2.670,2, -999.000,9, -999.000,9,   2337.9,2,   2407.9,2,   7.5252,2,    25.00, -999.000,9,  -999.00,9,  -999.00,9,   1.8105,2,  27.6867,2,   1.9549,2
49UP20220929_1,    P9,    66,  1,     13,     325,2,20221004,0635,0739, 22.9910, 137.3167, 4916,   2297.8,     2271,   1.8406,  34.6372,2,    124.8,2,  34.6374,2,   124.96,6,   144.52,6,    37.66,6,     0.00,6,    2.640,6, -999.000,9, -999.000,9,   2337.4,2,   2412.2,2,   7.5356,2,    25.00, -999.000,9,  -999.00,9,  -999.00,9,   1.6812,2,  27.7056,2,   1.8405,2
49UP20220929_1,    P9,    66,  1,     12,     324,2,20221004,0635,0734, 22.9910, 137.3167, 4916,   2502.3,     2472,   1.7662,  34.6457,2,    129.5,2,  34.6451,2,   129.63,2,   144.92,2,    37.39,2,     0.00,2,    2.610,2, -999.000,9, -999.000,9,   2335.2,6,   2412.7,6,   7.5430,2,    25.00, -999.000,9,  -999.00,9,  -999.00,9,   1.5901,2,  27.7193,2,   1.7664,2
49UP20220929_1,    P9,    66,  1,     11,     323,2,20221004,0635,0729, 22.9910, 137.3167, 4916,   2703.6,     2669,   1.6957,  34.6539,2,    134.6,2,  34.6534,2,   134.78,2,   144.85,2,    37.14,2,     0.00,2,    2.590,2, -999.000,9, -999.000,9,   2331.2,2,   2411.6,2,   7.5511,6,    25.00, -999.000,9,  -999.00,9,  -999.00,9,   1.5026,2,  27.7323,2,   1.6957,2
49UP20220929_1,    P9,    66,  1,     10,     322,2,20221004,0635,0725, 22.9910, 137.3167, 4916,   2909.6,     2871,   1.6501,  34.6599,2,    138.6,2,  34.6591,2,   138.62,2,   144.68,2,    36.86,2,     0.00,2,    2.570,2, -999.000,9, -999.000,9,   2335.7,2,   2412.6,2,   7.5583,2,    25.00, -999.000,9,  -999.00,9,  -999.00,9,   1.4387,2,  27.7416,2,   1.6502,2
49UP20220929_1,    P9,    66,  1,      9,     750,2,20221004,0635,0720, 22.9910, 137.3167, 4916,   3122.0,     3080,   1.6238,  34.6641,2,    141.7,2,  34.6636,6,   141.75,2,   144.39,2,    36.70,2,     0.00,2,    2.560,2, -999.000,9, -999.000,9,   2329.0,2,   2412.1,2,   7.5653,2,    25.00, -999.000,9,  -999.00,9,  -999.00,9,   1.3925,2,  27.7484,2,   1.6239,2
49UP20220929_1,    P9,    66,  1,      8,     320,2,20221004,0635,0714, 22.9910, 137.3167, 4916,   3378.5,     3331,   1.5871,  34.6696,2,    145.8,2,  34.6696,2,   145.84,2,   144.07,2,    36.42,2,     0.00,2,    2.540,2, -999.000,9, -999.000,9,   2325.7,2,   2413.5,2,   7.5687,2,    25.00, -999.000,9,  -999.00,9,  -999.00,9,   1.3312,2,  27.7572,2,   1.5871,2
49UP20220929_1,    P9,    66,  1,      7,     319,2,20221004,0635,0708, 22.9910, 137.3167, 4916,   3634.8,     3581,   1.5472,  34.6756,2,    150.7,2,  34.6751,2,   150.96,2,   143.14,2,    36.12,2,     0.00,2,    2.510,2, -999.000,9, -999.000,9,   2320.5,2,   2413.9,2,   7.5775,2,    25.00, -999.000,9,  -999.00,9,  -999.00,9,   1.2660,2,  27.7666,2,   1.5473,2
49UP20220929_1,    P9,    66,  1,      6,     318,2,20221004,0635,0702, 22.9910, 137.3167, 4916,   3890.9,     3831,   1.5337,  34.6793,2,    153.9,2,  34.6793,2,   153.83,6,   142.58,6,    35.90,6,     0.00,6,    2.490,6, -999.000,9, -999.000,9,   2319.1,2,   2409.5,2,   7.5816,2,    25.00, -999.000,9,  -999.00,9,  -999.00,9,   1.2257,2,  27.7723,2,   1.5336,2
49UP20220929_1,    P9,    66,  1,      5,     838,2,20221004,0635,0657, 22.9910, 137.3167, 4916,   4149.0,     4083,   1.5406,  34.6813,2,    155.6,2,  34.6810,2,   155.79,2,   142.03,2,    35.72,2,     0.00,2,    2.480,2, -999.000,9, -999.000,9,   2321.3,2,   2409.5,2,   7.5854,2,    25.00, -999.000,9,  -999.00,9,  -999.00,9,   1.2042,2,  27.7754,2,   1.5405,2
49UP20220929_1,    P9,    66,  1,      4,     316,2,20221004,0635,0651, 22.9910, 137.3167, 4916,   4404.3,     4332,   1.5570,  34.6824,2,    156.7,2,  34.6820,2,   156.61,2,   141.83,2,    35.73,2,     0.00,2,    2.480,2, -999.000,9, -999.000,9,   2323.8,2,   2413.0,2,   7.5850,2,    25.00, -999.000,9,  -999.00,9,  -999.00,9,   1.1913,2,  27.7772,2,   1.5571,2
49UP20220929_1,    P9,    66,  1,      3,     315,2,20221004,0635,0645, 22.9910, 137.3167, 4916,   4662.6,     4583,   1.5842,  34.6825,2,    157.0,2,  34.6829,2,   156.96,2,   141.84,2,    35.74,2,     0.00,2,    2.480,2, -999.000,9, -999.000,9,   2318.0,6,   2414.0,6,   7.5845,2,    25.00, -999.000,9,  -999.00,9,  -999.00,9,   1.1877,2,  27.7776,2,   1.5842,2
49UP20220929_1,    P9,    66,  1,      2,     314,2,20221004,0635,0639, 22.9910, 137.3167, 4916,   4919.2,     4833,   1.6109,  34.6831,2,    157.5,2,  34.6829,2,   157.46,2,   142.05,2,    35.65,2,     0.00,2,    2.470,2, -999.000,9, -999.000,9,   2321.5,2,   2411.9,2,   7.5868,6,    25.00, -999.000,9,  -999.00,9,  -999.00,9,   1.1828,2,  27.7783,2,   1.6110,2
49UP20220929_1,    P9,    66,  1,      1,     308,2,20221004,0635,0636, 22.9910, 137.3167, 4916,   5023.2,     4934,   1.6226,  34.6830,2,    157.7,2,  34.6830,6,   157.49,2,   141.77,2,    35.67,2,     0.00,2,    2.480,2, -999.000,9, -999.000,9,   2318.7,2,   2413.0,2,   7.5880,2,    25.00, -999.000,9,  -999.00,9,  -999.00,9,   1.1814,2,  27.7784,2,   1.6225,2