BOTTLE,20230330JMAAMD
EXPOCODE,SECT_ID,STNNBR,CASTNO,SAMPNO,BTLNBR,BTLNBR_FLAG_U,DATE,TIME,BTL_TIME,LATITUDE,LONGITUDE,DEPTH,CTDPRS,CTDDEP,CTDTMP,CTDSAL,CTDSAL_FLAG_W,CTDOXY,CTDOXY_FLAG_W,SALNTY,SALNTY_FLAG_W,OXYGEN,OXYGEN_FLAG_W,SILCAT,SILCAT_FLAG_W,NO2+NO3,NO2+NO3_FLAG_W,NITRIT,NITRIT_FLAG_W,PHSPHT,PHSPHT_FLAG_W,CFC-11,CFC-11_FLAG_W,CFC-12,CFC-12_FLAG_W,TCARBN,TCARBN_FLAG_W,ALKALI,ALKALI_FLAG_W,PH_TS,PH_TS_FLAG_W,PH_TS_TMP,CFC113,CFC113_FLAG_W,CHLORA,CHLORA_FLAG_W,PPHYTN,PPHYTN_FLAG_W,THETA,THETA_FLAG_W,SIGTHT,SIGTHT_FLAG_W,SBE35,SBE35_FLAG_W
,,,,,,,,UTC,,,,METER,DBAR,METERS,ITS-90,PSS-78,,UMOL/KG,,PSS78,,UMOL/KG,,UMOL/KG,,UMOL/KG,,UMOL/KG,,UMOL/KG,,PMOL/KG,,PMOL/KG,,UMOL/KG,,UMOL/KG,,,,ITS-90,PMOL/KG,,UG/KG,,UG/KG,,ITS-90,,KG/M3,,ITS-90,
49UP20220929_1,    P9,    76,  1,      0,      -9,0,20221007,1221,1350, 27.9882, 137.0065, 4130,      0.0,        0,  28.7209,  34.3660,2,    197.8,2,  34.3692,2,   198.18,2,     1.55,2,     0.04,2,     0.00,2,    0.030,2, -999.000,9, -999.000,9,   1949.4,2,   2257.3,2,   8.0775,2,    25.00, -999.000,9,     0.06,2,     0.02,2,  28.7204,2,  21.6811,2,-999.0000,9
49UP20220929_1,    P9,    76,  1,     36,     757,2,20221007,1221,1418, 27.9882, 137.0065, 4130,      9.6,       10,  28.7187,  34.3658,2,    197.9,2,  34.3680,2,   198.18,2,     1.53,2,     0.02,2,     0.00,2,    0.000,2, -999.000,9, -999.000,9,   1949.8,2,   2255.5,2,   8.0767,2,    25.00, -999.000,9,     0.06,2,     0.02,2,  28.7164,2,  21.6823,2,  28.7222,2
49UP20220929_1,    P9,    76,  1,     35,     756,2,20221007,1221,1417, 27.9882, 137.0065, 4130,     25.3,       25,  28.6332,  34.3518,2,    198.3,2,  34.3550,2,   198.66,2,     1.51,2,     0.01,2,     0.00,2,    0.000,2, -999.000,9, -999.000,9,   1948.3,2,   2259.0,2,   8.0804,2,    25.00, -999.000,9,     0.06,2,     0.02,2,  28.6272,2,  21.7013,2,  28.6309,2
49UP20220929_1,    P9,    76,  1,     34,     323,2,20221007,1221,1413, 27.9882, 137.0065, 4130,     49.4,       49,  27.5920,  34.4029,2,    207.1,2,  34.4092,2,   206.38,2,     1.59,2,     0.01,2,     0.00,2,    0.000,2, -999.000,9, -999.000,9,   1957.2,2,   2259.8,2,   8.0690,2,    25.00, -999.000,9,     0.13,2,     0.06,2,  27.5805,2,  22.0819,2,  27.5899,2
49UP20220929_1,    P9,    76,  1,     33,     322,2,20221007,1221,1412, 27.9882, 137.0065, 4130,     75.2,       75,  22.9061,  34.6685,2,    222.7,2,  34.6704,2,   222.61,2,     1.85,2,     0.01,2,     0.00,2,    0.010,2, -999.000,9, -999.000,9,   1989.7,2,   2278.6,2,   8.0340,2,    25.00, -999.000,9,     0.33,2,     0.27,2,  22.8908,2,  23.7136,2,  22.9024,2
49UP20220929_1,    P9,    76,  1,     32,     321,2,20221007,1221,1410, 27.9882, 137.0065, 4130,    101.1,      100,  21.4863,  34.7434,2,    218.9,2,  34.7432,2,   218.83,2,     2.04,2,     0.03,2,     0.01,2,    0.020,2, -999.000,9, -999.000,9,   2005.5,2,   2284.4,2,   8.0159,2,    25.00, -999.000,9,     0.40,2,     0.47,2,  21.4667,2,  24.1709,2,  21.4852,2
49UP20220929_1,    P9,    76,  1,     31,     320,2,20221007,1221,1408, 27.9882, 137.0065, 4130,    126.4,      126,  20.1423,  34.7178,2,    223.8,2,  34.7186,2,   223.62,6,     2.07,6,     0.19,6,     0.13,6,    0.030,6, -999.000,9, -999.000,9,   2011.3,2,   2283.0,2,   8.0003,2,    25.00, -999.000,9,     0.20,2,     0.35,2,  20.1189,2,  24.5151,2,  20.1413,2
49UP20220929_1,    P9,    76,  1,     30,     319,2,20221007,1221,1407, 27.9882, 137.0065, 4130,    151.0,      150,  19.3805,  34.7442,2,    212.1,2,  34.7451,2,   211.59,2,     2.60,2,     1.37,2,     0.12,2,    0.110,2, -999.000,9, -999.000,9,   2025.9,2,   2282.0,2,   7.9773,2,    25.00, -999.000,9,     0.12,2,     0.29,2,  19.3533,2,  24.7351,2,  19.3864,2
49UP20220929_1,    P9,    76,  1,     29,     318,2,20221007,1221,1405, 27.9882, 137.0065, 4130,    201.0,      200,  18.1304,  34.7605,2,    204.1,2,  34.7602,2,   203.71,2,     3.61,2,     3.66,2,     0.01,2,    0.240,2, -999.000,9, -999.000,9,   2041.6,2,   2284.8,2,   7.9465,2,    25.00, -999.000,9,     0.01,2,     0.05,2,  18.0957,2,  25.0650,2,  18.1287,2
49UP20220929_1,    P9,    76,  1,     28,     755,2,20221007,1221,1403, 27.9882, 137.0065, 4130,    250.9,      249,  17.2120,  34.7332,2,    207.0,2,  34.7309,2,   206.46,2,     4.68,2,     4.81,2,     0.01,2,    0.320,2, -999.000,9, -999.000,9,   2050.4,2,   2281.3,2,   7.9361,2,    25.00, -999.000,9,  -999.00,9,  -999.00,9,  17.1702,2,  25.2689,2,  17.2185,2
49UP20220929_1,    P9,    76,  1,     27,     317,2,20221007,1221,1403, 27.9882, 137.0065, 4130,    251.5,      250,  17.2292,  34.7331,2,    207.1,2,  34.7308,2,   206.58,2,     4.62,2,     4.76,2,     0.01,2,    0.320,2, -999.000,9, -999.000,9,   2046.2,2,   2278.7,2,   7.9350,2,    25.00, -999.000,9,  -999.00,9,  -999.00,9,  17.1873,2,  25.2648,2,  17.2255,2
49UP20220929_1,    P9,    76,  1,     26,     316,2,20221007,1221,1401, 27.9882, 137.0065, 4130,    284.0,      282,  16.7394,  34.7053,2,    204.5,2,  34.7065,6,   203.91,2,     5.61,2,     5.67,2,     0.01,2,    0.380,2, -999.000,9, -999.000,9,   2056.5,2,   2280.4,2,   7.9194,2,    25.00, -999.000,9,  -999.00,9,  -999.00,9,  16.6930,2,  25.3605,2,  16.7467,2
49UP20220929_1,    P9,    76,  1,     25,     315,2,20221007,1221,1358, 27.9882, 137.0065, 4130,    374.1,      371,  14.3376,  34.5225,2,    180.1,2,  34.5238,2,   180.19,2,    13.86,2,    11.49,2,     0.00,2,    0.800,2, -999.000,9, -999.000,9,   2098.0,2,   2277.4,2,   7.8228,2,    25.00, -999.000,9,  -999.00,9,  -999.00,9,  14.2826,2,  25.7584,2,  14.3360,2
49UP20220929_1,    P9,    76,  1,     24,     753,2,20221007,1221,1355, 27.9882, 137.0065, 4130,    473.1,      469,  10.4787,  34.2490,2,    169.5,2,  34.2549,2,   169.23,2,    28.08,2,    18.77,2,     0.00,2,    1.330,2, -999.000,9, -999.000,9,   2145.8,2,   2273.8,2,   7.7089,2,    25.00, -999.000,9,  -999.00,9,  -999.00,9,  10.4219,2,  26.2930,2,  10.4394,2
49UP20220929_1,    P9,    76,  1,     23,     314,2,20221007,1221,1352, 27.9882, 137.0065, 4130,    573.9,      569,   7.9894,  34.1625,2,    133.4,2,  34.1623,2,   132.73,2,    50.63,2,    26.69,2,     0.00,2,    1.920,2, -999.000,9, -999.000,9,   2205.1,2,   2291.2,2,   7.5865,2,    25.00, -999.000,9,  -999.00,9,  -999.00,9,   7.9306,2,  26.6263,2,   7.9861,2
49UP20220929_1,    P9,    76,  1,     22,     313,2,20221007,1221,1352, 27.9882, 137.0065, 4130,    575.2,      571,   7.9838,  34.1625,2,    133.2,2,  34.1621,2,   132.75,2,    50.64,2,    26.62,2,     0.00,2,    1.920,2, -999.000,9, -999.000,9,   2202.7,2,   2289.0,2,   7.5854,2,    25.00, -999.000,9,  -999.00,9,  -999.00,9,   7.9249,2,  26.6272,2,   7.9835,2
49UP20220929_1,    P9,    76,  1,     21,     312,2,20221007,1221,1349, 27.9882, 137.0065, 4130,    676.1,      671,   6.2733,  34.1348,2,    106.1,2,  34.1300,2,   106.07,6,    69.91,6,    32.20,6,     0.00,6,    2.330,6, -999.000,9, -999.000,9,   2249.7,2,   2302.9,2,   7.4947,2,    25.00, -999.000,9,  -999.00,9,  -999.00,9,   6.2124,2,  26.8419,2,   6.2726,2
49UP20220929_1,    P9,    76,  1,     20,     311,2,20221007,1221,1346, 27.9882, 137.0065, 4130,    776.4,      770,   5.2054,  34.1800,2,     80.7,2,  34.1795,2,    81.33,2,    88.27,2,    36.15,2,     0.00,2,    2.600,2, -999.000,9, -999.000,9,   2287.6,2,   2321.3,2,   7.4378,2,    25.00, -999.000,9,  -999.00,9,  -999.00,9,   5.1411,2,  27.0089,2,   5.2053,2
49UP20220929_1,    P9,    76,  1,     19,     310,2,20221007,1221,1343, 27.9882, 137.0065, 4130,    877.4,      870,   4.5812,  34.2456,2,     66.3,2,  34.2446,2,    66.59,2,   101.83,2,    38.30,2,     0.00,2,    2.760,2, -999.000,9, -999.000,9,   2310.4,2,   2335.8,2,   7.4101,2,    25.00, -999.000,9,  -999.00,9,  -999.00,9,   4.5121,2,  27.1318,2,   4.5809,2
49UP20220929_1,    P9,    76,  1,     18,     752,2,20221007,1221,1340, 27.9882, 137.0065, 4130,    979.1,      970,   3.9628,  34.3067,2,     55.1,2,  34.3072,2,    54.69,2,   115.74,2,    40.37,2,     0.00,2,    2.880,2, -999.000,9, -999.000,9,   2332.0,6,   2350.6,6,   7.3875,2,    25.00, -999.000,9,  -999.00,9,  -999.00,9,   3.8895,2,  27.2460,2,   3.9623,2
49UP20220929_1,    P9,    76,  1,     17,     751,2,20221007,1221,1336, 27.9882, 137.0065, 4130,   1141.8,     1131,   3.3299,  34.4071,2,     56.2,2,  34.4072,2,    56.17,2,   130.33,2,    40.90,2,     0.00,2,    2.930,2, -999.000,9, -999.000,9,   2347.7,2,   2374.7,2,   7.3974,6,    25.00, -999.000,9,  -999.00,9,  -999.00,9,   3.2483,2,  27.3887,2,   3.3298,2
49UP20220929_1,    P9,    76,  1,     16,     328,2,20221007,1221,1331, 27.9882, 137.0065, 4130,   1342.8,     1330,   2.7585,  34.4814,2,     62.3,2,  34.4813,6,    62.42,2,   142.47,2,    41.20,2,     0.00,2,    2.930,2, -999.000,9, -999.000,9,   2359.3,2,   2388.0,2,   7.4063,2,    25.00, -999.000,9,  -999.00,9,  -999.00,9,   2.6663,2,  27.5009,2,   2.7587,2
49UP20220929_1,    P9,    76,  1,     15,     309,2,20221007,1221,1326, 27.9882, 137.0065, 4130,   1548.0,     1532,   2.3978,  34.5354,2,     76.3,2,  34.5354,2,    76.21,6,   147.25,6,    40.50,6,     0.00,6,    2.870,6, -999.000,9, -999.000,9,   2358.8,2,   2396.4,2,   7.4392,2,    25.00, -999.000,9,  -999.00,9,  -999.00,9,   2.2932,2,  27.5757,2,   2.3977,2
49UP20220929_1,    P9,    76,  1,     14,     326,2,20221007,1221,1321, 27.9882, 137.0065, 4130,   1749.0,     1730,   2.1522,  34.5719,2,     89.1,2,  34.5721,2,    89.10,2,   149.55,2,    39.83,2,     0.00,2,    2.820,2, -999.000,9, -999.000,9,   2357.3,2,   2402.9,2,   7.4625,2,    25.00, -999.000,9,  -999.00,9,  -999.00,9,   2.0345,2,  27.6259,2,   2.1523,2
49UP20220929_1,    P9,    76,  1,     12,     324,2,20221007,1221,1316, 27.9882, 137.0065, 4130,   1953.6,     1932,   1.9874,  34.6006,2,    105.7,2,  34.5999,2,   105.73,2,   147.52,2,    38.71,2,     0.00,2,    2.750,2, -999.000,9, -999.000,9,   2348.4,2,   2408.1,2,   7.4949,2,    25.00, -999.000,9,  -999.00,9,  -999.00,9,   1.8552,2,  27.6630,2,   1.9874,2
49UP20220929_1,    P9,    76,  1,     13,     325,2,20221007,1221,1316, 27.9882, 137.0065, 4130,   1953.9,     1932,   1.9877,  34.6006,2,    105.7,2,  34.6007,2,   105.75,2,   147.61,2,    38.72,2,     0.00,2,    2.730,2, -999.000,9, -999.000,9,   2347.2,2,   2407.7,2,   7.4987,2,    25.00, -999.000,9,  -999.00,9,  -999.00,9,   1.8554,2,  27.6630,2,   1.9877,2
49UP20220929_1,    P9,    76,  1,     11,     323,2,20221007,1221,1311, 27.9882, 137.0065, 4130,   2154.0,     2129,   1.8567,  34.6229,2,    118.1,2,  34.6232,2,   117.96,2,   146.27,2,    37.86,2,     0.00,2,    2.670,2, -999.000,9, -999.000,9,   2342.1,6,   2408.3,6,   7.5197,2,    25.00, -999.000,9,  -999.00,9,  -999.00,9,   1.7095,2,  27.6920,2,   1.8567,2
49UP20220929_1,    P9,    76,  1,     10,     322,2,20221007,1221,1306, 27.9882, 137.0065, 4130,   2359.5,     2331,   1.7704,  34.6369,2,    126.4,2,  34.6373,2,   126.03,2,   145.48,2,    37.56,2,     0.00,2,    2.640,2, -999.000,9, -999.000,9,   2337.8,2,   2409.3,2,   7.5359,6,    25.00, -999.000,9,  -999.00,9,  -999.00,9,   1.6069,2,  27.7109,2,   1.7702,2
49UP20220929_1,    P9,    76,  1,      9,     750,2,20221007,1221,1301, 27.9882, 137.0065, 4130,   2561.7,     2529,   1.6926,  34.6482,2,    132.7,2,  34.6484,2,   132.40,2,   145.18,2,    37.10,2,     0.00,2,    2.600,2, -999.000,9, -999.000,9,   2335.9,2,   2408.7,2,   7.5465,2,    25.00, -999.000,9,  -999.00,9,  -999.00,9,   1.5126,2,  27.7269,2,   1.6927,2
49UP20220929_1,    P9,    76,  1,      8,     320,2,20221007,1221,1256, 27.9882, 137.0065, 4130,   2766.6,     2730,   1.6446,  34.6555,2,    137.2,2,  34.6558,6,   136.70,2,   145.07,2,    36.73,2,     0.00,2,    2.580,2, -999.000,9, -999.000,9,   2332.6,2,   2413.0,2,   7.5532,2,    25.00, -999.000,9,  -999.00,9,  -999.00,9,   1.4467,2,  27.7376,2,   1.6445,2
49UP20220929_1,    P9,    76,  1,      7,     319,2,20221007,1221,1250, 27.9882, 137.0065, 4130,   2970.1,     2930,   1.5999,  34.6626,2,    141.5,2,  34.6632,2,   141.14,6,   144.78,6,    36.53,6,     0.00,6,    2.560,6, -999.000,9, -999.000,9,   2330.8,2,   2412.6,2,   7.5630,2,    25.00, -999.000,9,  -999.00,9,  -999.00,9,   1.3838,2,  27.7478,2,   1.5998,2
49UP20220929_1,    P9,    76,  1,      6,     318,2,20221007,1221,1245, 27.9882, 137.0065, 4130,   3216.2,     3171,   1.5607,  34.6692,2,    146.1,2,  34.6686,2,   145.97,2,   143.92,2,    36.33,2,     0.00,2,    2.540,2, -999.000,9, -999.000,9,   2327.7,6,   2411.8,6,   7.5700,2,    25.00, -999.000,9,  -999.00,9,  -999.00,9,   1.3216,2,  27.7575,2,   1.5606,2
49UP20220929_1,    P9,    76,  1,      5,     838,2,20221007,1221,1239, 27.9882, 137.0065, 4130,   3471.5,     3420,   1.5214,  34.6760,2,    151.0,2,  34.6764,2,   151.26,2,   143.19,2,    36.24,2,     0.00,2,    2.510,2, -999.000,9, -999.000,9,   2325.5,2,   2411.9,2,   7.5775,6,    25.00, -999.000,9,  -999.00,9,  -999.00,9,   1.2577,2,  27.7675,2,   1.5216,2
49UP20220929_1,    P9,    76,  1,      4,     316,2,20221007,1221,1233, 27.9882, 137.0065, 4130,   3726.9,     3670,   1.5135,  34.6793,2,    153.8,2,  34.6795,2,   153.94,2,   142.73,2,    35.78,2,     0.00,2,    2.500,2, -999.000,9, -999.000,9,   2322.4,2,   2410.2,2,   7.5821,2,    25.00, -999.000,9,  -999.00,9,  -999.00,9,   1.2235,2,  27.7725,2,   1.5134,2
49UP20220929_1,    P9,    76,  1,      3,     315,2,20221007,1221,1227, 27.9882, 137.0065, 4130,   3983.4,     3920,   1.5215,  34.6812,2,    155.5,2,  34.6815,6,   155.37,2,   142.27,2,    35.63,2,     0.00,2,    2.490,2, -999.000,9, -999.000,9,   2323.1,2,   2410.4,2,   7.5835,2,    25.00, -999.000,9,  -999.00,9,  -999.00,9,   1.2038,2,  27.7754,2,   1.5215,2
49UP20220929_1,    P9,    76,  1,      2,     314,2,20221007,1221,1221, 27.9882, 137.0065, 4130,   4207.7,     4139,   1.5409,  34.6817,2,    156.1,2,  34.6823,2,   155.79,2,   142.53,2,    35.74,2,     0.00,2,    2.480,2, -999.000,9, -999.000,9,   2321.8,2,   2409.5,2,   7.5867,2,    25.00, -999.000,9,  -999.00,9,  -999.00,9,   1.1979,2,  27.7762,2,   1.5408,2
49UP20220929_1,    P9,    76,  1,      1,     308,2,20221007,1221,1221, 27.9882, 137.0065, 4130,   4208.2,     4139,   1.5408,  34.6818,2,    156.1,2,  34.6819,2,   155.98,2,   142.43,2,    35.72,2,     0.00,2,    2.490,2, -999.000,9, -999.000,9,   2322.8,2,   2408.8,2,   7.5842,2,    25.00, -999.000,9,  -999.00,9,  -999.00,9,   1.1978,2,  27.7762,2,   1.5408,2