BOTTLE,20230330JMAAMD
EXPOCODE,SECT_ID,STNNBR,CASTNO,SAMPNO,BTLNBR,BTLNBR_FLAG_U,DATE,TIME,BTL_TIME,LATITUDE,LONGITUDE,DEPTH,CTDPRS,CTDDEP,CTDTMP,CTDSAL,CTDSAL_FLAG_W,CTDOXY,CTDOXY_FLAG_W,SALNTY,SALNTY_FLAG_W,OXYGEN,OXYGEN_FLAG_W,SILCAT,SILCAT_FLAG_W,NO2+NO3,NO2+NO3_FLAG_W,NITRIT,NITRIT_FLAG_W,PHSPHT,PHSPHT_FLAG_W,CFC-11,CFC-11_FLAG_W,CFC-12,CFC-12_FLAG_W,TCARBN,TCARBN_FLAG_W,ALKALI,ALKALI_FLAG_W,PH_TS,PH_TS_FLAG_W,PH_TS_TMP,CFC113,CFC113_FLAG_W,CHLORA,CHLORA_FLAG_W,PPHYTN,PPHYTN_FLAG_W,THETA,THETA_FLAG_W,SIGTHT,SIGTHT_FLAG_W,SBE35,SBE35_FLAG_W
,,,,,,,,UTC,,,,METER,DBAR,METERS,ITS-90,PSS-78,,UMOL/KG,,PSS78,,UMOL/KG,,UMOL/KG,,UMOL/KG,,UMOL/KG,,UMOL/KG,,PMOL/KG,,PMOL/KG,,UMOL/KG,,UMOL/KG,,,,ITS-90,PMOL/KG,,UG/KG,,UG/KG,,ITS-90,,KG/M3,,ITS-90,
49UP20220929_1,    P9,    64,  1,      0,      -9,0,20221003,1546,1718, 22.0040, 137.3300, 4286,      0.0,        0,  29.5272,  34.1683,2,    194.5,2,  34.1861,2,   195.35,2,     1.33,2,     0.04,2,     0.00,2,    0.040,2, -999.000,9, -999.000,9,   1925.8,2,   2243.2,2,   8.0982,2,    25.00, -999.000,9,     0.06,2,     0.00,2,  29.5266,2,  21.2632,2,-999.0000,9
49UP20220929_1,    P9,    64,  1,     36,     757,2,20221003,1546,1746, 22.0040, 137.3300, 4286,     11.2,       11,  29.5383,  34.1674,2,    194.7,2,  34.1701,2,   195.23,2,     1.23,2,     0.03,2,     0.00,2,    0.010,2, -999.000,9, -999.000,9,   1926.5,2,   2245.9,2,   8.0972,2,    25.00, -999.000,9,     0.05,2,     0.01,2,  29.5356,2,  21.2596,2,  29.5401,2
49UP20220929_1,    P9,    64,  1,     35,     756,2,20221003,1546,1744, 22.0040, 137.3300, 4286,     26.5,       26,  29.5405,  34.1684,2,    194.7,2,  34.1711,2,   195.16,2,     1.29,2,     0.02,2,     0.00,2,    0.010,2, -999.000,9, -999.000,9,   1926.4,2,   2244.8,2,   8.0977,2,    25.00, -999.000,9,     0.06,2,     0.01,2,  29.5340,2,  21.2608,2,  29.5391,2
49UP20220929_1,    P9,    64,  1,     33,     322,2,20221003,1546,1740, 22.0040, 137.3300, 4286,     51.7,       51,  25.3065,  34.6694,2,    225.3,2,  34.6726,2,   224.40,2,     1.34,2,     0.02,2,     0.00,2,    0.010,2, -999.000,9, -999.000,9,   1966.6,2,   2275.7,2,   8.0747,2,    25.00, -999.000,9,     0.12,2,     0.02,2,  25.2952,2,  23.0014,2,  25.2801,2
49UP20220929_1,    P9,    64,  1,     34,     323,2,20221003,1546,1740, 22.0040, 137.3300, 4286,     51.9,       52,  25.2325,  34.6729,2,    225.6,2,  34.6715,2,   224.54,2,     1.39,2,     0.02,2,     0.00,2,    0.010,2, -999.000,9, -999.000,9,   1966.8,2,   2279.7,2,   8.0741,2,    25.00, -999.000,9,  -999.00,9,  -999.00,9,  25.2212,2,  23.0267,2,  25.2392,2
49UP20220929_1,    P9,    64,  1,     32,     321,2,20221003,1546,1738, 22.0040, 137.3300, 4286,     76.8,       76,  23.6422,  34.7618,2,    209.4,2,  34.7642,2,   209.02,6,     1.51,6,     0.03,6,     0.00,6,    0.030,6, -999.000,9, -999.000,9,   1991.7,2,   2283.2,2,   8.0403,2,    25.00, -999.000,9,     0.19,2,     0.10,2,  23.6262,2,  23.5711,2,  23.6437,2
49UP20220929_1,    P9,    64,  1,     31,     320,2,20221003,1546,1737, 22.0040, 137.3300, 4286,    102.1,      101,  21.7998,  34.8323,2,    194.4,2,  34.8272,2,   193.98,2,     1.89,2,     0.80,2,     0.07,2,    0.090,2, -999.000,9, -999.000,9,   2018.7,2,   2288.8,2,   7.9965,2,    25.00, -999.000,9,     0.25,2,     0.48,2,  21.7798,2,  24.1519,2,  21.8523,2
49UP20220929_1,    P9,    64,  1,     30,     319,2,20221003,1546,1735, 22.0040, 137.3300, 4286,    127.6,      127,  20.6932,  34.8559,2,    188.9,2,  34.8550,2,   189.53,2,     2.31,2,     2.19,2,     0.02,2,    0.170,2, -999.000,9, -999.000,9,   2034.9,2,   2289.6,2,   7.9713,2,    25.00, -999.000,9,     0.09,2,     0.13,2,  20.6691,2,  24.4737,2,  20.7034,2
49UP20220929_1,    P9,    64,  1,     29,     318,2,20221003,1546,1734, 22.0040, 137.3300, 4286,    150.6,      150,  20.0491,  34.8239,2,    193.0,2,  34.8247,2,   193.17,2,     2.43,2,     2.36,2,     0.02,2,    0.180,2, -999.000,9, -999.000,9,   2033.9,2,   2286.5,2,   7.9708,2,    25.00, -999.000,9,     0.02,2,     0.18,2,  20.0213,2,  24.6218,2,  20.0540,2
49UP20220929_1,    P9,    64,  1,     28,     755,2,20221003,1546,1732, 22.0040, 137.3300, 4286,    202.0,      201,  18.3874,  34.7872,2,    193.2,2,  34.7867,2,   193.50,2,     3.69,2,     4.29,2,     0.01,2,    0.290,2, -999.000,9, -999.000,9,   2049.3,2,   2287.0,2,   7.9396,2,    25.00, -999.000,9,     0.00,2,     0.01,2,  18.3522,2,  25.0218,2,  18.3862,2
49UP20220929_1,    P9,    64,  1,     27,     317,2,20221003,1546,1730, 22.0040, 137.3300, 4286,    252.4,      251,  17.2686,  34.7398,2,    193.5,2,  34.7388,2,   193.45,2,     5.19,2,     5.89,2,     0.00,2,    0.390,2, -999.000,9, -999.000,9,   2058.1,2,   2283.6,2,   7.9138,2,    25.00, -999.000,9,  -999.00,9,  -999.00,9,  17.2266,2,  25.2606,2,  17.2724,2
49UP20220929_1,    P9,    64,  1,     26,     316,2,20221003,1546,1728, 22.0040, 137.3300, 4286,    283.9,      282,  16.6061,  34.6956,2,    190.0,2,  34.6923,2,   190.04,2,     6.47,2,     7.19,2,     0.00,2,    0.480,2, -999.000,9, -999.000,9,   2066.5,2,   2281.1,2,   7.8932,2,    25.00, -999.000,9,  -999.00,9,  -999.00,9,  16.5600,2,  25.3842,2,  16.6085,2
49UP20220929_1,    P9,    64,  1,     25,     315,2,20221003,1546,1725, 22.0040, 137.3300, 4286,    375.4,      373,  13.9904,  34.4888,2,    185.1,2,  34.4866,2,   184.82,2,    12.83,2,    11.57,2,     0.00,2,    0.800,2, -999.000,9, -999.000,9,   2096.1,2,   2274.4,2,   7.8209,2,    25.00, -999.000,9,  -999.00,9,  -999.00,9,  13.9360,2,  25.8054,2,  13.9904,2
49UP20220929_1,    P9,    64,  1,     24,     753,2,20221003,1546,1722, 22.0040, 137.3300, 4286,    473.8,      470,  10.5998,  34.2500,2,    165.4,2,  34.2472,2,   164.95,6,    26.93,6,    19.15,6,     0.00,6,    1.360,6, -999.000,9, -999.000,9,   2146.0,2,   2274.4,2,   7.7023,2,    25.00, -999.000,9,  -999.00,9,  -999.00,9,  10.5425,2,  26.2727,2,  10.5973,2
49UP20220929_1,    P9,    64,  1,     23,     314,2,20221003,1546,1719, 22.0040, 137.3300, 4286,    575.4,      571,   7.9226,  34.1645,2,    116.2,2,  34.1633,6,   115.79,2,    48.23,2,    28.51,2,     0.00,2,    2.050,2, -999.000,9, -999.000,9,   2212.2,2,   2286.6,2,   7.5511,2,    25.00, -999.000,9,  -999.00,9,  -999.00,9,   7.8640,2,  26.6377,2,   7.9241,2
49UP20220929_1,    P9,    64,  1,     22,     313,2,20221003,1546,1716, 22.0040, 137.3300, 4286,    676.4,      671,   6.1980,  34.1640,2,     89.0,2,  34.1649,2,    88.85,2,    70.79,2,    34.15,2,     0.00,2,    2.450,2, -999.000,9, -999.000,9,   2258.7,2,   2307.7,2,   7.4698,2,    25.00, -999.000,9,  -999.00,9,  -999.00,9,   6.1374,2,  26.8746,2,   6.1978,2
49UP20220929_1,    P9,    64,  1,     21,     312,2,20221003,1546,1713, 22.0040, 137.3300, 4286,    778.3,      772,   5.2055,  34.2325,2,     68.6,2,  34.2331,2,    68.43,2,    88.30,2,    37.59,2,     0.00,2,    2.700,2, -999.000,9, -999.000,9,   2294.3,2,   2326.0,2,   7.4205,2,    25.00, -999.000,9,  -999.00,9,  -999.00,9,   5.1410,2,  27.0505,2,   5.2049,2
49UP20220929_1,    P9,    64,  1,     20,     311,2,20221003,1546,1710, 22.0040, 137.3300, 4286,    878.4,      871,   4.4069,  34.3239,2,     58.9,2,  34.3229,2,    58.60,2,   104.81,2,    39.61,2,     0.00,2,    2.840,2, -999.000,9, -999.000,9,   2317.4,2,   2347.5,2,   7.4027,2,    25.00, -999.000,9,  -999.00,9,  -999.00,9,   4.3388,2,  27.2127,2,   4.4039,2
49UP20220929_1,    P9,    64,  1,     19,     310,2,20221003,1546,1708, 22.0040, 137.3300, 4286,    981.1,      973,   3.8682,  34.3752,2,     57.5,2,  34.3740,2,    57.31,2,   116.41,2,    40.42,2,     0.00,2,    2.890,2, -999.000,9, -999.000,9,   2332.3,2,   2359.5,2,   7.4024,2,    25.00, -999.000,9,  -999.00,9,  -999.00,9,   3.7953,2,  27.3100,2,   3.8664,2
49UP20220929_1,    P9,    64,  1,     17,     751,2,20221003,1546,1703, 22.0040, 137.3300, 4286,   1142.3,     1132,   3.3644,  34.4332,2,     60.3,2,  34.4333,2,    60.17,2,   127.56,2,    40.80,2,     0.00,2,    2.910,2, -999.000,9, -999.000,9,   2343.9,2,   2374.5,2,   7.4067,2,    25.00, -999.000,9,  -999.00,9,  -999.00,9,   3.2825,2,  27.4064,2,   3.3645,2
49UP20220929_1,    P9,    64,  1,     18,     752,2,20221003,1546,1704, 22.0040, 137.3300, 4286,   1143.0,     1133,   3.3646,  34.4332,2,     60.3,2,  34.4334,2,    60.09,2,   127.42,2,    40.76,2,     0.00,2,    2.910,2, -999.000,9, -999.000,9,   2347.2,2,   2374.8,2,   7.4085,2,    25.00, -999.000,9,  -999.00,9,  -999.00,9,   3.2827,2,  27.4064,2,   3.3646,2
49UP20220929_1,    P9,    64,  1,     16,     328,2,20221003,1546,1658, 22.0040, 137.3300, 4286,   1343.3,     1331,   2.8205,  34.5103,2,     75.6,2,  34.5106,2,    75.80,6,   137.21,6,    40.22,6,     0.00,6,    2.850,6, -999.000,9, -999.000,9,   2346.0,2,   2388.8,2,   7.4402,2,    25.00, -999.000,9,  -999.00,9,  -999.00,9,   2.7276,2,  27.5186,2,   2.8196,2
49UP20220929_1,    P9,    64,  1,     15,     309,2,20221003,1546,1653, 22.0040, 137.3300, 4286,   1547.3,     1532,   2.4537,  34.5642,2,     93.6,2,  34.5643,2,    93.98,2,   140.78,2,    39.21,2,     0.00,2,    2.770,2, -999.000,9, -999.000,9,   2343.1,2,   2400.4,2,   7.4758,2,    25.00, -999.000,9,  -999.00,9,  -999.00,9,   2.3484,2,  27.5942,2,   2.4536,2
49UP20220929_1,    P9,    64,  1,     14,     326,2,20221003,1546,1648, 22.0040, 137.3300, 4286,   1750.5,     1732,   2.2177,  34.5926,2,    104.2,2,  34.5926,2,   104.35,2,   142.76,2,    38.70,2,     0.00,2,    2.730,2, -999.000,9, -999.000,9,   2342.7,6,   2406.3,6,   7.4955,2,    25.00, -999.000,9,  -999.00,9,  -999.00,9,   2.0989,2,  27.6374,2,   2.2178,2
49UP20220929_1,    P9,    64,  1,     13,     325,2,20221003,1546,1644, 22.0040, 137.3300, 4286,   1952.1,     1931,   2.0032,  34.6173,2,    115.0,2,  34.6172,2,   115.44,2,   143.82,2,    38.18,2,     0.00,2,    2.680,2, -999.000,9, -999.000,9,   2341.2,2,   2409.2,2,   7.5174,6,    25.00, -999.000,9,  -999.00,9,  -999.00,9,   1.8707,2,  27.6752,2,   2.0030,2
49UP20220929_1,    P9,    64,  1,     12,     324,2,20221003,1546,1639, 22.0040, 137.3300, 4286,   2156.7,     2132,   1.8974,  34.6304,2,    121.1,2,  34.6300,2,   121.10,2,   144.45,2,    37.88,2,     0.00,2,    2.660,2, -999.000,9, -999.000,9,   2338.2,2,   2410.5,2,   7.5273,2,    25.00, -999.000,9,  -999.00,9,  -999.00,9,   1.7493,2,  27.6950,2,   1.8974,2
49UP20220929_1,    P9,    64,  1,     11,     323,2,20221003,1546,1634, 22.0040, 137.3300, 4286,   2360.0,     2332,   1.8028,  34.6410,2,    126.8,2,  34.6415,2,   126.82,2,   144.84,2,    37.55,2,     0.00,2,    2.620,2, -999.000,9, -999.000,9,   2335.9,2,   2412.3,2,   7.5389,2,    25.00, -999.000,9,  -999.00,9,  -999.00,9,   1.6387,2,  27.7119,2,   1.8028,2
49UP20220929_1,    P9,    64,  1,     10,     322,2,20221003,1546,1629, 22.0040, 137.3300, 4286,   2564.1,     2533,   1.7441,  34.6485,2,    131.0,2,  34.6487,2,   131.19,2,   145.05,2,    37.31,2,     0.00,2,    2.610,2, -999.000,9, -999.000,9,   2334.3,6,   2413.2,6,   7.5440,2,    25.00, -999.000,9,  -999.00,9,  -999.00,9,   1.5628,2,  27.7234,2,   1.7436,2
49UP20220929_1,    P9,    64,  1,      9,     750,2,20221003,1546,1624, 22.0040, 137.3300, 4286,   2767.2,     2732,   1.6780,  34.6565,2,    136.0,2,  34.6566,2,   135.88,2,   145.06,2,    37.01,2,     0.00,2,    2.580,2, -999.000,9, -999.000,9,   2332.2,2,   2411.6,2,   7.5524,6,    25.00, -999.000,9,  -999.00,9,  -999.00,9,   1.4794,2,  27.7360,2,   1.6780,2
49UP20220929_1,    P9,    64,  1,      8,     320,2,20221003,1546,1619, 22.0040, 137.3300, 4286,   2970.8,     2932,   1.6344,  34.6622,2,    139.9,2,  34.6622,2,   139.98,6,   144.59,6,    36.78,6,     0.00,6,    2.560,6, -999.000,9, -999.000,9,   2332.5,2,   2412.0,2,   7.5601,2,    25.00, -999.000,9,  -999.00,9,  -999.00,9,   1.4175,2,  27.7451,2,   1.6345,2
49UP20220929_1,    P9,    64,  1,      7,     319,2,20221003,1546,1614, 22.0040, 137.3300, 4286,   3216.5,     3172,   1.6093,  34.6667,2,    143.2,2,  34.6667,2,   143.39,2,   144.33,2,    36.59,2,     0.00,2,    2.550,2, -999.000,9, -999.000,9,   2328.8,2,   2415.9,2,   7.5670,2,    25.00, -999.000,9,  -999.00,9,  -999.00,9,   1.3691,2,  27.7521,2,   1.6094,2
49UP20220929_1,    P9,    64,  1,      6,     318,2,20221003,1546,1608, 22.0040, 137.3300, 4286,   3471.4,     3422,   1.5631,  34.6730,2,    148.2,2,  34.6728,6,   148.28,2,   143.51,2,    36.25,2,     0.00,2,    2.520,2, -999.000,9, -999.000,9,   2325.2,2,   2415.3,2,   7.5720,2,    25.00, -999.000,9,  -999.00,9,  -999.00,9,   1.2984,2,  27.7622,2,   1.5631,2
49UP20220929_1,    P9,    64,  1,      5,     838,2,20221003,1546,1602, 22.0040, 137.3300, 4286,   3728.9,     3673,   1.5321,  34.6778,2,    152.6,2,  34.6782,2,   152.87,2,   142.71,2,    35.98,2,     0.00,2,    2.500,2, -999.000,9, -999.000,9,   2323.0,6,   2414.4,6,   7.5786,2,    25.00, -999.000,9,  -999.00,9,  -999.00,9,   1.2414,2,  27.7701,2,   1.5321,2
49UP20220929_1,    P9,    64,  1,      4,     316,2,20221003,1546,1556, 22.0040, 137.3300, 4286,   3984.3,     3923,   1.5311,  34.6804,2,    154.8,2,  34.6801,2,   154.97,2,   142.15,2,    35.79,2,     0.00,2,    2.480,2, -999.000,9, -999.000,9,   2318.9,2,   2412.1,2,   7.5822,6,    25.00, -999.000,9,  -999.00,9,  -999.00,9,   1.2130,2,  27.7741,2,   1.5310,2
49UP20220929_1,    P9,    64,  1,      3,     315,2,20221003,1546,1550, 22.0040, 137.3300, 4286,   4239.0,     4171,   1.5455,  34.6817,2,    156.1,2,  34.6814,6,   155.89,2,   142.00,2,    35.74,2,     0.00,2,    2.480,2, -999.000,9, -999.000,9,   2320.3,2,   2411.5,2,   7.5839,2,    25.00, -999.000,9,  -999.00,9,  -999.00,9,   1.1988,2,  27.7761,2,   1.5454,2
49UP20220929_1,    P9,    64,  1,      1,     308,2,20221003,1546,1546, 22.0040, 137.3300, 4286,   4354.3,     4283,   1.5566,  34.6817,2,    156.4,2,  34.6817,2,   156.49,2,   141.96,2,    35.73,2,     0.00,2,    2.480,2, -999.000,9, -999.000,9,   2318.6,2,   2412.4,2,   7.5873,2,    25.00, -999.000,9,  -999.00,9,  -999.00,9,   1.1966,2,  27.7763,2,   1.5565,2
49UP20220929_1,    P9,    64,  1,      2,     314,2,20221003,1546,1547, 22.0040, 137.3300, 4286,   4354.6,     4284,   1.5566,  34.6818,2,    156.4,2,  34.6814,2,   156.26,2,   141.88,2,    35.73,2,     0.00,2,    2.480,2, -999.000,9, -999.000,9,   2318.8,2,   2411.3,2,   7.5839,2,    25.00, -999.000,9,  -999.00,9,  -999.00,9,   1.1965,2,  27.7763,2,   1.5564,2