BOTTLE,20230330JMAAMD
EXPOCODE,SECT_ID,STNNBR,CASTNO,SAMPNO,BTLNBR,BTLNBR_FLAG_U,DATE,TIME,BTL_TIME,LATITUDE,LONGITUDE,DEPTH,CTDPRS,CTDDEP,CTDTMP,CTDSAL,CTDSAL_FLAG_W,CTDOXY,CTDOXY_FLAG_W,SALNTY,SALNTY_FLAG_W,OXYGEN,OXYGEN_FLAG_W,SILCAT,SILCAT_FLAG_W,NO2+NO3,NO2+NO3_FLAG_W,NITRIT,NITRIT_FLAG_W,PHSPHT,PHSPHT_FLAG_W,CFC-11,CFC-11_FLAG_W,CFC-12,CFC-12_FLAG_W,TCARBN,TCARBN_FLAG_W,ALKALI,ALKALI_FLAG_W,PH_TS,PH_TS_FLAG_W,PH_TS_TMP,CFC113,CFC113_FLAG_W,CHLORA,CHLORA_FLAG_W,PPHYTN,PPHYTN_FLAG_W,THETA,THETA_FLAG_W,SIGTHT,SIGTHT_FLAG_W,SBE35,SBE35_FLAG_W
,,,,,,,,UTC,,,,METER,DBAR,METERS,ITS-90,PSS-78,,UMOL/KG,,PSS78,,UMOL/KG,,UMOL/KG,,UMOL/KG,,UMOL/KG,,UMOL/KG,,PMOL/KG,,PMOL/KG,,UMOL/KG,,UMOL/KG,,,,ITS-90,PMOL/KG,,UG/KG,,UG/KG,,ITS-90,,KG/M3,,ITS-90,
49UP20220824_1,    P9,    39,  1,      0,      -9,0,20220903,2025,2215,  9.9988, 136.9905, 4874,      0.0,        0,  30.3724,  33.8789,2,    192.1,2,  33.8856,2,   193.37,2,     1.16,2,     0.02,2,     0.00,2,    0.110,2, -999.000,9, -999.000,9,   1904.1,2,   2226.7,2,   8.1109,2,    25.00, -999.000,9,     0.05,2,     0.01,2,  30.3718,2,  20.7589,2,-999.0000,9
49UP20220824_1,    P9,    39,  1,     36,     757,2,20220903,2025,2243,  9.9988, 136.9905, 4874,     11.8,       12,  30.3701,  33.8791,2,    192.2,2,  33.8787,2,   193.07,2,     1.08,2,     0.03,2,     0.00,2,    0.070,2, -999.000,9, -999.000,9,   1902.7,2,   2227.2,2,   8.1090,2,    25.00, -999.000,9,     0.06,2,     0.01,2,  30.3671,2,  20.7607,2,  30.3706,2
49UP20220824_1,    P9,    39,  1,     35,     756,2,20220903,2025,2241,  9.9988, 136.9905, 4874,     27.4,       27,  30.1311,  33.9845,2,    193.9,2,  33.9768,2,   194.70,2,     1.14,2,     0.00,2,     0.00,2,    0.080,2, -999.000,9, -999.000,9,   1911.0,2,   2234.1,2,   8.1101,2,    25.00, -999.000,9,     0.05,2,     0.02,2,  30.1243,2,  20.9227,2,  30.1995,2
49UP20220824_1,    P9,    39,  1,     34,     323,2,20220903,2025,2238,  9.9988, 136.9905, 4874,     52.0,       52,  29.8288,  34.1644,2,    195.5,2,  34.1766,2,   195.50,2,     1.07,2,     0.03,2,     0.00,2,    0.070,3, -999.000,9, -999.000,9,   1922.9,2,   2246.6,2,   8.1078,2,    25.00, -999.000,9,     0.06,2,     0.01,2,  29.8160,2,  21.1625,2,  29.8294,2
49UP20220824_1,    P9,    39,  1,     33,     322,2,20220903,2025,2236,  9.9988, 136.9905, 4874,     77.8,       77,  29.5268,  34.3163,2,    200.0,2,  34.3240,2,   199.66,2,     1.15,2,     0.06,2,     0.00,2,    0.090,2, -999.000,9, -999.000,9,   1936.8,2,   2256.5,2,   8.1045,2,    25.00, -999.000,9,     0.09,2,     0.02,2,  29.5078,2,  21.3805,2,  29.5288,2
49UP20220824_1,    P9,    39,  1,     32,     321,2,20220903,2025,2235,  9.9988, 136.9905, 4874,    102.4,      102,  28.2855,  34.5609,2,    197.1,2,  34.5578,2,   196.73,6,     1.32,6,     0.02,6,     0.00,6,    0.110,6, -999.000,9, -999.000,9,   1958.3,2,   2273.4,2,   8.0804,2,    25.00, -999.000,9,     0.15,2,     0.08,2,  28.2612,2,  21.9789,2,  28.2982,2
49UP20220824_1,    P9,    39,  1,     31,     320,2,20220903,2025,2233,  9.9988, 136.9905, 4874,    126.0,      125,  25.4939,  34.7281,2,    182.2,2,  34.7268,2,   181.94,2,     2.21,2,     1.06,2,     0.16,2,    0.220,2, -999.000,9, -999.000,9,   2009.7,2,   2286.7,2,   8.0129,2,    25.00, -999.000,9,     0.24,2,     0.28,2,  25.4662,2,  22.9933,2,  25.4916,2
49UP20220824_1,    P9,    39,  1,     30,     319,2,20220903,2025,2231,  9.9988, 136.9905, 4874,    152.1,      151,  21.5950,  34.7222,2,    160.8,2,  34.7192,2,   160.80,2,     5.18,2,     5.38,2,     0.09,2,    0.520,2, -999.000,9, -999.000,9,   2057.7,2,   2287.3,2,   7.9141,2,    25.00, -999.000,9,     0.09,2,     0.21,2,  21.5653,2,  24.1276,2,  21.6083,2
49UP20220824_1,    P9,    39,  1,     29,     318,2,20220903,2025,2229,  9.9988, 136.9905, 4874,    203.5,      202,  14.6452,  34.5005,2,    150.0,2,  34.5216,2,   148.13,2,    13.26,2,    13.21,2,     0.01,2,    1.020,2, -999.000,9, -999.000,9,   2120.4,2,   2279.9,2,   7.7707,2,    25.00, -999.000,9,     0.02,2,     0.04,2,  14.6150,2,  25.6704,2,  14.6738,2
49UP20220824_1,    P9,    39,  1,     28,     755,2,20220903,2025,2226,  9.9988, 136.9905, 4874,    251.6,      250,  11.7340,  34.3721,2,    133.4,2,  34.3734,2,   133.95,2,    22.82,2,    19.66,2,     0.00,2,    1.460,2, -999.000,9, -999.000,9,   2156.0,2,   2276.2,2,   7.6762,2,    25.00, -999.000,9,  -999.00,9,  -999.00,9,  11.7018,2,  26.1577,2,  11.7758,2
49UP20220824_1,    P9,    39,  1,     27,     317,2,20220903,2025,2224,  9.9988, 136.9905, 4874,    331.5,      329,   9.5165,  34.4359,2,     89.7,2,  34.4341,2,    89.48,2,    37.64,2,    28.78,2,     0.00,2,    2.100,2, -999.000,9, -999.000,9,   2219.7,2,   2297.8,2,   7.5555,2,    25.00, -999.000,9,  -999.00,9,  -999.00,9,   9.4792,2,  26.5986,2,   9.5189,2
49UP20220824_1,    P9,    39,  1,     26,     316,2,20220903,2025,2221,  9.9988, 136.9905, 4874,    383.7,      381,   8.6255,  34.4433,2,     82.9,2,  34.4449,6,    82.73,2,    43.31,2,    31.18,2,     0.00,2,    2.250,2, -999.000,9, -999.000,9,   2232.8,2,   2302.2,2,   7.5284,2,    25.00, -999.000,9,  -999.00,9,  -999.00,9,   8.5847,2,  26.7476,2,   8.6258,2
49UP20220824_1,    P9,    39,  1,     25,     315,2,20220903,2025,2219,  9.9988, 136.9905, 4874,    434.1,      431,   7.6443,  34.4301,2,     84.1,2,  34.4295,2,    84.28,2,    51.33,2,    32.79,2,     0.00,2,    2.360,2, -999.000,9, -999.000,9,   2245.0,2,   2310.5,2,   7.5130,2,    25.00, -999.000,9,  -999.00,9,  -999.00,9,   7.6012,2,  26.8848,2,   7.6375,2
49UP20220824_1,    P9,    39,  1,     24,     753,2,20220903,2025,2217,  9.9988, 136.9905, 4874,    485.1,      482,   7.1438,  34.4468,2,     87.8,2,  34.4477,2,    88.34,6,    55.02,6,    33.51,6,     0.00,6,    2.410,6, -999.000,9, -999.000,9,   2250.4,2,   2316.6,2,   7.5157,2,    25.00, -999.000,9,  -999.00,9,  -999.00,9,   7.0973,2,  26.9695,2,   7.1454,2
49UP20220824_1,    P9,    39,  1,     23,     314,2,20220903,2025,2215,  9.9988, 136.9905, 4874,    534.1,      530,   6.7822,  34.4699,2,     91.8,2,  34.4698,2,    91.61,2,    56.89,2,    34.04,2,     0.00,2,    2.440,2, -999.000,9, -999.000,9,   2253.9,2,   2320.1,2,   7.5186,6,    25.00, -999.000,9,  -999.00,9,  -999.00,9,   6.7323,2,  27.0378,2,   6.7787,2
49UP20220824_1,    P9,    39,  1,     22,     313,2,20220903,2025,2212,  9.9988, 136.9905, 4874,    635.9,      631,   6.3464,  34.5067,2,     95.0,2,  34.5069,2,    94.83,2,    59.30,2,    34.93,2,     0.00,2,    2.500,2, -999.000,9, -999.000,9,   2256.7,6,   2326.1,6,   7.5216,2,    25.00, -999.000,9,  -999.00,9,  -999.00,9,   6.2886,2,  27.1257,2,   6.3487,2
49UP20220824_1,    P9,    39,  1,     21,     312,2,20220903,2025,2209,  9.9988, 136.9905, 4874,    736.4,      731,   5.8947,  34.5250,2,     86.5,2,  34.5248,2,    86.44,2,    67.23,2,    36.36,2,     0.00,2,    2.620,2, -999.000,9, -999.000,9,   2270.4,2,   2334.4,2,   7.5032,2,    25.00, -999.000,9,  -999.00,9,  -999.00,9,   5.8297,2,  27.1988,2,   5.8926,2
49UP20220824_1,    P9,    39,  1,     20,     311,2,20220903,2025,2205,  9.9988, 136.9905, 4874,    837.2,      831,   5.4145,  34.5276,2,     87.0,2,  34.5273,2,    86.86,2,    75.56,2,    37.07,2,     0.00,2,    2.670,2, -999.000,9, -999.000,9,   2281.3,2,   2343.5,2,   7.4988,2,    25.00, -999.000,9,  -999.00,9,  -999.00,9,   5.3431,2,  27.2604,2,   5.4141,2
49UP20220824_1,    P9,    39,  1,     19,     310,2,20220903,2025,2202,  9.9988, 136.9905, 4874,    938.8,      931,   4.8757,  34.5381,2,     85.1,2,  34.5380,2,    85.25,2,    86.18,2,    38.03,2,     0.00,2,    2.730,2, -999.000,9, -999.000,9,   2296.4,2,   2355.3,2,   7.4924,2,    25.00, -999.000,9,  -999.00,9,  -999.00,9,   4.7988,2,  27.3321,2,   4.8755,2
49UP20220824_1,    P9,    39,  1,     18,     752,2,20220903,2025,2158,  9.9988, 136.9905, 4874,   1080.5,     1072,   4.2275,  34.5526,2,     86.5,2,  34.5530,2,    86.37,2,    99.50,2,    38.50,2,     0.00,2,    2.770,2, -999.000,9, -999.000,9,   2306.7,2,   2369.4,2,   7.4906,2,    25.00, -999.000,9,  -999.00,9,  -999.00,9,   4.1431,2,  27.4153,2,   4.2270,2
49UP20220824_1,    P9,    39,  1,     17,     751,2,20220903,2025,2154,  9.9988, 136.9905, 4874,   1282.3,     1271,   3.5829,  34.5725,2,     91.7,2,  34.5722,2,    91.76,2,   112.60,2,    38.72,2,     0.00,2,    2.780,2, -999.000,9, -999.000,9,   2323.0,2,   2383.2,2,   7.4951,2,    25.00, -999.000,9,  -999.00,9,  -999.00,9,   3.4871,2,  27.4978,2,   3.5826,2
49UP20220824_1,    P9,    39,  1,     16,     328,2,20220903,2025,2149,  9.9988, 136.9905, 4874,   1485.5,     1472,   3.0071,  34.5936,2,     99.0,2,  34.5940,2,    99.13,2,   123.74,2,    38.84,2,     0.00,2,    2.770,2, -999.000,9, -999.000,9,   2329.7,2,   2394.7,2,   7.5038,2,    25.00, -999.000,9,  -999.00,9,  -999.00,9,   2.9004,2,  27.5698,2,   3.0071,2
49UP20220824_1,    P9,    39,  1,     15,     309,2,20220903,2025,2144,  9.9988, 136.9905, 4874,   1687.4,     1671,   2.5969,  34.6120,2,    105.7,2,  34.6121,2,   105.66,6,   131.70,6,    38.64,6,     0.00,6,    2.740,6, -999.000,9, -999.000,9,   2333.3,2,   2401.9,2,   7.5138,2,    25.00, -999.000,9,  -999.00,9,  -999.00,9,   2.4783,2,  27.6215,2,   2.5970,2
49UP20220824_1,    P9,    39,  1,     14,     326,2,20220903,2025,2139,  9.9988, 136.9905, 4874,   1891.0,     1872,   2.3680,  34.6233,2,    110.6,2,  34.6233,2,   110.51,2,   136.23,2,    38.41,2,     0.00,2,    2.720,2, -999.000,9, -999.000,9,   2334.3,2,   2408.0,2,   7.5198,2,    25.00, -999.000,9,  -999.00,9,  -999.00,9,   2.2354,2,  27.6509,2,   2.3678,2
49UP20220824_1,    P9,    39,  1,     13,     325,2,20220903,2025,2134,  9.9988, 136.9905, 4874,   2093.4,     2071,   2.1044,  34.6367,2,    117.1,2,  34.6370,2,   117.17,2,   141.13,2,    38.08,2,     0.00,2,    2.690,2, -999.000,9, -999.000,9,   2339.0,2,   2412.3,2,   7.5289,6,    25.00, -999.000,9,  -999.00,9,  -999.00,9,   1.9584,2,  27.6839,2,   2.1047,2
49UP20220824_1,    P9,    39,  1,     12,     324,2,20220903,2025,2129,  9.9988, 136.9905, 4874,   2299.2,     2274,   1.9534,  34.6453,2,    122.1,2,  34.6458,2,   122.15,2,   143.56,2,    37.84,2,     0.00,2,    2.670,2, -999.000,9, -999.000,9,   2339.9,2,   2415.5,6,   7.5370,2,    25.00, -999.000,9,  -999.00,9,  -999.00,9,   1.7920,2,  27.7037,2,   1.9537,2
49UP20220824_1,    P9,    39,  1,     11,     323,2,20220903,2025,2124,  9.9988, 136.9905, 4874,   2501.1,     2472,   1.8114,  34.6536,2,    127.6,2,  34.6540,2,   127.85,2,   145.68,2,    37.56,2,     0.00,2,    2.640,2, -999.000,9, -999.000,9,   2335.8,2,   2417.1,2,   7.5430,2,    25.00, -999.000,9,  -999.00,9,  -999.00,9,   1.6346,2,  27.7223,2,   1.8114,2
49UP20220824_1,    P9,    39,  1,     10,     322,2,20220903,2025,2119,  9.9988, 136.9905, 4874,   2703.6,     2671,   1.7098,  34.6605,2,    133.5,2,  34.6606,6,   133.43,2,   146.12,2,    37.28,2,     0.00,2,    2.610,2, -999.000,9, -999.000,9,   2334.8,2,   2416.6,2,   7.5534,2,    25.00, -999.000,9,  -999.00,9,  -999.00,9,   1.5164,2,  27.7366,2,   1.7097,2
49UP20220824_1,    P9,    39,  1,      9,     750,2,20220903,2025,2114,  9.9988, 136.9905, 4874,   2909.5,     2873,   1.6411,  34.6659,2,    138.0,2,  34.6657,2,   137.84,2,   146.18,2,    37.02,2,     0.00,2,    2.590,2, -999.000,9, -999.000,9,   2328.7,2,   2418.8,2,   7.5598,2,    25.00, -999.000,9,  -999.00,9,  -999.00,9,   1.4299,2,  27.7471,2,   1.6414,2
49UP20220824_1,    P9,    39,  1,      8,     320,2,20220903,2025,2109,  9.9988, 136.9905, 4874,   3122.2,     3082,   1.5797,  34.6715,2,    144.7,2,  34.6717,6,   144.30,2,   144.50,2,    36.65,2,     0.00,2,    2.550,2, -999.000,9, -999.000,9,   2329.0,2,   2417.3,2,   7.5688,2,    25.00, -999.000,9,  -999.00,9,  -999.00,9,   1.3494,2,  27.7574,2,   1.5797,2
49UP20220824_1,    P9,    39,  1,      7,     319,2,20220903,2025,2103,  9.9988, 136.9905, 4874,   3378.5,     3333,   1.5463,  34.6752,2,    148.8,2,  34.6749,2,   148.74,2,   143.73,2,    36.33,2,     0.00,2,    2.530,2, -999.000,9, -999.000,9,   2325.9,2,   2417.1,2,   7.5770,2,    25.00, -999.000,9,  -999.00,9,  -999.00,9,   1.2914,2,  27.7645,2,   1.5463,2
49UP20220824_1,    P9,    39,  1,      6,     318,2,20220903,2025,2058,  9.9988, 136.9905, 4874,   3633.0,     3582,   1.5393,  34.6777,2,    151.3,2,  34.6779,2,   151.14,6,   143.07,6,    36.05,6,     0.00,6,    2.520,6, -999.000,9, -999.000,9,   2322.8,2,   2416.2,2,   7.5807,2,    25.00, -999.000,9,  -999.00,9,  -999.00,9,   1.2584,2,  27.7687,2,   1.5392,2
49UP20220824_1,    P9,    39,  1,      5,     838,2,20220903,2025,2047,  9.9988, 136.9905, 4874,   4144.6,     4081,   1.5338,  34.6823,2,    156.6,2,  34.6823,2,   156.54,2,   141.30,2,    35.73,2,     0.00,2,    2.480,2, -999.000,9, -999.000,9,   2319.1,2,   2414.4,2,   7.5864,6,    25.00, -999.000,9,  -999.00,9,  -999.00,9,   1.1980,2,  27.7766,2,   1.5337,2
49UP20220824_1,    P9,    39,  1,      4,     316,2,20220903,2025,2042,  9.9988, 136.9905, 4874,   4400.8,     4331,   1.5406,  34.6840,2,    158.6,2,  34.6841,2,   158.56,2,   140.88,2,    35.71,2,     0.00,2,    2.470,2, -999.000,9, -999.000,9,   2317.4,6,   2413.6,6,   7.5882,2,    25.00, -999.000,9,  -999.00,9,  -999.00,9,   1.1758,2,  27.7795,2,   1.5406,2
49UP20220824_1,    P9,    39,  1,      3,     315,2,20220903,2025,2036,  9.9988, 136.9905, 4874,   4658.4,     4582,   1.5526,  34.6853,2,    160.2,2,  34.6851,2,   160.08,2,   140.34,2,    35.47,2,     0.00,2,    2.470,2, -999.000,9, -999.000,9,   2314.3,2,   2412.1,2,   7.5905,2,    25.00, -999.000,9,  -999.00,9,  -999.00,9,   1.1575,2,  27.7818,2,   1.5526,2
49UP20220824_1,    P9,    39,  1,      2,     314,2,20220903,2025,2030,  9.9988, 136.9905, 4874,   4915.0,     4832,   1.5707,  34.6862,2,    161.4,2,  34.6861,6,   161.31,2,   139.83,2,    35.37,2,     0.00,2,    2.460,2, -999.000,9, -999.000,9,   2315.0,2,   2411.7,2,   7.5941,2,    25.00, -999.000,9,  -999.00,9,  -999.00,9,   1.1444,2,  27.7835,2,   1.5707,2
49UP20220824_1,    P9,    39,  1,      1,     308,2,20220903,2025,2025,  9.9988, 136.9905, 4874,   5123.2,     5034,   1.5937,  34.6864,2,    161.8,2,  34.6867,2,   161.73,2,   139.75,2,    35.49,2,     0.00,2,    2.460,2, -999.000,9, -999.000,9,   2313.8,2,   2412.8,2,   7.5932,2,    25.00, -999.000,9,  -999.00,9,  -999.00,9,   1.1412,2,  27.7838,2,   1.5936,2