BOTTLE,20230330JMAAMD
EXPOCODE,SECT_ID,STNNBR,CASTNO,SAMPNO,BTLNBR,BTLNBR_FLAG_U,DATE,TIME,BTL_TIME,LATITUDE,LONGITUDE,DEPTH,CTDPRS,CTDDEP,CTDTMP,CTDSAL,CTDSAL_FLAG_W,CTDOXY,CTDOXY_FLAG_W,SALNTY,SALNTY_FLAG_W,OXYGEN,OXYGEN_FLAG_W,SILCAT,SILCAT_FLAG_W,NO2+NO3,NO2+NO3_FLAG_W,NITRIT,NITRIT_FLAG_W,PHSPHT,PHSPHT_FLAG_W,CFC-11,CFC-11_FLAG_W,CFC-12,CFC-12_FLAG_W,TCARBN,TCARBN_FLAG_W,ALKALI,ALKALI_FLAG_W,PH_TS,PH_TS_FLAG_W,PH_TS_TMP,CFC113,CFC113_FLAG_W,CHLORA,CHLORA_FLAG_W,PPHYTN,PPHYTN_FLAG_W,THETA,THETA_FLAG_W,SIGTHT,SIGTHT_FLAG_W,SBE35,SBE35_FLAG_W
,,,,,,,,UTC,,,,METER,DBAR,METERS,ITS-90,PSS-78,,UMOL/KG,,PSS78,,UMOL/KG,,UMOL/KG,,UMOL/KG,,UMOL/KG,,UMOL/KG,,PMOL/KG,,PMOL/KG,,UMOL/KG,,UMOL/KG,,,,ITS-90,PMOL/KG,,UG/KG,,UG/KG,,ITS-90,,KG/M3,,ITS-90,
49UP20220929_1,    P9,    86,  1,      0,      -9,0,20221010,2339,0110, 31.9980, 137.0045, 4245,      0.0,        0,  26.0384,  33.8153,2,    210.4,2,  33.8374,2,   206.77,2,     2.41,2,     0.02,2,     0.00,2,    0.040,2, -999.000,9, -999.000,9,   1936.4,2,   2232.9,2,   8.0670,2,    25.00, -999.000,9,     0.24,2,     0.07,2,  26.0378,2,  22.1281,2,-999.0000,9
49UP20220929_1,    P9,    86,  1,     36,     757,2,20221010,2339,0138, 31.9980, 137.0045, 4245,     10.7,       11,  26.0330,  33.8144,2,    206.8,2,  33.8175,2,   206.36,2,     2.39,2,     0.01,2,     0.00,2,    0.010,2, -999.000,9, -999.000,9,   1936.0,2,   2231.5,2,   8.0649,2,    25.00, -999.000,9,     0.23,2,     0.06,2,  26.0307,2,  22.1296,2,  26.0320,2
49UP20220929_1,    P9,    86,  1,     35,     756,2,20221010,2339,0136, 31.9980, 137.0045, 4245,     24.7,       25,  26.0123,  33.8133,2,    206.9,2,  33.8169,2,   206.23,2,     2.32,2,     0.00,2,     0.00,2,    0.010,2, -999.000,9, -999.000,9,   1936.1,2,   2232.5,2,   8.0661,2,    25.00, -999.000,9,     0.24,2,     0.08,2,  26.0068,2,  22.1362,2,  26.0142,2
49UP20220929_1,    P9,    86,  1,     33,     322,2,20221010,2339,0135, 31.9980, 137.0045, 4245,     50.1,       50,  20.2569,  34.5431,2,    193.7,2,  34.5412,2,   195.44,2,     5.80,2,     3.12,2,     0.28,2,    0.260,2, -999.000,9, -999.000,9,   2031.9,2,   2273.9,2,   7.9576,2,    25.00, -999.000,9,     0.41,2,     0.29,2,  20.2476,2,  24.3479,2,  20.2575,2
49UP20220929_1,    P9,    86,  1,     34,     323,2,20221010,2339,0135, 31.9980, 137.0045, 4245,     50.2,       50,  20.2638,  34.5434,2,    193.8,2,  34.5429,2,   194.13,2,     5.83,2,     3.23,2,     0.28,2,    0.270,2, -999.000,9, -999.000,9,   2030.2,2,   2276.0,2,   7.9561,2,    25.00, -999.000,9,  -999.00,9,  -999.00,9,  20.2545,2,  24.3463,2,  20.2608,2
49UP20220929_1,    P9,    86,  1,     32,     321,2,20221010,2339,0133, 31.9980, 137.0045, 4245,     76.3,       76,  17.1482,  34.6189,2,    172.4,2,  34.6180,2,   172.41,2,    11.47,2,     8.86,2,     0.04,2,    0.620,2, -999.000,9, -999.000,9,   2075.6,2,   2282.7,2,   7.8771,2,    25.00, -999.000,9,     0.11,2,     0.16,2,  17.1356,2,  25.1895,2,  17.1572,2
49UP20220929_1,    P9,    86,  1,     31,     320,2,20221010,2339,0130, 31.9980, 137.0045, 4245,    101.3,      101,  15.1826,  34.5589,2,    166.7,2,  34.5597,2,   166.69,2,    17.64,2,    12.12,2,     0.01,2,    0.860,2, -999.000,9, -999.000,9,   2101.2,2,   2283.8,2,   7.8256,2,    25.00, -999.000,9,     0.02,2,     0.04,2,  15.1672,2,  25.5951,2,  15.1873,2
49UP20220929_1,    P9,    86,  1,     30,     319,2,20221010,2339,0128, 31.9980, 137.0045, 4245,    125.8,      125,  13.5095,  34.4847,2,    157.4,2,  34.4846,2,   157.17,2,    24.66,2,    15.45,2,     0.01,2,    1.100,2, -999.000,9, -999.000,9,   2125.8,2,   2287.0,2,   7.7714,2,    25.00, -999.000,9,     0.02,2,     0.03,2,  13.4919,2,  25.8941,2,  13.5110,2
49UP20220929_1,    P9,    86,  1,     29,     318,2,20221010,2339,0126, 31.9980, 137.0045, 4245,    153.1,      152,  12.5416,  34.4435,2,    151.9,2,  34.4455,2,   152.00,2,    28.95,2,    17.37,2,     0.00,2,    1.240,2, -999.000,9, -999.000,9,   2137.9,2,   2286.9,2,   7.7407,2,    25.00, -999.000,9,     0.02,2,     0.03,2,  12.5212,2,  26.0563,2,  12.5492,2
49UP20220929_1,    P9,    86,  1,     28,     755,2,20221010,2339,0124, 31.9980, 137.0045, 4245,    201.9,      200,  10.3692,  34.3408,2,    139.4,2,  34.3403,2,   139.00,2,    39.97,2,    22.08,2,     0.00,2,    1.570,2, -999.000,9, -999.000,9,   2174.0,2,   2290.2,2,   7.6658,2,    25.00, -999.000,9,     0.01,2,     0.03,2,  10.3454,2,  26.3779,2,  10.3693,2
49UP20220929_1,    P9,    86,  1,     27,     317,2,20221010,2339,0122, 31.9980, 137.0045, 4245,    252.7,      251,   8.7590,  34.2830,2,    124.7,2,  34.2787,2,   125.17,6,    51.65,6,    26.15,6,     0.00,6,    1.870,6, -999.000,9, -999.000,9,   2204.1,2,   2295.8,2,   7.6029,2,    25.00, -999.000,9,  -999.00,9,  -999.00,9,   8.7321,2,  26.5989,2,   8.7513,2
49UP20220929_1,    P9,    86,  1,     26,     316,2,20221010,2339,0120, 31.9980, 137.0045, 4245,    305.0,      303,   7.9968,  34.2723,2,    115.5,2,  34.2724,6,   115.77,2,    59.44,2,    28.29,2,     0.00,2,    2.030,2, -999.000,9, -999.000,9,   2221.8,2,   2304.8,2,   7.5682,2,    25.00, -999.000,9,  -999.00,9,  -999.00,9,   7.9660,2,  26.7074,2,   7.9972,2
49UP20220929_1,    P9,    86,  1,     25,     315,2,20221010,2339,0117, 31.9980, 137.0045, 4245,    404.2,      401,   6.3872,  34.2703,2,     94.5,2,  34.2720,2,    94.74,2,    78.31,2,    32.93,2,     0.00,2,    2.370,2, -999.000,9, -999.000,9,   2259.8,2,   2319.2,2,   7.5006,2,    25.00, -999.000,9,  -999.00,9,  -999.00,9,   6.3512,2,  26.9309,2,   6.3894,2
49UP20220929_1,    P9,    86,  1,     24,     753,2,20221010,2339,0114, 31.9980, 137.0045, 4245,    504.0,      500,   4.8857,  34.2732,2,     72.0,2,  34.2743,2,    72.27,2,    98.02,2,    37.41,2,     0.00,2,    2.680,2, -999.000,9, -999.000,9,   2300.5,2,   2336.4,2,   7.4320,2,    25.00, -999.000,9,  -999.00,9,  -999.00,9,   4.8462,2,  27.1166,2,   4.8841,2
49UP20220929_1,    P9,    86,  1,     23,     314,2,20221010,2339,0111, 31.9980, 137.0045, 4245,    605.3,      600,   4.2380,  34.3279,2,     63.9,2,  34.3284,2,    63.72,2,   110.53,2,    39.14,2,     0.00,2,    2.800,2, -999.000,9, -999.000,9,   2317.4,2,   2350.2,2,   7.4131,2,    25.00, -999.000,9,  -999.00,9,  -999.00,9,   4.1931,2,  27.2313,2,   4.2376,2
49UP20220929_1,    P9,    86,  1,     22,     313,2,20221010,2339,0107, 31.9980, 137.0045, 4245,    706.1,      700,   3.7627,  34.3774,2,     61.2,2,  34.3770,2,    61.08,2,   120.10,2,    39.98,2,     0.00,2,    2.860,2, -999.000,9, -999.000,9,   2333.5,2,   2360.5,2,   7.4057,2,    25.00, -999.000,9,  -999.00,9,  -999.00,9,   3.7123,2,  27.3201,2,   3.7619,2
49UP20220929_1,    P9,    86,  1,     21,     312,2,20221010,2339,0104, 31.9980, 137.0045, 4245,    806.7,      800,   3.3843,  34.4106,2,     59.1,2,  34.4106,2,    59.14,2,   128.36,2,    40.72,2,     0.00,2,    2.900,2, -999.000,9, -999.000,9,   2343.6,2,   2371.8,2,   7.4001,2,    25.00, -999.000,9,  -999.00,9,  -999.00,9,   3.3285,2,  27.3840,2,   3.3845,2
49UP20220929_1,    P9,    86,  1,     20,     311,2,20221010,2339,0101, 31.9980, 137.0045, 4245,    909.3,      901,   3.1687,  34.4429,2,     63.0,2,  34.4429,2,    62.73,6,   132.28,6,    40.70,6,     0.00,6,    2.890,6, -999.000,9, -999.000,9,   2345.9,2,   2377.8,2,   7.4093,2,    25.00, -999.000,9,  -999.00,9,  -999.00,9,   3.1065,2,  27.4305,2,   3.1685,2
49UP20220929_1,    P9,    86,  1,     19,     310,2,20221010,2339,0058, 31.9980, 137.0045, 4245,   1010.1,     1001,   2.9395,  34.4696,2,     66.0,2,  34.4691,2,    65.87,2,   136.55,2,    40.71,2,     0.00,2,    2.890,2, -999.000,9, -999.000,9,   2349.8,6,   2384.4,6,   7.4151,2,    25.00, -999.000,9,  -999.00,9,  -999.00,9,   2.8714,2,  27.4733,2,   2.9398,2
49UP20220929_1,    P9,    86,  1,     18,     752,2,20221010,2339,0053, 31.9980, 137.0045, 4245,   1213.3,     1201,   2.6329,  34.5073,2,     72.8,2,  34.5076,6,    72.78,2,   141.92,2,    40.55,2,     0.00,2,    2.870,2, -999.000,9, -999.000,9,   2352.3,2,   2391.4,2,   7.4313,6,    25.00, -999.000,9,  -999.00,9,  -999.00,9,   2.5520,2,  27.5315,2,   2.6334,2
49UP20220929_1,    P9,    86,  1,     17,     751,2,20221010,2339,0048, 31.9980, 137.0045, 4245,   1414.5,     1400,   2.3913,  34.5398,2,     81.7,2,  34.5401,2,    81.67,2,   145.17,2,    40.22,2,     0.00,2,    2.840,2, -999.000,9, -999.000,9,   2352.9,2,   2396.8,2,   7.4475,2,    25.00, -999.000,9,  -999.00,9,  -999.00,9,   2.2973,2,  27.5789,2,   2.3912,2
49UP20220929_1,    P9,    86,  1,     16,     328,2,20221010,2339,0043, 31.9980, 137.0045, 4245,   1616.6,     1599,   2.1867,  34.5693,2,     91.7,2,  34.5693,2,    91.81,2,   147.09,2,    39.71,2,     0.00,2,    2.800,2, -999.000,9, -999.000,9,   2351.3,2,   2402.0,2,   7.4660,2,    25.00, -999.000,9,  -999.00,9,  -999.00,9,   2.0791,2,  27.6203,2,   2.1865,2
49UP20220929_1,    P9,    86,  1,     15,     309,2,20221010,2339,0038, 31.9980, 137.0045, 4245,   1820.4,     1800,   2.0304,  34.5920,2,    100.6,2,  34.5921,2,   100.26,2,   147.97,2,    39.21,2,     0.00,2,    2.760,2, -999.000,9, -999.000,9,   2348.7,2,   2406.0,2,   7.4822,2,    25.00, -999.000,9,  -999.00,9,  -999.00,9,   1.9084,2,  27.6519,2,   2.0306,2
49UP20220929_1,    P9,    86,  1,     14,     326,2,20221010,2339,0033, 31.9980, 137.0045, 4245,   2025.1,     2001,   1.8926,  34.6140,2,    112.3,2,  34.6143,2,   112.03,2,   147.22,2,    38.53,2,     0.00,2,    2.700,2, -999.000,9, -999.000,9,   2341.5,2,   2407.6,2,   7.5056,2,    25.00, -999.000,9,  -999.00,9,  -999.00,9,   1.7558,2,  27.6814,2,   1.8926,2
49UP20220929_1,    P9,    86,  1,     13,     325,2,20221010,2339,0033, 31.9980, 137.0045, 4245,   2025.2,     2001,   1.8926,  34.6140,2,    112.4,2,  34.6148,2,   112.32,2,   147.06,2,    38.45,2,     0.00,2,    2.700,2, -999.000,9, -999.000,9,   2342.0,2,   2408.6,2,   7.5088,2,    25.00, -999.000,9,  -999.00,9,  -999.00,9,   1.7557,2,  27.6814,2,   1.8926,2
49UP20220929_1,    P9,    86,  1,     12,     324,2,20221010,2339,0028, 31.9980, 137.0045, 4245,   2228.1,     2201,   1.7937,  34.6294,2,    120.8,2,  34.6298,2,   121.08,6,   146.64,6,    37.99,6,     0.00,6,    2.660,6, -999.000,9, -999.000,9,   2333.5,2,   2410.4,2,   7.5244,2,    25.00, -999.000,9,  -999.00,9,  -999.00,9,   1.6412,2,  27.7024,2,   1.7935,2
49UP20220929_1,    P9,    86,  1,     11,     323,2,20221010,2339,0023, 31.9980, 137.0045, 4245,   2429.9,     2399,   1.7139,  34.6418,2,    128.1,2,  34.6420,6,   128.00,2,   145.98,2,    37.53,2,     0.00,2,    2.620,2, -999.000,9, -999.000,9,   2335.8,2,   2412.8,2,   7.5366,2,    25.00, -999.000,9,  -999.00,9,  -999.00,9,   1.5452,2,  27.7194,2,   1.7138,2
49UP20220929_1,    P9,    86,  1,     10,     322,2,20221010,2339,0018, 31.9980, 137.0045, 4245,   2633.2,     2599,   1.6493,  34.6521,2,    134.6,2,  34.6523,2,   134.54,2,   145.24,2,    37.13,2,     0.00,2,    2.590,2, -999.000,9, -999.000,9,   2332.6,2,   2414.7,2,   7.5481,2,    25.00, -999.000,9,  -999.00,9,  -999.00,9,   1.4637,2,  27.7336,2,   1.6494,2
49UP20220929_1,    P9,    86,  1,      9,     750,2,20221010,2339,0018, 31.9980, 137.0045, 4245,   2633.8,     2599,   1.6493,  34.6521,2,    134.6,2,  34.6522,2,   134.50,2,   145.20,2,    37.17,2,     0.00,2,    2.590,2, -999.000,9, -999.000,9,   2331.6,2,   2414.7,2,   7.5484,2,    25.00, -999.000,9,  -999.00,9,  -999.00,9,   1.4636,2,  27.7336,2,   1.6493,2
49UP20220929_1,    P9,    86,  1,      8,     320,2,20221010,2339,0013, 31.9980, 137.0045, 4245,   2838.6,     2800,   1.5962,  34.6605,2,    140.1,2,  34.6600,2,   140.04,2,   144.56,2,    36.78,2,     0.00,2,    2.560,2, -999.000,9, -999.000,9,   2329.8,6,   2413.4,6,   7.5587,2,    25.00, -999.000,9,  -999.00,9,  -999.00,9,   1.3927,2,  27.7455,2,   1.5962,2
49UP20220929_1,    P9,    86,  1,      7,     319,2,20221010,2339,0008, 31.9980, 137.0045, 4245,   3041.7,     2999,   1.5531,  34.6675,2,    144.9,2,  34.6675,2,   144.86,2,   144.03,2,    36.52,2,     0.00,2,    2.540,2, -999.000,9, -999.000,9,   2326.2,2,   2414.0,2,   7.5656,6,    25.00, -999.000,9,  -999.00,9,  -999.00,9,   1.3312,2,  27.7555,2,   1.5531,2
49UP20220929_1,    P9,    86,  1,      6,     318,2,20221010,2339,0002, 31.9980, 137.0045, 4245,   3298.8,     3250,   1.5221,  34.6737,2,    149.2,2,  34.6737,2,   148.85,6,   143.44,6,    36.23,6,     0.00,6,    2.510,6, -999.000,9, -999.000,9,   2325.5,2,   2412.7,2,   7.5743,2,    25.00, -999.000,9,  -999.00,9,  -999.00,9,   1.2758,2,  27.7643,2,   1.5221,2
49UP20220929_1,    P9,    86,  1,      5,     838,2,20221010,2339,2357, 31.9980, 137.0045, 4245,   3553.8,     3500,   1.5197,  34.6768,2,    151.3,2,  34.6769,2,   151.35,2,   143.31,2,    36.07,2,     0.00,2,    2.500,2, -999.000,9, -999.000,9,   2324.0,2,   2414.8,2,   7.5770,2,    25.00, -999.000,9,  -999.00,9,  -999.00,9,   1.2476,2,  27.7688,2,   1.5198,2
49UP20220929_1,    P9,    86,  1,      4,     316,2,20221010,2339,2351, 31.9980, 137.0045, 4245,   3810.0,     3750,   1.5319,  34.6785,2,    152.5,2,  34.6792,2,   152.57,2,   143.02,2,    36.02,2,     0.00,2,    2.500,2, -999.000,9, -999.000,9,   2323.7,6,   2415.1,6,   7.5799,2,    25.00, -999.000,9,  -999.00,9,  -999.00,9,   1.2326,2,  27.7712,2,   1.5317,2
49UP20220929_1,    P9,    86,  1,      3,     315,2,20221010,2339,2345, 31.9980, 137.0045, 4245,   4068.3,     4002,   1.5497,  34.6796,2,    153.5,2,  34.6797,6,   153.39,2,   142.86,2,    35.98,2,     0.00,2,    2.490,2, -999.000,9, -999.000,9,   2324.6,2,   2415.4,2,   7.5821,6,    25.00, -999.000,9,  -999.00,9,  -999.00,9,   1.2219,2,  27.7728,2,   1.5498,2
49UP20220929_1,    P9,    86,  1,      1,     308,2,20221010,2339,2339, 31.9980, 137.0045, 4245,   4301.7,     4229,   1.5710,  34.6803,2,    154.0,2,  34.6806,2,   153.98,2,   142.93,2,    35.96,2,     0.00,2,    2.490,2, -999.000,9, -999.000,9,   2321.3,2,   2414.7,2,   7.5822,2,    25.00, -999.000,9,  -999.00,9,  -999.00,9,   1.2165,2,  27.7738,2,   1.5708,2
49UP20220929_1,    P9,    86,  1,      2,     314,2,20221010,2339,2339, 31.9980, 137.0045, 4245,   4302.1,     4229,   1.5708,  34.6804,2,    154.1,2,  34.6805,2,   153.66,2,   142.98,2,    35.92,2,     0.00,2,    2.490,2, -999.000,9, -999.000,9,   2323.9,2,   2412.5,2,   7.5826,2,    25.00, -999.000,9,  -999.00,9,  -999.00,9,   1.2163,2,  27.7739,2,   1.5708,2