BOTTLE,20230330JMAAMD
EXPOCODE,SECT_ID,STNNBR,CASTNO,SAMPNO,BTLNBR,BTLNBR_FLAG_U,DATE,TIME,BTL_TIME,LATITUDE,LONGITUDE,DEPTH,CTDPRS,CTDDEP,CTDTMP,CTDSAL,CTDSAL_FLAG_W,CTDOXY,CTDOXY_FLAG_W,SALNTY,SALNTY_FLAG_W,OXYGEN,OXYGEN_FLAG_W,SILCAT,SILCAT_FLAG_W,NO2+NO3,NO2+NO3_FLAG_W,NITRIT,NITRIT_FLAG_W,PHSPHT,PHSPHT_FLAG_W,CFC-11,CFC-11_FLAG_W,CFC-12,CFC-12_FLAG_W,TCARBN,TCARBN_FLAG_W,ALKALI,ALKALI_FLAG_W,PH_TS,PH_TS_FLAG_W,PH_TS_TMP,CFC113,CFC113_FLAG_W,CHLORA,CHLORA_FLAG_W,PPHYTN,PPHYTN_FLAG_W,THETA,THETA_FLAG_W,SIGTHT,SIGTHT_FLAG_W,SBE35,SBE35_FLAG_W
,,,,,,,,UTC,,,,METER,DBAR,METERS,ITS-90,PSS-78,,UMOL/KG,,PSS78,,UMOL/KG,,UMOL/KG,,UMOL/KG,,UMOL/KG,,UMOL/KG,,PMOL/KG,,PMOL/KG,,UMOL/KG,,UMOL/KG,,,,ITS-90,PMOL/KG,,UG/KG,,UG/KG,,ITS-90,,KG/M3,,ITS-90,
49UP20220727_1,    P9,    23,  1,      0,      -9,0,20220812,1515,1655,  4.0092, 137.0143, 4632,      0.0,        0,  29.7001,  34.1835,2,    194.9,2,  34.0998,2,   196.15,2,     1.32,2,     0.01,2,     0.00,2,    0.090,2, -999.000,9, -999.000,9,   1914.1,2,   2239.5,2,   8.1136,2,    25.00, -999.000,9,     0.30,2,     0.08,2,  29.6995,2,  21.2162,2,-999.0000,9
49UP20220727_1,    P9,    23,  1,     36,     757,2,20220812,1515,1734,  4.0092, 137.0143, 4632,     11.2,       11,  29.7373,  34.2086,2,    194.9,2,  34.2517,2,   196.07,2,     1.28,2,     0.00,2,     0.00,2,    0.080,2, -999.000,9, -999.000,9,   1925.9,2,   2250.3,2,   8.1090,2,    25.00, -999.000,9,     0.25,2,     0.08,2,  29.7346,2,  21.2231,2,  29.7388,2
49UP20220727_1,    P9,    23,  1,     35,     756,2,20220812,1515,1733,  4.0092, 137.0143, 4632,     26.5,       26,  30.0967,  34.7696,2,    195.1,2,  34.7689,2,   195.87,2,     1.12,2,     0.00,2,     0.00,2,    0.130,2, -999.000,9, -999.000,9,   1952.0,2,   2285.9,2,   8.1069,2,    25.00, -999.000,9,     0.23,2,     0.12,2,  30.0901,2,  21.5227,2,  30.0969,2
49UP20220727_1,    P9,    23,  1,     34,     323,2,20220812,1515,1728,  4.0092, 137.0143, 4632,     51.7,       51,  30.0300,  35.0226,2,    196.3,2,  35.0235,2,   196.48,6,     1.20,6,     0.02,6,     0.00,6,    0.180,6, -999.000,9, -999.000,9,   1974.2,2,   2301.9,2,   8.0963,2,    25.00, -999.000,9,     0.30,2,     0.18,2,  30.0172,2,  21.7372,2,  30.0312,2
49UP20220727_1,    P9,    23,  1,     33,     322,2,20220812,1515,1726,  4.0092, 137.0143, 4632,     76.5,       76,  29.8252,  35.2379,2,    192.9,2,  35.2385,2,   192.95,2,     1.18,2,     0.17,2,     0.08,2,    0.230,2, -999.000,9, -999.000,9,   1993.8,6,   2315.1,6,   8.0841,2,    25.00, -999.000,9,     0.37,2,     0.41,2,  29.8063,2,  21.9706,2,  29.8253,2
49UP20220727_1,    P9,    23,  1,     32,     321,2,20220812,1515,1724,  4.0092, 137.0143, 4632,    101.0,      100,  29.7825,  35.2907,2,    188.5,2,  35.2906,2,   188.41,2,     1.22,2,     0.62,2,     0.32,2,    0.260,2, -999.000,9, -999.000,9,   1998.5,2,   2317.9,2,   8.0745,6,    25.00, -999.000,9,     0.31,2,     0.43,2,  29.7576,2,  22.0268,2,  29.7808,2
49UP20220727_1,    P9,    23,  1,     31,     320,2,20220812,1515,1723,  4.0092, 137.0143, 4632,    126.7,      126,  29.2077,  35.4075,2,    175.3,2,  35.4115,2,   175.16,2,     1.65,2,     3.55,2,     0.20,2,    0.430,2, -999.000,9, -999.000,9,   2024.6,2,   2324.8,2,   8.0390,2,    25.00, -999.000,9,     0.13,2,     0.22,2,  29.1768,2,  22.3108,2,  29.2042,2
49UP20220727_1,    P9,    23,  1,     30,     319,2,20220812,1515,1721,  4.0092, 137.0143, 4632,    151.4,      151,  28.1100,  35.3686,2,    155.0,2,  35.3725,2,   155.34,2,     2.14,2,     5.75,2,     0.06,2,    0.550,2, -999.000,9, -999.000,9,   2044.3,2,   2320.3,2,   8.0028,2,    25.00, -999.000,9,     0.08,2,     0.22,2,  28.0742,2,  22.6476,2,  28.1022,2
49UP20220727_1,    P9,    23,  1,     29,     318,2,20220812,1515,1719,  4.0092, 137.0143, 4632,    201.8,      201,  17.1184,  34.6446,2,    141.5,2,  34.6394,2,   141.92,6,    15.22,6,    13.36,6,     0.01,6,    0.990,6, -999.000,9, -999.000,9,   2110.4,2,   2285.6,2,   7.8091,2,    25.00, -999.000,9,     0.01,2,     0.04,2,  17.0851,2,  25.2212,2,  17.1156,2
49UP20220727_1,    P9,    23,  1,     28,     755,2,20220812,1515,1717,  4.0092, 137.0143, 4632,    251.2,      250,  10.7552,  34.4987,2,     90.2,2,  34.4922,2,    91.79,2,    31.21,2,    26.83,2,     0.00,2,    1.940,2, -999.000,9, -999.000,9,   2202.8,2,   2288.9,2,   7.5871,2,    25.00, -999.000,9,  -999.00,9,  -999.00,9,  10.7248,2,  26.4344,2,  10.7549,2
49UP20220727_1,    P9,    23,  1,     27,     317,2,20220812,1515,1714,  4.0092, 137.0143, 4632,    334.9,      333,   8.7032,  34.5871,2,     75.4,2,  34.5863,2,    75.44,2,    37.45,2,    32.64,2,     0.00,2,    2.300,2, -999.000,9, -999.000,9,   2237.1,2,   2303.6,2,   7.5265,2,    25.00, -999.000,9,  -999.00,9,  -999.00,9,   8.6674,2,  26.8474,2,   8.7028,2
49UP20220727_1,    P9,    23,  1,     26,     316,2,20220812,1515,1712,  4.0092, 137.0143, 4632,    383.2,      381,   8.2122,  34.5762,2,     94.0,2,  34.5766,2,    92.82,2,    37.95,2,    32.16,2,     0.00,2,    2.260,2, -999.000,9, -999.000,9,   2231.7,2,   2304.1,2,   7.5482,2,    25.00, -999.000,9,  -999.00,9,  -999.00,9,   8.1726,2,  26.9150,2,   8.2138,2
49UP20220727_1,    P9,    23,  1,     25,     315,2,20220812,1515,1710,  4.0092, 137.0143, 4632,    432.5,      430,   7.6823,  34.5595,2,     95.4,2,  34.5586,2,   100.11,2,    40.37,2,    32.60,2,     0.00,2,    2.290,2, -999.000,9, -999.000,9,   2233.2,2,   2306.4,2,   7.5495,2,    25.00, -999.000,9,  -999.00,9,  -999.00,9,   7.6392,2,  26.9810,2,   7.6824,2
49UP20220727_1,    P9,    23,  1,     24,     753,2,20220812,1515,1709,  4.0092, 137.0143, 4632,    482.3,      479,   7.3560,  34.5519,2,    121.0,2,  34.5525,2,   120.24,2,    37.52,2,    31.63,2,     0.00,2,    2.220,2, -999.000,9, -999.000,9,   2224.2,2,   2305.7,2,   7.5762,2,    25.00, -999.000,9,  -999.00,9,  -999.00,9,   7.3090,2,  27.0225,2,   7.3559,2
49UP20220727_1,    P9,    23,  1,     23,     314,2,20220812,1515,1706,  4.0092, 137.0143, 4632,    534.2,      531,   6.9861,  34.5340,2,    131.5,2,  34.5347,2,   131.35,6,    38.04,6,    31.24,6,     0.00,6,    2.190,6, -999.000,9, -999.000,9,   2219.0,2,   2306.7,2,   7.5879,2,    25.00, -999.000,9,  -999.00,9,  -999.00,9,   6.9353,2,  27.0606,2,   6.9867,2
49UP20220727_1,    P9,    23,  1,     22,     313,2,20220812,1515,1703,  4.0092, 137.0143, 4632,    637.2,      633,   6.2545,  34.5289,2,    104.3,2,  34.5293,2,   103.91,2,    53.42,2,    34.93,2,     0.00,2,    2.470,2, -999.000,9, -999.000,9,   2254.6,2,   2320.0,2,   7.5355,2,    25.00, -999.000,9,  -999.00,9,  -999.00,9,   6.1969,2,  27.1552,2,   6.2536,2
49UP20220727_1,    P9,    23,  1,     21,     312,2,20220812,1515,1700,  4.0092, 137.0143, 4632,    737.3,      732,   5.7375,  34.5352,2,     87.2,2,  34.5355,2,    87.24,2,    64.38,2,    37.33,2,     0.00,2,    2.660,2, -999.000,9, -999.000,9,   2269.8,2,   2331.0,2,   7.5030,2,    25.00, -999.000,9,  -999.00,9,  -999.00,9,   5.6733,2,  27.2263,2,   5.7349,2
49UP20220727_1,    P9,    23,  1,     20,     311,4,20220812,1515,1656,  4.0092, 137.0143, 4632,    841.2,      835,   5.2445,  34.5377,2,     91.4,2,  34.6739,4,   146.63,4,   144.30,4,    36.33,4,     0.00,4,    2.530,4, -999.000,9, -999.000,9,   2326.6,4,   2417.2,4,   7.5777,4,    25.00, -999.000,9,  -999.00,9,  -999.00,9,   5.1738,2,  27.2885,2,   5.2444,2
49UP20220727_1,    P9,    23,  1,     19,     310,2,20220812,1515,1653,  4.0092, 137.0143, 4632,    937.5,      930,   4.7610,  34.5469,2,     91.3,2,  34.5476,6,    91.72,2,  -999.00,9,  -999.00,9,  -999.00,9, -999.000,9, -999.000,9, -999.000,9,   2290.0,2,   2349.2,2,   7.5034,2,    25.00, -999.000,9,  -999.00,9,  -999.00,9,   4.6849,2,  27.3519,2,   4.7610,2
49UP20220727_1,    P9,    23,  1,     18,     752,2,20220812,1515,1649,  4.0092, 137.0143, 4632,   1082.1,     1073,   4.1914,  34.5611,2,     94.2,2,  34.5614,2,    94.19,2,    95.15,2,    38.28,2,     0.00,2,    2.730,2, -999.000,9, -999.000,9,   2301.0,2,   2362.6,2,   7.5039,2,    25.00, -999.000,9,  -999.00,9,  -999.00,9,   4.1072,2,  27.4258,2,   4.1914,2
49UP20220727_1,    P9,    23,  1,     17,     751,2,20220812,1515,1644,  4.0092, 137.0143, 4632,   1286.6,     1276,   3.5506,  34.5800,2,     98.7,2,  34.5799,2,    98.77,2,   108.12,2,    38.59,2,     0.00,2,    2.750,2, -999.000,9, -999.000,9,   2313.8,2,   2377.5,2,   7.5066,2,    25.00, -999.000,9,  -999.00,9,  -999.00,9,   3.4547,2,  27.5069,2,   3.5502,2
49UP20220727_1,    P9,    23,  1,     16,     328,2,20220812,1515,1639,  4.0092, 137.0143, 4632,   1483.7,     1470,   3.0733,  34.5962,2,    101.9,2,  34.5967,2,   101.88,2,   119.12,2,    38.70,2,     0.00,2,    2.750,2, -999.000,9, -999.000,9,   2325.1,2,   2389.0,2,   7.5101,2,    25.00, -999.000,9,  -999.00,9,  -999.00,9,   2.9659,2,  27.5658,2,   3.0734,2
49UP20220727_1,    P9,    23,  1,     15,     309,2,20220812,1515,1633,  4.0092, 137.0143, 4632,   1683.6,     1668,   2.7080,  34.6110,2,    107.3,2,  34.6117,2,   107.24,2,   127.11,2,    38.53,2,     0.00,2,    2.730,2, -999.000,9, -999.000,9,   2331.2,2,   2395.9,2,   7.5166,2,    25.00, -999.000,9,  -999.00,9,  -999.00,9,   2.5882,2,  27.6113,2,   2.7078,2
49UP20220727_1,    P9,    23,  1,     14,     326,2,20220812,1515,1628,  4.0092, 137.0143, 4632,   1893.1,     1874,   2.4103,  34.6254,2,    111.3,2,  34.6260,2,   111.59,2,   133.68,2,    38.46,2,     0.00,2,    2.720,2, -999.000,9, -999.000,9,   2333.6,2,   2402.9,2,   7.5222,2,    25.00, -999.000,9,  -999.00,9,  -999.00,9,   2.2768,2,  27.6491,2,   2.4108,2
49UP20220727_1,    P9,    23,  1,     13,     325,2,20220812,1515,1622,  4.0092, 137.0143, 4632,   2095.3,     2073,   2.1524,  34.6387,2,    115.9,2,  34.6396,6,   115.98,2,   139.82,2,    38.31,2,     0.00,2,    2.690,2, -999.000,9, -999.000,9,   2335.2,2,   2409.3,2,   7.5294,2,    25.00, -999.000,9,  -999.00,9,  -999.00,9,   2.0055,2,  27.6818,2,   2.1524,2
49UP20220727_1,    P9,    23,  1,     12,     324,2,20220812,1515,1617,  4.0092, 137.0143, 4632,   2295.5,     2270,   1.9805,  34.6480,2,    121.9,2,  34.6475,2,   122.10,2,   142.25,2,    37.96,2,     0.00,2,    2.660,2, -999.000,9, -999.000,9,   2335.2,6,   2412.6,6,   7.5424,2,    25.00, -999.000,9,  -999.00,9,  -999.00,9,   1.8189,2,  27.7038,2,   1.9804,2
49UP20220727_1,    P9,    23,  1,     11,     323,2,20220812,1515,1612,  4.0092, 137.0143, 4632,   2493.5,     2465,   1.8437,  34.6552,2,    128.1,2,  34.6557,2,   128.24,2,   143.69,2,    37.54,2,     0.00,2,    2.630,2, -999.000,9, -999.000,9,   2335.7,2,   2414.8,2,   7.5487,6,    25.00, -999.000,9,  -999.00,9,  -999.00,9,   1.6669,2,  27.7212,2,   1.8434,2
49UP20220727_1,    P9,    23,  1,     10,     322,2,20220812,1515,1606,  4.0092, 137.0143, 4632,   2697.2,     2665,   1.7139,  34.6620,2,    135.9,2,  34.6623,2,   135.92,2,   143.92,2,    37.06,2,     0.00,2,    2.590,2, -999.000,9, -999.000,9,   2334.3,2,   2413.7,2,   7.5599,2,    25.00, -999.000,9,  -999.00,9,  -999.00,9,   1.5210,2,  27.7374,2,   1.7138,2
49UP20220727_1,    P9,    23,  1,      9,     750,2,20220812,1515,1602,  4.0092, 137.0143, 4632,   2905.8,     2870,   1.6235,  34.6681,2,    141.2,2,  34.6690,2,   141.28,2,   144.37,2,    36.71,2,     0.00,2,    2.560,2, -999.000,9, -999.000,9,   2330.3,2,   2414.1,2,   7.5695,2,    25.00, -999.000,9,  -999.00,9,  -999.00,9,   1.4130,2,  27.7501,2,   1.6235,2
49UP20220727_1,    P9,    23,  1,      8,     320,2,20220812,1515,1554,  4.0092, 137.0143, 4632,   3119.8,     3080,   1.5776,  34.6720,2,    144.8,2,  34.6725,6,   144.96,2,   144.24,2,    36.44,2,     0.00,2,    2.540,2, -999.000,9, -999.000,9,   2326.6,2,   2414.9,2,   7.5729,2,    25.00, -999.000,9,  -999.00,9,  -999.00,9,   1.3475,2,  27.7579,2,   1.5776,2
49UP20220727_1,    P9,    23,  1,      7,     319,2,20220812,1515,1549,  4.0092, 137.0143, 4632,   3368.1,     3323,   1.5615,  34.6746,2,    147.2,2,  34.6753,2,   147.27,2,   144.01,2,    36.27,2,     0.00,2,    2.530,2, -999.000,9, -999.000,9,   2328.3,2,   2416.1,2,   7.5785,2,    25.00, -999.000,9,  -999.00,9,  -999.00,9,   1.3072,2,  27.7628,2,   1.5612,2
49UP20220727_1,    P9,    23,  1,      6,     318,2,20220812,1515,1543,  4.0092, 137.0143, 4632,   3624.9,     3574,   1.5492,  34.6774,2,    149.6,2,  34.6788,4,   149.64,2,   143.45,2,    36.06,2,     0.00,2,    2.510,2, -999.000,9, -999.000,9,   2325.1,2,   2416.2,2,   7.5820,2,    25.00, -999.000,9,  -999.00,9,  -999.00,9,   1.2690,2,  27.7678,2,   1.5491,2
49UP20220727_1,    P9,    23,  1,      5,     838,3,20220812,1515,1538,  4.0092, 137.0143, 4632,   3885.6,     3829,   1.5194,  34.6823,2,    152.7,2,  34.6838,4,   152.92,2,   143.39,2,    35.85,2,     0.00,2,    2.490,2, -999.000,9, -999.000,9,   2323.6,3,   2418.4,2,   7.5902,6,    25.00, -999.000,9,  -999.00,9,  -999.00,9,   1.2123,2,  27.7757,2,   1.5194,2
49UP20220727_1,    P9,    23,  1,      4,     316,2,20220812,1515,1532,  4.0092, 137.0143, 4632,   4143.0,     4080,   1.5243,  34.6843,2,    154.5,2,  34.6850,2,   154.60,2,   143.44,2,    35.80,2,     0.00,2,    2.490,2, -999.000,9, -999.000,9,   2323.3,6,   2418.9,6,   7.5912,2,    25.00, -999.000,9,  -999.00,9,  -999.00,9,   1.1890,2,  27.7789,2,   1.5243,2
49UP20220727_1,    P9,    23,  1,      2,     314,2,20220812,1515,1523,  4.0092, 137.0143, 4632,   4398.8,     4330,   1.5199,  34.6863,2,    158.2,2,  34.6861,2,   158.24,2,   141.84,2,    35.56,2,     0.00,2,    2.460,2, -999.000,9, -999.000,9,   2318.2,2,   2414.7,2,   7.5948,2,    25.00, -999.000,9,  -999.00,9,  -999.00,9,   1.1559,2,  27.7827,2,   1.5198,2
49UP20220727_1,    P9,    23,  1,      3,     315,2,20220812,1515,1523,  4.0092, 137.0143, 4632,   4399.2,     4330,   1.5198,  34.6863,2,    158.2,2,  34.6866,2,   158.13,2,   142.04,2,    35.55,2,     0.00,2,    2.470,2, -999.000,9, -999.000,9,   2321.4,2,   2414.8,2,   7.5944,2,    25.00, -999.000,9,  -999.00,9,  -999.00,9,   1.1558,2,  27.7828,2,   1.5197,2
49UP20220727_1,    P9,    23,  1,      1,     308,2,20220812,1515,1516,  4.0092, 137.0143, 4632,   4691.7,     4615,   1.5412,  34.6870,2,    159.8,2,  34.6874,6,   159.77,6,   141.28,6,    35.47,6,     0.00,6,    2.460,6, -999.000,9, -999.000,9,   2314.9,2,   2412.9,2,   7.5952,2,    25.00, -999.000,9,  -999.00,9,  -999.00,9,   1.1426,2,  27.7843,2,   1.5411,2