BOTTLE,20230330JMAAMD
EXPOCODE,SECT_ID,STNNBR,CASTNO,SAMPNO,BTLNBR,BTLNBR_FLAG_U,DATE,TIME,BTL_TIME,LATITUDE,LONGITUDE,DEPTH,CTDPRS,CTDDEP,CTDTMP,CTDSAL,CTDSAL_FLAG_W,CTDOXY,CTDOXY_FLAG_W,SALNTY,SALNTY_FLAG_W,OXYGEN,OXYGEN_FLAG_W,SILCAT,SILCAT_FLAG_W,NO2+NO3,NO2+NO3_FLAG_W,NITRIT,NITRIT_FLAG_W,PHSPHT,PHSPHT_FLAG_W,CFC-11,CFC-11_FLAG_W,CFC-12,CFC-12_FLAG_W,TCARBN,TCARBN_FLAG_W,ALKALI,ALKALI_FLAG_W,PH_TS,PH_TS_FLAG_W,PH_TS_TMP,CFC113,CFC113_FLAG_W,CHLORA,CHLORA_FLAG_W,PPHYTN,PPHYTN_FLAG_W,THETA,THETA_FLAG_W,SIGTHT,SIGTHT_FLAG_W,SBE35,SBE35_FLAG_W
,,,,,,,,UTC,,,,METER,DBAR,METERS,ITS-90,PSS-78,,UMOL/KG,,PSS78,,UMOL/KG,,UMOL/KG,,UMOL/KG,,UMOL/KG,,UMOL/KG,,PMOL/KG,,PMOL/KG,,UMOL/KG,,UMOL/KG,,,,ITS-90,PMOL/KG,,UG/KG,,UG/KG,,ITS-90,,KG/M3,,ITS-90,
49UP20220727_1,    P9,    16,  1,      0,      -9,0,20220810,0828,1015,  2.4868, 139.5083, 4342,      0.0,        0,  30.4887,  34.6616,2,    193.3,2,-999.0000,9,   193.41,2,     1.25,2,     0.00,2,     0.00,2,    0.180,2, -999.000,9, -999.000,9,   -999.0,9,   -999.0,9,-999.0000,9,  -999.00, -999.000,9,  -999.00,9,  -999.00,9,  30.4881,2,  21.3051,2,-999.0000,9
49UP20220727_1,    P9,    16,  1,     36,     757,2,20220810,0828,1028,  2.4868, 139.5083, 4342,     10.7,       11,  30.1631,  34.6510,2,    194.2,2,  34.6524,2,   194.42,2,     1.25,2,     0.00,2,     0.00,2,    0.150,2, -999.000,9, -999.000,9,   -999.0,9,   -999.0,9,-999.0000,9,  -999.00, -999.000,9,  -999.00,9,  -999.00,9,  30.1604,2,  21.4097,2,  30.1639,2
49UP20220727_1,    P9,    16,  1,     35,     756,2,20220810,0828,1027,  2.4868, 139.5083, 4342,     26.2,       26,  30.1122,  34.6659,2,    194.6,2,  34.6782,2,   194.92,2,     1.29,2,     0.00,2,     0.00,2,    0.150,2, -999.000,9, -999.000,9,   -999.0,9,   -999.0,9,-999.0000,9,  -999.00, -999.000,9,  -999.00,9,  -999.00,9,  30.1057,2,  21.4396,2,  30.1131,2
49UP20220727_1,    P9,    16,  1,     34,     323,2,20220810,0828,1022,  2.4868, 139.5083, 4342,     54.7,       54,  30.1346,  35.0568,2,    196.7,2,  35.0388,2,   195.51,2,     1.21,2,     0.00,2,     0.00,2,    0.180,2, -999.000,9, -999.000,9,   -999.0,9,   -999.0,9,-999.0000,9,  -999.00, -999.000,9,  -999.00,9,  -999.00,9,  30.1210,2,  21.7274,2,  30.1345,2
49UP20220727_1,    P9,    16,  1,     33,     322,2,20220810,0828,1021,  2.4868, 139.5083, 4342,     80.2,       80,  29.5388,  35.1587,2,    180.7,2,  35.1580,2,   182.56,2,     1.49,2,     0.96,2,     0.34,2,    0.280,2, -999.000,9, -999.000,9,   -999.0,9,   -999.0,9,-999.0000,9,  -999.00, -999.000,9,  -999.00,9,  -999.00,9,  29.5192,2,  22.0086,2,  29.5413,2
49UP20220727_1,    P9,    16,  1,     32,     321,2,20220810,0828,1020,  2.4868, 139.5083, 4342,    101.7,      101,  29.2642,  35.3142,2,    175.0,2,  35.3003,2,   173.67,2,     1.78,2,     3.11,2,     0.19,2,    0.410,2, -999.000,9, -999.000,9,   -999.0,9,   -999.0,9,-999.0000,9,  -999.00, -999.000,9,  -999.00,9,  -999.00,9,  29.2394,2,  22.2197,2,  29.2624,2
49UP20220727_1,    P9,    16,  1,     31,     320,2,20220810,0828,1019,  2.4868, 139.5083, 4342,    127.5,      127,  28.4278,  35.2168,2,    158.2,2,  35.2204,2,   157.44,2,     2.28,2,     5.10,2,     0.03,2,    0.520,2, -999.000,9, -999.000,9,   -999.0,9,   -999.0,9,-999.0000,9,  -999.00, -999.000,9,  -999.00,9,  -999.00,9,  28.3974,2,  22.4271,2,  28.4346,2
49UP20220727_1,    P9,    16,  1,     30,     319,2,20220810,0828,1017,  2.4868, 139.5083, 4342,    152.1,      151,  26.9307,  35.2116,2,    142.9,2,  35.2242,2,   142.25,6,     3.17,6,     7.25,6,     0.02,6,    0.630,6, -999.000,9, -999.000,9,   -999.0,9,   -999.0,9,-999.0000,9,  -999.00, -999.000,9,  -999.00,9,  -999.00,9,  26.8959,2,  22.9104,2,  26.9311,2
49UP20220727_1,    P9,    16,  1,     29,     318,2,20220810,0828,1016,  2.4868, 139.5083, 4342,    202.8,      202,  19.9691,  34.7557,2,    148.3,2,  34.7503,2,   147.60,2,     8.05,2,     8.83,2,     0.01,2,    0.720,2, -999.000,9, -999.000,9,   -999.0,9,   -999.0,9,-999.0000,9,  -999.00, -999.000,9,  -999.00,9,  -999.00,9,  19.9317,2,  24.5933,2,  19.9668,2
49UP20220727_1,    P9,    16,  1,     28,     755,2,20220810,0828,1014,  2.4868, 139.5083, 4342,    252.3,      251,  11.4493,  34.4575,2,    117.8,2,  34.4592,2,   117.61,2,    27.64,2,    22.91,2,     0.00,2,    1.670,2, -999.000,9, -999.000,9,   -999.0,9,   -999.0,9,-999.0000,9,  -999.00, -999.000,9,  -999.00,9,  -999.00,9,  11.4175,2,  26.2768,2,  11.4515,2
49UP20220727_1,    P9,    16,  1,     27,     317,2,20220810,0828,1012,  2.4868, 139.5083, 4342,    302.6,      301,   9.2513,  34.5047,2,     96.6,2,  34.5059,2,    96.35,2,    37.28,2,    29.18,2,     0.00,2,    2.090,2, -999.000,9, -999.000,9,   -999.0,9,   -999.0,9,-999.0000,9,  -999.00, -999.000,9,  -999.00,9,  -999.00,9,   9.2178,2,  26.6952,2,   9.2514,2
49UP20220727_1,    P9,    16,  1,     26,     316,2,20220810,0828,1010,  2.4868, 139.5083, 4342,    353.3,      351,   8.9088,  34.6005,2,    112.8,2,  34.5967,2,   109.90,2,    33.52,2,    29.17,2,     0.00,2,    2.070,2, -999.000,9, -999.000,9,   -999.0,9,   -999.0,9,-999.0000,9,  -999.00, -999.000,9,  -999.00,9,  -999.00,9,   8.8705,2,  26.8259,2,   8.9088,2
49UP20220727_1,    P9,    16,  1,     25,     315,2,20220810,0828,1009,  2.4868, 139.5083, 4342,    406.6,      404,   8.4060,  34.5649,2,     93.4,2,  34.5649,2,    93.41,2,    38.18,2,    31.59,2,     0.00,2,    2.230,2, -999.000,9, -999.000,9,   -999.0,9,   -999.0,9,-999.0000,9,  -999.00, -999.000,9,  -999.00,9,  -999.00,9,   8.3633,2,  26.8772,2,   8.4059,2
49UP20220727_1,    P9,    16,  1,     24,     753,2,20220810,0828,1007,  2.4868, 139.5083, 4342,    455.6,      453,   8.0321,  34.5568,2,     97.4,2,  34.5567,2,    97.67,6,    39.52,6,    31.99,6,     0.00,6,    2.260,6, -999.000,9, -999.000,9,   -999.0,9,   -999.0,9,-999.0000,9,  -999.00, -999.000,9,  -999.00,9,  -999.00,9,   7.9854,2,  26.9279,2,   8.0321,2
49UP20220727_1,    P9,    16,  1,     23,     314,2,20220810,0828,1005,  2.4868, 139.5083, 4342,    504.9,      502,   7.4112,  34.5465,2,    126.0,2,  34.5472,2,   125.86,2,    36.99,2,    30.78,2,     0.00,2,    2.160,2, -999.000,9, -999.000,9,   -999.0,9,   -999.0,9,-999.0000,9,  -999.00, -999.000,9,  -999.00,9,  -999.00,9,   7.3616,2,  27.0108,2,   7.4114,2
49UP20220727_1,    P9,    16,  1,     22,     313,2,20220810,0828,1002,  2.4868, 139.5083, 4342,    604.7,      600,   6.8191,  34.5307,2,    126.1,2,  34.5308,2,   125.92,2,    40.97,2,    32.03,2,     0.00,2,    2.250,2, -999.000,9, -999.000,9,   -999.0,9,   -999.0,9,-999.0000,9,  -999.00, -999.000,9,  -999.00,9,  -999.00,9,   6.7621,2,  27.0817,2,   6.8192,2
49UP20220727_1,    P9,    16,  1,     21,     312,2,20220810,0828,0959,  2.4868, 139.5083, 4342,    706.2,      701,   6.3198,  34.5297,2,     95.2,2,  34.5300,2,    95.19,2,    55.91,2,    35.48,2,     0.00,2,    2.520,2, -999.000,9, -999.000,9,   -999.0,9,   -999.0,9,-999.0000,9,  -999.00, -999.000,9,  -999.00,9,  -999.00,9,   6.2553,2,  27.1482,2,   6.3198,2
49UP20220727_1,    P9,    16,  1,     20,     311,2,20220810,0828,0956,  2.4868, 139.5083, 4342,    807.1,      801,   5.7418,  34.5315,2,     95.1,2,  34.5321,2,    94.58,2,    64.05,2,    36.56,2,     0.00,2,    2.600,2, -999.000,9, -999.000,9,   -999.0,9,   -999.0,9,-999.0000,9,  -999.00, -999.000,9,  -999.00,9,  -999.00,9,   5.6711,2,  27.2236,2,   5.7420,2
49UP20220727_1,    P9,    16,  1,     19,     310,2,20220810,0828,0954,  2.4868, 139.5083, 4342,    908.2,      901,   5.0899,  34.5404,2,     91.9,2,  34.5407,2,    91.95,2,    75.59,2,    37.70,2,     0.00,2,    2.680,2, -999.000,9, -999.000,9,   -999.0,9,   -999.0,9,-999.0000,9,  -999.00, -999.000,9,  -999.00,9,  -999.00,9,   5.0141,2,  27.3092,2,   5.0899,2
49UP20220727_1,    P9,    16,  1,     18,     752,2,20220810,0828,0951,  2.4868, 139.5083, 4342,   1008.8,     1001,   4.5712,  34.5514,2,     92.7,2,  34.5511,2,    92.64,2,    87.04,2,    38.15,2,     0.00,2,    2.720,2, -999.000,9, -999.000,9,   -999.0,9,   -999.0,9,-999.0000,9,  -999.00, -999.000,9,  -999.00,9,  -999.00,9,   4.4904,2,  27.3770,2,   4.5711,2
49UP20220727_1,    P9,    16,  1,     17,     751,2,20220810,0828,0946,  2.4868, 139.5083, 4342,   1211.1,     1201,   3.9459,  34.5679,2,     95.4,2,  34.5676,2,    95.14,2,   100.35,2,    38.56,2,     0.00,2,    2.750,2, -999.000,9, -999.000,9,   -999.0,9,   -999.0,9,-999.0000,9,  -999.00, -999.000,9,  -999.00,9,  -999.00,9,   3.8527,2,  27.4576,2,   3.9460,2
49UP20220727_1,    P9,    16,  1,     16,     328,2,20220810,0828,0942,  2.4868, 139.5083, 4342,   1413.5,     1401,   3.3146,  34.5876,2,    100.7,2,  34.5877,2,   100.57,2,   113.17,2,    38.70,2,     0.00,2,    2.750,2, -999.000,9, -999.000,9,   -999.0,9,   -999.0,9,-999.0000,9,  -999.00, -999.000,9,  -999.00,9,  -999.00,9,   3.2105,2,  27.5363,2,   3.3150,2
49UP20220727_1,    P9,    16,  1,     15,     309,2,20220810,0828,0937,  2.4868, 139.5083, 4342,   1617.1,     1602,   2.8606,  34.6051,2,    107.2,2,  34.6051,2,   107.06,2,   122.19,2,    38.53,2,     0.00,2,    2.730,2, -999.000,9, -999.000,9,   -999.0,9,   -999.0,9,-999.0000,9,  -999.00, -999.000,9,  -999.00,9,  -999.00,9,   2.7445,2,  27.5929,2,   2.8616,2
49UP20220727_1,    P9,    16,  1,     14,     326,2,20220810,0828,0932,  2.4868, 139.5083, 4342,   1818.7,     1801,   2.5003,  34.6208,2,    110.8,2,  34.6204,2,   110.54,2,   131.14,2,    38.54,2,     0.00,2,    2.720,2, -999.000,9, -999.000,9,   -999.0,9,   -999.0,9,-999.0000,9,  -999.00, -999.000,9,  -999.00,9,  -999.00,9,   2.3719,2,  27.6376,2,   2.5003,2
49UP20220727_1,    P9,    16,  1,     13,     325,2,20220810,0828,0928,  2.4868, 139.5083, 4342,   2022.0,     2001,   2.2208,  34.6349,2,    115.4,2,  34.6345,2,   115.21,2,   137.56,2,    38.38,2,     0.00,2,    2.700,2, -999.000,9, -999.000,9,   -999.0,9,   -999.0,9,-999.0000,9,  -999.00, -999.000,9,  -999.00,9,  -999.00,9,   2.0791,2,  27.6729,2,   2.2208,2
49UP20220727_1,    P9,    16,  1,     12,     324,2,20220810,0828,0922,  2.4868, 139.5083, 4342,   2225.1,     2201,   2.0096,  34.6463,2,    121.4,2,  34.6463,2,   121.55,2,   141.50,2,    37.97,2,     0.00,2,    2.660,2, -999.000,9, -999.000,9,   -999.0,9,   -999.0,9,-999.0000,9,  -999.00, -999.000,9,  -999.00,9,  -999.00,9,   1.8537,2,  27.6997,2,   2.0096,2
49UP20220727_1,    P9,    16,  1,     11,     323,2,20220810,0828,0917,  2.4868, 139.5083, 4342,   2427.0,     2400,   1.8434,  34.6556,2,    127.6,2,  34.6549,2,   127.98,6,   143.67,6,    37.67,6,     0.00,6,    2.630,6, -999.000,9, -999.000,9,   -999.0,9,   -999.0,9,-999.0000,9,  -999.00, -999.000,9,  -999.00,9,  -999.00,9,   1.6726,2,  27.7210,2,   1.8439,2
49UP20220727_1,    P9,    16,  1,     10,     322,2,20220810,0828,0913,  2.4868, 139.5083, 4342,   2631.3,     2601,   1.7117,  34.6623,2,    135.5,2,  34.6627,2,   135.71,2,   143.62,2,    37.17,2,     0.00,2,    2.590,2, -999.000,9, -999.000,9,   -999.0,9,   -999.0,9,-999.0000,9,  -999.00, -999.000,9,  -999.00,9,  -999.00,9,   1.5249,2,  27.7374,2,   1.7116,2
49UP20220727_1,    P9,    16,  1,      9,     750,2,20220810,0828,0907,  2.4868, 139.5083, 4342,   2835.6,     2801,   1.6415,  34.6668,2,    140.2,2,  34.6666,2,   140.08,2,   143.75,2,    36.78,2,     0.00,2,    2.560,2, -999.000,9, -999.000,9,   -999.0,9,   -999.0,9,-999.0000,9,  -999.00, -999.000,9,  -999.00,9,  -999.00,9,   1.4372,2,  27.7473,2,   1.6415,2
49UP20220727_1,    P9,    16,  1,      8,     320,2,20220810,0828,0902,  2.4868, 139.5083, 4342,   3039.1,     3001,   1.5937,  34.6709,2,    143.3,2,  34.6705,2,   143.39,2,   144.11,2,    36.57,2,     0.00,2,    2.550,2, -999.000,9, -999.000,9,   -999.0,9,   -999.0,9,-999.0000,9,  -999.00, -999.000,9,  -999.00,9,  -999.00,9,   1.3711,2,  27.7553,2,   1.5938,2
49UP20220727_1,    P9,    16,  1,      7,     319,2,20220810,0828,0855,  2.4868, 139.5083, 4342,   3294.6,     3251,   1.5677,  34.6742,2,    145.8,2,  34.6742,6,   145.88,2,   144.61,2,    36.50,2,     0.00,2,    2.540,2, -999.000,9, -999.000,9,   -999.0,9,   -999.0,9,-999.0000,9,  -999.00, -999.000,9,  -999.00,9,  -999.00,9,   1.3207,2,  27.7616,2,   1.5678,2
49UP20220727_1,    P9,    16,  1,      5,     838,2,20220810,0828,0849,  2.4868, 139.5083, 4342,   3549.1,     3500,   1.5585,  34.6767,2,    147.9,2,  34.6762,2,   147.48,2,   144.25,2,    36.32,2,     0.00,2,    2.520,2, -999.000,9, -999.000,9,   -999.0,9,   -999.0,9,-999.0000,9,  -999.00, -999.000,9,  -999.00,9,  -999.00,9,   1.2859,2,  27.7660,2,   1.5585,2
49UP20220727_1,    P9,    16,  1,      6,     318,2,20220810,0828,0849,  2.4868, 139.5083, 4342,   3549.3,     3500,   1.5586,  34.6766,2,    147.9,2,  34.6756,2,   147.65,2,   144.41,2,    36.35,2,     0.00,2,    2.520,2, -999.000,9, -999.000,9,   -999.0,9,   -999.0,9,-999.0000,9,  -999.00, -999.000,9,  -999.00,9,  -999.00,9,   1.2859,2,  27.7660,2,   1.5586,2
49UP20220727_1,    P9,    16,  1,      4,     316,2,20220810,0828,0843,  2.4868, 139.5083, 4342,   3806.0,     3751,   1.5474,  34.6798,2,    150.0,2,  34.6798,2,   149.70,2,   144.02,2,    36.19,2,     0.00,2,    2.510,2, -999.000,9, -999.000,9,   -999.0,9,   -999.0,9,-999.0000,9,  -999.00, -999.000,9,  -999.00,9,  -999.00,9,   1.2481,2,  27.7711,2,   1.5474,2
49UP20220727_1,    P9,    16,  1,      3,     315,2,20220810,0828,0837,  2.4868, 139.5083, 4342,   4060.3,     4000,   1.5332,  34.6833,2,    152.8,2,  34.6831,6,   152.89,6,   144.08,6,    36.01,6,     0.00,6,    2.500,6, -999.000,9, -999.000,9,   -999.0,9,   -999.0,9,-999.0000,9,  -999.00, -999.000,9,  -999.00,9,  -999.00,9,   1.2068,2,  27.7769,2,   1.5333,2
49UP20220727_1,    P9,    16,  1,      2,     314,2,20220810,0828,0831,  2.4868, 139.5083, 4342,   4316.9,     4250,   1.5324,  34.6858,2,    155.3,2,  34.6853,2,   155.54,2,   143.49,2,    35.82,2,     0.00,2,    2.490,2, -999.000,9, -999.000,9,   -999.0,9,   -999.0,9,-999.0000,9,  -999.00, -999.000,9,  -999.00,9,  -999.00,9,   1.1774,2,  27.7809,2,   1.5326,2
49UP20220727_1,    P9,    16,  1,      1,     308,2,20220810,0828,0829,  2.4868, 139.5083, 4342,   4395.7,     4327,   1.5405,  34.6858,2,    155.6,2,  34.6848,2,   155.60,2,   143.62,2,    35.84,2,     0.00,2,    2.480,2, -999.000,9, -999.000,9,   -999.0,9,   -999.0,9,-999.0000,9,  -999.00, -999.000,9,  -999.00,9,  -999.00,9,   1.1763,2,  27.7809,2,   1.5404,2