BOTTLE,20230330JMAAMD
EXPOCODE,SECT_ID,STNNBR,CASTNO,SAMPNO,BTLNBR,BTLNBR_FLAG_U,DATE,TIME,BTL_TIME,LATITUDE,LONGITUDE,DEPTH,CTDPRS,CTDDEP,CTDTMP,CTDSAL,CTDSAL_FLAG_W,CTDOXY,CTDOXY_FLAG_W,SALNTY,SALNTY_FLAG_W,OXYGEN,OXYGEN_FLAG_W,SILCAT,SILCAT_FLAG_W,NO2+NO3,NO2+NO3_FLAG_W,NITRIT,NITRIT_FLAG_W,PHSPHT,PHSPHT_FLAG_W,CFC-11,CFC-11_FLAG_W,CFC-12,CFC-12_FLAG_W,TCARBN,TCARBN_FLAG_W,ALKALI,ALKALI_FLAG_W,PH_TS,PH_TS_FLAG_W,PH_TS_TMP,CFC113,CFC113_FLAG_W,CHLORA,CHLORA_FLAG_W,PPHYTN,PPHYTN_FLAG_W,THETA,THETA_FLAG_W,SIGTHT,SIGTHT_FLAG_W,SBE35,SBE35_FLAG_W
,,,,,,,,UTC,,,,METER,DBAR,METERS,ITS-90,PSS-78,,UMOL/KG,,PSS78,,UMOL/KG,,UMOL/KG,,UMOL/KG,,UMOL/KG,,UMOL/KG,,PMOL/KG,,PMOL/KG,,UMOL/KG,,UMOL/KG,,,,ITS-90,PMOL/KG,,UG/KG,,UG/KG,,ITS-90,,KG/M3,,ITS-90,
49UP20220929_1,    P9,    63,  1,      0,      -9,0,20221003,0833,1002, 21.4880, 136.9872, 4511,      0.0,        0,  29.5383,  34.1852,2,    195.2,2,-999.0000,9,   195.59,2,     1.08,2,     0.03,2,     0.00,2,    0.020,2, -999.000,9, -999.000,9,   -999.0,9,   -999.0,9,-999.0000,9,  -999.00, -999.000,9,  -999.00,9,  -999.00,9,  29.5377,2,  21.2721,2,-999.0000,9
49UP20220929_1,    P9,    63,  1,     36,     757,2,20221003,0833,1033, 21.4880, 136.9872, 4511,     10.1,       10,  29.5436,  34.1847,2,    195.0,2,  34.1883,2,   195.50,2,     1.16,2,     0.01,2,     0.00,2,    0.010,2, -999.000,9, -999.000,9,   -999.0,9,   -999.0,9,-999.0000,9,  -999.00, -999.000,9,  -999.00,9,  -999.00,9,  29.5411,2,  21.2706,2,  29.5432,2
49UP20220929_1,    P9,    63,  1,     35,     756,2,20221003,0833,1032, 21.4880, 136.9872, 4511,     25.8,       26,  29.4399,  34.1825,2,    195.3,2,  34.1854,2,   196.09,2,     1.10,2,     0.01,2,     0.00,2,    0.010,2, -999.000,9, -999.000,9,   -999.0,9,   -999.0,9,-999.0000,9,  -999.00, -999.000,9,  -999.00,9,  -999.00,9,  29.4336,2,  21.3052,2,  29.4384,2
49UP20220929_1,    P9,    63,  1,     34,     323,2,20221003,0833,1028, 21.4880, 136.9872, 4511,     49.9,       50,  26.1517,  34.5999,2,    223.8,2,  34.6012,2,   223.16,2,     1.36,2,     0.02,2,     0.00,2,    0.010,2, -999.000,9, -999.000,9,   -999.0,9,   -999.0,9,-999.0000,9,  -999.00, -999.000,9,  -999.00,9,  -999.00,9,  26.1406,2,  22.6877,2,  26.1529,2
49UP20220929_1,    P9,    63,  1,     33,     322,2,20221003,0833,1026, 21.4880, 136.9872, 4511,     76.8,       76,  23.4930,  34.7314,2,    215.9,2,  34.7304,6,   216.02,2,     1.48,2,     0.01,2,     0.00,2,    0.020,2, -999.000,9, -999.000,9,   -999.0,9,   -999.0,9,-999.0000,9,  -999.00, -999.000,9,  -999.00,9,  -999.00,9,  23.4772,2,  23.5916,2,  23.4936,2
49UP20220929_1,    P9,    63,  1,     31,     320,2,20221003,0833,1025, 21.4880, 136.9872, 4511,    101.9,      101,  22.0797,  34.7656,2,    209.9,2,  34.7663,2,   210.01,2,     1.71,2,     0.01,2,     0.00,2,    0.030,2, -999.000,9, -999.000,9,   -999.0,9,   -999.0,9,-999.0000,9,  -999.00, -999.000,9,  -999.00,9,  -999.00,9,  22.0595,2,  24.0230,2,  22.0808,2
49UP20220929_1,    P9,    63,  1,     32,     321,2,20221003,0833,1025, 21.4880, 136.9872, 4511,    102.1,      101,  22.0722,  34.7660,2,    210.0,2,  34.7659,2,   210.22,2,     1.73,2,     0.02,2,     0.00,2,    0.030,2, -999.000,9, -999.000,9,   -999.0,9,   -999.0,9,-999.0000,9,  -999.00, -999.000,9,  -999.00,9,  -999.00,9,  22.0520,2,  24.0255,2,  22.0745,2
49UP20220929_1,    P9,    63,  1,     30,     319,2,20221003,0833,1023, 21.4880, 136.9872, 4511,    128.0,      127,  20.8022,  34.8325,2,    190.0,2,  34.8329,2,   190.30,2,     2.26,2,     2.15,2,     0.02,2,    0.160,2, -999.000,9, -999.000,9,   -999.0,9,   -999.0,9,-999.0000,9,  -999.00, -999.000,9,  -999.00,9,  -999.00,9,  20.7779,2,  24.4266,2,  20.8020,2
49UP20220929_1,    P9,    63,  1,     29,     318,2,20221003,0833,1022, 21.4880, 136.9872, 4511,    152.6,      152,  19.9950,  34.8244,2,    190.8,2,  34.8231,2,   190.87,2,     2.59,2,     2.79,2,     0.01,2,    0.200,2, -999.000,9, -999.000,9,   -999.0,9,   -999.0,9,-999.0000,9,  -999.00, -999.000,9,  -999.00,9,  -999.00,9,  19.9669,2,  24.6365,2,  19.9822,2
49UP20220929_1,    P9,    63,  1,     28,     755,2,20221003,0833,1019, 21.4880, 136.9872, 4511,    202.2,      201,  18.2481,  34.7821,2,    192.5,2,  34.7820,2,   192.60,2,     3.80,2,     4.52,2,     0.01,2,    0.310,2, -999.000,9, -999.000,9,   -999.0,9,   -999.0,9,-999.0000,9,  -999.00, -999.000,9,  -999.00,9,  -999.00,9,  18.2131,2,  25.0525,2,  18.2468,2
49UP20220929_1,    P9,    63,  1,     27,     317,2,20221003,0833,1017, 21.4880, 136.9872, 4511,    252.5,      251,  17.2569,  34.7387,2,    194.7,2,  34.7385,2,   194.71,2,     4.98,2,     5.74,2,     0.00,2,    0.380,2, -999.000,9, -999.000,9,   -999.0,9,   -999.0,9,-999.0000,9,  -999.00, -999.000,9,  -999.00,9,  -999.00,9,  17.2148,2,  25.2625,2,  17.2537,2
49UP20220929_1,    P9,    63,  1,     26,     316,2,20221003,0833,1015, 21.4880, 136.9872, 4511,    335.1,      333,  15.2044,  34.5873,2,    186.0,2,  34.5879,2,   186.08,2,     9.74,2,     9.64,2,     0.00,2,    0.650,2, -999.000,9, -999.000,9,   -999.0,9,   -999.0,9,-999.0000,9,  -999.00, -999.000,9,  -999.00,9,  -999.00,9,  15.1532,2,  25.6201,2,  15.2051,2
49UP20220929_1,    P9,    63,  1,     25,     315,2,20221003,0833,1011, 21.4880, 136.9872, 4511,    435.6,      432,  11.1294,  34.2880,2,    172.0,2,  34.2920,2,   172.63,2,    24.30,2,    17.48,2,     0.00,2,    1.220,2, -999.000,9, -999.000,9,   -999.0,9,   -999.0,9,-999.0000,9,  -999.00, -999.000,9,  -999.00,9,  -999.00,9,  11.0751,2,  26.2075,2,  11.1255,2
49UP20220929_1,    P9,    63,  1,     24,     753,2,20221003,0833,1008, 21.4880, 136.9872, 4511,    536.7,      533,   8.1649,  34.1491,2,    133.5,2,  34.1477,2,   134.23,6,    45.30,6,    26.35,6,     0.00,6,    1.880,6, -999.000,9, -999.000,9,   -999.0,9,   -999.0,9,-999.0000,9,  -999.00, -999.000,9,  -999.00,9,  -999.00,9,   8.1094,2,  26.5892,2,   8.1672,2
49UP20220929_1,    P9,    63,  1,     23,     314,2,20221003,0833,1005, 21.4880, 136.9872, 4511,    635.2,      630,   6.5310,  34.1801,2,     88.3,2,  34.1803,2,    88.13,2,    64.84,2,    33.59,2,     0.00,2,    2.420,2, -999.000,9, -999.000,9,   -999.0,9,   -999.0,9,-999.0000,9,  -999.00, -999.000,9,  -999.00,9,  -999.00,9,   6.4726,2,  26.8439,2,   6.5308,2
49UP20220929_1,    P9,    63,  1,     22,     313,2,20221003,0833,1003, 21.4880, 136.9872, 4511,    735.1,      729,   5.1888,  34.2120,2,     70.9,2,  34.2116,6,    70.91,2,    87.54,2,    37.29,2,     0.00,2,    2.680,2, -999.000,9, -999.000,9,   -999.0,9,   -999.0,9,-999.0000,9,  -999.00, -999.000,9,  -999.00,9,  -999.00,9,   5.1282,2,  27.0357,2,   5.1887,2
49UP20220929_1,    P9,    63,  1,     21,     312,2,20221003,0833,1000, 21.4880, 136.9872, 4511,    836.2,      829,   4.3602,  34.3115,2,     59.1,2,  34.3109,2,    58.63,2,   105.21,2,    39.62,2,     0.00,2,    2.840,2, -999.000,9, -999.000,9,   -999.0,9,   -999.0,9,-999.0000,9,  -999.00, -999.000,9,  -999.00,9,  -999.00,9,   4.2959,2,  27.2074,2,   4.3602,2
49UP20220929_1,    P9,    63,  1,     20,     311,2,20221003,0833,0957, 21.4880, 136.9872, 4511,    938.6,      931,   3.9357,  34.3974,2,     60.0,2,  34.3965,2,    59.62,2,   113.88,2,    40.20,2,     0.00,2,    2.880,2, -999.000,9, -999.000,9,   -999.0,9,   -999.0,9,-999.0000,9,  -999.00, -999.000,9,  -999.00,9,  -999.00,9,   3.8657,2,  27.3205,2,   3.9360,2
49UP20220929_1,    P9,    63,  1,     19,     310,2,20221003,0833,0953, 21.4880, 136.9872, 4511,   1077.6,     1068,   3.5204,  34.4557,2,     66.1,2,  34.4549,2,    66.19,2,   122.47,2,    40.22,2,     0.00,2,    2.870,2, -999.000,9, -999.000,9,   -999.0,9,   -999.0,9,-999.0000,9,  -999.00, -999.000,9,  -999.00,9,  -999.00,9,   3.4424,2,  27.4090,2,   3.5206,2
49UP20220929_1,    P9,    63,  1,     18,     752,2,20221003,0833,0949, 21.4880, 136.9872, 4511,   1281.3,     1269,   3.0072,  34.5239,2,     81.7,2,  34.5234,2,    81.68,6,   131.57,6,    39.62,6,     0.00,6,    2.810,6, -999.000,9, -999.000,9,   -999.0,9,   -999.0,9,-999.0000,9,  -999.00, -999.000,9,  -999.00,9,  -999.00,9,   2.9173,2,  27.5126,2,   3.0072,2
49UP20220929_1,    P9,    63,  1,     17,     751,2,20221003,0833,0944, 21.4880, 136.9872, 4511,   1481.6,     1467,   2.6615,  34.5589,2,     93.7,2,  34.5593,2,    93.65,2,   136.91,2,    39.02,2,     0.00,2,    2.760,2, -999.000,9, -999.000,9,   -999.0,9,   -999.0,9,-999.0000,9,  -999.00, -999.000,9,  -999.00,9,  -999.00,9,   2.5591,2,  27.5722,2,   2.6609,2
49UP20220929_1,    P9,    63,  1,     16,     328,2,20221003,0833,0940, 21.4880, 136.9872, 4511,   1685.9,     1669,   2.3641,  34.5884,2,    103.7,2,  34.5883,2,   103.61,2,   139.90,2,    38.67,2,     0.00,2,    2.730,2, -999.000,9, -999.000,9,   -999.0,9,   -999.0,9,-999.0000,9,  -999.00, -999.000,9,  -999.00,9,  -999.00,9,   2.2487,2,  27.6219,2,   2.3641,2
49UP20220929_1,    P9,    63,  1,     15,     309,2,20221003,0833,0935, 21.4880, 136.9872, 4511,   1890.3,     1870,   2.0982,  34.6114,2,    112.7,2,  34.6118,2,   112.77,2,   142.35,2,    38.34,2,     0.00,2,    2.690,2, -999.000,9, -999.000,9,   -999.0,9,   -999.0,9,-999.0000,9,  -999.00, -999.000,9,  -999.00,9,  -999.00,9,   1.9695,2,  27.6628,2,   2.0980,2
49UP20220929_1,    P9,    63,  1,     13,     325,2,20221003,0833,0930, 21.4880, 136.9872, 4511,   2094.5,     2071,   1.9201,  34.6290,2,    120.7,2,  34.6289,2,   120.59,2,   143.57,2,    37.89,2,     0.00,2,    2.660,2, -999.000,9, -999.000,9,   -999.0,9,   -999.0,9,-999.0000,9,  -999.00, -999.000,9,  -999.00,9,  -999.00,9,   1.7770,2,  27.6918,2,   1.9202,2
49UP20220929_1,    P9,    63,  1,     14,     326,2,20221003,0833,0930, 21.4880, 136.9872, 4511,   2094.7,     2071,   1.9201,  34.6291,2,    120.7,2,  34.6288,2,   120.56,2,   143.61,2,    37.89,2,     0.00,2,    2.660,2, -999.000,9, -999.000,9,   -999.0,9,   -999.0,9,-999.0000,9,  -999.00, -999.000,9,  -999.00,9,  -999.00,9,   1.7769,2,  27.6919,2,   1.9202,2
49UP20220929_1,    P9,    63,  1,     12,     324,2,20221003,0833,0925, 21.4880, 136.9872, 4511,   2297.3,     2271,   1.8263,  34.6398,2,    125.8,2,  34.6396,2,   126.22,6,   144.24,6,    37.66,6,     0.00,6,    2.630,6, -999.000,9, -999.000,9,   -999.0,9,   -999.0,9,-999.0000,9,  -999.00, -999.000,9,  -999.00,9,  -999.00,9,   1.6672,2,  27.7088,2,   1.8263,2
49UP20220929_1,    P9,    63,  1,     11,     323,2,20221003,0833,0921, 21.4880, 136.9872, 4511,   2501.8,     2472,   1.7596,  34.6471,2,    130.2,2,  34.6468,2,   130.37,2,   144.55,2,    37.36,2,     0.00,2,    2.610,2, -999.000,9, -999.000,9,   -999.0,9,   -999.0,9,-999.0000,9,  -999.00, -999.000,9,  -999.00,9,  -999.00,9,   1.5836,2,  27.7208,2,   1.7597,2
49UP20220929_1,    P9,    63,  1,     10,     322,2,20221003,0833,0916, 21.4880, 136.9872, 4511,   2705.1,     2671,   1.7016,  34.6544,2,    134.4,2,  34.6543,2,   134.44,2,   144.77,2,    37.19,2,     0.00,2,    2.600,2, -999.000,9, -999.000,9,   -999.0,9,   -999.0,9,-999.0000,9,  -999.00, -999.000,9,  -999.00,9,  -999.00,9,   1.5083,2,  27.7322,2,   1.7017,2
49UP20220929_1,    P9,    63,  1,      9,     750,2,20221003,0833,0911, 21.4880, 136.9872, 4511,   2909.7,     2872,   1.6377,  34.6611,2,    139.5,2,  34.6615,2,   139.22,2,   144.40,2,    36.82,2,     0.00,2,    2.560,2, -999.000,9, -999.000,9,   -999.0,9,   -999.0,9,-999.0000,9,  -999.00, -999.000,9,  -999.00,9,  -999.00,9,   1.4266,2,  27.7435,2,   1.6373,2
49UP20220929_1,    P9,    63,  1,      8,     320,2,20221003,0833,0906, 21.4880, 136.9872, 4511,   3122.7,     3081,   1.5994,  34.6664,2,    143.4,2,  34.6664,6,   143.60,2,   143.94,2,    36.58,2,     0.00,2,    2.550,2, -999.000,9, -999.000,9,   -999.0,9,   -999.0,9,-999.0000,9,  -999.00, -999.000,9,  -999.00,9,  -999.00,9,   1.3686,2,  27.7519,2,   1.5996,2
49UP20220929_1,    P9,    63,  1,      7,     319,2,20221003,0833,0900, 21.4880, 136.9872, 4511,   3379.2,     3332,   1.5641,  34.6718,2,    147.6,2,  34.6715,2,   147.65,2,   143.44,2,    36.32,2,     0.00,2,    2.520,2, -999.000,9, -999.000,9,   -999.0,9,   -999.0,9,-999.0000,9,  -999.00, -999.000,9,  -999.00,9,  -999.00,9,   1.3087,2,  27.7605,2,   1.5647,2
49UP20220929_1,    P9,    63,  1,      6,     318,2,20221003,0833,0854, 21.4880, 136.9872, 4511,   3635.0,     3582,   1.5383,  34.6767,2,    151.4,2,  34.6765,2,   151.47,6,   142.87,6,    36.06,6,     0.00,6,    2.500,6, -999.000,9, -999.000,9,   -999.0,9,   -999.0,9,-999.0000,9,  -999.00, -999.000,9,  -999.00,9,  -999.00,9,   1.2572,2,  27.7680,2,   1.5383,2
49UP20220929_1,    P9,    63,  1,      5,     838,2,20221003,0833,0848, 21.4880, 136.9872, 4511,   3889.9,     3831,   1.5198,  34.6806,2,    155.0,2,  34.6792,4,   154.97,2,   141.99,2,    35.85,2,     0.00,2,    2.490,2, -999.000,9, -999.000,9,   -999.0,9,   -999.0,9,-999.0000,9,  -999.00, -999.000,9,  -999.00,9,  -999.00,9,   1.2122,2,  27.7743,2,   1.5197,2
49UP20220929_1,    P9,    63,  1,      4,     316,2,20221003,0833,0843, 21.4880, 136.9872, 4511,   4145.9,     4080,   1.5306,  34.6822,2,    156.4,2,  34.6817,2,   156.39,2,   141.69,2,    35.75,2,     0.00,2,    2.480,2, -999.000,9, -999.000,9,   -999.0,9,   -999.0,9,-999.0000,9,  -999.00, -999.000,9,  -999.00,9,  -999.00,9,   1.1948,2,  27.7768,2,   1.5307,2
49UP20220929_1,    P9,    63,  1,      3,     315,2,20221003,0833,0837, 21.4880, 136.9872, 4511,   4403.6,     4331,   1.5386,  34.6837,2,    158.1,2,  34.6834,2,   158.11,2,   141.35,2,    35.61,2,     0.00,2,    2.470,2, -999.000,9, -999.000,9,   -999.0,9,   -999.0,9,-999.0000,9,  -999.00, -999.000,9,  -999.00,9,  -999.00,9,   1.1735,2,  27.7795,2,   1.5386,2
49UP20220929_1,    P9,    63,  1,      2,     314,2,20221003,0833,0837, 21.4880, 136.9872, 4511,   4403.6,     4331,   1.5388,  34.6837,2,    158.2,2,  34.6836,2,   158.31,2,   141.40,2,    35.61,2,     0.00,2,    2.470,2, -999.000,9, -999.000,9,   -999.0,9,   -999.0,9,-999.0000,9,  -999.00, -999.000,9,  -999.00,9,  -999.00,9,   1.1737,2,  27.7794,2,   1.5387,2
49UP20220929_1,    P9,    63,  1,      1,     308,2,20221003,0833,0833, 21.4880, 136.9872, 4511,   4501.3,     4427,   1.5481,  34.6838,2,    158.3,2,  34.6834,6,   158.38,2,   141.26,2,    35.64,2,     0.00,2,    2.470,2, -999.000,9, -999.000,9,   -999.0,9,   -999.0,9,-999.0000,9,  -999.00, -999.000,9,  -999.00,9,  -999.00,9,   1.1715,2,  27.7796,2,   1.5481,2