BOTTLE,20230330JMAAMD
EXPOCODE,SECT_ID,STNNBR,CASTNO,SAMPNO,BTLNBR,BTLNBR_FLAG_U,DATE,TIME,BTL_TIME,LATITUDE,LONGITUDE,DEPTH,CTDPRS,CTDDEP,CTDTMP,CTDSAL,CTDSAL_FLAG_W,CTDOXY,CTDOXY_FLAG_W,SALNTY,SALNTY_FLAG_W,OXYGEN,OXYGEN_FLAG_W,SILCAT,SILCAT_FLAG_W,NO2+NO3,NO2+NO3_FLAG_W,NITRIT,NITRIT_FLAG_W,PHSPHT,PHSPHT_FLAG_W,CFC-11,CFC-11_FLAG_W,CFC-12,CFC-12_FLAG_W,TCARBN,TCARBN_FLAG_W,ALKALI,ALKALI_FLAG_W,PH_TS,PH_TS_FLAG_W,PH_TS_TMP,CFC113,CFC113_FLAG_W,CHLORA,CHLORA_FLAG_W,PPHYTN,PPHYTN_FLAG_W,THETA,THETA_FLAG_W,SIGTHT,SIGTHT_FLAG_W,SBE35,SBE35_FLAG_W
,,,,,,,,UTC,,,,METER,DBAR,METERS,ITS-90,PSS-78,,UMOL/KG,,PSS78,,UMOL/KG,,UMOL/KG,,UMOL/KG,,UMOL/KG,,UMOL/KG,,PMOL/KG,,PMOL/KG,,UMOL/KG,,UMOL/KG,,,,ITS-90,PMOL/KG,,UG/KG,,UG/KG,,ITS-90,,KG/M3,,ITS-90,
49UP20220929_1,    P9,    72,  1,      0,      -9,0,20221006,0409,0610, 25.9725, 137.0150, 5530,      0.0,        0,  28.6334,  34.1319,2,    198.0,2,  34.1457,2,   198.99,2,     1.65,2,     0.05,2,     0.00,2,    0.040,2, -999.000,9, -999.000,9,   1934.1,2,   2244.2,2,   8.0892,2,    25.00, -999.000,9,     0.09,2,     0.03,2,  28.6327,2,  21.5343,2,-999.0000,9
49UP20220929_1,    P9,    72,  1,     36,     757,2,20221006,0409,0637, 25.9725, 137.0150, 5530,     11.1,       11,  28.4071,  34.1366,2,    198.7,2,  34.1395,2,   199.46,2,     1.69,2,     0.05,2,     0.00,2,    0.010,2, -999.000,9, -999.000,9,   1934.0,2,   2243.7,2,   8.0871,2,    25.00, -999.000,9,     0.08,2,     0.04,2,  28.4045,2,  21.6131,2,  28.4059,2
49UP20220929_1,    P9,    72,  1,     35,     756,2,20221006,0409,0632, 25.9725, 137.0150, 5530,     52.7,       52,  25.3020,  34.5052,2,    200.1,2,  34.4827,2,   200.72,2,     2.22,2,     0.33,2,     0.03,2,    0.050,2, -999.000,9, -999.000,9,   1972.4,2,   2267.0,2,   8.0478,2,    25.00, -999.000,9,     0.51,2,     0.52,2,  25.2905,2,  22.8789,2,  25.3411,2
49UP20220929_1,    P9,    72,  1,     34,     323,2,20221006,0409,0631, 25.9725, 137.0150, 5530,     78.0,       77,  23.7584,  34.6188,2,    196.4,2,  34.6188,2,   196.62,2,     2.47,2,     1.34,2,     0.10,2,    0.110,2, -999.000,9, -999.000,9,   1994.4,2,   2274.6,2,   8.0229,2,    25.00, -999.000,9,     0.32,2,     0.53,2,  23.7422,2,  23.4288,2,  23.7711,2
49UP20220929_1,    P9,    72,  1,     33,     322,2,20221006,0409,0629, 25.9725, 137.0150, 5530,    100.0,       99,  22.3671,  34.7037,2,    204.9,2,  34.7055,2,   205.71,2,     1.96,2,     0.49,2,     0.21,2,    0.060,2, -999.000,9, -999.000,9,   2000.5,2,   2280.2,2,   8.0212,2,    25.00, -999.000,9,     0.12,2,     0.32,2,  22.3471,2,  23.8951,2,  22.3484,2
49UP20220929_1,    P9,    72,  1,     32,     321,2,20221006,0409,0628, 25.9725, 137.0150, 5530,    131.5,      131,  20.8551,  34.7529,2,    198.7,2,  34.7501,2,   198.51,2,     2.60,2,     1.89,2,     0.03,2,    0.140,2, -999.000,9, -999.000,9,   2017.9,2,   2282.6,2,   7.9905,2,    25.00, -999.000,9,     0.04,2,     0.15,2,  20.8301,2,  24.3519,2,  20.8530,2
49UP20220929_1,    P9,    72,  1,     31,     320,2,20221006,0409,0626, 25.9725, 137.0150, 5530,    155.1,      154,  20.3362,  34.7621,2,    198.4,2,  34.7623,2,   199.14,2,     2.71,2,     2.25,2,     0.02,2,    0.160,2, -999.000,9, -999.000,9,   2022.7,2,   2281.7,2,   7.9819,2,    25.00, -999.000,9,     0.02,2,     0.04,2,  20.3072,2,  24.4990,2,  20.3358,2
49UP20220929_1,    P9,    72,  1,     30,     319,2,20221006,0409,0624, 25.9725, 137.0150, 5530,    203.1,      202,  19.2848,  34.7821,2,    201.3,2,  34.7814,2,   201.06,2,     2.83,2,     2.75,2,     0.01,2,    0.190,2, -999.000,9, -999.000,9,   2028.8,2,   2283.1,2,   7.9729,2,    25.00, -999.000,9,     0.00,2,     0.01,2,  19.2482,2,  24.7911,2,  19.2985,2
49UP20220929_1,    P9,    72,  1,     29,     318,2,20221006,0409,0622, 25.9725, 137.0150, 5530,    253.7,      252,  18.5322,  34.7723,2,    199.9,2,  34.7710,2,   199.47,2,     3.59,2,     3.81,2,     0.01,2,    0.260,2, -999.000,9, -999.000,9,   2039.8,2,   2281.9,2,   7.9534,2,    25.00, -999.000,9,  -999.00,9,  -999.00,9,  18.4878,2,  24.9766,2,  18.5370,2
49UP20220929_1,    P9,    72,  1,     28,     755,2,20221006,0409,0620, 25.9725, 137.0150, 5530,    334.6,      332,  16.9728,  34.7178,2,    192.9,2,  34.7109,2,   191.79,2,     6.39,2,     6.69,2,     0.00,2,    0.450,2, -999.000,9, -999.000,9,   2062.1,2,   2281.0,2,   7.9070,2,    25.00, -999.000,9,  -999.00,9,  -999.00,9,  16.9175,2,  25.3172,2,  16.9772,2
49UP20220929_1,    P9,    72,  1,     27,     317,2,20221006,0409,0617, 25.9725, 137.0150, 5530,    435.5,      432,  14.0512,  34.5020,2,    178.5,2,  34.5001,2,   179.06,6,    14.70,6,    12.30,6,     0.00,6,    0.850,6, -999.000,9, -999.000,9,   2100.3,2,   2275.8,2,   7.8171,2,    25.00, -999.000,9,  -999.00,9,  -999.00,9,  13.9879,2,  25.8048,2,  14.0293,2
49UP20220929_1,    P9,    72,  1,     26,     316,2,20221006,0409,0614, 25.9725, 137.0150, 5530,    535.7,      532,  11.1251,  34.3189,2,    160.7,2,  34.3188,2,   161.18,2,    28.66,2,    18.76,2,     0.00,2,    1.330,2, -999.000,9, -999.000,9,   2147.7,2,   2279.7,2,   7.7156,2,    25.00, -999.000,9,  -999.00,9,  -999.00,9,  11.0580,2,  26.2347,2,  11.1246,2
49UP20220929_1,    P9,    72,  1,     25,     315,2,20221006,0409,0611, 25.9725, 137.0150, 5530,    637.9,      633,   8.1512,  34.1859,2,    131.0,2,  34.1860,2,   131.25,2,    50.24,2,    26.64,2,     0.00,2,    1.910,2, -999.000,9, -999.000,9,   2200.5,2,   2290.2,2,   7.5900,2,    25.00, -999.000,9,  -999.00,9,  -999.00,9,   8.0849,2,  26.6218,2,   8.1556,2
49UP20220929_1,    P9,    72,  1,     24,     753,2,20221006,0409,0609, 25.9725, 137.0150, 5530,    737.6,      732,   6.2783,  34.1632,2,     99.3,2,  34.1631,2,    99.59,2,    71.43,2,    32.77,2,     0.00,2,    2.360,2, -999.000,9, -999.000,9,   2252.5,2,   2308.5,2,   7.4954,2,    25.00, -999.000,9,  -999.00,9,  -999.00,9,   6.2115,2,  26.8645,2,   6.2759,2
49UP20220929_1,    P9,    72,  1,     23,     314,2,20221006,0409,0605, 25.9725, 137.0150, 5530,    840.6,      833,   5.2157,  34.2113,2,     76.1,2,  34.2106,2,    76.25,2,    88.91,2,    36.66,2,     0.00,2,    2.640,2, -999.000,9, -999.000,9,   2289.4,2,   2322.0,2,   7.4352,2,    25.00, -999.000,9,  -999.00,9,  -999.00,9,   5.1456,2,  27.0331,2,   5.2155,2
49UP20220929_1,    P9,    72,  1,     22,     313,2,20221006,0409,0602, 25.9725, 137.0150, 5530,    941.8,      934,   4.4453,  34.2763,2,     63.0,2,  34.2756,2,    63.35,2,   104.82,2,    38.92,2,     0.00,2,    2.800,2, -999.000,9, -999.000,9,   2317.6,2,   2341.6,2,   7.4063,2,    25.00, -999.000,9,  -999.00,9,  -999.00,9,   4.3716,2,  27.1713,2,   4.4449,2
49UP20220929_1,    P9,    72,  1,     21,     312,2,20221006,0409,0558, 25.9725, 137.0150, 5530,   1085.0,     1075,   3.7640,  34.3630,2,     58.5,2,  34.3622,6,    58.15,2,   120.24,2,    40.21,2,     0.00,2,    2.880,2, -999.000,9, -999.000,9,   2332.5,2,   2360.2,2,   7.4042,2,    25.00, -999.000,9,  -999.00,9,  -999.00,9,   3.6834,2,  27.3115,2,   3.7637,2
49UP20220929_1,    P9,    72,  1,     20,     311,2,20221006,0409,0552, 25.9725, 137.0150, 5530,   1288.5,     1276,   2.9988,  34.4600,2,     63.5,2,  34.4588,2,    63.63,6,   135.84,6,    40.79,6,     0.00,6,    2.920,6, -999.000,9, -999.000,9,   2352.5,2,   2382.0,2,   7.4160,2,    25.00, -999.000,9,  -999.00,9,  -999.00,9,   2.9086,2,  27.4623,2,   3.0001,2
49UP20220929_1,    P9,    72,  1,     19,     310,2,20221006,0409,0547, 25.9725, 137.0150, 5530,   1485.3,     1470,   2.6068,  34.5137,2,     74.4,2,  34.5135,2,    74.85,2,   142.57,2,    40.47,2,     0.00,2,    2.880,2, -999.000,9, -999.000,9,   2352.3,6,   2393.2,6,   7.4362,2,    25.00, -999.000,9,  -999.00,9,  -999.00,9,   2.5048,2,  27.5407,2,   2.6066,2
49UP20220929_1,    P9,    72,  1,     18,     752,2,20221006,0409,0542, 25.9725, 137.0150, 5530,   1690.6,     1673,   2.3212,  34.5532,2,     85.9,2,  34.5536,2,    85.99,2,   145.96,2,    39.90,2,     0.00,2,    2.830,2, -999.000,9, -999.000,9,   2350.9,2,   2400.7,2,   7.4607,6,    25.00, -999.000,9,  -999.00,9,  -999.00,9,   2.2060,2,  27.5972,2,   2.3212,2
49UP20220929_1,    P9,    72,  1,     17,     751,2,20221006,0409,0538, 25.9725, 137.0150, 5530,   1890.9,     1870,   2.0773,  34.5884,2,     99.5,2,  34.5885,2,    99.78,2,   147.43,2,    39.17,2,     0.00,2,    2.770,2, -999.000,9, -999.000,9,   2347.5,2,   2405.9,2,   7.4877,2,    25.00, -999.000,9,  -999.00,9,  -999.00,9,   1.9489,2,  27.6459,2,   2.0770,2
49UP20220929_1,    P9,    72,  1,     16,     328,2,20221006,0409,0532, 25.9725, 137.0150, 5530,   2096.6,     2073,   1.9437,  34.6121,2,    112.9,2,  34.6123,6,   112.99,2,   145.89,2,    38.38,2,     0.00,2,    2.700,2, -999.000,9, -999.000,9,   2341.4,2,   2407.4,2,   7.5095,2,    25.00, -999.000,9,  -999.00,9,  -999.00,9,   1.8000,2,  27.6765,2,   1.9437,2
49UP20220929_1,    P9,    72,  1,     15,     309,2,20221006,0409,0527, 25.9725, 137.0150, 5530,   2301.7,     2274,   1.8438,  34.6277,2,    121.0,2,  34.6279,2,   120.99,2,   145.44,2,    37.90,2,     0.00,2,    2.660,2, -999.000,9, -999.000,9,   2338.6,2,   2410.1,2,   7.5290,2,    25.00, -999.000,9,  -999.00,9,  -999.00,9,   1.6841,2,  27.6978,2,   1.8437,2
49UP20220929_1,    P9,    72,  1,     14,     326,2,20221006,0409,0522, 25.9725, 137.0150, 5530,   2504.3,     2473,   1.7378,  34.6428,2,    129.6,2,  34.6421,2,   129.67,2,   144.78,2,    37.36,2,     0.00,2,    2.620,2, -999.000,9, -999.000,9,   2333.5,2,   2411.5,2,   7.5400,2,    25.00, -999.000,9,  -999.00,9,  -999.00,9,   1.5621,2,  27.7189,2,   1.7379,2
49UP20220929_1,    P9,    72,  1,     13,     325,2,20221006,0409,0517, 25.9725, 137.0150, 5530,   2707.7,     2673,   1.6708,  34.6524,2,    135.2,2,  34.6524,2,   135.39,6,   144.54,6,    37.02,6,     0.00,6,    2.590,6, -999.000,9, -999.000,9,   2331.4,2,   2411.4,2,   7.5537,2,    25.00, -999.000,9,  -999.00,9,  -999.00,9,   1.4779,2,  27.7328,2,   1.6709,2
49UP20220929_1,    P9,    72,  1,     12,     324,2,20221006,0409,0512, 25.9725, 137.0150, 5530,   2908.9,     2870,   1.6142,  34.6605,2,    140.3,2,  34.6605,2,   140.61,2,   144.19,2,    36.73,2,     0.00,2,    2.570,2, -999.000,9, -999.000,9,   2328.3,2,   2413.0,2,   7.5615,2,    25.00, -999.000,9,  -999.00,9,  -999.00,9,   1.4037,2,  27.7447,2,   1.6142,2
49UP20220929_1,    P9,    72,  1,     11,     323,2,20221006,0409,0507, 25.9725, 137.0150, 5530,   3127.3,     3084,   1.5809,  34.6663,2,    144.0,2,  34.6666,6,   143.96,2,   144.02,2,    36.52,2,     0.00,2,    2.550,2, -999.000,9, -999.000,9,   2326.6,6,   2414.3,6,   7.5683,2,    25.00, -999.000,9,  -999.00,9,  -999.00,9,   1.3500,2,  27.7531,2,   1.5808,2
49UP20220929_1,    P9,    72,  1,     10,     322,2,20221006,0409,0501, 25.9725, 137.0150, 5530,   3382.4,     3334,   1.5358,  34.6736,2,    148.9,2,  34.6733,2,   149.33,2,   143.51,2,    36.18,2,     0.00,2,    2.520,2, -999.000,9, -999.000,9,   2323.7,2,   2415.8,2,   7.5736,6,    25.00, -999.000,9,  -999.00,9,  -999.00,9,   1.2807,2,  27.7639,2,   1.5359,2
49UP20220929_1,    P9,    72,  1,      9,     750,2,20221006,0409,0454, 25.9725, 137.0150, 5530,   3637.7,     3583,   1.5304,  34.6770,2,    151.4,2,  34.6769,2,   151.59,2,   143.23,2,    36.07,2,     0.00,2,    2.520,2, -999.000,9, -999.000,9,   2322.2,2,   2415.7,2,   7.5797,2,    25.00, -999.000,9,  -999.00,9,  -999.00,9,   1.2493,2,  27.7688,2,   1.5303,2
49UP20220929_1,    P9,    72,  1,      8,     320,2,20221006,0409,0449, 25.9725, 137.0150, 5530,   3891.9,     3831,   1.5394,  34.6788,2,    152.9,2,  34.6784,2,   153.33,2,   142.89,2,    35.94,2,     0.00,2,    2.500,2, -999.000,9, -999.000,9,   2321.5,2,   2415.6,2,   7.5809,2,    25.00, -999.000,9,  -999.00,9,  -999.00,9,   1.2311,2,  27.7715,2,   1.5393,2
49UP20220929_1,    P9,    72,  1,      7,     319,2,20221006,0409,0443, 25.9725, 137.0150, 5530,   4148.0,     4081,   1.5532,  34.6802,2,    154.2,2,  34.6803,2,   154.59,2,   142.65,2,    35.86,2,     0.00,2,    2.500,2, -999.000,9, -999.000,9,   2322.7,2,   2412.9,2,   7.5840,2,    25.00, -999.000,9,  -999.00,9,  -999.00,9,   1.2166,2,  27.7736,2,   1.5533,2
49UP20220929_1,    P9,    72,  1,      6,     318,2,20221006,0409,0438, 25.9725, 137.0150, 5530,   4406.2,     4333,   1.5729,  34.6811,2,    155.2,2,  34.6810,2,   155.44,6,   142.29,6,    35.79,6,     0.00,6,    2.490,6, -999.000,9, -999.000,9,   2319.5,2,   2414.5,2,   7.5855,2,    25.00, -999.000,9,  -999.00,9,  -999.00,9,   1.2065,2,  27.7751,2,   1.5729,2
49UP20220929_1,    P9,    72,  1,      5,     838,2,20221006,0409,0432, 25.9725, 137.0150, 5530,   4663.7,     4583,   1.5959,  34.6817,2,    156.0,2,  34.6820,2,   156.59,2,   141.97,2,    35.76,2,     0.00,2,    2.490,2, -999.000,9, -999.000,9,   2319.9,2,   2410.5,2,   7.5841,2,    25.00, -999.000,9,  -999.00,9,  -999.00,9,   1.1989,2,  27.7761,2,   1.5959,2
49UP20220929_1,    P9,    72,  1,      4,     316,2,20221006,0409,0426, 25.9725, 137.0150, 5530,   4920.1,     4832,   1.6235,  34.6821,2,    156.4,2,  34.6825,2,   156.80,2,   141.98,2,    35.72,2,     0.00,2,    2.480,2, -999.000,9, -999.000,9,   2319.6,2,   2413.4,2,   7.5870,2,    25.00, -999.000,9,  -999.00,9,  -999.00,9,   1.1949,2,  27.7767,2,   1.6235,2
49UP20220929_1,    P9,    72,  1,      3,     315,2,20221006,0409,0420, 25.9725, 137.0150, 5530,   5178.7,     5084,   1.6541,  34.6822,2,    156.7,2,  34.6820,2,   156.51,2,   141.92,2,    35.71,2,     0.00,2,    2.480,2, -999.000,9, -999.000,9,   2319.0,6,   2412.1,6,   7.5867,2,    25.00, -999.000,9,  -999.00,9,  -999.00,9,   1.1927,2,  27.7769,2,   1.6541,2
49UP20220929_1,    P9,    72,  1,      2,     314,2,20221006,0409,0415, 25.9725, 137.0150, 5530,   5433.8,     5331,   1.6858,  34.6822,2,    156.9,2,  34.6817,2,   156.67,2,   141.95,2,    35.72,2,     0.00,2,    2.480,2, -999.000,9, -999.000,9,   2319.7,2,   2410.3,2,   7.5863,6,    25.00, -999.000,9,  -999.00,9,  -999.00,9,   1.1910,2,  27.7770,2,   1.6857,2
49UP20220929_1,    P9,    72,  1,      1,     308,2,20221006,0409,0410, 25.9725, 137.0150, 5530,   5666.0,     5556,   1.7160,  34.6822,2,    157.1,2,  34.6817,6,   156.94,2,   142.08,2,    35.76,2,     0.00,2,    2.490,2, -999.000,9, -999.000,9,   2319.7,2,   2411.8,2,   7.5864,2,    25.00, -999.000,9,  -999.00,9,  -999.00,9,   1.1901,2,  27.7771,2,   1.7159,2