BOTTLE,20230330JMAAMD
EXPOCODE,SECT_ID,STNNBR,CASTNO,SAMPNO,BTLNBR,BTLNBR_FLAG_U,DATE,TIME,BTL_TIME,LATITUDE,LONGITUDE,DEPTH,CTDPRS,CTDDEP,CTDTMP,CTDSAL,CTDSAL_FLAG_W,CTDOXY,CTDOXY_FLAG_W,SALNTY,SALNTY_FLAG_W,OXYGEN,OXYGEN_FLAG_W,SILCAT,SILCAT_FLAG_W,NO2+NO3,NO2+NO3_FLAG_W,NITRIT,NITRIT_FLAG_W,PHSPHT,PHSPHT_FLAG_W,CFC-11,CFC-11_FLAG_W,CFC-12,CFC-12_FLAG_W,TCARBN,TCARBN_FLAG_W,ALKALI,ALKALI_FLAG_W,PH_TS,PH_TS_FLAG_W,PH_TS_TMP,CFC113,CFC113_FLAG_W,CHLORA,CHLORA_FLAG_W,PPHYTN,PPHYTN_FLAG_W,THETA,THETA_FLAG_W,SIGTHT,SIGTHT_FLAG_W,SBE35,SBE35_FLAG_W
,,,,,,,,UTC,,,,METER,DBAR,METERS,ITS-90,PSS-78,,UMOL/KG,,PSS78,,UMOL/KG,,UMOL/KG,,UMOL/KG,,UMOL/KG,,UMOL/KG,,PMOL/KG,,PMOL/KG,,UMOL/KG,,UMOL/KG,,,,ITS-90,PMOL/KG,,UG/KG,,UG/KG,,ITS-90,,KG/M3,,ITS-90,
49UP20220824_1,    P9,    44,  1,      0,      -9,0,20220905,1221,1400, 12.4965, 136.9937, 4690,      0.0,        0,  30.3627,  34.1545,2,    192.5,2,-999.0000,9,   193.04,2,     1.17,2,     0.02,2,     0.00,2,    0.090,2, -999.000,9, -999.000,9,   -999.0,9,   -999.0,9,-999.0000,9,  -999.00, -999.000,9,  -999.00,9,  -999.00,9,  30.3621,2,  20.9687,2,-999.0000,9
49UP20220824_1,    P9,    44,  1,     36,     757,2,20220905,1221,1429, 12.4965, 136.9937, 4690,     10.0,       10,  30.3166,  34.1709,2,    192.7,2,  34.1662,2,   193.55,6,     1.25,6,     0.03,6,     0.00,6,    0.070,6, -999.000,9, -999.000,9,   -999.0,9,   -999.0,9,-999.0000,9,  -999.00, -999.000,9,  -999.00,9,  -999.00,9,  30.3141,2,  20.9974,2,  30.3053,2
49UP20220824_1,    P9,    44,  1,     35,     756,2,20220905,1221,1427, 12.4965, 136.9937, 4690,     25.3,       25,  30.0640,  34.1818,2,    195.1,2,  34.1817,2,   195.41,2,     1.28,2,     0.10,2,     0.00,2,    0.080,2, -999.000,9, -999.000,9,   -999.0,9,   -999.0,9,-999.0000,9,  -999.00, -999.000,9,  -999.00,9,  -999.00,9,  30.0578,2,  21.0932,2,  30.0594,2
49UP20220824_1,    P9,    44,  1,     34,     323,2,20220905,1221,1424, 12.4965, 136.9937, 4690,     50.4,       50,  29.6961,  34.4286,2,    199.3,2,  34.4195,2,   199.64,2,     1.21,2,     0.02,2,     0.00,2,    0.080,2, -999.000,9, -999.000,9,   -999.0,9,   -999.0,9,-999.0000,9,  -999.00, -999.000,9,  -999.00,9,  -999.00,9,  29.6838,2,  21.4053,2,  29.6958,2
49UP20220824_1,    P9,    44,  1,     33,     322,2,20220905,1221,1422, 12.4965, 136.9937, 4690,     76.0,       76,  28.7766,  34.6241,2,    203.1,2,  34.6233,2,   202.65,2,     1.30,2,     0.03,2,     0.00,2,    0.090,2, -999.000,9, -999.000,9,   -999.0,9,   -999.0,9,-999.0000,9,  -999.00, -999.000,9,  -999.00,9,  -999.00,9,  28.7584,2,  21.8623,2,  28.7794,2
49UP20220824_1,    P9,    44,  1,     32,     321,2,20220905,1221,1421, 12.4965, 136.9937, 4690,    101.2,      101,  28.1948,  34.7626,2,    206.0,2,  34.7606,2,   205.01,2,     1.17,2,     0.09,2,     0.00,2,    0.080,2, -999.000,9, -999.000,9,   -999.0,9,   -999.0,9,-999.0000,9,  -999.00, -999.000,9,  -999.00,9,  -999.00,9,  28.1709,2,  22.1602,2,  28.1966,2
49UP20220824_1,    P9,    44,  1,     31,     320,2,20220905,1221,1419, 12.4965, 136.9937, 4690,    126.0,      125,  27.6355,  34.8244,2,    202.0,2,  34.8214,2,   201.49,2,     1.17,2,     0.03,2,     0.00,2,    0.070,2, -999.000,9, -999.000,9,   -999.0,9,   -999.0,9,-999.0000,9,  -999.00, -999.000,9,  -999.00,9,  -999.00,9,  27.6060,2,  22.3907,2,  27.6392,2
49UP20220824_1,    P9,    44,  1,     30,     319,2,20220905,1221,1418, 12.4965, 136.9937, 4690,    153.3,      152,  25.8568,  34.8643,2,    189.8,2,  34.8578,2,   190.32,2,     1.34,2,     0.13,2,     0.06,2,    0.110,2, -999.000,9, -999.000,9,   -999.0,9,   -999.0,9,-999.0000,9,  -999.00, -999.000,9,  -999.00,9,  -999.00,9,  25.8228,2,  22.9861,2,  25.8530,2
49UP20220824_1,    P9,    44,  1,     29,     318,2,20220905,1221,1416, 12.4965, 136.9937, 4690,    202.0,      201,  19.6257,  34.8105,2,    168.0,2,  34.8099,2,   168.68,2,     4.67,2,     4.89,2,     0.01,2,    0.450,2, -999.000,9, -999.000,9,   -999.0,9,   -999.0,9,-999.0000,9,  -999.00, -999.000,9,  -999.00,9,  -999.00,9,  19.5888,2,  24.7247,2,  19.6243,2
49UP20220824_1,    P9,    44,  1,     28,     755,2,20220905,1221,1414, 12.4965, 136.9937, 4690,    254.0,      252,  14.4707,  34.4859,2,    158.2,2,  34.4971,2,   158.16,2,    12.60,2,    12.62,2,     0.00,2,    0.960,2, -999.000,9, -999.000,9,   -999.0,9,   -999.0,9,-999.0000,9,  -999.00, -999.000,9,  -999.00,9,  -999.00,9,  14.4332,2,  25.6981,2,  14.4581,2
49UP20220824_1,    P9,    44,  1,     27,     317,2,20220905,1221,1412, 12.4965, 136.9937, 4690,    302.6,      301,  11.2653,  34.3132,2,    142.8,2,  34.3152,2,   140.35,6,    23.78,6,    19.88,6,     0.00,6,    1.460,6, -999.000,9, -999.000,9,   -999.0,9,   -999.0,9,-999.0000,9,  -999.00, -999.000,9,  -999.00,9,  -999.00,9,  11.2276,2,  26.1994,2,  11.2630,2
49UP20220824_1,    P9,    44,  1,     26,     316,2,20220905,1221,1410, 12.4965, 136.9937, 4690,    352.9,      351,   9.8889,  34.3619,2,     95.1,2,  34.3664,2,    92.92,2,    33.69,2,    27.14,2,     0.00,2,    1.990,2, -999.000,9, -999.000,9,   -999.0,9,   -999.0,9,-999.0000,9,  -999.00, -999.000,9,  -999.00,9,  -999.00,9,   9.8482,2,  26.4793,2,   9.8891,2
49UP20220824_1,    P9,    44,  1,     25,     315,2,20220905,1221,1408, 12.4965, 136.9937, 4690,    403.7,      401,   8.6869,  34.4275,2,     76.6,2,  34.4274,2,    76.59,2,    42.62,2,    31.44,2,     0.00,2,    2.280,2, -999.000,9, -999.000,9,   -999.0,9,   -999.0,9,-999.0000,9,  -999.00, -999.000,9,  -999.00,9,  -999.00,9,   8.6438,2,  26.7260,2,   8.6868,2
49UP20220824_1,    P9,    44,  1,     24,     753,2,20220905,1221,1406, 12.4965, 136.9937, 4690,    454.5,      451,   8.0455,  34.4616,2,     75.2,2,  34.4613,2,    75.27,2,    47.12,2,    33.07,2,     0.00,2,    2.370,2, -999.000,9, -999.000,9,   -999.0,9,   -999.0,9,-999.0000,9,  -999.00, -999.000,9,  -999.00,9,  -999.00,9,   7.9990,2,  26.8511,2,   8.0463,2
49UP20220824_1,    P9,    44,  1,     23,     314,2,20220905,1221,1404, 12.4965, 136.9937, 4690,    504.9,      501,   7.4615,  34.4809,2,     76.7,2,  34.4801,2,    77.45,2,    51.35,2,    34.10,2,     0.00,2,    2.440,2, -999.000,9, -999.000,9,   -999.0,9,   -999.0,9,-999.0000,9,  -999.00, -999.000,9,  -999.00,9,  -999.00,9,   7.4118,2,  26.9520,2,   7.4656,2
49UP20220824_1,    P9,    44,  1,     22,     313,2,20220905,1221,1401, 12.4965, 136.9937, 4690,    605.1,      601,   6.6693,  34.4952,2,     83.1,2,  34.4953,2,    83.29,2,    58.34,2,    35.24,2,     0.00,2,    2.520,2, -999.000,9, -999.000,9,   -999.0,9,   -999.0,9,-999.0000,9,  -999.00, -999.000,9,  -999.00,9,  -999.00,9,   6.6129,2,  27.0738,2,   6.6695,2
49UP20220824_1,    P9,    44,  1,     21,     312,2,20220905,1221,1358, 12.4965, 136.9937, 4690,    705.8,      701,   6.0790,  34.5054,2,     84.4,2,  34.5050,2,    84.30,2,    65.84,2,    36.30,2,     0.00,2,    2.590,2, -999.000,9, -999.000,9,   -999.0,9,   -999.0,9,-999.0000,9,  -999.00, -999.000,9,  -999.00,9,  -999.00,9,   6.0159,2,  27.1598,2,   6.0794,2
49UP20220824_1,    P9,    44,  1,     20,     311,2,20220905,1221,1355, 12.4965, 136.9937, 4690,    805.9,      800,   5.6182,  34.5145,2,     83.0,2,  34.5140,2,    82.60,2,    73.30,2,    37.12,2,     0.00,2,    2.650,2, -999.000,9, -999.000,9,   -999.0,9,   -999.0,9,-999.0000,9,  -999.00, -999.000,9,  -999.00,9,  -999.00,9,   5.5483,2,  27.2252,2,   5.6178,2
49UP20220824_1,    P9,    44,  1,     19,     310,2,20220905,1221,1352, 12.4965, 136.9937, 4690,    908.4,      901,   5.1881,  34.5232,2,     80.0,2,  34.5246,2,    80.21,2,    81.49,2,    37.98,2,     0.00,2,    2.720,2, -999.000,9, -999.000,9,   -999.0,9,   -999.0,9,-999.0000,9,  -999.00, -999.000,9,  -999.00,9,  -999.00,9,   5.1117,2,  27.2843,2,   5.1882,2
49UP20220824_1,    P9,    44,  1,     18,     752,2,20220905,1221,1349, 12.4965, 136.9937, 4690,   1009.6,     1001,   4.7473,  34.5347,2,     81.5,2,  34.5348,2,    81.54,6,    89.94,6,    38.46,6,     0.00,6,    2.750,6, -999.000,9, -999.000,9,   -999.0,9,   -999.0,9,-999.0000,9,  -999.00, -999.000,9,  -999.00,9,  -999.00,9,   4.6650,2,  27.3444,2,   4.7471,2
49UP20220824_1,    P9,    44,  1,     17,     751,2,20220905,1221,1344, 12.4965, 136.9937, 4690,   1211.4,     1201,   3.9166,  34.5566,2,     84.9,2,  34.5569,2,    84.74,2,   107.05,2,    38.98,2,     0.00,2,    2.790,2, -999.000,9, -999.000,9,   -999.0,9,   -999.0,9,-999.0000,9,  -999.00, -999.000,9,  -999.00,9,  -999.00,9,   3.8237,2,  27.4516,2,   3.9165,2
49UP20220824_1,    P9,    44,  1,     16,     328,2,20220905,1221,1340, 12.4965, 136.9937, 4690,   1415.0,     1402,   3.2267,  34.5753,2,     93.1,2,  34.5752,6,    93.21,2,   121.63,2,    38.77,2,     0.00,2,    2.770,2, -999.000,9, -999.000,9,   -999.0,9,   -999.0,9,-999.0000,9,  -999.00, -999.000,9,  -999.00,9,  -999.00,9,   3.1234,2,  27.5347,2,   3.2270,2
49UP20220824_1,    P9,    44,  1,     15,     309,2,20220905,1221,1335, 12.4965, 136.9937, 4690,   1615.7,     1600,   2.7969,  34.5929,2,    100.4,2,  34.5946,4,   100.58,2,   130.09,2,    38.62,2,     0.00,2,    2.740,2, -999.000,9, -999.000,9,   -999.0,9,   -999.0,9,-999.0000,9,  -999.00, -999.000,9,  -999.00,9,  -999.00,9,   2.6817,2,  27.5887,2,   2.7970,2
49UP20220824_1,    P9,    44,  1,     14,     326,2,20220905,1221,1330, 12.4965, 136.9937, 4690,   1819.3,     1801,   2.5047,  34.6097,2,    105.7,2,  34.6113,4,   105.33,2,   135.13,2,    38.66,2,     0.00,2,    2.730,2, -999.000,9, -999.000,9,   -999.0,9,   -999.0,9,-999.0000,9,  -999.00, -999.000,9,  -999.00,9,  -999.00,9,   2.3762,2,  27.6283,2,   2.5051,2
49UP20220824_1,    P9,    44,  1,     13,     325,2,20220905,1221,1326, 12.4965, 136.9937, 4690,   2022.9,     2002,   2.2544,  34.6221,2,    111.4,2,  34.6229,2,   111.28,2,   139.60,2,    38.37,2,     0.00,2,    2.710,2, -999.000,9, -999.000,9,   -999.0,9,   -999.0,9,-999.0000,9,  -999.00, -999.000,9,  -999.00,9,  -999.00,9,   2.1121,2,  27.6600,2,   2.2545,2
49UP20220824_1,    P9,    44,  1,     12,     324,2,20220905,1221,1321, 12.4965, 136.9937, 4690,   2225.9,     2201,   2.0384,  34.6369,2,    118.1,2,  34.6368,2,   118.17,2,   142.79,2,    38.13,2,     0.00,2,    2.680,2, -999.000,9, -999.000,9,   -999.0,9,   -999.0,9,-999.0000,9,  -999.00, -999.000,9,  -999.00,9,  -999.00,9,   1.8820,2,  27.6900,2,   2.0386,2
49UP20220824_1,    P9,    44,  1,     11,     323,2,20220905,1221,1316, 12.4965, 136.9937, 4690,   2427.8,     2400,   1.8534,  34.6484,2,    124.6,2,  34.6485,6,   124.46,2,   145.81,2,    37.74,2,     0.00,2,    2.640,2, -999.000,9, -999.000,9,   -999.0,9,   -999.0,9,-999.0000,9,  -999.00, -999.000,9,  -999.00,9,  -999.00,9,   1.6823,2,  27.7145,2,   1.8533,2
49UP20220824_1,    P9,    44,  1,     10,     322,2,20220905,1221,1311, 12.4965, 136.9937, 4690,   2631.4,     2600,   1.7821,  34.6542,2,    128.3,2,  34.6537,2,   128.46,2,   146.75,2,    37.61,2,     0.00,2,    2.620,2, -999.000,9, -999.000,9,   -999.0,9,   -999.0,9,-999.0000,9,  -999.00, -999.000,9,  -999.00,9,  -999.00,9,   1.5939,2,  27.7257,2,   1.7821,2
49UP20220824_1,    P9,    44,  1,      9,     750,2,20220905,1221,1307, 12.4965, 136.9937, 4690,   2835.3,     2800,   1.7034,  34.6606,2,    133.0,2,  34.6615,2,   133.09,6,   147.46,6,    37.32,6,     0.00,6,    2.600,6, -999.000,9, -999.000,9,   -999.0,9,   -999.0,9,-999.0000,9,  -999.00, -999.000,9,  -999.00,9,  -999.00,9,   1.4979,2,  27.7380,2,   1.7024,2
49UP20220824_1,    P9,    44,  1,      8,     320,2,20220905,1221,1302, 12.4965, 136.9937, 4690,   3039.7,     3001,   1.6386,  34.6662,2,    138.1,2,  34.6667,2,   137.95,2,   146.80,2,    36.97,2,     0.00,2,    2.580,2, -999.000,9, -999.000,9,   -999.0,9,   -999.0,9,-999.0000,9,  -999.00, -999.000,9,  -999.00,9,  -999.00,9,   1.4150,2,  27.7485,2,   1.6384,2
49UP20220824_1,    P9,    44,  1,      7,     319,2,20220905,1221,1256, 12.4965, 136.9937, 4690,   3294.3,     3250,   1.5921,  34.6712,2,    144.1,2,  34.6714,2,   144.76,2,   145.14,2,    36.50,2,     0.00,2,    2.540,2, -999.000,9, -999.000,9,   -999.0,9,   -999.0,9,-999.0000,9,  -999.00, -999.000,9,  -999.00,9,  -999.00,9,   1.3445,2,  27.7575,2,   1.5920,2
49UP20220824_1,    P9,    44,  1,      6,     318,2,20220905,1221,1250, 12.4965, 136.9937, 4690,   3551.1,     3501,   1.5562,  34.6758,2,    148.7,2,  34.6757,2,   148.69,2,   143.99,2,    36.27,2,     0.00,2,    2.520,2, -999.000,9, -999.000,9,   -999.0,9,   -999.0,9,-999.0000,9,  -999.00, -999.000,9,  -999.00,9,  -999.00,9,   1.2834,2,  27.7655,2,   1.5562,2
49UP20220824_1,    P9,    44,  1,      5,     838,2,20220905,1221,1244, 12.4965, 136.9937, 4690,   3805.8,     3750,   1.5332,  34.6792,2,    152.3,2,  34.6793,2,   152.34,2,   143.49,2,    36.02,2,     0.00,2,    2.500,2, -999.000,9, -999.000,9,   -999.0,9,   -999.0,9,-999.0000,9,  -999.00, -999.000,9,  -999.00,9,  -999.00,9,   1.2343,2,  27.7716,2,   1.5332,2
49UP20220824_1,    P9,    44,  1,      4,     316,2,20220905,1221,1238, 12.4965, 136.9937, 4690,   4062.2,     4001,   1.4979,  34.6840,2,    158.2,2,  34.6849,2,   158.33,2,   141.35,2,    35.61,2,     0.00,2,    2.470,2, -999.000,9, -999.000,9,   -999.0,9,   -999.0,9,-999.0000,9,  -999.00, -999.000,9,  -999.00,9,  -999.00,9,   1.1723,2,  27.7798,2,   1.4980,2
49UP20220824_1,    P9,    44,  1,      3,     315,2,20220905,1221,1232, 12.4965, 136.9937, 4690,   4318.4,     4250,   1.5143,  34.6849,2,    159.5,2,  34.6857,2,   159.41,2,   140.81,2,    35.55,2,     0.00,2,    2.460,2, -999.000,9, -999.000,9,   -999.0,9,   -999.0,9,-999.0000,9,  -999.00, -999.000,9,  -999.00,9,  -999.00,9,   1.1596,2,  27.7814,2,   1.5142,2
49UP20220824_1,    P9,    44,  1,      2,     314,2,20220905,1221,1227, 12.4965, 136.9937, 4690,   4574.5,     4500,   1.5362,  34.6854,2,    160.3,2,  34.6863,2,   160.77,2,   140.56,2,    35.48,2,     0.00,2,    2.450,2, -999.000,9, -999.000,9,   -999.0,9,   -999.0,9,-999.0000,9,  -999.00, -999.000,9,  -999.00,9,  -999.00,9,   1.1515,2,  27.7823,2,   1.5362,2
49UP20220824_1,    P9,    44,  1,      1,     308,2,20220905,1221,1222, 12.4965, 136.9937, 4690,   4772.8,     4693,   1.5487,  34.6862,2,    161.5,2,  34.6870,2,   161.17,2,   140.19,2,    35.42,2,     0.00,2,    2.450,2, -999.000,9, -999.000,9,   -999.0,9,   -999.0,9,-999.0000,9,  -999.00, -999.000,9,  -999.00,9,  -999.00,9,   1.1402,2,  27.7838,2,   1.5486,2