BOTTLE,20230330JMAAMD
EXPOCODE,SECT_ID,STNNBR,CASTNO,SAMPNO,BTLNBR,BTLNBR_FLAG_U,DATE,TIME,BTL_TIME,LATITUDE,LONGITUDE,DEPTH,CTDPRS,CTDDEP,CTDTMP,CTDSAL,CTDSAL_FLAG_W,CTDOXY,CTDOXY_FLAG_W,SALNTY,SALNTY_FLAG_W,OXYGEN,OXYGEN_FLAG_W,SILCAT,SILCAT_FLAG_W,NO2+NO3,NO2+NO3_FLAG_W,NITRIT,NITRIT_FLAG_W,PHSPHT,PHSPHT_FLAG_W,CFC-11,CFC-11_FLAG_W,CFC-12,CFC-12_FLAG_W,TCARBN,TCARBN_FLAG_W,ALKALI,ALKALI_FLAG_W,PH_TS,PH_TS_FLAG_W,PH_TS_TMP,CFC113,CFC113_FLAG_W,CHLORA,CHLORA_FLAG_W,PPHYTN,PPHYTN_FLAG_W,THETA,THETA_FLAG_W,SIGTHT,SIGTHT_FLAG_W,SBE35,SBE35_FLAG_W
,,,,,,,,UTC,,,,METER,DBAR,METERS,ITS-90,PSS-78,,UMOL/KG,,PSS78,,UMOL/KG,,UMOL/KG,,UMOL/KG,,UMOL/KG,,UMOL/KG,,PMOL/KG,,PMOL/KG,,UMOL/KG,,UMOL/KG,,,,ITS-90,PMOL/KG,,UG/KG,,UG/KG,,ITS-90,,KG/M3,,ITS-90,
49UP20220824_1,    P9,    41,  1,      0,      -9,0,20220904,1203,1356, 10.9980, 136.9787, 5039,      0.0,        0,  30.4847,  34.3751,2,    192.4,2,  34.3137,2,   193.09,2,     1.28,2,     0.06,2,     0.00,2,    0.090,2, -999.000,9, -999.000,9,   1929.8,2,   2253.7,2,   8.1055,2,    25.00, -999.000,9,     0.04,2,     0.01,2,  30.4840,2,  21.0919,2,-999.0000,9
49UP20220824_1,    P9,    41,  1,     36,     757,2,20220904,1203,1421, 10.9980, 136.9787, 5039,      9.8,       10,  30.5367,  34.3951,2,    192.3,2,  34.3937,2,   192.86,2,     1.28,2,     0.03,2,     0.00,2,    0.060,2, -999.000,9, -999.000,9,   1934.2,2,   2259.8,2,   8.1038,2,    25.00, -999.000,9,     0.04,2,     0.00,2,  30.5343,2,  21.0896,2,  30.5354,2
49UP20220824_1,    P9,    41,  1,     35,     756,2,20220904,1203,1417, 10.9980, 136.9787, 5039,     50.4,       50,  29.8571,  34.4487,2,    196.2,2,  34.4466,2,   196.89,2,     1.28,2,     0.03,2,     0.00,2,    0.070,2, -999.000,9, -999.000,9,   1937.0,2,   2261.7,2,   8.1049,2,    25.00, -999.000,9,     0.04,2,     0.01,2,  29.8446,2,  21.3658,2,  29.8559,2
49UP20220824_1,    P9,    41,  1,     34,     323,2,20220904,1203,1416, 10.9980, 136.9787, 5039,     74.7,       74,  29.1868,  34.6708,2,    203.5,2,  34.6704,2,   203.30,2,     1.24,2,     0.02,2,     0.00,2,    0.070,2, -999.000,9, -999.000,9,   1955.0,2,   2277.7,2,   8.0974,6,    25.00, -999.000,9,     0.05,2,     0.01,2,  29.1686,2,  21.7605,2,  29.1870,2
49UP20220824_1,    P9,    41,  1,     33,     322,2,20220904,1203,1414, 10.9980, 136.9787, 5039,    102.1,      101,  28.1218,  34.7785,2,    205.1,2,  34.7753,2,   204.13,2,     1.30,2,     0.02,2,     0.00,2,    0.080,2, -999.000,9, -999.000,9,   1967.0,6,   2285.0,6,   8.0872,2,    25.00, -999.000,9,     0.08,2,     0.02,2,  28.0977,2,  22.1961,2,  28.1243,2
49UP20220824_1,    P9,    41,  1,     32,     321,2,20220904,1203,1412, 10.9980, 136.9787, 5039,    125.8,      125,  27.5234,  34.7888,2,    200.1,2,  34.7854,2,   199.47,2,     1.23,2,     0.02,2,     0.00,2,    0.090,2, -999.000,9, -999.000,9,   1974.3,2,   2286.0,2,   8.0760,2,    25.00, -999.000,9,     0.15,2,     0.06,2,  27.4941,2,  22.4001,2,  27.5246,2
49UP20220824_1,    P9,    41,  1,     31,     320,2,20220904,1203,1411, 10.9980, 136.9787, 5039,    151.1,      150,  25.9732,  34.8100,2,    192.9,2,  34.8062,2,   192.62,2,     1.37,2,     0.09,2,     0.02,2,    0.120,2, -999.000,9, -999.000,9,   1998.8,2,   2287.3,2,   8.0433,2,    25.00, -999.000,9,     0.25,2,     0.22,2,  25.9395,2,  22.9088,2,  25.9902,2
49UP20220824_1,    P9,    41,  1,     30,     319,2,20220904,1203,1408, 10.9980, 136.9787, 5039,    203.9,      203,  19.9643,  34.8168,2,    164.0,2,  34.8170,2,   164.41,6,     4.61,6,     4.99,6,     0.02,6,    0.480,6, -999.000,9, -999.000,9,   2076.0,2,   2290.8,2,   7.8936,2,    25.00, -999.000,9,     0.07,2,     0.11,2,  19.9266,2,  24.6413,2,  19.9615,2
49UP20220824_1,    P9,    41,  1,     29,     318,2,20220904,1203,1406, 10.9980, 136.9787, 5039,    253.6,      252,  13.0285,  34.4040,2,    131.6,2,  34.4060,2,   131.89,2,    17.63,2,    17.33,2,     0.00,2,    1.340,2, -999.000,9, -999.000,9,   2146.3,2,   2273.5,2,   7.6941,2,    25.00, -999.000,9,  -999.00,9,  -999.00,9,  12.9937,2,  25.9324,2,  13.0230,2
49UP20220824_1,    P9,    41,  1,     28,     755,2,20220904,1203,1404, 10.9980, 136.9787, 5039,    304.4,      302,  10.7197,  34.3575,2,    105.7,2,  34.3564,2,   107.01,2,    28.19,2,    24.02,2,     0.00,2,    1.800,2, -999.000,9, -999.000,9,   2186.5,2,   2277.9,2,   7.5994,2,    25.00, -999.000,9,  -999.00,9,  -999.00,9,  10.6828,2,  26.3318,2,  10.7175,2
49UP20220824_1,    P9,    41,  1,     27,     317,2,20220904,1203,1402, 10.9980, 136.9787, 5039,    352.7,      350,   9.2907,  34.3897,2,     87.6,2,  34.3884,2,    87.65,2,    38.22,2,    28.97,2,     0.00,2,    2.130,2, -999.000,9, -999.000,9,   2218.1,2,   2289.7,2,   7.5431,2,    25.00, -999.000,9,  -999.00,9,  -999.00,9,   9.2516,2,  26.5998,2,   9.2905,2
49UP20220824_1,    P9,    41,  1,     26,     316,2,20220904,1203,1400, 10.9980, 136.9787, 5039,    406.8,      404,   8.4785,  34.4475,2,     72.8,2,  34.4463,2,    73.04,2,    44.01,2,    32.06,2,     0.00,2,    2.340,2, -999.000,9, -999.000,9,   2239.5,2,   2298.7,2,   7.5061,2,    25.00, -999.000,9,  -999.00,9,  -999.00,9,   8.4357,2,  26.7739,2,   8.4754,2
49UP20220824_1,    P9,    41,  1,     25,     315,2,20220904,1203,1358, 10.9980, 136.9787, 5039,    453.8,      451,   7.7401,  34.4617,2,     78.2,2,  34.4611,2,    78.01,2,    49.49,2,    33.27,2,     0.00,2,    2.400,2, -999.000,9, -999.000,9,   2246.5,2,   2306.6,2,   7.5073,2,    25.00, -999.000,9,  -999.00,9,  -999.00,9,   7.6946,2,  26.8961,2,   7.7394,2
49UP20220824_1,    P9,    41,  1,     24,     753,2,20220904,1203,1356, 10.9980, 136.9787, 5039,    502.1,      499,   7.1566,  34.4945,2,     77.5,2,  34.4946,2,    77.33,2,    53.51,2,    34.69,2,     0.00,2,    2.500,2, -999.000,9, -999.000,9,   2255.3,2,   2313.5,2,   7.5016,2,    25.00, -999.000,9,  -999.00,9,  -999.00,9,   7.1083,2,  27.0055,2,   7.1569,2
49UP20220824_1,    P9,    41,  1,     23,     314,2,20220904,1203,1353, 10.9980, 136.9787, 5039,    602.7,      598,   6.4912,  34.4999,2,     86.0,2,  34.4997,2,    85.82,2,    59.93,2,    35.37,2,     0.00,2,    2.530,2, -999.000,9, -999.000,9,   2260.2,2,   2321.7,2,   7.5095,2,    25.00, -999.000,9,  -999.00,9,  -999.00,9,   6.4359,2,  27.1010,2,   6.4913,2
49UP20220824_1,    P9,    41,  1,     22,     313,2,20220904,1203,1350, 10.9980, 136.9787, 5039,    703.8,      699,   6.0314,  34.5051,2,     84.2,2,  34.5047,2,    84.35,2,    66.55,2,    36.28,2,     0.00,2,    2.610,2, -999.000,9, -999.000,9,   2270.7,2,   2328.7,2,   7.4963,2,    25.00, -999.000,9,  -999.00,9,  -999.00,9,   5.9687,2,  27.1655,2,   6.0315,2
49UP20220824_1,    P9,    41,  1,     21,     312,2,20220904,1203,1347, 10.9980, 136.9787, 5039,    806.5,      800,   5.4830,  34.5182,2,     77.5,2,  34.5179,2,    77.30,6,    76.30,6,    37.85,6,     0.00,6,    2.720,6, -999.000,9, -999.000,9,   2285.2,2,   2338.6,2,   7.4825,2,    25.00, -999.000,9,  -999.00,9,  -999.00,9,   5.4139,2,  27.2445,2,   5.4831,2
49UP20220824_1,    P9,    41,  1,     20,     311,2,20220904,1203,1344, 10.9980, 136.9787, 5039,    907.7,      901,   5.0038,  34.5302,2,     79.0,2,  34.5302,2,    78.75,2,    84.92,2,    38.44,2,     0.00,2,    2.760,2, -999.000,9, -999.000,9,   2295.5,2,   2348.0,2,   7.4826,2,    25.00, -999.000,9,  -999.00,9,  -999.00,9,   4.9287,2,  27.3110,2,   5.0034,2
49UP20220824_1,    P9,    41,  1,     19,     310,2,20220904,1203,1341, 10.9980, 136.9787, 5039,   1009.3,     1001,   4.5043,  34.5432,2,     78.2,2,  34.5431,2,    78.35,2,    94.74,2,    38.92,2,     0.00,2,    2.810,2, -999.000,9, -999.000,9,   2308.1,2,   2359.4,2,   7.4763,2,    25.00, -999.000,9,  -999.00,9,  -999.00,9,   4.4239,2,  27.3778,2,   4.5040,2
49UP20220824_1,    P9,    41,  1,     18,     752,2,20220904,1203,1336, 10.9980, 136.9787, 5039,   1211.4,     1201,   3.8862,  34.5621,2,     83.3,2,  34.5621,6,    83.26,2,   107.13,2,    39.35,2,     0.00,2,    2.820,2, -999.000,9, -999.000,9,   2319.1,2,   2371.3,2,   7.4848,2,    25.00, -999.000,9,  -999.00,9,  -999.00,9,   3.7936,2,  27.4590,2,   3.8858,2
49UP20220824_1,    P9,    41,  1,     17,     751,2,20220904,1203,1331, 10.9980, 136.9787, 5039,   1414.3,     1402,   3.2181,  34.5820,2,     90.9,2,  34.5817,2,    90.26,2,   121.21,2,    39.22,2,     0.00,2,    2.810,2, -999.000,9, -999.000,9,   2330.0,2,   2386.6,2,   7.4916,6,    25.00, -999.000,9,  -999.00,9,  -999.00,9,   3.1150,2,  27.5408,2,   3.2180,2
49UP20220824_1,    P9,    41,  1,     16,     328,2,20220904,1203,1326, 10.9980, 136.9787, 5039,   1616.6,     1601,   2.7051,  34.6002,2,     98.6,2,  34.5999,2,    98.92,2,   131.93,2,    39.03,2,     0.00,2,    2.780,2, -999.000,9, -999.000,9,   2337.1,6,   2397.3,6,   7.5007,2,    25.00, -999.000,9,  -999.00,9,  -999.00,9,   2.5910,2,  27.6024,2,   2.7050,2
49UP20220824_1,    P9,    41,  1,     15,     309,2,20220904,1203,1321, 10.9980, 136.9787, 5039,   1819.3,     1801,   2.3990,  34.6167,2,    106.0,2,  34.6167,2,   106.09,2,   137.45,2,    38.59,2,     0.00,2,    2.750,2, -999.000,9, -999.000,9,   2338.9,2,   2407.2,2,   7.5117,2,    25.00, -999.000,9,  -999.00,9,  -999.00,9,   2.2720,2,  27.6426,2,   2.3990,2
49UP20220824_1,    P9,    41,  1,     14,     326,2,20220904,1203,1316, 10.9980, 136.9787, 5039,   2022.8,     2002,   2.1607,  34.6331,2,    114.8,2,  34.6333,2,   114.76,2,   140.40,2,    38.17,2,     0.00,2,    2.710,2, -999.000,9, -999.000,9,   2337.3,2,   2406.7,2,   7.5267,2,    25.00, -999.000,9,  -999.00,9,  -999.00,9,   2.0199,2,  27.6762,2,   2.1610,2
49UP20220824_1,    P9,    41,  1,     13,     325,2,20220904,1203,1311, 10.9980, 136.9787, 5039,   2226.1,     2202,   2.0232,  34.6411,2,    119.6,2,  34.6413,6,   119.80,2,   142.42,2,    37.92,2,     0.00,2,    2.680,2, -999.000,9, -999.000,9,   2336.8,2,   2408.4,2,   7.5334,2,    25.00, -999.000,9,  -999.00,9,  -999.00,9,   1.8670,2,  27.6946,2,   2.0233,2
49UP20220824_1,    P9,    41,  1,     12,     324,3,20220904,1203,1306, 10.9980, 136.9787, 5039,   2429.7,     2402,   1.8772,  34.6495,2,    125.0,2,  34.6496,2,   125.13,6,   144.43,6,    37.55,6,     0.00,6,    2.650,6, -999.000,9, -999.000,9,   2336.0,2,   2412.5,2,   7.5420,2,    25.00, -999.000,9,  -999.00,9,  -999.00,9,   1.7056,2,  27.7137,2,   1.8773,2
49UP20220824_1,    P9,    41,  1,     11,     323,2,20220904,1203,1301, 10.9980, 136.9787, 5039,   2632.1,     2601,   1.7434,  34.6578,2,    131.5,2,  34.6579,2,   131.44,2,   145.83,2,    37.24,2,     0.00,2,    2.620,2, -999.000,9, -999.000,9,   2335.4,2,   2410.5,2,   7.5500,2,    25.00, -999.000,9,  -999.00,9,  -999.00,9,   1.5559,2,  27.7315,2,   1.7433,2
49UP20220824_1,    P9,    41,  1,     10,     322,2,20220904,1203,1256, 10.9980, 136.9787, 5039,   2836.5,     2801,   1.6691,  34.6635,2,    136.5,2,  34.6633,2,   136.75,2,   145.61,2,    36.84,2,     0.00,2,    2.600,2, -999.000,9, -999.000,9,   2331.6,2,   2417.1,2,   7.5577,2,    25.00, -999.000,9,  -999.00,9,  -999.00,9,   1.4641,2,  27.7427,2,   1.6693,2
49UP20220824_1,    P9,    41,  1,      9,     750,2,20220904,1203,1251, 10.9980, 136.9787, 5039,   3041.3,     3002,   1.6247,  34.6674,2,    140.4,2,  34.6671,2,   140.09,2,   145.48,2,    36.65,2,     0.00,2,    2.580,2, -999.000,9, -999.000,9,   2328.8,2,   2413.5,2,   7.5629,2,    25.00, -999.000,9,  -999.00,9,  -999.00,9,   1.4012,2,  27.7504,2,   1.6246,2
49UP20220824_1,    P9,    41,  1,      8,     320,2,20220904,1203,1245, 10.9980, 136.9787, 5039,   3294.8,     3251,   1.5703,  34.6727,2,    146.2,2,  34.6727,2,   146.02,2,   144.41,2,    36.35,2,     0.00,2,    2.550,2, -999.000,9, -999.000,9,   2327.4,2,   2412.4,2,   7.5726,2,    25.00, -999.000,9,  -999.00,9,  -999.00,9,   1.3232,2,  27.7602,2,   1.5702,2
49UP20220824_1,    P9,    41,  1,      7,     319,2,20220904,1203,1239, 10.9980, 136.9787, 5039,   3550.7,     3501,   1.5520,  34.6759,2,    149.5,2,  34.6756,2,   149.74,2,   143.68,2,    36.07,2,     0.00,2,    2.530,2, -999.000,9, -999.000,9,   2323.4,2,   2412.7,2,   7.5773,6,    25.00, -999.000,9,  -999.00,9,  -999.00,9,   1.2794,2,  27.7658,2,   1.5520,2
49UP20220824_1,    P9,    41,  1,      6,     318,2,20220904,1203,1233, 10.9980, 136.9787, 5039,   3806.9,     3752,   1.5326,  34.6795,2,    153.3,2,  34.6791,2,   153.03,2,   142.77,2,    35.79,2,     0.00,2,    2.510,2, -999.000,9, -999.000,9,   2321.4,6,   2412.2,6,   7.5830,2,    25.00, -999.000,9,  -999.00,9,  -999.00,9,   1.2336,2,  27.7719,2,   1.5324,2
49UP20220824_1,    P9,    41,  1,      5,     838,2,20220904,1203,1227, 10.9980, 136.9787, 5039,   4062.0,     4001,   1.5292,  34.6821,2,    156.1,2,  34.6814,6,   156.23,2,   141.73,2,    35.67,2,     0.00,2,    2.490,2, -999.000,9, -999.000,9,   2320.2,2,   2411.2,2,   7.5851,2,    25.00, -999.000,9,  -999.00,9,  -999.00,9,   1.2027,2,  27.7761,2,   1.5293,2
49UP20220824_1,    P9,    41,  1,      4,     316,2,20220904,1203,1221, 10.9980, 136.9787, 5039,   4318.3,     4251,   1.5367,  34.6835,2,    158.0,2,  34.6833,2,   158.08,2,   141.07,2,    35.55,2,     0.00,2,    2.480,2, -999.000,9, -999.000,9,   2318.4,2,   2409.3,2,   7.5884,2,    25.00, -999.000,9,  -999.00,9,  -999.00,9,   1.1814,2,  27.7788,2,   1.5367,2
49UP20220824_1,    P9,    41,  1,      3,     315,2,20220904,1203,1215, 10.9980, 136.9787, 5039,   4574.6,     4500,   1.5464,  34.6850,2,    159.7,2,  34.6848,2,   159.66,6,   140.53,6,    35.39,6,     0.00,6,    2.470,6, -999.000,9, -999.000,9,   2316.2,2,   2408.5,2,   7.5899,2,    25.00, -999.000,9,  -999.00,9,  -999.00,9,   1.1614,2,  27.7813,2,   1.5464,2
49UP20220824_1,    P9,    41,  1,      2,     314,2,20220904,1203,1209, 10.9980, 136.9787, 5039,   4832.4,     4751,   1.5625,  34.6861,2,    161.1,2,  34.6862,2,   161.67,2,   140.00,2,    35.29,2,     0.00,2,    2.460,2, -999.000,9, -999.000,9,   2315.1,2,   2408.6,2,   7.5917,2,    25.00, -999.000,9,  -999.00,9,  -999.00,9,   1.1465,2,  27.7832,2,   1.5624,2
49UP20220824_1,    P9,    41,  1,      1,     308,2,20220904,1203,1203, 10.9980, 136.9787, 5039,   5093.4,     5005,   1.5888,  34.6864,2,    162.0,2,  34.6864,2,   161.89,2,   139.34,2,    35.27,2,     0.00,2,    2.460,2, -999.000,9, -999.000,9,   2315.4,2,   2408.4,2,   7.5946,2,    25.00, -999.000,9,  -999.00,9,  -999.00,9,   1.1401,2,  27.7839,2,   1.5888,2