BOTTLE,20230330JMAAMD
EXPOCODE,SECT_ID,STNNBR,CASTNO,SAMPNO,BTLNBR,BTLNBR_FLAG_U,DATE,TIME,BTL_TIME,LATITUDE,LONGITUDE,DEPTH,CTDPRS,CTDDEP,CTDTMP,CTDSAL,CTDSAL_FLAG_W,CTDOXY,CTDOXY_FLAG_W,SALNTY,SALNTY_FLAG_W,OXYGEN,OXYGEN_FLAG_W,SILCAT,SILCAT_FLAG_W,NO2+NO3,NO2+NO3_FLAG_W,NITRIT,NITRIT_FLAG_W,PHSPHT,PHSPHT_FLAG_W,CFC-11,CFC-11_FLAG_W,CFC-12,CFC-12_FLAG_W,TCARBN,TCARBN_FLAG_W,ALKALI,ALKALI_FLAG_W,PH_TS,PH_TS_FLAG_W,PH_TS_TMP,CFC113,CFC113_FLAG_W,CHLORA,CHLORA_FLAG_W,PPHYTN,PPHYTN_FLAG_W,THETA,THETA_FLAG_W,SIGTHT,SIGTHT_FLAG_W,SBE35,SBE35_FLAG_W
,,,,,,,,UTC,,,,METER,DBAR,METERS,ITS-90,PSS-78,,UMOL/KG,,PSS78,,UMOL/KG,,UMOL/KG,,UMOL/KG,,UMOL/KG,,UMOL/KG,,PMOL/KG,,PMOL/KG,,UMOL/KG,,UMOL/KG,,,,ITS-90,PMOL/KG,,UG/KG,,UG/KG,,ITS-90,,KG/M3,,ITS-90,
49UP20220727_1,    P9,    18,  1,      0,      -9,0,20220811,0106,0245,  2.6832, 138.5038, 4361,      0.0,        0,  30.4257,  34.6436,2,    193.0,2,-999.0000,9,   193.16,2,     1.29,2,     0.01,2,     0.00,2,    0.170,2, -999.000,9, -999.000,9,   -999.0,9,   -999.0,9,-999.0000,9,  -999.00, -999.000,9,  -999.00,9,  -999.00,9,  30.4251,2,  21.3133,2,-999.0000,9
49UP20220727_1,    P9,    18,  1,     36,     757,2,20220811,0106,0319,  2.6832, 138.5038, 4361,     11.1,       11,  30.2292,  34.6451,2,    193.4,2,  34.6454,2,   194.29,2,     1.30,2,     0.05,2,     0.00,2,    0.150,2, -999.000,9, -999.000,9,   -999.0,9,   -999.0,9,-999.0000,9,  -999.00, -999.000,9,  -999.00,9,  -999.00,9,  30.2265,2,  21.3827,2,  30.2350,2
49UP20220727_1,    P9,    18,  1,     35,     756,2,20220811,0106,0317,  2.6832, 138.5038, 4361,     26.8,       27,  30.0725,  34.6420,2,    194.3,2,  34.6468,2,   194.95,6,     1.24,6,     0.03,6,     0.00,6,    0.150,6, -999.000,9, -999.000,9,   -999.0,9,   -999.0,9,-999.0000,9,  -999.00, -999.000,9,  -999.00,9,  -999.00,9,  30.0659,2,  21.4353,2,  30.0736,2
49UP20220727_1,    P9,    18,  1,     34,     323,2,20220811,0106,0311,  2.6832, 138.5038, 4361,     51.2,       51,  30.1977,  35.1399,2,    194.4,2,  35.1419,2,   194.63,2,     1.26,2,     0.01,2,     0.00,2,    0.190,2, -999.000,9, -999.000,9,   -999.0,9,   -999.0,9,-999.0000,9,  -999.00, -999.000,9,  -999.00,9,  -999.00,9,  30.1849,2,  21.7677,2,  30.1990,2
49UP20220727_1,    P9,    18,  1,     33,     322,2,20220811,0106,0310,  2.6832, 138.5038, 4361,     76.5,       76,  29.3577,  35.2059,2,    176.5,2,  35.2032,2,   177.09,2,     1.59,2,     2.17,2,     0.39,2,    0.340,2, -999.000,9, -999.000,9,   -999.0,9,   -999.0,9,-999.0000,9,  -999.00, -999.000,9,  -999.00,9,  -999.00,9,  29.3390,2,  22.1049,2,  29.3566,2
49UP20220727_1,    P9,    18,  1,     32,     321,2,20220811,0106,0308,  2.6832, 138.5038, 4361,    101.1,      101,  29.4931,  35.3775,2,    181.7,2,  35.3779,2,   181.43,6,     1.61,6,     2.44,6,     0.78,6,    0.370,6, -999.000,9, -999.000,9,   -999.0,9,   -999.0,9,-999.0000,9,  -999.00, -999.000,9,  -999.00,9,  -999.00,9,  29.4683,2,  22.1900,2,  29.4921,2
49UP20220727_1,    P9,    18,  1,     31,     320,2,20220811,0106,0307,  2.6832, 138.5038, 4361,    126.9,      126,  28.3334,  35.2434,2,    156.9,2,  35.2417,2,   156.49,2,     2.35,2,     5.36,2,     0.04,2,    0.530,2, -999.000,9, -999.000,9,   -999.0,9,   -999.0,9,-999.0000,9,  -999.00, -999.000,9,  -999.00,9,  -999.00,9,  28.3032,2,  22.4781,2,  28.3353,2
49UP20220727_1,    P9,    18,  1,     30,     319,2,20220811,0106,0305,  2.6832, 138.5038, 4361,    151.0,      150,  26.7243,  35.2815,2,    143.1,2,  35.2824,2,   143.76,2,     3.23,2,     7.41,2,     0.02,2,    0.640,2, -999.000,9, -999.000,9,   -999.0,9,   -999.0,9,-999.0000,9,  -999.00, -999.000,9,  -999.00,9,  -999.00,9,  26.6899,2,  23.0286,2,  26.6988,2
49UP20220727_1,    P9,    18,  1,     29,     318,2,20220811,0106,0303,  2.6832, 138.5038, 4361,    200.8,      200,  21.3995,  35.0729,2,    136.0,2,  35.0777,2,   137.15,2,     7.48,2,    10.16,2,     0.01,2,    0.800,2, -999.000,9, -999.000,9,   -999.0,9,   -999.0,9,-999.0000,9,  -999.00, -999.000,9,  -999.00,9,  -999.00,9,  21.3605,2,  24.4508,2,  21.3553,2
49UP20220727_1,    P9,    18,  1,     28,     755,2,20220811,0106,0301,  2.6832, 138.5038, 4361,    251.8,      250,  11.9382,  34.4861,2,    108.5,2,  34.4878,2,   108.32,2,    25.36,2,    22.69,2,     0.00,2,    1.650,2, -999.000,9, -999.000,9,   -999.0,9,   -999.0,9,-999.0000,9,  -999.00, -999.000,9,  -999.00,9,  -999.00,9,  11.9055,2,  26.2079,2,  11.9262,2
49UP20220727_1,    P9,    18,  1,     27,     317,2,20220811,0106,0259,  2.6832, 138.5038, 4361,    282.3,      281,  10.5366,  34.4823,2,     93.7,2,  34.4876,2,    92.81,2,    31.57,2,    26.90,2,     0.00,2,    1.940,2, -999.000,9, -999.000,9,   -999.0,9,   -999.0,9,-999.0000,9,  -999.00, -999.000,9,  -999.00,9,  -999.00,9,  10.5028,2,  26.4608,2,  10.5330,2
49UP20220727_1,    P9,    18,  1,     26,     316,2,20220811,0106,0257,  2.6832, 138.5038, 4361,    322.4,      320,   9.2361,  34.5384,2,     82.7,2,  34.5395,2,    83.07,2,    36.72,2,    30.70,2,     0.00,2,    2.180,2, -999.000,9, -999.000,9,   -999.0,9,   -999.0,9,-999.0000,9,  -999.00, -999.000,9,  -999.00,9,  -999.00,9,   9.2005,2,  26.7244,2,   9.2354,2
49UP20220727_1,    P9,    18,  1,     25,     315,2,20220811,0106,0255,  2.6832, 138.5038, 4361,    374.2,      372,   8.5747,  34.6087,2,    122.9,2,  34.6084,2,   123.39,2,    29.85,2,    28.80,2,     0.00,2,    2.020,2, -999.000,9, -999.000,9,   -999.0,9,   -999.0,9,-999.0000,9,  -999.00, -999.000,9,  -999.00,9,  -999.00,9,   8.5350,2,  26.8851,2,   8.5752,2
49UP20220727_1,    P9,    18,  1,     24,     753,2,20220811,0106,0253,  2.6832, 138.5038, 4361,    423.1,      420,   8.1376,  34.5804,2,    129.2,2,  34.5808,2,   128.50,2,    31.95,2,    29.03,2,     0.00,2,    2.040,2, -999.000,9, -999.000,9,   -999.0,9,   -999.0,9,-999.0000,9,  -999.00, -999.000,9,  -999.00,9,  -999.00,9,   8.0940,2,  26.9302,2,   8.1374,2
49UP20220727_1,    P9,    18,  1,     23,     314,2,20220811,0106,0251,  2.6832, 138.5038, 4361,    473.5,      470,   7.9753,  34.5760,2,    130.0,2,  34.5761,2,   129.54,2,    32.20,2,    29.40,2,     0.00,2,    2.060,2, -999.000,9, -999.000,9,   -999.0,9,   -999.0,9,-999.0000,9,  -999.00, -999.000,9,  -999.00,9,  -999.00,9,   7.9269,2,  26.9517,2,   7.9746,2
49UP20220727_1,    P9,    18,  1,     22,     313,2,20220811,0106,0248,  2.6832, 138.5038, 4361,    574.6,      571,   7.2217,  34.5415,2,    123.8,2,  34.5418,2,   123.49,2,    38.45,2,    31.37,2,     0.00,2,    2.210,2, -999.000,9, -999.000,9,   -999.0,9,   -999.0,9,-999.0000,9,  -999.00, -999.000,9,  -999.00,9,  -999.00,9,   7.1659,2,  27.0345,2,   7.2218,2
49UP20220727_1,    P9,    18,  1,     21,     312,2,20220811,0106,0245,  2.6832, 138.5038, 4361,    676.5,      672,   6.4236,  34.5300,2,    104.2,2,  34.5305,2,   104.39,6,    51.72,6,    34.62,6,     0.00,6,    2.450,6, -999.000,9, -999.000,9,   -999.0,9,   -999.0,9,-999.0000,9,  -999.00, -999.000,9,  -999.00,9,  -999.00,9,   6.3614,2,  27.1346,2,   6.4232,2
49UP20220727_1,    P9,    18,  1,     20,     311,2,20220811,0106,0242,  2.6832, 138.5038, 4361,    777.4,      772,   5.7328,  34.5298,2,     99.0,2,  34.5301,2,    98.73,2,    63.02,2,    36.21,2,     0.00,2,    2.570,2, -999.000,9, -999.000,9,   -999.0,9,   -999.0,9,-999.0000,9,  -999.00, -999.000,9,  -999.00,9,  -999.00,9,   5.6649,2,  27.2231,2,   5.7325,2
49UP20220727_1,    P9,    18,  1,     19,     310,2,20220811,0106,0239,  2.6832, 138.5038, 4361,    879.0,      872,   5.0269,  34.5415,2,     91.3,2,  34.5421,2,    91.32,2,    76.56,2,    37.93,2,     0.00,2,    2.700,2, -999.000,9, -999.000,9,   -999.0,9,   -999.0,9,-999.0000,9,  -999.00, -999.000,9,  -999.00,9,  -999.00,9,   4.9542,2,  27.3171,2,   5.0269,2
49UP20220727_1,    P9,    18,  1,     18,     752,2,20220811,0106,0236,  2.6832, 138.5038, 4361,    979.1,      971,   4.5282,  34.5525,2,     93.1,2,  34.5527,2,    93.42,2,    87.87,2,    38.14,2,     0.00,2,    2.720,2, -999.000,9, -999.000,9,   -999.0,9,   -999.0,9,-999.0000,9,  -999.00, -999.000,9,  -999.00,9,  -999.00,9,   4.4502,2,  27.3822,2,   4.5284,2
49UP20220727_1,    P9,    18,  1,     17,     751,2,20220811,0106,0232,  2.6832, 138.5038, 4361,   1140.5,     1131,   3.7260,  34.5748,2,    100.6,2,  34.5745,6,   100.57,2,   103.01,2,    38.38,2,     0.00,2,    2.720,2, -999.000,9, -999.000,9,   -999.0,9,   -999.0,9,-999.0000,9,  -999.00, -999.000,9,  -999.00,9,  -999.00,9,   3.6408,2,  27.4844,2,   3.7259,2
49UP20220727_1,    P9,    18,  1,     16,     328,2,20220811,0106,0227,  2.6832, 138.5038, 4361,   1343.5,     1332,   3.3827,  34.5859,2,    102.8,2,  34.5860,2,   102.50,2,   110.36,2,    38.38,2,     0.00,2,    2.730,2, -999.000,9, -999.000,9,   -999.0,9,   -999.0,9,-999.0000,9,  -999.00, -999.000,9,  -999.00,9,  -999.00,9,   3.2837,2,  27.5281,2,   3.3817,2
49UP20220727_1,    P9,    18,  1,     15,     309,2,20220811,0106,0221,  2.6832, 138.5038, 4361,   1546.1,     1532,   3.0410,  34.5979,2,    104.2,2,  34.5983,2,   104.33,2,   118.58,2,    38.50,2,     0.00,2,    2.740,2, -999.000,9, -999.000,9,   -999.0,9,   -999.0,9,-999.0000,9,  -999.00, -999.000,9,  -999.00,9,  -999.00,9,   2.9287,2,  27.5706,2,   3.0411,2
49UP20220727_1,    P9,    18,  1,     14,     326,2,20220811,0106,0216,  2.6832, 138.5038, 4361,   1748.0,     1731,   2.6506,  34.6141,2,    108.0,2,  34.6137,2,   108.03,2,   127.65,2,    38.47,2,     0.00,2,    2.730,2, -999.000,9, -999.000,9,   -999.0,9,   -999.0,9,-999.0000,9,  -999.00, -999.000,9,  -999.00,9,  -999.00,9,   2.5261,2,  27.6191,2,   2.6512,2
49UP20220727_1,    P9,    18,  1,     13,     325,2,20220811,0106,0211,  2.6832, 138.5038, 4361,   1951.5,     1932,   2.3172,  34.6297,2,    113.6,2,  34.6306,2,   113.51,2,   134.85,2,    38.17,2,     0.00,2,    2.700,2, -999.000,9, -999.000,9,   -999.0,9,   -999.0,9,-999.0000,9,  -999.00, -999.000,9,  -999.00,9,  -999.00,9,   2.1801,2,  27.6606,2,   2.3172,2
49UP20220727_1,    P9,    18,  1,     12,     324,2,20220811,0106,0206,  2.6832, 138.5038, 4361,   2154.5,     2132,   2.0652,  34.6434,2,    119.0,2,  34.6444,2,   119.20,2,   140.05,2,    37.93,2,     0.00,2,    2.670,2, -999.000,9, -999.000,9,   -999.0,9,   -999.0,9,-999.0000,9,  -999.00, -999.000,9,  -999.00,9,  -999.00,9,   1.9145,2,  27.6927,2,   2.0652,2
49UP20220727_1,    P9,    18,  1,     11,     323,2,20220811,0106,0201,  2.6832, 138.5038, 4361,   2357.5,     2331,   1.8853,  34.6532,2,    125.7,2,  34.6535,2,   125.90,2,   143.24,2,    37.78,2,     0.00,2,    2.640,2, -999.000,9, -999.000,9,   -999.0,9,   -999.0,9,-999.0000,9,  -999.00, -999.000,9,  -999.00,9,  -999.00,9,   1.7198,2,  27.7156,2,   1.8852,2
49UP20220727_1,    P9,    18,  1,     10,     322,2,20220811,0106,0156,  2.6832, 138.5038, 4361,   2562.1,     2533,   1.7611,  34.6597,2,    132.6,2,  34.6597,6,   132.53,2,   143.54,2,    37.25,2,     0.00,2,    2.600,2, -999.000,9, -999.000,9,   -999.0,9,   -999.0,9,-999.0000,9,  -999.00, -999.000,9,  -999.00,9,  -999.00,9,   1.5796,2,  27.7313,2,   1.7610,2
49UP20220727_1,    P9,    18,  1,      9,     750,2,20220811,0106,0150,  2.6832, 138.5038, 4361,   2764.0,     2731,   1.6650,  34.6653,2,    138.3,2,  34.6658,2,   138.23,2,   143.67,2,    36.88,2,     0.00,2,    2.570,2, -999.000,9, -999.000,9,   -999.0,9,   -999.0,9,-999.0000,9,  -999.00, -999.000,9,  -999.00,9,  -999.00,9,   1.4669,2,  27.7440,2,   1.6650,2
49UP20220727_1,    P9,    18,  1,      8,     320,2,20220811,0106,0145,  2.6832, 138.5038, 4361,   2967.9,     2931,   1.6099,  34.6694,2,    142.1,2,  34.6690,2,   136.64,4,   144.22,2,    36.67,2,     0.00,2,    2.550,2, -999.000,9, -999.000,9,   -999.0,9,   -999.0,9,-999.0000,9,  -999.00, -999.000,9,  -999.00,9,  -999.00,9,   1.3938,2,  27.7525,2,   1.6099,2
49UP20220727_1,    P9,    18,  1,      7,     319,2,20220811,0106,0137,  2.6832, 138.5038, 4361,   3211.6,     3170,   1.5642,  34.6736,2,    145.9,2,  34.6736,6,   146.05,2,   144.05,2,    36.42,2,     0.00,2,    2.530,2, -999.000,9, -999.000,9,   -999.0,9,   -999.0,9,-999.0000,9,  -999.00, -999.000,9,  -999.00,9,  -999.00,9,   1.3255,2,  27.7608,2,   1.5643,2
49UP20220727_1,    P9,    18,  1,      6,     318,2,20220811,0106,0130,  2.6832, 138.5038, 4361,   3467.9,     3421,   1.5599,  34.6758,2,    147.5,2,  34.6757,2,   147.21,6,   144.08,6,    36.33,6,     0.00,6,    2.530,6, -999.000,9, -999.000,9,   -999.0,9,   -999.0,9,-999.0000,9,  -999.00, -999.000,9,  -999.00,9,  -999.00,9,   1.2956,2,  27.7647,2,   1.5599,2
49UP20220727_1,    P9,    18,  1,      5,     838,2,20220811,0106,0124,  2.6832, 138.5038, 4361,   3724.5,     3672,   1.5530,  34.6785,2,    149.2,2,  34.6786,2,   148.86,2,   144.02,2,    36.17,2,     0.00,2,    2.510,2, -999.000,9, -999.000,9,   -999.0,9,   -999.0,9,-999.0000,9,  -999.00, -999.000,9,  -999.00,9,  -999.00,9,   1.2623,2,  27.7691,2,   1.5530,2
49UP20220727_1,    P9,    18,  1,      4,     316,2,20220811,0106,0124,  2.6832, 138.5038, 4361,   3724.7,     3672,   1.5530,  34.6785,2,    149.2,2,  34.6783,2,   149.31,2,   143.97,2,    36.15,2,     0.00,2,    2.520,2, -999.000,9, -999.000,9,   -999.0,9,   -999.0,9,-999.0000,9,  -999.00, -999.000,9,  -999.00,9,  -999.00,9,   1.2622,2,  27.7691,2,   1.5530,2
49UP20220727_1,    P9,    18,  1,      3,     315,2,20220811,0106,0118,  2.6832, 138.5038, 4361,   3980.8,     3922,   1.5252,  34.6832,2,    152.7,2,  34.6831,2,   152.68,2,   144.00,2,    36.06,2,     0.00,2,    2.500,2, -999.000,9, -999.000,9,   -999.0,9,   -999.0,9,-999.0000,9,  -999.00, -999.000,9,  -999.00,9,  -999.00,9,   1.2076,2,  27.7767,2,   1.5250,2
49UP20220727_1,    P9,    18,  1,      2,     314,2,20220811,0106,0112,  2.6832, 138.5038, 4361,   4236.8,     4172,   1.5224,  34.6855,2,    155.4,2,  34.6851,2,   155.48,2,   143.04,2,    35.81,2,     0.00,2,    2.480,2, -999.000,9, -999.000,9,   -999.0,9,   -999.0,9,-999.0000,9,  -999.00, -999.000,9,  -999.00,9,  -999.00,9,   1.1767,2,  27.7806,2,   1.5225,2
49UP20220727_1,    P9,    18,  1,      1,     308,2,20220811,0106,0107,  2.6832, 138.5038, 4361,   4430.7,     4361,   1.5345,  34.6862,2,    156.8,2,  34.6854,6,   156.59,2,   142.87,2,    35.77,2,     0.00,2,    2.470,2, -999.000,9, -999.000,9,   -999.0,9,   -999.0,9,-999.0000,9,  -999.00, -999.000,9,  -999.00,9,  -999.00,9,   1.1665,2,  27.7820,2,   1.5345,2