BOTTLE,20230330JMAAMD
EXPOCODE,SECT_ID,STNNBR,CASTNO,SAMPNO,BTLNBR,BTLNBR_FLAG_U,DATE,TIME,BTL_TIME,LATITUDE,LONGITUDE,DEPTH,CTDPRS,CTDDEP,CTDTMP,CTDSAL,CTDSAL_FLAG_W,CTDOXY,CTDOXY_FLAG_W,SALNTY,SALNTY_FLAG_W,OXYGEN,OXYGEN_FLAG_W,SILCAT,SILCAT_FLAG_W,NO2+NO3,NO2+NO3_FLAG_W,NITRIT,NITRIT_FLAG_W,PHSPHT,PHSPHT_FLAG_W,CFC-11,CFC-11_FLAG_W,CFC-12,CFC-12_FLAG_W,TCARBN,TCARBN_FLAG_W,ALKALI,ALKALI_FLAG_W,PH_TS,PH_TS_FLAG_W,PH_TS_TMP,CFC113,CFC113_FLAG_W,CHLORA,CHLORA_FLAG_W,PPHYTN,PPHYTN_FLAG_W,THETA,THETA_FLAG_W,SIGTHT,SIGTHT_FLAG_W,SBE35,SBE35_FLAG_W
,,,,,,,,UTC,,,,METER,DBAR,METERS,ITS-90,PSS-78,,UMOL/KG,,PSS78,,UMOL/KG,,UMOL/KG,,UMOL/KG,,UMOL/KG,,UMOL/KG,,PMOL/KG,,PMOL/KG,,UMOL/KG,,UMOL/KG,,,,ITS-90,PMOL/KG,,UG/KG,,UG/KG,,ITS-90,,KG/M3,,ITS-90,
49UP20220824_1,    P9,    61,  1,      0,      -9,0,20220911,1323,1455, 21.0022, 137.0147, 4848,      0.0,        0,  30.1700,  34.1489,2,    192.7,2,  34.1548,2,   193.50,2,     1.18,2,     0.01,2,     0.00,2,    0.020,2, -999.000,9, -999.000,9,   1922.2,2,   2240.5,2,   8.1024,2,    25.00, -999.000,9,     0.04,2,     0.02,2,  30.1694,2,  21.0305,2,-999.0000,9
49UP20220824_1,    P9,    61,  1,     36,     757,2,20220911,1323,1534, 21.0022, 137.0147, 4848,     11.0,       11,  30.1722,  34.1485,2,    192.7,2,  34.1475,2,   193.69,2,     1.14,2,     0.00,2,     0.00,2,    0.000,2, -999.000,9, -999.000,9,   1922.9,2,   2242.5,2,   8.1043,2,    25.00, -999.000,9,     0.04,2,     0.01,2,  30.1695,2,  21.0301,2,  30.1741,2
49UP20220824_1,    P9,    61,  1,     35,     756,2,20220911,1323,1533, 21.0022, 137.0147, 4848,     26.4,       26,  30.0520,  34.1572,2,    194.2,2,  34.1624,2,   195.70,2,     1.14,2,     0.00,2,     0.00,2,    0.000,2, -999.000,9, -999.000,9,   1924.1,2,   2243.4,2,   8.1024,2,    25.00, -999.000,9,     0.05,2,     0.02,2,  30.0455,2,  21.0790,2,  30.0505,2
49UP20220824_1,    P9,    61,  1,     34,     323,2,20220911,1323,1529, 21.0022, 137.0147, 4848,     51.5,       51,  25.2734,  34.6682,2,    212.6,2,  34.6681,2,   212.35,2,     1.31,2,     0.00,2,     0.00,2,    0.010,2, -999.000,9, -999.000,9,   1969.3,2,   2276.2,2,   8.0648,2,    25.00, -999.000,9,     0.09,2,     0.03,2,  25.2622,2,  23.0106,2,  25.2770,2
49UP20220824_1,    P9,    61,  1,     33,     322,2,20220911,1323,1527, 21.0022, 137.0147, 4848,     75.4,       75,  23.8171,  34.7269,2,    210.0,2,  34.7272,2,   210.30,2,     1.43,2,     0.00,2,     0.00,2,    0.010,2, -999.000,9, -999.000,9,   1984.9,2,   2279.6,2,   8.0479,6,    25.00, -999.000,9,     0.12,2,     0.08,2,  23.8014,2,  23.4932,2,  23.8171,2
49UP20220824_1,    P9,    61,  1,     32,     321,2,20220911,1323,1526, 21.0022, 137.0147, 4848,    100.6,      100,  22.5426,  34.8413,2,    204.4,2,  34.8409,2,   204.92,2,     1.63,2,     0.00,2,     0.00,2,    0.020,2, -999.000,9, -999.000,9,   2007.0,6,   2288.5,6,   8.0218,2,    25.00, -999.000,9,     0.20,2,     0.31,2,  22.5224,2,  23.9499,2,  22.5370,2
49UP20220824_1,    P9,    61,  1,     31,     320,2,20220911,1323,1524, 21.0022, 137.0147, 4848,    125.8,      125,  20.7698,  34.8106,2,    202.4,2,  34.8126,2,   202.19,2,     2.08,2,     0.90,2,     0.17,2,    0.080,2, -999.000,9, -999.000,9,   2022.1,2,   2285.4,2,   7.9914,2,    25.00, -999.000,9,     0.13,2,     0.36,2,  20.7460,2,  24.4185,2,  20.7692,2
49UP20220824_1,    P9,    61,  1,     30,     319,2,20220911,1323,1522, 21.0022, 137.0147, 4848,    151.8,      151,  19.9955,  34.7998,2,    201.5,2,  34.8003,2,   201.88,2,     2.41,2,     1.70,2,     0.04,2,    0.130,2, -999.000,9, -999.000,9,   2027.3,2,   2285.0,2,   7.9801,2,    25.00, -999.000,9,     0.07,2,     0.24,2,  19.9675,2,  24.6176,2,  20.0019,2
49UP20220824_1,    P9,    61,  1,     29,     318,2,20220911,1323,1520, 21.0022, 137.0147, 4848,    201.7,      200,  18.3976,  34.7920,2,    202.5,2,  34.7930,2,   201.98,2,     3.00,2,     3.03,2,     0.01,2,    0.210,2, -999.000,9, -999.000,9,   2041.0,2,   2283.4,2,   7.9522,2,    25.00, -999.000,9,     0.02,2,     0.05,2,  18.3624,2,  25.0229,2,  18.4042,2
49UP20220824_1,    P9,    61,  1,     28,     755,2,20220911,1323,1518, 21.0022, 137.0147, 4848,    252.1,      250,  17.0499,  34.7184,2,    189.7,2,  34.7194,2,   190.40,6,     5.58,6,     6.36,6,     0.01,6,    0.440,6, -999.000,9, -999.000,9,   2064.8,2,   2280.4,2,   7.9034,2,    25.00, -999.000,9,  -999.00,9,  -999.00,9,  17.0082,2,  25.2962,2,  17.0520,2
49UP20220824_1,    P9,    61,  1,     27,     317,2,20220911,1323,1515, 21.0022, 137.0147, 4848,    333.4,      331,  14.4018,  34.5237,2,    185.0,2,  34.5242,2,   185.11,2,    11.91,2,    10.92,2,     0.00,2,    0.750,2, -999.000,9, -999.000,9,   2093.0,2,   2274.8,2,   7.8341,2,    25.00, -999.000,9,  -999.00,9,  -999.00,9,  14.3527,2,  25.7444,2,  14.4008,2
49UP20220824_1,    P9,    61,  1,     26,     316,2,20220911,1323,1512, 21.0022, 137.0147, 4848,    435.0,      432,  11.2584,  34.2893,2,    168.3,2,  34.2905,2,   168.80,2,    23.13,2,    17.53,2,     0.00,2,    1.240,2, -999.000,9, -999.000,9,   2136.3,2,   2272.2,2,   7.7259,2,    25.00, -999.000,9,  -999.00,9,  -999.00,9,  11.2038,2,  26.1852,2,  11.2584,2
49UP20220824_1,    P9,    61,  1,     25,     315,2,20220911,1323,1509, 21.0022, 137.0147, 4848,    534.9,      531,   8.6700,  34.1590,2,    143.8,2,  34.1602,2,   144.13,2,    40.77,2,    24.52,2,     0.00,2,    1.750,2, -999.000,9, -999.000,9,   2184.1,2,   2279.1,2,   7.6197,2,    25.00, -999.000,9,  -999.00,9,  -999.00,9,   8.6127,2,  26.5204,2,   8.6722,2
49UP20220824_1,    P9,    61,  1,     24,     753,2,20220911,1323,1506, 21.0022, 137.0147, 4848,    636.0,      631,   6.6894,  34.1680,2,     93.4,2,  34.1672,2,    93.29,2,    63.04,2,    32.77,2,     0.00,2,    2.360,2, -999.000,9, -999.000,9,   2246.8,2,   2299.1,2,   7.4888,6,    25.00, -999.000,9,  -999.00,9,  -999.00,9,   6.6303,2,  26.8134,2,   6.6887,2
49UP20220824_1,    P9,    61,  1,     23,     314,2,20220911,1323,1503, 21.0022, 137.0147, 4848,    736.8,      731,   5.5124,  34.2062,2,     73.6,2,  34.2057,2,    73.44,2,    81.96,2,    36.58,2,     0.00,2,    2.630,2, -999.000,9, -999.000,9,   2282.8,6,   2318.4,6,   7.4333,2,    25.00, -999.000,9,  -999.00,9,  -999.00,9,   5.4499,2,  26.9931,2,   5.5131,2
49UP20220824_1,    P9,    61,  1,     22,     313,2,20220911,1323,1459, 21.0022, 137.0147, 4848,    841.1,      834,   4.3894,  34.3022,2,     59.6,2,  34.3009,2,    59.27,2,   104.69,2,    39.42,2,     0.00,2,    2.830,2, -999.000,9, -999.000,9,   2317.8,2,   2343.1,2,   7.4068,2,    25.00, -999.000,9,  -999.00,9,  -999.00,9,   4.3245,2,  27.1970,2,   4.3905,2
49UP20220824_1,    P9,    61,  1,     21,     312,2,20220911,1323,1456, 21.0022, 137.0147, 4848,    940.7,      933,   3.8487,  34.3830,2,     57.9,2,  34.3823,2,    57.35,2,   116.49,2,    40.39,2,     0.00,2,    2.890,2, -999.000,9, -999.000,9,   2331.4,2,   2360.8,2,   7.4090,2,    25.00, -999.000,9,  -999.00,9,  -999.00,9,   3.7792,2,  27.3179,2,   3.8486,2
49UP20220824_1,    P9,    61,  1,     20,     311,2,20220911,1323,1452, 21.0022, 137.0147, 4848,   1083.2,     1074,   3.4228,  34.4640,2,     67.0,2,  34.4623,2,    66.90,2,   124.29,2,    40.26,2,     0.00,2,    2.870,2, -999.000,9, -999.000,9,   2338.0,2,   2374.7,2,   7.4336,2,    25.00, -999.000,9,  -999.00,9,  -999.00,9,   3.3450,2,  27.4250,2,   3.4276,2
49UP20220824_1,    P9,    61,  1,     19,     310,2,20220911,1323,1446, 21.0022, 137.0147, 4848,   1277.9,     1266,   2.8771,  34.5153,2,     77.8,2,  34.5149,2,    77.88,6,   135.24,6,    40.00,6,     0.00,6,    2.840,6, -999.000,9, -999.000,9,   2344.1,2,   2387.6,2,   7.4548,2,    25.00, -999.000,9,  -999.00,9,  -999.00,9,   2.7888,2,  27.5172,2,   2.8770,2
49UP20220824_1,    P9,    61,  1,     18,     752,2,20220911,1323,1442, 21.0022, 137.0147, 4848,   1484.0,     1470,   2.5220,  34.5668,2,     95.9,2,  34.5669,2,    95.96,2,   139.08,2,    39.00,2,     0.00,2,    2.760,2, -999.000,9, -999.000,9,   2342.5,2,   2398.0,2,   7.4912,2,    25.00, -999.000,9,  -999.00,9,  -999.00,9,   2.4209,2,  27.5902,2,   2.5216,2
49UP20220824_1,    P9,    61,  1,     17,     751,2,20220911,1323,1437, 21.0022, 137.0147, 4848,   1686.0,     1669,   2.2804,  34.5916,2,    104.7,2,  34.5927,4,   104.56,2,   141.28,2,    38.67,2,     0.00,2,    2.730,2, -999.000,9, -999.000,9,   2341.3,2,   2401.3,2,   7.5040,2,    25.00, -999.000,9,  -999.00,9,  -999.00,9,   2.1661,2,  27.6312,2,   2.2805,2
49UP20220824_1,    P9,    61,  1,     16,     328,2,20220911,1323,1433, 21.0022, 137.0147, 4848,   1885.3,     1865,   2.0875,  34.6182,2,    114.7,2,  34.6218,4,   114.70,2,   142.21,2,    38.18,2,     0.00,2,    2.680,2, -999.000,9, -999.000,9,   2336.5,2,   2406.9,2,   7.5193,2,    25.00, -999.000,9,  -999.00,9,  -999.00,9,   1.9593,2,  27.6690,2,   2.0874,2
49UP20220824_1,    P9,    61,  1,     15,     309,2,20220911,1323,1428, 21.0022, 137.0147, 4848,   2097.6,     2074,   1.9259,  34.6299,2,    120.6,2,  34.6311,4,   120.63,2,   143.68,2,    37.91,2,     0.00,2,    2.660,2, -999.000,9, -999.000,9,   2337.2,2,   2409.2,2,   7.5304,2,    25.00, -999.000,9,  -999.00,9,  -999.00,9,   1.7824,2,  27.6921,2,   1.9259,2
49UP20220824_1,    P9,    61,  1,     14,     326,2,20220911,1323,1423, 21.0022, 137.0147, 4848,   2293.1,     2267,   1.8301,  34.6397,2,    125.8,2,  34.6411,4,   125.55,2,   144.43,2,    37.70,2,     0.00,2,    2.630,2, -999.000,9, -999.000,9,   2336.3,2,   2409.9,2,   7.5399,2,    25.00, -999.000,9,  -999.00,9,  -999.00,9,   1.6714,2,  27.7084,2,   1.8301,2
49UP20220824_1,    P9,    61,  1,     12,     324,2,20220911,1323,1418, 21.0022, 137.0147, 4848,   2503.8,     2474,   1.7410,  34.6483,2,    131.1,2,  34.6478,2,   131.04,2,   144.82,2,    37.34,2,     0.00,2,    2.610,2, -999.000,9, -999.000,9,   2333.2,2,   2412.4,2,   7.5487,2,    25.00, -999.000,9,  -999.00,9,  -999.00,9,   1.5653,2,  27.7231,2,   1.7411,2
49UP20220824_1,    P9,    61,  1,     13,     325,2,20220911,1323,1418, 21.0022, 137.0147, 4848,   2505.1,     2475,   1.7410,  34.6482,2,    131.1,2,  34.6491,2,   131.36,2,   144.80,2,    37.29,2,     0.00,2,    2.610,2, -999.000,9, -999.000,9,   2335.2,2,   2412.6,2,   7.5490,2,    25.00, -999.000,9,  -999.00,9,  -999.00,9,   1.5651,2,  27.7231,2,   1.7411,2
49UP20220824_1,    P9,    61,  1,     11,     323,2,20220911,1323,1413, 21.0022, 137.0147, 4848,   2705.2,     2671,   1.6783,  34.6558,2,    135.7,2,  34.6564,2,   135.84,2,   144.75,2,    37.06,2,     0.00,2,    2.580,2, -999.000,9, -999.000,9,   2331.1,2,   2411.3,2,   7.5557,2,    25.00, -999.000,9,  -999.00,9,  -999.00,9,   1.4854,2,  27.7350,2,   1.6783,2
49UP20220824_1,    P9,    61,  1,     10,     322,2,20220911,1323,1408, 21.0022, 137.0147, 4848,   2906.8,     2869,   1.6326,  34.6615,2,    139.7,2,  34.6624,4,   139.69,6,   144.59,6,    36.83,6,     0.00,6,    2.560,6, -999.000,9, -999.000,9,   2331.1,2,   2413.7,2,   7.5624,2,    25.00, -999.000,9,  -999.00,9,  -999.00,9,   1.4218,2,  27.7442,2,   1.6326,2
49UP20220824_1,    P9,    61,  1,      9,     750,2,20220911,1323,1403, 21.0022, 137.0147, 4848,   3121.7,     3080,   1.5907,  34.6669,2,    143.9,2,  34.6671,2,   143.97,2,   144.13,2,    36.53,2,     0.00,2,    2.540,2, -999.000,9, -999.000,9,   2328.8,2,   2410.6,2,   7.5691,2,    25.00, -999.000,9,  -999.00,9,  -999.00,9,   1.3602,2,  27.7529,2,   1.5908,2
49UP20220824_1,    P9,    61,  1,      8,     320,2,20220911,1323,1357, 21.0022, 137.0147, 4848,   3381.0,     3333,   1.5644,  34.6718,2,    147.6,2,  34.6728,2,   147.36,2,   143.68,2,    36.27,2,     0.00,2,    2.520,2, -999.000,9, -999.000,9,   2326.4,2,   2412.3,2,   7.5760,2,    25.00, -999.000,9,  -999.00,9,  -999.00,9,   1.3088,2,  27.7605,2,   1.5645,2
49UP20220824_1,    P9,    61,  1,      7,     319,2,20220911,1323,1351, 21.0022, 137.0147, 4848,   3634.2,     3581,   1.5396,  34.6762,2,    151.4,2,  34.6765,6,   151.63,2,   143.01,2,    36.08,2,     0.00,2,    2.500,2, -999.000,9, -999.000,9,   2323.0,2,   2413.8,2,   7.5811,6,    25.00, -999.000,9,  -999.00,9,  -999.00,9,   1.2587,2,  27.7675,2,   1.5397,2
49UP20220824_1,    P9,    61,  1,      6,     318,2,20220911,1323,1345, 21.0022, 137.0147, 4848,   3894.3,     3835,   1.5294,  34.6796,2,    154.4,2,  34.6808,4,   154.26,2,   142.53,2,    35.91,2,     0.00,2,    2.490,2, -999.000,9, -999.000,9,   2321.2,6,   2410.9,6,   7.5849,2,    25.00, -999.000,9,  -999.00,9,  -999.00,9,   1.2211,2,  27.7729,2,   1.5294,2
49UP20220824_1,    P9,    61,  1,      5,     838,2,20220911,1323,1340, 21.0022, 137.0147, 4848,   4137.2,     4072,   1.5286,  34.6820,2,    156.5,2,  34.6820,2,   156.56,2,   141.97,2,    35.77,2,     0.00,2,    2.480,2, -999.000,9, -999.000,9,   2320.3,2,   2412.0,2,   7.5866,2,    25.00, -999.000,9,  -999.00,9,  -999.00,9,   1.1938,2,  27.7767,2,   1.5287,2
49UP20220824_1,    P9,    61,  1,      4,     316,2,20220911,1323,1335, 21.0022, 137.0147, 4848,   4399.5,     4328,   1.5428,  34.6833,2,    157.8,2,  34.6831,2,   157.86,2,   141.56,2,    35.60,2,     0.00,2,    2.470,2, -999.000,9, -999.000,9,   2318.3,2,   2408.4,2,   7.5884,2,    25.00, -999.000,9,  -999.00,9,  -999.00,9,   1.1781,2,  27.7788,2,   1.5429,2
49UP20220824_1,    P9,    61,  1,      3,     315,2,20220911,1323,1329, 21.0022, 137.0147, 4848,   4657.2,     4578,   1.5692,  34.6836,2,    158.2,2,  34.6834,2,   158.41,6,   141.65,6,    35.68,6,     0.00,6,    2.470,6, -999.000,9, -999.000,9,   2319.0,2,   2409.6,2,   7.5880,2,    25.00, -999.000,9,  -999.00,9,  -999.00,9,   1.1738,2,  27.7794,2,   1.5692,2
49UP20220824_1,    P9,    61,  1,      2,     314,2,20220911,1323,1324, 21.0022, 137.0147, 4848,   4882.2,     4797,   1.5950,  34.6838,2,    158.4,2,  34.6840,2,   158.47,2,   141.72,2,    35.60,2,     0.00,2,    2.470,2, -999.000,9, -999.000,9,   2316.0,2,   2411.0,2,   7.5913,2,    25.00, -999.000,9,  -999.00,9,  -999.00,9,   1.1719,2,  27.7796,2,   1.5950,2
49UP20220824_1,    P9,    61,  1,      1,     308,2,20220911,1323,1324, 21.0022, 137.0147, 4848,   4882.4,     4797,   1.5950,  34.6837,2,    158.5,2,  34.6848,4,   158.56,2,   141.60,2,    35.66,2,     0.00,2,    2.470,2, -999.000,9, -999.000,9,   2317.5,2,   2408.8,2,   7.5911,2,    25.00, -999.000,9,  -999.00,9,  -999.00,9,   1.1719,2,  27.7796,2,   1.5951,2