BOTTLE,20230330JMAAMD
EXPOCODE,SECT_ID,STNNBR,CASTNO,SAMPNO,BTLNBR,BTLNBR_FLAG_U,DATE,TIME,BTL_TIME,LATITUDE,LONGITUDE,DEPTH,CTDPRS,CTDDEP,CTDTMP,CTDSAL,CTDSAL_FLAG_W,CTDOXY,CTDOXY_FLAG_W,SALNTY,SALNTY_FLAG_W,OXYGEN,OXYGEN_FLAG_W,SILCAT,SILCAT_FLAG_W,NO2+NO3,NO2+NO3_FLAG_W,NITRIT,NITRIT_FLAG_W,PHSPHT,PHSPHT_FLAG_W,CFC-11,CFC-11_FLAG_W,CFC-12,CFC-12_FLAG_W,TCARBN,TCARBN_FLAG_W,ALKALI,ALKALI_FLAG_W,PH_TS,PH_TS_FLAG_W,PH_TS_TMP,CFC113,CFC113_FLAG_W,CHLORA,CHLORA_FLAG_W,PPHYTN,PPHYTN_FLAG_W,THETA,THETA_FLAG_W,SIGTHT,SIGTHT_FLAG_W,SBE35,SBE35_FLAG_W
,,,,,,,,UTC,,,,METER,DBAR,METERS,ITS-90,PSS-78,,UMOL/KG,,PSS78,,UMOL/KG,,UMOL/KG,,UMOL/KG,,UMOL/KG,,UMOL/KG,,PMOL/KG,,PMOL/KG,,UMOL/KG,,UMOL/KG,,,,ITS-90,PMOL/KG,,UG/KG,,UG/KG,,ITS-90,,KG/M3,,ITS-90,
49UP20220929_1,    P9,    78,  1,      0,      -9,0,20221008,0325,0456, 28.9917, 137.0042, 4500,      0.0,        0,  28.6816,  34.3343,2,    197.4,2,  34.3186,2,   198.08,2,     1.29,2,     0.05,2,     0.00,2,    0.020,2, -999.000,9, -999.000,9,   1942.1,2,   2251.3,2,   8.0915,2,    25.00, -999.000,9,     0.07,2,     0.03,2,  28.6811,2,  21.6703,2,-999.0000,9
49UP20220929_1,    P9,    78,  1,     36,     757,2,20221008,0325,0527, 28.9917, 137.0042, 4500,     11.2,       11,  28.6858,  34.3351,2,    197.5,2,  34.3368,2,   198.14,2,     1.30,2,     0.06,2,     0.00,2,    0.000,2, -999.000,9, -999.000,9,   1939.4,2,   2254.9,2,   8.0926,2,    25.00, -999.000,9,     0.07,2,     0.03,2,  28.6831,2,  21.6703,2,  28.6877,2
49UP20220929_1,    P9,    78,  1,     35,     756,2,20221008,0325,0525, 28.9917, 137.0042, 4500,     26.4,       26,  28.6204,  34.3309,2,    198.0,2,  34.3322,2,   198.08,2,     1.31,2,     0.07,2,     0.00,2,    0.000,2, -999.000,9, -999.000,9,   1941.2,2,   2253.2,2,   8.0927,2,    25.00, -999.000,9,     0.08,2,     0.03,2,  28.6141,2,  21.6899,2,  28.6204,2
49UP20220929_1,    P9,    78,  1,     34,     323,2,20221008,0325,0521, 28.9917, 137.0042, 4500,     52.8,       52,  28.5105,  34.3472,2,    199.0,2,  34.3483,2,   198.74,2,     1.36,2,     0.06,2,     0.00,2,    0.000,2, -999.000,9, -999.000,9,   1941.4,2,   2255.0,2,   8.0889,2,    25.00, -999.000,9,     0.10,2,     0.04,2,  28.4979,2,  21.7405,2,  28.5106,2
49UP20220929_1,    P9,    78,  1,     33,     322,2,20221008,0325,0519, 28.9917, 137.0042, 4500,     77.5,       77,  25.3285,  34.5678,2,    216.5,2,  34.5464,2,   214.08,2,     1.72,2,     0.09,2,     0.00,2,    0.010,2, -999.000,9, -999.000,9,   1966.9,2,   2267.3,2,   8.0660,2,    25.00, -999.000,9,     0.29,2,     0.18,2,  25.3116,2,  22.9197,2,  25.3693,2
49UP20220929_1,    P9,    78,  1,     32,     321,2,20221008,0325,0518, 28.9917, 137.0042, 4500,    102.4,      102,  23.2730,  34.7101,2,    200.6,2,  34.7080,2,   200.62,6,     2.21,6,     0.92,6,     0.17,6,    0.080,6, -999.000,9, -999.000,9,   2000.7,2,   2278.1,2,   8.0240,2,    25.00, -999.000,9,     0.28,2,     0.47,2,  23.2520,2,  23.6410,2,  23.2745,2
49UP20220929_1,    P9,    78,  1,     30,     319,3,20221008,0325,0516, 28.9917, 137.0042, 4500,    128.0,      127,  21.9116,  34.7232,2,    197.1,2,  34.7246,2,   196.92,2,     2.50,2,     1.61,2,     0.08,2,    0.120,2, -999.000,9, -999.000,9,   2012.7,2,   2279.0,2,   8.0017,2,    25.00, -999.000,9,     0.11,2,     0.36,2,  21.8864,2,  24.0393,2,  21.9123,2
49UP20220929_1,    P9,    78,  1,     31,     320,2,20221008,0325,0517, 28.9917, 137.0042, 4500,    128.2,      127,  21.8884,  34.7244,2,    197.1,2,  34.7249,2,   197.46,2,     2.46,2,     1.60,2,     0.08,2,    0.120,2, -999.000,9, -999.000,9,   2012.6,2,   2277.6,2,   8.0028,2,    25.00, -999.000,9,  -999.00,9,  -999.00,9,  21.8632,2,  24.0466,2,  21.8900,2
49UP20220929_1,    P9,    78,  1,     29,     318,2,20221008,0325,0515, 28.9917, 137.0042, 4500,    154.5,      153,  20.4979,  34.7651,2,    206.9,2,  34.7661,2,   206.75,2,     2.48,2,     1.42,2,     0.12,2,    0.110,2, -999.000,9, -999.000,9,   2021.7,2,   2281.4,2,   7.9907,2,    25.00, -999.000,9,     0.07,2,     0.16,2,  20.4689,2,  24.4582,2,  20.4979,2
49UP20220929_1,    P9,    78,  1,     28,     755,3,20221008,0325,0513, 28.9917, 137.0042, 4500,    201.6,      200,  19.2200,  34.7591,2,    207.1,2,  34.7599,2,   206.91,2,     2.97,2,     2.10,2,     0.06,2,    0.160,2, -999.000,9, -999.000,9,   2031.6,2,   2279.9,2,   7.9707,2,    25.00, -999.000,9,     0.05,2,     0.18,2,  19.1837,2,  24.7901,2,  19.2207,2
49UP20220929_1,    P9,    78,  1,     27,     317,2,20221008,0325,0511, 28.9917, 137.0042, 4500,    253.6,      252,  17.9803,  34.7537,2,    198.7,2,  34.7537,2,   198.26,2,     4.26,2,     4.47,2,     0.01,2,    0.300,2, -999.000,9, -999.000,9,   2050.3,2,   2280.1,2,   7.9406,2,    25.00, -999.000,9,  -999.00,9,  -999.00,9,  17.9368,2,  25.0989,2,  17.9782,2
49UP20220929_1,    P9,    78,  1,     26,     316,2,20221008,0325,0508, 28.9917, 137.0042, 4500,    333.7,      331,  16.4496,  34.6794,2,    191.6,2,  34.6794,2,   191.64,2,     7.41,2,     7.41,2,     0.00,2,    0.500,2, -999.000,9, -999.000,9,   2070.4,2,   2277.8,2,   7.8949,2,    25.00, -999.000,9,  -999.00,9,  -999.00,9,  16.3957,2,  25.4099,2,  16.4483,2
49UP20220929_1,    P9,    78,  1,     25,     315,2,20221008,0325,0506, 28.9917, 137.0042, 4500,    435.6,      432,  14.0157,  34.4949,2,    188.3,2,  34.4954,2,   188.35,2,    13.31,2,    11.40,2,     0.00,2,    0.780,2, -999.000,9, -999.000,9,   2096.1,2,   2272.1,2,   7.8298,2,    25.00, -999.000,9,  -999.00,9,  -999.00,9,  13.9525,2,  25.8066,2,  14.0156,2
49UP20220929_1,    P9,    78,  1,     24,     753,2,20221008,0325,0503, 28.9917, 137.0042, 4500,    536.2,      532,  11.0249,  34.2889,2,    171.1,2,  34.2897,2,   171.43,2,    26.54,2,    17.96,2,     0.00,2,    1.260,2, -999.000,9, -999.000,9,   2139.9,2,   2278.7,2,   7.7246,2,    25.00, -999.000,9,  -999.00,9,  -999.00,9,  10.9582,2,  26.2293,2,  11.0097,2
49UP20220929_1,    P9,    78,  1,     23,     314,2,20221008,0325,0500, 28.9917, 137.0042, 4500,    638.7,      633,   8.1051,  34.1469,2,    141.0,2,  34.7317,4,   197.00,4,     2.53,4,     1.74,4,     0.07,4,    0.130,4, -999.000,9, -999.000,9,   2015.1,4,   2280.2,4,   7.9963,4,    25.00, -999.000,9,  -999.00,9,  -999.00,9,   8.0390,2,  26.5980,2,   8.1040,2
49UP20220929_1,    P9,    78,  1,     22,     313,2,20221008,0325,0457, 28.9917, 137.0042, 4500,    738.4,      732,   6.2821,  34.1840,2,    100.0,2,  34.1845,2,   100.23,2,    73.73,2,    32.80,2,     0.00,2,    2.350,2, -999.000,9, -999.000,9,   2254.3,2,   2308.4,2,   7.4997,2,    25.00, -999.000,9,  -999.00,9,  -999.00,9,   6.2152,2,  26.8804,2,   6.2802,2
49UP20220929_1,    P9,    78,  1,     21,     312,2,20221008,0325,0454, 28.9917, 137.0042, 4500,    839.9,      833,   4.9355,  34.2182,2,     73.1,2,  34.2180,2,    73.53,2,    94.72,2,    37.34,2,     0.00,2,    2.680,2, -999.000,9, -999.000,9,   2298.0,2,   2328.0,2,   7.4241,2,    25.00, -999.000,9,  -999.00,9,  -999.00,9,   4.8673,2,  27.0705,2,   4.9366,2
49UP20220929_1,    P9,    78,  1,     20,     311,2,20221008,0325,0451, 28.9917, 137.0042, 4500,    939.5,      931,   4.3709,  34.2984,2,     63.6,2,  34.2984,2,    63.58,2,   107.86,2,    39.03,2,     0.00,2,    2.790,2, -999.000,9, -999.000,9,   2320.3,2,   2345.2,2,   7.4107,2,    25.00, -999.000,9,  -999.00,9,  -999.00,9,   4.2979,2,  27.1968,2,   4.3712,2
49UP20220929_1,    P9,    78,  1,     19,     310,2,20221008,0325,0447, 28.9917, 137.0042, 4500,   1082.2,     1072,   3.6220,  34.3942,2,     61.2,2,  34.3939,2,    61.06,2,   123.64,2,    40.23,2,     0.00,2,    2.870,2, -999.000,9, -999.000,9,   2338.8,2,   2363.2,2,   7.4134,2,    25.00, -999.000,9,  -999.00,9,  -999.00,9,   3.5428,2,  27.3502,2,   3.6205,2
49UP20220929_1,    P9,    78,  1,     18,     752,2,20221008,0325,0447, 28.9917, 137.0042, 4500,   1082.5,     1072,   3.6211,  34.3945,2,     61.2,2,  34.3931,2,    61.28,2,   123.50,2,    40.23,2,     0.00,2,    2.870,2, -999.000,9, -999.000,9,   2339.4,2,   2364.6,2,   7.4134,2,    25.00, -999.000,9,  -999.00,9,  -999.00,9,   3.5418,2,  27.3506,2,   3.6197,2
49UP20220929_1,    P9,    78,  1,     17,     751,2,20221008,0325,0442, 28.9917, 137.0042, 4500,   1285.7,     1273,   2.9869,  34.4666,2,     65.7,2,  34.4668,2,    65.65,2,   136.29,2,    40.71,2,     0.00,2,    2.900,2, -999.000,9, -999.000,9,   2354.7,6,   2381.0,6,   7.4212,2,    25.00, -999.000,9,  -999.00,9,  -999.00,9,   2.8970,2,  27.4686,2,   2.9869,2
49UP20220929_1,    P9,    78,  1,     16,     328,2,20221008,0325,0437, 28.9917, 137.0042, 4500,   1488.8,     1474,   2.6178,  34.5121,2,     74.1,2,  34.5117,2,    74.24,2,   142.63,2,    40.53,2,     0.00,2,    2.870,2, -999.000,9, -999.000,9,   2357.8,2,   2389.7,2,   7.4374,6,    25.00, -999.000,9,  -999.00,9,  -999.00,9,   2.5155,2,  27.5384,2,   2.6173,2
49UP20220929_1,    P9,    78,  1,     15,     309,2,20221008,0325,0432, 28.9917, 137.0042, 4500,   1689.5,     1671,   2.3508,  34.5486,2,     84.7,2,  34.5491,6,    84.81,2,   145.71,2,    40.06,2,     0.00,2,    2.830,2, -999.000,9, -999.000,9,   2358.0,2,   2399.2,2,   7.4567,2,    25.00, -999.000,9,  -999.00,9,  -999.00,9,   2.2354,2,  27.5910,2,   2.3515,2
49UP20220929_1,    P9,    78,  1,     14,     326,2,20221008,0325,0427, 28.9917, 137.0042, 4500,   1893.4,     1872,   2.1347,  34.5806,2,     97.2,2,  34.5803,2,    97.44,6,   146.89,6,    39.36,6,     0.00,6,    2.770,6, -999.000,9, -999.000,9,   2350.6,2,   2402.7,2,   7.4831,2,    25.00, -999.000,9,  -999.00,9,  -999.00,9,   2.0053,2,  27.6352,2,   2.1348,2
49UP20220929_1,    P9,    78,  1,     13,     325,2,20221008,0325,0422, 28.9917, 137.0042, 4500,   2095.8,     2071,   1.9583,  34.6065,2,    109.0,2,  34.6068,2,   109.08,2,   147.12,2,    38.69,2,     0.00,2,    2.710,2, -999.000,9, -999.000,9,   2348.2,6,   2406.3,6,   7.5041,2,    25.00, -999.000,9,  -999.00,9,  -999.00,9,   1.8145,2,  27.6708,2,   1.9580,2
49UP20220929_1,    P9,    78,  1,     12,     324,2,20221008,0325,0418, 28.9917, 137.0042, 4500,   2300.7,     2273,   1.8444,  34.6239,2,    117.8,2,  34.6242,6,   117.57,2,   146.85,2,    38.19,2,     0.00,2,    2.670,2, -999.000,9, -999.000,9,   2342.9,2,   2408.1,2,   7.5204,6,    25.00, -999.000,9,  -999.00,9,  -999.00,9,   1.6848,2,  27.6947,2,   1.8443,2
49UP20220929_1,    P9,    78,  1,     11,     323,2,20221008,0325,0413, 28.9917, 137.0042, 4500,   2503.5,     2472,   1.7528,  34.6382,2,    125.9,2,  34.6387,2,   125.71,2,   146.26,2,    37.70,2,     0.00,2,    2.630,2, -999.000,9, -999.000,9,   2339.0,2,   2407.7,2,   7.5343,2,    25.00, -999.000,9,  -999.00,9,  -999.00,9,   1.5769,2,  27.7142,2,   1.7529,2
49UP20220929_1,    P9,    78,  1,     10,     322,2,20221008,0325,0408, 28.9917, 137.0042, 4500,   2707.6,     2672,   1.6702,  34.6505,2,    133.3,2,  34.6510,2,   133.61,2,   145.71,2,    37.28,2,     0.00,2,    2.600,2, -999.000,9, -999.000,9,   2335.4,2,   2410.1,2,   7.5480,2,    25.00, -999.000,9,  -999.00,9,  -999.00,9,   1.4773,2,  27.7314,2,   1.6702,2
49UP20220929_1,    P9,    78,  1,      9,     750,2,20221008,0325,0404, 28.9917, 137.0042, 4500,   2911.2,     2872,   1.6126,  34.6599,2,    139.7,2,  34.6602,2,   139.63,2,   144.76,2,    36.86,2,     0.00,2,    2.570,2, -999.000,9, -999.000,9,   2331.4,2,   2412.2,2,   7.5592,2,    25.00, -999.000,9,  -999.00,9,  -999.00,9,   1.4019,2,  27.7443,2,   1.6126,2
49UP20220929_1,    P9,    78,  1,      8,     320,2,20221008,0325,0359, 28.9917, 137.0042, 4500,   3126.2,     3082,   1.5745,  34.6664,2,    144.1,2,  34.6666,2,   144.32,2,   144.22,2,    36.62,2,     0.00,2,    2.540,2, -999.000,9, -999.000,9,   2330.1,2,   2414.8,2,   7.5664,2,    25.00, -999.000,9,  -999.00,9,  -999.00,9,   1.3439,2,  27.7537,2,   1.5744,2
49UP20220929_1,    P9,    78,  1,      7,     319,2,20221008,0325,0353, 28.9917, 137.0042, 4500,   3382.1,     3333,   1.5374,  34.6733,2,    148.8,2,  34.6733,2,   149.38,2,   143.50,2,    36.32,2,     0.00,2,    2.520,2, -999.000,9, -999.000,9,   2321.7,2,   2412.6,2,   7.5745,2,    25.00, -999.000,9,  -999.00,9,  -999.00,9,   1.2823,2,  27.7636,2,   1.5374,2
49UP20220929_1,    P9,    78,  1,      6,     318,2,20221008,0325,0347, 28.9917, 137.0042, 4500,   3636.2,     3581,   1.5224,  34.6775,2,    152.1,2,  34.6768,6,   152.12,2,   142.85,2,    36.08,2,     0.00,2,    2.500,2, -999.000,9, -999.000,9,   2328.5,6,   2411.3,6,   7.5811,2,    25.00, -999.000,9,  -999.00,9,  -999.00,9,   1.2417,2,  27.7698,2,   1.5225,2
49UP20220929_1,    P9,    78,  1,      5,     838,2,20221008,0325,0341, 28.9917, 137.0042, 4500,   3893.6,     3832,   1.5287,  34.6797,2,    153.8,2,  34.6798,2,   154.35,6,   142.77,6,    35.96,6,     0.00,6,    2.500,6, -999.000,9, -999.000,9,   2319.8,2,   2412.0,2,   7.5820,6,    25.00, -999.000,9,  -999.00,9,  -999.00,9,   1.2206,2,  27.7730,2,   1.5286,2
49UP20220929_1,    P9,    78,  1,      4,     316,2,20221008,0325,0336, 28.9917, 137.0042, 4500,   4149.1,     4081,   1.5453,  34.6809,2,    154.8,2,  34.6806,2,   155.13,2,   142.19,2,    35.89,2,     0.00,2,    2.490,2, -999.000,9, -999.000,9,   2324.1,2,   2412.3,2,   7.5855,2,    25.00, -999.000,9,  -999.00,9,  -999.00,9,   1.2087,2,  27.7748,2,   1.5453,2
49UP20220929_1,    P9,    78,  1,      3,     315,2,20221008,0325,0330, 28.9917, 137.0042, 4500,   4405.8,     4331,   1.5682,  34.6815,2,    155.6,2,  34.6816,6,   155.62,2,   142.06,2,    35.83,2,     0.00,2,    2.490,2, -999.000,9, -999.000,9,   2317.1,2,   2412.5,2,   7.5828,2,    25.00, -999.000,9,  -999.00,9,  -999.00,9,   1.2020,2,  27.7757,2,   1.5683,2
49UP20220929_1,    P9,    78,  1,      2,     314,2,20221008,0325,0325, 28.9917, 137.0042, 4500,   4585.2,     4506,   1.5872,  34.6816,2,    156.0,2,  34.6816,2,   156.00,2,   142.10,2,    35.81,2,     0.00,2,    2.480,2, -999.000,9, -999.000,9,   2322.1,2,   2411.2,2,   7.5851,2,    25.00, -999.000,9,  -999.00,9,  -999.00,9,   1.1997,2,  27.7760,2,   1.5871,2
49UP20220929_1,    P9,    78,  1,      1,     308,2,20221008,0325,0325, 28.9917, 137.0042, 4500,   4585.4,     4506,   1.5871,  34.6816,2,    156.0,2,  34.6818,2,   156.06,2,   141.91,2,    35.84,2,     0.00,2,    2.490,2, -999.000,9, -999.000,9,   2323.1,2,   2411.2,2,   7.5864,2,    25.00, -999.000,9,  -999.00,9,  -999.00,9,   1.1995,2,  27.7760,2,   1.5871,2