BOTTLE,20230330JMAAMD
EXPOCODE,SECT_ID,STNNBR,CASTNO,SAMPNO,BTLNBR,BTLNBR_FLAG_U,DATE,TIME,BTL_TIME,LATITUDE,LONGITUDE,DEPTH,CTDPRS,CTDDEP,CTDTMP,CTDSAL,CTDSAL_FLAG_W,CTDOXY,CTDOXY_FLAG_W,SALNTY,SALNTY_FLAG_W,OXYGEN,OXYGEN_FLAG_W,SILCAT,SILCAT_FLAG_W,NO2+NO3,NO2+NO3_FLAG_W,NITRIT,NITRIT_FLAG_W,PHSPHT,PHSPHT_FLAG_W,CFC-11,CFC-11_FLAG_W,CFC-12,CFC-12_FLAG_W,TCARBN,TCARBN_FLAG_W,ALKALI,ALKALI_FLAG_W,PH_TS,PH_TS_FLAG_W,PH_TS_TMP,CFC113,CFC113_FLAG_W,CHLORA,CHLORA_FLAG_W,PPHYTN,PPHYTN_FLAG_W,THETA,THETA_FLAG_W,SIGTHT,SIGTHT_FLAG_W,SBE35,SBE35_FLAG_W
,,,,,,,,UTC,,,,METER,DBAR,METERS,ITS-90,PSS-78,,UMOL/KG,,PSS78,,UMOL/KG,,UMOL/KG,,UMOL/KG,,UMOL/KG,,UMOL/KG,,PMOL/KG,,PMOL/KG,,UMOL/KG,,UMOL/KG,,,,ITS-90,PMOL/KG,,UG/KG,,UG/KG,,ITS-90,,KG/M3,,ITS-90,
49UP20220824_1,    P9,    52,  1,      0,      -9,0,20220908,1625,1820, 16.5083, 136.9758, 5402,      0.0,        0,  30.2971,  34.4280,2,    192.7,2,-999.0000,9,   193.37,2,     0.84,2,     0.03,2,     0.00,2,    0.030,2, -999.000,9, -999.000,9,   -999.0,9,   -999.0,9,-999.0000,9,  -999.00, -999.000,9,  -999.00,9,  -999.00,9,  30.2965,2,  21.1961,2,-999.0000,9
49UP20220824_1,    P9,    52,  1,     36,     757,2,20220908,1625,1901, 16.5083, 136.9758, 5402,     11.6,       12,  30.3067,  34.4280,2,    192.9,2,  34.4270,2,   193.28,2,     0.88,2,     0.00,2,     0.00,2,    0.010,2, -999.000,9, -999.000,9,   -999.0,9,   -999.0,9,-999.0000,9,  -999.00, -999.000,9,  -999.00,9,  -999.00,9,  30.3038,2,  21.1936,2,  30.3073,2
49UP20220824_1,    P9,    52,  1,     35,     756,2,20220908,1625,1859, 16.5083, 136.9758, 5402,     27.2,       27,  30.3110,  34.4282,2,    192.9,2,  34.4284,2,   192.99,2,     0.84,2,     0.00,2,     0.00,2,    0.010,2, -999.000,9, -999.000,9,   -999.0,9,   -999.0,9,-999.0000,9,  -999.00, -999.000,9,  -999.00,9,  -999.00,9,  30.3042,2,  21.1935,2,  30.3104,2
49UP20220824_1,    P9,    52,  1,     34,     323,2,20220908,1625,1854, 16.5083, 136.9758, 5402,     50.2,       50,  30.0431,  34.5855,2,    204.7,2,  34.5826,2,   203.91,2,     0.62,2,     0.00,2,     0.00,2,    0.010,2, -999.000,9, -999.000,9,   -999.0,9,   -999.0,9,-999.0000,9,  -999.00, -999.000,9,  -999.00,9,  -999.00,9,  30.0307,2,  21.4050,2,  30.0535,2
49UP20220824_1,    P9,    52,  1,     33,     322,2,20220908,1625,1852, 16.5083, 136.9758, 5402,    101.5,      101,  26.5721,  34.8401,2,    203.7,2,  34.8336,2,   202.95,2,     1.05,2,     0.00,2,     0.00,2,    0.020,2, -999.000,9, -999.000,9,   -999.0,9,   -999.0,9,-999.0000,9,  -999.00, -999.000,9,  -999.00,9,  -999.00,9,  26.5491,2,  22.7404,2,  26.5956,2
49UP20220824_1,    P9,    52,  1,     32,     321,2,20220908,1625,1850, 16.5083, 136.9758, 5402,    151.3,      150,  23.9320,  34.9858,2,    188.9,2,  34.9914,2,   186.60,2,     1.42,2,     0.75,2,     0.04,2,    0.100,2, -999.000,9, -999.000,9,   -999.0,9,   -999.0,9,-999.0000,9,  -999.00, -999.000,9,  -999.00,9,  -999.00,9,  23.9002,2,  23.6601,2,  23.9328,2
49UP20220824_1,    P9,    52,  1,     31,     320,2,20220908,1625,1847, 16.5083, 136.9758, 5402,    201.0,      200,  20.2637,  34.9012,2,    188.8,2,  34.9028,2,   188.60,2,     2.40,2,     2.23,2,     0.02,2,    0.190,2, -999.000,9, -999.000,9,   -999.0,9,   -999.0,9,-999.0000,9,  -999.00, -999.000,9,  -999.00,9,  -999.00,9,  20.2262,2,  24.6266,2,  20.2542,2
49UP20220824_1,    P9,    52,  1,     30,     319,2,20220908,1625,1845, 16.5083, 136.9758, 5402,    252.1,      250,  16.5937,  34.6865,2,    193.4,2,  34.6882,2,   193.79,2,     5.62,2,     6.41,2,     0.01,2,    0.450,2, -999.000,9, -999.000,9,   -999.0,9,   -999.0,9,-999.0000,9,  -999.00, -999.000,9,  -999.00,9,  -999.00,9,  16.5528,2,  25.3789,2,  16.5921,2
49UP20220824_1,    P9,    52,  1,     29,     318,2,20220908,1625,1843, 16.5083, 136.9758, 5402,    281.9,      280,  15.0386,  34.5380,2,    179.2,2,  34.5313,2,   177.55,2,     9.53,2,    10.06,2,     0.01,2,    0.750,2, -999.000,9, -999.000,9,   -999.0,9,   -999.0,9,-999.0000,9,  -999.00, -999.000,9,  -999.00,9,  -999.00,9,  14.9959,2,  25.6166,2,  15.0362,2
49UP20220824_1,    P9,    52,  1,     28,     755,2,20220908,1625,1842, 16.5083, 136.9758, 5402,    322.1,      320,  13.2746,  34.4093,2,    154.2,2,  34.4120,2,   154.61,6,    15.64,6,    14.94,6,     0.00,6,    1.130,6, -999.000,9, -999.000,9,   -999.0,9,   -999.0,9,-999.0000,9,  -999.00, -999.000,9,  -999.00,9,  -999.00,9,  13.2297,2,  25.8890,2,  13.2806,2
49UP20220824_1,    P9,    52,  1,     27,     317,2,20220908,1625,1839, 16.5083, 136.9758, 5402,    372.4,      370,  10.9521,  34.2960,2,    136.5,2,  34.2940,2,   135.68,2,    25.75,2,    20.98,2,     0.00,2,    1.550,2, -999.000,9, -999.000,9,   -999.0,9,   -999.0,9,-999.0000,9,  -999.00, -999.000,9,  -999.00,9,  -999.00,9,  10.9064,2,  26.2441,2,  10.9499,2
49UP20220824_1,    P9,    52,  1,     26,     316,2,20220908,1625,1837, 16.5083, 136.9758, 5402,    422.9,      420,   9.1593,  34.2767,2,    107.3,2,  34.2770,2,   106.36,2,    38.27,2,    27.07,2,     0.00,2,    1.990,2, -999.000,9, -999.000,9,   -999.0,9,   -999.0,9,-999.0000,9,  -999.00, -999.000,9,  -999.00,9,  -999.00,9,   9.1127,2,  26.5337,2,   9.1649,2
49UP20220824_1,    P9,    52,  1,     25,     315,2,20220908,1625,1835, 16.5083, 136.9758, 5402,    474.8,      471,   7.9913,  34.2907,2,     86.7,2,  34.2893,2,    86.26,2,    48.66,2,    31.16,2,     0.00,2,    2.280,2, -999.000,9, -999.000,9,   -999.0,9,   -999.0,9,-999.0000,9,  -999.00, -999.000,9,  -999.00,9,  -999.00,9,   7.9430,2,  26.7253,2,   7.9913,2
49UP20220824_1,    P9,    52,  1,     24,     753,2,20220908,1625,1832, 16.5083, 136.9758, 5402,    575.1,      571,   6.8790,  34.3544,2,     75.1,2,  34.3546,2,    74.83,2,    61.69,2,    34.52,2,     0.00,2,    2.500,2, -999.000,9, -999.000,9,   -999.0,9,   -999.0,9,-999.0000,9,  -999.00, -999.000,9,  -999.00,9,  -999.00,9,   6.8248,2,  26.9342,2,   6.8803,2
49UP20220824_1,    P9,    52,  1,     23,     314,2,20220908,1625,1829, 16.5083, 136.9758, 5402,    674.6,      670,   5.8582,  34.4114,2,     71.3,2,  34.4112,2,    70.81,2,    75.66,2,    36.94,2,     0.00,2,    2.660,2, -999.000,9, -999.000,9,   -999.0,9,   -999.0,9,-999.0000,9,  -999.00, -999.000,9,  -999.00,9,  -999.00,9,   5.7992,2,  27.1128,2,   5.8583,2
49UP20220824_1,    P9,    52,  1,     22,     313,2,20220908,1625,1826, 16.5083, 136.9758, 5402,    776.9,      771,   5.3569,  34.4592,2,     75.6,2,  34.4582,2,    75.43,2,    82.49,2,    37.54,2,     0.00,2,    2.700,2, -999.000,9, -999.000,9,   -999.0,9,   -999.0,9,-999.0000,9,  -999.00, -999.000,9,  -999.00,9,  -999.00,9,   5.2914,2,  27.2124,2,   5.3574,2
49UP20220824_1,    P9,    52,  1,     21,     312,2,20220908,1625,1822, 16.5083, 136.9758, 5402,    877.8,      871,   4.8776,  34.4918,2,     77.3,2,  34.4910,2,    77.22,2,    90.53,2,    38.19,2,     0.00,2,    2.740,2, -999.000,9, -999.000,9,   -999.0,9,   -999.0,9,-999.0000,9,  -999.00, -999.000,9,  -999.00,9,  -999.00,9,   4.8061,2,  27.2945,2,   4.8783,2
49UP20220824_1,    P9,    52,  1,     20,     311,3,20220908,1625,1818, 16.5083, 136.9758, 5402,    979.2,      971,   4.5605,  34.5167,2,     84.3,2,  34.5166,2,    84.25,2,    94.98,2,    37.88,2,     0.00,2,    2.730,2, -999.000,9, -999.000,9,   -999.0,9,   -999.0,9,-999.0000,9,  -999.00, -999.000,9,  -999.00,9,  -999.00,9,   4.4824,2,  27.3503,2,   4.5603,2
49UP20220824_1,    P9,    52,  1,     19,     310,2,20220908,1625,1814, 16.5083, 136.9758, 5402,   1139.7,     1130,   3.8776,  34.5438,2,     88.3,2,  34.5455,2,    88.32,6,   108.98,6,    38.56,6,     0.00,6,    2.760,6, -999.000,9, -999.000,9,   -999.0,9,   -999.0,9,-999.0000,9,  -999.00, -999.000,9,  -999.00,9,  -999.00,9,   3.7912,2,  27.4446,2,   3.8764,2
49UP20220824_1,    P9,    52,  1,     18,     752,2,20220908,1625,1809, 16.5083, 136.9758, 5402,   1343.4,     1331,   3.3038,  34.5627,2,     92.8,2,  34.5628,2,    92.77,2,   121.08,2,    38.72,2,     0.00,2,    2.760,2, -999.000,9, -999.000,9,   -999.0,9,   -999.0,9,-999.0000,9,  -999.00, -999.000,9,  -999.00,9,  -999.00,9,   3.2058,2,  27.5169,2,   3.3039,2
49UP20220824_1,    P9,    52,  1,     17,     751,2,20220908,1625,1804, 16.5083, 136.9758, 5402,   1546.9,     1532,   2.8727,  34.5789,2,     97.4,2,  34.5780,2,    97.26,2,   129.92,2,    38.82,2,     0.00,2,    2.750,2, -999.000,9, -999.000,9,   -999.0,9,   -999.0,9,-999.0000,9,  -999.00, -999.000,9,  -999.00,9,  -999.00,9,   2.7625,2,  27.5704,2,   2.8733,2
49UP20220824_1,    P9,    52,  1,     16,     328,2,20220908,1625,1759, 16.5083, 136.9758, 5402,   1747.5,     1730,   2.4890,  34.5979,2,    102.8,2,  34.5983,2,   102.85,2,   136.82,2,    38.71,2,     0.00,2,    2.740,2, -999.000,9, -999.000,9,   -999.0,9,   -999.0,9,-999.0000,9,  -999.00, -999.000,9,  -999.00,9,  -999.00,9,   2.3668,2,  27.6197,2,   2.4897,2
49UP20220824_1,    P9,    52,  1,     15,     309,2,20220908,1625,1754, 16.5083, 136.9758, 5402,   1951.8,     1931,   2.1941,  34.6161,2,    109.6,2,  34.6162,2,   109.37,2,   141.78,2,    38.57,2,     0.00,2,    2.720,2, -999.000,9, -999.000,9,   -999.0,9,   -999.0,9,-999.0000,9,  -999.00, -999.000,9,  -999.00,9,  -999.00,9,   2.0589,2,  27.6594,2,   2.1942,2
49UP20220824_1,    P9,    52,  1,     14,     326,3,20220908,1625,1749, 16.5083, 136.9758, 5402,   2154.6,     2131,   1.9930,  34.6315,2,    116.7,2,  34.6326,2,   116.39,2,   144.43,2,    38.18,2,     0.00,2,    2.680,2, -999.000,9, -999.000,9,   -999.0,9,   -999.0,9,-999.0000,9,  -999.00, -999.000,9,  -999.00,9,  -999.00,9,   1.8435,2,  27.6887,2,   1.9918,2
49UP20220824_1,    P9,    52,  1,     13,     325,2,20220908,1625,1744, 16.5083, 136.9758, 5402,   2360.5,     2333,   1.8918,  34.6399,2,    121.3,2,  34.6398,2,   120.91,2,   145.68,2,    37.85,2,     0.00,2,    2.660,2, -999.000,9, -999.000,9,   -999.0,9,   -999.0,9,-999.0000,9,  -999.00, -999.000,9,  -999.00,9,  -999.00,9,   1.7261,2,  27.7044,2,   1.8919,2
49UP20220824_1,    P9,    52,  1,     12,     324,2,20220908,1625,1738, 16.5083, 136.9758, 5402,   2563.7,     2533,   1.7835,  34.6500,2,    127.2,2,  34.6504,2,   126.84,2,   146.33,2,    37.44,2,     0.00,2,    2.640,2, -999.000,9, -999.000,9,   -999.0,9,   -999.0,9,-999.0000,9,  -999.00, -999.000,9,  -999.00,9,  -999.00,9,   1.6015,2,  27.7218,2,   1.7836,2
49UP20220824_1,    P9,    52,  1,     11,     323,2,20220908,1625,1732, 16.5083, 136.9758, 5402,   2768.6,     2734,   1.7199,  34.6570,2,    131.7,2,  34.6563,6,   131.42,2,   146.53,2,    37.35,2,     0.00,2,    2.610,2, -999.000,9, -999.000,9,   -999.0,9,   -999.0,9,-999.0000,9,  -999.00, -999.000,9,  -999.00,9,  -999.00,9,   1.5203,2,  27.7334,2,   1.7201,2
49UP20220824_1,    P9,    52,  1,     10,     322,2,20220908,1625,1727, 16.5083, 136.9758, 5402,   2968.3,     2930,   1.6737,  34.6624,2,    135.6,2,  34.6610,4,   135.41,6,   146.40,6,    37.07,6,     0.00,6,    2.590,6, -999.000,9, -999.000,9,   -999.0,9,   -999.0,9,-999.0000,9,  -999.00, -999.000,9,  -999.00,9,  -999.00,9,   1.4562,2,  27.7424,2,   1.6737,2
49UP20220824_1,    P9,    52,  1,      9,     750,2,20220908,1625,1716, 16.5083, 136.9758, 5402,   3471.1,     3422,   1.5789,  34.6733,2,    145.8,2,  34.6732,2,   145.24,2,   144.86,2,    36.48,2,     0.00,2,    2.540,2, -999.000,9, -999.000,9,   -999.0,9,   -999.0,9,-999.0000,9,  -999.00, -999.000,9,  -999.00,9,  -999.00,9,   1.3138,2,  27.7614,2,   1.5792,2
49UP20220824_1,    P9,    52,  1,      8,     320,2,20220908,1625,1710, 16.5083, 136.9758, 5402,   3722.7,     3668,   1.5590,  34.6767,2,    149.4,2,  34.6764,2,   149.24,2,   143.98,2,    36.29,2,     0.00,2,    2.520,2, -999.000,9, -999.000,9,   -999.0,9,   -999.0,9,-999.0000,9,  -999.00, -999.000,9,  -999.00,9,  -999.00,9,   1.2683,2,  27.7673,2,   1.5591,2
49UP20220824_1,    P9,    52,  1,      7,     319,2,20220908,1625,1704, 16.5083, 136.9758, 5402,   3981.1,     3921,   1.5385,  34.6801,2,    153.5,2,  34.6800,2,   153.10,2,   142.97,2,    35.96,2,     0.00,2,    2.500,2, -999.000,9, -999.000,9,   -999.0,9,   -999.0,9,-999.0000,9,  -999.00, -999.000,9,  -999.00,9,  -999.00,9,   1.2206,2,  27.7733,2,   1.5385,2
49UP20220824_1,    P9,    52,  1,      6,     318,2,20220908,1625,1653, 16.5083, 136.9758, 5402,   4495.7,     4422,   1.5329,  34.6848,2,    159.1,2,  34.6849,2,   158.68,2,   141.00,2,    35.46,2,     0.00,2,    2.460,2, -999.000,9, -999.000,9,   -999.0,9,   -999.0,9,-999.0000,9,  -999.00, -999.000,9,  -999.00,9,  -999.00,9,   1.1574,2,  27.7814,2,   1.5330,2
49UP20220824_1,    P9,    52,  1,      5,     838,2,20220908,1625,1647, 16.5083, 136.9758, 5402,   4749.2,     4669,   1.5515,  34.6859,2,    160.2,2,  34.6858,6,   159.73,2,   140.74,2,    35.49,2,     0.00,2,    2.460,2, -999.000,9, -999.000,9,   -999.0,9,   -999.0,9,-999.0000,9,  -999.00, -999.000,9,  -999.00,9,  -999.00,9,   1.1458,2,  27.7831,2,   1.5516,2
49UP20220824_1,    P9,    52,  1,      4,     316,2,20220908,1625,1641, 16.5083, 136.9758, 5402,   5005.3,     4918,   1.5795,  34.6861,2,    160.6,2,  34.6869,2,   160.06,2,   140.72,2,    35.40,2,     0.00,2,    2.460,2, -999.000,9, -999.000,9,   -999.0,9,   -999.0,9,-999.0000,9,  -999.00, -999.000,9,  -999.00,9,  -999.00,9,   1.1420,2,  27.7836,2,   1.5798,2
49UP20220824_1,    P9,    52,  1,      3,     315,2,20220908,1625,1636, 16.5083, 136.9758, 5402,   5261.2,     5167,   1.6119,  34.6861,2,    160.7,2,  34.6859,2,   160.12,2,   140.79,2,    35.43,2,     0.00,2,    2.460,2, -999.000,9, -999.000,9,   -999.0,9,   -999.0,9,-999.0000,9,  -999.00, -999.000,9,  -999.00,9,  -999.00,9,   1.1416,2,  27.7836,2,   1.6120,2
49UP20220824_1,    P9,    52,  1,      2,     314,2,20220908,1625,1630, 16.5083, 136.9758, 5402,   5523.6,     5421,   1.6444,  34.6862,2,    160.9,2,  34.6857,2,   160.40,2,   140.64,2,    35.47,2,     0.00,2,    2.460,2, -999.000,9, -999.000,9,   -999.0,9,   -999.0,9,-999.0000,9,  -999.00, -999.000,9,  -999.00,9,  -999.00,9,   1.1396,2,  27.7838,2,   1.6445,2
49UP20220824_1,    P9,    52,  1,      1,     308,2,20220908,1625,1625, 16.5083, 136.9758, 5402,   5680.5,     5573,   1.6651,  34.6861,2,    161.1,2,  34.6876,4,   160.50,6,   140.64,6,    35.45,6,     0.00,6,    2.460,6, -999.000,9, -999.000,9,   -999.0,9,   -999.0,9,-999.0000,9,  -999.00, -999.000,9,  -999.00,9,  -999.00,9,   1.1391,2,  27.7837,2,   1.6650,2