BOTTLE,20230330JMAAMD
EXPOCODE,SECT_ID,STNNBR,CASTNO,SAMPNO,BTLNBR,BTLNBR_FLAG_U,DATE,TIME,BTL_TIME,LATITUDE,LONGITUDE,DEPTH,CTDPRS,CTDDEP,CTDTMP,CTDSAL,CTDSAL_FLAG_W,CTDOXY,CTDOXY_FLAG_W,SALNTY,SALNTY_FLAG_W,OXYGEN,OXYGEN_FLAG_W,SILCAT,SILCAT_FLAG_W,NO2+NO3,NO2+NO3_FLAG_W,NITRIT,NITRIT_FLAG_W,PHSPHT,PHSPHT_FLAG_W,CFC-11,CFC-11_FLAG_W,CFC-12,CFC-12_FLAG_W,TCARBN,TCARBN_FLAG_W,ALKALI,ALKALI_FLAG_W,PH_TS,PH_TS_FLAG_W,PH_TS_TMP,CFC113,CFC113_FLAG_W,CHLORA,CHLORA_FLAG_W,PPHYTN,PPHYTN_FLAG_W,THETA,THETA_FLAG_W,SIGTHT,SIGTHT_FLAG_W,SBE35,SBE35_FLAG_W
,,,,,,,,UTC,,,,METER,DBAR,METERS,ITS-90,PSS-78,,UMOL/KG,,PSS78,,UMOL/KG,,UMOL/KG,,UMOL/KG,,UMOL/KG,,UMOL/KG,,PMOL/KG,,PMOL/KG,,UMOL/KG,,UMOL/KG,,,,ITS-90,PMOL/KG,,UG/KG,,UG/KG,,ITS-90,,KG/M3,,ITS-90,
49UP20220727_1,    P9,     1,  1,      0,      -9,0,20220805,0315,0410, -2.3355, 141.1525, 2083,      0.0,        0,  29.7299,  34.3939,2,    197.1,2,-999.0000,9,   197.02,2,     2.59,2,     0.04,2,     0.00,2,    0.100,2, -999.000,9, -999.000,9,   -999.0,9,   -999.0,9,-999.0000,9,  -999.00, -999.000,9,  -999.00,9,  -999.00,9,  29.7293,2,  21.3639,2,-999.0000,9
49UP20220727_1,    P9,     1,  1,     35,     756,2,20220805,0315,0443, -2.3355, 141.1525, 2083,     10.6,       11,  29.7109,  34.5575,2,    197.3,2,  34.5130,2,   197.36,2,     2.30,2,     0.00,2,     0.00,2,    0.090,2, -999.000,9, -999.000,9,   -999.0,9,   -999.0,9,-999.0000,9,  -999.00, -999.000,9,  -999.00,9,  -999.00,9,  29.7083,2,  21.4937,2,  29.7096,2
49UP20220727_1,    P9,     1,  1,     34,     323,2,20220805,0315,0441, -2.3355, 141.1525, 2083,     25.7,       26,  29.6738,  34.7661,2,    193.9,2,  34.7665,2,   193.85,2,     1.66,2,     0.13,2,     0.07,2,    0.120,2, -999.000,9, -999.000,9,   -999.0,9,   -999.0,9,-999.0000,9,  -999.00, -999.000,9,  -999.00,9,  -999.00,9,  29.6675,2,  21.6639,2,  29.6745,2
49UP20220727_1,    P9,     1,  1,     30,     319,2,20220805,0315,0434, -2.3355, 141.1525, 2083,     50.9,       51,  29.4683,  34.9971,2,    174.5,2,  35.0036,2,   175.81,6,     1.66,6,     2.18,6,     0.37,6,    0.270,6, -999.000,9, -999.000,9,   -999.0,9,   -999.0,9,-999.0000,9,  -999.00, -999.000,9,  -999.00,9,  -999.00,9,  29.4558,2,  21.9088,2,  29.4692,2
49UP20220727_1,    P9,     1,  1,     29,     318,2,20220805,0315,0433, -2.3355, 141.1525, 2083,     76.3,       76,  29.3887,  35.0855,2,    171.0,2,  35.0838,6,   171.71,2,     1.79,2,     2.75,2,     0.12,2,    0.320,2, -999.000,9, -999.000,9,   -999.0,9,   -999.0,9,-999.0000,9,  -999.00, -999.000,9,  -999.00,9,  -999.00,9,  29.3700,2,  22.0041,2,  29.3882,2
49UP20220727_1,    P9,     1,  1,     28,     755,2,20220805,0315,0431, -2.3355, 141.1525, 2083,    101.1,      101,  28.7244,  35.3046,2,    157.0,2,  35.3041,2,   157.85,2,     2.28,2,     4.98,2,     0.05,2,    0.500,2, -999.000,9, -999.000,9,   -999.0,9,   -999.0,9,-999.0000,9,  -999.00, -999.000,9,  -999.00,9,  -999.00,9,  28.7001,2,  22.3928,2,  28.7246,2
49UP20220727_1,    P9,     1,  1,     27,     317,2,20220805,0315,0430, -2.3355, 141.1525, 2083,    126.3,      126,  27.1328,  35.5488,2,    144.0,2,  35.5463,2,   144.77,2,     2.32,2,     7.16,2,     0.03,2,    0.660,2, -999.000,9, -999.000,9,   -999.0,9,   -999.0,9,-999.0000,9,  -999.00, -999.000,9,  -999.00,9,  -999.00,9,  27.1037,2,  23.0980,2,  27.1300,2
49UP20220727_1,    P9,     1,  1,     26,     316,2,20220805,0315,0425, -2.3355, 141.1525, 2083,    151.4,      151,  26.0362,  35.5890,2,    140.1,2,  35.5928,2,   140.07,2,     2.45,2,     7.79,2,     0.02,2,    0.690,2, -999.000,9, -999.000,9,   -999.0,9,   -999.0,9,-999.0000,9,  -999.00, -999.000,9,  -999.00,9,  -999.00,9,  26.0023,2,  23.4770,2,  26.0477,2
49UP20220727_1,    P9,     1,  1,     25,     315,2,20220805,0315,0422, -2.3355, 141.1525, 2083,    200.9,      200,  19.2474,  35.5351,2,    136.8,2,  35.5173,2,   138.53,6,     4.41,6,    11.38,6,     0.01,6,    0.920,6, -999.000,9, -999.000,9,   -999.0,9,   -999.0,9,-999.0000,9,  -999.00, -999.000,9,  -999.00,9,  -999.00,9,  19.2111,2,  25.3760,2,  19.2449,2
49UP20220727_1,    P9,     1,  1,     24,     753,2,20220805,0315,0420, -2.3355, 141.1525, 2083,    251.3,      250,  16.4191,  35.3104,2,    145.7,2,  35.3075,6,   145.88,2,     6.15,2,    13.49,2,     0.01,2,    1.050,2, -999.000,9, -999.000,9,   -999.0,9,   -999.0,9,-999.0000,9,  -999.00, -999.000,9,  -999.00,9,  -999.00,9,  16.3785,2,  25.8990,2,  16.4198,2
49UP20220727_1,    P9,     1,  1,     23,     314,2,20220805,0315,0417, -2.3355, 141.1525, 2083,    303.1,      301,  13.5537,  35.0518,2,    155.1,2,  35.0522,2,   154.97,2,     9.17,2,    16.78,2,     0.00,2,    1.240,2, -999.000,9, -999.000,9,   -999.0,9,   -999.0,9,-999.0000,9,  -999.00, -999.000,9,  -999.00,9,  -999.00,9,  13.5107,2,  26.3291,2,  13.5536,2
49UP20220727_1,    P9,     1,  1,     22,     313,2,20220805,0315,0417, -2.3355, 141.1525, 2083,    303.4,      302,  13.5408,  35.0509,2,    155.2,2,  35.0513,2,   155.22,2,     9.16,2,    16.82,2,     0.01,2,    1.250,2, -999.000,9, -999.000,9,   -999.0,9,   -999.0,9,-999.0000,9,  -999.00, -999.000,9,  -999.00,9,  -999.00,9,  13.4977,2,  26.3311,2,  13.5420,2
49UP20220727_1,    P9,     1,  1,     21,     312,2,20220805,0315,0415, -2.3355, 141.1525, 2083,    352.6,      350,  12.4360,  34.9484,2,    158.9,2,  34.9479,2,   158.96,2,    10.47,2,    18.18,2,     0.00,2,    1.330,2, -999.000,9, -999.000,9,   -999.0,9,   -999.0,9,-999.0000,9,  -999.00, -999.000,9,  -999.00,9,  -999.00,9,  12.3886,2,  26.4739,2,  12.4356,2
49UP20220727_1,    P9,     1,  1,     20,     311,2,20220805,0315,0413, -2.3355, 141.1525, 2083,    404.4,      402,  11.0875,  34.8230,2,    155.7,2,  34.8280,2,   155.22,2,    13.42,2,    20.88,2,     0.00,2,    1.510,2, -999.000,9, -999.000,9,   -999.0,9,   -999.0,9,-999.0000,9,  -999.00, -999.000,9,  -999.00,9,  -999.00,9,  11.0370,2,  26.6310,2,  11.0878,2
49UP20220727_1,    P9,     1,  1,     19,     310,2,20220805,0315,0411, -2.3355, 141.1525, 2083,    453.1,      450,   9.3873,  34.6775,2,    162.6,2,  34.6745,2,   163.52,2,    17.35,2,    23.55,2,     0.00,2,    1.670,2, -999.000,9, -999.000,9,   -999.0,9,   -999.0,9,-999.0000,9,  -999.00, -999.000,9,  -999.00,9,  -999.00,9,   9.3363,2,  26.8111,2,   9.3890,2
49UP20220727_1,    P9,     1,  1,     18,     752,2,20220805,0315,0409, -2.3355, 141.1525, 2083,    504.0,      501,   8.5320,  34.6159,2,    168.4,2,  34.6143,2,   168.87,2,    20.50,2,    24.81,2,     0.00,2,    1.750,2, -999.000,9, -999.000,9,   -999.0,9,   -999.0,9,-999.0000,9,  -999.00, -999.000,9,  -999.00,9,  -999.00,9,   8.4782,2,  26.8994,2,   8.5310,2
49UP20220727_1,    P9,     1,  1,     17,     751,2,20220805,0315,0406, -2.3355, 141.1525, 2083,    604.9,      601,   6.8700,  34.5079,2,    172.0,2,  34.5083,2,   172.16,2,    28.49,2,    27.84,2,     0.00,2,    1.940,2, -999.000,9, -999.000,9,   -999.0,9,   -999.0,9,-999.0000,9,  -999.00, -999.000,9,  -999.00,9,  -999.00,9,   6.8127,2,  27.0568,2,   6.8699,2
49UP20220727_1,    P9,     1,  1,     16,     328,2,20220805,0315,0402, -2.3355, 141.1525, 2083,    706.6,      702,   6.1139,  34.5165,2,    127.0,2,  34.5162,2,   126.91,2,    46.48,2,    33.44,2,     0.00,2,    2.360,2, -999.000,9, -999.000,9,   -999.0,9,   -999.0,9,-999.0000,9,  -999.00, -999.000,9,  -999.00,9,  -999.00,9,   6.0505,2,  27.1642,2,   6.1167,2
49UP20220727_1,    P9,     1,  1,     12,     324,2,20220805,0315,0352, -2.3355, 141.1525, 2083,    807.7,      802,   5.1710,  34.4941,2,    148.2,2,  34.4941,2,   148.04,2,    53.88,2,    32.88,2,     0.00,2,    2.320,2, -999.000,9, -999.000,9,   -999.0,9,   -999.0,9,-999.0000,9,  -999.00, -999.000,9,  -999.00,9,  -999.00,9,   5.1038,2,  27.2621,2,   5.1710,2
49UP20220727_1,    P9,     1,  1,     10,     322,2,20220805,0315,0349, -2.3355, 141.1525, 2083,    908.9,      902,   4.9309,  34.5223,2,    123.0,2,  34.5215,2,   122.99,2,    66.69,2,    35.41,2,     0.00,2,    2.510,2, -999.000,9, -999.000,9,   -999.0,9,   -999.0,9,-999.0000,9,  -999.00, -999.000,9,  -999.00,9,  -999.00,9,   4.8563,2,  27.3130,2,   4.9307,2
49UP20220727_1,    P9,     1,  1,     11,     323,2,20220805,0315,0349, -2.3355, 141.1525, 2083,    909.8,      903,   4.9321,  34.5228,2,    122.7,2,  34.5214,2,   122.71,2,    66.68,2,    35.41,2,     0.00,2,    2.500,2, -999.000,9, -999.000,9,   -999.0,9,   -999.0,9,-999.0000,9,  -999.00, -999.000,9,  -999.00,9,  -999.00,9,   4.8573,2,  27.3133,2,   4.9318,2
49UP20220727_1,    P9,     1,  1,      9,     750,2,20220805,0315,0346, -2.3355, 141.1525, 2083,   1009.9,     1002,   4.3631,  34.5412,2,    115.5,2,  34.5412,2,   115.58,2,    80.84,2,    36.62,2,     0.00,2,    2.600,2, -999.000,9, -999.000,9,   -999.0,9,   -999.0,9,-999.0000,9,  -999.00, -999.000,9,  -999.00,9,  -999.00,9,   4.2837,2,  27.3913,2,   4.3615,2
49UP20220727_1,    P9,     1,  1,      8,     320,2,20220805,0315,0341, -2.3355, 141.1525, 2083,   1212.9,     1203,   3.8038,  34.5668,2,    108.8,2,  34.5660,6,   108.99,2,    96.55,2,    37.58,2,     0.00,2,    2.670,2, -999.000,9, -999.000,9,   -999.0,9,   -999.0,9,-999.0000,9,  -999.00, -999.000,9,  -999.00,9,  -999.00,9,   3.7118,2,  27.4710,2,   3.8038,2
49UP20220727_1,    P9,     1,  1,      7,     319,2,20220805,0315,0335, -2.3355, 141.1525, 2083,   1417.1,     1405,   3.3426,  34.5867,2,    106.3,2,  34.5862,2,   106.54,2,   108.94,2,    38.18,2,     0.00,2,    2.720,2, -999.000,9, -999.000,9,   -999.0,9,   -999.0,9,-999.0000,9,  -999.00, -999.000,9,  -999.00,9,  -999.00,9,   3.2379,2,  27.5330,2,   3.3422,2
49UP20220727_1,    P9,     1,  1,      6,     318,2,20220805,0315,0330, -2.3355, 141.1525, 2083,   1617.8,     1603,   2.8886,  34.6052,2,    109.7,2,  34.6058,2,   110.05,2,   119.54,2,    38.25,2,     0.00,2,    2.710,2, -999.000,9, -999.000,9,   -999.0,9,   -999.0,9,-999.0000,9,  -999.00, -999.000,9,  -999.00,9,  -999.00,9,   2.7722,2,  27.5905,2,   2.8886,2
49UP20220727_1,    P9,     1,  1,      5,     838,2,20220805,0315,0325, -2.3355, 141.1525, 2083,   1818.8,     1801,   2.4538,  34.6251,2,    115.1,2,  34.6255,6,   115.52,2,   129.58,2,    38.14,2,     0.00,2,    2.700,2, -999.000,9, -999.000,9,   -999.0,9,   -999.0,9,-999.0000,9,  -999.00, -999.000,9,  -999.00,9,  -999.00,9,   2.3261,2,  27.6448,2,   2.4537,2
49UP20220727_1,    P9,     1,  1,      4,     316,2,20220805,0315,0320, -2.3355, 141.1525, 2083,   2023.9,     2003,   2.2707,  34.6341,2,    118.6,2,  34.6339,2,   118.69,6,   134.18,6,    38.00,6,     0.00,6,    2.680,6, -999.000,9, -999.000,9,   -999.0,9,   -999.0,9,-999.0000,9,  -999.00, -999.000,9,  -999.00,9,  -999.00,9,   2.1281,2,  27.6682,2,   2.2708,2
49UP20220727_1,    P9,     1,  1,      2,     314,2,20220805,0315,0316, -2.3355, 141.1525, 2083,   2150.2,     2127,   2.0891,  34.6429,2,    123.1,2,  34.6441,2,   123.07,2,   137.47,2,    37.71,2,     0.00,2,    2.650,2, -999.000,9, -999.000,9,   -999.0,9,   -999.0,9,-999.0000,9,  -999.00, -999.000,9,  -999.00,9,  -999.00,9,   1.9384,2,  27.6904,2,   2.0880,2
49UP20220727_1,    P9,     1,  1,      1,     308,2,20220805,0315,0316, -2.3355, 141.1525, 2083,   2153.4,     2131,   2.0877,  34.6431,2,    123.1,2,  34.6427,2,   123.33,2,   137.69,2,    37.74,2,     0.00,2,    2.660,2, -999.000,9, -999.000,9,   -999.0,9,   -999.0,9,-999.0000,9,  -999.00, -999.000,9,  -999.00,9,  -999.00,9,   1.9368,2,  27.6908,2,   2.0877,2