BOTTLE,20230330JMAAMD
EXPOCODE,SECT_ID,STNNBR,CASTNO,SAMPNO,BTLNBR,BTLNBR_FLAG_U,DATE,TIME,BTL_TIME,LATITUDE,LONGITUDE,DEPTH,CTDPRS,CTDDEP,CTDTMP,CTDSAL,CTDSAL_FLAG_W,CTDOXY,CTDOXY_FLAG_W,SALNTY,SALNTY_FLAG_W,OXYGEN,OXYGEN_FLAG_W,SILCAT,SILCAT_FLAG_W,NO2+NO3,NO2+NO3_FLAG_W,NITRIT,NITRIT_FLAG_W,PHSPHT,PHSPHT_FLAG_W,CFC-11,CFC-11_FLAG_W,CFC-12,CFC-12_FLAG_W,TCARBN,TCARBN_FLAG_W,ALKALI,ALKALI_FLAG_W,PH_TS,PH_TS_FLAG_W,PH_TS_TMP,CFC113,CFC113_FLAG_W,CHLORA,CHLORA_FLAG_W,PPHYTN,PPHYTN_FLAG_W,THETA,THETA_FLAG_W,SIGTHT,SIGTHT_FLAG_W,SBE35,SBE35_FLAG_W
,,,,,,,,UTC,,,,METER,DBAR,METERS,ITS-90,PSS-78,,UMOL/KG,,PSS78,,UMOL/KG,,UMOL/KG,,UMOL/KG,,UMOL/KG,,UMOL/KG,,PMOL/KG,,PMOL/KG,,UMOL/KG,,UMOL/KG,,,,ITS-90,PMOL/KG,,UG/KG,,UG/KG,,ITS-90,,KG/M3,,ITS-90,
49UP20220824_1,    P9,    27,  1,      0,      -9,0,20220831,0824,1005,  5.5070, 137.0010, 4682,      0.0,        0,  30.1552,  33.5071,2,    195.2,2,-999.0000,9,   194.81,2,     1.26,2,     0.07,2,     0.00,2,    0.050,2, -999.000,9, -999.000,9,   -999.0,9,   -999.0,9,-999.0000,9,  -999.00, -999.000,9,  -999.00,9,  -999.00,9,  30.1546,2,  20.5548,2,-999.0000,9
49UP20220824_1,    P9,    27,  1,     36,     757,2,20220831,0824,1032,  5.5070, 137.0010, 4682,     11.0,       11,  30.0374,  33.5221,2,    195.6,2,  33.5342,2,   196.92,2,     1.29,2,     0.03,2,     0.00,2,    0.020,2, -999.000,9, -999.000,9,   -999.0,9,   -999.0,9,-999.0000,9,  -999.00, -999.000,9,  -999.00,9,  -999.00,9,  30.0347,2,  20.6069,2,  30.0376,2
49UP20220824_1,    P9,    27,  1,     35,     756,2,20220831,0824,1030,  5.5070, 137.0010, 4682,     26.6,       26,  29.9857,  33.6798,2,    198.0,2,  33.6804,2,   198.39,2,     1.28,2,     0.04,2,     0.00,2,    0.030,2, -999.000,9, -999.000,9,   -999.0,9,   -999.0,9,-999.0000,9,  -999.00, -999.000,9,  -999.00,9,  -999.00,9,  29.9791,2,  20.7439,2,  29.9861,2
49UP20220824_1,    P9,    27,  1,     34,     323,2,20220831,0824,1026,  5.5070, 137.0010, 4682,     51.0,       51,  29.9633,  34.2104,2,    202.0,2,  34.1743,2,   201.37,6,     1.28,6,     0.02,6,     0.00,6,    0.060,6, -999.000,9, -999.000,9,   -999.0,9,   -999.0,9,-999.0000,9,  -999.00, -999.000,9,  -999.00,9,  -999.00,9,  29.9507,2,  21.1512,2,  29.9648,2
49UP20220824_1,    P9,    27,  1,     33,     322,2,20220831,0824,1025,  5.5070, 137.0010, 4682,     76.3,       76,  29.5054,  34.6536,2,    197.0,2,  34.6499,2,   196.53,2,     1.20,2,     0.04,2,     0.01,2,    0.130,2, -999.000,9, -999.000,9,   -999.0,9,   -999.0,9,-999.0000,9,  -999.00, -999.000,9,  -999.00,9,  -999.00,9,  29.4867,2,  21.6407,2,  29.5011,2
49UP20220824_1,    P9,    27,  1,     32,     321,2,20220831,0824,1023,  5.5070, 137.0010, 4682,    101.4,      101,  24.9015,  34.7623,2,    164.8,2,  34.7582,2,   166.68,2,     3.30,2,     2.51,2,     0.24,2,    0.330,2, -999.000,9, -999.000,9,   -999.0,9,   -999.0,9,-999.0000,9,  -999.00, -999.000,9,  -999.00,9,  -999.00,9,  24.8796,2,  23.1981,2,  24.8863,2
49UP20220824_1,    P9,    27,  1,     31,     320,2,20220831,0824,1022,  5.5070, 137.0010, 4682,    126.7,      126,  22.7052,  34.7241,2,    155.9,2,  34.7243,2,   157.34,2,     5.69,2,     5.48,2,     0.04,2,    0.500,2, -999.000,9, -999.000,9,   -999.0,9,   -999.0,9,-999.0000,9,  -999.00, -999.000,9,  -999.00,9,  -999.00,9,  22.6796,2,  23.8162,2,  22.7038,2
49UP20220824_1,    P9,    27,  1,     30,     319,2,20220831,0824,1021,  5.5070, 137.0010, 4682,    152.1,      151,  18.9206,  34.7182,2,    147.7,2,  34.7143,2,   148.52,2,     8.26,2,     9.22,2,     0.02,2,    0.730,2, -999.000,9, -999.000,9,   -999.0,9,   -999.0,9,-999.0000,9,  -999.00, -999.000,9,  -999.00,9,  -999.00,9,  18.8936,2,  24.8328,2,  18.9113,2
49UP20220824_1,    P9,    27,  1,     29,     318,2,20220831,0824,1019,  5.5070, 137.0010, 4682,    202.3,      201,  12.4767,  34.4751,2,    120.6,2,  34.4751,2,   120.78,2,    23.14,2,    20.63,2,     0.01,2,    1.490,2, -999.000,9, -999.000,9,   -999.0,9,   -999.0,9,-999.0000,9,  -999.00, -999.000,9,  -999.00,9,  -999.00,9,  12.4498,2,  26.0948,2,  12.4789,2
49UP20220824_1,    P9,    27,  1,     28,     755,2,20220831,0824,1017,  5.5070, 137.0010, 4682,    252.8,      251,  10.3002,  34.5264,2,     90.3,2,  34.5264,2,    89.91,2,    32.75,2,    27.83,2,     0.00,2,    1.990,2, -999.000,9, -999.000,9,   -999.0,9,   -999.0,9,-999.0000,9,  -999.00, -999.000,9,  -999.00,9,  -999.00,9,  10.2704,2,  26.5357,2,  10.3000,2
49UP20220824_1,    P9,    27,  1,     27,     317,2,20220831,0824,1015,  5.5070, 137.0010, 4682,    284.3,      283,   9.5966,  34.5373,2,     80.6,2,  34.5362,2,    80.55,2,    35.71,2,    30.14,2,     0.00,2,    2.140,2, -999.000,9, -999.000,9,   -999.0,9,   -999.0,9,-999.0000,9,  -999.00, -999.000,9,  -999.00,9,  -999.00,9,   9.5645,2,  26.6639,2,   9.6022,2
49UP20220824_1,    P9,    27,  1,     26,     316,2,20220831,0824,1013,  5.5070, 137.0010, 4682,    323.4,      321,   9.1040,  34.5566,2,     82.1,2,  34.5556,2,    82.16,2,    37.24,2,    31.07,2,     0.00,2,    2.190,2, -999.000,9, -999.000,9,   -999.0,9,   -999.0,9,-999.0000,9,  -999.00, -999.000,9,  -999.00,9,  -999.00,9,   9.0686,2,  26.7599,2,   9.1041,2
49UP20220824_1,    P9,    27,  1,     25,     315,2,20220831,0824,1011,  5.5070, 137.0010, 4682,    375.0,      373,   8.5644,  34.5737,2,     80.8,2,  34.5728,2,    80.65,6,    38.30,6,    32.45,6,     0.00,6,    2.270,6, -999.000,9, -999.000,9,   -999.0,9,   -999.0,9,-999.0000,9,  -999.00, -999.000,9,  -999.00,9,  -999.00,9,   8.5246,2,  26.8592,2,   8.5651,2
49UP20220824_1,    P9,    27,  1,     24,     753,2,20220831,0824,1009,  5.5070, 137.0010, 4682,    423.3,      421,   8.3107,  34.5585,2,     87.1,2,  34.5581,2,    87.16,2,    39.61,2,    32.24,2,     0.00,2,    2.260,2, -999.000,9, -999.000,9,   -999.0,9,   -999.0,9,-999.0000,9,  -999.00, -999.000,9,  -999.00,9,  -999.00,9,   8.2665,2,  26.8869,2,   8.3087,2
49UP20220824_1,    P9,    27,  1,     23,     314,2,20220831,0824,1007,  5.5070, 137.0010, 4682,    475.6,      472,   7.6844,  34.5413,2,     90.7,2,  34.5403,2,    90.47,2,    44.21,2,    33.21,2,     0.00,2,    2.330,2, -999.000,9, -999.000,9,   -999.0,9,   -999.0,9,-999.0000,9,  -999.00, -999.000,9,  -999.00,9,  -999.00,9,   7.6368,2,  26.9671,2,   7.6842,2
49UP20220824_1,    P9,    27,  1,     22,     313,2,20220831,0824,1004,  5.5070, 137.0010, 4682,    576.3,      572,   6.8122,  34.5308,2,     85.9,2,  34.5301,6,    85.86,2,    53.85,2,    35.13,2,     0.00,2,    2.490,2, -999.000,9, -999.000,9,   -999.0,9,   -999.0,9,-999.0000,9,  -999.00, -999.000,9,  -999.00,9,  -999.00,9,   6.7579,2,  27.0823,2,   6.8114,2
49UP20220824_1,    P9,    27,  1,     21,     312,2,20220831,0824,1001,  5.5070, 137.0010, 4682,    676.9,      672,   6.0734,  34.5249,2,     85.9,2,  34.5243,2,    85.92,2,    64.06,2,    36.36,2,     0.00,2,    2.580,2, -999.000,9, -999.000,9,   -999.0,9,   -999.0,9,-999.0000,9,  -999.00, -999.000,9,  -999.00,9,  -999.00,9,   6.0130,2,  27.1756,2,   6.0719,2
49UP20220824_1,    P9,    27,  1,     20,     311,2,20220831,0824,0958,  5.5070, 137.0010, 4682,    778.5,      773,   5.4655,  34.5336,2,     85.3,2,  34.5329,2,    85.27,2,    73.81,2,    37.46,2,     0.00,2,    2.650,2, -999.000,9, -999.000,9,   -999.0,9,   -999.0,9,-999.0000,9,  -999.00, -999.000,9,  -999.00,9,  -999.00,9,   5.3991,2,  27.2584,2,   5.4694,2
49UP20220824_1,    P9,    27,  1,     19,     310,2,20220831,0824,0954,  5.5070, 137.0010, 4682,    879.1,      872,   4.8678,  34.5437,2,     83.5,2,  34.5432,2,    83.57,2,    85.60,2,    38.28,2,     0.00,2,    2.720,2, -999.000,9, -999.000,9,   -999.0,9,   -999.0,9,-999.0000,9,  -999.00, -999.000,9,  -999.00,9,  -999.00,9,   4.7962,2,  27.3368,2,   4.8700,2
49UP20220824_1,    P9,    27,  1,     18,     752,2,20220831,0824,0951,  5.5070, 137.0010, 4682,    981.6,      974,   4.4151,  34.5535,2,     86.2,2,  34.5530,2,    86.19,2,    94.26,2,    38.58,2,     0.00,2,    2.740,2, -999.000,9, -999.000,9,   -999.0,9,   -999.0,9,-999.0000,9,  -999.00, -999.000,9,  -999.00,9,  -999.00,9,   4.3377,2,  27.3953,2,   4.4144,2
49UP20220824_1,    P9,    27,  1,     17,     751,2,20220831,0824,0947,  5.5070, 137.0010, 4682,   1142.1,     1133,   3.9315,  34.5674,2,     88.0,2,  34.5673,2,    87.79,2,   104.09,2,    39.03,2,     0.00,2,    2.770,2, -999.000,9, -999.000,9,   -999.0,9,   -999.0,9,-999.0000,9,  -999.00, -999.000,9,  -999.00,9,  -999.00,9,   3.8443,2,  27.4581,2,   3.9313,2
49UP20220824_1,    P9,    27,  1,     16,     328,2,20220831,0824,0942,  5.5070, 137.0010, 4682,   1343.6,     1332,   3.3477,  34.5857,2,     94.2,2,  34.5853,2,    94.33,6,   115.91,6,    39.07,6,     0.00,6,    2.760,6, -999.000,9, -999.000,9,   -999.0,9,   -999.0,9,-999.0000,9,  -999.00, -999.000,9,  -999.00,9,  -999.00,9,   3.2491,2,  27.5311,2,   3.3477,2
49UP20220824_1,    P9,    27,  1,     15,     309,2,20220831,0824,0937,  5.5070, 137.0010, 4682,   1547.0,     1533,   2.8977,  34.6024,2,    101.4,2,  34.6024,6,   101.31,2,   124.59,2,    38.86,2,     0.00,2,    2.740,2, -999.000,9, -999.000,9,   -999.0,9,   -999.0,9,-999.0000,9,  -999.00, -999.000,9,  -999.00,9,  -999.00,9,   2.7871,2,  27.5870,2,   2.8975,2
49UP20220824_1,    P9,    27,  1,     14,     326,2,20220831,0824,0932,  5.5070, 137.0010, 4682,   1749.5,     1733,   2.5280,  34.6198,2,    106.6,2,  34.6195,2,   106.66,2,   132.36,2,    38.71,2,     0.00,2,    2.720,2, -999.000,9, -999.000,9,   -999.0,9,   -999.0,9,-999.0000,9,  -999.00, -999.000,9,  -999.00,9,  -999.00,9,   2.4050,2,  27.6339,2,   2.5280,2
49UP20220824_1,    P9,    27,  1,     13,     325,2,20220831,0824,0927,  5.5070, 137.0010, 4682,   1953.2,     1933,   2.2697,  34.6314,2,    113.6,2,  34.6308,2,   113.94,2,   136.79,2,    38.34,2,     0.00,2,    2.680,2, -999.000,9, -999.000,9,   -999.0,9,   -999.0,9,-999.0000,9,  -999.00, -999.000,9,  -999.00,9,  -999.00,9,   2.1331,2,  27.6657,2,   2.2710,2
49UP20220824_1,    P9,    27,  1,     12,     324,2,20220831,0824,0922,  5.5070, 137.0010, 4682,   2155.8,     2133,   2.0876,  34.6415,2,    118.8,2,  34.6410,2,   119.00,2,   139.86,2,    38.19,2,     0.00,2,    2.660,2, -999.000,9, -999.000,9,   -999.0,9,   -999.0,9,-999.0000,9,  -999.00, -999.000,9,  -999.00,9,  -999.00,9,   1.9365,2,  27.6895,2,   2.0875,2
49UP20220824_1,    P9,    27,  1,     11,     323,2,20220831,0824,0918,  5.5070, 137.0010, 4682,   2358.0,     2332,   1.8918,  34.6513,2,    126.3,2,  34.6508,2,   126.10,2,   142.72,2,    37.70,2,     0.00,2,    2.620,2, -999.000,9, -999.000,9,   -999.0,9,   -999.0,9,-999.0000,9,  -999.00, -999.000,9,  -999.00,9,  -999.00,9,   1.7262,2,  27.7135,2,   1.8918,2
49UP20220824_1,    P9,    27,  1,     10,     322,2,20220831,0824,0913,  5.5070, 137.0010, 4682,   2561.4,     2532,   1.7508,  34.6600,2,    133.4,2,  34.6597,6,   133.51,2,   143.57,2,    37.25,2,     0.00,2,    2.580,2, -999.000,9, -999.000,9,   -999.0,9,   -999.0,9,-999.0000,9,  -999.00, -999.000,9,  -999.00,9,  -999.00,9,   1.5696,2,  27.7322,2,   1.7507,2
49UP20220824_1,    P9,    27,  1,      9,     750,2,20220831,0824,0908,  5.5070, 137.0010, 4682,   2762.8,     2730,   1.6545,  34.6661,2,    138.8,2,  34.6654,2,   138.72,2,   144.31,2,    36.82,2,     0.00,2,    2.560,2, -999.000,9, -999.000,9,   -999.0,9,   -999.0,9,-999.0000,9,  -999.00, -999.000,9,  -999.00,9,  -999.00,9,   1.4568,2,  27.7453,2,   1.6545,2
49UP20220824_1,    P9,    27,  1,      8,     320,2,20220831,0824,0904,  5.5070, 137.0010, 4682,   2968.7,     2932,   1.5921,  34.6707,2,    143.2,2,  34.6703,2,   143.40,2,   144.16,2,    36.53,2,     0.00,2,    2.530,2, -999.000,9, -999.000,9,   -999.0,9,   -999.0,9,-999.0000,9,  -999.00, -999.000,9,  -999.00,9,  -999.00,9,   1.3763,2,  27.7549,2,   1.5920,2
49UP20220824_1,    P9,    27,  1,      7,     319,2,20220831,0824,0858,  5.5070, 137.0010, 4682,   3212.8,     3171,   1.5654,  34.6740,2,    146.0,2,  34.6733,2,   145.96,6,   144.09,6,    36.44,6,     0.00,6,    2.520,6, -999.000,9, -999.000,9,   -999.0,9,   -999.0,9,-999.0000,9,  -999.00, -999.000,9,  -999.00,9,  -999.00,9,   1.3265,2,  27.7610,2,   1.5653,2
49UP20220824_1,    P9,    27,  1,      6,     318,2,20220831,0824,0853,  5.5070, 137.0010, 4682,   3468.2,     3421,   1.5565,  34.6765,2,    148.1,2,  34.6757,2,   148.23,2,   143.59,2,    36.27,2,     0.00,2,    2.500,2, -999.000,9, -999.000,9,   -999.0,9,   -999.0,9,-999.0000,9,  -999.00, -999.000,9,  -999.00,9,  -999.00,9,   1.2922,2,  27.7654,2,   1.5565,2
49UP20220824_1,    P9,    27,  1,      5,     838,2,20220831,0824,0847,  5.5070, 137.0010, 4682,   3723.8,     3671,   1.5452,  34.6792,2,    150.6,2,  34.6783,4,   150.51,2,   143.23,2,    36.11,2,     0.00,2,    2.490,2, -999.000,9, -999.000,9,   -999.0,9,   -999.0,9,-999.0000,9,  -999.00, -999.000,9,  -999.00,9,  -999.00,9,   1.2547,2,  27.7702,2,   1.5451,2
49UP20220824_1,    P9,    27,  1,      4,     316,2,20220831,0824,0842,  5.5070, 137.0010, 4682,   3979.9,     3921,   1.5349,  34.6819,2,    153.4,2,  34.6813,6,   153.78,2,   143.01,2,    35.94,2,     0.00,2,    2.480,2, -999.000,9, -999.000,9,   -999.0,9,   -999.0,9,-999.0000,9,  -999.00, -999.000,9,  -999.00,9,  -999.00,9,   1.2172,2,  27.7750,2,   1.5348,2
49UP20220824_1,    P9,    27,  1,      3,     315,2,20220831,0824,0836,  5.5070, 137.0010, 4682,   4235.1,     4170,   1.5222,  34.6848,2,    156.8,2,  34.6842,2,   156.93,2,   141.99,2,    35.75,2,     0.00,2,    2.460,2, -999.000,9, -999.000,9,   -999.0,9,   -999.0,9,-999.0000,9,  -999.00, -999.000,9,  -999.00,9,  -999.00,9,   1.1767,2,  27.7801,2,   1.5222,2
49UP20220824_1,    P9,    27,  1,      2,     314,2,20220831,0824,0831,  5.5070, 137.0010, 4682,   4491.5,     4420,   1.5130,  34.6875,2,    160.4,2,  34.6865,4,   160.68,2,   140.89,2,    35.48,2,     0.00,2,    2.440,2, -999.000,9, -999.000,9,   -999.0,9,   -999.0,9,-999.0000,9,  -999.00, -999.000,9,  -999.00,9,  -999.00,9,   1.1386,2,  27.7849,2,   1.5132,2
49UP20220824_1,    P9,    27,  1,      1,     308,2,20220831,0824,0825,  5.5070, 137.0010, 4682,   4759.6,     4681,   1.5363,  34.6882,2,    161.5,2,  34.6876,2,   161.54,2,   140.52,2,    35.46,2,     0.00,2,    2.430,2, -999.000,9, -999.000,9,   -999.0,9,   -999.0,9,-999.0000,9,  -999.00, -999.000,9,  -999.00,9,  -999.00,9,   1.1298,2,  27.7861,2,   1.5362,2