BOTTLE,20230330JMAAMD
EXPOCODE,SECT_ID,STNNBR,CASTNO,SAMPNO,BTLNBR,BTLNBR_FLAG_U,DATE,TIME,BTL_TIME,LATITUDE,LONGITUDE,DEPTH,CTDPRS,CTDDEP,CTDTMP,CTDSAL,CTDSAL_FLAG_W,CTDOXY,CTDOXY_FLAG_W,SALNTY,SALNTY_FLAG_W,OXYGEN,OXYGEN_FLAG_W,SILCAT,SILCAT_FLAG_W,NO2+NO3,NO2+NO3_FLAG_W,NITRIT,NITRIT_FLAG_W,PHSPHT,PHSPHT_FLAG_W,CFC-11,CFC-11_FLAG_W,CFC-12,CFC-12_FLAG_W,TCARBN,TCARBN_FLAG_W,ALKALI,ALKALI_FLAG_W,PH_TS,PH_TS_FLAG_W,PH_TS_TMP,CFC113,CFC113_FLAG_W,CHLORA,CHLORA_FLAG_W,PPHYTN,PPHYTN_FLAG_W,THETA,THETA_FLAG_W,SIGTHT,SIGTHT_FLAG_W,SBE35,SBE35_FLAG_W
,,,,,,,,UTC,,,,METER,DBAR,METERS,ITS-90,PSS-78,,UMOL/KG,,PSS78,,UMOL/KG,,UMOL/KG,,UMOL/KG,,UMOL/KG,,UMOL/KG,,PMOL/KG,,PMOL/KG,,UMOL/KG,,UMOL/KG,,,,ITS-90,PMOL/KG,,UG/KG,,UG/KG,,ITS-90,,KG/M3,,ITS-90,
49UP20220929_1,    P9,    70,  1,      0,      -9,0,20221005,1310,1447, 24.9835, 136.9902, 5201,      0.0,        0,  28.9770,  34.5189,2,    196.5,2,  34.5435,2,   196.80,2,     1.37,2,     0.06,2,     0.00,2,    0.040,2, -999.000,9, -999.000,9,   1952.7,2,   2267.8,2,   8.0931,2,    25.00, -999.000,9,     0.05,2,     0.02,2,  28.9763,2,  21.7108,2,-999.0000,9
49UP20220929_1,    P9,    70,  1,     36,     757,2,20221005,1310,1528, 24.9835, 136.9902, 5201,     11.8,       12,  28.9873,  34.5185,2,    196.5,2,  34.5210,2,   196.92,2,     1.29,2,     0.04,2,     0.00,2,    0.010,2, -999.000,9, -999.000,9,   1951.0,2,   2265.6,2,   8.0931,2,    25.00, -999.000,9,     0.05,2,     0.02,2,  28.9845,2,  21.7078,2,  28.9900,2
49UP20220929_1,    P9,    70,  1,     35,     756,2,20221005,1310,1527, 24.9835, 136.9902, 5201,     26.5,       26,  28.9950,  34.5557,2,    196.6,2,  34.5508,2,   196.69,2,     1.25,2,     0.03,2,     0.00,2,    0.000,2, -999.000,9, -999.000,9,   1950.9,2,   2269.1,2,   8.0941,2,    25.00, -999.000,9,     0.05,2,     0.01,2,  28.9887,2,  21.7343,2,  28.9890,2
49UP20220929_1,    P9,    70,  1,     34,     323,2,20221005,1310,1522, 24.9835, 136.9902, 5201,     51.3,       51,  26.7508,  34.8766,2,    218.2,2,  34.8705,2,   216.93,2,     1.29,2,     0.02,2,     0.00,2,    0.010,2, -999.000,9, -999.000,9,   1966.9,2,   2290.0,2,   8.0887,2,    25.00, -999.000,9,     0.09,2,     0.06,2,  26.7391,2,  22.7079,2,  26.7551,2
49UP20220929_1,    P9,    70,  1,     33,     322,2,20221005,1310,1521, 24.9835, 136.9902, 5201,     78.8,       78,  24.2422,  34.9644,2,    216.7,2,  34.9629,2,   215.98,2,     1.37,2,     0.02,2,     0.00,2,    0.010,2, -999.000,9, -999.000,9,   1986.0,2,   2292.5,2,   8.0628,2,    25.00, -999.000,9,     0.15,2,     0.10,2,  24.2255,2,  23.5474,2,  24.2612,2
49UP20220929_1,    P9,    70,  1,     32,     321,2,20221005,1310,1519, 24.9835, 136.9902, 5201,    102.1,      101,  22.5871,  34.9422,2,    208.3,2,  34.9460,2,   209.02,2,     1.53,2,     0.01,2,     0.00,2,    0.020,2, -999.000,9, -999.000,9,   2004.8,2,   2294.9,2,   8.0312,2,    25.00, -999.000,9,     0.19,2,     0.34,2,  22.5666,2,  24.0139,2,  22.5665,2
49UP20220929_1,    P9,    70,  1,     31,     320,2,20221005,1310,1518, 24.9835, 136.9902, 5201,    128.2,      127,  21.1289,  34.9125,2,    201.8,2,  34.9125,2,   202.15,6,     1.89,6,     0.55,6,     0.05,6,    0.050,6, -999.000,9, -999.000,9,   2021.1,2,   2293.5,2,   7.9981,2,    25.00, -999.000,9,     0.11,2,     0.29,2,  21.1043,2,  24.3989,2,  21.1243,2
49UP20220929_1,    P9,    70,  1,     30,     319,2,20221005,1310,1516, 24.9835, 136.9902, 5201,    152.9,      152,  19.8724,  34.8591,2,    202.2,2,  34.8592,2,   202.08,2,     2.22,2,     1.45,2,     0.02,2,    0.110,2, -999.000,9, -999.000,9,   2031.0,2,   2288.0,2,   7.9768,2,    25.00, -999.000,9,     0.03,2,     0.09,2,  19.8443,2,  24.6952,2,  19.8715,2
49UP20220929_1,    P9,    70,  1,     29,     318,2,20221005,1310,1515, 24.9835, 136.9902, 5201,    202.6,      201,  18.8591,  34.8123,2,    205.8,2,  34.8139,2,   205.21,2,     2.69,2,     2.19,2,     0.01,2,    0.160,2, -999.000,9, -999.000,9,   2042.9,2,   2285.4,2,   7.9669,2,    25.00, -999.000,9,     0.01,2,     0.03,2,  18.8232,2,  24.9227,2,  18.8653,2
49UP20220929_1,    P9,    70,  1,     28,     755,2,20221005,1310,1513, 24.9835, 136.9902, 5201,    253.8,      252,  17.9159,  34.7671,2,    208.9,2,  34.7677,2,   208.52,2,     3.32,2,     3.23,2,     0.01,2,    0.220,2, -999.000,9, -999.000,9,   2039.0,2,   2282.6,2,   7.9511,2,    25.00, -999.000,9,  -999.00,9,  -999.00,9,  17.8724,2,  25.1250,2,  17.9259,2
49UP20220929_1,    P9,    70,  1,     27,     317,2,20221005,1310,1511, 24.9835, 136.9902, 5201,    286.5,      284,  17.4465,  34.7465,2,    208.8,2,  34.7468,2,   208.73,2,     3.92,2,     4.00,2,     0.01,2,    0.270,2, -999.000,9, -999.000,9,   2044.3,2,   2280.5,2,   7.9413,2,    25.00, -999.000,9,  -999.00,9,  -999.00,9,  17.3984,2,  25.2244,2,  17.4524,2
49UP20220929_1,    P9,    70,  1,     26,     316,2,20221005,1310,1508, 24.9835, 136.9902, 5201,    374.8,      372,  16.2057,  34.6615,2,    197.3,2,  34.6625,2,   197.05,2,     6.69,2,     6.97,2,     0.00,2,    0.470,2, -999.000,9, -999.000,9,   2064.7,2,   2277.9,2,   7.8954,2,    25.00, -999.000,9,  -999.00,9,  -999.00,9,  16.1457,2,  25.4538,2,  16.2011,2
49UP20220929_1,    P9,    70,  1,     25,     315,2,20221005,1310,1505, 24.9835, 136.9902, 5201,    473.9,      470,  14.0983,  34.4894,2,    190.7,2,  34.4898,2,   190.69,2,    11.88,2,    10.81,2,     0.00,2,    0.740,2, -999.000,9, -999.000,9,   2089.5,2,   2272.4,2,   7.8337,2,    25.00, -999.000,9,  -999.00,9,  -999.00,9,  14.0291,2,  25.7863,2,  14.0966,2
49UP20220929_1,    P9,    70,  1,     24,     753,2,20221005,1310,1502, 24.9835, 136.9902, 5201,    576.7,      572,  10.5675,  34.2338,2,    174.0,2,  34.2344,2,   173.93,6,    25.70,6,    18.33,6,     0.00,6,    1.300,6, -999.000,9, -999.000,9,   2141.2,2,   2272.3,2,   7.7133,2,    25.00, -999.000,9,  -999.00,9,  -999.00,9,  10.4976,2,  26.2680,2,  10.5744,2
49UP20220929_1,    P9,    70,  1,     23,     314,2,20221005,1310,1459, 24.9835, 136.9902, 5201,    677.4,      672,   7.8998,  34.1254,2,    133.3,2,  34.1254,2,   133.03,2,    47.04,2,    26.90,2,     0.00,2,    1.930,2, -999.000,9, -999.000,9,   2201.9,2,   2283.8,2,   7.5803,2,    25.00, -999.000,9,  -999.00,9,  -999.00,9,   7.8305,2,  26.6119,2,   7.8957,2
49UP20220929_1,    P9,    70,  1,     22,     313,2,20221005,1310,1456, 24.9835, 136.9902, 5201,    778.9,      772,   6.3355,  34.1369,2,     95.6,2,  34.1368,2,    95.60,2,    66.80,2,    33.19,2,     0.00,2,    2.390,2, -999.000,9, -999.000,9,   2251.3,2,   2301.3,2,   7.4835,2,    25.00, -999.000,9,  -999.00,9,  -999.00,9,   6.2644,2,  26.8369,2,   6.3346,2
49UP20220929_1,    P9,    70,  1,     21,     312,2,20221005,1310,1453, 24.9835, 136.9902, 5201,    881.1,      874,   5.2683,  34.1959,2,     77.7,2,  34.1968,2,    77.69,2,    87.39,2,    36.39,2,     0.00,2,    2.610,2, -999.000,9, -999.000,9,   2284.3,2,   2322.8,2,   7.4383,2,    25.00, -999.000,9,  -999.00,9,  -999.00,9,   5.1943,2,  27.0153,2,   5.2682,2
49UP20220929_1,    P9,    70,  1,     20,     311,2,20221005,1310,1450, 24.9835, 136.9902, 5201,    979.2,      971,   4.4070,  34.2697,2,     60.8,2,  34.2697,2,    60.57,2,   104.89,2,    39.24,2,     0.00,2,    2.810,2, -999.000,9, -999.000,9,   2316.4,6,   2340.3,6,   7.3971,2,    25.00, -999.000,9,  -999.00,9,  -999.00,9,   4.3304,2,  27.1705,2,   4.4058,2
49UP20220929_1,    P9,    70,  1,     19,     310,2,20221005,1310,1446, 24.9835, 136.9902, 5201,   1141.7,     1131,   3.5947,  34.3724,2,     54.3,2,  34.3723,2,    54.17,2,   123.38,2,    40.84,2,     0.00,2,    2.920,2, -999.000,9, -999.000,9,   2340.5,2,   2364.0,2,   7.3917,6,    25.00, -999.000,9,  -999.00,9,  -999.00,9,   3.5109,2,  27.3359,2,   3.5952,2
49UP20220929_1,    P9,    70,  1,     18,     752,2,20221005,1310,1441, 24.9835, 136.9902, 5201,   1344.8,     1332,   3.0156,  34.4700,2,     64.6,2,  34.4697,2,    64.62,2,   134.86,2,    40.80,2,     0.00,2,    2.900,2, -999.000,9, -999.000,9,   2348.1,2,   2382.5,2,   7.4176,2,    25.00, -999.000,9,  -999.00,9,  -999.00,9,   2.9206,2,  27.4692,2,   3.0156,2
49UP20220929_1,    P9,    70,  1,     17,     751,2,20221005,1310,1436, 24.9835, 136.9902, 5201,   1547.2,     1532,   2.6080,  34.5212,2,     76.3,2,  34.5216,6,    76.43,6,   141.77,6,    40.33,6,     0.00,6,    2.860,6, -999.000,9, -999.000,9,   2350.2,2,   2392.6,2,   7.4413,2,    25.00, -999.000,9,  -999.00,9,  -999.00,9,   2.5010,2,  27.5469,2,   2.6080,2
49UP20220929_1,    P9,    70,  1,     16,     328,2,20221005,1310,1431, 24.9835, 136.9902, 5201,   1750.2,     1732,   2.2861,  34.5615,2,     87.2,2,  34.5612,2,    87.13,2,   146.52,2,    39.91,2,     0.00,2,    2.820,2, -999.000,9, -999.000,9,   2331.1,3,   2402.7,2,   7.4637,2,    25.00, -999.000,9,  -999.00,9,  -999.00,9,   2.1665,2,  27.6070,2,   2.2860,2
49UP20220929_1,    P9,    70,  1,     15,     309,2,20221005,1310,1426, 24.9835, 136.9902, 5201,   1952.6,     1931,   2.0622,  34.6010,2,    106.1,2,  34.6009,2,   106.03,2,   145.64,2,    38.77,2,     0.00,2,    2.730,2, -999.000,9, -999.000,9,   2320.2,3,   2408.9,2,   7.4995,2,    25.00, -999.000,9,  -999.00,9,  -999.00,9,   1.9289,2,  27.6576,2,   2.0620,2
49UP20220929_1,    P9,    70,  1,     14,     326,2,20221005,1310,1421, 24.9835, 136.9902, 5201,   2157.1,     2132,   1.9110,  34.6238,2,    117.6,2,  34.6237,6,   117.41,2,   145.29,2,    38.07,2,     0.00,2,    2.670,2, -999.000,9, -999.000,9,   2318.5,3,   2410.7,2,   7.5224,2,    25.00, -999.000,9,  -999.00,9,  -999.00,9,   1.7627,2,  27.6887,2,   1.9111,2
49UP20220929_1,    P9,    70,  1,     13,     325,2,20221005,1310,1417, 24.9835, 136.9902, 5201,   2360.5,     2332,   1.8386,  34.6341,2,    123.1,2,  34.6344,2,   123.18,2,   144.95,2,    37.72,2,     0.00,2,    2.640,2, -999.000,9, -999.000,9,   2316.2,3,   2411.9,2,   7.5330,2,    25.00, -999.000,9,  -999.00,9,  -999.00,9,   1.6738,2,  27.7037,2,   1.8386,2
49UP20220929_1,    P9,    70,  1,     12,     324,2,20221005,1310,1412, 24.9835, 136.9902, 5201,   2562.8,     2531,   1.7638,  34.6442,2,    129.0,2,  34.6441,2,   129.23,2,   144.96,2,    37.41,2,     0.00,2,    2.620,2, -999.000,9, -999.000,9,   2315.7,3,   2412.4,2,   7.5457,2,    25.00, -999.000,9,  -999.00,9,  -999.00,9,   1.5823,2,  27.7186,2,   1.7639,2
49UP20220929_1,    P9,    70,  1,     11,     323,2,20221005,1310,1407, 24.9835, 136.9902, 5201,   2767.7,     2732,   1.7027,  34.6518,2,    133.8,2,  34.6518,2,   133.68,2,   144.77,2,    37.06,2,     0.00,2,    2.590,2, -999.000,9, -999.000,9,   2330.3,2,   2413.6,2,   7.5499,2,    25.00, -999.000,9,  -999.00,9,  -999.00,9,   1.5036,2,  27.7305,2,   1.7027,2
49UP20220929_1,    P9,    70,  1,     10,     322,2,20221005,1310,1402, 24.9835, 136.9902, 5201,   2971.8,     2932,   1.6538,  34.6583,2,    138.4,2,  34.6581,6,   138.22,6,   144.31,6,    36.80,6,     0.00,6,    2.570,6, -999.000,9, -999.000,9,   2328.4,2,   2411.3,2,   7.5579,2,    25.00, -999.000,9,  -999.00,9,  -999.00,9,   1.4365,2,  27.7406,2,   1.6539,2
49UP20220929_1,    P9,    70,  1,      9,     750,2,20221005,1310,1357, 24.9835, 136.9902, 5201,   3217.3,     3172,   1.6115,  34.6646,2,    142.9,2,  34.6643,2,   142.65,2,   143.88,2,    36.49,2,     0.00,2,    2.550,2, -999.000,9, -999.000,9,   2328.5,2,   2413.2,2,   7.5663,2,    25.00, -999.000,9,  -999.00,9,  -999.00,9,   1.3712,2,  27.7503,2,   1.6114,2
49UP20220929_1,    P9,    70,  1,      8,     320,2,20221005,1310,1351, 24.9835, 136.9902, 5201,   3470.4,     3420,   1.5684,  34.6715,2,    147.7,2,  34.6709,2,   147.62,2,   143.42,2,    36.19,2,     0.00,2,    2.520,2, -999.000,9, -999.000,9,   2327.7,6,   2413.3,6,   7.5732,2,    25.00, -999.000,9,  -999.00,9,  -999.00,9,   1.3036,2,  27.7606,2,   1.5682,2
49UP20220929_1,    P9,    70,  1,      7,     319,2,20221005,1310,1346, 24.9835, 136.9902, 5201,   3725.4,     3669,   1.5437,  34.6767,2,    151.4,2,  34.6756,2,   151.27,2,   142.93,2,    36.02,2,     0.00,2,    2.510,2, -999.000,9, -999.000,9,   2320.9,2,   2413.7,2,   7.5791,6,    25.00, -999.000,9,  -999.00,9,  -999.00,9,   1.2530,2,  27.7683,2,   1.5438,2
49UP20220929_1,    P9,    70,  1,      6,     318,2,20221005,1310,1340, 24.9835, 136.9902, 5201,   3982.7,     3920,   1.5453,  34.6791,2,    153.5,2,  34.6789,2,   153.65,2,   142.46,2,    35.81,2,     0.00,2,    2.490,2, -999.000,9, -999.000,9,   2322.0,2,   2414.0,2,   7.5807,2,    25.00, -999.000,9,  -999.00,9,  -999.00,9,   1.2271,2,  27.7721,2,   1.5453,2
49UP20220929_1,    P9,    70,  1,      5,     838,2,20221005,1310,1335, 24.9835, 136.9902, 5201,   4241.4,     4173,   1.5552,  34.6809,2,    155.1,2,  34.6811,2,   155.12,2,   141.97,2,    35.70,2,     0.00,2,    2.490,2, -999.000,9, -999.000,9,   2318.9,6,   2412.1,6,   7.5869,2,    25.00, -999.000,9,  -999.00,9,  -999.00,9,   1.2081,2,  27.7748,2,   1.5553,2
49UP20220929_1,    P9,    70,  1,      4,     316,2,20221005,1310,1329, 24.9835, 136.9902, 5201,   4495.4,     4420,   1.5742,  34.6818,2,    156.1,2,  34.6817,2,   156.01,2,   141.89,2,    35.65,2,     0.00,2,    2.480,2, -999.000,9, -999.000,9,   2326.1,2,   2410.8,2,   7.5867,6,    25.00, -999.000,9,  -999.00,9,  -999.00,9,   1.1975,2,  27.7763,2,   1.5742,2
49UP20220929_1,    P9,    70,  1,      3,     315,2,20221005,1310,1323, 24.9835, 136.9902, 5201,   4750.0,     4668,   1.5999,  34.6823,2,    156.5,2,  34.6822,2,   156.53,2,   141.72,2,    35.58,2,     0.00,2,    2.480,2, -999.000,9, -999.000,9,   2322.4,2,   2411.7,2,   7.5860,2,    25.00, -999.000,9,  -999.00,9,  -999.00,9,   1.1925,2,  27.7770,2,   1.5999,2
49UP20220929_1,    P9,    70,  1,      2,     314,2,20221005,1310,1317, 24.9835, 136.9902, 5201,   5010.3,     4920,   1.6294,  34.6824,2,    156.9,2,  34.6828,2,   156.97,2,   141.66,2,    35.55,2,     0.00,2,    2.470,2, -999.000,9, -999.000,9,   2319.3,2,   2412.2,2,   7.5884,2,    25.00, -999.000,9,  -999.00,9,  -999.00,9,   1.1896,2,  27.7773,2,   1.6294,2
49UP20220929_1,    P9,    70,  1,      1,     308,2,20221005,1310,1311, 24.9835, 136.9902, 5201,   5280.6,     5183,   1.6636,  34.6825,2,    157.1,2,  34.6825,6,   157.02,2,   141.49,2,    35.59,2,     0.00,2,    2.480,2, -999.000,9, -999.000,9,   2313.2,2,   2410.2,2,   7.5870,2,    25.00, -999.000,9,  -999.00,9,  -999.00,9,   1.1890,2,  27.7774,2,   1.6636,2