BOTTLE,20230330JMAAMD
EXPOCODE,SECT_ID,STNNBR,CASTNO,SAMPNO,BTLNBR,BTLNBR_FLAG_U,DATE,TIME,BTL_TIME,LATITUDE,LONGITUDE,DEPTH,CTDPRS,CTDDEP,CTDTMP,CTDSAL,CTDSAL_FLAG_W,CTDOXY,CTDOXY_FLAG_W,SALNTY,SALNTY_FLAG_W,OXYGEN,OXYGEN_FLAG_W,SILCAT,SILCAT_FLAG_W,NO2+NO3,NO2+NO3_FLAG_W,NITRIT,NITRIT_FLAG_W,PHSPHT,PHSPHT_FLAG_W,CFC-11,CFC-11_FLAG_W,CFC-12,CFC-12_FLAG_W,TCARBN,TCARBN_FLAG_W,ALKALI,ALKALI_FLAG_W,PH_TS,PH_TS_FLAG_W,PH_TS_TMP,CFC113,CFC113_FLAG_W,CHLORA,CHLORA_FLAG_W,PPHYTN,PPHYTN_FLAG_W,THETA,THETA_FLAG_W,SIGTHT,SIGTHT_FLAG_W,SBE35,SBE35_FLAG_W
,,,,,,,,UTC,,,,METER,DBAR,METERS,ITS-90,PSS-78,,UMOL/KG,,PSS78,,UMOL/KG,,UMOL/KG,,UMOL/KG,,UMOL/KG,,UMOL/KG,,PMOL/KG,,PMOL/KG,,UMOL/KG,,UMOL/KG,,,,ITS-90,PMOL/KG,,UG/KG,,UG/KG,,ITS-90,,KG/M3,,ITS-90,
49UP20220824_1,    P9,    53,  1,      0,      -9,0,20220909,0014,0145, 17.0305, 137.0037, 4798,      0.0,        0,  30.2540,  34.3718,2,    193.3,2,  34.3773,2,   194.25,2,     1.08,2,     0.04,2,     0.00,2,    0.030,2, -999.000,9, -999.000,9,   1927.5,2,   2257.5,2,   8.1137,2,    25.00, -999.000,9,     0.07,2,     0.01,2,  30.2533,2,  21.1688,2,-999.0000,9
49UP20220824_1,    P9,    53,  1,     36,     757,2,20220909,0014,0231, 17.0305, 137.0037, 4798,     10.6,       11,  30.2523,  34.3718,2,    193.2,2,  34.3708,2,   193.71,6,     1.06,6,     0.00,6,     0.00,6,    0.010,6, -999.000,9, -999.000,9,   1928.3,2,   2255.4,2,   8.1153,2,    25.00, -999.000,9,     0.06,2,     0.01,2,  30.2497,2,  21.1700,2,  30.2546,2
49UP20220824_1,    P9,    53,  1,     35,     756,2,20220909,0014,0229, 17.0305, 137.0037, 4798,     50.8,       50,  29.8170,  34.5187,2,    203.3,2,  34.5137,2,   202.98,2,     1.05,2,     0.11,2,     0.00,2,    0.020,2, -999.000,9, -999.000,9,   1936.3,2,   2265.9,2,   8.1133,2,    25.00, -999.000,9,     0.09,2,     0.01,2,  29.8045,2,  21.4319,2,  29.8171,2
49UP20220824_1,    P9,    53,  1,     34,     323,2,20220909,0014,0227, 17.0305, 137.0037, 4798,     76.1,       76,  28.1250,  34.7017,2,    208.5,2,  34.7004,2,   208.39,2,     1.05,2,     0.01,2,     0.00,2,    0.020,2, -999.000,9, -999.000,9,   1952.0,2,   2278.3,2,   8.1007,2,    25.00, -999.000,9,     0.12,2,     0.02,2,  28.1071,2,  22.1353,2,  28.1257,2
49UP20220824_1,    P9,    53,  1,     33,     322,2,20220909,0014,0224, 17.0305, 137.0037, 4798,    101.8,      101,  26.6416,  34.8155,2,    206.0,2,  34.8161,2,   205.68,2,     1.09,2,     0.00,2,     0.00,2,    0.010,2, -999.000,9, -999.000,9,   1966.0,2,   2284.6,2,   8.0896,2,    25.00, -999.000,9,     0.22,2,     0.09,2,  26.6184,2,  22.7000,2,  26.6462,2
49UP20220824_1,    P9,    53,  1,     32,     321,2,20220909,0014,0222, 17.0305, 137.0037, 4798,    124.2,      123,  25.6925,  34.9126,2,    200.3,2,  34.9086,2,   199.82,2,     1.20,2,     0.13,2,     0.00,2,    0.030,2, -999.000,9, -999.000,9,   1983.8,2,   2291.7,2,   8.0688,2,    25.00, -999.000,9,     0.27,2,     0.19,2,  25.6651,2,  23.0713,2,  25.7038,2
49UP20220824_1,    P9,    53,  1,     31,     320,2,20220909,0014,0221, 17.0305, 137.0037, 4798,    150.9,      150,  24.5876,  34.9735,2,    186.3,2,  34.9740,2,   186.09,2,     1.49,2,     0.63,2,     0.05,2,    0.100,2, -999.000,9, -999.000,9,   2013.0,2,   2296.8,2,   8.0245,2,    25.00, -999.000,9,     0.21,2,     0.36,2,  24.5553,2,  23.4556,2,  24.5851,2
49UP20220824_1,    P9,    53,  1,     30,     319,2,20220909,0014,0219, 17.0305, 137.0037, 4798,    201.1,      200,  20.0999,  34.8789,2,    192.2,2,  34.8787,2,   192.94,2,     2.53,2,     2.24,2,     0.01,2,    0.170,2, -999.000,9, -999.000,9,   2040.6,2,   2286.9,2,   7.9640,2,    25.00, -999.000,9,     0.03,2,     0.06,2,  20.0626,2,  24.6528,2,  20.0997,2
49UP20220824_1,    P9,    53,  1,     29,     318,2,20220909,0014,0217, 17.0305, 137.0037, 4798,    251.3,      250,  17.5507,  34.7546,2,    197.5,2,  34.7547,2,   197.64,2,     4.31,2,     4.74,2,     0.01,2,    0.320,2, -999.000,9, -999.000,9,   2053.1,2,   2280.5,2,   7.9255,2,    25.00, -999.000,9,  -999.00,9,  -999.00,9,  17.5083,2,  25.2041,2,  17.5513,2
49UP20220824_1,    P9,    53,  1,     28,     755,2,20220909,0014,0215, 17.0305, 137.0037, 4798,    301.6,      300,  15.4445,  34.5897,2,    190.7,2,  34.5939,2,   191.57,2,     7.87,2,     8.56,2,     0.00,2,    0.590,2, -999.000,9, -999.000,9,   2077.3,2,   2275.2,2,   7.8650,2,    25.00, -999.000,9,  -999.00,9,  -999.00,9,  15.3979,2,  25.5677,2,  15.4433,2
49UP20220824_1,    P9,    53,  1,     27,     317,2,20220909,0014,0213, 17.0305, 137.0037, 4798,    351.8,      349,  13.1161,  34.3961,2,    169.4,2,  34.4002,2,   170.44,6,    14.65,6,    13.84,6,     0.00,6,    1.010,6, -999.000,9, -999.000,9,   2109.0,2,   2268.4,2,   7.7668,2,    25.00, -999.000,9,  -999.00,9,  -999.00,9,  13.0674,2,  25.9116,2,  13.1175,2
49UP20220824_1,    P9,    53,  1,     26,     316,2,20220909,0014,0211, 17.0305, 137.0037, 4798,    402.8,      400,  11.1600,  34.3045,2,    138.6,2,  34.3074,2,   138.26,2,    24.65,2,    20.42,2,     0.00,2,    1.500,2, -999.000,9, -999.000,9,   2160.8,2,   2273.2,2,   7.6635,2,    25.00, -999.000,9,  -999.00,9,  -999.00,9,  11.1098,2,  26.2141,2,  11.1583,2
49UP20220824_1,    P9,    53,  1,     25,     315,2,20220909,0014,0209, 17.0305, 137.0037, 4798,    454.4,      451,   9.4983,  34.2460,2,    121.6,2,  34.2471,2,   122.10,2,    34.49,2,    25.01,2,     0.00,2,    1.820,2, -999.000,9, -999.000,9,   2189.8,2,   2278.5,2,   7.5961,6,    25.00, -999.000,9,  -999.00,9,  -999.00,9,   9.4470,2,  26.4555,2,   9.4996,2
49UP20220824_1,    P9,    53,  1,     24,     753,2,20220909,0014,0207, 17.0305, 137.0037, 4798,    506.0,      502,   8.2903,  34.2986,2,     89.5,2,  34.2968,2,    90.24,2,    45.59,2,    30.31,2,     0.00,2,    2.200,2, -999.000,9, -999.000,9,   2228.1,6,   2291.0,6,   7.5225,2,    25.00, -999.000,9,  -999.00,9,  -999.00,9,   8.2375,2,  26.6873,2,   8.2914,2
49UP20220824_1,    P9,    53,  1,     23,     314,2,20220909,0014,0204, 17.0305, 137.0037, 4798,    606.5,      602,   7.0433,  34.3799,2,     75.9,2,  34.3742,2,    75.58,2,    59.42,2,    34.54,2,     0.00,2,    2.480,2, -999.000,9, -999.000,9,   2256.9,2,   2309.7,2,   7.4858,2,    25.00, -999.000,9,  -999.00,9,  -999.00,9,   6.9852,2,  26.9324,2,   7.0430,2
49UP20220824_1,    P9,    53,  1,     22,     313,2,20220909,0014,0201, 17.0305, 137.0037, 4798,    707.2,      702,   6.1052,  34.4062,2,     77.3,2,  34.4080,2,    77.49,2,    71.61,2,    36.30,2,     0.00,2,    2.590,2, -999.000,9, -999.000,9,   2272.7,2,   2324.7,2,   7.4803,6,    25.00, -999.000,9,  -999.00,9,  -999.00,9,   6.0420,2,  27.0781,2,   6.1063,2
49UP20220824_1,    P9,    53,  1,     21,     312,2,20220909,0014,0158, 17.0305, 137.0037, 4798,    807.2,      801,   5.5029,  34.4556,2,     79.7,2,  34.4549,2,    79.64,2,    79.59,2,    37.06,2,     0.00,2,    2.650,2, -999.000,9, -999.000,9,   2285.6,6,   2337.0,6,   7.4822,2,    25.00, -999.000,9,  -999.00,9,  -999.00,9,   5.4338,2,  27.1925,2,   5.5025,2
49UP20220824_1,    P9,    53,  1,     20,     311,2,20220909,0014,0155, 17.0305, 137.0037, 4798,    908.6,      901,   4.9240,  34.4895,2,     78.4,2,  34.4899,2,    78.66,2,    89.92,2,    38.22,2,     0.00,2,    2.730,2, -999.000,9, -999.000,9,   2299.1,2,   2349.8,2,   7.4782,2,    25.00, -999.000,9,  -999.00,9,  -999.00,9,   4.8494,2,  27.2878,2,   4.9244,2
49UP20220824_1,    P9,    53,  1,     19,     310,2,20220909,0014,0151, 17.0305, 137.0037, 4798,   1013.9,     1005,   4.5125,  34.5153,2,     83.9,2,  34.5166,2,    83.96,2,    96.78,2,    38.28,2,     0.00,2,    2.730,2, -999.000,9, -999.000,9,   2303.5,2,   2359.5,2,   7.4864,2,    25.00, -999.000,9,  -999.00,9,  -999.00,9,   4.4317,2,  27.3547,2,   4.5129,2
49UP20220824_1,    P9,    53,  1,     18,     752,2,20220909,0014,0145, 17.0305, 137.0037, 4798,   1217.5,     1207,   3.7898,  34.5485,2,     89.1,2,  34.5480,2,    89.34,6,   110.45,6,    38.83,6,     0.00,6,    2.750,6, -999.000,9, -999.000,9,   2317.7,2,   2374.9,2,   7.4946,2,    25.00, -999.000,9,  -999.00,9,  -999.00,9,   3.6976,2,  27.4578,2,   3.7927,2
49UP20220824_1,    P9,    53,  1,     17,     751,2,20220909,0014,0140, 17.0305, 137.0037, 4798,   1418.0,     1405,   3.2579,  34.5634,2,     92.9,2,  34.5630,2,    92.84,2,   122.67,2,    38.88,2,     0.00,2,    2.760,2, -999.000,9, -999.000,9,   2328.6,2,   2384.7,2,   7.4944,2,    25.00, -999.000,9,  -999.00,9,  -999.00,9,   3.1541,2,  27.5223,2,   3.2584,2
49UP20220824_1,    P9,    53,  1,     16,     328,2,20220909,0014,0134, 17.0305, 137.0037, 4798,   1620.2,     1604,   2.8459,  34.5799,2,     97.7,2,  34.5816,4,    97.90,2,   131.07,2,    38.72,2,     0.00,2,    2.750,2, -999.000,9, -999.000,9,   2334.7,2,   2393.0,2,   7.5007,2,    25.00, -999.000,9,  -999.00,9,  -999.00,9,   2.7298,2,  27.5740,2,   2.8456,2
49UP20220824_1,    P9,    53,  1,     15,     309,2,20220909,0014,0129, 17.0305, 137.0037, 4798,   1823.5,     1805,   2.5333,  34.5958,2,    102.3,2,  34.5965,2,   102.35,2,   136.48,2,    38.83,2,     0.00,2,    2.740,2, -999.000,9, -999.000,9,   2337.7,2,   2399.5,2,   7.5042,2,    25.00, -999.000,9,  -999.00,9,  -999.00,9,   2.4041,2,  27.6148,2,   2.5334,2
49UP20220824_1,    P9,    53,  1,     14,     326,2,20220909,0014,0124, 17.0305, 137.0037, 4798,   2025.6,     2004,   2.2400,  34.6135,2,    108.5,2,  34.6136,2,   108.55,2,   141.32,2,    38.66,2,     0.00,2,    2.720,2, -999.000,9, -999.000,9,   2339.9,2,   2403.4,2,   7.5132,2,    25.00, -999.000,9,  -999.00,9,  -999.00,9,   2.0978,2,  27.6542,2,   2.2403,2
49UP20220824_1,    P9,    53,  1,     13,     325,2,20220909,0014,0119, 17.0305, 137.0037, 4798,   2227.2,     2202,   2.0383,  34.6280,2,    115.3,2,  34.6281,2,   115.74,2,   143.94,2,    38.18,2,     0.00,2,    2.690,2, -999.000,9, -999.000,9,   2340.6,2,   2409.8,2,   7.5254,2,    25.00, -999.000,9,  -999.00,9,  -999.00,9,   1.8818,2,  27.6829,2,   2.0385,2
49UP20220824_1,    P9,    53,  1,     12,     324,2,20220909,0014,0114, 17.0305, 137.0037, 4798,   2428.5,     2400,   1.8894,  34.6409,2,    121.8,2,  34.6414,2,   122.19,2,   145.78,2,    37.97,2,     0.00,2,    2.660,2, -999.000,9, -999.000,9,   2339.3,2,   2411.6,2,   7.5350,2,    25.00, -999.000,9,  -999.00,9,  -999.00,9,   1.7177,2,  27.7059,2,   1.8894,2
49UP20220824_1,    P9,    53,  1,     11,     323,2,20220909,0014,0109, 17.0305, 137.0037, 4798,   2632.9,     2601,   1.7775,  34.6512,2,    127.8,2,  34.6515,2,   127.96,2,   146.68,2,    37.66,2,     0.00,2,    2.630,2, -999.000,9, -999.000,9,   2337.3,2,   2410.2,2,   7.5429,2,    25.00, -999.000,9,  -999.00,9,  -999.00,9,   1.5893,2,  27.7237,2,   1.7776,2
49UP20220824_1,    P9,    53,  1,     10,     322,2,20220909,0014,0104, 17.0305, 137.0037, 4798,   2836.6,     2801,   1.7158,  34.6578,2,    132.3,2,  34.6580,6,   132.39,2,   146.80,2,    37.43,2,     0.00,2,    2.610,2, -999.000,9, -999.000,9,   2336.8,2,   2412.5,2,   7.5527,2,    25.00, -999.000,9,  -999.00,9,  -999.00,9,   1.5099,2,  27.7349,2,   1.7159,2
49UP20220824_1,    P9,    53,  1,      9,     750,2,20220909,0014,0059, 17.0305, 137.0037, 4798,   3041.6,     3002,   1.6671,  34.6633,2,    136.6,2,  34.6635,2,   136.64,6,   146.46,6,    37.18,6,     0.00,6,    2.590,6, -999.000,9, -999.000,9,   2332.8,2,   2414.0,2,   7.5559,2,    25.00, -999.000,9,  -999.00,9,  -999.00,9,   1.4427,2,  27.7441,2,   1.6671,2
49UP20220824_1,    P9,    53,  1,      8,     320,2,20220909,0014,0053, 17.0305, 137.0037, 4798,   3296.2,     3251,   1.6295,  34.6682,2,    140.9,2,  34.6692,2,   140.96,2,   145.87,2,    36.61,2,     0.00,2,    2.570,2, -999.000,9, -999.000,9,   2331.2,2,   2414.0,2,   7.5658,2,    25.00, -999.000,9,  -999.00,9,  -999.00,9,   1.3809,2,  27.7525,2,   1.6297,2
49UP20220824_1,    P9,    53,  1,      7,     319,2,20220909,0014,0047, 17.0305, 137.0037, 4798,   3551.8,     3501,   1.5970,  34.6727,2,    145.1,2,  34.6730,6,   145.39,2,   145.15,2,    36.55,2,     0.00,2,    2.540,2, -999.000,9, -999.000,9,   2328.0,2,   2415.1,2,   7.5701,2,    25.00, -999.000,9,  -999.00,9,  -999.00,9,   1.3231,2,  27.7602,2,   1.5970,2
49UP20220824_1,    P9,    53,  1,      6,     318,2,20220909,0014,0041, 17.0305, 137.0037, 4798,   3808.0,     3752,   1.5700,  34.6765,2,    149.6,2,  34.6765,2,   149.58,2,   143.77,2,    36.19,2,     0.00,2,    2.520,2, -999.000,9, -999.000,9,   2324.4,2,   2411.6,2,   7.5774,2,    25.00, -999.000,9,  -999.00,9,  -999.00,9,   1.2699,2,  27.7670,2,   1.5700,2
49UP20220824_1,    P9,    53,  1,      5,     838,2,20220909,0014,0035, 17.0305, 137.0037, 4798,   4062.6,     4000,   1.5431,  34.6805,2,    153.9,2,  34.6808,6,   154.00,2,   142.75,2,    35.98,2,     0.00,2,    2.490,2, -999.000,9, -999.000,9,   2320.5,2,   2409.1,2,   7.5826,2,    25.00, -999.000,9,  -999.00,9,  -999.00,9,   1.2162,2,  27.7740,2,   1.5433,2
49UP20220824_1,    P9,    53,  1,      4,     316,2,20220909,0014,0029, 17.0305, 137.0037, 4798,   4317.6,     4249,   1.5183,  34.6845,2,    158.5,2,  34.6846,2,   158.98,2,   141.46,2,    35.72,2,     0.00,2,    2.470,2, -999.000,9, -999.000,9,   2318.1,2,   2409.3,2,   7.5886,2,    25.00, -999.000,9,  -999.00,9,  -999.00,9,   1.1636,2,  27.7808,2,   1.5184,2
49UP20220824_1,    P9,    53,  1,      3,     315,2,20220909,0014,0024, 17.0305, 137.0037, 4798,   4575.0,     4500,   1.5335,  34.6855,2,    159.8,2,  34.6862,2,   159.97,2,   140.99,2,    35.59,2,     0.00,2,    2.460,2, -999.000,9, -999.000,9,   2315.6,2,   2408.6,2,   7.5905,6,    25.00, -999.000,9,  -999.00,9,  -999.00,9,   1.1488,2,  27.7826,2,   1.5337,2
49UP20220824_1,    P9,    53,  1,      2,     314,2,20220909,0014,0019, 17.0305, 137.0037, 4798,   4832.3,     4750,   1.5596,  34.6860,2,    160.4,2,  34.6869,2,   160.70,2,   140.75,2,    35.53,2,     0.00,2,    2.460,2, -999.000,9, -999.000,9,   2316.8,6,   2407.8,6,   7.5917,2,    25.00, -999.000,9,  -999.00,9,  -999.00,9,   1.1436,2,  27.7834,2,   1.5595,2
49UP20220824_1,    P9,    53,  1,      1,     308,2,20220909,0014,0015, 17.0305, 137.0037, 4798,   4982.1,     4895,   1.5763,  34.6860,2,    160.7,2,  34.6865,2,   161.34,2,   140.60,2,    35.57,2,     0.00,2,    2.460,2, -999.000,9, -999.000,9,   2315.5,2,   2408.2,2,   7.5923,2,    25.00, -999.000,9,  -999.00,9,  -999.00,9,   1.1417,2,  27.7835,2,   1.5764,2