BOTTLE,20230330JMAAMD
EXPOCODE,SECT_ID,STNNBR,CASTNO,SAMPNO,BTLNBR,BTLNBR_FLAG_U,DATE,TIME,BTL_TIME,LATITUDE,LONGITUDE,DEPTH,CTDPRS,CTDDEP,CTDTMP,CTDSAL,CTDSAL_FLAG_W,CTDOXY,CTDOXY_FLAG_W,SALNTY,SALNTY_FLAG_W,OXYGEN,OXYGEN_FLAG_W,SILCAT,SILCAT_FLAG_W,NO2+NO3,NO2+NO3_FLAG_W,NITRIT,NITRIT_FLAG_W,PHSPHT,PHSPHT_FLAG_W,CFC-11,CFC-11_FLAG_W,CFC-12,CFC-12_FLAG_W,TCARBN,TCARBN_FLAG_W,ALKALI,ALKALI_FLAG_W,PH_TS,PH_TS_FLAG_W,PH_TS_TMP,CFC113,CFC113_FLAG_W,CHLORA,CHLORA_FLAG_W,PPHYTN,PPHYTN_FLAG_W,THETA,THETA_FLAG_W,SIGTHT,SIGTHT_FLAG_W,SBE35,SBE35_FLAG_W
,,,,,,,,UTC,,,,METER,DBAR,METERS,ITS-90,PSS-78,,UMOL/KG,,PSS78,,UMOL/KG,,UMOL/KG,,UMOL/KG,,UMOL/KG,,UMOL/KG,,PMOL/KG,,PMOL/KG,,UMOL/KG,,UMOL/KG,,,,ITS-90,PMOL/KG,,UG/KG,,UG/KG,,ITS-90,,KG/M3,,ITS-90,
49UP20220929_1,    P9,    79,  1,      0,      -9,0,20221008,1133,1309, 29.4788, 137.1647, 4737,      0.0,        0,  28.2636,  34.1252,2,    198.4,2,-999.0000,9,   198.94,2,     1.58,2,     0.04,2,     0.00,2,    0.020,2, -999.000,9, -999.000,9,   -999.0,9,   -999.0,9,-999.0000,9,  -999.00, -999.000,9,  -999.00,9,  -999.00,9,  28.2629,2,  21.6510,2,-999.0000,9
49UP20220929_1,    P9,    79,  1,     36,     757,2,20221008,1133,1343, 29.4788, 137.1647, 4737,     10.1,       10,  28.2552,  34.1256,2,    198.5,2,  34.1268,2,   198.55,2,     1.62,2,     0.03,2,     0.00,2,    0.000,2, -999.000,9, -999.000,9,   -999.0,9,   -999.0,9,-999.0000,9,  -999.00, -999.000,9,  -999.00,9,  -999.00,9,  28.2528,2,  21.6547,2,  28.2539,2
49UP20220929_1,    P9,    79,  1,     35,     756,2,20221008,1133,1341, 29.4788, 137.1647, 4737,     25.8,       26,  28.2675,  34.1256,2,    198.5,2,  34.1269,2,   198.92,2,     1.62,2,     0.03,2,     0.00,2,    0.000,2, -999.000,9, -999.000,9,   -999.0,9,   -999.0,9,-999.0000,9,  -999.00, -999.000,9,  -999.00,9,  -999.00,9,  28.2614,2,  21.6518,2,  28.2683,2
49UP20220929_1,    P9,    79,  1,     34,     323,2,20221008,1133,1338, 29.4788, 137.1647, 4737,     50.2,       50,  28.0689,  34.1409,2,    199.9,2,  34.1426,2,   199.88,2,     1.54,2,     0.03,2,     0.00,2,    0.000,2, -999.000,9, -999.000,9,   -999.0,9,   -999.0,9,-999.0000,9,  -999.00, -999.000,9,  -999.00,9,  -999.00,9,  28.0571,2,  21.7301,2,  28.0666,2
49UP20220929_1,    P9,    79,  1,     33,     322,2,20221008,1133,1336, 29.4788, 137.1647, 4737,     74.2,       74,  26.9175,  34.3306,2,    202.0,2,  34.3372,2,   201.50,2,     1.78,2,     0.03,2,     0.00,2,    0.010,2, -999.000,9, -999.000,9,   -999.0,9,   -999.0,9,-999.0000,9,  -999.00, -999.000,9,  -999.00,9,  -999.00,9,  26.9006,2,  22.2453,2,  26.9039,2
49UP20220929_1,    P9,    79,  1,     32,     321,2,20221008,1133,1335, 29.4788, 137.1647, 4737,    101.2,      100,  23.3037,  34.6625,2,    208.4,2,  34.6630,2,   208.23,2,     1.94,2,     0.12,2,     0.04,2,    0.030,2, -999.000,9, -999.000,9,   -999.0,9,   -999.0,9,-999.0000,9,  -999.00, -999.000,9,  -999.00,9,  -999.00,9,  23.2829,2,  23.5959,2,  23.3023,2
49UP20220929_1,    P9,    79,  1,     31,     320,2,20221008,1133,1333, 29.4788, 137.1647, 4737,    124.7,      124,  21.9394,  34.7618,2,    199.9,2,  34.7591,2,   200.07,2,     2.09,2,     0.89,2,     0.05,2,    0.070,2, -999.000,9, -999.000,9,   -999.0,9,   -999.0,9,-999.0000,9,  -999.00, -999.000,9,  -999.00,9,  -999.00,9,  21.9148,2,  24.0606,2,  21.9341,2
49UP20220929_1,    P9,    79,  1,     30,     319,2,20221008,1133,1331, 29.4788, 137.1647, 4737,    149.6,      149,  21.0246,  34.7974,2,    198.2,2,  34.7988,2,   198.00,2,     2.62,2,     1.64,2,     0.02,2,    0.120,2, -999.000,9, -999.000,9,   -999.0,9,   -999.0,9,-999.0000,9,  -999.00, -999.000,9,  -999.00,9,  -999.00,9,  20.9960,2,  24.3408,2,  21.0249,2
49UP20220929_1,    P9,    79,  1,     29,     318,2,20221008,1133,1329, 29.4788, 137.1647, 4737,    202.6,      201,  19.6441,  34.7754,2,    200.1,2,  34.7751,2,   200.40,2,     2.79,2,     2.60,2,     0.01,2,    0.180,2, -999.000,9, -999.000,9,   -999.0,9,   -999.0,9,-999.0000,9,  -999.00, -999.000,9,  -999.00,9,  -999.00,9,  19.6072,2,  24.6932,2,  19.6427,2
49UP20220929_1,    P9,    79,  1,     28,     755,2,20221008,1133,1327, 29.4788, 137.1647, 4737,    252.0,      250,  18.4586,  34.7734,2,    196.3,2,  34.7733,2,   196.37,6,     3.82,6,     4.12,6,     0.01,6,    0.280,6, -999.000,9, -999.000,9,   -999.0,9,   -999.0,9,-999.0000,9,  -999.00, -999.000,9,  -999.00,9,  -999.00,9,  18.4146,2,  24.9957,2,  18.4589,2
49UP20220929_1,    P9,    79,  1,     27,     317,2,20221008,1133,1325, 29.4788, 137.1647, 4737,    281.7,      280,  17.8903,  34.7584,2,    195.8,2,  34.7584,2,   195.68,2,     4.37,2,     4.85,2,     0.01,2,    0.320,2, -999.000,9, -999.000,9,   -999.0,9,   -999.0,9,-999.0000,9,  -999.00, -999.000,9,  -999.00,9,  -999.00,9,  17.8421,2,  25.1257,2,  17.8892,2
49UP20220929_1,    P9,    79,  1,     26,     316,2,20221008,1133,1321, 29.4788, 137.1647, 4737,    374.6,      372,  15.6023,  34.6186,2,    185.0,2,  34.6218,2,   185.00,2,     9.46,2,     9.10,2,     0.00,2,    0.620,2, -999.000,9, -999.000,9,   -999.0,9,   -999.0,9,-999.0000,9,  -999.00, -999.000,9,  -999.00,9,  -999.00,9,  15.5439,2,  25.5574,2,  15.6100,2
49UP20220929_1,    P9,    79,  1,     25,     315,2,20221008,1133,1318, 29.4788, 137.1647, 4737,    477.9,      474,  12.6249,  34.4023,2,    172.0,2,  34.4037,2,   172.63,2,    19.81,2,    15.02,2,     0.00,2,    1.050,2, -999.000,9, -999.000,9,   -999.0,9,   -999.0,9,-999.0000,9,  -999.00, -999.000,9,  -999.00,9,  -999.00,9,  12.5602,2,  26.0168,2,  12.6104,2
49UP20220929_1,    P9,    79,  1,     24,     753,2,20221008,1133,1314, 29.4788, 137.1647, 4737,    577.8,      573,   9.9583,  34.3319,2,    134.4,2,  34.3316,2,   134.08,2,    43.92,2,    23.27,2,     0.00,2,    1.670,2, -999.000,9, -999.000,9,   -999.0,9,   -999.0,9,-999.0000,9,  -999.00, -999.000,9,  -999.00,9,  -999.00,9,   9.8907,2,  26.4487,2,   9.9576,2
49UP20220929_1,    P9,    79,  1,     23,     314,2,20221008,1133,1311, 29.4788, 137.1647, 4737,    679.3,      674,   7.5663,  34.2497,2,    112.3,2,  34.2470,2,   112.27,2,    63.18,2,    29.44,2,     0.00,2,    2.110,2, -999.000,9, -999.000,9,   -999.0,9,   -999.0,9,-999.0000,9,  -999.00, -999.000,9,  -999.00,9,  -999.00,9,   7.4984,2,  26.7577,2,   7.5655,2
49UP20220929_1,    P9,    79,  1,     22,     313,2,20221008,1133,1308, 29.4788, 137.1647, 4737,    778.5,      772,   5.4799,  34.2114,2,     84.0,2,  34.2120,2,    83.80,2,    86.48,2,    35.50,2,     0.00,2,    2.550,2, -999.000,9, -999.000,9,   -999.0,9,   -999.0,9,-999.0000,9,  -999.00, -999.000,9,  -999.00,9,  -999.00,9,   5.4138,2,  27.0016,2,   5.4813,2
49UP20220929_1,    P9,    79,  1,     21,     312,2,20221008,1133,1304, 29.4788, 137.1647, 4737,    878.1,      870,   4.7082,  34.2883,2,     69.0,2,  34.2875,2,    69.34,6,   101.71,6,    37.95,6,     0.00,6,    2.730,6, -999.000,9, -999.000,9,   -999.0,9,   -999.0,9,-999.0000,9,  -999.00, -999.000,9,  -999.00,9,  -999.00,9,   4.6381,2,  27.1518,2,   4.7086,2
49UP20220929_1,    P9,    79,  1,     20,     311,2,20221008,1133,1301, 29.4788, 137.1647, 4737,    983.6,      975,   4.0144,  34.3463,2,     61.3,2,  34.3444,2,    61.35,2,   115.16,2,    39.62,2,     0.00,2,    2.840,2, -999.000,9, -999.000,9,   -999.0,9,   -999.0,9,-999.0000,9,  -999.00, -999.000,9,  -999.00,9,  -999.00,9,   3.9403,2,  27.2723,2,   4.0155,2
49UP20220929_1,    P9,    79,  1,     19,     310,2,20221008,1133,1256, 29.4788, 137.1647, 4737,   1145.4,     1135,   3.3881,  34.4199,2,     61.6,2,  34.4193,2,    61.41,2,   128.51,2,    40.41,2,     0.00,2,    2.890,2, -999.000,9, -999.000,9,   -999.0,9,   -999.0,9,-999.0000,9,  -999.00, -999.000,9,  -999.00,9,  -999.00,9,   3.3058,2,  27.3936,2,   3.3882,2
49UP20220929_1,    P9,    79,  1,     18,     752,2,20221008,1133,1251, 29.4788, 137.1647, 4737,   1345.1,     1332,   2.8881,  34.4784,2,     67.5,2,  34.4782,2,    67.16,2,   138.34,2,    40.59,2,     0.00,2,    2.900,2, -999.000,9, -999.000,9,   -999.0,9,   -999.0,9,-999.0000,9,  -999.00, -999.000,9,  -999.00,9,  -999.00,9,   2.7944,2,  27.4872,2,   2.8872,2
49UP20220929_1,    P9,    79,  1,     17,     751,2,20221008,1133,1246, 29.4788, 137.1647, 4737,   1549.2,     1533,   2.5157,  34.5252,2,     77.2,2,  34.5254,2,    76.84,2,   143.96,2,    40.36,2,     0.00,2,    2.860,2, -999.000,9, -999.000,9,   -999.0,9,   -999.0,9,-999.0000,9,  -999.00, -999.000,9,  -999.00,9,  -999.00,9,   2.4097,2,  27.5579,2,   2.5155,2
49UP20220929_1,    P9,    79,  1,     16,     328,2,20221008,1133,1241, 29.4788, 137.1647, 4737,   1750.9,     1732,   2.2880,  34.5581,2,     88.2,2,  34.5579,6,    87.85,2,   146.28,2,    39.82,2,     0.00,2,    2.820,2, -999.000,9, -999.000,9,   -999.0,9,   -999.0,9,-999.0000,9,  -999.00, -999.000,9,  -999.00,9,  -999.00,9,   2.1683,2,  27.6041,2,   2.2877,2
49UP20220929_1,    P9,    79,  1,     15,     309,2,20221008,1133,1236, 29.4788, 137.1647, 4737,   1951.7,     1929,   2.0774,  34.5886,2,    100.4,2,  34.5891,2,   100.13,2,   147.42,2,    39.08,2,     0.00,2,    2.760,2, -999.000,9, -999.000,9,   -999.0,9,   -999.0,9,-999.0000,9,  -999.00, -999.000,9,  -999.00,9,  -999.00,9,   1.9440,2,  27.6465,2,   2.0773,2
49UP20220929_1,    P9,    79,  1,     14,     326,2,20221008,1133,1231, 29.4788, 137.1647, 4737,   2156.5,     2131,   1.9283,  34.6106,2,    110.2,2,  34.6102,2,   110.17,6,   147.78,6,    38.55,6,     0.00,6,    2.720,6, -999.000,9, -999.000,9,   -999.0,9,   -999.0,9,-999.0000,9,  -999.00, -999.000,9,  -999.00,9,  -999.00,9,   1.7798,2,  27.6768,2,   1.9282,2
49UP20220929_1,    P9,    79,  1,     13,     325,2,20221008,1133,1226, 29.4788, 137.1647, 4737,   2360.1,     2331,   1.8170,  34.6284,2,    120.2,2,  34.6287,2,   120.17,2,   146.96,2,    37.98,2,     0.00,2,    2.670,2, -999.000,9, -999.000,9,   -999.0,9,   -999.0,9,-999.0000,9,  -999.00, -999.000,9,  -999.00,9,  -999.00,9,   1.6526,2,  27.7007,2,   1.8164,2
49UP20220929_1,    P9,    79,  1,     12,     324,2,20221008,1133,1222, 29.4788, 137.1647, 4737,   2561.9,     2529,   1.7360,  34.6415,2,    127.9,2,  34.6418,2,   127.75,2,   146.14,2,    37.54,2,     0.00,2,    2.630,2, -999.000,9, -999.000,9,   -999.0,9,   -999.0,9,-999.0000,9,  -999.00, -999.000,9,  -999.00,9,  -999.00,9,   1.5551,2,  27.7184,2,   1.7360,2
49UP20220929_1,    P9,    79,  1,     11,     323,2,20221008,1133,1217, 29.4788, 137.1647, 4737,   2766.9,     2730,   1.6497,  34.6545,2,    136.0,2,  34.6548,2,   135.63,2,   145.29,2,    37.03,2,     0.00,2,    2.590,2, -999.000,9, -999.000,9,   -999.0,9,   -999.0,9,-999.0000,9,  -999.00, -999.000,9,  -999.00,9,  -999.00,9,   1.4518,2,  27.7364,2,   1.6500,2
49UP20220929_1,    P9,    79,  1,     10,     322,2,20221008,1133,1217, 29.4788, 137.1647, 4737,   2767.2,     2731,   1.6495,  34.6545,2,    135.9,2,  34.6548,2,   135.87,2,   145.20,2,    37.04,2,     0.00,2,    2.590,2, -999.000,9, -999.000,9,   -999.0,9,   -999.0,9,-999.0000,9,  -999.00, -999.000,9,  -999.00,9,  -999.00,9,   1.4515,2,  27.7365,2,   1.6497,2
49UP20220929_1,    P9,    79,  1,      9,     750,2,20221008,1133,1212, 29.4788, 137.1647, 4737,   2970.3,     2930,   1.6042,  34.6614,2,    140.7,2,  34.6620,2,   140.35,2,   144.91,2,    36.76,2,     0.00,2,    2.570,2, -999.000,9, -999.000,9,   -999.0,9,   -999.0,9,-999.0000,9,  -999.00, -999.000,9,  -999.00,9,  -999.00,9,   1.3880,2,  27.7465,2,   1.6039,2
49UP20220929_1,    P9,    79,  1,      8,     320,2,20221008,1133,1207, 29.4788, 137.1647, 4737,   3215.9,     3170,   1.5609,  34.6689,2,    145.7,2,  34.6691,6,   145.71,2,   144.23,2,    36.49,2,     0.00,2,    2.540,2, -999.000,9, -999.000,9,   -999.0,9,   -999.0,9,-999.0000,9,  -999.00, -999.000,9,  -999.00,9,  -999.00,9,   1.3219,2,  27.7572,2,   1.5609,2
49UP20220929_1,    P9,    79,  1,      7,     319,2,20221008,1133,1201, 29.4788, 137.1647, 4737,   3471.7,     3420,   1.5284,  34.6752,2,    150.2,2,  34.6754,2,   150.23,2,   143.43,2,    36.10,2,     0.00,2,    2.520,2, -999.000,9, -999.000,9,   -999.0,9,   -999.0,9,-999.0000,9,  -999.00, -999.000,9,  -999.00,9,  -999.00,9,   1.2645,2,  27.7663,2,   1.5285,2
49UP20220929_1,    P9,    79,  1,      6,     318,2,20221008,1133,1156, 29.4788, 137.1647, 4737,   3725.5,     3668,   1.5283,  34.6780,2,    152.2,2,  34.6780,2,   152.38,6,   143.14,6,    36.03,6,     0.00,6,    2.510,6, -999.000,9, -999.000,9,   -999.0,9,   -999.0,9,-999.0000,9,  -999.00, -999.000,9,  -999.00,9,  -999.00,9,   1.2381,2,  27.7704,2,   1.5284,2
49UP20220929_1,    P9,    79,  1,      5,     838,2,20221008,1133,1150, 29.4788, 137.1647, 4737,   3982.8,     3919,   1.5416,  34.6795,2,    153.6,2,  34.6793,6,   153.70,2,   142.93,2,    35.89,2,     0.00,2,    2.500,2, -999.000,9, -999.000,9,   -999.0,9,   -999.0,9,-999.0000,9,  -999.00, -999.000,9,  -999.00,9,  -999.00,9,   1.2234,2,  27.7726,2,   1.5416,2
49UP20220929_1,    P9,    79,  1,      4,     316,2,20221008,1133,1145, 29.4788, 137.1647, 4737,   4239.9,     4170,   1.5622,  34.6802,2,    154.3,2,  34.6791,4,   154.33,2,   142.54,2,    35.78,2,     0.00,2,    2.490,2, -999.000,9, -999.000,9,   -999.0,9,   -999.0,9,-999.0000,9,  -999.00, -999.000,9,  -999.00,9,  -999.00,9,   1.2150,2,  27.7738,2,   1.5623,2
49UP20220929_1,    P9,    79,  1,      3,     315,2,20221008,1133,1139, 29.4788, 137.1647, 4737,   4497.4,     4420,   1.5835,  34.6810,2,    155.2,2,  34.6812,6,   155.27,2,   142.58,2,    35.72,2,     0.00,2,    2.490,2, -999.000,9, -999.000,9,   -999.0,9,   -999.0,9,-999.0000,9,  -999.00, -999.000,9,  -999.00,9,  -999.00,9,   1.2063,2,  27.7750,2,   1.5835,2
49UP20220929_1,    P9,    79,  1,      1,     308,2,20221008,1133,1134, 29.4788, 137.1647, 4737,   4723.1,     4640,   1.6084,  34.6812,2,    155.6,2,  34.6813,2,   155.50,2,   142.42,2,    35.85,2,     0.00,2,    2.490,2, -999.000,9, -999.000,9,   -999.0,9,   -999.0,9,-999.0000,9,  -999.00, -999.000,9,  -999.00,9,  -999.00,9,   1.2039,2,  27.7754,2,   1.6084,2
49UP20220929_1,    P9,    79,  1,      2,     314,2,20221008,1133,1134, 29.4788, 137.1647, 4737,   4723.6,     4640,   1.6085,  34.6813,2,    155.6,2,  34.6808,2,   155.50,2,   142.30,2,    35.78,2,     0.00,2,    2.490,2, -999.000,9, -999.000,9,   -999.0,9,   -999.0,9,-999.0000,9,  -999.00, -999.000,9,  -999.00,9,  -999.00,9,   1.2040,2,  27.7754,2,   1.6085,2