BOTTLE,20230330JMAAMD
EXPOCODE,SECT_ID,STNNBR,CASTNO,SAMPNO,BTLNBR,BTLNBR_FLAG_U,DATE,TIME,BTL_TIME,LATITUDE,LONGITUDE,DEPTH,CTDPRS,CTDDEP,CTDTMP,CTDSAL,CTDSAL_FLAG_W,CTDOXY,CTDOXY_FLAG_W,SALNTY,SALNTY_FLAG_W,OXYGEN,OXYGEN_FLAG_W,SILCAT,SILCAT_FLAG_W,NO2+NO3,NO2+NO3_FLAG_W,NITRIT,NITRIT_FLAG_W,PHSPHT,PHSPHT_FLAG_W,CFC-11,CFC-11_FLAG_W,CFC-12,CFC-12_FLAG_W,TCARBN,TCARBN_FLAG_W,ALKALI,ALKALI_FLAG_W,PH_TS,PH_TS_FLAG_W,PH_TS_TMP,CFC113,CFC113_FLAG_W,CHLORA,CHLORA_FLAG_W,PPHYTN,PPHYTN_FLAG_W,THETA,THETA_FLAG_W,SIGTHT,SIGTHT_FLAG_W,SBE35,SBE35_FLAG_W
,,,,,,,,UTC,,,,METER,DBAR,METERS,ITS-90,PSS-78,,UMOL/KG,,PSS78,,UMOL/KG,,UMOL/KG,,UMOL/KG,,UMOL/KG,,UMOL/KG,,PMOL/KG,,PMOL/KG,,UMOL/KG,,UMOL/KG,,,,ITS-90,PMOL/KG,,UG/KG,,UG/KG,,ITS-90,,KG/M3,,ITS-90,
49UP20220929_1,    P9,    88,  1,      0,      -9,0,20221016,0205,0330, 32.6537, 136.9860, 4176,      0.0,        0,  25.5938,  33.7556,2,    208.8,2,-999.0000,9,   208.79,2,     2.38,2,     0.02,2,     0.00,2,    0.010,2, -999.000,9, -999.000,9,   -999.0,9,   -999.0,9,-999.0000,9,  -999.00, -999.000,9,  -999.00,9,  -999.00,9,  25.5932,2,  22.2203,2,-999.0000,9
49UP20220929_1,    P9,    88,  1,     36,     757,2,20221016,0205,0403, 32.6537, 136.9860, 4176,     11.3,       11,  25.5996,  33.7553,2,    208.5,2,  33.7575,2,   208.24,2,     2.28,2,     0.00,2,     0.00,2,    0.000,2, -999.000,9, -999.000,9,   -999.0,9,   -999.0,9,-999.0000,9,  -999.00, -999.000,9,  -999.00,9,  -999.00,9,  25.5971,2,  22.2189,2,  25.5993,2
49UP20220929_1,    P9,    88,  1,     35,     756,2,20221016,0205,0401, 32.6537, 136.9860, 4176,     26.7,       27,  25.5723,  33.7530,2,    209.9,2,  33.7568,2,   208.23,2,     2.28,2,     0.00,2,     0.00,2,    0.000,2, -999.000,9, -999.000,9,   -999.0,9,   -999.0,9,-999.0000,9,  -999.00, -999.000,9,  -999.00,9,  -999.00,9,  25.5665,2,  22.2266,2,  25.5678,2
49UP20220929_1,    P9,    88,  1,     34,     323,2,20221016,0205,0359, 32.6537, 136.9860, 4176,     51.7,       51,  20.2467,  34.5419,2,    185.2,2,  34.5440,2,   185.52,2,     6.82,2,     4.23,2,     0.45,2,    0.310,2, -999.000,9, -999.000,9,   -999.0,9,   -999.0,9,-999.0000,9,  -999.00, -999.000,9,  -999.00,9,  -999.00,9,  20.2371,2,  24.3498,2,  20.2392,2
49UP20220929_1,    P9,    88,  1,     33,     322,2,20221016,0205,0357, 32.6537, 136.9860, 4176,     78.1,       78,  18.0747,  34.6212,2,    175.4,2,  34.6013,2,   174.18,2,     9.60,2,     7.56,2,     0.04,2,    0.520,2, -999.000,9, -999.000,9,   -999.0,9,   -999.0,9,-999.0000,9,  -999.00, -999.000,9,  -999.00,9,  -999.00,9,  18.0614,2,  24.9668,2,  18.1051,2
49UP20220929_1,    P9,    88,  1,     32,     321,2,20221016,0205,0353, 32.6537, 136.9860, 4176,    104.1,      103,  16.7793,  34.6240,2,    179.3,2,  34.6243,2,   179.39,6,    10.73,6,     8.44,6,     0.02,6,    0.580,6, -999.000,9, -999.000,9,   -999.0,9,   -999.0,9,-999.0000,9,  -999.00, -999.000,9,  -999.00,9,  -999.00,9,  16.7623,2,  25.2818,2,  16.7800,2
49UP20220929_1,    P9,    88,  1,     31,     320,2,20221016,0205,0352, 32.6537, 136.9860, 4176,    129.4,      128,  15.1052,  34.5610,2,    171.9,2,  34.5617,2,   172.01,2,    15.96,2,    11.52,2,     0.01,2,    0.790,2, -999.000,9, -999.000,9,   -999.0,9,   -999.0,9,-999.0000,9,  -999.00, -999.000,9,  -999.00,9,  -999.00,9,  15.0857,2,  25.6146,2,  15.1069,2
49UP20220929_1,    P9,    88,  1,     30,     319,2,20221016,0205,0350, 32.6537, 136.9860, 4176,    154.5,      153,  13.6749,  34.4897,2,    160.1,2,  34.4950,2,   160.45,2,    21.92,2,    14.65,2,     0.01,2,    1.020,2, -999.000,9, -999.000,9,   -999.0,9,   -999.0,9,-999.0000,9,  -999.00, -999.000,9,  -999.00,9,  -999.00,9,  13.6531,2,  25.8648,2,  13.7046,2
49UP20220929_1,    P9,    88,  1,     28,     755,2,20221016,0205,0348, 32.6537, 136.9860, 4176,    203.7,      202,  11.3780,  34.3884,2,    145.5,2,  34.3888,2,   145.31,2,    34.70,2,    19.96,2,     0.00,2,    1.410,2, -999.000,9, -999.000,9,   -999.0,9,   -999.0,9,-999.0000,9,  -999.00, -999.000,9,  -999.00,9,  -999.00,9,  11.3525,2,  26.2351,2,  11.3758,2
49UP20220929_1,    P9,    88,  1,     29,     318,2,20221016,0205,0349, 32.6537, 136.9860, 4176,    204.5,      203,  11.3074,  34.3884,2,    145.8,2,  34.3892,2,   145.07,2,    34.60,2,    19.88,2,     0.00,2,    1.400,2, -999.000,9, -999.000,9,   -999.0,9,   -999.0,9,-999.0000,9,  -999.00, -999.000,9,  -999.00,9,  -999.00,9,  11.2819,2,  26.2480,2,  11.3327,2
49UP20220929_1,    P9,    88,  1,     27,     317,2,20221016,0205,0347, 32.6537, 136.9860, 4176,    253.9,      252,   9.2961,  34.2242,2,    151.0,2,  34.2249,2,   151.34,2,    41.27,2,    22.71,2,     0.00,2,    1.610,2, -999.000,9, -999.000,9,   -999.0,9,   -999.0,9,-999.0000,9,  -999.00, -999.000,9,  -999.00,9,  -999.00,9,   9.2682,2,  26.4676,2,   9.2693,2
49UP20220929_1,    P9,    88,  1,     26,     316,2,20221016,0205,0345, 32.6537, 136.9860, 4176,    286.7,      284,   8.7099,  34.2776,2,    127.1,2,  34.2672,2,   128.62,2,    51.46,2,    25.82,2,     0.00,2,    1.840,2, -999.000,9, -999.000,9,   -999.0,9,   -999.0,9,-999.0000,9,  -999.00, -999.000,9,  -999.00,9,  -999.00,9,   8.6795,2,  26.6030,2,   8.7111,2
49UP20220929_1,    P9,    88,  1,     25,     315,2,20221016,0205,0342, 32.6537, 136.9860, 4176,    377.8,      375,   6.8221,  34.2593,2,    101.0,2,  34.2661,2,   101.50,6,    71.96,6,    31.38,6,     0.00,6,    2.240,6, -999.000,9, -999.000,9,   -999.0,9,   -999.0,9,-999.0000,9,  -999.00, -999.000,9,  -999.00,9,  -999.00,9,   6.7872,2,  26.8643,2,   6.8238,2
49UP20220929_1,    P9,    88,  1,     24,     753,2,20221016,0205,0339, 32.6537, 136.9860, 4176,    476.6,      473,   5.3995,  34.2755,2,     79.7,2,  34.2752,6,    80.21,2,    90.49,2,    35.82,2,     0.00,2,    2.560,2, -999.000,9, -999.000,9,   -999.0,9,   -999.0,9,-999.0000,9,  -999.00, -999.000,9,  -999.00,9,  -999.00,9,   5.3603,2,  27.0587,2,   5.3991,2
49UP20220929_1,    P9,    88,  1,     23,     314,2,20221016,0205,0336, 32.6537, 136.9860, 4176,    579.8,      575,   4.3688,  34.3023,2,     64.4,2,  34.3014,2,    64.70,2,   107.75,2,    38.69,2,     0.00,2,    2.770,2, -999.000,9, -999.000,9,   -999.0,9,   -999.0,9,-999.0000,9,  -999.00, -999.000,9,  -999.00,9,  -999.00,9,   4.3253,2,  27.1970,2,   4.3699,2
49UP20220929_1,    P9,    88,  1,     21,     312,2,20221016,0205,0333, 32.6537, 136.9860, 4176,    678.4,      673,   3.9687,  34.3521,2,     61.5,2,  34.3510,2,    61.29,2,   116.23,2,    39.54,2,     0.00,2,    2.820,2, -999.000,9, -999.000,9,   -999.0,9,   -999.0,9,-999.0000,9,  -999.00, -999.000,9,  -999.00,9,  -999.00,9,   3.9193,2,  27.2791,2,   3.9687,2
49UP20220929_1,    P9,    88,  1,     22,     313,2,20221016,0205,0333, 32.6537, 136.9860, 4176,    679.3,      673,   3.9679,  34.3524,2,     61.5,2,  34.3515,2,    61.78,2,   116.40,2,    39.50,2,     0.00,2,    2.820,2, -999.000,9, -999.000,9,   -999.0,9,   -999.0,9,-999.0000,9,  -999.00, -999.000,9,  -999.00,9,  -999.00,9,   3.9185,2,  27.2793,2,   3.9679,2
49UP20220929_1,    P9,    88,  1,     20,     311,2,20221016,0205,0330, 32.6537, 136.9860, 4176,    780.1,      773,   3.6490,  34.3965,2,     62.4,2,  34.3954,2,    62.43,2,   122.70,2,    39.99,2,     0.00,2,    2.850,2, -999.000,9, -999.000,9,   -999.0,9,   -999.0,9,-999.0000,9,  -999.00, -999.000,9,  -999.00,9,  -999.00,9,   3.5936,2,  27.3470,2,   3.6491,2
49UP20220929_1,    P9,    88,  1,     19,     310,2,20221016,0205,0327, 32.6537, 136.9860, 4176,    880.3,      872,   3.3032,  34.4287,2,     62.3,2,  34.4299,2,    62.24,2,   129.73,2,    40.42,2,     0.00,2,    2.880,2, -999.000,9, -999.000,9,   -999.0,9,   -999.0,9,-999.0000,9,  -999.00, -999.000,9,  -999.00,9,  -999.00,9,   3.2423,2,  27.4066,2,   3.3031,2
49UP20220929_1,    P9,    88,  1,     17,     751,2,20221016,0205,0324, 32.6537, 136.9860, 4176,    981.3,      972,   3.0614,  34.4556,2,     64.2,2,  34.4550,2,    63.98,2,   134.78,2,    40.63,2,     0.00,2,    2.880,2, -999.000,9, -999.000,9,   -999.0,9,   -999.0,9,-999.0000,9,  -999.00, -999.000,9,  -999.00,9,  -999.00,9,   2.9945,2,  27.4510,2,   3.0616,2
49UP20220929_1,    P9,    88,  1,     18,     752,2,20221016,0205,0324, 32.6537, 136.9860, 4176,    981.8,      973,   3.0603,  34.4557,2,     64.2,2,  34.4550,2,    64.63,2,   134.99,2,    40.53,2,     0.00,2,    2.890,2, -999.000,9, -999.000,9,   -999.0,9,   -999.0,9,-999.0000,9,  -999.00, -999.000,9,  -999.00,9,  -999.00,9,   2.9934,2,  27.4512,2,   3.0604,2
49UP20220929_1,    P9,    88,  1,     16,     328,2,20221016,0205,0320, 32.6537, 136.9860, 4176,   1144.3,     1133,   2.7252,  34.4963,2,     70.4,2,  34.4960,2,    70.12,6,   140.80,6,    40.51,6,     0.00,6,    2.870,6, -999.000,9, -999.000,9,   -999.0,9,   -999.0,9,-999.0000,9,  -999.00, -999.000,9,  -999.00,9,  -999.00,9,   2.6487,2,  27.5143,2,   2.7255,2
49UP20220929_1,    P9,    88,  1,     15,     309,2,20221016,0205,0315, 32.6537, 136.9860, 4176,   1344.9,     1331,   2.4466,  34.5319,2,     79.0,2,  34.5319,6,    79.01,2,   144.70,2,    40.20,2,     0.00,2,    2.840,2, -999.000,9, -999.000,9,   -999.0,9,   -999.0,9,-999.0000,9,  -999.00, -999.000,9,  -999.00,9,  -999.00,9,   2.3574,2,  27.5676,2,   2.4466,2
49UP20220929_1,    P9,    88,  1,     14,     326,2,20221016,0205,0310, 32.6537, 136.9860, 4176,   1548.6,     1532,   2.1950,  34.5669,2,     90.2,2,  34.5661,2,    90.10,2,   147.23,2,    39.69,2,     0.00,2,    2.790,2, -999.000,9, -999.000,9,   -999.0,9,   -999.0,9,-999.0000,9,  -999.00, -999.000,9,  -999.00,9,  -999.00,9,   2.0927,2,  27.6173,2,   2.1948,2
49UP20220929_1,    P9,    88,  1,     13,     822,2,20221016,0205,0306, 32.6537, 136.9860, 4176,   1752.2,     1733,   2.0429,  34.5894,2,     99.4,2,  34.5893,2,    99.34,2,   148.09,2,    39.17,2,     0.00,2,    2.750,2, -999.000,9, -999.000,9,   -999.0,9,   -999.0,9,-999.0000,9,  -999.00, -999.000,9,  -999.00,9,  -999.00,9,   1.9264,2,  27.6485,2,   2.0428,2
49UP20220929_1,    P9,    88,  1,     12,     324,2,20221016,0205,0300, 32.6537, 136.9860, 4176,   1954.7,     1932,   1.8973,  34.6119,2,    110.3,2,  34.6119,2,   110.56,2,   147.71,2,    38.54,2,     0.00,2,    2.700,2, -999.000,9, -999.000,9,   -999.0,9,   -999.0,9,-999.0000,9,  -999.00, -999.000,9,  -999.00,9,  -999.00,9,   1.7662,2,  27.6789,2,   1.8972,2
49UP20220929_1,    P9,    88,  1,     11,     323,2,20221016,0205,0256, 32.6537, 136.9860, 4176,   2154.6,     2129,   1.8004,  34.6273,2,    119.2,2,  34.6268,2,   119.38,2,   146.97,2,    38.02,2,     0.00,2,    2.660,2, -999.000,9, -999.000,9,   -999.0,9,   -999.0,9,-999.0000,9,  -999.00, -999.000,9,  -999.00,9,  -999.00,9,   1.6541,2,  27.6997,2,   1.8002,2
49UP20220929_1,    P9,    88,  1,     10,     322,2,20221016,0205,0252, 32.6537, 136.9860, 4176,   2359.0,     2329,   1.7132,  34.6411,2,    127.2,2,  34.6406,2,   127.29,2,   145.91,2,    37.49,2,     0.00,2,    2.620,2, -999.000,9, -999.000,9,   -999.0,9,   -999.0,9,-999.0000,9,  -999.00, -999.000,9,  -999.00,9,  -999.00,9,   1.5508,2,  27.7185,2,   1.7133,2
49UP20220929_1,    P9,    88,  1,      9,     750,2,20221016,0205,0247, 32.6537, 136.9860, 4176,   2561.6,     2528,   1.6367,  34.6526,2,    134.8,2,  34.6531,2,   134.82,6,   145.08,6,    37.03,6,     0.00,6,    2.580,6, -999.000,9, -999.000,9,   -999.0,9,   -999.0,9,-999.0000,9,  -999.00, -999.000,9,  -999.00,9,  -999.00,9,   1.4577,2,  27.7345,2,   1.6367,2
49UP20220929_1,    P9,    88,  1,      8,     320,2,20221016,0205,0242, 32.6537, 136.9860, 4176,   2767.9,     2730,   1.5846,  34.6610,2,    140.2,2,  34.6606,6,   140.16,2,   144.50,2,    36.76,2,     0.00,2,    2.550,2, -999.000,9, -999.000,9,   -999.0,9,   -999.0,9,-999.0000,9,  -999.00, -999.000,9,  -999.00,9,  -999.00,9,   1.3879,2,  27.7462,2,   1.5845,2
49UP20220929_1,    P9,    88,  1,      7,     319,2,20221016,0205,0237, 32.6537, 136.9860, 4176,   2972.8,     2931,   1.5330,  34.6689,2,    145.6,2,  34.6695,2,   145.55,2,   143.81,2,    36.35,2,     0.00,2,    2.530,2, -999.000,9, -999.000,9,   -999.0,9,   -999.0,9,-999.0000,9,  -999.00, -999.000,9,  -999.00,9,  -999.00,9,   1.3181,2,  27.7575,2,   1.5328,2
49UP20220929_1,    P9,    88,  1,      6,     318,3,20221016,0205,0231, 32.6537, 136.9860, 4176,   3215.9,     3169,   1.5082,  34.6743,2,    149.2,2,  34.6732,2,   149.19,2,   143.20,2,    36.11,2,     0.00,2,    2.510,2, -999.000,9, -999.000,9,   -999.0,9,   -999.0,9,-999.0000,9,  -999.00, -999.000,9,  -999.00,9,  -999.00,9,   1.2703,2,  27.7652,2,   1.5082,2
49UP20220929_1,    P9,    88,  1,      5,     838,2,20221016,0205,0225, 32.6537, 136.9860, 4176,   3473.0,     3421,   1.5119,  34.6767,2,    151.0,2,  34.6748,4,   151.36,2,   142.92,2,    36.01,2,     0.00,2,    2.500,2, -999.000,9, -999.000,9,   -999.0,9,   -999.0,9,-999.0000,9,  -999.00, -999.000,9,  -999.00,9,  -999.00,9,   1.2483,2,  27.7686,2,   1.5119,2
49UP20220929_1,    P9,    88,  1,      4,     316,2,20221016,0205,0218, 32.6537, 136.9860, 4176,   3728.7,     3670,   1.5236,  34.6784,2,    152.3,2,  34.6779,6,   152.48,2,   142.89,2,    35.93,2,     0.00,2,    2.490,2, -999.000,9, -999.000,9,   -999.0,9,   -999.0,9,-999.0000,9,  -999.00, -999.000,9,  -999.00,9,  -999.00,9,   1.2332,2,  27.7711,2,   1.5236,2
49UP20220929_1,    P9,    88,  1,      3,     315,2,20221016,0205,0212, 32.6537, 136.9860, 4176,   3986.6,     3922,   1.5421,  34.6795,2,    153.1,2,  34.6793,2,   153.20,2,   142.86,2,    35.89,2,     0.00,2,    2.490,2, -999.000,9, -999.000,9,   -999.0,9,   -999.0,9,-999.0000,9,  -999.00, -999.000,9,  -999.00,9,  -999.00,9,   1.2235,2,  27.7726,2,   1.5420,2
49UP20220929_1,    P9,    88,  1,      2,     314,2,20221016,0205,0212, 32.6537, 136.9860, 4176,   3987.1,     3922,   1.5421,  34.6795,2,    153.1,2,  34.6775,4,   153.25,2,   142.71,2,    35.90,2,     0.00,2,    2.480,2, -999.000,9, -999.000,9,   -999.0,9,   -999.0,9,-999.0000,9,  -999.00, -999.000,9,  -999.00,9,  -999.00,9,   1.2234,2,  27.7726,2,   1.5421,2
49UP20220929_1,    P9,    88,  1,      1,     308,2,20221016,0205,0206, 32.6537, 136.9860, 4176,   4230.1,     4159,   1.5635,  34.6802,2,    153.6,2,  34.6790,4,   153.92,2,   142.83,2,    35.90,2,     0.00,2,    2.480,2, -999.000,9, -999.000,9,   -999.0,9,   -999.0,9,-999.0000,9,  -999.00, -999.000,9,  -999.00,9,  -999.00,9,   1.2174,2,  27.7736,2,   1.5635,2