BOTTLE,20230330JMAAMD
EXPOCODE,SECT_ID,STNNBR,CASTNO,SAMPNO,BTLNBR,BTLNBR_FLAG_U,DATE,TIME,BTL_TIME,LATITUDE,LONGITUDE,DEPTH,CTDPRS,CTDDEP,CTDTMP,CTDSAL,CTDSAL_FLAG_W,CTDOXY,CTDOXY_FLAG_W,SALNTY,SALNTY_FLAG_W,OXYGEN,OXYGEN_FLAG_W,SILCAT,SILCAT_FLAG_W,NO2+NO3,NO2+NO3_FLAG_W,NITRIT,NITRIT_FLAG_W,PHSPHT,PHSPHT_FLAG_W,CFC-11,CFC-11_FLAG_W,CFC-12,CFC-12_FLAG_W,TCARBN,TCARBN_FLAG_W,ALKALI,ALKALI_FLAG_W,PH_TS,PH_TS_FLAG_W,PH_TS_TMP,CFC113,CFC113_FLAG_W,CHLORA,CHLORA_FLAG_W,PPHYTN,PPHYTN_FLAG_W,THETA,THETA_FLAG_W,SIGTHT,SIGTHT_FLAG_W,SBE35,SBE35_FLAG_W
,,,,,,,,UTC,,,,METER,DBAR,METERS,ITS-90,PSS-78,,UMOL/KG,,PSS78,,UMOL/KG,,UMOL/KG,,UMOL/KG,,UMOL/KG,,UMOL/KG,,PMOL/KG,,PMOL/KG,,UMOL/KG,,UMOL/KG,,,,ITS-90,PMOL/KG,,UG/KG,,UG/KG,,ITS-90,,KG/M3,,ITS-90,
49UP20220929_1,    P9,    69,  1,      0,      -9,0,20221005,0549,0750, 24.5150, 136.9877, 5428,      0.0,        0,  29.6656,  34.7892,2,    195.1,2,-999.0000,9,   195.48,2,     1.22,2,     0.05,2,     0.00,2,    0.030,2, -999.000,9, -999.000,9,   -999.0,9,   -999.0,9,-999.0000,9,  -999.00, -999.000,9,  -999.00,9,  -999.00,9,  29.6650,2,  21.6821,2,-999.0000,9
49UP20220929_1,    P9,    69,  1,     36,     757,2,20221005,0549,0811, 24.5150, 136.9877, 5428,     11.4,       11,  29.3847,  34.7738,2,    195.6,2,  34.7765,2,   195.98,2,     1.18,2,     0.04,2,     0.00,2,    0.010,2, -999.000,9, -999.000,9,   -999.0,9,   -999.0,9,-999.0000,9,  -999.00, -999.000,9,  -999.00,9,  -999.00,9,  29.3819,2,  21.7661,2,  29.3844,2
49UP20220929_1,    P9,    69,  1,     35,     756,2,20221005,0549,0807, 24.5150, 136.9877, 5428,     50.8,       50,  29.1633,  34.8238,2,    197.7,2,  34.8268,2,   197.76,2,     1.14,2,     0.04,2,     0.00,2,    0.010,2, -999.000,9, -999.000,9,   -999.0,9,   -999.0,9,-999.0000,9,  -999.00, -999.000,9,  -999.00,9,  -999.00,9,  29.1510,2,  21.8812,2,  29.1649,2
49UP20220929_1,    P9,    69,  1,     34,     323,2,20221005,0549,0806, 24.5150, 136.9877, 5428,     76.1,       76,  25.6739,  34.6814,2,    222.3,2,  34.6846,2,   221.12,2,     1.54,2,     0.03,2,     0.00,2,    0.000,2, -999.000,9, -999.000,9,   -999.0,9,   -999.0,9,-999.0000,9,  -999.00, -999.000,9,  -999.00,9,  -999.00,9,  25.6571,2,  22.8993,2,  25.6725,2
49UP20220929_1,    P9,    69,  1,     33,     322,2,20221005,0549,0804, 24.5150, 136.9877, 5428,    101.3,      101,  23.5947,  34.7260,2,    214.3,2,  34.7316,2,   214.53,2,     1.73,2,     0.03,2,     0.00,2,    0.020,2, -999.000,9, -999.000,9,   -999.0,9,   -999.0,9,-999.0000,9,  -999.00, -999.000,9,  -999.00,9,  -999.00,9,  23.5737,2,  23.5594,2,  23.5964,2
49UP20220929_1,    P9,    69,  1,     32,     321,2,20221005,0549,0802, 24.5150, 136.9877, 5428,    125.7,      125,  22.5294,  34.8811,2,    212.8,2,  34.8824,2,   212.77,2,     1.70,2,     0.05,2,     0.00,2,    0.020,2, -999.000,9, -999.000,9,   -999.0,9,   -999.0,9,-999.0000,9,  -999.00, -999.000,9,  -999.00,9,  -999.00,9,  22.5042,2,  23.9852,2,  22.5095,2
49UP20220929_1,    P9,    69,  1,     31,     320,2,20221005,0549,0801, 24.5150, 136.9877, 5428,    150.7,      150,  21.5477,  34.8515,2,    204.6,2,  34.8579,2,   204.55,2,     1.94,2,     0.48,2,     0.08,2,    0.050,2, -999.000,9, -999.000,9,   -999.0,9,   -999.0,9,-999.0000,9,  -999.00, -999.000,9,  -999.00,9,  -999.00,9,  21.5184,2,  24.2389,2,  21.5466,2
49UP20220929_1,    P9,    69,  1,     30,     319,2,20221005,0549,0759, 24.5150, 136.9877, 5428,    202.6,      201,  19.5292,  34.8393,2,    203.3,2,  34.8404,2,   203.23,2,     2.39,2,     1.70,2,     0.02,2,    0.120,2, -999.000,9, -999.000,9,   -999.0,9,   -999.0,9,-999.0000,9,  -999.00, -999.000,9,  -999.00,9,  -999.00,9,  19.4924,2,  24.7718,2,  19.5380,2
49UP20220929_1,    P9,    69,  1,     29,     318,2,20221005,0549,0757, 24.5150, 136.9877, 5428,    253.0,      251,  18.0007,  34.7673,2,    205.4,2,  34.7689,2,   205.16,2,     3.46,2,     3.46,2,     0.01,2,    0.230,2, -999.000,9, -999.000,9,   -999.0,9,   -999.0,9,-999.0000,9,  -999.00, -999.000,9,  -999.00,9,  -999.00,9,  17.9573,2,  25.1043,2,  18.0091,2
49UP20220929_1,    P9,    69,  1,     28,     755,2,20221005,0549,0754, 24.5150, 136.9877, 5428,    333.9,      331,  16.7751,  34.7083,2,    202.1,2,  34.7109,2,   202.28,2,     5.43,2,     5.62,2,     0.00,2,    0.380,2, -999.000,9, -999.000,9,   -999.0,9,   -999.0,9,-999.0000,9,  -999.00, -999.000,9,  -999.00,9,  -999.00,9,  16.7205,2,  25.3564,2,  16.7762,2
49UP20220929_1,    P9,    69,  1,     27,     317,2,20221005,0549,0752, 24.5150, 136.9877, 5428,    433.5,      430,  14.1171,  34.4926,2,    191.2,2,  34.4915,2,   191.44,2,    11.77,2,    10.70,2,     0.00,2,    0.740,2, -999.000,9, -999.000,9,   -999.0,9,   -999.0,9,-999.0000,9,  -999.00, -999.000,9,  -999.00,9,  -999.00,9,  14.0538,2,  25.7837,2,  14.1140,2
49UP20220929_1,    P9,    69,  1,     26,     316,2,20221005,0549,0749, 24.5150, 136.9877, 5428,    533.4,      529,  11.0868,  34.2765,2,    174.4,2,  34.2763,2,   174.44,6,    23.97,6,    17.29,6,     0.00,6,    1.230,6, -999.000,9, -999.000,9,   -999.0,9,   -999.0,9,-999.0000,9,  -999.00, -999.000,9,  -999.00,9,  -999.00,9,  11.0203,2,  26.2085,2,  11.0858,2
49UP20220929_1,    P9,    69,  1,     25,     315,2,20221005,0549,0746, 24.5150, 136.9877, 5428,    636.2,      631,   8.4409,  34.1475,2,    140.9,2,  34.1477,6,   140.83,2,    42.48,2,    25.13,2,     0.00,2,    1.810,2, -999.000,9, -999.000,9,   -999.0,9,   -999.0,9,-999.0000,9,  -999.00, -999.000,9,  -999.00,9,  -999.00,9,   8.3734,2,  26.5481,2,   8.4424,2
49UP20220929_1,    P9,    69,  1,     24,     753,2,20221005,0549,0743, 24.5150, 136.9877, 5428,    736.2,      730,   6.2772,  34.1362,2,     96.2,2,  34.1359,2,    96.53,2,    67.76,2,    33.15,2,     0.00,2,    2.390,2, -999.000,9, -999.000,9,   -999.0,9,   -999.0,9,-999.0000,9,  -999.00, -999.000,9,  -999.00,9,  -999.00,9,   6.2106,2,  26.8433,2,   6.2780,2
49UP20220929_1,    P9,    69,  1,     23,     314,2,20221005,0549,0740, 24.5150, 136.9877, 5428,    838.0,      831,   5.1900,  34.2023,2,     70.8,2,  34.2025,2,    70.88,2,    87.51,2,    37.24,2,     0.00,2,    2.680,2, -999.000,9, -999.000,9,   -999.0,9,   -999.0,9,-999.0000,9,  -999.00, -999.000,9,  -999.00,9,  -999.00,9,   5.1204,2,  27.0289,2,   5.1897,2
49UP20220929_1,    P9,    69,  1,     22,     313,2,20221005,0549,0737, 24.5150, 136.9877, 5428,    938.3,      930,   4.4329,  34.2761,2,     62.5,2,  34.2770,2,    62.54,2,   104.69,2,    38.99,2,     0.00,3,    2.800,2, -999.000,9, -999.000,9,   -999.0,9,   -999.0,9,-999.0000,9,  -999.00, -999.000,9,  -999.00,9,  -999.00,9,   4.3596,2,  27.1725,2,   4.4327,2
49UP20220929_1,    P9,    69,  1,     21,     312,2,20221005,0549,0733, 24.5150, 136.9877, 5428,   1081.9,     1072,   3.6223,  34.3791,2,     55.6,2,  34.3777,2,    55.43,2,   122.31,2,    40.74,2,     0.00,2,    2.910,2, -999.000,9, -999.000,9,   -999.0,9,   -999.0,9,-999.0000,9,  -999.00, -999.000,9,  -999.00,9,  -999.00,9,   3.5431,2,  27.3381,2,   3.6232,2
49UP20220929_1,    P9,    69,  1,     20,     311,2,20221005,0549,0728, 24.5150, 136.9877, 5428,   1283.3,     1271,   3.0605,  34.4676,2,     64.8,2,  34.4678,2,    64.89,2,   133.41,2,    40.74,2,     0.00,2,    2.900,2, -999.000,9, -999.000,9,   -999.0,9,   -999.0,9,-999.0000,9,  -999.00, -999.000,9,  -999.00,9,  -999.00,9,   2.9701,2,  27.4628,2,   3.0604,2
49UP20220929_1,    P9,    69,  1,     19,     310,2,20221005,0549,0724, 24.5150, 136.9877, 5428,   1483.9,     1469,   2.6807,  34.5202,2,     77.4,2,  34.5202,2,    77.68,6,   139.64,6,    40.11,6,     0.00,6,    2.850,6, -999.000,9, -999.000,9,   -999.0,9,   -999.0,9,-999.0000,9,  -999.00, -999.000,9,  -999.00,9,  -999.00,9,   2.5780,2,  27.5396,2,   2.6801,2
49UP20220929_1,    P9,    69,  1,     18,     752,2,20221005,0549,0719, 24.5150, 136.9877, 5428,   1687.9,     1670,   2.3807,  34.5566,2,     88.2,2,  34.5567,6,    88.27,2,   143.80,2,    39.68,2,     0.00,2,    2.810,2, -999.000,9, -999.000,9,   -999.0,9,   -999.0,9,-999.0000,9,  -999.00, -999.000,9,  -999.00,9,  -999.00,9,   2.2649,2,  27.5951,2,   2.3808,2
49UP20220929_1,    P9,    69,  1,     17,     751,2,20221005,0549,0714, 24.5150, 136.9877, 5428,   1892.7,     1872,   2.1388,  34.5909,2,    101.9,2,  34.5910,2,   101.77,2,   145.09,2,    38.94,2,     0.00,2,    2.740,2, -999.000,9, -999.000,9,   -999.0,9,   -999.0,9,-999.0000,9,  -999.00, -999.000,9,  -999.00,9,  -999.00,9,   2.0094,2,  27.6431,2,   2.1390,2
49UP20220929_1,    P9,    69,  1,     16,     328,2,20221005,0549,0709, 24.5150, 136.9877, 5428,   2095.1,     2071,   1.9553,  34.6170,2,    114.3,2,  34.6174,2,   114.43,2,   145.22,2,    38.24,2,     0.00,2,    2.690,2, -999.000,9, -999.000,9,   -999.0,9,   -999.0,9,-999.0000,9,  -999.00, -999.000,9,  -999.00,9,  -999.00,9,   1.8116,2,  27.6795,2,   1.9553,2
49UP20220929_1,    P9,    69,  1,     15,     309,2,20221005,0549,0704, 24.5150, 136.9877, 5428,   2298.1,     2271,   1.8704,  34.6294,2,    120.4,2,  34.6296,2,   120.48,2,   145.34,2,    37.88,2,     0.00,2,    2.660,2, -999.000,9, -999.000,9,   -999.0,9,   -999.0,9,-999.0000,9,  -999.00, -999.000,9,  -999.00,9,  -999.00,9,   1.7106,2,  27.6971,2,   1.8705,2
49UP20220929_1,    P9,    69,  1,     14,     326,2,20221005,0549,0659, 24.5150, 136.9877, 5428,   2502.0,     2471,   1.7963,  34.6404,2,    126.3,2,  34.6407,2,   126.42,2,   145.11,2,    37.51,2,     0.00,2,    2.630,2, -999.000,9, -999.000,9,   -999.0,9,   -999.0,9,-999.0000,9,  -999.00, -999.000,9,  -999.00,9,  -999.00,9,   1.6197,2,  27.7128,2,   1.7962,2
49UP20220929_1,    P9,    69,  1,     13,     325,2,20221005,0549,0654, 24.5150, 136.9877, 5428,   2705.2,     2671,   1.7403,  34.6486,2,    131.7,2,  34.6483,2,   132.01,2,   144.49,2,    37.15,2,     0.00,2,    2.600,2, -999.000,9, -999.000,9,   -999.0,9,   -999.0,9,-999.0000,9,  -999.00, -999.000,9,  -999.00,9,  -999.00,9,   1.5462,2,  27.7248,2,   1.7403,2
49UP20220929_1,    P9,    69,  1,     12,     324,2,20221005,0549,0649, 24.5150, 136.9877, 5428,   2912.1,     2874,   1.6794,  34.6555,2,    136.5,2,  34.6549,2,   136.76,6,   144.36,6,    36.92,6,     0.00,6,    2.580,6, -999.000,9, -999.000,9,   -999.0,9,   -999.0,9,-999.0000,9,  -999.00, -999.000,9,  -999.00,9,  -999.00,9,   1.4672,2,  27.7361,2,   1.6793,2
49UP20220929_1,    P9,    69,  1,     11,     323,2,20221005,0549,0644, 24.5150, 136.9877, 5428,   3127.4,     3085,   1.6148,  34.6637,2,    142.0,2,  34.6634,6,   142.20,2,   143.96,2,    36.57,2,     0.00,2,    2.550,2, -999.000,9, -999.000,9,   -999.0,9,   -999.0,9,-999.0000,9,  -999.00, -999.000,9,  -999.00,9,  -999.00,9,   1.3832,2,  27.7487,2,   1.6150,2
49UP20220929_1,    P9,    69,  1,     10,     322,2,20221005,0549,0638, 24.5150, 136.9877, 5428,   3379.0,     3331,   1.5848,  34.6690,2,    145.7,2,  34.6685,2,   145.82,2,   143.57,2,    36.31,2,     0.00,2,    2.530,2, -999.000,9, -999.000,9,   -999.0,9,   -999.0,9,-999.0000,9,  -999.00, -999.000,9,  -999.00,9,  -999.00,9,   1.3289,2,  27.7568,2,   1.5849,2
49UP20220929_1,    P9,    69,  1,      9,     750,2,20221005,0549,0632, 24.5150, 136.9877, 5428,   3635.9,     3582,   1.5543,  34.6747,2,    149.8,2,  34.6726,4,   149.96,2,   143.20,2,    36.09,2,     0.00,2,    2.510,2, -999.000,9, -999.000,9,   -999.0,9,   -999.0,9,-999.0000,9,  -999.00, -999.000,9,  -999.00,9,  -999.00,9,   1.2728,2,  27.7654,2,   1.5544,2
49UP20220929_1,    P9,    69,  1,      8,     320,2,20221005,0549,0627, 24.5150, 136.9877, 5428,   3890.8,     3831,   1.5507,  34.6778,2,    152.3,2,  34.6770,2,   152.94,2,   142.90,2,    35.90,2,     0.00,2,    2.500,2, -999.000,9, -999.000,9,   -999.0,9,   -999.0,9,-999.0000,9,  -999.00, -999.000,9,  -999.00,9,  -999.00,9,   1.2422,2,  27.7699,2,   1.5507,2
49UP20220929_1,    P9,    69,  1,      7,     319,2,20221005,0549,0622, 24.5150, 136.9877, 5428,   4149.0,     4083,   1.5495,  34.6805,2,    154.8,2,  34.6800,2,   155.38,2,   142.21,2,    35.77,2,     0.00,2,    2.490,2, -999.000,9, -999.000,9,   -999.0,9,   -999.0,9,-999.0000,9,  -999.00, -999.000,9,  -999.00,9,  -999.00,9,   1.2128,2,  27.7742,2,   1.5494,2
49UP20220929_1,    P9,    69,  1,      6,     318,2,20221005,0549,0616, 24.5150, 136.9877, 5428,   4404.9,     4332,   1.5641,  34.6818,2,    156.1,2,  34.6818,2,   156.12,2,   142.07,2,    35.65,2,     0.00,2,    2.480,2, -999.000,9, -999.000,9,   -999.0,9,   -999.0,9,-999.0000,9,  -999.00, -999.000,9,  -999.00,9,  -999.00,9,   1.1981,2,  27.7763,2,   1.5641,2
49UP20220929_1,    P9,    69,  1,      5,     838,2,20221005,0549,0610, 24.5150, 136.9877, 5428,   4662.2,     4582,   1.5894,  34.6824,2,    156.5,2,  34.6822,2,   156.74,6,   141.76,6,    35.61,6,     0.00,6,    2.480,6, -999.000,9, -999.000,9,   -999.0,9,   -999.0,9,-999.0000,9,  -999.00, -999.000,9,  -999.00,9,  -999.00,9,   1.1928,2,  27.7771,2,   1.5896,2
49UP20220929_1,    P9,    69,  1,      4,     316,2,20221005,0549,0604, 24.5150, 136.9877, 5428,   4918.2,     4831,   1.6175,  34.6824,2,    156.9,2,  34.6828,2,   156.63,2,   141.78,2,    35.59,2,     0.00,2,    2.470,2, -999.000,9, -999.000,9,   -999.0,9,   -999.0,9,-999.0000,9,  -999.00, -999.000,9,  -999.00,9,  -999.00,9,   1.1893,2,  27.7773,2,   1.6176,2
49UP20220929_1,    P9,    69,  1,      3,     315,2,20221005,0549,0558, 24.5150, 136.9877, 5428,   5178.1,     5083,   1.6485,  34.6827,2,    157.1,2,  34.6830,2,   157.25,2,   141.71,2,    35.60,2,     0.00,2,    2.480,2, -999.000,9, -999.000,9,   -999.0,9,   -999.0,9,-999.0000,9,  -999.00, -999.000,9,  -999.00,9,  -999.00,9,   1.1873,2,  27.7777,2,   1.6486,2
49UP20220929_1,    P9,    69,  1,      2,     314,2,20221005,0549,0553, 24.5150, 136.9877, 5428,   5433.8,     5331,   1.6815,  34.6826,2,    157.3,2,  34.6831,2,   157.27,2,   141.67,2,    35.58,2,     0.00,2,    2.470,2, -999.000,9, -999.000,9,   -999.0,9,   -999.0,9,-999.0000,9,  -999.00, -999.000,9,  -999.00,9,  -999.00,9,   1.1869,2,  27.7776,2,   1.6816,2
49UP20220929_1,    P9,    69,  1,      1,     308,2,20221005,0549,0549, 24.5150, 136.9877, 5428,   5539.2,     5434,   1.6950,  34.6825,2,    157.5,2,  34.6832,6,   157.28,2,   141.65,2,    35.58,2,     0.00,2,    2.470,2, -999.000,9, -999.000,9,   -999.0,9,   -999.0,9,-999.0000,9,  -999.00, -999.000,9,  -999.00,9,  -999.00,9,   1.1864,2,  27.7776,2,   1.6950,2