BOTTLE,20230330JMAAMD
EXPOCODE,SECT_ID,STNNBR,CASTNO,SAMPNO,BTLNBR,BTLNBR_FLAG_U,DATE,TIME,BTL_TIME,LATITUDE,LONGITUDE,DEPTH,CTDPRS,CTDDEP,CTDTMP,CTDSAL,CTDSAL_FLAG_W,CTDOXY,CTDOXY_FLAG_W,SALNTY,SALNTY_FLAG_W,OXYGEN,OXYGEN_FLAG_W,SILCAT,SILCAT_FLAG_W,NO2+NO3,NO2+NO3_FLAG_W,NITRIT,NITRIT_FLAG_W,PHSPHT,PHSPHT_FLAG_W,CFC-11,CFC-11_FLAG_W,CFC-12,CFC-12_FLAG_W,TCARBN,TCARBN_FLAG_W,ALKALI,ALKALI_FLAG_W,PH_TS,PH_TS_FLAG_W,PH_TS_TMP,CFC113,CFC113_FLAG_W,CHLORA,CHLORA_FLAG_W,PPHYTN,PPHYTN_FLAG_W,THETA,THETA_FLAG_W,SIGTHT,SIGTHT_FLAG_W,SBE35,SBE35_FLAG_W
,,,,,,,,UTC,,,,METER,DBAR,METERS,ITS-90,PSS-78,,UMOL/KG,,PSS78,,UMOL/KG,,UMOL/KG,,UMOL/KG,,UMOL/KG,,UMOL/KG,,PMOL/KG,,PMOL/KG,,UMOL/KG,,UMOL/KG,,,,ITS-90,PMOL/KG,,UG/KG,,UG/KG,,ITS-90,,KG/M3,,ITS-90,
49UP20220929_1,    P9,    73,  1,      0,      -9,0,20221006,1234,1425, 26.4872, 137.0293, 5192,      0.0,        0,  28.6150,  34.4098,2,    197.5,2,-999.0000,9,   198.17,2,     1.38,2,     0.04,2,     0.00,2,    0.030,2, -999.000,9, -999.000,9,   -999.0,9,   -999.0,9,-999.0000,9,  -999.00, -999.000,9,  -999.00,9,  -999.00,9,  28.6144,2,  21.7491,2,-999.0000,9
49UP20220929_1,    P9,    73,  1,     36,     757,2,20221006,1234,1455, 26.4872, 137.0293, 5192,     10.6,       11,  28.5787,  34.4058,2,    197.6,2,  34.4061,2,   197.95,2,     1.30,2,     0.02,2,     0.00,2,    0.000,2, -999.000,9, -999.000,9,   -999.0,9,   -999.0,9,-999.0000,9,  -999.00, -999.000,9,  -999.00,9,  -999.00,9,  28.5762,2,  21.7587,2,  28.5643,2
49UP20220929_1,    P9,    73,  1,     35,     756,2,20221006,1234,1454, 26.4872, 137.0293, 5192,     26.0,       26,  28.5442,  34.4226,2,    197.8,2,  34.4237,2,   198.19,2,     1.32,2,     0.02,2,     0.00,2,    0.000,2, -999.000,9, -999.000,9,   -999.0,9,   -999.0,9,-999.0000,9,  -999.00, -999.000,9,  -999.00,9,  -999.00,9,  28.5380,2,  21.7840,2,  28.5425,2
49UP20220929_1,    P9,    73,  1,     34,     323,2,20221006,1234,1449, 26.4872, 137.0293, 5192,     50.7,       50,  28.5502,  34.4769,2,    198.3,2,  34.4761,2,   198.90,2,     1.26,2,     0.01,2,     0.00,2,    0.000,2, -999.000,9, -999.000,9,   -999.0,9,   -999.0,9,-999.0000,9,  -999.00, -999.000,9,  -999.00,9,  -999.00,9,  28.5381,2,  21.8247,2,  28.5455,2
49UP20220929_1,    P9,    73,  1,     33,     322,2,20221006,1234,1448, 26.4872, 137.0293, 5192,     75.4,       75,  23.0931,  34.6651,2,    228.5,2,  34.6610,2,   227.93,2,     1.79,2,     0.01,2,     0.00,2,    0.000,2, -999.000,9, -999.000,9,   -999.0,9,   -999.0,9,-999.0000,9,  -999.00, -999.000,9,  -999.00,9,  -999.00,9,  23.0777,2,  23.6572,2,  23.0930,2
49UP20220929_1,    P9,    73,  1,     32,     321,2,20221006,1234,1446, 26.4872, 137.0293, 5192,    102.7,      102,  20.7192,  34.7626,2,    223.1,2,  34.7601,2,   223.16,2,     2.11,2,     0.22,2,     0.14,2,    0.030,2, -999.000,9, -999.000,9,   -999.0,9,   -999.0,9,-999.0000,9,  -999.00, -999.000,9,  -999.00,9,  -999.00,9,  20.6998,2,  24.3943,2,  20.7326,2
49UP20220929_1,    P9,    73,  1,     31,     320,2,20221006,1234,1445, 26.4872, 137.0293, 5192,    125.8,      125,  19.7353,  34.7804,2,    205.6,2,  34.7805,2,   205.77,2,     2.80,2,     1.83,2,     0.04,2,    0.130,2, -999.000,9, -999.000,9,   -999.0,9,   -999.0,9,-999.0000,9,  -999.00, -999.000,9,  -999.00,9,  -999.00,9,  19.7123,2,  24.6697,2,  19.7381,2
49UP20220929_1,    P9,    73,  1,     30,     319,2,20221006,1234,1443, 26.4872, 137.0293, 5192,    150.9,      150,  19.2466,  34.7819,2,    200.0,2,  34.7821,2,   199.78,2,     3.32,2,     2.90,2,     0.01,2,    0.200,2, -999.000,9, -999.000,9,   -999.0,9,   -999.0,9,-999.0000,9,  -999.00, -999.000,9,  -999.00,9,  -999.00,9,  19.2195,2,  24.7983,2,  19.2447,2
49UP20220929_1,    P9,    73,  1,     29,     318,2,20221006,1234,1441, 26.4872, 137.0293, 5192,    204.3,      203,  17.8416,  34.7527,2,    195.2,2,  34.7527,2,   195.46,2,     4.65,2,     4.94,2,     0.01,2,    0.330,2, -999.000,9, -999.000,9,   -999.0,9,   -999.0,9,-999.0000,9,  -999.00, -999.000,9,  -999.00,9,  -999.00,9,  17.8068,2,  25.1301,2,  17.8369,2
49UP20220929_1,    P9,    73,  1,     28,     755,2,20221006,1234,1439, 26.4872, 137.0293, 5192,    253.2,      251,  16.8770,  34.7122,2,    200.6,2,  34.7117,2,   201.85,2,     5.76,2,     5.76,2,     0.00,2,    0.380,2, -999.000,9, -999.000,9,   -999.0,9,   -999.0,9,-999.0000,9,  -999.00, -999.000,9,  -999.00,9,  -999.00,9,  16.8355,2,  25.3323,2,  16.8821,2
49UP20220929_1,    P9,    73,  1,     27,     317,2,20221006,1234,1437, 26.4872, 137.0293, 5192,    283.7,      282,  16.4820,  34.6900,2,    203.1,2,  34.6874,2,   201.99,6,     6.55,6,     6.37,6,     0.01,6,    0.420,6, -999.000,9, -999.000,9,   -999.0,9,   -999.0,9,-999.0000,9,  -999.00, -999.000,9,  -999.00,9,  -999.00,9,  16.4361,2,  25.4087,2,  16.4971,2
49UP20220929_1,    P9,    73,  1,     26,     316,2,20221006,1234,1435, 26.4872, 137.0293, 5192,    372.2,      369,  14.4897,  34.5345,2,    183.5,2,  34.5314,2,   183.66,2,    13.05,2,    11.19,2,     0.00,2,    0.760,2, -999.000,9, -999.000,9,   -999.0,9,   -999.0,9,-999.0000,9,  -999.00, -999.000,9,  -999.00,9,  -999.00,9,  14.4346,2,  25.7354,2,  14.4929,2
49UP20220929_1,    P9,    73,  1,     25,     315,2,20221006,1234,1432, 26.4872, 137.0293, 5192,    474.4,      471,  11.5935,  34.3208,2,    175.3,2,  34.3243,2,   175.50,2,    23.03,2,    16.59,2,     0.00,2,    1.160,2, -999.000,9, -999.000,9,   -999.0,9,   -999.0,9,-999.0000,9,  -999.00, -999.000,9,  -999.00,9,  -999.00,9,  11.5327,2,  26.1492,2,  11.5794,2
49UP20220929_1,    P9,    73,  1,     24,     753,2,20221006,1234,1429, 26.4872, 137.0293, 5192,    577.0,      572,   8.7639,  34.1732,2,    149.1,2,  34.1730,2,   149.11,2,    42.33,2,    23.97,2,     0.00,2,    1.700,2, -999.000,9, -999.000,9,   -999.0,9,   -999.0,9,-999.0000,9,  -999.00, -999.000,9,  -999.00,9,  -999.00,9,   8.7015,2,  26.5177,2,   8.7642,2
49UP20220929_1,    P9,    73,  1,     23,     314,2,20221006,1234,1426, 26.4872, 137.0293, 5192,    676.6,      671,   6.8377,  34.1283,2,    119.1,2,  34.1281,2,   118.59,2,    62.76,2,    30.15,2,     0.00,2,    2.160,2, -999.000,9, -999.000,9,   -999.0,9,   -999.0,9,-999.0000,9,  -999.00, -999.000,9,  -999.00,9,  -999.00,9,   6.7739,2,  26.7629,2,   6.8373,2
49UP20220929_1,    P9,    73,  1,     22,     313,2,20221006,1234,1423, 26.4872, 137.0293, 5192,    778.3,      772,   5.5051,  34.1587,2,     88.8,2,  34.1629,4,    88.14,2,    83.09,2,    35.20,2,     0.00,2,    2.530,2, -999.000,9, -999.000,9,   -999.0,9,   -999.0,9,-999.0000,9,  -999.00, -999.000,9,  -999.00,9,  -999.00,9,   5.4390,2,  26.9569,2,   5.5046,2
49UP20220929_1,    P9,    73,  1,     21,     312,2,20221006,1234,1420, 26.4872, 137.0293, 5192,    878.9,      871,   4.4906,  34.2701,2,     64.9,2,  34.2710,2,    64.94,2,   104.65,2,    38.74,2,     0.00,2,    2.770,2, -999.000,9, -999.000,9,   -999.0,9,   -999.0,9,-999.0000,9,  -999.00, -999.000,9,  -999.00,9,  -999.00,9,   4.4220,2,  27.1610,2,   4.4904,2
49UP20220929_1,    P9,    73,  1,     20,     311,2,20221006,1234,1417, 26.4872, 137.0293, 5192,    980.2,      971,   3.7170,  34.3643,2,     57.7,2,  34.3624,2,    57.68,6,   120.90,6,    40.43,6,     0.00,6,    2.890,6, -999.000,9, -999.000,9,   -999.0,9,   -999.0,9,-999.0000,9,  -999.00, -999.000,9,  -999.00,9,  -999.00,9,   3.6453,2,  27.3163,2,   3.7173,2
49UP20220929_1,    P9,    73,  1,     19,     310,2,20221006,1234,1413, 26.4872, 137.0293, 5192,   1141.6,     1131,   3.1655,  34.4320,2,     58.2,2,  34.4307,2,    58.08,2,   132.74,2,    41.11,2,     0.00,2,    2.930,2, -999.000,9, -999.000,9,   -999.0,9,   -999.0,9,-999.0000,9,  -999.00, -999.000,9,  -999.00,9,  -999.00,9,   3.0854,2,  27.4238,2,   3.1659,2
49UP20220929_1,    P9,    73,  1,     18,     752,2,20221006,1234,1408, 26.4872, 137.0293, 5192,   1346.3,     1333,   2.7722,  34.4872,2,     66.1,2,  34.4876,6,    66.54,2,   140.64,2,    40.95,2,     0.00,2,    2.910,2, -999.000,9, -999.000,9,   -999.0,9,   -999.0,9,-999.0000,9,  -999.00, -999.000,9,  -999.00,9,  -999.00,9,   2.6795,2,  27.5044,2,   2.7719,2
49UP20220929_1,    P9,    73,  1,     17,     751,2,20221006,1234,1403, 26.4872, 137.0293, 5192,   1545.4,     1530,   2.4255,  34.5405,2,     81.0,2,  34.5406,2,    81.03,2,   144.81,2,    40.24,2,     0.00,2,    2.850,2, -999.000,9, -999.000,9,   -999.0,9,   -999.0,9,-999.0000,9,  -999.00, -999.000,9,  -999.00,9,  -999.00,9,   2.3207,2,  27.5776,2,   2.4254,2
49UP20220929_1,    P9,    73,  1,     16,     328,2,20221006,1234,1358, 26.4872, 137.0293, 5192,   1751.2,     1732,   2.1666,  34.5794,2,     96.2,2,  34.5794,2,    96.26,2,   146.31,2,    39.40,2,     0.00,2,    2.780,2, -999.000,9, -999.000,9,   -999.0,9,   -999.0,9,-999.0000,9,  -999.00, -999.000,9,  -999.00,9,  -999.00,9,   2.0485,2,  27.6308,2,   2.1664,2
49UP20220929_1,    P9,    73,  1,     15,     309,2,20221006,1234,1353, 26.4872, 137.0293, 5192,   1955.4,     1934,   2.0124,  34.6039,2,    107.9,2,  34.6039,2,   107.86,2,   146.08,2,    38.73,2,     0.00,2,    2.730,2, -999.000,9, -999.000,9,   -999.0,9,   -999.0,9,-999.0000,9,  -999.00, -999.000,9,  -999.00,9,  -999.00,9,   1.8796,2,  27.6638,2,   2.0124,2
49UP20220929_1,    P9,    73,  1,     14,     326,2,20221006,1234,1348, 26.4872, 137.0293, 5192,   2156.8,     2132,   1.8910,  34.6214,2,    117.6,2,  34.6214,6,   117.50,2,   145.28,2,    38.07,2,     0.00,2,    2.680,2, -999.000,9, -999.000,9,   -999.0,9,   -999.0,9,-999.0000,9,  -999.00, -999.000,9,  -999.00,9,  -999.00,9,   1.7431,2,  27.6883,2,   1.8909,2
49UP20220929_1,    P9,    73,  1,     13,     325,2,20221006,1234,1343, 26.4872, 137.0293, 5192,   2361.8,     2333,   1.8075,  34.6360,2,    124.9,2,  34.6359,2,   125.06,6,   144.77,6,    37.68,6,     0.00,6,    2.640,6, -999.000,9, -999.000,9,   -999.0,9,   -999.0,9,-999.0000,9,  -999.00, -999.000,9,  -999.00,9,  -999.00,9,   1.6431,2,  27.7075,2,   1.8075,2
49UP20220929_1,    P9,    73,  1,     12,     324,2,20221006,1234,1338, 26.4872, 137.0293, 5192,   2564.7,     2532,   1.7344,  34.6452,2,    129.8,2,  34.6454,2,   129.77,2,   145.21,2,    37.42,2,     0.00,2,    2.620,2, -999.000,9, -999.000,9,   -999.0,9,   -999.0,9,-999.0000,9,  -999.00, -999.000,9,  -999.00,9,  -999.00,9,   1.5533,2,  27.7215,2,   1.7342,2
49UP20220929_1,    P9,    73,  1,     11,     323,2,20221006,1234,1333, 26.4872, 137.0293, 5192,   2767.1,     2731,   1.6900,  34.6516,2,    133.4,2,  34.6521,2,   133.55,2,   145.24,2,    37.19,2,     0.00,2,    2.600,2, -999.000,9, -999.000,9,   -999.0,9,   -999.0,9,-999.0000,9,  -999.00, -999.000,9,  -999.00,9,  -999.00,9,   1.4912,2,  27.7312,2,   1.6899,2
49UP20220929_1,    P9,    73,  1,     10,     322,2,20221006,1234,1328, 26.4872, 137.0293, 5192,   2970.8,     2931,   1.6479,  34.6583,2,    137.8,2,  34.6583,6,   138.01,2,   144.93,2,    36.92,2,     0.00,2,    2.580,2, -999.000,9, -999.000,9,   -999.0,9,   -999.0,9,-999.0000,9,  -999.00, -999.000,9,  -999.00,9,  -999.00,9,   1.4308,2,  27.7410,2,   1.6479,2
49UP20220929_1,    P9,    73,  1,      9,     750,2,20221006,1234,1323, 26.4872, 137.0293, 5192,   3215.2,     3170,   1.6064,  34.6652,2,    142.6,2,  34.6650,2,   142.67,2,   144.22,2,    36.61,2,     0.00,2,    2.560,2, -999.000,9, -999.000,9,   -999.0,9,   -999.0,9,-999.0000,9,  -999.00, -999.000,9,  -999.00,9,  -999.00,9,   1.3664,2,  27.7511,2,   1.6065,2
49UP20220929_1,    P9,    73,  1,      8,     320,2,20221006,1234,1317, 26.4872, 137.0293, 5192,   3472.3,     3421,   1.5576,  34.6724,2,    148.1,2,  34.6724,2,   148.13,2,   143.38,2,    36.32,2,     0.00,2,    2.530,2, -999.000,9, -999.000,9,   -999.0,9,   -999.0,9,-999.0000,9,  -999.00, -999.000,9,  -999.00,9,  -999.00,9,   1.2929,2,  27.7621,2,   1.5575,2
49UP20220929_1,    P9,    73,  1,      7,     319,2,20221006,1234,1311, 26.4872, 137.0293, 5192,   3727.0,     3670,   1.5485,  34.6760,2,    150.7,2,  34.6761,2,   151.11,2,   142.99,2,    36.12,2,     0.00,2,    2.520,2, -999.000,9, -999.000,9,   -999.0,9,   -999.0,9,-999.0000,9,  -999.00, -999.000,9,  -999.00,9,  -999.00,9,   1.2576,2,  27.7675,2,   1.5483,2
49UP20220929_1,    P9,    73,  1,      6,     318,2,20221006,1234,1305, 26.4872, 137.0293, 5192,   3983.7,     3921,   1.5486,  34.6788,2,    153.1,2,  34.6789,2,   153.23,6,   142.52,6,    35.93,6,     0.00,6,    2.500,6, -999.000,9, -999.000,9,   -999.0,9,   -999.0,9,-999.0000,9,  -999.00, -999.000,9,  -999.00,9,  -999.00,9,   1.2302,2,  27.7716,2,   1.5485,2
49UP20220929_1,    P9,    73,  1,      5,     838,2,20221006,1234,1259, 26.4872, 137.0293, 5192,   4239.7,     4170,   1.5588,  34.6806,2,    154.8,2,  34.6810,2,   154.62,2,   142.17,2,    35.87,2,     0.00,2,    2.490,2, -999.000,9, -999.000,9,   -999.0,9,   -999.0,9,-999.0000,9,  -999.00, -999.000,9,  -999.00,9,  -999.00,9,   1.2118,2,  27.7743,2,   1.5588,2
49UP20220929_1,    P9,    73,  1,      4,     316,2,20221006,1234,1253, 26.4872, 137.0293, 5192,   4496.2,     4420,   1.5759,  34.6817,2,    155.9,2,  34.6819,2,   156.13,2,   141.83,2,    35.78,2,     0.00,2,    2.480,2, -999.000,9, -999.000,9,   -999.0,9,   -999.0,9,-999.0000,9,  -999.00, -999.000,9,  -999.00,9,  -999.00,9,   1.1990,2,  27.7761,2,   1.5758,2
49UP20220929_1,    P9,    73,  1,      3,     315,2,20221006,1234,1246, 26.4872, 137.0293, 5192,   4754.7,     4672,   1.6004,  34.6823,2,    156.6,2,  34.6829,2,   156.63,2,   141.68,2,    35.77,2,     0.00,2,    2.480,2, -999.000,9, -999.000,9,   -999.0,9,   -999.0,9,-999.0000,9,  -999.00, -999.000,9,  -999.00,9,  -999.00,9,   1.1924,2,  27.7771,2,   1.6003,2
49UP20220929_1,    P9,    73,  1,      2,     314,2,20221006,1234,1240, 26.4872, 137.0293, 5192,   5011.0,     4921,   1.6316,  34.6823,2,    156.7,2,  34.6824,2,   156.61,2,   141.73,2,    35.72,2,     0.00,2,    2.480,2, -999.000,9, -999.000,9,   -999.0,9,   -999.0,9,-999.0000,9,  -999.00, -999.000,9,  -999.00,9,  -999.00,9,   1.1917,2,  27.7771,2,   1.6316,2
49UP20220929_1,    P9,    73,  1,      1,     308,2,20221006,1234,1234, 26.4872, 137.0293, 5192,   5255.2,     5158,   1.6599,  34.6825,2,    157.2,2,  34.6831,6,   157.43,2,   141.58,2,    35.74,2,     0.00,2,    2.480,2, -999.000,9, -999.000,9,   -999.0,9,   -999.0,9,-999.0000,9,  -999.00, -999.000,9,  -999.00,9,  -999.00,9,   1.1887,2,  27.7774,2,   1.6599,2