BOTTLE,20230330JMAAMD
EXPOCODE,SECT_ID,STNNBR,CASTNO,SAMPNO,BTLNBR,BTLNBR_FLAG_U,DATE,TIME,BTL_TIME,LATITUDE,LONGITUDE,DEPTH,CTDPRS,CTDDEP,CTDTMP,CTDSAL,CTDSAL_FLAG_W,CTDOXY,CTDOXY_FLAG_W,SALNTY,SALNTY_FLAG_W,OXYGEN,OXYGEN_FLAG_W,SILCAT,SILCAT_FLAG_W,NO2+NO3,NO2+NO3_FLAG_W,NITRIT,NITRIT_FLAG_W,PHSPHT,PHSPHT_FLAG_W,CFC-11,CFC-11_FLAG_W,CFC-12,CFC-12_FLAG_W,TCARBN,TCARBN_FLAG_W,ALKALI,ALKALI_FLAG_W,PH_TS,PH_TS_FLAG_W,PH_TS_TMP,CFC113,CFC113_FLAG_W,CHLORA,CHLORA_FLAG_W,PPHYTN,PPHYTN_FLAG_W,THETA,THETA_FLAG_W,SIGTHT,SIGTHT_FLAG_W,SBE35,SBE35_FLAG_W
,,,,,,,,UTC,,,,METER,DBAR,METERS,ITS-90,PSS-78,,UMOL/KG,,PSS78,,UMOL/KG,,UMOL/KG,,UMOL/KG,,UMOL/KG,,UMOL/KG,,PMOL/KG,,PMOL/KG,,UMOL/KG,,UMOL/KG,,,,ITS-90,PMOL/KG,,UG/KG,,UG/KG,,ITS-90,,KG/M3,,ITS-90,
49UP20220824_1,    P9,    33,  1,      0,      -9,0,20220902,0021,0135,  7.6618, 136.8240, 3115,      0.0,        0,  30.4637,  33.5429,2,    193.6,2,-999.0000,9,   194.87,2,     1.15,2,     0.03,2,     0.00,2,    0.040,2, -999.000,9, -999.000,9,   -999.0,9,   -999.0,9,-999.0000,9,  -999.00, -999.000,9,  -999.00,9,  -999.00,9,  30.4631,2,  20.4761,2,-999.0000,9
49UP20220824_1,    P9,    33,  1,     36,     757,2,20220902,0021,0155,  7.6618, 136.8240, 3115,     10.1,       10,  30.3606,  33.5420,2,    193.9,2,  33.5412,2,   194.82,2,     1.22,2,     0.03,2,     0.00,2,    0.010,2, -999.000,9, -999.000,9,   -999.0,9,   -999.0,9,-999.0000,9,  -999.00, -999.000,9,  -999.00,9,  -999.00,9,  30.3581,2,  20.5114,2,  30.3627,2
49UP20220824_1,    P9,    33,  1,     35,     756,2,20220902,0021,0154,  7.6618, 136.8240, 3115,     25.5,       25,  30.2757,  33.5983,2,    195.3,2,  33.6003,6,   196.50,2,     1.24,2,     0.00,2,     0.00,2,    0.020,2, -999.000,9, -999.000,9,   -999.0,9,   -999.0,9,-999.0000,9,  -999.00, -999.000,9,  -999.00,9,  -999.00,9,  30.2694,2,  20.5839,2,  30.2775,2
49UP20220824_1,    P9,    33,  1,     34,     323,2,20220902,0021,0151,  7.6618, 136.8240, 3115,     51.0,       51,  30.0772,  34.0417,2,    201.2,2,  34.0409,2,   200.99,2,     1.19,2,     0.04,2,     0.00,2,    0.050,2, -999.000,9, -999.000,9,   -999.0,9,   -999.0,9,-999.0000,9,  -999.00, -999.000,9,  -999.00,9,  -999.00,9,  30.0645,2,  20.9859,2,  30.0746,2
49UP20220824_1,    P9,    33,  1,     33,     322,2,20220902,0021,0149,  7.6618, 136.8240, 3115,     75.1,       75,  28.2135,  34.6441,2,    185.6,2,  34.6457,2,   185.78,2,     1.85,2,     0.14,2,     0.02,2,    0.170,2, -999.000,9, -999.000,9,   -999.0,9,   -999.0,9,-999.0000,9,  -999.00, -999.000,9,  -999.00,9,  -999.00,9,  28.1958,2,  22.0630,2,  28.2100,2
49UP20220824_1,    P9,    33,  1,     32,     321,2,20220902,0021,0148,  7.6618, 136.8240, 3115,    101.2,      101,  25.2251,  34.6256,2,    165.5,2,  34.6230,2,   166.52,2,     3.55,2,     3.08,2,     0.42,2,    0.350,2, -999.000,9, -999.000,9,   -999.0,9,   -999.0,9,-999.0000,9,  -999.00, -999.000,9,  -999.00,9,  -999.00,9,  25.2030,2,  22.9965,2,  25.2383,2
49UP20220824_1,    P9,    33,  1,     31,     320,2,20220902,0021,0146,  7.6618, 136.8240, 3115,    125.0,      124,  22.3550,  34.7075,2,    149.1,2,  34.7047,2,   149.97,2,     5.92,2,     6.73,2,     0.08,2,    0.580,2, -999.000,9, -999.000,9,   -999.0,9,   -999.0,9,-999.0000,9,  -999.00, -999.000,9,  -999.00,9,  -999.00,9,  22.3301,2,  23.9028,2,  22.3609,2
49UP20220824_1,    P9,    33,  1,     30,     319,2,20220902,0021,0146,  7.6618, 136.8240, 3115,    125.3,      125,  22.3564,  34.7083,2,    149.1,2,  34.7054,2,   150.18,2,     6.00,2,     6.72,2,     0.08,2,    0.580,2, -999.000,9, -999.000,9,   -999.0,9,   -999.0,9,-999.0000,9,  -999.00, -999.000,9,  -999.00,9,  -999.00,9,  22.3314,2,  23.9030,2,  22.3715,2
49UP20220824_1,    P9,    33,  1,     29,     318,2,20220902,0021,0145,  7.6618, 136.8240, 3115,    152.2,      151,  17.1192,  34.6409,2,    140.2,2,  34.6402,2,   140.31,6,    11.81,6,    12.18,6,     0.01,6,    0.940,6, -999.000,9, -999.000,9,   -999.0,9,   -999.0,9,-999.0000,9,  -999.00, -999.000,9,  -999.00,9,  -999.00,9,  17.0940,2,  25.2163,2,  17.1304,2
49UP20220824_1,    P9,    33,  1,     28,     755,2,20220902,0021,0143,  7.6618, 136.8240, 3115,    203.5,      202,  12.7202,  34.5315,2,    101.7,2,  34.5310,2,   102.10,2,    23.86,2,    22.47,2,     0.00,2,    1.630,2, -999.000,9, -999.000,9,   -999.0,9,   -999.0,9,-999.0000,9,  -999.00, -999.000,9,  -999.00,9,  -999.00,9,  12.6927,2,  26.0909,2,  12.7259,2
49UP20220824_1,    P9,    33,  1,     27,     317,2,20220902,0021,0141,  7.6618, 136.8240, 3115,    251.2,      250,  11.0138,  34.5234,2,     85.2,2,  34.5240,2,    84.99,2,    29.87,2,    27.10,2,     0.00,2,    1.940,2, -999.000,9, -999.000,9,   -999.0,9,   -999.0,9,-999.0000,9,  -999.00, -999.000,9,  -999.00,9,  -999.00,9,  10.9829,2,  26.4074,2,  11.0123,2
49UP20220824_1,    P9,    33,  1,     26,     316,2,20220902,0021,0138,  7.6618, 136.8240, 3115,    333.8,      332,   9.6047,  34.5439,2,     74.6,2,  34.5432,2,    74.71,2,    35.55,2,    30.61,2,     0.00,2,    2.180,2, -999.000,9, -999.000,9,   -999.0,9,   -999.0,9,-999.0000,9,  -999.00, -999.000,9,  -999.00,9,  -999.00,9,   9.5668,2,  26.6686,2,   9.6066,2
49UP20220824_1,    P9,    33,  1,     25,     315,2,20220902,0021,0136,  7.6618, 136.8240, 3115,    382.9,      380,   9.0669,  34.5521,2,     76.3,2,  34.5521,2,    76.53,2,    37.74,2,    31.82,2,     0.00,2,    2.250,2, -999.000,9, -999.000,9,   -999.0,9,   -999.0,9,-999.0000,9,  -999.00, -999.000,9,  -999.00,9,  -999.00,9,   9.0249,2,  26.7634,2,   9.0599,2
49UP20220824_1,    P9,    33,  1,     24,     753,2,20220902,0021,0134,  7.6618, 136.8240, 3115,    435.4,      433,   8.3862,  34.5643,2,     83.7,2,  34.5643,2,    83.83,2,    39.23,2,    32.58,2,     0.00,2,    2.280,2, -999.000,9, -999.000,9,   -999.0,9,   -999.0,9,-999.0000,9,  -999.00, -999.000,9,  -999.00,9,  -999.00,9,   8.3405,2,  26.8801,2,   8.3860,2
49UP20220824_1,    P9,    33,  1,     23,     314,2,20220902,0021,0132,  7.6618, 136.8240, 3115,    483.2,      480,   8.0896,  34.5519,2,     87.5,2,  34.5510,2,    87.58,2,    41.41,2,    32.71,2,     0.00,2,    2.290,2, -999.000,9, -999.000,9,   -999.0,9,   -999.0,9,-999.0000,9,  -999.00, -999.000,9,  -999.00,9,  -999.00,9,   8.0398,2,  26.9159,2,   8.0884,2
49UP20220824_1,    P9,    33,  1,     22,     313,2,20220902,0021,0132,  7.6618, 136.8240, 3115,    483.3,      480,   8.0875,  34.5517,2,     87.6,2,  34.5506,2,    88.20,2,    41.39,2,    32.73,2,     0.00,2,    2.300,2, -999.000,9, -999.000,9,   -999.0,9,   -999.0,9,-999.0000,9,  -999.00, -999.000,9,  -999.00,9,  -999.00,9,   8.0377,2,  26.9161,2,   8.0860,2
49UP20220824_1,    P9,    33,  1,     21,     312,2,20220902,0021,0130,  7.6618, 136.8240, 3115,    532.2,      529,   7.6747,  34.5396,2,     93.5,2,  34.5392,2,    93.60,2,    43.86,2,    33.17,2,     0.00,2,    2.310,2, -999.000,9, -999.000,9,   -999.0,9,   -999.0,9,-999.0000,9,  -999.00, -999.000,9,  -999.00,9,  -999.00,9,   7.6213,2,  26.9680,2,   7.6752,2
49UP20220824_1,    P9,    33,  1,     20,     311,2,20220902,0021,0127,  7.6618, 136.8240, 3115,    637.6,      633,   6.8479,  34.5234,2,     87.0,2,  34.5232,2,    86.77,6,    54.12,6,    35.02,6,     0.00,6,    2.470,6, -999.000,9, -999.000,9,   -999.0,9,   -999.0,9,-999.0000,9,  -999.00, -999.000,9,  -999.00,9,  -999.00,9,   6.7875,2,  27.0724,2,   6.8470,2
49UP20220824_1,    P9,    33,  1,     18,     752,2,20220902,0021,0124,  7.6618, 136.8240, 3115,    735.1,      730,   6.2999,  34.5253,2,     86.3,2,  34.5249,6,    86.09,2,    61.76,2,    36.11,2,     0.00,2,    2.550,2, -999.000,9, -999.000,9,   -999.0,9,   -999.0,9,-999.0000,9,  -999.00, -999.000,9,  -999.00,9,  -999.00,9,   6.2328,2,  27.1477,2,   6.2994,2
49UP20220824_1,    P9,    33,  1,     17,     751,2,20220902,0021,0121,  7.6618, 136.8240, 3115,    836.7,      830,   5.8512,  34.5284,2,     84.5,2,  34.5290,2,    84.32,2,    68.14,2,    37.10,2,     0.00,2,    2.610,2, -999.000,9, -999.000,9,   -999.0,9,   -999.0,9,-999.0000,9,  -999.00, -999.000,9,  -999.00,9,  -999.00,9,   5.7770,2,  27.2081,2,   5.8503,2
49UP20220824_1,    P9,    33,  1,     16,     328,2,20220902,0021,0118,  7.6618, 136.8240, 3115,    938.2,      931,   5.2025,  34.5371,2,     86.4,2,  34.5371,2,    86.24,2,    78.86,2,    37.77,2,     0.00,2,    2.670,2, -999.000,9, -999.000,9,   -999.0,9,   -999.0,9,-999.0000,9,  -999.00, -999.000,9,  -999.00,9,  -999.00,9,   5.1233,2,  27.2939,2,   5.2007,2
49UP20220824_1,    P9,    33,  1,     15,     309,2,20220902,0021,0115,  7.6618, 136.8240, 3115,   1079.6,     1071,   4.1917,  34.5570,2,     88.1,2,  34.5572,2,    88.31,2,    99.30,2,    38.93,2,     0.00,2,    2.740,2, -999.000,9, -999.000,9,   -999.0,9,   -999.0,9,-999.0000,9,  -999.00, -999.000,9,  -999.00,9,  -999.00,9,   4.1077,2,  27.4225,2,   4.1911,2
49UP20220824_1,    P9,    33,  1,     14,     326,2,20220902,0021,0110,  7.6618, 136.8240, 3115,   1281.7,     1271,   3.4636,  34.5788,2,     93.6,2,  34.5787,6,    93.38,2,   114.07,2,    39.35,2,     0.00,2,    2.750,2, -999.000,9, -999.000,9,   -999.0,9,   -999.0,9,-999.0000,9,  -999.00, -999.000,9,  -999.00,9,  -999.00,9,   3.3690,2,  27.5142,2,   3.4629,2
49UP20220824_1,    P9,    33,  1,     13,     325,2,20220902,0021,0105,  7.6618, 136.8240, 3115,   1485.4,     1472,   2.9862,  34.5968,2,     99.3,2,  34.5965,2,    99.10,2,   123.48,2,    38.99,2,     0.00,2,    2.740,2, -999.000,9, -999.000,9,   -999.0,9,   -999.0,9,-999.0000,9,  -999.00, -999.000,9,  -999.00,9,  -999.00,9,   2.8797,2,  27.5742,2,   2.9861,2
49UP20220824_1,    P9,    33,  1,     12,     324,2,20220902,0021,0100,  7.6618, 136.8240, 3115,   1686.6,     1670,   2.6000,  34.6155,2,    106.2,2,  34.6174,4,   106.22,2,   130.51,2,    38.93,2,     0.00,2,    2.720,2, -999.000,9, -999.000,9,   -999.0,9,   -999.0,9,-999.0000,9,  -999.00, -999.000,9,  -999.00,9,  -999.00,9,   2.4814,2,  27.6241,2,   2.5997,2
49UP20220824_1,    P9,    33,  1,     11,     323,2,20220902,0021,0055,  7.6618, 136.8240, 3115,   1891.9,     1873,   2.3704,  34.6258,2,    111.6,2,  34.6264,2,   111.69,6,   134.96,6,    38.53,6,     0.00,6,    2.700,6, -999.000,9, -999.000,9,   -999.0,9,   -999.0,9,-999.0000,9,  -999.00, -999.000,9,  -999.00,9,  -999.00,9,   2.2376,2,  27.6527,2,   2.3703,2
49UP20220824_1,    P9,    33,  1,      9,     750,2,20220902,0021,0049,  7.6618, 136.8240, 3115,   2097.2,     2075,   2.1170,  34.6375,2,    118.3,2,  34.6374,2,   118.24,2,   139.64,2,    38.34,2,     0.00,2,    2.670,2, -999.000,9, -999.000,9,   -999.0,9,   -999.0,9,-999.0000,9,  -999.00, -999.000,9,  -999.00,9,  -999.00,9,   1.9704,2,  27.6836,2,   2.1167,2
49UP20220824_1,    P9,    33,  1,      8,     320,2,20220902,0021,0043,  7.6618, 136.8240, 3115,   2304.5,     2279,   1.9342,  34.6475,2,    124.8,2,  34.6472,2,   124.57,2,   142.46,2,    37.87,2,     0.00,2,    2.640,2, -999.000,9, -999.000,9,   -999.0,9,   -999.0,9,-999.0000,9,  -999.00, -999.000,9,  -999.00,9,  -999.00,9,   1.7726,2,  27.7070,2,   1.9340,2
49UP20220824_1,    P9,    33,  1,      6,     318,2,20220902,0021,0038,  7.6618, 136.8240, 3115,   2497.9,     2469,   1.8115,  34.6554,2,    130.4,2,  34.6558,2,   130.12,2,   143.55,2,    37.52,2,     0.00,2,    2.600,2, -999.000,9, -999.000,9,   -999.0,9,   -999.0,9,-999.0000,9,  -999.00, -999.000,9,  -999.00,9,  -999.00,9,   1.6349,2,  27.7237,2,   1.8111,2
49UP20220824_1,    P9,    33,  1,      4,     316,2,20220902,0021,0033,  7.6618, 136.8240, 3115,   2699.6,     2667,   1.7116,  34.6619,2,    135.0,2,  34.6621,2,   135.05,2,   144.61,2,    37.39,2,     0.00,2,    2.580,2, -999.000,9, -999.000,9,   -999.0,9,   -999.0,9,-999.0000,9,  -999.00, -999.000,9,  -999.00,9,  -999.00,9,   1.5185,2,  27.7375,2,   1.7126,2
49UP20220824_1,    P9,    33,  1,      3,     315,2,20220902,0021,0033,  7.6618, 136.8240, 3115,   2700.1,     2668,   1.7112,  34.6619,2,    135.0,2,  34.6623,2,   134.63,2,   144.59,2,    37.23,2,     0.00,2,    2.570,2, -999.000,9, -999.000,9,   -999.0,9,   -999.0,9,-999.0000,9,  -999.00, -999.000,9,  -999.00,9,  -999.00,9,   1.5181,2,  27.7375,2,   1.7117,2
49UP20220824_1,    P9,    33,  1,      2,     314,2,20220902,0021,0027,  7.6618, 136.8240, 3115,   2906.6,     2871,   1.6526,  34.6664,2,    139.2,2,  34.6671,6,   138.72,2,   144.80,2,    36.93,2,     0.00,2,    2.550,2, -999.000,9, -999.000,9,   -999.0,9,   -999.0,9,-999.0000,9,  -999.00, -999.000,9,  -999.00,9,  -999.00,9,   1.4414,2,  27.7467,2,   1.6525,2
49UP20220824_1,    P9,    33,  1,      1,     308,2,20220902,0021,0021,  7.6618, 136.8240, 3115,   3129.3,     3089,   1.6248,  34.6691,2,    141.6,2,  34.6703,4,   141.13,6,   145.09,6,    36.89,6,     0.00,6,    2.540,6, -999.000,9, -999.000,9,   -999.0,9,   -999.0,9,-999.0000,9,  -999.00, -999.000,9,  -999.00,9,  -999.00,9,   1.3927,2,  27.7523,2,   1.6244,2