BOTTLE,20230330JMAAMD
EXPOCODE,SECT_ID,STNNBR,CASTNO,SAMPNO,BTLNBR,BTLNBR_FLAG_U,DATE,TIME,BTL_TIME,LATITUDE,LONGITUDE,DEPTH,CTDPRS,CTDDEP,CTDTMP,CTDSAL,CTDSAL_FLAG_W,CTDOXY,CTDOXY_FLAG_W,SALNTY,SALNTY_FLAG_W,OXYGEN,OXYGEN_FLAG_W,SILCAT,SILCAT_FLAG_W,NO2+NO3,NO2+NO3_FLAG_W,NITRIT,NITRIT_FLAG_W,PHSPHT,PHSPHT_FLAG_W,CFC-11,CFC-11_FLAG_W,CFC-12,CFC-12_FLAG_W,TCARBN,TCARBN_FLAG_W,ALKALI,ALKALI_FLAG_W,PH_TS,PH_TS_FLAG_W,PH_TS_TMP,CFC113,CFC113_FLAG_W,CHLORA,CHLORA_FLAG_W,PPHYTN,PPHYTN_FLAG_W,THETA,THETA_FLAG_W,SIGTHT,SIGTHT_FLAG_W,SBE35,SBE35_FLAG_W
,,,,,,,,UTC,,,,METER,DBAR,METERS,ITS-90,PSS-78,,UMOL/KG,,PSS78,,UMOL/KG,,UMOL/KG,,UMOL/KG,,UMOL/KG,,UMOL/KG,,PMOL/KG,,PMOL/KG,,UMOL/KG,,UMOL/KG,,,,ITS-90,PMOL/KG,,UG/KG,,UG/KG,,ITS-90,,KG/M3,,ITS-90,
49UP20220929_1,    P9,    68,  1,      0,      -9,0,20221004,2215,2345, 23.9972, 136.9870, 4062,      0.0,        0,  29.5297,  34.2213,2,    195.2,2,  34.2326,2,   195.60,2,     1.57,2,     0.03,2,     0.00,2,    0.030,2, -999.000,9, -999.000,9,   1936.6,2,   2249.3,2,   8.0902,2,    25.00, -999.000,9,     0.08,2,     0.05,2,  29.5290,2,  21.3022,2,-999.0000,9
49UP20220929_1,    P9,    68,  1,     36,     757,2,20221004,2215,0011, 23.9972, 136.9870, 4062,     11.2,       11,  29.4940,  34.2192,2,    195.1,2,  34.2222,2,   196.03,2,     1.57,2,     0.02,2,     0.00,2,    0.000,2, -999.000,9, -999.000,9,   1935.8,2,   2249.1,2,   8.0933,2,    25.00, -999.000,9,     0.08,2,     0.02,2,  29.4913,2,  21.3133,2,  29.4948,2
49UP20220929_1,    P9,    68,  1,     35,     756,2,20221004,2215,0009, 23.9972, 136.9870, 4062,     26.2,       26,  28.9031,  34.1668,2,    197.4,2,  34.1693,2,   197.56,2,     1.51,2,     0.02,2,     0.00,2,    0.000,2, -999.000,9, -999.000,9,   1931.6,2,   2244.5,2,   8.0887,2,    25.00, -999.000,9,     0.07,2,     0.02,2,  28.8968,2,  21.4730,2,  28.9026,2
49UP20220929_1,    P9,    68,  1,     34,     323,2,20221004,2215,0006, 23.9972, 136.9870, 4062,     51.2,       51,  27.1648,  34.3697,2,    209.6,2,  34.3343,2,   207.78,6,     1.64,6,     0.01,6,     0.00,6,    0.000,6, -999.000,9, -999.000,9,   1945.7,2,   2257.2,2,   8.0798,2,    25.00, -999.000,9,     0.13,2,     0.07,2,  27.1530,2,  22.1943,2,  27.1954,2
49UP20220929_1,    P9,    68,  1,     33,     322,2,20221004,2215,0004, 23.9972, 136.9870, 4062,     75.9,       75,  24.1862,  34.6235,2,    213.0,2,  34.6248,2,   213.36,2,     1.87,2,     0.02,2,     0.00,2,    0.020,2, -999.000,9, -999.000,9,   1979.5,2,   2274.3,2,   8.0480,2,    25.00, -999.000,9,     0.28,2,     0.28,2,  24.1702,2,  23.3059,2,  24.1598,2
49UP20220929_1,    P9,    68,  1,     32,     321,2,20221004,2215,0002, 23.9972, 136.9870, 4062,    102.4,      102,  22.3860,  34.7744,2,    208.2,2,  34.7729,2,   205.84,2,     1.95,2,     0.32,2,     0.11,2,    0.040,2, -999.000,9, -999.000,9,   2004.8,2,   2284.8,2,   8.0173,2,    25.00, -999.000,9,     0.20,2,     0.43,2,  22.3655,2,  23.9435,2,  22.3975,2
49UP20220929_1,    P9,    68,  1,     31,     320,2,20221004,2215,0001, 23.9972, 136.9870, 4062,    126.2,      125,  21.0045,  34.7775,2,    198.8,2,  34.7781,2,   199.49,2,     2.28,2,     1.39,2,     0.03,2,    0.110,2, -999.000,9, -999.000,9,   2018.0,2,   2286.3,2,   7.9894,2,    25.00, -999.000,9,     0.07,2,     0.26,2,  20.9803,2,  24.3298,2,  21.0086,2
49UP20220929_1,    P9,    68,  1,     30,     319,2,20221004,2215,2359, 23.9972, 136.9870, 4062,    151.7,      151,  20.1364,  34.7753,2,    199.5,2,  34.7749,2,   200.06,2,     2.67,2,     2.10,2,     0.02,2,    0.150,2, -999.000,9, -999.000,9,   2024.1,2,   2283.9,2,   7.9822,2,    25.00, -999.000,9,     0.02,2,     0.07,2,  20.1083,2,  24.5617,2,  20.1394,2
49UP20220929_1,    P9,    68,  1,     29,     318,2,20221004,2215,2357, 23.9972, 136.9870, 4062,    204.4,      203,  18.5586,  34.7703,2,    194.6,2,  34.7699,2,   194.64,2,     3.98,2,     4.16,2,     0.01,2,    0.290,2, -999.000,9, -999.000,9,   2044.6,2,   2284.2,2,   7.9443,2,    25.00, -999.000,9,     0.00,2,     0.02,2,  18.5228,2,  24.9662,2,  18.5596,2
49UP20220929_1,    P9,    68,  1,     28,     755,2,20221004,2215,2354, 23.9972, 136.9870, 4062,    253.2,      251,  17.7438,  34.7582,2,    201.9,2,  34.7584,2,   201.74,2,     4.05,2,     4.30,2,     0.01,2,    0.290,2, -999.000,9, -999.000,9,   2045.2,2,   2283.9,2,   7.9370,2,    25.00, -999.000,9,  -999.00,9,  -999.00,9,  17.7008,2,  25.1601,2,  17.7398,2
49UP20220929_1,    P9,    68,  1,     27,     317,2,20221004,2215,2352, 23.9972, 136.9870, 4062,    302.0,      300,  16.6216,  34.6961,2,    195.8,2,  34.6950,2,   195.95,6,     6.24,6,     6.61,6,     0.00,6,    0.440,6, -999.000,9, -999.000,9,   2062.0,2,   2279.1,2,   7.9042,2,    25.00, -999.000,9,  -999.00,9,  -999.00,9,  16.5725,2,  25.3816,2,  16.6204,2
49UP20220929_1,    P9,    68,  1,     26,     316,2,20221004,2215,2349, 23.9972, 136.9870, 4062,    405.0,      402,  14.2334,  34.5114,2,    185.3,2,  34.5117,6,   184.96,2,    12.70,2,    11.27,2,     0.00,2,    0.770,2, -999.000,9, -999.000,9,   2093.0,2,   2276.2,2,   7.8279,2,    25.00, -999.000,9,  -999.00,9,  -999.00,9,  14.1740,2,  25.7729,2,  14.2337,2
49UP20220929_1,    P9,    68,  1,     25,     315,2,20221004,2215,2345, 23.9972, 136.9870, 4062,    505.3,      501,  10.9325,  34.2782,2,    168.1,2,  34.2759,2,   168.36,2,    26.40,2,    18.36,2,     0.00,2,    1.290,2, -999.000,9, -999.000,9,   2140.7,2,   2274.2,2,   7.7169,2,    25.00, -999.000,9,  -999.00,9,  -999.00,9,  10.8701,2,  26.2367,2,  10.9285,2
49UP20220929_1,    P9,    68,  1,     24,     753,2,20221004,2215,2341, 23.9972, 136.9870, 4062,    605.5,      601,   8.1368,  34.1219,2,    141.2,2,  34.1220,2,   140.78,2,    44.04,2,    25.80,2,     0.00,2,    1.840,2, -999.000,9, -999.000,9,   2191.8,2,   2286.3,2,   7.5981,2,    25.00, -999.000,9,  -999.00,9,  -999.00,9,   8.0741,2,  26.5732,2,   8.1357,2
49UP20220929_1,    P9,    68,  1,     23,     314,2,20221004,2215,2337, 23.9972, 136.9870, 4062,    704.9,      699,   6.1974,  34.1335,2,     96.8,2,  34.1333,2,    96.60,2,    69.34,2,    33.22,2,     0.00,2,    2.390,2, -999.000,9, -999.000,9,   2252.0,2,   2303.2,2,   7.4817,2,    25.00, -999.000,9,  -999.00,9,  -999.00,9,   6.1342,2,  26.8509,2,   6.1984,2
49UP20220929_1,    P9,    68,  1,     22,     313,2,20221004,2215,2335, 23.9972, 136.9870, 4062,    808.0,      801,   5.0816,  34.2026,2,     71.1,2,  34.2005,2,    71.29,2,    89.74,2,    37.41,2,     0.00,2,    2.690,2, -999.000,9, -999.000,9,   2291.5,2,   2324.6,2,   7.4227,2,    25.00, -999.000,9,  -999.00,9,  -999.00,9,   5.0153,2,  27.0413,2,   5.0812,2
49UP20220929_1,    P9,    68,  1,     20,     311,2,20221004,2215,2332, 23.9972, 136.9870, 4062,    908.5,      901,   4.4660,  34.2687,2,     62.7,2,  34.2689,2,    62.86,2,   104.13,2,    38.93,2,     0.00,2,    2.800,2, -999.000,9, -999.000,9,   2314.0,2,   2340.9,2,   7.4016,2,    25.00, -999.000,9,  -999.00,9,  -999.00,9,   4.3949,2,  27.1628,2,   4.4648,2
49UP20220929_1,    P9,    68,  1,     21,     312,2,20221004,2215,2332, 23.9972, 136.9870, 4062,    908.8,      901,   4.4629,  34.2692,2,     62.7,2,  34.2689,2,    62.67,2,   104.05,2,    38.94,2,     0.00,2,    2.790,2, -999.000,9, -999.000,9,   2316.3,2,   2340.9,2,   7.3994,2,    25.00, -999.000,9,  -999.00,9,  -999.00,9,   4.3919,2,  27.1635,2,   4.4624,2
49UP20220929_1,    P9,    68,  1,     18,     752,2,20221004,2215,2329, 23.9972, 136.9870, 4062,   1010.9,     1002,   3.9706,  34.3392,2,     56.4,2,  34.3381,2,    56.21,6,   114.79,6,    40.22,6,     0.00,6,    2.880,6, -999.000,9, -999.000,9,   2329.8,2,   2357.7,2,   7.3956,2,    25.00, -999.000,9,  -999.00,9,  -999.00,9,   3.8945,2,  27.2713,2,   3.9710,2
49UP20220929_1,    P9,    68,  1,     17,     751,2,20221004,2215,2324, 23.9972, 136.9870, 4062,   1213.8,     1203,   3.2519,  34.4423,2,     60.9,2,  34.4423,6,    60.59,2,   130.09,2,    40.85,2,     0.00,2,    2.920,2, -999.000,9, -999.000,9,   2346.1,6,   2375.9,6,   7.4109,2,    25.00, -999.000,9,  -999.00,9,  -999.00,9,   3.1652,2,  27.4247,2,   3.2519,2
49UP20220929_1,    P9,    68,  1,     16,     328,2,20221004,2215,2319, 23.9972, 136.9870, 4062,   1415.1,     1401,   2.7656,  34.5087,2,     74.3,2,  34.5077,2,    73.79,2,   138.81,2,    40.33,2,     0.00,2,    2.870,2, -999.000,9, -999.000,9,   2348.9,2,   2390.7,2,   7.4380,6,    25.00, -999.000,9,  -999.00,9,  -999.00,9,   2.6675,2,  27.5226,2,   2.7668,2
49UP20220929_1,    P9,    68,  1,     15,     309,2,20221004,2215,2314, 23.9972, 136.9870, 4062,   1619.0,     1602,   2.3808,  34.5571,2,     89.4,2,  34.5568,2,    89.14,2,   143.73,2,    39.68,2,     0.00,2,    2.800,2, -999.000,9, -999.000,9,   2349.8,2,   2399.6,2,   7.4663,2,    25.00, -999.000,9,  -999.00,9,  -999.00,9,   2.2707,2,  27.5949,2,   2.3813,2
49UP20220929_1,    P9,    68,  1,     14,     326,2,20221004,2215,2310, 23.9972, 136.9870, 4062,   1819.7,     1800,   2.1183,  34.5925,2,    103.8,2,  34.5924,2,   103.73,2,   145.08,2,    38.81,2,     0.00,2,    2.740,2, -999.000,9, -999.000,9,   2344.4,2,   2405.7,2,   7.4940,2,    25.00, -999.000,9,  -999.00,9,  -999.00,9,   1.9952,2,  27.6456,2,   2.1182,2
49UP20220929_1,    P9,    68,  1,     13,     325,2,20221004,2215,2305, 23.9972, 136.9870, 4062,   2022.1,     2000,   2.0035,  34.6130,2,    113.4,2,  34.6142,4,   113.51,2,   144.61,2,    38.27,2,     0.00,2,    2.690,2, -999.000,9, -999.000,9,   2339.9,6,   2409.3,6,   7.5117,2,    25.00, -999.000,9,  -999.00,9,  -999.00,9,   1.8653,2,  27.6722,2,   2.0035,2
49UP20220929_1,    P9,    68,  1,     12,     324,2,20221004,2215,2300, 23.9972, 136.9870, 4062,   2226.2,     2200,   1.8703,  34.6305,2,    122.0,2,  34.6313,2,   121.75,2,   144.77,2,    37.79,2,     0.00,2,    2.650,2, -999.000,9, -999.000,9,   2337.3,2,   2411.0,2,   7.5320,6,    25.00, -999.000,9,  -999.00,9,  -999.00,9,   1.7167,2,  27.6976,2,   1.8701,2
49UP20220929_1,    P9,    68,  1,     11,     323,2,20221004,2215,2256, 23.9972, 136.9870, 4062,   2429.9,     2401,   1.7818,  34.6421,2,    128.2,2,  34.6425,2,   128.01,2,   144.74,2,    37.43,2,     0.00,2,    2.630,2, -999.000,9, -999.000,9,   2335.5,2,   2416.9,3,   7.5404,2,    25.00, -999.000,9,  -999.00,9,  -999.00,9,   1.6119,2,  27.7147,2,   1.7819,2
49UP20220929_1,    P9,    68,  1,     10,     322,2,20221004,2215,2255, 23.9972, 136.9870, 4062,   2430.2,     2401,   1.7818,  34.6420,2,    128.1,2,  34.6422,2,   127.88,2,   144.74,2,    37.43,2,     0.00,2,    2.620,2, -999.000,9, -999.000,9,   2336.0,2,   2410.9,2,   7.5405,2,    25.00, -999.000,9,  -999.00,9,  -999.00,9,   1.6119,2,  27.7146,2,   1.7818,2
49UP20220929_1,    P9,    68,  1,      9,     750,2,20221004,2215,2251, 23.9972, 136.9870, 4062,   2635.0,     2602,   1.7364,  34.6487,2,    131.8,2,  34.6488,6,   131.62,2,   144.81,2,    37.22,2,     0.00,2,    2.600,2, -999.000,9, -999.000,9,   2333.2,2,   2413.6,2,   7.5471,2,    25.00, -999.000,9,  -999.00,9,  -999.00,9,   1.5488,2,  27.7247,2,   1.7364,2
49UP20220929_1,    P9,    68,  1,      8,     320,2,20221004,2215,2246, 23.9972, 136.9870, 4062,   2837.2,     2800,   1.6998,  34.6531,2,    135.0,2,  34.6535,2,   134.84,2,   144.77,2,    36.99,2,     0.00,2,    2.590,2, -999.000,9, -999.000,9,   2332.7,2,   2412.3,2,   7.5522,2,    25.00, -999.000,9,  -999.00,9,  -999.00,9,   1.4942,2,  27.7322,2,   1.6998,2
49UP20220929_1,    P9,    68,  1,      7,     319,2,20221004,2215,2241, 23.9972, 136.9870, 4062,   3042.0,     3001,   1.6521,  34.6595,2,    139.3,2,  34.6594,2,   139.47,2,   144.49,2,    36.71,2,     0.00,2,    2.570,2, -999.000,9, -999.000,9,   2330.4,2,   2412.8,2,   7.5615,2,    25.00, -999.000,9,  -999.00,9,  -999.00,9,   1.4280,2,  27.7422,2,   1.6520,2
49UP20220929_1,    P9,    68,  1,      6,     318,3,20221004,2215,2236, 23.9972, 136.9870, 4062,   3298.2,     3252,   1.6075,  34.6663,2,    143.9,2,  34.6657,2,   143.79,2,   144.20,2,    36.40,2,     0.00,2,    2.550,2, -999.000,9, -999.000,9,   2328.1,2,   2415.6,2,   7.5672,2,    25.00, -999.000,9,  -999.00,9,  -999.00,9,   1.3592,2,  27.7525,2,   1.6076,2
49UP20220929_1,    P9,    68,  1,      5,     838,2,20221004,2215,2230, 23.9972, 136.9870, 4062,   3552.4,     3500,   1.5799,  34.6714,2,    147.7,2,  34.6715,2,   147.60,2,   143.79,2,    36.11,2,     0.00,2,    2.530,2, -999.000,9, -999.000,9,   2325.5,6,   2413.8,6,   7.5729,2,    25.00, -999.000,9,  -999.00,9,  -999.00,9,   1.3064,2,  27.7603,2,   1.5800,2
49UP20220929_1,    P9,    68,  1,      4,     316,2,20221004,2215,2224, 23.9972, 136.9870, 4062,   3809.2,     3751,   1.5359,  34.6782,2,    152.9,2,  34.6782,6,   153.20,2,   142.87,2,    35.80,2,     0.00,2,    2.500,2, -999.000,9, -999.000,9,   2322.7,2,   2414.7,2,   7.5803,6,    25.00, -999.000,9,  -999.00,9,  -999.00,9,   1.2366,2,  27.7707,2,   1.5359,2
49UP20220929_1,    P9,    68,  1,      3,     315,2,20221004,2215,2219, 23.9972, 136.9870, 4062,   4063.9,     4000,   1.5436,  34.6801,2,    154.7,2,  34.6800,2,   154.55,2,   142.47,2,    35.73,2,     0.00,2,    2.490,2, -999.000,9, -999.000,9,   2321.0,2,   2413.8,2,   7.5841,2,    25.00, -999.000,9,  -999.00,9,  -999.00,9,   1.2165,2,  27.7736,2,   1.5436,2
49UP20220929_1,    P9,    68,  1,      2,     314,2,20221004,2215,2218, 23.9972, 136.9870, 4062,   4064.3,     4000,   1.5438,  34.6799,2,    154.6,2,  34.6801,2,   154.55,2,   142.59,2,    35.75,2,     0.00,2,    2.490,2, -999.000,9, -999.000,9,   2321.2,2,   2412.0,2,   7.5838,2,    25.00, -999.000,9,  -999.00,9,  -999.00,9,   1.2166,2,  27.7734,2,   1.5437,2
49UP20220929_1,    P9,    68,  1,      1,     308,2,20221004,2215,2216, 23.9972, 136.9870, 4062,   4160.0,     4093,   1.5473,  34.6806,2,    155.3,2,  34.6800,2,   155.25,2,   142.44,2,    35.70,2,     0.00,2,    2.490,2, -999.000,9, -999.000,9,   2320.2,2,   2412.1,2,   7.5849,2,    25.00, -999.000,9,  -999.00,9,  -999.00,9,   1.2095,2,  27.7745,2,   1.5473,2