BOTTLE,20230330JMAAMD
EXPOCODE,SECT_ID,STNNBR,CASTNO,SAMPNO,BTLNBR,BTLNBR_FLAG_U,DATE,TIME,BTL_TIME,LATITUDE,LONGITUDE,DEPTH,CTDPRS,CTDDEP,CTDTMP,CTDSAL,CTDSAL_FLAG_W,CTDOXY,CTDOXY_FLAG_W,SALNTY,SALNTY_FLAG_W,OXYGEN,OXYGEN_FLAG_W,SILCAT,SILCAT_FLAG_W,NO2+NO3,NO2+NO3_FLAG_W,NITRIT,NITRIT_FLAG_W,PHSPHT,PHSPHT_FLAG_W,CFC-11,CFC-11_FLAG_W,CFC-12,CFC-12_FLAG_W,TCARBN,TCARBN_FLAG_W,ALKALI,ALKALI_FLAG_W,PH_TS,PH_TS_FLAG_W,PH_TS_TMP,CFC113,CFC113_FLAG_W,CHLORA,CHLORA_FLAG_W,PPHYTN,PPHYTN_FLAG_W,THETA,THETA_FLAG_W,SIGTHT,SIGTHT_FLAG_W,SBE35,SBE35_FLAG_W
,,,,,,,,UTC,,,,METER,DBAR,METERS,ITS-90,PSS-78,,UMOL/KG,,PSS78,,UMOL/KG,,UMOL/KG,,UMOL/KG,,UMOL/KG,,UMOL/KG,,PMOL/KG,,PMOL/KG,,UMOL/KG,,UMOL/KG,,,,ITS-90,PMOL/KG,,UG/KG,,UG/KG,,ITS-90,,KG/M3,,ITS-90,
49UP20220727_1,    P9,     7,  1,      0,      -9,0,20220807,0118,0229, -0.0052, 141.9895, 3378,      0.0,        0,  29.5803,  35.4029,2,    203.4,2,  35.4119,2,   200.86,2,     0.32,2,     0.50,2,     0.07,2,    0.250,2, -999.000,9, -999.000,9,   1998.0,2,   2330.2,2,   8.0873,2,    25.00, -999.000,9,     0.50,2,     0.09,2,  29.5797,2,  22.1714,2,-999.0000,9
49UP20220727_1,    P9,     7,  1,     36,     757,2,20220807,0118,0301, -0.0052, 141.9895, 3378,     11.0,       11,  29.5354,  35.4020,2,    203.2,2,  35.4009,2,   202.83,2,     0.32,2,     0.50,2,     0.07,2,    0.230,2, -999.000,9, -999.000,9,   1999.5,2,   2330.6,2,   8.0848,2,    25.00, -999.000,9,     0.48,2,     0.10,2,  29.5327,2,  22.1866,2,  29.5375,2
49UP20220727_1,    P9,     7,  1,     35,     756,2,20220807,0118,0300, -0.0052, 141.9895, 3378,     25.6,       25,  29.3774,  35.3958,2,    201.9,2,  35.3937,2,   201.43,2,     0.42,2,     0.66,2,     0.08,2,    0.240,2, -999.000,9, -999.000,9,   1997.6,2,   2328.9,6,   8.0855,2,    25.00, -999.000,9,     0.64,2,     0.19,2,  29.3711,2,  22.2366,2,  29.3781,2
49UP20220727_1,    P9,     7,  1,     34,     323,2,20220807,0118,0254, -0.0052, 141.9895, 3378,     51.9,       52,  29.3024,  35.3902,2,    198.6,2,  35.3894,2,   197.70,2,     0.54,2,     0.98,2,     0.11,2,    0.270,2, -999.000,9, -999.000,9,   2001.6,2,   2328.1,2,   8.0790,6,    25.00, -999.000,9,     0.83,2,     0.36,2,  29.2898,2,  22.2598,2,  29.3017,2
49UP20220727_1,    P9,     7,  1,     32,     321,2,20220807,0118,0252, -0.0052, 141.9895, 3378,     76.3,       76,  29.2287,  35.3998,2,    190.1,2,  35.3994,2,   189.42,2,     1.06,2,     1.93,2,     0.27,2,    0.340,2, -999.000,9, -999.000,9,   2012.0,2,   2328.5,2,   8.0642,2,    25.00, -999.000,9,     0.46,2,     0.28,2,  29.2102,2,  22.2938,2,  29.2279,2
49UP20220727_1,    P9,     7,  1,     33,     322,2,20220807,0118,0252, -0.0052, 141.9895, 3378,     76.4,       76,  29.2285,  35.3998,2,    190.1,2,  35.3988,2,   189.81,2,     1.02,2,     1.91,2,     0.27,2,    0.340,2, -999.000,9, -999.000,9,   2011.9,2,   2329.1,2,   8.0646,2,    25.00, -999.000,9,  -999.00,9,  -999.00,9,  29.2099,2,  22.2939,2,  29.2279,2
49UP20220727_1,    P9,     7,  1,     31,     320,2,20220807,0118,0251, -0.0052, 141.9895, 3378,    102.5,      102,  29.1596,  35.4107,2,    183.0,2,  35.4107,2,   182.36,2,     1.45,2,     2.95,2,     0.44,2,    0.400,2, -999.000,9, -999.000,9,   2022.3,2,   2327.6,2,   8.0496,2,    25.00, -999.000,9,     0.32,2,     0.24,2,  29.1346,2,  22.3274,2,  29.1582,2
49UP20220727_1,    P9,     7,  1,     30,     319,2,20220807,0118,0249, -0.0052, 141.9895, 3378,    125.6,      125,  28.8208,  35.4719,2,    174.7,2,  35.4748,2,   174.27,2,     1.67,2,     4.09,2,     0.15,2,    0.470,2, -999.000,9, -999.000,9,   2034.0,2,   2332.6,2,   8.0350,2,    25.00, -999.000,9,     0.07,2,     0.05,2,  28.7905,2,  22.4884,2,  28.8188,2
49UP20220727_1,    P9,     7,  1,     29,     318,2,20220807,0118,0247, -0.0052, 141.9895, 3378,    157.1,      156,  26.0937,  35.6310,2,    138.9,2,  35.6327,2,   139.68,6,     2.51,6,     8.56,6,     0.03,6,    0.740,6, -999.000,9, -999.000,9,   2087.7,2,   2339.5,2,   7.9527,2,    25.00, -999.000,9,     0.01,2,     0.03,2,  26.0584,2,  23.4913,2,  26.0905,2
49UP20220727_1,    P9,     7,  1,     28,     755,4,20220807,0118,0245, -0.0052, 141.9895, 3378,    205.5,      204,  17.4852,  35.3661,2,    137.2,2,  34.6736,4,   144.21,4,   144.35,4,    36.45,4,     0.00,4,    2.540,4, -999.000,9, -999.000,9,   2314.0,4,   2413.3,4,   7.5811,4,    25.00, -999.000,9,     0.00,4,     0.00,4,  17.4506,2,  25.6870,2,  17.4838,2
49UP20220727_1,    P9,     7,  1,     27,     317,2,20220807,0118,0244, -0.0052, 141.9895, 3378,    248.7,      247,  15.2901,  35.1975,2,    147.1,2,  35.1963,2,   147.54,2,     7.58,2,    15.07,2,     0.01,2,    1.140,2, -999.000,9, -999.000,9,   2133.6,3,   2319.8,2,   7.7919,2,    25.00, -999.000,9,  -999.00,9,  -999.00,9,  15.2519,2,  26.0685,2,  15.2724,2
49UP20220727_1,    P9,     7,  1,     26,     316,2,20220807,0118,0242, -0.0052, 141.9895, 3378,    300.1,      298,  10.8918,  34.7674,2,    143.4,2,  34.7644,2,   142.77,2,    20.13,2,    22.59,2,     0.00,2,    1.620,2, -999.000,9, -999.000,9,   2176.2,2,   2306.7,6,   7.6914,2,    25.00, -999.000,9,  -999.00,9,  -999.00,9,  10.8549,2,  26.6206,2,  10.8933,2
49UP20220727_1,    P9,     7,  1,     25,     315,2,20220807,0118,0241, -0.0052, 141.9895, 3378,    351.5,      349,  10.3991,  34.7240,2,    137.8,2,  34.7247,2,   137.60,2,    22.43,2,    23.99,2,     0.00,2,    1.710,2, -999.000,9, -999.000,9,   2184.3,2,   2305.0,2,   7.6726,6,    25.00, -999.000,9,  -999.00,9,  -999.00,9,  10.3571,2,  26.6748,2,  10.3992,2
49UP20220727_1,    P9,     7,  1,     24,     753,2,20220807,0118,0238, -0.0052, 141.9895, 3378,    405.3,      403,   9.5058,  34.6688,2,    133.6,2,  34.6675,2,   132.66,2,    24.49,2,    26.21,2,     0.00,2,    1.850,2, -999.000,9, -999.000,9,   2194.2,2,   2303.3,2,   7.6429,2,    25.00, -999.000,9,  -999.00,9,  -999.00,9,   9.4599,2,  26.7840,2,   9.5095,2
49UP20220727_1,    P9,     7,  1,     23,     314,2,20220807,0118,0236, -0.0052, 141.9895, 3378,    455.5,      452,   8.6626,  34.6202,2,    140.6,2,  34.6181,2,   142.25,6,    24.37,6,    27.06,6,     0.00,6,    1.890,6, -999.000,9, -999.000,9,   2195.0,2,   2302.9,2,   7.6365,2,    25.00, -999.000,9,  -999.00,9,  -999.00,9,   8.6138,2,  26.8818,2,   8.6622,2
49UP20220727_1,    P9,     7,  1,     22,     313,2,20220807,0118,0234, -0.0052, 141.9895, 3378,    505.1,      502,   7.7951,  34.5632,2,    153.1,2,  34.5628,2,   153.35,2,    27.27,2,    27.70,2,     0.00,2,    1.940,2, -999.000,9, -999.000,9,   2192.3,2,   2301.5,2,   7.6357,2,    25.00, -999.000,9,  -999.00,9,  -999.00,9,   7.7440,2,  26.9687,2,   7.7923,2
49UP20220727_1,    P9,     7,  1,     21,     312,2,20220807,0118,0231, -0.0052, 141.9895, 3378,    606.5,      602,   6.9508,  34.5360,2,    130.2,2,  34.5342,2,   130.86,2,    38.72,2,    31.46,2,     0.00,2,    2.210,2, -999.000,9, -999.000,9,   2219.4,2,   2311.3,2,   7.5878,2,    25.00, -999.000,9,  -999.00,9,  -999.00,9,   6.8930,2,  27.0680,2,   6.9488,2
49UP20220727_1,    P9,     7,  1,     20,     311,2,20220807,0118,0228, -0.0052, 141.9895, 3378,    707.5,      702,   5.9084,  34.5256,2,    112.5,2,  34.5229,6,   114.55,2,    53.50,2,    34.84,2,     0.00,2,    2.460,2, -999.000,9, -999.000,9,   2252.1,2,   2325.1,2,   7.5462,2,    25.00, -999.000,9,  -999.00,9,  -999.00,9,   5.8460,2,  27.1972,2,   5.9060,2
49UP20220727_1,    P9,     7,  1,     19,     310,2,20220807,0118,0225, -0.0052, 141.9895, 3378,    807.7,      802,   5.3947,  34.5257,2,    112.6,2,  34.5253,2,   113.73,2,    61.75,2,    35.73,2,     0.00,2,    2.520,2, -999.000,9, -999.000,9,   2259.2,2,   2333.2,2,   7.5392,2,    25.00, -999.000,9,  -999.00,9,  -999.00,9,   5.3261,2,  27.2609,2,   5.3955,2
49UP20220727_1,    P9,     7,  1,     18,     752,2,20220807,0118,0222, -0.0052, 141.9895, 3378,    908.3,      901,   4.7888,  34.5398,2,    107.3,2,  34.5398,2,   107.45,6,    75.96,6,    36.81,6,     0.00,6,    2.610,6, -999.000,9, -999.000,9,   2275.9,2,   2346.0,2,   7.5293,2,    25.00, -999.000,9,  -999.00,9,  -999.00,9,   4.7152,2,  27.3428,2,   4.7886,2
49UP20220727_1,    P9,     7,  1,     17,     751,2,20220807,0118,0219, -0.0052, 141.9895, 3378,   1009.9,     1002,   4.5974,  34.5428,2,    105.1,2,  34.5428,2,   105.22,2,    79.18,2,    37.34,2,     0.00,2,    2.650,2, -999.000,9, -999.000,9,   2283.2,2,   2349.8,2,   7.5197,2,    25.00, -999.000,9,  -999.00,9,  -999.00,9,   4.5162,2,  27.3673,2,   4.5971,2
49UP20220727_1,    P9,     7,  1,     16,     328,2,20220807,0118,0218, -0.0052, 141.9895, 3378,   1010.0,     1002,   4.5969,  34.5427,2,    105.1,2,  34.5428,2,   105.75,2,    79.17,2,    37.33,2,     0.00,2,    2.650,2, -999.000,9, -999.000,9,   2281.8,2,   2348.5,2,   7.5206,2,    25.00, -999.000,9,  -999.00,9,  -999.00,9,   4.5157,2,  27.3673,2,   4.5968,2
49UP20220727_1,    P9,     7,  1,     15,     309,2,20220807,0118,0213, -0.0052, 141.9895, 3378,   1211.3,     1201,   3.6955,  34.5730,2,    102.3,2,  34.5728,2,   102.31,2,   101.05,2,    38.36,2,     0.00,2,    2.730,2, -999.000,9, -999.000,9,   2306.3,2,   2374.1,2,   7.5139,2,    25.00, -999.000,9,  -999.00,9,  -999.00,9,   3.6046,2,  27.4866,2,   3.6952,2
49UP20220727_1,    P9,     7,  1,     14,     326,2,20220807,0118,0208, -0.0052, 141.9895, 3378,   1414.9,     1402,   3.2151,  34.5905,2,    107.1,2,  34.5904,6,   107.03,2,   111.23,2,    38.34,2,     0.00,2,    2.720,2, -999.000,9, -999.000,9,   2317.5,2,   2385.2,2,   7.5179,2,    25.00, -999.000,9,  -999.00,9,  -999.00,9,   3.1120,2,  27.5478,2,   3.2149,2
49UP20220727_1,    P9,     7,  1,     13,     325,2,20220807,0118,0203, -0.0052, 141.9895, 3378,   1616.6,     1602,   2.7401,  34.6108,2,    111.6,2,  34.6113,2,   112.10,2,   122.14,2,    38.25,2,     0.00,2,    2.710,2, -999.000,9, -999.000,9,   2326.3,2,   2396.0,2,   7.5281,2,    25.00, -999.000,9,  -999.00,9,  -999.00,9,   2.6256,2,  27.6079,2,   2.7401,2
49UP20220727_1,    P9,     7,  1,     12,     324,2,20220807,0118,0159, -0.0052, 141.9895, 3378,   1818.3,     1800,   2.4563,  34.6245,2,    116.7,2,  34.6249,2,   116.59,6,   128.31,6,    38.09,6,     0.00,6,    2.680,6, -999.000,9, -999.000,9,   2328.8,2,   2402.8,2,   7.5356,2,    25.00, -999.000,9,  -999.00,9,  -999.00,9,   2.3286,2,  27.6441,2,   2.4573,2
49UP20220727_1,    P9,     7,  1,     10,     322,2,20220807,0118,0153, -0.0052, 141.9895, 3378,   2022.3,     2002,   2.2402,  34.6356,2,    119.7,2,  34.6351,2,   119.70,2,   133.98,2,    37.95,2,     0.00,2,    2.670,2, -999.000,9, -999.000,9,   2331.9,2,   2406.7,2,   7.5372,2,    25.00, -999.000,9,  -999.00,9,  -999.00,9,   2.0981,2,  27.6719,2,   2.2400,2
49UP20220727_1,    P9,     7,  1,     11,     323,2,20220807,0118,0154, -0.0052, 141.9895, 3378,   2022.7,     2002,   2.2402,  34.6356,2,    119.8,2,  34.6358,2,   119.46,2,   133.99,2,    37.95,2,     0.00,2,    2.670,2, -999.000,9, -999.000,9,   2333.2,2,   2407.9,2,   7.5386,2,    25.00, -999.000,9,  -999.00,9,  -999.00,9,   2.0982,2,  27.6719,2,   2.2401,2
49UP20220727_1,    P9,     7,  1,      9,     750,2,20220807,0118,0148, -0.0052, 141.9895, 3378,   2226.3,     2202,   2.0192,  34.6460,2,    123.8,2,  34.6456,2,   123.92,2,   139.57,2,    37.75,2,     0.00,2,    2.650,2, -999.000,9, -999.000,9,   2334.0,2,   2413.7,2,   7.5434,2,    25.00, -999.000,9,  -999.00,9,  -999.00,9,   1.8630,2,  27.6988,2,   2.0193,2
49UP20220727_1,    P9,     7,  1,      8,     320,2,20220807,0118,0143, -0.0052, 141.9895, 3378,   2429.6,     2402,   1.8534,  34.6548,2,    129.6,2,  34.6545,2,   129.51,2,   142.18,2,    37.39,2,     0.00,2,    2.620,2, -999.000,9, -999.000,9,   2334.2,6,   2415.2,6,   7.5524,2,    25.00, -999.000,9,  -999.00,9,  -999.00,9,   1.6821,2,  27.7196,2,   1.8536,2
49UP20220727_1,    P9,     7,  1,      7,     319,2,20220807,0118,0137, -0.0052, 141.9895, 3378,   2634.4,     2604,   1.7380,  34.6610,2,    135.1,2,  34.6609,2,   135.03,2,   143.24,2,    37.07,2,     0.00,2,    2.590,2, -999.000,9, -999.000,9,   2330.0,2,   2416.6,2,   7.5612,6,    25.00, -999.000,9,  -999.00,9,  -999.00,9,   1.5504,2,  27.7344,2,   1.7378,2
49UP20220727_1,    P9,     7,  1,      6,     318,3,20220807,0118,0133, -0.0052, 141.9895, 3378,   2835.3,     2801,   1.6570,  34.6663,2,    139.6,2,  34.6682,4,   139.43,2,   143.52,2,    36.76,2,     0.00,2,    2.560,2, -999.000,9, -999.000,9,   2333.6,2,   2418.2,2,   7.5666,2,    25.00, -999.000,9,  -999.00,9,  -999.00,9,   1.4524,2,  27.7458,2,   1.6569,2
49UP20220727_1,    P9,     7,  1,      5,     838,2,20220807,0118,0129, -0.0052, 141.9895, 3378,   3036.9,     2999,   1.6087,  34.6701,2,    142.9,2,  34.6700,2,   142.86,2,   143.99,2,    36.54,2,     0.00,2,    2.550,2, -999.000,9, -999.000,9,   2331.5,2,   2418.8,2,   7.5734,2,    25.00, -999.000,9,  -999.00,9,  -999.00,9,   1.3860,2,  27.7537,2,   1.6085,2
49UP20220727_1,    P9,     7,  1,      4,     316,2,20220807,0118,0122, -0.0052, 141.9895, 3378,   3294.3,     3251,   1.5961,  34.6728,2,    144.3,2,  34.6728,6,   144.29,2,   144.23,2,    36.50,2,     0.00,2,    2.540,2, -999.000,9, -999.000,9,   2330.3,2,   2422.4,2,   7.5751,2,    25.00, -999.000,9,  -999.00,9,  -999.00,9,   1.3484,2,  27.7585,2,   1.5961,2
49UP20220727_1,    P9,     7,  1,      3,     315,2,20220807,0118,0118, -0.0052, 141.9895, 3378,   3413.1,     3367,   1.6042,  34.6733,2,    144.2,2,  34.6733,2,   144.10,2,   144.59,2,    36.51,2,     0.00,2,    2.540,2, -999.000,9, -999.000,9,   2332.2,2,   2422.4,2,   7.5776,2,    25.00, -999.000,9,  -999.00,9,  -999.00,9,   1.3444,2,  27.7592,2,   1.6042,2
49UP20220727_1,    P9,     7,  1,      2,     314,2,20220807,0118,0118, -0.0052, 141.9895, 3378,   3413.3,     3367,   1.6043,  34.6733,2,    144.2,2,  34.6733,2,   144.04,2,   144.53,2,    36.47,2,     0.00,2,    2.540,2, -999.000,9, -999.000,9,   2328.9,2,   2422.6,2,   7.5779,2,    25.00, -999.000,9,  -999.00,9,  -999.00,9,   1.3444,2,  27.7592,2,   1.6042,2