BOTTLE,20230330JMAAMD
EXPOCODE,SECT_ID,STNNBR,CASTNO,SAMPNO,BTLNBR,BTLNBR_FLAG_U,DATE,TIME,BTL_TIME,LATITUDE,LONGITUDE,DEPTH,CTDPRS,CTDDEP,CTDTMP,CTDSAL,CTDSAL_FLAG_W,CTDOXY,CTDOXY_FLAG_W,SALNTY,SALNTY_FLAG_W,OXYGEN,OXYGEN_FLAG_W,SILCAT,SILCAT_FLAG_W,NO2+NO3,NO2+NO3_FLAG_W,NITRIT,NITRIT_FLAG_W,PHSPHT,PHSPHT_FLAG_W,CFC-11,CFC-11_FLAG_W,CFC-12,CFC-12_FLAG_W,TCARBN,TCARBN_FLAG_W,ALKALI,ALKALI_FLAG_W,PH_TS,PH_TS_FLAG_W,PH_TS_TMP,CFC113,CFC113_FLAG_W,CHLORA,CHLORA_FLAG_W,PPHYTN,PPHYTN_FLAG_W,THETA,THETA_FLAG_W,SIGTHT,SIGTHT_FLAG_W,SBE35,SBE35_FLAG_W
,,,,,,,,UTC,,,,METER,DBAR,METERS,ITS-90,PSS-78,,UMOL/KG,,PSS78,,UMOL/KG,,UMOL/KG,,UMOL/KG,,UMOL/KG,,UMOL/KG,,PMOL/KG,,PMOL/KG,,UMOL/KG,,UMOL/KG,,,,ITS-90,PMOL/KG,,UG/KG,,UG/KG,,ITS-90,,KG/M3,,ITS-90,
49UP20220929_1,    P9,    71,  1,      0,      -9,0,20221005,2114,2250, 25.4888, 137.0168, 4492,      0.0,        0,  29.2121,  34.7650,2,    194.9,2,-999.0000,9,   195.81,2,     1.08,2,     0.08,2,     0.00,2,    0.020,2, -999.000,9, -999.000,9,   -999.0,9,   -999.0,9,-999.0000,9,  -999.00, -999.000,9,  -999.00,9,  -999.00,9,  29.2114,2,  21.8168,2,-999.0000,9
49UP20220929_1,    P9,    71,  1,     36,     757,2,20221005,2114,2318, 25.4888, 137.0168, 4492,     10.6,       11,  29.2189,  34.7660,2,    195.0,2,  34.7689,2,   195.42,2,     1.12,2,     0.09,2,     0.00,2,    0.010,2, -999.000,9, -999.000,9,   -999.0,9,   -999.0,9,-999.0000,9,  -999.00, -999.000,9,  -999.00,9,  -999.00,9,  29.2163,2,  21.8159,2,  29.2186,2
49UP20220929_1,    P9,    71,  1,     35,     756,2,20221005,2114,2316, 25.4888, 137.0168, 4492,     25.4,       25,  29.2736,  34.7976,2,    195.2,2,  34.7949,2,   195.29,2,     1.16,2,     0.06,2,     0.00,2,    0.010,2, -999.000,9, -999.000,9,   -999.0,9,   -999.0,9,-999.0000,9,  -999.00, -999.000,9,  -999.00,9,  -999.00,9,  29.2674,2,  21.8225,2,  29.2745,2
49UP20220929_1,    P9,    71,  1,     34,     323,2,20221005,2114,2313, 25.4888, 137.0168, 4492,     49.3,       49,  29.1972,  34.8128,2,    195.9,2,  34.8164,2,   196.27,2,     1.16,2,     0.05,2,     0.00,2,    0.010,2, -999.000,9, -999.000,9,   -999.0,9,   -999.0,9,-999.0000,9,  -999.00, -999.000,9,  -999.00,9,  -999.00,9,  29.1853,2,  21.8615,2,  29.1785,2
49UP20220929_1,    P9,    71,  1,     33,     322,2,20221005,2114,2311, 25.4888, 137.0168, 4492,     74.3,       74,  24.6360,  34.7114,2,    220.4,2,  34.7125,2,   220.12,2,     1.54,2,     0.06,2,     0.00,2,    0.010,2, -999.000,9, -999.000,9,   -999.0,9,   -999.0,9,-999.0000,9,  -999.00, -999.000,9,  -999.00,9,  -999.00,9,  24.6201,2,  23.2379,2,  24.6309,2
49UP20220929_1,    P9,    71,  1,     32,     321,2,20221005,2114,2309, 25.4888, 137.0168, 4492,     99.2,       99,  23.0826,  34.8332,2,    213.3,2,  34.8434,2,   213.70,2,     1.67,2,     0.08,2,     0.00,2,    0.020,2, -999.000,9, -999.000,9,   -999.0,9,   -999.0,9,-999.0000,9,  -999.00, -999.000,9,  -999.00,9,  -999.00,9,  23.0623,2,  23.7891,2,  23.0773,2
49UP20220929_1,    P9,    71,  1,     31,     320,2,20221005,2114,2308, 25.4888, 137.0168, 4492,    126.1,      125,  21.8118,  34.8054,2,    204.5,2,  34.8111,2,   204.89,2,     1.98,2,     0.45,2,     0.10,2,    0.050,2, -999.000,9, -999.000,9,   -999.0,9,   -999.0,9,-999.0000,9,  -999.00, -999.000,9,  -999.00,9,  -999.00,9,  21.7871,2,  24.1294,2,  21.8080,2
49UP20220929_1,    P9,    71,  1,     30,     319,2,20221005,2114,2306, 25.4888, 137.0168, 4492,    150.3,      149,  20.7591,  34.7953,2,    200.1,2,  34.7958,2,   200.34,2,     2.34,2,     1.52,2,     0.04,2,    0.110,2, -999.000,9, -999.000,9,   -999.0,9,   -999.0,9,-999.0000,9,  -999.00, -999.000,9,  -999.00,9,  -999.00,9,  20.7306,2,  24.4110,2,  20.7602,2
49UP20220929_1,    P9,    71,  1,     29,     318,2,20221005,2114,2305, 25.4888, 137.0168, 4492,    201.6,      200,  19.2712,  34.7907,2,    199.5,2,  34.7904,2,   199.50,2,     2.95,2,     2.82,2,     0.01,2,    0.190,2, -999.000,9, -999.000,9,   -999.0,9,   -999.0,9,-999.0000,9,  -999.00, -999.000,9,  -999.00,9,  -999.00,9,  19.2350,2,  24.8010,2,  19.2712,2
49UP20220929_1,    P9,    71,  1,     28,     755,2,20221005,2114,2303, 25.4888, 137.0168, 4492,    252.7,      251,  18.0806,  34.7738,2,    205.1,2,  34.7738,2,   205.00,2,     3.36,2,     3.40,2,     0.01,2,    0.230,2, -999.000,9, -999.000,9,   -999.0,9,   -999.0,9,-999.0000,9,  -999.00, -999.000,9,  -999.00,9,  -999.00,9,  18.0370,2,  25.0897,2,  18.0801,2
49UP20220929_1,    P9,    71,  1,     27,     317,2,20221005,2114,2301, 25.4888, 137.0168, 4492,    304.9,      303,  17.4185,  34.7452,2,    202.6,2,  34.7451,2,   202.84,2,     4.34,2,     4.72,2,     0.01,2,    0.310,2, -999.000,9, -999.000,9,   -999.0,9,   -999.0,9,-999.0000,9,  -999.00, -999.000,9,  -999.00,9,  -999.00,9,  17.3673,2,  25.2309,2,  17.4186,2
49UP20220929_1,    P9,    71,  1,     26,     316,2,20221005,2114,2258, 25.4888, 137.0168, 4492,    404.4,      401,  15.2691,  34.5872,2,    189.0,2,  34.5873,2,   189.18,6,     9.28,6,     9.24,6,     0.00,6,    0.630,6, -999.000,9, -999.000,9,   -999.0,9,   -999.0,9,-999.0000,9,  -999.00, -999.000,9,  -999.00,9,  -999.00,9,  15.2070,2,  25.6081,2,  15.2696,2
49UP20220929_1,    P9,    71,  1,     25,     315,2,20221005,2114,2255, 25.4888, 137.0168, 4492,    506.2,      502,  12.2463,  34.3520,2,    177.8,2,  34.3534,2,   177.93,2,    18.41,2,    15.01,2,     0.00,2,    1.050,2, -999.000,9, -999.000,9,   -999.0,9,   -999.0,9,-999.0000,9,  -999.00, -999.000,9,  -999.00,9,  -999.00,9,  12.1790,2,  26.0516,2,  12.2469,2
49UP20220929_1,    P9,    71,  1,     24,     753,2,20221005,2114,2252, 25.4888, 137.0168, 4492,    602.2,      597,   9.6333,  34.1955,2,    157.7,2,  34.1953,2,   157.93,2,    32.83,2,    21.52,2,     0.00,2,    1.530,2, -999.000,9, -999.000,9,   -999.0,9,   -999.0,9,-999.0000,9,  -999.00, -999.000,9,  -999.00,9,  -999.00,9,   9.5642,2,  26.3967,2,   9.6333,2
49UP20220929_1,    P9,    71,  1,     23,     314,2,20221005,2114,2250, 25.4888, 137.0168, 4492,    706.2,      700,   7.3097,  34.1263,2,    118.8,2,  34.1263,2,   118.51,2,    54.29,2,    29.38,2,     0.00,2,    2.110,2, -999.000,9, -999.000,9,   -999.0,9,   -999.0,9,-999.0000,9,  -999.00, -999.000,9,  -999.00,9,  -999.00,9,   7.2405,2,  26.6971,2,   7.3105,2
49UP20220929_1,    P9,    71,  1,     22,     313,2,20221005,2114,2247, 25.4888, 137.0168, 4492,    808.0,      801,   5.7318,  34.1691,2,     86.9,2,  34.1688,6,    86.78,2,    78.93,2,    34.96,2,     0.00,2,    2.510,2, -999.000,9, -999.000,9,   -999.0,9,   -999.0,9,-999.0000,9,  -999.00, -999.000,9,  -999.00,9,  -999.00,9,   5.6615,2,  26.9381,2,   5.7319,2
49UP20220929_1,    P9,    71,  1,     21,     312,2,20221005,2114,2244, 25.4888, 137.0168, 4492,    909.0,      901,   4.7844,  34.2401,2,     66.6,2,  34.2395,2,    66.64,2,    96.61,2,    38.21,2,     0.00,2,    2.740,2, -999.000,9, -999.000,9,   -999.0,9,   -999.0,9,-999.0000,9,  -999.00, -999.000,9,  -999.00,9,  -999.00,9,   4.7112,2,  27.1055,2,   4.7841,2
49UP20220929_1,    P9,    71,  1,     20,     311,2,20221005,2114,2241, 25.4888, 137.0168, 4492,   1010.8,     1002,   4.1338,  34.3090,2,     56.9,2,  34.3084,2,    56.36,2,   110.95,2,    39.91,2,     0.00,2,    2.860,2, -999.000,9, -999.000,9,   -999.0,9,   -999.0,9,-999.0000,9,  -999.00, -999.000,9,  -999.00,9,  -999.00,9,   4.0565,2,  27.2306,2,   4.1339,2
49UP20220929_1,    P9,    71,  1,     19,     310,2,20221005,2114,2236, 25.4888, 137.0168, 4492,   1212.1,     1201,   3.3231,  34.4124,2,     54.8,2,  34.4125,2,    54.48,6,   129.73,6,    41.23,6,     0.00,6,    2.940,6, -999.000,9, -999.000,9,   -999.0,9,   -999.0,9,-999.0000,9,  -999.00, -999.000,9,  -999.00,9,  -999.00,9,   3.2359,2,  27.3942,2,   3.3229,2
49UP20220929_1,    P9,    71,  1,     18,     752,2,20221005,2114,2231, 25.4888, 137.0168, 4492,   1414.6,     1401,   2.7711,  34.4816,2,     61.2,2,  34.4817,2,    60.80,2,   141.95,2,    41.37,2,     0.00,2,    2.940,2, -999.000,9, -999.000,9,   -999.0,9,   -999.0,9,-999.0000,9,  -999.00, -999.000,9,  -999.00,9,  -999.00,9,   2.6730,2,  27.5005,2,   2.7706,2
49UP20220929_1,    P9,    71,  1,     17,     751,2,20221005,2114,2226, 25.4888, 137.0168, 4492,   1618.4,     1602,   2.4633,  34.5346,2,     78.0,2,  34.5349,2,    78.03,2,   145.13,2,    40.47,2,     0.00,2,    2.860,2, -999.000,9, -999.000,9,   -999.0,9,   -999.0,9,-999.0000,9,  -999.00, -999.000,9,  -999.00,9,  -999.00,9,   2.3522,2,  27.5702,2,   2.4631,2
49UP20220929_1,    P9,    71,  1,     16,     328,2,20221005,2114,2222, 25.4888, 137.0168, 4492,   1820.3,     1801,   2.1879,  34.5803,2,     97.2,2,  34.5806,2,    97.24,2,   145.68,2,    39.27,2,     0.00,2,    2.770,2, -999.000,9, -999.000,9,   -999.0,9,   -999.0,9,-999.0000,9,  -999.00, -999.000,9,  -999.00,9,  -999.00,9,   2.0638,2,  27.6304,2,   2.1879,2
49UP20220929_1,    P9,    71,  1,     15,     309,2,20221005,2114,2217, 25.4888, 137.0168, 4492,   2023.5,     2001,   2.0185,  34.6074,2,    109.9,2,  34.6079,2,   109.65,2,   145.53,2,    38.55,2,     0.00,2,    2.710,2, -999.000,9, -999.000,9,   -999.0,9,   -999.0,9,-999.0000,9,  -999.00, -999.000,9,  -999.00,9,  -999.00,9,   1.8799,2,  27.6665,2,   2.0184,2
49UP20220929_1,    P9,    71,  1,     14,     326,2,20221005,2114,2212, 25.4888, 137.0168, 4492,   2228.1,     2202,   1.9030,  34.6244,2,    118.3,2,  34.6243,6,   118.26,2,   145.49,2,    38.11,2,     0.00,2,    2.670,2, -999.000,9, -999.000,9,   -999.0,9,   -999.0,9,-999.0000,9,  -999.00, -999.000,9,  -999.00,9,  -999.00,9,   1.7487,2,  27.6902,2,   1.9028,2
49UP20220929_1,    P9,    71,  1,     13,     325,2,20221005,2114,2207, 25.4888, 137.0168, 4492,   2429.4,     2400,   1.8292,  34.6357,2,    124.6,2,  34.6361,2,   124.06,2,   145.20,2,    37.75,2,     0.00,2,    2.640,2, -999.000,9, -999.000,9,   -999.0,9,   -999.0,9,-999.0000,9,  -999.00, -999.000,9,  -999.00,9,  -999.00,9,   1.6584,2,  27.7061,2,   1.8290,2
49UP20220929_1,    P9,    71,  1,     12,     324,2,20221005,2114,2202, 25.4888, 137.0168, 4492,   2634.7,     2601,   1.7713,  34.6440,2,    129.1,2,  34.6442,2,   128.93,6,   145.11,6,    37.49,6,     0.00,6,    2.620,6, -999.000,9, -999.000,9,   -999.0,9,   -999.0,9,-999.0000,9,  -999.00, -999.000,9,  -999.00,9,  -999.00,9,   1.5831,2,  27.7184,2,   1.7712,2
49UP20220929_1,    P9,    71,  1,     11,     323,2,20221005,2114,2158, 25.4888, 137.0168, 4492,   2838.1,     2801,   1.7080,  34.6520,2,    134.1,2,  34.6522,2,   133.76,2,   144.80,2,    37.20,2,     0.00,2,    2.590,2, -999.000,9, -999.000,9,   -999.0,9,   -999.0,9,-999.0000,9,  -999.00, -999.000,9,  -999.00,9,  -999.00,9,   1.5022,2,  27.7307,2,   1.7080,2
49UP20220929_1,    P9,    71,  1,     10,     322,2,20221005,2114,2153, 25.4888, 137.0168, 4492,   3041.7,     3000,   1.6660,  34.6578,2,    138.1,2,  34.6578,2,   138.18,2,   144.64,2,    36.92,2,     0.00,2,    2.570,2, -999.000,9, -999.000,9,   -999.0,9,   -999.0,9,-999.0000,9,  -999.00, -999.000,9,  -999.00,9,  -999.00,9,   1.4416,2,  27.7397,2,   1.6659,2
49UP20220929_1,    P9,    71,  1,      9,     750,2,20221005,2114,2147, 25.4888, 137.0168, 4492,   3296.9,     3250,   1.6227,  34.6647,2,    142.6,2,  34.6651,6,   142.40,2,   144.19,2,    36.64,2,     0.00,2,    2.550,2, -999.000,9, -999.000,9,   -999.0,9,   -999.0,9,-999.0000,9,  -999.00, -999.000,9,  -999.00,9,  -999.00,9,   1.3742,2,  27.7502,2,   1.6228,2
49UP20220929_1,    P9,    71,  1,      8,     320,2,20221005,2114,2141, 25.4888, 137.0168, 4492,   3553.2,     3501,   1.5768,  34.6715,2,    147.7,2,  34.6715,2,   147.81,2,   143.79,2,    36.32,2,     0.00,2,    2.530,2, -999.000,9, -999.000,9,   -999.0,9,   -999.0,9,-999.0000,9,  -999.00, -999.000,9,  -999.00,9,  -999.00,9,   1.3033,2,  27.7607,2,   1.5768,2
49UP20220929_1,    P9,    71,  1,      7,     319,2,20221005,2114,2136, 25.4888, 137.0168, 4492,   3808.1,     3750,   1.5551,  34.6764,2,    151.3,2,  34.6764,2,   151.39,2,   143.10,2,    36.12,2,     0.00,2,    2.510,2, -999.000,9, -999.000,9,   -999.0,9,   -999.0,9,-999.0000,9,  -999.00, -999.000,9,  -999.00,9,  -999.00,9,   1.2554,2,  27.7679,2,   1.5551,2
49UP20220929_1,    P9,    71,  1,      6,     318,2,20221005,2114,2135, 25.4888, 137.0168, 4492,   3808.7,     3750,   1.5549,  34.6764,2,    151.3,2,  34.6763,2,   151.66,2,   143.04,2,    36.09,2,     0.00,2,    2.500,2, -999.000,9, -999.000,9,   -999.0,9,   -999.0,9,-999.0000,9,  -999.00, -999.000,9,  -999.00,9,  -999.00,9,   1.2552,2,  27.7679,2,   1.5550,2
49UP20220929_1,    P9,    71,  1,      5,     838,2,20221005,2114,2130, 25.4888, 137.0168, 4492,   4065.1,     4001,   1.5452,  34.6800,2,    154.4,2,  34.6793,2,   154.51,6,   142.32,6,    35.89,6,     0.00,6,    2.490,6, -999.000,9, -999.000,9,   -999.0,9,   -999.0,9,-999.0000,9,  -999.00, -999.000,9,  -999.00,9,  -999.00,9,   1.2179,2,  27.7734,2,   1.5452,2
49UP20220929_1,    P9,    71,  1,      4,     316,2,20221005,2114,2124, 25.4888, 137.0168, 4492,   4320.8,     4250,   1.5570,  34.6815,2,    155.8,2,  34.6816,2,   155.95,2,   141.88,2,    35.80,2,     0.00,2,    2.480,2, -999.000,9, -999.000,9,   -999.0,9,   -999.0,9,-999.0000,9,  -999.00, -999.000,9,  -999.00,9,  -999.00,9,   1.2008,2,  27.7758,2,   1.5569,2
49UP20220929_1,    P9,    71,  1,      3,     315,2,20221005,2114,2118, 25.4888, 137.0168, 4492,   4580.0,     4502,   1.5782,  34.6823,2,    156.7,2,  34.6823,6,   156.76,2,   141.72,2,    35.77,2,     0.00,2,    2.480,2, -999.000,9, -999.000,9,   -999.0,9,   -999.0,9,-999.0000,9,  -999.00, -999.000,9,  -999.00,9,  -999.00,9,   1.1915,2,  27.7771,2,   1.5783,2
49UP20220929_1,    P9,    71,  1,      1,     308,2,20221005,2114,2115, 25.4888, 137.0168, 4492,   4692.6,     4612,   1.5909,  34.6822,2,    156.9,2,  34.6824,2,   156.99,2,   141.70,2,    35.79,2,     0.00,2,    2.480,2, -999.000,9, -999.000,9,   -999.0,9,   -999.0,9,-999.0000,9,  -999.00, -999.000,9,  -999.00,9,  -999.00,9,   1.1906,2,  27.7771,2,   1.5908,2
49UP20220929_1,    P9,    71,  1,      2,     314,2,20221005,2114,2115, 25.4888, 137.0168, 4492,   4693.2,     4612,   1.5910,  34.6823,2,    156.9,2,  34.6824,2,   156.70,2,   141.77,2,    35.75,2,     0.00,2,    2.470,2, -999.000,9, -999.000,9,   -999.0,9,   -999.0,9,-999.0000,9,  -999.00, -999.000,9,  -999.00,9,  -999.00,9,   1.1906,2,  27.7772,2,   1.5911,2