BOTTLE,20230330JMAAMD
EXPOCODE,SECT_ID,STNNBR,CASTNO,SAMPNO,BTLNBR,BTLNBR_FLAG_U,DATE,TIME,BTL_TIME,LATITUDE,LONGITUDE,DEPTH,CTDPRS,CTDDEP,CTDTMP,CTDSAL,CTDSAL_FLAG_W,CTDOXY,CTDOXY_FLAG_W,SALNTY,SALNTY_FLAG_W,OXYGEN,OXYGEN_FLAG_W,SILCAT,SILCAT_FLAG_W,NO2+NO3,NO2+NO3_FLAG_W,NITRIT,NITRIT_FLAG_W,PHSPHT,PHSPHT_FLAG_W,CFC-11,CFC-11_FLAG_W,CFC-12,CFC-12_FLAG_W,TCARBN,TCARBN_FLAG_W,ALKALI,ALKALI_FLAG_W,PH_TS,PH_TS_FLAG_W,PH_TS_TMP,CFC113,CFC113_FLAG_W,CHLORA,CHLORA_FLAG_W,PPHYTN,PPHYTN_FLAG_W,THETA,THETA_FLAG_W,SIGTHT,SIGTHT_FLAG_W,SBE35,SBE35_FLAG_W
,,,,,,,,UTC,,,,METER,DBAR,METERS,ITS-90,PSS-78,,UMOL/KG,,PSS78,,UMOL/KG,,UMOL/KG,,UMOL/KG,,UMOL/KG,,UMOL/KG,,PMOL/KG,,PMOL/KG,,UMOL/KG,,UMOL/KG,,,,ITS-90,PMOL/KG,,UG/KG,,UG/KG,,ITS-90,,KG/M3,,ITS-90,
49UP20220727_1,    P9,     2,  1,      0,      -9,0,20220805,0946,1115, -2.1690, 141.4847, 4151,      0.0,        0,  29.5384,  34.8319,2,    195.6,2,-999.0000,9,   195.25,2,     1.37,2,     0.09,2,     0.00,2,    0.230,2, -999.000,9, -999.000,9,   -999.0,9,   -999.0,9,-999.0000,9,  -999.00, -999.000,9,  -999.00,9,  -999.00,9,  29.5378,2,  21.7572,2,-999.0000,9
49UP20220727_1,    P9,     2,  1,     36,     757,2,20220805,0946,1149, -2.1690, 141.4847, 4151,     12.0,       12,  29.6597,  34.9042,2,    195.9,2,  34.9182,2,   195.34,2,     1.27,2,     0.05,2,     0.00,2,    0.140,2, -999.000,9, -999.000,9,   -999.0,9,   -999.0,9,-999.0000,9,  -999.00, -999.000,9,  -999.00,9,  -999.00,9,  29.6568,2,  21.7711,2,  29.6611,2
49UP20220727_1,    P9,     2,  1,     35,     756,2,20220805,0946,1147, -2.1690, 141.4847, 4151,     26.6,       26,  29.6766,  35.1255,2,    195.5,2,  35.1522,2,   195.01,2,     1.02,2,     0.07,2,     0.03,2,    0.170,2, -999.000,9, -999.000,9,   -999.0,9,   -999.0,9,-999.0000,9,  -999.00, -999.000,9,  -999.00,9,  -999.00,9,  29.6701,2,  21.9326,2,  29.6739,2
49UP20220727_1,    P9,     2,  1,     34,     323,2,20220805,0946,1142, -2.1690, 141.4847, 4151,     51.7,       51,  29.7295,  35.2533,2,    193.7,2,  35.2522,2,   193.47,2,     1.02,2,     0.28,2,     0.16,2,    0.210,2, -999.000,9, -999.000,9,   -999.0,9,   -999.0,9,-999.0000,9,  -999.00, -999.000,9,  -999.00,9,  -999.00,9,  29.7167,2,  22.0126,2,  29.7294,2
49UP20220727_1,    P9,     2,  1,     33,     322,2,20220805,0946,1141, -2.1690, 141.4847, 4151,     77.1,       77,  29.6106,  35.3278,2,    187.8,2,  35.3196,2,   186.16,6,     1.19,6,     1.33,6,     0.40,6,    0.290,6, -999.000,9, -999.000,9,   -999.0,9,   -999.0,9,-999.0000,9,  -999.00, -999.000,9,  -999.00,9,  -999.00,9,  29.5916,2,  22.1110,2,  29.6108,2
49UP20220727_1,    P9,     2,  1,     32,     321,2,20220805,0946,1139, -2.1690, 141.4847, 4151,    102.5,      102,  29.1033,  35.2381,2,    164.5,2,  35.2369,6,   164.85,2,     1.91,2,     4.00,2,     0.09,2,    0.430,2, -999.000,9, -999.000,9,   -999.0,9,   -999.0,9,-999.0000,9,  -999.00, -999.000,9,  -999.00,9,  -999.00,9,  29.0784,2,  22.2167,2,  29.1013,2
49UP20220727_1,    P9,     2,  1,     31,     320,2,20220805,0946,1137, -2.1690, 141.4847, 4151,    127.7,      127,  28.0889,  35.4339,2,    150.5,2,  35.4441,2,   150.10,2,     2.26,2,     6.38,2,     0.04,2,    0.600,2, -999.000,9, -999.000,9,   -999.0,9,   -999.0,9,-999.0000,9,  -999.00, -999.000,9,  -999.00,9,  -999.00,9,  28.0587,2,  22.7018,2,  28.0805,2
49UP20220727_1,    P9,     2,  1,     30,     319,2,20220805,0946,1136, -2.1690, 141.4847, 4151,    152.0,      151,  27.0093,  35.5515,2,    143.6,2,  35.5596,2,   144.33,2,     2.34,2,     7.30,2,     0.03,2,    0.660,2, -999.000,9, -999.000,9,   -999.0,9,   -999.0,9,-999.0000,9,  -999.00, -999.000,9,  -999.00,9,  -999.00,9,  26.9743,2,  23.1415,2,  27.0111,2
49UP20220727_1,    P9,     2,  1,     29,     318,2,20220805,0946,1134, -2.1690, 141.4847, 4151,    202.8,      202,  19.8009,  35.5623,2,    136.0,2,  35.5613,2,   136.41,2,     4.09,2,    11.07,2,     0.02,2,    0.900,2, -999.000,9, -999.000,9,   -999.0,9,   -999.0,9,-999.0000,9,  -999.00, -999.000,9,  -999.00,9,  -999.00,9,  19.7635,2,  25.2530,2,  19.8005,2
49UP20220727_1,    P9,     2,  1,     28,     755,2,20220805,0946,1132, -2.1690, 141.4847, 4151,    253.3,      252,  15.9221,  35.2650,2,    149.7,2,  35.2673,2,   149.90,2,     6.38,2,    13.72,2,     0.01,2,    1.060,2, -999.000,9, -999.000,9,   -999.0,9,   -999.0,9,-999.0000,9,  -999.00, -999.000,9,  -999.00,9,  -999.00,9,  15.8820,2,  25.9785,2,  15.9123,2
49UP20220727_1,    P9,     2,  1,     27,     317,2,20220805,0946,1129, -2.1690, 141.4847, 4151,    333.7,      332,  12.0237,  34.9104,2,    161.0,2,  34.9079,2,   161.41,6,    11.20,6,    18.80,6,     0.01,6,    1.360,6, -999.000,9, -999.000,9,   -999.0,9,   -999.0,9,-999.0000,9,  -999.00, -999.000,9,  -999.00,9,  -999.00,9,  11.9799,2,  26.5234,2,  12.0206,2
49UP20220727_1,    P9,     2,  1,     26,     316,2,20220805,0946,1127, -2.1690, 141.4847, 4151,    382.7,      380,  11.0171,  34.8157,2,    154.5,2,  34.8155,2,   154.59,2,    14.24,2,    21.24,2,     0.00,2,    1.530,2, -999.000,9, -999.000,9,   -999.0,9,   -999.0,9,-999.0000,9,  -999.00, -999.000,9,  -999.00,9,  -999.00,9,  10.9696,2,  26.6375,2,  11.0164,2
49UP20220727_1,    P9,     2,  1,     25,     315,2,20220805,0946,1125, -2.1690, 141.4847, 4151,    433.8,      431,  10.0121,  34.7287,2,    157.9,2,  34.7290,2,   158.31,2,    16.42,2,    22.82,2,     0.00,2,    1.620,2, -999.000,9, -999.000,9,   -999.0,9,   -999.0,9,-999.0000,9,  -999.00, -999.000,9,  -999.00,9,  -999.00,9,   9.9613,2,  26.7467,2,  10.0147,2
49UP20220727_1,    P9,     2,  1,     24,     753,2,20220805,0946,1122, -2.1690, 141.4847, 4151,    485.1,      482,   8.5859,  34.6147,2,    158.4,2,  34.6147,2,   158.57,2,    21.44,2,    25.59,2,     0.00,2,    1.790,2, -999.000,9, -999.000,9,   -999.0,9,   -999.0,9,-999.0000,9,  -999.00, -999.000,9,  -999.00,9,  -999.00,9,   8.5341,2,  26.8899,2,   8.5862,2
49UP20220727_1,    P9,     2,  1,     23,     314,2,20220805,0946,1120, -2.1690, 141.4847, 4151,    535.1,      531,   7.4935,  34.5463,2,    169.9,2,  34.5464,2,   170.37,2,    25.42,2,    26.72,2,     0.00,2,    1.870,2, -999.000,9, -999.000,9,   -999.0,9,   -999.0,9,-999.0000,9,  -999.00, -999.000,9,  -999.00,9,  -999.00,9,   7.4406,2,  26.9993,2,   7.4937,2
49UP20220727_1,    P9,     2,  1,     22,     313,2,20220805,0946,1117, -2.1690, 141.4847, 4151,    635.8,      631,   6.6647,  34.4988,2,    170.9,2,  34.4992,2,   171.75,2,    30.50,2,    28.35,2,     0.00,2,    1.970,2, -999.000,9, -999.000,9,   -999.0,9,   -999.0,9,-999.0000,9,  -999.00, -999.000,9,  -999.00,9,  -999.00,9,   6.6054,2,  27.0777,2,   6.6715,2
49UP20220727_1,    P9,     2,  1,     21,     312,2,20220805,0946,1114, -2.1690, 141.4847, 4151,    737.1,      732,   5.9067,  34.5010,2,    141.8,2,  34.5019,2,   141.25,2,    45.74,2,    32.45,2,     0.00,2,    2.280,2, -999.000,9, -999.000,9,   -999.0,9,   -999.0,9,-999.0000,9,  -999.00, -999.000,9,  -999.00,9,  -999.00,9,   5.8416,2,  27.1784,2,   5.9051,2
49UP20220727_1,    P9,     2,  1,     19,     310,2,20220805,0946,1110, -2.1690, 141.4847, 4151,    838.4,      832,   5.1721,  34.4948,2,    147.0,2,  34.4937,2,   148.48,2,    54.14,2,    32.94,2,     0.00,2,    2.310,2, -999.000,9, -999.000,9,   -999.0,9,   -999.0,9,-999.0000,9,  -999.00, -999.000,9,  -999.00,9,  -999.00,9,   5.1022,2,  27.2629,2,   5.1720,2
49UP20220727_1,    P9,     2,  1,     20,     311,2,20220805,0946,1111, -2.1690, 141.4847, 4151,    838.5,      832,   5.1737,  34.4949,2,    147.0,2,  34.4944,2,   147.53,2,    54.21,2,    32.98,2,     0.00,2,    2.310,2, -999.000,9, -999.000,9,   -999.0,9,   -999.0,9,-999.0000,9,  -999.00, -999.000,9,  -999.00,9,  -999.00,9,   5.1037,2,  27.2628,2,   5.1734,2
49UP20220727_1,    P9,     2,  1,     18,     752,2,20220805,0946,1107, -2.1690, 141.4847, 4151,    939.1,      932,   4.8644,  34.5250,2,    120.9,2,  34.5247,2,   120.87,2,    68.86,2,    35.65,2,     0.00,2,    2.530,2, -999.000,9, -999.000,9,   -999.0,9,   -999.0,9,-999.0000,9,  -999.00, -999.000,9,  -999.00,9,  -999.00,9,   4.7875,2,  27.3230,2,   4.8632,2
49UP20220727_1,    P9,     2,  1,     17,     751,2,20220805,0946,1103, -2.1690, 141.4847, 4151,   1081.5,     1073,   4.2583,  34.5526,2,    104.8,2,  34.5515,2,   105.16,2,    87.06,2,    37.60,2,     0.00,2,    2.680,2, -999.000,9, -999.000,9,   -999.0,9,   -999.0,9,-999.0000,9,  -999.00, -999.000,9,  -999.00,9,  -999.00,9,   4.1736,2,  27.4120,2,   4.2583,2
49UP20220727_1,    P9,     2,  1,     16,     328,2,20220805,0946,1058, -2.1690, 141.4847, 4151,   1284.8,     1274,   3.6131,  34.5748,2,    108.1,2,  34.5738,6,   108.42,2,   101.66,2,    37.72,2,     0.00,2,    2.690,2, -999.000,9, -999.000,9,   -999.0,9,   -999.0,9,-999.0000,9,  -999.00, -999.000,9,  -999.00,9,  -999.00,9,   3.5168,2,  27.4966,2,   3.6130,2
49UP20220727_1,    P9,     2,  1,     15,     309,2,20220805,0946,1052, -2.1690, 141.4847, 4151,   1487.8,     1474,   3.0811,  34.5970,2,    107.3,2,  34.5965,2,   106.85,2,   115.03,2,    38.35,2,     0.00,2,    2.730,2, -999.000,9, -999.000,9,   -999.0,9,   -999.0,9,-999.0000,9,  -999.00, -999.000,9,  -999.00,9,  -999.00,9,   2.9733,2,  27.5658,2,   3.0809,2
49UP20220727_1,    P9,     2,  1,     14,     326,2,20220805,0946,1047, -2.1690, 141.4847, 4151,   1688.2,     1672,   2.7400,  34.6118,2,    111.2,2,  34.6112,2,   111.50,2,   123.18,2,    38.27,2,     0.00,2,    2.710,2, -999.000,9, -999.000,9,   -999.0,9,   -999.0,9,-999.0000,9,  -999.00, -999.000,9,  -999.00,9,  -999.00,9,   2.6194,2,  27.6092,2,   2.7397,2
49UP20220727_1,    P9,     2,  1,     13,     325,2,20220805,0946,1042, -2.1690, 141.4847, 4151,   1890.0,     1871,   2.4344,  34.6260,2,    115.5,2,  34.6264,2,   115.72,2,   130.37,2,    38.12,2,     0.00,2,    2.700,2, -999.000,9, -999.000,9,   -999.0,9,   -999.0,9,-999.0000,9,  -999.00, -999.000,9,  -999.00,9,  -999.00,9,   2.3008,2,  27.6477,2,   2.4339,2
49UP20220727_1,    P9,     2,  1,     12,     324,2,20220805,0946,1038, -2.1690, 141.4847, 4151,   2094.1,     2072,   2.1814,  34.6380,2,    119.8,2,  34.6375,2,   119.88,6,   136.27,6,    37.97,6,     0.00,6,    2.680,6, -999.000,9, -999.000,9,   -999.0,9,   -999.0,9,-999.0000,9,  -999.00, -999.000,9,  -999.00,9,  -999.00,9,   2.0342,2,  27.6789,2,   2.1813,2
49UP20220727_1,    P9,     2,  1,     11,     323,2,20220805,0946,1033, -2.1690, 141.4847, 4151,   2299.5,     2274,   1.9733,  34.6490,2,    126.2,2,  34.6484,6,   126.49,2,   139.65,2,    37.57,2,     0.00,2,    2.640,2, -999.000,9, -999.000,9,   -999.0,9,   -999.0,9,-999.0000,9,  -999.00, -999.000,9,  -999.00,9,  -999.00,9,   1.8115,2,  27.7052,2,   1.9730,2
49UP20220727_1,    P9,     2,  1,     10,     322,2,20220805,0946,1026, -2.1690, 141.4847, 4151,   2500.4,     2472,   1.8178,  34.6575,2,    131.8,2,  34.6568,2,   132.08,2,   142.09,2,    37.23,2,     0.00,2,    2.610,2, -999.000,9, -999.000,9,   -999.0,9,   -999.0,9,-999.0000,9,  -999.00, -999.000,9,  -999.00,9,  -999.00,9,   1.6408,2,  27.7249,2,   1.8175,2
49UP20220727_1,    P9,     2,  1,      9,     750,2,20220805,0946,1021, -2.1690, 141.4847, 4151,   2705.8,     2674,   1.7263,  34.6630,2,    135.9,2,  34.6626,2,   135.98,2,   143.27,2,    36.96,2,     0.00,2,    2.590,2, -999.000,9, -999.000,9,   -999.0,9,   -999.0,9,-999.0000,9,  -999.00, -999.000,9,  -999.00,9,  -999.00,9,   1.5324,2,  27.7373,2,   1.7263,2
49UP20220727_1,    P9,     2,  1,      8,     320,2,20220805,0946,1016, -2.1690, 141.4847, 4151,   2907.1,     2871,   1.6348,  34.6693,2,    140.4,2,  34.6687,2,   140.85,2,   143.79,2,    36.66,2,     0.00,2,    2.580,2, -999.000,9, -999.000,9,   -999.0,9,   -999.0,9,-999.0000,9,  -999.00, -999.000,9,  -999.00,9,  -999.00,9,   1.4239,2,  27.7503,2,   1.6345,2
49UP20220727_1,    P9,     2,  1,      7,     319,2,20220805,0946,1011, -2.1690, 141.4847, 4151,   3122.0,     3082,   1.6082,  34.6721,2,    142.4,2,  34.6713,2,   142.61,2,   144.44,2,    36.54,2,     0.00,2,    2.580,2, -999.000,9, -999.000,9,   -999.0,9,   -999.0,9,-999.0000,9,  -999.00, -999.000,9,  -999.00,9,  -999.00,9,   1.3772,2,  27.7559,2,   1.6080,2
49UP20220727_1,    P9,     2,  1,      6,     318,2,20220805,0946,1005, -2.1690, 141.4847, 4151,   3375.3,     3330,   1.5871,  34.6748,2,    144.6,2,  34.6744,2,   144.81,2,   144.28,2,    36.39,2,     0.00,2,    2.540,2, -999.000,9, -999.000,9,   -999.0,9,   -999.0,9,-999.0000,9,  -999.00, -999.000,9,  -999.00,9,  -999.00,9,   1.3315,2,  27.7613,2,   1.5870,2
49UP20220727_1,    P9,     2,  1,      5,     838,2,20220805,0946,1000, -2.1690, 141.4847, 4151,   3628.2,     3578,   1.5898,  34.6760,2,    146.1,2,  34.6761,2,   146.17,2,   144.12,2,    36.28,2,     0.00,2,    2.530,2, -999.000,9, -999.000,9,   -999.0,9,   -999.0,9,-999.0000,9,  -999.00, -999.000,9,  -999.00,9,  -999.00,9,   1.3082,2,  27.7639,2,   1.5896,2
49UP20220727_1,    P9,     2,  1,      4,     316,2,20220805,0946,0955, -2.1690, 141.4847, 4151,   3888.3,     3832,   1.6137,  34.6767,2,    146.3,2,  34.6761,6,   146.11,2,   144.35,2,    36.29,2,     0.00,2,    2.530,2, -999.000,9, -999.000,9,   -999.0,9,   -999.0,9,-999.0000,9,  -999.00, -999.000,9,  -999.00,9,  -999.00,9,   1.3038,2,  27.7647,2,   1.6137,2
49UP20220727_1,    P9,     2,  1,      3,     315,2,20220805,0946,0949, -2.1690, 141.4847, 4151,   4139.1,     4077,   1.6376,  34.6771,2,    146.5,2,  34.6766,2,   146.64,2,   144.41,2,    36.29,2,     0.00,2,    2.530,2, -999.000,9, -999.000,9,   -999.0,9,   -999.0,9,-999.0000,9,  -999.00, -999.000,9,  -999.00,9,  -999.00,9,   1.2995,2,  27.7654,2,   1.6375,2
49UP20220727_1,    P9,     2,  1,      2,     314,2,20220805,0946,0949, -2.1690, 141.4847, 4151,   4140.0,     4077,   1.6379,  34.6771,2,    146.5,2,  34.6767,2,   146.56,2,   144.49,2,    36.27,2,     0.00,2,    2.530,2, -999.000,9, -999.000,9,   -999.0,9,   -999.0,9,-999.0000,9,  -999.00, -999.000,9,  -999.00,9,  -999.00,9,   1.2997,2,  27.7654,2,   1.6377,2
49UP20220727_1,    P9,     2,  1,      1,     308,2,20220805,0946,0947, -2.1690, 141.4847, 4151,   4205.4,     4141,   1.6449,  34.6773,2,    146.5,2,  34.6761,4,   146.52,6,   144.45,6,    36.29,6,     0.00,6,    2.540,6, -999.000,9, -999.000,9,   -999.0,9,   -999.0,9,-999.0000,9,  -999.00, -999.000,9,  -999.00,9,  -999.00,9,   1.2991,2,  27.7656,2,   1.6449,2