BOTTLE,20230330JMAAMD
EXPOCODE,SECT_ID,STNNBR,CASTNO,SAMPNO,BTLNBR,BTLNBR_FLAG_U,DATE,TIME,BTL_TIME,LATITUDE,LONGITUDE,DEPTH,CTDPRS,CTDDEP,CTDTMP,CTDSAL,CTDSAL_FLAG_W,CTDOXY,CTDOXY_FLAG_W,SALNTY,SALNTY_FLAG_W,OXYGEN,OXYGEN_FLAG_W,SILCAT,SILCAT_FLAG_W,NO2+NO3,NO2+NO3_FLAG_W,NITRIT,NITRIT_FLAG_W,PHSPHT,PHSPHT_FLAG_W,CFC-11,CFC-11_FLAG_W,CFC-12,CFC-12_FLAG_W,TCARBN,TCARBN_FLAG_W,ALKALI,ALKALI_FLAG_W,PH_TS,PH_TS_FLAG_W,PH_TS_TMP,CFC113,CFC113_FLAG_W,CHLORA,CHLORA_FLAG_W,PPHYTN,PPHYTN_FLAG_W,THETA,THETA_FLAG_W,SIGTHT,SIGTHT_FLAG_W,SBE35,SBE35_FLAG_W
,,,,,,,,UTC,,,,METER,DBAR,METERS,ITS-90,PSS-78,,UMOL/KG,,PSS78,,UMOL/KG,,UMOL/KG,,UMOL/KG,,UMOL/KG,,UMOL/KG,,PMOL/KG,,PMOL/KG,,UMOL/KG,,UMOL/KG,,,,ITS-90,PMOL/KG,,UG/KG,,UG/KG,,ITS-90,,KG/M3,,ITS-90,
49UP20220929_1,    P9,    65,  1,      0,      -9,0,20221003,2349,0130, 22.4965, 137.3187, 4338,      0.0,        0,  29.5211,  34.1692,2,    195.1,2,-999.0000,9,   195.86,2,     1.16,2,     0.01,2,     0.00,2,    0.020,2, -999.000,9, -999.000,9,   -999.0,9,   -999.0,9,-999.0000,9,  -999.00, -999.000,9,  -999.00,9,  -999.00,9,  29.5205,2,  21.2659,2,-999.0000,9
49UP20220929_1,    P9,    65,  1,     36,     757,2,20221003,2349,0148, 22.4965, 137.3187, 4338,     10.3,       10,  29.4993,  34.1701,2,    195.2,2,  34.1708,2,   195.75,2,     1.18,2,     0.01,2,     0.00,2,    0.010,2, -999.000,9, -999.000,9,   -999.0,9,   -999.0,9,-999.0000,9,  -999.00, -999.000,9,  -999.00,9,  -999.00,9,  29.4968,2,  21.2746,2,  29.5025,2
49UP20220929_1,    P9,    65,  1,     35,     756,2,20221003,2349,0146, 22.4965, 137.3187, 4338,     25.6,       25,  29.4084,  34.1698,2,    195.3,2,  34.1728,2,   195.96,2,     1.26,2,     0.01,2,     0.00,2,    0.010,2, -999.000,9, -999.000,9,   -999.0,9,   -999.0,9,-999.0000,9,  -999.00, -999.000,9,  -999.00,9,  -999.00,9,  29.4022,2,  21.3062,2,  29.4082,2
49UP20220929_1,    P9,    65,  1,     34,     323,2,20221003,2349,0143, 22.4965, 137.3187, 4338,     49.9,       50,  26.8171,  34.7266,2,    221.2,2,  34.7330,2,   220.56,6,     1.31,6,     0.01,6,     0.00,6,    0.010,6, -999.000,9, -999.000,9,   -999.0,9,   -999.0,9,-999.0000,9,  -999.00, -999.000,9,  -999.00,9,  -999.00,9,  26.8058,2,  22.5737,2,  26.8173,2
49UP20220929_1,    P9,    65,  1,     33,     322,2,20221003,2349,0141, 22.4965, 137.3187, 4338,     74.7,       74,  24.8627,  34.7768,2,    217.7,2,  34.7778,2,   217.42,2,     1.43,2,     0.00,2,     0.00,2,    0.010,2, -999.000,9, -999.000,9,   -999.0,9,   -999.0,9,-999.0000,9,  -999.00, -999.000,9,  -999.00,9,  -999.00,9,  24.8466,2,  23.2190,2,  24.8590,2
49UP20220929_1,    P9,    65,  1,     32,     321,2,20221003,2349,0140, 22.4965, 137.3187, 4338,    100.1,       99,  22.9197,  34.8166,2,    207.1,2,  34.8175,2,   207.15,2,     1.66,2,     0.00,2,     0.00,2,    0.020,2, -999.000,9, -999.000,9,   -999.0,9,   -999.0,9,-999.0000,9,  -999.00, -999.000,9,  -999.00,9,  -999.00,9,  22.8994,2,  23.8234,2,  22.9120,2
49UP20220929_1,    P9,    65,  1,     31,     320,2,20221003,2349,0138, 22.4965, 137.3187, 4338,    125.4,      125,  21.3664,  34.8004,2,    203.2,2,  34.8018,2,   203.84,2,     1.97,2,     0.22,2,     0.10,2,    0.050,2, -999.000,9, -999.000,9,   -999.0,9,   -999.0,9,-999.0000,9,  -999.00, -999.000,9,  -999.00,9,  -999.00,9,  21.3422,2,  24.2485,2,  21.3611,2
49UP20220929_1,    P9,    65,  1,     30,     319,2,20221003,2349,0137, 22.4965, 137.3187, 4338,    153.1,      152,  20.2018,  34.8112,2,    193.6,2,  34.8113,2,   193.71,2,     2.46,2,     2.29,2,     0.03,2,    0.160,2, -999.000,9, -999.000,9,   -999.0,9,   -999.0,9,-999.0000,9,  -999.00, -999.000,9,  -999.00,9,  -999.00,9,  20.1733,2,  24.5720,2,  20.1984,2
49UP20220929_1,    P9,    65,  1,     29,     318,2,20221003,2349,0135, 22.4965, 137.3187, 4338,    202.2,      201,  18.8263,  34.8016,2,    191.8,2,  34.8007,2,   191.96,2,     3.43,2,     3.82,2,     0.01,2,    0.260,2, -999.000,9, -999.000,9,   -999.0,9,   -999.0,9,-999.0000,9,  -999.00, -999.000,9,  -999.00,9,  -999.00,9,  18.7905,2,  24.9227,2,  18.8199,2
49UP20220929_1,    P9,    65,  1,     28,     755,2,20221003,2349,0133, 22.4965, 137.3187, 4338,    252.0,      250,  17.3319,  34.7417,2,    198.9,2,  34.7420,2,   198.96,2,     4.56,2,     5.11,2,     0.01,2,    0.340,2, -999.000,9, -999.000,9,   -999.0,9,   -999.0,9,-999.0000,9,  -999.00, -999.000,9,  -999.00,9,  -999.00,9,  17.2897,2,  25.2469,2,  17.3308,2
49UP20220929_1,    P9,    65,  1,     26,     316,2,20221003,2349,0130, 22.4965, 137.3187, 4338,    304.3,      302,  16.0395,  34.6422,2,    190.4,2,  34.6449,2,   190.80,2,     7.29,2,     7.71,2,     0.00,2,    0.530,2, -999.000,9, -999.000,9,   -999.0,9,   -999.0,9,-999.0000,9,  -999.00, -999.000,9,  -999.00,9,  -999.00,9,  15.9913,2,  25.4744,2,  16.0349,2
49UP20220929_1,    P9,    65,  1,     27,     317,2,20221003,2349,0131, 22.4965, 137.3187, 4338,    305.1,      303,  16.0226,  34.6406,2,    190.4,2,  34.6445,2,   190.31,2,     7.27,2,     7.71,2,     0.00,2,    0.530,2, -999.000,9, -999.000,9,   -999.0,9,   -999.0,9,-999.0000,9,  -999.00, -999.000,9,  -999.00,9,  -999.00,9,  15.9742,2,  25.4770,2,  16.0248,2
49UP20220929_1,    P9,    65,  1,     25,     315,2,20221003,2349,0127, 22.4965, 137.3187, 4338,    403.6,      401,  12.4902,  34.3628,2,    173.6,2,  34.3621,6,   173.25,6,    17.14,6,    14.81,6,     0.00,6,    1.060,6, -999.000,9, -999.000,9,   -999.0,9,   -999.0,9,-999.0000,9,  -999.00, -999.000,9,  -999.00,9,  -999.00,9,  12.4361,2,  26.0103,2,  12.4892,2
49UP20220929_1,    P9,    65,  1,     24,     753,2,20221003,2349,0125, 22.4965, 137.3187, 4338,    505.5,      502,   9.7871,  34.2064,2,    153.2,2,  34.2065,2,   153.38,2,    31.34,2,    21.56,2,     0.00,2,    1.540,2, -999.000,9, -999.000,9,   -999.0,9,   -999.0,9,-999.0000,9,  -999.00, -999.000,9,  -999.00,9,  -999.00,9,   9.7289,2,  26.3779,2,   9.7868,2
49UP20220929_1,    P9,    65,  1,     23,     314,2,20221003,2349,0122, 22.4965, 137.3187, 4338,    605.7,      601,   7.1148,  34.1247,2,    117.1,2,  34.1242,2,   116.73,2,    56.93,2,    29.81,2,     0.00,2,    2.140,2, -999.000,9, -999.000,9,   -999.0,9,   -999.0,9,-999.0000,9,  -999.00, -999.000,9,  -999.00,9,  -999.00,9,   7.0567,2,  26.7214,2,   7.1148,2
49UP20220929_1,    P9,    65,  1,     22,     313,2,20221003,2349,0119, 22.4965, 137.3187, 4338,    707.6,      702,   5.7865,  34.1859,2,     80.1,2,  34.1849,2,    80.26,2,    77.12,2,    35.48,2,     0.00,2,    2.550,2, -999.000,9, -999.000,9,   -999.0,9,   -999.0,9,-999.0000,9,  -999.00, -999.000,9,  -999.00,9,  -999.00,9,   5.7251,2,  26.9436,2,   5.7853,2
49UP20220929_1,    P9,    65,  1,     21,     312,2,20221003,2349,0116, 22.4965, 137.3187, 4338,    808.4,      802,   4.9309,  34.2561,2,     65.1,2,  34.2546,2,    65.35,2,    93.45,2,    38.18,2,     0.00,2,    2.750,2, -999.000,9, -999.000,9,   -999.0,9,   -999.0,9,-999.0000,9,  -999.00, -999.000,9,  -999.00,9,  -999.00,9,   4.8654,2,  27.1008,2,   4.9310,2
49UP20220929_1,    P9,    65,  1,     20,     311,2,20221003,2349,0113, 22.4965, 137.3187, 4338,    909.7,      902,   4.2497,  34.3353,2,     57.9,2,  34.3348,2,    57.71,2,   108.13,2,    39.83,2,     0.00,2,    2.860,2, -999.000,9, -999.000,9,   -999.0,9,   -999.0,9,-999.0000,9,  -999.00, -999.000,9,  -999.00,9,  -999.00,9,   4.1800,2,  27.2386,2,   4.2500,2
49UP20220929_1,    P9,    65,  1,     19,     310,2,20221003,2349,0110, 22.4965, 137.3187, 4338,   1011.3,     1003,   3.7750,  34.3899,2,     57.7,2,  34.3887,6,    57.39,2,   118.52,2,    40.49,2,     0.00,2,    2.900,2, -999.000,9, -999.000,9,   -999.0,9,   -999.0,9,-999.0000,9,  -999.00, -999.000,9,  -999.00,9,  -999.00,9,   3.7003,2,  27.3312,2,   3.7744,2
49UP20220929_1,    P9,    65,  1,     18,     752,2,20221003,2349,0105, 22.4965, 137.3187, 4338,   1213.2,     1202,   3.1027,  34.4698,2,     66.0,2,  34.4695,2,    65.84,6,   132.75,6,    40.63,6,     0.00,6,    2.890,6, -999.000,9, -999.000,9,   -999.0,9,   -999.0,9,-999.0000,9,  -999.00, -999.000,9,  -999.00,9,  -999.00,9,   3.0174,2,  27.4603,2,   3.1027,2
49UP20220929_1,    P9,    65,  1,     17,     751,2,20221003,2349,0101, 22.4965, 137.3187, 4338,   1415.2,     1402,   2.6751,  34.5366,2,     84.2,2,  34.5365,2,    84.19,2,   138.30,2,    39.63,2,     0.00,2,    2.810,2, -999.000,9, -999.000,9,   -999.0,9,   -999.0,9,-999.0000,9,  -999.00, -999.000,9,  -999.00,9,  -999.00,9,   2.5779,2,  27.5527,2,   2.6751,2
49UP20220929_1,    P9,    65,  1,     16,     328,2,20221003,2349,0056, 22.4965, 137.3187, 4338,   1617.0,     1601,   2.4138,  34.5759,2,     98.5,2,  34.5754,2,    98.66,2,   140.54,2,    38.84,2,     0.00,2,    2.750,2, -999.000,9, -999.000,9,   -999.0,9,   -999.0,9,-999.0000,9,  -999.00, -999.000,9,  -999.00,9,  -999.00,9,   2.3033,2,  27.6073,2,   2.4140,2
49UP20220929_1,    P9,    65,  1,     15,     309,2,20221003,2349,0051, 22.4965, 137.3187, 4338,   1819.3,     1800,   2.2001,  34.5966,2,    106.1,2,  34.5966,2,   106.04,2,   142.68,2,    38.55,2,     0.00,2,    2.720,2, -999.000,9, -999.000,9,   -999.0,9,   -999.0,9,-999.0000,9,  -999.00, -999.000,9,  -999.00,9,  -999.00,9,   2.0758,2,  27.6425,2,   2.2000,2
49UP20220929_1,    P9,    65,  1,     14,     326,2,20221003,2349,0046, 22.4965, 137.3187, 4338,   2024.5,     2002,   2.0182,  34.6165,2,    114.5,2,  34.6166,2,   114.57,2,   143.92,2,    38.09,2,     0.00,2,    2.690,2, -999.000,9, -999.000,9,   -999.0,9,   -999.0,9,-999.0000,9,  -999.00, -999.000,9,  -999.00,9,  -999.00,9,   1.8794,2,  27.6738,2,   2.0182,2
49UP20220929_1,    P9,    65,  1,     12,     324,2,20221003,2349,0041, 22.4965, 137.3187, 4338,   2226.7,     2201,   1.8676,  34.6331,2,    122.5,2,  34.6333,6,   122.30,2,   145.23,2,    37.65,2,     0.00,2,    2.650,2, -999.000,9, -999.000,9,   -999.0,9,   -999.0,9,-999.0000,9,  -999.00, -999.000,9,  -999.00,9,  -999.00,9,   1.7140,2,  27.6999,2,   1.8675,2
49UP20220929_1,    P9,    65,  1,     13,     325,2,20221003,2349,0041, 22.4965, 137.3187, 4338,   2227.0,     2201,   1.8674,  34.6332,2,    122.5,2,  34.6334,2,   122.67,2,   144.85,2,    37.64,2,     0.00,2,    2.650,2, -999.000,9, -999.000,9,   -999.0,9,   -999.0,9,-999.0000,9,  -999.00, -999.000,9,  -999.00,9,  -999.00,9,   1.7138,2,  27.7000,2,   1.8676,2
49UP20220929_1,    P9,    65,  1,     11,     323,2,20221003,2349,0037, 22.4965, 137.3187, 4338,   2430.1,     2401,   1.7959,  34.6424,2,    127.6,2,  34.6426,2,   127.34,2,   144.94,2,    37.36,2,     0.00,2,    2.620,2, -999.000,9, -999.000,9,   -999.0,9,   -999.0,9,-999.0000,9,  -999.00, -999.000,9,  -999.00,9,  -999.00,9,   1.6257,2,  27.7139,2,   1.7959,2
49UP20220929_1,    P9,    65,  1,     10,     322,2,20221003,2349,0032, 22.4965, 137.3187, 4338,   2633.2,     2600,   1.7250,  34.6509,2,    132.4,2,  34.6513,2,   132.63,2,   145.21,2,    37.10,2,     0.00,2,    2.600,2, -999.000,9, -999.000,9,   -999.0,9,   -999.0,9,-999.0000,9,  -999.00, -999.000,9,  -999.00,9,  -999.00,9,   1.5379,2,  27.7273,2,   1.7250,2
49UP20220929_1,    P9,    65,  1,      9,     750,2,20221003,2349,0027, 22.4965, 137.3187, 4338,   2837.3,     2801,   1.6761,  34.6573,2,    136.5,2,  34.6572,2,   136.26,6,   145.00,6,    36.86,6,     0.00,6,    2.580,6, -999.000,9, -999.000,9,   -999.0,9,   -999.0,9,-999.0000,9,  -999.00, -999.000,9,  -999.00,9,  -999.00,9,   1.4710,2,  27.7372,2,   1.6759,2
49UP20220929_1,    P9,    65,  1,      8,     320,2,20221003,2349,0022, 22.4965, 137.3187, 4338,   3042.6,     3002,   1.6323,  34.6632,2,    140.4,2,  34.6629,2,   140.23,2,   144.73,2,    36.63,2,     0.00,2,    2.560,2, -999.000,9, -999.000,9,   -999.0,9,   -999.0,9,-999.0000,9,  -999.00, -999.000,9,  -999.00,9,  -999.00,9,   1.4086,2,  27.7465,2,   1.6324,2
49UP20220929_1,    P9,    65,  1,      7,     319,2,20221003,2349,0016, 22.4965, 137.3187, 4338,   3297.5,     3251,   1.5877,  34.6691,2,    145.3,2,  34.6687,2,   145.27,2,   144.30,2,    36.34,2,     0.00,2,    2.540,2, -999.000,9, -999.000,9,   -999.0,9,   -999.0,9,-999.0000,9,  -999.00, -999.000,9,  -999.00,9,  -999.00,9,   1.3400,2,  27.7561,2,   1.5873,2
49UP20220929_1,    P9,    65,  1,      6,     318,2,20221003,2349,0011, 22.4965, 137.3187, 4338,   3553.0,     3501,   1.5544,  34.6741,2,    149.5,2,  34.6734,2,   149.42,2,   143.17,2,    36.03,2,     0.00,2,    2.510,2, -999.000,9, -999.000,9,   -999.0,9,   -999.0,9,-999.0000,9,  -999.00, -999.000,9,  -999.00,9,  -999.00,9,   1.2815,2,  27.7643,2,   1.5544,2
49UP20220929_1,    P9,    65,  1,      5,     838,2,20221003,2349,0005, 22.4965, 137.3187, 4338,   3809.0,     3751,   1.5272,  34.6791,2,    153.6,2,  34.6790,6,   153.73,2,   142.53,2,    35.77,2,     0.00,2,    2.490,2, -999.000,9, -999.000,9,   -999.0,9,   -999.0,9,-999.0000,9,  -999.00, -999.000,9,  -999.00,9,  -999.00,9,   1.2282,2,  27.7720,2,   1.5272,2
49UP20220929_1,    P9,    65,  1,      4,     316,2,20221003,2349,2359, 22.4965, 137.3187, 4338,   4063.7,     4000,   1.5310,  34.6812,2,    155.5,2,  34.6809,2,   155.58,2,   142.17,2,    35.65,2,     0.00,2,    2.480,2, -999.000,9, -999.000,9,   -999.0,9,   -999.0,9,-999.0000,9,  -999.00, -999.000,9,  -999.00,9,  -999.00,9,   1.2043,2,  27.7753,2,   1.5311,2
49UP20220929_1,    P9,    65,  1,      3,     315,2,20221003,2349,2354, 22.4965, 137.3187, 4338,   4319.7,     4249,   1.5497,  34.6822,2,    156.5,2,  34.6817,2,   156.37,2,   142.09,2,    35.62,2,     0.00,2,    2.480,2, -999.000,9, -999.000,9,   -999.0,9,   -999.0,9,-999.0000,9,  -999.00, -999.000,9,  -999.00,9,  -999.00,9,   1.1939,2,  27.7768,2,   1.5499,2
49UP20220929_1,    P9,    65,  1,      2,     314,2,20221003,2349,2349, 22.4965, 137.3187, 4338,   4503.7,     4429,   1.5687,  34.6823,2,    156.8,2,  34.6823,2,   156.71,2,   141.97,2,    35.61,2,     0.00,2,    2.480,2, -999.000,9, -999.000,9,   -999.0,9,   -999.0,9,-999.0000,9,  -999.00, -999.000,9,  -999.00,9,  -999.00,9,   1.1912,2,  27.7771,2,   1.5685,2
49UP20220929_1,    P9,    65,  1,      1,     308,2,20221003,2349,2349, 22.4965, 137.3187, 4338,   4503.7,     4429,   1.5687,  34.6823,2,    156.9,2,  34.6822,2,   156.78,2,   142.22,2,    35.61,2,     0.00,2,    2.480,2, -999.000,9, -999.000,9,   -999.0,9,   -999.0,9,-999.0000,9,  -999.00, -999.000,9,  -999.00,9,  -999.00,9,   1.1912,2,  27.7771,2,   1.5685,2