BOTTLE,20230330JMAAMD
EXPOCODE,SECT_ID,STNNBR,CASTNO,SAMPNO,BTLNBR,BTLNBR_FLAG_U,DATE,TIME,BTL_TIME,LATITUDE,LONGITUDE,DEPTH,CTDPRS,CTDDEP,CTDTMP,CTDSAL,CTDSAL_FLAG_W,CTDOXY,CTDOXY_FLAG_W,SALNTY,SALNTY_FLAG_W,OXYGEN,OXYGEN_FLAG_W,SILCAT,SILCAT_FLAG_W,NO2+NO3,NO2+NO3_FLAG_W,NITRIT,NITRIT_FLAG_W,PHSPHT,PHSPHT_FLAG_W,CFC-11,CFC-11_FLAG_W,CFC-12,CFC-12_FLAG_W,TCARBN,TCARBN_FLAG_W,ALKALI,ALKALI_FLAG_W,PH_TS,PH_TS_FLAG_W,PH_TS_TMP,CFC113,CFC113_FLAG_W,CHLORA,CHLORA_FLAG_W,PPHYTN,PPHYTN_FLAG_W,THETA,THETA_FLAG_W,SIGTHT,SIGTHT_FLAG_W,SBE35,SBE35_FLAG_W
,,,,,,,,UTC,,,,METER,DBAR,METERS,ITS-90,PSS-78,,UMOL/KG,,PSS78,,UMOL/KG,,UMOL/KG,,UMOL/KG,,UMOL/KG,,UMOL/KG,,PMOL/KG,,PMOL/KG,,UMOL/KG,,UMOL/KG,,,,ITS-90,PMOL/KG,,UG/KG,,UG/KG,,ITS-90,,KG/M3,,ITS-90,
49UP20220824_1,    P9,    46,  1,      0,      -9,0,20220906,1104,1256, 13.4932, 136.9952, 5103,      0.0,        0,  30.6350,  34.2714,2,    192.9,2,-999.0000,9,   193.21,2,     1.08,2,     0.03,2,     0.00,2,    0.060,2, -999.000,9, -999.000,9,   -999.0,9,   -999.0,9,-999.0000,9,  -999.00, -999.000,9,  -999.00,9,  -999.00,9,  30.6344,2,  20.9625,2,-999.0000,9
49UP20220824_1,    P9,    46,  1,     36,     757,2,20220906,1104,1324, 13.4932, 136.9952, 5103,     10.2,       10,  30.4747,  34.2597,2,    193.7,2,  34.2567,2,   194.40,2,     1.08,2,     0.00,2,     0.00,2,    0.030,2, -999.000,9, -999.000,9,   -999.0,9,   -999.0,9,-999.0000,9,  -999.00, -999.000,9,  -999.00,9,  -999.00,9,  30.4721,2,  21.0096,2,  30.4844,2
49UP20220824_1,    P9,    46,  1,     35,     756,2,20220906,1104,1320, 13.4932, 136.9952, 5103,     50.4,       50,  29.7029,  34.3355,2,    199.7,2,  34.3354,2,   199.46,2,     1.10,2,     0.00,2,     0.00,2,    0.030,2, -999.000,9, -999.000,9,   -999.0,9,   -999.0,9,-999.0000,9,  -999.00, -999.000,9,  -999.00,9,  -999.00,9,  29.6905,2,  21.3332,2,  29.6996,2
49UP20220824_1,    P9,    46,  1,     34,     323,2,20220906,1104,1318, 13.4932, 136.9952, 5103,    100.3,      100,  27.7163,  34.7244,2,    199.7,2,  34.7230,2,   199.15,6,     1.09,6,     0.00,6,     0.00,6,    0.060,6, -999.000,9, -999.000,9,   -999.0,9,   -999.0,9,-999.0000,9,  -999.00, -999.000,9,  -999.00,9,  -999.00,9,  27.6929,2,  22.2873,2,  27.7159,2
49UP20220824_1,    P9,    46,  1,     33,     322,2,20220906,1104,1317, 13.4932, 136.9952, 5103,    125.4,      125,  26.8342,  34.8445,2,    193.7,2,  34.8489,2,   193.05,2,     1.17,2,     0.00,2,     0.01,2,    0.050,2, -999.000,9, -999.000,9,   -999.0,9,   -999.0,9,-999.0000,9,  -999.00, -999.000,9,  -999.00,9,  -999.00,9,  26.8056,2,  22.6625,2,  26.8332,2
49UP20220824_1,    P9,    46,  1,     32,     321,2,20220906,1104,1315, 13.4932, 136.9952, 5103,    151.1,      150,  25.8533,  34.8852,2,    187.5,2,  34.8847,2,   187.74,2,     1.25,2,     0.26,2,     0.11,2,    0.090,2, -999.000,9, -999.000,9,   -999.0,9,   -999.0,9,-999.0000,9,  -999.00, -999.000,9,  -999.00,9,  -999.00,9,  25.8197,2,  23.0027,2,  25.8375,2
49UP20220824_1,    P9,    46,  1,     31,     320,2,20220906,1104,1313, 13.4932, 136.9952, 5103,    201.3,      200,  21.4081,  34.9527,2,    177.1,2,  34.9531,2,   177.36,2,     2.51,2,     2.35,2,     0.01,2,    0.230,2, -999.000,9, -999.000,9,   -999.0,9,   -999.0,9,-999.0000,9,  -999.00, -999.000,9,  -999.00,9,  -999.00,9,  21.3690,2,  24.3570,2,  21.4143,2
49UP20220824_1,    P9,    46,  1,     30,     319,2,20220906,1104,1311, 13.4932, 136.9952, 5103,    251.3,      250,  16.3479,  34.5930,2,    156.8,2,  34.5931,2,   157.58,2,     9.55,2,    10.12,2,     0.01,2,    0.810,2, -999.000,9, -999.000,9,   -999.0,9,   -999.0,9,-999.0000,9,  -999.00, -999.000,9,  -999.00,9,  -999.00,9,  16.3075,2,  25.3639,2,  16.3309,2
49UP20220824_1,    P9,    46,  1,     29,     318,2,20220906,1104,1310, 13.4932, 136.9952, 5103,    282.2,      280,  13.6370,  34.4313,2,    147.4,2,  34.4321,2,   147.34,2,    15.36,2,    14.96,2,     0.00,2,    1.140,2, -999.000,9, -999.000,9,   -999.0,9,   -999.0,9,-999.0000,9,  -999.00, -999.000,9,  -999.00,9,  -999.00,9,  13.5970,2,  25.8312,2,  13.6405,2
49UP20220824_1,    P9,    46,  1,     28,     755,2,20220906,1104,1308, 13.4932, 136.9952, 5103,    323.2,      321,  11.5590,  34.3450,2,    125.4,2,  34.3455,2,   125.54,2,    23.30,2,    20.81,2,     0.00,2,    1.560,2, -999.000,9, -999.000,9,   -999.0,9,   -999.0,9,-999.0000,9,  -999.00, -999.000,9,  -999.00,9,  -999.00,9,  11.5179,2,  26.1708,2,  11.5584,2
49UP20220824_1,    P9,    46,  1,     27,     317,2,20220906,1104,1306, 13.4932, 136.9952, 5103,    372.1,      370,   9.7927,  34.2783,2,    117.0,2,  34.2779,2,   116.79,2,    33.45,2,    24.85,2,     0.00,2,    1.830,2, -999.000,9, -999.000,9,   -999.0,9,   -999.0,9,-999.0000,9,  -999.00, -999.000,9,  -999.00,9,  -999.00,9,   9.7501,2,  26.4305,2,   9.7907,2
49UP20220824_1,    P9,    46,  1,     26,     316,2,20220906,1104,1304, 13.4932, 136.9952, 5103,    425.8,      423,   8.3917,  34.3135,2,     89.5,2,  34.3133,2,    89.52,2,    45.23,2,    30.33,2,     0.00,2,    2.200,2, -999.000,9, -999.000,9,   -999.0,9,   -999.0,9,-999.0000,9,  -999.00, -999.000,9,  -999.00,9,  -999.00,9,   8.3471,2,  26.6823,2,   8.3933,2
49UP20220824_1,    P9,    46,  1,     25,     315,2,20220906,1104,1302, 13.4932, 136.9952, 5103,    473.3,      470,   7.8283,  34.3881,2,     77.6,2,  34.3878,2,    78.08,6,    50.68,6,    32.95,6,     0.00,6,    2.380,6, -999.000,9, -999.000,9,   -999.0,9,   -999.0,9,-999.0000,9,  -999.00, -999.000,9,  -999.00,9,  -999.00,9,   7.7806,2,  26.8256,2,   7.8276,2
49UP20220824_1,    P9,    46,  1,     24,     753,2,20220906,1104,1259, 13.4932, 136.9952, 5103,    574.1,      570,   6.6255,  34.4342,2,     81.7,2,  34.4342,2,    81.76,2,    62.70,2,    35.08,2,     0.00,2,    2.510,2, -999.000,9, -999.000,9,   -999.0,9,   -999.0,9,-999.0000,9,  -999.00, -999.000,9,  -999.00,9,  -999.00,9,   6.5724,2,  27.0311,2,   6.6253,2
49UP20220824_1,    P9,    46,  1,     23,     314,2,20220906,1104,1256, 13.4932, 136.9952, 5103,    675.9,      671,   5.8903,  34.4660,2,     86.1,2,  34.4652,2,    85.78,2,    71.13,2,    36.05,2,     0.00,2,    2.580,2, -999.000,9, -999.000,9,   -999.0,9,   -999.0,9,-999.0000,9,  -999.00, -999.000,9,  -999.00,9,  -999.00,9,   5.8311,2,  27.1519,2,   5.8950,2
49UP20220824_1,    P9,    46,  1,     22,     313,2,20220906,1104,1253, 13.4932, 136.9952, 5103,    775.8,      770,   5.2946,  34.4996,2,     87.8,2,  34.4996,2,    88.08,2,    79.52,2,    37.02,2,     0.00,2,    2.640,2, -999.000,9, -999.000,9,   -999.0,9,   -999.0,9,-999.0000,9,  -999.00, -999.000,9,  -999.00,9,  -999.00,9,   5.2295,2,  27.2517,2,   5.2941,2
49UP20220824_1,    P9,    46,  1,     21,     312,2,20220906,1104,1250, 13.4932, 136.9952, 5103,    876.9,      870,   4.7994,  34.5234,2,     89.1,2,  34.5234,6,    89.35,2,    88.16,2,    37.74,2,     0.00,2,    2.690,2, -999.000,9, -999.000,9,   -999.0,9,   -999.0,9,-999.0000,9,  -999.00, -999.000,9,  -999.00,9,  -999.00,9,   4.7285,2,  27.3283,2,   4.7992,2
49UP20220824_1,    P9,    46,  1,     20,     311,2,20220906,1104,1246, 13.4932, 136.9952, 5103,    977.7,      970,   4.4682,  34.5358,2,     89.8,2,  34.5355,2,    89.61,2,    94.64,2,    38.03,2,     0.00,2,    2.710,2, -999.000,9, -999.000,9,   -999.0,9,   -999.0,9,-999.0000,9,  -999.00, -999.000,9,  -999.00,9,  -999.00,9,   4.3908,2,  27.3755,2,   4.4683,2
49UP20220824_1,    P9,    46,  1,     19,     310,2,20220906,1104,1242, 13.4932, 136.9952, 5103,   1140.1,     1130,   3.7987,  34.5559,2,     91.4,2,  34.5561,2,    91.56,2,   109.03,2,    38.85,2,     0.00,2,    2.750,2, -999.000,9, -999.000,9,   -999.0,9,   -999.0,9,-999.0000,9,  -999.00, -999.000,9,  -999.00,9,  -999.00,9,   3.7129,2,  27.4622,2,   3.7986,2
49UP20220824_1,    P9,    46,  1,     18,     752,2,20220906,1104,1237, 13.4932, 136.9952, 5103,   1341.8,     1330,   3.2204,  34.5737,2,     95.5,2,  34.5736,6,    95.48,2,   121.48,2,    38.86,2,     0.00,2,    2.750,2, -999.000,9, -999.000,9,   -999.0,9,   -999.0,9,-999.0000,9,  -999.00, -999.000,9,  -999.00,9,  -999.00,9,   3.1233,2,  27.5334,2,   3.2205,2
49UP20220824_1,    P9,    46,  1,     17,     751,2,20220906,1104,1232, 13.4932, 136.9952, 5103,   1545.2,     1531,   2.8548,  34.5880,2,     99.8,2,  34.5881,2,    99.78,2,   128.73,2,    38.88,2,     0.00,2,    2.750,2, -999.000,9, -999.000,9,   -999.0,9,   -999.0,9,-999.0000,9,  -999.00, -999.000,9,  -999.00,9,  -999.00,9,   2.7449,2,  27.5792,2,   2.8547,2
49UP20220824_1,    P9,    46,  1,     16,     328,2,20220906,1104,1227, 13.4932, 136.9952, 5103,   1746.5,     1729,   2.5199,  34.6052,2,    105.2,2,  34.6048,2,   105.26,6,   134.89,6,    38.89,6,     0.00,6,    2.730,6, -999.000,9, -999.000,9,   -999.0,9,   -999.0,9,-999.0000,9,  -999.00, -999.000,9,  -999.00,9,  -999.00,9,   2.3973,2,  27.6230,2,   2.5199,2
49UP20220824_1,    P9,    46,  1,     15,     309,2,20220906,1104,1222, 13.4932, 136.9952, 5103,   1950.9,     1931,   2.2504,  34.6214,2,    111.2,2,  34.6216,2,   111.41,2,   139.31,2,    38.62,2,     0.00,2,    2.710,2, -999.000,9, -999.000,9,   -999.0,9,   -999.0,9,-999.0000,9,  -999.00, -999.000,9,  -999.00,9,  -999.00,9,   2.1144,2,  27.6592,2,   2.2504,2
49UP20220824_1,    P9,    46,  1,     14,     326,2,20220906,1104,1217, 13.4932, 136.9952, 5103,   2154.4,     2131,   2.0453,  34.6358,2,    117.3,2,  34.6353,2,   117.36,2,   142.83,2,    38.36,2,     0.00,2,    2.680,2, -999.000,9, -999.000,9,   -999.0,9,   -999.0,9,-999.0000,9,  -999.00, -999.000,9,  -999.00,9,  -999.00,9,   1.8950,2,  27.6881,2,   2.0453,2
49UP20220824_1,    P9,    46,  1,     13,     325,2,20220906,1104,1213, 13.4932, 136.9952, 5103,   2356.4,     2330,   1.9172,  34.6444,2,    121.9,2,  34.6444,2,   121.89,2,   144.84,2,    38.10,2,     0.00,2,    2.660,2, -999.000,9, -999.000,9,   -999.0,9,   -999.0,9,-999.0000,9,  -999.00, -999.000,9,  -999.00,9,  -999.00,9,   1.7513,2,  27.7061,2,   1.9171,2
49UP20220824_1,    P9,    46,  1,     12,     324,2,20220906,1104,1208, 13.4932, 136.9952, 5103,   2562.0,     2532,   1.8118,  34.6520,2,    126.8,2,  34.6524,2,   127.04,2,   146.06,2,    37.75,2,     0.00,2,    2.640,2, -999.000,9, -999.000,9,   -999.0,9,   -999.0,9,-999.0000,9,  -999.00, -999.000,9,  -999.00,9,  -999.00,9,   1.6294,2,  27.7214,2,   1.8117,2
49UP20220824_1,    P9,    46,  1,     11,     323,2,20220906,1104,1203, 13.4932, 136.9952, 5103,   2763.9,     2730,   1.7347,  34.6582,2,    131.1,2,  34.6581,2,   131.09,2,   146.68,2,    37.58,2,     0.00,2,    2.620,2, -999.000,9, -999.000,9,   -999.0,9,   -999.0,9,-999.0000,9,  -999.00, -999.000,9,  -999.00,9,  -999.00,9,   1.5353,2,  27.7333,2,   1.7347,2
49UP20220824_1,    P9,    46,  1,     10,     322,2,20220906,1104,1157, 13.4932, 136.9952, 5103,   2968.2,     2930,   1.6610,  34.6644,2,    136.4,2,  34.6641,2,   136.11,2,   146.74,2,    37.14,2,     0.00,2,    2.590,2, -999.000,9, -999.000,9,   -999.0,9,   -999.0,9,-999.0000,9,  -999.00, -999.000,9,  -999.00,9,  -999.00,9,   1.4438,2,  27.7449,2,   1.6612,2
49UP20220824_1,    P9,    46,  1,      9,     750,2,20220906,1104,1151, 13.4932, 136.9952, 5103,   3213.3,     3171,   1.6181,  34.6689,2,    140.7,2,  34.6680,2,   140.49,2,   146.33,2,    36.72,2,     0.00,2,    2.570,2, -999.000,9, -999.000,9,   -999.0,9,   -999.0,9,-999.0000,9,  -999.00, -999.000,9,  -999.00,9,  -999.00,9,   1.3779,2,  27.7533,2,   1.6181,2
49UP20220824_1,    P9,    46,  1,      8,     320,2,20220906,1104,1145, 13.4932, 136.9952, 5103,   3468.8,     3421,   1.5832,  34.6732,2,    145.5,2,  34.6728,2,   145.25,2,   145.12,2,    36.49,2,     0.00,2,    2.540,2, -999.000,9, -999.000,9,   -999.0,9,   -999.0,9,-999.0000,9,  -999.00, -999.000,9,  -999.00,9,  -999.00,9,   1.3182,2,  27.7610,2,   1.5831,2
49UP20220824_1,    P9,    46,  1,      7,     319,2,20220906,1104,1140, 13.4932, 136.9952, 5103,   3723.9,     3670,   1.5547,  34.6772,2,    150.4,2,  34.6768,2,   150.34,6,   143.55,6,    36.11,6,     0.00,6,    2.520,6, -999.000,9, -999.000,9,   -999.0,9,   -999.0,9,-999.0000,9,  -999.00, -999.000,9,  -999.00,9,  -999.00,9,   1.2639,2,  27.7680,2,   1.5552,2
49UP20220824_1,    P9,    46,  1,      6,     318,2,20220906,1104,1134, 13.4932, 136.9952, 5103,   3981.1,     3921,   1.5211,  34.6816,2,    155.4,2,  34.6809,2,   155.47,2,   142.08,2,    35.75,2,     0.00,2,    2.490,2, -999.000,9, -999.000,9,   -999.0,9,   -999.0,9,-999.0000,9,  -999.00, -999.000,9,  -999.00,9,  -999.00,9,   1.2037,2,  27.7757,2,   1.5211,2
49UP20220824_1,    P9,    46,  1,      5,     838,2,20220906,1104,1128, 13.4932, 136.9952, 5103,   4236.7,     4171,   1.5122,  34.6844,2,    158.7,2,  34.6842,2,   158.73,2,   140.92,2,    35.52,2,     0.00,2,    2.470,2, -999.000,9, -999.000,9,   -999.0,9,   -999.0,9,-999.0000,9,  -999.00, -999.000,9,  -999.00,9,  -999.00,9,   1.1668,2,  27.7805,2,   1.5124,2
49UP20220824_1,    P9,    46,  1,      4,     316,2,20220906,1104,1122, 13.4932, 136.9952, 5103,   4493.3,     4421,   1.5223,  34.6859,2,    160.3,2,  34.6857,2,   160.33,2,   140.57,2,    35.40,2,     0.00,2,    2.460,2, -999.000,9, -999.000,9,   -999.0,9,   -999.0,9,-999.0000,9,  -999.00, -999.000,9,  -999.00,9,  -999.00,9,   1.1474,2,  27.7830,2,   1.5223,2
49UP20220824_1,    P9,    46,  1,      3,     315,2,20220906,1104,1115, 13.4932, 136.9952, 5103,   4750.2,     4671,   1.5497,  34.6861,2,    160.6,2,  34.6855,2,   160.53,2,   140.49,2,    35.36,2,     0.00,2,    2.460,2, -999.000,9, -999.000,9,   -999.0,9,   -999.0,9,-999.0000,9,  -999.00, -999.000,9,  -999.00,9,  -999.00,9,   1.1438,2,  27.7834,2,   1.5498,2
49UP20220824_1,    P9,    46,  1,      2,     314,2,20220906,1104,1109, 13.4932, 136.9952, 5103,   5007.1,     4921,   1.5755,  34.6865,2,    161.3,2,  34.6859,2,   161.25,2,   140.24,2,    35.30,2,     0.00,2,    2.460,2, -999.000,9, -999.000,9,   -999.0,9,   -999.0,9,-999.0000,9,  -999.00, -999.000,9,  -999.00,9,  -999.00,9,   1.1379,2,  27.7842,2,   1.5757,2
49UP20220824_1,    P9,    46,  1,      1,     308,2,20220906,1104,1104, 13.4932, 136.9952, 5103,   5212.2,     5120,   1.6018,  34.6865,2,    161.5,2,  34.6860,6,   161.24,2,   140.31,2,    35.36,2,     0.00,2,    2.460,2, -999.000,9, -999.000,9,   -999.0,9,   -999.0,9,-999.0000,9,  -999.00, -999.000,9,  -999.00,9,  -999.00,9,   1.1379,2,  27.7841,2,   1.6017,2