BOTTLE,20230330JMAAMD
EXPOCODE,SECT_ID,STNNBR,CASTNO,SAMPNO,BTLNBR,BTLNBR_FLAG_U,DATE,TIME,BTL_TIME,LATITUDE,LONGITUDE,DEPTH,CTDPRS,CTDDEP,CTDTMP,CTDSAL,CTDSAL_FLAG_W,CTDOXY,CTDOXY_FLAG_W,SALNTY,SALNTY_FLAG_W,OXYGEN,OXYGEN_FLAG_W,SILCAT,SILCAT_FLAG_W,NO2+NO3,NO2+NO3_FLAG_W,NITRIT,NITRIT_FLAG_W,PHSPHT,PHSPHT_FLAG_W,CFC-11,CFC-11_FLAG_W,CFC-12,CFC-12_FLAG_W,TCARBN,TCARBN_FLAG_W,ALKALI,ALKALI_FLAG_W,PH_TS,PH_TS_FLAG_W,PH_TS_TMP,CFC113,CFC113_FLAG_W,CHLORA,CHLORA_FLAG_W,PPHYTN,PPHYTN_FLAG_W,THETA,THETA_FLAG_W,SIGTHT,SIGTHT_FLAG_W,SBE35,SBE35_FLAG_W
,,,,,,,,UTC,,,,METER,DBAR,METERS,ITS-90,PSS-78,,UMOL/KG,,PSS78,,UMOL/KG,,UMOL/KG,,UMOL/KG,,UMOL/KG,,UMOL/KG,,PMOL/KG,,PMOL/KG,,UMOL/KG,,UMOL/KG,,,,ITS-90,PMOL/KG,,UG/KG,,UG/KG,,ITS-90,,KG/M3,,ITS-90,
49UP20220824_1,    P9,    47,  1,      0,      -9,0,20220906,1809,2005, 13.9960, 136.9893, 4783,      0.0,        0,  30.6234,  34.2606,2,    191.8,2,  34.2771,2,   192.86,2,     1.06,4,     0.05,2,     0.00,2,    0.070,2, -999.000,9, -999.000,9,   1924.9,2,   2248.7,2,   8.1085,2,    25.00, -999.000,9,     0.07,2,     0.00,2,  30.6228,2,  20.9584,2,-999.0000,9
49UP20220824_1,    P9,    47,  1,     36,     757,2,20220906,1809,2023, 13.9960, 136.9893, 4783,     11.7,       12,  30.6311,  34.2650,2,    192.0,2,  34.2618,2,   192.35,2,     1.02,4,     0.01,2,     0.00,2,    0.040,2, -999.000,9, -999.000,9,   1923.4,2,   2248.8,2,   8.1120,2,    25.00, -999.000,9,     0.06,2,     0.02,2,  30.6282,2,  20.9599,2,  30.6295,2
49UP20220824_1,    P9,    47,  1,     35,     756,2,20220906,1809,2021, 13.9960, 136.9893, 4783,     26.8,       27,  30.3190,  34.2506,2,    193.7,2,  34.2511,2,   194.03,2,     0.99,4,     0.05,2,     0.00,2,    0.030,2, -999.000,9, -999.000,9,   1922.1,2,   2247.3,2,   8.1119,2,    25.00, -999.000,9,     0.07,2,     0.00,2,  30.3123,2,  21.0577,2,  30.3152,2
49UP20220824_1,    P9,    47,  1,     34,     323,2,20220906,1809,2017, 13.9960, 136.9893, 4783,     51.4,       51,  29.8158,  34.3393,2,    198.9,2,  34.3379,2,   198.55,2,     1.05,4,     0.12,2,     0.00,2,    0.040,2, -999.000,9, -999.000,9,   1929.0,2,   2253.4,2,   8.1076,2,    25.00, -999.000,9,     0.08,2,     0.00,2,  29.8031,2,  21.2979,2,  29.8154,2
49UP20220824_1,    P9,    47,  1,     33,     322,2,20220906,1809,2016, 13.9960, 136.9893, 4783,    101.1,      100,  28.0363,  34.6650,2,    201.4,2,  34.6668,2,   200.30,6,     1.09,4,     0.01,6,     0.00,6,    0.060,6, -999.000,9, -999.000,9,   1961.2,2,   2273.9,2,   8.0900,2,    25.00, -999.000,9,     0.16,2,     0.05,2,  28.0125,2,  22.1387,2,  28.0339,2
49UP20220824_1,    P9,    47,  1,     32,     321,2,20220906,1809,2014, 13.9960, 136.9893, 4783,    127.0,      126,  27.0792,  34.8139,2,    194.0,2,  34.8174,2,   193.06,2,     1.08,4,     0.01,2,     0.01,2,    0.060,2, -999.000,9, -999.000,9,   1978.1,2,   2285.0,2,   8.0722,2,    25.00, -999.000,9,     0.32,2,     0.22,2,  27.0500,2,  22.5616,2,  27.0804,2
49UP20220824_1,    P9,    47,  1,     31,     320,2,20220906,1809,2013, 13.9960, 136.9893, 4783,    153.1,      152,  25.5746,  34.9223,2,    185.1,2,  34.9194,2,   184.80,2,     1.29,4,     0.43,2,     0.08,2,    0.090,2, -999.000,9, -999.000,9,   1997.9,2,   2291.0,2,   8.0454,2,    25.00, -999.000,9,     0.23,2,     0.28,2,  25.5409,2,  23.1170,2,  25.5754,2
49UP20220824_1,    P9,    47,  1,     30,     319,2,20220906,1809,2011, 13.9960, 136.9893, 4783,    202.0,      201,  22.5931,  34.9539,2,    175.8,2,  34.9534,2,   176.39,2,     2.23,4,     1.92,2,     0.02,2,    0.210,2, -999.000,9, -999.000,9,   2041.7,2,   2294.5,2,   7.9709,2,    25.00, -999.000,9,     0.05,2,     0.07,2,  22.5523,2,  24.0269,2,  22.5876,2
49UP20220824_1,    P9,    47,  1,     29,     318,2,20220906,1809,2009, 13.9960, 136.9893, 4783,    251.6,      250,  17.7890,  34.7318,2,    173.0,2,  34.7281,2,   172.81,2,     6.08,4,     6.64,2,     0.01,2,    0.540,2, -999.000,9, -999.000,9,   2080.0,2,   2282.4,2,   7.8719,2,    25.00, -999.000,9,  -999.00,9,  -999.00,9,  17.7462,2,  25.1288,2,  17.7999,2
49UP20220824_1,    P9,    47,  1,     28,     755,2,20220906,1809,2007, 13.9960, 136.9893, 4783,    302.8,      301,  13.9753,  34.4563,2,    165.2,2,  34.4311,2,   160.97,2,    14.50,4,    14.02,2,     0.00,2,    1.040,2, -999.000,9, -999.000,9,   2122.8,2,   2270.4,2,   7.7600,6,    25.00, -999.000,9,  -999.00,9,  -999.00,9,  13.9317,2,  25.7812,2,  13.9827,2
49UP20220824_1,    P9,    47,  1,     27,     317,2,20220906,1809,2005, 13.9960, 136.9893, 4783,    353.5,      351,  10.7498,  34.2943,2,    134.1,2,  34.3077,2,   127.08,2,    27.08,4,    21.97,2,     0.00,2,    1.630,2, -999.000,9, -999.000,9,   2174.7,6,   2273.3,6,   7.6354,2,    25.00, -999.000,9,  -999.00,9,  -999.00,9,  10.7068,2,  26.2783,2,  10.7497,2
49UP20220824_1,    P9,    47,  1,     26,     316,2,20220906,1809,2003, 13.9960, 136.9893, 4783,    403.7,      401,   9.6694,  34.3220,2,    102.4,2,  34.3241,2,   101.22,2,    35.40,4,    26.85,2,     0.00,2,    1.970,2, -999.000,9, -999.000,9,   2206.9,2,   2283.0,2,   7.5644,2,    25.00, -999.000,9,  -999.00,9,  -999.00,9,   9.6234,2,  26.4858,2,   9.6685,2
49UP20220824_1,    P9,    47,  1,     25,     315,2,20220906,1809,2001, 13.9960, 136.9893, 4783,    454.1,      451,   8.1964,  34.3696,2,     80.4,2,  34.3721,2,    80.18,2,    47.81,4,    31.89,2,     0.00,2,    2.310,2, -999.000,9, -999.000,9,   2242.1,2,   2298.6,2,   7.5072,2,    25.00, -999.000,9,  -999.00,9,  -999.00,9,   8.1495,2,  26.7563,2,   8.1957,2
49UP20220824_1,    P9,    47,  1,     24,     753,2,20220906,1809,1959, 13.9960, 136.9893, 4783,    505.4,      502,   7.4810,  34.3921,2,     78.0,2,  34.3923,2,    78.09,6,    54.27,4,    33.43,6,     0.00,6,    2.410,6, -999.000,9, -999.000,9,   2251.2,2,   2304.8,2,   7.4978,2,    25.00, -999.000,9,  -999.00,9,  -999.00,9,   7.4312,2,  26.8794,2,   7.4793,2
49UP20220824_1,    P9,    47,  1,     23,     314,2,20220906,1809,1957, 13.9960, 136.9893, 4783,    605.7,      601,   6.4124,  34.4263,2,     82.7,2,  34.4270,2,    82.64,2,    66.62,4,    35.10,2,     0.00,2,    2.520,2, -999.000,9, -999.000,9,   2266.9,2,   2319.4,2,   7.4959,2,    25.00, -999.000,9,  -999.00,9,  -999.00,9,   6.3572,2,  27.0533,2,   6.4124,2
49UP20220824_1,    P9,    47,  1,     22,     313,2,20220906,1809,1954, 13.9960, 136.9893, 4783,    706.0,      701,   5.6673,  34.4724,2,     86.3,2,  34.4720,2,    86.12,2,    75.08,4,    36.41,2,     0.00,2,    2.600,2, -999.000,9, -999.000,9,   2280.3,2,   2333.1,2,   7.4968,2,    25.00, -999.000,9,  -999.00,9,  -999.00,9,   5.6064,2,  27.1848,2,   5.6670,2
49UP20220824_1,    P9,    47,  1,     21,     312,2,20220906,1809,1951, 13.9960, 136.9893, 4783,    807.3,      801,   5.2247,  34.4992,2,     87.7,2,  34.5003,2,    87.57,2,    81.23,4,    37.06,2,     0.00,2,    2.650,2, -999.000,9, -999.000,9,   2288.1,2,   2342.7,2,   7.4969,6,    25.00, -999.000,9,  -999.00,9,  -999.00,9,   5.1572,2,  27.2599,2,   5.2226,2
49UP20220824_1,    P9,    47,  1,     20,     311,2,20220906,1809,1948, 13.9960, 136.9893, 4783,    908.7,      901,   4.6571,  34.5254,2,     89.2,2,  34.5250,2,    88.87,2,    90.89,4,    37.64,2,     0.00,2,    2.700,2, -999.000,9, -999.000,9,   2298.1,6,   2353.5,6,   7.4965,2,    25.00, -999.000,9,  -999.00,9,  -999.00,9,   4.5844,2,  27.3460,2,   4.6550,2
49UP20220824_1,    P9,    47,  1,     19,     310,2,20220906,1809,1945, 13.9960, 136.9893, 4783,   1009.6,     1001,   4.3247,  34.5393,2,     90.0,2,  34.5381,2,    89.91,2,    98.21,4,    37.97,2,     0.00,2,    2.720,2, -999.000,9, -999.000,9,   2306.7,2,   2363.1,2,   7.4973,2,    25.00, -999.000,9,  -999.00,9,  -999.00,9,   4.2456,2,  27.3939,2,   4.3214,2
49UP20220824_1,    P9,    47,  1,     18,     752,2,20220906,1809,1941, 13.9960, 136.9893, 4783,   1212.7,     1202,   3.6225,  34.5612,2,     92.3,2,  34.5613,6,    93.06,2,   113.22,4,    38.58,2,     0.00,2,    2.750,2, -999.000,9, -999.000,9,   2319.1,2,   2377.2,2,   7.4968,2,    25.00, -999.000,9,  -999.00,9,  -999.00,9,   3.5322,2,  27.4843,2,   3.6231,2
49UP20220824_1,    P9,    47,  1,     17,     751,2,20220906,1809,1936, 13.9960, 136.9893, 4783,   1413.1,     1400,   3.1703,  34.5749,2,     96.0,2,  34.5739,2,    96.06,2,   122.01,4,    38.66,2,     0.00,2,    2.750,2, -999.000,9, -999.000,9,   2332.2,2,   2386.9,2,   7.4988,2,    25.00, -999.000,9,  -999.00,9,  -999.00,9,   3.0678,2,  27.5395,2,   3.1699,2
49UP20220824_1,    P9,    47,  1,     16,     328,2,20220906,1809,1931, 13.9960, 136.9893, 4783,   1617.6,     1602,   2.7654,  34.5914,2,    101.0,2,  34.5918,2,   101.35,2,   131.43,4,    38.62,2,     0.00,2,    2.740,2, -999.000,9, -999.000,9,   2337.0,2,   2394.6,2,   7.5054,2,    25.00, -999.000,9,  -999.00,9,  -999.00,9,   2.6505,2,  27.5902,2,   2.7651,2
49UP20220824_1,    P9,    47,  1,     15,     309,2,20220906,1809,1926, 13.9960, 136.9893, 4783,   1821.4,     1803,   2.4199,  34.6098,2,    106.7,2,  34.6095,2,   107.04,6,   137.58,4,    38.54,6,     0.00,6,    2.720,6, -999.000,9, -999.000,9,   2337.6,2,   2402.5,2,   7.5114,2,    25.00, -999.000,9,  -999.00,9,  -999.00,9,   2.2924,2,  27.6353,2,   2.4191,2
49UP20220824_1,    P9,    47,  1,     14,     326,2,20220906,1809,1921, 13.9960, 136.9893, 4783,   2023.6,     2002,   2.1636,  34.6266,2,    113.3,2,  34.6265,2,   113.57,2,   140.85,4,    38.35,2,     0.00,2,    2.700,2, -999.000,9, -999.000,9,   2342.0,2,   2407.7,2,   7.5213,2,    25.00, -999.000,9,  -999.00,9,  -999.00,9,   2.0227,2,  27.6707,2,   2.1631,2
49UP20220824_1,    P9,    47,  1,     13,     325,2,20220906,1809,1916, 13.9960, 136.9893, 4783,   2227.0,     2202,   1.9802,  34.6393,2,    119.4,2,  34.6396,2,   119.86,2,   143.26,4,    38.07,2,     0.00,2,    2.670,2, -999.000,9, -999.000,9,   2342.4,2,   2409.2,2,   7.5320,2,    25.00, -999.000,9,  -999.00,9,  -999.00,9,   1.8247,2,  27.6964,2,   1.9803,2
49UP20220824_1,    P9,    47,  1,     12,     324,2,20220906,1809,1911, 13.9960, 136.9893, 4783,   2428.9,     2401,   1.8576,  34.6481,2,    124.3,2,  34.6478,2,   124.69,2,   145.19,4,    37.68,2,     0.00,2,    2.650,2, -999.000,9, -999.000,9,   2338.7,2,   2412.6,2,   7.5383,2,    25.00, -999.000,9,  -999.00,9,  -999.00,9,   1.6864,2,  27.7140,2,   1.8573,2
49UP20220824_1,    P9,    47,  1,     11,     323,2,20220906,1809,1906, 13.9960, 136.9893, 4783,   2633.0,     2601,   1.7640,  34.6554,2,    129.2,2,  34.6555,2,   129.31,2,   146.03,4,    37.42,2,     0.00,2,    2.620,2, -999.000,9, -999.000,9,   2339.1,2,   2412.9,2,   7.5455,2,    25.00, -999.000,9,  -999.00,9,  -999.00,9,   1.5761,2,  27.7281,2,   1.7640,2
49UP20220824_1,    P9,    47,  1,     10,     322,2,20220906,1809,1901, 13.9960, 136.9893, 4783,   2837.4,     2802,   1.7070,  34.6604,2,    132.9,2,  34.6604,2,   133.49,2,   146.61,4,    37.30,2,     0.00,2,    2.600,2, -999.000,9, -999.000,9,   2335.4,2,   2414.5,2,   7.5519,6,    25.00, -999.000,9,  -999.00,9,  -999.00,9,   1.5012,2,  27.7375,2,   1.7071,2
49UP20220824_1,    P9,    47,  1,      9,     750,2,20220906,1809,1856, 13.9960, 136.9893, 4783,   3041.6,     3002,   1.6401,  34.6662,2,    138.3,2,  34.6668,2,   138.42,2,   146.11,4,    36.94,2,     0.00,2,    2.570,2, -999.000,9, -999.000,9,   2332.2,6,   2413.6,6,   7.5602,2,    25.00, -999.000,9,  -999.00,9,  -999.00,9,   1.4162,2,  27.7483,2,   1.6397,2
49UP20220824_1,    P9,    47,  1,      8,     320,2,20220906,1809,1851, 13.9960, 136.9893, 4783,   3295.3,     3251,   1.6053,  34.6703,2,    142.9,2,  34.6705,6,   142.78,2,   145.25,4,    36.53,2,     0.00,2,    2.550,2, -999.000,9, -999.000,9,   2332.4,2,   2413.9,2,   7.5672,2,    25.00, -999.000,9,  -999.00,9,  -999.00,9,   1.3573,2,  27.7559,2,   1.6052,2
49UP20220824_1,    P9,    47,  1,      7,     319,2,20220906,1809,1844, 13.9960, 136.9893, 4783,   3551.9,     3502,   1.5880,  34.6734,2,    146.3,2,  34.6733,2,   146.02,2,   144.37,4,    36.24,2,     0.00,2,    2.530,2, -999.000,9, -999.000,9,   2328.2,2,   2414.1,2,   7.5712,2,    25.00, -999.000,9,  -999.00,9,  -999.00,9,   1.3143,2,  27.7614,2,   1.5878,2
49UP20220824_1,    P9,    47,  1,      6,     318,2,20220906,1809,1838, 13.9960, 136.9893, 4783,   3806.6,     3751,   1.5652,  34.6769,2,    150.1,2,  34.6770,2,   149.57,6,   143.53,4,    36.12,6,     0.00,6,    2.510,6, -999.000,9, -999.000,9,   2326.2,2,   2411.8,2,   7.5785,2,    25.00, -999.000,9,  -999.00,9,  -999.00,9,   1.2654,2,  27.7677,2,   1.5653,2
49UP20220824_1,    P9,    47,  1,      5,     838,2,20220906,1809,1832, 13.9960, 136.9893, 4783,   4062.6,     4001,   1.5341,  34.6812,2,    154.8,2,  34.6811,2,   154.83,2,   142.64,4,    35.78,2,     0.00,2,    2.490,2, -999.000,9, -999.000,9,   2322.3,2,   2409.8,2,   7.5847,2,    25.00, -999.000,9,  -999.00,9,  -999.00,9,   1.2074,2,  27.7751,2,   1.5342,2
49UP20220824_1,    P9,    47,  1,      4,     316,2,20220906,1809,1826, 13.9960, 136.9893, 4783,   4319.5,     4251,   1.5188,  34.6845,2,    158.6,2,  34.6850,2,   158.29,2,   141.71,4,    35.53,2,     0.00,2,    2.460,2, -999.000,9, -999.000,9,   2318.6,2,   2408.1,2,   7.5881,2,    25.00, -999.000,9,  -999.00,9,  -999.00,9,   1.1639,2,  27.7807,2,   1.5189,2
49UP20220824_1,    P9,    47,  1,      3,     315,2,20220906,1809,1820, 13.9960, 136.9893, 4783,   4574.7,     4500,   1.5309,  34.6858,2,    160.3,2,  34.6876,4,   160.13,2,   140.67,4,    35.37,2,     0.00,2,    2.460,2, -999.000,9, -999.000,9,   2316.5,2,   2408.4,2,   7.5891,2,    25.00, -999.000,9,  -999.00,9,  -999.00,9,   1.1464,2,  27.7830,2,   1.5309,2
49UP20220824_1,    P9,    47,  1,      2,     314,2,20220906,1809,1813, 13.9960, 136.9893, 4783,   4832.8,     4751,   1.5515,  34.6865,2,    161.4,2,  34.6866,2,   161.54,2,   140.25,4,    35.32,2,     0.00,2,    2.450,2, -999.000,9, -999.000,9,   2316.6,2,   2408.3,2,   7.5910,2,    25.00, -999.000,9,  -999.00,9,  -999.00,9,   1.1357,2,  27.7843,2,   1.5515,2
49UP20220824_1,    P9,    47,  1,      1,     308,2,20220906,1809,1810, 13.9960, 136.9893, 4783,   4952.9,     4868,   1.5640,  34.6867,2,    161.8,2,  34.6870,6,   161.50,2,   140.06,4,    35.35,2,     0.00,2,    2.450,2, -999.000,9, -999.000,9,   2313.4,2,   2407.9,2,   7.5924,2,    25.00, -999.000,9,  -999.00,9,  -999.00,9,   1.1334,2,  27.7846,2,   1.5640,2