BOTTLE,20230330JMAAMD
EXPOCODE,SECT_ID,STNNBR,CASTNO,SAMPNO,BTLNBR,BTLNBR_FLAG_U,DATE,TIME,BTL_TIME,LATITUDE,LONGITUDE,DEPTH,CTDPRS,CTDDEP,CTDTMP,CTDSAL,CTDSAL_FLAG_W,CTDOXY,CTDOXY_FLAG_W,SALNTY,SALNTY_FLAG_W,OXYGEN,OXYGEN_FLAG_W,SILCAT,SILCAT_FLAG_W,NO2+NO3,NO2+NO3_FLAG_W,NITRIT,NITRIT_FLAG_W,PHSPHT,PHSPHT_FLAG_W,CFC-11,CFC-11_FLAG_W,CFC-12,CFC-12_FLAG_W,TCARBN,TCARBN_FLAG_W,ALKALI,ALKALI_FLAG_W,PH_TS,PH_TS_FLAG_W,PH_TS_TMP,CFC113,CFC113_FLAG_W,CHLORA,CHLORA_FLAG_W,PPHYTN,PPHYTN_FLAG_W,THETA,THETA_FLAG_W,SIGTHT,SIGTHT_FLAG_W,SBE35,SBE35_FLAG_W
,,,,,,,,UTC,,,,METER,DBAR,METERS,ITS-90,PSS-78,,UMOL/KG,,PSS78,,UMOL/KG,,UMOL/KG,,UMOL/KG,,UMOL/KG,,UMOL/KG,,PMOL/KG,,PMOL/KG,,UMOL/KG,,UMOL/KG,,,,ITS-90,PMOL/KG,,UG/KG,,UG/KG,,ITS-90,,KG/M3,,ITS-90,
49UP20220824_1,    P9,    50,  1,      0,      -9,0,20220908,0043,0235, 15.5090, 136.9887, 4970,      0.0,        0,  30.4311,  34.4582,2,    193.1,2,-999.0000,9,   193.22,2,     1.06,2,     0.04,2,     0.00,2,    0.040,2, -999.000,9, -999.000,9,   -999.0,9,   -999.0,9,-999.0000,9,  -999.00, -999.000,9,  -999.00,9,  -999.00,9,  30.4305,2,  21.1726,2,-999.0000,9
49UP20220824_1,    P9,    50,  1,     36,     757,2,20220908,0043,0305, 15.5090, 136.9887, 4970,     10.5,       10,  30.4093,  34.4568,2,    193.3,2,  34.4559,2,   193.56,2,     1.02,2,     0.00,2,     0.00,2,    0.010,2, -999.000,9, -999.000,9,   -999.0,9,   -999.0,9,-999.0000,9,  -999.00, -999.000,9,  -999.00,9,  -999.00,9,  30.4066,2,  21.1798,2,  30.4110,2
49UP20220824_1,    P9,    50,  1,     35,     756,2,20220908,0043,0300, 15.5090, 136.9887, 4970,     51.1,       51,  30.1175,  34.5396,2,    196.9,2,  34.5479,2,   197.17,2,     1.02,2,     0.00,2,     0.00,2,    0.010,2, -999.000,9, -999.000,9,   -999.0,9,   -999.0,9,-999.0000,9,  -999.00, -999.000,9,  -999.00,9,  -999.00,9,  30.1048,2,  21.3453,2,  30.1194,2
49UP20220824_1,    P9,    50,  1,     34,     323,2,20220908,0043,0259, 15.5090, 136.9887, 4970,     76.0,       76,  28.5225,  34.8270,2,    214.6,2,  34.8258,2,   212.69,2,     1.07,2,     0.00,2,     0.00,2,    0.010,2, -999.000,9, -999.000,9,   -999.0,9,   -999.0,9,-999.0000,9,  -999.00, -999.000,9,  -999.00,9,  -999.00,9,  28.5043,2,  22.0989,2,  28.5248,2
49UP20220824_1,    P9,    50,  1,     33,     322,2,20220908,0043,0257, 15.5090, 136.9887, 4970,    101.3,      101,  26.9423,  34.8656,2,    207.1,2,  34.8634,2,   206.34,2,     1.11,2,     0.00,2,     0.00,2,    0.020,2, -999.000,9, -999.000,9,   -999.0,9,   -999.0,9,-999.0000,9,  -999.00, -999.000,9,  -999.00,9,  -999.00,9,  26.9191,2,  22.6424,2,  26.9426,2
49UP20220824_1,    P9,    50,  1,     32,     321,2,20220908,0043,0256, 15.5090, 136.9887, 4970,    125.8,      125,  25.6088,  34.9298,2,    194.8,2,  34.9255,2,   194.86,2,     1.19,2,     0.00,2,     0.00,2,    0.030,2, -999.000,9, -999.000,9,   -999.0,9,   -999.0,9,-999.0000,9,  -999.00, -999.000,9,  -999.00,9,  -999.00,9,  25.5810,2,  23.1103,2,  25.6096,2
49UP20220824_1,    P9,    50,  1,     31,     320,2,20220908,0043,0254, 15.5090, 136.9887, 4970,    151.3,      150,  24.0851,  34.9956,2,    180.2,2,  34.9942,2,   180.74,2,     1.63,2,     0.80,2,     0.06,2,    0.120,2, -999.000,9, -999.000,9,   -999.0,9,   -999.0,9,-999.0000,9,  -999.00, -999.000,9,  -999.00,9,  -999.00,9,  24.0531,2,  23.6223,2,  24.0754,2
49UP20220824_1,    P9,    50,  1,     30,     319,2,20220908,0043,0252, 15.5090, 136.9887, 4970,    202.2,      201,  20.4205,  34.9117,2,    175.9,2,  34.9115,2,   176.15,6,     3.15,6,     3.33,6,     0.01,6,    0.300,6, -999.000,9, -999.000,9,   -999.0,9,   -999.0,9,-999.0000,9,  -999.00, -999.000,9,  -999.00,9,  -999.00,9,  20.3826,2,  24.5929,2,  20.4155,2
49UP20220824_1,    P9,    50,  1,     29,     318,2,20220908,0043,0250, 15.5090, 136.9887, 4970,    252.6,      251,  16.9178,  34.6863,2,    180.3,2,  34.6856,2,   180.37,2,     6.23,2,     7.05,2,     0.01,2,    0.530,2, -999.000,9, -999.000,9,   -999.0,9,   -999.0,9,-999.0000,9,  -999.00, -999.000,9,  -999.00,9,  -999.00,9,  16.8763,2,  25.3028,2,  16.9078,2
49UP20220824_1,    P9,    50,  1,     28,     755,2,20220908,0043,0248, 15.5090, 136.9887, 4970,    303.5,      301,  13.8988,  34.4537,2,    169.4,2,  34.4557,6,   169.65,2,    12.70,2,    12.59,2,     0.00,2,    0.930,2, -999.000,9, -999.000,9,   -999.0,9,   -999.0,9,-999.0000,9,  -999.00, -999.000,9,  -999.00,9,  -999.00,9,  13.8552,2,  25.7951,2,  13.9002,2
49UP20220824_1,    P9,    50,  1,     27,     317,2,20220908,0043,0245, 15.5090, 136.9887, 4970,    354.9,      353,  11.0701,  34.2911,2,    146.4,2,  34.2917,2,   146.28,2,    23.70,2,    19.64,2,     0.00,2,    1.440,2, -999.000,9, -999.000,9,   -999.0,9,   -999.0,9,-999.0000,9,  -999.00, -999.000,9,  -999.00,9,  -999.00,9,  11.0262,2,  26.2187,2,  11.0903,2
49UP20220824_1,    P9,    50,  1,     26,     316,2,20220908,0043,0243, 15.5090, 136.9887, 4970,    404.5,      402,   9.4850,  34.2267,2,    127.2,2,  34.2268,2,   127.00,2,    33.65,2,    24.47,2,     0.00,2,    1.780,2, -999.000,9, -999.000,9,   -999.0,9,   -999.0,9,-999.0000,9,  -999.00, -999.000,9,  -999.00,9,  -999.00,9,   9.4395,2,  26.4416,2,   9.4851,2
49UP20220824_1,    P9,    50,  1,     25,     315,2,20220908,0043,0242, 15.5090, 136.9887, 4970,    455.1,      452,   8.1014,  34.2499,2,     93.9,2,  34.2432,2,   102.03,2,    43.86,2,    28.77,2,     0.00,2,    2.100,2, -999.000,9, -999.000,9,   -999.0,9,   -999.0,9,-999.0000,9,  -999.00, -999.000,9,  -999.00,9,  -999.00,9,   8.0547,2,  26.6765,2,   8.1010,2
49UP20220824_1,    P9,    50,  1,     24,     753,2,20220908,0043,0240, 15.5090, 136.9887, 4970,    506.1,      503,   7.1926,  34.2893,2,     77.3,2,  34.2890,2,    77.28,2,    57.60,2,    33.63,2,     0.00,2,    2.440,2, -999.000,9, -999.000,9,   -999.0,9,   -999.0,9,-999.0000,9,  -999.00, -999.000,9,  -999.00,9,  -999.00,9,   7.1440,2,  26.8389,2,   7.1929,2
49UP20220824_1,    P9,    50,  1,     23,     314,2,20220908,0043,0237, 15.5090, 136.9887, 4970,    608.5,      604,   6.2296,  34.3935,2,     75.0,2,  34.3929,2,    74.93,2,    70.01,2,    36.01,2,     0.00,2,    2.590,2, -999.000,9, -999.000,9,   -999.0,9,   -999.0,9,-999.0000,9,  -999.00, -999.000,9,  -999.00,9,  -999.00,9,   6.1750,2,  27.0510,2,   6.2300,2
49UP20220824_1,    P9,    50,  1,     22,     313,2,20220908,0043,0233, 15.5090, 136.9887, 4970,    708.1,      703,   5.5580,  34.4482,2,     77.7,2,  34.4479,2,    77.53,2,    78.86,2,    37.05,2,     0.00,2,    2.660,2, -999.000,9, -999.000,9,   -999.0,9,   -999.0,9,-999.0000,9,  -999.00, -999.000,9,  -999.00,9,  -999.00,9,   5.4975,2,  27.1790,2,   5.5572,2
49UP20220824_1,    P9,    50,  1,     21,     312,2,20220908,0043,0230, 15.5090, 136.9887, 4970,    809.7,      803,   5.0151,  34.4888,2,     80.9,2,  34.4879,2,    80.78,6,    87.08,6,    37.90,6,     0.00,6,    2.710,6, -999.000,9, -999.000,9,   -999.0,9,   -999.0,9,-999.0000,9,  -999.00, -999.000,9,  -999.00,9,  -999.00,9,   4.9487,2,  27.2758,2,   5.0171,2
49UP20220824_1,    P9,    50,  1,     20,     311,2,20220908,0043,0227, 15.5090, 136.9887, 4970,    910.0,      903,   4.6640,  34.5122,2,     84.1,2,  34.5120,2,    84.14,2,    92.94,2,    38.17,2,     0.00,2,    2.720,2, -999.000,9, -999.000,9,   -999.0,9,   -999.0,9,-999.0000,9,  -999.00, -999.000,9,  -999.00,9,  -999.00,9,   4.5911,2,  27.3348,2,   4.6637,2
49UP20220824_1,    P9,    50,  1,     19,     310,2,20220908,0043,0224, 15.5090, 136.9887, 4970,   1012.6,     1004,   4.1826,  34.5340,2,     86.8,2,  34.5338,2,    86.96,2,   102.17,2,    38.55,2,     0.00,2,    2.750,2, -999.000,9, -999.000,9,   -999.0,9,   -999.0,9,-999.0000,9,  -999.00, -999.000,9,  -999.00,9,  -999.00,9,   4.1044,2,  27.4046,2,   4.1824,2
49UP20220824_1,    P9,    50,  1,     18,     752,2,20220908,0043,0219, 15.5090, 136.9887, 4970,   1212.9,     1202,   3.5151,  34.5540,2,     90.8,2,  34.5543,2,    90.84,2,   116.79,2,    38.81,2,     0.00,2,    2.760,2, -999.000,9, -999.000,9,   -999.0,9,   -999.0,9,-999.0000,9,  -999.00, -999.000,9,  -999.00,9,  -999.00,9,   3.4259,2,  27.4890,2,   3.5154,2
49UP20220824_1,    P9,    50,  1,     17,     751,2,20220908,0043,0214, 15.5090, 136.9887, 4970,   1416.0,     1403,   3.0631,  34.5707,2,     95.5,2,  34.5691,4,    95.46,2,   126.24,2,    38.81,2,     0.00,2,    2.760,2, -999.000,9, -999.000,9,   -999.0,9,   -999.0,9,-999.0000,9,  -999.00, -999.000,9,  -999.00,9,  -999.00,9,   2.9615,2,  27.5459,2,   3.0628,2
49UP20220824_1,    P9,    50,  1,     16,     328,2,20220908,0043,0209, 15.5090, 136.9887, 4970,   1615.5,     1600,   2.6384,  34.5910,2,    101.2,2,  34.5908,2,   101.16,2,   134.09,2,    38.88,2,     0.00,2,    2.750,2, -999.000,9, -999.000,9,   -999.0,9,   -999.0,9,-999.0000,9,  -999.00, -999.000,9,  -999.00,9,  -999.00,9,   2.5253,2,  27.6007,2,   2.6383,2
49UP20220824_1,    P9,    50,  1,     15,     309,2,20220908,0043,0204, 15.5090, 136.9887, 4970,   1819.3,     1801,   2.3562,  34.6089,2,    107.1,2,  34.6091,2,   107.05,2,   138.49,2,    38.78,2,     0.00,2,    2.730,2, -999.000,9, -999.000,9,   -999.0,9,   -999.0,9,-999.0000,9,  -999.00, -999.000,9,  -999.00,9,  -999.00,9,   2.2298,2,  27.6399,2,   2.3560,2
49UP20220824_1,    P9,    50,  1,     14,     326,2,20220908,0043,0200, 15.5090, 136.9887, 4970,   2021.4,     2000,   2.1406,  34.6237,2,    112.9,2,  34.6236,2,   113.01,2,   141.94,2,    38.51,2,     0.00,2,    2.700,2, -999.000,9, -999.000,9,   -999.0,9,   -999.0,9,-999.0000,9,  -999.00, -999.000,9,  -999.00,9,  -999.00,9,   2.0003,2,  27.6702,2,   2.1406,2
49UP20220824_1,    P9,    50,  1,     13,     325,2,20220908,0043,0155, 15.5090, 136.9887, 4970,   2224.8,     2200,   1.9578,  34.6378,2,    119.4,2,  34.6379,2,   119.35,2,   144.23,2,    38.22,2,     0.00,2,    2.670,2, -999.000,9, -999.000,9,   -999.0,9,   -999.0,9,-999.0000,9,  -999.00, -999.000,9,  -999.00,9,  -999.00,9,   1.8028,2,  27.6969,2,   1.9579,2
49UP20220824_1,    P9,    50,  1,     12,     324,2,20220908,0043,0150, 15.5090, 136.9887, 4970,   2427.6,     2399,   1.8502,  34.6472,2,    124.3,2,  34.6474,2,   124.43,6,   145.85,6,    37.94,6,     0.00,6,    2.650,6, -999.000,9, -999.000,9,   -999.0,9,   -999.0,9,-999.0000,9,  -999.00, -999.000,9,  -999.00,9,  -999.00,9,   1.6792,2,  27.7138,2,   1.8503,2
49UP20220824_1,    P9,    50,  1,     11,     323,2,20220908,0043,0145, 15.5090, 136.9887, 4970,   2630.7,     2599,   1.7622,  34.6543,2,    128.8,2,  34.6545,2,   128.88,2,   146.70,2,    37.74,2,     0.00,2,    2.630,2, -999.000,9, -999.000,9,   -999.0,9,   -999.0,9,-999.0000,9,  -999.00, -999.000,9,  -999.00,9,  -999.00,9,   1.5745,2,  27.7272,2,   1.7623,2
49UP20220824_1,    P9,    50,  1,     10,     322,2,20220908,0043,0137, 15.5090, 136.9887, 4970,   3039.9,     3000,   1.6465,  34.6655,2,    137.7,2,  34.6654,2,   137.66,2,   146.49,2,    37.24,2,     0.00,2,    2.580,2, -999.000,9, -999.000,9,   -999.0,9,   -999.0,9,-999.0000,9,  -999.00, -999.000,9,  -999.00,9,  -999.00,9,   1.4227,2,  27.7473,2,   1.6465,2
49UP20220824_1,    P9,    50,  1,      9,     750,2,20220908,0043,0131, 15.5090, 136.9887, 4970,   3294.9,     3250,   1.6192,  34.6693,2,    141.5,2,  34.6689,2,   141.06,2,   146.17,2,    36.91,2,     0.00,2,    2.560,2, -999.000,9, -999.000,9,   -999.0,9,   -999.0,9,-999.0000,9,  -999.00, -999.000,9,  -999.00,9,  -999.00,9,   1.3710,2,  27.7541,2,   1.6192,2
49UP20220824_1,    P9,    50,  1,      8,     320,2,20220908,0043,0125, 15.5090, 136.9887, 4970,   3547.8,     3498,   1.5856,  34.6736,2,    145.9,2,  34.6734,6,   146.11,2,   145.06,2,    36.57,2,     0.00,2,    2.540,2, -999.000,9, -999.000,9,   -999.0,9,   -999.0,9,-999.0000,9,  -999.00, -999.000,9,  -999.00,9,  -999.00,9,   1.3124,2,  27.7616,2,   1.5855,2
49UP20220824_1,    P9,    50,  1,      7,     319,2,20220908,0043,0119, 15.5090, 136.9887, 4970,   3805.8,     3750,   1.5555,  34.6775,2,    150.5,2,  34.6777,2,   150.43,2,   143.74,2,    36.25,2,     0.00,2,    2.520,2, -999.000,9, -999.000,9,   -999.0,9,   -999.0,9,-999.0000,9,  -999.00, -999.000,9,  -999.00,9,  -999.00,9,   1.2560,2,  27.7688,2,   1.5555,2
49UP20220824_1,    P9,    50,  1,      6,     318,2,20220908,0043,0114, 15.5090, 136.9887, 4970,   4062.4,     4000,   1.5313,  34.6814,2,    154.8,2,  34.6812,2,   154.65,2,   142.50,2,    36.04,2,     0.00,2,    2.490,2, -999.000,9, -999.000,9,   -999.0,9,   -999.0,9,-999.0000,9,  -999.00, -999.000,9,  -999.00,9,  -999.00,9,   1.2047,2,  27.7754,2,   1.5313,2
49UP20220824_1,    P9,    50,  1,      5,     838,2,20220908,0043,0108, 15.5090, 136.9887, 4970,   4320.1,     4252,   1.5227,  34.6841,2,    158.3,2,  34.6841,2,   158.30,2,   141.37,2,    35.81,2,     0.00,2,    2.470,2, -999.000,9, -999.000,9,   -999.0,9,   -999.0,9,-999.0000,9,  -999.00, -999.000,9,  -999.00,9,  -999.00,9,   1.1676,2,  27.7802,2,   1.5226,2
49UP20220824_1,    P9,    50,  1,      4,     316,2,20220908,0043,0102, 15.5090, 136.9887, 4970,   4575.1,     4500,   1.5312,  34.6858,2,    160.2,2,  34.6857,6,   160.19,2,   140.91,2,    35.60,2,     0.00,2,    2.460,2, -999.000,9, -999.000,9,   -999.0,9,   -999.0,9,-999.0000,9,  -999.00, -999.000,9,  -999.00,9,  -999.00,9,   1.1466,2,  27.7830,2,   1.5312,2
49UP20220824_1,    P9,    50,  1,      3,     315,2,20220908,0043,0056, 15.5090, 136.9887, 4970,   4832.8,     4751,   1.5552,  34.6865,2,    160.9,2,  34.6859,2,   160.82,6,   140.57,6,    35.59,6,     0.00,6,    2.460,6, -999.000,9, -999.000,9,   -999.0,9,   -999.0,9,-999.0000,9,  -999.00, -999.000,9,  -999.00,9,  -999.00,9,   1.1394,2,  27.7840,2,   1.5552,2
49UP20220824_1,    P9,    50,  1,      2,     314,2,20220908,0043,0050, 15.5090, 136.9887, 4970,   5091.6,     5002,   1.5861,  34.6864,2,    161.1,2,  34.6869,2,   161.07,2,   140.49,2,    35.65,2,     0.00,2,    2.460,2, -999.000,9, -999.000,9,   -999.0,9,   -999.0,9,-999.0000,9,  -999.00, -999.000,9,  -999.00,9,  -999.00,9,   1.1377,2,  27.7841,2,   1.5861,2
49UP20220824_1,    P9,    50,  1,      1,     308,2,20220908,0043,0044, 15.5090, 136.9887, 4970,   5349.4,     5252,   1.6194,  34.6863,2,    161.2,2,  34.6864,6,   161.02,2,   140.44,2,    35.63,2,     0.00,2,    2.460,2, -999.000,9, -999.000,9,   -999.0,9,   -999.0,9,-999.0000,9,  -999.00, -999.000,9,  -999.00,9,  -999.00,9,   1.1377,2,  27.7840,2,   1.6195,2