BOTTLE,20230330JMAAMD
EXPOCODE,SECT_ID,STNNBR,CASTNO,SAMPNO,BTLNBR,BTLNBR_FLAG_U,DATE,TIME,BTL_TIME,LATITUDE,LONGITUDE,DEPTH,CTDPRS,CTDDEP,CTDTMP,CTDSAL,CTDSAL_FLAG_W,CTDOXY,CTDOXY_FLAG_W,SALNTY,SALNTY_FLAG_W,OXYGEN,OXYGEN_FLAG_W,SILCAT,SILCAT_FLAG_W,NO2+NO3,NO2+NO3_FLAG_W,NITRIT,NITRIT_FLAG_W,PHSPHT,PHSPHT_FLAG_W,CFC-11,CFC-11_FLAG_W,CFC-12,CFC-12_FLAG_W,TCARBN,TCARBN_FLAG_W,ALKALI,ALKALI_FLAG_W,PH_TS,PH_TS_FLAG_W,PH_TS_TMP,CFC113,CFC113_FLAG_W,CHLORA,CHLORA_FLAG_W,PPHYTN,PPHYTN_FLAG_W,THETA,THETA_FLAG_W,SIGTHT,SIGTHT_FLAG_W,SBE35,SBE35_FLAG_W
,,,,,,,,UTC,,,,METER,DBAR,METERS,ITS-90,PSS-78,,UMOL/KG,,PSS78,,UMOL/KG,,UMOL/KG,,UMOL/KG,,UMOL/KG,,UMOL/KG,,PMOL/KG,,PMOL/KG,,UMOL/KG,,UMOL/KG,,,,ITS-90,PMOL/KG,,UG/KG,,UG/KG,,ITS-90,,KG/M3,,ITS-90,
49UP20220824_1,    P9,    40,  1,      0,      -9,0,20220904,0441,0641, 10.4857, 136.9947, 5017,      0.0,        0,  30.6699,  34.3125,2,    192.5,2,-999.0000,9,   192.61,2,     1.11,2,     0.00,2,     0.00,2,    0.070,2, -999.000,9, -999.000,9,   -999.0,9,   -999.0,9,-999.0000,9,  -999.00, -999.000,9,  -999.00,9,  -999.00,9,  30.6692,2,  20.9812,2,-999.0000,9
49UP20220824_1,    P9,    40,  1,     36,     757,2,20220904,0441,0705, 10.4857, 136.9947, 5017,     11.9,       12,  30.2704,  34.3459,2,    194.0,2,  34.3401,2,   194.64,2,     1.07,2,     0.05,2,     0.00,2,    0.050,2, -999.000,9, -999.000,9,   -999.0,9,   -999.0,9,-999.0000,9,  -999.00, -999.000,9,  -999.00,9,  -999.00,9,  30.2674,2,  21.1445,2,  30.3197,2
49UP20220824_1,    P9,    40,  1,     35,     756,2,20220904,0441,0700, 10.4857, 136.9947, 5017,     50.6,       50,  29.1795,  34.6326,2,    203.6,2,  34.6388,2,   203.37,2,     1.12,2,     0.00,2,     0.00,2,    0.070,2, -999.000,9, -999.000,9,   -999.0,9,   -999.0,9,-999.0000,9,  -999.00, -999.000,9,  -999.00,9,  -999.00,9,  29.1673,2,  21.7323,2,  29.1722,2
49UP20220824_1,    P9,    40,  1,     34,     323,2,20220904,0441,0658, 10.4857, 136.9947, 5017,     75.2,       75,  28.2032,  34.7660,2,    206.0,2,  34.7630,2,   205.09,2,     1.12,2,     0.00,2,     0.00,2,    0.080,2, -999.000,9, -999.000,9,   -999.0,9,   -999.0,9,-999.0000,9,  -999.00, -999.000,9,  -999.00,9,  -999.00,9,  28.1854,2,  22.1580,2,  28.2133,2
49UP20220824_1,    P9,    40,  1,     33,     322,2,20220904,0441,0657, 10.4857, 136.9947, 5017,    100.6,      100,  27.8198,  34.7836,2,    203.3,2,  34.7802,2,   203.13,2,     1.10,2,     0.04,2,     0.00,2,    0.090,2, -999.000,9, -999.000,9,   -999.0,9,   -999.0,9,-999.0000,9,  -999.00, -999.000,9,  -999.00,9,  -999.00,9,  27.7962,2,  22.2983,2,  27.8380,2
49UP20220824_1,    P9,    40,  1,     32,     321,2,20220904,0441,0655, 10.4857, 136.9947, 5017,    125.5,      125,  26.0754,  34.8413,2,    193.6,2,  34.8387,2,   193.62,2,     1.22,2,     0.00,2,     0.00,2,    0.100,2, -999.000,9, -999.000,9,   -999.0,9,   -999.0,9,-999.0000,9,  -999.00, -999.000,9,  -999.00,9,  -999.00,9,  26.0473,2,  22.8988,2,  26.0864,2
49UP20220824_1,    P9,    40,  1,     31,     320,2,20220904,0441,0654, 10.4857, 136.9947, 5017,    150.8,      150,  23.8689,  34.8684,2,    182.8,2,  34.8654,2,   182.95,6,     1.69,6,     0.67,6,     0.18,6,    0.190,6, -999.000,9, -999.000,9,   -999.0,9,   -999.0,9,-999.0000,9,  -999.00, -999.000,9,  -999.00,9,  -999.00,9,  23.8373,2,  23.5898,2,  23.8773,2
49UP20220824_1,    P9,    40,  1,     30,     319,2,20220904,0441,0652, 10.4857, 136.9947, 5017,    201.9,      201,  18.3650,  34.6707,2,    151.9,2,  34.6694,2,   152.29,2,     7.72,2,     8.59,2,     0.02,2,    0.730,2, -999.000,9, -999.000,9,   -999.0,9,   -999.0,9,-999.0000,9,  -999.00, -999.000,9,  -999.00,9,  -999.00,9,  18.3299,2,  24.9382,2,  18.3652,2
49UP20220824_1,    P9,    40,  1,     29,     318,2,20220904,0441,0650, 10.4857, 136.9947, 5017,    251.4,      250,  12.8388,  34.4501,2,    130.4,2,  34.4502,2,   129.57,2,    20.51,2,    18.59,2,     0.00,2,    1.390,2, -999.000,9, -999.000,9,   -999.0,9,   -999.0,9,-999.0000,9,  -999.00, -999.000,9,  -999.00,9,  -999.00,9,  12.8046,2,  26.0058,2,  12.8392,2
49UP20220824_1,    P9,    40,  1,     28,     755,2,20220904,0441,0648, 10.4857, 136.9947, 5017,    282.1,      280,  11.0404,  34.4165,2,    110.9,2,  34.4173,2,   110.31,2,    28.18,2,    23.77,2,     0.00,2,    1.740,2, -999.000,9, -999.000,9,   -999.0,9,   -999.0,9,-999.0000,9,  -999.00, -999.000,9,  -999.00,9,  -999.00,9,  11.0056,2,  26.3201,2,  11.0378,2
49UP20220824_1,    P9,    40,  1,     27,     317,2,20220904,0441,0646, 10.4857, 136.9947, 5017,    324.8,      323,   9.3628,  34.4281,2,     89.2,2,  34.4274,2,    88.88,2,    37.90,2,    29.09,2,     0.00,2,    2.100,2, -999.000,9, -999.000,9,   -999.0,9,   -999.0,9,-999.0000,9,  -999.00, -999.000,9,  -999.00,9,  -999.00,9,   9.3266,2,  26.6176,2,   9.3659,2
49UP20220824_1,    P9,    40,  1,     26,     316,2,20220904,0441,0644, 10.4857, 136.9947, 5017,    372.9,      370,   8.3366,  34.4468,2,     84.1,2,  34.4464,2,    83.65,2,    44.93,2,    31.64,2,     0.00,2,    2.270,2, -999.000,9, -999.000,9,   -999.0,9,   -999.0,9,-999.0000,9,  -999.00, -999.000,9,  -999.00,9,  -999.00,9,   8.2978,2,  26.7945,2,   8.3370,2
49UP20220824_1,    P9,    40,  1,     25,     315,2,20220904,0441,0642, 10.4857, 136.9947, 5017,    425.0,      422,   7.4740,  34.4430,2,     86.1,2,  34.4412,2,    85.43,2,    51.82,2,    33.12,2,     0.00,2,    2.370,2, -999.000,9, -999.000,9,   -999.0,9,   -999.0,9,-999.0000,9,  -999.00, -999.000,9,  -999.00,9,  -999.00,9,   7.4324,2,  26.9192,2,   7.4749,2
49UP20220824_1,    P9,    40,  1,     24,     753,2,20220904,0441,0639, 10.4857, 136.9947, 5017,    476.3,      473,   7.0570,  34.4637,2,     90.2,2,  34.4635,2,    90.22,2,    54.30,2,    33.69,2,     0.00,2,    2.410,2, -999.000,9, -999.000,9,   -999.0,9,   -999.0,9,-999.0000,9,  -999.00, -999.000,9,  -999.00,9,  -999.00,9,   7.0117,2,  26.9947,2,   7.0578,2
49UP20220824_1,    P9,    40,  1,     23,     314,2,20220904,0441,0636, 10.4857, 136.9947, 5017,    574.9,      571,   6.5130,  34.4937,2,     94.7,2,  34.4938,2,    94.27,2,    57.89,2,    34.61,2,     0.00,2,    2.470,2, -999.000,9, -999.000,9,   -999.0,9,   -999.0,9,-999.0000,9,  -999.00, -999.000,9,  -999.00,9,  -999.00,9,   6.4603,2,  27.0929,2,   6.5126,2
49UP20220824_1,    P9,    40,  1,     22,     313,2,20220904,0441,0633, 10.4857, 136.9947, 5017,    675.1,      670,   6.0908,  34.5150,2,     96.1,2,  34.5148,6,    96.00,6,    62.08,6,    35.43,6,     0.00,6,    2.530,6, -999.000,9, -999.000,9,   -999.0,9,   -999.0,9,-999.0000,9,  -999.00, -999.000,9,  -999.00,9,  -999.00,9,   6.0305,2,  27.1655,2,   6.0907,2
49UP20220824_1,    P9,    40,  1,     21,     312,2,20220904,0441,0629, 10.4857, 136.9947, 5017,    777.6,      772,   5.5462,  34.5192,2,     86.9,2,  34.5195,2,    86.56,2,    73.28,2,    36.85,2,     0.00,2,    2.650,2, -999.000,9, -999.000,9,   -999.0,9,   -999.0,9,-999.0000,9,  -999.00, -999.000,9,  -999.00,9,  -999.00,9,   5.4794,2,  27.2374,2,   5.5454,2
49UP20220824_1,    P9,    40,  1,     20,     311,2,20220904,0441,0626, 10.4857, 136.9947, 5017,    876.4,      870,   5.0119,  34.5310,2,     84.2,2,  34.5303,2,    84.00,2,    83.69,2,    37.92,2,     0.00,2,    2.720,2, -999.000,9, -999.000,9,   -999.0,9,   -999.0,9,-999.0000,9,  -999.00, -999.000,9,  -999.00,9,  -999.00,9,   4.9395,2,  27.3104,2,   5.0114,2
49UP20220824_1,    P9,    40,  1,     19,     310,2,20220904,0441,0623, 10.4857, 136.9947, 5017,    978.2,      970,   4.6397,  34.5386,2,     84.0,2,  34.5382,2,    83.85,2,    91.44,2,    38.33,2,     0.00,2,    2.750,2, -999.000,9, -999.000,9,   -999.0,9,   -999.0,9,-999.0000,9,  -999.00, -999.000,9,  -999.00,9,  -999.00,9,   4.5610,2,  27.3591,2,   4.6392,2
49UP20220824_1,    P9,    40,  1,     18,     752,2,20220904,0441,0618, 10.4857, 136.9947, 5017,   1140.4,     1131,   4.0633,  34.5556,2,     86.4,2,  34.5555,2,    86.31,2,   103.02,2,    38.82,2,     0.00,2,    2.780,2, -999.000,9, -999.000,9,   -999.0,9,   -999.0,9,-999.0000,9,  -999.00, -999.000,9,  -999.00,9,  -999.00,9,   3.9752,2,  27.4352,2,   4.0632,2
49UP20220824_1,    P9,    40,  1,     17,     751,2,20220904,0441,0613, 10.4857, 136.9947, 5017,   1344.4,     1332,   3.4544,  34.5748,2,     91.9,2,  34.5743,2,    91.85,2,   115.30,2,    38.94,2,     0.00,2,    2.790,2, -999.000,9, -999.000,9,   -999.0,9,   -999.0,9,-999.0000,9,  -999.00, -999.000,9,  -999.00,9,  -999.00,9,   3.3547,2,  27.5124,2,   3.4542,2
49UP20220824_1,    P9,    40,  1,     16,     328,2,20220904,0441,0608, 10.4857, 136.9947, 5017,   1545.1,     1531,   2.8473,  34.5963,2,     99.2,2,  34.5958,2,    99.07,2,   128.02,2,    39.08,2,     0.00,2,    2.770,2, -999.000,9, -999.000,9,   -999.0,9,   -999.0,9,-999.0000,9,  -999.00, -999.000,9,  -999.00,9,  -999.00,9,   2.7375,2,  27.5865,2,   2.8470,2
49UP20220824_1,    P9,    40,  1,     15,     309,2,20220904,0441,0603, 10.4857, 136.9947, 5017,   1748.0,     1731,   2.5280,  34.6142,2,    106.1,2,  34.6141,2,   105.71,2,   133.72,2,    38.67,2,     0.00,2,    2.740,2, -999.000,9, -999.000,9,   -999.0,9,   -999.0,9,-999.0000,9,  -999.00, -999.000,9,  -999.00,9,  -999.00,9,   2.4052,2,  27.6294,2,   2.5276,2
49UP20220824_1,    P9,    40,  1,     14,     326,2,20220904,0441,0557, 10.4857, 136.9947, 5017,   1949.8,     1930,   2.2179,  34.6278,2,    112.0,2,  34.6277,2,   111.60,2,   140.06,2,    38.35,2,     0.00,2,    2.720,2, -999.000,9, -999.000,9,   -999.0,9,   -999.0,9,-999.0000,9,  -999.00, -999.000,9,  -999.00,9,  -999.00,9,   2.0824,2,  27.6669,2,   2.2177,2
49UP20220824_1,    P9,    40,  1,     13,     325,2,20220904,0441,0552, 10.4857, 136.9947, 5017,   2153.2,     2130,   2.0058,  34.6422,2,    120.6,2,  34.6421,6,   120.22,6,   142.15,6,    37.92,6,     0.00,6,    2.670,6, -999.000,9, -999.000,9,   -999.0,9,   -999.0,9,-999.0000,9,  -999.00, -999.000,9,  -999.00,9,  -999.00,9,   1.8562,2,  27.6963,2,   2.0056,2
49UP20220824_1,    P9,    40,  1,     12,     324,2,20220904,0441,0547, 10.4857, 136.9947, 5017,   2357.3,     2331,   1.8996,  34.6494,2,    126.1,2,  34.6485,2,   125.80,2,   142.89,2,    37.50,2,     0.00,2,    2.640,2, -999.000,9, -999.000,9,   -999.0,9,   -999.0,9,-999.0000,9,  -999.00, -999.000,9,  -999.00,9,  -999.00,9,   1.7339,2,  27.7114,2,   1.8994,2
49UP20220824_1,    P9,    40,  1,     11,     323,2,20220904,0441,0542, 10.4857, 136.9947, 5017,   2560.3,     2530,   1.7728,  34.6557,2,    129.0,2,  34.6556,2,   128.45,2,   146.47,2,    37.48,2,     0.00,2,    2.630,2, -999.000,9, -999.000,9,   -999.0,9,   -999.0,9,-999.0000,9,  -999.00, -999.000,9,  -999.00,9,  -999.00,9,   1.5913,2,  27.7271,2,   1.7727,2
49UP20220824_1,    P9,    40,  1,     10,     322,2,20220904,0441,0537, 10.4857, 136.9947, 5017,   2764.4,     2731,   1.6522,  34.6644,2,    136.9,2,  34.6638,2,   136.58,2,   145.92,2,    37.09,2,     0.00,2,    2.590,2, -999.000,9, -999.000,9,   -999.0,9,   -999.0,9,-999.0000,9,  -999.00, -999.000,9,  -999.00,9,  -999.00,9,   1.4544,2,  27.7442,2,   1.6522,2
49UP20220824_1,    P9,    40,  1,      9,     750,2,20220904,0441,0532, 10.4857, 136.9947, 5017,   2968.1,     2931,   1.6058,  34.6687,2,    141.3,2,  34.6685,2,   141.19,2,   145.29,2,    36.66,2,     0.00,2,    2.560,2, -999.000,9, -999.000,9,   -999.0,9,   -999.0,9,-999.0000,9,  -999.00, -999.000,9,  -999.00,9,  -999.00,9,   1.3897,2,  27.7523,2,   1.6057,2
49UP20220824_1,    P9,    40,  1,      8,     320,2,20220904,0441,0522, 10.4857, 136.9947, 5017,   3468.1,     3420,   1.5665,  34.6748,2,    148.2,2,  34.6747,6,   147.95,2,   143.57,2,    36.20,2,     0.00,2,    2.530,2, -999.000,9, -999.000,9,   -999.0,9,   -999.0,9,-999.0000,9,  -999.00, -999.000,9,  -999.00,9,  -999.00,9,   1.3020,2,  27.7633,2,   1.5666,2
49UP20220824_1,    P9,    40,  1,      7,     319,2,20220904,0441,0516, 10.4857, 136.9947, 5017,   3723.9,     3671,   1.5425,  34.6784,2,    152.1,2,  34.6781,2,   152.07,2,   142.70,2,    35.98,2,     0.00,2,    2.510,2, -999.000,9, -999.000,9,   -999.0,9,   -999.0,9,-999.0000,9,  -999.00, -999.000,9,  -999.00,9,  -999.00,9,   1.2520,2,  27.7698,2,   1.5424,2
49UP20220824_1,    P9,    40,  1,      6,     318,2,20220904,0441,0510, 10.4857, 136.9947, 5017,   3979.3,     3920,   1.5423,  34.6802,2,    154.3,2,  34.6798,2,   154.01,2,   142.12,2,    35.84,2,     0.00,2,    2.500,2, -999.000,9, -999.000,9,   -999.0,9,   -999.0,9,-999.0000,9,  -999.00, -999.000,9,  -999.00,9,  -999.00,9,   1.2245,2,  27.7731,2,   1.5422,2
49UP20220824_1,    P9,    40,  1,      5,     838,2,20220904,0441,0504, 10.4857, 136.9947, 5017,   4234.7,     4169,   1.5316,  34.6831,2,    157.7,2,  34.6827,2,   157.37,2,   141.16,2,    35.56,2,     0.00,2,    2.480,2, -999.000,9, -999.000,9,   -999.0,9,   -999.0,9,-999.0000,9,  -999.00, -999.000,9,  -999.00,9,  -999.00,9,   1.1859,2,  27.7782,2,   1.5316,2
49UP20220824_1,    P9,    40,  1,      4,     316,2,20220904,0441,0458, 10.4857, 136.9947, 5017,   4489.2,     4417,   1.5412,  34.6847,2,    159.5,2,  34.6846,6,   159.11,6,   140.56,6,    35.42,6,     0.00,6,    2.470,6, -999.000,9, -999.000,9,   -999.0,9,   -999.0,9,-999.0000,9,  -999.00, -999.000,9,  -999.00,9,  -999.00,9,   1.1662,2,  27.7807,2,   1.5412,2
49UP20220824_1,    P9,    40,  1,      3,     315,2,20220904,0441,0452, 10.4857, 136.9947, 5017,   4748.5,     4670,   1.5577,  34.6856,2,    160.7,2,  34.6857,2,   160.21,2,   140.10,2,    35.40,2,     0.00,2,    2.460,2, -999.000,9, -999.000,9,   -999.0,9,   -999.0,9,-999.0000,9,  -999.00, -999.000,9,  -999.00,9,  -999.00,9,   1.1518,2,  27.7825,2,   1.5576,2
49UP20220824_1,    P9,    40,  1,      2,     314,2,20220904,0441,0446, 10.4857, 136.9947, 5017,   5006.7,     4921,   1.5803,  34.6863,2,    161.7,2,  34.6860,2,   161.16,2,   139.91,2,    35.25,2,     0.00,2,    2.450,2, -999.000,9, -999.000,9,   -999.0,9,   -999.0,9,-999.0000,9,  -999.00, -999.000,9,  -999.00,9,  -999.00,9,   1.1426,2,  27.7837,2,   1.5802,2
49UP20220824_1,    P9,    40,  1,      1,     308,2,20220904,0441,0442, 10.4857, 136.9947, 5017,   5152.6,     5062,   1.5968,  34.6865,2,    162.0,2,  34.6861,2,   161.29,2,   139.67,2,    35.32,2,     0.00,2,    2.460,2, -999.000,9, -999.000,9,   -999.0,9,   -999.0,9,-999.0000,9,  -999.00, -999.000,9,  -999.00,9,  -999.00,9,   1.1405,2,  27.7839,2,   1.5967,2