BOTTLE,20230330JMAAMD
EXPOCODE,SECT_ID,STNNBR,CASTNO,SAMPNO,BTLNBR,BTLNBR_FLAG_U,DATE,TIME,BTL_TIME,LATITUDE,LONGITUDE,DEPTH,CTDPRS,CTDDEP,CTDTMP,CTDSAL,CTDSAL_FLAG_W,CTDOXY,CTDOXY_FLAG_W,SALNTY,SALNTY_FLAG_W,OXYGEN,OXYGEN_FLAG_W,SILCAT,SILCAT_FLAG_W,NO2+NO3,NO2+NO3_FLAG_W,NITRIT,NITRIT_FLAG_W,PHSPHT,PHSPHT_FLAG_W,CFC-11,CFC-11_FLAG_W,CFC-12,CFC-12_FLAG_W,TCARBN,TCARBN_FLAG_W,ALKALI,ALKALI_FLAG_W,PH_TS,PH_TS_FLAG_W,PH_TS_TMP,CFC113,CFC113_FLAG_W,CHLORA,CHLORA_FLAG_W,PPHYTN,PPHYTN_FLAG_W,THETA,THETA_FLAG_W,SIGTHT,SIGTHT_FLAG_W,SBE35,SBE35_FLAG_W
,,,,,,,,UTC,,,,METER,DBAR,METERS,ITS-90,PSS-78,,UMOL/KG,,PSS78,,UMOL/KG,,UMOL/KG,,UMOL/KG,,UMOL/KG,,UMOL/KG,,PMOL/KG,,PMOL/KG,,UMOL/KG,,UMOL/KG,,,,ITS-90,PMOL/KG,,UG/KG,,UG/KG,,ITS-90,,KG/M3,,ITS-90,
49UP20220727_1,    P9,    21,  1,      0,      -9,0,20220812,0011,0147,  3.0093, 137.0032, 4520,      0.0,        0,  30.1932,  34.8052,2,    193.3,2,  34.8012,2,   194.20,2,     1.15,2,     0.02,2,     0.00,2,    0.160,2, -999.000,9, -999.000,9,   1956.7,2,   2286.5,2,   8.1051,2,    25.00, -999.000,9,     0.14,2,     0.03,2,  30.1926,2,  21.5143,2,-999.0000,9
49UP20220727_1,    P9,    21,  1,     36,     757,2,20220812,0011,0223,  3.0093, 137.0032, 4520,     11.8,       12,  30.2026,  34.8044,2,    193.5,2,  34.8073,2,   193.89,6,     1.15,6,     0.01,6,     0.00,6,    0.150,6, -999.000,9, -999.000,9,   1957.2,2,   2283.2,2,   8.1046,2,    25.00, -999.000,9,     0.12,2,     0.05,2,  30.1997,2,  21.5112,2,  30.2035,2
49UP20220727_1,    P9,    21,  1,     35,     756,2,20220812,0011,0222,  3.0093, 137.0032, 4520,     26.9,       27,  30.2047,  34.8082,2,    193.6,2,  34.8081,2,   194.21,2,     1.11,2,     0.01,2,     0.00,2,    0.150,2, -999.000,9, -999.000,9,   1957.8,2,   2284.3,2,   8.1038,2,    25.00, -999.000,9,     0.13,2,     0.04,2,  30.1980,2,  21.5147,2,  30.2050,2
49UP20220727_1,    P9,    21,  1,     34,     323,2,20220812,0011,0218,  3.0093, 137.0032, 4520,     52.0,       52,  30.1118,  34.8633,2,    194.2,2,  34.8653,2,   194.44,2,     1.18,2,     0.02,2,     0.00,2,    0.160,2, -999.000,9, -999.000,9,   1963.3,6,   2291.9,2,   8.0992,2,    25.00, -999.000,9,     0.19,2,     0.07,2,  30.0989,2,  21.5899,2,  30.1108,2
49UP20220727_1,    P9,    21,  1,     33,     322,2,20220812,0011,0217,  3.0093, 137.0032, 4520,     76.8,       76,  29.8547,  35.1695,2,    192.6,2,  35.1542,2,   192.88,2,     1.19,2,     0.12,2,     0.04,2,    0.210,2, -999.000,9, -999.000,9,   1987.4,2,   2306.0,2,   8.0831,6,    25.00, -999.000,9,     0.39,2,     0.23,2,  29.8357,2,  21.9093,2,  29.8551,2
49UP20220727_1,    P9,    21,  1,     32,     321,2,20220812,0011,0215,  3.0093, 137.0032, 4520,    102.5,      102,  29.6306,  35.3323,2,    184.9,2,  35.3339,2,   184.75,2,     1.40,2,     1.67,2,     0.54,2,    0.320,2, -999.000,9, -999.000,9,   2008.0,2,   2316.3,2,   8.0637,2,    25.00, -999.000,9,     0.45,2,     0.54,2,  29.6054,2,  22.1097,2,  29.6307,2
49UP20220727_1,    P9,    21,  1,     31,     320,2,20220812,0011,0214,  3.0093, 137.0032, 4520,    128.3,      128,  29.1845,  35.3057,2,    169.6,2,  35.3065,2,   169.33,2,     1.69,2,     3.60,2,     0.07,2,    0.430,2, -999.000,9, -999.000,9,   2022.4,2,   2313.8,2,   8.0353,2,    25.00, -999.000,9,     0.16,2,     0.33,2,  29.1533,2,  22.2422,2,  29.1838,2
49UP20220727_1,    P9,    21,  1,     30,     319,2,20220812,0011,0212,  3.0093, 137.0032, 4520,    155.8,      155,  26.4517,  35.4306,2,    140.6,2,  35.3984,2,   141.90,2,     2.91,2,     7.83,2,     0.03,2,    0.670,2, -999.000,9, -999.000,9,   2068.8,2,   2318.6,2,   7.9601,2,    25.00, -999.000,9,     0.04,2,     0.09,2,  26.4164,2,  23.2275,2,  26.4442,2
49UP20220727_1,    P9,    21,  1,     29,     318,2,20220812,0011,0210,  3.0093, 137.0032, 4520,    205.6,      204,  19.5332,  35.0474,2,    138.3,2,  35.0482,2,   138.60,6,     8.98,6,    11.40,6,     0.01,6,    0.880,6, -999.000,9, -999.000,9,   2108.5,2,   2299.5,2,   7.8539,2,    25.00, -999.000,9,     0.01,2,     0.02,2,  19.4958,2,  24.9298,2,  19.5366,2
49UP20220727_1,    P9,    21,  1,     28,     755,2,20220812,0011,0208,  3.0093, 137.0032, 4520,    250.6,      249,  15.7911,  34.8735,2,    136.1,2,  34.8447,2,   136.59,2,    17.45,2,    16.26,2,     0.01,2,    1.200,2, -999.000,9, -999.000,9,   2138.6,2,   2296.3,2,   7.7780,2,    25.00, -999.000,9,  -999.00,9,  -999.00,9,  15.7517,2,  25.7068,2,  15.7583,2
49UP20220727_1,    P9,    21,  1,     27,     317,2,20220812,0011,0207,  3.0093, 137.0032, 4520,    282.6,      281,  10.9967,  34.4243,2,    116.4,2,  34.4256,2,   115.93,2,    28.93,2,    23.56,2,     0.00,2,    1.700,2, -999.000,9, -999.000,9,   2180.8,2,   2280.2,2,   7.6342,2,    25.00, -999.000,9,  -999.00,9,  -999.00,9,  10.9620,2,  26.3341,2,  10.9963,2
49UP20220727_1,    P9,    21,  1,     26,     316,2,20220812,0011,0205,  3.0093, 137.0032, 4520,    322.9,      321,   9.7133,  34.5340,2,     76.2,2,  34.5355,2,    76.17,2,    35.22,2,    30.30,2,     0.00,2,    2.160,2, -999.000,9, -999.000,9,   2225.0,2,   2293.4,2,   7.5447,2,    25.00, -999.000,9,  -999.00,9,  -999.00,9,   9.6764,2,  26.6426,2,   9.7177,2
49UP20220727_1,    P9,    21,  1,     25,     315,2,20220812,0011,0203,  3.0093, 137.0032, 4520,    373.3,      371,   8.6261,  34.5616,2,     82.7,2,  34.5623,2,    83.51,2,    38.47,2,    32.00,2,     0.00,2,    2.260,2, -999.000,9, -999.000,9,   2234.1,2,   2298.3,2,   7.5366,2,    25.00, -999.000,9,  -999.00,9,  -999.00,9,   8.5864,2,  26.8401,2,   8.6311,2
49UP20220727_1,    P9,    21,  1,     24,     753,2,20220812,0011,0201,  3.0093, 137.0032, 4520,    424.7,      422,   8.1527,  34.5652,2,     99.3,2,  34.5658,2,    99.68,2,    37.97,2,    31.58,2,     0.00,2,    2.220,2, -999.000,9, -999.000,9,   2228.0,2,   2299.8,2,   7.5586,2,    25.00, -999.000,9,  -999.00,9,  -999.00,9,   8.1089,2,  26.9160,2,   8.1528,2
49UP20220727_1,    P9,    21,  1,     23,     314,2,20220812,0011,0159,  3.0093, 137.0032, 4520,    474.9,      472,   7.7338,  34.5632,2,    126.6,2,  34.5625,6,   127.01,2,    34.56,2,    30.16,2,     0.00,2,    2.110,2, -999.000,9, -999.000,9,   2215.1,2,   2300.0,2,   7.5955,2,    25.00, -999.000,9,  -999.00,9,  -999.00,9,   7.6861,2,  26.9771,2,   7.7339,2
49UP20220727_1,    P9,    21,  1,     22,     313,2,20220812,0011,0156,  3.0093, 137.0032, 4520,    575.6,      572,   7.1811,  34.5403,2,    108.1,2,  34.5423,2,   104.77,2,    43.70,2,    33.08,2,     0.00,2,    2.330,2, -999.000,9, -999.000,9,   2238.4,2,   2308.0,2,   7.5507,2,    25.00, -999.000,9,  -999.00,9,  -999.00,9,   7.1253,2,  27.0392,2,   7.1816,2
49UP20220727_1,    P9,    21,  1,     21,     312,2,20220812,0011,0153,  3.0093, 137.0032, 4520,    676.8,      672,   6.3148,  34.5290,2,     97.6,2,  34.5290,2,    97.70,2,    55.61,2,    35.29,2,     0.00,2,    2.500,2, -999.000,9, -999.000,9,   2255.4,2,   2319.1,2,   7.5262,2,    25.00, -999.000,9,  -999.00,9,  -999.00,9,   6.2532,2,  27.1479,2,   6.3146,2
49UP20220727_1,    P9,    21,  1,     20,     311,2,20220812,0011,0150,  3.0093, 137.0032, 4520,    777.7,      772,   5.5030,  34.5325,2,     98.0,2,  34.5321,2,    97.95,2,    67.03,2,    36.61,2,     0.00,2,    2.600,2, -999.000,9, -999.000,9,   2269.8,2,   2329.4,2,   7.5181,2,    25.00, -999.000,9,  -999.00,9,  -999.00,9,   5.4365,2,  27.2531,2,   5.5031,2
49UP20220727_1,    P9,    21,  1,     19,     310,2,20220812,0011,0146,  3.0093, 137.0032, 4520,    879.6,      873,   5.0487,  34.5414,2,     89.3,2,  34.5413,2,    89.47,2,    76.66,2,    38.11,2,     0.00,2,    2.710,2, -999.000,9, -999.000,9,   2285.0,2,   2339.6,2,   7.4989,2,    25.00, -999.000,9,  -999.00,9,  -999.00,9,   4.9758,2,  27.3144,2,   5.0488,2
49UP20220727_1,    P9,    21,  1,     18,     752,2,20220812,0011,0143,  3.0093, 137.0032, 4520,    979.9,      972,   4.6472,  34.5495,2,     90.9,2,  34.5494,2,    90.80,2,    85.10,2,    38.34,2,     0.00,2,    2.730,2, -999.000,9, -999.000,9,   2294.4,2,   2350.1,2,   7.5009,2,    25.00, -999.000,9,  -999.00,9,  -999.00,9,   4.5683,2,  27.3669,2,   4.6471,2
49UP20220727_1,    P9,    21,  1,     17,     751,2,20220812,0011,0139,  3.0093, 137.0032, 4520,   1140.9,     1132,   3.8591,  34.5699,2,     99.5,2,  34.5704,2,    99.26,6,   100.66,6,    38.27,6,     0.00,6,    2.720,6, -999.000,9, -999.000,9,   2306.5,2,   2366.2,2,   7.5097,2,    25.00, -999.000,9,  -999.00,9,  -999.00,9,   3.7726,2,  27.4673,2,   3.8589,2
49UP20220727_1,    P9,    21,  1,     16,     328,2,20220812,0011,0133,  3.0093, 137.0032, 4520,   1343.8,     1332,   3.3223,  34.5869,2,     97.9,2,  34.5869,2,    97.65,2,   114.44,2,    38.83,2,     0.00,2,    2.760,2, -999.000,9, -999.000,9,   2323.5,2,   2379.5,2,   7.5040,2,    25.00, -999.000,9,  -999.00,9,  -999.00,9,   3.2239,2,  27.5345,2,   3.3221,2
49UP20220727_1,    P9,    21,  1,     15,     309,2,20220812,0011,0128,  3.0093, 137.0032, 4520,   1545.3,     1531,   2.9091,  34.6024,2,    105.4,2,  34.6029,2,   105.41,2,   122.77,2,    38.57,2,     0.00,2,    2.730,2, -999.000,9, -999.000,9,   2327.0,2,   2387.8,2,   7.5138,2,    25.00, -999.000,9,  -999.00,9,  -999.00,9,   2.7985,2,  27.5859,2,   2.9097,2
49UP20220727_1,    P9,    21,  1,     14,     326,2,20220812,0011,0123,  3.0093, 137.0032, 4520,   1747.8,     1731,   2.5629,  34.6175,2,    109.6,2,  34.6178,2,   109.43,2,   130.21,2,    38.51,2,     0.00,2,    2.720,2, -999.000,9, -999.000,9,   2332.7,2,   2396.6,2,   7.5222,2,    25.00, -999.000,9,  -999.00,9,  -999.00,9,   2.4396,2,  27.6292,2,   2.5629,2
49UP20220727_1,    P9,    21,  1,     13,     325,2,20220812,0011,0118,  3.0093, 137.0032, 4520,   1951.1,     1931,   2.2196,  34.6346,2,    115.4,2,  34.6351,6,   115.38,2,   137.68,2,    38.26,2,     0.00,2,    2.690,2, -999.000,9, -999.000,9,   2336.5,2,   2404.8,2,   7.5308,2,    25.00, -999.000,9,  -999.00,9,  -999.00,9,   2.0840,2,  27.6722,2,   2.2197,2
49UP20220727_1,    P9,    21,  1,     12,     324,2,20220812,0011,0113,  3.0093, 137.0032, 4520,   2154.9,     2132,   2.0370,  34.6445,2,    120.1,2,  34.6454,2,   120.01,2,   141.17,2,    38.03,2,     0.00,2,    2.670,2, -999.000,9, -999.000,9,   2338.6,2,   2409.1,2,   7.5374,2,    25.00, -999.000,9,  -999.00,9,  -999.00,9,   1.8867,2,  27.6957,2,   2.0368,2
49UP20220727_1,    P9,    21,  1,     11,     323,2,20220812,0011,0108,  3.0093, 137.0032, 4520,   2357.1,     2331,   1.8869,  34.6529,2,    125.6,2,  34.6538,2,   125.48,2,   143.41,2,    37.75,2,     0.00,2,    2.640,2, -999.000,9, -999.000,9,   2336.7,2,   2410.7,2,   7.5460,2,    25.00, -999.000,9,  -999.00,9,  -999.00,9,   1.7215,2,  27.7152,2,   1.8868,2
49UP20220727_1,    P9,    21,  1,     10,     322,2,20220812,0011,0103,  3.0093, 137.0032, 4520,   2562.0,     2532,   1.7815,  34.6580,2,    132.2,2,  34.6582,2,   132.24,2,   143.59,2,    37.28,2,     0.00,2,    2.600,2, -999.000,9, -999.000,9,   2334.4,6,   2410.1,6,   7.5549,2,    25.00, -999.000,9,  -999.00,9,  -999.00,9,   1.5997,2,  27.7284,2,   1.7814,2
49UP20220727_1,    P9,    21,  1,      9,     750,2,20220812,0011,0058,  3.0093, 137.0032, 4520,   2764.0,     2731,   1.6617,  34.6652,2,    138.6,2,  34.6657,2,   138.55,2,   144.39,2,    36.85,2,     0.00,2,    2.570,2, -999.000,9, -999.000,9,   2331.9,2,   2412.3,2,   7.5633,6,    25.00, -999.000,9,  -999.00,9,  -999.00,9,   1.4637,2,  27.7441,2,   1.6615,2
49UP20220727_1,    P9,    21,  1,      8,     320,2,20220812,0011,0052,  3.0093, 137.0032, 4520,   2969.6,     2933,   1.6004,  34.6698,2,    142.7,2,  34.6697,2,   142.81,6,   144.44,6,    36.58,6,     0.00,6,    2.540,6, -999.000,9, -999.000,9,   2329.7,2,   2410.3,2,   7.5706,2,    25.00, -999.000,9,  -999.00,9,  -999.00,9,   1.3843,2,  27.7536,2,   1.6004,2
49UP20220727_1,    P9,    21,  1,      7,     319,2,20220812,0011,0045,  3.0093, 137.0032, 4520,   3213.0,     3171,   1.5654,  34.6734,2,    145.9,2,  34.6736,6,   145.86,2,   144.35,2,    36.39,2,     0.00,2,    2.530,2, -999.000,9, -999.000,9,   2329.9,2,   2412.5,2,   7.5772,2,    25.00, -999.000,9,  -999.00,9,  -999.00,9,   1.3265,2,  27.7605,2,   1.5653,2
49UP20220727_1,    P9,    21,  1,      6,     318,2,20220812,0011,0038,  3.0093, 137.0032, 4520,   3467.6,     3420,   1.5559,  34.6759,2,    147.8,2,  34.6757,2,   148.02,2,   144.13,2,    36.18,2,     0.00,2,    2.510,2, -999.000,9, -999.000,9,   2327.6,6,   2412.7,6,   7.5808,2,    25.00, -999.000,9,  -999.00,9,  -999.00,9,   1.2917,2,  27.7650,2,   1.5559,2
49UP20220727_1,    P9,    21,  1,      5,     838,2,20220812,0011,0032,  3.0093, 137.0032, 4520,   3724.4,     3672,   1.5497,  34.6785,2,    149.6,2,  34.6792,2,   149.58,2,   144.06,2,    36.12,2,     0.00,2,    2.500,2, -999.000,9, -999.000,9,   2327.8,2,   2415.1,2,   7.5838,6,    25.00, -999.000,9,  -999.00,9,  -999.00,9,   1.2590,2,  27.7694,2,   1.5498,2
49UP20220727_1,    P9,    21,  1,      3,     315,2,20220812,0011,0025,  3.0093, 137.0032, 4520,   3980.3,     3922,   1.5341,  34.6821,2,    152.5,2,  34.6821,2,   153.05,2,   143.97,2,    36.00,2,     0.00,2,    2.490,2, -999.000,9, -999.000,9,   2327.9,2,   2414.4,2,   7.5904,2,    25.00, -999.000,9,  -999.00,9,  -999.00,9,   1.2164,2,  27.7752,2,   1.5342,2
49UP20220727_1,    P9,    21,  1,      4,     316,2,20220812,0011,0025,  3.0093, 137.0032, 4520,   3980.6,     3922,   1.5342,  34.6820,2,    152.5,2,  34.6822,2,   152.54,2,   143.83,2,    36.00,2,     0.00,2,    2.490,2, -999.000,9, -999.000,9,   2326.2,2,   2414.3,2,   7.5914,2,    25.00, -999.000,9,  -999.00,9,  -999.00,9,   1.2165,2,  27.7751,2,   1.5343,2
49UP20220727_1,    P9,    21,  1,      2,     314,2,20220812,0011,0019,  3.0093, 137.0032, 4520,   4237.8,     4173,   1.5194,  34.6855,2,    155.7,2,  34.6855,6,   156.15,2,   143.36,2,    35.78,2,     0.00,2,    2.470,2, -999.000,9, -999.000,9,   2324.2,2,   2415.5,2,   7.5937,2,    25.00, -999.000,9,  -999.00,9,  -999.00,9,   1.1737,2,  27.7809,2,   1.5194,2
49UP20220727_1,    P9,    21,  1,      1,     308,2,20220812,0011,0011,  3.0093, 137.0032, 4520,   4584.1,     4510,   1.5413,  34.6866,2,    158.2,2,  34.6867,2,   158.16,2,   142.34,2,    35.62,2,     0.00,2,    2.460,2, -999.000,9, -999.000,9,   2321.4,2,   2410.8,2,   7.5951,2,    25.00, -999.000,9,  -999.00,9,  -999.00,9,   1.1552,2,  27.7830,2,   1.5410,2