BOTTLE,20230330JMAAMD
EXPOCODE,SECT_ID,STNNBR,CASTNO,SAMPNO,BTLNBR,BTLNBR_FLAG_U,DATE,TIME,BTL_TIME,LATITUDE,LONGITUDE,DEPTH,CTDPRS,CTDDEP,CTDTMP,CTDSAL,CTDSAL_FLAG_W,CTDOXY,CTDOXY_FLAG_W,SALNTY,SALNTY_FLAG_W,OXYGEN,OXYGEN_FLAG_W,SILCAT,SILCAT_FLAG_W,NO2+NO3,NO2+NO3_FLAG_W,NITRIT,NITRIT_FLAG_W,PHSPHT,PHSPHT_FLAG_W,CFC-11,CFC-11_FLAG_W,CFC-12,CFC-12_FLAG_W,TCARBN,TCARBN_FLAG_W,ALKALI,ALKALI_FLAG_W,PH_TS,PH_TS_FLAG_W,PH_TS_TMP,CFC113,CFC113_FLAG_W,CHLORA,CHLORA_FLAG_W,PPHYTN,PPHYTN_FLAG_W,THETA,THETA_FLAG_W,SIGTHT,SIGTHT_FLAG_W,SBE35,SBE35_FLAG_W
,,,,,,,,UTC,,,,METER,DBAR,METERS,ITS-90,PSS-78,,UMOL/KG,,PSS78,,UMOL/KG,,UMOL/KG,,UMOL/KG,,UMOL/KG,,UMOL/KG,,PMOL/KG,,PMOL/KG,,UMOL/KG,,UMOL/KG,,,,ITS-90,PMOL/KG,,UG/KG,,UG/KG,,ITS-90,,KG/M3,,ITS-90,
49UP20220727_1,    P9,    22,  1,      0,      -9,0,20220812,0830,1008,  3.5088, 137.0160, 4442,      0.0,        0,  29.9801,  34.6243,2,    195.2,2,-999.0000,9,   195.80,2,     1.26,2,     0.00,2,     0.00,2,    0.150,2, -999.000,9, -999.000,9,   -999.0,9,   -999.0,9,-999.0000,9,  -999.00, -999.000,9,  -999.00,9,  -999.00,9,  29.9795,2,  21.4515,2,-999.0000,9
49UP20220727_1,    P9,    22,  1,     36,     757,2,20220812,0830,1030,  3.5088, 137.0160, 4442,     10.9,       11,  30.0073,  34.6248,2,    195.2,2,  34.6253,2,   196.21,2,     1.24,2,     0.00,2,     0.00,2,    0.120,2, -999.000,9, -999.000,9,   -999.0,9,   -999.0,9,-999.0000,9,  -999.00, -999.000,9,  -999.00,9,  -999.00,9,  30.0046,2,  21.4433,2,  30.0003,2
49UP20220727_1,    P9,    22,  1,     35,     756,2,20220812,0830,1029,  3.5088, 137.0160, 4442,     24.8,       25,  30.0218,  34.6581,2,    195.3,2,  34.6659,2,   195.98,6,     1.26,6,     0.00,6,     0.00,6,    0.130,6, -999.000,9, -999.000,9,   -999.0,9,   -999.0,9,-999.0000,9,  -999.00, -999.000,9,  -999.00,9,  -999.00,9,  30.0156,2,  21.4646,2,  30.0298,2
49UP20220727_1,    P9,    22,  1,     34,     323,2,20220812,0830,1024,  3.5088, 137.0160, 4442,     50.8,       51,  30.1346,  34.8415,2,    195.3,2,  34.8460,2,   195.20,2,     1.32,2,     0.03,2,     0.00,2,    0.170,2, -999.000,9, -999.000,9,   -999.0,9,   -999.0,9,-999.0000,9,  -999.00, -999.000,9,  -999.00,9,  -999.00,9,  30.1219,2,  21.5657,2,  30.1349,2
49UP20220727_1,    P9,    22,  1,     33,     322,2,20220812,0830,1023,  3.5088, 137.0160, 4442,     76.2,       76,  29.9350,  35.1389,2,    194.3,2,  35.1401,2,   194.07,2,     1.28,2,     0.02,2,     0.01,2,    0.210,2, -999.000,9, -999.000,9,   -999.0,9,   -999.0,9,-999.0000,9,  -999.00, -999.000,9,  -999.00,9,  -999.00,9,  29.9161,2,  21.8589,2,  29.9340,2
49UP20220727_1,    P9,    22,  1,     32,     321,2,20220812,0830,1022,  3.5088, 137.0160, 4442,    103.5,      103,  29.6638,  35.3326,2,    186.9,2,  35.3324,2,   186.44,2,     1.41,2,     1.44,2,     0.73,2,    0.300,2, -999.000,9, -999.000,9,   -999.0,9,   -999.0,9,-999.0000,9,  -999.00, -999.000,9,  -999.00,9,  -999.00,9,  29.6383,2,  22.0987,2,  29.6670,2
49UP20220727_1,    P9,    22,  1,     31,     320,2,20220812,0830,1021,  3.5088, 137.0160, 4442,    128.2,      127,  29.3367,  35.3724,2,    176.1,2,  35.3750,2,   176.15,2,     1.66,2,     3.09,2,     0.46,2,    0.410,2, -999.000,9, -999.000,9,   -999.0,9,   -999.0,9,-999.0000,9,  -999.00, -999.000,9,  -999.00,9,  -999.00,9,  29.3054,2,  22.2412,2,  29.3361,2
49UP20220727_1,    P9,    22,  1,     30,     319,2,20220812,0830,1020,  3.5088, 137.0160, 4442,    151.5,      151,  28.0741,  35.2539,2,    154.3,2,  35.3045,2,   152.00,6,     2.56,6,     6.30,6,     0.05,6,    0.590,6, -999.000,9, -999.000,9,   -999.0,9,   -999.0,9,-999.0000,9,  -999.00, -999.000,9,  -999.00,9,  -999.00,9,  28.0383,2,  22.5731,2,  28.0896,2
49UP20220727_1,    P9,    22,  1,     29,     318,2,20220812,0830,1018,  3.5088, 137.0160, 4442,    203.1,      202,  19.1725,  34.7690,2,    140.5,2,  34.7742,2,   140.31,2,    12.41,2,    11.61,2,     0.01,2,    0.880,2, -999.000,9, -999.000,9,   -999.0,9,   -999.0,9,-999.0000,9,  -999.00, -999.000,9,  -999.00,9,  -999.00,9,  19.1361,2,  24.8099,2,  19.1663,2
49UP20220727_1,    P9,    22,  1,     28,     755,2,20220812,0830,1016,  3.5088, 137.0160, 4442,    253.3,      252,  13.0053,  34.4713,2,    128.0,2,  34.4742,2,   128.03,2,    21.15,2,    19.02,2,     0.01,2,    1.400,2, -999.000,9, -999.000,9,   -999.0,9,   -999.0,9,-999.0000,9,  -999.00, -999.000,9,  -999.00,9,  -999.00,9,  12.9705,2,  25.9891,2,  12.9559,2
49UP20220727_1,    P9,    22,  1,     27,     317,2,20220812,0830,1014,  3.5088, 137.0160, 4442,    303.8,      302,   9.3419,  34.5300,2,     84.3,2,  34.5328,2,    83.92,2,    36.76,2,    30.24,2,     0.00,2,    2.160,2, -999.000,9, -999.000,9,   -999.0,9,   -999.0,9,-999.0000,9,  -999.00, -999.000,9,  -999.00,9,  -999.00,9,   9.3081,2,  26.7003,2,   9.3381,2
49UP20220727_1,    P9,    22,  1,     26,     316,2,20220812,0830,1012,  3.5088, 137.0160, 4442,    354.0,      352,   8.2337,  34.5556,2,     97.3,2,  34.5568,2,    98.32,2,    38.71,2,    31.36,2,     0.00,2,    2.220,2, -999.000,9, -999.000,9,   -999.0,9,   -999.0,9,-999.0000,9,  -999.00, -999.000,9,  -999.00,9,  -999.00,9,   8.1971,2,  26.8952,2,   8.2335,2
49UP20220727_1,    P9,    22,  1,     25,     315,2,20220812,0830,1010,  3.5088, 137.0160, 4442,    404.8,      402,   8.0069,  34.5777,2,    120.1,2,  34.5784,2,   119.99,2,    33.77,2,    30.09,2,     0.00,2,    2.120,2, -999.000,9, -999.000,9,   -999.0,9,   -999.0,9,-999.0000,9,  -999.00, -999.000,9,  -999.00,9,  -999.00,9,   7.9657,2,  26.9473,2,   8.0054,2
49UP20220727_1,    P9,    22,  1,     24,     753,2,20220812,0830,1008,  3.5088, 137.0160, 4442,    455.3,      452,   7.8366,  34.5690,2,    123.5,2,  34.5692,2,   123.38,2,    34.28,2,    30.15,2,     0.00,2,    2.130,2, -999.000,9, -999.000,9,   -999.0,9,   -999.0,9,-999.0000,9,  -999.00, -999.000,9,  -999.00,9,  -999.00,9,   7.7906,2,  26.9664,2,   7.8370,2
49UP20220727_1,    P9,    22,  1,     23,     314,2,20220812,0830,1006,  3.5088, 137.0160, 4442,    506.1,      503,   7.4377,  34.5497,2,    106.8,2,  34.5510,2,   100.73,2,    42.26,2,    32.86,2,     0.00,2,    2.330,2, -999.000,9, -999.000,9,   -999.0,9,   -999.0,9,-999.0000,9,  -999.00, -999.000,9,  -999.00,9,  -999.00,9,   7.3880,2,  27.0096,2,   7.4381,2
49UP20220727_1,    P9,    22,  1,     22,     313,2,20220812,0830,1003,  3.5088, 137.0160, 4442,    606.5,      602,   6.6445,  34.5318,2,     96.2,2,  34.5324,2,    96.71,2,    51.87,2,    34.69,2,     0.00,2,    2.470,2, -999.000,9, -999.000,9,   -999.0,9,   -999.0,9,-999.0000,9,  -999.00, -999.000,9,  -999.00,9,  -999.00,9,   6.5881,2,  27.1060,2,   6.6445,2
49UP20220727_1,    P9,    22,  1,     21,     312,2,20220812,0830,1000,  3.5088, 137.0160, 4442,    708.7,      704,   5.9359,  34.5286,2,    100.8,2,  34.5288,2,   100.67,2,    59.61,2,    35.62,2,     0.00,2,    2.540,2, -999.000,9, -999.000,9,   -999.0,9,   -999.0,9,-999.0000,9,  -999.00, -999.000,9,  -999.00,9,  -999.00,9,   5.8733,2,  27.1962,2,   5.9355,2
49UP20220727_1,    P9,    22,  1,     20,     311,2,20220812,0830,0957,  3.5088, 137.0160, 4442,    814.9,      809,   5.3460,  34.5359,2,     93.7,2,  34.5353,2,    94.08,2,    70.81,2,    37.06,2,     0.00,2,    2.650,2, -999.000,9, -999.000,9,   -999.0,9,   -999.0,9,-999.0000,9,  -999.00, -999.000,9,  -999.00,9,  -999.00,9,   5.2771,2,  27.2749,2,   5.3467,2
49UP20220727_1,    P9,    22,  1,     19,     310,2,20220812,0830,0953,  3.5088, 137.0160, 4442,    910.6,      904,   4.9853,  34.5422,2,     93.0,2,-999.0000,5,    94.21,2,    77.87,2,    37.68,2,     0.00,2,    2.690,2, -999.000,9, -999.000,9,   -999.0,9,   -999.0,9,-999.0000,9,  -999.00, -999.000,9,  -999.00,9,  -999.00,9,   4.9101,2,  27.3226,2,   4.9856,2
49UP20220727_1,    P9,    22,  1,     18,     752,2,20220812,0830,0951,  3.5088, 137.0160, 4442,   1007.0,      999,   4.6230,  34.5493,2,     91.1,2,  34.5494,6,    91.14,2,    87.77,2,    38.08,2,     0.00,2,    2.730,2, -999.000,9, -999.000,9,   -999.0,9,   -999.0,9,-999.0000,9,  -999.00, -999.000,9,  -999.00,9,  -999.00,9,   4.5419,2,  27.3696,2,   4.6228,2
49UP20220727_1,    P9,    22,  1,     17,     751,2,20220812,0830,0946,  3.5088, 137.0160, 4442,   1209.8,     1200,   3.7654,  34.5729,2,     95.6,2,  34.5734,2,    95.75,2,   104.95,2,    38.57,2,     0.00,2,    2.760,2, -999.000,9, -999.000,9,   -999.0,9,   -999.0,9,-999.0000,9,  -999.00, -999.000,9,  -999.00,9,  -999.00,9,   3.6740,2,  27.4796,2,   3.7653,2
49UP20220727_1,    P9,    22,  1,     16,     328,2,20220812,0830,0942,  3.5088, 137.0160, 4442,   1411.3,     1399,   3.2325,  34.5901,2,     99.7,2,  34.5901,2,    99.89,6,   116.33,6,    38.70,6,     0.00,6,    2.770,6, -999.000,9, -999.000,9,   -999.0,9,   -999.0,9,-999.0000,9,  -999.00, -999.000,9,  -999.00,9,  -999.00,9,   3.1294,2,  27.5459,2,   3.2321,2
49UP20220727_1,    P9,    22,  1,     15,     309,2,20220812,0830,0937,  3.5088, 137.0160, 4442,   1615.1,     1600,   2.8004,  34.6074,2,    103.5,2,  34.6076,6,   103.32,2,   126.00,2,    38.79,2,     0.00,2,    2.770,2, -999.000,9, -999.000,9,   -999.0,9,   -999.0,9,-999.0000,9,  -999.00, -999.000,9,  -999.00,9,  -999.00,9,   2.6853,2,  27.6000,2,   2.8003,2
49UP20220727_1,    P9,    22,  1,     14,     326,2,20220812,0830,0932,  3.5088, 137.0160, 4442,   1821.0,     1803,   2.4192,  34.6247,2,    110.5,2,  34.6246,2,   110.17,2,   134.21,2,    38.45,2,     0.00,2,    2.730,2, -999.000,9, -999.000,9,   -999.0,9,   -999.0,9,-999.0000,9,  -999.00, -999.000,9,  -999.00,9,  -999.00,9,   2.2917,2,  27.6474,2,   2.4189,2
49UP20220727_1,    P9,    22,  1,     13,     325,2,20220812,0830,0927,  3.5088, 137.0160, 4442,   2024.3,     2003,   2.2187,  34.6350,2,    114.9,2,  34.6354,2,   114.83,3,   138.40,2,    38.25,2,     0.00,2,    2.710,2, -999.000,9, -999.000,9,   -999.0,9,   -999.0,9,-999.0000,9,  -999.00, -999.000,9,  -999.00,9,  -999.00,9,   2.0769,2,  27.6731,2,   2.2186,2
49UP20220727_1,    P9,    22,  1,     12,     324,3,20220812,0830,0922,  3.5088, 137.0160, 4442,   2228.8,     2205,   1.9789,  34.6477,2,    122.2,2,  34.6486,2,   121.97,2,   142.12,2,    37.86,2,     0.00,2,    2.670,2, -999.000,9, -999.000,9,   -999.0,9,   -999.0,9,-999.0000,9,  -999.00, -999.000,9,  -999.00,9,  -999.00,9,   1.8232,2,  27.7032,2,   1.9790,2
49UP20220727_1,    P9,    22,  1,     11,     323,2,20220812,0830,0917,  3.5088, 137.0160, 4442,   2434.1,     2407,   1.8569,  34.6547,2,    127.3,2,  34.6548,2,   127.07,2,   144.11,2,    37.58,2,     0.00,2,    2.640,2, -999.000,9, -999.000,9,   -999.0,9,   -999.0,9,-999.0000,9,  -999.00, -999.000,9,  -999.00,9,  -999.00,9,   1.6852,2,  27.7193,2,   1.8568,2
49UP20220727_1,    P9,    22,  1,     10,     322,2,20220812,0830,0911,  3.5088, 137.0160, 4442,   2631.8,     2601,   1.7295,  34.6609,2,    134.9,2,  34.6612,6,   134.70,2,   144.32,2,    37.05,2,     0.00,2,    2.600,2, -999.000,9, -999.000,9,   -999.0,9,   -999.0,9,-999.0000,9,  -999.00, -999.000,9,  -999.00,9,  -999.00,9,   1.5423,2,  27.7349,2,   1.7295,2
49UP20220727_1,    P9,    22,  1,      9,     750,2,20220812,0830,0907,  3.5088, 137.0160, 4442,   2832.0,     2798,   1.6202,  34.6679,2,    141.1,2,  34.6681,2,   140.85,2,   144.67,2,    36.62,2,     0.00,2,    2.570,2, -999.000,9, -999.000,9,   -999.0,9,   -999.0,9,-999.0000,9,  -999.00, -999.000,9,  -999.00,9,  -999.00,9,   1.4167,2,  27.7497,2,   1.6202,2
49UP20220727_1,    P9,    22,  1,      8,     320,2,20220812,0830,0903,  3.5088, 137.0160, 4442,   3036.8,     2998,   1.5794,  34.6714,2,    144.2,2,  34.6715,2,   144.10,2,   144.57,2,    36.44,2,     0.00,2,    2.550,2, -999.000,9, -999.000,9,   -999.0,9,   -999.0,9,-999.0000,9,  -999.00, -999.000,9,  -999.00,9,  -999.00,9,   1.3573,2,  27.7567,2,   1.5793,2
49UP20220727_1,    P9,    22,  1,      7,     319,2,20220812,0830,0857,  3.5088, 137.0160, 4442,   3291.8,     3248,   1.5644,  34.6739,2,    146.4,2,  34.6737,2,   146.20,2,   144.51,2,    36.31,2,     0.00,2,    2.540,2, -999.000,9, -999.000,9,   -999.0,9,   -999.0,9,-999.0000,9,  -999.00, -999.000,9,  -999.00,9,  -999.00,9,   1.3177,2,  27.7616,2,   1.5644,2
49UP20220727_1,    P9,    22,  1,      6,     318,2,20220812,0830,0852,  3.5088, 137.0160, 4442,   3547.1,     3498,   1.5632,  34.6759,2,    147.9,2,  34.6763,2,   148.44,2,   144.40,2,    36.16,2,     0.00,2,    2.530,2, -999.000,9, -999.000,9,   -999.0,9,   -999.0,9,-999.0000,9,  -999.00, -999.000,9,  -999.00,9,  -999.00,9,   1.2907,2,  27.7651,2,   1.5632,2
49UP20220727_1,    P9,    22,  1,      5,     838,2,20220812,0830,0847,  3.5088, 137.0160, 4442,   3803.3,     3749,   1.5533,  34.6788,2,    150.0,2,  34.6793,2,   149.74,6,   143.96,6,    36.04,6,     0.00,6,    2.510,6, -999.000,9, -999.000,9,   -999.0,9,   -999.0,9,-999.0000,9,  -999.00, -999.000,9,  -999.00,9,  -999.00,9,   1.2542,2,  27.7699,2,   1.5533,2
49UP20220727_1,    P9,    22,  1,      4,     316,2,20220812,0830,0842,  3.5088, 137.0160, 4442,   4059.8,     3999,   1.5370,  34.6826,2,    152.9,2,  34.6827,2,   152.71,2,   143.94,2,    35.91,2,     0.00,2,    2.500,2, -999.000,9, -999.000,9,   -999.0,9,   -999.0,9,-999.0000,9,  -999.00, -999.000,9,  -999.00,9,  -999.00,9,   1.2105,2,  27.7761,2,   1.5370,2
49UP20220727_1,    P9,    22,  1,      3,     315,2,20220812,0830,0836,  3.5088, 137.0160, 4442,   4318.4,     4251,   1.5245,  34.6854,2,    156.5,2,  34.6859,2,   156.44,2,   142.63,2,    35.63,2,     0.00,2,    2.480,2, -999.000,9, -999.000,9,   -999.0,9,   -999.0,9,-999.0000,9,  -999.00, -999.000,9,  -999.00,9,  -999.00,9,   1.1696,2,  27.7811,2,   1.5244,2
49UP20220727_1,    P9,    22,  1,      2,     314,2,20220812,0830,0831,  3.5088, 137.0160, 4442,   4508.9,     4437,   1.5216,  34.6868,2,    159.5,2,  34.6874,2,   159.33,2,   141.72,2,    35.45,2,     0.00,2,    2.460,2, -999.000,9, -999.000,9,   -999.0,9,   -999.0,9,-999.0000,9,  -999.00, -999.000,9,  -999.00,9,  -999.00,9,   1.1449,2,  27.7839,2,   1.5215,2
49UP20220727_1,    P9,    22,  1,      1,     308,2,20220812,0830,0831,  3.5088, 137.0160, 4442,   4509.9,     4438,   1.5217,  34.6869,2,    159.5,2,  34.6871,6,   159.45,2,   141.59,2,    35.48,2,     0.00,2,    2.470,2, -999.000,9, -999.000,9,   -999.0,9,   -999.0,9,-999.0000,9,  -999.00, -999.000,9,  -999.00,9,  -999.00,9,   1.1449,2,  27.7840,2,   1.5214,2