BOTTLE,20230330JMAAMD
EXPOCODE,SECT_ID,STNNBR,CASTNO,SAMPNO,BTLNBR,BTLNBR_FLAG_U,DATE,TIME,BTL_TIME,LATITUDE,LONGITUDE,DEPTH,CTDPRS,CTDDEP,CTDTMP,CTDSAL,CTDSAL_FLAG_W,CTDOXY,CTDOXY_FLAG_W,SALNTY,SALNTY_FLAG_W,OXYGEN,OXYGEN_FLAG_W,SILCAT,SILCAT_FLAG_W,NO2+NO3,NO2+NO3_FLAG_W,NITRIT,NITRIT_FLAG_W,PHSPHT,PHSPHT_FLAG_W,CFC-11,CFC-11_FLAG_W,CFC-12,CFC-12_FLAG_W,TCARBN,TCARBN_FLAG_W,ALKALI,ALKALI_FLAG_W,PH_TS,PH_TS_FLAG_W,PH_TS_TMP,CFC113,CFC113_FLAG_W,CHLORA,CHLORA_FLAG_W,PPHYTN,PPHYTN_FLAG_W,THETA,THETA_FLAG_W,SIGTHT,SIGTHT_FLAG_W,SBE35,SBE35_FLAG_W
,,,,,,,,UTC,,,,METER,DBAR,METERS,ITS-90,PSS-78,,UMOL/KG,,PSS78,,UMOL/KG,,UMOL/KG,,UMOL/KG,,UMOL/KG,,UMOL/KG,,PMOL/KG,,PMOL/KG,,UMOL/KG,,UMOL/KG,,,,ITS-90,PMOL/KG,,UG/KG,,UG/KG,,ITS-90,,KG/M3,,ITS-90,
49UP20220727_1,    P9,     6,  1,      0,      -9,0,20220806,1804,1918, -0.5053, 141.9783, 3180,      0.0,        0,  29.4505,  35.3694,2,    207.8,2,-999.0000,9,   206.17,2,     0.28,2,     0.03,2,     0.01,2,    0.210,4, -999.000,9, -999.000,9,   -999.0,9,   -999.0,9,-999.0000,9,  -999.00, -999.000,9,  -999.00,9,  -999.00,9,  29.4499,2,  22.1902,2,-999.0000,9
49UP20220727_1,    P9,     6,  1,     36,     757,2,20220806,1804,1944, -0.5053, 141.9783, 3180,     10.5,       10,  29.4473,  35.3701,2,    207.7,2,  35.3695,2,   206.82,2,     0.12,2,     0.02,2,     0.01,2,    0.200,4, -999.000,9, -999.000,9,   -999.0,9,   -999.0,9,-999.0000,9,  -999.00, -999.000,9,  -999.00,9,  -999.00,9,  29.4448,2,  22.1924,2,  29.4476,2
49UP20220727_1,    P9,     6,  1,     35,     756,2,20220806,1804,1942, -0.5053, 141.9783, 3180,     25.7,       26,  29.3445,  35.3761,2,    199.9,2,  35.3738,2,   199.85,2,     0.41,2,     0.58,2,     0.12,2,    0.240,2, -999.000,9, -999.000,9,   -999.0,9,   -999.0,9,-999.0000,9,  -999.00, -999.000,9,  -999.00,9,  -999.00,9,  29.3383,2,  22.2329,2,  29.3443,2
49UP20220727_1,    P9,     6,  1,     34,     323,2,20220806,1804,1938, -0.5053, 141.9783, 3180,     51.0,       51,  29.2916,  35.3879,2,    192.8,2,  35.3886,2,   192.57,2,     0.95,2,     1.48,2,     0.30,2,    0.320,4, -999.000,9, -999.000,9,   -999.0,9,   -999.0,9,-999.0000,9,  -999.00, -999.000,9,  -999.00,9,  -999.00,9,  29.2792,2,  22.2616,2,  29.2903,2
49UP20220727_1,    P9,     6,  1,     33,     322,2,20220806,1804,1936, -0.5053, 141.9783, 3180,     75.8,       75,  29.2473,  35.4075,2,    189.3,2,  35.4057,2,   188.95,2,     1.17,2,     1.98,2,     0.43,2,    0.360,4, -999.000,9, -999.000,9,   -999.0,9,   -999.0,9,-999.0000,9,  -999.00, -999.000,9,  -999.00,9,  -999.00,9,  29.2288,2,  22.2933,2,  29.2448,2
49UP20220727_1,    P9,     6,  1,     31,     320,2,20220806,1804,1935, -0.5053, 141.9783, 3180,    100.8,      100,  29.2150,  35.4235,2,    186.6,2,  35.4225,2,   186.21,2,     1.40,2,     2.39,2,     0.54,2,    0.360,2, -999.000,9, -999.000,9,   -999.0,9,   -999.0,9,-999.0000,9,  -999.00, -999.000,9,  -999.00,9,  -999.00,9,  29.1904,2,  22.3182,2,  29.2143,2
49UP20220727_1,    P9,     6,  1,     32,     321,2,20220806,1804,1935, -0.5053, 141.9783, 3180,    100.9,      100,  29.2152,  35.4236,2,    186.5,2,  35.4226,2,   185.86,2,     1.38,2,     2.39,2,     0.54,2,    0.360,2, -999.000,9, -999.000,9,   -999.0,9,   -999.0,9,-999.0000,9,  -999.00, -999.000,9,  -999.00,9,  -999.00,9,  29.1906,2,  22.3183,2,  29.2140,2
49UP20220727_1,    P9,     6,  1,     30,     319,2,20220806,1804,1933, -0.5053, 141.9783, 3180,    126.1,      125,  29.1340,  35.4303,2,    182.8,2,  35.4320,2,   181.96,2,     1.48,2,     2.80,2,     0.44,2,    0.390,2, -999.000,9, -999.000,9,   -999.0,9,   -999.0,9,-999.0000,9,  -999.00, -999.000,9,  -999.00,9,  -999.00,9,  29.1033,2,  22.3526,2,  29.1319,2
49UP20220727_1,    P9,     6,  1,     29,     318,2,20220806,1804,1932, -0.5053, 141.9783, 3180,    151.8,      151,  26.8962,  35.5932,2,    148.5,2,  35.5872,2,   149.58,2,     2.39,2,     7.79,2,     0.04,2,    0.690,2, -999.000,9, -999.000,9,   -999.0,9,   -999.0,9,-999.0000,9,  -999.00, -999.000,9,  -999.00,9,  -999.00,9,  26.8614,2,  23.2090,2,  26.9076,2
49UP20220727_1,    P9,     6,  1,     28,     755,2,20220806,1804,1930, -0.5053, 141.9783, 3180,    205.2,      204,  22.0457,  35.6108,2,    128.5,2,  35.6072,2,   129.25,6,     3.84,6,    10.61,6,     0.02,6,    0.880,6, -999.000,9, -999.000,9,   -999.0,9,   -999.0,9,-999.0000,9,  -999.00, -999.000,9,  -999.00,9,  -999.00,9,  22.0049,2,  24.6807,2,  22.0481,2
49UP20220727_1,    P9,     6,  1,     27,     317,2,20220806,1804,1928, -0.5053, 141.9783, 3180,    251.3,      250,  16.3635,  35.3020,2,    142.2,2,  35.3025,2,   142.19,2,     6.48,2,    14.06,2,     0.01,2,    1.090,2, -999.000,9, -999.000,9,   -999.0,9,   -999.0,9,-999.0000,9,  -999.00, -999.000,9,  -999.00,9,  -999.00,9,  16.3229,2,  25.9054,2,  16.3623,2
49UP20220727_1,    P9,     6,  1,     26,     316,2,20220806,1804,1926, -0.5053, 141.9783, 3180,    283.5,      282,  13.5407,  35.0475,2,    148.0,2,  35.0492,2,   147.78,2,     9.54,2,    17.44,2,     0.01,2,    1.300,2, -999.000,9, -999.000,9,   -999.0,9,   -999.0,9,-999.0000,9,  -999.00, -999.000,9,  -999.00,9,  -999.00,9,  13.5005,2,  26.3279,2,  13.5315,2
49UP20220727_1,    P9,     6,  1,     25,     315,2,20220806,1804,1924, -0.5053, 141.9783, 3180,    326.0,      324,  10.6559,  34.7464,2,    141.3,2,  34.7482,2,   141.81,2,    20.95,2,    23.09,2,     0.00,2,    1.640,2, -999.000,9, -999.000,9,   -999.0,9,   -999.0,9,-999.0000,9,  -999.00, -999.000,9,  -999.00,9,  -999.00,9,  10.6164,2,  26.6467,2,  10.6602,2
49UP20220727_1,    P9,     6,  1,     24,     753,2,20220806,1804,1922, -0.5053, 141.9783, 3180,    376.3,      374,  10.4557,  34.7348,2,    140.6,2,  34.7346,2,   140.41,2,    21.29,2,    23.53,2,     0.00,2,    1.670,2, -999.000,9, -999.000,9,   -999.0,9,   -999.0,9,-999.0000,9,  -999.00, -999.000,9,  -999.00,9,  -999.00,9,  10.4105,2,  26.6739,2,  10.4554,2
49UP20220727_1,    P9,     6,  1,     22,     313,2,20220806,1804,1920, -0.5053, 141.9783, 3180,    427.2,      424,   9.4947,  34.6707,2,    117.2,2,  34.6737,2,   119.45,2,    25.13,2,    27.41,2,     0.00,2,    1.920,2, -999.000,9, -999.000,9,   -999.0,9,   -999.0,9,-999.0000,9,  -999.00, -999.000,9,  -999.00,9,  -999.00,9,   9.4463,2,  26.7877,2,   9.4943,2
49UP20220727_1,    P9,     6,  1,     23,     314,2,20220806,1804,1920, -0.5053, 141.9783, 3180,    428.3,      426,   9.4889,  34.6700,2,    117.1,2,  34.6719,2,   118.16,2,    25.47,2,    27.54,2,     0.00,2,    1.930,2, -999.000,9, -999.000,9,   -999.0,9,   -999.0,9,-999.0000,9,  -999.00, -999.000,9,  -999.00,9,  -999.00,9,   9.4404,2,  26.7881,2,   9.4875,2
49UP20220727_1,    P9,     6,  1,     21,     312,2,20220806,1804,1918, -0.5053, 141.9783, 3180,    477.8,      475,   9.0490,  34.6448,2,    125.2,2,  34.6478,2,   116.00,6,    26.93,6,    28.56,6,     0.00,6,    1.990,6, -999.000,9, -999.000,9,   -999.0,9,   -999.0,9,-999.0000,9,  -999.00, -999.000,9,  -999.00,9,  -999.00,9,   8.9963,2,  26.8405,2,   9.0627,2
49UP20220727_1,    P9,     6,  1,     20,     311,2,20220806,1804,1914, -0.5053, 141.9783, 3180,    580.4,      576,   6.9779,  34.5290,2,    144.2,2,  34.5298,6,   143.40,2,    34.40,2,    30.17,2,     0.00,2,    2.110,2, -999.000,9, -999.000,9,   -999.0,9,   -999.0,9,-999.0000,9,  -999.00, -999.000,9,  -999.00,9,  -999.00,9,   6.9226,2,  27.0584,2,   6.9748,2
49UP20220727_1,    P9,     6,  1,     19,     310,2,20220806,1804,1911, -0.5053, 141.9783, 3180,    679.4,      675,   6.5269,  34.5086,2,    148.9,2,  34.5078,2,   149.64,2,    36.48,2,    30.57,2,     0.00,2,    2.130,2, -999.000,9, -999.000,9,   -999.0,9,   -999.0,9,-999.0000,9,  -999.00, -999.000,9,  -999.00,9,  -999.00,9,   6.4639,2,  27.1042,2,   6.5271,2
49UP20220727_1,    P9,     6,  1,     18,     752,2,20220806,1804,1908, -0.5053, 141.9783, 3180,    774.5,      769,   5.5680,  34.4982,2,    143.2,2,  34.4982,2,   143.35,2,    49.78,2,    32.73,2,     0.00,2,    2.290,2, -999.000,9, -999.000,9,   -999.0,9,   -999.0,9,-999.0000,9,  -999.00, -999.000,9,  -999.00,9,  -999.00,9,   5.5014,2,  27.2181,2,   5.5677,2
49UP20220727_1,    P9,     6,  1,     17,     751,2,20220806,1804,1906, -0.5053, 141.9783, 3180,    875.0,      868,   5.0522,  34.5294,2,    111.8,2,  34.5287,2,   112.01,2,    67.80,2,    36.20,2,     0.00,2,    2.560,2, -999.000,9, -999.000,9,   -999.0,9,   -999.0,9,-999.0000,9,  -999.00, -999.000,9,  -999.00,9,  -999.00,9,   4.9797,2,  27.3045,2,   5.0520,2
49UP20220727_1,    P9,     6,  1,     16,     328,2,20220806,1804,1903, -0.5053, 141.9783, 3180,    975.3,      968,   4.6724,  34.5417,2,    104.7,2,  34.5408,2,   104.88,2,    77.93,2,    37.23,2,     0.00,2,    2.640,2, -999.000,9, -999.000,9,   -999.0,9,   -999.0,9,-999.0000,9,  -999.00, -999.000,9,  -999.00,9,  -999.00,9,   4.5936,2,  27.3579,2,   4.6722,2
49UP20220727_1,    P9,     6,  1,     15,     309,2,20220806,1804,1900, -0.5053, 141.9783, 3180,   1135.5,     1126,   3.9965,  34.5611,2,    104.0,2,  34.5604,2,   104.20,2,    92.73,2,    37.95,2,     0.00,2,    2.700,2, -999.000,9, -999.000,9,   -999.0,9,   -999.0,9,-999.0000,9,  -999.00, -999.000,9,  -999.00,9,  -999.00,9,   3.9094,2,  27.4463,2,   3.9964,2
49UP20220727_1,    P9,     6,  1,     14,     326,2,20220806,1804,1859, -0.5053, 141.9783, 3180,   1136.9,     1128,   3.9962,  34.5610,2,    104.0,2,  34.5603,2,   103.95,2,    92.71,2,    37.99,2,     0.00,2,    2.700,2, -999.000,9, -999.000,9,   -999.0,9,   -999.0,9,-999.0000,9,  -999.00, -999.000,9,  -999.00,9,  -999.00,9,   3.9089,2,  27.4464,2,   3.9960,2
49UP20220727_1,    P9,     6,  1,     13,     325,2,20220806,1804,1854, -0.5053, 141.9783, 3180,   1344.3,     1333,   3.4488,  34.5819,2,    104.8,2,  34.5815,2,   104.85,6,   106.08,6,    38.28,6,     0.00,6,    2.720,6, -999.000,9, -999.000,9,   -999.0,9,   -999.0,9,-999.0000,9,  -999.00, -999.000,9,  -999.00,9,  -999.00,9,   3.3491,2,  27.5186,2,   3.4486,2
49UP20220727_1,    P9,     6,  1,     12,     324,2,20220806,1804,1848, -0.5053, 141.9783, 3180,   1545.1,     1531,   2.9386,  34.6015,2,    111.4,2,  34.6008,6,   111.37,2,   116.74,2,    38.16,2,     0.00,2,    2.700,2, -999.000,9, -999.000,9,   -999.0,9,   -999.0,9,-999.0000,9,  -999.00, -999.000,9,  -999.00,9,  -999.00,9,   2.8276,2,  27.5826,2,   2.9385,2
49UP20220727_1,    P9,     6,  1,     11,     323,2,20220806,1804,1842, -0.5053, 141.9783, 3180,   1750.1,     1733,   2.5794,  34.6188,2,    113.5,2,  34.6182,2,   113.38,2,   126.34,2,    38.20,2,     0.00,2,    2.690,2, -999.000,9, -999.000,9,   -999.0,9,   -999.0,9,-999.0000,9,  -999.00, -999.000,9,  -999.00,9,  -999.00,9,   2.4557,2,  27.6289,2,   2.5792,2
49UP20220727_1,    P9,     6,  1,     10,     322,2,20220806,1804,1837, -0.5053, 141.9783, 3180,   1949.4,     1930,   2.2854,  34.6333,2,    118.9,2,  34.6323,2,   119.09,2,   132.62,2,    37.97,2,     0.00,2,    2.670,2, -999.000,9, -999.000,9,   -999.0,9,   -999.0,9,-999.0000,9,  -999.00, -999.000,9,  -999.00,9,  -999.00,9,   2.1490,2,  27.6659,2,   2.2853,2
49UP20220727_1,    P9,     6,  1,      9,     750,2,20220806,1804,1833, -0.5053, 141.9783, 3180,   2154.4,     2132,   2.0992,  34.6424,2,    122.5,2,  34.6419,2,   122.63,2,   137.26,2,    37.77,2,     0.00,2,    2.650,2, -999.000,9, -999.000,9,   -999.0,9,   -999.0,9,-999.0000,9,  -999.00, -999.000,9,  -999.00,9,  -999.00,9,   1.9480,2,  27.6893,2,   2.0989,2
49UP20220727_1,    P9,     6,  1,      8,     320,2,20220806,1804,1828, -0.5053, 141.9783, 3180,   2353.3,     2327,   1.9189,  34.6511,2,    127.4,2,  34.6505,2,   127.34,2,   140.93,2,    37.52,2,     0.00,2,    2.620,2, -999.000,9, -999.000,9,   -999.0,9,   -999.0,9,-999.0000,9,  -999.00, -999.000,9,  -999.00,9,  -999.00,9,   1.7533,2,  27.7113,2,   1.9187,2
49UP20220727_1,    P9,     6,  1,      7,     319,2,20220806,1804,1824, -0.5053, 141.9783, 3180,   2555.0,     2526,   1.7475,  34.6603,2,    134.3,2,  34.6598,6,   134.54,2,   142.95,2,    37.09,2,     0.00,2,    2.580,2, -999.000,9, -999.000,9,   -999.0,9,   -999.0,9,-999.0000,9,  -999.00, -999.000,9,  -999.00,9,  -999.00,9,   1.5669,2,  27.7326,2,   1.7473,2
49UP20220727_1,    P9,     6,  1,      6,     318,2,20220806,1804,1820, -0.5053, 141.9783, 3180,   2757.4,     2724,   1.6596,  34.6658,2,    139.1,2,  34.6655,2,   138.76,2,   143.36,2,    36.72,2,     0.00,2,    2.560,2, -999.000,9, -999.000,9,   -999.0,9,   -999.0,9,-999.0000,9,  -999.00, -999.000,9,  -999.00,9,  -999.00,9,   1.4623,2,  27.7447,2,   1.6596,2
49UP20220727_1,    P9,     6,  1,      5,     838,2,20220806,1804,1819, -0.5053, 141.9783, 3180,   2759.5,     2726,   1.6596,  34.6657,2,    139.2,2,  34.6655,2,   138.87,2,   143.42,2,    36.76,2,     0.00,2,    2.560,2, -999.000,9, -999.000,9,   -999.0,9,   -999.0,9,-999.0000,9,  -999.00, -999.000,9,  -999.00,9,  -999.00,9,   1.4621,2,  27.7447,2,   1.6594,2
49UP20220727_1,    P9,     6,  1,      4,     316,2,20220806,1804,1815, -0.5053, 141.9783, 3180,   2963.4,     2927,   1.6150,  34.6694,2,    142.2,2,  34.6689,2,   142.18,6,   143.68,6,    36.58,6,     0.00,6,    2.540,6, -999.000,9, -999.000,9,   -999.0,9,   -999.0,9,-999.0000,9,  -999.00, -999.000,9,  -999.00,9,  -999.00,9,   1.3992,2,  27.7522,2,   1.6149,2
49UP20220727_1,    P9,     6,  1,      3,     315,2,20220806,1804,1805, -0.5053, 141.9783, 3180,   3208.9,     3167,   1.5923,  34.6725,2,    144.4,2,  34.6725,6,   143.90,2,   144.14,2,    36.45,2,     0.00,2,    2.530,2, -999.000,9, -999.000,9,   -999.0,9,   -999.0,9,-999.0000,9,  -999.00, -999.000,9,  -999.00,9,  -999.00,9,   1.3532,2,  27.7579,2,   1.5919,2
49UP20220727_1,    P9,     6,  1,      2,     314,2,20220806,1804,1805, -0.5053, 141.9783, 3180,   3209.1,     3167,   1.5930,  34.6723,2,    144.3,2,  34.6728,2,   144.08,2,   143.91,2,    36.44,2,     0.00,2,    2.530,2, -999.000,9, -999.000,9,   -999.0,9,   -999.0,9,-999.0000,9,  -999.00, -999.000,9,  -999.00,9,  -999.00,9,   1.3539,2,  27.7577,2,   1.5933,2