BOTTLE,20230330JMAAMD
EXPOCODE,SECT_ID,STNNBR,CASTNO,SAMPNO,BTLNBR,BTLNBR_FLAG_U,DATE,TIME,BTL_TIME,LATITUDE,LONGITUDE,DEPTH,CTDPRS,CTDDEP,CTDTMP,CTDSAL,CTDSAL_FLAG_W,CTDOXY,CTDOXY_FLAG_W,SALNTY,SALNTY_FLAG_W,OXYGEN,OXYGEN_FLAG_W,SILCAT,SILCAT_FLAG_W,NO2+NO3,NO2+NO3_FLAG_W,NITRIT,NITRIT_FLAG_W,PHSPHT,PHSPHT_FLAG_W,CFC-11,CFC-11_FLAG_W,CFC-12,CFC-12_FLAG_W,TCARBN,TCARBN_FLAG_W,ALKALI,ALKALI_FLAG_W,PH_TS,PH_TS_FLAG_W,PH_TS_TMP,CFC113,CFC113_FLAG_W,CHLORA,CHLORA_FLAG_W,PPHYTN,PPHYTN_FLAG_W,THETA,THETA_FLAG_W,SIGTHT,SIGTHT_FLAG_W,SBE35,SBE35_FLAG_W
,,,,,,,,UTC,,,,METER,DBAR,METERS,ITS-90,PSS-78,,UMOL/KG,,PSS78,,UMOL/KG,,UMOL/KG,,UMOL/KG,,UMOL/KG,,UMOL/KG,,PMOL/KG,,PMOL/KG,,UMOL/KG,,UMOL/KG,,,,ITS-90,PMOL/KG,,UG/KG,,UG/KG,,ITS-90,,KG/M3,,ITS-90,
49UP20220929_1,    P9,    82,  1,      0,      -9,0,20221009,1730,1855, 30.6800, 137.0153, 4113,      0.0,        0,  26.7966,  33.9159,2,    202.6,2,-999.0000,9,   202.64,2,     2.55,2,     0.02,2,     0.00,2,    0.020,2, -999.000,9, -999.000,9,   -999.0,9,   -999.0,9,-999.0000,9,  -999.00, -999.000,9,  -999.00,9,  -999.00,9,  26.7961,2,  21.9661,2,-999.0000,9
49UP20220929_1,    P9,    82,  1,     36,     757,2,20221009,1730,1927, 30.6800, 137.0153, 4113,     11.7,       12,  26.8089,  33.9138,2,    202.7,2,  33.9160,2,   202.49,2,     2.59,2,     0.01,2,     0.00,2,    0.010,2, -999.000,9, -999.000,9,   -999.0,9,   -999.0,9,-999.0000,9,  -999.00, -999.000,9,  -999.00,9,  -999.00,9,  26.8062,2,  21.9613,2,  26.8085,2
49UP20220929_1,    P9,    82,  1,     35,     756,2,20221009,1730,1925, 30.6800, 137.0153, 4113,     26.2,       26,  26.8102,  33.9154,2,    203.0,2,  33.9173,2,   202.43,2,     2.64,2,     0.01,2,     0.00,2,    0.010,2, -999.000,9, -999.000,9,   -999.0,9,   -999.0,9,-999.0000,9,  -999.00, -999.000,9,  -999.00,9,  -999.00,9,  26.8042,2,  21.9632,2,  26.8105,2
49UP20220929_1,    P9,    82,  1,     34,     323,2,20221009,1730,1923, 30.6800, 137.0153, 4113,     51.6,       51,  26.8164,  33.9144,2,    203.1,2,  33.9175,2,   202.33,2,     2.60,2,     0.01,2,     0.00,2,    0.000,2, -999.000,9, -999.000,9,   -999.0,9,   -999.0,9,-999.0000,9,  -999.00, -999.000,9,  -999.00,9,  -999.00,9,  26.8046,2,  21.9623,2,  26.8156,2
49UP20220929_1,    P9,    82,  1,     33,     322,2,20221009,1730,1921, 30.6800, 137.0153, 4113,     76.2,       76,  24.6915,  34.2888,2,    185.1,2,  34.2896,2,   185.35,2,     3.88,2,     2.35,2,     0.17,2,    0.170,2, -999.000,9, -999.000,9,   -999.0,9,   -999.0,9,-999.0000,9,  -999.00, -999.000,9,  -999.00,9,  -999.00,9,  24.6752,2,  22.9019,2,  24.6983,2
49UP20220929_1,    P9,    82,  1,     32,     321,2,20221009,1730,1918, 30.6800, 137.0153, 4113,    100.9,      100,  21.5843,  34.4674,2,    178.5,2,  34.4676,2,   178.23,2,     6.33,2,     4.58,2,     0.04,2,    0.330,2, -999.000,9, -999.000,9,   -999.0,9,   -999.0,9,-999.0000,9,  -999.00, -999.000,9,  -999.00,9,  -999.00,9,  21.5647,2,  23.9340,2,  21.5774,2
49UP20220929_1,    P9,    82,  1,     31,     320,2,20221009,1730,1916, 30.6800, 137.0153, 4113,    126.2,      125,  19.2060,  34.5884,2,    171.7,2,  34.5948,2,   172.53,2,     9.43,2,     6.99,2,     0.02,2,    0.500,2, -999.000,9, -999.000,9,   -999.0,9,   -999.0,9,-999.0000,9,  -999.00, -999.000,9,  -999.00,9,  -999.00,9,  19.1834,2,  24.6598,2,  19.1892,2
49UP20220929_1,    P9,    82,  1,     30,     319,2,20221009,1730,1915, 30.6800, 137.0153, 4113,    150.6,      150,  18.5392,  34.6871,2,    181.1,2,  34.6873,2,   180.57,6,     8.14,6,     6.42,6,     0.01,6,    0.450,6, -999.000,9, -999.000,9,   -999.0,9,   -999.0,9,-999.0000,9,  -999.00, -999.000,9,  -999.00,9,  -999.00,9,  18.5129,2,  24.9050,2,  18.5419,2
49UP20220929_1,    P9,    82,  1,     28,     755,2,20221009,1730,1913, 30.6800, 137.0153, 4113,    202.1,      201,  15.9499,  34.6170,2,    179.1,2,  34.6152,2,   178.53,2,    12.11,2,     9.66,2,     0.01,2,    0.670,2, -999.000,9, -999.000,9,   -999.0,9,   -999.0,9,-999.0000,9,  -999.00, -999.000,9,  -999.00,9,  -999.00,9,  15.9181,2,  25.4717,2,  15.9551,2
49UP20220929_1,    P9,    82,  1,     29,     318,2,20221009,1730,1913, 30.6800, 137.0153, 4113,    202.7,      201,  15.9566,  34.6189,2,    179.3,2,  34.6179,2,   178.64,2,    11.93,2,     9.55,2,     0.01,2,    0.660,2, -999.000,9, -999.000,9,   -999.0,9,   -999.0,9,-999.0000,9,  -999.00, -999.000,9,  -999.00,9,  -999.00,9,  15.9247,2,  25.4716,2,  15.9564,2
49UP20220929_1,    P9,    82,  1,     27,     317,2,20221009,1730,1911, 30.6800, 137.0153, 4113,    252.2,      250,  13.9745,  34.5032,2,    169.9,2,  34.5039,2,   169.60,2,    19.01,2,    13.45,2,     0.00,2,    0.940,2, -999.000,9, -999.000,9,   -999.0,9,   -999.0,9,-999.0000,9,  -999.00, -999.000,9,  -999.00,9,  -999.00,9,  13.9382,2,  25.8161,2,  13.9719,2
49UP20220929_1,    P9,    82,  1,     26,     316,2,20221009,1730,1909, 30.6800, 137.0153, 4113,    282.9,      281,  12.6473,  34.4298,2,    164.1,2,  34.4311,2,   163.80,2,    24.42,2,    16.03,2,     0.00,2,    1.120,2, -999.000,9, -999.000,9,   -999.0,9,   -999.0,9,-999.0000,9,  -999.00, -999.000,9,  -999.00,9,  -999.00,9,  12.6092,2,  26.0285,2,  12.6434,2
49UP20220929_1,    P9,    82,  1,     25,     315,2,20221009,1730,1906, 30.6800, 137.0153, 4113,    374.9,      372,   9.4954,  34.3252,2,    129.3,2,  34.3258,2,   129.19,2,    47.72,2,    24.48,2,     0.00,2,    1.740,2, -999.000,9, -999.000,9,   -999.0,9,   -999.0,9,-999.0000,9,  -999.00, -999.000,9,  -999.00,9,  -999.00,9,   9.4532,2,  26.5164,2,   9.4921,2
49UP20220929_1,    P9,    82,  1,     24,     753,2,20221009,1730,1903, 30.6800, 137.0153, 4113,    476.6,      473,   6.7005,  34.2467,2,    101.2,2,  34.2418,2,   102.44,2,    71.60,2,    31.63,2,     0.00,2,    2.260,2, -999.000,9, -999.000,9,   -999.0,9,   -999.0,9,-999.0000,9,  -999.00, -999.000,9,  -999.00,9,  -999.00,9,   6.6565,2,  26.8720,2,   6.7081,2
49UP20220929_1,    P9,    82,  1,     23,     314,2,20221009,1730,1900, 30.6800, 137.0153, 4113,    576.5,      572,   5.1620,  34.2660,2,     76.8,2,  34.2648,6,    77.00,2,    93.24,2,    36.60,2,     0.00,2,    2.620,2, -999.000,9, -999.000,9,   -999.0,9,   -999.0,9,-999.0000,9,  -999.00, -999.000,9,  -999.00,9,  -999.00,9,   5.1152,2,  27.0800,2,   5.1603,2
49UP20220929_1,    P9,    82,  1,     22,     313,2,20221009,1730,1857, 30.6800, 137.0153, 4113,    678.5,      673,   4.4979,  34.3169,2,     67.7,2,  34.3161,2,    68.07,2,   105.40,2,    38.38,2,     0.00,2,    2.740,2, -999.000,9, -999.000,9,   -999.0,9,   -999.0,9,-999.0000,9,  -999.00, -999.000,9,  -999.00,9,  -999.00,9,   4.4458,2,  27.1956,2,   4.4973,2
49UP20220929_1,    P9,    82,  1,     21,     312,2,20221009,1730,1855, 30.6800, 137.0153, 4113,    779.4,      773,   3.9819,  34.3588,2,     62.8,2,  34.3585,2,    62.65,6,   115.79,6,    39.61,6,     0.00,6,    2.830,6, -999.000,9, -999.000,9,   -999.0,9,   -999.0,9,-999.0000,9,  -999.00, -999.000,9,  -999.00,9,  -999.00,9,   3.9245,2,  27.2838,2,   3.9816,2
49UP20220929_1,    P9,    82,  1,     20,     311,2,20221009,1730,1852, 30.6800, 137.0153, 4113,    878.7,      871,   3.6139,  34.3906,2,     60.4,2,  34.6799,4,   153.58,4,   142.56,4,    35.98,4,     0.00,4,    2.490,4, -999.000,9, -999.000,9,   -999.0,9,   -999.0,9,-999.0000,9,  -999.00, -999.000,9,  -999.00,9,  -999.00,9,   3.5510,2,  27.3465,2,   3.6138,2
49UP20220929_1,    P9,    82,  1,     19,     310,2,20221009,1730,1852, 30.6800, 137.0153, 4113,    878.8,      871,   3.6137,  34.3906,2,     60.4,2,  34.3911,2,    60.51,2,   123.32,2,    40.34,2,     0.00,2,    2.870,2, -999.000,9, -999.000,9,   -999.0,9,   -999.0,9,-999.0000,9,  -999.00, -999.000,9,  -999.00,9,  -999.00,9,   3.5508,2,  27.3466,2,   3.6136,2
49UP20220929_1,    P9,    82,  1,     18,     752,2,20221009,1730,1849, 30.6800, 137.0153, 4113,    983.0,      974,   3.2965,  34.4276,2,     61.8,2,  34.4270,2,    61.71,2,   129.74,2,    40.59,2,     0.00,2,    2.890,2, -999.000,9, -999.000,9,   -999.0,9,   -999.0,9,-999.0000,9,  -999.00, -999.000,9,  -999.00,9,  -999.00,9,   3.2278,2,  27.4071,2,   3.2965,2
49UP20220929_1,    P9,    82,  1,     17,     751,2,20221009,1730,1844, 30.6800, 137.0153, 4113,   1143.4,     1132,   2.9413,  34.4701,2,     66.3,2,  34.4701,2,    66.28,2,   136.70,2,    40.74,2,     0.00,2,    2.890,2, -999.000,9, -999.000,9,   -999.0,9,   -999.0,9,-999.0000,9,  -999.00, -999.000,9,  -999.00,9,  -999.00,9,   2.8630,2,  27.4745,2,   2.9412,2
49UP20220929_1,    P9,    82,  1,     16,     328,2,20221009,1730,1839, 30.6800, 137.0153, 4113,   1345.7,     1332,   2.5587,  34.5176,2,     75.1,2,  34.5163,2,    75.04,2,   143.03,2,    40.51,2,     0.00,2,    2.870,2, -999.000,9, -999.000,9,   -999.0,9,   -999.0,9,-999.0000,9,  -999.00, -999.000,9,  -999.00,9,  -999.00,9,   2.4683,2,  27.5469,2,   2.5584,2
49UP20220929_1,    P9,    82,  1,     15,     309,2,20221009,1730,1834, 30.6800, 137.0153, 4113,   1547.3,     1531,   2.2881,  34.5546,2,     86.6,2,  34.5531,4,    86.31,2,   146.14,2,    39.95,2,     0.00,2,    2.820,2, -999.000,9, -999.000,9,   -999.0,9,   -999.0,9,-999.0000,9,  -999.00, -999.000,9,  -999.00,9,  -999.00,9,   2.1849,2,  27.6000,2,   2.2882,2
49UP20220929_1,    P9,    82,  1,     14,     326,2,20221009,1730,1829, 30.6800, 137.0153, 4113,   1753.1,     1734,   2.0817,  34.5850,2,     98.4,2,  34.5841,2,    98.46,2,   147.34,2,    39.33,2,     0.00,2,    2.770,2, -999.000,9, -999.000,9,   -999.0,9,   -999.0,9,-999.0000,9,  -999.00, -999.000,9,  -999.00,9,  -999.00,9,   1.9645,2,  27.6419,2,   2.0817,2
49UP20220929_1,    P9,    82,  1,     13,     325,2,20221009,1730,1824, 30.6800, 137.0153, 4113,   1953.9,     1931,   1.9381,  34.6065,2,    108.4,2,  34.6060,6,   108.45,2,   147.48,2,    38.71,2,     0.00,2,    2.710,2, -999.000,9, -999.000,9,   -999.0,9,   -999.0,9,-999.0000,9,  -999.00, -999.000,9,  -999.00,9,  -999.00,9,   1.8065,2,  27.6715,2,   1.9378,2
49UP20220929_1,    P9,    82,  1,     12,     324,2,20221009,1730,1819, 30.6800, 137.0153, 4113,   2161.0,     2135,   1.8095,  34.6273,2,    120.4,2,  34.6280,2,   120.23,6,   146.26,6,    38.05,6,     0.00,6,    2.660,6, -999.000,9, -999.000,9,   -999.0,9,   -999.0,9,-999.0000,9,  -999.00, -999.000,9,  -999.00,9,  -999.00,9,   1.6625,2,  27.6991,2,   1.8093,2
49UP20220929_1,    P9,    82,  1,     10,     322,2,20221009,1730,1813, 30.6800, 137.0153, 4113,   2364.1,     2335,   1.7106,  34.6419,2,    128.8,2,  34.6426,2,   128.26,2,   145.81,2,    37.54,2,     0.00,2,    2.620,2, -999.000,9, -999.000,9,   -999.0,9,   -999.0,9,-999.0000,9,  -999.00, -999.000,9,  -999.00,9,  -999.00,9,   1.5477,2,  27.7193,2,   1.7106,2
49UP20220929_1,    P9,    82,  1,     11,     323,2,20221009,1730,1814, 30.6800, 137.0153, 4113,   2364.9,     2336,   1.7098,  34.6421,2,    128.7,2,  34.6425,2,   128.48,2,   145.69,2,    37.52,2,     0.00,2,    2.620,2, -999.000,9, -999.000,9,   -999.0,9,   -999.0,9,-999.0000,9,  -999.00, -999.000,9,  -999.00,9,  -999.00,9,   1.5469,2,  27.7195,2,   1.7099,2
49UP20220929_1,    P9,    82,  1,      9,     750,2,20221009,1730,1808, 30.6800, 137.0153, 4113,   2567.2,     2534,   1.6195,  34.6550,2,    136.7,2,  34.6554,2,   136.47,2,   145.14,2,    37.06,2,     0.00,2,    2.580,2, -999.000,9, -999.000,9,   -999.0,9,   -999.0,9,-999.0000,9,  -999.00, -999.000,9,  -999.00,9,  -999.00,9,   1.4403,2,  27.7376,2,   1.6196,2
49UP20220929_1,    P9,    82,  1,      8,     320,2,20221009,1730,1803, 30.6800, 137.0153, 4113,   2767.9,     2731,   1.5770,  34.6618,2,    141.3,2,  34.6625,6,   141.17,2,   144.59,2,    36.79,2,     0.00,2,    2.560,2, -999.000,9, -999.000,9,   -999.0,9,   -999.0,9,-999.0000,9,  -999.00, -999.000,9,  -999.00,9,  -999.00,9,   1.3804,2,  27.7474,2,   1.5769,2
49UP20220929_1,    P9,    82,  1,      7,     319,2,20221009,1730,1758, 30.6800, 137.0153, 4113,   2972.3,     2931,   1.5239,  34.6698,2,    146.7,2,  34.6710,4,   146.53,2,   143.91,2,    36.45,2,     0.00,2,    2.530,2, -999.000,9, -999.000,9,   -999.0,9,   -999.0,9,-999.0000,9,  -999.00, -999.000,9,  -999.00,9,  -999.00,9,   1.3092,2,  27.7589,2,   1.5237,2
49UP20220929_1,    P9,    82,  1,      6,     318,2,20221009,1730,1753, 30.6800, 137.0153, 4113,   3219.7,     3173,   1.5044,  34.6748,2,    150.1,2,  34.6753,2,   150.28,2,   143.24,2,    36.22,2,     0.00,2,    2.520,2, -999.000,9, -999.000,9,   -999.0,9,   -999.0,9,-999.0000,9,  -999.00, -999.000,9,  -999.00,9,  -999.00,9,   1.2662,2,  27.7659,2,   1.5044,2
49UP20220929_1,    P9,    82,  1,      5,     838,2,20221009,1730,1747, 30.6800, 137.0153, 4113,   3473.5,     3422,   1.5059,  34.6774,2,    152.0,2,  34.6782,2,   152.03,6,   142.99,6,    36.12,6,     0.00,6,    2.500,6, -999.000,9, -999.000,9,   -999.0,9,   -999.0,9,-999.0000,9,  -999.00, -999.000,9,  -999.00,9,  -999.00,9,   1.2424,2,  27.7697,2,   1.5060,2
49UP20220929_1,    P9,    82,  1,      4,     316,2,20221009,1730,1742, 30.6800, 137.0153, 4113,   3727.6,     3670,   1.5216,  34.6786,2,    152.9,2,  34.6790,2,   152.70,2,   142.93,2,    36.03,2,     0.00,2,    2.500,2, -999.000,9, -999.000,9,   -999.0,9,   -999.0,9,-999.0000,9,  -999.00, -999.000,9,  -999.00,9,  -999.00,9,   1.2313,2,  27.7713,2,   1.5214,2
49UP20220929_1,    P9,    82,  1,      3,     315,2,20221009,1730,1736, 30.6800, 137.0153, 4113,   3984.7,     3921,   1.5369,  34.6798,2,    154.0,2,  34.6802,2,   153.96,2,   142.64,2,    36.01,2,     0.00,2,    2.490,2, -999.000,9, -999.000,9,   -999.0,9,   -999.0,9,-999.0000,9,  -999.00, -999.000,9,  -999.00,9,  -999.00,9,   1.2186,2,  27.7732,2,   1.5369,2
49UP20220929_1,    P9,    82,  1,      1,     308,2,20221009,1730,1731, 30.6800, 137.0153, 4113,   4204.2,     4134,   1.5512,  34.6807,2,    155.3,2,  34.6814,2,   154.94,2,   142.36,2,    35.94,2,     0.00,2,    2.490,2, -999.000,9, -999.000,9,   -999.0,9,   -999.0,9,-999.0000,9,  -999.00, -999.000,9,  -999.00,9,  -999.00,9,   1.2083,2,  27.7747,2,   1.5510,2
49UP20220929_1,    P9,    82,  1,      2,     314,2,20221009,1730,1731, 30.6800, 137.0153, 4113,   4205.0,     4135,   1.5512,  34.6808,2,    155.3,2,  34.6810,2,   155.14,2,   142.50,2,    35.93,2,     0.00,2,    2.490,2, -999.000,9, -999.000,9,   -999.0,9,   -999.0,9,-999.0000,9,  -999.00, -999.000,9,  -999.00,9,  -999.00,9,   1.2082,2,  27.7747,2,   1.5511,2