BOTTLE,20230330JMAAMD
EXPOCODE,SECT_ID,STNNBR,CASTNO,SAMPNO,BTLNBR,BTLNBR_FLAG_U,DATE,TIME,BTL_TIME,LATITUDE,LONGITUDE,DEPTH,CTDPRS,CTDDEP,CTDTMP,CTDSAL,CTDSAL_FLAG_W,CTDOXY,CTDOXY_FLAG_W,SALNTY,SALNTY_FLAG_W,OXYGEN,OXYGEN_FLAG_W,SILCAT,SILCAT_FLAG_W,NO2+NO3,NO2+NO3_FLAG_W,NITRIT,NITRIT_FLAG_W,PHSPHT,PHSPHT_FLAG_W,CFC-11,CFC-11_FLAG_W,CFC-12,CFC-12_FLAG_W,TCARBN,TCARBN_FLAG_W,ALKALI,ALKALI_FLAG_W,PH_TS,PH_TS_FLAG_W,PH_TS_TMP,CFC113,CFC113_FLAG_W,CHLORA,CHLORA_FLAG_W,PPHYTN,PPHYTN_FLAG_W,THETA,THETA_FLAG_W,SIGTHT,SIGTHT_FLAG_W,SBE35,SBE35_FLAG_W
,,,,,,,,UTC,,,,METER,DBAR,METERS,ITS-90,PSS-78,,UMOL/KG,,PSS78,,UMOL/KG,,UMOL/KG,,UMOL/KG,,UMOL/KG,,UMOL/KG,,PMOL/KG,,PMOL/KG,,UMOL/KG,,UMOL/KG,,,,ITS-90,PMOL/KG,,UG/KG,,UG/KG,,ITS-90,,KG/M3,,ITS-90,
49UP20220824_1,    P9,    34,  1,      0,      -9,0,20220902,0751,0905,  8.0030, 136.9822, 3076,      0.0,        0,  30.5207,  33.5602,2,    193.1,2,  33.4055,2,   194.66,2,     1.23,2,     0.08,2,     0.00,2,    0.090,2, -999.000,9, -999.000,9,   1882.9,2,   2207.3,2,   8.1185,2,    25.00, -999.000,9,     0.06,2,     0.02,2,  30.5201,2,  20.4694,2,-999.0000,9
49UP20220824_1,    P9,    34,  1,     36,     757,2,20220902,0751,0929,  8.0030, 136.9822, 3076,     11.2,       11,  30.4968,  33.6049,2,    193.5,2,  33.6006,2,   194.36,2,     1.19,2,     0.03,2,     0.00,2,    0.040,2, -999.000,9, -999.000,9,   1887.3,2,   2209.6,2,   8.1198,2,    25.00, -999.000,9,     0.04,2,     0.02,2,  30.4940,2,  20.5119,2,  30.5008,2
49UP20220824_1,    P9,    34,  1,     35,     756,2,20220902,0751,0928,  8.0030, 136.9822, 3076,     26.3,       26,  30.1160,  33.6670,2,    195.8,2,  33.6677,2,   196.39,6,     1.21,6,     0.03,6,     0.00,6,    0.040,6, -999.000,9, -999.000,9,   1891.2,2,   2214.7,2,   8.1173,2,    25.00, -999.000,9,     0.04,2,     0.02,2,  30.1095,2,  20.6900,2,  30.1153,2
49UP20220824_1,    P9,    34,  1,     34,     323,2,20220902,0751,0923,  8.0030, 136.9822, 3076,     51.4,       51,  29.9740,  34.3163,2,    202.0,2,  34.3186,2,   201.61,2,     1.22,2,     0.03,2,     0.00,2,    0.070,2, -999.000,9, -999.000,9,   1929.3,2,   2255.6,2,   8.1091,6,    25.00, -999.000,9,     0.08,2,     0.03,2,  29.9613,2,  21.2269,2,  29.9687,2
49UP20220824_1,    P9,    34,  1,     33,     322,2,20220902,0751,0922,  8.0030, 136.9822, 3076,     76.6,       76,  28.7715,  34.4720,2,    196.2,2,  34.4729,2,   195.62,2,     1.51,2,     0.02,2,     0.00,2,    0.100,2, -999.000,9, -999.000,9,   1952.6,6,   2266.4,6,   8.0840,2,    25.00, -999.000,9,     0.15,2,     0.06,2,  28.7532,2,  21.7498,2,  28.7674,2
49UP20220824_1,    P9,    34,  1,     31,     320,2,20220902,0751,0920,  8.0030, 136.9822, 3076,    102.4,      102,  26.1604,  34.6509,2,    174.3,2,  34.6542,2,   173.88,2,     2.88,2,     2.01,2,     0.21,2,    0.280,2, -999.000,9, -999.000,9,   2003.9,2,   2279.1,2,   8.0098,2,    25.00, -999.000,9,     0.29,2,     0.39,2,  26.1374,2,  22.7271,2,  26.1432,2
49UP20220824_1,    P9,    34,  1,     32,     321,2,20220902,0751,0920,  8.0030, 136.9822, 3076,    102.9,      102,  26.1499,  34.6530,2,    174.3,2,  34.6513,2,   174.42,2,     2.84,2,     1.91,2,     0.20,2,    0.270,2, -999.000,9, -999.000,9,   2003.6,2,   2277.7,2,   8.0125,2,    25.00, -999.000,9,  -999.00,9,  -999.00,9,  26.1269,2,  22.7320,2,  26.1402,2
49UP20220824_1,    P9,    34,  1,     30,     319,2,20220902,0751,0918,  8.0030, 136.9822, 3076,    127.5,      127,  22.0561,  34.7220,2,    153.9,2,  34.7202,2,   154.46,2,     5.50,2,     5.98,2,     0.05,2,    0.550,2, -999.000,9, -999.000,9,   2059.6,2,   2284.5,2,   7.9161,2,    25.00, -999.000,9,     0.12,2,     0.28,2,  22.0309,2,  23.9980,2,  22.0903,2
49UP20220824_1,    P9,    34,  1,     29,     318,2,20220902,0751,0917,  8.0030, 136.9822, 3076,    152.3,      151,  17.4593,  34.6474,2,    144.6,2,  34.6402,2,   144.04,2,    10.92,2,    11.27,2,     0.01,2,    0.890,2, -999.000,9, -999.000,9,   2107.6,2,   2282.2,2,   7.8115,2,    25.00, -999.000,9,     0.05,2,     0.11,2,  17.4337,2,  25.1399,2,  17.4590,2
49UP20220824_1,    P9,    34,  1,     28,     755,2,20220902,0751,0915,  8.0030, 136.9822, 3076,    203.0,      202,  12.4827,  34.5279,2,    100.0,2,  34.5270,2,    99.51,2,    24.85,2,    23.00,2,     0.00,2,    1.700,2, -999.000,9, -999.000,9,   2179.3,2,   2286.8,2,   7.6400,2,    25.00, -999.000,9,     0.01,2,     0.02,2,  12.4557,2,  26.1346,2,  12.4813,2
49UP20220824_1,    P9,    34,  1,     27,     317,2,20220902,0751,0913,  8.0030, 136.9822, 3076,    251.9,      250,  10.5201,  34.5217,2,     83.7,2,  34.5212,2,    83.47,6,    31.97,6,    27.96,6,     0.00,6,    2.030,6, -999.000,9, -999.000,9,   2210.6,2,   2294.1,2,   7.5717,2,    25.00, -999.000,9,  -999.00,9,  -999.00,9,  10.4900,2,  26.4937,2,  10.5209,2
49UP20220824_1,    P9,    34,  1,     26,     316,2,20220902,0751,0911,  8.0030, 136.9822, 3076,    283.6,      282,  10.0098,  34.5366,2,     76.9,2,  34.5363,2,    76.47,2,    34.03,2,    29.47,2,     0.00,2,    2.140,2, -999.000,9, -999.000,9,   2222.5,2,   2298.1,2,   7.5489,2,    25.00, -999.000,9,  -999.00,9,  -999.00,9,   9.9769,2,  26.5940,2,  10.0105,2
49UP20220824_1,    P9,    34,  1,     25,     315,2,20220902,0751,0908,  8.0030, 136.9822, 3076,    325.9,      324,   9.3793,  34.5482,2,     74.0,2,  34.5475,6,    74.01,2,    36.50,2,    31.01,2,     0.00,2,    2.230,2, -999.000,9, -999.000,9,   2231.2,2,   2300.4,2,   7.5334,2,    25.00, -999.000,9,  -999.00,9,  -999.00,9,   9.3429,2,  26.7088,2,   9.3803,2
49UP20220824_1,    P9,    34,  1,     23,     314,2,20220902,0751,0905,  8.0030, 136.9822, 3076,    376.0,      374,   8.8428,  34.5541,2,     76.1,2,  34.5535,2,    75.75,2,    38.60,2,    31.92,2,     0.00,2,    2.290,2, -999.000,9, -999.000,9,   2235.5,2,   2303.7,2,   7.5258,2,    25.00, -999.000,9,  -999.00,9,  -999.00,9,   8.8022,2,  26.8004,2,   8.8426,2
49UP20220824_1,    P9,    34,  1,     24,     753,2,20220902,0751,0906,  8.0030, 136.9822, 3076,    376.8,      374,   8.8404,  34.5543,2,     76.2,2,  34.5536,2,    75.84,2,    38.56,2,    31.88,2,     0.00,2,    2.290,2, -999.000,9, -999.000,9,   2238.3,2,   2304.9,2,   7.5273,2,    25.00, -999.000,9,  -999.00,9,  -999.00,9,   8.7998,2,  26.8010,2,   8.8417,2
49UP20220824_1,    P9,    34,  1,     22,     313,2,20220902,0751,0903,  8.0030, 136.9822, 3076,    423.9,      421,   8.2939,  34.5558,2,     85.0,2,  34.5553,2,    85.23,2,    40.26,2,    32.17,2,     0.00,2,    2.310,2, -999.000,9, -999.000,9,   2234.1,2,   2305.5,2,   7.5325,6,    25.00, -999.000,9,  -999.00,9,  -999.00,9,   8.2497,2,  26.8873,2,   8.2938,2
49UP20220824_1,    P9,    34,  1,     21,     312,2,20220902,0751,0901,  8.0030, 136.9822, 3076,    474.5,      471,   7.9431,  34.5568,2,     93.9,2,  34.5563,2,    93.52,2,    40.55,2,    32.33,2,     0.00,2,    2.300,2, -999.000,9, -999.000,9,   2233.6,6,   2308.0,6,   7.5440,2,    25.00, -999.000,9,  -999.00,9,  -999.00,9,   7.8948,2,  26.9414,2,   7.9429,2
49UP20220824_1,    P9,    34,  1,     20,     311,2,20220902,0751,0858,  8.0030, 136.9822, 3076,    574.8,      571,   7.0702,  34.5251,2,     91.6,2,  34.5249,2,    91.58,2,    50.49,2,    34.10,2,     0.00,2,    2.430,2, -999.000,9, -999.000,9,   2248.4,2,   2315.9,2,   7.5260,2,    25.00, -999.000,9,  -999.00,9,  -999.00,9,   7.0150,2,  27.0426,2,   7.0696,2
49UP20220824_1,    P9,    34,  1,     19,     310,2,20220902,0751,0855,  8.0030, 136.9822, 3076,    676.3,      671,   6.2966,  34.5241,2,     87.5,2,  34.5225,2,    87.36,6,    60.80,6,    35.85,6,     0.00,6,    2.570,6, -999.000,9, -999.000,9,   2264.2,2,   2327.4,2,   7.5111,2,    25.00, -999.000,9,  -999.00,9,  -999.00,9,   6.2351,2,  27.1464,2,   6.2970,2
49UP20220824_1,    P9,    34,  1,     17,     751,2,20220902,0751,0852,  8.0030, 136.9822, 3076,    776.8,      771,   5.9141,  34.5267,2,     85.0,2,  34.5264,2,    85.03,2,    67.21,2,    36.60,2,     0.00,2,    2.630,2, -999.000,9, -999.000,9,   2274.8,2,   2333.4,2,   7.5006,2,    25.00, -999.000,9,  -999.00,9,  -999.00,9,   5.8452,2,  27.1982,2,   5.9139,2
49UP20220824_1,    P9,    34,  1,     16,     328,2,20220902,0751,0849,  8.0030, 136.9822, 3076,    877.7,      871,   5.5465,  34.5312,2,     85.0,2,  34.5314,6,    84.74,2,    73.46,2,    37.28,2,     0.00,2,    2.680,2, -999.000,9, -999.000,9,   2280.0,2,   2340.8,2,   7.4961,2,    25.00, -999.000,9,  -999.00,9,  -999.00,9,   5.4705,2,  27.2479,2,   5.5433,2
49UP20220824_1,    P9,    34,  1,     14,     326,2,20220902,0751,0846,  8.0030, 136.9822, 3076,    978.8,      971,   4.8936,  34.5417,2,     84.7,2,  34.5416,2,    84.92,2,    85.57,2,    37.81,2,     0.00,2,    2.730,2, -999.000,9, -999.000,9,   2293.5,2,   2352.3,2,   7.4916,2,    25.00, -999.000,9,  -999.00,9,  -999.00,9,   4.8129,2,  27.3333,2,   4.8935,2
49UP20220824_1,    P9,    34,  1,     15,     309,2,20220902,0751,0847,  8.0030, 136.9822, 3076,    978.9,      971,   4.8928,  34.5416,2,     84.7,2,  34.5418,2,    84.54,2,    85.50,2,    38.01,2,     0.00,2,    2.730,2, -999.000,9, -999.000,9,   2295.7,2,   2353.1,2,   7.4910,2,    25.00, -999.000,9,  -999.00,9,  -999.00,9,   4.8121,2,  27.3334,2,   4.8924,2
49UP20220824_1,    P9,    34,  1,     13,     325,2,20220902,0751,0842,  8.0030, 136.9822, 3076,   1141.0,     1132,   4.0851,  34.5606,2,     88.7,2,  34.5606,2,    88.96,2,   101.40,2,    38.61,2,     0.00,2,    2.770,2, -999.000,9, -999.000,9,   2310.6,2,   2369.7,2,   7.4930,2,    25.00, -999.000,9,  -999.00,9,  -999.00,9,   3.9967,2,  27.4370,2,   4.0849,2
49UP20220824_1,    P9,    34,  1,     12,     324,3,20220902,0751,0838,  8.0030, 136.9822, 3076,   1344.2,     1332,   3.2457,  34.5862,2,     96.3,2,  34.5860,2,    96.11,2,   118.28,2,    38.48,2,     0.00,2,    2.770,2, -999.000,9, -999.000,9,   2325.9,2,   2385.2,2,   7.5025,2,    25.00, -999.000,9,  -999.00,9,  -999.00,9,   3.1481,2,  27.5410,2,   3.2459,2
49UP20220824_1,    P9,    34,  1,     11,     323,2,20220902,0751,0833,  8.0030, 136.9822, 3076,   1547.2,     1533,   2.8034,  34.6040,2,    102.6,2,  34.6044,2,   102.88,2,   127.23,2,    38.59,2,     0.00,2,    2.760,2, -999.000,9, -999.000,9,   2335.3,2,   2396.5,2,   7.5089,6,    25.00, -999.000,9,  -999.00,9,  -999.00,9,   2.6938,2,  27.5965,2,   2.8030,2
49UP20220824_1,    P9,    34,  1,     10,     322,2,20220902,0751,0828,  8.0030, 136.9822, 3076,   1748.1,     1731,   2.5308,  34.6165,2,    108.0,2,  34.6165,2,   108.03,2,   132.35,2,    38.28,2,     0.00,2,    2.730,2, -999.000,9, -999.000,9,   2333.3,6,   2402.0,6,   7.5175,2,    25.00, -999.000,9,  -999.00,9,  -999.00,9,   2.4080,2,  27.6311,2,   2.5308,2
49UP20220824_1,    P9,    34,  1,      9,     750,2,20220902,0751,0823,  8.0030, 136.9822, 3076,   1952.8,     1933,   2.2857,  34.6290,2,    113.9,2,  34.6291,2,   113.95,6,   136.84,6,    38.04,6,     0.00,6,    2.710,6, -999.000,9, -999.000,9,   2334.0,2,   2406.9,2,   7.5269,2,    25.00, -999.000,9,  -999.00,9,  -999.00,9,   2.1489,2,  27.6625,2,   2.2855,2
49UP20220824_1,    P9,    34,  1,      8,     320,2,20220902,0751,0818,  8.0030, 136.9822, 3076,   2155.6,     2133,   2.0639,  34.6408,2,    120.4,2,  34.6414,6,   120.90,2,   140.45,2,    37.76,2,     0.00,2,    2.680,2, -999.000,9, -999.000,9,   2331.8,2,   2411.5,2,   7.5353,2,    25.00, -999.000,9,  -999.00,9,  -999.00,9,   1.9131,2,  27.6908,2,   2.0637,2
49UP20220824_1,    P9,    34,  1,      6,     318,2,20220902,0751,0812,  8.0030, 136.9822, 3076,   2359.6,     2333,   1.8557,  34.6528,2,    128.8,2,  34.6526,2,   128.76,2,   142.77,2,    37.27,2,     0.00,2,    2.630,2, -999.000,9, -999.000,9,   2339.0,3,   2413.2,2,   7.5475,2,    25.00, -999.000,9,  -999.00,9,  -999.00,9,   1.6906,2,  27.7174,2,   1.8554,2
49UP20220824_1,    P9,    34,  1,      7,     319,2,20220902,0751,0812,  8.0030, 136.9822, 3076,   2360.5,     2334,   1.8558,  34.6527,2,    128.8,2,  34.6530,2,   128.90,2,   142.90,2,    37.23,2,     0.00,2,    2.630,2, -999.000,9, -999.000,9,   2333.0,2,   2413.3,2,   7.5471,2,    25.00, -999.000,9,  -999.00,9,  -999.00,9,   1.6907,2,  27.7174,2,   1.8556,2
49UP20220824_1,    P9,    34,  1,      5,     838,2,20220902,0751,0807,  8.0030, 136.9822, 3076,   2560.1,     2530,   1.7771,  34.6580,2,    132.9,2,  34.6582,2,   132.67,2,   143.38,2,    37.27,2,     0.00,2,    2.610,2, -999.000,9, -999.000,9,   2331.4,2,   2414.1,2,   7.5534,2,    25.00, -999.000,9,  -999.00,9,  -999.00,9,   1.5955,2,  27.7287,2,   1.7769,2
49UP20220824_1,    P9,    34,  1,      4,     316,2,20220902,0751,0802,  8.0030, 136.9822, 3076,   2762.7,     2729,   1.6981,  34.6635,2,    137.2,2,  34.6634,2,   137.32,2,   144.04,2,    37.08,2,     0.00,2,    2.590,2, -999.000,9, -999.000,9,   2329.0,2,   2416.3,2,   7.5614,2,    25.00, -999.000,9,  -999.00,9,  -999.00,9,   1.4995,2,  27.7402,2,   1.6981,2
49UP20220824_1,    P9,    34,  1,      3,     315,2,20220902,0751,0757,  8.0030, 136.9822, 3076,   2969.5,     2932,   1.6686,  34.6661,2,    139.3,2,  34.6660,6,   139.17,2,   144.20,2,    36.94,2,     0.00,2,    2.580,2, -999.000,9, -999.000,9,   2328.3,2,   2415.9,2,   7.5655,2,    25.00, -999.000,9,  -999.00,9,  -999.00,9,   1.4511,2,  27.7458,2,   1.6683,2
49UP20220824_1,    P9,    34,  1,      2,     314,2,20220902,0751,0752,  8.0030, 136.9822, 3076,   3189.8,     3148,   1.6794,  34.6668,2,    139.9,2,  34.6669,2,   139.87,2,   144.44,2,    37.02,2,     0.00,2,    2.580,2, -999.000,9, -999.000,9,   2331.5,2,   2417.0,2,   7.5639,2,    25.00, -999.000,9,  -999.00,9,  -999.00,9,   1.4402,2,  27.7471,2,   1.6792,2