BOTTLE,20230330JMAAMD
EXPOCODE,SECT_ID,STNNBR,CASTNO,SAMPNO,BTLNBR,BTLNBR_FLAG_U,DATE,TIME,BTL_TIME,LATITUDE,LONGITUDE,DEPTH,CTDPRS,CTDDEP,CTDTMP,CTDSAL,CTDSAL_FLAG_W,CTDOXY,CTDOXY_FLAG_W,SALNTY,SALNTY_FLAG_W,OXYGEN,OXYGEN_FLAG_W,SILCAT,SILCAT_FLAG_W,NO2+NO3,NO2+NO3_FLAG_W,NITRIT,NITRIT_FLAG_W,PHSPHT,PHSPHT_FLAG_W,CFC-11,CFC-11_FLAG_W,CFC-12,CFC-12_FLAG_W,TCARBN,TCARBN_FLAG_W,ALKALI,ALKALI_FLAG_W,PH_TS,PH_TS_FLAG_W,PH_TS_TMP,CFC113,CFC113_FLAG_W,CHLORA,CHLORA_FLAG_W,PPHYTN,PPHYTN_FLAG_W,THETA,THETA_FLAG_W,SIGTHT,SIGTHT_FLAG_W,SBE35,SBE35_FLAG_W
,,,,,,,,UTC,,,,METER,DBAR,METERS,ITS-90,PSS-78,,UMOL/KG,,PSS78,,UMOL/KG,,UMOL/KG,,UMOL/KG,,UMOL/KG,,UMOL/KG,,PMOL/KG,,PMOL/KG,,UMOL/KG,,UMOL/KG,,,,ITS-90,PMOL/KG,,UG/KG,,UG/KG,,ITS-90,,KG/M3,,ITS-90,
49UP20220929_1,    P9,    87,  1,      0,      -9,0,20221016,0838,1008, 32.3142, 137.0032, 4037,      0.0,        0,  25.1811,  33.8763,2,    210.1,2,-999.0000,9,   209.75,2,     2.68,2,     0.04,2,     0.00,2,    0.010,2, -999.000,9, -999.000,9,   -999.0,9,   -999.0,9,-999.0000,9,  -999.00, -999.000,9,  -999.00,9,  -999.00,9,  25.1806,2,  22.4375,2,-999.0000,9
49UP20220929_1,    P9,    87,  1,     36,     757,2,20221016,0838,1028, 32.3142, 137.0032, 4037,     11.1,       11,  25.1855,  33.8762,2,    210.0,2,  33.8783,2,   210.00,2,     2.68,2,     0.02,2,     0.00,2,    0.010,2, -999.000,9, -999.000,9,   -999.0,9,   -999.0,9,-999.0000,9,  -999.00, -999.000,9,  -999.00,9,  -999.00,9,  25.1831,2,  22.4367,2,  25.1854,2
49UP20220929_1,    P9,    87,  1,     35,     756,2,20221016,0838,1027, 32.3142, 137.0032, 4037,     26.1,       26,  25.1881,  33.8774,2,    209.9,2,  33.8795,2,   209.67,2,     2.69,2,     0.04,2,     0.00,2,    0.010,2, -999.000,9, -999.000,9,   -999.0,9,   -999.0,9,-999.0000,9,  -999.00, -999.000,9,  -999.00,9,  -999.00,9,  25.1825,2,  22.4378,2,  25.1864,2
49UP20220929_1,    P9,    87,  1,     34,     323,2,20221016,0838,1025, 32.3142, 137.0032, 4037,     51.2,       51,  20.5244,  34.5533,2,    172.0,2,  34.5569,2,   172.75,2,     8.29,2,     6.17,2,     0.24,2,    0.430,2, -999.000,9, -999.000,9,   -999.0,9,   -999.0,9,-999.0000,9,  -999.00, -999.000,9,  -999.00,9,  -999.00,9,  20.5148,2,  24.2845,2,  20.5120,2
49UP20220929_1,    P9,    87,  1,     33,     322,2,20221016,0838,1023, 32.3142, 137.0032, 4037,     76.9,       76,  17.5007,  34.5990,2,    166.7,2,  34.5971,2,   167.21,2,    13.12,2,     9.36,2,     0.04,2,    0.650,2, -999.000,9, -999.000,9,   -999.0,9,   -999.0,9,-999.0000,9,  -999.00, -999.000,9,  -999.00,9,  -999.00,9,  17.4878,2,  25.0898,2,  17.5278,2
49UP20220929_1,    P9,    87,  1,     32,     321,2,20221016,0838,1020, 32.3142, 137.0032, 4037,    100.2,       99,  15.3870,  34.5562,2,    164.7,2,  34.5576,2,   164.66,2,    17.85,2,    12.08,2,     0.02,2,    0.850,2, -999.000,9, -999.000,9,   -999.0,9,   -999.0,9,-999.0000,9,  -999.00, -999.000,9,  -999.00,9,  -999.00,9,  15.3716,2,  25.5478,2,  15.3819,2
49UP20220929_1,    P9,    87,  1,     31,     320,2,20221016,0838,1019, 32.3142, 137.0032, 4037,    126.5,      126,  13.9358,  34.4999,2,    158.3,2,  34.5004,2,   158.72,2,    23.29,2,    14.72,2,     0.01,2,    1.040,2, -999.000,9, -999.000,9,   -999.0,9,   -999.0,9,-999.0000,9,  -999.00, -999.000,9,  -999.00,9,  -999.00,9,  13.9177,2,  25.8178,2,  13.9364,2
49UP20220929_1,    P9,    87,  1,     29,     318,2,20221016,0838,1017, 32.3142, 137.0032, 4037,    152.9,      152,  12.1787,  34.4285,2,    148.2,2,  34.4304,2,   148.70,2,    31.24,2,    18.24,2,     0.00,2,    1.290,2, -999.000,9, -999.000,9,   -999.0,9,   -999.0,9,-999.0000,9,  -999.00, -999.000,9,  -999.00,9,  -999.00,9,  12.1587,2,  26.1149,2,  12.1835,2
49UP20220929_1,    P9,    87,  1,     30,     319,2,20221016,0838,1017, 32.3142, 137.0032, 4037,    154.0,      153,  12.1607,  34.4283,2,    148.2,2,  34.4297,2,   148.63,2,    31.27,2,    18.26,2,     0.00,2,    1.290,2, -999.000,9, -999.000,9,   -999.0,9,   -999.0,9,-999.0000,9,  -999.00, -999.000,9,  -999.00,9,  -999.00,9,  12.1405,2,  26.1182,2,  12.1658,2
49UP20220929_1,    P9,    87,  1,     28,     755,2,20221016,0838,1015, 32.3142, 137.0032, 4037,    202.1,      201,   9.6400,  34.3373,2,    129.1,2,  34.3379,2,   128.92,2,    47.30,2,    24.13,2,     0.00,2,    1.710,2, -999.000,9, -999.000,9,   -999.0,9,   -999.0,9,-999.0000,9,  -999.00, -999.000,9,  -999.00,9,  -999.00,9,   9.6173,2,  26.4987,2,   9.6393,2
49UP20220929_1,    P9,    87,  1,     27,     317,2,20221016,0838,1013, 32.3142, 137.0032, 4037,    254.6,      253,   8.0501,  34.2773,2,    115.6,2,  34.2782,2,   115.58,6,    58.85,6,    28.07,6,     0.00,6,    2.000,6, -999.000,9, -999.000,9,   -999.0,9,   -999.0,9,-999.0000,9,  -999.00, -999.000,9,  -999.00,9,  -999.00,9,   8.0244,2,  26.7026,2,   8.0499,2
49UP20220929_1,    P9,    87,  1,     26,     316,2,20221016,0838,1010, 32.3142, 137.0032, 4037,    332.7,      330,   6.7546,  34.2418,2,    101.3,2,  34.2425,2,   101.38,2,    71.30,2,    31.64,2,     0.00,2,    2.250,2, -999.000,9, -999.000,9,   -999.0,9,   -999.0,9,-999.0000,9,  -999.00, -999.000,9,  -999.00,9,  -999.00,9,   6.7241,2,  26.8590,2,   6.7546,2
49UP20220929_1,    P9,    87,  1,     25,     315,2,20221016,0838,1007, 32.3142, 137.0032, 4037,    437.2,      434,   5.6115,  34.2746,2,     82.7,2,  34.2715,2,    83.65,2,    86.64,2,    35.12,2,     0.00,2,    2.510,2, -999.000,9, -999.000,9,   -999.0,9,   -999.0,9,-999.0000,9,  -999.00, -999.000,9,  -999.00,9,  -999.00,9,   5.5749,2,  27.0321,2,   5.6076,2
49UP20220929_1,    P9,    87,  1,     24,     753,2,20221016,0838,1005, 32.3142, 137.0032, 4037,    536.3,      532,   4.6256,  34.2954,2,     68.1,2,  34.2951,2,    68.36,2,   102.74,2,    38.04,2,     0.00,2,    2.710,2, -999.000,9, -999.000,9,   -999.0,9,   -999.0,9,-999.0000,9,  -999.00, -999.000,9,  -999.00,9,  -999.00,9,   4.5844,2,  27.1634,2,   4.6254,2
49UP20220929_1,    P9,    87,  1,     23,     314,2,20221016,0838,1002, 32.3142, 137.0032, 4037,    635.0,      630,   4.0578,  34.3476,2,     62.7,2,  34.3945,6,    62.28,2,   122.10,2,    39.94,2,     0.00,2,    2.840,2, -999.000,9, -999.000,9,   -999.0,9,   -999.0,9,-999.0000,9,  -999.00, -999.000,9,  -999.00,9,  -999.00,9,   4.0114,2,  27.2660,2,   4.0578,2
49UP20220929_1,    P9,    87,  1,     22,     313,2,20221016,0838,0959, 32.3142, 137.0032, 4037,    737.1,      731,   3.6502,  34.3943,2,     62.1,2,  34.3941,2,    62.07,2,   122.06,2,    39.93,2,     0.00,2,    2.840,2, -999.000,9, -999.000,9,   -999.0,9,   -999.0,9,-999.0000,9,  -999.00, -999.000,9,  -999.00,9,  -999.00,9,   3.5981,2,  27.3449,2,   3.6500,2
49UP20220929_1,    P9,    87,  1,     20,     311,2,20221016,0838,0956, 32.3142, 137.0032, 4037,    840.6,      833,   3.2363,  34.4337,2,     61.7,2,  34.4329,2,    61.80,2,   130.51,2,    40.52,2,     0.00,2,    2.880,2, -999.000,9, -999.000,9,   -999.0,9,   -999.0,9,-999.0000,9,  -999.00, -999.000,9,  -999.00,9,  -999.00,9,   3.1788,2,  27.4165,2,   3.2390,2
49UP20220929_1,    P9,    87,  1,     21,     312,2,20221016,0838,0956, 32.3142, 137.0032, 4037,    841.5,      834,   3.2302,  34.4348,2,     61.8,2,  34.4297,2,    61.86,2,   130.69,2,    40.54,2,     0.00,2,    2.880,2, -999.000,9, -999.000,9,   -999.0,9,   -999.0,9,-999.0000,9,  -999.00, -999.000,9,  -999.00,9,  -999.00,9,   3.1726,2,  27.4180,2,   3.2324,2
49UP20220929_1,    P9,    87,  1,     19,     310,2,20221016,0838,0953, 32.3142, 137.0032, 4037,    941.8,      933,   3.0330,  34.4582,2,     64.3,2,  34.4557,2,    64.58,2,   134.58,2,    40.56,2,     0.00,2,    2.880,2, -999.000,9, -999.000,9,   -999.0,9,   -999.0,9,-999.0000,9,  -999.00, -999.000,9,  -999.00,9,  -999.00,9,   2.9693,2,  27.4554,2,   3.0330,2
49UP20220929_1,    P9,    87,  1,     18,     752,2,20221016,0838,0949, 32.3142, 137.0032, 4037,   1082.8,     1072,   2.7497,  34.4917,2,     69.2,2,  34.4918,2,    69.54,6,   139.85,6,    40.57,6,     0.00,6,    2.870,6, -999.000,9, -999.000,9,   -999.0,9,   -999.0,9,-999.0000,9,  -999.00, -999.000,9,  -999.00,9,  -999.00,9,   2.6776,2,  27.5081,2,   2.7495,2
49UP20220929_1,    P9,    87,  1,     17,     751,2,20221016,0838,0944, 32.3142, 137.0032, 4037,   1281.5,     1269,   2.4779,  34.5273,2,     77.7,2,  34.5276,2,    77.79,2,   143.92,2,    40.22,2,     0.00,2,    2.840,2, -999.000,9, -999.000,9,   -999.0,9,   -999.0,9,-999.0000,9,  -999.00, -999.000,9,  -999.00,9,  -999.00,9,   2.3932,2,  27.5609,2,   2.4774,2
49UP20220929_1,    P9,    87,  1,     16,     328,2,20221016,0838,0939, 32.3142, 137.0032, 4037,   1490.2,     1475,   2.2438,  34.5602,2,     88.4,2,  34.5602,6,    88.75,2,   146.33,2,    39.70,2,     0.00,2,    2.790,2, -999.000,9, -999.000,9,   -999.0,9,   -999.0,9,-999.0000,9,  -999.00, -999.000,9,  -999.00,9,  -999.00,9,   2.1455,2,  27.6077,2,   2.2435,2
49UP20220929_1,    P9,    87,  1,     15,     309,2,20221016,0838,0934, 32.3142, 137.0032, 4037,   1688.5,     1670,   2.0729,  34.5854,2,     98.2,2,  34.5854,2,    98.21,2,   147.51,2,    39.19,2,     0.00,2,    2.750,2, -999.000,9, -999.000,9,   -999.0,9,   -999.0,9,-999.0000,9,  -999.00, -999.000,9,  -999.00,9,  -999.00,9,   1.9611,2,  27.6426,2,   2.0729,2
49UP20220929_1,    P9,    87,  1,     14,     326,2,20221016,0838,0929, 32.3142, 137.0032, 4037,   1890.9,     1869,   1.9328,  34.6066,2,    108.0,2,  34.6069,2,   108.20,2,   147.51,2,    38.54,2,     0.00,2,    2.700,2, -999.000,9, -999.000,9,   -999.0,9,   -999.0,9,-999.0000,9,  -999.00, -999.000,9,  -999.00,9,  -999.00,9,   1.8064,2,  27.6716,2,   1.9326,2
49UP20220929_1,    P9,    87,  1,     13,     822,2,20221016,0838,0924, 32.3142, 137.0032, 4037,   2094.6,     2070,   1.8187,  34.6238,2,    116.8,2,  34.6243,2,   116.87,2,   147.38,2,    38.10,2,     0.00,2,    2.660,2, -999.000,9, -999.000,9,   -999.0,9,   -999.0,9,-999.0000,9,  -999.00, -999.000,9,  -999.00,9,  -999.00,9,   1.6772,2,  27.6952,2,   1.8184,2
49UP20220929_1,    P9,    87,  1,     11,     323,2,20221016,0838,0920, 32.3142, 137.0032, 4037,   2300.1,     2272,   1.7275,  34.6376,2,    124.3,2,  34.6380,2,   124.22,2,   147.16,2,    37.65,2,     0.00,2,    2.630,2, -999.000,9, -999.000,9,   -999.0,9,   -999.0,9,-999.0000,9,  -999.00, -999.000,9,  -999.00,9,  -999.00,9,   1.5700,2,  27.7142,2,   1.7272,2
49UP20220929_1,    P9,    87,  1,     12,     324,2,20221016,0838,0920, 32.3142, 137.0032, 4037,   2300.9,     2272,   1.7269,  34.6378,2,    124.3,2,  34.6379,2,   124.22,2,   147.09,2,    37.63,2,     0.00,2,    2.630,2, -999.000,9, -999.000,9,   -999.0,9,   -999.0,9,-999.0000,9,  -999.00, -999.000,9,  -999.00,9,  -999.00,9,   1.5693,2,  27.7144,2,   1.7270,2
49UP20220929_1,    P9,    87,  1,     10,     322,2,20221016,0838,0915, 32.3142, 137.0032, 4037,   2504.2,     2472,   1.6582,  34.6495,2,    132.7,2,  34.6494,2,   132.39,2,   145.51,2,    37.11,2,     0.00,2,    2.580,2, -999.000,9, -999.000,9,   -999.0,9,   -999.0,9,-999.0000,9,  -999.00, -999.000,9,  -999.00,9,  -999.00,9,   1.4839,2,  27.7300,2,   1.6581,2
49UP20220929_1,    P9,    87,  1,      9,     750,2,20221016,0838,0910, 32.3142, 137.0032, 4037,   2706.7,     2671,   1.6045,  34.6581,2,    138.3,2,  34.6579,2,   138.49,6,   144.72,6,    36.74,6,     0.00,6,    2.560,6, -999.000,9, -999.000,9,   -999.0,9,   -999.0,9,-999.0000,9,  -999.00, -999.000,9,  -999.00,9,  -999.00,9,   1.4130,2,  27.7421,2,   1.6044,2
49UP20220929_1,    P9,    87,  1,      8,     320,2,20221016,0838,0905, 32.3142, 137.0032, 4037,   2910.9,     2871,   1.5502,  34.6664,2,    143.9,2,  34.6660,2,   143.96,2,   144.05,2,    36.40,2,     0.00,2,    2.530,2, -999.000,9, -999.000,9,   -999.0,9,   -999.0,9,-999.0000,9,  -999.00, -999.000,9,  -999.00,9,  -999.00,9,   1.3407,2,  27.7539,2,   1.5501,2
49UP20220929_1,    P9,    87,  1,      7,     319,2,20221016,0838,0900, 32.3142, 137.0032, 4037,   3122.9,     3078,   1.5135,  34.6726,2,    148.2,2,  34.6716,2,   148.41,2,   143.49,2,    36.11,2,     0.00,2,    2.510,2, -999.000,9, -999.000,9,   -999.0,9,   -999.0,9,-999.0000,9,  -999.00, -999.000,9,  -999.00,9,  -999.00,9,   1.2846,2,  27.7628,2,   1.5134,2
49UP20220929_1,    P9,    87,  1,      6,     318,2,20221016,0838,0854, 32.3142, 137.0032, 4037,   3383.3,     3333,   1.5133,  34.6757,2,    150.1,2,  34.6757,2,   150.34,2,   143.30,2,    36.00,2,     0.00,2,    2.500,2, -999.000,9, -999.000,9,   -999.0,9,   -999.0,9,-999.0000,9,  -999.00, -999.000,9,  -999.00,9,  -999.00,9,   1.2587,2,  27.7671,2,   1.5133,2
49UP20220929_1,    P9,    87,  1,      5,     838,2,20221016,0838,0849, 32.3142, 137.0032, 4037,   3633.5,     3577,   1.5210,  34.6777,2,    151.6,2,  34.6771,2,   151.87,2,   142.85,2,    35.91,2,     0.00,2,    2.480,2, -999.000,9, -999.000,9,   -999.0,9,   -999.0,9,-999.0000,9,  -999.00, -999.000,9,  -999.00,9,  -999.00,9,   1.2406,2,  27.7700,2,   1.5210,2
49UP20220929_1,    P9,    87,  1,      4,     316,2,20221016,0838,0844, 32.3142, 137.0032, 4037,   3891.8,     3829,   1.5355,  34.6790,2,    152.7,2,  34.6790,6,   152.93,2,   142.84,2,    35.89,2,     0.00,2,    2.480,2, -999.000,9, -999.000,9,   -999.0,9,   -999.0,9,-999.0000,9,  -999.00, -999.000,9,  -999.00,9,  -999.00,9,   1.2274,2,  27.7720,2,   1.5354,2
49UP20220929_1,    P9,    87,  1,      2,     314,2,20221016,0838,0839, 32.3142, 137.0032, 4037,   4093.4,     4026,   1.5483,  34.6801,2,    153.6,2,  34.6801,2,   153.39,2,   142.84,2,    35.87,2,     0.00,2,    2.480,2, -999.000,9, -999.000,9,   -999.0,9,   -999.0,9,-999.0000,9,  -999.00, -999.000,9,  -999.00,9,  -999.00,9,   1.2179,2,  27.7735,2,   1.5482,2
49UP20220929_1,    P9,    87,  1,      1,     308,2,20221016,0838,0839, 32.3142, 137.0032, 4037,   4093.9,     4026,   1.5483,  34.6802,2,    153.6,2,  34.6804,2,   153.81,2,   142.89,2,    35.82,2,     0.00,2,    2.480,2, -999.000,9, -999.000,9,   -999.0,9,   -999.0,9,-999.0000,9,  -999.00, -999.000,9,  -999.00,9,  -999.00,9,   1.2178,2,  27.7736,2,   1.5481,2
BTLNBR_FLAG_U : 0 means Bucket Sampling and other refered to WOCE Flag.