BOTTLE,20230330JMAAMD
EXPOCODE,SECT_ID,STNNBR,CASTNO,SAMPNO,BTLNBR,BTLNBR_FLAG_U,DATE,TIME,BTL_TIME,LATITUDE,LONGITUDE,DEPTH,CTDPRS,CTDDEP,CTDTMP,CTDSAL,CTDSAL_FLAG_W,CTDOXY,CTDOXY_FLAG_W,SALNTY,SALNTY_FLAG_W,OXYGEN,OXYGEN_FLAG_W,SILCAT,SILCAT_FLAG_W,NO2+NO3,NO2+NO3_FLAG_W,NITRIT,NITRIT_FLAG_W,PHSPHT,PHSPHT_FLAG_W,CFC-11,CFC-11_FLAG_W,CFC-12,CFC-12_FLAG_W,TCARBN,TCARBN_FLAG_W,ALKALI,ALKALI_FLAG_W,PH_TS,PH_TS_FLAG_W,PH_TS_TMP,CFC113,CFC113_FLAG_W,CHLORA,CHLORA_FLAG_W,PPHYTN,PPHYTN_FLAG_W,THETA,THETA_FLAG_W,SIGTHT,SIGTHT_FLAG_W,SBE35,SBE35_FLAG_W
,,,,,,,,UTC,,,,METER,DBAR,METERS,ITS-90,PSS-78,,UMOL/KG,,PSS78,,UMOL/KG,,UMOL/KG,,UMOL/KG,,UMOL/KG,,UMOL/KG,,PMOL/KG,,PMOL/KG,,UMOL/KG,,UMOL/KG,,,,ITS-90,PMOL/KG,,UG/KG,,UG/KG,,ITS-90,,KG/M3,,ITS-90,
49UP20220727_1,    P9,     3,  1,      0,      -9,0,20220805,1732,1845, -2.0107, 141.9840, 3606,      0.0,        0,  29.4011,  35.3521,2,    195.2,2,  35.3523,2,   195.42,2,     0.80,2,     0.34,2,     0.09,2,    0.270,2, -999.000,9, -999.000,9,   1993.7,2,   2324.4,2,   8.0883,2,    25.00, -999.000,9,     0.59,2,     0.20,2,  29.4005,2,  22.1939,2,-999.0000,9
49UP20220727_1,    P9,     3,  1,     36,     757,2,20220805,1732,1920, -2.0107, 141.9840, 3606,     10.7,       11,  29.4096,  35.3528,2,    195.2,2,  35.3488,2,   195.38,2,     0.76,2,     0.35,2,     0.09,2,    0.240,2, -999.000,9, -999.000,9,   1995.1,2,   2325.7,2,   8.0870,2,    25.00, -999.000,9,     0.48,2,     0.20,2,  29.4069,2,  22.1922,2,  29.4049,2
49UP20220727_1,    P9,     3,  1,     35,     756,2,20220805,1732,1919, -2.0107, 141.9840, 3606,     25.6,       25,  29.4153,  35.3533,2,    195.2,2,  35.3484,2,   195.09,2,     0.76,2,     0.35,2,     0.09,2,    0.240,2, -999.000,9, -999.000,9,   1996.0,2,   2325.3,2,   8.0889,2,    25.00, -999.000,9,     0.49,2,     0.19,2,  29.4090,2,  22.1919,2,  29.4158,2
49UP20220727_1,    P9,     3,  1,     34,     323,2,20220805,1732,1914, -2.0107, 141.9840, 3606,     50.7,       50,  29.4238,  35.3558,2,    195.2,2,  35.3552,2,   194.63,2,     0.85,2,     0.42,2,     0.11,2,    0.250,2, -999.000,9, -999.000,9,   1996.7,6,   2326.4,6,   8.0840,2,    25.00, -999.000,9,     0.45,2,     0.18,2,  29.4114,2,  22.1930,2,  29.4232,2
49UP20220727_1,    P9,     3,  1,     33,     322,2,20220805,1732,1912, -2.0107, 141.9840, 3606,     75.5,       75,  29.4176,  35.3702,2,    193.9,2,  35.3688,2,   193.02,2,     0.90,2,     0.60,2,     0.14,2,    0.270,2, -999.000,9, -999.000,9,   1999.1,2,   2326.7,2,   8.0809,6,    25.00, -999.000,9,     0.34,2,     0.15,2,  29.3992,2,  22.2079,2,  29.4167,2
49UP20220727_1,    P9,     3,  1,     32,     321,2,20220805,1732,1911, -2.0107, 141.9840, 3606,    101.3,      101,  29.4198,  35.3745,2,    194.3,2,  35.3741,2,   193.13,6,     0.97,6,     0.67,6,     0.15,6,    0.270,6, -999.000,9, -999.000,9,   2001.9,2,   2327.7,2,   8.0833,2,    25.00, -999.000,9,     0.32,2,     0.14,2,  29.3950,2,  22.2125,2,  29.4174,2
49UP20220727_1,    P9,     3,  1,     31,     320,2,20220805,1732,1910, -2.0107, 141.9840, 3606,    125.9,      125,  29.1740,  35.4097,2,    176.5,2,  35.4142,2,   175.49,2,     1.56,2,     3.25,2,     0.23,2,    0.420,2, -999.000,9, -999.000,9,   2025.2,2,   2327.5,2,   8.0480,2,    25.00, -999.000,9,     0.06,2,     0.06,2,  29.1433,2,  22.3237,2,  29.1645,2
49UP20220727_1,    P9,     3,  1,     30,     319,2,20220805,1732,1908, -2.0107, 141.9840, 3606,    151.1,      150,  27.2911,  35.5555,2,    141.3,2,  35.5709,2,   142.69,2,     2.22,2,     7.55,2,     0.04,2,    0.680,2, -999.000,9, -999.000,9,   2071.4,2,   2335.9,2,   7.9742,2,    25.00, -999.000,9,     0.01,2,     0.04,2,  27.2561,2,  23.0541,2,  27.2862,2
49UP20220727_1,    P9,     3,  1,     29,     318,2,20220805,1732,1906, -2.0107, 141.9840, 3606,    200.7,      199,  21.3999,  35.6372,2,    130.9,2,  35.6339,2,   130.66,2,     3.69,2,    10.83,2,     0.02,2,    0.900,2, -999.000,9, -999.000,9,   2127.3,2,   2340.9,2,   7.8794,2,    25.00, -999.000,9,  -999.00,9,  -999.00,9,  21.3608,2,  24.8801,2,  21.4518,2
49UP20220727_1,    P9,     3,  1,     28,     755,2,20220805,1732,1906, -2.0107, 141.9840, 3606,    200.7,      199,  21.2945,  35.6338,2,    131.2,2,  35.6261,2,   130.41,2,     3.88,2,    11.07,2,     0.02,2,    0.930,2, -999.000,9, -999.000,9,   2130.3,2,   2341.3,2,   7.8757,2,    25.00, -999.000,9,     0.00,2,     0.02,2,  21.2556,2,  24.9065,2,  21.3617,2
49UP20220727_1,    P9,     3,  1,     27,     317,2,20220805,1732,1904, -2.0107, 141.9840, 3606,    251.6,      250,  15.6616,  35.2526,2,    132.8,2,  35.2629,2,   133.21,2,     7.73,2,    15.72,2,     0.01,2,    1.230,2, -999.000,9, -999.000,9,   2153.2,2,   2324.2,2,   7.7806,2,    25.00, -999.000,9,  -999.00,9,  -999.00,9,  15.6222,2,  26.0279,2,  15.6643,2
49UP20220727_1,    P9,     3,  1,     26,     316,2,20220805,1732,1903, -2.0107, 141.9840, 3606,    281.8,      280,  12.5554,  34.9584,2,    154.3,2,  34.9587,2,   154.57,2,    10.55,2,    18.42,2,     0.01,2,    1.360,2, -999.000,9, -999.000,9,   2157.8,2,   2308.3,2,   7.7471,2,    25.00, -999.000,9,  -999.00,9,  -999.00,9,  12.5174,2,  26.4565,2,  12.5536,2
49UP20220727_1,    P9,     3,  1,     25,     315,2,20220805,1732,1901, -2.0107, 141.9840, 3606,    322.6,      321,  11.1214,  34.8271,2,    156.6,2,  34.8259,2,   156.49,2,    13.51,2,    20.76,2,     0.00,2,    1.500,2, -999.000,9, -999.000,9,   2166.5,2,   2304.2,2,   7.7177,2,    25.00, -999.000,9,  -999.00,9,  -999.00,9,  11.0812,2,  26.6261,2,  11.1197,2
49UP20220727_1,    P9,     3,  1,     24,     753,2,20220805,1732,1859, -2.0107, 141.9840, 3606,    372.9,      371,  10.6267,  34.7780,2,    150.7,2,  34.7764,6,   151.29,2,    15.92,2,    22.25,2,     0.00,2,    1.600,2, -999.000,9, -999.000,9,   2172.6,2,   2303.1,2,   7.6972,2,    25.00, -999.000,9,  -999.00,9,  -999.00,9,  10.5815,2,  26.6775,2,  10.6263,2
49UP20220727_1,    P9,     3,  1,     23,     314,2,20220805,1732,1857, -2.0107, 141.9840, 3606,    422.8,      420,   9.7832,  34.7093,2,    158.7,2,  34.7096,2,   159.14,6,    16.76,6,    23.12,6,     0.00,6,    1.650,6, -999.000,9, -999.000,9,   2177.9,2,   2296.7,2,   7.6885,2,    25.00, -999.000,9,  -999.00,9,  -999.00,9,   9.7344,2,  26.7699,2,   9.7810,2
49UP20220727_1,    P9,     3,  1,     22,     313,2,20220805,1732,1855, -2.0107, 141.9840, 3606,    474.8,      472,   8.7689,  34.6282,2,    165.7,2,  34.6266,2,   165.94,2,    19.16,2,    24.53,2,     0.00,2,    1.730,2, -999.000,9, -999.000,9,   2176.2,2,   2301.5,2,   7.6765,2,    25.00, -999.000,9,  -999.00,9,  -999.00,9,   8.7176,2,  26.8718,2,   8.7660,2
49UP20220727_1,    P9,     3,  1,     21,     312,2,20220805,1732,1852, -2.0107, 141.9840, 3606,    575.7,      572,   6.8613,  34.5103,2,    170.5,2,  34.5107,2,   171.04,2,    28.92,2,    27.87,2,     0.00,2,    1.950,2, -999.000,9, -999.000,9,   2189.5,2,   2303.2,2,   7.6443,2,    25.00, -999.000,9,  -999.00,9,  -999.00,9,   6.8070,2,  27.0595,2,   6.8621,2
49UP20220727_1,    P9,     3,  1,     20,     311,2,20220805,1732,1849, -2.0107, 141.9840, 3606,    676.1,      671,   5.9595,  34.4814,2,    165.1,2,  34.4815,2,   165.93,2,    38.00,2,    30.09,2,     0.00,2,    2.100,2, -999.000,9, -999.000,9,   2204.6,2,   2311.7,2,   7.6238,2,    25.00, -999.000,9,  -999.00,9,  -999.00,9,   5.8998,2,  27.1556,2,   5.9591,2
49UP20220727_1,    P9,     3,  1,     18,     752,2,20220805,1732,1845, -2.0107, 141.9840, 3606,    778.8,      773,   5.4924,  34.4792,2,    161.6,2,  34.4785,2,   162.40,2,    44.54,2,    31.20,2,     0.00,2,    2.180,2, -999.000,9, -999.000,9,   2217.6,2,   2317.1,2,   7.6131,2,    25.00, -999.000,9,  -999.00,9,  -999.00,9,   5.4259,2,  27.2121,2,   5.4943,2
49UP20220727_1,    P9,     3,  1,     19,     310,2,20220805,1732,1846, -2.0107, 141.9840, 3606,    779.9,      774,   5.4366,  34.4788,2,    160.8,2,  34.4773,2,   162.21,2,    44.76,2,    31.22,2,     0.00,2,    2.180,2, -999.000,9, -999.000,9,   2219.0,2,   2315.7,2,   7.6123,2,    25.00, -999.000,9,  -999.00,9,  -999.00,9,   5.3702,2,  27.2185,2,   5.4392,2
49UP20220727_1,    P9,     3,  1,     17,     751,2,20220805,1732,1842, -2.0107, 141.9840, 3606,    879.7,      873,   4.9916,  34.5219,2,    123.1,2,  34.5171,4,   126.70,2,    64.33,2,    34.97,2,     0.00,2,    2.470,2, -999.000,9, -999.000,9,   2257.5,2,   2337.2,2,   7.5549,2,    25.00, -999.000,9,  -999.00,9,  -999.00,9,   4.9191,2,  27.3055,2,   4.9909,2
49UP20220727_1,    P9,     3,  1,     16,     328,2,20220805,1732,1839, -2.0107, 141.9840, 3606,    981.4,      974,   4.4610,  34.5401,2,    113.4,2,  34.5398,2,   112.87,2,    79.30,2,    36.71,2,     0.00,2,    2.610,2, -999.000,9, -999.000,9,   2282.2,2,   2351.2,2,   7.5336,2,    25.00, -999.000,9,  -999.00,9,  -999.00,9,   4.3834,2,  27.3797,2,   4.4598,2
49UP20220727_1,    P9,     3,  1,     15,     309,2,20220805,1732,1834, -2.0107, 141.9840, 3606,   1140.7,     1131,   4.0002,  34.5636,2,    101.1,2,  34.5633,2,   101.22,2,    94.16,2,    38.18,2,     0.00,2,    2.720,2, -999.000,9, -999.000,9,   2300.5,6,   2366.7,6,   7.5149,2,    25.00, -999.000,9,  -999.00,9,  -999.00,9,   3.9126,2,  27.4480,2,   3.9998,2
49UP20220727_1,    P9,     3,  1,     14,     326,2,20220805,1732,1829, -2.0107, 141.9840, 3606,   1342.7,     1331,   3.3498,  34.5862,2,    105.8,2,  34.5865,2,   106.00,6,   108.58,6,    38.22,6,     0.00,6,    2.720,6, -999.000,9, -999.000,9,   2312.0,2,   2382.9,2,   7.5186,6,    25.00, -999.000,9,  -999.00,9,  -999.00,9,   3.2513,2,  27.5313,2,   3.3495,2
49UP20220727_1,    P9,     3,  1,     13,     325,2,20220805,1732,1825, -2.0107, 141.9840, 3606,   1544.9,     1531,   2.8585,  34.6062,2,    109.7,2,  34.6065,2,   109.88,2,   119.96,2,    38.29,2,     0.00,2,    2.720,2, -999.000,9, -999.000,9,   2322.8,2,   2394.4,2,   7.5250,2,    25.00, -999.000,9,  -999.00,9,  -999.00,9,   2.7485,2,  27.5934,2,   2.8583,2
49UP20220727_1,    P9,     3,  1,     12,     324,2,20220805,1732,1820, -2.0107, 141.9840, 3606,   1747.5,     1731,   2.5764,  34.6192,2,    113.2,2,  34.6197,6,   113.22,2,   126.46,2,    38.22,2,     0.00,2,    2.700,2, -999.000,9, -999.000,9,   2330.7,2,   2399.3,2,   7.5284,2,    25.00, -999.000,9,  -999.00,9,  -999.00,9,   2.4530,2,  27.6294,2,   2.5763,2
49UP20220727_1,    P9,     3,  1,     11,     323,2,20220805,1732,1815, -2.0107, 141.9840, 3606,   1950.8,     1931,   2.3171,  34.6319,2,    117.3,2,  34.6309,2,   117.18,2,   132.72,2,    38.06,2,     0.00,2,    2.680,2, -999.000,9, -999.000,9,   2331.5,2,   2407.2,2,   7.5344,2,    25.00, -999.000,9,  -999.00,9,  -999.00,9,   2.1800,2,  27.6623,2,   2.3177,2
49UP20220727_1,    P9,     3,  1,     10,     322,2,20220805,1732,1811, -2.0107, 141.9840, 3606,   2152.2,     2129,   2.1050,  34.6418,2,    121.8,2,  34.6409,2,   122.50,2,   137.47,2,    37.84,2,     0.00,2,    2.660,2, -999.000,9, -999.000,9,   2335.4,2,   2411.0,2,   7.5431,2,    25.00, -999.000,9,  -999.00,9,  -999.00,9,   1.9539,2,  27.6883,2,   2.1048,2
49UP20220727_1,    P9,     3,  1,      9,     750,2,20220805,1732,1806, -2.0107, 141.9840, 3606,   2353.7,     2328,   1.9112,  34.6523,2,    128.4,2,  34.6515,2,   128.52,2,   140.25,2,    37.45,2,     0.00,2,    2.630,2, -999.000,9, -999.000,9,   2333.8,2,   2416.1,2,   7.5518,2,    25.00, -999.000,9,  -999.00,9,  -999.00,9,   1.7456,2,  27.7128,2,   1.9110,2
49UP20220727_1,    P9,     3,  1,      8,     320,2,20220805,1732,1806, -2.0107, 141.9840, 3606,   2354.6,     2329,   1.9112,  34.6522,2,    128.4,2,  34.6517,2,   128.75,2,   140.37,2,    37.44,2,     0.00,2,    2.630,2, -999.000,9, -999.000,9,   2334.2,2,   2415.2,2,   7.5501,2,    25.00, -999.000,9,  -999.00,9,  -999.00,9,   1.7455,2,  27.7128,2,   1.9109,2
49UP20220727_1,    P9,     3,  1,      7,     319,2,20220805,1732,1758, -2.0107, 141.9840, 3606,   2558.7,     2529,   1.7712,  34.6601,2,    133.8,2,  34.6598,6,   134.18,2,   142.30,2,    37.10,2,     0.00,2,    2.600,2, -999.000,9, -999.000,9,   2333.0,2,   2418.2,2,   7.5600,2,    25.00, -999.000,9,  -999.00,9,  -999.00,9,   1.5898,2,  27.7308,2,   1.7709,2
49UP20220727_1,    P9,     3,  1,      6,     318,3,20220805,1732,1753, -2.0107, 141.9840, 3606,   2761.5,     2728,   1.6815,  34.6654,2,    138.0,2,  34.6671,4,   138.01,6,   143.05,6,    36.83,6,     0.00,6,    2.580,6, -999.000,9, -999.000,9,   2333.5,2,   2416.9,2,   7.5663,2,    25.00, -999.000,9,  -999.00,9,  -999.00,9,   1.4833,2,  27.7428,2,   1.6814,2
49UP20220727_1,    P9,     3,  1,      5,     838,2,20220805,1732,1749, -2.0107, 141.9840, 3606,   2964.6,     2928,   1.6500,  34.6687,2,    140.0,2,  34.6696,2,   140.13,2,   143.59,2,    36.73,2,     0.00,2,    2.570,2, -999.000,9, -999.000,9,   2332.4,2,   2419.9,2,   7.5702,2,    25.00, -999.000,9,  -999.00,9,  -999.00,9,   1.4334,2,  27.7491,2,   1.6498,2
49UP20220727_1,    P9,     3,  1,      4,     316,2,20220805,1732,1744, -2.0107, 141.9840, 3606,   3209.4,     3168,   1.6044,  34.6729,2,    142.9,2,  34.6727,2,   142.75,2,   144.21,2,    36.55,2,     0.00,2,    2.550,2, -999.000,9, -999.000,9,   2334.8,2,   2423.6,2,   7.5757,2,    25.00, -999.000,9,  -999.00,9,  -999.00,9,   1.3649,2,  27.7574,2,   1.6043,2
49UP20220727_1,    P9,     3,  1,      3,     315,2,20220805,1732,1743, -2.0107, 141.9840, 3606,   3210.1,     3168,   1.6044,  34.6729,2,    142.8,2,  34.6727,2,   142.55,2,   144.32,2,    36.58,2,     0.00,2,    2.550,2, -999.000,9, -999.000,9,   2332.8,2,   2422.7,2,   7.5764,2,    25.00, -999.000,9,  -999.00,9,  -999.00,9,   1.3649,2,  27.7574,2,   1.6042,2
49UP20220727_1,    P9,     3,  1,      2,     314,2,20220805,1732,1738, -2.0107, 141.9840, 3606,   3465.7,     3419,   1.5928,  34.6751,2,    144.7,2,  34.6764,4,   144.51,2,   144.26,2,    36.40,2,     0.00,2,    2.540,2, -999.000,9, -999.000,9,   2330.9,6,   2423.7,6,   7.5805,2,    25.00, -999.000,9,  -999.00,9,  -999.00,9,   1.3279,2,  27.7618,2,   1.5928,2
49UP20220727_1,    P9,     3,  1,      1,     308,2,20220805,1732,1733, -2.0107, 141.9840, 3606,   3641.1,     3590,   1.5911,  34.6763,2,    146.0,2,  34.6764,6,   145.87,2,   144.34,2,    36.39,2,     0.00,2,    2.540,2, -999.000,9, -999.000,9,   2331.1,2,   2423.6,2,   7.5819,6,    25.00, -999.000,9,  -999.00,9,  -999.00,9,   1.3080,2,  27.7642,2,   1.5909,2