BOTTLE,20230330JMAAMD
EXPOCODE,SECT_ID,STNNBR,CASTNO,SAMPNO,BTLNBR,BTLNBR_FLAG_U,DATE,TIME,BTL_TIME,LATITUDE,LONGITUDE,DEPTH,CTDPRS,CTDDEP,CTDTMP,CTDSAL,CTDSAL_FLAG_W,CTDOXY,CTDOXY_FLAG_W,SALNTY,SALNTY_FLAG_W,OXYGEN,OXYGEN_FLAG_W,SILCAT,SILCAT_FLAG_W,NO2+NO3,NO2+NO3_FLAG_W,NITRIT,NITRIT_FLAG_W,PHSPHT,PHSPHT_FLAG_W,CFC-11,CFC-11_FLAG_W,CFC-12,CFC-12_FLAG_W,TCARBN,TCARBN_FLAG_W,ALKALI,ALKALI_FLAG_W,PH_TS,PH_TS_FLAG_W,PH_TS_TMP,CFC113,CFC113_FLAG_W,CHLORA,CHLORA_FLAG_W,PPHYTN,PPHYTN_FLAG_W,THETA,THETA_FLAG_W,SIGTHT,SIGTHT_FLAG_W,SBE35,SBE35_FLAG_W
,,,,,,,,UTC,,,,METER,DBAR,METERS,ITS-90,PSS-78,,UMOL/KG,,PSS78,,UMOL/KG,,UMOL/KG,,UMOL/KG,,UMOL/KG,,UMOL/KG,,PMOL/KG,,PMOL/KG,,UMOL/KG,,UMOL/KG,,,,ITS-90,PMOL/KG,,UG/KG,,UG/KG,,ITS-90,,KG/M3,,ITS-90,
49UP20220824_1,    P9,    36,  1,      0,      -9,0,20220902,2305,2352,  8.6748, 136.9865, 2401,      0.0,        0,  30.2609,  33.9265,2,    193.4,2,-999.0000,9,   194.56,2,     1.21,2,     0.03,2,     0.00,2,    0.070,2, -999.000,9, -999.000,9,   -999.0,9,   -999.0,9,-999.0000,9,  -999.00, -999.000,9,  -999.00,9,  -999.00,9,  30.2603,2,  20.8328,2,-999.0000,9
49UP20220824_1,    P9,    36,  1,     36,     757,2,20220902,2305,0023,  8.6748, 136.9865, 2401,     10.2,       10,  30.2733,  33.9274,2,    193.3,2,  33.9261,6,   194.65,2,     1.17,2,     0.04,2,     0.00,2,    0.060,2, -999.000,9, -999.000,9,   -999.0,9,   -999.0,9,-999.0000,9,  -999.00, -999.000,9,  -999.00,9,  -999.00,9,  30.2708,2,  20.8299,2,  30.2716,2
49UP20220824_1,    P9,    36,  1,     35,     756,2,20220902,2305,0021,  8.6748, 136.9865, 2401,     25.7,       26,  30.2545,  33.9269,2,    193.5,2,  33.9260,2,   194.48,6,     1.19,6,     0.05,6,     0.00,6,    0.060,6, -999.000,9, -999.000,9,   -999.0,9,   -999.0,9,-999.0000,9,  -999.00, -999.000,9,  -999.00,9,  -999.00,9,  30.2482,2,  20.8372,2,  30.2554,2
49UP20220824_1,    P9,    36,  1,     34,     323,2,20220902,2305,0018,  8.6748, 136.9865, 2401,     50.9,       51,  30.0659,  34.1866,2,    197.9,2,  34.1818,2,   198.46,2,     1.21,2,     0.02,2,     0.00,2,    0.080,2, -999.000,9, -999.000,9,   -999.0,9,   -999.0,9,-999.0000,9,  -999.00, -999.000,9,  -999.00,9,  -999.00,9,  30.0533,2,  21.0983,2,  30.0630,2
49UP20220824_1,    P9,    36,  1,     30,     319,2,20220902,2305,0016,  8.6748, 136.9865, 2401,     79.1,       79,  28.7447,  34.4841,2,    195.6,2,  34.4667,2,   195.57,2,     1.46,2,     0.03,2,     0.00,2,    0.110,2, -999.000,9, -999.000,9,   -999.0,9,   -999.0,9,-999.0000,9,  -999.00, -999.000,9,  -999.00,9,  -999.00,9,  28.7257,2,  21.7680,2,  28.7722,2
49UP20220824_1,    P9,    36,  1,     29,     318,2,20220902,2305,0016,  8.6748, 136.9865, 2401,     79.1,       79,  28.8268,  34.4781,2,    195.4,2,  34.4625,2,   195.96,2,     1.38,2,     0.02,2,     0.00,2,    0.110,2, -999.000,9, -999.000,9,   -999.0,9,   -999.0,9,-999.0000,9,  -999.00, -999.000,9,  -999.00,9,  -999.00,9,  28.8078,2,  21.7362,2,  28.8802,2
49UP20220824_1,    P9,    36,  1,     28,     755,2,20220902,2305,0015,  8.6748, 136.9865, 2401,    102.4,      102,  25.9448,  34.6678,2,    179.4,2,  34.6656,2,   180.87,2,     2.37,2,     1.00,2,     0.15,2,    0.220,2, -999.000,9, -999.000,9,   -999.0,9,   -999.0,9,-999.0000,9,  -999.00, -999.000,9,  -999.00,9,  -999.00,9,  25.9220,2,  22.8070,2,  25.9575,2
49UP20220824_1,    P9,    36,  1,     27,     317,2,20220902,2305,0013,  8.6748, 136.9865, 2401,    126.7,      126,  21.9043,  34.7301,2,    158.4,2,  34.7263,2,   159.06,2,     5.03,2,     5.31,2,     0.07,2,    0.510,2, -999.000,9, -999.000,9,   -999.0,9,   -999.0,9,-999.0000,9,  -999.00, -999.000,9,  -999.00,9,  -999.00,9,  21.8793,2,  24.0465,2,  21.9222,2
49UP20220824_1,    P9,    36,  1,     26,     316,2,20220902,2305,0011,  8.6748, 136.9865, 2401,    151.2,      150,  18.4568,  34.6733,2,    152.7,2,  34.6715,2,   153.36,2,     7.97,2,     8.65,2,     0.02,2,    0.720,2, -999.000,9, -999.000,9,   -999.0,9,   -999.0,9,-999.0000,9,  -999.00, -999.000,9,  -999.00,9,  -999.00,9,  18.4305,2,  24.9151,2,  18.4644,2
49UP20220824_1,    P9,    36,  1,     25,     315,2,20220902,2305,0009,  8.6748, 136.9865, 2401,    201.8,      201,  14.4911,  34.5389,2,    127.6,2,  34.5382,2,   127.82,2,    17.41,2,    16.85,2,     0.01,2,    1.260,2, -999.000,9, -999.000,9,   -999.0,9,   -999.0,9,-999.0000,9,  -999.00, -999.000,9,  -999.00,9,  -999.00,9,  14.4613,2,  25.7330,2,  14.4883,2
49UP20220824_1,    P9,    36,  1,     24,     753,2,20220902,2305,0007,  8.6748, 136.9865, 2401,    251.8,      250,  11.2137,  34.4401,2,    107.3,2,  34.4443,2,   107.20,2,    27.98,2,    24.07,2,     0.00,2,    1.750,2, -999.000,9, -999.000,9,   -999.0,9,   -999.0,9,-999.0000,9,  -999.00, -999.000,9,  -999.00,9,  -999.00,9,  11.1824,2,  26.3064,2,  11.2193,2
49UP20220824_1,    P9,    36,  1,     23,     314,2,20220902,2305,0005,  8.6748, 136.9865, 2401,    332.2,      330,   9.1178,  34.5343,2,     77.9,2,  34.5339,2,    77.80,2,    37.91,2,    31.37,2,     0.00,2,    2.240,2, -999.000,9, -999.000,9,   -999.0,9,   -999.0,9,-999.0000,9,  -999.00, -999.000,9,  -999.00,9,  -999.00,9,   9.0814,2,  26.7404,2,   9.1180,2
49UP20220824_1,    P9,    36,  1,     22,     313,2,20220902,2305,0002,  8.6748, 136.9865, 2401,    382.4,      380,   8.6888,  34.5479,2,     77.8,2,  34.5468,2,    78.40,6,    39.57,6,    32.19,6,     0.00,6,    2.300,6, -999.000,9, -999.000,9,   -999.0,9,   -999.0,9,-999.0000,9,  -999.00, -999.000,9,  -999.00,9,  -999.00,9,   8.6479,2,  26.8198,2,   8.6883,2
49UP20220824_1,    P9,    36,  1,     21,     312,2,20220902,2305,0000,  8.6748, 136.9865, 2401,    433.3,      430,   8.2185,  34.5453,2,     81.3,2,  34.5446,2,    81.07,2,    41.97,2,    32.93,2,     0.00,2,    2.340,2, -999.000,9, -999.000,9,   -999.0,9,   -999.0,9,-999.0000,9,  -999.00, -999.000,9,  -999.00,9,  -999.00,9,   8.1735,2,  26.8907,2,   8.2181,2
49UP20220824_1,    P9,    36,  1,     20,     311,2,20220902,2305,0000,  8.6748, 136.9865, 2401,    433.4,      431,   8.2175,  34.5452,2,     81.3,2,  34.5448,2,    81.40,2,    41.97,2,    32.75,2,     0.00,2,    2.340,2, -999.000,9, -999.000,9,   -999.0,9,   -999.0,9,-999.0000,9,  -999.00, -999.000,9,  -999.00,9,  -999.00,9,   8.1726,2,  26.8908,2,   8.2177,2
49UP20220824_1,    P9,    36,  1,     19,     310,2,20220902,2305,2358,  8.6748, 136.9865, 2401,    484.0,      481,   7.6940,  34.5278,2,     90.2,2,  34.5275,2,    89.63,2,    45.11,2,    32.94,2,     0.00,2,    2.350,2, -999.000,9, -999.000,9,   -999.0,9,   -999.0,9,-999.0000,9,  -999.00, -999.000,9,  -999.00,9,  -999.00,9,   7.6456,2,  26.9552,2,   7.6942,2
49UP20220824_1,    P9,    36,  1,     18,     752,2,20220902,2305,2356,  8.6748, 136.9865, 2401,    534.8,      531,   7.3414,  34.5175,2,     97.1,2,  34.5175,2,    96.63,2,    47.37,2,    33.12,2,     0.00,2,    2.350,2, -999.000,9, -999.000,9,   -999.0,9,   -999.0,9,-999.0000,9,  -999.00, -999.000,9,  -999.00,9,  -999.00,9,   7.2891,2,  26.9983,2,   7.3418,2
49UP20220824_1,    P9,    36,  1,     17,     751,2,20220902,2305,2353,  8.6748, 136.9865, 2401,    635.2,      631,   6.5917,  34.5172,2,     92.4,2,  34.5171,2,    92.06,2,    56.26,2,    34.95,2,     0.00,2,    2.500,2, -999.000,9, -999.000,9,   -999.0,9,   -999.0,9,-999.0000,9,  -999.00, -999.000,9,  -999.00,9,  -999.00,9,   6.5327,2,  27.1019,2,   6.5906,2
49UP20220824_1,    P9,    36,  1,     16,     328,2,20220902,2305,2350,  8.6748, 136.9865, 2401,    737.2,      732,   5.9386,  34.5251,2,     85.7,2,  34.5247,2,    85.92,2,    66.55,2,    36.39,2,     0.00,2,    2.620,2, -999.000,9, -999.000,9,   -999.0,9,   -999.0,9,-999.0000,9,  -999.00, -999.000,9,  -999.00,9,  -999.00,9,   5.8733,2,  27.1934,2,   5.9385,2
49UP20220824_1,    P9,    36,  1,     12,     324,2,20220902,2305,2347,  8.6748, 136.9865, 2401,    835.1,      829,   5.5902,  34.5306,2,     82.8,2,  34.5305,2,    83.10,2,    72.79,2,    37.05,2,     0.00,2,    2.680,2, -999.000,9, -999.000,9,   -999.0,9,   -999.0,9,-999.0000,9,  -999.00, -999.000,9,  -999.00,9,  -999.00,9,   5.5179,2,  27.2417,2,   5.5902,2
49UP20220824_1,    P9,    36,  1,     11,     323,2,20220902,2305,2344,  8.6748, 136.9865, 2401,    936.3,      929,   5.1771,  34.5365,2,     84.1,2,  34.5365,2,    84.06,2,    80.17,2,    37.95,2,     0.00,2,    2.710,2, -999.000,9, -999.000,9,   -999.0,9,   -999.0,9,-999.0000,9,  -999.00, -999.000,9,  -999.00,9,  -999.00,9,   5.0983,2,  27.2964,2,   5.1772,2
49UP20220824_1,    P9,    36,  1,     10,     322,2,20220902,2305,2340,  8.6748, 136.9865, 2401,   1081.4,     1073,   4.3808,  34.5525,2,     86.9,2,  34.5521,6,    87.05,2,    95.57,2,    38.32,2,     0.00,2,    2.760,2, -999.000,9, -999.000,9,   -999.0,9,   -999.0,9,-999.0000,9,  -999.00, -999.000,9,  -999.00,9,  -999.00,9,   4.2951,2,  27.3990,2,   4.3806,2
49UP20220824_1,    P9,    36,  1,      9,     750,2,20220902,2305,2335,  8.6748, 136.9865, 2401,   1281.2,     1270,   3.6072,  34.5732,2,     92.1,2,  34.5735,2,    91.83,2,   111.31,2,    38.49,2,     0.00,2,    2.780,2, -999.000,9, -999.000,9,   -999.0,9,   -999.0,9,-999.0000,9,  -999.00, -999.000,9,  -999.00,9,  -999.00,9,   3.5112,2,  27.4960,2,   3.6073,2
49UP20220824_1,    P9,    36,  1,      8,     320,2,20220902,2305,2335,  8.6748, 136.9865, 2401,   1281.4,     1270,   3.6066,  34.5731,2,     92.1,2,  34.5733,2,    91.94,2,   111.43,2,    38.60,2,     0.00,2,    2.780,2, -999.000,9, -999.000,9,   -999.0,9,   -999.0,9,-999.0000,9,  -999.00, -999.000,9,  -999.00,9,  -999.00,9,   3.5107,2,  27.4959,2,   3.6063,2
49UP20220824_1,    P9,    36,  1,      7,     319,2,20220902,2305,2330,  8.6748, 136.9865, 2401,   1490.6,     1477,   3.0063,  34.5966,2,     99.1,2,  34.5961,2,    99.11,6,   123.01,6,    38.51,6,     0.00,6,    2.770,6, -999.000,9, -999.000,9,   -999.0,9,   -999.0,9,-999.0000,9,  -999.00, -999.000,9,  -999.00,9,  -999.00,9,   2.8991,2,  27.5722,2,   3.0075,2
49UP20220824_1,    P9,    36,  1,      6,     318,2,20220902,2305,2324,  8.6748, 136.9865, 2401,   1689.1,     1673,   2.6742,  34.6100,2,    105.3,2,  34.6102,2,   105.18,2,   129.64,2,    38.33,2,     0.00,2,    2.740,2, -999.000,9, -999.000,9,   -999.0,9,   -999.0,9,-999.0000,9,  -999.00, -999.000,9,  -999.00,9,  -999.00,9,   2.5544,2,  27.6134,2,   2.6745,2
49UP20220824_1,    P9,    36,  1,      5,     838,2,20220902,2305,2319,  8.6748, 136.9865, 2401,   1895.6,     1876,   2.2853,  34.6287,2,    114.2,2,  34.6290,6,   113.80,2,   136.58,2,    37.97,2,     0.00,2,    2.700,2, -999.000,9, -999.000,9,   -999.0,9,   -999.0,9,-999.0000,9,  -999.00, -999.000,9,  -999.00,9,  -999.00,9,   2.1534,2,  27.6619,2,   2.2852,2
49UP20220824_1,    P9,    36,  1,      4,     316,2,20220902,2305,2314,  8.6748, 136.9865, 2401,   2089.1,     2067,   2.0344,  34.6420,2,    122.0,2,  34.6422,2,   121.63,2,   140.22,2,    37.44,2,     0.00,2,    2.670,2, -999.000,9, -999.000,9,   -999.0,9,   -999.0,9,-999.0000,9,  -999.00, -999.000,9,  -999.00,9,  -999.00,9,   1.8898,2,  27.6935,2,   2.0341,2
49UP20220824_1,    P9,    36,  1,      3,     315,2,20220902,2305,2310,  8.6748, 136.9865, 2401,   2292.3,     2267,   1.8792,  34.6506,2,    127.7,2,  34.6509,2,   127.46,2,   142.44,2,    37.22,2,     0.00,2,    2.640,2, -999.000,9, -999.000,9,   -999.0,9,   -999.0,9,-999.0000,9,  -999.00, -999.000,9,  -999.00,9,  -999.00,9,   1.7196,2,  27.7135,2,   1.8791,2
49UP20220824_1,    P9,    36,  1,      2,     314,2,20220902,2305,2306,  8.6748, 136.9865, 2401,   2428.9,     2401,   1.8178,  34.6544,2,    130.5,2,  34.6545,6,   130.52,2,   143.11,2,    36.90,2,     0.00,2,    2.620,2, -999.000,9, -999.000,9,   -999.0,9,   -999.0,9,-999.0000,9,  -999.00, -999.000,9,  -999.00,9,  -999.00,9,   1.6473,2,  27.7220,2,   1.8178,2