BOTTLE,20230330JMAAMD
EXPOCODE,SECT_ID,STNNBR,CASTNO,SAMPNO,BTLNBR,BTLNBR_FLAG_U,DATE,TIME,BTL_TIME,LATITUDE,LONGITUDE,DEPTH,CTDPRS,CTDDEP,CTDTMP,CTDSAL,CTDSAL_FLAG_W,CTDOXY,CTDOXY_FLAG_W,SALNTY,SALNTY_FLAG_W,OXYGEN,OXYGEN_FLAG_W,SILCAT,SILCAT_FLAG_W,NO2+NO3,NO2+NO3_FLAG_W,NITRIT,NITRIT_FLAG_W,PHSPHT,PHSPHT_FLAG_W,CFC-11,CFC-11_FLAG_W,CFC-12,CFC-12_FLAG_W,TCARBN,TCARBN_FLAG_W,ALKALI,ALKALI_FLAG_W,PH_TS,PH_TS_FLAG_W,PH_TS_TMP,CFC113,CFC113_FLAG_W,CHLORA,CHLORA_FLAG_W,PPHYTN,PPHYTN_FLAG_W,THETA,THETA_FLAG_W,SIGTHT,SIGTHT_FLAG_W,SBE35,SBE35_FLAG_W
,,,,,,,,UTC,,,,METER,DBAR,METERS,ITS-90,PSS-78,,UMOL/KG,,PSS78,,UMOL/KG,,UMOL/KG,,UMOL/KG,,UMOL/KG,,UMOL/KG,,PMOL/KG,,PMOL/KG,,UMOL/KG,,UMOL/KG,,,,ITS-90,PMOL/KG,,UG/KG,,UG/KG,,ITS-90,,KG/M3,,ITS-90,
49UP20220727_1,    P9,    20,  1,      0,      -9,0,20220811,1643,1820,  2.9095, 137.5122, 4407,      0.0,        0,  30.2954,  34.6757,2,    192.8,2,-999.0000,9,   193.54,2,     1.29,2,     0.04,2,     0.00,2,    0.170,2, -999.000,9, -999.000,9,   -999.0,9,   -999.0,9,-999.0000,9,  -999.00, -999.000,9,  -999.00,9,  -999.00,9,  30.2947,2,  21.3822,2,-999.0000,9
49UP20220727_1,    P9,    20,  1,     36,     757,2,20220811,1643,1856,  2.9095, 137.5122, 4407,     11.1,       11,  30.2853,  34.7479,2,    193.7,2,  34.7520,2,   194.48,2,     1.22,2,     0.01,2,     0.00,2,    0.150,2, -999.000,9, -999.000,9,   -999.0,9,   -999.0,9,-999.0000,9,  -999.00, -999.000,9,  -999.00,9,  -999.00,9,  30.2825,2,  21.4405,2,  30.2878,2
49UP20220727_1,    P9,    20,  1,     35,     756,4,20220811,1643,1854,  2.9095, 137.5122, 4407,     26.1,       26,  30.2091,  34.7810,2,    194.6,2,  34.6733,4,   145.72,4,   144.06,4,    36.39,4,     0.00,4,    2.530,4, -999.000,9, -999.000,9,   -999.0,9,   -999.0,9,-999.0000,9,  -999.00, -999.000,9,  -999.00,9,  -999.00,9,  30.2026,2,  21.4927,2,  30.2102,2
49UP20220727_1,    P9,    20,  1,     34,     323,2,20220811,1643,1848,  2.9095, 137.5122, 4407,     51.4,       51,  29.7918,  35.0473,2,    191.4,2,  35.0533,2,   191.85,2,     1.34,2,     0.02,2,     0.00,2,    0.200,2, -999.000,9, -999.000,9,   -999.0,9,   -999.0,9,-999.0000,9,  -999.00, -999.000,9,  -999.00,9,  -999.00,9,  29.7791,2,  21.8369,2,  29.7922,2
49UP20220727_1,    P9,    20,  1,     33,     322,2,20220811,1643,1847,  2.9095, 137.5122, 4407,     76.2,       76,  29.6996,  35.3325,2,    187.9,2,  35.3329,2,   188.00,6,     1.40,6,     1.32,6,     0.69,6,    0.300,6, -999.000,9, -999.000,9,   -999.0,9,   -999.0,9,-999.0000,9,  -999.00, -999.000,9,  -999.00,9,  -999.00,9,  29.6809,2,  22.0842,2,  29.6981,2
49UP20220727_1,    P9,    20,  1,     32,     321,2,20220811,1643,1845,  2.9095, 137.5122, 4407,    101.2,      101,  29.4139,  35.3612,2,    177.6,2,  35.3600,2,   177.14,2,     1.66,2,     2.85,2,     0.38,2,    0.390,2, -999.000,9, -999.000,9,   -999.0,9,   -999.0,9,-999.0000,9,  -999.00, -999.000,9,  -999.00,9,  -999.00,9,  29.3892,2,  22.2045,2,  29.4112,2
49UP20220727_1,    P9,    20,  1,     31,     320,2,20220811,1643,1844,  2.9095, 137.5122, 4407,    126.5,      126,  28.2007,  35.3329,2,    155.5,2,  35.3312,2,   155.99,2,     2.25,2,     5.85,2,     0.04,2,    0.560,2, -999.000,9, -999.000,9,   -999.0,9,   -999.0,9,-999.0000,9,  -999.00, -999.000,9,  -999.00,9,  -999.00,9,  28.1707,2,  22.5891,2,  28.2074,2
49UP20220727_1,    P9,    20,  1,     30,     319,2,20220811,1643,1842,  2.9095, 137.5122, 4407,    151.8,      151,  25.2012,  35.3035,2,    137.4,2,  35.2975,2,   137.62,2,     4.01,2,     8.51,2,     0.02,2,    0.710,2, -999.000,9, -999.000,9,   -999.0,9,   -999.0,9,-999.0000,9,  -999.00, -999.000,9,  -999.00,9,  -999.00,9,  25.1681,2,  23.5194,2,  25.1877,2
49UP20220727_1,    P9,    20,  1,     29,     318,2,20220811,1643,1840,  2.9095, 137.5122, 4407,    203.6,      202,  18.5004,  34.7480,2,    138.9,2,  34.7712,2,   138.51,2,    13.95,2,    12.65,2,     0.01,2,    0.950,2, -999.000,9, -999.000,9,   -999.0,9,   -999.0,9,-999.0000,9,  -999.00, -999.000,9,  -999.00,9,  -999.00,9,  18.4648,2,  24.9637,2,  18.5458,2
49UP20220727_1,    P9,    20,  1,     28,     755,2,20220811,1643,1838,  2.9095, 137.5122, 4407,    254.3,      253,  13.7263,  34.4994,2,    138.9,2,  34.5035,2,   139.41,2,    18.20,2,    16.72,2,     0.01,2,    1.230,2, -999.000,9, -999.000,9,   -999.0,9,   -999.0,9,-999.0000,9,  -999.00, -999.000,9,  -999.00,9,  -999.00,9,  13.6902,2,  25.8647,2,  13.7205,2
49UP20220727_1,    P9,    20,  1,     27,     317,2,20220811,1643,1836,  2.9095, 137.5122, 4407,    333.6,      331,   9.0213,  34.5530,2,     80.4,2,  34.5537,2,    80.96,2,    37.31,2,    31.34,2,     0.00,2,    2.230,2, -999.000,9, -999.000,9,   -999.0,9,   -999.0,9,-999.0000,9,  -999.00, -999.000,9,  -999.00,9,  -999.00,9,   8.9849,2,  26.7705,2,   9.0242,2
49UP20220727_1,    P9,    20,  1,     26,     316,2,20220811,1643,1834,  2.9095, 137.5122, 4407,    383.5,      381,   8.3550,  34.5884,2,    132.8,2,  34.5903,2,   132.79,2,    30.34,2,    28.18,2,     0.00,2,    1.980,2, -999.000,9, -999.000,9,   -999.0,9,   -999.0,9,-999.0000,9,  -999.00, -999.000,9,  -999.00,9,  -999.00,9,   8.3150,2,  26.9030,2,   8.3550,2
49UP20220727_1,    P9,    20,  1,     25,     315,2,20220811,1643,1832,  2.9095, 137.5122, 4407,    434.4,      432,   7.9201,  34.5738,2,    118.8,2,  34.5751,2,   118.92,2,    34.28,2,    30.43,2,     0.00,2,    2.140,2, -999.000,9, -999.000,9,   -999.0,9,   -999.0,9,-999.0000,9,  -999.00, -999.000,9,  -999.00,9,  -999.00,9,   7.8760,2,  26.9575,2,   7.9214,2
49UP20220727_1,    P9,    20,  1,     24,     753,2,20220811,1643,1830,  2.9095, 137.5122, 4407,    484.0,      481,   7.5965,  34.5577,2,    127.4,2,  34.5580,2,   127.58,6,    34.84,6,    30.35,6,     0.00,6,    2.130,6, -999.000,9, -999.000,9,   -999.0,9,   -999.0,9,-999.0000,9,  -999.00, -999.000,9,  -999.00,9,  -999.00,9,   7.5484,2,  26.9928,2,   7.5974,2
49UP20220727_1,    P9,    20,  1,     23,     314,2,20220811,1643,1828,  2.9095, 137.5122, 4407,    535.0,      531,   7.3434,  34.5458,2,    108.4,2,  34.5464,2,   108.32,2,    41.40,2,    32.53,2,     0.00,2,    2.290,2, -999.000,9, -999.000,9,   -999.0,9,   -999.0,9,-999.0000,9,  -999.00, -999.000,9,  -999.00,9,  -999.00,9,   7.2911,2,  27.0203,2,   7.3446,2
49UP20220727_1,    P9,    20,  1,     22,     313,2,20220811,1643,1825,  2.9095, 137.5122, 4407,    636.8,      632,   6.4448,  34.5313,2,    103.3,2,  34.5314,2,   103.97,2,    51.13,2,    34.62,2,     0.00,2,    2.450,2, -999.000,9, -999.000,9,   -999.0,9,   -999.0,9,-999.0000,9,  -999.00, -999.000,9,  -999.00,9,  -999.00,9,   6.3863,2,  27.1323,2,   6.4493,2
49UP20220727_1,    P9,    20,  1,     21,     312,2,20220811,1643,1822,  2.9095, 137.5122, 4407,    736.8,      731,   5.7648,  34.5285,2,    101.0,2,  34.5285,2,   100.67,2,    61.94,2,    36.03,2,     0.00,2,    2.550,2, -999.000,9, -999.000,9,   -999.0,9,   -999.0,9,-999.0000,9,  -999.00, -999.000,9,  -999.00,9,  -999.00,9,   5.7004,2,  27.2177,2,   5.7655,2
49UP20220727_1,    P9,    20,  1,     20,     311,2,20220811,1643,1819,  2.9095, 137.5122, 4407,    837.0,      831,   5.1700,  34.5390,2,     90.5,2,  34.5392,2,    89.87,2,    74.20,2,    37.85,2,     0.00,2,    2.690,2, -999.000,9, -999.000,9,   -999.0,9,   -999.0,9,-999.0000,9,  -999.00, -999.000,9,  -999.00,9,  -999.00,9,   5.1001,2,  27.2982,2,   5.1698,2
49UP20220727_1,    P9,    20,  1,     19,     310,2,20220811,1643,1816,  2.9095, 137.5122, 4407,    937.5,      930,   4.6448,  34.5493,2,     92.4,2,  34.5490,2,    92.28,2,    84.72,2,    38.18,2,     0.00,2,    2.720,2, -999.000,9, -999.000,9,   -999.0,9,   -999.0,9,-999.0000,9,  -999.00, -999.000,9,  -999.00,9,  -999.00,9,   4.5696,2,  27.3666,2,   4.6440,2
49UP20220727_1,    P9,    20,  1,     18,     752,2,20220811,1643,1813,  2.9095, 137.5122, 4407,   1079.1,     1070,   4.0950,  34.5635,2,     96.8,2,  34.5636,2,    96.49,2,    96.82,2,    38.27,2,     0.00,2,    2.720,2, -999.000,9, -999.000,9,   -999.0,9,   -999.0,9,-999.0000,9,  -999.00, -999.000,9,  -999.00,9,  -999.00,9,   4.0118,2,  27.4377,2,   4.0947,2
49UP20220727_1,    P9,    20,  1,     17,     751,2,20220811,1643,1808,  2.9095, 137.5122, 4407,   1281.8,     1271,   3.4171,  34.5846,2,    100.7,2,  34.5850,6,   100.57,2,   111.45,2,    38.54,2,     0.00,2,    2.740,2, -999.000,9, -999.000,9,   -999.0,9,   -999.0,9,-999.0000,9,  -999.00, -999.000,9,  -999.00,9,  -999.00,9,   3.3230,2,  27.5233,2,   3.4169,2
49UP20220727_1,    P9,    20,  1,     16,     328,2,20220811,1643,1803,  2.9095, 137.5122, 4407,   1484.1,     1471,   2.9829,  34.5994,2,    102.4,2,  34.6005,2,   102.19,6,   121.23,6,    38.81,6,     0.00,6,    2.750,6, -999.000,9, -999.000,9,   -999.0,9,   -999.0,9,-999.0000,9,  -999.00, -999.000,9,  -999.00,9,  -999.00,9,   2.8766,2,  27.5765,2,   2.9829,2
49UP20220727_1,    P9,    20,  1,     15,     309,2,20220811,1643,1758,  2.9095, 137.5122, 4407,   1686.8,     1671,   2.6466,  34.6137,2,    109.4,2,  34.6140,2,   109.21,2,   127.80,2,    38.48,2,     0.00,2,    2.720,2, -999.000,9, -999.000,9,   -999.0,9,   -999.0,9,-999.0000,9,  -999.00, -999.000,9,  -999.00,9,  -999.00,9,   2.5274,2,  27.6187,2,   2.6466,2
49UP20220727_1,    P9,    20,  1,     14,     326,2,20220811,1643,1754,  2.9095, 137.5122, 4407,   1889.5,     1871,   2.3872,  34.6260,2,    112.2,2,  34.6266,2,   112.06,2,   134.01,2,    38.45,2,     0.00,2,    2.710,2, -999.000,9, -999.000,9,   -999.0,9,   -999.0,9,-999.0000,9,  -999.00, -999.000,9,  -999.00,9,  -999.00,9,   2.2544,2,  27.6515,2,   2.3874,2
49UP20220727_1,    P9,    20,  1,     13,     325,2,20220811,1643,1748,  2.9095, 137.5122, 4407,   2092.3,     2070,   2.1111,  34.6407,2,    117.5,2,  34.6412,2,   117.27,2,   140.08,2,    38.25,2,     0.00,2,    2.690,2, -999.000,9, -999.000,9,   -999.0,9,   -999.0,9,-999.0000,9,  -999.00, -999.000,9,  -999.00,9,  -999.00,9,   1.9650,2,  27.6866,2,   2.1109,2
49UP20220727_1,    P9,    20,  1,     12,     324,2,20220811,1643,1741,  2.9095, 137.5122, 4407,   2295.6,     2271,   1.9447,  34.6499,2,    122.8,2,  34.6504,2,   122.63,2,   142.94,2,    37.95,2,     0.00,2,    2.660,2, -999.000,9, -999.000,9,   -999.0,9,   -999.0,9,-999.0000,9,  -999.00, -999.000,9,  -999.00,9,  -999.00,9,   1.7837,2,  27.7081,2,   1.9447,2
49UP20220727_1,    P9,    20,  1,     11,     323,2,20220811,1643,1736,  2.9095, 137.5122, 4407,   2499.3,     2471,   1.8182,  34.6566,2,    129.6,2,  34.6568,6,   129.58,2,   143.65,2,    37.49,2,     0.00,2,    2.620,2, -999.000,9, -999.000,9,   -999.0,9,   -999.0,9,-999.0000,9,  -999.00, -999.000,9,  -999.00,9,  -999.00,9,   1.6414,2,  27.7242,2,   1.8181,2
49UP20220727_1,    P9,    20,  1,     10,     322,2,20220811,1643,1729,  2.9095, 137.5122, 4407,   2702.6,     2671,   1.7139,  34.6622,2,    135.9,2,  34.6624,2,   136.18,2,   143.83,2,    37.06,2,     0.00,2,    2.590,2, -999.000,9, -999.000,9,   -999.0,9,   -999.0,9,-999.0000,9,  -999.00, -999.000,9,  -999.00,9,  -999.00,9,   1.5205,2,  27.7376,2,   1.7138,2
49UP20220727_1,    P9,    20,  1,      9,     750,2,20220811,1643,1724,  2.9095, 137.5122, 4407,   2906.6,     2871,   1.6319,  34.6677,2,    140.6,2,  34.6682,2,   140.55,2,   144.44,2,    36.76,2,     0.00,2,    2.560,2, -999.000,9, -999.000,9,   -999.0,9,   -999.0,9,-999.0000,9,  -999.00, -999.000,9,  -999.00,9,  -999.00,9,   1.4212,2,  27.7492,2,   1.6319,2
49UP20220727_1,    P9,    20,  1,      7,     319,2,20220811,1643,1719,  2.9095, 137.5122, 4407,   3121.1,     3081,   1.5844,  34.6717,2,    144.4,2,  34.6717,2,   144.40,2,   144.18,2,    36.50,2,     0.00,2,    2.540,2, -999.000,9, -999.000,9,   -999.0,9,   -999.0,9,-999.0000,9,  -999.00, -999.000,9,  -999.00,9,  -999.00,9,   1.3541,2,  27.7572,2,   1.5844,2
49UP20220727_1,    P9,    20,  1,      8,     320,2,20220811,1643,1719,  2.9095, 137.5122, 4407,   3121.7,     3082,   1.5846,  34.6715,2,    144.4,2,  34.6720,2,   144.51,2,   144.20,2,    36.50,2,     0.00,2,    2.540,2, -999.000,9, -999.000,9,   -999.0,9,   -999.0,9,-999.0000,9,  -999.00, -999.000,9,  -999.00,9,  -999.00,9,   1.3542,2,  27.7570,2,   1.5844,2
49UP20220727_1,    P9,    20,  1,      6,     318,2,20220811,1643,1713,  2.9095, 137.5122, 4407,   3375.5,     3330,   1.5624,  34.6747,2,    146.7,2,  34.6748,6,   146.80,2,   144.29,2,    36.34,2,     0.00,2,    2.530,2, -999.000,9, -999.000,9,   -999.0,9,   -999.0,9,-999.0000,9,  -999.00, -999.000,9,  -999.00,9,  -999.00,9,   1.3074,2,  27.7629,2,   1.5625,2
49UP20220727_1,    P9,    20,  1,      5,     838,2,20220811,1643,1708,  2.9095, 137.5122, 4407,   3631.1,     3580,   1.5634,  34.6766,2,    148.4,2,  34.6776,2,   148.61,2,   144.21,2,    36.21,2,     0.00,2,    2.520,2, -999.000,9, -999.000,9,   -999.0,9,   -999.0,9,-999.0000,9,  -999.00, -999.000,9,  -999.00,9,  -999.00,9,   1.2822,2,  27.7662,2,   1.5634,2
49UP20220727_1,    P9,    20,  1,      4,     316,2,20220811,1643,1700,  2.9095, 137.5122, 4407,   3887.4,     3831,   1.5429,  34.6805,2,    151.3,2,  34.6814,2,   151.38,2,   143.63,2,    35.99,2,     0.00,2,    2.500,2, -999.000,9, -999.000,9,   -999.0,9,   -999.0,9,-999.0000,9,  -999.00, -999.000,9,  -999.00,9,  -999.00,9,   1.2350,2,  27.7727,2,   1.5429,2
49UP20220727_1,    P9,    20,  1,      3,     315,2,20220811,1643,1654,  2.9095, 137.5122, 4407,   4143.3,     4081,   1.5194,  34.6847,2,    154.7,2,  34.6849,2,   155.01,2,   143.51,2,    35.84,2,     0.00,2,    2.480,2, -999.000,9, -999.000,9,   -999.0,9,   -999.0,9,-999.0000,9,  -999.00, -999.000,9,  -999.00,9,  -999.00,9,   1.1842,2,  27.7795,2,   1.5195,2
49UP20220727_1,    P9,    20,  1,      2,     314,2,20220811,1643,1648,  2.9095, 137.5122, 4407,   4399.6,     4331,   1.5279,  34.6861,2,    157.1,2,  34.6860,2,   157.47,6,   142.64,6,    35.69,6,     0.00,6,    2.470,6, -999.000,9, -999.000,9,   -999.0,9,   -999.0,9,-999.0000,9,  -999.00, -999.000,9,  -999.00,9,  -999.00,9,   1.1636,2,  27.7820,2,   1.5279,2
49UP20220727_1,    P9,    20,  1,      1,     308,2,20220811,1643,1644,  2.9095, 137.5122, 4407,   4571.5,     4498,   1.5463,  34.6862,2,    157.4,2,  34.6860,6,   157.59,2,   142.69,2,    35.68,2,     0.00,2,    2.470,2, -999.000,9, -999.000,9,   -999.0,9,   -999.0,9,-999.0000,9,  -999.00, -999.000,9,  -999.00,9,  -999.00,9,   1.1616,2,  27.7823,2,   1.5462,2