BOTTLE,20230330JMAAMD
EXPOCODE,SECT_ID,STNNBR,CASTNO,SAMPNO,BTLNBR,BTLNBR_FLAG_U,DATE,TIME,BTL_TIME,LATITUDE,LONGITUDE,DEPTH,CTDPRS,CTDDEP,CTDTMP,CTDSAL,CTDSAL_FLAG_W,CTDOXY,CTDOXY_FLAG_W,SALNTY,SALNTY_FLAG_W,OXYGEN,OXYGEN_FLAG_W,SILCAT,SILCAT_FLAG_W,NO2+NO3,NO2+NO3_FLAG_W,NITRIT,NITRIT_FLAG_W,PHSPHT,PHSPHT_FLAG_W,CFC-11,CFC-11_FLAG_W,CFC-12,CFC-12_FLAG_W,TCARBN,TCARBN_FLAG_W,ALKALI,ALKALI_FLAG_W,PH_TS,PH_TS_FLAG_W,PH_TS_TMP,CFC113,CFC113_FLAG_W,CHLORA,CHLORA_FLAG_W,PPHYTN,PPHYTN_FLAG_W,THETA,THETA_FLAG_W,SIGTHT,SIGTHT_FLAG_W,SBE35,SBE35_FLAG_W
,,,,,,,,UTC,,,,METER,DBAR,METERS,ITS-90,PSS-78,,UMOL/KG,,PSS78,,UMOL/KG,,UMOL/KG,,UMOL/KG,,UMOL/KG,,UMOL/KG,,PMOL/KG,,PMOL/KG,,UMOL/KG,,UMOL/KG,,,,ITS-90,PMOL/KG,,UG/KG,,UG/KG,,ITS-90,,KG/M3,,ITS-90,
49UP20220824_1,    P9,    51,  1,      0,      -9,0,20220908,0754,0945, 16.0032, 136.9765, 5024,      0.0,        0,  30.3594,  34.3601,2,    193.0,2,  34.3613,2,   193.73,2,     0.95,2,     0.04,2,     0.00,2,    0.040,2, -999.000,9, -999.000,9,   1925.7,2,   2257.9,2,   8.1182,2,    25.00, -999.000,9,     0.06,2,     0.00,2,  30.3588,2,  21.1238,2,-999.0000,9
49UP20220824_1,    P9,    51,  1,     36,     757,2,20220908,0754,1012, 16.0032, 136.9765, 5024,     11.2,       11,  30.3806,  34.3597,2,    193.3,2,  34.3589,2,   193.73,2,     0.91,2,     0.00,2,     0.00,2,    0.010,2, -999.000,9, -999.000,9,   1927.1,2,   2256.5,2,   8.1107,3,    25.00, -999.000,9,     0.05,2,     0.00,2,  30.3778,2,  21.1170,2,  30.3808,2
49UP20220824_1,    P9,    51,  1,     35,     756,2,20220908,0754,1007, 16.0032, 136.9765, 5024,     52.2,       52,  29.9617,  34.5867,2,    201.6,2,  34.5874,2,   201.67,2,     0.95,2,     0.00,2,     0.00,2,    0.010,2, -999.000,9, -999.000,9,   1939.2,2,   2271.2,2,   8.1080,3,    25.00, -999.000,9,     0.07,2,     0.02,2,  29.9488,2,  21.4338,2,  29.9603,2
49UP20220824_1,    P9,    51,  1,     34,     323,2,20220908,0754,1006, 16.0032, 136.9765, 5024,     76.0,       76,  27.9959,  34.8281,2,    212.6,2,  34.8254,2,   210.95,2,     0.99,2,     0.00,2,     0.00,2,    0.010,2, -999.000,9, -999.000,9,   1960.1,6,   2288.8,6,   8.1066,2,    25.00, -999.000,9,     0.12,2,     0.01,2,  27.9780,2,  22.2726,2,  27.9970,2
49UP20220824_1,    P9,    51,  1,     33,     322,2,20220908,0754,1004, 16.0032, 136.9765, 5024,    101.6,      101,  26.5611,  34.8667,2,    203.6,2,  34.8645,2,   202.80,2,     1.03,2,     0.00,2,     0.00,2,    0.020,2, -999.000,9, -999.000,9,   1972.6,2,   2290.2,2,   8.0850,2,    25.00, -999.000,9,     0.19,2,     0.06,2,  26.5381,2,  22.7640,2,  26.5612,2
49UP20220824_1,    P9,    51,  1,     32,     321,2,20220908,0754,1002, 16.0032, 136.9765, 5024,    128.0,      127,  25.2130,  34.9485,2,    190.5,2,  34.9399,2,   190.72,2,     1.24,2,     0.02,2,     0.01,2,    0.050,2, -999.000,9, -999.000,9,   2000.5,2,   2297.7,2,   8.0452,2,    25.00, -999.000,9,     0.23,2,     0.25,2,  25.1851,2,  23.2459,2,  25.2186,2
49UP20220824_1,    P9,    51,  1,     31,     320,2,20220908,0754,1000, 16.0032, 136.9765, 5024,    153.3,      152,  24.0882,  34.9903,2,    180.8,2,  34.9904,2,   181.13,2,     1.61,2,     0.80,2,     0.06,2,    0.120,2, -999.000,9, -999.000,9,   2022.4,2,   2298.9,2,   8.0072,2,    25.00, -999.000,9,     0.17,2,     0.30,2,  24.0558,2,  23.6175,2,  24.0895,2
49UP20220824_1,    P9,    51,  1,     30,     319,2,20220908,0754,0958, 16.0032, 136.9765, 5024,    203.2,      202,  20.3659,  34.9116,2,    176.4,2,  34.9122,2,   176.33,2,     3.10,2,     3.25,2,     0.01,2,    0.300,2, -999.000,9, -999.000,9,   2060.7,2,   2296.9,2,   7.9328,2,    25.00, -999.000,9,     0.03,2,     0.03,2,  20.3279,2,  24.6075,2,  20.3665,2
49UP20220824_1,    P9,    51,  1,     29,     318,2,20220908,0754,0956, 16.0032, 136.9765, 5024,    254.6,      253,  16.8298,  34.6706,2,    175.0,2,  34.6728,2,   175.16,6,     6.81,6,     7.58,6,     0.00,6,    0.580,6, -999.000,9, -999.000,9,   2088.6,2,   2282.7,2,   7.8615,2,    25.00, -999.000,9,  -999.00,9,  -999.00,9,  16.7881,2,  25.3115,2,  16.8372,2
49UP20220824_1,    P9,    51,  1,     28,     755,2,20220908,0754,0953, 16.0032, 136.9765, 5024,    334.9,      333,  11.9976,  34.3217,2,    160.7,2,  34.3235,2,   160.86,2,    18.64,2,    16.51,2,     0.00,2,    1.210,2, -999.000,9, -999.000,9,   2135.3,2,   2271.0,2,   7.7235,2,    25.00, -999.000,9,  -999.00,9,  -999.00,9,  11.9539,2,  26.0710,2,  11.9922,2
49UP20220824_1,    P9,    51,  1,     27,     317,2,20220908,0754,0951, 16.0032, 136.9765, 5024,    384.4,      382,  10.8198,  34.2855,2,    137.2,2,  34.2874,2,   137.19,2,    25.76,2,    20.81,2,     0.00,2,    1.540,2, -999.000,9, -999.000,9,   2169.6,2,   2273.5,2,   7.6513,2,    25.00, -999.000,9,  -999.00,9,  -999.00,9,  10.7729,2,  26.2597,2,  10.8171,2
49UP20220824_1,    P9,    51,  1,     26,     316,2,20220908,0754,0948, 16.0032, 136.9765, 5024,    435.3,      432,   8.6814,  34.2433,2,    106.2,2,  34.2432,2,   106.64,2,    40.74,2,    27.71,2,     0.00,2,    2.020,2, -999.000,9, -999.000,9,   2210.1,2,   2284.3,2,   7.5546,6,    25.00, -999.000,9,  -999.00,9,  -999.00,9,   8.6349,2,  26.5830,2,   8.6885,2
49UP20220824_1,    P9,    51,  1,     25,     315,2,20220908,0754,0946, 16.0032, 136.9765, 5024,    485.5,      482,   7.5939,  34.2794,2,     83.0,2,  34.2773,2,    82.83,2,    53.01,2,    32.17,2,     0.00,2,    2.350,2, -999.000,9, -999.000,9,   2242.0,6,   2298.9,6,   7.4944,2,    25.00, -999.000,9,  -999.00,9,  -999.00,9,   7.5459,2,  26.7743,2,   7.5916,2
49UP20220824_1,    P9,    51,  1,     24,     753,2,20220908,0754,0943, 16.0032, 136.9765, 5024,    536.9,      533,   6.8762,  34.3260,2,     73.1,2,  34.3258,2,    72.87,2,    61.72,2,    34.59,2,     0.00,2,    2.510,2, -999.000,9, -999.000,9,   2263.1,2,   2311.0,2,   7.4750,2,    25.00, -999.000,9,  -999.00,9,  -999.00,9,   6.8257,2,  26.9117,2,   6.8756,2
49UP20220824_1,    P9,    51,  1,     23,     314,2,20220908,0754,0939, 16.0032, 136.9765, 5024,    637.8,      633,   6.1330,  34.4095,2,     77.8,2,  34.4089,2,    77.02,2,    70.87,2,    35.96,2,     0.00,2,    2.580,2, -999.000,9, -999.000,9,   2275.1,2,   2326.6,2,   7.4794,2,    25.00, -999.000,9,  -999.00,9,  -999.00,9,   6.0761,2,  27.0763,2,   6.1317,2
49UP20220824_1,    P9,    51,  1,     22,     313,2,20220908,0754,0936, 16.0032, 136.9765, 5024,    738.3,      733,   5.5553,  34.4506,2,     78.5,2,  34.4509,6,    78.70,2,    79.02,2,    37.03,2,     0.00,2,    2.660,2, -999.000,9, -999.000,9,   2285.9,2,   2337.2,2,   7.4793,2,    25.00, -999.000,9,  -999.00,9,  -999.00,9,   5.4921,2,  27.1815,2,   5.5553,2
49UP20220824_1,    P9,    51,  1,     21,     312,2,20220908,0754,0932, 16.0032, 136.9765, 5024,    840.1,      833,   5.0495,  34.4875,2,     80.8,2,  34.4876,2,    80.75,2,    86.73,2,    37.77,2,     0.00,2,    2.700,2, -999.000,9, -999.000,9,   2297.3,2,   2349.6,2,   7.4822,2,    25.00, -999.000,9,  -999.00,9,  -999.00,9,   4.9802,2,  27.2712,2,   5.0495,2
49UP20220824_1,    P9,    51,  1,     20,     311,2,20220908,0754,0928, 16.0032, 136.9765, 5024,    941.2,      934,   4.6351,  34.5127,2,     83.6,2,  34.5137,2,    83.80,6,    93.83,6,    38.14,6,     0.00,6,    2.720,6, -999.000,9, -999.000,9,   2303.5,2,   2357.4,2,   7.4885,2,    25.00, -999.000,9,  -999.00,9,  -999.00,9,   4.5597,2,  27.3386,2,   4.6353,2
49UP20220824_1,    P9,    51,  1,     19,     310,2,20220908,0754,0924, 16.0032, 136.9765, 5024,   1082.6,     1073,   4.0668,  34.5373,2,     87.1,2,  34.5381,2,    87.27,2,   105.05,2,    38.51,2,     0.00,2,    2.750,2, -999.000,9, -999.000,9,   2314.1,2,   2371.8,2,   7.4893,2,    25.00, -999.000,9,  -999.00,9,  -999.00,9,   3.9837,2,  27.4198,2,   4.0665,2
49UP20220824_1,    P9,    51,  1,     18,     752,2,20220908,0754,0919, 16.0032, 136.9765, 5024,   1282.1,     1271,   3.4359,  34.5575,2,     91.8,2,  34.5582,2,    92.00,2,   118.45,2,    38.73,2,     0.00,2,    2.750,2, -999.000,9, -999.000,9,   2328.0,2,   2384.9,2,   7.4932,2,    25.00, -999.000,9,  -999.00,9,  -999.00,9,   3.3416,2,  27.4998,2,   3.4360,2
49UP20220824_1,    P9,    51,  1,     17,     751,2,20220908,0754,0915, 16.0032, 136.9765, 5024,   1486.3,     1472,   2.9753,  34.5742,2,     95.8,2,  34.5749,2,    95.50,2,   128.17,2,    38.82,2,     0.00,2,    2.750,2, -999.000,9, -999.000,9,   2333.8,2,   2392.9,2,   7.4950,2,    25.00, -999.000,9,  -999.00,9,  -999.00,9,   2.8688,2,  27.5571,2,   2.9751,2
49UP20220824_1,    P9,    51,  1,     16,     328,2,20220908,0754,0910, 16.0032, 136.9765, 5024,   1690.4,     1674,   2.5595,  34.5939,2,    101.7,2,  34.5947,2,   101.59,2,   135.76,2,    38.80,2,     0.00,2,    2.740,2, -999.000,9, -999.000,9,   2338.3,2,   2402.2,2,   7.5042,2,    25.00, -999.000,9,  -999.00,9,  -999.00,9,   2.4412,2,  27.6102,2,   2.5603,2
49UP20220824_1,    P9,    51,  1,     15,     309,2,20220908,0754,0905, 16.0032, 136.9765, 5024,   1890.5,     1871,   2.2838,  34.6101,2,    107.3,2,  34.6119,4,   107.31,2,   140.41,2,    38.68,2,     0.00,2,    2.720,2, -999.000,9, -999.000,9,   2341.8,2,   2406.8,2,   7.5105,2,    25.00, -999.000,9,  -999.00,9,  -999.00,9,   2.1525,2,  27.6471,2,   2.2838,2
49UP20220824_1,    P9,    51,  1,     14,     326,2,20220908,0754,0900, 16.0032, 136.9765, 5024,   2093.8,     2071,   2.1225,  34.6222,2,    112.5,2,  34.6245,4,   112.43,2,   142.84,2,    38.46,2,     0.00,2,    2.700,2, -999.000,9, -999.000,9,   2342.8,2,   2409.7,2,   7.5177,2,    25.00, -999.000,9,  -999.00,9,  -999.00,9,   1.9763,2,  27.6709,2,   2.1220,2
49UP20220824_1,    P9,    51,  1,     13,     325,2,20220908,0754,0856, 16.0032, 136.9765, 5024,   2298.0,     2272,   1.9085,  34.6382,2,    120.7,2,  34.6401,4,   120.63,2,   145.40,2,    37.99,2,     0.00,2,    2.660,2, -999.000,9, -999.000,9,   2343.8,2,   2413.0,2,   7.5323,2,    25.00, -999.000,9,  -999.00,9,  -999.00,9,   1.7480,2,  27.7013,2,   1.9086,2
49UP20220824_1,    P9,    51,  1,     12,     324,2,20220908,0754,0851, 16.0032, 136.9765, 5024,   2499.3,     2470,   1.8265,  34.6461,2,    125.0,2,  34.6468,2,   124.80,2,   146.24,2,    37.98,2,     0.00,2,    2.640,2, -999.000,9, -999.000,9,   2339.6,2,   2414.1,2,   7.5371,2,    25.00, -999.000,9,  -999.00,9,  -999.00,9,   1.6495,2,  27.7151,2,   1.8263,2
49UP20220824_1,    P9,    51,  1,     11,     323,2,20220908,0754,0846, 16.0032, 136.9765, 5024,   2704.6,     2671,   1.7339,  34.6554,2,    130.9,2,  34.6569,4,   130.83,6,   146.68,6,    37.43,6,     0.00,6,    2.610,6, -999.000,9, -999.000,9,   2336.3,2,   2415.3,2,   7.5487,2,    25.00, -999.000,9,  -999.00,9,  -999.00,9,   1.5400,2,  27.7307,2,   1.7339,2
49UP20220824_1,    P9,    51,  1,     10,     322,2,20220908,0754,0842, 16.0032, 136.9765, 5024,   2909.2,     2872,   1.6882,  34.6608,2,    134.6,2,  34.6619,4,   134.64,2,   146.72,2,    37.24,2,     0.00,2,    2.590,2, -999.000,9, -999.000,9,   2336.9,2,   2417.5,2,   7.5535,2,    25.00, -999.000,9,  -999.00,9,  -999.00,9,   1.4760,2,  27.7397,2,   1.6882,2
49UP20220824_1,    P9,    51,  1,      9,     750,2,20220908,0754,0837, 16.0032, 136.9765, 5024,   3121.9,     3081,   1.6352,  34.6664,2,    139.4,2,  34.6664,2,   139.39,2,   146.02,2,    36.93,2,     0.00,2,    2.570,2, -999.000,9, -999.000,9,   2335.3,2,   2416.2,2,   7.5608,2,    25.00, -999.000,9,  -999.00,9,  -999.00,9,   1.4037,2,  27.7494,2,   1.6352,2
49UP20220824_1,    P9,    51,  1,      8,     320,2,20220908,0754,0832, 16.0032, 136.9765, 5024,   3377.0,     3330,   1.6004,  34.6711,2,    143.7,2,  34.6719,2,   143.51,2,   145.38,2,    36.62,2,     0.00,2,    2.540,2, -999.000,9, -999.000,9,   2332.5,2,   2417.7,2,   7.5687,2,    25.00, -999.000,9,  -999.00,9,  -999.00,9,   1.3443,2,  27.7574,2,   1.6005,2
49UP20220824_1,    P9,    51,  1,      7,     319,2,20220908,0754,0827, 16.0032, 136.9765, 5024,   3633.0,     3581,   1.5681,  34.6753,2,    148.1,2,  34.6757,6,   147.68,2,   144.56,2,    36.32,2,     0.00,2,    2.520,2, -999.000,9, -999.000,9,   2327.6,2,   2417.3,2,   7.5751,2,    25.00, -999.000,9,  -999.00,9,  -999.00,9,   1.2865,2,  27.7649,2,   1.5681,2
49UP20220824_1,    P9,    51,  1,      6,     318,2,20220908,0754,0822, 16.0032, 136.9765, 5024,   3889.1,     3831,   1.5346,  34.6797,2,    153.0,2,  34.6799,2,   153.04,2,   142.86,2,    35.97,2,     0.00,2,    2.490,2, -999.000,9, -999.000,9,   2323.9,2,   2415.3,2,   7.5830,6,    25.00, -999.000,9,  -999.00,9,  -999.00,9,   1.2267,2,  27.7725,2,   1.5346,2
49UP20220824_1,    P9,    51,  1,      5,     838,2,20220908,0754,0817, 16.0032, 136.9765, 5024,   4145.0,     4081,   1.5188,  34.6830,2,    156.8,2,  34.6843,4,   156.60,2,   142.06,2,    35.73,2,     0.00,2,    2.470,2, -999.000,9, -999.000,9,   2320.4,6,   2413.3,6,   7.5856,2,    25.00, -999.000,9,  -999.00,9,  -999.00,9,   1.1834,2,  27.7782,2,   1.5188,2
49UP20220824_1,    P9,    51,  1,      4,     316,2,20220908,0754,0812, 16.0032, 136.9765, 5024,   4400.8,     4330,   1.5207,  34.6849,2,    159.2,2,  34.6852,2,   159.16,2,   141.28,2,    35.59,2,     0.00,2,    2.460,2, -999.000,9, -999.000,9,   2315.8,2,   2412.0,2,   7.5870,2,    25.00, -999.000,9,  -999.00,9,  -999.00,9,   1.1565,2,  27.7816,2,   1.5207,2
49UP20220824_1,    P9,    51,  1,      3,     315,2,20220908,0754,0806, 16.0032, 136.9765, 5024,   4657.8,     4580,   1.5369,  34.6859,2,    160.5,2,  34.6866,2,   160.49,2,   140.79,2,    35.45,2,     0.00,2,    2.460,2, -999.000,9, -999.000,9,   2318.2,2,   2413.2,2,   7.5897,2,    25.00, -999.000,9,  -999.00,9,  -999.00,9,   1.1424,2,  27.7834,2,   1.5370,2
49UP20220824_1,    P9,    51,  1,      2,     314,2,20220908,0754,0801, 16.0032, 136.9765, 5024,   4915.6,     4831,   1.5620,  34.6865,2,    161.1,2,  34.6871,2,   161.34,6,   140.62,6,    35.48,6,     0.00,6,    2.450,6, -999.000,9, -999.000,9,   2317.2,2,   2413.0,2,   7.5914,2,    25.00, -999.000,9,  -999.00,9,  -999.00,9,   1.1360,2,  27.7842,2,   1.5622,2
49UP20220824_1,    P9,    51,  1,      1,     308,2,20220908,0754,0755, 16.0032, 136.9765, 5024,   5181.9,     5090,   1.5938,  34.6865,2,    161.5,2,  34.6871,2,   161.76,2,   140.48,2,    35.43,2,     0.00,2,    2.450,2, -999.000,9, -999.000,9,   2316.6,2,   2413.3,2,   7.5922,2,    25.00, -999.000,9,  -999.00,9,  -999.00,9,   1.1340,2,  27.7844,2,   1.5937,2