BOTTLE,20230330JMAAMD
EXPOCODE,SECT_ID,STNNBR,CASTNO,SAMPNO,BTLNBR,BTLNBR_FLAG_U,DATE,TIME,BTL_TIME,LATITUDE,LONGITUDE,DEPTH,CTDPRS,CTDDEP,CTDTMP,CTDSAL,CTDSAL_FLAG_W,CTDOXY,CTDOXY_FLAG_W,SALNTY,SALNTY_FLAG_W,OXYGEN,OXYGEN_FLAG_W,SILCAT,SILCAT_FLAG_W,NO2+NO3,NO2+NO3_FLAG_W,NITRIT,NITRIT_FLAG_W,PHSPHT,PHSPHT_FLAG_W,CFC-11,CFC-11_FLAG_W,CFC-12,CFC-12_FLAG_W,TCARBN,TCARBN_FLAG_W,ALKALI,ALKALI_FLAG_W,PH_TS,PH_TS_FLAG_W,PH_TS_TMP,CFC113,CFC113_FLAG_W,CHLORA,CHLORA_FLAG_W,PPHYTN,PPHYTN_FLAG_W,THETA,THETA_FLAG_W,SIGTHT,SIGTHT_FLAG_W,SBE35,SBE35_FLAG_W
,,,,,,,,UTC,,,,METER,DBAR,METERS,ITS-90,PSS-78,,UMOL/KG,,PSS78,,UMOL/KG,,UMOL/KG,,UMOL/KG,,UMOL/KG,,UMOL/KG,,PMOL/KG,,PMOL/KG,,UMOL/KG,,UMOL/KG,,,,ITS-90,PMOL/KG,,UG/KG,,UG/KG,,ITS-90,,KG/M3,,ITS-90,
49UP20220727_1,    P9,    19,  1,      0,      -9,0,20220811,0836,1010,  2.7945, 137.9917, 4382,      0.0,        0,  30.3668,  34.5507,2,    193.3,2,  34.4280,2,   193.60,2,     1.26,2,     0.03,2,     0.00,2,    0.180,2, -999.000,9, -999.000,9,   1930.9,2,   2260.5,2,   8.1095,2,    25.00, -999.000,9,     0.07,2,     0.02,2,  30.3662,2,  21.2640,2,-999.0000,9
49UP20220727_1,    P9,    19,  1,     36,     757,2,20220811,0836,1038,  2.7945, 137.9917, 4382,     11.0,       11,  30.3435,  34.6672,2,    193.5,2,  34.6673,2,   194.16,2,     1.24,2,     0.02,2,     0.00,2,    0.150,2, -999.000,9, -999.000,9,   1946.7,2,   2277.7,2,   8.1085,2,    25.00, -999.000,9,     0.06,2,     0.02,2,  30.3408,2,  21.3600,2,  30.3410,2
49UP20220727_1,    P9,    19,  1,     35,     756,2,20220811,0836,1037,  2.7945, 137.9917, 4382,     26.2,       26,  30.1615,  34.6827,2,    195.2,2,  34.6844,2,   195.48,2,     1.28,2,     0.05,2,     0.00,2,    0.150,2, -999.000,9, -999.000,9,   1949.0,2,   2278.3,2,   8.1052,2,    25.00, -999.000,9,     0.08,2,     0.02,2,  30.1550,2,  21.4353,2,  30.1616,2
49UP20220727_1,    P9,    19,  1,     34,     323,2,20220811,0836,1033,  2.7945, 137.9917, 4382,     51.3,       51,  29.8975,  35.0419,2,    192.8,2,  35.0446,2,   193.22,6,     1.34,6,     0.02,6,     0.00,6,    0.190,6, -999.000,9, -999.000,9,   1981.6,2,   2303.5,2,   8.0822,2,    25.00, -999.000,9,     0.18,2,     0.09,2,  29.8848,2,  21.7969,2,  29.8955,2
49UP20220727_1,    P9,    19,  1,     33,     322,2,20220811,0836,1032,  2.7945, 137.9917, 4382,     76.5,       76,  29.5161,  35.2661,2,    181.2,2,  35.2748,2,   181.83,2,     1.49,2,     1.82,2,     0.56,2,    0.320,2, -999.000,9, -999.000,9,   2007.2,2,   2317.4,2,   8.0596,2,    25.00, -999.000,9,     0.50,2,     0.66,2,  29.4974,2,  22.0966,2,  29.5171,2
49UP20220727_1,    P9,    19,  1,     32,     321,2,20220811,0836,1031,  2.7945, 137.9917, 4382,    105.2,      105,  29.3642,  35.3670,2,    177.0,2,  35.3694,2,   176.85,2,     1.71,2,     2.99,2,     0.42,2,    0.400,2, -999.000,9, -999.000,9,   2017.4,6,   2324.3,6,   8.0446,2,    25.00, -999.000,9,     0.21,2,     0.48,2,  29.3385,2,  22.2260,2,  29.3631,2
49UP20220727_1,    P9,    19,  1,     31,     320,2,20220811,0836,1029,  2.7945, 137.9917, 4382,    128.5,      128,  28.4814,  35.3081,2,    158.2,2,  35.3072,2,   158.27,2,     2.21,2,     5.38,2,     0.04,2,    0.540,2, -999.000,9, -999.000,9,   2039.6,2,   2317.9,2,   8.0070,6,    25.00, -999.000,9,     0.08,2,     0.21,2,  28.4507,2,  22.4781,2,  28.4809,2
49UP20220727_1,    P9,    19,  1,     30,     319,2,20220811,0836,1028,  2.7945, 137.9917, 4382,    151.6,      151,  26.9802,  35.3793,2,    144.7,2,  35.3823,2,   144.48,2,     2.82,2,     7.50,2,     0.02,2,    0.660,2, -999.000,9, -999.000,9,   2060.3,2,   2322.5,2,   7.9669,2,    25.00, -999.000,9,     0.04,2,     0.09,2,  26.9454,2,  23.0209,2,  26.9845,2
49UP20220727_1,    P9,    19,  1,     29,     318,2,20220811,0836,1026,  2.7945, 137.9917, 4382,    203.7,      202,  19.1632,  34.7975,2,    141.0,2,  34.7861,2,   141.39,2,    11.81,2,    11.46,2,     0.01,2,    0.870,2, -999.000,9, -999.000,9,   2098.5,2,   2290.8,2,   7.8517,2,    25.00, -999.000,9,     0.01,2,     0.05,2,  19.1267,2,  24.8340,2,  19.1650,2
49UP20220727_1,    P9,    19,  1,     28,     755,2,20220811,0836,1025,  2.7945, 137.9917, 4382,    252.5,      251,  14.3879,  34.5445,2,    145.3,2,  34.5446,2,   145.30,2,    16.82,2,    15.35,2,     0.01,2,    1.130,2, -999.000,9, -999.000,9,   2130.7,2,   2280.8,2,   7.7580,2,    25.00, -999.000,9,  -999.00,9,  -999.00,9,  14.3508,2,  25.7609,2,  14.3822,2
49UP20220727_1,    P9,    19,  1,     27,     317,2,20220811,0836,1023,  2.7945, 137.9917, 4382,    302.8,      301,  10.7924,  34.4312,2,    111.2,2,  34.4484,2,   106.24,6,    30.47,6,    25.10,6,     0.00,6,    1.820,6, -999.000,9, -999.000,9,   2189.4,2,   2288.4,2,   7.6128,2,    25.00, -999.000,9,  -999.00,9,  -999.00,9,  10.7556,2,  26.3763,2,  10.7936,2
49UP20220727_1,    P9,    19,  1,     26,     316,2,20220811,0836,1021,  2.7945, 137.9917, 4382,    353.3,      351,   8.7321,  34.5540,2,     84.7,2,  34.5547,2,    85.76,2,    38.24,2,    31.50,2,     0.00,2,    2.230,2, -999.000,9, -999.000,9,   2234.0,2,   2303.2,2,   7.5421,2,    25.00, -999.000,9,  -999.00,9,  -999.00,9,   8.6943,2,  26.8173,2,   8.7312,2
49UP20220727_1,    P9,    19,  1,     25,     315,2,20220811,0836,1019,  2.7945, 137.9917, 4382,    403.6,      401,   8.3151,  34.5940,2,    122.4,2,  34.5944,2,   121.81,2,    31.39,2,    29.37,2,     0.00,2,    2.060,2, -999.000,9, -999.000,9,   2213.2,2,   2304.6,2,   7.5996,2,    25.00, -999.000,9,  -999.00,9,  -999.00,9,   8.2730,2,  26.9138,2,   8.3146,2
49UP20220727_1,    P9,    19,  1,     24,     753,2,20220811,0836,1018,  2.7945, 137.9917, 4382,    454.5,      452,   7.8969,  34.5724,2,    127.0,2,  34.5728,2,   126.86,2,    32.95,2,    29.77,2,     0.00,2,    2.090,2, -999.000,9, -999.000,9,   2210.8,2,   2305.6,2,   7.5987,2,    25.00, -999.000,9,  -999.00,9,  -999.00,9,   7.8508,2,  26.9602,2,   7.8966,2
49UP20220727_1,    P9,    19,  1,     23,     314,2,20220811,0836,1016,  2.7945, 137.9917, 4382,    504.8,      501,   7.5127,  34.5501,2,    131.3,2,  34.5499,2,   130.27,2,    35.44,2,    30.19,2,     0.00,2,    2.120,2, -999.000,9, -999.000,9,   2212.9,2,   2306.4,2,   7.5952,2,    25.00, -999.000,9,  -999.00,9,  -999.00,9,   7.4628,2,  26.9991,2,   7.5126,2
49UP20220727_1,    P9,    19,  1,     22,     313,2,20220811,0836,1013,  2.7945, 137.9917, 4382,    606.4,      602,   6.6953,  34.5313,2,    109.9,2,  34.5316,2,   111.10,2,    47.06,2,    33.53,2,     0.00,2,    2.370,2, -999.000,9, -999.000,9,   2239.1,2,   2314.7,2,   7.5516,2,    25.00, -999.000,9,  -999.00,9,  -999.00,9,   6.6387,2,  27.0988,2,   6.6949,2
49UP20220727_1,    P9,    19,  1,     21,     312,2,20220811,0836,1010,  2.7945, 137.9917, 4382,    706.9,      702,   5.8970,  34.5255,2,    106.1,2,  34.5255,2,   106.17,2,    58.04,2,    35.31,2,     0.00,2,    2.500,2, -999.000,9, -999.000,9,   2257.1,2,   2325.7,2,   7.5334,2,    25.00, -999.000,9,  -999.00,9,  -999.00,9,   5.8348,2,  27.1986,2,   5.8966,2
49UP20220727_1,    P9,    19,  1,     20,     311,2,20220811,0836,1007,  2.7945, 137.9917, 4382,    807.0,      801,   5.2551,  34.5375,2,     92.1,2,  34.5378,2,    92.93,2,    72.23,2,    37.52,2,     0.00,2,    2.670,2, -999.000,9, -999.000,9,   2278.6,2,   2339.9,2,   7.5057,2,    25.00, -999.000,9,  -999.00,9,  -999.00,9,   5.1873,2,  27.2867,2,   5.2551,2
49UP20220727_1,    P9,    19,  1,     19,     310,2,20220811,0836,1005,  2.7945, 137.9917, 4382,    908.4,      901,   4.7805,  34.5466,2,     91.0,2,  34.5462,2,    90.97,2,    82.25,2,    38.15,2,     0.00,2,    2.720,2, -999.000,9, -999.000,9,   2290.0,6,   2350.0,6,   7.5019,2,    25.00, -999.000,9,  -999.00,9,  -999.00,9,   4.7069,2,  27.3492,2,   4.7804,2
49UP20220727_1,    P9,    19,  1,     18,     752,2,20220811,0836,1002,  2.7945, 137.9917, 4382,   1010.3,     1002,   4.2575,  34.5592,2,     95.0,2,  34.5587,2,    94.56,2,    93.71,2,    38.19,2,     0.00,2,    2.720,2, -999.000,9, -999.000,9,   2299.4,2,   2362.7,2,   7.5051,6,    25.00, -999.000,9,  -999.00,9,  -999.00,9,   4.1789,2,  27.4167,2,   4.2575,2
49UP20220727_1,    P9,    19,  1,     17,     751,2,20220811,0836,0957,  2.7945, 137.9917, 4382,   1211.6,     1201,   3.5429,  34.5808,2,    100.7,2,  34.5808,2,   100.44,2,   108.25,2,    38.34,2,     0.00,2,    2.730,2, -999.000,9, -999.000,9,   2311.1,2,   2377.5,2,   7.5089,2,    25.00, -999.000,9,  -999.00,9,  -999.00,9,   3.4534,2,  27.5076,2,   3.5427,2
49UP20220727_1,    P9,    19,  1,     16,     328,2,20220811,0836,0952,  2.7945, 137.9917, 4382,   1414.9,     1402,   3.2901,  34.5895,2,    103.4,2,  34.5895,6,   103.61,2,   113.42,2,    38.40,2,     0.00,2,    2.730,2, -999.000,9, -999.000,9,   2317.0,2,   2383.7,2,   7.5121,2,    25.00, -999.000,9,  -999.00,9,  -999.00,9,   3.1862,2,  27.5401,2,   3.2900,2
49UP20220727_1,    P9,    19,  1,     15,     309,2,20220811,0836,0947,  2.7945, 137.9917, 4382,   1618.2,     1603,   2.8039,  34.6067,2,    105.6,2,  34.6067,2,   105.53,2,   125.16,2,    38.58,2,     0.00,2,    2.730,2, -999.000,9, -999.000,9,   2328.7,2,   2395.9,2,   7.5146,2,    25.00, -999.000,9,  -999.00,9,  -999.00,9,   2.6885,2,  27.5991,2,   2.8041,2
49UP20220727_1,    P9,    19,  1,     14,     326,2,20220811,0836,0942,  2.7945, 137.9917, 4382,   1819.7,     1802,   2.5389,  34.6191,2,    109.9,2,  34.6195,2,   109.86,6,   130.48,6,    38.45,6,     0.00,6,    2.720,6, -999.000,9, -999.000,9,   2332.7,2,   2399.9,2,   7.5207,2,    25.00, -999.000,9,  -999.00,9,  -999.00,9,   2.4099,2,  27.6330,2,   2.5389,2
49UP20220727_1,    P9,    19,  1,     13,     325,2,20220811,0836,0934,  2.7945, 137.9917, 4382,   2021.0,     2000,   2.2388,  34.6338,2,    115.4,2,  34.6348,2,   115.12,2,   137.04,2,    38.25,2,     0.00,2,    2.700,2, -999.000,9, -999.000,9,   2332.0,2,   2408.0,2,   7.5296,2,    25.00, -999.000,9,  -999.00,9,  -999.00,9,   2.0969,2,  27.6706,2,   2.2387,2
49UP20220727_1,    P9,    19,  1,     12,     324,2,20220811,0836,0930,  2.7945, 137.9917, 4382,   2222.9,     2199,   1.9950,  34.6470,2,    121.3,2,  34.6471,2,   121.08,2,   141.70,2,    37.95,2,     0.00,2,    2.660,2, -999.000,9, -999.000,9,   2339.6,2,   2412.0,2,   7.5387,2,    25.00, -999.000,9,  -999.00,9,  -999.00,9,   1.8395,2,  27.7014,2,   1.9948,2
49UP20220727_1,    P9,    19,  1,     11,     323,2,20220811,0836,0925,  2.7945, 137.9917, 4382,   2427.4,     2400,   1.8575,  34.6547,2,    127.2,2,  34.6551,2,   126.86,2,   143.62,2,    37.61,2,     0.00,2,    2.630,2, -999.000,9, -999.000,9,   2338.9,2,   2414.6,2,   7.5469,2,    25.00, -999.000,9,  -999.00,9,  -999.00,9,   1.6864,2,  27.7193,2,   1.8574,2
49UP20220727_1,    P9,    19,  1,     10,     322,2,20220811,0836,0921,  2.7945, 137.9917, 4382,   2630.4,     2600,   1.7589,  34.6598,2,    133.1,2,  34.6601,2,   133.29,2,   143.66,2,    37.20,2,     0.00,2,    2.610,2, -999.000,9, -999.000,9,   2332.6,6,   2415.0,6,   7.5538,2,    25.00, -999.000,9,  -999.00,9,  -999.00,9,   1.5713,2,  27.7319,2,   1.7586,2
49UP20220727_1,    P9,    19,  1,      9,     750,2,20220811,0836,0916,  2.7945, 137.9917, 4382,   2834.4,     2800,   1.6560,  34.6660,2,    139.1,2,  34.6668,6,   138.76,2,   144.06,2,    36.79,2,     0.00,2,    2.570,2, -999.000,9, -999.000,9,   2326.9,2,   2415.4,2,   7.5655,6,    25.00, -999.000,9,  -999.00,9,  -999.00,9,   1.4516,2,  27.7456,2,   1.6559,2
49UP20220727_1,    P9,    19,  1,      8,     320,2,20220811,0836,0911,  2.7945, 137.9917, 4382,   3037.2,     2999,   1.6023,  34.6702,2,    142.8,2,  34.6709,2,   142.48,2,   144.14,2,    36.56,2,     0.00,2,    2.540,2, -999.000,9, -999.000,9,   2328.9,2,   2415.5,2,   7.5702,2,    25.00, -999.000,9,  -999.00,9,  -999.00,9,   1.3797,2,  27.7542,2,   1.6023,2
49UP20220727_1,    P9,    19,  1,      7,     319,2,20220811,0836,0906,  2.7945, 137.9917, 4382,   3293.7,     3250,   1.5694,  34.6737,2,    146.1,2,  34.6743,2,   146.04,2,   144.21,2,    36.36,2,     0.00,2,    2.530,2, -999.000,9, -999.000,9,   2328.3,2,   2416.9,2,   7.5768,2,    25.00, -999.000,9,  -999.00,9,  -999.00,9,   1.3224,2,  27.7611,2,   1.5693,2
49UP20220727_1,    P9,    19,  1,      6,     318,2,20220811,0836,0900,  2.7945, 137.9917, 4382,   3548.7,     3500,   1.5582,  34.6764,2,    148.2,2,  34.6767,2,   147.97,2,   143.85,2,    36.18,2,     0.00,2,    2.520,2, -999.000,9, -999.000,9,   2328.7,2,   2418.6,2,   7.5812,2,    25.00, -999.000,9,  -999.00,9,  -999.00,9,   1.2856,2,  27.7658,2,   1.5582,2
49UP20220727_1,    P9,    19,  1,      5,     838,2,20220811,0836,0900,  2.7945, 137.9917, 4382,   3549.2,     3500,   1.5582,  34.6764,2,    148.2,2,  34.6768,2,   148.12,2,   143.85,2,    36.15,2,     0.00,2,    2.520,2, -999.000,9, -999.000,9,   2325.8,2,   2417.7,2,   7.5813,2,    25.00, -999.000,9,  -999.00,9,  -999.00,9,   1.2855,2,  27.7658,2,   1.5581,2
49UP20220727_1,    P9,    19,  1,      4,     316,2,20220811,0836,0855,  2.7945, 137.9917, 4382,   3804.9,     3750,   1.5371,  34.6804,2,    150.9,2,  34.6804,6,   151.04,2,   143.88,2,    36.02,2,     0.00,2,    2.500,2, -999.000,9, -999.000,9,   2327.9,2,   2420.7,2,   7.5871,2,    25.00, -999.000,9,  -999.00,9,  -999.00,9,   1.2382,2,  27.7723,2,   1.5373,2
49UP20220727_1,    P9,    19,  1,      3,     315,2,20220811,0836,0849,  2.7945, 137.9917, 4382,   4061.0,     4000,   1.5134,  34.6846,2,    154.3,2,  34.6850,2,   154.43,6,   143.62,6,    35.84,6,     0.00,6,    2.480,6, -999.000,9, -999.000,9,   2326.4,2,   2421.3,2,   7.5938,2,    25.00, -999.000,9,  -999.00,9,  -999.00,9,   1.1875,2,  27.7792,2,   1.5135,2
49UP20220727_1,    P9,    19,  1,      2,     314,2,20220811,0836,0841,  2.7945, 137.9917, 4382,   4317.6,     4251,   1.5172,  34.6860,2,    157.2,2,  34.6863,2,   157.18,2,   142.56,2,    35.63,2,     0.00,2,    2.470,2, -999.000,9, -999.000,9,   2324.9,2,   2418.0,2,   7.5958,2,    25.00, -999.000,9,  -999.00,9,  -999.00,9,   1.1626,2,  27.7820,2,   1.5172,2
49UP20220727_1,    P9,    19,  1,      1,     308,2,20220811,0836,0837,  2.7945, 137.9917, 4382,   4461.3,     4391,   1.5306,  34.6863,2,    157.8,2,  34.6862,6,   157.73,2,   142.48,2,    35.61,2,     0.00,2,    2.470,2, -999.000,9, -999.000,9,   2321.5,2,   2427.4,3,   7.5950,2,    25.00, -999.000,9,  -999.00,9,  -999.00,9,   1.1592,2,  27.7826,2,   1.5307,2