BOTTLE,20230330JMAAMD
EXPOCODE,SECT_ID,STNNBR,CASTNO,SAMPNO,BTLNBR,BTLNBR_FLAG_U,DATE,TIME,BTL_TIME,LATITUDE,LONGITUDE,DEPTH,CTDPRS,CTDDEP,CTDTMP,CTDSAL,CTDSAL_FLAG_W,CTDOXY,CTDOXY_FLAG_W,SALNTY,SALNTY_FLAG_W,OXYGEN,OXYGEN_FLAG_W,SILCAT,SILCAT_FLAG_W,NO2+NO3,NO2+NO3_FLAG_W,NITRIT,NITRIT_FLAG_W,PHSPHT,PHSPHT_FLAG_W,CFC-11,CFC-11_FLAG_W,CFC-12,CFC-12_FLAG_W,TCARBN,TCARBN_FLAG_W,ALKALI,ALKALI_FLAG_W,PH_TS,PH_TS_FLAG_W,PH_TS_TMP,CFC113,CFC113_FLAG_W,CHLORA,CHLORA_FLAG_W,PPHYTN,PPHYTN_FLAG_W,THETA,THETA_FLAG_W,SIGTHT,SIGTHT_FLAG_W,SBE35,SBE35_FLAG_W
,,,,,,,,UTC,,,,METER,DBAR,METERS,ITS-90,PSS-78,,UMOL/KG,,PSS78,,UMOL/KG,,UMOL/KG,,UMOL/KG,,UMOL/KG,,UMOL/KG,,PMOL/KG,,PMOL/KG,,UMOL/KG,,UMOL/KG,,,,ITS-90,PMOL/KG,,UG/KG,,UG/KG,,ITS-90,,KG/M3,,ITS-90,
49UP20220929_1,    P9,    81,  1,      0,      -9,0,20221009,1006,1137, 30.3402, 137.0277, 4450,      0.0,        0,  27.3325,  34.1214,2,    201.3,2,-999.0000,9,   201.35,2,     1.93,2,     0.04,2,     0.00,2,    0.030,2, -999.000,9, -999.000,9,   -999.0,9,   -999.0,9,-999.0000,9,  -999.00, -999.000,9,  -999.00,9,  -999.00,9,  27.3318,2,  21.9501,2,-999.0000,9
49UP20220929_1,    P9,    81,  1,     36,     757,2,20221009,1006,1206, 30.3402, 137.0277, 4450,     12.5,       12,  27.3360,  34.1178,2,    201.3,2,  34.1218,2,   201.02,2,     1.92,2,     0.02,2,     0.00,2,    0.010,2, -999.000,9, -999.000,9,   -999.0,9,   -999.0,9,-999.0000,9,  -999.00, -999.000,9,  -999.00,9,  -999.00,9,  27.3331,2,  21.9470,2,  27.3362,2
49UP20220929_1,    P9,    81,  1,     35,     756,2,20221009,1006,1204, 30.3402, 137.0277, 4450,     26.3,       26,  27.2777,  34.0969,2,    201.8,2,  34.1050,2,   201.05,2,     1.98,2,     0.02,2,     0.00,2,    0.010,2, -999.000,9, -999.000,9,   -999.0,9,   -999.0,9,-999.0000,9,  -999.00, -999.000,9,  -999.00,9,  -999.00,9,  27.2717,2,  21.9509,2,  27.2814,2
49UP20220929_1,    P9,    81,  1,     34,     323,2,20221009,1006,1201, 30.3402, 137.0277, 4450,     50.3,       50,  26.8827,  33.9967,2,    203.0,2,  33.9991,2,   202.39,2,     2.45,2,     0.00,2,     0.00,2,    0.010,2, -999.000,9, -999.000,9,   -999.0,9,   -999.0,9,-999.0000,9,  -999.00, -999.000,9,  -999.00,9,  -999.00,9,  26.8712,2,  22.0032,2,  26.8827,2
49UP20220929_1,    P9,    81,  1,     33,     322,2,20221009,1006,1200, 30.3402, 137.0277, 4450,     75.1,       75,  25.9668,  34.1533,2,    192.9,2,  34.1500,2,   193.35,2,     2.96,2,     1.04,2,     0.35,2,    0.080,2, -999.000,9, -999.000,9,   -999.0,9,   -999.0,9,-999.0000,9,  -999.00, -999.000,9,  -999.00,9,  -999.00,9,  25.9501,2,  22.4102,2,  25.9855,2
49UP20220929_1,    P9,    81,  1,     32,     321,2,20221009,1006,1158, 30.3402, 137.0277, 4450,    101.7,      101,  24.4703,  34.3305,2,    185.2,2,  34.3293,2,   185.43,2,     3.93,2,     2.42,2,     0.22,2,    0.180,2, -999.000,9, -999.000,9,   -999.0,9,   -999.0,9,-999.0000,9,  -999.00, -999.000,9,  -999.00,9,  -999.00,9,  24.4486,2,  23.0013,2,  24.4922,2
49UP20220929_1,    P9,    81,  1,     31,     320,2,20221009,1006,1157, 30.3402, 137.0277, 4450,    125.3,      124,  22.5701,  34.4771,2,    180.0,2,  34.4795,2,   180.17,6,     5.34,6,     3.88,6,     0.07,6,    0.290,6, -999.000,9, -999.000,9,   -999.0,9,   -999.0,9,-999.0000,9,  -999.00, -999.000,9,  -999.00,9,  -999.00,9,  22.5450,2,  23.6670,2,  22.5637,2
49UP20220929_1,    P9,    81,  1,     30,     319,2,20221009,1006,1155, 30.3402, 137.0277, 4450,    152.5,      151,  21.0220,  34.7288,2,    186.9,2,  34.7282,2,   186.54,2,     3.93,2,     3.41,2,     0.03,2,    0.250,3, -999.000,9, -999.000,9,   -999.0,9,   -999.0,9,-999.0000,9,  -999.00, -999.000,9,  -999.00,9,  -999.00,9,  20.9929,2,  24.2894,2,  21.0220,2
49UP20220929_1,    P9,    81,  1,     29,     318,2,20221009,1006,1153, 30.3402, 137.0277, 4450,    200.6,      199,  18.5354,  34.7056,2,    183.1,2,  34.7060,2,   182.23,2,     7.04,2,     6.10,2,     0.01,2,    0.430,2, -999.000,9, -999.000,9,   -999.0,9,   -999.0,9,-999.0000,9,  -999.00, -999.000,9,  -999.00,9,  -999.00,9,  18.5003,2,  24.9223,2,  18.5350,2
49UP20220929_1,    P9,    81,  1,     27,     317,2,20221009,1006,1151, 30.3402, 137.0277, 4450,    252.4,      251,  16.8244,  34.6419,2,    177.3,2,  34.6432,2,   177.03,2,    11.34,2,     8.79,2,     0.01,2,    0.610,2, -999.000,9, -999.000,9,   -999.0,9,   -999.0,9,-999.0000,9,  -999.00, -999.000,9,  -999.00,9,  -999.00,9,  16.7831,2,  25.2906,2,  16.8135,2
49UP20220929_1,    P9,    81,  1,     28,     755,2,20221009,1006,1151, 30.3402, 137.0277, 4450,    252.8,      251,  16.8175,  34.6423,2,    177.4,2,  34.6431,2,   177.20,2,    11.32,2,     8.79,2,     0.01,2,    0.620,2, -999.000,9, -999.000,9,   -999.0,9,   -999.0,9,-999.0000,9,  -999.00, -999.000,9,  -999.00,9,  -999.00,9,  16.7761,2,  25.2926,2,  16.8174,2
49UP20220929_1,    P9,    81,  1,     26,     316,2,20221009,1006,1149, 30.3402, 137.0277, 4450,    332.7,      330,  13.7779,  34.4983,2,    165.9,2,  34.4982,2,   165.31,2,    20.92,2,    14.20,2,     0.00,2,    1.000,2, -999.000,9, -999.000,9,   -999.0,9,   -999.0,9,-999.0000,9,  -999.00, -999.000,9,  -999.00,9,  -999.00,9,  13.7303,2,  25.8556,2,  13.7789,2
49UP20220929_1,    P9,    81,  1,     25,     315,2,20221009,1006,1146, 30.3402, 137.0277, 4450,    432.7,      429,   9.9781,  34.2994,2,    142.0,2,  34.2976,2,   141.39,2,    40.79,2,    22.72,2,     0.00,2,    1.610,2, -999.000,9, -999.000,9,   -999.0,9,   -999.0,9,-999.0000,9,  -999.00, -999.000,9,  -999.00,9,  -999.00,9,   9.9278,2,  26.4171,2,   9.9820,2
49UP20220929_1,    P9,    81,  1,     24,     753,2,20221009,1006,1143, 30.3402, 137.0277, 4450,    535.3,      531,   6.9934,  34.2113,2,    109.1,2,  34.2117,2,   108.93,2,    66.46,2,    30.72,2,     0.00,2,    2.200,2, -999.000,9, -999.000,9,   -999.0,9,   -999.0,9,-999.0000,9,  -999.00, -999.000,9,  -999.00,9,  -999.00,9,   6.9427,2,  26.8054,2,   6.9943,2
49UP20220929_1,    P9,    81,  1,     23,     314,2,20221009,1006,1140, 30.3402, 137.0277, 4450,    636.0,      631,   5.5611,  34.2278,2,     84.6,2,  34.2278,2,    84.33,2,    86.06,2,    35.44,2,     0.00,2,    2.530,2, -999.000,9, -999.000,9,   -999.0,9,   -999.0,9,-999.0000,9,  -999.00, -999.000,9,  -999.00,9,  -999.00,9,   5.5073,2,  27.0033,2,   5.5610,2
49UP20220929_1,    P9,    81,  1,     22,     313,2,20221009,1006,1137, 30.3402, 137.0277, 4450,    736.3,      730,   4.7247,  34.2932,2,     70.1,2,  34.2929,2,    70.26,6,   101.31,6,    37.90,6,     0.00,6,    2.710,6, -999.000,9, -999.000,9,   -999.0,9,   -999.0,9,-999.0000,9,  -999.00, -999.000,9,  -999.00,9,  -999.00,9,   4.6666,2,  27.1525,2,   4.7256,2
49UP20220929_1,    P9,    81,  1,     21,     312,2,20221009,1006,1134, 30.3402, 137.0277, 4450,    839.5,      832,   4.0538,  34.3549,2,     63.6,2,  34.3543,2,    63.68,2,   114.24,2,    39.45,2,     0.00,2,    2.810,2, -999.000,9, -999.000,9,   -999.0,9,   -999.0,9,-999.0000,9,  -999.00, -999.000,9,  -999.00,9,  -999.00,9,   3.9911,2,  27.2739,2,   4.0533,2
49UP20220929_1,    P9,    81,  1,     20,     311,2,20221009,1006,1131, 30.3402, 137.0277, 4450,    939.8,      931,   3.5926,  34.4020,2,     62.5,2,  34.4060,4,    62.35,2,   123.76,2,    40.19,2,     0.00,2,    2.860,2, -999.000,9, -999.000,9,   -999.0,9,   -999.0,9,-999.0000,9,  -999.00, -999.000,9,  -999.00,9,  -999.00,9,   3.5251,2,  27.3581,2,   3.5925,2
49UP20220929_1,    P9,    81,  1,     19,     310,2,20221009,1006,1127, 30.3402, 137.0277, 4450,   1081.2,     1071,   3.1765,  34.4417,2,     62.6,2,  34.4416,2,    62.64,2,   132.32,2,    40.74,2,     0.00,2,    2.890,2, -999.000,9, -999.000,9,   -999.0,9,   -999.0,9,-999.0000,9,  -999.00, -999.000,9,  -999.00,9,  -999.00,9,   3.1010,2,  27.4302,2,   3.1770,2
49UP20220929_1,    P9,    81,  1,     18,     752,2,20221009,1006,1122, 30.3402, 137.0277, 4450,   1282.7,     1270,   2.7688,  34.4918,2,     69.7,2,  34.4915,2,    69.52,2,   140.14,2,    40.65,2,     0.00,2,    2.880,2, -999.000,9, -999.000,9,   -999.0,9,   -999.0,9,-999.0000,9,  -999.00, -999.000,9,  -999.00,9,  -999.00,9,   2.6812,2,  27.5079,2,   2.7687,2
49UP20220929_1,    P9,    81,  1,     17,     751,2,20221009,1006,1118, 30.3402, 137.0277, 4450,   1487.3,     1472,   2.4458,  34.5332,2,     79.5,2,  34.5329,6,    79.33,2,   144.74,2,    40.34,2,     0.00,2,    2.840,2, -999.000,9, -999.000,9,   -999.0,9,   -999.0,9,-999.0000,9,  -999.00, -999.000,9,  -999.00,9,  -999.00,9,   2.3455,2,  27.5697,2,   2.4460,2
49UP20220929_1,    P9,    81,  1,     16,     328,2,20221009,1006,1112, 30.3402, 137.0277, 4450,   1688.6,     1670,   2.2531,  34.5611,2,     88.9,2,  34.5607,2,    88.97,2,   146.48,2,    39.80,2,     0.00,2,    2.800,2, -999.000,9, -999.000,9,   -999.0,9,   -999.0,9,-999.0000,9,  -999.00, -999.000,9,  -999.00,9,  -999.00,9,   2.1389,2,  27.6089,2,   2.2529,2
49UP20220929_1,    P9,    81,  1,     15,     309,2,20221009,1006,1108, 30.3402, 137.0277, 4450,   1893.3,     1872,   2.0695,  34.5892,2,    101.1,2,  34.5895,2,   100.98,2,   146.95,2,    39.12,2,     0.00,2,    2.750,2, -999.000,9, -999.000,9,   -999.0,9,   -999.0,9,-999.0000,9,  -999.00, -999.000,9,  -999.00,9,  -999.00,9,   1.9411,2,  27.6472,2,   2.0694,2
49UP20220929_1,    P9,    81,  1,     14,     326,2,20221009,1006,1103, 30.3402, 137.0277, 4450,   2094.9,     2070,   1.9197,  34.6118,2,    111.9,2,  34.6118,2,   111.86,2,   146.88,2,    38.47,2,     0.00,2,    2.690,2, -999.000,9, -999.000,9,   -999.0,9,   -999.0,9,-999.0000,9,  -999.00, -999.000,9,  -999.00,9,  -999.00,9,   1.7765,2,  27.6781,2,   1.9198,2
49UP20220929_1,    P9,    81,  1,     13,     325,2,20221009,1006,1058, 30.3402, 137.0277, 4450,   2299.2,     2271,   1.7891,  34.6313,2,    122.3,2,  34.6314,2,   122.48,6,   146.07,6,    37.86,6,     0.00,6,    2.640,6, -999.000,9, -999.000,9,   -999.0,9,   -999.0,9,-999.0000,9,  -999.00, -999.000,9,  -999.00,9,  -999.00,9,   1.6306,2,  27.7047,2,   1.7892,2
49UP20220929_1,    P9,    81,  1,     11,     323,2,20221009,1006,1053, 30.3402, 137.0277, 4450,   2501.5,     2470,   1.7231,  34.6417,2,    128.4,2,  34.6419,2,   127.95,2,   145.86,2,    37.56,2,     0.00,2,    2.620,2, -999.000,9, -999.000,9,   -999.0,9,   -999.0,9,-999.0000,9,  -999.00, -999.000,9,  -999.00,9,  -999.00,9,   1.5479,2,  27.7192,2,   1.7232,2
49UP20220929_1,    P9,    81,  1,     12,     324,2,20221009,1006,1053, 30.3402, 137.0277, 4450,   2501.9,     2470,   1.7238,  34.6418,2,    128.3,2,  34.6419,2,   128.25,2,   145.83,2,    37.53,2,     0.00,2,    2.620,2, -999.000,9, -999.000,9,   -999.0,9,   -999.0,9,-999.0000,9,  -999.00, -999.000,9,  -999.00,9,  -999.00,9,   1.5486,2,  27.7191,2,   1.7243,2
49UP20220929_1,    P9,    81,  1,     10,     322,2,20221009,1006,1048, 30.3402, 137.0277, 4450,   2708.7,     2673,   1.6438,  34.6537,2,    135.8,2,  34.6539,6,   135.59,2,   145.23,2,    37.10,2,     0.00,2,    2.580,2, -999.000,9, -999.000,9,   -999.0,9,   -999.0,9,-999.0000,9,  -999.00, -999.000,9,  -999.00,9,  -999.00,9,   1.4513,2,  27.7358,2,   1.6438,2
49UP20220929_1,    P9,    81,  1,      9,     750,2,20221009,1006,1044, 30.3402, 137.0277, 4450,   2910.5,     2871,   1.5690,  34.6643,2,    142.9,2,  34.6654,4,   142.25,2,   144.40,2,    36.64,2,     0.00,2,    2.540,2, -999.000,9, -999.000,9,   -999.0,9,   -999.0,9,-999.0000,9,  -999.00, -999.000,9,  -999.00,9,  -999.00,9,   1.3593,2,  27.7509,2,   1.5691,2
49UP20220929_1,    P9,    81,  1,      8,     320,2,20221009,1006,1039, 30.3402, 137.0277, 4450,   3124.8,     3081,   1.5298,  34.6712,2,    147.5,2,  34.6712,2,   147.43,2,   143.76,2,    36.43,2,     0.00,2,    2.520,2, -999.000,9, -999.000,9,   -999.0,9,   -999.0,9,-999.0000,9,  -999.00, -999.000,9,  -999.00,9,  -999.00,9,   1.3003,2,  27.7606,2,   1.5299,2
49UP20220929_1,    P9,    81,  1,      7,     319,2,20221009,1006,1033, 30.3402, 137.0277, 4450,   3381.3,     3332,   1.5207,  34.6750,2,    150.1,2,  34.6751,2,   150.16,2,   143.45,2,    36.25,2,     0.00,2,    2.510,2, -999.000,9, -999.000,9,   -999.0,9,   -999.0,9,-999.0000,9,  -999.00, -999.000,9,  -999.00,9,  -999.00,9,   1.2661,2,  27.7661,2,   1.5208,2
49UP20220929_1,    P9,    81,  1,      6,     318,2,20221009,1006,1027, 30.3402, 137.0277, 4450,   3638.0,     3582,   1.5220,  34.6778,2,    152.1,2,  34.6768,2,   151.86,2,   142.97,2,    36.05,2,     0.00,2,    2.500,2, -999.000,9, -999.000,9,   -999.0,9,   -999.0,9,-999.0000,9,  -999.00, -999.000,9,  -999.00,9,  -999.00,9,   1.2410,2,  27.7700,2,   1.5222,2
49UP20220929_1,    P9,    81,  1,      5,     838,2,20221009,1006,1021, 30.3402, 137.0277, 4450,   3894.3,     3832,   1.5325,  34.6794,2,    153.5,2,  34.6798,6,   153.52,2,   142.88,2,    36.04,2,     0.00,2,    2.490,2, -999.000,9, -999.000,9,   -999.0,9,   -999.0,9,-999.0000,9,  -999.00, -999.000,9,  -999.00,9,  -999.00,9,   1.2241,2,  27.7725,2,   1.5325,2
49UP20220929_1,    P9,    81,  1,      4,     316,2,20221009,1006,1015, 30.3402, 137.0277, 4450,   4147.9,     4080,   1.5504,  34.6804,2,    154.5,2,  34.6806,2,   154.39,6,   142.56,6,    35.92,6,     0.00,6,    2.490,6, -999.000,9, -999.000,9,   -999.0,9,   -999.0,9,-999.0000,9,  -999.00, -999.000,9,  -999.00,9,  -999.00,9,   1.2138,2,  27.7740,2,   1.5505,2
49UP20220929_1,    P9,    81,  1,      3,     315,2,20221009,1006,1010, 30.3402, 137.0277, 4450,   4406.1,     4331,   1.5725,  34.6811,2,    155.3,2,  34.6813,6,   154.92,2,   142.50,2,    35.94,2,     0.00,2,    2.490,2, -999.000,9, -999.000,9,   -999.0,9,   -999.0,9,-999.0000,9,  -999.00, -999.000,9,  -999.00,9,  -999.00,9,   1.2061,2,  27.7752,2,   1.5726,2
49UP20220929_1,    P9,    81,  1,      1,     308,2,20221009,1006,1006, 30.3402, 137.0277, 4450,   4522.6,     4445,   1.5856,  34.6812,2,    155.5,2,  34.6810,2,   155.23,2,   142.41,2,    35.86,2,     0.00,2,    2.480,2, -999.000,9, -999.000,9,   -999.0,9,   -999.0,9,-999.0000,9,  -999.00, -999.000,9,  -999.00,9,  -999.00,9,   1.2054,2,  27.7752,2,   1.5857,2
49UP20220929_1,    P9,    81,  1,      2,     314,2,20221009,1006,1006, 30.3402, 137.0277, 4450,   4522.7,     4445,   1.5858,  34.6812,2,    155.5,2,  34.6814,2,   155.42,2,   142.58,2,    35.93,2,     0.00,2,    2.490,2, -999.000,9, -999.000,9,   -999.0,9,   -999.0,9,-999.0000,9,  -999.00, -999.000,9,  -999.00,9,  -999.00,9,   1.2055,2,  27.7753,2,   1.5858,2