BOTTLE,20230330JMAAMD
EXPOCODE,SECT_ID,STNNBR,CASTNO,SAMPNO,BTLNBR,BTLNBR_FLAG_U,DATE,TIME,BTL_TIME,LATITUDE,LONGITUDE,DEPTH,CTDPRS,CTDDEP,CTDTMP,CTDSAL,CTDSAL_FLAG_W,CTDOXY,CTDOXY_FLAG_W,SALNTY,SALNTY_FLAG_W,OXYGEN,OXYGEN_FLAG_W,SILCAT,SILCAT_FLAG_W,NO2+NO3,NO2+NO3_FLAG_W,NITRIT,NITRIT_FLAG_W,PHSPHT,PHSPHT_FLAG_W,CFC-11,CFC-11_FLAG_W,CFC-12,CFC-12_FLAG_W,TCARBN,TCARBN_FLAG_W,ALKALI,ALKALI_FLAG_W,PH_TS,PH_TS_FLAG_W,PH_TS_TMP,CFC113,CFC113_FLAG_W,CHLORA,CHLORA_FLAG_W,PPHYTN,PPHYTN_FLAG_W,THETA,THETA_FLAG_W,SIGTHT,SIGTHT_FLAG_W,SBE35,SBE35_FLAG_W
,,,,,,,,UTC,,,,METER,DBAR,METERS,ITS-90,PSS-78,,UMOL/KG,,PSS78,,UMOL/KG,,UMOL/KG,,UMOL/KG,,UMOL/KG,,UMOL/KG,,PMOL/KG,,PMOL/KG,,UMOL/KG,,UMOL/KG,,,,ITS-90,PMOL/KG,,UG/KG,,UG/KG,,ITS-90,,KG/M3,,ITS-90,
49UP20220929_1,    P9,    62,  1,      0,      -9,0,20221003,0018,0211, 20.9795, 136.9972, 4842,      0.0,        0,  29.3413,  34.1269,2,    195.3,2,  34.1393,2,   195.73,2,     1.19,2,     0.03,2,     0.00,2,    0.030,2, -999.000,9, -999.000,9,   1927.0,2,   2235.9,2,   8.0962,2,    25.00, -999.000,9,     0.06,2,     0.01,2,  29.3407,2,  21.2947,2,-999.0000,9
49UP20220929_1,    P9,    62,  1,     36,     757,2,20221003,0018,0234, 20.9795, 136.9972, 4842,     10.3,       10,  29.3184,  34.1254,2,    195.4,2,  34.1278,2,   195.78,2,     1.19,2,     0.02,2,     0.00,2,    0.010,2, -999.000,9, -999.000,9,   1926.7,2,   2236.7,2,   8.0983,2,    25.00, -999.000,9,     0.05,2,     0.01,2,  29.3159,2,  21.3019,2,  29.3211,2
49UP20220929_1,    P9,    62,  1,     35,     756,2,20221003,0018,0233, 20.9795, 136.9972, 4842,     26.0,       26,  29.2483,  34.1229,2,    195.4,2,  34.1249,2,   195.72,2,     1.28,2,     0.02,2,     0.00,2,    0.010,2, -999.000,9, -999.000,9,   1924.2,2,   2237.1,2,   8.0969,2,    25.00, -999.000,9,     0.06,2,     0.02,2,  29.2420,2,  21.3248,2,  29.2491,2
49UP20220929_1,    P9,    62,  1,     34,     323,2,20221003,0018,0229, 20.9795, 136.9972, 4842,     50.5,       50,  27.9720,  34.3707,2,    209.6,2,  34.3741,2,   208.51,2,     1.24,2,     0.01,2,     0.00,2,    0.010,2, -999.000,9, -999.000,9,   1946.5,2,   2255.5,2,   8.0867,2,    25.00, -999.000,9,     0.11,2,     0.02,2,  27.9601,2,  21.9345,2,  27.9710,2
49UP20220929_1,    P9,    62,  1,     33,     322,2,20221003,0018,0227, 20.9795, 136.9972, 4842,     74.8,       74,  23.2140,  34.7388,2,    220.5,2,  34.7399,2,   220.65,2,     1.57,2,     0.01,2,     0.00,2,    0.010,2, -999.000,9, -999.000,9,   1984.7,2,   2279.0,2,   8.0476,2,    25.00, -999.000,9,     0.17,2,     0.07,2,  23.1986,2,  23.6782,2,  23.1775,2
49UP20220929_1,    P9,    62,  1,     32,     321,2,20221003,0018,0226, 20.9795, 136.9972, 4842,    101.2,      101,  21.3195,  34.8235,2,    192.3,2,  34.8235,2,   192.40,2,     2.14,2,     1.22,2,     0.04,2,    0.110,2, -999.000,9, -999.000,9,   2023.2,2,   2284.6,2,   7.9864,2,    25.00, -999.000,9,     0.28,2,     0.61,2,  21.2999,2,  24.2777,2,  21.3197,2
49UP20220929_1,    P9,    62,  1,     31,     320,2,20221003,0018,0224, 20.9795, 136.9972, 4842,    126.0,      125,  19.9554,  34.8007,2,    195.2,2,  34.7998,2,   194.98,2,     2.51,2,     2.43,2,     0.02,2,    0.170,2, -999.000,9, -999.000,9,   2033.0,2,   2282.2,2,   7.9709,2,    25.00, -999.000,9,     0.10,2,     0.23,2,  19.9322,2,  24.6275,2,  19.9601,2
49UP20220929_1,    P9,    62,  1,     30,     319,2,20221003,0018,0223, 20.9795, 136.9972, 4842,    151.8,      151,  19.2603,  34.8026,2,    192.8,2,  34.8015,2,   193.05,2,     3.01,2,     3.36,2,     0.01,2,    0.230,2, -999.000,9, -999.000,9,   2038.7,2,   2282.6,2,   7.9533,2,    25.00, -999.000,9,     0.02,2,     0.05,2,  19.2330,2,  24.8107,2,  19.2619,2
49UP20220929_1,    P9,    62,  1,     29,     318,2,20221003,0018,0221, 20.9795, 136.9972, 4842,    202.5,      201,  18.0093,  34.7726,2,    193.5,2,  34.7724,6,   193.34,2,     4.08,2,     4.79,2,     0.00,2,    0.320,2, -999.000,9, -999.000,9,   2051.2,2,   2280.5,2,   7.9299,2,    25.00, -999.000,9,     0.00,2,     0.01,2,  17.9746,2,  25.1042,2,  18.0100,2
49UP20220929_1,    P9,    62,  1,     28,     755,2,20221003,0018,0219, 20.9795, 136.9972, 4842,    253.9,      252,  17.0962,  34.7233,2,    191.1,2,  34.7246,2,   191.06,6,     5.42,6,     6.16,6,     0.00,6,    0.430,6, -999.000,9, -999.000,9,   2064.4,2,   2278.8,2,   7.9053,2,    25.00, -999.000,9,  -999.00,9,  -999.00,9,  17.0542,2,  25.2890,2,  17.0851,2
49UP20220929_1,    P9,    62,  1,     27,     317,2,20221003,0018,0217, 20.9795, 136.9972, 4842,    305.3,      303,  15.1319,  34.5712,2,    186.3,2,  34.5714,2,   186.32,2,     9.26,2,     9.45,2,     0.00,2,    0.660,2, -999.000,9, -999.000,9,   2083.4,2,   2272.5,2,   7.8515,2,    25.00, -999.000,9,  -999.00,9,  -999.00,9,  15.0854,2,  25.6226,2,  15.1336,2
49UP20220929_1,    P9,    62,  1,     26,     316,2,20221003,0018,0214, 20.9795, 136.9972, 4842,    406.1,      403,  12.0184,  34.3413,2,    173.3,2,  34.3413,2,   173.25,2,    19.78,2,    15.80,2,     0.00,2,    1.120,2, -999.000,9, -999.000,9,   2121.3,2,   2268.3,2,   7.7522,2,    25.00, -999.000,9,  -999.00,9,  -999.00,9,  11.9653,2,  26.0840,2,  12.0185,2
49UP20220929_1,    P9,    62,  1,     25,     315,2,20221003,0018,0211, 20.9795, 136.9972, 4842,    503.6,      500,   8.8935,  34.1734,2,    142.7,2,  34.1754,2,   142.69,2,    38.77,2,    24.15,2,     0.00,2,    1.730,2, -999.000,9, -999.000,9,   2179.9,2,   2276.9,2,   7.6230,2,    25.00, -999.000,9,  -999.00,9,  -999.00,9,   8.8388,2,  26.4964,2,   8.8812,2
49UP20220929_1,    P9,    62,  1,     24,     753,2,20221003,0018,0208, 20.9795, 136.9972, 4842,    604.4,      600,   6.6840,  34.1556,2,     98.0,2,  34.1549,2,    97.64,2,    63.17,2,    32.38,2,     0.00,2,    2.330,2, -999.000,9, -999.000,9,   2242.3,2,   2296.3,2,   7.4930,2,    25.00, -999.000,9,  -999.00,9,  -999.00,9,   6.6280,2,  26.8040,2,   6.6838,2
49UP20220929_1,    P9,    62,  1,     23,     314,2,20221003,0018,0205, 20.9795, 136.9972, 4842,    705.8,      700,   5.6466,  34.2255,2,     70.8,2,  34.2252,2,    71.73,2,    79.49,2,    36.75,2,     0.00,2,    2.650,2, -999.000,9, -999.000,9,   2280.7,2,   2314.8,2,   7.4363,2,    25.00, -999.000,9,  -999.00,9,  -999.00,9,   5.5862,2,  26.9920,2,   5.6466,2
49UP20220929_1,    P9,    62,  1,     22,     313,2,20221003,0018,0202, 20.9795, 136.9972, 4842,    805.3,      799,   4.8836,  34.3330,2,     62.2,2,  34.3325,2,    62.03,2,    94.35,2,    38.85,2,     0.00,2,    2.800,2, -999.000,9, -999.000,9,   2310.6,2,   2336.4,2,   7.4252,2,    25.00, -999.000,9,  -999.00,9,  -999.00,9,   4.8186,2,  27.1671,2,   4.8833,2
49UP20220929_1,    P9,    62,  1,     21,     312,2,20221003,0018,0159, 20.9795, 136.9972, 4842,    906.6,      899,   4.3430,  34.3746,2,     60.5,2,  34.3751,2,    60.06,6,   105.60,6,    39.75,6,     0.00,6,    2.850,6, -999.000,9, -999.000,9,   2318.9,2,   2349.4,2,   7.4181,2,    25.00, -999.000,9,  -999.00,9,  -999.00,9,   4.2729,2,  27.2600,2,   4.3432,2
49UP20220929_1,    P9,    62,  1,     20,     311,2,20221003,0018,0156, 20.9795, 136.9972, 4842,   1008.9,     1000,   3.8202,  34.4216,2,     62.3,2,  34.4216,2,    62.10,2,   116.75,2,    40.23,2,     0.00,2,    2.880,2, -999.000,9, -999.000,9,   2330.3,6,   2362.1,6,   7.4186,2,    25.00, -999.000,9,  -999.00,9,  -999.00,9,   3.7453,2,  27.3520,2,   3.8206,2
49UP20220929_1,    P9,    62,  1,     19,     310,2,20221003,0018,0151, 20.9795, 136.9972, 4842,   1211.9,     1201,   3.1219,  34.5038,2,     76.8,2,  34.5039,2,    77.20,2,   130.54,2,    39.77,2,     0.00,2,    2.840,2, -999.000,9, -999.000,9,   2338.3,2,   2383.6,2,   7.4518,6,    25.00, -999.000,9,  -999.00,9,  -999.00,9,   3.0365,2,  27.4857,2,   3.1216,2
49UP20220929_1,    P9,    62,  1,     18,     752,2,20221003,0018,0147, 20.9795, 136.9972, 4842,   1415.3,     1402,   2.7457,  34.5484,2,     90.4,2,  34.5488,6,    90.45,2,   136.21,2,    39.11,2,     0.00,2,    2.780,2, -999.000,9, -999.000,9,   2341.2,2,   2392.8,2,   7.4746,2,    25.00, -999.000,9,  -999.00,9,  -999.00,9,   2.6477,2,  27.5560,2,   2.7458,2
49UP20220929_1,    P9,    62,  1,     17,     751,2,20221003,0018,0142, 20.9795, 136.9972, 4842,   1617.3,     1601,   2.4177,  34.5799,2,    100.6,2,  34.5798,2,   100.45,2,   139.95,2,    38.76,2,     0.00,2,    2.740,2, -999.000,9, -999.000,9,   2341.1,2,   2398.3,2,   7.4937,2,    25.00, -999.000,9,  -999.00,9,  -999.00,9,   2.3072,2,  27.6102,2,   2.4177,2
49UP20220929_1,    P9,    62,  1,     16,     328,2,20221003,0018,0136, 20.9795, 136.9972, 4842,   1820.5,     1801,   2.1929,  34.6044,2,    109.6,2,  34.6039,2,   109.53,2,   141.77,2,    38.41,2,     0.00,2,    2.710,2, -999.000,9, -999.000,9,   2340.3,2,   2404.3,2,   7.5117,2,    25.00, -999.000,9,  -999.00,9,  -999.00,9,   2.0687,2,  27.6492,2,   2.1928,2
49UP20220929_1,    P9,    62,  1,     15,     309,2,20221003,0018,0131, 20.9795, 136.9972, 4842,   2024.9,     2003,   1.9868,  34.6226,2,    117.5,2,  34.6222,2,   117.09,2,   143.47,2,    38.06,2,     0.00,2,    2.680,2, -999.000,9, -999.000,9,   2342.9,2,   2406.9,2,   7.5219,2,    25.00, -999.000,9,  -999.00,9,  -999.00,9,   1.8485,2,  27.6811,2,   1.9868,2
49UP20220929_1,    P9,    62,  1,     14,     326,2,20221003,0018,0126, 20.9795, 136.9972, 4842,   2227.8,     2202,   1.8783,  34.6334,2,    122.9,2,  34.6331,2,   122.74,6,   144.22,6,    37.99,6,     0.00,6,    2.650,6, -999.000,9, -999.000,9,   2335.4,2,   2408.7,2,   7.5322,2,    25.00, -999.000,9,  -999.00,9,  -999.00,9,   1.7244,2,  27.6993,2,   1.8785,2
49UP20220929_1,    P9,    62,  1,     13,     325,2,20221003,0018,0121, 20.9795, 136.9972, 4842,   2431.2,     2402,   1.7883,  34.6426,2,    128.1,2,  34.6419,6,   127.93,2,   144.41,2,    37.83,2,     0.00,2,    2.620,2, -999.000,9, -999.000,9,   2331.2,2,   2409.5,2,   7.5427,2,    25.00, -999.000,9,  -999.00,9,  -999.00,9,   1.6181,2,  27.7147,2,   1.7885,2
49UP20220929_1,    P9,    62,  1,     12,     324,2,20221003,0018,0115, 20.9795, 136.9972, 4842,   2634.9,     2602,   1.6995,  34.6524,2,    134.2,2,  34.6524,2,   134.23,2,   144.59,2,    37.50,2,     0.00,2,    2.590,2, -999.000,9, -999.000,9,   2331.7,6,   2409.9,6,   7.5509,2,    25.00, -999.000,9,  -999.00,9,  -999.00,9,   1.5127,2,  27.7303,2,   1.6995,2
49UP20220929_1,    P9,    62,  1,     11,     323,2,20221003,0018,0110, 20.9795, 136.9972, 4842,   2838.1,     2802,   1.6414,  34.6595,2,    138.8,2,  34.6598,2,   138.65,2,   144.36,2,    37.16,2,     0.00,2,    2.570,2, -999.000,9, -999.000,9,   2330.3,2,   2410.2,2,   7.5579,6,    25.00, -999.000,9,  -999.00,9,  -999.00,9,   1.4369,2,  27.7415,2,   1.6415,2
49UP20220929_1,    P9,    62,  1,     10,     322,2,20221003,0018,0104, 20.9795, 136.9972, 4842,   3045.5,     3005,   1.5936,  34.6659,2,    143.3,2,  34.6656,2,   143.17,2,   144.15,2,    36.86,2,     0.00,2,    2.550,2, -999.000,9, -999.000,9,   2330.8,2,   2416.8,3,   7.5667,2,    25.00, -999.000,9,  -999.00,9,  -999.00,9,   1.3704,2,  27.7514,2,   1.5936,2
49UP20220929_1,    P9,    62,  1,      9,     750,2,20221003,0018,0058, 20.9795, 136.9972, 4842,   3296.6,     3251,   1.5616,  34.6713,2,    147.2,2,  34.6713,2,   147.08,2,   143.52,2,    36.49,2,     0.00,2,    2.530,2, -999.000,9, -999.000,9,   2326.8,6,   2412.4,6,   7.5714,2,    25.00, -999.000,9,  -999.00,9,  -999.00,9,   1.3145,2,  27.7597,2,   1.5617,2
49UP20220929_1,    P9,    62,  1,      8,     320,2,20221003,0018,0052, 20.9795, 136.9972, 4842,   3551.7,     3500,   1.5206,  34.6774,2,    152.2,2,  34.6768,2,   152.27,2,   142.80,2,    36.38,2,     0.00,2,    2.500,2, -999.000,9, -999.000,9,   2323.8,2,   2411.4,2,   7.5808,6,    25.00, -999.000,9,  -999.00,9,  -999.00,9,   1.2486,2,  27.7692,2,   1.5204,2
49UP20220929_1,    P9,    62,  1,      7,     319,2,20221003,0018,0046, 20.9795, 136.9972, 4842,   3805.4,     3748,   1.5029,  34.6812,2,    155.6,2,  34.6810,2,   155.64,6,   142.13,6,    35.86,6,     0.00,6,    2.480,6, -999.000,9, -999.000,9,   2322.8,2,   2411.3,2,   7.5825,2,    25.00, -999.000,9,  -999.00,9,  -999.00,9,   1.2049,2,  27.7753,2,   1.5029,2
49UP20220929_1,    P9,    62,  1,      6,     318,2,20221003,0018,0040, 20.9795, 136.9972, 4842,   4063.7,     4000,   1.5075,  34.6832,2,    157.5,2,  34.6824,2,   157.48,2,   141.52,2,    35.69,2,     0.00,2,    2.480,2, -999.000,9, -999.000,9,   2317.7,2,   2410.1,2,   7.5872,2,    25.00, -999.000,9,  -999.00,9,  -999.00,9,   1.1814,2,  27.7785,2,   1.5076,2
49UP20220929_1,    P9,    62,  1,      5,     838,2,20221003,0018,0034, 20.9795, 136.9972, 4842,   4318.8,     4249,   1.5297,  34.6838,2,    158.0,2,  34.6829,2,   158.04,2,   141.51,2,    35.73,2,     0.00,2,    2.480,2, -999.000,9, -999.000,9,   2317.8,2,   2411.3,2,   7.5855,2,    25.00, -999.000,9,  -999.00,9,  -999.00,9,   1.1746,2,  27.7794,2,   1.5298,2
49UP20220929_1,    P9,    62,  1,      4,     316,2,20221003,0018,0028, 20.9795, 136.9972, 4842,   4576.3,     4500,   1.5584,  34.6839,2,    158.3,2,  34.6831,2,   158.15,2,   141.55,2,    35.65,2,     0.00,2,    2.470,2, -999.000,9, -999.000,9,   2321.0,2,   2409.7,2,   7.5880,2,    25.00, -999.000,9,  -999.00,9,  -999.00,9,   1.1727,2,  27.7797,2,   1.5584,2
49UP20220929_1,    P9,    62,  1,      3,     315,2,20221003,0018,0022, 20.9795, 136.9972, 4842,   4835.5,     4752,   1.5898,  34.6838,2,    158.4,2,  34.6836,6,   158.28,2,   141.48,2,    35.66,2,     0.00,2,    2.470,2, -999.000,9, -999.000,9,   2318.4,2,   2410.5,2,   7.5895,2,    25.00, -999.000,9,  -999.00,9,  -999.00,9,   1.1725,2,  27.7796,2,   1.5898,2
49UP20220929_1,    P9,    62,  1,      1,     308,2,20221003,0018,0018, 20.9795, 136.9972, 4842,   4944.1,     4857,   1.6035,  34.6838,2,    158.5,2,  34.6836,2,   158.15,2,   141.44,2,    36.01,2,     0.00,2,    2.470,2, -999.000,9, -999.000,9,   2317.2,2,   2410.8,2,   7.5883,2,    25.00, -999.000,9,  -999.00,9,  -999.00,9,   1.1726,2,  27.7796,2,   1.6035,2
49UP20220929_1,    P9,    62,  1,      2,     314,2,20221003,0018,0018, 20.9795, 136.9972, 4842,   4944.5,     4858,   1.6036,  34.6838,2,    158.5,2,  34.6834,2,   158.17,2,   141.50,2,    35.68,2,     0.00,2,    2.470,2, -999.000,9, -999.000,9,   2320.8,2,   2410.0,2,   7.5880,2,    25.00, -999.000,9,  -999.00,9,  -999.00,9,   1.1726,2,  27.7796,2,   1.6036,2