BOTTLE,20230330JMAAMD
EXPOCODE,SECT_ID,STNNBR,CASTNO,SAMPNO,BTLNBR,BTLNBR_FLAG_U,DATE,TIME,BTL_TIME,LATITUDE,LONGITUDE,DEPTH,CTDPRS,CTDDEP,CTDTMP,CTDSAL,CTDSAL_FLAG_W,CTDOXY,CTDOXY_FLAG_W,SALNTY,SALNTY_FLAG_W,OXYGEN,OXYGEN_FLAG_W,SILCAT,SILCAT_FLAG_W,NO2+NO3,NO2+NO3_FLAG_W,NITRIT,NITRIT_FLAG_W,PHSPHT,PHSPHT_FLAG_W,CFC-11,CFC-11_FLAG_W,CFC-12,CFC-12_FLAG_W,TCARBN,TCARBN_FLAG_W,ALKALI,ALKALI_FLAG_W,PH_TS,PH_TS_FLAG_W,PH_TS_TMP,CFC113,CFC113_FLAG_W,CHLORA,CHLORA_FLAG_W,PPHYTN,PPHYTN_FLAG_W,THETA,THETA_FLAG_W,SIGTHT,SIGTHT_FLAG_W,SBE35,SBE35_FLAG_W
,,,,,,,,UTC,,,,METER,DBAR,METERS,ITS-90,PSS-78,,UMOL/KG,,PSS78,,UMOL/KG,,UMOL/KG,,UMOL/KG,,UMOL/KG,,UMOL/KG,,PMOL/KG,,PMOL/KG,,UMOL/KG,,UMOL/KG,,,,ITS-90,PMOL/KG,,UG/KG,,UG/KG,,ITS-90,,KG/M3,,ITS-90,
49UP20220727_1,    P9,     4,  1,      0,      -9,0,20220806,0156,0315, -1.5022, 141.9887, 3487,      0.0,        0,  29.6121,  35.3316,2,    196.3,2,-999.0000,9,   195.17,2,     1.12,2,     0.68,2,     0.14,2,    0.280,2, -999.000,9, -999.000,9,   -999.0,9,   -999.0,9,-999.0000,9,  -999.00, -999.000,9,  -999.00,9,  -999.00,9,  29.6115,2,  22.1071,2,-999.0000,9
49UP20220727_1,    P9,     4,  1,     35,     756,2,20220806,0156,0351, -1.5022, 141.9887, 3487,     10.8,       11,  29.4825,  35.3486,2,    195.6,2,  35.3458,2,   195.89,2,     1.04,2,     0.64,2,     0.14,2,    0.260,2, -999.000,9, -999.000,9,   -999.0,9,   -999.0,9,-999.0000,9,  -999.00, -999.000,9,  -999.00,9,  -999.00,9,  29.4798,2,  22.1645,2,  29.4825,2
49UP20220727_1,    P9,     4,  1,     34,     323,2,20220806,0156,0349, -1.5022, 141.9887, 3487,     25.8,       26,  29.4233,  35.3724,2,    194.8,2,  35.3701,2,   194.81,2,     1.12,2,     0.81,2,     0.19,2,    0.260,2, -999.000,9, -999.000,9,   -999.0,9,   -999.0,9,-999.0000,9,  -999.00, -999.000,9,  -999.00,9,  -999.00,9,  29.4170,2,  22.2035,2,  29.4243,2
49UP20220727_1,    P9,     4,  1,     33,     322,2,20220806,0156,0343, -1.5022, 141.9887, 3487,     50.7,       50,  29.4156,  35.3786,2,    193.8,2,  35.3766,2,   193.71,2,     1.13,2,     0.89,2,     0.23,2,    0.270,2, -999.000,9, -999.000,9,   -999.0,9,   -999.0,9,-999.0000,9,  -999.00, -999.000,9,  -999.00,9,  -999.00,9,  29.4032,2,  22.2128,2,-999.0000,5
49UP20220727_1,    P9,     4,  1,     32,     321,2,20220806,0156,0341, -1.5022, 141.9887, 3487,     76.0,       76,  29.4220,  35.3849,2,    193.0,2,  35.3840,2,   192.45,2,     1.11,2,     1.01,2,     0.28,2,    0.280,2, -999.000,9, -999.000,9,   -999.0,9,   -999.0,9,-999.0000,9,  -999.00, -999.000,9,  -999.00,9,  -999.00,9,  29.4034,2,  22.2175,2,-999.0000,5
49UP20220727_1,    P9,     4,  1,     31,     320,2,20220806,0156,0340, -1.5022, 141.9887, 3487,    101.0,      100,  29.3365,  35.4127,2,    188.0,2,  35.4127,2,   187.55,2,     1.44,2,     1.86,2,     0.52,2,    0.340,2, -999.000,9, -999.000,9,   -999.0,9,   -999.0,9,-999.0000,9,  -999.00, -999.000,9,  -999.00,9,  -999.00,9,  29.3118,2,  22.2692,2,-999.0000,5
49UP20220727_1,    P9,     4,  1,     30,     319,2,20220806,0156,0338, -1.5022, 141.9887, 3487,    126.5,      126,  28.5430,  35.4833,2,    165.6,2,  35.4831,2,   165.45,6,     1.88,6,     5.13,6,     0.06,6,    0.530,6, -999.000,9, -999.000,9,   -999.0,9,   -999.0,9,-999.0000,9,  -999.00, -999.000,9,  -999.00,9,  -999.00,9,  28.5127,2,  22.5893,2,-999.0000,5
49UP20220727_1,    P9,     4,  1,     28,     755,2,20220806,0156,0336, -1.5022, 141.9887, 3487,    151.6,      151,  27.3809,  35.5556,2,    150.5,2,  35.5578,2,   150.81,2,     2.15,2,     7.03,2,     0.04,2,    0.650,2, -999.000,9, -999.000,9,   -999.0,9,   -999.0,9,-999.0000,9,  -999.00, -999.000,9,  -999.00,9,  -999.00,9,  27.3457,2,  23.0252,2,-999.0000,5
49UP20220727_1,    P9,     4,  1,     29,     318,2,20220806,0156,0336, -1.5022, 141.9887, 3487,    151.9,      151,  27.3616,  35.5583,2,    150.9,2,  35.5562,2,   150.94,2,     2.21,2,     6.97,2,     0.04,2,    0.640,2, -999.000,9, -999.000,9,   -999.0,9,   -999.0,9,-999.0000,9,  -999.00, -999.000,9,  -999.00,9,  -999.00,9,  27.3263,2,  23.0335,2,-999.0000,5
49UP20220727_1,    P9,     4,  1,     27,     317,2,20220806,0156,0334, -1.5022, 141.9887, 3487,    202.7,      201,  22.4977,  35.6484,2,    132.4,2,  35.6490,2,   132.96,2,     3.04,2,     9.68,2,     0.02,2,    0.820,2, -999.000,9, -999.000,9,   -999.0,9,   -999.0,9,-999.0000,9,  -999.00, -999.000,9,  -999.00,9,  -999.00,9,  22.4568,2,  24.5813,2,-999.0000,5
49UP20220727_1,    P9,     4,  1,     26,     316,2,20220806,0156,0332, -1.5022, 141.9887, 3487,    252.6,      251,  13.9174,  35.0847,2,    151.3,2,  35.0849,2,   151.40,2,     8.69,2,    16.53,2,     0.01,2,    1.230,2, -999.000,9, -999.000,9,   -999.0,9,   -999.0,9,-999.0000,9,  -999.00, -999.000,9,  -999.00,9,  -999.00,9,  13.8809,2,  26.2776,2,-999.0000,5
49UP20220727_1,    P9,     4,  1,     25,     315,2,20220806,0156,0330, -1.5022, 141.9887, 3487,    302.9,      301,  12.1030,  34.9172,2,    158.9,2,  34.9175,2,   159.00,2,    11.13,2,    18.71,2,     0.00,2,    1.360,2, -999.000,9, -999.000,9,   -999.0,9,   -999.0,9,-999.0000,9,  -999.00, -999.000,9,  -999.00,9,  -999.00,9,  12.0631,2,  26.5127,2,-999.0000,5
49UP20220727_1,    P9,     4,  1,     24,     753,2,20220806,0156,0327, -1.5022, 141.9887, 3487,    353.5,      351,  10.5695,  34.7656,2,    143.5,2,  34.7648,2,   143.32,2,    18.40,2,    23.04,2,     0.00,2,    1.640,2, -999.000,9, -999.000,9,   -999.0,9,   -999.0,9,-999.0000,9,  -999.00, -999.000,9,  -999.00,9,  -999.00,9,  10.5268,2,  26.6775,2,-999.0000,5
49UP20220727_1,    P9,     4,  1,     23,     314,2,20220806,0156,0325, -1.5022, 141.9887, 3487,    402.1,      400,   9.9220,  34.7076,2,    129.9,2,  34.7066,2,   130.18,2,    21.84,2,    25.61,2,     0.00,2,    1.810,2, -999.000,9, -999.000,9,   -999.0,9,   -999.0,9,-999.0000,9,  -999.00, -999.000,9,  -999.00,9,  -999.00,9,   9.8752,2,  26.7449,2,-999.0000,5
49UP20220727_1,    P9,     4,  1,     22,     313,2,20220806,0156,0323, -1.5022, 141.9887, 3487,    452.8,      450,   9.3265,  34.6678,2,    146.4,2,  34.6679,2,   146.66,2,    20.53,2,    25.22,2,     0.00,2,    1.780,2, -999.000,9, -999.000,9,   -999.0,9,   -999.0,9,-999.0000,9,  -999.00, -999.000,9,  -999.00,9,  -999.00,9,   9.2757,2,  26.8134,2,-999.0000,5
49UP20220727_1,    P9,     4,  1,     21,     312,2,20220806,0156,0321, -1.5022, 141.9887, 3487,    503.7,      500,   7.6751,  34.5545,2,    162.7,2,  34.5514,2,   163.24,6,    25.33,6,    27.14,6,     0.00,6,    1.900,6, -999.000,9, -999.000,9,   -999.0,9,   -999.0,9,-999.0000,9,  -999.00, -999.000,9,  -999.00,9,  -999.00,9,   7.6246,2,  26.9792,2,-999.0000,5
49UP20220727_1,    P9,     4,  1,     20,     311,2,20220806,0156,0318, -1.5022, 141.9887, 3487,    605.2,      601,   6.7983,  34.5304,2,    130.1,2,  34.5301,2,   130.23,2,    38.78,2,    31.85,2,     0.00,2,    2.230,2, -999.000,9, -999.000,9,   -999.0,9,   -999.0,9,-999.0000,9,  -999.00, -999.000,9,  -999.00,9,  -999.00,9,   6.7413,2,  27.0842,2,-999.0000,5
49UP20220727_1,    P9,     4,  1,     19,     310,2,20220806,0156,0318, -1.5022, 141.9887, 3487,    605.3,      601,   6.7987,  34.5303,2,    130.1,2,  34.5306,2,   129.95,2,    38.89,2,    31.91,2,     0.00,2,    2.240,2, -999.000,9, -999.000,9,   -999.0,9,   -999.0,9,-999.0000,9,  -999.00, -999.000,9,  -999.00,9,  -999.00,9,   6.7417,2,  27.0841,2,-999.0000,5
49UP20220727_1,    P9,     4,  1,     18,     752,2,20220806,0156,0315, -1.5022, 141.9887, 3487,    705.2,      700,   6.0214,  34.5077,2,    136.6,2,  34.5087,6,   136.03,2,    45.58,2,    32.73,2,     0.00,2,    2.300,2, -999.000,9, -999.000,9,   -999.0,9,   -999.0,9,-999.0000,9,  -999.00, -999.000,9,  -999.00,9,  -999.00,9,   5.9586,2,  27.1689,2,-999.0000,5
49UP20220727_1,    P9,     4,  1,     17,     751,2,20220806,0156,0312, -1.5022, 141.9887, 3487,    806.4,      800,   5.2928,  34.5105,2,    128.8,2,  34.5119,2,   128.56,2,    57.84,2,    34.46,2,     0.00,2,    2.420,2, -999.000,9, -999.000,9,   -999.0,9,   -999.0,9,-999.0000,9,  -999.00, -999.000,9,  -999.00,9,  -999.00,9,   5.2249,2,  27.2609,2,-999.0000,5
49UP20220727_1,    P9,     4,  1,     16,     328,2,20220806,0156,0309, -1.5022, 141.9887, 3487,    908.1,      901,   4.8131,  34.5378,2,    105.6,2,  34.5375,2,   105.86,2,    74.46,2,    37.05,2,     0.00,2,    2.630,2, -999.000,9, -999.000,9,   -999.0,9,   -999.0,9,-999.0000,9,  -999.00, -999.000,9,  -999.00,9,  -999.00,9,   4.7393,2,  27.3386,2,-999.0000,5
49UP20220727_1,    P9,     4,  1,     15,     309,2,20220806,0156,0306, -1.5022, 141.9887, 3487,   1007.9,     1000,   4.3922,  34.5452,2,    107.8,2,  34.5449,2,   107.85,2,    81.83,2,    37.33,2,     0.00,2,    2.650,2, -999.000,9, -999.000,9,   -999.0,9,   -999.0,9,-999.0000,9,  -999.00, -999.000,9,  -999.00,9,  -999.00,9,   4.3127,2,  27.3913,2,-999.0000,5
49UP20220727_1,    P9,     4,  1,     14,     326,2,20220806,0156,0301, -1.5022, 141.9887, 3487,   1212.4,     1202,   3.8408,  34.5674,2,    102.9,2,  34.5669,6,   102.79,2,    96.94,2,    38.17,2,     0.00,2,    2.720,2, -999.000,9, -999.000,9,   -999.0,9,   -999.0,9,-999.0000,9,  -999.00, -999.000,9,  -999.00,9,  -999.00,9,   3.7485,2,  27.4677,2,-999.0000,5
49UP20220727_1,    P9,     4,  1,     13,     325,2,20220806,0156,0256, -1.5022, 141.9887, 3487,   1415.0,     1402,   3.3030,  34.5883,2,    104.1,2,  34.5888,2,   104.17,2,   110.28,2,    38.43,2,     0.00,2,    2.730,2, -999.000,9, -999.000,9,   -999.0,9,   -999.0,9,-999.0000,9,  -999.00, -999.000,9,  -999.00,9,  -999.00,9,   3.1989,2,  27.5380,2,-999.0000,5
49UP20220727_1,    P9,     4,  1,     12,     324,2,20220806,0156,0251, -1.5022, 141.9887, 3487,   1617.1,     1602,   2.8179,  34.6078,2,    110.0,2,  34.6075,2,   110.44,2,   121.06,2,    38.33,2,     0.00,2,    2.710,2, -999.000,9, -999.000,9,   -999.0,9,   -999.0,9,-999.0000,9,  -999.00, -999.000,9,  -999.00,9,  -999.00,9,   2.7023,2,  27.5988,2,-999.0000,5
49UP20220727_1,    P9,     4,  1,     11,     323,4,20220806,0156,0251, -1.5022, 141.9887, 3487,   1617.2,     1602,   2.8174,  34.6079,2,    110.0,2,  34.5427,4,   163.34,4,    25.94,4,    27.39,4,     0.00,4,    1.910,4, -999.000,9, -999.000,9,   -999.0,9,   -999.0,9,-999.0000,9,  -999.00, -999.000,9,  -999.00,9,  -999.00,9,   2.7019,2,  27.5989,2,-999.0000,5
49UP20220727_1,    P9,     4,  1,     10,     322,2,20220806,0156,0246, -1.5022, 141.9887, 3487,   1820.0,     1802,   2.5281,  34.6214,2,    114.2,2,  34.6211,2,   114.11,6,   127.76,6,    38.18,6,     0.00,6,    2.700,6, -999.000,9, -999.000,9,   -999.0,9,   -999.0,9,-999.0000,9,  -999.00, -999.000,9,  -999.00,9,  -999.00,9,   2.3992,2,  27.6358,2,-999.0000,5
49UP20220727_1,    P9,     4,  1,      9,     750,2,20220806,0156,0241, -1.5022, 141.9887, 3487,   2022.3,     2002,   2.2906,  34.6330,2,    118.0,2,  34.6330,2,   117.93,2,   133.43,2,    38.04,2,     0.00,2,    2.680,2, -999.000,9, -999.000,9,   -999.0,9,   -999.0,9,-999.0000,9,  -999.00, -999.000,9,  -999.00,9,  -999.00,9,   2.1478,2,  27.6658,2,-999.0000,5
49UP20220727_1,    P9,     4,  1,      8,     320,2,20220806,0156,0236, -1.5022, 141.9887, 3487,   2226.7,     2203,   2.0768,  34.6433,2,    122.6,2,  34.6426,6,   122.59,2,   138.30,2,    37.82,2,     0.00,2,    2.660,2, -999.000,9, -999.000,9,   -999.0,9,   -999.0,9,-999.0000,9,  -999.00, -999.000,9,  -999.00,9,  -999.00,9,   1.9196,2,  27.6922,2,-999.0000,5
49UP20220727_1,    P9,     4,  1,      7,     319,2,20220806,0156,0231, -1.5022, 141.9887, 3487,   2430.5,     2403,   1.8944,  34.6530,2,    128.8,2,  34.6531,2,   128.97,2,   140.94,2,    37.42,2,     0.00,2,    2.620,2, -999.000,9, -999.000,9,   -999.0,9,   -999.0,9,-999.0000,9,  -999.00, -999.000,9,  -999.00,9,  -999.00,9,   1.7224,2,  27.7152,2,-999.0000,5
49UP20220727_1,    P9,     4,  1,      5,     838,2,20220806,0156,0223, -1.5022, 141.9887, 3487,   2633.4,     2603,   1.7359,  34.6619,2,    135.4,2,  34.6628,2,   135.60,2,   142.67,2,    37.00,2,     0.00,2,    2.590,2, -999.000,9, -999.000,9,   -999.0,9,   -999.0,9,-999.0000,9,  -999.00, -999.000,9,  -999.00,9,  -999.00,9,   1.5484,2,  27.7353,2,-999.0000,5
49UP20220727_1,    P9,     4,  1,      6,     318,2,20220806,0156,0223, -1.5022, 141.9887, 3487,   2634.2,     2603,   1.7354,  34.6619,2,    135.4,2,  34.6623,2,   135.58,2,   142.56,2,    37.00,2,     0.00,2,    2.590,2, -999.000,9, -999.000,9,   -999.0,9,   -999.0,9,-999.0000,9,  -999.00, -999.000,9,  -999.00,9,  -999.00,9,   1.5479,2,  27.7354,2,-999.0000,5
49UP20220727_1,    P9,     4,  1,      4,     316,2,20220806,0156,0218, -1.5022, 141.9887, 3487,   2836.9,     2802,   1.6522,  34.6672,2,    139.7,2,  34.6668,2,   139.76,2,   143.59,2,    36.73,2,     0.00,2,    2.570,2, -999.000,9, -999.000,9,   -999.0,9,   -999.0,9,-999.0000,9,  -999.00, -999.000,9,  -999.00,9,  -999.00,9,   1.4476,2,  27.7469,2,-999.0000,5
49UP20220727_1,    P9,     4,  1,      3,     315,2,20220806,0156,0212, -1.5022, 141.9887, 3487,   3040.3,     3002,   1.6053,  34.6709,2,    142.8,2,  34.6707,6,   143.01,2,   143.79,2,    36.55,2,     0.00,2,    2.550,2, -999.000,9, -999.000,9,   -999.0,9,   -999.0,9,-999.0000,9,  -999.00, -999.000,9,  -999.00,9,  -999.00,9,   1.3823,2,  27.7545,2,-999.0000,5
49UP20220727_1,    P9,     4,  1,      2,     314,2,20220806,0156,0203, -1.5022, 141.9887, 3487,   3296.3,     3253,   1.5912,  34.6733,2,    144.7,2,  34.6741,2,   145.01,2,   143.71,2,    36.37,2,     0.00,2,    2.530,2, -999.000,9, -999.000,9,   -999.0,9,   -999.0,9,-999.0000,9,  -999.00, -999.000,9,  -999.00,9,  -999.00,9,   1.3434,2,  27.7592,2,-999.0000,5
49UP20220727_1,    P9,     4,  1,      1,     308,2,20220806,0156,0157, -1.5022, 141.9887, 3487,   3530.1,     3482,   1.5707,  34.6765,2,    147.1,2,  34.6762,6,   146.99,2,   143.91,2,    36.27,2,     0.00,2,    2.530,2, -999.000,9, -999.000,9,   -999.0,9,   -999.0,9,-999.0000,9,  -999.00, -999.000,9,  -999.00,9,  -999.00,9,   1.2997,2,  27.7649,2,-999.0000,5