BOTTLE,20230330JMAAMD
EXPOCODE,SECT_ID,STNNBR,CASTNO,SAMPNO,BTLNBR,BTLNBR_FLAG_U,DATE,TIME,BTL_TIME,LATITUDE,LONGITUDE,DEPTH,CTDPRS,CTDDEP,CTDTMP,CTDSAL,CTDSAL_FLAG_W,CTDOXY,CTDOXY_FLAG_W,SALNTY,SALNTY_FLAG_W,OXYGEN,OXYGEN_FLAG_W,SILCAT,SILCAT_FLAG_W,NO2+NO3,NO2+NO3_FLAG_W,NITRIT,NITRIT_FLAG_W,PHSPHT,PHSPHT_FLAG_W,CFC-11,CFC-11_FLAG_W,CFC-12,CFC-12_FLAG_W,TCARBN,TCARBN_FLAG_W,ALKALI,ALKALI_FLAG_W,PH_TS,PH_TS_FLAG_W,PH_TS_TMP,CFC113,CFC113_FLAG_W,CHLORA,CHLORA_FLAG_W,PPHYTN,PPHYTN_FLAG_W,THETA,THETA_FLAG_W,SIGTHT,SIGTHT_FLAG_W,SBE35,SBE35_FLAG_W
,,,,,,,,UTC,,,,METER,DBAR,METERS,ITS-90,PSS-78,,UMOL/KG,,PSS78,,UMOL/KG,,UMOL/KG,,UMOL/KG,,UMOL/KG,,UMOL/KG,,PMOL/KG,,PMOL/KG,,UMOL/KG,,UMOL/KG,,,,ITS-90,PMOL/KG,,UG/KG,,UG/KG,,ITS-90,,KG/M3,,ITS-90,
49UP20220824_1,    P9,    43,  1,      0,      -9,0,20220905,0348,0544, 12.0113, 136.9868, 5277,      0.0,        0,  30.4563,  34.2300,2,    192.6,2,  34.2313,2,   193.53,2,     1.21,2,     0.03,2,     0.00,2,    0.100,2, -999.000,9, -999.000,9,   1925.2,2,   2245.6,2,   8.1079,2,    25.00, -999.000,9,     0.05,2,     0.01,2,  30.4557,2,  20.9930,2,-999.0000,9
49UP20220824_1,    P9,    43,  1,     36,     757,2,20220905,0348,0616, 12.0113, 136.9868, 5277,     11.2,       11,  30.4225,  34.2274,2,    192.6,2,  34.2280,2,   193.24,6,     1.21,6,     0.01,6,     0.00,6,    0.070,6, -999.000,9, -999.000,9,   1921.0,2,   2244.8,2,   8.1071,2,    25.00, -999.000,9,     0.05,2,     0.01,2,  30.4197,2,  21.0035,2,  30.4254,2
49UP20220824_1,    P9,    43,  1,     35,     756,2,20220905,0348,0612, 12.0113, 136.9868, 5277,     50.7,       50,  29.8568,  34.3410,2,    197.0,2,  34.3503,2,   196.91,2,     1.21,2,     0.01,2,     0.00,2,    0.070,2, -999.000,9, -999.000,9,   1928.9,2,   2254.1,2,   8.1052,2,    25.00, -999.000,9,     0.07,2,     0.01,2,  29.8443,2,  21.2852,2,  29.8579,2
49UP20220824_1,    P9,    43,  1,     34,     323,2,20220905,0348,0609, 12.0113, 136.9868, 5277,    101.4,      101,  28.4776,  34.6999,2,    205.5,2,  34.7024,2,   204.85,2,     1.20,2,     0.01,2,     0.00,2,    0.080,2, -999.000,9, -999.000,9,   1958.6,2,   2277.2,2,   8.0937,2,    25.00, -999.000,9,     0.12,2,     0.01,2,  28.4534,2,  22.0202,2,  28.4819,2
49UP20220824_1,    P9,    43,  1,     33,     322,2,20220905,0348,0607, 12.0113, 136.9868, 5277,    151.7,      151,  25.4763,  34.8703,2,    188.6,2,  34.8669,2,   188.60,2,     1.37,2,     0.22,2,     0.09,2,    0.120,2, -999.000,9, -999.000,9,   2002.0,2,   2291.0,2,   8.0345,2,    25.00, -999.000,9,     0.27,2,     0.22,2,  25.4429,2,  23.1079,2,  25.4804,2
49UP20220824_1,    P9,    43,  1,     32,     321,2,20220905,0348,0605, 12.0113, 136.9868, 5277,    204.7,      203,  18.9234,  34.7346,2,    159.1,2,  34.7361,2,   159.70,2,     5.79,2,     6.52,2,     0.01,2,    0.580,2, -999.000,9, -999.000,9,   2085.0,2,   2285.0,2,   7.8653,2,    25.00, -999.000,9,     0.06,2,     0.05,2,  18.8870,2,  24.8471,2,  18.9295,2
49UP20220824_1,    P9,    43,  1,     31,     320,2,20220905,0348,0603, 12.0113, 136.9868, 5277,    251.8,      250,  14.3195,  34.4826,2,    164.1,2,  34.4863,2,   165.04,2,    12.27,2,    12.19,2,     0.00,2,    0.910,2, -999.000,9, -999.000,9,   2109.4,2,   2270.3,2,   7.7874,2,    25.00, -999.000,9,  -999.00,9,  -999.00,9,  14.2826,2,  25.7276,2,  14.3131,2
49UP20220824_1,    P9,    43,  1,     30,     319,2,20220905,0348,0601, 12.0113, 136.9868, 5277,    282.3,      280,  12.2790,  34.3711,2,    143.5,2,  34.3682,2,   141.33,2,    19.99,2,    17.98,2,     0.00,2,    1.340,2, -999.000,9, -999.000,9,   2144.2,2,   2271.9,2,   7.6943,6,    25.00, -999.000,9,  -999.00,9,  -999.00,9,  12.2418,2,  26.0544,2,  12.2631,2
49UP20220824_1,    P9,    43,  1,     29,     318,2,20220905,0348,0559, 12.0113, 136.9868, 5277,    321.1,      319,  10.1187,  34.3753,2,     93.2,2,  34.3744,2,    92.80,2,    31.74,2,    26.45,2,     0.00,2,    1.970,2, -999.000,9, -999.000,9,   2203.8,6,   2281.2,6,   7.5676,2,    25.00, -999.000,9,  -999.00,9,  -999.00,9,  10.0812,2,  26.4503,2,  10.1267,2
49UP20220824_1,    P9,    43,  1,     28,     755,2,20220905,0348,0557, 12.0113, 136.9868, 5277,    373.9,      371,   8.9613,  34.4745,2,     59.2,2,  34.4736,2,    58.67,6,    40.54,6,    32.54,6,     0.00,6,    2.380,6, -999.000,9, -999.000,9,   2246.6,2,   2294.5,2,   7.4886,2,    25.00, -999.000,9,  -999.00,9,  -999.00,9,   8.9207,2,  26.7192,2,   8.9620,2
49UP20220824_1,    P9,    43,  1,     27,     317,2,20220905,0348,0555, 12.0113, 136.9868, 5277,    421.2,      418,   8.0629,  34.4831,2,     69.2,2,  34.4860,2,    68.09,2,    46.42,2,    33.66,2,     0.00,2,    2.420,2, -999.000,9, -999.000,9,   2247.5,2,   2303.4,2,   7.4941,2,    25.00, -999.000,9,  -999.00,9,  -999.00,9,   8.0198,2,  26.8649,2,   8.0732,2
49UP20220824_1,    P9,    43,  1,     26,     316,2,20220905,0348,0553, 12.0113, 136.9868, 5277,    473.3,      470,   7.5752,  34.4901,2,     76.2,2,  34.4898,2,    75.91,2,    49.90,2,    34.02,2,     0.00,2,    2.440,2, -999.000,9, -999.000,9,   2247.1,2,   2308.2,2,   7.5035,2,    25.00, -999.000,9,  -999.00,9,  -999.00,9,   7.5283,2,  26.9425,2,   7.5753,2
49UP20220824_1,    P9,    43,  1,     25,     315,2,20220905,0348,0550, 12.0113, 136.9868, 5277,    575.0,      571,   6.7196,  34.5019,2,     83.6,2,  34.5014,2,    83.29,2,    57.01,2,    35.19,2,     0.00,2,    2.520,2, -999.000,9, -999.000,9,   2258.2,2,   2316.6,2,   7.5054,2,    25.00, -999.000,9,  -999.00,9,  -999.00,9,   6.6660,2,  27.0720,2,   6.7189,2
49UP20220824_1,    P9,    43,  1,     24,     753,2,20220905,0348,0546, 12.0113, 136.9868, 5277,    675.0,      670,   6.1108,  34.5073,2,     83.9,2,  34.5071,2,    83.79,2,    65.27,2,    36.24,2,     0.00,2,    2.600,2, -999.000,9, -999.000,9,   2267.0,2,   2325.3,2,   7.5013,2,    25.00, -999.000,9,  -999.00,9,  -999.00,9,   6.0505,2,  27.1569,2,   6.1112,2
49UP20220824_1,    P9,    43,  1,     23,     314,2,20220905,0348,0543, 12.0113, 136.9868, 5277,    775.8,      770,   5.6662,  34.5158,2,     82.4,2,  34.5155,6,    82.39,2,    72.46,2,    37.11,2,     0.00,2,    2.660,2, -999.000,9, -999.000,9,   2279.0,2,   2333.9,2,   7.4957,2,    25.00, -999.000,9,  -999.00,9,  -999.00,9,   5.5989,2,  27.2201,2,   5.6660,2
49UP20220824_1,    P9,    43,  1,     22,     313,2,20220905,0348,0540, 12.0113, 136.9868, 5277,    876.8,      870,   5.3083,  34.5240,2,     80.1,2,  34.5241,2,    79.96,2,    79.09,2,    37.83,2,     0.00,2,    2.720,2, -999.000,9, -999.000,9,   2286.1,2,   2342.1,2,   7.4856,2,    25.00, -999.000,9,  -999.00,9,  -999.00,9,   5.2339,2,  27.2705,2,   5.3086,2
49UP20220824_1,    P9,    43,  1,     21,     312,2,20220905,0348,0537, 12.0113, 136.9868, 5277,    978.1,      970,   4.9060,  34.5318,2,     76.8,2,  34.5320,2,    76.70,2,    87.09,2,    38.76,2,     0.00,2,    2.780,2, -999.000,9, -999.000,9,   2298.5,2,   2349.9,2,   7.4774,6,    25.00, -999.000,9,  -999.00,9,  -999.00,9,   4.8253,2,  27.3241,2,   4.9049,2
49UP20220824_1,    P9,    43,  1,     20,     311,2,20220905,0348,0532, 12.0113, 136.9868, 5277,   1139.3,     1130,   4.1015,  34.5520,2,     79.8,2,  34.5520,2,    79.63,2,   103.64,2,    39.28,2,     0.00,2,    2.830,2, -999.000,9, -999.000,9,   2315.5,6,   2366.0,6,   7.4759,2,    25.00, -999.000,9,  -999.00,9,  -999.00,9,   4.0131,2,  27.4284,2,   4.1015,2
49UP20220824_1,    P9,    43,  1,     19,     310,2,20220905,0348,0527, 12.0113, 136.9868, 5277,   1342.3,     1330,   3.3416,  34.5754,2,     90.2,2,  34.5756,2,    90.50,6,   118.95,6,    39.14,6,     0.00,6,    2.800,6, -999.000,9, -999.000,9,   2329.1,2,   2382.9,2,   7.4935,2,    25.00, -999.000,9,  -999.00,9,  -999.00,9,   3.2432,2,  27.5235,2,   3.3420,2
49UP20220824_1,    P9,    43,  1,     18,     752,2,20220905,0348,0522, 12.0113, 136.9868, 5277,   1545.1,     1531,   2.8923,  34.5945,2,     96.9,2,  34.5949,2,    96.93,2,   127.65,2,    39.04,2,     0.00,2,    2.780,2, -999.000,9, -999.000,9,   2332.4,2,   2391.7,2,   7.4989,2,    25.00, -999.000,9,  -999.00,9,  -999.00,9,   2.7819,2,  27.5811,2,   2.8921,2
49UP20220824_1,    P9,    43,  1,     17,     751,2,20220905,0348,0517, 12.0113, 136.9868, 5277,   1747.9,     1731,   2.5180,  34.6132,2,    105.0,2,  34.6131,2,   105.01,2,   134.45,2,    38.72,2,     0.00,2,    2.750,2, -999.000,9, -999.000,9,   2335.3,2,   2398.6,2,   7.5103,2,    25.00, -999.000,9,  -999.00,9,  -999.00,9,   2.3953,2,  27.6295,2,   2.5178,2
49UP20220824_1,    P9,    43,  1,     16,     328,2,20220905,0348,0512, 12.0113, 136.9868, 5277,   1950.5,     1930,   2.2628,  34.6270,2,    111.4,2,  34.6267,2,   111.45,2,   138.81,2,    38.37,2,     0.00,2,    2.720,2, -999.000,9, -999.000,9,   2336.4,2,   2403.3,2,   7.5199,2,    25.00, -999.000,9,  -999.00,9,  -999.00,9,   2.1266,2,  27.6627,2,   2.2627,2
49UP20220824_1,    P9,    43,  1,     15,     309,2,20220905,0348,0507, 12.0113, 136.9868, 5277,   2154.8,     2132,   2.0963,  34.6362,2,    116.6,2,  34.6365,2,   116.45,2,   141.64,2,    38.11,2,     0.00,2,    2.690,2, -999.000,9, -999.000,9,   2338.6,2,   2406.3,2,   7.5283,2,    25.00, -999.000,9,  -999.00,9,  -999.00,9,   1.9451,2,  27.6845,2,   2.0966,2
49UP20220824_1,    P9,    43,  1,     14,     326,2,20220905,0348,0501, 12.0113, 136.9868, 5277,   2357.6,     2331,   1.9380,  34.6455,2,    122.1,2,  34.6455,6,   122.28,2,   144.18,2,    37.78,2,     0.00,2,    2.670,2, -999.000,9, -999.000,9,   2335.4,2,   2410.3,2,   7.5384,2,    25.00, -999.000,9,  -999.00,9,  -999.00,9,   1.7716,2,  27.7055,2,   1.9379,2
49UP20220824_1,    P9,    43,  1,     13,     325,2,20220905,0348,0456, 12.0113, 136.9868, 5277,   2561.3,     2531,   1.8386,  34.6519,2,    126.6,2,  34.6522,2,   126.67,2,   145.33,2,    37.53,2,     0.00,2,    2.640,2, -999.000,9, -999.000,9,   2333.1,2,   2412.2,2,   7.5441,2,    25.00, -999.000,9,  -999.00,9,  -999.00,9,   1.6558,2,  27.7193,2,   1.8384,2
49UP20220824_1,    P9,    43,  1,     12,     324,2,20220905,0348,0451, 12.0113, 136.9868, 5277,   2762.8,     2729,   1.7404,  34.6591,2,    132.0,2,  34.6592,2,   131.90,2,   145.99,2,    37.22,2,     0.00,2,    2.610,2, -999.000,9, -999.000,9,   2330.9,2,   2412.0,2,   7.5510,2,    25.00, -999.000,9,  -999.00,9,  -999.00,9,   1.5409,2,  27.7336,2,   1.7405,2
49UP20220824_1,    P9,    43,  1,     11,     323,2,20220905,0348,0446, 12.0113, 136.9868, 5277,   2969.2,     2932,   1.6643,  34.6648,2,    137.1,2,  34.6647,2,   136.88,2,   146.07,2,    36.90,2,     0.00,2,    2.590,2, -999.000,9, -999.000,9,   2328.0,2,   2411.5,2,   7.5603,2,    25.00, -999.000,9,  -999.00,9,  -999.00,9,   1.4469,2,  27.7450,2,   1.6643,2
49UP20220824_1,    P9,    43,  1,     10,     322,2,20220905,0348,0440, 12.0113, 136.9868, 5277,   3211.4,     3169,   1.6032,  34.6699,2,    142.7,2,  34.6691,2,   142.73,6,   145.10,6,    36.55,6,     0.00,6,    2.560,6, -999.000,9, -999.000,9,   2325.7,2,   2411.7,2,   7.5687,2,    25.00, -999.000,9,  -999.00,9,  -999.00,9,   1.3636,2,  27.7551,2,   1.6033,2
49UP20220824_1,    P9,    43,  1,      9,     750,2,20220905,0348,0434, 12.0113, 136.9868, 5277,   3469.3,     3421,   1.5696,  34.6741,2,    147.3,2,  34.6745,2,   147.00,2,   144.25,2,    36.27,2,     0.00,2,    2.530,2, -999.000,9, -999.000,9,   2327.5,2,   2410.1,2,   7.5737,2,    25.00, -999.000,9,  -999.00,9,  -999.00,9,   1.3048,2,  27.7626,2,   1.5695,2
49UP20220824_1,    P9,    43,  1,      8,     320,2,20220905,0348,0428, 12.0113, 136.9868, 5277,   3724.0,     3670,   1.5464,  34.6777,2,    151.2,2,  34.6776,2,   151.00,2,   143.21,2,    35.96,2,     0.00,2,    2.510,2, -999.000,9, -999.000,9,   2323.5,2,   2411.3,2,   7.5805,2,    25.00, -999.000,9,  -999.00,9,  -999.00,9,   1.2558,2,  27.7690,2,   1.5463,2
49UP20220824_1,    P9,    43,  1,      7,     319,2,20220905,0348,0422, 12.0113, 136.9868, 5277,   3980.8,     3921,   1.5110,  34.6824,2,    156.3,2,  34.6819,2,   156.64,2,   141.66,2,    35.67,2,     0.00,2,    2.490,2, -999.000,9, -999.000,9,   2318.0,2,   2407.2,2,   7.5863,6,    25.00, -999.000,9,  -999.00,9,  -999.00,9,   1.1939,2,  27.7770,2,   1.5111,2
49UP20220824_1,    P9,    43,  1,      6,     318,2,20220905,0348,0416, 12.0113, 136.9868, 5277,   4236.6,     4171,   1.5175,  34.6840,2,    158.4,2,  34.6834,2,   158.22,2,   141.09,2,    35.50,2,     0.00,2,    2.470,2, -999.000,9, -999.000,9,   2315.9,6,   2406.6,6,   7.5888,2,    25.00, -999.000,9,  -999.00,9,  -999.00,9,   1.1720,2,  27.7798,2,   1.5175,2
49UP20220824_1,    P9,    43,  1,      5,     838,2,20220905,0348,0410, 12.0113, 136.9868, 5277,   4493.2,     4421,   1.5297,  34.6855,2,    160.0,2,  34.6851,2,   159.60,2,   140.64,2,    35.35,2,     0.00,2,    2.460,2, -999.000,9, -999.000,9,   2317.4,2,   2405.8,2,   7.5925,2,    25.00, -999.000,9,  -999.00,9,  -999.00,9,   1.1546,2,  27.7822,2,   1.5299,2
49UP20220824_1,    P9,    43,  1,      4,     316,2,20220905,0348,0404, 12.0113, 136.9868, 5277,   4749.4,     4670,   1.5381,  34.6868,2,    161.9,2,  34.6869,6,   161.59,2,   139.89,2,    35.25,2,     0.00,2,    2.450,2, -999.000,9, -999.000,9,   2311.8,2,   2405.4,2,   7.5925,2,    25.00, -999.000,9,  -999.00,9,  -999.00,9,   1.1327,2,  27.7847,2,   1.5381,2
49UP20220824_1,    P9,    43,  1,      3,     315,2,20220905,0348,0358, 12.0113, 136.9868, 5277,   5007.2,     4921,   1.5597,  34.6877,2,    162.9,2,  34.6880,2,   162.95,2,   139.68,2,    35.16,2,     0.00,2,    2.450,2, -999.000,9, -999.000,9,   2310.8,2,   2404.4,2,   7.5959,2,    25.00, -999.000,9,  -999.00,9,  -999.00,9,   1.1225,2,  27.7861,2,   1.5597,2
49UP20220824_1,    P9,    43,  1,      2,     314,2,20220905,0348,0352, 12.0113, 136.9868, 5277,   5265.3,     5172,   1.5867,  34.6879,2,    163.4,2,  34.6885,2,   163.49,2,   139.36,2,    35.12,2,     0.00,2,    2.450,2, -999.000,9, -999.000,9,   2310.2,2,   2403.9,2,   7.5958,2,    25.00, -999.000,9,  -999.00,9,  -999.00,9,   1.1167,2,  27.7867,2,   1.5866,2
49UP20220824_1,    P9,    43,  1,      1,     308,2,20220905,0348,0348, 12.0113, 136.9868, 5277,   5393.7,     5296,   1.6029,  34.6880,2,    163.6,2,  34.6877,2,   163.37,2,   139.39,2,    35.11,2,     0.00,2,    2.450,2, -999.000,9, -999.000,9,   2310.9,2,   2406.1,2,   7.5938,2,    25.00, -999.000,9,  -999.00,9,  -999.00,9,   1.1161,2,  27.7868,2,   1.6029,2