BOTTLE,20230330JMAAMD
EXPOCODE,SECT_ID,STNNBR,CASTNO,SAMPNO,BTLNBR,BTLNBR_FLAG_U,DATE,TIME,BTL_TIME,LATITUDE,LONGITUDE,DEPTH,CTDPRS,CTDDEP,CTDTMP,CTDSAL,CTDSAL_FLAG_W,CTDOXY,CTDOXY_FLAG_W,SALNTY,SALNTY_FLAG_W,OXYGEN,OXYGEN_FLAG_W,SILCAT,SILCAT_FLAG_W,NO2+NO3,NO2+NO3_FLAG_W,NITRIT,NITRIT_FLAG_W,PHSPHT,PHSPHT_FLAG_W,CFC-11,CFC-11_FLAG_W,CFC-12,CFC-12_FLAG_W,TCARBN,TCARBN_FLAG_W,ALKALI,ALKALI_FLAG_W,PH_TS,PH_TS_FLAG_W,PH_TS_TMP,CFC113,CFC113_FLAG_W,CHLORA,CHLORA_FLAG_W,PPHYTN,PPHYTN_FLAG_W,THETA,THETA_FLAG_W,SIGTHT,SIGTHT_FLAG_W,SBE35,SBE35_FLAG_W
,,,,,,,,UTC,,,,METER,DBAR,METERS,ITS-90,PSS-78,,UMOL/KG,,PSS78,,UMOL/KG,,UMOL/KG,,UMOL/KG,,UMOL/KG,,UMOL/KG,,PMOL/KG,,PMOL/KG,,UMOL/KG,,UMOL/KG,,,,ITS-90,PMOL/KG,,UG/KG,,UG/KG,,ITS-90,,KG/M3,,ITS-90,
49UP20220824_1,    P9,    49,  1,      0,      -9,0,20220907,0910,1104, 15.0178, 137.0068, 5332,      0.0,        0,  30.3457,  34.2554,2,    193.3,2,  34.2422,2,   193.63,2,     0.96,2,     0.01,2,     0.00,2,    0.060,2, -999.000,9, -999.000,9,   1919.0,2,   2248.6,2,   8.1144,2,    25.00, -999.000,9,     0.05,2,     0.01,2,  30.3451,2,  21.0501,2,-999.0000,9
49UP20220824_1,    P9,    49,  1,     36,     757,2,20220907,0910,1127, 15.0178, 137.0068, 5332,     11.0,       11,  30.3584,  34.2637,2,    193.5,2,  34.2622,2,   193.42,2,     0.98,2,     0.00,2,     0.00,2,    0.010,2, -999.000,9, -999.000,9,   1920.4,2,   2248.4,2,   8.1158,2,    25.00, -999.000,9,     0.05,2,     0.01,2,  30.3557,2,  21.0526,2,  30.3568,2
49UP20220824_1,    P9,    49,  1,     35,     756,2,20220907,0910,1124, 15.0178, 137.0068, 5332,     50.6,       50,  29.7018,  34.4908,2,    204.1,2,  34.5008,2,   203.71,2,     1.06,2,     0.00,2,     0.00,2,    0.020,2, -999.000,9, -999.000,9,   1935.6,2,   2264.0,2,   8.1116,2,    25.00, -999.000,9,     0.09,2,     0.02,2,  29.6894,2,  21.4501,2,  29.6945,2
49UP20220824_1,    P9,    49,  1,     34,     323,2,20220907,0910,1122, 15.0178, 137.0068, 5332,    101.3,      101,  26.2464,  34.8784,2,    198.9,2,  34.8774,2,   198.09,2,     1.21,2,     0.00,2,     0.00,2,    0.030,2, -999.000,9, -999.000,9,   1979.4,2,   2290.4,2,   8.0715,2,    25.00, -999.000,9,     0.22,2,     0.18,2,  26.2237,2,  22.8717,2,  26.2476,2
49UP20220824_1,    P9,    49,  1,     33,     322,2,20220907,0910,1120, 15.0178, 137.0068, 5332,    153.5,      153,  22.9696,  34.9626,2,    175.0,2,  34.9622,2,   176.11,2,     2.12,2,     1.50,2,     0.03,2,    0.220,2, -999.000,9, -999.000,9,   2039.5,2,   2297.8,2,   7.9759,6,    25.00, -999.000,9,     0.08,2,     0.20,2,  22.9383,2,  23.9230,2,  22.9675,2
49UP20220824_1,    P9,    49,  1,     32,     321,2,20220907,0910,1118, 15.0178, 137.0068, 5332,    202.0,      201,  18.7256,  34.8124,2,    177.9,2,  34.8125,2,   178.34,2,     4.37,2,     4.84,2,     0.01,2,    0.390,2, -999.000,9, -999.000,9,   2067.0,6,   2285.6,6,   7.9060,2,    25.00, -999.000,9,     0.01,2,     0.01,2,  18.6900,2,  24.9564,2,  18.7252,2
49UP20220824_1,    P9,    49,  1,     31,     320,2,20220907,0910,1116, 15.0178, 137.0068, 5332,    251.6,      250,  16.1573,  34.6236,2,    175.6,2,  34.6252,2,   175.68,6,     7.91,6,     8.52,6,     0.01,6,    0.640,6, -999.000,9, -999.000,9,   2087.7,2,   2278.9,2,   7.8482,2,    25.00, -999.000,9,  -999.00,9,  -999.00,9,  16.1172,2,  25.4313,2,  16.1768,2
49UP20220824_1,    P9,    49,  1,     30,     319,2,20220907,0910,1114, 15.0178, 137.0068, 5332,    282.9,      281,  14.6368,  34.5022,2,    168.8,2,  34.5031,2,   168.88,2,    11.23,2,    11.41,2,     0.00,2,    0.850,2, -999.000,9, -999.000,9,   2105.2,2,   2273.1,2,   7.8017,2,    25.00, -999.000,9,  -999.00,9,  -999.00,9,  14.5947,2,  25.6761,2,  14.6380,2
49UP20220824_1,    P9,    49,  1,     29,     318,2,20220907,0910,1112, 15.0178, 137.0068, 5332,    322.3,      320,  12.4037,  34.3524,2,    160.6,2,  34.3519,2,   160.67,2,    17.90,2,    15.90,2,     0.00,2,    1.170,2, -999.000,9, -999.000,9,   2129.9,2,   2269.5,2,   7.7332,2,    25.00, -999.000,9,  -999.00,9,  -999.00,9,  12.3608,2,  26.0169,2,  12.3998,2
49UP20220824_1,    P9,    49,  1,     28,     755,2,20220907,0910,1110, 15.0178, 137.0068, 5332,    373.3,      371,   9.9739,  34.2245,2,    141.1,2,  34.2256,2,   140.82,2,    29.47,2,    22.11,2,     0.00,2,    1.610,2, -999.000,9, -999.000,9,   2168.6,2,   2271.4,2,   7.6398,2,    25.00, -999.000,9,  -999.00,9,  -999.00,9,   9.9307,2,  26.3581,2,   9.9786,2
49UP20220824_1,    P9,    49,  1,     27,     317,2,20220907,0910,1109, 15.0178, 137.0068, 5332,    422.9,      420,   8.7216,  34.2005,2,    117.4,2,  34.2012,2,   116.83,2,    39.98,2,    26.73,2,     0.00,2,    1.950,2, -999.000,9, -999.000,9,   2200.9,2,   2280.8,2,   7.5676,2,    25.00, -999.000,9,  -999.00,9,  -999.00,9,   8.6764,2,  26.5430,2,   8.7208,2
49UP20220824_1,    P9,    49,  1,     26,     316,2,20220907,0910,1106, 15.0178, 137.0068, 5332,    474.3,      471,   7.6856,  34.2538,2,     90.1,2,  34.2535,2,    89.87,2,    51.73,2,    31.27,2,     0.00,2,    2.280,2, -999.000,9, -999.000,9,   2234.0,2,   2295.8,2,   7.5075,2,    25.00, -999.000,9,  -999.00,9,  -999.00,9,   7.6384,2,  26.7408,2,   7.6893,2
49UP20220824_1,    P9,    49,  1,     25,     315,2,20220907,0910,1104, 15.0178, 137.0068, 5332,    575.5,      571,   6.4134,  34.3743,2,     73.3,2,  34.3745,2,    73.74,2,    67.70,2,    35.57,2,     0.00,2,    2.570,2, -999.000,9, -999.000,9,   2269.9,2,   2317.8,2,   7.4730,2,    25.00, -999.000,9,  -999.00,9,  -999.00,9,   6.3611,2,  27.0118,2,   6.4138,2
49UP20220824_1,    P9,    49,  1,     24,     753,2,20220907,0910,1100, 15.0178, 137.0068, 5332,    676.6,      672,   5.6532,  34.4403,2,     76.6,2,  34.4401,2,    76.57,2,    77.66,2,    37.02,2,     0.00,2,    2.650,2, -999.000,9, -999.000,9,   2282.4,2,   2332.5,2,   7.4780,6,    25.00, -999.000,9,  -999.00,9,  -999.00,9,   5.5951,2,  27.1608,2,   5.6533,2
49UP20220824_1,    P9,    49,  1,     23,     314,2,20220907,0910,1057, 15.0178, 137.0068, 5332,    780.1,      774,   5.0866,  34.4881,2,     82.0,2,  34.4874,2,    81.67,2,    85.53,2,    37.52,2,     0.00,2,    2.690,2, -999.000,9, -999.000,9,   2291.5,6,   2344.8,6,   7.4846,2,    25.00, -999.000,9,  -999.00,9,  -999.00,9,   5.0223,2,  27.2669,2,   5.0867,2
49UP20220824_1,    P9,    49,  1,     22,     313,2,20220907,0910,1054, 15.0178, 137.0068, 5332,    879.6,      873,   4.6171,  34.5163,2,     85.1,2,  34.5170,2,    85.15,6,    93.63,6,    38.01,6,     0.00,6,    2.720,6, -999.000,9, -999.000,9,   2301.1,2,   2355.7,2,   7.4897,2,    25.00, -999.000,9,  -999.00,9,  -999.00,9,   4.5472,2,  27.3428,2,   4.6174,2
49UP20220824_1,    P9,    49,  1,     21,     312,2,20220907,0910,1051, 15.0178, 137.0068, 5332,    982.4,      974,   4.2735,  34.5327,2,     87.1,2,  34.5328,2,    87.33,2,   100.14,2,    38.32,2,     0.00,2,    2.730,2, -999.000,9, -999.000,9,   2307.5,2,   2363.5,2,   7.4911,2,    25.00, -999.000,9,  -999.00,9,  -999.00,9,   4.1972,2,  27.3937,2,   4.2737,2
49UP20220824_1,    P9,    49,  1,     20,     311,2,20220907,0910,1047, 15.0178, 137.0068, 5332,   1143.2,     1133,   3.7038,  34.5499,2,     89.4,2,  34.5500,2,    89.24,2,   112.55,2,    38.63,2,     0.00,2,    2.750,2, -999.000,9, -999.000,9,   2319.4,2,   2376.6,2,   7.4920,2,    25.00, -999.000,9,  -999.00,9,  -999.00,9,   3.6186,2,  27.4668,2,   3.7041,2
49UP20220824_1,    P9,    49,  1,     19,     310,2,20220907,0910,1042, 15.0178, 137.0068, 5332,   1346.2,     1334,   3.2133,  34.5687,2,     95.1,2,  34.5691,6,    95.41,2,   122.25,2,    38.66,2,     0.00,2,    2.750,2, -999.000,9, -999.000,9,   2327.5,2,   2386.8,2,   7.5000,2,    25.00, -999.000,9,  -999.00,9,  -999.00,9,   3.1160,2,  27.5301,2,   3.2134,2
49UP20220824_1,    P9,    49,  1,     18,     752,2,20220907,0910,1036, 15.0178, 137.0068, 5332,   1548.5,     1534,   2.7722,  34.5849,2,     99.6,2,  34.5852,2,    99.43,2,   131.82,2,    38.70,2,     0.00,2,    2.740,2, -999.000,9, -999.000,9,   2334.4,2,   2395.1,2,   7.5025,2,    25.00, -999.000,9,  -999.00,9,  -999.00,9,   2.6630,2,  27.5839,2,   2.7719,2
49UP20220824_1,    P9,    49,  1,     17,     751,2,20220907,0910,1031, 15.0178, 137.0068, 5332,   1751.5,     1734,   2.4468,  34.6042,2,    105.6,2,  34.6037,2,   105.39,2,   136.88,2,    38.59,2,     0.00,2,    2.730,2, -999.000,9, -999.000,9,   2337.0,2,   2397.9,2,   7.5114,2,    25.00, -999.000,9,  -999.00,9,  -999.00,9,   2.3248,2,  27.6282,2,   2.4470,2
49UP20220824_1,    P9,    49,  1,     16,     328,2,20220907,0910,1026, 15.0178, 137.0068, 5332,   1952.9,     1932,   2.1987,  34.6212,2,    111.7,2,  34.6212,2,   111.53,2,   140.82,2,    38.40,2,     0.00,2,    2.700,2, -999.000,9, -999.000,9,   2338.4,2,   2406.1,2,   7.5179,2,    25.00, -999.000,9,  -999.00,9,  -999.00,9,   2.0632,2,  27.6631,2,   2.1986,2
49UP20220824_1,    P9,    49,  1,     15,     309,2,20220907,0910,1021, 15.0178, 137.0068, 5332,   2152.7,     2129,   2.0113,  34.6363,2,    118.0,2,  34.6363,2,   117.87,2,   143.54,2,    38.09,2,     0.00,2,    2.670,2, -999.000,9, -999.000,9,   2338.0,2,   2406.3,2,   7.5295,2,    25.00, -999.000,9,  -999.00,9,  -999.00,9,   1.8617,2,  27.6911,2,   2.0113,2
49UP20220824_1,    P9,    49,  1,     14,     326,2,20220907,0910,1016, 15.0178, 137.0068, 5332,   2361.6,     2335,   1.8979,  34.6442,2,    122.4,2,  34.6441,2,   122.17,2,   145.12,2,    37.87,2,     0.00,2,    2.660,2, -999.000,9, -999.000,9,   2338.1,2,   2406.6,2,   7.5348,2,    25.00, -999.000,9,  -999.00,9,  -999.00,9,   1.7319,2,  27.7074,2,   1.8978,2
49UP20220824_1,    P9,    49,  1,     13,     325,2,20220907,0910,1011, 15.0178, 137.0068, 5332,   2565.2,     2535,   1.7986,  34.6517,2,    127.0,2,  34.6516,2,   126.97,6,   146.39,6,    37.57,6,     0.00,6,    2.630,6, -999.000,9, -999.000,9,   2336.0,2,   2413.5,2,   7.5441,2,    25.00, -999.000,9,  -999.00,9,  -999.00,9,   1.6161,2,  27.7221,2,   1.7986,2
49UP20220824_1,    P9,    49,  1,     12,     324,2,20220907,0910,1006, 15.0178, 137.0068, 5332,   2767.1,     2733,   1.7302,  34.6579,2,    131.2,2,  34.6574,2,   131.12,2,   146.86,2,    37.33,2,     0.00,2,    2.610,2, -999.000,9, -999.000,9,   2335.7,2,   2413.9,2,   7.5482,2,    25.00, -999.000,9,  -999.00,9,  -999.00,9,   1.5306,2,  27.7334,2,   1.7303,2
49UP20220824_1,    P9,    49,  1,     11,     323,2,20220907,0910,1002, 15.0178, 137.0068, 5332,   2970.8,     2933,   1.6646,  34.6637,2,    136.0,2,  34.6637,2,   135.95,2,   146.78,2,    36.99,2,     0.00,2,    2.580,2, -999.000,9, -999.000,9,   2334.6,2,   2414.0,2,   7.5567,6,    25.00, -999.000,9,  -999.00,9,  -999.00,9,   1.4471,2,  27.7441,2,   1.6646,2
49UP20220824_1,    P9,    49,  1,     10,     322,2,20220907,0910,0956, 15.0178, 137.0068, 5332,   3214.3,     3171,   1.6220,  34.6684,2,    140.7,2,  34.6676,2,   140.81,2,   146.03,2,    36.76,2,     0.00,2,    2.560,2, -999.000,9, -999.000,9,   2332.6,6,   2413.6,6,   7.5641,2,    25.00, -999.000,9,  -999.00,9,  -999.00,9,   1.3817,2,  27.7526,2,   1.6219,2
49UP20220824_1,    P9,    49,  1,      9,     750,2,20220907,0910,0951, 15.0178, 137.0068, 5332,   3468.6,     3420,   1.5967,  34.6722,2,    144.5,2,  34.6722,6,   144.36,2,   145.25,2,    36.48,2,     0.00,2,    2.540,2, -999.000,9, -999.000,9,   2328.9,2,   2413.4,2,   7.5703,2,    25.00, -999.000,9,  -999.00,9,  -999.00,9,   1.3314,2,  27.7592,2,   1.5968,2
49UP20220824_1,    P9,    49,  1,      8,     320,2,20220907,0910,0946, 15.0178, 137.0068, 5332,   3722.2,     3668,   1.5700,  34.6759,2,    148.6,2,  34.6740,4,   148.39,2,   144.31,2,    36.26,2,     0.00,2,    2.520,2, -999.000,9, -999.000,9,   2326.0,2,   2413.1,2,   7.5747,2,    25.00, -999.000,9,  -999.00,9,  -999.00,9,   1.2790,2,  27.7659,2,   1.5700,2
49UP20220824_1,    P9,    49,  1,      7,     319,2,20220907,0910,0940, 15.0178, 137.0068, 5332,   3982.3,     3922,   1.5383,  34.6801,2,    153.5,2,  34.6799,2,   153.66,2,   143.04,2,    35.84,2,     0.00,2,    2.500,2, -999.000,9, -999.000,9,   2321.3,2,   2409.9,2,   7.5824,2,    25.00, -999.000,9,  -999.00,9,  -999.00,9,   1.2203,2,  27.7733,2,   1.5384,2
49UP20220824_1,    P9,    49,  1,      6,     318,2,20220907,0910,0935, 15.0178, 137.0068, 5332,   4237.9,     4172,   1.5195,  34.6836,2,    157.6,2,  34.6831,2,   157.68,2,   141.46,2,    35.55,2,     0.00,2,    2.470,2, -999.000,9, -999.000,9,   2317.8,2,   2408.5,2,   7.5870,2,    25.00, -999.000,9,  -999.00,9,  -999.00,9,   1.1738,2,  27.7794,2,   1.5194,2
49UP20220824_1,    P9,    49,  1,      5,     838,2,20220907,0910,0929, 15.0178, 137.0068, 5332,   4494.1,     4421,   1.5225,  34.6856,2,    160.0,2,  34.6864,2,   160.40,2,   140.58,2,    35.41,2,     0.00,2,    2.460,2, -999.000,9, -999.000,9,   2316.3,2,   2407.7,2,   7.5910,2,    25.00, -999.000,9,  -999.00,9,  -999.00,9,   1.1475,2,  27.7828,2,   1.5226,2
49UP20220824_1,    P9,    49,  1,      4,     316,2,20220907,0910,0924, 15.0178, 137.0068, 5332,   4750.8,     4671,   1.5459,  34.6861,2,    160.7,2,  34.6864,2,   160.74,6,   140.49,6,    35.41,6,     0.00,6,    2.460,6, -999.000,9, -999.000,9,   2315.8,2,   2408.9,2,   7.5902,2,    25.00, -999.000,9,  -999.00,9,  -999.00,9,   1.1401,2,  27.7837,2,   1.5459,2
49UP20220824_1,    P9,    49,  1,      3,     315,2,20220907,0910,0918, 15.0178, 137.0068, 5332,   5007.4,     4920,   1.5721,  34.6866,2,    161.4,2,  34.6864,2,   161.24,2,   140.22,2,    35.19,2,     0.00,2,    2.450,2, -999.000,9, -999.000,9,   2315.1,2,   2406.7,2,   7.5926,2,    25.00, -999.000,9,  -999.00,9,  -999.00,9,   1.1346,2,  27.7844,2,   1.5720,2
49UP20220824_1,    P9,    49,  1,      2,     314,2,20220907,0910,0913, 15.0178, 137.0068, 5332,   5265.1,     5171,   1.6048,  34.6866,2,    161.6,2,  34.6863,2,   161.51,2,   140.41,2,    35.37,2,     0.00,2,    2.450,2, -999.000,9, -999.000,9,   2316.9,2,   2406.8,2,   7.5930,2,    25.00, -999.000,9,  -999.00,9,  -999.00,9,   1.1342,2,  27.7844,2,   1.6048,2
49UP20220824_1,    P9,    49,  1,      1,     308,2,20220907,0910,0910, 15.0178, 137.0068, 5332,   5340.8,     5244,   1.6147,  34.6865,2,    161.7,2,  34.6867,6,   161.72,2,   140.40,2,    35.31,2,     0.00,2,    2.450,2, -999.000,9, -999.000,9,   2314.7,2,   2407.0,2,   7.5918,2,    25.00, -999.000,9,  -999.00,9,  -999.00,9,   1.1343,2,  27.7844,2,   1.6147,2