BOTTLE,20230330JMAAMD
EXPOCODE,SECT_ID,STNNBR,CASTNO,SAMPNO,BTLNBR,BTLNBR_FLAG_U,DATE,TIME,BTL_TIME,LATITUDE,LONGITUDE,DEPTH,CTDPRS,CTDDEP,CTDTMP,CTDSAL,CTDSAL_FLAG_W,CTDOXY,CTDOXY_FLAG_W,SALNTY,SALNTY_FLAG_W,OXYGEN,OXYGEN_FLAG_W,SILCAT,SILCAT_FLAG_W,NO2+NO3,NO2+NO3_FLAG_W,NITRIT,NITRIT_FLAG_W,PHSPHT,PHSPHT_FLAG_W,CFC-11,CFC-11_FLAG_W,CFC-12,CFC-12_FLAG_W,TCARBN,TCARBN_FLAG_W,ALKALI,ALKALI_FLAG_W,PH_TS,PH_TS_FLAG_W,PH_TS_TMP,CFC113,CFC113_FLAG_W,CHLORA,CHLORA_FLAG_W,PPHYTN,PPHYTN_FLAG_W,THETA,THETA_FLAG_W,SIGTHT,SIGTHT_FLAG_W,SBE35,SBE35_FLAG_W
,,,,,,,,UTC,,,,METER,DBAR,METERS,ITS-90,PSS-78,,UMOL/KG,,PSS78,,UMOL/KG,,UMOL/KG,,UMOL/KG,,UMOL/KG,,UMOL/KG,,PMOL/KG,,PMOL/KG,,UMOL/KG,,UMOL/KG,,,,ITS-90,PMOL/KG,,UG/KG,,UG/KG,,ITS-90,,KG/M3,,ITS-90,
49UP20220727_1,    P9,    13,  1,      0,      -9,0,20220808,2254,0015,  2.1917, 140.9940, 3448,      0.0,        0,  30.1992,  34.7492,2,    194.4,2,  34.7520,2,   195.33,2,     1.14,2,     0.01,2,     0.00,2,    0.140,2, -999.000,9, -999.000,9,   1953.5,2,   2285.1,2,   8.1048,2,    25.00, -999.000,9,     0.11,2,     0.03,2,  30.1986,2,  21.4703,2,-999.0000,9
49UP20220727_1,    P9,    13,  1,     36,     757,2,20220808,2254,0041,  2.1917, 140.9940, 3448,     11.7,       12,  30.1473,  34.7425,2,    194.6,2,  34.7397,2,   195.14,2,     1.14,2,     0.00,2,     0.00,2,    0.130,2, -999.000,9, -999.000,9,   1953.3,2,   2285.1,2,   8.1075,2,    25.00, -999.000,9,     0.10,2,     0.03,2,  30.1444,2,  21.4838,2,  30.1339,2
49UP20220727_1,    P9,    13,  1,     35,     756,2,20220808,2254,0040,  2.1917, 140.9940, 3448,     25.5,       25,  30.0562,  34.7411,2,    195.1,2,  34.7398,2,   195.40,2,     1.16,2,     0.00,2,     0.00,2,    0.120,2, -999.000,9, -999.000,9,   1953.4,6,   2284.5,6,   8.1057,2,    25.00, -999.000,9,     0.10,2,     0.05,2,  30.0498,2,  21.5151,2,  30.0596,2
49UP20220727_1,    P9,    13,  1,     34,     323,2,20220808,2254,0036,  2.1917, 140.9940, 3448,     52.0,       52,  29.8847,  34.9507,2,    193.8,2,  34.9508,2,   193.61,2,     1.16,2,     0.01,2,     0.02,2,    0.160,2, -999.000,9, -999.000,9,   1972.2,2,   2296.7,2,   8.0943,6,    25.00, -999.000,9,     0.39,2,     0.22,2,  29.8719,2,  21.7329,2,  29.8865,2
49UP20220727_1,    P9,    13,  1,     33,     322,2,20220808,2254,0035,  2.1917, 140.9940, 3448,     76.6,       76,  29.2488,  35.1632,2,    171.4,2,  35.1629,2,   171.82,6,     1.72,6,     2.77,6,     0.15,6,    0.360,6, -999.000,9, -999.000,9,   2010.0,2,   2308.3,2,   8.0482,2,    25.00, -999.000,9,     0.27,2,     0.32,2,  29.2302,2,  22.1094,2,  29.2504,2
49UP20220727_1,    P9,    13,  1,     32,     321,2,20220808,2254,0033,  2.1917, 140.9940, 3448,    101.1,      101,  29.1277,  35.1957,2,    168.5,2,  35.1959,2,   169.27,2,     1.82,2,     3.27,2,     0.06,2,    0.400,2, -999.000,9, -999.000,9,   2016.1,2,   2309.9,2,   8.0402,2,    25.00, -999.000,9,     0.23,2,     0.38,2,  29.1031,2,  22.1765,2,  29.1244,2
49UP20220727_1,    P9,    13,  1,     31,     320,2,20220808,2254,0032,  2.1917, 140.9940, 3448,    127.1,      126,  28.5294,  35.2990,2,    160.5,2,  35.2816,2,   160.30,2,     2.20,2,     5.04,2,     0.03,2,    0.510,2, -999.000,9, -999.000,9,   2034.7,2,   2313.9,2,   8.0125,2,    25.00, -999.000,9,     0.10,2,     0.17,2,  28.4990,2,  22.4553,2,  28.5255,2
49UP20220727_1,    P9,    13,  1,     30,     319,2,20220808,2254,0030,  2.1917, 140.9940, 3448,    154.7,      154,  26.0347,  35.1413,2,    147.9,2,  35.1684,2,   147.77,2,     3.90,2,     7.15,2,     0.02,2,    0.620,2, -999.000,9, -999.000,9,   2054.2,2,   2309.3,2,   7.9681,2,    25.00, -999.000,9,     0.02,2,     0.06,2,  26.0001,2,  23.1399,2,  26.1197,2
49UP20220727_1,    P9,    13,  1,     28,     755,2,20220808,2254,0028,  2.1917, 140.9940, 3448,    202.6,      201,  18.7647,  34.7461,2,    149.4,2,  34.7510,2,   149.60,2,     8.27,2,     9.27,2,     0.01,2,    0.730,2, -999.000,9, -999.000,9,   2094.1,2,   2286.5,2,   7.8520,2,    25.00, -999.000,9,     0.01,2,     0.06,2,  18.7289,2,  24.8958,2,  18.7426,2
49UP20220727_1,    P9,    13,  1,     29,     318,2,20220808,2254,0028,  2.1917, 140.9940, 3448,    203.9,      203,  18.4896,  34.7428,2,    150.2,2,  34.7495,2,   149.29,2,     8.34,2,     9.29,2,     0.01,2,    0.730,2, -999.000,9, -999.000,9,   2093.8,2,   2286.2,2,   7.8519,2,    25.00, -999.000,9,  -999.00,9,  -999.00,9,  18.4540,2,  24.9624,2,  18.5928,2
49UP20220727_1,    P9,    13,  1,     27,     317,2,20220808,2254,0026,  2.1917, 140.9940, 3448,    255.2,      254,  11.1991,  34.5916,2,    121.8,2,  34.5942,2,   121.68,2,    28.88,2,    23.67,2,     0.00,2,    1.700,2, -999.000,9, -999.000,9,   2183.2,2,   2296.6,2,   7.6604,2,    25.00, -999.000,9,  -999.00,9,  -999.00,9,  11.1673,2,  26.4271,2,  11.1964,2
49UP20220727_1,    P9,    13,  1,     26,     316,2,20220808,2254,0024,  2.1917, 140.9940, 3448,    304.8,      303,   9.8696,  34.6791,2,    133.3,2,  34.6787,6,   132.97,2,    24.94,2,    25.32,2,     0.00,2,    1.790,2, -999.000,9, -999.000,9,   2191.6,2,   2302.8,2,   7.6527,2,    25.00, -999.000,9,  -999.00,9,  -999.00,9,   9.8345,2,  26.7295,2,   9.8714,2
49UP20220727_1,    P9,    13,  1,     25,     315,2,20220808,2254,0022,  2.1917, 140.9940, 3448,    355.3,      353,   9.7906,  34.6961,2,    137.1,2,  34.6969,2,   136.94,2,    22.56,2,    25.19,2,     0.00,2,    1.780,2, -999.000,9, -999.000,9,   2188.5,2,   2300.4,2,   7.6561,2,    25.00, -999.000,9,  -999.00,9,  -999.00,9,   9.7498,2,  26.7571,2,   9.7907,2
49UP20220727_1,    P9,    13,  1,     24,     753,2,20220808,2254,0020,  2.1917, 140.9940, 3448,    403.9,      401,   9.6088,  34.6806,2,    134.5,2,  34.6804,2,   134.25,2,    23.84,2,    25.81,2,     0.00,2,    1.820,2, -999.000,9, -999.000,9,   2191.5,2,   2298.6,2,   7.6467,2,    25.00, -999.000,9,  -999.00,9,  -999.00,9,   9.5628,2,  26.7762,2,   9.6115,2
49UP20220727_1,    P9,    13,  1,     23,     314,2,20220808,2254,0017,  2.1917, 140.9940, 3448,    455.4,      452,   8.4751,  34.6054,2,    150.0,2,  34.6066,2,   149.78,2,    25.24,2,    26.61,2,     0.00,2,    1.870,2, -999.000,9, -999.000,9,   2192.1,2,   2300.6,2,   7.6457,2,    25.00, -999.000,9,  -999.00,9,  -999.00,9,   8.4269,2,  26.8992,2,   8.4751,2
49UP20220727_1,    P9,    13,  1,     22,     313,2,20220808,2254,0015,  2.1917, 140.9940, 3448,    505.3,      502,   8.1048,  34.5742,2,    131.2,2,  34.5746,2,   130.80,2,    34.11,2,    29.01,2,     0.00,2,    2.040,2, -999.000,9, -999.000,9,   2211.0,2,   2303.7,2,   7.6080,2,    25.00, -999.000,9,  -999.00,9,  -999.00,9,   8.0525,2,  26.9316,2,   8.1045,2
49UP20220727_1,    P9,    13,  1,     21,     312,2,20220808,2254,0013,  2.1917, 140.9940, 3448,    604.9,      601,   6.8367,  34.5324,2,    120.7,2,  34.5327,2,   120.55,6,    42.94,6,    32.46,6,     0.00,6,    2.290,6, -999.000,9, -999.000,9,   2230.8,2,   2310.1,2,   7.5700,2,    25.00, -999.000,9,  -999.00,9,  -999.00,9,   6.7795,2,  27.0806,2,   6.8368,2
49UP20220727_1,    P9,    13,  1,     19,     310,2,20220808,2254,0010,  2.1917, 140.9940, 3448,    706.4,      701,   6.1485,  34.5238,2,    117.7,2,  34.5239,2,   117.63,2,    49.57,2,    34.18,2,     0.00,2,    2.410,2, -999.000,9, -999.000,9,   2241.8,2,   2317.2,2,   7.5524,2,    25.00, -999.000,9,  -999.00,9,  -999.00,9,   6.0849,2,  27.1656,2,   6.1483,2
49UP20220727_1,    P9,    13,  1,     20,     311,2,20220808,2254,0010,  2.1917, 140.9940, 3448,    707.0,      702,   6.1457,  34.5239,2,    117.6,2,  34.5239,2,   117.44,2,    49.52,2,    34.16,2,     0.00,2,    2.410,2, -999.000,9, -999.000,9,   2242.0,2,   2317.3,2,   7.5526,2,    25.00, -999.000,9,  -999.00,9,  -999.00,9,   6.0821,2,  27.1660,2,   6.1450,2
49UP20220727_1,    P9,    13,  1,     18,     752,2,20220808,2254,0007,  2.1917, 140.9940, 3448,    807.6,      802,   5.5937,  34.5336,2,     93.5,2,  34.5338,2,    93.49,2,    66.56,2,    36.85,2,     0.00,2,    2.620,2, -999.000,9, -999.000,9,   2271.3,2,   2334.6,2,   7.5116,2,    25.00, -999.000,9,  -999.00,9,  -999.00,9,   5.5238,2,  27.2433,2,   5.5941,2
49UP20220727_1,    P9,    13,  1,     17,     751,2,20220808,2254,0004,  2.1917, 140.9940, 3448,    908.5,      902,   4.6945,  34.5488,2,     93.6,2,  34.5485,2,    93.59,2,    84.14,2,    37.86,2,     0.00,2,    2.700,2, -999.000,9, -999.000,9,   2292.3,6,   2352.3,6,   7.5070,2,    25.00, -999.000,9,  -999.00,9,  -999.00,9,   4.6214,2,  27.3605,2,   4.6934,2
49UP20220727_1,    P9,    13,  1,     16,     328,2,20220808,2254,0000,  2.1917, 140.9940, 3448,   1010.8,     1003,   4.2609,  34.5603,2,     95.1,2,  34.5600,6,    94.98,2,    93.56,2,    38.21,2,     0.00,2,    2.720,2, -999.000,9, -999.000,9,   2302.1,2,   2361.8,2,   7.5065,6,    25.00, -999.000,9,  -999.00,9,  -999.00,9,   4.1822,2,  27.4173,2,   4.2605,2
49UP20220727_1,    P9,    13,  1,     15,     309,2,20220808,2254,2355,  2.1917, 140.9940, 3448,   1212.6,     1202,   3.5442,  34.5801,2,     97.4,2,  34.5795,2,    97.07,2,   109.07,2,    38.68,2,     0.00,2,    2.750,2, -999.000,9, -999.000,9,   2317.1,2,   2378.0,2,   7.5045,2,    25.00, -999.000,9,  -999.00,9,  -999.00,9,   3.4546,2,  27.5069,2,   3.5442,2
49UP20220727_1,    P9,    13,  1,     13,     325,2,20220808,2254,2350,  2.1917, 140.9940, 3448,   1415.2,     1403,   3.0286,  34.5981,2,    103.0,2,  34.5977,2,   103.14,2,   119.50,2,    38.66,2,     0.00,2,    2.740,2, -999.000,9, -999.000,9,   2324.9,2,   2390.4,2,   7.5110,2,    25.00, -999.000,9,  -999.00,9,  -999.00,9,   2.9274,2,  27.5709,2,   3.0286,2
49UP20220727_1,    P9,    13,  1,     14,     326,2,20220808,2254,2350,  2.1917, 140.9940, 3448,   1415.7,     1403,   3.0283,  34.5982,2,    103.1,2,  34.5976,2,   102.94,2,   119.72,2,    38.70,2,     0.00,2,    2.750,2, -999.000,9, -999.000,9,   2325.8,2,   2389.1,2,   7.5108,2,    25.00, -999.000,9,  -999.00,9,  -999.00,9,   2.9271,2,  27.5710,2,   3.0284,2
49UP20220727_1,    P9,    13,  1,     12,     324,2,20220808,2254,2345,  2.1917, 140.9940, 3448,   1617.1,     1602,   2.6760,  34.6132,2,    110.1,2,  34.6129,2,   110.33,2,   126.04,2,    38.44,2,     0.00,2,    2.710,2, -999.000,9, -999.000,9,   2327.2,2,   2395.9,2,   7.5226,2,    25.00, -999.000,9,  -999.00,9,  -999.00,9,   2.5622,2,  27.6152,2,   2.6761,2
49UP20220727_1,    P9,    13,  1,     11,     323,2,20220808,2254,2339,  2.1917, 140.9940, 3448,   1819.8,     1802,   2.4374,  34.6246,2,    114.4,2,  34.6243,2,   114.43,2,   131.09,2,    38.25,2,     0.00,2,    2.690,2, -999.000,9, -999.000,9,   2332.3,2,   2401.7,2,   7.5289,2,    25.00, -999.000,9,  -999.00,9,  -999.00,9,   2.3097,2,  27.6458,2,   2.4374,2
49UP20220727_1,    P9,    13,  1,     10,     322,2,20220808,2254,2334,  2.1917, 140.9940, 3448,   2021.5,     2001,   2.2708,  34.6328,2,    116.9,2,  34.6325,6,   117.14,2,   135.27,2,    38.14,2,     0.00,2,    2.680,2, -999.000,9, -999.000,9,   2334.4,2,   2406.7,2,   7.5318,2,    25.00, -999.000,9,  -999.00,9,  -999.00,9,   2.1284,2,  27.6672,2,   2.2709,2
49UP20220727_1,    P9,    13,  1,      9,     750,2,20220808,2254,2328,  2.1917, 140.9940, 3448,   2226.2,     2202,   2.1094,  34.6410,2,    121.2,2,  34.6413,2,   121.14,6,   138.55,6,    37.93,6,     0.00,6,    2.660,6, -999.000,9, -999.000,9,   2335.7,2,   2408.5,2,   7.5368,2,    25.00, -999.000,9,  -999.00,9,  -999.00,9,   1.9517,2,  27.6879,2,   2.1094,2
49UP20220727_1,    P9,    13,  1,      8,     320,2,20220808,2254,2323,  2.1917, 140.9940, 3448,   2429.1,     2402,   1.9391,  34.6502,2,    125.1,2,  34.6494,2,   125.63,2,   142.36,2,    37.76,2,     0.00,2,    2.640,2, -999.000,9, -999.000,9,   2337.4,2,   2412.0,2,   7.5432,2,    25.00, -999.000,9,  -999.00,9,  -999.00,9,   1.7664,2,  27.7096,2,   1.9392,2
49UP20220727_1,    P9,    13,  1,      7,     319,2,20220808,2254,2323,  2.1917, 140.9940, 3448,   2429.6,     2402,   1.9384,  34.6503,2,    125.1,2,  34.6501,2,   125.34,2,   142.35,2,    37.80,2,     0.00,2,    2.640,2, -999.000,9, -999.000,9,   2338.0,2,   2411.5,2,   7.5447,2,    25.00, -999.000,9,  -999.00,9,  -999.00,9,   1.7657,2,  27.7097,2,   1.9383,2
49UP20220727_1,    P9,    13,  1,      6,     318,2,20220808,2254,2315,  2.1917, 140.9940, 3448,   2633.4,     2603,   1.7822,  34.6597,2,    131.6,2,  34.6593,2,   131.50,2,   144.09,2,    37.42,2,     0.00,2,    2.610,2, -999.000,9, -999.000,9,   2335.5,2,   2416.0,2,   7.5552,2,    25.00, -999.000,9,  -999.00,9,  -999.00,9,   1.5938,2,  27.7302,2,   1.7822,2
49UP20220727_1,    P9,    13,  1,      5,     838,2,20220808,2254,2309,  2.1917, 140.9940, 3448,   2836.0,     2802,   1.7027,  34.6643,2,    136.8,2,  34.6646,2,   136.60,2,   144.02,2,    36.95,2,     0.00,2,    2.570,2, -999.000,9, -999.000,9,   2333.4,6,   2413.1,6,   7.5620,2,    25.00, -999.000,9,  -999.00,9,  -999.00,9,   1.4971,2,  27.7410,2,   1.7027,2
49UP20220727_1,    P9,    13,  1,      4,     316,2,20220808,2254,2304,  2.1917, 140.9940, 3448,   3040.0,     3002,   1.6072,  34.6703,2,    142.5,2,  34.6703,2,   142.58,2,   144.28,2,    36.60,2,     0.00,2,    2.550,2, -999.000,9, -999.000,9,   2331.9,2,   2416.2,2,   7.5685,6,    25.00, -999.000,9,  -999.00,9,  -999.00,9,   1.3842,2,  27.7539,2,   1.6072,2
49UP20220727_1,    P9,    13,  1,      3,     315,2,20220808,2254,2259,  2.1917, 140.9940, 3448,   3295.8,     3252,   1.5824,  34.6737,2,    144.7,2,  34.6736,2,   144.83,2,   144.68,2,    36.50,2,     0.00,2,    2.530,2, -999.000,9, -999.000,9,   2331.2,2,   2418.5,2,   7.5741,2,    25.00, -999.000,9,  -999.00,9,  -999.00,9,   1.3349,2,  27.7601,2,   1.5824,2
49UP20220727_1,    P9,    13,  1,      2,     314,3,20220808,2254,2254,  2.1917, 140.9940, 3448,   3470.4,     3423,   1.5675,  34.6764,2,    146.0,2,  34.6765,6,   145.58,6,   144.86,6,    36.35,6,     0.00,6,    2.520,6, -999.000,9, -999.000,9,   2332.4,2,   2420.2,2,   7.5807,2,    25.00, -999.000,9,  -999.00,9,  -999.00,9,   1.3027,2,  27.7646,2,   1.5675,2