BOTTLE,20230321CCHSIOENA
EXPOCODE,SECT_ID,STNNBR,CASTNO,BTLNBR,DATE,TIME,LATITUDE,LONGITUDE,DEPTH,CTDPRS,CTDTMP,CTDSAL,CTDSAL_FLAG_W,SALNTY,SALNTY_FLAG_W,CTDOXY,CTDOXY_FLAG_W,OXYGEN,OXYGEN_FLAG_W,SILCAT,SILCAT_FLAG_W,NITRAT,NITRAT_FLAG_W,TCARBN,TCARBN_FLAG_W,ALKALI,ALKALI_FLAG_W,CHLORA,CHLORA_FLAG_W,THETA
,,,,,,,,,METERS,DBAR,ITS-90,PSS-78,,PSS-78,,UMOL/KG,,UMOL/KG,,UMOL/KG,,UMOL/KG,,UMOL/KG,,UMOL/KG,,UG/KG,,DEG C
  35MF20010103,  OISO,    10,  1,      2,20010113,   0,-50.6700,  68.4200, 1619,   1609.0,   1.6180,  34.7590,2,-999.0000,9,   -999.0,9,   -999.0,9,    94.30,2,    29.70,2,   2242.5,2,   2347.5,2,  -999.00,9,   1.5176
  35MF20010103,  OISO,    10,  1,      1,20010113,   0,-50.6700,  68.4200, 1619,   1609.0,   1.6180,  34.7590,2,  34.7540,2,   -999.0,9,    205.7,2,    92.70,2,    29.80,2,   2242.4,2,   2347.9,2,  -999.00,9,   1.5176
  35MF20010103,  OISO,    10,  1,     23,20010113,   0,-50.6700,  68.4200, 1619,      0.1,   3.6400,  33.8690,2,  33.8720,2,   -999.0,9,    327.5,2,     8.80,2,    24.70,2,   2123.1,2,   2283.6,2,     0.50,2,   3.6400
  35MF20010103,  OISO,    10,  1,     22,20010113,   0,-50.6700,  68.4200, 1619,     10.3,   3.6790,  33.8760,2,-999.0000,9,    326.2,2,   -999.0,9,     8.60,2,    24.60,2,   2123.5,2,   2278.1,2,     0.71,2,   3.6783
  35MF20010103,  OISO,    10,  1,     21,20010113,   0,-50.6700,  68.4200, 1619,     20.1,   3.6770,  33.8760,2,  33.8650,2,    323.9,2,    326.1,2,     9.10,2,    24.70,2,   2121.4,2,   2277.4,2,     0.66,2,   3.6757
  35MF20010103,  OISO,    10,  1,     20,20010113,   0,-50.6700,  68.4200, 1619,     29.7,   3.6770,  33.8760,2,-999.0000,9,    324.8,2,   -999.0,9,     8.90,2,    24.60,2,   2121.8,2,   2277.7,2,     0.78,2,   3.6751
  35MF20010103,  OISO,    10,  1,     19,20010113,   0,-50.6700,  68.4200, 1619,     40.0,   3.6780,  33.8750,2,-999.0000,9,    323.1,2,   -999.0,9,     9.00,2,    24.60,2,   2123.0,2,   2276.6,2,     0.69,2,   3.6754
  35MF20010103,  OISO,    10,  1,     18,20010113,   0,-50.6700,  68.4200, 1619,     47.8,   3.6800,  33.8760,2,  33.8660,2,    323.2,2,    317.0,2,     9.00,2,    24.60,2,   -999.0,9,   -999.0,9,     0.67,2,   3.6769
  35MF20010103,  OISO,    10,  1,     17,20010113,   0,-50.6700,  68.4200, 1619,     74.6,   3.5320,  33.8750,2,-999.0000,9,    323.4,2,   -999.0,9,     9.50,2,    24.70,2,   2123.3,2,   2278.0,2,     0.87,2,   3.5272
  35MF20010103,  OISO,    10,  1,     24,20010113,   0,-50.6700,  68.4200, 1619,     74.7,   3.5380,  33.8730,2,-999.0000,9,    322.9,2,   -999.0,9,  -999.00,9,  -999.00,9,   -999.0,9,   -999.0,9,  -999.00,9,   3.5332
  35MF20010103,  OISO,    10,  1,     16,20010113,   0,-50.6700,  68.4200, 1619,     97.0,   2.7250,  33.8840,2,  33.8980,2,    322.4,2,    326.8,2,    15.90,2,    25.50,2,   2135.0,2,   2278.5,2,     0.62,2,   2.7194
  35MF20010103,  OISO,    10,  1,     15,20010113,   0,-50.6700,  68.4200, 1619,    124.2,   2.1600,  33.8960,2,-999.0000,9,    323.8,2,   -999.0,9,    19.20,2,    26.30,2,   2143.0,2,   2279.6,2,     0.28,2,   2.1534
  35MF20010103,  OISO,    10,  1,     14,20010113,   0,-50.6700,  68.4200, 1619,    149.7,   1.5010,  33.9140,2,-999.0000,9,    326.0,2,   -999.0,9,    22.70,2,    27.00,2,   2147.4,2,   2278.7,2,     0.09,2,   1.4938
  35MF20010103,  OISO,    10,  1,     13,20010113,   0,-50.6700,  68.4200, 1619,    174.6,   1.3990,  33.9200,2,-999.0000,9,    325.7,2,   -999.0,9,    23.60,2,    27.90,2,   2150.0,2,   2278.2,2,  -999.00,9,   1.3908
  35MF20010103,  OISO,    10,  1,     12,20010113,   0,-50.6700,  68.4200, 1619,    204.2,   1.4090,  33.9430,2,  33.9360,2,    319.8,2,    319.2,2,    25.20,2,    27.90,2,   2154.9,2,   2280.6,2,  -999.00,9,   1.3993
  35MF20010103,  OISO,    10,  1,     11,20010113,   0,-50.6700,  68.4200, 1619,    255.0,   1.8060,  34.0540,2,-999.0000,9,    280.0,2,   -999.0,9,    32.60,2,    29.70,2,   2176.4,2,   2285.9,2,  -999.00,9,   1.7929
  35MF20010103,  OISO,    10,  1,     10,20010113,   0,-50.6700,  68.4200, 1619,    301.1,   2.0280,  34.1530,2,  34.1480,2,    250.6,2,    251.0,2,    43.50,2,    31.70,2,   2194.2,2,   2291.5,2,  -999.00,9,   2.0118
  35MF20010103,  OISO,    10,  1,      9,20010113,   0,-50.6700,  68.4200, 1619,    400.2,   2.2950,  34.3020,2,-999.0000,9,    209.7,2,   -999.0,9,    53.70,2,    32.50,2,   2220.1,2,   2301.0,2,  -999.00,9,   2.2721
  35MF20010103,  OISO,    10,  1,      8,20010113,   0,-50.6700,  68.4200, 1619,    503.6,   2.3310,  34.4000,2,  34.4100,2,    190.6,2,    190.4,2,    62.30,2,    34.10,2,   2237.4,2,   2311.7,2,  -999.00,9,   2.3016
  35MF20010103,  OISO,    10,  1,      7,20010113,   0,-50.6700,  68.4200, 1619,    602.7,   2.3340,  34.4830,2,-999.0000,9,    181.0,2,   -999.0,9,    69.60,2,    33.90,2,   2243.9,2,   2319.0,2,  -999.00,9,   2.2982
  35MF20010103,  OISO,    10,  1,      6,20010113,   0,-50.6700,  68.4200, 1619,    801.5,   2.2720,  34.5960,2,-999.0000,9,    180.9,2,   -999.0,9,    76.70,2,    33.20,2,   2247.4,2,   2328.4,2,  -999.00,9,   2.2233
  35MF20010103,  OISO,    10,  1,      5,20010113,   0,-50.6700,  68.4200, 1619,   1000.1,   2.2370,  34.6660,2,-999.0000,9,    184.9,2,   -999.0,9,    78.20,2,    31.10,2,   2246.1,2,   2334.1,2,  -999.00,9,   2.1748
  35MF20010103,  OISO,    10,  1,      4,20010113,   0,-50.6700,  68.4200, 1619,   1202.2,   2.1650,  34.7120,2,-999.0000,9,    190.3,2,   -999.0,9,    80.70,2,    30.90,2,   2243.7,2,   2337.6,2,  -999.00,9,   2.0889
  35MF20010103,  OISO,    10,  1,      3,20010113,   0,-50.6700,  68.4200, 1619,   1400.3,   1.9070,  34.7560,2,-999.0000,9,    201.4,2,   -999.0,9,    86.40,2,    29.80,2,   2239.3,2,   2342.6,2,  -999.00,9,   1.8188
  35MF20010103,  OISO,    11,  1,     23,20010115,   0,-56.5200,  63.0000, 4788,      8.8,   1.9810,  33.9580,2,  33.9560,2,    330.4,2,    332.4,2,    26.20,2,    26.50,2,   -999.0,9,   -999.0,9,     0.37,2,   1.9806
  35MF20010103,  OISO,    11,  1,     22,20010115,   0,-56.5200,  63.0000, 4788,     29.1,   1.9830,  33.9580,2,-999.0000,9,    330.7,2,   -999.0,9,    26.00,2,    26.60,2,   2147.3,2,   2288.2,2,     0.36,2,   1.9815
  35MF20010103,  OISO,    11,  1,     21,20010115,   0,-56.5200,  63.0000, 4788,     52.2,   1.9830,  33.9580,2,  33.9580,2,    330.3,2,    332.4,2,    26.00,2,    26.50,2,   2148.6,2,   2288.9,2,     0.33,2,   1.9803
  35MF20010103,  OISO,    11,  1,     20,20010115,   0,-56.5200,  63.0000, 4788,     73.8,   1.9820,  33.9580,2,-999.0000,9,    331.1,2,   -999.0,9,    25.60,2,    26.60,2,   2150.4,2,   2288.0,2,     0.36,2,   1.9782
  35MF20010103,  OISO,    11,  1,     24,20010115,   0,-56.5200,  63.0000, 4788,     75.2,   1.9850,  33.9580,2,-999.0000,9,    330.1,2,   -999.0,9,  -999.00,9,  -999.00,9,   -999.0,9,   -999.0,9,     0.36,2,   1.9812
  35MF20010103,  OISO,    11,  1,     19,20010115,   0,-56.5200,  63.0000, 4788,    102.8,   1.9730,  33.9570,2,-999.0000,9,    329.0,2,   -999.0,9,    25.60,2,    26.50,2,   2149.1,2,   2289.3,2,     0.41,2,   1.9677
  35MF20010103,  OISO,    11,  1,     18,20010115,   0,-56.5200,  63.0000, 4788,    153.4,   1.0450,  34.0480,2,-999.0000,9,    317.9,2,   -999.0,9,    37.40,2,    30.20,2,   2173.4,2,   2292.9,2,     0.08,2,   1.0382
  35MF20010103,  OISO,    11,  1,     17,20010115,   0,-56.5200,  63.0000, 4788,    201.8,   1.1010,  34.1170,2,  34.1240,2,    293.4,2,    293.9,2,    46.00,2,    30.50,2,   -999.0,9,   -999.0,9,  -999.00,9,   1.0919
  35MF20010103,  OISO,    11,  1,     16,20010115,   0,-56.5200,  63.0000, 4788,    252.2,   1.4590,  34.2080,2,-999.0000,9,    255.5,2,   -999.0,9,  -999.00,9,  -999.00,9,   -999.0,9,   -999.0,9,  -999.00,9,   1.4467
  35MF20010103,  OISO,    11,  1,     15,20010115,   0,-56.5200,  63.0000, 4788,    302.2,   1.7570,  34.3120,2,-999.0000,9,    212.6,2,   -999.0,9,    60.20,2,    34.20,2,   2225.2,2,   2306.9,2,  -999.00,9,   1.7413
  35MF20010103,  OISO,    11,  1,     14,20010115,   0,-56.5200,  63.0000, 4788,    404.7,   2.0910,  34.4550,2,-999.0000,9,    180.1,2,   -999.0,9,    69.70,2,    35.20,2,   2246.5,2,   2319.0,2,  -999.00,9,   2.0684
  35MF20010103,  OISO,    11,  1,     13,20010115,   0,-56.5200,  63.0000, 4788,    506.1,   2.1420,  34.5380,2,  34.5410,2,    171.4,2,    174.2,2,    75.60,2,    35.10,2,   2252.7,2,   2324.7,2,  -999.00,9,   2.1131
  35MF20010103,  OISO,    11,  1,     12,20010115,   0,-56.5200,  63.0000, 4788,    603.6,   2.2300,  34.6010,2,-999.0000,9,    168.4,2,   -999.0,9,    77.20,2,    34.30,2,   2253.0,2,   2329.6,2,  -999.00,9,   2.1945
  35MF20010103,  OISO,    11,  1,     11,20010115,   0,-56.5200,  63.0000, 4788,    805.2,   2.1550,  34.6780,2,-999.0000,9,    175.0,2,   -999.0,9,    80.70,2,    32.70,2,   2250.0,2,   2335.5,2,  -999.00,9,   2.1067
  35MF20010103,  OISO,    11,  1,     10,20010115,   0,-56.5200,  63.0000, 4788,   1009.1,   2.1060,  34.7260,2,-999.0000,9,    184.5,2,   -999.0,9,  -999.00,9,  -999.00,9,   -999.0,9,   -999.0,9,  -999.00,9,   2.0441
  35MF20010103,  OISO,    11,  1,      9,20010115,   0,-56.5200,  63.0000, 4788,   1513.0,   1.7720,  34.7620,2,-999.0000,9,    198.5,2,   -999.0,9,    86.70,2,    29.90,2,   2239.4,2,   2345.0,2,  -999.00,9,   1.6769
  35MF20010103,  OISO,    11,  1,      8,20010115,   0,-56.5200,  63.0000, 4788,   2020.4,   1.2840,  34.7410,2,  34.7390,2,    202.9,2,    205.9,2,   100.40,2,    30.80,2,   2246.6,2,   2350.6,2,  -999.00,9,   1.1565
  35MF20010103,  OISO,    11,  1,      7,20010115,   0,-56.5200,  63.0000, 4788,   2531.0,   0.8210,  34.7130,2,-999.0000,9,    205.0,2,   -999.0,9,   113.70,2,    31.90,2,   2255.4,2,   2353.2,2,  -999.00,9,   0.6600
  35MF20010103,  OISO,    11,  1,      6,20010115,   0,-56.5200,  63.0000, 4788,   3044.1,   0.4710,  34.6930,2,  34.6920,2,    210.5,2,    212.5,2,   124.40,2,    32.40,2,   2257.6,2,   2352.7,2,  -999.00,9,   0.2730
  35MF20010103,  OISO,    11,  1,      5,20010115,   0,-56.5200,  63.0000, 4788,   3554.7,   0.2250,  34.6800,2,-999.0000,9,    219.1,2,   -999.0,9,   129.90,2,    32.80,2,   2257.8,2,   2352.8,2,  -999.00,9,  -0.0140
  35MF20010103,  OISO,    11,  1,      4,20010115,   0,-56.5200,  63.0000, 4788,   4064.9,   0.0330,  34.6710,2,-999.0000,9,    229.3,2,    229.6,2,   132.40,2,    32.60,2,   2253.9,2,   2351.3,2,  -999.00,9,  -0.2506
  35MF20010103,  OISO,    11,  1,      3,20010115,   0,-56.5200,  63.0000, 4788,   4579.0,  -0.1010,  34.6650,2,  34.6700,2,    239.3,2,    234.6,2,   136.50,2,    32.70,2,   2253.3,2,   2351.9,2,  -999.00,9,  -0.4341
  35MF20010103,  OISO,    11,  1,      2,20010115,   0,-56.5200,  63.0000, 4788,   4776.1,  -0.1380,  34.6640,2,-999.0000,9,    243.9,2,   -999.0,9,   140.30,2,    32.90,2,   2250.9,2,   2350.7,2,  -999.00,9,  -0.4912
  35MF20010103,  OISO,    11,  1,      1,20010115,   0,-56.5200,  63.0000, 4788,   4777.8,  -0.1380,  34.6640,2,  34.6640,2,    244.0,2,    236.4,2,   138.40,2,    32.60,2,   2252.6,2,   2352.2,2,  -999.00,9,  -0.4914
  35MF20010103,  OISO,    12,  1,     20,20010111,   0,-47.0000,  72.0300, 2544,      3.3,   5.7530,  33.7480,2,-999.0000,9,    328.3,2,   -999.0,9,  -999.00,9,  -999.00,9,   -999.0,9,   -999.0,9,  -999.00,9,   5.7527
  35MF20010103,  OISO,    12,  1,     19,20010111,   0,-47.0000,  72.0300, 2544,      3.8,   5.7550,  33.7480,2,  33.7440,2,    327.4,2,    327.9,2,     9.30,2,    22.20,2,   2095.2,2,   2269.8,2,     2.17,2,   5.7547
  35MF20010103,  OISO,    12,  1,     18,20010111,   0,-47.0000,  72.0300, 2544,     10.5,   5.7570,  33.7480,2,-999.0000,9,    329.4,2,   -999.0,9,     9.10,2,    21.90,2,   2091.5,2,   2269.4,2,     2.17,2,   5.7562
  35MF20010103,  OISO,    12,  1,     24,20010111,   0,-47.0000,  72.0300, 2544,     11.2,   5.7490,  33.7480,2,-999.0000,9,    328.6,2,   -999.0,9,  -999.00,9,  -999.00,9,   -999.0,9,   -999.0,9,  -999.00,9,   5.7481
  35MF20010103,  OISO,    12,  1,     22,20010111,   0,-47.0000,  72.0300, 2544,     20.3,   5.6720,  33.7500,2,-999.0000,9,    324.4,2,   -999.0,9,  -999.00,9,  -999.00,9,   -999.0,9,   -999.0,9,  -999.00,9,   5.6704
  35MF20010103,  OISO,    12,  1,     17,20010111,   0,-47.0000,  72.0300, 2544,     20.5,   5.6320,  33.7510,2,  33.7520,2,    322.1,2,    318.1,2,    11.50,2,    23.40,2,   2104.0,2,   2269.8,2,     1.23,2,   5.6304
  35MF20010103,  OISO,    12,  1,     16,20010111,   0,-47.0000,  72.0300, 2544,     30.6,   5.5190,  33.7510,2,-999.0000,9,    318.4,2,   -999.0,9,    11.80,2,    23.80,2,   2108.1,2,   2267.9,2,     0.77,2,   5.5166
  35MF20010103,  OISO,    12,  1,     21,20010111,   0,-47.0000,  72.0300, 2544,     30.8,   5.5230,  33.7510,2,-999.0000,9,    318.2,2,   -999.0,9,  -999.00,9,  -999.00,9,   -999.0,9,   -999.0,9,  -999.00,9,   5.5206
  35MF20010103,  OISO,    12,  1,     15,20010111,   0,-47.0000,  72.0300, 2544,     39.2,   5.4510,  33.7510,2,-999.0000,9,    317.1,2,   -999.0,9,    12.20,2,    23.80,2,   2107.3,2,   2267.1,2,     0.82,2,   5.4479
  35MF20010103,  OISO,    12,  1,     14,20010111,   0,-47.0000,  72.0300, 2544,     51.2,   5.3860,  33.7510,2,  33.7420,2,    317.8,2,    319.7,2,    12.40,2,    23.30,2,   2107.2,2,   2266.8,2,     1.35,2,   5.3820
  35MF20010103,  OISO,    12,  1,     23,20010111,   0,-47.0000,  72.0300, 2544,     73.5,   5.2740,  33.7530,2,-999.0000,9,    319.7,2,   -999.0,9,  -999.00,9,  -999.00,9,   -999.0,9,   -999.0,9,  -999.00,9,   5.2683
  35MF20010103,  OISO,    12,  1,     13,20010111,   0,-47.0000,  72.0300, 2544,     74.1,   5.2720,  33.7530,2,-999.0000,9,    319.1,2,   -999.0,9,    13.90,2,    22.70,2,   2106.8,2,   2269.5,2,     2.59,2,   5.2663
  35MF20010103,  OISO,    12,  1,     12,20010111,   0,-47.0000,  72.0300, 2544,    100.8,   4.5010,  33.7680,2,-999.0000,9,    312.3,2,   -999.0,9,    13.00,2,    24.70,2,   2123.1,2,   2268.9,2,     0.46,2,   4.4938
  35MF20010103,  OISO,    12,  1,     11,20010111,   0,-47.0000,  72.0300, 2544,    123.2,   3.8580,  33.7960,2,-999.0000,9,    314.0,2,   -999.0,9,    13.40,2,    25.30,2,   2126.6,2,   2269.4,2,     0.29,2,   3.8498
  35MF20010103,  OISO,    12,  1,     10,20010111,   0,-47.0000,  72.0300, 2544,    149.9,   3.5920,  33.8050,2,-999.0000,9,    314.6,2,   -999.0,9,  -999.00,9,  -999.00,9,   -999.0,9,   -999.0,9,  -999.00,9,   3.5823
  35MF20010103,  OISO,    12,  1,      9,20010111,   0,-47.0000,  72.0300, 2544,    200.6,   2.7800,  33.8410,2,  33.8320,2,    315.8,2,    317.5,2,    17.60,2,    27.00,2,   2136.4,2,   2272.0,2,  -999.00,9,   2.7682
  35MF20010103,  OISO,    12,  1,      8,20010111,   0,-47.0000,  72.0300, 2544,    250.6,   2.5600,  33.9030,2,-999.0000,9,    302.6,2,   -999.0,9,    20.10,2,    28.30,2,   2147.9,2,   2273.0,2,  -999.00,9,   2.5456
  35MF20010103,  OISO,    12,  1,      7,20010111,   0,-47.0000,  72.0300, 2544,    298.1,   2.4020,  34.0200,2,-999.0000,9,    273.9,2,   -999.0,9,    28.20,2,    30.60,2,   2167.9,2,   2278.6,2,  -999.00,9,   2.3851
  35MF20010103,  OISO,    12,  1,      6,20010111,   0,-47.0000,  72.0300, 2544,    401.2,   2.3550,  34.1820,2,-999.0000,9,    235.2,2,   -999.0,9,    39.00,2,    33.40,2,   2196.7,2,   2288.6,2,  -999.00,9,   2.3320
  35MF20010103,  OISO,    12,  1,      5,20010111,   0,-47.0000,  72.0300, 2544,    500.7,   2.4080,  34.3310,2,  34.3320,2,    200.6,2,    199.8,2,    50.10,2,    35.20,2,   2224.2,2,   2302.4,2,  -999.00,9,   2.3785
  35MF20010103,  OISO,    12,  1,      4,20010111,   0,-47.0000,  72.0300, 2544,    602.0,   2.4050,  34.4160,2,-999.0000,9,    186.4,2,   -999.0,9,    58.50,2,    35.60,2,   2237.0,2,   2311.2,2,  -999.00,9,   2.3690
  35MF20010103,  OISO,    12,  1,      3,20010111,   0,-47.0000,  72.0300, 2544,    799.1,   2.3400,  34.5680,2,-999.0000,9,    177.5,2,   -999.0,9,    67.90,2,    34.60,2,   2247.2,2,   2325.6,2,  -999.00,9,   2.2911
  35MF20010103,  OISO,    12,  1,      1,20010111,   0,-47.0000,  72.0300, 2544,   1004.2,   2.3100,  34.6700,2,  34.6790,2,    182.7,2,    183.3,2,    70.80,2,    32.70,2,   2246.2,2,   2332.7,2,  -999.00,9,   2.2469
  35MF20010103,  OISO,    12,  1,      2,20010111,   0,-47.0000,  72.0300, 2544,   1005.2,   2.3110,  34.6700,2,-999.0000,9,    182.7,2,   -999.0,9,    71.10,2,    33.00,2,   2244.7,2,   2333.5,2,  -999.00,9,   2.2478