BOTTLE,20230321CCHSIOENA
# dataset file replaced with file from Bob Key received on 2019-02-12
# year corrected to 2001 from 2000
# BOTTLE,20190212PRINUNIVRMK
# 5/3/07 Initialized README file 
# Data from C. Lo Monaco 1/15/07 
# Ship: Marion Dufresne 
# Cruise: OISO-06 
# Dates: 1/3-1/26/2001 
# EXPOCODE: 35MF200101003 
# Region: SW Indian Ocean 
# Chief Scientist - C.Pierre, N.Metzl 
# 11 stations 
# Hydro: Who - ; Status - final 
# 	Notes: 	only enough salinity to calibrate CTD 
# Nuts/O2: Who - ; Status - final 
# 	Notes: No phosphate 
# TCO2: Who - C.LoMonaco; Status - final 
# 	Notes: CRM? 
# TA: Who - C.LoMonaco; Status - final 
# 	Notes: CRM? 
# fCO2: Who - ; Status -  Underway only 
# Other: ChloroA 
EXPOCODE,SECT_ID,STNNBR,CASTNO,BTLNBR,DATE,TIME,LATITUDE,LONGITUDE,DEPTH,CTDPRS,CTDTMP,CTDSAL,CTDSAL_FLAG_W,SALNTY,SALNTY_FLAG_W,CTDOXY,CTDOXY_FLAG_W,OXYGEN,OXYGEN_FLAG_W,SILCAT,SILCAT_FLAG_W,NITRAT,NITRAT_FLAG_W,TCARBN,TCARBN_FLAG_W,ALKALI,ALKALI_FLAG_W,CHLORA,CHLORA_FLAG_W,THETA
,,,,,,,,,METERS,DBAR,ITS-90,PSS-78,,PSS-78,,UMOL/KG,,UMOL/KG,,UMOL/KG,,UMOL/KG,,UMOL/KG,,UMOL/KG,,UG/KG,,DEG C
  35MF20010103,  OISO,     6,  1,     20,20010122,   0,-44.9800,  51.9000, 3295,      2.4,  10.1980,  33.7040,2,-999.0000,9,    288.2,2,   -999.0,9,  -999.00,9,  -999.00,9,   -999.0,9,   -999.0,9,  -999.00,9,  10.1977
  35MF20010103,  OISO,     6,  1,     19,20010122,   0,-44.9800,  51.9000, 3295,      2.9,  10.1980,  33.7040,2,  33.6990,2,    287.4,2,    288.0,2,     1.30,2,    16.30,2,   2056.8,2,   2267.6,2,     0.25,2,  10.1977
  35MF20010103,  OISO,     6,  1,     18,20010122,   0,-44.9800,  51.9000, 3295,      8.7,  10.2010,  33.7050,2,-999.0000,9,    287.1,2,   -999.0,9,     1.40,2,    16.00,2,   2059.0,2,   2263.7,2,     0.26,2,  10.2000
  35MF20010103,  OISO,     6,  1,     17,20010122,   0,-44.9800,  51.9000, 3295,     21.5,  10.1880,  33.7060,2,  33.7060,2,    283.4,2,    285.8,2,     2.30,2,    15.90,2,   2056.4,2,   2264.3,2,     0.25,2,  10.1855
  35MF20010103,  OISO,     6,  1,     16,20010122,   0,-44.9800,  51.9000, 3295,     30.6,  10.1220,  33.6990,2,-999.0000,9,    284.5,2,   -999.0,9,     1.70,2,    15.90,2,   2055.4,2,   2265.5,2,     0.28,2,  10.1185
  35MF20010103,  OISO,     6,  1,     15,20010122,   0,-44.9800,  51.9000, 3295,     40.8,   7.4300,  33.7580,2,-999.0000,9,    315.4,2,   -999.0,9,     2.70,2,    16.70,2,   2064.4,2,   2269.2,2,     0.44,2,   7.4262
  35MF20010103,  OISO,     6,  1,     14,20010122,   0,-44.9800,  51.9000, 3295,     50.8,   6.3910,  33.7850,2,  33.8010,2,    307.6,2,    308.8,2,     2.80,2,    19.00,2,   2088.9,2,   2269.3,2,     0.45,2,   6.3866
  35MF20010103,  OISO,     6,  1,     23,20010122,   0,-44.9800,  51.9000, 3295,     74.7,   4.7650,  33.8380,2,-999.0000,9,    298.1,2,   -999.0,9,  -999.00,9,  -999.00,9,   -999.0,9,   -999.0,9,  -999.00,9,   4.7595
  35MF20010103,  OISO,     6,  1,     13,20010122,   0,-44.9800,  51.9000, 3295,     76.0,   4.7560,  33.8370,2,-999.0000,9,    297.9,2,   -999.0,9,     9.30,2,    23.80,2,   2126.5,2,   2269.1,2,     0.20,2,   4.7504
  35MF20010103,  OISO,     6,  1,     12,20010122,   0,-44.9800,  51.9000, 3295,    101.4,   3.9810,  33.8580,2,-999.0000,9,    305.1,2,   -999.0,9,    12.00,2,    24.90,2,   2137.3,2,   2270.5,2,     0.17,2,   3.9742
  35MF20010103,  OISO,     6,  1,     24,20010122,   0,-44.9800,  51.9000, 3295,    102.0,   3.9810,  33.8580,2,-999.0000,9,    305.7,2,   -999.0,9,  -999.00,9,  -999.00,9,   -999.0,9,   -999.0,9,  -999.00,9,   3.9741
  35MF20010103,  OISO,     6,  1,     11,20010122,   0,-44.9800,  51.9000, 3295,    120.8,   3.5930,  33.8540,2,-999.0000,9,    315.3,2,   -999.0,9,    15.60,2,    24.90,2,   2136.6,2,   2272.4,2,     0.11,2,   3.5852
  35MF20010103,  OISO,     6,  1,     10,20010122,   0,-44.9800,  51.9000, 3295,    147.6,   3.3420,  33.8650,2,-999.0000,9,    317.6,2,   -999.0,9,    15.70,2,    25.80,2,   2135.6,2,   2272.0,2,  -999.00,9,   3.3327
  35MF20010103,  OISO,     6,  1,      9,20010122,   0,-44.9800,  51.9000, 3295,    200.2,   3.6430,  34.0070,2,  34.0410,2,    286.7,2,    282.3,2,    18.40,2,    27.00,2,   2147.1,2,   2273.6,2,  -999.00,9,   3.6298
  35MF20010103,  OISO,     6,  1,     22,20010122,   0,-44.9800,  51.9000, 3295,    201.1,   3.6370,  34.0070,2,-999.0000,9,    286.7,2,   -999.0,9,  -999.00,9,  -999.00,9,   -999.0,9,   -999.0,9,  -999.00,9,   3.6238
  35MF20010103,  OISO,     6,  1,      8,20010122,   0,-44.9800,  51.9000, 3295,    247.7,   3.8380,  34.1110,2,-999.0000,9,    263.3,2,   -999.0,9,    18.70,2,    27.90,2,   2156.8,2,   2275.6,2,  -999.00,9,   3.8212
  35MF20010103,  OISO,     6,  1,     21,20010122,   0,-44.9800,  51.9000, 3295,    303.4,   3.5470,  34.1560,2,-999.0000,9,    255.0,2,   -999.0,9,  -999.00,9,  -999.00,9,   -999.0,9,   -999.0,9,  -999.00,9,   3.5269
  35MF20010103,  OISO,     6,  1,      7,20010122,   0,-44.9800,  51.9000, 3295,    303.6,   3.5420,  34.1570,2,-999.0000,9,    256.4,2,   -999.0,9,    21.90,2,    30.20,2,   2166.9,2,   2278.5,2,  -999.00,9,   3.5219
  35MF20010103,  OISO,     6,  1,      6,20010122,   0,-44.9800,  51.9000, 3295,    400.0,   3.0390,  34.1900,2,-999.0000,9,    245.5,2,   -999.0,9,    27.90,2,    30.70,2,   2181.8,2,   2285.1,2,  -999.00,9,   3.0138
  35MF20010103,  OISO,     6,  1,      5,20010122,   0,-44.9800,  51.9000, 3295,    499.9,   2.7930,  34.2650,2,  34.2680,2,    222.5,2,    222.1,2,    37.80,2,    32.40,2,   2201.3,2,   2294.6,2,  -999.00,9,   2.7621
  35MF20010103,  OISO,     6,  1,      4,20010122,   0,-44.9800,  51.9000, 3295,    597.1,   2.6610,  34.3260,2,-999.0000,9,    207.4,2,   -999.0,9,    46.90,2,    35.30,2,   2216.6,2,   2302.9,2,  -999.00,9,   2.6242
  35MF20010103,  OISO,     6,  1,      3,20010122,   0,-44.9800,  51.9000, 3295,    801.5,   2.6220,  34.4790,2,-999.0000,9,    181.2,2,   -999.0,9,    58.90,2,    34.00,2,   2239.3,2,   2319.8,2,  -999.00,9,   2.5712
  35MF20010103,  OISO,     6,  1,      2,20010122,   0,-44.9800,  51.9000, 3295,   1004.1,   2.5130,  34.5870,2,-999.0000,9,    176.1,2,   -999.0,9,    66.00,2,    33.30,2,   2247.7,2,   2329.2,2,  -999.00,9,   2.4485
  35MF20010103,  OISO,     6,  1,      1,20010122,   0,-44.9800,  51.9000, 3295,   1005.4,   2.5120,  34.5880,2,  34.5930,2,    176.8,2,    177.2,2,    65.60,2,    32.10,2,   2247.1,2,   2328.6,2,  -999.00,9,   2.4474
  35MF20010103,  OISO,     7,  1,     19,20010120,   0,-47.6700,  58.0000, 4479,      2.3,   7.9810,  33.7570,2,  33.7530,2,    301.8,2,    299.5,2,     3.30,2,    19.50,2,   2086.8,2,   2265.9,2,     0.41,2,   7.9808
  35MF20010103,  OISO,     7,  1,     20,20010120,   0,-47.6700,  58.0000, 4479,      2.4,   7.9810,  33.7590,2,-999.0000,9,    301.4,2,   -999.0,9,  -999.00,9,  -999.00,9,   -999.0,9,   -999.0,9,  -999.00,9,   7.9808
  35MF20010103,  OISO,     7,  1,     18,20010120,   0,-47.6700,  58.0000, 4479,     10.4,   7.9830,  33.7600,2,-999.0000,9,    298.8,2,   -999.0,9,     2.70,2,    19.60,2,   2085.6,2,   2265.4,2,  -999.00,9,   7.9820
  35MF20010103,  OISO,     7,  1,     17,20010120,   0,-47.6700,  58.0000, 4479,     20.1,   7.9850,  33.7600,2,  33.7800,2,    299.2,2,    300.0,2,     3.40,2,    19.30,2,   2086.2,2,   2266.0,2,     0.39,2,   7.9830
  35MF20010103,  OISO,     7,  1,     16,20010120,   0,-47.6700,  58.0000, 4479,     30.1,   7.9850,  33.7600,2,-999.0000,9,    298.0,2,   -999.0,9,     3.70,2,    19.20,2,   2089.6,2,   2265.4,2,     0.42,2,   7.9820
  35MF20010103,  OISO,     7,  1,     24,20010120,   0,-47.6700,  58.0000, 4479,     31.0,   7.9820,  33.7600,2,-999.0000,9,    298.0,2,   -999.0,9,  -999.00,9,  -999.00,9,   -999.0,9,   -999.0,9,  -999.00,9,   7.9790
  35MF20010103,  OISO,     7,  1,     15,20010120,   0,-47.6700,  58.0000, 4479,     41.3,   7.9680,  33.7600,2,-999.0000,9,    298.2,2,   -999.0,9,     3.20,2,    19.10,2,   2086.7,2,   2265.8,2,     0.43,2,   7.9640
  35MF20010103,  OISO,     7,  1,     14,20010120,   0,-47.6700,  58.0000, 4479,     49.9,   7.8690,  33.7570,2,  33.7550,2,    294.8,2,    299.6,2,     3.80,2,    19.30,2,   2089.8,2,   2264.2,2,     0.42,2,   7.8641
  35MF20010103,  OISO,     7,  1,     23,20010120,   0,-47.6700,  58.0000, 4479,     50.5,   7.8910,  33.7590,2,-999.0000,9,    295.7,2,   -999.0,9,  -999.00,9,  -999.00,9,   -999.0,9,   -999.0,9,  -999.00,9,   7.8861
  35MF20010103,  OISO,     7,  1,     13,20010120,   0,-47.6700,  58.0000, 4479,     72.8,   5.5100,  33.8000,2,-999.0000,9,    305.8,2,   -999.0,9,     7.40,2,    21.70,2,   2113.4,2,   2267.9,2,     0.43,2,   5.5042
  35MF20010103,  OISO,     7,  1,     12,20010120,   0,-47.6700,  58.0000, 4479,    100.3,   4.5850,  33.8540,2,-999.0000,9,    300.3,2,   -999.0,9,    10.20,2,    23.50,2,   2125.6,2,   2264.9,2,     0.20,2,   4.5777
  35MF20010103,  OISO,     7,  1,     22,20010120,   0,-47.6700,  58.0000, 4479,    102.5,   4.5510,  33.8550,2,-999.0000,9,    299.1,2,   -999.0,9,  -999.00,9,  -999.00,9,   -999.0,9,   -999.0,9,  -999.00,9,   4.5436
  35MF20010103,  OISO,     7,  1,     11,20010120,   0,-47.6700,  58.0000, 4479,    123.9,   4.1710,  33.8760,2,-999.0000,9,    301.6,2,   -999.0,9,    13.70,2,    23.80,2,   2130.7,2,   2266.7,2,     0.10,2,   4.1624
  35MF20010103,  OISO,     7,  1,     21,20010120,   0,-47.6700,  58.0000, 4479,    149.7,   3.6920,  33.8890,2,-999.0000,9,    307.0,2,   -999.0,9,  -999.00,9,  -999.00,9,   -999.0,9,   -999.0,9,  -999.00,9,   3.6822
  35MF20010103,  OISO,     7,  1,     10,20010120,   0,-47.6700,  58.0000, 4479,    152.1,   3.6840,  33.8900,2,-999.0000,9,    307.8,2,   -999.0,9,    15.70,2,    24.70,2,   2134.3,2,   2268.3,2,  -999.00,9,   3.6740
  35MF20010103,  OISO,     7,  1,      9,20010120,   0,-47.6700,  58.0000, 4479,    200.7,   3.4970,  33.9350,2,  33.9320,2,    301.1,2,    298.0,2,    17.00,2,    24.70,2,   2139.8,2,   2271.8,2,  -999.00,9,   3.4840
  35MF20010103,  OISO,     7,  1,      8,20010120,   0,-47.6700,  58.0000, 4479,    250.8,   3.2740,  33.9960,2,-999.0000,9,    290.2,2,   -999.0,9,    19.20,2,    26.10,2,   2149.8,2,   2274.0,2,  -999.00,9,   3.2581
  35MF20010103,  OISO,     7,  1,      7,20010120,   0,-47.6700,  58.0000, 4479,    299.0,   3.7720,  34.1500,2,-999.0000,9,    256.0,2,   -999.0,9,    19.70,2,    28.00,2,   2161.6,2,   2276.5,2,  -999.00,9,   3.7517
  35MF20010103,  OISO,     7,  1,      6,20010120,   0,-47.6700,  58.0000, 4479,    400.0,   3.1750,  34.1900,2,-999.0000,9,    246.8,2,   -999.0,9,    26.10,2,    29.90,2,   2179.2,2,   2283.1,2,  -999.00,9,   3.1494
  35MF20010103,  OISO,     7,  1,      5,20010120,   0,-47.6700,  58.0000, 4479,    499.5,   2.8240,  34.2380,2,-999.0000,9,    230.3,2,   -999.0,9,  -999.00,9,  -999.00,9,   -999.0,9,   -999.0,9,  -999.00,9,   2.7930
  35MF20010103,  OISO,     7,  1,      4,20010120,   0,-47.6700,  58.0000, 4479,    598.0,   2.6570,  34.3080,2,-999.0000,9,    211.8,2,   -999.0,9,    43.60,2,    33.30,2,   2212.4,2,   2299.6,2,  -999.00,9,   2.6201
  35MF20010103,  OISO,     7,  1,      3,20010120,   0,-47.6700,  58.0000, 4479,    798.8,   2.6340,  34.4640,2,-999.0000,9,    183.5,2,   -999.0,9,    57.40,2,    34.10,2,   2236.9,2,   2316.2,2,  -999.00,9,   2.5834
  35MF20010103,  OISO,     7,  1,      1,20010120,   0,-47.6700,  58.0000, 4479,   1004.4,   2.6200,  34.5910,2,  34.5800,2,    177.1,2,    176.8,2,    63.30,2,    32.90,2,   2244.5,2,   2328.4,2,  -999.00,9,   2.5546
  35MF20010103,  OISO,     7,  1,      2,20010120,   0,-47.6700,  58.0000, 4479,   1004.5,   2.6200,  34.5910,2,-999.0000,9,    177.4,2,   -999.0,9,    64.50,2,    33.60,2,   -999.0,9,   -999.0,9,  -999.00,9,   2.5546
  35MF20010103,  OISO,     9,  1,     20,20010119,   0,-48.5000,  65.0000, 2091,      0.3,   4.8170,  33.8270,2,-999.0000,9,    323.6,2,   -999.0,9,  -999.00,9,  -999.00,9,   -999.0,9,   -999.0,9,  -999.00,9,   4.8170
  35MF20010103,  OISO,     9,  1,     19,20010119,   0,-48.5000,  65.0000, 2091,      1.1,   4.8130,  33.8280,2,  33.8360,2,    324.1,2,    322.7,2,     2.80,2,    20.50,2,   2112.5,2,   2273.9,2,     0.42,2,   4.8129
  35MF20010103,  OISO,     9,  1,     18,20010119,   0,-48.5000,  65.0000, 2091,      9.6,   4.8140,  33.8280,2,-999.0000,9,    322.4,2,   -999.0,9,     2.70,2,    20.40,2,   2111.6,2,   2274.9,2,     0.41,2,   4.8133
  35MF20010103,  OISO,     9,  1,     17,20010119,   0,-48.5000,  65.0000, 2091,     20.4,   4.7990,  33.8290,2,-999.0000,9,    323.5,2,    322.6,2,     2.60,2,    20.60,2,   2113.4,2,   2274.2,2,     0.39,2,   4.7975
  35MF20010103,  OISO,     9,  1,     22,20010119,   0,-48.5000,  65.0000, 2091,     29.9,   4.8020,  33.8290,2,-999.0000,9,    321.2,2,   -999.0,9,  -999.00,9,  -999.00,9,   -999.0,9,   -999.0,9,  -999.00,9,   4.7998
  35MF20010103,  OISO,     9,  1,     16,20010119,   0,-48.5000,  65.0000, 2091,     31.1,   4.8130,  33.8280,2,-999.0000,9,    320.7,2,   -999.0,9,     3.40,2,    20.50,2,   2112.2,2,   2274.2,2,     0.42,2,   4.8107
  35MF20010103,  OISO,     9,  1,     15,20010119,   0,-48.5000,  65.0000, 2091,     40.1,   4.7960,  33.8290,2,-999.0000,9,    322.5,2,   -999.0,9,     2.90,2,    20.50,2,   2112.3,2,   2274.2,2,     0.42,2,   4.7930
  35MF20010103,  OISO,     9,  1,     23,20010119,   0,-48.5000,  65.0000, 2091,     50.8,   4.7790,  33.8290,2,-999.0000,9,    321.8,2,   -999.0,9,  -999.00,9,  -999.00,9,   -999.0,9,   -999.0,9,  -999.00,9,   4.7753
  35MF20010103,  OISO,     9,  1,     14,20010119,   0,-48.5000,  65.0000, 2091,     51.2,   4.7850,  33.8300,2,  33.8240,2,    320.5,2,    322.9,2,     3.30,2,    20.40,2,   2112.0,2,   2274.6,2,     0.42,2,   4.7812
  35MF20010103,  OISO,     9,  1,     13,20010119,   0,-48.5000,  65.0000, 2091,     74.0,   3.8900,  33.8400,2,-999.0000,9,    321.7,2,   -999.0,9,     6.60,2,    21.10,2,   2121.0,2,   2275.4,2,     0.71,2,   3.8851
  35MF20010103,  OISO,     9,  1,     12,20010119,   0,-48.5000,  65.0000, 2091,     98.9,   3.0590,  33.8620,2,-999.0000,9,    323.1,2,   -999.0,9,    14.30,2,    22.10,2,   2134.4,2,   2276.4,2,     0.16,2,   3.0531
  35MF20010103,  OISO,     9,  1,     24,20010119,   0,-48.5000,  65.0000, 2091,    100.8,   3.0600,  33.8620,2,-999.0000,9,    320.9,2,   -999.0,9,  -999.00,9,  -999.00,9,   -999.0,9,   -999.0,9,  -999.00,9,   3.0539
  35MF20010103,  OISO,     9,  1,     11,20010119,   0,-48.5000,  65.0000, 2091,    125.2,   2.6380,  33.8800,2,-999.0000,9,    322.6,2,   -999.0,9,    17.50,2,    22.90,2,   2136.4,2,   2276.3,2,     0.20,2,   2.6309
  35MF20010103,  OISO,     9,  1,     10,20010119,   0,-48.5000,  65.0000, 2091,    150.1,   2.1700,  33.9070,2,-999.0000,9,    315.8,2,   -999.0,9,    21.80,2,    24.70,2,   2147.8,2,   2275.9,2,  -999.00,9,   2.1620
  35MF20010103,  OISO,     9,  1,     21,20010119,   0,-48.5000,  65.0000, 2091,    151.4,   2.1740,  33.9060,2,-999.0000,9,    317.0,2,   -999.0,9,  -999.00,9,  -999.00,9,   -999.0,9,   -999.0,9,  -999.00,9,   2.1659
  35MF20010103,  OISO,     9,  1,      9,20010119,   0,-48.5000,  65.0000, 2091,    201.1,   2.0730,  33.9810,2,  33.9880,2,    291.8,2,    291.6,2,    28.00,2,    27.00,2,   2162.6,2,   2279.0,2,  -999.00,9,   2.0623
  35MF20010103,  OISO,     9,  1,      8,20010119,   0,-48.5000,  65.0000, 2091,    250.7,   2.1940,  34.0910,2,-999.0000,9,    260.6,2,   -999.0,9,    34.10,2,    28.50,2,   2184.0,2,   2284.8,2,  -999.00,9,   2.1803
  35MF20010103,  OISO,     9,  1,      7,20010119,   0,-48.5000,  65.0000, 2091,    300.3,   2.2570,  34.1730,2,-999.0000,9,    238.7,2,   -999.0,9,    39.80,2,    29.80,2,   2198.6,2,   2290.3,2,  -999.00,9,   2.2403
  35MF20010103,  OISO,     9,  1,      6,20010119,   0,-48.5000,  65.0000, 2091,    401.3,   2.3120,  34.2790,2,-999.0000,9,    212.8,2,   -999.0,9,    48.70,2,    31.90,2,   2217.1,2,   2299.2,2,  -999.00,9,   2.2890
  35MF20010103,  OISO,     9,  1,      5,20010119,   0,-48.5000,  65.0000, 2091,    501.9,   2.3410,  34.4020,2,  34.4080,2,    188.7,2,    189.6,2,    58.70,2,    32.50,2,   2235.8,2,   2310.3,2,  -999.00,9,   2.3116
  35MF20010103,  OISO,     9,  1,      4,20010119,   0,-48.5000,  65.0000, 2091,    599.7,   2.3340,  34.4910,2,-999.0000,9,    179.9,2,   -999.0,9,    64.80,2,    32.50,2,   2243.9,2,   2319.1,2,  -999.00,9,   2.2984
  35MF20010103,  OISO,     9,  1,      3,20010119,   0,-48.5000,  65.0000, 2091,    800.0,   2.2970,  34.6190,2,-999.0000,9,    178.0,2,   -999.0,9,    70.90,2,    31.70,2,   2248.6,2,   2330.5,2,  -999.00,9,   2.2482
  35MF20010103,  OISO,     9,  1,      2,20010119,   0,-48.5000,  65.0000, 2091,    995.4,   2.2320,  34.6920,2,-999.0000,9,    184.3,2,   -999.0,9,    73.50,2,    30.80,2,   2245.6,2,   2336.6,2,  -999.00,9,   2.1701
  35MF20010103,  OISO,     9,  1,      1,20010119,   0,-48.5000,  65.0000, 2091,    995.5,   2.2320,  34.6920,2,  34.6940,2,    184.8,2,    183.9,2,    72.70,2,    30.60,2,   2246.0,2,   2336.2,2,  -999.00,9,   2.1701