BOTTLE,20230321CCHSIOENA
EXPOCODE,SECT_ID,STNNBR,CASTNO,BTLNBR,DATE,TIME,LATITUDE,LONGITUDE,DEPTH,CTDPRS,CTDTMP,CTDSAL,CTDSAL_FLAG_W,SALNTY,SALNTY_FLAG_W,CTDOXY,CTDOXY_FLAG_W,OXYGEN,OXYGEN_FLAG_W,SILCAT,SILCAT_FLAG_W,NITRAT,NITRAT_FLAG_W,TCARBN,TCARBN_FLAG_W,ALKALI,ALKALI_FLAG_W,CHLORA,CHLORA_FLAG_W,THETA
,,,,,,,,,METERS,DBAR,ITS-90,PSS-78,,PSS-78,,UMOL/KG,,UMOL/KG,,UMOL/KG,,UMOL/KG,,UMOL/KG,,UMOL/KG,,UG/KG,,DEG C
  35MF20010103,  OISO,    16,  1,     19,20010108,   0,-35.0000,  73.4700, 4206,      1.6,  18.0390,  35.2870,2,  35.3080,2,    240.1,2,    244.5,2,     1.80,2,     1.90,2,   2049.4,2,   2320.3,2,     0.24,2,  18.0387
  35MF20010103,  OISO,    16,  1,     20,20010108,   0,-35.0000,  73.4700, 4206,      2.3,  18.0400,  35.2880,2,-999.0000,9,    236.8,2,   -999.0,9,  -999.00,9,  -999.00,9,   -999.0,9,   -999.0,9,  -999.00,9,  18.0396
  35MF20010103,  OISO,    16,  1,     18,20010108,   0,-35.0000,  73.4700, 4206,      9.4,  18.0440,  35.2890,2,-999.0000,9,    237.0,2,   -999.0,9,     1.80,2,     2.00,2,   2045.5,2,   2324.4,2,     0.23,2,  18.0424
  35MF20010103,  OISO,    16,  1,     17,20010108,   0,-35.0000,  73.4700, 4206,     19.4,  17.9120,  35.2830,2,  35.3110,2,    241.1,2,    246.2,2,     1.80,2,     1.90,2,   2045.4,2,   2321.7,2,     0.26,2,  17.9087
  35MF20010103,  OISO,    16,  1,     16,20010108,   0,-35.0000,  73.4700, 4206,     29.7,  17.2150,  35.2950,2,-999.0000,9,    250.9,2,   -999.0,9,     2.10,2,     1.60,2,   2044.5,2,   2321.3,2,     0.43,2,  17.2101
  35MF20010103,  OISO,    16,  1,     15,20010108,   0,-35.0000,  73.4700, 4206,     40.0,  15.5150,  35.2830,2,-999.0000,9,    265.6,2,   -999.0,9,     2.20,2,     2.40,2,   2056.7,2,   2320.6,2,     0.60,2,  15.5088
  35MF20010103,  OISO,    16,  1,     14,20010108,   0,-35.0000,  73.4700, 4206,     50.6,  14.0610,  35.2450,2,  35.2450,2,    269.6,2,    266.1,2,     2.10,2,     3.40,2,   2064.1,2,   2316.2,2,     0.58,2,  14.0537
  35MF20010103,  OISO,    16,  1,     23,20010108,   0,-35.0000,  73.4700, 4206,     75.4,  13.5080,  35.2640,2,-999.0000,9,    255.3,2,   -999.0,9,  -999.00,9,  -999.00,9,   -999.0,9,   -999.0,9,  -999.00,9,  13.4974
  35MF20010103,  OISO,    16,  1,     13,20010108,   0,-35.0000,  73.4700, 4206,     75.7,  13.5090,  35.2640,2,-999.0000,9,    256.1,2,   -999.0,9,     2.90,2,     5.20,2,   2078.4,2,   2318.2,2,     0.43,2,  13.4983
  35MF20010103,  OISO,    16,  1,     12,20010108,   0,-35.0000,  73.4700, 4206,    100.0,  13.4170,  35.2850,2,-999.0000,9,    251.9,2,   -999.0,9,     3.20,2,     5.60,2,   2080.3,2,   2317.1,2,     0.16,2,  13.4030
  35MF20010103,  OISO,    16,  1,     11,20010108,   0,-35.0000,  73.4700, 4206,    125.9,  13.1950,  35.2570,2,-999.0000,9,    249.6,2,   -999.0,9,     3.40,2,     6.10,2,   2083.5,2,   2315.7,2,     0.07,2,  13.1775
  35MF20010103,  OISO,    16,  1,     24,20010108,   0,-35.0000,  73.4700, 4206,    149.8,  13.0730,  35.2550,2,-999.0000,9,    243.0,2,   -999.0,9,  -999.00,9,  -999.00,9,   -999.0,9,   -999.0,9,  -999.00,9,  13.0523
  35MF20010103,  OISO,    16,  1,     10,20010108,   0,-35.0000,  73.4700, 4206,    150.1,  13.0740,  35.2540,2,-999.0000,9,    246.4,2,   -999.0,9,     3.40,2,     5.60,2,   2080.6,2,   2316.7,2,  -999.00,9,  13.0533
  35MF20010103,  OISO,    16,  1,      9,20010108,   0,-35.0000,  73.4700, 4206,    201.2,  12.6910,  35.2020,2,  35.1980,2,    246.1,2,    244.1,2,     4.00,2,     7.70,2,   2087.5,2,   2314.1,2,  -999.00,9,  12.6637
  35MF20010103,  OISO,    16,  1,      8,20010108,   0,-35.0000,  73.4700, 4206,    250.4,  12.4990,  35.1750,2,-999.0000,9,    240.9,2,   -999.0,9,     4.40,2,     8.60,2,   2093.3,2,   2311.6,2,  -999.00,9,  12.4653
  35MF20010103,  OISO,    16,  1,      7,20010108,   0,-35.0000,  73.4700, 4206,    301.1,  12.2520,  35.1320,2,-999.0000,9,    246.2,2,   -999.0,9,     4.40,2,     8.80,2,   2093.3,2,   2310.8,2,  -999.00,9,  12.2120
  35MF20010103,  OISO,    16,  1,      6,20010108,   0,-35.0000,  73.4700, 4206,    400.4,  11.8260,  35.0690,2,-999.0000,9,    237.0,2,   -999.0,9,     5.00,2,    10.50,2,   -999.0,9,   -999.0,9,  -999.00,9,  11.7738
  35MF20010103,  OISO,    16,  1,      5,20010108,   0,-35.0000,  73.4700, 4206,    500.0,  11.0740,  34.9430,2,  34.9360,2,    229.5,2,    228.5,2,     6.00,2,    12.80,2,   2108.5,2,   2302.9,2,  -999.00,9,  11.0113
  35MF20010103,  OISO,    16,  1,      4,20010108,   0,-35.0000,  73.4700, 4206,    596.5,  10.1690,  34.8150,2,-999.0000,9,    224.2,2,   -999.0,9,     7.00,2,    15.00,2,   2118.9,2,   2294.3,2,  -999.00,9,  10.0978
  35MF20010103,  OISO,    16,  1,      3,20010108,   0,-35.0000,  73.4700, 4206,    801.6,   7.8050,  34.5560,2,-999.0000,9,    203.6,2,   -999.0,9,    15.10,2,    22.70,2,   2149.9,2,   2292.2,2,  -999.00,9,   7.7224
  35MF20010103,  OISO,    16,  1,     22,20010108,   0,-35.0000,  73.4700, 4206,   1011.5,   5.1620,  34.3820,2,-999.0000,9,    206.8,2,   -999.0,9,  -999.00,9,  -999.00,9,   -999.0,9,   -999.0,9,  -999.00,9,   5.0766
  35MF20010103,  OISO,    16,  1,     21,20010108,   0,-35.0000,  73.4700, 4206,   1011.9,   5.1700,  34.3830,2,-999.0000,9,    207.8,2,   -999.0,9,  -999.00,9,  -999.00,9,   -999.0,9,   -999.0,9,  -999.00,9,   5.0845
  35MF20010103,  OISO,    16,  1,      1,20010108,   0,-35.0000,  73.4700, 4206,   1012.6,   5.1660,  34.3830,2,  34.3910,2,    207.9,2,   -999.0,9,    27.70,2,    29.20,2,   2180.8,2,   2292.8,2,  -999.00,9,   5.0804
  35MF20010103,  OISO,    16,  1,      2,20010108,   0,-35.0000,  73.4700, 4206,   1012.6,   5.1660,  34.3820,2,-999.0000,9,    208.4,2,    205.3,2,    27.90,2,    28.90,2,   2185.4,2,   2299.9,2,  -999.00,9,   5.0805
  35MF20010103,  OISO,    17,  1,     24,20010106,   0,-30.0000,  66.4200, 4476,      2.2,  22.5660,  35.8540,2,  35.8400,2,    212.0,2,    221.8,2,     1.90,2,     0.30,2,   2051.9,2,   2352.1,2,     0.04,2,  22.5656
  35MF20010103,  OISO,    17,  1,     23,20010106,   0,-30.0000,  66.4200, 4476,     11.7,  21.6560,  35.8250,2,-999.0000,9,    215.6,2,   -999.0,9,     1.90,2,     0.30,2,   2054.3,2,   2351.2,2,     0.04,2,  21.6537
  35MF20010103,  OISO,    17,  1,     22,20010106,   0,-30.0000,  66.4200, 4476,     29.0,  20.9220,  35.7930,2,-999.0000,9,    221.9,2,   -999.0,9,     1.90,2,     0.30,2,   2057.3,2,   2346.9,2,     0.06,2,  20.9165
  35MF20010103,  OISO,    17,  1,     21,20010106,   0,-30.0000,  66.4200, 4476,     51.7,  17.2950,  35.6420,2,  35.6430,2,    257.7,2,    258.6,2,     2.00,2,     0.30,2,   2045.2,2,   2338.4,2,     0.09,2,  17.2864
  35MF20010103,  OISO,    17,  1,     20,20010106,   0,-30.0000,  66.4200, 4476,     71.6,  16.3870,  35.6070,2,-999.0000,9,    257.4,2,   -999.0,9,     1.90,2,     0.30,2,   2052.9,2,   2336.4,2,     0.19,2,  16.3755
  35MF20010103,  OISO,    17,  1,     19,20010106,   0,-30.0000,  66.4200, 4476,     99.4,  15.2990,  35.5350,2,-999.0000,9,    234.5,2,   -999.0,9,     2.40,2,     2.60,2,   2083.6,2,   2340.9,2,     0.61,2,  15.2837
  35MF20010103,  OISO,    17,  1,     18,20010106,   0,-30.0000,  66.4200, 4476,    150.4,  14.5030,  35.4440,2,-999.0000,9,    234.3,2,   -999.0,9,     2.70,2,     4.30,2,   2080.7,2,   2326.3,2,     0.15,2,  14.4807
  35MF20010103,  OISO,    17,  1,     17,20010106,   0,-30.0000,  66.4200, 4476,    201.7,  13.7720,  35.3490,2,  35.3430,2,    232.9,2,    231.6,2,     3.60,2,     6.30,2,   2086.8,2,   2318.9,2,     0.01,2,  13.7431
  35MF20010103,  OISO,    17,  1,     16,20010106,   0,-30.0000,  66.4200, 4476,    251.6,  13.2340,  35.2820,2,-999.0000,9,    232.0,2,   -999.0,9,     4.10,2,     8.00,2,   2091.6,2,   2316.5,2,     0.01,2,  13.1988
  35MF20010103,  OISO,    17,  1,     15,20010106,   0,-30.0000,  66.4200, 4476,    303.3,  12.9120,  35.2420,2,-999.0000,9,    235.0,2,   -999.0,9,     4.20,2,     8.60,2,   2098.7,2,   2318.5,2,  -999.00,9,  12.8702
  35MF20010103,  OISO,    17,  1,     14,20010106,   0,-30.0000,  66.4200, 4476,    401.5,  12.3900,  35.1610,2,-999.0000,9,    237.3,2,   -999.0,9,     4.40,2,     9.60,2,   2095.8,2,   2311.5,2,  -999.00,9,  12.3360
  35MF20010103,  OISO,    17,  1,     13,20010106,   0,-30.0000,  66.4200, 4476,    498.9,  11.7330,  35.0540,2,  35.0500,2,    234.3,2,    233.5,2,     5.20,2,    11.00,2,   2104.1,2,   2305.6,2,  -999.00,9,  11.6680
  35MF20010103,  OISO,    17,  1,     12,20010106,   0,-30.0000,  66.4200, 4476,    750.8,   9.0760,  34.6840,2,-999.0000,9,    215.6,2,   -999.0,9,    10.50,2,    19.20,2,   2134.4,2,   2290.8,2,  -999.00,9,   8.9918
  35MF20010103,  OISO,    17,  1,     11,20010106,   0,-30.0000,  66.4200, 4476,   1000.0,   5.6300,  34.4030,2,  34.4210,2,    207.4,2,    205.7,2,    25.50,2,    28.30,2,   2174.4,2,   2290.6,2,  -999.00,9,   5.5420
  35MF20010103,  OISO,    17,  1,     10,20010106,   0,-30.0000,  66.4200, 4476,   1249.2,   3.7530,  34.4270,2,-999.0000,9,    184.0,2,   -999.0,9,  -999.00,9,  -999.00,9,   -999.0,9,   -999.0,9,  -999.00,9,   3.6587
  35MF20010103,  OISO,    17,  1,      9,20010106,   0,-30.0000,  66.4200, 4476,   1504.0,   2.9920,  34.5450,2,-999.0000,9,    171.0,2,   -999.0,9,    69.10,2,    34.10,2,   2247.4,2,   2331.4,2,  -999.00,9,   2.8840
  35MF20010103,  OISO,    17,  1,      8,20010106,   0,-30.0000,  66.4200, 4476,   1752.0,   2.5980,  34.6480,2,-999.0000,9,    174.7,2,   -999.0,9,    82.40,2,    33.20,2,   2255.5,2,   2345.9,2,  -999.00,9,   2.4738
  35MF20010103,  OISO,    17,  1,      7,20010106,   0,-30.0000,  66.4200, 4476,   2012.6,   2.3390,  34.7010,2,  34.7160,2,    177.2,2,    177.2,2,    93.60,2,    32.60,2,   2263.0,2,   2356.9,2,  -999.00,9,   2.1960
  35MF20010103,  OISO,    17,  1,      6,20010106,   0,-30.0000,  66.4200, 4476,   2499.7,   2.0260,  34.7330,2,-999.0000,9,    177.0,2,   -999.0,9,   111.50,2,    33.10,2,   2275.1,2,   2373.9,2,  -999.00,9,   1.8449
  35MF20010103,  OISO,    17,  1,      5,20010106,   0,-30.0000,  66.4200, 4476,   3001.6,   1.7630,  34.7350,2,-999.0000,9,    180.3,2,   -999.0,9,  -999.00,9,  -999.00,9,   -999.0,9,   -999.0,9,  -999.00,9,   1.5399
  35MF20010103,  OISO,    17,  1,      4,20010106,   0,-30.0000,  66.4200, 4476,   3501.1,   1.4670,  34.7270,2,  34.7410,2,    190.1,2,   -999.0,9,   124.90,2,    33.30,2,   2280.4,2,   2379.8,2,  -999.00,9,   1.2012
  35MF20010103,  OISO,    17,  1,      3,20010106,   0,-30.0000,  66.4200, 4476,   3996.3,   0.8650,  34.7060,2,  34.7060,2,    212.5,2,    205.5,2,   131.20,2,    33.00,2,   2267.0,2,   2365.6,2,  -999.00,9,   0.5643
  35MF20010103,  OISO,    17,  1,      1,20010106,   0,-30.0000,  66.4200, 4476,   4250.2,   0.7420,  34.7010,2,-999.0000,9,    219.5,2,   -999.0,9,  -999.00,9,  -999.00,9,   -999.0,9,   -999.0,9,  -999.00,9,   0.4179
  35MF20010103,  OISO,    17,  1,      2,20010106,   0,-30.0000,  66.4200, 4476,   4250.5,   0.7420,  34.7010,2,-999.0000,9,    219.6,2,   -999.0,9,  -999.00,9,  -999.00,9,   -999.0,9,   -999.0,9,  -999.00,9,   0.4178