BOTTLE,20230321CCHSIOENA
EXPOCODE,SECT_ID,STNNBR,CASTNO,BTLNBR,DATE,TIME,LATITUDE,LONGITUDE,DEPTH,CTDPRS,CTDTMP,CTDSAL,CTDSAL_FLAG_W,SALNTY,SALNTY_FLAG_W,CTDOXY,CTDOXY_FLAG_W,OXYGEN,OXYGEN_FLAG_W,SILCAT,SILCAT_FLAG_W,NITRAT,NITRAT_FLAG_W,TCARBN,TCARBN_FLAG_W,ALKALI,ALKALI_FLAG_W,CHLORA,CHLORA_FLAG_W,THETA
,,,,,,,,,METERS,DBAR,ITS-90,PSS-78,,PSS-78,,UMOL/KG,,UMOL/KG,,UMOL/KG,,UMOL/KG,,UMOL/KG,,UMOL/KG,,UG/KG,,DEG C
  35MF20010103,  OISO,    13,  1,     19,20010111,   0,-45.0000,  73.3500, 3591,      2.3,  12.4600,  34.9010,2,  34.8980,2,    268.2,2,    268.4,2,     1.90,2,     6.70,2,   2062.9,2,   2302.7,2,     0.82,2,  12.4597
  35MF20010103,  OISO,    13,  1,     20,20010111,   0,-45.0000,  73.3500, 3591,      2.8,  12.4600,  34.9010,2,-999.0000,9,    266.7,2,   -999.0,9,  -999.00,9,  -999.00,9,   -999.0,9,   -999.0,9,  -999.00,9,  12.4596
  35MF20010103,  OISO,    13,  1,     18,20010111,   0,-45.0000,  73.3500, 3591,      9.4,  12.4450,  34.9000,2,-999.0000,9,    267.0,2,   -999.0,9,     1.40,2,     6.70,2,   -999.0,9,   -999.0,9,     0.82,2,  12.4438
  35MF20010103,  OISO,    13,  1,     17,20010111,   0,-45.0000,  73.3500, 3591,     19.9,  12.4290,  34.8980,2,  34.9040,2,    269.0,2,    266.8,2,     1.30,2,     6.80,2,   2063.1,2,   2302.5,2,     0.80,2,  12.4264
  35MF20010103,  OISO,    13,  1,     23,20010111,   0,-45.0000,  73.3500, 3591,     21.2,  12.4350,  34.8990,2,-999.0000,9,    270.0,2,   -999.0,9,  -999.00,9,  -999.00,9,   -999.0,9,   -999.0,9,  -999.00,9,  12.4322
  35MF20010103,  OISO,    13,  1,     16,20010111,   0,-45.0000,  73.3500, 3591,     30.2,  12.4150,  34.8960,2,-999.0000,9,    268.0,2,   -999.0,9,  -999.00,9,  -999.00,9,   -999.0,9,   -999.0,9,  -999.00,9,  12.4110
  35MF20010103,  OISO,    13,  1,     15,20010111,   0,-45.0000,  73.3500, 3591,     40.1,  12.3500,  34.8900,2,-999.0000,9,    266.9,2,   -999.0,9,     1.30,2,     7.10,2,   2066.9,2,   2301.3,2,     0.82,2,  12.3447
  35MF20010103,  OISO,    13,  1,     14,20010111,   0,-45.0000,  73.3500, 3591,     50.5,  12.1840,  34.8640,2,  34.8550,2,    263.0,2,    263.2,2,     1.60,2,     7.70,2,   2068.9,2,   2300.7,2,     0.65,2,  12.1774
  35MF20010103,  OISO,    13,  1,     13,20010111,   0,-45.0000,  73.3500, 3591,     75.4,  12.0760,  34.8460,2,-999.0000,9,    263.0,2,   -999.0,9,     2.00,2,     8.00,2,   2071.3,2,   2299.6,2,     0.55,2,  12.0662
  35MF20010103,  OISO,    13,  1,     12,20010111,   0,-45.0000,  73.3500, 3591,    101.2,  12.1440,  34.8650,2,-999.0000,9,    262.9,2,   -999.0,9,     2.00,2,     7.80,2,   2070.0,2,   2300.4,2,     0.57,2,  12.1308
  35MF20010103,  OISO,    13,  1,     24,20010111,   0,-45.0000,  73.3500, 3591,    123.8,  12.0890,  34.8570,2,-999.0000,9,    262.3,2,   -999.0,9,     1.70,2,     8.10,2,   -999.0,9,   -999.0,9,     0.40,2,  12.0728
  35MF20010103,  OISO,    13,  1,     10,20010111,   0,-45.0000,  73.3500, 3591,    149.8,  12.1000,  34.8770,2,-999.0000,9,    259.3,2,   -999.0,9,     2.10,2,     8.50,2,   2074.3,2,   2299.5,2,  -999.00,9,  12.0804
  35MF20010103,  OISO,    13,  1,     11,20010111,   0,-45.0000,  73.3500, 3591,    150.3,  12.1020,  34.8770,2,-999.0000,9,    259.4,2,   -999.0,9,  -999.00,9,  -999.00,9,   2072.6,2,   2296.8,2,  -999.00,9,  12.0823
  35MF20010103,  OISO,    13,  1,      9,20010111,   0,-45.0000,  73.3500, 3591,    199.7,  11.9540,  34.9330,2,  34.9250,2,    249.7,2,    251.7,2,     3.50,2,     9.70,2,   2081.9,2,   2300.6,2,  -999.00,9,  11.9280
  35MF20010103,  OISO,    13,  1,      8,20010111,   0,-45.0000,  73.3500, 3591,    250.3,  11.4440,  34.9040,2,-999.0000,9,    247.0,2,   -999.0,9,     4.50,2,    11.10,2,   2093.2,2,   2299.8,2,  -999.00,9,  11.4123
  35MF20010103,  OISO,    13,  1,      7,20010111,   0,-45.0000,  73.3500, 3591,    300.7,  11.3410,  34.9130,2,-999.0000,9,    245.8,2,   -999.0,9,     4.80,2,    11.60,2,   2094.6,2,   2299.2,2,  -999.00,9,  11.3030
  35MF20010103,  OISO,    13,  1,      6,20010111,   0,-45.0000,  73.3500, 3591,    399.9,  10.7310,  34.8650,2,-999.0000,9,    263.8,2,   -999.0,9,     4.90,2,    11.60,2,   2092.9,2,   2297.4,2,  -999.00,9,  10.6821
  35MF20010103,  OISO,    13,  1,      5,20010111,   0,-45.0000,  73.3500, 3591,    499.1,   9.6630,  34.7130,2,  34.7060,2,    221.9,2,    224.8,2,     8.10,2,    16.80,2,   2122.4,2,   2289.7,2,  -999.00,9,   9.6056
  35MF20010103,  OISO,    13,  1,     22,20010111,   0,-45.0000,  73.3500, 3591,    595.2,   8.6350,  34.6170,2,-999.0000,9,    213.2,2,   -999.0,9,  -999.00,9,  -999.00,9,   -999.0,9,   -999.0,9,  -999.00,9,   8.5708
  35MF20010103,  OISO,    13,  1,     21,20010111,   0,-45.0000,  73.3500, 3591,    596.3,   8.6320,  34.6170,2,-999.0000,9,    212.4,2,   -999.0,9,  -999.00,9,  -999.00,9,   -999.0,9,   -999.0,9,  -999.00,9,   8.5677
  35MF20010103,  OISO,    13,  1,      4,20010111,   0,-45.0000,  73.3500, 3591,    599.0,   8.6040,  34.6080,2,-999.0000,9,    210.3,2,   -999.0,9,    11.60,2,    20.60,2,   2137.1,2,   2287.6,2,  -999.00,9,   8.5395
  35MF20010103,  OISO,    13,  1,      3,20010111,   0,-45.0000,  73.3500, 3591,    799.8,   5.7750,  34.3990,2,-999.0000,9,    211.8,2,   -999.0,9,    21.50,2,    27.70,2,   2168.3,2,   2287.4,2,  -999.00,9,   5.7049
  35MF20010103,  OISO,    13,  1,      2,20010111,   0,-45.0000,  73.3500, 3591,   1007.5,   4.3380,  34.3600,2,-999.0000,9,    212.8,2,   -999.0,9,    31.70,2,    30.80,2,   2190.1,2,   2294.2,2,  -999.00,9,   4.2593
  35MF20010103,  OISO,    13,  1,      1,20010111,   0,-45.0000,  73.3500, 3591,   1007.6,   4.3350,  34.3590,2,  34.3650,2,    212.8,2,    209.6,2,    31.20,2,    30.70,2,   2191.0,2,   2294.9,2,  -999.00,9,   4.2563
  35MF20010103,  OISO,    14,  1,     20,20010110,   0,-42.4700,  74.9000, 3413,      3.2,  12.3040,  34.5760,2,-999.0000,9,    276.3,2,   -999.0,9,  -999.00,9,  -999.00,9,   -999.0,9,   -999.0,9,  -999.00,9,  12.3036
  35MF20010103,  OISO,    14,  1,     19,20010110,   0,-42.4700,  74.9000, 3413,      4.7,  12.3120,  34.5760,2,  34.5700,2,    276.0,2,    277.0,2,     1.20,2,     8.20,2,   2061.1,2,   2288.5,2,     0.66,2,  12.3114
  35MF20010103,  OISO,    14,  1,     18,20010110,   0,-42.4700,  74.9000, 3413,      9.2,  12.2260,  34.5760,2,-999.0000,9,    277.8,2,   -999.0,9,     1.10,2,     8.10,2,   2064.0,2,   2293.2,2,     0.69,2,  12.2248
  35MF20010103,  OISO,    14,  1,     17,20010110,   0,-42.4700,  74.9000, 3413,     21.5,  11.9640,  34.5830,2,  34.5840,2,    278.1,2,    277.8,2,     1.20,2,     8.20,2,   2063.0,2,   2293.7,2,     0.83,2,  11.9612
  35MF20010103,  OISO,    14,  1,     22,20010110,   0,-42.4700,  74.9000, 3413,     26.3,  11.7800,  34.5820,2,-999.0000,9,    274.2,2,   -999.0,9,  -999.00,9,  -999.00,9,   -999.0,9,   -999.0,9,  -999.00,9,  11.7766
  35MF20010103,  OISO,    14,  1,     21,20010110,   0,-42.4700,  74.9000, 3413,     30.6,  11.7720,  34.5830,2,-999.0000,9,    277.2,2,   -999.0,9,  -999.00,9,  -999.00,9,   -999.0,9,   -999.0,9,  -999.00,9,  11.7681
  35MF20010103,  OISO,    14,  1,     16,20010110,   0,-42.4700,  74.9000, 3413,     30.7,  11.7690,  34.5820,2,-999.0000,9,    275.2,2,   -999.0,9,     1.60,2,     8.70,2,   2061.6,2,   2294.2,2,     0.94,2,  11.7651
  35MF20010103,  OISO,    14,  1,     23,20010110,   0,-42.4700,  74.9000, 3413,     32.1,  11.7700,  34.5820,2,-999.0000,9,    276.8,2,   -999.0,9,  -999.00,9,  -999.00,9,   -999.0,9,   -999.0,9,  -999.00,9,  11.7659
  35MF20010103,  OISO,    14,  1,     24,20010110,   0,-42.4700,  74.9000, 3413,     32.1,  11.7690,  34.5830,2,-999.0000,9,    275.6,2,   -999.0,9,  -999.00,9,  -999.00,9,   -999.0,9,   -999.0,9,  -999.00,9,  11.7649
  35MF20010103,  OISO,    14,  1,     15,20010110,   0,-42.4700,  74.9000, 3413,     42.9,  11.7490,  34.5830,2,-999.0000,9,    272.8,2,   -999.0,9,     1.50,2,     8.80,2,   2068.3,2,   2294.9,2,     0.89,2,  11.7435
  35MF20010103,  OISO,    14,  1,     14,20010110,   0,-42.4700,  74.9000, 3413,     49.4,  11.7420,  34.5830,2,  34.5860,2,    270.4,2,    270.9,2,     1.70,2,     9.00,2,   2070.6,2,   2294.3,2,     0.81,2,  11.7357
  35MF20010103,  OISO,    14,  1,     13,20010110,   0,-42.4700,  74.9000, 3413,     77.6,  11.5660,  34.6680,2,-999.0000,9,    267.6,2,   -999.0,9,     2.00,2,     9.30,2,   2080.5,2,   2299.2,2,     0.48,2,  11.5562
  35MF20010103,  OISO,    14,  1,     12,20010110,   0,-42.4700,  74.9000, 3413,    102.3,  11.4910,  34.8220,2,-999.0000,9,    265.3,2,   -999.0,9,     2.90,2,     9.60,2,   2086.0,2,   2305.2,2,     0.25,2,  11.4781
  35MF20010103,  OISO,    14,  1,     11,20010110,   0,-42.4700,  74.9000, 3413,    126.8,  11.2930,  34.8550,2,-999.0000,9,    261.3,2,   -999.0,9,     3.20,2,    10.40,2,   2093.0,2,   2303.1,2,     0.19,2,  11.2772
  35MF20010103,  OISO,    14,  1,     10,20010110,   0,-42.4700,  74.9000, 3413,    151.6,  11.2050,  34.8950,2,-999.0000,9,    259.9,2,   -999.0,9,     3.70,2,    11.00,2,   2088.8,2,   2301.3,2,  -999.00,9,  11.1861
  35MF20010103,  OISO,    14,  1,      9,20010110,   0,-42.4700,  74.9000, 3413,    200.1,  11.1510,  34.9250,2,  34.9470,2,    262.9,2,    261.3,2,     4.00,2,    10.80,2,   2092.5,2,   2303.6,2,  -999.00,9,  11.1261
  35MF20010103,  OISO,    14,  1,      8,20010110,   0,-42.4700,  74.9000, 3413,    251.4,  11.0270,  34.9300,2,-999.0000,9,    260.1,2,   -999.0,9,     4.30,2,    11.20,2,   2094.8,2,   2302.2,2,  -999.00,9,  10.9959
  35MF20010103,  OISO,    14,  1,      7,20010110,   0,-42.4700,  74.9000, 3413,    304.0,  11.1980,  34.9890,2,-999.0000,9,    255.6,2,   -999.0,9,     4.40,2,    10.70,2,   2089.4,2,   2301.3,2,  -999.00,9,  11.1599
  35MF20010103,  OISO,    14,  1,      6,20010110,   0,-42.4700,  74.9000, 3413,    397.8,  11.2440,  35.0040,2,-999.0000,9,    258.3,2,   -999.0,9,     4.50,2,    10.60,2,   2090.2,2,   2303.2,2,  -999.00,9,  11.1938
  35MF20010103,  OISO,    14,  1,      5,20010110,   0,-42.4700,  74.9000, 3413,    500.8,  10.9950,  34.9460,2,  34.9570,2,    257.1,2,    257.1,2,     4.90,2,    11.20,2,   2091.2,2,   2300.6,2,  -999.00,9,  10.9324
  35MF20010103,  OISO,    14,  1,      4,20010110,   0,-42.4700,  74.9000, 3413,    601.9,   9.4070,  34.7000,2,-999.0000,9,    217.3,2,   -999.0,9,     9.00,2,    17.70,2,   2124.6,2,   2290.2,2,  -999.00,9,   9.3386
  35MF20010103,  OISO,    14,  1,      3,20010110,   0,-42.4700,  74.9000, 3413,    797.3,   6.6460,  34.4540,2,-999.0000,9,    206.3,2,   -999.0,9,    18.70,2,    25.40,2,   2158.5,2,   2285.1,2,  -999.00,9,   6.5709
  35MF20010103,  OISO,    14,  1,      1,20010110,   0,-42.4700,  74.9000, 3413,   1006.6,   4.6640,  34.3490,2,  34.3400,2,    214.4,2,    214.6,2,    27.30,2,    29.50,2,   2180.3,2,   2290.1,2,  -999.00,9,   4.5829
  35MF20010103,  OISO,    14,  1,      2,20010110,   0,-42.4700,  74.9000, 3413,   1007.9,   4.6600,  34.3470,2,-999.0000,9,    214.7,2,   -999.0,9,    27.70,2,    29.50,2,   2180.5,2,   2290.5,2,  -999.00,9,   4.5788
  35MF20010103,  OISO,    15,  1,     19,20010109,   0,-40.0000,  76.4200, 3326,      2.4,  14.9540,  35.1010,2,  35.1110,2,    256.9,2,    258.3,2,     1.70,2,     3.90,2,   2053.3,2,   2311.6,2,     0.21,2,  14.9536
  35MF20010103,  OISO,    15,  1,     20,20010109,   0,-40.0000,  76.4200, 3326,      2.4,  14.9540,  35.1010,2,-999.0000,9,    255.0,2,   -999.0,9,  -999.00,9,  -999.00,9,   -999.0,9,   -999.0,9,  -999.00,9,  14.9536
  35MF20010103,  OISO,    15,  1,     22,20010109,   0,-40.0000,  76.4200, 3326,      9.8,  14.9540,  35.1010,2,-999.0000,9,    255.6,2,   -999.0,9,  -999.00,9,  -999.00,9,   -999.0,9,   -999.0,9,  -999.00,9,  14.9525
  35MF20010103,  OISO,    15,  1,     24,20010109,   0,-40.0000,  76.4200, 3326,      9.9,  14.9540,  35.1010,2,-999.0000,9,    257.4,2,   -999.0,9,  -999.00,9,  -999.00,9,   -999.0,9,   -999.0,9,  -999.00,9,  14.9525
  35MF20010103,  OISO,    15,  1,     21,20010109,   0,-40.0000,  76.4200, 3326,     10.0,  14.9570,  35.1010,2,-999.0000,9,    257.6,2,   -999.0,9,  -999.00,9,  -999.00,9,   -999.0,9,   -999.0,9,  -999.00,9,  14.9555
  35MF20010103,  OISO,    15,  1,     18,20010109,   0,-40.0000,  76.4200, 3326,     10.2,  14.9510,  35.1010,2,-999.0000,9,    256.1,2,   -999.0,9,     1.90,2,     3.80,2,   2047.6,2,   2310.9,2,     0.47,2,  14.9495
  35MF20010103,  OISO,    15,  1,     17,20010109,   0,-40.0000,  76.4200, 3326,     20.3,  14.8080,  35.0950,2,  35.0920,2,    257.3,2,    259.4,2,     2.30,2,     4.00,2,   2046.5,2,   2310.6,2,     0.56,2,  14.8050
  35MF20010103,  OISO,    15,  1,     16,20010109,   0,-40.0000,  76.4200, 3326,     30.5,  14.4710,  35.0920,2,-999.0000,9,    259.1,2,   -999.0,9,     2.50,2,     4.40,2,   2054.5,2,   2310.2,2,     0.64,2,  14.4665
  35MF20010103,  OISO,    15,  1,     15,20010109,   0,-40.0000,  76.4200, 3326,     40.3,  14.4350,  35.0860,2,-999.0000,9,    259.6,2,   -999.0,9,     1.90,2,     4.50,2,   2055.4,2,   2310.3,2,  -999.00,9,  14.4291
  35MF20010103,  OISO,    15,  1,     14,20010109,   0,-40.0000,  76.4200, 3326,     50.8,  14.1230,  35.0840,2,  35.0840,2,    256.2,2,    257.8,2,     2.00,2,     4.80,2,   2060.2,2,   2309.2,2,     0.53,2,  14.1156
  35MF20010103,  OISO,    15,  1,     23,20010109,   0,-40.0000,  76.4200, 3326,     51.0,  14.1100,  35.0860,2,-999.0000,9,    257.0,2,   -999.0,9,  -999.00,9,  -999.00,9,   -999.0,9,   -999.0,9,  -999.00,9,  14.1026
  35MF20010103,  OISO,    15,  1,     13,20010109,   0,-40.0000,  76.4200, 3326,     73.4,  13.5370,  35.1120,2,-999.0000,9,    255.9,2,   -999.0,9,     3.10,2,     6.10,2,   2071.2,2,   2309.8,2,     0.34,2,  13.5267
  35MF20010103,  OISO,    15,  1,     12,20010109,   0,-40.0000,  76.4200, 3326,    102.0,  12.1550,  35.0650,2,-999.0000,9,    259.8,2,   -999.0,9,     4.10,2,    10.00,2,   2087.5,2,   2305.6,2,     0.18,2,  12.1416
  35MF20010103,  OISO,    15,  1,     11,20010109,   0,-40.0000,  76.4200, 3326,    125.7,  12.1250,  35.0810,2,-999.0000,9,    257.8,2,   -999.0,9,     4.20,2,     9.30,2,   2085.8,2,   2306.4,2,     0.10,2,  12.1085
  35MF20010103,  OISO,    15,  1,     10,20010109,   0,-40.0000,  76.4200, 3326,    149.3,  12.0950,  35.0960,2,-999.0000,9,    257.4,2,   -999.0,9,     4.20,2,     9.00,2,   2087.9,2,   2306.5,2,  -999.00,9,  12.0754
  35MF20010103,  OISO,    15,  1,      9,20010109,   0,-40.0000,  76.4200, 3326,    199.2,  12.0740,  35.1050,2,  35.1030,2,    257.7,2,    252.3,2,     4.30,2,     9.00,2,   2086.9,2,   2307.3,2,  -999.00,9,  12.0479
  35MF20010103,  OISO,    15,  1,      8,20010109,   0,-40.0000,  76.4200, 3326,    248.2,  11.9060,  35.0760,2,-999.0000,9,    253.7,2,   -999.0,9,     4.40,2,     9.50,2,   2087.1,2,   2305.1,2,  -999.00,9,  11.8737
  35MF20010103,  OISO,    15,  1,      7,20010109,   0,-40.0000,  76.4200, 3326,    299.5,  11.7140,  35.0420,2,-999.0000,9,    253.7,2,   -999.0,9,     4.60,2,    10.00,2,   2089.2,2,   2304.9,2,  -999.00,9,  11.6753
  35MF20010103,  OISO,    15,  1,      6,20010109,   0,-40.0000,  76.4200, 3326,    396.9,  11.0270,  34.9150,2,-999.0000,9,    246.8,2,   -999.0,9,     5.20,2,    12.10,2,   2099.0,2,   2300.9,2,  -999.00,9,  10.9776
  35MF20010103,  OISO,    15,  1,      4,20010109,   0,-40.0000,  76.4200, 3326,    498.3,  10.3260,  34.8170,2,  34.8140,2,    224.6,2,    227.7,2,     7.10,2,    15.20,2,   2119.2,2,   2298.9,2,  -999.00,9,  10.2662
  35MF20010103,  OISO,    15,  1,      5,20010109,   0,-40.0000,  76.4200, 3326,    599.4,   9.4160,  34.7110,2,-999.0000,9,    211.3,2,   -999.0,9,     9.60,2,    18.30,2,   2132.5,2,   2295.6,2,  -999.00,9,   9.3478
  35MF20010103,  OISO,    15,  1,      3,20010109,   0,-40.0000,  76.4200, 3326,    800.4,   6.9200,  34.4860,2,-999.0000,9,    203.0,2,   -999.0,9,    18.00,2,    24.80,2,   2161.3,2,   2290.8,2,  -999.00,9,   6.8429
  35MF20010103,  OISO,    15,  1,      1,20010109,   0,-40.0000,  76.4200, 3326,   1006.0,   4.8090,  34.3510,2,  34.3460,2,    218.3,2,    215.6,2,    27.00,2,    29.00,2,   2186.3,2,   2296.6,2,  -999.00,9,   4.7269
  35MF20010103,  OISO,    15,  1,      2,20010109,   0,-40.0000,  76.4200, 3326,   1006.2,   4.8090,  34.3500,2,-999.0000,9,    217.9,2,   -999.0,9,    27.30,2,    29.10,2,   2182.3,2,   2293.4,2,  -999.00,9,   4.7268