BOTTLE,20230321CCHSIOENA
# dataset file replaced with file from Bob Key received on 2018-04-03
# this new file contains TCARBN and TCARBN_FLAG_W merged by Bob Key
# THETA removed
# BOTTLE,20180403PRINUNIVRMK
# 4/2/2018 Initialized README file  
# Data source: CCHDO for all except DIC 
# SHIP: Aurora Australis  
# Cruise: SR03c; 09AR9407_1; AU9407 
# Region: SR03 line south of Tasmania 
# EXPOCODE: 09AR19940101 
# DATES: 19940101 - 19940301 
# Chief Scientist: B.Tilbrook and N.Bindoff 
# 102 stations with 24 place Rosette 
# CTD: Who - S.Rintoul; Status -final 
# 	Includes: CTDSAL, CTDOXY 
# 	Some calibration issues with CTD temperature for temperatures below zero 
# 		see cruise report 
# SALNTY: Who - S.Rintoul; Status -final  
# 	Notes: problems with salinometer: 
# 	stations 69:86 data unusable 
# 	stations 87:102 measured ashore after cruise 
# Nutrients: Who - S.Rintoul; Status - final 
# 	Includes: nitrate, nitrite, silicate, phopshpate 
# OXYGEN: Who - S.Rintoul; Status -final 
# 	Notes: 
# TCARBN: Who - B.Tilbrook; Status - final 
# 	Notes:  
#
#| Please cite data downloaded from CCHDO as: 
#| [Data providers of the parameter(s) used]. [Year of file access]. [CTD/Bottle] data from cruise [expocode], 
#| [format version used]. Accessed from CCHDO [url of cruise data page]. Access date [date of download].
#| [Applicable CCHDO cruise DOI if provided].
EXPOCODE,SECT_ID,STNNBR,CASTNO,SAMPNO,BTLNBR,BTLNBR_FLAG_W,DATE,TIME,LATITUDE,LONGITUDE,DEPTH,CTDPRS,CTDTMP,CTDSAL,CTDSAL_FLAG_W,SALNTY,SALNTY_FLAG_W,CTDOXY,CTDOXY_FLAG_W,OXYGEN,OXYGEN_FLAG_W,SILCAT,SILCAT_FLAG_W,NITRAT,NITRAT_FLAG_W,PHSPHT,PHSPHT_FLAG_W,TCARBN,TCARBN_FLAG_W
,,,,,,,,,,,METERS,DBAR,ITS-90,PSS-78,,PSS-78,,UMOL/KG,,UMOL/KG,,UMOL/KG,,UMOL/KG,,UMOL/KG,,UMOL/KG,
  09AR19940101,  SR03,     1,  1,      3,      3,2,19940101,2030,-44.1222, 146.2162, 1030,    903.7,   5.3370,  34.4580,2,  34.4590,2,   -999.0,5,    188.5,2,  -999.00,9,  -999.00,9,  -999.00,9,   -999.0,9
  09AR19940101,  SR03,     1,  1,     16,     16,2,19940101,2030,-44.1222, 146.2162, 1030,    903.8,   5.4810,  34.4610,2,  34.4610,2,   -999.0,5,   -999.0,9,  -999.00,9,  -999.00,9,  -999.00,9,   -999.0,9
  09AR19940101,  SR03,     1,  1,      6,      6,2,19940101,2030,-44.1222, 146.2162, 1030,    903.9,   5.4330,  34.4600,2,  34.4600,2,   -999.0,5,   -999.0,9,  -999.00,9,  -999.00,9,  -999.00,9,   -999.0,9
  09AR19940101,  SR03,     1,  1,      5,      5,2,19940101,2030,-44.1222, 146.2162, 1030,    904.2,   5.3880,  34.4600,2,  34.4610,2,   -999.0,5,   -999.0,9,  -999.00,9,  -999.00,9,  -999.00,9,   -999.0,9
  09AR19940101,  SR03,     1,  1,      7,      7,2,19940101,2030,-44.1222, 146.2162, 1030,    904.3,   5.4430,  34.4600,2,  34.4600,2,   -999.0,5,   -999.0,9,  -999.00,9,  -999.00,9,  -999.00,9,   -999.0,9
  09AR19940101,  SR03,     1,  1,     12,     12,2,19940101,2030,-44.1222, 146.2162, 1030,    904.4,   5.4630,  34.4620,2,  34.4610,2,   -999.0,5,   -999.0,9,  -999.00,9,  -999.00,9,  -999.00,9,   -999.0,9
  09AR19940101,  SR03,     1,  1,     11,     11,2,19940101,2030,-44.1222, 146.2162, 1030,    904.4,   5.4610,  34.4610,2,  34.4620,2,   -999.0,5,   -999.0,9,  -999.00,9,  -999.00,9,  -999.00,9,   -999.0,9
  09AR19940101,  SR03,     1,  1,      1,      1,2,19940101,2030,-44.1222, 146.2162, 1030,    904.4,   5.3310,  34.4590,2,  34.4580,2,   -999.0,5,    188.9,2,  -999.00,9,  -999.00,9,  -999.00,9,   -999.0,9
  09AR19940101,  SR03,     1,  1,      4,      4,2,19940101,2030,-44.1222, 146.2162, 1030,    904.5,   5.3380,  34.4590,2,  34.4590,2,   -999.0,5,   -999.0,9,  -999.00,9,  -999.00,9,  -999.00,9,   -999.0,9
  09AR19940101,  SR03,     1,  1,     14,     14,3,19940101,2030,-44.1222, 146.2162, 1030,    904.7,   5.4710,  34.4610,2,  34.6640,4,   -999.0,5,   -999.0,9,  -999.00,9,  -999.00,9,  -999.00,9,   -999.0,9
  09AR19940101,  SR03,     1,  1,     15,     15,2,19940101,2030,-44.1222, 146.2162, 1030,    905.0,   5.4700,  34.4610,2,  34.4610,2,   -999.0,5,   -999.0,9,  -999.00,9,  -999.00,9,  -999.00,9,   -999.0,9
  09AR19940101,  SR03,     1,  1,     10,     10,2,19940101,2030,-44.1222, 146.2162, 1030,    905.0,   5.4580,  34.4600,2,  34.4600,2,   -999.0,5,   -999.0,9,  -999.00,9,  -999.00,9,  -999.00,9,   -999.0,9
  09AR19940101,  SR03,     1,  1,     17,     17,2,19940101,2030,-44.1222, 146.2162, 1030,    905.3,   5.4700,  34.4620,2,  34.4620,2,   -999.0,5,   -999.0,9,  -999.00,9,  -999.00,9,  -999.00,9,   -999.0,9
  09AR19940101,  SR03,     1,  1,      2,      2,2,19940101,2030,-44.1222, 146.2162, 1030,    905.3,   5.3300,  34.4590,2,  34.4580,2,   -999.0,5,    189.2,2,  -999.00,9,  -999.00,9,  -999.00,9,   -999.0,9
  09AR19940101,  SR03,     1,  1,     13,     13,3,19940101,2030,-44.1222, 146.2162, 1030,    905.5,   5.4580,  34.4610,2,  34.4610,2,   -999.0,5,   -999.0,9,  -999.00,9,  -999.00,9,  -999.00,9,   -999.0,9
  09AR19940101,  SR03,     1,  1,      8,      8,2,19940101,2030,-44.1222, 146.2162, 1030,    905.5,   5.4470,  34.4610,2,  34.4600,2,   -999.0,5,   -999.0,9,  -999.00,9,  -999.00,9,  -999.00,9,   -999.0,9
  09AR19940101,  SR03,     1,  1,     21,     21,2,19940101,2030,-44.1222, 146.2162, 1030,    905.8,   5.4530,  34.4600,2,  34.4610,2,   -999.0,5,   -999.0,9,  -999.00,9,  -999.00,9,  -999.00,9,   -999.0,9
  09AR19940101,  SR03,     1,  1,     19,     19,3,19940101,2030,-44.1222, 146.2162, 1030,    906.0,   5.4710,  34.4600,3,  34.4600,2,   -999.0,5,   -999.0,9,  -999.00,9,  -999.00,9,  -999.00,9,   -999.0,9
  09AR19940101,  SR03,     1,  1,      9,      9,2,19940101,2030,-44.1222, 146.2162, 1030,    906.2,   5.4380,  34.4610,2,  34.4600,2,   -999.0,5,   -999.0,9,  -999.00,9,  -999.00,9,  -999.00,9,   -999.0,9
  09AR19940101,  SR03,     1,  1,     23,     23,2,19940101,2030,-44.1222, 146.2162, 1030,    906.5,   5.4500,  34.4610,2,  34.4600,2,   -999.0,5,   -999.0,9,  -999.00,9,  -999.00,9,  -999.00,9,   -999.0,9
  09AR19940101,  SR03,     1,  1,     18,     18,2,19940101,2030,-44.1222, 146.2162, 1030,    906.6,   5.4560,  34.4600,2,  34.4600,2,   -999.0,5,   -999.0,9,  -999.00,9,  -999.00,9,  -999.00,9,   -999.0,9
  09AR19940101,  SR03,     1,  1,     20,     20,3,19940101,2030,-44.1222, 146.2162, 1030,    906.7,   5.4410,  34.4610,2,  34.4620,2,   -999.0,5,   -999.0,9,  -999.00,9,  -999.00,9,  -999.00,9,   -999.0,9
  09AR19940101,  SR03,     1,  1,     22,     22,2,19940101,2030,-44.1222, 146.2162, 1030,    907.1,   5.4440,  34.4600,3,  34.4600,2,   -999.0,5,   -999.0,9,  -999.00,9,  -999.00,9,  -999.00,9,   -999.0,9
  09AR19940101,  SR03,     1,  1,     24,     24,2,19940101,2030,-44.1222, 146.2162, 1030,    907.5,   5.4230,  34.4600,3,  34.4600,2,   -999.0,5,   -999.0,9,  -999.00,9,  -999.00,9,  -999.00,9,   -999.0,9
  09AR19940101,  SR03,     2,  1,     23,     23,2,19940102,0312,-44.1265, 146.2127, 1036,    902.7,   5.3220,  34.4470,2,  34.4470,2,   -999.0,5,   -999.0,9,  -999.00,9,  -999.00,9,  -999.00,9,   -999.0,9
  09AR19940101,  SR03,     2,  1,     20,     20,2,19940102,0312,-44.1265, 146.2127, 1036,    903.6,   5.3390,  34.4470,2,  34.4460,2,   -999.0,5,   -999.0,9,  -999.00,9,  -999.00,9,  -999.00,9,   -999.0,9
  09AR19940101,  SR03,     2,  1,     21,     21,2,19940102,0312,-44.1265, 146.2127, 1036,    904.0,   5.3320,  34.4460,2,  34.4460,2,   -999.0,5,   -999.0,9,  -999.00,9,  -999.00,9,  -999.00,9,   -999.0,9
  09AR19940101,  SR03,     2,  1,     19,     19,3,19940102,0312,-44.1265, 146.2127, 1036,    904.1,   5.3480,  34.4460,2,  34.4470,2,   -999.0,5,   -999.0,9,  -999.00,9,  -999.00,9,  -999.00,9,   -999.0,9
  09AR19940101,  SR03,     2,  1,     16,     16,3,19940102,0312,-44.1265, 146.2127, 1036,    904.2,   5.4070,  34.4460,2,  34.4460,2,   -999.0,5,   -999.0,9,  -999.00,9,  -999.00,9,  -999.00,9,   -999.0,9
  09AR19940101,  SR03,     2,  1,     14,     14,3,19940102,0312,-44.1265, 146.2127, 1036,    904.2,   5.4650,  34.4500,4,-999.0000,9,   -999.0,5,   -999.0,9,  -999.00,9,  -999.00,9,  -999.00,9,   -999.0,9
  09AR19940101,  SR03,     2,  1,     18,     18,2,19940102,0312,-44.1265, 146.2127, 1036,    904.6,   5.3600,  34.4470,2,  34.4470,2,   -999.0,5,   -999.0,9,  -999.00,9,  -999.00,9,  -999.00,9,   -999.0,9
  09AR19940101,  SR03,     2,  1,     17,     17,2,19940102,0312,-44.1265, 146.2127, 1036,    905.0,   5.3610,  34.4470,3,  34.4460,2,   -999.0,5,   -999.0,9,  -999.00,9,  -999.00,9,  -999.00,9,   -999.0,9
  09AR19940101,  SR03,     2,  1,     22,     22,2,19940102,0312,-44.1265, 146.2127, 1036,    905.1,   5.3200,  34.4460,3,  34.4470,2,   -999.0,5,   -999.0,9,  -999.00,9,  -999.00,9,  -999.00,9,   -999.0,9
  09AR19940101,  SR03,     2,  1,     15,     15,2,19940102,0312,-44.1265, 146.2127, 1036,    905.1,   5.3820,  34.4460,3,  34.4460,2,   -999.0,5,   -999.0,9,  -999.00,9,  -999.00,9,  -999.00,9,   -999.0,9
  09AR19940101,  SR03,     2,  1,     24,     24,2,19940102,0312,-44.1265, 146.2127, 1036,    905.8,   5.3120,  34.4460,2,  34.4490,2,   -999.0,5,   -999.0,9,  -999.00,9,  -999.00,9,  -999.00,9,   -999.0,9
  09AR19940101,  SR03,     3,  1,     23,     23,2,19940102,0745,-43.9988, 146.3197,  218,     13.2,  13.7880,  35.2190,2,-999.0000,9,    259.5,2,   -999.0,9,  -999.00,9,  -999.00,9,  -999.00,9,   -999.0,9
  09AR19940101,  SR03,     3,  1,     24,     24,2,19940102,0745,-43.9988, 146.3197,  218,     14.1,  13.7940,  35.2210,2,  35.2220,2,    259.5,2,    259.4,2,     0.90,2,     1.10,2,     0.24,2,   2053.3,2
  09AR19940101,  SR03,     3,  1,     21,     21,2,19940102,0745,-43.9988, 146.3197,  218,     29.4,  13.7910,  35.2190,2,-999.0000,9,    259.2,2,   -999.0,9,  -999.00,9,  -999.00,9,  -999.00,9,   -999.0,9
  09AR19940101,  SR03,     3,  1,     22,     22,2,19940102,0745,-43.9988, 146.3197,  218,     30.6,  13.7900,  35.2200,2,  35.2190,2,    259.2,2,    259.7,2,     0.70,2,     1.10,2,     0.25,2,   2053.5,2
  09AR19940101,  SR03,     3,  1,     20,     20,2,19940102,0745,-43.9988, 146.3197,  218,     54.4,  13.7780,  35.2160,2,  35.2170,2,    259.8,2,    258.4,2,     0.60,2,     1.20,2,     0.26,2,   2053.4,2
  09AR19940101,  SR03,     3,  1,     19,    119,2,19940102,0745,-43.9988, 146.3197,  218,     55.3,  13.7780,  35.2160,2,-999.0000,9,    260.2,2,   -999.0,9,  -999.00,9,  -999.00,9,  -999.00,9,   -999.0,9
  09AR19940101,  SR03,     3,  1,     15,     15,2,19940102,0745,-43.9988, 146.3197,  218,     76.8,  13.7650,  35.2140,2,-999.0000,9,    259.1,2,   -999.0,9,  -999.00,9,  -999.00,9,  -999.00,9,   -999.0,9
  09AR19940101,  SR03,     3,  1,     16,    116,2,19940102,0745,-43.9988, 146.3197,  218,     77.6,  13.7600,  35.2140,2,  35.2130,2,    259.1,2,    258.3,2,  -999.00,9,  -999.00,9,  -999.00,9,   -999.0,9
  09AR19940101,  SR03,     3,  1,     17,     17,2,19940102,0745,-43.9988, 146.3197,  218,     78.1,  13.7750,  35.2150,2,  35.2150,2,    259.1,2,    258.1,2,     0.60,2,     1.30,2,     0.26,2,   -999.0,9
  09AR19940101,  SR03,     3,  1,     18,     18,2,19940102,0745,-43.9988, 146.3197,  218,     78.9,  13.7730,  35.2150,2,  35.2140,2,    259.1,2,    258.2,2,  -999.00,9,  -999.00,9,  -999.00,9,   -999.0,9
  09AR19940101,  SR03,     3,  1,     14,      9,2,19940102,0745,-43.9988, 146.3197,  218,     83.3,  13.7680,  35.2150,2,  35.2140,2,    258.3,2,    258.4,2,     0.60,2,     1.20,2,     0.25,2,   2054.3,2
  09AR19940101,  SR03,     3,  1,     13,     13,2,19940102,0745,-43.9988, 146.3197,  218,     95.8,  13.6970,  35.2010,3,  35.2110,2,    258.6,2,    257.4,2,     0.50,2,     1.20,2,     0.27,2,   -999.0,9
  09AR19940101,  SR03,     3,  1,     11,     11,2,19940102,0745,-43.9988, 146.3197,  218,    104.1,  13.3900,  35.1450,4,-999.0000,9,    253.2,2,   -999.0,9,  -999.00,9,  -999.00,9,  -999.00,9,   -999.0,9
  09AR19940101,  SR03,     3,  1,     12,     12,2,19940102,0745,-43.9988, 146.3197,  218,    104.6,  13.4620,  35.1580,4,  35.1640,2,    253.2,2,    256.9,2,     0.70,2,     1.90,2,     0.30,2,   2058.6,2
  09AR19940101,  SR03,     3,  1,     10,     10,2,19940102,0745,-43.9988, 146.3197,  218,    116.7,  12.9130,  35.0910,3,  35.1030,2,    253.0,2,    254.7,2,     1.00,2,     3.30,2,     0.41,2,   -999.0,9
  09AR19940101,  SR03,     3,  1,      9,    121,2,19940102,0745,-43.9988, 146.3197,  218,    123.2,  12.6970,  35.0740,4,  35.0800,2,    250.0,2,    251.4,2,     1.30,2,     4.90,2,     0.47,2,   2074.0,2
  09AR19940101,  SR03,     3,  1,      8,      8,2,19940102,0745,-43.9988, 146.3197,  218,    134.2,  11.9170,  34.9910,3,  34.9930,2,    247.4,2,    248.0,2,     2.20,2,     7.90,2,     0.63,2,   -999.0,9
  09AR19940101,  SR03,     3,  1,      7,      7,2,19940102,0745,-43.9988, 146.3197,  218,    145.2,  11.6740,  34.9680,2,  34.9700,2,    248.1,2,    247.0,2,     2.50,2,     8.60,2,     0.68,2,   2090.4,2
  09AR19940101,  SR03,     3,  1,      6,      6,2,19940102,0745,-43.9988, 146.3197,  218,    153.2,  11.5660,  34.9580,2,  34.9560,2,    248.4,2,    246.3,2,     2.70,2,     9.00,2,     0.71,2,   -999.0,9
  09AR19940101,  SR03,     3,  1,      5,      5,2,19940102,0745,-43.9988, 146.3197,  218,    165.0,  11.3460,  34.9390,3,  34.9400,2,    245.7,2,    245.2,2,     3.10,2,     9.70,2,     0.75,2,   2093.7,6
  09AR19940101,  SR03,     3,  1,      4,      4,2,19940102,0745,-43.9988, 146.3197,  218,    173.6,  11.2270,  34.9270,2,-999.0000,9,    244.1,2,   -999.0,9,  -999.00,9,  -999.00,9,  -999.00,9,   -999.0,9
  09AR19940101,  SR03,     3,  1,      3,      3,2,19940102,0745,-43.9988, 146.3197,  218,    183.5,  11.2280,  34.9270,2,-999.0000,9,    243.1,2,   -999.0,9,  -999.00,9,  -999.00,9,  -999.00,9,   -999.0,9
  09AR19940101,  SR03,     3,  1,      2,      2,2,19940102,0745,-43.9988, 146.3197,  218,    195.3,  11.2030,  34.9230,4,  34.9240,2,   -999.0,5,    244.4,2,     3.30,2,    10.30,2,     0.79,2,   -999.0,9
  09AR19940101,  SR03,     3,  1,      1,      1,2,19940102,0745,-43.9988, 146.3197,  218,    211.7,  10.6500,  34.8620,4,  34.8650,2,   -999.0,5,    243.6,2,     3.90,2,    11.90,2,     0.90,2,   2102.6,2
  09AR19940101,  SR03,     4,  1,     24,     24,2,19940102,1100,-44.1190, 146.2285, 1041,     14.8,  11.9700,  34.7970,2,  34.7970,2,    274.3,2,    270.5,2,     0.50,2,     6.00,2,     0.55,2,   -999.0,9
  09AR19940101,  SR03,     4,  1,     22,     22,2,19940102,1100,-44.1190, 146.2285, 1041,     27.8,  11.9710,  34.7970,2,-999.0000,9,    265.3,2,   -999.0,9,  -999.00,9,  -999.00,9,  -999.00,9,   -999.0,9
  09AR19940101,  SR03,     4,  1,     23,     23,2,19940102,1100,-44.1190, 146.2285, 1041,     28.0,  11.9710,  34.7970,2,  34.7970,2,    265.3,2,    270.4,2,     0.60,2,     6.00,2,     0.76,3,   -999.0,9
  09AR19940101,  SR03,     4,  1,     21,     21,2,19940102,1100,-44.1190, 146.2285, 1041,     54.4,  11.9930,  34.8030,2,  34.8040,2,    268.0,2,    270.1,2,     0.60,2,     6.00,2,     0.57,2,   -999.0,9
  09AR19940101,  SR03,     4,  1,     20,     20,3,19940102,1100,-44.1190, 146.2285, 1041,     80.0,  12.4340,  34.9930,4,  34.9990,4,    260.1,2,    260.9,2,     0.80,2,     4.20,2,     0.50,2,   -999.0,9
  09AR19940101,  SR03,     4,  1,     19,    119,2,19940102,1100,-44.1190, 146.2285, 1041,    104.0,  11.7030,  34.9590,4,  34.9580,2,    247.9,2,    254.8,2,     2.00,2,     8.20,2,     0.72,2,   -999.0,9
  09AR19940101,  SR03,     4,  1,     18,     18,2,19940102,1100,-44.1190, 146.2285, 1041,    153.5,  11.3130,  34.9760,2,  34.9750,2,    250.2,2,    247.9,2,     3.00,2,    10.30,2,     0.78,2,   -999.0,9
  09AR19940101,  SR03,     4,  1,     15,     15,3,19940102,1100,-44.1190, 146.2285, 1041,    204.2,  10.7670,  34.9100,3,-999.0000,9,    251.0,2,   -999.0,9,  -999.00,9,  -999.00,9,  -999.00,9,   -999.0,9
  09AR19940101,  SR03,     4,  1,     17,     17,2,19940102,1100,-44.1190, 146.2285, 1041,    204.6,  10.8990,  34.9300,3,  34.9300,2,    251.0,2,    249.9,2,     3.50,2,    11.20,2,     0.84,2,   -999.0,9
  09AR19940101,  SR03,     4,  1,     14,      9,2,19940102,1100,-44.1190, 146.2285, 1041,    254.6,  10.2370,  34.8260,2,  34.8270,2,    251.9,2,    251.3,2,     3.80,2,    12.70,2,     0.93,2,   -999.0,9
  09AR19940101,  SR03,     4,  1,     13,     13,2,19940102,1100,-44.1190, 146.2285, 1041,    302.5,   9.7380,  34.7430,2,  34.7430,2,    250.7,2,    253.8,2,     4.00,2,    13.90,2,     1.02,2,   -999.0,9
  09AR19940101,  SR03,     4,  1,     16,    116,2,19940102,1100,-44.1190, 146.2285, 1041,    306.3,   9.7020,  34.7420,2,  34.7410,2,    247.8,2,    248.0,4,     4.30,4,    14.50,4,     1.04,4,   -999.0,9
  09AR19940101,  SR03,     4,  1,     12,     12,2,19940102,1100,-44.1190, 146.2285, 1041,    352.1,   9.5000,  34.7100,2,-999.0000,9,    245.1,2,   -999.0,9,  -999.00,9,  -999.00,9,  -999.00,9,   -999.0,9
  09AR19940101,  SR03,     4,  1,     11,     11,2,19940102,1100,-44.1190, 146.2285, 1041,    403.7,   9.1710,  34.6580,2,  34.6630,2,    243.6,2,    247.2,2,     4.60,2,    16.00,2,     1.10,2,   -999.0,9
  09AR19940101,  SR03,     4,  1,     10,     10,2,19940102,1100,-44.1190, 146.2285, 1041,    452.7,   8.9920,  34.6300,2,  34.6300,2,    248.6,2,    249.0,2,     4.70,2,    16.40,2,     1.15,2,   -999.0,9
  09AR19940101,  SR03,     4,  1,      9,    121,2,19940102,1100,-44.1190, 146.2285, 1041,    502.2,   8.8410,  34.6090,2,  34.6110,2,    247.9,2,    245.8,2,     4.90,2,    17.20,2,     1.20,2,   -999.0,9
  09AR19940101,  SR03,     4,  1,      8,      8,2,19940102,1100,-44.1190, 146.2285, 1041,    553.9,   8.7480,  34.6220,3,  34.6200,2,    222.5,2,    226.8,2,     7.30,2,    19.00,2,     1.33,2,   -999.0,9
  09AR19940101,  SR03,     4,  1,      7,      7,3,19940102,1100,-44.1190, 146.2285, 1041,    604.1,   8.4220,  34.5860,3,  34.7530,4,    225.9,2,    246.6,4,     4.30,4,    14.70,4,     1.05,4,   -999.0,9
  09AR19940101,  SR03,     4,  1,      6,      6,2,19940102,1100,-44.1190, 146.2285, 1041,    654.2,   8.0570,  34.5660,2,  34.5650,2,    212.3,2,    208.1,2,    11.40,2,    22.30,2,     1.53,2,   -999.0,9
  09AR19940101,  SR03,     4,  1,      5,      5,2,19940102,1100,-44.1190, 146.2285, 1041,    703.2,   7.6420,  34.5380,2,  34.5410,2,    206.3,2,    202.0,2,    14.00,2,    23.60,2,     1.63,2,   -999.0,9
  09AR19940101,  SR03,     4,  1,      4,      4,3,19940102,1100,-44.1190, 146.2285, 1041,    802.6,   6.8190,  34.4930,2,  34.5720,4,    198.5,2,    220.0,4,    11.70,4,    21.20,4,     1.47,4,   -999.0,9
  09AR19940101,  SR03,     4,  1,      3,      3,2,19940102,1100,-44.1190, 146.2285, 1041,    902.4,   5.6500,  34.4470,3,  34.4460,2,    192.8,2,    189.9,2,    30.00,2,    28.70,2,     1.99,2,   -999.0,9
  09AR19940101,  SR03,     4,  1,      2,      2,2,19940102,1100,-44.1190, 146.2285, 1041,   1009.8,   4.9510,  34.4420,2,  34.4400,2,    187.5,2,    185.7,2,    38.50,2,    30.20,2,     2.11,2,   -999.0,9
  09AR19940101,  SR03,     4,  1,      1,      1,2,19940102,1100,-44.1190, 146.2285, 1041,   1037.7,   4.5660,  34.4360,4,  34.4340,2,    183.4,2,    186.3,2,    41.30,2,    31.00,2,     2.16,2,   -999.0,9