BOTTLE,20230321CCHSIOENA
EXPOCODE,SECT_ID,STNNBR,CASTNO,SAMPNO,BTLNBR,BTLNBR_FLAG_W,DATE,TIME,LATITUDE,LONGITUDE,DEPTH,CTDPRS,CTDTMP,CTDSAL,CTDSAL_FLAG_W,SALNTY,SALNTY_FLAG_W,CTDOXY,CTDOXY_FLAG_W,OXYGEN,OXYGEN_FLAG_W,SILCAT,SILCAT_FLAG_W,NITRAT,NITRAT_FLAG_W,PHSPHT,PHSPHT_FLAG_W,TCARBN,TCARBN_FLAG_W
,,,,,,,,,,,METERS,DBAR,ITS-90,PSS-78,,PSS-78,,UMOL/KG,,UMOL/KG,,UMOL/KG,,UMOL/KG,,UMOL/KG,,UMOL/KG,
  09AR19940101,  SR03,    22,  1,     24,     24,2,19940106,0020,-49.7300, 143.8687, 3532,     14.3,   9.6420,  34.4400,2,  34.4410,2,    287.5,2,    286.1,2,   108.30,4,    11.30,2,     0.83,2,   -999.0,9
  09AR19940101,  SR03,    22,  1,     23,    113,2,19940106,0020,-49.7300, 143.8687, 3532,    204.9,   8.8560,  34.5800,2,  34.5790,2,    274.7,2,    273.6,2,     5.70,2,    14.20,2,     1.03,2,   -999.0,9
  09AR19940101,  SR03,    22,  1,     22,     22,2,19940106,0020,-49.7300, 143.8687, 3532,    304.1,   8.9360,  34.6110,2,  34.6090,2,    271.7,2,    270.0,2,     5.50,2,    14.20,2,     1.04,2,   -999.0,9
  09AR19940101,  SR03,    22,  1,     21,     21,2,19940106,0020,-49.7300, 143.8687, 3532,    406.6,   8.8130,  34.5900,2,  34.5900,2,    261.4,2,    267.7,2,     6.00,2,    14.90,2,     1.07,2,   -999.0,9
  09AR19940101,  SR03,    22,  1,     20,    120,2,19940106,0020,-49.7300, 143.8687, 3532,    505.2,   8.9080,  34.6190,2,  34.6170,2,    268.5,2,    271.9,2,     5.40,2,    14.20,2,     1.04,2,   -999.0,9
  09AR19940101,  SR03,    22,  1,     19,    119,2,19940106,0020,-49.7300, 143.8687, 3532,    605.0,   8.7350,  34.5870,2,  34.5890,2,    273.4,2,    268.4,2,     5.70,2,    15.00,2,     1.08,2,   -999.0,9
  09AR19940101,  SR03,    22,  1,     18,    118,2,19940106,0020,-49.7300, 143.8687, 3532,    705.1,   7.8460,  34.4650,3,  34.4700,2,    239.6,2,    243.8,2,     8.70,2,    19.80,2,     1.38,2,   -999.0,9
  09AR19940101,  SR03,    22,  1,     17,    117,2,19940106,0020,-49.7300, 143.8687, 3532,    804.0,   7.3160,  34.4720,2,  34.4740,2,    216.4,2,    213.3,2,    13.80,2,    23.50,2,     1.62,2,   -999.0,9
  09AR19940101,  SR03,    22,  1,     16,    116,2,19940106,0020,-49.7300, 143.8687, 3532,    904.1,   6.3180,  34.4150,2,  34.4170,2,    209.7,2,    208.6,2,    18.70,2,    26.20,2,     1.81,2,   -999.0,9
  09AR19940101,  SR03,    22,  1,     15,    115,2,19940106,0020,-49.7300, 143.8687, 3532,   1104.2,   4.7500,  34.3550,2,  34.3590,2,    209.2,2,    206.9,2,    29.10,2,    29.60,2,     2.05,2,   -999.0,9
  09AR19940101,  SR03,    22,  1,     14,    114,2,19940106,0020,-49.7300, 143.8687, 3532,   1206.7,   4.1130,  34.3600,2,  34.3650,2,    203.9,2,    201.8,2,    36.60,2,    31.00,2,     2.17,2,   -999.0,9
  09AR19940101,  SR03,    22,  1,     13,     13,3,19940106,0020,-49.7300, 143.8687, 3532,   1301.2,   3.5280,  34.3570,2,  34.3600,2,    197.1,2,    201.2,2,    41.30,2,    32.10,2,     2.25,2,   -999.0,9
  09AR19940101,  SR03,    22,  1,     12,     12,2,19940106,0020,-49.7300, 143.8687, 3532,   1402.9,   3.2330,  34.3850,2,  34.3860,2,    190.7,2,    196.7,2,    48.70,2,    33.20,2,     2.27,2,   -999.0,9
  09AR19940101,  SR03,    22,  1,     11,     11,2,19940106,0020,-49.7300, 143.8687, 3532,   1603.3,   2.8280,  34.4760,2,  34.4750,2,    183.2,2,    181.5,2,    59.50,2,    34.00,2,     2.37,2,   -999.0,9
  09AR19940101,  SR03,    22,  1,     10,     10,2,19940106,0020,-49.7300, 143.8687, 3532,   1804.1,   2.6190,  34.5640,2,  34.5640,2,    177.7,2,    175.4,2,    66.40,2,    33.60,2,     2.36,2,   -999.0,9
  09AR19940101,  SR03,    22,  1,      9,    121,2,19940106,0020,-49.7300, 143.8687, 3532,   2002.5,   2.5060,  34.6320,2,  34.6320,2,    175.9,2,    176.3,2,    72.20,2,    32.90,2,     2.31,2,   -999.0,9
  09AR19940101,  SR03,    22,  1,      8,      8,2,19940106,0020,-49.7300, 143.8687, 3532,   2200.6,   2.3900,  34.6920,2,  34.6900,2,    181.7,2,    181.2,2,    69.50,3,    31.80,2,     2.23,2,   -999.0,9
  09AR19940101,  SR03,    22,  1,      7,      7,2,19940106,0020,-49.7300, 143.8687, 3532,   2404.6,   2.2780,  34.7220,2,  34.7200,2,    185.4,2,    184.8,2,    76.10,2,    31.30,2,     2.20,2,   -999.0,9
  09AR19940101,  SR03,    22,  1,      6,      6,2,19940106,0020,-49.7300, 143.8687, 3532,   2599.7,   2.1700,  34.7370,2,  34.7350,2,    188.9,2,    189.0,2,    77.50,2,    30.90,2,     2.17,2,   -999.0,9
  09AR19940101,  SR03,    22,  1,      5,      5,2,19940106,0020,-49.7300, 143.8687, 3532,   2801.5,   1.9760,  34.7470,2,  34.7470,2,    193.9,2,    194.2,2,    79.10,2,    30.50,2,     2.14,2,   -999.0,9
  09AR19940101,  SR03,    22,  1,      4,      4,2,19940106,0020,-49.7300, 143.8687, 3532,   2998.7,   1.7990,  34.7460,2,  34.7460,2,    197.5,2,    197.6,2,    85.80,2,    30.50,2,     2.15,2,   -999.0,9
  09AR19940101,  SR03,    22,  1,      3,      3,2,19940106,0020,-49.7300, 143.8687, 3532,   3200.3,   1.5670,  34.7390,2,  34.7380,2,    200.3,2,    200.1,2,    84.50,3,    30.90,2,     2.17,2,   -999.0,9
  09AR19940101,  SR03,    22,  1,      2,      2,2,19940106,0020,-49.7300, 143.8687, 3532,   3401.1,   1.3230,  34.7300,2,  34.7290,2,    203.1,2,    203.2,2,    97.10,2,    31.50,2,     2.22,2,   -999.0,9
  09AR19940101,  SR03,    22,  1,      1,      1,2,19940106,0020,-49.7300, 143.8687, 3532,   3676.8,   1.1060,  34.7200,2,  34.7170,2,    205.2,2,    206.1,2,    97.20,2,    31.70,2,     2.24,2,   -999.0,9
  09AR19940101,  SR03,    23,  1,     23,    113,2,19940106,1922,-50.2375, 143.6580, 3709,     13.9,   9.7590,  34.5010,2,  34.5010,2,    276.1,2,    281.7,2,     2.60,2,    10.60,2,     0.83,2,   2076.3,2
  09AR19940101,  SR03,    23,  1,     22,     22,2,19940106,1922,-50.2375, 143.6580, 3709,     52.1,   9.7610,  34.5020,2,  34.5010,2,    275.8,2,    281.8,2,     1.50,2,    10.70,2,     0.86,2,   2076.0,2
  09AR19940101,  SR03,    23,  1,     21,     21,2,19940106,1922,-50.2375, 143.6580, 3709,    105.3,   9.2140,  34.5950,3,  34.5930,2,    274.7,2,    275.7,2,     4.00,2,    12.90,2,     0.99,2,   2099.4,2
  09AR19940101,  SR03,    23,  1,     20,    120,2,19940106,1922,-50.2375, 143.6580, 3709,    156.1,   8.9040,  34.5860,2,  34.5810,2,    275.4,2,    273.3,2,     4.80,2,    14.40,2,     1.05,2,   2100.6,6
  09AR19940101,  SR03,    23,  1,     19,    119,2,19940106,1922,-50.2375, 143.6580, 3709,    203.9,   9.0570,  34.6290,2,  34.6250,2,    275.1,2,    271.4,2,     4.00,2,    14.10,2,     1.03,2,   2101.3,2
  09AR19940101,  SR03,    23,  1,     18,    118,2,19940106,1922,-50.2375, 143.6580, 3709,    306.1,   8.9210,  34.6150,2,  34.6140,2,    276.0,2,    271.3,2,     4.50,2,    14.30,2,     1.05,2,   2103.0,2
  09AR19940101,  SR03,    23,  1,     17,    117,2,19940106,1922,-50.2375, 143.6580, 3709,    403.4,   8.8430,  34.6060,2,  34.6050,2,    271.6,2,    271.7,2,     4.10,2,    14.50,2,     1.05,2,   2101.2,2
  09AR19940101,  SR03,    23,  1,     16,    116,2,19940106,1922,-50.2375, 143.6580, 3709,    603.7,   8.3440,  34.5240,2,  34.5260,2,    249.6,2,    258.6,2,     5.60,2,    17.40,2,     1.22,2,   2113.7,2
  09AR19940101,  SR03,    23,  1,     15,    115,2,19940106,1922,-50.2375, 143.6580, 3709,    803.8,   6.8160,  34.4130,2,  34.4140,2,    223.7,2,    220.3,2,    13.40,2,    24.20,2,     1.67,2,   2150.4,6
  09AR19940101,  SR03,    23,  1,     14,    114,2,19940106,1922,-50.2375, 143.6580, 3709,    900.6,   6.0450,  34.4090,3,  34.4120,2,    206.9,2,    204.6,2,    24.90,2,    28.80,2,     1.97,2,   2169.2,2
  09AR19940101,  SR03,    23,  1,     13,     13,2,19940106,1922,-50.2375, 143.6580, 3709,   1003.6,   5.0730,  34.3580,2,  34.3590,2,    209.9,2,    209.7,2,    20.00,2,    27.20,2,     1.88,2,   2178.0,2
  09AR19940101,  SR03,    23,  1,     12,     12,2,19940106,1922,-50.2375, 143.6580, 3709,   1102.5,   4.3920,  34.3480,2,  34.3520,2,    202.5,2,    208.5,2,    30.50,2,    30.30,2,     2.06,2,   2190.0,2
  09AR19940101,  SR03,    23,  1,     11,     11,2,19940106,1922,-50.2375, 143.6580, 3709,   1302.6,   3.4210,  34.3880,2,  34.3900,2,    191.9,2,    194.3,2,    30.80,2,    32.50,2,     2.28,2,   2215.7,2
  09AR19940101,  SR03,    23,  1,     10,     10,2,19940106,1922,-50.2375, 143.6580, 3709,   1503.7,   2.9090,  34.4600,2,  34.4600,2,    179.9,2,    182.7,2,    45.20,2,    33.60,2,     2.36,2,   2234.3,2
  09AR19940101,  SR03,    23,  1,      9,    121,2,19940106,1922,-50.2375, 143.6580, 3709,   1705.9,   2.7160,  34.5490,2,  34.5500,2,    173.7,2,    172.5,2,    54.80,2,    33.80,2,     2.37,2,   2246.7,2
  09AR19940101,  SR03,    23,  1,      8,      8,2,19940106,1922,-50.2375, 143.6580, 3709,   1904.3,   2.5340,  34.6240,2,  34.6230,2,    177.9,2,    173.7,2,    64.50,2,    33.00,2,     2.32,2,   2251.4,6
  09AR19940101,  SR03,    23,  1,      7,      7,2,19940106,1922,-50.2375, 143.6580, 3709,   2202.7,   2.3550,  34.6980,2,  34.6960,2,    182.4,2,    180.1,2,    69.80,2,    31.80,2,     2.23,2,   2252.3,2
  09AR19940101,  SR03,    23,  1,      6,      6,2,19940106,1922,-50.2375, 143.6580, 3709,   2503.3,   2.1730,  34.7350,2,  34.7340,2,    188.0,2,    186.8,2,    76.50,2,    31.10,2,     2.18,2,   2250.7,2
  09AR19940101,  SR03,    23,  1,      5,      5,2,19940106,1922,-50.2375, 143.6580, 3709,   2799.2,   1.9660,  34.7480,2,  34.7500,2,    193.4,2,    194.9,2,    78.20,2,    30.40,2,     2.13,2,   2247.7,2
  09AR19940101,  SR03,    23,  1,      4,      4,2,19940106,1922,-50.2375, 143.6580, 3709,   3103.7,   1.6000,  34.7430,2,  34.7440,2,    198.4,2,    199.6,2,    85.80,2,    30.80,2,     2.15,2,   2253.2,2
  09AR19940101,  SR03,    23,  1,      3,      3,2,19940106,1922,-50.2375, 143.6580, 3709,   3300.4,   1.4100,  34.7340,2,  34.7350,2,    199.5,2,    187.2,4,    94.50,2,    31.20,2,     2.19,2,   2256.9,6
  09AR19940101,  SR03,    23,  1,      2,      2,2,19940106,1922,-50.2375, 143.6580, 3709,   3608.6,   1.1810,  34.7250,2,  34.7230,2,    202.9,2,    203.3,2,   103.00,2,    31.50,2,     2.22,2,   2260.3,2
  09AR19940101,  SR03,    23,  1,      1,      1,2,19940106,1922,-50.2375, 143.6580, 3709,   3799.9,   1.1560,  34.7220,2,  34.7190,2,    203.1,2,    205.0,2,   111.60,2,    31.70,2,     2.23,2,   2261.1,2
  09AR19940101,  SR03,    24,  1,     24,     24,2,19940107,0215,-50.7672, 143.4397, 3835,     14.5,   8.9770,  34.3330,2,  34.3320,2,    270.2,3,    287.9,2,     2.80,2,    13.30,2,     0.94,2,   -999.0,9
  09AR19940101,  SR03,    24,  1,     23,    113,2,19940107,0215,-50.7672, 143.4397, 3835,     29.1,   8.9690,  34.3340,2,  34.3320,2,    291.0,2,    288.2,2,     1.90,2,    13.40,2,     0.97,2,   -999.0,9
  09AR19940101,  SR03,    24,  1,     22,     22,2,19940107,0215,-50.7672, 143.4397, 3835,     54.1,   8.9000,  34.3280,2,  34.3280,2,    290.9,2,    288.3,2,     3.20,2,    13.60,2,     0.98,2,   -999.0,9
  09AR19940101,  SR03,    24,  1,     21,     21,2,19940107,0215,-50.7672, 143.4397, 3835,    105.0,   8.4620,  34.4660,3,  34.4600,2,    265.7,2,    276.1,2,     5.30,2,    16.20,2,     1.14,2,   -999.0,9
  09AR19940101,  SR03,    24,  1,     20,    120,2,19940107,0215,-50.7672, 143.4397, 3835,    154.3,   8.4780,  34.5070,2,  34.5080,2,    270.3,2,    171.0,4,     5.40,2,    16.10,2,     1.13,2,   -999.0,9
  09AR19940101,  SR03,    24,  1,     19,    119,2,19940107,0215,-50.7672, 143.4397, 3835,    206.0,   8.1960,  34.4670,2,  34.4680,2,    265.6,2,    270.9,2,     5.90,2,    17.20,2,     1.19,2,   -999.0,9
  09AR19940101,  SR03,    24,  1,     18,    118,2,19940107,0215,-50.7672, 143.4397, 3835,    303.7,   7.5180,  34.3720,2,  34.3710,2,    271.3,2,    270.8,2,     6.40,2,    18.80,2,     1.31,2,   -999.0,9
  09AR19940101,  SR03,    24,  1,     17,    117,2,19940107,0215,-50.7672, 143.4397, 3835,    393.8,   7.2080,  34.3550,2,  34.3560,2,    258.9,2,    257.0,2,     8.40,2,    20.80,2,     1.44,2,   -999.0,9
  09AR19940101,  SR03,    24,  1,     16,    116,2,19940107,0215,-50.7672, 143.4397, 3835,    554.4,   5.8010,  34.2600,2,  34.2580,2,    246.8,2,    248.2,2,    13.60,2,    24.80,2,     1.68,2,   -999.0,9
  09AR19940101,  SR03,    24,  1,     15,    115,2,19940107,0215,-50.7672, 143.4397, 3835,    654.4,   5.3360,  34.2860,3,  34.2860,2,    219.5,2,    233.7,2,    18.40,2,    26.90,2,     1.84,2,   -999.0,9
  09AR19940101,  SR03,    24,  1,     14,    114,2,19940107,0215,-50.7672, 143.4397, 3835,    804.3,   4.5680,  34.3170,4,  34.3180,2,    217.0,2,    218.2,2,    26.30,2,    29.50,2,     2.03,2,   -999.0,9
  09AR19940101,  SR03,    24,  1,     13,     13,3,19940107,0215,-50.7672, 143.4397, 3835,    902.7,   3.9780,  34.3070,2,  34.3070,2,    219.8,2,    216.8,2,    31.30,2,    30.70,2,     2.12,2,   -999.0,9
  09AR19940101,  SR03,    24,  1,     12,     12,2,19940107,0215,-50.7672, 143.4397, 3835,   1104.0,   3.2230,  34.3580,3,  34.3590,2,    198.5,2,    201.2,2,    44.70,2,    32.90,2,     2.25,2,   -999.0,9
  09AR19940101,  SR03,    24,  1,     11,     11,2,19940107,0215,-50.7672, 143.4397, 3835,   1303.3,   2.6860,  34.4390,3,  34.4380,2,    186.1,2,    187.6,2,    56.80,2,    34.40,2,     2.37,2,   -999.0,9
  09AR19940101,  SR03,    24,  1,     10,     10,2,19940107,0215,-50.7672, 143.4397, 3835,   1501.4,   2.6010,  34.5480,2,  34.5510,2,    174.0,2,    176.6,2,    65.60,2,    34.20,2,     2.35,2,   -999.0,9
  09AR19940101,  SR03,    24,  1,      9,    121,2,19940107,0215,-50.7672, 143.4397, 3835,   1702.4,   2.4910,  34.6240,2,  34.6260,2,    178.6,2,    175.5,2,    70.00,2,    33.20,2,     2.31,2,   -999.0,9
  09AR19940101,  SR03,    24,  1,      8,      8,2,19940107,0215,-50.7672, 143.4397, 3835,   1902.1,   2.3970,  34.6790,2,  34.6800,2,    182.3,2,    180.0,2,    71.30,3,    33.30,3,     2.31,3,   -999.0,9
  09AR19940101,  SR03,    24,  1,      7,      7,2,19940107,0215,-50.7672, 143.4397, 3835,   2201.3,   2.2250,  34.7250,2,  34.7250,2,    189.7,2,    187.7,2,    75.80,2,    31.10,2,     2.16,2,   -999.0,9
  09AR19940101,  SR03,    24,  1,      6,      6,2,19940107,0215,-50.7672, 143.4397, 3835,   2601.7,   1.9500,  34.7460,2,  34.7460,2,    198.5,2,    195.3,2,    84.60,2,    30.70,2,     2.13,2,   -999.0,9
  09AR19940101,  SR03,    24,  1,      5,      5,2,19940107,0215,-50.7672, 143.4397, 3835,   2800.3,   1.7400,  34.7410,2,  34.7430,2,    192.0,2,    194.9,2,    96.10,2,    31.30,2,     2.17,2,   -999.0,9
  09AR19940101,  SR03,    24,  1,      4,      4,2,19940107,0215,-50.7672, 143.4397, 3835,   3100.1,   1.4710,  34.7330,2,  34.7320,2,    200.2,2,    199.4,2,    93.80,2,    31.40,2,     2.19,2,   -999.0,9
  09AR19940101,  SR03,    24,  1,      3,      3,2,19940107,0215,-50.7672, 143.4397, 3835,   3402.5,   1.1870,  34.7220,2,  34.7200,2,    204.3,2,    203.5,2,   107.60,3,    31.90,2,     2.23,2,   -999.0,9
  09AR19940101,  SR03,    24,  1,      2,      2,2,19940107,0215,-50.7672, 143.4397, 3835,   3702.6,   1.1310,  34.7180,2,  34.7170,2,    204.7,2,    204.0,2,   107.90,2,    32.10,2,     2.24,2,   -999.0,9
  09AR19940101,  SR03,    24,  1,      1,      1,2,19940107,0215,-50.7672, 143.4397, 3835,   4052.8,   1.1370,  34.7160,2,  34.7160,2,    200.7,2,    203.5,2,   104.60,2,    32.10,2,     2.25,2,   -999.0,9
  09AR19940101,  SR03,    25,  1,     24,     24,2,19940107,0724,-51.0422, 143.2507, 3814,     14.4,   8.3560,  34.2500,2,  34.2500,2,    296.6,2,    291.2,2,     4.30,2,    15.40,2,     1.07,4,   2081.5,2
  09AR19940101,  SR03,    25,  1,     23,    113,2,19940107,0724,-51.0422, 143.2507, 3814,     53.9,   8.3420,  34.2480,2,  34.2480,2,    288.6,2,    291.1,2,     3.50,2,    15.50,2,     1.10,2,   2089.3,6
  09AR19940101,  SR03,    25,  1,     22,     22,2,19940107,0724,-51.0422, 143.2507, 3814,    105.8,   7.2630,  34.2550,4,  34.2410,2,    291.0,2,    284.9,2,     6.10,2,    18.70,2,     1.33,2,   2110.5,2
  09AR19940101,  SR03,    25,  1,     21,     21,2,19940107,0724,-51.0422, 143.2507, 3814,    155.3,   6.9430,  34.2720,3,  34.2720,2,    273.2,2,    278.2,2,     6.70,2,    19.40,2,     1.37,2,   2116.8,2
  09AR19940101,  SR03,    25,  1,     20,    120,2,19940107,0724,-51.0422, 143.2507, 3814,    205.1,   6.4800,  34.2150,2,  34.2170,2,    278.4,2,    282.0,2,     7.00,2,    20.30,2,     1.42,2,   2119.6,2
  09AR19940101,  SR03,    25,  1,     19,    119,2,19940107,0724,-51.0422, 143.2507, 3814,    335.6,   5.9990,  34.2150,2,  34.2150,2,    267.3,2,    267.1,2,     9.80,2,    22.50,2,     1.56,2,   2130.6,2
  09AR19940101,  SR03,    25,  1,     18,    118,2,19940107,0724,-51.0422, 143.2507, 3814,    405.3,   5.7350,  34.2480,2,  34.2480,2,    248.3,2,    251.4,2,    12.60,2,    24.20,2,     1.68,2,   2145.1,2
  09AR19940101,  SR03,    25,  1,     17,    117,2,19940107,0724,-51.0422, 143.2507, 3814,    502.4,   5.4070,  34.2970,4,  34.2990,2,    233.3,2,    230.5,2,    17.50,2,    26.70,2,     1.85,2,   2162.9,2
  09AR19940101,  SR03,    25,  1,     16,    116,2,19940107,0724,-51.0422, 143.2507, 3814,    604.9,   4.8670,  34.3140,2,  34.3170,2,    221.5,2,    220.8,2,    22.60,2,    28.60,2,     1.98,2,   2175.3,2
  09AR19940101,  SR03,    25,  1,     15,    115,2,19940107,0724,-51.0422, 143.2507, 3814,    754.0,   3.9920,  34.3140,2,  34.3150,2,    213.6,2,    215.9,2,    31.40,2,    30.50,2,     2.13,2,   2191.9,2
  09AR19940101,  SR03,    25,  1,     14,    114,2,19940107,0724,-51.0422, 143.2507, 3814,    903.9,   3.2070,  34.3140,2,  34.3170,2,    212.4,2,    211.5,2,    40.00,2,    32.10,2,     2.26,2,   2207.2,2
  09AR19940101,  SR03,    25,  1,     13,     13,2,19940107,0724,-51.0422, 143.2507, 3814,   1003.3,   2.9850,  34.3640,2,  34.3620,2,    200.6,2,    200.9,2,    46.80,2,    32.90,2,     2.32,2,   2219.8,2
  09AR19940101,  SR03,    25,  1,     12,     12,2,19940107,0724,-51.0422, 143.2507, 3814,   1205.0,   2.7160,  34.4700,2,  34.4680,2,    179.8,2,    183.4,2,    60.30,2,    33.80,2,     2.32,4,   2239.5,2
  09AR19940101,  SR03,    25,  1,     11,     11,2,19940107,0724,-51.0422, 143.2507, 3814,   1400.7,   2.5700,  34.5640,2,  34.5640,2,    174.5,2,    175.8,2,    67.60,2,    33.60,2,     2.34,2,   2248.7,2
  09AR19940101,  SR03,    25,  1,     10,     10,2,19940107,0724,-51.0422, 143.2507, 3814,   1603.2,   2.4690,  34.6350,2,  34.6350,2,    178.8,2,    175.9,2,    71.10,2,    32.80,2,     2.30,2,   2252.1,2
  09AR19940101,  SR03,    25,  1,      9,    121,2,19940107,0724,-51.0422, 143.2507, 3814,   1851.2,   2.3500,  34.6950,2,  34.6950,2,    183.8,2,    182.2,2,    76.60,2,    31.50,2,     2.21,2,   2250.2,2
  09AR19940101,  SR03,    25,  1,      8,      8,2,19940107,0724,-51.0422, 143.2507, 3814,   2102.6,   2.1900,  34.7310,2,  34.7300,2,    189.6,2,    189.0,2,    79.50,2,    30.70,2,     2.16,2,   2249.8,6
  09AR19940101,  SR03,    25,  1,      7,      7,2,19940107,0724,-51.0422, 143.2507, 3814,   2300.7,   2.0240,  34.7370,2,  34.7370,2,    187.8,2,    186.7,2,    85.40,2,    31.20,2,     2.20,2,   2259.5,2
  09AR19940101,  SR03,    25,  1,      6,      6,2,19940107,0724,-51.0422, 143.2507, 3814,   2502.4,   1.8810,  34.7390,2,  34.7380,2,    189.8,2,    187.7,2,    94.60,2,    31.20,2,     2.22,2,   2262.4,2
  09AR19940101,  SR03,    25,  1,      5,      5,2,19940107,0724,-51.0422, 143.2507, 3814,   2701.1,   1.7490,  34.7410,2,  34.7410,2,    195.3,2,    193.6,2,    93.70,2,    31.00,2,     2.22,2,   2257.2,2
  09AR19940101,  SR03,    25,  1,      4,      4,2,19940107,0724,-51.0422, 143.2507, 3814,   3000.7,   1.4630,  34.7340,2,  34.7340,2,    200.6,2,    199.2,2,    98.60,2,    31.10,2,     2.19,2,   2260.4,2
  09AR19940101,  SR03,    25,  1,      3,      3,2,19940107,0724,-51.0422, 143.2507, 3814,   3300.4,   1.2060,  34.7250,3,  34.7240,2,    203.4,2,    203.1,2,   108.20,2,    31.50,2,     2.21,2,   2263.3,2
  09AR19940101,  SR03,    25,  1,      2,      2,2,19940107,0724,-51.0422, 143.2507, 3814,   3605.8,   1.0780,  34.7180,2,  34.7170,2,    204.6,2,    205.5,2,   105.70,3,    31.60,2,     2.24,2,   2264.1,2
  09AR19940101,  SR03,    25,  1,      1,      1,2,19940107,0724,-51.0422, 143.2507, 3814,   3840.5,   0.9730,  34.7120,2,  34.7100,2,    207.4,2,    207.4,2,   115.20,2,    31.90,2,     2.24,2,   2264.4,6