BOTTLE,20230321CCHSIOENA
EXPOCODE,SECT_ID,STNNBR,CASTNO,SAMPNO,BTLNBR,BTLNBR_FLAG_W,DATE,TIME,LATITUDE,LONGITUDE,DEPTH,CTDPRS,CTDTMP,CTDSAL,CTDSAL_FLAG_W,SALNTY,SALNTY_FLAG_W,CTDOXY,CTDOXY_FLAG_W,OXYGEN,OXYGEN_FLAG_W,SILCAT,SILCAT_FLAG_W,NITRAT,NITRAT_FLAG_W,PHSPHT,PHSPHT_FLAG_W,TCARBN,TCARBN_FLAG_W
,,,,,,,,,,,METERS,DBAR,ITS-90,PSS-78,,PSS-78,,UMOL/KG,,UMOL/KG,,UMOL/KG,,UMOL/KG,,UMOL/KG,,UMOL/KG,
  09AR19940101,  SR03,     9,  1,     24,     24,2,19940103,0956,-45.7013, 145.6700, 2008,     15.1,  11.7190,  34.7360,2,  34.7390,2,   -999.0,5,    272.6,2,     4.80,2,     6.70,2,     0.56,2,   -999.0,9
  09AR19940101,  SR03,     9,  1,     23,     23,2,19940103,0956,-45.7013, 145.6700, 2008,     30.0,  11.6520,  34.7400,2,  34.7400,2,   -999.0,5,    272.2,2,     1.90,2,     6.70,2,     0.58,2,   -999.0,9
  09AR19940101,  SR03,     9,  1,     22,     22,2,19940103,0956,-45.7013, 145.6700, 2008,     54.9,  10.9530,  34.7830,4,  34.7600,2,   -999.0,5,    268.4,2,     2.10,2,     8.00,2,     0.70,2,   -999.0,9
  09AR19940101,  SR03,     9,  1,     21,     21,2,19940103,0956,-45.7013, 145.6700, 2008,    106.3,  10.3640,  34.8460,3,  34.8470,2,   -999.0,5,    255.3,2,     2.80,2,     7.40,2,     0.63,2,   -999.0,9
  09AR19940101,  SR03,     9,  1,     20,     20,2,19940103,0956,-45.7013, 145.6700, 2008,    206.4,   9.1810,  34.6430,3,  34.6440,2,   -999.0,5,    269.5,2,     4.80,2,    14.00,2,     0.98,2,   -999.0,9
  09AR19940101,  SR03,     9,  1,     19,    119,2,19940103,0956,-45.7013, 145.6700, 2008,    307.2,   9.0070,  34.6260,2,  34.6260,2,   -999.0,5,    267.8,2,     4.80,2,    14.60,2,     1.03,2,   -999.0,9
  09AR19940101,  SR03,     9,  1,     18,     18,2,19940103,0956,-45.7013, 145.6700, 2008,    404.5,   8.8010,  34.5930,2,  34.5930,2,   -999.0,5,    268.6,2,     5.40,2,    15.20,2,     1.07,2,   -999.0,9
  09AR19940101,  SR03,     9,  1,     17,     17,2,19940103,0956,-45.7013, 145.6700, 2008,    455.6,   8.7000,  34.5790,2,  34.5780,2,   -999.0,5,    261.4,2,     5.60,2,    16.20,2,     1.13,2,   -999.0,9
  09AR19940101,  SR03,     9,  1,     16,    116,2,19940103,0956,-45.7013, 145.6700, 2008,    505.0,   8.5570,  34.5590,2,  34.5590,2,   -999.0,5,    257.1,2,     6.10,2,    17.00,2,     1.18,2,   -999.0,9
  09AR19940101,  SR03,     9,  1,     15,     15,2,19940103,0956,-45.7013, 145.6700, 2008,    603.0,   8.2150,  34.5380,3,  34.5370,2,   -999.0,5,    231.3,2,     8.60,2,    20.10,2,     1.39,2,   -999.0,9
  09AR19940101,  SR03,     9,  1,     14,      9,2,19940103,0956,-45.7013, 145.6700, 2008,    706.2,   7.4770,  34.4880,2,  34.4860,2,   -999.0,5,    214.1,2,    12.70,2,    23.30,2,     1.59,2,   -999.0,9
  09AR19940101,  SR03,     9,  1,     13,     13,2,19940103,0956,-45.7013, 145.6700, 2008,    802.2,   6.7360,  34.4570,2,  34.4570,2,   -999.0,5,    202.0,2,    18.10,2,    25.80,2,     1.78,2,   -999.0,9
  09AR19940101,  SR03,     9,  1,     12,     12,2,19940103,0956,-45.7013, 145.6700, 2008,    902.8,   5.7470,  34.4150,2,  34.4130,2,   -999.0,5,    198.2,2,    25.90,2,    28.20,2,     1.90,2,   -999.0,9
  09AR19940101,  SR03,     9,  1,     11,     11,2,19940103,0956,-45.7013, 145.6700, 2008,   1004.7,   4.8530,  34.3790,2,  34.3800,2,   -999.0,5,    200.2,2,    32.10,2,    29.80,2,     2.07,2,   -999.0,9
  09AR19940101,  SR03,     9,  1,     10,     10,2,19940103,0956,-45.7013, 145.6700, 2008,   1103.2,   4.2310,  34.3760,2,  34.3770,2,   -999.0,5,    198.2,2,    38.30,2,    31.10,2,     2.18,2,   -999.0,9
  09AR19940101,  SR03,     9,  1,      9,    121,2,19940103,0956,-45.7013, 145.6700, 2008,   1204.3,   3.8690,  34.4070,2,  34.4080,2,   -999.0,5,    189.6,2,    46.60,2,    32.10,2,     2.25,2,   -999.0,9
  09AR19940101,  SR03,     9,  1,      8,      8,2,19940103,0956,-45.7013, 145.6700, 2008,   1303.5,   3.4300,  34.4330,2,  34.4350,2,   -999.0,5,    183.3,2,    53.30,2,    33.10,2,     2.33,2,   -999.0,9
  09AR19940101,  SR03,     9,  1,      7,      7,2,19940103,0956,-45.7013, 145.6700, 2008,   1401.0,   3.0510,  34.4770,2,  34.4770,2,   -999.0,5,    177.3,2,    59.40,2,    33.90,2,     2.39,2,   -999.0,9
  09AR19940101,  SR03,     9,  1,      6,      6,2,19940103,0956,-45.7013, 145.6700, 2008,   1503.0,   2.8680,  34.5180,2,  34.5170,2,   -999.0,5,    173.3,2,    62.70,2,    33.90,2,     2.40,2,   -999.0,9
  09AR19940101,  SR03,     9,  1,      5,      5,2,19940103,0956,-45.7013, 145.6700, 2008,   1604.4,   2.6320,  34.5870,2,  34.5860,2,   -999.0,5,    171.6,2,    67.10,2,    33.50,2,     2.37,2,   -999.0,9
  09AR19940101,  SR03,     9,  1,      4,      4,2,19940103,0956,-45.7013, 145.6700, 2008,   1704.4,   2.5500,  34.6130,2,  34.6140,2,   -999.0,5,    172.4,2,    70.10,2,    33.10,2,     2.35,2,   -999.0,9
  09AR19940101,  SR03,     9,  1,      3,      3,2,19940103,0956,-45.7013, 145.6700, 2008,   1801.2,   2.5010,  34.6300,2,  34.6300,2,   -999.0,5,    172.9,2,    71.70,2,    32.90,2,     2.33,2,   -999.0,9
  09AR19940101,  SR03,     9,  1,      2,      2,2,19940103,0956,-45.7013, 145.6700, 2008,   1906.0,   2.4140,  34.6580,2,  34.6580,2,   -999.0,5,    175.1,2,    70.60,2,    32.70,2,     2.31,2,   -999.0,9
  09AR19940101,  SR03,     9,  1,      1,      1,2,19940103,0956,-45.7013, 145.6700, 2008,   2005.2,   2.3660,  34.6770,2,  34.6750,2,   -999.0,5,    177.4,2,    74.00,2,    32.50,2,     2.29,2,   -999.0,9
  09AR19940101,  SR03,    10,  1,     23,     23,2,19940103,1546,-46.1713, 145.4638, 2731,     15.6,  11.4660,  34.6770,2,  34.6750,2,   -999.0,5,    275.2,2,  -999.00,9,     7.30,2,     0.54,2,   2065.9,2
  09AR19940101,  SR03,    10,  1,     22,     22,2,19940103,1546,-46.1713, 145.4638, 2731,     27.5,  11.4340,  34.6730,2,  34.6720,2,   -999.0,5,    276.1,2,     2.20,2,     7.30,2,     0.60,2,   2065.1,6
  09AR19940101,  SR03,    10,  1,     21,     21,2,19940103,1546,-46.1713, 145.4638, 2731,     54.0,  11.0190,  34.6650,4,  34.6570,2,   -999.0,5,    274.2,2,     1.90,2,     8.60,2,     0.65,2,   2073.7,2
  09AR19940101,  SR03,    10,  1,     20,    120,2,19940103,1546,-46.1713, 145.4638, 2731,    104.8,  10.2470,  34.8200,3,  34.8260,2,   -999.0,5,    255.4,2,     3.40,2,     9.80,2,     0.77,2,   2103.0,2
  09AR19940101,  SR03,    10,  1,     19,    119,2,19940103,1546,-46.1713, 145.4638, 2731,    129.9,   9.6800,  34.7210,3,  34.7240,2,   -999.0,5,    264.0,2,     4.40,2,    13.40,2,     0.94,2,   2102.4,2
  09AR19940101,  SR03,    10,  1,     18,     18,2,19940103,1546,-46.1713, 145.4638, 2731,    155.0,   9.4140,  34.6780,2,  34.6810,2,   -999.0,5,    269.2,2,     4.40,2,    13.70,2,     0.96,2,   2101.9,2
  09AR19940101,  SR03,    10,  1,     17,    117,2,19940103,1546,-46.1713, 145.4638, 2731,    206.0,   9.2730,  34.6620,2,  34.6610,2,   -999.0,5,    269.3,2,     4.40,2,    14.00,2,     0.99,2,   2103.6,2
  09AR19940101,  SR03,    10,  1,     16,    116,2,19940103,1546,-46.1713, 145.4638, 2731,    304.5,   8.9670,  34.6200,2,  34.6200,2,   -999.0,5,    263.2,2,     4.40,2,    14.40,2,     1.01,2,   2107.1,2
  09AR19940101,  SR03,    10,  1,     15,     15,3,19940103,1546,-46.1713, 145.4638, 2731,    405.7,   8.6700,  34.5770,2,  34.5810,2,   -999.0,5,    258.2,2,     5.50,2,    16.70,2,     1.14,2,   2112.3,2
  09AR19940101,  SR03,    10,  1,     14,    114,2,19940103,1546,-46.1713, 145.4638, 2731,    605.1,   7.8180,  34.4980,2,  34.4980,2,   -999.0,5,    225.5,2,    10.20,2,    22.10,2,     1.47,2,   2138.9,2
  09AR19940101,  SR03,    10,  1,     13,     13,2,19940103,1546,-46.1713, 145.4638, 2731,    704.1,   6.9620,  34.4530,2,  34.4540,2,   -999.0,5,    208.7,2,    15.70,2,    25.40,2,     1.70,2,   2158.2,2
  09AR19940101,  SR03,    10,  1,     12,     12,2,19940103,1546,-46.1713, 145.4638, 2731,    803.2,   6.2930,  34.4230,2,  34.4220,2,   -999.0,5,    203.7,2,    15.70,4,    25.20,4,     1.64,4,   2169.1,2
  09AR19940101,  SR03,    10,  1,     11,     11,2,19940103,1546,-46.1713, 145.4638, 2731,    904.7,   5.3630,  34.3790,2,  34.3820,2,   -999.0,5,    204.6,2,    26.40,2,    29.50,2,     1.96,2,   2180.6,2
  09AR19940101,  SR03,    10,  1,     10,     10,2,19940103,1546,-46.1713, 145.4638, 2731,   1005.6,   4.6190,  34.3640,2,  34.3650,2,   -999.0,5,    203.3,2,    33.70,2,    31.20,2,     2.09,2,   2192.5,6
  09AR19940101,  SR03,    10,  1,      9,    121,2,19940103,1546,-46.1713, 145.4638, 2731,   1105.3,   4.1620,  34.3790,2,  34.3790,2,   -999.0,5,    196.9,2,    40.90,2,    32.30,2,     2.19,2,   2205.1,2
  09AR19940101,  SR03,    10,  1,      8,      8,2,19940103,1546,-46.1713, 145.4638, 2731,   1204.3,   3.5210,  34.3830,2,  34.3840,2,   -999.0,5,    194.6,2,    47.10,2,    33.60,2,     2.27,2,   2216.4,2
  09AR19940101,  SR03,    10,  1,      7,      7,2,19940103,1546,-46.1713, 145.4638, 2731,   1404.3,   3.0120,  34.4690,2,  34.4690,2,   -999.0,5,    178.9,2,    60.90,2,    34.80,2,     2.37,2,   2238.6,2
  09AR19940101,  SR03,    10,  1,      6,      6,2,19940103,1546,-46.1713, 145.4638, 2731,   1602.7,   2.6910,  34.5540,2,  34.5520,2,   -999.0,5,    172.7,2,    68.20,2,    34.90,2,     2.37,2,   2250.3,2
  09AR19940101,  SR03,    10,  1,      5,      5,2,19940103,1546,-46.1713, 145.4638, 2731,   2003.9,   2.3680,  34.6730,2,  34.6720,2,   -999.0,5,    176.1,2,    74.70,2,    33.60,2,     2.27,2,   2256.7,2
  09AR19940101,  SR03,    10,  1,      4,      4,2,19940103,1546,-46.1713, 145.4638, 2731,   2204.4,   2.2050,  34.7090,2,  34.7070,2,   -999.0,5,    179.3,2,    84.70,3,    33.20,2,     2.24,2,   2259.1,6
  09AR19940101,  SR03,    10,  1,      3,      3,2,19940103,1546,-46.1713, 145.4638, 2731,   2403.2,   2.0290,  34.7280,2,  34.7260,2,   -999.0,5,    183.1,2,    84.60,2,    32.90,2,     2.22,2,   2260.6,2
  09AR19940101,  SR03,    10,  1,      2,      2,2,19940103,1546,-46.1713, 145.4638, 2731,   2600.0,   1.8630,  34.7340,2,  34.7330,2,   -999.0,5,    185.9,2,    92.50,2,    32.90,2,     2.22,2,   2261.3,2
  09AR19940101,  SR03,    10,  1,      1,      1,2,19940103,1546,-46.1713, 145.4638, 2731,   2751.8,   1.7100,  34.7340,2,  34.7330,2,   -999.0,5,    188.5,2,    92.90,2,    33.10,2,     2.23,2,   2266.1,2
  09AR19940101,  SR03,    11,  1,     24,     24,2,19940103,2039,-46.6525, 145.2567, 3355,     13.4,  11.2680,  34.6410,2,  34.6410,2,    276.3,2,    276.2,2,     1.40,2,     7.80,2,     0.64,2,   -999.0,9
  09AR19940101,  SR03,    11,  1,     23,     23,2,19940103,2039,-46.6525, 145.2567, 3355,     13.4,  11.2680,  34.6420,2,-999.0000,9,    276.3,2,   -999.0,9,  -999.00,9,  -999.00,9,  -999.00,9,   -999.0,9
  09AR19940101,  SR03,    11,  1,     22,     22,2,19940103,2039,-46.6525, 145.2567, 3355,     29.1,  11.2690,  34.6410,2,  34.6400,2,    277.8,2,    275.2,2,     1.40,2,     7.80,2,     0.66,2,   -999.0,9
  09AR19940101,  SR03,    11,  1,     21,     21,3,19940103,2039,-46.6525, 145.2567, 3355,     29.4,  11.2680,  34.6410,2,-999.0000,9,    277.8,2,   -999.0,9,  -999.00,9,  -999.00,9,  -999.00,9,   -999.0,9
  09AR19940101,  SR03,    11,  1,     20,    120,2,19940103,2039,-46.6525, 145.2567, 3355,     53.3,  11.1240,  34.6470,2,  34.6450,2,    273.3,2,    275.0,2,     1.10,2,     8.20,2,     0.70,2,   -999.0,9
  09AR19940101,  SR03,    11,  1,     19,    119,2,19940103,2039,-46.6525, 145.2567, 3355,     53.5,  11.1150,  34.6470,2,-999.0000,9,    273.3,2,   -999.0,9,  -999.00,9,  -999.00,9,  -999.00,9,   -999.0,9
  09AR19940101,  SR03,    11,  1,     16,    116,2,19940103,2039,-46.6525, 145.2567, 3355,    102.8,   9.8750,  34.7220,4,-999.0000,9,    265.9,2,   -999.0,9,  -999.00,9,  -999.00,9,  -999.00,9,   -999.0,9
  09AR19940101,  SR03,    11,  1,     18,     18,2,19940103,2039,-46.6525, 145.2567, 3355,    103.2,   9.8860,  34.7190,2,  34.7180,2,    267.1,2,    266.5,2,     3.60,2,    12.50,2,     0.93,2,   -999.0,9
  09AR19940101,  SR03,    11,  1,     17,    117,2,19940103,2039,-46.6525, 145.2567, 3355,    103.2,   9.8840,  34.7190,2,-999.0000,9,    267.1,2,   -999.0,9,  -999.00,9,  -999.00,9,  -999.00,9,   -999.0,9
  09AR19940101,  SR03,    11,  1,     14,    114,2,19940103,2039,-46.6525, 145.2567, 3355,    153.7,   9.3780,  34.6640,3,-999.0000,9,    269.8,2,   -999.0,9,  -999.00,9,  -999.00,9,  -999.00,9,   -999.0,9
  09AR19940101,  SR03,    11,  1,     15,     15,3,19940103,2039,-46.6525, 145.2567, 3355,    154.2,   9.3950,  34.6710,2,  34.6700,2,    269.8,2,    267.1,2,     4.20,2,    13.60,2,     1.00,2,   -999.0,9
  09AR19940101,  SR03,    11,  1,     13,     13,2,19940103,2039,-46.6525, 145.2567, 3355,    205.3,   9.1570,  34.6330,2,  34.6340,2,    268.6,2,    270.8,2,     3.90,2,    13.60,2,     1.02,2,   -999.0,9
  09AR19940101,  SR03,    12,  1,     23,     23,2,19940103,2247,-46.6480, 145.2513, 3355,     14.4,  11.3640,  34.6550,2,  34.6560,2,    271.6,2,    275.3,2,     2.70,2,     7.30,2,     0.60,2,   -999.0,9
  09AR19940101,  SR03,    12,  1,     22,     22,2,19940103,2247,-46.6480, 145.2513, 3355,    304.5,   8.8690,  34.5950,3,  34.5960,2,    265.2,2,    268.6,2,     4.80,2,    14.90,2,     1.05,2,   -999.0,9
  09AR19940101,  SR03,    12,  1,     21,     21,2,19940103,2247,-46.6480, 145.2513, 3355,    404.3,   8.7120,  34.5770,2,  34.5780,2,    265.7,2,    262.3,2,     5.30,2,    16.10,2,     1.11,2,   -999.0,9
  09AR19940101,  SR03,    12,  1,     20,    120,2,19940103,2247,-46.6480, 145.2513, 3355,    502.1,   8.4160,  34.5400,2,  34.5390,2,    254.3,2,    252.9,2,     6.30,2,    17.80,2,     1.23,2,   -999.0,9
  09AR19940101,  SR03,    12,  1,     19,    119,2,19940103,2247,-46.6480, 145.2513, 3355,    603.7,   8.0770,  34.5220,2,  34.5220,2,    236.5,2,    231.0,2,     9.00,2,    20.60,2,     1.40,2,   -999.0,9
  09AR19940101,  SR03,    12,  1,     18,     18,2,19940103,2247,-46.6480, 145.2513, 3355,    703.7,   7.3710,  34.4830,2,  34.4810,2,    214.0,2,    211.8,2,    13.70,2,    23.80,2,     1.62,2,   -999.0,9
  09AR19940101,  SR03,    12,  1,     17,    117,2,19940103,2247,-46.6480, 145.2513, 3355,    804.2,   6.5800,  34.4410,2,  34.4440,2,    203.0,2,    203.1,2,    18.50,2,    26.20,2,     1.78,2,   -999.0,9
  09AR19940101,  SR03,    12,  1,     16,    116,2,19940103,2247,-46.6480, 145.2513, 3355,    904.5,   5.6170,  34.3900,2,  34.3910,2,    202.6,2,    204.6,2,    23.80,2,    28.20,2,     1.93,2,   -999.0,9
  09AR19940101,  SR03,    12,  1,     15,    115,2,19940103,2247,-46.6480, 145.2513, 3355,   1002.3,   4.8450,  34.3740,2,  34.3730,2,    203.0,2,    202.3,2,    30.70,2,    29.90,2,     2.06,2,   -999.0,9
  09AR19940101,  SR03,    12,  1,     14,    114,2,19940103,2247,-46.6480, 145.2513, 3355,   1102.1,   4.1880,  34.3640,2,  34.3660,2,    197.9,2,    201.3,2,    36.80,2,    31.20,2,     2.15,2,   -999.0,9
  09AR19940101,  SR03,    12,  1,     13,     13,2,19940103,2247,-46.6480, 145.2513, 3355,   1204.3,   3.6550,  34.3840,3,  34.3830,2,    188.9,2,    195.0,2,    44.50,2,    32.40,2,     2.25,2,   -999.0,9
  09AR19940101,  SR03,    12,  1,     12,     12,2,19940103,2247,-46.6480, 145.2513, 3355,   1303.3,   3.3940,  34.4450,2,  34.4460,2,    179.6,2,    180.2,2,    54.30,2,    33.50,2,     2.28,2,   -999.0,9
  09AR19940101,  SR03,    12,  1,     11,     11,2,19940103,2247,-46.6480, 145.2513, 3355,   1403.8,   3.1350,  34.4860,2,  34.4860,2,    173.2,2,    174.0,2,    60.90,2,    34.00,2,     2.35,2,   -999.0,9
  09AR19940101,  SR03,    12,  1,     10,     10,2,19940103,2247,-46.6480, 145.2513, 3355,   1603.6,   2.7160,  34.5550,2,  34.5560,2,    176.4,2,    171.7,2,    65.90,2,    34.00,2,     2.36,2,   -999.0,9
  09AR19940101,  SR03,    12,  1,      9,    121,2,19940103,2247,-46.6480, 145.2513, 3355,   1800.9,   2.5150,  34.6240,2,  34.6240,2,    176.5,2,    173.0,2,    68.00,2,    33.30,2,     2.31,2,   -999.0,9
  09AR19940101,  SR03,    12,  1,      8,      8,2,19940103,2247,-46.6480, 145.2513, 3355,   1901.7,   2.4490,  34.6520,2,  34.6510,2,    178.0,2,    129.0,4,    71.60,2,    33.00,2,     2.29,2,   -999.0,9
  09AR19940101,  SR03,    12,  1,      7,      7,2,19940103,2247,-46.6480, 145.2513, 3355,   2003.1,   2.3860,  34.6740,2,  34.6730,2,    178.7,2,    135.8,4,    73.80,2,    32.70,2,     2.26,2,   -999.0,9
  09AR19940101,  SR03,    12,  1,      6,      6,2,19940103,2247,-46.6480, 145.2513, 3355,   2102.2,   2.3370,  34.6940,2,  34.6940,2,    181.9,2,    179.1,2,    74.90,2,    32.20,2,     2.22,2,   -999.0,9
  09AR19940101,  SR03,    12,  1,      5,      5,2,19940103,2247,-46.6480, 145.2513, 3355,   2301.5,   2.1890,  34.7250,2,  34.7260,2,    186.3,2,    160.7,4,    78.20,2,    31.50,2,     2.18,2,   -999.0,9
  09AR19940101,  SR03,    12,  1,      4,      4,2,19940103,2247,-46.6480, 145.2513, 3355,   2501.4,   2.0360,  34.7380,2,  34.7500,2,    188.6,2,    188.8,2,    89.50,2,    31.60,2,     2.21,2,   -999.0,9
  09AR19940101,  SR03,    12,  1,      3,      3,2,19940103,2247,-46.6480, 145.2513, 3355,   2899.4,   1.6880,  34.7350,2,  34.7350,2,    190.3,2,    189.8,2,    98.40,2,    31.90,2,     2.21,2,   -999.0,9
  09AR19940101,  SR03,    12,  1,      2,      2,2,19940103,2247,-46.6480, 145.2513, 3355,   3102.7,   1.5180,  34.7330,2,  34.7310,2,    191.4,2,    193.1,2,   102.40,2,    32.10,2,     2.22,2,   -999.0,9
  09AR19940101,  SR03,    12,  1,      1,      1,2,19940103,2247,-46.6480, 145.2513, 3355,   3385.5,   1.3790,  34.7290,2,  34.7260,2,    195.2,2,    196.1,2,   105.60,2,    32.30,2,     2.23,2,   -999.0,9