BOTTLE,20230321CCHSIOENA
EXPOCODE,SECT_ID,STNNBR,CASTNO,SAMPNO,BTLNBR,BTLNBR_FLAG_W,DATE,TIME,LATITUDE,LONGITUDE,DEPTH,CTDPRS,CTDTMP,CTDSAL,CTDSAL_FLAG_W,SALNTY,SALNTY_FLAG_W,CTDOXY,CTDOXY_FLAG_W,OXYGEN,OXYGEN_FLAG_W,SILCAT,SILCAT_FLAG_W,NITRAT,NITRAT_FLAG_W,PHSPHT,PHSPHT_FLAG_W,TCARBN,TCARBN_FLAG_W
,,,,,,,,,,,METERS,DBAR,ITS-90,PSS-78,,PSS-78,,UMOL/KG,,UMOL/KG,,UMOL/KG,,UMOL/KG,,UMOL/KG,,UMOL/KG,
  09AR19940101,  SR03,    31,  1,     24,     24,2,19940108,0727,-52.6708, 142.3725, 3484,     14.8,   5.4610,  33.8570,2,  33.8570,2,    310.3,2,    308.0,2,     1.90,2,    22.60,2,     1.46,4,   2106.0,6
  09AR19940101,  SR03,    31,  1,     23,    113,2,19940108,0727,-52.6708, 142.3725, 3484,    214.0,   1.6330,  33.9500,2,  33.9520,2,    325.5,3,   -999.0,9,    17.60,2,    28.10,2,     1.93,2,   2150.9,2
  09AR19940101,  SR03,    31,  1,     22,     22,2,19940108,0727,-52.6708, 142.3725, 3484,    294.1,   2.7260,  34.1580,2,  34.1570,2,    244.8,2,    250.0,2,    28.80,2,    31.10,2,     2.15,2,   2182.8,2
  09AR19940101,  SR03,    31,  1,     21,     21,2,19940108,0727,-52.6708, 142.3725, 3484,    354.7,   2.6120,  34.2190,2,  34.2170,2,    231.8,2,    233.0,2,    35.20,2,    32.00,2,     2.24,2,   2198.0,2
  09AR19940101,  SR03,    31,  1,     20,    120,2,19940108,0727,-52.6708, 142.3725, 3484,    405.2,   2.4160,  34.2450,2,  34.2430,2,    226.3,2,    227.3,2,    39.40,2,    33.00,2,     2.33,2,   2206.0,2
  09AR19940101,  SR03,    31,  1,     19,    119,2,19940108,0727,-52.6708, 142.3725, 3484,    503.7,   2.4310,  34.3420,2,  34.3440,2,    201.7,2,    203.6,2,    48.10,2,    34.10,2,     2.36,2,   2223.0,2
  09AR19940101,  SR03,    31,  1,     18,    118,2,19940108,0727,-52.6708, 142.3725, 3484,    604.6,   2.4330,  34.4290,2,  34.4300,2,    191.0,2,    188.4,2,    55.30,2,    34.50,2,     2.40,2,   2236.5,2
  09AR19940101,  SR03,    31,  1,     17,    117,2,19940108,0727,-52.6708, 142.3725, 3484,    705.8,   2.4330,  34.4940,2,  34.4930,2,    182.1,2,    180.5,2,    60.50,2,    34.10,2,     2.39,2,   2241.2,2
  09AR19940101,  SR03,    31,  1,     16,    116,2,19940108,0727,-52.6708, 142.3725, 3484,    803.2,   2.4170,  34.5530,2,  34.5540,2,    179.5,2,    176.0,2,    65.60,2,    34.00,2,     2.38,2,   2247.2,6
  09AR19940101,  SR03,    31,  1,     15,    115,2,19940108,0727,-52.6708, 142.3725, 3484,    905.3,   2.4000,  34.5930,2,  34.5920,2,    175.5,2,    175.4,2,    68.20,2,    33.50,2,     2.34,2,   2246.9,2
  09AR19940101,  SR03,    31,  1,     14,    114,2,19940108,0727,-52.6708, 142.3725, 3484,   1003.4,   2.3390,  34.6250,2,  34.6230,2,    174.8,2,    175.1,2,    70.30,2,    33.00,2,     2.32,2,   2248.2,2
  09AR19940101,  SR03,    31,  1,     13,    124,2,19940108,0727,-52.6708, 142.3725, 3484,   1104.1,   2.3120,  34.6570,2,  34.6560,2,    176.9,2,    177.3,2,    72.10,2,    32.70,2,     2.29,2,   2248.6,2
  09AR19940101,  SR03,    31,  1,     12,     12,2,19940108,0727,-52.6708, 142.3725, 3484,   1304.4,   2.2260,  34.7080,2,  34.7080,2,    183.8,2,    184.2,2,    71.90,2,    31.20,2,     2.15,4,   2245.4,2
  09AR19940101,  SR03,    31,  1,     11,     11,2,19940108,0727,-52.6708, 142.3725, 3484,   1553.0,   2.0870,  34.7360,2,  34.7350,2,    189.0,2,    191.2,2,    73.40,2,    30.60,2,     2.14,2,   2245.6,2
  09AR19940101,  SR03,    31,  1,     10,     10,2,19940108,0727,-52.6708, 142.3725, 3484,   1823.2,   1.8470,  34.7450,2,  34.7450,2,    191.3,2,    192.5,2,    82.80,3,    30.80,3,     2.16,3,   2251.7,2
  09AR19940101,  SR03,    31,  1,      9,    121,3,19940108,0727,-52.6708, 142.3725, 3484,   1910.6,   1.7920,  34.7450,2,  34.7450,2,    196.2,2,    193.7,2,    81.00,2,    30.70,2,     2.16,2,   2253.2,2
  09AR19940101,  SR03,    31,  1,      8,      8,2,19940108,0727,-52.6708, 142.3725, 3484,   2100.5,   1.6140,  34.7420,2,  34.7440,2,    201.1,2,    197.8,2,    85.50,2,    30.90,2,     2.16,2,   2252.9,2
  09AR19940101,  SR03,    31,  1,      7,      7,2,19940108,0727,-52.6708, 142.3725, 3484,   2303.1,   1.4210,  34.7350,2,  34.7360,2,    204.5,2,    198.6,2,    91.90,2,    31.40,2,     2.19,2,   2258.5,2
  09AR19940101,  SR03,    31,  1,      6,      6,2,19940108,0727,-52.6708, 142.3725, 3484,   2502.9,   1.2820,  34.7310,2,  34.7300,2,    205.1,2,    200.7,2,   100.60,2,    31.50,2,     2.21,2,   2258.1,2
  09AR19940101,  SR03,    31,  1,      5,      5,2,19940108,0727,-52.6708, 142.3725, 3484,   2702.3,   1.1230,  34.7240,2,  34.7240,2,    204.1,2,    202.6,2,   103.40,2,    31.80,2,     2.23,2,   2261.6,2
  09AR19940101,  SR03,    31,  1,      4,      4,2,19940108,0727,-52.6708, 142.3725, 3484,   2802.6,   1.0730,  34.7220,2,  34.7220,2,    203.5,2,    203.1,2,   104.60,2,    31.90,2,     2.24,2,   2261.6,2
  09AR19940101,  SR03,    31,  1,      3,      3,2,19940108,0727,-52.6708, 142.3725, 3484,   3000.4,   1.0260,  34.7190,2,  34.7180,2,    202.7,2,    204.1,2,   107.80,2,    32.10,2,     2.25,2,   2261.9,2
  09AR19940101,  SR03,    31,  1,      2,      2,2,19940108,0727,-52.6708, 142.3725, 3484,   3208.8,   0.9790,  34.7160,2,  34.7150,2,    203.4,2,    205.5,2,   106.30,2,    32.10,2,     2.26,2,   2263.4,2
  09AR19940101,  SR03,    31,  1,      1,      1,2,19940108,0727,-52.6708, 142.3725, 3484,   3454.2,   0.9430,  34.7120,2,  34.7130,2,    203.5,2,    206.3,2,   109.80,2,    32.00,2,     2.26,2,   2261.5,6
  09AR19940101,  SR03,    32,  1,     24,     24,2,19940108,1308,-53.1495, 142.1050, 3068,     12.7,   5.3800,  33.8390,2,  33.8380,2,    312.2,2,    312.4,2,     1.80,2,    22.10,2,     1.48,4,   -999.0,9
  09AR19940101,  SR03,    32,  1,     23,    113,2,19940108,1308,-53.1495, 142.1050, 3068,     52.2,   4.9780,  33.8390,4,  33.8400,2,    316.8,2,    315.5,2,     1.20,2,    22.30,2,     1.59,2,   -999.0,9
  09AR19940101,  SR03,    32,  1,     22,     22,2,19940108,1308,-53.1495, 142.1050, 3068,     79.1,   3.6650,  33.8740,3,  33.8750,2,    318.2,2,    320.0,2,     2.50,2,    23.70,2,     1.71,2,   -999.0,9
  09AR19940101,  SR03,    32,  1,     21,     21,2,19940108,1308,-53.1495, 142.1050, 3068,    128.5,   2.7140,  33.9020,4,  33.9030,2,    318.3,2,    316.6,2,    11.30,2,    25.70,2,     1.85,2,   -999.0,9
  09AR19940101,  SR03,    32,  1,     20,    120,2,19940108,1308,-53.1495, 142.1050, 3068,    204.8,   2.6930,  34.0190,2,  34.0150,2,    291.7,2,    290.7,2,    18.70,2,    27.90,2,     1.94,2,   -999.0,9
  09AR19940101,  SR03,    32,  1,     19,    119,2,19940108,1308,-53.1495, 142.1050, 3068,    253.4,   2.9750,  34.1190,2,  34.1200,2,    255.6,2,    259.5,2,    25.10,2,    29.60,2,     2.07,2,   -999.0,9
  09AR19940101,  SR03,    32,  1,     18,    118,2,19940108,1308,-53.1495, 142.1050, 3068,    304.2,   3.2100,  34.2130,4,  34.2000,2,    238.2,2,    238.7,2,    30.60,2,    30.60,2,     2.15,2,   -999.0,9
  09AR19940101,  SR03,    32,  1,     17,    117,2,19940108,1308,-53.1495, 142.1050, 3068,    405.6,   2.7140,  34.2580,2,  34.2590,2,    219.0,2,    222.4,2,    39.90,2,    32.30,2,     2.27,2,   -999.0,9
  09AR19940101,  SR03,    32,  1,     16,    116,2,19940108,1308,-53.1495, 142.1050, 3068,    503.7,   2.8690,  34.3780,2,  34.3790,2,    199.0,2,    196.6,2,    49.40,2,    33.30,2,     2.33,2,   -999.0,9
  09AR19940101,  SR03,    32,  1,     15,    115,2,19940108,1308,-53.1495, 142.1050, 3068,    603.5,   2.7090,  34.4430,2,  34.4440,2,    190.9,2,    186.3,2,    57.20,2,    33.60,2,     2.37,2,   -999.0,9
  09AR19940101,  SR03,    32,  1,     14,    114,2,19940108,1308,-53.1495, 142.1050, 3068,    701.9,   2.6150,  34.4890,2,  34.4880,2,    182.5,2,    180.4,2,    60.60,2,    33.50,2,     2.38,2,   -999.0,9
  09AR19940101,  SR03,    32,  1,     13,    124,2,19940108,1308,-53.1495, 142.1050, 3068,    805.3,   2.5370,  34.5440,2,  34.5420,2,    179.2,2,    176.6,2,    63.70,2,    33.70,2,     2.36,2,   -999.0,9
  09AR19940101,  SR03,    32,  1,     12,     12,2,19940108,1308,-53.1495, 142.1050, 3068,    904.0,   2.4890,  34.5840,2,  34.5840,2,    175.8,2,    175.6,2,    67.90,2,    33.30,2,     2.32,4,   -999.0,9
  09AR19940101,  SR03,    32,  1,     11,     11,2,19940108,1308,-53.1495, 142.1050, 3068,   1003.3,   2.4360,  34.6200,2,  34.6190,2,    177.0,2,    175.5,2,    69.60,2,    33.00,2,     2.31,2,   -999.0,9
  09AR19940101,  SR03,    32,  1,     10,     10,2,19940108,1308,-53.1495, 142.1050, 3068,   1103.2,   2.3550,  34.6570,2,  34.6570,2,    177.3,2,    178.6,2,    72.50,2,    32.40,2,     2.28,2,   -999.0,9
  09AR19940101,  SR03,    32,  1,      9,    121,2,19940108,1308,-53.1495, 142.1050, 3068,   1203.7,   2.3060,  34.6830,2,  34.6820,2,    180.5,2,    180.7,2,    71.20,2,    31.80,2,     2.24,2,   -999.0,9
  09AR19940101,  SR03,    32,  1,      8,      8,2,19940108,1308,-53.1495, 142.1050, 3068,   1402.1,   2.1990,  34.7160,2,  34.7150,2,    185.0,2,    183.5,2,    78.40,2,    31.50,2,     2.20,2,   -999.0,9
  09AR19940101,  SR03,    32,  1,      7,      7,2,19940108,1308,-53.1495, 142.1050, 3068,   1702.7,   2.0290,  34.7410,2,  34.7410,2,    189.9,2,    192.0,2,    77.60,2,    30.60,2,     2.14,2,   -999.0,9
  09AR19940101,  SR03,    32,  1,      6,      6,2,19940108,1308,-53.1495, 142.1050, 3068,   1901.9,   1.8770,  34.7450,2,  34.7460,2,    196.8,2,    194.1,2,    82.30,2,    30.60,2,     2.14,2,   -999.0,9
  09AR19940101,  SR03,    32,  1,      5,      5,2,19940108,1308,-53.1495, 142.1050, 3068,   2202.6,   1.5680,  34.7390,2,  34.7400,2,    200.2,2,    197.7,2,    92.30,2,    30.70,2,     2.17,2,   -999.0,9
  09AR19940101,  SR03,    32,  1,      4,      4,2,19940108,1308,-53.1495, 142.1050, 3068,   2404.1,   1.3800,  34.7310,2,  34.7310,2,    202.1,2,    198.7,2,    90.20,3,    31.20,2,     2.20,2,   -999.0,9
  09AR19940101,  SR03,    32,  1,      3,      3,2,19940108,1308,-53.1495, 142.1050, 3068,   2701.7,   1.1260,  34.7210,2,  34.7210,2,    205.8,2,    203.2,2,   102.10,2,    31.50,2,     2.23,2,   -999.0,9
  09AR19940101,  SR03,    32,  1,      2,      2,2,19940108,1308,-53.1495, 142.1050, 3068,   2904.6,   1.0380,  34.7160,2,  34.7160,2,    207.6,2,    204.2,2,   101.80,2,    31.70,2,     2.25,2,   -999.0,9
  09AR19940101,  SR03,    32,  1,      1,      1,2,19940108,1308,-53.1495, 142.1050, 3068,   3124.8,   0.9360,  34.7110,2,  34.7110,2,    209.6,2,    206.7,2,   110.90,2,    31.70,2,     2.25,2,   -999.0,9
  09AR19940101,  SR03,    33,  1,     24,     24,2,19940108,1805,-53.5818, 141.8668, 2499,     15.0,   4.6840,  33.8870,2,  33.8880,2,    319.6,2,    318.1,2,     1.90,2,    23.40,2,     1.47,4,   2114.3,2
  09AR19940101,  SR03,    33,  1,     23,    113,2,19940108,1805,-53.5818, 141.8668, 2499,     29.0,   4.3110,  33.8930,2,  33.8930,2,    321.4,2,    324.7,2,     1.90,2,    23.60,2,     1.53,2,   2117.2,6
  09AR19940101,  SR03,    33,  1,     22,     22,2,19940108,1805,-53.5818, 141.8668, 2499,     54.6,   3.2030,  33.8930,4,  33.8920,2,    334.9,2,    334.2,2,     2.00,2,    23.90,2,     1.64,2,   2119.9,2
  09AR19940101,  SR03,    33,  1,     21,     21,2,19940108,1805,-53.5818, 141.8668, 2499,    102.7,   2.4260,  33.9060,3,  33.9080,2,    325.1,2,    324.3,2,     9.80,2,    25.40,2,     1.83,2,   2137.2,2
  09AR19940101,  SR03,    33,  1,     20,    120,2,19940108,1805,-53.5818, 141.8668, 2499,    152.3,   1.5940,  33.9580,2,  33.9590,2,    303.8,2,    314.8,2,    18.80,2,    27.90,2,     1.97,2,   2153.2,2
  09AR19940101,  SR03,    33,  1,     19,    119,2,19940108,1805,-53.5818, 141.8668, 2499,    203.0,   2.2410,  34.0950,4,  34.1080,2,    280.1,2,    266.4,2,    27.10,2,    30.30,2,     2.09,2,   2175.6,2
  09AR19940101,  SR03,    33,  1,     18,    118,2,19940108,1805,-53.5818, 141.8668, 2499,    253.2,   2.2390,  34.1560,3,  34.1540,2,    262.5,2,    253.3,2,    33.40,2,    31.30,2,     2.19,2,   2187.5,2
  09AR19940101,  SR03,    33,  1,     17,    117,2,19940108,1805,-53.5818, 141.8668, 2499,    303.8,   2.1800,  34.2040,2,  34.2050,2,    235.5,2,    240.4,2,    38.60,2,    32.20,2,     2.24,2,   2198.9,2
  09AR19940101,  SR03,    33,  1,     16,    116,2,19940108,1805,-53.5818, 141.8668, 2499,    405.1,   2.3140,  34.3360,2,  34.3360,2,    208.4,2,    206.3,2,    50.80,2,    33.80,2,     2.36,2,   2223.1,2
  09AR19940101,  SR03,    33,  1,     15,    115,2,19940108,1805,-53.5818, 141.8668, 2499,    505.3,   2.3460,  34.4250,2,  34.4260,2,    191.8,2,    189.0,2,    58.70,2,    34.40,2,     2.39,2,   2236.2,2
  09AR19940101,  SR03,    33,  1,     14,    114,2,19940108,1805,-53.5818, 141.8668, 2499,    604.0,   2.3560,  34.5010,2,  34.5030,2,    177.5,2,    180.5,2,    63.70,2,    34.00,2,     2.41,2,   2243.7,2
  09AR19940101,  SR03,    33,  1,     13,    124,2,19940108,1805,-53.5818, 141.8668, 2499,    703.0,   2.3550,  34.5570,2,  34.5590,2,    175.8,2,    176.4,2,    66.30,2,    33.50,2,     2.37,2,   2247.2,2
  09AR19940101,  SR03,    33,  1,     12,     12,2,19940108,1805,-53.5818, 141.8668, 2499,    805.8,   2.3190,  34.6080,2,  34.6080,2,    177.6,2,    175.0,2,    70.10,2,    32.90,2,     2.30,4,   2250.0,6
  09AR19940101,  SR03,    33,  1,     11,     11,2,19940108,1805,-53.5818, 141.8668, 2499,    906.3,   2.2920,  34.6390,2,  34.6390,2,    176.5,2,    176.1,2,    71.40,2,    32.80,2,     2.30,2,   2249.9,2
  09AR19940101,  SR03,    33,  1,     10,     10,2,19940108,1805,-53.5818, 141.8668, 2499,   1201.5,   2.1470,  34.7150,2,  34.7160,2,    184.9,2,    175.8,4,    75.50,2,    31.30,2,     2.18,2,   2246.2,2
  09AR19940101,  SR03,    33,  1,      9,    121,2,19940108,1805,-53.5818, 141.8668, 2499,   1302.1,   2.0940,  34.7280,2,  34.7280,2,    188.4,2,    188.7,2,    77.10,2,    30.70,2,     2.15,2,   2245.3,2
  09AR19940101,  SR03,    33,  1,      8,      8,2,19940108,1805,-53.5818, 141.8668, 2499,   1502.9,   1.9590,  34.7430,2,  34.7440,2,    192.2,2,    193.6,2,    76.90,2,    30.50,2,     2.12,2,   2245.4,2
  09AR19940101,  SR03,    33,  1,      7,      7,2,19940108,1805,-53.5818, 141.8668, 2499,   1702.1,   1.7750,  34.7480,2,  34.7480,2,    194.6,2,    197.7,2,    82.00,2,    30.20,2,     2.11,2,   2246.7,2
  09AR19940101,  SR03,    33,  1,      6,      6,2,19940108,1805,-53.5818, 141.8668, 2499,   1803.2,   1.6920,  34.7480,2,  34.7450,2,    197.9,2,    198.8,2,    84.10,2,    30.10,2,     2.12,2,   2247.0,2
  09AR19940101,  SR03,    33,  1,      5,      5,2,19940108,1805,-53.5818, 141.8668, 2499,   1902.9,   1.5950,  34.7450,2,  34.7450,2,    201.3,2,    199.8,2,    86.50,2,    30.30,2,     2.13,2,   2248.7,2
  09AR19940101,  SR03,    33,  1,      4,      4,2,19940108,1805,-53.5818, 141.8668, 2499,   2003.2,   1.4890,  34.7410,2,  34.7420,2,    203.1,2,    201.0,2,    85.50,2,    30.60,2,     2.13,2,   2249.9,6
  09AR19940101,  SR03,    33,  1,      3,      3,2,19940108,1805,-53.5818, 141.8668, 2499,   2201.3,   1.2610,  34.7330,2,  34.7320,2,    206.4,2,    203.5,2,    90.60,2,    30.90,2,     2.17,2,   2253.2,2
  09AR19940101,  SR03,    33,  1,      2,      2,2,19940108,1805,-53.5818, 141.8668, 2499,   2403.8,   1.1150,  34.7250,2,  34.7240,2,    202.1,2,    203.8,2,    98.10,2,    31.10,2,     2.20,2,   2257.5,2
  09AR19940101,  SR03,    33,  1,      1,      1,2,19940108,1805,-53.5818, 141.8668, 2499,   2513.1,   1.0990,  34.7240,2,  34.7220,2,    204.6,2,    203.5,2,   103.30,2,    31.50,2,     2.20,2,   2259.2,2