BOTTLE,20230321CCHSIOENA
EXPOCODE,SECT_ID,STNNBR,CASTNO,SAMPNO,BTLNBR,BTLNBR_FLAG_W,DATE,TIME,LATITUDE,LONGITUDE,DEPTH,CTDPRS,CTDTMP,CTDSAL,CTDSAL_FLAG_W,SALNTY,SALNTY_FLAG_W,CTDOXY,CTDOXY_FLAG_W,OXYGEN,OXYGEN_FLAG_W,SILCAT,SILCAT_FLAG_W,NITRAT,NITRAT_FLAG_W,PHSPHT,PHSPHT_FLAG_W,TCARBN,TCARBN_FLAG_W
,,,,,,,,,,,METERS,DBAR,ITS-90,PSS-78,,PSS-78,,UMOL/KG,,UMOL/KG,,UMOL/KG,,UMOL/KG,,UMOL/KG,,UMOL/KG,
  09AR19940101,  SR03,    38,  1,     24,     24,2,19940109,1727,-55.4872, 140.7222, 4060,     13.4,   4.3500,  33.8880,2,  33.8980,2,    329.1,2,    326.8,2,     4.40,2,    24.00,2,     1.43,4,   2122.9,6
  09AR19940101,  SR03,    38,  1,     23,    113,2,19940109,1727,-55.4872, 140.7222, 4060,     54.3,   2.7470,  33.8750,2,  33.8770,2,    341.1,2,    341.0,2,     2.20,2,    24.20,2,     1.63,2,   2120.5,2
  09AR19940101,  SR03,    38,  1,     22,     22,2,19940109,1727,-55.4872, 140.7222, 4060,    104.7,   1.8690,  33.9050,2,  33.9050,2,    325.2,2,    329.6,2,    11.90,2,    26.30,2,     1.89,2,   2140.1,2
  09AR19940101,  SR03,    38,  1,     21,     21,2,19940109,1727,-55.4872, 140.7222, 4060,    154.8,   0.8260,  33.9410,2,  33.9430,2,    328.8,2,    329.7,2,    21.40,2,    27.90,2,     1.97,2,   2153.6,2
  09AR19940101,  SR03,    38,  1,     20,    120,2,19940109,1727,-55.4872, 140.7222, 4060,    185.2,   0.4210,  33.9990,2,  33.9980,2,    309.3,2,    316.3,2,    29.10,2,    29.50,2,     2.05,2,   2166.8,2
  09AR19940101,  SR03,    38,  1,     19,    119,2,19940109,1727,-55.4872, 140.7222, 4060,    223.8,   1.8080,  34.1870,2,  34.1850,2,    249.6,2,    244.3,2,    39.50,2,    32.60,2,     2.23,2,   2198.8,2
  09AR19940101,  SR03,    38,  1,     18,    118,2,19940109,1727,-55.4872, 140.7222, 4060,    304.0,   2.1780,  34.3330,2,  34.3320,2,    207.2,2,    205.8,2,    51.70,2,    34.20,2,     2.35,2,   2224.2,2
  09AR19940101,  SR03,    38,  1,     17,    117,2,19940109,1727,-55.4872, 140.7222, 4060,    405.5,   2.2360,  34.4350,2,  34.4350,2,    186.0,2,    185.8,2,    60.30,2,    34.50,2,     2.39,2,   2239.8,2
  09AR19940101,  SR03,    38,  1,     16,    116,2,19940109,1727,-55.4872, 140.7222, 4060,    503.7,   2.2920,  34.5110,2,  34.5120,2,    175.1,2,    177.3,2,    65.00,2,    34.20,2,     2.38,2,   2248.0,2
  09AR19940101,  SR03,    38,  1,     15,    115,2,19940109,1727,-55.4872, 140.7222, 4060,    604.3,   2.3050,  34.5680,2,  34.5700,2,    172.0,2,    172.5,2,    68.30,2,    33.60,2,     2.35,2,   2249.0,2
  09AR19940101,  SR03,    38,  1,     14,    114,2,19940109,1727,-55.4872, 140.7222, 4060,    704.4,   2.2860,  34.6160,2,  34.6180,2,    173.1,2,    172.9,2,    70.80,2,    33.00,2,     2.31,2,   2249.8,2
  09AR19940101,  SR03,    38,  1,     13,    124,2,19940109,1727,-55.4872, 140.7222, 4060,    853.7,   2.2240,  34.6710,2,  34.6700,2,    177.9,2,    175.1,2,    72.60,2,    31.80,2,     2.25,2,   2248.6,2
  09AR19940101,  SR03,    38,  1,     12,     12,2,19940109,1727,-55.4872, 140.7222, 4060,   1002.5,   2.1470,  34.7070,2,  34.7060,2,    182.4,2,    180.2,2,    75.10,2,    31.30,2,     2.14,4,   2248.0,2
  09AR19940101,  SR03,    38,  1,     11,     11,2,19940109,1727,-55.4872, 140.7222, 4060,   1204.1,   2.0340,  34.7330,2,  34.7330,2,    185.3,2,    189.1,2,    77.90,2,    30.80,2,     2.12,2,   2245.2,2
  09AR19940101,  SR03,    38,  1,     10,     10,2,19940109,1727,-55.4872, 140.7222, 4060,   1403.9,   1.9060,  34.7440,2,  34.7450,2,    187.7,2,    194.0,2,    81.10,2,    30.00,2,     2.10,2,   2245.7,2
  09AR19940101,  SR03,    38,  1,      9,      9,2,19940109,1727,-55.4872, 140.7222, 4060,   1603.1,   1.7570,  34.7470,2,  34.7490,2,    191.8,2,    197.3,2,    84.70,2,    30.10,2,     2.09,2,   2246.8,6
  09AR19940101,  SR03,    38,  1,      8,      8,2,19940109,1727,-55.4872, 140.7222, 4060,   1903.7,   1.4870,  34.7410,2,  34.7410,2,    199.8,2,    196.7,2,    91.50,2,    30.40,2,     2.11,2,   2249.8,2
  09AR19940101,  SR03,    38,  1,      7,      7,2,19940109,1727,-55.4872, 140.7222, 4060,   2202.7,   1.2040,  34.7300,2,  34.7280,2,    203.2,2,    199.6,2,   100.70,2,    31.00,2,     2.16,2,   2252.8,2
  09AR19940101,  SR03,    38,  1,      6,      6,2,19940109,1727,-55.4872, 140.7222, 4060,   2502.6,   0.9720,  34.7190,2,  34.7170,2,    207.0,2,    206.2,2,    98.40,2,    31.30,2,     2.19,2,   2254.7,2
  09AR19940101,  SR03,    38,  1,      5,      5,2,19940109,1727,-55.4872, 140.7222, 4060,   2903.1,   0.6600,  34.7040,2,  34.7040,2,    209.3,2,    211.1,2,    95.80,3,    31.60,2,     2.22,2,   2256.8,2
  09AR19940101,  SR03,    38,  1,      4,      4,2,19940109,1727,-55.4872, 140.7222, 4060,   3201.7,   0.5100,  34.6980,2,  34.6980,2,    213.4,2,    215.9,2,    79.80,4,    21.10,4,     1.76,4,   2257.5,2
  09AR19940101,  SR03,    38,  1,      3,      3,2,19940109,1727,-55.4872, 140.7222, 4060,   3500.3,   0.4750,  34.6950,2,  34.6950,2,    215.9,2,    217.1,2,   110.70,2,    31.90,2,     2.24,2,   2257.4,2
  09AR19940101,  SR03,    38,  1,      2,      2,2,19940109,1727,-55.4872, 140.7222, 4060,   3800.4,   0.4310,  34.6930,2,  34.6920,2,    217.2,2,    219.3,2,   115.70,2,    31.90,2,     2.24,2,   2257.8,2
  09AR19940101,  SR03,    38,  1,      1,      1,2,19940109,1727,-55.4872, 140.7222, 4060,   4110.5,   0.4310,  34.6920,2,  34.6880,2,    216.9,2,    218.8,2,   118.50,2,    32.40,2,     2.24,2,   2258.5,6
  09AR19940101,  SR03,    39,  1,     23,    113,2,19940110,0122,-55.9287, 140.4067, 3693,     12.9,   4.2720,  33.8970,4,-999.0000,9,    333.0,2,   -999.0,9,  -999.00,9,  -999.00,9,  -999.00,9,   -999.0,9
  09AR19940101,  SR03,    39,  1,     24,     24,2,19940110,0122,-55.9287, 140.4067, 3693,     13.7,   4.0300,  33.8900,4,  33.8990,2,    337.3,2,    336.1,2,     3.10,2,    24.70,2,     1.47,4,   -999.0,9
  09AR19940101,  SR03,    39,  1,     21,     21,2,19940110,0122,-55.9287, 140.4067, 3693,     26.8,   3.2770,  33.8940,4,-999.0000,9,    346.1,2,   -999.0,9,  -999.00,9,  -999.00,9,  -999.00,9,   -999.0,9
  09AR19940101,  SR03,    39,  1,     22,     22,2,19940110,0122,-55.9287, 140.4067, 3693,     27.0,   3.3590,  33.8920,2,  33.8940,2,    346.1,2,    342.6,2,     2.00,2,    24.00,2,     1.55,2,   -999.0,9
  09AR19940101,  SR03,    39,  1,     20,    120,2,19940110,0122,-55.9287, 140.4067, 3693,     62.0,   2.4110,  33.8970,2,  33.8980,2,    326.5,2,    329.8,2,     7.10,2,    25.60,2,     1.80,2,   -999.0,9
  09AR19940101,  SR03,    39,  1,     19,    119,2,19940110,0122,-55.9287, 140.4067, 3693,     62.6,   2.4100,  33.8960,2,-999.0000,9,    326.5,2,   -999.0,9,  -999.00,9,  -999.00,9,  -999.00,9,   -999.0,9
  09AR19940101,  SR03,    39,  1,     18,    118,2,19940110,0122,-55.9287, 140.4067, 3693,    102.7,   1.9500,  33.9180,3,  33.9190,2,    326.9,2,    314.2,2,    12.00,2,    26.30,2,     1.91,2,   -999.0,9
  09AR19940101,  SR03,    39,  1,     17,    117,2,19940110,0122,-55.9287, 140.4067, 3693,    102.7,   1.9020,  33.9180,3,-999.0000,9,    326.9,2,   -999.0,9,  -999.00,9,  -999.00,9,  -999.00,9,   -999.0,9
  09AR19940101,  SR03,    39,  1,     16,    116,2,19940110,0122,-55.9287, 140.4067, 3693,    121.3,   1.5740,  33.9300,3,  33.9310,2,    323.8,2,    324.8,2,    15.80,2,    27.40,2,     1.98,2,   -999.0,9
  09AR19940101,  SR03,    39,  1,     15,    115,2,19940110,0122,-55.9287, 140.4067, 3693,    121.4,   1.5140,  33.9290,4,-999.0000,9,    323.8,2,   -999.0,9,  -999.00,9,  -999.00,9,  -999.00,9,   -999.0,9
  09AR19940101,  SR03,    39,  1,     14,    114,2,19940110,0122,-55.9287, 140.4067, 3693,    154.5,   1.1860,  33.9540,2,  33.9570,2,    323.7,2,    321.8,2,    19.90,2,  -999.00,9,  -999.00,9,   -999.0,9
  09AR19940101,  SR03,    39,  1,     11,     11,2,19940110,0122,-55.9287, 140.4067, 3693,    154.9,   1.1860,  33.9550,2,-999.0000,9,    323.7,2,   -999.0,9,  -999.00,9,  -999.00,9,  -999.00,9,   -999.0,9
  09AR19940101,  SR03,    39,  1,     12,     12,2,19940110,0122,-55.9287, 140.4067, 3693,    155.2,   1.1870,  33.9540,2,-999.0000,9,    323.7,2,   -999.0,9,  -999.00,9,  -999.00,9,  -999.00,9,   -999.0,9
  09AR19940101,  SR03,    39,  1,     13,    124,2,19940110,0122,-55.9287, 140.4067, 3693,    155.3,   1.1810,  33.9560,2,-999.0000,9,    323.7,2,   -999.0,9,  -999.00,9,  -999.00,9,  -999.00,9,   -999.0,9
  09AR19940101,  SR03,    40,  1,     24,     24,2,19940110,0352,-55.9342, 140.3965, 3693,     14.6,   4.7300,  33.9030,4,  33.9050,2,    326.4,2,    325.5,2,     3.30,2,    24.60,2,     1.46,4,   -999.0,9
  09AR19940101,  SR03,    40,  1,     23,    113,2,19940110,0352,-55.9342, 140.3965, 3693,    184.6,   1.1690,  33.9760,2,  33.9800,2,    307.0,2,    314.6,2,    21.90,2,    29.20,2,     2.01,2,   -999.0,9
  09AR19940101,  SR03,    40,  1,     22,     22,2,19940110,0352,-55.9342, 140.3965, 3693,    255.1,   1.8380,  34.1620,2,  34.1620,2,    256.4,2,    255.6,2,    35.30,2,    32.10,2,     2.22,2,   -999.0,9
  09AR19940101,  SR03,    40,  1,     21,     21,2,19940110,0352,-55.9342, 140.3965, 3693,    304.3,   2.0860,  34.2400,2,  34.2390,2,    225.7,2,    231.8,2,    40.90,2,    33.10,2,     2.29,2,   -999.0,9
  09AR19940101,  SR03,    40,  1,     20,    120,2,19940110,0352,-55.9342, 140.3965, 3693,    404.7,   2.3000,  34.3820,2,  34.3780,2,    199.3,2,    197.6,2,    51.20,2,    34.60,2,     2.39,2,   -999.0,9
  09AR19940101,  SR03,    40,  1,     19,    119,2,19940110,0352,-55.9342, 140.3965, 3693,    503.6,   2.3310,  34.4740,2,  34.4720,2,    186.6,2,    182.3,2,    59.30,2,    34.70,2,     2.41,2,   -999.0,9
  09AR19940101,  SR03,    40,  1,     18,    118,2,19940110,0352,-55.9342, 140.3965, 3693,    604.3,   2.3100,  34.5270,2,  34.5250,2,    176.9,2,    176.3,2,    60.60,2,    34.50,2,     2.40,2,   -999.0,9
  09AR19940101,  SR03,    40,  1,     17,    117,2,19940110,0352,-55.9342, 140.3965, 3693,    703.6,   2.3180,  34.5910,2,  34.5900,2,    172.1,2,    174.4,2,    64.60,2,    34.10,2,     2.35,2,   -999.0,9
  09AR19940101,  SR03,    40,  1,     16,    116,2,19940110,0352,-55.9342, 140.3965, 3693,    803.5,   2.3020,  34.6380,2,  34.6380,2,    176.5,2,    176.4,2,    68.20,2,    33.20,2,     2.30,2,   -999.0,9
  09AR19940101,  SR03,    40,  1,     15,    115,2,19940110,0352,-55.9342, 140.3965, 3693,    903.2,   2.2760,  34.6700,2,  34.6700,2,    178.8,2,    179.2,2,    68.20,2,    32.50,2,     2.26,2,   -999.0,9
  09AR19940101,  SR03,    40,  1,     14,    114,2,19940110,0352,-55.9342, 140.3965, 3693,   1002.7,   2.2330,  34.6910,2,  34.6910,2,    180.0,2,    181.8,2,    68.40,2,    32.40,2,     2.23,2,   -999.0,9
  09AR19940101,  SR03,    40,  1,     13,    124,2,19940110,0352,-55.9342, 140.3965, 3693,   1103.3,   2.1700,  34.7090,2,  34.7070,2,    181.4,2,    184.4,2,    70.20,2,    31.60,2,     2.20,2,   -999.0,9
  09AR19940101,  SR03,    40,  1,     12,     12,2,19940110,0352,-55.9342, 140.3965, 3693,   1301.8,   2.0430,  34.7370,2,  34.7340,2,    187.5,2,    190.5,2,    74.10,2,    30.90,2,     2.10,4,   -999.0,9
  09AR19940101,  SR03,    40,  1,     11,     11,2,19940110,0352,-55.9342, 140.3965, 3693,   1503.9,   1.8980,  34.7470,2,  34.7490,2,    192.6,2,    195.1,2,    78.70,2,    30.60,2,     2.12,2,   -999.0,9
  09AR19940101,  SR03,    40,  1,     10,     10,2,19940110,0352,-55.9342, 140.3965, 3693,   1700.7,   1.7440,  34.7490,2,  34.7490,2,    196.0,2,    197.9,2,    83.60,2,    30.50,2,     2.12,2,   -999.0,9
  09AR19940101,  SR03,    40,  1,      9,      9,2,19940110,0352,-55.9342, 140.3965, 3693,   1901.0,   1.5580,  34.7470,2,  34.7460,2,    200.8,2,    200.6,2,    85.10,2,    30.70,2,     2.13,2,   -999.0,9
  09AR19940101,  SR03,    40,  1,      8,      8,2,19940110,0352,-55.9342, 140.3965, 3693,   2101.0,   1.3770,  34.7390,2,  34.7400,2,    204.8,2,    205.5,2,    88.20,2,    30.80,2,     2.15,2,   -999.0,9
  09AR19940101,  SR03,    40,  1,      7,      7,2,19940110,0352,-55.9342, 140.3965, 3693,   2301.3,   1.2230,  34.7330,2,  34.7310,2,    207.6,2,    204.6,2,    96.00,2,    31.10,2,     2.18,2,   -999.0,9
  09AR19940101,  SR03,    40,  1,      6,      6,2,19940110,0352,-55.9342, 140.3965, 3693,   2499.9,   1.0640,  34.7250,2,  34.7220,2,    208.8,2,    206.1,2,    98.50,2,    31.60,2,     2.20,2,   -999.0,9
  09AR19940101,  SR03,    40,  1,      5,      5,2,19940110,0352,-55.9342, 140.3965, 3693,   2699.3,   0.8870,  34.7150,2,  34.7150,2,    208.9,2,    208.6,2,   102.90,2,    31.60,2,     2.23,2,   -999.0,9
  09AR19940101,  SR03,    40,  1,      4,      4,2,19940110,0352,-55.9342, 140.3965, 3693,   2900.3,   0.7380,  34.7080,2,  34.7090,2,    211.7,2,    211.0,2,   109.30,2,    32.00,2,     2.24,2,   -999.0,9
  09AR19940101,  SR03,    40,  1,      3,      3,2,19940110,0352,-55.9342, 140.3965, 3693,   3094.0,   0.5870,  34.7020,2,  34.7020,2,    214.9,2,    214.0,2,   109.00,2,    32.10,2,     2.25,2,   -999.0,9
  09AR19940101,  SR03,    40,  1,      2,      2,2,19940110,0352,-55.9342, 140.3965, 3693,   3352.0,   0.4790,  34.6960,2,  34.6950,2,    216.9,2,    216.8,2,   112.00,2,    32.50,2,     2.26,2,   -999.0,9
  09AR19940101,  SR03,    40,  1,      1,      1,2,19940110,0352,-55.9342, 140.3965, 3693,   3601.8,   0.4270,  34.6950,2,  34.6900,2,    215.3,2,    217.9,2,   116.10,2,    32.20,2,     2.26,2,   -999.0,9
  09AR19940101,  SR03,    41,  1,     24,     24,2,19940110,1002,-56.4397, 140.0973, 4112,     15.1,   3.4910,  33.8930,4,  33.8950,2,    338.4,2,    341.1,2,     7.80,2,    24.40,2,     1.52,4,   2120.7,2
  09AR19940101,  SR03,    41,  1,     23,    113,2,19940110,1002,-56.4397, 140.0973, 4112,     53.6,   2.7110,  33.8930,2,  33.8940,2,    333.0,2,    331.7,2,     5.20,2,    25.20,2,     1.77,2,   2127.2,2
  09AR19940101,  SR03,    41,  1,     22,     22,2,19940110,1002,-56.4397, 140.0973, 4112,    103.2,   1.8560,  33.9150,3,  33.9150,2,    330.3,2,    326.4,2,    13.00,2,    26.50,2,     1.98,2,   2142.3,2
  09AR19940101,  SR03,    41,  1,     21,     21,2,19940110,1002,-56.4397, 140.0973, 4112,    154.4,   1.0300,  33.9470,2,  33.9480,2,    327.2,2,    325.5,2,    20.00,2,    28.10,2,     2.02,2,   2152.2,2
  09AR19940101,  SR03,    41,  1,     20,    120,2,19940110,1002,-56.4397, 140.0973, 4112,    186.0,   0.8220,  33.9690,3,  33.9700,2,    315.8,2,    319.9,2,    22.90,2,    28.80,2,     2.05,2,   2158.5,6
  09AR19940101,  SR03,    41,  1,     19,    119,2,19940110,1002,-56.4397, 140.0973, 4112,    304.3,   1.8580,  34.2270,2,  34.2280,2,    229.0,2,    236.8,2,    43.50,2,    33.20,2,     2.32,2,   2207.1,2
  09AR19940101,  SR03,    41,  1,     18,    118,2,19940110,1002,-56.4397, 140.0973, 4112,    404.8,   2.3000,  34.3760,2,  34.3740,2,    195.7,2,    198.5,2,    54.60,2,    34.20,2,     2.41,2,   2230.4,2
  09AR19940101,  SR03,    41,  1,     17,    117,2,19940110,1002,-56.4397, 140.0973, 4112,    504.1,   2.3470,  34.4620,2,  34.4620,2,    180.4,2,    184.7,2,    61.30,2,    34.70,2,     2.42,2,   2240.5,2
  09AR19940101,  SR03,    41,  1,     16,    116,2,19940110,1002,-56.4397, 140.0973, 4112,    604.4,   2.3600,  34.5280,2,  34.5280,2,    179.5,2,    178.2,2,    65.90,2,    34.20,2,     2.41,2,   2246.1,6
  09AR19940101,  SR03,    41,  1,     15,    115,2,19940110,1002,-56.4397, 140.0973, 4112,    704.4,   2.2970,  34.5750,2,  34.5750,2,    177.9,2,    175.1,2,    69.40,2,    34.50,2,     2.39,2,   2249.2,2
  09AR19940101,  SR03,    41,  1,     14,    114,2,19940110,1002,-56.4397, 140.0973, 4112,    803.4,   2.2830,  34.6300,2,  34.6350,2,    179.7,2,    175.7,2,    71.70,2,    33.50,2,     2.34,2,   2251.3,2
  09AR19940101,  SR03,    41,  1,     13,    124,2,19940110,1002,-56.4397, 140.0973, 4112,   1003.0,   2.2220,  34.6880,2,  34.6900,2,    180.8,2,    181.1,2,    74.20,2,    32.40,2,     2.27,2,   2249.2,2
  09AR19940101,  SR03,    41,  1,     12,     12,2,19940110,1002,-56.4397, 140.0973, 4112,   1203.9,   2.1110,  34.7220,2,  34.7230,2,    188.9,2,    186.9,2,    77.50,2,    31.30,2,     2.15,4,   2246.2,2
  09AR19940101,  SR03,    41,  1,     11,     11,2,19940110,1002,-56.4397, 140.0973, 4112,   1403.8,   2.0020,  34.7420,2,  34.7460,2,    194.3,2,    192.6,2,    78.10,2,    30.20,2,     2.09,2,   2245.0,2
  09AR19940101,  SR03,    41,  1,     10,     10,2,19940110,1002,-56.4397, 140.0973, 4112,   1603.0,   1.8510,  34.7510,2,  34.7540,2,    196.0,2,    196.4,2,    82.10,2,    29.60,3,     2.06,3,   2246.1,6
  09AR19940101,  SR03,    41,  1,      9,      9,2,19940110,1002,-56.4397, 140.0973, 4112,   1902.9,   1.5930,  34.7460,2,  34.7490,2,    203.1,2,    200.0,2,    92.30,2,    30.70,2,     2.16,2,   2248.3,2
  09AR19940101,  SR03,    41,  1,      8,      8,2,19940110,1002,-56.4397, 140.0973, 4112,   2201.9,   1.3440,  34.7380,2,  34.7400,2,    207.3,2,    202.6,2,    99.70,2,    31.10,2,     2.19,2,   2252.8,2
  09AR19940101,  SR03,    41,  1,      7,      7,2,19940110,1002,-56.4397, 140.0973, 4112,   2501.6,   1.0800,  34.7260,2,  34.7270,2,    208.5,2,    205.5,2,   107.20,2,    31.40,2,     2.23,2,   2254.0,2
  09AR19940101,  SR03,    41,  1,      6,      6,2,19940110,1002,-56.4397, 140.0973, 4112,   2801.2,   0.8410,  34.7140,2,  34.7140,2,    211.0,2,    209.1,2,   113.90,2,    32.00,2,     2.26,2,   2256.2,2
  09AR19940101,  SR03,    41,  1,      5,      5,2,19940110,1002,-56.4397, 140.0973, 4112,   3101.4,   0.5950,  34.7020,2,  34.7030,2,    213.1,2,    213.6,2,   120.00,2,    32.20,2,     2.28,2,   2258.1,2
  09AR19940101,  SR03,    41,  1,      4,      4,2,19940110,1002,-56.4397, 140.0973, 4112,   3401.2,   0.4270,  34.6960,2,  34.6950,2,    217.2,2,    217.8,2,   126.30,2,    32.30,2,     2.30,2,   2257.9,2
  09AR19940101,  SR03,    41,  1,      3,      3,2,19940110,1002,-56.4397, 140.0973, 4112,   3600.7,   0.3880,  34.6920,2,  34.6920,2,    218.9,2,    218.9,2,   126.90,2,    32.00,2,     2.30,2,   2257.8,2
  09AR19940101,  SR03,    41,  1,      2,      2,2,19940110,1002,-56.4397, 140.0973, 4112,   3903.7,   0.2970,  34.6890,2,  34.6860,2,    221.2,2,    222.0,2,   131.50,2,    32.30,2,     2.31,2,   2256.9,2
  09AR19940101,  SR03,    41,  1,      1,      1,2,19940110,1002,-56.4397, 140.0973, 4112,   4166.6,   0.2860,  34.6880,2,  34.6850,2,    220.0,2,    223.0,2,   130.50,2,    32.70,2,     2.31,2,   2256.9,2