BOTTLE,20230321CCHSIOENA
EXPOCODE,SECT_ID,STNNBR,CASTNO,SAMPNO,BTLNBR,BTLNBR_FLAG_W,DATE,TIME,LATITUDE,LONGITUDE,DEPTH,CTDPRS,CTDTMP,CTDSAL,CTDSAL_FLAG_W,SALNTY,SALNTY_FLAG_W,CTDOXY,CTDOXY_FLAG_W,OXYGEN,OXYGEN_FLAG_W,SILCAT,SILCAT_FLAG_W,NITRAT,NITRAT_FLAG_W,PHSPHT,PHSPHT_FLAG_W,TCARBN,TCARBN_FLAG_W
,,,,,,,,,,,METERS,DBAR,ITS-90,PSS-78,,PSS-78,,UMOL/KG,,UMOL/KG,,UMOL/KG,,UMOL/KG,,UMOL/KG,,UMOL/KG,
  09AR19940101,  SR03,    17,  1,     24,     24,2,19940105,0358,-48.3045, 144.5417, 4138,     14.4,   9.4910,  34.3150,2,  34.3150,2,    297.0,2,    293.9,2,     3.00,2,    12.50,2,     0.87,2,   2071.0,2
  09AR19940101,  SR03,    17,  1,     23,     23,2,19940105,0358,-48.3045, 144.5417, 4138,    305.2,   8.1320,  34.4600,2,  34.4590,2,    266.4,2,    268.1,2,     6.00,2,    17.20,2,     1.20,2,   2110.2,2
  09AR19940101,  SR03,    17,  1,     22,     22,2,19940105,0358,-48.3045, 144.5417, 4138,    404.8,   7.4310,  34.3660,2,  34.3680,2,    254.2,2,    263.4,2,     7.20,2,    19.40,2,     1.35,2,   2118.7,2
  09AR19940101,  SR03,    17,  1,     21,     21,2,19940105,0358,-48.3045, 144.5417, 4138,    554.1,   6.7990,  34.3450,2,  34.3450,2,    246.9,2,    245.1,2,    10.50,2,    22.50,2,     1.54,2,   2136.9,2
  09AR19940101,  SR03,    17,  1,     20,    120,2,19940105,0358,-48.3045, 144.5417, 4138,    654.8,   6.3860,  34.3990,4,  34.3980,2,    213.5,2,    216.1,2,    16.40,2,    25.50,2,     1.76,2,   2158.5,6
  09AR19940101,  SR03,    17,  1,     19,    119,2,19940105,0358,-48.3045, 144.5417, 4138,    803.1,   5.0340,  34.3350,2,  34.3360,2,    213.1,2,    216.2,2,    23.60,2,    28.60,2,     1.98,2,   2175.0,2
  09AR19940101,  SR03,    17,  1,     18,     18,3,19940105,0358,-48.3045, 144.5417, 4138,    904.0,   4.4300,  34.3320,3,  34.3340,2,    210.6,2,    210.9,2,    30.10,2,    30.10,2,     2.09,2,   2187.9,2
  09AR19940101,  SR03,    17,  1,     17,    117,2,19940105,0358,-48.3045, 144.5417, 4138,    980.6,   3.7430,  34.2950,3,  34.3010,2,    216.7,2,    217.3,2,    33.20,2,    30.90,2,     2.16,2,   2192.1,2
  09AR19940101,  SR03,    17,  1,     16,    116,2,19940105,0358,-48.3045, 144.5417, 4138,   1105.4,   3.4960,  34.3620,2,  34.3640,2,    198.3,2,    199.2,2,    43.40,2,    32.30,2,     2.27,2,   2210.9,2
  09AR19940101,  SR03,    17,  1,     15,    115,2,19940105,0358,-48.3045, 144.5417, 4138,   1206.2,   3.1690,  34.3940,2,  34.3960,2,    190.8,2,    192.3,2,    50.10,2,    33.10,2,     2.33,2,   2221.5,2
  09AR19940101,  SR03,    17,  1,     14,    114,2,19940105,0358,-48.3045, 144.5417, 4138,   1305.8,   2.9330,  34.4270,2,  34.4270,2,    182.8,2,    187.4,2,    55.30,2,    33.40,2,     2.37,2,   2231.5,2
  09AR19940101,  SR03,    17,  1,     13,     13,2,19940105,0358,-48.3045, 144.5417, 4138,   1505.5,   2.7040,  34.5260,2,  34.5250,2,    179.1,2,    175.9,2,    62.10,2,    33.70,2,     2.38,2,   2244.8,2
  09AR19940101,  SR03,    17,  1,     12,     12,2,19940105,0358,-48.3045, 144.5417, 4138,   1704.2,   2.5420,  34.6080,2,  34.6080,2,    178.8,2,    174.7,2,    69.80,2,    33.10,2,     2.28,2,   2248.9,6
  09AR19940101,  SR03,    17,  1,     11,     11,2,19940105,0358,-48.3045, 144.5417, 4138,   1902.7,   2.4280,  34.6650,2,  34.6650,2,    178.4,2,    177.8,2,    72.00,2,    32.30,2,     2.26,2,   2251.2,2
  09AR19940101,  SR03,    17,  1,     10,     10,2,19940105,0358,-48.3045, 144.5417, 4138,   2103.6,   2.3130,  34.7050,2,  34.7050,2,    184.6,2,    182.0,2,    77.50,2,    31.70,2,     2.21,2,   2250.9,2
  09AR19940101,  SR03,    17,  1,      9,    121,2,19940105,0358,-48.3045, 144.5417, 4138,   2304.1,   2.1820,  34.7290,2,  34.7290,2,    189.7,2,    188.5,2,    76.40,2,    30.90,2,     2.16,2,   2246.4,2
  09AR19940101,  SR03,    17,  1,      8,      8,2,19940105,0358,-48.3045, 144.5417, 4138,   2503.1,   2.0220,  34.7420,2,  34.7430,2,    193.1,2,    193.3,2,    82.00,2,    30.70,2,     2.13,2,   2247.5,2
  09AR19940101,  SR03,    17,  1,      7,      7,2,19940105,0358,-48.3045, 144.5417, 4138,   2704.2,   1.8350,  34.7430,2,  34.7430,2,    194.8,2,    194.8,2,    88.30,2,    31.00,2,     2.16,2,   2251.7,2
  09AR19940101,  SR03,    17,  1,      6,      6,2,19940105,0358,-48.3045, 144.5417, 4138,   2902.1,   1.6200,  34.7390,2,  34.7390,2,    199.9,2,    197.9,2,    93.40,2,    31.00,2,     2.17,2,   2253.7,2
  09AR19940101,  SR03,    17,  1,      5,      5,2,19940105,0358,-48.3045, 144.5417, 4138,   3102.6,   1.4060,  34.7320,2,  34.7320,2,    201.8,2,    201.6,2,    99.80,2,    31.10,2,     2.19,2,   2255.6,2
  09AR19940101,  SR03,    17,  1,      4,      4,2,19940105,0358,-48.3045, 144.5417, 4138,   3302.7,   1.2220,  34.7240,2,  34.7220,2,    203.8,2,    202.7,2,   102.50,2,    31.30,2,     2.21,2,   2258.3,2
  09AR19940101,  SR03,    17,  1,      3,      3,2,19940105,0358,-48.3045, 144.5417, 4138,   3601.1,   1.0860,  34.7170,2,  34.7150,2,    204.7,2,    204.3,2,   109.60,2,    31.90,2,     2.24,2,   2262.7,2
  09AR19940101,  SR03,    17,  1,      2,      2,2,19940105,0358,-48.3045, 144.5417, 4138,   3890.8,   1.0330,  34.7120,2,  34.7110,2,    204.1,2,    203.1,2,   111.50,2,    32.10,2,     2.27,2,   2266.6,6
  09AR19940101,  SR03,    17,  1,      1,      1,2,19940105,0358,-48.3045, 144.5417, 4138,   4131.5,   1.0350,  34.7130,2,  34.7110,2,    201.2,2,    205.5,2,   113.30,2,    32.40,2,     2.27,2,   2269.4,2
  09AR19940101,  SR03,    18,  1,     22,     22,2,19940105,0840,-48.7807, 144.3165, 4159,    154.5,   8.2660,  34.4410,2,-999.0000,9,   -999.0,5,   -999.0,9,  -999.00,9,  -999.00,9,  -999.00,9,   -999.0,9
  09AR19940101,  SR03,    18,  1,     23,     23,2,19940105,0840,-48.7807, 144.3165, 4159,    154.7,   8.2730,  34.4420,2,-999.0000,9,   -999.0,5,   -999.0,9,  -999.00,9,  -999.00,9,  -999.00,9,   -999.0,9
  09AR19940101,  SR03,    18,  1,     21,     21,2,19940105,0840,-48.7807, 144.3165, 4159,    154.8,   8.2690,  34.4420,2,-999.0000,9,   -999.0,5,   -999.0,9,  -999.00,9,  -999.00,9,  -999.00,9,   -999.0,9
  09AR19940101,  SR03,    18,  1,     24,     24,2,19940105,0840,-48.7807, 144.3165, 4159,    154.9,   8.2740,  34.4430,2,-999.0000,9,   -999.0,5,   -999.0,9,  -999.00,9,  -999.00,9,  -999.00,9,   -999.0,9
  09AR19940101,  SR03,    19,  1,     24,     24,2,19940105,1044,-48.7613, 144.3067, 4188,     16.2,   9.4460,  34.2920,2,  34.2930,2,    292.2,2,    291.8,2,     2.90,2,    13.20,2,     0.91,2,   -999.0,9
  09AR19940101,  SR03,    19,  1,     23,     23,2,19940105,1044,-48.7613, 144.3067, 4188,     55.8,   9.2300,  34.3040,2,  34.3010,2,    290.8,2,    291.3,2,     2.60,2,    13.50,2,     0.97,2,   -999.0,9
  09AR19940101,  SR03,    19,  1,     22,     22,2,19940105,1044,-48.7613, 144.3067, 4188,    105.5,   8.4030,  34.3810,4,  34.3690,2,    288.6,2,    282.9,2,     5.00,2,    15.60,2,     1.14,2,   -999.0,9
  09AR19940101,  SR03,    19,  1,     21,     21,2,19940105,1044,-48.7613, 144.3067, 4188,    156.6,   8.2560,  34.4410,2,  34.4420,2,    278.0,2,    276.5,2,     4.90,2,    16.30,2,     1.15,2,   -999.0,9
  09AR19940101,  SR03,    19,  1,     20,    120,2,19940105,1044,-48.7613, 144.3067, 4188,    202.5,   8.4010,  34.4880,2,  34.4870,2,    275.0,2,    273.0,2,     4.90,2,    16.00,2,     1.13,2,   -999.0,9
  09AR19940101,  SR03,    19,  1,     19,    119,2,19940105,1044,-48.7613, 144.3067, 4188,    304.8,   7.8990,  34.4180,4,  34.4050,2,    267.6,2,    271.4,2,     5.40,2,    17.70,2,     1.24,2,   -999.0,9
  09AR19940101,  SR03,    19,  1,     18,     18,2,19940105,1044,-48.7613, 144.3067, 4188,    404.7,   7.1410,  34.3170,4,  34.3210,2,    263.0,2,    269.2,2,     6.90,2,    19.70,2,     1.37,2,   -999.0,9
  09AR19940101,  SR03,    19,  1,     17,    117,2,19940105,1044,-48.7613, 144.3067, 4188,    506.0,   6.6390,  34.2710,3,  34.2490,2,    261.9,2,    272.9,2,     7.60,2,    21.00,2,     1.46,2,   -999.0,9
  09AR19940101,  SR03,    19,  1,     16,    116,2,19940105,1044,-48.7613, 144.3067, 4188,    603.3,   6.8670,  34.3890,2,  34.3870,2,    212.9,2,    229.4,2,    12.50,2,    23.50,2,     1.61,2,   -999.0,9
  09AR19940101,  SR03,    19,  1,     15,    115,2,19940105,1044,-48.7613, 144.3067, 4188,    702.5,   6.3180,  34.4020,3,  34.4090,2,    230.6,2,    210.3,2,    17.80,2,    26.30,2,     1.80,2,   -999.0,9
  09AR19940101,  SR03,    19,  1,     14,    114,2,19940105,1044,-48.7613, 144.3067, 4188,    803.9,   5.5550,  34.3680,2,  34.3680,2,    207.6,2,    210.8,2,    22.30,2,    28.10,2,     1.93,2,   -999.0,9
  09AR19940101,  SR03,    19,  1,     13,     13,2,19940105,1044,-48.7613, 144.3067, 4188,    906.0,   4.7140,  34.3400,3,  34.3420,2,    212.4,2,    210.1,2,    28.30,2,    29.80,2,     2.04,2,   -999.0,9
  09AR19940101,  SR03,    19,  1,     12,     12,2,19940105,1044,-48.7613, 144.3067, 4188,   1005.1,   4.0670,  34.3230,2,  34.3240,2,    208.9,2,    212.4,2,    33.00,2,    30.90,2,     2.09,2,   -999.0,9
  09AR19940101,  SR03,    19,  1,     11,     11,2,19940105,1044,-48.7613, 144.3067, 4188,   1353.1,   2.8920,  34.4330,2,  34.4340,2,    184.9,2,    186.3,2,    55.80,2,    33.80,2,     2.35,2,   -999.0,9
  09AR19940101,  SR03,    19,  1,     10,     10,2,19940105,1044,-48.7613, 144.3067, 4188,   1704.2,   2.5380,  34.5910,2,  34.5930,2,    178.3,2,    175.1,2,    70.00,2,    33.50,2,     2.34,2,   -999.0,9
  09AR19940101,  SR03,    19,  1,      9,    121,2,19940105,1044,-48.7613, 144.3067, 4188,   2003.7,   2.3920,  34.6800,2,  34.6800,2,    182.5,2,    180.5,2,    73.90,2,    32.30,2,     2.24,2,   -999.0,9
  09AR19940101,  SR03,    19,  1,      8,      8,2,19940105,1044,-48.7613, 144.3067, 4188,   2302.6,   2.1810,  34.7280,2,  34.7280,2,    189.3,2,    188.6,2,    78.10,2,    31.10,2,     2.15,2,   -999.0,9
  09AR19940101,  SR03,    19,  1,      7,      7,2,19940105,1044,-48.7613, 144.3067, 4188,   2602.0,   1.9610,  34.7430,2,  34.7440,2,    196.9,2,    194.9,2,    83.30,2,    30.70,2,     2.13,2,   -999.0,9
  09AR19940101,  SR03,    19,  1,      6,      6,2,19940105,1044,-48.7613, 144.3067, 4188,   2901.6,   1.6640,  34.7390,2,  34.7390,2,    199.8,2,    197.3,2,    93.80,2,    31.10,2,     2.17,2,   -999.0,9
  09AR19940101,  SR03,    19,  1,      5,      5,2,19940105,1044,-48.7613, 144.3067, 4188,   3103.0,   1.4750,  34.7320,2,  34.7340,2,    201.8,2,    201.3,2,   100.10,2,    31.40,2,     2.18,2,   -999.0,9
  09AR19940101,  SR03,    19,  1,      4,      4,2,19940105,1044,-48.7613, 144.3067, 4188,   3401.3,   1.1540,  34.7210,2,  34.7200,2,    203.7,2,    204.2,2,   106.70,2,    31.90,2,     2.22,2,   -999.0,9
  09AR19940101,  SR03,    19,  1,      3,      3,2,19940105,1044,-48.7613, 144.3067, 4188,   3602.4,   1.1050,  34.7170,2,  34.7160,2,    205.1,2,    204.0,2,   109.10,2,    32.00,2,     2.23,2,   -999.0,9
  09AR19940101,  SR03,    19,  1,      2,      2,2,19940105,1044,-48.7613, 144.3067, 4188,   3801.0,   1.0840,  34.7140,2,  34.7130,2,    205.4,2,    205.0,2,   110.30,2,    32.10,2,     2.24,2,   -999.0,9
  09AR19940101,  SR03,    19,  1,      1,      1,2,19940105,1044,-48.7613, 144.3067, 4188,   4148.6,   1.0960,  34.7140,2,  34.7130,2,    204.9,2,    205.3,2,   110.60,2,    32.10,2,     2.24,2,   -999.0,9
  09AR19940101,  SR03,    20,  1,     24,     24,2,19940105,1715,-49.2662, 144.0830, 4212,     15.7,   9.7650,  34.4510,2,  34.4530,2,   -999.0,5,    284.2,2,     2.90,2,    11.10,2,     0.87,2,   2076.3,2
  09AR19940101,  SR03,    20,  1,     23,    113,2,19940105,1715,-49.2662, 144.0830, 4212,     54.8,   9.5690,  34.4830,2,  34.4770,2,   -999.0,5,    281.9,2,     2.10,2,    11.50,2,     0.95,2,   2081.8,2
  09AR19940101,  SR03,    20,  1,     22,     22,2,19940105,1715,-49.2662, 144.0830, 4212,    105.1,   9.0480,  34.5720,2,  34.5720,2,    270.5,2,    272.9,2,     4.50,2,    14.30,2,     1.07,2,   2101.3,2
  09AR19940101,  SR03,    20,  1,     21,     21,2,19940105,1715,-49.2662, 144.0830, 4212,    155.2,   8.8300,  34.5640,2,  34.5630,2,    268.8,2,    274.1,2,     4.50,2,    14.70,2,     1.08,2,   2104.2,6
  09AR19940101,  SR03,    20,  1,     20,    120,2,19940105,1715,-49.2662, 144.0830, 4212,    203.8,   8.8340,  34.5720,2,  34.5720,2,    272.2,2,    272.9,2,     4.40,2,    14.70,2,     1.09,2,   2104.9,2
  09AR19940101,  SR03,    20,  1,     19,    119,2,19940105,1715,-49.2662, 144.0830, 4212,    305.0,   8.9420,  34.6100,2,  34.6090,2,    265.4,2,    270.3,2,     4.20,2,    14.40,2,     1.07,2,   2106.5,2
  09AR19940101,  SR03,    20,  1,     18,    118,2,19940105,1715,-49.2662, 144.0830, 4212,    404.0,   8.8440,  34.5980,2,  34.5970,2,    271.0,2,    270.0,2,     4.40,2,    14.90,2,     1.10,2,   2106.1,2
  09AR19940101,  SR03,    20,  1,     17,    117,2,19940105,1715,-49.2662, 144.0830, 4212,    505.3,   8.8680,  34.6080,2,  34.6070,2,    277.7,2,    270.2,2,     4.40,2,    14.80,2,     1.09,2,   2107.0,2
  09AR19940101,  SR03,    20,  1,     16,    116,2,19940105,1715,-49.2662, 144.0830, 4212,    603.7,   8.6720,  34.5770,2,  34.5800,2,    255.3,2,    255.5,2,     5.60,2,    16.70,2,     1.22,2,   2113.8,2
  09AR19940101,  SR03,    20,  1,     15,    115,2,19940105,1715,-49.2662, 144.0830, 4212,    704.0,   8.0340,  34.5140,2,  34.5180,2,    238.3,2,    230.8,2,     8.90,2,    20.80,2,     1.47,2,   2134.1,2
  09AR19940101,  SR03,    20,  1,     14,    114,2,19940105,1715,-49.2662, 144.0830, 4212,    904.4,   6.4560,  34.4390,4,  34.4410,2,    206.6,2,    201.5,2,    19.20,2,    26.70,2,     1.85,2,   2167.8,6
  09AR19940101,  SR03,    20,  1,     13,     13,2,19940105,1715,-49.2662, 144.0830, 4212,   1003.6,   5.3720,  34.3760,2,  34.3820,2,    207.0,2,    204.5,2,    25.30,2,    28.80,2,     2.00,2,   2181.3,2
  09AR19940101,  SR03,    20,  1,     12,     12,2,19940105,1715,-49.2662, 144.0830, 4212,   1104.8,   4.5670,  34.3460,2,  34.3480,2,    205.2,2,    207.0,2,    30.70,2,    30.30,2,     2.06,2,   2192.2,2
  09AR19940101,  SR03,    20,  1,     11,     11,2,19940105,1715,-49.2662, 144.0830, 4212,   1304.6,   3.4780,  34.3730,2,  34.3720,2,    197.0,2,    197.6,2,    44.00,2,    32.60,2,     2.28,2,   2213.6,2
  09AR19940101,  SR03,    20,  1,     10,     10,2,19940105,1715,-49.2662, 144.0830, 4212,   1704.1,   2.6360,  34.5250,2,  34.5260,2,    181.0,2,    177.6,2,    62.50,2,    34.40,2,     2.37,2,   2245.2,2
  09AR19940101,  SR03,    20,  1,      9,    121,2,19940105,1715,-49.2662, 144.0830, 4212,   2002.9,   2.4850,  34.6490,2,  34.6490,2,    178.5,2,    176.7,2,    70.70,2,    32.80,2,     2.30,2,   2251.0,2
  09AR19940101,  SR03,    20,  1,      8,      8,2,19940105,1715,-49.2662, 144.0830, 4212,   2302.8,   2.3090,  34.7120,2,  34.7110,2,    183.9,2,    182.6,2,    75.40,2,    31.80,2,     2.23,2,   2253.3,2
  09AR19940101,  SR03,    20,  1,      7,      7,2,19940105,1715,-49.2662, 144.0830, 4212,   2600.7,   2.1140,  34.7390,2,  34.7380,2,    190.3,2,    191.6,2,    79.00,2,    30.90,2,     2.16,2,   2250.0,2
  09AR19940101,  SR03,    20,  1,      6,      6,2,19940105,1715,-49.2662, 144.0830, 4212,   2901.3,   1.8670,  34.7450,2,  34.7430,2,    196.1,2,    196.1,2,    86.00,2,    31.00,2,     2.17,2,   2252.0,2
  09AR19940101,  SR03,    20,  1,      5,      5,2,19940105,1715,-49.2662, 144.0830, 4212,   3203.5,   1.5100,  34.7350,2,  34.7330,2,    197.9,2,    199.7,2,    96.90,2,    31.40,2,     2.20,2,   2257.6,2
  09AR19940101,  SR03,    20,  1,      4,      4,2,19940105,1715,-49.2662, 144.0830, 4212,   3500.1,   1.2060,  34.7230,2,  34.7220,2,    200.1,2,    202.8,2,   103.10,2,    31.90,2,     2.24,2,   2262.3,2
  09AR19940101,  SR03,    20,  1,      3,      3,2,19940105,1715,-49.2662, 144.0830, 4212,   3801.8,   1.1350,  34.7190,2,  34.7180,2,    203.2,2,    203.8,2,   104.80,2,    31.90,2,     2.25,2,   2263.8,6
  09AR19940101,  SR03,    20,  1,      2,      2,2,19940105,1715,-49.2662, 144.0830, 4212,   4105.9,   1.1420,  34.7170,2,  34.7150,2,    204.9,2,    204.4,2,   107.40,2,    32.00,2,     2.26,2,   2265.4,2
  09AR19940101,  SR03,    20,  1,      1,      1,2,19940105,1715,-49.2662, 144.0830, 4212,   4277.4,   1.1530,  34.7160,2,  34.7140,2,    205.8,2,    204.6,2,   108.30,2,    32.20,2,     2.26,2,   2264.3,2
  09AR19940101,  SR03,    21,  1,     24,     24,2,19940105,2213,-49.7503, 143.8682, 3532,     14.4,   9.6670,  34.4390,2,  34.4390,2,    276.4,2,    274.5,2,     2.10,2,    11.50,2,     0.85,2,   -999.0,9
  09AR19940101,  SR03,    21,  1,     20,    120,2,19940105,2213,-49.7503, 143.8682, 3532,     28.6,   9.6280,  34.4460,2,-999.0000,9,    280.3,2,   -999.0,9,  -999.00,9,  -999.00,9,  -999.00,9,   -999.0,9
  09AR19940101,  SR03,    21,  1,     22,     22,2,19940105,2213,-49.7503, 143.8682, 3532,     28.7,   9.6340,  34.4450,2,-999.0000,9,    280.3,2,   -999.0,9,  -999.00,9,  -999.00,9,  -999.00,9,   -999.0,9
  09AR19940101,  SR03,    21,  1,     21,     21,2,19940105,2213,-49.7503, 143.8682, 3532,     28.7,   9.6350,  34.4440,2,-999.0000,9,    280.3,2,   -999.0,9,  -999.00,9,  -999.00,9,  -999.00,9,   -999.0,9
  09AR19940101,  SR03,    21,  1,     23,    113,2,19940105,2213,-49.7503, 143.8682, 3532,     28.8,   9.6380,  34.4440,2,-999.0000,9,    280.3,2,   -999.0,9,  -999.00,9,  -999.00,9,  -999.00,9,   -999.0,9
  09AR19940101,  SR03,    21,  1,     19,    119,2,19940105,2213,-49.7503, 143.8682, 3532,     29.0,   9.6360,  34.4450,2,  34.4440,2,    280.4,2,    278.4,2,     1.50,2,    11.50,2,     0.86,2,   -999.0,9
  09AR19940101,  SR03,    21,  1,     17,    117,2,19940105,2213,-49.7503, 143.8682, 3532,     53.8,   9.5400,  34.4480,2,  34.4490,2,    282.2,2,    285.7,2,     1.40,2,    11.70,2,     0.91,2,   -999.0,9
  09AR19940101,  SR03,    21,  1,     18,    118,2,19940105,2213,-49.7503, 143.8682, 3532,     54.1,   9.5250,  34.4480,3,-999.0000,9,    282.2,2,   -999.0,9,  -999.00,9,  -999.00,9,  -999.00,9,   -999.0,9
  09AR19940101,  SR03,    21,  1,     16,    116,2,19940105,2213,-49.7503, 143.8682, 3532,    103.0,   9.1120,  34.4900,2,-999.0000,9,    283.4,2,   -999.0,9,  -999.00,9,  -999.00,9,  -999.00,9,   -999.0,9
  09AR19940101,  SR03,    21,  1,     15,    115,2,19940105,2213,-49.7503, 143.8682, 3532,    103.1,   9.1020,  34.4900,2,  34.4890,2,    283.4,2,    287.4,2,     3.40,2,    13.50,2,     1.04,2,   -999.0,9
  09AR19940101,  SR03,    21,  1,     13,     13,2,19940105,2213,-49.7503, 143.8682, 3532,    155.7,   8.7810,  34.5520,2,-999.0000,9,    291.2,2,   -999.0,9,  -999.00,9,  -999.00,9,  -999.00,9,   -999.0,9
  09AR19940101,  SR03,    21,  1,     14,    114,2,19940105,2213,-49.7503, 143.8682, 3532,    156.3,   8.7780,  34.5520,2,-999.0000,9,    291.2,2,   -999.0,9,  -999.00,9,  -999.00,9,  -999.00,9,   -999.0,9
  09AR19940101,  SR03,    21,  1,     12,     12,2,19940105,2213,-49.7503, 143.8682, 3532,    156.4,   8.7770,  34.5510,2,  34.5530,2,    291.2,2,    286.2,2,     3.80,2,    14.80,2,     1.06,2,   -999.0,9