BOTTLE,20230321CCHSIOENA
EXPOCODE,SECT_ID,STNNBR,CASTNO,SAMPNO,BTLNBR,BTLNBR_FLAG_W,DATE,TIME,LATITUDE,LONGITUDE,DEPTH,CTDPRS,CTDTMP,CTDSAL,CTDSAL_FLAG_W,SALNTY,SALNTY_FLAG_W,CTDOXY,CTDOXY_FLAG_W,OXYGEN,OXYGEN_FLAG_W,SILCAT,SILCAT_FLAG_W,NITRAT,NITRAT_FLAG_W,PHSPHT,PHSPHT_FLAG_W,TCARBN,TCARBN_FLAG_W
,,,,,,,,,,,METERS,DBAR,ITS-90,PSS-78,,PSS-78,,UMOL/KG,,UMOL/KG,,UMOL/KG,,UMOL/KG,,UMOL/KG,,UMOL/KG,
  09AR19940101,  SR03,    34,  1,     24,     24,2,19940109,0002,-54.0565, 141.5910, 2654,     13.7,   4.3830,  33.8790,2,  33.8800,2,    323.9,2,    324.1,2,     3.30,2,    24.80,2,     1.56,4,   -999.0,9
  09AR19940101,  SR03,    34,  1,     23,    113,2,19940109,0002,-54.0565, 141.5910, 2654,     55.1,   2.7210,  33.8700,2,  33.8700,2,    338.0,2,    337.9,2,     3.70,2,    24.70,2,     1.53,2,   -999.0,9
  09AR19940101,  SR03,    34,  1,     22,     22,2,19940109,0002,-54.0565, 141.5910, 2654,    104.4,   2.0180,  33.8910,2,  33.8910,2,    326.8,2,    326.8,2,     2.70,2,    25.00,2,     1.72,2,   -999.0,9
  09AR19940101,  SR03,    34,  1,     21,     21,2,19940109,0002,-54.0565, 141.5910, 2654,    154.3,   1.0590,  33.9390,3,  33.9390,2,    326.9,2,    324.6,2,    11.20,2,    26.20,2,     1.91,2,   -999.0,9
  09AR19940101,  SR03,    34,  1,     20,    120,2,19940109,0002,-54.0565, 141.5910, 2654,    184.7,   0.6330,  33.9690,2,  33.9690,2,    319.1,2,    323.0,2,    19.60,2,    28.30,2,     2.00,2,   -999.0,9
  09AR19940101,  SR03,    34,  1,     19,    119,2,19940109,0002,-54.0565, 141.5910, 2654,    223.4,   1.5520,  34.1250,2,  34.1220,2,    266.3,2,    267.3,2,    24.40,2,    29.40,2,     2.04,2,   -999.0,9
  09AR19940101,  SR03,    34,  1,     18,    118,2,19940109,0002,-54.0565, 141.5910, 2654,    254.1,   2.0780,  34.2350,2,  34.2340,2,    234.2,2,    230.6,2,    33.40,2,    31.50,2,     2.19,2,   -999.0,9
  09AR19940101,  SR03,    34,  1,     17,    117,2,19940109,0002,-54.0565, 141.5910, 2654,    355.3,   2.2130,  34.3620,2,  34.3620,2,    204.6,2,    199.9,2,    41.60,2,    33.30,2,     2.30,2,   -999.0,9
  09AR19940101,  SR03,    34,  1,     16,    116,2,19940109,0002,-54.0565, 141.5910, 2654,    503.9,   2.3060,  34.4970,2,  34.4960,2,    177.5,2,    179.5,2,    52.10,2,    34.30,2,     2.39,2,   -999.0,9
  09AR19940101,  SR03,    34,  1,     15,    115,2,19940109,0002,-54.0565, 141.5910, 2654,    601.6,   2.3070,  34.5560,2,  34.5550,2,    177.1,2,    174.6,2,    60.60,2,    34.70,2,     2.40,2,   -999.0,9
  09AR19940101,  SR03,    34,  1,     14,    114,2,19940109,0002,-54.0565, 141.5910, 2654,    703.7,   2.2870,  34.6050,2,  34.6060,2,    173.5,2,    174.0,2,    65.40,2,    34.40,2,     2.38,2,   -999.0,9
  09AR19940101,  SR03,    34,  1,     13,    124,2,19940109,0002,-54.0565, 141.5910, 2654,    803.7,   2.2310,  34.6470,2,  34.6470,2,    174.7,2,    175.6,2,    67.80,2,    34.00,2,     2.34,2,   -999.0,9
  09AR19940101,  SR03,    34,  1,     12,     12,2,19940109,0002,-54.0565, 141.5910, 2654,    902.9,   2.2000,  34.6770,2,  34.6750,2,    176.3,2,    178.7,2,    68.10,2,    33.20,2,     2.30,4,   -999.0,9
  09AR19940101,  SR03,    34,  1,     11,     11,2,19940109,0002,-54.0565, 141.5910, 2654,   1003.9,   2.1460,  34.7010,2,  34.7000,2,    182.1,2,    182.7,2,    69.70,2,    32.30,2,     2.22,2,   -999.0,9
  09AR19940101,  SR03,    34,  1,     10,     10,2,19940109,0002,-54.0565, 141.5910, 2654,   1102.7,   2.1030,  34.7170,2,  34.7180,2,    183.4,2,    185.7,2,    68.20,2,    32.20,2,     2.20,2,   -999.0,9
  09AR19940101,  SR03,    34,  1,      9,    121,2,19940109,0002,-54.0565, 141.5910, 2654,   1203.8,   2.0460,  34.7300,2,  34.7300,2,    188.0,2,    189.1,2,    75.50,2,    31.40,2,     2.17,2,   -999.0,9
  09AR19940101,  SR03,    34,  1,      8,      8,2,19940109,0002,-54.0565, 141.5910, 2654,   1404.8,   1.9250,  34.7450,2,  34.7460,2,    191.9,2,    194.5,2,    75.20,2,    31.00,2,     2.15,2,   -999.0,9
  09AR19940101,  SR03,    34,  1,      7,      7,2,19940109,0002,-54.0565, 141.5910, 2654,   1602.6,   1.7720,  34.7490,2,  34.7480,2,    195.0,2,    197.1,2,    76.10,2,    30.50,2,     2.11,2,   -999.0,9
  09AR19940101,  SR03,    34,  1,      6,      6,2,19940109,0002,-54.0565, 141.5910, 2654,   1800.5,   1.5750,  34.7430,2,  34.7430,2,    197.5,2,    200.0,2,    81.10,2,    30.40,2,     2.11,2,   -999.0,9
  09AR19940101,  SR03,    34,  1,      5,      5,2,19940109,0002,-54.0565, 141.5910, 2654,   2001.1,   1.3880,  34.7380,2,  34.7370,2,    204.5,2,    202.0,2,    85.70,2,    30.80,2,     2.12,2,   -999.0,9
  09AR19940101,  SR03,    34,  1,      4,      4,2,19940109,0002,-54.0565, 141.5910, 2654,   2200.1,   1.2060,  34.7290,2,  34.7330,2,    207.9,2,    203.8,2,    90.50,2,    31.20,2,     2.15,2,   -999.0,9
  09AR19940101,  SR03,    34,  1,      3,      3,2,19940109,0002,-54.0565, 141.5910, 2654,   2400.4,   1.0520,  34.7210,2,  34.7260,2,    205.7,2,    205.7,2,    91.70,2,    31.20,2,     2.17,2,   -999.0,9
  09AR19940101,  SR03,    34,  1,      2,      2,2,19940109,0002,-54.0565, 141.5910, 2654,   2603.4,   0.8750,  34.7130,2,  34.7140,2,    208.0,2,    208.8,2,    94.10,2,    31.70,2,     2.19,2,   -999.0,9
  09AR19940101,  SR03,    34,  1,      1,      1,2,19940109,0002,-54.0565, 141.5910, 2654,   2752.8,   0.8190,  34.7100,2,  34.7090,2,    209.1,2,    208.5,2,   110.30,2,    31.70,2,     2.24,2,   -999.0,9
  09AR19940101,  SR03,    35,  1,     22,     22,2,19940109,0428,-54.5325, 141.3242, 2809,    102.0,   1.6910,  33.9070,2,-999.0000,9,   -999.0,5,   -999.0,9,  -999.00,9,  -999.00,9,  -999.00,9,   -999.0,9
  09AR19940101,  SR03,    35,  1,     24,     24,2,19940109,0428,-54.5325, 141.3242, 2809,    102.4,   1.6840,  33.9050,2,-999.0000,9,   -999.0,5,   -999.0,9,  -999.00,9,  -999.00,9,  -999.00,9,   -999.0,9
  09AR19940101,  SR03,    35,  1,     23,    113,2,19940109,0428,-54.5325, 141.3242, 2809,    102.7,   1.6840,  33.9060,2,-999.0000,9,   -999.0,5,   -999.0,9,  -999.00,9,  -999.00,9,  -999.00,9,   -999.0,9
  09AR19940101,  SR03,    35,  1,     21,     21,2,19940109,0428,-54.5325, 141.3242, 2809,    102.8,   1.6830,  33.9080,3,-999.0000,9,   -999.0,5,   -999.0,9,  -999.00,9,  -999.00,9,  -999.00,9,   -999.0,9
  09AR19940101,  SR03,    36,  1,     24,     24,2,19940109,0549,-54.5197, 141.3198, 2820,     13.5,   4.6120,  33.8820,4,  33.8770,2,    321.5,2,    324.1,2,     5.50,2,    24.90,2,     1.47,4,   2124.1,2
  09AR19940101,  SR03,    36,  1,     23,    113,2,19940109,0549,-54.5197, 141.3198, 2820,     55.6,   2.4210,  33.8810,3,  33.8820,2,    342.4,2,    338.4,2,     4.80,2,    25.40,2,     1.70,2,   2128.3,2
  09AR19940101,  SR03,    36,  1,     22,     22,2,19940109,0549,-54.5197, 141.3198, 2820,    103.2,   1.6220,  33.9090,3,  33.9070,2,    329.4,2,    329.8,2,    14.60,2,    26.50,2,     1.95,2,   2144.9,6
  09AR19940101,  SR03,    36,  1,     21,     21,2,19940109,0549,-54.5197, 141.3198, 2820,    173.8,   0.7670,  34.0480,3,  34.0520,2,    298.6,2,    298.0,2,    33.70,2,    30.90,2,     2.14,2,   2178.5,2
  09AR19940101,  SR03,    36,  1,     20,    120,2,19940109,0549,-54.5197, 141.3198, 2820,    204.6,   1.0650,  34.1270,3,  34.1230,2,    267.1,2,    273.9,2,    39.70,2,    31.80,2,     2.21,2,   2192.2,2
  09AR19940101,  SR03,    36,  1,     19,    119,2,19940109,0549,-54.5197, 141.3198, 2820,    243.0,   1.9230,  34.2760,3,  34.2760,2,    224.7,2,    220.7,2,    50.60,2,    33.80,2,     2.35,2,   2217.2,2
  09AR19940101,  SR03,    36,  1,     18,    118,2,19940109,0549,-54.5197, 141.3198, 2820,    303.1,   2.0750,  34.3480,2,  34.3460,2,    201.2,2,    202.6,2,    56.70,2,    34.20,2,     2.40,2,   2229.4,2
  09AR19940101,  SR03,    36,  1,     17,    117,2,19940109,0549,-54.5197, 141.3198, 2820,    403.2,   2.2360,  34.4760,2,  34.4740,2,    179.1,2,    180.6,2,    66.50,2,    34.90,2,     2.43,2,   2244.3,2
  09AR19940101,  SR03,    36,  1,     16,    116,2,19940109,0549,-54.5197, 141.3198, 2820,    522.8,   2.2390,  34.5570,2,  34.5560,2,    171.5,2,    172.5,2,    71.90,2,    34.40,2,     2.41,2,   2253.1,2
  09AR19940101,  SR03,    36,  1,     15,    115,2,19940109,0549,-54.5197, 141.3198, 2820,    604.4,   2.2360,  34.6060,2,  34.6030,2,    171.4,2,    172.3,2,    74.50,2,    33.90,2,     2.37,2,   2252.9,2
  09AR19940101,  SR03,    36,  1,     14,    114,2,19940109,0549,-54.5197, 141.3198, 2820,    704.6,   2.2560,  34.6470,2,  34.6460,2,    178.9,2,    175.5,2,    75.30,2,    32.60,2,     2.30,2,   2251.0,2
  09AR19940101,  SR03,    36,  1,     13,    124,2,19940109,0549,-54.5197, 141.3198, 2820,    802.0,   2.1960,  34.6810,2,  34.6790,2,    180.8,2,    178.3,2,    77.20,2,    32.10,2,     2.26,2,   2248.8,2
  09AR19940101,  SR03,    36,  1,     12,     12,2,19940109,0549,-54.5197, 141.3198, 2820,    904.5,   2.1550,  34.7020,2,  34.7000,2,    182.9,2,    182.4,2,    78.40,2,    31.70,2,     2.17,4,   2247.5,2
  09AR19940101,  SR03,    36,  1,     11,     11,2,19940109,0549,-54.5197, 141.3198, 2820,   1001.9,   2.1000,  34.7200,2,  34.7180,2,    185.0,2,    185.7,2,    79.20,2,    31.40,2,     2.17,2,   2246.4,2
  09AR19940101,  SR03,    36,  1,     10,     10,2,19940109,0549,-54.5197, 141.3198, 2820,   1103.3,   2.0440,  34.7300,2,  34.7290,2,    189.6,2,    188.4,2,    80.20,2,    31.30,2,     2.16,2,   2247.2,2
  09AR19940101,  SR03,    36,  1,      9,      9,2,19940109,0549,-54.5197, 141.3198, 2820,   1303.1,   1.9070,  34.7430,2,  34.7460,2,    191.9,2,    192.5,2,    83.50,2,    30.80,2,     2.13,2,   2247.9,6
  09AR19940101,  SR03,    36,  1,      8,      8,2,19940109,0549,-54.5197, 141.3198, 2820,   1503.2,   1.7490,  34.7470,2,  34.7500,2,    195.2,2,    196.1,2,    89.00,2,    30.50,2,     2.12,2,   2247.2,2
  09AR19940101,  SR03,    36,  1,      7,      7,2,19940109,0549,-54.5197, 141.3198, 2820,   1702.0,   1.5610,  34.7450,2,  34.7460,2,    196.4,2,    198.9,2,    94.60,2,    30.70,2,     2.14,2,   2248.8,2
  09AR19940101,  SR03,    36,  1,      6,      6,2,19940109,0549,-54.5197, 141.3198, 2820,   1902.0,   1.3720,  34.7380,2,  34.7410,2,    201.2,2,    201.2,2,    94.80,2,    30.90,2,     2.15,2,   2251.6,2
  09AR19940101,  SR03,    36,  1,      5,      5,2,19940109,0549,-54.5197, 141.3198, 2820,   2101.4,   1.1810,  34.7300,2,  34.7320,2,    206.6,2,    203.1,2,   100.40,2,    31.20,2,     2.18,2,   2254.1,2
  09AR19940101,  SR03,    36,  1,      4,      4,2,19940109,0549,-54.5197, 141.3198, 2820,   2303.2,   1.0320,  34.7220,2,  34.7210,2,    206.0,2,    205.5,2,   104.70,2,    31.50,2,     2.20,2,   2256.0,2
  09AR19940101,  SR03,    36,  1,      3,      3,2,19940109,0549,-54.5197, 141.3198, 2820,   2500.0,   0.8940,  34.7160,2,  34.7150,2,    208.0,2,    207.3,2,   107.00,2,    31.50,2,     2.22,2,   2258.3,2
  09AR19940101,  SR03,    36,  1,      2,      2,2,19940109,0549,-54.5197, 141.3198, 2820,   2656.8,   0.7690,  34.7110,2,  34.7090,2,    207.7,2,    209.7,2,   113.70,2,    31.80,2,     2.23,2,   2258.0,6
  09AR19940101,  SR03,    36,  1,      1,      1,2,19940109,0549,-54.5197, 141.3198, 2820,   2820.3,   0.6800,  34.7060,2,  34.7040,2,    209.9,2,    210.1,2,   115.60,2,    31.90,2,     2.24,2,   2259.4,2
  09AR19940101,  SR03,    37,  1,     24,     24,2,19940109,1149,-55.0122, 141.0045, 3276,     14.4,   4.4110,  33.8920,3,  33.8960,2,    351.2,2,   -999.0,9,     5.20,2,    25.00,2,     1.49,4,   -999.0,9
  09AR19940101,  SR03,    37,  1,     23,    113,2,19940109,1149,-55.0122, 141.0045, 3276,     53.4,   2.3390,  33.8870,2,  33.8890,2,    340.0,2,    340.5,2,     5.20,2,    25.60,2,     1.78,2,   -999.0,9
  09AR19940101,  SR03,    37,  1,     22,     22,2,19940109,1149,-55.0122, 141.0045, 3276,    103.3,   1.4140,  33.9200,2,  33.9200,2,    334.6,2,    333.4,2,    14.60,2,    26.60,2,     1.98,2,   -999.0,9
  09AR19940101,  SR03,    37,  1,     21,     21,2,19940109,1149,-55.0122, 141.0045, 3276,    152.8,   0.4780,  33.9480,3,  33.9500,2,    337.6,2,    335.8,2,    23.80,2,    28.50,2,     2.07,2,   -999.0,9
  09AR19940101,  SR03,    37,  1,     20,    120,2,19940109,1149,-55.0122, 141.0045, 3276,    179.2,   0.1590,  33.9940,3,  33.9960,2,    336.3,2,    335.2,2,    30.20,2,    29.90,2,     2.13,2,   -999.0,9
  09AR19940101,  SR03,    37,  1,     19,    119,2,19940109,1149,-55.0122, 141.0045, 3276,    224.3,   1.3990,  34.1810,3,  34.1840,2,    250.1,2,    252.4,2,    41.30,2,    32.60,2,     2.31,2,   -999.0,9
  09AR19940101,  SR03,    37,  1,     18,    118,2,19940109,1149,-55.0122, 141.0045, 3276,    304.2,   2.0670,  34.3470,2,  34.1850,4,    198.6,2,    203.7,2,    53.20,2,    34.70,2,     2.42,2,   -999.0,9
  09AR19940101,  SR03,    37,  1,     17,    117,2,19940109,1149,-55.0122, 141.0045, 3276,    404.9,   2.2460,  34.4840,2,  34.4820,2,    180.8,2,    180.2,2,    63.50,2,    34.90,2,     2.44,2,   -999.0,9
  09AR19940101,  SR03,    37,  1,     16,    116,2,19940109,1149,-55.0122, 141.0045, 3276,    503.7,   2.2600,  34.5480,2,  34.5470,2,    179.1,2,    174.6,2,    67.60,2,    34.40,2,     2.42,2,   -999.0,9
  09AR19940101,  SR03,    37,  1,     15,    115,2,19940109,1149,-55.0122, 141.0045, 3276,    633.1,   2.2260,  34.6210,2,  34.6170,2,    172.2,2,    173.1,2,    72.70,2,    33.80,2,     2.37,2,   -999.0,9
  09AR19940101,  SR03,    37,  1,     14,    114,2,19940109,1149,-55.0122, 141.0045, 3276,    753.8,   2.2340,  34.6640,2,  34.6660,2,    178.9,2,    177.4,2,    72.90,2,    32.50,2,     2.31,2,   -999.0,9
  09AR19940101,  SR03,    37,  1,     13,    124,2,19940109,1149,-55.0122, 141.0045, 3276,    902.3,   2.1680,  34.6980,2,  34.7000,2,    182.0,2,    182.0,2,    74.90,2,    32.00,2,     2.26,2,   -999.0,9
  09AR19940101,  SR03,    37,  1,     12,     12,2,19940109,1149,-55.0122, 141.0045, 3276,   1002.6,   2.0980,  34.7150,2,  34.7170,2,    182.1,2,    184.8,2,    78.00,2,    31.50,2,     2.17,4,   -999.0,9
  09AR19940101,  SR03,    37,  1,     11,     11,2,19940109,1149,-55.0122, 141.0045, 3276,   1204.5,   1.9850,  34.7390,2,  34.7380,2,    192.2,2,    190.0,2,    80.80,2,    30.90,2,     2.16,2,   -999.0,9
  09AR19940101,  SR03,    37,  1,     10,     10,2,19940109,1149,-55.0122, 141.0045, 3276,   1402.1,   1.8410,  34.7480,2,  34.7490,2,    196.4,2,    195.3,2,    81.70,2,    30.60,2,     2.14,2,   -999.0,9
  09AR19940101,  SR03,    37,  1,      9,      9,2,19940109,1149,-55.0122, 141.0045, 3276,   1602.7,   1.6670,  34.7470,2,  34.7480,2,    194.3,2,    197.6,2,    83.90,2,    30.80,2,     2.16,2,   -999.0,9
  09AR19940101,  SR03,    37,  1,      8,      8,2,19940109,1149,-55.0122, 141.0045, 3276,   1802.7,   1.4750,  34.7430,2,  34.7430,2,    199.0,2,    200.1,2,    92.20,2,    30.90,2,     2.18,2,   -999.0,9
  09AR19940101,  SR03,    37,  1,      7,      7,2,19940109,1149,-55.0122, 141.0045, 3276,   2001.9,   1.3090,  34.7360,2,  34.7370,2,    206.3,2,    202.2,2,    97.00,2,    31.00,2,     2.19,2,   -999.0,9
  09AR19940101,  SR03,    37,  1,      6,      6,2,19940109,1149,-55.0122, 141.0045, 3276,   2200.6,   1.1400,  34.7280,2,  34.7290,2,    205.1,2,    204.1,2,   103.20,2,    31.50,2,     2.21,2,   -999.0,9
  09AR19940101,  SR03,    37,  1,      5,      5,2,19940109,1149,-55.0122, 141.0045, 3276,   2450.7,   0.9200,  34.7170,2,  34.7180,2,    208.9,2,    206.7,2,   106.80,2,    31.80,2,     2.25,2,   -999.0,9
  09AR19940101,  SR03,    37,  1,      4,      4,2,19940109,1149,-55.0122, 141.0045, 3276,   2700.9,   0.7280,  34.7090,2,  34.7090,2,    211.1,2,    210.3,2,   106.80,2,    32.00,2,     2.26,2,   -999.0,9
  09AR19940101,  SR03,    37,  1,      3,      3,2,19940109,1149,-55.0122, 141.0045, 3276,   2900.5,   0.5990,  34.7020,2,  34.7020,2,    211.0,2,    213.0,2,   117.80,3,    32.40,2,     2.28,2,   -999.0,9
  09AR19940101,  SR03,    37,  1,      2,      2,2,19940109,1149,-55.0122, 141.0045, 3276,   3051.3,   0.5510,  34.7010,2,  34.6980,2,    212.4,2,    214.3,2,   110.10,2,    32.80,2,     2.29,2,   -999.0,9
  09AR19940101,  SR03,    37,  1,      1,      1,2,19940109,1149,-55.0122, 141.0045, 3276,   3282.9,   0.5390,  34.6990,2,  34.6980,2,    214.6,2,    214.8,2,   113.40,2,    32.50,2,     2.30,2,   -999.0,9