BOTTLE,20230321CCHSIOENA
EXPOCODE,SECT_ID,STNNBR,CASTNO,SAMPNO,BTLNBR,BTLNBR_FLAG_W,DATE,TIME,LATITUDE,LONGITUDE,DEPTH,CTDPRS,CTDTMP,CTDSAL,CTDSAL_FLAG_W,SALNTY,SALNTY_FLAG_W,CTDOXY,CTDOXY_FLAG_W,OXYGEN,OXYGEN_FLAG_W,SILCAT,SILCAT_FLAG_W,NITRAT,NITRAT_FLAG_W,PHSPHT,PHSPHT_FLAG_W,TCARBN,TCARBN_FLAG_W
,,,,,,,,,,,METERS,DBAR,ITS-90,PSS-78,,PSS-78,,UMOL/KG,,UMOL/KG,,UMOL/KG,,UMOL/KG,,UMOL/KG,,UMOL/KG,
  09AR19940101,  SR03,    78,  1,     17,    117,2,19940126,1115,-65.9875,  85.4318,  248,     13.5,  -1.4920,  33.1290,2,  33.1190,4,    381.1,2,    381.9,2,    44.30,2,    17.50,2,     0.86,4,   2062.3,2
  09AR19940101,  SR03,    78,  1,     15,    115,2,19940126,1115,-65.9875,  85.4318,  248,     22.5,  -1.3070,  33.6330,3,  33.6350,4,    370.7,2,    371.4,2,    48.90,2,    20.20,2,     1.42,2,   2114.4,2
  09AR19940101,  SR03,    78,  1,     13,    124,2,19940126,1115,-65.9875,  85.4318,  248,     43.0,  -1.5100,  33.9260,2,  33.9280,4,    334.2,2,    336.0,2,    55.50,2,    24.50,2,     1.84,2,   2163.6,2
  09AR19940101,  SR03,    78,  1,     11,     11,2,19940126,1115,-65.9875,  85.4318,  248,     62.5,  -1.6130,  34.2580,2,  34.2560,4,    321.0,2,    327.8,2,    58.20,2,    27.40,2,     2.01,2,   2198.7,2
  09AR19940101,  SR03,    78,  1,      9,      9,2,19940126,1115,-65.9875,  85.4318,  248,    103.2,  -1.8210,  34.3400,2,  34.3350,4,    323.5,2,    322.2,2,    59.60,2,    29.20,2,     2.05,2,   2208.2,2
  09AR19940101,  SR03,    78,  1,      7,      7,2,19940126,1115,-65.9875,  85.4318,  248,    123.4,  -1.8100,  34.3470,2,  34.3420,4,    321.5,2,    319.8,2,    60.10,2,    29.60,2,     2.05,2,   -999.0,9
  09AR19940101,  SR03,    78,  1,      5,      5,2,19940126,1115,-65.9875,  85.4318,  248,    153.6,  -1.8140,  34.3530,2,  34.3470,4,    323.2,2,    319.4,2,    60.20,2,    29.50,2,     2.05,2,   2208.9,2
  09AR19940101,  SR03,    78,  1,      3,      3,2,19940126,1115,-65.9875,  85.4318,  248,    203.4,  -1.8040,  34.3680,2,  34.3680,4,    318.2,2,    319.2,2,    60.70,2,    29.60,2,     2.05,2,   2210.1,2
  09AR19940101,  SR03,    78,  1,      1,      1,2,19940126,1115,-65.9875,  85.4318,  248,    242.0,  -1.7410,  34.4010,2,  34.3970,4,    321.3,2,    316.9,2,    62.60,2,    29.90,2,     2.06,2,   2212.6,2
  09AR19940101,  SR03,    79,  1,     17,    117,2,19940126,1330,-65.8975,  85.4163, 1269,     13.9,  -1.2670,  33.1700,2,  33.1780,4,    390.1,2,    387.4,2,    47.40,2,    17.60,2,     0.88,4,   2065.4,6
  09AR19940101,  SR03,    79,  1,     24,     24,2,19940126,1330,-65.8975,  85.4163, 1269,     14.0,  -1.2950,  33.1680,2,-999.0000,9,    390.1,2,   -999.0,9,  -999.00,9,  -999.00,9,  -999.00,9,   -999.0,9
  09AR19940101,  SR03,    79,  1,     16,    116,2,19940126,1330,-65.8975,  85.4163, 1269,     28.8,  -1.3930,  33.6660,4,  33.6510,4,    372.1,2,    372.7,2,    52.60,2,    21.00,2,     1.48,2,   2117.0,2
  09AR19940101,  SR03,    79,  1,     15,    115,2,19940126,1330,-65.8975,  85.4163, 1269,     53.1,  -1.5010,  33.9140,2,  33.9060,4,    338.4,2,    342.2,2,    57.80,2,    24.30,2,     1.83,2,   2159.9,2
  09AR19940101,  SR03,    79,  1,     14,    114,2,19940126,1330,-65.8975,  85.4163, 1269,     72.9,  -1.5520,  34.1410,3,  34.1280,4,    332.3,2,    333.8,2,    59.00,2,    25.50,2,     1.93,2,   2180.9,2
  09AR19940101,  SR03,    79,  1,     13,    124,2,19940126,1330,-65.8975,  85.4163, 1269,    103.9,  -1.7800,  34.3290,2,  34.3130,4,    313.7,2,    304.9,2,    64.00,2,    29.40,2,     2.08,2,   2206.1,2
  09AR19940101,  SR03,    79,  1,     12,     12,2,19940126,1330,-65.8975,  85.4163, 1269,    153.9,  -1.7910,  34.3480,2,  34.3370,4,    314.2,2,    307.8,2,    63.90,2,    29.90,2,     2.08,2,   2206.6,2
  09AR19940101,  SR03,    79,  1,     11,     11,2,19940126,1330,-65.8975,  85.4163, 1269,    204.1,  -1.7540,  34.3630,2,-999.0000,9,    310.5,2,    309.8,2,    63.90,2,    30.30,2,     2.07,2,   2208.1,2
  09AR19940101,  SR03,    79,  1,     10,     10,2,19940126,1330,-65.8975,  85.4163, 1269,    303.5,  -1.5420,  34.3990,2,  34.3890,4,    299.6,2,    303.5,2,    66.30,2,    30.10,2,     2.07,2,   2211.8,2
  09AR19940101,  SR03,    79,  1,      9,      9,2,19940126,1330,-65.8975,  85.4163, 1269,    403.4,  -0.8470,  34.4850,3,  34.4750,4,    275.6,2,    276.7,2,    73.40,2,    30.90,2,     2.12,2,   2223.0,2
  09AR19940101,  SR03,    79,  1,      8,      8,2,19940126,1330,-65.8975,  85.4163, 1269,    502.5,   0.1450,  34.6030,2,  34.5980,4,    254.6,2,    236.5,2,    85.50,2,    31.40,2,     2.19,2,   2238.4,2
  09AR19940101,  SR03,    79,  1,      7,      7,2,19940126,1330,-65.8975,  85.4163, 1269,    603.4,   0.7050,  34.6710,2,  34.6650,4,    213.2,2,    214.2,2,    94.70,2,    31.40,2,     2.21,2,   2248.2,2
  09AR19940101,  SR03,    79,  1,      6,      6,2,19940126,1330,-65.8975,  85.4163, 1269,    702.8,   0.7100,  34.6830,2,  34.6750,4,    212.2,2,    211.1,2,    99.70,2,    31.60,2,     2.22,2,   2251.2,2
  09AR19940101,  SR03,    79,  1,      5,      5,2,19940126,1330,-65.8975,  85.4163, 1269,    803.0,   0.5690,  34.6770,2,  34.6760,4,    212.5,2,    214.9,2,   102.20,2,    31.90,2,     2.18,4,   2251.7,2
  09AR19940101,  SR03,    79,  1,      4,      4,2,19940126,1330,-65.8975,  85.4163, 1269,    903.0,   0.5490,  34.6770,2,  34.6770,4,    214.9,2,    214.9,2,   104.10,2,    31.90,2,     2.22,2,   2250.8,2
  09AR19940101,  SR03,    79,  1,      3,      3,2,19940126,1330,-65.8975,  85.4163, 1269,   1003.1,   0.5100,  34.6770,2,  34.6790,4,    214.7,2,    215.2,2,   106.10,2,    32.10,2,     2.24,2,   2253.2,2
  09AR19940101,  SR03,    79,  1,      2,      2,2,19940126,1330,-65.8975,  85.4163, 1269,   1200.2,   0.3830,  34.6770,2,  34.6700,4,    218.0,2,    217.6,2,   109.80,2,    32.10,2,     2.24,2,   2252.2,2
  09AR19940101,  SR03,    79,  1,      1,      1,2,19940126,1330,-65.8975,  85.4163, 1269,   1283.4,   0.2960,  34.6740,2,  34.6680,4,    217.3,2,    219.5,2,   111.80,2,    32.30,2,     2.26,2,   2253.3,6
  09AR19940101,  SR03,    80,  1,     24,     24,2,19940126,1619,-65.8208,  85.4373, 1743,     14.2,  -1.3360,  33.3010,3,-999.0000,9,    388.1,2,   -999.0,9,  -999.00,9,  -999.00,9,  -999.00,9,   -999.0,9
  09AR19940101,  SR03,    80,  1,     21,    121,2,19940126,1619,-65.8208,  85.4373, 1743,     14.3,  -1.2950,  33.2690,2,  33.2030,4,    388.1,2,    386.4,2,    47.90,2,    18.20,2,     0.85,4,   -999.0,9
  09AR19940101,  SR03,    80,  1,     20,    120,2,19940126,1619,-65.8208,  85.4373, 1743,     29.8,  -1.1430,  33.5870,3,  33.5310,4,    371.9,2,    376.4,2,    51.00,2,    20.80,2,     1.41,2,   -999.0,9
  09AR19940101,  SR03,    80,  1,     19,    119,2,19940126,1619,-65.8208,  85.4373, 1743,     54.6,  -1.4950,  33.8740,4,  33.8210,4,    344.9,2,    344.9,2,    56.90,2,    24.10,2,     1.81,2,   -999.0,9
  09AR19940101,  SR03,    80,  1,     18,    118,2,19940126,1619,-65.8208,  85.4373, 1743,     83.8,  -1.6540,  34.2680,2,  34.2110,4,    328.2,2,    326.7,2,    59.60,2,    27.40,2,     2.02,2,   -999.0,9
  09AR19940101,  SR03,    80,  1,     17,    117,2,19940126,1619,-65.8208,  85.4373, 1743,    103.8,  -1.7510,  34.3220,2,  34.2640,4,    326.0,2,    321.8,2,    60.10,2,    28.50,2,     2.06,2,   -999.0,9
  09AR19940101,  SR03,    80,  1,     16,    116,2,19940126,1619,-65.8208,  85.4373, 1743,    153.7,  -1.8250,  34.3480,2,  34.2930,4,    319.6,2,    319.2,2,    61.40,2,    29.30,2,     2.03,2,   -999.0,9
  09AR19940101,  SR03,    80,  1,     15,    115,2,19940126,1619,-65.8208,  85.4373, 1743,    203.6,  -1.8300,  34.3590,2,  34.3040,4,    325.0,2,    321.0,2,    61.00,2,    29.30,2,     2.03,2,   -999.0,9
  09AR19940101,  SR03,    80,  1,     14,    114,2,19940126,1619,-65.8208,  85.4373, 1743,    304.3,  -1.8190,  34.3760,2,  34.3190,4,    321.1,2,    321.7,2,    61.50,2,    29.50,2,     2.02,2,   -999.0,9
  09AR19940101,  SR03,    80,  1,     13,    124,2,19940126,1619,-65.8208,  85.4373, 1743,    404.3,  -1.7430,  34.4000,2,  34.3420,4,    315.2,2,    317.6,2,    62.40,2,    29.70,2,     2.03,2,   -999.0,9
  09AR19940101,  SR03,    80,  1,     12,     12,2,19940126,1619,-65.8208,  85.4373, 1743,    505.0,  -1.3770,  34.4460,3,  34.3900,4,    301.2,2,    301.4,2,    67.40,2,    29.90,2,     2.08,2,   -999.0,9
  09AR19940101,  SR03,    80,  1,     11,     11,2,19940126,1619,-65.8208,  85.4373, 1743,    603.9,   0.1680,  34.6030,2,  34.5480,4,    234.9,2,    236.1,2,    85.20,2,    31.40,2,     2.19,2,   -999.0,9
  09AR19940101,  SR03,    80,  1,     10,     10,2,19940126,1619,-65.8208,  85.4373, 1743,    654.7,   0.3900,  34.6360,2,  34.5780,4,    220.6,2,    226.6,2,    89.00,2,    31.50,2,     2.20,2,   -999.0,9
  09AR19940101,  SR03,    80,  1,      9,      9,2,19940126,1619,-65.8208,  85.4373, 1743,    703.5,   0.6230,  34.6630,2,  34.6070,4,    215.9,2,    217.3,2,    93.40,2,    31.50,2,     2.15,4,   -999.0,9
  09AR19940101,  SR03,    80,  1,      8,      8,2,19940126,1619,-65.8208,  85.4373, 1743,    803.3,   0.7110,  34.6820,2,  34.6260,4,    211.1,2,    212.2,2,    98.10,2,    31.80,2,     2.20,2,   -999.0,9
  09AR19940101,  SR03,    80,  1,      7,      7,2,19940126,1619,-65.8208,  85.4373, 1743,    902.6,   0.5640,  34.6780,2,  34.6210,4,    215.4,2,    215.3,2,   101.00,2,    32.00,2,     2.21,2,   -999.0,9
  09AR19940101,  SR03,    80,  1,      6,      6,2,19940126,1619,-65.8208,  85.4373, 1743,   1003.5,   0.5150,  34.6780,2,  34.6240,4,    214.4,2,    215.5,2,   104.10,2,    32.20,2,     2.22,2,   -999.0,9
  09AR19940101,  SR03,    80,  1,      5,      5,3,19940126,1619,-65.8208,  85.4373, 1743,   1102.8,   0.4520,  34.6780,2,  34.6250,4,    219.1,2,    215.9,2,   106.70,2,    32.30,2,     2.24,2,   -999.0,9
  09AR19940101,  SR03,    80,  1,      4,      4,3,19940126,1619,-65.8208,  85.4373, 1743,   1302.6,   0.3220,  34.6740,2,  34.4760,4,    220.4,2,    265.1,4,    80.30,4,    30.80,4,     2.12,4,   -999.0,9
  09AR19940101,  SR03,    80,  1,      3,      3,2,19940126,1619,-65.8208,  85.4373, 1743,   1502.6,   0.1760,  34.6700,2,  34.6170,4,    223.7,2,    222.7,2,   113.30,2,    32.00,2,     2.25,2,   -999.0,9
  09AR19940101,  SR03,    80,  1,      2,      2,2,19940126,1619,-65.8208,  85.4373, 1743,   1706.6,   0.0800,  34.6670,2,  34.6140,4,    224.7,2,    225.5,2,   114.00,2,    32.30,2,     2.25,2,   -999.0,9
  09AR19940101,  SR03,    80,  1,      1,      1,2,19940126,1619,-65.8208,  85.4373, 1743,   1912.4,   0.0690,  34.6640,2,  34.6120,4,    221.9,2,    226.7,2,   114.90,2,    31.90,2,     2.25,2,   -999.0,9
  09AR19940101,  SR03,    81,  1,     24,     24,2,19940126,1929,-65.7370,  85.3953, 2486,     14.9,  -1.3910,  33.2190,2,  33.2080,4,   -999.0,5,    385.2,2,    47.20,2,    18.30,2,     0.84,4,   2068.2,2
  09AR19940101,  SR03,    81,  1,     23,    113,2,19940126,1929,-65.7370,  85.3953, 2486,     54.5,  -1.4860,  33.8740,4,  33.8820,4,    336.9,2,    345.6,2,    57.50,2,    23.80,2,     1.79,2,   2156.2,2
  09AR19940101,  SR03,    81,  1,     22,     22,2,19940126,1929,-65.7370,  85.3953, 2486,     79.8,  -1.6270,  34.2470,4,  34.2420,4,    332.6,2,    330.5,2,    60.00,2,    26.80,2,     1.98,2,   2194.4,2
  09AR19940101,  SR03,    81,  1,     21,    121,2,19940126,1929,-65.7370,  85.3953, 2486,    104.2,  -1.7960,  34.3340,2,  34.3290,4,    327.5,2,    321.9,2,    61.30,2,    28.90,2,     2.06,2,   -999.0,9
  09AR19940101,  SR03,    81,  1,     20,    120,2,19940126,1929,-65.7370,  85.3953, 2486,    134.4,  -1.8210,  34.3450,2,  34.3440,4,    323.5,2,    321.0,2,    61.60,2,    29.00,2,     2.05,2,   -999.0,9
  09AR19940101,  SR03,    81,  1,     19,    119,2,19940126,1929,-65.7370,  85.3953, 2486,    164.2,  -1.8260,  34.3540,2,  34.3530,4,    324.0,2,    319.9,2,    62.00,2,    29.80,2,     2.05,2,   2207.5,2
  09AR19940101,  SR03,    81,  1,     18,    118,2,19940126,1929,-65.7370,  85.3953, 2486,    204.4,  -1.8100,  34.3630,2,  34.3640,4,    322.3,2,    320.2,2,    62.50,2,    29.80,2,     2.03,2,   2206.6,2
  09AR19940101,  SR03,    81,  1,     17,    117,2,19940126,1929,-65.7370,  85.3953, 2486,    303.8,  -1.8000,  34.3850,2,  34.3850,4,    318.3,2,    321.2,2,    62.70,2,    29.70,2,     2.03,2,   2208.4,2
  09AR19940101,  SR03,    81,  1,     16,    116,2,19940126,1929,-65.7370,  85.3953, 2486,    403.4,  -1.6670,  34.4140,2,  34.4140,4,    311.5,2,    313.0,2,    65.10,2,    29.70,2,     2.06,2,   2212.9,2
  09AR19940101,  SR03,    81,  1,     15,    115,2,19940126,1929,-65.7370,  85.3953, 2486,    502.9,  -1.1290,  34.4790,3,  34.4790,4,    282.9,2,    290.9,2,    71.90,2,    30.60,2,     2.11,2,   2222.6,2
  09AR19940101,  SR03,    81,  1,     14,    114,2,19940126,1929,-65.7370,  85.3953, 2486,    602.6,   0.1280,  34.6010,3,  34.6090,4,    252.9,2,    237.2,2,    85.90,2,    31.50,2,     2.20,2,   2241.5,6
  09AR19940101,  SR03,    81,  1,     13,    124,2,19940126,1929,-65.7370,  85.3953, 2486,    703.3,   0.5770,  34.6650,2,  34.6690,4,    213.2,2,    217.6,2,    96.10,2,    31.50,2,     2.22,2,   2249.3,2
  09AR19940101,  SR03,    81,  1,     12,     12,2,19940126,1929,-65.7370,  85.3953, 2486,    804.1,   0.6010,  34.6790,2,  34.6840,4,    211.7,2,    214.3,2,   102.60,2,    31.70,2,     2.19,4,   2252.2,2
  09AR19940101,  SR03,    81,  1,     11,     11,2,19940126,1929,-65.7370,  85.3953, 2486,    903.2,   0.5300,  34.6810,2,  34.6870,4,    213.8,2,    214.7,2,   105.80,2,    31.80,2,     2.23,2,   2253.1,2
  09AR19940101,  SR03,    81,  1,     10,     10,2,19940126,1929,-65.7370,  85.3953, 2486,   1003.7,   0.4860,  34.6820,2,  34.6870,4,    216.0,2,    215.6,2,   107.80,2,    32.00,2,     2.24,2,   2253.7,2
  09AR19940101,  SR03,    81,  1,      9,      9,2,19940126,1929,-65.7370,  85.3953, 2486,   1103.2,   0.4150,  34.6800,2,  34.6860,4,    217.1,2,    216.8,2,   109.00,2,    32.20,2,     2.24,2,   2255.0,2
  09AR19940101,  SR03,    81,  1,      8,      8,2,19940126,1929,-65.7370,  85.3953, 2486,   1203.6,   0.3540,  34.6770,2,  34.6840,4,    220.2,2,    218.0,2,   111.50,2,    32.00,2,     2.25,2,   2255.3,2
  09AR19940101,  SR03,    81,  1,      7,      7,2,19940126,1929,-65.7370,  85.3953, 2486,   1402.5,   0.1850,  34.6730,2,  34.6780,4,    223.1,2,    222.1,2,   114.70,2,    31.90,2,     2.26,2,   2254.1,2
  09AR19940101,  SR03,    81,  1,      6,      6,2,19940126,1929,-65.7370,  85.3953, 2486,   1601.8,   0.0910,  34.6690,2,  34.6760,4,    227.0,2,    225.2,2,   115.10,2,    32.10,2,     2.25,2,   2254.1,2
  09AR19940101,  SR03,    81,  1,      5,      5,2,19940126,1929,-65.7370,  85.3953, 2486,   1803.0,   0.0470,  34.6680,2,  34.6750,4,    226.2,2,    226.6,2,   116.10,2,    32.10,2,     2.26,2,   2253.6,2
  09AR19940101,  SR03,    81,  1,      4,      4,2,19940126,1929,-65.7370,  85.3953, 2486,   2001.2,   0.0060,  34.6650,2,  34.6750,4,    226.6,2,    228.2,2,   116.40,2,    32.30,2,     2.26,2,   2253.9,6
  09AR19940101,  SR03,    81,  1,      3,      3,2,19940126,1929,-65.7370,  85.3953, 2486,   2201.1,  -0.0180,  34.6630,2,  34.6720,4,    229.1,2,    229.1,2,   117.00,2,    32.10,2,     2.26,2,   2253.9,2
  09AR19940101,  SR03,    81,  1,      2,      2,2,19940126,1929,-65.7370,  85.3953, 2486,   2399.8,  -0.0210,  34.6680,2,  34.6730,4,    228.8,2,    229.9,2,   116.70,2,    32.20,2,     2.27,2,   2254.0,2
  09AR19940101,  SR03,    81,  1,      1,      1,2,19940126,1929,-65.7370,  85.3953, 2486,   2520.4,  -0.0340,  34.6660,2,  34.6730,4,    224.9,2,    230.9,2,   116.90,2,    32.10,2,     2.27,2,   2253.5,2