BOTTLE,20230321CCHSIOENA
EXPOCODE,SECT_ID,STNNBR,CASTNO,SAMPNO,BTLNBR,BTLNBR_FLAG_W,DATE,TIME,LATITUDE,LONGITUDE,DEPTH,CTDPRS,CTDTMP,CTDSAL,CTDSAL_FLAG_W,SALNTY,SALNTY_FLAG_W,CTDOXY,CTDOXY_FLAG_W,OXYGEN,OXYGEN_FLAG_W,SILCAT,SILCAT_FLAG_W,NITRAT,NITRAT_FLAG_W,PHSPHT,PHSPHT_FLAG_W,TCARBN,TCARBN_FLAG_W
,,,,,,,,,,,METERS,DBAR,ITS-90,PSS-78,,PSS-78,,UMOL/KG,,UMOL/KG,,UMOL/KG,,UMOL/KG,,UMOL/KG,,UMOL/KG,
  09AR19940101,  SR03,    42,  1,     24,     24,2,19940110,1639,-56.9303, 139.8693, 4112,     13.8,   4.6390,  33.9010,2,  33.9010,2,    331.3,2,    332.2,2,     5.60,2,    24.50,2,     1.53,4,   -999.0,9
  09AR19940101,  SR03,    42,  1,     23,    113,2,19940110,1639,-56.9303, 139.8693, 4112,     54.6,   2.5130,  33.8920,3,  33.8940,2,    339.0,2,    333.2,2,     3.90,2,    25.10,2,     1.74,2,   -999.0,9
  09AR19940101,  SR03,    42,  1,     22,     22,2,19940110,1639,-56.9303, 139.8693, 4112,    104.8,   1.6240,  33.9090,3,  33.9060,2,    328.6,2,    334.6,2,    14.30,2,    26.60,2,     1.96,2,   -999.0,9
  09AR19940101,  SR03,    42,  1,     21,     21,2,19940110,1639,-56.9303, 139.8693, 4112,    155.5,   1.1420,  33.9720,2,  33.9730,2,    323.6,2,    327.3,2,    22.30,2,    28.80,2,     2.04,2,   -999.0,9
  09AR19940101,  SR03,    42,  1,     20,    120,2,19940110,1639,-56.9303, 139.8693, 4112,    185.5,   0.9930,  34.0010,4,  34.0050,2,    288.4,2,    266.1,2,    27.00,2,    29.60,2,     2.10,2,   -999.0,9
  09AR19940101,  SR03,    42,  1,     19,    119,2,19940110,1639,-56.9303, 139.8693, 4112,    225.2,   1.7740,  34.1520,2,  34.1540,2,    261.8,2,    201.6,2,    36.70,2,    32.00,2,     2.25,2,   -999.0,9
  09AR19940101,  SR03,    42,  1,     18,    118,2,19940110,1639,-56.9303, 139.8693, 4112,    305.9,   2.1990,  34.3120,4,  34.3120,2,    209.6,2,    186.0,2,    50.60,2,    34.10,2,     2.38,2,   -999.0,9
  09AR19940101,  SR03,    42,  1,     17,    117,2,19940110,1639,-56.9303, 139.8693, 4112,    404.0,   2.2980,  34.4190,2,  34.4180,2,    194.1,2,    174.6,2,    59.30,2,    34.60,2,     2.43,2,   -999.0,9
  09AR19940101,  SR03,    42,  1,     16,    116,2,19940110,1639,-56.9303, 139.8693, 4112,    504.9,   2.3110,  34.4950,2,  34.4930,2,    180.4,2,    174.2,2,    64.90,2,    34.90,2,     2.44,2,   -999.0,9
  09AR19940101,  SR03,    42,  1,     15,    115,2,19940110,1639,-56.9303, 139.8693, 4112,    604.4,   2.2960,  34.5530,2,  34.5540,2,    176.7,2,    175.7,2,    69.10,2,    34.40,2,     2.42,2,   -999.0,9
  09AR19940101,  SR03,    42,  1,     14,    114,2,19940110,1639,-56.9303, 139.8693, 4112,    805.1,   2.2780,  34.6480,2,  34.6490,2,    179.4,2,    177.8,2,    72.90,2,    32.80,2,     2.33,2,   -999.0,9
  09AR19940101,  SR03,    42,  1,     13,    124,2,19940110,1639,-56.9303, 139.8693, 4112,   1003.0,   2.2010,  34.6980,2,  34.6970,2,    182.7,2,    174.6,4,    75.80,2,    31.80,2,     2.25,2,   -999.0,9
  09AR19940101,  SR03,    42,  1,     12,     12,2,19940110,1639,-56.9303, 139.8693, 4112,   1205.1,   2.0900,  34.7280,2,  34.7290,2,    187.5,2,    190.7,2,    78.30,2,    31.20,2,     2.14,4,   -999.0,9
  09AR19940101,  SR03,    42,  1,     11,     11,2,19940110,1639,-56.9303, 139.8693, 4112,   1404.5,   1.9540,  34.7440,2,  34.7470,2,    192.2,2,    195.1,2,    81.30,2,    30.80,2,     2.15,2,   -999.0,9
  09AR19940101,  SR03,    42,  1,     10,     10,2,19940110,1639,-56.9303, 139.8693, 4112,   1604.6,   1.8030,  34.7510,2,  34.7510,2,    193.3,2,    197.8,2,    84.80,2,    30.80,2,     2.15,2,   -999.0,9
  09AR19940101,  SR03,    42,  1,      9,      9,2,19940110,1639,-56.9303, 139.8693, 4112,   1904.3,   1.5420,  34.7450,2,  34.7450,2,    198.5,2,    201.4,2,    92.50,2,    30.70,2,     2.17,2,   -999.0,9
  09AR19940101,  SR03,    42,  1,      8,      8,2,19940110,1639,-56.9303, 139.8693, 4112,   2202.9,   1.2900,  34.7350,2,  34.7340,2,    207.6,2,    204.0,2,    99.80,2,    31.40,2,     2.21,2,   -999.0,9
  09AR19940101,  SR03,    42,  1,      7,      7,2,19940110,1639,-56.9303, 139.8693, 4112,   2502.7,   1.0460,  34.7230,2,  34.7200,2,    208.9,2,    206.6,2,   106.90,2,    31.70,2,     2.23,2,   -999.0,9
  09AR19940101,  SR03,    42,  1,      6,      6,2,19940110,1639,-56.9303, 139.8693, 4112,   2803.1,   0.8120,  34.7110,2,  34.7090,2,    209.3,2,    209.2,2,   113.50,2,    32.20,2,     2.26,2,   -999.0,9
  09AR19940101,  SR03,    42,  1,      5,      5,2,19940110,1639,-56.9303, 139.8693, 4112,   3101.6,   0.5700,  34.7010,2,  34.7000,2,    215.9,2,    212.6,2,   117.60,2,    32.20,2,     2.29,2,   -999.0,9
  09AR19940101,  SR03,    42,  1,      4,      4,2,19940110,1639,-56.9303, 139.8693, 4112,   3401.6,   0.4080,  34.6940,2,  34.6940,2,    219.6,2,    216.8,2,   122.00,2,    32.40,2,     2.29,2,   -999.0,9
  09AR19940101,  SR03,    42,  1,      3,      3,2,19940110,1639,-56.9303, 139.8693, 4112,   3701.5,   0.2880,  34.6890,2,  34.6880,2,    223.9,2,    221.2,2,   119.90,3,    32.70,2,     2.30,2,   -999.0,9
  09AR19940101,  SR03,    42,  1,      2,      2,2,19940110,1639,-56.9303, 139.8693, 4112,   4004.5,   0.2150,  34.6850,2,  34.6850,2,    223.1,2,    224.4,2,   129.50,2,    32.80,2,     2.31,2,   -999.0,9
  09AR19940101,  SR03,    42,  1,      1,      1,2,19940110,1639,-56.9303, 139.8693, 4112,   4178.6,   0.2070,  34.6840,2,  34.6820,2,    224.7,2,    226.8,2,   132.00,2,    32.70,2,     2.31,2,   -999.0,9
  09AR19940101,  SR03,    43,  1,     23,    113,2,19940110,2105,-57.3840, 139.8478, 4112,     13.3,   4.2850,  33.9050,2,  33.9080,2,    328.4,2,    328.1,2,     4.30,2,    24.70,2,     1.49,4,   2123.1,2
  09AR19940101,  SR03,    43,  1,     24,     24,2,19940110,2105,-57.3840, 139.8478, 4112,     13.4,   4.2870,  33.9060,2,-999.0000,9,    328.4,2,   -999.0,9,  -999.00,9,  -999.00,9,  -999.00,9,   -999.0,9
  09AR19940101,  SR03,    43,  1,     21,     21,2,19940110,2105,-57.3840, 139.8478, 4112,     28.1,   3.7440,  33.9040,3,-999.0000,9,    337.0,2,   -999.0,9,  -999.00,9,  -999.00,9,  -999.00,9,   -999.0,9
  09AR19940101,  SR03,    43,  1,     20,    120,2,19940110,2105,-57.3840, 139.8478, 4112,     28.2,   3.7320,  33.9060,2,-999.0000,9,    337.0,2,   -999.0,9,  -999.00,9,  -999.00,9,  -999.00,9,   -999.0,9
  09AR19940101,  SR03,    43,  1,     22,     22,2,19940110,2105,-57.3840, 139.8478, 4112,     28.4,   3.8040,  33.9080,4,-999.0000,9,    337.0,2,   -999.0,9,  -999.00,9,  -999.00,9,  -999.00,9,   -999.0,9
  09AR19940101,  SR03,    43,  1,     19,    119,2,19940110,2105,-57.3840, 139.8478, 4112,     28.9,   3.6130,  33.9070,4,-999.0000,9,    337.0,2,   -999.0,9,  -999.00,9,  -999.00,9,  -999.00,9,   -999.0,9
  09AR19940101,  SR03,    43,  1,     18,    118,2,19940110,2105,-57.3840, 139.8478, 4112,     42.5,   2.6910,  33.9010,2,-999.0000,9,    343.5,2,   -999.0,9,  -999.00,9,  -999.00,9,  -999.00,9,   -999.0,9
  09AR19940101,  SR03,    43,  1,     17,    117,2,19940110,2105,-57.3840, 139.8478, 4112,     42.5,   2.6390,  33.8980,4,  33.9020,2,    343.5,2,    344.0,2,     1.90,2,    24.40,2,     1.65,2,   2121.6,2
  09AR19940101,  SR03,    43,  1,     16,    116,2,19940110,2105,-57.3840, 139.8478, 4112,     78.0,   2.1700,  33.9050,2,-999.0000,9,    329.1,2,   -999.0,9,  -999.00,9,  -999.00,9,  -999.00,9,   -999.0,9
  09AR19940101,  SR03,    43,  1,     15,    115,2,19940110,2105,-57.3840, 139.8478, 4112,     78.5,   2.1710,  33.9080,3,  33.9050,2,    329.1,2,    329.7,2,     8.20,2,    25.50,2,     1.83,2,   2135.1,2
  09AR19940101,  SR03,    43,  1,     13,    124,2,19940110,2105,-57.3840, 139.8478, 4112,    127.9,   1.3410,  33.9340,4,  33.9310,2,    324.8,2,    325.0,2,    16.60,2,    27.50,2,     2.01,2,   2148.7,2
  09AR19940101,  SR03,    43,  1,     14,    114,2,19940110,2105,-57.3840, 139.8478, 4112,    128.1,   1.3560,  33.9340,3,-999.0000,9,    324.8,2,   -999.0,9,  -999.00,9,  -999.00,9,  -999.00,9,   -999.0,9
  09AR19940101,  SR03,    43,  1,     12,     12,2,19940110,2105,-57.3840, 139.8478, 4112,    172.3,   1.4520,  34.0300,2,-999.0000,9,    296.0,2,   -999.0,9,  -999.00,9,  -999.00,9,  -999.00,9,   -999.0,9
  09AR19940101,  SR03,    43,  1,     11,     11,2,19940110,2105,-57.3840, 139.8478, 4112,    172.7,   1.4730,  34.0370,4,  34.0290,2,    296.0,2,    296.0,2,    25.50,2,    29.80,2,     2.08,2,   2168.0,2
  09AR19940101,  SR03,    43,  1,      9,      9,2,19940110,2105,-57.3840, 139.8478, 4112,    204.4,   1.7400,  34.0990,2,  34.0990,2,    273.1,2,    273.2,2,    30.30,2,    31.20,2,     2.17,2,   2180.4,2
  09AR19940101,  SR03,    43,  1,     10,     10,2,19940110,2105,-57.3840, 139.8478, 4112,    204.7,   1.7430,  34.1010,2,-999.0000,9,    273.1,2,   -999.0,9,  -999.00,9,  -999.00,9,  -999.00,9,   -999.0,9
  09AR19940101,  SR03,    44,  1,     24,     24,2,19940110,2345,-57.3670, 139.8397, 4112,     13.5,   4.1030,  33.9050,2,  33.9030,2,    330.8,2,    330.5,2,     5.40,2,    24.00,2,     1.49,4,   2123.4,6
  09AR19940101,  SR03,    44,  1,     23,    113,2,19940110,2345,-57.3670, 139.8397, 4112,    254.1,   2.2020,  34.2200,2,  34.2200,2,    232.2,2,    234.4,2,    42.70,2,    32.40,2,     2.27,2,   2203.5,2
  09AR19940101,  SR03,    44,  1,     22,     22,2,19940110,2345,-57.3670, 139.8397, 4112,    303.8,   2.3070,  34.2920,2,  34.2930,2,    216.5,2,    215.4,2,    49.20,2,    32.90,2,     2.35,2,   2215.9,2
  09AR19940101,  SR03,    44,  1,     21,     21,2,19940110,2345,-57.3670, 139.8397, 4112,    354.5,   2.3340,  34.3420,2,  34.3410,2,    204.1,2,    204.3,2,    53.70,2,    33.00,2,     2.38,2,   2224.8,2
  09AR19940101,  SR03,    44,  1,     20,    120,2,19940110,2345,-57.3670, 139.8397, 4112,    403.7,   2.3460,  34.3850,3,  34.3840,2,    193.5,2,    196.0,2,    57.50,2,    33.70,2,     2.40,2,   2230.4,2
  09AR19940101,  SR03,    44,  1,     19,    119,2,19940110,2345,-57.3670, 139.8397, 4112,    457.8,   2.2420,  34.4150,2,  34.4170,2,    184.9,2,    188.7,2,    62.10,2,    34.50,2,     2.44,2,   2237.3,2
  09AR19940101,  SR03,    44,  1,     18,    118,2,19940110,2345,-57.3670, 139.8397, 4112,    604.4,   2.2900,  34.5430,2,  34.5440,2,    174.8,2,    174.1,2,    71.20,2,    34.30,2,     2.41,2,   2249.7,2
  09AR19940101,  SR03,    44,  1,     17,    117,2,19940110,2345,-57.3670, 139.8397, 4112,    702.6,   2.2910,  34.5970,2,  34.5980,2,    179.0,2,    173.5,2,    74.30,2,    33.00,2,     2.37,2,   2250.2,2
  09AR19940101,  SR03,    44,  1,     16,    116,2,19940110,2345,-57.3670, 139.8397, 4112,    803.4,   2.2680,  34.6360,2,  34.6380,2,    174.9,2,    174.7,2,    75.70,2,    32.80,2,     2.34,2,   2251.0,2
  09AR19940101,  SR03,    44,  1,     15,    115,2,19940110,2345,-57.3670, 139.8397, 4112,   1004.0,   2.1870,  34.6920,2,  34.6930,2,    180.1,2,    180.9,2,    78.30,2,    31.40,2,     2.25,2,   2248.2,6
  09AR19940101,  SR03,    44,  1,     14,    114,2,19940110,2345,-57.3670, 139.8397, 4112,   1102.1,   2.1450,  34.7050,2,  34.7050,2,    184.5,2,    184.2,2,    79.20,2,    31.50,2,     2.22,2,   2246.9,2
  09AR19940101,  SR03,    44,  1,     13,    124,2,19940110,2345,-57.3670, 139.8397, 4112,   1303.1,   2.0280,  34.7310,2,  34.7310,2,    190.4,2,    190.3,2,    81.40,2,    30.90,2,     2.18,2,   2245.2,2
  09AR19940101,  SR03,    44,  1,     12,     12,2,19940110,2345,-57.3670, 139.8397, 4112,   1502.6,   1.8900,  34.7430,2,  34.7430,2,    194.1,2,    195.2,2,    85.30,2,    30.10,2,     2.09,4,   2245.6,2
  09AR19940101,  SR03,    44,  1,     11,     11,2,19940110,2345,-57.3670, 139.8397, 4112,   1702.3,   1.7090,  34.7440,2,  34.7430,2,    195.5,2,    198.3,2,    90.20,2,    30.60,2,     2.13,2,   2247.3,2
  09AR19940101,  SR03,    44,  1,     10,     10,2,19940110,2345,-57.3670, 139.8397, 4112,   1902.4,   1.5460,  34.7410,2,  34.7410,2,    202.3,2,    200.2,2,    95.10,2,    30.60,2,     2.16,2,   2249.0,2
  09AR19940101,  SR03,    44,  1,      9,      9,2,19940110,2345,-57.3670, 139.8397, 4112,   2102.3,   1.3650,  34.7330,2,  34.7340,2,    205.5,2,    201.9,2,   100.20,2,    31.10,2,     2.18,2,   2250.4,2
  09AR19940101,  SR03,    44,  1,      8,      8,2,19940110,2345,-57.3670, 139.8397, 4112,   2300.4,   1.2150,  34.7270,2,  34.7270,2,    206.7,2,    203.9,2,   105.00,2,    31.20,2,     2.20,2,   2252.0,2
  09AR19940101,  SR03,    44,  1,      7,      7,2,19940110,2345,-57.3670, 139.8397, 4112,   2502.1,   1.0470,  34.7180,2,  34.7180,2,    206.6,2,    205.8,2,   104.30,2,    31.80,2,     2.23,2,   2254.4,2
  09AR19940101,  SR03,    44,  1,      6,      6,2,19940110,2345,-57.3670, 139.8397, 4112,   2701.8,   0.9010,  34.7110,2,  34.7080,2,    209.0,2,    207.6,2,   112.70,2,    31.80,2,     2.24,2,   2256.7,2
  09AR19940101,  SR03,    44,  1,      5,      5,2,19940110,2345,-57.3670, 139.8397, 4112,   2900.5,   0.7440,  34.7030,2,  34.7020,2,    211.0,2,    210.0,2,   116.40,2,    31.90,2,     2.27,2,   2257.4,2
  09AR19940101,  SR03,    44,  1,      4,      4,2,19940110,2345,-57.3670, 139.8397, 4112,   3202.1,   0.5280,  34.6940,2,  34.6910,2,    214.6,2,    214.7,2,   123.10,2,    32.30,2,     2.28,2,   2257.9,2
  09AR19940101,  SR03,    44,  1,      3,      3,2,19940110,2345,-57.3670, 139.8397, 4112,   3501.5,   0.3590,  34.6880,2,  34.6850,2,    218.7,2,    219.4,2,   128.30,2,    32.40,2,     2.29,2,   2257.2,2
  09AR19940101,  SR03,    44,  1,      2,      2,4,19940110,2345,-57.3670, 139.8397, 4112,   3803.4,   0.2460,  34.6830,2,  34.6850,4,    220.9,2,    219.7,4,   126.80,4,    32.20,4,     2.29,4,   2258.0,6
  09AR19940101,  SR03,    44,  1,      1,      1,2,19940110,2345,-57.3670, 139.8397, 4112,   4036.3,   0.2220,  34.6810,2,  34.6800,2,    221.4,2,    224.3,2,   130.90,2,    32.40,2,     2.30,2,   2259.0,2
  09AR19940101,  SR03,    45,  1,     24,     24,2,19940111,0555,-57.8627, 139.8640, 4007,     14.2,   4.0680,  33.8960,2,  33.9000,2,    326.0,2,    328.9,2,     6.30,2,    24.80,2,     1.52,4,   -999.0,9
  09AR19940101,  SR03,    45,  1,     23,    113,2,19940111,0555,-57.8627, 139.8640, 4007,     55.0,   2.2760,  33.9020,2,  33.9040,2,    352.0,2,    345.2,2,     3.00,2,    25.10,2,     1.71,2,   -999.0,9
  09AR19940101,  SR03,    45,  1,     22,     22,2,19940111,0555,-57.8627, 139.8640, 4007,    104.0,   1.7200,  33.9090,2,  33.9110,2,    328.0,2,    330.7,2,    11.40,2,    26.20,2,     1.94,2,   -999.0,9
  09AR19940101,  SR03,    45,  1,     21,     21,2,19940111,0555,-57.8627, 139.8640, 4007,    163.9,   0.8970,  33.9430,4,  33.9470,2,    315.2,2,    325.3,2,    20.60,2,    27.90,2,     2.02,2,   -999.0,9
  09AR19940101,  SR03,    45,  1,     20,    120,2,19940111,0555,-57.8627, 139.8640, 4007,    215.3,   1.1960,  34.0760,3,  34.0780,2,    298.2,2,    287.0,2,    31.50,2,    30.50,2,     2.15,2,   -999.0,9
  09AR19940101,  SR03,    45,  1,     19,    119,2,19940111,0555,-57.8627, 139.8640, 4007,    294.6,   2.0260,  34.2730,2,  34.2660,2,    221.8,2,    223.9,2,    47.50,2,    33.40,2,     2.34,2,   -999.0,9
  09AR19940101,  SR03,    45,  1,     18,    118,2,19940111,0555,-57.8627, 139.8640, 4007,    403.8,   2.2190,  34.4180,2,  34.4160,2,    195.2,2,    190.1,2,    60.20,2,    34.70,2,     2.43,2,   -999.0,9
  09AR19940101,  SR03,    45,  1,     17,    117,2,19940111,0555,-57.8627, 139.8640, 4007,    504.0,   2.3240,  34.4970,2,  34.4990,2,    179.4,2,    180.2,2,    64.90,2,    34.40,2,     2.41,2,   -999.0,9
  09AR19940101,  SR03,    45,  1,     16,    116,2,19940111,0555,-57.8627, 139.8640, 4007,    604.9,   2.3160,  34.5610,2,  34.5590,2,    174.8,2,    175.4,2,    68.60,2,    34.20,2,     2.39,2,   -999.0,9
  09AR19940101,  SR03,    45,  1,     15,    115,2,19940111,0555,-57.8627, 139.8640, 4007,    703.4,   2.2320,  34.5990,2,  34.6000,2,    176.5,2,    173.7,2,    72.10,2,    33.90,2,     2.37,2,   -999.0,9
  09AR19940101,  SR03,    45,  1,     14,    114,2,19940111,0555,-57.8627, 139.8640, 4007,    804.2,   2.2190,  34.6430,2,  34.6440,2,    175.9,2,    176.1,2,    74.00,2,    33.20,2,     2.32,2,   -999.0,9
  09AR19940101,  SR03,    45,  1,     13,    124,2,19940111,0555,-57.8627, 139.8640, 4007,   1006.0,   2.1310,  34.6960,2,  34.6970,2,    178.9,2,    182.5,2,    76.00,2,    32.10,2,     2.25,2,   -999.0,9
  09AR19940101,  SR03,    45,  1,     12,     12,2,19940111,0555,-57.8627, 139.8640, 4007,   1203.4,   2.0660,  34.7270,2,  34.7280,2,    186.1,2,    189.4,2,    78.40,2,    30.90,2,     2.12,4,   -999.0,9
  09AR19940101,  SR03,    45,  1,     11,     11,2,19940111,0555,-57.8627, 139.8640, 4007,   1401.7,   1.9400,  34.7410,2,  34.7430,2,    189.4,2,    194.1,2,    81.40,2,    30.50,2,     2.14,2,   -999.0,9
  09AR19940101,  SR03,    45,  1,     10,     10,2,19940111,0555,-57.8627, 139.8640, 4007,   1602.2,   1.7850,  34.7460,2,  34.7490,2,    192.4,2,    197.2,2,    84.20,2,    30.50,2,     2.14,2,   -999.0,9
  09AR19940101,  SR03,    45,  1,      9,      9,2,19940111,0555,-57.8627, 139.8640, 4007,   1902.9,   1.5260,  34.7400,2,  34.7420,2,    200.3,2,    200.7,2,    90.70,2,    30.60,2,     2.16,2,   -999.0,9
  09AR19940101,  SR03,    45,  1,      8,      8,2,19940111,0555,-57.8627, 139.8640, 4007,   2201.9,   1.2640,  34.7300,2,  34.7300,2,    206.2,2,    203.9,2,    95.10,2,    31.00,2,     2.19,2,   -999.0,9
  09AR19940101,  SR03,    45,  1,      7,      7,2,19940111,0555,-57.8627, 139.8640, 4007,   2502.0,   1.0470,  34.7190,2,  34.7170,2,    207.7,2,    205.9,2,   101.30,2,    31.20,2,     2.22,2,   -999.0,9
  09AR19940101,  SR03,    45,  1,      6,      6,2,19940111,0555,-57.8627, 139.8640, 4007,   2801.6,   0.8110,  34.7070,2,  34.7060,2,    209.5,2,    209.0,2,   110.70,2,    31.70,2,     2.25,2,   -999.0,9
  09AR19940101,  SR03,    45,  1,      5,      5,2,19940111,0555,-57.8627, 139.8640, 4007,   3100.5,   0.6000,  34.6970,2,  34.6990,2,    215.9,2,    213.0,2,   114.00,2,    32.10,2,     2.27,2,   -999.0,9
  09AR19940101,  SR03,    45,  1,      4,      4,2,19940111,0555,-57.8627, 139.8640, 4007,   3401.6,   0.4080,  34.6900,2,  34.6880,2,    218.9,2,    218.0,2,   122.30,2,    32.40,2,     2.28,2,   -999.0,9
  09AR19940101,  SR03,    45,  1,      3,      3,2,19940111,0555,-57.8627, 139.8640, 4007,   3701.7,   0.2730,  34.6850,2,  34.6830,2,    223.3,2,    222.4,2,   123.20,2,    32.00,2,     2.28,2,   -999.0,9
  09AR19940101,  SR03,    45,  1,      2,      2,2,19940111,0555,-57.8627, 139.8640, 4007,   3999.1,   0.1830,  34.6790,2,  34.6780,2,    225.5,2,    225.4,2,   127.30,2,    32.50,2,     2.29,2,   -999.0,9
  09AR19940101,  SR03,    45,  1,      1,      1,2,19940111,0555,-57.8627, 139.8640, 4007,   4171.7,   0.1240,  34.6780,2,  34.6750,2,    231.1,2,    227.9,2,   122.90,2,    32.40,2,     2.28,2,   -999.0,9