BOTTLE,20230321CCHSIOENA
EXPOCODE,SECT_ID,STNNBR,CASTNO,SAMPNO,BTLNBR,BTLNBR_FLAG_W,DATE,TIME,LATITUDE,LONGITUDE,DEPTH,CTDPRS,CTDTMP,CTDSAL,CTDSAL_FLAG_W,SALNTY,SALNTY_FLAG_W,CTDOXY,CTDOXY_FLAG_W,OXYGEN,OXYGEN_FLAG_W,SILCAT,SILCAT_FLAG_W,NITRAT,NITRAT_FLAG_W,PHSPHT,PHSPHT_FLAG_W,TCARBN,TCARBN_FLAG_W
,,,,,,,,,,,METERS,DBAR,ITS-90,PSS-78,,PSS-78,,UMOL/KG,,UMOL/KG,,UMOL/KG,,UMOL/KG,,UMOL/KG,,UMOL/KG,
  09AR19940101,  SR03,    58,  1,     24,     24,2,19940114,0451,-62.8363, 139.8215, 3166,     12.7,   0.5390,  33.9100,3,  33.9100,2,    337.7,2,    345.5,2,    44.40,2,    28.90,2,     1.92,4,   2161.6,2
  09AR19940101,  SR03,    58,  1,     23,    113,2,19940114,0451,-62.8363, 139.8215, 3166,     52.5,  -1.0250,  34.1360,3,  34.1390,2,    331.2,2,    327.3,2,    47.30,2,    30.10,2,     2.08,2,   2186.5,2
  09AR19940101,  SR03,    58,  1,     22,     22,2,19940114,0451,-62.8363, 139.8215, 3166,     62.6,  -1.0720,  34.1820,4,  34.2070,2,    321.8,2,    313.9,2,    48.90,2,    30.60,2,     2.13,2,   2195.1,2
  09AR19940101,  SR03,    58,  1,     21,    121,2,19940114,0451,-62.8363, 139.8215, 3166,    103.3,   1.2010,  34.4970,4,  34.4930,2,    220.0,2,    206.9,2,    64.30,2,    33.60,2,     2.39,2,   2241.0,6
  09AR19940101,  SR03,    58,  1,     20,    120,2,19940114,0451,-62.8363, 139.8215, 3166,    151.7,   1.7300,  34.6100,3,  34.6080,2,    172.0,2,    179.5,2,    71.00,2,    34.10,2,     2.42,2,   2252.6,2
  09AR19940101,  SR03,    58,  1,     19,    119,2,19940114,0451,-62.8363, 139.8215, 3166,    202.6,   1.8650,  34.6540,2,  34.6540,2,    175.9,2,    176.3,2,    74.10,2,    33.60,2,     2.36,2,   2255.5,2
  09AR19940101,  SR03,    58,  1,     18,    118,2,19940114,0451,-62.8363, 139.8215, 3166,    301.6,   1.8560,  34.6920,2,  34.6930,2,    183.7,2,    181.1,2,    75.00,2,    32.50,2,     2.31,2,   2251.7,2
  09AR19940101,  SR03,    58,  1,     17,    117,2,19940114,0451,-62.8363, 139.8215, 3166,    403.1,   1.8060,  34.7170,2,  34.7190,2,    185.1,2,    185.9,2,    75.50,2,    31.70,2,     2.24,2,   2249.2,2
  09AR19940101,  SR03,    58,  1,     16,    116,2,19940114,0451,-62.8363, 139.8215, 3166,    502.7,   1.7810,  34.7310,2,  34.7330,2,    189.4,2,    189.3,2,    75.30,2,    31.30,2,     2.21,2,   2248.0,2
  09AR19940101,  SR03,    58,  1,     15,    115,2,19940114,0451,-62.8363, 139.8215, 3166,    602.2,   1.7190,  34.7390,2,  34.7410,2,    192.5,2,    192.3,2,    77.80,2,    30.80,2,     2.19,2,   2246.7,2
  09AR19940101,  SR03,    58,  1,     14,    114,2,19940114,0451,-62.8363, 139.8215, 3166,    701.9,   1.6290,  34.7420,2,  34.7440,2,    196.4,2,    194.9,2,    78.20,2,    30.80,2,     2.18,2,   2247.2,2
  09AR19940101,  SR03,    58,  1,     13,    124,2,19940114,0451,-62.8363, 139.8215, 3166,    853.9,   1.5090,  34.7440,2,  34.7440,2,    199.8,2,    198.1,2,    84.10,2,    30.80,2,     2.17,2,   2247.3,2
  09AR19940101,  SR03,    58,  1,     12,     12,2,19940114,0451,-62.8363, 139.8215, 3166,   1002.6,   1.3950,  34.7410,2,  34.7440,2,    200.3,2,    200.1,2,    90.50,2,    31.10,2,     2.11,4,   2249.9,2
  09AR19940101,  SR03,    58,  1,     11,     11,2,19940114,0451,-62.8363, 139.8215, 3166,   1201.0,   1.1960,  34.7330,2,  34.7360,2,    201.2,2,    202.8,2,    97.00,2,    31.40,2,     2.17,2,   2252.1,2
  09AR19940101,  SR03,    58,  1,     10,     10,2,19940114,0451,-62.8363, 139.8215, 3166,   1402.4,   1.0410,  34.7280,2,  34.7300,2,    202.7,2,    204.4,2,   102.60,2,    31.50,2,     2.19,2,   2253.8,2
  09AR19940101,  SR03,    58,  1,      9,      9,2,19940114,0451,-62.8363, 139.8215, 3166,   1602.5,   0.7310,  34.7010,2,  34.7050,2,    206.6,2,    210.2,2,   102.20,2,    31.80,2,     2.20,2,   2254.0,6
  09AR19940101,  SR03,    58,  1,      8,      8,2,19940114,0451,-62.8363, 139.8215, 3166,   1803.2,   0.6220,  34.7010,2,  34.7000,2,    212.5,2,    210.3,2,   110.00,2,    32.30,2,     2.26,2,   2256.0,2
  09AR19940101,  SR03,    58,  1,      7,      7,2,19940114,0451,-62.8363, 139.8215, 3166,   2000.6,   0.4630,  34.6940,2,  34.6920,2,    216.3,2,    213.4,2,   108.10,2,    32.30,2,     2.31,2,   2256.3,2
  09AR19940101,  SR03,    58,  1,      6,      6,2,19940114,0451,-62.8363, 139.8215, 3166,   2202.1,   0.3370,  34.6900,2,  34.6860,2,    218.4,2,    216.3,2,   110.50,2,    32.50,2,     2.31,2,   2257.2,2
  09AR19940101,  SR03,    58,  1,      5,      5,2,19940114,0451,-62.8363, 139.8215, 3166,   2400.7,   0.2150,  34.6870,2,  34.6850,2,    221.0,2,    220.6,2,   115.10,2,    32.50,2,     2.31,2,   2254.9,2
  09AR19940101,  SR03,    58,  1,      4,      4,2,19940114,0451,-62.8363, 139.8215, 3166,   2600.1,   0.1370,  34.6850,2,  34.6790,2,    223.5,2,    222.9,2,   119.90,2,    32.50,2,     2.31,2,   2255.1,6
  09AR19940101,  SR03,    58,  1,      3,      3,2,19940114,0451,-62.8363, 139.8215, 3166,   2898.7,   0.0020,  34.6790,2,  34.6760,2,    228.5,2,    229.1,2,   111.30,2,    32.40,2,     2.31,2,   2254.0,2
  09AR19940101,  SR03,    58,  1,      2,      2,2,19940114,0451,-62.8363, 139.8215, 3166,   3100.5,  -0.0820,  34.6790,2,  34.6770,2,    233.7,2,    232.8,2,   108.30,2,    32.20,2,     2.30,2,   2252.6,2
  09AR19940101,  SR03,    58,  1,      1,      1,2,19940114,0451,-62.8363, 139.8215, 3166,   3227.9,  -0.1150,  34.6770,2,  34.6750,2,    233.9,2,    234.4,2,   109.30,2,    32.20,2,     2.29,2,   2253.4,2
  09AR19940101,  SR03,    59,  1,     24,     24,2,19940114,1059,-63.3512, 139.8323, 3770,     14.0,   0.8300,  33.7510,3,  33.7690,2,    339.4,2,    341.3,2,    53.70,2,    28.30,2,     1.92,4,   -999.0,9
  09AR19940101,  SR03,    59,  1,     23,    113,2,19940114,1059,-63.3512, 139.8323, 3770,     56.9,  -1.0790,  34.1800,2,  34.2020,2,    311.9,2,    312.3,2,    56.90,2,    30.40,2,     2.14,2,   -999.0,9
  09AR19940101,  SR03,    59,  1,     22,     22,2,19940114,1059,-63.3512, 139.8323, 3770,    103.9,   1.5410,  34.5320,3,  34.5350,2,    183.7,2,    188.7,2,    71.00,2,    34.40,2,     2.42,2,   -999.0,9
  09AR19940101,  SR03,    59,  1,     21,    121,2,19940114,1059,-63.3512, 139.8323, 3770,    153.5,   1.8600,  34.6070,2,  34.6110,2,    174.8,2,    176.9,2,    74.90,2,    34.10,2,     2.40,2,   -999.0,9
  09AR19940101,  SR03,    59,  1,     20,    120,2,19940114,1059,-63.3512, 139.8323, 3770,    205.2,   1.9310,  34.6420,2,  34.6490,2,    174.4,2,    175.5,2,    75.50,2,    33.60,2,     2.37,2,   -999.0,9
  09AR19940101,  SR03,    59,  1,     19,    119,2,19940114,1059,-63.3512, 139.8323, 3770,    303.7,   1.8750,  34.6870,2,  34.6860,2,    184.9,2,    180.8,2,    79.90,2,    32.60,2,     2.31,2,   -999.0,9
  09AR19940101,  SR03,    59,  1,     18,    118,2,19940114,1059,-63.3512, 139.8323, 3770,    403.8,   1.8660,  34.7150,2,  34.7160,2,    186.8,2,    185.3,2,    81.80,2,    31.80,2,     2.25,2,   -999.0,9
  09AR19940101,  SR03,    59,  1,     17,    117,2,19940114,1059,-63.3512, 139.8323, 3770,    503.5,   1.7930,  34.7270,2,  34.7260,2,    186.9,2,    189.1,2,    83.20,2,    31.40,2,     2.23,2,   -999.0,9
  09AR19940101,  SR03,    59,  1,     16,    116,2,19940114,1059,-63.3512, 139.8323, 3770,    603.8,   1.7310,  34.7350,2,  34.7350,2,    193.3,2,    192.1,2,    84.20,2,    31.00,2,     2.20,2,   -999.0,9
  09AR19940101,  SR03,    59,  1,     15,    115,2,19940114,1059,-63.3512, 139.8323, 3770,    702.9,   1.6550,  34.7400,2,  34.7450,2,    189.9,2,    194.6,2,    84.30,2,    30.80,2,     2.19,2,   -999.0,9
  09AR19940101,  SR03,    59,  1,     14,    114,2,19940114,1059,-63.3512, 139.8323, 3770,    853.4,   1.5110,  34.7390,2,  34.7370,2,    196.6,2,    198.0,2,    89.70,2,    30.70,2,     2.18,2,   -999.0,9
  09AR19940101,  SR03,    59,  1,     13,    124,2,19940114,1059,-63.3512, 139.8323, 3770,   1003.4,   1.4000,  34.7400,2,  34.7370,2,    202.4,2,    200.2,2,    89.60,2,    30.80,2,     2.18,2,   -999.0,9
  09AR19940101,  SR03,    59,  1,     12,     12,2,19940114,1059,-63.3512, 139.8323, 3770,   1201.9,   1.2100,  34.7320,2,  34.7300,2,    201.5,2,    202.8,2,    99.10,2,    31.40,2,     2.15,4,   -999.0,9
  09AR19940101,  SR03,    59,  1,     11,     11,2,19940114,1059,-63.3512, 139.8323, 3770,   1401.7,   1.0520,  34.7250,2,  34.7240,2,    204.8,2,    204.3,2,   101.30,2,    31.40,2,     2.21,2,   -999.0,9
  09AR19940101,  SR03,    59,  1,     10,     10,2,19940114,1059,-63.3512, 139.8323, 3770,   1603.7,   0.8980,  34.7160,2,  34.7180,2,    206.3,2,    206.0,2,   103.60,2,    31.70,2,     2.24,2,   -999.0,9
  09AR19940101,  SR03,    59,  1,      9,      9,2,19940114,1059,-63.3512, 139.8323, 3770,   1801.6,   0.7400,  34.7090,2,  34.7090,2,    212.4,2,    207.9,2,   106.90,2,    31.90,2,     2.26,2,   -999.0,9
  09AR19940101,  SR03,    59,  1,      8,      8,2,19940114,1059,-63.3512, 139.8323, 3770,   2003.6,   0.6010,  34.7030,2,  34.7020,2,    215.0,2,    210.1,2,   109.30,2,    32.10,2,     2.28,2,   -999.0,9
  09AR19940101,  SR03,    59,  1,      7,      7,2,19940114,1059,-63.3512, 139.8323, 3770,   2299.0,   0.4100,  34.6940,2,  34.6940,2,    217.7,2,    215.3,2,   109.90,2,    32.30,2,     2.29,2,   -999.0,9
  09AR19940101,  SR03,    59,  1,      6,      6,2,19940114,1059,-63.3512, 139.8323, 3770,   2599.1,   0.2470,  34.6880,2,  34.6870,2,    221.7,2,    219.9,2,   108.50,2,    32.30,2,     2.30,2,   -999.0,9
  09AR19940101,  SR03,    59,  1,      5,      5,2,19940114,1059,-63.3512, 139.8323, 3770,   2899.9,   0.1270,  34.6820,2,  34.6840,2,    227.0,2,    224.6,2,   111.50,2,    32.20,2,     2.30,2,   -999.0,9
  09AR19940101,  SR03,    59,  1,      4,      4,2,19940114,1059,-63.3512, 139.8323, 3770,   3301.3,  -0.0060,  34.6780,2,  34.6750,2,    231.7,2,    234.4,2,   116.60,2,    32.10,2,     2.29,2,   -999.0,9
  09AR19940101,  SR03,    59,  1,      3,      3,2,19940114,1059,-63.3512, 139.8323, 3770,   3600.3,  -0.0890,  34.6800,2,  34.6790,2,    235.3,2,    237.9,2,   100.10,2,    31.80,2,     2.26,2,   -999.0,9
  09AR19940101,  SR03,    59,  1,      2,      2,2,19940114,1059,-63.3512, 139.8323, 3770,   3743.6,  -0.1590,  34.6770,2,  34.6760,2,    236.7,2,    237.8,2,    97.20,2,    31.80,2,     2.27,2,   -999.0,9
  09AR19940101,  SR03,    59,  1,      1,      1,2,19940114,1059,-63.3512, 139.8323, 3770,   3829.4,  -0.2420,  34.6700,2,  34.6700,2,    239.5,2,    243.0,2,    93.90,2,    31.70,2,     2.26,2,   -999.0,9
  09AR19940101,  SR03,    60,  1,     24,     24,2,19940114,1730,-63.8663, 139.8382, 3696,     13.1,   0.4870,  33.5260,2,  33.5240,2,    343.5,2,    342.5,2,    51.20,2,    27.30,2,     1.81,4,   2138.5,2
  09AR19940101,  SR03,    60,  1,     23,    113,2,19940114,1730,-63.8663, 139.8382, 3696,     27.1,   0.7910,  33.8080,4,  33.6450,2,    339.2,2,    341.9,2,    49.00,2,    27.20,2,     1.85,2,   2145.9,6
  09AR19940101,  SR03,    60,  1,     22,     22,2,19940114,1730,-63.8663, 139.8382, 3696,     63.1,  -0.8040,  34.1160,2,  34.1130,2,   -999.0,5,    321.1,2,    49.70,2,    29.00,2,     2.02,2,   2185.2,2
  09AR19940101,  SR03,    60,  1,     21,    121,2,19940114,1730,-63.8663, 139.8382, 3696,    103.3,   1.1610,  34.4950,4,  34.4780,2,    206.7,2,    204.5,2,    68.90,2,    33.40,2,     2.35,2,   2241.1,2
  09AR19940101,  SR03,    60,  1,     20,    120,2,19940114,1730,-63.8663, 139.8382, 3696,    153.4,   1.8270,  34.6070,2,  34.6060,2,    174.2,2,    177.0,2,    75.60,2,    33.90,2,     2.46,2,   2254.2,2
  09AR19940101,  SR03,    60,  1,     19,    119,2,19940114,1730,-63.8663, 139.8382, 3696,    203.3,   1.9580,  34.6510,2,  34.6530,2,    177.5,2,    176.6,2,    75.10,2,    33.20,2,     2.32,2,   2253.7,2
  09AR19940101,  SR03,    60,  1,     18,    118,2,19940114,1730,-63.8663, 139.8382, 3696,    304.0,   1.8830,  34.6830,2,  34.6830,2,    183.6,2,    180.8,2,    79.20,2,    31.80,2,     2.22,2,   2252.8,2
  09AR19940101,  SR03,    60,  1,     17,    117,2,19940114,1730,-63.8663, 139.8382, 3696,    403.2,   1.8430,  34.7080,2,  34.7060,2,    183.7,2,    185.0,2,    81.80,2,    31.40,2,     2.18,2,   2250.2,2
  09AR19940101,  SR03,    60,  1,     16,    116,2,19940114,1730,-63.8663, 139.8382, 3696,    503.1,   1.8030,  34.7250,2,  34.7230,2,    185.8,2,    188.7,2,    83.20,2,    31.30,2,     2.18,2,   2248.6,2
  09AR19940101,  SR03,    60,  1,     15,    115,2,19940114,1730,-63.8663, 139.8382, 3696,    602.6,   1.7570,  34.7340,2,  34.7350,2,    195.0,2,    192.1,2,    85.40,2,    31.00,2,     2.16,2,   2246.9,2
  09AR19940101,  SR03,    60,  1,     14,    114,2,19940114,1730,-63.8663, 139.8382, 3696,    702.8,   1.6790,  34.7390,2,  34.7370,2,    193.6,2,    194.5,2,    85.50,2,    30.80,2,     2.14,2,   2248.0,6
  09AR19940101,  SR03,    60,  1,     13,    124,2,19940114,1730,-63.8663, 139.8382, 3696,    902.9,   1.4760,  34.7370,2,  34.7360,2,    198.0,2,    199.0,2,    90.50,2,    30.90,2,     2.15,2,   2249.0,2
  09AR19940101,  SR03,    60,  1,     12,     12,2,19940114,1730,-63.8663, 139.8382, 3696,   1102.2,   1.2980,  34.7310,2,  34.7300,2,    194.4,2,    201.7,2,    96.60,2,    31.00,2,     2.09,4,   2251.0,2
  09AR19940101,  SR03,    60,  1,     11,     11,2,19940114,1730,-63.8663, 139.8382, 3696,   1302.9,   1.1130,  34.7240,2,  34.7190,2,    202.2,2,    203.4,2,    96.40,2,    31.20,2,     2.15,2,   2255.9,2
  09AR19940101,  SR03,    60,  1,     10,     10,2,19940114,1730,-63.8663, 139.8382, 3696,   1502.5,   0.9390,  34.7170,2,  34.7180,2,    201.1,2,    205.4,2,   104.50,2,    31.60,2,     2.19,2,   2255.3,2
  09AR19940101,  SR03,    60,  1,      9,      9,2,19940114,1730,-63.8663, 139.8382, 3696,   1701.2,   0.7880,  34.7090,2,  34.7090,2,    208.7,2,    207.0,2,   104.00,2,    31.80,2,     2.21,2,   2256.5,2
  09AR19940101,  SR03,    60,  1,      8,      8,2,19940114,1730,-63.8663, 139.8382, 3696,   1902.5,   0.6280,  34.7020,2,  34.7010,2,    216.0,2,    209.4,2,   113.50,2,    32.00,2,     2.23,2,   2257.3,2
  09AR19940101,  SR03,    60,  1,      7,      7,2,19940114,1730,-63.8663, 139.8382, 3696,   2101.9,   0.4350,  34.6870,2,  34.6860,2,    214.2,2,    215.2,2,   110.60,3,    32.00,2,     2.23,2,   2255.9,2
  09AR19940101,  SR03,    60,  1,      6,      6,2,19940114,1730,-63.8663, 139.8382, 3696,   2300.9,   0.3510,  34.6890,2,  34.6850,2,    216.1,2,    217.1,2,   119.90,2,    32.10,2,     2.25,2,   2257.0,2
  09AR19940101,  SR03,    60,  1,      5,      5,2,19940114,1730,-63.8663, 139.8382, 3696,   2600.1,   0.1780,  34.6810,2,  34.6820,2,    224.6,2,    222.2,2,   122.20,2,    32.10,2,     2.25,2,   2255.7,2
  09AR19940101,  SR03,    60,  1,      4,      4,2,19940114,1730,-63.8663, 139.8382, 3696,   2899.8,   0.0580,  34.6780,2,  34.6770,2,    225.7,2,    227.2,2,   119.80,2,    32.10,2,     2.24,2,   2254.9,2
  09AR19940101,  SR03,    60,  1,      3,      3,2,19940114,1730,-63.8663, 139.8382, 3696,   3199.4,  -0.0620,  34.6750,2,  34.6770,2,    231.7,2,    232.0,2,   112.10,2,    32.10,2,     2.24,2,   2253.2,6
  09AR19940101,  SR03,    60,  1,      2,      2,2,19940114,1730,-63.8663, 139.8382, 3696,   3500.0,  -0.1550,  34.6760,2,  34.6770,2,    237.1,2,    237.1,2,   106.20,2,    31.90,2,     2.20,2,   2252.4,2
  09AR19940101,  SR03,    60,  1,      1,      1,2,19940114,1730,-63.8663, 139.8382, 3696,   3755.9,  -0.3480,  34.6610,2,  34.6620,2,    246.7,2,    249.5,2,    92.60,2,    31.80,2,     2.20,2,   2247.5,2