BOTTLE,20230321CCHSIOENA
EXPOCODE,SECT_ID,STNNBR,CASTNO,SAMPNO,BTLNBR,BTLNBR_FLAG_W,DATE,TIME,LATITUDE,LONGITUDE,DEPTH,CTDPRS,CTDTMP,CTDSAL,CTDSAL_FLAG_W,SALNTY,SALNTY_FLAG_W,CTDOXY,CTDOXY_FLAG_W,OXYGEN,OXYGEN_FLAG_W,SILCAT,SILCAT_FLAG_W,NITRAT,NITRAT_FLAG_W,PHSPHT,PHSPHT_FLAG_W,TCARBN,TCARBN_FLAG_W
,,,,,,,,,,,METERS,DBAR,ITS-90,PSS-78,,PSS-78,,UMOL/KG,,UMOL/KG,,UMOL/KG,,UMOL/KG,,UMOL/KG,,UMOL/KG,
  09AR19940101,  SR03,    13,  1,     20,    120,2,19940104,0515,-47.1397, 145.0365, 4617,     13.6,  10.3070,  34.4130,4,  34.4170,2,    300.1,2,    295.4,2,     2.80,2,    10.20,2,     0.70,2,   2059.6,2
  09AR19940101,  SR03,    13,  1,     19,    119,2,19940104,0515,-47.1397, 145.0365, 4617,     57.5,   9.3300,  34.4560,4,  34.4730,2,    281.3,2,    285.9,2,     3.10,2,    12.20,2,     0.92,2,   2081.2,2
  09AR19940101,  SR03,    13,  1,     18,     18,2,19940104,0515,-47.1397, 145.0365, 4617,    105.4,   9.1710,  34.5670,3,  34.5670,2,    277.1,2,    277.2,2,     4.50,2,    12.90,2,     0.99,2,   2096.8,2
  09AR19940101,  SR03,    13,  1,     17,    117,2,19940104,0515,-47.1397, 145.0365, 4617,    154.5,   8.8140,  34.5600,3,  34.5520,2,    274.1,2,    274.3,2,     4.50,2,    14.70,2,     1.03,2,   2100.2,2
  09AR19940101,  SR03,    13,  1,     16,    116,2,19940104,0515,-47.1397, 145.0365, 4617,    206.3,   8.8950,  34.5980,2,  34.5980,2,    268.5,2,    271.0,2,     4.50,2,    14.60,2,     1.01,2,   2102.7,2
  09AR19940101,  SR03,    13,  1,     15,    115,2,19940104,0515,-47.1397, 145.0365, 4617,    304.0,   8.8730,  34.6040,2,  34.6050,2,    273.7,2,    271.5,2,     4.50,2,    14.50,2,     1.02,2,   2102.4,2
  09AR19940101,  SR03,    13,  1,     14,    114,2,19940104,0515,-47.1397, 145.0365, 4617,    404.9,   8.8430,  34.6030,2,  34.6020,2,    261.1,2,    269.9,2,     4.60,2,    14.70,2,     1.03,2,   2103.8,6
  09AR19940101,  SR03,    13,  1,     13,     13,2,19940104,0515,-47.1397, 145.0365, 4617,    505.0,   8.7080,  34.5790,2,  34.5810,2,    269.9,2,    266.0,2,     5.00,2,    15.40,2,     1.07,2,   2105.5,2
  09AR19940101,  SR03,    13,  1,     12,     12,2,19940104,0515,-47.1397, 145.0365, 4617,    605.1,   8.4200,  34.5330,2,  34.5330,2,    261.2,2,    259.7,2,     6.00,2,    17.00,2,     1.14,2,   2112.5,2
  09AR19940101,  SR03,    13,  1,     11,     11,2,19940104,0515,-47.1397, 145.0365, 4617,    753.4,   7.5540,  34.4610,3,  34.4640,2,    224.8,2,    227.8,2,    10.60,2,    22.00,2,     1.48,2,   2139.0,2
  09AR19940101,  SR03,    13,  1,     10,     10,2,19940104,0515,-47.1397, 145.0365, 4617,    903.9,   6.1570,  34.4030,3,  34.4070,2,    212.3,2,    214.5,2,    19.40,2,    26.60,2,     1.79,2,   2163.7,2
  09AR19940101,  SR03,    13,  1,      9,    121,2,19940104,0515,-47.1397, 145.0365, 4617,   1003.7,   5.1460,  34.3640,2,  34.3660,2,    207.8,2,    207.5,2,    26.30,2,    28.80,2,     1.96,2,   2179.1,2
  09AR19940101,  SR03,    13,  1,      8,      8,2,19940104,0515,-47.1397, 145.0365, 4617,   1203.7,   3.7360,  34.3410,2,  34.3450,2,    202.3,2,    205.6,2,    38.50,2,    31.50,2,     2.16,2,   2202.3,2
  09AR19940101,  SR03,    13,  1,      7,      7,2,19940104,0515,-47.1397, 145.0365, 4617,   1603.4,   2.7360,  34.5070,2,  34.5080,2,    182.7,2,    178.3,2,    58.80,2,    33.70,2,     2.33,2,   2242.0,2
  09AR19940101,  SR03,    13,  1,      6,      6,2,19940104,0515,-47.1397, 145.0365, 4617,   1902.4,   2.4950,  34.6300,2,  34.6290,2,    178.5,2,    175.9,2,    64.40,2,    32.80,2,     2.27,2,   2246.8,2
  09AR19940101,  SR03,    13,  1,      5,      5,2,19940104,0515,-47.1397, 145.0365, 4617,   2203.6,   2.3240,  34.7070,2,  34.7090,2,    182.7,2,    181.7,2,    75.80,2,    31.50,2,     2.18,2,   2250.5,2
  09AR19940101,  SR03,    13,  1,      4,      4,4,19940104,0515,-47.1397, 145.0365, 4617,   2801.5,   1.8740,  34.7370,2,  34.7390,4,    189.0,2,    188.1,4,    79.90,4,    30.90,4,     2.12,4,   2249.9,6
  09AR19940101,  SR03,    13,  1,      3,      3,2,19940104,0515,-47.1397, 145.0365, 4617,   3402.4,   1.3880,  34.7290,2,  34.7290,2,    195.6,2,    195.6,2,   102.20,2,    31.80,2,     2.20,2,   2265.4,2
  09AR19940101,  SR03,    13,  1,      2,      2,2,19940104,0515,-47.1397, 145.0365, 4617,   3801.4,   1.2710,  34.7230,2,  34.7230,2,    198.7,2,    198.0,2,   103.00,2,    31.90,2,     2.21,2,   2267.4,2
  09AR19940101,  SR03,    13,  1,      1,      1,2,19940104,0515,-47.1397, 145.0365, 4617,   4524.9,   1.0650,  34.7130,2,  34.7130,2,    203.7,2,    203.5,2,   104.90,2,    32.20,2,     2.22,2,   2269.3,2
  09AR19940101,  SR03,    14,  1,     22,     22,2,19940104,1258,-47.4695, 144.9180, 4413,     13.3,  10.8130,  34.5470,2,  34.5470,2,    280.3,2,    279.7,2,     3.00,2,     9.30,2,     0.72,2,   -999.0,9
  09AR19940101,  SR03,    14,  1,     21,     21,2,19940104,1258,-47.4695, 144.9180, 4413,     56.3,   9.6930,  34.4860,2,  34.4870,2,    282.5,2,    283.6,2,     1.90,2,    11.10,2,     0.91,2,   -999.0,9
  09AR19940101,  SR03,    14,  1,     20,    120,2,19940104,1258,-47.4695, 144.9180, 4413,    105.3,   9.4410,  34.6060,3,  34.6050,2,    279.2,2,    273.8,2,     3.10,2,     9.20,4,     0.82,4,   -999.0,9
  09AR19940101,  SR03,    14,  1,     19,    119,2,19940104,1258,-47.4695, 144.9180, 4413,    153.9,   8.9310,  34.5760,2,  34.5750,2,    268.6,2,    273.6,2,     4.70,2,    14.50,2,     1.04,2,   -999.0,9
  09AR19940101,  SR03,    14,  1,     18,     18,2,19940104,1258,-47.4695, 144.9180, 4413,    206.7,   9.1070,  34.6310,2,  34.6300,2,    270.5,2,    271.0,2,     2.90,4,     9.40,4,     0.78,4,   -999.0,9
  09AR19940101,  SR03,    14,  1,     17,    117,2,19940104,1258,-47.4695, 144.9180, 4413,    305.3,   8.8670,  34.5980,2,  34.5980,2,    266.5,2,    269.0,2,     4.90,2,    14.90,2,     1.06,2,   -999.0,9
  09AR19940101,  SR03,    14,  1,     16,    116,2,19940104,1258,-47.4695, 144.9180, 4413,    405.2,   8.8090,  34.5940,2,  34.5930,2,    270.0,2,    268.4,2,     4.40,2,    14.00,2,     1.04,2,   -999.0,9
  09AR19940101,  SR03,    14,  1,     15,    115,2,19940104,1258,-47.4695, 144.9180, 4413,    504.4,   8.6270,  34.5670,2,  34.5680,2,    263.1,2,    261.1,2,     5.70,2,    16.40,2,     1.15,2,   -999.0,9
  09AR19940101,  SR03,    14,  1,     14,    114,2,19940104,1258,-47.4695, 144.9180, 4413,    606.2,   8.2070,  34.5080,2,  34.5060,2,    246.1,2,    246.5,2,     7.20,2,    18.80,2,     1.30,2,   -999.0,9
  09AR19940101,  SR03,    14,  1,     13,     13,2,19940104,1258,-47.4695, 144.9180, 4413,    705.8,   7.7210,  34.4850,3,  34.4830,2,    225.9,2,    225.3,2,    10.80,2,    22.00,2,     1.50,2,   -999.0,9
  09AR19940101,  SR03,    14,  1,     12,     12,2,19940104,1258,-47.4695, 144.9180, 4413,    825.4,   6.9290,  34.4630,2,  34.4610,2,    202.6,2,    203.6,2,    14.40,2,    21.30,2,     1.59,2,   -999.0,9
  09AR19940101,  SR03,    14,  1,     11,     11,2,19940104,1258,-47.4695, 144.9180, 4413,    904.2,   5.8880,  34.3920,2,  34.3940,2,    209.5,2,    206.9,2,    21.70,2,    27.40,2,     1.87,2,   -999.0,9
  09AR19940101,  SR03,    14,  1,     10,     10,2,19940104,1258,-47.4695, 144.9180, 4413,   1005.3,   5.1160,  34.3600,2,  34.3620,2,    206.8,2,    208.0,2,    26.80,2,    29.30,2,     1.97,2,   -999.0,9
  09AR19940101,  SR03,    14,  1,      9,    121,2,19940104,1258,-47.4695, 144.9180, 4413,   1103.4,   4.4280,  34.3520,2,  34.3530,2,    203.9,2,    205.3,2,    30.00,2,    27.70,3,     2.03,2,   -999.0,9
  09AR19940101,  SR03,    14,  1,      8,      8,2,19940104,1258,-47.4695, 144.9180, 4413,   1303.6,   3.4130,  34.4020,2,  34.3990,2,    189.7,2,    190.7,2,    41.30,2,    28.00,3,     2.04,3,   -999.0,9
  09AR19940101,  SR03,    14,  1,      7,      7,2,19940104,1258,-47.4695, 144.9180, 4413,   1505.6,   2.9350,  34.4750,2,  34.4750,2,    179.9,2,    178.3,2,    56.60,2,    34.30,2,     2.38,2,   -999.0,9
  09AR19940101,  SR03,    14,  1,      6,      6,2,19940104,1258,-47.4695, 144.9180, 4413,   1803.6,   2.5860,  34.5960,2,  34.5960,2,    173.6,2,    172.5,2,    65.30,2,    33.70,2,     2.34,2,   -999.0,9
  09AR19940101,  SR03,    14,  1,      5,      5,2,19940104,1258,-47.4695, 144.9180, 4413,   2104.6,   2.3890,  34.6830,2,  34.6820,2,    178.7,2,    177.4,2,    69.80,2,    32.60,2,     2.26,2,   -999.0,9
  09AR19940101,  SR03,    14,  1,      4,      4,2,19940104,1258,-47.4695, 144.9180, 4413,   2403.2,   2.1880,  34.7270,2,  34.7260,2,    180.8,2,    181.8,2,    84.10,2,    31.90,2,     2.22,2,   -999.0,9
  09AR19940101,  SR03,    14,  1,      3,      3,2,19940104,1258,-47.4695, 144.9180, 4413,   2702.8,   1.9600,  34.7370,2,  34.7360,2,    184.3,2,    184.5,2,    90.60,2,    32.10,2,     2.22,2,   -999.0,9
  09AR19940101,  SR03,    14,  1,      2,      2,2,19940104,1258,-47.4695, 144.9180, 4413,   3100.6,   1.6980,  34.7360,2,  34.7350,2,    189.2,2,    189.9,2,    92.10,2,    32.10,2,     2.23,2,   -999.0,9
  09AR19940101,  SR03,    14,  1,      1,      1,2,19940104,1258,-47.4695, 144.9180, 4413,   4436.2,   1.0640,  34.7130,2,  34.7130,2,    203.0,2,   -999.0,9,    97.00,2,  -999.00,9,  -999.00,9,   -999.0,9
  09AR19940101,  SR03,    15,  1,     22,     22,2,19940104,1857,-47.8020, 144.7678, 3907,     14.3,   9.9630,  34.4220,2,  34.4200,2,    293.8,2,    285.9,2,     1.80,2,    10.90,2,     0.83,2,   2067.1,2
  09AR19940101,  SR03,    15,  1,     21,     21,2,19940104,1857,-47.8020, 144.7678, 3907,     29.8,   9.9260,  34.4400,2,  34.4390,2,    289.4,2,    286.5,2,     1.40,2,    11.10,2,     0.84,2,   2072.6,2
  09AR19940101,  SR03,    15,  1,     20,    120,2,19940104,1857,-47.8020, 144.7678, 3907,     54.3,   9.2930,  34.4670,4,  34.4630,2,    282.2,2,    282.7,2,     3.00,2,    12.70,2,     0.97,2,   2087.7,6
  09AR19940101,  SR03,    15,  1,     19,    119,2,19940104,1857,-47.8020, 144.7678, 3907,    105.9,   9.0270,  34.5450,2,  34.5470,2,    273.8,2,    275.7,2,     4.20,2,    13.80,2,     1.01,2,   2097.6,2
  09AR19940101,  SR03,    15,  1,     18,     18,2,19940104,1857,-47.8020, 144.7678, 3907,    155.5,   8.8630,  34.5750,2,  34.5680,2,    270.6,2,    268.7,2,     4.40,2,    14.50,2,     1.03,2,   2100.9,2
  09AR19940101,  SR03,    15,  1,     17,    117,2,19940104,1857,-47.8020, 144.7678, 3907,    254.7,   8.9160,  34.6030,2,  34.6020,2,    260.3,2,    274.1,2,     4.50,2,    14.60,2,     1.04,2,   2102.9,2
  09AR19940101,  SR03,    15,  1,     16,    116,2,19940104,1857,-47.8020, 144.7678, 3907,    405.6,   8.8210,  34.5980,2,  34.5960,2,    269.4,2,    269.0,2,     4.70,2,    14.90,2,     1.06,2,   2105.3,2
  09AR19940101,  SR03,    15,  1,     15,    115,2,19940104,1857,-47.8020, 144.7678, 3907,    505.8,   8.7240,  34.5830,2,  34.5820,2,    262.3,2,    265.8,2,     4.60,2,    14.70,2,     1.06,2,   2108.3,2
  09AR19940101,  SR03,    15,  1,     14,    114,2,19940104,1857,-47.8020, 144.7678, 3907,    604.9,   8.1620,  34.4950,3,  34.4970,2,    249.1,2,    251.7,2,     6.40,2,    18.40,2,     1.26,2,   2120.2,2
  09AR19940101,  SR03,    15,  1,     13,     13,2,19940104,1857,-47.8020, 144.7678, 3907,    704.3,   7.4590,  34.4530,3,  34.4550,2,    224.4,2,    226.4,2,    10.60,2,    22.10,2,     1.50,2,   2138.9,6
  09AR19940101,  SR03,    15,  1,     12,     12,2,19940104,1857,-47.8020, 144.7678, 3907,    853.4,   5.8750,  34.3280,3,  34.3300,2,    233.3,2,    226.3,2,    10.70,2,    22.40,2,     1.51,2,   2157.0,2
  09AR19940101,  SR03,    15,  1,     11,     11,2,19940104,1857,-47.8020, 144.7678, 3907,   1004.4,   4.6980,  34.3280,2,  34.3280,2,    211.5,2,    215.3,2,    26.70,2,    29.50,2,     1.98,2,   2182.9,2
  09AR19940101,  SR03,    15,  1,     10,     10,2,19940104,1857,-47.8020, 144.7678, 3907,   1104.3,   3.9840,  34.3260,2,  34.3260,2,    209.5,2,    210.9,2,    33.60,2,    31.20,2,     2.14,2,   2195.4,2
  09AR19940101,  SR03,    15,  1,      9,    121,2,19940104,1857,-47.8020, 144.7678, 3907,   1303.6,   3.2650,  34.3860,2,  34.3870,2,    192.4,2,    194.1,2,    45.10,2,    32.80,2,     2.27,2,   2218.7,2
  09AR19940101,  SR03,    15,  1,      8,      8,2,19940104,1857,-47.8020, 144.7678, 3907,   1504.1,   2.8450,  34.4690,2,  34.4690,2,    180.6,2,    181.0,2,    57.60,2,    34.30,2,     2.36,2,   2237.5,2
  09AR19940101,  SR03,    15,  1,      7,      7,2,19940104,1857,-47.8020, 144.7678, 3907,   1703.0,   2.5840,  34.5550,2,  34.5570,2,    176.1,2,    175.2,2,    60.30,2,    33.80,2,     2.34,2,   2244.9,2
  09AR19940101,  SR03,    15,  1,      6,      6,2,19940104,1857,-47.8020, 144.7678, 3907,   1904.7,   2.4910,  34.6390,2,  34.6370,2,    175.8,2,    175.7,2,    68.20,2,    33.00,2,     2.29,2,   2247.9,2
  09AR19940101,  SR03,    15,  1,      5,      5,2,19940104,1857,-47.8020, 144.7678, 3907,   2103.8,   2.3710,  34.6920,2,  34.6930,2,    178.9,2,    179.9,2,    68.60,2,    31.50,2,     2.18,2,   2250.6,2
  09AR19940101,  SR03,    15,  1,      4,      4,2,19940104,1857,-47.8020, 144.7678, 3907,   2702.9,   1.9510,  34.7450,2,  34.7440,2,    191.7,2,    192.8,2,    80.50,2,    30.90,2,     2.14,2,   2251.6,2
  09AR19940101,  SR03,    15,  1,      3,      3,2,19940104,1857,-47.8020, 144.7678, 3907,   3002.0,   1.6910,  34.7410,2,  34.7400,2,    197.4,2,    196.8,2,    84.20,2,    31.30,2,     2.14,2,   2255.4,2
  09AR19940101,  SR03,    15,  1,      2,      2,2,19940104,1857,-47.8020, 144.7678, 3907,   3304.0,   1.4300,  34.7300,2,  34.7290,2,    198.8,2,    196.5,2,    94.70,4,    33.20,4,     2.33,4,   2262.8,6
  09AR19940101,  SR03,    15,  1,      1,      1,2,19940104,1857,-47.8020, 144.7678, 3907,   3612.4,   1.2190,  34.7230,2,  34.7210,2,    201.9,2,    202.3,2,    85.30,2,    31.00,2,     2.15,2,   2261.9,2
  09AR19940101,  SR03,    16,  1,     24,     24,2,19940105,0025,-48.3117, 144.5375, 4086,     14.2,   9.4600,  34.3130,2,-999.0000,9,    293.4,2,   -999.0,9,  -999.00,9,  -999.00,9,  -999.00,9,   -999.0,9
  09AR19940101,  SR03,    16,  1,     22,     22,2,19940105,0025,-48.3117, 144.5375, 4086,     14.2,   9.4480,  34.3140,2,  34.3150,2,    293.4,2,   -999.0,9,  -999.00,9,  -999.00,9,  -999.00,9,   -999.0,9
  09AR19940101,  SR03,    16,  1,     21,     21,2,19940105,0025,-48.3117, 144.5375, 4086,     14.2,   9.4490,  34.3140,2,  34.3130,2,    293.4,2,    291.7,2,     1.10,2,    12.40,2,     0.92,2,   -999.0,9
  09AR19940101,  SR03,    16,  1,     23,     23,3,19940105,0025,-48.3117, 144.5375, 4086,     14.4,   9.4640,  34.3130,2,  34.3160,2,    293.4,2,   -999.0,9,  -999.00,9,  -999.00,9,  -999.00,9,   2075.8,2
  09AR19940101,  SR03,    16,  1,     17,    117,2,19940105,0025,-48.3117, 144.5375, 4086,     28.3,   9.4370,  34.3150,2,-999.0000,9,    289.8,2,   -999.0,9,  -999.00,9,  -999.00,9,  -999.00,9,   -999.0,9
  09AR19940101,  SR03,    16,  1,     18,     18,2,19940105,0025,-48.3117, 144.5375, 4086,     28.5,   9.4380,  34.3140,2,-999.0000,9,    289.8,2,   -999.0,9,  -999.00,9,  -999.00,9,  -999.00,9,   -999.0,9
  09AR19940101,  SR03,    16,  1,     20,    120,2,19940105,0025,-48.3117, 144.5375, 4086,     28.6,   9.4390,  34.3140,2,-999.0000,9,    289.8,2,   -999.0,9,  -999.00,9,  -999.00,9,  -999.00,9,   -999.0,9
  09AR19940101,  SR03,    16,  1,     19,    119,2,19940105,0025,-48.3117, 144.5375, 4086,     28.8,   9.4380,  34.3150,2,  34.3140,2,    289.8,2,    289.2,2,     1.50,2,    12.50,2,     0.93,2,   2074.4,2
  09AR19940101,  SR03,    16,  1,     13,     13,2,19940105,0025,-48.3117, 144.5375, 4086,     52.3,   9.0760,  34.3370,3,-999.0000,9,    284.8,2,   -999.0,9,  -999.00,9,  -999.00,9,  -999.00,9,   -999.0,9
  09AR19940101,  SR03,    16,  1,     14,    114,2,19940105,0025,-48.3117, 144.5375, 4086,     52.6,   9.1240,  34.3360,3,-999.0000,9,    284.8,2,   -999.0,9,  -999.00,9,  -999.00,9,  -999.00,9,   -999.0,9
  09AR19940101,  SR03,    16,  1,     15,    115,2,19940105,0025,-48.3117, 144.5375, 4086,     53.4,   9.1110,  34.3340,2,  34.3350,2,    285.7,2,    292.1,2,     2.10,2,    13.50,2,     1.04,2,   2086.9,2
  09AR19940101,  SR03,    16,  1,     16,    116,2,19940105,0025,-48.3117, 144.5375, 4086,     53.6,   9.1180,  34.3350,2,-999.0000,9,    285.7,2,   -999.0,9,  -999.00,9,  -999.00,9,  -999.00,9,   -999.0,9
  09AR19940101,  SR03,    16,  1,     11,     11,2,19940105,0025,-48.3117, 144.5375, 4086,    103.4,   8.5340,  34.4780,2,  34.4780,2,    279.2,2,    275.7,2,     4.40,2,    15.50,2,     1.13,2,   2104.9,2
  09AR19940101,  SR03,    16,  1,     12,     12,2,19940105,0025,-48.3117, 144.5375, 4086,    103.5,   8.5360,  34.4780,2,-999.0000,9,    279.2,2,   -999.0,9,  -999.00,9,  -999.00,9,  -999.00,9,   -999.0,9
  09AR19940101,  SR03,    16,  1,     10,     10,2,19940105,0025,-48.3117, 144.5375, 4086,    103.7,   8.5350,  34.4780,2,-999.0000,9,    279.2,2,   -999.0,9,  -999.00,9,  -999.00,9,  -999.00,9,   -999.0,9
  09AR19940101,  SR03,    16,  1,      9,    121,2,19940105,0025,-48.3117, 144.5375, 4086,    103.8,   8.5360,  34.4790,2,-999.0000,9,    279.2,2,   -999.0,9,  -999.00,9,  -999.00,9,  -999.00,9,   -999.0,9
  09AR19940101,  SR03,    16,  1,      8,      8,2,19940105,0025,-48.3117, 144.5375, 4086,    103.9,   8.5310,  34.4780,2,-999.0000,9,    279.2,2,   -999.0,9,  -999.00,9,  -999.00,9,  -999.00,9,   -999.0,9
  09AR19940101,  SR03,    16,  1,      4,      4,2,19940105,0025,-48.3117, 144.5375, 4086,    152.2,   8.6110,  34.5310,2,-999.0000,9,    272.9,2,   -999.0,9,  -999.00,9,  -999.00,9,  -999.00,9,   -999.0,9
  09AR19940101,  SR03,    16,  1,      7,      7,2,19940105,0025,-48.3117, 144.5375, 4086,    152.5,   8.6030,  34.5280,2,-999.0000,9,    272.9,2,   -999.0,9,  -999.00,9,  -999.00,9,  -999.00,9,   -999.0,9
  09AR19940101,  SR03,    16,  1,      5,      5,2,19940105,0025,-48.3117, 144.5375, 4086,    152.6,   8.6090,  34.5300,2,  34.5290,2,    272.9,2,    273.5,2,     4.40,2,    15.20,2,     1.11,2,   2106.7,2
  09AR19940101,  SR03,    16,  1,      6,      6,2,19940105,0025,-48.3117, 144.5375, 4086,    152.8,   8.6010,  34.5290,2,-999.0000,9,    272.9,2,   -999.0,9,  -999.00,9,  -999.00,9,  -999.00,9,   -999.0,9
  09AR19940101,  SR03,    16,  1,      3,      3,2,19940105,0025,-48.3117, 144.5375, 4086,    204.7,   8.5290,  34.5160,2,-999.0000,9,    275.4,2,   -999.0,9,  -999.00,9,  -999.00,9,  -999.00,9,   -999.0,9
  09AR19940101,  SR03,    16,  1,      2,      2,2,19940105,0025,-48.3117, 144.5375, 4086,    204.9,   8.5330,  34.5170,2,  34.5160,2,    275.4,2,    273.7,2,     4.50,2,    15.50,2,     1.13,2,   -999.0,9
  09AR19940101,  SR03,    16,  1,      1,      1,2,19940105,0025,-48.3117, 144.5375, 4086,    205.2,   8.5330,  34.5170,2,-999.0000,9,    276.3,2,   -999.0,9,  -999.00,9,  -999.00,9,  -999.00,9,   2107.5,2