BOTTLE,20230321CCHSIOENA
EXPOCODE,SECT_ID,STNNBR,CASTNO,SAMPNO,BTLNBR,BTLNBR_FLAG_W,DATE,TIME,LATITUDE,LONGITUDE,DEPTH,CTDPRS,CTDTMP,CTDSAL,CTDSAL_FLAG_W,SALNTY,SALNTY_FLAG_W,CTDOXY,CTDOXY_FLAG_W,OXYGEN,OXYGEN_FLAG_W,SILCAT,SILCAT_FLAG_W,NITRAT,NITRAT_FLAG_W,PHSPHT,PHSPHT_FLAG_W,TCARBN,TCARBN_FLAG_W
,,,,,,,,,,,METERS,DBAR,ITS-90,PSS-78,,PSS-78,,UMOL/KG,,UMOL/KG,,UMOL/KG,,UMOL/KG,,UMOL/KG,,UMOL/KG,
  09AR19940101,  SR03,    92,  1,     24,     24,2,19940128,1842,-62.1667,  83.2822, 2621,     14.1,   1.4440,  33.7970,2,  33.7950,2,    346.7,2,    349.1,2,    12.40,2,    20.80,2,     1.04,4,   2118.8,6
  09AR19940101,  SR03,    92,  1,     23,    113,2,19940128,1842,-62.1667,  83.2822, 2621,     45.5,  -1.0600,  34.0140,3,  34.0170,2,    287.9,2,    292.9,2,    48.70,2,    28.90,2,     2.08,2,   2194.6,2
  09AR19940101,  SR03,    92,  1,     22,    122,2,19940128,1842,-62.1667,  83.2822, 2621,     83.0,  -0.4640,  34.2280,3,  34.2330,2,    243.1,2,    246.1,2,    61.10,2,    32.60,2,     2.38,2,   2222.7,2
  09AR19940101,  SR03,    92,  1,     21,    121,2,19940128,1842,-62.1667,  83.2822, 2621,    123.8,   1.0830,  34.4340,4,  34.4190,2,    198.9,2,    201.0,2,    70.70,2,    34.50,2,     2.39,2,   2244.8,2
  09AR19940101,  SR03,    92,  1,     20,    120,2,19940128,1842,-62.1667,  83.2822, 2621,    164.8,   1.5380,  34.5080,2,  34.5170,2,    185.7,2,    181.2,2,    75.80,2,    35.00,2,     2.42,2,   2255.1,2
  09AR19940101,  SR03,    92,  1,     19,    119,2,19940128,1842,-62.1667,  83.2822, 2621,    202.7,   1.8350,  34.5720,2,  34.5690,2,    175.2,2,    173.6,2,    76.70,2,    34.20,2,     2.42,4,   2257.8,2
  09AR19940101,  SR03,    92,  1,     18,    118,2,19940128,1842,-62.1667,  83.2822, 2621,    314.2,   1.9670,  34.6420,2,  34.6460,2,    168.6,2,    172.0,2,    79.00,2,    33.30,2,     2.40,2,   2258.6,2
  09AR19940101,  SR03,    92,  1,     17,    117,2,19940128,1842,-62.1667,  83.2822, 2621,    403.8,   1.9910,  34.6780,2,  34.6780,2,    175.0,2,    175.3,2,    83.00,2,    32.90,2,     2.35,2,   2257.1,2
  09AR19940101,  SR03,    92,  1,     16,    116,2,19940128,1842,-62.1667,  83.2822, 2621,    501.8,   1.9810,  34.7040,2,  34.7070,2,    179.9,2,    180.7,2,    83.30,2,    31.90,2,     2.26,2,   2252.5,2
  09AR19940101,  SR03,    92,  1,     15,    115,2,19940128,1842,-62.1667,  83.2822, 2621,    604.1,   1.9310,  34.7250,2,  34.7290,2,    186.6,2,    185.4,2,    83.90,2,    31.30,2,     2.21,2,   2251.0,2
  09AR19940101,  SR03,    92,  1,     14,    114,2,19940128,1842,-62.1667,  83.2822, 2621,    703.5,   1.8690,  34.7370,2,  34.7380,2,    188.3,2,    190.0,2,    84.60,2,    30.90,2,     2.17,2,   2247.6,6
  09AR19940101,  SR03,    92,  1,     13,    124,2,19940128,1842,-62.1667,  83.2822, 2621,    803.3,   1.8190,  34.7460,2,  34.7470,2,    195.6,2,    193.2,2,    85.90,2,    30.50,2,     2.14,2,   2246.7,2
  09AR19940101,  SR03,    92,  1,     12,     12,2,19940128,1842,-62.1667,  83.2822, 2621,    903.5,   1.7390,  34.7510,2,  34.7490,2,    192.9,2,    196.1,2,    86.80,2,    30.50,2,     2.18,2,   2245.9,2
  09AR19940101,  SR03,    92,  1,     11,     11,2,19940128,1842,-62.1667,  83.2822, 2621,   1002.2,   1.6630,  34.7530,2,  34.7540,2,    198.0,2,    198.9,2,    88.60,2,    30.20,2,     2.15,2,   2245.3,2
  09AR19940101,  SR03,    92,  1,     10,     10,2,19940128,1842,-62.1667,  83.2822, 2621,   1103.1,   1.5600,  34.7520,2,  34.7540,2,    201.0,2,    200.6,2,    87.00,2,    29.70,2,     2.15,2,   2246.3,2
  09AR19940101,  SR03,    92,  1,      9,      9,2,19940128,1842,-62.1667,  83.2822, 2621,   1202.1,   1.4960,  34.7510,2,  34.7530,2,    202.5,2,    201.8,2,    88.00,2,    29.80,2,     2.16,2,   2246.4,2
  09AR19940101,  SR03,    92,  1,      8,      8,2,19940128,1842,-62.1667,  83.2822, 2621,   1402.6,   1.3040,  34.7430,2,  34.7460,2,    204.7,2,    203.9,2,    93.10,2,    30.10,2,     2.10,2,   2249.4,2
  09AR19940101,  SR03,    92,  1,      7,      7,2,19940128,1842,-62.1667,  83.2822, 2621,   1602.6,   1.1320,  34.7350,2,  34.7360,2,    204.8,2,    205.6,2,    97.40,2,    30.40,2,     2.14,2,   2252.6,2
  09AR19940101,  SR03,    92,  1,      6,      6,2,19940128,1842,-62.1667,  83.2822, 2621,   1802.4,   0.9730,  34.7260,2,  34.7250,2,    204.0,2,    206.6,2,   102.00,2,    30.70,2,     2.16,2,   2254.5,2
  09AR19940101,  SR03,    92,  1,      5,      5,2,19940128,1842,-62.1667,  83.2822, 2621,   2001.3,   0.8200,  34.7170,2,  34.7170,2,    209.4,2,    208.0,2,   108.40,2,    31.40,2,     2.18,2,   2256.1,2
  09AR19940101,  SR03,    92,  1,      4,      4,2,19940128,1842,-62.1667,  83.2822, 2621,   2202.2,   0.6840,  34.7100,2,  34.7080,2,    210.9,2,    209.2,2,   115.20,2,    31.80,2,     2.21,2,   2257.7,2
  09AR19940101,  SR03,    92,  1,      3,      3,2,19940128,1842,-62.1667,  83.2822, 2621,   2403.2,   0.5570,  34.7030,2,  34.7010,2,    212.4,2,    210.2,2,   121.50,2,    32.20,2,     2.23,2,   2258.7,6
  09AR19940101,  SR03,    92,  1,      2,      2,2,19940128,1842,-62.1667,  83.2822, 2621,   2601.5,   0.5090,  34.6990,2,  34.6980,2,    214.2,2,    211.8,2,   123.90,2,    32.20,2,     2.24,2,   2259.6,2
  09AR19940101,  SR03,    92,  1,      1,      1,2,19940128,1842,-62.1667,  83.2822, 2621,   2665.5,   0.4780,  34.6980,2,  34.6960,2,    214.4,2,    212.4,2,   125.30,2,    32.30,2,     2.25,2,   2258.7,2
  09AR19940101,  SR03,    93,  1,     24,     24,2,19940128,2306,-61.8010,  83.1235, 2272,     11.2,   1.4680,  33.8100,2,  33.8100,2,    350.9,2,    351.6,2,    13.60,2,    20.90,2,     1.07,4,   -999.0,9
  09AR19940101,  SR03,    93,  1,     23,    113,2,19940128,2306,-61.8010,  83.1235, 2272,     48.9,  -0.4910,  33.9910,2,  34.0050,2,    298.4,2,    296.3,2,    44.20,2,    27.90,2,     2.03,2,   -999.0,9
  09AR19940101,  SR03,    93,  1,     22,    122,2,19940128,2306,-61.8010,  83.1235, 2272,     82.3,  -0.1810,  34.2640,4,  34.2630,2,    237.2,2,    237.9,2,    61.70,2,    32.70,2,     2.33,2,   -999.0,9
  09AR19940101,  SR03,    93,  1,     21,    121,2,19940128,2306,-61.8010,  83.1235, 2272,    103.0,   0.5800,  34.3720,2,  34.3710,2,    206.9,2,    212.0,2,    66.30,2,    33.90,2,     2.37,2,   -999.0,9
  09AR19940101,  SR03,    93,  1,     20,    120,2,19940128,2306,-61.8010,  83.1235, 2272,    153.8,   1.4370,  34.5020,2,  34.5000,2,    180.7,2,    184.7,2,    72.80,2,    34.60,2,     2.41,2,   -999.0,9
  09AR19940101,  SR03,    93,  1,     19,    119,2,19940128,2306,-61.8010,  83.1235, 2272,    202.4,   1.8300,  34.5810,2,  34.5810,2,    175.6,2,    173.2,2,    76.80,2,    34.50,2,     2.40,2,   -999.0,9
  09AR19940101,  SR03,    93,  1,     18,    118,2,19940128,2306,-61.8010,  83.1235, 2272,    253.8,   1.9370,  34.6150,2,  34.6150,2,    174.5,2,    171.1,2,    78.00,2,    34.10,2,     2.37,2,   -999.0,9
  09AR19940101,  SR03,    93,  1,     17,    117,2,19940128,2306,-61.8010,  83.1235, 2272,    303.1,   1.9930,  34.6510,2,  34.6490,2,    175.3,2,    172.1,2,    79.20,2,    33.60,2,     2.38,2,   -999.0,9
  09AR19940101,  SR03,    93,  1,     16,    116,2,19940128,2306,-61.8010,  83.1235, 2272,    403.0,   1.9950,  34.6840,2,  34.6830,2,    179.6,2,    176.6,2,    79.70,2,    32.60,2,     2.31,2,   -999.0,9
  09AR19940101,  SR03,    93,  1,     15,    115,2,19940128,2306,-61.8010,  83.1235, 2272,    502.2,   1.9700,  34.7110,2,  34.7110,2,    184.6,2,    182.0,2,    79.80,2,    31.70,2,     2.27,2,   -999.0,9
  09AR19940101,  SR03,    93,  1,     14,    114,2,19940128,2306,-61.8010,  83.1235, 2272,    602.3,   1.9090,  34.7290,2,  34.7270,2,    187.0,2,    186.3,2,    81.10,2,    31.30,2,     2.23,2,   -999.0,9
  09AR19940101,  SR03,    93,  1,     13,    124,2,19940128,2306,-61.8010,  83.1235, 2272,    702.6,   1.8740,  34.7390,2,  34.7390,2,    189.9,2,    190.5,2,    81.10,2,    30.70,2,     2.20,2,   -999.0,9
  09AR19940101,  SR03,    93,  1,     12,     12,2,19940128,2306,-61.8010,  83.1235, 2272,    803.0,   1.7890,  34.7460,2,  34.7460,2,    191.8,2,    193.1,2,    83.80,2,    30.50,2,     2.13,4,   -999.0,9
  09AR19940101,  SR03,    93,  1,     11,     11,2,19940128,2306,-61.8010,  83.1235, 2272,    902.3,   1.7220,  34.7520,2,  34.7510,2,    194.4,2,    196.9,2,    84.10,2,    30.30,2,     2.14,2,   -999.0,9
  09AR19940101,  SR03,    93,  1,     10,     10,2,19940128,2306,-61.8010,  83.1235, 2272,   1002.9,   1.6430,  34.7540,2,  34.7540,2,    197.9,2,    199.6,2,    85.40,2,    30.10,2,     2.14,2,   -999.0,9
  09AR19940101,  SR03,    93,  1,      9,      9,2,19940128,2306,-61.8010,  83.1235, 2272,   1102.7,   1.5600,  34.7530,2,  34.7520,2,    198.0,2,    200.7,2,    87.70,2,    30.20,2,     2.14,2,   -999.0,9
  09AR19940101,  SR03,    93,  1,      8,      8,2,19940128,2306,-61.8010,  83.1235, 2272,   1202.0,   1.4590,  34.7500,2,  34.7490,2,    203.0,2,    201.9,2,    90.60,2,    30.40,2,     2.14,2,   -999.0,9
  09AR19940101,  SR03,    93,  1,      7,      7,2,19940128,2306,-61.8010,  83.1235, 2272,   1301.4,   1.3750,  34.7460,2,  34.7460,2,    201.2,2,    203.3,2,    93.00,2,    30.30,2,     2.15,2,   -999.0,9
  09AR19940101,  SR03,    93,  1,      6,      6,2,19940128,2306,-61.8010,  83.1235, 2272,   1402.5,   1.2840,  34.7420,2,  34.7430,2,    204.6,2,    204.2,2,    95.00,2,    30.60,2,     2.16,2,   -999.0,9
  09AR19940101,  SR03,    93,  1,      5,      5,2,19940128,2306,-61.8010,  83.1235, 2272,   1603.1,   1.1050,  34.7340,2,  34.7330,2,    205.5,2,    205.4,2,   100.00,2,    30.90,2,     2.19,2,   -999.0,9
  09AR19940101,  SR03,    93,  1,      4,      4,2,19940128,2306,-61.8010,  83.1235, 2272,   1799.8,   0.9510,  34.7240,2,  34.7230,2,    206.6,2,    206.2,2,   105.90,2,    31.30,2,     2.22,2,   -999.0,9
  09AR19940101,  SR03,    93,  1,      3,      3,2,19940128,2306,-61.8010,  83.1235, 2272,   2000.6,   0.7880,  34.7150,2,  34.7140,2,    209.3,2,    208.6,2,   110.80,2,    31.50,2,     2.25,2,   -999.0,9
  09AR19940101,  SR03,    93,  1,      2,      2,2,19940128,2306,-61.8010,  83.1235, 2272,   2205.0,   0.5740,  34.7040,2,  34.7020,2,    212.1,2,    209.1,2,   121.00,2,    32.00,2,     2.29,2,   -999.0,9
  09AR19940101,  SR03,    93,  1,      1,      1,2,19940128,2306,-61.8010,  83.1235, 2272,   2296.3,   0.5410,  34.7010,2,  34.7010,2,    210.5,2,    208.3,2,   125.70,2,    32.20,2,     2.30,2,   -999.0,9
  09AR19940101,  SR03,    94,  1,     24,     24,2,19940129,0314,-61.4447,  82.9697, 1832,     13.6,   1.5210,  33.8280,2,-999.0000,9,    356.5,2,   -999.0,9,  -999.00,9,  -999.00,9,  -999.00,9,   -999.0,9
  09AR19940101,  SR03,    94,  1,     23,    113,2,19940129,0314,-61.4447,  82.9697, 1832,     13.6,   1.5200,  33.8280,2,-999.0000,9,    356.5,2,   -999.0,9,  -999.00,9,  -999.00,9,  -999.00,9,   -999.0,9
  09AR19940101,  SR03,    94,  1,     18,    118,2,19940129,0314,-61.4447,  82.9697, 1832,     14.0,   1.5190,  33.8280,2,  33.8250,2,    356.5,2,    352.2,2,    13.00,2,    20.70,2,     1.15,4,   -999.0,9
  09AR19940101,  SR03,    94,  1,     21,    121,2,19940129,0314,-61.4447,  82.9697, 1832,     14.1,   1.5170,  33.8290,2,-999.0000,9,    356.5,2,   -999.0,9,  -999.00,9,  -999.00,9,  -999.00,9,   -999.0,9
  09AR19940101,  SR03,    94,  1,     20,    120,2,19940129,0314,-61.4447,  82.9697, 1832,     14.4,   1.5180,  33.8270,2,-999.0000,9,    356.5,2,   -999.0,9,  -999.00,9,  -999.00,9,  -999.00,9,   -999.0,9
  09AR19940101,  SR03,    94,  1,     19,    119,2,19940129,0314,-61.4447,  82.9697, 1832,     14.4,   1.5170,  33.8200,2,-999.0000,9,    356.5,2,   -999.0,9,  -999.00,9,  -999.00,9,  -999.00,9,   -999.0,9
  09AR19940101,  SR03,    94,  1,     22,    122,2,19940129,0314,-61.4447,  82.9697, 1832,     14.5,   1.5180,  33.8280,2,-999.0000,9,    356.5,2,   -999.0,9,  -999.00,9,  -999.00,9,  -999.00,9,   -999.0,9
  09AR19940101,  SR03,    94,  1,     17,    117,2,19940129,0314,-61.4447,  82.9697, 1832,     29.3,   1.3180,  33.8320,2,  33.8320,2,    341.7,2,    348.3,2,    12.20,2,    21.30,2,     1.29,2,   -999.0,9
  09AR19940101,  SR03,    94,  1,     16,    116,2,19940129,0314,-61.4447,  82.9697, 1832,     68.5,  -0.4050,  34.2130,2,  34.2100,2,    249.5,2,    249.1,2,    61.20,2,    31.90,2,     2.33,2,   -999.0,9
  09AR19940101,  SR03,    94,  1,     15,    115,2,19940129,0314,-61.4447,  82.9697, 1832,    103.6,   0.7380,  34.4010,2,  34.4000,2,    203.2,2,    205.6,2,    69.70,2,    34.10,2,     2.41,2,   -999.0,9
  09AR19940101,  SR03,    94,  1,     14,    114,2,19940129,0314,-61.4447,  82.9697, 1832,    153.2,   1.5970,  34.5370,2,  34.5340,2,    180.4,2,    179.6,2,    75.90,2,    34.50,2,     2.44,2,   -999.0,9
  09AR19940101,  SR03,    94,  1,     13,    124,2,19940129,0314,-61.4447,  82.9697, 1832,    204.0,   1.8460,  34.5960,2,  34.5930,2,    171.6,2,    173.2,2,    79.00,2,    34.30,2,     2.42,2,   -999.0,9
  09AR19940101,  SR03,    94,  1,     12,     12,2,19940129,0314,-61.4447,  82.9697, 1832,    304.4,   1.9450,  34.6560,2,  34.6560,2,    177.4,2,    173.7,2,    81.70,2,    33.40,2,     2.36,2,   -999.0,9
  09AR19940101,  SR03,    94,  1,     11,     11,2,19940129,0314,-61.4447,  82.9697, 1832,    404.9,   1.9600,  34.6910,2,  34.6900,2,    176.6,2,    177.8,2,    81.90,2,    32.50,2,     2.30,2,   -999.0,9
  09AR19940101,  SR03,    94,  1,     10,     10,2,19940129,0314,-61.4447,  82.9697, 1832,    503.7,   1.9290,  34.7150,2,  34.7200,2,    186.4,2,    182.9,2,    83.10,2,    31.80,2,     2.25,2,   -999.0,9
  09AR19940101,  SR03,    94,  1,      9,      9,2,19940129,0314,-61.4447,  82.9697, 1832,    603.5,   1.8800,  34.7280,2,  34.7280,2,    187.4,2,    186.5,2,    72.80,2,    31.40,2,     2.16,4,   -999.0,9
  09AR19940101,  SR03,    94,  1,      8,      8,2,19940129,0314,-61.4447,  82.9697, 1832,    704.4,   1.8230,  34.7420,2,  34.7590,2,    190.8,2,    191.8,2,    70.00,2,    30.50,2,     2.13,2,   -999.0,9
  09AR19940101,  SR03,    94,  1,      7,      7,2,19940129,0314,-61.4447,  82.9697, 1832,    802.6,   1.7580,  34.7470,2,  34.7490,2,    191.7,2,    194.9,2,    68.70,2,    30.90,2,     2.16,2,   -999.0,9
  09AR19940101,  SR03,    94,  1,      6,      6,2,19940129,0314,-61.4447,  82.9697, 1832,    952.8,   1.6200,  34.7510,2,  34.7520,2,    197.8,2,    198.8,2,    75.20,2,    30.10,2,     2.10,2,   -999.0,9
  09AR19940101,  SR03,    94,  1,      5,      5,2,19940129,0314,-61.4447,  82.9697, 1832,   1153.3,   1.4130,  34.7470,2,  34.7470,2,    204.8,2,    202.5,2,    76.00,2,    30.50,2,     2.13,2,   -999.0,9
  09AR19940101,  SR03,    94,  1,      4,      4,2,19940129,0314,-61.4447,  82.9697, 1832,   1352.8,   1.1520,  34.7370,2,  34.7360,2,    202.8,2,    205.2,2,    83.10,2,    31.00,2,     2.18,2,   -999.0,9
  09AR19940101,  SR03,    94,  1,      3,      3,2,19940129,0314,-61.4447,  82.9697, 1832,   1552.6,   1.0040,  34.7200,3,  34.7270,2,    205.4,2,    206.1,2,    83.00,2,    31.80,2,     2.22,2,   -999.0,9
  09AR19940101,  SR03,    94,  1,      2,      2,2,19940129,0314,-61.4447,  82.9697, 1832,   1752.5,   0.7820,  34.7160,2,  34.7150,2,    207.9,2,    208.0,2,    85.90,2,    31.50,2,     2.22,2,   -999.0,9
  09AR19940101,  SR03,    94,  1,      1,      1,2,19940129,0314,-61.4447,  82.9697, 1832,   1848.0,   0.6750,  34.7100,2,  34.7090,2,    206.7,2,    205.9,2,    97.60,2,    31.90,2,     2.25,2,   -999.0,9