BOTTLE,20230321CCHSIOENA
EXPOCODE,SECT_ID,STNNBR,CASTNO,SAMPNO,BTLNBR,BTLNBR_FLAG_W,DATE,TIME,LATITUDE,LONGITUDE,DEPTH,CTDPRS,CTDTMP,CTDSAL,CTDSAL_FLAG_W,SALNTY,SALNTY_FLAG_W,CTDOXY,CTDOXY_FLAG_W,OXYGEN,OXYGEN_FLAG_W,SILCAT,SILCAT_FLAG_W,NITRAT,NITRAT_FLAG_W,PHSPHT,PHSPHT_FLAG_W,TCARBN,TCARBN_FLAG_W
,,,,,,,,,,,METERS,DBAR,ITS-90,PSS-78,,PSS-78,,UMOL/KG,,UMOL/KG,,UMOL/KG,,UMOL/KG,,UMOL/KG,,UMOL/KG,
  09AR19940101,  SR03,     5,  1,     22,     22,2,19940102,1553,-44.3742, 146.1647, 2338,     15.4,  11.7060,  34.7480,2,  34.7490,2,    274.8,2,    271.0,2,     0.90,2,     6.50,2,     0.59,2,   2067.3,2
  09AR19940101,  SR03,     5,  1,     21,     21,2,19940102,1553,-44.3742, 146.1647, 2338,     30.9,  11.7060,  34.7480,2,  34.7490,2,    260.8,2,    271.2,2,     0.50,2,     6.40,2,     0.60,2,   2069.5,2
  09AR19940101,  SR03,     5,  1,     20,     20,2,19940102,1553,-44.3742, 146.1647, 2338,     54.6,  11.6950,  34.7550,2,  34.7580,2,    273.4,2,    270.7,2,     0.30,2,     6.50,2,     0.62,2,   2070.0,2
  09AR19940101,  SR03,     5,  1,     19,    119,2,19940102,1553,-44.3742, 146.1647, 2338,    104.7,  11.4000,  35.0060,3,  35.0040,2,    242.7,2,    246.8,2,     2.80,2,    10.30,2,     0.78,2,   2099.0,2
  09AR19940101,  SR03,     5,  1,     18,     18,2,19940102,1553,-44.3742, 146.1647, 2338,    155.9,  10.7010,  34.9030,2,-999.0000,9,    254.4,2,   -999.0,9,  -999.00,9,  -999.00,9,  -999.00,9,   -999.0,9
  09AR19940101,  SR03,     5,  1,     17,     17,3,19940102,1553,-44.3742, 146.1647, 2338,    206.6,  10.0920,  34.8020,3,  34.8020,2,    254.2,2,    251.8,2,     3.50,2,    13.30,2,     0.96,2,   2108.4,2
  09AR19940101,  SR03,     5,  1,     16,    116,2,19940102,1553,-44.3742, 146.1647, 2338,    304.7,   9.2880,  34.6650,2,  34.6650,2,    248.4,2,    269.3,2,     3.30,2,    14.00,2,     1.02,2,   2105.2,2
  09AR19940101,  SR03,     5,  1,     15,     15,3,19940102,1553,-44.3742, 146.1647, 2338,    406.4,   8.9350,  34.6230,3,  34.6300,4,    241.9,2,    247.2,2,     4.60,2,    16.70,2,     1.19,2,   2120.4,2
  09AR19940101,  SR03,     5,  1,     14,      9,2,19940102,1553,-44.3742, 146.1647, 2338,    505.3,   8.5170,  34.5700,3,  34.5710,2,    236.4,2,    239.1,2,     5.80,2,    18.80,2,     1.32,2,   2126.4,2
  09AR19940101,  SR03,     5,  1,     13,     13,2,19940102,1553,-44.3742, 146.1647, 2338,    605.8,   8.0440,  34.5420,2,  34.5420,2,    220.2,2,    215.0,2,     9.40,2,    22.30,2,     1.53,2,   2144.2,2
  09AR19940101,  SR03,     5,  1,     12,     12,2,19940102,1553,-44.3742, 146.1647, 2338,    706.2,   7.3670,  34.5050,2,  34.5030,2,    203.8,2,    200.8,2,    13.80,2,    25.60,2,     1.70,2,   2159.9,2
  09AR19940101,  SR03,     5,  1,     11,     11,2,19940102,1553,-44.3742, 146.1647, 2338,    805.5,   6.5650,  34.4580,3,  34.4600,2,    197.2,2,    196.9,2,    18.40,2,    27.60,2,     1.86,2,   2170.5,2
  09AR19940101,  SR03,     5,  1,     10,     10,2,19940102,1553,-44.3742, 146.1647, 2338,   1104.7,   4.1680,  34.4260,2,  34.4270,2,    183.3,2,    184.6,2,  -999.00,9,  -999.00,9,  -999.00,9,   2218.0,2
  09AR19940101,  SR03,     5,  1,      9,    121,2,19940102,1553,-44.3742, 146.1647, 2338,   1204.8,   3.8860,  34.4690,2,  34.4680,2,    176.1,2,    176.5,2,  -999.00,9,  -999.00,9,  -999.00,9,   2230.2,2
  09AR19940101,  SR03,     5,  1,      8,      8,2,19940102,1553,-44.3742, 146.1647, 2338,   1305.2,   3.4140,  34.4890,2,  34.4900,2,    172.5,2,    172.5,2,    50.60,2,    33.80,2,     2.32,2,   2242.6,2
  09AR19940101,  SR03,     5,  1,      7,      7,2,19940102,1553,-44.3742, 146.1647, 2338,   1403.8,   2.9810,  34.5280,2,  34.5270,2,    169.6,2,    170.5,2,    58.20,2,    34.80,2,     2.39,2,   2251.1,2
  09AR19940101,  SR03,     5,  1,      6,      6,2,19940102,1553,-44.3742, 146.1647, 2338,   1505.2,   2.7650,  34.5820,2,  34.5810,2,    167.7,2,    167.2,2,    69.70,2,    35.60,2,     2.42,2,   2259.7,2
  09AR19940101,  SR03,     5,  1,      5,      5,2,19940102,1553,-44.3742, 146.1647, 2338,   1604.8,   2.5940,  34.6090,2,  34.6070,2,    171.3,2,    169.6,2,    70.60,2,    34.90,2,     2.40,2,   2259.8,2
  09AR19940101,  SR03,     5,  1,      4,      4,2,19940102,1553,-44.3742, 146.1647, 2338,   1703.0,   2.4830,  34.6340,2,  34.6330,2,    174.2,2,    172.5,2,    70.50,2,    35.00,2,     2.36,2,   2259.3,2
  09AR19940101,  SR03,     5,  1,      3,      3,2,19940102,1553,-44.3742, 146.1647, 2338,   1905.3,   2.3150,  34.6790,2,  34.6800,2,    175.8,2,    175.2,2,    75.20,2,    34.20,2,     2.32,2,   2262.2,2
  09AR19940101,  SR03,     5,  1,      2,      2,2,19940102,1553,-44.3742, 146.1647, 2338,   2102.9,   2.1840,  34.7060,2,  34.7050,2,    175.4,2,    176.8,2,    74.30,3,    34.10,2,     2.32,2,   2266.4,2
  09AR19940101,  SR03,     5,  1,      1,      1,2,19940102,1553,-44.3742, 146.1647, 2338,   2343.1,   1.9830,  34.7250,2,  34.7240,2,    182.2,2,    180.4,2,    81.90,2,    33.70,2,     2.29,2,   2273.0,2
  09AR19940101,  SR03,     6,  1,     24,     24,2,19940102,2105,-44.7217, 146.0450, 3220,     14.9,  12.5120,  34.9910,2,  34.9900,2,   -999.0,5,    265.2,2,     2.00,2,     4.20,2,     0.39,2,   -999.0,9
  09AR19940101,  SR03,     6,  1,     23,     23,3,19940102,2105,-44.7217, 146.0450, 3220,     29.8,  12.5120,  34.9910,2,  34.9900,2,   -999.0,5,    265.1,2,     0.20,2,     4.20,2,     0.43,2,   -999.0,9
  09AR19940101,  SR03,     6,  1,     22,     22,2,19940102,2105,-44.7217, 146.0450, 3220,     55.3,  12.5150,  34.9910,2,  34.9910,2,   -999.0,5,    264.9,2,     0.40,2,     4.20,2,     0.44,2,   -999.0,9
  09AR19940101,  SR03,     6,  1,     21,     21,2,19940102,2105,-44.7217, 146.0450, 3220,    106.0,  12.3060,  35.1500,4,  35.1500,2,   -999.0,5,    208.0,4,     3.00,2,     8.50,2,     0.66,2,   -999.0,9
  09AR19940101,  SR03,     6,  1,     20,     20,3,19940102,2105,-44.7217, 146.0450, 3220,    154.5,  10.5130,  34.8110,4,  34.7820,4,   -999.0,5,    262.9,2,     3.30,2,    11.60,2,     0.87,2,   -999.0,9
  09AR19940101,  SR03,     6,  1,     19,    119,2,19940102,2105,-44.7217, 146.0450, 3220,    206.1,   9.8140,  34.7520,2,  34.7510,2,   -999.0,5,    256.5,2,     3.90,2,    13.60,2,     0.97,2,   -999.0,9
  09AR19940101,  SR03,     6,  1,     18,     18,2,19940102,2105,-44.7217, 146.0450, 3220,    306.9,   9.2670,  34.6680,2,  34.6660,2,   -999.0,5,    264.0,2,     4.00,2,    14.30,2,     1.02,2,   -999.0,9
  09AR19940101,  SR03,     6,  1,     17,     17,3,19940102,2105,-44.7217, 146.0450, 3220,    405.0,   8.8730,  34.6080,2,  34.6070,2,   -999.0,5,    243.6,2,     4.60,2,    15.90,2,     1.11,2,   -999.0,9
  09AR19940101,  SR03,     6,  1,     16,    116,2,19940102,2105,-44.7217, 146.0450, 3220,    507.2,   8.5990,  34.5730,2,  34.5730,2,   -999.0,5,    248.0,3,     5.80,2,    17.90,2,     1.23,2,   -999.0,9
  09AR19940101,  SR03,     6,  1,     15,     15,2,19940102,2105,-44.7217, 146.0450, 3220,    705.5,   7.2930,  34.4740,2,  34.5730,4,   -999.0,5,    211.2,2,    13.30,2,    24.20,2,     1.63,2,   -999.0,9
  09AR19940101,  SR03,     6,  1,     14,      9,2,19940102,2105,-44.7217, 146.0450, 3220,    905.0,   5.2580,  34.3810,2,  34.3820,2,   -999.0,5,    203.6,2,    26.40,2,    29.20,2,     1.99,2,   -999.0,9
  09AR19940101,  SR03,     6,  1,     13,     13,2,19940102,2105,-44.7217, 146.0450, 3220,   1004.2,   4.5240,  34.3690,3,  34.3700,2,   -999.0,5,    201.2,2,    33.40,2,    30.80,2,     2.11,2,   -999.0,9
  09AR19940101,  SR03,     6,  1,     12,     12,2,19940102,2105,-44.7217, 146.0450, 3220,   1104.3,   3.9150,  34.3790,3,  34.3770,2,   -999.0,5,    197.0,2,    40.90,2,    32.10,2,     2.17,2,   -999.0,9
  09AR19940101,  SR03,     6,  1,     11,     11,2,19940102,2105,-44.7217, 146.0450, 3220,   1302.5,   3.2070,  34.4550,3,  34.4590,2,   -999.0,5,    178.8,2,    56.00,2,    34.00,2,     2.34,2,   -999.0,9
  09AR19940101,  SR03,     6,  1,     10,     10,2,19940102,2105,-44.7217, 146.0450, 3220,   1504.9,   2.9590,  34.5510,2,  34.5500,2,   -999.0,5,    165.1,2,    67.40,2,    34.40,2,     2.39,2,   -999.0,9
  09AR19940101,  SR03,     6,  1,      9,    121,2,19940102,2105,-44.7217, 146.0450, 3220,   1602.8,   2.6490,  34.5820,2,  34.5830,2,   -999.0,5,    170.4,2,    69.00,2,    34.20,2,     2.36,2,   -999.0,9
  09AR19940101,  SR03,     6,  1,      8,      8,2,19940102,2105,-44.7217, 146.0450, 3220,   1701.8,   2.5210,  34.6190,2,  34.6190,2,   -999.0,5,    171.9,2,    70.50,2,    33.80,2,     2.34,2,   -999.0,9
  09AR19940101,  SR03,     6,  1,      7,      7,2,19940102,2105,-44.7217, 146.0450, 3220,   1902.8,   2.3720,  34.6690,2,  34.6700,2,   -999.0,5,    174.7,2,    77.70,2,    33.00,2,     2.29,2,   -999.0,9
  09AR19940101,  SR03,     6,  1,      6,      6,2,19940102,2105,-44.7217, 146.0450, 3220,   2102.3,   2.2540,  34.7040,2,  34.7040,2,   -999.0,5,    176.1,2,    80.50,2,    32.80,2,     2.26,2,   -999.0,9
  09AR19940101,  SR03,     6,  1,      5,      5,2,19940102,2105,-44.7217, 146.0450, 3220,   2401.7,   2.0600,  34.7280,2,  34.7290,2,   -999.0,5,    179.7,2,    90.30,2,    32.40,2,     2.24,2,   -999.0,9
  09AR19940101,  SR03,     6,  1,      4,      4,2,19940102,2105,-44.7217, 146.0450, 3220,   2599.7,   1.8900,  34.7330,2,  34.7340,2,   -999.0,5,    182.3,2,    91.30,2,    32.50,2,     2.24,2,   -999.0,9
  09AR19940101,  SR03,     6,  1,      3,      3,2,19940102,2105,-44.7217, 146.0450, 3220,   2801.2,   1.7350,  34.7320,2,  34.7330,2,   -999.0,5,    186.5,2,    97.90,2,    32.50,2,     2.25,2,   -999.0,9
  09AR19940101,  SR03,     6,  1,      2,      2,2,19940102,2105,-44.7217, 146.0450, 3220,   3102.2,   1.5310,  34.7320,2,  34.7310,2,   -999.0,5,    192.1,2,   102.20,2,    32.40,2,     2.17,3,   -999.0,9
  09AR19940101,  SR03,     6,  1,      1,      1,2,19940102,2105,-44.7217, 146.0450, 3220,   3254.1,   1.4360,  34.7290,2,  34.7280,2,   -999.0,5,    194.0,2,   101.10,2,    32.50,2,     2.23,2,   -999.0,9
  09AR19940101,  SR03,     7,  1,     12,     12,2,19940103,0156,-45.2160, 145.8535, 2846,     14.3,  13.7230,  35.2410,2,-999.0000,9,    261.5,2,   -999.0,9,  -999.00,9,  -999.00,9,  -999.00,9,   -999.0,9
  09AR19940101,  SR03,     7,  1,     11,     11,2,19940103,0156,-45.2160, 145.8535, 2846,     14.5,  13.7250,  35.2420,2,-999.0000,9,    261.5,2,   -999.0,9,  -999.00,9,  -999.00,9,  -999.00,9,   -999.0,9
  09AR19940101,  SR03,     7,  1,      9,    121,2,19940103,0156,-45.2160, 145.8535, 2846,     27.9,  13.7300,  35.2430,2,-999.0000,9,    254.3,2,   -999.0,9,  -999.00,9,  -999.00,9,  -999.00,9,   -999.0,9
  09AR19940101,  SR03,     7,  1,     10,     10,2,19940103,0156,-45.2160, 145.8535, 2846,     28.0,  13.7300,  35.2430,2,  35.2430,2,    254.3,2,    257.3,2,     8.20,2,     1.30,2,     0.26,2,   2055.8,2
  09AR19940101,  SR03,     7,  1,      7,      7,2,19940103,0156,-45.2160, 145.8535, 2846,     53.4,  13.7220,  35.2450,2,-999.0000,9,    255.3,2,   -999.0,9,  -999.00,9,  -999.00,9,  -999.00,9,   -999.0,9
  09AR19940101,  SR03,     7,  1,      8,      8,2,19940103,0156,-45.2160, 145.8535, 2846,     54.2,  13.7220,  35.2430,2,  35.2450,2,    255.3,2,    256.2,2,     2.20,2,     1.40,2,     0.27,2,   2054.4,2
  09AR19940101,  SR03,     7,  1,      5,      5,2,19940103,0156,-45.2160, 145.8535, 2846,    103.7,  12.7430,  35.1520,2,-999.0000,9,    245.6,2,   -999.0,9,  -999.00,9,  -999.00,9,  -999.00,9,   -999.0,9
  09AR19940101,  SR03,     7,  1,      6,      6,2,19940103,0156,-45.2160, 145.8535, 2846,    104.7,  12.7420,  35.1460,2,  35.1450,2,    245.6,2,    241.8,2,     2.90,2,     6.90,2,     0.58,2,   2083.4,6
  09AR19940101,  SR03,     7,  1,      4,      4,2,19940103,0156,-45.2160, 145.8535, 2846,    152.6,  11.7460,  35.0440,4,  35.0290,2,    237.1,2,    238.0,2,     3.70,2,    10.30,2,     0.77,2,   2098.2,2
  09AR19940101,  SR03,     7,  1,      3,      3,2,19940103,0156,-45.2160, 145.8535, 2846,    153.5,  11.6900,  35.0200,2,-999.0000,9,    234.0,2,   -999.0,9,  -999.00,9,  -999.00,9,  -999.00,9,   -999.0,9
  09AR19940101,  SR03,     7,  1,      1,      1,2,19940103,0156,-45.2160, 145.8535, 2846,    203.9,  11.1170,  34.9790,2,-999.0000,9,    229.8,2,   -999.0,9,  -999.00,9,  -999.00,9,  -999.00,9,   -999.0,9
  09AR19940101,  SR03,     7,  1,      2,      2,2,19940103,0156,-45.2160, 145.8535, 2846,    204.4,  11.1190,  34.9800,2,  34.9800,2,    229.8,2,    216.1,2,     5.10,2,    13.90,2,     0.99,2,   2116.0,2
  09AR19940101,  SR03,     8,  1,     24,     24,2,19940103,0434,-45.2127, 145.8510, 2866,     14.9,  13.8900,  35.2410,2,  35.2360,2,   -999.0,5,    260.7,2,     1.70,2,     1.40,2,     0.25,2,   2054.1,2
  09AR19940101,  SR03,     8,  1,     23,     23,2,19940103,0434,-45.2127, 145.8510, 2866,     54.9,  13.7270,  35.2460,2,  35.2430,2,   -999.0,5,    258.6,2,     1.70,2,     3.20,2,     0.26,2,   2054.4,6
  09AR19940101,  SR03,     8,  1,     22,     22,2,19940103,0434,-45.2127, 145.8510, 2866,    104.9,  12.5670,  35.1580,4,  35.1560,2,   -999.0,5,    240.0,2,     2.60,2,     7.80,2,     0.60,2,   2089.6,2
  09AR19940101,  SR03,     8,  1,     21,     21,2,19940103,0434,-45.2127, 145.8510, 2866,    153.8,  11.5500,  35.0360,4,  35.0400,2,   -999.0,5,    229.0,2,     4.30,2,    11.70,2,     0.83,2,   2106.0,2
  09AR19940101,  SR03,     8,  1,     20,     20,3,19940103,0434,-45.2127, 145.8510, 2866,    204.9,  11.0310,  34.9640,3,  34.9660,2,   -999.0,5,   -999.0,9,     5.10,2,    14.20,2,     0.99,2,   -999.0,9
  09AR19940101,  SR03,     8,  1,     19,    119,2,19940103,0434,-45.2127, 145.8510, 2866,    306.7,   9.8840,  34.7890,2,  34.7850,2,   -999.0,5,    228.1,2,     5.90,2,    16.20,2,     1.12,2,   2117.4,2
  09AR19940101,  SR03,     8,  1,     18,     18,2,19940103,0434,-45.2127, 145.8510, 2866,    406.4,   9.2520,  34.6890,2,  34.6910,2,   -999.0,5,    227.9,2,     6.40,2,    18.00,2,     1.22,2,   2126.5,2
  09AR19940101,  SR03,     8,  1,     17,     17,3,19940103,0434,-45.2127, 145.8510, 2866,    505.5,   8.9140,  34.6490,3,-999.0000,9,   -999.0,5,    218.8,2,     7.90,2,    19.60,2,     1.34,2,   -999.0,9
  09AR19940101,  SR03,     8,  1,     16,    116,2,19940103,0434,-45.2127, 145.8510, 2866,    607.2,   8.4290,  34.5990,3,  34.6000,2,   -999.0,5,    211.6,2,    10.00,2,    21.60,2,     1.46,2,   2141.9,6
  09AR19940101,  SR03,     8,  1,     15,     15,2,19940103,0434,-45.2127, 145.8510, 2866,    704.2,   7.5590,  34.5320,3,  34.5300,2,   -999.0,5,    198.1,2,    15.20,2,    24.60,2,     1.67,2,   2161.1,2
  09AR19940101,  SR03,     8,  1,     14,      9,2,19940103,0434,-45.2127, 145.8510, 2866,    802.5,   6.5550,  34.4540,4,  34.4510,2,   -999.0,5,    200.3,2,  -999.00,9,  -999.00,9,  -999.00,9,   2169.3,2
  09AR19940101,  SR03,     8,  1,     13,     13,2,19940103,0434,-45.2127, 145.8510, 2866,    905.2,   5.4850,  34.3890,2,  34.3880,2,   -999.0,5,    208.3,2,    25.00,2,    28.80,2,     1.96,2,   2179.7,2
  09AR19940101,  SR03,     8,  1,     12,    124,2,19940103,0434,-45.2127, 145.8510, 2866,   1005.2,   4.7060,  34.3730,4,  34.3720,2,   -999.0,5,    203.1,2,    32.10,2,    30.50,2,     2.05,2,   2192.8,2
  09AR19940101,  SR03,     8,  1,     11,    123,2,19940103,0434,-45.2127, 145.8510, 2866,   1102.4,   4.0730,  34.3710,2,  34.3710,2,   -999.0,5,    200.8,2,    38.50,2,    31.80,2,     2.19,2,   2205.7,2
  09AR19940101,  SR03,     8,  1,     10,    122,2,19940103,0434,-45.2127, 145.8510, 2866,   1204.9,   3.6320,  34.3900,2,-999.0000,9,   -999.0,5,   -999.0,9,  -999.00,9,  -999.00,9,  -999.00,9,   -999.0,9
  09AR19940101,  SR03,     8,  1,      9,    113,2,19940103,0434,-45.2127, 145.8510, 2866,   1303.5,   3.2910,  34.4310,2,  34.4280,2,   -999.0,5,    191.1,2,    51.80,2,    33.60,2,     2.32,2,   2230.0,2
  09AR19940101,  SR03,     8,  1,      8,    118,2,19940103,0434,-45.2127, 145.8510, 2866,   1405.2,   3.0660,  34.5010,2,  34.5020,2,   -999.0,5,    177.3,2,    63.40,2,    34.40,2,     2.38,2,   2246.0,6
  09AR19940101,  SR03,     8,  1,      7,      7,2,19940103,0434,-45.2127, 145.8510, 2866,   1505.7,   2.8330,  34.5310,2,  34.5320,2,   -999.0,5,    177.0,2,    62.10,2,    34.50,2,     2.38,2,   2250.8,2
  09AR19940101,  SR03,     8,  1,      6,    117,2,19940103,0434,-45.2127, 145.8510, 2866,   1654.7,   2.6460,  34.5910,2,  34.5920,2,   -999.0,5,    169.5,2,    65.60,2,    34.10,2,     2.37,2,   2258.7,2
  09AR19940101,  SR03,     8,  1,      5,    115,2,19940103,0434,-45.2127, 145.8510, 2866,   1804.1,   2.4880,  34.6330,2,  34.6330,2,   -999.0,5,    173.7,2,    69.20,2,    33.40,2,     2.31,2,   2257.1,2
  09AR19940101,  SR03,     8,  1,      4,    114,2,19940103,0434,-45.2127, 145.8510, 2866,   2005.3,   2.3620,  34.6720,2,  34.6710,2,   -999.0,5,    176.6,2,    71.90,2,    33.00,2,     2.27,2,   2250.4,6
  09AR19940101,  SR03,     8,  1,      3,      3,2,19940103,0434,-45.2127, 145.8510, 2866,   2303.7,   2.1800,  34.7190,2,  34.7200,2,   -999.0,5,    179.5,2,    80.10,2,    32.40,2,     2.24,2,   2261.6,2
  09AR19940101,  SR03,     8,  1,      2,    120,2,19940103,0434,-45.2127, 145.8510, 2866,   2604.8,   1.9050,  34.7350,2,  34.7340,2,   -999.0,5,    185.8,2,    87.60,2,    32.20,2,     2.22,2,   2264.6,2
  09AR19940101,  SR03,     8,  1,      1,      1,2,19940103,0434,-45.2127, 145.8510, 2866,   2887.5,   1.8130,  34.7340,2,  34.7350,2,   -999.0,5,    188.4,2,    90.80,2,    32.20,2,     2.23,2,   2265.9,2