BOTTLE,20230321CCHSIOENA
EXPOCODE,SECT_ID,STNNBR,CASTNO,SAMPNO,BTLNBR,BTLNBR_FLAG_W,DATE,TIME,LATITUDE,LONGITUDE,DEPTH,CTDPRS,CTDTMP,CTDSAL,CTDSAL_FLAG_W,SALNTY,SALNTY_FLAG_W,CTDOXY,CTDOXY_FLAG_W,OXYGEN,OXYGEN_FLAG_W,SILCAT,SILCAT_FLAG_W,NITRAT,NITRAT_FLAG_W,PHSPHT,PHSPHT_FLAG_W,TCARBN,TCARBN_FLAG_W
,,,,,,,,,,,METERS,DBAR,ITS-90,PSS-78,,PSS-78,,UMOL/KG,,UMOL/KG,,UMOL/KG,,UMOL/KG,,UMOL/KG,,UMOL/KG,
  09AR19940101,  SR03,    54,  1,     24,     24,2,19940113,0714,-61.3482, 139.8277, 4344,     13.4,   1.9350,  33.9450,4,  33.9500,2,    344.8,2,    341.6,2,    22.50,2,    27.30,2,     1.65,4,   -999.0,9
  09AR19940101,  SR03,    54,  1,     23,    113,2,19940113,0714,-61.3482, 139.8277, 4344,     54.0,   0.4710,  33.9610,2,  33.9580,2,    348.7,2,    353.2,2,    21.30,2,    27.40,2,     1.77,2,   -999.0,9
  09AR19940101,  SR03,    54,  1,     22,     22,2,19940113,0714,-61.3482, 139.8277, 4344,    103.5,  -0.3050,  33.9780,2,  33.9800,2,    348.5,2,    343.8,2,    33.80,2,    28.90,2,     2.05,2,   -999.0,9
  09AR19940101,  SR03,    54,  1,     21,    121,2,19940113,0714,-61.3482, 139.8277, 4344,    135.6,  -0.2360,  34.0940,4,  34.0900,2,    334.7,2,    306.7,2,    43.40,2,    31.30,2,     2.21,2,   -999.0,9
  09AR19940101,  SR03,    54,  1,     20,    120,2,19940113,0714,-61.3482, 139.8277, 4344,    205.0,   2.0160,  34.4540,2,  34.4500,2,    183.3,2,    184.9,2,    63.10,2,    35.50,2,     2.47,2,   -999.0,9
  09AR19940101,  SR03,    54,  1,     19,    119,2,19940113,0714,-61.3482, 139.8277, 4344,    305.1,   2.1220,  34.5500,2,  34.5480,2,    179.3,2,    173.2,2,    68.80,2,    35.20,2,     2.45,2,   -999.0,9
  09AR19940101,  SR03,    54,  1,     18,    118,2,19940113,0714,-61.3482, 139.8277, 4344,    392.5,   2.1440,  34.6080,2,  34.6090,2,    178.5,2,    172.6,2,    71.90,2,    34.20,2,     2.39,2,   -999.0,9
  09AR19940101,  SR03,    54,  1,     17,    117,2,19940113,0714,-61.3482, 139.8277, 4344,    504.8,   2.1250,  34.6570,2,  34.6570,2,    175.9,2,    175.2,2,    70.40,2,    33.30,2,     2.33,2,   -999.0,9
  09AR19940101,  SR03,    54,  1,     16,    116,2,19940113,0714,-61.3482, 139.8277, 4344,    604.6,   2.0770,  34.6880,2,  34.6870,2,    180.1,2,    179.3,2,    74.90,2,    32.50,2,     2.29,2,   -999.0,9
  09AR19940101,  SR03,    54,  1,     15,    115,2,19940113,0714,-61.3482, 139.8277, 4344,    700.8,   2.0380,  34.7080,2,  34.7070,2,    182.2,2,    182.9,2,    75.00,2,    31.90,2,     2.25,2,   -999.0,9
  09AR19940101,  SR03,    54,  1,     14,    114,2,19940113,0714,-61.3482, 139.8277, 4344,    853.8,   1.9590,  34.7290,2,  34.7270,2,    183.2,2,    187.7,2,    76.80,2,    31.20,2,     2.21,2,   -999.0,9
  09AR19940101,  SR03,    54,  1,     13,    124,2,19940113,0714,-61.3482, 139.8277, 4344,   1003.9,   1.8710,  34.7410,2,  34.7420,2,    183.9,2,    191.9,2,    77.90,2,    30.90,2,     2.18,2,   -999.0,9
  09AR19940101,  SR03,    54,  1,     12,     12,2,19940113,0714,-61.3482, 139.8277, 4344,   1202.3,   1.7170,  34.7460,2,  34.7510,2,    192.4,2,    195.9,2,    82.20,2,    31.00,2,     2.12,4,   -999.0,9
  09AR19940101,  SR03,    54,  1,     11,     11,2,19940113,0714,-61.3482, 139.8277, 4344,   1402.4,   1.5580,  34.7440,2,  34.7490,2,   -999.0,5,    144.1,4,    85.20,2,    31.00,2,     2.16,2,   -999.0,9
  09AR19940101,  SR03,    54,  1,     10,     10,2,19940113,0714,-61.3482, 139.8277, 4344,   1602.2,   1.3850,  34.7390,2,  34.7430,2,    194.9,2,    201.4,2,    89.20,2,    31.20,2,     2.17,2,   -999.0,9
  09AR19940101,  SR03,    54,  1,      9,      9,2,19940113,0714,-61.3482, 139.8277, 4344,   1903.5,   1.1290,  34.7280,2,  34.7310,2,    202.5,2,    203.9,2,    96.40,2,    31.80,2,     2.24,2,   -999.0,9
  09AR19940101,  SR03,    54,  1,      8,      8,2,19940113,0714,-61.3482, 139.8277, 4344,   2202.4,   0.8990,  34.7160,2,  34.7190,2,    206.5,2,    206.3,2,    99.70,2,    31.80,2,     2.25,2,   -999.0,9
  09AR19940101,  SR03,    54,  1,      7,      7,2,19940113,0714,-61.3482, 139.8277, 4344,   2503.4,   0.6770,  34.7050,2,  34.7060,2,    209.1,2,    209.9,2,    93.90,3,    32.20,2,     2.28,2,   -999.0,9
  09AR19940101,  SR03,    54,  1,      6,      6,2,19940113,0714,-61.3482, 139.8277, 4344,   2801.0,   0.4880,  34.6980,2,  34.6990,2,    214.4,2,    214.2,2,   115.50,2,    32.40,2,     2.30,2,   -999.0,9
  09AR19940101,  SR03,    54,  1,      5,      5,2,19940113,0714,-61.3482, 139.8277, 4344,   3101.2,   0.3200,  34.6910,2,  34.6930,2,    220.6,2,    217.5,2,   101.10,3,    32.30,2,     2.29,2,   -999.0,9
  09AR19940101,  SR03,    54,  1,      4,      4,2,19940113,0714,-61.3482, 139.8277, 4344,   3500.1,   0.1580,  34.6830,2,  34.6810,2,    224.5,2,    192.1,4,   114.00,2,    32.40,2,     2.29,2,   -999.0,9
  09AR19940101,  SR03,    54,  1,      3,      3,2,19940113,0714,-61.3482, 139.8277, 4344,   3896.3,   0.0200,  34.6800,2,  34.6770,2,    231.4,2,    230.9,2,   107.20,2,    32.30,2,     2.27,2,   -999.0,9
  09AR19940101,  SR03,    54,  1,      2,      2,2,19940113,0714,-61.3482, 139.8277, 4344,   4199.5,  -0.0740,  34.6760,2,  34.6740,2,    235.6,2,    235.8,2,   109.30,2,    32.30,2,     2.28,2,   -999.0,9
  09AR19940101,  SR03,    54,  1,      1,      1,2,19940113,0714,-61.3482, 139.8277, 4344,   4390.9,  -0.1300,  34.6770,2,  34.6740,2,    236.6,2,    238.8,2,   106.40,2,    32.00,2,     2.27,2,   -999.0,9
  09AR19940101,  SR03,    55,  1,     24,     24,2,19940113,1424,-61.8542, 139.8475, 4272,     14.4,   1.3870,  33.9390,2,  33.9500,2,    345.5,2,    342.8,2,    31.70,2,    27.40,2,     1.81,4,   2155.2,2
  09AR19940101,  SR03,    55,  1,     23,    113,2,19940113,1424,-61.8542, 139.8475, 4272,     43.0,   0.6380,  33.9560,2,  33.9610,2,    340.7,2,    349.3,2,    29.70,2,    27.60,2,     1.85,2,   2156.4,2
  09AR19940101,  SR03,    55,  1,     22,     22,2,19940113,1424,-61.8542, 139.8475, 4272,    116.3,  -0.6530,  34.1300,4,  34.1400,2,    304.7,2,    301.9,2,    47.70,2,    31.60,2,     2.23,2,   2194.5,2
  09AR19940101,  SR03,    55,  1,     21,    121,2,19940113,1424,-61.8542, 139.8475, 4272,    152.6,   1.4690,  34.4050,4,  34.4030,2,    201.3,2,    204.2,2,    62.50,2,    34.90,2,     2.46,2,   2238.0,2
  09AR19940101,  SR03,    55,  1,     20,    120,2,19940113,1424,-61.8542, 139.8475, 4272,    202.4,   1.7910,  34.4790,3,  34.4800,2,    183.5,2,    187.3,2,    66.10,2,    35.40,2,     2.49,2,   2246.1,6
  09AR19940101,  SR03,    55,  1,     19,    119,2,19940113,1424,-61.8542, 139.8475, 4272,    302.6,   2.0800,  34.5920,2,  34.5940,2,   -999.0,5,    173.0,2,    72.20,2,    34.60,2,     2.44,2,   2253.7,2
  09AR19940101,  SR03,    55,  1,     18,    118,2,19940113,1424,-61.8542, 139.8475, 4272,    402.8,   2.0750,  34.6440,2,  34.6470,2,    176.8,2,    175.0,2,    73.50,2,    33.80,2,     2.37,2,   2252.8,2
  09AR19940101,  SR03,    55,  1,     17,    117,2,19940113,1424,-61.8542, 139.8475, 4272,    503.8,   2.0950,  34.6770,2,  34.6860,2,    178.3,2,    177.8,2,    74.30,2,    33.00,2,     2.32,2,   2251.8,2
  09AR19940101,  SR03,    55,  1,     16,    116,2,19940113,1424,-61.8542, 139.8475, 4272,    603.6,   2.0450,  34.7030,2,  34.7050,2,    186.0,2,    181.6,2,    76.00,2,    32.50,2,     2.28,2,   2249.0,2
  09AR19940101,  SR03,    55,  1,     15,    115,2,19940113,1424,-61.8542, 139.8475, 4272,    703.2,   2.0090,  34.7190,2,  34.7230,2,    188.0,2,    185.4,2,    74.60,2,    31.80,2,     2.24,2,   2247.4,2
  09AR19940101,  SR03,    55,  1,     14,    114,2,19940113,1424,-61.8542, 139.8475, 4272,    801.0,   1.9230,  34.7280,2,  34.7300,2,    186.3,2,    187.8,2,    80.70,2,    31.70,2,     2.22,2,   2247.6,2
  09AR19940101,  SR03,    55,  1,     13,    124,2,19940113,1424,-61.8542, 139.8475, 4272,   1004.7,   1.8040,  34.7420,2,  34.7430,2,    195.2,2,    193.1,2,    80.90,2,    31.20,2,     2.19,2,   2246.8,2
  09AR19940101,  SR03,    55,  1,     12,     12,2,19940113,1424,-61.8542, 139.8475, 4272,   1201.0,   1.6410,  34.7450,2,  34.7470,2,    196.4,2,    197.1,2,    86.20,2,    31.20,2,     2.13,4,   2247.4,6
  09AR19940101,  SR03,    55,  1,     11,     11,2,19940113,1424,-61.8542, 139.8475, 4272,   1402.4,   1.4920,  34.7440,2,  34.7380,2,    199.2,2,    199.8,2,    89.90,2,    31.40,2,     2.16,2,   2249.0,2
  09AR19940101,  SR03,    55,  1,     10,     10,2,19940113,1424,-61.8542, 139.8475, 4272,   1702.3,   1.2380,  34.7330,2,  34.7330,2,    201.2,2,    203.1,2,    93.50,2,    31.60,2,     2.20,2,   2251.7,2
  09AR19940101,  SR03,    55,  1,      9,      9,2,19940113,1424,-61.8542, 139.8475, 4272,   2000.5,   0.9990,  34.7220,2,  34.7200,2,    208.4,2,    205.2,2,   101.90,2,    32.90,3,     2.24,2,   2255.7,2
  09AR19940101,  SR03,    55,  1,      8,      8,2,19940113,1424,-61.8542, 139.8475, 4272,   2301.1,   0.7810,  34.7110,2,  34.7090,2,    210.2,2,    208.3,2,   108.10,2,    32.50,2,     2.27,2,   2256.4,2
  09AR19940101,  SR03,    55,  1,      7,      7,2,19940113,1424,-61.8542, 139.8475, 4272,   2599.6,   0.5680,  34.7010,2,  34.6960,2,    212.6,2,    211.9,2,   113.00,2,    32.70,2,     2.29,2,   2258.0,2
  09AR19940101,  SR03,    55,  1,      6,      6,2,19940113,1424,-61.8542, 139.8475, 4272,   2899.3,   0.3880,  34.6930,2,  34.6850,2,    217.3,2,    216.9,2,   114.50,2,    32.80,2,     2.30,2,   2257.3,2
  09AR19940101,  SR03,    55,  1,      5,      5,2,19940113,1424,-61.8542, 139.8475, 4272,   3201.1,   0.2370,  34.6860,2,  34.6820,2,    222.4,2,    221.9,2,   114.00,2,    32.90,2,     2.29,2,   2255.8,6
  09AR19940101,  SR03,    55,  1,      4,      4,2,19940113,1424,-61.8542, 139.8475, 4272,   3497.2,   0.1320,  34.6820,2,  34.6820,2,    224.2,2,    226.4,2,   112.20,2,    32.70,2,     2.29,2,   2255.3,2
  09AR19940101,  SR03,    55,  1,      3,      3,2,19940113,1424,-61.8542, 139.8475, 4272,   3799.2,   0.0240,  34.6800,2,  34.6790,2,    230.5,2,    231.1,2,   108.60,2,    32.70,2,     2.28,2,   2253.9,2
  09AR19940101,  SR03,    55,  1,      2,      2,2,19940113,1424,-61.8542, 139.8475, 4272,   4103.3,  -0.0720,  34.6790,2,  34.6770,2,    236.6,2,    235.9,2,   103.10,2,    32.60,2,     2.27,2,   2253.1,2
  09AR19940101,  SR03,    55,  1,      1,      1,2,19940113,1424,-61.8542, 139.8475, 4272,   4340.3,  -0.1290,  34.6770,2,  34.6750,2,    237.6,2,    238.7,2,   105.00,2,    32.50,2,     2.27,2,   2252.2,2
  09AR19940101,  SR03,    56,  1,     24,     24,2,19940113,2112,-62.3467, 139.8447, 3927,     14.9,   1.0730,  33.8300,2,  33.8290,2,    341.1,2,    341.7,2,    45.60,2,    27.50,2,     1.84,4,   -999.0,9
  09AR19940101,  SR03,    56,  1,     23,    113,2,19940113,2112,-62.3467, 139.8447, 3927,     29.8,   0.9120,  33.8540,3,  33.8540,2,    344.5,2,    343.3,2,    43.50,2,    27.70,2,     1.90,2,   -999.0,9
  09AR19940101,  SR03,    56,  1,     22,     22,2,19940113,2112,-62.3467, 139.8447, 3927,     54.8,  -0.3330,  33.9850,2,  33.9870,2,    343.5,2,    344.8,2,    43.00,2,    28.10,2,     1.94,2,   -999.0,9
  09AR19940101,  SR03,    56,  1,     21,    121,2,19940113,2112,-62.3467, 139.8447, 3927,     77.9,  -1.2390,  34.1680,2,  34.1670,2,    319.8,2,    316.8,2,    49.40,2,    30.10,2,     2.10,2,   -999.0,9
  09AR19940101,  SR03,    56,  1,     20,    120,3,19940113,2112,-62.3467, 139.8447, 3927,    154.5,   1.4060,  34.5430,2,  34.5410,2,    197.0,2,    192.4,2,    69.40,2,    33.90,2,     2.38,2,   -999.0,9
  09AR19940101,  SR03,    56,  1,     19,    119,2,19940113,2112,-62.3467, 139.8447, 3927,    205.3,   1.7830,  34.6310,2,  34.6280,2,    174.9,2,    178.1,2,    73.90,2,    33.30,2,     2.36,2,   -999.0,9
  09AR19940101,  SR03,    56,  1,     18,    118,2,19940113,2112,-62.3467, 139.8447, 3927,    305.4,   1.8340,  34.6750,2,  34.6750,2,    181.2,2,    179.8,2,    76.10,2,    32.90,2,     2.30,2,   -999.0,9
  09AR19940101,  SR03,    56,  1,     17,    117,2,19940113,2112,-62.3467, 139.8447, 3927,    405.4,   1.8070,  34.6970,2,  34.6970,2,    181.9,2,    183.7,2,    76.90,2,    32.30,2,     2.26,2,   -999.0,9
  09AR19940101,  SR03,    56,  1,     16,    116,2,19940113,2112,-62.3467, 139.8447, 3927,    505.0,   1.8140,  34.7210,2,  34.7210,2,    187.7,2,    187.7,2,    78.90,2,    31.80,2,     2.20,2,   -999.0,9
  09AR19940101,  SR03,    56,  1,     15,    115,2,19940113,2112,-62.3467, 139.8447, 3927,    605.2,   1.7680,  34.7310,2,  34.7300,2,    190.6,2,    190.5,2,    79.80,2,    31.60,2,     2.17,2,   -999.0,9
  09AR19940101,  SR03,    56,  1,     14,    114,2,19940113,2112,-62.3467, 139.8447, 3927,    704.5,   1.7000,  34.7360,2,  34.7410,2,    194.9,2,    192.9,2,    81.70,2,    31.40,2,     2.16,2,   -999.0,9
  09AR19940101,  SR03,    56,  1,     13,    124,2,19940113,2112,-62.3467, 139.8447, 3927,    803.4,   1.6380,  34.7400,2,  34.7420,2,    196.7,2,    195.3,2,    83.60,2,    31.20,2,     2.15,2,   -999.0,9
  09AR19940101,  SR03,    56,  1,     12,     12,2,19940113,2112,-62.3467, 139.8447, 3927,   1005.5,   1.4720,  34.7410,2,  34.7440,2,    199.6,2,    199.0,2,    87.80,2,    31.10,2,     2.10,4,   -999.0,9
  09AR19940101,  SR03,    56,  1,     11,     11,2,19940113,2112,-62.3467, 139.8447, 3927,   1203.5,   1.2410,  34.7290,2,  34.7280,2,    198.6,2,    203.0,2,    91.60,2,    31.30,2,     2.16,2,   -999.0,9
  09AR19940101,  SR03,    56,  1,     10,     10,2,19940113,2112,-62.3467, 139.8447, 3927,   1404.1,   1.1560,  34.7300,2,  34.7280,2,    199.3,2,    203.4,2,    98.70,2,    31.30,2,     2.18,2,   -999.0,9
  09AR19940101,  SR03,    56,  1,      9,      9,2,19940113,2112,-62.3467, 139.8447, 3927,   1704.9,   0.9170,  34.7190,2,  34.7200,2,    204.0,2,    206.1,2,   104.90,2,    31.70,2,     2.20,2,   -999.0,9
  09AR19940101,  SR03,    56,  1,      8,      8,2,19940113,2112,-62.3467, 139.8447, 3927,   2003.3,   0.6920,  34.7080,2,  34.7080,2,    208.1,2,    209.0,2,   111.30,2,    32.30,2,     2.24,2,   -999.0,9
  09AR19940101,  SR03,    56,  1,      7,      7,2,19940113,2112,-62.3467, 139.8447, 3927,   2303.5,   0.4760,  34.6980,2,  34.6950,2,    212.3,2,    212.9,2,   115.90,2,    32.70,2,     2.26,2,   -999.0,9
  09AR19940101,  SR03,    56,  1,      6,      6,2,19940113,2112,-62.3467, 139.8447, 3927,   2600.2,   0.3080,  34.6900,2,  34.6870,2,    220.3,2,    218.6,2,   118.10,2,    32.70,2,     2.25,2,   -999.0,9
  09AR19940101,  SR03,    56,  1,      5,      5,2,19940113,2112,-62.3467, 139.8447, 3927,   2901.0,   0.1800,  34.6830,2,  34.6840,2,    222.6,2,    223.1,2,   118.10,2,    32.40,2,     2.26,2,   -999.0,9
  09AR19940101,  SR03,    56,  1,      4,      4,2,19940113,2112,-62.3467, 139.8447, 3927,   3201.8,   0.0630,  34.6810,2,  34.6830,2,    226.9,2,    227.9,2,   118.80,2,    32.30,2,     2.25,2,   -999.0,9
  09AR19940101,  SR03,    56,  1,      3,      3,2,19940113,2112,-62.3467, 139.8447, 3927,   3501.1,  -0.0520,  34.6800,2,  34.6800,2,    233.2,2,    232.8,2,   108.90,2,    32.30,2,     2.26,2,   -999.0,9
  09AR19940101,  SR03,    56,  1,      2,      2,2,19940113,2112,-62.3467, 139.8447, 3927,   3807.3,  -0.1370,  34.6750,2,  34.6770,2,    237.9,2,    237.7,2,   107.90,2,    32.20,2,     2.24,2,   -999.0,9
  09AR19940101,  SR03,    56,  1,      1,      1,2,19940113,2112,-62.3467, 139.8447, 3927,   3986.3,  -0.1880,  34.6750,2,  34.6740,2,    240.2,2,    240.8,2,   105.60,2,    32.30,2,     2.24,2,   -999.0,9
  09AR19940101,  SR03,    57,  1,     23,    113,2,19940114,0314,-62.8487, 139.8455, 3166,    105.0,   0.8100,  34.4620,2,-999.0000,9,   -999.0,5,   -999.0,9,  -999.00,9,  -999.00,9,  -999.00,9,   -999.0,9
  09AR19940101,  SR03,    57,  1,     22,     22,2,19940114,0314,-62.8487, 139.8455, 3166,    105.4,   0.7720,  34.4660,3,-999.0000,9,   -999.0,5,   -999.0,9,  -999.00,9,  -999.00,9,  -999.00,9,   -999.0,9
  09AR19940101,  SR03,    57,  1,     24,     24,2,19940114,0314,-62.8487, 139.8455, 3166,    105.9,   0.8240,  34.4670,3,-999.0000,9,   -999.0,5,   -999.0,9,  -999.00,9,  -999.00,9,  -999.00,9,   -999.0,9