BOTTLE,20230321CCHSIOENA
EXPOCODE,SECT_ID,STNNBR,CASTNO,SAMPNO,BTLNBR,BTLNBR_FLAG_W,DATE,TIME,LATITUDE,LONGITUDE,DEPTH,CTDPRS,CTDTMP,CTDSAL,CTDSAL_FLAG_W,SALNTY,SALNTY_FLAG_W,CTDOXY,CTDOXY_FLAG_W,OXYGEN,OXYGEN_FLAG_W,SILCAT,SILCAT_FLAG_W,NITRAT,NITRAT_FLAG_W,PHSPHT,PHSPHT_FLAG_W,TCARBN,TCARBN_FLAG_W
,,,,,,,,,,,METERS,DBAR,ITS-90,PSS-78,,PSS-78,,UMOL/KG,,UMOL/KG,,UMOL/KG,,UMOL/KG,,UMOL/KG,,UMOL/KG,
  09AR19940101,  SR03,    82,  1,     24,     24,2,19940126,2321,-65.5452,  85.4085, 2892,     13.4,  -0.6780,  33.4990,2,  33.4830,4,   -999.0,5,    383.2,2,    52.80,2,    17.90,2,     1.12,4,   -999.0,9
  09AR19940101,  SR03,    82,  1,     23,    113,2,19940126,2321,-65.5452,  85.4085, 2892,     53.3,  -1.5420,  34.0760,4,  34.0900,4,    324.1,2,    332.3,2,    60.20,2,    25.60,2,     1.91,2,   -999.0,9
  09AR19940101,  SR03,    82,  1,     22,     22,3,19940126,2321,-65.5452,  85.4085, 2892,    104.1,  -1.7950,  34.3470,2,  34.3430,4,   -999.0,5,    311.5,2,    64.00,2,    29.50,2,     2.05,2,   -999.0,9
  09AR19940101,  SR03,    82,  1,     21,    121,2,19940126,2321,-65.5452,  85.4085, 2892,    151.9,  -1.7640,  34.3650,2,  34.3590,4,    316.7,2,    310.1,2,    65.00,2,    29.90,2,     2.04,2,   -999.0,9
  09AR19940101,  SR03,    82,  1,     20,    120,2,19940126,2321,-65.5452,  85.4085, 2892,    203.7,  -1.6950,  34.3820,2,  34.3770,4,    316.5,2,    305.9,2,    65.60,2,    30.00,2,     2.06,2,   -999.0,9
  09AR19940101,  SR03,    82,  1,     19,    119,2,19940126,2321,-65.5452,  85.4085, 2892,    304.0,  -1.4530,  34.4300,4,  34.4290,4,    289.6,2,    301.7,2,    68.20,2,    30.00,2,     2.06,2,   -999.0,9
  09AR19940101,  SR03,    82,  1,     18,    118,2,19940126,2321,-65.5452,  85.4085, 2892,    403.8,  -0.3070,  34.5560,4,  34.5520,4,    250.2,2,    255.7,2,    80.80,2,    31.40,2,     2.14,2,   -999.0,9
  09AR19940101,  SR03,    82,  1,     17,    117,2,19940126,2321,-65.5452,  85.4085, 2892,    499.7,   0.7020,  34.6680,2,  34.6750,4,    213.9,2,    216.0,2,    93.50,2,    31.50,2,     2.18,2,   -999.0,9
  09AR19940101,  SR03,    82,  1,     16,    116,2,19940126,2321,-65.5452,  85.4085, 2892,    602.8,   0.8240,  34.6930,2,  34.7010,4,    207.0,2,    208.8,2,    99.70,2,    31.60,2,     2.20,2,   -999.0,9
  09AR19940101,  SR03,    82,  1,     15,    115,2,19940126,2321,-65.5452,  85.4085, 2892,    703.0,   0.7010,  34.6940,4,  34.6940,4,    212.9,2,    210.7,2,   103.30,2,    31.70,2,     2.21,2,   -999.0,9
  09AR19940101,  SR03,    82,  1,     14,    114,2,19940126,2321,-65.5452,  85.4085, 2892,    802.7,   0.5580,  34.6830,2,  34.6860,4,    214.0,2,    214.5,2,   106.00,2,    31.90,2,     2.22,2,   -999.0,9
  09AR19940101,  SR03,    82,  1,     13,    124,2,19940126,2321,-65.5452,  85.4085, 2892,    902.9,   0.4750,  34.6810,2,  34.6820,4,    216.7,2,    216.6,2,   108.10,2,    31.90,2,     2.22,2,   -999.0,9
  09AR19940101,  SR03,    82,  1,     12,     12,2,19940126,2321,-65.5452,  85.4085, 2892,   1003.7,   0.4150,  34.6810,2,  34.6950,4,    218.0,2,    216.4,2,   110.90,2,    32.00,2,     2.17,4,   -999.0,9
  09AR19940101,  SR03,    82,  1,     11,     11,2,19940126,2321,-65.5452,  85.4085, 2892,   1103.2,   0.3470,  34.6790,2,  34.6910,4,    220.4,2,    217.7,2,   112.60,2,    32.10,2,     2.21,2,   -999.0,9
  09AR19940101,  SR03,    82,  1,     10,     10,2,19940126,2321,-65.5452,  85.4085, 2892,   1198.9,   0.2730,  34.6780,2,  34.6870,4,    221.7,2,    219.5,2,   114.40,2,    32.10,2,     2.22,2,   -999.0,9
  09AR19940101,  SR03,    82,  1,      9,      9,2,19940126,2321,-65.5452,  85.4085, 2892,   1401.7,   0.1540,  34.6730,2,  34.6830,4,    224.7,2,    222.8,2,   116.20,2,    32.10,2,     2.23,2,   -999.0,9
  09AR19940101,  SR03,    82,  1,      8,      8,2,19940126,2321,-65.5452,  85.4085, 2892,   1599.7,   0.0920,  34.6710,2,  34.6860,4,    228.2,2,    224.2,2,   117.70,2,    32.30,2,     2.23,2,   -999.0,9
  09AR19940101,  SR03,    82,  1,      7,      7,2,19940126,2321,-65.5452,  85.4085, 2892,   1803.5,   0.0020,  34.6700,2,  34.6560,4,    228.8,2,    228.1,2,   117.40,2,    32.20,2,     2.23,2,   -999.0,9
  09AR19940101,  SR03,    82,  1,      6,      6,2,19940126,2321,-65.5452,  85.4085, 2892,   1997.2,  -0.0300,  34.6700,2,  34.6870,4,    230.8,2,    229.0,2,   118.00,2,    32.10,2,     2.24,2,   -999.0,9
  09AR19940101,  SR03,    82,  1,      5,      5,3,19940126,2321,-65.5452,  85.4085, 2892,   2195.5,  -0.0650,  34.6690,2,  34.6820,4,    230.5,2,    230.7,2,   117.90,2,    32.00,2,     2.24,2,   -999.0,9
  09AR19940101,  SR03,    82,  1,      4,      4,2,19940126,2321,-65.5452,  85.4085, 2892,   2397.4,  -0.0930,  34.6680,2,  34.6820,4,    231.0,2,    229.7,2,   117.80,2,    32.00,2,     2.24,2,   -999.0,9
  09AR19940101,  SR03,    82,  1,      3,      3,2,19940126,2321,-65.5452,  85.4085, 2892,   2598.0,  -0.1030,  34.6690,2,  34.6820,4,    231.2,2,    232.7,2,   118.30,2,    32.00,2,     2.23,2,   -999.0,9
  09AR19940101,  SR03,    82,  1,      2,      2,2,19940126,2321,-65.5452,  85.4085, 2892,   2801.1,  -0.1100,  34.6690,2,  34.6720,4,    230.4,2,    233.3,2,   118.50,2,    32.10,2,     2.24,2,   -999.0,9
  09AR19940101,  SR03,    82,  1,      1,      1,2,19940126,2321,-65.5452,  85.4085, 2892,   2930.6,  -0.1080,  34.6660,2,  34.6730,4,    230.3,2,    233.6,2,   118.90,2,    32.00,2,     2.25,2,   -999.0,9
  09AR19940101,  SR03,    83,  1,     24,     24,2,19940127,0336,-65.0935,  85.3192, 3052,     14.0,  -0.0630,  33.6520,2,  33.6500,4,    362.6,2,    359.7,2,    45.80,2,    22.80,2,     1.41,4,   2124.7,6
  09AR19940101,  SR03,    83,  1,     22,     22,3,19940127,0336,-65.0935,  85.3192, 3052,     28.8,  -0.6710,  33.6880,3,  33.6970,4,    357.8,2,    361.8,2,    45.60,2,    23.50,2,     1.59,2,   2131.4,2
  09AR19940101,  SR03,    83,  1,     20,    120,2,19940127,0336,-65.0935,  85.3192, 3052,     38.9,  -1.4690,  33.8950,3,  33.9400,4,    346.9,2,    346.5,2,    53.30,2,    24.10,2,     1.84,2,   -999.0,9
  09AR19940101,  SR03,    83,  1,     18,    118,2,19940127,0336,-65.0935,  85.3192, 3052,     53.9,  -1.6150,  34.1420,3,  34.1840,4,    331.6,2,    324.0,2,    56.10,2,    26.80,2,     1.98,2,   2186.3,2
  09AR19940101,  SR03,    83,  1,     16,    116,2,19940127,0336,-65.0935,  85.3192, 3052,     64.2,  -1.7300,  34.2950,2,  34.3330,4,    307.5,2,    309.3,2,    56.20,2,    28.70,2,     2.08,2,   2203.1,2
  09AR19940101,  SR03,    83,  1,     14,    114,2,19940127,0336,-65.0935,  85.3192, 3052,     84.4,  -1.7970,  34.3410,2,  34.3760,4,    307.1,2,    306.8,2,    55.20,2,    29.60,2,     2.08,2,   2208.0,2
  09AR19940101,  SR03,    83,  1,     12,     12,2,19940127,0336,-65.0935,  85.3192, 3052,    105.1,  -1.7980,  34.3520,2,  34.3930,4,    308.5,2,    306.3,2,    55.50,2,    30.10,2,     2.07,2,   2208.6,2
  09AR19940101,  SR03,    83,  1,     10,     10,2,19940127,0336,-65.0935,  85.3192, 3052,    134.6,  -1.7620,  34.3620,2,  34.4060,4,    309.1,2,    307.7,2,    56.90,2,    30.30,2,     2.07,2,   2209.4,2
  09AR19940101,  SR03,    83,  1,      8,      8,2,19940127,0336,-65.0935,  85.3192, 3052,    163.0,  -1.7090,  34.3720,2,  34.3700,4,    301.3,2,    309.9,2,    56.30,2,    30.10,2,     2.06,2,   2208.6,2
  09AR19940101,  SR03,    83,  1,      6,      6,2,19940127,0336,-65.0935,  85.3192, 3052,    193.6,  -1.5470,  34.3970,2,  34.3900,4,    300.7,2,    301.1,2,    58.70,2,    30.40,2,     2.09,2,   2212.2,2
  09AR19940101,  SR03,    83,  1,      4,      4,2,19940127,0336,-65.0935,  85.3192, 3052,    253.8,  -1.6510,  34.4190,2,  34.4180,4,    310.2,2,    310.5,2,    57.80,2,    30.10,2,     2.05,2,   2213.5,2
  09AR19940101,  SR03,    83,  1,      2,      2,2,19940127,0336,-65.0935,  85.3192, 3052,    306.2,  -1.5400,  34.4360,2,  34.4320,4,    307.4,2,    307.6,2,    61.30,2,    30.10,2,     2.07,2,   2215.6,2
  09AR19940101,  SR03,    84,  1,     24,     24,2,19940127,0603,-65.0962,  85.3195, 3068,     15.2,  -0.0860,  33.6370,3,  33.6320,4,    360.8,2,    360.3,2,    52.50,2,    22.60,2,     1.43,4,   2124.3,6
  09AR19940101,  SR03,    84,  1,     23,    113,2,19940127,0603,-65.0962,  85.3195, 3068,    105.1,  -1.7990,  34.3520,2,  34.3460,4,    307.0,2,    306.9,2,    64.90,2,    29.70,2,     2.07,2,   2207.8,2
  09AR19940101,  SR03,    84,  1,     22,    122,2,19940127,0603,-65.0962,  85.3195, 3068,    304.5,  -1.1380,  34.4600,4,  34.4570,4,    303.1,2,    288.9,2,    70.20,2,    30.40,2,     2.10,2,   2220.5,2
  09AR19940101,  SR03,    84,  1,     21,    121,2,19940127,0603,-65.0962,  85.3195, 3068,    403.5,  -0.1470,  34.5760,3,  34.5700,4,    240.3,2,    248.3,2,    82.70,2,    31.10,2,     2.17,2,   2236.0,2
  09AR19940101,  SR03,    84,  1,     20,    120,2,19940127,0603,-65.0962,  85.3195, 3068,    503.5,   0.6390,  34.6700,2,  34.6710,4,    208.1,2,    216.5,2,    93.60,2,    31.20,2,     2.21,2,   2247.6,2
  09AR19940101,  SR03,    84,  1,     19,    119,2,19940127,0603,-65.0962,  85.3195, 3068,    604.5,   0.8700,  34.7020,2,  34.7030,4,    206.5,2,    209.0,2,    97.60,2,    31.00,2,     2.21,2,   2251.2,2
  09AR19940101,  SR03,    84,  1,     18,    118,2,19940127,0603,-65.0962,  85.3195, 3068,    703.4,   0.7220,  34.6950,2,  34.6970,4,    208.4,2,    210.3,2,   101.00,2,    31.40,2,     2.22,2,   2251.6,2
  09AR19940101,  SR03,    84,  1,     17,    117,2,19940127,0603,-65.0962,  85.3195, 3068,    802.2,   0.6460,  34.6950,2,  34.6980,4,    210.8,2,    211.5,2,   104.40,2,    31.40,2,     2.22,2,   2253.1,2
  09AR19940101,  SR03,    84,  1,     16,    116,2,19940127,0603,-65.0962,  85.3195, 3068,    902.0,   0.5800,  34.6920,2,  34.6960,4,    212.9,2,    211.8,2,   106.70,2,    31.60,2,     2.23,2,   2254.0,2
  09AR19940101,  SR03,    84,  1,     15,    115,2,19940127,0603,-65.0962,  85.3195, 3068,   1001.7,   0.5480,  34.6950,2,  34.6980,4,    213.1,2,    211.2,2,   110.10,2,    31.90,2,     2.25,2,   2254.8,2
  09AR19940101,  SR03,    84,  1,     14,    114,2,19940127,0603,-65.0962,  85.3195, 3068,   1103.0,   0.4840,  34.6910,2,  34.6950,4,    214.8,2,    212.0,2,   111.50,2,    32.00,2,     2.26,2,   2256.5,2
  09AR19940101,  SR03,    84,  1,     13,    124,2,19940127,0603,-65.0962,  85.3195, 3068,   1202.7,   0.4180,  34.6890,2,  34.6910,4,    216.2,2,    213.4,2,   113.20,2,    31.70,2,     2.27,2,   2256.5,2
  09AR19940101,  SR03,    84,  1,     12,     12,2,19940127,0603,-65.0962,  85.3195, 3068,   1303.6,   0.3420,  34.6870,2,  34.6880,4,    217.3,2,    214.8,2,   112.20,2,    32.00,2,     2.22,4,   2256.7,2
  09AR19940101,  SR03,    84,  1,     11,     11,2,19940127,0603,-65.0962,  85.3195, 3068,   1393.2,   0.2830,  34.6840,2,  34.6860,4,    219.0,2,    217.2,2,   112.00,2,    31.80,2,     2.26,2,   2256.0,6
  09AR19940101,  SR03,    84,  1,     10,     10,2,19940127,0603,-65.0962,  85.3195, 3068,   1502.2,   0.2180,  34.6820,2,  34.6810,4,    220.5,2,    218.6,2,   113.70,2,    31.90,2,     2.27,2,   2256.5,2
  09AR19940101,  SR03,    84,  1,      9,      9,2,19940127,0603,-65.0962,  85.3195, 3068,   1601.6,   0.1720,  34.6790,2,  34.6800,4,    222.0,2,    220.9,2,   112.70,2,    31.70,2,     2.26,2,   2255.9,2
  09AR19940101,  SR03,    84,  1,      8,      8,2,19940127,0603,-65.0962,  85.3195, 3068,   1800.1,   0.0660,  34.6760,2,  34.6770,4,    226.6,2,    225.4,2,   111.50,2,    31.90,2,     2.26,2,   2253.9,2
  09AR19940101,  SR03,    84,  1,      7,      7,2,19940127,0603,-65.0962,  85.3195, 3068,   2000.6,   0.0160,  34.6740,2,  34.6750,4,    227.4,2,    226.9,2,   112.20,2,    31.70,2,     2.26,2,   2253.8,2
  09AR19940101,  SR03,    84,  1,      6,      6,2,19940127,0603,-65.0962,  85.3195, 3068,   2200.9,  -0.0310,  34.6740,2,  34.6750,4,    227.7,2,    229.1,2,   111.50,2,    31.50,2,     2.25,2,   2253.1,2
  09AR19940101,  SR03,    84,  1,      5,      5,2,19940127,0603,-65.0962,  85.3195, 3068,   2399.6,  -0.0830,  34.6720,2,  34.6740,4,    230.9,2,    231.1,2,   112.20,2,    31.60,2,     2.26,2,   2253.0,2
  09AR19940101,  SR03,    84,  1,      4,      4,2,19940127,0603,-65.0962,  85.3195, 3068,   2601.3,  -0.1090,  34.6730,2,  34.6760,4,    232.5,2,    232.5,2,   112.00,2,    32.00,2,     2.25,2,   2253.3,2
  09AR19940101,  SR03,    84,  1,      3,      3,2,19940127,0603,-65.0962,  85.3195, 3068,   2801.4,  -0.1350,  34.6710,2,  34.6750,4,    234.2,2,    234.4,2,   112.60,2,    31.70,2,     2.24,2,   2252.6,2
  09AR19940101,  SR03,    84,  1,      2,      2,2,19940127,0603,-65.0962,  85.3195, 3068,   3004.4,  -0.1780,  34.6710,2,  34.6740,4,    235.8,2,    236.3,2,   113.30,2,    32.00,2,     2.25,2,   2252.1,6
  09AR19940101,  SR03,    84,  1,      1,      1,2,19940127,0603,-65.0962,  85.3195, 3068,   3111.5,  -0.2330,  34.6670,2,  34.6720,4,    235.4,2,    238.2,2,   117.80,2,    32.00,2,     2.26,2,   2252.0,2
  09AR19940101,  SR03,    85,  1,     24,     24,2,19940127,1154,-64.6248,  85.0027, 3571,     14.1,   0.5980,  33.7360,4,  33.7460,4,    350.5,2,    348.4,2,    36.90,2,    25.40,2,     1.46,4,   -999.0,9
  09AR19940101,  SR03,    85,  1,     23,    113,2,19940127,1154,-64.6248,  85.0027, 3571,     53.8,  -1.5070,  34.2580,4,  34.2570,4,    285.5,2,    292.6,2,    57.60,2,    30.30,2,     2.08,2,   -999.0,9
  09AR19940101,  SR03,    85,  1,     22,    122,2,19940127,1154,-64.6248,  85.0027, 3571,     84.7,  -0.8220,  34.3680,4,  34.3390,4,    272.4,2,    270.5,2,    63.50,2,    31.40,2,     2.17,2,   -999.0,9
  09AR19940101,  SR03,    85,  1,     21,    121,2,19940127,1154,-64.6248,  85.0027, 3571,    123.2,   1.0100,  34.5340,4,  34.5400,4,    196.1,2,    198.6,2,    77.20,2,    33.70,2,     2.33,2,   -999.0,9
  09AR19940101,  SR03,    85,  1,     20,    120,2,19940127,1154,-64.6248,  85.0027, 3571,    154.4,   1.5350,  34.6100,2,  34.6130,4,    194.2,2,   -999.0,9,    81.30,2,    33.50,2,     2.34,2,   -999.0,9
  09AR19940101,  SR03,    85,  1,     19,    119,2,19940127,1154,-64.6248,  85.0027, 3571,    201.8,   1.3020,  34.6040,4,  34.6240,4,    191.3,2,    195.0,2,    80.50,2,    32.30,2,     2.28,2,   -999.0,9
  09AR19940101,  SR03,    85,  1,     18,    118,2,19940127,1154,-64.6248,  85.0027, 3571,    302.2,   1.2800,  34.6550,2,  34.6580,4,    191.9,2,    199.2,2,    83.40,2,    32.40,2,     2.23,2,   -999.0,9
  09AR19940101,  SR03,    85,  1,     17,    117,2,19940127,1154,-64.6248,  85.0027, 3571,    402.8,   1.4590,  34.6990,2,  34.7040,4,    192.9,2,    196.8,2,    85.90,2,    31.70,2,     2.18,2,   -999.0,9
  09AR19940101,  SR03,    85,  1,     16,    116,2,19940127,1154,-64.6248,  85.0027, 3571,    501.1,   1.5500,  34.7270,2,  34.7300,4,    198.6,2,    196.7,2,    88.20,2,    31.20,2,     2.15,2,   -999.0,9
  09AR19940101,  SR03,    85,  1,     15,    115,2,19940127,1154,-64.6248,  85.0027, 3571,    602.3,   1.4200,  34.7270,2,  34.7310,4,    198.8,2,    200.5,2,    91.00,2,    30.90,2,     2.14,2,   -999.0,9
  09AR19940101,  SR03,    85,  1,     14,    114,2,19940127,1154,-64.6248,  85.0027, 3571,    701.8,   1.3060,  34.7270,2,  34.7330,4,    201.7,2,    203.2,2,    94.10,2,    30.70,2,     2.13,2,   -999.0,9
  09AR19940101,  SR03,    85,  1,     13,    124,2,19940127,1154,-64.6248,  85.0027, 3571,    801.1,   1.1920,  34.7240,2,  34.7270,4,    205.6,2,    204.6,2,    96.60,2,    31.10,2,     2.14,2,   -999.0,9
  09AR19940101,  SR03,    85,  1,     12,     12,2,19940127,1154,-64.6248,  85.0027, 3571,   1002.6,   0.9600,  34.7150,2,  34.7160,4,    209.0,2,    207.0,2,   104.00,2,    32.10,2,     2.12,4,   -999.0,9
  09AR19940101,  SR03,    85,  1,     11,     11,2,19940127,1154,-64.6248,  85.0027, 3571,   1201.2,   0.7710,  34.7060,2,  34.7080,4,    211.5,2,    209.9,2,   107.50,2,    31.80,2,     2.18,2,   -999.0,9
  09AR19940101,  SR03,    85,  1,     10,     10,2,19940127,1154,-64.6248,  85.0027, 3571,   1402.3,   0.6720,  34.7050,2,  34.7040,4,    214.2,2,    209.7,2,   112.70,2,    31.80,2,     2.21,2,   -999.0,9
  09AR19940101,  SR03,    85,  1,      9,      9,2,19940127,1154,-64.6248,  85.0027, 3571,   1601.3,   0.5120,  34.6960,2,  34.6890,4,    217.4,2,    211.3,2,   118.10,2,    32.20,2,     2.25,2,   -999.0,9
  09AR19940101,  SR03,    85,  1,      8,      8,2,19940127,1154,-64.6248,  85.0027, 3571,   1802.8,   0.3730,  34.6880,2,  34.6870,4,    217.3,2,    213.5,2,   119.80,2,    32.90,2,     2.25,2,   -999.0,9
  09AR19940101,  SR03,    85,  1,      7,      7,2,19940127,1154,-64.6248,  85.0027, 3571,   2002.4,   0.2760,  34.6850,2,  34.6830,4,    218.1,2,    216.6,2,   122.30,2,    33.00,2,     2.27,2,   -999.0,9
  09AR19940101,  SR03,    85,  1,      6,      6,2,19940127,1154,-64.6248,  85.0027, 3571,   2203.1,   0.1860,  34.6790,2,  34.6770,4,    222.2,2,    219.9,2,   123.20,2,    33.20,2,     2.26,2,   -999.0,9
  09AR19940101,  SR03,    85,  1,      5,      5,2,19940127,1154,-64.6248,  85.0027, 3571,   2499.4,   0.0870,  34.6770,2,  34.6770,4,    224.6,2,    224.3,2,   124.20,2,    33.50,2,     2.27,2,   -999.0,9
  09AR19940101,  SR03,    85,  1,      4,      4,2,19940127,1154,-64.6248,  85.0027, 3571,   2799.7,  -0.0020,  34.6730,2,  34.6730,4,    228.3,2,    228.8,2,   122.90,2,    32.70,2,     2.26,2,   -999.0,9
  09AR19940101,  SR03,    85,  1,      3,      3,2,19940127,1154,-64.6248,  85.0027, 3571,   3099.8,  -0.0810,  34.6710,2,  34.6720,4,    230.8,2,    232.8,2,   121.10,2,    32.50,2,     2.25,2,   -999.0,9
  09AR19940101,  SR03,    85,  1,      2,      2,2,19940127,1154,-64.6248,  85.0027, 3571,   3399.7,  -0.1550,  34.6690,2,  34.6700,4,    233.8,2,    236.0,2,   122.50,2,    32.40,2,     2.25,2,   -999.0,9
  09AR19940101,  SR03,    85,  1,      1,      1,2,19940127,1154,-64.6248,  85.0027, 3571,   3624.1,  -0.1840,  34.6690,2,-999.0000,9,    235.4,2,   -999.0,9,  -999.00,9,  -999.00,9,  -999.00,9,   -999.0,9