BOTTLE,20230321CCHSIOENA
EXPOCODE,SECT_ID,STNNBR,CASTNO,SAMPNO,BTLNBR,BTLNBR_FLAG_W,DATE,TIME,LATITUDE,LONGITUDE,DEPTH,CTDPRS,CTDTMP,CTDSAL,CTDSAL_FLAG_W,SALNTY,SALNTY_FLAG_W,CTDOXY,CTDOXY_FLAG_W,OXYGEN,OXYGEN_FLAG_W,SILCAT,SILCAT_FLAG_W,NITRAT,NITRAT_FLAG_W,PHSPHT,PHSPHT_FLAG_W,TCARBN,TCARBN_FLAG_W
,,,,,,,,,,,METERS,DBAR,ITS-90,PSS-78,,PSS-78,,UMOL/KG,,UMOL/KG,,UMOL/KG,,UMOL/KG,,UMOL/KG,,UMOL/KG,
  09AR19940101,  SR03,    68,  1,     24,     24,2,19940116,0510,-65.5675, 139.8460,  862,     14.4,  -0.7830,  34.1190,2,-999.0000,9,    357.2,2,   -999.0,9,  -999.00,9,  -999.00,9,  -999.00,9,   -999.0,9
  09AR19940101,  SR03,    68,  1,     23,    113,2,19940116,0510,-65.5675, 139.8460,  862,     14.5,  -0.7830,  34.1190,2,  34.1250,2,    357.2,2,    354.0,2,    59.70,2,    26.30,2,     1.77,4,   -999.0,9
  09AR19940101,  SR03,    68,  1,     17,    117,2,19940116,0510,-65.5675, 139.8460,  862,     29.1,  -0.7410,  34.1840,4,-999.0000,9,    346.4,2,   -999.0,9,  -999.00,9,  -999.00,9,  -999.00,9,   -999.0,9
  09AR19940101,  SR03,    68,  1,     20,    120,2,19940116,0510,-65.5675, 139.8460,  862,     29.2,  -0.7590,  34.1930,3,-999.0000,9,    346.4,2,   -999.0,9,  -999.00,9,  -999.00,9,  -999.00,9,   -999.0,9
  09AR19940101,  SR03,    68,  1,     22,     22,2,19940116,0510,-65.5675, 139.8460,  862,     29.3,  -0.7610,  34.1960,2,-999.0000,9,    346.4,2,   -999.0,9,  -999.00,9,  -999.00,9,  -999.00,9,   -999.0,9
  09AR19940101,  SR03,    68,  1,     21,    121,2,19940116,0510,-65.5675, 139.8460,  862,     29.3,  -0.7560,  34.1920,2,-999.0000,9,    346.4,2,   -999.0,9,  -999.00,9,  -999.00,9,  -999.00,9,   -999.0,9
  09AR19940101,  SR03,    68,  1,     19,    119,2,19940116,0510,-65.5675, 139.8460,  862,     29.3,  -0.7610,  34.1950,2,-999.0000,9,    346.4,2,   -999.0,9,  -999.00,9,  -999.00,9,  -999.00,9,   -999.0,9
  09AR19940101,  SR03,    68,  1,     18,    118,2,19940116,0510,-65.5675, 139.8460,  862,     29.4,  -0.7640,  34.1960,2,-999.0000,9,    346.4,2,   -999.0,9,  -999.00,9,  -999.00,9,  -999.00,9,   -999.0,9
  09AR19940101,  SR03,    68,  1,     16,    116,2,19940116,0510,-65.5675, 139.8460,  862,     54.9,  -0.7600,  34.2520,2,-999.0000,9,    333.1,2,   -999.0,9,  -999.00,9,  -999.00,9,  -999.00,9,   -999.0,9
  09AR19940101,  SR03,    68,  1,     15,    115,2,19940116,0510,-65.5675, 139.8460,  862,     54.9,  -0.7590,  34.2540,2,  34.2520,2,    333.1,2,    306.8,2,    57.80,2,    26.50,2,  -999.00,9,   -999.0,9
  09AR19940101,  SR03,    68,  1,     14,    114,2,19940116,0510,-65.5675, 139.8460,  862,     79.4,  -1.3860,  34.3160,3,-999.0000,9,    319.2,2,   -999.0,9,  -999.00,9,  -999.00,9,  -999.00,9,   -999.0,9
  09AR19940101,  SR03,    68,  1,     13,    124,2,19940116,0510,-65.5675, 139.8460,  862,     79.5,  -1.4700,  34.3120,3,-999.0000,9,    319.2,2,   -999.0,9,  -999.00,9,  -999.00,9,  -999.00,9,   -999.0,9
  09AR19940101,  SR03,    68,  1,     12,     12,2,19940116,0510,-65.5675, 139.8460,  862,    104.2,  -1.7450,  34.3750,2,-999.0000,9,    320.5,2,   -999.0,9,  -999.00,9,  -999.00,9,  -999.00,9,   -999.0,9
  09AR19940101,  SR03,    68,  1,     11,     11,2,19940116,0510,-65.5675, 139.8460,  862,    104.3,  -1.7450,  34.3750,3,  34.3750,2,    320.5,2,    346.9,2,    65.10,2,    29.70,2,     2.06,2,   -999.0,9
  09AR19940101,  SR03,    68,  1,      9,      9,2,19940116,0510,-65.5675, 139.8460,  862,    154.1,  -1.6990,  34.4290,2,  34.4270,2,    306.5,2,    304.0,2,    68.20,2,    30.60,2,     2.09,2,   -999.0,9
  09AR19940101,  SR03,    68,  1,     10,     10,2,19940116,0510,-65.5675, 139.8460,  862,    154.5,  -1.7000,  34.4300,2,-999.0000,9,    306.5,2,   -999.0,9,  -999.00,9,  -999.00,9,  -999.00,9,   -999.0,9
  09AR19940101,  SR03,    68,  1,      8,      8,2,19940116,0510,-65.5675, 139.8460,  862,    213.9,  -1.4340,  34.4790,2,  34.4760,2,    296.5,2,    291.4,2,    70.20,2,    30.50,2,     2.12,2,   -999.0,9
  09AR19940101,  SR03,    68,  1,      7,      7,2,19940116,0510,-65.5675, 139.8460,  862,    314.2,  -0.7090,  34.5530,2,  34.5550,2,    258.7,2,    261.4,2,    76.90,2,    30.90,2,     2.15,2,   -999.0,9
  09AR19940101,  SR03,    68,  1,      6,      6,2,19940116,0510,-65.5675, 139.8460,  862,    403.4,  -0.2180,  34.6170,4,  34.6090,2,    246.6,2,    244.0,2,    82.50,2,    31.00,2,     2.17,2,   -999.0,9
  09AR19940101,  SR03,    68,  1,      5,      5,2,19940116,0510,-65.5675, 139.8460,  862,    523.7,   0.1350,  34.6610,2,  34.6590,2,    228.8,2,    226.5,2,    96.50,3,    32.00,3,     2.20,2,   -999.0,9
  09AR19940101,  SR03,    68,  1,      4,      4,2,19940116,0510,-65.5675, 139.8460,  862,    603.3,   0.1410,  34.6610,2,  34.6580,2,    225.0,2,    226.3,2,    91.70,2,    31.30,2,     2.21,2,   -999.0,9
  09AR19940101,  SR03,    68,  1,      3,      3,2,19940116,0510,-65.5675, 139.8460,  862,    703.3,   0.0640,  34.6660,2,  34.6670,2,    231.0,2,    227.4,2,    98.70,2,    31.30,2,     2.22,2,   -999.0,9
  09AR19940101,  SR03,    68,  1,      2,      2,2,19940116,0510,-65.5675, 139.8460,  862,    803.4,  -0.2400,  34.6500,2,  34.6490,2,    242.3,2,    242.5,2,    93.00,2,    31.40,2,     2.20,2,   -999.0,9
  09AR19940101,  SR03,    68,  1,      1,      1,2,19940116,0510,-65.5675, 139.8460,  862,    878.8,  -0.3750,  34.6530,2,  34.6500,2,    247.8,2,    247.1,2,    94.90,2,    31.10,2,     2.20,2,   -999.0,9
  09AR19940101,  SR03,    69,  1,     24,     24,2,19940116,0744,-65.7070, 139.8480,  298,     14.9,  -0.6980,  34.1470,2,-999.0000,9,    348.0,2,   -999.0,9,  -999.00,9,  -999.00,9,  -999.00,9,   -999.0,9
  09AR19940101,  SR03,    69,  1,     23,    113,2,19940116,0744,-65.7070, 139.8480,  298,     14.9,  -0.6990,  34.1460,2,  34.1550,4,    348.0,2,    352.4,2,    60.40,2,    26.70,2,     1.78,4,   2178.9,6
  09AR19940101,  SR03,    69,  1,     21,    121,2,19940116,0744,-65.7070, 139.8480,  298,     29.2,  -0.6900,  34.2390,2,  34.2520,4,    346.6,2,    342.8,2,    58.60,2,    26.80,2,     1.82,2,   2187.1,2
  09AR19940101,  SR03,    69,  1,     22,     22,2,19940116,0744,-65.7070, 139.8480,  298,     29.4,  -0.6830,  34.2370,2,-999.0000,9,    346.6,2,   -999.0,9,  -999.00,9,  -999.00,9,  -999.00,9,   -999.0,9
  09AR19940101,  SR03,    69,  1,     15,    115,2,19940116,0744,-65.7070, 139.8480,  298,     54.1,  -0.8440,  34.2920,2,  34.3050,4,    321.8,2,    284.7,2,    54.00,2,    27.60,2,     1.83,4,   2194.0,2
  09AR19940101,  SR03,    69,  1,     20,    120,2,19940116,0744,-65.7070, 139.8480,  298,     54.3,  -0.8200,  34.2840,2,-999.0000,9,    321.8,2,   -999.0,9,  -999.00,9,  -999.00,9,  -999.00,9,   -999.0,9
  09AR19940101,  SR03,    69,  1,     18,    118,2,19940116,0744,-65.7070, 139.8480,  298,     54.4,  -0.8420,  34.2940,2,-999.0000,9,    321.8,2,   -999.0,9,  -999.00,9,  -999.00,9,  -999.00,9,   -999.0,9
  09AR19940101,  SR03,    69,  1,     19,    119,2,19940116,0744,-65.7070, 139.8480,  298,     54.5,  -0.8210,  34.2850,2,-999.0000,9,    321.8,2,   -999.0,9,  -999.00,9,  -999.00,9,  -999.00,9,   -999.0,9
  09AR19940101,  SR03,    69,  1,     16,    116,2,19940116,0744,-65.7070, 139.8480,  298,     54.5,  -0.8500,  34.2960,2,-999.0000,9,    321.8,2,   -999.0,9,  -999.00,9,  -999.00,9,  -999.00,9,   -999.0,9
  09AR19940101,  SR03,    69,  1,     17,    117,2,19940116,0744,-65.7070, 139.8480,  298,     54.7,  -0.8540,  34.2980,2,-999.0000,9,    321.8,2,   -999.0,9,  -999.00,9,  -999.00,9,  -999.00,9,   -999.0,9
  09AR19940101,  SR03,    69,  1,     14,    114,2,19940116,0744,-65.7070, 139.8480,  298,     79.4,  -1.0330,  34.3690,4,-999.0000,9,    299.5,2,   -999.0,9,  -999.00,9,  -999.00,9,  -999.00,9,   -999.0,9
  09AR19940101,  SR03,    69,  1,     13,    124,2,19940116,0744,-65.7070, 139.8480,  298,     79.4,  -1.0440,  34.3790,4,  34.3880,4,    299.5,2,    314.6,2,    65.70,2,    28.20,2,     1.96,2,   2207.2,2
  09AR19940101,  SR03,    69,  1,     11,     11,2,19940116,0744,-65.7070, 139.8480,  298,    104.5,  -1.1650,  34.4690,2,  34.4820,4,    284.4,2,    275.1,2,    73.00,2,    29.60,2,     2.08,2,   2223.1,2
  09AR19940101,  SR03,    69,  1,     12,     12,2,19940116,0744,-65.7070, 139.8480,  298,    104.6,  -1.1650,  34.4710,2,-999.0000,9,    284.4,2,   -999.0,9,  -999.00,9,  -999.00,9,  -999.00,9,   -999.0,9
  09AR19940101,  SR03,    69,  1,      9,      9,2,19940116,0744,-65.7070, 139.8480,  298,    134.0,  -1.0500,  34.5050,2,  34.5120,4,    271.0,2,    279.5,2,    76.90,2,    30.30,2,     2.11,2,   2228.3,2
  09AR19940101,  SR03,    69,  1,     10,     10,2,19940116,0744,-65.7070, 139.8480,  298,    134.5,  -1.0580,  34.5020,2,-999.0000,9,    271.0,2,   -999.0,9,  -999.00,9,  -999.00,9,  -999.00,9,   -999.0,9
  09AR19940101,  SR03,    69,  1,      8,      8,2,19940116,0744,-65.7070, 139.8480,  298,    164.2,  -0.9920,  34.5280,2,-999.0000,9,    264.7,2,   -999.0,9,  -999.00,9,  -999.00,9,  -999.00,9,   -999.0,9
  09AR19940101,  SR03,    69,  1,      7,      7,2,19940116,0744,-65.7070, 139.8480,  298,    164.5,  -0.9890,  34.5310,2,  34.5380,4,    264.7,2,    264.1,2,    74.20,2,    30.90,2,     2.13,2,   2231.7,2
  09AR19940101,  SR03,    69,  1,      5,      5,2,19940116,0744,-65.7070, 139.8480,  298,    205.4,  -0.8000,  34.5650,3,  34.5750,4,    256.5,2,    259.4,2,    78.90,2,    30.90,2,     2.14,2,   2237.6,2
  09AR19940101,  SR03,    69,  1,      6,      6,2,19940116,0744,-65.7070, 139.8480,  298,    206.3,  -0.8110,  34.5610,2,-999.0000,9,    256.5,2,   -999.0,9,  -999.00,9,  -999.00,9,  -999.00,9,   -999.0,9
  09AR19940101,  SR03,    69,  1,      3,      3,2,19940116,0744,-65.7070, 139.8480,  298,    233.8,  -0.4930,  34.6120,3,  34.6180,4,    254.3,2,    251.4,2,    85.30,2,    30.90,2,     2.16,2,   2242.4,2
  09AR19940101,  SR03,    69,  1,      4,      4,2,19940116,0744,-65.7070, 139.8480,  298,    234.4,  -0.5170,  34.6060,3,-999.0000,9,    254.3,2,   -999.0,9,  -999.00,9,  -999.00,9,  -999.00,9,   -999.0,9
  09AR19940101,  SR03,    69,  1,      2,      2,2,19940116,0744,-65.7070, 139.8480,  298,    261.4,  -0.4860,  34.6340,2,  34.6390,4,    254.1,2,    252.1,2,    87.90,2,    31.30,2,     2.17,2,   -999.0,9
  09AR19940101,  SR03,    69,  1,      1,      1,2,19940116,0744,-65.7070, 139.8480,  298,    293.6,  -0.5870,  34.6270,2,  34.6340,4,    256.8,2,    257.2,2,    85.30,2,    31.20,2,     2.17,2,   2243.5,2
  09AR19940101,  SR03,    70,  1,     18,    118,2,19940116,0927,-65.8058, 139.8503,  212,     14.2,  -0.5720,  34.2100,2,-999.0000,9,    319.1,2,   -999.0,9,  -999.00,9,  -999.00,9,  -999.00,9,   -999.0,9
  09AR19940101,  SR03,    70,  1,     22,     22,2,19940116,0927,-65.8058, 139.8503,  212,     14.3,  -0.5690,  34.2130,2,-999.0000,9,    319.1,2,   -999.0,9,  -999.00,9,  -999.00,9,  -999.00,9,   -999.0,9
  09AR19940101,  SR03,    70,  1,     23,    113,2,19940116,0927,-65.8058, 139.8503,  212,     14.4,  -0.5700,  34.2110,2,-999.0000,9,    319.1,2,   -999.0,9,  -999.00,9,  -999.00,9,  -999.00,9,   -999.0,9
  09AR19940101,  SR03,    70,  1,     20,    120,2,19940116,0927,-65.8058, 139.8503,  212,     14.4,  -0.5680,  34.2090,2,-999.0000,9,    319.1,2,   -999.0,9,  -999.00,9,  -999.00,9,  -999.00,9,   -999.0,9
  09AR19940101,  SR03,    70,  1,     17,    117,2,19940116,0927,-65.8058, 139.8503,  212,     14.4,  -0.5720,  34.2110,2,-999.0000,9,    319.1,2,   -999.0,9,  -999.00,9,  -999.00,9,  -999.00,9,   -999.0,9
  09AR19940101,  SR03,    70,  1,     15,    115,2,19940116,0927,-65.8058, 139.8503,  212,     14.4,  -0.5740,  34.2120,2,  34.2140,4,    319.1,2,    316.5,2,    55.90,2,    27.20,2,     1.78,4,   2185.4,2
  09AR19940101,  SR03,    70,  1,     24,     24,2,19940116,0927,-65.8058, 139.8503,  212,     14.5,  -0.5660,  34.2130,2,-999.0000,9,    319.1,2,   -999.0,9,  -999.00,9,  -999.00,9,  -999.00,9,   -999.0,9
  09AR19940101,  SR03,    70,  1,     21,    121,2,19940116,0927,-65.8058, 139.8503,  212,     14.5,  -0.5700,  34.2100,2,-999.0000,9,    319.1,2,   -999.0,9,  -999.00,9,  -999.00,9,  -999.00,9,   -999.0,9
  09AR19940101,  SR03,    70,  1,     19,    119,2,19940116,0927,-65.8058, 139.8503,  212,     14.5,  -0.5710,  34.2110,2,-999.0000,9,    319.1,2,   -999.0,9,  -999.00,9,  -999.00,9,  -999.00,9,   -999.0,9
  09AR19940101,  SR03,    70,  1,     16,    116,2,19940116,0927,-65.8058, 139.8503,  212,     14.5,  -0.5720,  34.2110,2,-999.0000,9,    319.1,2,   -999.0,9,  -999.00,9,  -999.00,9,  -999.00,9,   -999.0,9
  09AR19940101,  SR03,    70,  1,     14,    114,2,19940116,0927,-65.8058, 139.8503,  212,     27.8,  -0.6320,  34.2290,2,-999.0000,9,    311.9,2,   -999.0,9,  -999.00,9,  -999.00,9,  -999.00,9,   -999.0,9
  09AR19940101,  SR03,    70,  1,     13,    124,2,19940116,0927,-65.8058, 139.8503,  212,     27.9,  -0.6770,  34.2450,4,  34.2530,4,    311.9,2,   -999.0,9,    57.00,2,    27.10,2,     1.82,2,   2189.0,6
  09AR19940101,  SR03,    70,  1,     11,     11,2,19940116,0927,-65.8058, 139.8503,  212,     53.4,  -0.8100,  34.3260,2,  34.3310,4,    305.9,2,    285.2,2,    58.00,2,    27.10,2,     1.87,2,   2196.8,2
  09AR19940101,  SR03,    70,  1,     12,     12,2,19940116,0927,-65.8058, 139.8503,  212,     53.6,  -0.8140,  34.3250,2,-999.0000,9,    305.9,2,   -999.0,9,  -999.00,9,  -999.00,9,  -999.00,9,   -999.0,9
  09AR19940101,  SR03,    70,  1,     10,     10,2,19940116,0927,-65.8058, 139.8503,  212,     78.3,  -1.0360,  34.3970,2,-999.0000,9,    297.7,2,   -999.0,9,  -999.00,9,  -999.00,9,  -999.00,9,   -999.0,9
  09AR19940101,  SR03,    70,  1,      9,      9,2,19940116,0927,-65.8058, 139.8503,  212,     78.6,  -1.0570,  34.4010,2,  34.4100,4,    297.7,2,   -999.0,9,    64.20,2,    28.50,2,     1.98,2,   2210.6,2
  09AR19940101,  SR03,    70,  1,      8,      8,2,19940116,0927,-65.8058, 139.8503,  212,    104.5,  -1.1000,  34.4950,2,-999.0000,9,    276.4,2,   -999.0,9,  -999.00,9,  -999.00,9,  -999.00,9,   -999.0,9
  09AR19940101,  SR03,    70,  1,      7,      7,2,19940116,0927,-65.8058, 139.8503,  212,    104.5,  -1.0960,  34.4990,3,  34.5070,4,    276.4,2,    275.7,2,    64.50,2,    30.30,2,     2.11,2,   2227.7,2
  09AR19940101,  SR03,    70,  1,      6,      6,2,19940116,0927,-65.8058, 139.8503,  212,    128.8,  -1.0090,  34.5300,2,-999.0000,9,    273.6,2,   -999.0,9,  -999.00,9,  -999.00,9,  -999.00,9,   -999.0,9
  09AR19940101,  SR03,    70,  1,      5,      5,2,19940116,0927,-65.8058, 139.8503,  212,    128.8,  -0.9970,  34.5370,3,  34.5430,4,    273.6,2,   -999.0,9,    73.30,2,    30.70,2,     2.13,2,   2233.7,2
  09AR19940101,  SR03,    70,  1,      4,      4,2,19940116,0927,-65.8058, 139.8503,  212,    154.3,  -1.1480,  34.5750,3,-999.0000,9,    275.4,2,   -999.0,9,  -999.00,9,  -999.00,9,  -999.00,9,   -999.0,9
  09AR19940101,  SR03,    70,  1,      3,      3,2,19940116,0927,-65.8058, 139.8503,  212,    154.4,  -1.1930,  34.5790,2,  34.5910,4,    275.4,2,    275.8,2,    76.60,2,    30.90,2,     2.13,2,   2238.0,2
  09AR19940101,  SR03,    70,  1,      2,      2,2,19940116,0927,-65.8058, 139.8503,  212,    184.6,  -1.0770,  34.5950,2,  34.6050,4,    274.9,2,    280.7,2,    74.00,2,    31.00,2,     2.15,2,   2238.9,2
  09AR19940101,  SR03,    70,  1,      1,      1,2,19940116,0927,-65.8058, 139.8503,  212,    206.3,  -1.0260,  34.5990,2,  34.6090,4,    278.3,2,    274.1,2,    76.30,2,    31.10,2,     2.15,2,   2240.2,2
  09AR19940101,  SR03,    71,  1,     12,     12,2,19940116,1745,-66.4585, 140.1968,  965,     14.0,  -0.9090,  34.3860,2,  34.4010,4,    338.4,2,    335.8,2,    66.40,7,    28.20,2,     1.93,4,   2202.5,2
  09AR19940101,  SR03,    71,  1,     11,     11,2,19940116,1745,-66.4585, 140.1968,  965,     53.8,  -0.9200,  34.4120,2,  34.4180,4,   -999.0,5,    336.5,2,    64.10,7,    27.80,2,     1.93,2,   2202.9,2
  09AR19940101,  SR03,    71,  1,     10,     10,2,19940116,1745,-66.4585, 140.1968,  965,    104.3,  -1.0420,  34.4270,2,  34.4330,4,    329.6,2,    332.2,2,    66.80,7,    28.30,2,     1.95,2,   2205.7,2
  09AR19940101,  SR03,    71,  1,      9,      9,2,19940116,1745,-66.4585, 140.1968,  965,    154.2,  -1.1580,  34.4460,3,  34.4570,4,    323.9,2,    327.4,2,    68.10,7,    28.90,2,     1.97,2,   2210.2,2
  09AR19940101,  SR03,    71,  1,      8,      8,2,19940116,1745,-66.4585, 140.1968,  965,    204.3,  -1.3730,  34.4970,2,  34.5030,4,    315.0,2,    314.1,2,    70.50,7,    30.00,2,     2.05,2,   2220.0,2
  09AR19940101,  SR03,    71,  1,      7,      7,2,19940116,1745,-66.4585, 140.1968,  965,    304.7,  -1.4780,  34.5340,2,  34.5420,4,    310.5,2,    306.7,2,    71.10,7,    30.40,2,     2.10,2,   2225.4,6
  09AR19940101,  SR03,    71,  1,      6,      6,2,19940116,1745,-66.4585, 140.1968,  965,    403.3,  -1.4840,  34.5560,2,  34.5630,4,    298.8,2,    302.4,2,    75.70,7,    30.60,2,     2.12,2,   2228.5,2
  09AR19940101,  SR03,    71,  1,      5,      5,2,19940116,1745,-66.4585, 140.1968,  965,    504.3,  -1.4180,  34.5730,2,  34.5790,4,    299.2,2,    297.5,2,    77.70,7,    30.60,2,     2.13,2,   2230.0,2
  09AR19940101,  SR03,    71,  1,      4,      4,2,19940116,1745,-66.4585, 140.1968,  965,    603.2,  -1.4510,  34.5810,2,  34.5890,4,    300.4,2,    297.7,2,    76.80,7,    30.60,2,     2.14,2,   2231.6,2
  09AR19940101,  SR03,    71,  1,      3,      3,2,19940116,1745,-66.4585, 140.1968,  965,    802.8,  -1.5670,  34.5920,2,  34.6050,4,    303.1,2,    301.9,2,    74.80,7,    30.50,2,     2.14,2,   2230.9,2
  09AR19940101,  SR03,    71,  1,      2,      2,2,19940116,1745,-66.4585, 140.1968,  965,    903.7,  -1.7090,  34.5930,2,  34.6000,4,    309.3,2,    308.1,2,    73.70,7,    30.20,2,     2.13,2,   2231.2,2
  09AR19940101,  SR03,    71,  1,      1,      1,2,19940116,1745,-66.4585, 140.1968,  965,    997.8,  -1.7670,  34.5960,2,  34.6070,4,    304.6,2,    308.3,2,    75.10,7,    30.50,2,     2.15,2,   2231.6,6