BOTTLE,20230321CCHSIOENA
EXPOCODE,SECT_ID,STNNBR,CASTNO,SAMPNO,BTLNBR,BTLNBR_FLAG_W,DATE,TIME,LATITUDE,LONGITUDE,DEPTH,CTDPRS,CTDTMP,CTDSAL,CTDSAL_FLAG_W,SALNTY,SALNTY_FLAG_W,CTDOXY,CTDOXY_FLAG_W,OXYGEN,OXYGEN_FLAG_W,SILCAT,SILCAT_FLAG_W,NITRAT,NITRAT_FLAG_W,PHSPHT,PHSPHT_FLAG_W,TCARBN,TCARBN_FLAG_W
,,,,,,,,,,,METERS,DBAR,ITS-90,PSS-78,,PSS-78,,UMOL/KG,,UMOL/KG,,UMOL/KG,,UMOL/KG,,UMOL/KG,,UMOL/KG,
  09AR19940101,  SR03,   102,  1,     23,    113,2,19940223,1630,-65.4280, 139.1807,  939,     15.9,  -0.8790,  34.0360,2,  34.0370,2,    331.2,3,    338.8,2,  -999.00,9,  -999.00,9,  -999.00,9,   -999.0,9
  09AR19940101,  SR03,   102,  1,     24,     24,2,19940223,1630,-65.4280, 139.1807,  939,     16.0,  -0.8790,  34.0360,2,  34.0510,2,    331.2,3,    338.7,2,  -999.00,9,  -999.00,9,  -999.00,9,   -999.0,9
  09AR19940101,  SR03,   102,  1,     21,     23,2,19940223,1630,-65.4280, 139.1807,  939,     55.7,  -0.8880,  34.0390,2,  34.0330,2,    339.5,2,    339.1,2,  -999.00,9,  -999.00,9,  -999.00,9,   -999.0,9
  09AR19940101,  SR03,   102,  1,     22,    117,2,19940223,1630,-65.4280, 139.1807,  939,     57.3,  -0.8890,  34.0400,2,  34.0390,2,    339.7,2,    339.0,2,  -999.00,9,  -999.00,9,  -999.00,9,   -999.0,9
  09AR19940101,  SR03,   102,  1,     19,     13,3,19940223,1630,-65.4280, 139.1807,  939,    104.2,  -1.6650,  34.3850,2,  34.3860,2,    311.9,2,    308.8,2,  -999.00,9,  -999.00,9,  -999.00,9,   -999.0,9
  09AR19940101,  SR03,   102,  1,     20,    119,2,19940223,1630,-65.4280, 139.1807,  939,    105.3,  -1.6620,  34.3860,3,  34.3770,2,    312.2,2,    309.2,2,  -999.00,9,  -999.00,9,  -999.00,9,   -999.0,9
  09AR19940101,  SR03,   102,  1,     17,     21,2,19940223,1630,-65.4280, 139.1807,  939,    206.8,  -1.3570,  34.4870,2,  34.4870,2,    280.1,2,    287.9,2,  -999.00,9,  -999.00,9,  -999.00,9,   -999.0,9
  09AR19940101,  SR03,   102,  1,     18,    124,2,19940223,1630,-65.4280, 139.1807,  939,    206.9,  -1.3570,  34.4850,2,  34.4860,2,    280.1,2,    287.9,2,  -999.00,9,  -999.00,9,  -999.00,9,   -999.0,9
  09AR19940101,  SR03,   102,  1,     15,     20,2,19940223,1630,-65.4280, 139.1807,  939,    304.6,  -0.4360,  34.5840,3,  34.5830,2,    264.8,2,    254.0,2,  -999.00,9,  -999.00,9,  -999.00,9,   -999.0,9
  09AR19940101,  SR03,   102,  1,     16,    116,2,19940223,1630,-65.4280, 139.1807,  939,    306.2,  -0.4510,  34.5820,2,  34.5830,2,    263.8,2,    254.0,2,  -999.00,9,  -999.00,9,  -999.00,9,   -999.0,9
  09AR19940101,  SR03,   102,  1,     13,     19,2,19940223,1630,-65.4280, 139.1807,  939,    405.0,   0.0890,  34.6370,4,  34.6330,2,    265.7,2,    236.6,2,  -999.00,9,  -999.00,9,  -999.00,9,   -999.0,9
  09AR19940101,  SR03,   102,  1,     14,    115,2,19940223,1630,-65.4280, 139.1807,  939,    405.1,   0.0460,  34.6410,4,  34.6350,2,    263.7,2,    235.5,2,  -999.00,9,  -999.00,9,  -999.00,9,   -999.0,9
  09AR19940101,  SR03,   102,  1,     11,     18,2,19940223,1630,-65.4280, 139.1807,  939,    504.6,  -0.1190,  34.6360,2,  34.6360,2,    234.1,2,    238.9,2,  -999.00,9,  -999.00,9,  -999.00,9,   -999.0,9
  09AR19940101,  SR03,   102,  1,     12,     12,2,19940223,1630,-65.4280, 139.1807,  939,    505.8,  -0.1190,  34.6370,2,  34.6360,2,    235.5,2,    238.7,2,  -999.00,9,  -999.00,9,  -999.00,9,   -999.0,9
  09AR19940101,  SR03,   102,  1,     10,    120,2,19940223,1630,-65.4280, 139.1807,  939,    607.2,  -0.4710,  34.6150,2,  34.6110,2,    259.8,2,    253.3,2,  -999.00,9,  -999.00,9,  -999.00,9,   -999.0,9
  09AR19940101,  SR03,   102,  1,      9,     17,2,19940223,1630,-65.4280, 139.1807,  939,    607.6,  -0.4740,  34.6160,2,  34.6160,2,    259.8,2,    253.3,2,  -999.00,9,  -999.00,9,  -999.00,9,   -999.0,9
  09AR19940101,  SR03,   102,  1,      7,     16,2,19940223,1630,-65.4280, 139.1807,  939,    702.6,  -0.5800,  34.6100,2,  34.6110,2,    256.4,2,    257.1,2,  -999.00,9,  -999.00,9,  -999.00,9,   -999.0,9
  09AR19940101,  SR03,   102,  1,      8,     11,2,19940223,1630,-65.4280, 139.1807,  939,    703.3,  -0.5920,  34.6080,2,  34.6100,2,    255.3,2,    257.4,2,  -999.00,9,  -999.00,9,  -999.00,9,   -999.0,9
  09AR19940101,  SR03,   102,  1,      5,     15,3,19940223,1630,-65.4280, 139.1807,  939,    775.9,  -0.4360,  34.6280,2,  34.6280,2,    253.9,2,    250.7,2,  -999.00,9,  -999.00,9,  -999.00,9,   -999.0,9
  09AR19940101,  SR03,   102,  1,      6,     10,2,19940223,1630,-65.4280, 139.1807,  939,    776.4,  -0.4360,  34.6280,2,  34.6270,2,    253.9,2,    250.1,2,  -999.00,9,  -999.00,9,  -999.00,9,   -999.0,9
  09AR19940101,  SR03,   102,  1,      3,     22,2,19940223,1630,-65.4280, 139.1807,  939,    854.7,  -0.4680,  34.6270,2,  34.6260,2,    251.0,2,    251.9,2,  -999.00,9,  -999.00,9,  -999.00,9,   -999.0,9
  09AR19940101,  SR03,   102,  1,      4,    114,2,19940223,1630,-65.4280, 139.1807,  939,    856.4,  -0.4710,  34.6250,2,  34.6260,2,    251.1,2,    252.0,2,  -999.00,9,  -999.00,9,  -999.00,9,   -999.0,9
  09AR19940101,  SR03,   102,  1,      1,     14,2,19940223,1630,-65.4280, 139.1807,  939,    926.5,  -0.4950,  34.6240,2,  34.6230,2,    251.6,2,    253.4,2,  -999.00,9,  -999.00,9,  -999.00,9,   -999.0,9
  09AR19940101,  SR03,   102,  1,      2,      2,2,19940223,1630,-65.4280, 139.1807,  939,    927.5,  -0.4900,  34.6240,2,  34.6250,2,    251.5,2,    253.4,2,  -999.00,9,  -999.00,9,  -999.00,9,   -999.0,9