BOTTLE,20230321CCHSIOENA
EXPOCODE,SECT_ID,STNNBR,CASTNO,SAMPNO,BTLNBR,BTLNBR_FLAG_W,DATE,TIME,LATITUDE,LONGITUDE,DEPTH,CTDPRS,CTDTMP,CTDSAL,CTDSAL_FLAG_W,SALNTY,SALNTY_FLAG_W,CTDOXY,CTDOXY_FLAG_W,OXYGEN,OXYGEN_FLAG_W,SILCAT,SILCAT_FLAG_W,NITRAT,NITRAT_FLAG_W,PHSPHT,PHSPHT_FLAG_W,TCARBN,TCARBN_FLAG_W
,,,,,,,,,,,METERS,DBAR,ITS-90,PSS-78,,PSS-78,,UMOL/KG,,UMOL/KG,,UMOL/KG,,UMOL/KG,,UMOL/KG,,UMOL/KG,
  09AR19940101,  SR03,    61,  1,     24,     24,2,19940114,2310,-64.2857, 139.8877, 3426,     14.2,  -0.5760,  33.7360,2,  33.7410,2,    347.2,2,    344.4,2,    58.20,2,    27.20,2,     1.83,4,   -999.0,9
  09AR19940101,  SR03,    61,  1,     23,    113,2,19940114,2310,-64.2857, 139.8877, 3426,     29.8,  -0.3480,  33.8100,3,  33.8050,2,    338.1,2,    343.1,2,    55.90,2,    27.20,2,     1.88,2,   -999.0,9
  09AR19940101,  SR03,    61,  1,     22,     22,2,19940114,2310,-64.2857, 139.8877, 3426,     44.3,  -1.3830,  34.0000,4,  33.9520,2,    334.9,2,    327.2,2,    59.00,2,    27.90,2,     1.98,2,   -999.0,9
  09AR19940101,  SR03,    61,  1,     21,    121,2,19940114,2310,-64.2857, 139.8877, 3426,     78.2,  -1.1750,  34.3340,2,  34.3310,2,    278.2,2,    283.6,2,    67.40,2,    30.60,2,     2.18,2,   -999.0,9
  09AR19940101,  SR03,    61,  1,     20,    120,2,19940114,2310,-64.2857, 139.8877, 3426,    104.4,  -0.7640,  34.3880,2,  34.3910,2,    266.2,2,    267.8,2,    68.50,2,    30.90,2,     2.21,2,   -999.0,9
  09AR19940101,  SR03,    61,  1,     19,    119,2,19940114,2310,-64.2857, 139.8877, 3426,    184.2,   1.3750,  34.6450,2,  34.6430,2,    198.4,2,    194.1,2,    81.10,2,    32.20,2,     2.30,2,   -999.0,9
  09AR19940101,  SR03,    61,  1,     18,    118,2,19940114,2310,-64.2857, 139.8877, 3426,    303.9,   1.5790,  34.7080,3,  34.7050,2,    190.1,2,    192.9,2,    79.50,2,    31.40,2,     2.24,2,   -999.0,9
  09AR19940101,  SR03,    61,  1,     17,    117,2,19940114,2310,-64.2857, 139.8877, 3426,    403.0,   1.4810,  34.7110,3,  34.7150,2,    195.2,2,    196.5,2,    85.60,2,    31.10,2,     2.21,2,   -999.0,9
  09AR19940101,  SR03,    61,  1,     16,    116,2,19940114,2310,-64.2857, 139.8877, 3426,    503.2,   1.3340,  34.7090,3,  34.7120,2,    204.2,2,    202.7,2,    86.70,2,    30.90,2,     2.20,2,   -999.0,9
  09AR19940101,  SR03,    61,  1,     15,    115,2,19940114,2310,-64.2857, 139.8877, 3426,    603.4,   1.1890,  34.7100,2,  34.7090,2,    208.1,2,    205.6,2,    87.50,2,    30.90,2,     2.20,2,   -999.0,9
  09AR19940101,  SR03,    61,  1,     14,    114,2,19940114,2310,-64.2857, 139.8877, 3426,    702.4,   1.1500,  34.7140,3,  34.7150,2,    203.9,2,    205.4,2,    93.40,2,    30.80,2,     2.20,2,   -999.0,9
  09AR19940101,  SR03,    61,  1,     13,    124,2,19940114,2310,-64.2857, 139.8877, 3426,    803.4,   1.1020,  34.7150,3,  34.7180,2,    203.7,2,    205.7,2,    92.70,2,    31.00,2,     2.20,2,   -999.0,9
  09AR19940101,  SR03,    61,  1,     12,     12,2,19940114,2310,-64.2857, 139.8877, 3426,    902.9,   1.0580,  34.7160,2,  34.7200,2,    205.8,2,    205.7,2,    95.00,2,    30.70,2,     2.13,4,   -999.0,9
  09AR19940101,  SR03,    61,  1,     11,     11,2,19940114,2310,-64.2857, 139.8877, 3426,   1103.5,   0.8800,  34.7100,2,  34.7090,2,    204.9,2,    207.7,2,    97.00,2,    31.30,2,     2.20,2,   -999.0,9
  09AR19940101,  SR03,    61,  1,     10,     10,2,19940114,2310,-64.2857, 139.8877, 3426,   1306.0,   0.7160,  34.6990,2,  34.7020,2,    207.3,2,    209.0,2,   106.20,2,    31.40,2,     2.23,2,   -999.0,9
  09AR19940101,  SR03,    61,  1,      9,      9,2,19940114,2310,-64.2857, 139.8877, 3426,   1501.6,   0.5750,  34.6980,2,  34.6980,2,    210.4,2,    211.5,2,   109.20,2,    31.50,2,     2.26,2,   -999.0,9
  09AR19940101,  SR03,    61,  1,      8,      8,2,19940114,2310,-64.2857, 139.8877, 3426,   1700.5,   0.4230,  34.6830,2,  34.6880,2,    215.6,2,    214.8,2,   109.10,2,    31.60,2,     2.27,2,   -999.0,9
  09AR19940101,  SR03,    61,  1,      7,      7,2,19940114,2310,-64.2857, 139.8877, 3426,   1901.2,   0.3000,  34.6860,3,  34.6860,2,    221.1,2,    217.8,2,   102.10,3,    31.60,2,     2.27,2,   -999.0,9
  09AR19940101,  SR03,    61,  1,      6,      6,2,19940114,2310,-64.2857, 139.8877, 3426,   2099.9,   0.2060,  34.6790,2,  34.6830,2,    224.8,2,    220.6,2,   111.10,2,    31.70,2,     2.28,2,   -999.0,9
  09AR19940101,  SR03,    61,  1,      5,      5,2,19940114,2310,-64.2857, 139.8877, 3426,   2401.7,   0.0730,  34.6800,3,  34.6820,2,    227.5,2,    225.4,2,   109.30,2,    31.50,2,     2.27,2,   -999.0,9
  09AR19940101,  SR03,    61,  1,      4,      4,2,19940114,2310,-64.2857, 139.8877, 3426,   2701.3,  -0.0320,  34.6780,3,  34.6790,2,    231.6,2,    230.7,2,   100.70,3,    31.40,2,     2.26,2,   -999.0,9
  09AR19940101,  SR03,    61,  1,      3,      3,2,19940114,2310,-64.2857, 139.8877, 3426,   3000.1,  -0.1550,  34.6760,2,  34.6740,2,    236.7,2,    235.5,2,   107.40,2,    31.30,2,     2.26,2,   -999.0,9
  09AR19940101,  SR03,    61,  1,      2,      2,2,19940114,2310,-64.2857, 139.8877, 3426,   3301.9,  -0.3240,  34.6670,2,  34.6700,2,    243.5,2,    246.0,2,    98.00,2,    31.10,2,     2.24,2,   -999.0,9
  09AR19940101,  SR03,    61,  1,      1,      1,2,19940114,2310,-64.2857, 139.8877, 3426,   3476.4,  -0.3930,  34.6610,2,  34.6600,2,    249.5,2,    250.8,2,    96.00,2,    31.00,2,     2.23,2,   -999.0,9
  09AR19940101,  SR03,    62,  1,     20,    120,2,19940115,0418,-64.8210, 139.8440, 2566,    154.0,  -0.5400,  34.4920,2,-999.0000,9,   -999.0,5,   -999.0,9,  -999.00,9,  -999.00,9,  -999.00,9,   -999.0,9
  09AR19940101,  SR03,    62,  1,     21,    121,2,19940115,0418,-64.8210, 139.8440, 2566,    154.4,  -0.5540,  34.4950,2,-999.0000,9,   -999.0,5,   -999.0,9,  -999.00,9,  -999.00,9,  -999.00,9,   -999.0,9
  09AR19940101,  SR03,    62,  1,     24,     24,2,19940115,0418,-64.8210, 139.8440, 2566,    154.5,  -0.5510,  34.4950,2,-999.0000,9,   -999.0,5,   -999.0,9,  -999.00,9,  -999.00,9,  -999.00,9,   -999.0,9
  09AR19940101,  SR03,    62,  1,     23,    113,2,19940115,0418,-64.8210, 139.8440, 2566,    154.5,  -0.5520,  34.4940,2,-999.0000,9,   -999.0,5,   -999.0,9,  -999.00,9,  -999.00,9,  -999.00,9,   -999.0,9
  09AR19940101,  SR03,    62,  1,     22,     22,2,19940115,0418,-64.8210, 139.8440, 2566,    154.6,  -0.5510,  34.4940,2,-999.0000,9,   -999.0,5,   -999.0,9,  -999.00,9,  -999.00,9,  -999.00,9,   -999.0,9
  09AR19940101,  SR03,    63,  1,     24,     24,2,19940115,0540,-64.8178, 139.8498, 2566,     11.7,  -1.3270,  33.4010,2,  33.4230,4,    360.6,2,    356.2,2,    56.30,2,    26.40,2,     1.77,4,   2129.5,6
  09AR19940101,  SR03,    63,  1,     23,    113,2,19940115,0540,-64.8178, 139.8498, 2566,     52.4,  -1.6020,  34.0660,4,  34.0660,2,    326.1,2,    334.3,2,    60.80,2,    28.00,2,     1.95,2,   2179.9,2
  09AR19940101,  SR03,    63,  1,     22,     22,2,19940115,0540,-64.8178, 139.8498, 2566,     93.1,  -1.5550,  34.3590,3,  34.3620,2,    307.9,2,    301.9,2,    63.40,2,    30.40,2,     2.13,2,   2212.5,2
  09AR19940101,  SR03,    63,  1,     21,    121,2,19940115,0540,-64.8178, 139.8498, 2566,    152.8,  -1.4810,  34.4240,2,  34.4320,2,    292.9,2,    294.6,2,    70.60,2,    30.60,2,     2.14,2,   2219.0,2
  09AR19940101,  SR03,    63,  1,     20,    120,2,19940115,0540,-64.8178, 139.8498, 2566,    202.3,  -0.7600,  34.4980,4,  34.5020,2,    249.8,2,    272.1,2,    75.00,2,    31.00,2,     2.17,2,   2227.7,2
  09AR19940101,  SR03,    63,  1,     19,    119,2,19940115,0540,-64.8178, 139.8498, 2566,    302.5,   0.4180,  34.6240,2,  34.6250,2,    226.9,2,    229.6,2,    78.30,2,    31.30,2,     2.19,2,   2241.2,2
  09AR19940101,  SR03,    63,  1,     18,    118,2,19940115,0540,-64.8178, 139.8498, 2566,    402.9,   0.5950,  34.6590,2,  34.6540,2,    219.4,2,    224.9,2,    80.40,2,    31.10,2,     2.18,2,   2244.4,2
  09AR19940101,  SR03,    63,  1,     17,    117,2,19940115,0540,-64.8178, 139.8498, 2566,    482.1,   1.0180,  34.7090,2,  34.7070,2,    206.8,2,    208.8,2,    79.20,2,    31.30,2,     2.18,2,   2248.0,2
  09AR19940101,  SR03,    63,  1,     16,    116,2,19940115,0540,-64.8178, 139.8498, 2566,    601.9,   0.8750,  34.7010,2,  34.7010,2,    209.4,2,    210.3,2,    88.30,2,    31.20,2,     2.20,2,   2249.1,2
  09AR19940101,  SR03,    63,  1,     15,    115,2,19940115,0540,-64.8178, 139.8498, 2566,    701.9,   0.8290,  34.7050,2,  34.7020,2,    211.5,2,    210.2,2,    92.30,2,    31.50,2,     2.20,2,   2252.1,6
  09AR19940101,  SR03,    63,  1,     14,    114,2,19940115,0540,-64.8178, 139.8498, 2566,    800.8,   0.8460,  34.7130,2,  34.7130,2,    208.3,2,    207.9,2,    93.90,2,    31.50,2,     2.21,2,   2252.9,2
  09AR19940101,  SR03,    63,  1,     13,    124,2,19940115,0540,-64.8178, 139.8498, 2566,    901.1,   0.6760,  34.6980,2,  34.6980,2,    210.8,2,    210.8,2,    98.80,2,    31.60,2,     2.23,2,   2254.2,2
  09AR19940101,  SR03,    63,  1,     12,     12,2,19940115,0540,-64.8178, 139.8498, 2566,   1002.3,   0.6010,  34.7000,2,  34.6970,2,    213.8,2,    211.1,2,   101.50,2,    32.00,2,     2.18,4,   2255.3,2
  09AR19940101,  SR03,    63,  1,     11,     11,2,19940115,0540,-64.8178, 139.8498, 2566,   1101.7,   0.5490,  34.7000,2,  34.6970,2,    213.5,2,    211.3,2,   103.00,2,    32.10,2,     2.22,2,   2256.2,2
  09AR19940101,  SR03,    63,  1,     10,     10,2,19940115,0540,-64.8178, 139.8498, 2566,   1202.1,   0.4680,  34.6940,2,  34.6930,2,    215.5,2,    213.2,2,   106.30,2,    32.00,2,     2.24,2,   2258.9,2
  09AR19940101,  SR03,    63,  1,      9,      9,2,19940115,0540,-64.8178, 139.8498, 2566,   1401.3,   0.2980,  34.6870,2,  34.6860,2,    217.4,2,    217.3,2,   106.10,2,    32.10,2,     2.24,2,   2255.3,2
  09AR19940101,  SR03,    63,  1,      8,      8,2,19940115,0540,-64.8178, 139.8498, 2566,   1601.9,   0.1900,  34.6850,2,  34.6860,2,    219.5,2,    220.1,2,   105.50,2,    32.40,2,     2.24,2,   2255.4,2
  09AR19940101,  SR03,    63,  1,      7,      7,2,19940115,0540,-64.8178, 139.8498, 2566,   1801.0,   0.0820,  34.6860,2,  34.6840,2,    224.4,2,    224.0,2,   109.90,2,    32.10,2,     2.24,2,   2255.3,2
  09AR19940101,  SR03,    63,  1,      6,      6,2,19940115,0540,-64.8178, 139.8498, 2566,   2000.0,  -0.0370,  34.6810,2,  34.6800,2,    230.2,2,    229.1,2,   104.80,2,    32.10,2,     2.23,2,   2253.3,2
  09AR19940101,  SR03,    63,  1,      5,      5,2,19940115,0540,-64.8178, 139.8498, 2566,   2100.9,  -0.0730,  34.6790,2,  34.6810,2,    232.7,2,    231.1,2,   101.00,2,    32.00,2,     2.23,2,   2252.7,2
  09AR19940101,  SR03,    63,  1,      4,      4,2,19940115,0540,-64.8178, 139.8498, 2566,   2200.8,  -0.1140,  34.6790,2,  34.6800,2,    234.1,2,    233.5,2,    95.20,2,    31.90,2,     2.21,2,   2252.7,2
  09AR19940101,  SR03,    63,  1,      3,      3,2,19940115,0540,-64.8178, 139.8498, 2566,   2349.9,  -0.1560,  34.6840,2,  34.6860,2,    234.3,2,    234.1,2,    95.30,2,    32.00,2,     2.21,2,   2253.0,2
  09AR19940101,  SR03,    63,  1,      2,      2,2,19940115,0540,-64.8178, 139.8498, 2566,   2480.2,  -0.1860,  34.6850,2,  34.6870,2,    234.6,2,    235.3,2,    94.80,2,    32.20,2,     2.22,2,   2252.3,2
  09AR19940101,  SR03,    63,  1,      1,      1,2,19940115,0540,-64.8178, 139.8498, 2566,   2569.3,  -0.2630,  34.6790,2,  34.6830,2,    237.6,2,    239.2,2,    94.90,2,    31.90,2,     2.21,2,   2251.7,6
  09AR19940101,  SR03,    64,  1,     24,     24,2,19940115,1001,-65.0775, 139.8488, 2649,     13.5,  -1.0540,  33.7010,2,  33.7040,2,    363.6,2,    356.2,2,    57.20,2,    26.00,2,     1.72,4,   -999.0,9
  09AR19940101,  SR03,    64,  1,     23,    113,2,19940115,1001,-65.0775, 139.8488, 2649,     44.3,  -1.4880,  33.7640,3,  33.7630,2,    344.6,2,    353.9,2,    57.50,2,    26.20,2,     1.79,2,   -999.0,9
  09AR19940101,  SR03,    64,  1,     22,     22,2,19940115,1001,-65.0775, 139.8488, 2649,     78.6,  -1.4650,  34.3880,3,  34.4040,4,    292.5,2,    294.6,2,    67.80,2,    30.10,2,     2.09,2,   -999.0,9
  09AR19940101,  SR03,    64,  1,     21,    121,2,19940115,1001,-65.0775, 139.8488, 2649,    104.0,  -1.2250,  34.4420,2,  34.4550,4,    291.7,2,    282.3,2,    71.30,2,    30.60,2,     2.12,2,   -999.0,9
  09AR19940101,  SR03,    64,  1,     20,    120,2,19940115,1001,-65.0775, 139.8488, 2649,    152.7,  -0.8330,  34.5110,2,  34.5250,4,    268.8,2,    268.9,2,    76.40,2,    30.70,2,     2.14,2,   -999.0,9
  09AR19940101,  SR03,    64,  1,     19,    119,2,19940115,1001,-65.0775, 139.8488, 2649,    201.6,   0.2470,  34.6090,4,  34.6240,4,    238.3,2,    232.8,2,    83.40,2,    30.80,2,     2.16,2,   -999.0,9
  09AR19940101,  SR03,    64,  1,     18,    118,2,19940115,1001,-65.0775, 139.8488, 2649,    303.3,   0.9670,  34.6900,2,  34.7030,4,    208.3,2,    209.9,2,    90.50,2,    31.10,2,     2.16,2,   -999.0,9
  09AR19940101,  SR03,    64,  1,     17,    117,2,19940115,1001,-65.0775, 139.8488, 2649,    402.7,   0.9140,  34.6940,2,  34.7050,4,    207.8,2,    210.5,2,    90.60,2,    31.00,2,     2.16,2,   -999.0,9
  09AR19940101,  SR03,    64,  1,     16,    116,2,19940115,1001,-65.0775, 139.8488, 2649,    502.5,   0.9010,  34.7010,2,  34.7130,4,    211.8,2,    209.1,2,    93.80,2,    31.20,2,     2.17,2,   -999.0,9
  09AR19940101,  SR03,    64,  1,     15,    115,2,19940115,1001,-65.0775, 139.8488, 2649,    601.1,   0.7790,  34.6960,2,  34.7090,4,    213.7,2,    209.7,2,    98.60,2,    31.30,2,     2.19,2,   -999.0,9
  09AR19940101,  SR03,    64,  1,     14,    114,2,19940115,1001,-65.0775, 139.8488, 2649,    702.5,   0.6830,  34.6940,2,  34.6940,2,    209.0,2,    210.0,2,   101.20,2,    31.50,2,     2.20,2,   -999.0,9
  09AR19940101,  SR03,    64,  1,     13,    124,2,19940115,1001,-65.0775, 139.8488, 2649,    805.0,   0.6160,  34.6910,2,  34.6910,2,    207.5,2,    210.5,2,   101.80,2,    31.40,2,     2.21,2,   -999.0,9
  09AR19940101,  SR03,    64,  1,     12,     12,2,19940115,1001,-65.0775, 139.8488, 2649,    902.7,   0.5790,  34.6960,2,  34.6940,2,    206.9,2,    210.3,2,   108.90,2,    31.90,2,     2.17,4,   -999.0,9
  09AR19940101,  SR03,    64,  1,     11,     11,2,19940115,1001,-65.0775, 139.8488, 2649,   1001.8,   0.5350,  34.6950,2,  34.6960,2,    208.4,2,    211.2,2,   112.80,2,    32.10,2,     2.21,2,   -999.0,9
  09AR19940101,  SR03,    64,  1,     10,     10,2,19940115,1001,-65.0775, 139.8488, 2649,   1202.3,   0.3850,  34.6880,2,  34.6880,2,    211.9,2,    214.5,2,   109.80,2,    32.20,2,     2.23,2,   -999.0,9
  09AR19940101,  SR03,    64,  1,      9,      9,2,19940115,1001,-65.0775, 139.8488, 2649,   1401.0,   0.2230,  34.6790,2,  34.6800,2,    217.2,2,    219.7,2,   112.30,2,    32.10,2,     2.23,2,   -999.0,9
  09AR19940101,  SR03,    64,  1,      8,      8,2,19940115,1001,-65.0775, 139.8488, 2649,   1602.0,   0.1410,  34.6810,2,  34.6800,2,    218.7,2,    222.2,2,   107.00,2,    32.00,2,     2.23,2,   -999.0,9
  09AR19940101,  SR03,    64,  1,      7,      7,2,19940115,1001,-65.0775, 139.8488, 2649,   1801.6,   0.0640,  34.6810,2,  34.6810,2,    224.4,2,    225.8,2,   108.00,2,    31.80,2,     2.23,2,   -999.0,9
  09AR19940101,  SR03,    64,  1,      6,      6,2,19940115,1001,-65.0775, 139.8488, 2649,   2001.4,  -0.0480,  34.6790,2,  34.6770,2,    231.4,2,    229.8,2,   107.00,2,    31.50,2,     2.22,2,   -999.0,9
  09AR19940101,  SR03,    64,  1,      5,      5,2,19940115,1001,-65.0775, 139.8488, 2649,   2151.4,  -0.1210,  34.6750,2,  34.6750,2,    234.9,2,    233.3,2,   103.00,2,    31.30,2,     2.21,2,   -999.0,9
  09AR19940101,  SR03,    64,  1,      4,      4,2,19940115,1001,-65.0775, 139.8488, 2649,   2302.1,  -0.2460,  34.6660,2,  34.6640,2,    242.4,2,    240.2,2,    97.70,2,    31.00,2,     2.20,2,   -999.0,9
  09AR19940101,  SR03,    64,  1,      3,      3,2,19940115,1001,-65.0775, 139.8488, 2649,   2500.2,  -0.2780,  34.6710,2,  34.6700,2,    242.8,2,    241.3,2,    99.10,2,    31.00,2,     2.20,2,   -999.0,9
  09AR19940101,  SR03,    64,  1,      2,      2,2,19940115,1001,-65.0775, 139.8488, 2649,   2659.5,  -0.3070,  34.6680,2,  34.6670,2,    242.8,2,    242.9,2,    96.00,2,    31.30,2,     2.20,2,   -999.0,9
  09AR19940101,  SR03,    64,  1,      1,      1,2,19940115,1001,-65.0775, 139.8488, 2649,   2750.7,  -0.2950,  34.6700,2,  34.6670,2,    241.9,2,    243.1,2,    96.30,2,    31.50,2,     2.20,2,   -999.0,9