BOTTLE,20230321CCHSIOENA
EXPOCODE,SECT_ID,STNNBR,CASTNO,SAMPNO,BTLNBR,BTLNBR_FLAG_W,DATE,TIME,LATITUDE,LONGITUDE,DEPTH,CTDPRS,CTDTMP,CTDSAL,CTDSAL_FLAG_W,SALNTY,SALNTY_FLAG_W,CTDOXY,CTDOXY_FLAG_W,OXYGEN,OXYGEN_FLAG_W,SILCAT,SILCAT_FLAG_W,NITRAT,NITRAT_FLAG_W,PHSPHT,PHSPHT_FLAG_W,TCARBN,TCARBN_FLAG_W
,,,,,,,,,,,METERS,DBAR,ITS-90,PSS-78,,PSS-78,,UMOL/KG,,UMOL/KG,,UMOL/KG,,UMOL/KG,,UMOL/KG,,UMOL/KG,
  09AR19940101,  SR03,    89,  1,     18,    118,2,19940128,0536,-63.2903,  83.7472, 2746,     13.8,   1.0570,  33.7700,2,  33.7590,2,   -999.0,5,   -999.0,9,    19.80,2,    24.30,2,     0.03,4,   2136.8,2
  09AR19940101,  SR03,    89,  1,     19,    119,2,19940128,0536,-63.2903,  83.7472, 2746,     14.0,   1.0620,  33.7680,2,-999.0000,9,   -999.0,5,   -999.0,9,  -999.00,9,  -999.00,9,  -999.00,9,   -999.0,9
  09AR19940101,  SR03,    89,  1,     24,     24,2,19940128,0536,-63.2903,  83.7472, 2746,     14.1,   1.0580,  33.7700,2,-999.0000,9,   -999.0,5,   -999.0,9,  -999.00,9,  -999.00,9,  -999.00,9,   -999.0,9
  09AR19940101,  SR03,    89,  1,     23,    113,2,19940128,0536,-63.2903,  83.7472, 2746,     14.1,   1.0720,  33.7700,2,-999.0000,9,   -999.0,5,   -999.0,9,  -999.00,9,  -999.00,9,  -999.00,9,   -999.0,9
  09AR19940101,  SR03,    89,  1,     21,    121,2,19940128,0536,-63.2903,  83.7472, 2746,     14.1,   1.0630,  33.7700,2,-999.0000,9,   -999.0,5,   -999.0,9,  -999.00,9,  -999.00,9,  -999.00,9,   -999.0,9
  09AR19940101,  SR03,    89,  1,     20,    120,2,19940128,0536,-63.2903,  83.7472, 2746,     14.1,   1.0600,  33.7690,2,-999.0000,9,   -999.0,5,   -999.0,9,  -999.00,9,  -999.00,9,  -999.00,9,   -999.0,9
  09AR19940101,  SR03,    89,  1,     17,    117,2,19940128,0536,-63.2903,  83.7472, 2746,     14.1,   1.0530,  33.7690,2,-999.0000,9,   -999.0,5,   -999.0,9,  -999.00,9,  -999.00,9,  -999.00,9,   -999.0,9
  09AR19940101,  SR03,    89,  1,     22,    122,2,19940128,0536,-63.2903,  83.7472, 2746,     14.2,   1.0710,  33.7690,2,-999.0000,9,   -999.0,5,   -999.0,9,  -999.00,9,  -999.00,9,  -999.00,9,   -999.0,9
  09AR19940101,  SR03,    89,  1,     16,    116,2,19940128,0536,-63.2903,  83.7472, 2746,     34.6,   0.9430,  33.7820,2,  33.7840,2,   -999.0,5,    259.9,4,    30.50,2,    26.00,2,     1.53,2,   2139.4,2
  09AR19940101,  SR03,    89,  1,     15,    115,2,19940128,0536,-63.2903,  83.7472, 2746,     34.7,   0.9350,  33.7800,2,-999.0000,9,   -999.0,5,   -999.0,9,  -999.00,9,  -999.00,9,  -999.00,9,   -999.0,9
  09AR19940101,  SR03,    89,  1,     13,    124,2,19940128,0536,-63.2903,  83.7472, 2746,     53.6,  -0.8670,  33.8960,4,-999.0000,9,   -999.0,5,   -999.0,9,  -999.00,9,  -999.00,9,  -999.00,9,   -999.0,9
  09AR19940101,  SR03,    89,  1,     14,    114,2,19940128,0536,-63.2903,  83.7472, 2746,     53.7,  -0.6290,  33.8780,4,  33.8800,2,   -999.0,5,   -999.0,5,    33.20,2,    26.40,2,     1.81,2,   2161.9,6
  09AR19940101,  SR03,    89,  1,     12,     12,2,19940128,0536,-63.2903,  83.7472, 2746,     58.3,  -0.9930,  33.9060,3,  33.9060,2,   -999.0,5,    195.9,2,    44.70,2,    29.90,2,     1.96,2,   2167.5,2
  09AR19940101,  SR03,    89,  1,     11,     11,2,19940128,0536,-63.2903,  83.7472, 2746,     58.4,  -1.0130,  33.9130,4,-999.0000,9,   -999.0,5,   -999.0,9,  -999.00,9,  -999.00,9,  -999.00,9,   -999.0,9
  09AR19940101,  SR03,    89,  1,     10,     10,2,19940128,0536,-63.2903,  83.7472, 2746,     84.2,  -1.2550,  34.0530,3,  34.0530,2,   -999.0,5,   -999.0,9,    52.00,2,    32.00,2,     2.17,2,   2192.7,2
  09AR19940101,  SR03,    89,  1,      9,      9,2,19940128,0536,-63.2903,  83.7472, 2746,     84.4,  -1.1300,  34.0610,4,-999.0000,9,   -999.0,5,   -999.0,9,  -999.00,9,  -999.00,9,  -999.00,9,   -999.0,9
  09AR19940101,  SR03,    89,  1,      8,      8,2,19940128,0536,-63.2903,  83.7472, 2746,    104.3,  -0.2210,  34.1890,2,  34.1870,2,   -999.0,5,    174.7,4,    49.30,2,    35.20,2,     2.27,2,   2211.5,2
  09AR19940101,  SR03,    89,  1,      7,      7,2,19940128,0536,-63.2903,  83.7472, 2746,    104.5,  -0.1860,  34.1860,4,-999.0000,9,   -999.0,5,   -999.0,9,  -999.00,9,  -999.00,9,  -999.00,9,   -999.0,9
  09AR19940101,  SR03,    89,  1,      6,      6,2,19940128,0536,-63.2903,  83.7472, 2746,    142.8,   1.4200,  34.4100,2,  34.4110,2,   -999.0,5,   -999.0,9,    65.70,2,    35.20,2,     2.43,2,   2244.0,2
  09AR19940101,  SR03,    89,  1,      5,      5,2,19940128,0536,-63.2903,  83.7472, 2746,    142.8,   1.4240,  34.4150,4,-999.0000,9,   -999.0,5,   -999.0,9,  -999.00,9,  -999.00,9,  -999.00,9,   -999.0,9
  09AR19940101,  SR03,    89,  1,      4,      4,2,19940128,0536,-63.2903,  83.7472, 2746,    204.2,   1.9120,  34.5280,2,  34.5280,2,   -999.0,5,    171.7,4,    72.60,2,    35.30,2,     2.45,2,   2254.7,2
  09AR19940101,  SR03,    89,  1,      3,      3,2,19940128,0536,-63.2903,  83.7472, 2746,    204.4,   1.9130,  34.5290,2,-999.0000,9,   -999.0,5,   -999.0,9,  -999.00,9,  -999.00,9,  -999.00,9,   -999.0,9
  09AR19940101,  SR03,    89,  1,      1,      1,2,19940128,0536,-63.2903,  83.7472, 2746,    253.9,   2.0000,  34.5750,2,-999.0000,9,   -999.0,5,   -999.0,9,  -999.00,9,  -999.00,9,  -999.00,9,   -999.0,9
  09AR19940101,  SR03,    89,  1,      2,      2,2,19940128,0536,-63.2903,  83.7472, 2746,    254.3,   2.0000,  34.5740,2,  34.5720,2,   -999.0,5,   -999.0,9,    74.50,2,    35.50,2,     2.41,2,   2256.8,2
  09AR19940101,  SR03,    90,  1,     24,     24,2,19940128,0748,-63.2767,  83.7602, 2715,     13.2,   1.1010,  33.7690,2,  33.7690,2,    342.2,2,    340.8,2,    23.00,2,    22.90,2,     1.49,4,   2140.1,2
  09AR19940101,  SR03,    90,  1,     23,    113,2,19940128,0748,-63.2767,  83.7602, 2715,    253.1,   1.9940,  34.5690,2,  34.5710,2,    170.2,2,    171.3,2,    75.00,2,    35.00,2,     2.37,2,   2258.1,2
  09AR19940101,  SR03,    90,  1,     22,    122,2,19940128,0748,-63.2767,  83.7602, 2715,    303.3,   2.0180,  34.6050,2,  34.6040,2,    171.2,2,    171.6,2,    75.50,2,    33.90,2,     2.36,2,   2258.3,2
  09AR19940101,  SR03,    90,  1,     21,    121,2,19940128,0748,-63.2767,  83.7602, 2715,    352.6,   2.0360,  34.6340,2,  34.6330,2,    173.1,2,    171.9,2,    75.70,2,    33.60,2,     2.33,2,   2258.7,6
  09AR19940101,  SR03,    90,  1,     20,    120,2,19940128,0748,-63.2767,  83.7602, 2715,    402.4,   2.0620,  34.6590,2,  34.6590,2,    174.9,2,    173.6,2,    75.60,2,    33.50,2,     2.30,2,   2257.4,2
  09AR19940101,  SR03,    90,  1,     19,    119,2,19940128,0748,-63.2767,  83.7602, 2715,    504.3,   2.0380,  34.6940,2,  34.6930,2,    177.1,2,    178.6,2,    76.30,2,    31.90,2,     2.24,2,   2253.8,2
  09AR19940101,  SR03,    90,  1,     18,    118,2,19940128,0748,-63.2767,  83.7602, 2715,    602.7,   2.0210,  34.7120,2,  34.7130,2,    182.0,2,    182.2,2,    76.30,2,    30.80,2,     2.21,2,   2252.4,2
  09AR19940101,  SR03,    90,  1,     17,    117,2,19940128,0748,-63.2767,  83.7602, 2715,    703.2,   1.9730,  34.7320,2,  34.7320,2,    185.0,2,    187.0,2,    77.30,2,    31.00,2,     2.16,2,   2249.7,2
  09AR19940101,  SR03,    90,  1,     16,    116,2,19940128,0748,-63.2767,  83.7602, 2715,    802.1,   1.9200,  34.7440,2,  34.7460,2,    189.4,2,    191.6,2,    78.30,2,    30.70,2,     2.12,2,   2246.1,2
  09AR19940101,  SR03,    90,  1,     15,    115,2,19940128,0748,-63.2767,  83.7602, 2715,    902.4,   1.8370,  34.7510,2,  34.7510,2,    195.3,2,    194.5,2,    80.20,2,    31.20,2,     2.11,2,   2245.6,2
  09AR19940101,  SR03,    90,  1,     14,    114,2,19940128,0748,-63.2767,  83.7602, 2715,   1003.0,   1.7640,  34.7540,2,  34.7540,2,    197.9,2,    196.8,2,    81.40,2,    30.30,2,     2.10,2,   2246.2,2
  09AR19940101,  SR03,    90,  1,     13,    124,2,19940128,0748,-63.2767,  83.7602, 2715,   1103.8,   1.6820,  34.7550,2,  34.7550,2,    200.6,2,    199.4,2,    83.30,2,    29.10,2,     2.09,2,   2241.2,2
  09AR19940101,  SR03,    90,  1,     12,     12,2,19940128,0748,-63.2767,  83.7602, 2715,   1203.6,   1.6000,  34.7550,2,  34.7550,2,    200.6,2,    201.0,2,    86.70,2,    30.10,2,     2.04,4,   2246.1,6
  09AR19940101,  SR03,    90,  1,     11,     11,2,19940128,0748,-63.2767,  83.7602, 2715,   1303.0,   1.4950,  34.7540,2,  34.7540,2,    203.1,2,    202.6,2,    88.30,2,    30.10,2,     2.09,2,   2247.5,2
  09AR19940101,  SR03,    90,  1,     10,     10,2,19940128,0748,-63.2767,  83.7602, 2715,   1401.0,   1.4090,  34.7500,2,  34.7520,2,    204.1,2,    203.8,2,    90.40,2,    29.80,2,     2.10,2,   2248.5,2
  09AR19940101,  SR03,    90,  1,      9,      9,2,19940128,0748,-63.2767,  83.7602, 2715,   1501.1,   1.3130,  34.7470,2,  34.7470,2,    205.5,2,    204.7,2,    93.10,2,    30.20,2,     2.12,2,   2249.0,2
  09AR19940101,  SR03,    90,  1,      8,      8,2,19940128,0748,-63.2767,  83.7602, 2715,   1602.5,   1.2100,  34.7410,2,  34.7410,2,    206.9,2,    205.3,2,    95.90,2,    30.90,2,     2.13,2,   2251.1,2
  09AR19940101,  SR03,    90,  1,      7,      7,2,19940128,0748,-63.2767,  83.7602, 2715,   1701.5,   1.1320,  34.7370,2,  34.7360,2,    206.6,2,    206.2,2,    97.90,2,    30.50,2,     2.14,2,   2251.1,2
  09AR19940101,  SR03,    90,  1,      6,      6,2,19940128,0748,-63.2767,  83.7602, 2715,   1902.1,   0.9500,  34.7260,2,  34.7250,2,    207.6,2,    208.0,2,   103.70,2,    31.50,2,     2.17,2,   2253.2,2
  09AR19940101,  SR03,    90,  1,      5,      5,2,19940128,0748,-63.2767,  83.7602, 2715,   2101.7,   0.7930,  34.7160,2,  34.7180,2,    208.4,2,    209.5,2,   107.50,2,    31.50,2,     2.20,2,   2256.5,6
  09AR19940101,  SR03,    90,  1,      4,      4,2,19940128,0748,-63.2767,  83.7602, 2715,   2300.8,   0.6290,  34.7060,2,  34.7060,2,    210.6,2,    210.6,2,   111.50,2,    31.70,2,     2.22,2,   2258.6,2
  09AR19940101,  SR03,    90,  1,      3,      3,2,19940128,0748,-63.2767,  83.7602, 2715,   2500.1,   0.4980,  34.7010,2,  34.7000,2,    213.1,2,    213.0,2,   118.30,2,    32.80,2,     2.24,2,   2258.9,2
  09AR19940101,  SR03,    90,  1,      2,      2,3,19940128,0748,-63.2767,  83.7602, 2715,   2654.9,   0.3990,  34.6930,2,  34.6920,2,    215.0,2,    214.7,2,   117.70,2,    32.80,2,     2.26,2,   2260.3,2
  09AR19940101,  SR03,    90,  1,      1,      1,2,19940128,0748,-63.2767,  83.7602, 2715,   2769.1,   0.3370,  34.6910,2,  34.6890,2,    214.0,2,    215.9,2,   122.90,2,    33.00,2,     2.26,2,   2261.1,2
  09AR19940101,  SR03,    91,  1,     24,     24,2,19940128,1303,-62.7438,  83.4742, 2457,     14.6,   1.3300,  33.8560,2,  33.8540,2,    341.9,2,    341.1,2,    21.20,2,    22.90,2,     1.32,4,   -999.0,9
  09AR19940101,  SR03,    91,  1,     23,    113,2,19940128,1303,-62.7438,  83.4742, 2457,     34.0,   1.1260,  33.8690,2,  33.8690,2,    342.2,2,    340.4,2,    19.50,2,    23.10,2,     1.42,2,   -999.0,9
  09AR19940101,  SR03,    91,  1,     22,    122,2,19940128,1303,-62.7438,  83.4742, 2457,     54.6,  -0.1210,  33.9480,4,  33.9610,2,    311.4,2,    316.7,2,    35.60,2,    26.50,2,     1.88,2,   -999.0,9
  09AR19940101,  SR03,    91,  1,     21,    121,2,19940128,1303,-62.7438,  83.4742, 2457,     84.8,  -0.3560,  34.2460,4,  34.2570,2,    272.9,2,    242.2,2,    60.40,2,    33.20,2,     2.27,2,   -999.0,9
  09AR19940101,  SR03,    91,  1,     20,    120,2,19940128,1303,-62.7438,  83.4742, 2457,    114.3,   0.6560,  34.3880,2,  34.3810,2,    218.9,2,    211.0,2,    66.90,2,    34.20,2,     2.34,2,   -999.0,9
  09AR19940101,  SR03,    91,  1,     19,    119,2,19940128,1303,-62.7438,  83.4742, 2457,    164.1,   1.5960,  34.5230,2,  34.5210,2,    188.1,2,    180.4,2,    75.00,2,    34.90,2,     2.44,2,   -999.0,9
  09AR19940101,  SR03,    91,  1,     18,    118,2,19940128,1303,-62.7438,  83.4742, 2457,    205.9,   1.8500,  34.5840,2,  34.5840,2,    174.8,2,    172.6,2,    78.30,2,    34.70,2,     2.42,2,   -999.0,9
  09AR19940101,  SR03,    91,  1,     17,    117,2,19940128,1303,-62.7438,  83.4742, 2457,    257.0,   1.9180,  34.6170,2,  34.6170,2,    172.6,2,    171.2,2,    79.70,2,    34.40,2,     2.40,2,   -999.0,9
  09AR19940101,  SR03,    91,  1,     16,    116,2,19940128,1303,-62.7438,  83.4742, 2457,    304.6,   1.9640,  34.6450,2,  34.6460,2,    171.8,2,    171.4,2,    80.70,2,    33.90,2,     2.36,2,   -999.0,9
  09AR19940101,  SR03,    91,  1,     15,    115,2,19940128,1303,-62.7438,  83.4742, 2457,    404.2,   1.9800,  34.6840,2,  34.6850,2,    174.3,2,    175.4,2,    80.80,2,    33.00,2,     2.29,2,   -999.0,9
  09AR19940101,  SR03,    91,  1,     14,    114,2,19940128,1303,-62.7438,  83.4742, 2457,    503.2,   1.9610,  34.7090,2,  34.7140,2,    178.1,2,    180.6,2,    82.20,2,    32.30,2,     2.23,2,   -999.0,9
  09AR19940101,  SR03,    91,  1,     13,    124,2,19940128,1303,-62.7438,  83.4742, 2457,    604.5,   1.9190,  34.7290,2,  34.7280,2,    181.3,2,    185.4,2,    82.80,2,    31.60,2,     2.19,2,   -999.0,9
  09AR19940101,  SR03,    91,  1,     12,     12,2,19940128,1303,-62.7438,  83.4742, 2457,    803.9,   1.8130,  34.7490,2,  34.7490,2,    189.6,2,    193.6,2,    81.40,2,    30.50,2,     2.06,4,   -999.0,9
  09AR19940101,  SR03,    91,  1,     11,     11,2,19940128,1303,-62.7438,  83.4742, 2457,    903.8,   1.7470,  34.7560,2,  34.7560,2,    193.7,2,    196.9,2,    81.30,2,    30.30,2,     2.09,2,   -999.0,9
  09AR19940101,  SR03,    91,  1,     10,     10,2,19940128,1303,-62.7438,  83.4742, 2457,   1004.1,   1.6660,  34.7550,2,  34.7570,2,    194.0,2,    198.9,2,    83.10,2,    30.30,2,     2.09,2,   -999.0,9
  09AR19940101,  SR03,    91,  1,      9,      9,2,19940128,1303,-62.7438,  83.4742, 2457,   1103.9,   1.5830,  34.7550,2,  34.7570,2,    196.5,2,    200.5,2,    85.10,2,    30.30,2,     2.08,2,   -999.0,9
  09AR19940101,  SR03,    91,  1,      8,      8,2,19940128,1303,-62.7438,  83.4742, 2457,   1203.2,   1.4940,  34.7530,2,  34.7540,2,    199.4,2,    202.2,2,    86.70,2,    30.30,2,     2.08,2,   -999.0,9
  09AR19940101,  SR03,    91,  1,      7,      7,2,19940128,1303,-62.7438,  83.4742, 2457,   1402.8,   1.3100,  34.7460,2,  34.7470,2,    202.2,2,    204.2,2,    91.40,2,    30.60,2,     2.11,2,   -999.0,9
  09AR19940101,  SR03,    91,  1,      6,      6,2,19940128,1303,-62.7438,  83.4742, 2457,   1601.7,   1.1330,  34.7370,2,  34.8080,4,    204.2,2,    205.9,2,    95.90,2,    31.00,2,     2.13,2,   -999.0,9
  09AR19940101,  SR03,    91,  1,      5,      5,2,19940128,1303,-62.7438,  83.4742, 2457,   1803.1,   0.9590,  34.7280,2,  34.7270,2,    206.1,2,    207.3,2,   100.90,2,    31.30,2,     2.16,2,   -999.0,9
  09AR19940101,  SR03,    91,  1,      4,      4,2,19940128,1303,-62.7438,  83.4742, 2457,   2001.8,   0.8100,  34.7190,2,  34.7170,2,    209.7,2,    208.7,2,   106.50,2,    31.80,2,     2.19,2,   -999.0,9
  09AR19940101,  SR03,    91,  1,      3,      3,2,19940128,1303,-62.7438,  83.4742, 2457,   2202.3,   0.6800,  34.7120,2,  34.7100,2,    211.0,2,    209.5,2,   112.50,2,    32.20,2,     2.21,2,   -999.0,9
  09AR19940101,  SR03,    91,  1,      2,      2,2,19940128,1303,-62.7438,  83.4742, 2457,   2402.4,   0.5570,  34.7060,2,  34.7030,2,    212.8,2,    211.2,2,   118.80,2,    32.30,2,     2.23,2,   -999.0,9
  09AR19940101,  SR03,    91,  1,      1,      1,2,19940128,1303,-62.7438,  83.4742, 2457,   2495.6,   0.4400,  34.6990,2,  34.6970,2,    219.2,2,    212.5,2,   123.40,2,    32.60,2,     2.25,2,   -999.0,9