BOTTLE,20230321CCHSIOENA
EXPOCODE,SECT_ID,STNNBR,CASTNO,SAMPNO,BTLNBR,BTLNBR_FLAG_W,DATE,TIME,LATITUDE,LONGITUDE,DEPTH,CTDPRS,CTDTMP,CTDSAL,CTDSAL_FLAG_W,SALNTY,SALNTY_FLAG_W,CTDOXY,CTDOXY_FLAG_W,OXYGEN,OXYGEN_FLAG_W,SILCAT,SILCAT_FLAG_W,NITRAT,NITRAT_FLAG_W,PHSPHT,PHSPHT_FLAG_W,TCARBN,TCARBN_FLAG_W
,,,,,,,,,,,METERS,DBAR,ITS-90,PSS-78,,PSS-78,,UMOL/KG,,UMOL/KG,,UMOL/KG,,UMOL/KG,,UMOL/KG,,UMOL/KG,
  09AR19940101,  SR03,    98,  1,     19,    119,2,19940129,2204,-59.4540,  82.2122, 1621,     13.0,   1.7560,  33.9420,2,-999.0000,9,    351.1,2,   -999.0,9,  -999.00,9,  -999.00,9,  -999.00,9,   -999.0,9
  09AR19940101,  SR03,    98,  1,     21,    121,2,19940129,2204,-59.4540,  82.2122, 1621,     13.1,   1.7590,  33.9440,2,-999.0000,9,    351.1,2,   -999.0,9,  -999.00,9,  -999.00,9,  -999.00,9,   -999.0,9
  09AR19940101,  SR03,    98,  1,     18,    118,2,19940129,2204,-59.4540,  82.2122, 1621,     13.1,   1.7530,  33.9430,2,  33.9440,2,    351.1,2,    349.0,2,    20.00,2,    23.80,2,     1.32,4,   -999.0,9
  09AR19940101,  SR03,    98,  1,     24,     24,2,19940129,2204,-59.4540,  82.2122, 1621,     13.2,   1.7630,  33.9420,2,-999.0000,9,    351.1,2,   -999.0,9,  -999.00,9,  -999.00,9,  -999.00,9,   -999.0,9
  09AR19940101,  SR03,    98,  1,     23,    113,2,19940129,2204,-59.4540,  82.2122, 1621,     13.2,   1.7550,  33.9430,2,-999.0000,9,    351.1,2,   -999.0,9,  -999.00,9,  -999.00,9,  -999.00,9,   -999.0,9
  09AR19940101,  SR03,    98,  1,     20,    120,2,19940129,2204,-59.4540,  82.2122, 1621,     13.3,   1.7560,  33.9430,2,-999.0000,9,    351.1,2,   -999.0,9,  -999.00,9,  -999.00,9,  -999.00,9,   -999.0,9
  09AR19940101,  SR03,    98,  1,     22,    122,2,19940129,2204,-59.4540,  82.2122, 1621,     13.6,   1.7550,  33.9440,2,-999.0000,9,    351.1,2,   -999.0,9,  -999.00,9,  -999.00,9,  -999.00,9,   -999.0,9
  09AR19940101,  SR03,    98,  1,     17,    117,2,19940129,2204,-59.4540,  82.2122, 1621,     27.6,   1.5360,  33.9520,4,  33.9540,2,    346.5,2,    348.9,2,    21.20,2,    23.90,2,     1.27,2,   -999.0,9
  09AR19940101,  SR03,    98,  1,     16,    116,3,19940129,2204,-59.4540,  82.2122, 1621,     62.8,   0.4720,  34.0090,2,  33.9760,4,    322.9,2,    338.5,2,    27.40,2,    24.90,2,     1.45,2,   -999.0,9
  09AR19940101,  SR03,    98,  1,     15,    115,2,19940129,2204,-59.4540,  82.2122, 1621,    102.6,  -0.9360,  34.1500,4,  34.1540,2,    300.7,2,    299.3,2,    54.50,2,    29.80,2,     2.16,2,   -999.0,9
  09AR19940101,  SR03,    98,  1,     14,    114,2,19940129,2204,-59.4540,  82.2122, 1621,    152.2,   0.9830,  34.5030,4,  34.5120,2,    191.1,2,    197.8,2,    73.60,2,    33.60,2,     2.34,2,   -999.0,9
  09AR19940101,  SR03,    98,  1,     13,    124,2,19940129,2204,-59.4540,  82.2122, 1621,    204.1,   1.7500,  34.6330,2,  34.6340,2,    176.6,2,    173.9,2,    80.30,2,    33.70,2,     2.35,2,   -999.0,9
  09AR19940101,  SR03,    98,  1,     12,     12,2,19940129,2204,-59.4540,  82.2122, 1621,    305.2,   1.9010,  34.6930,2,  34.6950,2,    178.3,2,    174.5,2,    82.00,2,    32.60,2,     2.27,2,   -999.0,9
  09AR19940101,  SR03,    98,  1,     11,     11,2,19940129,2204,-59.4540,  82.2122, 1621,    403.8,   1.8780,  34.7220,2,  34.7210,2,    185.5,2,    181.9,2,    82.30,2,    31.60,2,     2.21,2,   -999.0,9
  09AR19940101,  SR03,    98,  1,     10,     10,2,19940129,2204,-59.4540,  82.2122, 1621,    502.6,   1.8340,  34.7340,2,  34.7360,2,    187.7,2,    186.6,2,    83.00,2,    31.30,2,     2.16,2,   -999.0,9
  09AR19940101,  SR03,    98,  1,      9,      9,2,19940129,2204,-59.4540,  82.2122, 1621,    604.1,   1.7620,  34.7450,2,  34.7460,2,    189.9,2,    191.6,2,    84.50,2,    30.70,2,     2.12,2,   -999.0,9
  09AR19940101,  SR03,    98,  1,      8,      8,2,19940129,2204,-59.4540,  82.2122, 1621,    702.0,   1.6670,  34.7490,2,  34.7480,2,    194.4,2,    195.7,2,    85.90,2,    30.30,2,     2.10,2,   -999.0,9
  09AR19940101,  SR03,    98,  1,      7,      7,2,19940129,2204,-59.4540,  82.2122, 1621,    802.0,   1.5580,  34.7490,2,  34.7480,2,    197.8,2,    198.5,2,    88.50,2,    30.30,2,     2.10,2,   -999.0,9
  09AR19940101,  SR03,    98,  1,      6,      6,2,19940129,2204,-59.4540,  82.2122, 1621,    902.4,   1.4580,  34.7490,2,  34.7470,2,    197.5,2,    200.8,2,    90.60,2,    30.30,2,     2.05,4,   -999.0,9
  09AR19940101,  SR03,    98,  1,      5,      5,2,19940129,2204,-59.4540,  82.2122, 1621,   1001.6,   1.3510,  34.7450,2,  34.7460,2,    202.0,2,    202.1,2,    92.80,2,    30.30,2,     2.09,2,   -999.0,9
  09AR19940101,  SR03,    98,  1,      4,      4,2,19940129,2204,-59.4540,  82.2122, 1621,   1202.9,   1.1530,  34.7380,2,  34.7380,2,    201.6,2,    202.9,2,   100.40,2,    30.70,2,     2.14,2,   -999.0,9
  09AR19940101,  SR03,    98,  1,      3,      3,2,19940129,2204,-59.4540,  82.2122, 1621,   1402.7,   1.0000,  34.7300,2,  34.7290,2,    201.2,2,    201.0,2,   114.40,2,    31.50,2,     2.19,2,   -999.0,9
  09AR19940101,  SR03,    98,  1,      2,      2,2,19940129,2204,-59.4540,  82.2122, 1621,   1530.2,   0.9550,  34.7260,2,  34.7250,2,    203.7,2,    202.4,2,   114.70,2,    31.50,2,     2.21,2,   -999.0,9
  09AR19940101,  SR03,    98,  1,      1,      1,2,19940129,2204,-59.4540,  82.2122, 1621,   1628.8,   0.8910,  34.7230,2,  34.7220,2,    205.2,2,    202.7,2,   118.20,2,    31.60,2,  -999.00,9,   -999.0,9
  09AR19940101,  SR03,    99,  1,     24,     24,2,19940130,0225,-58.9590,  82.0345, 1285,     13.8,   1.6450,  33.9570,2,  33.9560,2,    354.2,3,    347.4,2,    24.20,2,    24.70,2,     1.35,4,   2145.8,2
  09AR19940101,  SR03,    99,  1,     23,    113,2,19940130,0225,-58.9590,  82.0345, 1285,     14.3,   1.6440,  33.9570,2,-999.0000,9,    354.2,3,   -999.0,9,  -999.00,9,  -999.00,9,  -999.00,9,   -999.0,9
  09AR19940101,  SR03,    99,  1,     22,    122,2,19940130,0225,-58.9590,  82.0345, 1285,     27.5,   1.6170,  33.9580,2,  33.9570,2,    341.7,2,    347.5,2,    23.90,2,    24.70,2,     1.38,2,   2146.9,2
  09AR19940101,  SR03,    99,  1,     21,    121,2,19940130,0225,-58.9590,  82.0345, 1285,     29.0,   1.6190,  33.9570,2,-999.0000,9,    339.7,2,   -999.0,9,  -999.00,9,  -999.00,9,  -999.00,9,   -999.0,9
  09AR19940101,  SR03,    99,  1,     19,    119,2,19940130,0225,-58.9590,  82.0345, 1285,     54.4,   0.4440,  34.0000,4,-999.0000,9,    330.8,2,   -999.0,9,  -999.00,9,  -999.00,9,  -999.00,9,   -999.0,9
  09AR19940101,  SR03,    99,  1,     20,    120,2,19940130,0225,-58.9590,  82.0345, 1285,     54.7,   0.4540,  33.9970,3,  33.9950,2,    330.8,2,    344.9,2,    34.90,2,    26.40,2,     1.71,2,   2163.5,2
  09AR19940101,  SR03,    99,  1,     18,    118,2,19940130,0225,-58.9590,  82.0345, 1285,     78.4,  -0.6280,  34.1100,2,  34.1050,2,    310.1,2,    314.4,2,    49.90,2,    29.00,2,     2.09,2,   2192.0,2
  09AR19940101,  SR03,    99,  1,     17,    117,2,19940130,0225,-58.9590,  82.0345, 1285,     78.8,  -0.6820,  34.1280,4,-999.0000,9,    310.1,2,   -999.0,9,  -999.00,9,  -999.00,9,  -999.00,9,   -999.0,9
  09AR19940101,  SR03,    99,  1,     15,    115,2,19940130,0225,-58.9590,  82.0345, 1285,    103.1,  -0.0630,  34.3440,4,-999.0000,9,    252.7,2,   -999.0,9,  -999.00,9,  -999.00,9,  -999.00,9,   -999.0,9
  09AR19940101,  SR03,    99,  1,     16,    116,2,19940130,0225,-58.9590,  82.0345, 1285,    103.9,  -0.0660,  34.3460,4,  34.3350,2,    252.7,2,    246.9,2,    64.20,2,    32.30,2,     2.31,2,   2227.7,2
  09AR19940101,  SR03,    99,  1,     13,    124,2,19940130,0225,-58.9590,  82.0345, 1285,    135.7,   1.2750,  34.5560,3,-999.0000,9,    176.5,2,   -999.0,9,  -999.00,9,  -999.00,9,  -999.00,9,   -999.0,9
  09AR19940101,  SR03,    99,  1,     14,    114,2,19940130,0225,-58.9590,  82.0345, 1285,    135.8,   1.2530,  34.5500,2,  34.5500,2,    176.5,2,    189.7,2,    75.40,2,    34.30,2,     2.39,2,   2252.0,6
  09AR19940101,  SR03,    99,  1,     12,     12,2,19940130,0225,-58.9590,  82.0345, 1285,    163.9,   1.7030,  34.6250,2,  34.6240,2,    175.8,2,    175.6,2,    79.70,2,    34.20,2,     2.39,2,   2259.7,2
  09AR19940101,  SR03,    99,  1,     11,     11,2,19940130,0225,-58.9590,  82.0345, 1285,    206.3,   1.8750,  34.6680,2,  34.6690,2,    170.6,2,    172.5,2,    82.20,2,    33.90,2,     2.36,2,   2260.0,2
  09AR19940101,  SR03,    99,  1,     10,     10,2,19940130,0225,-58.9590,  82.0345, 1285,    304.2,   1.8840,  34.7050,2,  34.7060,2,    181.7,2,    178.0,2,    82.40,2,    32.80,2,     2.29,2,   2256.6,2
  09AR19940101,  SR03,    99,  1,      9,      9,2,19940130,0225,-58.9590,  82.0345, 1285,    404.6,   1.8350,  34.7260,2,  34.7270,2,    184.5,2,    183.9,2,    83.70,2,    32.10,2,     2.23,2,   2252.9,2
  09AR19940101,  SR03,    99,  1,      8,      8,2,19940130,0225,-58.9590,  82.0345, 1285,    501.7,   1.7750,  34.7370,2,  34.7380,2,    189.0,2,    189.3,2,    84.50,2,    31.50,2,     2.19,2,   2251.5,2
  09AR19940101,  SR03,    99,  1,      7,      7,2,19940130,0225,-58.9590,  82.0345, 1285,    603.9,   1.6990,  34.7450,2,  34.7460,2,    192.2,2,    193.5,2,    86.30,2,    31.30,2,     2.16,2,   2248.9,2
  09AR19940101,  SR03,    99,  1,      6,      6,2,19940130,0225,-58.9590,  82.0345, 1285,    703.4,   1.6090,  34.7490,2,  34.7480,2,    195.7,2,    196.8,2,    87.70,2,    30.80,2,     2.08,4,   2247.3,2
  09AR19940101,  SR03,    99,  1,      5,      5,2,19940130,0225,-58.9590,  82.0345, 1285,    803.0,   1.5100,  34.7480,2,  34.7490,2,    199.4,2,    198.9,2,    89.60,2,    30.80,2,     2.13,2,   2248.3,2
  09AR19940101,  SR03,    99,  1,      4,      4,2,19940130,0225,-58.9590,  82.0345, 1285,    956.0,   1.3320,  34.7430,2,  34.7450,2,    201.2,2,    201.0,2,    93.80,2,    30.90,2,     2.15,2,   2250.7,2
  09AR19940101,  SR03,    99,  1,      3,      3,2,19940130,0225,-58.9590,  82.0345, 1285,   1105.0,   1.1620,  34.7360,2,  34.7370,2,    204.3,2,    202.9,2,    99.20,2,    31.30,2,     2.17,2,   2252.3,6
  09AR19940101,  SR03,    99,  1,      2,      2,2,19940130,0225,-58.9590,  82.0345, 1285,   1203.9,   1.0320,  34.7300,2,  34.7300,2,    199.7,2,    201.0,2,   111.40,2,    31.70,2,     2.21,2,   2256.7,2
  09AR19940101,  SR03,    99,  1,      1,      1,2,19940130,0225,-58.9590,  82.0345, 1285,   1288.9,   0.9970,  34.7270,2,  34.7270,2,    199.5,2,    198.1,2,   123.20,2,    32.30,2,     2.23,2,   2260.0,2
  09AR19940101,  SR03,   100,  1,     24,     24,2,19940131,1453,-63.0022,  70.9845, 3974,     14.1,   0.7540,  33.7710,2,  33.7720,2,    341.0,3,    332.4,2,    33.00,2,    26.50,2,     1.80,4,   2149.8,6
  09AR19940101,  SR03,   100,  1,     22,    122,2,19940131,1453,-63.0022,  70.9845, 3974,     30.0,   0.7490,  33.7700,2,  33.7710,2,    328.3,2,    332.3,2,    32.70,2,    26.50,2,     1.83,2,   2150.2,2
  09AR19940101,  SR03,   100,  1,     20,    120,2,19940131,1453,-63.0022,  70.9845, 3974,     38.6,   0.7180,  33.7720,2,  33.7720,2,    327.1,2,    332.0,2,    32.70,2,    26.40,2,     1.83,2,   2149.6,2
  09AR19940101,  SR03,   100,  1,     18,    118,2,19940131,1453,-63.0022,  70.9845, 3974,     48.2,  -0.7130,  33.9550,4,  33.9080,2,    307.3,2,    325.7,2,    39.10,2,    27.50,2,     1.94,2,   2164.7,2
  09AR19940101,  SR03,   100,  1,     16,    116,2,19940131,1453,-63.0022,  70.9845, 3974,     64.1,  -1.0540,  34.1470,4,  34.1510,2,    292.2,2,    290.2,2,    51.70,2,    30.00,2,     2.14,2,   2197.7,2
  09AR19940101,  SR03,   100,  1,     14,    114,2,19940131,1453,-63.0022,  70.9845, 3974,     71.7,  -0.3710,  34.2500,3,  34.2470,2,    260.6,2,    262.3,2,    57.90,2,    31.20,2,     2.24,2,   2214.0,2
  09AR19940101,  SR03,   100,  1,     12,     12,2,19940131,1453,-63.0022,  70.9845, 3974,     85.0,   0.6760,  34.4000,4,  34.3910,2,    200.8,2,    218.4,2,    66.90,2,    33.30,2,     2.37,2,   2235.5,2
  09AR19940101,  SR03,   100,  1,     10,     10,2,19940131,1453,-63.0022,  70.9845, 3974,    104.6,   1.6020,  34.5260,2,  34.5260,2,    183.5,2,    180.6,2,    75.10,2,    34.70,2,     2.46,2,   2254.2,2
  09AR19940101,  SR03,   100,  1,      8,      8,2,19940131,1453,-63.0022,  70.9845, 3974,    152.5,   1.7390,  34.5730,2,  34.5730,2,    174.3,2,    173.8,2,    78.60,2,    34.80,2,     2.46,2,   2257.7,6
  09AR19940101,  SR03,   100,  1,      6,      6,2,19940131,1453,-63.0022,  70.9845, 3974,    204.9,   1.8430,  34.6120,2,  34.6120,2,    171.2,2,    171.4,2,    80.20,2,    34.40,2,     2.43,2,   2258.6,2
  09AR19940101,  SR03,   100,  1,      4,      4,2,19940131,1453,-63.0022,  70.9845, 3974,    253.1,   1.8780,  34.6400,2,  34.6400,2,    172.1,2,    171.3,2,    81.80,2,    33.90,2,     2.40,2,   2258.7,2
  09AR19940101,  SR03,   100,  1,      2,      2,2,19940131,1453,-63.0022,  70.9845, 3974,    302.7,   1.8790,  34.6590,2,  34.6590,2,    173.3,2,    172.5,2,    82.40,2,    33.50,2,     2.38,2,   2257.2,2
  09AR19940101,  SR03,   101,  1,     24,     24,2,19940131,1805,-63.0030,  70.9943, 3974,     14.4,   0.7680,  33.7070,4,  33.7700,2,    329.0,2,    332.3,2,    33.50,2,    26.60,2,     1.79,4,   2151.4,6
  09AR19940101,  SR03,   101,  1,     23,    113,2,19940131,1805,-63.0030,  70.9943, 3974,     56.1,  -1.2760,  34.0340,4,  34.0730,2,    314.5,2,    310.6,2,    46.40,2,    28.90,2,     2.03,2,   2185.6,2
  09AR19940101,  SR03,   101,  1,     22,    122,2,19940131,1805,-63.0030,  70.9943, 3974,    352.4,   1.8890,  34.6200,4,  34.6810,2,    174.5,2,    175.0,2,    84.10,2,    32.90,2,     2.34,2,   2258.2,2
  09AR19940101,  SR03,   101,  1,     21,    121,2,19940131,1805,-63.0030,  70.9943, 3974,    406.2,   1.9060,  34.6390,4,-999.0000,9,    179.6,2,   -999.0,9,  -999.00,9,  -999.00,9,  -999.00,9,   -999.0,9
  09AR19940101,  SR03,   101,  1,     20,    120,2,19940131,1805,-63.0030,  70.9943, 3974,    503.3,   1.9080,  34.6600,4,  34.7250,2,    179.7,2,    182.5,2,    83.10,2,    31.70,2,     2.26,2,   2254.8,2
  09AR19940101,  SR03,   101,  1,     19,    119,2,19940131,1805,-63.0030,  70.9943, 3974,    602.9,   1.8490,  34.6710,4,  34.7340,2,    183.5,2,    186.6,2,    83.80,2,    31.30,2,     2.22,2,   2250.7,2
  09AR19940101,  SR03,   101,  1,     18,    118,2,19940131,1805,-63.0030,  70.9943, 3974,    705.0,   1.7430,  34.6750,4,  34.7400,2,    186.6,2,    188.9,2,    86.80,2,    31.10,2,     2.22,2,   2250.7,2
  09AR19940101,  SR03,   101,  1,     17,    117,2,19940131,1805,-63.0030,  70.9943, 3974,    804.4,   1.7090,  34.6850,4,  34.7510,2,    189.8,2,    192.8,2,    86.90,2,    30.40,2,     2.18,2,   2247.7,2
  09AR19940101,  SR03,   101,  1,     16,    116,3,19940131,1805,-63.0030,  70.9943, 3974,    901.2,   1.5990,  34.6820,4,  34.7240,4,    193.5,2,    185.3,4,    86.70,4,    31.50,4,     2.25,4,   2251.1,2
  09AR19940101,  SR03,   101,  1,     15,    115,2,19940131,1805,-63.0030,  70.9943, 3974,   1007.7,   1.4650,  34.6770,4,  34.7430,2,    196.6,2,    195.7,2,    93.10,2,    30.80,2,     2.19,2,   2250.5,2
  09AR19940101,  SR03,   101,  1,     14,    114,2,19940131,1805,-63.0030,  70.9943, 3974,   1102.7,   1.3870,  34.6770,4,  34.7410,2,    196.7,2,    197.5,2,    94.40,2,    30.80,2,     2.20,2,   2251.2,2
  09AR19940101,  SR03,   101,  1,     13,    124,2,19940131,1805,-63.0030,  70.9943, 3974,   1200.6,   1.3060,  34.6750,4,  34.7410,2,    199.6,2,    198.9,2,    97.50,2,    31.10,2,     2.20,2,   2251.9,6
  09AR19940101,  SR03,   101,  1,     12,     12,2,19940131,1805,-63.0030,  70.9943, 3974,   1301.5,   1.1870,  34.6670,4,  34.7320,2,    203.6,2,    199.6,2,    86.60,2,    30.70,2,     2.15,4,   2253.6,2
  09AR19940101,  SR03,   101,  1,     11,     11,2,19940131,1805,-63.0030,  70.9943, 3974,   1499.7,   1.0500,  34.6640,4,  34.7300,2,    203.1,2,    202.6,2,    92.90,2,    31.10,2,     2.22,2,   2255.3,2
  09AR19940101,  SR03,   101,  1,     10,     10,2,19940131,1805,-63.0030,  70.9943, 3974,   1703.0,   0.8710,  34.6540,4,  34.7200,2,    205.1,2,    204.2,2,    88.70,4,    29.50,4,     2.08,4,   2255.9,2
  09AR19940101,  SR03,   101,  1,      9,      9,2,19940131,1805,-63.0030,  70.9943, 3974,   1904.4,   0.7280,  34.6450,4,  34.7120,2,    204.6,2,    205.5,2,    99.70,2,    31.40,2,     2.23,2,   2259.2,2
  09AR19940101,  SR03,   101,  1,      8,      8,2,19940131,1805,-63.0030,  70.9943, 3974,   2198.4,   0.5240,  22.6520,4,  34.7000,2,    208.9,2,    209.6,2,    97.90,2,    32.00,2,     2.29,2,   2259.4,2
  09AR19940101,  SR03,   101,  1,      7,      7,2,19940131,1805,-63.0030,  70.9943, 3974,   2501.5,   0.3700,  22.1890,4,  34.6900,2,    209.3,2,    212.4,2,   111.30,2,    32.40,2,     2.31,2,   2260.5,2
  09AR19940101,  SR03,   101,  1,      6,      6,2,19940131,1805,-63.0030,  70.9943, 3974,   2805.1,   0.2270,  22.1760,4,  34.6830,2,    215.1,2,    217.0,2,   106.50,2,    32.80,2,     2.33,2,   2258.6,2
  09AR19940101,  SR03,   101,  1,      5,      5,2,19940131,1805,-63.0030,  70.9943, 3974,   3100.0,   0.1190,  21.7380,4,  34.6790,2,    218.5,2,    221.6,2,   105.90,2,    32.60,2,     2.24,2,   2257.8,2
  09AR19940101,  SR03,   101,  1,      4,      4,2,19940131,1805,-63.0030,  70.9943, 3974,   3397.7,   0.0110,  21.6480,4,  34.6740,2,    224.3,2,    226.8,2,   104.10,2,    32.90,2,     2.28,2,   2256.5,2
  09AR19940101,  SR03,   101,  1,      3,      3,2,19940131,1805,-63.0030,  70.9943, 3974,   3697.5,  -0.0750,  21.5070,4,  34.6740,2,    229.5,2,    231.4,2,    98.90,4,    31.10,4,     2.09,4,   2253.5,2
  09AR19940101,  SR03,   101,  1,      2,      2,3,19940131,1805,-63.0030,  70.9943, 3974,   3901.8,  -0.1250,  21.4370,4,  34.6210,4,    231.6,2,    230.0,4,    92.00,4,    30.50,4,     2.13,4,   2247.4,2
  09AR19940101,  SR03,   101,  1,      1,      1,2,19940131,1805,-63.0030,  70.9943, 3974,   4040.4,  -0.1810,  34.6680,4,  34.6710,2,    231.2,2,    232.0,2,   110.70,2,    32.00,2,     2.26,2,   2255.4,6