BOTTLE,20230321CCHSIOENA
EXPOCODE,SECT_ID,STNNBR,CASTNO,SAMPNO,BTLNBR,BTLNBR_FLAG_W,DATE,TIME,LATITUDE,LONGITUDE,DEPTH,CTDPRS,CTDTMP,CTDSAL,CTDSAL_FLAG_W,SALNTY,SALNTY_FLAG_W,CTDOXY,CTDOXY_FLAG_W,OXYGEN,OXYGEN_FLAG_W,SILCAT,SILCAT_FLAG_W,NITRAT,NITRAT_FLAG_W,PHSPHT,PHSPHT_FLAG_W,TCARBN,TCARBN_FLAG_W
,,,,,,,,,,,METERS,DBAR,ITS-90,PSS-78,,PSS-78,,UMOL/KG,,UMOL/KG,,UMOL/KG,,UMOL/KG,,UMOL/KG,,UMOL/KG,
  09AR19940101,  SR03,    46,  1,     24,     24,2,19940111,1204,-58.3522, 139.8670, 3955,     14.7,   3.4910,  33.8950,2,  33.8950,2,    323.9,2,    325.6,2,     6.40,2,    25.20,2,     1.47,4,   2126.8,6
  09AR19940101,  SR03,    46,  1,     23,    113,2,19940111,1204,-58.3522, 139.8670, 3955,     54.3,   1.7990,  33.9080,2,  33.9070,2,    338.7,2,    336.4,2,     9.90,2,    26.10,2,     1.89,2,   2137.2,2
  09AR19940101,  SR03,    46,  1,     22,     22,2,19940111,1204,-58.3522, 139.8670, 3955,    103.6,   1.1810,  33.9290,2,  33.9300,2,    331.6,2,    328.3,2,    14.70,2,    26.50,2,     1.94,2,   2146.0,2
  09AR19940101,  SR03,    46,  1,     21,     21,2,19940111,1204,-58.3522, 139.8670, 3955,    184.8,   0.1360,  34.0020,2,  34.0040,2,    317.8,2,    316.3,2,    28.90,2,    29.30,2,     2.07,2,   2167.8,2
  09AR19940101,  SR03,    46,  1,     20,    120,2,19940111,1204,-58.3522, 139.8670, 3955,    235.8,   1.1560,  34.1910,4,  34.1620,2,    239.2,2,    308.8,2,    41.00,2,    32.60,2,     2.26,2,   2196.5,2
  09AR19940101,  SR03,    46,  1,     19,    119,2,19940111,1204,-58.3522, 139.8670, 3955,    303.6,   2.0310,  34.3580,2,  34.3580,2,    198.0,2,    258.7,2,    53.50,2,    34.70,2,     2.43,2,   2230.6,2
  09AR19940101,  SR03,    46,  1,     18,    118,2,19940111,1204,-58.3522, 139.8670, 3955,    404.7,   2.1710,  34.4580,2,  34.4570,2,    181.5,2,    212.4,2,    60.50,2,    35.20,2,     2.44,2,   2242.4,2
  09AR19940101,  SR03,    46,  1,     17,    117,2,19940111,1204,-58.3522, 139.8670, 3955,    503.9,   2.2600,  34.5470,2,  34.5480,2,    179.1,2,    190.5,2,    64.90,2,    34.60,2,     2.41,2,   2248.4,2
  09AR19940101,  SR03,    46,  1,     16,    116,2,19940111,1204,-58.3522, 139.8670, 3955,    603.6,   2.2660,  34.5960,2,  34.5980,2,    182.6,2,    179.9,2,    66.20,2,    34.10,2,     2.37,2,   2249.7,2
  09AR19940101,  SR03,    46,  1,     15,    115,2,19940111,1204,-58.3522, 139.8670, 3955,    705.1,   2.2310,  34.6350,2,  34.6350,2,    174.8,2,    175.1,2,    71.80,2,    33.40,2,     2.35,2,   2249.9,2
  09AR19940101,  SR03,    46,  1,     14,    114,2,19940111,1204,-58.3522, 139.8670, 3955,    805.0,   2.1890,  34.6660,2,  34.6680,2,    179.7,2,    176.9,2,    70.40,2,    32.90,2,     2.31,2,   2249.6,6
  09AR19940101,  SR03,    46,  1,     13,    124,2,19940111,1204,-58.3522, 139.8670, 3955,   1004.3,   2.0950,  34.7100,2,  34.6040,4,    185.6,2,    182.1,4,    66.70,4,    34.30,4,     2.37,4,   2249.7,2
  09AR19940101,  SR03,    46,  1,     12,     12,2,19940111,1204,-58.3522, 139.8670, 3955,   1204.2,   2.0060,  34.7320,2,  34.7330,2,    188.6,2,    188.7,2,    70.90,2,    31.40,2,     2.14,4,   2245.7,2
  09AR19940101,  SR03,    46,  1,     11,     11,2,19940111,1204,-58.3522, 139.8670, 3955,   1403.1,   1.8780,  34.7440,2,  34.7430,2,    193.7,2,    193.9,2,    76.10,2,    31.10,2,     2.15,2,   2244.5,2
  09AR19940101,  SR03,    46,  1,     10,     10,2,19940111,1204,-58.3522, 139.8670, 3955,   1602.5,   1.7170,  34.7450,2,  34.7460,2,    195.0,2,    197.0,2,    82.10,2,    31.10,2,     2.14,2,   2248.6,2
  09AR19940101,  SR03,    46,  1,      9,      9,2,19940111,1204,-58.3522, 139.8670, 3955,   1902.3,   1.4690,  34.7400,2,  34.7400,2,    202.6,2,    200.4,2,    86.20,2,    31.30,2,     2.17,2,   2250.6,2
  09AR19940101,  SR03,    46,  1,      8,      8,2,19940111,1204,-58.3522, 139.8670, 3955,   2202.1,   1.2160,  34.7290,2,  34.7280,2,    207.3,2,    203.3,2,    92.10,2,    31.80,2,     2.21,2,   2252.6,2
  09AR19940101,  SR03,    46,  1,      7,      7,2,19940111,1204,-58.3522, 139.8670, 3955,   2502.7,   0.9840,  34.7170,2,  34.7170,2,    208.4,2,    206.1,2,    99.90,2,    32.20,2,     2.24,2,   2254.4,2
  09AR19940101,  SR03,    46,  1,      6,      6,2,19940111,1204,-58.3522, 139.8670, 3955,   2753.8,   0.7910,  34.7080,2,  34.7060,2,    209.8,2,    209.5,2,    98.50,2,    32.50,2,     2.27,2,   2256.0,2
  09AR19940101,  SR03,    46,  1,      5,      5,2,19940111,1204,-58.3522, 139.8670, 3955,   3001.9,   0.6170,  34.7000,2,  34.7000,2,    213.1,2,    213.9,2,   101.00,2,    32.60,2,     2.28,2,   2257.4,2
  09AR19940101,  SR03,    46,  1,      4,      4,2,19940111,1204,-58.3522, 139.8670, 3955,   3299.3,   0.4470,  34.6920,2,  34.6900,2,    216.8,2,    218.4,2,   106.90,2,    32.80,2,     2.30,2,   2256.1,2
  09AR19940101,  SR03,    46,  1,      3,      3,2,19940111,1204,-58.3522, 139.8670, 3955,   3599.2,   0.2950,  34.6860,2,  34.6850,2,    221.1,2,    221.3,2,   112.60,2,    32.90,2,     2.29,2,   2256.8,2
  09AR19940101,  SR03,    46,  1,      2,      2,2,19940111,1204,-58.3522, 139.8670, 3955,   3852.1,   0.2080,  34.6820,2,  34.6820,2,    223.2,2,    224.4,2,   119.50,2,    33.00,2,     2.31,2,   2256.8,2
  09AR19940101,  SR03,    46,  1,      1,      1,2,19940111,1204,-58.3522, 139.8670, 3955,   4030.0,   0.1430,  34.6800,2,  34.6790,2,    226.1,2,    225.9,2,   113.20,3,    32.80,2,     2.30,2,   2257.0,6
  09AR19940101,  SR03,    47,  1,     24,     24,2,19940111,2040,-58.8670, 139.8392, 3902,     14.5,   3.5220,  33.9090,2,  33.9140,2,    333.5,2,    332.4,2,     8.30,2,    25.50,2,     1.55,4,   -999.0,9
  09AR19940101,  SR03,    47,  1,     23,    113,2,19940111,2040,-58.8670, 139.8392, 3902,     45.9,   2.1070,  33.9150,2,  33.9180,2,    352.3,2,    353.1,2,     2.60,2,    24.90,2,     1.68,2,   -999.0,9
  09AR19940101,  SR03,    47,  1,     22,     22,2,19940111,2040,-58.8670, 139.8392, 3902,    130.5,   0.2950,  33.9570,2,  33.9550,2,    337.3,2,    334.8,2,    24.10,2,    28.20,2,     2.07,2,   -999.0,9
  09AR19940101,  SR03,    47,  1,     21,     21,2,19940111,2040,-58.8670, 139.8392, 3902,    184.7,   0.3810,  34.0460,2,  34.0460,2,    294.5,2,    309.6,2,    32.40,2,    30.20,2,     2.14,2,   -999.0,9
  09AR19940101,  SR03,    47,  1,     20,    120,2,19940111,2040,-58.8670, 139.8392, 3902,    254.2,   1.8720,  34.3150,2,  34.3150,2,    205.9,2,    213.3,2,    52.80,2,    34.10,2,     2.40,2,   -999.0,9
  09AR19940101,  SR03,    47,  1,     19,    119,2,19940111,2040,-58.8670, 139.8392, 3902,    354.5,   2.2090,  34.4580,2,  34.4570,2,    186.5,2,    183.4,2,    60.70,2,    34.80,2,     2.44,2,   -999.0,9
  09AR19940101,  SR03,    47,  1,     18,    118,2,19940111,2040,-58.8670, 139.8392, 3902,    403.6,   2.2360,  34.4960,2,  34.4910,2,    179.6,2,    179.1,2,    63.50,2,    34.60,2,     2.44,2,   -999.0,9
  09AR19940101,  SR03,    47,  1,     17,    117,2,19940111,2040,-58.8670, 139.8392, 3902,    504.7,   2.2190,  34.5630,2,  34.5660,2,    176.6,2,    173.7,2,    66.50,2,    34.60,2,     2.42,2,   -999.0,9
  09AR19940101,  SR03,    47,  1,     16,    116,2,19940111,2040,-58.8670, 139.8392, 3902,    604.5,   2.2190,  34.6170,2,  34.6190,2,    175.9,2,    173.8,2,    70.90,2,    33.60,2,     2.36,2,   -999.0,9
  09AR19940101,  SR03,    47,  1,     15,    115,2,19940111,2040,-58.8670, 139.8392, 3902,    704.5,   2.1950,  34.6550,2,  34.6570,2,    175.5,2,    176.7,2,    72.70,2,    32.80,2,     2.31,2,   -999.0,9
  09AR19940101,  SR03,    47,  1,     14,    114,2,19940111,2040,-58.8670, 139.8392, 3902,    805.3,   2.1580,  34.6790,2,  34.6820,2,    180.1,2,    179.1,2,    73.70,2,    32.60,2,     2.29,2,   -999.0,9
  09AR19940101,  SR03,    47,  1,     13,    124,2,19940111,2040,-58.8670, 139.8392, 3902,    902.7,   2.1200,  34.6990,2,  34.7000,2,    180.9,2,    182.3,2,    74.80,2,    31.50,2,     2.26,2,   -999.0,9
  09AR19940101,  SR03,    47,  1,     12,     12,2,19940111,2040,-58.8670, 139.8392, 3902,   1104.3,   2.0090,  34.7290,2,  34.7290,2,    189.3,2,    189.0,2,    77.80,2,    31.50,2,     2.15,4,   -999.0,9
  09AR19940101,  SR03,    47,  1,     11,     11,2,19940111,2040,-58.8670, 139.8392, 3902,   1303.3,   1.8830,  34.7440,2,  34.7440,2,    192.2,2,    194.3,2,    80.80,2,    30.90,2,     2.15,2,   -999.0,9
  09AR19940101,  SR03,    47,  1,     10,     10,2,19940111,2040,-58.8670, 139.8392, 3902,   1503.1,   1.7230,  34.7470,2,  34.7480,2,    196.1,2,    197.8,2,    79.60,2,    32.10,4,     2.15,2,   -999.0,9
  09AR19940101,  SR03,    47,  1,      9,      9,2,19940111,2040,-58.8670, 139.8392, 3902,   1702.5,   1.5740,  34.7440,2,  34.7450,2,    198.5,2,    200.2,2,    84.60,2,    30.60,2,     2.16,2,   -999.0,9
  09AR19940101,  SR03,    47,  1,      8,      8,2,19940111,2040,-58.8670, 139.8392, 3902,   2000.9,   1.3050,  34.7350,2,  34.7340,2,    205.6,2,    203.1,2,    90.70,2,    31.30,2,     2.19,2,   -999.0,9
  09AR19940101,  SR03,    47,  1,      7,      7,2,19940111,2040,-58.8670, 139.8392, 3902,   2302.5,   1.0710,  34.7230,2,  34.7190,2,    206.6,2,    205.7,2,    91.30,2,    31.40,2,     2.22,2,   -999.0,9
  09AR19940101,  SR03,    47,  1,      6,      6,2,19940111,2040,-58.8670, 139.8392, 3902,   2600.3,   0.8500,  34.7110,2,  34.7070,2,    210.3,2,    208.5,2,    97.50,2,    31.90,2,     2.25,2,   -999.0,9
  09AR19940101,  SR03,    47,  1,      5,      5,2,19940111,2040,-58.8670, 139.8392, 3902,   2898.2,   0.6400,  34.7020,2,  34.7020,2,    213.4,2,    211.6,2,   107.30,2,    32.10,2,     2.27,2,   -999.0,9
  09AR19940101,  SR03,    47,  1,      4,      4,2,19940111,2040,-58.8670, 139.8392, 3902,   3201.8,   0.4510,  34.6930,2,  34.6920,2,    217.3,2,    216.5,2,   112.50,2,    32.20,2,     2.29,2,   -999.0,9
  09AR19940101,  SR03,    47,  1,      3,      3,2,19940111,2040,-58.8670, 139.8392, 3902,   3500.6,   0.3210,  34.6880,2,  34.6870,2,    221.0,2,    220.6,2,   119.40,2,    32.70,2,     2.30,2,   -999.0,9
  09AR19940101,  SR03,    47,  1,      2,      2,2,19940111,2040,-58.8670, 139.8392, 3902,   3802.7,   0.1920,  34.6820,2,  34.6800,2,    224.0,2,    224.9,2,   117.40,2,    32.20,2,     2.30,2,   -999.0,9
  09AR19940101,  SR03,    47,  1,      1,      1,2,19940111,2040,-58.8670, 139.8392, 3902,   3995.0,   0.1460,  34.6810,2,  34.6770,2,    225.7,2,    227.0,2,   121.00,2,    32.70,2,     2.30,2,   -999.0,9
  09AR19940101,  SR03,    48,  1,     24,     24,2,19940112,0256,-59.3597, 139.8360, 4138,     11.8,   3.3160,  33.8950,2,  33.8960,2,    337.3,2,    334.3,2,     8.50,2,    25.80,2,     1.60,4,   2130.3,6
  09AR19940101,  SR03,    48,  1,     23,    113,2,19940112,0256,-59.3597, 139.8360, 4138,     53.0,   1.8630,  33.9170,3,  33.9180,2,    343.1,2,    343.7,2,     6.80,2,    25.90,2,     1.84,2,   2134.8,2
  09AR19940101,  SR03,    48,  1,     22,     22,2,19940112,0256,-59.3597, 139.8360, 4138,    103.1,   1.2060,  33.9260,2,  33.9260,2,    333.9,2,    333.9,2,    16.30,2,    26.80,2,     1.93,2,   2146.8,2
  09AR19940101,  SR03,    48,  1,     21,     21,2,19940112,0256,-59.3597, 139.8360, 4138,    149.5,   0.1970,  33.9950,3,  33.9990,2,   -999.0,5,    322.3,2,    30.30,2,    29.80,2,     2.09,2,   2169.6,2
  09AR19940101,  SR03,    48,  1,     20,    120,2,19940112,0256,-59.3597, 139.8360, 4138,    204.1,   1.7640,  34.2820,4,  34.2700,2,    235.7,2,    226.4,2,    49.10,2,    33.30,2,     2.34,2,   2217.5,2
  09AR19940101,  SR03,    48,  1,     19,    119,2,19940112,0256,-59.3597, 139.8360, 4138,    288.5,   2.1300,  34.4290,2,  34.4220,2,    190.1,2,    188.1,2,    60.40,2,    35.10,2,     2.43,2,   2240.9,2
  09AR19940101,  SR03,    48,  1,     18,    118,2,19940112,0256,-59.3597, 139.8360, 4138,    403.0,   2.2220,  34.5250,2,  34.5220,2,    179.4,2,    176.4,2,    65.40,2,    34.60,2,     2.41,2,   2250.1,2
  09AR19940101,  SR03,    48,  1,     17,    117,2,19940112,0256,-59.3597, 139.8360, 4138,    503.8,   2.2310,  34.5910,2,  34.5890,2,    175.8,2,    174.1,2,    69.60,2,    34.10,2,     2.36,2,   2252.6,2
  09AR19940101,  SR03,    48,  1,     16,    116,2,19940112,0256,-59.3597, 139.8360, 4138,    603.1,   2.2560,  34.6380,2,  34.6390,2,    176.5,2,    176.5,2,    68.00,2,    33.40,2,     2.31,2,   2251.1,2
  09AR19940101,  SR03,    48,  1,     15,    115,2,19940112,0256,-59.3597, 139.8360, 4138,    703.8,   2.1920,  34.6640,2,  34.6640,2,    177.4,2,    177.8,2,    71.70,2,    33.10,2,     2.28,2,   2251.3,2
  09AR19940101,  SR03,    48,  1,     14,    114,2,19940112,0256,-59.3597, 139.8360, 4138,    802.9,   2.1490,  34.6900,2,  34.6930,2,    178.0,2,    181.2,2,    72.40,2,    32.50,2,     2.24,2,   2249.0,2
  09AR19940101,  SR03,    48,  1,     13,    124,2,19940112,0256,-59.3597, 139.8360, 4138,   1004.0,   2.0390,  34.7210,2,  34.7200,2,    184.9,2,    187.2,2,    69.20,2,    31.60,2,     2.18,2,   2246.9,2
  09AR19940101,  SR03,    48,  1,     12,     12,2,19940112,0256,-59.3597, 139.8360, 4138,   1204.2,   1.9350,  34.7400,2,  34.7400,2,    188.0,2,    192.9,2,    72.50,2,    31.10,2,     2.09,4,   2245.3,2
  09AR19940101,  SR03,    48,  1,     11,     11,2,19940112,0256,-59.3597, 139.8360, 4138,   1405.7,   1.7720,  34.7460,2,  34.7480,2,    191.6,2,    197.0,2,    78.10,2,    31.00,2,     2.11,2,   2246.1,2
  09AR19940101,  SR03,    48,  1,     10,     10,2,19940112,0256,-59.3597, 139.8360, 4138,   1595.0,   1.6290,  34.7460,2,  34.7470,2,    193.9,2,    199.5,2,    77.30,2,    31.00,2,     2.13,2,   2248.2,2
  09AR19940101,  SR03,    48,  1,      9,      9,2,19940112,0256,-59.3597, 139.8360, 4138,   1802.1,   1.4680,  34.7420,2,  34.7430,2,    196.2,2,    201.3,2,    83.50,2,    31.20,2,     2.14,2,   2249.4,2
  09AR19940101,  SR03,    48,  1,      8,      8,2,19940112,0256,-59.3597, 139.8360, 4138,   1971.7,   1.3230,  34.7360,2,  34.7360,2,    202.7,2,    203.1,2,    94.20,2,    31.30,2,     2.15,2,   2251.5,2
  09AR19940101,  SR03,    48,  1,      7,      7,2,19940112,0256,-59.3597, 139.8360, 4138,   2301.3,   1.0700,  34.7230,2,  34.7220,2,    206.6,2,    205.6,2,   102.40,2,    31.80,2,     2.19,2,   2255.8,6
  09AR19940101,  SR03,    48,  1,      6,      6,2,19940112,0256,-59.3597, 139.8360, 4138,   2600.0,   0.8340,  34.7120,2,  34.7090,2,    207.9,2,    208.8,2,   107.40,2,    32.30,2,     2.22,2,   2258.7,2
  09AR19940101,  SR03,    48,  1,      5,      5,2,19940112,0256,-59.3597, 139.8360, 4138,   2899.5,   0.6160,  34.7020,2,  34.7010,2,    213.3,2,    212.6,2,   105.40,2,    32.50,2,     2.24,2,   2257.5,2
  09AR19940101,  SR03,    48,  1,      4,      4,2,19940112,0256,-59.3597, 139.8360, 4138,   3300.2,   0.3890,  34.6910,2,  34.6910,2,    220.5,2,    218.6,2,   104.80,2,    32.80,2,     2.26,2,   2258.4,2
  09AR19940101,  SR03,    48,  1,      3,      3,2,19940112,0256,-59.3597, 139.8360, 4138,   3699.5,   0.2260,  34.6860,2,  34.6840,2,    225.4,2,    223.8,2,   114.30,2,    32.80,2,     2.26,2,   2258.1,2
  09AR19940101,  SR03,    48,  1,      2,      2,2,19940112,0256,-59.3597, 139.8360, 4138,   3999.3,   0.1070,  34.6810,2,  34.6800,2,    229.7,2,    228.1,2,   113.30,2,    32.70,2,     2.26,2,   2256.6,2
  09AR19940101,  SR03,    48,  1,      1,      1,2,19940112,0256,-59.3597, 139.8360, 4138,   4215.6,   0.0590,  34.6790,2,  34.6790,2,    232.6,2,    230.7,2,   115.50,2,    32.60,2,     2.26,2,   2256.7,6
  09AR19940101,  SR03,    49,  1,     24,     24,2,19940112,0709,-59.8607, 139.8572, 4461,     14.9,   2.6600,  33.9160,2,  33.9200,2,    339.8,2,    339.7,2,     7.80,2,    25.30,2,     1.57,4,   2131.8,2
  09AR19940101,  SR03,    49,  1,     22,     22,2,19940112,0709,-59.8607, 139.8572, 4461,     45.3,   1.2420,  33.9310,3,  33.9330,2,    349.9,2,    350.3,2,    10.10,2,    25.60,2,     1.67,2,   2136.8,2
  09AR19940101,  SR03,    49,  1,     16,    116,2,19940112,0709,-59.8607, 139.8572, 4461,     74.8,   0.4200,  33.9180,2,  33.9170,2,    349.9,2,    349.7,2,    24.80,2,    26.30,2,     1.82,2,   2147.8,2
  09AR19940101,  SR03,    49,  1,     13,    124,2,19940112,0709,-59.8607, 139.8572, 4461,    123.3,  -0.1900,  33.9970,2,  33.9980,2,    332.5,2,    330.6,2,    30.60,2,    28.80,2,     2.05,2,   -999.0,9
  09AR19940101,  SR03,    49,  1,     12,     12,2,19940112,0709,-59.8607, 139.8572, 4461,    152.0,  -0.3570,  34.0590,4,  34.0620,2,    311.1,2,    312.7,2,    38.20,2,    30.30,2,     2.13,2,   2180.4,2
  09AR19940101,  SR03,    49,  1,      9,      9,2,19940112,0709,-59.8607, 139.8572, 4461,    203.7,   1.8320,  34.3350,2,  34.3340,2,    211.0,2,    210.4,2,    52.50,2,    33.70,2,     2.39,2,   2225.9,2