BOTTLE,20230321CCHSIOENA
EXPOCODE,SECT_ID,STNNBR,CASTNO,SAMPNO,BTLNBR,BTLNBR_FLAG_W,DATE,TIME,LATITUDE,LONGITUDE,DEPTH,CTDPRS,CTDTMP,CTDSAL,CTDSAL_FLAG_W,SALNTY,SALNTY_FLAG_W,CTDOXY,CTDOXY_FLAG_W,OXYGEN,OXYGEN_FLAG_W,SILCAT,SILCAT_FLAG_W,NITRAT,NITRAT_FLAG_W,PHSPHT,PHSPHT_FLAG_W,TCARBN,TCARBN_FLAG_W
,,,,,,,,,,,METERS,DBAR,ITS-90,PSS-78,,PSS-78,,UMOL/KG,,UMOL/KG,,UMOL/KG,,UMOL/KG,,UMOL/KG,,UMOL/KG,
  09AR19940101,  SR03,    26,  1,     24,     24,2,19940107,1322,-51.4380, 143.0555, 3762,     13.5,   7.3370,  34.0200,2,  34.0210,2,    296.2,2,    287.1,2,     6.40,2,    19.10,2,     1.30,4,   -999.0,9
  09AR19940101,  SR03,    26,  1,     23,    113,2,19940107,1322,-51.4380, 143.0555, 3762,     54.3,   7.3100,  34.0250,4,  34.0210,2,    290.4,2,    296.4,2,     6.00,2,    19.30,2,     1.32,2,   -999.0,9
  09AR19940101,  SR03,    26,  1,     22,     22,2,19940107,1322,-51.4380, 143.0555, 3762,    105.3,   5.5090,  34.0330,2,  34.0330,2,    298.1,2,    302.4,2,     8.10,2,    21.50,2,     1.53,2,   -999.0,9
  09AR19940101,  SR03,    26,  1,     21,     21,2,19940107,1322,-51.4380, 143.0555, 3762,    154.2,   4.8460,  34.0200,2,  34.0190,2,    301.6,2,    298.9,2,     8.80,2,    23.20,2,     1.63,2,   -999.0,9
  09AR19940101,  SR03,    26,  1,     20,    120,2,19940107,1322,-51.4380, 143.0555, 3762,    204.9,   4.4420,  34.0330,2,  34.0290,2,    298.1,2,    295.8,2,    10.70,2,    24.30,2,     1.70,2,   -999.0,9
  09AR19940101,  SR03,    26,  1,     19,    119,2,19940107,1322,-51.4380, 143.0555, 3762,    304.6,   4.2460,  34.0930,3,  34.0930,2,    273.1,2,    275.8,2,    14.70,2,    25.80,2,     1.80,2,   -999.0,9
  09AR19940101,  SR03,    26,  1,     18,    118,2,19940107,1322,-51.4380, 143.0555, 3762,    404.9,   4.4050,  34.2150,2,  34.2180,2,    229.1,2,    242.2,2,    20.90,2,    27.90,2,     1.94,2,   -999.0,9
  09AR19940101,  SR03,    26,  1,     17,    117,2,19940107,1322,-51.4380, 143.0555, 3762,    504.7,   4.0560,  34.2550,3,  34.2550,2,    226.8,2,    229.9,2,    26.40,2,    29.70,2,     2.06,2,   -999.0,9
  09AR19940101,  SR03,    26,  1,     16,    116,2,19940107,1322,-51.4380, 143.0555, 3762,    602.9,   3.5190,  34.2660,2,  34.2680,2,    223.6,2,    223.9,2,    33.30,2,    31.00,2,     2.16,2,   -999.0,9
  09AR19940101,  SR03,    26,  1,     15,    115,2,19940107,1322,-51.4380, 143.0555, 3762,    705.9,   3.1360,  34.3070,2,  34.3100,2,    210.8,2,    213.5,2,    40.70,2,    31.80,2,     2.26,2,   -999.0,9
  09AR19940101,  SR03,    26,  1,     14,    114,2,19940107,1322,-51.4380, 143.0555, 3762,    803.0,   2.9310,  33.8940,4,  34.3590,2,    200.9,2,    201.8,2,    47.50,2,    33.00,2,     2.33,2,   -999.0,9
  09AR19940101,  SR03,    26,  1,     13,    124,2,19940107,1322,-51.4380, 143.0555, 3762,    905.2,   2.8340,  34.4060,2,  34.4060,2,    187.2,2,    192.5,2,    52.90,2,    33.30,2,     2.36,2,   -999.0,9
  09AR19940101,  SR03,    26,  1,     12,     12,2,19940107,1322,-51.4380, 143.0555, 3762,   1003.6,   2.6770,  34.4540,2,  34.4550,2,    185.0,2,    185.1,2,    58.80,2,    33.90,2,     2.33,4,   -999.0,9
  09AR19940101,  SR03,    26,  1,     11,     11,2,19940107,1322,-51.4380, 143.0555, 3762,   1203.6,   2.5510,  34.5590,2,  34.5590,2,    177.7,2,    176.5,2,    66.90,2,    33.50,2,     2.35,2,   -999.0,9
  09AR19940101,  SR03,    26,  1,     10,     10,2,19940107,1322,-51.4380, 143.0555, 3762,   1403.9,   2.4490,  34.6330,2,  34.6330,2,    178.2,2,    176.7,2,    71.50,2,    32.50,2,     2.30,2,   -999.0,9
  09AR19940101,  SR03,    26,  1,      9,    121,2,19940107,1322,-51.4380, 143.0555, 3762,   1604.0,   2.3470,  34.6860,2,  34.6860,2,    184.2,2,    181.5,2,    75.10,2,    31.80,2,     2.25,2,   -999.0,9
  09AR19940101,  SR03,    26,  1,      8,      8,2,19940107,1322,-51.4380, 143.0555, 3762,   1704.0,   2.3030,  34.7040,2,  34.7040,2,    187.3,2,    182.9,2,    76.20,2,    31.30,2,     2.21,2,   -999.0,9
  09AR19940101,  SR03,    26,  1,      7,      7,2,19940107,1322,-51.4380, 143.0555, 3762,   1903.4,   2.1750,  34.7320,2,  34.7300,2,    193.2,2,    188.9,2,    81.10,2,    30.80,2,     2.15,2,   -999.0,9
  09AR19940101,  SR03,    26,  1,      6,      6,2,19940107,1322,-51.4380, 143.0555, 3762,   2202.5,   1.9440,  34.7400,2,  34.7400,2,    188.0,2,    187.2,2,    94.20,2,    31.20,2,     2.21,2,   -999.0,9
  09AR19940101,  SR03,    26,  1,      5,      5,2,19940107,1322,-51.4380, 143.0555, 3762,   2503.6,   1.7270,  34.7450,2,  34.7440,2,    196.8,2,    196.4,2,    91.90,2,    30.70,2,     2.16,2,   -999.0,9
  09AR19940101,  SR03,    26,  1,      4,      4,2,19940107,1322,-51.4380, 143.0555, 3762,   2802.7,   1.4650,  34.7380,2,  34.7380,2,    201.6,2,    201.7,2,    95.70,2,    31.00,2,     2.17,2,   -999.0,9
  09AR19940101,  SR03,    26,  1,      3,      3,2,19940107,1322,-51.4380, 143.0555, 3762,   3101.4,   1.2350,  34.7270,2,  34.7280,2,    203.5,2,    203.4,2,   102.40,2,    31.50,2,     2.21,2,   -999.0,9
  09AR19940101,  SR03,    26,  1,      2,      2,2,19940107,1322,-51.4380, 143.0555, 3762,   3400.6,   1.0640,  34.7190,2,  34.7160,2,    204.2,2,    205.0,2,   105.30,2,    31.80,2,     2.24,2,   -999.0,9
  09AR19940101,  SR03,    26,  1,      1,      1,2,19940107,1322,-51.4380, 143.0555, 3762,   3770.7,   0.9900,  34.7140,2,  34.7110,2,    204.7,2,    206.7,2,   113.80,2,    31.90,2,     2.26,2,   -999.0,9
  09AR19940101,  SR03,    27,  1,     21,     21,2,19940107,1727,-51.8437, 142.8282, 3128,     55.2,   6.4510,  33.9810,4,-999.0000,9,   -999.0,5,   -999.0,9,  -999.00,9,  -999.00,9,  -999.00,9,   -999.0,9
  09AR19940101,  SR03,    27,  1,     23,    113,2,19940107,1727,-51.8437, 142.8282, 3128,     55.4,   6.4210,  33.9920,4,-999.0000,9,   -999.0,5,   -999.0,9,  -999.00,9,  -999.00,9,  -999.00,9,   -999.0,9
  09AR19940101,  SR03,    27,  1,     22,     22,2,19940107,1727,-51.8437, 142.8282, 3128,     55.7,   6.4050,  33.9940,4,-999.0000,9,   -999.0,5,   -999.0,9,  -999.00,9,  -999.00,9,  -999.00,9,   -999.0,9
  09AR19940101,  SR03,    27,  1,     24,     24,2,19940107,1727,-51.8437, 142.8282, 3128,     55.9,   6.2860,  33.9920,4,-999.0000,9,   -999.0,5,   -999.0,9,  -999.00,9,  -999.00,9,  -999.00,9,   -999.0,9
  09AR19940101,  SR03,    28,  1,     24,     24,2,19940107,1915,-51.8608, 142.8325, 3577,     14.0,   6.8040,  33.9720,2,  33.9720,2,    293.6,2,    298.9,2,   106.90,4,    31.90,4,     2.19,4,   2098.0,2
  09AR19940101,  SR03,    28,  1,     23,    113,2,19940107,1915,-51.8608, 142.8325, 3577,     43.4,   6.7820,  33.9740,2,  33.9720,2,    302.6,2,    298.9,2,     4.30,2,    20.10,2,     1.37,2,   2098.3,6
  09AR19940101,  SR03,    28,  1,     22,     22,2,19940107,1915,-51.8608, 142.8325, 3577,     80.3,   5.4850,  34.0410,2,  34.0350,2,    302.3,2,    301.6,2,     7.40,2,    21.70,2,     1.54,2,   2117.2,2
  09AR19940101,  SR03,    28,  1,     21,     21,2,19940107,1915,-51.8608, 142.8325, 3577,    155.0,   4.3080,  34.0290,2,  34.0290,2,    291.2,2,    292.8,2,    10.30,2,    25.00,2,     1.73,2,   2134.2,2
  09AR19940101,  SR03,    28,  1,     20,    120,2,19940107,1915,-51.8608, 142.8325, 3577,    204.6,   4.1690,  34.0610,2,  34.0610,2,    285.7,2,    283.5,2,    12.00,2,    25.70,2,     1.78,2,   2142.1,2
  09AR19940101,  SR03,    28,  1,     19,    119,2,19940107,1915,-51.8608, 142.8325, 3577,    254.4,   3.9990,  34.0870,2,  34.0860,2,    275.8,2,    274.4,2,    14.70,2,    26.70,2,     1.85,2,   2148.6,2
  09AR19940101,  SR03,    28,  1,     18,    118,2,19940107,1915,-51.8608, 142.8325, 3577,    352.3,   4.0530,  34.2110,2,  34.2120,2,    238.6,2,    240.1,2,    22.30,2,    29.10,2,     2.01,2,   2172.5,2
  09AR19940101,  SR03,    28,  1,     17,    117,2,19940107,1915,-51.8608, 142.8325, 3577,    454.7,   3.5960,  34.2630,2,  34.2630,2,    224.8,2,    225.1,2,    30.00,2,    31.00,2,     2.15,2,   2187.9,2
  09AR19940101,  SR03,    28,  1,     16,    116,2,19940107,1915,-51.8608, 142.8325, 3577,    603.3,   3.0520,  34.3280,2,  34.3270,2,    204.6,2,    208.6,2,    41.40,2,    32.60,2,     2.29,2,   2210.2,2
  09AR19940101,  SR03,    28,  1,     15,    115,2,19940107,1915,-51.8608, 142.8325, 3577,    663.0,   2.9170,  34.3680,2,  34.3650,2,    198.7,2,    199.7,2,    46.70,2,    32.80,2,     2.33,2,   2219.9,2
  09AR19940101,  SR03,    28,  1,     14,    114,2,19940107,1915,-51.8608, 142.8325, 3577,    803.4,   2.6920,  34.4420,2,  34.4440,2,    186.1,2,    187.0,2,    55.90,2,    34.00,2,     2.38,2,   2233.2,2
  09AR19940101,  SR03,    28,  1,     13,    124,2,19940107,1915,-51.8608, 142.8325, 3577,    902.7,   2.5970,  34.4940,2,  34.4940,2,    183.8,2,    180.6,2,    60.60,2,    33.90,2,     2.39,2,   2241.1,2
  09AR19940101,  SR03,    28,  1,     12,     12,2,19940107,1915,-51.8608, 142.8325, 3577,   1003.1,   2.5750,  34.5430,2,  34.5450,2,    176.3,2,    176.5,2,    64.70,2,    33.60,2,     2.32,4,   2246.0,6
  09AR19940101,  SR03,    28,  1,     11,     11,2,19940107,1915,-51.8608, 142.8325, 3577,   1103.9,   2.4960,  34.5930,2,  34.5910,2,    176.1,2,    175.4,2,    68.70,2,    33.40,2,     2.32,2,   2248.2,2
  09AR19940101,  SR03,    28,  1,     10,     10,2,19940107,1915,-51.8608, 142.8325, 3577,   1203.5,   2.4420,  34.6290,2,  34.6310,2,    177.0,2,    176.3,2,    69.80,2,    32.60,2,     2.31,2,   2249.1,2
  09AR19940101,  SR03,    28,  1,      9,    121,2,19940107,1915,-51.8608, 142.8325, 3577,   1303.4,   2.4020,  34.6570,2,  34.6570,2,    178.9,2,    177.9,2,    69.80,2,    32.70,2,     2.28,2,   2248.7,2
  09AR19940101,  SR03,    28,  1,      8,      8,2,19940107,1915,-51.8608, 142.8325, 3577,   1603.8,   2.2210,  34.7160,2,  34.7160,2,    187.0,2,    185.9,2,    73.40,2,    30.90,2,     2.18,2,   2245.4,2
  09AR19940101,  SR03,    28,  1,      7,      7,2,19940107,1915,-51.8608, 142.8325, 3577,   1902.3,   2.0080,  34.7450,2,  34.7450,2,    195.8,2,    194.0,2,    78.50,2,    30.50,2,     2.12,2,   2245.6,2
  09AR19940101,  SR03,    28,  1,      6,      6,2,19940107,1915,-51.8608, 142.8325, 3577,   2201.3,   1.7470,  34.7480,2,  34.7490,2,    199.6,2,    198.4,2,    81.10,2,    30.60,2,     2.13,2,   2247.5,2
  09AR19940101,  SR03,    28,  1,      5,      5,2,19940107,1915,-51.8608, 142.8325, 3577,   2501.3,   1.4120,  34.7370,2,  34.7370,2,    202.1,2,    202.1,2,    96.60,2,    31.20,2,     2.16,2,   2253.1,2
  09AR19940101,  SR03,    28,  1,      4,      4,2,19940107,1915,-51.8608, 142.8325, 3577,   2801.8,   1.1230,  34.7240,2,  34.7240,2,    204.1,2,    205.5,2,    95.10,2,    31.70,2,     2.20,2,   2256.7,2
  09AR19940101,  SR03,    28,  1,      3,      3,2,19940107,1915,-51.8608, 142.8325, 3577,   3101.2,   0.9630,  34.7160,2,  34.7160,2,    205.7,2,    207.2,2,    99.40,2,    31.80,2,     2.23,2,   2259.8,6
  09AR19940101,  SR03,    28,  1,      2,      2,2,19940107,1915,-51.8608, 142.8325, 3577,   3405.1,   0.9560,  34.7140,2,  34.7130,2,    206.6,2,    208.0,2,   108.50,2,    31.70,2,     2.23,2,   2259.1,2
  09AR19940101,  SR03,    28,  1,      1,      1,2,19940107,1915,-51.8608, 142.8325, 3577,   3645.6,   0.9130,  34.7120,2,  34.7130,2,    210.1,2,    209.9,2,   113.40,2,    31.90,2,     2.24,2,   2259.2,2
  09AR19940101,  SR03,    29,  1,     24,     24,2,19940108,0112,-52.2643, 142.6202, 3441,     14.2,   5.2930,  33.8480,2,  33.8490,2,    314.3,2,    311.0,2,     7.20,2,    22.60,2,     1.50,4,   -999.0,9
  09AR19940101,  SR03,    29,  1,     23,    113,2,19940108,0112,-52.2643, 142.6202, 3441,     54.3,   5.2770,  33.8490,2,  33.8480,2,    309.2,2,    311.4,2,     5.50,2,    22.70,2,     1.51,2,   -999.0,9
  09AR19940101,  SR03,    29,  1,     22,     22,2,19940108,0112,-52.2643, 142.6202, 3441,    105.3,   3.0810,  33.8980,2,  33.9000,2,    319.7,2,    315.2,2,     9.60,2,    25.30,2,     1.80,2,   -999.0,9
  09AR19940101,  SR03,    29,  1,     21,     21,2,19940108,0112,-52.2643, 142.6202, 3441,    154.3,   2.7280,  33.9120,2,  33.9120,2,    316.4,2,    315.7,2,    11.20,2,    26.20,2,     1.82,2,   -999.0,9
  09AR19940101,  SR03,    29,  1,     20,    120,2,19940108,0112,-52.2643, 142.6202, 3441,    235.4,   2.4000,  33.9250,2,  33.9250,2,    309.1,2,    316.0,2,    13.20,2,    26.80,2,     1.87,2,   -999.0,9
  09AR19940101,  SR03,    29,  1,     19,    119,2,19940108,0112,-52.2643, 142.6202, 3441,    332.8,   3.1900,  34.1330,2,  34.1310,2,    258.7,2,    258.5,2,    23.20,2,    29.10,2,     2.03,2,   -999.0,9
  09AR19940101,  SR03,    29,  1,     18,    118,2,19940108,0112,-52.2643, 142.6202, 3441,    404.2,   3.0750,  34.2080,2,  34.2080,2,    237.9,2,    237.3,2,    30.30,2,    31.10,2,     2.16,2,   -999.0,9
  09AR19940101,  SR03,    29,  1,     17,    117,2,19940108,0112,-52.2643, 142.6202, 3441,    523.9,   2.6230,  34.2800,2,  34.2800,2,    218.3,2,    218.3,2,    41.60,2,    32.80,2,     2.29,2,   -999.0,9
  09AR19940101,  SR03,    29,  1,     16,    116,2,19940108,0112,-52.2643, 142.6202, 3441,    604.2,   2.6200,  34.3600,2,  34.3600,2,    200.9,2,    201.1,2,    49.10,2,    33.60,2,     2.35,2,   -999.0,9
  09AR19940101,  SR03,    29,  1,     15,    115,2,19940108,0112,-52.2643, 142.6202, 3441,    705.5,   2.5230,  34.4320,2,  34.4330,2,    187.7,2,    188.6,2,    57.30,2,    33.90,2,     2.38,2,   -999.0,9
  09AR19940101,  SR03,    29,  1,     14,    114,2,19940108,0112,-52.2643, 142.6202, 3441,    804.5,   2.5000,  34.5070,2,  34.5100,2,    181.8,2,    179.7,2,    63.90,2,    33.80,2,     2.39,2,   -999.0,9
  09AR19940101,  SR03,    29,  1,     13,    124,2,19940108,0112,-52.2643, 142.6202, 3441,    904.3,   2.4580,  34.5410,2,  34.5400,2,    179.3,2,    177.0,2,    65.20,2,    33.80,2,     2.38,2,   -999.0,9
  09AR19940101,  SR03,    29,  1,     12,     12,3,19940108,0112,-52.2643, 142.6202, 3441,   1003.1,   2.4020,  34.5930,2,  34.5940,2,    174.6,2,    175.4,2,    68.60,2,    33.50,2,     2.30,4,   -999.0,9
  09AR19940101,  SR03,    29,  1,     11,     11,2,19940108,0112,-52.2643, 142.6202, 3441,   1203.4,   2.3590,  34.6730,2,  34.6730,2,    177.6,2,    179.4,2,    71.60,2,    32.20,2,     2.24,2,   -999.0,9
  09AR19940101,  SR03,    29,  1,     10,     10,2,19940108,0112,-52.2643, 142.6202, 3441,   1402.8,   2.2240,  34.7140,2,  34.7140,2,    184.1,2,    184.5,2,    74.50,2,    31.40,2,     2.18,2,   -999.0,9
  09AR19940101,  SR03,    29,  1,      9,    121,2,19940108,0112,-52.2643, 142.6202, 3441,   1603.1,   2.1150,  34.7360,2,  34.7350,2,    188.9,2,    189.7,2,    75.80,2,    30.70,2,     2.14,2,   -999.0,9
  09AR19940101,  SR03,    29,  1,      8,      8,2,19940108,0112,-52.2643, 142.6202, 3441,   1803.7,   1.9570,  34.7490,2,  34.7460,2,    195.3,2,    201.0,4,    81.00,2,    30.40,2,     2.12,2,   -999.0,9
  09AR19940101,  SR03,    29,  1,      7,      7,2,19940108,0112,-52.2643, 142.6202, 3441,   2004.6,   1.7560,  34.7490,2,  34.7440,2,    199.9,2,    195.1,2,    85.00,2,    30.60,2,     2.15,2,   -999.0,9
  09AR19940101,  SR03,    29,  1,      6,      6,2,19940108,0112,-52.2643, 142.6202, 3441,   2201.3,   1.6090,  34.7440,2,  34.7420,2,    197.1,2,    196.4,2,    94.50,2,    31.00,2,     2.17,2,   -999.0,9
  09AR19940101,  SR03,    29,  1,      5,      5,2,19940108,0112,-52.2643, 142.6202, 3441,   2501.9,   1.3340,  34.7350,2,  34.7330,2,    201.0,2,    199.0,2,    95.70,2,    31.50,2,     2.21,2,   -999.0,9
  09AR19940101,  SR03,    29,  1,      4,      4,2,19940108,0112,-52.2643, 142.6202, 3441,   2800.2,   1.1180,  34.7250,2,  34.7260,2,    202.0,2,    202.7,2,   104.30,2,    31.50,2,     2.22,2,   -999.0,9
  09AR19940101,  SR03,    29,  1,      3,      3,2,19940108,0112,-52.2643, 142.6202, 3441,   3000.1,   1.0200,  34.7210,2,  34.7200,2,    203.2,2,    203.9,2,   108.20,2,    31.90,2,     2.24,2,   -999.0,9
  09AR19940101,  SR03,    29,  1,      2,      2,2,19940108,0112,-52.2643, 142.6202, 3441,   3202.9,   0.9970,  34.7190,2,  34.7180,2,    205.4,2,    204.6,2,   105.90,2,    31.80,2,     2.24,2,   -999.0,9
  09AR19940101,  SR03,    29,  1,      1,      1,2,19940108,0112,-52.2643, 142.6202, 3441,   3456.3,   0.9450,  34.7170,2,  34.7120,2,    205.1,2,    207.0,2,   110.50,2,    31.80,2,     2.25,2,   -999.0,9
  09AR19940101,  SR03,    30,  1,     24,     24,2,19940108,0515,-52.6402, 142.3873, 3484,     13.2,   5.4990,  33.8570,2,  33.8580,2,    310.5,2,    310.6,2,     1.50,2,    22.70,2,     1.52,4,   2105.1,2
  09AR19940101,  SR03,    30,  1,     23,    113,2,19940108,0515,-52.6402, 142.3873, 3484,     13.6,   5.4930,  33.8570,2,-999.0000,9,    310.5,2,   -999.0,9,  -999.00,9,  -999.00,9,  -999.00,9,   -999.0,9
  09AR19940101,  SR03,    30,  1,     22,     22,2,19940108,0515,-52.6402, 142.3873, 3484,     53.5,   5.4110,  33.8540,2,  33.8560,2,    310.8,2,    311.0,2,     1.40,2,    22.70,2,     1.52,2,   -999.0,9
  09AR19940101,  SR03,    30,  1,     21,     21,2,19940108,0515,-52.6402, 142.3873, 3484,     53.6,   5.4070,  33.8550,2,-999.0000,9,    310.8,2,   -999.0,9,  -999.00,9,  -999.00,9,  -999.00,9,   -999.0,9
  09AR19940101,  SR03,    30,  1,     16,    116,2,19940108,0515,-52.6402, 142.3873, 3484,     77.9,   4.7290,  33.8510,3,  33.8520,2,    321.2,2,    317.1,2,     1.20,2,    23.00,2,     1.59,2,   2108.8,2
  09AR19940101,  SR03,    30,  1,     19,    119,2,19940108,0515,-52.6402, 142.3873, 3484,     78.1,   4.7580,  33.8510,3,-999.0000,9,    321.2,2,   -999.0,9,  -999.00,9,  -999.00,9,  -999.00,9,   -999.0,9
  09AR19940101,  SR03,    30,  1,     18,    118,2,19940108,0515,-52.6402, 142.3873, 3484,     78.1,   4.7440,  33.8520,3,-999.0000,9,    321.2,2,   -999.0,9,  -999.00,9,  -999.00,9,  -999.00,9,   -999.0,9
  09AR19940101,  SR03,    30,  1,     17,    117,2,19940108,0515,-52.6402, 142.3873, 3484,     78.4,   4.7640,  33.8550,3,-999.0000,9,    321.2,2,   -999.0,9,  -999.00,9,  -999.00,9,  -999.00,9,   -999.0,9
  09AR19940101,  SR03,    30,  1,     15,    115,2,19940108,0515,-52.6402, 142.3873, 3484,     78.4,   4.7400,  33.8440,4,-999.0000,9,    321.2,2,   -999.0,9,  -999.00,9,  -999.00,9,  -999.00,9,   -999.0,9
  09AR19940101,  SR03,    30,  1,     20,    120,2,19940108,0515,-52.6402, 142.3873, 3484,     78.9,   4.7570,  33.8510,3,-999.0000,9,    321.2,2,   -999.0,9,  -999.00,9,  -999.00,9,  -999.00,9,   -999.0,9
  09AR19940101,  SR03,    30,  1,     14,    114,2,19940108,0515,-52.6402, 142.3873, 3484,    103.3,   2.9010,  33.8930,2,  33.8940,2,    320.2,2,    320.0,2,     7.90,2,    25.00,2,     1.91,2,   2133.3,2
  09AR19940101,  SR03,    30,  1,     13,    124,2,19940108,0515,-52.6402, 142.3873, 3484,    103.9,   2.8640,  33.8940,2,-999.0000,9,    320.2,2,   -999.0,9,  -999.00,9,  -999.00,9,  -999.00,9,   -999.0,9
  09AR19940101,  SR03,    30,  1,     12,     12,2,19940108,0515,-52.6402, 142.3873, 3484,    154.1,   2.1150,  33.9140,2,  33.9170,2,    320.6,2,    320.2,2,    13.60,2,    27.10,2,     1.96,2,   2142.3,2
  09AR19940101,  SR03,    30,  1,     11,     11,2,19940108,0515,-52.6402, 142.3873, 3484,    154.1,   2.1170,  33.9150,2,-999.0000,9,    320.6,2,   -999.0,9,  -999.00,9,  -999.00,9,  -999.00,9,   -999.0,9