BOTTLE,20230321CCHSIOENA
EXPOCODE,SECT_ID,STNNBR,CASTNO,SAMPNO,BTLNBR,BTLNBR_FLAG_W,DATE,TIME,LATITUDE,LONGITUDE,DEPTH,CTDPRS,CTDTMP,CTDSAL,CTDSAL_FLAG_W,SALNTY,SALNTY_FLAG_W,CTDOXY,CTDOXY_FLAG_W,OXYGEN,OXYGEN_FLAG_W,SILCAT,SILCAT_FLAG_W,NITRAT,NITRAT_FLAG_W,PHSPHT,PHSPHT_FLAG_W,TCARBN,TCARBN_FLAG_W
,,,,,,,,,,,METERS,DBAR,ITS-90,PSS-78,,PSS-78,,UMOL/KG,,UMOL/KG,,UMOL/KG,,UMOL/KG,,UMOL/KG,,UMOL/KG,
  09AR19940101,  SR03,    72,  1,     18,      6,2,19940116,2025,-66.3787, 140.3588,  737,     13.3,  -0.6250,  34.3140,2,  34.3040,4,    355.4,2,    349.9,2,    64.60,2,    27.20,2,     1.86,4,   -999.0,9
  09AR19940101,  SR03,    72,  1,     13,      1,2,19940116,2025,-66.3787, 140.3588,  737,     27.5,  -0.6740,  34.3160,3,  34.3180,4,    347.7,2,    348.8,2,    63.20,2,    27.20,2,     1.90,2,   -999.0,9
  09AR19940101,  SR03,    72,  1,     15,      3,2,19940116,2025,-66.3787, 140.3588,  737,     27.6,  -0.6870,  34.3170,3,-999.0000,9,    347.7,2,   -999.0,9,  -999.00,9,  -999.00,9,  -999.00,9,   -999.0,9
  09AR19940101,  SR03,    72,  1,     14,      2,2,19940116,2025,-66.3787, 140.3588,  737,     27.6,  -0.6730,  34.3180,4,-999.0000,9,    347.7,2,   -999.0,9,  -999.00,9,  -999.00,9,  -999.00,9,   -999.0,9
  09AR19940101,  SR03,    72,  1,     17,      5,2,19940116,2025,-66.3787, 140.3588,  737,     27.7,  -0.6830,  34.3190,2,-999.0000,9,    347.7,2,   -999.0,9,  -999.00,9,  -999.00,9,  -999.00,9,   -999.0,9
  09AR19940101,  SR03,    72,  1,     16,      4,2,19940116,2025,-66.3787, 140.3588,  737,     27.7,  -0.6800,  34.3160,2,-999.0000,9,    347.7,2,   -999.0,9,  -999.00,9,  -999.00,9,  -999.00,9,   -999.0,9
  09AR19940101,  SR03,    72,  1,     12,     24,2,19940116,2025,-66.3787, 140.3588,  737,     53.7,  -1.2100,  34.3990,2,  34.3890,4,    321.7,2,    328.4,2,    66.20,2,    28.70,2,     2.02,2,   -999.0,9
  09AR19940101,  SR03,    72,  1,     11,    113,2,19940116,2025,-66.3787, 140.3588,  737,     78.8,  -1.4220,  34.4290,2,-999.0000,9,    315.4,2,   -999.0,9,  -999.00,9,  -999.00,9,  -999.00,9,   -999.0,9
  09AR19940101,  SR03,    72,  1,     10,     22,2,19940116,2025,-66.3787, 140.3588,  737,     78.8,  -1.4290,  34.4300,2,  34.4260,4,    315.4,2,    312.6,2,    65.40,2,    30.00,2,     2.08,2,   -999.0,9
  09AR19940101,  SR03,    72,  1,      9,    121,2,19940116,2025,-66.3787, 140.3588,  737,    124.0,  -1.4680,  34.4770,2,-999.0000,9,    301.4,2,   -999.0,9,  -999.00,9,  -999.00,9,  -999.00,9,   -999.0,9
  09AR19940101,  SR03,    72,  1,      8,    120,2,19940116,2025,-66.3787, 140.3588,  737,    124.0,  -1.4670,  34.4750,2,  34.4680,4,    301.4,2,    302.7,2,    69.50,2,    30.40,2,     2.12,2,   -999.0,9
  09AR19940101,  SR03,    72,  1,      7,    119,2,19940116,2025,-66.3787, 140.3588,  737,    204.1,  -1.3330,  34.5310,2,  34.5240,4,    290.7,2,    290.4,2,    74.70,2,    30.90,2,     2.13,2,   -999.0,9
  09AR19940101,  SR03,    72,  1,      6,    118,2,19940116,2025,-66.3787, 140.3588,  737,    303.1,  -0.9880,  34.5810,2,  34.5760,4,    274.5,2,    274.7,2,    80.20,2,    31.30,2,     2.16,2,   -999.0,9
  09AR19940101,  SR03,    72,  1,      5,    117,2,19940116,2025,-66.3787, 140.3588,  737,    403.6,  -1.2800,  34.5830,2,  34.5770,4,    284.5,2,    289.3,2,    79.50,2,    31.20,2,     2.15,2,   -999.0,9
  09AR19940101,  SR03,    72,  1,      4,    116,2,19940116,2025,-66.3787, 140.3588,  737,    502.6,  -1.4880,  34.5890,2,  34.5810,4,    300.3,2,    298.3,2,    76.10,2,    30.90,2,     2.14,2,   -999.0,9
  09AR19940101,  SR03,    72,  1,      3,    115,2,19940116,2025,-66.3787, 140.3588,  737,    603.7,  -1.5710,  34.5920,2,  34.5820,4,    300.9,2,    301.2,2,    76.50,2,    30.90,2,     2.14,2,   -999.0,9
  09AR19940101,  SR03,    72,  1,      2,    114,2,19940116,2025,-66.3787, 140.3588,  737,    703.7,  -1.7160,  34.5950,2,  34.4140,4,    308.6,2,    307.2,2,    74.40,2,    31.10,2,     2.13,2,   -999.0,9
  09AR19940101,  SR03,    72,  1,      1,    124,2,19940116,2025,-66.3787, 140.3588,  737,    733.5,  -1.7430,  34.5940,2,  34.5830,4,    311.0,2,    309.0,2,    74.50,2,    30.70,2,     2.13,2,   -999.0,9
  09AR19940101,  SR03,    73,  1,     11,     11,2,19940117,0003,-66.3295, 140.4692,  378,     13.1,  -0.7110,  34.3030,2,  34.2920,4,    348.3,2,    347.0,2,    61.40,2,    27.50,2,     1.84,4,   -999.0,9
  09AR19940101,  SR03,    73,  1,      7,      7,2,19940117,0003,-66.3295, 140.4692,  378,     27.4,  -0.7300,  34.3080,2,-999.0000,9,    354.3,2,   -999.0,9,  -999.00,9,  -999.00,9,  -999.00,9,   -999.0,9
  09AR19940101,  SR03,    73,  1,      9,      9,2,19940117,0003,-66.3295, 140.4692,  378,     27.5,  -0.7390,  34.3080,2,-999.0000,9,    354.3,2,   -999.0,9,  -999.00,9,  -999.00,9,  -999.00,9,   -999.0,9
  09AR19940101,  SR03,    73,  1,     10,     10,2,19940117,0003,-66.3295, 140.4692,  378,     27.6,  -0.7360,  34.3070,2,-999.0000,9,    354.3,2,   -999.0,9,  -999.00,9,  -999.00,9,  -999.00,9,   -999.0,9
  09AR19940101,  SR03,    73,  1,      8,      8,2,19940117,0003,-66.3295, 140.4692,  378,     27.7,  -0.7190,  34.3020,3,-999.0000,9,    354.3,2,   -999.0,9,  -999.00,9,  -999.00,9,  -999.00,9,   -999.0,9
  09AR19940101,  SR03,    73,  1,      6,      6,2,19940117,0003,-66.3295, 140.4692,  378,     52.3,  -0.8560,  34.3350,2,  34.3220,4,    340.0,2,    341.4,2,    60.10,2,    27.80,2,     1.88,2,   -999.0,9
  09AR19940101,  SR03,    73,  1,      5,      5,2,19940117,0003,-66.3295, 140.4692,  378,    103.3,  -1.0590,  34.4790,2,  34.4680,4,    298.3,2,    295.6,2,    69.50,2,    30.00,2,     2.08,2,   -999.0,9
  09AR19940101,  SR03,    73,  1,      4,      4,2,19940117,0003,-66.3295, 140.4692,  378,    151.9,  -0.9520,  34.5400,2,  34.5270,4,    278.2,2,    279.7,2,    77.00,2,    30.90,2,     2.13,2,   -999.0,9
  09AR19940101,  SR03,    73,  1,      3,      3,2,19940117,0003,-66.3295, 140.4692,  378,    202.2,  -0.9330,  34.5680,2,  34.5530,4,    273.1,2,    273.9,2,    73.20,2,    32.70,3,     2.15,2,   -999.0,9
  09AR19940101,  SR03,    73,  1,      2,      2,2,19940117,0003,-66.3295, 140.4692,  378,    303.5,  -0.9090,  34.5780,2,  34.5670,4,    273.3,2,    272.3,2,    78.10,2,    31.40,2,     2.16,2,   -999.0,9
  09AR19940101,  SR03,    73,  1,      1,      1,2,19940117,0003,-66.3295, 140.4692,  378,    364.3,  -0.8810,  34.5820,2,  34.5730,4,    271.1,2,    270.5,2,    74.90,2,    31.50,2,     2.17,2,   -999.0,9
  09AR19940101,  SR03,    74,  1,     12,     12,2,19940121,1439,-65.1227, 107.7660,  524,     14.4,  -0.9570,  33.3750,2,  33.3900,4,    351.2,2,    354.3,2,    76.70,7,    30.20,7,     2.06,4,   -999.0,9
  09AR19940101,  SR03,    74,  1,     11,     11,4,19940121,1439,-65.1227, 107.7660,  524,     29.4,  -1.4780,  33.9380,4,  33.9050,4,    345.7,2,    344.6,4,    66.10,4,    27.80,4,     1.90,4,   -999.0,9
  09AR19940101,  SR03,    74,  1,     10,     10,2,19940121,1439,-65.1227, 107.7660,  524,     53.2,  -1.7090,  34.2530,2,  34.2540,4,    321.7,2,    320.0,2,    86.10,7,    31.40,7,     2.18,7,   -999.0,9
  09AR19940101,  SR03,    74,  1,      9,      9,2,19940121,1439,-65.1227, 107.7660,  524,    104.6,  -1.7930,  34.3280,2,  34.3290,4,    315.7,2,    314.3,2,    77.80,7,    30.70,7,     2.13,7,   -999.0,9
  09AR19940101,  SR03,    74,  1,      8,      8,2,19940121,1439,-65.1227, 107.7660,  524,    153.7,  -1.7920,  34.3560,2,  34.3550,4,    315.0,2,    316.4,2,    67.20,7,    30.50,7,     2.09,7,   -999.0,9
  09AR19940101,  SR03,    74,  1,      7,      7,2,19940121,1439,-65.1227, 107.7660,  524,    204.9,  -1.7310,  34.3800,2,  34.3810,4,    311.4,2,    315.4,2,    60.10,7,    30.20,7,     2.08,7,   -999.0,9
  09AR19940101,  SR03,    74,  1,      6,      6,3,19940121,1439,-65.1227, 107.7660,  524,    243.4,  -1.4820,  34.4200,2,  34.4230,4,    307.5,2,    305.4,2,    60.10,7,    30.20,7,     2.08,7,   -999.0,9
  09AR19940101,  SR03,    74,  1,      5,      5,2,19940121,1439,-65.1227, 107.7660,  524,    304.0,  -0.7140,  34.5020,2,  34.5090,4,    272.7,2,    273.5,2,    61.30,7,    30.20,7,     2.08,7,   -999.0,9
  09AR19940101,  SR03,    74,  1,      4,      4,2,19940121,1439,-65.1227, 107.7660,  524,    373.4,  -0.1670,  34.5870,3,  34.5950,4,    253.4,2,    250.5,2,    61.30,7,    30.20,7,     2.08,7,   -999.0,9
  09AR19940101,  SR03,    74,  1,      3,      3,2,19940121,1439,-65.1227, 107.7660,  524,    443.7,   0.0880,  34.6290,4,  34.6450,4,    243.2,2,    233.2,2,    56.60,7,    29.20,7,     2.04,7,   -999.0,9
  09AR19940101,  SR03,    74,  1,      2,      2,3,19940121,1439,-65.1227, 107.7660,  524,    481.6,  -0.6640,  34.5810,2,  34.5880,4,    271.7,2,    271.5,2,    54.20,7,    26.70,7,     1.77,7,   -999.0,9
  09AR19940101,  SR03,    74,  1,      1,      1,2,19940121,1439,-65.1227, 107.7660,  524,    517.5,  -0.5810,  34.5950,2,  34.6030,4,    267.3,2,    263.9,2,    47.20,7,    26.10,7,     1.69,7,   -999.0,9
  09AR19940101,  SR03,    75,  1,     24,     24,2,19940123,0111,-63.2973, 107.8228, 3259,     15.0,   0.5820,  33.5850,2,  33.5870,4,    351.8,2,    349.7,2,    41.80,7,    25.30,7,     1.50,4,   -999.0,9
  09AR19940101,  SR03,    75,  1,     23,    113,2,19940123,0111,-63.2973, 107.8228, 3259,     30.1,  -0.3660,  33.7180,4,  33.6750,4,    350.0,2,    355.0,2,    41.30,7,    23.50,7,     1.45,7,   -999.0,9
  09AR19940101,  SR03,    75,  1,     22,     22,2,19940123,0111,-63.2973, 107.8228, 3259,     54.4,  -1.4890,  34.2550,2,  34.2820,4,    315.7,2,    311.4,2,    47.20,7,    27.50,7,     1.85,7,   -999.0,9
  09AR19940101,  SR03,    75,  1,     21,    121,2,19940123,0111,-63.2973, 107.8228, 3259,    101.3,  -1.6210,  34.3420,2,  34.3580,4,    291.4,2,    287.1,2,    60.10,7,    28.50,7,     1.96,7,   -999.0,9
  09AR19940101,  SR03,    75,  1,     20,    120,2,19940123,0111,-63.2973, 107.8228, 3259,    153.6,  -1.5090,  34.4010,2,  34.4190,4,    290.9,2,    296.1,2,    57.80,7,    30.20,7,     2.06,7,   -999.0,9
  09AR19940101,  SR03,    75,  1,     19,    119,2,19940123,0111,-63.2973, 107.8228, 3259,    204.4,  -0.0270,  34.5540,4,  34.5690,4,    221.5,2,    238.0,2,    68.40,7,    31.00,7,     2.14,7,   -999.0,9
  09AR19940101,  SR03,    75,  1,     18,    118,3,19940123,0111,-63.2973, 107.8228, 3259,    304.2,   1.3270,  34.6980,2,-999.0000,9,    198.2,2,   -999.0,9,  -999.00,9,  -999.00,9,  -999.00,9,   -999.0,9
  09AR19940101,  SR03,    75,  1,     17,    117,2,19940123,0111,-63.2973, 107.8228, 3259,    424.0,   1.2500,  34.7090,2,  34.7200,4,    196.8,2,    199.6,2,    86.70,7,    31.00,7,     2.14,7,   -999.0,9
  09AR19940101,  SR03,    75,  1,     16,    116,2,19940123,0111,-63.2973, 107.8228, 3259,    505.0,   1.1940,  34.7090,2,  34.7210,4,    198.6,2,    200.4,2,    86.10,7,    31.00,7,     2.16,7,   -999.0,9
  09AR19940101,  SR03,    75,  1,     15,    115,2,19940123,0111,-63.2973, 107.8228, 3259,    604.8,   1.1160,  34.7080,2,  34.7210,4,    199.8,2,    203.0,2,    88.40,7,    30.70,7,     2.14,7,   -999.0,9
  09AR19940101,  SR03,    75,  1,     14,    114,2,19940123,0111,-63.2973, 107.8228, 3259,    703.9,   1.0260,  34.7060,2,  34.7010,4,    200.5,2,    204.0,2,    86.10,7,    30.70,7,     2.11,7,   -999.0,9
  09AR19940101,  SR03,    75,  1,     13,    124,2,19940123,0111,-63.2973, 107.8228, 3259,    803.9,   0.9190,  34.7000,2,  34.7070,4,    204.3,2,    205.0,2,    91.90,7,    31.60,7,     2.19,7,   -999.0,9
  09AR19940101,  SR03,    75,  1,     12,     12,2,19940123,0111,-63.2973, 107.8228, 3259,    904.6,   0.8500,  34.6970,2,  34.7030,4,    207.7,2,    206.2,2,    95.50,7,    31.60,7,     2.14,4,   -999.0,9
  09AR19940101,  SR03,    75,  1,     11,     11,2,19940123,0111,-63.2973, 107.8228, 3259,   1003.8,   0.7370,  34.6900,2,  34.6970,4,    211.8,2,    207.5,2,    94.30,7,    31.30,7,     2.14,7,   -999.0,9
  09AR19940101,  SR03,    75,  1,     10,     10,2,19940123,0111,-63.2973, 107.8228, 3259,   1202.1,   0.5580,  34.6840,2,  34.6900,4,    216.4,2,    211.0,2,    94.30,7,    30.20,7,     2.09,7,   -999.0,9
  09AR19940101,  SR03,    75,  1,      9,      9,2,19940123,0111,-63.2973, 107.8228, 3259,   1404.0,   0.3600,  34.6730,2,  34.6750,4,    217.8,2,    216.0,2,    88.40,7,    31.60,7,     2.14,7,   -999.0,9
  09AR19940101,  SR03,    75,  1,      8,      8,2,19940123,0111,-63.2973, 107.8228, 3259,   1603.6,   0.2730,  34.6710,2,  34.6750,4,    219.7,2,    218.0,2,   102.60,7,    31.00,7,     2.11,7,   -999.0,9
  09AR19940101,  SR03,    75,  1,      7,      7,2,19940123,0111,-63.2973, 107.8228, 3259,   1802.0,   0.1350,  34.6660,2,  34.6690,4,    225.5,2,    222.9,2,    91.90,7,    30.70,7,     2.11,7,   -999.0,9
  09AR19940101,  SR03,    75,  1,      6,      6,2,19940123,0111,-63.2973, 107.8228, 3259,   2103.0,  -0.0130,  34.6580,2,  34.6630,4,    229.3,2,    229.1,2,   103.20,7,    31.60,7,     2.18,7,   -999.0,9
  09AR19940101,  SR03,    75,  1,      5,      5,2,19940123,0111,-63.2973, 107.8228, 3259,   2401.7,  -0.0980,  34.6590,2,  34.6620,4,    231.6,2,    231.9,2,    97.20,7,    30.70,7,     2.14,7,   -999.0,9
  09AR19940101,  SR03,    75,  1,      4,      4,2,19940123,0111,-63.2973, 107.8228, 3259,   2701.8,  -0.1870,  34.6570,2,  34.6600,4,    235.8,2,    236.7,2,    97.80,7,    28.70,3,     2.01,3,   -999.0,9
  09AR19940101,  SR03,    75,  1,      3,      3,2,19940123,0111,-63.2973, 107.8228, 3259,   3001.6,  -0.2450,  34.6560,2,  34.6600,4,    240.5,2,    239.9,2,   101.40,7,    31.60,7,     2.21,7,   -999.0,9
  09AR19940101,  SR03,    75,  1,      2,      2,2,19940123,0111,-63.2973, 107.8228, 3259,   3200.8,  -0.2940,  34.6530,2,  34.6570,4,    241.0,2,    242.3,2,   102.60,7,    31.30,7,     2.21,7,   -999.0,9
  09AR19940101,  SR03,    75,  1,      1,      1,2,19940123,0111,-63.2973, 107.8228, 3259,   3303.2,  -0.2990,  34.6520,2,  34.6580,4,    240.3,2,    242.4,2,    87.30,7,    30.50,7,     2.13,7,   -999.0,9
  09AR19940101,  SR03,    76,  1,     24,     24,2,19940126,0506,-66.3222,  84.7155,  550,     14.6,  -1.3500,  33.1130,2,  33.1260,4,    386.3,2,    387.0,2,    45.30,2,    16.80,2,     0.86,4,   2059.0,6
  09AR19940101,  SR03,    76,  1,     22,     22,2,19940126,0506,-66.3222,  84.7155,  550,     23.7,  -1.2580,  33.2900,2,  33.3410,4,    392.0,2,    393.7,2,    44.10,2,    17.80,2,     1.01,2,   2071.3,2
  09AR19940101,  SR03,    76,  1,     20,    120,2,19940126,0506,-66.3222,  84.7155,  550,     38.8,  -1.3930,  33.8790,3,  33.8850,4,    354.6,2,    365.8,2,    54.00,2,    22.20,2,     1.56,2,   2138.9,2
  09AR19940101,  SR03,    76,  1,     18,    118,2,19940126,0506,-66.3222,  84.7155,  550,     53.9,  -1.4550,  34.1120,2,  34.1120,4,    345.5,2,    346.7,2,    57.40,2,    25.50,2,     1.88,2,   2176.9,2
  09AR19940101,  SR03,    76,  1,     16,    116,2,19940126,0506,-66.3222,  84.7155,  550,     74.1,  -1.4960,  34.2290,2,  34.2290,4,    342.4,2,    339.1,2,    58.30,2,    26.90,2,     1.96,2,   2183.3,2
  09AR19940101,  SR03,    76,  1,     14,    114,2,19940126,0506,-66.3222,  84.7155,  550,    119.3,  -1.9230,  34.3280,2,  34.3230,4,    329.7,2,    326.5,2,    61.10,2,    29.40,2,     2.03,2,   2205.5,2
  09AR19940101,  SR03,    76,  1,     12,     12,2,19940126,0506,-66.3222,  84.7155,  550,    154.2,  -1.8310,  34.3460,2,  34.3400,4,    325.6,2,    327.8,2,    59.90,2,    29.30,2,     2.02,2,   2205.0,2
  09AR19940101,  SR03,    76,  1,     10,     10,2,19940126,0506,-66.3222,  84.7155,  550,    204.5,  -1.8770,  34.3620,2,  34.3550,4,    321.8,2,    326.3,2,    59.70,2,    29.30,2,     2.03,2,   2206.8,2
  09AR19940101,  SR03,    76,  1,      8,      8,2,19940126,0506,-66.3222,  84.7155,  550,    304.5,  -1.8500,  34.3900,2,  34.3840,4,    323.3,2,    324.3,2,    60.60,2,    29.80,2,     2.04,2,   2210.8,2
  09AR19940101,  SR03,    76,  1,      6,      6,2,19940126,0506,-66.3222,  84.7155,  550,    403.5,  -1.8210,  34.4150,2,  34.4090,4,    322.4,2,    321.6,2,    62.20,2,    29.80,2,     2.06,2,   2212.9,2
  09AR19940101,  SR03,    76,  1,      4,      4,2,19940126,0506,-66.3222,  84.7155,  550,    503.6,  -1.7840,  34.4580,2,  34.4510,4,    316.4,2,    312.4,2,    71.90,2,    31.30,2,     2.20,2,   2222.8,2
  09AR19940101,  SR03,    76,  1,      1,      1,2,19940126,0506,-66.3222,  84.7155,  550,    549.2,  -1.7970,  34.4810,2,  34.4750,4,    308.8,2,    312.4,2,    68.60,2,    30.80,2,     2.16,2,   -999.0,9
  09AR19940101,  SR03,    77,  1,     23,    113,2,19940126,0827,-66.1475,  85.0068,  545,     14.1,  -1.2460,  33.0890,2,  33.0960,4,    384.9,2,    383.9,2,    45.00,2,    17.80,2,     0.83,4,   2062.9,2
  09AR19940101,  SR03,    77,  1,     21,    121,2,19940126,0827,-66.1475,  85.0068,  545,     24.0,  -1.3230,  33.3800,4,  33.4240,4,    391.7,2,    391.4,2,    46.00,2,    18.40,2,     1.08,2,   -999.0,9
  09AR19940101,  SR03,    77,  1,     19,    119,2,19940126,0827,-66.1475,  85.0068,  545,     54.6,  -1.5070,  34.0810,4,  34.0890,4,   -999.0,5,    345.5,2,    56.90,2,    24.80,2,     1.80,2,   2171.3,2
  09AR19940101,  SR03,    77,  1,     17,    117,2,19940126,0827,-66.1475,  85.0068,  545,     73.2,  -1.6670,  34.1910,2,  34.1960,4,   -999.0,5,    336.9,2,    58.90,2,    26.80,2,     1.93,2,   2186.7,2
  09AR19940101,  SR03,    77,  1,     15,    115,2,19940126,0827,-66.1475,  85.0068,  545,    113.4,  -1.7470,  34.3120,2,  34.3140,4,    319.8,2,    325.7,2,    60.20,2,    28.30,2,     2.05,2,   2203.6,2
  09AR19940101,  SR03,    77,  1,     13,    124,2,19940126,0827,-66.1475,  85.0068,  545,    154.0,  -1.8010,  34.3350,2,  34.3260,4,    316.6,2,    323.3,2,    60.40,2,    29.10,2,     2.05,2,   2205.6,2
  09AR19940101,  SR03,    77,  1,     11,     11,2,19940126,0827,-66.1475,  85.0068,  545,    204.3,  -1.8320,  34.3530,2,  34.3450,4,    325.7,2,    323.4,2,    60.40,2,    29.50,2,     2.05,2,   2207.2,2
  09AR19940101,  SR03,    77,  1,      9,      9,2,19940126,0827,-66.1475,  85.0068,  545,    303.7,  -1.8370,  34.3740,2,  34.3690,4,    322.8,2,    324.1,2,    60.30,2,    29.40,2,     2.03,2,   2208.5,2
  09AR19940101,  SR03,    77,  1,      7,      7,2,19940126,0827,-66.1475,  85.0068,  545,    403.7,  -1.8170,  34.4130,2,  34.4110,4,    318.1,2,    319.8,2,    63.80,2,    29.90,2,     2.07,2,   2214.6,2
  09AR19940101,  SR03,    77,  1,      5,      5,2,19940126,0827,-66.1475,  85.0068,  545,    453.9,  -1.7940,  34.4710,2,  34.4680,4,    311.9,2,    312.5,2,    69.00,2,    30.60,2,     2.16,2,   2223.8,2
  09AR19940101,  SR03,    77,  1,      2,      2,2,19940126,0827,-66.1475,  85.0068,  545,    502.4,  -1.8000,  34.4840,2,  34.4850,4,    309.9,2,    311.3,2,    69.40,2,    30.90,2,     2.17,2,   -999.0,9
  09AR19940101,  SR03,    77,  1,      1,      1,2,19940126,0827,-66.1475,  85.0068,  545,    539.8,  -1.8010,  34.4850,2,  34.4880,4,    311.6,2,    311.6,2,    69.30,2,    31.00,2,     2.17,2,   2224.8,2