BOTTLE,20230321CCHSIOENA
EXPOCODE,SECT_ID,STNNBR,CASTNO,SAMPNO,BTLNBR,BTLNBR_FLAG_W,DATE,TIME,LATITUDE,LONGITUDE,DEPTH,CTDPRS,CTDTMP,CTDSAL,CTDSAL_FLAG_W,SALNTY,SALNTY_FLAG_W,CTDOXY,CTDOXY_FLAG_W,OXYGEN,OXYGEN_FLAG_W,SILCAT,SILCAT_FLAG_W,NITRAT,NITRAT_FLAG_W,PHSPHT,PHSPHT_FLAG_W,TCARBN,TCARBN_FLAG_W
,,,,,,,,,,,METERS,DBAR,ITS-90,PSS-78,,PSS-78,,UMOL/KG,,UMOL/KG,,UMOL/KG,,UMOL/KG,,UMOL/KG,,UMOL/KG,
  09AR19940101,  SR03,    86,  1,     23,    113,2,19940127,1645,-64.1653,  84.5950, 3639,     14.0,   1.0710,  33.8360,2,-999.0000,9,    340.5,2,   -999.0,9,  -999.00,9,  -999.00,9,  -999.00,9,   -999.0,9
  09AR19940101,  SR03,    86,  1,     19,    119,2,19940127,1645,-64.1653,  84.5950, 3639,     14.1,   1.0860,  33.8330,2,-999.0000,9,    340.5,2,   -999.0,9,  -999.00,9,  -999.00,9,  -999.00,9,   -999.0,9
  09AR19940101,  SR03,    86,  1,     24,     24,2,19940127,1645,-64.1653,  84.5950, 3639,     14.2,   1.0770,  33.8360,2,-999.0000,9,    340.5,2,   -999.0,9,  -999.00,9,  -999.00,9,  -999.00,9,   -999.0,9
  09AR19940101,  SR03,    86,  1,     20,    120,2,19940127,1645,-64.1653,  84.5950, 3639,     14.2,   1.0670,  33.8380,3,  33.8340,4,    340.5,2,    337.8,2,    35.10,2,    26.60,2,     1.69,4,   2151.7,2
  09AR19940101,  SR03,    86,  1,     22,    122,2,19940127,1645,-64.1653,  84.5950, 3639,     14.6,   1.0690,  33.8360,2,-999.0000,9,    340.5,2,   -999.0,9,  -999.00,9,  -999.00,9,  -999.00,9,   -999.0,9
  09AR19940101,  SR03,    86,  1,     21,    121,2,19940127,1645,-64.1653,  84.5950, 3639,     14.7,   1.0520,  33.8370,2,-999.0000,9,    340.5,2,   -999.0,9,  -999.00,9,  -999.00,9,  -999.00,9,   -999.0,9
  09AR19940101,  SR03,    86,  1,     17,    117,2,19940127,1645,-64.1653,  84.5950, 3639,     24.0,   0.9770,  33.8360,2,-999.0000,9,    312.7,2,   -999.0,9,  -999.00,9,  -999.00,9,  -999.00,9,   -999.0,9
  09AR19940101,  SR03,    86,  1,     18,    118,2,19940127,1645,-64.1653,  84.5950, 3639,     25.0,   0.9800,  33.8380,2,  33.8300,4,    309.7,2,    338.2,2,    32.70,2,    26.40,2,     1.72,2,   2151.3,2
  09AR19940101,  SR03,    86,  1,     16,    116,2,19940127,1645,-64.1653,  84.5950, 3639,     43.1,  -0.5040,  34.0270,3,  34.0320,4,    317.6,2,    321.8,2,    38.60,2,    28.40,2,     1.94,2,   2172.5,2
  09AR19940101,  SR03,    86,  1,     15,    115,2,19940127,1645,-64.1653,  84.5950, 3639,     43.1,  -0.8190,  34.0730,4,-999.0000,9,    317.6,2,   -999.0,9,  -999.00,9,  -999.00,9,  -999.00,9,   -999.0,9
  09AR19940101,  SR03,    86,  1,     13,    124,2,19940127,1645,-64.1653,  84.5950, 3639,     57.8,  -0.9820,  34.2070,4,-999.0000,9,    285.8,2,   -999.0,9,  -999.00,9,  -999.00,9,  -999.00,9,   -999.0,9
  09AR19940101,  SR03,    86,  1,     14,    114,2,19940127,1645,-64.1653,  84.5950, 3639,     58.4,  -0.9910,  34.2030,2,  34.2000,4,    285.8,2,    287.0,2,    51.60,2,    31.10,2,     2.16,2,   2199.9,6
  09AR19940101,  SR03,    86,  1,     11,     11,2,19940127,1645,-64.1653,  84.5950, 3639,     73.8,   0.1300,  34.3730,4,-999.0000,9,    241.3,2,   -999.0,9,  -999.00,9,  -999.00,9,  -999.00,9,   -999.0,9
  09AR19940101,  SR03,    86,  1,     12,     12,2,19940127,1645,-64.1653,  84.5950, 3639,     74.3,   0.0520,  34.3700,4,  34.3510,4,    241.3,2,    241.9,2,    63.30,2,    33.20,2,     2.29,2,   2226.7,2
  09AR19940101,  SR03,    86,  1,     10,     10,2,19940127,1645,-64.1653,  84.5950, 3639,     93.4,   1.3100,  34.5230,3,  34.5210,4,    196.1,2,    189.5,2,    74.40,2,    34.70,2,     2.40,2,   2249.9,2
  09AR19940101,  SR03,    86,  1,      9,      9,2,19940127,1645,-64.1653,  84.5950, 3639,     93.4,   1.3700,  34.5300,4,-999.0000,9,    196.1,2,   -999.0,9,  -999.00,9,  -999.00,9,  -999.00,9,   -999.0,9
  09AR19940101,  SR03,    86,  1,      8,      8,2,19940127,1645,-64.1653,  84.5950, 3639,    113.8,   1.5450,  34.5620,2,  34.5620,4,    180.1,2,    181.6,2,    77.30,2,    35.20,2,     2.41,2,   2254.5,2
  09AR19940101,  SR03,    86,  1,      7,      7,2,19940127,1645,-64.1653,  84.5950, 3639,    113.9,   1.5630,  34.5650,3,-999.0000,9,    180.1,2,   -999.0,9,  -999.00,9,  -999.00,9,  -999.00,9,   -999.0,9
  09AR19940101,  SR03,    86,  1,      6,      6,2,19940127,1645,-64.1653,  84.5950, 3639,    143.9,   1.5060,  34.5810,3,  34.5820,4,    180.6,2,    182.6,2,    78.60,2,    35.50,2,     2.38,2,   2254.6,2
  09AR19940101,  SR03,    86,  1,      5,      5,2,19940127,1645,-64.1653,  84.5950, 3639,    144.3,   1.5480,  34.5850,3,-999.0000,9,    180.6,2,   -999.0,9,  -999.00,9,  -999.00,9,  -999.00,9,   -999.0,9
  09AR19940101,  SR03,    86,  1,      4,      4,2,19940127,1645,-64.1653,  84.5950, 3639,    173.3,   1.7300,  34.6180,2,  34.6060,4,    177.4,2,    178.2,2,    80.10,2,    34.50,2,     2.37,2,   2255.8,2
  09AR19940101,  SR03,    86,  1,      3,      3,2,19940127,1645,-64.1653,  84.5950, 3639,    173.3,   1.7310,  34.6180,3,-999.0000,9,    177.4,2,   -999.0,9,  -999.00,9,  -999.00,9,  -999.00,9,   -999.0,9
  09AR19940101,  SR03,    86,  1,      2,      2,2,19940127,1645,-64.1653,  84.5950, 3639,    203.8,   1.8330,  34.6460,2,  34.6440,4,    179.4,2,    176.0,2,    82.10,2,    34.10,2,     2.35,2,   2256.7,2
  09AR19940101,  SR03,    86,  1,      1,      1,2,19940127,1645,-64.1653,  84.5950, 3639,    203.9,   1.8320,  34.6450,2,-999.0000,9,    179.4,2,   -999.0,9,  -999.00,9,  -999.00,9,  -999.00,9,   -999.0,9
  09AR19940101,  SR03,    87,  1,     24,     24,2,19940127,1915,-64.1697,  84.6300, 3644,     14.5,   1.0650,  33.8380,2,  33.8320,2,    339.3,2,    337.2,2,    33.80,2,    26.90,2,     1.70,4,   2151.7,2
  09AR19940101,  SR03,    87,  1,     23,    113,2,19940127,1915,-64.1697,  84.6300, 3644,    202.6,   1.8490,  34.6470,2,  34.6470,2,    177.5,2,    175.8,2,    82.80,2,    34.50,2,     2.32,2,   2258.2,6
  09AR19940101,  SR03,    87,  1,     22,    122,2,19940127,1915,-64.1697,  84.6300, 3644,    283.5,   1.6510,  34.6600,4,  34.6620,2,    184.2,2,    184.2,2,    83.40,2,    34.10,2,     2.29,2,   2253.9,2
  09AR19940101,  SR03,    87,  1,     21,    121,3,19940127,1915,-64.1697,  84.6300, 3644,    384.7,   1.8500,  34.7080,2,  34.7070,2,    183.3,2,    182.6,2,    85.20,2,    32.50,2,     2.24,2,   2252.6,2
  09AR19940101,  SR03,    87,  1,     20,    120,2,19940127,1915,-64.1697,  84.6300, 3644,    502.6,   1.7490,  34.7250,2,  34.7260,2,    188.3,2,    188.9,2,    87.00,2,    31.70,2,     2.20,2,   2250.7,2
  09AR19940101,  SR03,    87,  1,     19,    119,2,19940127,1915,-64.1697,  84.6300, 3644,    605.2,   1.6690,  34.7330,2,  34.7330,2,    191.5,2,    192.5,2,    87.80,2,    31.90,2,     2.17,2,   2250.0,2
  09AR19940101,  SR03,    87,  1,     18,    118,2,19940127,1915,-64.1697,  84.6300, 3644,    702.0,   1.6020,  34.7390,2,  34.7410,2,    194.4,2,    196.1,2,    88.80,2,    30.80,2,     2.15,2,   2248.2,2
  09AR19940101,  SR03,    87,  1,     17,    117,2,19940127,1915,-64.1697,  84.6300, 3644,    802.9,   1.4960,  34.7390,2,  34.7400,2,    197.6,2,    199.7,2,    90.00,2,    31.40,2,     2.15,2,   2247.1,2
  09AR19940101,  SR03,    87,  1,     16,    116,2,19940127,1915,-64.1697,  84.6300, 3644,    904.2,   1.3550,  34.7350,2,  34.7370,2,    200.6,2,    202.5,2,    92.90,2,    31.60,2,     2.15,2,   2247.0,2
  09AR19940101,  SR03,    87,  1,     15,    115,2,19940127,1915,-64.1697,  84.6300, 3644,   1001.9,   1.2090,  34.7240,3,  34.7250,2,    202.6,2,    204.2,2,    96.00,2,    31.90,2,     2.16,2,   2249.8,2
  09AR19940101,  SR03,    87,  1,     14,    114,2,19940127,1915,-64.1697,  84.6300, 3644,   1102.4,   1.1890,  34.7320,2,  34.7320,2,    205.8,2,    204.3,2,    98.80,2,    31.30,2,     2.16,2,   2250.9,6
  09AR19940101,  SR03,    87,  1,     13,    124,2,19940127,1915,-64.1697,  84.6300, 3644,   1302.9,   0.9060,  34.7130,2,  34.7120,2,    206.6,2,    208.0,2,   102.70,2,    32.00,2,     2.20,2,   2252.4,2
  09AR19940101,  SR03,    87,  1,     12,     12,2,19940127,1915,-64.1697,  84.6300, 3644,   1504.3,   0.7420,  34.7070,2,  34.7050,2,    209.7,2,    209.1,2,   111.70,2,    31.90,2,     2.18,4,   2255.7,2
  09AR19940101,  SR03,    87,  1,     11,     11,2,19940127,1915,-64.1697,  84.6300, 3644,   1701.7,   0.6030,  34.7020,2,  34.7010,2,    211.3,2,    210.1,2,   117.20,2,    32.70,2,     2.24,2,   2257.1,2
  09AR19940101,  SR03,    87,  1,     10,     10,2,19940127,1915,-64.1697,  84.6300, 3644,   1900.2,   0.4800,  34.6960,2,  34.6960,2,    213.1,2,    211.8,2,   120.30,2,    33.50,2,     2.27,2,   2258.5,2
  09AR19940101,  SR03,    87,  1,      9,      9,2,19940127,1915,-64.1697,  84.6300, 3644,   2100.2,   0.3510,  34.6900,2,  34.6880,2,    216.4,2,    214.6,2,   122.60,2,    33.40,2,     2.27,2,   2259.5,2
  09AR19940101,  SR03,    87,  1,      8,      8,2,19940127,1915,-64.1697,  84.6300, 3644,   2302.6,   0.2470,  34.6840,2,  34.6810,2,    216.8,2,    218.5,2,   123.00,2,    32.70,2,     2.28,2,   2258.2,2
  09AR19940101,  SR03,    87,  1,      7,      7,2,19940127,1915,-64.1697,  84.6300, 3644,   2501.1,   0.1460,  34.6780,2,  34.6790,2,    222.3,2,    223.3,2,   121.20,2,    32.70,2,     2.27,2,   2255.1,2
  09AR19940101,  SR03,    87,  1,      6,      6,2,19940127,1915,-64.1697,  84.6300, 3644,   2700.7,   0.0760,  34.6770,2,  34.6780,2,    223.6,2,    224.8,2,   123.10,2,    32.80,2,     2.28,2,   2256.0,2
  09AR19940101,  SR03,    87,  1,      5,      5,2,19940127,1915,-64.1697,  84.6300, 3644,   2901.2,   0.0160,  34.6770,2,  34.6780,2,    228.3,2,    227.6,2,   122.90,2,    33.10,2,     2.27,2,   2254.0,2
  09AR19940101,  SR03,    87,  1,      4,      4,2,19940127,1915,-64.1697,  84.6300, 3644,   3100.7,  -0.0430,  34.6750,2,  34.6770,2,    231.9,2,    231.3,2,   120.60,2,    31.90,3,     2.26,2,   2254.2,2
  09AR19940101,  SR03,    87,  1,      3,      3,2,19940127,1915,-64.1697,  84.6300, 3644,   3300.9,  -0.0850,  34.6750,2,  34.6780,2,    234.5,2,    233.1,2,   120.00,2,    33.10,2,     2.27,2,   2252.9,2
  09AR19940101,  SR03,    87,  1,      2,      2,2,19940127,1915,-64.1697,  84.6300, 3644,   3513.5,  -0.1210,  34.6740,2,  34.6740,2,    237.9,2,    235.2,2,   118.30,2,    32.60,2,     2.26,2,   2253.0,6
  09AR19940101,  SR03,    87,  1,      1,      1,2,19940127,1915,-64.1697,  84.6300, 3644,   3709.1,  -0.1670,  34.6730,2,-999.0000,9,    239.4,2,   -999.0,9,  -999.00,9,  -999.00,9,  -999.00,9,   -999.0,9
  09AR19940101,  SR03,    88,  1,     24,     24,2,19940128,0116,-63.7198,  84.1570, 3672,     14.0,   1.2550,  33.8350,2,  33.8310,2,    333.7,2,    337.2,2,    33.50,2,    26.10,2,     1.60,4,   -999.0,9
  09AR19940101,  SR03,    88,  1,     23,    113,2,19940128,0116,-63.7198,  84.1570, 3672,     54.0,  -0.7470,  34.0570,3,  34.0630,2,    323.5,2,    317.0,2,    44.70,2,    29.50,2,     1.91,2,   -999.0,9
  09AR19940101,  SR03,    88,  1,     22,    122,2,19940128,0116,-63.7198,  84.1570, 3672,     84.5,  -0.7360,  34.3250,4,  34.3310,2,    253.3,2,    261.2,2,    62.10,2,    32.00,2,     2.23,2,   -999.0,9
  09AR19940101,  SR03,    88,  1,     21,    121,2,19940128,0116,-63.7198,  84.1570, 3672,    153.7,   1.5510,  34.5740,4,  34.5670,2,    184.9,2,    182.6,2,    78.10,2,    35.60,2,     2.39,2,   -999.0,9
  09AR19940101,  SR03,    88,  1,     20,    120,2,19940128,0116,-63.7198,  84.1570, 3672,    203.1,   1.6820,  34.6070,2,  34.6060,2,    179.5,2,    178.3,2,    79.90,2,    34.50,2,     2.36,2,   -999.0,9
  09AR19940101,  SR03,    88,  1,     19,    119,2,19940128,0116,-63.7198,  84.1570, 3672,    304.3,   1.1870,  34.6180,3,  34.6120,4,    194.4,2,    199.8,2,    78.60,2,    32.30,2,     2.28,2,   -999.0,9
  09AR19940101,  SR03,    88,  1,     18,    118,2,19940128,0116,-63.7198,  84.1570, 3672,    394.5,   1.1030,  34.6340,2,  34.6340,2,    201.6,2,    204.3,2,    80.00,2,    31.50,2,     2.25,2,   -999.0,9
  09AR19940101,  SR03,    88,  1,     17,    117,2,19940128,0116,-63.7198,  84.1570, 3672,    503.2,   1.3400,  34.6850,2,  34.6850,2,    199.0,2,    199.3,2,    82.80,2,    31.80,2,     2.22,2,   -999.0,9
  09AR19940101,  SR03,    88,  1,     16,    116,2,19940128,0116,-63.7198,  84.1570, 3672,    603.3,   1.4780,  34.7130,2,  34.7160,2,    196.3,2,    197.2,2,    85.00,2,    31.30,2,     2.18,2,   -999.0,9
  09AR19940101,  SR03,    88,  1,     15,    115,2,19940128,0116,-63.7198,  84.1570, 3672,    723.5,   1.5980,  34.7410,2,  34.7430,2,    197.5,2,    197.3,2,    85.90,2,    30.40,2,     2.14,2,   -999.0,9
  09AR19940101,  SR03,    88,  1,     14,    114,2,19940128,0116,-63.7198,  84.1570, 3672,    843.3,   1.4310,  34.7350,2,  34.7370,2,    199.3,2,    200.3,2,    88.50,2,    30.50,2,     2.15,2,   -999.0,9
  09AR19940101,  SR03,    88,  1,     13,    124,2,19940128,0116,-63.7198,  84.1570, 3672,    902.4,   1.2510,  34.7190,2,  34.7190,2,    201.0,2,    203.8,2,    89.40,2,    31.40,2,     2.17,2,   -999.0,9
  09AR19940101,  SR03,    88,  1,     12,     12,2,19940128,0116,-63.7198,  84.1570, 3672,   1002.6,   1.2290,  34.7260,2,  34.7260,2,    206.7,2,    204.1,2,    86.50,2,    30.40,2,     2.11,4,   -999.0,9
  09AR19940101,  SR03,    88,  1,     11,     11,2,19940128,0116,-63.7198,  84.1570, 3672,   1202.9,   1.1120,  34.7270,2,  34.7280,2,    209.0,2,    205.2,2,    91.20,2,    30.80,2,     2.16,2,   -999.0,9
  09AR19940101,  SR03,    88,  1,     10,     10,2,19940128,0116,-63.7198,  84.1570, 3672,   1402.3,   0.8940,  34.7140,2,  34.7160,2,    209.5,2,    208.0,2,    95.10,2,    30.50,2,     2.20,2,   -999.0,9
  09AR19940101,  SR03,    88,  1,      9,      9,2,19940128,0116,-63.7198,  84.1570, 3672,   1702.4,   0.7140,  34.7080,2,  34.7080,2,    212.1,2,    209.5,2,   100.80,2,    32.00,2,     2.23,2,   -999.0,9
  09AR19940101,  SR03,    88,  1,      8,      8,2,19940128,0116,-63.7198,  84.1570, 3672,   2002.4,   0.5110,  34.6960,2,  34.6960,2,    213.7,2,    212.7,2,   105.70,2,    33.00,2,     2.26,2,   -999.0,9
  09AR19940101,  SR03,    88,  1,      7,      7,2,19940128,0116,-63.7198,  84.1570, 3672,   2300.9,   0.3700,  34.6890,2,  34.6860,2,    215.6,2,    215.5,2,   109.80,2,    33.00,2,     2.27,2,   -999.0,9
  09AR19940101,  SR03,    88,  1,      6,      6,2,19940128,0116,-63.7198,  84.1570, 3672,   2601.1,   0.2730,  34.6870,2,  34.6840,2,    217.9,2,    216.9,2,   115.70,2,    32.30,2,     2.28,2,   -999.0,9
  09AR19940101,  SR03,    88,  1,      5,      5,2,19940128,0116,-63.7198,  84.1570, 3672,   2901.6,   0.1730,  34.6800,2,  34.6810,2,    220.8,2,    221.0,2,   117.50,2,    32.20,2,     2.29,2,   -999.0,9
  09AR19940101,  SR03,    88,  1,      4,      4,2,19940128,0116,-63.7198,  84.1570, 3672,   3199.8,   0.0920,  34.6780,2,  34.6780,2,    224.0,2,    224.9,2,   119.10,2,    32.50,2,     2.28,2,   -999.0,9
  09AR19940101,  SR03,    88,  1,      3,      3,2,19940128,0116,-63.7198,  84.1570, 3672,   3520.2,  -0.0230,  34.6750,2,  34.6750,2,    229.5,2,    231.3,2,   117.00,2,    32.30,2,     2.27,2,   -999.0,9
  09AR19940101,  SR03,    88,  1,      2,      2,2,19940128,0116,-63.7198,  84.1570, 3672,   3631.8,  -0.1300,  34.6730,2,  34.6720,2,    233.8,2,    235.1,2,   119.00,2,    32.90,2,     2.26,2,   -999.0,9
  09AR19940101,  SR03,    88,  1,      1,      1,2,19940128,0116,-63.7198,  84.1570, 3672,   3735.1,  -0.1560,  34.6740,2,  34.6740,2,    234.7,2,    237.0,2,   119.30,2,    31.90,2,     2.26,2,   -999.0,9