BOTTLE,20230321CCHSIOENA
EXPOCODE,SECT_ID,STNNBR,CASTNO,SAMPNO,BTLNBR,BTLNBR_FLAG_W,DATE,TIME,LATITUDE,LONGITUDE,DEPTH,CTDPRS,CTDTMP,CTDSAL,CTDSAL_FLAG_W,SALNTY,SALNTY_FLAG_W,CTDOXY,CTDOXY_FLAG_W,OXYGEN,OXYGEN_FLAG_W,SILCAT,SILCAT_FLAG_W,NITRAT,NITRAT_FLAG_W,PHSPHT,PHSPHT_FLAG_W,TCARBN,TCARBN_FLAG_W
,,,,,,,,,,,METERS,DBAR,ITS-90,PSS-78,,PSS-78,,UMOL/KG,,UMOL/KG,,UMOL/KG,,UMOL/KG,,UMOL/KG,,UMOL/KG,
  09AR19940101,  SR03,    65,  1,     24,     24,2,19940115,1456,-65.4008, 139.8525, 2411,     12.0,  -1.1470,  33.9000,2,  33.8970,2,    361.2,2,    353.9,2,    60.30,2,    26.40,2,     1.78,4,   2160.1,2
  09AR19940101,  SR03,    65,  1,     23,    113,2,19940115,1456,-65.4008, 139.8525, 2411,     53.9,  -1.6760,  34.3050,2,  34.3040,2,    306.7,2,    318.7,2,    66.50,2,    29.30,2,     2.03,2,   2203.9,6
  09AR19940101,  SR03,    65,  1,     22,     22,2,19940115,1456,-65.4008, 139.8525, 2411,     83.6,  -1.7060,  34.3750,2,  34.3750,2,    310.8,2,    309.6,2,    68.80,2,    29.90,2,     2.09,2,   2212.1,2
  09AR19940101,  SR03,    65,  1,     21,    121,2,19940115,1456,-65.4008, 139.8525, 2411,    123.4,  -1.6940,  34.4320,2,  34.4310,2,    301.4,2,    302.3,2,    72.10,2,    30.30,2,     2.12,2,   2218.1,2
  09AR19940101,  SR03,    65,  1,     20,    120,2,19940115,1456,-65.4008, 139.8525, 2411,    172.5,  -1.3590,  34.4880,3,  34.4880,2,    293.5,2,    287.4,2,    73.60,2,    30.50,2,     2.14,2,   2225.1,2
  09AR19940101,  SR03,    65,  1,     19,    119,2,19940115,1456,-65.4008, 139.8525, 2411,    203.4,  -0.3800,  34.5520,4,  34.5700,2,    274.0,2,    248.0,2,    78.50,2,    30.70,2,     2.17,2,   2235.7,2
  09AR19940101,  SR03,    65,  1,     18,    118,2,19940115,1456,-65.4008, 139.8525, 2411,    252.9,   0.3960,  34.6340,3,  34.6320,2,   -999.0,5,    224.2,2,    85.80,2,    31.20,2,     2.19,2,   2242.9,2
  09AR19940101,  SR03,    65,  1,     17,    117,2,19940115,1456,-65.4008, 139.8525, 2411,    302.6,   0.4850,  34.6510,3,  34.6490,2,   -999.0,5,    220.8,2,    83.00,2,    31.30,2,     2.19,2,   2245.3,2
  09AR19940101,  SR03,    65,  1,     16,    116,2,19940115,1456,-65.4008, 139.8525, 2411,    353.4,   0.5460,  34.6580,3,  34.6600,2,    217.2,2,    218.1,2,    84.70,2,    31.40,2,     2.20,2,   2246.4,2
  09AR19940101,  SR03,    65,  1,     15,    115,2,19940115,1456,-65.4008, 139.8525, 2411,    403.3,   0.4560,  34.6590,2,  34.6580,2,    220.3,2,    219.2,2,    93.60,2,    31.30,2,     2.20,2,   2247.6,2
  09AR19940101,  SR03,    65,  1,     14,    114,2,19940115,1456,-65.4008, 139.8525, 2411,    502.9,   0.3510,  34.6590,2,  34.6570,2,    210.0,2,    219.3,2,    97.60,2,    31.80,2,     2.22,2,   2249.6,2
  09AR19940101,  SR03,    65,  1,     13,    124,2,19940115,1456,-65.4008, 139.8525, 2411,    602.7,   0.3800,  34.6700,2,  34.6690,2,    218.0,2,    216.1,2,   100.50,2,    31.70,2,     2.22,2,   2251.9,2
  09AR19940101,  SR03,    65,  1,     12,     12,2,19940115,1456,-65.4008, 139.8525, 2411,    704.4,   0.4680,  34.6870,2,  34.6840,2,    212.6,2,    211.9,2,   103.80,2,    31.80,2,     2.19,4,   2255.2,6
  09AR19940101,  SR03,    65,  1,     11,     11,2,19940115,1456,-65.4008, 139.8525, 2411,    802.8,   0.4250,  34.6900,2,  34.6860,2,    211.6,2,    212.1,2,   103.90,2,    31.90,2,     2.23,2,   2255.5,2
  09AR19940101,  SR03,    65,  1,     10,     10,2,19940115,1456,-65.4008, 139.8525, 2411,    902.9,   0.3810,  34.6880,2,  34.6870,2,    208.4,2,    213.5,2,   107.10,2,    32.30,2,     2.25,2,   2255.2,2
  09AR19940101,  SR03,    65,  1,      9,      9,2,19940115,1456,-65.4008, 139.8525, 2411,   1002.9,   0.2380,  34.6810,2,  34.6790,2,    217.9,2,    217.8,2,   108.60,2,    32.20,2,     2.25,2,   2254.7,2
  09AR19940101,  SR03,    65,  1,      8,      8,2,19940115,1456,-65.4008, 139.8525, 2411,   1202.0,   0.0790,  34.6700,2,  34.6730,2,    223.0,2,    223.6,2,   100.90,2,    32.00,2,     2.24,2,   2253.5,2
  09AR19940101,  SR03,    65,  1,      7,      7,3,19940115,1456,-65.4008, 139.8525, 2411,   1402.2,  -0.0350,  34.6740,2,-999.0000,9,    223.5,2,   -999.0,9,  -999.00,9,  -999.00,9,  -999.00,9,   -999.0,9
  09AR19940101,  SR03,    65,  1,      6,      6,2,19940115,1456,-65.4008, 139.8525, 2411,   1601.6,  -0.2730,  34.6550,3,  34.6610,2,    239.1,2,    239.1,2,    96.00,2,    31.90,2,     2.22,2,   2249.3,2
  09AR19940101,  SR03,    65,  1,      5,      5,2,19940115,1456,-65.4008, 139.8525, 2411,   1800.6,  -0.4060,  34.6540,2,  34.6530,2,    242.9,2,    246.3,2,    96.10,2,    31.60,2,     2.21,2,   2247.7,2
  09AR19940101,  SR03,    65,  1,      4,      4,2,19940115,1456,-65.4008, 139.8525, 2411,   2001.4,  -0.5140,  34.6480,2,  34.6480,2,    252.2,2,    252.2,2,    94.30,2,    31.60,2,     2.20,2,   2245.8,2
  09AR19940101,  SR03,    65,  1,      3,      3,2,19940115,1456,-65.4008, 139.8525, 2411,   2200.6,  -0.5080,  34.6450,2,  34.6490,2,    250.8,2,    252.5,2,    93.30,2,    31.70,2,     2.21,2,   2245.5,2
  09AR19940101,  SR03,    65,  1,      2,      2,2,19940115,1456,-65.4008, 139.8525, 2411,   2356.5,  -0.5110,  34.6460,2,  34.6490,2,    252.0,2,    253.3,2,    92.50,2,    31.60,2,     2.21,2,   2245.2,2
  09AR19940101,  SR03,    65,  1,      1,      1,2,19940115,1456,-65.4008, 139.8525, 2411,   2436.4,  -0.5040,  34.6450,2,  34.6490,2,    254.8,2,    253.3,2,    93.90,2,    31.90,2,     2.21,2,   2245.7,6
  09AR19940101,  SR03,    66,  1,     24,     24,2,19940115,1811,-65.4330, 139.8535, 1786,     13.9,  -1.0760,  33.9200,2,  33.9240,2,    359.4,2,    354.3,2,    58.70,2,    27.60,2,     1.74,4,   -999.0,9
  09AR19940101,  SR03,    66,  1,     23,    113,2,19940115,1811,-65.4330, 139.8535, 1786,     54.0,  -1.3180,  34.1480,3,  34.1450,2,    333.0,2,    335.9,2,    60.50,2,    27.60,2,     1.89,2,   -999.0,9
  09AR19940101,  SR03,    66,  1,     22,     22,2,19940115,1811,-65.4330, 139.8535, 1786,     83.8,  -1.5750,  34.3940,2,  34.3940,2,    301.4,2,    299.4,2,    67.30,2,    28.40,2,     2.07,2,   -999.0,9
  09AR19940101,  SR03,    66,  1,     21,    121,2,19940115,1811,-65.4330, 139.8535, 1786,    123.5,  -1.4470,  34.4430,2,  34.4490,2,    295.0,2,    288.9,2,    70.60,2,    31.20,2,     2.10,2,   -999.0,9
  09AR19940101,  SR03,    66,  1,     20,    120,2,19940115,1811,-65.4330, 139.8535, 1786,    204.1,  -0.5220,  34.5450,2,  34.5470,2,    257.5,2,    256.3,2,    75.90,2,    31.50,2,     2.13,2,   -999.0,9
  09AR19940101,  SR03,    66,  1,     19,    119,2,19940115,1811,-65.4330, 139.8535, 1786,    254.1,  -0.1030,  34.5870,2,  34.5930,2,    242.8,2,    242.1,2,    80.60,2,    32.90,3,     2.14,2,   -999.0,9
  09AR19940101,  SR03,    66,  1,     18,    118,2,19940115,1811,-65.4330, 139.8535, 1786,    303.5,   0.4870,  34.6460,2,  34.6450,2,    216.9,2,    222.6,2,    84.80,2,    32.10,2,     2.16,2,   -999.0,9
  09AR19940101,  SR03,    66,  1,     17,    117,2,19940115,1811,-65.4330, 139.8535, 1786,    353.8,   0.5880,  34.6630,2,  34.6650,2,    218.9,2,    216.4,2,    84.50,2,    31.80,2,     2.16,2,   -999.0,9
  09AR19940101,  SR03,    66,  1,     16,    116,2,19940115,1811,-65.4330, 139.8535, 1786,    404.0,   0.4630,  34.6630,2,  34.6630,2,    221.3,2,    219.3,2,    89.20,2,    31.60,2,     2.17,2,   -999.0,9
  09AR19940101,  SR03,    66,  1,     15,    115,2,19940115,1811,-65.4330, 139.8535, 1786,    503.0,   0.3700,  34.6620,2,  34.6630,2,    219.8,2,    219.0,2,    94.60,2,    31.60,2,     2.18,2,   -999.0,9
  09AR19940101,  SR03,    66,  1,     14,    114,2,19940115,1811,-65.4330, 139.8535, 1786,    603.0,   0.3880,  34.6700,2,  34.6690,2,    216.9,2,    217.3,2,    93.20,3,    31.60,2,     2.17,2,   -999.0,9
  09AR19940101,  SR03,    66,  1,     13,    124,2,19940115,1811,-65.4330, 139.8535, 1786,    703.8,   0.4320,  34.6840,2,  34.6820,2,    213.7,2,    213.9,2,    99.80,2,    31.80,2,     2.20,2,   -999.0,9
  09AR19940101,  SR03,    66,  1,     12,     12,2,19940115,1811,-65.4330, 139.8535, 1786,    802.6,   0.4150,  34.6850,3,  34.6860,2,    211.7,2,    213.3,2,    97.10,3,    32.00,2,     2.16,4,   -999.0,9
  09AR19940101,  SR03,    66,  1,     11,     11,2,19940115,1811,-65.4330, 139.8535, 1786,    903.1,   0.3420,  34.6840,2,  34.6820,2,    216.6,2,    215.3,2,   104.80,2,    32.60,2,     2.20,2,   -999.0,9
  09AR19940101,  SR03,    66,  1,     10,     10,2,19940115,1811,-65.4330, 139.8535, 1786,   1003.1,   0.2060,  34.6750,3,  34.6770,2,    219.1,2,    220.1,2,   104.60,2,    32.80,2,     2.21,2,   -999.0,9
  09AR19940101,  SR03,    66,  1,      9,      9,2,19940115,1811,-65.4330, 139.8535, 1786,   1103.3,   0.1010,  34.6710,2,  34.6740,2,    227.0,2,    223.6,2,   103.10,2,    33.00,2,     2.22,2,   -999.0,9
  09AR19940101,  SR03,    66,  1,      8,      8,2,19940115,1811,-65.4330, 139.8535, 1786,   1202.8,   0.0470,  34.6720,2,  34.6740,2,    226.1,2,    225.1,2,    97.60,2,    33.20,2,     2.20,2,   -999.0,9
  09AR19940101,  SR03,    66,  1,      7,      7,4,19940115,1811,-65.4330, 139.8535, 1786,   1203.0,   0.0460,  34.6750,2,  34.6740,4,    226.1,2,    227.4,4,    99.50,4,    33.20,4,     2.21,4,   -999.0,9
  09AR19940101,  SR03,    66,  1,      6,      6,4,19940115,1811,-65.4330, 139.8535, 1786,   1302.4,  -0.0070,  34.6730,3,  34.6720,4,    230.3,2,    228.6,4,    96.80,4,    33.30,4,     2.21,4,   -999.0,9
  09AR19940101,  SR03,    66,  1,      5,      5,4,19940115,1811,-65.4330, 139.8535, 1786,   1402.1,  -0.0440,  34.6700,3,  34.6650,4,    232.5,2,    237.3,4,    97.40,4,    33.20,4,     2.20,4,   -999.0,9
  09AR19940101,  SR03,    66,  1,      4,      4,4,19940115,1811,-65.4330, 139.8535, 1786,   1602.0,  -0.2300,  34.6580,2,  34.6590,4,    237.2,2,    243.1,4,    95.60,4,    33.00,4,     2.19,4,   -999.0,9
  09AR19940101,  SR03,    66,  1,      3,      3,4,19940115,1811,-65.4330, 139.8535, 1786,   1702.5,  -0.3300,  34.6570,2,  34.6510,4,    239.0,2,    251.6,4,    88.60,4,    32.90,4,     2.18,4,   -999.0,9
  09AR19940101,  SR03,    66,  1,      2,      2,2,19940115,1811,-65.4330, 139.8535, 1786,   1831.3,  -0.4920,  34.6500,2,  34.6480,2,    252.7,2,    252.9,2,    88.20,2,    32.80,2,     2.17,2,   -999.0,9
  09AR19940101,  SR03,    66,  1,      1,      1,2,19940115,1811,-65.4330, 139.8535, 1786,   1880.9,  -0.5160,  34.6460,2,  34.6480,2,    253.4,2,    253.4,2,    88.20,2,    36.00,4,     2.17,2,   -999.0,9
  09AR19940101,  SR03,    67,  1,     24,     24,2,19940116,0229,-65.5290, 139.8495, 1244,     13.9,  -1.2690,  33.9670,4,-999.0000,9,    361.5,2,   -999.0,9,  -999.00,9,  -999.00,9,  -999.00,9,   -999.0,9
  09AR19940101,  SR03,    67,  1,     23,    113,2,19940116,0229,-65.5290, 139.8495, 1244,     13.9,  -1.2440,  33.9640,2,  33.9640,2,    361.5,2,    356.0,2,    59.40,2,    26.10,7,     1.78,4,   2166.5,6
  09AR19940101,  SR03,    67,  1,     21,    121,2,19940116,0229,-65.5290, 139.8495, 1244,     28.4,  -1.4330,  33.9830,4,  33.9850,2,    356.4,2,    354.7,2,    58.40,2,    26.30,7,     1.84,2,   2168.5,2
  09AR19940101,  SR03,    67,  1,     22,     22,2,19940116,0229,-65.5290, 139.8495, 1244,     28.7,  -1.3920,  33.9810,2,-999.0000,9,    356.4,2,   -999.0,9,  -999.00,9,  -999.00,9,  -999.00,9,   -999.0,9
  09AR19940101,  SR03,    67,  1,     19,    119,2,19940116,0229,-65.5290, 139.8495, 1244,     54.8,  -1.5250,  34.1170,2,  34.0920,2,    338.0,2,    343.9,2,    60.70,2,    26.40,7,     1.91,2,   2181.4,2
  09AR19940101,  SR03,    67,  1,     20,    120,2,19940116,0229,-65.5290, 139.8495, 1244,     55.0,  -1.5240,  34.1130,3,-999.0000,9,    335.2,2,   -999.0,9,  -999.00,9,  -999.00,9,  -999.00,9,   -999.0,9
  09AR19940101,  SR03,    67,  1,     17,    117,2,19940116,0229,-65.5290, 139.8495, 1244,     78.6,  -1.6640,  34.2990,4,  34.2930,2,    321.8,2,    323.9,2,    62.90,2,    28.80,7,     2.02,2,   2203.0,2
  09AR19940101,  SR03,    67,  1,     18,    118,2,19940116,0229,-65.5290, 139.8495, 1244,     78.7,  -1.6660,  34.3000,2,-999.0000,9,    321.8,2,   -999.0,9,  -999.00,9,  -999.00,9,  -999.00,9,   -999.0,9
  09AR19940101,  SR03,    67,  1,     15,    115,2,19940116,0229,-65.5290, 139.8495, 1244,    102.9,  -1.7250,  34.3990,2,  34.3950,2,    312.6,2,    308.7,2,    69.90,2,    29.70,7,     2.10,2,   2214.9,2
  09AR19940101,  SR03,    67,  1,     16,    116,2,19940116,0229,-65.5290, 139.8495, 1244,    103.2,  -1.7280,  34.3870,3,-999.0000,9,    312.1,2,   -999.0,9,  -999.00,9,  -999.00,9,  -999.00,9,   -999.0,9
  09AR19940101,  SR03,    67,  1,     13,    124,2,19940116,0229,-65.5290, 139.8495, 1244,    153.0,  -1.6860,  34.4410,2,  34.4390,2,    301.9,2,    302.4,2,    67.80,2,    29.60,7,     2.10,2,   2220.9,2
  09AR19940101,  SR03,    67,  1,     14,    114,2,19940116,0229,-65.5290, 139.8495, 1244,    153.7,  -1.6870,  34.4380,3,-999.0000,9,    301.9,2,   -999.0,9,  -999.00,9,  -999.00,9,  -999.00,9,   -999.0,9
  09AR19940101,  SR03,    67,  1,     12,     12,2,19940116,0229,-65.5290, 139.8495, 1244,    202.3,  -1.2260,  34.5020,4,  34.4970,2,    277.8,2,    282.0,2,    73.10,2,    31.00,7,     2.13,2,   2226.9,2
  09AR19940101,  SR03,    67,  1,     11,     11,2,19940116,0229,-65.5290, 139.8495, 1244,    241.7,  -0.2570,  34.5760,4,  34.5700,2,    246.2,2,    248.3,2,    78.20,2,    30.80,7,     2.17,2,   2236.6,2
  09AR19940101,  SR03,    67,  1,     10,     10,2,19940116,0229,-65.5290, 139.8495, 1244,    301.9,   0.3980,  34.6420,3,  34.6380,2,    228.5,2,    225.6,2,    84.60,2,    30.90,7,     2.17,2,   2243.4,2
  09AR19940101,  SR03,    67,  1,      9,      9,2,19940116,0229,-65.5290, 139.8495, 1244,    403.9,   0.4980,  34.6540,3,  34.6580,2,    213.4,2,    220.1,2,    90.90,2,    31.00,7,     2.18,2,   2246.9,2
  09AR19940101,  SR03,    67,  1,      8,      8,2,19940116,0229,-65.5290, 139.8495, 1244,    501.9,   0.4480,  34.6600,2,  34.6690,2,    217.1,2,    217.0,2,    97.80,2,    31.40,7,     2.21,2,   2250.9,2
  09AR19940101,  SR03,    67,  1,      7,      7,2,19940116,0229,-65.5290, 139.8495, 1244,    600.6,   0.4070,  34.6700,2,  34.6730,2,    216.4,2,    215.4,2,   102.90,2,    31.50,7,     2.22,2,   2252.9,2
  09AR19940101,  SR03,    67,  1,      6,      6,2,19940116,0229,-65.5290, 139.8495, 1244,    750.5,   0.2940,  34.6670,2,  34.6750,2,    218.8,2,    218.5,2,   101.70,3,    31.40,3,     2.18,4,   2254.8,2
  09AR19940101,  SR03,    67,  1,      5,      5,2,19940116,0229,-65.5290, 139.8495, 1244,    903.1,   0.1990,  34.6800,2,  34.6780,2,    221.3,2,    219.6,2,   107.60,2,    31.50,7,     2.22,2,   2254.7,2
  09AR19940101,  SR03,    67,  1,      4,      4,2,19940116,0229,-65.5290, 139.8495, 1244,   1000.8,  -0.0610,  34.6610,2,  34.6650,2,    229.9,2,    230.8,2,   100.80,2,    31.40,7,     2.21,2,   2251.4,2
  09AR19940101,  SR03,    67,  1,      3,      3,2,19940116,0229,-65.5290, 139.8495, 1244,   1100.0,  -0.4660,  34.6500,2,  34.6490,2,    247.7,2,    249.6,2,    92.10,2,    31.10,7,     2.19,2,   2246.4,2
  09AR19940101,  SR03,    67,  1,      2,      2,2,19940116,0229,-65.5290, 139.8495, 1244,   1201.0,  -0.5120,  34.6460,3,  34.6460,2,    251.1,2,    251.3,2,    94.50,2,    31.10,7,     2.19,2,   2245.7,2
  09AR19940101,  SR03,    67,  1,      1,      1,2,19940116,0229,-65.5290, 139.8495, 1244,   1263.2,  -0.5360,  34.6480,2,  34.6450,2,    253.0,2,    252.6,2,    91.20,2,    30.90,7,     2.19,2,   2245.5,6