BOTTLE,20230321CCHSIOENA
EXPOCODE,SECT_ID,STNNBR,CASTNO,SAMPNO,BTLNBR,BTLNBR_FLAG_W,DATE,TIME,LATITUDE,LONGITUDE,DEPTH,CTDPRS,CTDTMP,CTDSAL,CTDSAL_FLAG_W,SALNTY,SALNTY_FLAG_W,CTDOXY,CTDOXY_FLAG_W,OXYGEN,OXYGEN_FLAG_W,SILCAT,SILCAT_FLAG_W,NITRAT,NITRAT_FLAG_W,PHSPHT,PHSPHT_FLAG_W,TCARBN,TCARBN_FLAG_W
,,,,,,,,,,,METERS,DBAR,ITS-90,PSS-78,,PSS-78,,UMOL/KG,,UMOL/KG,,UMOL/KG,,UMOL/KG,,UMOL/KG,,UMOL/KG,
  09AR19940101,  SR03,    50,  1,     24,     24,2,19940112,1009,-59.8618, 139.8620, 4461,     15.9,   2.5330,  33.9140,2,  33.9260,2,    339.5,2,    338.7,2,    11.40,2,    26.00,2,     1.53,4,   2136.5,2
  09AR19940101,  SR03,    50,  1,     23,    113,2,19940112,1009,-59.8618, 139.8620, 4461,    305.0,   2.1800,  34.4940,2,  34.4960,2,    179.6,2,    179.1,2,    65.10,2,    35.20,2,     2.42,2,   2247.9,2
  09AR19940101,  SR03,    50,  1,     22,     22,2,19940112,1009,-59.8618, 139.8620, 4461,    403.6,   2.2240,  34.5620,2,  34.5640,2,    176.6,2,    173.5,2,    68.90,2,    34.50,2,     2.39,2,   2252.0,2
  09AR19940101,  SR03,    50,  1,     21,     21,3,19940112,1009,-59.8618, 139.8620, 4461,    484.0,   2.2220,  34.6100,2,  34.6120,2,    174.2,2,    173.3,2,    72.60,2,    34.00,2,     2.36,2,   2251.7,2
  09AR19940101,  SR03,    50,  1,     20,    120,2,19940112,1009,-59.8618, 139.8620, 4461,    604.9,   2.1820,  34.6610,2,  34.6610,2,    176.0,2,    176.8,2,    67.90,2,    33.00,2,     2.30,2,   2250.7,2
  09AR19940101,  SR03,    50,  1,     19,    119,2,19940112,1009,-59.8618, 139.8620, 4461,    705.1,   2.1400,  34.6850,2,  34.6830,2,    179.2,2,    179.8,2,    71.10,2,    32.50,2,     2.27,2,   2249.7,6
  09AR19940101,  SR03,    50,  1,     18,    118,2,19940112,1009,-59.8618, 139.8620, 4461,    804.4,   2.0940,  34.7040,2,  34.7030,2,    181.6,2,    182.3,2,    71.70,2,    32.00,2,     2.24,2,   2248.5,2
  09AR19940101,  SR03,    50,  1,     17,    117,2,19940112,1009,-59.8618, 139.8620, 4461,   1004.8,   1.9810,  34.7330,2,  34.7340,2,    188.2,2,    189.8,2,    72.50,2,    31.20,2,     2.18,2,   2245.9,2
  09AR19940101,  SR03,    50,  1,     16,    116,2,19940112,1009,-59.8618, 139.8620, 4461,   1203.3,   1.8500,  34.7430,2,  34.7450,2,    193.2,2,    194.1,2,    80.30,2,    30.90,2,     2.15,2,   2246.7,2
  09AR19940101,  SR03,    50,  1,     15,    115,2,19940112,1009,-59.8618, 139.8620, 4461,   1403.6,   1.6920,  34.7460,2,  34.7470,2,    198.8,2,    197.7,2,    80.90,2,    30.90,2,     2.14,2,   2246.3,2
  09AR19940101,  SR03,    50,  1,     14,    114,2,19940112,1009,-59.8618, 139.8620, 4461,   1603.6,   1.5200,  34.7420,2,  34.7430,2,    198.8,2,    200.4,2,    87.30,2,    30.90,2,     2.16,2,   2249.3,2
  09AR19940101,  SR03,    50,  1,     13,    124,2,19940112,1009,-59.8618, 139.8620, 4461,   1802.0,   1.3450,  34.7360,2,  34.7350,2,    203.1,2,    203.7,2,    92.40,2,    31.20,2,     2.17,2,   2250.7,6
  09AR19940101,  SR03,    50,  1,     12,     12,2,19940112,1009,-59.8618, 139.8620, 4461,   2003.9,   1.1790,  34.7290,2,  34.7260,2,    208.4,2,    203.6,2,    97.10,2,    30.90,2,     2.15,4,   2252.9,2
  09AR19940101,  SR03,    50,  1,     11,     11,2,19940112,1009,-59.8618, 139.8620, 4461,   2203.1,   1.0190,  34.7210,2,  34.7220,2,    208.7,2,    205.6,2,    99.30,2,    31.20,2,     2.22,2,   2255.5,2
  09AR19940101,  SR03,    50,  1,     10,     10,2,19940112,1009,-59.8618, 139.8620, 4461,   2401.5,   0.8880,  34.7150,2,-999.0000,9,    208.8,2,    207.3,2,   100.30,2,    31.20,2,     2.23,2,   2255.4,2
  09AR19940101,  SR03,    50,  1,      9,      9,2,19940112,1009,-59.8618, 139.8620, 4461,   2702.9,   0.6640,  34.7020,2,  34.7040,2,    212.8,2,    211.7,2,   109.40,2,    31.70,2,     2.26,2,   2257.3,2
  09AR19940101,  SR03,    50,  1,      8,      8,2,19940112,1009,-59.8618, 139.8620, 4461,   2900.7,   0.5160,  34.6950,2,  34.6950,2,    213.7,2,    213.6,2,   108.10,2,    31.80,2,     2.27,2,   2257.0,2
  09AR19940101,  SR03,    50,  1,      7,      7,2,19940112,1009,-59.8618, 139.8620, 4461,   3101.3,   0.3990,  34.6910,2,  34.6890,2,    217.2,2,    217.1,2,   112.20,2,    32.00,2,     2.28,2,   2257.1,2
  09AR19940101,  SR03,    50,  1,      6,      6,2,19940112,1009,-59.8618, 139.8620, 4461,   3297.9,   0.3060,  34.6880,2,  34.6850,2,    218.8,2,    220.2,2,   106.60,2,    32.10,2,     2.28,2,   2257.7,2
  09AR19940101,  SR03,    50,  1,      5,      5,2,19940112,1009,-59.8618, 139.8620, 4461,   3500.4,   0.2290,  34.6860,2,  34.6820,2,    222.1,2,    222.7,2,   112.30,2,    31.80,2,     2.28,2,   2256.4,2
  09AR19940101,  SR03,    50,  1,      4,      4,2,19940112,1009,-59.8618, 139.8620, 4461,   3801.0,   0.1210,  34.6790,2,  34.6790,2,    226.2,2,    227.2,2,   113.40,2,    32.00,2,     2.29,2,   2255.9,2
  09AR19940101,  SR03,    50,  1,      3,      3,2,19940112,1009,-59.8618, 139.8620, 4461,   4100.3,   0.0130,  34.6770,2,  34.6760,2,    232.0,2,    232.1,2,   111.10,2,    31.90,2,     2.27,2,   2254.0,2
  09AR19940101,  SR03,    50,  1,      2,      2,2,19940112,1009,-59.8618, 139.8620, 4461,   4303.6,  -0.0440,  34.6750,2,  34.6730,2,    235.6,2,    235.1,2,   104.00,2,    31.90,2,     2.27,2,   2253.8,2
  09AR19940101,  SR03,    50,  1,      1,      1,2,19940112,1009,-59.8618, 139.8620, 4461,   4530.9,  -0.1150,  34.6720,2,  34.6690,2,    240.1,2,    237.4,2,   109.90,2,    31.70,2,     2.26,2,   2252.7,2
  09AR19940101,  SR03,    51,  1,     24,     24,2,19940112,1653,-60.3725, 139.8267, 4419,     13.7,   2.0210,  33.9430,2,  33.9480,2,    344.0,2,    342.5,2,    22.20,2,    27.00,2,     1.66,4,   -999.0,9
  09AR19940101,  SR03,    51,  1,     23,    113,2,19940112,1653,-60.3725, 139.8267, 4419,     55.3,   0.6140,  33.9560,2,  33.9580,2,    353.5,2,    355.6,2,    18.10,2,    26.80,2,     1.69,2,   -999.0,9
  09AR19940101,  SR03,    51,  1,     22,     22,2,19940112,1653,-60.3725, 139.8267, 4419,    104.0,  -0.2240,  33.9670,3,  33.9690,2,   -999.0,5,    344.5,2,    30.40,2,    28.30,2,     1.99,2,   -999.0,9
  09AR19940101,  SR03,    51,  1,     21,    121,2,19940112,1653,-60.3725, 139.8267, 4419,    145.1,   0.4710,  34.2100,3,  34.2060,2,   -999.0,5,    264.5,2,    49.70,2,    32.90,2,     2.31,2,   -999.0,9
  09AR19940101,  SR03,    51,  1,     20,    120,2,19940112,1653,-60.3725, 139.8267, 4419,    204.8,   2.0260,  34.4770,2,  34.4790,2,    185.0,2,    179.8,2,    66.90,2,    35.50,2,     2.49,2,   -999.0,9
  09AR19940101,  SR03,    51,  1,     19,    119,2,19940112,1653,-60.3725, 139.8267, 4419,    304.5,   2.1430,  34.5700,2,  34.5730,2,    176.4,2,    172.2,2,    71.70,2,    34.70,2,     2.43,2,   -999.0,9
  09AR19940101,  SR03,    51,  1,     18,    118,2,19940112,1653,-60.3725, 139.8267, 4419,    404.4,   2.1430,  34.6210,2,  34.6220,2,    177.7,2,    172.8,2,    75.70,2,    32.80,2,     2.31,2,   -999.0,9
  09AR19940101,  SR03,    51,  1,     17,    117,2,19940112,1653,-60.3725, 139.8267, 4419,    553.3,   2.1000,  34.6730,2,  34.6750,2,    180.0,2,    177.3,2,    76.90,2,    32.80,2,     2.31,2,   -999.0,9
  09AR19940101,  SR03,    51,  1,     16,    116,2,19940112,1653,-60.3725, 139.8267, 4419,    704.0,   2.0280,  34.7080,2,  34.7090,2,    181.8,2,    183.0,2,    78.40,2,    31.80,2,     2.25,2,   -999.0,9
  09AR19940101,  SR03,    51,  1,     15,    115,2,19940112,1653,-60.3725, 139.8267, 4419,    903.8,   1.9310,  34.7320,2,  34.7340,2,    185.0,2,    188.3,2,    78.20,2,    31.00,2,     2.18,2,   -999.0,9
  09AR19940101,  SR03,    51,  1,     14,    114,2,19940112,1653,-60.3725, 139.8267, 4419,   1104.8,   1.7960,  34.7430,2,  34.7450,2,    189.4,2,    194.5,2,    80.90,2,    30.50,2,     2.16,2,   -999.0,9
  09AR19940101,  SR03,    51,  1,     13,    124,2,19940112,1653,-60.3725, 139.8267, 4419,   1204.0,   1.7260,  34.7440,2,  34.7450,2,    191.2,2,    196.1,2,    83.10,2,    30.50,2,     2.15,2,   -999.0,9
  09AR19940101,  SR03,    51,  1,     12,     12,2,19940112,1653,-60.3725, 139.8267, 4419,   1304.2,   1.6500,  34.7440,2,  34.7450,2,    190.4,2,    197.3,2,    82.20,2,    30.60,2,     2.12,4,   -999.0,9
  09AR19940101,  SR03,    51,  1,     11,     11,2,19940112,1653,-60.3725, 139.8267, 4419,   1602.2,   1.4080,  34.7380,2,  34.7390,2,    196.1,2,    201.0,2,    88.00,2,    30.70,2,     2.16,2,   -999.0,9
  09AR19940101,  SR03,    51,  1,     10,     10,2,19940112,1653,-60.3725, 139.8267, 4419,   1902.1,   1.1440,  34.7260,2,  34.7270,2,    202.6,2,    203.7,2,    96.10,2,    31.20,2,     2.20,2,   -999.0,9
  09AR19940101,  SR03,    51,  1,      9,      9,2,19940112,1653,-60.3725, 139.8267, 4419,   2200.7,   0.9080,  34.7140,2,  34.7170,2,    207.9,2,    206.3,2,   105.60,2,    31.40,2,     2.23,2,   -999.0,9
  09AR19940101,  SR03,    51,  1,      8,      8,2,19940112,1653,-60.3725, 139.8267, 4419,   2502.1,   0.6960,  34.7050,2,  34.7040,2,    211.9,2,    209.4,2,   106.10,2,    31.70,2,     2.27,2,   -999.0,9
  09AR19940101,  SR03,    51,  1,      7,      7,2,19940112,1653,-60.3725, 139.8267, 4419,   2801.4,   0.4800,  34.6940,2,  34.6920,2,    215.9,2,    214.1,2,   113.10,2,    31.90,2,     2.30,2,   -999.0,9
  09AR19940101,  SR03,    51,  1,      6,      6,2,19940112,1653,-60.3725, 139.8267, 4419,   3101.6,   0.3280,  34.6900,2,  34.6840,2,    222.5,2,    218.7,2,   112.90,2,    32.00,2,     2.30,2,   -999.0,9
  09AR19940101,  SR03,    51,  1,      4,      4,4,19940112,1653,-60.3725, 139.8267, 4419,   3395.9,   0.2130,  34.6820,2,  34.6810,4,    228.0,2,    227.1,4,   116.40,4,    31.90,4,     2.28,4,   -999.0,9
  09AR19940101,  SR03,    51,  1,      5,      5,4,19940112,1653,-60.3725, 139.8267, 4419,   3397.9,   0.2100,  34.6840,2,  34.6820,4,    227.9,2,    222.9,4,   113.50,4,    32.00,4,     2.30,4,   -999.0,9
  09AR19940101,  SR03,    51,  1,      3,      3,2,19940112,1653,-60.3725, 139.8267, 4419,   3701.2,   0.1100,  34.6800,2,  34.6760,2,    230.8,2,    231.5,2,   118.50,2,    32.00,2,     2.27,2,   -999.0,9
  09AR19940101,  SR03,    51,  1,      2,      2,2,19940112,1653,-60.3725, 139.8267, 4419,   4002.4,   0.0080,  34.6760,2,  34.6710,2,    235.5,2,    236.1,2,   119.10,2,    31.90,2,     2.27,2,   -999.0,9
  09AR19940101,  SR03,    51,  1,      1,      1,2,19940112,1653,-60.3725, 139.8267, 4419,   4312.4,  -0.0770,  34.6740,2,  34.6690,2,    240.0,2,    238.7,2,   114.10,2,    31.80,2,     2.26,2,   -999.0,9
  09AR19940101,  SR03,    52,  1,     24,     24,2,19940112,2150,-60.8517, 139.8458, 4382,     14.1,   1.8520,  33.9460,2,-999.0000,9,    344.6,2,   -999.0,9,  -999.00,9,  -999.00,9,  -999.00,9,   -999.0,9
  09AR19940101,  SR03,    52,  1,     23,    113,2,19940112,2150,-60.8517, 139.8458, 4382,     14.2,   1.8500,  33.9460,2,  33.9510,2,    344.6,2,    344.7,2,    17.10,2,    26.60,2,     1.55,4,   2145.5,2
  09AR19940101,  SR03,    52,  1,     21,    121,2,19940112,2150,-60.8517, 139.8458, 4382,     43.2,   0.8090,  33.9620,2,  33.9620,2,    358.1,2,    358.1,2,    12.70,2,    26.20,2,     1.67,2,   2142.7,2
  09AR19940101,  SR03,    52,  1,     22,     22,2,19940112,2150,-60.8517, 139.8458, 4382,     43.8,   0.8170,  33.9630,2,-999.0000,9,    358.1,2,   -999.0,9,  -999.00,9,  -999.00,9,  -999.00,9,   -999.0,9
  09AR19940101,  SR03,    52,  1,     20,    120,2,19940112,2150,-60.8517, 139.8458, 4382,     78.0,   0.2840,  33.9720,2,-999.0000,9,    345.9,2,   -999.0,9,  -999.00,9,  -999.00,9,  -999.00,9,   -999.0,9
  09AR19940101,  SR03,    52,  1,     19,    119,2,19940112,2150,-60.8517, 139.8458, 4382,     78.0,   0.2840,  33.9720,2,-999.0000,9,    345.9,2,   -999.0,9,  -999.00,9,  -999.00,9,  -999.00,9,   -999.0,9
  09AR19940101,  SR03,    52,  1,     16,    116,2,19940112,2150,-60.8517, 139.8458, 4382,     78.0,   0.2830,  33.9720,2,-999.0000,9,    345.9,2,   -999.0,9,  -999.00,9,  -999.00,9,  -999.00,9,   -999.0,9
  09AR19940101,  SR03,    52,  1,     15,    115,2,19940112,2150,-60.8517, 139.8458, 4382,     78.2,   0.2820,  33.9730,2,  33.9730,2,    345.9,2,    345.6,2,    25.00,2,    27.50,2,     1.94,2,   2155.7,2
  09AR19940101,  SR03,    52,  1,     17,    117,2,19940112,2150,-60.8517, 139.8458, 4382,     78.4,   0.2810,  33.9730,2,-999.0000,9,    345.9,2,   -999.0,9,  -999.00,9,  -999.00,9,  -999.00,9,   -999.0,9
  09AR19940101,  SR03,    52,  1,     18,    118,2,19940112,2150,-60.8517, 139.8458, 4382,     78.5,   0.2820,  33.9730,2,-999.0000,9,    345.9,2,   -999.0,9,  -999.00,9,  -999.00,9,  -999.00,9,   -999.0,9
  09AR19940101,  SR03,    52,  1,     13,    124,2,19940112,2150,-60.8517, 139.8458, 4382,    121.5,  -0.3180,  34.0380,2,  34.0370,2,    323.6,2,    324.8,2,    37.60,2,    29.60,2,     2.15,2,   2175.6,2
  09AR19940101,  SR03,    52,  1,     14,    114,2,19940112,2150,-60.8517, 139.8458, 4382,    122.4,  -0.3280,  34.0370,2,-999.0000,9,    323.6,2,   -999.0,9,  -999.00,9,  -999.00,9,  -999.00,9,   -999.0,9
  09AR19940101,  SR03,    52,  1,     11,     11,2,19940112,2150,-60.8517, 139.8458, 4382,    128.7,  -0.2130,  34.0720,2,  34.0730,2,    311.8,2,    310.1,2,    40.90,2,    30.50,2,     2.19,2,   2182.9,2
  09AR19940101,  SR03,    52,  1,     12,     12,2,19940112,2150,-60.8517, 139.8458, 4382,    128.8,  -0.2050,  34.0730,2,-999.0000,9,    311.8,2,   -999.0,9,  -999.00,9,  -999.00,9,  -999.00,9,   -999.0,9
  09AR19940101,  SR03,    52,  1,     10,     10,2,19940112,2150,-60.8517, 139.8458, 4382,    154.2,   1.2000,  34.2810,4,-999.0000,9,    236.8,2,   -999.0,9,  -999.00,9,  -999.00,9,  -999.00,9,   -999.0,9
  09AR19940101,  SR03,    52,  1,      9,      9,2,19940112,2150,-60.8517, 139.8458, 4382,    154.6,   1.2390,  34.2900,3,  34.2690,2,    236.8,2,    236.5,2,    51.80,2,    33.30,2,     2.36,2,   2216.6,2
  09AR19940101,  SR03,    53,  1,     24,     24,2,19940113,0030,-60.8562, 139.8435, 4376,     13.9,   1.9240,  33.9490,3,  33.9530,2,    341.4,2,    342.8,2,    19.50,2,    27.10,2,     1.60,4,   2145.5,2
  09AR19940101,  SR03,    53,  1,     23,    113,2,19940113,0030,-60.8562, 139.8435, 4376,    203.2,   2.0080,  34.4480,3,  34.4460,2,    178.0,2,    185.8,2,    62.70,2,    35.50,2,     2.45,2,   2242.9,2
  09AR19940101,  SR03,    53,  1,     22,     22,2,19940113,0030,-60.8562, 139.8435, 4376,    303.9,   2.1310,  34.5420,2,  34.5420,2,    173.8,2,    173.8,2,    69.20,2,    35.00,2,     2.43,2,   2252.3,2
  09AR19940101,  SR03,    53,  1,     21,    121,2,19940113,0030,-60.8562, 139.8435, 4376,    402.9,   2.1540,  34.6070,2,  34.6070,2,    174.7,2,    173.3,2,    71.80,2,    34.20,2,     2.37,2,   2254.0,2
  09AR19940101,  SR03,    53,  1,     20,    120,2,19940113,0030,-60.8562, 139.8435, 4376,    503.7,   2.1340,  34.6480,2,  34.6480,2,    175.9,2,    175.5,2,    72.30,2,    33.60,2,     2.34,2,   2252.2,2
  09AR19940101,  SR03,    53,  1,     19,    119,2,19940113,0030,-60.8562, 139.8435, 4376,    603.4,   2.1080,  34.6810,2,  34.6800,2,    182.5,2,    178.6,2,    74.00,2,    32.60,2,     2.30,2,   2251.3,6
  09AR19940101,  SR03,    53,  1,     18,    118,2,19940113,0030,-60.8562, 139.8435, 4376,    704.7,   2.0500,  34.7050,2,  34.7030,2,    182.1,2,    182.2,2,    75.60,2,    32.00,2,     2.26,2,   2249.5,2
  09AR19940101,  SR03,    53,  1,     17,    117,2,19940113,0030,-60.8562, 139.8435, 4376,    802.8,   1.9930,  34.7180,2,  34.7200,2,    187.5,2,    185.6,2,    76.90,2,    31.60,2,     2.23,2,   2247.6,2
  09AR19940101,  SR03,    53,  1,     16,    116,2,19940113,0030,-60.8562, 139.8435, 4376,    901.5,   1.9380,  34.7320,2,  34.7320,2,    187.9,2,    189.2,2,    77.00,2,    31.10,2,     2.20,2,   2249.6,2
  09AR19940101,  SR03,    53,  1,     15,    115,2,19940113,0030,-60.8562, 139.8435, 4376,   1102.6,   1.8260,  34.7450,2,  34.7460,2,    193.5,2,    194.2,2,    76.80,2,    30.60,2,     2.16,2,   2246.6,2
  09AR19940101,  SR03,    53,  1,     14,    114,2,19940113,0030,-60.8562, 139.8435, 4376,   1301.5,   1.6460,  34.7460,2,  34.7480,2,    198.2,2,    198.1,2,    85.10,2,    30.50,2,     2.16,2,   2247.8,2
  09AR19940101,  SR03,    53,  1,     13,    124,2,19940113,0030,-60.8562, 139.8435, 4376,   1501.4,   1.4740,  34.7420,2,  34.7430,2,    198.0,2,    200.1,2,    88.60,2,    30.60,2,     2.18,2,   2249.9,2
  09AR19940101,  SR03,    53,  1,     12,     12,2,19940113,0030,-60.8562, 139.8435, 4376,   1702.0,   1.3140,  34.7370,2,  34.7360,2,    201.3,2,    201.8,2,    93.90,2,    31.10,2,     2.16,4,   2250.9,2
  09AR19940101,  SR03,    53,  1,     11,     11,2,19940113,0030,-60.8562, 139.8435, 4376,   1901.1,   1.1450,  34.7290,2,  34.7280,2,    207.3,2,    203.6,2,    97.30,2,    31.30,2,     2.20,2,   2253.2,2
  09AR19940101,  SR03,    53,  1,     10,     10,2,19940113,0030,-60.8562, 139.8435, 4376,   2101.0,   0.9940,  34.7210,2,  34.7210,2,    209.1,2,    205.5,2,   101.00,2,    31.60,2,     2.23,2,   2255.6,2
  09AR19940101,  SR03,    53,  1,      9,      9,2,19940113,0030,-60.8562, 139.8435, 4376,   2290.5,   0.8590,  34.7150,2,  34.7140,2,    210.7,2,    207.1,2,   104.90,2,    31.80,2,     2.25,2,   2257.2,6
  09AR19940101,  SR03,    53,  1,      8,      8,2,19940113,0030,-60.8562, 139.8435, 4376,   2501.1,   0.7210,  34.7070,2,  34.7050,2,    211.2,2,    209.2,2,   108.10,2,    32.20,2,     2.28,2,   2257.9,2
  09AR19940101,  SR03,    53,  1,      7,      7,2,19940113,0030,-60.8562, 139.8435, 4376,   2800.6,   0.5120,  34.6980,2,  34.6950,2,    215.3,2,    213.6,2,   110.60,2,    32.30,2,     2.30,2,   2257.9,2
  09AR19940101,  SR03,    53,  1,      6,      6,2,19940113,0030,-60.8562, 139.8435, 4376,   3100.0,   0.3440,  34.6900,2,  34.6880,2,    219.4,2,    218.4,2,   115.70,2,    32.40,2,     2.31,2,   2258.5,2
  09AR19940101,  SR03,    53,  1,      5,      5,2,19940113,0030,-60.8562, 139.8435, 4376,   3399.5,   0.2200,  34.6860,2,  34.6840,2,    221.8,2,    222.5,2,   115.80,2,    32.50,2,     2.31,2,   2258.2,2
  09AR19940101,  SR03,    53,  1,      4,      4,2,19940113,0030,-60.8562, 139.8435, 4376,   3701.6,   0.1160,  34.6820,2,  34.6810,2,    225.4,2,    226.9,2,   122.10,2,    32.30,2,     2.30,2,   2257.8,2
  09AR19940101,  SR03,    53,  1,      3,      3,2,19940113,0030,-60.8562, 139.8435, 4376,   3999.3,   0.0310,  34.6780,2,  34.6780,2,    228.5,2,    231.1,2,   117.80,2,    32.20,2,     2.29,2,   2255.5,2
  09AR19940101,  SR03,    53,  1,      2,      2,2,19940113,0030,-60.8562, 139.8435, 4376,   4301.6,  -0.0610,  34.6760,2,  34.6750,2,    234.7,2,    235.5,2,   113.80,2,    32.30,2,     2.29,2,   2253.7,6
  09AR19940101,  SR03,    53,  1,      1,      1,2,19940113,0030,-60.8562, 139.8435, 4376,   4450.4,  -0.1210,  34.6740,2,  34.6740,2,    237.7,2,    238.0,2,   116.60,2,    32.30,2,     2.28,2,   2252.8,2