BOTTLE,20230321CCHSIOENA
EXPOCODE,SECT_ID,STNNBR,CASTNO,SAMPNO,BTLNBR,BTLNBR_FLAG_W,DATE,TIME,LATITUDE,LONGITUDE,DEPTH,CTDPRS,CTDTMP,CTDSAL,CTDSAL_FLAG_W,SALNTY,SALNTY_FLAG_W,CTDOXY,CTDOXY_FLAG_W,OXYGEN,OXYGEN_FLAG_W,SILCAT,SILCAT_FLAG_W,NITRAT,NITRAT_FLAG_W,PHSPHT,PHSPHT_FLAG_W,TCARBN,TCARBN_FLAG_W
,,,,,,,,,,,METERS,DBAR,ITS-90,PSS-78,,PSS-78,,UMOL/KG,,UMOL/KG,,UMOL/KG,,UMOL/KG,,UMOL/KG,,UMOL/KG,
  09AR19940101,  SR03,    95,  1,     24,     24,2,19940129,0807,-60.9353,  82.7633, 2436,     11.9,   1.5730,  33.7770,3,  33.7750,2,    359.1,2,    352.4,2,    11.10,2,    20.20,2,     1.12,4,   2116.7,2
  09AR19940101,  SR03,    95,  1,     23,    113,2,19940129,0807,-60.9353,  82.7633, 2436,     33.2,   1.4690,  33.8070,3,  33.8100,2,    345.2,2,    350.9,2,    11.60,2,    20.70,2,     1.22,2,   2120.0,2
  09AR19940101,  SR03,    95,  1,     22,    122,2,19940129,0807,-60.9353,  82.7633, 2436,     53.2,  -0.8280,  34.0290,3,  34.0300,2,    288.0,2,    292.6,2,    48.70,2,    28.80,2,     2.12,2,   2193.0,6
  09AR19940101,  SR03,    95,  1,     21,    121,2,19940129,0807,-60.9353,  82.7633, 2436,     82.5,  -0.0950,  34.2830,4,  34.2870,2,    242.6,2,    237.9,2,    64.90,2,    32.90,2,     2.32,2,   2227.7,2
  09AR19940101,  SR03,    95,  1,     20,    120,2,19940129,0807,-60.9353,  82.7633, 2436,    102.1,   0.7270,  34.4000,3,  34.4030,2,    207.3,2,    207.1,2,    70.30,2,    34.30,2,     2.38,2,   2243.0,2
  09AR19940101,  SR03,    95,  1,     19,    119,2,19940129,0807,-60.9353,  82.7633, 2436,    153.4,   1.5530,  34.5440,2,  34.6190,4,    178.1,2,    180.3,2,    78.10,2,    34.90,2,     2.41,2,   2256.8,2
  09AR19940101,  SR03,    95,  1,     18,    118,2,19940129,0807,-60.9353,  82.7633, 2436,    203.7,   1.8900,  34.6190,2,  34.6180,2,    173.3,2,    172.0,2,    81.40,2,    34.30,2,     2.38,2,   2260.6,2
  09AR19940101,  SR03,    95,  1,     17,    117,2,19940129,0807,-60.9353,  82.7633, 2436,    253.6,   1.9220,  34.6470,2,  34.6500,2,    175.8,2,    223.8,4,    82.20,2,    33.80,2,     2.35,2,   2258.8,2
  09AR19940101,  SR03,    95,  1,     16,    116,2,19940129,0807,-60.9353,  82.7633, 2436,    302.4,   1.9430,  34.6750,2,  34.6750,2,    175.8,2,    175.3,2,    83.40,2,    33.20,2,     2.31,2,   2256.9,2
  09AR19940101,  SR03,    95,  1,     15,    115,2,19940129,0807,-60.9353,  82.7633, 2436,    404.4,   1.9090,  34.7020,2,  34.7050,2,    178.2,2,    177.8,2,    84.20,2,    32.70,2,     2.28,2,   2256.6,6
  09AR19940101,  SR03,    95,  1,     14,    114,2,19940129,0807,-60.9353,  82.7633, 2436,    502.6,   1.8680,  34.7220,2,  34.7220,2,    184.5,2,    182.6,2,    85.40,2,    32.00,2,     2.23,2,   2254.4,2
  09AR19940101,  SR03,    95,  1,     13,    124,2,19940129,0807,-60.9353,  82.7633, 2436,    602.3,   1.8220,  34.7360,2,  34.7340,2,    187.9,2,    189.1,2,    85.40,2,    31.20,2,     2.18,2,   2251.2,2
  09AR19940101,  SR03,    95,  1,     12,     12,2,19940129,0807,-60.9353,  82.7633, 2436,    801.9,   1.6760,  34.7500,2,  34.7500,2,    194.5,2,    197.9,2,    72.70,2,    30.40,2,     2.05,4,   2247.6,2
  09AR19940101,  SR03,    95,  1,     11,     11,2,19940129,0807,-60.9353,  82.7633, 2436,    902.7,   1.5940,  34.7500,2,  34.7120,4,    198.1,2,    200.2,2,    73.40,2,    30.40,2,     2.09,2,   2246.1,2
  09AR19940101,  SR03,    95,  1,     10,     10,2,19940129,0807,-60.9353,  82.7633, 2436,   1001.8,   1.5170,  34.7520,2,  34.7540,2,    201.0,2,    201.2,2,    82.10,2,    30.40,2,     2.10,2,   2247.2,2
  09AR19940101,  SR03,    95,  1,      9,      9,2,19940129,0807,-60.9353,  82.7633, 2436,   1102.8,   1.4080,  34.7470,2,  34.7490,2,    203.8,2,    203.1,2,    79.40,2,    30.40,2,     2.11,2,   2248.2,2
  09AR19940101,  SR03,    95,  1,      8,      8,2,19940129,0807,-60.9353,  82.7633, 2436,   1205.1,   1.3250,  34.7440,2,  34.7450,2,    205.5,2,    203.7,2,    79.50,2,    30.60,2,     2.13,2,   2250.3,2
  09AR19940101,  SR03,    95,  1,      7,      7,2,19940129,0807,-60.9353,  82.7633, 2436,   1400.1,   1.0590,  34.7310,2,  34.7300,2,    206.3,2,    204.2,2,    85.30,2,    31.30,2,     2.18,2,   2254.7,2
  09AR19940101,  SR03,    95,  1,      6,      6,2,19940129,0807,-60.9353,  82.7633, 2436,   1603.1,   0.9900,  34.7270,2,  34.7250,2,    204.9,2,    205.5,2,    84.50,2,    31.40,2,     2.19,2,   2255.6,2
  09AR19940101,  SR03,    95,  1,      5,      5,2,19940129,0807,-60.9353,  82.7633, 2436,   1803.8,   0.9230,  34.7220,2,  34.7240,2,    204.5,2,    206.0,2,    85.90,2,    31.60,2,     2.20,2,   2257.0,2
  09AR19940101,  SR03,    95,  1,      4,      4,2,19940129,0807,-60.9353,  82.7633, 2436,   2000.5,   0.7770,  34.7140,2,  34.7150,2,    209.5,2,    207.7,2,    86.20,2,    31.80,2,     2.33,2,   2257.7,2
  09AR19940101,  SR03,    95,  1,      3,      3,2,19940129,0807,-60.9353,  82.7633, 2436,   2202.1,   0.6940,  34.7080,2,  34.7090,2,    208.1,2,    208.8,2,    94.80,2,    31.90,2,     2.33,2,   2258.7,2
  09AR19940101,  SR03,    95,  1,      2,      2,2,19940129,0807,-60.9353,  82.7633, 2436,   2402.5,   0.6150,  34.7050,2,  34.7040,2,    209.4,2,    210.1,2,    97.60,2,    32.20,2,     2.35,2,   2259.5,2
  09AR19940101,  SR03,    95,  1,      1,      1,2,19940129,0807,-60.9353,  82.7633, 2436,   2477.4,   0.6070,  34.7040,2,  34.7020,2,    210.3,2,    210.0,2,    98.00,2,    32.20,2,     2.35,2,   2259.3,6
  09AR19940101,  SR03,    96,  1,     24,     24,2,19940129,1243,-60.4452,  82.5772, 1622,     13.7,   1.7990,  33.8330,2,  33.8330,2,    354.3,2,    354.0,2,    14.40,2,    21.30,2,     1.08,4,   -999.0,9
  09AR19940101,  SR03,    96,  1,     23,    113,2,19940129,1243,-60.4452,  82.5772, 1622,     22.9,   1.8020,  33.8330,2,  33.8360,2,    349.9,2,    353.5,2,    10.10,2,    21.30,2,     1.12,2,   -999.0,9
  09AR19940101,  SR03,    96,  1,     22,    122,2,19940129,1243,-60.4452,  82.5772, 1622,     44.2,   0.1770,  33.9570,3,  33.9680,2,    331.0,2,    325.2,2,    36.10,2,    25.90,2,     1.95,2,   -999.0,9
  09AR19940101,  SR03,    96,  1,     21,    121,2,19940129,1243,-60.4452,  82.5772, 1622,     64.7,  -0.2400,  34.0950,3,  34.1020,2,    301.8,2,    301.3,2,    49.50,2,    28.60,2,     2.20,2,   -999.0,9
  09AR19940101,  SR03,    96,  1,     20,    120,2,19940129,1243,-60.4452,  82.5772, 1622,     83.2,  -0.2110,  34.2430,2,  34.2460,2,    266.9,2,    266.4,2,    60.10,2,    30.80,2,     2.27,2,   -999.0,9
  09AR19940101,  SR03,    96,  1,     19,    119,2,19940129,1243,-60.4452,  82.5772, 1622,    101.5,   0.2400,  34.3910,4,  34.3780,2,    228.8,2,    235.2,2,    68.20,2,    32.40,2,     2.31,2,   -999.0,9
  09AR19940101,  SR03,    96,  1,     18,    118,2,19940129,1243,-60.4452,  82.5772, 1622,    123.2,   0.9920,  34.5210,4,  34.5230,2,    193.1,2,    201.2,2,    75.80,2,    33.50,2,     2.35,2,   -999.0,9
  09AR19940101,  SR03,    96,  1,     17,    117,2,19940129,1243,-60.4452,  82.5772, 1622,    152.7,   1.6020,  34.6280,3,  34.6210,2,    182.4,2,    179.4,2,    80.60,2,    33.90,2,     2.36,2,   -999.0,9
  09AR19940101,  SR03,    96,  1,     16,    116,2,19940129,1243,-60.4452,  82.5772, 1622,    183.6,   1.8190,  34.6690,2,  34.6670,2,    176.8,2,    173.6,2,    82.50,2,    33.50,2,     2.34,2,   -999.0,9
  09AR19940101,  SR03,    96,  1,     15,    115,2,19940129,1243,-60.4452,  82.5772, 1622,    203.2,   1.8490,  34.6780,2,  34.6780,2,    177.7,2,    174.0,2,    83.40,2,    33.40,2,     2.35,2,   -999.0,9
  09AR19940101,  SR03,    96,  1,     14,    114,2,19940129,1243,-60.4452,  82.5772, 1622,    254.0,   1.8810,  34.6990,2,  34.7010,2,    180.7,2,    175.7,2,    83.50,2,    32.90,2,     2.32,2,   -999.0,9
  09AR19940101,  SR03,    96,  1,     13,    124,2,19940129,1243,-60.4452,  82.5772, 1622,    304.3,   1.8810,  34.7150,2,  34.7140,2,    181.6,2,    178.8,2,    83.60,2,    32.30,2,     2.29,2,   -999.0,9
  09AR19940101,  SR03,    96,  1,     12,     12,2,19940129,1243,-60.4452,  82.5772, 1622,    403.0,   1.8310,  34.7340,2,  34.7350,2,    184.1,2,    185.1,2,    85.10,2,    31.60,2,     2.16,4,   -999.0,9
  09AR19940101,  SR03,    96,  1,     11,     11,2,19940129,1243,-60.4452,  82.5772, 1622,    504.1,   1.7840,  34.7420,2,  34.7430,2,    187.8,2,    189.2,2,    84.90,2,    31.10,2,     2.17,2,   -999.0,9
  09AR19940101,  SR03,    96,  1,     10,     10,2,19940129,1243,-60.4452,  82.5772, 1622,    602.4,   1.7220,  34.7480,2,  34.7490,2,    189.6,2,    193.3,2,    86.30,2,    30.90,2,     2.16,2,   -999.0,9
  09AR19940101,  SR03,    96,  1,      9,      9,2,19940129,1243,-60.4452,  82.5772, 1622,    702.8,   1.6530,  34.7510,2,  34.7530,2,    192.4,2,    195.8,2,    86.90,2,    30.60,2,     2.15,2,   -999.0,9
  09AR19940101,  SR03,    96,  1,      8,      8,2,19940129,1243,-60.4452,  82.5772, 1622,    803.2,   1.5640,  34.7530,2,  34.7530,2,    195.7,2,    198.4,2,    89.60,2,    30.50,2,     2.14,2,   -999.0,9
  09AR19940101,  SR03,    96,  1,      7,      7,2,19940129,1243,-60.4452,  82.5772, 1622,    901.6,   1.4660,  34.7520,2,  34.7530,2,    198.7,2,    200.9,2,    91.40,2,    30.50,2,     2.14,2,   -999.0,9
  09AR19940101,  SR03,    96,  1,      6,      6,2,19940129,1243,-60.4452,  82.5772, 1622,   1003.0,   1.3490,  34.7470,2,  34.7470,2,    201.5,2,    202.9,2,    94.70,2,    30.60,2,     2.15,2,   -999.0,9
  09AR19940101,  SR03,    96,  1,      5,      5,2,19940129,1243,-60.4452,  82.5772, 1622,   1102.0,   1.2410,  34.7420,2,  34.7420,2,    203.0,2,    203.2,2,    98.00,2,    30.90,2,     2.17,2,   -999.0,9
  09AR19940101,  SR03,    96,  1,      4,      4,2,19940129,1243,-60.4452,  82.5772, 1622,   1202.2,   1.1380,  34.7380,2,  34.7550,2,    204.5,2,    203.7,2,   102.30,2,    31.00,2,     2.18,2,   -999.0,9
  09AR19940101,  SR03,    96,  1,      3,      3,2,19940129,1243,-60.4452,  82.5772, 1622,   1300.5,   1.0710,  34.7340,2,  34.7330,2,    205.4,2,    203.7,2,   105.90,2,    31.30,2,     2.21,2,   -999.0,9
  09AR19940101,  SR03,    96,  1,      2,      2,2,19940129,1243,-60.4452,  82.5772, 1622,   1502.2,   0.9680,  34.7270,2,  34.7260,2,    201.7,2,    204.7,2,   109.90,2,    31.60,2,     2.22,2,   -999.0,9
  09AR19940101,  SR03,    96,  1,      1,      1,2,19940129,1243,-60.4452,  82.5772, 1622,   1643.4,   0.8570,  34.7210,2,  34.7200,2,    205.3,2,    203.0,2,   114.90,2,    31.80,2,     2.25,2,   -999.0,9
  09AR19940101,  SR03,    97,  1,     23,    113,2,19940129,1715,-59.9712,  82.3797, 1608,     13.6,   1.6210,  33.9380,4,-999.0000,9,    348.3,2,   -999.0,9,  -999.00,9,  -999.00,9,  -999.00,9,   -999.0,9
  09AR19940101,  SR03,    97,  1,     19,    119,2,19940129,1715,-59.9712,  82.3797, 1608,     13.8,   1.6760,  33.9330,3,-999.0000,9,    348.3,2,   -999.0,9,  -999.00,9,  -999.00,9,  -999.00,9,   -999.0,9
  09AR19940101,  SR03,    97,  1,     24,     24,2,19940129,1715,-59.9712,  82.3797, 1608,     13.9,   1.6010,  33.9410,3,-999.0000,9,    348.3,2,   -999.0,9,  -999.00,9,  -999.00,9,  -999.00,9,   -999.0,9
  09AR19940101,  SR03,    97,  1,     22,    122,2,19940129,1715,-59.9712,  82.3797, 1608,     13.9,   1.6080,  33.9360,2,-999.0000,9,    348.3,2,   -999.0,9,  -999.00,9,  -999.00,9,  -999.00,9,   -999.0,9
  09AR19940101,  SR03,    97,  1,     20,    120,2,19940129,1715,-59.9712,  82.3797, 1608,     13.9,   1.6560,  33.9350,3,-999.0000,9,    348.3,2,   -999.0,9,  -999.00,9,  -999.00,9,  -999.00,9,   -999.0,9
  09AR19940101,  SR03,    97,  1,     18,    118,2,19940129,1715,-59.9712,  82.3797, 1608,     13.9,   1.7170,  33.9360,2,  33.9340,2,    348.3,2,    350.1,2,    19.30,2,    23.10,2,     1.16,4,   2153.9,2
  09AR19940101,  SR03,    97,  1,     21,    121,2,19940129,1715,-59.9712,  82.3797, 1608,     14.0,   1.6590,  33.9290,4,-999.0000,9,    348.3,2,   -999.0,9,  -999.00,9,  -999.00,9,  -999.00,9,   -999.0,9
  09AR19940101,  SR03,    97,  1,     17,    117,2,19940129,1715,-59.9712,  82.3797, 1608,     33.8,   0.6790,  33.9710,4,  33.9570,2,    343.5,2,    344.5,2,    28.40,2,    25.00,2,     1.59,2,   2154.8,6
  09AR19940101,  SR03,    97,  1,     16,    116,3,19940129,1715,-59.9712,  82.3797, 1608,     53.8,  -0.2770,  34.0650,4,  34.0360,4,    330.5,2,    330.0,2,    41.00,2,    27.00,2,     1.91,2,   2175.5,2
  09AR19940101,  SR03,    97,  1,     15,    115,2,19940129,1715,-59.9712,  82.3797, 1608,     83.7,  -0.5750,  34.2160,3,  34.2100,2,    284.0,2,    284.6,2,    57.70,2,    30.40,2,     2.18,2,   2209.6,2
  09AR19940101,  SR03,    97,  1,     14,    114,2,19940129,1715,-59.9712,  82.3797, 1608,    123.2,   0.5040,  34.4450,3,  34.4300,2,    214.4,2,    221.7,2,    71.50,2,    32.80,2,     2.30,2,   2238.2,2
  09AR19940101,  SR03,    97,  1,     13,    124,2,19940129,1715,-59.9712,  82.3797, 1608,    174.7,   1.7470,  34.6620,2,  34.6460,2,    180.4,2,    176.9,2,    82.80,2,    33.40,2,     2.32,2,   2257.0,2
  09AR19940101,  SR03,    97,  1,     12,     12,2,19940129,1715,-59.9712,  82.3797, 1608,    228.2,   1.8840,  34.6980,2,  34.6960,2,    180.2,2,    175.4,2,    84.20,2,    32.80,2,     2.27,2,   2257.3,2
  09AR19940101,  SR03,    97,  1,     11,     11,2,19940129,1715,-59.9712,  82.3797, 1608,    304.1,   1.8720,  34.7170,2,  34.7170,2,    183.8,2,    179.8,2,    84.50,2,    32.10,2,     2.23,2,   2254.9,2
  09AR19940101,  SR03,    97,  1,     10,     10,2,19940129,1715,-59.9712,  82.3797, 1608,    404.6,   1.8180,  34.7360,2,  34.7350,2,    186.4,2,    185.2,2,    84.60,2,    31.40,2,     2.18,2,   2251.0,2
  09AR19940101,  SR03,    97,  1,      9,      9,2,19940129,1715,-59.9712,  82.3797, 1608,    502.9,   1.7510,  34.7440,2,  34.7450,2,    189.1,2,    190.4,2,    85.10,2,    30.90,2,     2.14,2,   2249.4,2
  09AR19940101,  SR03,    97,  1,      8,      8,2,19940129,1715,-59.9712,  82.3797, 1608,    603.4,   1.6840,  34.7490,2,  34.7490,2,    192.1,2,    193.7,2,    86.40,2,    30.70,2,     2.12,2,   2247.7,2
  09AR19940101,  SR03,    97,  1,      7,      7,2,19940129,1715,-59.9712,  82.3797, 1608,    703.9,   1.5920,  34.7520,2,  34.7510,2,    195.8,2,    197.5,2,    87.80,2,    30.40,2,     2.10,2,   2246.7,2
  09AR19940101,  SR03,    97,  1,      6,      6,2,19940129,1715,-59.9712,  82.3797, 1608,    803.4,   1.4910,  34.7520,2,  34.7500,2,    198.7,2,    199.7,2,    89.30,2,    30.30,2,     2.05,4,   2246.1,2
  09AR19940101,  SR03,    97,  1,      5,      5,2,19940129,1715,-59.9712,  82.3797, 1608,    904.0,   1.3880,  34.7490,2,  34.7480,2,    200.6,2,    201.1,2,    92.80,2,    30.30,2,     2.10,2,   2248.2,2
  09AR19940101,  SR03,    97,  1,      4,      4,2,19940129,1715,-59.9712,  82.3797, 1608,   1102.7,   1.2090,  34.7410,2,  34.7400,2,    204.7,2,   -999.0,9,    99.10,2,    30.70,2,     2.13,2,   2251.4,2
  09AR19940101,  SR03,    97,  1,      3,      3,2,19940129,1715,-59.9712,  82.3797, 1608,   1302.2,   1.0690,  34.7330,2,  34.7320,2,    205.9,2,    203.0,2,   106.20,2,    31.10,2,     2.16,2,   2253.2,6
  09AR19940101,  SR03,    97,  1,      2,      2,2,19940129,1715,-59.9712,  82.3797, 1608,   1505.7,   0.9690,  34.7270,2,  34.7280,2,    205.6,2,    202.2,2,   113.20,2,    31.40,2,     2.19,2,   2255.5,2
  09AR19940101,  SR03,    97,  1,      1,      1,3,19940129,1715,-59.9712,  82.3797, 1608,   1623.5,   0.8980,  34.7230,2,  34.7210,2,    206.2,2,    202.0,2,   120.10,2,    31.60,2,     2.23,2,   2259.2,2