BOTTLE,20230315SIOCCHCBG
# Merged parameters: ALUMIN, ALUMIN_FLAG_W
# 20091208UH
#
# DATA CITATION
#| CCHDO Citation Information
#|
#| Please cite data downloaded from CCHDO as: 
#| [Data providers of the parameter(s) used]. [Year of file access]. [CTD/Bottle] data from cruise [expocode], 
#| [format version used]. Accessed from CCHDO [url of cruise data page]. Access date [date of download].
#| [Applicable CCHDO cruise DOI if provided].
#|
#| For example: 
#| Swift, J. and Becker, S. 2019. CTD data from Cruise 33RR20160321, exchange version. Accessed from CCHDO 
#| https://cchdo.ucsd.edu/cruise/33RR20160321. Access date 2019-08-21. CCHDO cruise DOI: 10.7942/C2008W
#|
#| Information on the scientists who provided the different parameters can be found in the cruise report. 
#| Additionally, for US GO-SHIP cruises, this information is usually in the comments section in the text headers 
#| of the Exchange bottle files.
#|
#| Users are also encouraged to acknowledge the funding program that supported the data collection in their publication. 
#| For US GO-SHIP data this is the NSF/NOAA funded U.S Repeat Hydrography Program.
#|
#| For data citation, please use the data providers listed below. 
#|
#| Programs and Principal Investigators
#| Program             Affiliation    PI                email
#| ------------------  -------------  ----------------  -----------------------
#| Chief Scientist     WHOI           Alison Macdonald  amacdonald@whoi.edu
#| Co-Chief Scientist  UMiami/CIMAS   Shenfu Dong       Shenfu.Dong@noaa.gov
#| Trace Elements      UHawaii        Chris Measures    chrism@soest.hawaii.edu
#|                     FSU            Bill Landing      landing@ocean.fsu.edu
#
EXPOCODE,SECT_ID,STNNBR,CASTNO,SAMPNO,BTLNBR,BTLNBR_FLAG_W,DATE,BTL_TIME,LATITUDE,LONGITUDE,DEPTH,CTDPRS,CTDTMP,CTDSAL,CTDSAL_FLAG_W,SALNTY,SALNTY_FLAG_W,CTDOXY,CTDOXY_FLAG_W,OXYGEN,OXYGEN_FLAG_W,SILCAT,SILCAT_FLAG_W,NITRAT,NITRAT_FLAG_W,NITRIT,NITRIT_FLAG_W,PHSPHT,PHSPHT_FLAG_W,ALUMIN,ALUMIN_FLAG_W
,,,,,,,,,,,METERS,DBAR,ITS-90,PSS-78,,PSS-78,,UMOL/KG,,UMOL/KG,,UMOL/KG,,UMOL/KG,,UMOL/KG,,UMOL/KG,,NMOL/L,
318M20091121,        P06,       1,          2,         12,         12,2,20091122,       0451,     -30.09,     153.48,          0,    12.9,  21.5432,  35.3465,2,-999.0000,9,-999.0000,9,  -999.0,9, -999.00,9, -999.00,9, -999.00,9, -999.00,9, -999.00,9
318M20091121,        P06,       1,          2,         11,         11,2,20091122,       0451,     -30.09,     153.48,          0,      14,  21.3937,  35.3724,2,-999.0000,9,-999.0000,9,  -999.0,9, -999.00,9, -999.00,9, -999.00,9, -999.00,9, -999.00,9
318M20091121,        P06,       1,          2,         10,         10,2,20091122,       0451,     -30.09,     153.48,          0,    16.3,  21.1357,  35.3931,2,  35.4737,2,-999.0000,9,  -999.0,9,    1.44,2,    5.32,2,    0.07,2,    0.41,2,    7.80,2
318M20091121,        P06,       1,          2,          9,          9,2,20091122,       0451,     -30.09,     153.48,          0,    19.9,  20.4316,  35.4724,2,-999.0000,9,-999.0000,9,  -999.0,9, -999.00,9, -999.00,9, -999.00,9, -999.00,9, -999.00,9
318M20091121,        P06,       1,          2,          8,          8,2,20091122,       0449,     -30.09,     153.48,          0,    34.5,  18.5074,  35.5541,2,-999.0000,9,-999.0000,9,  -999.0,9, -999.00,9, -999.00,9, -999.00,9, -999.00,9, -999.00,9
318M20091121,        P06,       1,          2,          7,          7,2,20091122,       0449,     -30.09,     153.48,          0,    36.7,  18.4659,  35.5564,2,-999.0000,9,-999.0000,9,  -999.0,9, -999.00,9, -999.00,9, -999.00,9, -999.00,9, -999.00,9
318M20091121,        P06,       1,          2,          6,          6,2,20091122,       0449,     -30.09,     153.48,          0,    39.2,  18.4016,  35.5738,2,-999.0000,9,-999.0000,9,  -999.0,9, -999.00,9, -999.00,9, -999.00,9, -999.00,9, -999.00,9
318M20091121,        P06,       1,          2,          5,          5,2,20091122,       0449,     -30.09,     153.48,          0,    40.7,  18.3042,  35.5813,2,  35.5782,2,-999.0000,9,  -999.0,9,    1.63,2,    6.85,2,    0.01,2,     0.5,2,    8.20,2
318M20091121,        P06,       1,          2,          4,          4,2,20091122,       0448,     -30.09,     153.48,          0,    50.8,  18.0475,  35.5719,2,-999.0000,9,-999.0000,9,  -999.0,9, -999.00,9, -999.00,9, -999.00,9, -999.00,9, -999.00,9
318M20091121,        P06,       1,          2,          3,          3,2,20091122,       0448,     -30.09,     153.48,          0,    52.7,  18.0335,   35.574,2,  35.5752,2,-999.0000,9,  -999.0,9,    1.61,2,    6.77,2,    0.01,2,    0.51,2,    8.12,2
318M20091121,        P06,       1,          2,          2,          2,2,20091122,       0448,     -30.09,     153.48,          0,      56,  18.0191,   35.576,2,-999.0000,9,-999.0000,9,  -999.0,9, -999.00,9, -999.00,9, -999.00,9, -999.00,9, -999.00,9
318M20091121,        P06,       1,          2,          1,          1,2,20091122,       0448,     -30.09,     153.48,          0,    58.7,  18.0118,  35.5756,2,-999.0000,9,-999.0000,9,  -999.0,9, -999.00,9, -999.00,9, -999.00,9, -999.00,9, -999.00,9
318M20091121,        P06,       3,          1,         12,         12,2,20091122,       0852,   -30.0802,   153.6007,          0,    11.7,  20.9454,  35.4686,2,  35.5525,2,-999.0000,9,  -999.0,9,    0.77,2,    2.87,2,    0.02,2,    0.23,2,    8.09,2
318M20091121,        P06,       3,          1,         11,         11,2,20091122,       0851,   -30.0802,   153.6007,          0,    35.1,  18.7451,  35.5901,2,  35.5895,2,-999.0000,9,  -999.0,9,    1.16,2,    5.23,2,    0.02,2,    0.39,2,    7.52,2
318M20091121,        P06,       3,          1,         10,         10,2,20091122,       0850,   -30.0802,   153.6007,          0,    60.9,  17.9424,  35.5796,2,  35.5761,2,-999.0000,9,  -999.0,9,    1.55,2,    6.41,2,    0.01,2,    0.48,2,    8.36,2
318M20091121,        P06,       3,          1,          9,          9,2,20091122,       0849,   -30.0802,   153.6007,          0,    85.8,  17.6703,   35.565,2,  35.5532,2,-999.0000,9,  -999.0,9,    1.53,2,    6.29,2,    0.01,2,    0.47,2,    7.78,2
318M20091121,        P06,       3,          1,          8,          8,2,20091122,       0848,   -30.0802,   153.6007,          0,   116.4,  17.0755,  35.5543,2,  35.5512,2,-999.0000,9,  -999.0,9,    1.31,2,    4.83,2,    0.01,2,    0.38,2,    8.00,2
318M20091121,        P06,       3,          1,          7,          7,2,20091122,       0847,   -30.0802,   153.6007,          0,   136.5,   16.696,  35.5222,2,  35.5036,2,-999.0000,9,  -999.0,9,     1.7,2,    6.45,2,    0.01,2,    0.48,2,    8.60,2
318M20091121,        P06,       3,          1,          6,          6,2,20091122,       0845,   -30.0802,   153.6007,          0,   167.1,  15.5188,  35.4114,2,  35.3903,2,-999.0000,9,  -999.0,9,    2.71,2,    9.52,2,       0,2,    0.68,2,    8.34,2
318M20091121,        P06,       3,          1,          5,          5,2,20091122,       0844,   -30.0802,   153.6007,          0,   216.8,  14.0252,  35.2757,2,  35.2722,2,-999.0000,9,  -999.0,9,    3.51,2,   11.54,2,       0,2,    0.83,2,    8.78,2
318M20091121,        P06,       3,          1,          4,          4,2,20091122,       0843,   -30.0802,   153.6007,          0,   267.2,  12.9485,  35.1803,2,  35.1764,2,-999.0000,9,  -999.0,9,    4.11,2,   12.86,2,       0,2,    0.92,2,    9.86,2
318M20091121,        P06,       3,          1,          3,          3,2,20091122,       0839,   -30.0802,   153.6007,          0,   438.3,   9.9193,  34.7719,2,  34.7728,2,-999.0000,9,  -999.0,9,    7.38,2,   19.08,2,       0,2,    1.33,2,    5.94,2
318M20091121,        P06,       3,          1,          2,          2,2,20091122,       0834,   -30.0802,   153.6007,          0,   640.7,   7.2471,  34.5029,2,  34.5033,2,-999.0000,9,  -999.0,9,   16.22,2,   25.22,2,       0,2,    1.74,2,    5.52,2
318M20091121,        P06,       3,          1,          1,          1,2,20091122,       0827,   -30.0802,   153.6007,          0,   942.9,   5.0651,  34.4517,2,   34.451,2,-999.0000,9,  -999.0,9,   41.32,2,   30.58,2,       0,2,    2.12,2,    5.29,2
318M20091121,        P06,       5,          1,         12,         12,2,20091123,       1018,     -30.08,     153.75,          0,    20.1,  21.5401,  35.4475,2,  35.4477,2,-999.0000,9,  -999.0,9,    0.24,2,    0.07,2,       0,2,    0.15,2,   12.49,2
318M20091121,        P06,       5,          1,         11,         11,2,20091123,       1017,     -30.08,     153.75,          0,      41,  19.4324,  35.5561,2,  35.5767,2,-999.0000,9,  -999.0,9,    0.86,2,    2.75,2,    0.04,2,    0.29,2,   15.19,2
318M20091121,        P06,       5,          1,         10,         10,2,20091123,       1017,     -30.08,     153.75,          0,    56.2,  18.6244,  35.5922,2,  35.5832,2,-999.0000,9,  -999.0,9,    1.07,2,    4.02,2,    0.03,2,    0.37,2,   16.09,2
318M20091121,        P06,       5,          1,          9,          9,2,20091123,       1016,     -30.08,     153.75,          0,    76.4,  18.1211,  35.5849,2,  35.5813,2,-999.0000,9,  -999.0,9,    1.29,2,    4.91,2,    0.03,2,    0.44,2,   16.19,2
318M20091121,        P06,       5,          1,          8,          8,2,20091123,       1015,     -30.08,     153.75,          0,   101.8,  17.6635,  35.5627,2,  35.5596,2,-999.0000,9,  -999.0,9,    0.68,2,     2.6,2,    0.01,2,     0.3,2,   15.34,2
318M20091121,        P06,       5,          1,          7,          7,2,20091123,       1014,     -30.08,     153.75,          0,     127,  17.2262,  35.5571,2,  35.5562,2,-999.0000,9,  -999.0,9,    0.89,2,    3.58,2,    0.01,2,    0.35,2,   15.76,2
318M20091121,        P06,       5,          1,          6,          6,2,20091123,       1013,     -30.08,     153.75,          0,   150.8,   16.514,  35.4994,2,  35.4988,2,-999.0000,9,  -999.0,9,    1.51,2,    6.07,2,    0.01,2,    0.51,2,   16.77,2
318M20091121,        P06,       5,          1,          5,          5,2,20091123,       1012,     -30.08,     153.75,          0,   204.6,  15.4362,  35.4221,2,  35.4207,2,-999.0000,9,  -999.0,9,    2.14,2,    7.68,2,       0,2,    0.62,2,   16.10,2
318M20091121,        P06,       5,          1,          4,          4,2,20091123,       1011,     -30.08,     153.75,          0,   251.5,  13.9823,  35.2816,2,   35.265,2,-999.0000,9,  -999.0,9,    3.37,2,   10.91,2,       0,2,    0.83,2,   16.39,2
318M20091121,        P06,       5,          1,          3,          3,2,20091123,       1007,     -30.08,     153.75,          0,   404.2,  10.7375,  34.8876,2,  34.8826,2,-999.0000,9,  -999.0,9,    6.24,2,   16.88,2,       0,2,    1.21,2,   14.36,2
318M20091121,        P06,       5,          1,          2,          2,2,20091123,       1001,     -30.08,     153.75,          0,   703.5,   7.0177,  34.4858,2,  34.4845,2,-999.0000,9,  -999.0,9,   17.56,2,   25.24,2,       0,2,    1.78,2,   12.24,2
318M20091121,        P06,       5,          1,          1,          1,2,20091123,       0954,     -30.08,     153.75,          0,  1010.8,   4.8715,  34.4615,2,  34.4617,2,-999.0000,9,  -999.0,9,   45.13,2,   30.61,2,       0,2,    2.16,2,   11.78,2
318M20091121,        P06,       7,          1,         12,         12,2,20091123,       2102,     -30.08,     153.96,          0,    20.5,  22.7227,  35.5019,2,  35.5031,2,-999.0000,9,  -999.0,9,    0.27,2,    0.01,2,       0,2,    0.12,2,   17.21,2
318M20091121,        P06,       7,          1,         11,         11,2,20091123,       2101,     -30.08,     153.96,          0,    40.1,  21.8496,  35.4979,2,  35.5114,2,-999.0000,9,  -999.0,9,    0.66,2,    1.16,2,    0.02,2,    0.21,2,   16.47,2
318M20091121,        P06,       7,          1,         10,         10,2,20091123,       2100,     -30.08,     153.96,          0,    67.4,  18.7452,  35.5932,2,  35.5917,2,-999.0000,9,  -999.0,9,    1.06,2,    3.02,2,    0.05,2,    0.31,2,   15.53,2
318M20091121,        P06,       7,          1,          9,          9,2,20091123,       2059,     -30.08,     153.96,          0,    91.8,    18.16,  35.5786,2,  35.5729,2,-999.0000,9,  -999.0,9,    0.84,2,    3.42,2,    0.02,2,    0.34,2,   13.88,2
318M20091121,        P06,       7,          1,          8,          8,2,20091123,       2058,     -30.08,     153.96,          0,   110.9,    17.72,  35.5639,2,   35.561,2,-999.0000,9,  -999.0,9,    1.04,2,    3.85,2,    0.01,2,    0.37,2,   16.16,2
318M20091121,        P06,       7,          1,          7,          7,2,20091123,       2057,     -30.08,     153.96,          0,   135.8,  17.2141,  35.5553,2,  35.5543,2,-999.0000,9,  -999.0,9,    1.02,2,    3.61,2,    0.01,2,    0.35,2,   15.57,2
318M20091121,        P06,       7,          1,          6,          6,2,20091123,       2055,     -30.08,     153.96,          0,   186.7,   16.336,  35.4966,2,   35.501,2,-999.0000,9,  -999.0,9,    1.62,2,    5.82,2,    0.01,2,     0.5,2,   16.71,2
318M20091121,        P06,       7,          1,          5,          5,2,20091123,       2054,     -30.08,     153.96,          0,   235.7,  15.2103,  35.4062,2,  35.4095,2,-999.0000,9,  -999.0,9,    2.42,2,    7.89,2,       0,2,    0.63,2,   16.15,2
318M20091121,        P06,       7,          1,          4,          4,2,20091123,       2053,     -30.08,     153.96,          0,   286.9,   13.859,  35.2999,2,  35.2988,2,-999.0000,9,  -999.0,9,    3.03,2,    9.92,2,       0,2,    0.76,2,   16.04,2
318M20091121,        P06,       7,          1,          3,          3,2,20091123,       2050,     -30.08,     153.96,          0,   422.9,  10.9732,  34.9266,2,  34.9239,2,-999.0000,9,  -999.0,9,    5.88,2,   16.07,2,       0,2,    1.16,2,   14.29,2
318M20091121,        P06,       7,          1,          2,          2,2,20091123,       2044,     -30.08,     153.96,          0,   667.5,   7.3772,  34.5144,2,  34.5145,2,-999.0000,9,  -999.0,9,   15.76,2,   24.42,2,       0,2,    1.72,2,   12.79,2
318M20091121,        P06,       7,          1,          1,          1,2,20091123,       2038,     -30.08,     153.96,          0,     973,   5.0691,  34.4498,2,  34.4504,2,-999.0000,9,  -999.0,9,   41.25,2,   30.06,2,       0,2,    2.13,2,   11.89,2
318M20091121,        P06,       9,          1,         12,         12,2,20091124,       1028,   -30.0796,   154.1621,          0,    19.8,  23.6231,  35.5028,2,  35.5051,2,-999.0000,9,  -999.0,9,    0.64,2,       0,2,       0,2,    0.11,2,    8.14,2
318M20091121,        P06,       9,          1,         11,         11,2,20091124,       1026,   -30.0796,   154.1621,          0,    35.3,  21.3542,  35.5098,2,  35.5085,2,-999.0000,9,  -999.0,9,    0.78,2,    0.04,2,       0,2,    0.13,2,    6.64,2
318M20091121,        P06,       9,          1,         10,         10,2,20091124,       1024,   -30.0796,   154.1621,          0,      60,  20.3359,  35.5493,2,   35.549,2,-999.0000,9,  -999.0,9,    0.92,2,     1.5,2,    0.05,2,    0.26,2,    7.49,2
318M20091121,        P06,       9,          1,          9,          9,2,20091124,       1021,   -30.0796,   154.1621,          0,    86.2,  19.6869,  35.5952,2,   35.594,2,-999.0000,9,  -999.0,9,    1.26,2,    3.11,2,    0.02,2,    0.36,2,    7.57,2
318M20091121,        P06,       9,          1,          8,          8,2,20091124,       1019,   -30.0796,   154.1621,          0,   115.2,  19.0941,  35.6137,2,  35.6122,2,-999.0000,9,  -999.0,9,     1.4,2,    2.96,2,    0.01,2,    0.36,2,    7.80,2
318M20091121,        P06,       9,          1,          7,          7,2,20091124,       1018,   -30.0796,   154.1621,          0,   135.6,  18.6877,    35.61,2,  35.6081,2,-999.0000,9,  -999.0,9,    1.53,2,    4.09,2,    0.01,2,    0.43,2,    7.23,2
318M20091121,        P06,       9,          1,          6,          6,2,20091124,       1017,   -30.0796,   154.1621,          0,   166.5,  17.9904,  35.5743,2,  35.5713,2,-999.0000,9,  -999.0,9,    1.88,2,    5.17,2,    0.01,2,    0.51,2,    7.24,2
318M20091121,        P06,       9,          1,          5,          5,2,20091124,       1016,   -30.0796,   154.1621,          0,   216.6,  15.3542,  35.3704,2,   35.372,2,-999.0000,9,  -999.0,9,    3.04,2,    8.59,2,       0,2,    0.73,2,    6.82,2
318M20091121,        P06,       9,          1,          4,          4,2,20091124,       1014,   -30.0796,   154.1621,          0,   266.4,  14.1311,  35.2733,2,  35.2733,2,-999.0000,9,  -999.0,9,     3.8,2,   10.17,2,       0,2,    0.83,2,    6.33,2
318M20091121,        P06,       9,          1,          3,          3,2,20091124,       1011,   -30.0796,   154.1621,          0,   401.2,  11.5209,  34.9998,2,  34.9872,2,-999.0000,9,  -999.0,9,    5.59,2,   14.71,2,       0,2,     1.1,2,    6.23,2
318M20091121,        P06,       9,          1,          2,          2,2,20091124,       1005,   -30.0796,   154.1621,          0,     640,   7.8837,  34.5532,2,  34.5517,2,-999.0000,9,  -999.0,9,   13.21,2,    23.3,2,       0,2,    1.64,2,    4.87,2
318M20091121,        P06,       9,          1,          1,          1,2,20091124,       0958,   -30.0796,   154.1621,          0,   942.4,   5.3433,  34.4426,2,  34.4428,2,-999.0000,9,  -999.0,9,   36.56,2,   29.94,2,       0,2,    2.07,2,    4.35,2