BOTTLE,20230315SIOCCHCBG
EXPOCODE,SECT_ID,STNNBR,CASTNO,SAMPNO,BTLNBR,BTLNBR_FLAG_W,DATE,BTL_TIME,LATITUDE,LONGITUDE,DEPTH,CTDPRS,CTDTMP,CTDSAL,CTDSAL_FLAG_W,SALNTY,SALNTY_FLAG_W,CTDOXY,CTDOXY_FLAG_W,OXYGEN,OXYGEN_FLAG_W,SILCAT,SILCAT_FLAG_W,NITRAT,NITRAT_FLAG_W,NITRIT,NITRIT_FLAG_W,PHSPHT,PHSPHT_FLAG_W,ALUMIN,ALUMIN_FLAG_W
,,,,,,,,,,,METERS,DBAR,ITS-90,PSS-78,,PSS-78,,UMOL/KG,,UMOL/KG,,UMOL/KG,,UMOL/KG,,UMOL/KG,,UMOL/KG,,NMOL/L,
318M20091121,        P06,      47,          2,         12,         12,2,20091203,       2343,   -30.0811,   170.0031,          0,    19.2,  20.9759,  35.6679,2,  35.6668,2,-999.0000,9,  -999.0,9,    0.61,2,    0.06,2,       0,2,    0.08,2,    7.57,2
318M20091121,        P06,      47,          2,         11,         11,2,20091203,       2342,   -30.0811,   170.0031,          0,    41.4,  19.4556,   35.635,2,  35.6325,2,-999.0000,9,  -999.0,9,     0.4,2,    0.07,2,       0,2,    0.09,2,    7.21,2
318M20091121,        P06,      47,          2,         10,         10,2,20091203,       2341,   -30.0811,   170.0031,          0,    54.9,  19.1238,  35.6202,2,  35.6203,2,-999.0000,9,  -999.0,9,    0.39,2,    0.02,2,       0,2,    0.09,2,    6.95,2
318M20091121,        P06,      47,          2,          9,          9,2,20091203,       2339,   -30.0811,   170.0031,          0,    76.1,  18.8025,  35.6135,2,  35.6123,2,-999.0000,9,  -999.0,9,    0.37,2,    0.02,2,    0.01,2,    0.11,2,    7.84,2
318M20091121,        P06,      47,          2,          8,          8,2,20091203,       2338,   -30.0811,   170.0031,          0,   101.6,   18.512,  35.6085,2,  35.6072,2,-999.0000,9,  -999.0,9,    0.56,2,    1.04,2,    0.05,2,    0.19,2,    7.69,2
318M20091121,        P06,      47,          2,          7,          7,2,20091203,       2336,   -30.0811,   170.0031,          0,   127.3,  18.0238,  35.5907,2,  35.5894,2,-999.0000,9,  -999.0,9,    0.74,2,    2.33,2,    0.02,2,    0.26,2,    8.13,2
318M20091121,        P06,      47,          2,          6,          6,2,20091203,       2335,   -30.0811,   170.0031,          0,   151.8,  17.6751,  35.5796,2,  35.5767,2,-999.0000,9,  -999.0,9,    0.92,2,     3.6,2,    0.02,2,    0.34,2,    8.55,2
318M20091121,        P06,      47,          2,          5,          5,2,20091203,       2333,   -30.0811,   170.0031,          0,     203,  16.7343,  35.5192,2,  35.5179,2,-999.0000,9,  -999.0,9,    1.49,2,    5.65,2,    0.01,2,    0.48,2,    8.80,2
318M20091121,        P06,      47,          2,          4,          4,2,20091203,       2331,   -30.0811,   170.0031,          0,   253.1,  16.0648,  35.4716,2,  35.4692,2,-999.0000,9,  -999.0,9,    1.88,2,    6.48,2,    0.01,2,    0.54,2,    8.89,2
318M20091121,        P06,      47,          2,          3,          3,2,20091203,       2326,   -30.0811,   170.0031,          0,   403.2,   13.521,  35.2557,2,  35.2515,2,-999.0000,9,  -999.0,9,    4.02,2,   10.52,2,    0.01,2,    0.79,2,    9.37,2
318M20091121,        P06,      47,          2,          2,          2,2,20091203,       2318,   -30.0811,   170.0031,          0,   704.5,   8.2789,  34.6045,2,  34.6019,2,-999.0000,9,  -999.0,9,   12.31,2,    22.1,2,       0,2,    1.53,2,    6.88,2
318M20091121,        P06,      47,          2,          1,          1,2,20091203,       2310,   -30.0811,   170.0031,          0,  1008.3,   5.5668,  34.4723,2,   34.467,2,-999.0000,9,  -999.0,9,   35.62,2,   28.88,2,       0,2,       2,2,    6.08,2
318M20091121,        P06,      49,          1,         12,         12,2,20091205,       0426,     -30.08,        171,          0,    20.6,   20.629,  35.6868,2,  35.6846,2,-999.0000,9,  -999.0,9,     1.2,2,    0.08,2,       0,2,    0.13,2,    7.02,2
318M20091121,        P06,      49,          1,         11,         11,2,20091205,       0424,     -30.08,        171,          0,    40.2,  18.8669,  35.6282,2,  35.6251,2,-999.0000,9,  -999.0,9,     0.4,2,    0.13,2,       0,2,    0.12,2,    5.08,2
318M20091121,        P06,      49,          1,         10,         10,2,20091205,       0423,     -30.08,        171,          0,    65.9,  17.8234,  35.5884,2,  35.5876,2,-999.0000,9,  -999.0,9,    0.59,2,    0.11,2,       0,2,    0.13,2,    4.14,2
318M20091121,        P06,      49,          1,          9,          9,2,20091205,       0421,     -30.08,        171,          0,    93.2,  17.1232,  35.5565,2,  35.5579,2,-999.0000,9,  -999.0,9,    0.97,2,    1.19,2,     0.1,2,    0.28,2,    5.83,2
318M20091121,        P06,      49,          1,          8,          8,2,20091205,       0420,     -30.08,        171,          0,     112,   16.899,  35.5494,2,  35.5478,2,-999.0000,9,  -999.0,9,    1.14,2,    2.09,2,    0.03,2,    0.33,2,    7.56,2
318M20091121,        P06,      49,          1,          7,          7,2,20091205,       0419,     -30.08,        171,          0,   135.4,  16.5945,  35.5287,2,  35.5263,2,-999.0000,9,  -999.0,9,    1.33,2,    2.87,2,    0.02,2,    0.38,2,    7.56,2
318M20091121,        P06,      49,          1,          6,          6,2,20091205,       0416,     -30.08,        171,          0,   186.9,  15.9553,  35.4684,2,   35.463,2,-999.0000,9,  -999.0,9,     1.9,2,    4.99,2,    0.01,2,    0.52,2,    8.18,2
318M20091121,        P06,      49,          1,          5,          5,2,20091205,       0415,     -30.08,        171,          0,   237.6,  15.1526,  35.3931,2,  35.3839,2,-999.0000,9,  -999.0,9,    2.48,2,    6.77,2,    0.01,2,    0.63,2,    8.41,2
318M20091121,        P06,      49,          1,          4,          4,2,20091205,       0413,     -30.08,        171,          0,     287,  13.7935,   35.255,2,  35.2323,2,-999.0000,9,  -999.0,9,    3.84,2,    9.82,2,    0.01,2,    0.82,2,    7.96,2
318M20091121,        P06,      49,          1,          3,          3,2,20091205,       0410,     -30.08,        171,          0,     421,  11.2527,  34.9505,2,  34.9455,2,-999.0000,9,  -999.0,9,    6.39,2,   14.89,2,       0,2,    1.13,2,    7.86,2
318M20091121,        P06,      49,          1,          2,          2,2,20091205,       0404,     -30.08,        171,          0,   672.6,   8.0103,  34.5816,2,  34.5795,2,-999.0000,9,  -999.0,9,   13.49,2,   21.98,2,       0,2,    1.59,2,    6.30,2
318M20091121,        P06,      49,          1,          1,          1,2,20091205,       0354,     -30.08,        171,          0,   974.2,   5.5136,  34.4743,2,  34.4761,2,-999.0000,9,  -999.0,9,   36.96,2,   28.35,2,       0,2,    2.01,2,    5.69,2
318M20091121,        P06,      51,          1,         12,         12,2,20091205,       1157,   -30.0798,   171.4991,          0,    21.8,   19.057,  35.6246,2,  35.6258,2,-999.0000,9,  -999.0,9,    0.79,2,    0.03,2,    0.01,2,    0.12,2,    9.58,2
318M20091121,        P06,      51,          1,         11,         11,2,20091205,       1155,   -30.0798,   171.4991,          0,    36.5,  18.5311,  35.6031,2,  35.6018,2,-999.0000,9,  -999.0,9,    0.78,2,    0.07,2,    0.01,2,    0.13,2,    5.40,2
318M20091121,        P06,      51,          1,         10,         10,2,20091205,       1154,   -30.0798,   171.4991,          0,    61.4,  18.0474,  35.5929,2,  35.5907,2,-999.0000,9,  -999.0,9,    0.77,2,    0.08,2,    0.05,2,    0.16,2,    5.64,2
318M20091121,        P06,      51,          1,          9,          9,2,20091205,       1152,   -30.0798,   171.4991,          0,    85.6,  17.3435,  35.5679,2,  35.5669,2,-999.0000,9,  -999.0,9,    0.95,2,    0.79,2,    0.17,2,    0.26,2,    5.89,2
318M20091121,        P06,      51,          1,          8,          8,2,20091205,       1151,   -30.0798,   171.4991,          0,   116.7,  16.8011,   35.542,2,  35.5375,2,-999.0000,9,  -999.0,9,    1.33,2,    2.05,2,    0.03,2,    0.34,2,    9.01,2
318M20091121,        P06,      51,          1,          7,          7,2,20091205,       1150,   -30.0798,   171.4991,          0,   136.8,  16.3282,  35.5037,2,  35.5024,2,-999.0000,9,  -999.0,9,     1.7,2,    3.56,2,    0.02,2,    0.44,2,    8.54,2
318M20091121,        P06,      51,          1,          6,          6,2,20091205,       1148,   -30.0798,   171.4991,          0,     169,  16.0422,  35.4788,2,  35.4768,2,-999.0000,9,  -999.0,9,    1.88,2,    4.34,2,    0.02,2,    0.49,2,    8.32,2
318M20091121,        P06,      51,          1,          5,          5,2,20091205,       1146,   -30.0798,   171.4991,          0,   215.7,   15.411,  35.4169,2,  35.4129,2,-999.0000,9,  -999.0,9,    2.45,2,    6.17,2,    0.01,2,     0.6,2,    8.73,2
318M20091121,        P06,      51,          1,          4,          4,2,20091205,       1144,   -30.0798,   171.4991,          0,   266.6,  14.2266,    35.29,2,  35.2604,2,-999.0000,9,  -999.0,9,    3.42,2,    9.23,2,    0.01,2,    0.79,2,    8.80,2
318M20091121,        P06,      51,          1,          3,          3,2,20091205,       1140,   -30.0798,   171.4991,          0,   408.1,  11.8642,  35.0219,2,  35.0078,2,-999.0000,9,  -999.0,9,    5.74,2,    13.7,2,    0.01,2,    1.05,2,    8.69,2
318M20091121,        P06,      51,          1,          2,          2,2,20091205,       1132,   -30.0798,   171.4991,          0,   640.2,   8.5491,  34.6278,2,  34.6263,2,-999.0000,9,  -999.0,9,   11.22,2,   20.53,2,       0,2,    1.49,2,    6.83,2
318M20091121,        P06,      51,          1,          1,          1,2,20091205,       1123,   -30.0798,   171.4991,          0,   943.1,   5.9117,  34.4424,2,  34.4445,2,-999.0000,9,  -999.0,9,   27.37,2,   27.08,2,       0,2,    1.91,2,    5.46,2
318M20091121,        P06,      53,          2,         12,         12,2,20091206,       0120,   -30.0798,   172.4999,          0,    20.3,  20.0991,  35.6834,2,  35.6834,2,-999.0000,9,  -999.0,9,    0.64,2,    0.14,2,       0,2,    0.13,2,    6.65,2
318M20091121,        P06,      53,          2,         11,         11,2,20091206,       0118,   -30.0798,   172.4999,          0,    41.5,   18.369,  35.5977,2,  35.5997,2,-999.0000,9,  -999.0,9,    0.63,2,    0.07,2,       0,2,    0.11,2,    6.07,2
318M20091121,        P06,      53,          2,         10,         10,2,20091206,       0117,   -30.0798,   172.4999,          0,    55.9,  17.6812,  35.5779,2,  35.5778,2,-999.0000,9,  -999.0,9,    1.01,2,    0.31,2,    0.06,2,    0.21,2,    6.30,2
318M20091121,        P06,      53,          2,          9,          9,2,20091206,       0116,   -30.0798,   172.4999,          0,    76.2,  17.2626,  35.5679,2,  35.5679,2,-999.0000,9,  -999.0,9,       1,2,     1.7,2,    0.06,2,    0.28,2,    7.54,2
318M20091121,        P06,      53,          2,          8,          8,2,20091206,       0114,   -30.0798,   172.4999,          0,   100.5,  16.9735,  35.5591,2,  35.5598,2,-999.0000,9,  -999.0,9,    1.17,2,    2.64,2,    0.04,2,    0.34,2,    7.06,2
318M20091121,        P06,      53,          2,          7,          7,2,20091206,       0113,   -30.0798,   172.4999,          0,     126,  16.6906,  35.5418,2,  35.5428,2,-999.0000,9,  -999.0,9,    1.35,2,    3.26,2,    0.03,2,     0.4,2,    7.55,2
318M20091121,        P06,      53,          2,          6,          6,2,20091206,       0111,   -30.0798,   172.4999,          0,   151.1,  16.4761,  35.5254,2,  35.5235,2,-999.0000,9,  -999.0,9,    1.53,2,    4.08,2,    0.02,2,    0.44,2,    8.18,2
318M20091121,        P06,      53,          2,          5,          5,2,20091206,       0109,   -30.0798,   172.4999,          0,   202.3,  15.5397,  35.4266,2,  35.4251,2,-999.0000,9,  -999.0,9,     2.1,2,    6.65,2,    0.01,2,     0.6,2,    8.31,2
318M20091121,        P06,      53,          2,          4,          4,2,20091206,       0107,   -30.0798,   172.4999,          0,   251.6,  14.4878,  35.3037,2,  35.2745,2,-999.0000,9,  -999.0,9,    3.05,2,    9.25,2,    0.01,2,    0.76,2,    9.62,2
318M20091121,        P06,      53,          2,          3,          3,2,20091206,       0102,   -30.0798,   172.4999,          0,   402.4,  11.1532,  34.8769,2,  34.8676,2,-999.0000,9,  -999.0,9,    4.78,2,   14.99,2,       0,2,    1.12,2,    7.21,2
318M20091121,        P06,      53,          2,          2,          2,2,20091206,       0054,   -30.0798,   172.4999,          0,   706.2,   7.1825,  34.4605,2,  34.4604,2,-999.0000,9,  -999.0,9,   11.95,2,   23.28,2,       0,2,    1.63,2,   11.11,4
318M20091121,        P06,      53,          2,          1,          1,2,20091206,       0044,   -30.0798,   172.4999,          0,  1008.4,   5.1117,  34.4254,2,  34.4245,2,-999.0000,9,  -999.0,9,   35.86,2,   29.53,2,       0,2,    2.05,2,    6.05,2
318M20091121,        P06,      55,          1,         12,         12,2,20091206,       0925,   -30.0849,   173.5002,          0,    14.6,  21.9887,  35.6953,2,  35.6895,2,-999.0000,9,  -999.0,9,    0.96,2,    0.17,2,       0,2,    0.09,2,    8.04,2
318M20091121,        P06,      55,          1,         11,         11,2,20091206,       0923,   -30.0849,   173.5002,          0,      40,  19.3661,  35.6247,2,  35.6158,2,-999.0000,9,  -999.0,9,    0.69,2,    0.11,2,       0,2,    0.11,2,    5.92,2
318M20091121,        P06,      55,          1,         10,         10,2,20091206,       0922,   -30.0849,   173.5002,          0,    66.3,  18.5949,  35.6002,2,  35.5992,2,-999.0000,9,  -999.0,9,    1.21,2,    0.15,2,    0.02,2,    0.15,2,    6.42,2
318M20091121,        P06,      55,          1,          9,          9,2,20091206,       0920,   -30.0849,   173.5002,          0,    90.9,  18.0462,  35.5919,2,  35.5901,2,-999.0000,9,  -999.0,9,    1.53,2,    1.52,2,    0.14,2,    0.24,2,    7.35,2
318M20091121,        P06,      55,          1,          8,          8,2,20091206,       0919,   -30.0849,   173.5002,          0,   110.8,  17.8268,  35.5864,2,  35.5842,2,-999.0000,9,  -999.0,9,    1.66,2,    2.63,2,    0.09,2,     0.3,2,    7.45,2
318M20091121,        P06,      55,          1,          7,          7,2,20091206,       0917,   -30.0849,   173.5002,          0,   137.9,   17.502,  35.5776,2,  35.5759,2,-999.0000,9,  -999.0,9,    1.98,2,    2.87,2,    0.03,2,    0.32,2,    7.22,2
318M20091121,        P06,      55,          1,          6,          6,2,20091206,       0915,   -30.0849,   173.5002,          0,   186.8,  16.3072,   35.478,2,  35.4795,2,-999.0000,9,  -999.0,9,     2.7,2,    6.22,2,    0.02,2,    0.53,2,    7.54,2
318M20091121,        P06,      55,          1,          5,          5,2,20091206,       0913,   -30.0849,   173.5002,          0,   237.4,  15.3455,   35.407,2,  35.3936,2,-999.0000,9,  -999.0,9,     3.6,2,    7.76,2,    0.01,2,    0.62,2,    7.97,2
318M20091121,        P06,      55,          1,          4,          4,2,20091206,       0911,   -30.0849,   173.5002,          0,   287.1,    14.34,  35.2957,2,  35.2669,2,-999.0000,9,  -999.0,9,    4.33,2,   10.03,2,    0.01,2,    0.76,2,    9.11,2
318M20091121,        P06,      55,          1,          3,          3,2,20091206,       0904,   -30.0849,   173.5002,          0,   424.3,  11.6513,  34.9747,2,   34.961,2,-999.0000,9,  -999.0,9,    6.21,2,   14.81,2,       0,2,    1.06,2,    8.08,2
318M20091121,        P06,      55,          1,          2,          2,2,20091206,       0855,   -30.0849,   173.5002,          0,   671.4,   7.9742,  34.5249,2,  34.5193,2,-999.0000,9,  -999.0,9,    9.87,2,   21.74,2,       0,2,     1.5,2,    5.98,2
318M20091121,        P06,      55,          1,          1,          1,2,20091206,       0845,   -30.0849,   173.5002,          0,   973.9,   5.7749,  34.3852,2,  34.3854,2,-999.0000,9,  -999.0,9,   22.61,2,   27.54,2,       0,2,    1.88,2,    5.08,2
318M20091121,        P06,      57,          2,         12,         12,2,20091207,       0042,   -30.0798,   174.5001,          0,      15,  21.0338,  35.6099,2,   35.616,2,-999.0000,9,  -999.0,9, -999.00,5, -999.00,5, -999.00,5, -999.00,5,    6.88,2
318M20091121,        P06,      57,          2,         11,         11,2,20091207,       0040,   -30.0798,   174.5001,          0,    36.1,  19.2614,  35.5859,2,  35.5862,2,-999.0000,9,  -999.0,9, -999.00,5, -999.00,5, -999.00,5, -999.00,5,    6.69,2
318M20091121,        P06,      57,          2,         10,         10,2,20091207,       0038,   -30.0798,   174.5001,          0,    60.6,  18.6802,  35.6203,2,  35.6178,2,-999.0000,9,  -999.0,9, -999.00,5, -999.00,5, -999.00,5, -999.00,5,    5.82,2
318M20091121,        P06,      57,          2,          9,          9,2,20091207,       0037,   -30.0798,   174.5001,          0,    85.3,  17.9035,  35.6054,2,  35.6034,2,-999.0000,9,  -999.0,9, -999.00,5, -999.00,5, -999.00,5, -999.00,5,    5.33,2
318M20091121,        P06,      57,          2,          8,          8,2,20091207,       0035,   -30.0798,   174.5001,          0,   116.3,  17.5117,  35.6003,2,  35.5979,2,-999.0000,9,  -999.0,9, -999.00,5, -999.00,5, -999.00,5, -999.00,5,    6.34,2
318M20091121,        P06,      57,          2,          7,          7,2,20091207,       0034,   -30.0798,   174.5001,          0,   136.5,  17.2043,   35.584,2,  35.5774,2,-999.0000,9,  -999.0,9, -999.00,5, -999.00,5, -999.00,5, -999.00,5,    6.26,2
318M20091121,        P06,      57,          2,          6,          6,2,20091207,       0032,   -30.0798,   174.5001,          0,   165.6,  16.9526,  35.5716,2,  35.5681,2,-999.0000,9,  -999.0,9, -999.00,5, -999.00,5, -999.00,5, -999.00,5,    7.14,2
318M20091121,        P06,      57,          2,          5,          5,2,20091207,       0030,   -30.0798,   174.5001,          0,   215.7,  16.2582,  35.5128,2,  35.5076,2,-999.0000,9,  -999.0,9, -999.00,5, -999.00,5, -999.00,5, -999.00,5,    8.03,2
318M20091121,        P06,      57,          2,          4,          4,2,20091207,       0028,   -30.0798,   174.5001,          0,   267.7,  15.2234,  35.3998,2,  35.3633,2,-999.0000,9,  -999.0,9, -999.00,5, -999.00,5, -999.00,5, -999.00,5,    7.64,2
318M20091121,        P06,      57,          2,          3,          3,2,20091207,       0024,   -30.0798,   174.5001,          0,   407.8,  12.0411,  34.9807,2,  34.9505,2,-999.0000,9,  -999.0,9, -999.00,5, -999.00,5, -999.00,5, -999.00,5,    7.34,2
318M20091121,        P06,      57,          2,          2,          2,2,20091207,       0019,   -30.0798,   174.5001,          0,   639.8,   8.0564,  34.5202,2,  34.5157,2,-999.0000,9,  -999.0,9, -999.00,5, -999.00,5, -999.00,5, -999.00,5,    4.91,2
318M20091121,        P06,      57,          2,          1,          1,2,20091207,       0011,   -30.0798,   174.5001,          0,   943.3,   5.7189,  34.3828,2,  34.3819,2,-999.0000,9,  -999.0,9, -999.00,5, -999.00,5, -999.00,5, -999.00,5,    4.47,2