BOTTLE,20230315SIOCCHCBG
EXPOCODE,SECT_ID,STNNBR,CASTNO,SAMPNO,BTLNBR,BTLNBR_FLAG_W,DATE,BTL_TIME,LATITUDE,LONGITUDE,DEPTH,CTDPRS,CTDTMP,CTDSAL,CTDSAL_FLAG_W,SALNTY,SALNTY_FLAG_W,CTDOXY,CTDOXY_FLAG_W,OXYGEN,OXYGEN_FLAG_W,SILCAT,SILCAT_FLAG_W,NITRAT,NITRAT_FLAG_W,NITRIT,NITRIT_FLAG_W,PHSPHT,PHSPHT_FLAG_W,ALUMIN,ALUMIN_FLAG_W
,,,,,,,,,,,METERS,DBAR,ITS-90,PSS-78,,PSS-78,,UMOL/KG,,UMOL/KG,,UMOL/KG,,UMOL/KG,,UMOL/KG,,UMOL/KG,,NMOL/L,
318M20091121,        P06,      23,          1,         12,         12,2,20091128,       0719,   -30.0872,   158.6824,          0,    20.4,  23.0474,  35.5444,2,  35.5397,2,-999.0000,9,  -999.0,9,     0.6,2,    0.07,2,       0,2,    0.11,2,   10.88,2
318M20091121,        P06,      23,          1,         11,         11,2,20091128,       0717,   -30.0872,   158.6824,          0,      42,  22.5065,  35.5675,2,  35.5508,2,-999.0000,9,  -999.0,9,    0.55,2,    0.07,2,       0,2,    0.09,2,   11.07,2
318M20091121,        P06,      23,          1,         10,         10,2,20091128,       0717,   -30.0872,   158.6824,          0,      56,  21.8453,  35.5039,2,  35.5309,2,-999.0000,9,  -999.0,9,    0.69,2,    0.06,2,       0,2,    0.09,2,   10.44,2
318M20091121,        P06,      23,          1,          9,          9,2,20091128,       0716,   -30.0872,   158.6824,          0,    76.4,  21.3667,  35.5691,2,  35.5682,2,-999.0000,9,  -999.0,9,    0.44,2,    0.06,2,       0,2,    0.08,2,   10.72,2
318M20091121,        P06,      23,          1,          8,          8,2,20091128,       0715,   -30.0872,   158.6824,          0,    99.2,  20.9381,  35.6314,2,  35.6273,2,-999.0000,9,  -999.0,9,    0.39,2,    0.06,2,       0,2,    0.06,2,   10.11,2
318M20091121,        P06,      23,          1,          7,          7,2,20091128,       0714,   -30.0872,   158.6824,          0,   127.1,  20.1188,  35.5653,2,  35.5647,2,-999.0000,9,  -999.0,9,    0.75,2,    1.75,2,    0.06,2,     0.2,2,   10.50,2
318M20091121,        P06,      23,          1,          6,          6,2,20091128,       0713,   -30.0872,   158.6824,          0,   151.4,  19.6925,  35.5717,2,  35.5698,2,-999.0000,9,  -999.0,9,     0.5,2,    2.03,2,    0.02,2,    0.22,2,   11.27,2
318M20091121,        P06,      23,          1,          5,          5,2,20091128,       0711,   -30.0872,   158.6824,          0,   202.5,   19.098,    35.59,2,  35.5896,2,-999.0000,9,  -999.0,9,    1.06,2,    4.04,2,    0.01,2,    0.35,2,   11.81,2
318M20091121,        P06,      23,          1,          4,          4,2,20091128,       0709,   -30.0872,   158.6824,          0,   249.8,  18.3993,  35.6082,2,  35.5987,2,-999.0000,9,  -999.0,9,    1.21,2,    5.02,2,       0,2,    0.42,2,   10.30,2
318M20091121,        P06,      23,          1,          3,          3,2,20091128,       0705,   -30.0872,   158.6824,          0,   404.2,  15.1584,  35.3668,2,  35.3629,2,-999.0000,9,  -999.0,9,    2.81,2,    9.36,2,       0,2,     0.7,2,    8.65,2
318M20091121,        P06,      23,          1,          2,          2,2,20091128,       0656,   -30.0872,   158.6824,          0,   707.6,   9.2132,  34.6893,2,  34.6894,2,-999.0000,9,  -999.0,9,    8.75,2,   19.99,2,       0,2,    1.39,2,    7.84,2
318M20091121,        P06,      23,          1,          1,          1,2,20091128,       0648,   -30.0872,   158.6824,          0,    1008,   5.9863,   34.447,2,  34.4465,2,-999.0000,9,  -999.0,9,    27.6,2,   27.93,2,       0,2,    1.94,2,    6.25,2
318M20091121,        P06,      25,          2,         12,         12,2,20091128,       2208,   -30.0753,   159.4968,          0,    24.1,  23.3175,  35.5066,2,  35.5069,2,-999.0000,9,  -999.0,9,    0.51,2,     0.1,2,       0,2,    0.12,2,    9.47,2
318M20091121,        P06,      25,          2,         11,         11,2,20091128,       2208,   -30.0753,   159.4968,          0,    41.3,  22.6907,   35.473,2,  35.4712,2,-999.0000,9,  -999.0,9,    0.47,2,    0.04,2,       0,2,    0.11,2,   10.44,2
318M20091121,        P06,      25,          2,         10,         10,2,20091128,       2207,   -30.0753,   159.4968,          0,    55.5,  21.8602,   35.471,2,  35.4674,2,-999.0000,9,  -999.0,9,    0.44,2,    0.07,2,       0,2,    0.12,2,    9.71,2
318M20091121,        P06,      25,          2,          9,          9,2,20091128,       2206,   -30.0753,   159.4968,          0,      77,  21.3814,  35.4692,2,  35.4668,2,-999.0000,9,  -999.0,9,    0.61,2,    1.19,2,    0.03,2,     0.2,2,   10.47,2
318M20091121,        P06,      25,          2,          8,          8,2,20091128,       2204,   -30.0753,   159.4968,          0,   101.5,  20.9432,  35.5733,2,  35.5727,2,-999.0000,9,  -999.0,9,    0.37,2,    0.14,2,    0.01,2,    0.13,2,    9.40,2
318M20091121,        P06,      25,          2,          7,          7,2,20091128,       2203,   -30.0753,   159.4968,          0,   126.6,  20.5075,  35.5794,2,  35.5789,2,-999.0000,9,  -999.0,9,    0.33,2,    0.21,2,    0.11,2,    0.14,2,   10.40,2
318M20091121,        P06,      25,          2,          6,          6,2,20091128,       2201,   -30.0753,   159.4968,          0,   151.6,  20.1381,  35.5654,2,  35.5651,2,-999.0000,9,  -999.0,9,     0.3,2,    0.78,2,    0.17,2,    0.18,2,    9.58,2
318M20091121,        P06,      25,          2,          5,          5,2,20091128,       2158,   -30.0753,   159.4968,          0,   202.8,  19.5259,  35.5786,2,  35.5785,2,-999.0000,9,  -999.0,9,    0.66,2,    2.28,2,    0.02,2,    0.24,2,    9.79,2
318M20091121,        P06,      25,          2,          4,          4,2,20091128,       2157,   -30.0753,   159.4968,          0,   251.8,  18.8152,  35.6017,2,  35.5953,2,-999.0000,9,  -999.0,9,    1.24,2,    4.74,2,       0,2,    0.41,2,   10.45,2
318M20091121,        P06,      25,          2,          3,          3,2,20091128,       2153,   -30.0753,   159.4968,          0,   403.7,  15.2601,   35.372,2,  35.3618,2,-999.0000,9,  -999.0,9,    2.81,2,    9.43,2,       0,2,    0.72,2,    8.83,2
318M20091121,        P06,      25,          2,          2,          2,2,20091128,       2146,   -30.0753,   159.4968,          0,   705.4,   9.3043,  34.6967,2,  34.6928,2,-999.0000,9,  -999.0,9,    8.45,2,   19.82,2,       0,2,     1.4,2,    6.66,2
318M20091121,        P06,      25,          2,          1,          1,2,20091128,       2139,   -30.0753,   159.4968,          0,  1009.6,   6.0858,  34.4473,2,  34.4483,2,-999.0000,9,  -999.0,9,   26.32,2,   27.52,2,       0,2,    1.93,2,    5.50,2
318M20091121,        P06,      27,          1,         12,         12,2,20091129,       0607,   -30.0511,   160.5115,          0,    21.8,  24.0889,  35.4933,2,  35.4936,2,-999.0000,9,  -999.0,9,    0.02,2,    0.16,2,       0,2, -999.00,5,   11.44,2
318M20091121,        P06,      27,          1,         11,         11,2,20091129,       0606,   -30.0511,   160.5115,          0,    36.5,  23.7912,  35.5112,2,  35.5084,2,-999.0000,9,  -999.0,9,       0,2,     0.2,2,       0,2, -999.00,5,    9.24,2
318M20091121,        P06,      27,          1,         10,         10,2,20091129,       0605,   -30.0511,   160.5115,          0,    59.1,  21.3667,  35.5618,2,  35.5649,2,-999.0000,9,  -999.0,9,       0,2,    0.19,2,       0,2, -999.00,5,    6.21,2
318M20091121,        P06,      27,          1,          9,          9,2,20091129,       0604,   -30.0511,   160.5115,          0,    85.3,  19.1184,  35.5944,2,   35.595,2,-999.0000,9,  -999.0,9,       0,2,    0.12,2,       0,2, -999.00,5,    5.37,2
318M20091121,        P06,      27,          1,          8,          8,2,20091129,       0602,   -30.0511,   160.5115,          0,   117.8,  18.1091,  35.5755,2,  35.5752,2,-999.0000,9,  -999.0,9,    0.18,2,    1.85,2,     0.1,2, -999.00,5,    6.74,2
318M20091121,        P06,      27,          1,          7,          7,2,20091129,       0601,   -30.0511,   160.5115,          0,   136.3,  17.8099,  35.5674,2,  35.5671,2,-999.0000,9,  -999.0,9,    0.38,2,    2.56,2,    0.02,2, -999.00,5,    7.19,2
318M20091121,        P06,      27,          1,          6,          6,2,20091129,       0600,   -30.0511,   160.5115,          0,   165.8,  17.2859,  35.5413,2,  35.5418,2,-999.0000,9,  -999.0,9,    1.06,2,    4.88,2,    0.01,2, -999.00,5,    8.42,2
318M20091121,        P06,      27,          1,          5,          5,2,20091129,       0556,   -30.0511,   160.5115,          0,   215.9,  16.6122,  35.5106,2,  35.5115,2,-999.0000,9,  -999.0,9,    1.28,2,    5.92,2,    0.01,2, -999.00,5,    9.12,2
318M20091121,        P06,      27,          1,          4,          4,2,20091129,       0553,   -30.0511,   160.5115,          0,   267.1,   15.713,  35.4203,2,  35.4059,2,-999.0000,9,  -999.0,9,    2.19,2,    8.73,2,    0.01,2, -999.00,5,    9.79,2
318M20091121,        P06,      27,          1,          3,          3,2,20091129,       0548,   -30.0511,   160.5115,          0,   407.6,  12.8679,  35.1696,2,   35.172,2,-999.0000,9,  -999.0,9,    3.81,2,    12.3,2,       0,2, -999.00,5,    8.18,2
318M20091121,        P06,      27,          1,          2,          2,2,20091129,       0540,   -30.0511,   160.5115,          0,   638.4,   8.6971,  34.6393,2,  34.6397,2,-999.0000,9,  -999.0,9,   10.13,2,   21.29,2,       0,2, -999.00,5,    6.17,2
318M20091121,        P06,      27,          1,          1,          1,2,20091129,       0533,   -30.0511,   160.5115,          0,   931.9,   5.9516,  34.4526,2,  34.4531,2,-999.0000,9,  -999.0,9,   28.24,2,   27.98,2,       0,2, -999.00,5,    5.62,2
318M20091121,        P06,      29,          2,         12,         12,2,20091129,       1853,   -30.0896,   161.4965,          0,    25.9,  22.9821,  35.4811,2,  35.4788,2,-999.0000,9,  -999.0,9,    0.26,2,     0.8,2,       0,2,    0.12,2,    8.96,2
318M20091121,        P06,      29,          2,         11,         11,2,20091129,       1852,   -30.0896,   161.4965,          0,    40.7,  21.6341,  35.5194,2,  35.5163,2,-999.0000,9,  -999.0,9,    0.23,2,    0.75,2,       0,2,    0.12,2,    9.07,2
318M20091121,        P06,      29,          2,         10,         10,2,20091129,       1851,   -30.0896,   161.4965,          0,    56.8,  20.7497,  35.5486,2,  35.5428,2,-999.0000,9,  -999.0,9,    0.44,2,    0.75,2,       0,2,    0.12,2,    8.26,2
318M20091121,        P06,      29,          2,          9,          9,2,20091129,       1850,   -30.0896,   161.4965,          0,    75.3,    19.93,  35.5606,2,   35.559,2,-999.0000,9,  -999.0,9,    0.41,2,     0.8,2,       0,2,    0.14,2,    7.43,2
318M20091121,        P06,      29,          2,          8,          8,2,20091129,       1849,   -30.0896,   161.4965,          0,   100.3,  19.1638,  35.5792,2,  35.5766,2,-999.0000,9,  -999.0,9,    0.37,2,    1.67,2,     0.2,2,    0.22,2,    7.50,2
318M20091121,        P06,      29,          2,          7,          7,2,20091129,       1848,   -30.0896,   161.4965,          0,   124.4,  18.4636,  35.5894,2,  35.5762,2,-999.0000,9,  -999.0,9,    0.58,2,    2.36,2,    0.05,2,    0.24,2,    6.92,2
318M20091121,        P06,      29,          2,          6,          6,2,20091129,       1847,   -30.0896,   161.4965,          0,     150,   17.793,  35.5616,2,   35.557,2,-999.0000,9,  -999.0,9,    1.02,2,    4.32,2,    0.01,2,    0.35,2,    8.68,2
318M20091121,        P06,      29,          2,          5,          5,2,20091129,       1846,   -30.0896,   161.4965,          0,   201.9,  16.8144,  35.5204,2,  35.5139,2,-999.0000,9,  -999.0,9,    1.68,2,    6.43,2,    0.01,2,    0.49,2,    8.76,2
318M20091121,        P06,      29,          2,          4,          4,2,20091129,       1844,   -30.0896,   161.4965,          0,   250.3,  15.7218,  35.4233,2,  35.3748,2,-999.0000,9,  -999.0,9,    2.58,2,    9.85,2,       0,2,    0.71,2,    9.33,2
318M20091121,        P06,      29,          2,          3,          3,2,20091129,       1841,   -30.0896,   161.4965,          0,   402.5,  12.3088,  35.0903,2,  35.0799,2,-999.0000,9,  -999.0,9,    4.65,2,   14.43,2,       0,2,    1.01,2,    7.65,2
318M20091121,        P06,      29,          2,          2,          2,2,20091129,       1834,   -30.0896,   161.4965,          0,   706.9,   7.6668,  34.5381,2,  34.5319,2,-999.0000,9,  -999.0,9,   14.46,2,   24.57,2,       0,2,    1.64,2,    6.05,2
318M20091121,        P06,      29,          2,          1,          1,2,20091129,       1827,   -30.0896,   161.4965,          0,  1007.8,   5.1997,  34.4537,2,   34.456,2,-999.0000,9,  -999.0,9,   39.39,2,   30.61,2,       0,2,    2.06,2,    5.89,2
318M20091121,        P06,      31,          3,         12,         12,2,20091130,       0515,   -30.0748,   162.4951,          0,    19.9,    22.04,  35.5423,2,  35.5378,2,-999.0000,9,  -999.0,9,     0.1,2,       0,2,       0,2,    0.12,2,    8.82,2
318M20091121,        P06,      31,          3,         11,         11,2,20091130,       0514,   -30.0748,   162.4951,          0,    40.8,  20.8907,  35.5526,2,   35.552,2,-999.0000,9,  -999.0,9,   -0.05,2,       0,2,       0,2,    0.11,2,    6.94,2
318M20091121,        P06,      31,          3,         10,         10,2,20091130,       0513,   -30.0748,   162.4951,          0,      64,  19.1097,  35.5821,2,  35.5808,2,-999.0000,9,  -999.0,9,    0.22,2,    1.47,2,    0.13,2,    0.22,2,    8.65,2
318M20091121,        P06,      31,          3,          9,          9,2,20091130,       0512,   -30.0748,   162.4951,          0,    92.2,  18.4371,  35.5798,2,  35.5795,2,-999.0000,9,  -999.0,9,    0.27,2,    2.74,2,     0.1,2,     0.3,2,    7.76,2
318M20091121,        P06,      31,          3,          8,          8,2,20091130,       0511,   -30.0748,   162.4951,          0,     111,  17.9876,   35.579,2,  35.5783,2,-999.0000,9,  -999.0,9,    0.54,2,    3.96,2,    0.03,2,    0.38,2,    8.20,2
318M20091121,        P06,      31,          3,          7,          7,2,20091130,       0510,   -30.0748,   162.4951,          0,   135.4,  17.6344,  35.5636,2,  35.5612,2,-999.0000,9,  -999.0,9,     0.6,2,    3.87,2,    0.02,2,    0.36,2,    8.75,2
318M20091121,        P06,      31,          3,          6,          6,2,20091130,       0508,   -30.0748,   162.4951,          0,   187.3,  16.6309,  35.5071,2,  35.5039,2,-999.0000,9,  -999.0,9,    1.27,2,    5.81,2,    0.02,2,    0.51,2,    8.57,2
318M20091121,        P06,      31,          3,          5,          5,2,20091130,       0507,   -30.0748,   162.4951,          0,   237.2,  15.4567,  35.4171,2,  35.4162,2,-999.0000,9,  -999.0,9,    1.94,2,    8.03,2,    0.01,2,    0.63,2,    8.90,2
318M20091121,        P06,      31,          3,          4,          4,2,20091130,       0505,   -30.0748,   162.4951,          0,   288.2,  14.6435,  35.3413,2,  35.2563,2,-999.0000,9,  -999.0,9,    3.22,2,   11.18,2,    0.01,2,    0.82,2,    8.36,2
318M20091121,        P06,      31,          3,          3,          3,2,20091130,       0502,   -30.0748,   162.4951,          0,   422.8,  11.4911,  34.9818,2,  34.9747,2,-999.0000,9,  -999.0,9,     5.1,2,   15.48,2,    0.01,2,     1.1,2,    7.71,2
318M20091121,        P06,      31,          3,          2,          2,2,20091130,       0456,   -30.0748,   162.4951,          0,   670.9,   7.5192,  34.5315,2,   34.531,2,-999.0000,9,  -999.0,9,   14.94,2,   24.07,2,       0,2,    1.67,2,    6.31,2
318M20091121,        P06,      31,          3,          1,          1,2,20091130,       0448,   -30.0748,   162.4951,          0,   972.4,   5.2415,  34.4594,2,   34.459,2,-999.0000,9,  -999.0,9,   38.65,2,   29.66,2,       0,2,    2.06,2,    5.55,2
318M20091121,        P06,      33,          1,         12,         12,2,20091130,       1244,   -30.0791,    163.501,          0,    21.3,  22.2149,  35.6572,2,  35.6547,2,-999.0000,9,  -999.0,9,    0.15,2,       0,2,       0,2,     0.1,2,    5.25,2
318M20091121,        P06,      33,          1,         11,         11,2,20091130,       1243,   -30.0791,    163.501,          0,    36.2,  20.6793,  35.6876,2,  35.6807,2,-999.0000,9,  -999.0,9,       0,2,       0,2,       0,2,    0.07,2,    8.35,4
318M20091121,        P06,      33,          1,         10,         10,2,20091130,       1242,   -30.0791,    163.501,          0,    61.6,  19.4054,  35.6194,2,  35.6096,2,-999.0000,9,  -999.0,9,   -0.05,2,       0,2,       0,2,     0.1,2,    6.09,2
318M20091121,        P06,      33,          1,          9,          9,2,20091130,       1241,   -30.0791,    163.501,          0,    85.8,  18.6822,  35.5848,2,  35.5795,2,-999.0000,9,  -999.0,9,    0.05,2,    0.26,2,    0.19,2,    0.18,2,    6.62,2
318M20091121,        P06,      33,          1,          8,          8,2,20091130,       1240,   -30.0791,    163.501,          0,   117.7,  18.0221,  35.5681,2,  35.5642,2,-999.0000,9,  -999.0,9,    0.35,2,    2.75,2,    0.03,2,     0.3,2,    8.00,2
318M20091121,        P06,      33,          1,          7,          7,2,20091130,       1238,   -30.0791,    163.501,          0,   136.1,  17.6255,  35.5558,2,  35.5524,2,-999.0000,9,  -999.0,9,    0.65,2,    3.68,2,    0.02,2,    0.35,2,    8.54,2
318M20091121,        P06,      33,          1,          6,          6,2,20091130,       1237,   -30.0791,    163.501,          0,   166.1,  17.1773,  35.5403,2,  35.5343,2,-999.0000,9,  -999.0,9,    0.95,2,    4.56,2,    0.01,2,    0.41,2,    8.43,2
318M20091121,        P06,      33,          1,          5,          5,2,20091130,       1236,   -30.0791,    163.501,          0,   216.3,  15.9717,  35.4606,2,  35.4423,2,-999.0000,9,  -999.0,9,    1.85,2,    7.48,2,    0.01,2,     0.6,2,    8.66,2
318M20091121,        P06,      33,          1,          4,          4,2,20091130,       1234,   -30.0791,    163.501,          0,     263,  14.5806,  35.3268,2,  35.2728,2,-999.0000,9,  -999.0,9,    2.75,2,   10.62,2,    0.01,2,    0.79,2,    8.13,2
318M20091121,        P06,      33,          1,          3,          3,2,20091130,       1231,   -30.0791,    163.501,          0,   408.3,  11.7593,  35.0138,2,  35.0102,2,-999.0000,9,  -999.0,9,    5.04,2,   14.56,2,       0,2,    1.05,2,    7.18,2
318M20091121,        P06,      33,          1,          2,          2,2,20091130,       1225,   -30.0791,    163.501,          0,   639.2,   8.3596,  34.6146,2,  34.6108,2,-999.0000,9,  -999.0,9,   11.96,2,   21.91,2,       0,2,    1.53,2,    6.27,2
318M20091121,        P06,      33,          1,          1,          1,2,20091130,       1218,   -30.0791,    163.501,          0,   944.6,   5.7835,  34.4493,2,  34.4498,2,-999.0000,9,  -999.0,9,   29.59,2,      28,2,       0,2,    1.95,2,    5.10,2