BOTTLE,20230315SIOCCHCBG
EXPOCODE,SECT_ID,STNNBR,CASTNO,SAMPNO,BTLNBR,BTLNBR_FLAG_W,DATE,BTL_TIME,LATITUDE,LONGITUDE,DEPTH,CTDPRS,CTDTMP,CTDSAL,CTDSAL_FLAG_W,SALNTY,SALNTY_FLAG_W,CTDOXY,CTDOXY_FLAG_W,OXYGEN,OXYGEN_FLAG_W,SILCAT,SILCAT_FLAG_W,NITRAT,NITRAT_FLAG_W,NITRIT,NITRIT_FLAG_W,PHSPHT,PHSPHT_FLAG_W,ALUMIN,ALUMIN_FLAG_W
,,,,,,,,,,,METERS,DBAR,ITS-90,PSS-78,,PSS-78,,UMOL/KG,,UMOL/KG,,UMOL/KG,,UMOL/KG,,UMOL/KG,,UMOL/KG,,NMOL/L,
318M20091121,        P06,      11,          1,         12,         12,2,20091125,       0158,     -30.08,        155,          0,    20.6,  24.4369,  35.4301,2,  35.4281,2,-999.0000,9,  -999.0,9, -999.00,1, -999.00,1, -999.00,1, -999.00,1,   16.65,2
318M20091121,        P06,      11,          1,         11,         11,2,20091125,       0157,     -30.08,        155,          0,    41.2,    23.14,  35.5286,2,   35.531,2,-999.0000,9,  -999.0,9, -999.00,1, -999.00,1, -999.00,1, -999.00,1,   11.06,2
318M20091121,        P06,      11,          1,         10,         10,2,20091125,       0156,     -30.08,        155,          0,    56.4,  22.2176,  35.5367,2,  35.5215,2,-999.0000,9,  -999.0,9, -999.00,1, -999.00,1, -999.00,1, -999.00,1,   11.02,2
318M20091121,        P06,      11,          1,          9,          9,2,20091125,       0155,     -30.08,        155,          0,    76.6,  21.3501,  35.4943,2,  35.4945,2,-999.0000,9,  -999.0,9, -999.00,1, -999.00,1, -999.00,1, -999.00,1,   10.50,2
318M20091121,        P06,      11,          1,          8,          8,2,20091125,       0153,     -30.08,        155,          0,   102.1,  20.5605,  35.5433,2,  35.5407,2,-999.0000,9,  -999.0,9, -999.00,1, -999.00,1, -999.00,1, -999.00,1,   10.56,2
318M20091121,        P06,      11,          1,          7,          7,2,20091125,       0152,     -30.08,        155,          0,   125.8,  20.1589,  35.5641,2,  35.5707,2,-999.0000,9,  -999.0,9, -999.00,1, -999.00,1, -999.00,1, -999.00,1,   10.29,2
318M20091121,        P06,      11,          1,          6,          6,2,20091125,       0151,     -30.08,        155,          0,     152,  19.7479,  35.5957,2,  35.5956,2,-999.0000,9,  -999.0,9, -999.00,1, -999.00,1, -999.00,1, -999.00,1,   11.08,2
318M20091121,        P06,      11,          1,          5,          5,2,20091125,       0149,     -30.08,        155,          0,   201.2,  18.9155,  35.6173,2,  35.6158,2,-999.0000,9,  -999.0,9, -999.00,1, -999.00,1, -999.00,1, -999.00,1,   11.06,2
318M20091121,        P06,      11,          1,          4,          4,2,20091125,       0147,     -30.08,        155,          0,     253,  17.9161,  35.5825,2,  35.5824,2,-999.0000,9,  -999.0,9, -999.00,1, -999.00,1, -999.00,1, -999.00,1,    9.87,2
318M20091121,        P06,      11,          1,          3,          3,2,20091125,       0143,     -30.08,        155,          0,   404.3,  14.1384,  35.2748,2,  35.2727,2,-999.0000,9,  -999.0,9, -999.00,1, -999.00,1, -999.00,1, -999.00,1,    8.77,2
318M20091121,        P06,      11,          1,          2,          2,2,20091125,       0136,     -30.08,        155,          0,   706.8,   8.4509,  34.6079,2,   34.607,2,-999.0000,9,  -999.0,9, -999.00,1, -999.00,1, -999.00,1, -999.00,1,    6.40,2
318M20091121,        P06,      11,          1,          1,          1,2,20091125,       0129,     -30.08,        155,          0,  1008.3,   5.6832,   34.446,2,  34.4485,2,-999.0000,9,  -999.0,9, -999.00,1, -999.00,1, -999.00,1, -999.00,1,    5.24,2
318M20091121,        P06,      13,          2,         12,         12,2,20091125,       2206,     -30.07,     155.99,          0,    21.8,  24.4269,  35.4449,2,  35.4439,2,-999.0000,9,  -999.0,9,    0.22,2,       0,2,       0,2,    0.11,2,   13.61,2
318M20091121,        P06,      13,          2,         11,         11,2,20091125,       2205,     -30.07,     155.99,          0,    41.3,  23.4294,  35.4077,2,  35.4077,2,-999.0000,9,  -999.0,9,   -0.01,2,       0,2,       0,2,    0.11,2,   14.08,2
318M20091121,        P06,      13,          2,         10,         10,2,20091125,       2203,     -30.07,     155.99,          0,    65.6,  21.9819,   35.457,2,  35.4593,2,-999.0000,9,  -999.0,9,       1,2,    3.33,2,    0.08,2,    0.35,2,   19.00,2
318M20091121,        P06,      13,          2,          9,          9,2,20091125,       2202,     -30.07,     155.99,          0,    91.2,   21.057,  35.5566,2,  35.5493,2,-999.0000,9,  -999.0,9,    0.57,2,    1.86,2,    0.11,2,    0.26,2,   10.27,2
318M20091121,        P06,      13,          2,          8,          8,2,20091125,       2200,     -30.07,     155.99,          0,   111.1,  20.5869,  35.5247,2,  35.5241,2,-999.0000,9,  -999.0,9,    0.55,2,    1.37,2,    0.21,2,    0.22,2,    9.56,2
318M20091121,        P06,      13,          2,          7,          7,2,20091125,       2159,     -30.07,     155.99,          0,   136.8,  20.2473,  35.5739,2,  35.5715,2,-999.0000,9,  -999.0,9,    0.53,2,    2.19,2,    0.15,2,    0.28,2,    8.76,2
318M20091121,        P06,      13,          2,          6,          6,2,20091125,       2156,     -30.07,     155.99,          0,     187,  19.2176,  35.5823,2,  35.5821,2,-999.0000,9,  -999.0,9,    0.92,2,    3.34,2,    0.01,2,    0.35,2,    9.76,2
318M20091121,        P06,      13,          2,          5,          5,2,20091125,       2154,     -30.07,     155.99,          0,   229.4,  18.5723,  35.6121,2,  35.6112,2,-999.0000,9,  -999.0,9,     1.1,2,    4.69,2,       0,2,    0.41,2,    9.04,2
318M20091121,        P06,      13,          2,          4,          4,2,20091125,       2153,     -30.07,     155.99,          0,   287.4,  17.4276,  35.5534,2,  35.5525,2,-999.0000,9,  -999.0,9,    1.29,2,    5.12,2,       0,2,    0.46,2,    8.42,2
318M20091121,        P06,      13,          2,          3,          3,2,20091125,       2149,     -30.07,     155.99,          0,   423.4,  14.1414,    35.26,2,  35.2529,2,-999.0000,9,  -999.0,9,    3.54,2,   11.15,2,       0,2,    0.84,2,    8.33,2
318M20091121,        P06,      13,          2,          2,          2,2,20091125,       2143,     -30.07,     155.99,          0,   671.5,   9.2686,  34.7004,2,  34.7022,2,-999.0000,9,  -999.0,9,    8.27,2,   19.77,2,       0,2,     1.4,2,    7.19,2
318M20091121,        P06,      13,          2,          1,          1,2,20091125,       2134,     -30.07,     155.99,          0,   972.8,   6.0321,  34.4539,2,  34.4535,2,-999.0000,9,  -999.0,9,   27.59,2,    27.8,2,       0,2,    1.95,2,    5.73,2
318M20091121,        P06,      15,          1,         12,         12,2,20091126,       0637,   -30.0791,   156.4704,          0,    20.9,   24.326,  35.4383,2,   35.436,2,-999.0000,9,  -999.0,9,       0,2,       0,2,       0,2,    0.11,2,   13.01,2
318M20091121,        P06,      15,          1,         11,         11,2,20091126,       0636,   -30.0791,   156.4704,          0,      35,  23.5127,  35.4323,2,  35.4251,2,-999.0000,9,  -999.0,9,    0.02,2,       0,2,       0,2,    0.12,2,   16.97,2
318M20091121,        P06,      15,          1,         10,         10,2,20091126,       0635,   -30.0791,   156.4704,          0,    61.5,  21.8732,   35.537,2,  35.5373,2,-999.0000,9,  -999.0,9,     0.9,2,    4.94,2,    0.08,2,    0.46,2,   15.44,2
318M20091121,        P06,      15,          1,          9,          9,2,20091126,       0634,   -30.0791,   156.4704,          0,    86.5,  20.7154,  35.5228,2,  35.5302,2,-999.0000,9,  -999.0,9,       0,2,       1,2,    0.21,2,    0.21,2,    9.55,2
318M20091121,        P06,      15,          1,          8,          8,2,20091126,       0632,   -30.0791,   156.4704,          0,   116.4,  19.9586,  35.5694,2,   35.568,2,-999.0000,9,  -999.0,9,    0.17,2,    2.61,2,    0.03,2,    0.28,2,   10.51,2
318M20091121,        P06,      15,          1,          7,          7,2,20091126,       0631,   -30.0791,   156.4704,          0,   135.9,  19.6775,  35.5778,2,  35.5761,2,-999.0000,9,  -999.0,9,    0.21,2,    2.29,2,    0.01,2,    0.25,2,    9.80,2
318M20091121,        P06,      15,          1,          6,          6,2,20091126,       0629,   -30.0791,   156.4704,          0,   167.1,  19.3819,  35.6063,2,  35.6047,2,-999.0000,9,  -999.0,9,    0.26,2,    3.39,2,    0.01,2,    0.31,2,    9.47,2
318M20091121,        P06,      15,          1,          5,          5,2,20091126,       0627,   -30.0791,   156.4704,          0,   216.2,  18.2958,  35.5913,2,  35.5887,2,-999.0000,9,  -999.0,9,    0.73,2,    4.73,2,       0,2,    0.42,2,    9.66,2
318M20091121,        P06,      15,          1,          4,          4,2,20091126,       0625,   -30.0791,   156.4704,          0,   267.4,  17.1951,   35.536,2,  35.5164,2,-999.0000,9,  -999.0,9,    1.41,2,    6.65,2,       0,2,    0.55,2,    8.71,2
318M20091121,        P06,      15,          1,          3,          3,2,20091126,       0621,   -30.0791,   156.4704,          0,   407.9,  13.6131,  35.2135,2,  35.2039,2,-999.0000,9,  -999.0,9,    3.74,2,    11.9,2,       0,2,    0.89,2,    8.35,2
318M20091121,        P06,      15,          1,          2,          2,2,20091126,       0616,   -30.0791,   156.4704,          0,   640.1,   9.1341,  34.6854,2,  34.6818,2,-999.0000,9,  -999.0,9,    8.16,2,   20.07,2,       0,2,    1.42,2,    6.91,2
318M20091121,        P06,      15,          1,          1,          1,2,20091126,       0609,   -30.0791,   156.4704,          0,   943.3,   6.0146,  34.4481,2,  34.4491,2,-999.0000,9,  -999.0,9,   27.26,2,   27.79,2,       0,2,    1.95,2,    5.18,2
318M20091121,        P06,      17,          2,         12,         12,2,20091127,       0123,   -30.0839,   156.9224,          0,    17.8,  23.9991,  35.4848,2,  35.4828,2,-999.0000,9,  -999.0,9,    0.33,2,    0.03,2,       0,2,    0.12,2,   12.46,2
318M20091121,        P06,      17,          2,         11,         11,2,20091127,       0121,   -30.0839,   156.9224,          0,    39.9,  22.6653,  35.5286,2,  35.5251,2,-999.0000,9,  -999.0,9,    0.32,2,       0,2,       0,2,     0.1,2,   10.21,2
318M20091121,        P06,      17,          2,         10,         10,2,20091127,       0121,   -30.0839,   156.9224,          0,    55.5,  21.7636,   35.527,2,  35.5229,2,-999.0000,9,  -999.0,9,    0.32,2,       0,2,       0,2,    0.14,2,    7.53,2
318M20091121,        P06,      17,          2,          9,          9,2,20091127,       0120,   -30.0839,   156.9224,          0,    74.7,  20.8506,  35.5773,2,  35.5741,2,-999.0000,9,  -999.0,9,    0.93,2,    4.05,2,    0.04,2,    0.38,2,   10.35,2
318M20091121,        P06,      17,          2,          8,          8,2,20091127,       0118,   -30.0839,   156.9224,          0,   101.1,  20.1948,  35.5618,2,  35.5555,2,-999.0000,9,  -999.0,9,    0.71,2,    2.61,2,    0.02,2,    0.28,2,   10.09,2
318M20091121,        P06,      17,          2,          7,          7,2,20091127,       0116,   -30.0839,   156.9224,          0,   126.1,  19.6264,  35.5736,2,  35.5712,2,-999.0000,9,  -999.0,9,     0.7,2,    3.15,2,    0.02,2,    0.31,2,   10.13,2
318M20091121,        P06,      17,          2,          6,          6,2,20091127,       0116,   -30.0839,   156.9224,          0,   142.7,  19.3371,  35.6125,2,  35.6097,2,-999.0000,9,  -999.0,9,    0.91,2,    4.65,2,    0.01,2,    0.41,2,    9.78,2
318M20091121,        P06,      17,          2,          5,          5,2,20091127,       0113,   -30.0839,   156.9224,          0,   202.3,  18.0016,  35.5802,2,  35.5775,2,-999.0000,9,  -999.0,9,     0.9,2,    4.22,2,       0,2,    0.39,2,    8.47,2
318M20091121,        P06,      17,          2,          4,          4,2,20091127,       0110,   -30.0839,   156.9224,          0,   252.1,  17.1916,  35.5357,2,  35.5317,2,-999.0000,9,  -999.0,9,    1.71,2,    6.83,2,       0,2,    0.55,2,    9.38,2
318M20091121,        P06,      17,          2,          3,          3,2,20091127,       0105,   -30.0839,   156.9224,          0,   402.2,  13.1366,  35.2224,2,  35.2186,2,-999.0000,9,  -999.0,9,    3.55,2,   11.52,2,       0,2,    0.85,2,    7.69,2
318M20091121,        P06,      17,          2,          2,          2,2,20091127,       0101,   -30.0839,   156.9224,          0,   704.1,   8.0564,   34.573,2,  34.5703,2,-999.0000,9,  -999.0,9,   11.95,2,   22.78,2,       0,2,    1.57,2,    5.79,2
318M20091121,        P06,      17,          2,          1,          1,2,20091127,       0054,   -30.0839,   156.9224,          0,  1007.4,    5.373,  34.4515,2,  34.4504,2,-999.0000,9,  -999.0,9,   36.31,2,   29.51,2,       0,2,    2.03,2,    5.17,2
318M20091121,        P06,      19,          1,         12,         12,2,20091127,       0912,   -30.0914,   157.4046,          0,    20.3,  24.3818,    35.46,2,  35.4591,2,-999.0000,9,  -999.0,9,    0.64,2,       0,2,       0,2,    0.11,2,   15.53,2
318M20091121,        P06,      19,          1,         11,         11,2,20091127,       0911,   -30.0914,   157.4046,          0,    39.8,  23.3155,  35.4735,2,  35.4988,2,-999.0000,9,  -999.0,9,    0.21,2,    0.04,2,       0,2,    0.14,2,   12.83,2
318M20091121,        P06,      19,          1,         10,         10,2,20091127,       0910,   -30.0914,   157.4046,          0,    65.6,  21.3123,  35.5152,2,  35.5176,2,-999.0000,9,  -999.0,9,     0.6,2,   -0.01,2,       0,2,    0.14,2,   12.00,2
318M20091121,        P06,      19,          1,          9,          9,2,20091127,       0909,   -30.0914,   157.4046,          0,    90.8,  20.4264,  35.5447,2,  35.5427,2,-999.0000,9,  -999.0,9,    0.57,2,     1.5,2,    0.06,2,    0.21,2,   12.77,2
318M20091121,        P06,      19,          1,          8,          8,2,20091127,       0908,   -30.0914,   157.4046,          0,   111.5,  19.9702,  35.5663,2,  35.5666,2,-999.0000,9,  -999.0,9,    0.75,2,    2.17,2,    0.03,2,    0.25,2,   12.70,2
318M20091121,        P06,      19,          1,          7,          7,2,20091127,       0908,   -30.0914,   157.4046,          0,   136.6,  19.5586,  35.5708,2,  35.5703,2,-999.0000,9,  -999.0,9,    0.53,2,    1.77,2,    0.09,2,    0.23,2,   12.69,2
318M20091121,        P06,      19,          1,          6,          6,2,20091127,       0906,   -30.0914,   157.4046,          0,   187.7,  18.5669,  35.6001,2,  35.5988,2,-999.0000,9,  -999.0,9,    1.33,2,    5.03,2,       0,2,    0.43,2,   14.15,2
318M20091121,        P06,      19,          1,          5,          5,2,20091127,       0904,   -30.0914,   157.4046,          0,   237.8,  17.4978,  35.5563,2,  35.5551,2,-999.0000,9,  -999.0,9,    1.51,2,    6.06,2,       0,2,    0.51,2,   12.78,2
318M20091121,        P06,      19,          1,          4,          4,2,20091127,       0901,   -30.0914,   157.4046,          0,   287.9,   16.147,  35.4699,2,  35.4607,2,-999.0000,9,  -999.0,9,    2.11,2,    7.42,2,    0.01,2,     0.6,2,   13.19,2
318M20091121,        P06,      19,          1,          3,          3,2,20091127,       0855,   -30.0914,   157.4046,          0,   423.7,   12.905,   35.191,2,  35.1893,2,-999.0000,9,  -999.0,9,    3.95,2,   11.96,2,       0,2,    0.89,2,   11.93,2
318M20091121,        P06,      19,          1,          2,          2,2,20091127,       0848,   -30.0914,   157.4046,          0,   670.7,   8.4197,  34.6037,2,  34.6019,2,-999.0000,9,  -999.0,9,   10.95,2,   22.08,2,       0,2,    1.54,2,    9.74,2
318M20091121,        P06,      19,          1,          1,          1,2,20091127,       0842,   -30.0914,   157.4046,          0,   965.7,   5.7459,  34.4438,2,  34.4432,2,-999.0000,9,  -999.0,9,   30.44,2,   28.65,2,       0,2,    1.99,2,    8.26,2
318M20091121,        P06,      21,          2,         12,         12,2,20091127,       2234,   -30.0934,   158.0103,          0,    20.4,  23.5531,  35.4989,2,  35.4978,2,-999.0000,9,  -999.0,9,     0.4,2,    0.01,2,       0,2,    0.11,2,   12.66,2
318M20091121,        P06,      21,          2,         11,         11,2,20091127,       2234,   -30.0934,   158.0103,          0,    35.7,  23.5328,  35.5024,2,  35.5074,2,-999.0000,9,  -999.0,9,    0.18,2,       0,2,       0,2,     0.1,2,   17.24,4
318M20091121,        P06,      21,          2,         10,         10,2,20091127,       2233,   -30.0934,   158.0103,          0,    62.3,  21.5361,  35.5256,2,  35.5249,2,-999.0000,9,  -999.0,9,    0.35,2,       0,2,       0,2,     0.1,2,   11.57,4
318M20091121,        P06,      21,          2,          9,          9,2,20091127,       2232,   -30.0934,   158.0103,          0,    85.5,    20.82,  35.5466,2,  35.5401,2,-999.0000,9,  -999.0,9,    0.33,2,       0,2,       0,2,    0.12,2,   10.74,2
318M20091121,        P06,      21,          2,          8,          8,2,20091127,       2231,   -30.0934,   158.0103,          0,   114.3,  20.0402,  35.5463,2,  35.5489,2,-999.0000,9,  -999.0,9,    0.52,2,    2.37,2,    0.04,2,    0.26,2,   12.13,2
318M20091121,        P06,      21,          2,          7,          7,2,20091127,       2230,   -30.0934,   158.0103,          0,   136.4,  19.7254,  35.5781,2,  35.5754,2,-999.0000,9,  -999.0,9,     0.7,2,    3.21,2,    0.02,2,    0.32,2,   11.97,2
318M20091121,        P06,      21,          2,          6,          6,2,20091127,       2229,   -30.0934,   158.0103,          0,   164.7,  19.3492,  35.5711,2,  35.5672,2,-999.0000,9,  -999.0,9,    0.68,2,    2.82,2,    0.01,2,    0.29,2,   12.47,2
318M20091121,        P06,      21,          2,          5,          5,2,20091127,       2227,   -30.0934,   158.0103,          0,     215,  18.7385,  35.6181,2,  35.6142,2,-999.0000,9,  -999.0,9,    0.87,2,    4.62,2,    0.01,2,    0.41,2,   11.84,2
318M20091121,        P06,      21,          2,          4,          4,2,20091127,       2225,   -30.0934,   158.0103,          0,   265.2,  17.6646,  35.5637,2,  35.5484,2,-999.0000,9,  -999.0,9,    1.05,2,    4.62,2,       0,2,    0.43,2,   10.10,2
318M20091121,        P06,      21,          2,          3,          3,2,20091127,       2221,   -30.0934,   158.0103,          0,   407.8,  14.4473,  35.3042,2,  35.2997,2,-999.0000,9,  -999.0,9,    3.08,2,   10.42,2,       0,2,     0.8,2,   10.20,2
318M20091121,        P06,      21,          2,          2,          2,2,20091127,       2213,   -30.0934,   158.0103,          0,     641,  10.1398,   34.816,2,  34.8153,2,-999.0000,9,  -999.0,9,    6.55,2,    17.6,2,       0,2,    1.26,2,    9.44,2
318M20091121,        P06,      21,          2,          1,          1,2,20091127,       2204,   -30.0934,   158.0103,          0,   942.1,   6.1825,  34.4539,2,   34.453,2,-999.0000,9,  -999.0,9,   25.33,2,   27.46,2,       0,2,    1.92,2,    7.18,2