BOTTLE,20230315SIOCCHCBG
EXPOCODE,SECT_ID,STNNBR,CASTNO,SAMPNO,BTLNBR,BTLNBR_FLAG_W,DATE,BTL_TIME,LATITUDE,LONGITUDE,DEPTH,CTDPRS,CTDTMP,CTDSAL,CTDSAL_FLAG_W,SALNTY,SALNTY_FLAG_W,CTDOXY,CTDOXY_FLAG_W,OXYGEN,OXYGEN_FLAG_W,SILCAT,SILCAT_FLAG_W,NITRAT,NITRAT_FLAG_W,NITRIT,NITRIT_FLAG_W,PHSPHT,PHSPHT_FLAG_W,ALUMIN,ALUMIN_FLAG_W
,,,,,,,,,,,METERS,DBAR,ITS-90,PSS-78,,PSS-78,,UMOL/KG,,UMOL/KG,,UMOL/KG,,UMOL/KG,,UMOL/KG,,UMOL/KG,,NMOL/L,
318M20091121,        P06,      35,          2,         12,         12,2,20091201,       0203,   -30.0783,   164.3337,          0,    14.4,  21.6698,  35.7394,2,  35.7231,2,-999.0000,9,  -999.0,9,    0.37,2,   -0.01,2,       0,2,    0.08,2,    8.47,2
318M20091121,        P06,      35,          2,         11,         11,2,20091201,       0201,   -30.0783,   164.3337,          0,    40.9,   18.981,  35.6178,2,  35.6108,2,-999.0000,9,  -999.0,9,    0.35,2,   -0.01,2,       0,2,     0.1,2,    6.50,2
318M20091121,        P06,      35,          2,         10,         10,2,20091201,       0200,   -30.0783,   164.3337,          0,    54.2,  18.6474,  35.6087,2,  35.6087,2,-999.0000,9,  -999.0,9,    0.33,2,   -0.01,2,       0,2,    0.11,2,    6.82,2
318M20091121,        P06,      35,          2,          9,          9,2,20091201,       0159,   -30.0783,   164.3337,          0,    75.2,  18.0018,  35.5843,2,  35.5834,2,-999.0000,9,  -999.0,9,    0.71,2,    1.11,2,    0.13,2,    0.23,2,    8.82,2
318M20091121,        P06,      35,          2,          8,          8,2,20091201,       0157,   -30.0783,   164.3337,          0,   100.7,  17.6658,  35.5722,2,  35.5696,2,-999.0000,9,  -999.0,9,     1.1,2,    3.45,2,    0.04,2,    0.36,2,   10.86,2
318M20091121,        P06,      35,          2,          7,          7,2,20091201,       0156,   -30.0783,   164.3337,          0,   126.5,  17.1633,  35.5449,2,  35.5433,2,-999.0000,9,  -999.0,9,    1.29,2,    4.31,2,    0.03,2,    0.41,2,   10.41,2
318M20091121,        P06,      35,          2,          6,          6,2,20091201,       0155,   -30.0783,   164.3337,          0,   151.9,  16.6978,  35.5206,2,  35.5196,2,-999.0000,9,  -999.0,9,    1.47,2,    4.09,2,    0.02,2,     0.4,2,   10.60,2
318M20091121,        P06,      35,          2,          5,          5,2,20091201,       0153,   -30.0783,   164.3337,          0,   202.4,  15.7967,  35.4636,2,  35.4635,2,-999.0000,9,  -999.0,9,    2.06,2,    6.13,2,    0.02,2,    0.54,2,   10.23,2
318M20091121,        P06,      35,          2,          4,          4,2,20091201,       0151,   -30.0783,   164.3337,          0,   253.5,   14.587,  35.3347,2,  35.3018,2,-999.0000,9,  -999.0,9,    3.07,2,    9.74,2,    0.01,2,    0.76,2,   10.05,2
318M20091121,        P06,      35,          2,          3,          3,2,20091201,       0147,   -30.0783,   164.3337,          0,   400.9,  11.7644,  35.0228,2,  35.0224,2,-999.0000,9,  -999.0,9,    5.72,2,   14.57,2,    0.01,2,    1.07,2,   10.82,2
318M20091121,        P06,      35,          2,          2,          2,2,20091201,       0140,   -30.0783,   164.3337,          0,   706.2,   7.6245,  34.5497,2,  34.5492,2,-999.0000,9,  -999.0,9,   15.38,2,   23.44,2,    0.01,2,    1.64,2,    9.19,2
318M20091121,        P06,      35,          2,          1,          1,2,20091201,       0132,   -30.0783,   164.3337,          0,    1007,   5.5177,  34.4681,2,  34.4686,2,-999.0000,9,  -999.0,9,   35.74,2,    28.7,2,       0,2,    2.01,2,    8.64,2
318M20091121,        P06,      37,          1,         12,         12,2,20091201,       1036,   -30.0799,   165.1204,          0,    17.3,  21.9979,  35.7542,2,  35.7449,2,-999.0000,9,  -999.0,9,    0.98,2,    0.06,2,       0,2,    0.11,2,   10.15,2
318M20091121,        P06,      37,          1,         11,         11,2,20091201,       1035,   -30.0799,   165.1204,          0,    41.5,   19.826,  35.6594,2,  35.6544,2,-999.0000,9,  -999.0,9,    0.35,2,       0,2,       0,2,    0.08,2,    7.38,2
318M20091121,        P06,      37,          1,         10,         10,2,20091201,       1034,   -30.0799,   165.1204,          0,    66.5,  18.9646,  35.6067,2,   35.606,2,-999.0000,9,  -999.0,9,    0.73,2,    1.03,2,    0.03,2,     0.2,2,    9.98,4
318M20091121,        P06,      37,          1,          9,          9,2,20091201,       1032,   -30.0799,   165.1204,          0,    90.6,  18.4968,  35.6056,2,   35.602,2,-999.0000,9,  -999.0,9,    0.51,2,    1.64,2,    0.19,2,    0.23,2,    8.17,2
318M20091121,        P06,      37,          1,          8,          8,2,20091201,       1031,   -30.0799,   165.1204,          0,   110.8,  18.2686,  35.5962,2,  35.5928,2,-999.0000,9,  -999.0,9,    0.69,2,     2.2,2,    0.04,2,    0.26,2,    8.09,2
318M20091121,        P06,      37,          1,          7,          7,2,20091201,       1030,   -30.0799,   165.1204,          0,   136.8,  17.9506,  35.5829,2,  35.5793,2,-999.0000,9,  -999.0,9,    0.67,2,    2.28,2,    0.02,2,    0.26,2,    8.35,2
318M20091121,        P06,      37,          1,          6,          6,2,20091201,       1028,   -30.0799,   165.1204,          0,   186.5,  17.2893,  35.5517,2,  35.5482,2,-999.0000,9,  -999.0,9,    1.26,2,    4.84,2,    0.02,2,    0.42,2,   11.11,2
318M20091121,        P06,      37,          1,          5,          5,2,20091201,       1026,   -30.0799,   165.1204,          0,   235.5,  16.3461,  35.4892,2,  35.4844,2,-999.0000,9,  -999.0,9,    1.85,2,    6.82,2,    0.01,2,    0.54,2,    9.90,2
318M20091121,        P06,      37,          1,          4,          4,2,20091201,       1024,   -30.0799,   165.1204,          0,   285.6,  15.2895,  35.3988,2,  35.3604,2,-999.0000,9,  -999.0,9,    2.63,2,    9.41,2,    0.01,2,    0.71,2,    9.38,2
318M20091121,        P06,      37,          1,          3,          3,2,20091201,       1021,   -30.0799,   165.1204,          0,   422.9,  12.3953,  35.0736,2,  35.0377,2,-999.0000,9,  -999.0,9,    4.64,2,   14.19,2,       0,2,    1.02,2,    9.54,2
318M20091121,        P06,      37,          1,          2,          2,2,20091201,       1015,   -30.0799,   165.1204,          0,   671.2,   8.3761,  34.6121,2,  34.5994,2,-999.0000,9,  -999.0,9,   12.15,2,   22.22,2,       0,2,    1.55,2,    7.41,2
318M20091121,        P06,      37,          1,          1,          1,2,20091201,       1008,   -30.0799,   165.1204,          0,     972,   5.8056,  34.4499,2,  34.4492,2,-999.0000,9,  -999.0,9,   29.74,2,      28,2,       0,2,    1.95,2,    6.41,2
318M20091121,        P06,      39,          2,         12,         12,2,20091202,       0101,     -30.08,   165.9401,          0,    19.4,  21.9043,  35.7234,2,  35.7253,2,-999.0000,9,  -999.0,9,    0.55,2,    0.08,2,       0,2,    0.08,2,    7.43,2
318M20091121,        P06,      39,          2,         11,         11,2,20091202,       0100,     -30.08,   165.9401,          0,    34.7,  20.9293,  35.7051,2,  35.6892,2,-999.0000,9,  -999.0,9,    0.34,2,    0.03,2,       0,2,    0.06,2,    6.72,2
318M20091121,        P06,      39,          2,         10,         10,2,20091202,       0059,     -30.08,   165.9401,          0,      61,  19.8485,  35.6517,2,  35.6516,2,-999.0000,9,  -999.0,9,    0.33,2,    0.04,2,       0,2,    0.06,2,    7.04,2
318M20091121,        P06,      39,          2,          9,          9,2,20091202,       0057,     -30.08,   165.9401,          0,      86,  18.9825,  35.5996,2,  35.5963,2,-999.0000,9,  -999.0,9,    0.52,2,    0.08,2,    0.01,2,    0.12,2,    9.46,2
318M20091121,        P06,      39,          2,          8,          8,2,20091202,       0056,     -30.08,   165.9401,          0,   116.9,   18.288,  35.5978,2,  35.5945,2,-999.0000,9,  -999.0,9,     0.7,2,    2.44,2,    0.06,2,    0.27,2,   11.54,2
318M20091121,        P06,      39,          2,          7,          7,2,20091202,       0055,     -30.08,   165.9401,          0,   137.3,  18.0576,  35.5922,2,  35.5894,2,-999.0000,9,  -999.0,9,     0.9,2,    3.19,2,    0.04,2,    0.31,2,    9.79,2
318M20091121,        P06,      39,          2,          6,          6,2,20091202,       0054,     -30.08,   165.9401,          0,   167.7,  17.6054,  35.5697,2,  35.5675,2,-999.0000,9,  -999.0,9,    1.28,2,    4.42,2,    0.02,2,    0.39,2,   10.36,2
318M20091121,        P06,      39,          2,          5,          5,2,20091202,       0052,     -30.08,   165.9401,          0,   216.3,  16.8228,  35.5251,2,  35.5158,2,-999.0000,9,  -999.0,9,    1.67,2,    5.79,2,    0.02,2,    0.48,2,    9.19,2
318M20091121,        P06,      39,          2,          4,          4,2,20091202,       0051,     -30.08,   165.9401,          0,   268.2,  15.6995,  35.4328,2,  35.4001,2,-999.0000,9,  -999.0,9,    2.66,2,    8.97,2,    0.01,2,    0.67,2,    9.89,2
318M20091121,        P06,      39,          2,          3,          3,2,20091202,       0047,     -30.08,   165.9401,          0,   402.7,  12.8113,  35.1564,2,  35.1477,2,-999.0000,9,  -999.0,9,    4.64,2,   12.93,2,    0.01,2,    0.94,2,    9.38,2
318M20091121,        P06,      39,          2,          2,          2,2,20091202,       0042,     -30.08,   165.9401,          0,   641.5,    8.877,  34.6585,2,   34.657,2,-999.0000,9,  -999.0,9,   10.42,2,   20.92,2,    0.01,2,    1.47,2,    8.09,2
318M20091121,        P06,      39,          2,          1,          1,2,20091202,       0034,     -30.08,   165.9401,          0,   943.6,   6.1454,  34.4566,2,  34.4566,2,-999.0000,9,  -999.0,9,    26.1,2,   27.21,2,       0,2,     1.9,2,    6.50,2
318M20091121,        P06,      41,          1,         12,         12,2,20091202,       1016,   -30.0796,   166.9999,          0,    14.9,  21.8916,  35.6998,2,  35.6958,2,-999.0000,9,  -999.0,9,    0.55,2,    0.11,2,       0,2,    0.08,2,    9.43,2
318M20091121,        P06,      41,          1,         11,         11,2,20091202,       1015,   -30.0796,   166.9999,          0,    39.6,  20.0764,  35.6186,2,  35.6164,2,-999.0000,9,  -999.0,9,    0.33,2,    0.12,2,       0,2,     0.1,2,    8.30,2
318M20091121,        P06,      41,          1,         10,         10,2,20091202,       1014,   -30.0796,   166.9999,          0,      55,  19.6494,  35.6256,2,  35.6233,2,-999.0000,9,  -999.0,9,    0.31,2,    0.12,2,       0,2,     0.1,2,    6.40,2
318M20091121,        P06,      41,          1,          9,          9,2,20091202,       1012,   -30.0796,   166.9999,          0,    76.4,   19.142,  35.5969,2,  35.5968,2,-999.0000,9,  -999.0,9,    0.49,2,    0.12,2,    0.01,2,    0.12,2,    7.28,2
318M20091121,        P06,      41,          1,          8,          8,2,20091202,       1011,   -30.0796,   166.9999,          0,   101.4,  18.7567,  35.6121,2,  35.6075,2,-999.0000,9,  -999.0,9,    0.66,2,       2,2,    0.13,2,    0.24,2,    7.92,2
318M20091121,        P06,      41,          1,          7,          7,2,20091202,       1009,   -30.0796,   166.9999,          0,   141.5,   18.108,  35.5895,2,  35.5873,2,-999.0000,9,  -999.0,9,    0.84,2,    2.66,2,    0.04,2,    0.28,2,    9.63,2
318M20091121,        P06,      41,          1,          1,          1,9,20091202,       0928,   -30.0796,   166.9999,          0,   188.4,  17.6178,  35.5751,2,-999.0000,9,-999.0000,9,  -999.0,9, -999.00,9, -999.00,9, -999.00,9, -999.00,9, -999.00,9
318M20091121,        P06,      41,          1,          6,          6,2,20091202,       1007,   -30.0796,   166.9999,          0,   202.2,  17.2532,  35.5537,2,  35.5496,2,-999.0000,9,  -999.0,9,    1.41,2,    5.72,2,    0.01,2,    0.46,2,    9.78,2
318M20091121,        P06,      41,          1,          5,          5,2,20091202,       1005,   -30.0796,   166.9999,          0,   253.7,  16.1003,  35.4596,2,  35.4569,2,-999.0000,9,  -999.0,9,    1.97,2,     7.5,2,    0.01,2,    0.58,2,    8.53,2
318M20091121,        P06,      41,          1,          4,          4,2,20091202,       1002,   -30.0796,   166.9999,          0,   403.1,   13.007,  35.1222,2,   35.095,2,-999.0000,9,  -999.0,9,    4.13,2,   13.11,2,    0.01,2,    0.94,2,    9.23,2
318M20091121,        P06,      41,          1,          3,          3,2,20091202,       0954,   -30.0796,   166.9999,          0,     706,    8.333,  34.6154,2,  34.6145,2,-999.0000,9,  -999.0,9,   12.81,2,    22.2,2,       0,2,    1.54,2,    8.41,2
318M20091121,        P06,      41,          1,          2,          2,2,20091202,       0946,   -30.0796,   166.9999,          0,  1008.7,   5.7251,  34.4762,2,  34.4756,2,-999.0000,9,  -999.0,9,   34.15,2,   28.43,2,       0,2,    1.98,2,    8.69,2
318M20091121,        P06,      43,          2,         12,         12,2,20091202,       2306,   -30.0794,   168.0008,          0,    20.4,  21.6484,  35.6613,2,  35.6636,2,-999.0000,9,  -999.0,9,    0.39,2,       0,2,       0,2,    0.08,2,    9.04,2
318M20091121,        P06,      43,          2,         11,         11,2,20091202,       2305,   -30.0794,   168.0008,          0,    41.6,  20.7065,  35.6636,2,  35.6626,2,-999.0000,9,  -999.0,9,    0.19,2,       0,2,       0,2,    0.07,2,    7.94,2
318M20091121,        P06,      43,          2,         10,         10,2,20091202,       2303,   -30.0794,   168.0008,          0,    65.2,  19.5637,  35.6224,2,  35.6176,2,-999.0000,9,  -999.0,9,    0.37,2,    0.03,2,       0,2,     0.1,2,    7.53,2
318M20091121,        P06,      43,          2,          9,          9,2,20091202,       2302,   -30.0794,   168.0008,          0,    93.1,  18.8393,  35.6149,2,   35.613,2,-999.0000,9,  -999.0,9,    0.36,2,    0.68,2,    0.23,2,    0.19,2,    7.88,2
318M20091121,        P06,      43,          2,          8,          8,2,20091202,       2301,   -30.0794,   168.0008,          0,   107.1,  18.6621,  35.6128,2,   35.613,2,-999.0000,9,  -999.0,9,    0.55,2,    1.99,2,     0.1,2,    0.24,2,    7.78,2
318M20091121,        P06,      43,          2,          7,          7,2,20091202,       2259,   -30.0794,   168.0008,          0,   124.8,  18.3845,  35.6114,2,    35.61,2,-999.0000,9,  -999.0,9,    0.73,2,     3.5,2,    0.03,2,    0.32,2,    8.82,2
318M20091121,        P06,      43,          2,          6,          6,2,20091202,       2257,   -30.0794,   168.0008,          0,   186.4,  17.4726,   35.561,2,  35.5585,2,-999.0000,9,  -999.0,9,    1.32,2,    5.35,2,    0.01,2,    0.45,2,    8.96,2
318M20091121,        P06,      43,          2,          5,          5,2,20091202,       2254,   -30.0794,   168.0008,          0,   237.1,  16.1368,  35.4584,2,  35.4549,2,-999.0000,9,  -999.0,9,     1.9,2,    7.29,2,    0.01,2,    0.58,2,    8.04,2
318M20091121,        P06,      43,          2,          4,          4,2,20091202,       2253,   -30.0794,   168.0008,          0,   287.6,  15.7842,  35.4194,2,   35.404,2,-999.0000,9,  -999.0,9,    2.08,2,     8.2,2,    0.01,2,    0.64,2,    8.14,2
318M20091121,        P06,      43,          2,          3,          3,2,20091202,       2249,   -30.0794,   168.0008,          0,   424.4,  12.7874,  35.1059,2,  35.1043,2,-999.0000,9,  -999.0,9,    4.25,2,   13.06,2,       0,2,    0.95,2,    7.58,2
318M20091121,        P06,      43,          2,          2,          2,2,20091202,       2242,   -30.0794,   168.0008,          0,   668.9,   8.7851,  34.6295,2,  34.6308,2,-999.0000,9,  -999.0,9,     9.4,2,   20.82,2,       0,2,    1.45,2,    6.40,2
318M20091121,        P06,      43,          2,          1,          1,2,20091202,       2234,   -30.0794,   168.0008,          0,   973.9,   5.7989,  34.4395,2,  34.4404,2,-999.0000,9,  -999.0,9,   28.39,2,   27.89,2,       0,2,    1.94,2,    5.89,2
318M20091121,        P06,      45,          1,         12,         12,2,20091203,       0844,   -30.0798,   169.0017,          0,    20.6,  21.1448,  35.6361,2,  35.6384,2,-999.0000,9,  -999.0,9, -999.00,1, -999.00,1, -999.00,1, -999.00,1,    8.11,2
318M20091121,        P06,      45,          1,         11,         11,2,20091203,       0843,   -30.0798,   169.0017,          0,    41.4,  19.7031,  35.6652,2,  35.6643,2,-999.0000,9,  -999.0,9, -999.00,1, -999.00,1, -999.00,1, -999.00,1,    7.53,2
318M20091121,        P06,      45,          1,         10,         10,2,20091203,       0841,   -30.0798,   169.0017,          0,    65.7,  19.2717,  35.6492,2,  35.6477,2,-999.0000,9,  -999.0,9, -999.00,1, -999.00,1, -999.00,1, -999.00,1,    7.33,2
318M20091121,        P06,      45,          1,          9,          9,2,20091203,       0840,   -30.0798,   169.0017,          0,    91.3,  18.8092,  35.6225,2,  35.6198,2,-999.0000,9,  -999.0,9, -999.00,1, -999.00,1, -999.00,1, -999.00,1,    7.97,2
318M20091121,        P06,      45,          1,          8,          8,2,20091203,       0839,   -30.0798,   169.0017,          0,   111.1,  18.4892,  35.6101,2,  35.6078,2,-999.0000,9,  -999.0,9, -999.00,1, -999.00,1, -999.00,1, -999.00,1,    7.87,2
318M20091121,        P06,      45,          1,          7,          7,2,20091203,       0837,   -30.0798,   169.0017,          0,   136.8,  18.1156,  35.5959,2,  35.5945,2,-999.0000,9,  -999.0,9, -999.00,1, -999.00,1, -999.00,1, -999.00,1,    8.04,2
318M20091121,        P06,      45,          1,          6,          6,2,20091203,       0835,   -30.0798,   169.0017,          0,   187.5,  17.3577,  35.5628,2,  35.5606,2,-999.0000,9,  -999.0,9, -999.00,1, -999.00,1, -999.00,1, -999.00,1,    8.37,2
318M20091121,        P06,      45,          1,          5,          5,2,20091203,       0833,   -30.0798,   169.0017,          0,   236.5,  16.7996,  35.5292,2,   35.529,2,-999.0000,9,  -999.0,9, -999.00,1, -999.00,1, -999.00,1, -999.00,1,    7.35,2
318M20091121,        P06,      45,          1,          4,          4,2,20091203,       0831,   -30.0798,   169.0017,          0,   286.6,  15.9828,  35.4564,2,   35.416,2,-999.0000,9,  -999.0,9, -999.00,1, -999.00,1, -999.00,1, -999.00,1,    7.98,2
318M20091121,        P06,      45,          1,          3,          3,2,20091203,       0828,   -30.0798,   169.0017,          0,   423.5,  12.6898,   35.117,2,  35.1098,2,-999.0000,9,  -999.0,9, -999.00,1, -999.00,1, -999.00,1, -999.00,1,    8.00,2
318M20091121,        P06,      45,          1,          2,          2,2,20091203,       0821,   -30.0798,   169.0017,          0,   671.6,   8.8502,  34.6792,2,  34.6742,2,-999.0000,9,  -999.0,9, -999.00,1, -999.00,1, -999.00,1, -999.00,1,    6.99,2
318M20091121,        P06,      45,          1,          1,          1,2,20091203,       0814,   -30.0798,   169.0017,          0,   973.9,   6.0534,  34.4608,2,  34.4603,2,-999.0000,9,  -999.0,9, -999.00,1, -999.00,1, -999.00,1, -999.00,1,    5.34,2