BOTTLE,20230315SIOCCHCBG
EXPOCODE,SECT_ID,STNNBR,CASTNO,SAMPNO,BTLNBR,BTLNBR_FLAG_W,DATE,BTL_TIME,LATITUDE,LONGITUDE,DEPTH,CTDPRS,CTDTMP,CTDSAL,CTDSAL_FLAG_W,SALNTY,SALNTY_FLAG_W,CTDOXY,CTDOXY_FLAG_W,OXYGEN,OXYGEN_FLAG_W,SILCAT,SILCAT_FLAG_W,NITRAT,NITRAT_FLAG_W,NITRIT,NITRIT_FLAG_W,PHSPHT,PHSPHT_FLAG_W,ALUMIN,ALUMIN_FLAG_W
,,,,,,,,,,,METERS,DBAR,ITS-90,PSS-78,,PSS-78,,UMOL/KG,,UMOL/KG,,UMOL/KG,,UMOL/KG,,UMOL/KG,,UMOL/KG,,NMOL/L,
318M20091121,        P06,      59,          1,         12,         12,2,20091207,       1212,     -30.08,   175.4999,          0,    15.7,  20.8265,  35.6541,2,  35.6531,2,-999.0000,9,  -999.0,9,    0.47,2,       0,2,       0,2,    0.04,2,    5.97,2
318M20091121,        P06,      59,          1,         11,         11,2,20091207,       1211,     -30.08,   175.4999,          0,    39.8,  18.5798,   35.633,2,    35.63,2,-999.0000,9,  -999.0,9,    0.26,2,       0,2,       0,2,    0.03,2,    5.24,2
318M20091121,        P06,      59,          1,         10,         10,2,20091207,       1209,     -30.08,   175.4999,          0,      56,  18.3384,  35.6231,2,  35.6161,2,-999.0000,9,  -999.0,9,    0.26,2,       0,2,       0,2,    0.04,2,    5.15,2
318M20091121,        P06,      59,          1,          9,          9,2,20091207,       1208,     -30.08,   175.4999,          0,    75.3,  17.2792,  35.5783,2,  35.5778,2,-999.0000,9,  -999.0,9,    0.64,2,    0.81,2,    0.09,2,    0.15,2,    5.29,2
318M20091121,        P06,      59,          1,          8,          8,2,20091207,       1206,     -30.08,   175.4999,          0,   100.9,  16.8518,  35.5585,2,  35.5549,2,-999.0000,9,  -999.0,9,    1.03,2,    3.59,2,    0.02,2,    0.31,2,    6.85,2
318M20091121,        P06,      59,          1,          7,          7,2,20091207,       1205,     -30.08,   175.4999,          0,   126.4,  16.5753,  35.5446,2,  35.5424,2,-999.0000,9,  -999.0,9,    1.03,2,    3.98,2,    0.02,2,    0.34,2,    6.94,2
318M20091121,        P06,      59,          1,          6,          6,2,20091207,       1203,     -30.08,   175.4999,          0,     151,  16.2194,  35.5158,2,  35.5132,2,-999.0000,9,  -999.0,9,    1.42,2,    4.68,2,    0.02,2,    0.39,2,    6.56,2
318M20091121,        P06,      59,          1,          5,          5,2,20091207,       1201,     -30.08,   175.4999,          0,   201.7,  15.5745,  35.4403,2,  35.4379,2,-999.0000,9,  -999.0,9,    1.81,2,    6.39,2,    0.02,2,    0.51,2,    7.29,2
318M20091121,        P06,      59,          1,          4,          4,2,20091207,       1159,     -30.08,   175.4999,          0,   251.7,  14.7621,  35.3534,2,  35.3436,2,-999.0000,9,  -999.0,9,     2.2,2,    7.08,2,    0.01,2,    0.57,2,    7.73,2
318M20091121,        P06,      59,          1,          3,          3,2,20091207,       1155,     -30.08,   175.4999,          0,     404,  11.8223,  34.9799,2,  34.9744,2,-999.0000,9,  -999.0,9,    4.17,2,    13.6,2,    0.01,2,    0.97,2,    8.67,2
318M20091121,        P06,      59,          1,          2,          2,2,20091207,       1147,     -30.08,   175.4999,          0,   706.6,   7.1889,  34.4228,2,  34.4235,2,-999.0000,9,  -999.0,9,    8.94,2,   22.85,2,       0,2,    1.56,2,    3.99,2
318M20091121,        P06,      59,          1,          1,          1,2,20091207,       1139,     -30.08,   175.4999,          0,  1007.3,   5.2303,  34.3861,2,  34.3863,2,-999.0000,9,  -999.0,9,   29.13,2,   29.08,2,       0,2,       2,2,    4.27,2
318M20091121,        P06,      61,          2,         12,         12,9,20091208,       0241,   -30.0781,   176.4994,          0,    17.3,   21.116,  35.6351,2,-999.0000,9,-999.0000,9,  -999.0,9, -999.00,9, -999.00,9, -999.00,9, -999.00,9,    8.05,2
318M20091121,        P06,      61,          2,         11,         11,9,20091208,       0239,   -30.0781,   176.4994,          0,    40.3,  19.4794,  35.6216,2,-999.0000,9,-999.0000,9,  -999.0,9, -999.00,9, -999.00,9, -999.00,9, -999.00,9,    6.47,2
318M20091121,        P06,      61,          2,         10,         10,9,20091208,       0237,   -30.0781,   176.4994,          0,      66,  18.6752,  35.5896,2,-999.0000,9,-999.0000,9,  -999.0,9, -999.00,9, -999.00,9, -999.00,9, -999.00,9,    6.41,2
318M20091121,        P06,      61,          2,          9,          9,9,20091208,       0236,   -30.0781,   176.4994,          0,    90.7,  17.9856,  35.5975,2,-999.0000,9,-999.0000,9,  -999.0,9, -999.00,9, -999.00,9, -999.00,9, -999.00,9,    5.50,2
318M20091121,        P06,      61,          2,          8,          8,9,20091208,       0234,   -30.0781,   176.4994,          0,   111.4,  17.4664,  35.5833,2,-999.0000,9,-999.0000,9,  -999.0,9, -999.00,9, -999.00,9, -999.00,9, -999.00,9,    5.89,2
318M20091121,        P06,      61,          2,          7,          7,9,20091208,       0233,   -30.0781,   176.4994,          0,   136.5,   17.045,  35.5774,2,-999.0000,9,-999.0000,9,  -999.0,9, -999.00,9, -999.00,9, -999.00,9, -999.00,9,    6.97,2
318M20091121,        P06,      61,          2,          6,          6,9,20091208,       0231,   -30.0781,   176.4994,          0,     184,  16.5481,  35.5532,2,-999.0000,9,-999.0000,9,  -999.0,9, -999.00,9, -999.00,9, -999.00,9, -999.00,9,    6.49,2
318M20091121,        P06,      61,          2,          5,          5,9,20091208,       0229,   -30.0781,   176.4994,          0,   237.4,  15.9703,  35.4978,2,-999.0000,9,-999.0000,9,  -999.0,9, -999.00,9, -999.00,9, -999.00,9, -999.00,9,    7.33,2
318M20091121,        P06,      61,          2,          4,          4,9,20091208,       0227,   -30.0781,   176.4994,          0,   287.8,  15.0861,  35.4005,2,-999.0000,9,-999.0000,9,  -999.0,9, -999.00,9, -999.00,9, -999.00,9, -999.00,9,    7.68,2
318M20091121,        P06,      61,          2,          3,          3,9,20091208,       0224,   -30.0781,   176.4994,          0,   423.1,  12.3904,  35.0649,2,-999.0000,9,-999.0000,9,  -999.0,9, -999.00,9, -999.00,9, -999.00,9, -999.00,9,    7.92,2
318M20091121,        P06,      61,          2,          2,          2,9,20091208,       0217,   -30.0781,   176.4994,          0,   671.1,   7.6653,  34.4628,2,-999.0000,9,-999.0000,9,  -999.0,9, -999.00,9, -999.00,9, -999.00,9, -999.00,9,    4.48,2
318M20091121,        P06,      61,          2,          1,          1,9,20091208,       0209,   -30.0781,   176.4994,          0,   974.9,   5.6299,  34.3719,2,-999.0000,9,-999.0000,9,  -999.0,9, -999.00,9, -999.00,9, -999.00,9, -999.00,9,    4.38,2
318M20091121,        P06,      63,          2,         12,         12,9,20091208,       1926,    -30.582,    176.999,          0,    15.4,  20.4834,   35.535,2,-999.0000,9,-999.0000,9,  -999.0,9, -999.00,9, -999.00,9, -999.00,9, -999.00,9,    4.63,2
318M20091121,        P06,      63,          2,         11,         11,9,20091208,       1925,    -30.582,    176.999,          0,    35.6,  18.6506,   35.632,2,-999.0000,9,-999.0000,9,  -999.0,9, -999.00,9, -999.00,9, -999.00,9, -999.00,9,    5.00,2
318M20091121,        P06,      63,          2,         10,         10,9,20091208,       1923,    -30.582,    176.999,          0,    60.3,  18.2491,  35.6217,2,-999.0000,9,-999.0000,9,  -999.0,9, -999.00,9, -999.00,9, -999.00,9, -999.00,9,    4.63,2
318M20091121,        P06,      63,          2,          9,          9,9,20091208,       1921,    -30.582,    176.999,          0,    87.1,  17.4056,  35.5837,2,-999.0000,9,-999.0000,9,  -999.0,9, -999.00,9, -999.00,9, -999.00,9, -999.00,9,    5.13,2
318M20091121,        P06,      63,          2,          8,          8,9,20091208,       1920,    -30.582,    176.999,          0,   116.5,  16.8022,  35.5534,2,-999.0000,9,-999.0000,9,  -999.0,9, -999.00,9, -999.00,9, -999.00,9, -999.00,9,    7.66,2
318M20091121,        P06,      63,          2,          7,          7,9,20091208,       1918,    -30.582,    176.999,          0,   137.8,  16.4702,  35.5271,2,-999.0000,9,-999.0000,9,  -999.0,9, -999.00,9, -999.00,9, -999.00,9, -999.00,9,    8.66,2
318M20091121,        P06,      63,          2,          6,          6,9,20091208,       1917,    -30.582,    176.999,          0,   167.3,  15.8835,  35.4733,2,-999.0000,9,-999.0000,9,  -999.0,9, -999.00,9, -999.00,9, -999.00,9, -999.00,9,    6.49,2
318M20091121,        P06,      63,          2,          5,          5,9,20091208,       1914,    -30.582,    176.999,          0,   217.5,   14.994,  35.3969,2,-999.0000,9,-999.0000,9,  -999.0,9, -999.00,9, -999.00,9, -999.00,9, -999.00,9,    7.41,2
318M20091121,        P06,      63,          2,          4,          4,9,20091208,       1913,    -30.582,    176.999,          0,   267.7,  14.0569,  35.2868,2,-999.0000,9,-999.0000,9,  -999.0,9, -999.00,9, -999.00,9, -999.00,9, -999.00,9,    7.98,2
318M20091121,        P06,      63,          2,          3,          3,9,20091208,       1909,    -30.582,    176.999,          0,   409.2,  11.2272,  34.9151,2,-999.0000,9,-999.0000,9,  -999.0,9, -999.00,9, -999.00,9, -999.00,9, -999.00,9,    7.69,2
318M20091121,        P06,      63,          2,          2,          2,9,20091208,       1903,    -30.582,    176.999,          0,   641.3,   7.7362,  34.5097,2,-999.0000,9,-999.0000,9,  -999.0,9, -999.00,9, -999.00,9, -999.00,9, -999.00,9,    5.46,2
318M20091121,        P06,      63,          2,          1,          1,9,20091208,       1856,    -30.582,    176.999,          0,   944.6,   5.4729,  34.3654,2,-999.0000,9,-999.0000,9,  -999.0,9, -999.00,9, -999.00,9, -999.00,9, -999.00,9,    4.01,2