BOTTLE,20230216CCHSIOENA
EXPOCODE,SECT_ID,STNNBR,CASTNO,BTLNBR,BTLNBR_FLAG_W,DATE,TIME,LATITUDE,LONGITUDE,DEPTH,CTDPRS,CTDTMP,CTDSAL,CTDSAL_FLAG_W,CTDOXY,CTDOXY_FLAG_W,OXYGEN,OXYGEN_FLAG_W,SILCAT,SILCAT_FLAG_W,NITRAT,NITRAT_FLAG_W,PHSPHT,PHSPHT_FLAG_W,ALKALI,ALKALI_FLAG_W,PH_TOT,PH_TOT_FLAG_W,PH_TMP
,,,,,,,,,,METERS,DBAR,ITS-90,PSS-78,,UMOL/KG,,UMOL/KG,,UMOL/KG,,UMOL/KG,,UMOL/KG,,UMOL/KG,,,,DEG C
  29HE20130320,   A17,    90,  1,      1,2,20130508,1218, 22.8960, -28.4290, 5598,   5679.6,   2.4827,  34.8838,2,    242.2,2,    243.7,2,    48.29,2,    22.98,2,     1.49,2,   2354.4,2,   7.7327,2,    25.00
  29HE20130320,   A17,    90,  1,      2,2,20130508,1218, 22.8960, -28.4290, 5598,   5091.4,   2.4133,  34.8850,2,    242.2,2,    243.8,2,    48.12,2,    23.04,2,     1.49,2,   2357.0,2,   7.7348,2,    25.00
  29HE20130320,   A17,    90,  1,      3,2,20130508,1218, 22.8960, -28.4290, 5598,   4576.9,   2.3737,  34.8881,2,    241.9,2,    243.3,2,    47.88,2,    22.95,2,     1.48,2,   2355.4,2,   7.7344,2,    25.00
  29HE20130320,   A17,    90,  1,      4,2,20130508,1218, 22.8960, -28.4290, 5598,   4064.4,   2.3904,  34.8960,2,    241.7,2,    243.4,2,    45.24,2,    22.90,2,     1.47,2,   2353.7,2,   7.7348,2,    25.00
  29HE20130320,   A17,    90,  1,      5,2,20130508,1218, 22.8960, -28.4290, 5598,   3552.3,   2.4768,  34.9090,2,    241.7,2,    243.7,2,    42.04,2,    22.53,2,     1.43,2,   2349.9,2,   7.7353,2,    25.00
  29HE20130320,   A17,    90,  1,      6,2,20130508,1218, 22.8960, -28.4290, 5598,   3041.5,   2.7147,  34.9349,2,    240.7,2,    242.3,2,    36.33,2,    21.83,2,     1.40,2,   2343.1,2,   7.7360,2,    25.00
  29HE20130320,   A17,    90,  1,      7,2,20130508,1218, 22.8960, -28.4290, 5598,   2531.1,   3.1799,  34.9759,2,    236.3,2,    237.7,2,    30.55,2,    21.79,2,     1.38,2,   2337.8,2,   7.7335,2,    25.00
  29HE20130320,   A17,    90,  1,      8,2,20130508,1218, 22.8960, -28.4290, 5598,   2277.7,   3.4442,  34.9941,2,    233.4,2,    234.7,2,    27.95,2,    21.60,2,     1.39,2,   2333.6,2,   7.7308,2,    25.00
  29HE20130320,   A17,    90,  1,      9,2,20130508,1218, 22.8960, -28.4290, 5598,   2022.2,   3.8219,  35.0200,2,    227.8,2,    228.9,2,    25.01,2,    22.00,2,     1.39,2,   2331.0,2,   7.7258,2,    25.00
  29HE20130320,   A17,    90,  1,     10,2,20130508,1218, 22.8960, -28.4290, 5598,   1818.3,   4.2548,  35.0560,2,    220.4,2,    221.2,2,    22.90,2,    22.55,2,     1.41,2,   2329.7,2,   7.7204,2,    25.00
  29HE20130320,   A17,    90,  1,     11,2,20130508,1218, 22.8960, -28.4290, 5598,   1615.7,   4.7470,  35.0922,2,    211.3,2,    212.2,2,    21.23,2,    22.76,2,     1.44,2,   2329.6,2,   7.7158,2,    25.00
  29HE20130320,   A17,    90,  1,     12,2,20130508,1218, 22.8960, -28.4290, 5598,   1414.2,   5.3984,  35.1221,2,    197.3,2,    197.5,2,    19.72,2,    23.59,2,     1.48,2,   2328.4,2,   7.7026,2,    25.00
  29HE20130320,   A17,    90,  1,     13,2,20130508,1218, 22.8960, -28.4290, 5598,   1211.2,   6.0470,  35.1127,2,    176.2,2,    175.7,2,    19.54,2,    25.18,2,     1.59,2,   2328.5,2,   7.6790,2,    25.00
  29HE20130320,   A17,    90,  1,     14,2,20130508,1218, 22.8960, -28.4290, 5598,   1007.5,   6.8351,  35.0940,2,    149.0,2,    149.1,2,    20.07,2,    27.84,2,     1.71,2,   2327.0,2,   7.6482,2,    25.00
  29HE20130320,   A17,    90,  1,     15,2,20130508,1218, 22.8960, -28.4290, 5598,    807.2,   8.5843,  35.2188,2,    125.2,2,    125.1,2,    16.84,2,    27.68,2,     1.66,2,   2326.8,2,   7.6433,2,    25.00
  29HE20130320,   A17,    90,  1,     16,2,20130508,1218, 22.8960, -28.4290, 5598,    705.5,   9.8248,  35.3588,2,    125.9,2,    125.2,2,    13.41,2,    25.62,2,     1.42,2,   2329.9,2,   7.6666,2,    25.00
  29HE20130320,   A17,    90,  1,     17,2,20130508,1218, 22.8960, -28.4290, 5598,    607.1,  11.4004,  35.5513,2,    144.5,2,    144.6,2,     9.05,2,    20.93,2,     1.10,2,   2335.8,2,   7.7247,2,    25.00
  29HE20130320,   A17,    90,  1,     18,2,20130508,1218, 22.8960, -28.4290, 5598,    503.3,  13.2587,  35.7967,2,    165.4,2,    165.1,2,     5.34,2,    15.37,2,     0.70,2,   2349.1,2,   7.7946,2,    25.00
  29HE20130320,   A17,    90,  1,     19,2,20130508,1218, 22.8960, -28.4290, 5598,    403.0,  15.0304,  36.0668,2,    178.5,2,    179.3,2,     3.43,2,    10.96,2,     0.27,2,   2363.9,2,   7.8547,2,    25.00
  29HE20130320,   A17,    90,  1,     20,2,20130508,1218, 22.8960, -28.4290, 5598,    302.2,  17.1958,  36.4783,2,    188.9,2,    187.7,2,     1.82,2,     6.34,2,     0.03,2,   2389.9,2,   7.9184,2,    25.00
  29HE20130320,   A17,    90,  1,     21,2,20130508,1218, 22.8960, -28.4290, 5598,    202.3,  20.3193,  37.1189,2,    196.2,2,    196.3,2,     0.82,2,     2.00,2,    -0.02,2,   2425.8,2,   7.9714,2,    25.00
  29HE20130320,   A17,    90,  1,     22,2,20130508,1218, 22.8960, -28.4290, 5598,    126.5,  22.1864,  37.4287,2,    212.8,2,    213.1,2,     0.46,2,    -0.01,2,    -0.02,2,   2449.9,2,   8.0365,2,    25.00
  29HE20130320,   A17,    90,  1,     23,2,20130508,1218, 22.8960, -28.4290, 5598,     92.8,  22.4374,  37.3291,2,    217.1,2,    217.3,2,     0.53,2,    -0.03,2,    -0.03,2,   2440.5,2,   8.0416,2,    25.00
  29HE20130320,   A17,    90,  1,     24,2,20130508,1218, 22.8960, -28.4290, 5598,      5.6,  23.8452,  36.9937,2,    215.6,2,    217.6,2,     0.64,2,     0.00,2,    -0.01,2,   2421.3,2,   8.0383,2,    25.00
  29HE20130320,   A17,    91,  1,      1,2,20130509,0559, 24.5000, -28.4190, 5631,   5756.8,   2.4960,  34.8840,2,    242.1,2,    244.3,2,    48.91,2,    22.91,2,     1.49,2,   -999.0,9,   7.7348,2,    25.00
  29HE20130320,   A17,    91,  1,      2,2,20130509,0559, 24.5000, -28.4190, 5631,   5093.2,   2.4153,  34.8854,2,    242.5,2,    244.3,2,    48.35,2,    22.80,2,     1.47,2,   -999.0,9,   7.7360,2,    25.00
  29HE20130320,   A17,    91,  1,      3,2,20130509,0559, 24.5000, -28.4190, 5631,   4577.3,   2.3818,  34.8890,2,    242.2,2,    243.9,2,    47.21,2,    22.54,2,     1.48,2,   -999.0,9,   7.7394,2,    25.00
  29HE20130320,   A17,    91,  1,      4,2,20130509,0559, 24.5000, -28.4190, 5631,   4065.4,   2.4074,  34.8974,2,    241.6,2,    244.2,2,    45.17,2,    22.51,2,     1.47,2,   -999.0,9,   7.7380,2,    25.00
  29HE20130320,   A17,    91,  1,      5,2,20130509,0559, 24.5000, -28.4190, 5631,   3552.7,   2.5003,  34.9114,2,    241.7,2,    244.3,2,    41.51,2,    22.14,2,     1.42,2,   -999.0,9,   7.7394,2,    25.00
  29HE20130320,   A17,    91,  1,      6,2,20130509,0559, 24.5000, -28.4190, 5631,   3042.1,   2.7048,  34.9340,2,    241.1,2,    243.6,2,    36.16,2,    21.49,2,     1.40,2,   -999.0,9,   7.7392,2,    25.00
  29HE20130320,   A17,    91,  1,      7,2,20130509,0559, 24.5000, -28.4190, 5631,   2530.5,   3.1854,  34.9793,2,    239.0,2,    240.9,2,    30.14,2,    21.19,2,     1.37,2,   -999.0,9,   7.7407,2,    25.00
  29HE20130320,   A17,    91,  1,      8,2,20130509,0559, 24.5000, -28.4190, 5631,   2277.2,   3.4739,  35.0024,2,    234.3,2,    236.2,2,    27.66,2,    21.22,2,     1.37,2,   -999.0,9,   7.7364,2,    25.00
  29HE20130320,   A17,    91,  1,      9,2,20130509,0559, 24.5000, -28.4190, 5631,   2022.3,   3.8236,  35.0313,2,    230.8,2,    232.5,2,    24.76,2,    21.46,2,     1.36,2,   -999.0,9,   7.7342,2,    25.00
  29HE20130320,   A17,    91,  1,     10,2,20130509,0559, 24.5000, -28.4190, 5631,   1820.7,   4.2723,  35.0672,2,    224.9,2,    225.7,2,    22.48,2,    21.31,2,     1.37,2,   -999.0,9,   7.7308,2,    25.00
  29HE20130320,   A17,    91,  1,     11,2,20130509,0559, 24.5000, -28.4190, 5631,   1616.5,   4.9761,  35.1371,2,    212.7,2,    213.7,2,    20.52,2,    22.01,2,     1.37,2,   -999.0,9,   7.7265,2,    25.00
  29HE20130320,   A17,    91,  1,     12,2,20130509,0559, 24.5000, -28.4190, 5631,   1414.0,   5.6895,  35.1810,2,    197.1,2,    197.4,2,    19.24,2,    22.52,2,     1.44,2,   -999.0,9,   7.7132,2,    25.00
  29HE20130320,   A17,    91,  1,     13,2,20130509,0559, 24.5000, -28.4190, 5631,   1212.4,   6.4385,  35.1924,2,    175.6,2,    175.9,2,    18.95,2,    24.51,2,     1.54,2,   -999.0,9,   7.6925,2,    25.00
  29HE20130320,   A17,    91,  1,     14,2,20130509,0559, 24.5000, -28.4190, 5631,   1009.6,   7.0830,  35.1540,2,    151.4,2,    151.5,2,    19.48,2,    26.70,2,     1.67,2,   -999.0,9,   7.6615,2,    25.00
  29HE20130320,   A17,    91,  1,     15,2,20130509,0559, 24.5000, -28.4190, 5631,    807.6,   9.0722,  35.2988,2,    135.9,2,    135.9,2,    14.92,2,    25.49,2,     1.52,2,   -999.0,9,   7.6739,2,    25.00
  29HE20130320,   A17,    91,  1,     16,2,20130509,0559, 24.5000, -28.4190, 5631,    706.3,  10.5692,  35.4726,2,    151.0,2,    151.2,2,    10.71,2,    21.37,2,     1.23,2,   -999.0,9,   7.7217,2,    25.00
  29HE20130320,   A17,    91,  1,     17,2,20130509,0559, 24.5000, -28.4190, 5631,    606.2,  11.7917,  35.6039,2,    156.8,2,    156.8,2,     7.96,2,    18.86,2,     1.04,2,   -999.0,9,   7.7514,2,    25.00
  29HE20130320,   A17,    91,  1,     18,2,20130509,0559, 24.5000, -28.4190, 5631,    503.1,  13.2014,  35.7874,2,    160.8,2,    161.1,2,     5.84,2,    15.84,2,     0.84,2,   -999.0,9,   7.7869,2,    25.00
  29HE20130320,   A17,    91,  1,     19,2,20130509,0559, 24.5000, -28.4190, 5631,    402.3,  14.7058,  36.0098,2,    170.5,2,    171.3,2,     4.10,2,    12.32,2,     0.59,2,   -999.0,9,   7.8373,2,    25.00
  29HE20130320,   A17,    91,  1,     20,2,20130509,0559, 24.5000, -28.4190, 5631,    304.3,  16.2636,  36.2758,2,    169.6,2,    167.9,2,     3.13,2,    10.22,2,     0.40,2,   -999.0,9,   7.8679,2,    25.00
  29HE20130320,   A17,    91,  1,     21,2,20130509,0559, 24.5000, -28.4190, 5631,    202.4,  18.3056,  36.6999,2,    178.2,2,    178.3,2,     1.86,2,     6.48,2,     0.09,2,   -999.0,9,   7.9082,2,    25.00
  29HE20130320,   A17,    91,  1,     22,2,20130509,0559, 24.5000, -28.4190, 5631,    104.7,  21.6486,  37.3360,2,    211.8,2,    211.6,2,     0.51,2,     0.09,2,     0.00,2,   -999.0,9,   8.0192,2,    25.00
  29HE20130320,   A17,    91,  1,     23,2,20130509,0559, 24.5000, -28.4190, 5631,     50.6,  22.1540,  37.2309,2,    222.0,2,    220.8,2,     0.58,2,    -0.01,2,     0.01,2,   -999.0,9,   8.0253,2,    25.00
  29HE20130320,   A17,    91,  1,     24,2,20130509,0559, 24.5000, -28.4190, 5631,      5.8,  23.4696,  37.2336,2,    216.2,2,    216.2,2,     0.63,2,     0.06,2,     0.02,2,   -999.0,9,   8.0303,2,    25.00
  29HE20130320,   A17,    92,  1,      1,2,20130509,2353, 26.1030, -28.4070, 5193,   5266.7,   2.4433,  34.8855,2,    243.3,2,    244.0,2,    48.21,2,    22.77,2,     1.49,2,   2351.2,2,   7.7365,2,    25.00
  29HE20130320,   A17,    92,  1,      2,2,20130509,2353, 26.1030, -28.4070, 5193,   5093.4,   2.4211,  34.8857,2,    243.2,2,    244.6,2,    47.76,2,    22.75,2,     1.50,2,   2351.7,2,   7.7360,2,    25.00
  29HE20130320,   A17,    92,  1,      3,2,20130509,2353, 26.1030, -28.4070, 5193,   4578.8,   2.3962,  34.8898,2,    243.4,2,    243.8,2,    47.19,2,    22.84,2,     1.47,2,   2349.9,2,   7.7360,2,    25.00
  29HE20130320,   A17,    92,  1,      4,2,20130509,2353, 26.1030, -28.4070, 5193,   4065.0,   2.4348,  34.8994,2,    243.4,2,    244.8,2,    44.94,2,    22.36,2,     1.46,2,   2349.3,2,   7.7370,2,    25.00
  29HE20130320,   A17,    92,  1,      5,2,20130509,2353, 26.1030, -28.4070, 5193,   3552.4,   2.5109,  34.9117,2,    242.8,2,    244.0,2,    41.53,2,    22.19,2,     1.44,2,   2345.2,2,   7.7377,2,    25.00
  29HE20130320,   A17,    92,  1,      6,2,20130509,2353, 26.1030, -28.4070, 5193,   3041.8,   2.7248,  34.9354,2,    243.5,2,    245.3,2,    35.79,2,    21.48,2,     1.39,2,   2337.7,2,   7.7391,2,    25.00
  29HE20130320,   A17,    92,  1,      7,2,20130509,2353, 26.1030, -28.4070, 5193,   2532.5,   3.1482,  34.9771,2,    243.8,2,    245.7,2,    29.26,2,    20.86,2,     1.33,2,   2331.2,2,   7.7504,2,    25.00
  29HE20130320,   A17,    92,  1,      8,2,20130509,2353, 26.1030, -28.4070, 5193,   2277.8,   3.5588,  35.0181,2,    240.2,2,    241.4,2,    26.08,2,    20.66,2,     1.32,2,   2330.4,2,   7.7404,2,    25.00
  29HE20130320,   A17,    92,  1,      9,2,20130509,2353, 26.1030, -28.4070, 5193,   2024.4,   4.0758,  35.0716,2,    233.5,2,    234.1,2,    23.07,2,    20.77,2,     1.31,2,   2329.0,2,   7.7383,2,    25.00
  29HE20130320,   A17,    92,  1,     10,2,20130509,2353, 26.1030, -28.4070, 5193,   1821.6,   4.5966,  35.1248,2,    225.6,2,    225.8,2,    20.84,2,    20.91,2,     1.33,2,   2328.4,2,   7.7341,2,    25.00
  29HE20130320,   A17,    92,  1,     11,2,20130509,2353, 26.1030, -28.4070, 5193,   1617.0,   5.2887,  35.1939,2,    213.8,2,    214.3,2,    19.36,2,    21.40,2,     1.33,2,   2331.5,2,   7.7305,2,    25.00
  29HE20130320,   A17,    92,  1,     12,2,20130509,2353, 26.1030, -28.4070, 5193,   1414.6,   6.1655,  35.2703,2,    197.4,2,    197.4,2,    18.30,2,    21.93,2,     1.37,2,   2332.8,2,   7.7226,2,    25.00
  29HE20130320,   A17,    92,  1,     13,2,20130509,2353, 26.1030, -28.4070, 5193,   1211.7,   7.0547,  35.3117,2,    176.6,2,    176.3,2,    17.69,2,    23.45,2,     1.46,2,   2333.4,2,   7.7063,2,    25.00
  29HE20130320,   A17,    92,  1,     14,2,20130509,2353, 26.1030, -28.4070, 5193,   1008.7,   7.8604,  35.2894,2,    154.7,2,    154.7,2,    17.29,2,    24.86,2,     1.53,2,   2330.7,2,   7.6829,2,    25.00
  29HE20130320,   A17,    92,  1,     15,2,20130509,2353, 26.1030, -28.4070, 5193,    807.8,   9.4710,  35.3865,2,    143.7,2,    144.1,2,    13.69,2,    24.06,2,     1.42,2,   2329.8,2,   7.6923,2,    25.00
  29HE20130320,   A17,    92,  1,     16,2,20130509,2353, 26.1030, -28.4070, 5193,    706.9,  10.6837,  35.4938,2,    153.1,2,    153.2,2,    10.24,2,    21.03,2,     1.19,2,   2330.6,2,   7.7250,2,    25.00
  29HE20130320,   A17,    92,  1,     17,2,20130509,2353, 26.1030, -28.4070, 5193,    604.7,  11.8251,  35.6136,2,    163.0,2,    163.2,2,     7.52,2,    18.11,2,     0.95,2,   2334.1,2,   7.7616,2,    25.00
  29HE20130320,   A17,    92,  1,     18,2,20130509,2353, 26.1030, -28.4070, 5193,    504.7,  12.9823,  35.7573,2,    163.3,2,    163.4,2,     5.89,2,    16.06,2,     0.83,2,   2340.9,2,   7.7845,2,    25.00
  29HE20130320,   A17,    92,  1,     19,2,20130509,2353, 26.1030, -28.4070, 5193,    404.5,  14.5887,  35.9847,2,    163.1,2,    162.6,2,     4.52,2,    13.41,2,     0.61,2,   2355.3,2,   7.8190,2,    25.00
  29HE20130320,   A17,    92,  1,     20,2,20130509,2353, 26.1030, -28.4070, 5193,    302.7,  16.2591,  36.2916,2,    181.2,2,    180.2,2,     2.74,2,     8.58,2,     0.17,2,   2373.0,2,   7.8820,2,    25.00
  29HE20130320,   A17,    92,  1,     21,2,20130509,2353, 26.1030, -28.4070, 5193,    201.8,  18.2723,  36.7209,2,    194.1,2,    196.8,2,     1.36,2,     4.04,2,     0.01,2,   2400.2,2,   7.9357,2,    25.00
  29HE20130320,   A17,    92,  1,     22,2,20130509,2353, 26.1030, -28.4070, 5193,    122.5,  20.4734,  37.1585,2,    204.7,2,    203.8,2,     0.71,2,     0.46,2,    -0.01,2,   2426.7,2,   7.9729,2,    25.00
  29HE20130320,   A17,    92,  1,     23,2,20130509,2353, 26.1030, -28.4070, 5193,     51.2,  22.4228,  37.4260,2,    220.9,2,    221.1,2,     0.58,2,     0.02,2,    -0.01,2,   2445.6,2,   8.0382,2,    25.00
  29HE20130320,   A17,    92,  1,     24,2,20130509,2353, 26.1030, -28.4070, 5193,      5.7,  23.5013,  37.5045,2,    214.5,2,    214.0,2,     0.58,2,     0.04,2,    -0.01,2,   2450.1,2,   8.0379,2,    25.00