BOTTLE,20230216CCHSIOENA
EXPOCODE,SECT_ID,STNNBR,CASTNO,BTLNBR,BTLNBR_FLAG_W,DATE,TIME,LATITUDE,LONGITUDE,DEPTH,CTDPRS,CTDTMP,CTDSAL,CTDSAL_FLAG_W,CTDOXY,CTDOXY_FLAG_W,OXYGEN,OXYGEN_FLAG_W,SILCAT,SILCAT_FLAG_W,NITRAT,NITRAT_FLAG_W,PHSPHT,PHSPHT_FLAG_W,ALKALI,ALKALI_FLAG_W,PH_TOT,PH_TOT_FLAG_W,PH_TMP
,,,,,,,,,,METERS,DBAR,ITS-90,PSS-78,,UMOL/KG,,UMOL/KG,,UMOL/KG,,UMOL/KG,,UMOL/KG,,UMOL/KG,,,,DEG C
  29HE20130320,   A17,    56,  1,      1,2,20130414,1820,-15.2030, -30.6430, 4849,   4912.2,   0.4597,  34.6836,2,    220.3,2,    220.9,2,   125.41,2,    32.43,2,     2.25,2,   -999.0,9,   7.6066,2,    25.00
  29HE20130320,   A17,    56,  1,      2,2,20130414,1820,-15.2030, -30.6430, 4849,   4574.4,   0.9624,  34.7351,2,    226.5,2,    227.4,2,   104.23,2,    29.83,2,     2.04,2,   -999.0,9,   7.6397,2,    25.00
  29HE20130320,   A17,    56,  1,      3,2,20130414,1820,-15.2030, -30.6430, 4849,   4062.4,   1.9225,  34.8410,2,    245.5,2,    245.8,2,    61.11,2,    23.49,2,     1.55,2,   -999.0,9,   7.7033,2,    25.00
  29HE20130320,   A17,    56,  1,      4,2,20130414,1820,-15.2030, -30.6430, 4849,   3549.8,   2.5106,  34.8982,2,    252.1,2,    251.9,2,    38.32,2,    21.05,2,     1.36,2,   -999.0,9,   7.7213,2,    25.00
  29HE20130320,   A17,    56,  1,      5,2,20130414,1820,-15.2030, -30.6430, 4849,   3039.8,   2.7250,  34.9117,2,    249.8,2,    249.9,2,    34.53,2,    20.85,2,     1.35,2,   -999.0,9,   7.7277,2,    25.00
  29HE20130320,   A17,    56,  1,      6,2,20130414,1820,-15.2030, -30.6430, 4849,   2785.1,   2.7708,  34.9091,2,    246.9,2,    246.3,2,    35.36,2,    21.35,2,     1.37,2,   -999.0,9,   7.7138,2,    25.00
  29HE20130320,   A17,    56,  1,      7,2,20130414,1820,-15.2030, -30.6430, 4849,   2529.2,   2.8368,  34.9085,2,    244.9,2,    246.0,2,    35.07,2,    21.54,2,     1.38,2,   -999.0,9,   7.7106,2,    25.00
  29HE20130320,   A17,    56,  1,      8,2,20130414,1820,-15.2030, -30.6430, 4849,   2275.4,   3.0334,  34.9223,2,    246.6,2,    247.8,2,    30.82,2,    21.09,2,     1.32,2,   -999.0,9,   7.7202,2,    25.00
  29HE20130320,   A17,    56,  1,      9,2,20130414,1820,-15.2030, -30.6430, 4849,   2022.1,   3.2680,  34.9328,2,    246.4,2,    247.3,2,    27.12,2,    20.65,2,     1.32,2,   -999.0,9,   7.7189,2,    25.00
  29HE20130320,   A17,    56,  1,     10,2,20130414,1820,-15.2030, -30.6430, 4849,   1817.7,   3.5936,  34.9439,2,    243.7,2,    244.9,2,    23.11,2,    20.59,2,     1.32,2,   -999.0,9,   7.7227,2,    25.00
  29HE20130320,   A17,    56,  1,     11,2,20130414,1820,-15.2030, -30.6430, 4849,   1615.9,   3.8676,  34.9325,2,    232.8,2,    234.3,2,    22.48,2,    21.80,2,     1.40,2,   -999.0,9,   7.7105,2,    25.00
  29HE20130320,   A17,    56,  1,     12,2,20130414,1820,-15.2030, -30.6430, 4849,   1412.8,   4.1521,  34.8774,2,    210.7,2,    211.1,2,    24.51,2,    24.41,2,     1.61,2,   -999.0,9,   7.6773,2,    25.00
  29HE20130320,   A17,    56,  1,     13,2,20130414,1820,-15.2030, -30.6430, 4849,   1209.8,   4.0964,  34.7356,2,    186.5,2,    186.5,2,    30.75,2,    29.01,2,     1.94,2,   -999.0,9,   7.6291,2,    25.00
  29HE20130320,   A17,    56,  1,     14,2,20130414,1820,-15.2030, -30.6430, 4849,   1007.6,   3.7974,  34.5192,2,    181.4,2,    182.9,2,    38.39,2,    32.35,2,     2.22,2,   -999.0,9,   7.5954,2,    25.00
  29HE20130320,   A17,    56,  1,     15,2,20130414,1820,-15.2030, -30.6430, 4849,    807.6,   4.2832,  34.4295,2,    177.0,2,    176.1,2,    33.19,2,    33.27,2,     2.26,2,   -999.0,9,   7.5869,2,    25.00
  29HE20130320,   A17,    56,  1,     16,2,20130414,1820,-15.2030, -30.6430, 4849,    705.7,   4.6874,  34.4115,2,    177.4,2,    177.8,2,    29.81,2,    32.75,2,     2.19,2,   -999.0,9,   7.5926,2,    25.00
  29HE20130320,   A17,    56,  1,     17,2,20130414,1820,-15.2030, -30.6430, 4849,    605.5,   5.3516,  34.4185,2,    182.2,2,    183.1,2,    24.62,2,    30.92,2,     2.07,2,   -999.0,9,   7.6105,2,    25.00
  29HE20130320,   A17,    56,  1,     18,2,20130414,1820,-15.2030, -30.6430, 4849,    505.2,   6.6392,  34.5102,2,    171.4,2,    170.8,2,    18.75,2,    28.89,2,     1.91,2,   -999.0,9,   7.6196,2,    25.00
  29HE20130320,   A17,    56,  1,     19,2,20130414,1820,-15.2030, -30.6430, 4849,    404.0,   9.5546,  34.8088,2,    140.4,2,    142.6,2,    12.39,2,    25.69,2,     1.62,2,   -999.0,9,   7.6415,2,    25.00
  29HE20130320,   A17,    56,  1,     20,2,20130414,1820,-15.2030, -30.6430, 4849,    302.9,  12.3926,  35.1136,2,    168.0,2,    169.0,2,     6.38,2,    16.27,2,     1.02,2,   -999.0,9,   7.7539,2,    25.00
  29HE20130320,   A17,    56,  1,     21,2,20130414,1820,-15.2030, -30.6430, 4849,    201.7,  17.3200,  35.9098,2,    190.1,2,    191.1,2,     2.56,2,     5.85,2,     0.40,2,   -999.0,9,   7.8920,2,    25.00
  29HE20130320,   A17,    56,  1,     22,2,20130414,1820,-15.2030, -30.6430, 4849,    101.7,  23.3911,  37.0684,2,    222.8,2,    221.6,2,     0.99,2,     0.08,2,     0.03,2,   -999.0,9,   8.0319,2,    25.00
  29HE20130320,   A17,    56,  1,     23,2,20130414,1820,-15.2030, -30.6430, 4849,     51.4,  27.2738,  37.4511,2,    203.4,2,    209.4,2,     0.98,2,     0.06,2,     0.02,2,   -999.0,9,   8.0617,2,    25.00
  29HE20130320,   A17,    56,  1,     24,2,20130414,1820,-15.2030, -30.6430, 4849,      6.7,  28.0033,  37.2101,2,    197.6,2,    199.4,2,     0.97,2,     0.07,2,     0.02,2,   -999.0,9,   8.0760,2,    25.00
  29HE20130320,   A17,    57,  1,      1,2,20130415,0548,-14.1000, -30.5840, 4928,   5338.3,   0.5627,  34.6888,2,    221.2,2,    221.4,2,   122.32,2,    32.42,2,     2.24,2,   2367.2,2,   7.6151,2,    25.00
  29HE20130320,   A17,    57,  1,      2,2,20130415,0548,-14.1000, -30.5840, 4928,   5338.4,   0.5627,  34.6887,2,    221.1,2,   -999.0,9,  -999.00,9,  -999.00,9,  -999.00,9,   -999.0,9,-999.0000,9,  -999.00
  29HE20130320,   A17,    57,  1,      3,2,20130415,0548,-14.1000, -30.5840, 4928,   5087.7,   0.5817,  34.6935,2,    221.2,2,    222.1,2,   119.93,2,    32.11,2,     2.17,2,   2365.7,2,   7.6160,2,    25.00
  29HE20130320,   A17,    57,  1,      4,2,20130415,0548,-14.1000, -30.5840, 4928,   4573.8,   1.0161,  34.7417,2,    227.7,2,    228.0,2,   101.82,2,    29.78,2,     1.99,2,   2358.2,2,   7.6470,2,    25.00
  29HE20130320,   A17,    57,  1,      5,2,20130415,0548,-14.1000, -30.5840, 4928,   4061.6,   1.8321,  34.8321,2,    243.9,2,    243.1,2,    65.45,2,    24.22,2,     1.59,2,   2342.8,2,   7.6976,2,    25.00
  29HE20130320,   A17,    57,  1,      6,2,20130415,0548,-14.1000, -30.5840, 4928,   3549.5,   2.4235,  34.8946,2,    253.8,2,    251.8,2,    39.18,2,    21.10,2,     1.32,2,   2331.4,2,   7.7291,2,    25.00
  29HE20130320,   A17,    57,  1,      7,2,20130415,0548,-14.1000, -30.5840, 4928,   3040.2,   2.6556,  34.9060,2,    248.5,2,    249.3,2,    36.87,2,    21.52,2,     1.35,2,   2330.6,2,   7.7270,2,    25.00
  29HE20130320,   A17,    57,  1,      8,2,20130415,0548,-14.1000, -30.5840, 4928,   3040.6,   2.6556,  34.9060,2,    247.6,2,   -999.0,9,  -999.00,9,  -999.00,9,  -999.00,9,   -999.0,9,-999.0000,9,  -999.00
  29HE20130320,   A17,    57,  1,      9,2,20130415,0548,-14.1000, -30.5840, 4928,   2526.7,   2.7757,  34.9018,2,    242.5,2,    243.0,2,    37.81,2,    21.89,2,     1.41,2,   2330.2,2,   7.7216,2,    25.00
  29HE20130320,   A17,    57,  1,     10,2,20130415,0548,-14.1000, -30.5840, 4928,   2276.4,   2.9681,  34.9182,2,    246.0,2,    245.9,2,    31.79,2,    21.31,2,     1.35,2,   2328.5,2,   7.7267,2,    25.00
  29HE20130320,   A17,    57,  1,     11,2,20130415,0548,-14.1000, -30.5840, 4928,   2022.7,   3.2149,  34.9282,2,    245.0,2,    245.3,2,    28.24,2,    21.10,2,     1.32,2,   2319.8,2,   7.7249,2,    25.00
  29HE20130320,   A17,    57,  1,     12,2,20130415,0548,-14.1000, -30.5840, 4928,   1819.0,   3.5213,  34.9402,2,    243.3,2,    243.7,2,    24.13,2,    20.82,2,     1.30,2,   2317.9,2,   7.7227,2,    25.00
  29HE20130320,   A17,    57,  1,     13,2,20130415,0548,-14.1000, -30.5840, 4928,   1616.9,   3.8556,  34.9400,2,    235.3,2,    235.7,2,    22.05,2,    21.44,2,     1.36,2,   2316.0,2,   7.7131,2,    25.00
  29HE20130320,   A17,    57,  1,     14,2,20130415,0548,-14.1000, -30.5840, 4928,   1414.3,   4.1553,  34.8990,2,    215.6,2,    215.4,2,    23.26,2,    23.77,2,     1.57,2,   2314.3,2,   7.6845,2,    25.00
  29HE20130320,   A17,    57,  1,     15,2,20130415,0548,-14.1000, -30.5840, 4928,   1208.1,   4.2133,  34.7774,2,    190.0,2,    190.1,2,    28.64,2,    27.88,2,     1.87,2,   2312.6,2,   7.6380,2,    25.00
  29HE20130320,   A17,    57,  1,     16,2,20130415,0548,-14.1000, -30.5840, 4928,   1007.9,   3.8553,  34.5787,2,    182.0,2,    182.0,2,    36.80,2,    31.53,2,     2.13,2,   2310.7,2,   7.6028,2,    25.00
  29HE20130320,   A17,    57,  1,     17,2,20130415,0548,-14.1000, -30.5840, 4928,    806.2,   4.0307,  34.4310,2,    182.1,2,    182.5,2,    35.70,2,    33.05,2,     2.22,2,   2305.5,2,   7.5916,2,    25.00
  29HE20130320,   A17,    57,  1,     18,2,20130415,0548,-14.1000, -30.5840, 4928,    604.5,   5.2170,  34.3964,2,    191.7,2,    191.3,2,    25.03,2,    30.53,2,     1.99,2,   2292.9,2,   7.6201,2,    25.00
  29HE20130320,   A17,    57,  1,     19,2,20130415,0548,-14.1000, -30.5840, 4928,    403.0,   9.7486,  34.8313,2,    142.5,2,    142.2,2,    11.72,2,    25.04,2,     1.51,2,   2299.0,2,   7.6502,2,    25.00
  29HE20130320,   A17,    57,  1,     20,2,20130415,0548,-14.1000, -30.5840, 4928,    299.9,  12.4340,  35.1238,2,    165.3,2,    164.5,2,     6.51,2,    16.66,2,     0.89,2,   2311.2,2,   7.7505,2,    25.00
  29HE20130320,   A17,    57,  1,     21,2,20130415,0548,-14.1000, -30.5840, 4928,    159.5,  21.7299,  36.7778,2,    197.1,2,    194.9,2,     1.42,2,     1.22,2,     0.06,2,   2408.6,2,   7.9754,2,    25.00
  29HE20130320,   A17,    57,  1,     22,2,20130415,0548,-14.1000, -30.5840, 4928,    100.5,  23.9044,  37.1623,2,    217.5,2,    216.3,2,     1.04,2,    -0.02,2,     0.02,2,   2437.8,2,   8.0473,2,    25.00
  29HE20130320,   A17,    57,  1,     23,2,20130415,0548,-14.1000, -30.5840, 4928,     50.5,  27.2062,  37.4431,2,    205.6,2,    206.7,2,     0.98,2,     0.01,2,     0.00,2,   2453.6,2,   8.0713,2,    25.00
  29HE20130320,   A17,    57,  1,     24,2,20130415,0548,-14.1000, -30.5840, 4928,      6.0,  28.0560,  37.0590,2,    197.1,2,    196.6,2,     0.96,2,     0.02,2,     0.01,2,   2428.4,2,   8.0770,2,    25.00
  29HE20130320,   A17,    58,  1,      1,2,20130415,1921,-13.0000, -30.5350, 5185,   5256.1,   0.6268,  34.6959,2,    221.5,2,    221.5,2,   122.07,2,    31.75,2,     2.23,2,   -999.0,9,   7.6179,2,    25.00
  29HE20130320,   A17,    58,  1,      2,2,20130415,1921,-13.0000, -30.5350, 5185,   5087.2,   0.6583,  34.7011,2,    222.1,2,    229.4,2,   119.48,2,    31.72,2,     2.18,2,   -999.0,9,   7.6200,2,    25.00
  29HE20130320,   A17,    58,  1,      3,2,20130415,1921,-13.0000, -30.5350, 5185,   4574.2,   1.0693,  34.7476,2,    229.1,2,    228.8,2,   100.88,2,    28.67,2,     2.00,2,   -999.0,9,   7.6499,2,    25.00
  29HE20130320,   A17,    58,  1,      4,2,20130415,1921,-13.0000, -30.5350, 5185,   4061.2,   1.7473,  34.8233,2,    242.2,2,    241.6,2,    68.86,2,    24.78,2,     1.67,2,   -999.0,9,   7.6908,2,    25.00
  29HE20130320,   A17,    58,  1,      5,2,20130415,1921,-13.0000, -30.5350, 5185,   3548.1,   2.3904,  34.8882,2,    250.9,2,    250.4,2,    42.41,2,    21.67,2,     1.41,2,   -999.0,9,   7.7227,2,    25.00
  29HE20130320,   A17,    58,  1,      6,2,20130415,1921,-13.0000, -30.5350, 5185,   3037.9,   2.6652,  34.9092,2,    250.0,2,    249.7,2,    35.36,2,    21.00,2,     1.37,2,   -999.0,9,   7.7281,2,    25.00
  29HE20130320,   A17,    58,  1,      7,2,20130415,1921,-13.0000, -30.5350, 5185,   2782.8,   2.7491,  34.9102,2,    247.6,2,    246.9,2,    35.17,2,    21.39,2,     1.40,2,   -999.0,9,   7.7269,2,    25.00
  29HE20130320,   A17,    58,  1,      8,2,20130415,1921,-13.0000, -30.5350, 5185,   2529.0,   2.8539,  34.9148,2,    246.9,2,    248.6,2,    33.34,2,    21.28,2,     1.37,2,   -999.0,9,   7.7299,2,    25.00
  29HE20130320,   A17,    58,  1,      9,2,20130415,1921,-13.0000, -30.5350, 5185,   2275.7,   2.9886,  34.9208,2,    246.8,2,    246.4,2,    31.38,2,    21.19,2,     1.36,2,   -999.0,9,   7.7296,2,    25.00
  29HE20130320,   A17,    58,  1,     10,2,20130415,1921,-13.0000, -30.5350, 5185,   2022.3,   3.2548,  34.9355,2,    247.4,2,    247.1,2,    26.55,2,    20.57,2,     1.32,2,   -999.0,9,   7.7294,2,    25.00
  29HE20130320,   A17,    58,  1,     11,2,20130415,1921,-13.0000, -30.5350, 5185,   1817.7,   3.5575,  34.9489,2,    246.6,2,    245.8,2,    22.15,2,    20.19,2,     1.30,2,   -999.0,9,   7.7301,2,    25.00
  29HE20130320,   A17,    58,  1,     12,2,20130415,1921,-13.0000, -30.5350, 5185,   1616.2,   3.8915,  34.9454,2,    236.4,2,    235.8,2,    21.02,2,    21.30,2,     1.38,2,   -999.0,9,   7.7171,2,    25.00
  29HE20130320,   A17,    58,  1,     13,2,20130415,1921,-13.0000, -30.5350, 5185,   1412.0,   4.2016,  34.8979,2,    214.7,2,    213.4,2,    22.89,2,    24.17,2,     1.59,2,   -999.0,9,   7.6848,2,    25.00
  29HE20130320,   A17,    58,  1,     14,2,20130415,1921,-13.0000, -30.5350, 5185,   1208.3,   4.0951,  34.7371,2,    188.6,2,    188.3,2,    30.85,2,    28.66,2,     1.93,2,   -999.0,9,   7.6346,2,    25.00
  29HE20130320,   A17,    58,  1,     15,2,20130415,1921,-13.0000, -30.5350, 5185,   1010.1,   3.7979,  34.5146,2,    181.6,2,    181.5,2,    38.44,2,    32.47,2,     2.22,2,   -999.0,9,   7.6002,2,    25.00
  29HE20130320,   A17,    58,  1,     16,2,20130415,1921,-13.0000, -30.5350, 5185,    806.5,   4.2563,  34.4219,2,    178.9,2,    178.0,2,    33.12,2,    32.88,2,     2.26,2,   -999.0,9,   7.5914,2,    25.00
  29HE20130320,   A17,    58,  1,     17,2,20130415,1921,-13.0000, -30.5350, 5185,    605.7,   5.5875,  34.4432,2,    171.9,2,    172.5,2,    23.65,2,    31.74,2,     2.11,2,   -999.0,9,   7.6016,2,    25.00
  29HE20130320,   A17,    58,  1,     18,2,20130415,1921,-13.0000, -30.5350, 5185,    504.4,   6.8532,  34.5427,2,    158.9,2,    159.4,2,    18.73,2,    29.79,2,     1.96,2,   -999.0,9,   7.6083,2,    25.00
  29HE20130320,   A17,    58,  1,     19,2,20130415,1921,-13.0000, -30.5350, 5185,    403.0,   8.8244,  34.7366,2,    139.8,2,    139.8,2,    13.86,2,    27.24,2,     1.77,2,   -999.0,9,   7.6213,2,    25.00
  29HE20130320,   A17,    58,  1,     20,2,20130415,1921,-13.0000, -30.5350, 5185,    302.1,  11.9176,  35.0665,2,    152.7,2,    154.6,2,     7.17,2,    18.37,2,     1.14,2,   -999.0,9,   7.7265,2,    25.00
  29HE20130320,   A17,    58,  1,     21,2,20130415,1921,-13.0000, -30.5350, 5185,    202.8,  17.4000,  35.9491,2,    169.0,2,    167.7,2,     2.89,2,     8.51,2,     0.58,2,   -999.0,9,   7.8657,2,    25.00
  29HE20130320,   A17,    58,  1,     22,2,20130415,1921,-13.0000, -30.5350, 5185,    102.0,  23.6829,  37.1249,2,    219.5,2,    217.3,2,     0.86,2,    -0.03,2,     0.01,2,   -999.0,9,   8.0427,2,    25.00
  29HE20130320,   A17,    58,  1,     23,2,20130415,1921,-13.0000, -30.5350, 5185,     49.8,  27.7318,  37.1397,2,    203.1,2,    205.1,2,     0.83,2,    -0.02,2,     0.01,2,   -999.0,9,   8.0764,2,    25.00
  29HE20130320,   A17,    58,  1,     24,2,20130415,1921,-13.0000, -30.5350, 5185,      7.6,  28.1018,  36.9708,2,    198.6,2,    197.8,2,     0.89,2,    -0.03,2,     0.00,2,   -999.0,9,   8.0822,2,    25.00