BOTTLE,20230216CCHSIOENA
EXPOCODE,SECT_ID,STNNBR,CASTNO,BTLNBR,BTLNBR_FLAG_W,DATE,TIME,LATITUDE,LONGITUDE,DEPTH,CTDPRS,CTDTMP,CTDSAL,CTDSAL_FLAG_W,CTDOXY,CTDOXY_FLAG_W,OXYGEN,OXYGEN_FLAG_W,SILCAT,SILCAT_FLAG_W,NITRAT,NITRAT_FLAG_W,PHSPHT,PHSPHT_FLAG_W,ALKALI,ALKALI_FLAG_W,PH_TOT,PH_TOT_FLAG_W,PH_TMP
,,,,,,,,,,METERS,DBAR,ITS-90,PSS-78,,UMOL/KG,,UMOL/KG,,UMOL/KG,,UMOL/KG,,UMOL/KG,,UMOL/KG,,,,DEG C
  29HE20130320,   A17,    62,  1,      1,2,20130417,2254, -8.6070, -30.3160, 5372,   5398.9,   0.6708,  34.6987,2,    220.3,2,    221.9,2,   118.49,2,    32.14,2,     2.18,2,   -999.0,9,   7.6219,2,    25.00
  29HE20130320,   A17,    62,  1,      2,2,20130417,2254, -8.6070, -30.3160, 5372,   5086.1,   0.7678,  34.7134,2,    223.0,2,    223.5,2,   113.22,2,    31.37,2,     2.13,2,   -999.0,9,   7.6313,2,    25.00
  29HE20130320,   A17,    62,  1,      3,2,20130417,2254, -8.6070, -30.3160, 5372,   4573.2,   1.0400,  34.7461,2,    228.3,2,    229.1,2,   100.52,2,    29.11,2,     1.98,2,   -999.0,9,   7.6451,2,    25.00
  29HE20130320,   A17,    62,  1,      4,2,20130417,2254, -8.6070, -30.3160, 5372,   4059.5,   1.8097,  34.8319,2,    244.0,2,    243.7,2,    63.93,2,    24.08,2,     1.60,2,   -999.0,9,   7.6978,2,    25.00
  29HE20130320,   A17,    62,  1,      5,2,20130417,2254, -8.6070, -30.3160, 5372,   3547.6,   2.5329,  34.9066,2,    255.9,2,    256.3,2,    33.20,2,    20.48,2,     1.28,2,   -999.0,9,   7.7347,2,    25.00
  29HE20130320,   A17,    62,  1,      6,2,20130417,2254, -8.6070, -30.3160, 5372,   3039.9,   2.7267,  34.9197,2,    252.8,2,    253.6,2,    30.73,2,    20.28,2,     1.30,2,   -999.0,9,   7.7345,2,    25.00
  29HE20130320,   A17,    62,  1,      7,2,20130417,2254, -8.6070, -30.3160, 5372,   2527.3,   2.9226,  34.9249,2,    247.6,2,    248.4,2,    31.41,2,    21.03,2,     1.34,2,   -999.0,9,   7.7307,2,    25.00
  29HE20130320,   A17,    62,  1,      8,2,20130417,2254, -8.6070, -30.3160, 5372,   2274.2,   3.1268,  34.9343,2,    246.6,2,    247.0,2,    28.52,2,    20.55,2,     1.32,2,   -999.0,9,   7.7312,2,    25.00
  29HE20130320,   A17,    62,  1,      9,2,20130417,2254, -8.6070, -30.3160, 5372,   2021.3,   3.4169,  34.9475,2,    245.7,2,    246.3,2,    24.40,2,    20.70,2,     1.31,2,   -999.0,9,   7.7281,2,    25.00
  29HE20130320,   A17,    62,  1,     10,2,20130417,2254, -8.6070, -30.3160, 5372,   1817.9,   3.7299,  34.9610,2,    244.4,2,    244.9,2,    20.48,2,    20.06,2,     1.27,2,   -999.0,9,   7.7275,2,    25.00
  29HE20130320,   A17,    62,  1,     11,2,20130417,2254, -8.6070, -30.3160, 5372,   1615.0,   4.0089,  34.9544,2,    234.0,2,    234.4,2,    19.88,2,    21.27,2,     1.38,2,   -999.0,9,   7.7169,2,    25.00
  29HE20130320,   A17,    62,  1,     12,2,20130417,2254, -8.6070, -30.3160, 5372,   1413.2,   4.2212,  34.8978,2,    210.8,2,    210.8,2,    22.77,2,    24.31,2,     1.59,2,   -999.0,9,   7.6820,2,    25.00
  29HE20130320,   A17,    62,  1,     13,2,20130417,2254, -8.6070, -30.3160, 5372,   1212.0,   4.2600,  34.7637,2,    183.0,2,    183.6,2,    28.41,2,    29.01,2,     1.94,2,   -999.0,9,   7.6296,2,    25.00
  29HE20130320,   A17,    62,  1,     14,2,20130417,2254, -8.6070, -30.3160, 5372,   1010.1,   4.0856,  34.5717,2,    167.5,2,    167.8,2,    34.09,2,    33.10,2,     2.25,2,   -999.0,9,   7.5823,2,    25.00
  29HE20130320,   A17,    62,  1,     15,2,20130417,2254, -8.6070, -30.3160, 5372,    806.6,   4.4992,  34.4585,2,    159.4,2,    159.8,2,    31.73,2,    34.82,2,     2.33,2,   -999.0,9,   7.5692,2,    25.00
  29HE20130320,   A17,    62,  1,     16,2,20130417,2254, -8.6070, -30.3160, 5372,    705.6,   4.9839,  34.4553,2,    154.4,2,    154.5,2,    29.21,2,    34.54,2,     2.31,2,   -999.0,9,   7.5646,2,    25.00
  29HE20130320,   A17,    62,  1,     17,2,20130417,2254, -8.6070, -30.3160, 5372,    605.7,   5.7510,  34.4999,2,    136.9,2,    137.8,2,    25.16,2,    34.94,2,     2.28,2,   -999.0,9,   7.5513,2,    25.00
  29HE20130320,   A17,    62,  1,     18,2,20130417,2254, -8.6070, -30.3160, 5372,    504.9,   6.8783,  34.5966,2,    108.7,2,    109.5,2,    21.30,2,    35.35,2,     2.25,2,   -999.0,9,   7.5261,2,    25.00
  29HE20130320,   A17,    62,  1,     19,2,20130417,2254, -8.6070, -30.3160, 5372,    403.1,   7.9586,  34.6942,2,     99.5,2,     99.8,2,    17.94,2,    33.68,2,     2.12,2,   -999.0,9,   7.5369,2,    25.00
  29HE20130320,   A17,    62,  1,     20,2,20130417,2254, -8.6070, -30.3160, 5372,    301.9,   9.6544,  34.8683,2,    109.3,2,    107.5,2,    13.29,2,    28.53,2,     1.77,2,   -999.0,9,   7.5962,2,    25.00
  29HE20130320,   A17,    62,  1,     21,2,20130417,2254, -8.6070, -30.3160, 5372,    202.2,  14.7175,  35.5353,2,    125.2,2,    125.6,2,     5.85,2,    17.17,2,     1.01,2,   -999.0,9,   7.7334,2,    25.00
  29HE20130320,   A17,    62,  1,     22,2,20130417,2254, -8.6070, -30.3160, 5372,    100.8,  24.6402,  37.0360,2,    210.6,2,    209.7,2,     1.00,2,    -0.11,2,    -0.02,2,   -999.0,9,   8.0450,2,    25.00
  29HE20130320,   A17,    62,  1,     23,2,20130417,2254, -8.6070, -30.3160, 5372,     51.2,  28.5705,  36.6188,2,    198.4,2,    198.9,2,     1.04,2,    -0.10,2,    -0.02,2,   -999.0,9,   8.0784,2,    25.00
  29HE20130320,   A17,    62,  1,     24,2,20130417,2254, -8.6070, -30.3160, 5372,      5.7,  28.8086,  36.5753,2,    195.8,2,    198.2,2,     1.09,2,    -0.07,2,    -0.01,2,   -999.0,9,   8.0742,2,    25.00
  29HE20130320,   A17,    63,  1,      1,2,20130424,0022, -7.8990, -34.3310,  874,    863.9,   4.2564,  34.3983,2,    194.4,2,   -999.0,9,  -999.00,9,  -999.00,9,  -999.00,9,   -999.0,9,-999.0000,9,  -999.00
  29HE20130320,   A17,    63,  1,      2,2,20130424,0022, -7.8990, -34.3310,  874,    864.0,   4.2550,  34.3983,2,    194.6,2,    194.1,2,    33.16,2,    32.14,2,     2.15,2,   -999.0,9,   7.6090,2,    25.00
  29HE20130320,   A17,    63,  1,      3,2,20130424,0022, -7.8990, -34.3310,  874,    798.6,   4.4226,  34.3847,2,    197.1,2,   -999.0,9,  -999.00,9,  -999.00,9,  -999.00,9,   -999.0,9,-999.0000,9,  -999.00
  29HE20130320,   A17,    63,  1,      4,2,20130424,0022, -7.8990, -34.3310,  874,    799.5,   4.4271,  34.3842,2,    197.0,2,    196.6,2,    31.77,2,    31.86,2,     2.13,2,   -999.0,9,   7.6141,2,    25.00
  29HE20130320,   A17,    63,  1,      5,2,20130424,0022, -7.8990, -34.3310,  874,    700.8,   4.4774,  34.3824,2,    197.7,2,   -999.0,9,  -999.00,9,  -999.00,9,  -999.00,9,   -999.0,9,-999.0000,9,  -999.00
  29HE20130320,   A17,    63,  1,      6,2,20130424,0022, -7.8990, -34.3310,  874,    700.5,   4.4773,  34.3824,2,    197.7,2,    197.2,2,    31.10,2,    31.53,2,     2.07,2,   -999.0,9,   7.6157,2,    25.00
  29HE20130320,   A17,    63,  1,      7,2,20130424,0022, -7.8990, -34.3310,  874,    604.6,   5.1307,  34.3902,2,    198.0,2,   -999.0,9,  -999.00,9,  -999.00,9,  -999.00,9,   -999.0,9,-999.0000,9,  -999.00
  29HE20130320,   A17,    63,  1,      8,2,20130424,0022, -7.8990, -34.3310,  874,    605.3,   5.1362,  34.3899,2,    198.6,2,    198.1,2,    25.77,2,    30.45,2,     2.00,2,   -999.0,9,   7.6275,2,    25.00
  29HE20130320,   A17,    63,  1,      9,2,20130424,0022, -7.8990, -34.3310,  874,    504.4,   6.8467,  34.5070,2,    191.3,2,   -999.0,9,  -999.00,9,  -999.00,9,  -999.00,9,   -999.0,9,-999.0000,9,  -999.00
  29HE20130320,   A17,    63,  1,     10,2,20130424,0022, -7.8990, -34.3310,  874,    504.5,   6.8619,  34.5087,2,    191.0,2,    190.6,2,    17.87,2,    27.30,2,     1.76,2,   -999.0,9,   7.6531,2,    25.00
  29HE20130320,   A17,    63,  1,     11,2,20130424,0022, -7.8990, -34.3310,  874,    402.7,   9.0325,  34.7131,2,    183.7,2,   -999.0,9,  -999.00,9,  -999.00,9,  -999.00,9,   -999.0,9,-999.0000,9,  -999.00
  29HE20130320,   A17,    63,  1,     12,2,20130424,0022, -7.8990, -34.3310,  874,    402.9,   9.0314,  34.7132,2,    183.7,2,    183.7,2,    11.55,2,    22.67,2,     1.44,2,   -999.0,9,   7.6957,2,    25.00
  29HE20130320,   A17,    63,  1,     13,2,20130424,0022, -7.8990, -34.3310,  874,    300.5,  12.8639,  35.1788,2,    196.9,2,   -999.0,9,  -999.00,9,  -999.00,9,  -999.00,9,   -999.0,9,-999.0000,9,  -999.00
  29HE20130320,   A17,    63,  1,     14,2,20130424,0022, -7.8990, -34.3310,  874,    300.5,  12.8537,  35.1759,2,    197.4,2,    197.2,2,     4.83,2,    12.56,2,     0.82,2,   -999.0,9,   7.8142,2,    25.00
  29HE20130320,   A17,    63,  1,     15,2,20130424,0022, -7.8990, -34.3310,  874,    202.2,  17.3264,  35.8953,2,    191.2,2,   -999.0,9,  -999.00,9,  -999.00,9,  -999.00,9,   -999.0,9,-999.0000,9,  -999.00
  29HE20130320,   A17,    63,  1,     16,2,20130424,0022, -7.8990, -34.3310,  874,    201.9,  17.3909,  35.9061,2,    191.7,2,    191.6,2,     2.27,2,     5.26,2,     0.31,2,   -999.0,9,   7.9064,2,    25.00
  29HE20130320,   A17,    63,  1,     17,2,20130424,0022, -7.8990, -34.3310,  874,    152.8,  22.8239,  37.0195,2,    196.3,2,   -999.0,9,  -999.00,9,  -999.00,9,  -999.00,9,   -999.0,9,-999.0000,9,  -999.00
  29HE20130320,   A17,    63,  1,     18,2,20130424,0022, -7.8990, -34.3310,  874,    152.0,  22.8388,  37.0239,2,    196.4,2,    196.1,2,     1.14,2,     1.20,2,     0.07,2,   -999.0,9,   8.0046,2,    25.00
  29HE20130320,   A17,    63,  1,     19,2,20130424,0022, -7.8990, -34.3310,  874,     99.0,  24.6891,  37.1911,2,    211.3,2,   -999.0,9,  -999.00,9,  -999.00,9,  -999.00,9,   -999.0,9,-999.0000,9,  -999.00
  29HE20130320,   A17,    63,  1,     20,2,20130424,0022, -7.8990, -34.3310,  874,     99.5,  24.6947,  37.1901,2,    211.3,2,    210.9,2,     0.98,2,     0.63,2,     0.03,2,   -999.0,9,   8.0515,2,    25.00
  29HE20130320,   A17,    63,  1,     21,2,20130424,0022, -7.8990, -34.3310,  874,     50.7,  26.9690,  37.2085,2,    216.6,2,   -999.0,9,  -999.00,9,  -999.00,9,  -999.00,9,   -999.0,9,-999.0000,9,  -999.00
  29HE20130320,   A17,    63,  1,     22,2,20130424,0022, -7.8990, -34.3310,  874,     50.6,  26.9646,  37.2083,2,    216.1,2,    215.8,2,     0.95,2,     0.65,2,     0.02,2,   -999.0,9,   8.0796,2,    25.00
  29HE20130320,   A17,    63,  1,     23,2,20130424,0022, -7.8990, -34.3310,  874,      6.9,  28.7285,  37.2456,2,    197.2,2,   -999.0,9,  -999.00,9,  -999.00,9,  -999.00,9,   -999.0,9,-999.0000,9,  -999.00
  29HE20130320,   A17,    63,  1,     24,2,20130424,0022, -7.8990, -34.3310,  874,      6.6,  28.7259,  37.2455,2,    197.4,2,    196.8,2,     1.09,2,     0.62,2,     0.03,2,   -999.0,9,   8.0917,2,    25.00
  29HE20130320,   A17,    64,  1,      1,2,20130424,1105, -7.7760, -33.3170, 3892,   4066.0,   1.5636,  34.8042,2,    237.6,2,    238.5,2,    77.40,2,    26.32,2,     1.71,2,   2347.3,2,   7.6852,2,    25.00
  29HE20130320,   A17,    64,  1,      2,2,20130424,1105, -7.7760, -33.3170, 3892,   3752.8,   2.0855,  34.8652,2,    250.4,2,    251.8,2,    49.90,2,    22.60,2,     1.45,2,   2336.6,2,   7.7189,2,    25.00
  29HE20130320,   A17,    64,  1,      3,2,20130424,1105, -7.7760, -33.3170, 3892,   3550.4,   2.3477,  34.8931,2,    256.0,2,    257.2,2,    37.83,2,    21.04,2,     1.33,2,   2329.4,2,   7.7311,2,    25.00
  29HE20130320,   A17,    64,  1,      4,2,20130424,1105, -7.7760, -33.3170, 3892,   3039.3,   2.7807,  34.9213,2,    251.7,2,    252.2,2,    31.38,2,    20.88,2,     1.34,2,   2325.5,2,   7.7328,2,    25.00
  29HE20130320,   A17,    64,  1,      5,2,20130424,1105, -7.7760, -33.3170, 3892,   2531.9,   3.1190,  34.9369,2,    249.5,2,    250.0,2,    28.86,2,    20.62,2,     1.33,2,   2321.0,2,   7.7336,2,    25.00
  29HE20130320,   A17,    64,  1,      6,2,20130424,1105, -7.7760, -33.3170, 3892,   2275.7,   3.4471,  34.9553,2,    251.4,2,    252.5,2,    22.86,2,    20.06,2,     1.29,2,   2313.9,2,   7.7351,2,    25.00
  29HE20130320,   A17,    64,  1,      7,2,20130424,1105, -7.7760, -33.3170, 3892,   2023.2,   3.6768,  34.9650,2,    248.7,2,    249.8,2,    20.48,2,    20.00,2,     1.28,2,   2314.2,2,   7.7312,2,    25.00
  29HE20130320,   A17,    64,  1,      8,2,20130424,1105, -7.7760, -33.3170, 3892,   1818.6,   3.9531,  34.9723,2,    244.6,2,    245.3,2,    18.53,2,    20.11,2,     1.29,2,   2313.8,2,   7.7266,2,    25.00
  29HE20130320,   A17,    64,  1,      9,2,20130424,1105, -7.7760, -33.3170, 3892,   1615.7,   4.1976,  34.9606,2,    231.6,2,    231.9,2,    19.46,2,    21.27,2,     1.36,2,   2312.4,2,   7.7135,2,    25.00
  29HE20130320,   A17,    64,  1,     10,2,20130424,1105, -7.7760, -33.3170, 3892,   1413.3,   4.4067,  34.9279,2,    214.2,2,    214.2,2,    21.35,2,    23.41,2,     1.52,2,   2314.6,2,   7.6873,2,    25.00
  29HE20130320,   A17,    64,  1,     11,2,20130424,1105, -7.7760, -33.3170, 3892,   1211.9,   4.4934,  34.8384,2,    188.3,2,    188.6,2,    25.54,2,    26.81,2,     1.77,2,   2314.1,2,   7.6500,2,    25.00
  29HE20130320,   A17,    64,  1,     12,2,20130424,1105, -7.7760, -33.3170, 3892,   1008.1,   4.0250,  34.6214,2,    176.3,2,    176.9,2,    34.69,2,    30.57,2,     2.08,2,   2311.8,2,   7.6064,2,    25.00
  29HE20130320,   A17,    64,  1,     13,2,20130424,1105, -7.7760, -33.3170, 3892,    806.1,   4.2969,  34.4823,2,    161.5,2,    161.2,2,    34.40,2,    32.77,2,     2.24,2,   2305.3,2,   7.5741,2,    25.00
  29HE20130320,   A17,    64,  1,     14,2,20130424,1105, -7.7760, -33.3170, 3892,    705.4,   4.8803,  34.4559,2,    156.1,2,    156.7,2,    30.83,2,    32.77,2,     2.21,2,   2298.0,2,   7.5707,2,    25.00
  29HE20130320,   A17,    64,  1,     15,2,20130424,1105, -7.7760, -33.3170, 3892,    604.1,   5.6262,  34.4901,2,    141.8,2,    141.4,2,    26.35,2,    33.09,2,     2.21,2,   2294.4,2,   7.5574,2,    25.00
  29HE20130320,   A17,    64,  1,     16,2,20130424,1105, -7.7760, -33.3170, 3892,    503.2,   6.2932,  34.5444,2,    124.7,2,    125.5,2,    23.81,2,    33.18,2,     2.17,2,   2293.9,2,   7.5464,2,    25.00
  29HE20130320,   A17,    64,  1,     17,2,20130424,1105, -7.7760, -33.3170, 3892,    403.3,   7.4055,  34.6374,2,    108.1,2,    108.1,2,    20.04,2,    32.88,2,     2.06,2,   2294.8,2,   7.5438,2,    25.00
  29HE20130320,   A17,    64,  1,     18,2,20130424,1105, -7.7760, -33.3170, 3892,    302.6,   9.3575,  34.8253,2,    113.9,2,    113.9,2,    13.78,2,    27.45,2,     1.65,2,   2300.4,2,   7.6113,2,    25.00
  29HE20130320,   A17,    64,  1,     19,2,20130424,1105, -7.7760, -33.3170, 3892,    202.2,  15.7957,  35.6788,2,    152.8,2,   -999.0,9,  -999.00,9,  -999.00,9,  -999.00,9,   -999.0,9,-999.0000,9,  -999.00
  29HE20130320,   A17,    64,  1,     20,2,20130424,1105, -7.7760, -33.3170, 3892,    202.0,  15.7864,  35.6802,2,    153.0,2,    152.8,2,     4.70,2,    13.02,2,     0.68,2,   2342.5,2,   7.8188,2,    25.00
  29HE20130320,   A17,    64,  1,     21,2,20130424,1105, -7.7760, -33.3170, 3892,    101.3,  24.9947,  37.0349,2,    211.4,2,    210.7,2,     1.44,2,     0.57,2,    -0.02,2,   2428.4,2,   8.0594,2,    25.00
  29HE20130320,   A17,    64,  1,     22,2,20130424,1105, -7.7760, -33.3170, 3892,     50.3,  28.9009,  36.6352,2,    198.2,2,    196.8,2,     1.52,2,     0.77,2,     0.00,2,   2401.5,2,   8.0859,2,    25.00
  29HE20130320,   A17,    64,  1,     23,2,20130424,1105, -7.7760, -33.3170, 3892,      7.1,  28.9947,  36.6364,2,    197.8,2,   -999.0,9,  -999.00,9,  -999.00,9,  -999.00,9,   -999.0,9,-999.0000,9,  -999.00
  29HE20130320,   A17,    64,  1,     24,2,20130424,1105, -7.7760, -33.3170, 3892,      7.7,  29.0003,  36.6362,2,    198.5,2,    196.6,2,     1.40,2,     0.17,2,     0.00,2,   2400.0,2,   8.0859,2,    25.00