BOTTLE,20230216CCHSIOENA
EXPOCODE,SECT_ID,STNNBR,CASTNO,BTLNBR,BTLNBR_FLAG_W,DATE,TIME,LATITUDE,LONGITUDE,DEPTH,CTDPRS,CTDTMP,CTDSAL,CTDSAL_FLAG_W,CTDOXY,CTDOXY_FLAG_W,OXYGEN,OXYGEN_FLAG_W,SILCAT,SILCAT_FLAG_W,NITRAT,NITRAT_FLAG_W,PHSPHT,PHSPHT_FLAG_W,ALKALI,ALKALI_FLAG_W,PH_TOT,PH_TOT_FLAG_W,PH_TMP
,,,,,,,,,,METERS,DBAR,ITS-90,PSS-78,,UMOL/KG,,UMOL/KG,,UMOL/KG,,UMOL/KG,,UMOL/KG,,UMOL/KG,,,,DEG C
  29HE20130320,   A17,    16,  1,      1,2,20130329,0807,-41.7290, -49.0910, 5666,   5783.5,   0.3517,  34.6700,2,    222.4,2,    222.0,2,   132.05,2,    32.61,2,     2.32,2,   -999.0,9,   7.6030,2,    25.00
  29HE20130320,   A17,    16,  1,      2,2,20130329,0807,-41.7290, -49.0910, 5666,   5095.5,   0.4633,  34.6787,2,    219.6,2,    220.1,2,   130.11,2,    32.54,2,     2.27,2,   -999.0,9,   7.5992,2,    25.00
  29HE20130320,   A17,    16,  1,      3,2,20130329,0807,-41.7290, -49.0910, 5666,   4587.0,   0.6462,  34.6890,2,    215.8,2,    215.5,2,   128.42,2,    32.32,2,     2.26,2,   -999.0,9,   7.6029,2,    25.00
  29HE20130320,   A17,    16,  1,      4,2,20130329,0807,-41.7290, -49.0910, 5666,   4076.1,   0.9494,  34.7043,2,    208.8,2,    208.1,2,   124.72,2,    32.28,2,     2.23,2,   -999.0,9,   7.6055,2,    25.00
  29HE20130320,   A17,    16,  1,      5,2,20130329,0807,-41.7290, -49.0910, 5666,   3559.4,   1.3306,  34.7246,2,    202.3,2,    203.0,2,   115.61,2,    31.91,2,     2.16,2,   -999.0,9,   7.5925,2,    25.00
  29HE20130320,   A17,    16,  1,      6,2,20130329,0807,-41.7290, -49.0910, 5666,   3044.7,   1.8846,  34.7570,2,    200.2,2,    199.2,2,    87.15,2,    30.38,2,     2.04,2,   -999.0,9,   7.6469,2,    25.00
  29HE20130320,   A17,    16,  1,      7,2,20130329,0807,-41.7290, -49.0910, 5666,   2533.9,   2.4972,  34.8007,2,    207.2,2,    208.7,2,    63.70,2,    27.87,2,     1.84,2,   -999.0,9,   7.6464,2,    25.00
  29HE20130320,   A17,    16,  1,      8,2,20130329,0807,-41.7290, -49.0910, 5666,   2280.5,   2.6940,  34.7885,2,    202.8,2,    203.7,2,    60.16,2,    28.57,2,     1.88,2,   -999.0,9,   7.6385,2,    25.00
  29HE20130320,   A17,    16,  1,      9,2,20130329,0807,-41.7290, -49.0910, 5666,   2025.4,   2.8445,  34.7505,2,    194.0,2,    194.8,2,    59.09,2,    30.46,2,     2.00,2,   -999.0,9,   7.6238,2,    25.00
  29HE20130320,   A17,    16,  1,     10,2,20130329,0807,-41.7290, -49.0910, 5666,   1823.4,   2.9577,  34.7060,2,    187.8,2,   -999.0,9,  -999.00,9,  -999.00,9,  -999.00,9,   -999.0,9,-999.0000,9,  -999.00
  29HE20130320,   A17,    16,  1,     11,2,20130329,0807,-41.7290, -49.0910, 5666,   1619.3,   2.8975,  34.6388,2,    181.4,2,    182.5,2,    59.75,2,    32.05,2,     2.21,2,   -999.0,9,   7.5895,2,    25.00
  29HE20130320,   A17,    16,  1,     12,2,20130329,0807,-41.7290, -49.0910, 5666,   1414.6,   2.7910,  34.5080,2,    177.0,2,    177.8,2,    61.88,2,    34.65,2,     2.35,2,   -999.0,9,   7.5683,2,    25.00
  29HE20130320,   A17,    16,  1,     13,2,20130329,0807,-41.7290, -49.0910, 5666,   1209.9,   2.9410,  34.3860,2,    191.8,2,    192.3,2,    51.02,2,    34.91,2,     2.34,2,   -999.0,9,   7.5734,2,    25.00
  29HE20130320,   A17,    16,  1,     14,2,20130329,0807,-41.7290, -49.0910, 5666,   1011.0,   3.0954,  34.2662,2,    219.4,2,    220.3,2,    36.42,2,    33.38,2,     2.17,2,   -999.0,9,   7.6004,2,    25.00
  29HE20130320,   A17,    16,  1,     15,2,20130329,0807,-41.7290, -49.0910, 5666,    810.8,   3.6693,  34.1850,2,    247.6,2,    248.3,2,    23.03,2,    30.35,2,     1.98,2,   -999.0,9,   7.6412,2,    25.00
  29HE20130320,   A17,    16,  1,     16,2,20130329,0807,-41.7290, -49.0910, 5666,    709.2,   3.9983,  34.1556,2,    261.9,2,    262.1,2,    17.23,2,    28.68,2,     1.82,2,   -999.0,9,   7.6602,2,    25.00
  29HE20130320,   A17,    16,  1,     17,2,20130329,0807,-41.7290, -49.0910, 5666,    608.2,   4.2486,  34.1409,2,    271.4,2,    271.1,2,    13.84,2,    27.28,2,     1.71,2,   -999.0,9,   7.6885,2,    25.00
  29HE20130320,   A17,    16,  1,     18,2,20130329,0807,-41.7290, -49.0910, 5666,    507.3,   4.9284,  34.1864,2,    263.2,2,   -999.0,9,  -999.00,9,  -999.00,9,  -999.00,9,   -999.0,9,-999.0000,9,  -999.00
  29HE20130320,   A17,    16,  1,     19,2,20130329,0807,-41.7290, -49.0910, 5666,    405.7,   6.3105,  34.3262,2,    238.8,2,   -999.0,9,  -999.00,9,  -999.00,9,  -999.00,9,   -999.0,9,-999.0000,9,  -999.00
  29HE20130320,   A17,    16,  1,     20,2,20130329,0807,-41.7290, -49.0910, 5666,    303.2,   8.7508,  34.5929,2,    221.3,2,    221.4,2,     6.98,2,    20.28,2,     1.23,2,   -999.0,9,   7.7345,2,    25.00
  29HE20130320,   A17,    16,  1,     21,2,20130329,0807,-41.7290, -49.0910, 5666,    203.8,  10.5876,  34.7634,2,    226.1,2,    224.2,2,     4.41,2,    16.51,2,     0.95,2,   -999.0,9,   7.7548,2,    25.00
  29HE20130320,   A17,    16,  1,     22,2,20130329,0807,-41.7290, -49.0910, 5666,    101.6,  14.2437,  35.0685,2,    193.7,2,    194.6,2,     3.27,2,    10.94,2,     0.70,2,   -999.0,9,   7.8235,2,    25.00
  29HE20130320,   A17,    16,  1,     23,2,20130329,0807,-41.7290, -49.0910, 5666,     22.5,  20.1008,  35.3343,2,    229.2,2,    230.6,2,     0.43,2,     0.14,2,     0.01,2,   -999.0,9,   8.0293,2,    25.00
  29HE20130320,   A17,    16,  1,     24,2,20130329,0807,-41.7290, -49.0910, 5666,      6.5,  18.9567,  34.8672,2,    238.3,2,    239.8,2,     0.26,2,     0.42,2,     0.00,2,   -999.0,9,   8.0052,2,    25.00
  29HE20130320,   A17,    17,  1,      1,2,20130329,1645,-41.1040, -48.6600, 5525,   5637.7,   0.3349,  34.6702,2,    222.3,2,    222.3,2,   128.65,2,    32.78,2,     2.31,2,   2358.9,2,   7.6024,2,    25.00
  29HE20130320,   A17,    17,  1,      2,2,20130329,1645,-41.1040, -48.6600, 5525,   5096.0,   0.3198,  34.6726,2,    222.6,2,    222.4,2,   128.47,2,    32.67,2,     2.30,2,   2360.6,2,   7.6044,2,    25.00
  29HE20130320,   A17,    17,  1,      3,2,20130329,1645,-41.1040, -48.6600, 5525,   4582.3,   0.4325,  34.6797,2,    219.4,2,    219.7,2,   126.70,2,    32.51,2,     2.27,2,   2359.3,2,   7.6084,2,    25.00
  29HE20130320,   A17,    17,  1,      4,2,20130329,1645,-41.1040, -48.6600, 5525,   4067.6,   0.8271,  34.7000,2,    211.6,2,    214.7,2,   118.66,2,    31.92,2,     2.22,2,   2360.2,2,   7.6062,2,    25.00
  29HE20130320,   A17,    17,  1,      5,2,20130329,1645,-41.1040, -48.6600, 5525,   3557.1,   1.3473,  34.7267,2,    203.0,2,    204.3,2,   109.38,2,    30.96,2,     2.19,2,   2354.8,2,   7.6104,2,    25.00
  29HE20130320,   A17,    17,  1,      6,2,20130329,1645,-41.1040, -48.6600, 5525,   3045.7,   1.9798,  34.7664,2,    202.6,2,    203.2,2,    87.91,2,    29.19,2,     2.04,2,   2348.1,2,   7.6286,2,    25.00
  29HE20130320,   A17,    17,  1,      7,2,20130329,1645,-41.1040, -48.6600, 5525,   2535.4,   2.6468,  34.8081,2,    209.1,2,    209.3,2,    63.95,2,    27.07,2,     1.85,2,   2336.8,2,   7.6529,2,    25.00
  29HE20130320,   A17,    17,  1,      8,2,20130329,1645,-41.1040, -48.6600, 5525,   2280.8,   2.8749,  34.7961,2,    204.6,2,    205.4,2,    58.67,2,    27.17,2,     1.87,2,   2335.6,2,   7.6444,2,    25.00
  29HE20130320,   A17,    17,  1,      9,2,20130329,1645,-41.1040, -48.6600, 5525,   2025.1,   2.8949,  34.7248,2,    190.4,2,    191.8,2,    63.12,2,    29.87,2,     2.04,2,   2332.7,2,   7.6143,2,    25.00
  29HE20130320,   A17,    17,  1,     10,2,20130329,1645,-41.1040, -48.6600, 5525,   1823.5,   2.9484,  34.6640,2,    184.5,2,    185.4,2,    62.06,2,    31.02,2,     2.15,2,   2329.7,2,   7.6071,2,    25.00
  29HE20130320,   A17,    17,  1,     11,2,20130329,1645,-41.1040, -48.6600, 5525,   1618.6,   2.8642,  34.5403,2,    178.5,2,   -999.0,9,  -999.00,9,  -999.00,9,  -999.00,9,   -999.0,9,-999.0000,9,  -999.00
  29HE20130320,   A17,    17,  1,     12,2,20130329,1645,-41.1040, -48.6600, 5525,   1415.5,   2.9772,  34.4377,2,    186.9,2,    188.3,2,    56.31,2,    33.29,2,     2.32,2,   2316.6,2,   7.5755,2,    25.00
  29HE20130320,   A17,    17,  1,     13,2,20130329,1645,-41.1040, -48.6600, 5525,   1211.1,   3.1612,  34.3189,2,    207.9,2,    208.4,2,    42.96,2,    32.50,2,     2.22,2,   2302.2,2,   7.5939,2,    25.00
  29HE20130320,   A17,    17,  1,     14,2,20130329,1645,-41.1040, -48.6600, 5525,   1012.2,   3.6813,  34.2324,2,    234.0,2,    234.7,2,    28.32,2,    29.75,2,     2.03,2,   2289.5,2,   7.6313,2,    25.00
  29HE20130320,   A17,    17,  1,     15,2,20130329,1645,-41.1040, -48.6600, 5525,    810.4,   4.5420,  34.2083,2,    251.4,2,    251.9,2,  -999.00,9,  -999.00,9,  -999.00,9,   -999.0,9,-999.0000,9,  -999.00
  29HE20130320,   A17,    17,  1,     16,2,20130329,1645,-41.1040, -48.6600, 5525,    704.8,   4.9554,  34.1934,2,    263.0,2,    263.0,2,    12.28,2,    25.15,2,     1.69,2,   2279.3,2,   7.7012,2,    25.00
  29HE20130320,   A17,    17,  1,     17,2,20130329,1645,-41.1040, -48.6600, 5525,    603.2,   6.2285,  34.2933,2,    246.4,2,    246.9,2,     9.79,2,    23.59,2,     1.56,2,   2278.5,2,   7.7039,2,    25.00
  29HE20130320,   A17,    17,  1,     18,2,20130329,1645,-41.1040, -48.6600, 5525,    499.7,   9.0343,  34.6107,2,    225.8,2,    227.4,2,     6.37,2,    18.08,2,     1.16,2,   2294.7,2,   7.7412,2,    25.00
  29HE20130320,   A17,    17,  1,     19,2,20130329,1645,-41.1040, -48.6600, 5525,    409.5,  12.0206,  35.0823,2,    210.1,2,    210.5,2,     4.40,2,    12.30,2,     0.76,2,   2314.9,2,   7.8090,2,    25.00
  29HE20130320,   A17,    17,  1,     20,2,20130329,1645,-41.1040, -48.6600, 5525,    306.3,  14.3819,  35.4717,2,    212.0,2,    212.2,2,     2.67,2,     7.24,2,     0.49,2,   2333.2,2,   7.8736,2,    25.00
  29HE20130320,   A17,    17,  1,     21,2,20130329,1645,-41.1040, -48.6600, 5525,    199.3,  15.7468,  35.6447,2,    205.4,2,    206.6,2,     2.22,2,     5.08,2,     0.24,2,   2341.4,2,   7.8984,2,    25.00
  29HE20130320,   A17,    17,  1,     22,2,20130329,1645,-41.1040, -48.6600, 5525,    101.5,  20.2035,  36.2678,2,    220.7,2,    221.8,2,     0.59,2,     0.10,2,     0.01,2,   2383.5,2,   8.0232,2,    25.00
  29HE20130320,   A17,    17,  1,     23,2,20130329,1645,-41.1040, -48.6600, 5525,     52.5,  20.3853,  36.3049,2,    219.3,2,    220.6,2,     0.77,2,     0.00,2,     0.02,2,   2387.2,2,   8.0255,2,    25.00
  29HE20130320,   A17,    17,  1,     24,2,20130329,1645,-41.1040, -48.6600, 5525,      5.5,  19.7965,  35.5966,2,    233.2,2,    233.2,2,     0.30,2,     0.01,2,     0.02,2,   2353.2,2,   8.0278,2,    25.00
  29HE20130320,   A17,    18,  1,      1,2,20130330,0752,-40.4850, -48.0970, 5309,   5414.1,   0.3126,  34.6700,2,    222.9,2,    222.8,2,   128.84,2,    33.08,2,     2.30,2,   -999.0,9,-999.0000,9,  -999.00
  29HE20130320,   A17,    18,  1,      2,2,20130330,0752,-40.4850, -48.0970, 5309,   5097.0,   0.3041,  34.6715,2,    223.1,2,    223.2,2,   128.77,2,    32.89,2,     2.32,2,   -999.0,9,-999.0000,9,  -999.00
  29HE20130320,   A17,    18,  1,      3,2,20130330,0752,-40.4850, -48.0970, 5309,   5096.6,   0.3041,  34.6715,2,    223.2,2,   -999.0,9,  -999.00,9,  -999.00,9,  -999.00,9,   -999.0,9,-999.0000,9,  -999.00
  29HE20130320,   A17,    18,  1,      4,2,20130330,0752,-40.4850, -48.0970, 5309,   4583.4,   0.3398,  34.6756,2,    221.2,2,    220.9,2,   128.12,2,    32.78,2,     2.32,2,   -999.0,9,-999.0000,9,  -999.00
  29HE20130320,   A17,    18,  1,      5,2,20130330,0752,-40.4850, -48.0970, 5309,   4067.0,   0.6293,  34.6905,2,    215.1,2,    214.9,2,   123.33,2,    32.47,2,     2.25,2,   -999.0,9,-999.0000,9,  -999.00
  29HE20130320,   A17,    18,  1,      6,2,20130330,0752,-40.4850, -48.0970, 5309,   3558.6,   1.2038,  34.7233,2,    206.8,2,    207.0,2,   111.05,2,    31.38,2,     2.15,2,   -999.0,9,-999.0000,9,  -999.00
  29HE20130320,   A17,    18,  1,      7,2,20130330,0752,-40.4850, -48.0970, 5309,   3048.0,   1.8462,  34.7642,2,    204.7,2,    204.9,2,    90.75,2,    29.28,2,     1.98,2,   -999.0,9,-999.0000,9,  -999.00
  29HE20130320,   A17,    18,  1,      8,2,20130330,0752,-40.4850, -48.0970, 5309,   3048.0,   1.8430,  34.7634,2,    204.6,2,   -999.0,9,  -999.00,9,  -999.00,9,  -999.00,9,   -999.0,9,-999.0000,9,  -999.00
  29HE20130320,   A17,    18,  1,      9,2,20130330,0752,-40.4850, -48.0970, 5309,   3048.2,   1.8437,  34.7638,2,    204.6,2,   -999.0,9,  -999.00,9,  -999.00,9,  -999.00,9,   -999.0,9,-999.0000,9,  -999.00
  29HE20130320,   A17,    18,  1,     10,2,20130330,0752,-40.4850, -48.0970, 5309,   3048.9,   1.8371,  34.7625,2,    204.3,2,   -999.0,9,  -999.00,9,  -999.00,9,  -999.00,9,   -999.0,9,-999.0000,9,  -999.00
  29HE20130320,   A17,    18,  1,     11,2,20130330,0752,-40.4850, -48.0970, 5309,   3048.4,   1.8448,  34.7639,2,    204.5,2,   -999.0,9,  -999.00,9,  -999.00,9,  -999.00,9,   -999.0,9,-999.0000,9,  -999.00
  29HE20130320,   A17,    18,  1,     12,2,20130330,0752,-40.4850, -48.0970, 5309,   3048.3,   1.8440,  34.7637,2,    204.5,2,   -999.0,9,  -999.00,9,  -999.00,9,  -999.00,9,   -999.0,9,-999.0000,9,  -999.00
  29HE20130320,   A17,    18,  1,     13,2,20130330,0752,-40.4850, -48.0970, 5309,   3049.8,   1.8363,  34.7625,2,    204.5,2,   -999.0,9,  -999.00,9,  -999.00,9,  -999.00,9,   -999.0,9,-999.0000,9,  -999.00
  29HE20130320,   A17,    18,  1,     14,2,20130330,0752,-40.4850, -48.0970, 5309,   3049.2,   1.8422,  34.7635,2,    204.7,2,   -999.0,9,  -999.00,9,  -999.00,9,  -999.00,9,   -999.0,9,-999.0000,9,  -999.00
  29HE20130320,   A17,    18,  1,     15,2,20130330,0752,-40.4850, -48.0970, 5309,   3049.2,   1.8411,  34.7632,2,    204.3,2,   -999.0,9,  -999.00,9,  -999.00,9,  -999.00,9,   -999.0,9,-999.0000,9,  -999.00
  29HE20130320,   A17,    18,  1,     16,2,20130330,0752,-40.4850, -48.0970, 5309,   3049.7,   1.8378,  34.7626,2,    204.2,2,   -999.0,9,  -999.00,9,  -999.00,9,  -999.00,9,   -999.0,9,-999.0000,9,  -999.00
  29HE20130320,   A17,    18,  1,     17,2,20130330,0752,-40.4850, -48.0970, 5309,   3050.2,   1.8358,  34.7623,2,    204.2,2,   -999.0,9,  -999.00,9,  -999.00,9,  -999.00,9,   -999.0,9,-999.0000,9,  -999.00
  29HE20130320,   A17,    18,  1,     18,2,20130330,0752,-40.4850, -48.0970, 5309,   3050.9,   1.8352,  34.7621,2,    204.1,2,   -999.0,9,  -999.00,9,  -999.00,9,  -999.00,9,   -999.0,9,-999.0000,9,  -999.00
  29HE20130320,   A17,    18,  1,     19,2,20130330,0752,-40.4850, -48.0970, 5309,   3049.6,   1.8394,  34.7628,2,    204.5,2,   -999.0,9,  -999.00,9,  -999.00,9,  -999.00,9,   -999.0,9,-999.0000,9,  -999.00
  29HE20130320,   A17,    18,  1,     20,2,20130330,0752,-40.4850, -48.0970, 5309,   3051.0,   1.8352,  34.7623,2,    204.1,2,   -999.0,9,  -999.00,9,  -999.00,9,  -999.00,9,   -999.0,9,-999.0000,9,  -999.00
  29HE20130320,   A17,    18,  1,     21,2,20130330,0752,-40.4850, -48.0970, 5309,   3050.9,   1.8363,  34.7623,2,    204.0,2,   -999.0,9,  -999.00,9,  -999.00,9,  -999.00,9,   -999.0,9,-999.0000,9,  -999.00
  29HE20130320,   A17,    18,  1,     22,2,20130330,0752,-40.4850, -48.0970, 5309,   3051.1,   1.8370,  34.7624,2,    204.2,2,   -999.0,9,  -999.00,9,  -999.00,9,  -999.00,9,   -999.0,9,-999.0000,9,  -999.00
  29HE20130320,   A17,    18,  1,     23,2,20130330,0752,-40.4850, -48.0970, 5309,   3051.7,   1.8356,  34.7624,2,    204.1,2,   -999.0,9,  -999.00,9,  -999.00,9,  -999.00,9,   -999.0,9,-999.0000,9,  -999.00
  29HE20130320,   A17,    18,  1,     24,2,20130330,0752,-40.4850, -48.0970, 5309,   3051.5,   1.8357,  34.7623,2,    204.3,2,   -999.0,9,  -999.00,9,  -999.00,9,  -999.00,9,   -999.0,9,-999.0000,9,  -999.00