BOTTLE,20230216CCHSIOENA
EXPOCODE,SECT_ID,STNNBR,CASTNO,BTLNBR,BTLNBR_FLAG_W,DATE,TIME,LATITUDE,LONGITUDE,DEPTH,CTDPRS,CTDTMP,CTDSAL,CTDSAL_FLAG_W,CTDOXY,CTDOXY_FLAG_W,OXYGEN,OXYGEN_FLAG_W,SILCAT,SILCAT_FLAG_W,NITRAT,NITRAT_FLAG_W,PHSPHT,PHSPHT_FLAG_W,ALKALI,ALKALI_FLAG_W,PH_TOT,PH_TOT_FLAG_W,PH_TMP
,,,,,,,,,,METERS,DBAR,ITS-90,PSS-78,,UMOL/KG,,UMOL/KG,,UMOL/KG,,UMOL/KG,,UMOL/KG,,UMOL/KG,,,,DEG C
  29HE20130320,   A17,    69,  1,      1,2,20130427,0520, -4.1980, -30.0680, 4773,   4840.0,   0.7372,  34.7113,2,    220.6,2,    221.8,2,  -999.00,9,  -999.00,9,  -999.00,9,   -999.0,9,-999.0000,9,  -999.00
  29HE20130320,   A17,    69,  1,      2,2,20130427,0520, -4.1980, -30.0680, 4773,   4839.9,   0.7372,  34.7113,2,    220.4,2,    222.6,2,   115.37,2,    31.03,2,     2.10,2,   -999.0,9,   7.6352,2,    25.00
  29HE20130320,   A17,    69,  1,      3,2,20130427,0520, -4.1980, -30.0680, 4773,   4572.6,   0.9838,  34.7407,2,    225.4,2,    227.6,2,   104.67,2,    29.33,2,     1.97,2,   -999.0,9,   7.6471,2,    25.00
  29HE20130320,   A17,    69,  1,      4,2,20130427,0520, -4.1980, -30.0680, 4773,   4060.4,   1.7551,  34.8297,2,    243.5,2,    245.4,2,    65.38,2,    24.36,2,     1.60,2,   -999.0,9,   7.6979,2,    25.00
  29HE20130320,   A17,    69,  1,      5,2,20130427,0520, -4.1980, -30.0680, 4773,   3550.2,   2.5213,  34.9084,2,    256.7,2,    256.7,2,    32.12,2,    20.04,2,     1.31,2,   -999.0,9,   7.7342,2,    25.00
  29HE20130320,   A17,    69,  1,      6,2,20130427,0520, -4.1980, -30.0680, 4773,   3036.5,   2.7051,  34.9162,2,    249.0,2,    249.4,2,    33.53,2,    21.20,2,     1.37,2,   -999.0,9,   7.7299,2,    25.00
  29HE20130320,   A17,    69,  1,      7,2,20130427,0520, -4.1980, -30.0680, 4773,   2528.1,   2.9453,  34.9265,2,    244.1,2,    244.6,2,    32.20,2,    21.41,2,     1.38,2,   -999.0,9,   7.7277,2,    25.00
  29HE20130320,   A17,    69,  1,      8,2,20130427,0520, -4.1980, -30.0680, 4773,   2019.6,   3.5007,  34.9601,2,    248.6,2,    249.0,2,    22.44,2,    20.08,2,     1.30,2,   -999.0,9,   7.7329,2,    25.00
  29HE20130320,   A17,    69,  1,      9,2,20130427,0520, -4.1980, -30.0680, 4773,   1818.6,   3.7510,  34.9669,2,    244.8,2,    244.8,2,    20.61,2,    20.39,2,     1.31,2,   -999.0,9,   7.7284,2,    25.00
  29HE20130320,   A17,    69,  1,     10,2,20130427,0520, -4.1980, -30.0680, 4773,   1615.6,   4.0080,  34.9675,2,    237.5,2,    237.3,2,    19.61,2,    20.90,2,     1.36,2,   -999.0,9,   7.7188,2,    25.00
  29HE20130320,   A17,    69,  1,     11,2,20130427,0520, -4.1980, -30.0680, 4773,   1413.2,   4.2933,  34.9203,2,    212.8,2,    212.5,2,    22.54,2,    24.01,2,     1.56,2,   -999.0,9,   7.6858,2,    25.00
  29HE20130320,   A17,    69,  1,     12,2,20130427,0520, -4.1980, -30.0680, 4773,   1209.5,   4.4488,  34.7986,2,    182.3,2,    181.4,2,    27.94,2,    28.29,2,     1.87,2,   -999.0,9,   7.6325,2,    25.00
  29HE20130320,   A17,    69,  1,     13,2,20130427,0520, -4.1980, -30.0680, 4773,   1007.5,   4.2466,  34.5459,2,    166.5,2,    166.0,2,    34.56,2,    32.58,2,     2.19,2,   -999.0,9,   7.5825,2,    25.00
  29HE20130320,   A17,    69,  1,     14,2,20130427,0520, -4.1980, -30.0680, 4773,    806.2,   4.8060,  34.4763,2,    151.9,2,    151.2,2,    30.82,2,    33.71,2,     2.29,2,   -999.0,9,   7.5583,2,    25.00
  29HE20130320,   A17,    69,  1,     15,2,20130427,0520, -4.1980, -30.0680, 4773,    704.9,   5.2860,  34.4763,2,    149.8,2,    149.0,2,    28.61,2,    33.48,2,     2.23,2,   -999.0,9,   7.5612,2,    25.00
  29HE20130320,   A17,    69,  1,     16,2,20130427,0520, -4.1980, -30.0680, 4773,    602.4,   6.0283,  34.5208,2,    137.5,2,    135.2,2,    24.78,2,    33.51,2,     2.18,2,   -999.0,9,   7.5519,2,    25.00
  29HE20130320,   A17,    69,  1,     17,2,20130427,0520, -4.1980, -30.0680, 4773,    501.5,   7.6604,  34.6694,2,     95.8,2,     95.6,2,    20.42,2,    35.15,2,     2.13,2,   -999.0,9,   7.5160,2,    25.00
  29HE20130320,   A17,    69,  1,     18,2,20130427,0520, -4.1980, -30.0680, 4773,    402.8,   9.5301,  34.8320,2,    127.8,2,    127.4,2,    13.76,2,    27.18,2,     1.69,2,   -999.0,9,   7.6212,2,    25.00
  29HE20130320,   A17,    69,  1,     19,2,20130427,0520, -4.1980, -30.0680, 4773,    302.4,  10.8622,  35.0006,2,    113.1,2,    113.1,2,    12.10,2,    26.21,2,     1.56,2,   -999.0,9,   7.6304,2,    25.00
  29HE20130320,   A17,    69,  1,     20,2,20130427,0520, -4.1980, -30.0680, 4773,    202.3,  12.5195,  35.2125,2,     96.2,2,     95.7,2,    10.22,2,    24.98,2,     1.39,2,   -999.0,9,   7.6402,2,    25.00
  29HE20130320,   A17,    69,  1,     21,2,20130427,0520, -4.1980, -30.0680, 4773,     81.2,  22.3131,  36.2782,2,    164.9,2,    162.2,2,     2.31,2,     3.18,2,     0.12,2,   -999.0,9,   7.9367,2,    25.00
  29HE20130320,   A17,    69,  1,     22,2,20130427,0520, -4.1980, -30.0680, 4773,     40.6,  28.5501,  36.0700,2,    202.4,2,    199.9,2,     0.88,2,     0.00,2,     0.00,2,   -999.0,9,   8.0754,2,    25.00
  29HE20130320,   A17,    69,  1,     23,2,20130427,0520, -4.1980, -30.0680, 4773,      6.0,  28.7867,  35.8416,2,    196.4,2,    194.2,2,  -999.00,9,  -999.00,9,  -999.00,9,   -999.0,9,-999.0000,9,  -999.00
  29HE20130320,   A17,    69,  1,     24,2,20130427,0520, -4.1980, -30.0680, 4773,      6.5,  28.7926,  35.8419,2,    204.0,2,   -999.0,9,     0.84,2,     0.01,2,    -0.01,2,   -999.0,9,   8.0790,2,    25.00
  29HE20130320,   A17,    70,  1,      1,2,20130427,1631, -3.1050, -29.9820, 4884,   4949.7,   0.6842,  34.7046,2,    218.8,2,   -999.0,9,   116.57,2,    31.21,2,     2.12,2,   -999.0,9,-999.0000,9,  -999.00
  29HE20130320,   A17,    70,  1,      2,2,20130427,1631, -3.1050, -29.9820, 4884,   4948.9,   0.6844,  34.7046,2,    219.2,2,    220.8,2,   117.68,2,    31.69,2,     2.12,2,   2372.5,2,   7.6319,2,    25.00
  29HE20130320,   A17,    70,  1,      3,2,20130427,1631, -3.1050, -29.9820, 4884,   4573.4,   0.9174,  34.7346,2,    223.6,2,    225.0,2,   105.56,2,    29.85,2,     1.98,2,   2366.1,2,   7.6493,2,    25.00
  29HE20130320,   A17,    70,  1,      4,2,20130427,1631, -3.1050, -29.9820, 4884,   4062.0,   1.7723,  34.8317,2,    243.6,2,   -999.0,9,    62.99,2,    24.37,2,     1.60,2,   -999.0,9,-999.0000,9,  -999.00
  29HE20130320,   A17,    70,  1,      5,2,20130427,1631, -3.1050, -29.9820, 4884,   3548.9,   2.5373,  34.9093,2,    255.7,2,    256.8,2,    31.65,2,    20.43,2,     1.31,2,   2329.8,2,   7.7342,2,    25.00
  29HE20130320,   A17,    70,  1,      6,2,20130427,1631, -3.1050, -29.9820, 4884,   3038.1,   2.6949,  34.9152,2,    247.0,2,   -999.0,9,    34.07,2,    21.32,2,     1.37,2,   -999.0,9,   7.7390,2,    25.00
  29HE20130320,   A17,    70,  1,      7,2,20130427,1631, -3.1050, -29.9820, 4884,   2530.7,   2.9530,  34.9324,2,    248.5,2,   -999.0,9,    30.64,2,    20.89,2,     1.33,2,   -999.0,9,-999.0000,9,  -999.00
  29HE20130320,   A17,    70,  1,      8,2,20130427,1631, -3.1050, -29.9820, 4884,   2530.0,   2.9517,  34.9322,2,    248.5,2,    249.7,2,    30.61,2,    20.92,2,     1.35,2,   2328.3,2,   7.7331,2,    25.00
  29HE20130320,   A17,    70,  1,      9,2,20130427,1631, -3.1050, -29.9820, 4884,   2021.4,   3.4741,  34.9612,2,    251.1,2,   -999.0,9,    21.70,2,    20.14,2,     1.28,2,   -999.0,9,   7.7340,2,    25.00
  29HE20130320,   A17,    70,  1,     10,2,20130427,1631, -3.1050, -29.9820, 4884,   2021.3,   3.4708,  34.9608,2,    250.9,2,    252.3,2,    21.59,2,    20.09,2,     1.28,2,   2318.1,2,   7.7370,2,    25.00
  29HE20130320,   A17,    70,  1,     11,2,20130427,1631, -3.1050, -29.9820, 4884,   1817.8,   3.6906,  34.9680,2,    247.6,2,    248.1,2,    19.93,2,    20.30,2,     1.30,2,   2316.6,2,   7.7339,2,    25.00
  29HE20130320,   A17,    70,  1,     12,2,20130427,1631, -3.1050, -29.9820, 4884,   1613.7,   4.0515,  34.9664,2,    234.5,2,   -999.0,9,    19.15,2,    21.24,2,     1.38,2,   -999.0,9,   7.7194,2,    25.00
  29HE20130320,   A17,    70,  1,     13,2,20130427,1631, -3.1050, -29.9820, 4884,   1411.4,   4.3866,  34.9122,2,    207.7,2,    208.1,2,    22.17,2,    24.61,2,     1.61,2,   2317.7,2,   7.6811,2,    25.00
  29HE20130320,   A17,    70,  1,     14,2,20130427,1631, -3.1050, -29.9820, 4884,   1210.4,   4.4759,  34.7743,2,    176.4,2,    175.7,2,    28.22,2,    29.06,2,     1.94,2,   2311.3,2,   7.6252,2,    25.00
  29HE20130320,   A17,    70,  1,     15,2,20130427,1631, -3.1050, -29.9820, 4884,   1007.5,   4.3358,  34.5950,2,    162.2,2,    161.7,2,    31.61,2,    32.28,2,     2.17,2,   -999.0,9,   7.5835,2,    25.00
  29HE20130320,   A17,    70,  1,     16,2,20130427,1631, -3.1050, -29.9820, 4884,    805.8,   4.5361,  34.4781,2,    157.4,2,    157.9,2,    31.48,2,    33.85,2,     2.26,2,   2302.3,2,   7.5681,2,    25.00
  29HE20130320,   A17,    70,  1,     17,2,20130427,1631, -3.1050, -29.9820, 4884,    706.0,   5.1529,  34.4797,2,    144.8,2,    144.5,2,    29.23,2,    35.41,2,     2.27,2,   2295.9,2,   7.5528,2,    25.00
  29HE20130320,   A17,    70,  1,     18,2,20130427,1631, -3.1050, -29.9820, 4884,    604.7,   5.9785,  34.5234,2,    130.9,2,    130.3,2,    24.87,2,    34.92,2,     2.23,2,   -999.0,9,   7.5456,2,    25.00
  29HE20130320,   A17,    70,  1,     19,2,20130427,1631, -3.1050, -29.9820, 4884,    503.1,   7.6810,  34.6672,2,     98.4,2,     97.7,2,    19.84,2,    35.04,2,     2.17,2,   2295.3,2,   7.5225,2,    25.00
  29HE20130320,   A17,    70,  1,     20,2,20130427,1631, -3.1050, -29.9820, 4884,    403.4,   9.5530,  34.8501,2,    109.1,2,    108.4,2,    14.32,2,    29.14,2,     1.84,2,   2300.4,2,   7.5903,2,    25.00
  29HE20130320,   A17,    70,  1,     21,2,20130427,1631, -3.1050, -29.9820, 4884,    302.2,  11.4559,  35.0733,2,    101.5,2,    102.3,2,    11.33,2,    26.47,2,     1.63,2,   -999.0,9,   7.6256,2,    25.00
  29HE20130320,   A17,    70,  1,     22,2,20130427,1631, -3.1050, -29.9820, 4884,    201.7,  12.6408,  35.2279,2,     89.7,2,     89.8,2,    10.00,2,    25.41,2,     1.54,2,   2312.9,2,   7.6337,2,    25.00
  29HE20130320,   A17,    70,  1,     23,2,20130427,1631, -3.1050, -29.9820, 4884,    101.0,  14.5801,  35.4794,2,     92.9,2,     93.9,2,     7.58,2,    22.20,2,     1.28,2,   -999.0,9,   7.6852,2,    25.00
  29HE20130320,   A17,    70,  1,     24,2,20130427,1631, -3.1050, -29.9820, 4884,      6.2,  29.0600,  35.8946,2,    199.3,2,    198.7,2,     1.11,2,     0.04,2,     0.00,2,   2348.4,2,   8.0708,2,    25.00
  29HE20130320,   A17,    71,  1,      1,2,20130428,0412, -2.0060, -29.8940, 4918,   4987.2,   0.7935,  34.7147,2,    219.5,2,    221.0,2,   113.42,2,    31.01,2,     2.10,2,   -999.0,9,   7.6347,2,    25.00
  29HE20130320,   A17,    71,  1,      2,2,20130428,0412, -2.0060, -29.8940, 4918,   4570.6,   0.8729,  34.7278,2,    222.5,2,    224.3,2,   108.93,2,    30.46,2,     2.02,2,   -999.0,9,   7.6410,2,    25.00
  29HE20130320,   A17,    71,  1,      3,2,20130428,0412, -2.0060, -29.8940, 4918,   4060.2,   1.8583,  34.8411,2,    245.5,2,    246.7,2,    59.34,2,    23.68,2,     1.57,2,   -999.0,9,   7.7071,2,    25.00
  29HE20130320,   A17,    71,  1,      4,2,20130428,0412, -2.0060, -29.8940, 4918,   3550.3,   2.4823,  34.9067,2,    257.3,2,    258.9,2,    31.25,2,    20.23,2,     1.30,2,   -999.0,9,   7.7376,2,    25.00
  29HE20130320,   A17,    71,  1,      5,2,20130428,0412, -2.0060, -29.8940, 4918,   3039.9,   2.6372,  34.9096,2,    244.8,2,   -999.0,9,    36.56,2,    21.57,2,     1.42,2,   -999.0,9,-999.0000,9,  -999.00
  29HE20130320,   A17,    71,  1,      6,2,20130428,0412, -2.0060, -29.8940, 4918,   3041.2,   2.6373,  34.9095,2,    244.9,2,    246.2,2,    36.54,2,    21.66,2,     1.43,2,   -999.0,9,   7.7295,2,    25.00
  29HE20130320,   A17,    71,  1,      7,2,20130428,0412, -2.0060, -29.8940, 4918,   2527.9,   2.9076,  34.9254,2,    243.9,2,    246.8,2,    31.96,2,    21.53,2,     1.40,2,   -999.0,9,   7.7280,2,    25.00
  29HE20130320,   A17,    71,  1,      8,2,20130428,0412, -2.0060, -29.8940, 4918,   2020.6,   3.4610,  34.9617,2,    252.8,2,    252.8,2,    20.79,2,    19.60,2,     1.27,2,   -999.0,9,   7.7366,2,    25.00
  29HE20130320,   A17,    71,  1,      9,2,20130428,0412, -2.0060, -29.8940, 4918,   1815.1,   3.7242,  34.9704,2,    250.3,2,    251.2,2,    18.52,2,    19.70,2,     1.27,2,   -999.0,9,   7.7326,2,    25.00
  29HE20130320,   A17,    71,  1,     10,2,20130428,0412, -2.0060, -29.8940, 4918,   1616.0,   4.0711,  34.9762,2,    240.7,2,    241.3,2,    17.83,2,    20.50,2,     1.35,2,   -999.0,9,   7.7234,2,    25.00
  29HE20130320,   A17,    71,  1,     11,2,20130428,0412, -2.0060, -29.8940, 4918,   1412.2,   4.3166,  34.9675,2,    228.3,2,    228.7,2,    18.65,2,    21.91,2,     1.43,2,   -999.0,9,   7.7092,2,    25.00
  29HE20130320,   A17,    71,  1,     12,2,20130428,0412, -2.0060, -29.8940, 4918,   1210.0,   4.5931,  34.8148,2,    181.8,2,    181.0,2,    26.24,2,    27.89,2,     1.88,2,   -999.0,9,   7.6347,2,    25.00
  29HE20130320,   A17,    71,  1,     13,2,20130428,0412, -2.0060, -29.8940, 4918,   1007.6,   4.3791,  34.5970,2,    159.1,2,   -999.0,9,    31.32,2,    32.48,2,     2.21,2,   -999.0,9,-999.0000,9,  -999.00
  29HE20130320,   A17,    71,  1,     14,2,20130428,0412, -2.0060, -29.8940, 4918,   1008.0,   4.3789,  34.5965,2,    159.2,2,    159.2,2,    31.26,2,    32.78,2,     2.20,2,   -999.0,9,   7.5790,2,    25.00
  29HE20130320,   A17,    71,  1,     15,2,20130428,0412, -2.0060, -29.8940, 4918,    805.0,   4.5654,  34.4704,2,    167.3,2,    166.7,2,    30.87,2,    32.84,2,     2.21,2,   -999.0,9,   7.5814,2,    25.00
  29HE20130320,   A17,    71,  1,     16,2,20130428,0412, -2.0060, -29.8940, 4918,    704.6,   5.0359,  34.4869,2,    154.8,2,    154.3,2,    29.83,2,    33.63,2,     2.22,2,   -999.0,9,   7.5679,2,    25.00
  29HE20130320,   A17,    71,  1,     17,2,20130428,0412, -2.0060, -29.8940, 4918,    605.7,   5.6680,  34.4852,2,    156.1,2,    153.4,2,    25.65,2,    32.58,2,     2.14,2,   -999.0,9,   7.5745,2,    25.00
  29HE20130320,   A17,    71,  1,     18,2,20130428,0412, -2.0060, -29.8940, 4918,    504.1,   8.3240,  34.7304,2,    114.6,2,    115.3,2,    17.44,2,    31.07,2,     1.96,2,   -999.0,9,   7.5705,2,    25.00
  29HE20130320,   A17,    71,  1,     19,2,20130428,0412, -2.0060, -29.8940, 4918,    403.2,   9.1359,  34.8234,2,     99.1,2,     99.1,2,    16.08,2,    30.92,2,     1.92,2,   -999.0,9,   7.5620,2,    25.00
  29HE20130320,   A17,    71,  1,     20,2,20130428,0412, -2.0060, -29.8940, 4918,    302.2,  10.6465,  34.9888,2,     91.2,2,     91.6,2,    13.17,2,    29.25,2,     1.76,2,   -999.0,9,   7.5829,2,    25.00
  29HE20130320,   A17,    71,  1,     21,2,20130428,0412, -2.0060, -29.8940, 4918,    202.4,  12.4611,  35.2000,2,    114.3,2,    113.6,2,     9.46,2,    23.08,2,     1.42,2,   -999.0,9,   7.6717,2,    25.00
  29HE20130320,   A17,    71,  1,     22,2,20130428,0412, -2.0060, -29.8940, 4918,    100.4,  15.1034,  35.5230,2,     97.8,2,    100.1,2,     7.11,2,    21.10,2,     1.17,2,   -999.0,9,   7.7002,2,    25.00
  29HE20130320,   A17,    71,  1,     23,2,20130428,0412, -2.0060, -29.8940, 4918,     60.7,  24.0180,  36.1629,2,    189.7,2,    183.5,2,     1.98,2,     0.51,2,     0.02,2,   -999.0,9,   7.9768,2,    25.00
  29HE20130320,   A17,    71,  1,     24,2,20130428,0412, -2.0060, -29.8940, 4918,      5.2,  28.7559,  36.0114,2,    198.5,2,    197.7,2,     1.07,2,    -0.04,2,     0.00,2,   -999.0,9,   8.0809,2,    25.00