BOTTLE,20230216CCHSIOENA
EXPOCODE,SECT_ID,STNNBR,CASTNO,BTLNBR,BTLNBR_FLAG_W,DATE,TIME,LATITUDE,LONGITUDE,DEPTH,CTDPRS,CTDTMP,CTDSAL,CTDSAL_FLAG_W,CTDOXY,CTDOXY_FLAG_W,OXYGEN,OXYGEN_FLAG_W,SILCAT,SILCAT_FLAG_W,NITRAT,NITRAT_FLAG_W,PHSPHT,PHSPHT_FLAG_W,ALKALI,ALKALI_FLAG_W,PH_TOT,PH_TOT_FLAG_W,PH_TMP
,,,,,,,,,,METERS,DBAR,ITS-90,PSS-78,,UMOL/KG,,UMOL/KG,,UMOL/KG,,UMOL/KG,,UMOL/KG,,UMOL/KG,,,,DEG C
  29HE20130320,   A17,    88,  1,      1,2,20130507,0249, 19.7040, -28.4570, 4881,   4959.3,   2.4143,  34.8865,2,    242.1,2,    242.8,2,    47.98,2,    22.19,2,     1.46,2,   2356.5,2,   7.7354,2,    25.00
  29HE20130320,   A17,    88,  1,      2,2,20130507,0249, 19.7040, -28.4570, 4881,   4578.3,   2.3710,  34.8871,2,    242.4,2,    242.4,2,    47.83,2,    22.09,2,     1.46,2,   2357.5,2,   7.7355,2,    25.00
  29HE20130320,   A17,    88,  1,      3,2,20130507,0249, 19.7040, -28.4570, 4881,   4062.7,   2.3475,  34.8912,2,    243.0,2,    243.5,2,    46.56,2,    22.15,2,     1.45,2,   2349.8,2,   7.7349,2,    25.00
  29HE20130320,   A17,    88,  1,      4,2,20130507,0249, 19.7040, -28.4570, 4881,   3551.8,   2.4628,  34.9075,2,    242.6,2,    242.8,2,    42.62,2,    21.66,2,     1.42,2,   2348.4,2,   7.7352,2,    25.00
  29HE20130320,   A17,    88,  1,      5,2,20130507,0249, 19.7040, -28.4570, 4881,   3040.0,   2.7460,  34.9361,2,    239.2,2,    239.6,2,    36.64,2,    21.25,2,     1.38,2,   2345.4,2,   7.7341,2,    25.00
  29HE20130320,   A17,    88,  1,      6,2,20130507,0249, 19.7040, -28.4570, 4881,   2785.7,   2.9377,  34.9500,2,    238.3,2,    238.3,2,    33.29,2,    21.24,2,     1.39,2,   2338.4,2,   7.7317,2,    25.00
  29HE20130320,   A17,    88,  1,      7,2,20130507,0249, 19.7040, -28.4570, 4881,   2529.6,   3.0901,  34.9557,2,    237.6,2,    239.5,2,    31.46,2,    21.17,2,     1.39,2,   2332.9,2,   7.7306,2,    25.00
  29HE20130320,   A17,    88,  1,      8,2,20130507,0249, 19.7040, -28.4570, 4881,   2276.4,   3.2899,  34.9666,2,    232.5,2,    232.7,2,    29.53,2,    21.28,2,     1.40,2,   2332.7,2,   7.7242,2,    25.00
  29HE20130320,   A17,    88,  1,      9,2,20130507,0249, 19.7040, -28.4570, 4881,   2022.1,   3.5199,  34.9780,2,    227.5,2,    227.8,2,    27.43,2,    21.83,2,     1.41,2,   2331.9,2,   7.7176,2,    25.00
  29HE20130320,   A17,    88,  1,     10,2,20130507,0249, 19.7040, -28.4570, 4881,   1818.7,   3.8117,  34.9906,2,    225.1,2,    225.3,2,    24.48,2,    21.63,2,     1.42,2,   2327.1,2,   7.7153,2,    25.00
  29HE20130320,   A17,    88,  1,     11,2,20130507,0249, 19.7040, -28.4570, 4881,   1615.4,   4.2576,  35.0179,2,    212.7,2,    212.2,2,    22.99,2,    22.68,2,     1.47,2,   2327.5,2,   7.7039,2,    25.00
  29HE20130320,   A17,    88,  1,     12,2,20130507,0249, 19.7040, -28.4570, 4881,   1413.7,   4.9375,  35.0618,2,    195.7,2,    195.3,2,    21.85,2,    23.47,2,     1.54,2,   2328.7,2,   7.6910,2,    25.00
  29HE20130320,   A17,    88,  1,     13,2,20130507,0249, 19.7040, -28.4570, 4881,   1211.1,   5.6971,  35.0867,2,    175.2,2,    174.1,2,    21.37,2,    25.14,2,     1.64,2,   2327.6,2,   7.6710,2,    25.00
  29HE20130320,   A17,    88,  1,     14,2,20130507,0249, 19.7040, -28.4570, 4881,   1008.6,   6.3652,  35.0289,2,    141.6,2,    140.0,2,    22.13,2,    28.63,2,     1.86,2,   2324.7,2,   7.6221,2,    25.00
  29HE20130320,   A17,    88,  1,     15,2,20130507,0249, 19.7040, -28.4570, 4881,    805.6,   7.4714,  35.0410,2,    109.7,2,    109.4,2,    20.83,2,    30.51,2,     1.97,2,   2319.5,2,   7.5860,2,    25.00
  29HE20130320,   A17,    88,  1,     16,2,20130507,0249, 19.7040, -28.4570, 4881,    705.9,   8.4047,  35.1265,2,     99.6,2,     98.7,2,    18.51,2,    30.30,2,     1.89,2,   2320.4,2,   7.5852,2,    25.00
  29HE20130320,   A17,    88,  1,     17,2,20130507,0249, 19.7040, -28.4570, 4881,    605.3,   9.6566,  35.2712,2,     95.1,2,     93.8,2,    15.33,2,    28.80,2,     1.72,2,   2323.8,2,   7.6024,2,    25.00
  29HE20130320,   A17,    88,  1,     18,2,20130507,0249, 19.7040, -28.4570, 4881,    503.2,  11.1776,  35.4622,2,    100.0,2,     99.1,2,    11.61,2,    25.64,2,     1.48,2,   2330.1,2,   7.6409,2,    25.00
  29HE20130320,   A17,    88,  1,     19,2,20130507,0249, 19.7040, -28.4570, 4881,    402.7,  12.7257,  35.6732,2,    113.6,2,    112.5,2,     8.40,2,    21.51,2,     1.20,2,   2338.0,2,   7.6942,2,    25.00
  29HE20130320,   A17,    88,  1,     20,2,20130507,0249, 19.7040, -28.4570, 4881,    301.4,  14.7478,  35.9773,2,    131.3,2,    130.9,2,     5.69,2,    16.74,2,     0.89,2,   2356.9,2,   7.7685,2,    25.00
  29HE20130320,   A17,    88,  1,     21,2,20130507,0249, 19.7040, -28.4570, 4881,    200.6,  17.2391,  36.4672,2,    164.4,2,    163.5,2,     2.88,2,     9.47,2,     0.34,2,   2385.8,2,   7.8648,2,    25.00
  29HE20130320,   A17,    88,  1,     22,2,20130507,0249, 19.7040, -28.4570, 4881,    100.4,  21.3950,  37.1895,2,    201.2,2,    200.9,2,     0.82,2,     0.98,2,    -0.01,2,   2428.8,2,   7.9997,2,    25.00
  29HE20130320,   A17,    88,  1,     23,2,20130507,0249, 19.7040, -28.4570, 4881,     52.3,  22.6618,  36.7072,2,    220.6,2,    219.4,2,     0.63,2,    -0.04,2,    -0.03,2,   2405.0,2,   8.0445,2,    25.00
  29HE20130320,   A17,    88,  1,     24,2,20130507,0249, 19.7040, -28.4570, 4881,      5.1,  23.6958,  36.4264,2,    213.5,2,    213.7,2,     0.70,2,    -0.04,2,    -0.01,2,   2385.9,2,   8.0494,2,    25.00
  29HE20130320,   A17,    89,  1,      1,2,20130507,1842, 21.2960, -28.4470, 5104,    303.3,  15.7124,  36.1832,2,    180.8,2,    180.2,2,     3.02,2,     9.64,2,     0.35,2,   -999.0,9,   7.8803,2,    25.00
  29HE20130320,   A17,    89,  1,      2,2,20130507,1842, 21.2960, -28.4470, 5104,    253.2,  16.1830,  36.2356,2,    151.3,2,   -999.0,9,  -999.00,9,  -999.00,9,  -999.00,9,   -999.0,9,-999.0000,9,  -999.00
  29HE20130320,   A17,    89,  1,      3,2,20130507,1842, 21.2960, -28.4470, 5104,    253.3,  16.1828,  36.2355,2,    151.0,2,   -999.0,9,  -999.00,9,  -999.00,9,  -999.00,9,   -999.0,9,-999.0000,9,  -999.00
  29HE20130320,   A17,    89,  1,      4,2,20130507,1842, 21.2960, -28.4470, 5104,    253.6,  16.1835,  36.2360,2,    151.0,2,   -999.0,9,  -999.00,9,  -999.00,9,  -999.00,9,   -999.0,9,-999.0000,9,  -999.00
  29HE20130320,   A17,    89,  1,      5,2,20130507,1842, 21.2960, -28.4470, 5104,    253.7,  16.1838,  36.2359,2,    150.2,2,   -999.0,9,  -999.00,9,  -999.00,9,  -999.00,9,   -999.0,9,-999.0000,9,  -999.00
  29HE20130320,   A17,    89,  1,      6,2,20130507,1842, 21.2960, -28.4470, 5104,    253.3,  16.1834,  36.2368,2,    150.6,2,    155.0,2,     3.60,2,    11.82,2,     0.33,2,   -999.0,9,   7.8467,2,    25.00
  29HE20130320,   A17,    89,  1,      7,2,20130507,1842, 21.2960, -28.4470, 5104,    253.1,  16.1834,  36.2367,2,    151.2,2,   -999.0,9,  -999.00,9,  -999.00,9,  -999.00,9,   -999.0,9,-999.0000,9,  -999.00
  29HE20130320,   A17,    89,  1,      8,2,20130507,1842, 21.2960, -28.4470, 5104,     90.4,  21.5075,  36.9802,2,    214.9,2,    216.1,2,     0.79,2,     0.09,2,    -0.01,2,   -999.0,9,   8.0158,2,    25.00
  29HE20130320,   A17,    89,  1,      9,2,20130507,1842, 21.2960, -28.4470, 5104,     90.1,  21.5068,  36.9805,2,    214.6,2,   -999.0,9,  -999.00,9,  -999.00,9,  -999.00,9,   -999.0,9,-999.0000,9,  -999.00
  29HE20130320,   A17,    89,  1,     10,2,20130507,1842, 21.2960, -28.4470, 5104,     51.4,  22.4668,  36.9236,2,    219.4,2,   -999.0,9,  -999.00,9,  -999.00,9,  -999.00,9,   -999.0,9,-999.0000,9,  -999.00
  29HE20130320,   A17,    89,  1,     11,2,20130507,1842, 21.2960, -28.4470, 5104,      6.1,  23.4151,  36.8603,2,    215.2,2,   -999.0,9,  -999.00,9,  -999.00,9,  -999.00,9,   -999.0,9,-999.0000,9,  -999.00
  29HE20130320,   A17,    89,  1,     12,2,20130507,1842, 21.2960, -28.4470, 5104,      5.8,  23.4173,  36.8602,2,    215.6,2,   -999.0,9,  -999.00,9,  -999.00,9,  -999.00,9,   -999.0,9,-999.0000,9,  -999.00
  29HE20130320,   A17,    89,  1,     13,2,20130507,1842, 21.2960, -28.4470, 5104,      5.8,  23.4168,  36.8602,2,    215.2,2,   -999.0,9,  -999.00,9,  -999.00,9,  -999.00,9,   -999.0,9,-999.0000,9,  -999.00
  29HE20130320,   A17,    89,  1,     14,2,20130507,1842, 21.2960, -28.4470, 5104,      6.0,  23.4164,  36.8604,2,    214.8,2,   -999.0,9,  -999.00,9,  -999.00,9,  -999.00,9,   -999.0,9,-999.0000,9,  -999.00
  29HE20130320,   A17,    89,  1,     15,2,20130507,1842, 21.2960, -28.4470, 5104,      5.9,  23.4157,  36.8604,2,    214.5,2,   -999.0,9,  -999.00,9,  -999.00,9,  -999.00,9,   -999.0,9,-999.0000,9,  -999.00
  29HE20130320,   A17,    89,  1,     16,2,20130507,1842, 21.2960, -28.4470, 5104,      5.8,  23.4170,  36.8603,2,    214.8,2,   -999.0,9,  -999.00,9,  -999.00,9,  -999.00,9,   -999.0,9,-999.0000,9,  -999.00
  29HE20130320,   A17,    89,  1,     17,2,20130507,1842, 21.2960, -28.4470, 5104,      5.9,  23.4168,  36.8604,2,    215.3,2,   -999.0,9,  -999.00,9,  -999.00,9,  -999.00,9,   -999.0,9,-999.0000,9,  -999.00
  29HE20130320,   A17,    89,  1,     18,2,20130507,1842, 21.2960, -28.4470, 5104,      5.8,  23.4206,  36.8603,2,    215.4,2,   -999.0,9,  -999.00,9,  -999.00,9,  -999.00,9,   -999.0,9,-999.0000,9,  -999.00
  29HE20130320,   A17,    89,  1,     19,2,20130507,1842, 21.2960, -28.4470, 5104,      6.3,  23.4120,  36.8603,2,    215.3,2,   -999.0,9,  -999.00,9,  -999.00,9,  -999.00,9,   -999.0,9,-999.0000,9,  -999.00
  29HE20130320,   A17,    89,  1,     20,2,20130507,1842, 21.2960, -28.4470, 5104,      6.5,  23.4070,  36.8607,2,    214.9,2,   -999.0,9,  -999.00,9,  -999.00,9,  -999.00,9,   -999.0,9,-999.0000,9,  -999.00
  29HE20130320,   A17,    89,  1,     21,2,20130507,1842, 21.2960, -28.4470, 5104,      6.3,  23.4124,  36.8606,2,    215.0,2,   -999.0,9,  -999.00,9,  -999.00,9,  -999.00,9,   -999.0,9,-999.0000,9,  -999.00
  29HE20130320,   A17,    89,  1,     22,2,20130507,1842, 21.2960, -28.4470, 5104,      5.9,  23.4155,  36.8603,2,    215.4,2,   -999.0,9,  -999.00,9,  -999.00,9,  -999.00,9,   -999.0,9,-999.0000,9,  -999.00
  29HE20130320,   A17,    89,  1,     23,2,20130507,1842, 21.2960, -28.4470, 5104,      5.7,  23.4151,  36.8603,2,    215.4,2,   -999.0,9,  -999.00,9,  -999.00,9,  -999.00,9,   -999.0,9,-999.0000,9,  -999.00
  29HE20130320,   A17,    89,  1,     24,2,20130507,1842, 21.2960, -28.4470, 5104,      5.8,  23.4156,  36.8605,2,    214.9,2,    215.3,2,     0.68,2,     0.04,2,    -0.01,2,   -999.0,9,   8.0438,2,    25.00
  29HE20130320,   A17,    89,  2,      1,2,20130507,2010, 21.2960, -28.4470, 5104,   5189.2,   2.4155,  34.8835,2,    242.8,2,    243.4,2,    48.23,2,    22.74,2,     1.47,2,   -999.0,9,   7.7348,2,    25.00
  29HE20130320,   A17,    89,  2,      2,2,20130507,2010, 21.2960, -28.4470, 5104,   5189.9,   2.4155,  34.8835,2,    243.3,2,   -999.0,9,  -999.00,9,  -999.00,9,  -999.00,9,   -999.0,9,-999.0000,9,  -999.00
  29HE20130320,   A17,    89,  2,      3,2,20130507,2010, 21.2960, -28.4470, 5104,   4577.6,   2.3598,  34.8860,2,    243.1,2,    243.2,2,    47.48,2,    22.80,2,     1.47,2,   -999.0,9,   7.7356,2,    25.00
  29HE20130320,   A17,    89,  2,      4,2,20130507,2010, 21.2960, -28.4470, 5104,   4065.5,   2.3629,  34.8929,2,    242.7,2,    242.1,2,    45.38,2,    22.54,2,     1.46,2,   -999.0,9,   7.7352,2,    25.00
  29HE20130320,   A17,    89,  2,      5,2,20130507,2010, 21.2960, -28.4470, 5104,   3552.3,   2.4529,  34.9068,2,    242.5,2,    243.2,2,    41.92,2,    22.30,2,     1.44,2,   -999.0,9,   7.7379,2,    25.00
  29HE20130320,   A17,    89,  2,      6,2,20130507,2010, 21.2960, -28.4470, 5104,   3042.0,   2.6823,  34.9317,2,    241.0,2,    241.3,2,    36.79,2,    21.85,2,     1.40,2,   -999.0,9,   7.7377,2,    25.00
  29HE20130320,   A17,    89,  2,      7,2,20130507,2010, 21.2960, -28.4470, 5104,   3040.4,   2.6823,  34.9314,2,    240.3,2,   -999.0,9,  -999.00,9,  -999.00,9,  -999.00,9,   -999.0,9,-999.0000,9,  -999.00
  29HE20130320,   A17,    89,  2,      8,2,20130507,2010, 21.2960, -28.4470, 5104,   2531.6,   3.1116,  34.9678,2,    238.4,2,    239.1,2,    31.06,2,    21.42,2,     1.38,2,   -999.0,9,   7.7361,2,    25.00
  29HE20130320,   A17,    89,  2,      9,2,20130507,2010, 21.2960, -28.4470, 5104,   2530.9,   3.1113,  34.9678,2,    238.0,2,   -999.0,9,  -999.00,9,  -999.00,9,  -999.00,9,   -999.0,9,-999.0000,9,  -999.00
  29HE20130320,   A17,    89,  2,     10,2,20130507,2010, 21.2960, -28.4470, 5104,   2276.4,   3.4022,  34.9849,2,    234.7,2,    235.0,2,    27.89,2,    21.57,2,     1.38,2,   -999.0,9,   7.7301,2,    25.00
  29HE20130320,   A17,    89,  2,     11,2,20130507,2010, 21.2960, -28.4470, 5104,   2022.8,   3.7217,  35.0061,2,    230.0,2,    230.4,2,    25.05,2,    21.68,2,     1.39,2,   -999.0,9,   7.7286,2,    25.00
  29HE20130320,   A17,    89,  2,     12,2,20130507,2010, 21.2960, -28.4470, 5104,   2022.3,   3.7213,  35.0062,2,    229.7,2,   -999.0,9,  -999.00,9,  -999.00,9,  -999.00,9,   -999.0,9,-999.0000,9,  -999.00
  29HE20130320,   A17,    89,  2,     13,2,20130507,2010, 21.2960, -28.4470, 5104,   1820.4,   4.1306,  35.0368,2,    221.9,2,    222.5,2,    22.97,2,    22.26,2,     1.43,2,   -999.0,9,   7.7236,2,    25.00
  29HE20130320,   A17,    89,  2,     14,2,20130507,2010, 21.2960, -28.4470, 5104,   1616.6,   4.6478,  35.0727,2,    210.9,2,    210.8,2,    21.42,2,    22.57,2,     1.47,2,   -999.0,9,   7.7139,2,    25.00
  29HE20130320,   A17,    89,  2,     15,2,20130507,2010, 21.2960, -28.4470, 5104,   1413.3,   5.3002,  35.1057,2,    194.3,2,    193.7,2,    20.59,2,    23.93,2,     1.53,2,   -999.0,9,   7.6989,2,    25.00
  29HE20130320,   A17,    89,  2,     16,2,20130507,2010, 21.2960, -28.4470, 5104,   1212.4,   5.8584,  35.0919,2,    175.6,2,    175.8,2,    20.58,2,    25.54,2,     1.63,2,   -999.0,9,   7.6750,2,    25.00
  29HE20130320,   A17,    89,  2,     17,2,20130507,2010, 21.2960, -28.4470, 5104,   1010.0,   6.3500,  35.0314,2,    150.9,2,    150.3,2,    21.38,2,    28.26,2,     1.79,2,   -999.0,9,   7.6402,2,    25.00
  29HE20130320,   A17,    89,  2,     18,2,20130507,2010, 21.2960, -28.4470, 5104,   1009.9,   6.3464,  35.0310,2,    150.3,2,   -999.0,9,  -999.00,9,  -999.00,9,  -999.00,9,   -999.0,9,-999.0000,9,  -999.00
  29HE20130320,   A17,    89,  2,     19,2,20130507,2010, 21.2960, -28.4470, 5104,    807.5,   7.9204,  35.1354,2,    127.7,2,    127.1,2,    18.67,2,    28.56,2,     1.76,2,   -999.0,9,   7.6345,2,    25.00
  29HE20130320,   A17,    89,  2,     20,2,20130507,2010, 21.2960, -28.4470, 5104,    706.6,   9.0896,  35.2686,2,    121.8,2,    122.5,2,    15.65,2,    27.24,2,     1.63,2,   -999.0,9,   7.6449,2,    25.00
  29HE20130320,   A17,    89,  2,     21,2,20130507,2010, 21.2960, -28.4470, 5104,    706.5,   9.0920,  35.2686,2,    121.7,2,   -999.0,9,  -999.00,9,  -999.00,9,  -999.00,9,   -999.0,9,-999.0000,9,  -999.00
  29HE20130320,   A17,    89,  2,     22,2,20130507,2010, 21.2960, -28.4470, 5104,    605.4,  10.4915,  35.4350,2,    129.4,2,    128.2,2,    11.95,2,    24.19,2,     1.37,2,   -999.0,9,   7.6793,2,    25.00
  29HE20130320,   A17,    89,  2,     23,2,20130507,2010, 21.2960, -28.4470, 5104,    503.7,  11.8096,  35.6035,2,    148.1,2,    148.1,2,     8.17,2,    19.83,2,     1.05,2,   -999.0,9,   7.7325,2,    25.00
  29HE20130320,   A17,    89,  2,     24,2,20130507,2010, 21.2960, -28.4470, 5104,    403.9,  13.4105,  35.8244,2,    162.3,2,    162.2,2,     5.38,2,    15.37,2,     0.76,2,   -999.0,9,   7.7856,2,    25.00