BOTTLE,20230216CCHSIOENA
EXPOCODE,SECT_ID,STNNBR,CASTNO,BTLNBR,BTLNBR_FLAG_W,DATE,TIME,LATITUDE,LONGITUDE,DEPTH,CTDPRS,CTDTMP,CTDSAL,CTDSAL_FLAG_W,CTDOXY,CTDOXY_FLAG_W,OXYGEN,OXYGEN_FLAG_W,SILCAT,SILCAT_FLAG_W,NITRAT,NITRAT_FLAG_W,PHSPHT,PHSPHT_FLAG_W,ALKALI,ALKALI_FLAG_W,PH_TOT,PH_TOT_FLAG_W,PH_TMP
,,,,,,,,,,METERS,DBAR,ITS-90,PSS-78,,UMOL/KG,,UMOL/KG,,UMOL/KG,,UMOL/KG,,UMOL/KG,,UMOL/KG,,,,DEG C
  29HE20130320,   A17,     4,  1,      1,2,20130324,0613,-48.9060, -55.4340, 1220,   1205.3,   2.5566,  34.5340,2,    171.3,2,    170.6,2,    76.45,2,    34.64,2,     2.33,2,   -999.0,9,   7.5587,2,    25.00
  29HE20130320,   A17,     4,  1,      2,2,20130324,0613,-48.9060, -55.4340, 1220,   1204.1,   2.5566,  34.5342,2,    171.0,2,   -999.0,9,  -999.00,9,  -999.00,9,  -999.00,9,   -999.0,9,-999.0000,9,  -999.00
  29HE20130320,   A17,     4,  1,      3,2,20130324,0613,-48.9060, -55.4340, 1220,   1014.5,   3.1369,  34.3178,2,    205.6,2,    205.9,2,    46.21,2,    33.23,2,     2.24,2,   -999.0,9,   7.5889,2,    25.00
  29HE20130320,   A17,     4,  1,      4,2,20130324,0613,-48.9060, -55.4340, 1220,   1013.9,   3.1367,  34.3178,2,    206.0,2,   -999.0,9,  -999.00,9,  -999.00,9,  -999.00,9,   -999.0,9,-999.0000,9,  -999.00
  29HE20130320,   A17,     4,  1,      5,2,20130324,0613,-48.9060, -55.4340, 1220,    909.1,   3.3220,  34.2674,2,    219.3,2,    218.8,2,    38.42,2,    31.77,2,     2.16,2,   -999.0,9,   7.6077,2,    25.00
  29HE20130320,   A17,     4,  1,      6,2,20130324,0613,-48.9060, -55.4340, 1220,    808.8,   3.5592,  34.2364,2,    230.0,2,   -999.0,9,  -999.00,9,  -999.00,9,  -999.00,9,   -999.0,9,-999.0000,9,  -999.00
  29HE20130320,   A17,     4,  1,      7,2,20130324,0613,-48.9060, -55.4340, 1220,    809.0,   3.5591,  34.2363,2,    230.0,2,    229.7,2,    32.32,2,    30.49,2,     2.04,2,   -999.0,9,   7.6256,2,    25.00
  29HE20130320,   A17,     4,  1,      8,2,20130324,0613,-48.9060, -55.4340, 1220,    707.0,   3.7018,  34.1989,2,    244.2,2,    243.8,2,    27.30,2,    29.24,2,     1.96,2,   -999.0,9,   7.6429,2,    25.00
  29HE20130320,   A17,     4,  1,      9,2,20130324,0613,-48.9060, -55.4340, 1220,    603.9,   3.7797,  34.1804,2,    251.5,2,    250.8,2,    24.67,2,    28.78,2,     1.91,2,   -999.0,9,   7.6567,2,    25.00
  29HE20130320,   A17,     4,  1,     10,2,20130324,0613,-48.9060, -55.4340, 1220,    603.5,   3.7794,  34.1805,2,    251.1,2,   -999.0,9,  -999.00,9,  -999.00,9,  -999.00,9,   -999.0,9,-999.0000,9,  -999.00
  29HE20130320,   A17,     4,  1,     11,2,20130324,0613,-48.9060, -55.4340, 1220,    505.0,   3.8875,  34.1601,2,    261.1,2,    260.1,2,    21.05,2,    27.62,2,     1.81,2,   -999.0,9,   7.6659,2,    25.00
  29HE20130320,   A17,     4,  1,     12,2,20130324,0613,-48.9060, -55.4340, 1220,    402.2,   3.9658,  34.1459,2,    268.2,2,   -999.0,9,  -999.00,9,  -999.00,9,  -999.00,9,   -999.0,9,-999.0000,9,  -999.00
  29HE20130320,   A17,     4,  1,     13,2,20130324,0613,-48.9060, -55.4340, 1220,    402.3,   3.9675,  34.1457,2,    268.1,2,    269.5,2,    18.68,2,    26.95,2,     1.77,2,   -999.0,9,   7.6780,2,    25.00
  29HE20130320,   A17,     4,  1,     14,2,20130324,0613,-48.9060, -55.4340, 1220,    300.5,   4.1288,  34.1272,2,    279.7,2,   -999.0,9,  -999.00,9,  -999.00,9,  -999.00,9,   -999.0,9,-999.0000,9,  -999.00
  29HE20130320,   A17,     4,  1,     15,2,20130324,0613,-48.9060, -55.4340, 1220,    302.2,   4.1206,  34.1277,2,    279.8,2,    278.9,2,    14.93,2,    26.05,2,     1.70,2,   -999.0,9,   7.6953,2,    25.00
  29HE20130320,   A17,     4,  1,     16,2,20130324,0613,-48.9060, -55.4340, 1220,    202.2,   4.3800,  34.1194,2,    289.1,2,   -999.0,9,  -999.00,9,  -999.00,9,  -999.00,9,   -999.0,9,-999.0000,9,  -999.00
  29HE20130320,   A17,     4,  1,     17,2,20130324,0613,-48.9060, -55.4340, 1220,    202.8,   4.3806,  34.1194,2,    288.9,2,    288.1,2,    11.78,2,    24.52,2,     1.61,2,   -999.0,9,   7.7134,2,    25.00
  29HE20130320,   A17,     4,  1,     18,2,20130324,0613,-48.9060, -55.4340, 1220,    151.8,   4.4859,  34.1120,2,    294.1,2,    292.8,2,     9.94,2,    23.76,2,     1.56,2,   -999.0,9,   7.7171,2,    25.00
  29HE20130320,   A17,     4,  1,     19,2,20130324,0613,-48.9060, -55.4340, 1220,     99.7,   4.7029,  34.1060,2,    293.6,2,    292.1,2,     8.86,2,    23.20,2,     1.54,2,   -999.0,9,   7.7220,2,    25.00
  29HE20130320,   A17,     4,  1,     20,2,20130324,0613,-48.9060, -55.4340, 1220,    100.3,   4.6996,  34.1055,2,    293.2,2,   -999.0,9,  -999.00,9,  -999.00,9,  -999.00,9,   -999.0,9,-999.0000,9,  -999.00
  29HE20130320,   A17,     4,  1,     21,2,20130324,0613,-48.9060, -55.4340, 1220,     49.6,   6.0117,  34.0544,2,    295.1,2,    295.0,2,     4.29,2,    20.04,2,     1.33,2,   -999.0,9,   7.7677,2,    25.00
  29HE20130320,   A17,     4,  1,     22,2,20130324,0613,-48.9060, -55.4340, 1220,     49.9,   6.0027,  34.0552,2,    295.2,2,   -999.0,9,  -999.00,9,  -999.00,9,  -999.00,9,   -999.0,9,-999.0000,9,  -999.00
  29HE20130320,   A17,     4,  1,     23,2,20130324,0613,-48.9060, -55.4340, 1220,      5.3,   7.3108,  34.0217,2,    300.0,2,   -999.0,9,  -999.00,9,  -999.00,9,  -999.00,9,   -999.0,9,-999.0000,9,  -999.00
  29HE20130320,   A17,     4,  1,     24,2,20130324,0613,-48.9060, -55.4340, 1220,      5.6,   7.3106,  34.0218,2,    299.5,2,    299.6,2,     1.55,2,    17.04,2,     1.06,2,   -999.0,9,   7.8146,2,    25.00
  29HE20130320,   A17,     5,  1,      1,2,20130324,1446,-48.3050, -54.9230, 4944,   4929.2,   0.2628,  34.6704,2,    222.3,2,   -999.0,9,   128.90,2,    32.83,2,     2.24,2,   2366.8,2,   7.6025,2,    25.00
  29HE20130320,   A17,     5,  1,      2,2,20130324,1446,-48.3050, -54.9230, 4944,   4587.8,   0.2690,  34.6725,2,    221.3,2,   -999.0,9,   128.37,2,    32.82,2,     2.27,2,   2361.7,2,   7.6055,2,    25.00
  29HE20130320,   A17,     5,  1,      3,2,20130324,1446,-48.3050, -54.9230, 4944,   4588.2,   0.2692,  34.6725,2,    221.2,2,   -999.0,9,  -999.00,9,  -999.00,9,  -999.00,9,   -999.0,9,-999.0000,9,  -999.00
  29HE20130320,   A17,     5,  1,      4,2,20130324,1446,-48.3050, -54.9230, 4944,   4588.6,   0.2689,  34.6725,2,    221.4,2,   -999.0,9,  -999.00,9,  -999.00,9,  -999.00,9,   -999.0,9,-999.0000,9,  -999.00
  29HE20130320,   A17,     5,  1,      5,2,20130324,1446,-48.3050, -54.9230, 4944,   4588.1,   0.2692,  34.6724,2,    221.5,2,   -999.0,9,  -999.00,9,  -999.00,9,  -999.00,9,   -999.0,9,-999.0000,9,  -999.00
  29HE20130320,   A17,     5,  1,      6,2,20130324,1446,-48.3050, -54.9230, 4944,   4587.6,   0.2691,  34.6724,2,    221.2,2,   -999.0,9,  -999.00,9,  -999.00,9,  -999.00,9,   -999.0,9,-999.0000,9,  -999.00
  29HE20130320,   A17,     5,  1,      7,2,20130324,1446,-48.3050, -54.9230, 4944,   4588.4,   0.2690,  34.6725,2,    221.3,2,   -999.0,9,  -999.00,9,  -999.00,9,  -999.00,9,   -999.0,9,-999.0000,9,  -999.00
  29HE20130320,   A17,     5,  1,      8,2,20130324,1446,-48.3050, -54.9230, 4944,   4588.3,   0.2690,  34.6724,2,    221.3,2,   -999.0,9,  -999.00,9,  -999.00,9,  -999.00,9,   -999.0,9,-999.0000,9,  -999.00
  29HE20130320,   A17,     5,  1,      9,2,20130324,1446,-48.3050, -54.9230, 4944,   4587.5,   0.2691,  34.6725,2,    221.1,2,   -999.0,9,  -999.00,9,  -999.00,9,  -999.00,9,   -999.0,9,-999.0000,9,  -999.00
  29HE20130320,   A17,     5,  1,     10,2,20130324,1446,-48.3050, -54.9230, 4944,   4588.2,   0.2692,  34.6724,2,    221.2,2,   -999.0,9,  -999.00,9,  -999.00,9,  -999.00,9,   -999.0,9,-999.0000,9,  -999.00
  29HE20130320,   A17,     5,  1,     11,2,20130324,1446,-48.3050, -54.9230, 4944,   4588.9,   0.2692,  34.6725,2,    221.5,2,   -999.0,9,  -999.00,9,  -999.00,9,  -999.00,9,   -999.0,9,-999.0000,9,  -999.00
  29HE20130320,   A17,     5,  1,     12,2,20130324,1446,-48.3050, -54.9230, 4944,   4588.0,   0.2692,  34.6724,2,    221.2,2,   -999.0,9,  -999.00,9,  -999.00,9,  -999.00,9,   -999.0,9,-999.0000,9,  -999.00
  29HE20130320,   A17,     5,  1,     13,2,20130324,1446,-48.3050, -54.9230, 4944,   4587.4,   0.2692,  34.6724,2,    221.4,2,   -999.0,9,  -999.00,9,  -999.00,9,  -999.00,9,   -999.0,9,-999.0000,9,  -999.00
  29HE20130320,   A17,     5,  1,     14,2,20130324,1446,-48.3050, -54.9230, 4944,   4587.1,   0.2692,  34.6725,2,    221.5,2,   -999.0,9,  -999.00,9,  -999.00,9,  -999.00,9,   -999.0,9,-999.0000,9,  -999.00
  29HE20130320,   A17,     5,  1,     15,2,20130324,1446,-48.3050, -54.9230, 4944,   4588.4,   0.2693,  34.6725,2,    221.1,2,   -999.0,9,  -999.00,9,  -999.00,9,  -999.00,9,   -999.0,9,-999.0000,9,  -999.00
  29HE20130320,   A17,     5,  1,     16,2,20130324,1446,-48.3050, -54.9230, 4944,   4070.1,   0.4537,  34.6823,2,    216.7,2,   -999.0,9,   126.13,2,    32.96,2,     2.23,2,   2361.0,2,   7.5979,2,    25.00
  29HE20130320,   A17,     5,  1,     17,2,20130324,1446,-48.3050, -54.9230, 4944,   3559.6,   1.0940,  34.7137,2,    205.3,2,   -999.0,9,   114.81,2,    31.81,2,     2.14,2,   2364.5,2,   7.6101,2,    25.00
  29HE20130320,   A17,     5,  1,     18,2,20130324,1446,-48.3050, -54.9230, 4944,   3049.1,   1.3459,  34.7238,2,    199.5,2,   -999.0,9,   109.79,2,    31.88,2,     2.14,2,   2363.8,2,   7.6072,2,    25.00
  29HE20130320,   A17,     5,  1,     19,2,20130324,1446,-48.3050, -54.9230, 4944,   2539.3,   1.5237,  34.7429,2,    202.3,2,   -999.0,9,   100.47,2,    30.94,2,     2.08,2,   2360.9,2,   7.6204,2,    25.00
  29HE20130320,   A17,     5,  1,     20,2,20130324,1446,-48.3050, -54.9230, 4944,   2538.9,   1.5242,  34.7430,2,    202.5,2,   -999.0,9,  -999.00,9,  -999.00,9,  -999.00,9,   -999.0,9,-999.0000,9,  -999.00
  29HE20130320,   A17,     5,  1,     21,2,20130324,1446,-48.3050, -54.9230, 4944,   2540.0,   1.5243,  34.7429,2,    202.4,2,   -999.0,9,  -999.00,9,  -999.00,9,  -999.00,9,   -999.0,9,-999.0000,9,  -999.00
  29HE20130320,   A17,     5,  1,     22,2,20130324,1446,-48.3050, -54.9230, 4944,   2287.9,   2.0274,  34.7881,2,    209.4,2,   -999.0,9,    78.84,2,    28.61,2,     1.88,2,   2351.8,2,   7.6462,2,    25.00
  29HE20130320,   A17,     5,  1,     23,2,20130324,1446,-48.3050, -54.9230, 4944,   2026.9,   2.2305,  34.7882,2,    206.3,2,   -999.0,9,    75.13,2,    28.60,2,     1.89,2,   2347.9,2,   7.6412,2,    25.00
  29HE20130320,   A17,     5,  1,     24,2,20130324,1446,-48.3050, -54.9230, 4944,   1825.0,   2.2473,  34.7511,2,    193.9,2,   -999.0,9,    80.60,2,    30.37,2,     2.03,2,   2351.0,2,   7.6204,2,    25.00
  29HE20130320,   A17,     5,  2,      1,2,20130324,2003,-48.3050, -54.9230, 4944,   2028.0,   2.2868,  34.7924,2,    208.5,2,    207.1,2,    70.76,2,    28.25,2,     1.82,2,   -999.0,9,   7.6401,2,    25.00
  29HE20130320,   A17,     5,  2,      2,2,20130324,2003,-48.3050, -54.9230, 4944,   1821.8,   2.1090,  34.7227,2,    185.0,2,    184.5,2,    89.88,2,    31.79,2,     2.12,2,   -999.0,9,   7.5986,2,    25.00
  29HE20130320,   A17,     5,  2,      3,2,20130324,2003,-48.3050, -54.9230, 4944,   1620.5,   2.1060,  34.6932,2,    177.9,2,    177.3,2,    90.88,2,    33.40,2,     2.24,2,   2356.4,2,   7.5842,2,    25.00
  29HE20130320,   A17,     5,  2,      4,2,20130324,2003,-48.3050, -54.9230, 4944,   1413.8,   2.2914,  34.6672,2,    175.3,2,    174.4,2,    85.10,2,    33.20,2,     2.25,2,   2350.4,2,   7.5798,2,    25.00
  29HE20130320,   A17,     5,  2,      5,2,20130324,2003,-48.3050, -54.9230, 4944,   1215.4,   2.3330,  34.6126,2,    169.6,2,    168.7,2,    83.91,2,    34.63,2,     2.33,2,   2345.9,2,   7.5642,2,    25.00
  29HE20130320,   A17,     5,  2,      6,2,20130324,2003,-48.3050, -54.9230, 4944,   1012.1,   2.4629,  34.5509,2,    170.4,2,    170.4,2,    76.37,2,    34.76,2,     2.34,2,   2340.6,2,   7.5549,2,    25.00
  29HE20130320,   A17,     5,  2,      7,2,20130324,2003,-48.3050, -54.9230, 4944,   1011.3,   2.4629,  34.5507,2,    170.4,2,   -999.0,9,  -999.00,9,  -999.00,9,  -999.00,9,   -999.0,9,-999.0000,9,  -999.00
  29HE20130320,   A17,     5,  2,      8,2,20130324,2003,-48.3050, -54.9230, 4944,    808.3,   2.6170,  34.4596,2,    179.5,2,    179.4,2,    66.20,2,    35.51,2,     2.37,2,   2326.0,2,   7.5521,2,    25.00
  29HE20130320,   A17,     5,  2,      9,2,20130324,2003,-48.3050, -54.9230, 4944,    709.7,   2.7047,  34.4155,2,    186.4,2,    186.6,2,    60.74,2,    34.73,2,     2.33,2,   2323.1,2,   7.5663,2,    25.00
  29HE20130320,   A17,     5,  2,     10,2,20130324,2003,-48.3050, -54.9230, 4944,    608.9,   2.7502,  34.3339,2,    203.5,2,    203.1,2,    51.12,2,    34.03,2,     2.28,2,   2317.3,2,   7.5772,2,    25.00
  29HE20130320,   A17,     5,  2,     11,2,20130324,2003,-48.3050, -54.9230, 4944,    505.3,   2.8759,  34.2780,2,    216.5,2,    216.1,2,    42.72,2,    33.00,2,     2.21,2,   2305.5,2,   7.5980,2,    25.00
  29HE20130320,   A17,     5,  2,     12,2,20130324,2003,-48.3050, -54.9230, 4944,    403.0,   1.9004,  34.0949,2,    269.2,2,    268.2,2,    30.81,2,    30.98,2,     2.04,2,   2290.4,2,   7.6276,2,    25.00
  29HE20130320,   A17,     5,  2,     13,2,20130324,2003,-48.3050, -54.9230, 4944,    302.8,   2.9258,  34.1631,2,    251.1,2,    250.5,2,    29.62,2,    30.66,2,     2.03,2,   2292.0,2,   7.6316,2,    25.00
  29HE20130320,   A17,     5,  2,     14,2,20130324,2003,-48.3050, -54.9230, 4944,    303.0,   2.9253,  34.1631,2,    251.5,2,   -999.0,9,  -999.00,9,  -999.00,9,  -999.00,9,   -999.0,9,-999.0000,9,  -999.00
  29HE20130320,   A17,     5,  2,     15,2,20130324,2003,-48.3050, -54.9230, 4944,    202.1,   2.5762,  34.0135,2,    299.1,2,    298.5,2,    18.66,2,    27.78,2,     1.80,2,   2281.6,2,   7.6724,2,    25.00
  29HE20130320,   A17,     5,  2,     16,2,20130324,2003,-48.3050, -54.9230, 4944,    201.6,   2.5733,  34.0134,2,    299.2,2,   -999.0,9,  -999.00,9,  -999.00,9,  -999.00,9,   -999.0,9,-999.0000,9,  -999.00
  29HE20130320,   A17,     5,  2,     17,2,20130324,2003,-48.3050, -54.9230, 4944,    102.8,   4.3066,  33.9426,2,    311.1,2,    309.3,2,     5.81,2,    22.14,2,     1.56,2,   2279.6,2,   7.7399,2,    25.00
  29HE20130320,   A17,     5,  2,     18,2,20130324,2003,-48.3050, -54.9230, 4944,     36.9,   7.3538,  33.9300,2,    303.9,2,    303.5,2,     1.47,2,    18.30,2,     1.12,2,   2273.8,2,   7.8128,2,    25.00
  29HE20130320,   A17,     5,  2,     19,2,20130324,2003,-48.3050, -54.9230, 4944,     37.2,   7.3542,  33.9301,2,    304.0,2,   -999.0,9,  -999.00,9,  -999.00,9,  -999.00,9,   -999.0,9,-999.0000,9,  -999.00
  29HE20130320,   A17,     5,  2,     20,2,20130324,2003,-48.3050, -54.9230, 4944,      5.7,   7.3552,  33.9308,2,    304.1,2,   -999.0,9,  -999.00,9,  -999.00,9,  -999.00,9,   -999.0,9,-999.0000,9,  -999.00
  29HE20130320,   A17,     5,  2,     21,2,20130324,2003,-48.3050, -54.9230, 4944,      5.9,   7.3553,  33.9308,2,    303.8,2,   -999.0,9,  -999.00,9,  -999.00,9,  -999.00,9,   -999.0,9,-999.0000,9,  -999.00
  29HE20130320,   A17,     5,  2,     22,2,20130324,2003,-48.3050, -54.9230, 4944,      5.8,   7.3547,  33.9308,2,    304.0,2,   -999.0,9,  -999.00,9,  -999.00,9,  -999.00,9,   -999.0,9,-999.0000,9,  -999.00
  29HE20130320,   A17,     5,  2,     23,2,20130324,2003,-48.3050, -54.9230, 4944,      5.8,   7.3542,  33.9308,2,    304.2,2,   -999.0,9,  -999.00,9,  -999.00,9,  -999.00,9,   -999.0,9,-999.0000,9,  -999.00
  29HE20130320,   A17,     5,  2,     24,2,20130324,2003,-48.3050, -54.9230, 4944,      6.0,   7.3561,  33.9308,2,    303.8,2,    303.1,2,     1.52,2,    18.17,2,     1.03,2,   2273.6,2,   7.8186,2,    25.00