BOTTLE,20230216CCHSIOENA
EXPOCODE,SECT_ID,STNNBR,CASTNO,BTLNBR,BTLNBR_FLAG_W,DATE,TIME,LATITUDE,LONGITUDE,DEPTH,CTDPRS,CTDTMP,CTDSAL,CTDSAL_FLAG_W,CTDOXY,CTDOXY_FLAG_W,OXYGEN,OXYGEN_FLAG_W,SILCAT,SILCAT_FLAG_W,NITRAT,NITRAT_FLAG_W,PHSPHT,PHSPHT_FLAG_W,ALKALI,ALKALI_FLAG_W,PH_TOT,PH_TOT_FLAG_W,PH_TMP
,,,,,,,,,,METERS,DBAR,ITS-90,PSS-78,,UMOL/KG,,UMOL/KG,,UMOL/KG,,UMOL/KG,,UMOL/KG,,UMOL/KG,,,,DEG C
  29HE20130320,   A17,    65,  1,      1,2,20130425,0052, -7.6410, -31.8190, 5084,   5149.6,   0.6754,  34.7021,2,    220.8,2,    222.1,2,   119.77,2,    32.39,2,     2.16,2,   -999.0,9,   7.6249,2,    25.00
  29HE20130320,   A17,    65,  1,      2,2,20130425,0052, -7.6410, -31.8190, 5084,   5086.1,   0.7196,  34.7073,2,    221.2,2,    223.1,2,   118.78,2,    32.14,2,     2.12,2,   -999.0,9,   7.6246,2,    25.00
  29HE20130320,   A17,    65,  1,      3,2,20130425,0052, -7.6410, -31.8190, 5084,   4573.9,   1.0089,  34.7411,2,    226.1,2,    227.1,2,   104.36,2,    30.38,2,     1.94,2,   -999.0,9,   7.6438,2,    25.00
  29HE20130320,   A17,    65,  1,      4,2,20130425,0052, -7.6410, -31.8190, 5084,   4061.0,   1.7932,  34.8303,2,    242.6,2,    244.0,2,    65.81,2,    24.75,2,     1.48,3,   -999.0,9,   7.6927,2,    25.00
  29HE20130320,   A17,    65,  1,      5,2,20130425,0052, -7.6410, -31.8190, 5084,   3549.3,   2.5483,  34.9098,2,    257.0,2,    258.1,2,    32.53,2,    21.50,2,     1.35,2,   -999.0,9,   7.7291,2,    25.00
  29HE20130320,   A17,    65,  1,      6,2,20130425,0052, -7.6410, -31.8190, 5084,   3039.4,   2.6962,  34.9184,2,    252.9,2,    253.9,2,    31.60,2,    21.73,2,     1.36,2,   -999.0,9,   7.7266,2,    25.00
  29HE20130320,   A17,    65,  1,      7,2,20130425,0052, -7.6410, -31.8190, 5084,   2530.1,   2.8830,  34.9252,2,    247.4,2,    247.8,2,    32.20,2,    22.33,2,     1.39,2,   -999.0,9,   7.7237,2,    25.00
  29HE20130320,   A17,    65,  1,      8,2,20130425,0052, -7.6410, -31.8190, 5084,   2275.0,   3.0891,  34.9386,2,    249.0,2,    248.8,2,    27.98,2,    21.51,2,     1.36,2,   -999.0,9,   7.7276,2,    25.00
  29HE20130320,   A17,    65,  1,      9,2,20130425,0052, -7.6410, -31.8190, 5084,   2021.3,   3.3241,  34.9485,2,    249.1,2,    249.1,2,    24.79,2,    21.47,2,     1.33,2,   -999.0,9,   7.7278,2,    25.00
  29HE20130320,   A17,    65,  1,     10,2,20130425,0052, -7.6410, -31.8190, 5084,   1817.7,   3.6697,  34.9633,2,    248.2,2,    247.7,2,    20.24,2,    21.14,2,     1.31,2,   -999.0,9,   7.7279,2,    25.00
  29HE20130320,   A17,    65,  1,     11,2,20130425,0052, -7.6410, -31.8190, 5084,   1616.4,   4.0325,  34.9683,2,    240.6,2,    239.5,2,    18.34,2,    21.87,2,     1.36,2,   -999.0,9,   7.7207,2,    25.00
  29HE20130320,   A17,    65,  1,     12,2,20130425,0052, -7.6410, -31.8190, 5084,   1413.7,   4.2152,  34.9171,2,    216.4,2,    214.5,2,    22.28,2,    25.11,2,     1.57,2,   -999.0,9,   7.6885,2,    25.00
  29HE20130320,   A17,    65,  1,     13,2,20130425,0052, -7.6410, -31.8190, 5084,   1210.8,   4.2021,  34.7624,2,    183.9,2,    183.2,2,    29.13,2,    30.12,2,     1.93,2,   -999.0,9,   7.6293,2,    25.00
  29HE20130320,   A17,    65,  1,     14,2,20130425,0052, -7.6410, -31.8190, 5084,   1008.0,   4.0984,  34.5401,2,    168.7,2,    167.9,2,    35.02,2,    34.42,2,     2.21,2,   -999.0,9,   7.5827,2,    25.00
  29HE20130320,   A17,    65,  1,     15,2,20130425,0052, -7.6410, -31.8190, 5084,    806.9,   4.7317,  34.4482,2,    165.6,2,    164.1,2,    30.91,2,    34.97,2,     2.23,2,   -999.0,9,   7.5774,2,    25.00
  29HE20130320,   A17,    65,  1,     16,2,20130425,0052, -7.6410, -31.8190, 5084,    705.9,   5.4140,  34.4784,2,    148.8,2,    148.2,2,    26.72,2,    34.97,2,     2.22,2,   -999.0,9,   7.5618,2,    25.00
  29HE20130320,   A17,    65,  1,     17,2,20130425,0052, -7.6410, -31.8190, 5084,    604.8,   6.0779,  34.5326,2,    127.3,2,    126.2,2,    24.24,2,    35.71,2,     2.24,2,   -999.0,9,   7.5380,2,    25.00
  29HE20130320,   A17,    65,  1,     18,2,20130425,0052, -7.6410, -31.8190, 5084,    503.7,   7.0263,  34.6007,2,    122.1,2,    120.9,2,    20.50,2,    34.27,2,     2.10,2,   -999.0,9,   7.5479,2,    25.00
  29HE20130320,   A17,    65,  1,     19,2,20130425,0052, -7.6410, -31.8190, 5084,    403.3,   7.7116,  34.6332,2,    148.0,2,    147.5,2,    17.12,2,    30.02,2,     1.85,2,   -999.0,9,   7.6083,2,    25.00
  29HE20130320,   A17,    65,  1,     20,2,20130425,0052, -7.6410, -31.8190, 5084,    303.7,   9.2763,  34.8097,2,    123.1,2,    123.1,2,    14.14,2,    28.90,2,     1.71,2,   -999.0,9,   7.6058,2,    25.00
  29HE20130320,   A17,    65,  1,     21,2,20130425,0052, -7.6410, -31.8190, 5084,    202.5,  12.7977,  35.2574,2,    118.3,2,    116.4,2,     8.21,2,    22.08,2,     1.23,2,   -999.0,9,   7.6863,2,    25.00
  29HE20130320,   A17,    65,  1,     22,2,20130425,0052, -7.6410, -31.8190, 5084,    102.4,  24.2184,  37.0692,2,    214.9,2,    212.1,2,     1.06,2,     0.05,2,     0.01,2,   -999.0,9,   8.0486,2,    25.00
  29HE20130320,   A17,    65,  1,     23,2,20130425,0052, -7.6410, -31.8190, 5084,     41.5,  28.7700,  36.5420,2,    198.0,2,    196.1,2,     1.03,2,     0.20,2,     0.02,2,   -999.0,9,   8.0761,2,    25.00
  29HE20130320,   A17,    65,  1,     24,2,20130425,0052, -7.6410, -31.8190, 5084,      5.5,  28.7610,  36.5418,2,    197.4,2,    196.0,2,     1.02,2,     0.43,2,     0.03,2,   -999.0,9,   8.0769,2,    25.00
  29HE20130320,   A17,    66,  1,      1,2,20130425,1537, -7.5050, -30.2600, 5412,   5077.4,   0.7531,  34.7123,2,    220.9,2,    222.8,2,   115.04,2,    31.11,2,     2.11,2,   2366.8,2,   7.6327,2,    25.00
  29HE20130320,   A17,    66,  1,      2,2,20130425,1537, -7.5050, -30.2600, 5412,   5079.1,   0.7531,  34.7123,2,    221.0,2,    222.9,2,   114.67,2,    31.09,2,     2.10,2,   2365.9,2,   7.6488,2,    25.00
  29HE20130320,   A17,    66,  1,      3,2,20130425,1537, -7.5050, -30.2600, 5412,   4572.2,   1.0087,  34.7449,2,    226.4,2,    228.4,2,   102.01,2,    29.83,2,     1.96,2,   2361.8,2,   7.6537,2,    25.00
  29HE20130320,   A17,    66,  1,      4,2,20130425,1537, -7.5050, -30.2600, 5412,   4060.9,   1.8170,  34.8334,2,    242.2,2,    241.5,2,    64.96,2,    24.58,2,     1.61,2,   2344.3,2,   7.7016,2,    25.00
  29HE20130320,   A17,    66,  1,      5,2,20130425,1537, -7.5050, -30.2600, 5412,   3549.5,   2.4810,  34.9035,2,    254.7,2,    256.2,2,    35.31,2,    20.98,2,     1.33,2,   2327.9,2,   7.7358,2,    25.00
  29HE20130320,   A17,    66,  1,      6,2,20130425,1537, -7.5050, -30.2600, 5412,   3039.7,   2.6861,  34.9128,2,    247.8,2,    249.1,2,    35.23,2,    21.78,2,     1.37,2,   2328.6,2,   7.7321,2,    25.00
  29HE20130320,   A17,    66,  1,      7,2,20130425,1537, -7.5050, -30.2600, 5412,   3040.5,   2.6862,  34.9127,2,    247.0,2,   -999.0,9,  -999.00,9,  -999.00,9,  -999.00,9,   -999.0,9,-999.0000,9,  -999.00
  29HE20130320,   A17,    66,  1,      8,2,20130425,1537, -7.5050, -30.2600, 5412,   2531.5,   2.8974,  34.9178,2,    242.6,2,    243.6,2,    34.28,2,    22.06,2,     1.40,2,   2327.0,2,   7.7276,2,    25.00
  29HE20130320,   A17,    66,  1,      9,2,20130425,1537, -7.5050, -30.2600, 5412,   2024.9,   3.3794,  34.9515,2,    248.7,2,    249.0,2,    23.76,2,    20.66,2,     1.28,2,   2316.3,2,   7.7342,2,    25.00
  29HE20130320,   A17,    66,  1,     10,2,20130425,1537, -7.5050, -30.2600, 5412,   1818.2,   3.6627,  34.9625,2,    247.5,2,    247.7,2,    20.73,2,    20.34,2,     1.29,2,   2315.0,2,   7.7314,2,    25.00
  29HE20130320,   A17,    66,  1,     11,2,20130425,1537, -7.5050, -30.2600, 5412,   1616.8,   3.9674,  34.9555,2,    234.4,2,    234.9,2,    20.81,2,    21.80,2,     1.39,2,   2313.5,2,   7.7174,2,    25.00
  29HE20130320,   A17,    66,  1,     12,2,20130425,1537, -7.5050, -30.2600, 5412,   1413.9,   4.2285,  34.9090,2,    212.7,2,    213.4,2,    22.82,2,    24.16,2,     1.57,2,   2312.3,2,   7.6871,2,    25.00
  29HE20130320,   A17,    66,  1,     13,2,20130425,1537, -7.5050, -30.2600, 5412,   1207.2,   4.2243,  34.7550,2,    184.0,2,    183.7,2,    29.79,2,    28.91,2,     1.93,2,   2311.7,2,   7.6299,2,    25.00
  29HE20130320,   A17,    66,  1,     14,2,20130425,1537, -7.5050, -30.2600, 5412,   1006.4,   4.0678,  34.5308,2,    167.9,2,    167.8,2,    35.76,2,    32.89,2,     2.21,2,   -999.0,9,   7.5833,2,    25.00
  29HE20130320,   A17,    66,  1,     15,2,20130425,1537, -7.5050, -30.2600, 5412,    807.8,   4.6638,  34.4487,2,    160.1,2,    159.5,2,    31.84,2,    33.47,2,     2.25,2,   2298.1,2,   7.5698,2,    25.00
  29HE20130320,   A17,    66,  1,     16,2,20130425,1537, -7.5050, -30.2600, 5412,    702.0,   5.4426,  34.4946,2,    133.7,2,    133.7,2,    27.81,2,    36.00,2,     2.31,2,   2295.0,2,   7.5404,2,    25.00
  29HE20130320,   A17,    66,  1,     17,2,20130425,1537, -7.5050, -30.2600, 5412,    599.7,   6.3042,  34.5467,2,    121.2,2,    121.0,2,    24.25,2,    35.50,2,     2.25,2,   2294.0,2,   7.5354,2,    25.00
  29HE20130320,   A17,    66,  1,     18,2,20130425,1537, -7.5050, -30.2600, 5412,    506.8,   7.1545,  34.6098,2,    116.0,2,    116.1,2,    20.63,2,    33.36,2,     2.13,2,   2292.9,2,   7.5435,2,    25.00
  29HE20130320,   A17,    66,  1,     19,2,20130425,1537, -7.5050, -30.2600, 5412,    400.3,   8.3501,  34.7194,2,    112.6,2,    112.3,2,    16.98,2,    31.20,2,     1.96,2,   2296.7,2,   7.5664,2,    25.00
  29HE20130320,   A17,    66,  1,     20,2,20130425,1537, -7.5050, -30.2600, 5412,    302.6,   9.5098,  34.8408,2,    114.6,2,    115.0,2,    13.97,2,    28.71,2,     1.76,2,   2300.7,2,   7.6002,2,    25.00
  29HE20130320,   A17,    66,  1,     21,2,20130425,1537, -7.5050, -30.2600, 5412,    203.8,  12.4440,  35.2105,2,    113.1,2,    110.1,2,     8.78,2,    23.22,2,     1.36,2,   2315.7,2,   7.6708,2,    25.00
  29HE20130320,   A17,    66,  1,     22,2,20130425,1537, -7.5050, -30.2600, 5412,    100.6,  24.7725,  36.9429,2,    214.0,2,    209.4,2,     0.98,2,     0.04,2,     0.01,2,   2421.6,2,   8.0631,2,    25.00
  29HE20130320,   A17,    66,  1,     23,2,20130425,1537, -7.5050, -30.2600, 5412,     40.7,  28.4680,  36.5253,2,    197.6,2,    197.1,2,     1.13,2,     0.08,2,     0.00,2,   2392.6,2,   8.0745,2,    25.00
  29HE20130320,   A17,    66,  1,     24,2,20130425,1537, -7.5050, -30.2600, 5412,      7.1,  28.5639,  36.5291,2,    197.3,2,    196.5,2,     1.12,2,     0.04,2,     0.00,2,   2395.9,2,   8.0744,2,    25.00
  29HE20130320,   A17,    67,  1,      1,2,20130426,0346, -6.4050, -30.2010, 5103,    302.3,   9.3291,  34.8336,2,     97.5,2,   -999.0,9,  -999.00,9,  -999.00,9,  -999.00,9,   -999.0,9,-999.0000,9,  -999.00
  29HE20130320,   A17,    67,  1,      2,2,20130426,0346, -6.4050, -30.2010, 5103,    302.0,   9.3460,  34.8346,2,     97.8,2,    100.3,2,    15.21,2,    30.66,2,     1.82,2,   -999.0,9,   7.5690,2,    25.00
  29HE20130320,   A17,    67,  1,      3,2,20130426,0346, -6.4050, -30.2010, 5103,    202.0,  11.0004,  35.0329,2,    106.3,2,    104.3,2,    11.62,2,    26.56,2,     1.52,2,   -999.0,9,   7.6201,2,    25.00
  29HE20130320,   A17,    67,  1,      4,2,20130426,0346, -6.4050, -30.2010, 5103,    162.6,  13.1239,  35.3078,2,    108.7,2,   -999.0,9,  -999.00,9,  -999.00,9,  -999.00,9,   -999.0,9,-999.0000,9,  -999.00
  29HE20130320,   A17,    67,  1,      5,2,20130426,0346, -6.4050, -30.2010, 5103,    161.4,  13.2404,  35.3231,2,    109.1,2,   -999.0,9,  -999.00,9,  -999.00,9,  -999.00,9,   -999.0,9,-999.0000,9,  -999.00
  29HE20130320,   A17,    67,  1,      6,2,20130426,0346, -6.4050, -30.2010, 5103,    162.0,  13.1789,  35.3254,2,    108.4,2,   -999.0,9,  -999.00,9,  -999.00,9,  -999.00,9,   -999.0,9,-999.0000,9,  -999.00
  29HE20130320,   A17,    67,  1,      7,2,20130426,0346, -6.4050, -30.2010, 5103,    162.0,  13.1610,  35.3148,2,    109.6,2,   -999.0,9,  -999.00,9,  -999.00,9,  -999.00,9,   -999.0,9,-999.0000,9,  -999.00
  29HE20130320,   A17,    67,  1,      8,2,20130426,0346, -6.4050, -30.2010, 5103,    161.3,  13.1842,  35.3171,2,    108.8,2,   -999.0,9,  -999.00,9,  -999.00,9,  -999.00,9,   -999.0,9,-999.0000,9,  -999.00
  29HE20130320,   A17,    67,  1,      9,2,20130426,0346, -6.4050, -30.2010, 5103,    162.5,  13.6342,  35.3533,2,    109.5,2,   -999.0,9,  -999.00,9,  -999.00,9,  -999.00,9,   -999.0,9,-999.0000,9,  -999.00
  29HE20130320,   A17,    67,  1,     10,2,20130426,0346, -6.4050, -30.2010, 5103,    162.1,  13.3211,  35.3350,2,    109.8,2,   -999.0,9,  -999.00,9,  -999.00,9,  -999.00,9,   -999.0,9,-999.0000,9,  -999.00
  29HE20130320,   A17,    67,  1,     11,2,20130426,0346, -6.4050, -30.2010, 5103,    161.8,  13.3912,  35.3444,2,    109.4,2,   -999.0,9,  -999.00,9,  -999.00,9,  -999.00,9,   -999.0,9,-999.0000,9,  -999.00
  29HE20130320,   A17,    67,  1,     12,2,20130426,0346, -6.4050, -30.2010, 5103,    161.7,  13.4105,  35.3517,2,    109.4,2,   -999.0,9,  -999.00,9,  -999.00,9,  -999.00,9,   -999.0,9,-999.0000,9,  -999.00
  29HE20130320,   A17,    67,  1,     13,2,20130426,0346, -6.4050, -30.2010, 5103,    161.8,  13.5754,  35.3660,2,    109.9,2,   -999.0,9,  -999.00,9,  -999.00,9,  -999.00,9,   -999.0,9,-999.0000,9,  -999.00
  29HE20130320,   A17,    67,  1,     14,2,20130426,0346, -6.4050, -30.2010, 5103,    162.1,  13.5322,  35.3610,2,    109.9,2,   -999.0,9,  -999.00,9,  -999.00,9,  -999.00,9,   -999.0,9,-999.0000,9,  -999.00
  29HE20130320,   A17,    67,  1,     15,2,20130426,0346, -6.4050, -30.2010, 5103,    162.4,  13.3659,  35.3488,2,    109.2,2,   -999.0,9,  -999.00,9,  -999.00,9,  -999.00,9,   -999.0,9,-999.0000,9,  -999.00
  29HE20130320,   A17,    67,  1,     16,2,20130426,0346, -6.4050, -30.2010, 5103,    161.8,  13.5775,  35.3684,2,    110.1,2,   -999.0,9,  -999.00,9,  -999.00,9,  -999.00,9,   -999.0,9,-999.0000,9,  -999.00
  29HE20130320,   A17,    67,  1,     17,2,20130426,0346, -6.4050, -30.2010, 5103,    161.8,  13.5480,  35.3600,2,    109.6,2,   -999.0,9,  -999.00,9,  -999.00,9,  -999.00,9,   -999.0,9,-999.0000,9,  -999.00
  29HE20130320,   A17,    67,  1,     18,2,20130426,0346, -6.4050, -30.2010, 5103,    161.7,  13.4845,  35.3589,2,    109.2,2,   -999.0,9,  -999.00,9,  -999.00,9,  -999.00,9,   -999.0,9,-999.0000,9,  -999.00
  29HE20130320,   A17,    67,  1,     19,2,20130426,0346, -6.4050, -30.2010, 5103,    114.0,  22.5097,  36.6706,2,    189.5,2,   -999.0,9,  -999.00,9,  -999.00,9,  -999.00,9,   -999.0,9,-999.0000,9,  -999.00
  29HE20130320,   A17,    67,  1,     20,2,20130426,0346, -6.4050, -30.2010, 5103,    113.0,  22.5084,  36.6719,2,    190.2,2,    189.3,2,     1.58,2,     0.96,2,     0.04,2,   -999.0,9,   7.9857,2,    25.00
  29HE20130320,   A17,    67,  1,     21,2,20130426,0346, -6.4050, -30.2010, 5103,     51.4,  28.5882,  36.1734,2,    196.5,2,   -999.0,9,  -999.00,9,  -999.00,9,  -999.00,9,   -999.0,9,-999.0000,9,  -999.00
  29HE20130320,   A17,    67,  1,     22,2,20130426,0346, -6.4050, -30.2010, 5103,     50.7,  28.5663,  36.1825,2,    196.5,2,    196.2,2,     0.92,2,     0.02,2,    -0.01,2,   -999.0,9,   8.0728,2,    25.00
  29HE20130320,   A17,    67,  1,     23,2,20130426,0346, -6.4050, -30.2010, 5103,      4.8,  28.5887,  36.1619,2,    197.1,2,   -999.0,9,  -999.00,9,  -999.00,9,  -999.00,9,   -999.0,9,-999.0000,9,  -999.00
  29HE20130320,   A17,    67,  1,     24,2,20130426,0346, -6.4050, -30.2010, 5103,      5.0,  28.5903,  36.1620,2,    195.9,2,    195.9,2,     0.89,2,    -0.06,2,    -0.01,2,   -999.0,9,   8.0738,2,    25.00