BOTTLE,20230216CCHSIOENA
EXPOCODE,SECT_ID,STNNBR,CASTNO,BTLNBR,BTLNBR_FLAG_W,DATE,TIME,LATITUDE,LONGITUDE,DEPTH,CTDPRS,CTDTMP,CTDSAL,CTDSAL_FLAG_W,CTDOXY,CTDOXY_FLAG_W,OXYGEN,OXYGEN_FLAG_W,SILCAT,SILCAT_FLAG_W,NITRAT,NITRAT_FLAG_W,PHSPHT,PHSPHT_FLAG_W,ALKALI,ALKALI_FLAG_W,PH_TOT,PH_TOT_FLAG_W,PH_TMP
,,,,,,,,,,METERS,DBAR,ITS-90,PSS-78,,UMOL/KG,,UMOL/KG,,UMOL/KG,,UMOL/KG,,UMOL/KG,,UMOL/KG,,,,DEG C
  29HE20130320,   A17,   110,  1,      1,2,20130519,1137, 36.1680,  -7.3870,  893,    885.0,  11.3878,  36.1781,2,    170.3,2,    170.5,2,     9.40,2,    16.74,2,     0.98,2,   2386.9,2,   7.7797,2,    25.00
  29HE20130320,   A17,   110,  1,      2,2,20130519,1137, 36.1680,  -7.3870,  893,    884.9,  11.3793,  36.1746,2,    170.3,2,   -999.0,9,     9.37,2,    16.80,2,     0.98,2,   -999.0,9,-999.0000,9,  -999.00
  29HE20130320,   A17,   110,  1,      3,2,20130519,1137, 36.1680,  -7.3870,  893,    885.0,  11.3861,  36.1781,2,    170.3,2,   -999.0,9,  -999.00,9,  -999.00,9,  -999.00,9,   -999.0,9,-999.0000,9,  -999.00
  29HE20130320,   A17,   110,  1,      4,2,20130519,1137, 36.1680,  -7.3870,  893,    809.0,  10.7263,  35.7799,2,    166.5,2,    167.5,2,    10.27,2,    18.36,2,     1.09,2,   2361.9,2,   7.7563,2,    25.00
  29HE20130320,   A17,   110,  1,      5,2,20130519,1137, 36.1680,  -7.3870,  893,    808.9,  10.7261,  35.7799,2,    166.5,2,   -999.0,9,  -999.00,9,  -999.00,9,  -999.00,9,   -999.0,9,-999.0000,9,  -999.00
  29HE20130320,   A17,   110,  1,      6,2,20130519,1137, 36.1680,  -7.3870,  893,    809.0,  10.7256,  35.7798,2,    166.5,2,   -999.0,9,    10.32,2,    18.54,2,     1.10,2,   -999.0,9,-999.0000,9,  -999.00
  29HE20130320,   A17,   110,  1,      7,2,20130519,1137, 36.1680,  -7.3870,  893,    707.6,  10.6733,  35.6241,2,    165.1,2,    164.9,2,    10.33,2,    19.29,2,     1.14,2,   2344.4,2,   7.7421,2,    25.00
  29HE20130320,   A17,   110,  1,      8,2,20130519,1137, 36.1680,  -7.3870,  893,    707.7,  10.6755,  35.6237,2,    164.7,2,   -999.0,9,  -999.00,9,  -999.00,9,  -999.00,9,   -999.0,9,-999.0000,9,  -999.00
  29HE20130320,   A17,   110,  1,      9,2,20130519,1137, 36.1680,  -7.3870,  893,    707.5,  10.6717,  35.6235,2,    165.0,2,   -999.0,9,  -999.00,9,  -999.00,9,  -999.00,9,   -999.0,9,-999.0000,9,  -999.00
  29HE20130320,   A17,   110,  1,     10,2,20130519,1137, 36.1680,  -7.3870,  893,    605.7,  11.1574,  35.6037,2,    173.6,2,    173.4,2,     8.28,2,    17.67,2,     1.00,2,   2339.0,2,   7.7552,2,    25.00
  29HE20130320,   A17,   110,  1,     11,2,20130519,1137, 36.1680,  -7.3870,  893,    605.8,  11.1587,  35.6038,2,    173.4,2,   -999.0,9,  -999.00,9,  -999.00,9,  -999.00,9,   -999.0,9,-999.0000,9,  -999.00
  29HE20130320,   A17,   110,  1,     12,2,20130519,1137, 36.1680,  -7.3870,  893,    605.9,  11.1586,  35.6037,2,    173.4,2,   -999.0,9,  -999.00,9,  -999.00,9,  -999.00,9,   -999.0,9,-999.0000,9,  -999.00
  29HE20130320,   A17,   110,  1,     13,2,20130519,1137, 36.1680,  -7.3870,  893,    504.8,  11.9631,  35.6724,2,    188.0,2,    188.4,2,     6.00,2,    14.80,2,     0.85,2,   2341.0,2,   7.7859,2,    25.00
  29HE20130320,   A17,   110,  1,     14,2,20130519,1137, 36.1680,  -7.3870,  893,    504.5,  11.9640,  35.6725,2,    187.9,2,   -999.0,9,     6.07,2,    14.74,2,     0.82,2,   -999.0,9,-999.0000,9,  -999.00
  29HE20130320,   A17,   110,  1,     15,2,20130519,1137, 36.1680,  -7.3870,  893,    404.7,  12.6797,  35.7546,2,    200.1,2,    207.5,2,     4.38,2,    12.15,2,     0.65,2,   2346.4,2,   7.8152,2,    25.00
  29HE20130320,   A17,   110,  1,     16,2,20130519,1137, 36.1680,  -7.3870,  893,    404.6,  12.6804,  35.7548,2,    199.9,2,   -999.0,9,  -999.00,9,  -999.00,9,  -999.00,9,   -999.0,9,-999.0000,9,  -999.00
  29HE20130320,   A17,   110,  1,     17,2,20130519,1137, 36.1680,  -7.3870,  893,    305.0,  13.5960,  35.8959,2,    202.9,2,    203.0,2,     3.45,2,    10.03,2,     0.47,2,   2351.2,2,   7.8423,2,    25.00
  29HE20130320,   A17,   110,  1,     18,2,20130519,1137, 36.1680,  -7.3870,  893,    305.1,  13.5947,  35.8957,2,    202.5,2,   -999.0,9,  -999.00,9,  -999.00,9,  -999.00,9,   -999.0,9,-999.0000,9,  -999.00
  29HE20130320,   A17,   110,  1,     19,2,20130519,1137, 36.1680,  -7.3870,  893,    202.1,  14.9729,  36.1668,2,    219.6,2,    219.7,2,     2.06,2,     5.72,2,     0.18,2,   2370.5,2,   7.8951,2,    25.00
  29HE20130320,   A17,   110,  1,     20,2,20130519,1137, 36.1680,  -7.3870,  893,    202.1,  14.9723,  36.1665,2,    219.0,2,   -999.0,9,  -999.00,9,  -999.00,9,  -999.00,9,   -999.0,9,-999.0000,9,  -999.00
  29HE20130320,   A17,   110,  1,     21,2,20130519,1137, 36.1680,  -7.3870,  893,    101.1,  16.0608,  36.3818,2,    226.2,2,    226.2,2,     1.27,2,     2.88,2,     0.08,2,   2386.4,2,   7.9332,2,    25.00
  29HE20130320,   A17,   110,  1,     22,2,20130519,1137, 36.1680,  -7.3870,  893,    101.0,  16.0609,  36.3816,2,    225.7,2,   -999.0,9,  -999.00,9,  -999.00,9,  -999.00,9,   -999.0,9,-999.0000,9,  -999.00
  29HE20130320,   A17,   110,  1,     23,2,20130519,1137, 36.1680,  -7.3870,  893,    101.0,  16.0608,  36.3816,2,    226.0,2,   -999.0,9,  -999.00,9,  -999.00,9,  -999.00,9,   -999.0,9,-999.0000,9,  -999.00
  29HE20130320,   A17,   110,  1,     24,2,20130519,1137, 36.1680,  -7.3870,  893,      6.6,  18.0194,  36.4287,2,    237.7,2,    238.5,2,     0.73,2,     0.17,2,     0.07,2,   2388.2,2,   7.9764,2,    25.00
  29HE20130320,   A17,   111,  1,      1,2,20130519,2331, 35.9710,  -5.9750,  225,    214.2,  13.6795,  37.9213,2,    188.4,2,   -999.0,9,  -999.00,9,  -999.00,9,  -999.00,9,   -999.0,9,-999.0000,9,  -999.00
  29HE20130320,   A17,   111,  1,      2,2,20130519,2331, 35.9710,  -5.9750,  225,    214.3,  13.6796,  37.9213,2,    187.9,2,   -999.0,9,  -999.00,9,  -999.00,9,  -999.00,9,   -999.0,9,-999.0000,9,  -999.00
  29HE20130320,   A17,   111,  1,      3,2,20130519,2331, 35.9710,  -5.9750,  225,    214.2,  13.6771,  37.9210,2,    188.2,2,   -999.0,9,  -999.00,9,  -999.00,9,  -999.00,9,   -999.0,9,-999.0000,9,  -999.00
  29HE20130320,   A17,   111,  1,      4,2,20130519,2331, 35.9710,  -5.9750,  225,    214.4,  13.6745,  37.9213,2,    188.4,2,    188.9,2,     5.31,2,     7.81,2,     0.13,3,   2531.3,2,   7.8782,2,    25.00
  29HE20130320,   A17,   111,  1,      5,2,20130519,2331, 35.9710,  -5.9750,  225,    169.0,  13.9346,  37.6478,2,    193.9,2,   -999.0,9,  -999.00,9,  -999.00,9,  -999.00,9,   -999.0,9,-999.0000,9,  -999.00
  29HE20130320,   A17,   111,  1,      6,2,20130519,2331, 35.9710,  -5.9750,  225,    168.8,  13.9343,  37.6533,2,    193.8,2,    194.3,2,     4.72,2,     7.30,2,     0.22,2,   2504.9,2,   7.8825,2,    25.00
  29HE20130320,   A17,   111,  1,      7,2,20130519,2331, 35.9710,  -5.9750,  225,    168.9,  13.9363,  37.6405,2,    194.1,2,   -999.0,9,  -999.00,9,  -999.00,9,  -999.00,9,   -999.0,9,-999.0000,9,  -999.00
  29HE20130320,   A17,   111,  1,      8,2,20130519,2331, 35.9710,  -5.9750,  225,    147.2,  14.3996,  36.9009,2,    202.2,2,   -999.0,9,  -999.00,9,  -999.00,9,  -999.00,9,   -999.0,9,-999.0000,9,  -999.00
  29HE20130320,   A17,   111,  1,      9,2,20130519,2331, 35.9710,  -5.9750,  225,    147.2,  14.4172,  36.8660,2,    202.5,2,   -999.0,9,  -999.00,9,  -999.00,9,  -999.00,9,   -999.0,9,-999.0000,9,  -999.00
  29HE20130320,   A17,   111,  1,     10,2,20130519,2331, 35.9710,  -5.9750,  225,    147.3,  14.4006,  36.9003,2,    202.6,2,   -999.0,9,  -999.00,9,  -999.00,9,  -999.00,9,   -999.0,9,-999.0000,9,  -999.00
  29HE20130320,   A17,   111,  1,     11,2,20130519,2331, 35.9710,  -5.9750,  225,    147.2,  14.4078,  36.8857,2,    202.7,2,    201.1,2,     3.93,2,     6.99,2,     0.24,2,   2452.3,2,   7.8836,2,    25.00
  29HE20130320,   A17,   111,  1,     12,2,20130519,2331, 35.9710,  -5.9750,  225,    130.1,  15.0408,  36.2360,2,    214.9,2,   -999.0,9,  -999.00,9,  -999.00,9,  -999.00,9,   -999.0,9,-999.0000,9,  -999.00
  29HE20130320,   A17,   111,  1,     13,2,20130519,2331, 35.9710,  -5.9750,  225,    129.9,  15.0493,  36.2345,2,    215.2,2,    213.6,2,     2.21,2,     5.68,2,     0.22,2,   2377.9,2,   7.8994,2,    25.00
  29HE20130320,   A17,   111,  1,     14,2,20130519,2331, 35.9710,  -5.9750,  225,    129.7,  15.0613,  36.2351,2,    215.0,2,   -999.0,9,  -999.00,9,  -999.00,9,  -999.00,9,   -999.0,9,-999.0000,9,  -999.00
  29HE20130320,   A17,   111,  1,     15,2,20130519,2331, 35.9710,  -5.9750,  225,    129.8,  15.0533,  36.2369,2,    215.2,2,   -999.0,9,  -999.00,9,  -999.00,9,  -999.00,9,   -999.0,9,-999.0000,9,  -999.00
  29HE20130320,   A17,   111,  1,     16,2,20130519,2331, 35.9710,  -5.9750,  225,     47.5,  16.8552,  36.4069,2,    242.7,2,   -999.0,9,  -999.00,9,  -999.00,9,  -999.00,9,   -999.0,9,-999.0000,9,  -999.00
  29HE20130320,   A17,   111,  1,     17,2,20130519,2331, 35.9710,  -5.9750,  225,     47.6,  16.8447,  36.4065,2,    242.5,2,   -999.0,9,  -999.00,9,  -999.00,9,  -999.00,9,   -999.0,9,-999.0000,9,  -999.00
  29HE20130320,   A17,   111,  1,     18,2,20130519,2331, 35.9710,  -5.9750,  225,     47.7,  16.8397,  36.4064,2,    242.7,2,    242.9,2,     0.59,2,     0.14,2,     0.03,2,   2386.7,2,   7.9685,2,    25.00
  29HE20130320,   A17,   111,  1,     19,2,20130519,2331, 35.9710,  -5.9750,  225,     47.7,  16.8408,  36.4068,2,    242.4,2,   -999.0,9,  -999.00,9,  -999.00,9,  -999.00,9,   -999.0,9,-999.0000,9,  -999.00
  29HE20130320,   A17,   111,  1,     20,2,20130519,2331, 35.9710,  -5.9750,  225,     47.7,  16.8471,  36.4077,2,    242.1,2,   -999.0,9,  -999.00,9,  -999.00,9,  -999.00,9,   -999.0,9,-999.0000,9,  -999.00
  29HE20130320,   A17,   111,  1,     21,2,20130519,2331, 35.9710,  -5.9750,  225,      5.5,  17.9678,  35.8895,2,    239.5,2,   -999.0,9,  -999.00,9,  -999.00,9,  -999.00,9,   -999.0,9,-999.0000,9,  -999.00
  29HE20130320,   A17,   111,  1,     22,2,20130519,2331, 35.9710,  -5.9750,  225,      5.5,  17.9644,  35.8761,2,    239.7,2,    243.0,2,     1.01,2,     0.12,2,     0.03,2,   2391.5,2,   8.0101,2,    25.00
  29HE20130320,   A17,   111,  1,     23,2,20130519,2331, 35.9710,  -5.9750,  225,      5.2,  17.9644,  35.8807,2,    240.1,2,   -999.0,9,  -999.00,9,  -999.00,9,  -999.00,9,   -999.0,9,-999.0000,9,  -999.00
  29HE20130320,   A17,   111,  1,     24,2,20130519,2331, 35.9710,  -5.9750,  225,      5.5,  17.9658,  35.8751,2,    240.3,2,   -999.0,9,  -999.00,9,  -999.00,9,  -999.00,9,   -999.0,9,-999.0000,9,  -999.00
  29HE20130320,   A17,   112,  1,      1,2,20130520,0119, 35.9530,  -5.7450,  291,    275.5,  13.1712,  38.5038,2,    171.9,2,   -999.0,9,  -999.00,9,  -999.00,9,  -999.00,9,   -999.0,9,-999.0000,9,  -999.00
  29HE20130320,   A17,   112,  1,      2,2,20130520,0119, 35.9530,  -5.7450,  291,    275.4,  13.1702,  38.5038,2,    172.2,2,   -999.0,9,  -999.00,9,  -999.00,9,  -999.00,9,   -999.0,9,-999.0000,9,  -999.00
  29HE20130320,   A17,   112,  1,      3,2,20130520,0119, 35.9530,  -5.7450,  291,    275.5,  13.1698,  38.5038,2,    172.0,2,    172.6,2,     8.40,2,     9.70,2,     0.25,2,   2583.5,2,   7.8760,2,    25.00
  29HE20130320,   A17,   112,  1,      4,2,20130520,0119, 35.9530,  -5.7450,  291,    275.5,  13.1691,  38.5037,2,    171.9,2,   -999.0,9,  -999.00,9,  -999.00,9,  -999.00,9,   -999.0,9,-999.0000,9,  -999.00
  29HE20130320,   A17,   112,  1,      5,2,20130520,0119, 35.9530,  -5.7450,  291,    275.5,  13.1689,  38.5039,2,    172.2,2,   -999.0,9,  -999.00,9,  -999.00,9,  -999.00,9,   -999.0,9,-999.0000,9,  -999.00
  29HE20130320,   A17,   112,  1,      6,2,20130520,0119, 35.9530,  -5.7450,  291,    182.1,  13.2898,  38.3350,2,    186.1,2,   -999.0,9,  -999.00,9,  -999.00,9,  -999.00,9,   -999.0,9,-999.0000,9,  -999.00
  29HE20130320,   A17,   112,  1,      7,2,20130520,0119, 35.9530,  -5.7450,  291,    182.2,  13.2895,  38.3355,2,    185.6,2,    186.5,2,     5.60,2,     8.10,2,     0.23,2,   2568.4,2,   7.8782,2,    25.00
  29HE20130320,   A17,   112,  1,      8,2,20130520,0119, 35.9530,  -5.7450,  291,    182.1,  13.2893,  38.3357,2,    185.9,2,   -999.0,9,  -999.00,9,  -999.00,9,  -999.00,9,   -999.0,9,-999.0000,9,  -999.00
  29HE20130320,   A17,   112,  1,      9,2,20130520,0119, 35.9530,  -5.7450,  291,    133.0,  14.2768,  37.2691,2,    199.1,2,   -999.0,9,  -999.00,9,  -999.00,9,  -999.00,9,   -999.0,9,-999.0000,9,  -999.00
  29HE20130320,   A17,   112,  1,     10,2,20130520,0119, 35.9530,  -5.7450,  291,    132.8,  14.2791,  37.2671,2,    198.8,2,   -999.0,9,  -999.00,9,  -999.00,9,  -999.00,9,   -999.0,9,-999.0000,9,  -999.00
  29HE20130320,   A17,   112,  1,     11,2,20130520,0119, 35.9530,  -5.7450,  291,    132.8,  14.2778,  37.2684,2,    198.9,2,    199.2,2,     3.95,2,     6.85,2,     0.22,2,   2468.0,2,   7.8885,2,    25.00
  29HE20130320,   A17,   112,  1,     12,2,20130520,0119, 35.9530,  -5.7450,  291,    132.9,  14.2791,  37.2676,2,    199.0,2,   -999.0,9,  -999.00,9,  -999.00,9,  -999.00,9,   -999.0,9,-999.0000,9,  -999.00
  29HE20130320,   A17,   112,  1,     13,2,20130520,0119, 35.9530,  -5.7450,  291,    132.9,  14.2661,  37.2793,2,    198.8,2,   -999.0,9,  -999.00,9,  -999.00,9,  -999.00,9,   -999.0,9,-999.0000,9,  -999.00
  29HE20130320,   A17,   112,  1,     14,2,20130520,0119, 35.9530,  -5.7450,  291,    104.7,  15.1311,  36.2241,2,    215.5,2,   -999.0,9,  -999.00,9,  -999.00,9,  -999.00,9,   -999.0,9,-999.0000,9,  -999.00
  29HE20130320,   A17,   112,  1,     15,2,20130520,0119, 35.9530,  -5.7450,  291,    104.7,  15.1290,  36.2243,2,    215.6,2,    216.4,2,     2.08,2,     5.57,2,     0.21,2,   2376.3,2,   7.9011,2,    25.00
  29HE20130320,   A17,   112,  1,     16,2,20130520,0119, 35.9530,  -5.7450,  291,    104.8,  15.1372,  36.2236,2,    216.1,2,   -999.0,9,  -999.00,9,  -999.00,9,  -999.00,9,   -999.0,9,-999.0000,9,  -999.00
  29HE20130320,   A17,   112,  1,     17,2,20130520,0119, 35.9530,  -5.7450,  291,     23.4,  17.2008,  36.4187,2,    245.0,2,   -999.0,9,  -999.00,9,  -999.00,9,  -999.00,9,   -999.0,9,-999.0000,9,  -999.00
  29HE20130320,   A17,   112,  1,     18,2,20130520,0119, 35.9530,  -5.7450,  291,     23.4,  17.2027,  36.4183,2,    244.9,2,   -999.0,9,  -999.00,9,  -999.00,9,  -999.00,9,   -999.0,9,-999.0000,9,  -999.00
  29HE20130320,   A17,   112,  1,     19,2,20130520,0119, 35.9530,  -5.7450,  291,     23.5,  17.2049,  36.4187,2,    244.9,2,    244.1,2,     0.50,2,     0.08,2,     0.02,2,   2388.0,2,   7.9683,2,    25.00
  29HE20130320,   A17,   112,  1,     20,2,20130520,0119, 35.9530,  -5.7450,  291,     23.5,  17.2063,  36.4188,2,    247.8,2,   -999.0,9,  -999.00,9,  -999.00,9,  -999.00,9,   -999.0,9,-999.0000,9,  -999.00
  29HE20130320,   A17,   112,  1,     21,2,20130520,0119, 35.9530,  -5.7450,  291,     23.5,  17.2072,  36.4186,2,    248.2,2,   -999.0,9,  -999.00,9,  -999.00,9,  -999.00,9,   -999.0,9,-999.0000,9,  -999.00
  29HE20130320,   A17,   112,  1,     22,2,20130520,0119, 35.9530,  -5.7450,  291,      5.3,  17.5320,  35.9478,2,    245.4,2,   -999.0,9,  -999.00,9,  -999.00,9,  -999.00,9,   -999.0,9,-999.0000,9,  -999.00
  29HE20130320,   A17,   112,  1,     23,2,20130520,0119, 35.9530,  -5.7450,  291,      5.3,  17.5311,  35.9476,2,    245.4,2,   -999.0,9,     0.78,2,     0.01,2,     0.01,2,   2388.3,2,   8.0009,2,    25.00
  29HE20130320,   A17,   112,  1,     24,2,20130520,0119, 35.9530,  -5.7450,  291,      5.4,  17.5312,  35.9476,2,    245.3,2,   -999.0,9,  -999.00,9,  -999.00,9,  -999.00,9,   -999.0,9,-999.0000,9,  -999.00