BOTTLE,20230216CCHSIOENA
EXPOCODE,SECT_ID,STNNBR,CASTNO,BTLNBR,BTLNBR_FLAG_W,DATE,TIME,LATITUDE,LONGITUDE,DEPTH,CTDPRS,CTDTMP,CTDSAL,CTDSAL_FLAG_W,CTDOXY,CTDOXY_FLAG_W,OXYGEN,OXYGEN_FLAG_W,SILCAT,SILCAT_FLAG_W,NITRAT,NITRAT_FLAG_W,PHSPHT,PHSPHT_FLAG_W,ALKALI,ALKALI_FLAG_W,PH_TOT,PH_TOT_FLAG_W,PH_TMP
,,,,,,,,,,METERS,DBAR,ITS-90,PSS-78,,UMOL/KG,,UMOL/KG,,UMOL/KG,,UMOL/KG,,UMOL/KG,,UMOL/KG,,,,DEG C
  29HE20130320,   A17,    43,  1,      1,2,20130409,0817,-25.5060, -34.9960, 4334,    303.8,  14.7593,  35.4650,2,    220.3,2,   -999.0,9,  -999.00,9,  -999.00,9,  -999.00,9,   -999.0,9,-999.0000,9,  -999.00
  29HE20130320,   A17,    43,  1,      2,2,20130409,0817,-25.5060, -34.9960, 4334,    303.5,  14.7577,  35.4651,2,    220.1,2,   -999.0,9,  -999.00,9,  -999.00,9,  -999.00,9,   -999.0,9,-999.0000,9,  -999.00
  29HE20130320,   A17,    43,  1,      3,2,20130409,0817,-25.5060, -34.9960, 4334,    304.4,  14.7536,  35.4646,2,    219.7,2,   -999.0,9,  -999.00,9,  -999.00,9,  -999.00,9,   -999.0,9,-999.0000,9,  -999.00
  29HE20130320,   A17,    43,  1,      4,2,20130409,0817,-25.5060, -34.9960, 4334,    304.6,  14.7498,  35.4645,2,    219.9,2,   -999.0,9,  -999.00,9,  -999.00,9,  -999.00,9,   -999.0,9,-999.0000,9,  -999.00
  29HE20130320,   A17,    43,  1,      5,2,20130409,0817,-25.5060, -34.9960, 4334,    304.3,  14.7453,  35.4638,2,    220.3,2,   -999.0,9,  -999.00,9,  -999.00,9,  -999.00,9,   -999.0,9,-999.0000,9,  -999.00
  29HE20130320,   A17,    43,  1,      6,2,20130409,0817,-25.5060, -34.9960, 4334,    304.6,  14.7420,  35.4634,2,    220.1,2,   -999.0,9,  -999.00,9,  -999.00,9,  -999.00,9,   -999.0,9,-999.0000,9,  -999.00
  29HE20130320,   A17,    43,  1,      7,2,20130409,0817,-25.5060, -34.9960, 4334,    304.0,  14.7439,  35.4630,2,    220.0,2,   -999.0,9,  -999.00,9,  -999.00,9,  -999.00,9,   -999.0,9,-999.0000,9,  -999.00
  29HE20130320,   A17,    43,  1,      8,2,20130409,0817,-25.5060, -34.9960, 4334,    304.1,  14.7420,  35.4634,2,    219.8,2,   -999.0,9,  -999.00,9,  -999.00,9,  -999.00,9,   -999.0,9,-999.0000,9,  -999.00
  29HE20130320,   A17,    43,  1,      9,2,20130409,0817,-25.5060, -34.9960, 4334,    304.6,  14.7378,  35.4629,2,    220.0,2,   -999.0,9,  -999.00,9,  -999.00,9,  -999.00,9,   -999.0,9,-999.0000,9,  -999.00
  29HE20130320,   A17,    43,  1,     10,2,20130409,0817,-25.5060, -34.9960, 4334,    304.7,  14.7391,  35.4629,2,    219.9,2,   -999.0,9,  -999.00,9,  -999.00,9,  -999.00,9,   -999.0,9,-999.0000,9,  -999.00
  29HE20130320,   A17,    43,  1,     11,2,20130409,0817,-25.5060, -34.9960, 4334,    304.1,  14.7427,  35.4636,2,    219.7,2,   -999.0,9,  -999.00,9,  -999.00,9,  -999.00,9,   -999.0,9,-999.0000,9,  -999.00
  29HE20130320,   A17,    43,  1,     12,2,20130409,0817,-25.5060, -34.9960, 4334,    303.8,  14.7486,  35.4639,2,    220.0,2,   -999.0,9,  -999.00,9,  -999.00,9,  -999.00,9,   -999.0,9,-999.0000,9,  -999.00
  29HE20130320,   A17,    43,  1,     13,2,20130409,0817,-25.5060, -34.9960, 4334,    305.2,  14.7420,  35.4636,2,    219.7,2,   -999.0,9,  -999.00,9,  -999.00,9,  -999.00,9,   -999.0,9,-999.0000,9,  -999.00
  29HE20130320,   A17,    43,  1,     14,2,20130409,0817,-25.5060, -34.9960, 4334,    303.7,  14.7495,  35.4641,2,    220.1,2,   -999.0,9,  -999.00,9,  -999.00,9,  -999.00,9,   -999.0,9,-999.0000,9,  -999.00
  29HE20130320,   A17,    43,  1,     15,2,20130409,0817,-25.5060, -34.9960, 4334,    304.2,  14.7419,  35.4635,2,    219.9,2,   -999.0,9,  -999.00,9,  -999.00,9,  -999.00,9,   -999.0,9,-999.0000,9,  -999.00
  29HE20130320,   A17,    43,  1,     16,2,20130409,0817,-25.5060, -34.9960, 4334,    304.7,  14.7381,  35.4631,2,    219.6,2,   -999.0,9,  -999.00,9,  -999.00,9,  -999.00,9,   -999.0,9,-999.0000,9,  -999.00
  29HE20130320,   A17,    43,  1,     17,2,20130409,0817,-25.5060, -34.9960, 4334,    202.1,  16.8745,  35.7817,2,    217.3,2,   -999.0,9,  -999.00,9,  -999.00,9,  -999.00,9,   -999.0,9,-999.0000,9,  -999.00
  29HE20130320,   A17,    43,  1,     18,2,20130409,0817,-25.5060, -34.9960, 4334,    201.9,  16.8612,  35.7799,2,    217.3,2,   -999.0,9,  -999.00,9,  -999.00,9,  -999.00,9,   -999.0,9,-999.0000,9,  -999.00
  29HE20130320,   A17,    43,  1,     19,2,20130409,0817,-25.5060, -34.9960, 4334,    125.3,  20.5386,  36.4116,2,    225.0,2,   -999.0,9,  -999.00,9,  -999.00,9,  -999.00,9,   -999.0,9,-999.0000,9,  -999.00
  29HE20130320,   A17,    43,  1,     20,2,20130409,0817,-25.5060, -34.9960, 4334,    125.3,  20.5420,  36.4122,2,    225.1,2,   -999.0,9,  -999.00,9,  -999.00,9,  -999.00,9,   -999.0,9,-999.0000,9,  -999.00
  29HE20130320,   A17,    43,  1,     21,2,20130409,0817,-25.5060, -34.9960, 4334,     50.1,  23.6500,  36.5442,2,    238.9,2,   -999.0,9,  -999.00,9,  -999.00,9,  -999.00,9,   -999.0,9,-999.0000,9,  -999.00
  29HE20130320,   A17,    43,  1,     22,2,20130409,0817,-25.5060, -34.9960, 4334,     50.0,  23.6287,  36.5443,2,    238.9,2,   -999.0,9,  -999.00,9,  -999.00,9,  -999.00,9,   -999.0,9,-999.0000,9,  -999.00
  29HE20130320,   A17,    43,  1,     23,2,20130409,0817,-25.5060, -34.9960, 4334,      5.3,  25.6807,  36.7138,2,    211.9,2,   -999.0,9,  -999.00,9,  -999.00,9,  -999.00,9,   -999.0,9,-999.0000,9,  -999.00
  29HE20130320,   A17,    43,  1,     24,2,20130409,0817,-25.5060, -34.9960, 4334,      4.9,  25.6816,  36.7139,2,    211.9,2,   -999.0,9,  -999.00,9,  -999.00,9,  -999.00,9,   -999.0,9,-999.0000,9,  -999.00
  29HE20130320,   A17,    43,  2,      1,2,20130409,0938,-25.5060, -34.9960, 4334,   4382.7,   0.3921,  34.6827,2,    221.4,2,    221.3,2,   123.78,2,    31.83,2,     2.23,2,   2362.1,2,   7.6096,2,    25.00
  29HE20130320,   A17,    43,  2,      2,2,20130409,0938,-25.5060, -34.9960, 4334,   4383.4,   0.3851,  34.6822,2,    221.2,2,   -999.0,9,  -999.00,9,  -999.00,9,  -999.00,9,   -999.0,9,-999.0000,9,  -999.00
  29HE20130320,   A17,    43,  2,      3,2,20130409,0938,-25.5060, -34.9960, 4334,   4064.2,   1.2101,  34.7631,2,    230.2,2,    230.4,2,    94.49,2,    28.11,2,     1.89,2,   2353.2,2,   7.6561,2,    25.00
  29HE20130320,   A17,    43,  2,      4,2,20130409,0938,-25.5060, -34.9960, 4334,   3553.4,   2.2139,  34.8713,2,    249.9,2,    249.0,2,    48.82,2,    22.34,2,     1.41,2,   2334.6,2,   7.7126,2,    25.00
  29HE20130320,   A17,    43,  2,      5,2,20130409,0938,-25.5060, -34.9960, 4334,   3041.8,   2.7082,  34.9153,2,    253.6,2,    252.0,2,    32.86,2,    20.46,2,     1.27,2,   2326.6,2,   7.7293,2,    25.00
  29HE20130320,   A17,    43,  2,      6,2,20130409,0938,-25.5060, -34.9960, 4334,   3042.5,   2.7081,  34.9152,2,    252.8,2,   -999.0,9,  -999.00,9,  -999.00,9,  -999.00,9,   -999.0,9,-999.0000,9,  -999.00
  29HE20130320,   A17,    43,  2,      7,2,20130409,0938,-25.5060, -34.9960, 4334,   2530.5,   3.0040,  34.9309,2,    252.5,2,    249.8,2,    29.09,2,    20.04,2,     1.26,2,   2322.8,2,   7.7306,2,    25.00
  29HE20130320,   A17,    43,  2,      8,2,20130409,0938,-25.5060, -34.9960, 4334,   2278.5,   3.1827,  34.9411,2,    252.8,2,    252.9,2,    25.89,2,    19.77,2,     1.24,2,   2320.9,2,   7.7300,2,    25.00
  29HE20130320,   A17,    43,  2,      9,2,20130409,0938,-25.5060, -34.9960, 4334,   2022.8,   3.4005,  34.9444,2,    250.0,2,    249.1,2,    24.19,2,    19.96,2,     1.23,2,   2319.2,2,   7.7267,2,    25.00
  29HE20130320,   A17,    43,  2,     10,2,20130409,0938,-25.5060, -34.9960, 4334,   1818.6,   3.5996,  34.9422,2,    244.5,2,    244.5,2,    23.14,2,    20.78,2,     1.27,2,   2317.6,2,   7.7119,2,    25.00
  29HE20130320,   A17,    43,  2,     11,2,20130409,0938,-25.5060, -34.9960, 4334,   1617.5,   3.4774,  34.8454,2,    220.8,2,    220.4,2,    33.74,2,    24.54,2,     1.59,2,   2323.8,2,   7.6773,2,    25.00
  29HE20130320,   A17,    43,  2,     12,2,20130409,0938,-25.5060, -34.9960, 4334,   1413.6,   3.3958,  34.7233,2,    199.4,2,    199.2,2,    42.14,2,    27.97,2,     1.88,2,   2320.9,2,   7.6337,2,    25.00
  29HE20130320,   A17,    43,  2,     13,2,20130409,0938,-25.5060, -34.9960, 4334,   1213.0,   3.2023,  34.5203,2,    187.0,2,    187.5,2,    51.05,2,    31.95,2,     2.18,2,   2317.8,2,   7.5962,2,    25.00
  29HE20130320,   A17,    43,  2,     14,2,20130409,0938,-25.5060, -34.9960, 4334,   1010.4,   3.8169,  34.3869,2,    194.3,2,    194.5,2,    39.02,2,    32.55,2,     2.15,2,   2305.7,2,   7.5974,2,    25.00
  29HE20130320,   A17,    43,  2,     15,2,20130409,0938,-25.5060, -34.9960, 4334,    807.3,   4.9111,  34.3341,2,    211.7,2,    212.3,2,    24.41,2,    29.13,2,     1.88,2,   2294.0,2,   7.6399,2,    25.00
  29HE20130320,   A17,    43,  2,     16,2,20130409,0938,-25.5060, -34.9960, 4334,    605.2,   8.2170,  34.5933,2,    203.0,2,    203.6,2,    11.34,2,    22.01,2,     1.37,2,   2291.6,2,   7.7018,2,    25.00
  29HE20130320,   A17,    43,  2,     17,2,20130409,0938,-25.5060, -34.9960, 4334,    503.9,  10.6703,  34.8945,2,    207.6,2,    208.1,2,     6.17,2,    15.24,2,     0.88,2,   2302.9,2,   7.7700,2,    25.00
  29HE20130320,   A17,    43,  2,     18,2,20130409,0938,-25.5060, -34.9960, 4334,    403.5,  12.9847,  35.2359,2,    216.1,2,    216.6,2,     3.40,2,     9.49,2,     0.55,2,   2321.9,2,   7.8389,2,    25.00
  29HE20130320,   A17,    43,  2,     19,2,20130409,0938,-25.5060, -34.9960, 4334,    303.3,  14.6213,  35.4461,2,    213.3,2,    213.9,2,     2.41,2,     6.01,2,     0.23,2,   2331.5,2,   7.8802,2,    25.00
  29HE20130320,   A17,    43,  2,     20,2,20130409,0938,-25.5060, -34.9960, 4334,    200.7,  17.0960,  35.8170,2,    207.8,2,    209.0,2,     1.71,2,     2.59,2,     0.00,2,   2350.8,2,   7.9274,2,    25.00
  29HE20130320,   A17,    43,  2,     21,2,20130409,0938,-25.5060, -34.9960, 4334,    101.4,  21.1934,  36.5174,2,    222.6,2,    222.5,2,     1.04,2,    -0.01,2,    -0.02,2,   2395.0,2,   8.0145,2,    25.00
  29HE20130320,   A17,    43,  2,     22,2,20130409,0938,-25.5060, -34.9960, 4334,     52.0,  24.5770,  36.6078,2,    222.5,2,    228.4,2,     0.89,2,     0.01,2,    -0.02,2,   2397.2,2,   8.0513,2,    25.00
  29HE20130320,   A17,    43,  2,     23,2,20130409,0938,-25.5060, -34.9960, 4334,      7.8,  25.6748,  36.6987,2,    205.3,2,    205.7,2,     0.78,2,     0.00,2,    -0.02,2,   2404.0,2,   8.0644,2,    25.00
  29HE20130320,   A17,    43,  2,     24,2,20130409,0938,-25.5060, -34.9960, 4334,      7.3,  25.6738,  36.6986,2,    213.1,2,   -999.0,9,  -999.00,9,  -999.00,9,  -999.00,9,   -999.0,9,-999.0000,9,  -999.00
  29HE20130320,   A17,    44,  1,      1,2,20130409,1814,-24.9080, -34.4680, 4572,   4578.6,   0.3680,  34.6791,2,    220.8,2,    221.3,2,   123.56,2,    31.94,2,     2.22,2,   -999.0,9,   7.5963,2,    25.00
  29HE20130320,   A17,    44,  1,      2,2,20130409,1814,-24.9080, -34.4680, 4572,   4061.7,   1.5673,  34.8016,2,    237.7,2,    237.0,2,    77.58,2,    25.80,2,     1.73,2,   -999.0,9,   7.6784,2,    25.00
  29HE20130320,   A17,    44,  1,      3,2,20130409,1814,-24.9080, -34.4680, 4572,   3551.5,   2.4863,  34.8962,2,    253.0,2,    252.1,2,    39.06,2,    20.69,2,     1.34,2,   -999.0,9,   7.7265,2,    25.00
  29HE20130320,   A17,    44,  1,      4,2,20130409,1814,-24.9080, -34.4680, 4572,   3039.6,   2.7980,  34.9196,2,    252.9,2,    254.5,2,    31.38,2,    20.48,2,     1.27,2,   -999.0,9,   7.7328,2,    25.00
  29HE20130320,   A17,    44,  1,      5,2,20130409,1814,-24.9080, -34.4680, 4572,   2784.9,   2.9328,  34.9269,2,    252.5,2,    251.6,2,    30.34,2,    20.19,2,     1.26,2,   -999.0,9,   7.7104,2,    25.00
  29HE20130320,   A17,    44,  1,      6,2,20130409,1814,-24.9080, -34.4680, 4572,   2531.1,   3.0945,  34.9361,2,    252.8,2,    252.1,2,    27.35,2,    19.90,2,     1.24,2,   -999.0,9,   7.7303,2,    25.00
  29HE20130320,   A17,    44,  1,      7,2,20130409,1814,-24.9080, -34.4680, 4572,   2277.7,   3.2783,  34.9427,2,    251.4,2,    250.9,2,    25.00,2,    19.87,2,     1.24,2,   -999.0,9,   7.7321,2,    25.00
  29HE20130320,   A17,    44,  1,      8,2,20130409,1814,-24.9080, -34.4680, 4572,   2022.0,   3.4825,  34.9448,2,    248.3,2,    247.7,2,    23.42,2,    20.09,2,     1.27,2,   -999.0,9,   7.7275,2,    25.00
  29HE20130320,   A17,    44,  1,      9,2,20130409,1814,-24.9080, -34.4680, 4572,   1817.9,   3.5943,  34.9238,2,    238.9,2,    238.0,2,    25.58,2,    21.28,2,     1.37,2,   -999.0,9,   7.7022,2,    25.00
  29HE20130320,   A17,    44,  1,     10,2,20130409,1814,-24.9080, -34.4680, 4572,   1617.6,   3.4100,  34.8184,2,    215.4,2,    214.4,2,    36.82,2,    25.04,2,     1.70,2,   -999.0,9,   7.6688,2,    25.00
  29HE20130320,   A17,    44,  1,     11,2,20130409,1814,-24.9080, -34.4680, 4572,   1415.6,   3.2085,  34.6685,2,    194.2,2,    194.2,2,    47.51,2,    29.72,2,     2.00,2,   -999.0,9,   7.6224,2,    25.00
  29HE20130320,   A17,    44,  1,     12,2,20130409,1814,-24.9080, -34.4680, 4572,   1210.9,   3.2535,  34.5213,2,    186.9,2,    187.8,2,    49.66,2,    31.97,2,     2.18,2,   -999.0,9,   7.5950,2,    25.00
  29HE20130320,   A17,    44,  1,     13,2,20130409,1814,-24.9080, -34.4680, 4572,   1012.3,   3.6474,  34.3967,2,    194.1,2,    194.1,2,    40.76,2,    31.83,2,     2.19,2,   -999.0,9,   7.5988,2,    25.00
  29HE20130320,   A17,    44,  1,     14,2,20130409,1814,-24.9080, -34.4680, 4572,    906.9,   4.3043,  34.3818,2,    190.4,2,    190.4,2,    32.49,2,    31.89,2,     2.14,2,   -999.0,9,   7.6014,2,    25.00
  29HE20130320,   A17,    44,  1,     15,2,20130409,1814,-24.9080, -34.4680, 4572,    806.4,   5.1753,  34.3920,2,    189.3,2,    189.7,2,    25.71,2,    30.19,2,     2.02,2,   -999.0,9,   7.6144,2,    25.00
  29HE20130320,   A17,    44,  1,     16,2,20130409,1814,-24.9080, -34.4680, 4572,    707.1,   6.6104,  34.4775,2,    186.0,2,    187.2,2,    18.21,2,    27.16,2,     1.79,2,   -999.0,9,   7.6400,2,    25.00
  29HE20130320,   A17,    44,  1,     17,2,20130409,1814,-24.9080, -34.4680, 4572,    605.5,   8.4323,  34.6403,2,    180.9,2,    182.0,2,    12.93,2,    23.56,2,     1.52,2,   -999.0,9,   7.6763,2,    25.00
  29HE20130320,   A17,    44,  1,     18,2,20130409,1814,-24.9080, -34.4680, 4572,    505.5,  10.4807,  34.8619,2,    198.2,2,    198.7,2,     7.21,2,    16.64,2,     1.05,2,   -999.0,9,   7.7554,2,    25.00
  29HE20130320,   A17,    44,  1,     19,2,20130409,1814,-24.9080, -34.4680, 4572,    401.0,  12.9995,  35.2163,2,    212.2,2,    210.6,2,     3.49,2,     9.43,2,     0.61,2,   -999.0,9,   7.8395,2,    25.00
  29HE20130320,   A17,    44,  1,     20,2,20130409,1814,-24.9080, -34.4680, 4572,    302.2,  14.6367,  35.4458,2,    212.4,2,    212.4,2,     2.42,2,     6.03,2,     0.34,2,   -999.0,9,   7.8831,2,    25.00
  29HE20130320,   A17,    44,  1,     21,2,20130409,1814,-24.9080, -34.4680, 4572,    200.6,  17.0255,  35.8045,2,    208.7,2,    209.2,2,     1.75,2,     2.59,2,     0.06,2,   -999.0,9,   7.9270,2,    25.00
  29HE20130320,   A17,    44,  1,     22,2,20130409,1814,-24.9080, -34.4680, 4572,    101.7,  21.5503,  36.5699,2,    224.2,2,    224.9,2,     1.04,2,    -0.01,2,    -0.02,2,   -999.0,9,   8.0260,2,    25.00
  29HE20130320,   A17,    44,  1,     23,2,20130409,1814,-24.9080, -34.4680, 4572,     50.1,  26.3707,  36.9151,2,    202.3,2,    203.3,2,     0.80,2,     0.03,2,    -0.03,2,   -999.0,9,   8.0754,2,    25.00
  29HE20130320,   A17,    44,  1,     24,2,20130409,1814,-24.9080, -34.4680, 4572,      6.7,  26.3662,  36.9176,2,    201.7,2,    202.9,2,     0.81,2,     0.01,2,    -0.01,2,   -999.0,9,   8.0743,2,    25.00