BOTTLE,20230216CCHSIOENA
EXPOCODE,SECT_ID,STNNBR,CASTNO,BTLNBR,BTLNBR_FLAG_W,DATE,TIME,LATITUDE,LONGITUDE,DEPTH,CTDPRS,CTDTMP,CTDSAL,CTDSAL_FLAG_W,CTDOXY,CTDOXY_FLAG_W,OXYGEN,OXYGEN_FLAG_W,SILCAT,SILCAT_FLAG_W,NITRAT,NITRAT_FLAG_W,PHSPHT,PHSPHT_FLAG_W,ALKALI,ALKALI_FLAG_W,PH_TOT,PH_TOT_FLAG_W,PH_TMP
,,,,,,,,,,METERS,DBAR,ITS-90,PSS-78,,UMOL/KG,,UMOL/KG,,UMOL/KG,,UMOL/KG,,UMOL/KG,,UMOL/KG,,,,DEG C
  29HE20130320,   A17,    27,  1,      1,2,20130402,1733,-35.1160, -43.3510, 4834,   4906.1,   0.2473,  34.6704,2,    221.0,2,    222.7,2,   129.63,2,    32.80,2,     2.28,2,   2366.2,2,   7.6004,2,    25.00
  29HE20130320,   A17,    27,  1,      2,2,20130402,1733,-35.1160, -43.3510, 4834,   4581.3,   0.2534,  34.6725,2,    221.4,2,    221.6,2,   128.40,2,    32.66,2,     2.27,2,   2364.4,2,   7.6030,2,    25.00
  29HE20130320,   A17,    27,  1,      3,2,20130402,1733,-35.1160, -43.3510, 4834,   4065.9,   0.4573,  34.6845,2,    217.7,2,    217.4,2,   125.94,2,    32.49,2,     2.26,2,   2364.0,2,   7.6017,2,    25.00
  29HE20130320,   A17,    27,  1,      4,2,20130402,1733,-35.1160, -43.3510, 4834,   4067.1,   0.4572,  34.6845,2,    217.8,2,    216.8,2,   126.15,2,    32.44,2,     2.25,2,   2362.5,2,   7.6019,2,    25.00
  29HE20130320,   A17,    27,  1,      5,2,20130402,1733,-35.1160, -43.3510, 4834,   3554.2,   1.2368,  34.7386,2,    213.2,2,    211.5,2,   104.99,2,    30.39,2,     2.07,2,   2356.4,2,   7.6203,2,    25.00
  29HE20130320,   A17,    27,  1,      6,2,20130402,1733,-35.1160, -43.3510, 4834,   3044.6,   2.1103,  34.8057,2,    216.8,2,    218.0,2,    74.06,2,    27.05,2,     1.81,2,   2335.3,2,   7.6552,2,    25.00
  29HE20130320,   A17,    27,  1,      7,2,20130402,1733,-35.1160, -43.3510, 4834,   2532.3,   2.7135,  34.8421,2,    220.3,2,    220.4,2,    54.33,2,    25.29,2,     1.69,2,   2335.1,2,   7.6728,2,    25.00
  29HE20130320,   A17,    27,  1,      8,2,20130402,1733,-35.1160, -43.3510, 4834,   2277.8,   3.0003,  34.8446,2,    218.4,2,    219.0,2,    47.94,2,    25.13,2,     1.69,2,   2330.1,2,   7.6677,2,    25.00
  29HE20130320,   A17,    27,  1,      9,2,20130402,1733,-35.1160, -43.3510, 4834,   2026.7,   3.0336,  34.7907,2,    204.1,2,    204.3,2,    52.83,2,    27.29,2,     1.84,2,   2331.2,2,   7.6423,2,    25.00
  29HE20130320,   A17,    27,  1,     10,2,20130402,1733,-35.1160, -43.3510, 4834,   1818.6,   3.0030,  34.7150,2,    190.8,2,    191.5,2,    58.53,2,    29.68,2,     2.04,2,   2327.1,2,   7.6081,2,    25.00
  29HE20130320,   A17,    27,  1,     11,2,20130402,1733,-35.1160, -43.3510, 4834,   1616.6,   2.9445,  34.6186,2,    182.4,2,    182.8,2,    61.42,2,    31.81,2,     2.20,2,   2325.9,2,   7.5868,2,    25.00
  29HE20130320,   A17,    27,  1,     12,2,20130402,1733,-35.1160, -43.3510, 4834,   1414.7,   2.8951,  34.4975,2,    182.3,2,    183.1,2,    59.78,2,    33.27,2,     2.28,2,   2316.8,2,   7.5727,2,    25.00
  29HE20130320,   A17,    27,  1,     13,2,20130402,1733,-35.1160, -43.3510, 4834,   1214.2,   3.0806,  34.3763,2,    195.7,2,    197.3,2,    48.98,2,    32.99,2,     2.28,2,   2308.4,2,   7.5827,2,    25.00
  29HE20130320,   A17,    27,  1,     14,2,20130402,1733,-35.1160, -43.3510, 4834,   1010.0,   3.5959,  34.2901,2,    216.5,2,    217.6,2,    33.75,2,    31.15,2,     2.15,2,   2298.0,2,   7.6127,2,    25.00
  29HE20130320,   A17,    27,  1,     15,2,20130402,1733,-35.1160, -43.3510, 4834,    806.8,   3.9947,  34.1829,2,    252.0,2,    252.5,2,    20.69,2,    28.19,2,     1.92,2,   2282.5,2,   7.6505,2,    25.00
  29HE20130320,   A17,    27,  1,     16,2,20130402,1733,-35.1160, -43.3510, 4834,    704.2,   4.6490,  34.2067,2,    254.0,2,    254.7,2,    15.78,2,    26.41,2,     1.78,2,   2283.0,2,   7.6723,2,    25.00
  29HE20130320,   A17,    27,  1,     17,2,20130402,1733,-35.1160, -43.3510, 4834,    605.3,   5.0123,  34.1982,2,    262.3,2,    262.7,2,    11.93,2,    24.74,2,     1.67,2,   2278.6,2,   7.6854,2,    25.00
  29HE20130320,   A17,    27,  1,     18,2,20130402,1733,-35.1160, -43.3510, 4834,    403.4,   9.1490,  34.6353,2,    224.8,2,    226.1,2,     6.02,2,    17.50,2,     1.17,2,   2291.1,2,   7.7770,2,    25.00
  29HE20130320,   A17,    27,  1,     19,2,20130402,1733,-35.1160, -43.3510, 4834,    302.2,  11.8535,  35.0301,2,    213.8,2,    215.1,2,     4.08,2,    12.37,2,     0.79,2,   2309.9,2,   7.8077,2,    25.00
  29HE20130320,   A17,    27,  1,     20,2,20130402,1733,-35.1160, -43.3510, 4834,    200.5,  14.3847,  35.4353,2,    207.6,2,    209.5,2,     2.93,2,     7.65,2,     0.57,2,   2330.2,2,   7.8546,2,    25.00
  29HE20130320,   A17,    27,  1,     21,2,20130402,1733,-35.1160, -43.3510, 4834,     99.6,  16.7437,  35.7978,2,    202.6,2,    204.3,2,     2.12,2,     3.96,2,     0.27,2,   2348.3,2,   7.9154,2,    25.00
  29HE20130320,   A17,    27,  1,     22,2,20130402,1733,-35.1160, -43.3510, 4834,     48.8,  18.7313,  35.6934,2,    221.2,2,    220.2,2,     1.14,2,     0.56,2,     0.04,2,   2353.4,2,   7.9842,2,    25.00
  29HE20130320,   A17,    27,  1,     23,2,20130402,1733,-35.1160, -43.3510, 4834,      5.1,  18.7314,  35.1731,2,    233.6,2,    235.7,2,     0.57,2,    -0.05,2,     0.04,2,   2329.6,2,   8.0012,2,    25.00
  29HE20130320,   A17,    28,  1,      1,2,20130403,0251,-34.4890, -42.8410, 4679,   4737.5,   0.2354,  34.6701,2,    220.4,2,    219.8,2,   128.91,2,    32.86,2,     2.34,2,   -999.0,9,   7.5997,2,    25.00
  29HE20130320,   A17,    28,  1,      2,2,20130403,0251,-34.4890, -42.8410, 4679,   4582.1,   0.2296,  34.6707,2,    221.0,2,    220.1,2,   128.95,2,    32.46,2,     2.29,2,   -999.0,9,   7.6025,2,    25.00
  29HE20130320,   A17,    28,  1,      3,2,20130403,0251,-34.4890, -42.8410, 4679,   4069.2,   0.5374,  34.6898,2,    216.8,2,    215.7,2,   123.33,2,    32.01,2,     2.20,2,   -999.0,9,   7.6045,2,    25.00
  29HE20130320,   A17,    28,  1,      4,2,20130403,0251,-34.4890, -42.8410, 4679,   3558.2,   1.8167,  34.8056,2,    227.7,2,    227.0,2,    77.14,2,    26.28,2,     1.78,2,   -999.0,9,   7.6685,2,    25.00
  29HE20130320,   A17,    28,  1,      5,2,20130403,0251,-34.4890, -42.8410, 4679,   3042.3,   2.8537,  34.9156,2,    249.1,2,    247.9,2,    33.36,2,    20.70,2,     1.34,2,   -999.0,9,   7.7248,2,    25.00
  29HE20130320,   A17,    28,  1,      6,2,20130403,0251,-34.4890, -42.8410, 4679,   2788.9,   3.0184,  34.9185,2,    246.5,2,    245.5,2,    31.26,2,    20.93,2,     1.37,2,   -999.0,9,   7.7224,2,    25.00
  29HE20130320,   A17,    28,  1,      7,2,20130403,0251,-34.4890, -42.8410, 4679,   2532.4,   3.2225,  34.9240,2,    244.7,2,    243.7,2,    29.91,2,    20.76,2,     1.36,2,   -999.0,9,   7.7187,2,    25.00
  29HE20130320,   A17,    28,  1,      8,2,20130403,0251,-34.4890, -42.8410, 4679,   2277.5,   3.3338,  34.9064,2,    237.3,2,    237.9,2,    31.49,2,    21.87,2,     1.45,2,   -999.0,9,   7.7063,2,    25.00
  29HE20130320,   A17,    28,  1,      9,2,20130403,0251,-34.4890, -42.8410, 4679,   2026.5,   3.3707,  34.8538,2,    220.4,2,    219.6,2,    37.56,2,    24.47,2,     1.63,2,   -999.0,9,   7.6776,2,    25.00
  29HE20130320,   A17,    28,  1,     10,2,20130403,0251,-34.4890, -42.8410, 4679,   1819.9,   3.0545,  34.7314,2,    199.3,2,    198.1,2,    52.59,2,    28.29,2,     1.94,2,   -999.0,9,   7.6331,2,    25.00
  29HE20130320,   A17,    28,  1,     11,2,20130403,0251,-34.4890, -42.8410, 4679,   1621.7,   2.9258,  34.6152,2,    186.8,2,    186.4,2,    58.66,2,    31.30,2,     2.17,2,   -999.0,9,   7.5992,2,    25.00
  29HE20130320,   A17,    28,  1,     12,2,20130403,0251,-34.4890, -42.8410, 4679,   1416.2,   2.9848,  34.4859,2,    187.2,2,    186.8,2,    55.54,2,    32.86,2,     2.24,2,   -999.0,9,   7.5862,2,    25.00
  29HE20130320,   A17,    28,  1,     13,2,20130403,0251,-34.4890, -42.8410, 4679,   1213.7,   3.2381,  34.3576,2,    201.3,2,    200.9,2,    44.17,2,    32.54,2,     2.20,2,   -999.0,9,   7.5907,2,    25.00
  29HE20130320,   A17,    28,  1,     14,2,20130403,0251,-34.4890, -42.8410, 4679,   1011.5,   3.8023,  34.2687,2,    223.5,2,    223.5,2,    30.02,2,    30.32,2,     2.04,2,   -999.0,9,   7.6309,2,    25.00
  29HE20130320,   A17,    28,  1,     15,2,20130403,0251,-34.4890, -42.8410, 4679,    807.1,   4.7347,  34.2418,2,    242.4,2,    242.1,2,    17.58,2,    27.20,2,     1.82,2,   -999.0,9,   7.6597,2,    25.00
  29HE20130320,   A17,    28,  1,     16,2,20130403,0251,-34.4890, -42.8410, 4679,    707.3,   5.4354,  34.2708,2,    243.3,2,    243.2,2,    13.37,2,    25.27,2,     1.69,2,   -999.0,9,   7.6859,2,    25.00
  29HE20130320,   A17,    28,  1,     17,2,20130403,0251,-34.4890, -42.8410, 4679,    604.0,   7.0566,  34.4254,2,    225.4,2,    225.0,2,    10.59,2,    23.10,2,     1.51,2,   -999.0,9,   7.6970,2,    25.00
  29HE20130320,   A17,    28,  1,     18,2,20130403,0251,-34.4890, -42.8410, 4679,    503.9,   9.5734,  34.7324,2,    210.2,2,    210.5,2,     7.22,2,    17.93,2,     1.14,2,   -999.0,9,   7.7441,2,    25.00
  29HE20130320,   A17,    28,  1,     19,2,20130403,0251,-34.4890, -42.8410, 4679,    404.3,  11.9138,  35.0708,2,    209.7,2,    210.0,2,     4.40,2,    12.59,2,     0.75,2,   -999.0,9,   7.8094,2,    25.00
  29HE20130320,   A17,    28,  1,     20,2,20130403,0251,-34.4890, -42.8410, 4679,    303.5,  13.9303,  35.4086,2,    212.8,2,    212.9,2,     2.87,2,     8.25,2,     0.55,2,   -999.0,9,   7.8642,2,    25.00
  29HE20130320,   A17,    28,  1,     21,2,20130403,0251,-34.4890, -42.8410, 4679,    201.3,  15.0206,  35.5747,2,    209.7,2,    210.8,2,     2.44,2,     6.11,2,     0.27,2,   -999.0,9,   7.8902,2,    25.00
  29HE20130320,   A17,    28,  1,     22,2,20130403,0251,-34.4890, -42.8410, 4679,    100.8,  16.8149,  35.8025,2,    221.6,2,    222.5,2,     1.39,2,     1.11,2,     0.00,2,   -999.0,9,   7.9415,2,    25.00
  29HE20130320,   A17,    28,  1,     23,2,20130403,0251,-34.4890, -42.8410, 4679,     51.4,  21.5272,  36.0603,2,    220.3,2,    220.5,2,     0.88,2,    -0.01,2,    -0.01,2,   -999.0,9,   8.0219,2,    25.00
  29HE20130320,   A17,    28,  1,     24,2,20130403,0251,-34.4890, -42.8410, 4679,      6.2,  21.5245,  36.0631,2,    219.3,2,    220.6,2,     0.88,2,     0.02,2,     0.00,2,   -999.0,9,   8.0249,2,    25.00
  29HE20130320,   A17,    29,  1,      1,2,20130403,1134,-33.9030, -42.3290, 4529,   4582.9,   0.2185,  34.6700,2,    221.1,2,    220.3,2,   128.90,2,    32.77,2,     2.16,2,   2365.0,2,   7.5949,2,    25.00
  29HE20130320,   A17,    29,  1,      2,2,20130403,1134,-33.9030, -42.3290, 4529,   4065.4,   0.4288,  34.6828,2,    218.4,2,    217.5,2,   125.63,2,    32.38,2,     2.12,2,   2363.3,2,   7.6020,2,    25.00
  29HE20130320,   A17,    29,  1,      3,2,20130403,1134,-33.9030, -42.3290, 4529,   3554.0,   1.8279,  34.8158,2,    232.7,2,    232.1,2,    71.69,2,    25.85,2,  -999.00,9,   -999.0,9,-999.0000,9,  -999.00
  29HE20130320,   A17,    29,  1,      4,2,20130403,1134,-33.9030, -42.3290, 4529,   3553.2,   1.8261,  34.8153,2,    232.7,2,   -999.0,9,    71.61,2,    25.86,2,  -999.00,9,   -999.0,9,-999.0000,9,  -999.00
  29HE20130320,   A17,    29,  1,      5,2,20130403,1134,-33.9030, -42.3290, 4529,   3043.1,   2.9098,  34.9193,2,    249.6,2,    249.5,2,    54.05,2,    20.58,2,  -999.00,9,   -999.0,9,-999.0000,9,  -999.00
  29HE20130320,   A17,    29,  1,      6,2,20130403,1134,-33.9030, -42.3290, 4529,   2788.3,   3.0637,  34.9228,2,    248.0,2,    247.8,2,    40.78,2,    20.60,2,  -999.00,9,   -999.0,9,-999.0000,9,  -999.00
  29HE20130320,   A17,    29,  1,      7,2,20130403,1134,-33.9030, -42.3290, 4529,   2531.9,   3.1938,  34.9162,2,    243.2,2,    242.3,2,    27.21,2,    21.41,2,  -999.00,9,   -999.0,9,-999.0000,9,  -999.00
  29HE20130320,   A17,    29,  1,      8,2,20130403,1134,-33.9030, -42.3290, 4529,   2277.8,   3.1935,  34.8767,2,    229.4,2,    228.8,2,    15.76,4,    23.36,2,  -999.00,9,   -999.0,9,-999.0000,9,  -999.00
  29HE20130320,   A17,    29,  1,      9,2,20130403,1134,-33.9030, -42.3290, 4529,   2024.0,   3.2409,  34.8205,2,    215.1,2,    214.7,2,    12.77,4,    25.68,2,     1.58,2,   2329.3,2,   7.6631,2,    25.00
  29HE20130320,   A17,    29,  1,     10,2,20130403,1134,-33.9030, -42.3290, 4529,   1820.5,   3.0503,  34.7103,2,    195.9,2,    195.9,2,    12.80,4,  -999.00,9,     2.19,2,   2329.6,2,   7.6216,2,    25.00
  29HE20130320,   A17,    29,  1,     11,2,20130403,1134,-33.9030, -42.3290, 4529,   1616.7,   2.9840,  34.5968,2,    185.8,2,    185.7,2,    55.90,2,    32.04,2,     2.13,2,   2323.7,2,   7.5919,2,    25.00
  29HE20130320,   A17,    29,  1,     12,2,20130403,1134,-33.9030, -42.3290, 4529,   1414.7,   2.9912,  34.4652,2,    188.6,2,    188.5,2,    54.49,2,    33.05,2,     2.24,2,   2322.8,2,   7.5824,2,    25.00
  29HE20130320,   A17,    29,  1,     13,2,20130403,1134,-33.9030, -42.3290, 4529,   1211.5,   3.3625,  34.3461,2,    204.8,2,    205.1,2,    41.02,2,    32.03,2,     2.17,2,   2304.4,2,   7.5988,2,    25.00
  29HE20130320,   A17,    29,  1,     14,2,20130403,1134,-33.9030, -42.3290, 4529,   1009.9,   3.9696,  34.2594,2,    227.5,2,    228.5,2,    27.52,2,    29.92,2,     2.00,2,   2292.1,2,   7.6336,2,    25.00
  29HE20130320,   A17,    29,  1,     15,2,20130403,1134,-33.9030, -42.3290, 4529,    808.1,   5.1231,  34.2666,2,    239.9,2,    240.4,2,    16.15,2,    26.57,2,     1.73,2,   2282.8,2,   7.6695,2,    25.00
  29HE20130320,   A17,    29,  1,     16,2,20130403,1134,-33.9030, -42.3290, 4529,    706.5,   6.2919,  34.3675,2,    227.0,2,    227.1,2,    13.20,2,    24.88,2,     1.59,2,   2287.5,2,   7.6807,2,    25.00
  29HE20130320,   A17,    29,  1,     17,2,20130403,1134,-33.9030, -42.3290, 4529,    604.4,   7.9630,  34.5315,2,    216.8,2,    216.9,2,    13.03,2,    24.72,2,     1.57,2,   2288.1,2,   7.7107,2,    25.00
  29HE20130320,   A17,    29,  1,     18,2,20130403,1134,-33.9030, -42.3290, 4529,    503.7,  10.5456,  34.8707,2,    207.7,2,    208.1,2,     6.33,2,    16.09,2,     1.00,2,   2304.5,2,   7.7601,2,    25.00
  29HE20130320,   A17,    29,  1,     19,2,20130403,1134,-33.9030, -42.3290, 4529,    403.4,  12.7128,  35.2059,2,    211.0,2,    212.4,2,     3.82,2,    10.87,2,     0.70,2,   2320.0,2,   7.8240,2,    25.00
  29HE20130320,   A17,    29,  1,     20,2,20130403,1134,-33.9030, -42.3290, 4529,    302.0,  14.3377,  35.4866,2,    215.3,2,    214.2,2,     2.57,2,     7.00,2,     0.40,2,   2335.0,2,   7.8754,2,    25.00
  29HE20130320,   A17,    29,  1,     21,2,20130403,1134,-33.9030, -42.3290, 4529,    202.0,  15.4595,  35.6591,2,    211.9,2,    212.6,2,     2.09,2,     5.09,2,     0.18,2,   2344.8,2,   7.8959,2,    25.00
  29HE20130320,   A17,    29,  1,     22,2,20130403,1134,-33.9030, -42.3290, 4529,    101.8,  17.0514,  35.8690,2,    213.9,2,    214.3,2,     1.41,2,     0.91,2,     0.05,2,   2359.6,2,   7.9383,2,    25.00
  29HE20130320,   A17,    29,  1,     23,2,20130403,1134,-33.9030, -42.3290, 4529,     49.3,  21.4206,  35.9635,2,    221.1,2,    222.2,2,     0.86,2,    -0.02,2,    -0.01,2,   2362.8,2,   8.0243,2,    25.00
  29HE20130320,   A17,    29,  1,     24,2,20130403,1134,-33.9030, -42.3290, 4529,      5.9,  21.4385,  35.9636,2,    221.1,2,    222.3,2,     0.83,2,    -0.02,2,     0.00,2,   2365.1,2,   8.0279,2,    25.00