BOTTLE,20230216CCHSIOENA
EXPOCODE,SECT_ID,STNNBR,CASTNO,BTLNBR,BTLNBR_FLAG_W,DATE,TIME,LATITUDE,LONGITUDE,DEPTH,CTDPRS,CTDTMP,CTDSAL,CTDSAL_FLAG_W,CTDOXY,CTDOXY_FLAG_W,OXYGEN,OXYGEN_FLAG_W,SILCAT,SILCAT_FLAG_W,NITRAT,NITRAT_FLAG_W,PHSPHT,PHSPHT_FLAG_W,ALKALI,ALKALI_FLAG_W,PH_TOT,PH_TOT_FLAG_W,PH_TMP
,,,,,,,,,,METERS,DBAR,ITS-90,PSS-78,,UMOL/KG,,UMOL/KG,,UMOL/KG,,UMOL/KG,,UMOL/KG,,UMOL/KG,,,,DEG C
  29HE20130320,   A17,    78,  1,      1,2,20130501,0829,  5.6950, -29.0080, 3446,   3482.2,   2.4781,  34.8991,2,    249.8,2,    249.2,2,    39.94,2,    21.55,2,     1.40,2,   2335.2,2,   7.7298,2,    25.00
  29HE20130320,   A17,    78,  1,      2,2,20130501,0829,  5.6950, -29.0080, 3446,   3482.8,   2.4779,  34.8991,2,    249.7,2,    249.9,2,    39.85,2,    21.47,2,     1.39,2,   2334.2,2,   7.7319,2,    25.00
  29HE20130320,   A17,    78,  1,      3,2,20130501,0829,  5.6950, -29.0080, 3446,   3038.8,   2.5986,  34.9099,2,    249.8,2,    250.0,2,    36.45,2,    21.03,2,     1.39,2,   2332.7,2,   7.7313,2,    25.00
  29HE20130320,   A17,    78,  1,      4,2,20130501,0829,  5.6950, -29.0080, 3446,   2783.5,   2.8617,  34.9262,2,    249.1,2,    246.4,2,    31.70,2,    20.95,2,     1.36,2,   2326.9,2,   7.7340,2,    25.00
  29HE20130320,   A17,    78,  1,      5,2,20130501,0829,  5.6950, -29.0080, 3446,   2529.0,   3.0142,  34.9361,2,    248.1,2,    247.4,2,    30.04,2,    21.13,2,     1.37,2,   2327.5,2,   7.7345,2,    25.00
  29HE20130320,   A17,    78,  1,      6,2,20130501,0829,  5.6950, -29.0080, 3446,   2275.0,   3.2974,  34.9506,2,    247.4,2,    246.8,2,    25.49,2,    20.72,2,     1.35,2,   2322.9,2,   7.7344,2,    25.00
  29HE20130320,   A17,    78,  1,      7,2,20130501,0829,  5.6950, -29.0080, 3446,   2021.5,   3.5132,  34.9584,2,    244.1,2,    244.6,2,    23.27,2,    20.88,2,     1.36,2,   2317.6,2,   7.7299,2,    25.00
  29HE20130320,   A17,    78,  1,      8,2,20130501,0829,  5.6950, -29.0080, 3446,   1818.5,   3.8243,  34.9686,2,    241.6,2,    240.1,2,    20.24,2,    20.89,2,     1.37,2,   2315.2,2,   7.7264,2,    25.00
  29HE20130320,   A17,    78,  1,      9,2,20130501,0829,  5.6950, -29.0080, 3446,   1615.7,   4.1557,  34.9723,2,    233.4,2,    232.2,2,    19.02,2,    21.62,2,     1.41,2,   2314.7,2,   7.7184,2,    25.00
  29HE20130320,   A17,    78,  1,     10,2,20130501,0829,  5.6950, -29.0080, 3446,   1412.5,   4.4462,  34.9401,2,    209.9,2,    209.0,2,    21.43,2,    24.23,2,     1.58,2,   2313.5,2,   7.6849,2,    25.00
  29HE20130320,   A17,    78,  1,     11,2,20130501,0829,  5.6950, -29.0080, 3446,   1209.4,   4.7043,  34.8483,2,    175.9,2,    175.4,2,    25.54,2,    28.57,2,     1.87,2,   2312.3,2,   7.6327,2,    25.00
  29HE20130320,   A17,    78,  1,     12,2,20130501,0829,  5.6950, -29.0080, 3446,   1008.6,   4.9997,  34.6898,2,    139.2,2,    138.8,2,    29.73,2,    33.00,2,     2.25,2,   2307.0,2,   7.5626,2,    25.00
  29HE20130320,   A17,    78,  1,     13,2,20130501,0829,  5.6950, -29.0080, 3446,    806.3,   5.6882,  34.6167,2,    115.1,2,    114.6,2,    28.06,2,    35.87,2,     2.38,2,   2300.1,2,   7.5234,2,    25.00
  29HE20130320,   A17,    78,  1,     14,2,20130501,0829,  5.6950, -29.0080, 3446,    704.9,   6.2474,  34.6025,2,    119.0,2,    118.7,2,    25.07,2,    35.08,2,     2.27,2,   2299.9,2,   7.5371,2,    25.00
  29HE20130320,   A17,    78,  1,     15,2,20130501,0829,  5.6950, -29.0080, 3446,    606.3,   6.9380,  34.6411,2,    113.3,2,    113.9,2,    22.07,2,    33.75,2,     2.22,2,   2298.6,2,   7.5400,2,    25.00
  29HE20130320,   A17,    78,  1,     16,2,20130501,0829,  5.6950, -29.0080, 3446,    500.3,   7.6327,  34.7025,2,    103.8,2,    103.0,2,    20.12,2,    33.77,2,     2.18,2,   2299.4,2,   7.5357,2,    25.00
  29HE20130320,   A17,    78,  1,     17,2,20130501,0829,  5.6950, -29.0080, 3446,    403.5,   8.6309,  34.7979,2,     92.4,2,     93.0,2,    17.37,2,    32.49,2,     2.03,2,   2300.5,2,   7.5397,2,    25.00
  29HE20130320,   A17,    78,  1,     18,2,20130501,0829,  5.6950, -29.0080, 3446,    299.7,  10.0275,  34.9333,2,    120.0,2,    121.4,2,    13.35,2,    27.15,2,     1.71,2,   2306.8,2,   7.6268,2,    25.00
  29HE20130320,   A17,    78,  1,     19,2,20130501,0829,  5.6950, -29.0080, 3446,    298.6,  10.0267,  34.9335,2,    119.9,2,    120.1,2,    13.35,2,    27.04,2,     1.70,2,   2306.7,2,   7.6265,2,    25.00
  29HE20130320,   A17,    78,  1,     20,2,20130501,0829,  5.6950, -29.0080, 3446,    251.8,  10.4419,  34.9699,2,    131.2,2,    131.2,2,    12.21,2,    25.36,2,     1.56,2,   2308.0,2,   7.6567,2,    25.00
  29HE20130320,   A17,    78,  1,     21,2,20130501,0829,  5.6950, -29.0080, 3446,    203.7,  11.0596,  35.0402,2,    136.2,2,    136.5,2,    10.91,2,    23.51,2,     1.43,2,   2312.1,2,   7.6802,2,    25.00
  29HE20130320,   A17,    78,  1,     22,2,20130501,0829,  5.6950, -29.0080, 3446,    101.1,  13.7961,  35.3976,2,    129.4,2,    129.3,2,     7.71,2,    19.53,2,     1.13,2,   2330.1,2,   7.7325,2,    25.00
  29HE20130320,   A17,    78,  1,     23,2,20130501,0829,  5.6950, -29.0080, 3446,     57.6,  21.0292,  35.9684,2,    158.7,2,    151.4,2,     3.89,2,     7.68,2,     0.19,2,   2357.7,2,   7.8961,2,    25.00
  29HE20130320,   A17,    78,  1,     24,2,20130501,0829,  5.6950, -29.0080, 3446,      6.8,  27.8933,  35.9907,2,    199.0,2,    198.2,2,     1.03,2,    -0.08,2,     0.00,2,   2356.0,2,   8.0984,2,    25.00
  29HE20130320,   A17,    79,  1,      1,2,20130501,1852,  6.7950, -28.8720, 4205,    505.0,   7.9470,  34.7440,2,     97.4,2,     97.9,2,    19.12,2,    33.40,2,     2.09,2,   -999.0,9,   7.5430,2,    25.00
  29HE20130320,   A17,    79,  1,      2,2,20130501,1852,  6.7950, -28.8720, 4205,    505.0,   7.9701,  34.7455,2,     97.5,2,   -999.0,9,  -999.00,9,  -999.00,9,  -999.00,9,   -999.0,9,-999.0000,9,  -999.00
  29HE20130320,   A17,    79,  1,      3,2,20130501,1852,  6.7950, -28.8720, 4205,    402.3,   9.0177,  34.8501,2,     91.6,2,   -999.0,9,  -999.00,9,  -999.00,9,  -999.00,9,   -999.0,9,-999.0000,9,  -999.00
  29HE20130320,   A17,    79,  1,      4,2,20130501,1852,  6.7950, -28.8720, 4205,    302.4,  10.3783,  34.9899,2,     94.5,2,     95.2,2,    13.34,2,    29.08,2,     1.76,2,   -999.0,9,   7.5932,2,    25.00
  29HE20130320,   A17,    79,  1,      5,2,20130501,1852,  6.7950, -28.8720, 4205,    202.4,  11.6336,  35.1130,2,    129.0,2,   -999.0,9,  -999.00,9,  -999.00,9,  -999.00,9,   -999.0,9,-999.0000,9,  -999.00
  29HE20130320,   A17,    79,  1,      6,2,20130501,1852,  6.7950, -28.8720, 4205,    202.6,  11.6358,  35.1130,2,    129.9,2,   -999.0,9,  -999.00,9,  -999.00,9,  -999.00,9,   -999.0,9,-999.0000,9,  -999.00
  29HE20130320,   A17,    79,  1,      7,2,20130501,1852,  6.7950, -28.8720, 4205,    202.4,  11.6352,  35.1131,2,    130.0,2,   -999.0,9,  -999.00,9,  -999.00,9,  -999.00,9,   -999.0,9,-999.0000,9,  -999.00
  29HE20130320,   A17,    79,  1,      8,2,20130501,1852,  6.7950, -28.8720, 4205,    202.1,  11.6368,  35.1128,2,    131.3,2,    133.3,2,    10.00,2,    22.67,2,     1.38,2,   -999.0,9,   7.6897,2,    25.00
  29HE20130320,   A17,    79,  1,      9,2,20130501,1852,  6.7950, -28.8720, 4205,    202.3,  11.6408,  35.1131,2,    132.4,2,   -999.0,9,  -999.00,9,  -999.00,9,  -999.00,9,   -999.0,9,-999.0000,9,  -999.00
  29HE20130320,   A17,    79,  1,     10,2,20130501,1852,  6.7950, -28.8720, 4205,     99.5,  15.1109,  35.5472,2,    129.0,2,    128.2,2,     6.94,2,    18.19,2,     1.03,2,   -999.0,9,   7.7622,2,    25.00
  29HE20130320,   A17,    79,  1,     11,2,20130501,1852,  6.7950, -28.8720, 4205,     99.3,  15.1855,  35.5517,2,    128.7,2,   -999.0,9,  -999.00,9,  -999.00,9,  -999.00,9,   -999.0,9,-999.0000,9,  -999.00
  29HE20130320,   A17,    79,  1,     12,2,20130501,1852,  6.7950, -28.8720, 4205,     70.4,  20.8105,  35.9725,2,    159.0,2,    157.6,2,     3.72,2,     6.26,2,     0.25,2,   -999.0,9,   7.9103,2,    25.00
  29HE20130320,   A17,    79,  1,     13,2,20130501,1852,  6.7950, -28.8720, 4205,      5.5,  27.7699,  36.2025,2,    200.3,2,   -999.0,9,  -999.00,9,  -999.00,9,  -999.00,9,   -999.0,9,-999.0000,9,  -999.00
  29HE20130320,   A17,    79,  1,     14,2,20130501,1852,  6.7950, -28.8720, 4205,      5.7,  27.7751,  36.2030,2,    199.9,2,   -999.0,9,  -999.00,9,  -999.00,9,  -999.00,9,   -999.0,9,-999.0000,9,  -999.00
  29HE20130320,   A17,    79,  1,     15,2,20130501,1852,  6.7950, -28.8720, 4205,      5.6,  27.7734,  36.2030,2,    200.4,2,   -999.0,9,  -999.00,9,  -999.00,9,  -999.00,9,   -999.0,9,-999.0000,9,  -999.00
  29HE20130320,   A17,    79,  1,     16,2,20130501,1852,  6.7950, -28.8720, 4205,      5.7,  27.7703,  36.2033,2,    199.9,2,   -999.0,9,  -999.00,9,  -999.00,9,  -999.00,9,   -999.0,9,-999.0000,9,  -999.00
  29HE20130320,   A17,    79,  1,     17,2,20130501,1852,  6.7950, -28.8720, 4205,      5.6,  27.7676,  36.2035,2,    199.8,2,   -999.0,9,  -999.00,9,  -999.00,9,  -999.00,9,   -999.0,9,-999.0000,9,  -999.00
  29HE20130320,   A17,    79,  1,     18,2,20130501,1852,  6.7950, -28.8720, 4205,      5.7,  27.7682,  36.2034,2,    200.3,2,   -999.0,9,  -999.00,9,  -999.00,9,  -999.00,9,   -999.0,9,-999.0000,9,  -999.00
  29HE20130320,   A17,    79,  1,     19,2,20130501,1852,  6.7950, -28.8720, 4205,      5.9,  27.7697,  36.2033,2,    200.4,2,   -999.0,9,  -999.00,9,  -999.00,9,  -999.00,9,   -999.0,9,-999.0000,9,  -999.00
  29HE20130320,   A17,    79,  1,     20,2,20130501,1852,  6.7950, -28.8720, 4205,      5.3,  27.7632,  36.2032,2,    199.9,2,   -999.0,9,  -999.00,9,  -999.00,9,  -999.00,9,   -999.0,9,-999.0000,9,  -999.00
  29HE20130320,   A17,    79,  1,     21,2,20130501,1852,  6.7950, -28.8720, 4205,      6.0,  27.7689,  36.2032,2,    199.8,2,   -999.0,9,  -999.00,9,  -999.00,9,  -999.00,9,   -999.0,9,-999.0000,9,  -999.00
  29HE20130320,   A17,    79,  1,     22,2,20130501,1852,  6.7950, -28.8720, 4205,      5.7,  27.7702,  36.2032,2,    200.4,2,   -999.0,9,  -999.00,9,  -999.00,9,  -999.00,9,   -999.0,9,-999.0000,9,  -999.00
  29HE20130320,   A17,    79,  1,     23,2,20130501,1852,  6.7950, -28.8720, 4205,      5.3,  27.7689,  36.2032,2,    200.4,2,   -999.0,9,  -999.00,9,  -999.00,9,  -999.00,9,   -999.0,9,-999.0000,9,  -999.00
  29HE20130320,   A17,    79,  1,     24,2,20130501,1852,  6.7950, -28.8720, 4205,      5.9,  27.7694,  36.2035,2,    200.3,2,    200.6,2,     1.21,2,    -0.08,2,     0.01,2,   -999.0,9,   8.1002,2,    25.00
  29HE20130320,   A17,    79,  2,      1,2,20130501,2100,  6.7950, -28.8720, 4205,   4253.9,   2.3375,  34.8837,2,    248.9,2,    249.9,2,    44.46,2,    21.97,2,     1.43,2,   -999.0,9,   7.7297,2,    25.00
  29HE20130320,   A17,    79,  2,      2,2,20130501,2100,  6.7950, -28.8720, 4205,   4254.8,   2.3375,  34.8836,2,    248.6,2,   -999.0,9,  -999.00,9,  -999.00,9,  -999.00,9,   -999.0,9,-999.0000,9,  -999.00
  29HE20130320,   A17,    79,  2,      3,2,20130501,2100,  6.7950, -28.8720, 4205,   4061.1,   2.3395,  34.8856,2,    249.1,2,    250.2,2,    43.96,2,    21.98,2,     1.42,2,   -999.0,9,   7.7296,2,    25.00
  29HE20130320,   A17,    79,  2,      4,2,20130501,2100,  6.7950, -28.8720, 4205,   3550.3,   2.4285,  34.8960,2,    250.2,2,    251.0,2,    40.21,2,    21.83,2,     1.40,2,   -999.0,9,   7.7323,2,    25.00
  29HE20130320,   A17,    79,  2,      5,2,20130501,2100,  6.7950, -28.8720, 4205,   3038.7,   2.6881,  34.9150,2,    247.9,2,   -999.0,9,  -999.00,9,  -999.00,9,  -999.00,9,   -999.0,9,-999.0000,9,  -999.00
  29HE20130320,   A17,    79,  2,      6,2,20130501,2100,  6.7950, -28.8720, 4205,   3039.5,   2.6889,  34.9153,2,    247.9,2,    247.9,2,    35.24,2,    21.57,2,     1.38,2,   -999.0,9,   7.7330,2,    25.00
  29HE20130320,   A17,    79,  2,      7,2,20130501,2100,  6.7950, -28.8720, 4205,   2530.9,   2.9933,  34.9347,2,    245.6,2,   -999.0,9,  -999.00,9,  -999.00,9,  -999.00,9,   -999.0,9,-999.0000,9,  -999.00
  29HE20130320,   A17,    79,  2,      8,2,20130501,2100,  6.7950, -28.8720, 4205,   2531.8,   2.9936,  34.9347,2,    245.4,2,    245.8,2,    30.52,2,    21.29,2,     1.35,2,   -999.0,9,   7.7342,2,    25.00
  29HE20130320,   A17,    79,  2,      9,2,20130501,2100,  6.7950, -28.8720, 4205,   2274.9,   3.2193,  34.9471,2,    245.8,2,    246.4,2,    26.64,2,    20.85,2,     1.32,2,   -999.0,9,   7.7344,2,    25.00
  29HE20130320,   A17,    79,  2,     10,2,20130501,2100,  6.7950, -28.8720, 4205,   2022.4,   3.4879,  34.9594,2,    245.2,2,    245.6,2,    22.56,2,    20.74,2,     1.29,2,   -999.0,9,   7.7335,2,    25.00
  29HE20130320,   A17,    79,  2,     11,2,20130501,2100,  6.7950, -28.8720, 4205,   2021.1,   3.4873,  34.9595,2,    244.7,2,   -999.0,9,  -999.00,9,  -999.00,9,  -999.00,9,   -999.0,9,-999.0000,9,  -999.00
  29HE20130320,   A17,    79,  2,     12,2,20130501,2100,  6.7950, -28.8720, 4205,   1819.0,   3.7683,  34.9674,2,    241.6,2,    242.0,2,    20.46,2,    21.03,2,     1.29,2,   -999.0,9,   7.7284,2,    25.00
  29HE20130320,   A17,    79,  2,     13,2,20130501,2100,  6.7950, -28.8720, 4205,   1614.9,   4.1353,  34.9675,2,    229.5,2,    229.9,2,    19.67,2,    21.92,2,     1.43,2,   -999.0,9,   7.7135,2,    25.00
  29HE20130320,   A17,    79,  2,     14,2,20130501,2100,  6.7950, -28.8720, 4205,   1411.2,   4.5091,  34.9408,2,    206.0,2,    205.6,2,    21.38,2,    24.43,2,     1.58,2,   -999.0,9,   7.6829,2,    25.00
  29HE20130320,   A17,    79,  2,     15,2,20130501,2100,  6.7950, -28.8720, 4205,   1210.1,   4.8043,  34.8417,2,    170.4,2,    170.6,2,    25.70,2,    28.73,2,     1.91,2,   -999.0,9,   7.6251,2,    25.00
  29HE20130320,   A17,    79,  2,     16,2,20130501,2100,  6.7950, -28.8720, 4205,   1009.2,   5.0233,  34.7074,2,    139.5,2,   -999.0,9,  -999.00,9,  -999.00,9,  -999.00,9,   -999.0,9,-999.0000,9,  -999.00
  29HE20130320,   A17,    79,  2,     17,2,20130501,2100,  6.7950, -28.8720, 4205,   1009.2,   5.0231,  34.7074,2,    139.4,2,    139.7,2,    29.15,2,    32.65,2,     2.19,2,   -999.0,9,   7.5634,2,    25.00
  29HE20130320,   A17,    79,  2,     18,2,20130501,2100,  6.7950, -28.8720, 4205,    805.8,   5.7647,  34.6443,2,    114.3,2,    113.4,2,    27.57,2,    35.93,2,     2.30,2,   -999.0,9,   7.5230,2,    25.00
  29HE20130320,   A17,    79,  2,     19,2,20130501,2100,  6.7950, -28.8720, 4205,    706.2,   6.3706,  34.6494,2,    109.4,2,    109.5,2,    25.27,2,    35.71,2,     2.28,2,   -999.0,9,   7.5160,2,    25.00
  29HE20130320,   A17,    79,  2,     20,2,20130501,2100,  6.7950, -28.8720, 4205,    604.1,   7.1099,  34.6782,2,    104.8,2,    104.8,2,    22.34,2,    35.14,2,     2.16,2,   -999.0,9,   7.5251,2,    25.00
  29HE20130320,   A17,    79,  2,     21,2,20130501,2100,  6.7950, -28.8720, 4205,    503.5,   7.8212,  34.7285,2,    103.8,2,   -999.0,9,  -999.00,9,  -999.00,9,  -999.00,9,   -999.0,9,-999.0000,9,  -999.00
  29HE20130320,   A17,    79,  2,     22,2,20130501,2100,  6.7950, -28.8720, 4205,    202.8,  11.7679,  35.1145,2,    149.5,2,   -999.0,9,  -999.00,9,  -999.00,9,  -999.00,9,   -999.0,9,-999.0000,9,  -999.00
  29HE20130320,   A17,    79,  2,     23,2,20130501,2100,  6.7950, -28.8720, 4205,     64.5,  17.6429,  35.7820,2,    135.9,2,   -999.0,9,  -999.00,9,  -999.00,9,  -999.00,9,   -999.0,9,-999.0000,9,  -999.00
  29HE20130320,   A17,    79,  2,     24,2,20130501,2100,  6.7950, -28.8720, 4205,      5.4,  27.6275,  36.1965,2,    208.2,2,   -999.0,9,  -999.00,9,  -999.00,9,  -999.00,9,   -999.0,9,-999.0000,9,  -999.00