BOTTLE,20230216CCHSIOENA
EXPOCODE,SECT_ID,STNNBR,CASTNO,BTLNBR,BTLNBR_FLAG_W,DATE,TIME,LATITUDE,LONGITUDE,DEPTH,CTDPRS,CTDTMP,CTDSAL,CTDSAL_FLAG_W,CTDOXY,CTDOXY_FLAG_W,OXYGEN,OXYGEN_FLAG_W,SILCAT,SILCAT_FLAG_W,NITRAT,NITRAT_FLAG_W,PHSPHT,PHSPHT_FLAG_W,ALKALI,ALKALI_FLAG_W,PH_TOT,PH_TOT_FLAG_W,PH_TMP
,,,,,,,,,,METERS,DBAR,ITS-90,PSS-78,,UMOL/KG,,UMOL/KG,,UMOL/KG,,UMOL/KG,,UMOL/KG,,UMOL/KG,,,,DEG C
  29HE20130320,   A17,    51,  1,      1,2,20130412,1057,-19.5840, -32.8600, 4100,   4125.5,   0.9629,  34.7397,2,    227.3,2,    226.4,2,   101.75,2,    29.39,2,     2.01,2,   2358.9,2,   7.6477,2,    25.00
  29HE20130320,   A17,    51,  1,      2,2,20130412,1057,-19.5840, -32.8600, 4100,   4125.2,   0.9619,  34.7395,2,    227.4,2,   -999.0,9,  -999.00,9,  -999.00,9,  -999.00,9,   -999.0,9,-999.0000,9,  -999.00
  29HE20130320,   A17,    51,  1,      3,2,20130412,1057,-19.5840, -32.8600, 4100,   4063.4,   1.0761,  34.7518,2,    228.8,2,    228.3,2,    96.36,2,    28.60,2,     1.96,2,   2357.9,2,   7.6539,2,    25.00
  29HE20130320,   A17,    51,  1,      4,2,20130412,1057,-19.5840, -32.8600, 4100,   3551.7,   2.2716,  34.8784,2,    251.2,2,    250.5,2,    45.21,2,    21.65,2,     1.38,2,   2336.1,2,   7.7202,2,    25.00
  29HE20130320,   A17,    51,  1,      5,2,20130412,1057,-19.5840, -32.8600, 4100,   3040.0,   2.7053,  34.9154,2,    253.2,2,    251.6,2,    32.60,2,    20.50,2,     1.29,2,   2331.7,2,   7.7314,2,    25.00
  29HE20130320,   A17,    51,  1,      6,2,20130412,1057,-19.5840, -32.8600, 4100,   3040.2,   2.7055,  34.9148,2,    252.4,2,   -999.0,9,  -999.00,9,  -999.00,9,  -999.00,9,   -999.0,9,-999.0000,9,  -999.00
  29HE20130320,   A17,    51,  1,      7,2,20130412,1057,-19.5840, -32.8600, 4100,   2530.6,   2.9788,  34.9300,2,    251.9,2,    250.9,2,    29.26,2,    20.17,2,     1.26,2,   2326.0,2,   7.7303,2,    25.00
  29HE20130320,   A17,    51,  1,      8,2,20130412,1057,-19.5840, -32.8600, 4100,   2270.5,   3.1038,  34.9291,2,    248.6,2,    247.5,2,    28.77,2,    20.83,2,     1.30,2,   2322.5,2,   7.7256,2,    25.00
  29HE20130320,   A17,    51,  1,      9,2,20130412,1057,-19.5840, -32.8600, 4100,   2022.9,   3.4163,  34.9500,2,    250.7,2,    250.7,2,    22.92,2,    19.63,2,     1.24,2,   2323.8,2,   7.7294,2,    25.00
  29HE20130320,   A17,    51,  1,     10,2,20130412,1057,-19.5840, -32.8600, 4100,   1818.9,   3.6339,  34.9538,2,    247.1,2,    248.2,2,    21.32,2,    19.79,2,     1.26,2,   2318.2,2,   7.7237,2,    25.00
  29HE20130320,   A17,    51,  1,     11,2,20130412,1057,-19.5840, -32.8600, 4100,   1617.1,   3.8837,  34.9488,2,    238.5,2,    237.7,2,    20.76,2,    20.69,2,     1.32,2,   2317.7,2,   7.7123,2,    25.00
  29HE20130320,   A17,    51,  1,     12,2,20130412,1057,-19.5840, -32.8600, 4100,   1412.7,   4.0183,  34.8980,2,    220.1,2,    220.1,2,    24.40,2,    23.24,2,     1.52,2,   2321.1,2,   7.6853,2,    25.00
  29HE20130320,   A17,    51,  1,     13,2,20130412,1057,-19.5840, -32.8600, 4100,   1212.1,   3.6007,  34.6785,2,    192.0,2,    191.3,2,    39.81,2,    29.28,2,     1.98,2,   2318.4,2,   7.6173,2,    25.00
  29HE20130320,   A17,    51,  1,     14,2,20130412,1057,-19.5840, -32.8600, 4100,   1008.3,   3.6174,  34.5028,2,    185.0,2,   -999.0,9,  -999.00,9,  -999.00,9,  -999.00,9,   -999.0,9,-999.0000,9,  -999.00
  29HE20130320,   A17,    51,  1,     15,2,20130412,1057,-19.5840, -32.8600, 4100,   1007.7,   3.6171,  34.5045,2,    184.8,2,    184.6,2,    41.42,2,    31.52,2,     2.17,2,   2313.3,2,   7.5940,2,    25.00
  29HE20130320,   A17,    51,  1,     16,2,20130412,1057,-19.5840, -32.8600, 4100,    807.2,   4.2677,  34.3990,2,    185.8,2,    185.7,2,    32.91,2,    32.30,2,     2.14,2,   2302.8,2,   7.5915,2,    25.00
  29HE20130320,   A17,    51,  1,     17,2,20130412,1057,-19.5840, -32.8600, 4100,    605.8,   6.9188,  34.5040,2,    184.3,2,    184.6,2,    17.01,2,    26.56,2,     1.70,2,   2292.1,2,   7.6356,2,    25.00
  29HE20130320,   A17,    51,  1,     18,2,20130412,1057,-19.5840, -32.8600, 4100,    404.4,  11.7890,  35.0175,2,    184.5,2,    187.1,2,     6.01,2,    15.11,2,     0.83,2,   2308.6,2,   7.7554,2,    25.00
  29HE20130320,   A17,    51,  1,     19,2,20130412,1057,-19.5840, -32.8600, 4100,    303.9,  14.6350,  35.4072,2,    194.8,2,    194.8,2,     3.26,2,     8.43,2,     0.40,2,   2328.6,2,   7.8443,2,    25.00
  29HE20130320,   A17,    51,  1,     20,2,20130412,1057,-19.5840, -32.8600, 4100,    303.5,  14.6352,  35.4074,2,    194.7,2,   -999.0,9,  -999.00,9,  -999.00,9,  -999.00,9,   -999.0,9,-999.0000,9,  -999.00
  29HE20130320,   A17,    51,  1,     21,2,20130412,1057,-19.5840, -32.8600, 4100,    201.8,  20.5642,  36.5470,2,    192.8,2,    193.3,2,     1.37,2,     1.49,2,     0.03,2,   2399.2,2,   7.9652,2,    25.00
  29HE20130320,   A17,    51,  1,     22,2,20130412,1057,-19.5840, -32.8600, 4100,    112.5,  24.2752,  37.2267,2,    211.8,2,    210.5,2,     0.90,2,     0.01,2,     0.02,2,   2441.4,2,   8.0457,2,    25.00
  29HE20130320,   A17,    51,  1,     23,2,20130412,1057,-19.5840, -32.8600, 4100,     51.4,  27.9645,  37.5498,2,    199.4,2,    200.5,2,     0.83,2,    -0.01,2,     0.02,2,   2462.8,2,   8.0751,2,    25.00
  29HE20130320,   A17,    51,  1,     24,2,20130412,1057,-19.5840, -32.8600, 4100,      6.2,  28.2106,  37.4981,2,    197.6,2,    198.2,2,     0.83,2,    -0.01,2,     0.02,2,   2457.1,2,   8.0853,2,    25.00
  29HE20130320,   A17,    52,  1,      1,2,20130412,2058,-18.6350, -32.4000, 4279,   4317.4,   0.9186,  34.7331,2,    225.8,2,    226.5,2,   105.21,2,    30.08,2,     2.01,2,   -999.0,9,   7.6422,2,    25.00
  29HE20130320,   A17,    52,  1,      2,2,20130412,2058,-18.6350, -32.4000, 4279,   4061.0,   1.4623,  34.7911,2,    235.3,2,    235.4,2,    83.01,2,    26.50,2,     1.78,2,   -999.0,9,   7.6775,2,    25.00
  29HE20130320,   A17,    52,  1,      3,2,20130412,2058,-18.6350, -32.4000, 4279,   3550.6,   2.4739,  34.8970,2,    253.8,2,    253.3,2,    38.56,2,    20.95,2,     1.32,2,   -999.0,9,   7.7310,2,    25.00
  29HE20130320,   A17,    52,  1,      4,2,20130412,2058,-18.6350, -32.4000, 4279,   3036.7,   2.7762,  34.9181,2,    252.5,2,    251.5,2,    32.51,2,    20.72,2,     1.29,2,   -999.0,9,   7.7329,2,    25.00
  29HE20130320,   A17,    52,  1,      5,2,20130412,2058,-18.6350, -32.4000, 4279,   2784.8,   2.8785,  34.9225,2,    251.0,2,    250.5,2,    31.18,2,    20.44,2,     1.32,2,   -999.0,9,   7.7319,2,    25.00
  29HE20130320,   A17,    52,  1,      6,2,20130412,2058,-18.6350, -32.4000, 4279,   2531.5,   3.0036,  34.9285,2,    250.7,2,    249.3,2,    29.77,2,    20.68,2,     1.30,2,   -999.0,9,   7.7348,2,    25.00
  29HE20130320,   A17,    52,  1,      7,2,20130412,2058,-18.6350, -32.4000, 4279,   2275.9,   3.1898,  34.9407,2,    251.8,2,    251.3,2,    26.08,2,    19.77,2,     1.28,2,   -999.0,9,   7.7342,2,    25.00
  29HE20130320,   A17,    52,  1,      8,2,20130412,2058,-18.6350, -32.4000, 4279,   2022.6,   3.4070,  34.9480,2,    250.2,2,    249.7,2,    23.71,2,    19.85,2,     1.25,2,   -999.0,9,   7.7314,2,    25.00
  29HE20130320,   A17,    52,  1,      9,2,20130412,2058,-18.6350, -32.4000, 4279,   1820.8,   3.6274,  34.9507,2,    245.9,2,    245.5,2,    22.21,2,    20.44,2,     1.28,2,   -999.0,9,   7.7261,2,    25.00
  29HE20130320,   A17,    52,  1,     10,2,20130412,2058,-18.6350, -32.4000, 4279,   1615.5,   3.8573,  34.9364,2,    235.3,2,    234.5,2,    22.43,2,    21.82,2,     1.40,2,   -999.0,9,   7.7099,2,    25.00
  29HE20130320,   A17,    52,  1,     11,2,20130412,2058,-18.6350, -32.4000, 4279,   1413.8,   4.1130,  34.8839,2,    214.1,2,    213.7,2,    24.90,2,    24.50,2,     1.58,2,   -999.0,9,   7.6842,2,    25.00
  29HE20130320,   A17,    52,  1,     12,2,20130412,2058,-18.6350, -32.4000, 4279,   1211.9,   3.9427,  34.7298,2,    191.9,2,    192.2,2,    32.46,2,    28.54,2,     1.93,2,   -999.0,9,   7.6362,2,    25.00
  29HE20130320,   A17,    52,  1,     13,2,20130412,2058,-18.6350, -32.4000, 4279,   1010.2,   3.5940,  34.5200,2,    186.8,2,    186.7,2,    42.18,2,    31.99,2,     2.19,2,   -999.0,9,   7.6031,2,    25.00
  29HE20130320,   A17,    52,  1,     14,2,20130412,2058,-18.6350, -32.4000, 4279,    907.6,   3.7077,  34.4341,2,    189.4,2,    189.5,2,    40.41,2,    32.32,2,     2.19,2,   -999.0,9,   7.5996,2,    25.00
  29HE20130320,   A17,    52,  1,     15,2,20130412,2058,-18.6350, -32.4000, 4279,    807.6,   4.1736,  34.3880,2,    191.1,2,    191.1,2,    33.79,2,    32.09,2,     2.18,2,   -999.0,9,   7.6053,2,    25.00
  29HE20130320,   A17,    52,  1,     16,2,20130412,2058,-18.6350, -32.4000, 4279,    706.2,   4.9896,  34.3844,2,    191.7,2,    191.8,2,    26.40,2,    30.57,2,     1.95,2,   -999.0,9,   7.6160,2,    25.00
  29HE20130320,   A17,    52,  1,     17,2,20130412,2058,-18.6350, -32.4000, 4279,    604.9,   6.5872,  34.4841,2,    183.0,2,    183.0,2,    18.23,2,    27.37,2,     1.84,2,   -999.0,9,   7.6394,2,    25.00
  29HE20130320,   A17,    52,  1,     18,2,20130412,2058,-18.6350, -32.4000, 4279,    504.7,   9.0949,  34.7223,2,    168.9,2,    169.6,2,    12.18,2,    23.11,2,     1.63,2,   -999.0,9,   7.6776,2,    25.00
  29HE20130320,   A17,    52,  1,     19,2,20130412,2058,-18.6350, -32.4000, 4279,    403.6,  11.6542,  35.0068,2,    180.1,2,    177.9,2,     6.73,2,    16.25,2,     1.02,2,   -999.0,9,   7.7571,2,    25.00
  29HE20130320,   A17,    52,  1,     20,2,20130412,2058,-18.6350, -32.4000, 4279,    303.6,  15.2515,  35.5074,2,    196.0,2,    195.9,2,     3.11,2,     7.32,2,     0.28,2,   -999.0,9,   7.8693,2,    25.00
  29HE20130320,   A17,    52,  1,     21,2,20130412,2058,-18.6350, -32.4000, 4279,    202.7,  20.8664,  36.6279,2,    196.2,2,    196.4,2,     1.53,2,     1.33,2,     0.05,2,   -999.0,9,   7.9699,2,    25.00
  29HE20130320,   A17,    52,  1,     22,2,20130412,2058,-18.6350, -32.4000, 4279,    101.8,  23.9967,  37.2240,2,    216.6,2,    215.7,2,     1.11,2,     0.01,2,    -0.01,2,   -999.0,9,   8.0365,2,    25.00
  29HE20130320,   A17,    52,  1,     23,2,20130412,2058,-18.6350, -32.4000, 4279,     52.1,  27.6109,  37.5425,2,    202.8,2,    202.7,2,     0.97,2,     0.01,2,    -0.03,2,   -999.0,9,   8.0551,2,    25.00
  29HE20130320,   A17,    52,  1,     24,2,20130412,2058,-18.6350, -32.4000, 4279,      7.1,  28.1679,  37.5838,2,    198.6,2,    199.1,2,     0.94,2,     0.01,2,    -0.02,2,   -999.0,9,   8.0684,2,    25.00
  29HE20130320,   A17,    53,  1,      1,2,20130413,0707,-17.8320, -31.6340, 4676,   4738.0,   0.4402,  34.6834,2,    220.6,2,    220.1,2,   124.20,2,    31.77,2,     2.20,2,   2359.5,2,-999.0000,9,  -999.00
  29HE20130320,   A17,    53,  1,      2,2,20130413,0707,-17.8320, -31.6340, 4676,   4738.3,   0.4403,  34.6834,2,    220.6,2,   -999.0,9,  -999.00,9,  -999.00,9,  -999.00,9,   -999.0,9,-999.0000,9,  -999.00
  29HE20130320,   A17,    53,  1,      3,2,20130413,0707,-17.8320, -31.6340, 4676,   4573.0,   0.6660,  34.7064,2,    222.8,2,   -999.0,9,  -999.00,9,  -999.00,9,  -999.00,9,   -999.0,9,-999.0000,9,  -999.00
  29HE20130320,   A17,    53,  1,      4,2,20130413,0707,-17.8320, -31.6340, 4676,   4060.9,   1.6935,  34.8156,2,    240.0,2,    240.0,2,    72.45,2,    25.45,2,     1.66,2,   2343.1,2,-999.0000,9,  -999.00
  29HE20130320,   A17,    53,  1,      5,2,20130413,0707,-17.8320, -31.6340, 4676,   3551.5,   2.5525,  34.9037,2,    254.3,2,    253.8,2,    36.03,2,    20.36,2,     1.31,2,   2326.6,2,-999.0000,9,  -999.00
  29HE20130320,   A17,    53,  1,      6,2,20130413,0707,-17.8320, -31.6340, 4676,   3039.8,   2.7719,  34.9174,2,    251.5,2,    250.4,2,    32.51,2,    20.51,2,     1.28,2,   2323.3,2,-999.0000,9,  -999.00
  29HE20130320,   A17,    53,  1,      7,2,20130413,0707,-17.8320, -31.6340, 4676,   3040.6,   2.7737,  34.9173,2,    251.1,2,   -999.0,9,  -999.00,9,  -999.00,9,  -999.00,9,   -999.0,9,-999.0000,9,  -999.00
  29HE20130320,   A17,    53,  1,      8,2,20130413,0707,-17.8320, -31.6340, 4676,   3039.8,   2.7724,  34.9173,2,    251.2,2,   -999.0,9,  -999.00,9,  -999.00,9,  -999.00,9,   -999.0,9,-999.0000,9,  -999.00
  29HE20130320,   A17,    53,  1,      9,2,20130413,0707,-17.8320, -31.6340, 4676,   3039.3,   2.7720,  34.9174,2,    251.2,2,   -999.0,9,  -999.00,9,  -999.00,9,  -999.00,9,   -999.0,9,-999.0000,9,  -999.00
  29HE20130320,   A17,    53,  1,     10,2,20130413,0707,-17.8320, -31.6340, 4676,   3039.7,   2.7733,  34.9175,2,    251.2,2,   -999.0,9,  -999.00,9,  -999.00,9,  -999.00,9,   -999.0,9,-999.0000,9,  -999.00
  29HE20130320,   A17,    53,  1,     11,2,20130413,0707,-17.8320, -31.6340, 4676,   3040.1,   2.7736,  34.9175,2,    251.1,2,   -999.0,9,  -999.00,9,  -999.00,9,  -999.00,9,   -999.0,9,-999.0000,9,  -999.00
  29HE20130320,   A17,    53,  1,     12,2,20130413,0707,-17.8320, -31.6340, 4676,   3039.7,   2.7734,  34.9174,2,    251.0,2,   -999.0,9,  -999.00,9,  -999.00,9,  -999.00,9,   -999.0,9,-999.0000,9,  -999.00
  29HE20130320,   A17,    53,  1,     13,2,20130413,0707,-17.8320, -31.6340, 4676,   3039.8,   2.7736,  34.9175,2,    251.3,2,   -999.0,9,  -999.00,9,  -999.00,9,  -999.00,9,   -999.0,9,-999.0000,9,  -999.00
  29HE20130320,   A17,    53,  1,     14,2,20130413,0707,-17.8320, -31.6340, 4676,   3040.1,   2.7736,  34.9174,2,    251.2,2,   -999.0,9,  -999.00,9,  -999.00,9,  -999.00,9,   -999.0,9,-999.0000,9,  -999.00
  29HE20130320,   A17,    53,  1,     15,2,20130413,0707,-17.8320, -31.6340, 4676,   3039.1,   2.7732,  34.9176,2,    251.1,2,   -999.0,9,  -999.00,9,  -999.00,9,  -999.00,9,   -999.0,9,-999.0000,9,  -999.00
  29HE20130320,   A17,    53,  1,     16,2,20130413,0707,-17.8320, -31.6340, 4676,   3039.7,   2.7735,  34.9175,2,    251.3,2,   -999.0,9,  -999.00,9,  -999.00,9,  -999.00,9,   -999.0,9,-999.0000,9,  -999.00
  29HE20130320,   A17,    53,  1,     17,2,20130413,0707,-17.8320, -31.6340, 4676,   3039.9,   2.7736,  34.9174,2,    251.3,2,   -999.0,9,  -999.00,9,  -999.00,9,  -999.00,9,   -999.0,9,-999.0000,9,  -999.00
  29HE20130320,   A17,    53,  1,     18,2,20130413,0707,-17.8320, -31.6340, 4676,   3039.2,   2.7733,  34.9174,2,    251.2,2,   -999.0,9,  -999.00,9,  -999.00,9,  -999.00,9,   -999.0,9,-999.0000,9,  -999.00
  29HE20130320,   A17,    53,  1,     19,2,20130413,0707,-17.8320, -31.6340, 4676,   3039.4,   2.7735,  34.9174,2,    251.2,2,   -999.0,9,  -999.00,9,  -999.00,9,  -999.00,9,   -999.0,9,-999.0000,9,  -999.00
  29HE20130320,   A17,    53,  1,     20,2,20130413,0707,-17.8320, -31.6340, 4676,   3040.1,   2.7737,  34.9174,2,    251.2,2,   -999.0,9,  -999.00,9,  -999.00,9,  -999.00,9,   -999.0,9,-999.0000,9,  -999.00
  29HE20130320,   A17,    53,  1,     21,2,20130413,0707,-17.8320, -31.6340, 4676,   3039.2,   2.7735,  34.9175,2,    251.3,2,   -999.0,9,  -999.00,9,  -999.00,9,  -999.00,9,   -999.0,9,-999.0000,9,  -999.00
  29HE20130320,   A17,    53,  1,     22,2,20130413,0707,-17.8320, -31.6340, 4676,   3039.4,   2.7734,  34.9175,2,    251.2,2,   -999.0,9,  -999.00,9,  -999.00,9,  -999.00,9,   -999.0,9,-999.0000,9,  -999.00
  29HE20130320,   A17,    53,  1,     23,2,20130413,0707,-17.8320, -31.6340, 4676,   3039.1,   2.7737,  34.9174,2,    251.2,2,   -999.0,9,  -999.00,9,  -999.00,9,  -999.00,9,   -999.0,9,-999.0000,9,  -999.00
  29HE20130320,   A17,    53,  1,     24,2,20130413,0707,-17.8320, -31.6340, 4676,   2784.4,   2.8668,  34.9223,2,    250.5,2,    248.6,2,    31.79,2,    20.18,2,     1.29,2,   2324.7,2,-999.0000,9,  -999.00