BOTTLE,20230216CCHSIOENA
EXPOCODE,SECT_ID,STNNBR,CASTNO,BTLNBR,BTLNBR_FLAG_W,DATE,TIME,LATITUDE,LONGITUDE,DEPTH,CTDPRS,CTDTMP,CTDSAL,CTDSAL_FLAG_W,CTDOXY,CTDOXY_FLAG_W,OXYGEN,OXYGEN_FLAG_W,SILCAT,SILCAT_FLAG_W,NITRAT,NITRAT_FLAG_W,PHSPHT,PHSPHT_FLAG_W,ALKALI,ALKALI_FLAG_W,PH_TOT,PH_TOT_FLAG_W,PH_TMP
,,,,,,,,,,METERS,DBAR,ITS-90,PSS-78,,UMOL/KG,,UMOL/KG,,UMOL/KG,,UMOL/KG,,UMOL/KG,,UMOL/KG,,,,DEG C
  29HE20130320,   A17,     9,  1,      1,2,20130326,1324,-45.9050, -52.8120, 6150,   6129.8,   0.3939,  34.6702,2,    222.5,2,    222.9,2,  -999.00,9,  -999.00,9,  -999.00,9,   2368.2,2,-999.0000,9,  -999.00
  29HE20130320,   A17,     9,  1,      2,2,20130326,1324,-45.9050, -52.8120, 6150,   5615.7,   0.3578,  34.6722,2,    222.8,2,    222.7,2,   126.85,2,    32.91,2,     2.28,2,   2368.3,2,   7.6051,2,    25.00
  29HE20130320,   A17,     9,  1,      3,2,20130326,1324,-45.9050, -52.8120, 6150,   5105.9,   0.3594,  34.6750,2,    222.1,2,    221.0,2,   126.77,2,    32.78,2,     2.28,2,   2365.0,2,   7.6033,2,    25.00
  29HE20130320,   A17,     9,  1,      4,2,20130326,1324,-45.9050, -52.8120, 6150,   4586.4,   0.4826,  34.6826,2,    218.2,2,    217.6,2,   123.08,2,    32.41,2,     2.25,2,   2367.0,2,   7.5962,2,    25.00
  29HE20130320,   A17,     9,  1,      5,2,20130326,1324,-45.9050, -52.8120, 6150,   4072.7,   0.8349,  34.7007,2,    211.0,2,    210.9,2,   117.29,2,    32.03,2,     2.21,2,   2364.4,2,   7.6113,2,    25.00
  29HE20130320,   A17,     9,  1,      6,2,20130326,1324,-45.9050, -52.8120, 6150,   3559.6,   1.2526,  34.7232,2,    203.9,2,    203.1,2,   109.65,2,    31.33,2,     2.15,2,   2364.6,2,   7.6059,2,    25.00
  29HE20130320,   A17,     9,  1,      7,2,20130326,1324,-45.9050, -52.8120, 6150,   3048.0,   1.7875,  34.7607,2,    203.8,2,    204.6,2,    91.28,2,    29.67,2,     2.05,2,   2358.1,2,   7.6269,2,    25.00
  29HE20130320,   A17,     9,  1,      8,2,20130326,1324,-45.9050, -52.8120, 6150,   2541.9,   2.3683,  34.8010,2,    208.8,2,    211.1,2,    69.41,2,    27.45,2,     1.89,2,   2350.9,2,-999.0000,9,  -999.00
  29HE20130320,   A17,     9,  1,      9,2,20130326,1324,-45.9050, -52.8120, 6150,   2027.9,   2.8552,  34.8042,2,    206.9,2,    206.9,2,    42.53,2,    31.53,2,     2.14,2,   2342.8,2,   7.6060,2,    25.00
  29HE20130320,   A17,     9,  1,     10,2,20130326,1324,-45.9050, -52.8120, 6150,   1823.3,   2.5123,  34.6947,2,    180.7,2,    181.3,2,    75.71,2,    31.66,2,     2.16,2,   2348.6,2,   7.5989,2,    25.00
  29HE20130320,   A17,     9,  1,     11,2,20130326,1324,-45.9050, -52.8120, 6150,   1624.4,   2.6997,  34.6717,2,    180.3,2,    181.7,2,    69.67,2,    31.65,2,     2.18,2,   2339.3,2,   7.5933,2,    25.00
  29HE20130320,   A17,     9,  1,     12,2,20130326,1324,-45.9050, -52.8120, 6150,   1414.7,   2.8924,  34.6393,2,    182.0,2,    182.3,2,    62.15,2,    31.73,2,     2.17,2,   2334.6,2,   7.5928,2,    25.00
  29HE20130320,   A17,     9,  1,     13,2,20130326,1324,-45.9050, -52.8120, 6150,   1220.9,   2.7393,  34.5163,2,    176.3,2,    177.6,2,    65.74,2,    33.91,2,     2.32,2,   2332.3,2,   7.5685,2,    25.00
  29HE20130320,   A17,     9,  1,     14,2,20130326,1324,-45.9050, -52.8120, 6150,   1012.6,   2.8795,  34.4204,2,    186.1,2,    187.3,2,    57.02,2,    34.03,2,     2.32,2,   2321.0,2,   7.5708,2,    25.00
  29HE20130320,   A17,     9,  1,     15,2,20130326,1324,-45.9050, -52.8120, 6150,    809.3,   3.1335,  34.3174,2,    207.5,2,    207.8,2,    44.03,2,    32.80,2,     2.24,2,   2310.1,2,   7.5942,2,    25.00
  29HE20130320,   A17,     9,  1,     16,2,20130326,1324,-45.9050, -52.8120, 6150,    713.6,   3.2181,  34.2533,2,    224.7,2,    226.5,2,    35.40,2,    31.66,2,     2.15,2,   2301.3,2,   7.6113,2,    25.00
  29HE20130320,   A17,     9,  1,     17,2,20130326,1324,-45.9050, -52.8120, 6150,    605.8,   3.3486,  34.1896,2,    244.2,2,    243.8,2,    28.21,2,    30.18,2,     2.00,2,   2295.1,2,   7.6350,2,    25.00
  29HE20130320,   A17,     9,  1,     18,2,20130326,1324,-45.9050, -52.8120, 6150,    505.6,   3.5971,  34.1546,2,    257.7,2,    257.7,2,    21.61,2,    28.63,2,     1.89,2,   2290.0,2,   7.6534,2,    25.00
  29HE20130320,   A17,     9,  1,     19,2,20130326,1324,-45.9050, -52.8120, 6150,    405.8,   3.9351,  34.1278,2,    272.3,2,    271.7,2,    15.85,2,    27.01,2,     1.76,2,   2289.1,2,   7.6771,2,    25.00
  29HE20130320,   A17,     9,  1,     20,2,20130326,1324,-45.9050, -52.8120, 6150,    306.5,   4.3911,  34.1307,2,    276.2,2,    276.1,2,    11.36,2,    25.50,2,     1.63,2,   2282.5,2,   7.6900,2,    25.00
  29HE20130320,   A17,     9,  1,     21,2,20130326,1324,-45.9050, -52.8120, 6150,    202.5,   5.2172,  34.1785,2,    265.8,2,    264.9,2,     9.16,2,    24.45,2,     1.53,2,   2280.6,2,   7.6946,2,    25.00
  29HE20130320,   A17,     9,  1,     22,2,20130326,1324,-45.9050, -52.8120, 6150,    104.4,   8.2844,  34.4392,2,    252.5,2,    252.9,2,     4.12,2,    18.18,2,     1.05,2,   2297.7,2,   7.7616,2,    25.00
  29HE20130320,   A17,     9,  1,     23,2,20130326,1324,-45.9050, -52.8120, 6150,     50.6,  13.1862,  34.5276,2,    252.3,2,    252.6,2,     1.01,2,     4.58,2,     0.31,2,   2306.0,2,   7.9254,2,    25.00
  29HE20130320,   A17,     9,  1,     24,2,20130326,1324,-45.9050, -52.8120, 6150,      6.4,  13.6599,  34.5229,2,    260.6,2,    260.6,2,     0.67,2,     2.88,2,     0.15,2,   2303.5,2,   7.9470,2,    25.00
  29HE20130320,   A17,    10,  1,      1,2,20130326,2256,-45.3050, -52.2870, 6012,   6108.0,   0.3945,  34.6703,2,    223.0,2,    222.7,2,   128.77,2,    32.65,2,     2.34,2,   -999.0,9,   7.5998,2,    25.00
  29HE20130320,   A17,    10,  1,      2,2,20130326,2256,-45.3050, -52.2870, 6012,   5614.9,   0.3552,  34.6719,2,    222.9,2,    223.0,2,   128.48,2,    32.54,2,     2.33,2,   -999.0,9,   7.6041,2,    25.00
  29HE20130320,   A17,    10,  1,      3,2,20130326,2256,-45.3050, -52.2870, 6012,   5099.2,   0.3534,  34.6746,2,    222.3,2,    221.5,2,   127.30,2,    32.28,2,     2.34,2,   -999.0,9,   7.6058,2,    25.00
  29HE20130320,   A17,    10,  1,      4,2,20130326,2256,-45.3050, -52.2870, 6012,   4583.8,   0.4463,  34.6807,2,    219.4,2,    218.5,2,   125.91,2,    32.39,2,     2.30,2,   -999.0,9,   7.6016,2,    25.00
  29HE20130320,   A17,    10,  1,      5,2,20130326,2256,-45.3050, -52.2870, 6012,   4067.2,   0.7518,  34.6967,2,    212.7,2,    212.8,2,   119.84,2,    31.88,2,     2.29,2,   -999.0,9,   7.6093,2,    25.00
  29HE20130320,   A17,    10,  1,      6,2,20130326,2256,-45.3050, -52.2870, 6012,   3554.0,   1.1771,  34.7195,2,    205.5,2,    205.5,2,   113.99,2,    31.20,2,     2.24,2,   -999.0,9,   7.6328,2,    25.00
  29HE20130320,   A17,    10,  1,      7,2,20130326,2256,-45.3050, -52.2870, 6012,   3046.8,   1.6095,  34.7422,2,    200.3,2,    200.6,2,   106.16,2,    30.17,2,     2.14,2,   -999.0,9,   7.6358,2,    25.00
  29HE20130320,   A17,    10,  1,      8,2,20130326,2256,-45.3050, -52.2870, 6012,   2535.9,   2.1474,  34.7818,2,    204.6,2,    205.1,2,    88.55,2,    28.19,2,     1.99,2,   -999.0,9,   7.6413,2,    25.00
  29HE20130320,   A17,    10,  1,      9,2,20130326,2256,-45.3050, -52.2870, 6012,   2029.8,   2.4704,  34.7644,2,    196.0,2,    193.1,2,    83.89,2,    29.55,2,     2.06,2,   -999.0,9,   7.6013,2,    25.00
  29HE20130320,   A17,    10,  1,     10,2,20130326,2256,-45.3050, -52.2870, 6012,   1818.9,   2.6016,  34.7419,2,    190.7,2,    190.9,2,    80.99,2,    29.79,2,     2.10,2,   -999.0,9,   7.6153,2,    25.00
  29HE20130320,   A17,    10,  1,     11,2,20130326,2256,-45.3050, -52.2870, 6012,   1620.6,   2.5469,  34.6871,2,    180.0,2,    179.9,2,    86.64,2,    31.52,2,     2.20,2,   -999.0,9,   7.5897,2,    25.00
  29HE20130320,   A17,    10,  1,     12,2,20130326,2256,-45.3050, -52.2870, 6012,   1421.3,   2.5103,  34.6241,2,    172.1,2,    172.2,2,    88.48,2,    33.28,2,     2.39,2,   -999.0,9,   7.5730,2,    25.00
  29HE20130320,   A17,    10,  1,     13,2,20130326,2256,-45.3050, -52.2870, 6012,   1206.3,   2.6419,  34.5712,2,    172.8,2,    173.7,2,    83.21,2,    33.82,2,     2.41,2,   -999.0,9,   7.5738,2,    25.00
  29HE20130320,   A17,    10,  1,     14,2,20130326,2256,-45.3050, -52.2870, 6012,   1009.7,   2.7359,  34.4852,2,    177.3,2,    177.4,2,    77.07,2,    34.28,2,     2.45,2,   -999.0,9,   7.5698,2,    25.00
  29HE20130320,   A17,    10,  1,     15,2,20130326,2256,-45.3050, -52.2870, 6012,    805.9,   2.7741,  34.3662,2,    193.2,2,    193.5,2,    66.79,2,    34.07,2,     2.42,2,   -999.0,9,   7.5708,2,    25.00
  29HE20130320,   A17,    10,  1,     16,2,20130326,2256,-45.3050, -52.2870, 6012,    713.7,   2.8147,  34.3161,2,    204.7,2,    205.3,2,    59.46,2,    33.38,2,     2.33,2,   -999.0,9,   7.5803,2,    25.00
  29HE20130320,   A17,    10,  1,     17,2,20130326,2256,-45.3050, -52.2870, 6012,    600.2,   2.8336,  34.2396,2,    224.8,2,    225.3,2,    49.24,2,    32.34,2,     2.22,2,   -999.0,9,   7.6038,2,    25.00
  29HE20130320,   A17,    10,  1,     18,2,20130326,2256,-45.3050, -52.2870, 6012,    510.2,   2.8516,  34.1785,2,    243.5,2,    244.2,2,    40.26,2,    30.93,2,     2.15,2,   -999.0,9,   7.6191,2,    25.00
  29HE20130320,   A17,    10,  1,     19,2,20130326,2256,-45.3050, -52.2870, 6012,    399.4,   3.0198,  34.1167,2,    263.2,2,    263.1,2,    24.47,2,    29.40,2,     2.03,2,   -999.0,9,   7.6421,2,    25.00
  29HE20130320,   A17,    10,  1,     20,2,20130326,2256,-45.3050, -52.2870, 6012,    309.7,   3.3137,  34.0832,2,    274.3,2,    274.4,2,    18.12,2,    28.06,2,     1.93,2,   -999.0,9,   7.6620,2,    25.00
  29HE20130320,   A17,    10,  1,     21,2,20130326,2256,-45.3050, -52.2870, 6012,    201.2,   3.8841,  34.0679,2,    290.5,2,    289.8,2,    11.65,2,    25.51,2,     1.76,2,   -999.0,9,   7.6920,2,    25.00
  29HE20130320,   A17,    10,  1,     22,2,20130326,2256,-45.3050, -52.2870, 6012,    101.7,   6.3002,  34.0575,2,    286.5,2,    285.8,2,     3.93,2,    20.72,2,     1.41,2,   -999.0,9,   7.7555,2,    25.00
  29HE20130320,   A17,    10,  1,     23,2,20130326,2256,-45.3050, -52.2870, 6012,     51.7,  12.2940,  34.1935,2,    266.5,2,    267.5,2,     0.91,2,     5.69,2,     0.45,2,   -999.0,9,   7.9190,2,    25.00
  29HE20130320,   A17,    10,  1,     24,2,20130326,2256,-45.3050, -52.2870, 6012,      6.0,  12.3214,  34.1618,2,    269.5,2,    268.6,2,     0.94,2,     5.79,2,     0.35,2,   -999.0,9,   7.9060,2,    25.00
  29HE20130320,   A17,    11,  1,      1,2,20130327,0825,-44.7050, -51.7650, 5878,   5988.8,   0.3796,  34.6705,2,    222.8,2,    223.5,2,   128.97,2,    33.03,2,     2.36,2,   2370.1,2,   7.5981,2,    25.00
  29HE20130320,   A17,    11,  1,      2,2,20130327,0825,-44.7050, -51.7650, 5878,   5611.9,   0.3487,  34.6716,2,    223.9,2,    223.8,2,   128.54,2,    33.17,2,     2.36,2,   2368.7,2,   7.6067,2,    25.00
  29HE20130320,   A17,    11,  1,      3,2,20130327,0825,-44.7050, -51.7650, 5878,   5102.2,   0.3375,  34.6738,2,    222.8,2,    222.6,2,   127.67,2,    33.03,2,     2.33,2,   2366.4,2,   7.6007,2,    25.00
  29HE20130320,   A17,    11,  1,      4,2,20130327,0825,-44.7050, -51.7650, 5878,   4585.8,   0.4279,  34.6798,2,    219.7,2,    219.3,2,   126.74,2,    32.93,2,     2.32,2,   2365.8,2,   7.6103,2,    25.00
  29HE20130320,   A17,    11,  1,      5,2,20130327,0825,-44.7050, -51.7650, 5878,   4074.4,   0.7523,  34.6967,2,    212.8,2,    212.9,2,   120.13,2,    32.40,2,     2.28,2,   2364.0,2,   7.6167,2,    25.00
  29HE20130320,   A17,    11,  1,      6,2,20130327,0825,-44.7050, -51.7650, 5878,   3558.7,   1.2345,  34.7226,2,    205.1,2,    204.8,2,   113.94,2,    31.42,2,     2.21,2,   2363.0,2,   7.6103,2,    25.00
  29HE20130320,   A17,    11,  1,      7,2,20130327,0825,-44.7050, -51.7650, 5878,   3047.2,   1.7525,  34.7553,2,    202.8,2,    203.7,2,   101.61,2,    30.02,2,     2.09,2,   2355.2,2,   7.6256,2,    25.00
  29HE20130320,   A17,    11,  1,      8,2,20130327,0825,-44.7050, -51.7650, 5878,   2535.5,   2.2140,  34.7660,2,    197.7,2,    198.5,2,    91.11,2,    29.52,2,     2.07,2,   2353.3,2,   7.6234,2,    25.00
  29HE20130320,   A17,    11,  1,      9,2,20130327,0825,-44.7050, -51.7650, 5878,   2283.7,   2.3597,  34.7523,2,    192.7,2,    194.2,2,    87.99,2,    29.96,2,     2.11,2,   2351.0,2,   7.6135,2,    25.00
  29HE20130320,   A17,    11,  1,     10,2,20130327,0825,-44.7050, -51.7650, 5878,   2026.5,   2.6649,  34.7517,2,    193.6,2,    194.2,2,    79.29,2,    29.66,2,     2.07,2,   2342.9,2,   7.6257,2,    25.00
  29HE20130320,   A17,    11,  1,     11,2,20130327,0825,-44.7050, -51.7650, 5878,   1824.2,   2.6456,  34.6898,2,    181.6,2,    182.1,2,    84.08,2,    31.83,2,     2.24,2,   2342.7,2,   7.5872,2,    25.00
  29HE20130320,   A17,    11,  1,     12,2,20130327,0825,-44.7050, -51.7650, 5878,   1620.5,   2.7815,  34.6500,2,    179.8,2,    180.9,2,    79.02,2,    32.18,2,     2.26,2,   2338.5,2,   7.5881,2,    25.00
  29HE20130320,   A17,    11,  1,     13,2,20130327,0825,-44.7050, -51.7650, 5878,   1416.6,   2.7237,  34.5477,2,    174.3,2,   -999.0,9,  -999.00,9,  -999.00,9,  -999.00,9,   -999.0,9,-999.0000,9,  -999.00
  29HE20130320,   A17,    11,  1,     14,2,20130327,0825,-44.7050, -51.7650, 5878,   1212.9,   2.8665,  34.4555,2,    183.2,2,    183.7,2,    71.58,2,    33.99,2,     2.39,2,   2322.8,2,   7.5608,2,    25.00
  29HE20130320,   A17,    11,  1,     15,2,20130327,0825,-44.7050, -51.7650, 5878,   1013.5,   3.0059,  34.3511,2,    199.7,2,    200.6,2,    60.31,2,    33.48,2,     2.34,2,   2311.1,2,   7.5893,2,    25.00
  29HE20130320,   A17,    11,  1,     16,2,20130327,0825,-44.7050, -51.7650, 5878,    810.1,   3.2852,  34.2470,2,    226.9,2,    227.5,2,    43.13,2,    31.25,2,     2.13,2,   2299.4,2,   7.6047,2,    25.00
  29HE20130320,   A17,    11,  1,     17,2,20130327,0825,-44.7050, -51.7650, 5878,    605.7,   3.7220,  34.1599,2,    257.0,2,    257.1,2,    18.63,2,    28.66,2,     1.97,2,   2289.4,2,   7.6509,2,    25.00
  29HE20130320,   A17,    11,  1,     18,2,20130327,0825,-44.7050, -51.7650, 5878,    506.3,   3.8197,  34.1089,2,    275.9,2,    276.3,2,    13.35,2,    26.92,2,     1.82,2,   2277.5,2,   7.6774,2,    25.00
  29HE20130320,   A17,    11,  1,     19,2,20130327,0825,-44.7050, -51.7650, 5878,    404.9,   4.4465,  34.1437,2,    274.7,2,    274.5,2,    10.60,2,    25.55,2,     1.71,2,   2276.5,2,   7.6857,2,    25.00
  29HE20130320,   A17,    11,  1,     20,2,20130327,0825,-44.7050, -51.7650, 5878,    304.4,   5.4350,  34.2415,2,    254.2,2,    256.1,2,     9.36,2,    24.82,2,     1.64,2,   2283.1,2,   7.6898,2,    25.00
  29HE20130320,   A17,    11,  1,     21,2,20130327,0825,-44.7050, -51.7650, 5878,    201.9,   6.1467,  34.2132,2,    265.0,2,    266.0,2,     5.38,2,    22.14,2,     1.37,2,   2277.7,2,   7.7221,2,    25.00
  29HE20130320,   A17,    11,  1,     22,2,20130327,0825,-44.7050, -51.7650, 5878,    102.1,  11.6520,  34.9064,2,    216.3,2,    216.6,2,     3.04,2,    15.69,2,     0.73,3,   2309.6,2,   7.8070,2,    25.00
  29HE20130320,   A17,    11,  1,     23,2,20130327,0825,-44.7050, -51.7650, 5878,     29.7,  16.6469,  34.9503,2,    243.9,2,    244.5,2,     0.33,2,     0.30,2,     0.05,2,   2322.8,2,   7.9909,2,    25.00
  29HE20130320,   A17,    11,  1,     24,2,20130327,0825,-44.7050, -51.7650, 5878,      6.6,  16.6288,  34.9400,2,    244.6,2,    245.5,2,     0.32,2,     0.31,2,     0.03,2,   2322.0,2,   7.9930,2,    25.00