BOTTLE,20230216CCHSIOENA
EXPOCODE,SECT_ID,STNNBR,CASTNO,BTLNBR,BTLNBR_FLAG_W,DATE,TIME,LATITUDE,LONGITUDE,DEPTH,CTDPRS,CTDTMP,CTDSAL,CTDSAL_FLAG_W,CTDOXY,CTDOXY_FLAG_W,OXYGEN,OXYGEN_FLAG_W,SILCAT,SILCAT_FLAG_W,NITRAT,NITRAT_FLAG_W,PHSPHT,PHSPHT_FLAG_W,ALKALI,ALKALI_FLAG_W,PH_TOT,PH_TOT_FLAG_W,PH_TMP
,,,,,,,,,,METERS,DBAR,ITS-90,PSS-78,,UMOL/KG,,UMOL/KG,,UMOL/KG,,UMOL/KG,,UMOL/KG,,UMOL/KG,,,,DEG C
  29HE20130320,   A17,    75,  1,      1,2,20130430,0043,  2.4020, -29.4300, 3314,   3335.1,   2.5457,  34.9030,2,    245.8,2,   -999.0,9,  -999.00,9,  -999.00,9,  -999.00,9,   -999.0,9,-999.0000,9,  -999.00
  29HE20130320,   A17,    75,  1,      2,2,20130430,0043,  2.4020, -29.4300, 3314,   3334.8,   2.5453,  34.9030,2,    245.9,2,    246.2,2,  -999.00,9,  -999.00,9,  -999.00,9,   -999.0,9,-999.0000,9,  -999.00
  29HE20130320,   A17,    75,  1,      3,2,20130430,0043,  2.4020, -29.4300, 3314,   3039.3,   2.6971,  34.9141,2,    246.4,2,   -999.0,9,    36.04,2,    21.78,2,     1.38,2,   -999.0,9,-999.0000,9,  -999.00
  29HE20130320,   A17,    75,  1,      4,2,20130430,0043,  2.4020, -29.4300, 3314,   3039.7,   2.6975,  34.9139,2,    246.6,2,    246.5,2,  -999.00,9,  -999.00,9,  -999.00,9,   -999.0,9,-999.0000,9,  -999.00
  29HE20130320,   A17,    75,  1,      5,2,20130430,0043,  2.4020, -29.4300, 3314,   2528.1,   3.0218,  34.9351,2,    248.4,2,    248.0,2,    30.31,2,    20.97,2,     1.34,2,   -999.0,9,   7.7341,2,    25.00
  29HE20130320,   A17,    75,  1,      6,2,20130430,0043,  2.4020, -29.4300, 3314,   2271.7,   3.1774,  34.9463,2,    251.4,2,    250.4,2,    26.14,2,    20.40,2,     1.30,2,   -999.0,9,   7.7368,2,    25.00
  29HE20130320,   A17,    75,  1,      7,2,20130430,0043,  2.4020, -29.4300, 3314,   2021.4,   3.3863,  34.9569,2,    251.5,2,    250.9,2,    22.92,2,    19.99,2,     1.29,2,   -999.0,9,   7.7392,2,    25.00
  29HE20130320,   A17,    75,  1,      8,2,20130430,0043,  2.4020, -29.4300, 3314,   1818.3,   3.6940,  34.9691,2,    250.5,2,    250.2,2,    19.26,2,    20.12,2,     1.29,2,   -999.0,9,   7.7356,2,    25.00
  29HE20130320,   A17,    75,  1,      9,2,20130430,0043,  2.4020, -29.4300, 3314,   1615.2,   4.1544,  34.9701,2,    234.2,2,    233.6,2,    18.85,2,    21.21,2,     1.39,2,   -999.0,9,   7.7153,2,    25.00
  29HE20130320,   A17,    75,  1,     10,2,20130430,0043,  2.4020, -29.4300, 3314,   1410.5,   4.3711,  34.9374,2,    213.0,2,    212.2,2,    21.25,2,    23.80,2,     1.55,2,   -999.0,9,   7.6900,2,    25.00
  29HE20130320,   A17,    75,  1,     11,2,20130430,0043,  2.4020, -29.4300, 3314,   1211.4,   4.6676,  34.8322,2,    181.3,2,    180.3,2,    25.47,2,    27.90,2,     1.85,2,   -999.0,9,   7.6398,2,    25.00
  29HE20130320,   A17,    75,  1,     12,2,20130430,0043,  2.4020, -29.4300, 3314,   1007.1,   4.7027,  34.7320,2,    163.1,2,    162.1,2,    28.78,2,    30.51,2,     2.07,2,   -999.0,9,   7.6020,2,    25.00
  29HE20130320,   A17,    75,  1,     13,2,20130430,0043,  2.4020, -29.4300, 3314,   1006.3,   4.7044,  34.7316,2,    162.2,2,   -999.0,9,  -999.00,9,  -999.00,9,  -999.00,9,   -999.0,9,-999.0000,9,  -999.00
  29HE20130320,   A17,    75,  1,     14,2,20130430,0043,  2.4020, -29.4300, 3314,    803.3,   5.0457,  34.5591,2,    141.1,2,    140.1,2,    29.88,2,    34.00,2,     2.30,2,   -999.0,9,   7.5551,2,    25.00
  29HE20130320,   A17,    75,  1,     15,2,20130430,0043,  2.4020, -29.4300, 3314,    702.5,   5.5498,  34.5537,2,    133.0,2,    132.2,2,    27.93,2,    35.02,2,     2.28,2,   -999.0,9,   7.5469,2,    25.00
  29HE20130320,   A17,    75,  1,     16,2,20130430,0043,  2.4020, -29.4300, 3314,    604.7,   6.3562,  34.5873,2,    128.9,2,    128.5,2,    24.05,2,    33.64,2,     2.19,2,   -999.0,9,   7.5563,2,    25.00
  29HE20130320,   A17,    75,  1,     17,2,20130430,0043,  2.4020, -29.4300, 3314,    502.9,   7.3907,  34.6817,2,    106.1,2,    105.3,2,    20.95,2,    33.44,2,     2.14,2,   -999.0,9,   7.5365,2,    25.00
  29HE20130320,   A17,    75,  1,     18,2,20130430,0043,  2.4020, -29.4300, 3314,    403.5,   8.8491,  34.8186,2,     96.8,2,     96.5,2,    16.87,2,    31.70,2,     1.95,2,   -999.0,9,   7.5556,2,    25.00
  29HE20130320,   A17,    75,  1,     19,2,20130430,0043,  2.4020, -29.4300, 3314,    300.4,  11.0939,  35.0632,2,     97.1,2,     98.9,2,    12.12,2,    27.20,2,     1.65,2,   -999.0,9,   7.6155,2,    25.00
  29HE20130320,   A17,    75,  1,     20,2,20130430,0043,  2.4020, -29.4300, 3314,    200.6,  12.7495,  35.2410,2,    131.2,2,    132.2,2,     8.71,2,    20.96,2,     1.30,2,   -999.0,9,   7.7142,2,    25.00
  29HE20130320,   A17,    75,  1,     21,2,20130430,0043,  2.4020, -29.4300, 3314,    199.5,  12.7472,  35.2411,2,    131.0,2,   -999.0,9,     8.68,2,    20.80,2,     1.26,2,   -999.0,9,-999.0000,9,  -999.00
  29HE20130320,   A17,    75,  1,     22,2,20130430,0043,  2.4020, -29.4300, 3314,    100.3,  14.6092,  35.4877,2,    123.9,2,    123.5,2,     7.16,2,    19.09,2,     1.09,2,   -999.0,9,   7.7384,2,    25.00
  29HE20130320,   A17,    75,  1,     23,2,20130430,0043,  2.4020, -29.4300, 3314,     60.6,  21.6682,  35.8988,2,    138.0,2,    139.8,2,     3.25,2,     5.57,2,     0.13,2,   -999.0,9,   7.8891,2,    25.00
  29HE20130320,   A17,    75,  1,     24,2,20130430,0043,  2.4020, -29.4300, 3314,      5.0,  28.7929,  35.3717,2,    201.8,2,    200.9,2,     1.02,2,     0.01,2,    -0.01,2,   -999.0,9,   8.0954,2,    25.00
  29HE20130320,   A17,    76,  1,      1,2,20130430,1101,  3.4970, -29.2910, 3446,   3481.1,   2.5117,  34.9005,2,    247.4,2,    246.6,2,    40.04,2,    21.43,2,     1.42,2,   2336.0,2,   7.7279,2,    25.00
  29HE20130320,   A17,    76,  1,      2,2,20130430,1101,  3.4970, -29.2910, 3446,   3040.3,   2.6849,  34.9141,2,    248.1,2,    248.3,2,    35.67,2,    21.10,2,     1.39,2,   2330.4,2,   7.7302,2,    25.00
  29HE20130320,   A17,    76,  1,      3,2,20130430,1101,  3.4970, -29.2910, 3446,   3038.0,   2.6862,  34.9141,2,    248.0,2,    248.0,2,    35.43,2,    21.23,2,     1.40,2,   2328.7,2,   7.7317,2,    25.00
  29HE20130320,   A17,    76,  1,      4,2,20130430,1101,  3.4970, -29.2910, 3446,   2783.9,   2.8429,  34.9243,2,    248.3,2,    247.6,2,    32.25,2,    20.94,2,     1.37,2,   2329.2,2,   7.7326,2,    25.00
  29HE20130320,   A17,    76,  1,      5,2,20130430,1101,  3.4970, -29.2910, 3446,   2529.0,   2.9557,  34.9321,2,    248.9,2,    248.5,2,    30.71,2,    20.77,2,     1.38,2,   2326.6,2,   7.7333,2,    25.00
  29HE20130320,   A17,    76,  1,      6,2,20130430,1101,  3.4970, -29.2910, 3446,   2276.4,   3.2591,  34.9492,2,    249.3,2,    248.6,2,    25.57,2,    20.23,2,     1.34,2,   2320.8,2,   7.7358,2,    25.00
  29HE20130320,   A17,    76,  1,      7,2,20130430,1101,  3.4970, -29.2910, 3446,   2023.1,   3.5308,  34.9616,2,    247.9,2,    247.0,2,    22.08,2,    19.92,2,     1.34,2,   2317.9,2,   7.7333,2,    25.00
  29HE20130320,   A17,    76,  1,      8,2,20130430,1101,  3.4970, -29.2910, 3446,   1818.9,   3.8019,  34.9711,2,    246.0,2,    245.6,2,    19.24,2,    20.12,2,     1.34,2,   2316.0,2,   7.7281,2,    25.00
  29HE20130320,   A17,    76,  1,      9,2,20130430,1101,  3.4970, -29.2910, 3446,   1617.2,   4.0522,  34.9719,2,    237.9,2,    237.5,2,    18.69,2,    20.72,2,     1.39,2,   2314.9,2,   7.7203,2,    25.00
  29HE20130320,   A17,    76,  1,     10,2,20130430,1101,  3.4970, -29.2910, 3446,   1412.3,   4.4036,  34.9501,2,    218.2,2,    216.5,2,    20.39,2,    23.07,2,     1.53,2,   2315.2,2,   7.6956,2,    25.00
  29HE20130320,   A17,    76,  1,     11,2,20130430,1101,  3.4970, -29.2910, 3446,   1209.1,   4.6508,  34.8655,2,    186.8,2,    185.7,2,    24.59,2,    26.69,2,     1.80,2,   2310.2,2,   7.6470,2,    25.00
  29HE20130320,   A17,    76,  1,     12,2,20130430,1101,  3.4970, -29.2910, 3446,   1009.1,   4.7462,  34.6787,2,    153.7,2,    153.4,2,    30.82,2,    31.85,2,     2.18,2,   2305.3,2,   7.5824,2,    25.00
  29HE20130320,   A17,    76,  1,     13,2,20130430,1101,  3.4970, -29.2910, 3446,    805.8,   5.2033,  34.5529,2,    137.5,2,    136.8,2,    30.01,2,    34.00,2,     2.30,2,   2299.0,2,   7.5510,2,    25.00
  29HE20130320,   A17,    76,  1,     14,2,20130430,1101,  3.4970, -29.2910, 3446,    705.7,   5.5181,  34.5468,2,    134.2,2,    133.4,2,    28.15,2,    34.16,2,     2.28,2,   2295.6,2,   7.5453,2,    25.00
  29HE20130320,   A17,    76,  1,     15,2,20130430,1101,  3.4970, -29.2910, 3446,    604.9,   6.2222,  34.5856,2,    123.3,2,    122.5,2,    25.10,2,    33.83,2,     2.26,2,   2293.9,2,   7.5417,2,    25.00
  29HE20130320,   A17,    76,  1,     16,2,20130430,1101,  3.4970, -29.2910, 3446,    503.3,   7.4994,  34.6886,2,    105.5,2,    105.1,2,    20.68,2,    33.40,2,     2.16,2,   2294.8,2,   7.5360,2,    25.00
  29HE20130320,   A17,    76,  1,     17,2,20130430,1101,  3.4970, -29.2910, 3446,    404.1,   8.7652,  34.8122,2,     88.6,2,     88.1,2,    17.52,2,    32.51,2,     2.06,2,   2297.1,2,   7.5337,2,    25.00
  29HE20130320,   A17,    76,  1,     18,2,20130430,1101,  3.4970, -29.2910, 3446,    403.5,   8.7628,  34.8120,2,     88.6,2,     88.1,2,    17.38,2,    32.30,2,     2.04,2,   2298.5,2,   7.5337,2,    25.00
  29HE20130320,   A17,    76,  1,     19,2,20130430,1101,  3.4970, -29.2910, 3446,    301.8,  11.0875,  35.0669,2,     91.9,2,     89.1,2,    12.53,2,    28.01,2,     1.74,2,   2307.2,2,   7.5984,2,    25.00
  29HE20130320,   A17,    76,  1,     20,2,20130430,1101,  3.4970, -29.2910, 3446,    251.6,  12.1444,  35.1764,2,    116.1,2,    114.2,2,    10.33,2,    23.75,2,     1.50,2,   2313.7,2,   7.6657,2,    25.00
  29HE20130320,   A17,    76,  1,     21,2,20130430,1101,  3.4970, -29.2910, 3446,    201.7,  13.1716,  35.3031,2,    105.8,2,    105.6,2,     8.98,2,    23.02,2,     1.38,2,   2319.6,2,   7.6745,2,    25.00
  29HE20130320,   A17,    76,  1,     22,2,20130430,1101,  3.4970, -29.2910, 3446,    101.4,  16.1416,  35.6510,2,    120.6,2,    121.0,2,     6.18,2,    17.18,2,     1.01,2,   2337.6,2,   7.7630,2,    25.00
  29HE20130320,   A17,    76,  1,     23,2,20130430,1101,  3.4970, -29.2910, 3446,     50.0,  22.1997,  35.9498,2,    150.9,2,    150.2,2,     3.05,2,     4.30,2,     0.12,2,   2357.9,2,   7.9118,2,    25.00
  29HE20130320,   A17,    76,  1,     24,2,20130430,1101,  3.4970, -29.2910, 3446,      5.9,  28.4309,  35.5123,2,    199.5,2,    199.0,2,     1.00,2,     0.03,2,     0.02,2,   2323.3,2,   8.1002,2,    25.00
  29HE20130320,   A17,    77,  1,      1,2,20130430,2128,  4.5970, -29.1480, 3813,   3838.3,   2.4433,  34.8941,2,    247.4,2,   -999.0,9,    41.76,2,    21.67,2,     1.43,2,   -999.0,9,-999.0000,9,  -999.00
  29HE20130320,   A17,    77,  1,      2,2,20130430,2128,  4.5970, -29.1480, 3813,   3838.3,   2.4434,  34.8941,2,    247.1,2,    248.1,2,    41.60,2,    21.98,2,     1.42,2,   -999.0,9,   7.7296,2,    25.00
  29HE20130320,   A17,    77,  1,      3,2,20130430,2128,  4.5970, -29.1480, 3813,   3543.4,   2.4776,  34.8988,2,    248.5,2,    248.6,2,    39.85,2,    21.78,2,     1.39,2,   -999.0,9,   7.7297,2,    25.00
  29HE20130320,   A17,    77,  1,      4,2,20130430,2128,  4.5970, -29.1480, 3813,   3039.5,   2.6947,  34.9142,2,    245.4,2,    245.5,2,    36.15,2,    21.53,2,     1.42,2,   -999.0,9,   7.7301,2,    25.00
  29HE20130320,   A17,    77,  1,      5,2,20130430,2128,  4.5970, -29.1480, 3813,   3038.6,   2.6945,  34.9144,2,    244.9,2,   -999.0,9,  -999.00,9,  -999.00,9,  -999.00,9,   -999.0,9,-999.0000,9,  -999.00
  29HE20130320,   A17,    77,  1,      6,2,20130430,2128,  4.5970, -29.1480, 3813,   2529.9,   3.0277,  34.9359,2,    246.1,2,    246.3,2,    30.18,2,    21.07,2,     1.36,2,   -999.0,9,   7.7328,2,    25.00
  29HE20130320,   A17,    77,  1,      7,2,20130430,2128,  4.5970, -29.1480, 3813,   2020.7,   3.5487,  34.9625,2,    248.0,2,    247.5,2,    21.44,2,    20.31,2,     1.30,2,   -999.0,9,   7.7337,2,    25.00
  29HE20130320,   A17,    77,  1,      8,2,20130430,2128,  4.5970, -29.1480, 3813,   1816.8,   3.8728,  34.9733,2,    245.7,2,    245.7,2,    18.45,2,    19.91,2,     1.30,2,   -999.0,9,   7.7313,2,    25.00
  29HE20130320,   A17,    77,  1,      9,2,20130430,2128,  4.5970, -29.1480, 3813,   1615.3,   4.1054,  34.9771,2,    239.7,2,    241.5,2,    17.82,2,    20.58,2,     1.34,2,   -999.0,9,   7.7223,2,    25.00
  29HE20130320,   A17,    77,  1,     10,2,20130430,2128,  4.5970, -29.1480, 3813,   1413.7,   4.4375,  34.9646,2,    221.8,2,    221.3,2,    19.06,2,    22.52,2,     1.47,2,   -999.0,9,   7.6999,2,    25.00
  29HE20130320,   A17,    77,  1,     11,2,20130430,2128,  4.5970, -29.1480, 3813,   1209.6,   4.7055,  34.8541,2,    178.1,2,    177.3,2,    25.03,2,    27.97,2,     1.86,2,   -999.0,9,   7.6365,2,    25.00
  29HE20130320,   A17,    77,  1,     12,2,20130430,2128,  4.5970, -29.1480, 3813,   1005.1,   4.7560,  34.6388,2,    149.8,2,    149.7,2,  -999.00,9,  -999.00,9,  -999.00,9,   -999.0,9,-999.0000,9,  -999.00
  29HE20130320,   A17,    77,  1,     13,2,20130430,2128,  4.5970, -29.1480, 3813,   1007.6,   4.7603,  34.6367,2,    148.9,2,   -999.0,9,  -999.00,9,  -999.00,9,  -999.00,9,   -999.0,9,-999.0000,9,  -999.00
  29HE20130320,   A17,    77,  1,     14,2,20130430,2128,  4.5970, -29.1480, 3813,    805.8,   5.3318,  34.5541,2,    134.9,2,    134.5,2,    28.76,2,    35.12,2,     2.30,2,   -999.0,9,   7.5478,2,    25.00
  29HE20130320,   A17,    77,  1,     15,2,20130430,2128,  4.5970, -29.1480, 3813,    706.3,   5.7221,  34.5564,2,    131.1,2,    130.5,2,    27.02,2,    34.02,2,     2.28,2,   -999.0,9,   7.5469,2,    25.00
  29HE20130320,   A17,    77,  1,     16,2,20130430,2128,  4.5970, -29.1480, 3813,    604.0,   6.3276,  34.5909,2,    124.0,2,    123.4,2,    24.32,2,    33.89,2,     2.22,2,   -999.0,9,   7.5447,2,    25.00
  29HE20130320,   A17,    77,  1,     17,2,20130430,2128,  4.5970, -29.1480, 3813,    504.1,   7.1413,  34.6513,2,    117.4,2,    116.9,2,    21.19,2,    33.05,2,     2.12,2,   -999.0,9,   7.5508,2,    25.00
  29HE20130320,   A17,    77,  1,     18,2,20130430,2128,  4.5970, -29.1480, 3813,    402.0,   8.4952,  34.7844,2,     94.2,2,     94.8,2,    17.86,2,    32.76,2,     2.05,2,   -999.0,9,   7.5414,2,    25.00
  29HE20130320,   A17,    77,  1,     19,2,20130430,2128,  4.5970, -29.1480, 3813,    305.6,  10.2667,  34.9794,2,     88.5,2,     88.7,2,    13.86,2,    29.98,2,     1.80,2,   -999.0,9,   7.5718,2,    25.00
  29HE20130320,   A17,    77,  1,     20,2,20130430,2128,  4.5970, -29.1480, 3813,    202.9,  13.0457,  35.2837,2,    123.4,2,    123.4,2,     8.54,2,    21.23,2,     1.31,2,   -999.0,9,   7.7048,2,    25.00
  29HE20130320,   A17,    77,  1,     21,2,20130430,2128,  4.5970, -29.1480, 3813,    201.9,  13.0440,  35.2835,2,    121.9,2,   -999.0,9,  -999.00,9,  -999.00,9,  -999.00,9,   -999.0,9,-999.0000,9,  -999.00
  29HE20130320,   A17,    77,  1,     22,2,20130430,2128,  4.5970, -29.1480, 3813,    101.8,  15.2428,  35.5412,2,    100.9,2,    101.4,2,     6.97,2,    20.46,2,     1.20,2,   -999.0,9,   7.7127,2,    25.00
  29HE20130320,   A17,    77,  1,     23,2,20130430,2128,  4.5970, -29.1480, 3813,     43.8,  23.0714,  36.0729,2,    178.7,2,    174.5,2,     2.72,2,     1.61,2,     0.04,2,   -999.0,9,   7.9692,2,    25.00
  29HE20130320,   A17,    77,  1,     24,2,20130430,2128,  4.5970, -29.1480, 3813,      5.9,  28.2633,  35.6026,2,    198.7,2,    198.6,2,     0.97,2,    -0.13,2,    -0.01,2,   -999.0,9,   8.1059,2,    25.00