BOTTLE,20230216CCHSIOENA
EXPOCODE,SECT_ID,STNNBR,CASTNO,BTLNBR,BTLNBR_FLAG_W,DATE,TIME,LATITUDE,LONGITUDE,DEPTH,CTDPRS,CTDTMP,CTDSAL,CTDSAL_FLAG_W,CTDOXY,CTDOXY_FLAG_W,OXYGEN,OXYGEN_FLAG_W,SILCAT,SILCAT_FLAG_W,NITRAT,NITRAT_FLAG_W,PHSPHT,PHSPHT_FLAG_W,ALKALI,ALKALI_FLAG_W,PH_TOT,PH_TOT_FLAG_W,PH_TMP
,,,,,,,,,,METERS,DBAR,ITS-90,PSS-78,,UMOL/KG,,UMOL/KG,,UMOL/KG,,UMOL/KG,,UMOL/KG,,UMOL/KG,,,,DEG C
  29HE20130320,   A17,    24,  1,      1,2,20130401,1508,-36.9030, -44.9560, 5056,   5127.1,   0.2769,  34.6709,2,    221.8,2,    220.9,2,   128.53,2,    32.74,2,     2.34,2,   -999.0,9,   7.6019,2,    25.00
  29HE20130320,   A17,    24,  1,      2,2,20130401,1508,-36.9030, -44.9560, 5056,   4581.0,   0.3200,  34.6758,2,    221.3,2,    220.5,2,   127.48,2,    32.51,2,     2.31,2,   -999.0,9,   7.6024,2,    25.00
  29HE20130320,   A17,    24,  1,      3,2,20130401,1508,-36.9030, -44.9560, 5056,   4065.8,   0.6037,  34.6907,2,    215.9,2,    214.5,2,   123.00,2,    32.00,2,     2.28,2,   -999.0,9,   7.6007,2,    25.00
  29HE20130320,   A17,    24,  1,      4,2,20130401,1508,-36.9030, -44.9560, 5056,   3558.5,   1.2647,  34.7309,2,    208.3,2,    207.0,2,   107.18,2,    30.60,2,     2.15,2,   -999.0,9,   7.6165,2,    25.00
  29HE20130320,   A17,    24,  1,      5,2,20130401,1508,-36.9030, -44.9560, 5056,   3041.7,   2.2011,  34.8157,2,    218.8,2,    218.3,2,    71.09,2,    26.24,2,     1.84,2,   -999.0,9,   7.6661,2,    25.00
  29HE20130320,   A17,    24,  1,      6,2,20130401,1508,-36.9030, -44.9560, 5056,   2790.0,   2.5803,  34.8486,2,    225.0,2,    224.6,2,    56.41,2,    24.78,2,     1.71,2,   -999.0,9,   7.6775,2,    25.00
  29HE20130320,   A17,    24,  1,      7,2,20130401,1508,-36.9030, -44.9560, 5056,   2533.1,   2.8471,  34.8542,2,    223.3,2,    222.6,2,    50.46,2,    24.44,2,     1.71,2,   -999.0,9,   7.6769,2,    25.00
  29HE20130320,   A17,    24,  1,      8,2,20130401,1508,-36.9030, -44.9560, 5056,   2280.4,   3.1366,  34.8558,2,    221.1,2,    220.6,2,    44.46,2,    24.39,2,     1.69,2,   -999.0,9,   7.6750,2,    25.00
  29HE20130320,   A17,    24,  1,      9,2,20130401,1508,-36.9030, -44.9560, 5056,   2027.6,   3.0538,  34.7722,2,    200.9,2,    199.4,2,    55.23,2,    27.88,2,     1.98,2,   -999.0,9,   7.6232,2,    25.00
  29HE20130320,   A17,    24,  1,     10,2,20130401,1508,-36.9030, -44.9560, 5056,   1824.8,   2.9697,  34.6837,2,    187.1,2,    186.4,2,    61.38,2,    30.53,2,     2.14,2,   -999.0,9,   7.6040,2,    25.00
  29HE20130320,   A17,    24,  1,     11,2,20130401,1508,-36.9030, -44.9560, 5056,   1617.3,   2.9115,  34.5765,2,    180.7,2,    181.0,2,    62.55,2,    32.31,2,     2.31,2,   -999.0,9,   7.5848,2,    25.00
  29HE20130320,   A17,    24,  1,     12,2,20130401,1508,-36.9030, -44.9560, 5056,   1416.0,   2.9045,  34.4410,2,    184.9,2,    184.9,2,    59.13,2,    33.52,2,     2.39,2,   -999.0,9,   7.5631,2,    25.00
  29HE20130320,   A17,    24,  1,     13,2,20130401,1508,-36.9030, -44.9560, 5056,   1211.5,   3.1149,  34.3261,2,    205.6,2,    206.0,2,    45.41,2,    32.59,2,     2.31,2,   -999.0,9,   7.5940,2,    25.00
  29HE20130320,   A17,    24,  1,     14,2,20130401,1508,-36.9030, -44.9560, 5056,   1009.6,   3.6340,  34.2427,2,    230.2,2,    230.2,2,    30.31,2,    30.11,2,     2.12,2,   -999.0,9,   7.6242,2,    25.00
  29HE20130320,   A17,    24,  1,     15,2,20130401,1508,-36.9030, -44.9560, 5056,    809.3,   3.9921,  34.1589,2,    260.7,2,    260.5,2,    19.17,2,    27.22,2,     1.92,2,   -999.0,9,   7.6623,2,    25.00
  29HE20130320,   A17,    24,  1,     16,2,20130401,1508,-36.9030, -44.9560, 5056,    709.6,   4.5014,  34.1702,2,    264.4,2,    264.1,2,    14.30,2,    25.87,2,     1.79,2,   -999.0,9,   7.6823,2,    25.00
  29HE20130320,   A17,    24,  1,     17,2,20130401,1508,-36.9030, -44.9560, 5056,    606.4,   5.1541,  34.2159,2,    258.6,2,    258.7,2,    11.98,2,    24.59,2,     1.73,2,   -999.0,9,   7.6899,2,    25.00
  29HE20130320,   A17,    24,  1,     18,2,20130401,1508,-36.9030, -44.9560, 5056,    503.4,   6.5007,  34.3388,2,    237.1,2,    237.5,2,    10.30,2,    23.07,2,     1.62,2,   -999.0,9,   7.6976,2,    25.00
  29HE20130320,   A17,    24,  1,     19,2,20130401,1508,-36.9030, -44.9560, 5056,    402.4,   8.4457,  34.5443,2,    224.3,2,    224.1,2,     7.32,2,    19.44,2,     1.34,2,   -999.0,9,   7.7307,2,    25.00
  29HE20130320,   A17,    24,  1,     20,2,20130401,1508,-36.9030, -44.9560, 5056,    303.8,  11.2967,  34.9222,2,    214.0,2,    213.8,2,     4.16,2,    13.30,2,     0.94,2,   -999.0,9,   7.7964,2,    25.00
  29HE20130320,   A17,    24,  1,     21,2,20130401,1508,-36.9030, -44.9560, 5056,    202.9,  11.6007,  34.7808,2,    203.6,2,    203.6,2,     3.82,2,    13.33,2,     0.89,2,   -999.0,9,   7.7801,2,    25.00
  29HE20130320,   A17,    24,  1,     22,2,20130401,1508,-36.9030, -44.9560, 5056,    101.3,  20.2793,  36.1772,2,    215.1,2,    215.6,2,     1.34,2,     1.25,2,     0.09,2,   -999.0,9,   8.0003,2,    25.00
  29HE20130320,   A17,    24,  1,     23,2,20130401,1508,-36.9030, -44.9560, 5056,     35.2,  20.6652,  36.1644,2,    226.3,2,    225.3,2,     0.31,2,     0.31,2,     0.07,2,   -999.0,9,   8.0334,2,    25.00
  29HE20130320,   A17,    24,  1,     24,2,20130401,1508,-36.9030, -44.9560, 5056,      5.7,  19.6106,  35.5357,2,    235.6,2,    235.5,2,     0.13,2,    -0.11,2,     0.07,2,   -999.0,9,   8.0302,2,    25.00
  29HE20130320,   A17,    25,  1,      1,2,20130402,0000,-36.2980, -44.4030, 4951,   5013.7,   0.2579,  34.6706,2,    221.5,2,    221.2,2,   129.46,2,    32.74,2,     2.33,2,   2371.1,2,   7.6020,2,    25.00
  29HE20130320,   A17,    25,  1,      2,2,20130402,0000,-36.2980, -44.4030, 4951,   4577.9,   0.2898,  34.6744,2,    221.5,2,    221.2,2,   127.98,2,    32.55,2,     2.29,2,   2363.9,2,-999.0000,9,  -999.00
  29HE20130320,   A17,    25,  1,      3,2,20130402,0000,-36.2980, -44.4030, 4951,   4579.4,   0.2893,  34.6745,2,    221.7,2,   -999.0,9,  -999.00,9,  -999.00,9,  -999.00,9,   -999.0,9,-999.0000,9,  -999.00
  29HE20130320,   A17,    25,  1,      4,2,20130402,0000,-36.2980, -44.4030, 4951,   4065.2,   0.5852,  34.6904,2,    215.7,2,    214.7,2,   123.14,2,    32.22,2,     2.26,2,   2360.4,2,   7.6031,2,    25.00
  29HE20130320,   A17,    25,  1,      5,2,20130402,0000,-36.2980, -44.4030, 4951,   3555.6,   1.2425,  34.7293,2,    208.2,2,    207.4,2,   109.11,2,    30.81,2,     2.14,2,   2355.7,2,   7.6144,2,    25.00
  29HE20130320,   A17,    25,  1,      6,2,20130402,0000,-36.2980, -44.4030, 4951,   3042.7,   2.2686,  34.8324,2,    225.0,2,    228.0,2,    64.38,2,    25.29,2,     1.73,2,   2347.9,2,   7.6742,2,    25.00
  29HE20130320,   A17,    25,  1,      7,2,20130402,0000,-36.2980, -44.4030, 4951,   2788.7,   2.7549,  34.8801,2,    234.5,2,    233.5,2,    44.76,2,    23.07,2,     1.55,2,   2333.0,2,   7.6996,2,    25.00
  29HE20130320,   A17,    25,  1,      8,2,20130402,0000,-36.2980, -44.4030, 4951,   2534.6,   2.9419,  34.8708,2,    227.8,2,    227.8,2,    45.11,2,    23.79,2,     1.62,2,   2329.7,2,   7.6891,2,    25.00
  29HE20130320,   A17,    25,  1,      9,2,20130402,0000,-36.2980, -44.4030, 4951,   2278.6,   3.2131,  34.8738,2,    226.3,2,    226.1,2,    39.72,2,    23.72,2,     1.59,2,   2327.9,2,   7.6893,2,    25.00
  29HE20130320,   A17,    25,  1,     10,2,20130402,0000,-36.2980, -44.4030, 4951,   2025.8,   3.2338,  34.8141,2,    210.2,2,    209.8,2,    46.16,2,    26.27,2,     1.77,2,   2328.8,2,   7.6570,2,    25.00
  29HE20130320,   A17,    25,  1,     11,2,20130402,0000,-36.2980, -44.4030, 4951,   1822.3,   3.0753,  34.7053,2,    192.1,2,    191.9,2,    55.55,2,    29.56,2,     2.05,2,   2329.2,2,   7.6201,2,    25.00
  29HE20130320,   A17,    25,  1,     12,2,20130402,0000,-36.2980, -44.4030, 4951,   1618.8,   2.9411,  34.5727,2,    181.2,2,    181.3,2,    60.92,2,    32.55,2,     2.25,2,   2327.1,2,   7.5831,2,    25.00
  29HE20130320,   A17,    25,  1,     13,2,20130402,0000,-36.2980, -44.4030, 4951,   1416.8,   3.0067,  34.4435,2,    187.3,2,    187.8,2,    54.92,2,    33.29,2,     2.28,2,   2318.8,2,   7.5795,2,    25.00
  29HE20130320,   A17,    25,  1,     14,2,20130402,0000,-36.2980, -44.4030, 4951,   1213.2,   3.2045,  34.3336,2,    205.1,2,    205.4,2,    43.57,2,    32.43,2,     2.24,2,   2305.8,2,   7.5955,2,    25.00
  29HE20130320,   A17,    25,  1,     15,2,20130402,0000,-36.2980, -44.4030, 4951,   1010.3,   3.6745,  34.2195,2,    237.2,2,    237.7,2,    27.53,2,    29.65,2,     2.04,2,   2291.7,2,   7.6343,2,    25.00
  29HE20130320,   A17,    25,  1,     16,2,20130402,0000,-36.2980, -44.4030, 4951,    806.4,   4.4272,  34.1632,2,    266.2,2,    266.4,2,    14.30,2,    25.97,2,     1.74,2,   2279.9,2,   7.6832,2,    25.00
  29HE20130320,   A17,    25,  1,     17,2,20130402,0000,-36.2980, -44.4030, 4951,    604.9,   6.0874,  34.2707,2,    252.1,2,    252.6,2,     9.11,2,    22.94,2,     1.55,2,   2278.3,2,   7.7066,2,    25.00
  29HE20130320,   A17,    25,  1,     18,2,20130402,0000,-36.2980, -44.4030, 4951,    505.9,   8.1004,  34.4997,2,    231.6,2,    231.7,2,     6.82,2,    19.62,2,     1.28,2,   2287.6,2,   7.7324,2,    25.00
  29HE20130320,   A17,    25,  1,     19,2,20130402,0000,-36.2980, -44.4030, 4951,    403.8,  11.9263,  35.0696,2,    210.7,2,    211.6,2,     4.07,2,    12.47,2,     0.76,2,   2312.4,2,   7.8112,2,    25.00
  29HE20130320,   A17,    25,  1,     20,2,20130402,0000,-36.2980, -44.4030, 4951,    301.6,  13.9956,  35.4177,2,    212.2,2,    212.2,2,     2.78,2,     8.02,2,     0.55,2,   2331.9,2,   7.8693,2,    25.00
  29HE20130320,   A17,    25,  1,     21,2,20130402,0000,-36.2980, -44.4030, 4951,    202.4,  15.2101,  35.6105,2,    210.4,2,    211.9,2,     2.22,2,     5.73,2,     0.28,2,   2342.2,2,   7.8956,2,    25.00
  29HE20130320,   A17,    25,  1,     22,2,20130402,0000,-36.2980, -44.4030, 4951,    101.9,  17.6925,  35.9110,2,    211.1,2,    212.8,2,     1.34,2,     1.69,2,     0.08,2,   2361.0,2,   7.9578,2,    25.00
  29HE20130320,   A17,    25,  1,     23,2,20130402,0000,-36.2980, -44.4030, 4951,     50.2,  19.4848,  35.7484,2,    225.8,2,    226.9,2,     0.69,2,    -0.13,2,     0.03,2,   2356.8,2,   7.9982,2,    25.00
  29HE20130320,   A17,    25,  1,     24,2,20130402,0000,-36.2980, -44.4030, 4951,      5.0,  18.9304,  35.4751,2,    229.9,2,    231.3,2,     0.50,2,    -0.10,2,     0.04,2,   2345.4,2,   8.0111,2,    25.00
  29HE20130320,   A17,    26,  1,      1,2,20130402,0854,-35.6820, -43.8970, 4911,   4961.5,   0.2559,  34.6707,2,    221.3,2,   -999.0,9,  -999.00,9,  -999.00,9,  -999.00,9,   -999.0,9,-999.0000,9,  -999.00
  29HE20130320,   A17,    26,  1,      2,2,20130402,0854,-35.6820, -43.8970, 4911,   4960.2,   0.2559,  34.6706,2,    221.1,2,    219.8,2,   128.87,2,    32.65,2,     2.33,2,   -999.0,9,   7.5840,2,    25.00
  29HE20130320,   A17,    26,  1,      3,2,20130402,0854,-35.6820, -43.8970, 4911,   4581.3,   0.2712,  34.6733,2,    221.7,2,    220.4,2,   128.64,2,    32.52,2,     2.35,2,   -999.0,9,   7.6064,2,    25.00
  29HE20130320,   A17,    26,  1,      4,2,20130402,0854,-35.6820, -43.8970, 4911,   4067.8,   0.5215,  34.6869,2,    217.1,2,    215.3,2,   124.71,2,    32.33,2,     2.30,2,   -999.0,9,   7.6036,2,    25.00
  29HE20130320,   A17,    26,  1,      5,2,20130402,0854,-35.6820, -43.8970, 4911,   3556.2,   1.1581,  34.7282,2,    210.7,2,    209.3,2,   109.96,2,    30.69,2,     2.14,2,   -999.0,9,   7.6012,2,    25.00
  29HE20130320,   A17,    26,  1,      6,2,20130402,0854,-35.6820, -43.8970, 4911,   3032.8,   2.1107,  34.8083,2,    218.2,2,    217.1,2,    73.90,2,    26.44,2,     1.78,2,   -999.0,9,   7.6572,2,    25.00
  29HE20130320,   A17,    26,  1,      7,2,20130402,0854,-35.6820, -43.8970, 4911,   3033.3,   2.1114,  34.8087,2,    217.5,2,   -999.0,9,  -999.00,9,  -999.00,9,  -999.00,9,   -999.0,9,-999.0000,9,  -999.00
  29HE20130320,   A17,    26,  1,      8,2,20130402,0854,-35.6820, -43.8970, 4911,   2531.8,   2.8865,  34.8825,2,    232.9,2,    231.8,2,    43.17,2,    23.18,2,     1.58,2,   -999.0,9,   7.6981,2,    25.00
  29HE20130320,   A17,    26,  1,      9,2,20130402,0854,-35.6820, -43.8970, 4911,   2278.6,   2.9616,  34.8524,2,    221.5,2,    220.3,2,    47.94,2,    24.60,2,     1.71,2,   -999.0,9,   7.6731,2,    25.00
  29HE20130320,   A17,    26,  1,     10,2,20130402,0854,-35.6820, -43.8970, 4911,   2024.0,   3.1135,  34.8127,2,    209.6,2,    208.8,2,    49.11,2,    26.24,2,     1.84,2,   -999.0,9,   7.6597,2,    25.00
  29HE20130320,   A17,    26,  1,     11,2,20130402,0854,-35.6820, -43.8970, 4911,   1821.0,   3.0416,  34.7348,2,    194.2,2,    193.6,2,    55.57,2,    29.04,2,     2.05,2,   -999.0,9,   7.6297,2,    25.00
  29HE20130320,   A17,    26,  1,     12,2,20130402,0854,-35.6820, -43.8970, 4911,   1618.2,   2.9191,  34.6278,2,    182.6,2,    182.1,2,    60.92,2,    31.58,2,     2.24,2,   -999.0,9,   7.5917,2,    25.00
  29HE20130320,   A17,    26,  1,     13,2,20130402,0854,-35.6820, -43.8970, 4911,   1411.1,   2.8810,  34.5142,2,    181.1,2,    181.0,2,    60.57,2,    33.11,2,     2.37,2,   -999.0,9,   7.5758,2,    25.00
  29HE20130320,   A17,    26,  1,     14,2,20130402,0854,-35.6820, -43.8970, 4911,   1210.6,   3.0258,  34.3940,2,    192.5,2,    192.0,2,    51.48,2,    32.80,2,     2.34,2,   -999.0,9,   7.5800,2,    25.00
  29HE20130320,   A17,    26,  1,     15,2,20130402,0854,-35.6820, -43.8970, 4911,   1011.1,   3.3211,  34.2828,2,    217.5,2,    217.0,2,    37.00,2,    31.58,2,     2.21,2,   -999.0,9,   7.6080,2,    25.00
  29HE20130320,   A17,    26,  1,     16,2,20130402,0854,-35.6820, -43.8970, 4911,    809.7,   3.9652,  34.2151,2,    241.7,2,    241.2,2,    23.47,2,    28.81,2,     1.99,2,   -999.0,9,   7.6442,2,    25.00
  29HE20130320,   A17,    26,  1,     17,2,20130402,0854,-35.6820, -43.8970, 4911,    605.5,   4.5487,  34.1728,2,    264.6,2,    264.0,2,    13.85,2,    25.67,2,     1.79,2,   -999.0,9,   7.6858,2,    25.00
  29HE20130320,   A17,    26,  1,     18,2,20130402,0854,-35.6820, -43.8970, 4911,    504.2,   4.9946,  34.1883,2,    265.3,2,    264.2,2,    10.99,2,    24.69,2,     1.71,2,   -999.0,9,   7.6945,2,    25.00
  29HE20130320,   A17,    26,  1,     19,2,20130402,0854,-35.6820, -43.8970, 4911,    403.6,   6.3938,  34.3251,2,    240.0,2,    240.0,2,     9.59,2,    23.28,2,     1.60,2,   -999.0,9,   7.7016,2,    25.00
  29HE20130320,   A17,    26,  1,     20,2,20130402,0854,-35.6820, -43.8970, 4911,    302.9,   8.8607,  34.6022,2,    227.8,2,    228.6,2,     5.80,2,    18.04,2,     1.17,2,   -999.0,9,   7.7496,2,    25.00
  29HE20130320,   A17,    26,  1,     21,2,20130402,0854,-35.6820, -43.8970, 4911,    202.3,  11.4679,  34.9680,2,    222.1,2,    222.5,2,     3.49,2,    12.08,2,     0.73,2,   -999.0,9,   7.8536,2,    25.00
  29HE20130320,   A17,    26,  1,     22,2,20130402,0854,-35.6820, -43.8970, 4911,    101.6,  14.9168,  35.2319,2,    215.8,2,    216.6,2,     1.44,2,     4.76,2,     0.38,2,   -999.0,9,   7.8976,2,    25.00
  29HE20130320,   A17,    26,  1,     23,2,20130402,0854,-35.6820, -43.8970, 4911,     76.6,  16.2094,  35.2001,2,    223.9,2,    224.7,2,     0.72,2,     1.16,2,     0.12,2,   -999.0,9,   7.9402,2,    25.00
  29HE20130320,   A17,    26,  1,     24,2,20130402,0854,-35.6820, -43.8970, 4911,      6.2,  19.7012,  35.3919,2,    228.3,2,    228.4,2,     0.72,2,     1.16,2,     0.12,2,   -999.0,9,   8.0207,2,    25.00