BOTTLE,20230216CCHSIOENA
EXPOCODE,SECT_ID,STNNBR,CASTNO,BTLNBR,BTLNBR_FLAG_W,DATE,TIME,LATITUDE,LONGITUDE,DEPTH,CTDPRS,CTDTMP,CTDSAL,CTDSAL_FLAG_W,CTDOXY,CTDOXY_FLAG_W,OXYGEN,OXYGEN_FLAG_W,SILCAT,SILCAT_FLAG_W,NITRAT,NITRAT_FLAG_W,PHSPHT,PHSPHT_FLAG_W,ALKALI,ALKALI_FLAG_W,PH_TOT,PH_TOT_FLAG_W,PH_TMP
,,,,,,,,,,METERS,DBAR,ITS-90,PSS-78,,UMOL/KG,,UMOL/KG,,UMOL/KG,,UMOL/KG,,UMOL/KG,,UMOL/KG,,,,DEG C
  29HE20130320,   A17,   104,  1,      1,2,20130517,0254, 36.1620, -16.5180, 4420,   4064.0,   2.3960,  34.8945,2,    244.2,2,    244.5,2,    45.52,2,    22.66,2,     1.44,2,   2347.3,2,   7.7400,2,    25.00
  29HE20130320,   A17,   104,  1,      2,2,20130517,0254, 36.1620, -16.5180, 4420,   3551.1,   2.5347,  34.9134,2,    245.1,2,    245.1,2,    40.95,2,    21.82,2,     1.40,2,   2345.0,2,   7.7425,2,    25.00
  29HE20130320,   A17,   104,  1,      3,2,20130517,0254, 36.1620, -16.5180, 4420,   3043.5,   2.7523,  34.9371,2,    247.7,2,    247.5,2,    34.32,2,    21.14,2,     1.33,2,   2338.2,2,   7.7390,2,    25.00
  29HE20130320,   A17,   104,  1,      4,2,20130517,0254, 36.1620, -16.5180, 4420,   2534.0,   3.2236,  34.9834,2,    250.4,2,    250.7,2,    26.94,2,    19.90,2,     1.26,2,   2328.7,2,   7.7357,2,    25.00
  29HE20130320,   A17,   104,  1,      5,2,20130517,0254, 36.1620, -16.5180, 4420,   2277.6,   3.6473,  35.0294,2,    250.1,2,    249.9,2,    22.43,2,    19.53,2,     1.22,2,   2326.8,2,   7.7414,2,    25.00
  29HE20130320,   A17,   104,  1,      6,2,20130517,0254, 36.1620, -16.5180, 4420,   2020.7,   4.1459,  35.0821,2,    250.5,2,    249.6,2,    17.82,2,    18.68,2,     1.17,2,   2323.1,2,   7.7378,2,    25.00
  29HE20130320,   A17,   104,  1,      7,2,20130517,0254, 36.1620, -16.5180, 4420,   1817.2,   4.8122,  35.1710,2,    245.0,2,    244.9,2,    15.24,2,    18.39,2,     1.13,2,   2326.7,2,   7.7430,2,    25.00
  29HE20130320,   A17,   104,  1,      8,2,20130517,0254, 36.1620, -16.5180, 4420,   1616.3,   5.8941,  35.3425,2,    231.6,2,    230.8,2,    13.88,2,    18.18,2,     1.09,2,   2337.1,2,   7.7488,2,    25.00
  29HE20130320,   A17,   104,  1,      9,2,20130517,0254, 36.1620, -16.5180, 4420,   1419.5,   8.0478,  35.7141,2,    207.1,2,    206.8,2,    12.21,2,    17.54,2,     1.06,2,   2359.8,2,   7.7673,2,    25.00
  29HE20130320,   A17,   104,  1,     10,2,20130517,0254, 36.1620, -16.5180, 4420,   1214.5,   8.5869,  35.7032,2,    197.0,2,    196.9,2,    11.80,2,    18.06,2,     1.09,2,   2357.7,2,   7.7598,2,    25.00
  29HE20130320,   A17,   104,  1,     11,2,20130517,0254, 36.1620, -16.5180, 4420,   1109.4,   8.8630,  35.6868,2,    188.8,2,    189.0,2,    11.93,2,    18.82,2,     1.11,2,   2352.8,2,   7.7568,2,    25.00
  29HE20130320,   A17,   104,  1,     12,2,20130517,0254, 36.1620, -16.5180, 4420,   1004.7,   8.8570,  35.5802,2,    187.8,2,    187.7,2,    11.67,2,    18.95,2,     1.12,2,   2345.2,2,   7.7481,2,    25.00
  29HE20130320,   A17,   104,  1,     13,2,20130517,0254, 36.1620, -16.5180, 4420,    798.4,   9.7619,  35.5303,2,    179.3,2,    178.8,2,    10.36,2,    18.96,2,     1.11,2,   2338.3,2,   7.7474,2,    25.00
  29HE20130320,   A17,   104,  1,     14,2,20130517,0254, 36.1620, -16.5180, 4420,    709.8,  10.2111,  35.5104,2,    179.1,2,    179.9,2,     9.48,2,    18.20,2,     1.04,2,   2335.7,2,   7.7509,2,    25.00
  29HE20130320,   A17,   104,  1,     15,2,20130517,0254, 36.1620, -16.5180, 4420,    606.9,  11.1858,  35.5648,2,    187.4,2,    188.1,2,     7.29,2,    16.03,2,     0.89,2,   2336.3,2,   7.7761,2,    25.00
  29HE20130320,   A17,   104,  1,     16,2,20130517,0254, 36.1620, -16.5180, 4420,    506.2,  11.9191,  35.6373,2,    199.0,2,    199.2,2,     5.51,2,    13.79,2,     0.75,2,   2338.6,2,   7.8023,2,    25.00
  29HE20130320,   A17,   104,  1,     17,2,20130517,0254, 36.1620, -16.5180, 4420,    405.5,  12.7836,  35.7460,2,    204.9,2,    205.8,2,     4.34,2,    11.48,2,     0.54,2,   2344.6,2,   7.8313,2,    25.00
  29HE20130320,   A17,   104,  1,     18,2,20130517,0254, 36.1620, -16.5180, 4420,    304.2,  13.7962,  35.8893,2,    205.5,2,    207.2,2,     3.53,2,     9.66,2,     0.33,2,   2351.9,2,   7.8610,2,    25.00
  29HE20130320,   A17,   104,  1,     19,2,20130517,0254, 36.1620, -16.5180, 4420,    200.8,  15.1087,  36.0824,2,    220.3,2,    220.7,2,     1.99,2,     5.10,2,     0.11,2,   2363.7,2,   7.9095,2,    25.00
  29HE20130320,   A17,   104,  1,     20,2,20130517,0254, 36.1620, -16.5180, 4420,    201.4,  15.1021,  36.0827,2,    219.6,2,    218.9,2,     1.98,2,     5.15,2,     0.07,2,   -999.0,9,-999.0000,9,  -999.00
  29HE20130320,   A17,   104,  1,     21,2,20130517,0254, 36.1620, -16.5180, 4420,    104.1,  16.3653,  36.2531,2,    224.7,2,    227.0,2,     1.11,2,     2.26,2,     0.00,2,   2374.5,2,   7.9452,2,    25.00
  29HE20130320,   A17,   104,  1,     22,2,20130517,0254, 36.1620, -16.5180, 4420,    104.6,  16.3632,  36.2531,2,    224.6,2,   -999.0,9,     1.11,2,     2.22,2,     0.01,2,   -999.0,9,-999.0000,9,  -999.00
  29HE20130320,   A17,   104,  1,     23,2,20130517,0254, 36.1620, -16.5180, 4420,      6.0,  17.4366,  36.3110,2,    238.7,2,    240.4,2,     0.28,2,     0.14,2,     0.00,2,   2378.4,2,   7.9794,2,    25.00
  29HE20130320,   A17,   107,  1,      1,2,20130518,0334, 36.1650, -12.1060, 3938,   4009.1,   2.4604,  34.9011,2,    240.6,2,    240.7,2,    44.90,2,    22.53,2,     1.46,2,   2350.8,2,   7.7303,2,    25.00
  29HE20130320,   A17,   107,  1,      2,2,20130518,0334, 36.1650, -12.1060, 3938,   3557.2,   2.5260,  34.9125,2,    242.6,2,    242.5,2,    41.92,2,    22.07,2,     1.43,2,   2346.3,2,   7.7331,2,    25.00
  29HE20130320,   A17,   107,  1,      3,2,20130518,0334, 36.1650, -12.1060, 3938,   3044.2,   2.8252,  34.9462,2,    245.2,2,    244.8,2,    34.59,2,    21.25,2,     1.38,2,   2335.3,2,   7.7365,2,    25.00
  29HE20130320,   A17,   107,  1,      4,2,20130518,0334, 36.1650, -12.1060, 3938,   2532.5,   3.4733,  35.0183,2,    245.8,2,    244.9,2,    27.22,2,    20.31,2,     1.30,2,   2328.8,2,   7.7405,2,    25.00
  29HE20130320,   A17,   107,  1,      5,2,20130518,0334, 36.1650, -12.1060, 3938,   2277.8,   3.9874,  35.0809,2,    244.9,2,    243.8,2,    22.62,2,    19.60,2,     1.24,2,   2326.8,2,   7.7412,2,    25.00
  29HE20130320,   A17,   107,  1,      6,2,20130518,0334, 36.1650, -12.1060, 3938,   2024.8,   4.6709,  35.1731,2,    241.1,2,    239.7,2,    18.69,2,    18.90,2,     1.19,2,   2329.3,2,   7.7425,2,    25.00
  29HE20130320,   A17,   107,  1,      7,2,20130518,0334, 36.1650, -12.1060, 3938,   1822.9,   5.7288,  35.3336,2,    230.3,2,    229.9,2,    15.43,2,    18.48,2,     1.15,2,   2335.5,2,   7.7478,2,    25.00
  29HE20130320,   A17,   107,  1,      8,2,20130518,0334, 36.1650, -12.1060, 3938,   1617.8,   7.3036,  35.5996,2,    212.8,2,    211.8,2,    13.71,2,    17.94,2,     1.10,2,   2354.9,2,   7.7594,2,    25.00
  29HE20130320,   A17,   107,  1,      9,2,20130518,0334, 36.1650, -12.1060, 3938,   1416.4,   9.2175,  35.9351,2,    193.7,2,    193.3,2,    11.91,2,    17.26,2,     1.03,2,   2376.3,2,   7.7757,2,    25.00
  29HE20130320,   A17,   107,  1,     10,2,20130518,0334, 36.1650, -12.1060, 3938,   1213.0,  10.7798,  36.1717,2,    180.5,2,    180.2,2,    10.16,2,    16.35,2,     0.97,2,   2389.6,2,   7.7858,2,    25.00
  29HE20130320,   A17,   107,  1,     11,2,20130518,0334, 36.1650, -12.1060, 3938,   1111.6,  11.0598,  36.1598,2,    178.6,2,    178.6,2,     9.68,2,    16.24,2,     0.95,2,   2387.0,2,   7.7869,2,    25.00
  29HE20130320,   A17,   107,  1,     12,2,20130518,0334, 36.1650, -12.1060, 3938,   1012.9,  11.2582,  36.1359,2,    178.0,2,    178.3,2,     9.24,2,    15.97,2,     0.93,2,   2383.3,2,   7.7885,2,    25.00
  29HE20130320,   A17,   107,  1,     13,2,20130518,0334, 36.1650, -12.1060, 3938,    909.5,  11.5677,  36.1030,2,    178.6,2,    178.7,2,     8.43,2,    15.53,2,     0.91,2,   2378.4,2,   7.7915,2,    25.00
  29HE20130320,   A17,   107,  1,     14,2,20130518,0334, 36.1650, -12.1060, 3938,    808.8,  11.8269,  36.0839,2,    180.1,2,    179.6,2,     7.80,2,    15.21,2,     0.87,2,   2377.6,2,   7.7952,2,    25.00
  29HE20130320,   A17,   107,  1,     15,2,20130518,0334, 36.1650, -12.1060, 3938,    709.2,  11.7533,  35.9505,2,    179.9,2,    179.8,2,     7.60,2,    15.47,2,     0.89,2,   2366.8,2,   7.7876,2,    25.00
  29HE20130320,   A17,   107,  1,     16,2,20130518,0334, 36.1650, -12.1060, 3938,    606.8,  11.4575,  35.7002,2,    184.4,2,    184.6,2,     7.01,2,    15.76,2,     0.90,2,   2347.0,2,   7.7761,2,    25.00
  29HE20130320,   A17,   107,  1,     17,2,20130518,0334, 36.1650, -12.1060, 3938,    505.1,  11.7915,  35.6417,2,    198.1,2,    198.1,2,     5.47,2,    14.14,2,     0.78,2,   2339.7,2,   7.7915,2,    25.00
  29HE20130320,   A17,   107,  1,     18,2,20130518,0334, 36.1650, -12.1060, 3938,    405.3,  12.6878,  35.7462,2,    200.9,2,    201.2,2,     4.39,2,    12.23,2,     0.63,2,   2345.2,2,   7.8173,2,    25.00
  29HE20130320,   A17,   107,  1,     19,2,20130518,0334, 36.1650, -12.1060, 3938,    303.3,  13.6832,  35.8936,2,    203.1,2,    202.2,2,     3.45,2,     9.97,2,     0.44,2,   2352.4,2,   7.8455,2,    25.00
  29HE20130320,   A17,   107,  1,     20,2,20130518,0334, 36.1650, -12.1060, 3938,    200.4,  16.1998,  36.3523,2,    217.0,2,   -999.0,9,  -999.00,9,  -999.00,9,  -999.00,9,   -999.0,9,-999.0000,9,  -999.00
  29HE20130320,   A17,   107,  1,     21,2,20130518,0334, 36.1650, -12.1060, 3938,    200.5,  16.2147,  36.3552,2,    217.0,2,    217.4,2,     1.52,2,     3.95,2,     0.09,2,   2381.4,2,   7.9303,2,    25.00
  29HE20130320,   A17,   107,  1,     22,2,20130518,0334, 36.1650, -12.1060, 3938,    101.1,  17.1208,  36.4844,2,    221.6,2,    221.7,2,     1.04,2,     2.16,2,     0.03,2,   2388.9,2,   7.9542,2,    25.00
  29HE20130320,   A17,   107,  1,     23,2,20130518,0334, 36.1650, -12.1060, 3938,    101.1,  17.1207,  36.4844,2,    221.5,2,   -999.0,9,     1.03,2,     2.08,2,     0.03,2,   -999.0,9,-999.0000,9,  -999.00
  29HE20130320,   A17,   107,  1,     24,2,20130518,0334, 36.1650, -12.1060, 3938,      6.9,  17.6480,  36.5330,2,    235.0,2,    236.5,2,     0.64,2,     0.12,2,     0.01,2,   2391.9,2,   7.9785,2,    25.00
  29HE20130320,   A17,   108,  1,      1,2,20130518,1432, 36.1540, -10.5000, 4828,   4915.8,   2.5347,  34.8973,2,    238.3,2,    237.4,2,    46.93,2,    22.79,2,     1.51,2,   -999.0,9,   7.7361,2,    25.00
  29HE20130320,   A17,   108,  1,      2,2,20130518,1432, 36.1540, -10.5000, 4828,   4579.5,   2.4950,  34.8979,2,    238.1,2,    236.8,2,    47.12,2,    22.64,2,     1.52,2,   -999.0,9,   7.7336,2,    25.00
  29HE20130320,   A17,   108,  1,      3,2,20130518,1432, 36.1540, -10.5000, 4828,   4068.6,   2.4412,  34.8988,2,    239.1,2,    237.9,2,    46.56,2,    22.63,2,     1.50,2,   -999.0,9,   7.7336,2,    25.00
  29HE20130320,   A17,   108,  1,      4,2,20130518,1432, 36.1540, -10.5000, 4828,   3556.7,   2.5254,  34.9127,2,    242.2,2,    241.2,2,    41.91,2,    22.07,2,     1.44,2,   -999.0,9,   7.7358,2,    25.00
  29HE20130320,   A17,   108,  1,      5,2,20130518,1432, 36.1540, -10.5000, 4828,   3042.8,   2.8111,  34.9451,2,    243.4,2,    243.1,2,    35.43,2,    21.24,2,     1.39,2,   -999.0,9,   7.7381,2,    25.00
  29HE20130320,   A17,   108,  1,      6,2,20130518,1432, 36.1540, -10.5000, 4828,   2534.8,   3.3573,  35.0076,2,    243.2,2,    242.6,2,    29.10,2,    20.45,2,     1.32,2,   -999.0,9,   7.7408,2,    25.00
  29HE20130320,   A17,   108,  1,      7,2,20130518,1432, 36.1540, -10.5000, 4828,   2277.6,   3.8675,  35.0680,2,    242.7,2,    241.6,2,    24.35,2,    19.76,2,     1.27,2,   -999.0,9,   7.7423,2,    25.00
  29HE20130320,   A17,   108,  1,      8,2,20130518,1432, 36.1540, -10.5000, 4828,   2025.4,   4.6170,  35.1758,2,    236.3,2,    235.8,2,    20.44,2,    19.36,2,     1.23,2,   -999.0,9,   7.7459,2,    25.00
  29HE20130320,   A17,   108,  1,      9,2,20130518,1432, 36.1540, -10.5000, 4828,   1819.8,   5.6000,  35.3142,2,    227.5,2,    226.0,2,    17.36,2,    18.86,2,     1.16,2,   -999.0,9,   7.7530,2,    25.00
  29HE20130320,   A17,   108,  1,     10,2,20130518,1432, 36.1540, -10.5000, 4828,   1615.5,   7.1530,  35.5829,2,    212.4,2,    210.9,2,    14.56,2,    18.01,2,     1.11,2,   -999.0,9,   7.7629,2,    25.00
  29HE20130320,   A17,   108,  1,     11,2,20130518,1432, 36.1540, -10.5000, 4828,   1416.0,   9.7396,  36.0854,2,    191.0,2,    189.8,2,    11.49,2,    16.35,2,     0.97,2,   -999.0,9,   7.7880,2,    25.00
  29HE20130320,   A17,   108,  1,     12,2,20130518,1432, 36.1540, -10.5000, 4828,   1286.8,  11.2769,  36.4159,2,    181.5,2,    180.6,2,     9.65,2,    15.17,2,     0.88,2,   -999.0,9,   7.8048,2,    25.00
  29HE20130320,   A17,   108,  1,     13,2,20130518,1432, 36.1540, -10.5000, 4828,   1113.2,  10.9788,  36.2247,2,    179.6,2,    178.8,2,     9.93,2,    16.21,2,     0.94,2,   -999.0,9,   7.7928,2,    25.00
  29HE20130320,   A17,   108,  1,     14,2,20130518,1432, 36.1540, -10.5000, 4828,   1013.0,  10.9115,  36.1120,2,    177.6,2,    176.8,2,    10.00,2,    16.67,2,     0.96,2,   -999.0,9,   7.7860,2,    25.00
  29HE20130320,   A17,   108,  1,     15,2,20130518,1432, 36.1540, -10.5000, 4828,    810.1,  11.1175,  35.9687,2,    176.3,2,    176.1,2,     9.26,2,    16.61,2,     0.96,2,   -999.0,9,   7.7818,2,    25.00
  29HE20130320,   A17,   108,  1,     16,2,20130518,1432, 36.1540, -10.5000, 4828,    705.9,  11.4488,  35.9084,2,    177.0,2,    176.6,2,     8.46,2,    16.33,2,     0.93,2,   -999.0,9,   7.7835,2,    25.00
  29HE20130320,   A17,   108,  1,     17,2,20130518,1432, 36.1540, -10.5000, 4828,    604.4,  11.7743,  35.8298,2,    182.5,2,    182.0,2,     7.27,2,    15.24,2,     0.88,2,   -999.0,9,   7.7879,2,    25.00
  29HE20130320,   A17,   108,  1,     18,2,20130518,1432, 36.1540, -10.5000, 4828,    504.9,  11.9043,  35.6857,2,    202.7,2,    202.0,2,     5.11,2,    13.34,2,     0.73,2,   -999.0,9,   7.8014,2,    25.00
  29HE20130320,   A17,   108,  1,     19,2,20130518,1432, 36.1540, -10.5000, 4828,    403.2,  12.3509,  35.7281,2,    205.3,2,    204.6,2,     4.40,2,    12.29,2,     0.63,2,   -999.0,9,   7.8136,2,    25.00
  29HE20130320,   A17,   108,  1,     20,2,20130518,1432, 36.1540, -10.5000, 4828,    304.6,  12.9516,  35.8114,2,    207.5,2,    207.5,2,     3.70,2,    10.62,2,     0.52,2,   -999.0,9,   7.8336,2,    25.00
  29HE20130320,   A17,   108,  1,     21,2,20130518,1432, 36.1540, -10.5000, 4828,    305.3,  12.9526,  35.8115,2,    207.9,2,    207.2,2,     3.72,2,    10.65,2,     0.48,2,   -999.0,9,-999.0000,9,  -999.00
  29HE20130320,   A17,   108,  1,     22,2,20130518,1432, 36.1540, -10.5000, 4828,    203.3,  14.0737,  35.9659,2,    206.8,2,    206.0,2,     3.07,2,     8.58,2,     0.26,2,   -999.0,9,   7.8632,2,    25.00
  29HE20130320,   A17,   108,  1,     23,2,20130518,1432, 36.1540, -10.5000, 4828,    100.6,  15.7578,  36.2506,2,    217.7,2,    217.3,2,     1.70,2,     4.29,2,     0.02,2,   -999.0,9,   7.9205,2,    25.00
  29HE20130320,   A17,   108,  1,     24,2,20130518,1432, 36.1540, -10.5000, 4828,      5.2,  17.0917,  36.3895,2,    242.8,2,    242.1,2,     0.18,2,     0.00,2,     0.00,2,   -999.0,9,   7.9786,2,    25.00