BOTTLE,20230216CCHSIOENA
EXPOCODE,SECT_ID,STNNBR,CASTNO,BTLNBR,BTLNBR_FLAG_W,DATE,TIME,LATITUDE,LONGITUDE,DEPTH,CTDPRS,CTDTMP,CTDSAL,CTDSAL_FLAG_W,CTDOXY,CTDOXY_FLAG_W,OXYGEN,OXYGEN_FLAG_W,SILCAT,SILCAT_FLAG_W,NITRAT,NITRAT_FLAG_W,PHSPHT,PHSPHT_FLAG_W,ALKALI,ALKALI_FLAG_W,PH_TOT,PH_TOT_FLAG_W,PH_TMP
,,,,,,,,,,METERS,DBAR,ITS-90,PSS-78,,UMOL/KG,,UMOL/KG,,UMOL/KG,,UMOL/KG,,UMOL/KG,,UMOL/KG,,,,DEG C
  29HE20130320,   A17,    48,  1,      1,2,20130411,0520,-22.5050, -32.3730, 4536,   4597.1,   0.3555,  34.6782,2,    220.7,2,    220.5,2,   125.49,2,    31.87,2,     2.19,2,   -999.0,9,   7.6028,2,    25.00
  29HE20130320,   A17,    48,  1,      2,2,20130411,0520,-22.5050, -32.3730, 4536,   4597.4,   0.3556,  34.6782,2,    221.1,2,   -999.0,9,  -999.00,9,  -999.00,9,  -999.00,9,   -999.0,9,-999.0000,9,  -999.00
  29HE20130320,   A17,    48,  1,      3,2,20130411,0520,-22.5050, -32.3730, 4536,   4062.6,   1.2926,  34.7747,2,    232.8,2,    232.8,2,    87.02,2,    27.09,2,     1.81,2,   -999.0,9,   7.6642,2,    25.00
  29HE20130320,   A17,    48,  1,      4,2,20130411,0520,-22.5050, -32.3730, 4536,   3550.3,   2.1821,  34.8695,2,    249.4,2,    249.0,2,    48.61,2,    21.69,2,     1.40,2,   -999.0,9,   7.7133,2,    25.00
  29HE20130320,   A17,    48,  1,      5,2,20130411,0520,-22.5050, -32.3730, 4536,   3042.2,   2.7886,  34.9189,2,    252.4,2,    251.1,2,    31.10,2,    20.08,2,     1.25,2,   -999.0,9,   7.7272,2,    25.00
  29HE20130320,   A17,    48,  1,      6,2,20130411,0520,-22.5050, -32.3730, 4536,   3041.3,   2.7891,  34.9189,2,    251.7,2,   -999.0,9,  -999.00,9,  -999.00,9,  -999.00,9,   -999.0,9,-999.0000,9,  -999.00
  29HE20130320,   A17,    48,  1,      7,2,20130411,0520,-22.5050, -32.3730, 4536,   2530.0,   3.1362,  34.9383,2,    252.3,2,    249.6,2,    26.47,2,    19.50,2,     1.22,2,   -999.0,9,   7.7285,2,    25.00
  29HE20130320,   A17,    48,  1,      8,2,20130411,0520,-22.5050, -32.3730, 4536,   2277.9,   3.3469,  34.9487,2,    252.1,2,    252.6,2,    23.31,2,    19.03,2,     1.20,2,   -999.0,9,   7.7290,2,    25.00
  29HE20130320,   A17,    48,  1,      9,2,20130411,0520,-22.5050, -32.3730, 4536,   2023.3,   3.5887,  34.9580,2,    250.1,2,    250.7,2,    20.76,2,    19.14,2,     1.21,2,   -999.0,9,   7.7261,2,    25.00
  29HE20130320,   A17,    48,  1,     10,2,20130411,0520,-22.5050, -32.3730, 4536,   1819.8,   3.7539,  34.9519,2,    243.5,2,    243.3,2,    20.48,2,    19.89,2,     1.26,2,   -999.0,9,   7.7168,2,    25.00
  29HE20130320,   A17,    48,  1,     11,2,20130411,0520,-22.5050, -32.3730, 4536,   1618.3,   3.8148,  34.9064,2,    227.6,2,    227.7,2,    25.19,2,    22.33,2,     1.43,2,   -999.0,9,   7.6967,2,    25.00
  29HE20130320,   A17,    48,  1,     12,2,20130411,0520,-22.5050, -32.3730, 4536,   1414.0,   3.6618,  34.7700,2,    201.9,2,    201.6,2,    35.59,2,    26.34,2,     1.79,2,   -999.0,9,   7.6493,2,    25.00
  29HE20130320,   A17,    48,  1,     13,2,20130411,0520,-22.5050, -32.3730, 4536,   1212.4,   3.5164,  34.6058,2,    188.0,2,    187.9,2,    42.47,2,    29.92,2,     2.06,2,   -999.0,9,   7.6080,2,    25.00
  29HE20130320,   A17,    48,  1,     14,2,20130411,0520,-22.5050, -32.3730, 4536,   1009.4,   3.7283,  34.4464,2,    184.9,2,   -999.0,9,  -999.00,9,  -999.00,9,  -999.00,9,   -999.0,9,-999.0000,9,  -999.00
  29HE20130320,   A17,    48,  1,     15,2,20130411,0520,-22.5050, -32.3730, 4536,   1009.3,   3.7288,  34.4463,2,    184.9,2,    185.1,2,    27.60,2,    31.70,2,     2.04,2,   -999.0,9,   7.5920,2,    25.00
  29HE20130320,   A17,    48,  1,     16,2,20130411,0520,-22.5050, -32.3730, 4536,    807.3,   4.6021,  34.3386,2,    204.8,2,    203.2,2,    39.87,4,    31.64,2,     2.15,2,   -999.0,9,   7.6169,2,    25.00
  29HE20130320,   A17,    48,  1,     17,2,20130411,0520,-22.5050, -32.3730, 4536,    605.8,   7.9003,  34.5634,2,    201.7,2,    202.0,2,    11.96,2,    22.16,2,     1.44,2,   -999.0,9,   7.6905,2,    25.00
  29HE20130320,   A17,    48,  1,     18,2,20130411,0520,-22.5050, -32.3730, 4536,    506.1,  10.0577,  34.8082,2,    199.7,2,    199.9,2,     7.81,2,    17.68,2,     1.08,2,   -999.0,9,   7.7383,2,    25.00
  29HE20130320,   A17,    48,  1,     19,2,20130411,0520,-22.5050, -32.3730, 4536,    402.9,  12.0818,  35.0609,2,    203.0,2,    203.3,2,     4.87,2,    12.44,2,     0.76,2,   -999.0,9,   7.7950,2,    25.00
  29HE20130320,   A17,    48,  1,     20,2,20130411,0520,-22.5050, -32.3730, 4536,    302.8,  14.7054,  35.4284,2,    208.8,2,    208.7,2,     2.60,2,     6.20,2,     0.23,2,   -999.0,9,   7.8716,2,    25.00
  29HE20130320,   A17,    48,  1,     21,2,20130411,0520,-22.5050, -32.3730, 4536,    201.7,  18.1632,  36.0072,2,    211.1,2,    211.0,2,     1.43,2,     1.27,2,    -0.01,2,   -999.0,9,   7.9485,2,    25.00
  29HE20130320,   A17,    48,  1,     22,2,20130411,0520,-22.5050, -32.3730, 4536,    122.3,  22.1148,  36.8523,2,    210.7,2,    210.9,2,     1.08,2,     0.05,2,    -0.02,2,   -999.0,9,   8.0067,2,    25.00
  29HE20130320,   A17,    48,  1,     23,2,20130411,0520,-22.5050, -32.3730, 4536,     52.0,  26.9545,  37.1693,2,    202.7,2,    212.7,2,     0.83,2,    -0.02,2,    -0.03,2,   -999.0,9,   8.0592,2,    25.00
  29HE20130320,   A17,    48,  1,     24,2,20130411,0520,-22.5050, -32.3730, 4536,      5.9,  27.0671,  37.1880,2,    201.0,2,    201.3,2,     0.73,2,    -0.03,2,    -0.02,2,   -999.0,9,   8.0656,2,    25.00
  29HE20130320,   A17,    49,  1,      1,2,20130411,1459,-21.6180, -32.7830, 4407,   4462.2,   0.4831,  34.6896,2,    220.7,2,    222.0,2,   121.62,2,    32.16,2,     2.18,2,   2363.9,2,   7.6103,2,    25.00
  29HE20130320,   A17,    49,  1,      2,2,20130411,1459,-21.6180, -32.7830, 4407,   4062.3,   1.3175,  34.7758,2,    233.0,2,    233.7,2,    88.37,2,    27.47,2,     1.84,2,   2350.1,2,   7.6642,2,    25.00
  29HE20130320,   A17,    49,  1,      3,2,20130411,1459,-21.6180, -32.7830, 4407,   3552.0,   2.3547,  34.8856,2,    251.9,2,    251.7,2,    43.38,2,    21.29,2,     1.39,2,   2332.9,2,   7.7228,2,    25.00
  29HE20130320,   A17,    49,  1,      4,2,20130411,1459,-21.6180, -32.7830, 4407,   3040.9,   2.7593,  34.9174,2,    252.2,2,    252.1,2,    32.27,2,    20.70,2,     1.29,2,   2327.2,2,   7.7299,2,    25.00
  29HE20130320,   A17,    49,  1,      5,2,20130411,1459,-21.6180, -32.7830, 4407,   2785.4,   2.8831,  34.9234,2,    251.5,2,    251.2,2,    31.47,2,    20.27,2,     1.30,2,   2325.7,2,   7.7323,2,    25.00
  29HE20130320,   A17,    49,  1,      6,2,20130411,1459,-21.6180, -32.7830, 4407,   2530.2,   3.0230,  34.9321,2,    251.7,2,    250.6,2,    28.99,2,    20.01,2,     1.27,2,   2323.6,2,   7.7337,2,    25.00
  29HE20130320,   A17,    49,  1,      7,2,20130411,1459,-21.6180, -32.7830, 4407,   2277.3,   3.2065,  34.9421,2,    252.1,2,    251.7,2,    25.69,2,    19.76,2,     1.25,2,   2322.1,2,   7.7318,2,    25.00
  29HE20130320,   A17,    49,  1,      8,2,20130411,1459,-21.6180, -32.7830, 4407,   2022.6,   3.4626,  34.9532,2,    250.8,2,    251.0,2,    22.41,2,    19.39,2,     1.25,2,   2317.2,2,   7.7291,2,    25.00
  29HE20130320,   A17,    49,  1,      9,2,20130411,1459,-21.6180, -32.7830, 4407,   1819.1,   3.6511,  34.9529,2,    246.2,2,    246.7,2,    21.45,2,    20.01,2,     1.26,2,   2318.8,2,   7.7247,2,    25.00
  29HE20130320,   A17,    49,  1,     10,2,20130411,1459,-21.6180, -32.7830, 4407,   1615.8,   3.8935,  34.9431,2,    236.1,2,    236.6,2,    21.38,2,    21.14,2,     1.35,2,   2315.4,2,   7.7114,2,    25.00
  29HE20130320,   A17,    49,  1,     11,2,20130411,1459,-21.6180, -32.7830, 4407,   1615.4,   3.8938,  34.9432,2,    235.2,2,   -999.0,9,    21.57,2,    21.03,2,     1.36,2,   -999.0,9,-999.0000,9,  -999.00
  29HE20130320,   A17,    49,  1,     12,2,20130411,1459,-21.6180, -32.7830, 4407,   1413.8,   4.0697,  34.8824,2,    214.7,2,    215.1,2,    25.35,2,    24.00,2,     1.58,2,   2315.6,2,   7.6801,2,    25.00
  29HE20130320,   A17,    49,  1,     13,2,20130411,1459,-21.6180, -32.7830, 4407,   1210.9,   3.4857,  34.6397,2,    190.0,2,    190.9,2,    42.94,2,    30.16,2,     2.05,2,   2317.4,2,   7.6158,2,    25.00
  29HE20130320,   A17,    49,  1,     14,2,20130411,1459,-21.6180, -32.7830, 4407,   1009.0,   3.6864,  34.4784,2,    183.2,2,    183.6,2,    41.39,2,    32.67,2,     2.24,2,   2312.3,2,   7.5941,2,    25.00
  29HE20130320,   A17,    49,  1,     15,2,20130411,1459,-21.6180, -32.7830, 4407,    806.1,   4.8365,  34.3920,2,    185.4,2,    187.1,2,    29.33,2,    31.51,2,     2.13,2,   2299.6,2,   7.6016,2,    25.00
  29HE20130320,   A17,    49,  1,     16,2,20130411,1459,-21.6180, -32.7830, 4407,    705.2,   5.6388,  34.3808,2,    204.8,2,    204.5,2,    20.57,2,    28.23,2,     1.88,2,   2291.1,2,   7.6427,2,    25.00
  29HE20130320,   A17,    49,  1,     17,2,20130411,1459,-21.6180, -32.7830, 4407,    604.9,   7.7925,  34.5586,2,    197.4,2,    198.3,2,    13.26,2,    24.01,2,     1.58,2,   2292.3,2,   7.6832,2,    25.00
  29HE20130320,   A17,    49,  1,     18,2,20130411,1459,-21.6180, -32.7830, 4407,    504.3,   9.8556,  34.7877,2,    190.3,2,    191.3,2,     8.96,2,    18.99,2,     1.22,2,   2301.4,2,   7.7255,2,    25.00
  29HE20130320,   A17,    49,  1,     19,2,20130411,1459,-21.6180, -32.7830, 4407,    402.7,  12.3114,  35.0842,2,    190.7,2,    190.7,2,     5.32,2,    13.49,2,     0.83,2,   2312.5,2,   7.7881,2,    25.00
  29HE20130320,   A17,    49,  1,     20,2,20130411,1459,-21.6180, -32.7830, 4407,    302.4,  15.0649,  35.4731,2,    198.9,2,    199.5,2,     3.09,2,     7.36,2,     0.47,2,   2333.5,2,   7.8658,2,    25.00
  29HE20130320,   A17,    49,  1,     21,2,20130411,1459,-21.6180, -32.7830, 4407,    201.7,  18.5368,  36.1309,2,    199.6,2,    199.9,2,     1.75,2,     2.31,2,     0.14,2,   2371.2,2,   7.9394,2,    25.00
  29HE20130320,   A17,    49,  1,     22,2,20130411,1459,-21.6180, -32.7830, 4407,    101.1,  23.1592,  37.1110,2,    204.9,2,    205.0,2,     1.08,2,     0.08,2,     0.01,2,   2432.1,2,   8.0231,2,    25.00
  29HE20130320,   A17,    49,  1,     23,2,20130411,1459,-21.6180, -32.7830, 4407,     51.6,  27.4500,  37.2702,2,    201.3,2,    214.4,2,     1.05,2,     0.00,2,     0.00,2,   2439.3,2,   8.0589,2,    25.00
  29HE20130320,   A17,    49,  1,     24,2,20130411,1459,-21.6180, -32.7830, 4407,      5.2,  27.5406,  37.2895,2,    199.8,2,    199.5,2,     0.83,2,     0.00,2,    -0.01,2,   2445.6,2,   8.0807,2,    25.00
  29HE20130320,   A17,    50,  1,      1,2,20130412,0051,-20.6180, -32.9930, 4264,   4316.0,   0.7435,  34.7152,2,    223.5,2,    223.3,2,   111.26,2,    30.65,2,     2.11,2,   -999.0,9,   7.6275,2,    25.00
  29HE20130320,   A17,    50,  1,      2,2,20130412,0051,-20.6180, -32.9930, 4264,   4061.0,   1.3140,  34.7759,2,    232.9,2,    235.3,2,    81.53,2,    26.30,2,     1.78,2,   -999.0,9,   7.6739,2,    25.00
  29HE20130320,   A17,    50,  1,      3,2,20130412,0051,-20.6180, -32.9930, 4264,   3549.3,   2.2667,  34.8780,2,    251.3,2,    249.9,2,    45.58,2,    21.89,2,     1.41,2,   -999.0,9,   7.7191,2,    25.00
  29HE20130320,   A17,    50,  1,      4,2,20130412,0051,-20.6180, -32.9930, 4264,   3040.7,   2.6924,  34.9145,2,    253.2,2,    251.5,2,    32.62,2,    20.34,2,     1.29,2,   -999.0,9,   7.7304,2,    25.00
  29HE20130320,   A17,    50,  1,      5,2,20130412,0051,-20.6180, -32.9930, 4264,   2784.7,   2.8043,  34.9201,2,    252.1,2,    250.7,2,    31.18,2,    20.23,2,     1.30,2,   -999.0,9,   7.7305,2,    25.00
  29HE20130320,   A17,    50,  1,      6,2,20130412,0051,-20.6180, -32.9930, 4264,   2530.5,   2.9350,  34.9277,2,    251.7,2,    250.4,2,    30.02,2,    19.89,2,     1.27,2,   -999.0,9,   7.7300,2,    25.00
  29HE20130320,   A17,    50,  1,      7,2,20130412,0051,-20.6180, -32.9930, 4264,   2276.3,   3.1492,  34.9401,2,    252.4,2,    251.1,2,    26.26,2,    19.78,2,     1.26,2,   -999.0,9,   7.7297,2,    25.00
  29HE20130320,   A17,    50,  1,      8,2,20130412,0051,-20.6180, -32.9930, 4264,   2023.0,   3.4435,  34.9535,2,    251.6,2,    250.1,2,    22.35,2,    19.23,2,     1.23,2,   -999.0,9,   7.7293,2,    25.00
  29HE20130320,   A17,    50,  1,      9,2,20130412,0051,-20.6180, -32.9930, 4264,   1819.7,   3.7451,  34.9612,2,    246.8,2,    246.0,2,    20.00,2,    19.71,2,     1.25,2,   -999.0,9,   7.7237,2,    25.00
  29HE20130320,   A17,    50,  1,     10,2,20130412,0051,-20.6180, -32.9930, 4264,   1618.1,   4.1271,  34.9458,2,    230.0,2,    229.1,2,    19.92,2,    21.12,2,     1.37,2,   -999.0,9,   7.7041,2,    25.00
  29HE20130320,   A17,    50,  1,     11,2,20130412,0051,-20.6180, -32.9930, 4264,   1413.9,   4.1084,  34.8439,2,    207.0,2,    206.1,2,    26.66,2,    25.19,2,     1.67,2,   -999.0,9,   7.6654,2,    25.00
  29HE20130320,   A17,    50,  1,     12,2,20130412,0051,-20.6180, -32.9930, 4264,   1210.8,   3.8084,  34.6634,2,    189.2,2,    188.7,2,    36.20,2,    29.45,2,     2.01,2,   -999.0,9,   7.6209,2,    25.00
  29HE20130320,   A17,    50,  1,     13,2,20130412,0051,-20.6180, -32.9930, 4264,   1008.3,   3.6853,  34.4899,2,    182.7,2,    181.7,2,    40.84,2,    32.13,2,     2.22,2,   -999.0,9,   7.5937,2,    25.00
  29HE20130320,   A17,    50,  1,     14,2,20130412,0051,-20.6180, -32.9930, 4264,    907.6,   3.8746,  34.4203,2,    186.9,2,    186.7,2,    38.12,2,    32.36,2,     2.22,2,   -999.0,9,   7.5935,2,    25.00
  29HE20130320,   A17,    50,  1,     15,2,20130412,0051,-20.6180, -32.9930, 4264,    807.1,   4.4908,  34.3840,2,    189.5,2,    188.7,2,    31.30,2,    31.60,2,     2.14,2,   -999.0,9,   7.5987,2,    25.00
  29HE20130320,   A17,    50,  1,     16,2,20130412,0051,-20.6180, -32.9930, 4264,    704.7,   5.6463,  34.4176,2,    186.4,2,    186.4,2,    22.80,2,    29.58,2,     1.96,2,   -999.0,9,   7.6126,2,    25.00
  29HE20130320,   A17,    50,  1,     17,2,20130412,0051,-20.6180, -32.9930, 4264,    604.6,   7.3496,  34.5447,2,    179.9,2,    180.7,2,    16.05,2,    25.99,2,     1.70,2,   -999.0,9,   7.6420,2,    25.00
  29HE20130320,   A17,    50,  1,     18,2,20130412,0051,-20.6180, -32.9930, 4264,    503.7,   9.5173,  34.7476,2,    192.8,2,    192.9,2,     9.56,2,    19.71,2,     1.23,2,   -999.0,9,   7.7161,2,    25.00
  29HE20130320,   A17,    50,  1,     19,2,20130412,0051,-20.6180, -32.9930, 4264,    402.2,  11.8795,  35.0277,2,    187.0,2,    187.2,2,     6.00,2,    14.72,2,     0.87,2,   -999.0,9,   7.7666,2,    25.00
  29HE20130320,   A17,    50,  1,     20,2,20130412,0051,-20.6180, -32.9930, 4264,    302.2,  14.7976,  35.4326,2,    195.7,2,    195.2,2,     3.37,2,     8.13,2,     0.43,2,   -999.0,9,   7.8487,2,    25.00
  29HE20130320,   A17,    50,  1,     21,2,20130412,0051,-20.6180, -32.9930, 4264,    201.8,  20.3757,  36.5198,2,    195.6,2,    195.9,2,     1.49,2,     1.40,2,    -0.01,2,   -999.0,9,   7.9862,2,    25.00
  29HE20130320,   A17,    50,  1,     22,2,20130412,0051,-20.6180, -32.9930, 4264,    101.3,  23.6408,  37.1291,2,    215.9,2,    213.8,2,     1.04,2,    -0.03,2,     0.00,2,   -999.0,9,   8.0402,2,    25.00
  29HE20130320,   A17,    50,  1,     23,2,20130412,0051,-20.6180, -32.9930, 4264,     50.4,  27.8624,  37.5046,2,    200.0,2,    202.2,2,     0.85,2,    -0.03,2,    -0.01,2,   -999.0,9,   8.0840,2,    25.00
  29HE20130320,   A17,    50,  1,     24,2,20130412,0051,-20.6180, -32.9930, 4264,      6.2,  27.9898,  37.3623,2,    198.3,2,    198.5,2,     0.70,2,    -0.02,2,    -0.02,2,   -999.0,9,   8.0827,2,    25.00