BOTTLE,20230216CCHSIOENA
EXPOCODE,SECT_ID,STNNBR,CASTNO,BTLNBR,BTLNBR_FLAG_W,DATE,TIME,LATITUDE,LONGITUDE,DEPTH,CTDPRS,CTDTMP,CTDSAL,CTDSAL_FLAG_W,CTDOXY,CTDOXY_FLAG_W,OXYGEN,OXYGEN_FLAG_W,SILCAT,SILCAT_FLAG_W,NITRAT,NITRAT_FLAG_W,PHSPHT,PHSPHT_FLAG_W,ALKALI,ALKALI_FLAG_W,PH_TOT,PH_TOT_FLAG_W,PH_TMP
,,,,,,,,,,METERS,DBAR,ITS-90,PSS-78,,UMOL/KG,,UMOL/KG,,UMOL/KG,,UMOL/KG,,UMOL/KG,,UMOL/KG,,,,DEG C
  29HE20130320,   A17,    33,  1,      1,2,20130404,2335,-31.5050, -40.2360, 3671,   3655.4,   1.5198,  34.7917,2,    232.5,2,    231.6,2,    82.28,2,    27.08,2,     1.79,2,   2350.0,2,   7.6686,2,    25.00
  29HE20130320,   A17,    33,  1,      2,2,20130404,2335,-31.5050, -40.2360, 3671,   3553.7,   1.8929,  34.8330,2,    240.5,2,    239.5,2,    65.32,2,    24.92,2,     1.60,2,   2342.0,2,   7.6950,2,    25.00
  29HE20130320,   A17,    33,  1,      3,2,20130404,2335,-31.5050, -40.2360, 3671,   3044.2,   2.8151,  34.9178,2,    252.1,2,    250.2,2,    31.90,2,    20.80,2,     1.27,2,   2327.6,2,   7.7299,2,    25.00
  29HE20130320,   A17,    33,  1,      4,2,20130404,2335,-31.5050, -40.2360, 3671,   2786.2,   2.9618,  34.9229,2,    250.9,2,    253.1,2,    30.63,2,    20.49,2,     1.29,2,   2325.8,2,   7.7374,2,    25.00
  29HE20130320,   A17,    33,  1,      5,2,20130404,2335,-31.5050, -40.2360, 3671,   2786.2,   2.9616,  34.9230,2,    251.0,2,    249.4,2,    30.48,2,    20.69,2,     1.29,2,   2322.9,2,   7.7289,2,    25.00
  29HE20130320,   A17,    33,  1,      6,2,20130404,2335,-31.5050, -40.2360, 3671,   2531.1,   3.1000,  34.9220,2,    248.5,2,    246.5,2,    29.61,2,    20.57,2,     1.28,2,   2321.1,2,   7.7228,2,    25.00
  29HE20130320,   A17,    33,  1,      7,2,20130404,2335,-31.5050, -40.2360, 3671,   2278.6,   3.2336,  34.9076,2,    241.1,2,    239.8,2,    30.74,2,    21.61,2,     1.38,2,   2321.1,2,   7.7070,2,    25.00
  29HE20130320,   A17,    33,  1,      8,2,20130404,2335,-31.5050, -40.2360, 3671,   2025.0,   3.3386,  34.8737,2,    229.1,2,    228.9,2,    33.02,2,    23.38,2,     1.53,2,   2320.2,2,   7.7079,2,    25.00
  29HE20130320,   A17,    33,  1,      9,2,20130404,2335,-31.5050, -40.2360, 3671,   1822.1,   3.0789,  34.7487,2,    204.3,2,    203.7,2,    48.91,2,    28.06,2,     1.88,2,   2327.1,2,   7.6330,2,    25.00
  29HE20130320,   A17,    33,  1,     10,2,20130404,2335,-31.5050, -40.2360, 3671,   1618.4,   3.0388,  34.6483,2,    191.7,2,    190.8,2,    53.91,2,    30.86,2,     2.08,2,   2325.0,2,   7.6019,2,    25.00
  29HE20130320,   A17,    33,  1,     11,2,20130404,2335,-31.5050, -40.2360, 3671,   1518.2,   2.9511,  34.5705,2,    185.1,2,    184.4,2,    57.80,2,    32.33,2,     2.24,2,   2325.4,2,   7.5785,2,    25.00
  29HE20130320,   A17,    33,  1,     12,2,20130404,2335,-31.5050, -40.2360, 3671,   1415.8,   3.0483,  34.4983,2,    188.9,2,    188.4,2,    54.05,2,    33.03,2,     2.23,2,   2321.7,2,   7.5890,2,    25.00
  29HE20130320,   A17,    33,  1,     13,2,20130404,2335,-31.5050, -40.2360, 3671,   1211.8,   3.3273,  34.3713,2,    201.5,2,    200.9,2,    43.40,2,    32.60,2,     2.22,2,   2305.6,2,   7.5967,2,    25.00
  29HE20130320,   A17,    33,  1,     14,2,20130404,2335,-31.5050, -40.2360, 3671,   1010.2,   4.1361,  34.2935,2,    218.0,2,    218.7,2,    28.62,2,    30.05,2,     2.04,2,   2293.8,2,   7.6246,2,    25.00
  29HE20130320,   A17,    33,  1,     15,2,20130404,2335,-31.5050, -40.2360, 3671,    807.3,   5.7975,  34.3455,2,    222.6,2,    222.4,2,    16.16,2,    26.85,2,     1.70,2,   2285.0,2,   7.6664,2,    25.00
  29HE20130320,   A17,    33,  1,     16,2,20130404,2335,-31.5050, -40.2360, 3671,    709.4,   7.3427,  34.4890,2,    213.4,2,    213.2,2,    11.86,2,    23.54,2,     1.45,2,   2288.3,2,   7.6877,2,    25.00
  29HE20130320,   A17,    33,  1,     17,2,20130404,2335,-31.5050, -40.2360, 3671,    608.0,   9.3482,  34.7144,2,    208.3,2,    208.3,2,     7.82,2,    18.72,2,     1.11,2,   2293.9,2,   7.7370,2,    25.00
  29HE20130320,   A17,    33,  1,     18,2,20130404,2335,-31.5050, -40.2360, 3671,    503.4,  11.6000,  35.0287,2,    210.7,2,    210.7,2,     4.88,2,    13.07,2,     0.69,2,   2309.8,2,   7.8003,2,    25.00
  29HE20130320,   A17,    33,  1,     19,2,20130404,2335,-31.5050, -40.2360, 3671,    405.3,  13.1627,  35.2690,2,    215.0,2,    212.9,2,     3.27,2,     8.95,2,     0.50,2,   2322.9,2,   7.8455,2,    25.00
  29HE20130320,   A17,    33,  1,     20,2,20130404,2335,-31.5050, -40.2360, 3671,    303.7,  14.3886,  35.4079,2,    213.0,2,    212.8,2,     2.64,2,     6.52,2,     0.25,2,   2328.5,2,   7.8774,2,    25.00
  29HE20130320,   A17,    33,  1,     21,2,20130404,2335,-31.5050, -40.2360, 3671,    201.7,  16.4059,  35.7118,2,    215.1,2,    215.6,2,     1.63,2,     2.57,2,     0.02,2,   2345.5,2,   7.9248,2,    25.00
  29HE20130320,   A17,    33,  1,     22,2,20130404,2335,-31.5050, -40.2360, 3671,    104.4,  18.4969,  35.9709,2,    230.1,2,    231.1,2,     1.13,2,     0.06,2,    -0.02,2,   2361.5,2,   7.9826,2,    25.00
  29HE20130320,   A17,    33,  1,     23,2,20130404,2335,-31.5050, -40.2360, 3671,     51.4,  21.5397,  35.7670,2,    220.9,2,    221.8,2,     0.87,2,     0.02,2,    -0.04,2,   2348.5,2,   8.0230,2,    25.00
  29HE20130320,   A17,    33,  1,     24,2,20130404,2335,-31.5050, -40.2360, 3671,     10.8,  21.5387,  35.7685,2,    221.1,2,    222.3,2,     0.88,2,     0.01,2,    -0.02,2,   2347.2,2,   8.0178,2,    25.00
  29HE20130320,   A17,    34,  1,      1,2,20130405,0911,-30.8820, -39.7130, 4376,   4455.8,   0.2907,  34.6742,2,    220.8,2,    220.1,2,   126.94,2,    32.78,2,     2.27,2,   -999.0,9,   7.6022,2,    25.00
  29HE20130320,   A17,    34,  1,      2,2,20130405,0911,-30.8820, -39.7130, 4376,   4456.7,   0.2908,  34.6742,2,    221.1,2,   -999.0,9,  -999.00,9,  -999.00,9,  -999.00,9,   -999.0,9,-999.0000,9,  -999.00
  29HE20130320,   A17,    34,  1,      3,2,20130405,0911,-30.8820, -39.7130, 4376,   4057.5,   0.5072,  34.6885,2,    218.1,2,    217.5,2,   122.56,2,    32.42,2,     2.25,2,   -999.0,9,   7.6018,2,    25.00
  29HE20130320,   A17,    34,  1,      4,2,20130405,0911,-30.8820, -39.7130, 4376,   3554.0,   2.1323,  34.8592,2,    245.6,2,    244.7,2,    54.80,2,    23.36,2,     1.60,2,   -999.0,9,   7.7082,2,    25.00
  29HE20130320,   A17,    34,  1,      5,2,20130405,0911,-30.8820, -39.7130, 4376,   3041.0,   2.7355,  34.9139,2,    252.0,2,    250.6,2,    33.20,2,    20.99,2,     1.35,2,   -999.0,9,   7.7331,2,    25.00
  29HE20130320,   A17,    34,  1,      6,2,20130405,0911,-30.8820, -39.7130, 4376,   3041.3,   2.7353,  34.9139,2,    251.1,2,   -999.0,9,  -999.00,9,  -999.00,9,  -999.00,9,   -999.0,9,-999.0000,9,  -999.00
  29HE20130320,   A17,    34,  1,      7,2,20130405,0911,-30.8820, -39.7130, 4376,   2531.3,   2.9999,  34.9187,2,    248.3,2,    246.9,2,    31.24,2,    21.05,2,     1.31,2,   -999.0,9,   7.7249,2,    25.00
  29HE20130320,   A17,    34,  1,      8,2,20130405,0911,-30.8820, -39.7130, 4376,   2279.1,   3.0836,  34.8953,2,    238.8,2,    237.9,2,    33.64,2,    22.55,2,     1.38,2,   -999.0,9,   7.7079,2,    25.00
  29HE20130320,   A17,    34,  1,      9,2,20130405,0911,-30.8820, -39.7130, 4376,   2025.0,   2.9681,  34.8181,2,    220.2,2,    219.3,2,    44.69,2,    25.64,2,     1.66,2,   -999.0,9,   7.6739,2,    25.00
  29HE20130320,   A17,    34,  1,     10,2,20130405,0911,-30.8820, -39.7130, 4376,   1820.6,   2.9751,  34.7579,2,    205.3,2,    204.8,2,    51.22,2,    27.77,2,     1.84,2,   -999.0,9,   7.6435,2,    25.00
  29HE20130320,   A17,    34,  1,     11,2,20130405,0911,-30.8820, -39.7130, 4376,   1613.4,   2.8986,  34.6460,2,    190.3,2,    190.8,2,    58.12,2,    31.16,2,     2.09,2,   -999.0,9,   7.6079,2,    25.00
  29HE20130320,   A17,    34,  1,     12,2,20130405,0911,-30.8820, -39.7130, 4376,   1414.9,   2.9867,  34.5121,2,    187.9,2,    187.5,2,    55.19,2,    32.75,2,     2.23,2,   -999.0,9,   7.5891,2,    25.00
  29HE20130320,   A17,    34,  1,     13,2,20130405,0911,-30.8820, -39.7130, 4376,   1212.5,   3.2990,  34.3947,2,    196.6,2,    196.5,2,    45.44,2,    32.90,2,     2.14,2,   -999.0,9,   7.5910,2,    25.00
  29HE20130320,   A17,    34,  1,     14,2,20130405,0911,-30.8820, -39.7130, 4376,   1010.6,   3.8673,  34.2905,2,    218.6,2,   -999.0,9,  -999.00,9,  -999.00,9,  -999.00,9,   -999.0,9,-999.0000,9,  -999.00
  29HE20130320,   A17,    34,  1,     15,2,20130405,0911,-30.8820, -39.7130, 4376,   1008.9,   3.8617,  34.2900,2,    218.7,2,    218.8,2,    30.69,2,    30.86,2,     1.97,2,   -999.0,9,   7.6268,2,    25.00
  29HE20130320,   A17,    34,  1,     16,2,20130405,0911,-30.8820, -39.7130, 4376,    805.1,   5.4011,  34.3190,2,    224.1,2,    224.4,2,    17.94,2,    27.66,2,     1.63,2,   -999.0,9,   7.6584,2,    25.00
  29HE20130320,   A17,    34,  1,     17,2,20130405,0911,-30.8820, -39.7130, 4376,    606.2,   8.9959,  34.6770,2,    207.1,2,    207.4,2,     8.82,2,    19.81,2,     1.01,3,   -999.0,9,   7.7282,2,    25.00
  29HE20130320,   A17,    34,  1,     18,2,20130405,0911,-30.8820, -39.7130, 4376,    402.1,  12.9184,  35.2359,2,    214.3,2,    214.7,2,     3.52,2,     9.82,2,     0.45,2,   -999.0,9,   7.8376,2,    25.00
  29HE20130320,   A17,    34,  1,     19,2,20130405,0911,-30.8820, -39.7130, 4376,    300.7,  14.0753,  35.3768,2,    213.8,2,    215.0,2,     2.71,2,     7.14,2,     0.19,2,   -999.0,9,   7.8682,2,    25.00
  29HE20130320,   A17,    34,  1,     20,2,20130405,0911,-30.8820, -39.7130, 4376,    300.1,  14.0883,  35.3829,2,    213.0,2,   -999.0,9,  -999.00,9,  -999.00,9,  -999.00,9,   -999.0,9,-999.0000,9,  -999.00
  29HE20130320,   A17,    34,  1,     21,2,20130405,0911,-30.8820, -39.7130, 4376,    200.5,  15.4653,  35.5701,2,    213.0,2,    214.4,2,     2.06,2,     4.32,2,     0.03,2,   -999.0,9,   7.8927,2,    25.00
  29HE20130320,   A17,    34,  1,     22,2,20130405,0911,-30.8820, -39.7130, 4376,    110.3,  18.0885,  35.9258,2,    227.3,2,    228.0,2,     1.14,2,     0.02,2,    -0.07,2,   -999.0,9,   7.9552,2,    25.00
  29HE20130320,   A17,    34,  1,     23,2,20130405,0911,-30.8820, -39.7130, 4376,     49.5,  21.3770,  35.7074,2,    222.0,2,    222.6,2,     0.83,2,    -0.06,2,    -0.10,2,   -999.0,9,   8.0167,2,    25.00
  29HE20130320,   A17,    34,  1,     24,2,20130405,0911,-30.8820, -39.7130, 4376,     12.6,  21.3692,  35.7081,2,    221.7,2,    222.4,2,     0.84,2,    -0.09,2,    -0.10,2,   -999.0,9,   8.0161,2,    25.00
  29HE20130320,   A17,    35,  1,      1,2,20130406,0507,-30.3200, -39.1930, 4178,   4231.1,   0.9345,  34.7321,2,    224.5,2,    224.7,2,   107.05,2,    30.38,2,     2.06,2,   2360.8,2,   7.6410,2,    25.00
  29HE20130320,   A17,    35,  1,      2,2,20130406,0507,-30.3200, -39.1930, 4178,   4065.1,   1.3977,  34.7820,2,    232.9,2,    232.8,2,    87.90,2,    27.57,2,     1.83,2,   2352.8,2,   7.6707,2,    25.00
  29HE20130320,   A17,    35,  1,      3,2,20130406,0507,-30.3200, -39.1930, 4178,   3553.8,   2.2040,  34.8690,2,    247.8,2,    247.4,2,    50.65,2,    22.97,2,     1.44,2,   2334.8,2,   7.7180,2,    25.00
  29HE20130320,   A17,    35,  1,      4,2,20130406,0507,-30.3200, -39.1930, 4178,   3043.2,   2.7397,  34.9153,2,    252.0,2,    251.2,2,    33.19,2,    20.89,2,     1.29,2,   2328.0,2,   7.7321,2,    25.00
  29HE20130320,   A17,    35,  1,      5,2,20130406,0507,-30.3200, -39.1930, 4178,   2789.5,   2.8472,  34.9171,2,    250.0,2,    249.5,2,    32.00,2,    20.89,2,     1.30,2,   2325.5,2,   7.7324,2,    25.00
  29HE20130320,   A17,    35,  1,      6,2,20130406,0507,-30.3200, -39.1930, 4178,   2534.5,   2.9470,  34.9110,2,    246.0,2,   -999.0,9,    31.58,2,    21.43,2,     1.34,2,   -999.0,9,   7.7259,2,    25.00
  29HE20130320,   A17,    35,  1,      7,2,20130406,0507,-30.3200, -39.1930, 4178,   2533.7,   2.9474,  34.9110,2,    246.3,2,    245.9,2,    32.08,2,    21.36,2,     1.36,2,   2326.1,2,   7.7124,2,    25.00
  29HE20130320,   A17,    35,  1,      8,2,20130406,0507,-30.3200, -39.1930, 4178,   2277.5,   3.0314,  34.8966,2,    239.7,2,    239.4,2,    34.02,2,    22.29,2,     1.40,2,   2323.9,2,   7.6885,2,    25.00
  29HE20130320,   A17,    35,  1,      9,2,20130406,0507,-30.3200, -39.1930, 4178,   2023.0,   3.0807,  34.8560,2,    226.5,2,    226.2,2,    39.68,2,    24.34,2,     1.55,2,   2325.3,2,   7.6907,2,    25.00
  29HE20130320,   A17,    35,  1,     10,2,20130406,0507,-30.3200, -39.1930, 4178,   1820.2,   2.9978,  34.7789,2,    209.0,2,    209.1,2,    49.45,2,    27.13,2,     1.80,2,   2327.6,2,   7.6550,2,    25.00
  29HE20130320,   A17,    35,  1,     11,2,20130406,0507,-30.3200, -39.1930, 4178,   1618.3,   2.8922,  34.6708,2,    194.0,2,    194.6,2,    55.72,2,    30.55,2,     2.08,2,   2327.4,2,   7.6190,2,    25.00
  29HE20130320,   A17,    35,  1,     12,2,20130406,0507,-30.3200, -39.1930, 4178,   1414.1,   2.9141,  34.5455,2,    185.8,2,    186.2,2,    57.50,2,    32.75,2,     2.27,2,   2322.4,2,   7.5930,2,    25.00
  29HE20130320,   A17,    35,  1,     13,2,20130406,0507,-30.3200, -39.1930, 4178,   1210.6,   3.1541,  34.4076,2,    195.3,2,    196.1,2,    47.58,2,    33.43,2,     2.25,2,   2310.3,2,   7.5953,2,    25.00
  29HE20130320,   A17,    35,  1,     14,2,20130406,0507,-30.3200, -39.1930, 4178,   1012.8,   3.8570,  34.3146,2,    211.2,2,    211.3,2,    32.40,2,    31.51,2,     2.13,2,   2295.9,2,   7.6185,2,    25.00
  29HE20130320,   A17,    35,  1,     15,2,20130406,0507,-30.3200, -39.1930, 4178,    808.4,   5.0975,  34.2871,2,    229.6,2,    230.7,2,    17.65,2,    27.74,2,     1.83,2,   2285.7,2,   7.6623,2,    25.00
  29HE20130320,   A17,    35,  1,     16,2,20130406,0507,-30.3200, -39.1930, 4178,    705.3,   6.5520,  34.4061,2,    218.7,2,    219.0,2,    13.26,2,    25.02,2,     1.59,2,   2283.9,2,   7.6803,2,    25.00
  29HE20130320,   A17,    35,  1,     17,2,20130406,0507,-30.3200, -39.1930, 4178,    606.6,   8.3736,  34.6034,2,    207.8,2,    209.8,2,     9.75,2,    21.48,2,     1.35,2,   2293.3,2,   7.7131,2,    25.00
  29HE20130320,   A17,    35,  1,     18,2,20130406,0507,-30.3200, -39.1930, 4178,    503.0,  10.5183,  34.8728,2,    207.1,2,    207.8,2,     6.15,2,    15.98,2,     0.95,2,   2302.3,2,   7.7697,2,    25.00
  29HE20130320,   A17,    35,  1,     19,2,20130406,0507,-30.3200, -39.1930, 4178,    405.3,  12.5635,  35.1795,2,    211.5,2,    212.8,2,     3.79,2,    11.09,2,     0.72,2,   2318.6,2,   7.8315,2,    25.00
  29HE20130320,   A17,    35,  1,     20,2,20130406,0507,-30.3200, -39.1930, 4178,    301.6,  14.0521,  35.3966,2,    213.5,2,    214.7,2,     2.77,2,     7.55,2,     0.43,2,   2326.6,2,   7.8694,2,    25.00
  29HE20130320,   A17,    36,  1,      1,2,20130406,1621,-29.7070, -38.6690, 4294,   4352.3,   0.8906,  34.7268,2,    224.3,2,    224.6,2,   108.01,2,    30.63,2,     2.04,2,   -999.0,9,   7.6330,2,    25.00
  29HE20130320,   A17,    36,  1,      2,2,20130406,1621,-29.7070, -38.6690, 4294,   4064.1,   1.4265,  34.7846,2,    233.4,2,    233.9,2,    85.82,2,    27.45,2,     1.80,2,   -999.0,9,   7.6677,2,    25.00
  29HE20130320,   A17,    36,  1,      3,2,20130406,1621,-29.7070, -38.6690, 4294,   3553.3,   2.4274,  34.8886,2,    250.7,2,    250.0,2,    42.74,2,    22.07,2,     1.32,2,   -999.0,9,   7.7222,2,    25.00
  29HE20130320,   A17,    36,  1,      4,2,20130406,1621,-29.7070, -38.6690, 4294,   3043.0,   2.8103,  34.9189,2,    252.1,2,    251.7,2,    31.97,2,    20.72,2,     1.25,2,   -999.0,9,   7.7280,2,    25.00
  29HE20130320,   A17,    36,  1,      5,2,20130406,1621,-29.7070, -38.6690, 4294,   2786.9,   2.9276,  34.9244,2,    251.3,2,    251.3,2,    31.05,2,    20.48,2,     1.25,2,   -999.0,9,   7.7296,2,    25.00
  29HE20130320,   A17,    36,  1,      6,2,20130406,1621,-29.7070, -38.6690, 4294,   2532.6,   3.0506,  34.9242,2,    249.4,2,    249.0,2,    29.88,2,    20.53,2,     1.26,2,   -999.0,9,   7.7235,2,    25.00
  29HE20130320,   A17,    36,  1,      7,2,20130406,1621,-29.7070, -38.6690, 4294,   2278.7,   3.1308,  34.9091,2,    243.4,2,    243.0,2,    31.31,2,    21.63,2,     1.31,2,   -999.0,9,   7.7145,2,    25.00
  29HE20130320,   A17,    36,  1,      8,2,20130406,1621,-29.7070, -38.6690, 4294,   2024.5,   3.0442,  34.8513,2,    228.4,2,    228.2,2,    38.81,2,    24.23,2,     1.55,2,   -999.0,9,   7.6891,2,    25.00
  29HE20130320,   A17,    36,  1,      9,2,20130406,1621,-29.7070, -38.6690, 4294,   1819.4,   3.2425,  34.8242,2,    218.7,2,    219.6,2,    39.29,2,    25.14,2,     1.64,2,   -999.0,9,   7.6686,2,    25.00
  29HE20130320,   A17,    36,  1,     10,2,20130406,1621,-29.7070, -38.6690, 4294,   1617.9,   3.0730,  34.7114,2,    199.9,2,    200.3,2,    49.83,2,    29.09,2,     1.93,2,   -999.0,9,   7.6308,2,    25.00
  29HE20130320,   A17,    36,  1,     11,2,20130406,1621,-29.7070, -38.6690, 4294,   1415.0,   2.9468,  34.5660,2,    188.4,2,    189.0,2,    56.34,2,    32.31,2,     2.16,2,   -999.0,9,   7.5963,2,    25.00
  29HE20130320,   A17,    36,  1,     12,2,20130406,1621,-29.7070, -38.6690, 4294,   1213.2,   3.2799,  34.4440,2,    191.0,2,    192.0,2,    48.27,2,    32.56,2,     2.23,2,   -999.0,9,   7.5900,2,    25.00
  29HE20130320,   A17,    36,  1,     13,2,20130406,1621,-29.7070, -38.6690, 4294,   1010.8,   3.7958,  34.3085,2,    214.9,2,    216.5,2,    32.43,2,    31.52,2,     2.06,2,   -999.0,9,   7.6197,2,    25.00
  29HE20130320,   A17,    36,  1,     14,2,20130406,1621,-29.7070, -38.6690, 4294,    908.6,   4.1870,  34.2545,2,    230.9,2,    230.9,2,    24.38,2,    29.42,2,     1.95,2,   -999.0,9,   7.6406,2,    25.00
  29HE20130320,   A17,    36,  1,     15,2,20130406,1621,-29.7070, -38.6690, 4294,    806.8,   5.1577,  34.3001,2,    225.8,2,    227.2,2,    18.73,2,    27.61,2,     1.77,2,   -999.0,9,   7.6537,2,    25.00
  29HE20130320,   A17,    36,  1,     16,2,20130406,1621,-29.7070, -38.6690, 4294,    706.6,   6.5194,  34.4102,2,    216.6,2,    217.5,2,    14.10,2,    25.39,2,     1.57,2,   -999.0,9,   7.6739,2,    25.00
  29HE20130320,   A17,    36,  1,     17,2,20130406,1621,-29.7070, -38.6690, 4294,    607.1,   8.3530,  34.6037,2,    206.2,2,    207.5,2,    10.59,2,    21.65,2,     1.30,2,   -999.0,9,   7.7051,2,    25.00
  29HE20130320,   A17,    36,  1,     18,2,20130406,1621,-29.7070, -38.6690, 4294,    504.8,  10.4357,  34.8602,2,    207.0,2,    208.0,2,     6.75,2,    16.43,2,     0.90,2,   -999.0,9,   7.7550,2,    25.00
  29HE20130320,   A17,    36,  1,     19,2,20130406,1621,-29.7070, -38.6690, 4294,    403.9,  12.1923,  35.1083,2,    212.4,2,    211.2,2,     4.34,2,    11.50,2,     0.72,2,   -999.0,9,   7.8152,2,    25.00
  29HE20130320,   A17,    36,  1,     20,2,20130406,1621,-29.7070, -38.6690, 4294,    303.0,  13.7263,  35.3216,2,    213.7,2,    214.1,2,     3.03,2,     7.92,2,     0.38,2,   -999.0,9,   7.8598,2,    25.00
  29HE20130320,   A17,    36,  1,     21,2,20130406,1621,-29.7070, -38.6690, 4294,    203.1,  15.5066,  35.6232,2,    214.0,2,    214.8,2,     2.02,2,     4.50,2,     0.15,2,   -999.0,9,   7.9093,2,    25.00
  29HE20130320,   A17,    36,  1,     22,2,20130406,1621,-29.7070, -38.6690, 4294,    100.7,  18.3419,  35.9516,2,    229.1,2,    230.0,2,     1.16,2,     0.07,2,    -0.01,2,   -999.0,9,   7.9796,2,    25.00
  29HE20130320,   A17,    36,  1,     23,2,20130406,1621,-29.7070, -38.6690, 4294,     51.1,  22.2417,  35.8220,2,    219.1,2,    221.5,2,     0.94,2,     0.04,2,    -0.04,2,   -999.0,9,   8.0234,2,    25.00
  29HE20130320,   A17,    36,  1,     24,2,20130406,1621,-29.7070, -38.6690, 4294,     10.9,  22.4895,  35.8094,2,    217.8,2,    219.0,2,     0.91,2,     0.00,2,    -0.04,2,   -999.0,9,   8.0241,2,    25.00