BOTTLE,20230216CCHSIOENA
EXPOCODE,SECT_ID,STNNBR,CASTNO,BTLNBR,BTLNBR_FLAG_W,DATE,TIME,LATITUDE,LONGITUDE,DEPTH,CTDPRS,CTDTMP,CTDSAL,CTDSAL_FLAG_W,CTDOXY,CTDOXY_FLAG_W,OXYGEN,OXYGEN_FLAG_W,SILCAT,SILCAT_FLAG_W,NITRAT,NITRAT_FLAG_W,PHSPHT,PHSPHT_FLAG_W,ALKALI,ALKALI_FLAG_W,PH_TOT,PH_TOT_FLAG_W,PH_TMP
,,,,,,,,,,METERS,DBAR,ITS-90,PSS-78,,UMOL/KG,,UMOL/KG,,UMOL/KG,,UMOL/KG,,UMOL/KG,,UMOL/KG,,,,DEG C
  29HE20130320,   A17,    97,  1,      1,2,20130513,0702, 33.9640, -26.7960, 3614,   3653.1,   2.5511,  34.9124,2,    246.1,2,    246.5,2,    39.75,2,    22.13,2,     1.44,2,   2349.9,2,-999.0000,9,  -999.00
  29HE20130320,   A17,    97,  1,      2,2,20130513,0702, 33.9640, -26.7960, 3614,   3556.4,   2.6217,  34.9190,2,    246.9,2,    246.9,2,    37.58,2,    21.84,2,     1.41,2,   2342.1,2,   7.7325,2,    25.00
  29HE20130320,   A17,    97,  1,      3,2,20130513,0702, 33.9640, -26.7960, 3614,   3045.0,   2.7601,  34.9313,2,    251.9,2,   -999.0,9,  -999.00,9,  -999.00,9,  -999.00,9,   -999.0,9,-999.0000,9,  -999.00
  29HE20130320,   A17,    97,  1,      4,2,20130513,0702, 33.9640, -26.7960, 3614,   3044.2,   2.7594,  34.9312,2,    251.9,2,    251.6,2,    32.10,2,    20.66,2,     1.33,2,   -999.0,9,   7.7312,2,    25.00
  29HE20130320,   A17,    97,  1,      5,2,20130513,0702, 33.9640, -26.7960, 3614,   2536.0,   3.0272,  34.9423,2,    260.4,2,    259.5,2,    23.30,2,    19.19,2,     1.24,2,   2322.5,2,   7.7370,2,    25.00
  29HE20130320,   A17,    97,  1,      6,2,20130513,0702, 33.9640, -26.7960, 3614,   2279.5,   3.2515,  34.9528,2,    263.4,2,    262.4,2,    19.50,2,    18.73,2,     1.18,2,   2317.8,2,   7.7361,2,    25.00
  29HE20130320,   A17,    97,  1,      7,2,20130513,0702, 33.9640, -26.7960, 3614,   2024.9,   3.6060,  34.9791,2,    264.1,2,    263.1,2,    16.09,2,    18.35,2,     1.16,2,   2313.3,2,   7.7372,2,    25.00
  29HE20130320,   A17,    97,  1,      8,2,20130513,0702, 33.9640, -26.7960, 3614,   2024.6,   3.6065,  34.9792,2,    263.4,2,   -999.0,9,    16.13,2,    18.40,2,     1.18,2,   -999.0,9,-999.0000,9,  -999.00
  29HE20130320,   A17,    97,  1,      9,2,20130513,0702, 33.9640, -26.7960, 3614,   1820.4,   4.0571,  35.0257,2,    260.2,2,    259.4,2,    14.06,2,    18.33,2,     1.17,2,   2313.3,2,   7.7351,2,    25.00
  29HE20130320,   A17,    97,  1,     10,2,20130513,0702, 33.9640, -26.7960, 3614,   1619.0,   4.6814,  35.1017,2,    251.3,2,    249.9,2,    12.93,2,    18.07,2,     1.16,2,   2317.1,2,   7.7360,2,    25.00
  29HE20130320,   A17,    97,  1,     11,2,20130513,0702, 33.9640, -26.7960, 3614,   1415.6,   5.8853,  35.2757,2,    231.9,2,    231.1,2,    12.50,2,    18.36,2,     1.15,2,   2327.6,2,   7.7411,2,    25.00
  29HE20130320,   A17,    97,  1,     12,2,20130513,0702, 33.9640, -26.7960, 3614,   1213.1,   7.4207,  35.5078,2,    208.1,2,    207.3,2,    12.58,2,    18.47,2,     1.15,2,   2343.9,2,   7.7517,2,    25.00
  29HE20130320,   A17,    97,  1,     13,2,20130513,0702, 33.9640, -26.7960, 3614,   1011.7,   8.5792,  35.6020,2,    190.3,2,    189.8,2,    11.91,2,    19.00,2,     1.15,2,   2350.5,2,   7.7512,2,    25.00
  29HE20130320,   A17,    97,  1,     14,2,20130513,0702, 33.9640, -26.7960, 3614,   1011.5,   8.5752,  35.6005,2,    189.5,2,   -999.0,9,    11.87,2,    18.88,2,     1.13,2,   -999.0,9,-999.0000,9,  -999.00
  29HE20130320,   A17,    97,  1,     15,2,20130513,0702, 33.9640, -26.7960, 3614,    809.0,   9.1165,  35.4927,2,    181.5,2,    181.4,2,    11.14,2,    19.47,2,     1.15,2,   2338.0,2,   7.7416,2,    25.00
  29HE20130320,   A17,    97,  1,     16,2,20130513,0702, 33.9640, -26.7960, 3614,    605.5,  10.6669,  35.4775,2,    177.7,2,    177.3,2,     8.60,2,    17.82,2,     1.00,2,   2330.5,2,   7.7582,2,    25.00
  29HE20130320,   A17,    97,  1,     17,2,20130513,0702, 33.9640, -26.7960, 3614,    401.9,  13.1418,  35.7647,2,    198.1,2,    198.6,2,     4.63,2,    11.86,2,     0.60,2,   2347.3,2,   7.8352,2,    25.00
  29HE20130320,   A17,    97,  1,     18,2,20130513,0702, 33.9640, -26.7960, 3614,    303.2,  14.4509,  35.9478,2,    202.1,2,   -999.0,9,     3.41,2,     9.28,2,     0.38,2,   -999.0,9,-999.0000,9,  -999.00
  29HE20130320,   A17,    97,  1,     19,2,20130513,0702, 33.9640, -26.7960, 3614,    303.8,  14.4577,  35.9489,2,    201.8,2,    202.4,2,     3.39,2,     9.30,2,     0.30,2,   2356.3,2,   7.8742,2,    25.00
  29HE20130320,   A17,    97,  1,     20,2,20130513,0702, 33.9640, -26.7960, 3614,    202.6,  15.9962,  36.1773,2,    201.1,2,    201.3,2,     2.42,2,     6.62,2,     0.05,2,   2368.5,2,   7.9105,2,    25.00
  29HE20130320,   A17,    97,  1,     21,2,20130513,0702, 33.9640, -26.7960, 3614,    100.5,  18.3090,  36.4688,2,    230.5,2,    231.8,2,     0.63,2,    -0.07,2,    -0.02,2,   2386.0,2,   7.9898,2,    25.00
  29HE20130320,   A17,    97,  1,     22,2,20130513,0702, 33.9640, -26.7960, 3614,    100.8,  18.3099,  36.4694,2,    229.9,2,   -999.0,9,     0.57,2,    -0.02,2,    -0.01,2,   -999.0,9,-999.0000,9,  -999.00
  29HE20130320,   A17,    97,  1,     23,2,20130513,0702, 33.9640, -26.7960, 3614,      5.9,  19.0474,  36.3603,2,    232.0,2,    233.1,2,     0.43,2,    -0.09,2,    -0.02,2,   2380.5,2,   7.9945,2,    25.00
  29HE20130320,   A17,    97,  1,     24,2,20130513,0702, 33.9640, -26.7960, 3614,      5.9,  19.0453,  36.3602,2,    241.3,2,   -999.0,9,     0.47,2,    -0.06,2,    -0.01,2,   -999.0,9,   7.9945,2,    25.00
  29HE20130320,   A17,    99,  1,      1,2,20130514,1111, 35.8830, -24.0120, 4398,   4437.7,   2.4754,  34.8978,2,    244.7,2,    244.6,2,    43.97,2,    22.04,2,     1.42,2,   2349.7,2,   7.7377,2,    25.00
  29HE20130320,   A17,    99,  1,      2,2,20130514,1111, 35.8830, -24.0120, 4398,   4067.8,   2.5008,  34.9043,2,    245.2,2,    245.2,2,    41.95,2,    21.81,2,     1.41,2,   2351.2,2,   7.7363,2,    25.00
  29HE20130320,   A17,    99,  1,      3,2,20130514,1111, 35.8830, -24.0120, 4398,   3556.2,   2.6162,  34.9193,2,    246.4,2,    246.0,2,    37.85,2,    21.24,2,     1.35,2,   2346.3,2,   7.7348,2,    25.00
  29HE20130320,   A17,    99,  1,      4,2,20130514,1111, 35.8830, -24.0120, 4398,   3042.9,   2.7665,  34.9346,2,    250.5,2,   -999.0,9,    31.76,2,    20.58,2,     1.30,2,   -999.0,9,-999.0000,9,  -999.00
  29HE20130320,   A17,    99,  1,      5,2,20130514,1111, 35.8830, -24.0120, 4398,   3042.7,   2.7664,  34.9346,2,    250.7,2,    250.2,2,    31.80,2,    20.39,2,     1.29,2,   2336.3,2,   7.7318,2,    25.00
  29HE20130320,   A17,    99,  1,      6,2,20130514,1111, 35.8830, -24.0120, 4398,   2534.2,   3.0797,  34.9444,2,    261.3,2,    261.0,2,    21.72,2,    18.71,2,     1.16,2,   2320.8,2,   7.7323,2,    25.00
  29HE20130320,   A17,    99,  1,      7,2,20130514,1111, 35.8830, -24.0120, 4398,   2278.0,   3.3367,  34.9640,2,    261.9,2,    261.5,2,    19.03,2,    18.57,2,     1.14,2,   2316.8,2,   7.7336,2,    25.00
  29HE20130320,   A17,    99,  1,      8,2,20130514,1111, 35.8830, -24.0120, 4398,   2021.6,   3.7822,  35.0042,2,    261.0,2,   -999.0,9,    15.60,2,    18.19,2,     1.12,2,   -999.0,9,-999.0000,9,  -999.00
  29HE20130320,   A17,    99,  1,      9,2,20130514,1111, 35.8830, -24.0120, 4398,   2021.4,   3.7826,  35.0043,2,    260.8,2,    260.4,2,    15.89,2,    18.25,2,     1.12,2,   2314.6,2,   7.7343,2,    25.00
  29HE20130320,   A17,    99,  1,     10,2,20130514,1111, 35.8830, -24.0120, 4398,   1819.3,   4.1802,  35.0443,2,    257.8,2,    257.1,2,    14.32,2,    18.01,2,     1.10,2,   2314.2,2,   7.7326,2,    25.00
  29HE20130320,   A17,    99,  1,     11,2,20130514,1111, 35.8830, -24.0120, 4398,   1619.3,   4.7206,  35.1125,2,    250.2,2,    249.7,2,    13.31,2,    17.94,2,     1.10,2,   2319.7,2,   7.7325,2,    25.00
  29HE20130320,   A17,    99,  1,     12,2,20130514,1111, 35.8830, -24.0120, 4398,   1415.4,   5.8335,  35.2708,2,    233.9,2,    233.3,2,    12.45,2,    18.05,2,     1.07,2,   2330.2,2,   7.7364,2,    25.00
  29HE20130320,   A17,    99,  1,     13,2,20130514,1111, 35.8830, -24.0120, 4398,   1109.9,   8.2031,  35.5832,2,    199.0,2,   -999.0,9,  -999.00,9,  -999.00,9,  -999.00,9,   -999.0,9,-999.0000,9,  -999.00
  29HE20130320,   A17,    99,  1,     14,2,20130514,1111, 35.8830, -24.0120, 4398,    909.7,   9.6979,  35.7173,2,    183.0,2,   -999.0,9,    10.57,2,    17.97,2,     1.05,2,   -999.0,9,-999.0000,9,  -999.00
  29HE20130320,   A17,    99,  1,     15,2,20130514,1111, 35.8830, -24.0120, 4398,    910.3,   9.6976,  35.7177,2,    182.8,2,    182.6,2,    10.60,2,    17.95,2,     1.03,2,   2355.5,2,   7.7574,2,    25.00
  29HE20130320,   A17,    99,  1,     16,2,20130514,1111, 35.8830, -24.0120, 4398,    709.6,  10.4394,  35.6108,2,    179.9,2,    179.9,2,     9.18,2,    17.53,2,     1.00,2,   2344.6,2,   7.7567,2,    25.00
  29HE20130320,   A17,    99,  1,     17,2,20130514,1111, 35.8830, -24.0120, 4398,    609.7,  11.0318,  35.5865,2,    187.0,2,    186.6,2,     7.44,2,    16.04,2,     0.88,2,   2338.1,2,   7.7694,2,    25.00
  29HE20130320,   A17,    99,  1,     18,2,20130514,1111, 35.8830, -24.0120, 4398,    405.1,  12.2944,  35.6908,2,    216.5,2,    215.8,2,     3.99,2,    11.24,2,     0.55,2,   2341.3,2,   7.8243,2,    25.00
  29HE20130320,   A17,    99,  1,     19,2,20130514,1111, 35.8830, -24.0120, 4398,    302.2,  12.9336,  35.7740,2,    210.8,2,    210.6,2,     3.74,2,    10.42,2,     0.49,2,   2345.8,2,   7.8371,2,    25.00
  29HE20130320,   A17,    99,  1,     20,2,20130514,1111, 35.8830, -24.0120, 4398,    302.5,  12.9371,  35.7745,2,    210.3,2,   -999.0,9,     3.71,2,    10.55,2,     0.50,2,   -999.0,9,-999.0000,9,  -999.00
  29HE20130320,   A17,    99,  1,     21,2,20130514,1111, 35.8830, -24.0120, 4398,    201.8,  13.9815,  35.9222,2,    211.2,2,    211.5,2,     2.83,2,     8.25,2,     0.30,2,   2354.1,2,   7.8644,2,    25.00
  29HE20130320,   A17,    99,  1,     22,2,20130514,1111, 35.8830, -24.0120, 4398,    100.2,  15.7839,  36.1786,2,    229.5,2,    229.5,2,     1.27,2,     2.70,2,     0.01,2,   2369.8,2,   7.9305,2,    25.00
  29HE20130320,   A17,    99,  1,     23,2,20130514,1111, 35.8830, -24.0120, 4398,     65.6,  16.2279,  36.1889,2,    242.8,2,    241.5,2,     0.29,2,     0.18,2,    -0.01,2,   2372.3,2,   7.9572,2,    25.00
  29HE20130320,   A17,    99,  1,     24,2,20130514,1111, 35.8830, -24.0120, 4398,      7.0,  17.2653,  36.1654,2,    241.6,2,    241.7,2,     0.16,2,    -0.12,2,    -0.02,2,   2370.0,2,   7.9725,2,    25.00
  29HE20130320,   A17,   100,  1,      1,2,20130515,0016, 36.1670, -22.5040, 4921,   5007.2,   2.4820,  34.8918,2,    243.9,2,    243.5,2,    45.80,2,    22.33,2,     1.44,2,   2348.7,2,   7.7383,2,    25.00
  29HE20130320,   A17,   100,  1,      2,2,20130515,0016, 36.1670, -22.5040, 4921,   4067.4,   2.5147,  34.9058,2,    244.7,2,    244.0,2,    41.81,2,    22.11,2,     1.42,2,   2344.5,2,   7.7366,2,    25.00
  29HE20130320,   A17,   100,  1,      3,2,20130515,0016, 36.1670, -22.5040, 4921,   3557.9,   2.6206,  34.9207,2,    245.4,2,    246.3,2,    38.13,2,    21.25,2,     1.35,2,   2342.9,2,   7.7376,2,    25.00
  29HE20130320,   A17,   100,  1,      4,2,20130515,0016, 36.1670, -22.5040, 4921,   3038.4,   2.8288,  34.9403,2,    250.6,2,   -999.0,9,    31.42,2,    20.28,2,     1.29,2,   -999.0,9,-999.0000,9,  -999.00
  29HE20130320,   A17,   100,  1,      5,2,20130515,0016, 36.1670, -22.5040, 4921,   3040.0,   2.8289,  34.9403,2,    250.2,2,    250.8,2,    31.39,2,    20.13,2,     1.28,2,   2332.2,2,   7.7380,2,    25.00
  29HE20130320,   A17,   100,  1,      6,2,20130515,0016, 36.1670, -22.5040, 4921,   2534.5,   3.3812,  34.9941,2,    251.7,2,    251.5,2,    23.63,2,    19.40,2,     1.22,2,   2326.2,2,   7.7428,2,    25.00
  29HE20130320,   A17,   100,  1,      7,2,20130515,0016, 36.1670, -22.5040, 4921,   2280.0,   3.6474,  35.0091,2,    255.4,2,    255.8,2,    18.96,2,    18.62,2,     1.19,2,   2322.7,2,   7.7403,2,    25.00
  29HE20130320,   A17,   100,  1,      8,2,20130515,0016, 36.1670, -22.5040, 4921,   2028.0,   4.1045,  35.0558,2,    254.5,2,   -999.0,9,    15.68,2,    18.30,2,     1.14,2,   -999.0,9,-999.0000,9,  -999.00
  29HE20130320,   A17,   100,  1,      9,2,20130515,0016, 36.1670, -22.5040, 4921,   2028.3,   4.1037,  35.0556,2,    254.5,2,    253.7,2,    15.62,2,    18.26,2,     1.13,2,   2319.2,2,   7.7408,2,    25.00
  29HE20130320,   A17,   100,  1,     10,2,20130515,0016, 36.1670, -22.5040, 4921,   1822.9,   4.8512,  35.1711,2,    244.9,2,    243.9,2,    14.74,2,    18.36,2,     1.10,2,   2326.7,2,   7.7426,2,    25.00
  29HE20130320,   A17,   100,  1,     11,2,20130515,0016, 36.1670, -22.5040, 4921,   1619.5,   5.8022,  35.3144,2,    232.8,2,    231.9,2,    13.33,2,    18.01,2,     1.12,2,   -999.0,9,   7.7471,2,    25.00
  29HE20130320,   A17,   100,  1,     12,2,20130515,0016, 36.1670, -22.5040, 4921,   1418.8,   7.4977,  35.5845,2,    212.3,2,    211.4,2,    12.08,2,    17.57,2,     1.06,2,   2351.4,2,   7.7585,2,    25.00
  29HE20130320,   A17,   100,  1,     13,2,20130515,0016, 36.1670, -22.5040, 4921,   1212.0,   9.4613,  35.8875,2,    189.6,2,    189.1,2,    10.88,2,    17.22,2,     1.00,2,   2370.2,2,   7.7737,2,    25.00
  29HE20130320,   A17,   100,  1,     14,2,20130515,0016, 36.1670, -22.5040, 4921,   1010.7,  10.6275,  36.0028,2,    179.2,2,   -999.0,9,     9.90,2,    16.63,2,     0.97,2,   -999.0,9,-999.0000,9,  -999.00
  29HE20130320,   A17,   100,  1,     15,2,20130515,0016, 36.1670, -22.5040, 4921,   1010.7,  10.6265,  36.0026,2,    179.1,2,    178.4,2,     9.75,2,    16.81,2,     0.97,2,   2378.2,2,   7.7816,2,    25.00
  29HE20130320,   A17,   100,  1,     16,2,20130515,0016, 36.1670, -22.5040, 4921,    808.3,  10.8458,  35.8283,2,    177.5,2,    176.9,2,     9.13,2,    16.78,2,     0.95,2,   2361.0,2,   7.7741,2,    25.00
  29HE20130320,   A17,   100,  1,     17,2,20130515,0016, 36.1670, -22.5040, 4921,    605.7,  11.2603,  35.6154,2,    189.9,2,    189.0,2,     6.87,2,    15.71,2,     0.85,2,   -999.0,9,   7.7785,2,    25.00
  29HE20130320,   A17,   100,  1,     18,2,20130515,0016, 36.1670, -22.5040, 4921,    404.1,  12.4346,  35.7095,2,    208.5,2,    208.0,2,     4.20,2,    11.82,2,     0.57,2,   2342.9,2,   7.8235,2,    25.00
  29HE20130320,   A17,   100,  1,     19,2,20130515,0016, 36.1670, -22.5040, 4921,    302.6,  13.1845,  35.8078,2,    210.1,2,   -999.0,9,  -999.00,9,  -999.00,9,  -999.00,9,   -999.0,9,-999.0000,9,  -999.00
  29HE20130320,   A17,   100,  1,     20,2,20130515,0016, 36.1670, -22.5040, 4921,    302.3,  13.1851,  35.8080,2,    210.4,2,    210.6,2,     3.46,2,    10.16,2,     0.40,2,   2349.0,2,   7.8456,2,    25.00
  29HE20130320,   A17,   100,  1,     21,2,20130515,0016, 36.1670, -22.5040, 4921,    202.0,  14.2146,  35.9132,2,    217.4,2,    216.9,2,     2.53,2,     7.17,2,     0.14,2,   2353.6,2,-999.0000,9,  -999.00
  29HE20130320,   A17,   100,  1,     22,2,20130515,0016, 36.1670, -22.5040, 4921,    101.7,  15.3575,  36.0250,2,    237.5,2,    237.4,2,     0.97,2,     1.94,2,     0.00,2,   2360.3,2,   7.9368,2,    25.00
  29HE20130320,   A17,   100,  1,     23,2,20130515,0016, 36.1670, -22.5040, 4921,    102.9,  15.3415,  36.0254,2,    237.1,2,   -999.0,9,     0.96,2,     1.85,2,     0.00,2,   -999.0,9,-999.0000,9,  -999.00
  29HE20130320,   A17,   100,  1,     24,2,20130515,0016, 36.1670, -22.5040, 4921,      6.0,  16.3714,  36.1067,2,    246.2,2,    245.8,2,     0.16,2,    -0.09,2,    -0.02,2,   2369.1,2,   7.9653,2,    25.00