BOTTLE,20230216CCHSIOENA
EXPOCODE,SECT_ID,STNNBR,CASTNO,BTLNBR,BTLNBR_FLAG_W,DATE,TIME,LATITUDE,LONGITUDE,DEPTH,CTDPRS,CTDTMP,CTDSAL,CTDSAL_FLAG_W,CTDOXY,CTDOXY_FLAG_W,OXYGEN,OXYGEN_FLAG_W,SILCAT,SILCAT_FLAG_W,NITRAT,NITRAT_FLAG_W,PHSPHT,PHSPHT_FLAG_W,ALKALI,ALKALI_FLAG_W,PH_TOT,PH_TOT_FLAG_W,PH_TMP
,,,,,,,,,,METERS,DBAR,ITS-90,PSS-78,,UMOL/KG,,UMOL/KG,,UMOL/KG,,UMOL/KG,,UMOL/KG,,UMOL/KG,,,,DEG C
  29HE20130320,   A17,    12,  1,      1,2,20130327,1751,-44.1020, -51.2430, 5651,   5753.3,   0.3483,  34.6705,2,    223.0,2,    222.4,2,   127.15,2,    33.28,2,     2.28,2,   -999.0,9,   7.5960,2,    25.00
  29HE20130320,   A17,    12,  1,      2,2,20130327,1751,-44.1020, -51.2430, 5651,   5099.7,   0.3291,  34.6738,2,    222.9,2,    221.9,2,   126.95,2,    33.15,2,     2.24,2,   -999.0,9,   7.6037,2,    25.00
  29HE20130320,   A17,    12,  1,      3,2,20130327,1751,-44.1020, -51.2430, 5651,   4584.4,   0.4216,  34.6799,2,    220.1,2,    219.0,2,   125.49,2,    32.98,2,     2.21,2,   -999.0,9,   7.5997,2,    25.00
  29HE20130320,   A17,    12,  1,      4,2,20130327,1751,-44.1020, -51.2430, 5651,   4071.2,   0.8098,  34.7006,2,    213.2,2,    212.3,2,   115.91,2,    32.26,2,     2.16,2,   -999.0,9,   7.6064,2,    25.00
  29HE20130320,   A17,    12,  1,      5,2,20130327,1751,-44.1020, -51.2430, 5651,   3559.8,   1.3542,  34.7348,2,    207.5,2,    207.1,2,   104.54,2,    30.97,2,     2.08,2,   -999.0,9,   7.6188,2,    25.00
  29HE20130320,   A17,    12,  1,      6,2,20130327,1751,-44.1020, -51.2430, 5651,   3049.0,   2.1345,  34.8092,2,    217.9,2,    218.4,2,    72.12,2,    26.88,2,     1.77,2,   -999.0,9,   7.6743,2,    25.00
  29HE20130320,   A17,    12,  1,      7,2,20130327,1751,-44.1020, -51.2430, 5651,   2537.6,   2.6763,  34.8351,2,    218.8,2,    218.6,2,    56.49,2,    25.91,2,     1.67,2,   -999.0,9,   7.6705,2,    25.00
  29HE20130320,   A17,    12,  1,      8,2,20130327,1751,-44.1020, -51.2430, 5651,   2280.9,   3.0136,  34.8579,2,    223.2,2,    224.7,2,    45.26,2,    24.55,2,     1.62,2,   -999.0,9,   7.6689,2,    25.00
  29HE20130320,   A17,    12,  1,      9,2,20130327,1751,-44.1020, -51.2430, 5651,   2027.0,   3.0064,  34.8086,2,    208.5,2,   -999.0,9,  -999.00,9,  -999.00,9,  -999.00,9,   -999.0,9,-999.0000,9,  -999.00
  29HE20130320,   A17,    12,  1,     10,2,20130327,1751,-44.1020, -51.2430, 5651,   1823.0,   3.0687,  34.7713,2,    201.5,2,    201.0,2,    52.72,2,    28.29,2,     1.87,2,   -999.0,9,   7.6330,2,    25.00
  29HE20130320,   A17,    12,  1,     11,2,20130327,1751,-44.1020, -51.2430, 5651,   1621.6,   3.0383,  34.6921,2,    189.3,2,    188.4,2,    58.56,2,    30.76,2,     2.05,2,   -999.0,9,   7.6100,2,    25.00
  29HE20130320,   A17,    12,  1,     12,2,20130327,1751,-44.1020, -51.2430, 5651,   1418.3,   2.9327,  34.5907,2,    182.6,2,    182.3,2,    60.04,2,    32.63,2,     2.18,2,   -999.0,9,   7.5830,2,    25.00
  29HE20130320,   A17,    12,  1,     13,2,20130327,1751,-44.1020, -51.2430, 5651,   1213.1,   2.9568,  34.4870,2,    184.2,2,    184.0,2,    57.70,2,    33.65,2,     2.26,2,   -999.0,9,   7.5777,2,    25.00
  29HE20130320,   A17,    12,  1,     14,2,20130327,1751,-44.1020, -51.2430, 5651,   1011.6,   3.0716,  34.3912,2,    194.6,2,    194.3,2,    49.99,2,    33.57,2,     2.26,2,   -999.0,9,   7.5879,2,    25.00
  29HE20130320,   A17,    12,  1,     15,2,20130327,1751,-44.1020, -51.2430, 5651,    809.2,   3.1804,  34.2583,2,    223.0,2,    223.4,2,    35.41,2,    32.03,2,     2.15,2,   -999.0,9,   7.6160,2,    25.00
  29HE20130320,   A17,    12,  1,     16,2,20130327,1751,-44.1020, -51.2430, 5651,    708.0,   3.5969,  34.2394,2,    231.4,2,    232.1,2,    29.55,2,    30.71,2,     2.05,2,   -999.0,9,   7.6273,2,    25.00
  29HE20130320,   A17,    12,  1,     17,2,20130327,1751,-44.1020, -51.2430, 5651,    607.4,   3.5433,  34.1585,2,    256.0,2,    255.5,2,    21.98,2,    29.20,2,     1.93,2,   -999.0,9,   7.6498,2,    25.00
  29HE20130320,   A17,    12,  1,     18,2,20130327,1751,-44.1020, -51.2430, 5651,    504.2,   3.9812,  34.1573,2,    260.6,2,    260.8,2,    18.16,2,    27.89,2,     1.83,2,   -999.0,9,   7.6669,2,    25.00
  29HE20130320,   A17,    12,  1,     19,2,20130327,1751,-44.1020, -51.2430, 5651,    403.8,   4.2056,  34.1318,2,    273.7,2,    273.8,2,    13.59,2,    26.17,2,     1.72,2,   -999.0,9,   7.6825,2,    25.00
  29HE20130320,   A17,    12,  1,     20,2,20130327,1751,-44.1020, -51.2430, 5651,    302.8,   4.5340,  34.1257,2,    280.1,2,    280.1,2,    10.35,2,    24.99,2,     1.62,2,   -999.0,9,   7.6976,2,    25.00
  29HE20130320,   A17,    12,  1,     21,2,20130327,1751,-44.1020, -51.2430, 5651,    203.7,   6.3127,  34.2957,2,    254.0,2,    254.8,2,     7.48,2,    22.53,2,     1.44,2,   -999.0,9,   7.7314,2,    25.00
  29HE20130320,   A17,    12,  1,     22,2,20130327,1751,-44.1020, -51.2430, 5651,    102.4,   8.5647,  34.3388,2,    256.9,2,    256.4,2,     3.26,2,    16.78,2,     1.03,2,   -999.0,9,   7.7750,2,    25.00
  29HE20130320,   A17,    12,  1,     23,2,20130327,1751,-44.1020, -51.2430, 5651,     50.9,  13.5750,  34.6714,2,    259.3,2,    258.9,2,  -999.00,9,  -999.00,9,  -999.00,9,   -999.0,9,-999.0000,9,  -999.00
  29HE20130320,   A17,    12,  1,     24,2,20130327,1751,-44.1020, -51.2430, 5651,      5.4,  13.5334,  34.6201,2,    264.6,2,    264.5,2,  -999.00,9,  -999.00,9,  -999.00,9,   -999.0,9,-999.0000,9,  -999.00
  29HE20130320,   A17,    13,  1,      1,2,20130328,0259,-43.5060, -50.7160, 5389,   5473.2,   0.3125,  34.6704,2,    222.5,2,    221.6,2,   128.34,2,    32.87,2,     2.28,2,   2368.1,2,   7.6024,2,    25.00
  29HE20130320,   A17,    13,  1,      2,2,20130328,0259,-43.5060, -50.7160, 5389,   5097.7,   0.3034,  34.6721,2,    223.2,2,    222.7,2,   127.52,2,    32.81,2,     2.24,2,   2366.9,2,   7.6045,2,    25.00
  29HE20130320,   A17,    13,  1,      3,2,20130328,0259,-43.5060, -50.7160, 5389,   4585.3,   0.3689,  34.6773,2,    221.4,2,    220.2,2,   126.56,2,    32.71,2,     2.23,2,   2365.8,2,   7.6035,2,    25.00
  29HE20130320,   A17,    13,  1,      4,2,20130328,0259,-43.5060, -50.7160, 5389,   4071.2,   0.7267,  34.6959,2,    213.8,2,    213.8,2,   120.32,2,    32.35,2,     2.18,2,   2364.8,2,   7.6070,2,    25.00
  29HE20130320,   A17,    13,  1,      5,2,20130328,0259,-43.5060, -50.7160, 5389,   3558.8,   1.3326,  34.7343,2,    208.4,2,    207.6,2,   105.39,2,    30.84,2,     2.06,2,   2360.9,2,   7.6161,2,    25.00
  29HE20130320,   A17,    13,  1,      6,2,20130328,0259,-43.5060, -50.7160, 5389,   3047.3,   2.0939,  34.8051,2,    217.7,2,    217.5,2,    74.16,2,    27.12,2,     1.78,2,   2349.4,2,   7.6596,2,    25.00
  29HE20130320,   A17,    13,  1,      7,2,20130328,0259,-43.5060, -50.7160, 5389,   2535.2,   2.8846,  34.8811,2,    233.4,2,    233.2,2,    43.18,2,    23.13,2,     1.50,2,   2334.2,2,   7.6977,2,    25.00
  29HE20130320,   A17,    13,  1,      8,2,20130328,0259,-43.5060, -50.7160, 5389,   2281.6,   2.9447,  34.8441,2,    219.6,2,    218.9,2,    49.42,2,    25.17,2,     1.66,2,   2336.9,2,   7.6733,2,    25.00
  29HE20130320,   A17,    13,  1,      9,2,20130328,0259,-43.5060, -50.7160, 5389,   2026.5,   3.0697,  34.8159,2,    211.0,2,    211.0,2,    55.40,2,    25.24,2,     1.61,2,   2332.4,2,   7.6994,2,    25.00
  29HE20130320,   A17,    13,  1,     10,2,20130328,0259,-43.5060, -50.7160, 5389,   1823.1,   2.9761,  34.7430,2,    195.1,2,    194.6,2,    58.37,2,    29.13,2,     1.94,2,   2335.4,2,   7.6254,2,    25.00
  29HE20130320,   A17,    13,  1,     11,2,20130328,0259,-43.5060, -50.7160, 5389,   1619.8,   2.8601,  34.6526,2,    182.3,2,    182.1,2,    65.35,2,    31.75,2,     2.15,2,   2337.4,2,   7.5933,2,    25.00
  29HE20130320,   A17,    13,  1,     12,2,20130328,0259,-43.5060, -50.7160, 5389,   1417.8,   2.8770,  34.5685,2,    180.2,2,    179.9,2,    62.75,2,    32.98,2,     2.23,2,   2332.4,2,   7.5811,2,    25.00
  29HE20130320,   A17,    13,  1,     13,2,20130328,0259,-43.5060, -50.7160, 5389,   1216.1,   2.8791,  34.4448,2,    184.5,2,    184.6,2,    59.77,2,    33.98,2,     2.31,2,   2324.0,2,   7.5733,2,    25.00
  29HE20130320,   A17,    13,  1,     14,2,20130328,0259,-43.5060, -50.7160, 5389,   1011.7,   3.0808,  34.3355,2,    204.2,2,    207.0,2,    45.64,2,    33.03,2,     2.23,2,   2310.1,2,   7.5931,2,    25.00
  29HE20130320,   A17,    13,  1,     15,2,20130328,0259,-43.5060, -50.7160, 5389,    808.7,   3.4350,  34.2517,2,    226.7,2,    226.3,2,    32.32,2,    31.07,2,     2.09,2,   2297.9,2,   7.6170,2,    25.00
  29HE20130320,   A17,    13,  1,     16,2,20130328,0259,-43.5060, -50.7160, 5389,    708.4,   3.6509,  34.2179,2,    238.1,2,    238.1,2,    27.12,2,    29.84,2,     2.01,2,   2294.4,2,   7.6385,2,    25.00
  29HE20130320,   A17,    13,  1,     17,2,20130328,0259,-43.5060, -50.7160, 5389,    606.6,   4.0697,  34.2007,2,    248.1,2,    248.0,2,    20.90,2,    28.51,2,     1.86,2,   2289.1,2,   7.6585,2,    25.00
  29HE20130320,   A17,    13,  1,     18,2,20130328,0259,-43.5060, -50.7160, 5389,    504.8,   4.2769,  34.1599,2,    265.5,2,    263.9,2,    15.39,2,    26.64,2,     1.74,2,   2282.3,2,   7.6779,2,    25.00
  29HE20130320,   A17,    13,  1,     19,2,20130328,0259,-43.5060, -50.7160, 5389,    401.9,   4.7025,  34.1698,2,    268.8,2,    267.8,2,    12.21,2,    25.56,2,     1.63,2,   2281.7,2,   7.6927,2,    25.00
  29HE20130320,   A17,    13,  1,     20,2,20130328,0259,-43.5060, -50.7160, 5389,    304.6,   5.4640,  34.2261,2,    257.1,2,    255.6,2,    10.25,2,    24.48,2,     1.56,2,   2282.1,2,   7.6967,2,    25.00
  29HE20130320,   A17,    13,  1,     21,2,20130328,0259,-43.5060, -50.7160, 5389,    201.9,   7.7004,  34.4539,2,    229.2,2,    228.6,2,     7.95,2,    21.06,2,     1.30,2,   2289.7,2,   7.7142,2,    25.00
  29HE20130320,   A17,    13,  1,     22,2,20130328,0259,-43.5060, -50.7160, 5389,    101.9,  10.7493,  34.7823,2,    214.0,2,    213.8,2,     4.35,2,    14.80,2,     0.85,2,   2300.2,2,   7.7792,2,    25.00
  29HE20130320,   A17,    13,  1,     23,2,20130328,0259,-43.5060, -50.7160, 5389,     49.7,  12.2824,  34.4569,2,    229.8,2,    227.7,2,     2.48,2,    10.98,2,     0.58,2,   2289.4,2,   7.8394,2,    25.00
  29HE20130320,   A17,    13,  1,     24,2,20130328,0259,-43.5060, -50.7160, 5389,      6.0,  14.1441,  34.3614,2,    257.7,2,    258.7,2,     0.96,2,     3.66,2,     0.11,2,   2294.4,2,   7.9486,2,    25.00
  29HE20130320,   A17,    14,  1,      1,2,20130328,1218,-42.9070, -50.1980, 5574,   5670.6,   0.3316,  34.6700,2,    222.8,2,    223.0,2,   128.53,2,    33.07,2,     2.32,2,   -999.0,9,   7.6014,2,    25.00
  29HE20130320,   A17,    14,  1,      2,2,20130328,1218,-42.9070, -50.1980, 5574,   5098.0,   0.3120,  34.6725,2,    224.0,2,   -999.0,9,  -999.00,9,  -999.00,9,  -999.00,9,   -999.0,9,-999.0000,9,  -999.00
  29HE20130320,   A17,    14,  1,      3,2,20130328,1218,-42.9070, -50.1980, 5574,   4578.4,   0.4014,  34.6788,2,    220.3,2,    220.5,2,   125.56,2,    32.73,2,     2.29,2,   -999.0,9,   7.6027,2,    25.00
  29HE20130320,   A17,    14,  1,      4,2,20130328,1218,-42.9070, -50.1980, 5574,   4065.3,   0.7124,  34.6956,2,    214.4,2,    214.0,2,   120.15,2,    32.21,2,     2.21,2,   -999.0,9,   7.6080,2,    25.00
  29HE20130320,   A17,    14,  1,      5,2,20130328,1218,-42.9070, -50.1980, 5574,   3557.2,   1.1996,  34.7231,2,    207.5,2,    207.2,2,   109.19,2,    31.55,2,     2.12,2,   -999.0,9,   7.6172,2,    25.00
  29HE20130320,   A17,    14,  1,      6,2,20130328,1218,-42.9070, -50.1980, 5574,   3045.3,   1.7766,  34.7647,2,    207.5,2,    207.6,2,    90.38,2,    29.52,2,     1.99,2,   -999.0,9,   7.6341,2,    25.00
  29HE20130320,   A17,    14,  1,      7,2,20130328,1218,-42.9070, -50.1980, 5574,   2539.7,   2.5110,  34.8307,2,    218.4,2,    218.5,2,    60.70,2,    25.95,2,     1.72,2,   -999.0,9,   7.6662,2,    25.00
  29HE20130320,   A17,    14,  1,      8,2,20130328,1218,-42.9070, -50.1980, 5574,   2286.1,   2.9069,  34.8686,2,    227.7,2,    228.1,2,    44.96,2,    24.03,2,     1.57,2,   -999.0,9,   7.6871,2,    25.00
  29HE20130320,   A17,    14,  1,      9,2,20130328,1218,-42.9070, -50.1980, 5574,   2022.3,   2.9880,  34.8319,2,    214.3,2,    215.3,2,    49.63,2,    25.88,2,     1.70,2,   -999.0,9,   7.6605,2,    25.00
  29HE20130320,   A17,    14,  1,     10,2,20130328,1218,-42.9070, -50.1980, 5574,   1820.8,   2.9273,  34.7776,2,    201.0,2,    201.0,2,    57.18,2,    28.14,2,     1.90,2,   -999.0,9,   7.6396,2,    25.00
  29HE20130320,   A17,    14,  1,     11,2,20130328,1218,-42.9070, -50.1980, 5574,   1621.1,   2.7514,  34.6954,2,    185.6,2,    184.5,2,    67.27,2,    31.11,2,     2.13,2,   -999.0,9,   7.5998,2,    25.00
  29HE20130320,   A17,    14,  1,     12,2,20130328,1218,-42.9070, -50.1980, 5574,   1416.3,   2.7948,  34.6315,2,    179.4,2,    180.4,2,    65.71,2,    32.31,2,     2.21,2,   -999.0,9,   7.5898,2,    25.00
  29HE20130320,   A17,    14,  1,     13,2,20130328,1218,-42.9070, -50.1980, 5574,   1212.1,   2.7563,  34.5376,2,    176.7,2,    176.8,2,    66.31,2,    33.71,2,     2.35,2,   -999.0,9,   7.5712,2,    25.00
  29HE20130320,   A17,    14,  1,     14,2,20130328,1218,-42.9070, -50.1980, 5574,   1008.6,   2.8990,  34.4321,2,    186.1,2,    186.9,2,    56.95,2,    33.96,2,     2.32,2,   -999.0,9,   7.5709,2,    25.00
  29HE20130320,   A17,    14,  1,     15,2,20130328,1218,-42.9070, -50.1980, 5574,    807.4,   3.0501,  34.3295,2,    204.4,2,    205.5,2,    45.78,2,    33.22,2,     2.25,2,   -999.0,9,   7.5896,2,    25.00
  29HE20130320,   A17,    14,  1,     16,2,20130328,1218,-42.9070, -50.1980, 5574,    709.1,   3.0957,  34.2432,2,    225.8,2,    226.8,2,    35.64,2,    31.73,2,     2.16,2,   -999.0,9,   7.6105,2,    25.00
  29HE20130320,   A17,    14,  1,     17,2,20130328,1218,-42.9070, -50.1980, 5574,    608.7,   3.2097,  34.1936,2,    240.8,2,    241.3,2,    29.80,2,    30.52,2,     2.04,2,   -999.0,9,   7.6453,2,    25.00
  29HE20130320,   A17,    14,  1,     18,2,20130328,1218,-42.9070, -50.1980, 5574,    507.8,   3.4147,  34.1567,2,    253.9,2,    254.3,2,    24.03,2,    29.50,2,     1.94,2,   -999.0,9,   7.6449,2,    25.00
  29HE20130320,   A17,    14,  1,     19,2,20130328,1218,-42.9070, -50.1980, 5574,    406.4,   3.7375,  34.1302,2,    267.0,2,    267.5,2,    17.99,2,    27.83,2,     1.79,2,   -999.0,9,   7.6659,2,    25.00
  29HE20130320,   A17,    14,  1,     20,2,20130328,1218,-42.9070, -50.1980, 5574,    304.8,   3.9294,  34.0878,2,    286.8,2,    285.6,2,    12.26,2,    26.01,2,     1.65,2,   -999.0,9,   7.6919,2,    25.00
  29HE20130320,   A17,    14,  1,     21,2,20130328,1218,-42.9070, -50.1980, 5574,    201.9,   4.6506,  34.1267,2,    277.8,2,    277.1,2,     9.68,2,    24.98,2,     1.52,2,   -999.0,9,   7.6946,2,    25.00
  29HE20130320,   A17,    14,  1,     22,2,20130328,1218,-42.9070, -50.1980, 5574,    102.4,   7.9252,  34.1830,2,    267.7,2,    265.9,2,     3.24,2,    18.22,2,     0.98,2,   -999.0,9,   7.7749,2,    25.00
  29HE20130320,   A17,    14,  1,     23,2,20130328,1218,-42.9070, -50.1980, 5574,     26.1,  14.6303,  34.2069,2,    257.7,2,    259.5,2,     0.77,2,     3.08,2,     0.21,2,   -999.0,9,   7.9677,2,    25.00
  29HE20130320,   A17,    14,  1,     24,2,20130328,1218,-42.9070, -50.1980, 5574,      6.3,  14.7154,  34.2095,2,    259.4,2,    260.0,2,     0.77,2,     3.03,2,     0.15,2,   -999.0,9,   7.9673,2,    25.00
  29HE20130320,   A17,    15,  1,      1,2,20130328,2136,-42.3060, -49.6660, 5807,   5910.4,   0.3668,  34.6703,2,    222.3,2,    222.9,2,   130.51,2,    33.41,2,     2.30,2,   2363.5,2,   7.6001,2,    25.00
  29HE20130320,   A17,    15,  1,      2,2,20130328,2136,-42.3060, -49.6660, 5807,   5613.6,   0.3292,  34.6705,2,    222.4,2,    222.9,2,   130.13,2,    33.63,2,     2.32,2,   2365.0,2,   7.6082,2,    25.00
  29HE20130320,   A17,    15,  1,      3,2,20130328,2136,-42.3060, -49.6660, 5807,   5098.9,   0.3001,  34.6723,2,    223.0,2,    223.0,2,   128.84,2,    33.38,2,     2.28,2,   2363.2,2,   7.6009,2,    25.00
  29HE20130320,   A17,    15,  1,      4,2,20130328,2136,-42.3060, -49.6660, 5807,   4583.6,   0.3654,  34.6772,2,    220.7,2,    220.4,2,   128.55,2,    33.32,2,     2.27,2,   2362.9,2,   7.6050,2,    25.00
  29HE20130320,   A17,    15,  1,      5,2,20130328,2136,-42.3060, -49.6660, 5807,   4067.0,   0.6259,  34.6908,2,    214.9,2,    215.1,2,   124.11,2,    32.97,2,     2.25,2,   2359.8,2,   7.6027,2,    25.00
  29HE20130320,   A17,    15,  1,      6,2,20130328,2136,-42.3060, -49.6660, 5807,   3557.3,   1.2136,  34.7296,2,    209.4,2,    210.1,2,   109.02,2,    31.59,2,     2.14,2,   2357.1,2,   7.6179,2,    25.00
  29HE20130320,   A17,    15,  1,      7,2,20130328,2136,-42.3060, -49.6660, 5807,   3047.1,   1.7116,  34.7492,2,    201.1,2,    201.9,2,    98.00,2,    31.02,2,     2.08,2,   2354.6,2,   7.6209,2,    25.00
  29HE20130320,   A17,    15,  1,      8,2,20130328,2136,-42.3060, -49.6660, 5807,   2536.2,   2.2924,  34.7840,2,    203.7,2,    204.7,2,    76.68,2,    29.05,2,     1.95,2,   2354.6,2,   7.6389,2,    25.00
  29HE20130320,   A17,    15,  1,      9,2,20130328,2136,-42.3060, -49.6660, 5807,   2280.9,   2.6800,  34.8240,2,    214.0,2,    214.0,2,    68.14,2,    25.83,2,     1.75,2,   2340.0,2,   7.6970,2,    25.00
  29HE20130320,   A17,    15,  1,     10,2,20130328,2136,-42.3060, -49.6660, 5807,   2025.6,   2.7651,  34.7914,2,    203.7,2,    203.9,2,    61.68,2,    28.28,2,     1.89,2,   2345.5,2,   7.6371,2,    25.00
  29HE20130320,   A17,    15,  1,     11,2,20130328,2136,-42.3060, -49.6660, 5807,   1822.2,   2.6648,  34.7320,2,    189.2,2,    190.5,2,    70.04,2,    30.88,2,     2.08,2,   2339.4,2,   7.6099,2,    25.00
  29HE20130320,   A17,    15,  1,     12,2,20130328,2136,-42.3060, -49.6660, 5807,   1618.1,   2.7247,  34.6830,2,    182.4,2,    183.6,2,    69.51,2,    32.20,2,     2.17,2,   2337.8,2,   7.5973,2,    25.00
  29HE20130320,   A17,    15,  1,     13,2,20130328,2136,-42.3060, -49.6660, 5807,   1416.4,   2.7424,  34.6147,2,    177.1,2,    177.9,2,    68.36,2,    33.26,2,     2.28,2,   2335.2,2,   7.5817,2,    25.00
  29HE20130320,   A17,    15,  1,     14,2,20130328,2136,-42.3060, -49.6660, 5807,   1212.4,   2.7413,  34.5169,2,    175.8,2,    177.6,2,    67.78,2,    34.84,2,     2.36,2,   2326.0,2,   7.5637,2,    25.00
  29HE20130320,   A17,    15,  1,     15,2,20130328,2136,-42.3060, -49.6660, 5807,   1010.6,   2.8904,  34.4227,2,    186.3,2,    186.9,2,    58.54,2,    34.77,2,     2.35,2,   2316.8,2,   7.5703,2,    25.00
  29HE20130320,   A17,    15,  1,     16,2,20130328,2136,-42.3060, -49.6660, 5807,    807.5,   2.9738,  34.3003,2,    210.2,2,    210.8,2,    44.54,2,    33.81,2,     2.27,2,   2303.9,2,   7.5875,2,    25.00
  29HE20130320,   A17,    15,  1,     17,2,20130328,2136,-42.3060, -49.6660, 5807,    604.7,   3.2745,  34.1996,2,    240.0,2,    239.6,2,    30.53,2,    31.16,2,     2.08,2,   2291.0,2,   7.6371,2,    25.00
  29HE20130320,   A17,    15,  1,     18,2,20130328,2136,-42.3060, -49.6660, 5807,    505.0,   3.5804,  34.1746,2,    250.5,2,    250.4,2,    24.47,2,    29.74,2,     2.00,2,   2285.5,2,   7.6451,2,    25.00
  29HE20130320,   A17,    15,  1,     19,2,20130328,2136,-42.3060, -49.6660, 5807,    405.0,   3.8645,  34.1459,2,    264.1,2,    260.5,2,    18.87,2,    28.46,2,     1.88,2,   2282.2,2,   7.6640,2,    25.00
  29HE20130320,   A17,    15,  1,     20,2,20130328,2136,-42.3060, -49.6660, 5807,    303.4,   4.0106,  34.1085,2,    279.3,2,    278.8,2,    13.65,2,    26.77,2,     1.74,2,   2275.1,2,   7.6867,2,    25.00
  29HE20130320,   A17,    15,  1,     21,2,20130328,2136,-42.3060, -49.6660, 5807,    201.1,   4.6574,  34.1320,2,    276.7,2,    276.2,2,    10.10,2,    25.48,2,     1.58,2,   2272.8,2,   7.6957,2,    25.00