BOTTLE,20230216CCHSIOENA
EXPOCODE,SECT_ID,STNNBR,CASTNO,BTLNBR,BTLNBR_FLAG_W,DATE,TIME,LATITUDE,LONGITUDE,DEPTH,CTDPRS,CTDTMP,CTDSAL,CTDSAL_FLAG_W,CTDOXY,CTDOXY_FLAG_W,OXYGEN,OXYGEN_FLAG_W,SILCAT,SILCAT_FLAG_W,NITRAT,NITRAT_FLAG_W,PHSPHT,PHSPHT_FLAG_W,ALKALI,ALKALI_FLAG_W,PH_TOT,PH_TOT_FLAG_W,PH_TMP
,,,,,,,,,,METERS,DBAR,ITS-90,PSS-78,,UMOL/KG,,UMOL/KG,,UMOL/KG,,UMOL/KG,,UMOL/KG,,UMOL/KG,,,,DEG C
  29HE20130320,   A17,   101,  1,      1,2,20130515,1302, 36.1670, -20.9980, 4843,   4831.1,   2.4529,  34.8912,2,    244.1,2,    243.7,2,    46.17,2,    22.48,2,     1.44,2,   -999.0,9,   7.7385,2,    25.00
  29HE20130320,   A17,   101,  1,      2,2,20130515,1302, 36.1670, -20.9980, 4843,   4582.8,   2.4485,  34.8939,2,    244.3,2,    244.2,2,    44.67,2,    22.27,2,     1.44,2,   -999.0,9,   7.7379,2,    25.00
  29HE20130320,   A17,   101,  1,      3,2,20130515,1302, 36.1670, -20.9980, 4843,   4582.7,   2.4485,  34.8938,2,    244.8,2,   -999.0,9,  -999.00,9,  -999.00,9,  -999.00,9,   -999.0,9,-999.0000,9,  -999.00
  29HE20130320,   A17,   101,  1,      4,2,20130515,1302, 36.1670, -20.9980, 4843,   4582.8,   2.4485,  34.8939,2,    244.4,2,   -999.0,9,    45.44,2,    22.43,2,     1.45,2,   -999.0,9,-999.0000,9,  -999.00
  29HE20130320,   A17,   101,  1,      5,2,20130515,1302, 36.1670, -20.9980, 4843,   4067.5,   2.4887,  34.9037,2,    244.7,2,    244.2,2,    42.54,2,    22.11,2,     1.42,2,   -999.0,9,   7.7384,2,    25.00
  29HE20130320,   A17,   101,  1,      6,2,20130515,1302, 36.1670, -20.9980, 4843,   3556.1,   2.5927,  34.9186,2,    245.3,2,    245.0,2,    39.14,2,    21.75,2,     1.39,2,   -999.0,9,   7.7391,2,    25.00
  29HE20130320,   A17,   101,  1,      7,2,20130515,1302, 36.1670, -20.9980, 4843,   3044.2,   2.7730,  34.9380,2,    248.5,2,    247.9,2,    32.84,2,    20.63,2,     1.33,2,   -999.0,9,   7.7396,2,    25.00
  29HE20130320,   A17,   101,  1,      8,2,20130515,1302, 36.1670, -20.9980, 4843,   2532.8,   3.1627,  34.9713,2,    252.8,2,    253.0,2,    25.36,2,    19.46,2,     1.24,2,   -999.0,9,   7.7404,2,    25.00
  29HE20130320,   A17,   101,  1,      9,2,20130515,1302, 36.1670, -20.9980, 4843,   2278.1,   3.5533,  35.0091,2,    253.2,2,    252.4,2,    21.04,2,    19.07,2,     1.21,2,   -999.0,9,   7.7396,2,    25.00
  29HE20130320,   A17,   101,  1,     10,2,20130515,1302, 36.1670, -20.9980, 4843,   2026.6,   4.0960,  35.0691,2,    251.8,2,    251.0,2,    17.28,2,    18.72,2,     1.17,2,   -999.0,9,   7.7386,2,    25.00
  29HE20130320,   A17,   101,  1,     11,2,20130515,1302, 36.1670, -20.9980, 4843,   1820.7,   4.7615,  35.1623,2,    245.2,2,    244.8,2,    15.28,2,    18.39,2,     1.14,2,   -999.0,9,   7.7341,2,    25.00
  29HE20130320,   A17,   101,  1,     12,2,20130515,1302, 36.1670, -20.9980, 4843,   1616.6,   5.6240,  35.2870,2,    235.0,2,    233.8,2,    13.74,2,    18.16,2,     1.11,2,   -999.0,9,   7.7339,2,    25.00
  29HE20130320,   A17,   101,  1,     13,2,20130515,1302, 36.1670, -20.9980, 4843,   1414.4,   7.1129,  35.5159,2,    216.5,2,    216.1,2,    12.54,2,    18.01,2,     1.09,2,   -999.0,9,   7.7452,2,    25.00
  29HE20130320,   A17,   101,  1,     14,2,20130515,1302, 36.1670, -20.9980, 4843,   1211.3,   8.7976,  35.7789,2,    196.4,2,    195.8,2,    11.58,2,    17.43,2,     1.06,2,   -999.0,9,   7.7584,2,    25.00
  29HE20130320,   A17,   101,  1,     15,2,20130515,1302, 36.1670, -20.9980, 4843,   1007.8,   9.8929,  35.8739,2,    184.1,2,    183.5,2,    10.67,2,    17.49,2,     1.02,2,   -999.0,9,   7.7589,2,    25.00
  29HE20130320,   A17,   101,  1,     16,2,20130515,1302, 36.1670, -20.9980, 4843,    808.1,   9.9733,  35.6491,2,    179.3,2,    179.0,2,    10.24,2,    18.44,2,     1.08,2,   -999.0,9,   7.7220,2,    25.00
  29HE20130320,   A17,   101,  1,     17,2,20130515,1302, 36.1670, -20.9980, 4843,    705.9,  10.5640,  35.6446,2,    178.7,2,    178.4,2,     9.01,2,    17.70,2,     1.01,2,   -999.0,9,   7.7589,2,    25.00
  29HE20130320,   A17,   101,  1,     18,2,20130515,1302, 36.1670, -20.9980, 4843,    604.0,  10.9020,  35.5872,2,    183.3,2,    183.0,2,     7.89,2,    16.81,2,     0.94,2,   -999.0,9,   7.7657,2,    25.00
  29HE20130320,   A17,   101,  1,     19,2,20130515,1302, 36.1670, -20.9980, 4843,    504.3,  11.5182,  35.6053,2,    198.9,2,    198.7,2,     5.85,2,    14.52,2,     0.80,2,   -999.0,9,   7.7858,2,    25.00
  29HE20130320,   A17,   101,  1,     20,2,20130515,1302, 36.1670, -20.9980, 4843,    402.4,  12.1914,  35.6696,2,    203.3,2,    203.1,2,     4.86,2,    12.84,2,     0.70,2,   -999.0,9,   7.8100,2,    25.00
  29HE20130320,   A17,   101,  1,     21,2,20130515,1302, 36.1670, -20.9980, 4843,    306.6,  13.0613,  35.7941,2,    215.9,2,    216.2,2,     3.23,2,     9.47,2,     0.47,2,   -999.0,9,   7.8428,2,    25.00
  29HE20130320,   A17,   101,  1,     22,2,20130515,1302, 36.1670, -20.9980, 4843,    202.0,  14.2625,  35.9623,2,    217.5,2,    215.8,2,     2.33,2,     6.92,2,     0.18,2,   -999.0,9,   7.8766,2,    25.00
  29HE20130320,   A17,   101,  1,     23,2,20130515,1302, 36.1670, -20.9980, 4843,     91.6,  15.7615,  36.0785,2,    248.9,2,    248.5,2,     0.27,2,    -0.07,2,     0.00,2,   -999.0,9,   7.9549,2,    25.00
  29HE20130320,   A17,   101,  1,     24,2,20130515,1302, 36.1670, -20.9980, 4843,      5.6,  17.6248,  36.2566,2,    239.4,2,    238.9,2,     0.28,2,    -0.02,2,     0.01,2,   -999.0,9,   7.9753,2,    25.00
  29HE20130320,   A17,   102,  1,      1,2,20130516,0143, 36.1660, -19.4960, 5474,   5584.5,   2.5368,  34.8899,2,    242.9,2,    244.1,2,    46.67,2,    22.34,2,     1.46,2,   2353.1,2,   7.7362,2,    25.00
  29HE20130320,   A17,   102,  1,      2,2,20130516,0143, 36.1660, -19.4960, 5474,   5096.3,   2.4720,  34.8901,2,    243.7,2,   -999.0,9,  -999.00,9,  -999.00,9,  -999.00,9,   -999.0,9,-999.0000,9,  -999.00
  29HE20130320,   A17,   102,  1,      3,2,20130516,0143, 36.1660, -19.4960, 5474,   5096.1,   2.4722,  34.8901,2,    243.7,2,    244.2,2,    47.31,2,    22.72,2,     1.46,2,   2352.4,2,   7.7369,2,    25.00
  29HE20130320,   A17,   102,  1,      4,2,20130516,0143, 36.1660, -19.4960, 5474,   5095.3,   2.4722,  34.8901,2,    244.3,2,   -999.0,9,  -999.00,9,  -999.00,9,  -999.00,9,   -999.0,9,-999.0000,9,  -999.00
  29HE20130320,   A17,   102,  1,      5,2,20130516,0143, 36.1660, -19.4960, 5474,   5094.6,   2.4720,  34.8902,2,    244.7,2,   -999.0,9,  -999.00,9,  -999.00,9,  -999.00,9,   -999.0,9,-999.0000,9,  -999.00
  29HE20130320,   A17,   102,  1,      6,2,20130516,0143, 36.1660, -19.4960, 5474,   4582.7,   2.4456,  34.8940,2,    243.9,2,    244.6,2,    46.19,2,    22.36,2,     1.45,2,   2347.6,2,   7.7365,2,    25.00
  29HE20130320,   A17,   102,  1,      7,2,20130516,0143, 36.1660, -19.4960, 5474,   4069.2,   2.5015,  34.9053,2,    243.6,2,    244.3,2,    42.85,2,    21.97,2,     1.42,2,   2345.1,2,   7.7368,2,    25.00
  29HE20130320,   A17,   102,  1,      8,2,20130516,0143, 36.1660, -19.4960, 5474,   3554.3,   2.6109,  34.9205,2,    244.1,2,    244.9,2,    38.89,2,    21.54,2,     1.40,2,   2343.0,2,   7.7375,2,    25.00
  29HE20130320,   A17,   102,  1,      9,2,20130516,0143, 36.1660, -19.4960, 5474,   3044.8,   2.8056,  34.9397,2,    248.0,2,    251.8,2,    31.81,2,    20.45,2,     1.30,2,   2333.6,2,   7.7382,2,    25.00
  29HE20130320,   A17,   102,  1,     10,2,20130516,0143, 36.1660, -19.4960, 5474,   2534.7,   3.1980,  34.9710,2,    252.5,2,    253.8,2,    24.65,2,    19.30,2,     1.26,2,   2324.3,2,   7.7387,2,    25.00
  29HE20130320,   A17,   102,  1,     11,2,20130516,0143, 36.1660, -19.4960, 5474,   2278.0,   3.5663,  35.0040,2,    253.8,2,    255.2,2,    20.28,2,    18.88,2,     1.20,2,   2319.6,2,   7.7290,2,    25.00
  29HE20130320,   A17,   102,  1,     12,2,20130516,0143, 36.1660, -19.4960, 5474,   2023.1,   4.0351,  35.0514,2,    253.8,2,    254.6,2,    16.34,2,    18.35,2,     1.17,2,   2316.1,2,   7.7399,2,    25.00
  29HE20130320,   A17,   102,  1,     13,2,20130516,0143, 36.1660, -19.4960, 5474,   1823.4,   4.6344,  35.1365,2,    246.7,2,    247.5,2,    14.77,2,    18.34,2,     1.15,2,   2322.5,2,   7.7411,2,    25.00
  29HE20130320,   A17,   102,  1,     14,2,20130516,0143, 36.1660, -19.4960, 5474,   1516.9,   6.2235,  35.3752,2,    226.2,2,    225.5,2,    13.26,2,    18.19,2,     1.12,2,   2338.0,2,   7.7494,2,    25.00
  29HE20130320,   A17,   102,  1,     15,2,20130516,0143, 36.1660, -19.4960, 5474,   1214.8,   8.5464,  35.7227,2,    197.5,2,    203.2,2,    11.88,2,    17.89,2,     1.08,2,   2361.5,2,   7.7631,2,    25.00
  29HE20130320,   A17,   102,  1,     16,2,20130516,0143, 36.1660, -19.4960, 5474,    807.9,  10.4425,  35.7631,2,    177.4,2,    176.9,2,     9.74,2,    17.67,2,     1.03,2,   2359.6,2,   7.7660,2,    25.00
  29HE20130320,   A17,   102,  1,     17,2,20130516,0143, 36.1660, -19.4960, 5474,    705.4,  10.9382,  35.7018,2,    179.2,2,    178.9,2,     8.47,2,    16.94,2,     0.98,2,   2348.3,2,   7.7676,2,    25.00
  29HE20130320,   A17,   102,  1,     18,2,20130516,0143, 36.1660, -19.4960, 5474,    606.5,  11.1280,  35.6042,2,    187.2,2,    186.8,2,     7.32,2,    16.15,2,     0.91,2,   2341.7,2,   7.7728,2,    25.00
  29HE20130320,   A17,   102,  1,     19,2,20130516,0143, 36.1660, -19.4960, 5474,    504.5,  11.6809,  35.6397,2,    200.8,2,    200.3,2,     5.46,2,    13.83,2,     0.77,2,   2337.6,2,   7.7951,2,    25.00
  29HE20130320,   A17,   102,  1,     20,2,20130516,0143, 36.1660, -19.4960, 5474,    405.5,  12.3603,  35.7033,2,    209.1,2,    209.1,2,     4.23,2,    11.75,2,     0.58,2,   2342.9,2,   7.8194,2,    25.00
  29HE20130320,   A17,   102,  1,     21,2,20130516,0143, 36.1660, -19.4960, 5474,    302.4,  12.9927,  35.7772,2,    219.4,2,    219.4,2,     3.26,2,     9.34,2,     0.36,2,   2346.4,2,   7.8484,2,    25.00
  29HE20130320,   A17,   102,  1,     22,2,20130516,0143, 36.1660, -19.4960, 5474,    201.9,  13.9762,  35.8847,2,    228.6,2,    228.8,2,     2.05,2,     5.80,2,     0.07,2,   2353.0,2,   7.8872,2,    25.00
  29HE20130320,   A17,   102,  1,     23,2,20130516,0143, 36.1660, -19.4960, 5474,     51.6,  15.1703,  35.9142,2,    248.2,2,    246.0,2,     0.46,2,     0.50,2,     0.02,2,   2357.4,2,   7.9295,2,    25.00
  29HE20130320,   A17,   102,  1,     24,2,20130516,0143, 36.1660, -19.4960, 5474,      6.0,  16.4347,  36.1712,2,    243.9,2,    243.7,2,     0.26,2,    -0.17,2,     0.00,2,   2371.7,2,   7.9650,2,    25.00
  29HE20130320,   A17,   103,  1,      1,2,20130516,1405, 36.1710, -18.0010, 5403,   5474.8,   2.5142,  34.8891,2,    243.5,2,    242.6,2,    47.50,2,    22.62,2,     1.47,2,   -999.0,9,   7.7342,2,    25.00
  29HE20130320,   A17,   103,  1,      2,2,20130516,1405, 36.1710, -18.0010, 5403,   5096.9,   2.4705,  34.8899,2,    243.6,2,   -999.0,9,  -999.00,9,  -999.00,9,  -999.00,9,   -999.0,9,-999.0000,9,  -999.00
  29HE20130320,   A17,   103,  1,      3,2,20130516,1405, 36.1710, -18.0010, 5403,   5097.1,   2.4706,  34.8897,2,    243.6,2,    244.0,2,    47.26,2,    22.68,2,     1.47,2,   -999.0,9,   7.7373,2,    25.00
  29HE20130320,   A17,   103,  1,      4,2,20130516,1405, 36.1710, -18.0010, 5403,   5096.6,   2.4705,  34.8899,2,    244.6,2,   -999.0,9,  -999.00,9,  -999.00,9,  -999.00,9,   -999.0,9,-999.0000,9,  -999.00
  29HE20130320,   A17,   103,  1,      5,2,20130516,1405, 36.1710, -18.0010, 5403,   5097.1,   2.4705,  34.8899,2,    244.4,2,   -999.0,9,    46.77,2,    22.68,2,     1.47,2,   -999.0,9,-999.0000,9,  -999.00
  29HE20130320,   A17,   103,  1,      6,2,20130516,1405, 36.1710, -18.0010, 5403,   4586.1,   2.4419,  34.8936,2,    243.9,2,    245.4,2,    46.26,2,    22.50,2,     1.47,2,   -999.0,9,   7.7339,2,    25.00
  29HE20130320,   A17,   103,  1,      7,2,20130516,1405, 36.1710, -18.0010, 5403,   3555.7,   2.6009,  34.9197,2,    244.0,2,    245.8,2,    39.13,2,    21.71,2,     1.40,2,   -999.0,9,   7.7356,2,    25.00
  29HE20130320,   A17,   103,  1,      8,2,20130516,1405, 36.1710, -18.0010, 5403,   3042.7,   2.7943,  34.9393,2,    247.6,2,    249.3,2,    32.43,2,    20.54,2,     1.32,2,   -999.0,9,   7.7362,2,    25.00
  29HE20130320,   A17,   103,  1,      9,2,20130516,1405, 36.1710, -18.0010, 5403,   2535.6,   3.1587,  34.9669,2,    253.1,2,    255.6,2,    24.84,2,    19.52,2,     1.24,2,   -999.0,9,   7.7372,2,    25.00
  29HE20130320,   A17,   103,  1,     10,2,20130516,1405, 36.1710, -18.0010, 5403,   2279.7,   3.5170,  35.0035,2,    252.3,2,    253.6,2,    21.45,2,    19.30,2,     1.21,2,   -999.0,9,   7.7381,2,    25.00
  29HE20130320,   A17,   103,  1,     11,2,20130516,1405, 36.1710, -18.0010, 5403,   2025.2,   3.9448,  35.0460,2,    252.9,2,    254.4,2,    17.63,2,    18.61,2,     1.17,2,   -999.0,9,   7.7395,2,    25.00
  29HE20130320,   A17,   103,  1,     12,2,20130516,1405, 36.1710, -18.0010, 5403,   1720.3,   5.1003,  35.2118,2,    240.2,2,    240.4,2,    14.61,2,    18.28,2,     1.13,2,   -999.0,9,   7.7413,2,    25.00
  29HE20130320,   A17,   103,  1,     13,2,20130516,1405, 36.1710, -18.0010, 5403,   1516.6,   6.3097,  35.3979,2,    223.5,2,   -999.0,9,  -999.00,9,  -999.00,9,  -999.00,9,   -999.0,9,-999.0000,9,  -999.00
  29HE20130320,   A17,   103,  1,     14,2,20130516,1405, 36.1710, -18.0010, 5403,   1314.1,   7.9438,  35.6566,2,    204.1,2,    204.2,2,    12.69,2,    18.06,2,     1.09,2,   -999.0,9,   7.7583,2,    25.00
  29HE20130320,   A17,   103,  1,     15,2,20130516,1405, 36.1710, -18.0010, 5403,   1111.8,  10.0052,  36.0029,2,    185.9,2,    186.5,2,    10.80,2,    17.28,2,     0.99,2,   -999.0,9,   7.7768,2,    25.00
  29HE20130320,   A17,   103,  1,     16,2,20130516,1405, 36.1710, -18.0010, 5403,    906.0,   9.1187,  35.6052,2,    184.7,2,    184.2,2,    11.37,2,    18.87,2,     1.12,2,   -999.0,9,   7.7462,2,    25.00
  29HE20130320,   A17,   103,  1,     17,2,20130516,1405, 36.1710, -18.0010, 5403,    708.1,   9.9369,  35.5443,2,    177.5,2,    178.0,2,    10.45,2,    18.72,2,     1.11,2,   -999.0,9,   7.7462,2,    25.00
  29HE20130320,   A17,   103,  1,     18,2,20130516,1405, 36.1710, -18.0010, 5403,    604.0,  10.7443,  35.5489,2,    182.1,2,    182.6,2,     8.47,2,    17.12,2,     0.99,2,   -999.0,9,   7.7612,2,    25.00
  29HE20130320,   A17,   103,  1,     19,2,20130516,1405, 36.1710, -18.0010, 5403,    503.5,  11.4666,  35.5898,2,    196.4,2,    196.2,2,     6.32,2,    14.80,2,     0.84,2,   -999.0,9,   7.7838,2,    25.00
  29HE20130320,   A17,   103,  1,     20,2,20130516,1405, 36.1710, -18.0010, 5403,    406.4,  12.2528,  35.6750,2,    204.1,2,    205.1,2,     4.90,2,    12.71,2,     0.69,2,   -999.0,9,   7.8128,2,    25.00
  29HE20130320,   A17,   103,  1,     21,2,20130516,1405, 36.1710, -18.0010, 5403,    305.0,  12.9743,  35.7591,2,    205.4,2,    207.3,2,     4.28,2,    11.22,2,     0.53,2,   -999.0,9,   7.8347,2,    25.00
  29HE20130320,   A17,   103,  1,     22,2,20130516,1405, 36.1710, -18.0010, 5403,    202.6,  14.4494,  35.9857,2,    211.0,2,    211.3,2,     2.79,2,     7.65,2,     0.29,2,   -999.0,9,   7.8752,2,    25.00
  29HE20130320,   A17,   103,  1,     23,2,20130516,1405, 36.1710, -18.0010, 5403,    102.0,  15.8991,  36.1820,2,    223.6,2,    225.3,2,     1.26,2,     3.04,2,     0.02,2,   -999.0,9,   7.9301,2,    25.00
  29HE20130320,   A17,   103,  1,     24,2,20130516,1405, 36.1710, -18.0010, 5403,      6.6,  17.9186,  36.4920,2,    237.3,2,    238.3,2,     0.36,2,     0.06,2,     0.00,2,   -999.0,9,   7.9817,2,    25.00