BOTTLE,20230216CCHSIOENA
EXPOCODE,SECT_ID,STNNBR,CASTNO,BTLNBR,BTLNBR_FLAG_W,DATE,TIME,LATITUDE,LONGITUDE,DEPTH,CTDPRS,CTDTMP,CTDSAL,CTDSAL_FLAG_W,CTDOXY,CTDOXY_FLAG_W,OXYGEN,OXYGEN_FLAG_W,SILCAT,SILCAT_FLAG_W,NITRAT,NITRAT_FLAG_W,PHSPHT,PHSPHT_FLAG_W,ALKALI,ALKALI_FLAG_W,PH_TOT,PH_TOT_FLAG_W,PH_TMP
,,,,,,,,,,METERS,DBAR,ITS-90,PSS-78,,UMOL/KG,,UMOL/KG,,UMOL/KG,,UMOL/KG,,UMOL/KG,,UMOL/KG,,,,DEG C
  29HE20130320,   A17,    37,  1,      1,2,20130407,0112,-29.1260, -38.1460, 4360,   4389.2,   0.4390,  34.6872,2,    221.9,2,    220.9,2,   125.51,2,    32.66,2,     2.20,2,   2364.2,2,   7.6114,2,    25.00
  29HE20130320,   A17,    37,  1,      2,2,20130407,0112,-29.1260, -38.1460, 4360,   4064.0,   1.3134,  34.7707,2,    230.4,2,    230.1,2,    91.68,2,    28.57,2,     1.88,2,   2354.3,2,   7.6609,2,    25.00
  29HE20130320,   A17,    37,  1,      3,2,20130407,0112,-29.1260, -38.1460, 4360,   3555.7,   2.3066,  34.8789,2,    250.1,2,    248.5,2,    47.08,2,    22.27,2,     1.37,2,   2333.9,2,   7.7218,2,    25.00
  29HE20130320,   A17,    37,  1,      4,2,20130407,0112,-29.1260, -38.1460, 4360,   3042.0,   2.7292,  34.9131,2,    251.8,2,    249.3,2,    34.13,2,    21.05,2,     1.27,2,   2328.1,2,   7.7306,2,    25.00
  29HE20130320,   A17,    37,  1,      5,2,20130407,0112,-29.1260, -38.1460, 4360,   2786.0,   2.8472,  34.9173,2,    250.5,2,    249.7,2,    32.44,2,    21.14,2,     1.25,2,   2325.9,2,   7.7308,2,    25.00
  29HE20130320,   A17,    37,  1,      6,2,20130407,0112,-29.1260, -38.1460, 4360,   2533.6,   2.9396,  34.9139,2,    247.9,2,    246.9,2,    31.95,2,    21.34,2,     1.28,2,   2324.5,2,   7.7262,2,    25.00
  29HE20130320,   A17,    37,  1,      7,2,20130407,0112,-29.1260, -38.1460, 4360,   2278.2,   3.0047,  34.8945,2,    240.2,2,   -999.0,9,    34.98,2,    22.35,2,     1.37,2,   -999.0,9,   7.7106,2,    25.00
  29HE20130320,   A17,    37,  1,      8,2,20130407,0112,-29.1260, -38.1460, 4360,   2277.1,   3.0064,  34.8949,2,    240.3,2,    239.4,2,    34.85,2,    22.16,2,     1.36,2,   2325.1,2,   7.7136,2,    25.00
  29HE20130320,   A17,    37,  1,      9,2,20130407,0112,-29.1260, -38.1460, 4360,   2024.6,   3.0215,  34.8420,2,    224.7,2,    225.6,2,    42.85,2,    24.67,2,     1.48,2,   2326.5,2,   7.6794,2,    25.00
  29HE20130320,   A17,    37,  1,     10,2,20130407,0112,-29.1260, -38.1460, 4360,   1821.4,   2.9097,  34.7555,2,    206.9,2,    206.2,2,    52.08,2,    28.13,2,     1.83,2,   2329.0,2,   7.6433,2,    25.00
  29HE20130320,   A17,    37,  1,     11,2,20130407,0112,-29.1260, -38.1460, 4360,   1618.5,   2.8891,  34.6557,2,    194.2,2,    194.0,2,    56.38,2,    30.45,2,     2.05,2,   2327.5,2,   7.6190,2,    25.00
  29HE20130320,   A17,    37,  1,     12,2,20130407,0112,-29.1260, -38.1460, 4360,   1418.1,   2.9737,  34.5524,2,    189.1,2,    188.9,2,    55.31,2,    32.28,2,     2.16,2,   2321.9,2,   7.5971,2,    25.00
  29HE20130320,   A17,    37,  1,     13,2,20130407,0112,-29.1260, -38.1460, 4360,   1212.2,   3.3609,  34.4395,2,    190.4,2,    190.3,2,    47.36,2,    32.98,2,     2.22,2,   2312.7,2,   7.5958,2,    25.00
  29HE20130320,   A17,    37,  1,     14,2,20130407,0112,-29.1260, -38.1460, 4360,   1007.3,   3.9441,  34.3454,2,    203.9,2,    204.1,2,    34.28,2,    31.53,2,     2.11,2,   2299.7,2,   7.6115,2,    25.00
  29HE20130320,   A17,    37,  1,     15,2,20130407,0112,-29.1260, -38.1460, 4360,    807.1,   5.0989,  34.3070,2,    225.8,2,    225.4,2,    19.63,2,    27.84,2,     1.79,2,   2285.1,2,   7.6564,2,    25.00
  29HE20130320,   A17,    37,  1,     16,2,20130407,0112,-29.1260, -38.1460, 4360,    710.7,   6.5035,  34.4159,2,    217.7,2,    217.8,2,    14.03,2,    25.15,2,     1.60,2,   2287.9,2,   7.6781,2,    25.00
  29HE20130320,   A17,    37,  1,     17,2,20130407,0112,-29.1260, -38.1460, 4360,    607.0,   8.2674,  34.5841,2,    209.3,2,    209.5,2,     9.99,2,    21.35,2,     1.29,2,   2290.5,2,   7.7125,2,    25.00
  29HE20130320,   A17,    37,  1,     18,2,20130407,0112,-29.1260, -38.1460, 4360,    504.5,  10.2654,  34.8383,2,    206.6,2,    206.8,2,     6.95,2,    16.57,2,     0.95,2,   2304.4,2,   7.7548,2,    25.00
  29HE20130320,   A17,    37,  1,     19,2,20130407,0112,-29.1260, -38.1460, 4360,    404.0,  12.4883,  35.1658,2,    214.7,2,    215.0,2,     3.90,2,    10.49,2,     0.66,2,   2317.3,2,   7.8286,2,    25.00
  29HE20130320,   A17,    37,  1,     20,2,20130407,0112,-29.1260, -38.1460, 4360,    304.2,  13.8328,  35.3280,2,    213.4,2,    213.3,2,     3.04,2,     7.71,2,     0.41,2,   2323.9,2,   7.8565,2,    25.00
  29HE20130320,   A17,    37,  1,     21,2,20130407,0112,-29.1260, -38.1460, 4360,    202.3,  15.6974,  35.6001,2,    213.6,2,    214.4,2,     2.01,2,     3.73,2,     0.13,2,   2336.6,2,   7.9072,2,    25.00
  29HE20130320,   A17,    37,  1,     22,2,20130407,0112,-29.1260, -38.1460, 4360,     99.8,  18.4469,  35.9540,2,    230.4,2,    231.5,2,     1.20,2,    -0.08,2,    -0.05,2,   2361.0,2,   7.9680,2,    25.00
  29HE20130320,   A17,    37,  1,     23,2,20130407,0112,-29.1260, -38.1460, 4360,     49.0,  22.5747,  36.0372,2,    216.8,2,    221.9,2,     1.03,2,    -0.04,2,    -0.04,2,   2362.9,2,   8.0247,2,    25.00
  29HE20130320,   A17,    37,  1,     24,2,20130407,0112,-29.1260, -38.1460, 4360,      7.1,  22.7208,  35.9653,2,    216.0,2,    216.6,2,     1.01,2,    -0.04,2,    -0.06,2,   2358.1,2,   8.0290,2,    25.00
  29HE20130320,   A17,    38,  1,      1,2,20130407,1032,-28.4940, -37.6040, 4439,   4499.2,   0.2741,  34.6733,2,    221.0,2,    221.9,2,   127.66,2,    32.86,2,     2.28,2,   -999.0,9,-999.0000,9,  -999.00
  29HE20130320,   A17,    38,  1,      2,2,20130407,1032,-28.4940, -37.6040, 4439,   4498.8,   0.2741,  34.6734,2,    221.7,2,   -999.0,9,  -999.00,9,  -999.00,9,  -999.00,9,   -999.0,9,-999.0000,9,  -999.00
  29HE20130320,   A17,    38,  1,      3,2,20130407,1032,-28.4940, -37.6040, 4439,   4062.8,   1.3206,  34.7690,2,    229.3,2,    229.6,2,    92.20,2,    27.77,2,     1.87,2,   -999.0,9,-999.0000,9,  -999.00
  29HE20130320,   A17,    38,  1,      4,2,20130407,1032,-28.4940, -37.6040, 4439,   3551.7,   2.2703,  34.8751,2,    249.5,2,    248.6,2,    48.40,2,    22.45,2,     1.41,2,   -999.0,9,-999.0000,9,  -999.00
  29HE20130320,   A17,    38,  1,      5,2,20130407,1032,-28.4940, -37.6040, 4439,   3043.4,   2.7052,  34.9124,2,    252.1,2,    250.4,2,    34.34,2,    20.44,2,     1.27,2,   -999.0,9,-999.0000,9,  -999.00
  29HE20130320,   A17,    38,  1,      6,2,20130407,1032,-28.4940, -37.6040, 4439,   3043.8,   2.7055,  34.9117,2,    251.3,2,   -999.0,9,  -999.00,9,  -999.00,9,  -999.00,9,   -999.0,9,-999.0000,9,  -999.00
  29HE20130320,   A17,    38,  1,      7,2,20130407,1032,-28.4940, -37.6040, 4439,   2532.3,   2.9452,  34.9180,2,    249.1,2,    246.6,2,    30.99,2,    20.97,2,     1.27,2,   -999.0,9,-999.0000,9,  -999.00
  29HE20130320,   A17,    38,  1,      8,2,20130407,1032,-28.4940, -37.6040, 4439,   2262.0,   2.9468,  34.8867,2,    239.4,2,    239.7,2,    36.16,2,    22.55,2,     1.39,2,   -999.0,9,-999.0000,9,  -999.00
  29HE20130320,   A17,    38,  1,      9,2,20130407,1032,-28.4940, -37.6040, 4439,   2023.5,   3.0275,  34.8556,2,    228.5,2,    228.2,2,    40.16,2,    24.00,2,     1.53,2,   -999.0,9,-999.0000,9,  -999.00
  29HE20130320,   A17,    38,  1,     10,2,20130407,1032,-28.4940, -37.6040, 4439,   1820.2,   3.0108,  34.7986,2,    213.5,2,    213.4,2,    47.43,2,    26.35,2,     1.71,2,   -999.0,9,-999.0000,9,  -999.00
  29HE20130320,   A17,    38,  1,     11,2,20130407,1032,-28.4940, -37.6040, 4439,   1617.0,   2.8913,  34.6937,2,    197.2,2,    197.5,2,    56.04,2,    29.69,2,     1.95,2,   -999.0,9,-999.0000,9,  -999.00
  29HE20130320,   A17,    38,  1,     12,2,20130407,1032,-28.4940, -37.6040, 4439,   1413.2,   2.9274,  34.5680,2,    189.1,2,    189.4,2,    56.96,2,    31.89,2,     2.15,2,   -999.0,9,-999.0000,9,  -999.00
  29HE20130320,   A17,    38,  1,     13,2,20130407,1032,-28.4940, -37.6040, 4439,   1212.0,   3.1478,  34.4334,2,    193.7,2,    194.1,2,    49.64,2,    32.48,2,     2.19,2,   -999.0,9,-999.0000,9,  -999.00
  29HE20130320,   A17,    38,  1,     14,2,20130407,1032,-28.4940, -37.6040, 4439,   1010.4,   3.8158,  34.2987,2,    216.9,2,   -999.0,9,  -999.00,9,  -999.00,9,  -999.00,9,   -999.0,9,-999.0000,9,  -999.00
  29HE20130320,   A17,    38,  1,     15,2,20130407,1032,-28.4940, -37.6040, 4439,   1008.6,   3.8250,  34.2985,2,    217.2,2,    217.5,2,    31.11,2,    30.97,2,     2.04,2,   -999.0,9,-999.0000,9,  -999.00
  29HE20130320,   A17,    38,  1,     16,2,20130407,1032,-28.4940, -37.6040, 4439,    808.3,   4.9657,  34.2803,2,    232.2,2,    232.6,2,    18.72,2,    27.53,2,     1.76,2,   -999.0,9,-999.0000,9,  -999.00
  29HE20130320,   A17,    38,  1,     17,2,20130407,1032,-28.4940, -37.6040, 4439,    603.9,   8.3280,  34.6086,2,    202.0,2,    202.4,2,    11.04,2,    21.99,2,     1.32,2,   -999.0,9,-999.0000,9,  -999.00
  29HE20130320,   A17,    38,  1,     18,2,20130407,1032,-28.4940, -37.6040, 4439,    503.4,  10.3429,  34.8505,2,    203.3,2,    203.6,2,     7.08,2,    16.65,2,     0.96,2,   -999.0,9,-999.0000,9,  -999.00
  29HE20130320,   A17,    38,  1,     19,2,20130407,1032,-28.4940, -37.6040, 4439,    402.4,  12.4347,  35.1370,2,    209.5,2,    210.2,2,     4.17,2,    11.22,2,     0.66,2,   -999.0,9,-999.0000,9,  -999.00
  29HE20130320,   A17,    38,  1,     20,2,20130407,1032,-28.4940, -37.6040, 4439,    302.0,  13.9720,  35.3245,2,    209.6,2,    210.2,2,     3.11,2,     7.79,2,     0.38,2,   -999.0,9,-999.0000,9,  -999.00
  29HE20130320,   A17,    38,  1,     21,2,20130407,1032,-28.4940, -37.6040, 4439,    199.2,  16.0547,  35.6556,2,    208.7,2,    209.8,2,     1.96,2,     3.96,2,     0.10,2,   -999.0,9,-999.0000,9,  -999.00
  29HE20130320,   A17,    38,  1,     22,2,20130407,1032,-28.4940, -37.6040, 4439,    102.3,  19.4997,  36.1979,2,    218.2,2,    219.6,2,     0.98,2,     0.28,2,    -0.03,2,   -999.0,9,-999.0000,9,  -999.00
  29HE20130320,   A17,    38,  1,     23,2,20130407,1032,-28.4940, -37.6040, 4439,     50.5,  23.5114,  36.4711,2,    215.1,2,    216.0,2,     0.89,2,    -0.06,2,    -0.05,2,   -999.0,9,-999.0000,9,  -999.00
  29HE20130320,   A17,    38,  1,     24,2,20130407,1032,-28.4940, -37.6040, 4439,      6.3,  23.5972,  36.0264,2,    212.9,2,    213.8,2,     0.78,2,    -0.05,2,    -0.05,2,   -999.0,9,-999.0000,9,  -999.00
  29HE20130320,   A17,    38,  2,      1,2,20130407,1604,-28.4940, -37.6040, 4439,    304.7,  13.8902,  35.3131,2,    216.0,2,   -999.0,9,  -999.00,9,  -999.00,9,  -999.00,9,   -999.0,9,-999.0000,9,  -999.00
  29HE20130320,   A17,    38,  2,      2,2,20130407,1604,-28.4940, -37.6040, 4439,    305.2,  13.8921,  35.3134,2,    215.7,2,   -999.0,9,  -999.00,9,  -999.00,9,  -999.00,9,   -999.0,9,-999.0000,9,  -999.00
  29HE20130320,   A17,    38,  2,      3,2,20130407,1604,-28.4940, -37.6040, 4439,    302.5,  13.8989,  35.3142,2,    216.4,2,   -999.0,9,  -999.00,9,  -999.00,9,  -999.00,9,   -999.0,9,-999.0000,9,  -999.00
  29HE20130320,   A17,    38,  2,      4,2,20130407,1604,-28.4940, -37.6040, 4439,    302.6,  13.8990,  35.3141,2,    216.2,2,   -999.0,9,  -999.00,9,  -999.00,9,  -999.00,9,   -999.0,9,-999.0000,9,  -999.00
  29HE20130320,   A17,    38,  2,      5,2,20130407,1604,-28.4940, -37.6040, 4439,    303.9,  13.8930,  35.3135,2,    216.1,2,   -999.0,9,  -999.00,9,  -999.00,9,  -999.00,9,   -999.0,9,-999.0000,9,  -999.00
  29HE20130320,   A17,    38,  2,      6,2,20130407,1604,-28.4940, -37.6040, 4439,    202.5,  16.1646,  35.6796,2,    213.7,2,   -999.0,9,  -999.00,9,  -999.00,9,  -999.00,9,   -999.0,9,-999.0000,9,  -999.00
  29HE20130320,   A17,    38,  2,      7,2,20130407,1604,-28.4940, -37.6040, 4439,     94.6,  20.2957,  36.3475,2,    224.9,2,   -999.0,9,  -999.00,9,  -999.00,9,  -999.00,9,   -999.0,9,-999.0000,9,  -999.00
  29HE20130320,   A17,    38,  2,      8,2,20130407,1604,-28.4940, -37.6040, 4439,     51.1,  23.4718,  36.4919,2,    225.7,2,   -999.0,9,  -999.00,9,  -999.00,9,  -999.00,9,   -999.0,9,-999.0000,9,  -999.00
  29HE20130320,   A17,    38,  2,      9,2,20130407,1604,-28.4940, -37.6040, 4439,      6.9,  23.7669,  36.0959,2,    219.9,2,   -999.0,9,  -999.00,9,  -999.00,9,  -999.00,9,   -999.0,9,-999.0000,9,  -999.00
  29HE20130320,   A17,    38,  2,     10,2,20130407,1604,-28.4940, -37.6040, 4439,      7.0,  23.7677,  36.0963,2,    220.4,2,   -999.0,9,  -999.00,9,  -999.00,9,  -999.00,9,   -999.0,9,-999.0000,9,  -999.00
  29HE20130320,   A17,    38,  2,     11,2,20130407,1604,-28.4940, -37.6040, 4439,      6.4,  23.7869,  36.0961,2,    220.6,2,   -999.0,9,  -999.00,9,  -999.00,9,  -999.00,9,   -999.0,9,-999.0000,9,  -999.00
  29HE20130320,   A17,    38,  2,     12,2,20130407,1604,-28.4940, -37.6040, 4439,      7.1,  23.7797,  36.0959,2,    220.8,2,   -999.0,9,  -999.00,9,  -999.00,9,  -999.00,9,   -999.0,9,-999.0000,9,  -999.00
  29HE20130320,   A17,    38,  2,     13,2,20130407,1604,-28.4940, -37.6040, 4439,      6.6,  23.7851,  36.0962,2,    220.2,2,   -999.0,9,  -999.00,9,  -999.00,9,  -999.00,9,   -999.0,9,-999.0000,9,  -999.00
  29HE20130320,   A17,    38,  2,     14,2,20130407,1604,-28.4940, -37.6040, 4439,      6.3,  23.7921,  36.0963,2,    220.4,2,   -999.0,9,  -999.00,9,  -999.00,9,  -999.00,9,   -999.0,9,-999.0000,9,  -999.00
  29HE20130320,   A17,    38,  2,     15,2,20130407,1604,-28.4940, -37.6040, 4439,      6.4,  23.7903,  36.0959,2,    220.7,2,   -999.0,9,  -999.00,9,  -999.00,9,  -999.00,9,   -999.0,9,-999.0000,9,  -999.00
  29HE20130320,   A17,    38,  2,     16,2,20130407,1604,-28.4940, -37.6040, 4439,      7.2,  23.7752,  36.0966,2,    220.8,2,   -999.0,9,  -999.00,9,  -999.00,9,  -999.00,9,   -999.0,9,-999.0000,9,  -999.00
  29HE20130320,   A17,    38,  2,     17,2,20130407,1604,-28.4940, -37.6040, 4439,      6.2,  23.7884,  36.0963,2,    220.0,2,   -999.0,9,  -999.00,9,  -999.00,9,  -999.00,9,   -999.0,9,-999.0000,9,  -999.00
  29HE20130320,   A17,    38,  2,     18,2,20130407,1604,-28.4940, -37.6040, 4439,      6.6,  23.7953,  36.0966,2,    220.8,2,   -999.0,9,  -999.00,9,  -999.00,9,  -999.00,9,   -999.0,9,-999.0000,9,  -999.00
  29HE20130320,   A17,    38,  2,     19,2,20130407,1604,-28.4940, -37.6040, 4439,      6.9,  23.7943,  36.0963,2,    221.2,2,   -999.0,9,  -999.00,9,  -999.00,9,  -999.00,9,   -999.0,9,-999.0000,9,  -999.00
  29HE20130320,   A17,    38,  2,     20,2,20130407,1604,-28.4940, -37.6040, 4439,      6.6,  23.7831,  36.0960,2,    220.8,2,   -999.0,9,  -999.00,9,  -999.00,9,  -999.00,9,   -999.0,9,-999.0000,9,  -999.00
  29HE20130320,   A17,    38,  2,     21,2,20130407,1604,-28.4940, -37.6040, 4439,      7.1,  23.7697,  36.0962,2,    220.2,2,   -999.0,9,  -999.00,9,  -999.00,9,  -999.00,9,   -999.0,9,-999.0000,9,  -999.00
  29HE20130320,   A17,    38,  2,     22,2,20130407,1604,-28.4940, -37.6040, 4439,      6.5,  23.7793,  36.0959,2,    220.4,2,   -999.0,9,  -999.00,9,  -999.00,9,  -999.00,9,   -999.0,9,-999.0000,9,  -999.00
  29HE20130320,   A17,    38,  2,     23,2,20130407,1604,-28.4940, -37.6040, 4439,      6.5,  23.7751,  36.0965,2,    220.4,2,   -999.0,9,  -999.00,9,  -999.00,9,  -999.00,9,   -999.0,9,-999.0000,9,  -999.00
  29HE20130320,   A17,    38,  2,     24,2,20130407,1604,-28.4940, -37.6040, 4439,      6.2,  23.7754,  36.0959,2,    220.4,2,   -999.0,9,  -999.00,9,  -999.00,9,  -999.00,9,   -999.0,9,-999.0000,9,  -999.00
  29HE20130320,   A17,    39,  1,      3,2,20130407,2058,-27.9050, -37.0890, 4676,   4122.1,   1.2165,  34.7623,2,    230.0,2,    230.2,2,    93.58,2,    28.11,2,     1.87,2,   2358.0,2,   7.6612,2,    25.00
  29HE20130320,   A17,    39,  1,      4,2,20130407,2058,-27.9050, -37.0890, 4676,   3554.5,   2.3049,  34.8791,2,    250.7,2,    250.2,2,    45.73,2,    21.89,2,     1.40,2,   2331.8,2,   7.7248,2,    25.00
  29HE20130320,   A17,    39,  1,      5,2,20130407,2058,-27.9050, -37.0890, 4676,   3040.9,   2.7381,  34.9149,2,    253.1,2,    251.9,2,    32.79,2,    20.80,2,     1.29,2,   2325.7,2,   7.7355,2,    25.00
  29HE20130320,   A17,    39,  1,      6,2,20130407,2058,-27.9050, -37.0890, 4676,   2531.5,   2.9361,  34.9185,2,    250.1,2,    248.9,2,    31.12,2,    20.71,2,     1.29,2,   2322.5,2,   7.7266,2,    25.00
  29HE20130320,   A17,    39,  1,      7,2,20130407,2058,-27.9050, -37.0890, 4676,   2276.0,   2.9771,  34.8963,2,    243.1,2,    241.6,2,    33.52,2,    22.00,2,     1.38,2,   2327.0,2,   7.7148,2,    25.00
  29HE20130320,   A17,    39,  1,      8,2,20130407,2058,-27.9050, -37.0890, 4676,   2023.2,   2.9001,  34.8420,2,    229.1,2,    227.1,2,    41.08,2,    24.24,2,     1.56,2,   2326.6,2,   7.6933,2,    25.00
  29HE20130320,   A17,    39,  1,      9,2,20130407,2058,-27.9050, -37.0890, 4676,   2021.0,   2.8987,  34.8412,2,    228.4,2,   -999.0,9,  -999.00,9,  -999.00,9,  -999.00,9,   -999.0,9,-999.0000,9,  -999.00
  29HE20130320,   A17,    39,  1,     10,2,20130407,2058,-27.9050, -37.0890, 4676,   1819.6,   2.8651,  34.7876,2,    216.1,2,    215.6,2,    48.09,2,    26.51,2,     1.70,2,   2331.3,2,   7.6620,2,    25.00
  29HE20130320,   A17,    39,  1,     11,2,20130407,2058,-27.9050, -37.0890, 4676,   1615.5,   2.8799,  34.7022,2,    200.5,2,    200.3,2,    53.48,2,    28.81,2,     1.92,2,   2330.2,2,   7.6246,2,    25.00
  29HE20130320,   A17,    39,  1,     12,2,20130407,2058,-27.9050, -37.0890, 4676,   1413.9,   3.0041,  34.6188,2,    191.1,2,    191.1,2,    54.13,2,    30.75,2,     2.06,2,   2326.6,2,   7.6077,2,    25.00
  29HE20130320,   A17,    39,  1,     13,2,20130407,2058,-27.9050, -37.0890, 4676,   1213.0,   3.1186,  34.4645,2,    190.3,2,   -999.0,9,  -999.00,9,  -999.00,9,  -999.00,9,   -999.0,9,-999.0000,9,  -999.00
  29HE20130320,   A17,    39,  1,     14,2,20130407,2058,-27.9050, -37.0890, 4676,   1010.2,   3.6287,  34.3353,2,    207.7,2,    207.5,2,    36.78,2,    31.97,2,     2.11,2,   2301.3,2,   7.6080,2,    25.00
  29HE20130320,   A17,    39,  1,     15,2,20130407,2058,-27.9050, -37.0890, 4676,    807.5,   4.7178,  34.2746,2,    231.4,2,    230.0,2,    21.25,2,    28.23,2,     1.83,2,   2290.6,2,   7.6473,2,    25.00
  29HE20130320,   A17,    39,  1,     16,2,20130407,2058,-27.9050, -37.0890, 4676,    704.5,   6.1743,  34.3793,2,    223.8,2,    223.5,2,    15.10,2,    25.67,2,     1.62,2,   2286.7,2,   7.6730,2,    25.00
  29HE20130320,   A17,    39,  1,     17,2,20130407,2058,-27.9050, -37.0890, 4676,    604.4,   8.0552,  34.5721,2,    211.3,2,    212.1,2,    10.87,2,    22.12,2,     1.35,2,   2289.2,2,   7.7033,2,    25.00
  29HE20130320,   A17,    39,  1,     18,2,20130407,2058,-27.9050, -37.0890, 4676,    503.3,  10.4319,  34.8663,2,    208.0,2,    208.7,2,     6.69,2,    16.50,2,     0.94,2,   2301.4,2,   7.7648,2,    25.00
  29HE20130320,   A17,    39,  1,     19,2,20130407,2058,-27.9050, -37.0890, 4676,    402.8,  12.4174,  35.1533,2,    213.1,2,    213.1,2,     4.02,2,    11.12,2,     0.71,2,   2317.2,2,   7.8249,2,    25.00
  29HE20130320,   A17,    39,  1,     20,2,20130407,2058,-27.9050, -37.0890, 4676,    301.9,  14.0001,  35.4008,2,    214.7,2,    215.0,2,     2.76,2,     7.59,2,     0.42,2,   2330.0,2,   7.8679,2,    25.00
  29HE20130320,   A17,    39,  1,     21,2,20130407,2058,-27.9050, -37.0890, 4676,    200.3,  15.6861,  35.6202,2,    214.2,2,    214.3,2,     1.92,2,     4.29,2,     0.19,2,   2340.9,2,   7.9069,2,    25.00
  29HE20130320,   A17,    39,  1,     22,2,20130407,2058,-27.9050, -37.0890, 4676,    101.4,  18.7639,  35.9684,2,    229.2,2,    228.4,2,     1.20,2,     0.16,2,    -0.01,2,   2360.2,2,   7.9751,2,    25.00
  29HE20130320,   A17,    39,  1,     23,2,20130407,2058,-27.9050, -37.0890, 4676,     50.7,  23.8417,  36.3200,2,    211.8,2,    212.5,2,     0.87,2,     0.00,2,    -0.01,2,   2380.7,2,   8.0465,2,    25.00
  29HE20130320,   A17,    39,  1,     24,2,20130407,2058,-27.9050, -37.0890, 4676,      4.3,  23.6620,  35.9683,2,    212.6,2,    214.1,2,     0.70,2,    -0.01,2,    -0.03,2,   2359.0,2,   8.0402,2,    25.00