BOTTLE,20230216CCHSIOENA
EXPOCODE,SECT_ID,STNNBR,CASTNO,BTLNBR,BTLNBR_FLAG_W,DATE,TIME,LATITUDE,LONGITUDE,DEPTH,CTDPRS,CTDTMP,CTDSAL,CTDSAL_FLAG_W,CTDOXY,CTDOXY_FLAG_W,OXYGEN,OXYGEN_FLAG_W,SILCAT,SILCAT_FLAG_W,NITRAT,NITRAT_FLAG_W,PHSPHT,PHSPHT_FLAG_W,ALKALI,ALKALI_FLAG_W,PH_TOT,PH_TOT_FLAG_W,PH_TMP
,,,,,,,,,,METERS,DBAR,ITS-90,PSS-78,,UMOL/KG,,UMOL/KG,,UMOL/KG,,UMOL/KG,,UMOL/KG,,UMOL/KG,,,,DEG C
  29HE20130320,   A17,    45,  1,      1,2,20130410,0310,-24.3010, -33.9340, 4612,   4678.0,   0.2984,  34.6735,2,    221.0,2,    220.1,2,   125.38,2,    31.78,2,     2.27,2,   2364.1,2,   7.6059,2,    25.00
  29HE20130320,   A17,    45,  1,      2,2,20130410,0310,-24.3010, -33.9340, 4612,   4577.9,   0.3252,  34.6757,2,    220.7,2,    220.0,2,   125.42,2,    31.96,2,     2.24,2,   2365.1,2,   7.6057,2,    25.00
  29HE20130320,   A17,    45,  1,      3,2,20130410,0310,-24.3010, -33.9340, 4612,   4062.9,   1.4646,  34.7899,2,    234.7,2,    233.6,2,    82.44,2,    26.23,2,     1.78,2,   2351.2,2,   7.6750,2,    25.00
  29HE20130320,   A17,    45,  1,      4,2,20130410,0310,-24.3010, -33.9340, 4612,   3551.2,   2.4800,  34.8962,2,    253.0,2,    251.5,2,    39.21,2,    20.33,2,     1.34,2,   2335.5,2,   7.7295,2,    25.00
  29HE20130320,   A17,    45,  1,      5,2,20130410,0310,-24.3010, -33.9340, 4612,   3040.6,   2.8027,  34.9198,2,    252.6,2,    251.5,2,    31.36,2,    19.93,2,     1.26,2,   2328.8,2,   7.7337,2,    25.00
  29HE20130320,   A17,    45,  1,      6,2,20130410,0310,-24.3010, -33.9340, 4612,   2785.2,   2.9228,  34.9264,2,    252.1,2,    250.8,2,    30.13,2,    19.71,2,     1.28,2,   2327.3,2,   7.7328,2,    25.00
  29HE20130320,   A17,    45,  1,      7,2,20130410,0310,-24.3010, -33.9340, 4612,   2530.9,   3.0555,  34.9332,2,    251.9,2,    250.5,2,    28.20,2,    19.42,2,     1.25,2,   2324.2,2,   7.7287,2,    25.00
  29HE20130320,   A17,    45,  1,      8,2,20130410,0310,-24.3010, -33.9340, 4612,   2278.0,   3.2487,  34.9402,2,    251.0,2,    251.7,2,    25.46,2,    19.47,2,     1.24,2,   2321.4,2,   7.7272,2,    25.00
  29HE20130320,   A17,    45,  1,      9,2,20130410,0310,-24.3010, -33.9340, 4612,   2023.8,   3.4607,  34.9409,2,    246.9,2,    246.0,2,    24.04,2,    19.94,2,     1.26,2,   2318.1,2,   7.7220,2,    25.00
  29HE20130320,   A17,    45,  1,     10,2,20130410,0310,-24.3010, -33.9340, 4612,   2023.8,   3.4607,  34.9409,2,    246.3,2,   -999.0,9,    24.14,2,    19.88,2,     1.26,2,   -999.0,9,-999.0000,9,  -999.00
  29HE20130320,   A17,    45,  1,     11,2,20130410,0310,-24.3010, -33.9340, 4612,   1819.8,   3.5259,  34.9125,2,    236.6,2,    235.8,2,    27.29,2,    21.46,2,     1.39,2,   2319.5,2,   7.6964,2,    25.00
  29HE20130320,   A17,    45,  1,     12,2,20130410,0310,-24.3010, -33.9340, 4612,   1617.1,   3.3143,  34.7929,2,    211.3,2,    210.9,2,    39.81,2,    25.88,2,     1.76,2,   2325.6,2,   7.6599,2,    25.00
  29HE20130320,   A17,    45,  1,     13,2,20130410,0310,-24.3010, -33.9340, 4612,   1414.4,   3.2832,  34.6837,2,    195.3,2,    194.5,2,    45.85,2,    29.05,2,     1.98,2,   2323.3,2,   7.6246,2,    25.00
  29HE20130320,   A17,    45,  1,     14,2,20130410,0310,-24.3010, -33.9340, 4612,   1211.9,   3.2376,  34.5266,2,    186.6,2,    186.2,2,    50.14,2,    32.02,2,     2.17,2,   2320.7,2,   7.5962,2,    25.00
  29HE20130320,   A17,    45,  1,     15,2,20130410,0310,-24.3010, -33.9340, 4612,   1009.5,   3.6579,  34.3944,2,    194.8,2,    193.9,2,    40.77,2,    31.48,2,     2.18,2,   2308.9,2,   7.5988,2,    25.00
  29HE20130320,   A17,    45,  1,     16,2,20130410,0310,-24.3010, -33.9340, 4612,    805.0,   5.3010,  34.4005,2,    187.5,2,    187.2,2,    24.87,2,    30.18,2,     2.02,2,   2295.8,2,   7.6120,2,    25.00
  29HE20130320,   A17,    45,  1,     17,2,20130410,0310,-24.3010, -33.9340, 4612,    605.7,   8.4228,  34.6467,2,    171.9,2,    172.3,2,    13.51,2,    23.96,2,     1.53,2,   2294.1,2,   7.6604,2,    25.00
  29HE20130320,   A17,    45,  1,     18,2,20130410,0310,-24.3010, -33.9340, 4612,    505.5,  10.3816,  34.8494,2,    183.9,2,    184.0,2,     8.41,2,    18.56,2,     1.11,2,   2300.0,2,   7.7263,2,    25.00
  29HE20130320,   A17,    45,  1,     19,2,20130410,0310,-24.3010, -33.9340, 4612,    404.7,  12.7642,  35.1613,2,    208.6,2,    208.8,2,     3.98,2,    10.23,2,     0.64,2,   2317.2,2,   7.8240,2,    25.00
  29HE20130320,   A17,    45,  1,     20,2,20130410,0310,-24.3010, -33.9340, 4612,    302.0,  14.9818,  35.4866,2,    213.0,2,    212.3,2,     2.33,2,     5.28,2,     0.19,2,   2333.5,2,   7.8833,2,    25.00
  29HE20130320,   A17,    45,  1,     21,2,20130410,0310,-24.3010, -33.9340, 4612,    202.8,  17.8084,  35.9577,2,    203.7,2,    203.5,2,     1.78,2,     2.45,2,     0.02,2,   2360.6,2,   7.9241,2,    25.00
  29HE20130320,   A17,    45,  1,     22,2,20130410,0310,-24.3010, -33.9340, 4612,    112.1,  21.7168,  36.5957,2,    223.5,2,    223.6,2,     1.05,2,     0.00,2,     0.01,2,   2401.3,2,   8.0221,2,    25.00
  29HE20130320,   A17,    45,  1,     23,2,20130410,0310,-24.3010, -33.9340, 4612,     50.0,  26.6751,  37.0681,2,    201.1,2,    200.7,2,     0.79,2,     0.01,2,    -0.01,2,   2428.4,2,   8.0763,2,    25.00
  29HE20130320,   A17,    45,  1,     24,2,20130410,0310,-24.3010, -33.9340, 4612,      5.7,  26.6693,  37.0693,2,    201.0,2,    200.8,2,     0.80,2,     0.02,2,     0.00,2,   2429.5,2,   8.0776,2,    25.00
  29HE20130320,   A17,    46,  1,      1,2,20130410,1143,-23.7050, -33.4130, 4597,   4658.7,   0.3192,  34.6748,2,    220.4,2,    220.1,2,   125.59,2,    32.46,2,     2.22,2,   -999.0,9,   7.5945,2,    25.00
  29HE20130320,   A17,    46,  1,      2,2,20130410,1143,-23.7050, -33.4130, 4597,   4575.2,   0.3479,  34.6770,2,    221.2,2,   -999.0,9,  -999.00,9,  -999.00,9,  -999.00,9,   -999.0,9,-999.0000,9,  -999.00
  29HE20130320,   A17,    46,  1,      3,2,20130410,1143,-23.7050, -33.4130, 4597,   4062.2,   1.5968,  34.8044,2,    237.7,2,    237.0,2,    75.12,2,    25.32,2,     1.69,2,   -999.0,9,   7.6741,2,    25.00
  29HE20130320,   A17,    46,  1,      4,2,20130410,1143,-23.7050, -33.4130, 4597,   3549.2,   2.5244,  34.8997,2,    253.4,2,    252.2,2,    36.99,2,    20.42,2,     1.30,2,   -999.0,9,   7.7246,2,    25.00
  29HE20130320,   A17,    46,  1,      5,2,20130410,1143,-23.7050, -33.4130, 4597,   3040.9,   2.8174,  34.9205,2,    252.3,2,    250.6,2,    30.83,2,    20.18,2,     1.26,2,   -999.0,9,   7.7278,2,    25.00
  29HE20130320,   A17,    46,  1,      6,2,20130410,1143,-23.7050, -33.4130, 4597,   2784.5,   2.9622,  34.9285,2,    252.1,2,    251.1,2,    29.50,2,    19.95,2,     1.25,2,   -999.0,9,   7.7255,2,    25.00
  29HE20130320,   A17,    46,  1,      7,2,20130410,1143,-23.7050, -33.4130, 4597,   2528.5,   3.1183,  34.9366,2,    252.3,2,    251.3,2,    26.80,2,    19.70,2,     1.23,2,   -999.0,9,   7.7309,2,    25.00
  29HE20130320,   A17,    46,  1,      8,2,20130410,1143,-23.7050, -33.4130, 4597,   2276.4,   3.2697,  34.9404,2,    250.6,2,    249.7,2,    25.04,2,    19.60,2,     1.23,2,   -999.0,9,   7.7276,2,    25.00
  29HE20130320,   A17,    46,  1,      9,2,20130410,1143,-23.7050, -33.4130, 4597,   2024.5,   3.5292,  34.9522,2,    249.1,2,    248.5,2,    21.32,2,    19.51,2,     1.23,2,   -999.0,9,   7.7263,2,    25.00
  29HE20130320,   A17,    46,  1,     10,2,20130410,1143,-23.7050, -33.4130, 4597,   1820.3,   3.7278,  34.9455,2,    242.0,2,    240.5,2,    21.45,2,    20.20,2,     1.28,2,   -999.0,9,   7.7142,2,    25.00
  29HE20130320,   A17,    46,  1,     11,2,20130410,1143,-23.7050, -33.4130, 4597,   1616.5,   3.8159,  34.9034,2,    226.8,2,    226.6,2,    25.29,2,    22.45,2,     1.45,2,   -999.0,9,   7.6931,2,    25.00
  29HE20130320,   A17,    46,  1,     12,2,20130410,1143,-23.7050, -33.4130, 4597,   1414.3,   3.7174,  34.7873,2,    203.8,2,    203.7,2,    33.05,2,    26.07,2,     1.77,2,   -999.0,9,   7.6511,2,    25.00
  29HE20130320,   A17,    46,  1,     13,2,20130410,1143,-23.7050, -33.4130, 4597,   1211.8,   3.5562,  34.5997,2,    187.8,2,    187.4,2,    40.44,2,    30.23,2,     2.07,2,   -999.0,9,   7.6082,2,    25.00
  29HE20130320,   A17,    46,  1,     14,2,20130410,1143,-23.7050, -33.4130, 4597,   1010.4,   3.7602,  34.4510,2,    183.8,2,    183.6,2,    38.66,2,    32.06,2,     2.18,2,   -999.0,9,   7.5911,2,    25.00
  29HE20130320,   A17,    46,  1,     15,2,20130410,1143,-23.7050, -33.4130, 4597,    808.0,   4.9342,  34.3743,2,    194.1,2,    193.8,2,    25.83,2,    30.08,2,     2.00,2,   -999.0,9,   7.6115,2,    25.00
  29HE20130320,   A17,    46,  1,     16,2,20130410,1143,-23.7050, -33.4130, 4597,    706.8,   6.1202,  34.4201,2,    197.9,2,    198.3,2,    18.20,2,    27.19,2,     1.77,2,   -999.0,9,   7.6443,2,    25.00
  29HE20130320,   A17,    46,  1,     17,2,20130410,1143,-23.7050, -33.4130, 4597,    604.6,   7.7922,  34.5639,2,    194.5,2,    195.1,2,    12.80,2,    23.30,2,     1.46,2,   -999.0,9,   7.6807,2,    25.00
  29HE20130320,   A17,    46,  1,     18,2,20130410,1143,-23.7050, -33.4130, 4597,    504.7,  10.0816,  34.8099,2,    195.3,2,    194.7,2,     7.92,2,    17.90,2,     1.02,2,   -999.0,9,   7.7376,2,    25.00
  29HE20130320,   A17,    46,  1,     19,2,20130410,1143,-23.7050, -33.4130, 4597,    402.2,  12.2893,  35.1115,2,    210.3,2,    210.3,2,     4.11,2,    11.31,2,     0.66,2,   -999.0,9,   7.8100,2,    25.00
  29HE20130320,   A17,    46,  1,     20,2,20130410,1143,-23.7050, -33.4130, 4597,    303.1,  14.3136,  35.4079,2,    214.6,2,    213.7,2,     2.42,2,     6.53,2,     0.23,2,   -999.0,9,   7.8723,2,    25.00
  29HE20130320,   A17,    46,  1,     21,2,20130410,1143,-23.7050, -33.4130, 4597,    202.8,  16.5492,  35.7262,2,    209.2,2,    208.8,2,     1.81,2,     3.17,2,     0.04,2,   -999.0,9,   7.9134,2,    25.00
  29HE20130320,   A17,    46,  1,     22,2,20130410,1143,-23.7050, -33.4130, 4597,    100.2,  21.2791,  36.5012,2,    224.6,2,    223.3,2,     0.96,2,     0.01,2,    -0.01,2,   -999.0,9,   8.0173,2,    25.00
  29HE20130320,   A17,    46,  1,     23,2,20130410,1143,-23.7050, -33.4130, 4597,     50.7,  26.0159,  36.6028,2,    204.1,2,    210.9,2,     0.74,2,     0.01,2,    -0.01,2,   -999.0,9,   8.0536,2,    25.00
  29HE20130320,   A17,    46,  1,     24,2,20130410,1143,-23.7050, -33.4130, 4597,      6.5,  26.1076,  36.6201,2,    203.5,2,    203.7,2,     0.74,2,     0.02,2,     0.00,2,   -999.0,9,   8.0578,2,    25.00
  29HE20130320,   A17,    47,  1,      1,2,20130410,2030,-23.1080, -32.8900, 4767,   4809.8,   0.3444,  34.6757,2,    220.6,2,    220.5,2,   119.93,2,    31.75,2,     2.22,2,   2365.9,2,   7.6053,2,    25.00
  29HE20130320,   A17,    47,  1,      2,2,20130410,2030,-23.1080, -32.8900, 4767,   4579.0,   0.9225,  34.7286,2,    224.7,2,    224.8,2,   101.61,2,    29.61,2,     2.00,2,   2364.9,2,   7.6355,2,    25.00
  29HE20130320,   A17,    47,  1,      3,2,20130410,2030,-23.1080, -32.8900, 4767,   4062.6,   1.8227,  34.8278,2,    241.8,2,    241.2,2,    63.50,2,    24.32,2,     1.60,2,   2350.0,2,   7.6940,2,    25.00
  29HE20130320,   A17,    47,  1,      4,2,20130410,2030,-23.1080, -32.8900, 4767,   3550.6,   2.5274,  34.9005,2,    252.9,2,    252.4,2,    35.29,2,    20.79,2,     1.30,2,   2340.6,2,   7.7305,2,    25.00
  29HE20130320,   A17,    47,  1,      5,2,20130410,2030,-23.1080, -32.8900, 4767,   3041.6,   2.7733,  34.9174,2,    251.5,2,    251.1,2,    31.67,2,    20.32,2,     1.28,2,   2328.8,2,   7.7327,2,    25.00
  29HE20130320,   A17,    47,  1,      6,2,20130410,2030,-23.1080, -32.8900, 4767,   2782.3,   2.8613,  34.9204,2,    250.2,2,    249.9,2,    31.04,2,    20.25,2,     1.29,2,   2326.7,2,   7.7277,2,    25.00
  29HE20130320,   A17,    47,  1,      7,2,20130410,2030,-23.1080, -32.8900, 4767,   2532.1,   3.0098,  34.9304,2,    250.9,2,    251.1,2,    27.95,2,    19.81,2,     1.27,2,   2326.6,2,   7.7328,2,    25.00
  29HE20130320,   A17,    47,  1,      8,2,20130410,2030,-23.1080, -32.8900, 4767,   2275.8,   3.1923,  34.9420,2,    252.1,2,    251.7,2,    24.50,2,    19.47,2,     1.22,2,   2321.4,2,   7.7325,2,    25.00
  29HE20130320,   A17,    47,  1,      9,2,20130410,2030,-23.1080, -32.8900, 4767,   2022.3,   3.4090,  34.9498,2,    250.6,2,    250.3,2,    22.14,2,    19.63,2,     1.22,2,   2325.4,2,   7.7312,2,    25.00
  29HE20130320,   A17,    47,  1,     10,2,20130410,2030,-23.1080, -32.8900, 4767,   1818.7,   3.5683,  34.9440,2,    244.8,2,    244.8,2,    22.08,2,    20.27,2,     1.27,2,   2320.7,2,   7.7224,2,    25.00
  29HE20130320,   A17,    47,  1,     11,2,20130410,2030,-23.1080, -32.8900, 4767,   1817.9,   3.5680,  34.9440,2,    244.1,2,   -999.0,9,    22.07,2,    20.20,2,     1.28,2,   -999.0,9,   7.7247,2,    25.00
  29HE20130320,   A17,    47,  1,     12,2,20130410,2030,-23.1080, -32.8900, 4767,   1618.5,   3.6937,  34.9040,2,    229.7,2,    229.3,2,    25.95,2,    22.33,2,     1.44,2,   2320.4,2,   7.7002,2,    25.00
  29HE20130320,   A17,    47,  1,     13,2,20130410,2030,-23.1080, -32.8900, 4767,   1417.3,   3.6994,  34.8156,2,    208.9,2,    208.8,2,    31.46,2,    25.51,2,     1.69,2,   2323.6,2,   7.6648,2,    25.00
  29HE20130320,   A17,    47,  1,     14,2,20130410,2030,-23.1080, -32.8900, 4767,   1211.9,   3.4765,  34.6474,2,    190.2,2,    190.3,2,    41.68,2,    29.66,2,     2.01,2,   2323.0,2,   7.6182,2,    25.00
  29HE20130320,   A17,    47,  1,     15,2,20130410,2030,-23.1080, -32.8900, 4767,   1009.3,   3.6222,  34.4552,2,    185.5,2,    186.0,2,    40.99,2,    31.98,2,     2.16,2,   2312.2,2,   7.5952,2,    25.00
  29HE20130320,   A17,    47,  1,     16,2,20130410,2030,-23.1080, -32.8900, 4767,    806.5,   4.4202,  34.3467,2,    202.4,2,    203.0,2,  -999.00,9,  -999.00,9,  -999.00,9,   -999.0,9,-999.0000,9,  -999.00
  29HE20130320,   A17,    47,  1,     17,2,20130410,2030,-23.1080, -32.8900, 4767,    605.4,   7.2246,  34.5000,2,    202.4,2,    202.8,2,    13.39,2,    24.25,2,     1.58,2,   2289.6,2,   7.6770,2,    25.00
  29HE20130320,   A17,    47,  1,     18,2,20130410,2030,-23.1080, -32.8900, 4767,    503.8,   9.6697,  34.7621,2,    199.6,2,    201.0,2,     8.12,2,    18.20,2,     1.18,2,   2297.7,2,   7.7375,2,    25.00
  29HE20130320,   A17,    47,  1,     19,2,20130410,2030,-23.1080, -32.8900, 4767,    404.1,  12.1905,  35.0897,2,    207.6,2,    208.1,2,     4.38,2,    11.90,2,     0.77,2,   2313.8,2,   7.8108,2,    25.00
  29HE20130320,   A17,    47,  1,     20,2,20130410,2030,-23.1080, -32.8900, 4767,    301.7,  14.3750,  35.3778,2,    207.3,2,    205.7,2,     2.76,2,     7.26,2,     0.41,2,   2328.6,2,   7.8652,2,    25.00
  29HE20130320,   A17,    47,  1,     21,2,20130410,2030,-23.1080, -32.8900, 4767,    202.8,  17.4690,  35.8765,2,    208.4,2,    208.6,2,     1.69,2,     2.11,2,     0.03,2,   2356.5,2,   7.9330,2,    25.00
  29HE20130320,   A17,    47,  1,     22,2,20130410,2030,-23.1080, -32.8900, 4767,    102.3,  21.5939,  36.6083,2,    222.4,2,    221.6,2,     1.00,2,     0.01,2,    -0.01,2,   2403.8,2,   8.0222,2,    25.00
  29HE20130320,   A17,    47,  1,     23,2,20130410,2030,-23.1080, -32.8900, 4767,     52.4,  26.3963,  36.9731,2,    205.6,2,    208.4,2,     0.81,2,     0.01,2,    -0.02,2,   2423.8,2,   8.0690,2,    25.00
  29HE20130320,   A17,    47,  1,     24,2,20130410,2030,-23.1080, -32.8900, 4767,      9.2,  26.5565,  36.8148,2,    201.7,2,    202.3,2,     0.75,2,     0.03,2,    -0.01,2,   2414.3,2,   8.0690,2,    25.00