BOTTLE,20230216CCHSIOENA
EXPOCODE,SECT_ID,STNNBR,CASTNO,BTLNBR,BTLNBR_FLAG_W,DATE,TIME,LATITUDE,LONGITUDE,DEPTH,CTDPRS,CTDTMP,CTDSAL,CTDSAL_FLAG_W,CTDOXY,CTDOXY_FLAG_W,OXYGEN,OXYGEN_FLAG_W,SILCAT,SILCAT_FLAG_W,NITRAT,NITRAT_FLAG_W,PHSPHT,PHSPHT_FLAG_W,ALKALI,ALKALI_FLAG_W,PH_TOT,PH_TOT_FLAG_W,PH_TMP
,,,,,,,,,,METERS,DBAR,ITS-90,PSS-78,,UMOL/KG,,UMOL/KG,,UMOL/KG,,UMOL/KG,,UMOL/KG,,UMOL/KG,,,,DEG C
  29HE20130320,   A17,    21,  1,      1,2,20130331,1315,-38.6820, -46.4440, 5180,   5280.2,   0.2964,  34.6703,2,    222.1,2,    221.6,2,   129.83,2,    32.91,2,     2.27,2,   2368.9,2,   7.6068,2,    25.00
  29HE20130320,   A17,    21,  1,      2,2,20130331,1315,-38.6820, -46.4440, 5180,   5279.6,   0.2964,  34.6703,2,    222.8,2,   -999.0,9,   128.59,2,    32.74,2,     2.27,2,   -999.0,9,-999.0000,9,  -999.00
  29HE20130320,   A17,    21,  1,      3,2,20130331,1315,-38.6820, -46.4440, 5180,   5095.0,   0.2920,  34.6712,2,    222.9,2,    223.1,2,   127.55,2,    32.69,2,     2.26,2,   2365.1,2,   7.6023,2,    25.00
  29HE20130320,   A17,    21,  1,      4,2,20130331,1315,-38.6820, -46.4440, 5180,   4584.8,   0.3615,  34.6769,2,    221.6,2,    220.4,2,   120.13,2,    31.96,2,     2.21,2,   2366.1,2,   7.6030,2,    25.00
  29HE20130320,   A17,    21,  1,      5,2,20130331,1315,-38.6820, -46.4440, 5180,   4071.6,   0.7550,  34.6974,2,    213.9,2,    213.7,2,   105.21,2,    30.49,2,     2.08,2,   2361.8,2,   7.6048,2,    25.00
  29HE20130320,   A17,    21,  1,      6,2,20130331,1315,-38.6820, -46.4440, 5180,   3557.2,   1.3855,  34.7369,2,    207.5,2,    207.1,2,    64.07,4,    25.97,4,     1.73,4,   2359.1,2,   7.6178,2,    25.00
  29HE20130320,   A17,    21,  1,      7,2,20130331,1315,-38.6820, -46.4440, 5180,   3046.1,   2.3482,  34.8296,2,    222.6,2,    222.6,2,    49.38,4,    24.97,2,     1.68,2,   2340.2,2,   7.6726,2,    25.00
  29HE20130320,   A17,    21,  1,      8,2,20130331,1315,-38.6820, -46.4440, 5180,   2534.3,   2.9570,  34.8481,2,    220.7,2,    222.6,2,    52.21,2,    26.73,2,     1.80,2,   2336.1,2,   7.6543,2,    25.00
  29HE20130320,   A17,    21,  1,      9,2,20130331,1315,-38.6820, -46.4440, 5180,   2279.7,   3.0523,  34.8087,2,    208.9,2,    209.1,2,    56.18,2,    29.17,4,     1.97,3,   2333.7,2,   7.6252,2,    25.00
  29HE20130320,   A17,    21,  1,     10,2,20130331,1315,-38.6820, -46.4440, 5180,   2025.2,   3.0707,  34.7384,2,    195.6,2,    195.6,2,    61.21,2,    31.42,4,     2.18,2,   2332.7,2,   7.5939,2,    25.00
  29HE20130320,   A17,    21,  1,     11,2,20130331,1315,-38.6820, -46.4440, 5180,   1821.8,   2.9396,  34.6247,2,    183.1,2,    180.0,2,    58.63,2,    33.10,2,     2.25,2,   2331.0,2,   7.5813,2,    25.00
  29HE20130320,   A17,    21,  1,     12,2,20130331,1315,-38.6820, -46.4440, 5180,   1619.5,   2.9796,  34.5102,2,    183.5,2,    185.8,2,    50.74,4,    33.29,2,     2.27,2,   2324.3,2,   7.5810,2,    25.00
  29HE20130320,   A17,    21,  1,     13,2,20130331,1315,-38.6820, -46.4440, 5180,   1416.3,   3.0709,  34.3961,2,    193.7,2,    194.7,2,    35.48,4,    31.55,4,     2.12,3,   2315.7,2,   7.6072,2,    25.00
  29HE20130320,   A17,    21,  1,     14,2,20130331,1315,-38.6820, -46.4440, 5180,   1215.0,   3.4127,  34.2805,2,    219.1,2,    219.0,2,    20.70,4,    28.14,4,     1.88,4,   2297.8,2,   7.6543,2,    25.00
  29HE20130320,   A17,    21,  1,     15,2,20130331,1315,-38.6820, -46.4440, 5180,   1005.9,   4.1643,  34.1992,2,    249.6,2,    249.4,2,    12.69,4,    25.43,4,     1.68,4,   2286.1,2,   7.6888,2,    25.00
  29HE20130320,   A17,    21,  1,     16,2,20130331,1315,-38.6820, -46.4440, 5180,    812.9,   4.8423,  34.1883,2,    265.0,2,    264.2,2,     8.62,2,    21.26,4,     1.37,4,   2278.3,2,   7.7244,2,    25.00
  29HE20130320,   A17,    21,  1,     17,2,20130331,1315,-38.6820, -46.4440, 5180,    606.2,   7.5593,  34.4612,2,    233.9,2,    233.9,2,     6.00,2,    16.04,4,     0.99,4,   2287.8,2,   7.7743,2,    25.00
  29HE20130320,   A17,    21,  1,     18,2,20130331,1315,-38.6820, -46.4440, 5180,    505.0,  10.3766,  34.8357,2,    214.4,2,    214.9,2,     3.51,2,     9.89,4,     0.72,4,   2303.4,2,   7.8455,2,    25.00
  29HE20130320,   A17,    21,  1,     19,2,20130331,1315,-38.6820, -46.4440, 5180,    404.5,  13.2323,  35.2799,2,    211.9,2,    212.2,2,  -999.00,9,  -999.00,9,  -999.00,9,   2323.2,2,-999.0000,9,  -999.00
  29HE20130320,   A17,    21,  1,     20,2,20130331,1315,-38.6820, -46.4440, 5180,    302.6,  14.8714,  35.5497,2,    211.0,2,    212.0,2,     2.64,2,     6.57,2,     0.42,2,   2340.8,2,   7.8883,2,    25.00
  29HE20130320,   A17,    21,  1,     21,2,20130331,1315,-38.6820, -46.4440, 5180,    203.0,  16.4613,  35.8246,2,    210.4,2,    211.4,2,     2.10,2,     4.09,2,     0.16,2,   2362.5,2,   7.9260,2,    25.00
  29HE20130320,   A17,    21,  1,     22,2,20130331,1315,-38.6820, -46.4440, 5180,    102.9,  18.9038,  36.0892,2,    208.1,2,    208.6,2,     1.38,2,     1.44,2,     0.01,2,   2372.1,2,   7.9745,2,    25.00
  29HE20130320,   A17,    21,  1,     23,2,20130331,1315,-38.6820, -46.4440, 5180,     51.0,  19.7633,  36.1496,2,    222.9,2,    223.7,2,     0.99,2,     0.08,2,    -0.01,2,   2377.5,2,   8.0109,2,    25.00
  29HE20130320,   A17,    21,  1,     24,2,20130331,1315,-38.6820, -46.4440, 5180,      5.1,  20.3159,  36.1011,2,    226.2,2,    227.3,2,     0.52,2,     0.04,2,    -0.01,2,   2376.3,2,   8.0284,2,    25.00
  29HE20130320,   A17,    22,  1,      1,2,20130331,2142,-38.0790, -45.9770, 5148,   5222.7,   0.2910,  34.6711,2,    222.4,2,    222.3,2,   129.78,2,    32.82,2,     2.32,2,   -999.0,9,   7.6019,2,    25.00
  29HE20130320,   A17,    22,  1,      2,2,20130331,2142,-38.0790, -45.9770, 5148,   5223.1,   0.2912,  34.6710,2,    222.8,2,   -999.0,9,  -999.00,9,  -999.00,9,  -999.00,9,   -999.0,9,-999.0000,9,  -999.00
  29HE20130320,   A17,    22,  1,      3,2,20130331,2142,-38.0790, -45.9770, 5148,   5095.5,   0.2842,  34.6715,2,    222.8,2,    222.4,2,   129.22,2,    32.74,2,     2.31,2,   -999.0,9,   7.6012,2,    25.00
  29HE20130320,   A17,    22,  1,      4,2,20130331,2142,-38.0790, -45.9770, 5148,   4582.0,   0.3433,  34.6767,2,    221.4,2,    220.3,2,   128.17,2,    32.55,2,     2.28,2,   -999.0,9,   7.6017,2,    25.00
  29HE20130320,   A17,    22,  1,      5,2,20130331,2142,-38.0790, -45.9770, 5148,   4068.2,   0.7686,  34.6984,2,    213.3,2,    212.9,2,   120.94,2,    32.04,2,     2.22,2,   -999.0,9,   7.6047,2,    25.00
  29HE20130320,   A17,    22,  1,      6,2,20130331,2142,-38.0790, -45.9770, 5148,   3556.3,   1.3679,  34.7332,2,    206.4,2,    206.1,2,   107.36,2,    31.00,2,     2.12,2,   -999.0,9,   7.6158,2,    25.00
  29HE20130320,   A17,    22,  1,      7,2,20130331,2142,-38.0790, -45.9770, 5148,   3044.3,   2.1675,  34.7930,2,    210.3,2,    209.9,2,    78.43,2,    27.85,2,     1.88,2,   -999.0,9,   7.6473,2,    25.00
  29HE20130320,   A17,    22,  1,      8,2,20130331,2142,-38.0790, -45.9770, 5148,   2534.4,   2.8158,  34.8239,2,    214.0,2,    213.9,2,    56.77,2,    26.11,2,     1.75,2,   -999.0,9,   7.6619,2,    25.00
  29HE20130320,   A17,    22,  1,      9,2,20130331,2142,-38.0790, -45.9770, 5148,   2280.4,   3.2048,  34.8441,2,    217.4,2,    217.3,2,    44.57,2,    25.33,2,     1.66,2,   -999.0,9,   7.6690,2,    25.00
  29HE20130320,   A17,    22,  1,     10,2,20130331,2142,-38.0790, -45.9770, 5148,   2024.6,   3.1040,  34.7304,2,    194.3,2,    194.2,2,    55.61,2,    29.04,2,     1.99,2,   -999.0,9,   7.6204,2,    25.00
  29HE20130320,   A17,    22,  1,     11,2,20130331,2142,-38.0790, -45.9770, 5148,   1821.4,   2.9462,  34.5980,2,    182.1,2,    182.7,2,    61.26,2,    32.40,2,     2.22,2,   -999.0,9,   7.5885,2,    25.00
  29HE20130320,   A17,    22,  1,     12,2,20130331,2142,-38.0790, -45.9770, 5148,   1618.7,   2.9725,  34.5092,2,    183.2,2,    183.1,2,    57.76,2,    33.26,2,     2.28,2,   -999.0,9,   7.5799,2,    25.00
  29HE20130320,   A17,    22,  1,     13,2,20130331,2142,-38.0790, -45.9770, 5148,   1415.9,   3.1762,  34.3732,2,    198.8,2,    198.8,2,    46.76,2,    32.77,2,     2.23,2,   -999.0,9,   7.5878,2,    25.00
  29HE20130320,   A17,    22,  1,     14,2,20130331,2142,-38.0790, -45.9770, 5148,   1212.1,   3.5236,  34.2658,2,    224.5,2,    224.3,2,    32.19,2,    30.99,2,     2.10,2,   -999.0,9,   7.6202,2,    25.00
  29HE20130320,   A17,    22,  1,     15,2,20130331,2142,-38.0790, -45.9770, 5148,   1010.8,   4.1624,  34.2043,2,    248.5,2,    248.9,2,    20.61,2,    28.23,2,     1.87,2,   -999.0,9,   7.6567,2,    25.00
  29HE20130320,   A17,    22,  1,     16,2,20130331,2142,-38.0790, -45.9770, 5148,    807.2,   4.8400,  34.1771,2,    268.7,2,    269.0,2,    11.88,2,    25.06,2,     1.64,2,   -999.0,9,   7.6923,2,    25.00
  29HE20130320,   A17,    22,  1,     17,2,20130331,2142,-38.0790, -45.9770, 5148,    606.7,   7.9111,  34.5140,2,    227.8,2,    228.6,2,     8.47,2,    20.81,2,     1.30,2,   -999.0,9,   7.7262,2,    25.00
  29HE20130320,   A17,    22,  1,     18,2,20130331,2142,-38.0790, -45.9770, 5148,    506.4,  10.3679,  34.8353,2,    215.4,2,    217.5,2,     5.78,2,    15.94,2,     0.92,2,   -999.0,9,   7.7743,2,    25.00
  29HE20130320,   A17,    22,  1,     19,2,20130331,2142,-38.0790, -45.9770, 5148,    403.9,  12.7527,  35.2024,2,    211.7,2,    212.6,2,     3.71,2,    10.70,2,     0.56,2,   -999.0,9,   7.8322,2,    25.00
  29HE20130320,   A17,    22,  1,     20,2,20130331,2142,-38.0790, -45.9770, 5148,    302.8,  14.6241,  35.5171,2,    212.3,2,    211.3,2,     2.59,2,     6.94,2,     0.37,2,   -999.0,9,   7.8812,2,    25.00
  29HE20130320,   A17,    22,  1,     21,2,20130331,2142,-38.0790, -45.9770, 5148,    203.3,  16.0595,  35.7589,2,    211.1,2,    211.9,2,     2.07,2,     4.40,2,     0.06,2,   -999.0,9,   7.9191,2,    25.00
  29HE20130320,   A17,    22,  1,     22,2,20130331,2142,-38.0790, -45.9770, 5148,    101.2,  19.5602,  36.1447,2,    217.1,2,    218.0,2,     1.02,2,     0.35,2,     0.00,2,   -999.0,9,   7.9974,2,    25.00
  29HE20130320,   A17,    22,  1,     23,2,20130331,2142,-38.0790, -45.9770, 5148,     53.8,  19.8131,  36.0640,2,    225.2,2,    226.7,2,     0.80,2,     0.07,2,     0.00,2,   -999.0,9,   8.0154,2,    25.00
  29HE20130320,   A17,    22,  1,     24,2,20130331,2142,-38.0790, -45.9770, 5148,      5.6,  19.8563,  35.9003,2,    225.6,2,    227.1,2,     0.85,2,     0.03,2,    -0.02,2,   -999.0,9,   8.0188,2,    25.00
  29HE20130320,   A17,    23,  1,      1,2,20130401,0610,-37.4870, -45.4620, 5098,   5200.4,   0.2937,  34.6713,2,    222.4,2,    221.3,2,   129.27,2,    33.05,2,     2.30,2,   2366.8,2,   7.6027,2,    25.00
  29HE20130320,   A17,    23,  1,      2,2,20130401,0610,-37.4870, -45.4620, 5098,   5094.3,   0.2811,  34.6715,2,    222.3,2,    221.5,2,   128.53,2,    32.59,2,     2.31,2,   2367.7,2,   7.6006,2,    25.00
  29HE20130320,   A17,    23,  1,      3,2,20130401,0610,-37.4870, -45.4620, 5098,   4580.6,   0.3514,  34.6770,2,    221.3,2,    219.7,2,   127.73,2,    32.68,2,     2.27,2,   2366.2,2,   7.6017,2,    25.00
  29HE20130320,   A17,    23,  1,      4,2,20130401,0610,-37.4870, -45.4620, 5098,   4066.8,   0.6733,  34.6940,2,    214.8,2,    212.6,2,   122.01,2,    32.10,2,     2.20,2,   2368.4,2,   7.6021,2,    25.00
  29HE20130320,   A17,    23,  1,      5,2,20130401,0610,-37.4870, -45.4620, 5098,   3556.8,   1.3985,  34.7380,2,    207.3,2,    204.9,2,   104.42,2,    30.49,2,     2.07,2,   2351.2,2,   7.6172,2,    25.00
  29HE20130320,   A17,    23,  1,      6,2,20130401,0610,-37.4870, -45.4620, 5098,   3044.4,   2.3726,  34.8342,2,    223.6,2,    223.5,2,    62.28,2,    25.54,2,     1.72,2,   2343.1,2,   7.6765,2,    25.00
  29HE20130320,   A17,    23,  1,      7,2,20130401,0610,-37.4870, -45.4620, 5098,   2532.8,   2.9862,  34.8637,2,    225.1,2,    224.9,2,    45.16,2,    24.02,2,     1.60,2,   2331.3,2,   7.6846,2,    25.00
  29HE20130320,   A17,    23,  1,      8,2,20130401,0610,-37.4870, -45.4620, 5098,   2281.6,   3.0902,  34.8263,2,    212.7,2,    212.1,2,    50.09,2,    26.11,2,     1.74,2,   2330.1,2,   7.6598,2,    25.00
  29HE20130320,   A17,    23,  1,      9,2,20130401,0610,-37.4870, -45.4620, 5098,   2022.9,   3.0485,  34.7409,2,    194.9,2,    194.4,2,    57.23,2,    29.05,2,     1.95,2,   2332.4,2,   7.6238,2,    25.00
  29HE20130320,   A17,    23,  1,     10,2,20130401,0610,-37.4870, -45.4620, 5098,   1822.1,   2.9501,  34.6354,2,    182.7,2,    182.6,2,    62.18,2,    31.67,2,     2.16,2,   2330.4,2,   7.5940,2,    25.00
  29HE20130320,   A17,    23,  1,     11,2,20130401,0610,-37.4870, -45.4620, 5098,   1618.4,   2.9253,  34.5296,2,    181.3,2,    180.7,2,    60.81,2,    33.18,2,     2.26,2,   2330.5,2,   7.5764,2,    25.00
  29HE20130320,   A17,    23,  1,     12,2,20130401,0610,-37.4870, -45.4620, 5098,   1414.7,   3.0816,  34.4088,2,    191.9,2,    192.1,2,    51.61,2,    33.18,2,     2.28,2,   2316.1,2,   7.5830,2,    25.00
  29HE20130320,   A17,    23,  1,     13,2,20130401,0610,-37.4870, -45.4620, 5098,   1216.0,   3.1776,  34.2714,2,    218.7,2,    219.0,2,    39.27,2,    31.80,2,     2.17,2,   2299.8,2,   7.6013,2,    25.00
  29HE20130320,   A17,    23,  1,     14,2,20130401,0610,-37.4870, -45.4620, 5098,   1010.8,   4.2680,  34.2836,2,    222.6,2,    222.7,2,    26.31,2,    29.94,2,     2.00,2,   2293.6,2,   7.6342,2,    25.00
  29HE20130320,   A17,    23,  1,     15,2,20130401,0610,-37.4870, -45.4620, 5098,    809.4,   4.7075,  34.1972,2,    258.8,2,    258.2,2,    14.59,2,    26.27,2,     1.72,2,   2279.8,2,   7.6837,2,    25.00
  29HE20130320,   A17,    23,  1,     16,2,20130401,0610,-37.4870, -45.4620, 5098,    707.6,   5.4954,  34.2499,2,    252.4,2,    252.6,2,    11.56,2,    24.87,2,     1.60,2,   2280.9,2,   7.6948,2,    25.00
  29HE20130320,   A17,    23,  1,     17,2,20130401,0610,-37.4870, -45.4620, 5098,    605.8,   7.8862,  34.5354,2,    214.0,2,    215.3,2,    10.12,2,    22.29,2,     1.38,2,   2289.5,2,   7.7080,2,    25.00
  29HE20130320,   A17,    23,  1,     18,2,20130401,0610,-37.4870, -45.4620, 5098,    503.3,   9.8941,  34.7479,2,    217.9,2,    218.8,2,     5.81,2,    16.84,2,     0.98,2,   2298.9,2,   7.7685,2,    25.00
  29HE20130320,   A17,    23,  1,     19,2,20130401,0610,-37.4870, -45.4620, 5098,    401.1,  12.8240,  35.2089,2,    211.2,2,    212.1,2,     3.41,2,    10.62,2,     0.53,2,   2318.9,2,   7.8344,2,    25.00
  29HE20130320,   A17,    23,  1,     20,2,20130401,0610,-37.4870, -45.4620, 5098,    304.8,  14.6519,  35.5329,2,    214.2,2,    215.2,2,     2.42,2,     6.72,2,     0.36,2,   2337.2,2,   7.8875,2,    25.00
  29HE20130320,   A17,    23,  1,     21,2,20130401,0610,-37.4870, -45.4620, 5098,    201.4,  15.9359,  35.7212,2,    210.2,2,    210.8,2,     2.04,2,     4.68,2,     0.20,2,   2348.0,2,   7.9142,2,    25.00
  29HE20130320,   A17,    23,  1,     22,2,20130401,0610,-37.4870, -45.4620, 5098,    104.2,  18.6661,  35.9728,2,    211.7,2,    212.8,2,     1.07,2,     0.94,2,     0.02,2,   2364.9,2,   7.9746,2,    25.00
  29HE20130320,   A17,    23,  1,     23,2,20130401,0610,-37.4870, -45.4620, 5098,     51.1,  19.6109,  35.9296,2,    225.0,2,    225.9,2,     0.67,2,     0.01,2,    -0.02,2,   2362.0,2,   8.0164,2,    25.00
  29HE20130320,   A17,    23,  1,     24,2,20130401,0610,-37.4870, -45.4620, 5098,      4.9,  19.5068,  35.8600,2,    226.4,2,    227.2,2,     0.61,2,     0.06,2,     0.00,2,   2362.7,2,   8.0173,2,    25.00