BOTTLE,20230216CCHSIOENA
EXPOCODE,SECT_ID,STNNBR,CASTNO,BTLNBR,BTLNBR_FLAG_W,DATE,TIME,LATITUDE,LONGITUDE,DEPTH,CTDPRS,CTDTMP,CTDSAL,CTDSAL_FLAG_W,CTDOXY,CTDOXY_FLAG_W,OXYGEN,OXYGEN_FLAG_W,SILCAT,SILCAT_FLAG_W,NITRAT,NITRAT_FLAG_W,PHSPHT,PHSPHT_FLAG_W,ALKALI,ALKALI_FLAG_W,PH_TOT,PH_TOT_FLAG_W,PH_TMP
,,,,,,,,,,METERS,DBAR,ITS-90,PSS-78,,UMOL/KG,,UMOL/KG,,UMOL/KG,,UMOL/KG,,UMOL/KG,,UMOL/KG,,,,DEG C
  29HE20130320,   A17,    30,  1,      1,2,20130403,2006,-33.3090, -41.8050, 4578,   4637.4,   0.2265,  34.6702,2,    220.7,2,    220.1,2,   126.57,2,    33.33,2,     2.33,2,   -999.0,9,   7.6021,2,    25.00
  29HE20130320,   A17,    30,  1,      2,2,20130403,2006,-33.3090, -41.8050, 4578,   4580.1,   0.2206,  34.6702,2,    220.7,2,    220.5,2,   126.62,2,    33.08,2,     2.32,2,   -999.0,9,   7.6003,2,    25.00
  29HE20130320,   A17,    30,  1,      3,2,20130403,2006,-33.3090, -41.8050, 4578,   4579.9,   0.2206,  34.6703,2,    221.1,2,    220.4,2,   126.41,2,    32.97,2,     2.31,2,   -999.0,9,   7.6001,2,    25.00
  29HE20130320,   A17,    30,  1,      4,2,20130403,2006,-33.3090, -41.8050, 4578,   4066.5,   0.4673,  34.6850,2,    218.1,2,    217.2,2,   119.70,2,    32.81,2,     2.25,2,   -999.0,9,   7.6156,2,    25.00
  29HE20130320,   A17,    30,  1,      5,2,20130403,2006,-33.3090, -41.8050, 4578,   3555.5,   1.6256,  34.7910,2,    227.0,2,    226.0,2,    79.77,2,    27.33,2,     1.82,2,   -999.0,9,   7.6578,2,    25.00
  29HE20130320,   A17,    30,  1,      6,2,20130403,2006,-33.3090, -41.8050, 4578,   3041.9,   2.7791,  34.9011,2,    244.2,2,    243.5,2,    36.53,2,    21.63,2,     1.40,2,   -999.0,9,   7.7175,2,    25.00
  29HE20130320,   A17,    30,  1,      7,2,20130403,2006,-33.3090, -41.8050, 4578,   2787.4,   2.9745,  34.9118,2,    244.3,2,    243.3,2,    32.49,2,    21.49,2,     1.38,2,   -999.0,9,   7.7187,2,    25.00
  29HE20130320,   A17,    30,  1,      8,2,20130403,2006,-33.3090, -41.8050, 4578,   2532.5,   3.1965,  34.9219,2,    245.1,2,    244.3,2,    28.83,2,    20.87,2,     1.38,2,   -999.0,9,   7.7199,2,    25.00
  29HE20130320,   A17,    30,  1,      9,2,20130403,2006,-33.3090, -41.8050, 4578,   2278.9,   3.3016,  34.8932,2,    233.3,2,    232.4,2,    31.96,2,    22.53,2,     1.49,2,   -999.0,9,   7.7016,2,    25.00
  29HE20130320,   A17,    30,  1,     10,2,20130403,2006,-33.3090, -41.8050, 4578,   2023.8,   3.3109,  34.8349,2,    217.8,2,    217.0,2,    38.36,2,    25.39,2,     1.69,2,   -999.0,9,   7.6723,2,    25.00
  29HE20130320,   A17,    30,  1,     11,2,20130403,2006,-33.3090, -41.8050, 4578,   1821.5,   3.1263,  34.7288,2,    198.3,2,    197.5,2,    49.48,2,    28.84,2,     1.97,2,   -999.0,9,   7.6322,2,    25.00
  29HE20130320,   A17,    30,  1,     12,2,20130403,2006,-33.3090, -41.8050, 4578,   1618.6,   2.9211,  34.5870,2,    186.9,2,    186.2,2,    55.93,2,    31.93,2,     2.23,2,   -999.0,9,   7.5953,2,    25.00
  29HE20130320,   A17,    30,  1,     13,2,20130403,2006,-33.3090, -41.8050, 4578,   1408.8,   3.0406,  34.4510,2,    189.6,2,    189.2,2,    51.57,2,    33.29,2,     2.27,2,   -999.0,9,   7.5850,2,    25.00
  29HE20130320,   A17,    30,  1,     14,2,20130403,2006,-33.3090, -41.8050, 4578,   1213.2,   3.4122,  34.3348,2,    207.1,2,    206.6,2,    38.06,2,    32.25,2,     2.20,2,   -999.0,9,   7.5742,2,    25.00
  29HE20130320,   A17,    30,  1,     15,2,20130403,2006,-33.3090, -41.8050, 4578,   1011.4,   3.9373,  34.2292,2,    236.3,2,    235.9,2,    24.17,2,    29.27,2,     1.97,2,   -999.0,9,   7.6403,2,    25.00
  29HE20130320,   A17,    30,  1,     16,2,20130403,2006,-33.3090, -41.8050, 4578,    809.5,   5.2366,  34.2657,2,    242.2,2,    241.8,2,    14.19,2,    25.79,2,     1.71,2,   -999.0,9,   7.6747,2,    25.00
  29HE20130320,   A17,    30,  1,     17,2,20130403,2006,-33.3090, -41.8050, 4578,    605.5,   8.6441,  34.6212,2,    211.7,2,    211.9,2,     8.31,2,    20.08,2,     1.25,2,   -999.0,9,   7.7241,2,    25.00
  29HE20130320,   A17,    30,  1,     18,2,20130403,2006,-33.3090, -41.8050, 4578,    504.7,  11.2706,  34.9849,2,    208.9,2,    208.6,2,     4.85,2,    14.11,2,     0.81,2,   -999.0,9,   7.7829,2,    25.00
  29HE20130320,   A17,    30,  1,     19,2,20130403,2006,-33.3090, -41.8050, 4578,    403.2,  13.3019,  35.2991,2,    212.0,2,    211.3,2,     3.02,2,     9.43,2,     0.51,2,   -999.0,9,   7.8460,2,    25.00
  29HE20130320,   A17,    30,  1,     20,2,20130403,2006,-33.3090, -41.8050, 4578,    303.9,  14.6364,  35.5170,2,    213.8,2,    213.8,2,     2.28,2,     6.38,2,     0.28,2,   -999.0,9,   7.8863,2,    25.00
  29HE20130320,   A17,    30,  1,     21,2,20130403,2006,-33.3090, -41.8050, 4578,    201.4,  15.7246,  35.6719,2,    211.8,2,    212.3,2,     1.77,2,     4.46,2,     0.06,2,   -999.0,9,   7.9086,2,    25.00
  29HE20130320,   A17,    30,  1,     22,2,20130403,2006,-33.3090, -41.8050, 4578,    103.9,  18.0119,  35.9412,2,    227.0,2,    228.8,2,     0.91,2,     0.03,2,     0.00,2,   -999.0,9,   7.9785,2,    25.00
  29HE20130320,   A17,    30,  1,     23,2,20130403,2006,-33.3090, -41.8050, 4578,     51.5,  22.1629,  36.1168,2,    219.2,2,    218.8,2,     0.78,2,     0.03,2,    -0.01,2,   -999.0,9,   8.0395,2,    25.00
  29HE20130320,   A17,    30,  1,     24,2,20130403,2006,-33.3090, -41.8050, 4578,      6.7,  22.1063,  36.0878,2,    218.3,2,    218.8,2,     0.89,2,     0.02,2,     0.00,2,   -999.0,9,   8.0370,2,    25.00
  29HE20130320,   A17,    31,  1,      1,2,20130404,0508,-32.7020, -41.2850, 4488,   4546.1,   0.2212,  34.6704,2,    220.8,2,    220.9,2,   126.65,2,    32.80,2,     2.31,2,   2369.3,2,   7.6022,2,    25.00
  29HE20130320,   A17,    31,  1,      2,2,20130404,0508,-32.7020, -41.2850, 4488,   4545.3,   0.2213,  34.6703,2,    221.2,2,   -999.0,9,  -999.00,9,  -999.00,9,  -999.00,9,   -999.0,9,-999.0000,9,  -999.00
  29HE20130320,   A17,    31,  1,      3,2,20130404,0508,-32.7020, -41.2850, 4488,   4067.4,   0.4151,  34.6823,2,    218.2,2,    218.2,2,   123.70,2,    32.44,2,     2.28,2,   2363.7,2,   7.6047,2,    25.00
  29HE20130320,   A17,    31,  1,      4,2,20130404,0508,-32.7020, -41.2850, 4488,   3553.9,   1.6309,  34.7915,2,    227.5,2,    227.1,2,    81.09,2,    27.20,2,     1.82,2,   2347.6,2,   7.6623,2,    25.00
  29HE20130320,   A17,    31,  1,      5,2,20130404,0508,-32.7020, -41.2850, 4488,   3044.3,   2.7712,  34.9094,2,    248.6,2,    247.6,2,    35.17,2,    21.21,2,     1.35,2,   2330.4,2,   7.7251,2,    25.00
  29HE20130320,   A17,    31,  1,      6,2,20130404,0508,-32.7020, -41.2850, 4488,   3045.0,   2.7700,  34.9092,2,    247.7,2,   -999.0,9,  -999.00,9,  -999.00,9,  -999.00,9,   -999.0,9,-999.0000,9,  -999.00
  29HE20130320,   A17,    31,  1,      7,2,20130404,0508,-32.7020, -41.2850, 4488,   2532.7,   3.1011,  34.9117,2,    243.1,2,    242.2,2,    31.98,2,    21.50,2,     1.37,2,   2327.3,2,   7.7171,2,    25.00
  29HE20130320,   A17,    31,  1,      8,2,20130404,0508,-32.7020, -41.2850, 4488,   2279.2,   3.3250,  34.9118,2,    239.4,2,    237.4,2,    30.62,2,    21.83,2,     1.42,2,   2321.8,2,   7.7230,2,    25.00
  29HE20130320,   A17,    31,  1,      9,2,20130404,0508,-32.7020, -41.2850, 4488,   2027.7,   3.2904,  34.8476,2,    220.6,2,    220.2,2,    38.75,2,    24.61,2,     1.63,2,   2323.4,2,   7.6787,2,    25.00
  29HE20130320,   A17,    31,  1,     10,2,20130404,0508,-32.7020, -41.2850, 4488,   1820.5,   3.1065,  34.7410,2,    199.7,2,    199.5,2,    50.41,2,    28.28,2,     1.95,2,   2329.1,2,   7.6312,2,    25.00
  29HE20130320,   A17,    31,  1,     11,2,20130404,0508,-32.7020, -41.2850, 4488,   1618.4,   2.9599,  34.6169,2,    186.5,2,    186.5,2,    57.27,2,    31.52,2,     2.17,2,   2330.0,2,   7.5999,2,    25.00
  29HE20130320,   A17,    31,  1,     12,2,20130404,0508,-32.7020, -41.2850, 4488,   1415.2,   2.9854,  34.4746,2,    187.0,2,    187.5,2,    54.88,2,    33.10,2,     2.31,2,   2322.3,2,   7.5837,2,    25.00
  29HE20130320,   A17,    31,  1,     13,2,20130404,0508,-32.7020, -41.2850, 4488,   1212.2,   3.3963,  34.3577,2,    202.9,2,    202.8,2,    40.53,2,    31.90,2,     2.20,2,   2315.5,2,   7.5999,2,    25.00
  29HE20130320,   A17,    31,  1,     14,2,20130404,0508,-32.7020, -41.2850, 4488,   1009.4,   4.1627,  34.2809,2,    222.9,2,    223.2,2,    26.63,2,    29.89,2,     2.01,2,   2293.3,2,   7.6344,2,    25.00
  29HE20130320,   A17,    31,  1,     15,2,20130404,0508,-32.7020, -41.2850, 4488,   1010.3,   4.1706,  34.2810,2,    222.4,2,   -999.0,9,  -999.00,9,  -999.00,9,  -999.00,9,   -999.0,9,-999.0000,9,  -999.00
  29HE20130320,   A17,    31,  1,     16,2,20130404,0508,-32.7020, -41.2850, 4488,    806.8,   5.4040,  34.2947,2,    235.4,2,    234.6,2,    14.85,2,    26.08,2,     1.69,2,   2283.2,2,   7.6744,2,    25.00
  29HE20130320,   A17,    31,  1,     17,2,20130404,0508,-32.7020, -41.2850, 4488,    602.8,   8.8999,  34.6607,2,    208.7,2,    209.5,2,     8.19,2,    19.89,2,     1.21,2,   2290.5,2,   7.7261,2,    25.00
  29HE20130320,   A17,    31,  1,     18,2,20130404,0508,-32.7020, -41.2850, 4488,    505.7,  11.1536,  34.9628,2,    207.8,2,    208.5,2,     4.84,2,    14.43,2,     0.80,2,   2306.3,2,   7.7881,2,    25.00
  29HE20130320,   A17,    31,  1,     19,2,20130404,0508,-32.7020, -41.2850, 4488,    403.7,  13.0212,  35.2588,2,    212.5,2,    212.8,2,     2.97,2,    10.13,2,     0.58,2,   2322.7,2,   7.8390,2,    25.00
  29HE20130320,   A17,    31,  1,     20,2,20130404,0508,-32.7020, -41.2850, 4488,    303.5,  14.2357,  35.4537,2,    212.7,2,    213.7,2,     2.23,2,     7.30,2,     0.30,2,   2329.2,2,   7.8663,2,    25.00
  29HE20130320,   A17,    31,  1,     21,2,20130404,0508,-32.7020, -41.2850, 4488,    201.6,  15.2401,  35.5767,2,    211.2,2,    212.4,2,     1.72,2,     5.14,2,     0.12,2,   2338.1,2,   7.8898,2,    25.00
  29HE20130320,   A17,    31,  1,     22,2,20130404,0508,-32.7020, -41.2850, 4488,     96.1,  17.7758,  35.9162,2,    231.2,2,    230.8,2,     0.63,2,     0.12,2,     0.00,2,   2361.6,2,   7.9677,2,    25.00
  29HE20130320,   A17,    31,  1,     23,2,20130404,0508,-32.7020, -41.2850, 4488,     51.0,  21.2624,  35.9764,2,    229.7,2,    230.7,2,     0.34,2,     0.02,2,     0.00,2,   2362.9,2,   8.0193,2,    25.00
  29HE20130320,   A17,    31,  1,     24,2,20130404,0508,-32.7020, -41.2850, 4488,      6.9,  21.9597,  35.9205,2,    218.3,2,    220.0,2,     0.34,2,     0.01,2,     0.00,2,   2356.2,2,   8.0267,2,    25.00
  29HE20130320,   A17,    32,  1,      1,2,20130404,1414,-32.1040, -40.7600, 4183,   4237.5,   0.1954,  34.6705,2,    220.7,2,    220.5,2,   128.05,2,    33.15,2,     2.29,2,   -999.0,9,   7.6002,2,    25.00
  29HE20130320,   A17,    32,  1,      2,2,20130404,1414,-32.1040, -40.7600, 4183,   4064.2,   0.2041,  34.6717,2,    220.6,2,    222.1,2,   120.56,2,    31.98,2,     2.18,2,   -999.0,9,   7.6064,2,    25.00
  29HE20130320,   A17,    32,  1,      3,2,20130404,1414,-32.1040, -40.7600, 4183,   3553.7,   1.7972,  34.8205,2,    236.7,2,    236.2,2,    70.73,2,    25.58,2,     1.69,2,   -999.0,9,   7.6714,2,    25.00
  29HE20130320,   A17,    32,  1,      4,2,20130404,1414,-32.1040, -40.7600, 4183,   3041.4,   2.9216,  34.9239,2,    251.8,2,    250.0,2,    30.82,2,    20.49,2,     1.29,2,   -999.0,9,   7.7303,2,    25.00
  29HE20130320,   A17,    32,  1,      5,2,20130404,1414,-32.1040, -40.7600, 4183,   2781.3,   3.0867,  34.9293,2,    250.5,2,    247.8,2,    28.85,2,    20.45,2,     1.29,2,   -999.0,9,   7.7294,2,    25.00
  29HE20130320,   A17,    32,  1,      6,2,20130404,1414,-32.1040, -40.7600, 4183,   2533.0,   3.2240,  34.9303,2,    248.2,2,    248.4,2,    27.67,2,    20.71,2,     1.32,2,   -999.0,9,   7.7269,2,    25.00
  29HE20130320,   A17,    32,  1,      7,2,20130404,1414,-32.1040, -40.7600, 4183,   2276.7,   3.2553,  34.8969,2,    237.2,2,    236.3,2,    32.04,2,    22.37,2,     1.44,2,   -999.0,9,   7.7093,2,    25.00
  29HE20130320,   A17,    32,  1,      8,2,20130404,1414,-32.1040, -40.7600, 4183,   2024.9,   3.1200,  34.8101,2,    215.7,2,    215.7,2,    43.63,2,    25.74,2,     1.74,2,   -999.0,9,   7.6667,2,    25.00
  29HE20130320,   A17,    32,  1,      9,2,20130404,1414,-32.1040, -40.7600, 4183,   1817.9,   3.0274,  34.7274,2,    200.6,2,    200.5,2,    51.27,2,    28.78,2,     1.93,2,   -999.0,9,   7.6353,2,    25.00
  29HE20130320,   A17,    32,  1,     10,2,20130404,1414,-32.1040, -40.7600, 4183,   1617.5,   2.9345,  34.5979,2,    188.4,2,    188.8,2,    56.58,2,    31.36,2,     2.17,2,   -999.0,9,   7.6005,2,    25.00
  29HE20130320,   A17,    32,  1,     11,2,20130404,1414,-32.1040, -40.7600, 4183,   1414.3,   3.1060,  34.4934,2,    188.4,2,    188.3,2,    52.30,2,    32.78,2,     2.23,2,   -999.0,9,   7.5911,2,    25.00
  29HE20130320,   A17,    32,  1,     12,2,20130404,1414,-32.1040, -40.7600, 4183,   1210.4,   3.3875,  34.3505,2,    204.1,2,    204.1,2,    40.88,2,    32.37,2,     2.17,2,   -999.0,9,   7.5981,2,    25.00
  29HE20130320,   A17,    32,  1,     13,2,20130404,1414,-32.1040, -40.7600, 4183,   1009.4,   4.1012,  34.2744,2,    224.4,2,    224.4,2,    26.41,2,    30.13,2,     2.04,2,   -999.0,9,   7.6360,2,    25.00
  29HE20130320,   A17,    32,  1,     14,2,20130404,1414,-32.1040, -40.7600, 4183,    909.0,   4.5396,  34.2512,2,    236.3,2,    236.8,2,    20.05,2,    28.05,2,     1.89,2,   -999.0,9,   7.6548,2,    25.00
  29HE20130320,   A17,    32,  1,     15,2,20130404,1414,-32.1040, -40.7600, 4183,    806.9,   5.5757,  34.3236,2,    228.3,2,    228.3,2,    15.53,2,    26.48,2,     1.72,2,   -999.0,9,   7.6669,2,    25.00
  29HE20130320,   A17,    32,  1,     16,2,20130404,1414,-32.1040, -40.7600, 4183,    706.7,   6.7418,  34.4113,2,    223.1,2,    224.1,2,    11.75,2,    24.16,2,     1.58,2,   -999.0,9,   7.6923,2,    25.00
  29HE20130320,   A17,    32,  1,     17,2,20130404,1414,-32.1040, -40.7600, 4183,    605.6,   8.7338,  34.6360,2,    209.7,2,    209.5,2,     8.95,2,    20.48,2,     1.29,2,   -999.0,9,   7.7239,2,    25.00
  29HE20130320,   A17,    32,  1,     18,2,20130404,1414,-32.1040, -40.7600, 4183,    502.3,  11.2504,  34.9776,2,    208.1,2,    209.1,2,     5.35,2,    14.24,2,     0.89,2,   -999.0,9,   7.7864,2,    25.00
  29HE20130320,   A17,    32,  1,     19,2,20130404,1414,-32.1040, -40.7600, 4183,    403.5,  13.3076,  35.3053,2,    212.8,2,    213.6,2,     3.25,2,     9.38,2,     0.60,2,   -999.0,9,   7.8378,2,    25.00
  29HE20130320,   A17,    32,  1,     20,2,20130404,1414,-32.1040, -40.7600, 4183,    302.8,  14.5410,  35.5099,2,    214.8,2,    216.1,2,     2.50,2,     6.69,2,     0.36,2,   -999.0,9,   7.8825,2,    25.00
  29HE20130320,   A17,    32,  1,     21,2,20130404,1414,-32.1040, -40.7600, 4183,    201.7,  15.7304,  35.6792,2,    212.2,2,    213.4,2,     1.98,2,     4.28,2,     0.15,2,   -999.0,9,   7.9090,2,    25.00
  29HE20130320,   A17,    32,  1,     22,2,20130404,1414,-32.1040, -40.7600, 4183,    100.3,  18.0667,  35.9622,2,    228.9,2,    228.2,2,     1.15,2,     0.13,2,     0.02,2,   -999.0,9,   7.9747,2,    25.00
  29HE20130320,   A17,    32,  1,     23,2,20130404,1414,-32.1040, -40.7600, 4183,     51.0,  22.6514,  36.1925,2,    215.5,2,    217.5,2,     0.87,2,     0.04,2,     0.00,2,   -999.0,9,   8.0414,2,    25.00
  29HE20130320,   A17,    32,  1,     24,2,20130404,1414,-32.1040, -40.7600, 4183,      5.4,  22.7312,  36.1855,2,    215.6,2,    216.5,2,     0.89,2,     0.06,2,    -0.02,2,   -999.0,9,   8.0441,2,    25.00