BOTTLE,20230216CCHSIOENA
EXPOCODE,SECT_ID,STNNBR,CASTNO,BTLNBR,BTLNBR_FLAG_W,DATE,TIME,LATITUDE,LONGITUDE,DEPTH,CTDPRS,CTDTMP,CTDSAL,CTDSAL_FLAG_W,CTDOXY,CTDOXY_FLAG_W,OXYGEN,OXYGEN_FLAG_W,SILCAT,SILCAT_FLAG_W,NITRAT,NITRAT_FLAG_W,PHSPHT,PHSPHT_FLAG_W,ALKALI,ALKALI_FLAG_W,PH_TOT,PH_TOT_FLAG_W,PH_TMP
,,,,,,,,,,METERS,DBAR,ITS-90,PSS-78,,UMOL/KG,,UMOL/KG,,UMOL/KG,,UMOL/KG,,UMOL/KG,,UMOL/KG,,,,DEG C
  29HE20130320,   A17,    18,  2,      1,2,20130330,1332,-40.4850, -48.0970, 5309,   3050.1,   1.8307,  34.7679,2,    209.3,2,    208.5,2,    88.69,2,    28.84,2,     1.98,2,   -999.0,9,   7.6337,2,    25.00
  29HE20130320,   A17,    18,  2,      2,2,20130330,1332,-40.4850, -48.0970, 5309,   2536.0,   2.2994,  34.7383,2,    197.2,2,    196.6,2,    79.89,2,    29.47,2,     2.04,2,   -999.0,9,   7.6214,2,    25.00
  29HE20130320,   A17,    18,  2,      3,2,20130330,1332,-40.4850, -48.0970, 5309,   2279.9,   3.0607,  34.8280,2,    222.2,2,    221.6,2,    45.15,2,    24.69,2,     1.65,2,   -999.0,9,   7.6768,2,    25.00
  29HE20130320,   A17,    18,  2,      4,2,20130330,1332,-40.4850, -48.0970, 5309,   2025.6,   3.0180,  34.7629,2,    202.5,2,    201.8,2,    55.24,2,    27.97,2,     1.88,2,   -999.0,9,   7.6357,2,    25.00
  29HE20130320,   A17,    18,  2,      5,2,20130330,1332,-40.4850, -48.0970, 5309,   1823.1,   2.7116,  34.6468,2,    180.2,2,    179.7,2,    71.54,2,    31.76,2,     2.24,2,   -999.0,9,   7.5889,2,    25.00
  29HE20130320,   A17,    18,  2,      6,2,20130330,1332,-40.4850, -48.0970, 5309,   1619.1,   2.7131,  34.5745,2,    175.4,2,    175.4,2,    71.80,2,    33.22,2,     2.33,2,   -999.0,9,   7.5684,2,    25.00
  29HE20130320,   A17,    18,  2,      7,2,20130330,1332,-40.4850, -48.0970, 5309,   1416.8,   2.9083,  34.4991,2,    181.8,2,    181.8,2,    60.86,2,    33.41,2,     2.31,2,   -999.0,9,   7.5758,2,    25.00
  29HE20130320,   A17,    18,  2,      8,2,20130330,1332,-40.4850, -48.0970, 5309,   1210.8,   2.9955,  34.3792,2,    193.7,2,    193.6,2,    52.74,2,    33.36,2,     2.32,2,   -999.0,9,   7.5768,2,    25.00
  29HE20130320,   A17,    18,  2,      9,2,20130330,1332,-40.4850, -48.0970, 5309,   1011.1,   3.1110,  34.2194,2,    230.1,2,    230.7,2,    34.62,2,    31.37,2,     2.17,2,   -999.0,9,   7.6090,2,    25.00
  29HE20130320,   A17,    18,  2,     10,2,20130330,1332,-40.4850, -48.0970, 5309,   1010.1,   3.1149,  34.2196,2,    230.3,2,   -999.0,9,  -999.00,9,  -999.00,9,  -999.00,9,   -999.0,9,-999.0000,9,  -999.00
  29HE20130320,   A17,    18,  2,     11,2,20130330,1332,-40.4850, -48.0970, 5309,    803.9,   4.0077,  34.1801,2,    250.9,2,    250.3,2,    21.49,2,    28.27,2,     1.93,2,   -999.0,9,   7.6532,2,    25.00
  29HE20130320,   A17,    18,  2,     12,2,20130330,1332,-40.4850, -48.0970, 5309,    704.5,   4.3620,  34.1706,2,    259.0,2,    259.0,2,    16.73,2,    26.80,2,     1.81,2,   -999.0,9,   7.6703,2,    25.00
  29HE20130320,   A17,    18,  2,     13,2,20130330,1332,-40.4850, -48.0970, 5309,    604.6,   4.8205,  34.1800,2,    262.8,2,    262.8,2,    13.10,2,    25.40,2,     1.70,2,   -999.0,9,   7.6808,2,    25.00
  29HE20130320,   A17,    18,  2,     14,2,20130330,1332,-40.4850, -48.0970, 5309,    499.3,   5.7145,  34.2351,2,    254.5,2,    251.8,2,    10.33,2,    23.90,2,     1.58,2,   -999.0,9,   7.6948,2,    25.00
  29HE20130320,   A17,    18,  2,     15,2,20130330,1332,-40.4850, -48.0970, 5309,    401.8,   8.8318,  34.6206,2,    217.9,2,    218.4,2,     7.72,2,    19.44,2,     1.23,2,   -999.0,9,   7.7274,2,    25.00
  29HE20130320,   A17,    18,  2,     16,2,20130330,1332,-40.4850, -48.0970, 5309,    302.8,  12.1382,  35.0906,2,    211.3,2,    212.0,2,     4.11,2,    11.91,2,     0.69,2,   -999.0,9,   7.8174,2,    25.00
  29HE20130320,   A17,    18,  2,     17,2,20130330,1332,-40.4850, -48.0970, 5309,    303.2,  12.1419,  35.0911,2,    210.9,2,   -999.0,9,  -999.00,9,  -999.00,9,  -999.00,9,   -999.0,9,-999.0000,9,  -999.00
  29HE20130320,   A17,    18,  2,     18,2,20130330,1332,-40.4850, -48.0970, 5309,    205.3,  14.0270,  35.3742,2,    208.4,2,    209.7,2,     3.03,2,     8.34,2,     0.54,2,   -999.0,9,   7.8566,2,    25.00
  29HE20130320,   A17,    18,  2,     19,2,20130330,1332,-40.4850, -48.0970, 5309,    205.7,  14.0257,  35.3746,2,    207.6,2,   -999.0,9,  -999.00,9,  -999.00,9,  -999.00,9,   -999.0,9,-999.0000,9,  -999.00
  29HE20130320,   A17,    18,  2,     20,2,20130330,1332,-40.4850, -48.0970, 5309,    101.5,  16.9305,  35.7794,2,    200.3,2,    202.2,2,     2.15,2,     4.01,2,     0.10,2,   -999.0,9,   7.9139,2,    25.00
  29HE20130320,   A17,    18,  2,     21,2,20130330,1332,-40.4850, -48.0970, 5309,     26.2,  18.9770,  35.6440,2,    232.6,2,    235.8,2,     0.21,2,     0.00,2,     0.03,2,   -999.0,9,   8.0124,2,    25.00
  29HE20130320,   A17,    18,  2,     22,2,20130330,1332,-40.4850, -48.0970, 5309,     26.0,  18.9993,  35.6362,2,    233.9,2,   -999.0,9,  -999.00,9,  -999.00,9,  -999.00,9,   -999.0,9,-999.0000,9,  -999.00
  29HE20130320,   A17,    18,  2,     23,2,20130330,1332,-40.4850, -48.0970, 5309,      6.6,  19.0323,  35.2401,2,    237.9,2,   -999.0,9,  -999.00,9,  -999.00,9,  -999.00,9,   -999.0,9,-999.0000,9,  -999.00
  29HE20130320,   A17,    18,  2,     24,2,20130330,1332,-40.4850, -48.0970, 5309,      6.3,  19.0279,  35.2402,2,    238.1,2,    240.3,2,     0.12,2,    -0.01,2,     0.01,2,   -999.0,9,   8.0129,2,    25.00
  29HE20130320,   A17,    19,  1,      1,2,20130330,2023,-39.8970, -47.5540, 5265,   5352.0,   0.3040,  34.6701,2,    222.2,2,    222.1,2,   128.77,2,    32.86,2,     2.29,2,   2368.1,2,   7.5988,2,    25.00
  29HE20130320,   A17,    19,  1,      2,2,20130330,2023,-39.8970, -47.5540, 5265,   5098.2,   0.2846,  34.6707,2,    222.3,2,    222.6,2,   128.47,2,    32.62,2,     2.30,2,   2363.3,2,   7.6006,2,    25.00
  29HE20130320,   A17,    19,  1,      3,2,20130330,2023,-39.8970, -47.5540, 5265,   4582.6,   0.3255,  34.6751,2,    221.6,2,    222.0,2,   127.39,2,    32.71,2,     2.28,2,   2367.1,2,   7.6002,2,    25.00
  29HE20130320,   A17,    19,  1,      4,2,20130330,2023,-39.8970, -47.5540, 5265,   4067.1,   0.5892,  34.6890,2,    215.6,2,    214.9,2,   122.10,2,    32.38,2,     2.26,2,   2361.6,2,   7.6177,2,    25.00
  29HE20130320,   A17,    19,  1,      5,2,20130330,2023,-39.8970, -47.5540, 5265,   3556.7,   1.2192,  34.7255,2,    207.6,2,    209.1,2,   108.76,2,    31.06,2,     2.16,2,   2359.4,2,   7.6055,2,    25.00
  29HE20130320,   A17,    19,  1,      6,2,20130330,2023,-39.8970, -47.5540, 5265,   3046.3,   1.8726,  34.7768,2,    209.9,2,    210.2,2,    86.19,2,    28.53,2,     1.98,2,   2355.1,2,   7.6382,2,    25.00
  29HE20130320,   A17,    19,  1,      7,2,20130330,2023,-39.8970, -47.5540, 5265,   2532.0,   2.6170,  34.8394,2,    220.6,2,    221.1,2,    56.39,2,    25.24,2,     1.71,2,   2336.2,2,   7.6603,2,    25.00
  29HE20130320,   A17,    19,  1,      8,2,20130330,2023,-39.8970, -47.5540, 5265,   2280.8,   2.7196,  34.8132,2,    210.3,2,    210.3,2,    59.97,2,    26.63,2,     1.82,2,   2337.4,2,   7.6449,2,    25.00
  29HE20130320,   A17,    19,  1,      9,2,20130330,2023,-39.8970, -47.5540, 5265,   2025.9,   2.9243,  34.7955,2,    204.8,2,    206.9,2,    55.87,2,    27.06,2,     1.86,2,   2335.0,2,   7.6439,2,    25.00
  29HE20130320,   A17,    19,  1,     10,2,20130330,2023,-39.8970, -47.5540, 5265,   1823.5,   2.8894,  34.7361,2,    192.5,2,    193.0,2,    60.76,2,    29.13,2,     2.03,2,   2334.0,2,   7.6175,2,    25.00
  29HE20130320,   A17,    19,  1,     11,2,20130330,2023,-39.8970, -47.5540, 5265,   1619.5,   2.7107,  34.6280,2,    176.5,2,    177.0,2,    70.97,2,    32.27,2,     2.27,2,   2336.1,2,   7.5778,2,    25.00
  29HE20130320,   A17,    19,  1,     12,2,20130330,2023,-39.8970, -47.5540, 5265,   1416.4,   3.1299,  34.6104,2,    186.2,2,    187.1,2,    53.74,2,    31.26,2,     2.16,2,   2328.7,2,   7.6000,2,    25.00
  29HE20130320,   A17,    19,  1,     13,2,20130330,2023,-39.8970, -47.5540, 5265,   1213.2,   2.8999,  34.4553,2,    183.8,2,    184.8,2,    58.75,2,    33.61,2,     2.35,2,   2322.7,2,   7.5698,2,    25.00
  29HE20130320,   A17,    19,  1,     14,2,20130330,2023,-39.8970, -47.5540, 5265,   1005.3,   3.2091,  34.3727,2,    198.0,2,    199.2,2,    46.36,2,    32.35,2,     2.27,2,   2310.1,2,   7.5879,2,    25.00
  29HE20130320,   A17,    19,  1,     15,2,20130330,2023,-39.8970, -47.5540, 5265,    808.4,   3.2289,  34.2443,2,    226.2,2,    227.2,2,    34.37,2,    31.08,2,     2.16,2,   2298.3,2,   7.6085,2,    25.00
  29HE20130320,   A17,    19,  1,     16,2,20130330,2023,-39.8970, -47.5540, 5265,    707.9,   3.3701,  34.1899,2,    243.9,2,    243.9,2,    28.38,2,    29.91,2,     2.06,2,   2293.8,2,   7.6295,2,    25.00
  29HE20130320,   A17,    19,  1,     17,2,20130330,2023,-39.8970, -47.5540, 5265,    606.6,   3.6565,  34.1621,2,    255.5,2,    256.3,2,    21.94,2,    28.63,2,     1.95,2,   2287.9,2,   7.6505,2,    25.00
  29HE20130320,   A17,    19,  1,     18,2,20130330,2023,-39.8970, -47.5540, 5265,    506.2,   3.9221,  34.1353,2,    267.4,2,    267.3,2,    16.87,2,    27.24,2,     1.86,2,   2279.8,2,   7.6608,2,    25.00
  29HE20130320,   A17,    19,  1,     19,2,20130330,2023,-39.8970, -47.5540, 5265,    404.3,   4.2092,  34.1155,2,    280.8,2,    280.1,2,    12.13,2,    25.38,2,     1.75,2,   2273.1,2,   7.6866,2,    25.00
  29HE20130320,   A17,    19,  1,     20,2,20130330,2023,-39.8970, -47.5540, 5265,    302.4,   4.8559,  34.1605,2,    271.5,2,    271.2,2,    10.20,2,    24.69,2,     1.67,2,   2275.3,2,   7.6888,2,    25.00
  29HE20130320,   A17,    19,  1,     21,2,20130330,2023,-39.8970, -47.5540, 5265,    201.6,   6.6504,  34.3212,2,    249.7,2,    249.9,2,     7.47,2,    21.96,2,     1.46,2,   2280.2,2,   7.7093,2,    25.00
  29HE20130320,   A17,    19,  1,     22,2,20130330,2023,-39.8970, -47.5540, 5265,    101.0,  10.0012,  34.5448,2,    231.4,2,    232.8,2,     3.54,2,    15.31,2,     0.97,2,   2289.2,2,   7.7731,2,    25.00
  29HE20130320,   A17,    19,  1,     23,2,20130330,2023,-39.8970, -47.5540, 5265,     50.4,  14.6453,  34.3183,2,    252.6,2,    253.7,2,     0.74,2,     2.39,2,     0.30,2,   2288.7,2,   7.9581,2,    25.00
  29HE20130320,   A17,    19,  1,     24,2,20130330,2023,-39.8970, -47.5540, 5265,      6.5,  15.3038,  34.3124,2,    261.3,2,    261.0,2,     0.63,2,     1.61,2,     0.18,2,   2291.1,2,   7.9737,2,    25.00
  29HE20130320,   A17,    20,  1,      1,2,20130331,0445,-39.3010, -47.0150, 5213,   5317.6,   0.3019,  34.6703,2,    223.1,2,    222.3,2,   128.19,2,    32.92,2,     2.31,2,   -999.0,9,   7.6026,2,    25.00
  29HE20130320,   A17,    20,  1,      2,2,20130331,0445,-39.3010, -47.0150, 5213,   5097.7,   0.2977,  34.6714,2,    223.1,2,    222.6,2,   127.38,2,    32.82,2,     2.28,2,   -999.0,9,   7.6023,2,    25.00
  29HE20130320,   A17,    20,  1,      3,2,20130331,0445,-39.3010, -47.0150, 5213,   4584.9,   0.3602,  34.6767,2,    221.4,2,    220.6,2,   124.66,2,    32.39,2,     2.31,2,   -999.0,9,   7.6012,2,    25.00
  29HE20130320,   A17,    20,  1,      4,2,20130331,0445,-39.3010, -47.0150, 5213,   4070.4,   0.7586,  34.6971,2,    213.6,2,    212.9,2,   116.75,2,    31.98,2,     2.26,2,   -999.0,9,   7.6050,2,    25.00
  29HE20130320,   A17,    20,  1,      5,2,20130331,0445,-39.3010, -47.0150, 5213,   3557.2,   1.2757,  34.7262,2,    206.6,2,    205.9,2,   106.15,2,    31.17,2,     2.14,2,   -999.0,9,   7.6115,2,    25.00
  29HE20130320,   A17,    20,  1,      6,2,20130331,0445,-39.3010, -47.0150, 5213,   3044.6,   2.0830,  34.7945,2,    213.1,2,    212.2,2,    75.95,2,    27.66,2,     1.89,2,   -999.0,9,   7.6475,2,    25.00
  29HE20130320,   A17,    20,  1,      7,2,20130331,0445,-39.3010, -47.0150, 5213,   2534.7,   2.6718,  34.8195,2,    213.7,2,    213.0,2,    58.90,2,    26.47,2,     1.81,2,   -999.0,9,   7.6552,2,    25.00
  29HE20130320,   A17,    20,  1,      8,2,20130331,0445,-39.3010, -47.0150, 5213,   2280.4,   2.8943,  34.8055,2,    208.1,2,    208.0,2,    55.09,2,    26.77,2,     1.77,2,   -999.0,9,   7.6472,2,    25.00
  29HE20130320,   A17,    20,  1,      9,2,20130331,0445,-39.3010, -47.0150, 5213,   2025.7,   3.3367,  34.8240,2,    212.8,2,    212.4,2,    42.08,2,    25.83,2,     1.75,2,   -999.0,9,   7.6608,2,    25.00
  29HE20130320,   A17,    20,  1,     10,2,20130331,0445,-39.3010, -47.0150, 5213,   1822.2,   2.9587,  34.6854,2,    187.3,2,    187.1,2,    60.75,2,    30.72,2,     2.12,2,   -999.0,9,   7.6054,2,    25.00
  29HE20130320,   A17,    20,  1,     11,2,20130331,0445,-39.3010, -47.0150, 5213,   1616.8,   2.8731,  34.5834,2,    179.7,2,    179.3,2,    63.49,2,    32.85,2,     2.23,2,   -999.0,9,   7.5771,2,    25.00
  29HE20130320,   A17,    20,  1,     12,2,20130331,0445,-39.3010, -47.0150, 5213,   1416.1,   2.9071,  34.4721,2,    183.3,2,    183.4,2,    58.46,2,    33.63,2,     2.33,2,   -999.0,9,   7.5723,2,    25.00
  29HE20130320,   A17,    20,  1,     13,2,20130331,0445,-39.3010, -47.0150, 5213,   1214.2,   3.0764,  34.3546,2,    200.2,2,    200.2,2,    46.75,2,    33.18,2,     2.29,2,   -999.0,9,   7.5857,2,    25.00
  29HE20130320,   A17,    20,  1,     14,2,20130331,0445,-39.3010, -47.0150, 5213,   1011.4,   3.4658,  34.2573,2,    225.9,2,    225.5,2,    31.46,2,    31.08,2,     2.12,2,   -999.0,9,   7.6183,2,    25.00
  29HE20130320,   A17,    20,  1,     15,2,20130331,0445,-39.3010, -47.0150, 5213,    805.7,   4.1808,  34.1989,2,    250.5,2,    250.5,2,    19.53,2,    28.02,2,     1.89,2,   -999.0,9,   7.6596,2,    25.00
  29HE20130320,   A17,    20,  1,     16,2,20130331,0445,-39.3010, -47.0150, 5213,    700.5,   4.5359,  34.1866,2,    259.8,2,    259.8,2,    15.05,2,    26.52,2,     1.77,2,   -999.0,9,   7.6708,2,    25.00
  29HE20130320,   A17,    20,  1,     17,2,20130331,0445,-39.3010, -47.0150, 5213,    610.7,   4.9085,  34.1895,2,    263.6,2,    263.2,2,    11.82,2,    25.31,2,     1.68,2,   -999.0,9,   7.6890,2,    25.00
  29HE20130320,   A17,    20,  1,     18,2,20130331,0445,-39.3010, -47.0150, 5213,    503.1,   6.4589,  34.3404,2,    239.0,2,    240.8,2,    10.02,2,    23.40,2,     1.50,2,   -999.0,9,   7.6968,2,    25.00
  29HE20130320,   A17,    20,  1,     19,2,20130331,0445,-39.3010, -47.0150, 5213,    405.9,   9.2376,  34.6743,2,    218.3,2,    218.9,2,     6.91,2,    18.37,2,     1.10,2,   -999.0,9,   7.7398,2,    25.00
  29HE20130320,   A17,    20,  1,     20,2,20130331,0445,-39.3010, -47.0150, 5213,    304.9,  12.4102,  35.1332,2,    212.2,2,    213.0,2,     3.93,2,    11.41,2,     0.61,2,   -999.0,9,   7.8235,2,    25.00
  29HE20130320,   A17,    20,  1,     21,2,20130331,0445,-39.3010, -47.0150, 5213,    203.9,  14.8478,  35.5129,2,    209.5,2,    210.3,2,     2.65,2,     6.42,2,     0.29,2,   -999.0,9,   7.8832,2,    25.00
  29HE20130320,   A17,    20,  1,     22,2,20130331,0445,-39.3010, -47.0150, 5213,    100.7,  18.3664,  36.0313,2,    207.0,2,    208.4,2,     1.62,2,     2.09,2,     0.02,2,   -999.0,9,   7.9600,2,    25.00
  29HE20130320,   A17,    20,  1,     23,2,20130331,0445,-39.3010, -47.0150, 5213,     75.5,  19.3886,  36.1294,2,    226.8,2,    228.3,2,     0.56,2,     0.02,2,    -0.01,2,   -999.0,9,   8.0185,2,    25.00
  29HE20130320,   A17,    20,  1,     24,2,20130331,0445,-39.3010, -47.0150, 5213,      4.8,  19.5708,  36.1788,2,    227.0,2,    228.9,2,     0.51,2,    -0.04,2,    -0.01,2,   -999.0,9,   8.0219,2,    25.00