BOTTLE,20230216CCHSIOENA
EXPOCODE,SECT_ID,STNNBR,CASTNO,BTLNBR,BTLNBR_FLAG_W,DATE,TIME,LATITUDE,LONGITUDE,DEPTH,CTDPRS,CTDTMP,CTDSAL,CTDSAL_FLAG_W,CTDOXY,CTDOXY_FLAG_W,OXYGEN,OXYGEN_FLAG_W,SILCAT,SILCAT_FLAG_W,NITRAT,NITRAT_FLAG_W,PHSPHT,PHSPHT_FLAG_W,ALKALI,ALKALI_FLAG_W,PH_TOT,PH_TOT_FLAG_W,PH_TMP
,,,,,,,,,,METERS,DBAR,ITS-90,PSS-78,,UMOL/KG,,UMOL/KG,,UMOL/KG,,UMOL/KG,,UMOL/KG,,UMOL/KG,,,,DEG C
  29HE20130320,   A17,   113,  1,      1,2,20130520,0357, 36.0060,  -5.3550,  915,    859.0,  13.0348,  38.4738,2,    186.6,2,   -999.0,9,  -999.00,9,  -999.00,9,  -999.00,9,   -999.0,9,-999.0000,9,  -999.00
  29HE20130320,   A17,   113,  1,      2,2,20130520,0357, 36.0060,  -5.3550,  915,    859.2,  13.0349,  38.4738,2,    186.8,2,    186.9,2,    10.46,2,     8.67,2,     0.20,2,   2584.2,2,   7.8932,2,    25.00
  29HE20130320,   A17,   113,  1,      3,2,20130520,0357, 36.0060,  -5.3550,  915,    366.1,  13.1261,  38.4860,2,    167.7,2,   -999.0,9,  -999.00,9,  -999.00,9,  -999.00,9,   -999.0,9,-999.0000,9,  -999.00
  29HE20130320,   A17,   113,  1,      4,2,20130520,0357, 36.0060,  -5.3550,  915,    366.2,  13.1261,  38.4860,2,    167.8,2,   -999.0,9,  -999.00,9,  -999.00,9,  -999.00,9,   -999.0,9,-999.0000,9,  -999.00
  29HE20130320,   A17,   113,  1,      5,2,20130520,0357, 36.0060,  -5.3550,  915,    366.4,  13.1259,  38.4859,2,    167.7,2,   -999.0,9,  -999.00,9,  -999.00,9,  -999.00,9,   -999.0,9,-999.0000,9,  -999.00
  29HE20130320,   A17,   113,  1,      6,2,20130520,0357, 36.0060,  -5.3550,  915,    366.5,  13.1260,  38.4859,2,    167.7,2,    167.9,2,     9.37,2,    10.36,2,     0.36,2,   2579.4,2,   7.9379,2,    25.00
  29HE20130320,   A17,   113,  1,      7,2,20130520,0357, 36.0060,  -5.3550,  915,    366.6,  13.1264,  38.4861,2,    167.3,2,   -999.0,9,  -999.00,9,  -999.00,9,  -999.00,9,   -999.0,9,-999.0000,9,  -999.00
  29HE20130320,   A17,   113,  1,      8,2,20130520,0357, 36.0060,  -5.3550,  915,    245.4,  13.1509,  38.4624,2,    162.4,2,   -999.0,9,  -999.00,9,  -999.00,9,  -999.00,9,   -999.0,9,-999.0000,9,  -999.00
  29HE20130320,   A17,   113,  1,      9,2,20130520,0357, 36.0060,  -5.3550,  915,    245.6,  13.1511,  38.4622,2,    162.6,2,    162.5,2,     8.66,2,    11.06,2,     0.41,2,   2576.5,2,   7.8549,2,    25.00
  29HE20130320,   A17,   113,  1,     10,2,20130520,0357, 36.0060,  -5.3550,  915,    245.8,  13.1508,  38.4624,2,    162.4,2,   -999.0,9,  -999.00,9,  -999.00,9,  -999.00,9,   -999.0,9,-999.0000,9,  -999.00
  29HE20130320,   A17,   113,  1,     11,2,20130520,0357, 36.0060,  -5.3550,  915,    113.3,  13.5570,  38.0691,2,    197.1,2,   -999.0,9,  -999.00,9,  -999.00,9,  -999.00,9,   -999.0,9,-999.0000,9,  -999.00
  29HE20130320,   A17,   113,  1,     12,2,20130520,0357, 36.0060,  -5.3550,  915,    113.4,  13.5564,  38.0696,2,    197.3,2,    198.0,2,     4.05,2,     6.84,2,     0.18,2,   2545.5,2,   7.8893,2,    25.00
  29HE20130320,   A17,   113,  1,     13,2,20130520,0357, 36.0060,  -5.3550,  915,    113.5,  13.5546,  38.0708,2,    197.1,2,   -999.0,9,  -999.00,9,  -999.00,9,  -999.00,9,   -999.0,9,-999.0000,9,  -999.00
  29HE20130320,   A17,   113,  1,     14,2,20130520,0357, 36.0060,  -5.3550,  915,     60.9,  14.3328,  37.3028,2,    204.7,2,   -999.0,9,  -999.00,9,  -999.00,9,  -999.00,9,   -999.0,9,-999.0000,9,  -999.00
  29HE20130320,   A17,   113,  1,     15,2,20130520,0357, 36.0060,  -5.3550,  915,     60.9,  14.3322,  37.3035,2,    204.9,2,   -999.0,9,  -999.00,9,  -999.00,9,  -999.00,9,   -999.0,9,-999.0000,9,  -999.00
  29HE20130320,   A17,   113,  1,     16,2,20130520,0357, 36.0060,  -5.3550,  915,     60.9,  14.3317,  37.3040,2,    204.9,2,    204.8,2,     3.31,2,     6.15,2,     0.17,2,   2478.1,2,   7.8959,2,    25.00
  29HE20130320,   A17,   113,  1,     17,2,20130520,0357, 36.0060,  -5.3550,  915,     60.9,  14.3313,  37.3042,2,    204.8,2,   -999.0,9,  -999.00,9,  -999.00,9,  -999.00,9,   -999.0,9,-999.0000,9,  -999.00
  29HE20130320,   A17,   113,  1,     18,2,20130520,0357, 36.0060,  -5.3550,  915,     60.9,  14.3323,  37.3033,2,    205.1,2,   -999.0,9,  -999.00,9,  -999.00,9,  -999.00,9,   -999.0,9,-999.0000,9,  -999.00
  29HE20130320,   A17,   113,  1,     19,2,20130520,0357, 36.0060,  -5.3550,  915,     22.4,  16.0368,  36.3311,2,    228.6,2,   -999.0,9,  -999.00,9,  -999.00,9,  -999.00,9,   -999.0,9,-999.0000,9,  -999.00
  29HE20130320,   A17,   113,  1,     20,2,20130520,0357, 36.0060,  -5.3550,  915,     22.4,  16.0389,  36.3312,2,    228.4,2,   -999.0,9,  -999.00,9,  -999.00,9,  -999.00,9,   -999.0,9,-999.0000,9,  -999.00
  29HE20130320,   A17,   113,  1,     21,2,20130520,0357, 36.0060,  -5.3550,  915,     22.3,  16.0360,  36.3306,2,    228.7,2,    229.7,2,     1.15,2,     2.31,2,     0.05,2,   2381.6,2,   7.9404,2,    25.00
  29HE20130320,   A17,   113,  1,     22,2,20130520,0357, 36.0060,  -5.3550,  915,     22.4,  16.0310,  36.3307,2,    228.7,2,   -999.0,9,  -999.00,9,  -999.00,9,  -999.00,9,   -999.0,9,-999.0000,9,  -999.00
  29HE20130320,   A17,   113,  1,     23,2,20130520,0357, 36.0060,  -5.3550,  915,     22.4,  16.0294,  36.3305,2,    228.7,2,   -999.0,9,  -999.00,9,  -999.00,9,  -999.00,9,   -999.0,9,-999.0000,9,  -999.00
  29HE20130320,   A17,   113,  1,     24,2,20130520,0357, 36.0060,  -5.3550,  915,     22.4,  16.0267,  36.3301,2,    228.7,2,   -999.0,9,  -999.00,9,  -999.00,9,  -999.00,9,   -999.0,9,-999.0000,9,  -999.00