BOTTLE,20230216CCHSIOENA
EXPOCODE,SECT_ID,STNNBR,CASTNO,BTLNBR,BTLNBR_FLAG_W,DATE,TIME,LATITUDE,LONGITUDE,DEPTH,CTDPRS,CTDTMP,CTDSAL,CTDSAL_FLAG_W,CTDOXY,CTDOXY_FLAG_W,OXYGEN,OXYGEN_FLAG_W,SILCAT,SILCAT_FLAG_W,NITRAT,NITRAT_FLAG_W,PHSPHT,PHSPHT_FLAG_W,ALKALI,ALKALI_FLAG_W,PH_TOT,PH_TOT_FLAG_W,PH_TMP
,,,,,,,,,,METERS,DBAR,ITS-90,PSS-78,,UMOL/KG,,UMOL/KG,,UMOL/KG,,UMOL/KG,,UMOL/KG,,UMOL/KG,,,,DEG C
  29HE20130320,   A17,    67,  2,      1,2,20130426,0525, -6.4050, -30.2010, 5103,    202.3,  11.0576,  35.0417,2,    111.2,2,   -999.0,9,  -999.00,9,  -999.00,9,  -999.00,9,   -999.0,9,-999.0000,9,  -999.00
  29HE20130320,   A17,    67,  2,      2,2,20130426,0525, -6.4050, -30.2010, 5103,    202.3,  11.0672,  35.0428,2,    111.0,2,   -999.0,9,  -999.00,9,  -999.00,9,  -999.00,9,   -999.0,9,-999.0000,9,  -999.00
  29HE20130320,   A17,    67,  2,      3,2,20130426,0525, -6.4050, -30.2010, 5103,    200.9,  11.1377,  35.0523,2,    111.3,2,   -999.0,9,  -999.00,9,  -999.00,9,  -999.00,9,   -999.0,9,-999.0000,9,  -999.00
  29HE20130320,   A17,    67,  2,      4,2,20130426,0525, -6.4050, -30.2010, 5103,    200.4,  11.1462,  35.0531,2,    111.4,2,   -999.0,9,  -999.00,9,  -999.00,9,  -999.00,9,   -999.0,9,-999.0000,9,  -999.00
  29HE20130320,   A17,    67,  2,      5,2,20130426,0525, -6.4050, -30.2010, 5103,    200.4,  11.1479,  35.0531,2,    111.4,2,   -999.0,9,  -999.00,9,  -999.00,9,  -999.00,9,   -999.0,9,-999.0000,9,  -999.00
  29HE20130320,   A17,    67,  2,      6,2,20130426,0525, -6.4050, -30.2010, 5103,    201.0,  11.1851,  35.0579,2,    111.4,2,   -999.0,9,  -999.00,9,  -999.00,9,  -999.00,9,   -999.0,9,-999.0000,9,  -999.00
  29HE20130320,   A17,    67,  2,      7,2,20130426,0525, -6.4050, -30.2010, 5103,    201.2,  11.1858,  35.0580,2,    111.4,2,   -999.0,9,  -999.00,9,  -999.00,9,  -999.00,9,   -999.0,9,-999.0000,9,  -999.00
  29HE20130320,   A17,    67,  2,      8,2,20130426,0525, -6.4050, -30.2010, 5103,    200.9,  11.1755,  35.0559,2,    111.5,2,   -999.0,9,  -999.00,9,  -999.00,9,  -999.00,9,   -999.0,9,-999.0000,9,  -999.00
  29HE20130320,   A17,    67,  2,      9,2,20130426,0525, -6.4050, -30.2010, 5103,    200.1,  11.1559,  35.0544,2,    111.6,2,   -999.0,9,  -999.00,9,  -999.00,9,  -999.00,9,   -999.0,9,-999.0000,9,  -999.00
  29HE20130320,   A17,    67,  2,     10,2,20130426,0525, -6.4050, -30.2010, 5103,    199.9,  11.1591,  35.0544,2,    111.4,2,   -999.0,9,  -999.00,9,  -999.00,9,  -999.00,9,   -999.0,9,-999.0000,9,  -999.00
  29HE20130320,   A17,    67,  2,     11,2,20130426,0525, -6.4050, -30.2010, 5103,    200.4,  11.1833,  35.0577,2,    111.2,2,   -999.0,9,  -999.00,9,  -999.00,9,  -999.00,9,   -999.0,9,-999.0000,9,  -999.00
  29HE20130320,   A17,    67,  2,     12,2,20130426,0525, -6.4050, -30.2010, 5103,    201.0,  11.2049,  35.0599,2,    111.3,2,   -999.0,9,  -999.00,9,  -999.00,9,  -999.00,9,   -999.0,9,-999.0000,9,  -999.00
  29HE20130320,   A17,    67,  2,     13,2,20130426,0525, -6.4050, -30.2010, 5103,    201.3,  11.2033,  35.0600,2,    111.5,2,   -999.0,9,  -999.00,9,  -999.00,9,  -999.00,9,   -999.0,9,-999.0000,9,  -999.00
  29HE20130320,   A17,    67,  2,     14,2,20130426,0525, -6.4050, -30.2010, 5103,    201.1,  11.1949,  35.0587,2,    111.6,2,   -999.0,9,  -999.00,9,  -999.00,9,  -999.00,9,   -999.0,9,-999.0000,9,  -999.00
  29HE20130320,   A17,    67,  2,     15,2,20130426,0525, -6.4050, -30.2010, 5103,    200.6,  11.1909,  35.0583,2,    111.7,2,   -999.0,9,  -999.00,9,  -999.00,9,  -999.00,9,   -999.0,9,-999.0000,9,  -999.00
  29HE20130320,   A17,    67,  2,     16,2,20130426,0525, -6.4050, -30.2010, 5103,    200.2,  11.1934,  35.0586,2,    111.5,2,   -999.0,9,  -999.00,9,  -999.00,9,  -999.00,9,   -999.0,9,-999.0000,9,  -999.00
  29HE20130320,   A17,    67,  2,     17,2,20130426,0525, -6.4050, -30.2010, 5103,    200.2,  11.1909,  35.0581,2,    111.4,2,   -999.0,9,  -999.00,9,  -999.00,9,  -999.00,9,   -999.0,9,-999.0000,9,  -999.00
  29HE20130320,   A17,    67,  2,     18,2,20130426,0525, -6.4050, -30.2010, 5103,    200.6,  11.1881,  35.0583,2,    111.4,2,   -999.0,9,  -999.00,9,  -999.00,9,  -999.00,9,   -999.0,9,-999.0000,9,  -999.00
  29HE20130320,   A17,    67,  2,     19,2,20130426,0525, -6.4050, -30.2010, 5103,    201.0,  11.2019,  35.0603,2,    111.5,2,   -999.0,9,  -999.00,9,  -999.00,9,  -999.00,9,   -999.0,9,-999.0000,9,  -999.00
  29HE20130320,   A17,    67,  2,     20,2,20130426,0525, -6.4050, -30.2010, 5103,    201.1,  11.2025,  35.0598,2,    111.5,2,   -999.0,9,  -999.00,9,  -999.00,9,  -999.00,9,   -999.0,9,-999.0000,9,  -999.00
  29HE20130320,   A17,    67,  2,     21,2,20130426,0525, -6.4050, -30.2010, 5103,    200.9,  11.1954,  35.0590,2,    111.5,2,   -999.0,9,  -999.00,9,  -999.00,9,  -999.00,9,   -999.0,9,-999.0000,9,  -999.00
  29HE20130320,   A17,    67,  2,     22,2,20130426,0525, -6.4050, -30.2010, 5103,    200.3,  11.2012,  35.0597,2,    111.7,2,   -999.0,9,  -999.00,9,  -999.00,9,  -999.00,9,   -999.0,9,-999.0000,9,  -999.00
  29HE20130320,   A17,    67,  2,     23,2,20130426,0525, -6.4050, -30.2010, 5103,    200.2,  11.2025,  35.0599,2,    111.7,2,   -999.0,9,  -999.00,9,  -999.00,9,  -999.00,9,   -999.0,9,-999.0000,9,  -999.00
  29HE20130320,   A17,    67,  2,     24,2,20130426,0525, -6.4050, -30.2010, 5103,    200.6,  11.2045,  35.0597,2,    111.6,2,   -999.0,9,  -999.00,9,  -999.00,9,  -999.00,9,   -999.0,9,-999.0000,9,  -999.00
  29HE20130320,   A17,    67,  3,      1,2,20130426,0636, -6.4050, -30.2010, 5103,   5173.6,   0.6664,  34.7012,2,    219.5,2,    219.5,2,   120.77,2,    31.65,2,     2.14,2,   -999.0,9,   7.6258,2,    25.00
  29HE20130320,   A17,    67,  3,      2,2,20130426,0636, -6.4050, -30.2010, 5103,   5173.7,   0.6664,  34.7011,2,    219.3,2,   -999.0,9,  -999.00,9,  -999.00,9,  -999.00,9,   -999.0,9,-999.0000,9,  -999.00
  29HE20130320,   A17,    67,  3,      3,2,20130426,0636, -6.4050, -30.2010, 5103,   5084.9,   0.7095,  34.7068,2,    219.9,2,    222.2,2,   119.34,2,    31.24,2,     2.12,2,   -999.0,9,   7.6285,2,    25.00
  29HE20130320,   A17,    67,  3,      4,2,20130426,0636, -6.4050, -30.2010, 5103,   4575.8,   0.9747,  34.7410,2,    225.7,2,    226.8,2,   104.64,2,    29.66,2,     1.97,2,   -999.0,9,   7.6519,2,    25.00
  29HE20130320,   A17,    67,  3,      5,2,20130426,0636, -6.4050, -30.2010, 5103,   4061.4,   1.7271,  34.8238,2,    240.0,2,    241.6,2,    70.35,2,    25.18,2,     1.63,2,   -999.0,9,   7.6987,2,    25.00
  29HE20130320,   A17,    67,  3,      6,2,20130426,0636, -6.4050, -30.2010, 5103,   3547.8,   2.5365,  34.9072,2,    254.0,2,    255.7,2,    34.54,2,    20.85,2,     1.32,2,   -999.0,9,   7.7374,2,    25.00
  29HE20130320,   A17,    67,  3,      7,2,20130426,0636, -6.4050, -30.2010, 5103,   3042.2,   2.7152,  34.9154,2,    247.4,2,    248.6,2,    35.22,2,    21.35,2,     1.35,2,   -999.0,9,   7.7327,2,    25.00
  29HE20130320,   A17,    67,  3,      8,2,20130426,0636, -6.4050, -30.2010, 5103,   3041.3,   2.7156,  34.9153,2,    246.7,2,   -999.0,9,  -999.00,9,  -999.00,9,  -999.00,9,   -999.0,9,-999.0000,9,  -999.00
  29HE20130320,   A17,    67,  3,      9,2,20130426,0636, -6.4050, -30.2010, 5103,   3040.5,   2.7154,  34.9156,2,    246.7,2,   -999.0,9,  -999.00,9,  -999.00,9,  -999.00,9,   -999.0,9,-999.0000,9,  -999.00
  29HE20130320,   A17,    67,  3,     10,2,20130426,0636, -6.4050, -30.2010, 5103,   3041.5,   2.7154,  34.9155,2,    246.7,2,   -999.0,9,  -999.00,9,  -999.00,9,  -999.00,9,   -999.0,9,-999.0000,9,  -999.00
  29HE20130320,   A17,    67,  3,     11,2,20130426,0636, -6.4050, -30.2010, 5103,   2531.9,   2.9535,  34.9252,2,    244.5,2,    245.8,2,    32.79,2,    21.59,2,     1.36,2,   -999.0,9,   7.7289,2,    25.00
  29HE20130320,   A17,    67,  3,     12,2,20130426,0636, -6.4050, -30.2010, 5103,   2275.9,   3.2298,  34.9448,2,    249.1,2,    249.1,2,    26.69,2,    20.65,2,     1.29,2,   -999.0,9,   7.7312,2,    25.00
  29HE20130320,   A17,    67,  3,     13,2,20130426,0636, -6.4050, -30.2010, 5103,   2021.7,   3.5870,  34.9605,2,    248.0,2,    248.7,2,    21.93,2,    20.48,2,     1.27,2,   -999.0,9,   7.7296,2,    25.00
  29HE20130320,   A17,    67,  3,     14,2,20130426,0636, -6.4050, -30.2010, 5103,   1756.3,   3.9185,  34.9672,2,    241.0,2,    241.4,2,    20.02,2,    20.89,2,     1.32,2,   -999.0,9,   7.7204,2,    25.00
  29HE20130320,   A17,    67,  3,     15,2,20130426,0636, -6.4050, -30.2010, 5103,   1615.6,   4.1084,  34.9655,2,    235.0,2,    234.6,2,    19.47,2,    21.49,2,     1.34,2,   -999.0,9,   7.7150,2,    25.00
  29HE20130320,   A17,    67,  3,     16,2,20130426,0636, -6.4050, -30.2010, 5103,   1414.6,   4.3171,  34.9318,2,    216.5,2,    214.8,2,    21.69,2,    23.80,2,     1.51,2,   -999.0,9,   7.6913,2,    25.00
  29HE20130320,   A17,    67,  3,     17,2,20130426,0636, -6.4050, -30.2010, 5103,   1209.8,   4.3550,  34.8080,2,    185.7,2,    185.5,2,    27.80,2,    28.19,2,     1.84,2,   -999.0,9,   7.6366,2,    25.00
  29HE20130320,   A17,    67,  3,     18,2,20130426,0636, -6.4050, -30.2010, 5103,   1009.2,   4.1468,  34.5817,2,    166.1,2,    165.3,2,    35.02,2,    32.66,2,     2.19,2,   -999.0,9,   7.5847,2,    25.00
  29HE20130320,   A17,    67,  3,     19,2,20130426,0636, -6.4050, -30.2010, 5103,    806.8,   4.5982,  34.4448,2,    163.0,2,    161.7,2,    31.98,2,    33.66,2,     2.25,2,   -999.0,9,   7.5704,2,    25.00
  29HE20130320,   A17,    67,  3,     20,2,20130426,0636, -6.4050, -30.2010, 5103,    705.6,   5.3216,  34.4732,2,    146.3,2,    148.4,2,    28.16,2,    33.82,2,     2.24,2,   -999.0,9,   7.5587,2,    25.00
  29HE20130320,   A17,    67,  3,     21,2,20130426,0636, -6.4050, -30.2010, 5103,    603.9,   6.2167,  34.5431,2,    123.5,2,    123.8,2,    24.47,2,    35.78,2,     2.24,2,   -999.0,9,   7.5353,2,    25.00
  29HE20130320,   A17,    67,  3,     22,2,20130426,0636, -6.4050, -30.2010, 5103,    505.3,   7.3505,  34.6450,2,     93.0,2,     92.0,2,    21.33,2,    36.19,2,     2.22,2,   -999.0,9,   7.5040,2,    25.00
  29HE20130320,   A17,    67,  3,     23,2,20130426,0636, -6.4050, -30.2010, 5103,    402.9,   8.3739,  34.7379,2,     90.4,2,     89.6,2,    18.14,2,    33.52,2,     2.06,2,   -999.0,9,   7.5249,2,    25.00
  29HE20130320,   A17,    67,  3,     24,2,20130426,0636, -6.4050, -30.2010, 5103,    302.1,   9.7023,  34.8752,2,     97.6,2,   -999.0,9,  -999.00,9,  -999.00,9,  -999.00,9,   -999.0,9,-999.0000,9,  -999.00
  29HE20130320,   A17,    68,  1,      1,2,20130426,1749, -5.3080, -30.1380, 5062,   5133.4,   0.6503,  34.6996,2,    219.0,2,    221.2,2,   119.89,2,    31.62,2,     2.14,2,   2376.8,2,   7.6260,2,    25.00
  29HE20130320,   A17,    68,  1,      2,2,20130426,1749, -5.3080, -30.1380, 5062,   5089.1,   0.6493,  34.7000,2,    218.8,2,    221.0,2,   117.88,2,    31.48,2,     2.14,2,   2375.0,2,   7.6435,2,    25.00
  29HE20130320,   A17,    68,  1,      3,2,20130426,1749, -5.3080, -30.1380, 5062,   4574.2,   1.0072,  34.7430,2,    225.9,2,    228.0,2,   100.25,2,    29.51,2,     1.95,2,   2366.2,2,   7.6525,2,    25.00
  29HE20130320,   A17,    68,  1,      4,2,20130426,1749, -5.3080, -30.1380, 5062,   4061.3,   1.7157,  34.8247,2,    241.0,2,    243.5,2,    66.32,2,    24.83,2,     1.62,2,   2350.8,2,   7.7001,2,    25.00
  29HE20130320,   A17,    68,  1,      5,2,20130426,1749, -5.3080, -30.1380, 5062,   3548.2,   2.5126,  34.9077,2,    256.0,2,    257.9,2,    31.87,2,    20.39,2,     1.31,2,   2331.6,2,   7.7398,2,    25.00
  29HE20130320,   A17,    68,  1,      6,2,20130426,1749, -5.3080, -30.1380, 5062,   3038.6,   2.7083,  34.9177,2,    250.0,2,    251.7,2,    32.21,2,    20.83,2,     1.34,2,   2329.0,2,   7.7372,2,    25.00
  29HE20130320,   A17,    68,  1,      7,2,20130426,1749, -5.3080, -30.1380, 5062,   2532.0,   3.0014,  34.9297,2,    245.5,2,    247.4,2,    31.40,2,    21.27,2,     1.37,2,   2331.1,2,   7.7321,2,    25.00
  29HE20130320,   A17,    68,  1,      8,2,20130426,1749, -5.3080, -30.1380, 5062,   2275.4,   3.3254,  34.9520,2,    249.8,2,    251.5,2,    24.31,2,    20.10,2,     1.28,2,   2323.3,2,   7.7370,2,    25.00
  29HE20130320,   A17,    68,  1,      9,2,20130426,1749, -5.3080, -30.1380, 5062,   2018.1,   3.6102,  34.9634,2,    247.0,2,    248.6,2,    21.64,2,    20.40,2,     1.30,2,   2319.8,2,   7.7340,2,    25.00
  29HE20130320,   A17,    68,  1,     10,2,20130426,1749, -5.3080, -30.1380, 5062,   1819.5,   3.8606,  34.9702,2,    244.0,2,    244.7,2,    19.26,2,    20.51,2,     1.32,2,   2314.2,2,   7.7282,2,    25.00
  29HE20130320,   A17,    68,  1,     11,2,20130426,1749, -5.3080, -30.1380, 5062,   1618.2,   4.0363,  34.9667,2,    236.1,2,    236.7,2,    19.53,2,    21.12,2,     1.37,2,   2315.3,2,   7.7198,2,    25.00
  29HE20130320,   A17,    68,  1,     12,2,20130426,1749, -5.3080, -30.1380, 5062,   1411.8,   4.2600,  34.9360,2,    219.0,2,    219.0,2,    21.15,2,    23.27,2,     1.50,2,   2313.4,2,   7.6974,2,    25.00
  29HE20130320,   A17,    68,  1,     13,2,20130426,1749, -5.3080, -30.1380, 5062,   1209.7,   4.3223,  34.8137,2,    186.6,2,    186.5,2,    27.38,2,    27.79,2,     1.84,2,   2308.6,2,   7.6411,2,    25.00
  29HE20130320,   A17,    68,  1,     14,2,20130426,1749, -5.3080, -30.1380, 5062,   1009.2,   4.2518,  34.5941,2,    159.2,2,    159.4,2,    33.03,2,    32.88,2,     2.20,2,   2305.6,2,   7.5773,2,    25.00
  29HE20130320,   A17,    68,  1,     15,2,20130426,1749, -5.3080, -30.1380, 5062,   1008.3,   4.2518,  34.5939,2,    159.5,2,    159.2,2,    33.11,2,    32.97,2,     2.20,2,   2305.7,2,   7.5771,2,    25.00
  29HE20130320,   A17,    68,  1,     16,2,20130426,1749, -5.3080, -30.1380, 5062,    807.4,   4.7897,  34.4730,2,    150.7,2,    150.5,2,    32.18,2,    34.97,2,     2.29,2,   2296.1,2,   7.5580,2,    25.00
  29HE20130320,   A17,    68,  1,     17,2,20130426,1749, -5.3080, -30.1380, 5062,    705.0,   5.2303,  34.4827,2,    141.3,2,    141.6,2,    29.40,2,    35.33,2,     2.29,2,   2293.0,2,   7.5488,2,    25.00
  29HE20130320,   A17,    68,  1,     18,2,20130426,1749, -5.3080, -30.1380, 5062,    603.6,   5.8075,  34.5124,2,    134.3,2,    133.5,2,    26.28,2,    35.04,2,     2.26,2,   2291.6,2,   7.5471,2,    25.00
  29HE20130320,   A17,    68,  1,     19,2,20130426,1749, -5.3080, -30.1380, 5062,    503.7,   6.8206,  34.5992,2,    103.1,2,    102.4,2,    22.96,2,    36.04,2,     2.26,2,   2291.3,2,   7.5132,2,    25.00
  29HE20130320,   A17,    68,  1,     20,2,20130426,1749, -5.3080, -30.1380, 5062,    402.6,   7.9197,  34.6985,2,     84.3,2,     83.8,2,    19.56,2,    35.41,2,     2.16,2,   2293.4,2,   7.5036,2,    25.00
  29HE20130320,   A17,    68,  1,     21,2,20130426,1749, -5.3080, -30.1380, 5062,    302.2,   9.3816,  34.8402,2,     92.5,2,     91.2,2,    15.33,2,    31.08,2,     1.90,2,   2297.9,2,   7.5550,2,    25.00
  29HE20130320,   A17,    68,  1,     22,2,20130426,1749, -5.3080, -30.1380, 5062,    201.5,  11.2904,  35.0778,2,    101.3,2,    100.7,2,    11.07,2,    26.28,2,     1.55,2,   2305.6,2,   7.6244,2,    25.00
  29HE20130320,   A17,    68,  1,     23,2,20130426,1749, -5.3080, -30.1380, 5062,    100.0,  24.3041,  36.5259,2,    198.0,2,    195.8,2,     1.37,2,     0.46,2,     0.04,2,   2396.1,2,   8.0285,2,    25.00
  29HE20130320,   A17,    68,  1,     24,2,20130426,1749, -5.3080, -30.1380, 5062,      5.6,  28.8567,  36.0774,2,    196.3,2,    195.8,2,     0.88,2,    -0.03,2,     0.02,2,   2363.6,2,   8.0752,2,    25.00