BOTTLE,20230216CCHSIOENA
EXPOCODE,SECT_ID,STNNBR,CASTNO,BTLNBR,BTLNBR_FLAG_W,DATE,TIME,LATITUDE,LONGITUDE,DEPTH,CTDPRS,CTDTMP,CTDSAL,CTDSAL_FLAG_W,CTDOXY,CTDOXY_FLAG_W,OXYGEN,OXYGEN_FLAG_W,SILCAT,SILCAT_FLAG_W,NITRAT,NITRAT_FLAG_W,PHSPHT,PHSPHT_FLAG_W,ALKALI,ALKALI_FLAG_W,PH_TOT,PH_TOT_FLAG_W,PH_TMP
,,,,,,,,,,METERS,DBAR,ITS-90,PSS-78,,UMOL/KG,,UMOL/KG,,UMOL/KG,,UMOL/KG,,UMOL/KG,,UMOL/KG,,,,DEG C
  29HE20130320,   A17,    40,  1,      1,2,20130408,0600,-27.3210, -36.5600, 4610,   4680.3,   0.2788,  34.6725,2,    221.2,2,    221.1,2,   126.83,2,    32.61,2,     2.25,2,   -999.0,9,   7.6058,2,    25.00
  29HE20130320,   A17,    40,  1,      2,2,20130408,0600,-27.3210, -36.5600, 4610,   4577.9,   0.3068,  34.6747,2,    221.4,2,    220.7,2,   126.36,2,    32.81,2,     2.23,2,   -999.0,9,   7.6054,2,    25.00
  29HE20130320,   A17,    40,  1,      3,2,20130408,0600,-27.3210, -36.5600, 4610,   4064.3,   1.1278,  34.7531,2,    228.5,2,    227.9,2,    97.19,2,    28.69,2,     1.88,2,   -999.0,9,   7.6532,2,    25.00
  29HE20130320,   A17,    40,  1,      4,2,20130408,0600,-27.3210, -36.5600, 4610,   3554.3,   2.3359,  34.8822,2,    250.7,2,    250.7,2,    44.29,2,    21.43,2,     1.30,2,   -999.0,9,   7.7235,2,    25.00
  29HE20130320,   A17,    40,  1,      5,2,20130408,0600,-27.3210, -36.5600, 4610,   3040.9,   2.7292,  34.9144,2,    252.5,2,    250.9,2,    32.83,2,    20.78,2,     1.22,2,   -999.0,9,   7.7329,2,    25.00
  29HE20130320,   A17,    40,  1,      6,2,20130408,0600,-27.3210, -36.5600, 4610,   2786.0,   2.8526,  34.9191,2,    251.1,2,    250.1,2,    31.00,2,    20.39,2,     1.23,2,   -999.0,9,   7.7300,2,    25.00
  29HE20130320,   A17,    40,  1,      7,2,20130408,0600,-27.3210, -36.5600, 4610,   2531.5,   2.9453,  34.9163,2,    248.6,2,    247.7,2,    31.43,2,    20.90,2,     1.23,2,   -999.0,9,   7.7299,2,    25.00
  29HE20130320,   A17,    40,  1,      8,2,20130408,0600,-27.3210, -36.5600, 4610,   2277.0,   3.0594,  34.9107,2,    245.1,2,    244.2,2,    31.33,2,    21.38,2,     1.25,2,   -999.0,9,   7.7230,2,    25.00
  29HE20130320,   A17,    40,  1,      9,2,20130408,0600,-27.3210, -36.5600, 4610,   2022.2,   3.1181,  34.8797,2,    235.5,2,    234.3,2,    34.08,2,    22.61,2,     1.38,2,   -999.0,9,   7.7001,2,    25.00
  29HE20130320,   A17,    40,  1,     10,2,20130408,0600,-27.3210, -36.5600, 4610,   1819.3,   3.0397,  34.8191,2,    220.7,2,    219.9,2,    42.13,2,    25.22,2,     1.58,2,   -999.0,9,   7.6501,2,    25.00
  29HE20130320,   A17,    40,  1,     11,2,20130408,0600,-27.3210, -36.5600, 4610,   1617.2,   2.9772,  34.7264,2,    202.9,2,    203.4,2,    49.72,2,    28.29,2,     1.83,2,   -999.0,9,   7.6421,2,    25.00
  29HE20130320,   A17,    40,  1,     12,2,20130408,0600,-27.3210, -36.5600, 4610,   1415.0,   3.0546,  34.6191,2,    190.7,2,    190.1,2,    52.16,2,    30.73,2,     2.05,2,   -999.0,9,   7.6135,2,    25.00
  29HE20130320,   A17,    40,  1,     13,2,20130408,0600,-27.3210, -36.5600, 4610,   1212.3,   3.1500,  34.4558,2,    190.9,2,    190.5,2,    49.34,2,    32.65,2,     2.16,2,   -999.0,9,   7.5921,2,    25.00
  29HE20130320,   A17,    40,  1,     14,2,20130408,0600,-27.3210, -36.5600, 4610,   1008.8,   3.6729,  34.3266,2,    209.2,2,    209.3,2,    34.21,2,    31.62,2,     2.04,2,   -999.0,9,   7.6135,2,    25.00
  29HE20130320,   A17,    40,  1,     15,2,20130408,0600,-27.3210, -36.5600, 4610,    807.8,   5.0900,  34.3107,2,    222.6,2,    222.0,2,    19.19,2,    27.83,2,     1.74,2,   -999.0,9,   7.6523,2,    25.00
  29HE20130320,   A17,    40,  1,     16,2,20130408,0600,-27.3210, -36.5600, 4610,    606.5,   8.5577,  34.6319,2,    204.3,2,    204.4,2,    10.11,2,    21.04,2,     1.23,2,   -999.0,9,   7.7117,2,    25.00
  29HE20130320,   A17,    40,  1,     17,2,20130408,0600,-27.3210, -36.5600, 4610,    504.1,  10.8277,  34.9082,2,    204.1,2,    204.6,2,     6.23,2,    15.67,2,     0.82,2,   -999.0,9,   7.7739,2,    25.00
  29HE20130320,   A17,    40,  1,     18,2,20130408,0600,-27.3210, -36.5600, 4610,    402.7,  13.0225,  35.2497,2,    214.7,2,    217.5,2,     3.38,2,     9.61,2,     0.51,2,   -999.0,9,   7.8436,2,    25.00
  29HE20130320,   A17,    40,  1,     19,2,20130408,0600,-27.3210, -36.5600, 4610,    301.5,  14.5450,  35.4703,2,    213.3,2,    212.6,2,     2.41,2,     6.47,2,     0.24,2,   -999.0,9,   7.8831,2,    25.00
  29HE20130320,   A17,    40,  1,     20,2,20130408,0600,-27.3210, -36.5600, 4610,    201.9,  16.3709,  35.7504,2,    213.7,2,    213.3,2,     1.63,2,     3.22,2,     0.05,2,   -999.0,9,   7.9245,2,    25.00
  29HE20130320,   A17,    40,  1,     21,2,20130408,0600,-27.3210, -36.5600, 4610,    101.1,  19.4953,  36.0788,2,    228.7,2,    227.6,2,     0.91,2,     0.04,2,    -0.03,2,   -999.0,9,   7.9970,2,    25.00
  29HE20130320,   A17,    40,  1,     22,2,20130408,0600,-27.3210, -36.5600, 4610,     51.0,  24.9937,  36.7659,2,    207.2,2,    207.4,2,     0.83,2,     0.02,2,    -0.03,2,   -999.0,9,   8.0674,2,    25.00
  29HE20130320,   A17,    40,  1,     23,2,20130408,0600,-27.3210, -36.5600, 4610,      7.3,  24.4674,  36.5076,2,    208.3,2,    208.8,2,     0.84,2,     0.03,2,    -0.03,2,   -999.0,9,   8.0466,2,    25.00
  29HE20130320,   A17,    40,  1,     24,2,20130408,0600,-27.3210, -36.5600, 4610,      7.4,  24.4679,  36.5074,2,    216.8,2,   -999.0,9,  -999.00,9,  -999.00,9,  -999.00,9,   -999.0,9,-999.0000,9,  -999.00
  29HE20130320,   A17,    41,  1,      1,2,20130408,1510,-26.7150, -36.0360, 4533,   4593.0,   0.2919,  34.6737,2,    221.5,2,    220.7,2,   127.00,2,  -999.00,9,     2.46,2,   2365.9,2,   7.6093,2,    25.00
  29HE20130320,   A17,    41,  1,      2,2,20130408,1510,-26.7150, -36.0360, 4533,   4592.7,   0.2919,  34.6737,2,    221.7,2,   -999.0,9,  -999.00,9,  -999.00,9,  -999.00,9,   -999.0,9,-999.0000,9,  -999.00
  29HE20130320,   A17,    41,  1,      3,2,20130408,1510,-26.7150, -36.0360, 4533,   4064.0,   0.9535,  34.7322,2,    224.0,2,    223.7,2,   105.97,2,  -999.00,9,     2.16,2,   2357.2,2,   7.6290,2,    25.00
  29HE20130320,   A17,    41,  1,      4,2,20130408,1510,-26.7150, -36.0360, 4533,   3551.9,   2.2521,  34.8744,2,    249.9,2,    248.7,2,    47.75,2,  -999.00,9,     1.52,2,   2336.5,2,   7.7124,2,    25.00
  29HE20130320,   A17,    41,  1,      5,2,20130408,1510,-26.7150, -36.0360, 4533,   3042.4,   2.7215,  34.9156,2,    253.3,2,    251.4,2,    32.38,2,  -999.00,9,     1.31,2,   2326.7,2,   7.7259,2,    25.00
  29HE20130320,   A17,    41,  1,      6,2,20130408,1510,-26.7150, -36.0360, 4533,   3040.8,   2.7210,  34.9158,2,    252.9,2,   -999.0,9,  -999.00,9,  -999.00,9,  -999.00,9,   -999.0,9,-999.0000,9,  -999.00
  29HE20130320,   A17,    41,  1,      7,2,20130408,1510,-26.7150, -36.0360, 4533,   2532.1,   3.0071,  34.9279,2,    251.3,2,    250.4,2,    28.90,2,  -999.00,9,     1.43,2,   2325.0,2,   7.7287,2,    25.00
  29HE20130320,   A17,    41,  1,      8,2,20130408,1510,-26.7150, -36.0360, 4533,   2280.0,   3.1594,  34.9296,2,    249.2,2,    248.2,2,    27.47,2,  -999.00,9,     1.42,2,   2324.4,2,   7.7237,2,    25.00
  29HE20130320,   A17,    41,  1,      9,2,20130408,1510,-26.7150, -36.0360, 4533,   2023.1,   3.3045,  34.9148,2,    242.4,2,    240.8,2,    28.46,2,  -999.00,9,     1.48,2,   2322.3,2,   7.7127,2,    25.00
  29HE20130320,   A17,    41,  1,     10,2,20130408,1510,-26.7150, -36.0360, 4533,   1819.9,   3.3142,  34.8656,2,    228.2,2,    227.0,2,    33.37,2,  -999.00,9,     1.69,2,   2326.3,2,   7.6808,2,    25.00
  29HE20130320,   A17,    41,  1,     11,2,20130408,1510,-26.7150, -36.0360, 4533,   1616.7,   3.2457,  34.7641,2,    207.5,2,    206.9,2,    42.74,2,  -999.00,9,     1.98,2,   2323.4,2,   7.6491,2,    25.00
  29HE20130320,   A17,    41,  1,     12,2,20130408,1510,-26.7150, -36.0360, 4533,   1413.7,   3.1336,  34.6327,2,    192.1,2,    191.4,2,    50.15,2,  -999.00,9,     2.25,2,   2323.8,2,   7.6114,2,    25.00
  29HE20130320,   A17,    41,  1,     13,2,20130408,1510,-26.7150, -36.0360, 4533,   1210.3,   3.2596,  34.4868,2,    187.8,2,    187.7,2,    49.43,2,  -999.00,9,     2.36,2,   2314.8,2,   7.5909,2,    25.00
  29HE20130320,   A17,    41,  1,     14,2,20130408,1510,-26.7150, -36.0360, 4533,   1010.7,   3.9226,  34.3625,2,    199.9,2,    200.1,2,    34.78,2,  -999.00,9,     2.31,2,   2302.1,2,   7.6056,2,    25.00
  29HE20130320,   A17,    41,  1,     15,2,20130408,1510,-26.7150, -36.0360, 4533,   1009.8,   3.9213,  34.3623,2,    199.2,2,   -999.0,9,  -999.00,9,  -999.00,9,  -999.00,9,   -999.0,9,-999.0000,9,  -999.00
  29HE20130320,   A17,    41,  1,     16,2,20130408,1510,-26.7150, -36.0360, 4533,    806.8,   5.1081,  34.3337,2,    215.0,2,    214.4,2,    21.69,2,  -999.00,9,     1.98,2,   2289.3,2,   7.6398,2,    25.00
  29HE20130320,   A17,    41,  1,     17,2,20130408,1510,-26.7150, -36.0360, 4533,    605.1,   8.4853,  34.6249,2,    201.6,2,    202.0,2,    10.60,2,  -999.00,9,     1.45,2,   2291.8,2,   7.7051,2,    25.00
  29HE20130320,   A17,    41,  1,     18,2,20130408,1510,-26.7150, -36.0360, 4533,    503.4,  10.7146,  34.8906,2,    203.8,2,    204.2,2,     6.45,2,  -999.00,9,     1.05,2,   2302.3,2,   7.7635,2,    25.00
  29HE20130320,   A17,    41,  1,     19,2,20130408,1510,-26.7150, -36.0360, 4533,    403.2,  12.7540,  35.1785,2,    211.7,2,    211.7,2,     3.63,2,  -999.00,9,     0.76,2,   2318.2,2,   7.8272,2,    25.00
  29HE20130320,   A17,    41,  1,     20,2,20130408,1510,-26.7150, -36.0360, 4533,    302.3,  14.6833,  35.4275,2,    210.0,2,    210.1,2,     2.54,2,  -999.00,9,     0.45,2,   2326.4,2,   7.8724,2,    25.00
  29HE20130320,   A17,    41,  1,     21,2,20130408,1510,-26.7150, -36.0360, 4533,    202.0,  16.9580,  35.8016,2,    204.6,2,    205.2,2,     1.77,2,  -999.00,9,     0.23,2,   2349.8,2,   7.9170,2,    25.00
  29HE20130320,   A17,    41,  1,     22,2,20130408,1510,-26.7150, -36.0360, 4533,    109.7,  21.5040,  36.5641,2,    220.0,2,    220.2,2,     0.85,2,  -999.00,9,     0.15,2,   2396.8,2,   8.0232,2,    25.00
  29HE20130320,   A17,    41,  1,     23,2,20130408,1510,-26.7150, -36.0360, 4533,     51.3,  25.4525,  36.9329,2,    205.9,2,    205.9,2,     0.84,2,  -999.00,9,     0.16,2,   2416.0,2,   8.0663,2,    25.00
  29HE20130320,   A17,    41,  1,     24,2,20130408,1510,-26.7150, -36.0360, 4533,      4.7,  25.5355,  36.9481,2,    205.8,2,    205.9,2,     0.85,2,  -999.00,9,     0.13,2,   2417.0,2,   8.0691,2,    25.00
  29HE20130320,   A17,    42,  1,      1,2,20130408,2343,-26.1000, -35.5120, 4233,   4275.9,   0.5538,  34.6965,2,    221.4,2,    221.0,2,   118.74,2,    31.62,2,     2.18,2,   -999.0,9,   7.6120,2,    25.00
  29HE20130320,   A17,    42,  1,      2,2,20130408,2343,-26.1000, -35.5120, 4233,   4061.6,   0.8998,  34.7321,2,    225.9,2,    225.8,2,   105.58,2,    29.90,2,     2.01,2,   -999.0,9,   7.6371,2,    25.00
  29HE20130320,   A17,    42,  1,      3,2,20130408,2343,-26.1000, -35.5120, 4233,   3554.0,   2.2522,  34.8745,2,    250.1,2,    249.1,2,    48.15,2,    22.16,2,     1.42,2,   -999.0,9,   7.7155,2,    25.00
  29HE20130320,   A17,    42,  1,      4,2,20130408,2343,-26.1000, -35.5120, 4233,   3040.3,   2.7309,  34.9158,2,    253.3,2,    252.4,2,    32.28,2,    20.33,2,     1.29,2,   -999.0,9,   7.7290,2,    25.00
  29HE20130320,   A17,    42,  1,      5,2,20130408,2343,-26.1000, -35.5120, 4233,   2787.3,   2.8522,  34.9219,2,    252.2,2,    251.6,2,    31.08,2,    20.36,2,     1.28,2,   -999.0,9,   7.7304,2,    25.00
  29HE20130320,   A17,    42,  1,      6,2,20130408,2343,-26.1000, -35.5120, 4233,   2529.8,   2.9894,  34.9265,2,    251.4,2,    249.6,2,    29.34,2,    20.23,2,     1.28,2,   -999.0,9,   7.7301,2,    25.00
  29HE20130320,   A17,    42,  1,      7,2,20130408,2343,-26.1000, -35.5120, 4233,   2276.9,   3.1569,  34.9310,2,    250.0,2,    249.2,2,    27.53,2,    20.44,2,     1.28,2,   -999.0,9,   7.7268,2,    25.00
  29HE20130320,   A17,    42,  1,      8,2,20130408,2343,-26.1000, -35.5120, 4233,   2023.1,   3.2852,  34.9134,2,    242.5,2,    241.2,2,    29.43,2,    21.50,2,     1.37,2,   -999.0,9,   7.7123,2,    25.00
  29HE20130320,   A17,    42,  1,      9,2,20130408,2343,-26.1000, -35.5120, 4233,   1819.8,   3.1839,  34.8471,2,    225.8,2,    225.7,2,    37.08,2,    24.36,2,     1.59,2,   -999.0,9,   7.6845,2,    25.00
  29HE20130320,   A17,    42,  1,     10,2,20130408,2343,-26.1000, -35.5120, 4233,   1618.4,   3.1932,  34.7652,2,    208.1,2,    207.8,2,    43.61,2,    26.77,2,     1.81,2,   -999.0,9,   7.6515,2,    25.00
  29HE20130320,   A17,    42,  1,     11,2,20130408,2343,-26.1000, -35.5120, 4233,   1413.6,   3.1381,  34.6464,2,    192.8,2,    193.2,2,    49.75,2,    30.38,2,     2.04,2,   -999.0,9,   7.6147,2,    25.00
  29HE20130320,   A17,    42,  1,     12,2,20130408,2343,-26.1000, -35.5120, 4233,   1211.6,   3.2653,  34.4911,2,    187.8,2,    187.9,2,    49.19,2,    32.43,2,     2.23,2,   -999.0,9,   7.5918,2,    25.00
  29HE20130320,   A17,    42,  1,     13,2,20130408,2343,-26.1000, -35.5120, 4233,   1009.2,   3.7974,  34.3870,2,    194.5,2,    194.5,2,    38.44,2,    32.32,2,     2.17,2,   -999.0,9,   7.5984,2,    25.00
  29HE20130320,   A17,    42,  1,     14,2,20130408,2343,-26.1000, -35.5120, 4233,    907.2,   4.2659,  34.3308,2,    208.7,2,    208.9,2,    30.17,2,    30.55,2,     2.07,2,   -999.0,9,   7.6181,2,    25.00
  29HE20130320,   A17,    42,  1,     15,2,20130408,2343,-26.1000, -35.5120, 4233,    808.2,   5.0668,  34.3367,2,    213.1,2,    213.4,2,    22.70,2,    28.87,2,     1.91,2,   -999.0,9,   7.6364,2,    25.00
  29HE20130320,   A17,    42,  1,     16,2,20130408,2343,-26.1000, -35.5120, 4233,    706.2,   6.3391,  34.4154,2,    209.7,2,    203.3,2,    16.13,2,    25.62,2,     1.71,2,   -999.0,9,   7.6630,2,    25.00
  29HE20130320,   A17,    42,  1,     17,2,20130408,2343,-26.1000, -35.5120, 4233,    603.5,   8.4004,  34.6136,2,    203.1,2,    210.4,2,    10.69,2,    21.60,2,     1.38,2,   -999.0,9,   7.7054,2,    25.00
  29HE20130320,   A17,    42,  1,     18,2,20130408,2343,-26.1000, -35.5120, 4233,    505.0,  10.7522,  34.8988,2,    204.8,2,    205.3,2,     6.37,2,    15.43,2,     0.93,2,   -999.0,9,   7.7691,2,    25.00
  29HE20130320,   A17,    42,  1,     19,2,20130408,2343,-26.1000, -35.5120, 4233,    403.4,  12.8778,  35.1902,2,    210.0,2,    210.8,2,     3.77,2,    10.15,2,     0.64,2,   -999.0,9,   7.8299,2,    25.00
  29HE20130320,   A17,    42,  1,     20,2,20130408,2343,-26.1000, -35.5120, 4233,    302.3,  14.3952,  35.4029,2,    209.7,2,    210.4,2,     2.72,2,     7.06,2,     0.37,2,   -999.0,9,   7.8708,2,    25.00
  29HE20130320,   A17,    42,  1,     21,2,20130408,2343,-26.1000, -35.5120, 4233,    202.8,  16.6383,  35.7413,2,    209.5,2,    210.3,2,     1.89,2,     3.02,2,     0.05,2,   -999.0,9,   7.9202,2,    25.00
  29HE20130320,   A17,    42,  1,     22,2,20130408,2343,-26.1000, -35.5120, 4233,    100.1,  21.0837,  36.4688,2,    222.7,2,    223.2,2,     1.04,2,    -0.01,2,    -0.03,2,   -999.0,9,   8.0177,2,    25.00
  29HE20130320,   A17,    42,  1,     23,2,20130408,2343,-26.1000, -35.5120, 4233,     51.4,  23.5570,  36.5548,2,    231.6,2,    232.0,2,     0.99,2,    -0.01,2,    -0.03,2,   -999.0,9,   8.0519,2,    25.00
  29HE20130320,   A17,    42,  1,     24,2,20130408,2343,-26.1000, -35.5120, 4233,      6.2,  25.5381,  36.6109,2,    205.5,2,    206.7,2,     0.86,2,     0.02,2,    -0.01,2,   -999.0,9,   8.0682,2,    25.00