BOTTLE,20230216CCHSIOENA
EXPOCODE,SECT_ID,STNNBR,CASTNO,BTLNBR,BTLNBR_FLAG_W,DATE,TIME,LATITUDE,LONGITUDE,DEPTH,CTDPRS,CTDTMP,CTDSAL,CTDSAL_FLAG_W,CTDOXY,CTDOXY_FLAG_W,OXYGEN,OXYGEN_FLAG_W,SILCAT,SILCAT_FLAG_W,NITRAT,NITRAT_FLAG_W,PHSPHT,PHSPHT_FLAG_W,ALKALI,ALKALI_FLAG_W,PH_TOT,PH_TOT_FLAG_W,PH_TMP
,,,,,,,,,,METERS,DBAR,ITS-90,PSS-78,,UMOL/KG,,UMOL/KG,,UMOL/KG,,UMOL/KG,,UMOL/KG,,UMOL/KG,,,,DEG C
  29HE20130320,   A17,    83,  1,      1,2,20130503,2316, 11.6960, -28.5220, 5465,    205.7,  12.4203,  35.2563,2,     77.6,2,   -999.0,9,  -999.00,9,  -999.00,9,  -999.00,9,   -999.0,9,-999.0000,9,  -999.00
  29HE20130320,   A17,    83,  1,      2,2,20130503,2316, 11.6960, -28.5220, 5465,    206.0,  12.4250,  35.2566,2,     77.6,2,   -999.0,9,  -999.00,9,  -999.00,9,  -999.00,9,   -999.0,9,-999.0000,9,  -999.00
  29HE20130320,   A17,    83,  1,      3,2,20130503,2316, 11.6960, -28.5220, 5465,    205.1,  12.4400,  35.2566,2,     77.5,2,   -999.0,9,  -999.00,9,  -999.00,9,  -999.00,9,   -999.0,9,-999.0000,9,  -999.00
  29HE20130320,   A17,    83,  1,      4,2,20130503,2316, 11.6960, -28.5220, 5465,    204.4,  12.4459,  35.2560,2,     77.6,2,   -999.0,9,  -999.00,9,  -999.00,9,  -999.00,9,   -999.0,9,-999.0000,9,  -999.00
  29HE20130320,   A17,    83,  1,      5,2,20130503,2316, 11.6960, -28.5220, 5465,    204.8,  12.4424,  35.2560,2,     77.7,2,   -999.0,9,  -999.00,9,  -999.00,9,  -999.00,9,   -999.0,9,-999.0000,9,  -999.00
  29HE20130320,   A17,    83,  1,      6,2,20130503,2316, 11.6960, -28.5220, 5465,    206.0,  12.4292,  35.2561,2,     77.6,2,   -999.0,9,  -999.00,9,  -999.00,9,  -999.00,9,   -999.0,9,-999.0000,9,  -999.00
  29HE20130320,   A17,    83,  1,      7,2,20130503,2316, 11.6960, -28.5220, 5465,    204.1,  12.4355,  35.2567,2,     77.6,2,   -999.0,9,  -999.00,9,  -999.00,9,  -999.00,9,   -999.0,9,-999.0000,9,  -999.00
  29HE20130320,   A17,    83,  1,      8,2,20130503,2316, 11.6960, -28.5220, 5465,    204.2,  12.4353,  35.2567,2,     77.5,2,     78.3,2,    10.34,2,    26.67,2,     1.61,2,   -999.0,9,   7.6086,2,    25.00
  29HE20130320,   A17,    83,  1,      9,2,20130503,2316, 11.6960, -28.5220, 5465,    101.0,  14.1818,  35.4379,2,     53.0,2,   -999.0,9,  -999.00,9,  -999.00,9,  -999.00,9,   -999.0,9,-999.0000,9,  -999.00
  29HE20130320,   A17,    83,  1,     10,2,20130503,2316, 11.6960, -28.5220, 5465,    101.1,  14.1840,  35.4374,2,     52.8,2,   -999.0,9,  -999.00,9,  -999.00,9,  -999.00,9,   -999.0,9,-999.0000,9,  -999.00
  29HE20130320,   A17,    83,  1,     11,2,20130503,2316, 11.6960, -28.5220, 5465,    101.0,  14.1861,  35.4385,2,     52.8,2,   -999.0,9,  -999.00,9,  -999.00,9,  -999.00,9,   -999.0,9,-999.0000,9,  -999.00
  29HE20130320,   A17,    83,  1,     12,2,20130503,2316, 11.6960, -28.5220, 5465,    100.7,  14.1990,  35.4398,2,     52.9,2,     53.2,2,     8.75,2,    27.01,2,     1.47,2,   -999.0,9,   7.5914,2,    25.00
  29HE20130320,   A17,    83,  1,     13,2,20130503,2316, 11.6960, -28.5220, 5465,    100.4,  14.1979,  35.4397,2,     53.4,2,   -999.0,9,  -999.00,9,  -999.00,9,  -999.00,9,   -999.0,9,-999.0000,9,  -999.00
  29HE20130320,   A17,    83,  1,     14,2,20130503,2316, 11.6960, -28.5220, 5465,     51.2,  25.4731,  36.0290,2,    207.1,2,    207.1,2,     1.39,2,     0.06,2,     0.01,2,   -999.0,9,   8.0685,2,    25.00
  29HE20130320,   A17,    83,  1,     15,2,20130503,2316, 11.6960, -28.5220, 5465,     50.8,  25.4546,  36.0314,2,    207.0,2,   -999.0,9,  -999.00,9,  -999.00,9,  -999.00,9,   -999.0,9,-999.0000,9,  -999.00
  29HE20130320,   A17,    83,  1,     16,2,20130503,2316, 11.6960, -28.5220, 5465,     50.8,  25.4569,  36.0307,2,    206.8,2,   -999.0,9,  -999.00,9,  -999.00,9,  -999.00,9,   -999.0,9,-999.0000,9,  -999.00
  29HE20130320,   A17,    83,  1,     17,2,20130503,2316, 11.6960, -28.5220, 5465,     51.1,  25.4675,  36.0262,2,    206.8,2,   -999.0,9,  -999.00,9,  -999.00,9,  -999.00,9,   -999.0,9,-999.0000,9,  -999.00
  29HE20130320,   A17,    83,  1,     18,2,20130503,2316, 11.6960, -28.5220, 5465,     51.5,  25.4743,  36.0229,2,    206.7,2,   -999.0,9,  -999.00,9,  -999.00,9,  -999.00,9,   -999.0,9,-999.0000,9,  -999.00
  29HE20130320,   A17,    83,  1,     19,2,20130503,2316, 11.6960, -28.5220, 5465,      6.0,  25.4404,  35.9626,2,    206.8,2,   -999.0,9,  -999.00,9,  -999.00,9,  -999.00,9,   -999.0,9,-999.0000,9,  -999.00
  29HE20130320,   A17,    83,  1,     20,2,20130503,2316, 11.6960, -28.5220, 5465,      6.3,  25.4344,  35.9629,2,    207.4,2,    206.9,2,     1.25,2,    -0.03,2,     0.03,2,   -999.0,9,   8.0757,2,    25.00
  29HE20130320,   A17,    83,  1,     21,2,20130503,2316, 11.6960, -28.5220, 5465,      6.1,  25.4326,  35.9619,2,    214.6,2,   -999.0,9,  -999.00,9,  -999.00,9,  -999.00,9,   -999.0,9,-999.0000,9,  -999.00
  29HE20130320,   A17,    83,  1,     22,2,20130503,2316, 11.6960, -28.5220, 5465,      6.1,  25.4327,  35.9612,2,    214.1,2,   -999.0,9,  -999.00,9,  -999.00,9,  -999.00,9,   -999.0,9,-999.0000,9,  -999.00
  29HE20130320,   A17,    83,  1,     23,2,20130503,2316, 11.6960, -28.5220, 5465,      6.1,  25.4332,  35.9613,2,    214.4,2,   -999.0,9,  -999.00,9,  -999.00,9,  -999.00,9,   -999.0,9,-999.0000,9,  -999.00
  29HE20130320,   A17,    83,  1,     24,2,20130503,2316, 11.6960, -28.5220, 5465,      6.0,  25.4347,  35.9618,2,    214.5,2,   -999.0,9,  -999.00,9,  -999.00,9,  -999.00,9,   -999.0,9,-999.0000,9,  -999.00
  29HE20130320,   A17,    83,  2,      1,2,20130503,0030, 11.6960, -28.5220, 5465,   5561.5,   2.3011,  34.8673,2,    243.4,2,    245.4,2,    51.92,2,    22.78,2,     1.50,2,   -999.0,9,   7.7246,2,    25.00
  29HE20130320,   A17,    83,  2,      2,2,20130503,0030, 11.6960, -28.5220, 5465,   5089.3,   2.2780,  34.8714,2,    243.3,2,    244.1,2,    51.00,2,    22.82,2,     1.48,2,   -999.0,9,   7.7262,2,    25.00
  29HE20130320,   A17,    83,  2,      3,2,20130503,0030, 11.6960, -28.5220, 5465,   4061.4,   2.3819,  34.8920,2,    242.8,2,   -999.0,9,  -999.00,9,  -999.00,9,  -999.00,9,   -999.0,9,-999.0000,9,  -999.00
  29HE20130320,   A17,    83,  2,      4,2,20130503,0030, 11.6960, -28.5220, 5465,   3551.0,   2.5062,  34.9060,2,    243.3,2,    245.0,2,    39.46,2,    21.92,2,     1.43,2,   -999.0,9,   7.7344,2,    25.00
  29HE20130320,   A17,    83,  2,      5,2,20130503,0030, 11.6960, -28.5220, 5465,   3039.1,   2.7194,  34.9239,2,    244.7,2,   -999.0,9,  -999.00,9,  -999.00,9,  -999.00,9,   -999.0,9,-999.0000,9,  -999.00
  29HE20130320,   A17,    83,  2,      6,2,20130503,0030, 11.6960, -28.5220, 5465,   3039.1,   2.7190,  34.9239,2,    245.0,2,   -999.0,9,  -999.00,9,  -999.00,9,  -999.00,9,   -999.0,9,-999.0000,9,  -999.00
  29HE20130320,   A17,    83,  2,      7,2,20130503,0030, 11.6960, -28.5220, 5465,   3037.6,   2.7189,  34.9240,2,    245.0,2,    246.4,2,    33.29,2,    21.10,2,     1.39,2,   -999.0,9,   7.7385,2,    25.00
  29HE20130320,   A17,    83,  2,      8,2,20130503,0030, 11.6960, -28.5220, 5465,   2529.6,   3.0756,  34.9462,2,    240.2,2,    241.8,2,    29.57,2,    21.30,2,     1.40,2,   -999.0,9,   7.7349,2,    25.00
  29HE20130320,   A17,    83,  2,      9,2,20130503,0030, 11.6960, -28.5220, 5465,   2021.6,   3.5510,  34.9653,2,    240.5,2,    241.5,2,    21.91,2,    20.79,2,     1.36,2,   -999.0,9,   7.7345,2,    25.00
  29HE20130320,   A17,    83,  2,     10,2,20130503,0030, 11.6960, -28.5220, 5465,   1818.1,   3.8294,  34.9716,2,    234.9,2,    235.3,2,    20.32,2,    21.27,2,     1.39,2,   -999.0,9,   7.7261,2,    25.00
  29HE20130320,   A17,    83,  2,     11,2,20130503,0030, 11.6960, -28.5220, 5465,   1616.9,   4.2098,  34.9730,2,    221.4,2,    221.8,2,    20.06,2,    22.15,2,     1.48,2,   -999.0,9,   7.7113,2,    25.00
  29HE20130320,   A17,    83,  2,     12,2,20130503,0030, 11.6960, -28.5220, 5465,   1414.1,   4.6241,  34.9584,2,    201.6,2,    201.5,2,    21.09,2,    24.48,2,     1.60,2,   -999.0,9,   7.6833,2,    25.00
  29HE20130320,   A17,    83,  2,     13,2,20130503,0030, 11.6960, -28.5220, 5465,   1211.4,   5.0246,  34.8818,2,    163.9,2,    164.2,2,    24.52,2,    28.26,2,     1.92,2,   -999.0,9,   7.6279,2,    25.00
  29HE20130320,   A17,    83,  2,     14,2,20130503,0030, 11.6960, -28.5220, 5465,   1009.0,   5.2911,  34.7623,2,    133.6,2,    132.5,2,    27.53,2,    32.46,2,     2.19,2,   -999.0,9,   7.5692,2,    25.00
  29HE20130320,   A17,    83,  2,     15,2,20130503,0030, 11.6960, -28.5220, 5465,    806.7,   6.0944,  34.7259,2,     99.2,2,     98.6,2,    26.29,2,    36.26,2,     2.35,2,   -999.0,9,   7.5150,2,    25.00
  29HE20130320,   A17,    83,  2,     16,2,20130503,0030, 11.6960, -28.5220, 5465,    706.8,   7.0288,  34.8097,2,     79.7,2,     79.1,2,    23.32,2,    36.31,2,     2.34,2,   -999.0,9,   7.4988,2,    25.00
  29HE20130320,   A17,    83,  2,     17,2,20130503,0030, 11.6960, -28.5220, 5465,    603.7,   8.0417,  34.9093,2,     57.7,2,     57.1,2,    20.62,2,    36.82,2,     2.33,2,   -999.0,9,   7.4784,2,    25.00
  29HE20130320,   A17,    83,  2,     18,2,20130503,0030, 11.6960, -28.5220, 5465,    502.6,   9.2658,  35.0380,2,     48.3,2,     47.1,2,    17.64,2,    35.74,2,     2.21,2,   -999.0,9,   7.4874,2,    25.00
  29HE20130320,   A17,    83,  2,     19,2,20130503,0030, 11.6960, -28.5220, 5465,    503.0,   9.2699,  35.0386,2,     48.3,2,     47.5,2,    17.64,2,    35.88,2,     2.19,2,   -999.0,9,   7.4886,2,    25.00
  29HE20130320,   A17,    83,  2,     20,2,20130503,0030, 11.6960, -28.5220, 5465,    427.1,  10.1544,  35.1328,2,     41.8,2,   -999.0,9,  -999.00,9,  -999.00,9,  -999.00,9,   -999.0,9,-999.0000,9,  -999.00
  29HE20130320,   A17,    83,  2,     21,2,20130503,0030, 11.6960, -28.5220, 5465,    427.2,  10.1650,  35.1338,2,     41.6,2,   -999.0,9,    15.54,2,    34.06,2,     2.07,2,   -999.0,9,-999.0000,9,  -999.00
  29HE20130320,   A17,    83,  2,     22,2,20130503,0030, 11.6960, -28.5220, 5465,    427.4,  10.1719,  35.1349,2,     41.7,2,     41.0,2,  -999.00,9,  -999.00,9,  -999.00,9,   -999.0,9,-999.0000,9,  -999.00
  29HE20130320,   A17,    83,  2,     23,2,20130503,0030, 11.6960, -28.5220, 5465,    301.5,  11.3272,  35.1996,2,     61.6,2,     61.6,2,    12.35,2,    29.74,2,     1.81,2,   -999.0,9,   7.5562,2,    25.00
  29HE20130320,   A17,    83,  2,     24,2,20130503,0030, 11.6960, -28.5220, 5465,     69.3,  17.2700,  35.6236,2,    113.6,2,   -999.0,9,     6.00,2,    19.99,2,     1.22,2,   -999.0,9,-999.0000,9,  -999.00
  29HE20130320,   A17,    84,  1,      1,2,20130504,1516, 13.2970, -28.5060, 5455,   5555.3,   2.3137,  34.8690,2,    243.2,2,    244.6,2,    50.79,2,    23.07,2,     1.51,2,   2350.6,2,   7.7244,2,    25.00
  29HE20130320,   A17,    84,  1,      2,2,20130504,1516, 13.2970, -28.5060, 5455,   5088.1,   2.2953,  34.8737,2,    242.8,2,    244.5,2,    50.15,2,    22.73,2,     1.50,2,   2348.5,2,   7.7256,2,    25.00
  29HE20130320,   A17,    84,  1,      3,2,20130504,1516, 13.2970, -28.5060, 5455,   4575.2,   2.2993,  34.8784,2,    233.2,2,    234.4,2,    51.63,2,    23.57,2,     1.53,2,   2359.0,2,   7.7210,2,    25.00
  29HE20130320,   A17,    84,  1,      4,2,20130504,1516, 13.2970, -28.5060, 5455,   4061.5,   2.3636,  34.8916,2,    234.7,2,    236.0,2,    48.03,2,    23.00,2,     1.50,2,   2355.7,2,   7.7273,2,    25.00
  29HE20130320,   A17,    84,  1,      5,2,20130504,1516, 13.2970, -28.5060, 5455,   3550.0,   2.5215,  34.9102,2,    241.4,2,    243.3,2,    40.57,2,    22.11,2,     1.44,2,   2342.1,2,   7.7317,2,    25.00
  29HE20130320,   A17,    84,  1,      6,2,20130504,1516, 13.2970, -28.5060, 5455,   3036.9,   2.7332,  34.9274,2,    241.8,2,    247.8,2,    34.91,2,    21.64,2,     1.40,2,   2334.8,2,   7.7343,2,    25.00
  29HE20130320,   A17,    84,  1,      7,2,20130504,1516, 13.2970, -28.5060, 5455,   2530.8,   3.0702,  34.9481,2,    235.8,2,    237.1,2,    31.29,2,    21.81,2,     1.43,2,   2329.2,2,   7.7279,2,    25.00
  29HE20130320,   A17,    84,  1,      8,2,20130504,1516, 13.2970, -28.5060, 5455,   2277.3,   3.2697,  34.9582,2,    234.8,2,    236.6,2,    28.13,2,    21.63,2,     1.44,2,   2326.0,2,   7.7257,2,    25.00
  29HE20130320,   A17,    84,  1,      9,2,20130504,1516, 13.2970, -28.5060, 5455,   2021.0,   3.5634,  34.9702,2,    237.1,2,    238.4,2,    23.62,2,    21.15,2,     1.38,2,   2321.2,2,   7.7296,2,    25.00
  29HE20130320,   A17,    84,  1,     10,2,20130504,1516, 13.2970, -28.5060, 5455,   1819.7,   3.8431,  34.9787,2,    232.5,2,    233.4,2,    21.66,2,    21.47,2,     1.39,2,   2317.7,2,   7.7234,2,    25.00
  29HE20130320,   A17,    84,  1,     11,2,20130504,1516, 13.2970, -28.5060, 5455,   1617.5,   4.2515,  34.9899,2,    216.0,2,    216.8,2,    21.74,2,    22.72,2,     1.52,2,   2316.1,2,   7.7043,2,    25.00
  29HE20130320,   A17,    84,  1,     12,2,20130504,1516, 13.2970, -28.5060, 5455,   1414.3,   4.7758,  34.9818,2,    192.1,2,    192.6,2,    22.20,2,    25.09,2,     1.65,2,   2319.1,2,   7.6721,2,    25.00
  29HE20130320,   A17,    84,  1,     13,2,20130504,1516, 13.2970, -28.5060, 5455,   1211.5,   5.3552,  34.9419,2,    157.7,2,    157.6,2,    24.07,2,    28.58,2,     1.88,2,   2315.1,2,   7.6257,2,    25.00
  29HE20130320,   A17,    84,  1,     14,2,20130504,1516, 13.2970, -28.5060, 5455,   1007.9,   5.8446,  34.8460,2,    123.0,2,    122.1,2,    26.03,2,    32.58,2,     2.14,2,   2310.1,2,   7.5648,2,    25.00
  29HE20130320,   A17,    84,  1,     15,2,20130504,1516, 13.2970, -28.5060, 5455,    807.8,   6.9312,  34.8568,2,     88.8,2,     88.2,2,    23.76,2,    35.79,2,     2.23,2,   2306.3,2,   7.5189,2,    25.00
  29HE20130320,   A17,    84,  1,     16,2,20130504,1516, 13.2970, -28.5060, 5455,    703.9,   7.9226,  34.9444,2,     72.4,2,     71.5,2,    21.08,2,    35.86,2,     2.21,2,   2309.9,2,   7.5069,2,    25.00
  29HE20130320,   A17,    84,  1,     17,2,20130504,1516, 13.2970, -28.5060, 5455,    603.0,   9.0558,  35.0667,2,     63.3,2,     62.7,2,    17.89,2,    33.88,2,     2.10,2,   2309.8,2,   7.5191,2,    25.00
  29HE20130320,   A17,    84,  1,     18,2,20130504,1516, 13.2970, -28.5060, 5455,    505.0,  10.0081,  35.1551,2,     53.1,2,     53.0,2,    15.46,2,    33.34,2,     2.01,2,   2312.5,2,   7.5182,2,    25.00
  29HE20130320,   A17,    84,  1,     19,2,20130504,1516, 13.2970, -28.5060, 5455,    406.4,  10.8748,  35.2351,2,     54.2,2,     53.6,2,    13.49,2,    31.83,2,     1.87,2,   2315.3,2,   7.5394,2,    25.00
  29HE20130320,   A17,    84,  1,     20,2,20130504,1516, 13.2970, -28.5060, 5455,    301.8,  11.6072,  35.2640,2,     64.6,2,     63.9,2,    11.72,2,    29.16,2,     1.71,2,   2315.7,2,   7.5710,2,    25.00
  29HE20130320,   A17,    84,  1,     21,2,20130504,1516, 13.2970, -28.5060, 5455,    200.8,  12.8096,  35.3905,2,     79.5,2,     78.8,2,     9.74,2,    26.20,2,     1.49,2,   2322.9,2,   7.6230,2,    25.00
  29HE20130320,   A17,    84,  1,     22,2,20130504,1516, 13.2970, -28.5060, 5455,     99.8,  14.8431,  35.5814,2,     61.7,2,     62.8,2,     7.56,2,    25.02,2,     1.38,2,   2329.7,2,   7.6245,2,    25.00
  29HE20130320,   A17,    84,  1,     23,2,20130504,1516, 13.2970, -28.5060, 5455,     81.1,  19.1903,  35.7560,2,    146.0,2,    146.0,2,     4.43,2,    12.88,2,     0.57,2,   2347.0,2,   7.8163,2,    25.00
  29HE20130320,   A17,    84,  1,     24,2,20130504,1516, 13.2970, -28.5060, 5455,      5.6,  25.1998,  35.8263,2,    207.7,2,    208.0,2,     1.15,2,    -0.03,2,     0.00,2,   2345.1,2,   8.0669,2,    25.00