BOTTLE,20230216CCHSIOENA
EXPOCODE,SECT_ID,STNNBR,CASTNO,BTLNBR,BTLNBR_FLAG_W,DATE,TIME,LATITUDE,LONGITUDE,DEPTH,CTDPRS,CTDTMP,CTDSAL,CTDSAL_FLAG_W,CTDOXY,CTDOXY_FLAG_W,OXYGEN,OXYGEN_FLAG_W,SILCAT,SILCAT_FLAG_W,NITRAT,NITRAT_FLAG_W,PHSPHT,PHSPHT_FLAG_W,ALKALI,ALKALI_FLAG_W,PH_TOT,PH_TOT_FLAG_W,PH_TMP
,,,,,,,,,,METERS,DBAR,ITS-90,PSS-78,,UMOL/KG,,UMOL/KG,,UMOL/KG,,UMOL/KG,,UMOL/KG,,UMOL/KG,,,,DEG C
  29HE20130320,   A17,    72,  1,      1,2,20130428,1520, -1.0050, -29.7820, 4333,   4358.4,   1.3267,  34.7794,2,    232.8,2,    232.1,2,    87.70,2,    27.32,2,     1.82,2,   2356.7,2,   7.6695,2,    25.00
  29HE20130320,   A17,    72,  1,      2,2,20130428,1520, -1.0050, -29.7820, 4333,   4060.5,   2.0872,  34.8646,2,    251.3,2,    252.8,2,    48.18,2,    22.04,2,     1.44,2,   2336.7,2,   7.7194,2,    25.00
  29HE20130320,   A17,    72,  1,      3,2,20130428,1520, -1.0050, -29.7820, 4333,   3547.6,   2.4394,  34.9014,2,    255.9,2,    256.9,2,    34.33,2,    20.55,2,     1.32,2,   2331.0,2,   7.7339,2,    25.00
  29HE20130320,   A17,    72,  1,      4,2,20130428,1520, -1.0050, -29.7820, 4333,   3040.1,   2.6166,  34.9093,2,    246.9,2,    247.9,2,    36.55,2,    21.60,2,     1.38,2,   2332.2,2,   7.7288,2,    25.00
  29HE20130320,   A17,    72,  1,      5,2,20130428,1520, -1.0050, -29.7820, 4333,   2782.2,   2.8219,  34.9247,2,    248.9,2,    249.3,2,    32.18,2,    20.77,2,     1.34,2,   2328.6,2,   7.7329,2,    25.00
  29HE20130320,   A17,    72,  1,      6,2,20130428,1520, -1.0050, -29.7820, 4333,   2532.2,   2.9719,  34.9348,2,    249.7,2,    251.1,2,    29.26,2,    20.51,2,     1.33,2,   2326.2,2,   7.7351,2,    25.00
  29HE20130320,   A17,    72,  1,      7,2,20130428,1520, -1.0050, -29.7820, 4333,   2275.5,   3.2269,  34.9485,2,    249.7,2,    250.7,2,    25.30,2,    20.51,2,     1.31,2,   2323.6,2,   7.7350,2,    25.00
  29HE20130320,   A17,    72,  1,      8,2,20130428,1520, -1.0050, -29.7820, 4333,   2021.5,   3.5294,  34.9632,2,    250.1,2,    251.0,2,    20.59,2,    19.96,2,     1.28,2,   2314.9,2,   7.7345,2,    25.00
  29HE20130320,   A17,    72,  1,      9,2,20130428,1520, -1.0050, -29.7820, 4333,   1817.6,   3.8688,  34.9742,2,    247.9,2,    248.3,2,    17.67,2,    19.68,2,     1.27,2,   2314.0,2,   7.7309,2,    25.00
  29HE20130320,   A17,    72,  1,     10,2,20130428,1520, -1.0050, -29.7820, 4333,   1613.0,   4.1519,  34.9715,2,    235.4,2,    236.0,2,    18.02,2,    21.28,2,     1.36,2,   2313.5,2,   7.7174,2,    25.00
  29HE20130320,   A17,    72,  1,     11,2,20130428,1520, -1.0050, -29.7820, 4333,   1411.6,   4.3513,  34.9547,2,    222.0,2,    222.1,2,    19.44,2,    22.63,2,     1.47,2,   2315.7,2,   7.7010,2,    25.00
  29HE20130320,   A17,    72,  1,     12,2,20130428,1520, -1.0050, -29.7820, 4333,   1210.7,   4.6118,  34.8413,2,    185.9,2,    185.3,2,    24.71,2,    27.37,2,     1.81,2,   2312.7,2,   7.6432,2,    25.00
  29HE20130320,   A17,    72,  1,     13,2,20130428,1520, -1.0050, -29.7820, 4333,   1007.8,   4.4092,  34.6235,2,    162.4,2,    162.2,2,    32.07,2,    32.23,2,     2.16,2,   2303.4,2,   7.5860,2,    25.00
  29HE20130320,   A17,    72,  1,     14,2,20130428,1520, -1.0050, -29.7820, 4333,    806.8,   4.8754,  34.5192,2,    149.7,2,    149.0,2,    30.46,2,    33.68,2,     2.29,2,   2296.9,2,   7.5609,2,    25.00
  29HE20130320,   A17,    72,  1,     15,2,20130428,1520, -1.0050, -29.7820, 4333,    705.8,   5.2702,  34.5023,2,    146.3,2,   -999.0,9,    27.96,2,    33.75,2,     2.25,2,   2293.9,2,   7.5602,2,    25.00
  29HE20130320,   A17,    72,  1,     16,2,20130428,1520, -1.0050, -29.7820, 4333,    705.3,   5.2703,  34.5023,2,    146.3,2,    145.9,2,    27.67,2,    33.66,2,     2.25,2,   2295.6,2,   7.5602,2,    25.00
  29HE20130320,   A17,    72,  1,     17,2,20130428,1520, -1.0050, -29.7820, 4333,    604.5,   5.7419,  34.5085,2,    146.3,2,    146.2,2,    24.96,2,    33.02,2,     2.19,2,   2292.6,2,   7.5660,2,    25.00
  29HE20130320,   A17,    72,  1,     18,2,20130428,1520, -1.0050, -29.7820, 4333,    504.5,   7.5459,  34.6354,2,    133.3,2,    134.7,2,    18.70,2,    30.99,2,     1.97,2,   2294.6,2,   7.5823,2,    25.00
  29HE20130320,   A17,    72,  1,     19,2,20130428,1520, -1.0050, -29.7820, 4333,    404.0,   8.9828,  34.8035,2,    102.8,2,    101.9,2,    15.83,2,    31.01,2,     1.92,2,   2299.1,2,   7.5637,2,    25.00
  29HE20130320,   A17,    72,  1,     20,2,20130428,1520, -1.0050, -29.7820, 4333,    304.3,  11.0024,  35.0348,2,     83.4,2,     83.2,2,    12.43,2,    29.25,2,     1.77,2,   2306.4,2,   7.5768,2,    25.00
  29HE20130320,   A17,    72,  1,     21,2,20130428,1520, -1.0050, -29.7820, 4333,    202.0,  12.4513,  35.1928,2,    155.4,2,    155.2,2,     7.95,2,    18.43,2,     1.17,2,   2313.9,2,   7.7456,2,    25.00
  29HE20130320,   A17,    72,  1,     22,2,20130428,1520, -1.0050, -29.7820, 4333,    102.2,  15.3998,  35.6132,2,    145.0,2,    144.3,2,     5.69,2,    15.33,2,     0.97,2,   2335.5,2,   7.7909,2,    25.00
  29HE20130320,   A17,    72,  1,     23,2,20130428,1520, -1.0050, -29.7820, 4333,     74.9,  21.2185,  36.3748,2,    184.1,2,    177.0,2,     2.72,2,     5.34,2,     0.31,2,   2385.4,2,   7.9374,2,    25.00
  29HE20130320,   A17,    72,  1,     24,2,20130428,1520, -1.0050, -29.7820, 4333,      5.9,  28.5255,  36.1138,2,    199.4,2,    199.6,2,     1.02,2,     0.00,2,     0.01,2,   2368.8,2,   8.0769,2,    25.00
  29HE20130320,   A17,    73,  1,      1,2,20130429,0203,  0.0000, -29.6790, 4073,   3980.7,   2.2828,  34.8864,2,    256.7,2,    258.0,2,    37.86,2,    20.44,2,     1.35,2,   -999.0,9,   7.7349,2,    25.00
  29HE20130320,   A17,    73,  1,      2,2,20130429,0203,  0.0000, -29.6790, 4073,   3980.7,   2.2825,  34.8863,2,    256.5,2,   -999.0,9,    37.18,2,    20.54,2,     1.36,2,   -999.0,9,-999.0000,9,  -999.00
  29HE20130320,   A17,    73,  1,      3,2,20130429,0203,  0.0000, -29.6790, 4073,   3549.9,   2.4569,  34.9020,2,    255.5,2,    256.3,2,    34.16,2,    20.33,2,     1.35,2,   -999.0,9,   7.7358,2,    25.00
  29HE20130320,   A17,    73,  1,      4,2,20130429,0203,  0.0000, -29.6790, 4073,   3038.6,   2.6228,  34.9109,2,    248.5,2,    249.1,2,    35.04,2,    21.16,2,     1.38,2,   -999.0,9,   7.7335,2,    25.00
  29HE20130320,   A17,    73,  1,      5,2,20130429,0203,  0.0000, -29.6790, 4073,   2972.5,   2.6549,  34.9124,2,    247.1,2,   -999.0,9,  -999.00,9,  -999.00,9,  -999.00,9,   -999.0,9,-999.0000,9,  -999.00
  29HE20130320,   A17,    73,  1,      6,2,20130429,0203,  0.0000, -29.6790, 4073,   2531.1,   3.0110,  34.9359,2,    249.3,2,    250.3,2,    28.77,2,    20.28,2,     1.34,2,   -999.0,9,   7.7342,2,    25.00
  29HE20130320,   A17,    73,  1,      7,2,20130429,0203,  0.0000, -29.6790, 4073,   2020.7,   3.5279,  34.9631,2,    250.9,2,    251.0,2,    20.83,2,    19.63,2,     1.28,2,   -999.0,9,   7.7367,2,    25.00
  29HE20130320,   A17,    73,  1,      8,2,20130429,0203,  0.0000, -29.6790, 4073,   1817.9,   3.8990,  34.9732,2,    244.9,2,    249.5,2,    18.30,2,    20.15,2,     1.31,2,   -999.0,9,   7.7297,2,    25.00
  29HE20130320,   A17,    73,  1,      9,2,20130429,0203,  0.0000, -29.6790, 4073,   1616.2,   4.1497,  34.9734,2,    236.6,2,    237.2,2,    17.96,2,    20.64,2,     1.35,2,   -999.0,9,   7.7211,2,    25.00
  29HE20130320,   A17,    73,  1,     10,2,20130429,0203,  0.0000, -29.6790, 4073,   1413.7,   4.3849,  34.9522,2,    220.5,2,    220.8,2,    19.58,2,    22.55,2,     1.50,2,   -999.0,9,   7.6995,2,    25.00
  29HE20130320,   A17,    73,  1,     11,2,20130429,0203,  0.0000, -29.6790, 4073,   1209.2,   4.5616,  34.8049,2,    179.8,2,    179.8,2,    26.19,2,    28.09,2,     1.89,2,   -999.0,9,   7.6338,2,    25.00
  29HE20130320,   A17,    73,  1,     12,2,20130429,0203,  0.0000, -29.6790, 4073,   1006.0,   4.6234,  34.6819,2,    160.8,2,    160.8,2,    29.76,2,    31.16,2,     2.15,2,   -999.0,9,   7.5923,2,    25.00
  29HE20130320,   A17,    73,  1,     13,2,20130429,0203,  0.0000, -29.6790, 4073,   1007.0,   4.6254,  34.6817,2,    160.1,2,   -999.0,9,  -999.00,9,  -999.00,9,  -999.00,9,   -999.0,9,-999.0000,9,  -999.00
  29HE20130320,   A17,    73,  1,     14,2,20130429,0203,  0.0000, -29.6790, 4073,    805.1,   4.8810,  34.5161,2,    149.3,2,    149.2,2,    30.63,2,    33.51,2,     2.27,2,   -999.0,9,   7.5630,2,    25.00
  29HE20130320,   A17,    73,  1,     15,2,20130429,0203,  0.0000, -29.6790, 4073,    704.9,   5.4537,  34.5101,2,    144.2,2,    143.9,2,    27.42,2,    33.29,2,     2.24,2,   -999.0,9,   7.5604,2,    25.00
  29HE20130320,   A17,    73,  1,     16,2,20130429,0203,  0.0000, -29.6790, 4073,    603.2,   6.0777,  34.5398,2,    140.0,2,    139.5,2,    24.37,2,    32.54,2,     2.16,2,   -999.0,9,   7.5648,2,    25.00
  29HE20130320,   A17,    73,  1,     17,2,20130429,0203,  0.0000, -29.6790, 4073,    502.2,   7.2954,  34.6308,2,    133.4,2,    134.0,2,    19.72,2,    30.91,2,     2.01,2,   -999.0,9,   7.5787,2,    25.00
  29HE20130320,   A17,    73,  1,     18,2,20130429,0203,  0.0000, -29.6790, 4073,    400.0,   8.6490,  34.7663,2,    109.9,2,    110.1,2,    16.64,2,    30.41,2,     1.90,2,   -999.0,9,   7.5703,2,    25.00
  29HE20130320,   A17,    73,  1,     19,2,20130429,0203,  0.0000, -29.6790, 4073,    305.0,  10.4389,  34.9742,2,     86.4,2,     86.2,2,    13.64,2,    29.47,2,     1.76,2,   -999.0,9,   7.5728,2,    25.00
  29HE20130320,   A17,    73,  1,     20,2,20130429,0203,  0.0000, -29.6790, 4073,    202.8,  12.7570,  35.2379,2,    159.8,2,    160.1,2,     7.68,2,    17.40,2,     1.06,2,   -999.0,9,   7.7599,2,    25.00
  29HE20130320,   A17,    73,  1,     21,2,20130429,0203,  0.0000, -29.6790, 4073,     99.7,  17.8551,  35.9777,2,    175.5,2,    176.1,2,     3.68,2,     8.31,2,     0.40,2,   -999.0,9,   7.8907,2,    25.00
  29HE20130320,   A17,    73,  1,     22,2,20130429,0203,  0.0000, -29.6790, 4073,     73.3,  22.5890,  36.5353,2,    192.1,2,    192.2,2,     1.82,2,     2.19,2,     0.03,2,   -999.0,9,   7.9975,2,    25.00
  29HE20130320,   A17,    73,  1,     23,2,20130429,0203,  0.0000, -29.6790, 4073,     55.0,  24.6703,  36.3635,2,    183.5,2,    185.7,2,     1.64,2,     0.15,2,     0.00,2,   -999.0,9,   8.0170,2,    25.00
  29HE20130320,   A17,    73,  1,     24,2,20130429,0203,  0.0000, -29.6790, 4073,      6.0,  28.5786,  36.0362,2,    198.7,2,    199.8,2,     1.06,2,    -0.01,2,    -0.01,2,   -999.0,9,   8.0788,2,    25.00
  29HE20130320,   A17,    74,  1,      1,2,20130429,1405,  1.2940, -29.5580, 3278,   3299.1,   2.5598,  34.9052,2,    248.5,2,    249.1,2,    37.56,2,    21.33,2,     1.38,2,   2335.7,2,   7.7306,2,    25.00
  29HE20130320,   A17,    74,  1,      2,2,20130429,1405,  1.2940, -29.5580, 3278,   3299.3,   2.5599,  34.9052,2,    248.4,2,    249.7,2,    37.41,2,    21.47,2,     1.38,2,   -999.0,9,   7.7315,2,    25.00
  29HE20130320,   A17,    74,  1,      3,2,20130429,1405,  1.2940, -29.5580, 3278,   3038.6,   2.6673,  34.9121,2,    246.7,2,    246.7,2,    36.35,2,    21.71,2,     1.38,2,   2335.2,2,   7.7293,2,    25.00
  29HE20130320,   A17,    74,  1,      4,2,20130429,1405,  1.2940, -29.5580, 3278,   2786.1,   2.7809,  34.9203,2,    247.2,2,    248.0,2,    33.56,2,    21.30,2,     1.35,2,   2326.3,2,   7.7325,2,    25.00
  29HE20130320,   A17,    74,  1,      5,2,20130429,1405,  1.2940, -29.5580, 3278,   2530.0,   2.9642,  34.9316,2,    247.9,2,    248.5,2,    31.08,2,    21.18,2,     1.33,2,   2324.3,2,   7.7335,2,    25.00
  29HE20130320,   A17,    74,  1,      6,2,20130429,1405,  1.2940, -29.5580, 3278,   2274.6,   3.1227,  34.9422,2,    249.3,2,    249.6,2,    27.67,2,    20.44,2,     1.31,2,   2322.5,2,   7.7365,2,    25.00
  29HE20130320,   A17,    74,  1,      7,2,20130429,1405,  1.2940, -29.5580, 3278,   2022.1,   3.5184,  34.9622,2,    250.8,2,    251.5,2,    21.48,2,    19.91,2,     1.25,2,   2315.4,2,   7.7360,2,    25.00
  29HE20130320,   A17,    74,  1,      8,2,20130429,1405,  1.2940, -29.5580, 3278,   1818.3,   3.9153,  34.9741,2,    245.9,2,    246.2,2,    18.37,2,    20.01,2,     1.27,2,   2313.6,2,   7.7296,2,    25.00
  29HE20130320,   A17,    74,  1,      9,2,20130429,1405,  1.2940, -29.5580, 3278,   1615.0,   4.1905,  34.9736,2,    236.6,2,    236.4,2,    18.17,2,    20.86,2,     1.33,2,   2311.3,2,   7.7189,2,    25.00
  29HE20130320,   A17,    74,  1,     10,2,20130429,1405,  1.2940, -29.5580, 3278,   1413.2,   4.4130,  34.9654,2,    224.8,2,    225.2,2,    18.96,2,    22.09,2,     1.43,2,   2313.1,2,   7.7060,2,    25.00
  29HE20130320,   A17,    74,  1,     11,2,20130429,1405,  1.2940, -29.5580, 3278,   1209.6,   4.6889,  34.8323,2,    180.6,2,    178.2,2,    25.53,2,    28.01,2,     1.84,2,   2310.2,2,   7.6375,2,    25.00
  29HE20130320,   A17,    74,  1,     12,2,20130429,1405,  1.2940, -29.5580, 3278,   1009.6,   4.6385,  34.7131,2,    163.7,2,    163.7,2,    29.24,2,    30.92,2,     2.07,2,   2306.7,2,   7.5985,2,    25.00
  29HE20130320,   A17,    74,  1,     13,2,20130429,1405,  1.2940, -29.5580, 3278,    808.0,   5.0723,  34.5141,2,    149.0,2,    148.4,2,    29.92,2,    33.61,2,     2.25,2,   2298.2,2,   7.5644,2,    25.00
  29HE20130320,   A17,    74,  1,     14,2,20130429,1405,  1.2940, -29.5580, 3278,    704.4,   5.4181,  34.5098,2,    144.2,2,    143.9,2,    28.11,2,    33.99,2,     2.23,2,   2296.6,2,   7.5622,2,    25.00
  29HE20130320,   A17,    74,  1,     15,2,20130429,1405,  1.2940, -29.5580, 3278,    606.0,   6.0116,  34.5379,2,    141.5,2,    141.5,2,    24.79,2,    33.06,2,     2.16,2,   2297.0,2,   7.5691,2,    25.00
  29HE20130320,   A17,    74,  1,     16,2,20130429,1405,  1.2940, -29.5580, 3278,    503.9,   7.9230,  34.7115,2,    121.6,2,    120.7,2,    18.89,2,    31.38,2,     1.98,2,   2298.5,2,   7.5765,2,    25.00
  29HE20130320,   A17,    74,  1,     17,2,20130429,1405,  1.2940, -29.5580, 3278,    503.8,   7.9234,  34.7117,2,    121.4,2,    121.1,2,    18.74,2,    31.31,2,     1.99,2,   -999.0,9,   7.5739,2,    25.00
  29HE20130320,   A17,    74,  1,     18,2,20130429,1405,  1.2940, -29.5580, 3278,    403.5,   9.1869,  34.8267,2,    102.2,2,    102.4,2,    15.82,2,    30.63,2,     1.91,2,   2300.1,2,   7.5684,2,    25.00
  29HE20130320,   A17,    74,  1,     19,2,20130429,1405,  1.2940, -29.5580, 3278,    303.0,  10.6785,  34.9897,2,    129.2,2,    130.0,2,    11.98,2,    24.80,2,     1.56,2,   2308.1,2,   7.6592,2,    25.00
  29HE20130320,   A17,    74,  1,     20,2,20130429,1405,  1.2940, -29.5580, 3278,    253.2,  11.6300,  35.0923,2,    132.9,2,    133.7,2,    10.11,2,    22.71,2,     1.42,2,   2312.7,2,   7.6883,2,    25.00
  29HE20130320,   A17,    74,  1,     21,2,20130429,1405,  1.2940, -29.5580, 3278,    200.6,  12.2295,  35.1765,2,    110.6,2,    112.5,2,     9.94,2,    23.75,2,     1.43,2,   2314.8,2,   7.6649,2,    25.00
  29HE20130320,   A17,    74,  1,     22,2,20130429,1405,  1.2940, -29.5580, 3278,    100.3,  13.4119,  35.3378,2,    155.6,2,    155.7,2,     7.21,2,    16.90,2,     1.00,2,   2327.4,2,   7.7705,2,    25.00
  29HE20130320,   A17,    74,  1,     23,2,20130429,1405,  1.2940, -29.5580, 3278,     50.9,  26.3256,  35.9738,2,    199.0,2,    195.9,2,     1.68,2,     0.12,2,     0.00,2,   2360.8,2,   8.0382,2,    25.00
  29HE20130320,   A17,    74,  1,     24,2,20130429,1405,  1.2940, -29.5580, 3278,      7.3,  28.9063,  35.5745,2,    198.3,2,    198.1,2,     1.04,2,     0.04,2,     0.00,2,   2333.2,2,   8.0915,2,    25.00