BOTTLE,20230216CCHSIOENA
EXPOCODE,SECT_ID,STNNBR,CASTNO,BTLNBR,BTLNBR_FLAG_W,DATE,TIME,LATITUDE,LONGITUDE,DEPTH,CTDPRS,CTDTMP,CTDSAL,CTDSAL_FLAG_W,CTDOXY,CTDOXY_FLAG_W,OXYGEN,OXYGEN_FLAG_W,SILCAT,SILCAT_FLAG_W,NITRAT,NITRAT_FLAG_W,PHSPHT,PHSPHT_FLAG_W,ALKALI,ALKALI_FLAG_W,PH_TOT,PH_TOT_FLAG_W,PH_TMP
,,,,,,,,,,METERS,DBAR,ITS-90,PSS-78,,UMOL/KG,,UMOL/KG,,UMOL/KG,,UMOL/KG,,UMOL/KG,,UMOL/KG,,,,DEG C
  29HE20130320,   A17,    85,  1,      1,2,20130505,0539, 14.9000, -28.4950, 5177,   5266.0,   2.3231,  34.8733,2,    241.6,2,   -999.0,9,  -999.00,9,  -999.00,9,  -999.00,9,   -999.0,9,-999.0000,9,  -999.00
  29HE20130320,   A17,    85,  1,      2,2,20130505,0539, 14.9000, -28.4950, 5177,   5265.4,   2.3244,  34.8734,2,    241.5,2,    241.5,2,    51.32,2,    23.00,2,     1.53,2,   -999.0,9,   7.7305,2,    25.00
  29HE20130320,   A17,    85,  1,      3,2,20130505,0539, 14.9000, -28.4950, 5177,   4882.8,   2.3260,  34.8772,2,    234.8,2,   -999.0,9,  -999.00,9,  -999.00,9,  -999.00,9,   -999.0,9,-999.0000,9,  -999.00
  29HE20130320,   A17,    85,  1,      4,2,20130505,0539, 14.9000, -28.4950, 5177,   4062.0,   2.3788,  34.8932,2,    236.6,2,    237.4,2,    47.62,2,    23.06,2,     1.51,2,   -999.0,9,   7.7327,2,    25.00
  29HE20130320,   A17,    85,  1,      5,2,20130505,0539, 14.9000, -28.4950, 5177,   3552.3,   2.5324,  34.9113,2,    243.0,2,    244.9,2,    40.84,2,    21.86,2,     1.45,2,   -999.0,9,   7.7376,2,    25.00
  29HE20130320,   A17,    85,  1,      6,2,20130505,0539, 14.9000, -28.4950, 5177,   3040.1,   2.7802,  34.9312,2,    242.4,2,   -999.0,9,  -999.00,9,  -999.00,9,  -999.00,9,   -999.0,9,-999.0000,9,  -999.00
  29HE20130320,   A17,    85,  1,      7,2,20130505,0539, 14.9000, -28.4950, 5177,   3040.7,   2.7801,  34.9311,2,    242.5,2,    244.5,2,    34.63,2,    21.45,2,     1.44,2,   -999.0,9,   7.7373,2,    25.00
  29HE20130320,   A17,    85,  1,      8,2,20130505,0539, 14.9000, -28.4950, 5177,   2528.5,   3.1045,  34.9502,2,    236.8,2,    238.3,2,    30.58,2,    21.41,2,     1.46,2,   -999.0,9,   7.7308,2,    25.00
  29HE20130320,   A17,    85,  1,      9,2,20130505,0539, 14.9000, -28.4950, 5177,   2021.8,   3.5461,  34.9700,2,    238.6,2,    240.2,2,    23.55,2,    21.12,2,     1.40,2,   -999.0,9,   7.7321,2,    25.00
  29HE20130320,   A17,    85,  1,     10,2,20130505,0539, 14.9000, -28.4950, 5177,   1717.2,   3.9750,  34.9837,2,    232.2,2,    232.8,2,    20.42,2,    21.59,2,     1.45,2,   -999.0,9,   7.7235,2,    25.00
  29HE20130320,   A17,    85,  1,     11,2,20130505,0539, 14.9000, -28.4950, 5177,   1411.1,   4.6769,  34.9885,2,    196.7,2,    196.9,2,    22.02,2,    24.69,2,     1.64,2,   -999.0,9,   7.6824,2,    25.00
  29HE20130320,   A17,    85,  1,     12,2,20130505,0539, 14.9000, -28.4950, 5177,   1208.7,   5.2958,  34.9663,2,    163.9,2,    163.4,2,    23.31,2,    27.81,2,     1.85,2,   -999.0,9,   7.6394,2,    25.00
  29HE20130320,   A17,    85,  1,     13,2,20130505,0539, 14.9000, -28.4950, 5177,   1008.6,   5.9820,  34.9121,2,    129.0,2,    127.6,2,    24.52,2,    31.70,2,     2.03,2,   -999.0,9,   7.5845,2,    25.00
  29HE20130320,   A17,    85,  1,     14,2,20130505,0539, 14.9000, -28.4950, 5177,    811.6,   6.9453,  34.8917,2,     96.7,2,     96.6,2,    23.08,2,    33.91,2,     2.21,2,   -999.0,9,   7.5404,2,    25.00
  29HE20130320,   A17,    85,  1,     15,2,20130505,0539, 14.9000, -28.4950, 5177,    705.9,   7.7003,  34.9401,2,     87.1,2,     86.5,2,    21.29,2,    33.96,2,     2.14,2,   -999.0,9,   7.5371,2,    25.00
  29HE20130320,   A17,    85,  1,     16,2,20130505,0539, 14.9000, -28.4950, 5177,    607.4,   8.4284,  34.9933,2,     80.5,2,     79.4,2,    19.17,2,    33.21,2,     2.02,2,   -999.0,9,   7.5399,2,    25.00
  29HE20130320,   A17,    85,  1,     17,2,20130505,0539, 14.9000, -28.4950, 5177,    503.8,   9.2434,  35.0738,2,     75.5,2,     75.0,2,    16.98,2,    32.50,2,     1.98,2,   -999.0,9,   7.5485,2,    25.00
  29HE20130320,   A17,    85,  1,     18,2,20130505,0539, 14.9000, -28.4950, 5177,    402.7,  10.2530,  35.1780,2,     66.3,2,     66.2,2,    14.47,2,    31.52,2,     1.86,2,   -999.0,9,   7.5540,2,    25.00
  29HE20130320,   A17,    85,  1,     19,2,20130505,0539, 14.9000, -28.4950, 5177,    323.8,  11.0516,  35.2757,2,     51.2,2,   -999.0,9,  -999.00,9,  -999.00,9,  -999.00,9,   -999.0,9,-999.0000,9,  -999.00
  29HE20130320,   A17,    85,  1,     20,2,20130505,0539, 14.9000, -28.4950, 5177,    324.1,  11.0932,  35.2810,2,     50.5,2,     50.5,2,    13.34,2,    31.87,2,     1.80,2,   -999.0,9,   7.5323,2,    25.00
  29HE20130320,   A17,    85,  1,     21,2,20130505,0539, 14.9000, -28.4950, 5177,    201.6,  13.8758,  35.7329,2,     86.3,2,     85.5,2,     7.83,2,    23.06,2,     1.23,2,   -999.0,9,   7.6734,2,    25.00
  29HE20130320,   A17,    85,  1,     22,2,20130505,0539, 14.9000, -28.4950, 5177,    101.1,  18.1829,  36.5625,2,    141.9,2,    142.7,2,     2.96,2,    11.36,2,     0.47,2,   -999.0,9,   7.8482,2,    25.00
  29HE20130320,   A17,    85,  1,     23,2,20130505,0539, 14.9000, -28.4950, 5177,     61.3,  19.7643,  36.6862,2,    161.8,2,    159.2,2,     2.13,2,     6.83,2,     0.17,2,   -999.0,9,   7.8891,2,    25.00
  29HE20130320,   A17,    85,  1,     24,2,20130505,0539, 14.9000, -28.4950, 5177,      6.1,  24.5019,  36.0874,2,    208.8,2,    208.5,2,     1.11,2,    -0.11,2,     0.02,2,   -999.0,9,   8.0674,2,    25.00
  29HE20130320,   A17,    86,  1,      1,2,20130505,1944, 16.5020, -28.8410, 4893,   5003.1,   2.3378,  34.8777,2,    238.7,2,    238.9,2,    50.99,2,    23.21,2,     1.50,2,   2355.4,2,   7.7295,2,    25.00
  29HE20130320,   A17,    86,  1,      2,2,20130505,1944, 16.5020, -28.8410, 4893,   4575.0,   2.3537,  34.8849,2,    238.6,2,    238.1,2,    49.13,2,    23.15,2,     1.48,2,   2356.4,2,   7.7316,2,    25.00
  29HE20130320,   A17,    86,  1,      3,2,20130505,1944, 16.5020, -28.8410, 4893,   4063.4,   2.3737,  34.8935,2,    240.0,2,   -999.0,9,  -999.00,9,  -999.00,9,  -999.00,9,   -999.0,9,-999.0000,9,  -999.00
  29HE20130320,   A17,    86,  1,      4,2,20130505,1944, 16.5020, -28.8410, 4893,   3807.4,   2.4266,  34.9012,2,    239.9,2,    239.5,2,    44.67,2,    22.62,2,     1.46,2,   2354.2,2,   7.7363,2,    25.00
  29HE20130320,   A17,    86,  1,      5,2,20130505,1944, 16.5020, -28.8410, 4893,   3549.2,   2.5242,  34.9121,2,    240.4,2,    240.2,2,    41.88,2,    22.26,2,     1.43,2,   2345.7,2,   7.7368,2,    25.00
  29HE20130320,   A17,    86,  1,      6,2,20130505,1944, 16.5020, -28.8410, 4893,   3040.0,   2.7892,  34.9342,2,    243.3,2,    243.3,2,    34.51,2,    21.59,2,     1.40,2,   2336.9,2,   7.7389,2,    25.00
  29HE20130320,   A17,    86,  1,      7,2,20130505,1944, 16.5020, -28.8410, 4893,   2530.8,   3.1349,  34.9536,2,    242.0,2,    242.0,2,    29.28,2,    21.44,2,     1.36,2,   2328.4,2,   7.7363,2,    25.00
  29HE20130320,   A17,    86,  1,      8,2,20130505,1944, 16.5020, -28.8410, 4893,   2276.9,   3.4012,  34.9669,2,    237.7,2,    237.7,2,    26.33,2,    21.52,2,     1.38,2,   2324.8,2,   7.7319,2,    25.00
  29HE20130320,   A17,    86,  1,      9,2,20130505,1944, 16.5020, -28.8410, 4893,   2022.3,   3.6795,  34.9802,2,    231.8,2,    231.5,2,    24.36,2,    21.87,2,     1.40,2,   2323.5,2,   7.7256,2,    25.00
  29HE20130320,   A17,    86,  1,     10,2,20130505,1944, 16.5020, -28.8410, 4893,   1819.3,   3.9642,  34.9906,2,    223.2,2,    222.8,2,    23.20,2,    22.58,2,     1.45,2,   2322.8,2,   7.7154,2,    25.00
  29HE20130320,   A17,    86,  1,     11,2,20130505,1944, 16.5020, -28.8410, 4893,   1615.8,   4.3501,  34.9976,2,    208.4,2,    207.8,2,    22.77,2,    23.82,2,     1.53,2,   2320.8,2,   7.6977,2,    25.00
  29HE20130320,   A17,    86,  1,     12,2,20130505,1944, 16.5020, -28.8410, 4893,   1413.8,   4.9502,  35.0128,2,    188.0,2,    186.7,2,    22.23,2,    25.12,2,     1.63,2,   2321.8,2,   7.6778,2,    25.00
  29HE20130320,   A17,    86,  1,     13,2,20130505,1944, 16.5020, -28.8410, 4893,   1210.5,   5.4560,  34.9733,2,    159.4,2,    158.0,2,    23.62,2,    28.32,2,     1.82,2,   2318.4,2,   7.6336,2,    25.00
  29HE20130320,   A17,    86,  1,     14,2,20130505,1944, 16.5020, -28.8410, 4893,   1009.8,   6.1142,  34.8977,2,    125.1,2,    124.3,2,    24.48,2,    31.87,2,     2.07,2,   2312.7,2,   7.5801,2,    25.00
  29HE20130320,   A17,    86,  1,     15,2,20130505,1944, 16.5020, -28.8410, 4893,    806.4,   7.1557,  34.8978,2,    101.4,2,    100.7,2,    22.14,2,    33.34,2,     2.12,2,   2309.5,2,   7.5543,2,    25.00
  29HE20130320,   A17,    86,  1,     16,2,20130505,1944, 16.5020, -28.8410, 4893,    705.6,   7.9823,  34.9626,2,     88.3,2,     87.5,2,    20.17,2,    33.26,2,     2.08,2,   2309.9,2,   7.5460,2,    25.00
  29HE20130320,   A17,    86,  1,     17,2,20130505,1944, 16.5020, -28.8410, 4893,    604.8,   8.8254,  35.0457,2,     82.0,2,     81.7,2,    17.93,2,    32.58,2,     2.00,2,   2311.7,2,   7.5529,2,    25.00
  29HE20130320,   A17,    86,  1,     18,2,20130505,1944, 16.5020, -28.8410, 4893,    503.4,   9.8599,  35.1546,2,     71.3,2,     70.3,2,    15.40,2,    31.66,2,     1.91,2,   2314.0,2,   7.5545,2,    25.00
  29HE20130320,   A17,    86,  1,     19,2,20130505,1944, 16.5020, -28.8410, 4893,    403.2,  10.8212,  35.2727,2,     67.3,2,     66.6,2,    13.07,2,    30.23,2,     1.78,2,   2317.5,2,   7.5699,2,    25.00
  29HE20130320,   A17,    86,  1,     20,2,20130505,1944, 16.5020, -28.8410, 4893,    301.6,  11.9704,  35.4090,2,     74.4,2,     74.0,2,    10.76,2,    27.50,2,     1.58,2,   2324.5,2,   7.6095,2,    25.00
  29HE20130320,   A17,    86,  1,     21,2,20130505,1944, 16.5020, -28.8410, 4893,    200.7,  15.0110,  35.9589,2,    104.8,2,    100.8,2,     6.32,2,    20.00,2,     1.06,2,   2349.2,2,   7.7250,2,    25.00
  29HE20130320,   A17,    86,  1,     22,2,20130505,1944, 16.5020, -28.8410, 4893,    101.8,  19.3694,  36.6598,2,    150.7,2,    147.0,2,     2.43,2,     9.29,2,     0.38,2,   2392.4,2,   7.8672,2,    25.00
  29HE20130320,   A17,    86,  1,     23,2,20130505,1944, 16.5020, -28.8410, 4893,     49.6,  23.3802,  36.2334,2,    218.2,2,    216.4,2,     0.86,2,     0.04,2,     0.01,2,   2376.6,2,   8.0525,2,    25.00
  29HE20130320,   A17,    86,  1,     24,2,20130505,1944, 16.5020, -28.8410, 4893,      6.3,  24.1576,  36.1552,2,    211.3,2,    210.6,2,     0.87,2,     0.01,2,     0.00,2,   2367.3,2,   8.0640,2,    25.00
  29HE20130320,   A17,    87,  1,      1,2,20130506,1140, 18.0980, -28.7330, 4324,   4368.6,   2.3539,  34.8875,2,    242.0,2,   -999.0,9,  -999.00,9,  -999.00,9,  -999.00,9,   -999.0,9,-999.0000,9,  -999.00
  29HE20130320,   A17,    87,  1,      2,2,20130506,1140, 18.0980, -28.7330, 4324,   4368.5,   2.3537,  34.8876,2,    242.6,2,    242.0,2,    47.63,2,    22.89,2,     1.49,2,   -999.0,9,   7.7347,2,    25.00
  29HE20130320,   A17,    87,  1,      3,2,20130506,1140, 18.0980, -28.7330, 4324,   4062.8,   2.3423,  34.8901,2,    242.4,2,    242.2,2,    47.14,2,    22.63,2,     1.49,2,   -999.0,9,   7.7393,2,    25.00
  29HE20130320,   A17,    87,  1,      4,2,20130506,1140, 18.0980, -28.7330, 4324,   3550.8,   2.4556,  34.9068,2,    242.3,2,    241.9,2,    43.13,2,    22.34,2,     1.45,2,   -999.0,9,   7.7382,2,    25.00
  29HE20130320,   A17,    87,  1,      5,2,20130506,1140, 18.0980, -28.7330, 4324,   3041.2,   2.7773,  34.9360,2,    241.3,2,   -999.0,9,  -999.00,9,  -999.00,9,  -999.00,9,   -999.0,9,-999.0000,9,  -999.00
  29HE20130320,   A17,    87,  1,      6,2,20130506,1140, 18.0980, -28.7330, 4324,   3040.8,   2.7752,  34.9359,2,    241.5,2,    241.5,2,    35.56,2,    21.66,2,     1.41,2,   -999.0,9,   7.7374,2,    25.00
  29HE20130320,   A17,    87,  1,      7,2,20130506,1140, 18.0980, -28.7330, 4324,   2529.5,   3.1218,  34.9549,2,    241.4,2,    241.3,2,    30.33,2,    21.27,2,     1.39,2,   -999.0,9,   7.7353,2,    25.00
  29HE20130320,   A17,    87,  1,      8,2,20130506,1140, 18.0980, -28.7330, 4324,   2022.3,   3.6254,  34.9813,2,    234.3,2,    233.6,2,    24.75,2,    21.61,2,     1.41,2,   -999.0,9,   7.7286,2,    25.00
  29HE20130320,   A17,    87,  1,      9,2,20130506,1140, 18.0980, -28.7330, 4324,   1713.7,   4.1481,  35.0015,2,    217.1,2,    216.4,2,    23.05,2,    22.69,2,     1.48,2,   -999.0,9,   7.7098,2,    25.00
  29HE20130320,   A17,    87,  1,     10,2,20130506,1140, 18.0980, -28.7330, 4324,   1414.7,   5.1647,  35.0483,2,    184.1,2,    183.2,2,    22.13,2,    25.26,2,     1.65,2,   -999.0,9,   7.6762,2,    25.00
  29HE20130320,   A17,    87,  1,     11,2,20130506,1140, 18.0980, -28.7330, 4324,   1209.8,   5.7277,  34.9985,2,    158.7,2,    157.8,2,    22.75,2,    27.82,2,     1.81,2,   -999.0,9,   7.6391,2,    25.00
  29HE20130320,   A17,    87,  1,     12,2,20130506,1140, 18.0980, -28.7330, 4324,   1008.3,   6.2307,  34.9156,2,    129.9,2,    128.8,2,    23.89,2,    31.23,2,     2.02,2,   -999.0,9,   7.5928,2,    25.00
  29HE20130320,   A17,    87,  1,     13,2,20130506,1140, 18.0980, -28.7330, 4324,   1008.4,   6.2292,  34.9159,2,    129.1,2,   -999.0,9,  -999.00,9,  -999.00,9,  -999.00,9,   -999.0,9,-999.0000,9,  -999.00
  29HE20130320,   A17,    87,  1,     14,2,20130506,1140, 18.0980, -28.7330, 4324,    807.7,   7.0838,  34.9128,2,    105.4,2,    104.6,2,    22.34,2,    32.71,2,     2.11,2,   -999.0,9,   7.5629,2,    25.00
  29HE20130320,   A17,    87,  1,     15,2,20130506,1140, 18.0980, -28.7330, 4324,    706.2,   7.9238,  34.9794,2,     95.3,2,     94.4,2,    20.30,2,    32.63,2,     2.04,2,   -999.0,9,   7.5628,2,    25.00
  29HE20130320,   A17,    87,  1,     16,2,20130506,1140, 18.0980, -28.7330, 4324,    606.2,   8.9231,  35.0867,2,     84.2,2,     83.5,2,    17.80,2,    31.90,2,     1.94,2,   -999.0,9,   7.5625,2,    25.00
  29HE20130320,   A17,    87,  1,     17,2,20130506,1140, 18.0980, -28.7330, 4324,    506.6,  10.1256,  35.2315,2,     79.8,2,     79.2,2,    14.59,2,    30.27,2,     1.79,2,   -999.0,9,   7.5800,2,    25.00
  29HE20130320,   A17,    87,  1,     18,2,20130506,1140, 18.0980, -28.7330, 4324,    403.6,  11.8415,  35.4795,2,     81.6,2,     83.6,2,    10.84,2,    27.10,2,     1.53,2,   -999.0,9,   7.6198,2,    25.00
  29HE20130320,   A17,    87,  1,     19,2,20130506,1140, 18.0980, -28.7330, 4324,    403.6,  11.8423,  35.4795,2,     81.6,2,   -999.0,9,    10.96,2,    26.74,2,     1.49,2,   -999.0,9,-999.0000,9,  -999.00
  29HE20130320,   A17,    87,  1,     20,2,20130506,1140, 18.0980, -28.7330, 4324,    302.1,  13.6978,  35.7462,2,     93.8,2,     93.8,2,     7.52,2,    21.65,2,     1.14,2,   -999.0,9,   7.7021,2,    25.00
  29HE20130320,   A17,    87,  1,     21,2,20130506,1140, 18.0980, -28.7330, 4324,    200.6,  16.2459,  36.2058,2,    121.7,2,    122.0,2,     4.64,2,    15.67,2,     0.74,2,   -999.0,9,   7.7813,2,    25.00
  29HE20130320,   A17,    87,  1,     22,2,20130506,1140, 18.0980, -28.7330, 4324,     90.7,  20.8766,  36.7448,2,    183.5,2,    180.7,2,     1.50,2,     3.93,2,     0.02,2,   -999.0,9,   7.9353,2,    25.00
  29HE20130320,   A17,    87,  1,     23,2,20130506,1140, 18.0980, -28.7330, 4324,     50.8,  23.1066,  36.8351,2,    218.0,2,    217.9,2,     0.67,2,    -0.01,2,    -0.01,2,   -999.0,9,   8.0337,2,    25.00
  29HE20130320,   A17,    87,  1,     24,2,20130506,1140, 18.0980, -28.7330, 4324,      6.1,  24.1003,  36.2821,2,    213.0,2,    213.2,2,     0.79,2,    -0.07,2,    -0.01,2,   -999.0,9,   8.0453,2,    25.00