BOTTLE,20230216CCHSIOENA
EXPOCODE,SECT_ID,STNNBR,CASTNO,BTLNBR,BTLNBR_FLAG_W,DATE,TIME,LATITUDE,LONGITUDE,DEPTH,CTDPRS,CTDTMP,CTDSAL,CTDSAL_FLAG_W,CTDOXY,CTDOXY_FLAG_W,OXYGEN,OXYGEN_FLAG_W,SILCAT,SILCAT_FLAG_W,NITRAT,NITRAT_FLAG_W,PHSPHT,PHSPHT_FLAG_W,ALKALI,ALKALI_FLAG_W,PH_TOT,PH_TOT_FLAG_W,PH_TMP
,,,,,,,,,,METERS,DBAR,ITS-90,PSS-78,,UMOL/KG,,UMOL/KG,,UMOL/KG,,UMOL/KG,,UMOL/KG,,UMOL/KG,,,,DEG C
  29HE20130320,   A17,    93,  1,      1,2,20130510,1651, 27.6960, -28.3920, 5187,   5291.9,   2.4296,  34.8833,2,    243.8,2,    244.2,2,    47.92,2,    22.64,2,     1.44,2,   -999.0,9,   7.7331,2,    25.00
  29HE20130320,   A17,    93,  1,      2,2,20130510,1651, 27.6960, -28.3920, 5187,   5093.5,   2.4142,  34.8844,2,    244.2,2,    244.3,2,    47.90,2,    22.43,2,     1.45,2,   -999.0,9,   7.7325,2,    25.00
  29HE20130320,   A17,    93,  1,      3,2,20130510,1651, 27.6960, -28.3920, 5187,   4578.1,   2.4218,  34.8914,2,    244.2,2,    243.9,2,    46.02,2,    22.28,2,     1.43,2,   -999.0,9,   7.7348,2,    25.00
  29HE20130320,   A17,    93,  1,      4,2,20130510,1651, 27.6960, -28.3920, 5187,   4065.1,   2.4394,  34.8985,2,    244.2,2,    244.0,2,    44.02,2,    22.29,2,     1.41,2,   -999.0,9,   7.7353,2,    25.00
  29HE20130320,   A17,    93,  1,      5,2,20130510,1651, 27.6960, -28.3920, 5187,   3553.6,   2.5437,  34.9136,2,    244.0,2,    244.4,2,    40.52,2,    21.87,2,     1.39,2,   -999.0,9,   7.7381,2,    25.00
  29HE20130320,   A17,    93,  1,      6,2,20130510,1651, 27.6960, -28.3920, 5187,   3043.6,   2.7441,  34.9353,2,    245.5,2,    246.2,2,    34.41,2,    21.15,2,     1.33,2,   -999.0,9,   7.7391,2,    25.00
  29HE20130320,   A17,    93,  1,      7,2,20130510,1651, 27.6960, -28.3920, 5187,   2533.1,   3.1326,  34.9723,2,    247.4,2,    247.9,2,    28.07,2,    20.24,2,     1.25,2,   -999.0,9,   7.7412,2,    25.00
  29HE20130320,   A17,    93,  1,      8,2,20130510,1651, 27.6960, -28.3920, 5187,   2278.7,   3.4967,  35.0089,2,    246.3,2,    246.2,2,    24.42,2,    19.70,2,     1.23,2,   -999.0,9,   7.7421,2,    25.00
  29HE20130320,   A17,    93,  1,      9,2,20130510,1651, 27.6960, -28.3920, 5187,   2023.5,   4.1142,  35.0753,2,    242.3,2,    242.3,2,    19.97,2,    19.39,2,     1.22,2,   -999.0,9,   7.7418,2,    25.00
  29HE20130320,   A17,    93,  1,     10,2,20130510,1651, 27.6960, -28.3920, 5187,   1821.1,   4.7136,  35.1469,2,    230.4,2,    230.1,2,    19.22,2,    19.85,2,     1.23,2,   -999.0,9,   7.7390,2,    25.00
  29HE20130320,   A17,    93,  1,     11,2,20130510,1651, 27.6960, -28.3920, 5187,   1618.8,   5.3715,  35.2205,2,    220.8,2,    220.3,2,    17.53,2,    20.16,2,     1.24,2,   -999.0,9,   7.7378,2,    25.00
  29HE20130320,   A17,    93,  1,     12,2,20130510,1651, 27.6960, -28.3920, 5187,   1414.9,   6.3467,  35.3299,2,    207.5,2,    206.7,2,    15.78,2,    20.13,2,     1.24,2,   -999.0,9,   7.7369,2,    25.00
  29HE20130320,   A17,    93,  1,     13,2,20130510,1651, 27.6960, -28.3920, 5187,   1211.4,   7.4230,  35.4300,2,    189.3,2,    188.1,2,    14.90,2,    20.80,2,     1.26,2,   -999.0,9,   7.7318,2,    25.00
  29HE20130320,   A17,    93,  1,     14,2,20130510,1651, 27.6960, -28.3920, 5187,   1011.2,   7.7635,  35.2758,2,    170.9,2,    169.9,2,    15.40,2,    23.16,2,     1.36,2,   -999.0,9,   7.7051,2,    25.00
  29HE20130320,   A17,    93,  1,     15,2,20130510,1651, 27.6960, -28.3920, 5187,    807.3,   9.7177,  35.3951,2,    161.1,2,    161.1,2,    11.89,2,    21.38,2,     1.23,2,   -999.0,9,   7.7254,2,    25.00
  29HE20130320,   A17,    93,  1,     16,2,20130510,1651, 27.6960, -28.3920, 5187,    707.2,  10.8083,  35.4988,2,    164.2,2,    163.8,2,     9.45,2,    19.45,2,     1.07,2,   -999.0,9,   7.7490,2,    25.00
  29HE20130320,   A17,    93,  1,     17,2,20130510,1651, 27.6960, -28.3920, 5187,    606.1,  12.0801,  35.6463,2,    177.7,2,    176.7,2,     6.47,2,    15.89,2,     0.85,2,   -999.0,9,   7.7872,2,    25.00
  29HE20130320,   A17,    93,  1,     18,2,20130510,1651, 27.6960, -28.3920, 5187,    504.9,  13.5536,  35.8384,2,    188.9,2,    188.1,2,     4.51,2,    12.33,2,     0.60,2,   -999.0,9,   7.8357,2,    25.00
  29HE20130320,   A17,    93,  1,     19,2,20130510,1651, 27.6960, -28.3920, 5187,    404.9,  15.0040,  36.0616,2,    194.7,2,    193.5,2,     3.16,2,     9.23,2,     0.36,2,   -999.0,9,   7.8796,2,    25.00
  29HE20130320,   A17,    93,  1,     20,2,20130510,1651, 27.6960, -28.3920, 5187,    304.9,  16.5371,  36.3316,2,    197.3,2,    196.4,2,     2.16,2,     6.48,2,     0.14,2,   -999.0,9,   7.9201,2,    25.00
  29HE20130320,   A17,    93,  1,     21,2,20130510,1651, 27.6960, -28.3920, 5187,    204.5,  17.9745,  36.6087,2,    198.3,2,    197.7,2,     1.47,2,     4.09,2,     0.00,2,   -999.0,9,   7.9494,2,    25.00
  29HE20130320,   A17,    93,  1,     22,2,20130510,1651, 27.6960, -28.3920, 5187,    129.2,  20.4829,  37.1145,2,    218.4,2,    216.2,2,     0.70,2,     0.09,2,     0.00,2,   -999.0,9,   8.0101,2,    25.00
  29HE20130320,   A17,    93,  1,     23,2,20130510,1651, 27.6960, -28.3920, 5187,     71.7,  20.8540,  37.1359,2,    225.1,2,    223.3,2,     0.67,2,     0.06,2,    -0.01,2,   -999.0,9,   8.0255,2,    25.00
  29HE20130320,   A17,    93,  1,     24,2,20130510,1651, 27.6960, -28.3920, 5187,      6.0,  22.7072,  37.0171,2,    217.3,2,    215.7,2,     0.70,2,     0.05,2,     0.00,2,   -999.0,9,   8.0246,2,    25.00
  29HE20130320,   A17,    94,  1,      1,2,20130511,0730, 29.2990, -28.3810, 4437,   4510.6,   2.4066,  34.8903,2,    244.5,2,    243.9,2,    47.06,2,    22.54,2,     1.43,2,   2349.2,2,   7.7335,2,    25.00
  29HE20130320,   A17,    94,  1,      2,2,20130511,0730, 29.2990, -28.3810, 4437,   4066.8,   2.4614,  34.9004,2,    245.0,2,    243.8,2,    44.56,2,    22.22,2,     1.42,2,   2346.2,2,   7.7337,2,    25.00
  29HE20130320,   A17,    94,  1,      3,2,20130511,0730, 29.2990, -28.3810, 4437,   3552.5,   2.5893,  34.9175,2,    245.7,2,    244.5,2,    39.79,2,    21.68,2,     1.41,2,   2343.3,2,   7.7369,2,    25.00
  29HE20130320,   A17,    94,  1,      4,2,20130511,0730, 29.2990, -28.3810, 4437,   3043.5,   2.7965,  34.9399,2,    247.3,2,    247.3,2,    33.61,2,    20.95,2,     1.34,2,   2336.2,2,   7.7379,2,    25.00
  29HE20130320,   A17,    94,  1,      5,2,20130511,0730, 29.2990, -28.3810, 4437,   2533.7,   3.2668,  34.9849,2,    248.4,2,    248.4,2,    27.14,2,    19.98,2,     1.28,2,   2329.0,2,   7.7378,2,    25.00
  29HE20130320,   A17,    94,  1,      6,2,20130511,0730, 29.2990, -28.3810, 4437,   2279.2,   3.6368,  35.0230,2,    247.5,2,    247.5,2,    23.33,2,    19.63,2,     1.25,2,   2326.5,2,   7.7391,2,    25.00
  29HE20130320,   A17,    94,  1,      7,2,20130511,0730, 29.2990, -28.3810, 4437,   2024.4,   4.2278,  35.0893,2,    243.3,2,    243.3,2,    19.45,2,    19.42,2,     1.23,2,   2323.5,2,   7.7411,2,    25.00
  29HE20130320,   A17,    94,  1,      8,2,20130511,0730, 29.2990, -28.3810, 4437,   1821.3,   4.6768,  35.1419,2,    238.9,2,    238.6,2,    17.69,2,    19.17,2,     1.21,2,   2326.8,2,   7.7402,2,    25.00
  29HE20130320,   A17,    94,  1,      9,2,20130511,0730, 29.2990, -28.3810, 4437,   1617.1,   5.3815,  35.2194,2,    229.2,2,    228.9,2,    16.02,2,    19.29,2,     1.21,2,   2328.9,2,   7.7366,2,    25.00
  29HE20130320,   A17,    94,  1,     10,2,20130511,0730, 29.2990, -28.3810, 4437,   1416.2,   6.4020,  35.3310,2,    214.4,2,    214.1,2,    14.51,2,    19.53,2,     1.21,2,   2334.0,2,   7.7387,2,    25.00
  29HE20130320,   A17,    94,  1,     11,2,20130511,0730, 29.2990, -28.3810, 4437,   1212.4,   7.1331,  35.3628,2,    195.9,2,    195.8,2,    14.63,2,    20.57,2,     1.27,2,   2334.9,2,   7.7253,2,    25.00
  29HE20130320,   A17,    94,  1,     12,2,20130511,0730, 29.2990, -28.3810, 4437,   1009.9,   8.0314,  35.3463,2,    165.7,2,    167.1,2,    15.69,2,    23.22,2,     1.42,2,   2334.1,2,   7.6984,2,    25.00
  29HE20130320,   A17,    94,  1,     13,2,20130511,0730, 29.2990, -28.3810, 4437,    807.3,   9.7692,  35.4301,2,    160.1,2,    159.4,2,    11.96,2,    21.50,2,     1.26,2,   2331.6,2,   7.7228,2,    25.00
  29HE20130320,   A17,    94,  1,     14,2,20130511,0730, 29.2990, -28.3810, 4437,    706.2,  10.7886,  35.5189,2,    164.5,2,    164.6,2,     9.31,2,    19.30,2,     1.08,2,   2332.9,2,   7.7436,2,    25.00
  29HE20130320,   A17,    94,  1,     15,2,20130511,0730, 29.2990, -28.3810, 4437,    605.5,  12.1386,  35.6571,2,    178.9,2,    179.0,2,     6.30,2,    15.66,2,     0.84,2,   2338.8,2,   7.7891,2,    25.00
  29HE20130320,   A17,    94,  1,     16,2,20130511,0730, 29.2990, -28.3810, 4437,    505.3,  13.4166,  35.8259,2,    189.6,2,    189.2,2,     4.51,2,    12.51,2,     0.59,2,   2346.0,2,   7.8284,2,    25.00
  29HE20130320,   A17,    94,  1,     17,2,20130511,0730, 29.2990, -28.3810, 4437,    404.4,  14.6736,  36.0126,2,    194.3,2,    194.3,2,     3.38,2,     9.79,2,     0.39,2,   2357.6,2,   7.8680,2,    25.00
  29HE20130320,   A17,    94,  1,     18,2,20130511,0730, 29.2990, -28.3810, 4437,    352.7,  15.6942,  36.1945,2,    196.9,2,    196.3,2,     2.63,2,     7.81,2,     0.27,2,   2366.8,2,   7.8963,2,    25.00
  29HE20130320,   A17,    94,  1,     19,2,20130511,0730, 29.2990, -28.3810, 4437,    351.0,  15.8115,  36.2155,2,    196.9,2,    196.2,2,     2.67,2,     7.72,2,     0.22,2,   2369.1,2,   7.8948,2,    25.00
  29HE20130320,   A17,    94,  1,     20,2,20130511,0730, 29.2990, -28.3810, 4437,    302.8,  16.8084,  36.4188,2,    199.4,2,    199.0,2,     1.92,2,     5.67,2,     0.07,2,   2382.4,2,   7.9227,2,    25.00
  29HE20130320,   A17,    94,  1,     21,2,20130511,0730, 29.2990, -28.3810, 4437,    203.2,  18.3657,  36.7238,2,    201.1,2,    210.5,2,     1.16,2,     3.02,2,     0.02,2,   2400.5,2,   7.9539,2,    25.00
  29HE20130320,   A17,    94,  1,     22,2,20130511,0730, 29.2990, -28.3810, 4437,    161.1,  19.8552,  37.0113,2,    211.1,2,    222.3,2,     0.81,2,     0.76,2,     0.01,2,   2417.5,2,   7.9890,2,    25.00
  29HE20130320,   A17,    94,  1,     23,2,20130511,0730, 29.2990, -28.3810, 4437,     81.8,  20.8126,  37.1999,2,    222.5,2,    219.0,2,     0.62,2,    -0.01,2,     0.02,2,   2432.6,2,   8.0184,2,    25.00
  29HE20130320,   A17,    94,  1,     24,2,20130511,0730, 29.2990, -28.3810, 4437,      6.6,  22.4193,  37.1135,2,    225.9,2,   -999.0,9,     0.67,2,    -0.02,2,    -0.01,2,   2429.4,2,   8.0193,2,    25.00
  29HE20130320,   A17,    95,  1,      1,2,20130512,0058, 31.0910, -28.0830, 4195,   4454.3,   2.4037,  34.8907,2,    244.5,2,    244.2,2,    46.69,2,    22.41,2,     1.47,2,   -999.0,9,   7.7349,2,    25.00
  29HE20130320,   A17,    95,  1,      2,2,20130512,0058, 31.0910, -28.0830, 4195,   4455.2,   2.4036,  34.8907,2,    244.4,2,   -999.0,9,    46.52,2,    22.32,2,     1.47,2,   -999.0,9,-999.0000,9,  -999.00
  29HE20130320,   A17,    95,  1,      3,2,20130512,0058, 31.0910, -28.0830, 4195,   4066.3,   2.4599,  34.9005,2,    244.7,2,    242.9,2,    44.18,2,    22.22,2,     1.43,2,   -999.0,9,   7.7351,2,    25.00
  29HE20130320,   A17,    95,  1,      4,2,20130512,0058, 31.0910, -28.0830, 4195,   3554.3,   2.6151,  34.9198,2,    245.9,2,    246.1,2,    38.05,2,    21.78,2,     1.38,2,   -999.0,9,   7.7365,2,    25.00
  29HE20130320,   A17,    95,  1,      5,2,20130512,0058, 31.0910, -28.0830, 4195,   3042.0,   2.8092,  34.9391,2,    248.8,2,    249.0,2,    32.32,2,    20.74,2,     1.33,2,   -999.0,9,   7.7367,2,    25.00
  29HE20130320,   A17,    95,  1,      6,2,20130512,0058, 31.0910, -28.0830, 4195,   2533.0,   3.1930,  34.9737,2,    251.0,2,    252.2,2,    26.19,2,    19.83,2,     1.25,2,   -999.0,9,   7.7348,2,    25.00
  29HE20130320,   A17,    95,  1,      7,2,20130512,0058, 31.0910, -28.0830, 4195,   2532.8,   3.1935,  34.9737,2,    249.9,2,   -999.0,9,    26.52,2,    19.55,2,     1.26,2,   -999.0,9,-999.0000,9,  -999.00
  29HE20130320,   A17,    95,  1,      8,2,20130512,0058, 31.0910, -28.0830, 4195,   2026.6,   4.1463,  35.0814,2,    243.8,2,    244.6,2,    19.49,2,    19.54,2,     1.23,2,   -999.0,9,   7.7400,2,    25.00
  29HE20130320,   A17,    95,  1,      9,2,20130512,0058, 31.0910, -28.0830, 4195,   1821.8,   4.7280,  35.1506,2,    237.5,2,    237.4,2,    17.51,2,    19.28,2,     1.21,2,   -999.0,9,   7.7423,2,    25.00
  29HE20130320,   A17,    95,  1,     10,2,20130512,0058, 31.0910, -28.0830, 4195,   1616.5,   5.4409,  35.2317,2,    229.2,2,    228.5,2,    15.53,2,    19.28,2,     1.23,2,   -999.0,9,   7.7386,2,    25.00
  29HE20130320,   A17,    95,  1,     11,2,20130512,0058, 31.0910, -28.0830, 4195,   1414.5,   6.3839,  35.3496,2,    216.3,2,    215.7,2,    14.33,2,    19.01,2,     1.20,2,   -999.0,9,   7.7404,2,    25.00
  29HE20130320,   A17,    95,  1,     12,2,20130512,0058, 31.0910, -28.0830, 4195,   1211.7,   7.5226,  35.4762,2,    197.1,2,    196.7,2,    13.92,2,    19.66,2,     1.22,2,   -999.0,9,   7.7386,2,    25.00
  29HE20130320,   A17,    95,  1,     13,2,20130512,0058, 31.0910, -28.0830, 4195,   1010.5,   8.5213,  35.4935,2,    186.6,2,    187.0,2,    12.38,2,    19.95,2,     1.19,2,   -999.0,9,   7.7374,2,    25.00
  29HE20130320,   A17,    95,  1,     14,2,20130512,0058, 31.0910, -28.0830, 4195,   1010.6,   8.5261,  35.4929,2,    186.0,2,   -999.0,9,    12.20,2,    19.52,2,     1.18,2,   -999.0,9,-999.0000,9,  -999.00
  29HE20130320,   A17,    95,  1,     15,2,20130512,0058, 31.0910, -28.0830, 4195,    806.1,   9.7315,  35.4770,2,    176.7,2,    175.9,2,    10.45,2,    19.37,2,     1.14,2,   -999.0,9,   7.7417,2,    25.00
  29HE20130320,   A17,    95,  1,     16,2,20130512,0058, 31.0910, -28.0830, 4195,    706.5,  10.4796,  35.4819,2,    176.4,2,    176.3,2,     9.37,2,    18.17,2,     1.08,2,   -999.0,9,   7.7494,2,    25.00
  29HE20130320,   A17,    95,  1,     17,2,20130512,0058, 31.0910, -28.0830, 4195,    606.1,  11.6687,  35.5627,2,    181.5,2,    181.7,2,     7.57,2,    16.26,2,     0.94,2,   -999.0,9,   7.7790,2,    25.00
  29HE20130320,   A17,    95,  1,     18,2,20130512,0058, 31.0910, -28.0830, 4195,    505.9,  12.9260,  35.7337,2,    193.9,2,    194.1,2,     5.13,2,    12.61,2,     0.67,2,   -999.0,9,   7.8237,2,    25.00
  29HE20130320,   A17,    95,  1,     19,2,20130512,0058, 31.0910, -28.0830, 4195,    403.7,  14.1549,  35.9103,2,    197.8,2,    198.1,2,     3.84,2,    10.29,2,     0.50,2,   -999.0,9,   7.8587,2,    25.00
  29HE20130320,   A17,    95,  1,     20,2,20130512,0058, 31.0910, -28.0830, 4195,    301.9,  15.5263,  36.1347,2,    198.6,2,    199.4,2,     2.74,2,     8.00,2,     0.30,2,   -999.0,9,   7.8958,2,    25.00
  29HE20130320,   A17,    95,  1,     21,2,20130512,0058, 31.0910, -28.0830, 4195,    201.4,  17.1660,  36.4303,2,    200.4,2,    201.5,2,     1.80,2,     5.08,2,     0.06,2,   -999.0,9,   7.9353,2,    25.00
  29HE20130320,   A17,    95,  1,     22,2,20130512,0058, 31.0910, -28.0830, 4195,    111.9,  19.2242,  36.7749,2,    219.5,2,    219.0,2,     0.94,2,     0.31,2,     0.00,2,   -999.0,9,   7.9892,2,    25.00
  29HE20130320,   A17,    95,  1,     23,2,20130512,0058, 31.0910, -28.0830, 4195,     52.6,  19.8550,  36.8007,2,    231.4,2,    231.4,2,     0.74,2,    -0.08,2,     0.00,2,   -999.0,9,   8.0108,2,    25.00
  29HE20130320,   A17,    95,  1,     24,2,20130512,0058, 31.0910, -28.0830, 4195,      5.9,  21.2199,  36.5972,2,    222.2,2,    222.9,2,     0.75,2,    -0.09,2,     0.01,2,   -999.0,9,   8.0073,2,    25.00