BOTTLE,20230216CCHSIOENA
EXPOCODE,SECT_ID,STNNBR,CASTNO,BTLNBR,BTLNBR_FLAG_W,DATE,TIME,LATITUDE,LONGITUDE,DEPTH,CTDPRS,CTDTMP,CTDSAL,CTDSAL_FLAG_W,CTDOXY,CTDOXY_FLAG_W,OXYGEN,OXYGEN_FLAG_W,SILCAT,SILCAT_FLAG_W,NITRAT,NITRAT_FLAG_W,PHSPHT,PHSPHT_FLAG_W,ALKALI,ALKALI_FLAG_W,PH_TOT,PH_TOT_FLAG_W,PH_TMP
,,,,,,,,,,METERS,DBAR,ITS-90,PSS-78,,UMOL/KG,,UMOL/KG,,UMOL/KG,,UMOL/KG,,UMOL/KG,,UMOL/KG,,,,DEG C
  29HE20130320,   A17,     6,  1,      1,2,20130325,0706,-47.7050, -54.3820, 5928,   5908.1,   0.3606,  34.6693,2,    226.3,2,    223.3,2,   127.98,2,    32.68,2,     2.24,2,   -999.0,9,   7.6024,2,    25.00
  29HE20130320,   A17,     6,  1,      2,2,20130325,0706,-47.7050, -54.3820, 5928,   5101.2,   0.3257,  34.6727,2,    223.2,2,    222.5,2,   127.57,2,    32.69,2,     2.21,2,   -999.0,9,   7.6043,2,    25.00
  29HE20130320,   A17,     6,  1,      3,2,20130325,0706,-47.7050, -54.3820, 5928,   4585.5,   0.3838,  34.6776,2,    220.8,2,    220.2,2,   126.26,2,    32.60,2,     2.21,2,   -999.0,9,   7.6038,2,    25.00
  29HE20130320,   A17,     6,  1,      4,2,20130325,0706,-47.7050, -54.3820, 5928,   4070.5,   0.6190,  34.6900,2,    215.2,2,    214.0,2,   121.27,2,    32.42,2,     2.23,2,   -999.0,9,   7.6054,2,    25.00
  29HE20130320,   A17,     6,  1,      5,2,20130325,0706,-47.7050, -54.3820, 5928,   3558.4,   1.0301,  34.7112,2,    207.1,2,    205.6,2,   114.04,2,    31.58,2,     2.16,2,   -999.0,9,   7.6081,2,    25.00
  29HE20130320,   A17,     6,  1,      6,2,20130325,0706,-47.7050, -54.3820, 5928,   3047.2,   1.4268,  34.7310,2,    201.0,2,    202.0,2,   105.78,2,    31.28,2,     2.10,2,   -999.0,9,   7.6147,2,    25.00
  29HE20130320,   A17,     6,  1,      7,2,20130325,0706,-47.7050, -54.3820, 5928,   2534.4,   1.9299,  34.7501,2,    196.1,2,    196.2,2,    90.63,2,    30.29,2,     2.03,2,   -999.0,9,   7.6191,2,    25.00
  29HE20130320,   A17,     6,  1,      8,2,20130325,0706,-47.7050, -54.3820, 5928,   2281.2,   2.2433,  34.7640,2,    197.3,2,    197.4,2,    79.32,2,    29.61,2,     1.96,2,   -999.0,9,   7.6273,2,    25.00
  29HE20130320,   A17,     6,  1,      9,2,20130325,0706,-47.7050, -54.3820, 5928,   2025.9,   2.4691,  34.7637,2,    195.8,2,    196.4,2,    73.57,2,    29.28,2,     1.96,2,   -999.0,9,   7.6265,2,    25.00
  29HE20130320,   A17,     6,  1,     10,2,20130325,0706,-47.7050, -54.3820, 5928,   1821.9,   2.4463,  34.7156,2,    184.3,2,    183.6,2,    79.11,2,    31.13,2,     2.10,2,   -999.0,9,   7.5999,2,    25.00
  29HE20130320,   A17,     6,  1,     11,2,20130325,0706,-47.7050, -54.3820, 5928,   1619.0,   2.5644,  34.6845,2,    180.4,2,    180.5,2,    75.16,2,    31.94,2,     2.16,2,   -999.0,9,   7.5928,2,    25.00
  29HE20130320,   A17,     6,  1,     12,2,20130325,0706,-47.7050, -54.3820, 5928,   1414.5,   2.7002,  34.6461,2,    178.6,2,    178.7,2,    69.48,2,    32.51,2,     2.20,2,   -999.0,9,   7.5852,2,    25.00
  29HE20130320,   A17,     6,  1,     13,2,20130325,0706,-47.7050, -54.3820, 5928,   1213.4,   2.7384,  34.5833,2,    176.4,2,    176.5,2,    67.71,2,    33.21,2,     2.24,2,   -999.0,9,   7.5770,2,    25.00
  29HE20130320,   A17,     6,  1,     14,2,20130325,0706,-47.7050, -54.3820, 5928,   1009.0,   2.7061,  34.4708,2,    177.4,2,    177.9,2,    65.36,2,    34.64,2,     2.34,2,   -999.0,9,   7.5598,2,    25.00
  29HE20130320,   A17,     6,  1,     15,2,20130325,0706,-47.7050, -54.3820, 5928,    808.2,   2.8526,  34.3666,2,    194.5,2,    194.7,2,    52.89,2,    33.98,2,     2.30,2,   -999.0,9,   7.5736,2,    25.00
  29HE20130320,   A17,     6,  1,     16,2,20130325,0706,-47.7050, -54.3820, 5928,    708.1,   2.9293,  34.3084,2,    208.3,2,    207.5,2,    44.88,2,    32.91,2,     2.24,2,   -999.0,9,   7.5859,2,    25.00
  29HE20130320,   A17,     6,  1,     17,2,20130325,0706,-47.7050, -54.3820, 5928,    607.5,   2.9871,  34.2472,2,    223.8,2,    224.6,2,    37.12,2,    32.31,2,     2.15,2,   -999.0,9,   7.6021,2,    25.00
  29HE20130320,   A17,     6,  1,     18,2,20130325,0706,-47.7050, -54.3820, 5928,    507.8,   3.0121,  34.1628,2,    248.8,2,    248.0,2,    28.66,2,    30.34,2,     2.01,2,   -999.0,9,   7.6292,2,    25.00
  29HE20130320,   A17,     6,  1,     19,2,20130325,0706,-47.7050, -54.3820, 5928,    402.6,   3.4160,  34.1420,2,    258.5,2,    258.8,2,    22.84,2,    29.02,2,     1.92,2,   -999.0,9,   7.6485,2,    25.00
  29HE20130320,   A17,     6,  1,     20,2,20130325,0706,-47.7050, -54.3820, 5928,    303.2,   3.5157,  34.0803,2,    281.9,2,    281.3,2,    15.85,2,    27.28,2,     1.78,2,   -999.0,9,   7.6761,2,    25.00
  29HE20130320,   A17,     6,  1,     21,2,20130325,0706,-47.7050, -54.3820, 5928,    202.6,   3.8874,  34.0749,2,    292.7,2,    292.5,2,    11.23,2,    25.47,2,     1.64,2,   -999.0,9,   7.6969,2,    25.00
  29HE20130320,   A17,     6,  1,     22,2,20130325,0706,-47.7050, -54.3820, 5928,    102.3,   5.2806,  34.0592,2,    289.8,2,    288.7,2,     5.94,2,    23.35,2,     1.45,2,   -999.0,9,   7.7193,2,    25.00
  29HE20130320,   A17,     6,  1,     23,2,20130325,0706,-47.7050, -54.3820, 5928,     36.2,  12.2670,  34.2661,2,    266.0,2,    266.4,2,     0.95,2,     6.34,2,     0.50,2,   -999.0,9,-999.0000,9,  -999.00
  29HE20130320,   A17,     6,  1,     24,2,20130325,0706,-47.7050, -54.3820, 5928,      6.1,  12.2737,  34.2663,2,    266.1,2,    266.5,2,     0.98,2,     6.43,2,     0.50,2,   -999.0,9,   7.9211,2,    25.00
  29HE20130320,   A17,     7,  1,      1,2,20130325,1811,-47.1050, -53.8640, 6166,   6146.4,   0.4053,  34.6708,2,    223.5,2,    224.7,2,   128.79,2,    32.20,2,     2.24,2,   2366.3,2,   7.6041,2,    25.00
  29HE20130320,   A17,     7,  1,      2,2,20130325,1811,-47.1050, -53.8640, 6166,   5617.7,   0.3999,  34.6739,2,    223.1,2,    224.6,2,   127.03,2,    32.19,2,     2.26,2,   2365.6,2,   7.6047,2,    25.00
  29HE20130320,   A17,     7,  1,      3,2,20130325,1811,-47.1050, -53.8640, 6166,   5099.4,   0.4553,  34.6788,2,    221.0,2,    220.2,2,   126.63,2,    32.11,2,     2.26,2,   2363.7,2,   7.6049,2,    25.00
  29HE20130320,   A17,     7,  1,      4,2,20130325,1811,-47.1050, -53.8640, 6166,   4584.2,   0.6082,  34.6862,2,    217.3,2,    218.9,2,   123.93,2,    31.96,2,     2.23,2,   2361.1,2,   7.6018,2,    25.00
  29HE20130320,   A17,     7,  1,      5,2,20130325,1811,-47.1050, -53.8640, 6166,   4071.2,   0.9667,  34.7053,2,    209.3,2,    212.4,2,   116.42,2,    31.45,2,     2.19,2,   2359.5,2,   7.6057,2,    25.00
  29HE20130320,   A17,     7,  1,      6,2,20130325,1811,-47.1050, -53.8640, 6166,   3558.4,   1.1105,  34.7133,2,    205.6,2,    205.9,2,   113.82,2,    31.23,2,     2.18,2,   2360.3,2,   7.6080,2,    25.00
  29HE20130320,   A17,     7,  1,      7,2,20130325,1811,-47.1050, -53.8640, 6166,   3046.0,   1.2688,  34.7221,2,    202.3,2,    203.1,2,   110.14,2,    31.19,2,     2.13,2,   2360.5,2,   7.6045,2,    25.00
  29HE20130320,   A17,     7,  1,      8,2,20130325,1811,-47.1050, -53.8640, 6166,   2540.6,   2.1218,  34.7926,2,    210.1,2,    212.2,2,    76.31,2,    27.52,2,     1.84,2,   2348.5,2,   7.6488,2,    25.00
  29HE20130320,   A17,     7,  1,      9,2,20130325,1811,-47.1050, -53.8640, 6166,   2027.9,   2.6371,  34.7900,2,    203.7,2,    206.8,2,    64.65,2,    27.78,2,     1.85,2,   2341.9,2,   7.6389,2,    25.00
  29HE20130320,   A17,     7,  1,     10,2,20130325,1811,-47.1050, -53.8640, 6166,   1825.1,   2.7993,  34.7690,2,    198.7,2,    199.8,2,    61.63,2,    28.20,2,     1.89,2,   2339.1,2,   7.6340,2,    25.00
  29HE20130320,   A17,     7,  1,     11,2,20130325,1811,-47.1050, -53.8640, 6166,   1620.4,   2.7333,  34.6985,2,    185.1,2,    186.9,2,    67.52,2,    30.56,2,     2.09,2,   2340.1,2,   7.6022,2,    25.00
  29HE20130320,   A17,     7,  1,     12,2,20130325,1811,-47.1050, -53.8640, 6166,   1417.9,   2.7295,  34.6251,2,    177.7,2,    180.4,2,    68.92,2,    31.96,2,     2.20,2,   2335.5,2,   7.5830,2,    25.00
  29HE20130320,   A17,     7,  1,     13,2,20130325,1811,-47.1050, -53.8640, 6166,   1215.2,   2.8133,  34.5552,2,    178.6,2,    179.6,2,    63.60,2,    33.10,2,     2.26,2,   2329.8,2,   7.5768,2,    25.00
  29HE20130320,   A17,     7,  1,     14,2,20130325,1811,-47.1050, -53.8640, 6166,   1010.6,   2.8344,  34.4363,2,    184.2,2,    186.5,2,    59.33,2,    33.92,2,     2.33,2,   2321.9,2,   7.5718,2,    25.00
  29HE20130320,   A17,     7,  1,     15,2,20130325,1811,-47.1050, -53.8640, 6166,    809.2,   3.0303,  34.3279,2,    205.2,2,    207.5,2,    46.04,2,    32.73,2,     2.26,2,   2311.9,2,   7.5886,2,    25.00
  29HE20130320,   A17,     7,  1,     16,2,20130325,1811,-47.1050, -53.8640, 6166,    709.6,   2.9491,  34.2423,2,    226.2,2,    225.7,2,    37.44,2,    31.83,2,     2.19,2,   2302.5,2,   7.5981,2,    25.00
  29HE20130320,   A17,     7,  1,     17,2,20130325,1811,-47.1050, -53.8640, 6166,    607.8,   3.2031,  34.1862,2,    243.6,2,    243.3,2,    29.87,2,    30.38,2,     2.07,2,   2295.1,2,   7.6258,2,    25.00
  29HE20130320,   A17,     7,  1,     18,2,20130325,1811,-47.1050, -53.8640, 6166,    507.1,   3.4260,  34.1486,2,    258.4,2,    258.2,2,    23.06,2,    28.97,2,     1.95,2,   2287.6,2,   7.6534,2,    25.00
  29HE20130320,   A17,     7,  1,     19,2,20130325,1811,-47.1050, -53.8640, 6166,    402.7,   3.8446,  34.1281,2,    271.3,2,    267.9,2,    17.00,2,    27.03,2,     1.80,2,   2282.4,2,   7.6732,2,    25.00
  29HE20130320,   A17,     7,  1,     20,2,20130325,1811,-47.1050, -53.8640, 6166,    303.7,   4.1557,  34.1140,2,    282.0,2,    280.6,2,    12.50,2,    25.45,2,     1.69,2,   2279.0,2,   7.6887,2,    25.00
  29HE20130320,   A17,     7,  1,     21,2,20130325,1811,-47.1050, -53.8640, 6166,    203.9,   4.7114,  34.1359,2,    277.8,2,    276.0,2,     9.75,2,    24.66,2,     1.61,2,   2277.7,2,   7.7034,2,    25.00
  29HE20130320,   A17,     7,  1,     22,2,20130325,1811,-47.1050, -53.8640, 6166,    102.1,   8.0073,  34.4223,2,    256.1,2,    256.2,2,     4.64,2,    18.60,2,     1.17,2,   2289.0,2,   7.7585,2,    25.00
  29HE20130320,   A17,     7,  1,     23,2,20130325,1811,-47.1050, -53.8640, 6166,     50.8,  13.0467,  34.4640,2,    262.5,2,    262.5,2,     0.78,2,     4.12,2,     0.38,2,   2300.4,2,   7.9380,2,    25.00
  29HE20130320,   A17,     7,  1,     24,2,20130325,1811,-47.1050, -53.8640, 6166,      6.3,  13.0213,  34.4279,2,    263.3,2,    263.5,2,     0.89,2,     4.43,2,     0.29,2,   2297.9,2,   7.9449,2,    25.00
  29HE20130320,   A17,     8,  1,      1,2,20130326,0349,-46.5060, -53.3340, 6176,   6155.6,   0.3980,  34.6704,2,    222.7,2,    222.5,2,   130.06,2,    33.02,2,     2.29,2,   -999.0,9,   7.6015,2,    25.00
  29HE20130320,   A17,     8,  1,      2,2,20130326,0349,-46.5060, -53.3340, 6176,   5618.0,   0.3621,  34.6723,2,    223.7,2,    222.5,2,   129.52,2,    32.82,2,     2.28,2,   -999.0,9,   7.5986,2,    25.00
  29HE20130320,   A17,     8,  1,      3,2,20130326,0349,-46.5060, -53.3340, 6176,   5100.2,   0.3764,  34.6758,2,    222.5,2,    218.6,2,   126.70,2,    32.62,2,     2.26,2,   -999.0,9,   7.6055,2,    25.00
  29HE20130320,   A17,     8,  1,      4,2,20130326,0349,-46.5060, -53.3340, 6176,   4585.3,   0.5122,  34.6835,2,    218.7,2,    217.0,2,   126.25,2,    32.67,2,     2.27,2,   -999.0,9,   7.6083,2,    25.00
  29HE20130320,   A17,     8,  1,      5,2,20130326,0349,-46.5060, -53.3340, 6176,   4068.1,   0.8609,  34.7019,2,    211.4,2,    210.8,2,   119.71,2,    32.16,2,     2.20,2,   -999.0,9,   7.6037,2,    25.00
  29HE20130320,   A17,     8,  1,      6,2,20130326,0349,-46.5060, -53.3340, 6176,   3558.9,   1.2539,  34.7215,2,    204.0,2,    204.3,2,   111.76,2,    31.48,2,     2.13,2,   -999.0,9,   7.6097,2,    25.00
  29HE20130320,   A17,     8,  1,      7,2,20130326,0349,-46.5060, -53.3340, 6176,   3046.7,   1.7306,  34.7500,2,    201.4,2,    201.1,2,    95.69,2,    30.26,2,     2.06,2,   -999.0,9,   7.6188,2,    25.00
  29HE20130320,   A17,     8,  1,      8,2,20130326,0349,-46.5060, -53.3340, 6176,   2534.7,   2.2081,  34.7676,2,    199.1,2,    199.0,2,    81.03,2,    29.42,2,     2.00,2,   -999.0,9,   7.6284,2,    25.00
  29HE20130320,   A17,     8,  1,      9,2,20130326,0349,-46.5060, -53.3340, 6176,   2026.2,   2.6315,  34.7433,2,    192.0,2,    191.4,2,    69.82,2,    29.78,2,     2.03,2,   -999.0,9,   7.6199,2,    25.00
  29HE20130320,   A17,     8,  1,     10,2,20130326,0349,-46.5060, -53.3340, 6176,   1821.9,   2.7398,  34.7117,2,    187.0,2,    186.6,2,    68.38,2,    30.56,2,     2.08,2,   -999.0,9,   7.6063,2,    25.00
  29HE20130320,   A17,     8,  1,     11,2,20130326,0349,-46.5060, -53.3340, 6176,   1619.0,   2.8014,  34.6598,2,    181.8,2,    181.2,2,    66.15,2,    31.67,2,     2.15,2,   -999.0,9,   7.5925,2,    25.00
  29HE20130320,   A17,     8,  1,     12,2,20130326,0349,-46.5060, -53.3340, 6176,   1417.4,   2.8044,  34.5876,2,    178.4,2,    177.7,2,    66.10,2,    33.03,2,     2.28,2,   -999.0,9,   7.5793,2,    25.00
  29HE20130320,   A17,     8,  1,     13,2,20130326,0349,-46.5060, -53.3340, 6176,   1216.6,   2.9361,  34.4965,2,    183.3,2,    182.9,2,    57.63,2,    33.31,2,     2.31,2,   -999.0,9,   7.5768,2,    25.00
  29HE20130320,   A17,     8,  1,     14,2,20130326,0349,-46.5060, -53.3340, 6176,   1010.6,   2.9400,  34.3721,2,    195.1,2,    194.2,2,    52.20,2,    33.81,2,     2.32,2,   -999.0,9,   7.5732,2,    25.00
  29HE20130320,   A17,     8,  1,     15,2,20130326,0349,-46.5060, -53.3340, 6176,    809.0,   3.1303,  34.2452,2,    226.2,2,    225.0,2,    36.01,2,    31.77,2,     2.17,2,   -999.0,9,   7.6059,2,    25.00
  29HE20130320,   A17,     8,  1,     16,2,20130326,0349,-46.5060, -53.3340, 6176,    708.4,   3.3829,  34.2173,2,    236.2,2,    235.2,2,    29.77,2,    30.44,2,     2.04,2,   -999.0,9,   7.6190,2,    25.00
  29HE20130320,   A17,     8,  1,     17,2,20130326,0349,-46.5060, -53.3340, 6176,    606.9,   3.4794,  34.1536,2,    256.9,2,    256.6,2,    23.04,2,    29.04,2,     1.96,2,   -999.0,9,   7.6370,2,    25.00
  29HE20130320,   A17,     8,  1,     18,2,20130326,0349,-46.5060, -53.3340, 6176,    503.4,   3.9114,  34.1433,2,    266.5,2,    264.7,2,    17.57,2,    27.48,2,     1.81,2,   -999.0,9,   7.6646,2,    25.00
  29HE20130320,   A17,     8,  1,     19,2,20130326,0349,-46.5060, -53.3340, 6176,    404.3,   4.2901,  34.1302,2,    277.5,2,   -999.0,9,  -999.00,9,  -999.00,9,  -999.00,9,   -999.0,9,-999.0000,9,  -999.00
  29HE20130320,   A17,     8,  1,     20,2,20130326,0349,-46.5060, -53.3340, 6176,    303.3,   4.5013,  34.1178,2,    283.3,2,    281.1,2,    10.25,2,    24.69,2,     1.61,2,   -999.0,9,   7.7039,2,    25.00
  29HE20130320,   A17,     8,  1,     21,2,20130326,0349,-46.5060, -53.3340, 6176,    202.3,   5.4276,  34.1885,2,    266.6,2,    265.8,2,     8.93,2,    24.08,2,     1.50,2,   -999.0,9,   7.7043,2,    25.00
  29HE20130320,   A17,     8,  1,     22,2,20130326,0349,-46.5060, -53.3340, 6176,    101.8,   8.9132,  34.5516,2,    237.5,2,    235.8,2,     4.85,2,    17.26,2,     0.99,2,   -999.0,9,   7.7642,2,    25.00
  29HE20130320,   A17,     8,  1,     23,2,20130326,0349,-46.5060, -53.3340, 6176,     50.0,  13.3191,  34.4563,2,    258.6,2,    257.8,2,     0.82,2,     4.00,2,     0.27,2,   -999.0,9,   7.9198,2,    25.00
  29HE20130320,   A17,     8,  1,     24,2,20130326,0349,-46.5060, -53.3340, 6176,      5.0,  13.3489,  34.4278,2,    262.5,2,    261.1,2,     0.59,2,     3.05,2,     0.09,2,   -999.0,9,   7.9395,2,    25.00