BOTTLE,20230216CCHSIOENA
EXPOCODE,SECT_ID,STNNBR,CASTNO,BTLNBR,BTLNBR_FLAG_W,DATE,TIME,LATITUDE,LONGITUDE,DEPTH,CTDPRS,CTDTMP,CTDSAL,CTDSAL_FLAG_W,CTDOXY,CTDOXY_FLAG_W,OXYGEN,OXYGEN_FLAG_W,SILCAT,SILCAT_FLAG_W,NITRAT,NITRAT_FLAG_W,PHSPHT,PHSPHT_FLAG_W,ALKALI,ALKALI_FLAG_W,PH_TOT,PH_TOT_FLAG_W,PH_TMP
,,,,,,,,,,METERS,DBAR,ITS-90,PSS-78,,UMOL/KG,,UMOL/KG,,UMOL/KG,,UMOL/KG,,UMOL/KG,,UMOL/KG,,,,DEG C
  29HE20130320,   A17,    53,  2,      1,2,20130413,1218,-17.8320, -31.6340, 4676,   3043.9,   2.7931,  34.9174,2,    252.0,2,    251.8,2,    32.53,2,    20.46,2,     1.29,2,   -999.0,9,   7.7304,2,    25.00
  29HE20130320,   A17,    53,  2,      2,2,20130413,1218,-17.8320, -31.6340, 4676,   2784.6,   2.8866,  34.9218,2,    251.4,2,    250.6,2,    30.99,2,    20.47,2,     1.29,2,   -999.0,9,   7.7259,2,    25.00
  29HE20130320,   A17,    53,  2,      3,2,20130413,1218,-17.8320, -31.6340, 4676,   2529.1,   3.0057,  34.9251,2,    249.9,2,   -999.0,9,  -999.00,9,  -999.00,9,  -999.00,9,   -999.0,9,-999.0000,9,  -999.00
  29HE20130320,   A17,    53,  2,      4,2,20130413,1218,-17.8320, -31.6340, 4676,   2275.1,   3.1718,  34.9339,2,    250.6,2,    250.0,2,    27.50,2,    20.33,2,     1.27,2,   2332.8,2,   7.7278,2,    25.00
  29HE20130320,   A17,    53,  2,      5,2,20130413,1218,-17.8320, -31.6340, 4676,   2022.2,   3.3791,  34.9332,2,    245.8,2,    245.3,2,    26.15,2,    20.68,2,     1.30,2,   2321.8,2,   7.7229,2,    25.00
  29HE20130320,   A17,    53,  2,      6,2,20130413,1218,-17.8320, -31.6340, 4676,   1818.6,   3.7072,  34.9446,2,    242.6,2,    241.7,2,    22.60,2,    20.54,2,     1.29,2,   2319.0,2,   7.7175,2,    25.00
  29HE20130320,   A17,    53,  2,      7,2,20130413,1218,-17.8320, -31.6340, 4676,   1614.8,   3.8734,  34.9035,2,    225.2,2,    224.5,2,    25.30,2,    22.91,2,     1.49,2,   2319.3,2,   7.6974,2,    25.00
  29HE20130320,   A17,    53,  2,      8,2,20130413,1218,-17.8320, -31.6340, 4676,   1413.0,   4.0979,  34.8398,2,    205.7,2,    205.0,2,    27.18,2,    25.44,2,     1.66,2,   2318.5,2,   7.6657,2,    25.00
  29HE20130320,   A17,    53,  2,      9,2,20130413,1218,-17.8320, -31.6340, 4676,   1211.0,   3.9831,  34.6929,2,    186.0,2,    185.6,2,    32.64,2,    29.89,2,     1.97,2,   2314.7,2,   7.6214,2,    25.00
  29HE20130320,   A17,    53,  2,     10,2,20130413,1218,-17.8320, -31.6340, 4676,   1008.7,   3.7365,  34.5152,2,    183.2,2,   -999.0,9,  -999.00,9,  -999.00,9,  -999.00,9,   -999.0,9,-999.0000,9,  -999.00
  29HE20130320,   A17,    53,  2,     11,2,20130413,1218,-17.8320, -31.6340, 4676,   1009.1,   3.7369,  34.5150,2,    183.2,2,    183.4,2,    39.56,2,    31.77,2,     2.18,2,   2310.1,2,   7.5990,2,    25.00
  29HE20130320,   A17,    53,  2,     12,2,20130413,1218,-17.8320, -31.6340, 4676,    807.5,   4.2669,  34.4115,2,    182.3,2,    183.5,2,    33.07,2,    32.07,2,     2.18,2,   2300.7,2,   7.5940,2,    25.00
  29HE20130320,   A17,    53,  2,     13,2,20130413,1218,-17.8320, -31.6340, 4676,    807.2,   4.2675,  34.4116,2,    181.2,2,   -999.0,9,  -999.00,9,  -999.00,9,  -999.00,9,   -999.0,9,-999.0000,9,  -999.00
  29HE20130320,   A17,    53,  2,     14,2,20130413,1218,-17.8320, -31.6340, 4676,    605.3,   6.0149,  34.4491,2,    183.5,2,    183.3,2,    20.92,2,    29.58,2,     1.90,2,   2294.4,2,   7.6235,2,    25.00
  29HE20130320,   A17,    53,  2,     15,2,20130413,1218,-17.8320, -31.6340, 4676,    503.4,   8.1906,  34.6459,2,    160.0,2,    160.4,2,    14.80,2,    26.10,2,     1.66,2,   2296.4,2,   7.6414,2,    25.00
  29HE20130320,   A17,    53,  2,     16,2,20130413,1218,-17.8320, -31.6340, 4676,    403.0,  11.0667,  34.9442,2,    164.5,2,    166.9,2,     8.18,2,    19.06,2,     1.10,2,   2305.4,2,   7.7190,2,    25.00
  29HE20130320,   A17,    53,  2,     17,2,20130413,1218,-17.8320, -31.6340, 4676,    302.1,  14.2922,  35.3634,2,    188.0,2,    188.8,2,     3.92,2,     9.91,2,     0.58,2,   2325.2,2,   7.8314,2,    25.00
  29HE20130320,   A17,    53,  2,     18,2,20130413,1218,-17.8320, -31.6340, 4676,    301.9,  14.2692,  35.3595,2,    187.9,2,   -999.0,9,  -999.00,9,  -999.00,9,  -999.00,9,   -999.0,9,-999.0000,9,  -999.00
  29HE20130320,   A17,    53,  2,     19,2,20130413,1218,-17.8320, -31.6340, 4676,    202.7,  20.2427,  36.4903,2,    198.6,2,    198.1,2,     1.63,2,     1.86,2,     0.05,2,   2391.8,2,   7.9569,2,    25.00
  29HE20130320,   A17,    53,  2,     20,2,20130413,1218,-17.8320, -31.6340, 4676,    145.6,  22.5085,  36.9766,2,    210.7,2,    209.5,2,     1.13,2,     0.01,2,    -0.01,2,   2428.6,2,   8.0149,2,    25.00
  29HE20130320,   A17,    53,  2,     21,2,20130413,1218,-17.8320, -31.6340, 4676,    101.3,  23.7208,  37.1245,2,    221.7,2,    220.5,2,     1.09,2,     0.01,2,     0.00,2,   2437.7,2,   8.0395,2,    25.00
  29HE20130320,   A17,    53,  2,     22,2,20130413,1218,-17.8320, -31.6340, 4676,     51.6,  27.2361,  37.5118,2,    203.8,2,    204.4,2,     0.95,2,     0.01,2,    -0.02,2,   2462.3,2,   8.0638,2,    25.00
  29HE20130320,   A17,    53,  2,     23,2,20130413,1218,-17.8320, -31.6340, 4676,      5.8,  27.8171,  37.5565,2,    199.0,2,   -999.0,9,  -999.00,9,  -999.00,9,  -999.00,9,   -999.0,9,-999.0000,9,  -999.00
  29HE20130320,   A17,    53,  2,     24,2,20130413,1218,-17.8320, -31.6340, 4676,      5.9,  27.8211,  37.5565,2,    199.1,2,    199.1,2,     0.91,2,    -0.01,2,    -0.01,2,   2465.9,2,   8.0598,2,    25.00
  29HE20130320,   A17,    54,  1,      1,2,20130413,2049,-17.4020, -30.7690, 4877,   4937.2,   0.4447,  34.6821,2,    219.7,2,    220.6,2,   125.49,2,    32.76,2,     2.23,2,   -999.0,9,   7.6080,2,    25.00
  29HE20130320,   A17,    54,  1,      2,2,20130413,2049,-17.4020, -30.7690, 4877,   4574.8,   1.1158,  34.7517,2,    229.1,2,    229.5,2,    97.24,2,    29.17,2,     1.96,2,   -999.0,9,   7.6498,2,    25.00
  29HE20130320,   A17,    54,  1,      3,2,20130413,2049,-17.4020, -30.7690, 4877,   4064.5,   1.9006,  34.8380,2,    244.2,2,    243.6,2,    62.27,2,    24.42,2,     1.55,2,   -999.0,9,   7.7008,2,    25.00
  29HE20130320,   A17,    54,  1,      4,2,20130413,2049,-17.4020, -30.7690, 4877,   3548.9,   2.4889,  34.8983,2,    253.5,2,    252.7,2,    37.53,2,    21.11,2,     1.34,2,   -999.0,9,   7.7277,2,    25.00
  29HE20130320,   A17,    54,  1,      5,2,20130413,2049,-17.4020, -30.7690, 4877,   3041.4,   2.6821,  34.9077,2,    248.8,2,    248.6,2,    35.89,2,    21.13,2,     1.34,2,   -999.0,9,   7.7270,2,    25.00
  29HE20130320,   A17,    54,  1,      6,2,20130413,2049,-17.4020, -30.7690, 4877,   2785.3,   2.7605,  34.9115,2,    247.8,2,    247.5,2,    34.63,2,    21.39,2,     1.34,2,   -999.0,9,   7.7261,2,    25.00
  29HE20130320,   A17,    54,  1,      7,2,20130413,2049,-17.4020, -30.7690, 4877,   2529.9,   2.8749,  34.9182,2,    248.0,2,    248.0,2,    31.89,2,    20.77,2,     1.34,2,   -999.0,9,   7.7262,2,    25.00
  29HE20130320,   A17,    54,  1,      8,2,20130413,2049,-17.4020, -30.7690, 4877,   2276.5,   3.0279,  34.9234,2,    247.2,2,    247.1,2,    30.17,2,    20.61,2,     1.31,2,   -999.0,9,   7.7274,2,    25.00
  29HE20130320,   A17,    54,  1,      9,2,20130413,2049,-17.4020, -30.7690, 4877,   2022.9,   3.1849,  34.9235,2,    244.4,2,    244.4,2,    28.81,2,    21.07,2,     1.31,2,   -999.0,9,   7.7295,2,    25.00
  29HE20130320,   A17,    54,  1,     10,2,20130413,2049,-17.4020, -30.7690, 4877,   1818.8,   3.4104,  34.9229,2,    240.0,2,    240.0,2,    26.99,2,    21.86,2,     1.41,2,   -999.0,9,   7.7180,2,    25.00
  29HE20130320,   A17,    54,  1,     11,2,20130413,2049,-17.4020, -30.7690, 4877,   1617.1,   3.5906,  34.8865,2,    226.1,2,    225.9,2,    28.23,2,    23.15,2,     1.51,2,   -999.0,9,   7.6970,2,    25.00
  29HE20130320,   A17,    54,  1,     12,2,20130413,2049,-17.4020, -30.7690, 4877,   1413.3,   3.9630,  34.8414,2,    208.5,2,    208.9,2,    27.71,2,    25.53,2,     1.66,2,   -999.0,9,   7.6696,2,    25.00
  29HE20130320,   A17,    54,  1,     13,2,20130413,2049,-17.4020, -30.7690, 4877,   1211.1,   3.9715,  34.7009,2,    187.6,2,    187.3,2,    32.12,2,    29.30,2,     1.99,2,   -999.0,9,   7.6251,2,    25.00
  29HE20130320,   A17,    54,  1,     14,2,20130413,2049,-17.4020, -30.7690, 4877,   1010.9,   3.7760,  34.5051,2,    181.8,2,    182.2,2,    38.27,2,    33.05,2,     2.23,2,   -999.0,9,   7.5962,2,    25.00
  29HE20130320,   A17,    54,  1,     15,2,20130413,2049,-17.4020, -30.7690, 4877,    807.2,   4.2182,  34.4019,2,    185.9,2,    186.2,2,    32.83,2,    32.60,2,     2.20,2,   -999.0,9,   7.5981,2,    25.00
  29HE20130320,   A17,    54,  1,     16,2,20130413,2049,-17.4020, -30.7690, 4877,    707.5,   4.8664,  34.4082,2,    179.9,2,    180.5,2,    28.46,2,    31.86,2,     2.15,2,   -999.0,9,   7.5992,2,    25.00
  29HE20130320,   A17,    54,  1,     17,2,20130413,2049,-17.4020, -30.7690, 4877,    606.3,   6.0854,  34.4668,2,    173.2,2,    173.9,2,    21.37,2,    30.19,2,     1.99,2,   -999.0,9,   7.6135,2,    25.00
  29HE20130320,   A17,    54,  1,     18,2,20130413,2049,-17.4020, -30.7690, 4877,    505.5,   8.1379,  34.6301,2,    171.1,2,    169.9,2,    14.02,2,    25.12,2,     1.63,2,   -999.0,9,   7.6549,2,    25.00
  29HE20130320,   A17,    54,  1,     19,2,20130413,2049,-17.4020, -30.7690, 4877,    402.5,  10.9916,  34.9247,2,    176.2,2,    174.5,2,     7.92,2,    18.09,2,     1.12,2,   -999.0,9,   7.7320,2,    25.00
  29HE20130320,   A17,    54,  1,     20,2,20130413,2049,-17.4020, -30.7690, 4877,    302.7,  14.5232,  35.3918,2,    193.3,2,    192.7,2,     3.54,2,     8.70,2,     0.55,2,   -999.0,9,   7.8462,2,    25.00
  29HE20130320,   A17,    54,  1,     21,2,20130413,2049,-17.4020, -30.7690, 4877,    202.1,  20.9286,  36.6397,2,    198.5,2,    198.1,2,     1.52,2,     1.42,2,     0.08,2,   -999.0,9,   7.9657,2,    25.00
  29HE20130320,   A17,    54,  1,     22,2,20130413,2049,-17.4020, -30.7690, 4877,    102.5,  23.5880,  37.0945,2,    220.0,2,    219.3,2,     1.12,2,    -0.02,2,     0.03,2,   -999.0,9,   8.0385,2,    25.00
  29HE20130320,   A17,    54,  1,     23,2,20130413,2049,-17.4020, -30.7690, 4877,     51.6,  27.0941,  37.4217,2,    205.3,2,    208.6,2,     1.02,2,    -0.01,2,     0.03,2,   -999.0,9,   8.0565,2,    25.00
  29HE20130320,   A17,    54,  1,     24,2,20130413,2049,-17.4020, -30.7690, 4877,      7.2,  27.8408,  37.4825,2,    198.7,2,    199.1,2,     0.96,2,    -0.03,2,     0.04,2,   -999.0,9,   8.0597,2,    25.00
  29HE20130320,   A17,    55,  1,      1,2,20130414,0730,-16.2870, -30.7090, 4924,   4981.9,   0.4455,  34.6816,2,    220.5,2,    220.4,2,   125.96,2,    33.03,2,     2.25,2,   2367.8,2,   7.6102,2,    25.00
  29HE20130320,   A17,    55,  1,      2,2,20130414,0730,-16.2870, -30.7090, 4924,   4573.4,   1.1627,  34.7562,2,    229.7,2,    229.9,2,    96.07,2,    28.61,2,     1.92,2,   2362.6,2,   7.6579,2,    25.00
  29HE20130320,   A17,    55,  1,      3,2,20130414,0730,-16.2870, -30.7090, 4924,   4063.1,   2.0263,  34.8508,2,    246.6,2,    246.0,2,    57.20,2,    23.61,2,     1.53,2,   2344.9,2,   7.7106,2,    25.00
  29HE20130320,   A17,    55,  1,      4,2,20130414,0730,-16.2870, -30.7090, 4924,   3548.2,   2.5277,  34.9019,2,    254.0,2,    253.2,2,    36.05,2,    20.66,2,     1.29,2,   2332.1,2,   7.7327,2,    25.00
  29HE20130320,   A17,    55,  1,      5,2,20130414,0730,-16.2870, -30.7090, 4924,   3039.5,   2.6911,  34.9086,2,    248.9,2,    248.4,2,    35.45,2,    21.27,2,     1.34,2,   2331.3,2,   7.7295,2,    25.00
  29HE20130320,   A17,    55,  1,      6,2,20130414,0730,-16.2870, -30.7090, 4924,   2785.0,   2.7563,  34.9071,2,    245.9,2,    246.0,2,    35.52,2,    21.40,2,     1.36,2,   2332.2,2,   7.7253,2,    25.00
  29HE20130320,   A17,    55,  1,      7,2,20130414,0730,-16.2870, -30.7090, 4924,   2530.0,   2.8567,  34.9127,2,    246.3,2,    245.6,2,    33.97,2,    21.42,2,     1.37,2,   2330.6,2,   7.7268,2,    25.00
  29HE20130320,   A17,    55,  1,      8,2,20130414,0730,-16.2870, -30.7090, 4924,   2275.2,   3.0039,  34.9198,2,    246.4,2,    246.0,2,    31.67,2,    21.12,2,     1.31,2,   2328.8,2,   7.7261,2,    25.00
  29HE20130320,   A17,    55,  1,      9,2,20130414,0730,-16.2870, -30.7090, 4924,   2020.7,   3.1821,  34.9134,2,    240.3,2,    240.0,2,    30.60,2,    21.76,2,     1.38,2,   2327.6,2,   7.7183,2,    25.00
  29HE20130320,   A17,    55,  1,     10,2,20130414,0730,-16.2870, -30.7090, 4924,   1818.5,   3.4261,  34.9145,2,    236.5,2,    236.6,2,    27.74,2,    21.93,2,     1.40,2,   2320.5,2,   7.7129,2,    25.00
  29HE20130320,   A17,    55,  1,     11,2,20130414,0730,-16.2870, -30.7090, 4924,   1616.5,   3.8877,  34.9285,2,    231.0,2,    231.0,2,    22.66,2,    22.12,2,     1.44,2,   2321.2,2,   7.7060,2,    25.00
  29HE20130320,   A17,    55,  1,     12,2,20130414,0730,-16.2870, -30.7090, 4924,   1412.2,   4.1598,  34.8742,2,    209.8,2,    209.5,2,    24.77,2,    24.74,2,     1.64,2,   2319.7,2,   7.6724,2,    25.00
  29HE20130320,   A17,    55,  1,     13,2,20130414,0730,-16.2870, -30.7090, 4924,   1210.7,   4.0752,  34.7272,2,    187.0,2,    186.5,2,    31.53,2,    28.93,2,     1.94,2,   2314.7,2,   7.6267,2,    25.00
  29HE20130320,   A17,    55,  1,     14,2,20130414,0730,-16.2870, -30.7090, 4924,   1211.3,   4.0762,  34.7265,2,    186.5,2,   -999.0,9,    31.52,2,    28.99,2,     1.93,2,   -999.0,9,-999.0000,9,  -999.00
  29HE20130320,   A17,    55,  1,     15,2,20130414,0730,-16.2870, -30.7090, 4924,   1008.7,   3.7563,  34.5182,2,    183.0,2,    182.3,2,    38.62,2,    32.24,2,     2.16,2,   2310.5,2,   7.5976,2,    25.00
  29HE20130320,   A17,    55,  1,     16,2,20130414,0730,-16.2870, -30.7090, 4924,    804.8,   4.1361,  34.4030,2,    187.4,2,    187.6,2,    33.89,2,    32.33,2,     2.15,2,   2302.2,2,   7.5966,2,    25.00
  29HE20130320,   A17,    55,  1,     17,2,20130414,0730,-16.2870, -30.7090, 4924,    605.0,   5.7098,  34.4337,2,    183.2,2,    182.8,2,    22.39,2,    29.93,2,     1.95,2,   2292.7,2,   7.6188,2,    25.00
  29HE20130320,   A17,    55,  1,     18,2,20130414,0730,-16.2870, -30.7090, 4924,    504.3,   7.7474,  34.6116,2,    156.0,2,    157.0,2,    16.44,2,    27.94,2,     1.76,2,   2295.8,2,   7.6221,2,    25.00
  29HE20130320,   A17,    55,  1,     19,2,20130414,0730,-16.2870, -30.7090, 4924,    403.6,  10.3321,  34.8564,2,    168.3,2,    168.4,2,     9.41,2,    20.54,2,     1.20,2,   2301.6,2,   7.7017,2,    25.00
  29HE20130320,   A17,    55,  1,     20,2,20130414,0730,-16.2870, -30.7090, 4924,    302.5,  13.8714,  35.2964,2,    190.8,2,    189.8,2,     4.08,2,    10.29,2,     0.59,2,   2321.6,2,   7.8251,2,    25.00
  29HE20130320,   A17,    55,  1,     21,2,20130414,0730,-16.2870, -30.7090, 4924,    201.8,  19.1256,  36.2590,2,    191.8,2,    190.6,2,     1.94,2,     3.41,2,     0.13,2,   2378.8,2,   7.9311,2,    25.00
  29HE20130320,   A17,    55,  1,     22,2,20130414,0730,-16.2870, -30.7090, 4924,    129.3,  23.1737,  37.1117,2,    210.7,2,    208.5,2,     1.07,2,    -0.05,2,     0.00,2,   2434.2,2,   8.0212,2,    25.00
  29HE20130320,   A17,    55,  1,     23,2,20130414,0730,-16.2870, -30.7090, 4924,     51.6,  26.5609,  37.3685,2,    210.0,2,    210.1,2,     0.99,2,    -0.05,2,     0.00,2,   2449.2,2,   8.0625,2,    25.00
  29HE20130320,   A17,    55,  1,     24,2,20130414,0730,-16.2870, -30.7090, 4924,      6.5,  27.9108,  37.3858,2,    198.0,2,    197.9,2,     0.97,2,    -0.05,2,    -0.01,2,   2452.1,2,   8.0766,2,    25.00