BOTTLE,20230216CCHSIOENA
EXPOCODE,SECT_ID,STNNBR,CASTNO,BTLNBR,BTLNBR_FLAG_W,DATE,TIME,LATITUDE,LONGITUDE,DEPTH,CTDPRS,CTDTMP,CTDSAL,CTDSAL_FLAG_W,CTDOXY,CTDOXY_FLAG_W,OXYGEN,OXYGEN_FLAG_W,SILCAT,SILCAT_FLAG_W,NITRAT,NITRAT_FLAG_W,PHSPHT,PHSPHT_FLAG_W,ALKALI,ALKALI_FLAG_W,PH_TOT,PH_TOT_FLAG_W,PH_TMP
,,,,,,,,,,METERS,DBAR,ITS-90,PSS-78,,UMOL/KG,,UMOL/KG,,UMOL/KG,,UMOL/KG,,UMOL/KG,,UMOL/KG,,,,DEG C
  29HE20130320,   A17,    59,  1,      1,2,20130416,0608,-11.9030, -30.4730, 5441,   5521.0,   0.6010,  34.6899,2,    220.5,2,    221.8,2,   120.65,2,    32.10,2,     2.24,2,   2363.0,2,   7.6131,2,    25.00
  29HE20130320,   A17,    59,  1,      2,2,20130416,0608,-11.9030, -30.4730, 5441,   5521.0,   0.6010,  34.6899,2,    221.3,2,   -999.0,9,  -999.00,9,  -999.00,9,  -999.00,9,   -999.0,9,-999.0000,9,  -999.00
  29HE20130320,   A17,    59,  1,      3,2,20130416,0608,-11.9030, -30.4730, 5441,   5088.6,   0.6619,  34.7013,2,    222.1,2,    223.1,2,   116.49,2,    31.52,2,     2.20,2,   2363.0,2,   7.6226,2,    25.00
  29HE20130320,   A17,    59,  1,      4,2,20130416,0608,-11.9030, -30.4730, 5441,   4573.6,   1.0700,  34.7481,2,    228.9,2,    229.1,2,    98.37,2,    29.10,2,     2.00,2,   2354.5,2,   7.6536,2,    25.00
  29HE20130320,   A17,    59,  1,      5,2,20130416,0608,-11.9030, -30.4730, 5441,   4039.2,   1.8535,  34.8351,2,    244.2,2,    244.0,2,    63.75,2,    23.93,2,     1.60,2,   2340.2,2,   7.6970,2,    25.00
  29HE20130320,   A17,    59,  1,      6,2,20130416,0608,-11.9030, -30.4730, 5441,   3549.8,   2.4814,  34.9017,2,    255.8,2,    256.1,2,    35.41,2,    20.18,2,     1.31,2,   2328.2,2,   7.7333,2,    25.00
  29HE20130320,   A17,    59,  1,      7,2,20130416,0608,-11.9030, -30.4730, 5441,   3039.2,   2.6780,  34.9087,2,    248.7,2,    248.8,2,    35.68,2,    21.05,2,     1.38,2,   2327.5,2,   7.7286,2,    25.00
  29HE20130320,   A17,    59,  1,      8,2,20130416,0608,-11.9030, -30.4730, 5441,   3040.3,   2.6777,  34.9087,2,    247.8,2,   -999.0,9,  -999.00,9,  -999.00,9,  -999.00,9,   -999.0,9,-999.0000,9,  -999.00
  29HE20130320,   A17,    59,  1,      9,2,20130416,0608,-11.9030, -30.4730, 5441,   2529.8,   2.8984,  34.9169,2,    246.4,2,    246.4,2,    32.49,2,    21.04,2,     1.38,2,   2326.3,2,   7.7286,2,    25.00
  29HE20130320,   A17,    59,  1,     10,2,20130416,0608,-11.9030, -30.4730, 5441,   2273.6,   3.0531,  34.9235,2,    246.1,2,    246.1,2,    30.52,2,    20.86,2,     1.37,2,   2323.0,2,   7.7292,2,    25.00
  29HE20130320,   A17,    59,  1,     11,2,20130416,0608,-11.9030, -30.4730, 5441,   2020.2,   3.2488,  34.9264,2,    242.9,2,    242.9,2,    28.65,2,    21.14,2,     1.39,2,   2321.2,2,   7.7262,2,    25.00
  29HE20130320,   A17,    59,  1,     12,2,20130416,0608,-11.9030, -30.4730, 5441,   1819.3,   3.5965,  34.9402,2,    240.3,2,    240.5,2,    23.86,2,    21.04,2,     1.39,2,   2315.7,2,   7.7238,2,    25.00
  29HE20130320,   A17,    59,  1,     13,2,20130416,0608,-11.9030, -30.4730, 5441,   1618.5,   3.9384,  34.9382,2,    231.4,2,    231.5,2,    21.58,2,    21.57,2,     1.42,2,   2314.9,2,   7.7110,2,    25.00
  29HE20130320,   A17,    59,  1,     14,2,20130416,0608,-11.9030, -30.4730, 5441,   1413.2,   4.1526,  34.8709,2,    207.5,2,    207.5,2,    24.43,2,    24.95,2,     1.67,2,   2313.9,2,   7.6742,2,    25.00
  29HE20130320,   A17,    59,  1,     15,2,20130416,0608,-11.9030, -30.4730, 5441,   1211.6,   4.0651,  34.7179,2,    182.3,2,    182.1,2,    31.10,2,    29.60,2,     2.04,2,   2314.3,2,   7.6244,2,    25.00
  29HE20130320,   A17,    59,  1,     16,2,20130416,0608,-11.9030, -30.4730, 5441,   1008.5,   4.0761,  34.5363,2,    164.9,2,    164.8,2,    34.39,2,    33.55,2,     2.29,2,   2302.8,2,   7.5780,2,    25.00
  29HE20130320,   A17,    59,  1,     17,2,20130416,0608,-11.9030, -30.4730, 5441,    803.6,   4.5836,  34.4443,2,    163.1,2,    163.7,2,    31.36,2,    34.18,2,     2.32,2,   2296.8,2,   7.5733,2,    25.00
  29HE20130320,   A17,    59,  1,     18,2,20130416,0608,-11.9030, -30.4730, 5441,    604.6,   5.6489,  34.4794,2,    150.3,2,    150.3,2,    24.75,2,    33.48,2,     2.20,2,   2290.2,2,   7.5663,2,    25.00
  29HE20130320,   A17,    59,  1,     19,2,20130416,0608,-11.9030, -30.4730, 5441,    404.2,   8.1201,  34.6714,2,    140.5,2,    141.4,2,    15.47,2,    28.74,2,     1.82,2,   2294.6,2,   7.6082,2,    25.00
  29HE20130320,   A17,    59,  1,     20,2,20130416,0608,-11.9030, -30.4730, 5441,    303.5,  10.7112,  34.9808,2,    112.4,2,    112.4,2,    11.03,2,    26.20,2,     1.57,2,   2302.5,2,   7.6269,2,    25.00
  29HE20130320,   A17,    59,  1,     21,2,20130416,0608,-11.9030, -30.4730, 5441,    203.5,  15.4492,  35.6270,2,    145.5,2,    145.4,2,     4.68,2,    13.92,2,     0.82,2,   2336.2,2,   7.7962,2,    25.00
  29HE20130320,   A17,    59,  1,     22,2,20130416,0608,-11.9030, -30.4730, 5441,    132.1,  22.0905,  36.8488,2,    198.6,2,    194.6,2,     1.37,2,     1.19,2,     0.05,2,   2412.1,2,   7.9812,2,    25.00
  29HE20130320,   A17,    59,  1,     23,2,20130416,0608,-11.9030, -30.4730, 5441,     51.8,  27.2467,  37.2638,2,    205.5,2,    205.4,2,     0.95,2,     0.01,2,     0.01,2,   2440.0,2,   8.0727,2,    25.00
  29HE20130320,   A17,    59,  1,     24,2,20130416,0608,-11.9030, -30.4730, 5441,      6.5,  28.1677,  36.9931,2,    197.0,2,    196.4,2,     0.97,2,     0.01,2,     0.00,2,   2425.6,2,   8.0773,2,    25.00
  29HE20130320,   A17,    60,  1,      1,2,20130416,1929,-10.8050, -30.4270, 5336,   5420.2,   0.6041,  34.6914,2,    220.9,2,    222.0,2,   121.16,2,    31.86,2,     2.24,2,   -999.0,9,   7.6166,2,    25.00
  29HE20130320,   A17,    60,  1,      2,2,20130416,1929,-10.8050, -30.4270, 5336,   5084.2,   0.6868,  34.7041,2,    222.4,2,    223.6,2,   115.39,2,    31.10,2,     2.17,2,   -999.0,9,   7.6223,2,    25.00
  29HE20130320,   A17,    60,  1,      3,2,20130416,1929,-10.8050, -30.4270, 5336,   4574.6,   1.1123,  34.7511,2,    229.1,2,    229.7,2,    98.31,2,    28.84,2,     1.98,2,   -999.0,9,   7.6517,2,    25.00
  29HE20130320,   A17,    60,  1,      4,2,20130416,1929,-10.8050, -30.4270, 5336,   4062.0,   1.8470,  34.8339,2,    243.7,2,    244.4,2,    63.78,2,    24.17,2,     1.63,2,   -999.0,9,   7.7010,2,    25.00
  29HE20130320,   A17,    60,  1,      5,2,20130416,1929,-10.8050, -30.4270, 5336,   3548.7,   2.4801,  34.9008,2,    254.5,2,    255.1,2,    36.61,2,    20.61,2,     1.36,2,   -999.0,9,   7.7326,2,    25.00
  29HE20130320,   A17,    60,  1,      6,2,20130416,1929,-10.8050, -30.4270, 5336,   3039.1,   2.6976,  34.9115,2,    249.2,2,    248.8,2,    34.98,2,    20.83,2,     1.38,2,   -999.0,9,   7.7307,2,    25.00
  29HE20130320,   A17,    60,  1,      7,2,20130416,1929,-10.8050, -30.4270, 5336,   2528.6,   2.9337,  34.9247,2,    248.3,2,    249.0,2,    31.58,2,    20.83,2,     1.36,2,   -999.0,9,   7.7296,2,    25.00
  29HE20130320,   A17,    60,  1,      8,2,20130416,1929,-10.8050, -30.4270, 5336,   2275.9,   3.1294,  34.9388,2,    250.4,2,    251.2,2,    27.50,2,    20.07,2,     1.30,2,   -999.0,9,   7.7337,2,    25.00
  29HE20130320,   A17,    60,  1,      9,2,20130416,1929,-10.8050, -30.4270, 5336,   2022.8,   3.3921,  34.9523,2,    250.6,2,    251.2,2,    23.30,2,    19.92,2,     1.28,2,   -999.0,9,   7.7325,2,    25.00
  29HE20130320,   A17,    60,  1,     10,2,20130416,1929,-10.8050, -30.4270, 5336,   1818.2,   3.6495,  34.9602,2,    247.5,2,    248.5,2,    20.88,2,    19.86,2,     1.28,2,   -999.0,9,   7.7271,2,    25.00
  29HE20130320,   A17,    60,  1,     11,2,20130416,1929,-10.8050, -30.4270, 5336,   1615.2,   3.9377,  34.9433,2,    233.2,2,    233.9,2,    21.25,2,    21.51,2,     1.41,2,   -999.0,9,   7.7117,2,    25.00
  29HE20130320,   A17,    60,  1,     12,2,20130416,1929,-10.8050, -30.4270, 5336,   1414.0,   4.1164,  34.8739,2,    209.2,2,    209.8,2,    24.69,2,    24.57,2,     1.65,2,   -999.0,9,   7.6790,2,    25.00
  29HE20130320,   A17,    60,  1,     13,2,20130416,1929,-10.8050, -30.4270, 5336,   1209.9,   4.0190,  34.7064,2,    181.6,2,    181.7,2,    31.19,2,    29.97,2,     2.05,2,   -999.0,9,   7.6154,2,    25.00
  29HE20130320,   A17,    60,  1,     14,2,20130416,1929,-10.8050, -30.4270, 5336,   1009.1,   4.0747,  34.5394,2,    165.1,2,    165.3,2,    35.12,2,    33.75,2,     2.29,2,   -999.0,9,   7.5758,2,    25.00
  29HE20130320,   A17,    60,  1,     15,2,20130416,1929,-10.8050, -30.4270, 5336,    807.4,   4.7412,  34.4500,2,    158.5,2,    158.7,2,    30.94,2,    34.47,2,     2.34,2,   -999.0,9,   7.5642,2,    25.00
  29HE20130320,   A17,    60,  1,     16,2,20130416,1929,-10.8050, -30.4270, 5336,    705.0,   5.2848,  34.4662,2,    151.8,2,    151.8,2,    27.41,2,    34.07,2,     2.33,2,   -999.0,9,   7.5571,2,    25.00
  29HE20130320,   A17,    60,  1,     17,2,20130416,1929,-10.8050, -30.4270, 5336,    605.2,   5.9942,  34.5155,2,    135.2,2,    135.2,2,    24.11,2,    33.93,2,     2.29,2,   -999.0,9,   7.5456,2,    25.00
  29HE20130320,   A17,    60,  1,     18,2,20130416,1929,-10.8050, -30.4270, 5336,    502.5,   6.8795,  34.5841,2,    120.7,2,    120.7,2,    20.92,2,    33.79,2,     2.22,2,   -999.0,9,   7.5400,2,    25.00
  29HE20130320,   A17,    60,  1,     19,2,20130416,1929,-10.8050, -30.4270, 5336,    403.2,   8.1625,  34.7164,2,     97.8,2,     97.8,2,    17.51,2,    33.22,2,     2.13,2,   -999.0,9,   7.5286,2,    25.00
  29HE20130320,   A17,    60,  1,     20,2,20130416,1929,-10.8050, -30.4270, 5336,    302.7,  10.0054,  34.9232,2,     91.7,2,     92.7,2,    13.30,2,    29.48,2,     1.87,2,   -999.0,9,   7.5687,2,    25.00
  29HE20130320,   A17,    60,  1,     21,2,20130416,1929,-10.8050, -30.4270, 5336,    202.8,  15.1206,  35.5875,2,    140.1,2,    135.6,2,     5.59,2,    15.93,2,     0.98,2,   -999.0,9,   7.7498,2,    25.00
  29HE20130320,   A17,    60,  1,     22,2,20130416,1929,-10.8050, -30.4270, 5336,    100.7,  23.3088,  37.0903,2,    213.5,2,    213.7,2,     1.04,2,     0.01,2,     0.05,2,   -999.0,9,   8.0261,2,    25.00
  29HE20130320,   A17,    60,  1,     23,2,20130416,1929,-10.8050, -30.4270, 5336,     50.9,  26.3854,  37.1783,2,    216.3,2,    215.9,2,     1.00,2,    -0.02,2,     0.02,2,   -999.0,9,   8.0663,2,    25.00
  29HE20130320,   A17,    60,  1,     24,2,20130416,1929,-10.8050, -30.4270, 5336,      6.5,  28.3523,  36.9803,2,    197.3,2,    196.5,2,     1.00,2,    -0.05,2,     0.02,2,   -999.0,9,   8.0743,2,    25.00
  29HE20130320,   A17,    61,  1,      1,2,20130417,1010, -9.7020, -30.3670, 4289,   4267.9,   1.4648,  34.7916,2,    236.5,2,    236.3,2,    82.20,2,    27.41,2,     1.81,2,   2353.2,2,   7.6764,2,    25.00
  29HE20130320,   A17,    61,  1,      2,2,20130417,1010, -9.7020, -30.3670, 4289,   4267.4,   1.4649,  34.7917,2,    236.7,2,    236.1,2,  -999.00,9,  -999.00,9,  -999.00,9,   -999.0,9,-999.0000,9,  -999.00
  29HE20130320,   A17,    61,  1,      3,2,20130417,1010, -9.7020, -30.3670, 4289,   4061.3,   1.7265,  34.8213,2,    242.2,2,    242.1,2,    70.01,2,    25.17,2,     1.65,2,   2345.9,2,   7.6954,2,    25.00
  29HE20130320,   A17,    61,  1,      4,2,20130417,1010, -9.7020, -30.3670, 4289,   3547.3,   2.4955,  34.9017,2,    255.6,2,    254.6,2,    37.09,2,    20.38,2,     1.32,2,   2330.9,2,   7.7340,2,    25.00
  29HE20130320,   A17,    61,  1,      5,2,20130417,1010, -9.7020, -30.3670, 4289,   3039.5,   2.7023,  34.9113,2,    250.1,2,    249.2,2,    35.55,2,    21.03,2,     1.36,2,   2330.0,2,   7.7336,2,    25.00
  29HE20130320,   A17,    61,  1,      6,2,20130417,1010, -9.7020, -30.3670, 4289,   3037.9,   2.7020,  34.9114,2,    249.5,2,   -999.0,9,  -999.00,9,  -999.00,9,  -999.00,9,   -999.0,9,-999.0000,9,  -999.00
  29HE20130320,   A17,    61,  1,      7,2,20130417,1010, -9.7020, -30.3670, 4289,   2521.2,   2.9660,  34.9277,2,    250.9,2,    249.7,2,    30.70,2,    20.35,2,     1.30,2,   2326.7,2,   7.7308,2,    25.00
  29HE20130320,   A17,    61,  1,      8,2,20130417,1010, -9.7020, -30.3670, 4289,   2274.0,   3.1661,  34.9403,2,    251.9,2,    251.6,2,    26.82,2,    20.24,2,     1.28,2,   2323.2,2,   7.7272,2,    25.00
  29HE20130320,   A17,    61,  1,      9,2,20130417,1010, -9.7020, -30.3670, 4289,   2020.6,   3.4391,  34.9549,2,    252.2,2,    253.4,2,    22.68,2,    19.84,2,     1.25,2,   2320.0,2,   7.7357,2,    25.00
  29HE20130320,   A17,    61,  1,     10,2,20130417,1010, -9.7020, -30.3670, 4289,   1816.2,   3.6754,  34.9580,2,    246.0,2,    245.2,2,    21.77,2,    20.37,2,     1.29,2,   2316.2,2,   7.7267,2,    25.00
  29HE20130320,   A17,    61,  1,     11,2,20130417,1010, -9.7020, -30.3670, 4289,   1615.0,   4.0064,  34.9555,2,    235.9,2,    235.1,2,    20.72,2,    20.96,2,     1.37,2,   2315.5,2,   7.7156,2,    25.00
  29HE20130320,   A17,    61,  1,     12,2,20130417,1010, -9.7020, -30.3670, 4289,   1415.6,   4.2135,  34.9011,2,    213.0,2,    212.5,2,    23.59,2,    24.35,2,     1.60,2,   2314.3,2,   7.6813,2,    25.00
  29HE20130320,   A17,    61,  1,     13,2,20130417,1010, -9.7020, -30.3670, 4289,   1210.5,   4.2061,  34.7589,2,    184.1,2,    183.4,2,    30.15,2,    28.85,2,     1.95,2,   2313.5,2,   7.6252,2,    25.00
  29HE20130320,   A17,    61,  1,     14,2,20130417,1010, -9.7020, -30.3670, 4289,   1009.0,   4.1187,  34.5528,2,    164.5,2,   -999.0,9,  -999.00,9,  -999.00,9,  -999.00,9,   -999.0,9,-999.0000,9,  -999.00
  29HE20130320,   A17,    61,  1,     15,2,20130417,1010, -9.7020, -30.3670, 4289,   1008.7,   4.1172,  34.5534,2,    164.4,2,    164.4,2,    34.63,2,    33.38,2,     2.28,2,   2307.4,2,   7.5789,2,    25.00
  29HE20130320,   A17,    61,  1,     16,2,20130417,1010, -9.7020, -30.3670, 4289,    806.0,   4.5274,  34.4513,2,    162.0,2,    161.9,2,    31.42,2,    34.10,2,     2.32,2,   2301.5,2,   7.5679,2,    25.00
  29HE20130320,   A17,    61,  1,     17,2,20130417,1010, -9.7020, -30.3670, 4289,    604.5,   5.8721,  34.5043,2,    139.1,2,    140.0,2,    24.57,2,    34.03,2,     2.25,2,   2295.1,2,   7.5533,2,    25.00
  29HE20130320,   A17,    61,  1,     18,2,20130417,1010, -9.7020, -30.3670, 4289,    403.7,   7.9678,  34.6856,2,    111.6,2,    111.6,2,    17.54,2,    32.14,2,     2.04,2,   2296.0,2,   7.5529,2,    25.00
  29HE20130320,   A17,    61,  1,     19,2,20130417,1010, -9.7020, -30.3670, 4289,    301.2,  10.3306,  34.9471,2,    103.2,2,    103.2,2,    12.20,2,    27.62,2,     1.66,2,   2300.9,2,   7.6001,2,    25.00
  29HE20130320,   A17,    61,  1,     20,2,20130417,1010, -9.7020, -30.3670, 4289,    301.3,  10.3364,  34.9479,2,    102.9,2,   -999.0,9,  -999.00,9,  -999.00,9,  -999.00,9,   -999.0,9,-999.0000,9,  -999.00
  29HE20130320,   A17,    61,  1,     21,2,20130417,1010, -9.7020, -30.3670, 4289,    202.9,  15.5466,  35.6602,2,    141.3,2,    140.2,2,     4.98,2,    14.57,2,     0.78,2,   2336.0,2,   7.7770,2,    25.00
  29HE20130320,   A17,    61,  1,     22,2,20130417,1010, -9.7020, -30.3670, 4289,    131.6,  22.6350,  36.9462,2,    204.9,2,    203.2,2,     1.14,2,     0.17,2,     0.02,2,   2420.1,2,   8.0034,2,    25.00
  29HE20130320,   A17,    61,  1,     23,2,20130417,1010, -9.7020, -30.3670, 4289,     50.7,  28.1207,  36.9741,2,    199.2,2,    199.1,2,     0.99,2,     0.02,2,     0.01,2,   2420.3,2,   8.0709,2,    25.00
  29HE20130320,   A17,    61,  1,     24,2,20130417,1010, -9.7020, -30.3670, 4289,      6.9,  28.7151,  36.8889,2,    196.5,2,    196.3,2,     0.95,2,     0.01,2,     0.01,2,   2413.7,2,   8.0776,2,    25.00