BOTTLE,20230125CCHSIOENA
EXPOCODE,SECT_ID,STNNBR,CASTNO,BTLNBR,BTLNBR_FLAG_W,DATE,TIME,LATITUDE,LONGITUDE,DEPTH,CTDPRS,CTDTMP,CTDSAL,CTDSAL_FLAG_W,CTDOXY,CTDOXY_FLAG_W,OXYGEN,OXYGEN_FLAG_W,CFC-11,CFC-11_FLAG_W,CFC-12,CFC-12_FLAG_W,BTL_TIME
,,,,,,,,,,METERS,DBAR,ITS-90,PSS-78,,UMOL/KG,,UMOL/KG,,PMOL/KG,,PMOL/KG,,
  06M320100804,MT82.2,   556, 24,      1,2,20100812,1223, 47.2298, -38.2993, 4578,   4641.3,   2.2517,  34.8957,2,    283.8,2,    283.8,2, -999.000,9, -999.000,9,     1103
  06M320100804,MT82.2,   556, 24,      2,2,20100812,1223, 47.2298, -38.2993, 4578,   4199.9,   2.2788,  34.8962,2,    281.5,2,   -999.0,9,    2.423,3,    1.221,2,     1111
  06M320100804,MT82.2,   556, 24,      3,2,20100812,1223, 47.2298, -38.2993, 4578,   3921.6,   2.3884,  34.9006,2,    279.2,2,   -999.0,9,    2.173,3,    1.092,2,     1116
  06M320100804,MT82.2,   556, 24,      4,2,20100812,1223, 47.2298, -38.2993, 4578,   3600.6,   2.5998,  34.9105,2,    278.2,2,   -999.0,9,    2.279,3,    1.094,3,     1122
  06M320100804,MT82.2,   556, 24,      5,2,20100812,1223, 47.2298, -38.2993, 4578,   3299.2,   2.8637,  34.9182,2,    278.1,2,   -999.0,9,    2.353,3,    1.172,2,     1127
  06M320100804,MT82.2,   556, 24,      6,2,20100812,1223, 47.2298, -38.2993, 4578,   2997.9,   3.0365,  34.9169,2,    277.2,2,    277.0,2,    2.390,3,    1.201,2,     1133
  06M320100804,MT82.2,   556, 24,      7,2,20100812,1223, 47.2298, -38.2993, 4578,   2711.8,   3.2132,  34.9163,2,    277.0,2,   -999.0,9,    2.503,3,    1.254,2,     1138
  06M320100804,MT82.2,   556, 24,      8,2,20100812,1223, 47.2298, -38.2993, 4578,   2402.1,   3.3899,  34.9171,2,    275.5,2,   -999.0,9,    2.712,3,    1.359,2,     1143
  06M320100804,MT82.2,   556, 24,      9,2,20100812,1223, 47.2298, -38.2993, 4578,   2113.0,   3.6178,  34.9241,2,    273.2,2,   -999.0,9, -999.000,9, -999.000,9,     1148
  06M320100804,MT82.2,   556, 24,     10,2,20100812,1223, 47.2298, -38.2993, 4578,   1806.2,   3.8057,  34.9259,2,    272.8,2,    272.8,2,    3.179,3,    1.644,2,     1152
  06M320100804,MT82.2,   556, 24,     11,2,20100812,1223, 47.2298, -38.2993, 4578,   1805.9,   3.8062,  34.9254,2,    273.2,2,   -999.0,9, -999.000,9, -999.000,9,     1152
  06M320100804,MT82.2,   556, 24,     12,2,20100812,1223, 47.2298, -38.2993, 4578,   1599.7,   3.9257,  34.9219,2,    274.1,2,   -999.0,9,    3.510,3,    1.871,2,     1156
  06M320100804,MT82.2,   556, 24,     13,2,20100812,1223, 47.2298, -38.2993, 4578,   1502.0,   3.9827,  34.9229,2,    273.7,2,   -999.0,9,    3.545,3,    1.885,6,     1157
  06M320100804,MT82.2,   556, 24,     14,2,20100812,1223, 47.2298, -38.2993, 4578,   1406.4,   4.1006,  34.9294,2,    272.2,2,   -999.0,9,    3.555,3,    1.898,2,     1159
  06M320100804,MT82.2,   556, 24,     15,2,20100812,1223, 47.2298, -38.2993, 4578,   1169.6,   4.4193,  34.9427,2,    265.6,2,   -999.0,9,    3.391,3,    1.819,2,     1202
  06M320100804,MT82.2,   556, 24,     16,2,20100812,1223, 47.2298, -38.2993, 4578,   1054.8,   4.6721,  34.9482,2,    259.0,2,   -999.0,9, -999.000,9, -999.000,9,     1204
  06M320100804,MT82.2,   556, 24,     17,2,20100812,1223, 47.2298, -38.2993, 4578,    911.3,   5.2839,  34.9767,2,    239.3,2,   -999.0,9,    3.099,3,    1.677,2,     1207
  06M320100804,MT82.2,   556, 24,     18,2,20100812,1223, 47.2298, -38.2993, 4578,    757.2,   6.1453,  34.9064,2,    211.2,2,    216.5,2,    2.715,3,    1.479,2,     1209
  06M320100804,MT82.2,   556, 24,     19,2,20100812,1223, 47.2298, -38.2993, 4578,    623.4,   9.0834,  35.1148,2,    189.0,2,   -999.0,9, -999.000,9, -999.000,9,     1212
  06M320100804,MT82.2,   556, 24,     20,2,20100812,1223, 47.2298, -38.2993, 4578,    516.6,  11.3059,  35.4495,2,    241.3,2,   -999.0,9,    2.866,3,    1.697,2,     1213
  06M320100804,MT82.2,   556, 24,     21,2,20100812,1223, 47.2298, -38.2993, 4578,    225.5,  13.4287,  35.7525,2,    212.1,2,    222.7,2, -999.000,9, -999.000,9,     1218
  06M320100804,MT82.2,   556, 24,     22,2,20100812,1223, 47.2298, -38.2993, 4578,     12.9,  17.7414,  34.6800,2,    250.2,2,    249.3,6, -999.000,9, -999.000,9,     1223
  06M320100804,MT82.2,   560, 25,      1,2,20100812,2114, 47.3253, -36.8080, 4392,   4487.4,   2.2765,  34.8942,2,    281.3,2,    280.8,2,    2.474,3,    1.247,2,     1953
  06M320100804,MT82.2,   560, 25,      2,2,20100812,2114, 47.3253, -36.8080, 4392,   4389.1,   2.2668,  34.8949,2,    281.5,2,   -999.0,9, -999.000,9, -999.000,9,     1955
  06M320100804,MT82.2,   560, 25,      3,2,20100812,2114, 47.3253, -36.8080, 4392,   4198.9,   2.2608,  34.8943,2,    281.0,2,   -999.0,9,    2.388,3,    1.211,2,     1958
  06M320100804,MT82.2,   560, 25,      4,2,20100812,2114, 47.3253, -36.8080, 4392,   3896.4,   2.3387,  34.8988,2,    277.6,2,   -999.0,9,    2.116,3,    1.080,2,     2004
  06M320100804,MT82.2,   560, 25,      5,2,20100812,2114, 47.3253, -36.8080, 4392,   3624.7,   2.5160,  34.9066,2,    276.9,2,   -999.0,9,    1.945,3,    0.981,2,     2015
  06M320100804,MT82.2,   560, 25,      6,2,20100812,2114, 47.3253, -36.8080, 4392,   3300.4,   2.7481,  34.9157,2,    276.6,2,    276.1,2,    2.065,3,    1.058,2,     2020
  06M320100804,MT82.2,   560, 25,      7,2,20100812,2114, 47.3253, -36.8080, 4392,   2998.4,   2.9459,  34.9174,2,    276.8,2,   -999.0,9,    2.316,3,    1.179,2,     2025
  06M320100804,MT82.2,   560, 25,      8,2,20100812,2114, 47.3253, -36.8080, 4392,   2699.4,   3.1212,  34.9137,2,    277.0,2,   -999.0,9,    2.434,3,    1.218,2,     2030
  06M320100804,MT82.2,   560, 25,      9,2,20100812,2114, 47.3253, -36.8080, 4392,   2396.6,   3.2942,  34.9123,2,    277.0,2,   -999.0,9,    2.629,3,    1.300,2,     2035
  06M320100804,MT82.2,   560, 25,     10,2,20100812,2114, 47.3253, -36.8080, 4392,   2111.1,   3.4859,  34.9157,2,    275.1,2,   -999.0,9,    2.812,3,    1.425,2,     2039
  06M320100804,MT82.2,   560, 25,     11,2,20100812,2114, 47.3253, -36.8080, 4392,   1916.9,   3.6529,  34.9205,2,    272.8,2,   -999.0,9, -999.000,9, -999.000,9,     2043
  06M320100804,MT82.2,   560, 25,     12,2,20100812,2114, 47.3253, -36.8080, 4392,   1874.2,   3.6740,  34.9197,2,    273.0,2,    272.9,6,    2.964,3,    1.487,2,     2043
  06M320100804,MT82.2,   560, 25,     13,2,20100812,2114, 47.3253, -36.8080, 4392,   1667.4,   3.8053,  34.9187,2,    273.5,2,   -999.0,9,    3.264,3,    1.696,2,     2046
  06M320100804,MT82.2,   560, 25,     14,2,20100812,2114, 47.3253, -36.8080, 4392,   1592.7,   3.7951,  34.9099,2,    276.2,2,   -999.0,9, -999.000,9, -999.000,9,     2048
  06M320100804,MT82.2,   560, 25,     15,2,20100812,2114, 47.3253, -36.8080, 4392,   1499.4,   3.8406,  34.9083,2,    277.0,2,   -999.0,9,    3.682,3,    1.965,6,     2049
  06M320100804,MT82.2,   560, 25,     16,2,20100812,2114, 47.3253, -36.8080, 4392,   1374.7,   3.9368,  34.9103,2,    275.8,2,   -999.0,9,    3.632,3,    1.959,2,     2051
  06M320100804,MT82.2,   560, 25,     17,2,20100812,2114, 47.3253, -36.8080, 4392,   1298.0,   4.0043,  34.9094,2,    275.7,2,    274.8,2,    3.687,3,    2.017,2,     2052
  06M320100804,MT82.2,   560, 25,     18,2,20100812,2114, 47.3253, -36.8080, 4392,   1098.6,   4.3931,  34.9390,2,    266.2,2,   -999.0,9,    3.474,3,    1.907,2,     2055
  06M320100804,MT82.2,   560, 25,     19,2,20100812,2114, 47.3253, -36.8080, 4392,    901.9,   4.8982,  34.9523,2,    252.3,2,   -999.0,9,    3.240,3,    1.795,2,     2058
  06M320100804,MT82.2,   560, 25,     20,2,20100812,2114, 47.3253, -36.8080, 4392,    698.2,   6.0174,  34.9345,2,    215.7,2,   -999.0,9,    2.654,3,    1.450,2,     2102
  06M320100804,MT82.2,   560, 25,     21,2,20100812,2114, 47.3253, -36.8080, 4392,    495.1,   9.4948,  35.2086,2,    167.4,2,    166.0,2,    1.832,3,    1.007,2,     2105
  06M320100804,MT82.2,   560, 25,     22,2,20100812,2114, 47.3253, -36.8080, 4392,     10.3,  19.3726,  34.6891,2,    244.1,2,    245.9,2,    2.409,3,    1.540,2,     2114
  06M320100804,MT82.2,   566, 26,      1,2,20100813,0337, 47.3752, -35.9147, 4332,   4427.8,   2.2629,  34.8947,2,    281.5,2,   -999.0,9,    2.443,3,    1.278,2,      224
  06M320100804,MT82.2,   566, 26,      2,2,20100813,0337, 47.3752, -35.9147, 4332,   4000.0,   2.2640,  34.8951,2,    279.9,2,    279.9,2,    2.292,3,    1.191,2,      233
  06M320100804,MT82.2,   566, 26,      3,2,20100813,0337, 47.3752, -35.9147, 4332,   3698.7,   2.3208,  34.8983,2,    278.7,2,   -999.0,9,    2.092,3,    1.077,2,      238
  06M320100804,MT82.2,   566, 26,      4,2,20100813,0337, 47.3752, -35.9147, 4332,   3401.3,   2.4799,  34.9060,2,    276.8,2,   -999.0,9,    1.883,3,    0.960,2,      243
  06M320100804,MT82.2,   566, 26,      5,2,20100813,0337, 47.3752, -35.9147, 4332,   3099.4,   2.7245,  34.9145,2,    276.9,2,    276.6,2,    2.015,3,    1.028,2,      248
  06M320100804,MT82.2,   566, 26,      6,2,20100813,0337, 47.3752, -35.9147, 4332,   2798.4,   2.9292,  34.9160,2,    276.8,2,   -999.0,9,    2.179,3,    1.113,2,      253
  06M320100804,MT82.2,   566, 26,      7,2,20100813,0337, 47.3752, -35.9147, 4332,   2521.0,   3.0916,  34.9170,2,    277.3,2,   -999.0,9,    2.385,3,    1.208,2,      257
  06M320100804,MT82.2,   566, 26,      8,2,20100813,0337, 47.3752, -35.9147, 4332,   2310.8,   3.2068,  34.9145,2,    277.6,2,   -999.0,9,    2.618,3,    1.336,6,      300
  06M320100804,MT82.2,   566, 26,      9,2,20100813,0337, 47.3752, -35.9147, 4332,   1997.5,   3.3852,  34.9125,2,    276.7,2,    276.5,2,    2.797,3,    1.431,2,      305
  06M320100804,MT82.2,   566, 26,     10,2,20100813,0337, 47.3752, -35.9147, 4332,   1769.3,   3.5430,  34.9148,2,    274.6,2,   -999.0,9,    2.943,3,    1.522,2,      307
  06M320100804,MT82.2,   566, 26,     11,2,20100813,0337, 47.3752, -35.9147, 4332,   1768.6,   3.5443,  34.9146,2,    274.6,2,   -999.0,9, -999.000,9, -999.000,9,      307
  06M320100804,MT82.2,   566, 26,     12,2,20100813,0337, 47.3752, -35.9147, 4332,   1683.1,   3.6040,  34.9147,2,    274.2,2,   -999.0,9,    3.046,3,    1.579,2,      309
  06M320100804,MT82.2,   566, 26,     13,2,20100813,0337, 47.3752, -35.9147, 4332,   1578.9,   3.6643,  34.9133,2,    274.7,2,   -999.0,9,    3.142,3,    1.605,2,      311
  06M320100804,MT82.2,   566, 26,     14,2,20100813,0337, 47.3752, -35.9147, 4332,   1399.1,   3.7415,  34.9093,2,    276.8,2,   -999.0,9,    3.530,3,    1.886,2,      314
  06M320100804,MT82.2,   566, 26,     15,2,20100813,0337, 47.3752, -35.9147, 4332,   1172.9,   3.8663,  34.9083,2,    277.1,2,    276.4,6,    3.631,3,    1.965,6,      317
  06M320100804,MT82.2,   566, 26,     16,2,20100813,0337, 47.3752, -35.9147, 4332,    978.2,   4.0689,  34.9159,2,    273.6,2,   -999.0,9,    3.649,3,    1.993,2,      320
  06M320100804,MT82.2,   566, 26,     17,2,20100813,0337, 47.3752, -35.9147, 4332,    798.1,   4.6228,  34.9697,2,    259.0,2,   -999.0,9,    3.309,3,    1.802,2,      323
  06M320100804,MT82.2,   566, 26,     18,2,20100813,0337, 47.3752, -35.9147, 4332,    600.3,   4.9762,  34.9530,2,    249.0,2,   -999.0,9,    3.198,3,    1.767,2,      326
  06M320100804,MT82.2,   566, 26,     19,2,20100813,0337, 47.3752, -35.9147, 4332,    480.6,   5.4817,  34.9465,2,    229.2,2,   -999.0,9,    2.913,3,    1.605,2,      327
  06M320100804,MT82.2,   566, 26,     20,2,20100813,0337, 47.3752, -35.9147, 4332,    348.6,   6.6409,  34.9145,2,    202.3,2,    200.7,2, -999.000,9, -999.000,9,      329
  06M320100804,MT82.2,   566, 26,     21,2,20100813,0337, 47.3752, -35.9147, 4332,    196.2,   9.3614,  35.1183,2,    231.5,2,   -999.0,9, -999.000,9, -999.000,9,      331
  06M320100804,MT82.2,   566, 26,     22,2,20100813,0337, 47.3752, -35.9147, 4332,     10.7,  17.3028,  35.1305,2,    266.4,2,    256.2,2,    2.492,3,    1.525,2,      337
  06M320100804,MT82.2,   571, 27,      1,2,20100813,1058, 47.4422, -34.7338, 4072,   4143.5,   2.2209,  34.8940,2,    281.5,2,    282.9,2,    2.458,3,    1.294,2,      941
  06M320100804,MT82.2,   571, 27,      2,2,20100813,1058, 47.4422, -34.7338, 4072,   3798.1,   2.3046,  34.8974,2,    278.2,2,   -999.0,9,    2.074,3,    1.077,2,      947
  06M320100804,MT82.2,   571, 27,      3,2,20100813,1058, 47.4422, -34.7338, 4072,   3486.2,   2.4728,  34.9054,2,    277.8,2,   -999.0,9,    1.912,3,    0.987,2,      954
  06M320100804,MT82.2,   571, 27,      4,2,20100813,1058, 47.4422, -34.7338, 4072,   3182.4,   2.6962,  34.9148,2,    277.5,2,   -999.0,9,    2.005,3,    1.025,2,      959
  06M320100804,MT82.2,   571, 27,      5,2,20100813,1058, 47.4422, -34.7338, 4072,   2897.3,   2.8961,  34.9174,2,    277.1,2,    276.9,2,    2.154,3,    1.106,2,     1005
  06M320100804,MT82.2,   571, 27,      6,2,20100813,1058, 47.4422, -34.7338, 4072,   2596.4,   3.0873,  34.9159,2,    277.2,2,   -999.0,9,    2.363,3,    1.214,6,     1016
  06M320100804,MT82.2,   571, 27,      7,2,20100813,1058, 47.4422, -34.7338, 4072,   2306.6,   3.2579,  34.9142,2,    276.9,2,   -999.0,9,    2.635,3,    1.292,2,     1021
  06M320100804,MT82.2,   571, 27,      8,2,20100813,1058, 47.4422, -34.7338, 4072,   1998.9,   3.4694,  34.9171,2,    274.8,2,   -999.0,9,    2.792,3,    1.389,2,     1025
  06M320100804,MT82.2,   571, 27,      9,2,20100813,1058, 47.4422, -34.7338, 4072,   1794.3,   3.6204,  34.9232,2,    273.3,2,   -999.0,9,    2.897,3,    1.456,2,     1028
  06M320100804,MT82.2,   571, 27,     10,2,20100813,1058, 47.4422, -34.7338, 4072,   1698.6,   3.6736,  34.9230,2,    272.7,2,    272.4,6,    3.012,3,    1.531,2,     1030
  06M320100804,MT82.2,   571, 27,     11,2,20100813,1058, 47.4422, -34.7338, 4072,   1697.5,   3.6747,  34.9231,2,    273.0,2,   -999.0,9, -999.000,9, -999.000,9,     1030
  06M320100804,MT82.2,   571, 27,     12,2,20100813,1058, 47.4422, -34.7338, 4072,   1490.4,   3.7716,  34.9155,2,    274.5,2,   -999.0,9,    3.286,3,    1.689,2,     1033
  06M320100804,MT82.2,   571, 27,     13,2,20100813,1058, 47.4422, -34.7338, 4072,   1417.7,   3.8068,  34.9149,2,    275.1,2,   -999.0,9,    3.444,3,    1.795,2,     1035
  06M320100804,MT82.2,   571, 27,     14,2,20100813,1058, 47.4422, -34.7338, 4072,   1298.4,   3.8907,  34.9170,2,    274.8,2,   -999.0,9,    3.523,3,    1.850,2,     1036
  06M320100804,MT82.2,   571, 27,     15,2,20100813,1058, 47.4422, -34.7338, 4072,   1180.3,   3.9716,  34.9178,2,    274.7,2,    274.6,2,    3.572,3,    1.928,2,     1037
  06M320100804,MT82.2,   571, 27,     16,2,20100813,1058, 47.4422, -34.7338, 4072,    980.9,   4.2811,  34.9400,2,    268.7,2,   -999.0,9,    3.441,3,    1.875,2,     1041
  06M320100804,MT82.2,   571, 27,     17,2,20100813,1058, 47.4422, -34.7338, 4072,    804.3,   4.7351,  34.9685,2,    256.5,2,   -999.0,9,    3.248,3,    1.765,2,     1044
  06M320100804,MT82.2,   571, 27,     18,2,20100813,1058, 47.4422, -34.7338, 4072,    605.5,   5.3358,  34.9502,2,    236.9,2,   -999.0,9,    2.984,3,    1.647,6,     1047
  06M320100804,MT82.2,   571, 27,     19,2,20100813,1058, 47.4422, -34.7338, 4072,    487.2,   6.1564,  34.9358,2,    210.8,2,    218.5,2,    2.695,3,    1.497,2,     1048
  06M320100804,MT82.2,   571, 27,     20,2,20100813,1058, 47.4422, -34.7338, 4072,    384.5,   7.0318,  34.9017,2,    207.1,2,   -999.0,9, -999.000,9, -999.000,9,     1050
  06M320100804,MT82.2,   571, 27,     21,2,20100813,1058, 47.4422, -34.7338, 4072,    185.2,  10.2479,  35.2506,2,    223.4,2,   -999.0,9, -999.000,9, -999.000,9,     1053
  06M320100804,MT82.2,   571, 27,     22,2,20100813,1058, 47.4422, -34.7338, 4072,     12.6,  17.9235,  35.1358,2,    266.0,2,    261.3,2,    2.484,3,    1.535,2,     1058
  06M320100804,MT82.2,   575, 28,      1,2,20100813,1754, 47.5083, -33.5415, 4087,   4154.2,   2.2956,  34.8958,2,    280.0,2,   -999.0,9, -999.000,9, -999.000,9,     1648
  06M320100804,MT82.2,   575, 28,      2,2,20100813,1754, 47.5083, -33.5415, 4087,   3999.0,   2.3133,  34.8973,2,    278.7,2,    279.8,2,    2.175,3,    1.121,2,     1652
  06M320100804,MT82.2,   575, 28,      3,2,20100813,1754, 47.5083, -33.5415, 4087,   3698.8,   2.4507,  34.9038,2,    277.0,2,   -999.0,9,    1.964,3,    0.998,2,     1656
  06M320100804,MT82.2,   575, 28,      4,2,20100813,1754, 47.5083, -33.5415, 4087,   3399.9,   2.6461,  34.9122,2,    276.5,2,   -999.0,9,    1.898,3,    0.950,2,     1701
  06M320100804,MT82.2,   575, 28,      5,2,20100813,1754, 47.5083, -33.5415, 4087,   3096.0,   2.8811,  34.9173,2,    276.3,2,   -999.0,9,    2.055,3,    1.029,6,     1706
  06M320100804,MT82.2,   575, 28,      6,2,20100813,1754, 47.5083, -33.5415, 4087,   2802.8,   3.0745,  34.9149,2,    276.2,2,    278.1,2,    2.273,3,    1.147,2,     1711
  06M320100804,MT82.2,   575, 28,      7,2,20100813,1754, 47.5083, -33.5415, 4087,   2494.2,   3.2393,  34.9102,2,    277.4,2,   -999.0,9,    2.522,3,    1.286,2,     1716
  06M320100804,MT82.2,   575, 28,      8,2,20100813,1754, 47.5083, -33.5415, 4087,   2175.9,   3.4182,  34.9105,2,    275.7,2,   -999.0,9,    2.736,3,    1.376,2,     1720
  06M320100804,MT82.2,   575, 28,      9,2,20100813,1754, 47.5083, -33.5415, 4087,   1891.5,   3.6373,  34.9178,2,    272.8,2,   -999.0,9,    2.884,3,    1.472,2,     1724
  06M320100804,MT82.2,   575, 28,     10,2,20100813,1754, 47.5083, -33.5415, 4087,   1775.3,   3.7299,  34.9204,2,    272.3,2,    272.1,6,    3.012,3,    1.553,2,     1726
  06M320100804,MT82.2,   575, 28,     11,2,20100813,1754, 47.5083, -33.5415, 4087,   1771.8,   3.7328,  34.9207,2,    272.9,2,   -999.0,9, -999.000,9, -999.000,9,     1726
  06M320100804,MT82.2,   575, 28,     12,2,20100813,1754, 47.5083, -33.5415, 4087,   1692.6,   3.7784,  34.9200,2,    272.9,2,   -999.0,9,    3.150,3,    1.631,2,     1727
  06M320100804,MT82.2,   575, 28,     13,2,20100813,1754, 47.5083, -33.5415, 4087,   1592.0,   3.8339,  34.9172,2,    273.3,2,   -999.0,9,    3.344,3,    1.742,2,     1729
  06M320100804,MT82.2,   575, 28,     14,2,20100813,1754, 47.5083, -33.5415, 4087,   1489.6,   3.9387,  34.9223,2,    273.1,2,    272.9,2,    3.428,3,    1.799,2,     1730
  06M320100804,MT82.2,   575, 28,     15,2,20100813,1754, 47.5083, -33.5415, 4087,   1398.6,   4.0425,  34.9249,2,    271.9,2,   -999.0,9,    3.464,3,    1.857,2,     1732
  06M320100804,MT82.2,   575, 28,     16,2,20100813,1754, 47.5083, -33.5415, 4087,   1188.1,   4.5442,  34.9712,2,    259.5,2,   -999.0,9,    3.231,3,    1.729,2,     1735
  06M320100804,MT82.2,   575, 28,     17,2,20100813,1754, 47.5083, -33.5415, 4087,   1000.0,   5.0547,  34.9875,2,    248.8,2,   -999.0,9,    3.174,3,    1.723,2,     1738
  06M320100804,MT82.2,   575, 28,     18,2,20100813,1754, 47.5083, -33.5415, 4087,    798.6,   6.3408,  35.0272,2,    215.2,2,   -999.0,9,    2.551,3,    1.391,2,     1740
  06M320100804,MT82.2,   575, 28,     19,2,20100813,1754, 47.5083, -33.5415, 4087,    604.2,   8.8065,  35.1301,2,    182.1,2,    181.6,2,    2.160,3,    1.199,2,     1743
  06M320100804,MT82.2,   575, 28,     20,2,20100813,1754, 47.5083, -33.5415, 4087,    387.3,  11.6880,  35.5332,2,    244.3,2,    245.4,2, -999.000,9, -999.000,9,     1746
  06M320100804,MT82.2,   575, 28,     22,2,20100813,1754, 47.5083, -33.5415, 4087,     13.1,  19.3477,  35.3633,2,    246.2,2,   -999.0,9,    2.308,3,    1.435,2,     1754