BOTTLE,20230125CCHSIOENA
EXPOCODE,SECT_ID,STNNBR,CASTNO,BTLNBR,BTLNBR_FLAG_W,DATE,TIME,LATITUDE,LONGITUDE,DEPTH,CTDPRS,CTDTMP,CTDSAL,CTDSAL_FLAG_W,CTDOXY,CTDOXY_FLAG_W,OXYGEN,OXYGEN_FLAG_W,CFC-11,CFC-11_FLAG_W,CFC-12,CFC-12_FLAG_W,BTL_TIME
,,,,,,,,,,METERS,DBAR,ITS-90,PSS-78,,UMOL/KG,,UMOL/KG,,PMOL/KG,,PMOL/KG,,
  06M320100804,MT82.2,   623, 47,      1,2,20100822,0216, 51.4277, -35.4357, 3600,   3626.5,   2.4996,  34.9114,2,    277.7,2,   -999.0,9, -999.000,9, -999.000,9,      120
  06M320100804,MT82.2,   623, 47,      2,2,20100822,0216, 51.4277, -35.4357, 3600,   3625.2,   2.5012,  34.9111,2,    277.7,2,    277.8,2,    2.182,3,    1.125,2,      120
  06M320100804,MT82.2,   623, 47,      3,2,20100822,0216, 51.4277, -35.4357, 3600,   3420.6,   2.6407,  34.9245,2,    275.8,2,   -999.0,9,    2.160,3,    1.120,2,      124
  06M320100804,MT82.2,   623, 47,      4,2,20100822,0216, 51.4277, -35.4357, 3600,   3207.8,   2.7852,  34.9427,2,    272.9,2,   -999.0,9,    2.257,3,    1.185,2,      127
  06M320100804,MT82.2,   623, 47,      5,2,20100822,0216, 51.4277, -35.4357, 3600,   2895.2,   2.9225,  34.9432,2,    276.2,2,   -999.0,9,    2.436,3,    1.263,2,      131
  06M320100804,MT82.2,   623, 47,      6,2,20100822,0216, 51.4277, -35.4357, 3600,   2627.8,   3.0026,  34.9313,2,    276.4,2,   -999.0,9,    2.442,3,    1.267,2,      136
  06M320100804,MT82.2,   623, 47,      7,2,20100822,0216, 51.4277, -35.4357, 3600,   2292.5,   3.1256,  34.9179,2,    277.0,2,    277.0,6,    2.550,3,    1.318,2,      140
  06M320100804,MT82.2,   623, 47,      8,2,20100822,0216, 51.4277, -35.4357, 3600,   2027.2,   3.2942,  34.9136,2,    277.0,2,   -999.0,9,    2.665,3,    1.381,2,      145
  06M320100804,MT82.2,   623, 47,      9,2,20100822,0216, 51.4277, -35.4357, 3600,   1797.5,   3.4145,  34.9139,2,    276.4,2,   -999.0,9,    2.811,3,    1.459,2,      148
  06M320100804,MT82.2,   623, 47,     10,2,20100822,0216, 51.4277, -35.4357, 3600,   1587.3,   3.5877,  34.9211,2,    274.2,2,   -999.0,9,    2.818,3,    1.467,2,      151
  06M320100804,MT82.2,   623, 47,     11,2,20100822,0216, 51.4277, -35.4357, 3600,   1383.3,   3.6917,  34.9139,2,    275.8,2,   -999.0,9,    3.224,3,    1.704,2,      154
  06M320100804,MT82.2,   623, 47,     12,2,20100822,0216, 51.4277, -35.4357, 3600,   1297.8,   3.7236,  34.9092,2,    277.6,2,   -999.0,9,    3.383,3,    1.827,2,      155
  06M320100804,MT82.2,   623, 47,     13,2,20100822,0216, 51.4277, -35.4357, 3600,   1197.9,   3.7483,  34.9050,2,    278.2,2,   -999.0,9,    3.499,3,    1.911,2,      157
  06M320100804,MT82.2,   623, 47,     14,2,20100822,0216, 51.4277, -35.4357, 3600,   1097.6,   3.7784,  34.9004,2,    279.0,2,   -999.0,9,    3.402,3,    1.938,2,      158
  06M320100804,MT82.2,   623, 47,     15,2,20100822,0216, 51.4277, -35.4357, 3600,    984.6,   3.8542,  34.8996,2,    280.9,2,    278.5,2,    3.668,3,    2.039,2,      200
  06M320100804,MT82.2,   623, 47,     16,2,20100822,0216, 51.4277, -35.4357, 3600,    884.5,   3.9502,  34.9047,2,    278.3,2,   -999.0,9,    3.741,3,    2.082,2,      201
  06M320100804,MT82.2,   623, 47,     17,2,20100822,0216, 51.4277, -35.4357, 3600,    782.0,   4.1188,  34.9162,2,    274.7,2,   -999.0,9,    3.592,3,    2.002,2,      203
  06M320100804,MT82.2,   623, 47,     18,2,20100822,0216, 51.4277, -35.4357, 3600,    627.4,   4.3310,  34.9206,2,    269.1,2,   -999.0,9,    3.599,3,    2.033,2,      205
  06M320100804,MT82.2,   623, 47,     19,2,20100822,0216, 51.4277, -35.4357, 3600,    476.4,   4.8362,  34.9363,2,    252.5,2,    255.3,2, -999.000,9, -999.000,9,      207
  06M320100804,MT82.2,   623, 47,     20,2,20100822,0216, 51.4277, -35.4357, 3600,    403.2,   5.1887,  34.9326,2,    237.9,2,   -999.0,9,    3.047,3,    1.708,2,      209
  06M320100804,MT82.2,   623, 47,     21,2,20100822,0216, 51.4277, -35.4357, 3600,    211.9,   6.8700,  34.8300,2,    228.1,2,    216.8,2, -999.000,9, -999.000,9,      211
  06M320100804,MT82.2,   623, 47,     22,2,20100822,0216, 51.4277, -35.4357, 3600,     12.4,  15.3208,  34.0685,2,    254.7,2,    254.1,2,    2.646,3,    1.643,2,      216
  06M320100804,MT82.2,   625, 48,      1,2,20100822,0839, 51.1253, -35.1240, 4057,   4137.3,   2.4193,  34.9020,2,    279.7,2,   -999.0,9, -999.000,9, -999.000,9,      738
  06M320100804,MT82.2,   625, 48,      2,2,20100822,0839, 51.1253, -35.1240, 4057,   4137.4,   2.4199,  34.9018,2,    279.8,2,    278.3,2, -999.000,9, -999.000,9,      738
  06M320100804,MT82.2,   625, 48,      3,2,20100822,0839, 51.1253, -35.1240, 4057,   3797.5,   2.5405,  34.9135,2,    277.1,2,   -999.0,9,    2.197,3,    1.144,2,      744
  06M320100804,MT82.2,   625, 48,      4,2,20100822,0839, 51.1253, -35.1240, 4057,   3491.7,   2.6672,  34.9232,2,    276.2,2,   -999.0,9, -999.000,9, -999.000,9,      748
  06M320100804,MT82.2,   625, 48,      5,2,20100822,0839, 51.1253, -35.1240, 4057,   3210.0,   2.7511,  34.9269,2,    276.1,2,   -999.0,9,    2.143,3,    1.115,2,      752
  06M320100804,MT82.2,   625, 48,      6,2,20100822,0839, 51.1253, -35.1240, 4057,   2898.5,   2.8844,  34.9181,2,    277.3,2,   -999.0,9,    2.188,3,    1.151,2,      756
  06M320100804,MT82.2,   625, 48,      7,2,20100822,0839, 51.1253, -35.1240, 4057,   2577.6,   3.1277,  34.9252,2,    277.4,2,    276.3,2,    2.488,3,    1.311,2,      801
  06M320100804,MT82.2,   625, 48,      8,2,20100822,0839, 51.1253, -35.1240, 4057,   2405.5,   3.2146,  34.9219,2,    277.7,2,   -999.0,9,    2.601,3,    1.368,2,      803
  06M320100804,MT82.2,   625, 48,      9,2,20100822,0839, 51.1253, -35.1240, 4057,   2098.8,   3.3832,  34.9145,2,    277.1,2,   -999.0,9,    2.853,3,    1.491,2,      808
  06M320100804,MT82.2,   625, 48,     10,2,20100822,0839, 51.1253, -35.1240, 4057,   1860.2,   3.5420,  34.9156,2,    275.2,2,   -999.0,9,    2.886,3,    1.520,2,      812
  06M320100804,MT82.2,   625, 48,     11,2,20100822,0839, 51.1253, -35.1240, 4057,   1675.2,   3.6740,  34.9192,2,    274.4,2,   -999.0,9,    3.033,3,    1.614,2,      814
  06M320100804,MT82.2,   625, 48,     12,2,20100822,0839, 51.1253, -35.1240, 4057,   1496.5,   3.7526,  34.9117,2,    276.6,2,    275.6,6,    3.370,3,    1.825,2,      817
  06M320100804,MT82.2,   625, 48,     13,2,20100822,0839, 51.1253, -35.1240, 4057,   1304.8,   3.9165,  34.9179,2,    275.2,2,   -999.0,9,    3.403,3,    1.861,6,      820
  06M320100804,MT82.2,   625, 48,     14,2,20100822,0839, 51.1253, -35.1240, 4057,   1179.8,   4.0200,  34.9216,2,    273.6,2,   -999.0,9,    3.470,3,    1.909,2,      822
  06M320100804,MT82.2,   625, 48,     15,2,20100822,0839, 51.1253, -35.1240, 4057,   1087.3,   4.1011,  34.9234,2,    272.6,2,   -999.0,9, -999.000,9, -999.000,9,      823
  06M320100804,MT82.2,   625, 48,     16,2,20100822,0839, 51.1253, -35.1240, 4057,    990.6,   4.2473,  34.9323,2,    269.8,2,   -999.0,9,    3.503,3,    1.935,2,      825
  06M320100804,MT82.2,   625, 48,     17,2,20100822,0839, 51.1253, -35.1240, 4057,    898.2,   4.3856,  34.9377,2,    266.6,2,   -999.0,9,    3.484,3,    1.920,2,      826
  06M320100804,MT82.2,   625, 48,     18,2,20100822,0839, 51.1253, -35.1240, 4057,    588.2,   5.1135,  34.9080,2,    242.2,2,   -999.0,9,    3.160,3,    1.771,2,      831
  06M320100804,MT82.2,   625, 48,     19,2,20100822,0839, 51.1253, -35.1240, 4057,    494.6,   5.7658,  34.8756,2,    220.5,2,   -999.0,9,    2.797,3,    1.577,6,      832
  06M320100804,MT82.2,   625, 48,     20,2,20100822,0839, 51.1253, -35.1240, 4057,    346.3,   7.9682,  34.9407,2,    208.8,2,    205.9,3, -999.000,9, -999.000,9,      835
  06M320100804,MT82.2,   625, 48,     21,2,20100822,0839, 51.1253, -35.1240, 4057,    204.1,  12.0386,  35.4463,2,    203.4,2,    198.2,3, -999.000,9, -999.000,9,      837
  06M320100804,MT82.2,   625, 48,     22,2,20100822,0839, 51.1253, -35.1240, 4057,     76.4,  14.1120,  35.8001,2,    208.1,2,   -999.0,9,    2.440,3,    1.494,2,      839
  06M320100804,MT82.2,   626, 49,      1,2,20100822,1250, 50.8512, -34.8105, 3476,   3531.9,   2.5459,  34.9102,2,    278.2,2,   -999.0,9, -999.000,9, -999.000,9,     1155
  06M320100804,MT82.2,   626, 49,      2,2,20100822,1250, 50.8512, -34.8105, 3476,   3531.3,   2.5459,  34.9100,2,    277.4,2,    279.7,2,    2.075,3,    1.080,2,     1155
  06M320100804,MT82.2,   626, 49,      3,2,20100822,1250, 50.8512, -34.8105, 3476,   3398.1,   2.6006,  34.9134,2,    277.9,2,   -999.0,9,    2.043,3,    1.071,2,     1158
  06M320100804,MT82.2,   626, 49,      4,2,20100822,1250, 50.8512, -34.8105, 3476,   3197.7,   2.7500,  34.9165,2,    277.6,2,   -999.0,9,    2.054,3,    1.079,6,     1201
  06M320100804,MT82.2,   626, 49,      5,2,20100822,1250, 50.8512, -34.8105, 3476,   2990.1,   2.8887,  34.9173,2,    277.2,2,   -999.0,9,    2.118,3,    1.103,2,     1203
  06M320100804,MT82.2,   626, 49,      6,2,20100822,1250, 50.8512, -34.8105, 3476,   2797.7,   2.9880,  34.9169,2,    277.2,2,   -999.0,9,    2.240,3,    1.171,2,     1206
  06M320100804,MT82.2,   626, 49,      7,2,20100822,1250, 50.8512, -34.8105, 3476,   2501.5,   3.1892,  34.9214,2,    277.2,2,   -999.0,9,    2.538,3,    1.318,2,     1211
  06M320100804,MT82.2,   626, 49,      8,2,20100822,1250, 50.8512, -34.8105, 3476,   2215.8,   3.3545,  34.9141,2,    277.1,2,   -999.0,9,    2.690,3,    1.404,2,     1215
  06M320100804,MT82.2,   626, 49,      9,2,20100822,1250, 50.8512, -34.8105, 3476,   2016.2,   3.4877,  34.9180,2,    274.6,2,   -999.0,9,    2.642,3,    1.386,2,     1218
  06M320100804,MT82.2,   626, 49,     10,2,20100822,1250, 50.8512, -34.8105, 3476,   1799.1,   3.6293,  34.9184,2,    274.0,2,    278.0,3,    2.894,3,    1.528,2,     1221
  06M320100804,MT82.2,   626, 49,     11,2,20100822,1250, 50.8512, -34.8105, 3476,   1599.0,   3.7207,  34.9090,2,    276.6,2,   -999.0,9,    3.320,3,    1.789,2,     1224
  06M320100804,MT82.2,   626, 49,     12,2,20100822,1250, 50.8512, -34.8105, 3476,   1403.4,   3.8263,  34.9061,2,    278.2,2,   -999.0,9,    3.516,3,    1.932,2,     1227
  06M320100804,MT82.2,   626, 49,     13,2,20100822,1250, 50.8512, -34.8105, 3476,   1298.4,   3.8005,  34.8906,2,    281.9,2,   -999.0,9, -999.000,9, -999.000,9,     1228
  06M320100804,MT82.2,   626, 49,     14,2,20100822,1250, 50.8512, -34.8105, 3476,   1216.4,   3.8472,  34.8926,2,    281.1,2,   -999.0,9,    3.785,3,    2.103,2,     1230
  06M320100804,MT82.2,   626, 49,     15,2,20100822,1250, 50.8512, -34.8105, 3476,   1094.6,   3.9580,  34.8968,2,    279.8,2,   -999.0,9,    3.811,3,    2.133,2,     1232
  06M320100804,MT82.2,   626, 49,     16,2,20100822,1250, 50.8512, -34.8105, 3476,   1005.7,   4.0959,  34.9055,2,    275.9,2,   -999.0,9, -999.000,9, -999.000,9,     1233
  06M320100804,MT82.2,   626, 49,     17,2,20100822,1250, 50.8512, -34.8105, 3476,    799.2,   4.6902,  34.9532,2,    257.8,2,   -999.0,9,    3.257,3,    1.935,2,     1236
  06M320100804,MT82.2,   626, 49,     18,2,20100822,1250, 50.8512, -34.8105, 3476,    699.5,   4.9934,  34.9522,2,    247.6,2,    248.8,6,    3.085,3,    1.744,2,     1237
  06M320100804,MT82.2,   626, 49,     19,2,20100822,1250, 50.8512, -34.8105, 3476,    604.7,   5.4282,  34.9159,2,    231.8,2,   -999.0,9, -999.000,9, -999.000,9,     1239
  06M320100804,MT82.2,   626, 49,     20,2,20100822,1250, 50.8512, -34.8105, 3476,    398.8,   8.2523,  35.0355,2,    184.9,2,   -999.0,9,    2.171,3,    1.238,6,     1242
  06M320100804,MT82.2,   626, 49,     21,2,20100822,1250, 50.8512, -34.8105, 3476,    193.0,  13.0121,  35.6445,2,    208.5,2,    207.6,2, -999.000,9, -999.000,9,     1245
  06M320100804,MT82.2,   626, 49,     22,2,20100822,1250, 50.8512, -34.8105, 3476,     11.6,  16.0040,  34.2283,2,    249.0,2,    249.1,2,    2.515,3,    1.567,2,     1250
  06M320100804,MT82.2,   627, 50,      1,2,20100822,1708, 50.5825, -34.5003, 4168,   4248.2,   2.3420,  34.8969,2,    279.7,2,   -999.0,9, -999.000,9, -999.000,9,     1602
  06M320100804,MT82.2,   627, 50,      2,2,20100822,1708, 50.5825, -34.5003, 4168,   4248.4,   2.3421,  34.8968,2,    280.4,2,    280.2,2, -999.000,9, -999.000,9,     1602
  06M320100804,MT82.2,   627, 50,      3,2,20100822,1708, 50.5825, -34.5003, 4168,   3998.7,   2.3832,  34.9002,2,    278.9,2,   -999.0,9,    2.168,3,    1.138,2,     1607
  06M320100804,MT82.2,   627, 50,      4,2,20100822,1708, 50.5825, -34.5003, 4168,   3798.0,   2.4293,  34.9039,2,    278.2,2,   -999.0,9,    2.105,3,    1.095,2,     1610
  06M320100804,MT82.2,   627, 50,      5,2,20100822,1708, 50.5825, -34.5003, 4168,   3498.9,   2.5723,  34.9130,2,    277.1,2,   -999.0,9,    2.108,3,    1.092,2,     1615
  06M320100804,MT82.2,   627, 50,      6,2,20100822,1708, 50.5825, -34.5003, 4168,   3197.9,   2.8030,  34.9260,2,    276.3,2,   -999.0,9,    2.228,3,    1.190,2,     1619
  06M320100804,MT82.2,   627, 50,      7,2,20100822,1708, 50.5825, -34.5003, 4168,   2891.9,   2.9853,  34.9272,2,    276.9,2,   -999.0,9, -999.000,9, -999.000,9,     1624
  06M320100804,MT82.2,   627, 50,      8,2,20100822,1708, 50.5825, -34.5003, 4168,   2595.7,   3.1081,  34.9162,2,    277.4,2,    277.4,2,    2.460,3,    1.256,6,     1628
  06M320100804,MT82.2,   627, 50,      9,2,20100822,1708, 50.5825, -34.5003, 4168,   2295.1,   3.2691,  34.9121,2,    277.5,2,   -999.0,9,    2.637,3,    1.369,2,     1633
  06M320100804,MT82.2,   627, 50,     10,2,20100822,1708, 50.5825, -34.5003, 4168,   2095.8,   3.3952,  34.9121,2,    276.0,2,   -999.0,9, -999.000,9, -999.000,9,     1636
  06M320100804,MT82.2,   627, 50,     11,2,20100822,1708, 50.5825, -34.5003, 4168,   1892.6,   3.5341,  34.9177,2,    274.3,2,   -999.0,9,    2.743,3,    1.428,2,     1639
  06M320100804,MT82.2,   627, 50,     12,2,20100822,1708, 50.5825, -34.5003, 4168,   1698.1,   3.6824,  34.9213,2,    273.3,2,   -999.0,9,    2.912,3,    1.550,2,     1642
  06M320100804,MT82.2,   627, 50,     13,2,20100822,1708, 50.5825, -34.5003, 4168,   1496.8,   3.7725,  34.9151,2,    275.3,2,    274.9,2,    3.289,3,    1.798,2,     1645
  06M320100804,MT82.2,   627, 50,     14,2,20100822,1708, 50.5825, -34.5003, 4168,   1390.7,   3.7646,  34.9019,2,    279.1,2,   -999.0,9, -999.000,9, -999.000,9,     1647
  06M320100804,MT82.2,   627, 50,     15,2,20100822,1708, 50.5825, -34.5003, 4168,   1289.1,   3.8064,  34.9000,2,    279.8,2,   -999.0,9,    3.622,3,    2.018,2,     1648
  06M320100804,MT82.2,   627, 50,     16,2,20100822,1708, 50.5825, -34.5003, 4168,   1090.4,   4.0111,  34.9100,2,    276.6,2,    276.2,6,    3.609,3,    2.041,6,     1651
  06M320100804,MT82.2,   627, 50,     17,2,20100822,1708, 50.5825, -34.5003, 4168,    902.5,   4.2882,  34.9211,2,    270.9,2,   -999.0,9, -999.000,9, -999.000,9,     1654
  06M320100804,MT82.2,   627, 50,     18,2,20100822,1708, 50.5825, -34.5003, 4168,    700.1,   4.7775,  34.9428,2,    256.8,2,    258.2,2,    3.335,3,    1.890,2,     1657
  06M320100804,MT82.2,   627, 50,     19,2,20100822,1708, 50.5825, -34.5003, 4168,    501.9,   5.5118,  34.8511,2,    229.0,2,   -999.0,9,    3.066,3,    1.754,2,     1700
  06M320100804,MT82.2,   627, 50,     20,2,20100822,1708, 50.5825, -34.5003, 4168,    316.2,   8.9248,  35.0510,2,    222.9,2,   -999.0,9, -999.000,9, -999.000,9,     1702
  06M320100804,MT82.2,   627, 50,     21,2,20100822,1708, 50.5825, -34.5003, 4168,    218.7,  11.8073,  35.4642,2,    188.1,2,    195.3,2, -999.000,9, -999.000,9,     1704
  06M320100804,MT82.2,   627, 50,     22,2,20100822,1708, 50.5825, -34.5003, 4168,     10.8,  16.1436,  34.3311,2,    249.3,2,    248.4,2,    2.496,3,    1.612,2,     1708
  06M320100804,MT82.2,   628, 51,      1,2,20100822,2127, 50.3162, -34.1838, 3636,   3610.8,   2.4843,  34.9073,2,    278.2,2,    278.0,2, -999.000,9, -999.000,9,     2012
  06M320100804,MT82.2,   628, 51,      2,2,20100822,2127, 50.3162, -34.1838, 3636,   3610.2,   2.4842,  34.9075,2,    278.4,2,   -999.0,9, -999.000,9, -999.000,9,     2012
  06M320100804,MT82.2,   628, 51,      3,2,20100822,2127, 50.3162, -34.1838, 3636,   3497.2,   2.5559,  34.9126,2,    277.9,2,   -999.0,9,    2.068,3,    1.085,2,     2014
  06M320100804,MT82.2,   628, 51,      4,2,20100822,2127, 50.3162, -34.1838, 3636,   3298.7,   2.7105,  34.9231,2,    276.8,2,   -999.0,9, -999.000,9, -999.000,9,     2017
  06M320100804,MT82.2,   628, 51,      5,2,20100822,2127, 50.3162, -34.1838, 3636,   3003.3,   2.8493,  34.9188,2,    277.6,2,   -999.0,9,    2.132,3,    1.107,6,     2021
  06M320100804,MT82.2,   628, 51,      6,2,20100822,2127, 50.3162, -34.1838, 3636,   2695.9,   3.0416,  34.9205,2,    276.6,2,   -999.0,9,    2.333,3,    1.218,2,     2025
  06M320100804,MT82.2,   628, 51,      7,2,20100822,2127, 50.3162, -34.1838, 3636,   2409.3,   3.2020,  34.9134,2,    277.3,2,    277.4,6,    2.533,3,    1.334,2,     2030
  06M320100804,MT82.2,   628, 51,      8,2,20100822,2127, 50.3162, -34.1838, 3636,   2104.8,   3.3825,  34.9110,2,    276.3,2,   -999.0,9,    2.730,3,    1.434,2,     2034
  06M320100804,MT82.2,   628, 51,      9,2,20100822,2127, 50.3162, -34.1838, 3636,   1798.6,   3.5960,  34.9157,2,    274.8,2,   -999.0,9,    2.908,3,    1.534,2,     2050
  06M320100804,MT82.2,   628, 51,     10,2,20100822,2127, 50.3162, -34.1838, 3636,   1598.9,   3.7109,  34.9132,2,    275.2,2,   -999.0,9,    3.179,3,    1.707,2,     2054
  06M320100804,MT82.2,   628, 51,     11,2,20100822,2127, 50.3162, -34.1838, 3636,   1495.8,   3.7431,  34.9093,2,    276.2,2,   -999.0,9,    3.372,3,    1.830,2,     2055
  06M320100804,MT82.2,   628, 51,     12,2,20100822,2127, 50.3162, -34.1838, 3636,   1399.7,   3.7738,  34.9051,2,    278.0,2,   -999.0,9,    3.471,3,    1.904,6,     2059
  06M320100804,MT82.2,   628, 51,     13,2,20100822,2127, 50.3162, -34.1838, 3636,   1299.8,   3.8210,  34.9032,2,    278.5,2,   -999.0,9,    3.573,3,    1.971,2,     2102
  06M320100804,MT82.2,   628, 51,     14,2,20100822,2127, 50.3162, -34.1838, 3636,   1110.6,   3.9871,  34.9083,2,    275.8,2,    275.2,2,    3.618,3,    2.011,2,     2108
  06M320100804,MT82.2,   628, 51,     15,2,20100822,2127, 50.3162, -34.1838, 3636,   1109.2,   3.9893,  34.9087,2,    275.9,2,   -999.0,9, -999.000,9, -999.000,9,     2108
  06M320100804,MT82.2,   628, 51,     16,2,20100822,2127, 50.3162, -34.1838, 3636,    892.6,   4.2977,  34.9228,2,    268.2,2,   -999.0,9,    3.638,3,    1.991,2,     2111
  06M320100804,MT82.2,   628, 51,     17,2,20100822,2127, 50.3162, -34.1838, 3636,    790.8,   4.4704,  34.9257,2,    263.6,2,   -999.0,9,    3.575,3,    1.987,2,     2112
  06M320100804,MT82.2,   628, 51,     18,2,20100822,2127, 50.3162, -34.1838, 3636,    689.0,   4.8894,  34.9533,2,    250.0,2,   -999.0,9,    3.363,3,    1.887,2,     2114
  06M320100804,MT82.2,   628, 51,     19,2,20100822,2127, 50.3162, -34.1838, 3636,    528.2,   5.7838,  34.9347,2,    222.7,2,    221.2,2,    2.731,3,    1.537,2,     2117
  06M320100804,MT82.2,   628, 51,     20,2,20100822,2127, 50.3162, -34.1838, 3636,    301.2,   8.7398,  35.0432,2,    208.6,2,    203.2,2, -999.000,9, -999.000,9,     2120
  06M320100804,MT82.2,   628, 51,     21,2,20100822,2127, 50.3162, -34.1838, 3636,     13.3,  14.6220,  34.4286,2,    264.4,2,   -999.0,9,    2.877,3,    1.746,2,     2127
  06M320100804,MT82.2,   628, 51,     22,2,20100822,2127, 50.3162, -34.1838, 3636,     13.0,  14.7299,  34.3819,2,    262.8,2,   -999.0,9, -999.000,9, -999.000,9,     2127