BOTTLE,20230125CCHSIOENA
EXPOCODE,SECT_ID,STNNBR,CASTNO,BTLNBR,BTLNBR_FLAG_W,DATE,TIME,LATITUDE,LONGITUDE,DEPTH,CTDPRS,CTDTMP,CTDSAL,CTDSAL_FLAG_W,CTDOXY,CTDOXY_FLAG_W,OXYGEN,OXYGEN_FLAG_W,CFC-11,CFC-11_FLAG_W,CFC-12,CFC-12_FLAG_W,BTL_TIME
,,,,,,,,,,METERS,DBAR,ITS-90,PSS-78,,UMOL/KG,,UMOL/KG,,PMOL/KG,,PMOL/KG,,
  06M320100804,MT82.2,   604, 37,      1,2,20100819,0409, 52.9253, -35.4695, 2096,   2124.5,   3.0978,  34.9782,2,    275.8,2,    275.6,2, -999.000,9, -999.000,9,      334
  06M320100804,MT82.2,   604, 37,      2,2,20100819,0409, 52.9253, -35.4695, 2096,   2124.5,   3.0978,  34.9782,2,    275.8,2,   -999.0,9,    2.642,3,    1.478,2,      334
  06M320100804,MT82.2,   604, 37,      3,2,20100819,0409, 52.9253, -35.4695, 2096,   1898.5,   3.1863,  34.9720,2,    275.5,2,   -999.0,9, -999.000,9, -999.000,9,      338
  06M320100804,MT82.2,   604, 37,      4,2,20100819,0409, 52.9253, -35.4695, 2096,   1702.8,   3.2886,  34.9523,2,    275.9,2,   -999.0,9,    2.688,3,    1.485,6,      341
  06M320100804,MT82.2,   604, 37,      5,2,20100819,0409, 52.9253, -35.4695, 2096,   1489.1,   3.3159,  34.9204,2,    277.0,2,    276.9,2,    2.731,3,    1.478,2,      344
  06M320100804,MT82.2,   604, 37,      6,2,20100819,0409, 52.9253, -35.4695, 2096,   1310.4,   3.5764,  34.9318,2,    274.7,2,   -999.0,9,    2.908,3,    1.610,2,      347
  06M320100804,MT82.2,   604, 37,      7,2,20100819,0409, 52.9253, -35.4695, 2096,   1115.6,   3.6863,  34.9151,2,    275.2,2,   -999.0,9,    3.199,3,    1.789,2,      351
  06M320100804,MT82.2,   604, 37,      8,2,20100819,0409, 52.9253, -35.4695, 2096,    928.6,   3.8080,  34.9057,2,    276.5,2,    276.1,2,    3.646,3,    1.995,6,      353
  06M320100804,MT82.2,   604, 37,      9,2,20100819,0409, 52.9253, -35.4695, 2096,    718.7,   4.0915,  34.9198,2,    270.8,2,   -999.0,9,    3.650,3,    2.020,2,      356
  06M320100804,MT82.2,   604, 37,     10,2,20100819,0409, 52.9253, -35.4695, 2096,    516.0,   4.3574,  34.9221,2,    266.4,2,    266.0,6,    3.681,3,    2.067,2,      359
  06M320100804,MT82.2,   604, 37,     11,2,20100819,0409, 52.9253, -35.4695, 2096,    486.6,   4.3966,  34.9197,2,    267.7,2,   -999.0,9, -999.000,9, -999.000,9,      359
  06M320100804,MT82.2,   604, 37,     12,2,20100819,0409, 52.9253, -35.4695, 2096,    307.7,   4.9494,  34.9080,2,    258.2,2,    257.0,2,    3.626,3,    2.068,2,      402
  06M320100804,MT82.2,   604, 37,     13,2,20100819,0409, 52.9253, -35.4695, 2096,     98.1,   5.6748,  34.7164,2,    272.6,2,   -999.0,9, -999.000,9, -999.000,9,      405
  06M320100804,MT82.2,   604, 37,     14,2,20100819,0409, 52.9253, -35.4695, 2096,     10.9,  13.4204,  34.4376,2,    278.5,2,   -999.0,9, -999.000,9, -999.000,9,      408
  06M320100804,MT82.2,   604, 37,     15,2,20100819,0409, 52.9253, -35.4695, 2096,     11.1,  13.4217,  34.4377,2,    279.1,2,   -999.0,9, -999.000,9, -999.000,9,      409
  06M320100804,MT82.2,   609, 38,      1,2,20100819,2024, 52.4617, -35.3077, 3044,   3084.9,   3.0182,  34.9698,2,    273.6,2,   -999.0,9, -999.000,9, -999.000,9,     1937
  06M320100804,MT82.2,   609, 38,      2,2,20100819,2024, 52.4617, -35.3077, 3044,   3084.7,   3.0180,  34.9699,2,    273.6,2,   -999.0,9,    2.543,3,    1.346,2,     1937
  06M320100804,MT82.2,   609, 38,      3,2,20100819,2024, 52.4617, -35.3077, 3044,   2805.1,   3.0312,  34.9689,2,    273.9,2,   -999.0,9,    2.579,3,    1.377,2,     1942
  06M320100804,MT82.2,   609, 38,      4,2,20100819,2024, 52.4617, -35.3077, 3044,   2599.7,   3.0485,  34.9660,2,    275.4,2,   -999.0,9,    2.640,3,    1.403,2,     1945
  06M320100804,MT82.2,   609, 38,      5,2,20100819,2024, 52.4617, -35.3077, 3044,   2398.5,   3.0389,  34.9480,2,    276.4,2,   -999.0,9,    2.551,3,    1.339,2,     1947
  06M320100804,MT82.2,   609, 38,      6,2,20100819,2024, 52.4617, -35.3077, 3044,   2200.2,   3.0760,  34.9302,2,    277.3,2,   -999.0,9,    2.514,3,    1.308,2,     1950
  06M320100804,MT82.2,   609, 38,      7,2,20100819,2024, 52.4617, -35.3077, 3044,   1989.1,   3.2313,  34.9353,2,    277.0,2,   -999.0,9,    2.712,3,    1.403,2,     1953
  06M320100804,MT82.2,   609, 38,      8,2,20100819,2024, 52.4617, -35.3077, 3044,   1799.2,   3.3203,  34.9237,2,    276.6,2,   -999.0,9,    2.818,3,    1.458,6,     1956
  06M320100804,MT82.2,   609, 38,      9,2,20100819,2024, 52.4617, -35.3077, 3044,   1597.7,   3.4545,  34.9157,2,    275.9,2,   -999.0,9,    2.966,3,    1.529,2,     1959
  06M320100804,MT82.2,   609, 38,     10,2,20100819,2024, 52.4617, -35.3077, 3044,   1398.3,   3.5917,  34.9155,2,    275.2,2,   -999.0,9,    3.099,3,    1.595,2,     2002
  06M320100804,MT82.2,   609, 38,     11,2,20100819,2024, 52.4617, -35.3077, 3044,   1376.4,   3.5994,  34.9154,2,    275.3,2,   -999.0,9, -999.000,9, -999.000,9,     2003
  06M320100804,MT82.2,   609, 38,     12,2,20100819,2024, 52.4617, -35.3077, 3044,   1198.6,   3.6707,  34.9062,2,    277.8,2,   -999.0,9,    3.476,3,    1.828,2,     2005
  06M320100804,MT82.2,   609, 38,     13,2,20100819,2024, 52.4617, -35.3077, 3044,    998.1,   3.7001,  34.8913,2,    282.4,2,   -999.0,9,    3.887,3,    2.118,2,     2008
  06M320100804,MT82.2,   609, 38,     14,2,20100819,2024, 52.4617, -35.3077, 3044,    799.9,   3.8470,  34.8934,2,    282.4,2,   -999.0,9,    3.968,3,    2.153,2,     2011
  06M320100804,MT82.2,   609, 38,     15,2,20100819,2024, 52.4617, -35.3077, 3044,    602.0,   4.1169,  34.9072,2,    275.6,2,   -999.0,9,    3.838,3,    2.116,6,     2014
  06M320100804,MT82.2,   609, 38,     16,2,20100819,2024, 52.4617, -35.3077, 3044,    404.8,   4.5223,  34.9114,2,    265.3,2,   -999.0,9,    3.698,3,    2.005,2,     2017
  06M320100804,MT82.2,   609, 38,     17,2,20100819,2024, 52.4617, -35.3077, 3044,    197.8,   5.2570,  34.8323,2,    247.0,2,   -999.0,9, -999.000,9, -999.000,9,     2019
  06M320100804,MT82.2,   609, 38,     18,2,20100819,2024, 52.4617, -35.3077, 3044,      7.6,  13.6223,  34.4802,2,    271.7,2,   -999.0,9,    3.023,3,    1.829,2,     2024
  06M320100804,MT82.2,   609, 38,     19,2,20100819,2024, 52.4617, -35.3077, 3044,      7.3,  13.5992,  34.4808,2,    273.7,2,   -999.0,9, -999.000,9, -999.000,9,     2024
  06M320100804,MT82.2,   610, 39,      1,2,20100819,2320, 52.5852, -35.3752, 3039,   3095.3,   3.0262,  34.9739,2,    273.2,2,    274.1,2, -999.000,9, -999.000,9,     2232
  06M320100804,MT82.2,   610, 39,      2,2,20100819,2320, 52.5852, -35.3752, 3039,   3095.3,   3.0262,  34.9739,2,    273.2,2,   -999.0,9,    2.661,3,    1.397,2,     2232
  06M320100804,MT82.2,   610, 39,      3,2,20100819,2320, 52.5852, -35.3752, 3039,   2897.0,   3.0369,  34.9738,2,    273.2,2,   -999.0,9,    2.683,3,    1.401,6,     2235
  06M320100804,MT82.2,   610, 39,      4,2,20100819,2320, 52.5852, -35.3752, 3039,   2699.0,   3.0605,  34.9725,2,    273.7,2,   -999.0,9,    2.696,3,    1.409,2,     2239
  06M320100804,MT82.2,   610, 39,      5,2,20100819,2320, 52.5852, -35.3752, 3039,   2499.4,   3.1337,  34.9738,2,    275.2,2,   -999.0,9,    2.780,3,    1.456,2,     2242
  06M320100804,MT82.2,   610, 39,      6,2,20100819,2320, 52.5852, -35.3752, 3039,   2291.7,   3.1236,  34.9469,2,    276.5,2,   -999.0,9,    2.649,3,    1.373,2,     2245
  06M320100804,MT82.2,   610, 39,      7,2,20100819,2320, 52.5852, -35.3752, 3039,   2101.1,   3.0878,  34.9161,2,    277.7,2,    275.5,2,    2.466,3,    1.268,2,     2248
  06M320100804,MT82.2,   610, 39,      8,2,20100819,2320, 52.5852, -35.3752, 3039,   1911.9,   3.1990,  34.9133,2,    277.3,2,   -999.0,9,    2.526,3,    1.290,2,     2252
  06M320100804,MT82.2,   610, 39,      9,2,20100819,2320, 52.5852, -35.3752, 3039,   1704.7,   3.3081,  34.9134,2,    276.9,2,   -999.0,9,    2.693,3,    1.385,2,     2255
  06M320100804,MT82.2,   610, 39,     10,2,20100819,2320, 52.5852, -35.3752, 3039,   1510.8,   3.4486,  34.9156,2,    276.3,2,   -999.0,9,    2.926,3,    1.499,2,     2258
  06M320100804,MT82.2,   610, 39,     11,2,20100819,2320, 52.5852, -35.3752, 3039,   1509.9,   3.4502,  34.9150,2,    276.1,2,   -999.0,9, -999.000,9, -999.000,9,     2258
  06M320100804,MT82.2,   610, 39,     12,2,20100819,2320, 52.5852, -35.3752, 3039,   1303.4,   3.6078,  34.9135,2,    275.4,2,    274.6,2,    3.161,3,    1.649,2,     2301
  06M320100804,MT82.2,   610, 39,     13,2,20100819,2320, 52.5852, -35.3752, 3039,   1098.1,   3.6909,  34.9005,2,    278.8,2,   -999.0,9,    3.603,3,    1.918,6,     2304
  06M320100804,MT82.2,   610, 39,     14,2,20100819,2320, 52.5852, -35.3752, 3039,    904.2,   3.7549,  34.8910,2,    281.7,2,   -999.0,9,    3.934,3,    2.111,2,     2307
  06M320100804,MT82.2,   610, 39,     15,2,20100819,2320, 52.5852, -35.3752, 3039,    708.2,   3.9487,  34.8990,2,    279.9,2,    279.4,2,    3.968,3,    2.157,2,     2310
  06M320100804,MT82.2,   610, 39,     16,2,20100819,2320, 52.5852, -35.3752, 3039,    498.0,   4.3541,  34.9233,2,    270.1,2,   -999.0,9,    3.701,3,    2.030,2,     2314
  06M320100804,MT82.2,   610, 39,     17,2,20100819,2320, 52.5852, -35.3752, 3039,    312.4,   4.7316,  34.8971,2,    257.1,2,   -999.0,9, -999.000,9, -999.000,9,     2317
  06M320100804,MT82.2,   610, 39,     18,2,20100819,2320, 52.5852, -35.3752, 3039,    199.4,   5.4200,  34.8820,2,    246.9,2,    249.6,2, -999.000,9, -999.000,9,     2318
  06M320100804,MT82.2,   610, 39,     19,2,20100819,2320, 52.5852, -35.3752, 3039,     99.0,   5.9708,  34.7105,2,    262.6,2,   -999.0,9, -999.000,9, -999.000,9,     2320
  06M320100804,MT82.2,   611, 40,      1,2,20100820,0241, 52.6728, -35.3552, 3715,   3779.3,   2.4791,  34.9130,2,    278.7,2,    278.5,2, -999.000,9, -999.000,9,      143
  06M320100804,MT82.2,   611, 40,      2,2,20100820,0241, 52.6728, -35.3552, 3715,   3734.3,   2.5209,  34.9175,2,    278.5,2,   -999.0,9,    2.464,3,    1.268,6,      144
  06M320100804,MT82.2,   611, 40,      3,2,20100820,0241, 52.6728, -35.3552, 3715,   3600.5,   2.6991,  34.9336,2,    274.6,2,   -999.0,9,    2.339,3,    1.198,2,      146
  06M320100804,MT82.2,   611, 40,      4,2,20100820,0241, 52.6728, -35.3552, 3715,   3299.2,   2.8697,  34.9546,2,    272.5,2,   -999.0,9,    2.391,3,    1.252,2,      151
  06M320100804,MT82.2,   611, 40,      5,2,20100820,0241, 52.6728, -35.3552, 3715,   2998.3,   2.8801,  34.9517,2,    273.7,2,    273.7,2,    2.409,3,    1.255,2,      156
  06M320100804,MT82.2,   611, 40,      6,2,20100820,0241, 52.6728, -35.3552, 3715,   2710.4,   2.9731,  34.9582,2,    274.9,2,   -999.0,9,    2.516,3,    1.310,2,      200
  06M320100804,MT82.2,   611, 40,      7,2,20100820,0241, 52.6728, -35.3552, 3715,   2420.5,   3.0451,  34.9439,2,    276.4,2,   -999.0,9,    2.555,3,    1.331,2,      205
  06M320100804,MT82.2,   611, 40,      8,2,20100820,0241, 52.6728, -35.3552, 3715,   2099.2,   3.0929,  34.9142,2,    277.8,2,   -999.0,9,    2.429,3,    1.239,2,      209
  06M320100804,MT82.2,   611, 40,      9,2,20100820,0241, 52.6728, -35.3552, 3715,   1798.1,   3.2709,  34.9121,2,    277.8,2,    277.2,6,    2.719,3,    1.393,2,      213
  06M320100804,MT82.2,   611, 40,     10,2,20100820,0241, 52.6728, -35.3552, 3715,   1601.0,   3.3939,  34.9134,2,    276.2,2,   -999.0,9,    2.844,3,    1.466,2,      217
  06M320100804,MT82.2,   611, 40,     11,2,20100820,0241, 52.6728, -35.3552, 3715,   1600.8,   3.3950,  34.9137,2,    276.3,2,   -999.0,9, -999.000,9, -999.000,9,      217
  06M320100804,MT82.2,   611, 40,     12,2,20100820,0241, 52.6728, -35.3552, 3715,   1412.2,   3.5198,  34.9158,2,    275.2,2,   -999.0,9, -999.000,9, -999.000,9,      220
  06M320100804,MT82.2,   611, 40,     13,2,20100820,0241, 52.6728, -35.3552, 3715,   1209.4,   3.6609,  34.9116,2,    276.4,2,   -999.0,9,    3.300,3,    1.734,2,      222
  06M320100804,MT82.2,   611, 40,     14,2,20100820,0241, 52.6728, -35.3552, 3715,    999.5,   3.7428,  34.9021,2,    279.7,2,   -999.0,9,    3.588,3,    1.955,2,      225
  06M320100804,MT82.2,   611, 40,     15,2,20100820,0241, 52.6728, -35.3552, 3715,    797.0,   3.8341,  34.8992,2,    279.4,2,    279.6,2,    3.814,3,    2.131,2,      228
  06M320100804,MT82.2,   611, 40,     16,2,20100820,0241, 52.6728, -35.3552, 3715,    636.2,   4.0628,  34.9075,2,    275.7,2,   -999.0,9,    3.709,3,    2.016,2,      230
  06M320100804,MT82.2,   611, 40,     17,2,20100820,0241, 52.6728, -35.3552, 3715,    441.4,   4.3986,  34.9175,2,    267.6,2,   -999.0,9,    3.674,3,    2.067,2,      233
  06M320100804,MT82.2,   611, 40,     18,2,20100820,0241, 52.6728, -35.3552, 3715,    212.5,   5.0540,  34.8120,2,    251.0,2,    254.4,2, -999.000,9, -999.000,9,      237
  06M320100804,MT82.2,   611, 40,     19,2,20100820,0241, 52.6728, -35.3552, 3715,     11.9,  13.6924,  34.4654,2,    270.1,2,    269.7,2, -999.000,9, -999.000,9,      241
  06M320100804,MT82.2,   611, 40,     20,2,20100820,0241, 52.6728, -35.3552, 3715,     11.8,  13.6868,  34.4663,2,    270.0,2,   -999.0,9,    2.895,3,    1.771,2,      241
  06M320100804,MT82.2,   611, 40,     21,2,20100820,0241, 52.6728, -35.3552, 3715,     12.2,  13.6938,  34.4660,2,    270.6,2,   -999.0,9, -999.000,9, -999.000,9,      241
  06M320100804,MT82.2,   611, 40,     22,2,20100820,0241, 52.6728, -35.3552, 3715,     12.0,  13.6904,  34.4654,2,    270.2,2,   -999.0,9, -999.000,9, -999.000,9,      241
  06M320100804,MT82.2,   612, 41,      1,2,20100820,0521, 52.5165, -35.3333, 2655,   2685.0,   3.0517,  34.9717,2,    274.0,2,    273.3,2, -999.000,9, -999.000,9,      439
  06M320100804,MT82.2,   612, 41,      2,2,20100820,0521, 52.5165, -35.3333, 2655,   2684.8,   3.0516,  34.9722,2,    274.6,2,   -999.0,9,    2.656,3,    1.411,6,      439
  06M320100804,MT82.2,   612, 41,      3,2,20100820,0521, 52.5165, -35.3333, 2655,   2499.8,   3.0513,  34.9576,2,    275.4,2,   -999.0,9, -999.000,9, -999.000,9,      443
  06M320100804,MT82.2,   612, 41,      4,2,20100820,0521, 52.5165, -35.3333, 2655,   2398.9,   3.0477,  34.9472,2,    275.9,2,   -999.0,9, -999.000,9, -999.000,9,      444
  06M320100804,MT82.2,   612, 41,      5,2,20100820,0521, 52.5165, -35.3333, 2655,   2200.5,   3.1095,  34.9326,2,    276.7,2,    276.8,6,    2.536,3,    1.308,2,      447
  06M320100804,MT82.2,   612, 41,      6,2,20100820,0521, 52.5165, -35.3333, 2655,   1898.7,   3.3417,  34.9389,2,    276.1,2,   -999.0,9,    2.769,3,    1.388,2,      452
  06M320100804,MT82.2,   612, 41,      7,2,20100820,0521, 52.5165, -35.3333, 2655,   1698.4,   3.3703,  34.9175,2,    276.7,2,   -999.0,9,    2.790,3,    1.410,2,      455
  06M320100804,MT82.2,   612, 41,      8,2,20100820,0521, 52.5165, -35.3333, 2655,   1519.9,   3.4969,  34.9169,2,    275.3,2,   -999.0,9,    2.919,3,    1.512,2,      457
  06M320100804,MT82.2,   612, 41,      9,2,20100820,0521, 52.5165, -35.3333, 2655,   1308.6,   3.6301,  34.9095,2,    276.1,2,    275.1,2, -999.000,9, -999.000,9,      500
  06M320100804,MT82.2,   612, 41,     10,2,20100820,0521, 52.5165, -35.3333, 2655,   1098.8,   3.7197,  34.9013,2,    278.5,2,   -999.0,9, -999.000,9, -999.000,9,      503
  06M320100804,MT82.2,   612, 41,     11,2,20100820,0521, 52.5165, -35.3333, 2655,   1092.4,   3.7190,  34.9002,2,    279.8,2,   -999.0,9, -999.000,9, -999.000,9,      503
  06M320100804,MT82.2,   612, 41,     12,2,20100820,0521, 52.5165, -35.3333, 2655,    899.2,   3.7829,  34.8937,2,    280.8,2,   -999.0,9,    3.812,3,    2.115,2,      506
  06M320100804,MT82.2,   612, 41,     13,2,20100820,0521, 52.5165, -35.3333, 2655,    719.6,   3.9902,  34.9031,2,    278.0,2,    277.8,2,    3.822,3,    2.130,2,      509
  06M320100804,MT82.2,   612, 41,     14,2,20100820,0521, 52.5165, -35.3333, 2655,    515.8,   4.2874,  34.9146,2,    270.2,2,   -999.0,9,    3.687,3,    2.061,2,      512
  06M320100804,MT82.2,   612, 41,     15,2,20100820,0521, 52.5165, -35.3333, 2655,    288.4,   4.8206,  34.8958,2,    252.4,2,   -999.0,9, -999.000,9, -999.000,9,      515
  06M320100804,MT82.2,   612, 41,     16,2,20100820,0521, 52.5165, -35.3333, 2655,    199.3,   5.1874,  34.8388,2,    246.4,2,    242.9,2, -999.000,9, -999.000,9,      516
  06M320100804,MT82.2,   612, 41,     17,2,20100820,0521, 52.5165, -35.3333, 2655,     10.9,  13.6893,  34.4852,2,    267.8,2,   -999.0,9,    2.913,3,    1.786,2,      521
  06M320100804,MT82.2,   612, 41,     18,2,20100820,0521, 52.5165, -35.3333, 2655,     11.0,  13.6890,  34.4856,2,    268.5,2,   -999.0,9, -999.000,9, -999.000,9,      521
  06M320100804,MT82.2,   612, 41,     19,2,20100820,0521, 52.5165, -35.3333, 2655,     11.0,  13.6836,  34.4869,2,    268.1,2,   -999.0,9, -999.000,9, -999.000,9,      521
  06M320100804,MT82.2,   612, 41,     20,2,20100820,0521, 52.5165, -35.3333, 2655,     11.1,  13.6758,  34.4855,2,    267.8,2,   -999.0,9, -999.000,9, -999.000,9,      521
  06M320100804,MT82.2,   612, 41,     21,2,20100820,0521, 52.5165, -35.3333, 2655,     11.2,  13.5760,  34.4941,2,    267.5,2,   -999.0,9, -999.000,9, -999.000,9,      521
  06M320100804,MT82.2,   612, 41,     22,2,20100820,0521, 52.5165, -35.3333, 2655,     11.1,  13.6080,  34.4919,2,    266.2,2,   -999.0,9, -999.000,9, -999.000,9,      521