BOTTLE,20230125CCHSIOENA
EXPOCODE,SECT_ID,STNNBR,CASTNO,BTLNBR,BTLNBR_FLAG_W,DATE,TIME,LATITUDE,LONGITUDE,DEPTH,CTDPRS,CTDTMP,CTDSAL,CTDSAL_FLAG_W,CTDOXY,CTDOXY_FLAG_W,OXYGEN,OXYGEN_FLAG_W,CFC-11,CFC-11_FLAG_W,CFC-12,CFC-12_FLAG_W,BTL_TIME
,,,,,,,,,,METERS,DBAR,ITS-90,PSS-78,,UMOL/KG,,UMOL/KG,,PMOL/KG,,PMOL/KG,,
  06M320100804,MT82.2,   636, 57,      1,2,20100824,0314, 48.7503, -32.3153, 3707,   3775.6,   2.4362,  34.9028,2,    277.7,2,   -999.0,9, -999.000,9, -999.000,9,      206
  06M320100804,MT82.2,   636, 57,      2,2,20100824,0314, 48.7503, -32.3153, 3707,   3775.6,   2.4362,  34.9028,2,    277.7,2,   -999.0,9,    2.059,3,    1.038,2,      206
  06M320100804,MT82.2,   636, 57,      3,2,20100824,0314, 48.7503, -32.3153, 3707,   3599.3,   2.5023,  34.9068,2,    276.7,2,   -999.0,9,    2.015,3,    1.016,2,      210
  06M320100804,MT82.2,   636, 57,      4,2,20100824,0314, 48.7503, -32.3153, 3707,   3406.3,   2.6113,  34.9127,2,    276.8,2,   -999.0,9,    2.021,3,    1.017,2,      213
  06M320100804,MT82.2,   636, 57,      5,2,20100824,0314, 48.7503, -32.3153, 3707,   3099.4,   2.8474,  34.9202,2,    276.6,2,    277.0,2,    2.138,3,    1.080,2,      218
  06M320100804,MT82.2,   636, 57,      6,2,20100824,0314, 48.7503, -32.3153, 3707,   2797.1,   3.0504,  34.9145,2,    276.6,2,   -999.0,9,    2.269,3,    1.140,2,      223
  06M320100804,MT82.2,   636, 57,      7,2,20100824,0314, 48.7503, -32.3153, 3707,   2499.7,   3.1767,  34.9107,2,    276.5,2,   -999.0,9,    2.399,3,    1.199,6,      227
  06M320100804,MT82.2,   636, 57,      8,2,20100824,0314, 48.7503, -32.3153, 3707,   2198.2,   3.3621,  34.9100,2,    276.0,2,   -999.0,9,    2.636,3,    1.326,2,      232
  06M320100804,MT82.2,   636, 57,      9,2,20100824,0314, 48.7503, -32.3153, 3707,   2075.4,   3.4467,  34.9124,2,    275.5,2,   -999.0,9, -999.000,9, -999.000,9,      234
  06M320100804,MT82.2,   636, 57,     10,2,20100824,0314, 48.7503, -32.3153, 3707,   2000.1,   3.4831,  34.9124,2,    274.7,2,    275.0,6,    2.776,3,    1.402,2,      237
  06M320100804,MT82.2,   636, 57,     11,2,20100824,0314, 48.7503, -32.3153, 3707,   1798.6,   3.6097,  34.9157,2,    273.0,2,   -999.0,9,    2.890,3,    1.469,2,      243
  06M320100804,MT82.2,   636, 57,     12,2,20100824,0314, 48.7503, -32.3153, 3707,   1607.2,   3.7628,  34.9196,2,    272.9,2,   -999.0,9,    3.158,3,    1.634,2,      246
  06M320100804,MT82.2,   636, 57,     13,2,20100824,0314, 48.7503, -32.3153, 3707,   1398.2,   3.8698,  34.9158,2,    274.8,2,   -999.0,9,    3.249,3,    1.728,2,      251
  06M320100804,MT82.2,   636, 57,     14,2,20100824,0314, 48.7503, -32.3153, 3707,   1208.2,   4.0465,  34.9209,2,    273.0,2,   -999.0,9,    3.628,3,    1.943,6,      254
  06M320100804,MT82.2,   636, 57,     15,2,20100824,0314, 48.7503, -32.3153, 3707,   1098.2,   4.1466,  34.9222,2,    272.2,2,    272.3,2,    3.665,3,    2.027,2,      256
  06M320100804,MT82.2,   636, 57,     16,2,20100824,0314, 48.7503, -32.3153, 3707,   1007.8,   4.5442,  34.9697,2,    259.1,2,   -999.0,9,    3.178,4,    1.616,4,      257
  06M320100804,MT82.2,   636, 57,     17,2,20100824,0314, 48.7503, -32.3153, 3707,    910.0,   4.6653,  34.9606,2,    258.4,2,    258.8,2,    3.278,3,    1.820,2,      259
  06M320100804,MT82.2,   636, 57,     18,2,20100824,0314, 48.7503, -32.3153, 3707,    796.0,   4.9937,  34.9723,2,    248.9,2,    252.5,2,    3.228,3,    1.762,2,      301
  06M320100804,MT82.2,   636, 57,     19,2,20100824,0314, 48.7503, -32.3153, 3707,    697.4,   5.4728,  34.9814,2,    232.9,2,   -999.0,9, -999.000,9, -999.000,9,      302
  06M320100804,MT82.2,   636, 57,     20,2,20100824,0314, 48.7503, -32.3153, 3707,    502.1,   7.2410,  35.0399,2,    193.2,2,    193.4,2,    2.272,3,    1.299,2,      305
  06M320100804,MT82.2,   636, 57,     21,2,20100824,0314, 48.7503, -32.3153, 3707,    198.6,  12.1649,  35.5499,2,    202.4,2,    203.7,2, -999.000,9, -999.000,9,      310
  06M320100804,MT82.2,   636, 57,     22,2,20100824,0314, 48.7503, -32.3153, 3707,     13.2,  16.4452,  34.4977,2,    256.4,2,    257.8,2,    2.656,3,    1.603,2,      314
  06M320100804,MT82.2,   637, 58,      1,2,20100824,0745, 48.5002, -32.0163, 4186,   4281.2,   2.3849,  34.8977,2,    278.2,2,   -999.0,9, -999.000,9, -999.000,9,      627
  06M320100804,MT82.2,   637, 58,      2,2,20100824,0745, 48.5002, -32.0163, 4186,   4282.1,   2.3851,  34.8975,2,    277.6,2,    278.0,2,    2.159,3,    1.099,2,      627
  06M320100804,MT82.2,   637, 58,      3,2,20100824,0745, 48.5002, -32.0163, 4186,   3798.6,   2.4435,  34.9034,2,    278.5,2,   -999.0,9,    2.113,3,    1.064,2,      635
  06M320100804,MT82.2,   637, 58,      4,2,20100824,0745, 48.5002, -32.0163, 4186,   3599.3,   2.5020,  34.9069,2,    277.7,2,   -999.0,9,    2.036,3,    1.026,2,      638
  06M320100804,MT82.2,   637, 58,      5,2,20100824,0745, 48.5002, -32.0163, 4186,   3297.9,   2.6975,  34.9149,2,    276.5,2,   -999.0,9,    1.996,3,    1.007,6,      643
  06M320100804,MT82.2,   637, 58,      6,2,20100824,0745, 48.5002, -32.0163, 4186,   3002.6,   2.8980,  34.9175,2,    276.5,2,   -999.0,9,    2.114,3,    1.071,2,      648
  06M320100804,MT82.2,   637, 58,      7,2,20100824,0745, 48.5002, -32.0163, 4186,   2698.0,   3.0788,  34.9140,2,    276.7,2,   -999.0,9,    2.279,3,    1.149,2,      652
  06M320100804,MT82.2,   637, 58,      8,2,20100824,0745, 48.5002, -32.0163, 4186,   2386.1,   3.2567,  34.9093,2,    276.6,2,    276.5,2,    2.482,3,    1.250,2,      657
  06M320100804,MT82.2,   637, 58,      9,2,20100824,0745, 48.5002, -32.0163, 4186,   2111.1,   3.4323,  34.9114,2,    275.4,2,   -999.0,9,    2.656,3,    1.342,2,      701
  06M320100804,MT82.2,   637, 58,     10,2,20100824,0745, 48.5002, -32.0163, 4186,   1901.1,   3.5643,  34.9158,2,    273.9,2,   -999.0,9,    2.765,3,    1.409,2,      707
  06M320100804,MT82.2,   637, 58,     11,2,20100824,0745, 48.5002, -32.0163, 4186,   1712.0,   3.6898,  34.9161,2,    273.7,2,   -999.0,9,    3.029,3,    1.551,2,      714
  06M320100804,MT82.2,   637, 58,     12,2,20100824,0745, 48.5002, -32.0163, 4186,   1512.7,   3.8395,  34.9200,2,    272.6,2,   -999.0,9,    3.246,3,    1.701,2,      717
  06M320100804,MT82.2,   637, 58,     13,2,20100824,0745, 48.5002, -32.0163, 4186,   1426.3,   3.9301,  34.9255,2,    271.5,2,   -999.0,9, -999.000,9, -999.000,9,      720
  06M320100804,MT82.2,   637, 58,     14,2,20100824,0745, 48.5002, -32.0163, 4186,   1301.7,   4.0940,  34.9377,2,    268.5,2,    267.9,2,    3.297,3,    1.753,2,      722
  06M320100804,MT82.2,   637, 58,     15,2,20100824,0745, 48.5002, -32.0163, 4186,   1101.9,   4.2724,  34.9351,2,    269.1,2,   -999.0,9,    3.475,3,    1.885,2,      726
  06M320100804,MT82.2,   637, 58,     16,2,20100824,0745, 48.5002, -32.0163, 4186,    897.4,   4.7397,  34.9552,2,    256.9,2,   -999.0,9,    3.361,3,    1.827,6,      729
  06M320100804,MT82.2,   637, 58,     17,2,20100824,0745, 48.5002, -32.0163, 4186,    791.9,   5.4044,  35.0097,2,    238.7,2,   -999.0,9,    2.979,3,    1.639,2,      731
  06M320100804,MT82.2,   637, 58,     18,2,20100824,0745, 48.5002, -32.0163, 4186,    689.9,   5.9444,  35.0176,2,    222.6,2,   -999.0,9,    2.685,3,    1.471,2,      732
  06M320100804,MT82.2,   637, 58,     19,2,20100824,0745, 48.5002, -32.0163, 4186,    493.9,   7.8904,  35.0549,2,    186.7,2,   -999.0,9,    2.256,3,    1.247,2,      735
  06M320100804,MT82.2,   637, 58,     20,2,20100824,0745, 48.5002, -32.0163, 4186,    332.0,  10.0866,  35.2334,2,    217.1,2,    204.1,6, -999.000,9, -999.000,9,      738
  06M320100804,MT82.2,   637, 58,     21,2,20100824,0745, 48.5002, -32.0163, 4186,    195.2,  11.9159,  35.5488,2,    212.2,2,   -999.0,9, -999.000,9, -999.000,9,      740
  06M320100804,MT82.2,   637, 58,     22,2,20100824,0745, 48.5002, -32.0163, 4186,     12.9,  15.7403,  34.8428,2,    264.5,2,    256.9,2,    2.642,3,    1.661,2,      745
  06M320100804,MT82.2,   638, 59,      1,2,20100824,1206, 48.2502, -31.7162, 3853,   3926.8,   2.3965,  34.9006,2,    278.2,2,   -999.0,9, -999.000,9, -999.000,9,     1056
  06M320100804,MT82.2,   638, 59,      2,2,20100824,1206, 48.2502, -31.7162, 3853,   3928.0,   2.3955,  34.8999,2,    277.8,2,    277.8,2,    2.141,3,    1.099,2,     1056
  06M320100804,MT82.2,   638, 59,      3,2,20100824,1206, 48.2502, -31.7162, 3853,   3698.8,   2.4519,  34.9042,2,    277.8,2,   -999.0,9,    2.073,3,    1.084,2,     1100
  06M320100804,MT82.2,   638, 59,      4,2,20100824,1206, 48.2502, -31.7162, 3853,   3401.3,   2.6087,  34.9121,2,    277.0,2,   -999.0,9,    2.055,3,    1.047,2,     1105
  06M320100804,MT82.2,   638, 59,      5,2,20100824,1206, 48.2502, -31.7162, 3853,   3103.0,   2.8152,  34.9203,2,    276.3,2,   -999.0,9,    2.161,3,    1.099,2,     1109
  06M320100804,MT82.2,   638, 59,      6,2,20100824,1206, 48.2502, -31.7162, 3853,   2809.2,   3.0226,  34.9177,2,    275.0,2,   -999.0,9,    2.255,3,    1.137,6,     1114
  06M320100804,MT82.2,   638, 59,      7,2,20100824,1206, 48.2502, -31.7162, 3853,   2494.9,   3.1700,  34.9129,2,    275.2,2,    274.7,3,    2.392,3,    1.215,2,     1119
  06M320100804,MT82.2,   638, 59,      8,2,20100824,1206, 48.2502, -31.7162, 3853,   2211.1,   3.3317,  34.9112,2,    274.9,2,   -999.0,9,    2.595,3,    1.319,2,     1123
  06M320100804,MT82.2,   638, 59,      9,2,20100824,1206, 48.2502, -31.7162, 3853,   1908.5,   3.5190,  34.9120,2,    274.5,2,   -999.0,9, -999.000,9, -999.000,9,     1129
  06M320100804,MT82.2,   638, 59,     10,2,20100824,1206, 48.2502, -31.7162, 3853,   1700.4,   3.6545,  34.9117,2,    274.1,2,    273.6,2,    3.072,3,    1.592,2,     1136
  06M320100804,MT82.2,   638, 59,     11,2,20100824,1206, 48.2502, -31.7162, 3853,   1502.4,   3.7865,  34.9083,2,    276.0,2,   -999.0,9,    3.451,3,    1.840,2,     1139
  06M320100804,MT82.2,   638, 59,     12,2,20100824,1206, 48.2502, -31.7162, 3853,   1398.6,   3.8303,  34.9071,2,    276.7,2,   -999.0,9, -999.000,9, -999.000,9,     1142
  06M320100804,MT82.2,   638, 59,     13,2,20100824,1206, 48.2502, -31.7162, 3853,   1289.2,   3.9165,  34.9105,2,    276.1,2,   -999.0,9,    3.633,3,    1.968,2,     1144
  06M320100804,MT82.2,   638, 59,     14,2,20100824,1206, 48.2502, -31.7162, 3853,   1192.4,   4.0240,  34.9160,2,    273.7,2,   -999.0,9,    3.598,3,    1.943,6,     1146
  06M320100804,MT82.2,   638, 59,     15,2,20100824,1206, 48.2502, -31.7162, 3853,   1079.7,   4.1881,  34.9247,2,    269.9,2,    270.0,2,    3.601,3,    1.986,2,     1147
  06M320100804,MT82.2,   638, 59,     16,2,20100824,1206, 48.2502, -31.7162, 3853,    973.8,   4.5048,  34.9556,2,    261.2,2,   -999.0,9,    3.397,3,    1.839,2,     1149
  06M320100804,MT82.2,   638, 59,     17,2,20100824,1206, 48.2502, -31.7162, 3853,    872.6,   5.0831,  35.0073,2,    247.0,2,   -999.0,9,    2.915,3,    1.653,2,     1150
  06M320100804,MT82.2,   638, 59,     18,2,20100824,1206, 48.2502, -31.7162, 3853,    787.9,   5.4289,  35.0274,2,    238.6,2,   -999.0,9,    2.910,3,    1.570,2,     1152
  06M320100804,MT82.2,   638, 59,     19,2,20100824,1206, 48.2502, -31.7162, 3853,    606.7,   6.4497,  34.9956,2,    209.6,2,    211.5,6,    2.516,3,    1.361,2,     1155
  06M320100804,MT82.2,   638, 59,     20,2,20100824,1206, 48.2502, -31.7162, 3853,    418.2,   9.0106,  35.1425,2,    183.1,2,   -999.0,9, -999.000,9, -999.000,9,     1158
  06M320100804,MT82.2,   638, 59,     21,2,20100824,1206, 48.2502, -31.7162, 3853,    200.1,  11.8151,  35.5336,2,    227.8,2,    231.2,3, -999.000,9, -999.000,9,     1201
  06M320100804,MT82.2,   638, 59,     22,2,20100824,1206, 48.2502, -31.7162, 3853,     14.0,  19.3984,  35.5592,2,    235.4,2,   -999.0,9,    2.175,3,    1.348,2,     1206
  06M320100804,MT82.2,   639, 60,      1,2,20100824,1629, 47.9997, -31.4172, 3998,   4079.1,   2.4283,  34.9006,2,    277.7,2,   -999.0,9, -999.000,9, -999.000,9,     1520
  06M320100804,MT82.2,   639, 60,      2,2,20100824,1629, 47.9997, -31.4172, 3998,   4078.3,   2.4282,  34.9007,2,    277.5,2,    276.6,3,    2.137,3,    1.088,2,     1520
  06M320100804,MT82.2,   639, 60,      3,2,20100824,1629, 47.9997, -31.4172, 3998,   3498.4,   2.5389,  34.9096,2,    277.0,2,   -999.0,9,    2.075,3,    1.048,2,     1530
  06M320100804,MT82.2,   639, 60,      4,2,20100824,1629, 47.9997, -31.4172, 3998,   3197.7,   2.7076,  34.9166,2,    276.6,2,   -999.0,9,    2.067,3,    1.031,2,     1534
  06M320100804,MT82.2,   639, 60,      5,2,20100824,1629, 47.9997, -31.4172, 3998,   2897.3,   2.9107,  34.9194,2,    276.4,2,   -999.0,9,    2.202,3,    1.104,2,     1539
  06M320100804,MT82.2,   639, 60,      6,2,20100824,1629, 47.9997, -31.4172, 3998,   2600.5,   3.0974,  34.9158,2,    276.2,2,   -999.0,9,    2.290,3,    1.139,2,     1544
  06M320100804,MT82.2,   639, 60,      7,2,20100824,1629, 47.9997, -31.4172, 3998,   2298.3,   3.2505,  34.9111,2,    275.8,2,   -999.0,9,    2.525,3,    1.255,2,     1549
  06M320100804,MT82.2,   639, 60,      8,2,20100824,1629, 47.9997, -31.4172, 3998,   2009.5,   3.4177,  34.9102,2,    275.3,2,    275.3,2,    2.752,3,    1.404,2,     1554
  06M320100804,MT82.2,   639, 60,      9,2,20100824,1629, 47.9997, -31.4172, 3998,   1798.8,   3.5494,  34.9123,2,    274.1,2,   -999.0,9,    2.891,3,    1.464,2,     1558
  06M320100804,MT82.2,   639, 60,     10,2,20100824,1629, 47.9997, -31.4172, 3998,   1589.1,   3.7109,  34.9149,2,    272.6,2,   -999.0,9,    3.092,3,    1.588,6,     1601
  06M320100804,MT82.2,   639, 60,     11,2,20100824,1629, 47.9997, -31.4172, 3998,   1513.1,   3.7911,  34.9189,2,    272.2,2,   -999.0,9, -999.000,9, -999.000,9,     1603
  06M320100804,MT82.2,   639, 60,     12,2,20100824,1629, 47.9997, -31.4172, 3998,   1402.3,   3.8971,  34.9235,2,    271.2,2,   -999.0,9,    3.290,3,    1.721,2,     1605
  06M320100804,MT82.2,   639, 60,     13,2,20100824,1629, 47.9997, -31.4172, 3998,   1201.8,   4.2675,  34.9520,2,    266.9,2,   -999.0,9,    3.320,3,    1.758,2,     1608
  06M320100804,MT82.2,   639, 60,     14,2,20100824,1629, 47.9997, -31.4172, 3998,   1079.1,   4.4257,  34.9549,2,    262.6,2,    262.1,6,    3.361,3,    1.790,2,     1610
  06M320100804,MT82.2,   639, 60,     15,2,20100824,1629, 47.9997, -31.4172, 3998,    985.6,   4.7932,  34.9898,2,    253.9,2,   -999.0,9,    3.111,3,    1.688,2,     1611
  06M320100804,MT82.2,   639, 60,     16,2,20100824,1629, 47.9997, -31.4172, 3998,    879.9,   5.1183,  35.0149,2,    245.6,2,   -999.0,9,    2.985,3,    1.615,2,     1613
  06M320100804,MT82.2,   639, 60,     17,2,20100824,1629, 47.9997, -31.4172, 3998,    790.0,   5.6598,  35.0469,2,    233.3,2,   -999.0,9,    2.754,3,    1.491,2,     1615
  06M320100804,MT82.2,   639, 60,     18,2,20100824,1629, 47.9997, -31.4172, 3998,    692.6,   6.2899,  35.0852,2,    221.3,2,   -999.0,9, -999.000,9, -999.000,9,     1616
  06M320100804,MT82.2,   639, 60,     19,2,20100824,1629, 47.9997, -31.4172, 3998,    591.8,   7.1331,  35.0889,2,    202.2,2,   -999.0,9,    2.382,3,    1.294,2,     1617
  06M320100804,MT82.2,   639, 60,     20,2,20100824,1629, 47.9997, -31.4172, 3998,    395.6,   9.4408,  35.1945,2,    182.0,2,    182.0,2,    2.206,3,    1.237,2,     1621
  06M320100804,MT82.2,   639, 60,     21,2,20100824,1629, 47.9997, -31.4172, 3998,    153.2,  12.6721,  35.6777,2,    222.8,2,    225.5,2, -999.000,9, -999.000,9,     1625
  06M320100804,MT82.2,   639, 60,     22,2,20100824,1629, 47.9997, -31.4172, 3998,     12.6,  19.5065,  35.5552,2,    236.5,2,    236.5,2,    2.160,3,    1.354,2,     1629
  06M320100804,MT82.2,   640, 61,      1,2,20100824,2057, 47.6665, -31.1845, 3788,   3859.7,   2.4194,  34.9018,2,    277.7,2,    278.2,2, -999.000,9, -999.000,9,     1957
  06M320100804,MT82.2,   640, 61,      2,2,20100824,2057, 47.6665, -31.1845, 3788,   3860.2,   2.4190,  34.9014,2,    277.9,2,   -999.0,9,    2.099,3,    1.069,6,     1957
  06M320100804,MT82.2,   640, 61,      3,2,20100824,2057, 47.6665, -31.1845, 3788,   3597.1,   2.4719,  34.9052,2,    277.2,2,   -999.0,9,    2.056,3,    1.055,2,     2001
  06M320100804,MT82.2,   640, 61,      4,2,20100824,2057, 47.6665, -31.1845, 3788,   3301.1,   2.6314,  34.9134,2,    276.2,2,   -999.0,9,    2.037,3,    1.044,2,     2006
  06M320100804,MT82.2,   640, 61,      5,2,20100824,2057, 47.6665, -31.1845, 3788,   3001.0,   2.8635,  34.9197,2,    276.9,2,   -999.0,9,    2.101,3,    1.041,2,     2011
  06M320100804,MT82.2,   640, 61,      6,2,20100824,2057, 47.6665, -31.1845, 3788,   2698.4,   3.0480,  34.9162,2,    276.8,2,   -999.0,9,    2.308,3,    1.171,2,     2016
  06M320100804,MT82.2,   640, 61,      7,2,20100824,2057, 47.6665, -31.1845, 3788,   2377.8,   3.2168,  34.9101,2,    277.1,2,    277.7,3,    2.543,3,    1.291,2,     2020
  06M320100804,MT82.2,   640, 61,      8,2,20100824,2057, 47.6665, -31.1845, 3788,   2098.7,   3.3832,  34.9097,2,    276.2,2,   -999.0,9,    2.784,3,    1.378,2,     2025
  06M320100804,MT82.2,   640, 61,      9,2,20100824,2057, 47.6665, -31.1845, 3788,   1778.1,   3.6103,  34.9156,2,    274.0,2,   -999.0,9,    3.028,3,    1.536,2,     2032
  06M320100804,MT82.2,   640, 61,     10,2,20100824,2057, 47.6665, -31.1845, 3788,   1697.5,   3.6601,  34.9148,2,    273.5,2,   -999.0,9, -999.000,9, -999.000,9,     2034
  06M320100804,MT82.2,   640, 61,     11,2,20100824,2057, 47.6665, -31.1845, 3788,   1600.0,   3.7180,  34.9132,2,    274.9,2,   -999.0,9,    3.281,3,    1.683,2,     2035
  06M320100804,MT82.2,   640, 61,     12,2,20100824,2057, 47.6665, -31.1845, 3788,   1399.1,   3.7919,  34.9038,2,    277.5,2,   -999.0,9,    3.672,3,    1.931,2,     2039
  06M320100804,MT82.2,   640, 61,     13,2,20100824,2057, 47.6665, -31.1845, 3788,   1289.6,   3.8934,  34.9062,2,    277.5,2,   -999.0,9,    3.742,3,    1.982,2,     2041
  06M320100804,MT82.2,   640, 61,     14,2,20100824,2057, 47.6665, -31.1845, 3788,   1193.0,   4.0028,  34.9110,2,    275.2,2,   -999.0,9,    3.735,3,    1.989,2,     2042
  06M320100804,MT82.2,   640, 61,     15,2,20100824,2057, 47.6665, -31.1845, 3788,   1091.9,   4.1101,  34.9147,2,    273.7,2,    273.6,2, -999.000,9, -999.000,9,     2044
  06M320100804,MT82.2,   640, 61,     16,2,20100824,2057, 47.6665, -31.1845, 3788,   1082.0,   4.1144,  34.9151,2,    273.2,2,    273.0,2,    3.745,3,    2.007,2,     2044
  06M320100804,MT82.2,   640, 61,     17,2,20100824,2057, 47.6665, -31.1845, 3788,    996.7,   4.2268,  34.9198,2,    270.8,2,   -999.0,9,    3.694,3,    1.967,2,     2046
  06M320100804,MT82.2,   640, 61,     18,2,20100824,2057, 47.6665, -31.1845, 3788,    775.3,   5.4437,  35.0367,2,    237.4,2,   -999.0,9,    2.830,3,    1.505,2,     2049
  06M320100804,MT82.2,   640, 61,     19,2,20100824,2057, 47.6665, -31.1845, 3788,    598.5,   6.3422,  35.0148,2,    213.5,2,   -999.0,9,    2.563,3,    1.383,2,     2052
  06M320100804,MT82.2,   640, 61,     20,2,20100824,2057, 47.6665, -31.1845, 3788,    435.0,   8.5008,  35.1161,2,    183.8,2,    184.9,2,    2.247,3,    1.231,6,     2055
  06M320100804,MT82.2,   640, 61,     21,2,20100824,2057, 47.6665, -31.1845, 3788,    254.3,  11.3017,  35.4529,2,    233.1,2,    225.8,6, -999.000,9, -999.000,9,     2057