BOTTLE,20230125CCHSIOENA
EXPOCODE,SECT_ID,STNNBR,CASTNO,BTLNBR,BTLNBR_FLAG_W,DATE,TIME,LATITUDE,LONGITUDE,DEPTH,CTDPRS,CTDTMP,CTDSAL,CTDSAL_FLAG_W,CTDOXY,CTDOXY_FLAG_W,OXYGEN,OXYGEN_FLAG_W,CFC-11,CFC-11_FLAG_W,CFC-12,CFC-12_FLAG_W,BTL_TIME
,,,,,,,,,,METERS,DBAR,ITS-90,PSS-78,,UMOL/KG,,UMOL/KG,,PMOL/KG,,PMOL/KG,,
  06M320100804,MT82.2,   643, 62,      1,2,20100825,0428, 47.6670, -29.8835, 3395,   3456.2,   2.5937,  34.9102,2,    276.3,2,    275.5,2, -999.000,9, -999.000,9,      318
  06M320100804,MT82.2,   643, 62,      2,2,20100825,0428, 47.6670, -29.8835, 3395,   3456.1,   2.5938,  34.9102,2,    276.3,2,   -999.0,9,    2.053,3,    0.987,2,      318
  06M320100804,MT82.2,   643, 62,      3,2,20100825,0428, 47.6670, -29.8835, 3395,   3299.2,   2.6798,  34.9126,2,    276.2,2,   -999.0,9,    2.187,3,    1.174,2,      321
  06M320100804,MT82.2,   643, 62,      4,2,20100825,0428, 47.6670, -29.8835, 3395,   3098.6,   2.7906,  34.9149,2,    275.2,2,   -999.0,9,    2.239,3,    1.178,2,      324
  06M320100804,MT82.2,   643, 62,      5,2,20100825,0428, 47.6670, -29.8835, 3395,   2864.6,   2.9656,  34.9161,2,    274.9,2,   -999.0,9,    2.207,3,    1.097,2,      327
  06M320100804,MT82.2,   643, 62,      6,2,20100825,0428, 47.6670, -29.8835, 3395,   2697.2,   3.0624,  34.9171,2,    274.2,2,   -999.0,9,    2.288,3,    1.204,2,      329
  06M320100804,MT82.2,   643, 62,      7,2,20100825,0428, 47.6670, -29.8835, 3395,   2498.1,   3.1632,  34.9148,2,    275.0,2,   -999.0,9,    2.384,3,    1.175,2,      332
  06M320100804,MT82.2,   643, 62,      8,2,20100825,0428, 47.6670, -29.8835, 3395,   2289.6,   3.2462,  34.9107,2,    275.5,2,    275.0,2,    2.563,3,    1.270,2,      335
  06M320100804,MT82.2,   643, 62,      9,2,20100825,0428, 47.6670, -29.8835, 3395,   2098.5,   3.3724,  34.9099,2,    275.4,2,   -999.0,9,    2.735,3,    1.360,2,      338
  06M320100804,MT82.2,   643, 62,     10,2,20100825,0428, 47.6670, -29.8835, 3395,   1900.3,   3.4985,  34.9111,2,    274.9,2,   -999.0,9,    2.878,3,    1.433,2,      347
  06M320100804,MT82.2,   643, 62,     11,2,20100825,0428, 47.6670, -29.8835, 3395,   1693.0,   3.6422,  34.9147,2,    274.0,2,   -999.0,9,    3.090,3,    1.553,2,      355
  06M320100804,MT82.2,   643, 62,     12,2,20100825,0428, 47.6670, -29.8835, 3395,   1499.3,   3.8132,  34.9188,2,    272.6,2,   -999.0,9,    3.271,3,    1.669,6,      358
  06M320100804,MT82.2,   643, 62,     13,2,20100825,0428, 47.6670, -29.8835, 3395,   1417.3,   3.8913,  34.9215,2,    271.9,2,   -999.0,9, -999.000,9, -999.000,9,      402
  06M320100804,MT82.2,   643, 62,     14,2,20100825,0428, 47.6670, -29.8835, 3395,   1317.2,   3.9885,  34.9260,2,    270.7,2,    270.3,2,    3.407,3,    1.737,2,      404
  06M320100804,MT82.2,   643, 62,     15,2,20100825,0428, 47.6670, -29.8835, 3395,   1207.1,   4.1685,  34.9425,2,    268.1,2,   -999.0,9,    3.312,3,    1.712,2,      406
  06M320100804,MT82.2,   643, 62,     16,2,20100825,0428, 47.6670, -29.8835, 3395,   1099.4,   4.3992,  34.9613,2,    262.6,2,   -999.0,9,    3.313,3,    1.708,2,      407
  06M320100804,MT82.2,   643, 62,     17,2,20100825,0428, 47.6670, -29.8835, 3395,   1008.8,   4.6919,  34.9816,2,    255.8,2,   -999.0,9,    3.320,3,    1.767,2,      409
  06M320100804,MT82.2,   643, 62,     18,2,20100825,0428, 47.6670, -29.8835, 3395,    888.8,   5.1111,  35.0108,2,    247.4,2,   -999.0,9,    3.119,3,    1.637,2,      410
  06M320100804,MT82.2,   643, 62,     19,2,20100825,0428, 47.6670, -29.8835, 3395,    810.4,   5.6281,  35.0385,2,    234.3,2,    234.9,6, -999.000,9, -999.000,9,      415
  06M320100804,MT82.2,   643, 62,     20,2,20100825,0428, 47.6670, -29.8835, 3395,    449.3,   9.2109,  35.1701,2,    181.7,2,    182.8,2,    2.228,3,    1.255,2,      420
  06M320100804,MT82.2,   643, 62,     21,2,20100825,0428, 47.6670, -29.8835, 3395,    205.3,  12.4215,  35.6358,2,    223.9,2,    220.6,2, -999.000,9, -999.000,9,      424
  06M320100804,MT82.2,   643, 62,     22,2,20100825,0428, 47.6670, -29.8835, 3395,     12.1,  20.0803,  35.5874,2,    232.2,2,   -999.0,9,    2.117,3,    1.329,2,      428
  06M320100804,MT82.2,   646, 63,      1,2,20100825,1058, 47.6673, -28.6580, 2878,   2908.9,   3.0458,  34.9273,2,    269.8,2,   -999.0,9, -999.000,9, -999.000,9,     1004
  06M320100804,MT82.2,   646, 63,      2,2,20100825,1058, 47.6673, -28.6580, 2878,   2909.8,   3.0469,  34.9274,2,    269.7,2,    269.8,2, -999.000,9, -999.000,9,     1004
  06M320100804,MT82.2,   646, 63,      3,2,20100825,1058, 47.6673, -28.6580, 2878,   2798.5,   3.0805,  34.9249,2,    270.9,2,   -999.0,9,    2.030,3,    1.014,2,     1007
  06M320100804,MT82.2,   646, 63,      4,2,20100825,1058, 47.6673, -28.6580, 2878,   2697.5,   3.1025,  34.9220,2,    273.1,2,   -999.0,9,    2.098,3,    1.042,2,     1008
  06M320100804,MT82.2,   646, 63,      5,2,20100825,1058, 47.6673, -28.6580, 2878,   2597.3,   3.1260,  34.9220,2,    273.7,2,   -999.0,9,    2.155,3,    1.080,2,     1010
  06M320100804,MT82.2,   646, 63,      6,2,20100825,1058, 47.6673, -28.6580, 2878,   2397.5,   3.2041,  34.9155,2,    274.0,2,   -999.0,9,    2.339,3,    1.168,2,     1012
  06M320100804,MT82.2,   646, 63,      7,2,20100825,1058, 47.6673, -28.6580, 2878,   2194.8,   3.2898,  34.9120,2,    275.4,2,   -999.0,9,    2.645,3,    1.327,2,     1016
  06M320100804,MT82.2,   646, 63,      8,2,20100825,1058, 47.6673, -28.6580, 2878,   1990.4,   3.4169,  34.9106,2,    275.8,2,   -999.0,9,    2.838,3,    1.378,2,     1023
  06M320100804,MT82.2,   646, 63,      9,2,20100825,1058, 47.6673, -28.6580, 2878,   1780.8,   3.5628,  34.9112,2,    274.8,2,   -999.0,9,    3.057,3,    1.533,2,     1026
  06M320100804,MT82.2,   646, 63,     10,2,20100825,1058, 47.6673, -28.6580, 2878,   1582.7,   3.7202,  34.9149,2,    273.1,2,   -999.0,9,    3.252,3,    1.646,2,     1031
  06M320100804,MT82.2,   646, 63,     11,2,20100825,1058, 47.6673, -28.6580, 2878,   1481.1,   3.8639,  34.9221,2,    272.1,2,    271.0,2,    3.220,3,    1.633,2,     1032
  06M320100804,MT82.2,   646, 63,     12,2,20100825,1058, 47.6673, -28.6580, 2878,   1392.7,   3.9587,  34.9230,2,    271.1,2,   -999.0,9, -999.000,9, -999.000,9,     1034
  06M320100804,MT82.2,   646, 63,     13,2,20100825,1058, 47.6673, -28.6580, 2878,   1298.4,   4.0572,  34.9280,2,    270.2,2,   -999.0,9,    3.583,3,    1.865,2,     1036
  06M320100804,MT82.2,   646, 63,     14,2,20100825,1058, 47.6673, -28.6580, 2878,   1207.1,   4.2249,  34.9431,2,    267.1,2,   -999.0,9,    3.546,3,    1.876,2,     1037
  06M320100804,MT82.2,   646, 63,     15,2,20100825,1058, 47.6673, -28.6580, 2878,   1102.4,   4.5059,  34.9723,2,    261.1,2,   -999.0,9,    3.414,3,    1.795,2,     1039
  06M320100804,MT82.2,   646, 63,     16,2,20100825,1058, 47.6673, -28.6580, 2878,    886.6,   4.8838,  34.9714,2,    252.4,2,   -999.0,9,    3.357,3,    1.808,2,     1042
  06M320100804,MT82.2,   646, 63,     17,2,20100825,1058, 47.6673, -28.6580, 2878,    806.3,   5.3174,  34.9747,2,    241.3,2,   -999.0,9,    3.169,3,    1.701,6,     1043
  06M320100804,MT82.2,   646, 63,     18,2,20100825,1058, 47.6673, -28.6580, 2878,    588.5,   7.1515,  35.0275,2,    199.0,2,    200.5,2,    2.471,3,    1.330,2,     1046
  06M320100804,MT82.2,   646, 63,     19,2,20100825,1058, 47.6673, -28.6580, 2878,    414.9,   9.3825,  35.1722,2,    198.9,2,    197.3,6, -999.000,9, -999.000,9,     1049
  06M320100804,MT82.2,   646, 63,     20,2,20100825,1058, 47.6673, -28.6580, 2878,    201.7,  11.7552,  35.5335,2,    235.3,2,   -999.0,9, -999.000,9, -999.000,9,     1052
  06M320100804,MT82.2,   646, 63,     21,2,20100825,1058, 47.6673, -28.6580, 2878,     12.3,  18.7953,  35.4915,2,    238.9,2,   -999.0,9,    2.339,3,    1.430,2,     1057
  06M320100804,MT82.2,   646, 63,     22,2,20100825,1058, 47.6673, -28.6580, 2878,     12.7,  18.7937,  35.4921,2,    239.0,2,    239.4,2, -999.000,9, -999.000,9,     1058
  06M320100804,MT82.2,   649, 64,      1,2,20100825,1704, 47.6998, -27.4328, 2256,   2286.9,   3.3054,  34.9155,2,    273.3,2,   -999.0,9, -999.000,9, -999.000,9,     1627
  06M320100804,MT82.2,   649, 64,      2,2,20100825,1704, 47.6998, -27.4328, 2256,   2286.6,   3.3047,  34.9156,2,    273.2,2,    272.8,2,    2.537,3,    1.274,2,     1627
  06M320100804,MT82.2,   649, 64,      3,2,20100825,1704, 47.6998, -27.4328, 2256,   2200.0,   3.3153,  34.9149,2,    273.6,2,   -999.0,9,    2.569,3,    1.260,2,     1628
  06M320100804,MT82.2,   649, 64,      4,2,20100825,1704, 47.6998, -27.4328, 2256,   2098.9,   3.3573,  34.9152,2,    273.4,2,   -999.0,9,    2.639,3,    1.316,2,     1630
  06M320100804,MT82.2,   649, 64,      5,2,20100825,1704, 47.6998, -27.4328, 2256,   1897.8,   3.5157,  34.9173,2,    273.1,2,   -999.0,9,    2.755,3,    1.343,2,     1633
  06M320100804,MT82.2,   649, 64,      6,2,20100825,1704, 47.6998, -27.4328, 2256,   1678.1,   3.6187,  34.9136,2,    273.7,2,    272.5,2,    3.056,3,    1.552,2,     1636
  06M320100804,MT82.2,   649, 64,      7,2,20100825,1704, 47.6998, -27.4328, 2256,   1595.9,   3.6944,  34.9171,2,    272.9,2,   -999.0,9, -999.000,9, -999.000,9,     1638
  06M320100804,MT82.2,   649, 64,      8,2,20100825,1704, 47.6998, -27.4328, 2256,   1492.3,   3.7806,  34.9196,2,    272.4,2,    271.2,2,    3.267,3,    1.657,2,     1639
  06M320100804,MT82.2,   649, 64,      9,2,20100825,1704, 47.6998, -27.4328, 2256,   1381.2,   3.8821,  34.9232,2,    271.3,2,   -999.0,9,    3.428,3,    1.809,2,     1641
  06M320100804,MT82.2,   649, 64,     10,2,20100825,1704, 47.6998, -27.4328, 2256,   1282.4,   4.0268,  34.9332,2,    269.3,2,   -999.0,9,    3.384,3,    1.770,6,     1642
  06M320100804,MT82.2,   649, 64,     11,2,20100825,1704, 47.6998, -27.4328, 2256,   1173.9,   4.3249,  34.9538,2,    264.2,2,    263.3,2,    3.354,3,    1.756,2,     1644
  06M320100804,MT82.2,   649, 64,     12,2,20100825,1704, 47.6998, -27.4328, 2256,   1101.6,   4.4241,  34.9592,2,    261.6,2,   -999.0,9,    3.381,3,    1.794,2,     1646
  06M320100804,MT82.2,   649, 64,     13,2,20100825,1704, 47.6998, -27.4328, 2256,   1013.3,   4.7389,  34.9814,2,    255.0,2,   -999.0,9,    3.336,3,    1.794,2,     1647
  06M320100804,MT82.2,   649, 64,     14,2,20100825,1704, 47.6998, -27.4328, 2256,    896.1,   5.3049,  35.0233,2,    242.6,2,   -999.0,9,    3.008,3,    1.623,2,     1649
  06M320100804,MT82.2,   649, 64,     15,2,20100825,1704, 47.6998, -27.4328, 2256,    796.0,   6.0262,  35.0605,2,    224.9,2,   -999.0,9,    2.700,3,    1.480,2,     1651
  06M320100804,MT82.2,   649, 64,     16,2,20100825,1704, 47.6998, -27.4328, 2256,    707.6,   6.6328,  35.0739,2,    210.5,2,   -999.0,9,    2.483,3,    1.331,2,     1652
  06M320100804,MT82.2,   649, 64,     17,2,20100825,1704, 47.6998, -27.4328, 2256,    606.0,   7.7719,  35.1190,2,    194.6,2,   -999.0,9,    2.368,3,    1.303,2,     1653
  06M320100804,MT82.2,   649, 64,     18,2,20100825,1704, 47.6998, -27.4328, 2256,    468.5,   9.5571,  35.2370,2,    194.6,2,    193.5,6,    2.413,3,    1.342,2,     1656
  06M320100804,MT82.2,   649, 64,     19,2,20100825,1704, 47.6998, -27.4328, 2256,    246.5,  11.6202,  35.5258,2,    237.7,2,    239.7,2, -999.000,9, -999.000,9,     1659
  06M320100804,MT82.2,   649, 64,     20,2,20100825,1704, 47.6998, -27.4328, 2256,     12.0,  18.8432,  35.5893,2,    239.0,2,   -999.0,9,    2.297,3,    1.408,6,     1704
  06M320100804,MT82.2,   649, 64,     21,2,20100825,1704, 47.6998, -27.4328, 2256,     12.0,  18.8765,  35.5908,2,    239.7,2,    240.1,2, -999.000,9, -999.000,9,     1704
  06M320100804,MT82.2,   649, 64,     22,2,20100825,1704, 47.6998, -27.4328, 2256,     11.5,  18.8726,  35.5896,2,    239.4,2,   -999.0,9, -999.000,9, -999.000,9,     1704
  06M320100804,MT82.2,   652, 65,      1,2,20100825,2352, 47.7425, -26.2000, 3050,   3101.2,   2.9163,  34.9328,2,    263.3,2,   -999.0,9, -999.000,9, -999.000,9,     2256
  06M320100804,MT82.2,   652, 65,      2,2,20100825,2352, 47.7425, -26.2000, 3050,   3102.8,   2.9099,  34.9330,2,    263.7,2,    263.4,2,    1.574,3,    0.794,6,     2256
  06M320100804,MT82.2,   652, 65,      3,2,20100825,2352, 47.7425, -26.2000, 3050,   2951.4,   2.9505,  34.9327,2,    265.4,2,   -999.0,9,    1.677,3,    0.847,2,     2259
  06M320100804,MT82.2,   652, 65,      4,2,20100825,2352, 47.7425, -26.2000, 3050,   2798.1,   3.0314,  34.9279,2,    268.8,2,   -999.0,9,    1.899,3,    0.960,2,     2301
  06M320100804,MT82.2,   652, 65,      5,2,20100825,2352, 47.7425, -26.2000, 3050,   2606.4,   3.0965,  34.9250,2,    272.3,2,   -999.0,9,    2.117,3,    1.062,2,     2304
  06M320100804,MT82.2,   652, 65,      6,2,20100825,2352, 47.7425, -26.2000, 3050,   2396.3,   3.1830,  34.9173,2,    275.9,2,   -999.0,9,    2.117,3,    1.067,2,     2307
  06M320100804,MT82.2,   652, 65,      7,2,20100825,2352, 47.7425, -26.2000, 3050,   2198.9,   3.2687,  34.9087,2,    277.7,2,   -999.0,9,    2.417,3,    1.210,6,     2311
  06M320100804,MT82.2,   652, 65,      8,2,20100825,2352, 47.7425, -26.2000, 3050,   2008.8,   3.3866,  34.9066,2,    276.5,2,   -999.0,9,    2.789,3,    1.392,2,     2316
  06M320100804,MT82.2,   652, 65,      9,2,20100825,2352, 47.7425, -26.2000, 3050,   1798.8,   3.5511,  34.9104,2,    274.7,2,    274.5,2,    2.987,3,    1.455,2,     2319
  06M320100804,MT82.2,   652, 65,     10,2,20100825,2352, 47.7425, -26.2000, 3050,   1611.3,   3.7033,  34.9173,2,    272.6,2,   -999.0,9,    3.168,3,    1.564,2,     2323
  06M320100804,MT82.2,   652, 65,     11,2,20100825,2352, 47.7425, -26.2000, 3050,   1402.1,   3.9810,  34.9368,2,    269.5,2,   -999.0,9,    3.335,3,    1.672,2,     2327
  06M320100804,MT82.2,   652, 65,     12,2,20100825,2352, 47.7425, -26.2000, 3050,   1314.3,   4.1535,  34.9523,2,    266.6,2,   -999.0,9,    3.342,3,    1.693,2,     2328
  06M320100804,MT82.2,   652, 65,     13,2,20100825,2352, 47.7425, -26.2000, 3050,   1205.6,   4.3684,  34.9670,2,    262.3,2,    261.7,2,    3.334,3,    1.706,2,     2331
  06M320100804,MT82.2,   652, 65,     14,2,20100825,2352, 47.7425, -26.2000, 3050,   1109.3,   4.6921,  34.9983,2,    255.7,2,   -999.0,9, -999.000,9, -999.000,9,     2332
  06M320100804,MT82.2,   652, 65,     15,2,20100825,2352, 47.7425, -26.2000, 3050,   1002.2,   5.2885,  35.0685,2,    242.4,2,   -999.0,9,    2.947,3,    1.521,2,     2334
  06M320100804,MT82.2,   652, 65,     16,2,20100825,2352, 47.7425, -26.2000, 3050,    902.5,   6.0180,  35.1525,2,    229.6,2,   -999.0,9,    2.707,3,    1.402,2,     2335
  06M320100804,MT82.2,   652, 65,     17,2,20100825,2352, 47.7425, -26.2000, 3050,    806.1,   6.3533,  35.1350,2,    221.6,2,   -999.0,9,    2.598,3,    1.379,2,     2337
  06M320100804,MT82.2,   652, 65,     18,2,20100825,2352, 47.7425, -26.2000, 3050,    692.3,   6.8489,  35.0761,2,    205.3,2,    206.7,6, -999.000,9, -999.000,9,     2339
  06M320100804,MT82.2,   652, 65,     19,2,20100825,2352, 47.7425, -26.2000, 3050,    599.9,   7.7499,  35.0997,2,    193.7,2,   -999.0,9,    2.288,3,    1.218,2,     2340
  06M320100804,MT82.2,   652, 65,     20,2,20100825,2352, 47.7425, -26.2000, 3050,    398.2,  10.4618,  35.3392,2,    207.5,2,    205.9,2, -999.000,9, -999.000,9,     2343
  06M320100804,MT82.2,   652, 65,     21,2,20100825,2352, 47.7425, -26.2000, 3050,    220.6,  12.0947,  35.5928,2,    229.5,2,   -999.0,9, -999.000,9, -999.000,9,     2346
  06M320100804,MT82.2,   652, 65,     22,2,20100825,2352, 47.7425, -26.2000, 3050,     12.1,  18.1467,  35.6060,2,    251.3,2,    249.6,2,    2.399,3,    1.447,2,     2352
  06M320100804,MT82.2,   655, 66,      1,2,20100826,0639, 47.7920, -24.9753, 3220,   3273.1,   2.8065,  34.9342,2,    258.1,2,    258.0,2, -999.000,9, -999.000,9,      539
  06M320100804,MT82.2,   655, 66,      2,2,20100826,0639, 47.7920, -24.9753, 3220,   3272.8,   2.8064,  34.9343,2,    258.5,2,   -999.0,9, -999.000,9, -999.000,9,      539
  06M320100804,MT82.2,   655, 66,      3,2,20100826,0639, 47.7920, -24.9753, 3220,   2999.0,   2.9342,  34.9359,2,    266.4,2,   -999.0,9, -999.000,9, -999.000,9,      543
  06M320100804,MT82.2,   655, 66,      4,2,20100826,0639, 47.7920, -24.9753, 3220,   2995.3,   2.9357,  34.9357,2,    266.8,2,   -999.0,9,    1.704,3,    0.842,2,      544
  06M320100804,MT82.2,   655, 66,      5,2,20100826,0639, 47.7920, -24.9753, 3220,   2798.8,   3.0612,  34.9306,2,    271.8,2,   -999.0,9,    2.074,3,    1.014,2,      547
  06M320100804,MT82.2,   655, 66,      6,2,20100826,0639, 47.7920, -24.9753, 3220,   2601.1,   3.1435,  34.9218,2,    274.3,2,   -999.0,9,    2.323,3,    1.132,2,      551
  06M320100804,MT82.2,   655, 66,      7,2,20100826,0639, 47.7920, -24.9753, 3220,   2399.0,   3.2433,  34.9121,2,    276.6,2,    276.3,2, -999.000,9, -999.000,9,      554
  06M320100804,MT82.2,   655, 66,      8,2,20100826,0639, 47.7920, -24.9753, 3220,   2198.4,   3.3490,  34.9075,2,    277.0,2,   -999.0,9,    2.783,4,    1.359,4,      558
  06M320100804,MT82.2,   655, 66,      9,2,20100826,0639, 47.7920, -24.9753, 3220,   2001.8,   3.5228,  34.9092,2,    275.0,2,   -999.0,9,    2.971,4,    1.449,4,      603
  06M320100804,MT82.2,   655, 66,     10,2,20100826,0639, 47.7920, -24.9753, 3220,   1796.5,   3.6702,  34.9113,2,    274.1,2,    272.7,3,    1.748,4,    1.076,4,      607
  06M320100804,MT82.2,   655, 66,     11,2,20100826,0639, 47.7920, -24.9753, 3220,   1583.8,   3.8545,  34.9158,2,    272.6,2,   -999.0,9,    3.519,3,    1.815,6,      611
  06M320100804,MT82.2,   655, 66,     12,2,20100826,0639, 47.7920, -24.9753, 3220,   1396.0,   4.2329,  34.9448,2,    266.2,2,   -999.0,9,    3.535,4,    1.815,4,      614
  06M320100804,MT82.2,   655, 66,     13,2,20100826,0639, 47.7920, -24.9753, 3220,   1316.7,   4.4399,  34.9621,2,    261.7,2,   -999.0,9,    3.507,4,    1.813,4,      616
  06M320100804,MT82.2,   655, 66,     14,2,20100826,0639, 47.7920, -24.9753, 3220,   1229.0,   4.6466,  34.9820,2,    257.0,2,   -999.0,9,    3.451,4,    1.787,4,      618
  06M320100804,MT82.2,   655, 66,     15,2,20100826,0639, 47.7920, -24.9753, 3220,   1127.9,   5.0291,  35.0223,2,    249.0,2,   -999.0,9,    2.535,4,    1.365,4,      620
  06M320100804,MT82.2,   655, 66,     16,2,20100826,0639, 47.7920, -24.9753, 3220,    999.3,   5.2972,  35.0129,2,    242.2,2,   -999.0,9, -999.000,5, -999.000,5,      622
  06M320100804,MT82.2,   655, 66,     17,2,20100826,0639, 47.7920, -24.9753, 3220,    904.4,   6.3770,  35.1286,2,    224.1,2,   -999.0,9,    2.838,4,    1.482,4,      623
  06M320100804,MT82.2,   655, 66,     18,2,20100826,0639, 47.7920, -24.9753, 3220,    710.3,   8.0714,  35.1642,2,    194.0,2,   -999.0,9,    2.351,4,    1.247,4,      626
  06M320100804,MT82.2,   655, 66,     19,2,20100826,0639, 47.7920, -24.9753, 3220,    607.7,   9.2243,  35.2184,2,    191.3,2,    191.4,6, -999.000,9, -999.000,9,      628
  06M320100804,MT82.2,   655, 66,     20,2,20100826,0639, 47.7920, -24.9753, 3220,    528.3,  10.8449,  35.4530,2,    252.4,2,    251.4,2,    3.060,4,    1.721,4,      629
  06M320100804,MT82.2,   655, 66,     21,2,20100826,0639, 47.7920, -24.9753, 3220,    209.2,  12.5459,  35.6756,2,    227.5,2,    227.0,2,    2.225,4,    1.348,4,      634
  06M320100804,MT82.2,   655, 66,     22,2,20100826,0639, 47.7920, -24.9753, 3220,     12.6,  19.5206,  35.6939,2,    234.4,2,   -999.0,9, -999.000,9, -999.000,9,      639