BOTTLE,20230125CCHSIOENA
EXPOCODE,SECT_ID,STNNBR,CASTNO,BTLNBR,BTLNBR_FLAG_W,DATE,TIME,LATITUDE,LONGITUDE,DEPTH,CTDPRS,CTDTMP,CTDSAL,CTDSAL_FLAG_W,CTDOXY,CTDOXY_FLAG_W,OXYGEN,OXYGEN_FLAG_W,CFC-11,CFC-11_FLAG_W,CFC-12,CFC-12_FLAG_W,BTL_TIME
,,,,,,,,,,METERS,DBAR,ITS-90,PSS-78,,UMOL/KG,,UMOL/KG,,PMOL/KG,,PMOL/KG,,
  06M320100804,MT82.2,   579, 29,      1,2,20100813,0059, 47.5750, -32.3515, 4109,   4188.7,   2.3517,  34.8972,2,    278.9,2,    278.6,2, -999.000,9, -999.000,9,     2352
  06M320100804,MT82.2,   579, 29,      2,2,20100813,0059, 47.5750, -32.3515, 4109,   3798.6,   2.4290,  34.9028,2,    277.4,2,   -999.0,9, -999.000,9, -999.000,9,     2359
  06M320100804,MT82.2,   579, 29,      3,2,20100813,0059, 47.5750, -32.3515, 4109,   3503.3,   2.5918,  34.9122,2,    277.0,2,   -999.0,9,    2.104,3,    1.062,2,        3
  06M320100804,MT82.2,   579, 29,      4,2,20100813,0059, 47.5750, -32.3515, 4109,   3201.7,   2.7130,  34.9167,2,    276.2,2,    276.3,3,    2.074,3,    1.041,2,        8
  06M320100804,MT82.2,   579, 29,      5,2,20100813,0059, 47.5750, -32.3515, 4109,   2898.4,   2.8909,  34.9171,2,    274.0,2,   -999.0,9,    2.141,3,    1.070,2,       12
  06M320100804,MT82.2,   579, 29,      6,2,20100813,0059, 47.5750, -32.3515, 4109,   2604.2,   3.0689,  34.9148,2,    277.2,2,   -999.0,9,    2.353,3,    1.186,2,       17
  06M320100804,MT82.2,   579, 29,      7,2,20100813,0059, 47.5750, -32.3515, 4109,   2300.3,   3.2740,  34.9122,2,    275.2,2,   -999.0,9,    2.512,3,    1.276,2,       21
  06M320100804,MT82.2,   579, 29,      8,2,20100813,0059, 47.5750, -32.3515, 4109,   2111.1,   3.3946,  34.9106,2,    276.1,2,   -999.0,9,    2.704,3,    1.376,2,       24
  06M320100804,MT82.2,   579, 29,      9,2,20100813,0059, 47.5750, -32.3515, 4109,   1898.4,   3.5307,  34.9129,2,    274.6,2,   -999.0,9,    2.778,3,    1.408,2,       27
  06M320100804,MT82.2,   579, 29,     10,2,20100813,0059, 47.5750, -32.3515, 4109,   1799.3,   3.6022,  34.9139,2,    273.9,2,   -999.0,9,    2.872,3,    1.479,2,       29
  06M320100804,MT82.2,   579, 29,     11,2,20100813,0059, 47.5750, -32.3515, 4109,   1797.0,   3.6030,  34.9144,2,    274.1,2,   -999.0,9, -999.000,9, -999.000,9,       29
  06M320100804,MT82.2,   579, 29,     12,2,20100813,0059, 47.5750, -32.3515, 4109,   1690.0,   3.6921,  34.9146,2,    273.1,2,    274.8,3,    3.008,3,    1.545,2,       31
  06M320100804,MT82.2,   579, 29,     13,2,20100813,0059, 47.5750, -32.3515, 4109,   1609.1,   3.7580,  34.9164,2,    273.5,2,   -999.0,9,    3.138,3,    1.661,2,       32
  06M320100804,MT82.2,   579, 29,     14,2,20100813,0059, 47.5750, -32.3515, 4109,   1498.9,   3.8223,  34.9115,2,    275.2,2,   -999.0,9,    3.269,3,    1.731,2,       33
  06M320100804,MT82.2,   579, 29,     15,2,20100813,0059, 47.5750, -32.3515, 4109,   1398.7,   3.8561,  34.9069,2,    276.5,2,   -999.0,9, -999.000,9, -999.000,9,       35
  06M320100804,MT82.2,   579, 29,     16,2,20100813,0059, 47.5750, -32.3515, 4109,   1297.9,   3.9804,  34.9139,2,    274.7,2,   -999.0,9,    3.617,3,    1.977,2,       37
  06M320100804,MT82.2,   579, 29,     17,2,20100813,0059, 47.5750, -32.3515, 4109,   1100.3,   4.3028,  34.9332,2,    267.2,2,   -999.0,9,    3.539,3,    1.947,2,       40
  06M320100804,MT82.2,   579, 29,     18,2,20100813,0059, 47.5750, -32.3515, 4109,    912.3,   5.0410,  34.9918,2,    249.8,2,   -999.0,9,    3.124,3,    1.727,6,       43
  06M320100804,MT82.2,   579, 29,     19,2,20100813,0059, 47.5750, -32.3515, 4109,    811.2,   5.8045,  35.0501,2,    230.2,2,   -999.0,9, -999.000,9, -999.000,9,       44
  06M320100804,MT82.2,   579, 29,     20,2,20100813,0059, 47.5750, -32.3515, 4109,    600.7,   7.1845,  35.0191,2,    197.3,2,    198.5,2,    2.346,3,    1.311,2,       47
  06M320100804,MT82.2,   579, 29,     21,2,20100813,0059, 47.5750, -32.3515, 4109,    288.7,  11.6137,  35.5115,2,    237.4,2,    234.0,2, -999.000,9, -999.000,9,       52
  06M320100804,MT82.2,   579, 29,     22,2,20100813,0059, 47.5750, -32.3515, 4109,     12.5,  18.1527,  35.2972,2,    252.4,2,    253.8,2,    2.434,3,    1.516,2,       59
  06M320100804,MT82.2,   584, 30,      1,2,20100814,1044, 47.6723, -31.1463, 4068,   4146.5,   2.4378,  34.9013,2,    277.8,2,    278.1,2, -999.000,9, -999.000,9,      942
  06M320100804,MT82.2,   584, 30,      2,2,20100814,1044, 47.6723, -31.1463, 4068,   3598.9,   2.4990,  34.9070,2,    277.7,2,   -999.0,9, -999.000,9, -999.000,9,      951
  06M320100804,MT82.2,   584, 30,      3,2,20100814,1044, 47.6723, -31.1463, 4068,   2990.1,   2.8759,  34.9202,2,    276.6,2,    278.4,2, -999.000,9, -999.000,9,     1000
  06M320100804,MT82.2,   584, 30,      4,2,20100814,1044, 47.6723, -31.1463, 4068,   1983.5,   3.4248,  34.9103,2,    276.0,2,    276.3,2, -999.000,9, -999.000,9,     1015
  06M320100804,MT82.2,   584, 30,      5,2,20100814,1044, 47.6723, -31.1463, 4068,   1008.3,   4.3458,  34.9313,2,    267.5,2,    268.5,2, -999.000,9, -999.000,9,     1030
  06M320100804,MT82.2,   584, 30,      6,2,20100814,1044, 47.6723, -31.1463, 4068,    415.8,   8.8109,  35.1371,2,    184.4,2,    182.8,6, -999.000,9, -999.000,9,     1039
  06M320100804,MT82.2,   584, 30,      7,2,20100814,1044, 47.6723, -31.1463, 4068,     97.2,  13.4572,  35.7537,2,    233.2,2,    229.1,2, -999.000,9, -999.000,9,     1044
  06M320100804,MT82.2,   587, 31,      1,2,20100815,0405, 49.0178, -32.6073, 3934,   4017.9,   2.3665,  34.8998,2,    279.6,2,    278.6,2, -999.000,9, -999.000,9,      302
  06M320100804,MT82.2,   587, 31,      2,2,20100815,0405, 49.0178, -32.6073, 3934,   3499.7,   2.5606,  34.9101,2,    277.0,2,   -999.0,9, -999.000,9, -999.000,9,      311
  06M320100804,MT82.2,   587, 31,      3,2,20100815,0405, 49.0178, -32.6073, 3934,   2999.6,   2.8770,  34.9175,2,    276.2,2,    275.9,2, -999.000,9, -999.000,9,      319
  06M320100804,MT82.2,   587, 31,      4,2,20100815,0405, 49.0178, -32.6073, 3934,   2483.4,   3.1714,  34.9119,2,    277.0,2,   -999.0,9, -999.000,9, -999.000,9,      326
  06M320100804,MT82.2,   587, 31,      5,2,20100815,0405, 49.0178, -32.6073, 3934,   1986.5,   3.4921,  34.9133,2,    275.0,2,    274.2,2, -999.000,9, -999.000,9,      334
  06M320100804,MT82.2,   587, 31,      6,2,20100815,0405, 49.0178, -32.6073, 3934,   1473.4,   3.8094,  34.9120,2,    276.2,2,   -999.0,9, -999.000,9, -999.000,9,      341
  06M320100804,MT82.2,   587, 31,      7,2,20100815,0405, 49.0178, -32.6073, 3934,   1003.6,   4.3988,  34.9448,2,    264.7,2,    263.6,2, -999.000,9, -999.000,9,      348
  06M320100804,MT82.2,   587, 31,      8,2,20100815,0405, 49.0178, -32.6073, 3934,    499.4,   7.0750,  34.9644,2,    196.7,2,    195.7,2, -999.000,9, -999.000,9,      356
  06M320100804,MT82.2,   587, 31,      9,2,20100815,0405, 49.0178, -32.6073, 3934,     10.9,  19.2056,  35.2367,2,    244.8,2,    248.4,3, -999.000,9, -999.000,9,      405
  06M320100804,MT82.2,   589, 32,      1,2,20100815,1501, 49.6168, -33.2745, 4096,   4174.0,   2.3458,  34.8981,2,    280.1,2,   -999.0,9, -999.000,9, -999.000,9,     1406
  06M320100804,MT82.2,   589, 32,      2,2,20100815,1501, 49.6168, -33.2745, 4096,   3998.6,   2.3865,  34.9013,2,    279.2,2,    279.6,2, -999.000,9, -999.000,9,     1410
  06M320100804,MT82.2,   589, 32,      3,2,20100815,1501, 49.6168, -33.2745, 4096,   3499.2,   2.5148,  34.9099,2,    277.4,2,    279.9,2, -999.000,9, -999.000,9,     1418
  06M320100804,MT82.2,   589, 32,      4,2,20100815,1501, 49.6168, -33.2745, 4096,   2998.9,   2.8247,  34.9184,2,    276.9,2,   -999.0,9, -999.000,9, -999.000,9,     1426
  06M320100804,MT82.2,   589, 32,      5,2,20100815,1501, 49.6168, -33.2745, 4096,   2498.4,   3.1264,  34.9177,2,    277.7,2,    276.3,2, -999.000,9, -999.000,9,     1433
  06M320100804,MT82.2,   589, 32,      6,2,20100815,1501, 49.6168, -33.2745, 4096,   2010.4,   3.4026,  34.9116,2,    276.1,2,   -999.0,9, -999.000,9, -999.000,9,     1440
  06M320100804,MT82.2,   589, 32,      7,2,20100815,1501, 49.6168, -33.2745, 4096,   1501.4,   3.7392,  34.9202,2,    273.3,2,    275.8,2, -999.000,9, -999.000,9,     1447
  06M320100804,MT82.2,   589, 32,      8,2,20100815,1501, 49.6168, -33.2745, 4096,   1017.1,   4.2097,  34.9394,2,    268.3,2,    269.4,2, -999.000,9, -999.000,9,     1454
  06M320100804,MT82.2,   589, 32,      9,2,20100815,1501, 49.6168, -33.2745, 4096,    497.9,   5.7699,  34.9353,2,    222.4,2,    223.1,2, -999.000,9, -999.000,9,     1501
  06M320100804,MT82.2,   591, 33,      1,2,20100815,2345, 49.7832, -33.5508, 4220,   4300.3,   2.3563,  34.8973,2,    280.8,2,    280.5,2, -999.000,9, -999.000,9,     2235
  06M320100804,MT82.2,   591, 33,      2,2,20100815,2345, 49.7832, -33.5508, 4220,   3993.5,   2.3771,  34.9001,2,    279.8,2,    279.3,2, -999.000,9, -999.000,9,     2241
  06M320100804,MT82.2,   591, 33,      3,2,20100815,2345, 49.7832, -33.5508, 4220,   3498.3,   2.5063,  34.9093,2,    278.4,2,   -999.0,9, -999.000,9, -999.000,9,     2249
  06M320100804,MT82.2,   591, 33,      4,2,20100815,2345, 49.7832, -33.5508, 4220,   2993.5,   2.8618,  34.9228,2,    276.8,2,    276.1,2, -999.000,9, -999.000,9,     2256
  06M320100804,MT82.2,   591, 33,      5,2,20100815,2345, 49.7832, -33.5508, 4220,   2503.4,   3.1097,  34.9148,2,    277.9,2,   -999.0,9, -999.000,9, -999.000,9,     2304
  06M320100804,MT82.2,   591, 33,      6,2,20100815,2345, 49.7832, -33.5508, 4220,   2007.5,   3.4331,  34.9135,2,    276.3,2,    275.7,2, -999.000,9, -999.000,9,     2312
  06M320100804,MT82.2,   591, 33,      7,2,20100815,2345, 49.7832, -33.5508, 4220,   1499.5,   3.7375,  34.9169,2,    273.9,2,    273.0,2, -999.000,9, -999.000,9,     2319
  06M320100804,MT82.2,   591, 33,      8,2,20100815,2345, 49.7832, -33.5508, 4220,    983.0,   4.1793,  34.9282,2,    270.5,2,   -999.0,9, -999.000,9, -999.000,9,     2327
  06M320100804,MT82.2,   591, 33,      9,2,20100815,2345, 49.7832, -33.5508, 4220,    405.6,   6.3763,  34.8973,2,    207.6,2,    209.0,6, -999.000,9, -999.000,9,     2336
  06M320100804,MT82.2,   591, 33,     10,2,20100815,2345, 49.7832, -33.5508, 4220,     12.9,  16.6637,  34.7773,2,    255.0,2,   -999.0,9, -999.000,9, -999.000,9,     2345
  06M320100804,MT82.2,   592, 34,      1,2,20100816,0359, 49.9505, -33.8363, 4160,   4242.6,   2.3541,  34.8973,2,    280.8,2,    278.5,2, -999.000,9, -999.000,9,      245
  06M320100804,MT82.2,   592, 34,      2,2,20100816,0359, 49.9505, -33.8363, 4160,   3999.6,   2.3922,  34.9009,2,    279.2,2,   -999.0,9, -999.000,9, -999.000,9,      251
  06M320100804,MT82.2,   592, 34,      3,2,20100816,0359, 49.9505, -33.8363, 4160,   3498.8,   2.5244,  34.9104,2,    277.6,2,    277.1,6, -999.000,9, -999.000,9,      300
  06M320100804,MT82.2,   592, 34,      4,2,20100816,0359, 49.9505, -33.8363, 4160,   2998.4,   2.8644,  34.9262,2,    277.0,2,   -999.0,9, -999.000,9, -999.000,9,      308
  06M320100804,MT82.2,   592, 34,      5,2,20100816,0359, 49.9505, -33.8363, 4160,   2498.5,   3.1450,  34.9177,2,    277.8,2,    276.9,2, -999.000,9, -999.000,9,      318
  06M320100804,MT82.2,   592, 34,      6,2,20100816,0359, 49.9505, -33.8363, 4160,   2026.1,   3.4178,  34.9114,2,    276.5,2,   -999.0,9, -999.000,9, -999.000,9,      329
  06M320100804,MT82.2,   592, 34,      7,2,20100816,0359, 49.9505, -33.8363, 4160,   1516.2,   3.7452,  34.9119,2,    275.7,2,    275.5,2, -999.000,9, -999.000,9,      335
  06M320100804,MT82.2,   592, 34,      8,2,20100816,0359, 49.9505, -33.8363, 4160,   1004.5,   4.2349,  34.9343,2,    268.9,2,   -999.0,9, -999.000,9, -999.000,9,      343
  06M320100804,MT82.2,   592, 34,      9,2,20100816,0359, 49.9505, -33.8363, 4160,    528.5,   5.9021,  34.9399,2,    221.0,2,    220.5,2, -999.000,9, -999.000,9,      350
  06M320100804,MT82.2,   592, 34,     10,2,20100816,0359, 49.9505, -33.8363, 4160,     10.4,  16.8008,  35.1784,2,    256.1,2,    253.5,2, -999.000,9, -999.000,9,      359
  06M320100804,MT82.2,   592, 34,     11,2,20100816,0359, 49.9505, -33.8363, 4160,     10.0,  16.7949,  35.1793,2,    256.2,2,   -999.0,9, -999.000,9, -999.000,9,      359
  06M320100804,MT82.2,   601, 35,      1,2,20100818,2240, 52.7808, -35.3590, 3259,   3309.0,   2.9596,  34.9664,2,    272.5,2,    272.7,2, -999.000,9, -999.000,9,     2148
  06M320100804,MT82.2,   601, 35,      2,2,20100818,2240, 52.7808, -35.3590, 3259,   3308.0,   2.9592,  34.9669,2,    272.1,2,   -999.0,9,    2.535,3,    1.314,2,     2148
  06M320100804,MT82.2,   601, 35,      3,2,20100818,2240, 52.7808, -35.3590, 3259,   2998.6,   2.9784,  34.9706,2,    272.1,2,   -999.0,9,    2.549,3,    1.359,6,     2153
  06M320100804,MT82.2,   601, 35,      4,2,20100818,2240, 52.7808, -35.3590, 3259,   2797.6,   3.0095,  34.9761,2,    273.8,2,    273.7,2,    2.652,3,    1.416,2,     2156
  06M320100804,MT82.2,   601, 35,      5,2,20100818,2240, 52.7808, -35.3590, 3259,   2598.8,   3.0162,  34.9703,2,    274.1,2,   -999.0,9,    2.694,3,    1.428,2,     2159
  06M320100804,MT82.2,   601, 35,      6,2,20100818,2240, 52.7808, -35.3590, 3259,   2402.5,   3.0597,  34.9696,2,    275.0,2,   -999.0,9,    2.615,3,    1.409,2,     2202
  06M320100804,MT82.2,   601, 35,      7,2,20100818,2240, 52.7808, -35.3590, 3259,   2202.0,   2.9996,  34.9414,2,    276.9,2,   -999.0,9,    2.465,3,    1.322,2,     2205
  06M320100804,MT82.2,   601, 35,      8,2,20100818,2240, 52.7808, -35.3590, 3259,   1999.2,   3.2490,  34.9646,2,    275.9,2,    275.6,2,    1.359,4,    0.700,4,     2208
  06M320100804,MT82.2,   601, 35,      9,2,20100818,2240, 52.7808, -35.3590, 3259,   1799.1,   3.2451,  34.9265,2,    277.0,2,   -999.0,9,    2.678,3,    1.376,2,     2211
  06M320100804,MT82.2,   601, 35,     10,2,20100818,2240, 52.7808, -35.3590, 3259,   1577.2,   3.3778,  34.9245,2,    276.5,2,   -999.0,9,    2.926,3,    1.597,2,     2214
  06M320100804,MT82.2,   601, 35,     11,2,20100818,2240, 52.7808, -35.3590, 3259,   1398.8,   3.4969,  34.9163,2,    275.7,2,    274.9,2,    2.988,3,    1.577,2,     2217
  06M320100804,MT82.2,   601, 35,     12,2,20100818,2240, 52.7808, -35.3590, 3259,   1198.9,   3.6684,  34.9175,2,    275.4,2,   -999.0,9,    3.270,3,    1.757,2,     2220
  06M320100804,MT82.2,   601, 35,     13,2,20100818,2240, 52.7808, -35.3590, 3259,    999.8,   3.7216,  34.8990,2,    278.9,2,   -999.0,9,    3.604,3,    1.993,6,     2223
  06M320100804,MT82.2,   601, 35,     14,2,20100818,2240, 52.7808, -35.3590, 3259,    785.3,   3.8894,  34.9027,2,    278.7,2,    278.1,6,    3.702,3,    2.090,2,     2226
  06M320100804,MT82.2,   601, 35,     15,2,20100818,2240, 52.7808, -35.3590, 3259,    580.6,   4.1836,  34.9110,2,    273.9,2,   -999.0,9,    3.687,3,    2.100,2,     2228
  06M320100804,MT82.2,   601, 35,     16,2,20100818,2240, 52.7808, -35.3590, 3259,    388.9,   4.5191,  34.9027,2,    266.6,2,    266.1,2,    3.654,3,    2.106,2,     2231
  06M320100804,MT82.2,   601, 35,     17,2,20100818,2240, 52.7808, -35.3590, 3259,    192.4,   5.3522,  34.8315,2,    245.8,2,   -999.0,9, -999.000,9, -999.000,9,     2234
  06M320100804,MT82.2,   601, 35,     18,2,20100818,2240, 52.7808, -35.3590, 3259,     12.2,  13.4825,  34.4292,2,    276.9,2,   -999.0,9,    2.910,3,    1.811,2,     2240
  06M320100804,MT82.2,   603, 36,      1,2,20100818,0127, 52.8482, -35.4087, 2895,   2935.4,   3.0502,  34.9782,2,    274.4,2,    274.5,2, -999.000,9, -999.000,9,       40
  06M320100804,MT82.2,   603, 36,      2,2,20100818,0127, 52.8482, -35.4087, 2895,   2927.2,   3.0527,  34.9780,2,    273.9,2,   -999.0,9,    2.605,3,    1.429,2,       41
  06M320100804,MT82.2,   603, 36,      3,2,20100818,0127, 52.8482, -35.4087, 2895,   2799.3,   3.0662,  34.9794,2,    274.7,2,   -999.0,9,    2.627,3,    1.439,2,       43
  06M320100804,MT82.2,   603, 36,      4,2,20100818,0127, 52.8482, -35.4087, 2895,   2598.7,   3.0527,  34.9795,2,    274.3,2,   -999.0,9,    2.650,3,    1.460,6,       46
  06M320100804,MT82.2,   603, 36,      5,2,20100818,0127, 52.8482, -35.4087, 2895,   2392.4,   3.0507,  34.9787,2,    274.4,2,    274.7,2,    2.649,3,    1.455,2,       49
  06M320100804,MT82.2,   603, 36,      6,2,20100818,0127, 52.8482, -35.4087, 2895,   2200.0,   3.0859,  34.9771,2,    275.0,2,   -999.0,9,    2.662,3,    1.461,2,       52
  06M320100804,MT82.2,   603, 36,      7,2,20100818,0127, 52.8482, -35.4087, 2895,   1998.0,   3.2154,  34.9697,2,    275.6,2,   -999.0,9,    2.687,3,    1.478,2,       55
  06M320100804,MT82.2,   603, 36,      8,2,20100818,0127, 52.8482, -35.4087, 2895,   1799.3,   3.3230,  34.9589,2,    275.6,2,    275.2,2,    2.764,3,    1.496,2,       58
  06M320100804,MT82.2,   603, 36,      9,2,20100818,0127, 52.8482, -35.4087, 2895,   1596.7,   3.4166,  34.9438,2,    276.0,2,   -999.0,9,    2.802,3,    1.514,2,      101
  06M320100804,MT82.2,   603, 36,     10,2,20100818,0127, 52.8482, -35.4087, 2895,   1394.2,   3.5287,  34.9305,2,    275.4,2,   -999.0,9,    2.923,3,    1.583,2,      104
  06M320100804,MT82.2,   603, 36,     11,2,20100818,0127, 52.8482, -35.4087, 2895,   1394.0,   3.5319,  34.9307,2,    275.4,2,   -999.0,9, -999.000,9, -999.000,9,      104
  06M320100804,MT82.2,   603, 36,     12,2,20100818,0127, 52.8482, -35.4087, 2895,   1195.0,   3.6457,  34.9218,2,    275.0,2,    273.9,6,    3.103,3,    1.704,2,      106
  06M320100804,MT82.2,   603, 36,     13,2,20100818,0127, 52.8482, -35.4087, 2895,    998.3,   3.7226,  34.8993,2,    278.8,2,   -999.0,9,    3.528,3,    1.992,2,      109
  06M320100804,MT82.2,   603, 36,     14,2,20100818,0127, 52.8482, -35.4087, 2895,    789.3,   4.0128,  34.9186,2,    272.2,2,   -999.0,9,    3.493,3,    1.965,6,      112
  06M320100804,MT82.2,   603, 36,     16,2,20100818,0127, 52.8482, -35.4087, 2895,    592.4,   4.2186,  34.9104,2,    271.0,2,    268.3,2,    3.562,3,    2.061,2,      115
  06M320100804,MT82.2,   603, 36,     17,2,20100818,0127, 52.8482, -35.4087, 2895,    405.4,   4.6934,  34.9255,2,    259.1,2,   -999.0,9, -999.000,9, -999.000,9,      118
  06M320100804,MT82.2,   603, 36,     18,2,20100818,0127, 52.8482, -35.4087, 2895,    204.2,   5.2245,  34.8034,2,    263.0,2,    266.9,2,    3.736,3,    2.237,2,      122
  06M320100804,MT82.2,   603, 36,     19,2,20100818,0127, 52.8482, -35.4087, 2895,     11.3,  13.4591,  34.4259,2,    276.7,2,   -999.0,9,    2.873,3,    1.810,2,      127