BOTTLE,20230125CCHSIOENA
EXPOCODE,SECT_ID,STNNBR,CASTNO,BTLNBR,BTLNBR_FLAG_W,DATE,TIME,LATITUDE,LONGITUDE,DEPTH,CTDPRS,CTDTMP,CTDSAL,CTDSAL_FLAG_W,CTDOXY,CTDOXY_FLAG_W,OXYGEN,OXYGEN_FLAG_W,CFC-11,CFC-11_FLAG_W,CFC-12,CFC-12_FLAG_W,BTL_TIME
,,,,,,,,,,METERS,DBAR,ITS-90,PSS-78,,UMOL/KG,,UMOL/KG,,PMOL/KG,,PMOL/KG,,
  06M320100804,MT82.2,   518,  6,      1,2,20100806,1715, 47.1003, -46.5580,  500,    499.6,   3.9525,  34.9060,2,    278.7,2,    279.8,2, -999.000,9, -999.000,9,     1704
  06M320100804,MT82.2,   518,  6,      2,2,20100806,1715, 47.1003, -46.5580,  500,    499.4,   3.9526,  34.9054,2,    279.0,2,   -999.0,9,    3.873,3,    2.223,6,     1704
  06M320100804,MT82.2,   518,  6,      3,2,20100806,1715, 47.1003, -46.5580,  500,    401.3,   4.1109,  34.9163,2,    276.6,2,    278.7,2, -999.000,9, -999.000,9,     1706
  06M320100804,MT82.2,   518,  6,      4,2,20100806,1715, 47.1003, -46.5580,  500,    399.2,   4.1201,  34.9177,2,    276.1,2,   -999.0,9,    3.843,3,    2.200,2,     1706
  06M320100804,MT82.2,   518,  6,      5,2,20100806,1715, 47.1003, -46.5580,  500,    256.6,   4.4927,  34.9093,2,    266.3,2,    265.7,2, -999.000,9, -999.000,9,     1709
  06M320100804,MT82.2,   518,  6,      6,2,20100806,1715, 47.1003, -46.5580,  500,    253.2,   4.4409,  34.8997,2,    267.4,2,   -999.0,9,    3.587,3,    2.071,2,     1709
  06M320100804,MT82.2,   518,  6,      7,2,20100806,1715, 47.1003, -46.5580,  500,     99.6,   3.9763,  34.5040,2,    259.6,2,    256.5,6, -999.000,9, -999.000,9,     1712
  06M320100804,MT82.2,   518,  6,      8,2,20100806,1715, 47.1003, -46.5580,  500,     98.6,   3.9773,  34.5055,2,    260.0,2,   -999.0,9,    4.062,3,    2.385,2,     1712
  06M320100804,MT82.2,   518,  6,      9,2,20100806,1715, 47.1003, -46.5580,  500,     11.7,  12.8189,  33.2974,2,    277.1,2,    282.6,2, -999.000,9, -999.000,9,     1715
  06M320100804,MT82.2,   518,  6,     10,2,20100806,1715, 47.1003, -46.5580,  500,     11.5,  12.8109,  33.2990,2,    276.8,2,   -999.0,9,    3.405,3,    2.056,2,     1715
  06M320100804,MT82.2,   519,  7,      1,2,20100806,1822, 47.1002, -46.4083,  350,    347.4,   4.0093,  34.9064,2,    277.2,2,    275.9,2, -999.000,9, -999.000,9,     1814
  06M320100804,MT82.2,   519,  7,      2,2,20100806,1822, 47.1002, -46.4083,  350,    347.5,   4.0092,  34.9067,2,    277.2,2,   -999.0,9,   -0.002,4,   -0.002,4,     1814
  06M320100804,MT82.2,   519,  7,      3,2,20100806,1822, 47.1002, -46.4083,  350,    300.7,   4.0843,  34.9057,2,    277.5,2,    277.5,2, -999.000,9, -999.000,9,     1815
  06M320100804,MT82.2,   519,  7,      4,2,20100806,1822, 47.1002, -46.4083,  350,    297.6,   4.0792,  34.9045,2,    277.1,2,   -999.0,9, -999.000,9, -999.000,9,     1815
  06M320100804,MT82.2,   519,  7,      5,2,20100806,1822, 47.1002, -46.4083,  350,    204.6,   4.2690,  34.8588,2,    262.3,2,   -999.0,9,    4.143,4,    2.895,4,     1817
  06M320100804,MT82.2,   519,  7,      6,2,20100806,1822, 47.1002, -46.4083,  350,    202.6,   4.2758,  34.8586,2,    268.7,2,   -999.0,9, -999.000,9, -999.000,9,     1817
  06M320100804,MT82.2,   519,  7,      7,2,20100806,1822, 47.1002, -46.4083,  350,    101.1,   3.9687,  34.5058,2,    267.0,2,   -999.0,9,    1.917,4,    1.287,4,     1819
  06M320100804,MT82.2,   519,  7,      8,2,20100806,1822, 47.1002, -46.4083,  350,    100.3,   3.9680,  34.5015,2,    266.5,2,   -999.0,9,    4.534,4,    3.105,4,     1819
  06M320100804,MT82.2,   519,  7,      9,2,20100806,1822, 47.1002, -46.4083,  350,     12.1,  12.8695,  33.4510,2,    275.7,2,   -999.0,9,    3.413,4,    2.476,4,     1822
  06M320100804,MT82.2,   519,  7,     10,2,20100806,1822, 47.1002, -46.4083,  350,     11.8,  12.8463,  33.4428,2,    274.7,2,   -999.0,9, -999.000,9, -999.000,9,     1822
  06M320100804,MT82.2,   523,  8,      1,2,20100807,2000, 47.1000, -43.7915,  580,    575.5,   3.8572,  34.8896,2,    272.5,2,    271.9,2, -999.000,9, -999.000,9,     1947
  06M320100804,MT82.2,   523,  8,      2,2,20100807,2000, 47.1000, -43.7915,  580,    575.1,   3.8564,  34.8899,2,    272.8,2,   -999.0,9,    4.033,3,    2.739,4,     1947
  06M320100804,MT82.2,   523,  8,      3,2,20100807,2000, 47.1000, -43.7915,  580,    499.9,   3.8994,  34.8908,2,    273.4,2,    272.2,2, -999.000,9, -999.000,9,     1948
  06M320100804,MT82.2,   523,  8,      4,2,20100807,2000, 47.1000, -43.7915,  580,    494.5,   3.9137,  34.8920,2,    274.2,2,   -999.0,9, -999.000,9, -999.000,9,     1948
  06M320100804,MT82.2,   523,  8,      5,2,20100807,2000, 47.1000, -43.7915,  580,    400.1,   4.2324,  34.9153,2,    280.5,2,   -999.0,9,    4.099,3,    2.865,4,     1950
  06M320100804,MT82.2,   523,  8,      6,2,20100807,2000, 47.1000, -43.7915,  580,    398.4,   4.2335,  34.9147,2,    279.9,2,    279.5,2, -999.000,9, -999.000,9,     1950
  06M320100804,MT82.2,   523,  8,      7,2,20100807,2000, 47.1000, -43.7915,  580,    299.2,   4.3645,  34.9109,2,    279.3,2,    277.9,2, -999.000,9, -999.000,9,     1952
  06M320100804,MT82.2,   523,  8,      8,2,20100807,2000, 47.1000, -43.7915,  580,    297.7,   4.3654,  34.9111,2,    279.6,2,   -999.0,9, -999.000,9, -999.000,9,     1952
  06M320100804,MT82.2,   523,  8,      9,2,20100807,2000, 47.1000, -43.7915,  580,    199.8,   4.3307,  34.8714,2,    277.1,2,   -999.0,9,    4.364,3,    3.038,4,     1954
  06M320100804,MT82.2,   523,  8,     10,2,20100807,2000, 47.1000, -43.7915,  580,    198.5,   4.3321,  34.8710,2,    277.0,2,    275.7,2, -999.000,9, -999.000,9,     1954
  06M320100804,MT82.2,   523,  8,     11,2,20100807,2000, 47.1000, -43.7915,  580,    100.2,   4.0095,  34.7356,2,    273.8,2,    271.9,6, -999.000,9, -999.000,9,     1956
  06M320100804,MT82.2,   523,  8,     12,2,20100807,2000, 47.1000, -43.7915,  580,     98.9,   3.9744,  34.7226,2,    274.1,2,   -999.0,9, -999.000,9, -999.000,9,     1956
  06M320100804,MT82.2,   523,  8,     13,2,20100807,2000, 47.1000, -43.7915,  580,     11.8,  12.3858,  33.7937,2,    286.3,2,    291.8,2,    3.810,4,    2.757,4,     2000
  06M320100804,MT82.2,   523,  8,     14,2,20100807,2000, 47.1000, -43.7915,  580,     11.7,  12.3728,  33.8074,2,    280.9,2,   -999.0,9, -999.000,9, -999.000,9,     2000
  06M320100804,MT82.2,   524,  9,      1,2,20100807,2135, 47.1002, -43.6412,  760,    759.1,   3.6966,  34.8986,2,    282.1,2,   -999.0,9, -999.000,9, -999.000,9,     2119
  06M320100804,MT82.2,   524,  9,      2,2,20100807,2135, 47.1002, -43.6412,  760,    759.2,   3.6964,  34.8987,2,    282.1,2,   -999.0,9,    4.106,3,    2.668,4,     2119
  06M320100804,MT82.2,   524,  9,      3,2,20100807,2135, 47.1002, -43.6412,  760,    605.2,   3.9518,  34.9067,2,    286.1,2,   -999.0,9, -999.000,9, -999.000,9,     2122
  06M320100804,MT82.2,   524,  9,      4,2,20100807,2135, 47.1002, -43.6412,  760,    603.5,   3.9538,  34.9063,2,    285.8,2,   -999.0,9,    4.105,3,    2.815,4,     2122
  06M320100804,MT82.2,   524,  9,      5,2,20100807,2135, 47.1002, -43.6412,  760,    504.4,   4.0418,  34.9099,2,    286.9,2,   -999.0,9, -999.000,9, -999.000,9,     2124
  06M320100804,MT82.2,   524,  9,      6,2,20100807,2135, 47.1002, -43.6412,  760,    503.6,   4.0408,  34.9092,2,    287.2,2,   -999.0,9,    4.303,3,    2.940,4,     2124
  06M320100804,MT82.2,   524,  9,      7,2,20100807,2135, 47.1002, -43.6412,  760,    303.8,   3.9682,  34.8750,2,    291.9,2,   -999.0,9,    4.263,3,    3.008,4,     2128
  06M320100804,MT82.2,   524,  9,      8,2,20100807,2135, 47.1002, -43.6412,  760,    303.7,   3.9697,  34.8752,2,    291.9,2,   -999.0,9, -999.000,9, -999.000,9,     2128
  06M320100804,MT82.2,   524,  9,      9,2,20100807,2135, 47.1002, -43.6412,  760,    200.5,   4.1678,  34.8817,2,    282.5,2,   -999.0,9,    4.053,3,    2.338,2,     2129
  06M320100804,MT82.2,   524,  9,     10,2,20100807,2135, 47.1002, -43.6412,  760,    199.0,   4.1759,  34.8820,2,    281.4,2,   -999.0,9, -999.000,9, -999.000,9,     2129
  06M320100804,MT82.2,   524,  9,     11,2,20100807,2135, 47.1002, -43.6412,  760,     11.2,  13.3044,  33.8275,2,    277.4,2,   -999.0,9,    3.206,3,    1.966,2,     2135
  06M320100804,MT82.2,   524,  9,     12,2,20100807,2135, 47.1002, -43.6412,  760,     11.1,  13.0288,  33.8638,2,    277.2,2,   -999.0,9, -999.000,9, -999.000,9,     2135
  06M320100804,MT82.2,   524,  9,     13,2,20100807,2135, 47.1002, -43.6412,  760,     11.1,  13.3303,  33.8223,2,    276.4,2,   -999.0,9, -999.000,9, -999.000,9,     2135
  06M320100804,MT82.2,   525, 10,      1,2,20100807,2346, 47.0998, -43.4233, 1261,   1267.9,   3.6493,  34.9067,2,    278.5,2,    280.5,2,    3.534,3,    1.976,2,     2318
  06M320100804,MT82.2,   525, 10,      2,2,20100807,2346, 47.0998, -43.4233, 1261,   1268.0,   3.6493,  34.9069,2,    278.5,2,   -999.0,9, -999.000,9, -999.000,9,     2318
  06M320100804,MT82.2,   525, 10,      3,2,20100807,2346, 47.0998, -43.4233, 1261,   1098.3,   3.6676,  34.9041,2,    280.2,2,   -999.0,9, -999.000,9, -999.000,9,     2322
  06M320100804,MT82.2,   525, 10,      4,2,20100807,2346, 47.0998, -43.4233, 1261,   1096.6,   3.6681,  34.9046,2,    280.5,2,   -999.0,9,    3.578,3,    2.007,2,     2322
  06M320100804,MT82.2,   525, 10,      5,2,20100807,2346, 47.0998, -43.4233, 1261,    899.3,   3.8003,  34.8959,2,    285.5,2,    284.4,2,    3.894,3,    2.217,2,     2327
  06M320100804,MT82.2,   525, 10,      6,2,20100807,2346, 47.0998, -43.4233, 1261,    897.3,   3.8002,  34.8960,2,    285.2,2,   -999.0,9, -999.000,9, -999.000,9,     2327
  06M320100804,MT82.2,   525, 10,      7,2,20100807,2346, 47.0998, -43.4233, 1261,    705.6,   3.8739,  34.8917,2,    287.5,2,   -999.0,9,    3.044,3,    1.956,3,     2330
  06M320100804,MT82.2,   525, 10,      8,2,20100807,2346, 47.0998, -43.4233, 1261,    701.9,   3.8773,  34.8923,2,    286.2,2,   -999.0,9, -999.000,9, -999.000,9,     2330
  06M320100804,MT82.2,   525, 10,      9,2,20100807,2346, 47.0998, -43.4233, 1261,    599.0,   3.9233,  34.8880,2,    293.2,2,    291.4,6, -999.000,9, -999.000,9,     2333
  06M320100804,MT82.2,   525, 10,     10,2,20100807,2346, 47.0998, -43.4233, 1261,    597.4,   3.9240,  34.8883,2,    292.1,2,   -999.0,9,    0.520,4,    0.020,4,     2333
  06M320100804,MT82.2,   525, 10,     11,2,20100807,2346, 47.0998, -43.4233, 1261,    398.8,   3.8797,  34.8551,2,    293.8,2,   -999.0,9, -999.000,9, -999.000,9,     2336
  06M320100804,MT82.2,   525, 10,     12,2,20100807,2346, 47.0998, -43.4233, 1261,    400.5,   3.8835,  34.8565,2,    293.9,2,   -999.0,9,    4.341,3,    2.374,2,     2337
  06M320100804,MT82.2,   525, 10,     13,2,20100807,2346, 47.0998, -43.4233, 1261,    195.8,   5.0156,  34.9416,2,    246.4,2,    251.8,2, -999.000,9, -999.000,9,     2341
  06M320100804,MT82.2,   525, 10,     14,2,20100807,2346, 47.0998, -43.4233, 1261,    195.7,   5.0235,  34.9442,2,    246.4,2,   -999.0,9,    3.486,3,    1.921,2,     2341
  06M320100804,MT82.2,   525, 10,     15,2,20100807,2346, 47.0998, -43.4233, 1261,     11.6,  11.2784,  33.9552,2,    290.4,2,    291.1,4, -999.000,9, -999.000,9,     2346
  06M320100804,MT82.2,   525, 10,     16,2,20100807,2346, 47.0998, -43.4233, 1261,     11.9,  12.3835,  33.8765,2,    293.3,2,   -999.0,9,    3.579,3,    2.015,2,     2346
  06M320100804,MT82.2,   525, 10,     17,2,20100807,2346, 47.0998, -43.4233, 1261,     11.7,  11.9991,  33.9462,2,    280.6,2,   -999.0,9, -999.000,9, -999.000,9,     2346
  06M320100804,MT82.2,   525, 10,     18,2,20100807,2346, 47.0998, -43.4233, 1261,     11.8,  12.0473,  33.9198,2,    286.4,2,   -999.0,9, -999.000,9, -999.000,9,     2346
  06M320100804,MT82.2,   525, 10,     19,2,20100807,2346, 47.0998, -43.4233, 1261,     11.6,  12.0704,  33.9131,2,    286.8,2,   -999.0,9, -999.000,9, -999.000,9,     2346
  06M320100804,MT82.2,   525, 10,     20,2,20100807,2346, 47.0998, -43.4233, 1261,     11.8,  12.4631,  33.9308,2,    284.2,2,   -999.0,9, -999.000,9, -999.000,9,     2346
  06M320100804,MT82.2,   525, 10,     21,2,20100807,2346, 47.0998, -43.4233, 1261,     11.8,  12.2485,  33.8915,2,    281.5,2,   -999.0,9, -999.000,9, -999.000,9,     2346
  06M320100804,MT82.2,   525, 10,     22,2,20100807,2346, 47.0998, -43.4233, 1261,     11.6,  12.0921,  33.9309,2,    285.0,2,   -999.0,9, -999.000,9, -999.000,9,     2346
  06M320100804,MT82.2,   526, 11,      1,2,20100808,0158, 47.0988, -43.3365, 1775,   1796.9,   3.3355,  34.9141,2,    278.1,2,    278.0,2, -999.000,9, -999.000,9,      123
  06M320100804,MT82.2,   526, 11,      2,2,20100808,0158, 47.0988, -43.3365, 1775,   1797.0,   3.3351,  34.9145,2,    278.3,2,   -999.0,9, -999.000,9, -999.000,9,      123
  06M320100804,MT82.2,   526, 11,      3,2,20100808,0158, 47.0988, -43.3365, 1775,   1599.3,   3.4267,  34.9152,2,    277.4,2,   -999.0,9,    3.321,3,    1.715,6,      127
  06M320100804,MT82.2,   526, 11,      4,2,20100808,0158, 47.0988, -43.3365, 1775,   1597.6,   3.4266,  34.9149,2,    277.1,2,   -999.0,9, -999.000,9, -999.000,9,      127
  06M320100804,MT82.2,   526, 11,      5,2,20100808,0158, 47.0988, -43.3365, 1775,   1411.5,   3.5743,  34.9145,2,    277.3,2,    276.4,2,    3.495,3,    1.808,2,      131
  06M320100804,MT82.2,   526, 11,      6,2,20100808,0158, 47.0988, -43.3365, 1775,   1411.3,   3.5749,  34.9146,2,    277.2,2,   -999.0,9, -999.000,9, -999.000,9,      131
  06M320100804,MT82.2,   526, 11,      7,2,20100808,0158, 47.0988, -43.3365, 1775,   1099.6,   3.6967,  34.8961,2,    282.6,2,   -999.0,9, -999.000,9, -999.000,9,      137
  06M320100804,MT82.2,   526, 11,      8,2,20100808,0158, 47.0988, -43.3365, 1775,   1097.6,   3.6972,  34.8963,2,    282.8,2,   -999.0,9,    3.911,3,    2.059,2,      137
  06M320100804,MT82.2,   526, 11,      9,2,20100808,0158, 47.0988, -43.3365, 1775,    909.1,   3.8199,  34.8957,2,    285.0,2,   -999.0,9,    4.172,3,    2.311,2,      140
  06M320100804,MT82.2,   526, 11,     10,2,20100808,0158, 47.0988, -43.3365, 1775,    909.1,   3.8206,  34.8958,2,    285.2,2,    285.3,2, -999.000,9, -999.000,9,      140
  06M320100804,MT82.2,   526, 11,     11,2,20100808,0158, 47.0988, -43.3365, 1775,    698.9,   3.9874,  34.9049,2,    287.5,2,    287.0,6,    4.177,3,    2.233,2,      144
  06M320100804,MT82.2,   526, 11,     12,2,20100808,0158, 47.0988, -43.3365, 1775,    499.7,   3.9796,  34.8834,2,    292.7,2,   -999.0,9,    4.306,3,    2.330,2,      148
  06M320100804,MT82.2,   526, 11,     13,2,20100808,0158, 47.0988, -43.3365, 1775,    198.5,   3.9595,  34.8015,2,    282.3,2,   -999.0,9,    4.331,3,    2.464,2,      154
  06M320100804,MT82.2,   526, 11,     14,2,20100808,0158, 47.0988, -43.3365, 1775,     99.5,   5.5836,  34.7765,2,    223.9,2,    233.6,2, -999.000,9, -999.000,9,      155
  06M320100804,MT82.2,   526, 11,     15,2,20100808,0158, 47.0988, -43.3365, 1775,     10.8,  12.1400,  33.7842,2,    284.9,2,   -999.0,9,    3.747,3,    2.073,2,      158
  06M320100804,MT82.2,   526, 11,     16,2,20100808,0158, 47.0988, -43.3365, 1775,     10.8,  12.1312,  33.7861,2,    286.0,2,   -999.0,9, -999.000,9, -999.000,9,      158
  06M320100804,MT82.2,   527, 12,      1,2,20100808,0424, 47.0997, -43.2993, 2528,   2559.3,   2.9226,  34.9144,2,    280.9,2,    281.4,2,    2.984,3,    1.506,2,      336
  06M320100804,MT82.2,   527, 12,      2,2,20100808,0424, 47.0997, -43.2993, 2528,   2560.1,   2.9229,  34.9142,2,    280.9,2,   -999.0,9, -999.000,9, -999.000,9,      336
  06M320100804,MT82.2,   527, 12,      3,2,20100808,0424, 47.0997, -43.2993, 2528,   2193.8,   3.0371,  34.9148,2,    280.0,2,   -999.0,9,    3.076,3,    1.575,6,      343
  06M320100804,MT82.2,   527, 12,      4,2,20100808,0424, 47.0997, -43.2993, 2528,   2190.9,   3.0392,  34.9148,2,    279.3,2,   -999.0,9, -999.000,9, -999.000,9,      343
  06M320100804,MT82.2,   527, 12,      5,2,20100808,0424, 47.0997, -43.2993, 2528,   1899.6,   3.2199,  34.9144,2,    278.4,2,    278.0,2,    3.201,3,    1.653,2,      349
  06M320100804,MT82.2,   527, 12,      6,2,20100808,0424, 47.0997, -43.2993, 2528,   1897.8,   3.2223,  34.9146,2,    278.7,2,   -999.0,9, -999.000,9, -999.000,9,      349
  06M320100804,MT82.2,   527, 12,      7,2,20100808,0424, 47.0997, -43.2993, 2528,   1673.5,   3.3094,  34.9149,2,    278.1,2,   -999.0,9, -999.000,9, -999.000,9,      352
  06M320100804,MT82.2,   527, 12,      8,2,20100808,0424, 47.0997, -43.2993, 2528,   1672.4,   3.3104,  34.9152,2,    278.4,2,   -999.0,9,    3.317,3,    1.687,2,      352
  06M320100804,MT82.2,   527, 12,      9,2,20100808,0424, 47.0997, -43.2993, 2528,   1408.4,   3.5288,  34.9150,2,    277.2,2,   -999.0,9, -999.000,9, -999.000,9,      358
  06M320100804,MT82.2,   527, 12,     10,2,20100808,0424, 47.0997, -43.2993, 2528,   1390.3,   3.5276,  34.9147,2,    276.8,2,   -999.0,9,    3.432,3,    1.775,2,      358
  06M320100804,MT82.2,   527, 12,     11,2,20100808,0424, 47.0997, -43.2993, 2528,   1099.4,   3.6828,  34.8937,2,    283.0,2,    282.2,6,    4.010,3,    2.157,2,      403
  06M320100804,MT82.2,   527, 12,     12,2,20100808,0424, 47.0997, -43.2993, 2528,   1097.6,   3.6827,  34.8941,2,    282.9,2,   -999.0,9, -999.000,9, -999.000,9,      403
  06M320100804,MT82.2,   527, 12,     13,2,20100808,0424, 47.0997, -43.2993, 2528,    792.7,   3.9117,  34.8986,2,    286.7,2,   -999.0,9,    4.229,3,    2.310,2,      408
  06M320100804,MT82.2,   527, 12,     14,2,20100808,0424, 47.0997, -43.2993, 2528,    791.6,   3.9133,  34.8987,2,    286.4,2,   -999.0,9, -999.000,9, -999.000,9,      408
  06M320100804,MT82.2,   527, 12,     15,2,20100808,0424, 47.0997, -43.2993, 2528,    603.5,   3.9286,  34.8857,2,    293.1,2,   -999.0,9,    4.360,3,    2.387,2,      412
  06M320100804,MT82.2,   527, 12,     16,2,20100808,0424, 47.0997, -43.2993, 2528,    599.1,   3.9282,  34.8862,2,    292.9,2,   -999.0,9, -999.000,9, -999.000,9,      412
  06M320100804,MT82.2,   527, 12,     17,2,20100808,0424, 47.0997, -43.2993, 2528,    299.0,   3.8714,  34.8428,2,    293.6,2,   -999.0,9,    4.432,3,    2.464,2,      417
  06M320100804,MT82.2,   527, 12,     18,2,20100808,0424, 47.0997, -43.2993, 2528,    297.5,   3.8712,  34.8431,2,    293.8,2,   -999.0,9, -999.000,9, -999.000,9,      417
  06M320100804,MT82.2,   527, 12,     19,2,20100808,0424, 47.0997, -43.2993, 2528,     99.1,   5.0308,  34.6662,2,    242.9,2,    253.9,2, -999.000,9, -999.000,9,      421
  06M320100804,MT82.2,   527, 12,     20,2,20100808,0424, 47.0997, -43.2993, 2528,     98.4,   5.0185,  34.6508,2,    251.8,2,   -999.0,9, -999.000,9, -999.000,9,      421
  06M320100804,MT82.2,   527, 12,     21,2,20100808,0424, 47.0997, -43.2993, 2528,      8.7,  12.6019,  33.8511,2,    278.4,2,    280.6,2,    3.442,3,    2.000,2,      424
  06M320100804,MT82.2,   527, 12,     22,2,20100808,0424, 47.0997, -43.2993, 2528,      8.9,  12.7204,  33.8376,2,    279.3,2,   -999.0,9, -999.000,9, -999.000,9,      424