BOTTLE,20230125CCHSIOENA
EXPOCODE,SECT_ID,STNNBR,CASTNO,BTLNBR,BTLNBR_FLAG_W,DATE,TIME,LATITUDE,LONGITUDE,DEPTH,CTDPRS,CTDTMP,CTDSAL,CTDSAL_FLAG_W,CTDOXY,CTDOXY_FLAG_W,OXYGEN,OXYGEN_FLAG_W,CFC-11,CFC-11_FLAG_W,CFC-12,CFC-12_FLAG_W,BTL_TIME
,,,,,,,,,,METERS,DBAR,ITS-90,PSS-78,,UMOL/KG,,UMOL/KG,,PMOL/KG,,PMOL/KG,,
  06M320100804,MT82.2,   613, 42,      1,2,20100820,0837, 52.3488, -35.3043, 3875,   3939.6,   2.4099,  34.9052,2,    280.7,2,    280.4,2, -999.000,9, -999.000,9,      739
  06M320100804,MT82.2,   613, 42,      2,2,20100820,0837, 52.3488, -35.3043, 3875,   3939.9,   2.4098,  34.9047,2,    279.9,2,   -999.0,9,    2.426,3,    1.292,2,      739
  06M320100804,MT82.2,   613, 42,      3,2,20100820,0837, 52.3488, -35.3043, 3875,   3599.1,   2.5031,  34.9132,2,    277.9,2,   -999.0,9,    2.259,3,    1.194,2,      744
  06M320100804,MT82.2,   613, 42,      4,2,20100820,0837, 52.3488, -35.3043, 3875,   3297.5,   2.7167,  34.9301,2,    274.9,2,   -999.0,9,    2.172,3,    1.151,2,      749
  06M320100804,MT82.2,   613, 42,      5,2,20100820,0837, 52.3488, -35.3043, 3875,   2988.0,   2.8336,  34.9336,2,    275.5,2,   -999.0,9,    2.237,3,    1.164,2,      753
  06M320100804,MT82.2,   613, 42,      6,2,20100820,0837, 52.3488, -35.3043, 3875,   2695.6,   2.9683,  34.9388,2,    276.3,2,   -999.0,9,    2.390,3,    1.250,2,      757
  06M320100804,MT82.2,   613, 42,      7,2,20100820,0837, 52.3488, -35.3043, 3875,   2398.2,   3.0107,  34.9169,2,    277.3,2,    276.9,2,    2.331,3,    1.202,2,      801
  06M320100804,MT82.2,   613, 42,      8,2,20100820,0837, 52.3488, -35.3043, 3875,   2097.6,   3.1442,  34.9126,2,    277.5,2,   -999.0,9,    2.439,3,    1.254,2,      805
  06M320100804,MT82.2,   613, 42,      9,2,20100820,0837, 52.3488, -35.3043, 3875,   1899.0,   3.4215,  34.9412,2,    274.9,2,    275.8,2,    2.875,3,    1.506,2,      808
  06M320100804,MT82.2,   613, 42,     10,2,20100820,0837, 52.3488, -35.3043, 3875,   1702.4,   3.4119,  34.9151,2,    276.2,2,   -999.0,9,    2.890,3,    1.496,2,      810
  06M320100804,MT82.2,   613, 42,     11,2,20100820,0837, 52.3488, -35.3043, 3875,   1696.7,   3.4144,  34.9143,2,    276.2,2,   -999.0,9, -999.000,9, -999.000,9,      810
  06M320100804,MT82.2,   613, 42,     12,2,20100820,0837, 52.3488, -35.3043, 3875,   1500.9,   3.5475,  34.9145,2,    275.0,2,   -999.0,9,    3.041,3,    1.584,6,      813
  06M320100804,MT82.2,   613, 42,     13,2,20100820,0837, 52.3488, -35.3043, 3875,   1298.2,   3.6675,  34.9104,2,    276.1,2,    276.9,2,    3.403,3,    1.803,2,      816
  06M320100804,MT82.2,   613, 42,     14,2,20100820,0837, 52.3488, -35.3043, 3875,   1097.5,   3.7173,  34.8986,2,    279.7,2,   -999.0,9,    3.710,3,    1.994,2,      819
  06M320100804,MT82.2,   613, 42,     15,2,20100820,0837, 52.3488, -35.3043, 3875,    870.2,   3.8304,  34.8974,2,    279.4,2,   -999.0,9,    3.821,3,    2.084,2,      822
  06M320100804,MT82.2,   613, 42,     16,2,20100820,0837, 52.3488, -35.3043, 3875,    687.9,   4.0452,  34.9089,2,    276.0,2,   -999.0,9,    3.808,3,    2.089,2,      824
  06M320100804,MT82.2,   613, 42,     17,2,20100820,0837, 52.3488, -35.3043, 3875,    488.7,   4.3248,  34.9094,2,    269.3,2,    269.6,2,    3.753,3,    2.078,2,      827
  06M320100804,MT82.2,   613, 42,     18,2,20100820,0837, 52.3488, -35.3043, 3875,    298.4,   4.8187,  34.8828,2,    256.1,2,   -999.0,9,    3.569,3,    1.993,2,      830
  06M320100804,MT82.2,   613, 42,     19,2,20100820,0837, 52.3488, -35.3043, 3875,    186.4,   5.3026,  34.7953,2,    249.3,2,    247.2,6, -999.000,9, -999.000,9,      832
  06M320100804,MT82.2,   613, 42,     20,2,20100820,0837, 52.3488, -35.3043, 3875,     98.6,   5.9434,  34.7079,2,    268.4,2,   -999.0,9, -999.000,9, -999.000,9,      833
  06M320100804,MT82.2,   613, 42,     21,2,20100820,0837, 52.3488, -35.3043, 3875,     12.3,  13.5893,  34.4455,2,    272.2,2,    271.1,2,    2.949,3,    1.782,2,      836
  06M320100804,MT82.2,   613, 42,     22,2,20100820,0837, 52.3488, -35.3043, 3875,     11.9,  13.5868,  34.4457,2,    272.2,2,   -999.0,9, -999.000,9, -999.000,9,      837
  06M320100804,MT82.2,   617, 43,      1,2,20100821,0902, 52.5073, -36.8423, 3465,   3511.9,   2.5481,  34.9177,2,    276.9,2,    277.2,2, -999.000,9, -999.000,9,      810
  06M320100804,MT82.2,   617, 43,      2,2,20100821,0902, 52.5073, -36.8423, 3465,   3512.2,   2.5483,  34.9178,2,    277.0,2,   -999.0,9,    2.273,3,    1.178,2,      810
  06M320100804,MT82.2,   617, 43,      3,2,20100821,0902, 52.5073, -36.8423, 3465,   3198.9,   2.7914,  34.9458,2,    273.4,2,   -999.0,9,    2.320,3,    1.205,2,      815
  06M320100804,MT82.2,   617, 43,      4,2,20100821,0902, 52.5073, -36.8423, 3465,   2897.7,   2.9206,  34.9634,2,    272.7,2,   -999.0,9,    2.478,3,    1.305,2,      819
  06M320100804,MT82.2,   617, 43,      5,2,20100821,0902, 52.5073, -36.8423, 3465,   2603.1,   2.9853,  34.9636,2,    274.2,2,   -999.0,9,    2.545,3,    1.347,6,      824
  06M320100804,MT82.2,   617, 43,      6,2,20100821,0902, 52.5073, -36.8423, 3465,   2384.7,   3.0218,  34.9584,2,    275.3,2,   -999.0,9, -999.000,9, -999.000,9,      826
  06M320100804,MT82.2,   617, 43,      7,2,20100821,0902, 52.5073, -36.8423, 3465,   2197.1,   3.0563,  34.9434,2,    276.6,2,    275.6,2,    2.538,3,    1.322,2,      829
  06M320100804,MT82.2,   617, 43,      8,2,20100821,0902, 52.5073, -36.8423, 3465,   1996.9,   3.1144,  34.9336,2,    276.2,2,   -999.0,9,    2.588,3,    1.358,2,      832
  06M320100804,MT82.2,   617, 43,      9,2,20100821,0902, 52.5073, -36.8423, 3465,   1798.5,   3.2051,  34.9253,2,    277.3,2,   -999.0,9,    2.671,3,    1.400,2,      835
  06M320100804,MT82.2,   617, 43,     10,2,20100821,0902, 52.5073, -36.8423, 3465,   1590.4,   3.3716,  34.9302,2,    276.2,2,   -999.0,9, -999.000,9, -999.000,9,      838
  06M320100804,MT82.2,   617, 43,     11,2,20100821,0902, 52.5073, -36.8423, 3465,   1590.5,   3.3700,  34.9306,2,    276.2,2,   -999.0,9,    2.880,3,    1.511,2,      838
  06M320100804,MT82.2,   617, 43,     12,2,20100821,0902, 52.5073, -36.8423, 3465,   1398.4,   3.4686,  34.9231,2,    274.9,2,   -999.0,9,    2.986,3,    1.566,2,      840
  06M320100804,MT82.2,   617, 43,     13,2,20100821,0902, 52.5073, -36.8423, 3465,   1200.5,   3.6174,  34.9165,2,    275.0,2,    274.2,2,    2.928,3,    1.528,3,      843
  06M320100804,MT82.2,   617, 43,     14,2,20100821,0902, 52.5073, -36.8423, 3465,    997.2,   3.7018,  34.9067,2,    276.2,2,   -999.0,9,    3.499,3,    1.819,2,      846
  06M320100804,MT82.2,   617, 43,     15,2,20100821,0902, 52.5073, -36.8423, 3465,    785.0,   3.9376,  34.9154,2,    273.3,2,   -999.0,9,    3.611,3,    1.937,6,      849
  06M320100804,MT82.2,   617, 43,     16,2,20100821,0902, 52.5073, -36.8423, 3465,    608.0,   4.2063,  34.9280,2,    267.4,2,    269.0,2,    3.682,3,    2.025,2,      851
  06M320100804,MT82.2,   617, 43,     17,2,20100821,0902, 52.5073, -36.8423, 3465,    398.0,   4.4417,  34.9041,2,    269.3,2,   -999.0,9, -999.000,9, -999.000,9,      854
  06M320100804,MT82.2,   617, 43,     18,2,20100821,0902, 52.5073, -36.8423, 3465,    193.3,   5.4767,  34.8886,2,    261.8,2,    255.5,6, -999.000,9, -999.000,9,      857
  06M320100804,MT82.2,   617, 43,     19,2,20100821,0902, 52.5073, -36.8423, 3465,     99.7,   5.8259,  34.7507,2,    280.0,2,   -999.0,9, -999.000,9, -999.000,9,      859
  06M320100804,MT82.2,   617, 43,     20,2,20100821,0902, 52.5073, -36.8423, 3465,     12.0,  13.6061,  34.4232,2,    273.0,2,    271.0,2,    2.914,3,    1.785,2,      902
  06M320100804,MT82.2,   617, 43,     21,2,20100821,0902, 52.5073, -36.8423, 3465,     12.2,  13.6046,  34.4234,2,    272.2,2,   -999.0,9, -999.000,9, -999.000,9,      902
  06M320100804,MT82.2,   617, 43,     22,2,20100821,0902, 52.5073, -36.8423, 3465,     12.2,  13.6009,  34.4235,2,    272.6,2,   -999.0,9, -999.000,9, -999.000,9,      902
  06M320100804,MT82.2,   619, 44,      1,2,20100821,1304, 52.2075, -36.5248, 3534,   3590.2,   2.4693,  34.9106,2,    278.6,2,    278.2,2, -999.000,9, -999.000,9,     1216
  06M320100804,MT82.2,   619, 44,      2,2,20100821,1304, 52.2075, -36.5248, 3534,   3592.4,   2.4695,  34.9107,2,    278.9,2,   -999.0,9,    2.299,3,    1.205,6,     1216
  06M320100804,MT82.2,   619, 44,      3,2,20100821,1304, 52.2075, -36.5248, 3534,   3401.3,   2.5048,  34.9144,2,    278.1,2,   -999.0,9,    2.272,3,    1.195,2,     1220
  06M320100804,MT82.2,   619, 44,      4,2,20100821,1304, 52.2075, -36.5248, 3534,   3297.5,   2.5769,  34.9210,2,    276.0,2,   -999.0,9,    2.254,3,    1.189,2,     1221
  06M320100804,MT82.2,   619, 44,      5,2,20100821,1304, 52.2075, -36.5248, 3534,   2996.5,   2.8408,  34.9503,2,    273.6,2,   -999.0,9,    2.377,3,    1.239,2,     1226
  06M320100804,MT82.2,   619, 44,      6,2,20100821,1304, 52.2075, -36.5248, 3534,   2699.2,   2.9578,  34.9654,2,    273.7,2,    273.9,2,    2.550,3,    1.342,2,     1230
  06M320100804,MT82.2,   619, 44,      7,2,20100821,1304, 52.2075, -36.5248, 3534,   2496.3,   3.0042,  34.9655,2,    273.9,2,   -999.0,9,    2.595,3,    1.375,2,     1233
  06M320100804,MT82.2,   619, 44,      8,2,20100821,1304, 52.2075, -36.5248, 3534,   2296.8,   2.9878,  34.9512,2,    275.3,2,   -999.0,9,    2.545,3,    1.329,2,     1236
  06M320100804,MT82.2,   619, 44,      9,2,20100821,1304, 52.2075, -36.5248, 3534,   2105.7,   3.0552,  34.9466,2,    275.6,2,   -999.0,9,    2.434,3,    1.086,3,     1239
  06M320100804,MT82.2,   619, 44,     10,2,20100821,1304, 52.2075, -36.5248, 3534,   1899.2,   3.0943,  34.9300,2,    277.2,2,    277.7,2,    2.582,3,    1.331,2,     1242
  06M320100804,MT82.2,   619, 44,     11,2,20100821,1304, 52.2075, -36.5248, 3534,   1895.3,   3.0971,  34.9298,2,    277.6,2,   -999.0,9, -999.000,9, -999.000,9,     1242
  06M320100804,MT82.2,   619, 44,     12,2,20100821,1304, 52.2075, -36.5248, 3534,   1698.4,   3.2229,  34.9288,2,    277.0,2,   -999.0,9,    2.738,3,    1.405,2,     1246
  06M320100804,MT82.2,   619, 44,     13,2,20100821,1304, 52.2075, -36.5248, 3534,   1503.8,   3.3433,  34.9243,2,    276.3,2,   -999.0,9,    2.893,3,    1.486,2,     1248
  06M320100804,MT82.2,   619, 44,     14,2,20100821,1304, 52.2075, -36.5248, 3534,   1293.0,   3.5136,  34.9182,2,    275.5,2,   -999.0,9,    3.079,3,    1.590,2,     1251
  06M320100804,MT82.2,   619, 44,     15,2,20100821,1304, 52.2075, -36.5248, 3534,   1097.9,   3.6131,  34.9100,2,    276.5,2,   -999.0,9,    3.311,3,    1.743,2,     1255
  06M320100804,MT82.2,   619, 44,     16,2,20100821,1304, 52.2075, -36.5248, 3534,    894.9,   3.7250,  34.8990,2,    278.8,2,    276.8,2,    3.647,3,    1.964,2,     1257
  06M320100804,MT82.2,   619, 44,     17,2,20100821,1304, 52.2075, -36.5248, 3534,    697.4,   3.8994,  34.8987,2,    280.9,2,   -999.0,9,    3.868,3,    2.118,6,     1300
  06M320100804,MT82.2,   619, 44,     18,2,20100821,1304, 52.2075, -36.5248, 3534,    498.0,   4.2420,  34.9069,2,    272.2,2,    271.3,6,    3.795,3,    2.085,2,     1304
  06M320100804,MT82.2,   620, 45,      1,2,20100821,1749, 51.9423, -36.1587, 3858,   3918.1,   2.3827,  34.9040,2,    281.6,2,    280.7,2, -999.000,9, -999.000,9,     1633
  06M320100804,MT82.2,   620, 45,      2,2,20100821,1749, 51.9423, -36.1587, 3858,   3917.1,   2.3829,  34.9040,2,    281.2,2,   -999.0,9,    2.491,3,    1.312,2,     1633
  06M320100804,MT82.2,   620, 45,      3,2,20100821,1749, 51.9423, -36.1587, 3858,   3498.7,   2.5405,  34.9169,2,    277.2,2,   -999.0,9,    2.270,3,    1.193,2,     1640
  06M320100804,MT82.2,   620, 45,      4,2,20100821,1749, 51.9423, -36.1587, 3858,   3197.8,   2.7173,  34.9365,2,    274.8,2,   -999.0,9,    2.284,3,    1.193,2,     1648
  06M320100804,MT82.2,   620, 45,      5,2,20100821,1749, 51.9423, -36.1587, 3858,   2998.3,   2.8477,  34.9544,2,    272.8,2,    274.9,2,    2.388,3,    1.258,2,     1651
  06M320100804,MT82.2,   620, 45,      6,2,20100821,1749, 51.9423, -36.1587, 3858,   2798.8,   2.9267,  34.9599,2,    273.7,2,   -999.0,9,    2.461,3,    1.299,6,     1654
  06M320100804,MT82.2,   620, 45,      7,2,20100821,1749, 51.9423, -36.1587, 3858,   2597.6,   2.9545,  34.9525,2,    274.9,2,   -999.0,9,    2.468,3,    1.301,2,     1658
  06M320100804,MT82.2,   620, 45,      8,2,20100821,1749, 51.9423, -36.1587, 3858,   2401.0,   2.9777,  34.9452,2,    275.9,2,   -999.0,9,    2.456,3,    1.292,2,     1701
  06M320100804,MT82.2,   620, 45,      9,2,20100821,1749, 51.9423, -36.1587, 3858,   2196.5,   3.0193,  34.9360,2,    276.3,2,   -999.0,9,    2.489,3,    1.314,2,     1708
  06M320100804,MT82.2,   620, 45,     10,2,20100821,1749, 51.9423, -36.1587, 3858,   1997.8,   3.1040,  34.9294,2,    277.4,2,   -999.0,9,    2.566,3,    1.336,2,     1710
  06M320100804,MT82.2,   620, 45,     11,2,20100821,1749, 51.9423, -36.1587, 3858,   1798.6,   3.1818,  34.9213,2,    277.6,2,   -999.0,9,    2.658,3,    1.374,2,     1713
  06M320100804,MT82.2,   620, 45,     12,2,20100821,1749, 51.9423, -36.1587, 3858,   1623.3,   3.2734,  34.9158,2,    277.6,2,   -999.0,9,    2.739,3,    1.427,2,     1721
  06M320100804,MT82.2,   620, 45,     13,2,20100821,1749, 51.9423, -36.1587, 3858,   1424.7,   3.4551,  34.9222,2,    275.4,2,    275.6,6,    2.974,3,    1.551,2,     1723
  06M320100804,MT82.2,   620, 45,     14,2,20100821,1749, 51.9423, -36.1587, 3858,   1198.9,   3.6037,  34.9162,2,    275.1,2,   -999.0,9,    3.194,3,    1.660,2,     1726
  06M320100804,MT82.2,   620, 45,     15,2,20100821,1749, 51.9423, -36.1587, 3858,    986.0,   3.7444,  34.9101,2,    275.7,2,    276.1,2,    3.437,3,    1.840,6,     1732
  06M320100804,MT82.2,   620, 45,     16,2,20100821,1749, 51.9423, -36.1587, 3858,    899.4,   3.7886,  34.9055,2,    276.0,2,   -999.0,9, -999.000,9, -999.000,9,     1733
  06M320100804,MT82.2,   620, 45,     17,2,20100821,1749, 51.9423, -36.1587, 3858,    810.6,   3.8948,  34.9096,2,    274.6,2,   -999.0,9,    3.639,3,    1.979,2,     1734
  06M320100804,MT82.2,   620, 45,     18,2,20100821,1749, 51.9423, -36.1587, 3858,    594.5,   4.1680,  34.9154,2,    271.0,2,   -999.0,9,    3.719,3,    2.058,2,     1737
  06M320100804,MT82.2,   620, 45,     19,2,20100821,1749, 51.9423, -36.1587, 3858,    405.8,   4.5412,  34.9108,2,    265.3,2,   -999.0,9,    3.742,3,    2.100,2,     1741
  06M320100804,MT82.2,   620, 45,     20,2,20100821,1749, 51.9423, -36.1587, 3858,    197.0,   5.4428,  34.8882,2,    261.8,2,    260.2,2, -999.000,9, -999.000,9,     1745
  06M320100804,MT82.2,   620, 45,     21,2,20100821,1749, 51.9423, -36.1587, 3858,     11.7,  13.5669,  34.4330,2,    274.0,2,   -999.0,9,    2.920,3,    1.790,2,     1749
  06M320100804,MT82.2,   620, 45,     22,2,20100821,1749, 51.9423, -36.1587, 3858,     11.6,  13.6123,  34.4322,2,    273.1,2,    271.0,2, -999.000,9, -999.000,9,     1749
  06M320100804,MT82.2,   622, 46,      1,2,20100821,2214, 51.6672, -35.7997, 3699,   3766.1,   2.4175,  34.9044,2,    278.2,2,    278.4,2, -999.000,9, -999.000,9,     2117
  06M320100804,MT82.2,   622, 46,      2,2,20100821,2214, 51.6672, -35.7997, 3699,   3765.6,   2.4178,  34.9042,2,    279.2,2,   -999.0,9,    2.223,3,    1.160,6,     2117
  06M320100804,MT82.2,   622, 46,      3,2,20100821,2214, 51.6672, -35.7997, 3699,   3592.9,   2.5301,  34.9149,2,    277.7,2,   -999.0,9,    2.234,3,    1.169,2,     2120
  06M320100804,MT82.2,   622, 46,      4,2,20100821,2214, 51.6672, -35.7997, 3699,   3285.8,   2.7639,  34.9414,2,    273.6,2,   -999.0,9,    2.240,3,    1.185,2,     2124
  06M320100804,MT82.2,   622, 46,      5,2,20100821,2214, 51.6672, -35.7997, 3699,   2998.9,   2.8781,  34.9552,2,    272.6,2,   -999.0,9,    2.362,3,    1.251,2,     2128
  06M320100804,MT82.2,   622, 46,      6,2,20100821,2214, 51.6672, -35.7997, 3699,   2698.6,   2.9564,  34.9516,2,    274.6,2,   -999.0,9,    2.438,3,    1.279,2,     2133
  06M320100804,MT82.2,   622, 46,      7,2,20100821,2214, 51.6672, -35.7997, 3699,   2398.2,   3.0663,  34.9446,2,    276.5,2,   -999.0,9,    2.506,3,    1.303,2,     2137
  06M320100804,MT82.2,   622, 46,      8,2,20100821,2214, 51.6672, -35.7997, 3699,   2122.5,   3.1706,  34.9307,2,    277.7,2,    276.1,2,    2.639,3,    1.380,2,     2141
  06M320100804,MT82.2,   622, 46,      9,2,20100821,2214, 51.6672, -35.7997, 3699,   1899.0,   3.2005,  34.9134,2,    277.7,2,   -999.0,9,    2.600,3,    1.341,2,     2144
  06M320100804,MT82.2,   622, 46,     10,2,20100821,2214, 51.6672, -35.7997, 3699,   1698.5,   3.3689,  34.9183,2,    276.9,2,   -999.0,9,    2.877,3,    1.489,2,     2146
  06M320100804,MT82.2,   622, 46,     11,2,20100821,2214, 51.6672, -35.7997, 3699,   1509.3,   3.4945,  34.9177,2,    275.7,2,   -999.0,9,    2.995,3,    1.555,2,     2149
  06M320100804,MT82.2,   622, 46,     12,2,20100821,2214, 51.6672, -35.7997, 3699,   1294.8,   3.6207,  34.9126,2,    275.3,2,   -999.0,9,    3.261,3,    1.716,2,     2152
  06M320100804,MT82.2,   622, 46,     13,2,20100821,2214, 51.6672, -35.7997, 3699,   1098.4,   3.7144,  34.9026,2,    277.3,2,   -999.0,9,    3.599,3,    1.935,2,     2155
  06M320100804,MT82.2,   622, 46,     14,2,20100821,2214, 51.6672, -35.7997, 3699,    996.7,   3.7287,  34.8956,2,    280.2,2,   -999.0,9, -999.000,9, -999.000,9,     2156
  06M320100804,MT82.2,   622, 46,     15,2,20100821,2214, 51.6672, -35.7997, 3699,    897.6,   3.7620,  34.8927,2,    280.6,2,    280.1,2,    3.863,3,    2.109,2,     2158
  06M320100804,MT82.2,   622, 46,     16,2,20100821,2214, 51.6672, -35.7997, 3699,    798.1,   3.8248,  34.8905,2,    282.6,2,   -999.0,9, -999.000,9, -999.000,9,     2159
  06M320100804,MT82.2,   622, 46,     17,2,20100821,2214, 51.6672, -35.7997, 3699,    721.2,   3.9315,  34.9005,2,    279.5,2,   -999.0,9,    3.934,3,    2.176,2,     2201
  06M320100804,MT82.2,   622, 46,     18,2,20100821,2214, 51.6672, -35.7997, 3699,    579.6,   4.0519,  34.9005,2,    278.2,2,   -999.0,9,    3.934,3,    2.171,2,     2202
  06M320100804,MT82.2,   622, 46,     19,2,20100821,2214, 51.6672, -35.7997, 3699,    404.0,   4.3914,  34.9104,2,    267.3,2,    267.3,2,    3.745,3,    2.075,2,     2206
  06M320100804,MT82.2,   622, 46,     20,2,20100821,2214, 51.6672, -35.7997, 3699,    310.9,   4.6276,  34.8933,2,    261.5,2,   -999.0,9, -999.000,9, -999.000,9,     2207
  06M320100804,MT82.2,   622, 46,     21,2,20100821,2214, 51.6672, -35.7997, 3699,    202.4,   4.8999,  34.8348,2,    256.3,2,    259.8,2, -999.000,9, -999.000,9,     2209
  06M320100804,MT82.2,   622, 46,     22,2,20100821,2214, 51.6672, -35.7997, 3699,     12.6,  13.7555,  34.4567,2,    270.4,2,   -999.0,9,    2.952,3,    1.794,6,     2214