BOTTLE,20230125CCHSIOENA
EXPOCODE,SECT_ID,STNNBR,CASTNO,BTLNBR,BTLNBR_FLAG_W,DATE,TIME,LATITUDE,LONGITUDE,DEPTH,CTDPRS,CTDTMP,CTDSAL,CTDSAL_FLAG_W,CTDOXY,CTDOXY_FLAG_W,OXYGEN,OXYGEN_FLAG_W,CFC-11,CFC-11_FLAG_W,CFC-12,CFC-12_FLAG_W,BTL_TIME
,,,,,,,,,,METERS,DBAR,ITS-90,PSS-78,,UMOL/KG,,UMOL/KG,,PMOL/KG,,PMOL/KG,,
  06M320100804,MT82.2,   545, 19,      1,2,20100811,0752, 47.0915, -40.9957, 4485,   4568.1,   2.2551,  34.8949,2,    284.0,2,    285.2,2,    2.632,3,    1.381,2,      622
  06M320100804,MT82.2,   545, 19,      2,2,20100811,0752, 47.0915, -40.9957, 4485,   4199.0,   2.2742,  34.8958,2,    280.6,2,   -999.0,9,    2.374,3,    1.230,2,      630
  06M320100804,MT82.2,   545, 19,      3,2,20100811,0752, 47.0915, -40.9957, 4485,   3999.0,   2.3024,  34.8969,2,    279.4,2,   -999.0,9,    2.194,3,    1.138,2,      633
  06M320100804,MT82.2,   545, 19,      4,2,20100811,0752, 47.0915, -40.9957, 4485,   3713.9,   2.4066,  34.9027,2,    279.0,2,   -999.0,9,    2.046,3,    1.048,2,      640
  06M320100804,MT82.2,   545, 19,      5,2,20100811,0752, 47.0915, -40.9957, 4485,   3502.3,   2.5402,  34.9086,2,    278.3,2,   -999.0,9,    2.065,3,    1.051,2,      643
  06M320100804,MT82.2,   545, 19,      6,2,20100811,0752, 47.0915, -40.9957, 4485,   3217.4,   2.7736,  34.9163,2,    276.8,2,   -999.0,9,    2.089,3,    1.064,2,      655
  06M320100804,MT82.2,   545, 19,      7,2,20100811,0752, 47.0915, -40.9957, 4485,   2901.6,   2.9702,  34.9177,2,    277.2,2,   -999.0,9,    2.278,3,    1.159,2,      659
  06M320100804,MT82.2,   545, 19,      8,2,20100811,0752, 47.0915, -40.9957, 4485,   2597.8,   3.1255,  34.9162,2,    277.1,2,   -999.0,9,    2.384,3,    1.214,2,      708
  06M320100804,MT82.2,   545, 19,      9,2,20100811,0752, 47.0915, -40.9957, 4485,   2349.7,   3.2683,  34.9168,2,    276.9,2,   -999.0,9,    2.550,3,    1.322,2,      712
  06M320100804,MT82.2,   545, 19,     10,2,20100811,0752, 47.0915, -40.9957, 4485,   2096.0,   3.4355,  34.9188,2,    275.1,2,    275.1,2,    2.620,3,    1.381,2,      716
  06M320100804,MT82.2,   545, 19,     11,2,20100811,0752, 47.0915, -40.9957, 4485,   2096.0,   3.4355,  34.9188,2,    275.1,2,   -999.0,9, -999.000,9, -999.000,9,      716
  06M320100804,MT82.2,   545, 19,     12,2,20100811,0752, 47.0915, -40.9957, 4485,   1732.7,   3.7101,  34.9298,2,    271.7,2,   -999.0,9,    2.770,3,    1.442,2,      722
  06M320100804,MT82.2,   545, 19,     13,2,20100811,0752, 47.0915, -40.9957, 4485,   1569.9,   3.7992,  34.9262,2,    272.5,2,   -999.0,9,    3.081,3,    1.621,2,      724
  06M320100804,MT82.2,   545, 19,     14,2,20100811,0752, 47.0915, -40.9957, 4485,   1382.3,   3.7827,  34.9006,2,    281.0,2,   -999.0,9,    3.827,3,    2.077,2,      727
  06M320100804,MT82.2,   545, 19,     15,2,20100811,0752, 47.0915, -40.9957, 4485,   1171.0,   3.9168,  34.9000,2,    285.0,2,    284.2,6,    3.892,3,    2.122,2,      731
  06M320100804,MT82.2,   545, 19,     16,2,20100811,0752, 47.0915, -40.9957, 4485,   1012.6,   4.2293,  34.9296,2,    275.6,2,   -999.0,9,    3.902,3,    2.177,2,      734
  06M320100804,MT82.2,   545, 19,     17,2,20100811,0752, 47.0915, -40.9957, 4485,    898.2,   4.4184,  34.9439,2,    268.5,2,   -999.0,9,    3.660,3,    2.029,2,      736
  06M320100804,MT82.2,   545, 19,     18,2,20100811,0752, 47.0915, -40.9957, 4485,    694.0,   5.1408,  34.9849,2,    245.4,2,   -999.0,9,    3.212,3,    1.795,2,      739
  06M320100804,MT82.2,   545, 19,     19,2,20100811,0752, 47.0915, -40.9957, 4485,    510.2,   6.0039,  34.9325,2,    216.1,2,    215.7,2,    2.536,3,    1.407,2,      742
  06M320100804,MT82.2,   545, 19,     20,2,20100811,0752, 47.0915, -40.9957, 4485,    299.9,   7.3383,  34.7137,2,    221.9,2,    204.7,2, -999.000,9, -999.000,9,      745
  06M320100804,MT82.2,   545, 19,     21,2,20100811,0752, 47.0915, -40.9957, 4485,     99.7,  13.6815,  35.6749,2,    201.6,2,   -999.0,9, -999.000,9, -999.000,9,      748
  06M320100804,MT82.2,   545, 19,     22,2,20100811,0752, 47.0915, -40.9957, 4485,     11.0,  18.9122,  33.0397,2,    247.3,2,    253.7,2,    2.624,3,    1.577,2,      752
  06M320100804,MT82.2,   547, 20,      1,2,20100811,1353, 47.1332, -40.2562, 4534,   4635.5,   2.2014,  34.8962,2,    287.6,2,    287.6,2,    3.055,3,    1.579,2,     1233
  06M320100804,MT82.2,   547, 20,      2,2,20100811,1353, 47.1332, -40.2562, 4534,   4399.2,   2.2463,  34.8958,2,    283.4,2,   -999.0,9,    2.625,3,    1.365,2,     1238
  06M320100804,MT82.2,   547, 20,      3,2,20100811,1353, 47.1332, -40.2562, 4534,   4104.5,   2.3293,  34.8985,2,    280.8,2,   -999.0,9,    2.267,3,    1.168,2,     1243
  06M320100804,MT82.2,   547, 20,      4,2,20100811,1353, 47.1332, -40.2562, 4534,   3928.8,   2.4501,  34.9036,2,    279.0,2,   -999.0,9,    2.134,3,    1.087,2,     1246
  06M320100804,MT82.2,   547, 20,      5,2,20100811,1353, 47.1332, -40.2562, 4534,   3613.2,   2.6811,  34.9142,2,    277.9,2,   -999.0,9,    2.245,3,    1.152,2,     1251
  06M320100804,MT82.2,   547, 20,      6,2,20100811,1353, 47.1332, -40.2562, 4534,   3285.2,   2.8903,  34.9172,2,    278.1,2,   -999.0,9,    2.326,3,    1.194,2,     1256
  06M320100804,MT82.2,   547, 20,      7,2,20100811,1353, 47.1332, -40.2562, 4534,   2988.8,   3.0483,  34.9157,2,    279.1,2,   -999.0,9,    2.626,3,    1.337,6,     1301
  06M320100804,MT82.2,   547, 20,      8,2,20100811,1353, 47.1332, -40.2562, 4534,   2712.0,   3.1830,  34.9168,2,    277.9,2,    278.3,2,    2.695,3,    1.367,2,     1306
  06M320100804,MT82.2,   547, 20,      9,2,20100811,1353, 47.1332, -40.2562, 4534,   2420.0,   3.3594,  34.9181,2,    276.1,2,   -999.0,9,    2.754,3,    1.390,2,     1311
  06M320100804,MT82.2,   547, 20,     10,2,20100811,1353, 47.1332, -40.2562, 4534,   2099.4,   3.5563,  34.9211,2,    275.0,2,   -999.0,9,    2.836,3,    1.448,2,     1317
  06M320100804,MT82.2,   547, 20,     11,2,20100811,1353, 47.1332, -40.2562, 4534,   2099.4,   3.5563,  34.9211,2,    275.0,2,   -999.0,9, -999.000,9, -999.000,9,     1317
  06M320100804,MT82.2,   547, 20,     12,2,20100811,1353, 47.1332, -40.2562, 4534,   1902.9,   3.6954,  34.9259,2,    272.8,2,   -999.0,9,    3.061,3,    1.570,2,     1320
  06M320100804,MT82.2,   547, 20,     13,2,20100811,1353, 47.1332, -40.2562, 4534,   1728.0,   3.8366,  34.9315,2,    271.8,2,    272.4,2,    3.111,3,    1.597,2,     1323
  06M320100804,MT82.2,   547, 20,     14,2,20100811,1353, 47.1332, -40.2562, 4534,   1504.4,   3.9870,  34.9305,2,    272.4,2,   -999.0,9,    3.359,3,    1.816,2,     1327
  06M320100804,MT82.2,   547, 20,     15,2,20100811,1353, 47.1332, -40.2562, 4534,   1287.6,   4.3219,  34.9505,2,    267.8,2,   -999.0,9,    3.174,3,    1.668,2,     1330
  06M320100804,MT82.2,   547, 20,     16,2,20100811,1353, 47.1332, -40.2562, 4534,   1100.1,   4.6407,  34.9671,2,    263.5,2,   -999.0,9,    3.282,3,    1.767,2,     1333
  06M320100804,MT82.2,   547, 20,     17,2,20100811,1353, 47.1332, -40.2562, 4534,    998.4,   4.9575,  34.9744,2,    252.9,2,   -999.0,9, -999.000,9, -999.000,9,     1335
  06M320100804,MT82.2,   547, 20,     18,2,20100811,1353, 47.1332, -40.2562, 4534,    798.9,   6.1686,  35.0089,2,    212.7,2,    223.5,2, -999.000,9, -999.000,9,     1338
  06M320100804,MT82.2,   547, 20,     19,2,20100811,1353, 47.1332, -40.2562, 4534,    607.0,   9.1865,  35.1761,2,    169.5,2,    168.9,6, -999.000,9, -999.000,9,     1342
  06M320100804,MT82.2,   547, 20,     20,2,20100811,1353, 47.1332, -40.2562, 4534,    342.9,  13.7411,  35.8857,2,    226.6,2,   -999.0,9, -999.000,9, -999.000,9,     1345
  06M320100804,MT82.2,   547, 20,     21,2,20100811,1353, 47.1332, -40.2562, 4534,    113.7,  15.1330,  36.0139,2,    230.7,2,   -999.0,9, -999.000,9, -999.000,9,     1349
  06M320100804,MT82.2,   547, 20,     22,2,20100811,1353, 47.1332, -40.2562, 4534,     12.4,  20.2883,  34.9281,2,    238.5,2,    244.7,2, -999.000,9, -999.000,9,     1353
  06M320100804,MT82.2,   548, 21,      1,2,20100811,1817, 47.1472, -39.8870, 4547,   4652.0,   2.2226,  34.8955,2,    286.8,2,    287.6,2, -999.000,9, -999.000,9,     1651
  06M320100804,MT82.2,   548, 21,      2,2,20100811,1817, 47.1472, -39.8870, 4547,   4002.3,   2.3354,  34.8986,2,    279.4,2,   -999.0,9, -999.000,9, -999.000,9,     1704
  06M320100804,MT82.2,   548, 21,      3,2,20100811,1817, 47.1472, -39.8870, 4547,   3413.9,   2.7928,  34.9163,2,    278.0,2,    278.3,2, -999.000,9, -999.000,9,     1717
  06M320100804,MT82.2,   548, 21,      4,2,20100811,1817, 47.1472, -39.8870, 4547,   2806.2,   3.1776,  34.9194,2,    275.9,2,   -999.0,9, -999.000,9, -999.000,9,     1727
  06M320100804,MT82.2,   548, 21,      5,2,20100811,1817, 47.1472, -39.8870, 4547,   2201.1,   3.5540,  34.9226,2,    274.0,2,    274.3,2, -999.000,9, -999.000,9,     1739
  06M320100804,MT82.2,   548, 21,      6,2,20100811,1817, 47.1472, -39.8870, 4547,   1598.4,   3.9628,  34.9276,2,    273.2,2,   -999.0,9, -999.000,9, -999.000,9,     1748
  06M320100804,MT82.2,   548, 21,      7,2,20100811,1817, 47.1472, -39.8870, 4547,   1189.0,   4.7620,  34.9876,2,    256.1,2,    255.7,2, -999.000,9, -999.000,9,     1755
  06M320100804,MT82.2,   548, 21,      8,2,20100811,1817, 47.1472, -39.8870, 4547,    636.1,   9.8182,  35.2513,2,    167.6,2,    164.8,2, -999.000,9, -999.000,9,     1804
  06M320100804,MT82.2,   548, 21,      9,2,20100811,1817, 47.1472, -39.8870, 4547,    390.1,  13.7093,  35.8890,2,    228.7,2,   -999.0,9, -999.000,9, -999.000,9,     1808
  06M320100804,MT82.2,   548, 21,     10,2,20100811,1817, 47.1472, -39.8870, 4547,    202.4,  14.4311,  35.9893,2,    229.4,2,   -999.0,9, -999.000,9, -999.000,9,     1812
  06M320100804,MT82.2,   548, 21,     11,2,20100811,1817, 47.1472, -39.8870, 4547,     99.8,  14.8202,  36.0036,2,    233.9,2,   -999.0,9, -999.000,9, -999.000,9,     1813
  06M320100804,MT82.2,   548, 21,     12,2,20100811,1817, 47.1472, -39.8870, 4547,     99.1,  14.8302,  36.0041,2,    234.7,2,   -999.0,9, -999.000,9, -999.000,9,     1813
  06M320100804,MT82.2,   548, 21,     13,2,20100811,1817, 47.1472, -39.8870, 4547,     10.4,  20.4091,  35.4651,2,    237.2,2,    234.3,2, -999.000,9, -999.000,9,     1817
  06M320100804,MT82.2,   550, 22,      1,2,20100811,2239, 47.1662, -39.4893, 4563,   4664.1,   2.1969,  34.8965,2,    287.7,2,    287.0,2,    3.100,3,    1.612,2,     2125
  06M320100804,MT82.2,   550, 22,      2,2,20100811,2239, 47.1662, -39.4893, 4563,   4399.0,   2.2526,  34.8952,2,    282.5,2,   -999.0,9,    2.548,3,    1.345,2,     2130
  06M320100804,MT82.2,   550, 22,      3,2,20100811,2239, 47.1662, -39.4893, 4563,   4098.0,   2.3002,  34.8976,2,    280.2,2,   -999.0,9,    2.302,3,    1.222,2,     2135
  06M320100804,MT82.2,   550, 22,      4,2,20100811,2239, 47.1662, -39.4893, 4563,   3801.7,   2.4632,  34.9043,2,    277.7,2,   -999.0,9,    2.044,3,    1.075,2,     2140
  06M320100804,MT82.2,   550, 22,      5,2,20100811,2239, 47.1662, -39.4893, 4563,   3499.2,   2.7024,  34.9141,2,    276.9,2,    278.0,2,    2.112,3,    1.110,2,     2145
  06M320100804,MT82.2,   550, 22,      6,2,20100811,2239, 47.1662, -39.4893, 4563,   3198.5,   2.9541,  34.9174,2,    276.9,2,   -999.0,9,    2.328,3,    1.226,2,     2149
  06M320100804,MT82.2,   550, 22,      7,2,20100811,2239, 47.1662, -39.4893, 4563,   2907.4,   3.1342,  34.9173,2,    276.1,2,   -999.0,9,    2.478,3,    1.304,2,     2154
  06M320100804,MT82.2,   550, 22,      8,2,20100811,2239, 47.1662, -39.4893, 4563,   2589.7,   3.3240,  34.9158,2,    276.1,2,   -999.0,9, -999.000,9, -999.000,9,     2200
  06M320100804,MT82.2,   550, 22,      9,2,20100811,2239, 47.1662, -39.4893, 4563,   2312.0,   3.5486,  34.9242,2,    272.8,2,   -999.0,9,    2.556,3,    1.345,2,     2205
  06M320100804,MT82.2,   550, 22,     10,2,20100811,2239, 47.1662, -39.4893, 4563,   2029.2,   3.7705,  34.9298,2,    271.4,2,    271.8,6,    3.030,3,    1.519,2,     2210
  06M320100804,MT82.2,   550, 22,     11,2,20100811,2239, 47.1662, -39.4893, 4563,   2026.5,   3.7719,  34.9301,2,    270.9,2,   -999.0,9, -999.000,9, -999.000,9,     2210
  06M320100804,MT82.2,   550, 22,     12,2,20100811,2239, 47.1662, -39.4893, 4563,   1798.7,   3.9018,  34.9285,2,    271.7,2,   -999.0,9,    3.252,3,    1.659,2,     2213
  06M320100804,MT82.2,   550, 22,     13,2,20100811,2239, 47.1662, -39.4893, 4563,   1616.0,   4.0438,  34.9298,2,    272.1,2,   -999.0,9,    3.522,3,    1.845,2,     2216
  06M320100804,MT82.2,   550, 22,     14,2,20100811,2239, 47.1662, -39.4893, 4563,   1413.2,   4.3697,  34.9565,2,    263.8,2,   -999.0,9, -999.000,9, -999.000,9,     2219
  06M320100804,MT82.2,   550, 22,     15,2,20100811,2239, 47.1662, -39.4893, 4563,   1200.2,   4.8057,  34.9794,2,    256.2,2,   -999.0,9,    3.276,3,    1.732,2,     2223
  06M320100804,MT82.2,   550, 22,     16,2,20100811,2239, 47.1662, -39.4893, 4563,   1001.7,   5.6982,  35.0093,2,    226.1,2,   -999.0,9,    2.776,3,    1.484,2,     2226
  06M320100804,MT82.2,   550, 22,     17,2,20100811,2239, 47.1662, -39.4893, 4563,    801.7,   7.4764,  35.0303,2,    184.4,2,   -999.0,9,    2.125,3,    1.120,6,     2229
  06M320100804,MT82.2,   550, 22,     18,2,20100811,2239, 47.1662, -39.4893, 4563,    799.5,   7.5055,  35.0303,2,    182.1,2,   -999.0,9, -999.000,9, -999.000,9,     2229
  06M320100804,MT82.2,   550, 22,     19,2,20100811,2239, 47.1662, -39.4893, 4563,    711.8,   9.3341,  35.1885,2,    166.9,2,    166.7,2,    1.882,3,    1.027,2,     2231
  06M320100804,MT82.2,   550, 22,     20,2,20100811,2239, 47.1662, -39.4893, 4563,    597.9,  11.4281,  35.4609,2,    217.4,2,   -999.0,9,    2.360,3,    1.337,2,     2233
  06M320100804,MT82.2,   550, 22,     21,2,20100811,2239, 47.1662, -39.4893, 4563,    388.7,  14.0112,  35.9677,2,    232.3,2,    232.0,2, -999.000,9, -999.000,9,     2236
  06M320100804,MT82.2,   550, 22,     22,2,20100811,2239, 47.1662, -39.4893, 4563,    211.5,  14.3369,  35.9701,2,    229.5,2,    228.5,2, -999.000,9, -999.000,9,     2239
  06M320100804,MT82.2,   551, 23,      1,2,20100812,0319, 47.1812, -39.1987, 4565,   4668.7,   2.2294,  34.8960,2,    286.2,2,    285.5,2,    2.975,3,    1.518,2,      145
  06M320100804,MT82.2,   551, 23,      2,2,20100812,0319, 47.1812, -39.1987, 4565,   4298.6,   2.2858,  34.8952,2,    280.5,2,   -999.0,9,    2.411,3,    1.235,2,      152
  06M320100804,MT82.2,   551, 23,      3,2,20100812,0319, 47.1812, -39.1987, 4565,   3998.9,   2.4064,  34.9006,2,    278.9,2,   -999.0,9,    2.154,3,    1.090,2,      158
  06M320100804,MT82.2,   551, 23,      4,2,20100812,0319, 47.1812, -39.1987, 4565,   3700.6,   2.6054,  34.9097,2,    277.8,2,   -999.0,9,    2.061,3,    1.037,6,      208
  06M320100804,MT82.2,   551, 23,      5,2,20100812,0319, 47.1812, -39.1987, 4565,   3399.0,   2.8399,  34.9167,2,    277.4,2,    277.6,2,    2.285,3,    1.142,2,      213
  06M320100804,MT82.2,   551, 23,      6,2,20100812,0319, 47.1812, -39.1987, 4565,   3078.5,   3.0513,  34.9172,2,    277.6,2,   -999.0,9, -999.000,9, -999.000,9,      220
  06M320100804,MT82.2,   551, 23,      7,2,20100812,0319, 47.1812, -39.1987, 4565,   2798.4,   3.2238,  34.9173,2,    276.5,2,   -999.0,9,    2.544,3,    1.264,2,      225
  06M320100804,MT82.2,   551, 23,      8,2,20100812,0319, 47.1812, -39.1987, 4565,   2498.8,   3.3965,  34.9178,2,    275.6,2,   -999.0,9,    2.735,3,    1.365,2,      234
  06M320100804,MT82.2,   551, 23,      9,2,20100812,0319, 47.1812, -39.1987, 4565,   2225.5,   3.6267,  34.9269,2,    272.0,2,    273.0,2,    2.812,3,    1.415,2,      241
  06M320100804,MT82.2,   551, 23,     10,2,20100812,0319, 47.1812, -39.1987, 4565,   1898.9,   3.8387,  34.9272,2,    272.2,2,   -999.0,9,    3.156,3,    1.624,2,      247
  06M320100804,MT82.2,   551, 23,     11,2,20100812,0319, 47.1812, -39.1987, 4565,   1871.9,   3.8463,  34.9249,2,    273.1,2,   -999.0,9, -999.000,9, -999.000,9,      248
  06M320100804,MT82.2,   551, 23,     12,2,20100812,0319, 47.1812, -39.1987, 4565,   1694.2,   3.9641,  34.9243,2,    274.5,2,   -999.0,9,    3.443,3,    1.781,2,      251
  06M320100804,MT82.2,   551, 23,     13,2,20100812,0319, 47.1812, -39.1987, 4565,   1499.5,   4.2171,  34.9410,2,    268.9,2,    269.6,6,    3.466,3,    1.823,2,      254
  06M320100804,MT82.2,   551, 23,     14,2,20100812,0319, 47.1812, -39.1987, 4565,   1299.4,   4.3731,  34.9320,2,    273.3,2,   -999.0,9,    3.929,3,    2.122,2,      257
  06M320100804,MT82.2,   551, 23,     15,2,20100812,0319, 47.1812, -39.1987, 4565,   1078.6,   5.1711,  34.9877,2,    244.7,2,   -999.0,9,    3.033,3,    1.610,2,      300
  06M320100804,MT82.2,   551, 23,     16,2,20100812,0319, 47.1812, -39.1987, 4565,    955.8,   5.8214,  34.9967,2,    221.4,2,   -999.0,9, -999.000,9, -999.000,9,      303
  06M320100804,MT82.2,   551, 23,     17,2,20100812,0319, 47.1812, -39.1987, 4565,    899.1,   5.9607,  34.9404,2,    216.2,2,   -999.0,9,    2.642,3,    1.410,2,      304
  06M320100804,MT82.2,   551, 23,     18,2,20100812,0319, 47.1812, -39.1987, 4565,    808.7,   7.4267,  35.0227,2,    186.8,2,   -999.0,9, -999.000,9, -999.000,9,      305
  06M320100804,MT82.2,   551, 23,     19,2,20100812,0319, 47.1812, -39.1987, 4565,    707.3,   9.3634,  35.1913,2,    168.5,2,    170.6,2,    1.928,3,    1.039,2,      307
  06M320100804,MT82.2,   551, 23,     20,2,20100812,0319, 47.1812, -39.1987, 4565,    417.5,  13.9232,  35.9393,2,    232.1,2,   -999.0,9, -999.000,9, -999.000,9,      311
  06M320100804,MT82.2,   551, 23,     21,2,20100812,0319, 47.1812, -39.1987, 4565,     13.3,  20.5455,  35.2408,2,    237.0,2,   -999.0,9,    2.354,3,    1.432,2,      319
  06M320100804,MT82.2,   551, 23,     22,2,20100812,0319, 47.1812, -39.1987, 4565,     13.3,  20.4993,  35.2457,2,    236.3,2,    239.6,2, -999.000,9, -999.000,9,      319