BOTTLE,20230125CCHSIOENA
EXPOCODE,SECT_ID,STNNBR,CASTNO,BTLNBR,BTLNBR_FLAG_W,DATE,TIME,LATITUDE,LONGITUDE,DEPTH,CTDPRS,CTDTMP,CTDSAL,CTDSAL_FLAG_W,CTDOXY,CTDOXY_FLAG_W,OXYGEN,OXYGEN_FLAG_W,CFC-11,CFC-11_FLAG_W,CFC-12,CFC-12_FLAG_W,BTL_TIME
,,,,,,,,,,METERS,DBAR,ITS-90,PSS-78,,UMOL/KG,,UMOL/KG,,PMOL/KG,,PMOL/KG,,
  06M320100804,MT82.2,   673, 72,      1,2,20100828,0418, 48.0187, -17.6165, 4556,   4653.9,   2.5575,  34.9036,2,    241.8,2,    241.4,2, -999.000,9, -999.000,9,      201
  06M320100804,MT82.2,   673, 72,      2,2,20100828,0418, 48.0187, -17.6165, 4556,   4654.5,   2.5575,  34.9033,2,    240.6,2,   -999.0,9,    0.063,3,    0.056,6,      201
  06M320100804,MT82.2,   673, 72,      3,2,20100828,0418, 48.0187, -17.6165, 4556,   4499.5,   2.5537,  34.9052,2,    241.4,2,   -999.0,9,    0.056,3,    0.028,2,      204
  06M320100804,MT82.2,   673, 72,      4,2,20100828,0418, 48.0187, -17.6165, 4556,   4199.5,   2.5312,  34.9065,2,    241.4,2,   -999.0,9,    0.066,3,    0.030,2,      209
  06M320100804,MT82.2,   673, 72,      5,2,20100828,0418, 48.0187, -17.6165, 4556,   3900.8,   2.5240,  34.9095,2,    241.7,2,   -999.0,9,    0.084,3,    0.036,2,      224
  06M320100804,MT82.2,   673, 72,      6,2,20100828,0418, 48.0187, -17.6165, 4556,   3599.5,   2.5873,  34.9186,2,    244.3,2,    244.7,2,    0.153,3,    0.073,2,      237
  06M320100804,MT82.2,   673, 72,      7,2,20100828,0418, 48.0187, -17.6165, 4556,   3313.9,   2.7054,  34.9314,2,    248.4,2,   -999.0,9,    0.360,3,    0.179,2,      242
  06M320100804,MT82.2,   673, 72,      8,2,20100828,0418, 48.0187, -17.6165, 4556,   3025.2,   2.8459,  34.9418,2,    255.5,2,   -999.0,9,    0.851,3,    0.425,2,      250
  06M320100804,MT82.2,   673, 72,      9,2,20100828,0418, 48.0187, -17.6165, 4556,   2704.1,   3.0355,  34.9370,2,    268.3,2,   -999.0,9,    1.855,3,    0.931,2,      255
  06M320100804,MT82.2,   673, 72,     10,2,20100828,0418, 48.0187, -17.6165, 4556,   2399.1,   3.1797,  34.9213,2,    274.4,2,    275.7,2,    2.402,3,    1.179,2,      304
  06M320100804,MT82.2,   673, 72,     11,2,20100828,0418, 48.0187, -17.6165, 4556,   2112.4,   3.3518,  34.9097,2,    276.5,2,   -999.0,9,    2.786,3,    1.365,2,      309
  06M320100804,MT82.2,   673, 72,     12,2,20100828,0418, 48.0187, -17.6165, 4556,   1805.7,   3.6123,  34.9126,2,    274.0,2,   -999.0,9,    3.065,3,    1.526,2,      322
  06M320100804,MT82.2,   673, 72,     13,2,20100828,0418, 48.0187, -17.6165, 4556,   1504.4,   4.0456,  34.9470,2,    266.7,2,    269.2,2,    3.289,3,    1.667,2,      330
  06M320100804,MT82.2,   673, 72,     14,2,20100828,0418, 48.0187, -17.6165, 4556,   1281.2,   5.0172,  35.0772,2,    249.5,2,   -999.0,9,    2.935,3,    1.501,2,      337
  06M320100804,MT82.2,   673, 72,     15,2,20100828,0418, 48.0187, -17.6165, 4556,   1212.3,   5.7580,  35.1928,2,    236.5,2,   -999.0,9,    2.721,3,    1.415,2,      342
  06M320100804,MT82.2,   673, 72,     16,2,20100828,0418, 48.0187, -17.6165, 4556,   1081.8,   5.6159,  35.1208,2,    238.2,2,    238.7,2,    2.930,3,    1.536,3,      344
  06M320100804,MT82.2,   673, 72,     17,2,20100828,0418, 48.0187, -17.6165, 4556,    969.4,   7.1122,  35.3411,2,    217.3,2,   -999.0,9,    2.414,3,    1.270,2,      350
  06M320100804,MT82.2,   673, 72,     18,2,20100828,0418, 48.0187, -17.6165, 4556,    799.9,   7.3129,  35.2031,2,    207.1,2,   -999.0,9,    2.467,3,    1.372,2,      354
  06M320100804,MT82.2,   673, 72,     19,2,20100828,0418, 48.0187, -17.6165, 4556,    607.7,   8.8212,  35.2138,2,    191.9,2,    191.9,2, -999.000,9, -999.000,9,      400
  06M320100804,MT82.2,   673, 72,     20,2,20100828,0418, 48.0187, -17.6165, 4556,    409.1,  10.6285,  35.4091,2,    235.4,2,    235.4,2,    2.962,3,    1.708,2,      409
  06M320100804,MT82.2,   673, 72,     21,2,20100828,0418, 48.0187, -17.6165, 4556,    206.3,  11.8503,  35.6164,2,    243.7,2,    244.4,2, -999.000,9, -999.000,9,      414
  06M320100804,MT82.2,   673, 72,     22,2,20100828,0418, 48.0187, -17.6165, 4556,     14.2,  18.4922,  35.6120,2,    235.6,2,    237.1,2,    2.301,3,    1.404,2,      418
  06M320100804,MT82.2,   674, 73,      1,2,20100828,1221, 48.0153, -16.3928, 4808,   4916.5,   2.5627,  34.9010,2,    242.5,2,    242.7,2, -999.000,9, -999.000,9,     1028
  06M320100804,MT82.2,   674, 73,      2,2,20100828,1221, 48.0153, -16.3928, 4808,   4917.2,   2.5628,  34.9011,2,    242.3,2,   -999.0,9,    0.046,3,    0.027,6,     1028
  06M320100804,MT82.2,   674, 73,      3,2,20100828,1221, 48.0153, -16.3928, 4808,   4799.8,   2.5611,  34.9025,2,    242.1,2,   -999.0,9,    0.046,3,    0.027,2,     1033
  06M320100804,MT82.2,   674, 73,      4,2,20100828,1221, 48.0153, -16.3928, 4808,   4600.0,   2.5635,  34.9049,2,    241.4,2,   -999.0,9,    0.053,3,    0.034,2,     1038
  06M320100804,MT82.2,   674, 73,      5,2,20100828,1221, 48.0153, -16.3928, 4808,   4296.5,   2.5588,  34.9086,2,    241.2,2,   -999.0,9,    0.075,3,    0.042,2,     1046
  06M320100804,MT82.2,   674, 73,      6,2,20100828,1221, 48.0153, -16.3928, 4808,   4098.7,   2.5663,  34.9114,2,    242.5,2,   -999.0,9,    0.095,3,    0.053,2,     1049
  06M320100804,MT82.2,   674, 73,      7,2,20100828,1221, 48.0153, -16.3928, 4808,   3796.0,   2.5987,  34.9183,2,    243.5,2,   -999.0,9,    0.156,3,    0.085,2,     1054
  06M320100804,MT82.2,   674, 73,      8,2,20100828,1221, 48.0153, -16.3928, 4808,   3504.0,   2.6791,  34.9278,2,    248.6,2,   -999.0,9,    0.461,3,    0.240,2,     1058
  06M320100804,MT82.2,   674, 73,      9,2,20100828,1221, 48.0153, -16.3928, 4808,   3180.7,   2.8310,  34.9397,2,    255.7,2,    255.8,2,    0.891,3,    0.454,2,     1103
  06M320100804,MT82.2,   674, 73,     10,2,20100828,1221, 48.0153, -16.3928, 4808,   2898.9,   3.0013,  34.9423,2,    262.2,2,   -999.0,9,    1.340,3,    0.673,2,     1107
  06M320100804,MT82.2,   674, 73,     11,2,20100828,1221, 48.0153, -16.3928, 4808,   2605.6,   3.1418,  34.9266,2,    272.4,2,   -999.0,9,    2.085,3,    1.037,2,     1123
  06M320100804,MT82.2,   674, 73,     12,2,20100828,1221, 48.0153, -16.3928, 4808,   2320.2,   3.2973,  34.9105,2,    276.4,2,   -999.0,9,    2.596,3,    1.282,2,     1133
  06M320100804,MT82.2,   674, 73,     13,2,20100828,1221, 48.0153, -16.3928, 4808,   1998.3,   3.5440,  34.9134,2,    274.3,2,    274.2,2,    2.863,3,    1.426,2,     1139
  06M320100804,MT82.2,   674, 73,     14,2,20100828,1221, 48.0153, -16.3928, 4808,   1724.3,   3.9930,  34.9497,2,    267.6,2,   -999.0,9,    3.051,3,    1.544,2,     1144
  06M320100804,MT82.2,   674, 73,     15,2,20100828,1221, 48.0153, -16.3928, 4808,   1367.1,   4.7951,  35.0242,2,    252.8,2,   -999.0,9,    3.074,3,    1.607,2,     1153
  06M320100804,MT82.2,   674, 73,     16,2,20100828,1221, 48.0153, -16.3928, 4808,   1216.9,   5.6632,  35.1225,2,    236.8,2,   -999.0,9,    2.919,3,    1.543,2,     1156
  06M320100804,MT82.2,   674, 73,     17,2,20100828,1221, 48.0153, -16.3928, 4808,   1111.2,   6.5673,  35.2411,2,    223.3,2,   -999.0,9, -999.000,9, -999.000,9,     1158
  06M320100804,MT82.2,   674, 73,     18,2,20100828,1221, 48.0153, -16.3928, 4808,    893.3,   7.8925,  35.2506,2,    200.8,2,    203.8,2, -999.000,9, -999.000,9,     1201
  06M320100804,MT82.2,   674, 73,     19,2,20100828,1221, 48.0153, -16.3928, 4808,    677.0,   9.8586,  35.3674,2,    203.2,2,    199.5,2, -999.000,9, -999.000,9,     1205
  06M320100804,MT82.2,   674, 73,     20,2,20100828,1221, 48.0153, -16.3928, 4808,    483.7,  11.0269,  35.5206,2,    242.7,2,    242.6,2, -999.000,9, -999.000,9,     1208
  06M320100804,MT82.2,   674, 73,     21,2,20100828,1221, 48.0153, -16.3928, 4808,    200.2,  11.8334,  35.6122,2,    243.2,2,    244.8,6, -999.000,9, -999.000,9,     1214
  06M320100804,MT82.2,   674, 73,     22,2,20100828,1221, 48.0153, -16.3928, 4808,     15.1,  17.5302,  35.4974,2,    243.0,2,    243.6,2, -999.000,9, -999.000,9,     1221
  06M320100804,MT82.2,   675, 74,      1,2,20100828,1735, 48.0163, -15.8910, 4818,   4920.4,   2.5551,  34.9003,2,    242.4,2,    242.4,2, -999.000,9, -999.000,9,     1604
  06M320100804,MT82.2,   675, 74,      2,2,20100828,1735, 48.0163, -15.8910, 4818,   4920.8,   2.5551,  34.9003,2,    242.2,2,   -999.0,9, -999.000,9, -999.000,9,     1604
  06M320100804,MT82.2,   675, 74,      3,2,20100828,1735, 48.0163, -15.8910, 4818,   4799.6,   2.5478,  34.9011,2,    242.6,2,   -999.0,9,    0.046,3,    0.026,6,     1607
  06M320100804,MT82.2,   675, 74,      4,2,20100828,1735, 48.0163, -15.8910, 4818,   4500.1,   2.5412,  34.9042,2,    241.6,2,   -999.0,9,    0.051,3,    0.027,2,     1612
  06M320100804,MT82.2,   675, 74,      5,2,20100828,1735, 48.0163, -15.8910, 4818,   4198.9,   2.5526,  34.9093,2,    242.1,2,   -999.0,9,    0.061,3,    0.039,2,     1617
  06M320100804,MT82.2,   675, 74,      6,2,20100828,1735, 48.0163, -15.8910, 4818,   3898.9,   2.5850,  34.9159,2,    243.4,2,   -999.0,9,    0.110,3,    0.064,2,     1622
  06M320100804,MT82.2,   675, 74,      7,2,20100828,1735, 48.0163, -15.8910, 4818,   3621.7,   2.6531,  34.9243,2,    246.0,2,   -999.0,9,    0.202,3,    0.111,2,     1627
  06M320100804,MT82.2,   675, 74,      8,2,20100828,1735, 48.0163, -15.8910, 4818,   3324.4,   2.7634,  34.9349,2,    249.3,2,   -999.0,9,    0.377,3,    0.203,2,     1632
  06M320100804,MT82.2,   675, 74,      9,2,20100828,1735, 48.0163, -15.8910, 4818,   3028.8,   2.9378,  34.9467,2,    252.4,2,   -999.0,9,    0.645,3,    0.378,2,     1640
  06M320100804,MT82.2,   675, 74,     10,2,20100828,1735, 48.0163, -15.8910, 4818,   2727.2,   3.0835,  34.9354,2,    269.2,2,    268.6,2,    1.844,3,    0.916,2,     1645
  06M320100804,MT82.2,   675, 74,     11,2,20100828,1735, 48.0163, -15.8910, 4818,   2427.7,   3.2461,  34.9189,2,    273.9,2,    274.7,2,    2.335,3,    1.149,2,     1650
  06M320100804,MT82.2,   675, 74,     12,2,20100828,1735, 48.0163, -15.8910, 4818,   2127.0,   3.4353,  34.9087,2,    275.5,2,   -999.0,9,    2.787,3,    1.374,2,     1656
  06M320100804,MT82.2,   675, 74,     13,2,20100828,1735, 48.0163, -15.8910, 4818,   1785.3,   3.7945,  34.9302,2,    271.3,2,   -999.0,9,    2.981,3,    1.491,2,     1702
  06M320100804,MT82.2,   675, 74,     14,2,20100828,1735, 48.0163, -15.8910, 4818,   1484.2,   4.2876,  34.9800,2,    261.8,2,   -999.0,9,    3.217,3,    1.670,2,     1707
  06M320100804,MT82.2,   675, 74,     15,2,20100828,1735, 48.0163, -15.8910, 4818,   1199.6,   5.4762,  35.1231,2,    240.3,2,   -999.0,9,    2.840,3,    1.480,2,     1712
  06M320100804,MT82.2,   675, 74,     16,2,20100828,1735, 48.0163, -15.8910, 4818,   1078.9,   6.1542,  35.2015,2,    229.9,2,   -999.0,9,    2.663,3,    1.397,2,     1713
  06M320100804,MT82.2,   675, 74,     17,2,20100828,1735, 48.0163, -15.8910, 4818,    973.4,   6.9517,  35.2884,2,    216.2,2,   -999.0,9,    2.492,3,    1.304,2,     1718
  06M320100804,MT82.2,   675, 74,     18,2,20100828,1735, 48.0163, -15.8910, 4818,    880.6,   7.7660,  35.3643,2,    205.1,2,   -999.0,9,    2.300,3,    1.215,2,     1719
  06M320100804,MT82.2,   675, 74,     19,2,20100828,1735, 48.0163, -15.8910, 4818,    680.1,   8.7924,  35.2796,2,    191.2,2,    192.3,6,    2.271,3,    1.225,2,     1723
  06M320100804,MT82.2,   675, 74,     20,2,20100828,1735, 48.0163, -15.8910, 4818,    491.6,  10.2456,  35.3612,2,    220.3,2,    220.6,2,    2.782,3,    1.579,2,     1726
  06M320100804,MT82.2,   675, 74,     21,2,20100828,1735, 48.0163, -15.8910, 4818,    295.6,  11.4922,  35.5380,2,    239.3,2,    244.1,4, -999.000,9, -999.000,9,     1729
  06M320100804,MT82.2,   675, 74,     22,2,20100828,1735, 48.0163, -15.8910, 4818,     13.8,  17.7405,  35.4468,2,    242.8,2,    242.9,2,    2.400,3,    1.457,2,     1735
  06M320100804,MT82.2,   676, 75,      1,2,20100828,0238, 48.0157, -14.7950, 4786,   4890.1,   2.5489,  34.8995,2,    241.8,2,   -999.0,9, -999.000,9, -999.000,9,       43
  06M320100804,MT82.2,   676, 75,      2,2,20100828,0238, 48.0157, -14.7950, 4786,   4889.1,   2.5483,  34.8999,2,    242.3,2,   -999.0,9,    0.047,3,    0.024,2,       43
  06M320100804,MT82.2,   676, 75,      3,2,20100828,0238, 48.0157, -14.7950, 4786,   4700.5,   2.5363,  34.9013,2,    242.4,2,   -999.0,9,    0.044,3,    0.026,2,       50
  06M320100804,MT82.2,   676, 75,      4,2,20100828,0238, 48.0157, -14.7950, 4786,   4399.4,   2.5304,  34.9041,2,    242.1,2,   -999.0,9,    0.047,3,    0.029,6,       57
  06M320100804,MT82.2,   676, 75,      5,2,20100828,0238, 48.0157, -14.7950, 4786,   4099.2,   2.5394,  34.9084,2,    242.6,2,   -999.0,9,    0.057,3,    0.033,2,      103
  06M320100804,MT82.2,   676, 75,      6,2,20100828,0238, 48.0157, -14.7950, 4786,   3798.5,   2.5696,  34.9141,2,    242.4,2,   -999.0,9,    0.092,3,    0.046,2,      108
  06M320100804,MT82.2,   676, 75,      7,2,20100828,0238, 48.0157, -14.7950, 4786,   3499.8,   2.6347,  34.9235,2,    244.6,2,   -999.0,9,    0.147,3,    0.077,2,      114
  06M320100804,MT82.2,   676, 75,      8,2,20100828,0238, 48.0157, -14.7950, 4786,   3198.4,   2.7416,  34.9339,2,    248.4,2,   -999.0,9,    0.275,3,    0.148,2,      120
  06M320100804,MT82.2,   676, 75,      9,2,20100828,0238, 48.0157, -14.7950, 4786,   2890.2,   2.9260,  34.9464,2,    251.5,2,   -999.0,9,    0.497,3,    0.257,2,      125
  06M320100804,MT82.2,   676, 75,     10,2,20100828,0238, 48.0157, -14.7950, 4786,   2571.9,   3.0795,  34.9423,2,    262.8,2,   -999.0,9,    1.323,3,    0.661,2,      132
  06M320100804,MT82.2,   676, 75,     11,2,20100828,0238, 48.0157, -14.7950, 4786,   2296.0,   3.2955,  34.9304,2,    270.5,2,   -999.0,9,    2.079,3,    1.015,2,      138
  06M320100804,MT82.2,   676, 75,     12,2,20100828,0238, 48.0157, -14.7950, 4786,   2001.8,   3.5204,  34.9210,2,    272.0,2,   -999.0,9,    2.745,3,    1.353,2,      154
  06M320100804,MT82.2,   676, 75,     13,2,20100828,0238, 48.0157, -14.7950, 4786,   1807.6,   3.7280,  34.9240,2,    270.8,2,   -999.0,9,    2.948,3,    1.476,2,      158
  06M320100804,MT82.2,   676, 75,     14,2,20100828,0238, 48.0157, -14.7950, 4786,   1619.4,   3.9210,  34.9375,2,    269.3,2,   -999.0,9,    3.302,3,    1.670,2,      202
  06M320100804,MT82.2,   676, 75,     15,2,20100828,0238, 48.0157, -14.7950, 4786,   1407.4,   4.5570,  35.0105,2,    257.3,2,   -999.0,9,    3.136,3,    1.604,2,      209
  06M320100804,MT82.2,   676, 75,     16,2,20100828,0238, 48.0157, -14.7950, 4786,   1313.1,   5.0492,  35.0692,2,    248.2,2,   -999.0,9,    3.037,3,    1.570,2,      211
  06M320100804,MT82.2,   676, 75,     17,2,20100828,0238, 48.0157, -14.7950, 4786,   1183.7,   5.7297,  35.1575,2,    235.2,2,   -999.0,9,    2.759,3,    1.435,2,      213
  06M320100804,MT82.2,   676, 75,     18,2,20100828,0238, 48.0157, -14.7950, 4786,   1095.0,   6.4509,  35.2409,2,    224.4,2,   -999.0,9,    2.525,3,    1.320,2,      214
  06M320100804,MT82.2,   676, 75,     19,2,20100828,0238, 48.0157, -14.7950, 4786,    987.5,   7.1832,  35.3126,2,    212.6,2,   -999.0,9,    2.363,3,    1.244,2,      216
  06M320100804,MT82.2,   676, 75,     20,2,20100828,0238, 48.0157, -14.7950, 4786,    803.0,   9.1321,  35.4909,2,    190.2,2,   -999.0,9, -999.000,9, -999.000,9,      220
  06M320100804,MT82.2,   676, 75,     21,2,20100828,0238, 48.0157, -14.7950, 4786,    414.6,  10.7622,  35.4194,2,    233.7,2,   -999.0,9,    2.914,3,    1.677,2,      228
  06M320100804,MT82.2,   676, 75,     22,2,20100828,0238, 48.0157, -14.7950, 4786,     15.3,  18.3838,  35.6166,2,    237.5,2,   -999.0,9,    2.324,3,    1.408,2,      238