BOTTLE,20230125CCHSIOENA
EXPOCODE,SECT_ID,STNNBR,CASTNO,BTLNBR,BTLNBR_FLAG_W,DATE,TIME,LATITUDE,LONGITUDE,DEPTH,CTDPRS,CTDTMP,CTDSAL,CTDSAL_FLAG_W,CTDOXY,CTDOXY_FLAG_W,OXYGEN,OXYGEN_FLAG_W,CFC-11,CFC-11_FLAG_W,CFC-12,CFC-12_FLAG_W,BTL_TIME
,,,,,,,,,,METERS,DBAR,ITS-90,PSS-78,,UMOL/KG,,UMOL/KG,,PMOL/KG,,PMOL/KG,,
  06M320100804,MT82.2,   629, 52,      1,2,20100822,0208, 50.0510, -33.8683, 4257,   4337.6,   2.3583,  34.8968,2,    279.4,2,   -999.0,9, -999.000,9, -999.000,9,       49
  06M320100804,MT82.2,   629, 52,      2,2,20100822,0208, 50.0510, -33.8683, 4257,   4336.3,   2.3582,  34.8966,2,    280.0,2,    279.3,2,    2.244,3,    1.188,2,       49
  06M320100804,MT82.2,   629, 52,      3,2,20100822,0208, 50.0510, -33.8683, 4257,   4000.1,   2.3939,  34.9003,2,    279.4,2,   -999.0,9,    2.170,3,    1.135,2,       55
  06M320100804,MT82.2,   629, 52,      4,2,20100822,0208, 50.0510, -33.8683, 4257,   3699.3,   2.4542,  34.9048,2,    277.6,2,   -999.0,9,    2.072,3,    1.089,2,       59
  06M320100804,MT82.2,   629, 52,      5,2,20100822,0208, 50.0510, -33.8683, 4257,   3398.5,   2.5984,  34.9133,2,    276.2,2,   -999.0,9,    2.008,3,    1.040,2,      104
  06M320100804,MT82.2,   629, 52,      6,2,20100822,0208, 50.0510, -33.8683, 4257,   3099.4,   2.8010,  34.9218,2,    276.2,2,    276.8,2,    2.079,3,    1.068,2,      108
  06M320100804,MT82.2,   629, 52,      7,2,20100822,0208, 50.0510, -33.8683, 4257,   2804.8,   2.9692,  34.9204,2,    276.6,2,    277.2,2,    2.222,3,    1.148,2,      113
  06M320100804,MT82.2,   629, 52,      8,2,20100822,0208, 50.0510, -33.8683, 4257,   2499.0,   3.1253,  34.9159,2,    276.6,2,   -999.0,9,    2.421,3,    1.257,6,      117
  06M320100804,MT82.2,   629, 52,      9,2,20100822,0208, 50.0510, -33.8683, 4257,   2208.0,   3.2926,  34.9111,2,    277.4,2,   -999.0,9,    2.632,3,    1.366,2,      122
  06M320100804,MT82.2,   629, 52,     10,2,20100822,0208, 50.0510, -33.8683, 4257,   1913.8,   3.5137,  34.9136,2,    275.5,2,   -999.0,9,    2.838,3,    1.467,2,      136
  06M320100804,MT82.2,   629, 52,     11,2,20100822,0208, 50.0510, -33.8683, 4257,   1713.4,   3.6350,  34.9151,2,    273.8,2,    273.4,2,    2.984,3,    1.567,2,      139
  06M320100804,MT82.2,   629, 52,     12,2,20100822,0208, 50.0510, -33.8683, 4257,   1498.3,   3.7171,  34.9067,2,    276.6,2,   -999.0,9,    3.372,3,    1.797,2,      142
  06M320100804,MT82.2,   629, 52,     13,2,20100822,0208, 50.0510, -33.8683, 4257,   1302.6,   3.8317,  34.9053,2,    277.0,2,    276.8,2,    3.614,3,    1.993,2,      145
  06M320100804,MT82.2,   629, 52,     14,2,20100822,0208, 50.0510, -33.8683, 4257,   1098.5,   4.0145,  34.9119,2,    275.2,2,   -999.0,9,    3.585,3,    1.958,2,      148
  06M320100804,MT82.2,   629, 52,     15,2,20100822,0208, 50.0510, -33.8683, 4257,   1093.3,   4.0121,  34.9114,2,    275.1,2,   -999.0,9, -999.000,9, -999.000,9,      148
  06M320100804,MT82.2,   629, 52,     16,2,20100822,0208, 50.0510, -33.8683, 4257,    997.8,   4.1480,  34.9180,2,    272.2,2,   -999.0,9,    3.637,3,    2.010,2,      150
  06M320100804,MT82.2,   629, 52,     17,2,20100822,0208, 50.0510, -33.8683, 4257,    909.6,   4.3087,  34.9241,2,    267.0,2,    268.7,6,    3.582,3,    1.994,2,      151
  06M320100804,MT82.2,   629, 52,     18,2,20100822,0208, 50.0510, -33.8683, 4257,    720.2,   4.9072,  34.9568,2,    250.5,2,   -999.0,9,    3.208,3,    1.800,6,      155
  06M320100804,MT82.2,   629, 52,     19,2,20100822,0208, 50.0510, -33.8683, 4257,    404.9,   7.2110,  34.9590,2,    197.1,2,    197.8,2,    2.421,3,    1.366,2,      200
  06M320100804,MT82.2,   629, 52,     20,2,20100822,0208, 50.0510, -33.8683, 4257,    202.5,  10.8873,  35.3692,2,    230.9,2,   -999.0,9, -999.000,9, -999.000,9,      203
  06M320100804,MT82.2,   629, 52,     21,2,20100822,0208, 50.0510, -33.8683, 4257,     11.9,  16.6070,  35.0262,2,    250.5,2,    252.0,3,    2.446,3,    1.534,2,      208
  06M320100804,MT82.2,   629, 52,     22,2,20100822,0208, 50.0510, -33.8683, 4257,     12.1,  16.6084,  35.0266,2,    250.3,2,   -999.0,9, -999.000,9, -999.000,9,      208
  06M320100804,MT82.2,   631, 53,      1,2,20100823,0657, 49.7837, -33.5490, 4218,   4296.7,   2.3541,  34.8968,2,    279.1,2,   -999.0,9, -999.000,9, -999.000,9,      531
  06M320100804,MT82.2,   631, 53,      2,2,20100823,0657, 49.7837, -33.5490, 4218,   4296.5,   2.3539,  34.8972,2,    280.2,2,    279.5,2,    2.257,4,    1.271,4,      531
  06M320100804,MT82.2,   631, 53,      3,2,20100823,0657, 49.7837, -33.5490, 4218,   3999.0,   2.3769,  34.8997,2,    279.5,2,   -999.0,9,    2.128,4,    1.062,4,      538
  06M320100804,MT82.2,   631, 53,      4,2,20100823,0657, 49.7837, -33.5490, 4218,   3798.8,   2.4128,  34.9024,2,    279.2,2,   -999.0,9,    2.132,3,    1.110,2,      542
  06M320100804,MT82.2,   631, 53,      5,2,20100823,0657, 49.7837, -33.5490, 4218,   3500.3,   2.5279,  34.9104,2,    277.1,2,   -999.0,9,    2.064,3,    1.072,6,      552
  06M320100804,MT82.2,   631, 53,      6,2,20100823,0657, 49.7837, -33.5490, 4218,   3198.3,   2.7417,  34.9216,2,    276.5,2,    275.9,2,    2.084,3,    1.082,2,      556
  06M320100804,MT82.2,   631, 53,      7,2,20100823,0657, 49.7837, -33.5490, 4218,   2899.0,   2.9059,  34.9207,2,    276.8,2,   -999.0,9,    2.176,3,    1.133,2,      601
  06M320100804,MT82.2,   631, 53,      8,2,20100823,0657, 49.7837, -33.5490, 4218,   2595.1,   3.0638,  34.9146,2,    277.2,2,   -999.0,9,    2.301,3,    1.190,2,      606
  06M320100804,MT82.2,   631, 53,      9,2,20100823,0657, 49.7837, -33.5490, 4218,   2293.4,   3.2240,  34.9115,2,    277.7,2,   -999.0,9,    2.536,3,    1.312,2,      610
  06M320100804,MT82.2,   631, 53,     10,2,20100823,0657, 49.7837, -33.5490, 4218,   1998.8,   3.4164,  34.9130,2,    276.1,2,   -999.0,9,    2.710,3,    1.409,2,      620
  06M320100804,MT82.2,   631, 53,     11,2,20100823,0657, 49.7837, -33.5490, 4218,   1799.3,   3.5542,  34.9159,2,    274.8,2,   -999.0,9,    2.845,3,    1.485,2,      623
  06M320100804,MT82.2,   631, 53,     12,2,20100823,0657, 49.7837, -33.5490, 4218,   1598.8,   3.6903,  34.9171,2,    273.8,2,    272.7,2,    2.997,3,    1.569,2,      626
  06M320100804,MT82.2,   631, 53,     13,2,20100823,0657, 49.7837, -33.5490, 4218,   1506.3,   3.7615,  34.9179,2,    273.0,2,   -999.0,9,    3.087,3,    1.627,2,      628
  06M320100804,MT82.2,   631, 53,     14,2,20100823,0657, 49.7837, -33.5490, 4218,   1397.9,   3.8113,  34.9173,2,    274.5,2,   -999.0,9,    3.235,3,    1.732,2,      630
  06M320100804,MT82.2,   631, 53,     15,2,20100823,0657, 49.7837, -33.5490, 4218,   1305.5,   3.8580,  34.9147,2,    275.6,2,   -999.0,9,    3.413,3,    1.842,2,      631
  06M320100804,MT82.2,   631, 53,     16,2,20100823,0657, 49.7837, -33.5490, 4218,   1000.4,   4.2122,  34.9375,2,    268.4,2,   -999.0,9,    3.417,3,    1.874,2,      636
  06M320100804,MT82.2,   631, 53,     17,2,20100823,0657, 49.7837, -33.5490, 4218,    818.0,   4.8864,  35.0048,2,    251.0,2,    254.0,6,    2.955,4,    1.710,4,      640
  06M320100804,MT82.2,   631, 53,     18,2,20100823,0657, 49.7837, -33.5490, 4218,    612.1,   5.1599,  34.9500,2,    241.2,2,   -999.0,9,    3.102,3,    1.749,2,      645
  06M320100804,MT82.2,   631, 53,     19,2,20100823,0657, 49.7837, -33.5490, 4218,    405.9,   6.8167,  34.9482,2,    199.2,2,    204.1,2,    2.543,3,    1.450,2,      648
  06M320100804,MT82.2,   631, 53,     20,2,20100823,0657, 49.7837, -33.5490, 4218,    194.2,  10.1770,  35.2427,2,    215.5,2,    216.5,2, -999.000,9, -999.000,9,      651
  06M320100804,MT82.2,   631, 53,     21,2,20100823,0657, 49.7837, -33.5490, 4218,     10.6,  16.0690,  34.7536,2,    258.8,2,   -999.0,9,    2.586,3,    1.622,2,      657
  06M320100804,MT82.2,   632, 54,      1,2,20100823,1130, 49.5083, -33.2422, 4037,   4109.1,   2.3307,  34.8967,2,    278.8,2,   -999.0,9, -999.000,9, -999.000,9,     1013
  06M320100804,MT82.2,   632, 54,      2,2,20100823,1130, 49.5083, -33.2422, 4037,   4108.4,   2.3297,  34.8966,2,    279.0,2,    279.8,2,    2.201,3,    1.160,2,     1013
  06M320100804,MT82.2,   632, 54,      3,2,20100823,1130, 49.5083, -33.2422, 4037,   3700.0,   2.4250,  34.9036,2,    278.4,2,   -999.0,9,    2.067,3,    1.052,2,     1019
  06M320100804,MT82.2,   632, 54,      4,2,20100823,1130, 49.5083, -33.2422, 4037,   3389.3,   2.5723,  34.9110,2,    276.6,2,   -999.0,9,    1.959,3,    1.026,2,     1025
  06M320100804,MT82.2,   632, 54,      5,2,20100823,1130, 49.5083, -33.2422, 4037,   3100.2,   2.7668,  34.9159,2,    276.2,2,   -999.0,9,    1.947,3,    1.016,6,     1030
  06M320100804,MT82.2,   632, 54,      6,2,20100823,1130, 49.5083, -33.2422, 4037,   2796.5,   2.9645,  34.9164,2,    275.9,2,   -999.0,9,    2.129,3,    1.114,2,     1034
  06M320100804,MT82.2,   632, 54,      7,2,20100823,1130, 49.5083, -33.2422, 4037,   2504.3,   3.1374,  34.9128,2,    276.8,2,   -999.0,9,    2.324,3,    1.216,2,     1039
  06M320100804,MT82.2,   632, 54,      8,2,20100823,1130, 49.5083, -33.2422, 4037,   2199.5,   3.2947,  34.9102,2,    276.5,2,    277.4,2,    2.528,3,    1.314,2,     1044
  06M320100804,MT82.2,   632, 54,      9,2,20100823,1130, 49.5083, -33.2422, 4037,   1890.1,   3.4990,  34.9150,2,    274.3,2,   -999.0,9,    2.651,3,    1.384,2,     1058
  06M320100804,MT82.2,   632, 54,     10,2,20100823,1130, 49.5083, -33.2422, 4037,   1698.6,   3.6191,  34.9178,2,    273.7,2,   -999.0,9,    2.979,3,    1.577,2,     1101
  06M320100804,MT82.2,   632, 54,     11,2,20100823,1130, 49.5083, -33.2422, 4037,   1499.6,   3.7147,  34.9092,2,    276.0,2,   -999.0,9,    3.295,3,    1.783,2,     1104
  06M320100804,MT82.2,   632, 54,     12,2,20100823,1130, 49.5083, -33.2422, 4037,   1309.4,   3.7673,  34.8961,2,    280.1,2,   -999.0,9,    3.645,3,    1.994,2,     1108
  06M320100804,MT82.2,   632, 54,     13,2,20100823,1130, 49.5083, -33.2422, 4037,   1098.0,   3.9199,  34.9024,2,    277.7,2,    277.6,2, -999.000,9, -999.000,9,     1111
  06M320100804,MT82.2,   632, 54,     14,2,20100823,1130, 49.5083, -33.2422, 4037,    998.9,   4.0337,  34.9104,2,    275.2,2,   -999.0,9,    3.634,3,    2.015,6,     1112
  06M320100804,MT82.2,   632, 54,     15,2,20100823,1130, 49.5083, -33.2422, 4037,    996.1,   4.0429,  34.9104,2,    275.0,2,   -999.0,9, -999.000,9, -999.000,9,     1112
  06M320100804,MT82.2,   632, 54,     16,2,20100823,1130, 49.5083, -33.2422, 4037,    883.7,   4.1865,  34.9170,2,    271.9,2,   -999.0,9,    3.593,3,    1.994,2,     1114
  06M320100804,MT82.2,   632, 54,     17,2,20100823,1130, 49.5083, -33.2422, 4037,    770.7,   4.4627,  34.9329,2,    263.3,2,   -999.0,9,    3.505,3,    1.958,2,     1116
  06M320100804,MT82.2,   632, 54,     18,2,20100823,1130, 49.5083, -33.2422, 4037,    585.7,   5.0197,  34.9494,2,    247.1,2,    247.7,6,    3.144,3,    1.767,2,     1119
  06M320100804,MT82.2,   632, 54,     19,2,20100823,1130, 49.5083, -33.2422, 4037,    400.0,   6.2756,  34.9173,2,    206.5,2,   -999.0,9,    2.486,3,    1.392,2,     1122
  06M320100804,MT82.2,   632, 54,     20,2,20100823,1130, 49.5083, -33.2422, 4037,    213.8,   9.5862,  35.1649,2,    215.6,2,    221.0,2, -999.000,9, -999.000,9,     1125
  06M320100804,MT82.2,   632, 54,     21,2,20100823,1130, 49.5083, -33.2422, 4037,     14.3,  16.7186,  34.3750,2,    251.4,2,    274.6,2,    2.591,3,    1.625,2,     1130
  06M320100804,MT82.2,   632, 54,     22,2,20100823,1130, 49.5083, -33.2422, 4037,     14.4,  16.7107,  34.3805,2,    251.2,2,   -999.0,9, -999.000,9, -999.000,9,     1130
  06M320100804,MT82.2,   633, 55,      1,2,20100823,1613, 49.2430, -32.9235, 3873,   3952.2,   2.3744,  34.8995,2,    278.9,2,    278.5,2, -999.000,9, -999.000,9,     1450
  06M320100804,MT82.2,   633, 55,      2,2,20100823,1613, 49.2430, -32.9235, 3873,   3952.4,   2.3745,  34.8996,2,    279.1,2,   -999.0,9,    2.133,3,    1.114,6,     1451
  06M320100804,MT82.2,   633, 55,      3,2,20100823,1613, 49.2430, -32.9235, 3873,   3802.7,   2.4126,  34.9024,2,    278.1,2,   -999.0,9,    2.106,3,    1.106,2,     1455
  06M320100804,MT82.2,   633, 55,      4,2,20100823,1613, 49.2430, -32.9235, 3873,   3504.8,   2.5429,  34.9102,2,    277.6,2,   -999.0,9,    1.996,3,    1.023,2,     1501
  06M320100804,MT82.2,   633, 55,      5,2,20100823,1613, 49.2430, -32.9235, 3873,   3198.2,   2.7249,  34.9157,2,    275.3,2,    275.9,2,    2.041,3,    1.031,2,     1507
  06M320100804,MT82.2,   633, 55,      6,2,20100823,1613, 49.2430, -32.9235, 3873,   2883.7,   2.9369,  34.9163,2,    276.6,2,   -999.0,9,    2.067,3,    1.064,2,     1513
  06M320100804,MT82.2,   633, 55,      7,2,20100823,1613, 49.2430, -32.9235, 3873,   2598.2,   3.0922,  34.9136,2,    276.5,2,   -999.0,9,    2.259,3,    1.177,2,     1518
  06M320100804,MT82.2,   633, 55,      8,2,20100823,1613, 49.2430, -32.9235, 3873,   2303.6,   3.2628,  34.9095,2,    276.8,2,   -999.0,9,    2.507,3,    1.304,2,     1524
  06M320100804,MT82.2,   633, 55,      9,2,20100823,1613, 49.2430, -32.9235, 3873,   2000.9,   3.4720,  34.9163,2,    274.7,2,    275.8,2,    2.630,3,    1.375,2,     1531
  06M320100804,MT82.2,   633, 55,     10,2,20100823,1613, 49.2430, -32.9235, 3873,   1808.3,   3.5909,  34.9175,2,    273.8,2,   -999.0,9,    2.750,3,    1.444,6,     1535
  06M320100804,MT82.2,   633, 55,     11,2,20100823,1613, 49.2430, -32.9235, 3873,   1611.7,   3.7226,  34.9191,2,    273.3,2,   -999.0,9, -999.000,9, -999.000,9,     1539
  06M320100804,MT82.2,   633, 55,     12,2,20100823,1613, 49.2430, -32.9235, 3873,   1503.0,   3.7817,  34.9175,2,    273.8,2,   -999.0,9, -999.000,9, -999.000,9,     1541
  06M320100804,MT82.2,   633, 55,     13,2,20100823,1613, 49.2430, -32.9235, 3873,   1397.5,   3.8397,  34.9169,2,    274.2,2,    274.5,2,    3.221,3,    1.735,2,     1543
  06M320100804,MT82.2,   633, 55,     14,2,20100823,1613, 49.2430, -32.9235, 3873,   1209.5,   3.8862,  34.9028,2,    278.4,2,    276.9,2,    3.555,3,    1.961,2,     1547
  06M320100804,MT82.2,   633, 55,     15,2,20100823,1613, 49.2430, -32.9235, 3873,   1195.3,   3.8840,  34.9006,2,    278.2,2,   -999.0,9, -999.000,9, -999.000,9,     1547
  06M320100804,MT82.2,   633, 55,     16,2,20100823,1613, 49.2430, -32.9235, 3873,   1002.3,   4.1442,  34.9172,2,    272.3,2,    272.6,2,    3.551,3,    1.970,2,     1553
  06M320100804,MT82.2,   633, 55,     17,2,20100823,1613, 49.2430, -32.9235, 3873,    817.9,   4.6021,  34.9440,2,    261.5,2,   -999.0,9,    3.307,3,    1.918,2,     1557
  06M320100804,MT82.2,   633, 55,     18,2,20100823,1613, 49.2430, -32.9235, 3873,    617.2,   5.3039,  34.9656,2,    237.2,2,   -999.0,9,    2.892,3,    1.621,2,     1600
  06M320100804,MT82.2,   633, 55,     19,2,20100823,1613, 49.2430, -32.9235, 3873,    428.4,   6.4904,  34.9125,2,    203.9,2,    209.0,6,    2.647,3,    1.501,2,     1604
  06M320100804,MT82.2,   633, 55,     20,2,20100823,1613, 49.2430, -32.9235, 3873,    204.5,  10.0709,  35.2235,2,    234.5,2,    234.6,2,    2.931,3,    1.757,2,     1608
  06M320100804,MT82.2,   633, 55,     21,2,20100823,1613, 49.2430, -32.9235, 3873,     13.2,  16.8397,  34.6706,2,    249.5,2,   -999.0,9,    2.539,3,    1.587,2,     1613
  06M320100804,MT82.2,   633, 55,     22,2,20100823,1613, 49.2430, -32.9235, 3873,     12.9,  16.8354,  34.6718,2,    250.2,2,   -999.0,9, -999.000,9, -999.000,9,     1613
  06M320100804,MT82.2,   634, 56,      1,2,20100823,2032, 49.0152, -32.6140, 3936,   4008.1,   2.3763,  34.8991,2,    278.5,2,    283.1,3, -999.000,9, -999.000,9,     1920
  06M320100804,MT82.2,   634, 56,      2,2,20100823,2032, 49.0152, -32.6140, 3936,   4007.1,   2.3761,  34.8992,2,    278.9,2,   -999.0,9,    2.179,3,    1.174,2,     1920
  06M320100804,MT82.2,   634, 56,      3,2,20100823,2032, 49.0152, -32.6140, 3936,   3798.9,   2.4351,  34.9027,2,    278.0,2,   -999.0,9,    2.009,3,    1.055,2,     1924
  06M320100804,MT82.2,   634, 56,      4,2,20100823,2032, 49.0152, -32.6140, 3936,   3598.4,   2.5154,  34.9076,2,    277.4,2,   -999.0,9,    1.964,3,    1.022,2,     1927
  06M320100804,MT82.2,   634, 56,      5,2,20100823,2032, 49.0152, -32.6140, 3936,   3298.1,   2.7134,  34.9148,2,    276.8,2,   -999.0,9,    2.006,3,    1.160,3,     1932
  06M320100804,MT82.2,   634, 56,      6,2,20100823,2032, 49.0152, -32.6140, 3936,   2997.9,   2.9013,  34.9172,2,    276.3,2,   -999.0,9,    2.055,3,    1.053,2,     1936
  06M320100804,MT82.2,   634, 56,      7,2,20100823,2032, 49.0152, -32.6140, 3936,   2697.8,   3.0857,  34.9144,2,    277.2,2,   -999.0,9,    2.365,3,    1.221,2,     1941
  06M320100804,MT82.2,   634, 56,      8,2,20100823,2032, 49.0152, -32.6140, 3936,   2399.1,   3.2243,  34.9102,2,    276.6,2,    277.4,2,    2.436,3,    1.254,2,     1946
  06M320100804,MT82.2,   634, 56,      9,2,20100823,2032, 49.0152, -32.6140, 3936,   2093.5,   3.3843,  34.9101,2,    275.7,2,   -999.0,9, -999.000,9, -999.000,9,     1950
  06M320100804,MT82.2,   634, 56,     10,2,20100823,2032, 49.0152, -32.6140, 3936,   1899.0,   3.5338,  34.9153,2,    273.9,2,   -999.0,9, -999.000,9, -999.000,9,     1957
  06M320100804,MT82.2,   634, 56,     11,2,20100823,2032, 49.0152, -32.6140, 3936,   1698.7,   3.6731,  34.9182,2,    273.1,2,   -999.0,9, -999.000,9, -999.000,9,     2000
  06M320100804,MT82.2,   634, 56,     12,2,20100823,2032, 49.0152, -32.6140, 3936,   1491.9,   3.7822,  34.9141,2,    274.9,2,   -999.0,9, -999.000,9, -999.000,9,     2003
  06M320100804,MT82.2,   634, 56,     13,2,20100823,2032, 49.0152, -32.6140, 3936,   1275.4,   3.9947,  34.9257,2,    271.7,2,   -999.0,9, -999.000,9, -999.000,9,     2007
  06M320100804,MT82.2,   634, 56,     14,2,20100823,2032, 49.0152, -32.6140, 3936,   1069.2,   4.2394,  34.9384,2,    268.5,2,    267.9,2, -999.000,9, -999.000,9,     2013
  06M320100804,MT82.2,   634, 56,     15,2,20100823,2032, 49.0152, -32.6140, 3936,   1066.9,   4.2401,  34.9382,2,    269.6,2,    268.5,2, -999.000,9, -999.000,9,     2013
  06M320100804,MT82.2,   634, 56,     16,2,20100823,2032, 49.0152, -32.6140, 3936,    878.6,   4.5210,  34.9444,2,    263.6,2,   -999.0,9, -999.000,9, -999.000,9,     2016
  06M320100804,MT82.2,   634, 56,     17,2,20100823,2032, 49.0152, -32.6140, 3936,    798.4,   4.9041,  34.9739,2,    252.4,2,   -999.0,9, -999.000,9, -999.000,9,     2017
  06M320100804,MT82.2,   634, 56,     18,2,20100823,2032, 49.0152, -32.6140, 3936,    707.0,   5.2436,  34.9840,2,    240.6,2,    244.3,2,    3.026,3,    1.635,2,     2019
  06M320100804,MT82.2,   634, 56,     19,2,20100823,2032, 49.0152, -32.6140, 3936,    503.8,   6.7963,  35.0319,2,    201.0,2,   -999.0,9,    2.322,3,    1.259,2,     2022
  06M320100804,MT82.2,   634, 56,     20,2,20100823,2032, 49.0152, -32.6140, 3936,    392.1,   7.5690,  34.9713,2,    190.3,2,    190.8,6, -999.000,9, -999.000,9,     2024
  06M320100804,MT82.2,   634, 56,     21,2,20100823,2032, 49.0152, -32.6140, 3936,    189.6,  11.7184,  35.4450,2,    208.7,2,   -999.0,9, -999.000,9, -999.000,9,     2027
  06M320100804,MT82.2,   634, 56,     22,2,20100823,2032, 49.0152, -32.6140, 3936,     13.7,  15.3985,  34.7481,2,    267.0,2,   -999.0,9,    2.809,3,    1.690,6,     2032