BOTTLE,20230125CCHSIOENA
EXPOCODE,SECT_ID,STNNBR,CASTNO,BTLNBR,BTLNBR_FLAG_W,DATE,TIME,LATITUDE,LONGITUDE,DEPTH,CTDPRS,CTDTMP,CTDSAL,CTDSAL_FLAG_W,CTDOXY,CTDOXY_FLAG_W,OXYGEN,OXYGEN_FLAG_W,CFC-11,CFC-11_FLAG_W,CFC-12,CFC-12_FLAG_W,BTL_TIME
,,,,,,,,,,METERS,DBAR,ITS-90,PSS-78,,UMOL/KG,,UMOL/KG,,PMOL/KG,,PMOL/KG,,
  06M320100804,MT82.2,   528, 13,      1,2,20100808,0706, 47.1007, -43.2257, 3012,   3046.2,   2.2546,  34.9008,2,    287.3,2,   -999.0,5,    3.141,3,    1.662,6,      612
  06M320100804,MT82.2,   528, 13,      2,2,20100808,0706, 47.1007, -43.2257, 3012,   3046.6,   2.2549,  34.9010,2,    287.2,2,   -999.0,9, -999.000,9, -999.000,9,      612
  06M320100804,MT82.2,   528, 13,      3,2,20100808,0706, 47.1007, -43.2257, 3012,   2749.5,   2.8233,  34.9143,2,    280.5,2,   -999.0,9,    2.913,3,    1.531,2,      618
  06M320100804,MT82.2,   528, 13,      4,2,20100808,0706, 47.1007, -43.2257, 3012,   2535.7,   2.9004,  34.9143,2,    280.4,2,   -999.0,9,    2.948,3,    1.539,2,      622
  06M320100804,MT82.2,   528, 13,      5,2,20100808,0706, 47.1007, -43.2257, 3012,   2212.3,   3.0265,  34.9141,2,    279.6,2,    283.0,3,    2.937,3,    1.551,2,      627
  06M320100804,MT82.2,   528, 13,      6,2,20100808,0706, 47.1007, -43.2257, 3012,   1912.6,   3.1879,  34.9143,2,    278.7,2,   -999.0,9,    3.195,3,    1.651,2,      633
  06M320100804,MT82.2,   528, 13,      7,2,20100808,0706, 47.1007, -43.2257, 3012,   1915.1,   3.1871,  34.9144,2,    279.1,2,   -999.0,9, -999.000,9, -999.000,9,      633
  06M320100804,MT82.2,   528, 13,      8,2,20100808,0706, 47.1007, -43.2257, 3012,   1627.5,   3.4436,  34.9157,2,    277.1,2,   -999.0,9, -999.000,9, -999.000,9,      638
  06M320100804,MT82.2,   528, 13,      9,2,20100808,0706, 47.1007, -43.2257, 3012,   1627.6,   3.4434,  34.9158,2,    277.3,2,   -999.0,9, -999.000,9, -999.000,9,      638
  06M320100804,MT82.2,   528, 13,     10,2,20100808,0706, 47.1007, -43.2257, 3012,   1428.5,   3.5837,  34.9140,2,    277.0,2,    276.6,2,    3.528,3,    1.845,2,      642
  06M320100804,MT82.2,   528, 13,     11,2,20100808,0706, 47.1007, -43.2257, 3012,   1428.1,   3.5848,  34.9140,2,    277.0,2,   -999.0,9, -999.000,9, -999.000,9,      642
  06M320100804,MT82.2,   528, 13,     12,2,20100808,0706, 47.1007, -43.2257, 3012,   1096.4,   3.6802,  34.8910,2,    282.9,2,   -999.0,9,    4.061,3,    2.189,2,      648
  06M320100804,MT82.2,   528, 13,     13,2,20100808,0706, 47.1007, -43.2257, 3012,   1095.1,   3.6806,  34.8909,2,    282.7,2,   -999.0,9, -999.000,9, -999.000,9,      648
  06M320100804,MT82.2,   528, 13,     14,2,20100808,0706, 47.1007, -43.2257, 3012,    803.1,   3.9207,  34.9025,2,    286.0,2,    285.6,6,    4.181,3,    2.321,2,      653
  06M320100804,MT82.2,   528, 13,     15,2,20100808,0706, 47.1007, -43.2257, 3012,    796.4,   3.9237,  34.9032,2,    286.3,2,   -999.0,9, -999.000,9, -999.000,9,      653
  06M320100804,MT82.2,   528, 13,     16,2,20100808,0706, 47.1007, -43.2257, 3012,    504.6,   3.9027,  34.8730,2,    294.4,2,   -999.0,9,    4.438,3,    2.484,2,      659
  06M320100804,MT82.2,   528, 13,     17,2,20100808,0706, 47.1007, -43.2257, 3012,    503.2,   3.9021,  34.8729,2,    293.8,2,   -999.0,9, -999.000,9, -999.000,9,      659
  06M320100804,MT82.2,   528, 13,     18,2,20100808,0706, 47.1007, -43.2257, 3012,    300.3,   3.8611,  34.8426,2,    293.9,2,   -999.0,9,    4.468,3,    2.514,2,      703
  06M320100804,MT82.2,   528, 13,     19,2,20100808,0706, 47.1007, -43.2257, 3012,     98.8,   3.7618,  34.5480,2,    273.1,2,    277.4,2, -999.000,9, -999.000,9,      706
  06M320100804,MT82.2,   529, 14,      1,2,20100808,1033, 47.1000, -43.1250, 3444,   3494.8,   2.1865,  34.8992,2,    287.2,2,   -999.0,9,    3.212,3,    1.669,2,      925
  06M320100804,MT82.2,   529, 14,      2,2,20100808,1033, 47.1000, -43.1250, 3444,   3495.2,   2.1867,  34.8984,2,    287.1,2,    287.1,2, -999.000,9, -999.000,9,      925
  06M320100804,MT82.2,   529, 14,      3,2,20100808,1033, 47.1000, -43.1250, 3444,   3455.5,   2.2075,  34.8985,2,    287.0,2,   -999.0,9, -999.000,9, -999.000,9,      926
  06M320100804,MT82.2,   529, 14,      4,2,20100808,1033, 47.1000, -43.1250, 3444,   3148.3,   2.4731,  34.9061,2,    284.4,2,   -999.0,9, -999.000,9, -999.000,9,      932
  06M320100804,MT82.2,   529, 14,      5,2,20100808,1033, 47.1000, -43.1250, 3444,   2943.3,   2.6317,  34.9118,2,    282.9,2,   -999.0,9,    2.919,3,    1.507,2,      936
  06M320100804,MT82.2,   529, 14,      6,2,20100808,1033, 47.1000, -43.1250, 3444,   2647.3,   2.7706,  34.9143,2,    281.6,2,   -999.0,9,    2.933,3,    1.513,2,      942
  06M320100804,MT82.2,   529, 14,      7,2,20100808,1033, 47.1000, -43.1250, 3444,   2647.3,   2.7706,  34.9143,2,    281.6,2,   -999.0,9, -999.000,9, -999.000,9,      942
  06M320100804,MT82.2,   529, 14,      8,2,20100808,1033, 47.1000, -43.1250, 3444,   2434.5,   2.8462,  34.9140,2,    280.7,2,    280.5,2,    2.976,3,    1.500,2,      946
  06M320100804,MT82.2,   529, 14,      9,2,20100808,1033, 47.1000, -43.1250, 3444,   2095.4,   2.9576,  34.9140,2,    280.5,2,   -999.0,9, -999.000,9, -999.000,9,      952
  06M320100804,MT82.2,   529, 14,     10,2,20100808,1033, 47.1000, -43.1250, 3444,   1826.9,   3.2270,  34.9135,2,    278.7,2,   -999.0,9,    3.282,3,    1.759,3,      958
  06M320100804,MT82.2,   529, 14,     11,2,20100808,1033, 47.1000, -43.1250, 3444,   1726.7,   3.3136,  34.9138,2,    278.3,2,   -999.0,9, -999.000,9, -999.000,9,      959
  06M320100804,MT82.2,   529, 14,     12,2,20100808,1033, 47.1000, -43.1250, 3444,   1625.0,   3.4123,  34.9149,2,    277.1,2,    277.0,2,    3.320,3,    1.700,6,     1001
  06M320100804,MT82.2,   529, 14,     13,2,20100808,1033, 47.1000, -43.1250, 3444,   1624.1,   3.4133,  34.9148,2,    277.2,2,    277.4,2, -999.000,9, -999.000,9,     1001
  06M320100804,MT82.2,   529, 14,     14,2,20100808,1033, 47.1000, -43.1250, 3444,   1292.5,   3.6495,  34.9091,2,    277.8,2,   -999.0,9,    3.667,3,    1.908,2,     1007
  06M320100804,MT82.2,   529, 14,     15,2,20100808,1033, 47.1000, -43.1250, 3444,   1291.7,   3.6497,  34.9091,2,    277.6,2,   -999.0,9, -999.000,9, -999.000,9,     1007
  06M320100804,MT82.2,   529, 14,     16,2,20100808,1033, 47.1000, -43.1250, 3444,    985.2,   3.7312,  34.8929,2,    283.0,2,   -999.0,9,    4.054,3,    2.156,2,     1013
  06M320100804,MT82.2,   529, 14,     17,2,20100808,1033, 47.1000, -43.1250, 3444,    978.1,   3.7358,  34.8925,2,    283.9,2,    282.2,2, -999.000,9, -999.000,9,     1013
  06M320100804,MT82.2,   529, 14,     18,2,20100808,1033, 47.1000, -43.1250, 3444,    799.6,   4.0103,  34.9199,2,    276.5,2,   -999.0,9,    3.844,3,    2.049,2,     1017
  06M320100804,MT82.2,   529, 14,     19,2,20100808,1033, 47.1000, -43.1250, 3444,    499.8,   4.0784,  34.8965,2,    285.6,2,   -999.0,9,    4.063,3,    2.223,2,     1022
  06M320100804,MT82.2,   529, 14,     20,2,20100808,1033, 47.1000, -43.1250, 3444,    318.8,   4.5775,  34.9404,2,    264.3,2,   -999.0,9,    3.655,3,    1.988,2,     1026
  06M320100804,MT82.2,   529, 14,     21,2,20100808,1033, 47.1000, -43.1250, 3444,     98.5,   4.0621,  34.5751,2,    279.5,2,    275.9,2, -999.000,9, -999.000,9,     1030
  06M320100804,MT82.2,   529, 14,     22,2,20100808,1033, 47.1000, -43.1250, 3444,     11.0,  14.0525,  33.8199,2,    276.5,2,   -999.0,9,    3.471,3,    2.012,2,     1033
  06M320100804,MT82.2,   530, 15,      1,2,20100808,1359, 47.1008, -42.8913, 3446,   3491.8,   2.0474,  34.8968,2,    288.1,2,    287.4,2, -999.000,9, -999.000,9,     1253
  06M320100804,MT82.2,   530, 15,      2,2,20100808,1359, 47.1008, -42.8913, 3446,   3019.9,   2.3018,  34.9021,2,    285.8,2,   -999.0,9, -999.000,9, -999.000,9,     1303
  06M320100804,MT82.2,   530, 15,      3,2,20100808,1359, 47.1008, -42.8913, 3446,   3019.4,   2.3023,  34.9021,2,    286.2,2,    285.7,2, -999.000,9, -999.000,9,     1303
  06M320100804,MT82.2,   530, 15,      4,2,20100808,1359, 47.1008, -42.8913, 3446,   1971.1,   3.1556,  34.9133,2,    278.9,2,    278.3,2, -999.000,9, -999.000,9,     1321
  06M320100804,MT82.2,   530, 15,      5,2,20100808,1359, 47.1008, -42.8913, 3446,   1971.0,   3.1564,  34.9131,2,    278.9,2,   -999.0,9, -999.000,9, -999.000,9,     1322
  06M320100804,MT82.2,   530, 15,      6,2,20100808,1359, 47.1008, -42.8913, 3446,    999.2,   3.8328,  34.8957,2,    285.2,2,    286.3,2, -999.000,9, -999.000,9,     1339
  06M320100804,MT82.2,   530, 15,      7,2,20100808,1359, 47.1008, -42.8913, 3446,    997.4,   3.8331,  34.8954,2,    284.7,2,   -999.0,9, -999.000,9, -999.000,9,     1339
  06M320100804,MT82.2,   530, 15,      8,2,20100808,1359, 47.1008, -42.8913, 3446,     99.6,   5.4486,  34.5500,2,    234.8,2,    229.7,2, -999.000,9, -999.000,9,     1356
  06M320100804,MT82.2,   530, 15,      9,2,20100808,1359, 47.1008, -42.8913, 3446,     12.5,  14.5048,  33.4406,2,    281.4,2,   -999.0,9, -999.000,9, -999.000,9,     1359
  06M320100804,MT82.2,   532, 16,      1,2,20100808,2354, 47.0995, -42.5912, 3652,   3714.1,   2.0539,  34.8972,2,    289.3,2,   -999.0,9,    3.427,3,    1.734,2,     2207
  06M320100804,MT82.2,   532, 16,      2,2,20100808,2354, 47.0995, -42.5912, 3652,   3509.6,   2.2512,  34.8998,2,    287.8,2,   -999.0,9,    3.332,3,    1.714,2,     2212
  06M320100804,MT82.2,   532, 16,      3,2,20100808,2354, 47.0995, -42.5912, 3652,   3198.6,   2.4623,  34.9064,2,    285.0,2,   -999.0,9,    3.018,3,    1.543,2,     2226
  06M320100804,MT82.2,   532, 16,      4,2,20100808,2354, 47.0995, -42.5912, 3652,   3000.7,   2.6225,  34.9112,2,    282.3,2,    282.2,6,    2.861,3,    1.467,2,     2229
  06M320100804,MT82.2,   532, 16,      5,2,20100808,2354, 47.0995, -42.5912, 3652,   2699.3,   2.8321,  34.9145,2,    281.2,2,   -999.0,9,    2.887,3,    1.467,2,     2243
  06M320100804,MT82.2,   532, 16,      6,2,20100808,2354, 47.0995, -42.5912, 3652,   2500.0,   2.9918,  34.9146,2,    280.3,2,   -999.0,9,    2.916,3,    1.487,2,     2246
  06M320100804,MT82.2,   532, 16,      7,2,20100808,2354, 47.0995, -42.5912, 3652,   2198.3,   3.1886,  34.9154,2,    277.0,2,   -999.0,9,    4.441,4,    4.732,4,     2300
  06M320100804,MT82.2,   532, 16,      8,2,20100808,2354, 47.0995, -42.5912, 3652,   1994.8,   3.2973,  34.9144,2,    276.4,2,    276.4,6,    2.746,3,    1.385,6,     2303
  06M320100804,MT82.2,   532, 16,      9,2,20100808,2354, 47.0995, -42.5912, 3652,   1691.6,   3.5289,  34.9229,2,    273.8,2,   -999.0,9,    2.787,3,    1.446,2,     2317
  06M320100804,MT82.2,   532, 16,     10,2,20100808,2354, 47.0995, -42.5912, 3652,   1524.8,   3.6879,  34.9245,2,    272.9,2,   -999.0,9,    2.987,3,    1.580,2,     2320
  06M320100804,MT82.2,   532, 16,     11,2,20100808,2354, 47.0995, -42.5912, 3652,   1220.8,   3.9447,  34.9312,2,    271.6,2,   -999.0,9,    3.216,3,    1.735,2,     2325
  06M320100804,MT82.2,   532, 16,     12,2,20100808,2354, 47.0995, -42.5912, 3652,   1009.0,   4.0585,  34.9295,2,    271.9,2,    271.8,6, -999.000,9, -999.000,9,     2328
  06M320100804,MT82.2,   532, 16,     13,2,20100808,2354, 47.0995, -42.5912, 3652,    694.3,   4.6684,  34.9651,2,    258.6,2,   -999.0,9,    3.251,3,    1.805,2,     2342
  06M320100804,MT82.2,   532, 16,     14,2,20100808,2354, 47.0995, -42.5912, 3652,    491.5,   5.3289,  34.9717,2,    237.0,2,   -999.0,9,    2.832,3,    1.569,2,     2345
  06M320100804,MT82.2,   532, 16,     15,2,20100808,2354, 47.0995, -42.5912, 3652,    200.9,   9.7187,  35.2246,2,    199.2,2,   -999.0,9,    2.842,3,    1.663,2,     2350
  06M320100804,MT82.2,   532, 16,     16,2,20100808,2354, 47.0995, -42.5912, 3652,     98.9,  12.6266,  35.6134,2,    205.2,2,    202.2,2, -999.000,9, -999.000,9,     2351
  06M320100804,MT82.2,   532, 16,     17,2,20100808,2354, 47.0995, -42.5912, 3652,     11.1,  16.9768,  35.0439,2,    259.5,2,   -999.0,9,    2.601,3,    1.592,2,     2354
  06M320100804,MT82.2,   533, 17,      1,2,20100809,0417, 47.0987, -42.1825, 4090,   4170.2,   2.1416,  34.8964,2,    287.1,2,   -999.0,9,    3.032,3,    1.585,2,      307
  06M320100804,MT82.2,   533, 17,      2,2,20100809,0417, 47.0987, -42.1825, 4090,   4169.3,   2.1413,  34.8969,2,    287.9,2,   -999.0,9, -999.000,9, -999.000,9,      308
  06M320100804,MT82.2,   533, 17,      3,2,20100809,0417, 47.0987, -42.1825, 4090,   3799.7,   2.2487,  34.8978,2,    283.1,2,   -999.0,9,    2.578,3,    1.345,2,      314
  06M320100804,MT82.2,   533, 17,      4,2,20100809,0417, 47.0987, -42.1825, 4090,   3798.6,   2.2494,  34.8976,2,    282.9,2,   -999.0,9, -999.000,9, -999.000,9,      314
  06M320100804,MT82.2,   533, 17,      5,2,20100809,0417, 47.0987, -42.1825, 4090,   3584.5,   2.3111,  34.8993,2,    279.5,2,   -999.0,9, -999.000,9, -999.000,9,      318
  06M320100804,MT82.2,   533, 17,      6,2,20100809,0417, 47.0987, -42.1825, 4090,   3299.8,   2.5219,  34.9087,2,    278.1,2,   -999.0,9,    2.118,3,    1.099,2,      323
  06M320100804,MT82.2,   533, 17,      7,2,20100809,0417, 47.0987, -42.1825, 4090,   2988.7,   2.7668,  34.9153,2,    279.9,2,   -999.0,9,    2.351,3,    1.206,2,      328
  06M320100804,MT82.2,   533, 17,      8,2,20100809,0417, 47.0987, -42.1825, 4090,   2704.3,   2.9699,  34.9172,2,    277.3,2,   -999.0,9,    2.320,3,    1.183,2,      333
  06M320100804,MT82.2,   533, 17,      9,2,20100809,0417, 47.0987, -42.1825, 4090,   2497.4,   3.0772,  34.9154,2,    277.3,2,    276.9,2,    2.382,3,    1.209,2,      336
  06M320100804,MT82.2,   533, 17,     10,2,20100809,0417, 47.0987, -42.1825, 4090,   2198.8,   3.2654,  34.9112,2,    276.4,2,   -999.0,9,    2.562,3,    1.298,2,      341
  06M320100804,MT82.2,   533, 17,     11,2,20100809,0417, 47.0987, -42.1825, 4090,   1898.6,   3.4606,  34.9151,2,    274.5,2,   -999.0,9, -999.000,9, -999.000,9,      346
  06M320100804,MT82.2,   533, 17,     12,2,20100809,0417, 47.0987, -42.1825, 4090,   1894.8,   3.4623,  34.9158,2,    274.4,2,   -999.0,9,    2.677,3,    1.374,2,      346
  06M320100804,MT82.2,   533, 17,     13,2,20100809,0417, 47.0987, -42.1825, 4090,   1601.0,   3.6728,  34.9208,2,    272.7,2,   -999.0,9,    3.043,3,    1.611,2,      350
  06M320100804,MT82.2,   533, 17,     14,2,20100809,0417, 47.0987, -42.1825, 4090,   1602.5,   3.6719,  34.9201,2,    272.5,2,   -999.0,9, -999.000,9, -999.000,9,      350
  06M320100804,MT82.2,   533, 17,     15,2,20100809,0417, 47.0987, -42.1825, 4090,   1398.9,   3.7382,  34.9110,2,    275.6,2,   -999.0,9,    3.348,3,    1.794,2,      353
  06M320100804,MT82.2,   533, 17,     16,2,20100809,0417, 47.0987, -42.1825, 4090,   1228.1,   3.8366,  34.9083,2,    276.9,2,    277.9,6,    3.620,3,    1.976,2,      356
  06M320100804,MT82.2,   533, 17,     17,2,20100809,0417, 47.0987, -42.1825, 4090,    983.2,   4.0959,  34.9244,2,    272.0,2,   -999.0,9,    3.502,3,    1.926,2,      359
  06M320100804,MT82.2,   533, 17,     18,2,20100809,0417, 47.0987, -42.1825, 4090,    775.3,   4.4320,  34.9384,2,    264.1,2,   -999.0,9,    3.432,3,    1.901,2,      403
  06M320100804,MT82.2,   533, 17,     19,2,20100809,0417, 47.0987, -42.1825, 4090,    510.0,   5.5711,  34.9462,2,    228.8,2,   -999.0,9,    2.867,3,    1.591,2,      407
  06M320100804,MT82.2,   533, 17,     20,2,20100809,0417, 47.0987, -42.1825, 4090,    293.5,   7.8953,  34.9577,2,    202.7,2,    206.2,2, -999.000,9, -999.000,9,      411
  06M320100804,MT82.2,   533, 17,     21,2,20100809,0417, 47.0987, -42.1825, 4090,     98.3,  12.2454,  35.5089,2,    227.1,2,   -999.0,9, -999.000,9, -999.000,9,      414
  06M320100804,MT82.2,   533, 17,     22,2,20100809,0417, 47.0987, -42.1825, 4090,     11.9,  17.5858,  34.8387,2,    249.6,2,    251.5,2,    2.472,3,    1.542,2,      417
  06M320100804,MT82.2,   535, 18,      1,2,20100809,0926, 47.0998, -41.6083, 4286,   4361.6,   2.1465,  34.8975,2,    288.6,2,    289.8,2,    3.135,3,    1.666,2,      809
  06M320100804,MT82.2,   535, 18,      2,2,20100809,0926, 47.0998, -41.6083, 4286,   3999.9,   2.2539,  34.8965,2,    281.7,2,   -999.0,9,    2.533,3,    1.349,2,      817
  06M320100804,MT82.2,   535, 18,      3,2,20100809,0926, 47.0998, -41.6083, 4286,   3693.3,   2.3287,  34.8992,2,    279.4,2,   -999.0,9,    2.198,3,    1.149,2,      823
  06M320100804,MT82.2,   535, 18,      4,2,20100809,0926, 47.0998, -41.6083, 4286,   3398.4,   2.4899,  34.9068,2,    277.5,2,    277.5,2,    2.236,3,    1.266,3,      827
  06M320100804,MT82.2,   535, 18,      5,2,20100809,0926, 47.0998, -41.6083, 4286,   3198.7,   2.6401,  34.9126,2,    277.2,2,   -999.0,9,    2.040,3,    1.051,2,      832
  06M320100804,MT82.2,   535, 18,      6,2,20100809,0926, 47.0998, -41.6083, 4286,   2897.7,   2.8559,  34.9177,2,    276.5,2,   -999.0,9,    2.162,3,    1.084,2,      837
  06M320100804,MT82.2,   535, 18,      7,2,20100809,0926, 47.0998, -41.6083, 4286,   2604.6,   3.0446,  34.9162,2,    277.3,2,   -999.0,9,    2.350,3,    1.223,6,      842
  06M320100804,MT82.2,   535, 18,      8,2,20100809,0926, 47.0998, -41.6083, 4286,   2298.3,   3.2154,  34.9145,2,    276.2,2,    276.7,6, -999.000,9, -999.000,9,      847
  06M320100804,MT82.2,   535, 18,      9,2,20100809,0926, 47.0998, -41.6083, 4286,   1998.7,   3.4031,  34.9170,2,    275.1,2,   -999.0,9,    2.679,3,    1.381,2,      852
  06M320100804,MT82.2,   535, 18,     10,2,20100809,0926, 47.0998, -41.6083, 4286,   1691.8,   3.5993,  34.9234,2,    272.2,2,   -999.0,9,    2.820,3,    1.483,2,      856
  06M320100804,MT82.2,   535, 18,     11,2,20100809,0926, 47.0998, -41.6083, 4286,   1404.1,   3.7711,  34.9204,2,    273.6,2,   -999.0,9, -999.000,9, -999.000,9,      901
  06M320100804,MT82.2,   535, 18,     12,2,20100809,0926, 47.0998, -41.6083, 4286,   1405.3,   3.7716,  34.9209,2,    273.4,2,   -999.0,9, -999.000,9, -999.000,9,      901
  06M320100804,MT82.2,   535, 18,     13,2,20100809,0926, 47.0998, -41.6083, 4286,   1394.6,   3.7735,  34.9205,2,    274.0,2,   -999.0,9,    3.245,3,    1.743,2,      901
  06M320100804,MT82.2,   535, 18,     14,2,20100809,0926, 47.0998, -41.6083, 4286,   1096.3,   3.9774,  34.9233,2,    273.2,2,    272.6,2,    3.404,3,    1.945,2,      906
  06M320100804,MT82.2,   535, 18,     15,2,20100809,0926, 47.0998, -41.6083, 4286,   1095.1,   3.9814,  34.9240,2,    273.0,2,   -999.0,9, -999.000,9, -999.000,9,      906
  06M320100804,MT82.2,   535, 18,     16,2,20100809,0926, 47.0998, -41.6083, 4286,    916.4,   4.2414,  34.9379,2,    268.2,2,   -999.0,9,    3.245,3,    1.875,2,      910
  06M320100804,MT82.2,   535, 18,     17,2,20100809,0926, 47.0998, -41.6083, 4286,    607.7,   4.8328,  34.9631,2,    254.4,2,   -999.0,9,    3.269,3,    1.811,2,      914
  06M320100804,MT82.2,   535, 18,     18,2,20100809,0926, 47.0998, -41.6083, 4286,    304.4,   6.8765,  34.9246,2,    199.7,2,   -999.0,9,    2.306,3,    1.280,2,      919
  06M320100804,MT82.2,   535, 18,     19,2,20100809,0926, 47.0998, -41.6083, 4286,     99.9,  11.8998,  35.4687,2,    202.2,2,    203.6,2, -999.000,9, -999.000,9,      922
  06M320100804,MT82.2,   535, 18,     20,2,20100809,0926, 47.0998, -41.6083, 4286,     11.3,  14.8317,  33.6258,2,    281.4,2,   -999.0,9, -999.000,9, -999.000,9,      926
  06M320100804,MT82.2,   535, 18,     21,2,20100809,0926, 47.0998, -41.6083, 4286,     11.0,  14.7893,  33.5390,2,    278.4,2,   -999.0,9,    2.831,3,    1.713,2,      926