BOTTLE,20230125CCHSIOENA
# changed flags for OXYGEN fill values from 4 to 5 at [stn 515, cast 3, btl 6], [stn 516, cast 4, btl 10], and [stn 528, cast 13, btl 1]
# changed flags for CFC-11 and CFC-12 fill values from 4 to 5 at stn 655, cast 66, btl 16
# BOTTLE,20200318PRINUNIVRMK
# 3/16/2020 Initialized README file  
# Data source: Reiner Steinfeldt 1/21/2020 
# SHIP: R/V Meteor 
# Cruise: Meteor 82.2 
# Region: Subpolar North Atlantic 
# 	St. Johns - Puenta Delgada 
# EXPOCODE: 06M320100804 
# DATES: 20100804 - 20100901 
# Chief Scientist: Monika Rhein 
# 75 stations with 24 place Rosette (at most 22 used) 
# CTD: Who - R.Steinfeldt,M.Rhein,D.Kieke; Status - 
# 	Includes: CTDSAL, CTDOXY 
# 	SBE 9 plus CTD, SBE 11 plus deck unit, SBE 43 dissolved oxygen sensor 
# 	Accuracy: < 1 dbar for pressure 
# 		0.001 °C for temperature 
# 		<0.003 for salinity 
# 		<2.0 µmol/kg for oxygen 
# SALNTY: Who - ; Status - not reported 
# 	Notes: 	only enough for calibration 
# OXYGEN: Who - ?; Status - final 
# 	Notes: Winkler titration, precision 1 µmol/kg 
# CFC: Who - K.Bulsiewicz; Status - final 
# 	Notes: includes CFC11&12 
# 	All CFC-11 flags set to 3 or 4 by PI 
# 	Flame sealed ampules for shore analysis 
# 	Scale: SIO-98 
# 	Accuracy: 2% 
# 	See Bulsiewicz et al. 1998 
# References that have used data from this cruise: 
# Bulsiewicz, K., H. Rose, O. Klatt, A. Putzka, and W. Roether (1998), A capillary-column chromatographic system for efficient chlorofluorocarbon measurement in ocean waters, J. Geophys, Res., 103, 15959-15970. 
EXPOCODE,SECT_ID,STNNBR,CASTNO,BTLNBR,BTLNBR_FLAG_W,DATE,TIME,LATITUDE,LONGITUDE,DEPTH,CTDPRS,CTDTMP,CTDSAL,CTDSAL_FLAG_W,CTDOXY,CTDOXY_FLAG_W,OXYGEN,OXYGEN_FLAG_W,CFC-11,CFC-11_FLAG_W,CFC-12,CFC-12_FLAG_W,BTL_TIME
,,,,,,,,,,METERS,DBAR,ITS-90,PSS-78,,UMOL/KG,,UMOL/KG,,PMOL/KG,,PMOL/KG,,
  06M320100804,MT82.2,   513,  1,      1,2,20100806,0942, 47.0995, -47.2663,  480,    475.4,   4.0288,  34.8626,2,    284.9,2,    284.7,2, -999.000,9, -999.000,9,      930
  06M320100804,MT82.2,   513,  1,      2,2,20100806,0942, 47.0995, -47.2663,  480,    475.4,   4.0288,  34.8626,2,    284.9,2,   -999.0,9, -999.000,9, -999.000,9,      930
  06M320100804,MT82.2,   513,  1,      3,2,20100806,0942, 47.0995, -47.2663,  480,    401.3,   3.7703,  34.7733,2,    284.9,2,   -999.0,9, -999.000,9, -999.000,9,      932
  06M320100804,MT82.2,   513,  1,      4,2,20100806,0942, 47.0995, -47.2663,  480,    398.5,   3.7682,  34.7726,2,    285.4,2,    287.7,2, -999.000,9, -999.000,9,      932
  06M320100804,MT82.2,   513,  1,      5,2,20100806,0942, 47.0995, -47.2663,  480,    301.3,   3.6167,  34.7287,2,    284.6,2,   -999.0,9,    4.350,3,    2.433,2,      934
  06M320100804,MT82.2,   513,  1,      6,2,20100806,0942, 47.0995, -47.2663,  480,    301.3,   3.6167,  34.7287,2,    284.6,2,   -999.0,9, -999.000,9, -999.000,9,      934
  06M320100804,MT82.2,   513,  1,      7,2,20100806,0942, 47.0995, -47.2663,  480,    201.0,   2.7437,  34.4525,2,    279.0,2,    264.6,2, -999.000,9, -999.000,9,      935
  06M320100804,MT82.2,   513,  1,      8,2,20100806,0942, 47.0995, -47.2663,  480,    189.4,   2.4851,  34.3795,2,    293.1,2,   -999.0,9, -999.000,9, -999.000,9,      936
  06M320100804,MT82.2,   513,  1,      9,2,20100806,0942, 47.0995, -47.2663,  480,     96.4,   1.0893,  33.8791,2,    308.8,2,   -999.0,9,    5.064,3,    2.881,2,      937
  06M320100804,MT82.2,   513,  1,     10,2,20100806,0942, 47.0995, -47.2663,  480,     95.9,   1.0952,  33.8754,2,    309.3,2,    306.7,6, -999.000,9, -999.000,9,      937
  06M320100804,MT82.2,   513,  1,     11,2,20100806,0942, 47.0995, -47.2663,  480,     12.0,  11.2593,  32.1284,2,    287.4,2,   -999.0,9, -999.000,9, -999.000,9,      942
  06M320100804,MT82.2,   513,  1,     12,2,20100806,0942, 47.0995, -47.2663,  480,     12.2,  11.2431,  32.1263,2,    286.4,2,   -999.0,9, -999.000,9, -999.000,9,      942
  06M320100804,MT82.2,   513,  1,     13,2,20100806,0942, 47.0995, -47.2663,  480,     12.3,  11.2098,  32.1327,2,    285.8,2,   -999.0,9, -999.000,9, -999.000,9,      942
  06M320100804,MT82.2,   513,  1,     14,2,20100806,0942, 47.0995, -47.2663,  480,     12.4,  11.2187,  32.1307,2,    285.4,2,   -999.0,9, -999.000,9, -999.000,9,      942
  06M320100804,MT82.2,   513,  1,     15,2,20100806,0942, 47.0995, -47.2663,  480,     12.1,  11.2689,  32.1262,2,    285.1,2,   -999.0,9, -999.000,9, -999.000,9,      942
  06M320100804,MT82.2,   513,  1,     16,2,20100806,0942, 47.0995, -47.2663,  480,     12.2,  11.2134,  32.1329,2,    286.1,2,   -999.0,9, -999.000,9, -999.000,9,      942
  06M320100804,MT82.2,   513,  1,     17,2,20100806,0942, 47.0995, -47.2663,  480,     12.4,  11.1818,  32.1396,2,    285.4,2,   -999.0,9, -999.000,9, -999.000,9,      942
  06M320100804,MT82.2,   513,  1,     18,2,20100806,0942, 47.0995, -47.2663,  480,     12.3,  11.2181,  32.1331,2,    285.7,2,   -999.0,9, -999.000,9, -999.000,9,      942
  06M320100804,MT82.2,   513,  1,     19,2,20100806,0942, 47.0995, -47.2663,  480,     12.1,  11.2846,  32.1263,2,    286.4,2,   -999.0,9, -999.000,9, -999.000,9,      942
  06M320100804,MT82.2,   513,  1,     20,2,20100806,0942, 47.0995, -47.2663,  480,     12.2,  11.2135,  32.1333,2,    285.6,2,   -999.0,9, -999.000,9, -999.000,9,      942
  06M320100804,MT82.2,   513,  1,     21,2,20100806,0942, 47.0995, -47.2663,  480,     12.2,  11.2214,  32.1340,2,    285.5,2,   -999.0,9, -999.000,9, -999.000,9,      942
  06M320100804,MT82.2,   513,  1,     22,2,20100806,0942, 47.0995, -47.2663,  480,     12.3,  11.1671,  32.1414,2,    286.3,2,   -999.0,9,    3.861,3,    2.254,6,      942
  06M320100804,MT82.2,   514,  2,      1,2,20100806,1102, 47.0988, -47.1587,  860,    870.4,   4.0800,  34.9122,2,    282.7,2,    282.5,2, -999.000,9, -999.000,9,     1043
  06M320100804,MT82.2,   514,  2,      2,2,20100806,1102, 47.0988, -47.1587,  860,    870.3,   4.0808,  34.9113,2,    282.6,2,   -999.0,9,    3.858,3,    2.174,3,     1043
  06M320100804,MT82.2,   514,  2,      3,2,20100806,1102, 47.0988, -47.1587,  860,    801.5,   4.0867,  34.9111,2,    283.4,2,   -999.0,9, -999.000,9, -999.000,9,     1045
  06M320100804,MT82.2,   514,  2,      4,2,20100806,1102, 47.0988, -47.1587,  860,    799.4,   4.0871,  34.9115,2,    283.1,2,   -999.0,9, -999.000,9, -999.000,9,     1045
  06M320100804,MT82.2,   514,  2,      5,2,20100806,1102, 47.0988, -47.1587,  860,    698.1,   4.0580,  34.8977,2,    287.4,2,    287.1,2, -999.000,9, -999.000,9,     1047
  06M320100804,MT82.2,   514,  2,      6,2,20100806,1102, 47.0988, -47.1587,  860,    696.2,   4.0611,  34.8985,2,    287.8,2,   -999.0,9,    3.967,3,    2.318,2,     1047
  06M320100804,MT82.2,   514,  2,      7,2,20100806,1102, 47.0988, -47.1587,  860,    600.4,   4.0652,  34.8932,2,    287.7,2,   -999.0,9, -999.000,9, -999.000,9,     1049
  06M320100804,MT82.2,   514,  2,      8,2,20100806,1102, 47.0988, -47.1587,  860,    598.8,   4.0642,  34.8925,2,    287.9,2,   -999.0,9, -999.000,9, -999.000,9,     1049
  06M320100804,MT82.2,   514,  2,      9,2,20100806,1102, 47.0988, -47.1587,  860,    500.2,   4.0811,  34.8843,2,    288.1,2,    287.9,3, -999.000,9, -999.000,9,     1051
  06M320100804,MT82.2,   514,  2,     10,2,20100806,1102, 47.0988, -47.1587,  860,    498.2,   4.0816,  34.8846,2,    288.2,2,   -999.0,9,    4.060,3,    2.348,2,     1051
  06M320100804,MT82.2,   514,  2,     11,2,20100806,1102, 47.0988, -47.1587,  860,    400.3,   3.9929,  34.8554,2,    289.9,2,   -999.0,9, -999.000,9, -999.000,9,     1053
  06M320100804,MT82.2,   514,  2,     12,2,20100806,1102, 47.0988, -47.1587,  860,    398.3,   3.9903,  34.8547,2,    289.9,2,   -999.0,9, -999.000,9, -999.000,9,     1053
  06M320100804,MT82.2,   514,  2,     13,2,20100806,1102, 47.0988, -47.1587,  860,    300.1,   3.8269,  34.7983,2,    290.1,2,   -999.0,9,    4.102,3,    2.462,2,     1055
  06M320100804,MT82.2,   514,  2,     14,2,20100806,1102, 47.0988, -47.1587,  860,    298.3,   3.8214,  34.7965,2,    290.9,2,   -999.0,9, -999.000,9, -999.000,9,     1055
  06M320100804,MT82.2,   514,  2,     15,2,20100806,1102, 47.0988, -47.1587,  860,    199.3,   3.3936,  34.6569,2,    288.8,2,    289.1,2, -999.000,9, -999.000,9,     1056
  06M320100804,MT82.2,   514,  2,     16,2,20100806,1102, 47.0988, -47.1587,  860,    196.9,   3.3627,  34.6476,2,    289.1,2,   -999.0,9, -999.000,9, -999.000,9,     1057
  06M320100804,MT82.2,   514,  2,     17,2,20100806,1102, 47.0988, -47.1587,  860,     98.8,   2.0213,  34.1747,2,    300.4,2,    295.5,6,    4.670,3,    2.900,2,     1058
  06M320100804,MT82.2,   514,  2,     18,2,20100806,1102, 47.0988, -47.1587,  860,     97.3,   1.9678,  34.1650,2,    301.0,2,   -999.0,9, -999.000,9, -999.000,9,     1058
  06M320100804,MT82.2,   514,  2,     19,2,20100806,1102, 47.0988, -47.1587,  860,      9.9,   9.5181,  32.3177,2,    299.7,2,   -999.0,9,    4.043,3,    2.466,2,     1102
  06M320100804,MT82.2,   514,  2,     20,2,20100806,1102, 47.0988, -47.1587,  860,      9.8,   9.4919,  32.3242,2,    300.5,2,   -999.0,9, -999.000,9, -999.000,9,     1102
  06M320100804,MT82.2,   514,  2,     21,2,20100806,1102, 47.0988, -47.1587,  860,     10.2,   9.4902,  32.3230,2,    300.4,2,   -999.0,9, -999.000,9, -999.000,9,     1102
  06M320100804,MT82.2,   514,  2,     22,2,20100806,1102, 47.0988, -47.1587,  860,     10.1,   9.4937,  32.3247,2,    300.8,2,   -999.0,9, -999.000,9, -999.000,9,     1102
  06M320100804,MT82.2,   515,  3,      1,2,20100806,1242, 47.0995, -47.0075, 1120,   1128.4,   3.7476,  34.9019,2,    280.2,2,    280.5,3, -999.000,9, -999.000,9,     1219
  06M320100804,MT82.2,   515,  3,      2,2,20100806,1242, 47.0995, -47.0075, 1120,   1128.9,   3.7477,  34.9016,2,    280.3,2,   -999.0,9,    3.643,3,    2.104,2,     1219
  06M320100804,MT82.2,   515,  3,      3,2,20100806,1242, 47.0995, -47.0075, 1120,   1099.2,   3.7630,  34.9002,2,    282.2,2,   -999.0,9, -999.000,9, -999.000,9,     1220
  06M320100804,MT82.2,   515,  3,      4,2,20100806,1242, 47.0995, -47.0075, 1120,   1097.2,   3.7647,  34.8999,2,    282.0,2,   -999.0,9, -999.000,9, -999.000,9,     1220
  06M320100804,MT82.2,   515,  3,      5,2,20100806,1242, 47.0995, -47.0075, 1120,    999.4,   3.8401,  34.9003,2,    283.9,2,   -999.0,9,    3.829,3,    2.271,2,     1222
  06M320100804,MT82.2,   515,  3,      6,2,20100806,1242, 47.0995, -47.0075, 1120,    997.8,   3.8433,  34.9007,2,    283.5,2,   -999.0,5, -999.000,9, -999.000,9,     1222
  06M320100804,MT82.2,   515,  3,      7,2,20100806,1242, 47.0995, -47.0075, 1120,    899.8,   3.9096,  34.9022,2,    285.5,2,   -999.0,9, -999.000,9, -999.000,9,     1224
  06M320100804,MT82.2,   515,  3,      8,2,20100806,1242, 47.0995, -47.0075, 1120,    897.9,   3.9126,  34.9022,2,    284.9,2,   -999.0,9, -999.000,9, -999.000,9,     1224
  06M320100804,MT82.2,   515,  3,      9,2,20100806,1242, 47.0995, -47.0075, 1120,    776.0,   4.0211,  34.9057,2,    287.3,2,   -999.0,9, -999.000,9, -999.000,9,     1226
  06M320100804,MT82.2,   515,  3,     10,2,20100806,1242, 47.0995, -47.0075, 1120,    772.7,   4.0197,  34.9054,2,    287.5,2,   -999.0,9, -999.000,9, -999.000,9,     1226
  06M320100804,MT82.2,   515,  3,     11,2,20100806,1242, 47.0995, -47.0075, 1120,    702.9,   3.9651,  34.8911,2,    291.2,2,    290.4,2, -999.000,9, -999.000,9,     1228
  06M320100804,MT82.2,   515,  3,     12,2,20100806,1242, 47.0995, -47.0075, 1120,    702.9,   3.9656,  34.8908,2,    291.1,2,   -999.0,9, -999.000,9, -999.000,9,     1228
  06M320100804,MT82.2,   515,  3,     13,2,20100806,1242, 47.0995, -47.0075, 1120,    599.4,   3.9092,  34.8759,2,    294.2,2,    294.4,6,    4.095,3,    2.449,2,     1229
  06M320100804,MT82.2,   515,  3,     14,2,20100806,1242, 47.0995, -47.0075, 1120,    597.8,   3.9064,  34.8752,2,    294.4,2,   -999.0,9, -999.000,9, -999.000,9,     1229
  06M320100804,MT82.2,   515,  3,     15,2,20100806,1242, 47.0995, -47.0075, 1120,    499.3,   3.8894,  34.8638,2,    294.4,2,   -999.0,9, -999.000,9, -999.000,9,     1231
  06M320100804,MT82.2,   515,  3,     16,2,20100806,1242, 47.0995, -47.0075, 1120,    497.6,   3.8881,  34.8638,2,    294.2,2,   -999.0,9, -999.000,9, -999.000,9,     1231
  06M320100804,MT82.2,   515,  3,     17,2,20100806,1242, 47.0995, -47.0075, 1120,    412.0,   4.0733,  34.8789,2,    287.9,2,    288.7,2,    4.027,3,    2.450,2,     1233
  06M320100804,MT82.2,   515,  3,     18,2,20100806,1242, 47.0995, -47.0075, 1120,    405.9,   4.0656,  34.8784,2,    289.1,2,   -999.0,9, -999.000,9, -999.000,9,     1233
  06M320100804,MT82.2,   515,  3,     19,2,20100806,1242, 47.0995, -47.0075, 1120,    206.1,   3.6983,  34.7465,2,    288.2,2,   -999.0,9,    4.050,3,    2.459,2,     1237
  06M320100804,MT82.2,   515,  3,     20,2,20100806,1242, 47.0995, -47.0075, 1120,     99.0,   2.6858,  34.4431,2,    290.5,2,    286.6,2, -999.000,9, -999.000,9,     1239
  06M320100804,MT82.2,   515,  3,     21,2,20100806,1242, 47.0995, -47.0075, 1120,      9.9,  10.3871,  32.4837,2,    301.7,2,   -999.0,9,    4.156,3,    2.487,2,     1242
  06M320100804,MT82.2,   515,  3,     22,2,20100806,1242, 47.0995, -47.0075, 1120,      9.9,  10.5024,  32.4635,2,    295.2,2,   -999.0,9, -999.000,9, -999.000,9,     1242
  06M320100804,MT82.2,   516,  4,      1,2,20100806,1422, 47.1008, -46.8568, 1162,   1167.1,   3.6922,  34.9036,2,    279.4,2,    278.8,2, -999.000,9, -999.000,9,     1358
  06M320100804,MT82.2,   516,  4,      2,2,20100806,1422, 47.1008, -46.8568, 1162,   1166.9,   3.6922,  34.9039,2,    279.0,2,   -999.0,9,    3.574,3,    2.086,2,     1358
  06M320100804,MT82.2,   516,  4,      3,2,20100806,1422, 47.1008, -46.8568, 1162,   1097.8,   3.7143,  34.8987,2,    281.7,2,   -999.0,9, -999.000,9, -999.000,9,     1400
  06M320100804,MT82.2,   516,  4,      4,2,20100806,1422, 47.1008, -46.8568, 1162,   1096.2,   3.7142,  34.8979,2,    282.0,2,   -999.0,9, -999.000,9, -999.000,9,     1400
  06M320100804,MT82.2,   516,  4,      5,2,20100806,1422, 47.1008, -46.8568, 1162,    992.5,   3.7631,  34.8962,2,    283.5,2,    283.0,2,    3.721,3,    2.164,2,     1402
  06M320100804,MT82.2,   516,  4,      6,2,20100806,1422, 47.1008, -46.8568, 1162,    992.5,   3.7620,  34.8963,2,    283.7,2,   -999.0,9, -999.000,9, -999.000,9,     1402
  06M320100804,MT82.2,   516,  4,      7,2,20100806,1422, 47.1008, -46.8568, 1162,    898.4,   3.8201,  34.8956,2,    285.1,2,   -999.0,9,    3.769,3,    2.230,2,     1404
  06M320100804,MT82.2,   516,  4,      8,2,20100806,1422, 47.1008, -46.8568, 1162,    896.8,   3.8231,  34.8950,2,    285.2,2,   -999.0,9, -999.000,9, -999.000,9,     1404
  06M320100804,MT82.2,   516,  4,      9,2,20100806,1422, 47.1008, -46.8568, 1162,    796.8,   3.9574,  34.9052,2,    285.7,2,   -999.0,9, -999.000,9, -999.000,9,     1406
  06M320100804,MT82.2,   516,  4,     10,2,20100806,1422, 47.1008, -46.8568, 1162,    796.5,   3.9628,  34.9057,2,    285.6,2,   -999.0,5, -999.000,9, -999.000,9,     1406
  06M320100804,MT82.2,   516,  4,     11,2,20100806,1422, 47.1008, -46.8568, 1162,    698.8,   3.9857,  34.8996,2,    288.3,2,   -999.0,9,    3.841,3,    2.367,2,     1407
  06M320100804,MT82.2,   516,  4,     12,2,20100806,1422, 47.1008, -46.8568, 1162,    699.9,   3.9814,  34.8996,2,    288.7,2,   -999.0,9, -999.000,9, -999.000,9,     1407
  06M320100804,MT82.2,   516,  4,     13,2,20100806,1422, 47.1008, -46.8568, 1162,    598.3,   3.9202,  34.8825,2,    292.6,2,    293.0,2, -999.000,9, -999.000,9,     1410
  06M320100804,MT82.2,   516,  4,     14,2,20100806,1422, 47.1008, -46.8568, 1162,    498.1,   3.8988,  34.8723,2,    294.0,2,   -999.0,9,    3.997,3,    2.456,2,     1412
  06M320100804,MT82.2,   516,  4,     15,2,20100806,1422, 47.1008, -46.8568, 1162,    496.7,   3.8988,  34.8727,2,    294.0,2,   -999.0,9, -999.000,9, -999.000,9,     1412
  06M320100804,MT82.2,   516,  4,     16,2,20100806,1422, 47.1008, -46.8568, 1162,    397.7,   3.8872,  34.8604,2,    293.7,2,   -999.0,9, -999.000,9, -999.000,9,     1413
  06M320100804,MT82.2,   516,  4,     17,2,20100806,1422, 47.1008, -46.8568, 1162,    298.5,   3.8632,  34.8413,2,    292.7,2,   -999.0,9,    4.051,3,    2.452,2,     1415
  06M320100804,MT82.2,   516,  4,     18,2,20100806,1422, 47.1008, -46.8568, 1162,    296.8,   3.8590,  34.8402,2,    292.9,2,   -999.0,9, -999.000,9, -999.000,9,     1415
  06M320100804,MT82.2,   516,  4,     19,2,20100806,1422, 47.1008, -46.8568, 1162,    200.3,   3.8803,  34.7965,2,    282.7,2,    287.7,6, -999.000,9, -999.000,9,     1417
  06M320100804,MT82.2,   516,  4,     20,2,20100806,1422, 47.1008, -46.8568, 1162,     98.1,   3.5069,  34.6026,2,    284.7,2,    283.7,2, -999.000,9, -999.000,9,     1419
  06M320100804,MT82.2,   516,  4,     21,2,20100806,1422, 47.1008, -46.8568, 1162,     11.1,  10.6781,  33.1750,2,    295.3,2,   -999.0,9,    3.476,3,    2.203,2,     1422
  06M320100804,MT82.2,   516,  4,     22,2,20100806,1422, 47.1008, -46.8568, 1162,     11.0,  10.6936,  33.1649,2,    294.1,2,   -999.0,9, -999.000,9, -999.000,9,     1422
  06M320100804,MT82.2,   517,  5,      1,2,20100806,1559, 47.0995, -46.7085, 1131,   1136.5,   3.6630,  34.9057,2,    276.8,2,    277.3,2, -999.000,9, -999.000,9,     1536
  06M320100804,MT82.2,   517,  5,      2,2,20100806,1559, 47.0995, -46.7085, 1131,   1136.1,   3.6628,  34.9058,2,    277.1,2,   -999.0,9,    3.445,3,    2.052,2,     1536
  06M320100804,MT82.2,   517,  5,      3,2,20100806,1559, 47.0995, -46.7085, 1131,    999.8,   3.7992,  34.8989,2,    282.3,2,   -999.0,9, -999.000,9, -999.000,9,     1538
  06M320100804,MT82.2,   517,  5,      4,2,20100806,1559, 47.0995, -46.7085, 1131,    998.3,   3.7967,  34.8989,2,    282.3,2,   -999.0,9, -999.000,9, -999.000,9,     1538
  06M320100804,MT82.2,   517,  5,      5,2,20100806,1559, 47.0995, -46.7085, 1131,    949.6,   3.8233,  34.9008,2,    282.6,2,   -999.0,9,    3.744,3,    2.252,2,     1539
  06M320100804,MT82.2,   517,  5,      6,2,20100806,1559, 47.0995, -46.7085, 1131,    949.6,   3.8238,  34.9004,2,    282.6,2,    283.4,3, -999.000,9, -999.000,9,     1539
  06M320100804,MT82.2,   517,  5,      7,2,20100806,1559, 47.0995, -46.7085, 1131,    749.4,   3.8905,  34.9030,2,    281.0,2,   -999.0,9,    3.756,3,    2.195,2,     1543
  06M320100804,MT82.2,   517,  5,      8,2,20100806,1559, 47.0995, -46.7085, 1131,    747.9,   3.8918,  34.9029,2,    281.0,2,   -999.0,9,    3.674,3,    2.183,2,     1543
  06M320100804,MT82.2,   517,  5,      9,2,20100806,1559, 47.0995, -46.7085, 1131,    557.6,   4.0957,  34.9103,2,    283.4,2,   -999.0,9, -999.000,9, -999.000,9,     1547
  06M320100804,MT82.2,   517,  5,     10,2,20100806,1559, 47.0995, -46.7085, 1131,    547.2,   4.0964,  34.9097,2,    283.3,2,    281.0,2, -999.000,9, -999.000,9,     1547
  06M320100804,MT82.2,   517,  5,     11,2,20100806,1559, 47.0995, -46.7085, 1131,    350.5,   4.1530,  34.8912,2,    281.2,2,    284.3,2, -999.000,9, -999.000,9,     1551
  06M320100804,MT82.2,   517,  5,     12,2,20100806,1559, 47.0995, -46.7085, 1131,    350.3,   4.1546,  34.8912,2,    281.4,2,   -999.0,9, -999.000,9, -999.000,9,     1551
  06M320100804,MT82.2,   517,  5,     13,2,20100806,1559, 47.0995, -46.7085, 1131,    200.1,   4.3173,  34.8597,2,    266.5,2,    268.2,2,    2.261,3,    1.602,3,     1554
  06M320100804,MT82.2,   517,  5,     14,2,20100806,1559, 47.0995, -46.7085, 1131,    198.4,   4.3183,  34.8554,2,    266.2,2,   -999.0,9, -999.000,9, -999.000,9,     1554
  06M320100804,MT82.2,   517,  5,     15,2,20100806,1559, 47.0995, -46.7085, 1131,     11.2,  12.2940,  33.6195,2,    281.6,2,    286.5,2,    3.405,3,    2.062,2,     1559
  06M320100804,MT82.2,   517,  5,     16,2,20100806,1559, 47.0995, -46.7085, 1131,     11.2,  12.2939,  33.6234,2,    281.9,2,   -999.0,9, -999.000,9, -999.000,9,     1559