BOTTLE,20230125CCHSIOENA
EXPOCODE,SECT_ID,STNNBR,CASTNO,BTLNBR,BTLNBR_FLAG_W,DATE,TIME,LATITUDE,LONGITUDE,DEPTH,CTDPRS,CTDTMP,CTDSAL,CTDSAL_FLAG_W,CTDOXY,CTDOXY_FLAG_W,OXYGEN,OXYGEN_FLAG_W,CFC-11,CFC-11_FLAG_W,CFC-12,CFC-12_FLAG_W,BTL_TIME
,,,,,,,,,,METERS,DBAR,ITS-90,PSS-78,,UMOL/KG,,UMOL/KG,,PMOL/KG,,PMOL/KG,,
  06M320100804,MT82.2,   658, 67,      1,2,20100826,1352, 47.8323, -23.7445, 4204,   4279.8,   2.5970,  34.9120,2,    242.1,2,    242.3,2, -999.000,9, -999.000,9,     1241
  06M320100804,MT82.2,   658, 67,      2,2,20100826,1352, 47.8323, -23.7445, 4204,   4280.9,   2.5975,  34.9114,2,    242.4,2,   -999.0,9,    0.158,3,    0.085,2,     1242
  06M320100804,MT82.2,   658, 67,      3,2,20100826,1352, 47.8323, -23.7445, 4204,   3990.9,   2.5932,  34.9150,2,    243.2,2,    243.7,2,    0.235,3,    0.130,2,     1246
  06M320100804,MT82.2,   658, 67,      4,2,20100826,1352, 47.8323, -23.7445, 4204,   3696.5,   2.6452,  34.9221,2,    246.9,2,   -999.0,9,    0.497,3,    0.259,2,     1251
  06M320100804,MT82.2,   658, 67,      5,2,20100826,1352, 47.8323, -23.7445, 4204,   3393.5,   2.7353,  34.9327,2,    253.0,2,   -999.0,9,    0.891,3,    0.451,2,     1255
  06M320100804,MT82.2,   658, 67,      6,2,20100826,1352, 47.8323, -23.7445, 4204,   3073.4,   2.8909,  34.9411,2,    262.4,2,   -999.0,9,    1.478,3,    0.730,2,     1301
  06M320100804,MT82.2,   658, 67,      7,2,20100826,1352, 47.8323, -23.7445, 4204,   2801.5,   3.0312,  34.9366,2,    270.2,2,   -999.0,9,    1.970,3,    0.965,2,     1305
  06M320100804,MT82.2,   658, 67,      8,2,20100826,1352, 47.8323, -23.7445, 4204,   2496.2,   3.1550,  34.9199,2,    275.1,2,    274.8,6,    2.342,3,    1.123,2,     1309
  06M320100804,MT82.2,   658, 67,      9,2,20100826,1352, 47.8323, -23.7445, 4204,   2207.8,   3.3080,  34.9083,2,    276.4,2,   -999.0,9,    2.710,3,    1.333,2,     1314
  06M320100804,MT82.2,   658, 67,     10,2,20100826,1352, 47.8323, -23.7445, 4204,   1887.9,   3.5198,  34.9086,2,    275.4,2,    275.0,2, -999.000,9, -999.000,9,     1319
  06M320100804,MT82.2,   658, 67,     11,2,20100826,1352, 47.8323, -23.7445, 4204,   1698.9,   3.6930,  34.9111,2,    273.6,2,   -999.0,9,    3.231,3,    1.619,2,     1325
  06M320100804,MT82.2,   658, 67,     12,2,20100826,1352, 47.8323, -23.7445, 4204,   1496.6,   3.8712,  34.9154,2,    272.5,2,    272.2,2,    3.508,3,    1.792,2,     1328
  06M320100804,MT82.2,   658, 67,     13,2,20100826,1352, 47.8323, -23.7445, 4204,   1375.5,   3.9918,  34.9228,2,    271.2,2,   -999.0,9, -999.000,9, -999.000,9,     1329
  06M320100804,MT82.2,   658, 67,     14,2,20100826,1352, 47.8323, -23.7445, 4204,   1176.7,   4.3789,  34.9537,2,    263.5,2,   -999.0,9,    3.583,3,    1.869,6,     1332
  06M320100804,MT82.2,   658, 67,     15,2,20100826,1352, 47.8323, -23.7445, 4204,   1099.0,   4.8367,  35.0078,2,    253.8,2,   -999.0,9,    3.299,3,    1.712,3,     1334
  06M320100804,MT82.2,   658, 67,     16,2,20100826,1352, 47.8323, -23.7445, 4204,   1016.8,   4.7384,  34.9601,2,    255.4,2,   -999.0,9,    3.528,3,    1.828,2,     1335
  06M320100804,MT82.2,   658, 67,     17,2,20100826,1352, 47.8323, -23.7445, 4204,    918.3,   5.1644,  34.9815,2,    246.4,2,   -999.0,9,    3.301,3,    1.727,2,     1336
  06M320100804,MT82.2,   658, 67,     18,2,20100826,1352, 47.8323, -23.7445, 4204,    779.4,   5.9983,  34.9982,2,    227.3,2,   -999.0,9,    2.739,3,    1.430,2,     1338
  06M320100804,MT82.2,   658, 67,     19,2,20100826,1352, 47.8323, -23.7445, 4204,    606.1,   8.5809,  35.2119,2,    191.5,2,   -999.0,9, -999.000,9, -999.000,9,     1341
  06M320100804,MT82.2,   658, 67,     20,2,20100826,1352, 47.8323, -23.7445, 4204,    398.7,   9.9962,  35.2472,2,    203.8,2,    213.0,2,    2.753,3,    1.530,2,     1344
  06M320100804,MT82.2,   658, 67,     21,2,20100826,1352, 47.8323, -23.7445, 4204,    201.4,  11.9333,  35.5756,2,    234.4,2,    235.8,2, -999.000,9, -999.000,9,     1347
  06M320100804,MT82.2,   658, 67,     22,2,20100826,1352, 47.8323, -23.7445, 4204,     11.8,  18.4782,  35.4975,2,    240.6,2,   -999.0,9,    2.339,3,    1.405,2,     1352
  06M320100804,MT82.2,   662, 68,      1,2,20100826,2050, 47.8837, -22.5263, 4002,   4069.9,   2.5314,  34.9084,2,    241.3,2,    241.1,2, -999.000,9, -999.000,9,     1946
  06M320100804,MT82.2,   662, 68,      2,2,20100826,2050, 47.8837, -22.5263, 4002,   4070.0,   2.5314,  34.9080,2,    241.4,2,   -999.0,9,    0.079,3,    0.047,2,     1947
  06M320100804,MT82.2,   662, 68,      3,2,20100826,2050, 47.8837, -22.5263, 4002,   3998.2,   2.5289,  34.9089,2,    241.4,2,   -999.0,9,    0.089,3,    0.052,6,     1948
  06M320100804,MT82.2,   662, 68,      4,2,20100826,2050, 47.8837, -22.5263, 4002,   3799.2,   2.5555,  34.9140,2,    243.0,2,    242.1,3,    0.170,3,    0.096,2,     1951
  06M320100804,MT82.2,   662, 68,      5,2,20100826,2050, 47.8837, -22.5263, 4002,   3598.8,   2.5824,  34.9182,2,    244.7,2,   -999.0,9,    0.292,3,    0.158,2,     1954
  06M320100804,MT82.2,   662, 68,      6,2,20100826,2050, 47.8837, -22.5263, 4002,   3298.5,   2.6519,  34.9275,2,    248.0,2,    248.3,2,    0.489,3,    0.256,2,     1958
  06M320100804,MT82.2,   662, 68,      7,2,20100826,2050, 47.8837, -22.5263, 4002,   3005.2,   2.8054,  34.9395,2,    256.8,2,   -999.0,9,    0.997,3,    0.505,2,     2003
  06M320100804,MT82.2,   662, 68,      8,2,20100826,2050, 47.8837, -22.5263, 4002,   2698.3,   2.9537,  34.9384,2,    267.4,2,   -999.0,9,    1.728,3,    0.859,2,     2007
  06M320100804,MT82.2,   662, 68,      9,2,20100826,2050, 47.8837, -22.5263, 4002,   2393.3,   3.1144,  34.9240,2,    274.0,2,   -999.0,9,    2.269,3,    1.118,2,     2013
  06M320100804,MT82.2,   662, 68,     10,2,20100826,2050, 47.8837, -22.5263, 4002,   2121.2,   3.2282,  34.9116,2,    276.7,2,   -999.0,9, -999.000,9, -999.000,9,     2017
  06M320100804,MT82.2,   662, 68,     11,2,20100826,2050, 47.8837, -22.5263, 4002,   1871.6,   3.4110,  34.9080,2,    276.9,2,    278.7,2, -999.000,9, -999.000,9,     2021
  06M320100804,MT82.2,   662, 68,     12,2,20100826,2050, 47.8837, -22.5263, 4002,   1591.4,   3.6132,  34.9098,2,    275.1,2,   -999.0,9,    3.072,3,    1.552,2,     2026
  06M320100804,MT82.2,   662, 68,     13,2,20100826,2050, 47.8837, -22.5263, 4002,   1486.3,   3.6880,  34.9121,2,    274.2,2,   -999.0,9,    3.240,3,    1.631,2,     2027
  06M320100804,MT82.2,   662, 68,     14,2,20100826,2050, 47.8837, -22.5263, 4002,   1385.7,   3.7945,  34.9141,2,    273.2,2,   -999.0,9,    3.468,3,    1.745,2,     2029
  06M320100804,MT82.2,   662, 68,     15,2,20100826,2050, 47.8837, -22.5263, 4002,   1288.8,   3.9201,  34.9229,2,    271.5,2,    272.3,2,    3.534,3,    1.794,2,     2030
  06M320100804,MT82.2,   662, 68,     16,2,20100826,2050, 47.8837, -22.5263, 4002,   1191.1,   4.0949,  34.9344,2,    269.0,2,   -999.0,9,    3.571,3,    1.834,2,     2031
  06M320100804,MT82.2,   662, 68,     17,2,20100826,2050, 47.8837, -22.5263, 4002,   1098.5,   4.3033,  34.9495,2,    264.2,2,   -999.0,9,    3.504,3,    1.821,2,     2033
  06M320100804,MT82.2,   662, 68,     18,2,20100826,2050, 47.8837, -22.5263, 4002,    991.2,   4.6431,  34.9855,2,    257.5,2,   -999.0,9,    3.388,3,    1.768,2,     2034
  06M320100804,MT82.2,   662, 68,     19,2,20100826,2050, 47.8837, -22.5263, 4002,    793.5,   5.6138,  35.0767,2,    237.3,2,   -999.0,9,    2.993,3,    1.579,2,     2037
  06M320100804,MT82.2,   662, 68,     20,2,20100826,2050, 47.8837, -22.5263, 4002,    594.8,   7.1310,  35.1725,2,    211.3,2,    212.2,2, -999.000,9, -999.000,9,     2040
  06M320100804,MT82.2,   662, 68,     21,2,20100826,2050, 47.8837, -22.5263, 4002,    397.9,   9.1422,  35.2228,2,    200.1,2,    199.1,2, -999.000,9, -999.000,9,     2043
  06M320100804,MT82.2,   662, 68,     22,2,20100826,2050, 47.8837, -22.5263, 4002,     11.5,  18.5962,  35.5287,2,    239.4,2,    239.6,2,    2.337,3,    1.415,6,     2050
  06M320100804,MT82.2,   665, 69,      1,2,20100827,0442, 47.9257, -21.2987, 4444,   4537.2,   2.5701,  34.9061,2,    241.1,2,    240.7,2, -999.000,9, -999.000,9,      307
  06M320100804,MT82.2,   665, 69,      2,2,20100827,0442, 47.9257, -21.2987, 4444,   4537.4,   2.5701,  34.9062,2,    241.3,2,   -999.0,9,    0.065,3,    0.037,2,      307
  06M320100804,MT82.2,   665, 69,      3,2,20100827,0442, 47.9257, -21.2987, 4444,   4298.0,   2.5652,  34.9093,2,    240.8,2,   -999.0,9,    0.777,3,    0.531,3,      314
  06M320100804,MT82.2,   665, 69,      4,2,20100827,0442, 47.9257, -21.2987, 4444,   4000.6,   2.5587,  34.9118,2,    241.9,2,   -999.0,9,    0.147,3,    0.080,2,      319
  06M320100804,MT82.2,   665, 69,      5,2,20100827,0442, 47.9257, -21.2987, 4444,   3697.9,   2.5962,  34.9184,2,    244.4,2,    244.6,2,    0.258,3,    0.137,2,      323
  06M320100804,MT82.2,   665, 69,      6,2,20100827,0442, 47.9257, -21.2987, 4444,   3403.4,   2.6919,  34.9294,2,    249.6,2,   -999.0,9,    0.495,3,    0.247,2,      329
  06M320100804,MT82.2,   665, 69,      7,2,20100827,0442, 47.9257, -21.2987, 4444,   3098.9,   2.8355,  34.9398,2,    256.1,2,   -999.0,9,    0.919,3,    0.491,2,      333
  06M320100804,MT82.2,   665, 69,      8,2,20100827,0442, 47.9257, -21.2987, 4444,   2800.9,   2.9980,  34.9419,2,    263.6,2,   -999.0,9,    1.725,3,    0.935,2,      338
  06M320100804,MT82.2,   665, 69,      9,2,20100827,0442, 47.9257, -21.2987, 4444,   2511.3,   3.1318,  34.9250,2,    273.4,2,    272.8,2,    2.258,3,    1.172,2,      344
  06M320100804,MT82.2,   665, 69,     10,2,20100827,0442, 47.9257, -21.2987, 4444,   2203.5,   3.2725,  34.9096,2,    277.0,2,   -999.0,9,    2.721,3,    1.335,2,      349
  06M320100804,MT82.2,   665, 69,     11,2,20100827,0442, 47.9257, -21.2987, 4444,   1908.9,   3.4666,  34.9077,2,    275.6,2,   -999.0,9,    2.935,3,    1.426,2,      354
  06M320100804,MT82.2,   665, 69,     12,2,20100827,0442, 47.9257, -21.2987, 4444,   1708.5,   3.6274,  34.9101,2,    274.2,2,   -999.0,9,    3.171,3,    1.577,2,      404
  06M320100804,MT82.2,   665, 69,     13,2,20100827,0442, 47.9257, -21.2987, 4444,   1510.4,   3.7879,  34.9123,2,    273.9,2,    272.9,6,    3.408,3,    1.739,2,      407
  06M320100804,MT82.2,   665, 69,     14,2,20100827,0442, 47.9257, -21.2987, 4444,   1325.7,   4.0100,  34.9241,2,    271.3,2,   -999.0,9,    3.650,3,    1.925,2,      410
  06M320100804,MT82.2,   665, 69,     15,2,20100827,0442, 47.9257, -21.2987, 4444,   1206.0,   4.2076,  34.9403,2,    267.2,2,   -999.0,9,    3.570,3,    1.849,2,      414
  06M320100804,MT82.2,   665, 69,     16,2,20100827,0442, 47.9257, -21.2987, 4444,   1083.7,   4.6029,  34.9795,2,    257.6,2,   -999.0,9,    3.366,3,    1.725,2,      419
  06M320100804,MT82.2,   665, 69,     17,2,20100827,0442, 47.9257, -21.2987, 4444,   1005.1,   4.8311,  34.9980,2,    252.5,2,    255.6,2, -999.000,9, -999.000,9,      420
  06M320100804,MT82.2,   665, 69,     18,2,20100827,0442, 47.9257, -21.2987, 4444,    862.1,   5.4774,  35.0481,2,    239.8,2,   -999.0,9,    3.098,3,    1.621,2,      423
  06M320100804,MT82.2,   665, 69,     19,2,20100827,0442, 47.9257, -21.2987, 4444,    612.9,   7.1633,  35.0605,2,    205.2,2,    206.9,2, -999.000,9, -999.000,9,      427
  06M320100804,MT82.2,   665, 69,     20,2,20100827,0442, 47.9257, -21.2987, 4444,    408.6,  10.4670,  35.4185,2,    238.2,2,    235.6,2,    2.980,3,    1.673,2,      433
  06M320100804,MT82.2,   665, 69,     21,2,20100827,0442, 47.9257, -21.2987, 4444,    214.7,  11.2094,  35.4654,2,    241.3,2,    238.5,2, -999.000,9, -999.000,9,      437
  06M320100804,MT82.2,   665, 69,     22,2,20100827,0442, 47.9257, -21.2987, 4444,     11.4,  18.4735,  35.4581,2,    239.0,2,    239.8,2,    2.414,3,    1.517,2,      442
  06M320100804,MT82.2,   668, 70,      1,2,20100827,1222, 47.9758, -20.0758, 4305,   4395.4,   2.5243,  34.9041,2,    240.8,2,    241.3,2, -999.000,9, -999.000,9,     1049
  06M320100804,MT82.2,   668, 70,      2,2,20100827,1222, 47.9758, -20.0758, 4305,   4395.6,   2.5238,  34.9043,2,    241.6,2,   -999.0,9,    0.047,3,    0.029,2,     1049
  06M320100804,MT82.2,   668, 70,      3,2,20100827,1222, 47.9758, -20.0758, 4305,   4199.5,   2.5129,  34.9062,2,    241.2,2,   -999.0,9,    0.055,3,    0.031,2,     1053
  06M320100804,MT82.2,   668, 70,      4,2,20100827,1222, 47.9758, -20.0758, 4305,   3899.2,   2.5115,  34.9090,2,    241.3,2,   -999.0,9,    0.079,3,    0.046,2,     1057
  06M320100804,MT82.2,   668, 70,      5,2,20100827,1222, 47.9758, -20.0758, 4305,   3575.7,   2.5339,  34.9149,2,    242.5,2,   -999.0,9,    0.142,3,    0.081,2,     1103
  06M320100804,MT82.2,   668, 70,      6,2,20100827,1222, 47.9758, -20.0758, 4305,   3309.3,   2.6019,  34.9241,2,    246.6,2,    246.3,2,    0.287,3,    0.154,2,     1107
  06M320100804,MT82.2,   668, 70,      7,2,20100827,1222, 47.9758, -20.0758, 4305,   2998.2,   2.7465,  34.9378,2,    254.0,2,   -999.0,9,    0.860,3,    0.428,2,     1111
  06M320100804,MT82.2,   668, 70,      8,2,20100827,1222, 47.9758, -20.0758, 4305,   2723.0,   2.9292,  34.9440,2,    260.4,2,   -999.0,9,    1.183,3,    0.588,2,     1116
  06M320100804,MT82.2,   668, 70,      9,2,20100827,1222, 47.9758, -20.0758, 4305,   2412.3,   3.1066,  34.9386,2,    266.3,2,   -999.0,9,    1.615,3,    0.799,2,     1127
  06M320100804,MT82.2,   668, 70,     10,2,20100827,1222, 47.9758, -20.0758, 4305,   2123.9,   3.2659,  34.9222,2,    273.0,2,   -999.0,9,    2.257,3,    1.096,3,     1131
  06M320100804,MT82.2,   668, 70,     11,2,20100827,1222, 47.9758, -20.0758, 4305,   1800.8,   3.5052,  34.9150,2,    274.1,2,   -999.0,9,    2.827,3,    1.396,6,     1148
  06M320100804,MT82.2,   668, 70,     12,2,20100827,1222, 47.9758, -20.0758, 4305,   1602.6,   3.8121,  34.9334,2,    270.2,2,    270.1,2,    3.038,3,    1.503,2,     1151
  06M320100804,MT82.2,   668, 70,     13,2,20100827,1222, 47.9758, -20.0758, 4305,   1399.2,   4.0410,  34.9447,2,    268.2,2,   -999.0,9,    3.396,3,    1.709,2,     1159
  06M320100804,MT82.2,   668, 70,     14,2,20100827,1222, 47.9758, -20.0758, 4305,   1314.5,   4.3203,  34.9789,2,    262.0,2,   -999.0,9, -999.000,9, -999.000,9,     1201
  06M320100804,MT82.2,   668, 70,     15,2,20100827,1222, 47.9758, -20.0758, 4305,   1210.4,   4.8522,  35.0483,2,    251.6,2,   -999.0,9,    3.101,3,    1.585,2,     1202
  06M320100804,MT82.2,   668, 70,     16,2,20100827,1222, 47.9758, -20.0758, 4305,   1107.3,   5.4626,  35.1221,2,    239.5,2,   -999.0,9,    2.859,3,    1.456,2,     1204
  06M320100804,MT82.2,   668, 70,     17,2,20100827,1222, 47.9758, -20.0758, 4305,    994.8,   6.2319,  35.2241,2,    226.8,2,   -999.0,9,    2.625,3,    1.343,2,     1205
  06M320100804,MT82.2,   668, 70,     18,2,20100827,1222, 47.9758, -20.0758, 4305,    900.9,   6.4028,  35.1971,2,    223.7,2,   -999.0,9,    2.647,3,    1.386,2,     1207
  06M320100804,MT82.2,   668, 70,     19,2,20100827,1222, 47.9758, -20.0758, 4305,    703.6,   8.0298,  35.3042,2,    199.7,2,    201.8,2,    2.339,3,    1.251,2,     1210
  06M320100804,MT82.2,   668, 70,     20,2,20100827,1222, 47.9758, -20.0758, 4305,    374.9,  10.4537,  35.4030,2,    229.4,2,    226.5,6,    2.889,3,    1.645,2,     1214
  06M320100804,MT82.2,   668, 70,     21,2,20100827,1222, 47.9758, -20.0758, 4305,    207.2,  11.2700,  35.5077,2,    245.1,2,    245.0,2, -999.000,9, -999.000,9,     1217
  06M320100804,MT82.2,   668, 70,     22,2,20100827,1222, 47.9758, -20.0758, 4305,     12.9,  18.5432,  35.6021,2,    236.5,2,   -999.0,9,    2.286,3,    1.401,2,     1222
  06M320100804,MT82.2,   671, 71,      1,2,20100827,2002, 48.0170, -18.8415, 4426,   4521.7,   2.5381,  34.9038,2,    241.2,2,    241.2,2, -999.000,9, -999.000,9,     1831
  06M320100804,MT82.2,   671, 71,      2,2,20100827,2002, 48.0170, -18.8415, 4426,   4520.9,   2.5380,  34.9040,2,    241.6,2,   -999.0,9,    0.053,3,    0.050,2,     1831
  06M320100804,MT82.2,   671, 71,      3,2,20100827,2002, 48.0170, -18.8415, 4426,   4398.5,   2.5312,  34.9050,2,    241.7,2,   -999.0,9, -999.000,9, -999.000,9,     1833
  06M320100804,MT82.2,   671, 71,      4,2,20100827,2002, 48.0170, -18.8415, 4426,   4098.9,   2.5273,  34.9082,2,    241.0,2,   -999.0,9,    0.329,3,    0.301,3,     1837
  06M320100804,MT82.2,   671, 71,      5,2,20100827,2002, 48.0170, -18.8415, 4426,   3798.1,   2.5465,  34.9136,2,    241.7,2,    243.1,2,    0.114,3,    0.063,2,     1841
  06M320100804,MT82.2,   671, 71,      6,2,20100827,2002, 48.0170, -18.8415, 4426,   3497.2,   2.6066,  34.9216,2,    246.0,2,   -999.0,9,    0.261,3,    0.129,2,     1845
  06M320100804,MT82.2,   671, 71,      7,2,20100827,2002, 48.0170, -18.8415, 4426,   3197.8,   2.7467,  34.9356,2,    252.7,2,    252.4,2,    0.711,3,    0.344,2,     1850
  06M320100804,MT82.2,   671, 71,      8,2,20100827,2002, 48.0170, -18.8415, 4426,   2898.0,   2.9201,  34.9453,2,    255.2,2,    255.0,2,    0.725,3,    0.361,2,     1854
  06M320100804,MT82.2,   671, 71,      9,2,20100827,2002, 48.0170, -18.8415, 4426,   2599.3,   3.0818,  34.9343,2,    270.0,2,   -999.0,9,    1.518,3,    0.775,6,     1905
  06M320100804,MT82.2,   671, 71,     10,2,20100827,2002, 48.0170, -18.8415, 4426,   2297.7,   3.2346,  34.9148,2,    275.6,2,    275.7,2,    2.425,3,    1.221,2,     1911
  06M320100804,MT82.2,   671, 71,     11,2,20100827,2002, 48.0170, -18.8415, 4426,   2027.6,   3.4596,  34.9131,2,    275.5,2,   -999.0,9,    2.792,3,    1.391,2,     1922
  06M320100804,MT82.2,   671, 71,     12,2,20100827,2002, 48.0170, -18.8415, 4426,   1704.4,   3.6895,  34.9122,2,    273.4,2,   -999.0,9,    3.214,3,    1.643,2,     1926
  06M320100804,MT82.2,   671, 71,     13,2,20100827,2002, 48.0170, -18.8415, 4426,   1428.9,   4.0866,  34.9404,2,    267.6,2,    268.0,2,    3.438,3,    1.794,2,     1932
  06M320100804,MT82.2,   671, 71,     14,2,20100827,2002, 48.0170, -18.8415, 4426,   1205.3,   4.8110,  35.0241,2,    254.0,2,   -999.0,9,    3.256,3,    1.711,6,     1935
  06M320100804,MT82.2,   671, 71,     15,2,20100827,2002, 48.0170, -18.8415, 4426,   1110.0,   5.0921,  35.0411,2,    247.3,2,   -999.0,9, -999.000,9, -999.000,9,     1937
  06M320100804,MT82.2,   671, 71,     16,2,20100827,2002, 48.0170, -18.8415, 4426,   1018.1,   5.4324,  35.0495,2,    239.5,2,   -999.0,9,    3.070,3,    1.630,2,     1938
  06M320100804,MT82.2,   671, 71,     17,2,20100827,2002, 48.0170, -18.8415, 4426,    924.9,   6.0446,  35.0988,2,    229.2,2,   -999.0,9,    2.866,3,    1.525,2,     1939
  06M320100804,MT82.2,   671, 71,     18,2,20100827,2002, 48.0170, -18.8415, 4426,    793.2,   7.2938,  35.1850,2,    207.1,2,   -999.0,9,    2.549,3,    1.361,2,     1949
  06M320100804,MT82.2,   671, 71,     19,2,20100827,2002, 48.0170, -18.8415, 4426,    651.8,   8.4770,  35.1982,2,    192.9,2,    196.4,2, -999.000,9, -999.000,9,     1951
  06M320100804,MT82.2,   671, 71,     20,2,20100827,2002, 48.0170, -18.8415, 4426,    491.9,  10.7667,  35.4486,2,    205.0,2,    206.9,6,    2.660,3,    1.502,2,     1953
  06M320100804,MT82.2,   671, 71,     21,2,20100827,2002, 48.0170, -18.8415, 4426,    196.3,  12.9155,  35.7374,2,    231.2,2,    233.7,2, -999.000,9, -999.000,9,     1957
  06M320100804,MT82.2,   671, 71,     22,2,20100827,2002, 48.0170, -18.8415, 4426,     12.6,  19.0322,  35.6615,2,    235.7,2,    236.9,2,    2.250,3,    1.370,2,     2002